{"text_format":"1","workbook":"xlsx","n_sheets":6,"sheets":["1.Портфель кредитів","2.Забезпечення","3.ППР","4.журнал торгів","Група_актива","Hidden_Словник"],"not_rendered":{"charts":0,"images":1,"macros":1,"external_links":2,"defined_names":34,"comments":0,"pivot_tables":0},"unopened":[],"bounds":{"document_bytes":16777216,"sheet_cells":100000,"rows_first":2000,"rows_last":500,"rows_between":2000,"halvings":0,"cell_chars":16384,"cell_head_chars":4096},"cells_cut":0,"cells_raw":0,"read":"whole","date_system":"1900"}

{"sheet":"1.Портфель кредитів","index":0,"n_rows":1062,"n_cols":472,"rows_kept":1062,"cut":false,"hidden":false,"merged":[[1,2,3,23]]}
[]
[null,null,"Цей документ був підготовлений Фондом гарантування вкладів фізичних осіб (далі – Фонд) виключно для інформаційних цілей і не повинен вважатися як спонукання до будь-яких дій чи бездіяльності. \nІнформація, що міститься в цьому документі, була отримана з/або ґрунтується на джерелах, які вважаються надійними, але не є вичерпною та не може сприйматися як повна або актуальна. Зокрема, але не виключно, станом на дату придбання активів допускаються несуттєві зміни лота, в складі якого продаються такі активи. Під несуттєвими змінами лота слід розуміти такі зміни характеристик активів у складі такого лота, які впливають на його балансову вартість, але не більше ніж на 10 відсотків. Рішення покупця щодо будь-яких дій або бездіяльності повинно ґрунтуватися на власних оцінках та дослідженнях майна (активу/активів), котре реалізується. Фонд не несе відповідальності за рішення покупця та його наслідки, що ґрунтується на інформації, викладеній в даному документі.",null,null,null,null,null,null,null,null,null,null,null,null,null,null,null,null,null,null,null,null,null,null,null,null,null,null,null,null,null,null,null,null,null,null,null,null,null,null,null,null,null,null,null,null,null,null,null,null,null,null,null,null,null,null,null,null,null,null,null,null,null,null,null,null,null,null,null,null,null,null,null,null,null,null,null,null,null,null,null,null,null,null,null,null,null,null,null,null,null,null,null,null,null,null,null,null,null,null,null,null,null,null,null,null,null,null,null,null,null,null,null,null,null,null,null,null,null,null,null,null,null,null,null,null,null,null,null,null,null,null,null,null,null,null,null,null,null,null,null,null,null,null,null,null,null,null,null,null,null,null,null,null,null,null,null,null,null,null,null,null,null,null,null,null,null,null,null,null,null,null,null,null,null,null,null,null,null,null,null,null,null,null,null,null,null,null,null,null,null,null,null,null,null,null,null,null,null,null,null,null,null,null,null,null,null,null,null,null,null,null,null,null,null,null,null,null,null,null,null,null,null,null,null,null,null,null,null,null,null,null,null,null,null,null,null,null,null,null,null,null,null,null,null,null,null,null,null,null,null,null,null,null,null,null,null,null,null,null,null,null,null,null,null,null,null,null,null,null,null,null,null,null,null,null,null,null,null,null,null,null,null,null,null,null,null,null,null,null,null,null,null,null,null,null,null,null,null,null,null,null,null,null,null,null,null,null,null,null,null,null,null,null,null,null,null,null,null,null,null,null,null,null,null,null,null,null,null,null,null,null,null,null,null,null,null,null,null,null,null,null,null,null,null,null,null,null,null,null,null,null,null,null,null,null,null,null,null,null,null,null,null,null,null,null,null,null,null,null,null,null,null,null,null,null,null,null,null,null,null,null,null,null,null,null,null,null,null,null,null,null,null,null,null,null,null,null,null,null,null,null,null,null,null,null,null,null,null,null,null,null,null,null,null,null,null,null,null,null,null,null,null,null,null,null,null,null,null,null,null,null,null,null,null,null,null,null,null,null,null,null,null,null,null,null,null,null,null,null,null,null,null,null,null,null,null,null,null,null,null,null,null,null,null,null,null,null,null,null,"2029-11-09"]
[]
[]
[]
["Звітна дата",":","2023-07-01",null,null,null,null,null,null,null,null,null,null,null,null,null,null,null,null,null,null,null,61334370.799999982,557152404.32000017,666094382.96999991,504280433.51000005,161813949.46000004,0]
[null,null,"Загальні дані",null,null,null,null,"Характеристика активу / фактори впливу",null,null,null,null,null,null,null,null,null,null,null,null,null,null,null,"Заборгованість"]
["unicid","#","Банк","МФО банку","Класифікація активу","Область","Ознака банкрутства/ліквідації (відповідно ЄДР на дату заповнення паспорту)","Група активу\n(1 – права вимоги,\n2 – майнові права,\n3 – майнові права)","Номер кредитного договору","Тип кредита/активу","Валюта","Відсоткова ставка номінальна","Дата відкриття","Дата закінчення","Відмітка про знаходження права об'єкту в якості забезпечення під рефінансуванням в НБУ","Наявність кредитного договору та договору застави","Кількість днів прострочення оплати боргу на дату заповнення","Сума погашеної заборгованності у поточному році","Сума останнього погашення заборгованності, грн. екв.","Дата останнього погашення заборгованності","Суб'єкт оціночної діяльності","Дата оцінки активу","Оціночна вартість, грн. екв.","Заборгованість на дату формування ліквідаційної маси, грн. екв.","Заборгованстіь  на дату заповнення паспорту, грн. екв. 01.07.2023р. (тіло та проценти):","Заборгованість по тілу кредиту на дату заповнення паспорту, грн. екв.","Забаргованність по нарах. % за кредитом на дату заповнення паспорту, грн. екв.","Штрафи та пені, грн. екв."]
["351629__1",1,"МЕГАБАНК",351629,"Ю/О право вимоги","Полтавська","Діюче",1,"3-ю/2008","Відновлювана кредитна лінія","Гривня",1E-3,"2008-01-29","2009-08-01","НІ","Наявні документи кредитної справи",4270,0," -"," -","ТОВ \"АКО ЕКСПЕРТ\"","2022-09-01",2651.54,67470.23,67526.350000000006,66664,862.35]
["351629__2",2,"МЕГАБАНК",351629,"Ю/О право вимоги","Полтавська","Діюче",1,"22-ю/2008","Овердрафт","Гривня",1E-3,"2008-03-21",40057,"НІ","Наявні документи кредитної справи",4270,0," -"," -","ТОВ \"АКО ЕКСПЕРТ\"","2022-09-01",1463.82,37242.090000000004,37273.070000000007,36796.910000000003,476.16]
["351629__3",3,"МЕГАБАНК",351629,"Ю/О право вимоги","Полтавська","Діюче",1,"23-ю/2008","Кредит","Гривня",1E-3,"2008-03-24","2009-08-01","НІ","Наявні документи кредитної справи",4270,0,1405.19,"2022-10-04","ТОВ \"АКО ЕКСПЕРТ\"","2022-09-01",516.96,13151.08,11993.07,11983.97,9.1]
["351629__4",4,"МЕГАБАНК",351629,"Ф/О право вимоги","Полтавська",null,1,"288/2007","Кредит","Гривня",0,"2007-12-20","2017-12-19","НІ","Наявні документи кредитної справи",3987,0,80784,"2019-03-22","ТОВ \"АКО ЕКСПЕРТ\"","2022-09-01",0.01,262770.33999999997,262770.33999999997,194084,68686.34]
["351629__5",5,"МЕГАБАНК",351629,"Ю/О право вимоги","Вінницька","Діюче",1,"12г/2008","Кредит","Гривня",1E-3,"2008-07-25",41479,"НІ","Наявні документи кредитної справи",4500,0,1749,"2010-08-04","ТОВ \"АКО ЕКСПЕРТ\"","2022-09-01",0.01,107222.23000000001,107275.18,62924,44351.18]
["351629__6",6,"МЕГАБАНК",351629,"Ю/О право вимоги","Київська","Діюче",1,"7-07/2013-MK-USD","Кредит","Доллар США",1E-3,"2013-10-09","2016-09-20","НІ","Відсутні документи кредитної справи",2456,0,683,"2018-03-26","ТОВ \"АКО ЕКСПЕРТ\"","2022-09-01",6.74,499638.61,500057.32,497007.13,3050.19]
["351629__7",7,"МЕГАБАНК",351629,"Ю/О право вимоги","Вінницька","Діюче",1,"23/2005","Невідновлювана кредитна лінія","Доллар США",0,"2005-12-16","2009-12-15","НІ","Наявні документи кредитної справи",4954,0,1257.29,"2009-06-05","ТОВ \"АКО ЕКСПЕРТ\"","2022-09-01",0.01,597311.14999999991,597311.14999999991,544433.31999999995,52877.83]
["351629__8",8,"МЕГАБАНК",351629,"Ю/О право вимоги","Вінницька","Діюче",1,"17-01/2008-МК-USD","Невідновлювана кредитна лініня","Доллар США",0,"2008-07-23",41477,"НІ","Наявні документи кредитної справи",4799,0,58089.79,"2015-01-23","ТОВ \"АКО ЕКСПЕРТ\"","2022-09-01",11528.18,4466118.7300000004,4466118.7300000004,4271815.8600000003,194302.87]
["351629__9",9,"МЕГАБАНК",351629,"Ю/О право вимоги","Вінницька","Діюче",1,"29-01/2008-МК-UAH","Невідновлювана кредитна лініня","Гривня",0,"2008-09-02","2013-09-20","НІ","Наявні документи кредитної справи",4593,0,34521.18,"2015-01-23","ТОВ \"АКО ЕКСПЕРТ\"","2022-09-01",356025.27,426874.3,426874.3,426874.3]
["351629__10",10,"МЕГАБАНК",351629,"Дебіторська заборгованість","Вінницька","Діюче",null,"068","Дебіторська заборгованість\n(комісії за розрахунково-касове обслуговування)","Гривня",0,"2005-12-12"," -","НІ","Відсутні документи кредитної справи",2646,0," -"," -","ТОВ «ПІВНІЧНО-СХІДНА КОНСАЛТИНГОВА ГРУПА»","2022-09-01",1,40,40,40]
["351629__11",11,"МЕГАБАНК",351629,"Ф/О право вимоги","Вінницька",null,1,"30-01/2008-МК-UAH","споживчий кредит","Гривня",0,"2008-09-02",41537,"НІ","Наявні документи кредитної справи",4618,0,64384,"2013-07-17","ТОВ \"АКО ЕКСПЕРТ\"","2022-09-01",177595.4,274211.71000000002,274211.71000000002,240740.45,33471.26]
["351629__12",12,"МЕГАБАНК",351629,"Ю/О право вимоги","Київ","Діюче",1,"20-05в/2019","кредитна лінія","Гривня",1E-3,"2021-03-05","2022-06-02","НІ","Відсутні документи кредитної справи",366,0,347550.77,"2022-01-31","ТОВ \"АКО ЕКСПЕРТ\"","2022-09-01",43792430.109999999,48126694.460000001,48166252.810000002,47000000,1166252.81]
["320627_1",1,"МР Банк",320627,"Ю/О право вимоги","Івано_Франківська","В стані припинення (крім банкрутства)",1,"№05-В/11/32/ЮО/КЛ ","мультивалютна відновлювальна кредитна лінія","мульт. валютн.",0,"2011-12-28","2016-12-25","НІ","Наявні документи кредитної справи",2488,0,13878.05,"2020-05-13","ТОВ \"АКО ЕКСПЕРТ\"","2022-05-02",0.02,140267489.87,175334242.45999998,95736229.109999999,79598013.349999994,"згідно умов КД"]
["320627_2",2,"МР Банк",320627,"Дебіторська заборгованість","Івано_Франківська","В стані припинення (крім банкрутства)",null,"№Т032-013006290","дебіторська заборгованість за операціями з переказу коштів по системі \"Клієнт-Банк\" згідно договору №Т032-013006290 від 01.10.2021","Гривня",null,"2021-10-01",null,"НІ","Відсутні документи кредитної справи",638,0,null,null,"ТОВ \"АКО ЕКСПЕРТ\"","2022-05-02",123.18,250,250,250,0]
["300012__1",1,"ПРОМІНВЕСТБАНК",300012,"ФОП право вимоги","Закарпатська","Діюче",1,"07/4-07","кредит","Євро",0.11,"2007-04-11","2010-04-10","НІ","Наявні документи кредитної справи",4830,0,1117.1300000000001,"2015-06-24","Закрите акціонерне товариство «Консалтингюрсервіс»","2022-04-01",6441.16,678016.73,832302.48,832302.48,0]
["300012__2",2,"ПРОМІНВЕСТБАНК",300012,"ФОП право вимоги","Закарпатська","Ліквідовано",1,"13/4-07","кредит","Доллар США",0.13,"2007-06-14","10.06.2011","НІ","Наявні документи кредитної справи",4404,0,4910.78,"2017-09-29","Закрите акціонерне товариство «Консалтингюрсервіс»","2022-04-01",37487.35,3570224.4,4462777.45,3775144.06,687633.39]
["300012__3",3,"ПРОМІНВЕСТБАНК",300012,"ФОП право вимоги","Закарпатська","Ліквідовано",1,"38/3-07","кредит","Гривня",0.16500000000000001,"2007-07-12","2010-07-11","НІ","Наявні документи кредитної справи",4738,0,259.63,"2008-08-29","Закрите акціонерне товариство «Консалтингюрсервіс»","2022-04-01",516468.32,623882.36,623882.36,599400,24482.36]
["300012__4",4,"ПРОМІНВЕСТБАНК",300012,"Ю/О право вимоги","Вінницька","Банкрутство",1,"06-2.1/1018 ","кредитна лінія","мульт. валютн.","18,5% у грн; 12,5% у дол.США","06.11.2007","15.11.2019","НІ","відсутній оригінал кредитного договору та одного договору іпотеки","4031",0,912.62,"2021-10-20","Закрите акціонерне товариство «Консалтингюрсервіс»","2022-04-01",5855761.2000000002,54419873.939999998,64111257.590000004,61984044.880000003,2127212.71]
["300012__5",5,"ПРОМІНВЕСТБАНК",300012,"Ю/О право вимоги","Вінницька","Банкрутство",1,"06-2.1/1019 ","кредитна лінія","Гривня",0.185,"06.11.2007","15.11.2019","НІ","відсутній оригінал кредитного договору та одного договору іпотеки","4031",0,1000,"2013-03-11","Закрите акціонерне товариство «Консалтингюрсервіс»","2022-04-01",669363.44999999995,8438712.6999999993,8438712.6999999993,8204270.8399999999,234441.86]
["300012__6",6,"ПРОМІНВЕСТБАНК",300012,"Ю/О право вимоги","Київ","Діюче",1,"1234/05-К","кредит","Гривня",0.16,"28.12.2007","26.12.2008","НІ","Наявні документи кредитної справи",5300,0,279603.31,"2012-05-14","Закрите акціонерне товариство «Консалтингюрсервіс»","2022-04-01",3993.77,420396.69,420396.69,420396.69,0]
["300012__7",7,"ПРОМІНВЕСТБАНК",300012,"Ю/О право вимоги","Київська","Діюче",1,"04-02-08/218","кредитна лінія","Доллар США",0.105,"2011-05-20","2014-05-15","НІ","Наявні документи кредитної справи","3913",0,8222.67,"2014-09-23","Закрите акціонерне товариство «Консалтингюрсервіс»","2022-04-01",321260.93,22309786.739999998,27887214.359999999,27887214.359999999,0]
["300012__8",8,"ПРОМІНВЕСТБАНК",300012,"Дебіторська заборгованість","Київська","Діюче",null,"03-01-20/544822/107","Дебіторська заборгованість","Гривня",null,"22.12.2020",null,"НІ","Наявні документи кредитної справи",921,0,20.09,"2015-03-02","Закрите акціонерне товариство «Консалтингюрсервіс»","2022-04-01",120.68,779.91,779.91,779.91,0]
["300012__9",9,"ПРОМІНВЕСТБАНК",300012,"Ю/О право вимоги","Київ","Діюче",1,"3/8/08","кредитна лінія","Гривня",0.28000000000000003,"26.02.2008","20.09.2009","НІ","Наявні документи кредитної справи",5032,0,328482.14,"2012-09-11","Закрите акціонерне товариство «Консалтингюрсервіс»","2022-04-01",228350.87,1393519.43,1393519.43,1017475.59,376043.84]
["300012__10",10,"ПРОМІНВЕСТБАНК",300012,"Ю/О майнове право","Полтавська","Ліквідовано",2,"313-КР","кредит","Гривня",0.22,"2005-06-29","2006-06-28","НІ","Наявні документи кредитної справи",6212,0,7693.13,"2005-08-30","Закрите акціонерне товариство «Консалтингюрсервіс»","2022-04-01",3,831758.89,831758.89,800000,31758.89]
["300012__11",11,"ПРОМІНВЕСТБАНК",300012,"Ю/О право вимоги","Житомирська","Діюче",1,"347","кредитна лінія","Гривня",0.19,"07.06.2007","06.06.2008","НІ","Наявні документи кредитної справи",5503,0,3858.09,"2014-10-28","Закрите акціонерне товариство «Консалтингюрсервіс»","2022-04-01",1424.23,149918.47,149918.47,149918.47,0]
["300012__12",12,"ПРОМІНВЕСТБАНК",300012,"ФОП право вимоги","Чернівецька","Ліквідовано",1,"1396","кредитна лінія","Гривня",0.17,"02.06.2006","01.06.2008","НІ","відсутній оригінал договору іпотеки (в кредитній справі наявні копії) ",5508,0,79389.600000000006,"2021-03-10","Закрите акціонерне товариство «Консалтингюрсервіс»","2022-04-01",9836.7199999999993,1021636.41,1021636.41,1021636.41,0]
["300012__13",13,"ПРОМІНВЕСТБАНК",300012,"Ю/О право вимоги","Львівська","Діюче",1,"642/05-к","кредитна лінія","Гривня",0.19,"2005-08-17","2006-08-16","НІ","Наявні документи кредитної справи",6163,0,9693.5,"2006-09-29","Закрите акціонерне товариство «Консалтингюрсервіс»","2022-04-01",5495.98,578523.24,578523.24,545675.34,32847.9]
["300012__14",14,"ПРОМІНВЕСТБАНК",300012,"Ю/О право вимоги","Львівська","Діюче",1,"997/05-к","кредитна лінія","Гривня",0.19,"2005-12-20","2006-12-19","НІ","Наявні документи кредитної справи",6038,0,176510.49,"2020-09-30","Закрите акціонерне товариство «Консалтингюрсервіс»","2022-04-01",2846.54,299635.77,299635.77,299635.77,0]
["300012__15",15,"ПРОМІНВЕСТБАНК",300012,"Ю/О майнове право","Львівська","Ліквідовано",2,"521/05-К","кредит","Гривня",0.17,"2005-07-04","2006-06-20","НІ","Наявні документи кредитної справи",6220,0,3600,"2006-08-31","Закрите акціонерне товариство «Консалтингюрсервіс»","2022-04-01",2,343719.41,343719.41,335300,8419.41]
["300012__16",16,"ПРОМІНВЕСТБАНК",300012,"Ю/О майнове право","Львівська","Ліквідовано",2,"793/05-К","кредит","Гривня",0.17,"2005-10-12","2006-06-20","НІ","Наявні документи кредитної справи",6220,0,7534.25,"2006-06-26","Закрите акціонерне товариство «Консалтингюрсервіс»","2022-04-01",2,514205.49,514205.49,500000,14205.49]
["300012__17",17,"ПРОМІНВЕСТБАНК",300012,"Ю/О право вимоги","Рівненська","В стані припинення (крім банкрутства)",1,"483/06","кредитна лінія","Гривня",0.18,"2006-11-09","2008-11-08","НІ","відсутній оригінал іпотечного договору ",5348,0,98000,"2021-02-19","Закрите акціонерне товариство «Консалтингюрсервіс»","2022-04-01",292582.69,337469.69,337469.69,292152.17,45317.52]
["300012__18",18,"ПРОМІНВЕСТБАНК",300012,"Ю/О право вимоги","Закарпатська","Діюче",1,"02-05/595","кредитна лінія","Гривня",0.18,"2005-09-29","2008-09-26","НІ","Наявні документи кредитної справи",5391,0,209106,"2018-11-30","Закрите акціонерне товариство «Консалтингюрсервіс»","2022-04-01",7814.99,822630.79,822630.79,814934.06,7696.73]
["300012__19",19,"ПРОМІНВЕСТБАНК",300012,"Ю/О право вимоги","Закарпатська обл.","Діюче",1,"2257 ","кредитна лінія","Гривня",0.16,"2007-12-10","2008-12-07","НІ","Наявні документи кредитної справи",5319,0,137273.79999999999,"2014-05-30","Закрите акціонерне товариство «Консалтингюрсервіс»","2022-04-01",935923.38,1308024.54,1308024.54,1000000,308024.53999999998]
["300012__20",20,"ПРОМІНВЕСТБАНК",300012,"Ю/О право вимоги","Закарпатська обл.","Діюче",1,"02-07/797","кредитна лінія","Гривня",0.2,"2007-07-06","2008-07-04","НІ","Наявні документи кредитної справи",5475,0,26652.45,"2014-07-14","Закрите акціонерне товариство «Консалтингюрсервіс»","2022-04-01",3635.22,382654.83,382654.83,379467.77,3187.06]
["300012__21",21,"ПРОМІНВЕСТБАНК",300012,"Ю/О право вимоги","Закарпатська обл.","Діюче",1,"02-06/1110","кредитна лінія","Гривня",0.18,"2006-10-20","2009-10-19","НІ","відсутній оригінал кредитного договору",5003,0,110781.85,"2018-11-13","Закрите акціонерне товариство «Консалтингюрсервіс»","2022-04-01",12178.37,1281933.56,1281933.56,985000,296933.56]
["300012__22",22,"ПРОМІНВЕСТБАНК",300012,"Ю/О право вимоги","Тернопільська","Діюче",1,"03-1/114","кредитна лінія","Гривня",0.22,"2007-10-02","2010-09-25","НІ","відсутній оригінал одного договору про внесення змін до кредитного договору",4662,0,140819.76999999999,"2010-09-16","Закрите акціонерне товариство «Консалтингюрсервіс»","2022-04-01",206720.72,1040819.8,1040819.8,842099.02,198720.78]
["300012__23",23,"ПРОМІНВЕСТБАНК",300012,"Ю/О право вимоги","Хмельницька","Діюче",1,"20-0541/2-1","кредитна лінія","Гривня",0.24299999999999999,"2014-02-18","2015-01-23","НІ","Наявні документи кредитної справи","2738",0,82045.460000000006,"2017-11-17","Закрите акціонерне товариство «Консалтингюрсервіс»","2022-04-01",5518.57,424505.32,424505.32000000007,149154.79,275350.53000000003]
["300012__24",24,"ПРОМІНВЕСТБАНК",300012,"Ю/О право вимоги","Київ","В стані припинення (крім банкрутства)",1,"13-КЛ-04","кредитна лінія","Доллар США",0.18,"2004-03-30","2005-03-17","НІ","Наявні документи кредитної справи",6680,0,13747.11,"2005-05-31","Закрите акціонерне товариство «Консалтингюрсервіс»","2022-04-01",27245.82,2867981.01,3584973.81,3364311.2,220662.61]
["300012__25",25,"ПРОМІНВЕСТБАНК",300012,"Ю/О право вимоги","Дніпропетровська","Діюче",1,"1814/02-07","кредит","Гривня",0.2,"2007-10-17","2008-10-16","НІ","Наявні документи кредитної справи",5371,0,37313.339999999997,"2008-10-31","Закрите акціонерне товариство «Консалтингюрсервіс»","2022-04-01",29547.16,3110227.24,3110227.24,3000000,110227.24]
["300012__26",26,"ПРОМІНВЕСТБАНК",300012,"Ю/О право вимоги","Київ","Діюче",1,"07-229к","кредит","Гривня",0.18,"2007-04-20","2008-04-18","НІ","Наявні документи кредитної справи",5552,0,3000,"2008-11-17","Закрите акціонерне товариство «Консалтингюрсервіс»","2022-04-01",2077.6999999999998,305543.53999999998,305543.53999999998,300000,5543.54]
["300012__27",27,"ПРОМІНВЕСТБАНК",300012,"ФОП право вимоги","Івано_Франківська","Діюче",1,63,"кредит","Доллар США",0.14000000000000001,"2006-12-21","2009-12-17","НІ","Наявні документи кредитної справи",4944,0,7992.5,"2012-06-27","Закрите акціонерне товариство «Консалтингюрсервіс»","2022-04-01",3439.98,362103.11,452628.58,452628.58,0]
["300012__28",28,"ПРОМІНВЕСТБАНК",300012,"ФОП право вимоги","Закарпатська обл.","Діюче",1,"362/2-2007","кредит","Доллар США",0.12,"2007-08-03","2010-08-02","НІ","Наявні документи кредитної справи",4716,0,23253.82,"2013-07-16","Закрите акціонерне товариство «Консалтингюрсервіс»","2022-04-01",4166.04,438530.07,548162.22,548162.22,0]
["300012__29",29,"ПРОМІНВЕСТБАНК",300012,"ФОП право вимоги","Житомирська","Ліквідовано",1,704,"кредит","Гривня",0.2,"2007-11-29","2008-11-21","НІ","Наявні документи кредитної справи",5335,0,348.12,"2022-01-26","Закрите акціонерне товариство «Консалтингюрсервіс»","2022-04-01",1675.97,176417.65,176417.65,176417.65,0]
["300012__30",30,"ПРОМІНВЕСТБАНК",300012,"ФОП право вимоги","Закарпатська обл.","Діюче",1,162,"кредит","Доллар США",0.17,"2006-07-06","2010-04-05","НІ","Наявні документи кредитної справи",4835,0,773382.62,"2019-07-15","Закрите акціонерне товариство «Консалтингюрсервіс»","2022-04-01",60221.2,6339074.5099999998,7913000.5800000001,7157937.7599999998,755062.82000000007]
["300012__31",31,"ПРОМІНВЕСТБАНК",300012,"ФОП право вимоги","Житомирська","Діюче",1,"134-146/02","кредит","Гривня",0.18,"2007-11-02","2008-10-31","НІ","Наявні документи кредитної справи",5356,0,8482.0499999999993,"2008-10-31","Закрите акціонерне товариство «Консалтингюрсервіс»","2022-04-01",5362.74,564498.81999999995,564498.82000000007,499963.08,64535.74]
["300012__32",32,"ПРОМІНВЕСТБАНК",300012,"ФОП право вимоги","Сумська","Ліквідовано",1,"21/89","кредитна лінія","Гривня",0.23,"2005-03-31","2006-03-29","НІ","Наявні документи кредитної справи",6303,0,615.79999999999995,"2013-07-16","Закрите акціонерне товариство «Консалтингюрсервіс»","2022-04-01",1528.83,201162.46,201162.46,183059.72,18102.740000000002]
["300012__33",33,"ПРОМІНВЕСТБАНК",300012,"ФОП право вимоги","Вінницька","Ліквідовано",1,"02-2.1/078","кредитна лінія","Гривня",0.17499999999999999,"2008-02-07","2009-06-01","НІ","Наявні документи кредитної справи",5143,0,4784.87,"2015-09-15","Закрите акціонерне товариство «Консалтингюрсервіс»","2022-04-01",1343.33,141403.87,141403.87,101215,40188.870000000003]
["300012__34",34,"ПРОМІНВЕСТБАНК",300012,"ФОП право вимоги","Закарпатська обл.","Діюче",1,"12/32а-04","кредит","Євро",0.13,"2004-06-09","2009-06-07","НІ","Наявні документи кредитної справи",5137,0,13583.75,"2007-05-24","Закрите акціонерне товариство «Консалтингюрсервіс»","2022-04-01",34312.870000000003,3611881.75,4433781.7,3998939.98,434841.72]
["300012__35",35,"ПРОМІНВЕСТБАНК",300012,"Ю/О право вимоги","Кіровоградська","Ліквідовано",1,105,"кредитна лінія","Гривня",0.2,"2007-09-04","2010-09-03","НІ","Наявні документи кредитної справи",4684,0,2598.14,"2019-01-28","Закрите акціонерне товариство «Консалтингюрсервіс»","2022-04-01",1,1825477.41,1825477.41,1825477.41,0]
["300012__36",36,"ПРОМІНВЕСТБАНК",300012,"ФОП право вимоги","Львівська","Ліквідовано",1,191,"кредит","Гривня",0.18,"2005-10-17","2008-10-16","НІ","Наявні документи кредитної справи",5371,0,200,"2011-04-14","Закрите акціонерне товариство «Консалтингюрсервіс»","2022-04-01",1198.08,126113.14,126113.14,123738.77,2374.37]
["300012__37",37,"ПРОМІНВЕСТБАНК",300012,"ФОП право вимоги","Дніпропетровська","Діюче",1,"18-2006Л","кредитна лінія","Гривня",0.2,"2006-06-08","2007-06-07","НІ","відсутній договір іпотеки",5868,0,575.34,"2007-06-08","Закрите акціонерне товариство «Консалтингюрсервіс»","2022-04-01",3,155650.68,155650.68,150000,5650.6799999999994]
["300012__38",38,"ПРОМІНВЕСТБАНК",300012,"ФОП право вимоги","Вінницька","Ліквідовано",1,"02-2.1/663","кредитна лінія","Гривня",0.18,"2007-08-28","2009-08-27","НІ","Наявні документи кредитної справи",5056,0,98343.6,"2018-01-23","Закрите акціонерне товариство «Консалтингюрсервіс»","2022-04-01",1361.11,143275.01,143275.01,143275.01,0]
["300012__39",39,"ПРОМІНВЕСТБАНК",300012,"Ю/О право вимоги","Івано_Франківська","В стані припинення (крім банкрутства)",1,11,"кредитна лінія","Гривня",0.18,"2008-03-18","2009-03-16","НІ","Наявні документи кредитної справи",5220,0,6702.46,"2008-12-30","Закрите акціонерне товариство «Консалтингюрсервіс»","2022-04-01",4278.1099999999997,450327.14,450327.14,390000,60327.14]
["300012__40",40,"ПРОМІНВЕСТБАНК",300012,"Ю/О право вимоги","Київська","Банкрутство",1,"94/2006","кредит","Гривня",0.21,"2006-08-03","2007-08-02","НІ","Наявні документи кредитної справи",5812,0,314.48,"2007-07-31","Закрите акціонерне товариство «Консалтингюрсервіс»","2022-04-01",1002.41,105516.94,105516.94,94423.05,11093.89]
["300012__41",41,"ПРОМІНВЕСТБАНК",300012,"Ю/О право вимоги","Київ","Діюче",1,32,"кредитна лінія","Гривня",0.2,"2007-09-28","2008-09-26","НІ","Наявні документи кредитної справи",5391,0,2000,"2009-07-31","Закрите акціонерне товариство «Консалтингюрсервіс»","2022-04-01",5761.8,606505.29,606505.29,498303.78,108201.51]
["300012__42",42,"ПРОМІНВЕСТБАНК",300012,"ФОП право вимоги","Житомирська","Ліквідовано",1,"22-24/02","кредит","Гривня",0.21,"2006-03-29","2009-03-28","НІ","Наявні документи кредитної справи",5208,0,172031.78,"2016-09-06","Закрите акціонерне товариство «Консалтингюрсервіс»","2022-04-01",4293.0600000000004,451901.31,451901.31,440758.88,11142.43]
["300012__43",43,"ПРОМІНВЕСТБАНК",300012,"ФОП право вимоги","Сумська","Ліквідовано",1,"268-02-79","кредитна лінія","Гривня",0.24,"2007-08-28","2010-06-30","НІ","Наявні документи кредитної справи",4749,0,2200,"2016-03-14","Закрите акціонерне товариство «Консалтингюрсервіс»","2022-04-01",1450.93,152729.45000000001,152729.45000000001,100000,52729.45]
["300012__44",44,"ПРОМІНВЕСТБАНК",300012,"ФОП право вимоги","Закарпатська","Ліквідовано",1,"53/3-06","кредитна лінія","Гривня",0.18,"2006-07-31","2009-07-30","НІ","Наявні документи кредитної справи",5084,0,3000,"2008-11-11","Закрите акціонерне товариство «Консалтингюрсервіс»","2022-04-01",1922.31,202348.73,202348.73,150000,52348.73]
["300012__45",45,"ПРОМІНВЕСТБАНК",300012,"ФОП право вимоги","Закарпатська","Ліквідовано",1,"87/3-05","кредит","Гривня",0.18,"2005-10-17","2008-10-16","НІ","Наявні документи кредитної справи",5371,0,212687.95,"2017-01-18","Закрите акціонерне товариство «Консалтингюрсервіс»","2022-04-01",987.06,103901.46,103901.45999999999,71170.42,32731.040000000001]
["300012__46",46,"ПРОМІНВЕСТБАНК",300012,"Ю/О право вимоги","Київська","В стані припинення (крім банкрутства)",1,"25","Інформація відсутня","Гривня",0.18,"1997-08-26","1998-08-26","НІ","Відсутні документи кредитної справи",9075,0,814000,"2003-04-04","Закрите акціонерне товариство «Консалтингюрсервіс»","2022-04-01",912,120000,120000,0,120000]
["300012__47",47,"ПРОМІНВЕСТБАНК",300012,"Ю/О майнове право","Полтавська","Ліквідовано",2,"70/210","Інформація відсутня","Гривня",0.22,"2005-05-31","2006-05-26","НІ","Відсутні документи кредитної справи",6245,0,390,"2005-09-30","Закрите акціонерне товариство «Консалтингюрсервіс»","2022-04-01",3802,530488.78,530488.78,500000,30488.78]
["300012__48",48,"ПРОМІНВЕСТБАНК",300012,"Ю/О право вимоги","Київ","Діюче",1,"689-04/08","кредитна лінія","Гривня",0.2,"2008-08-27","2011-07-29","НІ","Наявні документи кредитної справи",4355,0,16874.18,"2015-07-06","Закрите акціонерне товариство «Консалтингюрсервіс»","2022-04-01",3124.69,297589.77,297589.77,297589.77,0]
["300012__49",49,"ПРОМІНВЕСТБАНК",300012,"Дебіторська заборгованість","Київ","Діюче",null,"148/10","Дебіторська заборгованість","Гривня",null,"2012-10-11",null,"НІ","Наявні документи кредитної справи",3915,0,0.28000000000000003,"2011-07-29","Закрите акціонерне товариство «Консалтингюрсервіс»","2022-04-01",2.99,289.72000000000003,289.72000000000003,289.72000000000003,0]
["300012__50",50,"ПРОМІНВЕСТБАНК",300012,"ФОП право вимоги","Дніпропетровська","Діюче",1,"119/02-08","кредитна лінія","Гривня",0.2,"2008-01-31","2009-01-28","НІ","Наявні документи кредитної справи",5267,0,27578.14,"2008-10-31","Закрите акціонерне товариство «Консалтингюрсервіс»","2022-04-01",15642.56,1646584.47,1646584.47,1480000,166584.47]
["300012__51",51,"ПРОМІНВЕСТБАНК",300012,"ФОП право вимоги","Дніпропетровська","Діюче",1,"241/02-08","кредитна лінія","Гривня",0.2,"2008-03-05","2009-03-03","НІ","Наявні документи кредитної справи",5233,0,13213.11,"2008-10-31","Закрите акціонерне товариство «Консалтингюрсервіс»","2022-04-01",8244.0499999999993,867794.53,867794.53,780000,87794.53]
["300012__52",52,"ПРОМІНВЕСТБАНК",300012,"ФОП право вимоги","Одеська","Ліквідовано",1,"044-60-01-15","кредит","Гривня",0.18,"2005-05-31","2006-05-30","НІ","Відсутні документи кредитної справи",6241,0,10000,"2006-10-20","Закрите акціонерне товариство «Консалтингюрсервіс»","2022-04-01",1330,140000,140000,140000,0]
["300012__53",53,"ПРОМІНВЕСТБАНК",300012,"Ю/О право вимоги","Закарпатська","Діюче",1,"11/3-07","кредитна лінія","мульт. валютн.","25%-грн.; 14%-євро","2007-02-19","2009-02-18","НІ","Наявні документи кредитної справи",5246,0,7575.65,"2017-04-28","Закрите акціонерне товариство «Консалтингюрсервіс»","2022-04-01",951473.91,1601337.31,1801679.27,1512578.79,289100.48]
["300012__54",54,"ПРОМІНВЕСТБАНК",300012,"ФОП право вимоги","Закарпатська","Ліквідовано",1,"157/2-06","кредит","Гривня",0.2,"2006-05-31","2009-05-28","НІ","Наявні документи кредитної справи",5147,0,4514.87,"2018-01-04","Закрите акціонерне товариство «Консалтингюрсервіс»","2022-04-01",1019.94,107362.23,107362.23,107362.23,0]
["300012__55",55,"ПРОМІНВЕСТБАНК",300012,"Ю/О право вимоги","Київ","Діюче",1,"I-29/08","кредитна лінія","Гривня",0.25,"25.07.2008","2010-07-24","НІ","Наявні документи кредитної справи",4725,0,922454.1,"2019-04-25","Закрите акціонерне товариство «Консалтингюрсервіс»","2022-04-01",6776.6,713326.72,713326.72,713326.72,0]
["300012__56",56,"ПРОМІНВЕСТБАНК",300012,"Ю/О майнове право","Дніпропетровська","Ліквідовано",2,"42-2005Л","кредитна лінія","Гривня",0.15,"2005-11-07","2008-11-06","НІ","відсутній договір іпотеки",5350,0,21268,"2012-02-01","Закрите акціонерне товариство «Консалтингюрсервіс»","2022-04-01",2,1280938.76,1280938.76,1249957.3400000001,30981.42]
["300012__57",57,"ПРОМІНВЕСТБАНК",300012,"Ю/О право вимоги","Київ","Діюче",1,"03-1/117-224-03/07","кредитна лінія","Доллар США",0.13,"05.07.2007","04.07.2008","НІ","відсутній оригінал кредитного договору ",5475,0,5000,"2008-09-30","Закрите акціонерне товариство «Консалтингюрсервіс»","2022-04-01",15880.24,1671604.51,2089504.21,2089504.21,0]
["300012__58",58,"ПРОМІНВЕСТБАНК",300012,"Ю/О право вимоги","Дніпропетровська","Діюче",1,"396/02-08","кредитна лінія","Гривня",0.2,"10.04.2008","09.04.2009","НІ","Наявні документи кредитної справи",5196,0,36206,"2011-09-26","Закрите акціонерне товариство «Консалтингюрсервіс»","2022-04-01",29849.56,3142059.5,3142059.5,3000000,142059.5]
["300012__59",59,"ПРОМІНВЕСТБАНК",300012,"ФОП право вимоги","Закарпатська","Ліквідовано",1,"527","кредит","Доллар США",0.12,"2006-09-28","2009-09-25","НІ","кредитний договір та договір забезпечення - відсутні",5027,0,19250,"2009-01-30","Закрите акціонерне товариство «Консалтингюрсервіс»","2022-04-01",69999.41,7368359.1100000003,9210442.5899999999,7240582.7999999998,1969859.79]
["300012__60",60,"ПРОМІНВЕСТБАНК",300012,"Ю/О право вимоги","Донецька","Діюче",1,"224","кредитна лінія","Гривня",0.22,"2008-09-10","2009-09-09","НІ","Наявні документи кредитної справи",5043,0,440.63,"2009-12-31","Закрите акціонерне товариство «Консалтингюрсервіс»","2022-04-01",3384.56,497728.56,497728.56,360000,137728.56]
["300012__61",61,"ПРОМІНВЕСТБАНК",300012,"Ю/О майнове право","Харківська","Ліквідовано",2,"1/07","кредит","Гривня",0.9,"1998-07-02","1999-07-13","НІ","Наявні документи кредитної справи",8754,0,"-","-","Закрите акціонерне товариство «Консалтингюрсервіс»","2022-04-01",1,100000,100000,100000,0]
["300012__62",62,"ПРОМІНВЕСТБАНК",300012,"ФОП право вимоги","Харківська","Ліквідовано",1,"23/1-08","кредитна лінія","Гривня",0.2,"2008-06-17","2009-06-05","НІ","Наявні документи кредитної справи",5139,0,286078,"2015-09-17","Закрите акціонерне товариство «Консалтингюрсервіс»","2022-04-01",2,1015248.7,1015248.7,975000,40248.699999999997]
["300012__63",63,"ПРОМІНВЕСТБАНК",300012,"ФОП право вимоги","Харківська","Ліквідовано",1,"140/772","кредит","Гривня",0.2,"2005-06-22","2006-06-21","НІ","Наявні документи кредитної справи",6219,0,1643.84,"2005-08-31","Закрите акціонерне товариство «Консалтингюрсервіс»","2022-04-01",5067.53,533424.68000000005,533424.68000000005,500000,33424.68]
["300012__64",64,"ПРОМІНВЕСТБАНК",300012,"ФОП право вимоги","Харківська","Ліквідовано",1,"104/569","кредит","Гривня",0.17,"2005-05-13","2006-05-12","НІ","Наявні документи кредитної справи",6259,0,1439.89,"2005-10-28","Закрите акціонерне товариство «Консалтингюрсервіс»","2022-04-01",2,519724.52,519724.52,499973.75,19750.77]
["300012__65",65,"ПРОМІНВЕСТБАНК",300012,"Ю/О право вимоги","Тернопільська","Діюче",1,"03-27","кредитна лінія","Гривня",0.18,"2004-02-12","2006-02-11","НІ","ні (наявні сканкопії договорів)",6349,0,731.82,"2018-10-29","Закрите акціонерне товариство «Консалтингюрсервіс»","2022-04-01",2350.41,247411.65,247411.65,241342.07999999999,6069.57]
["300012__66",66,"ПРОМІНВЕСТБАНК",300012,"Ю/О право вимоги","Полтавська","В стані припинення (крім банкрутства)",1,"45-08\\КР","кредитна лінія","Гривня",0.26,"2008-06-13","2010-10-29","НІ","Наявні документи кредитної справи",4628,0,2430,"2017-03-30","Закрите акціонерне товариство «Консалтингюрсервіс»","2022-04-01",4557.28,479713.78,479713.78,382839.94,96873.84]
["300012__67",67,"ПРОМІНВЕСТБАНК",300012,"Ю/О право вимоги","Миколаївська","Діюче",1,"265/02-06","кредитна лінія","Гривня",0.18,"20.03.2006","19.09.2008","НІ","Наявні документи кредитної справи",5398,0,20000,"2008-08-07","Закрите акціонерне товариство «Консалтингюрсервіс»","2022-04-01",59288.75,6240920.8200000003,6240920.8200000003,5959000,281920.82]
["300012__68",68,"ПРОМІНВЕСТБАНК",300012,"ФОП право вимоги","Закарпатська","Діюче",1,"23/32a-04","кредит","Доллар США",0.13,"2004-09-09","2009-09-08","НІ","Наявні документи кредитної справи",5044,0,8329.36,"2008-07-31","Закрите акціонерне товариство «Консалтингюрсервіс»","2022-04-01",1172891.3799999999,1453920.26,1817399.08,1462744,354655.08]
["300012__69",69,"ПРОМІНВЕСТБАНК",300012,"ФОП майнове право","Закарпатська","Ліквідовано",2,"02-07/1640","кредит","Гривня",0.16,"2007-11-20","2008-11-19","НІ","Наявні документи кредитної справи",5337,0,1014.49,"2008-02-05","Закрите акціонерне товариство «Консалтингюрсервіс»","2022-04-01",3,308478.32,308478.32,299999.98,8478.34]
["300012__70",70,"ПРОМІНВЕСТБАНК",300012,"Ю/О право вимоги","Харківська","В стані припинення (крім банкрутства)",1,"25","кредитна лінія","Гривня",0.18,"12.05.2005","2006-05-11","НІ","Наявні документи кредитної справи",6260,0,"після 01.08.2013 року погашення не здіснювалося (до 01.08.2013 інформація відсутня)",null,"Закрите акціонерне товариство «Консалтингюрсервіс»","2022-04-01",4349.49,457841.17,457841.17,457841.17,0]
["300012__71",71,"ПРОМІНВЕСТБАНК",300012,"ФОП майнове право","Харківська","Ліквідовано",2,"145/799","кредит","Гривня",0.2,"24.06.2005","23.06.2006","НІ","Наявні документи кредитної справи",6217,0,"після 01.08.2013 року погашення не здіснювалося (до 01.08.2013 інформація відсутня)",null,"Закрите акціонерне товариство «Консалтингюрсервіс»","2022-04-01",5067.53,533424.68000000005,533424.68000000005,500000,33424.68]
["300012__72",72,"ПРОМІНВЕСТБАНК",300012,"ФОП право вимоги","Закарпатська","Діюче",1,"61/32-04","кредит","Гривня",0.20499999999999999,"06.10.2004","2009-10-05","НІ","Наявні документи кредитної справи",5017,1041.03,1041.03,"2023-01-24","Закрите акціонерне товариство «Консалтингюрсервіс»","2022-04-01",1176.32,123823.74,122782.70999999999,104102.37,18680.34]
["300012__73",73,"ПРОМІНВЕСТБАНК",300012,"ФОП право вимоги","Харківська","Ліквідовано",1,"89/501","кредит","Гривня",0.17,"28.04.2005","20.04.2006","НІ","Наявні документи кредитної справи",6281,0,"після 01.08.2013 року погашення не здіснювалося (до 01.08.2013 інформація відсутня)",null,"Закрите акціонерне товариство «Консалтингюрсервіс»","2022-04-01",3419.01,359895.4,359895.4,359895.4,0]
["300012__74",74,"ПРОМІНВЕСТБАНК",300012,"Ю/О право вимоги","Київська","Банкрутство",1,"20-0299/2-1","кредитна лінія","Доллар США",0.1,"2013-02-15","2015-01-31","НІ","Наявні документи кредитної справи","2384",0,"-","-","Закрите акціонерне товариство «Консалтингюрсервіс»","2022-04-01",159189.9,6194159.5800000001,7742694.1799999997,7742694.1799999997,0]
["300012__75",75,"ПРОМІНВЕСТБАНК",300012,"Ю/О право вимоги","Київська","Банкрутство",1,"20-0841/2-1","кредитна лінія","Доллар США","змінна процентна ставка у розмірі 12-місячний Libor плюс 9,5 % річних","2011-03-30","2018-03-29","НІ","Наявні документи кредитної справи","3314",0,10029274.199999999,"2019-03-28","Закрите акціонерне товариство «Консалтингюрсервіс»","2022-04-01",5122716.43,199327487.65000001,249159189.21999997,179033758.63999999,70125430.579999998]
["300012__76",76,"ПРОМІНВЕСТБАНК",300012,"Дебіторська заборгованість","Київська","Банкрутство",null,"20-0298/3-2","Дебіторська заборгованість","Доллар США",null,"26.08.2014",null,"НІ","Наявні документи кредитної справи",3231,0,"-","-","Закрите акціонерне товариство «Консалтингюрсервіс»","2022-04-01",400,18565.45,23206.799999999999,23206.799999999999,0]
["300012__77",77,"ПРОМІНВЕСТБАНК",300012,"Дебіторська заборгованість","Київська","Банкрутство",null,"20-0298/3-2","Дебіторська заборгованість","Гривня",null,"15.02.2013",null,"НІ","Наявні документи кредитної справи",3788,0,245215.96,"2014-08-07","Закрите акціонерне товариство «Консалтингюрсервіс»","2022-04-01",23689.360000000001,471215.45,471215.45,471215.45,0]
[]
["","",null,"",null,null,null,null,null,null,null,null,null,null,null,null,null,null,null,null,null,null,null,null,""]
["","",null,"",null,null,null,null,null,null,null,null,null,null,null,null,null,null,null,null,null,null,null,null,""]
["","",null,"",null,null,null,null,null,null,null,null,null,null,null,null,null,null,null,null,null,null,null,null,""]
["","",null,"",null,null,null,null,null,null,null,null,null,null,null,null,null,null,null,null,null,null,null,null,""]
["","",null,"",null,null,null,null,null,null,null,null,null,null,null,null,null,null,null,null,null,null,null,null,""]
["","",null,"",null,null,null,null,null,null,null,null,null,null,null,null,null,null,null,null,null,null,null,null,""]
["","",null,"",null,null,null,null,null,null,null,null,null,null,null,null,null,null,null,null,null,null,null,null,""]
["","",null,"",null,null,null,null,null,null,null,null,null,null,null,null,null,null,null,null,null,null,null,null,""]
["","",null,"",null,null,null,null,null,null,null,null,null,null,null,null,null,null,null,null,null,null,null,null,""]
["","",null,"",null,null,null,null,null,null,null,null,null,null,null,null,null,null,null,null,null,null,null,null,""]
["","",null,"",null,null,null,null,null,null,null,null,null,null,null,null,null,null,null,null,null,null,null,null,""]
["","",null,"",null,null,null,null,null,null,null,null,null,null,null,null,null,null,null,null,null,null,null,null,""]
["","",null,"",null,null,null,null,null,null,null,null,null,null,null,null,null,null,null,null,null,null,null,null,""]
["","",null,"",null,null,null,null,null,null,null,null,null,null,null,null,null,null,null,null,null,null,null,null,""]
["","",null,"",null,null,null,null,null,null,null,null,null,null,null,null,null,null,null,null,null,null,null,null,""]
["","",null,"",null,null,null,null,null,null,null,null,null,null,null,null,null,null,null,null,null,null,null,null,""]
["","",null,"",null,null,null,null,null,null,null,null,null,null,null,null,null,null,null,null,null,null,null,null,""]
["","",null,"",null,null,null,null,null,null,null,null,null,null,null,null,null,null,null,null,null,null,null,null,""]
["","",null,"",null,null,null,null,null,null,null,null,null,null,null,null,null,null,null,null,null,null,null,null,""]
["","",null,"",null,null,null,null,null,null,null,null,null,null,null,null,null,null,null,null,null,null,null,null,""]
["","",null,"",null,null,null,null,null,null,null,null,null,null,null,null,null,null,null,null,null,null,null,null,""]
["","",null,"",null,null,null,null,null,null,null,null,null,null,null,null,null,null,null,null,null,null,null,null,""]
["","",null,"",null,null,null,null,null,null,null,null,null,null,null,null,null,null,null,null,null,null,null,null,""]
["","",null,"",null,null,null,null,null,null,null,null,null,null,null,null,null,null,null,null,null,null,null,null,""]
["","",null,"",null,null,null,null,null,null,null,null,null,null,null,null,null,null,null,null,null,null,null,null,""]
["","",null,"",null,null,null,null,null,null,null,null,null,null,null,null,null,null,null,null,null,null,null,null,""]
["","",null,"",null,null,null,null,null,null,null,null,null,null,null,null,null,null,null,null,null,null,null,null,""]
["","",null,"",null,null,null,null,null,null,null,null,null,null,null,null,null,null,null,null,null,null,null,null,""]
["","",null,"",null,null,null,null,null,null,null,null,null,null,null,null,null,null,null,null,null,null,null,null,""]
["","",null,"",null,null,null,null,null,null,null,null,null,null,null,null,null,null,null,null,null,null,null,null,""]
["","",null,"",null,null,null,null,null,null,null,null,null,null,null,null,null,null,null,null,null,null,null,null,""]
["","",null,"",null,null,null,null,null,null,null,null,null,null,null,null,null,null,null,null,null,null,null,null,""]
["","",null,"",null,null,null,null,null,null,null,null,null,null,null,null,null,null,null,null,null,null,null,null,""]
["","",null,"",null,null,null,null,null,null,null,null,null,null,null,null,null,null,null,null,null,null,null,null,""]
["","",null,"",null,null,null,null,null,null,null,null,null,null,null,null,null,null,null,null,null,null,null,null,""]
["","",null,"",null,null,null,null,null,null,null,null,null,null,null,null,null,null,null,null,null,null,null,null,""]
["","",null,"",null,null,null,null,null,null,null,null,null,null,null,null,null,null,null,null,null,null,null,null,""]
["","",null,"",null,null,null,null,null,null,null,null,null,null,null,null,null,null,null,null,null,null,null,null,""]
["","",null,"",null,null,null,null,null,null,null,null,null,null,null,null,null,null,null,null,null,null,null,null,""]
["","",null,"",null,null,null,null,null,null,null,null,null,null,null,null,null,null,null,null,null,null,null,null,""]
["","",null,"",null,null,null,null,null,null,null,null,null,null,null,null,null,null,null,null,null,null,null,null,""]
["","",null,"",null,null,null,null,null,null,null,null,null,null,null,null,null,null,null,null,null,null,null,null,""]
["","",null,"",null,null,null,null,null,null,null,null,null,null,null,null,null,null,null,null,null,null,null,null,""]
["","",null,"",null,null,null,null,null,null,null,null,null,null,null,null,null,null,null,null,null,null,null,null,""]
["","",null,"",null,null,null,null,null,null,null,null,null,null,null,null,null,null,null,null,null,null,null,null,""]
["","",null,"",null,null,null,null,null,null,null,null,null,null,null,null,null,null,null,null,null,null,null,null,""]
["","",null,"",null,null,null,null,null,null,null,null,null,null,null,null,null,null,null,null,null,null,null,null,""]
["","",null,"",null,null,null,null,null,null,null,null,null,null,null,null,null,null,null,null,null,null,null,null,""]
["","",null,"",null,null,null,null,null,null,null,null,null,null,null,null,null,null,null,null,null,null,null,null,""]
["","",null,"",null,null,null,null,null,null,null,null,null,null,null,null,null,null,null,null,null,null,null,null,""]
["","",null,"",null,null,null,null,null,null,null,null,null,null,null,null,null,null,null,null,null,null,null,null,""]
["","",null,"",null,null,null,null,null,null,null,null,null,null,null,null,null,null,null,null,null,null,null,null,""]
["","",null,"",null,null,null,null,null,null,null,null,null,null,null,null,null,null,null,null,null,null,null,null,""]
["","",null,"",null,null,null,null,null,null,null,null,null,null,null,null,null,null,null,null,null,null,null,null,""]
["","",null,"",null,null,null,null,null,null,null,null,null,null,null,null,null,null,null,null,null,null,null,null,""]
["","",null,"",null,null,null,null,null,null,null,null,null,null,null,null,null,null,null,null,null,null,null,null,""]
["","",null,"",null,null,null,null,null,null,null,null,null,null,null,null,null,null,null,null,null,null,null,null,""]
["","",null,"",null,null,null,null,null,null,null,null,null,null,null,null,null,null,null,null,null,null,null,null,""]
["","",null,"",null,null,null,null,null,null,null,null,null,null,null,null,null,null,null,null,null,null,null,null,""]
["","",null,"",null,null,null,null,null,null,null,null,null,null,null,null,null,null,null,null,null,null,null,null,""]
["","",null,"",null,null,null,null,null,null,null,null,null,null,null,null,null,null,null,null,null,null,null,null,""]
["","",null,"",null,null,null,null,null,null,null,null,null,null,null,null,null,null,null,null,null,null,null,null,""]
["","",null,"",null,null,null,null,null,null,null,null,null,null,null,null,null,null,null,null,null,null,null,null,""]
["","",null,"",null,null,null,null,null,null,null,null,null,null,null,null,null,null,null,null,null,null,null,null,""]
["","",null,"",null,null,null,null,null,null,null,null,null,null,null,null,null,null,null,null,null,null,null,null,""]
["","",null,"",null,null,null,null,null,null,null,null,null,null,null,null,null,null,null,null,null,null,null,null,""]
["","",null,"",null,null,null,null,null,null,null,null,null,null,null,null,null,null,null,null,null,null,null,null,""]
["","",null,"",null,null,null,null,null,null,null,null,null,null,null,null,null,null,null,null,null,null,null,null,""]
["","",null,"",null,null,null,null,null,null,null,null,null,null,null,null,null,null,null,null,null,null,null,null,""]
["","",null,"",null,null,null,null,null,null,null,null,null,null,null,null,null,null,null,null,null,null,null,null,""]
["","",null,"",null,null,null,null,null,null,null,null,null,null,null,null,null,null,null,null,null,null,null,null,""]
["","",null,"",null,null,null,null,null,null,null,null,null,null,null,null,null,null,null,null,null,null,null,null,""]
["","",null,"",null,null,null,null,null,null,null,null,null,null,null,null,null,null,null,null,null,null,null,null,""]
["","",null,"",null,null,null,null,null,null,null,null,null,null,null,null,null,null,null,null,null,null,null,null,""]
["","",null,"",null,null,null,null,null,null,null,null,null,null,null,null,null,null,null,null,null,null,null,null,""]
["","",null,"",null,null,null,null,null,null,null,null,null,null,null,null,null,null,null,null,null,null,null,null,""]
["","",null,"",null,null,null,null,null,null,null,null,null,null,null,null,null,null,null,null,null,null,null,null,""]
["","",null,"",null,null,null,null,null,null,null,null,null,null,null,null,null,null,null,null,null,null,null,null,""]
["","",null,"",null,null,null,null,null,null,null,null,null,null,null,null,null,null,null,null,null,null,null,null,""]
["","",null,"",null,null,null,null,null,null,null,null,null,null,null,null,null,null,null,null,null,null,null,null,""]
["","",null,"",null,null,null,null,null,null,null,null,null,null,null,null,null,null,null,null,null,null,null,null,""]
["","",null,"",null,null,null,null,null,null,null,null,null,null,null,null,null,null,null,null,null,null,null,null,""]
["","",null,"",null,null,null,null,null,null,null,null,null,null,null,null,null,null,null,null,null,null,null,null,""]
["","",null,"",null,null,null,null,null,null,null,null,null,null,null,null,null,null,null,null,null,null,null,null,""]
["","",null,"",null,null,null,null,null,null,null,null,null,null,null,null,null,null,null,null,null,null,null,null,""]
["","",null,"",null,null,null,null,null,null,null,null,null,null,null,null,null,null,null,null,null,null,null,null,""]
["","",null,"",null,null,null,null,null,null,null,null,null,null,null,null,null,null,null,null,null,null,null,null,""]
["","",null,"",null,null,null,null,null,null,null,null,null,null,null,null,null,null,null,null,null,null,null,null,""]
["","",null,"",null,null,null,null,null,null,null,null,null,null,null,null,null,null,null,null,null,null,null,null,""]
["","",null,"",null,null,null,null,null,null,null,null,null,null,null,null,null,null,null,null,null,null,null,null,""]
["","",null,"",null,null,null,null,null,null,null,null,null,null,null,null,null,null,null,null,null,null,null,null,""]
["","",null,"",null,null,null,null,null,null,null,null,null,null,null,null,null,null,null,null,null,null,null,null,""]
["","",null,"",null,null,null,null,null,null,null,null,null,null,null,null,null,null,null,null,null,null,null,null,""]
["","",null,"",null,null,null,null,null,null,null,null,null,null,null,null,null,null,null,null,null,null,null,null,""]
["","",null,"",null,null,null,null,null,null,null,null,null,null,null,null,null,null,null,null,null,null,null,null,""]
["","",null,"",null,null,null,null,null,null,null,null,null,null,null,null,null,null,null,null,null,null,null,null,""]
["","",null,"",null,null,null,null,null,null,null,null,null,null,null,null,null,null,null,null,null,null,null,null,""]
["","",null,"",null,null,null,null,null,null,null,null,null,null,null,null,null,null,null,null,null,null,null,null,""]
["","",null,"",null,null,null,null,null,null,null,null,null,null,null,null,null,null,null,null,null,null,null,null,""]
["","",null,"",null,null,null,null,null,null,null,null,null,null,null,null,null,null,null,null,null,null,null,null,""]
["","",null,"",null,null,null,null,null,null,null,null,null,null,null,null,null,null,null,null,null,null,null,null,""]
["","",null,"",null,null,null,null,null,null,null,null,null,null,null,null,null,null,null,null,null,null,null,null,""]
["","",null,"",null,null,null,null,null,null,null,null,null,null,null,null,null,null,null,null,null,null,null,null,""]
["","",null,"",null,null,null,null,null,null,null,null,null,null,null,null,null,null,null,null,null,null,null,null,""]
["","",null,"",null,null,null,null,null,null,null,null,null,null,null,null,null,null,null,null,null,null,null,null,""]
["","",null,"",null,null,null,null,null,null,null,null,null,null,null,null,null,null,null,null,null,null,null,null,""]
["","",null,"",null,null,null,null,null,null,null,null,null,null,null,null,null,null,null,null,null,null,null,null,""]
["","",null,"",null,null,null,null,null,null,null,null,null,null,null,null,null,null,null,null,null,null,null,null,""]
["","",null,"",null,null,null,null,null,null,null,null,null,null,null,null,null,null,null,null,null,null,null,null,""]
["","",null,"",null,null,null,null,null,null,null,null,null,null,null,null,null,null,null,null,null,null,null,null,""]
["","",null,"",null,null,null,null,null,null,null,null,null,null,null,null,null,null,null,null,null,null,null,null,""]
["","",null,"",null,null,null,null,null,null,null,null,null,null,null,null,null,null,null,null,null,null,null,null,""]
["","",null,"",null,null,null,null,null,null,null,null,null,null,null,null,null,null,null,null,null,null,null,null,""]
["","",null,"",null,null,null,null,null,null,null,null,null,null,null,null,null,null,null,null,null,null,null,null,""]
["","",null,"",null,null,null,null,null,null,null,null,null,null,null,null,null,null,null,null,null,null,null,null,""]
["","",null,"",null,null,null,null,null,null,null,null,null,null,null,null,null,null,null,null,null,null,null,null,""]
["","",null,"",null,null,null,null,null,null,null,null,null,null,null,null,null,null,null,null,null,null,null,null,""]
["","",null,"",null,null,null,null,null,null,null,null,null,null,null,null,null,null,null,null,null,null,null,null,""]
["","",null,"",null,null,null,null,null,null,null,null,null,null,null,null,null,null,null,null,null,null,null,null,""]
["","",null,"",null,null,null,null,null,null,null,null,null,null,null,null,null,null,null,null,null,null,null,null,""]
["","",null,"",null,null,null,null,null,null,null,null,null,null,null,null,null,null,null,null,null,null,null,null,""]
["","",null,"",null,null,null,null,null,null,null,null,null,null,null,null,null,null,null,null,null,null,null,null,""]
["","",null,"",null,null,null,null,null,null,null,null,null,null,null,null,null,null,null,null,null,null,null,null,""]
["","",null,"",null,null,null,null,null,null,null,null,null,null,null,null,null,null,null,null,null,null,null,null,""]
["","",null,"",null,null,null,null,null,null,null,null,null,null,null,null,null,null,null,null,null,null,null,null,""]
["","",null,"",null,null,null,null,null,null,null,null,null,null,null,null,null,null,null,null,null,null,null,null,""]
["","",null,"",null,null,null,null,null,null,null,null,null,null,null,null,null,null,null,null,null,null,null,null,""]
["","",null,"",null,null,null,null,null,null,null,null,null,null,null,null,null,null,null,null,null,null,null,null,""]
["","",null,"",null,null,null,null,null,null,null,null,null,null,null,null,null,null,null,null,null,null,null,null,""]
["","",null,"",null,null,null,null,null,null,null,null,null,null,null,null,null,null,null,null,null,null,null,null,""]
["","",null,"",null,null,null,null,null,null,null,null,null,null,null,null,null,null,null,null,null,null,null,null,""]
["","",null,"",null,null,null,null,null,null,null,null,null,null,null,null,null,null,null,null,null,null,null,null,""]
["","",null,"",null,null,null,null,null,null,null,null,null,null,null,null,null,null,null,null,null,null,null,null,""]
["","",null,"",null,null,null,null,null,null,null,null,null,null,null,null,null,null,null,null,null,null,null,null,""]
["","",null,"",null,null,null,null,null,null,null,null,null,null,null,null,null,null,null,null,null,null,null,null,""]
["","",null,"",null,null,null,null,null,null,null,null,null,null,null,null,null,null,null,null,null,null,null,null,""]
["","",null,"",null,null,null,null,null,null,null,null,null,null,null,null,null,null,null,null,null,null,null,null,""]
["","",null,"",null,null,null,null,null,null,null,null,null,null,null,null,null,null,null,null,null,null,null,null,""]
["","",null,"",null,null,null,null,null,null,null,null,null,null,null,null,null,null,null,null,null,null,null,null,""]
["","",null,"",null,null,null,null,null,null,null,null,null,null,null,null,null,null,null,null,null,null,null,null,""]
["","",null,"",null,null,null,null,null,null,null,null,null,null,null,null,null,null,null,null,null,null,null,null,""]
["","",null,"",null,null,null,null,null,null,null,null,null,null,null,null,null,null,null,null,null,null,null,null,""]
["","",null,"",null,null,null,null,null,null,null,null,null,null,null,null,null,null,null,null,null,null,null,null,""]
["","",null,"",null,null,null,null,null,null,null,null,null,null,null,null,null,null,null,null,null,null,null,null,""]
["","",null,"",null,null,null,null,null,null,null,null,null,null,null,null,null,null,null,null,null,null,null,null,""]
["","",null,"",null,null,null,null,null,null,null,null,null,null,null,null,null,null,null,null,null,null,null,null,""]
["","",null,"",null,null,null,null,null,null,null,null,null,null,null,null,null,null,null,null,null,null,null,null,""]
["","",null,"",null,null,null,null,null,null,null,null,null,null,null,null,null,null,null,null,null,null,null,null,""]
["","",null,"",null,null,null,null,null,null,null,null,null,null,null,null,null,null,null,null,null,null,null,null,""]
["","",null,"",null,null,null,null,null,null,null,null,null,null,null,null,null,null,null,null,null,null,null,null,""]
["","",null,"",null,null,null,null,null,null,null,null,null,null,null,null,null,null,null,null,null,null,null,null,""]
["","",null,"",null,null,null,null,null,null,null,null,null,null,null,null,null,null,null,null,null,null,null,null,""]
["","",null,"",null,null,null,null,null,null,null,null,null,null,null,null,null,null,null,null,null,null,null,null,""]
["","",null,"",null,null,null,null,null,null,null,null,null,null,null,null,null,null,null,null,null,null,null,null,""]
["","",null,"",null,null,null,null,null,null,null,null,null,null,null,null,null,null,null,null,null,null,null,null,""]
["","",null,"",null,null,null,null,null,null,null,null,null,null,null,null,null,null,null,null,null,null,null,null,""]
["","",null,"",null,null,null,null,null,null,null,null,null,null,null,null,null,null,null,null,null,null,null,null,""]
["","",null,"",null,null,null,null,null,null,null,null,null,null,null,null,null,null,null,null,null,null,null,null,""]
["","",null,"",null,null,null,null,null,null,null,null,null,null,null,null,null,null,null,null,null,null,null,null,""]
["","",null,"",null,null,null,null,null,null,null,null,null,null,null,null,null,null,null,null,null,null,null,null,""]
["","",null,"",null,null,null,null,null,null,null,null,null,null,null,null,null,null,null,null,null,null,null,null,""]
["","",null,"",null,null,null,null,null,null,null,null,null,null,null,null,null,null,null,null,null,null,null,null,""]
["","",null,"",null,null,null,null,null,null,null,null,null,null,null,null,null,null,null,null,null,null,null,null,""]
["","",null,"",null,null,null,null,null,null,null,null,null,null,null,null,null,null,null,null,null,null,null,null,""]
["","",null,"",null,null,null,null,null,null,null,null,null,null,null,null,null,null,null,null,null,null,null,null,""]
["","",null,"",null,null,null,null,null,null,null,null,null,null,null,null,null,null,null,null,null,null,null,null,""]
["","",null,"",null,null,null,null,null,null,null,null,null,null,null,null,null,null,null,null,null,null,null,null,""]
["","",null,"",null,null,null,null,null,null,null,null,null,null,null,null,null,null,null,null,null,null,null,null,""]
["","",null,"",null,null,null,null,null,null,null,null,null,null,null,null,null,null,null,null,null,null,null,null,""]
["","",null,"",null,null,null,null,null,null,null,null,null,null,null,null,null,null,null,null,null,null,null,null,""]
["","",null,"",null,null,null,null,null,null,null,null,null,null,null,null,null,null,null,null,null,null,null,null,""]
["","",null,"",null,null,null,null,null,null,null,null,null,null,null,null,null,null,null,null,null,null,null,null,""]
["","",null,"",null,null,null,null,null,null,null,null,null,null,null,null,null,null,null,null,null,null,null,null,""]
["","",null,"",null,null,null,null,null,null,null,null,null,null,null,null,null,null,null,null,null,null,null,null,""]
["","",null,"",null,null,null,null,null,null,null,null,null,null,null,null,null,null,null,null,null,null,null,null,""]
["","",null,"",null,null,null,null,null,null,null,null,null,null,null,null,null,null,null,null,null,null,null,null,""]
["","",null,"",null,null,null,null,null,null,null,null,null,null,null,null,null,null,null,null,null,null,null,null,""]
["","",null,"",null,null,null,null,null,null,null,null,null,null,null,null,null,null,null,null,null,null,null,null,""]
["","",null,"",null,null,null,null,null,null,null,null,null,null,null,null,null,null,null,null,null,null,null,null,""]
["","",null,"",null,null,null,null,null,null,null,null,null,null,null,null,null,null,null,null,null,null,null,null,""]
["","",null,"",null,null,null,null,null,null,null,null,null,null,null,null,null,null,null,null,null,null,null,null,""]
["","",null,"",null,null,null,null,null,null,null,null,null,null,null,null,null,null,null,null,null,null,null,null,""]
["","",null,"",null,null,null,null,null,null,null,null,null,null,null,null,null,null,null,null,null,null,null,null,""]
["","",null,"",null,null,null,null,null,null,null,null,null,null,null,null,null,null,null,null,null,null,null,null,""]
["","",null,"",null,null,null,null,null,null,null,null,null,null,null,null,null,null,null,null,null,null,null,null,""]
["","",null,"",null,null,null,null,null,null,null,null,null,null,null,null,null,null,null,null,null,null,null,null,""]
["","",null,"",null,null,null,null,null,null,null,null,null,null,null,null,null,null,null,null,null,null,null,null,""]
["","",null,"",null,null,null,null,null,null,null,null,null,null,null,null,null,null,null,null,null,null,null,null,""]
["","",null,"",null,null,null,null,null,null,null,null,null,null,null,null,null,null,null,null,null,null,null,null,""]
["","",null,"",null,null,null,null,null,null,null,null,null,null,null,null,null,null,null,null,null,null,null,null,""]
["","",null,"",null,null,null,null,null,null,null,null,null,null,null,null,null,null,null,null,null,null,null,null,""]
["","",null,"",null,null,null,null,null,null,null,null,null,null,null,null,null,null,null,null,null,null,null,null,""]
["","",null,"",null,null,null,null,null,null,null,null,null,null,null,null,null,null,null,null,null,null,null,null,""]
["","",null,"",null,null,null,null,null,null,null,null,null,null,null,null,null,null,null,null,null,null,null,null,""]
["","",null,"",null,null,null,null,null,null,null,null,null,null,null,null,null,null,null,null,null,null,null,null,""]
["","",null,"",null,null,null,null,null,null,null,null,null,null,null,null,null,null,null,null,null,null,null,null,""]
["","",null,"",null,null,null,null,null,null,null,null,null,null,null,null,null,null,null,null,null,null,null,null,""]
["","",null,"",null,null,null,null,null,null,null,null,null,null,null,null,null,null,null,null,null,null,null,null,""]
["","",null,"",null,null,null,null,null,null,null,null,null,null,null,null,null,null,null,null,null,null,null,null,""]
["","",null,"",null,null,null,null,null,null,null,null,null,null,null,null,null,null,null,null,null,null,null,null,""]
["","",null,"",null,null,null,null,null,null,null,null,null,null,null,null,null,null,null,null,null,null,null,null,""]
["","",null,"",null,null,null,null,null,null,null,null,null,null,null,null,null,null,null,null,null,null,null,null,""]
["","",null,"",null,null,null,null,null,null,null,null,null,null,null,null,null,null,null,null,null,null,null,null,""]
["","",null,"",null,null,null,null,null,null,null,null,null,null,null,null,null,null,null,null,null,null,null,null,""]
["","",null,"",null,null,null,null,null,null,null,null,null,null,null,null,null,null,null,null,null,null,null,null,""]
["","",null,"",null,null,null,null,null,null,null,null,null,null,null,null,null,null,null,null,null,null,null,null,""]
["","",null,"",null,null,null,null,null,null,null,null,null,null,null,null,null,null,null,null,null,null,null,null,""]
["","",null,"",null,null,null,null,null,null,null,null,null,null,null,null,null,null,null,null,null,null,null,null,""]
["","",null,"",null,null,null,null,null,null,null,null,null,null,null,null,null,null,null,null,null,null,null,null,""]
["","",null,"",null,null,null,null,null,null,null,null,null,null,null,null,null,null,null,null,null,null,null,null,""]
["","",null,"",null,null,null,null,null,null,null,null,null,null,null,null,null,null,null,null,null,null,null,null,""]
["","",null,"",null,null,null,null,null,null,null,null,null,null,null,null,null,null,null,null,null,null,null,null,""]
["","",null,"",null,null,null,null,null,null,null,null,null,null,null,null,null,null,null,null,null,null,null,null,""]
["","",null,"",null,null,null,null,null,null,null,null,null,null,null,null,null,null,null,null,null,null,null,null,""]
["","",null,"",null,null,null,null,null,null,null,null,null,null,null,null,null,null,null,null,null,null,null,null,""]
["","",null,"",null,null,null,null,null,null,null,null,null,null,null,null,null,null,null,null,null,null,null,null,""]
["","",null,"",null,null,null,null,null,null,null,null,null,null,null,null,null,null,null,null,null,null,null,null,""]
["","",null,"",null,null,null,null,null,null,null,null,null,null,null,null,null,null,null,null,null,null,null,null,""]
["","",null,"",null,null,null,null,null,null,null,null,null,null,null,null,null,null,null,null,null,null,null,null,""]
["","",null,"",null,null,null,null,null,null,null,null,null,null,null,null,null,null,null,null,null,null,null,null,""]
["","",null,"",null,null,null,null,null,null,null,null,null,null,null,null,null,null,null,null,null,null,null,null,""]
["","",null,"",null,null,null,null,null,null,null,null,null,null,null,null,null,null,null,null,null,null,null,null,""]
["","",null,"",null,null,null,null,null,null,null,null,null,null,null,null,null,null,null,null,null,null,null,null,""]
["","",null,"",null,null,null,null,null,null,null,null,null,null,null,null,null,null,null,null,null,null,null,null,""]
["","",null,"",null,null,null,null,null,null,null,null,null,null,null,null,null,null,null,null,null,null,null,null,""]
["","",null,"",null,null,null,null,null,null,null,null,null,null,null,null,null,null,null,null,null,null,null,null,""]
["","",null,"",null,null,null,null,null,null,null,null,null,null,null,null,null,null,null,null,null,null,null,null,""]
["","",null,"",null,null,null,null,null,null,null,null,null,null,null,null,null,null,null,null,null,null,null,null,""]
["","",null,"",null,null,null,null,null,null,null,null,null,null,null,null,null,null,null,null,null,null,null,null,""]
["","",null,"",null,null,null,null,null,null,null,null,null,null,null,null,null,null,null,null,null,null,null,null,""]
["","",null,"",null,null,null,null,null,null,null,null,null,null,null,null,null,null,null,null,null,null,null,null,""]
["","",null,"",null,null,null,null,null,null,null,null,null,null,null,null,null,null,null,null,null,null,null,null,""]
["","",null,"",null,null,null,null,null,null,null,null,null,null,null,null,null,null,null,null,null,null,null,null,""]
["","",null,"",null,null,null,null,null,null,null,null,null,null,null,null,null,null,null,null,null,null,null,null,""]
["","",null,"",null,null,null,null,null,null,null,null,null,null,null,null,null,null,null,null,null,null,null,null,""]
["","",null,"",null,null,null,null,null,null,null,null,null,null,null,null,null,null,null,null,null,null,null,null,""]
["","",null,"",null,null,null,null,null,null,null,null,null,null,null,null,null,null,null,null,null,null,null,null,""]
["","",null,"",null,null,null,null,null,null,null,null,null,null,null,null,null,null,null,null,null,null,null,null,""]
["","",null,"",null,null,null,null,null,null,null,null,null,null,null,null,null,null,null,null,null,null,null,null,""]
["","",null,"",null,null,null,null,null,null,null,null,null,null,null,null,null,null,null,null,null,null,null,null,""]
["","",null,"",null,null,null,null,null,null,null,null,null,null,null,null,null,null,null,null,null,null,null,null,""]
["","",null,"",null,null,null,null,null,null,null,null,null,null,null,null,null,null,null,null,null,null,null,null,""]
["","",null,"",null,null,null,null,null,null,null,null,null,null,null,null,null,null,null,null,null,null,null,null,""]
["","",null,"",null,null,null,null,null,null,null,null,null,null,null,null,null,null,null,null,null,null,null,null,""]
["","",null,"",null,null,null,null,null,null,null,null,null,null,null,null,null,null,null,null,null,null,null,null,""]
["","",null,"",null,null,null,null,null,null,null,null,null,null,null,null,null,null,null,null,null,null,null,null,""]
["","",null,"",null,null,null,null,null,null,null,null,null,null,null,null,null,null,null,null,null,null,null,null,""]
["","",null,"",null,null,null,null,null,null,null,null,null,null,null,null,null,null,null,null,null,null,null,null,""]
["","",null,"",null,null,null,null,null,null,null,null,null,null,null,null,null,null,null,null,null,null,null,null,""]
["","",null,"",null,null,null,null,null,null,null,null,null,null,null,null,null,null,null,null,null,null,null,null,""]
["","",null,"",null,null,null,null,null,null,null,null,null,null,null,null,null,null,null,null,null,null,null,null,""]
["","",null,"",null,null,null,null,null,null,null,null,null,null,null,null,null,null,null,null,null,null,null,null,""]
["","",null,"",null,null,null,null,null,null,null,null,null,null,null,null,null,null,null,null,null,null,null,null,""]
["","",null,"",null,null,null,null,null,null,null,null,null,null,null,null,null,null,null,null,null,null,null,null,""]
["","",null,"",null,null,null,null,null,null,null,null,null,null,null,null,null,null,null,null,null,null,null,null,""]
["","",null,"",null,null,null,null,null,null,null,null,null,null,null,null,null,null,null,null,null,null,null,null,""]
["","",null,"",null,null,null,null,null,null,null,null,null,null,null,null,null,null,null,null,null,null,null,null,""]
["","",null,"",null,null,null,null,null,null,null,null,null,null,null,null,null,null,null,null,null,null,null,null,""]
["","",null,"",null,null,null,null,null,null,null,null,null,null,null,null,null,null,null,null,null,null,null,null,""]
["","",null,"",null,null,null,null,null,null,null,null,null,null,null,null,null,null,null,null,null,null,null,null,""]
["","",null,"",null,null,null,null,null,null,null,null,null,null,null,null,null,null,null,null,null,null,null,null,""]
["","",null,"",null,null,null,null,null,null,null,null,null,null,null,null,null,null,null,null,null,null,null,null,""]
["","",null,"",null,null,null,null,null,null,null,null,null,null,null,null,null,null,null,null,null,null,null,null,""]
["","",null,"",null,null,null,null,null,null,null,null,null,null,null,null,null,null,null,null,null,null,null,null,""]
["","",null,"",null,null,null,null,null,null,null,null,null,null,null,null,null,null,null,null,null,null,null,null,""]
["","",null,"",null,null,null,null,null,null,null,null,null,null,null,null,null,null,null,null,null,null,null,null,""]
["","",null,"",null,null,null,null,null,null,null,null,null,null,null,null,null,null,null,null,null,null,null,null,""]
["","",null,"",null,null,null,null,null,null,null,null,null,null,null,null,null,null,null,null,null,null,null,null,""]
["","",null,"",null,null,null,null,null,null,null,null,null,null,null,null,null,null,null,null,null,null,null,null,""]
["","",null,"",null,null,null,null,null,null,null,null,null,null,null,null,null,null,null,null,null,null,null,null,""]
["","",null,"",null,null,null,null,null,null,null,null,null,null,null,null,null,null,null,null,null,null,null,null,""]
["","",null,"",null,null,null,null,null,null,null,null,null,null,null,null,null,null,null,null,null,null,null,null,""]
["","",null,"",null,null,null,null,null,null,null,null,null,null,null,null,null,null,null,null,null,null,null,null,""]
["","",null,"",null,null,null,null,null,null,null,null,null,null,null,null,null,null,null,null,null,null,null,null,""]
["","",null,"",null,null,null,null,null,null,null,null,null,null,null,null,null,null,null,null,null,null,null,null,""]
["","",null,"",null,null,null,null,null,null,null,null,null,null,null,null,null,null,null,null,null,null,null,null,""]
["","",null,"",null,null,null,null,null,null,null,null,null,null,null,null,null,null,null,null,null,null,null,null,""]
["","",null,"",null,null,null,null,null,null,null,null,null,null,null,null,null,null,null,null,null,null,null,null,""]
["","",null,"",null,null,null,null,null,null,null,null,null,null,null,null,null,null,null,null,null,null,null,null,""]
["","",null,"",null,null,null,null,null,null,null,null,null,null,null,null,null,null,null,null,null,null,null,null,""]
["","",null,"",null,null,null,null,null,null,null,null,null,null,null,null,null,null,null,null,null,null,null,null,""]
["","",null,"",null,null,null,null,null,null,null,null,null,null,null,null,null,null,null,null,null,null,null,null,""]
["","",null,"",null,null,null,null,null,null,null,null,null,null,null,null,null,null,null,null,null,null,null,null,""]
["","",null,"",null,null,null,null,null,null,null,null,null,null,null,null,null,null,null,null,null,null,null,null,""]
["","",null,"",null,null,null,null,null,null,null,null,null,null,null,null,null,null,null,null,null,null,null,null,""]
["","",null,"",null,null,null,null,null,null,null,null,null,null,null,null,null,null,null,null,null,null,null,null,""]
["","",null,"",null,null,null,null,null,null,null,null,null,null,null,null,null,null,null,null,null,null,null,null,""]
["","",null,"",null,null,null,null,null,null,null,null,null,null,null,null,null,null,null,null,null,null,null,null,""]
["","",null,"",null,null,null,null,null,null,null,null,null,null,null,null,null,null,null,null,null,null,null,null,""]
["","",null,"",null,null,null,null,null,null,null,null,null,null,null,null,null,null,null,null,null,null,null,null,""]
["","",null,"",null,null,null,null,null,null,null,null,null,null,null,null,null,null,null,null,null,null,null,null,""]
["","",null,"",null,null,null,null,null,null,null,null,null,null,null,null,null,null,null,null,null,null,null,null,""]
["","",null,"",null,null,null,null,null,null,null,null,null,null,null,null,null,null,null,null,null,null,null,null,""]
["","",null,"",null,null,null,null,null,null,null,null,null,null,null,null,null,null,null,null,null,null,null,null,""]
["","",null,"",null,null,null,null,null,null,null,null,null,null,null,null,null,null,null,null,null,null,null,null,""]
["","",null,"",null,null,null,null,null,null,null,null,null,null,null,null,null,null,null,null,null,null,null,null,""]
["","",null,"",null,null,null,null,null,null,null,null,null,null,null,null,null,null,null,null,null,null,null,null,""]
["","",null,"",null,null,null,null,null,null,null,null,null,null,null,null,null,null,null,null,null,null,null,null,""]
["","",null,"",null,null,null,null,null,null,null,null,null,null,null,null,null,null,null,null,null,null,null,null,""]
["","",null,"",null,null,null,null,null,null,null,null,null,null,null,null,null,null,null,null,null,null,null,null,""]
["","",null,"",null,null,null,null,null,null,null,null,null,null,null,null,null,null,null,null,null,null,null,null,""]
["","",null,"",null,null,null,null,null,null,null,null,null,null,null,null,null,null,null,null,null,null,null,null,""]
["","",null,"",null,null,null,null,null,null,null,null,null,null,null,null,null,null,null,null,null,null,null,null,""]
["","",null,"",null,null,null,null,null,null,null,null,null,null,null,null,null,null,null,null,null,null,null,null,""]
["","",null,"",null,null,null,null,null,null,null,null,null,null,null,null,null,null,null,null,null,null,null,null,""]
["","",null,"",null,null,null,null,null,null,null,null,null,null,null,null,null,null,null,null,null,null,null,null,""]
["","",null,"",null,null,null,null,null,null,null,null,null,null,null,null,null,null,null,null,null,null,null,null,""]
["","",null,"",null,null,null,null,null,null,null,null,null,null,null,null,null,null,null,null,null,null,null,null,""]
["","",null,"",null,null,null,null,null,null,null,null,null,null,null,null,null,null,null,null,null,null,null,null,""]
["","",null,"",null,null,null,null,null,null,null,null,null,null,null,null,null,null,null,null,null,null,null,null,""]
["","",null,"",null,null,null,null,null,null,null,null,null,null,null,null,null,null,null,null,null,null,null,null,""]
["","",null,"",null,null,null,null,null,null,null,null,null,null,null,null,null,null,null,null,null,null,null,null,""]
["","",null,"",null,null,null,null,null,null,null,null,null,null,null,null,null,null,null,null,null,null,null,null,""]
["","",null,"",null,null,null,null,null,null,null,null,null,null,null,null,null,null,null,null,null,null,null,null,""]
["","",null,"",null,null,null,null,null,null,null,null,null,null,null,null,null,null,null,null,null,null,null,null,""]
["","",null,"",null,null,null,null,null,null,null,null,null,null,null,null,null,null,null,null,null,null,null,null,""]
["","",null,"",null,null,null,null,null,null,null,null,null,null,null,null,null,null,null,null,null,null,null,null,""]
["","",null,"",null,null,null,null,null,null,null,null,null,null,null,null,null,null,null,null,null,null,null,null,""]
["","",null,"",null,null,null,null,null,null,null,null,null,null,null,null,null,null,null,null,null,null,null,null,""]
["","",null,"",null,null,null,null,null,null,null,null,null,null,null,null,null,null,null,null,null,null,null,null,""]
["","",null,"",null,null,null,null,null,null,null,null,null,null,null,null,null,null,null,null,null,null,null,null,""]
["","",null,"",null,null,null,null,null,null,null,null,null,null,null,null,null,null,null,null,null,null,null,null,""]
["","",null,"",null,null,null,null,null,null,null,null,null,null,null,null,null,null,null,null,null,null,null,null,""]
["","",null,"",null,null,null,null,null,null,null,null,null,null,null,null,null,null,null,null,null,null,null,null,""]
["","",null,"",null,null,null,null,null,null,null,null,null,null,null,null,null,null,null,null,null,null,null,null,""]
["","",null,"",null,null,null,null,null,null,null,null,null,null,null,null,null,null,null,null,null,null,null,null,""]
["","",null,"",null,null,null,null,null,null,null,null,null,null,null,null,null,null,null,null,null,null,null,null,""]
["","",null,"",null,null,null,null,null,null,null,null,null,null,null,null,null,null,null,null,null,null,null,null,""]
["","",null,"",null,null,null,null,null,null,null,null,null,null,null,null,null,null,null,null,null,null,null,null,""]
["","",null,"",null,null,null,null,null,null,null,null,null,null,null,null,null,null,null,null,null,null,null,null,""]
["","",null,"",null,null,null,null,null,null,null,null,null,null,null,null,null,null,null,null,null,null,null,null,""]
["","",null,"",null,null,null,null,null,null,null,null,null,null,null,null,null,null,null,null,null,null,null,null,""]
["","",null,"",null,null,null,null,null,null,null,null,null,null,null,null,null,null,null,null,null,null,null,null,""]
["","",null,"",null,null,null,null,null,null,null,null,null,null,null,null,null,null,null,null,null,null,null,null,""]
["","",null,"",null,null,null,null,null,null,null,null,null,null,null,null,null,null,null,null,null,null,null,null,""]
["","",null,"",null,null,null,null,null,null,null,null,null,null,null,null,null,null,null,null,null,null,null,null,""]
["","",null,"",null,null,null,null,null,null,null,null,null,null,null,null,null,null,null,null,null,null,null,null,""]
["","",null,"",null,null,null,null,null,null,null,null,null,null,null,null,null,null,null,null,null,null,null,null,""]
["","",null,"",null,null,null,null,null,null,null,null,null,null,null,null,null,null,null,null,null,null,null,null,""]
["","",null,"",null,null,null,null,null,null,null,null,null,null,null,null,null,null,null,null,null,null,null,null,""]
["","",null,"",null,null,null,null,null,null,null,null,null,null,null,null,null,null,null,null,null,null,null,null,""]
["","",null,"",null,null,null,null,null,null,null,null,null,null,null,null,null,null,null,null,null,null,null,null,""]
["","",null,"",null,null,null,null,null,null,null,null,null,null,null,null,null,null,null,null,null,null,null,null,""]
["","",null,"",null,null,null,null,null,null,null,null,null,null,null,null,null,null,null,null,null,null,null,null,""]
["","",null,"",null,null,null,null,null,null,null,null,null,null,null,null,null,null,null,null,null,null,null,null,""]
["","",null,"",null,null,null,null,null,null,null,null,null,null,null,null,null,null,null,null,null,null,null,null,""]
["","",null,"",null,null,null,null,null,null,null,null,null,null,null,null,null,null,null,null,null,null,null,null,""]
["","",null,"",null,null,null,null,null,null,null,null,null,null,null,null,null,null,null,null,null,null,null,null,""]
["","",null,"",null,null,null,null,null,null,null,null,null,null,null,null,null,null,null,null,null,null,null,null,""]
["","",null,"",null,null,null,null,null,null,null,null,null,null,null,null,null,null,null,null,null,null,null,null,""]
["","",null,"",null,null,null,null,null,null,null,null,null,null,null,null,null,null,null,null,null,null,null,null,""]
["","",null,"",null,null,null,null,null,null,null,null,null,null,null,null,null,null,null,null,null,null,null,null,""]
["","",null,"",null,null,null,null,null,null,null,null,null,null,null,null,null,null,null,null,null,null,null,null,""]
["","",null,"",null,null,null,null,null,null,null,null,null,null,null,null,null,null,null,null,null,null,null,null,""]
["","",null,"",null,null,null,null,null,null,null,null,null,null,null,null,null,null,null,null,null,null,null,null,""]
["","",null,"",null,null,null,null,null,null,null,null,null,null,null,null,null,null,null,null,null,null,null,null,""]
["","",null,"",null,null,null,null,null,null,null,null,null,null,null,null,null,null,null,null,null,null,null,null,""]
["","",null,"",null,null,null,null,null,null,null,null,null,null,null,null,null,null,null,null,null,null,null,null,""]
["","",null,"",null,null,null,null,null,null,null,null,null,null,null,null,null,null,null,null,null,null,null,null,""]
["","",null,"",null,null,null,null,null,null,null,null,null,null,null,null,null,null,null,null,null,null,null,null,""]
["","",null,"",null,null,null,null,null,null,null,null,null,null,null,null,null,null,null,null,null,null,null,null,""]
["","",null,"",null,null,null,null,null,null,null,null,null,null,null,null,null,null,null,null,null,null,null,null,""]
["","",null,"",null,null,null,null,null,null,null,null,null,null,null,null,null,null,null,null,null,null,null,null,""]
["","",null,"",null,null,null,null,null,null,null,null,null,null,null,null,null,null,null,null,null,null,null,null,""]
["","",null,"",null,null,null,null,null,null,null,null,null,null,null,null,null,null,null,null,null,null,null,null,""]
["","",null,"",null,null,null,null,null,null,null,null,null,null,null,null,null,null,null,null,null,null,null,null,""]
["","",null,"",null,null,null,null,null,null,null,null,null,null,null,null,null,null,null,null,null,null,null,null,""]
["","",null,"",null,null,null,null,null,null,null,null,null,null,null,null,null,null,null,null,null,null,null,null,""]
["","",null,"",null,null,null,null,null,null,null,null,null,null,null,null,null,null,null,null,null,null,null,null,""]
["","",null,"",null,null,null,null,null,null,null,null,null,null,null,null,null,null,null,null,null,null,null,null,""]
["","",null,"",null,null,null,null,null,null,null,null,null,null,null,null,null,null,null,null,null,null,null,null,""]
["","",null,"",null,null,null,null,null,null,null,null,null,null,null,null,null,null,null,null,null,null,null,null,""]
["","",null,"",null,null,null,null,null,null,null,null,null,null,null,null,null,null,null,null,null,null,null,null,""]
["","",null,"",null,null,null,null,null,null,null,null,null,null,null,null,null,null,null,null,null,null,null,null,""]
["","",null,"",null,null,null,null,null,null,null,null,null,null,null,null,null,null,null,null,null,null,null,null,""]
["","",null,"",null,null,null,null,null,null,null,null,null,null,null,null,null,null,null,null,null,null,null,null,""]
["","",null,"",null,null,null,null,null,null,null,null,null,null,null,null,null,null,null,null,null,null,null,null,""]
["","",null,"",null,null,null,null,null,null,null,null,null,null,null,null,null,null,null,null,null,null,null,null,""]
["","",null,"",null,null,null,null,null,null,null,null,null,null,null,null,null,null,null,null,null,null,null,null,""]
["","",null,"",null,null,null,null,null,null,null,null,null,null,null,null,null,null,null,null,null,null,null,null,""]
["","",null,"",null,null,null,null,null,null,null,null,null,null,null,null,null,null,null,null,null,null,null,null,""]
["","",null,"",null,null,null,null,null,null,null,null,null,null,null,null,null,null,null,null,null,null,null,null,""]
["","",null,"",null,null,null,null,null,null,null,null,null,null,null,null,null,null,null,null,null,null,null,null,""]
["","",null,"",null,null,null,null,null,null,null,null,null,null,null,null,null,null,null,null,null,null,null,null,""]
["","",null,"",null,null,null,null,null,null,null,null,null,null,null,null,null,null,null,null,null,null,null,null,""]
["","",null,"",null,null,null,null,null,null,null,null,null,null,null,null,null,null,null,null,null,null,null,null,""]
["","",null,"",null,null,null,null,null,null,null,null,null,null,null,null,null,null,null,null,null,null,null,null,""]
["","",null,"",null,null,null,null,null,null,null,null,null,null,null,null,null,null,null,null,null,null,null,null,""]
["","",null,"",null,null,null,null,null,null,null,null,null,null,null,null,null,null,null,null,null,null,null,null,""]
["","",null,"",null,null,null,null,null,null,null,null,null,null,null,null,null,null,null,null,null,null,null,null,""]
["","",null,"",null,null,null,null,null,null,null,null,null,null,null,null,null,null,null,null,null,null,null,null,""]
["","",null,"",null,null,null,null,null,null,null,null,null,null,null,null,null,null,null,null,null,null,null,null,""]
["","",null,"",null,null,null,null,null,null,null,null,null,null,null,null,null,null,null,null,null,null,null,null,""]
["","",null,"",null,null,null,null,null,null,null,null,null,null,null,null,null,null,null,null,null,null,null,null,""]
["","",null,"",null,null,null,null,null,null,null,null,null,null,null,null,null,null,null,null,null,null,null,null,""]
["","",null,"",null,null,null,null,null,null,null,null,null,null,null,null,null,null,null,null,null,null,null,null,""]
["","",null,"",null,null,null,null,null,null,null,null,null,null,null,null,null,null,null,null,null,null,null,null,""]
["","",null,"",null,null,null,null,null,null,null,null,null,null,null,null,null,null,null,null,null,null,null,null,""]
["","",null,"",null,null,null,null,null,null,null,null,null,null,null,null,null,null,null,null,null,null,null,null,""]
["","",null,"",null,null,null,null,null,null,null,null,null,null,null,null,null,null,null,null,null,null,null,null,""]
["","",null,"",null,null,null,null,null,null,null,null,null,null,null,null,null,null,null,null,null,null,null,null,""]
["","",null,"",null,null,null,null,null,null,null,null,null,null,null,null,null,null,null,null,null,null,null,null,""]
["","",null,"",null,null,null,null,null,null,null,null,null,null,null,null,null,null,null,null,null,null,null,null,""]
["","",null,"",null,null,null,null,null,null,null,null,null,null,null,null,null,null,null,null,null,null,null,null,""]
["","",null,"",null,null,null,null,null,null,null,null,null,null,null,null,null,null,null,null,null,null,null,null,""]
["","",null,"",null,null,null,null,null,null,null,null,null,null,null,null,null,null,null,null,null,null,null,null,""]
["","",null,"",null,null,null,null,null,null,null,null,null,null,null,null,null,null,null,null,null,null,null,null,""]
["","",null,"",null,null,null,null,null,null,null,null,null,null,null,null,null,null,null,null,null,null,null,null,""]
["","",null,"",null,null,null,null,null,null,null,null,null,null,null,null,null,null,null,null,null,null,null,null,""]
["","",null,"",null,null,null,null,null,null,null,null,null,null,null,null,null,null,null,null,null,null,null,null,""]
["","",null,"",null,null,null,null,null,null,null,null,null,null,null,null,null,null,null,null,null,null,null,null,""]
["","",null,"",null,null,null,null,null,null,null,null,null,null,null,null,null,null,null,null,null,null,null,null,""]
["","",null,"",null,null,null,null,null,null,null,null,null,null,null,null,null,null,null,null,null,null,null,null,""]
["","",null,"",null,null,null,null,null,null,null,null,null,null,null,null,null,null,null,null,null,null,null,null,""]
["","",null,"",null,null,null,null,null,null,null,null,null,null,null,null,null,null,null,null,null,null,null,null,""]
["","",null,"",null,null,null,null,null,null,null,null,null,null,null,null,null,null,null,null,null,null,null,null,""]
["","",null,"",null,null,null,null,null,null,null,null,null,null,null,null,null,null,null,null,null,null,null,null,""]
["","",null,"",null,null,null,null,null,null,null,null,null,null,null,null,null,null,null,null,null,null,null,null,""]
["","",null,"",null,null,null,null,null,null,null,null,null,null,null,null,null,null,null,null,null,null,null,null,""]
["","",null,"",null,null,null,null,null,null,null,null,null,null,null,null,null,null,null,null,null,null,null,null,""]
["","",null,"",null,null,null,null,null,null,null,null,null,null,null,null,null,null,null,null,null,null,null,null,""]
["","",null,"",null,null,null,null,null,null,null,null,null,null,null,null,null,null,null,null,null,null,null,null,""]
["","",null,"",null,null,null,null,null,null,null,null,null,null,null,null,null,null,null,null,null,null,null,null,""]
["","",null,"",null,null,null,null,null,null,null,null,null,null,null,null,null,null,null,null,null,null,null,null,""]
["","",null,"",null,null,null,null,null,null,null,null,null,null,null,null,null,null,null,null,null,null,null,null,""]
["","",null,"",null,null,null,null,null,null,null,null,null,null,null,null,null,null,null,null,null,null,null,null,""]
["","",null,"",null,null,null,null,null,null,null,null,null,null,null,null,null,null,null,null,null,null,null,null,""]
["","",null,"",null,null,null,null,null,null,null,null,null,null,null,null,null,null,null,null,null,null,null,null,""]
["","",null,"",null,null,null,null,null,null,null,null,null,null,null,null,null,null,null,null,null,null,null,null,""]
["","",null,"",null,null,null,null,null,null,null,null,null,null,null,null,null,null,null,null,null,null,null,null,""]
["","",null,"",null,null,null,null,null,null,null,null,null,null,null,null,null,null,null,null,null,null,null,null,""]
["","",null,"",null,null,null,null,null,null,null,null,null,null,null,null,null,null,null,null,null,null,null,null,""]
["","",null,"",null,null,null,null,null,null,null,null,null,null,null,null,null,null,null,null,null,null,null,null,""]
["","",null,"",null,null,null,null,null,null,null,null,null,null,null,null,null,null,null,null,null,null,null,null,""]
["","",null,"",null,null,null,null,null,null,null,null,null,null,null,null,null,null,null,null,null,null,null,null,""]
["","",null,"",null,null,null,null,null,null,null,null,null,null,null,null,null,null,null,null,null,null,null,null,""]
["","",null,"",null,null,null,null,null,null,null,null,null,null,null,null,null,null,null,null,null,null,null,null,""]
["","",null,"",null,null,null,null,null,null,null,null,null,null,null,null,null,null,null,null,null,null,null,null,""]
["","",null,"",null,null,null,null,null,null,null,null,null,null,null,null,null,null,null,null,null,null,null,null,""]
["","",null,"",null,null,null,null,null,null,null,null,null,null,null,null,null,null,null,null,null,null,null,null,""]
["","",null,"",null,null,null,null,null,null,null,null,null,null,null,null,null,null,null,null,null,null,null,null,""]
["","",null,"",null,null,null,null,null,null,null,null,null,null,null,null,null,null,null,null,null,null,null,null,""]
["","",null,"",null,null,null,null,null,null,null,null,null,null,null,null,null,null,null,null,null,null,null,null,""]
["","",null,"",null,null,null,null,null,null,null,null,null,null,null,null,null,null,null,null,null,null,null,null,""]
["","",null,"",null,null,null,null,null,null,null,null,null,null,null,null,null,null,null,null,null,null,null,null,""]
["","",null,"",null,null,null,null,null,null,null,null,null,null,null,null,null,null,null,null,null,null,null,null,""]
["","",null,"",null,null,null,null,null,null,null,null,null,null,null,null,null,null,null,null,null,null,null,null,""]
["","",null,"",null,null,null,null,null,null,null,null,null,null,null,null,null,null,null,null,null,null,null,null,""]
["","",null,"",null,null,null,null,null,null,null,null,null,null,null,null,null,null,null,null,null,null,null,null,""]
["","",null,"",null,null,null,null,null,null,null,null,null,null,null,null,null,null,null,null,null,null,null,null,""]
["","",null,"",null,null,null,null,null,null,null,null,null,null,null,null,null,null,null,null,null,null,null,null,""]
["","",null,"",null,null,null,null,null,null,null,null,null,null,null,null,null,null,null,null,null,null,null,null,""]
["","",null,"",null,null,null,null,null,null,null,null,null,null,null,null,null,null,null,null,null,null,null,null,""]
["","",null,"",null,null,null,null,null,null,null,null,null,null,null,null,null,null,null,null,null,null,null,null,""]
["","",null,"",null,null,null,null,null,null,null,null,null,null,null,null,null,null,null,null,null,null,null,null,""]
["","",null,"",null,null,null,null,null,null,null,null,null,null,null,null,null,null,null,null,null,null,null,null,""]
["","",null,"",null,null,null,null,null,null,null,null,null,null,null,null,null,null,null,null,null,null,null,null,""]
["","",null,"",null,null,null,null,null,null,null,null,null,null,null,null,null,null,null,null,null,null,null,null,""]
["","",null,"",null,null,null,null,null,null,null,null,null,null,null,null,null,null,null,null,null,null,null,null,""]
["","",null,"",null,null,null,null,null,null,null,null,null,null,null,null,null,null,null,null,null,null,null,null,""]
["","",null,"",null,null,null,null,null,null,null,null,null,null,null,null,null,null,null,null,null,null,null,null,""]
["","",null,"",null,null,null,null,null,null,null,null,null,null,null,null,null,null,null,null,null,null,null,null,""]
["","",null,"",null,null,null,null,null,null,null,null,null,null,null,null,null,null,null,null,null,null,null,null,""]
["","",null,"",null,null,null,null,null,null,null,null,null,null,null,null,null,null,null,null,null,null,null,null,""]
["","",null,"",null,null,null,null,null,null,null,null,null,null,null,null,null,null,null,null,null,null,null,null,""]
["","",null,"",null,null,null,null,null,null,null,null,null,null,null,null,null,null,null,null,null,null,null,null,""]
["","",null,"",null,null,null,null,null,null,null,null,null,null,null,null,null,null,null,null,null,null,null,null,""]
["","",null,"",null,null,null,null,null,null,null,null,null,null,null,null,null,null,null,null,null,null,null,null,""]
["","",null,"",null,null,null,null,null,null,null,null,null,null,null,null,null,null,null,null,null,null,null,null,""]
["","",null,"",null,null,null,null,null,null,null,null,null,null,null,null,null,null,null,null,null,null,null,null,""]
["","",null,"",null,null,null,null,null,null,null,null,null,null,null,null,null,null,null,null,null,null,null,null,""]
["","",null,"",null,null,null,null,null,null,null,null,null,null,null,null,null,null,null,null,null,null,null,null,""]
["","",null,"",null,null,null,null,null,null,null,null,null,null,null,null,null,null,null,null,null,null,null,null,""]
["","",null,"",null,null,null,null,null,null,null,null,null,null,null,null,null,null,null,null,null,null,null,null,""]
["","",null,"",null,null,null,null,null,null,null,null,null,null,null,null,null,null,null,null,null,null,null,null,""]
["","",null,"",null,null,null,null,null,null,null,null,null,null,null,null,null,null,null,null,null,null,null,null,""]
["","",null,"",null,null,null,null,null,null,null,null,null,null,null,null,null,null,null,null,null,null,null,null,""]
["","",null,"",null,null,null,null,null,null,null,null,null,null,null,null,null,null,null,null,null,null,null,null,""]
["","",null,"",null,null,null,null,null,null,null,null,null,null,null,null,null,null,null,null,null,null,null,null,""]
["","",null,"",null,null,null,null,null,null,null,null,null,null,null,null,null,null,null,null,null,null,null,null,""]
["","",null,"",null,null,null,null,null,null,null,null,null,null,null,null,null,null,null,null,null,null,null,null,""]
["","",null,"",null,null,null,null,null,null,null,null,null,null,null,null,null,null,null,null,null,null,null,null,""]
["","",null,"",null,null,null,null,null,null,null,null,null,null,null,null,null,null,null,null,null,null,null,null,""]
["","",null,"",null,null,null,null,null,null,null,null,null,null,null,null,null,null,null,null,null,null,null,null,""]
["","",null,"",null,null,null,null,null,null,null,null,null,null,null,null,null,null,null,null,null,null,null,null,""]
["","",null,"",null,null,null,null,null,null,null,null,null,null,null,null,null,null,null,null,null,null,null,null,""]
["","",null,"",null,null,null,null,null,null,null,null,null,null,null,null,null,null,null,null,null,null,null,null,""]
["","",null,"",null,null,null,null,null,null,null,null,null,null,null,null,null,null,null,null,null,null,null,null,""]
["","",null,"",null,null,null,null,null,null,null,null,null,null,null,null,null,null,null,null,null,null,null,null,""]
["","",null,"",null,null,null,null,null,null,null,null,null,null,null,null,null,null,null,null,null,null,null,null,""]
["","",null,"",null,null,null,null,null,null,null,null,null,null,null,null,null,null,null,null,null,null,null,null,""]
["","",null,"",null,null,null,null,null,null,null,null,null,null,null,null,null,null,null,null,null,null,null,null,""]
["","",null,"",null,null,null,null,null,null,null,null,null,null,null,null,null,null,null,null,null,null,null,null,""]
["","",null,"",null,null,null,null,null,null,null,null,null,null,null,null,null,null,null,null,null,null,null,null,""]
["","",null,"",null,null,null,null,null,null,null,null,null,null,null,null,null,null,null,null,null,null,null,null,""]
["","",null,"",null,null,null,null,null,null,null,null,null,null,null,null,null,null,null,null,null,null,null,null,""]
["","",null,"",null,null,null,null,null,null,null,null,null,null,null,null,null,null,null,null,null,null,null,null,""]
["","",null,"",null,null,null,null,null,null,null,null,null,null,null,null,null,null,null,null,null,null,null,null,""]
["","",null,"",null,null,null,null,null,null,null,null,null,null,null,null,null,null,null,null,null,null,null,null,""]
["","",null,"",null,null,null,null,null,null,null,null,null,null,null,null,null,null,null,null,null,null,null,null,""]
["","",null,"",null,null,null,null,null,null,null,null,null,null,null,null,null,null,null,null,null,null,null,null,""]
["","",null,"",null,null,null,null,null,null,null,null,null,null,null,null,null,null,null,null,null,null,null,null,""]
["","",null,"",null,null,null,null,null,null,null,null,null,null,null,null,null,null,null,null,null,null,null,null,""]
["","",null,"",null,null,null,null,null,null,null,null,null,null,null,null,null,null,null,null,null,null,null,null,""]
["","",null,"",null,null,null,null,null,null,null,null,null,null,null,null,null,null,null,null,null,null,null,null,""]
["","",null,"",null,null,null,null,null,null,null,null,null,null,null,null,null,null,null,null,null,null,null,null,""]
["","",null,"",null,null,null,null,null,null,null,null,null,null,null,null,null,null,null,null,null,null,null,null,""]
["","",null,"",null,null,null,null,null,null,null,null,null,null,null,null,null,null,null,null,null,null,null,null,""]
["","",null,"",null,null,null,null,null,null,null,null,null,null,null,null,null,null,null,null,null,null,null,null,""]
["","",null,"",null,null,null,null,null,null,null,null,null,null,null,null,null,null,null,null,null,null,null,null,""]
["","",null,"",null,null,null,null,null,null,null,null,null,null,null,null,null,null,null,null,null,null,null,null,""]
["","",null,"",null,null,null,null,null,null,null,null,null,null,null,null,null,null,null,null,null,null,null,null,""]
["","",null,"",null,null,null,null,null,null,null,null,null,null,null,null,null,null,null,null,null,null,null,null,""]
["","",null,"",null,null,null,null,null,null,null,null,null,null,null,null,null,null,null,null,null,null,null,null,""]
["","",null,"",null,null,null,null,null,null,null,null,null,null,null,null,null,null,null,null,null,null,null,null,""]
["","",null,"",null,null,null,null,null,null,null,null,null,null,null,null,null,null,null,null,null,null,null,null,""]
["","",null,"",null,null,null,null,null,null,null,null,null,null,null,null,null,null,null,null,null,null,null,null,""]
["","",null,"",null,null,null,null,null,null,null,null,null,null,null,null,null,null,null,null,null,null,null,null,""]
["","",null,"",null,null,null,null,null,null,null,null,null,null,null,null,null,null,null,null,null,null,null,null,""]
["","",null,"",null,null,null,null,null,null,null,null,null,null,null,null,null,null,null,null,null,null,null,null,""]
["","",null,"",null,null,null,null,null,null,null,null,null,null,null,null,null,null,null,null,null,null,null,null,""]
["","",null,"",null,null,null,null,null,null,null,null,null,null,null,null,null,null,null,null,null,null,null,null,""]
["","",null,"",null,null,null,null,null,null,null,null,null,null,null,null,null,null,null,null,null,null,null,null,""]
["","",null,"",null,null,null,null,null,null,null,null,null,null,null,null,null,null,null,null,null,null,null,null,""]
["","",null,"",null,null,null,null,null,null,null,null,null,null,null,null,null,null,null,null,null,null,null,null,""]
["","",null,"",null,null,null,null,null,null,null,null,null,null,null,null,null,null,null,null,null,null,null,null,""]
["","",null,"",null,null,null,null,null,null,null,null,null,null,null,null,null,null,null,null,null,null,null,null,""]
["","",null,"",null,null,null,null,null,null,null,null,null,null,null,null,null,null,null,null,null,null,null,null,""]
["","",null,"",null,null,null,null,null,null,null,null,null,null,null,null,null,null,null,null,null,null,null,null,""]
["","",null,"",null,null,null,null,null,null,null,null,null,null,null,null,null,null,null,null,null,null,null,null,""]
["","",null,"",null,null,null,null,null,null,null,null,null,null,null,null,null,null,null,null,null,null,null,null,""]
["","",null,"",null,null,null,null,null,null,null,null,null,null,null,null,null,null,null,null,null,null,null,null,""]
["","",null,"",null,null,null,null,null,null,null,null,null,null,null,null,null,null,null,null,null,null,null,null,""]
["","",null,"",null,null,null,null,null,null,null,null,null,null,null,null,null,null,null,null,null,null,null,null,""]
["","",null,"",null,null,null,null,null,null,null,null,null,null,null,null,null,null,null,null,null,null,null,null,""]
["","",null,"",null,null,null,null,null,null,null,null,null,null,null,null,null,null,null,null,null,null,null,null,""]
["","",null,"",null,null,null,null,null,null,null,null,null,null,null,null,null,null,null,null,null,null,null,null,""]
["","",null,"",null,null,null,null,null,null,null,null,null,null,null,null,null,null,null,null,null,null,null,null,""]
["","",null,"",null,null,null,null,null,null,null,null,null,null,null,null,null,null,null,null,null,null,null,null,""]
["","",null,"",null,null,null,null,null,null,null,null,null,null,null,null,null,null,null,null,null,null,null,null,""]
["","",null,"",null,null,null,null,null,null,null,null,null,null,null,null,null,null,null,null,null,null,null,null,""]
["","",null,"",null,null,null,null,null,null,null,null,null,null,null,null,null,null,null,null,null,null,null,null,""]
["","",null,"",null,null,null,null,null,null,null,null,null,null,null,null,null,null,null,null,null,null,null,null,""]
["","",null,"",null,null,null,null,null,null,null,null,null,null,null,null,null,null,null,null,null,null,null,null,""]
["","",null,"",null,null,null,null,null,null,null,null,null,null,null,null,null,null,null,null,null,null,null,null,""]
["","",null,"",null,null,null,null,null,null,null,null,null,null,null,null,null,null,null,null,null,null,null,null,""]
["","",null,"",null,null,null,null,null,null,null,null,null,null,null,null,null,null,null,null,null,null,null,null,""]
["","",null,"",null,null,null,null,null,null,null,null,null,null,null,null,null,null,null,null,null,null,null,null,""]
["","",null,"",null,null,null,null,null,null,null,null,null,null,null,null,null,null,null,null,null,null,null,null,""]
["","",null,"",null,null,null,null,null,null,null,null,null,null,null,null,null,null,null,null,null,null,null,null,""]
["","",null,"",null,null,null,null,null,null,null,null,null,null,null,null,null,null,null,null,null,null,null,null,""]
["","",null,"",null,null,null,null,null,null,null,null,null,null,null,null,null,null,null,null,null,null,null,null,""]
["","",null,"",null,null,null,null,null,null,null,null,null,null,null,null,null,null,null,null,null,null,null,null,""]
["","",null,"",null,null,null,null,null,null,null,null,null,null,null,null,null,null,null,null,null,null,null,null,""]
["","",null,"",null,null,null,null,null,null,null,null,null,null,null,null,null,null,null,null,null,null,null,null,""]
["","",null,"",null,null,null,null,null,null,null,null,null,null,null,null,null,null,null,null,null,null,null,null,""]
["","",null,"",null,null,null,null,null,null,null,null,null,null,null,null,null,null,null,null,null,null,null,null,""]
["","",null,"",null,null,null,null,null,null,null,null,null,null,null,null,null,null,null,null,null,null,null,null,""]
["","",null,"",null,null,null,null,null,null,null,null,null,null,null,null,null,null,null,null,null,null,null,null,""]
["","",null,"",null,null,null,null,null,null,null,null,null,null,null,null,null,null,null,null,null,null,null,null,""]
["","",null,"",null,null,null,null,null,null,null,null,null,null,null,null,null,null,null,null,null,null,null,null,""]
["","",null,"",null,null,null,null,null,null,null,null,null,null,null,null,null,null,null,null,null,null,null,null,""]
["","",null,"",null,null,null,null,null,null,null,null,null,null,null,null,null,null,null,null,null,null,null,null,""]
["","",null,"",null,null,null,null,null,null,null,null,null,null,null,null,null,null,null,null,null,null,null,null,""]
["","",null,"",null,null,null,null,null,null,null,null,null,null,null,null,null,null,null,null,null,null,null,null,""]
["","",null,"",null,null,null,null,null,null,null,null,null,null,null,null,null,null,null,null,null,null,null,null,""]
["","",null,"",null,null,null,null,null,null,null,null,null,null,null,null,null,null,null,null,null,null,null,null,""]
["","",null,"",null,null,null,null,null,null,null,null,null,null,null,null,null,null,null,null,null,null,null,null,""]
["","",null,"",null,null,null,null,null,null,null,null,null,null,null,null,null,null,null,null,null,null,null,null,""]
["","",null,"",null,null,null,null,null,null,null,null,null,null,null,null,null,null,null,null,null,null,null,null,""]
["","",null,"",null,null,null,null,null,null,null,null,null,null,null,null,null,null,null,null,null,null,null,null,""]
["","",null,"",null,null,null,null,null,null,null,null,null,null,null,null,null,null,null,null,null,null,null,null,""]
["","",null,"",null,null,null,null,null,null,null,null,null,null,null,null,null,null,null,null,null,null,null,null,""]
["","",null,"",null,null,null,null,null,null,null,null,null,null,null,null,null,null,null,null,null,null,null,null,""]
["","",null,"",null,null,null,null,null,null,null,null,null,null,null,null,null,null,null,null,null,null,null,null,""]
["","",null,"",null,null,null,null,null,null,null,null,null,null,null,null,null,null,null,null,null,null,null,null,""]
["","",null,"",null,null,null,null,null,null,null,null,null,null,null,null,null,null,null,null,null,null,null,null,""]
["","",null,"",null,null,null,null,null,null,null,null,null,null,null,null,null,null,null,null,null,null,null,null,""]
["","",null,"",null,null,null,null,null,null,null,null,null,null,null,null,null,null,null,null,null,null,null,null,""]
["","",null,"",null,null,null,null,null,null,null,null,null,null,null,null,null,null,null,null,null,null,null,null,""]
["","",null,"",null,null,null,null,null,null,null,null,null,null,null,null,null,null,null,null,null,null,null,null,""]
["","",null,"",null,null,null,null,null,null,null,null,null,null,null,null,null,null,null,null,null,null,null,null,""]
["","",null,"",null,null,null,null,null,null,null,null,null,null,null,null,null,null,null,null,null,null,null,null,""]
["","",null,"",null,null,null,null,null,null,null,null,null,null,null,null,null,null,null,null,null,null,null,null,""]
["","",null,"",null,null,null,null,null,null,null,null,null,null,null,null,null,null,null,null,null,null,null,null,""]
["","",null,"",null,null,null,null,null,null,null,null,null,null,null,null,null,null,null,null,null,null,null,null,""]
["","",null,"",null,null,null,null,null,null,null,null,null,null,null,null,null,null,null,null,null,null,null,null,""]
["","",null,"",null,null,null,null,null,null,null,null,null,null,null,null,null,null,null,null,null,null,null,null,""]
["","",null,"",null,null,null,null,null,null,null,null,null,null,null,null,null,null,null,null,null,null,null,null,""]
["","",null,"",null,null,null,null,null,null,null,null,null,null,null,null,null,null,null,null,null,null,null,null,""]
["","",null,"",null,null,null,null,null,null,null,null,null,null,null,null,null,null,null,null,null,null,null,null,""]
["","",null,"",null,null,null,null,null,null,null,null,null,null,null,null,null,null,null,null,null,null,null,null,""]
["","",null,"",null,null,null,null,null,null,null,null,null,null,null,null,null,null,null,null,null,null,null,null,""]
["","",null,"",null,null,null,null,null,null,null,null,null,null,null,null,null,null,null,null,null,null,null,null,""]
["","",null,"",null,null,null,null,null,null,null,null,null,null,null,null,null,null,null,null,null,null,null,null,""]
["","",null,"",null,null,null,null,null,null,null,null,null,null,null,null,null,null,null,null,null,null,null,null,""]
["","",null,"",null,null,null,null,null,null,null,null,null,null,null,null,null,null,null,null,null,null,null,null,""]
["","",null,"",null,null,null,null,null,null,null,null,null,null,null,null,null,null,null,null,null,null,null,null,""]
["","",null,"",null,null,null,null,null,null,null,null,null,null,null,null,null,null,null,null,null,null,null,null,""]
["","",null,"",null,null,null,null,null,null,null,null,null,null,null,null,null,null,null,null,null,null,null,null,""]
["","",null,"",null,null,null,null,null,null,null,null,null,null,null,null,null,null,null,null,null,null,null,null,""]
["","",null,"",null,null,null,null,null,null,null,null,null,null,null,null,null,null,null,null,null,null,null,null,""]
["","",null,"",null,null,null,null,null,null,null,null,null,null,null,null,null,null,null,null,null,null,null,null,""]
["","",null,"",null,null,null,null,null,null,null,null,null,null,null,null,null,null,null,null,null,null,null,null,""]
["","",null,"",null,null,null,null,null,null,null,null,null,null,null,null,null,null,null,null,null,null,null,null,""]
["","",null,"",null,null,null,null,null,null,null,null,null,null,null,null,null,null,null,null,null,null,null,null,""]
["","",null,"",null,null,null,null,null,null,null,null,null,null,null,null,null,null,null,null,null,null,null,null,""]
["","",null,"",null,null,null,null,null,null,null,null,null,null,null,null,null,null,null,null,null,null,null,null,""]
["","",null,"",null,null,null,null,null,null,null,null,null,null,null,null,null,null,null,null,null,null,null,null,""]
["","",null,"",null,null,null,null,null,null,null,null,null,null,null,null,null,null,null,null,null,null,null,null,""]
["","",null,"",null,null,null,null,null,null,null,null,null,null,null,null,null,null,null,null,null,null,null,null,""]
["","",null,"",null,null,null,null,null,null,null,null,null,null,null,null,null,null,null,null,null,null,null,null,""]
["","",null,"",null,null,null,null,null,null,null,null,null,null,null,null,null,null,null,null,null,null,null,null,""]
["","",null,"",null,null,null,null,null,null,null,null,null,null,null,null,null,null,null,null,null,null,null,null,""]
["","",null,"",null,null,null,null,null,null,null,null,null,null,null,null,null,null,null,null,null,null,null,null,""]
["","",null,"",null,null,null,null,null,null,null,null,null,null,null,null,null,null,null,null,null,null,null,null,""]
["","",null,"",null,null,null,null,null,null,null,null,null,null,null,null,null,null,null,null,null,null,null,null,""]
["","",null,"",null,null,null,null,null,null,null,null,null,null,null,null,null,null,null,null,null,null,null,null,""]
["","",null,"",null,null,null,null,null,null,null,null,null,null,null,null,null,null,null,null,null,null,null,null,""]
["","",null,"",null,null,null,null,null,null,null,null,null,null,null,null,null,null,null,null,null,null,null,null,""]
["","",null,"",null,null,null,null,null,null,null,null,null,null,null,null,null,null,null,null,null,null,null,null,""]
["","",null,"",null,null,null,null,null,null,null,null,null,null,null,null,null,null,null,null,null,null,null,null,""]
["","",null,"",null,null,null,null,null,null,null,null,null,null,null,null,null,null,null,null,null,null,null,null,""]
["","",null,"",null,null,null,null,null,null,null,null,null,null,null,null,null,null,null,null,null,null,null,null,""]
["","",null,"",null,null,null,null,null,null,null,null,null,null,null,null,null,null,null,null,null,null,null,null,""]
["","",null,"",null,null,null,null,null,null,null,null,null,null,null,null,null,null,null,null,null,null,null,null,""]
["","",null,"",null,null,null,null,null,null,null,null,null,null,null,null,null,null,null,null,null,null,null,null,""]
["","",null,"",null,null,null,null,null,null,null,null,null,null,null,null,null,null,null,null,null,null,null,null,""]
["","",null,"",null,null,null,null,null,null,null,null,null,null,null,null,null,null,null,null,null,null,null,null,""]
["","",null,"",null,null,null,null,null,null,null,null,null,null,null,null,null,null,null,null,null,null,null,null,""]
["","",null,"",null,null,null,null,null,null,null,null,null,null,null,null,null,null,null,null,null,null,null,null,""]
["","",null,"",null,null,null,null,null,null,null,null,null,null,null,null,null,null,null,null,null,null,null,null,""]
["","",null,"",null,null,null,null,null,null,null,null,null,null,null,null,null,null,null,null,null,null,null,null,""]
["","",null,"",null,null,null,null,null,null,null,null,null,null,null,null,null,null,null,null,null,null,null,null,""]
["","",null,"",null,null,null,null,null,null,null,null,null,null,null,null,null,null,null,null,null,null,null,null,""]
["","",null,"",null,null,null,null,null,null,null,null,null,null,null,null,null,null,null,null,null,null,null,null,""]
["","",null,"",null,null,null,null,null,null,null,null,null,null,null,null,null,null,null,null,null,null,null,null,""]
["","",null,"",null,null,null,null,null,null,null,null,null,null,null,null,null,null,null,null,null,null,null,null,""]
["","",null,"",null,null,null,null,null,null,null,null,null,null,null,null,null,null,null,null,null,null,null,null,""]
["","",null,"",null,null,null,null,null,null,null,null,null,null,null,null,null,null,null,null,null,null,null,null,""]
["","",null,"",null,null,null,null,null,null,null,null,null,null,null,null,null,null,null,null,null,null,null,null,""]
["","",null,"",null,null,null,null,null,null,null,null,null,null,null,null,null,null,null,null,null,null,null,null,""]
["","",null,"",null,null,null,null,null,null,null,null,null,null,null,null,null,null,null,null,null,null,null,null,""]
["","",null,"",null,null,null,null,null,null,null,null,null,null,null,null,null,null,null,null,null,null,null,null,""]
["","",null,"",null,null,null,null,null,null,null,null,null,null,null,null,null,null,null,null,null,null,null,null,""]
["","",null,"",null,null,null,null,null,null,null,null,null,null,null,null,null,null,null,null,null,null,null,null,""]
["","",null,"",null,null,null,null,null,null,null,null,null,null,null,null,null,null,null,null,null,null,null,null,""]
["","",null,"",null,null,null,null,null,null,null,null,null,null,null,null,null,null,null,null,null,null,null,null,""]
["","",null,"",null,null,null,null,null,null,null,null,null,null,null,null,null,null,null,null,null,null,null,null,""]
["","",null,"",null,null,null,null,null,null,null,null,null,null,null,null,null,null,null,null,null,null,null,null,""]
["","",null,"",null,null,null,null,null,null,null,null,null,null,null,null,null,null,null,null,null,null,null,null,""]
["","",null,"",null,null,null,null,null,null,null,null,null,null,null,null,null,null,null,null,null,null,null,null,""]
["","",null,"",null,null,null,null,null,null,null,null,null,null,null,null,null,null,null,null,null,null,null,null,""]
["","",null,"",null,null,null,null,null,null,null,null,null,null,null,null,null,null,null,null,null,null,null,null,""]
["","",null,"",null,null,null,null,null,null,null,null,null,null,null,null,null,null,null,null,null,null,null,null,""]
["","",null,"",null,null,null,null,null,null,null,null,null,null,null,null,null,null,null,null,null,null,null,null,""]
["","",null,"",null,null,null,null,null,null,null,null,null,null,null,null,null,null,null,null,null,null,null,null,""]
["","",null,"",null,null,null,null,null,null,null,null,null,null,null,null,null,null,null,null,null,null,null,null,""]
["","",null,"",null,null,null,null,null,null,null,null,null,null,null,null,null,null,null,null,null,null,null,null,""]
["","",null,"",null,null,null,null,null,null,null,null,null,null,null,null,null,null,null,null,null,null,null,null,""]
["","",null,"",null,null,null,null,null,null,null,null,null,null,null,null,null,null,null,null,null,null,null,null,""]
["","",null,"",null,null,null,null,null,null,null,null,null,null,null,null,null,null,null,null,null,null,null,null,""]
["","",null,"",null,null,null,null,null,null,null,null,null,null,null,null,null,null,null,null,null,null,null,null,""]
["","",null,"",null,null,null,null,null,null,null,null,null,null,null,null,null,null,null,null,null,null,null,null,""]
["","",null,"",null,null,null,null,null,null,null,null,null,null,null,null,null,null,null,null,null,null,null,null,""]
["","",null,"",null,null,null,null,null,null,null,null,null,null,null,null,null,null,null,null,null,null,null,null,""]
["","",null,"",null,null,null,null,null,null,null,null,null,null,null,null,null,null,null,null,null,null,null,null,""]
["","",null,"",null,null,null,null,null,null,null,null,null,null,null,null,null,null,null,null,null,null,null,null,""]
["","",null,"",null,null,null,null,null,null,null,null,null,null,null,null,null,null,null,null,null,null,null,null,""]
["","",null,"",null,null,null,null,null,null,null,null,null,null,null,null,null,null,null,null,null,null,null,null,""]
["","",null,"",null,null,null,null,null,null,null,null,null,null,null,null,null,null,null,null,null,null,null,null,""]
["","",null,"",null,null,null,null,null,null,null,null,null,null,null,null,null,null,null,null,null,null,null,null,""]
["","",null,"",null,null,null,null,null,null,null,null,null,null,null,null,null,null,null,null,null,null,null,null,""]
["","",null,"",null,null,null,null,null,null,null,null,null,null,null,null,null,null,null,null,null,null,null,null,""]
["","",null,"",null,null,null,null,null,null,null,null,null,null,null,null,null,null,null,null,null,null,null,null,""]
["","",null,"",null,null,null,null,null,null,null,null,null,null,null,null,null,null,null,null,null,null,null,null,""]
["","",null,"",null,null,null,null,null,null,null,null,null,null,null,null,null,null,null,null,null,null,null,null,""]
["","",null,"",null,null,null,null,null,null,null,null,null,null,null,null,null,null,null,null,null,null,null,null,""]
["","",null,"",null,null,null,null,null,null,null,null,null,null,null,null,null,null,null,null,null,null,null,null,""]
["","",null,"",null,null,null,null,null,null,null,null,null,null,null,null,null,null,null,null,null,null,null,null,""]
["","",null,"",null,null,null,null,null,null,null,null,null,null,null,null,null,null,null,null,null,null,null,null,""]
["","",null,"",null,null,null,null,null,null,null,null,null,null,null,null,null,null,null,null,null,null,null,null,""]
["","",null,"",null,null,null,null,null,null,null,null,null,null,null,null,null,null,null,null,null,null,null,null,""]
["","",null,"",null,null,null,null,null,null,null,null,null,null,null,null,null,null,null,null,null,null,null,null,""]
["","",null,"",null,null,null,null,null,null,null,null,null,null,null,null,null,null,null,null,null,null,null,null,""]
["","",null,"",null,null,null,null,null,null,null,null,null,null,null,null,null,null,null,null,null,null,null,null,""]
["","",null,"",null,null,null,null,null,null,null,null,null,null,null,null,null,null,null,null,null,null,null,null,""]
["","",null,"",null,null,null,null,null,null,null,null,null,null,null,null,null,null,null,null,null,null,null,null,""]
["","",null,"",null,null,null,null,null,null,null,null,null,null,null,null,null,null,null,null,null,null,null,null,""]
["","",null,"",null,null,null,null,null,null,null,null,null,null,null,null,null,null,null,null,null,null,null,null,""]
["","",null,"",null,null,null,null,null,null,null,null,null,null,null,null,null,null,null,null,null,null,null,null,""]
["","",null,"",null,null,null,null,null,null,null,null,null,null,null,null,null,null,null,null,null,null,null,null,""]
["","",null,"",null,null,null,null,null,null,null,null,null,null,null,null,null,null,null,null,null,null,null,null,""]
["","",null,"",null,null,null,null,null,null,null,null,null,null,null,null,null,null,null,null,null,null,null,null,""]
["","",null,"",null,null,null,null,null,null,null,null,null,null,null,null,null,null,null,null,null,null,null,null,""]
["","",null,"",null,null,null,null,null,null,null,null,null,null,null,null,null,null,null,null,null,null,null,null,""]
["","",null,"",null,null,null,null,null,null,null,null,null,null,null,null,null,null,null,null,null,null,null,null,""]
["","",null,"",null,null,null,null,null,null,null,null,null,null,null,null,null,null,null,null,null,null,null,null,""]
["","",null,"",null,null,null,null,null,null,null,null,null,null,null,null,null,null,null,null,null,null,null,null,""]
["","",null,"",null,null,null,null,null,null,null,null,null,null,null,null,null,null,null,null,null,null,null,null,""]
["","",null,"",null,null,null,null,null,null,null,null,null,null,null,null,null,null,null,null,null,null,null,null,""]
["","",null,"",null,null,null,null,null,null,null,null,null,null,null,null,null,null,null,null,null,null,null,null,""]
["","",null,"",null,null,null,null,null,null,null,null,null,null,null,null,null,null,null,null,null,null,null,null,""]
["","",null,"",null,null,null,null,null,null,null,null,null,null,null,null,null,null,null,null,null,null,null,null,""]
["","",null,"",null,null,null,null,null,null,null,null,null,null,null,null,null,null,null,null,null,null,null,null,""]
["","",null,"",null,null,null,null,null,null,null,null,null,null,null,null,null,null,null,null,null,null,null,null,""]
["","",null,"",null,null,null,null,null,null,null,null,null,null,null,null,null,null,null,null,null,null,null,null,""]
["","",null,"",null,null,null,null,null,null,null,null,null,null,null,null,null,null,null,null,null,null,null,null,""]
["","",null,"",null,null,null,null,null,null,null,null,null,null,null,null,null,null,null,null,null,null,null,null,""]
["","",null,"",null,null,null,null,null,null,null,null,null,null,null,null,null,null,null,null,null,null,null,null,""]
["","",null,"",null,null,null,null,null,null,null,null,null,null,null,null,null,null,null,null,null,null,null,null,""]
["","",null,"",null,null,null,null,null,null,null,null,null,null,null,null,null,null,null,null,null,null,null,null,""]
["","",null,"",null,null,null,null,null,null,null,null,null,null,null,null,null,null,null,null,null,null,null,null,""]
["","",null,"",null,null,null,null,null,null,null,null,null,null,null,null,null,null,null,null,null,null,null,null,""]
["","",null,"",null,null,null,null,null,null,null,null,null,null,null,null,null,null,null,null,null,null,null,null,""]
["","",null,"",null,null,null,null,null,null,null,null,null,null,null,null,null,null,null,null,null,null,null,null,""]
["","",null,"",null,null,null,null,null,null,null,null,null,null,null,null,null,null,null,null,null,null,null,null,""]
["","",null,"",null,null,null,null,null,null,null,null,null,null,null,null,null,null,null,null,null,null,null,null,""]
["","",null,"",null,null,null,null,null,null,null,null,null,null,null,null,null,null,null,null,null,null,null,null,""]
["","",null,"",null,null,null,null,null,null,null,null,null,null,null,null,null,null,null,null,null,null,null,null,""]
["","",null,"",null,null,null,null,null,null,null,null,null,null,null,null,null,null,null,null,null,null,null,null,""]
["","",null,"",null,null,null,null,null,null,null,null,null,null,null,null,null,null,null,null,null,null,null,null,""]
["","",null,"",null,null,null,null,null,null,null,null,null,null,null,null,null,null,null,null,null,null,null,null,""]
["","",null,"",null,null,null,null,null,null,null,null,null,null,null,null,null,null,null,null,null,null,null,null,""]
["","",null,"",null,null,null,null,null,null,null,null,null,null,null,null,null,null,null,null,null,null,null,null,""]
["","",null,"",null,null,null,null,null,null,null,null,null,null,null,null,null,null,null,null,null,null,null,null,""]
["","",null,"",null,null,null,null,null,null,null,null,null,null,null,null,null,null,null,null,null,null,null,null,""]
["","",null,"",null,null,null,null,null,null,null,null,null,null,null,null,null,null,null,null,null,null,null,null,""]
["","",null,"",null,null,null,null,null,null,null,null,null,null,null,null,null,null,null,null,null,null,null,null,""]
["","",null,"",null,null,null,null,null,null,null,null,null,null,null,null,null,null,null,null,null,null,null,null,""]
["","",null,"",null,null,null,null,null,null,null,null,null,null,null,null,null,null,null,null,null,null,null,null,""]
["","",null,"",null,null,null,null,null,null,null,null,null,null,null,null,null,null,null,null,null,null,null,null,""]
["","",null,"",null,null,null,null,null,null,null,null,null,null,null,null,null,null,null,null,null,null,null,null,""]
["","",null,"",null,null,null,null,null,null,null,null,null,null,null,null,null,null,null,null,null,null,null,null,""]
["","",null,"",null,null,null,null,null,null,null,null,null,null,null,null,null,null,null,null,null,null,null,null,""]
["","",null,"",null,null,null,null,null,null,null,null,null,null,null,null,null,null,null,null,null,null,null,null,""]
["","",null,"",null,null,null,null,null,null,null,null,null,null,null,null,null,null,null,null,null,null,null,null,""]
["","",null,"",null,null,null,null,null,null,null,null,null,null,null,null,null,null,null,null,null,null,null,null,""]
["","",null,"",null,null,null,null,null,null,null,null,null,null,null,null,null,null,null,null,null,null,null,null,""]
["","",null,"",null,null,null,null,null,null,null,null,null,null,null,null,null,null,null,null,null,null,null,null,""]
["","",null,"",null,null,null,null,null,null,null,null,null,null,null,null,null,null,null,null,null,null,null,null,""]
["","",null,"",null,null,null,null,null,null,null,null,null,null,null,null,null,null,null,null,null,null,null,null,""]
["","",null,"",null,null,null,null,null,null,null,null,null,null,null,null,null,null,null,null,null,null,null,null,""]
["","",null,"",null,null,null,null,null,null,null,null,null,null,null,null,null,null,null,null,null,null,null,null,""]
["","",null,"",null,null,null,null,null,null,null,null,null,null,null,null,null,null,null,null,null,null,null,null,""]
["","",null,"",null,null,null,null,null,null,null,null,null,null,null,null,null,null,null,null,null,null,null,null,""]
["","",null,"",null,null,null,null,null,null,null,null,null,null,null,null,null,null,null,null,null,null,null,null,""]
["","",null,"",null,null,null,null,null,null,null,null,null,null,null,null,null,null,null,null,null,null,null,null,""]
["","",null,"",null,null,null,null,null,null,null,null,null,null,null,null,null,null,null,null,null,null,null,null,""]
["","",null,"",null,null,null,null,null,null,null,null,null,null,null,null,null,null,null,null,null,null,null,null,""]
["","",null,"",null,null,null,null,null,null,null,null,null,null,null,null,null,null,null,null,null,null,null,null,""]
["","",null,"",null,null,null,null,null,null,null,null,null,null,null,null,null,null,null,null,null,null,null,null,""]
["","",null,"",null,null,null,null,null,null,null,null,null,null,null,null,null,null,null,null,null,null,null,null,""]
["","",null,"",null,null,null,null,null,null,null,null,null,null,null,null,null,null,null,null,null,null,null,null,""]
["","",null,"",null,null,null,null,null,null,null,null,null,null,null,null,null,null,null,null,null,null,null,null,""]
["","",null,"",null,null,null,null,null,null,null,null,null,null,null,null,null,null,null,null,null,null,null,null,""]
["","",null,"",null,null,null,null,null,null,null,null,null,null,null,null,null,null,null,null,null,null,null,null,""]
["","",null,"",null,null,null,null,null,null,null,null,null,null,null,null,null,null,null,null,null,null,null,null,""]
["","",null,"",null,null,null,null,null,null,null,null,null,null,null,null,null,null,null,null,null,null,null,null,""]
["","",null,"",null,null,null,null,null,null,null,null,null,null,null,null,null,null,null,null,null,null,null,null,""]
["","",null,"",null,null,null,null,null,null,null,null,null,null,null,null,null,null,null,null,null,null,null,null,""]
["","",null,"",null,null,null,null,null,null,null,null,null,null,null,null,null,null,null,null,null,null,null,null,""]
["","",null,"",null,null,null,null,null,null,null,null,null,null,null,null,null,null,null,null,null,null,null,null,""]
["","",null,"",null,null,null,null,null,null,null,null,null,null,null,null,null,null,null,null,null,null,null,null,""]
["","",null,"",null,null,null,null,null,null,null,null,null,null,null,null,null,null,null,null,null,null,null,null,""]
["","",null,"",null,null,null,null,null,null,null,null,null,null,null,null,null,null,null,null,null,null,null,null,""]
["","",null,"",null,null,null,null,null,null,null,null,null,null,null,null,null,null,null,null,null,null,null,null,""]
["","",null,"",null,null,null,null,null,null,null,null,null,null,null,null,null,null,null,null,null,null,null,null,""]
["","",null,"",null,null,null,null,null,null,null,null,null,null,null,null,null,null,null,null,null,null,null,null,""]
["","",null,"",null,null,null,null,null,null,null,null,null,null,null,null,null,null,null,null,null,null,null,null,""]
["","",null,"",null,null,null,null,null,null,null,null,null,null,null,null,null,null,null,null,null,null,null,null,""]
["","",null,"",null,null,null,null,null,null,null,null,null,null,null,null,null,null,null,null,null,null,null,null,""]
["","",null,"",null,null,null,null,null,null,null,null,null,null,null,null,null,null,null,null,null,null,null,null,""]
["","",null,"",null,null,null,null,null,null,null,null,null,null,null,null,null,null,null,null,null,null,null,null,""]
["","",null,"",null,null,null,null,null,null,null,null,null,null,null,null,null,null,null,null,null,null,null,null,""]
["","",null,"",null,null,null,null,null,null,null,null,null,null,null,null,null,null,null,null,null,null,null,null,""]
["","",null,"",null,null,null,null,null,null,null,null,null,null,null,null,null,null,null,null,null,null,null,null,""]
["","",null,"",null,null,null,null,null,null,null,null,null,null,null,null,null,null,null,null,null,null,null,null,""]
["","",null,"",null,null,null,null,null,null,null,null,null,null,null,null,null,null,null,null,null,null,null,null,""]
["","",null,"",null,null,null,null,null,null,null,null,null,null,null,null,null,null,null,null,null,null,null,null,""]
["","",null,"",null,null,null,null,null,null,null,null,null,null,null,null,null,null,null,null,null,null,null,null,""]
["","",null,"",null,null,null,null,null,null,null,null,null,null,null,null,null,null,null,null,null,null,null,null,""]
["","",null,"",null,null,null,null,null,null,null,null,null,null,null,null,null,null,null,null,null,null,null,null,""]
["","",null,"",null,null,null,null,null,null,null,null,null,null,null,null,null,null,null,null,null,null,null,null,""]
["","",null,"",null,null,null,null,null,null,null,null,null,null,null,null,null,null,null,null,null,null,null,null,""]
["","",null,"",null,null,null,null,null,null,null,null,null,null,null,null,null,null,null,null,null,null,null,null,""]
["","",null,"",null,null,null,null,null,null,null,null,null,null,null,null,null,null,null,null,null,null,null,null,""]
["","",null,"",null,null,null,null,null,null,null,null,null,null,null,null,null,null,null,null,null,null,null,null,""]
["","",null,"",null,null,null,null,null,null,null,null,null,null,null,null,null,null,null,null,null,null,null,null,""]
["","",null,"",null,null,null,null,null,null,null,null,null,null,null,null,null,null,null,null,null,null,null,null,""]
["","",null,"",null,null,null,null,null,null,null,null,null,null,null,null,null,null,null,null,null,null,null,null,""]
["","",null,"",null,null,null,null,null,null,null,null,null,null,null,null,null,null,null,null,null,null,null,null,""]
["","",null,"",null,null,null,null,null,null,null,null,null,null,null,null,null,null,null,null,null,null,null,null,""]
["","",null,"",null,null,null,null,null,null,null,null,null,null,null,null,null,null,null,null,null,null,null,null,""]
["","",null,"",null,null,null,null,null,null,null,null,null,null,null,null,null,null,null,null,null,null,null,null,""]
["","",null,"",null,null,null,null,null,null,null,null,null,null,null,null,null,null,null,null,null,null,null,null,""]
["","",null,"",null,null,null,null,null,null,null,null,null,null,null,null,null,null,null,null,null,null,null,null,""]
["","",null,"",null,null,null,null,null,null,null,null,null,null,null,null,null,null,null,null,null,null,null,null,""]
["","",null,"",null,null,null,null,null,null,null,null,null,null,null,null,null,null,null,null,null,null,null,null,""]
["","",null,"",null,null,null,null,null,null,null,null,null,null,null,null,null,null,null,null,null,null,null,null,""]
["","",null,"",null,null,null,null,null,null,null,null,null,null,null,null,null,null,null,null,null,null,null,null,""]
["","",null,"",null,null,null,null,null,null,null,null,null,null,null,null,null,null,null,null,null,null,null,null,""]
["","",null,"",null,null,null,null,null,null,null,null,null,null,null,null,null,null,null,null,null,null,null,null,""]
["","",null,"",null,null,null,null,null,null,null,null,null,null,null,null,null,null,null,null,null,null,null,null,""]
["","",null,"",null,null,null,null,null,null,null,null,null,null,null,null,null,null,null,null,null,null,null,null,""]
["","",null,"",null,null,null,null,null,null,null,null,null,null,null,null,null,null,null,null,null,null,null,null,""]
["","",null,"",null,null,null,null,null,null,null,null,null,null,null,null,null,null,null,null,null,null,null,null,""]
["","",null,"",null,null,null,null,null,null,null,null,null,null,null,null,null,null,null,null,null,null,null,null,""]
["","",null,"",null,null,null,null,null,null,null,null,null,null,null,null,null,null,null,null,null,null,null,null,""]
["","",null,"",null,null,null,null,null,null,null,null,null,null,null,null,null,null,null,null,null,null,null,null,""]
["","",null,"",null,null,null,null,null,null,null,null,null,null,null,null,null,null,null,null,null,null,null,null,""]
["","",null,"",null,null,null,null,null,null,null,null,null,null,null,null,null,null,null,null,null,null,null,null,""]
["","",null,"",null,null,null,null,null,null,null,null,null,null,null,null,null,null,null,null,null,null,null,null,""]
["","",null,"",null,null,null,null,null,null,null,null,null,null,null,null,null,null,null,null,null,null,null,null,""]
["","",null,"",null,null,null,null,null,null,null,null,null,null,null,null,null,null,null,null,null,null,null,null,""]
["","",null,"",null,null,null,null,null,null,null,null,null,null,null,null,null,null,null,null,null,null,null,null,""]
["","",null,"",null,null,null,null,null,null,null,null,null,null,null,null,null,null,null,null,null,null,null,null,""]
["","",null,"",null,null,null,null,null,null,null,null,null,null,null,null,null,null,null,null,null,null,null,null,""]
["","",null,"",null,null,null,null,null,null,null,null,null,null,null,null,null,null,null,null,null,null,null,null,""]
["","",null,"",null,null,null,null,null,null,null,null,null,null,null,null,null,null,null,null,null,null,null,null,""]
["","",null,"",null,null,null,null,null,null,null,null,null,null,null,null,null,null,null,null,null,null,null,null,""]
["","",null,"",null,null,null,null,null,null,null,null,null,null,null,null,null,null,null,null,null,null,null,null,""]
["","",null,"",null,null,null,null,null,null,null,null,null,null,null,null,null,null,null,null,null,null,null,null,""]
["","",null,"",null,null,null,null,null,null,null,null,null,null,null,null,null,null,null,null,null,null,null,null,""]
["","",null,"",null,null,null,null,null,null,null,null,null,null,null,null,null,null,null,null,null,null,null,null,""]
["","",null,"",null,null,null,null,null,null,null,null,null,null,null,null,null,null,null,null,null,null,null,null,""]
["","",null,"",null,null,null,null,null,null,null,null,null,null,null,null,null,null,null,null,null,null,null,null,""]
["","",null,"",null,null,null,null,null,null,null,null,null,null,null,null,null,null,null,null,null,null,null,null,""]
["","",null,"",null,null,null,null,null,null,null,null,null,null,null,null,null,null,null,null,null,null,null,null,""]
["","",null,"",null,null,null,null,null,null,null,null,null,null,null,null,null,null,null,null,null,null,null,null,""]
["","",null,"",null,null,null,null,null,null,null,null,null,null,null,null,null,null,null,null,null,null,null,null,""]
["","",null,"",null,null,null,null,null,null,null,null,null,null,null,null,null,null,null,null,null,null,null,null,""]
["","",null,"",null,null,null,null,null,null,null,null,null,null,null,null,null,null,null,null,null,null,null,null,""]
["","",null,"",null,null,null,null,null,null,null,null,null,null,null,null,null,null,null,null,null,null,null,null,""]
["","",null,"",null,null,null,null,null,null,null,null,null,null,null,null,null,null,null,null,null,null,null,null,""]
["","",null,"",null,null,null,null,null,null,null,null,null,null,null,null,null,null,null,null,null,null,null,null,""]
["","",null,"",null,null,null,null,null,null,null,null,null,null,null,null,null,null,null,null,null,null,null,null,""]
["","",null,"",null,null,null,null,null,null,null,null,null,null,null,null,null,null,null,null,null,null,null,null,""]
["","",null,"",null,null,null,null,null,null,null,null,null,null,null,null,null,null,null,null,null,null,null,null,""]
["","",null,"",null,null,null,null,null,null,null,null,null,null,null,null,null,null,null,null,null,null,null,null,""]
["","",null,"",null,null,null,null,null,null,null,null,null,null,null,null,null,null,null,null,null,null,null,null,""]
["","",null,"",null,null,null,null,null,null,null,null,null,null,null,null,null,null,null,null,null,null,null,null,""]
["","",null,"",null,null,null,null,null,null,null,null,null,null,null,null,null,null,null,null,null,null,null,null,""]
["","",null,"",null,null,null,null,null,null,null,null,null,null,null,null,null,null,null,null,null,null,null,null,""]
["","",null,"",null,null,null,null,null,null,null,null,null,null,null,null,null,null,null,null,null,null,null,null,""]
["","",null,"",null,null,null,null,null,null,null,null,null,null,null,null,null,null,null,null,null,null,null,null,""]
["","",null,"",null,null,null,null,null,null,null,null,null,null,null,null,null,null,null,null,null,null,null,null,""]
["","",null,"",null,null,null,null,null,null,null,null,null,null,null,null,null,null,null,null,null,null,null,null,""]
["","",null,"",null,null,null,null,null,null,null,null,null,null,null,null,null,null,null,null,null,null,null,null,""]
["","",null,"",null,null,null,null,null,null,null,null,null,null,null,null,null,null,null,null,null,null,null,null,""]
["","",null,"",null,null,null,null,null,null,null,null,null,null,null,null,null,null,null,null,null,null,null,null,""]
["","",null,"",null,null,null,null,null,null,null,null,null,null,null,null,null,null,null,null,null,null,null,null,""]
["","",null,"",null,null,null,null,null,null,null,null,null,null,null,null,null,null,null,null,null,null,null,null,""]
["","",null,"",null,null,null,null,null,null,null,null,null,null,null,null,null,null,null,null,null,null,null,null,""]
["","",null,"",null,null,null,null,null,null,null,null,null,null,null,null,null,null,null,null,null,null,null,null,""]
["","",null,"",null,null,null,null,null,null,null,null,null,null,null,null,null,null,null,null,null,null,null,null,""]
["","",null,"",null,null,null,null,null,null,null,null,null,null,null,null,null,null,null,null,null,null,null,null,""]
["","",null,"",null,null,null,null,null,null,null,null,null,null,null,null,null,null,null,null,null,null,null,null,""]
["","",null,"",null,null,null,null,null,null,null,null,null,null,null,null,null,null,null,null,null,null,null,null,""]
["","",null,"",null,null,null,null,null,null,null,null,null,null,null,null,null,null,null,null,null,null,null,null,""]
["","",null,"",null,null,null,null,null,null,null,null,null,null,null,null,null,null,null,null,null,null,null,null,""]
["","",null,"",null,null,null,null,null,null,null,null,null,null,null,null,null,null,null,null,null,null,null,null,""]
["","",null,"",null,null,null,null,null,null,null,null,null,null,null,null,null,null,null,null,null,null,null,null,""]
["","",null,"",null,null,null,null,null,null,null,null,null,null,null,null,null,null,null,null,null,null,null,null,""]
["","",null,"",null,null,null,null,null,null,null,null,null,null,null,null,null,null,null,null,null,null,null,null,""]
["","",null,"",null,null,null,null,null,null,null,null,null,null,null,null,null,null,null,null,null,null,null,null,""]
["","",null,"",null,null,null,null,null,null,null,null,null,null,null,null,null,null,null,null,null,null,null,null,""]
["","",null,"",null,null,null,null,null,null,null,null,null,null,null,null,null,null,null,null,null,null,null,null,""]
["","",null,"",null,null,null,null,null,null,null,null,null,null,null,null,null,null,null,null,null,null,null,null,""]
["","",null,"",null,null,null,null,null,null,null,null,null,null,null,null,null,null,null,null,null,null,null,null,""]
["","",null,"",null,null,null,null,null,null,null,null,null,null,null,null,null,null,null,null,null,null,null,null,""]
["","",null,"",null,null,null,null,null,null,null,null,null,null,null,null,null,null,null,null,null,null,null,null,""]
["","",null,"",null,null,null,null,null,null,null,null,null,null,null,null,null,null,null,null,null,null,null,null,""]
["","",null,"",null,null,null,null,null,null,null,null,null,null,null,null,null,null,null,null,null,null,null,null,""]
["","",null,"",null,null,null,null,null,null,null,null,null,null,null,null,null,null,null,null,null,null,null,null,""]
["","",null,"",null,null,null,null,null,null,null,null,null,null,null,null,null,null,null,null,null,null,null,null,""]
["","",null,"",null,null,null,null,null,null,null,null,null,null,null,null,null,null,null,null,null,null,null,null,""]
["","",null,"",null,null,null,null,null,null,null,null,null,null,null,null,null,null,null,null,null,null,null,null,""]
["","",null,"",null,null,null,null,null,null,null,null,null,null,null,null,null,null,null,null,null,null,null,null,""]
["","",null,"",null,null,null,null,null,null,null,null,null,null,null,null,null,null,null,null,null,null,null,null,""]
["","",null,"",null,null,null,null,null,null,null,null,null,null,null,null,null,null,null,null,null,null,null,null,""]
["","",null,"",null,null,null,null,null,null,null,null,null,null,null,null,null,null,null,null,null,null,null,null,""]
["","",null,"",null,null,null,null,null,null,null,null,null,null,null,null,null,null,null,null,null,null,null,null,""]
["","",null,"",null,null,null,null,null,null,null,null,null,null,null,null,null,null,null,null,null,null,null,null,""]
["","",null,"",null,null,null,null,null,null,null,null,null,null,null,null,null,null,null,null,null,null,null,null,""]
["","",null,"",null,null,null,null,null,null,null,null,null,null,null,null,null,null,null,null,null,null,null,null,""]
["","",null,"",null,null,null,null,null,null,null,null,null,null,null,null,null,null,null,null,null,null,null,null,""]
["","",null,"",null,null,null,null,null,null,null,null,null,null,null,null,null,null,null,null,null,null,null,null,""]
["","",null,"",null,null,null,null,null,null,null,null,null,null,null,null,null,null,null,null,null,null,null,null,""]
["","",null,"",null,null,null,null,null,null,null,null,null,null,null,null,null,null,null,null,null,null,null,null,""]
["","",null,"",null,null,null,null,null,null,null,null,null,null,null,null,null,null,null,null,null,null,null,null,""]
["","",null,"",null,null,null,null,null,null,null,null,null,null,null,null,null,null,null,null,null,null,null,null,""]
["","",null,"",null,null,null,null,null,null,null,null,null,null,null,null,null,null,null,null,null,null,null,null,""]
["","",null,"",null,null,null,null,null,null,null,null,null,null,null,null,null,null,null,null,null,null,null,null,""]
["","",null,"",null,null,null,null,null,null,null,null,null,null,null,null,null,null,null,null,null,null,null,null,""]
["","",null,"",null,null,null,null,null,null,null,null,null,null,null,null,null,null,null,null,null,null,null,null,""]
["","",null,"",null,null,null,null,null,null,null,null,null,null,null,null,null,null,null,null,null,null,null,null,""]
["","",null,"",null,null,null,null,null,null,null,null,null,null,null,null,null,null,null,null,null,null,null,null,""]
["","",null,"",null,null,null,null,null,null,null,null,null,null,null,null,null,null,null,null,null,null,null,null,""]
["","",null,"",null,null,null,null,null,null,null,null,null,null,null,null,null,null,null,null,null,null,null,null,""]
["","",null,"",null,null,null,null,null,null,null,null,null,null,null,null,null,null,null,null,null,null,null,null,""]
["","",null,"",null,null,null,null,null,null,null,null,null,null,null,null,null,null,null,null,null,null,null,null,""]
["","",null,"",null,null,null,null,null,null,null,null,null,null,null,null,null,null,null,null,null,null,null,null,""]
["","",null,"",null,null,null,null,null,null,null,null,null,null,null,null,null,null,null,null,null,null,null,null,""]
["","",null,"",null,null,null,null,null,null,null,null,null,null,null,null,null,null,null,null,null,null,null,null,""]
["","",null,"",null,null,null,null,null,null,null,null,null,null,null,null,null,null,null,null,null,null,null,null,""]
["","",null,"",null,null,null,null,null,null,null,null,null,null,null,null,null,null,null,null,null,null,null,null,""]
["","",null,"",null,null,null,null,null,null,null,null,null,null,null,null,null,null,null,null,null,null,null,null,""]
["","",null,"",null,null,null,null,null,null,null,null,null,null,null,null,null,null,null,null,null,null,null,null,""]
["","",null,"",null,null,null,null,null,null,null,null,null,null,null,null,null,null,null,null,null,null,null,null,""]
["","",null,"",null,null,null,null,null,null,null,null,null,null,null,null,null,null,null,null,null,null,null,null,""]
["","",null,"",null,null,null,null,null,null,null,null,null,null,null,null,null,null,null,null,null,null,null,null,""]
["","",null,"",null,null,null,null,null,null,null,null,null,null,null,null,null,null,null,null,null,null,null,null,""]
["","",null,"",null,null,null,null,null,null,null,null,null,null,null,null,null,null,null,null,null,null,null,null,""]
["","",null,"",null,null,null,null,null,null,null,null,null,null,null,null,null,null,null,null,null,null,null,null,""]
["","",null,"",null,null,null,null,null,null,null,null,null,null,null,null,null,null,null,null,null,null,null,null,""]
["","",null,"",null,null,null,null,null,null,null,null,null,null,null,null,null,null,null,null,null,null,null,null,""]
["","",null,"",null,null,null,null,null,null,null,null,null,null,null,null,null,null,null,null,null,null,null,null,""]
["","",null,"",null,null,null,null,null,null,null,null,null,null,null,null,null,null,null,null,null,null,null,null,""]
["","",null,"",null,null,null,null,null,null,null,null,null,null,null,null,null,null,null,null,null,null,null,null,""]
["","",null,"",null,null,null,null,null,null,null,null,null,null,null,null,null,null,null,null,null,null,null,null,""]
["","",null,"",null,null,null,null,null,null,null,null,null,null,null,null,null,null,null,null,null,null,null,null,""]
["","",null,"",null,null,null,null,null,null,null,null,null,null,null,null,null,null,null,null,null,null,null,null,""]
["","",null,"",null,null,null,null,null,null,null,null,null,null,null,null,null,null,null,null,null,null,null,null,""]
["","",null,"",null,null,null,null,null,null,null,null,null,null,null,null,null,null,null,null,null,null,null,null,""]
["","",null,"",null,null,null,null,null,null,null,null,null,null,null,null,null,null,null,null,null,null,null,null,""]
["","",null,"",null,null,null,null,null,null,null,null,null,null,null,null,null,null,null,null,null,null,null,null,""]
["","",null,"",null,null,null,null,null,null,null,null,null,null,null,null,null,null,null,null,null,null,null,null,""]
["","",null,"",null,null,null,null,null,null,null,null,null,null,null,null,null,null,null,null,null,null,null,null,""]
["","",null,"",null,null,null,null,null,null,null,null,null,null,null,null,null,null,null,null,null,null,null,null,""]
["","",null,"",null,null,null,null,null,null,null,null,null,null,null,null,null,null,null,null,null,null,null,null,""]
["","",null,"",null,null,null,null,null,null,null,null,null,null,null,null,null,null,null,null,null,null,null,null,""]
["","",null,"",null,null,null,null,null,null,null,null,null,null,null,null,null,null,null,null,null,null,null,null,""]
["","",null,"",null,null,null,null,null,null,null,null,null,null,null,null,null,null,null,null,null,null,null,null,""]
["","",null,"",null,null,null,null,null,null,null,null,null,null,null,null,null,null,null,null,null,null,null,null,""]
["","",null,"",null,null,null,null,null,null,null,null,null,null,null,null,null,null,null,null,null,null,null,null,""]
["","",null,"",null,null,null,null,null,null,null,null,null,null,null,null,null,null,null,null,null,null,null,null,""]
["","",null,"",null,null,null,null,null,null,null,null,null,null,null,null,null,null,null,null,null,null,null,null,""]
["","",null,"",null,null,null,null,null,null,null,null,null,null,null,null,null,null,null,null,null,null,null,null,""]
["","",null,"",null,null,null,null,null,null,null,null,null,null,null,null,null,null,null,null,null,null,null,null,""]
["","",null,"",null,null,null,null,null,null,null,null,null,null,null,null,null,null,null,null,null,null,null,null,""]
["","",null,"",null,null,null,null,null,null,null,null,null,null,null,null,null,null,null,null,null,null,null,null,""]
["","",null,"",null,null,null,null,null,null,null,null,null,null,null,null,null,null,null,null,null,null,null,null,""]
["","",null,"",null,null,null,null,null,null,null,null,null,null,null,null,null,null,null,null,null,null,null,null,""]
["","",null,"",null,null,null,null,null,null,null,null,null,null,null,null,null,null,null,null,null,null,null,null,""]
["","",null,"",null,null,null,null,null,null,null,null,null,null,null,null,null,null,null,null,null,null,null,null,""]
["","",null,"",null,null,null,null,null,null,null,null,null,null,null,null,null,null,null,null,null,null,null,null,""]
["","",null,"",null,null,null,null,null,null,null,null,null,null,null,null,null,null,null,null,null,null,null,null,""]
["","",null,"",null,null,null,null,null,null,null,null,null,null,null,null,null,null,null,null,null,null,null,null,""]
["","",null,"",null,null,null,null,null,null,null,null,null,null,null,null,null,null,null,null,null,null,null,null,""]
["","",null,"",null,null,null,null,null,null,null,null,null,null,null,null,null,null,null,null,null,null,null,null,""]
["","",null,"",null,null,null,null,null,null,null,null,null,null,null,null,null,null,null,null,null,null,null,null,""]
["","",null,"",null,null,null,null,null,null,null,null,null,null,null,null,null,null,null,null,null,null,null,null,""]
["","",null,"",null,null,null,null,null,null,null,null,null,null,null,null,null,null,null,null,null,null,null,null,""]
["","",null,"",null,null,null,null,null,null,null,null,null,null,null,null,null,null,null,null,null,null,null,null,""]
["","",null,"",null,null,null,null,null,null,null,null,null,null,null,null,null,null,null,null,null,null,null,null,""]
["","",null,"",null,null,null,null,null,null,null,null,null,null,null,null,null,null,null,null,null,null,null,null,""]
["","",null,"",null,null,null,null,null,null,null,null,null,null,null,null,null,null,null,null,null,null,null,null,""]
["","",null,"",null,null,null,null,null,null,null,null,null,null,null,null,null,null,null,null,null,null,null,null,""]
["","",null,"",null,null,null,null,null,null,null,null,null,null,null,null,null,null,null,null,null,null,null,null,""]
["","",null,"",null,null,null,null,null,null,null,null,null,null,null,null,null,null,null,null,null,null,null,null,""]
["","",null,"",null,null,null,null,null,null,null,null,null,null,null,null,null,null,null,null,null,null,null,null,""]

{"sheet":"2.Забезпечення","index":1,"n_rows":1201,"n_cols":13,"rows_kept":1201,"cut":false,"hidden":false,"merged":[[0,1,6,11]]}
[null,"Цей документ був підготовлений Фондом гарантування вкладів фізичних осіб (далі – Фонд) виключно для інформаційних цілей і не повинен вважатися як спонукання до будь-яких дій чи бездіяльності. \nІнформація, що міститься в цьому документі, була отримана з/або ґрунтується на джерелах, які вважаються надійними, але не є вичерпною та не може сприйматися як повна або актуальна. Зокрема, але не виключно, станом на дату придбання активів допускаються несуттєві зміни лота, в складі якого продаються такі активи. Під несуттєвими змінами лота слід розуміти такі зміни характеристик активів у складі такого лота, які впливають на його балансову вартість, але не більше ніж на 10 відсотків. Рішення покупця щодо будь-яких дій або бездіяльності повинно ґрунтуватися на власних оцінках та дослідженнях майна (активу/активів), котре реалізується. Фонд не несе відповідальності за рішення покупця та його наслідки, що ґрунтується на інформації, викладеній в даному документі."]
[]
[]
[]
[]
[]
[]
[]
["Звітна дата",":",{"$f":"'1.Портфель кредитів'!C6","v":"2023-07-01"}]
["unicid","Colateral_ID","Банк","№ кред. Дог","Тип застави","Кількість застави","(га, м2, шт., тощо)","Область знаходження застави","Населений пункт (місто/село/смт.)","Сума/вартість за договором (грн.екв.)","Реєстрація у держ. Реєстрі (обтяження)\n(так/ні)","Ознака банкрутства/ліквідації заставодавця/фінансового поручителя(відповідно ЄДР на дату заповнення паспорту)","Додаткові коментарі про заставу (у випадку наявності в Банку інформації, в т.ч. щодо виведення застави, руйнування, знаходження в розшуку, тощо)"]
[{"$f":"'1.Портфель кредитів'!A9","v":"351629__1"},{"$f":"IFERROR(#REF!,\"\")","v":""},{"$f":"IFERROR(VLOOKUP(A11,'1.Портфель кредитів'!A:AB,3,FALSE),\"\")","v":"МЕГАБАНК"},{"$f":"IFERROR(VLOOKUP(A11,'1.Портфель кредитів'!A:AB,14,FALSE),\"\")","v":40026},"товари",710,"м.куб.","Полтавська","с.Велика Богачка",467708,"НІ","Діюче"]
[{"$f":"'1.Портфель кредитів'!A9","v":"351629__1"},{"$f":"IFERROR(#REF!,\"\")","v":""},{"$f":"IFERROR(VLOOKUP(A12,'1.Портфель кредитів'!A:AB,3,FALSE),\"\")","v":"МЕГАБАНК"},{"$f":"IFERROR(VLOOKUP(A12,'1.Портфель кредитів'!A:AB,14,FALSE),\"\")","v":40026},"транспорт",1,"од.","Полтавська","с.Велика Богачка",20000,"НІ","Діюче"]
[{"$f":"'1.Портфель кредитів'!A9","v":"351629__1"},{"$f":"IFERROR(#REF!,\"\")","v":""},{"$f":"IFERROR(VLOOKUP(A13,'1.Портфель кредитів'!A:AB,3,FALSE),\"\")","v":"МЕГАБАНК"},{"$f":"IFERROR(VLOOKUP(A13,'1.Портфель кредитів'!A:AB,14,FALSE),\"\")","v":40026},"транспорт",1,"од.","Полтавська","с.Велика Богачка",20000,"НІ","Діюче"]
[{"$f":"'1.Портфель кредитів'!A9","v":"351629__1"},{"$f":"IFERROR(#REF!,\"\")","v":""},{"$f":"IFERROR(VLOOKUP(A14,'1.Портфель кредитів'!A:AB,3,FALSE),\"\")","v":"МЕГАБАНК"},{"$f":"IFERROR(VLOOKUP(A14,'1.Портфель кредитів'!A:AB,14,FALSE),\"\")","v":40026},"транспорт",1,"од.","Полтавська","с.Велика Богачка",40000,"НІ","Діюче"]
[{"$f":"'1.Портфель кредитів'!A9","v":"351629__1"},{"$f":"IFERROR(#REF!,\"\")","v":""},{"$f":"IFERROR(VLOOKUP(A15,'1.Портфель кредитів'!A:AB,3,FALSE),\"\")","v":"МЕГАБАНК"},{"$f":"IFERROR(VLOOKUP(A15,'1.Портфель кредитів'!A:AB,14,FALSE),\"\")","v":40026},"фінансова порука",1,"од.","Полтавська","с.Велика Богачка",200000,"НІ","Діюче"]
[{"$f":"'1.Портфель кредитів'!A10","v":"351629__2"},{"$f":"IFERROR(#REF!,\"\")","v":""},{"$f":"IFERROR(VLOOKUP(A16,'1.Портфель кредитів'!A:AB,3,FALSE),\"\")","v":"МЕГАБАНК"},{"$f":"IFERROR(VLOOKUP(A16,'1.Портфель кредитів'!A:AB,14,FALSE),\"\")","v":40057},"транспорт",1,"од.","Полтавська","с.Велика Богачка",20000,"НІ","Діюче"]
[{"$f":"'1.Портфель кредитів'!A10","v":"351629__2"},{"$f":"IFERROR(#REF!,\"\")","v":""},{"$f":"IFERROR(VLOOKUP(A17,'1.Портфель кредитів'!A:AB,3,FALSE),\"\")","v":"МЕГАБАНК"},{"$f":"IFERROR(VLOOKUP(A17,'1.Портфель кредитів'!A:AB,14,FALSE),\"\")","v":40057},"транспорт",1,"од.","Полтавська","с.Велика Богачка",20000,"НІ","Діюче"]
[{"$f":"'1.Портфель кредитів'!A10","v":"351629__2"},{"$f":"IFERROR(#REF!,\"\")","v":""},{"$f":"IFERROR(VLOOKUP(A18,'1.Портфель кредитів'!A:AB,3,FALSE),\"\")","v":"МЕГАБАНК"},{"$f":"IFERROR(VLOOKUP(A18,'1.Портфель кредитів'!A:AB,14,FALSE),\"\")","v":40057},"транспорт",1,"од.","Полтавська","с.Велика Богачка",40000,"НІ","Діюче"]
[{"$f":"'1.Портфель кредитів'!A10","v":"351629__2"},{"$f":"IFERROR(#REF!,\"\")","v":""},{"$f":"IFERROR(VLOOKUP(A19,'1.Портфель кредитів'!A:AB,3,FALSE),\"\")","v":"МЕГАБАНК"},{"$f":"IFERROR(VLOOKUP(A19,'1.Портфель кредитів'!A:AB,14,FALSE),\"\")","v":40057},"майнові права",1,"од.","Полтавська","с.Велика Богачка",77000,"НІ","Діюче"]
[{"$f":"'1.Портфель кредитів'!A10","v":"351629__2"},{"$f":"IFERROR(#REF!,\"\")","v":""},{"$f":"IFERROR(VLOOKUP(A20,'1.Портфель кредитів'!A:AB,3,FALSE),\"\")","v":"МЕГАБАНК"},{"$f":"IFERROR(VLOOKUP(A20,'1.Портфель кредитів'!A:AB,14,FALSE),\"\")","v":40057},"фінансова порука",1,"од.","Полтавська","с.Велика Богачка",40000,"НІ","Діюче"]
[{"$f":"'1.Портфель кредитів'!A11","v":"351629__3"},{"$f":"IFERROR(#REF!,\"\")","v":""},{"$f":"IFERROR(VLOOKUP(A21,'1.Портфель кредитів'!A:AB,3,FALSE),\"\")","v":"МЕГАБАНК"},{"$f":"IFERROR(VLOOKUP(A21,'1.Портфель кредитів'!A:AB,14,FALSE),\"\")","v":40026},"транспорт",1,"од.","Полтавська","с.Велика Богачка",20000,"НІ","Діюче"]
[{"$f":"'1.Портфель кредитів'!A11","v":"351629__3"},{"$f":"IFERROR(#REF!,\"\")","v":""},{"$f":"IFERROR(VLOOKUP(A22,'1.Портфель кредитів'!A:AB,3,FALSE),\"\")","v":"МЕГАБАНК"},{"$f":"IFERROR(VLOOKUP(A22,'1.Портфель кредитів'!A:AB,14,FALSE),\"\")","v":40026},"транспорт",1,"од.","Полтавська","с.Велика Богачка",20000,"НІ","Діюче"]
[{"$f":"'1.Портфель кредитів'!A11","v":"351629__3"},{"$f":"IFERROR(#REF!,\"\")","v":""},{"$f":"IFERROR(VLOOKUP(A23,'1.Портфель кредитів'!A:AB,3,FALSE),\"\")","v":"МЕГАБАНК"},{"$f":"IFERROR(VLOOKUP(A23,'1.Портфель кредитів'!A:AB,14,FALSE),\"\")","v":40026},"транспорт",1,"од.","Полтавська","с.Велика Богачка",40000,"НІ","Діюче"]
[{"$f":"'1.Портфель кредитів'!A11","v":"351629__3"},{"$f":"IFERROR(#REF!,\"\")","v":""},{"$f":"IFERROR(VLOOKUP(A24,'1.Портфель кредитів'!A:AB,3,FALSE),\"\")","v":"МЕГАБАНК"},{"$f":"IFERROR(VLOOKUP(A24,'1.Портфель кредитів'!A:AB,14,FALSE),\"\")","v":40026},"обладнання",11,"од.","Полтавська","с.Велика Богачка",99460,"НІ","Діюче"]
[{"$f":"'1.Портфель кредитів'!A11","v":"351629__3"},{"$f":"IFERROR(#REF!,\"\")","v":""},{"$f":"IFERROR(VLOOKUP(A25,'1.Портфель кредитів'!A:AB,3,FALSE),\"\")","v":"МЕГАБАНК"},{"$f":"IFERROR(VLOOKUP(A25,'1.Портфель кредитів'!A:AB,14,FALSE),\"\")","v":40026},"фінансова порука",1,"од.","Полтавська","с.Велика Богачка",52000,"НІ","Діюче"]
[{"$f":"'1.Портфель кредитів'!A13","v":"351629__5"},{"$f":"IFERROR(#REF!,\"\")","v":""},{"$f":"IFERROR(VLOOKUP(A26,'1.Портфель кредитів'!A:AB,3,FALSE),\"\")","v":"МЕГАБАНК"},{"$f":"IFERROR(VLOOKUP(A26,'1.Портфель кредитів'!A:AB,14,FALSE),\"\")","v":41479},"обладнання",20,"од.","Вінницька","м.Іллінці",149925,"так","Діюче"]
[{"$f":"'1.Портфель кредитів'!A14","v":"351629__6"},{"$f":"IFERROR(#REF!,\"\")","v":""},{"$f":"IFERROR(VLOOKUP(A27,'1.Портфель кредитів'!A:AB,3,FALSE),\"\")","v":"МЕГАБАНК"},{"$f":"IFERROR(VLOOKUP(A27,'1.Портфель кредитів'!A:AB,14,FALSE),\"\")","v":42633},"товари",1,"од.","Запорізька","с.Дніпровка",450000,"так","Діюче"]
[{"$f":"'1.Портфель кредитів'!A14","v":"351629__6"},{"$f":"IFERROR(#REF!,\"\")","v":""},{"$f":"IFERROR(VLOOKUP(A28,'1.Портфель кредитів'!A:AB,3,FALSE),\"\")","v":"МЕГАБАНК"},{"$f":"IFERROR(VLOOKUP(A28,'1.Портфель кредитів'!A:AB,14,FALSE),\"\")","v":42633},"фінансова порука",1,"од.","Запорізька","м.Енергодар",4534506.4000000004,"НІ","Діюче"]
[{"$f":"'1.Портфель кредитів'!A15","v":"351629__7"},{"$f":"IFERROR(#REF!,\"\")","v":""},{"$f":"IFERROR(VLOOKUP(A29,'1.Портфель кредитів'!A:AB,3,FALSE),\"\")","v":"МЕГАБАНК"},{"$f":"IFERROR(VLOOKUP(A29,'1.Портфель кредитів'!A:AB,14,FALSE),\"\")","v":40162},"транспорт",4,"од.","Вінницька","м.Вінниця",240800,"НІ","Діюче","Заставне майно, а саме:  Транспорт вантажний (автомобілі марки FAW СА1041  в кількості 4 шт.2005 р.в.- знято позичальником самостійно з обліку в 2009р. "]
[{"$f":"'1.Портфель кредитів'!A15","v":"351629__7"},{"$f":"IFERROR(#REF!,\"\")","v":""},{"$f":"IFERROR(VLOOKUP(A30,'1.Портфель кредитів'!A:AB,3,FALSE),\"\")","v":"МЕГАБАНК"},{"$f":"IFERROR(VLOOKUP(A30,'1.Портфель кредитів'!A:AB,14,FALSE),\"\")","v":40162},"фінансова порука",1,"од.","Вінницька","с.Юхимівка",2179488.56,"НІ","Діюче"]
[{"$f":"'1.Портфель кредитів'!A16","v":"351629__8"},{"$f":"IFERROR(#REF!,\"\")","v":""},{"$f":"IFERROR(VLOOKUP(A31,'1.Портфель кредитів'!A:AB,3,FALSE),\"\")","v":"МЕГАБАНК"},{"$f":"IFERROR(VLOOKUP(A31,'1.Портфель кредитів'!A:AB,14,FALSE),\"\")","v":41477},"транспорт",1,"од.","Вінницька","м.Вінниця",138000,"НІ","Діюче"]
[{"$f":"'1.Портфель кредитів'!A16","v":"351629__8"},{"$f":"IFERROR(#REF!,\"\")","v":""},{"$f":"IFERROR(VLOOKUP(A32,'1.Портфель кредитів'!A:AB,3,FALSE),\"\")","v":"МЕГАБАНК"},{"$f":"IFERROR(VLOOKUP(A32,'1.Портфель кредитів'!A:AB,14,FALSE),\"\")","v":41477},"обладнання",4,"шт.","Вінницька","с.Якушинці",156600,"НІ","Діюче"]
[{"$f":"'1.Портфель кредитів'!A16","v":"351629__8"},{"$f":"IFERROR(#REF!,\"\")","v":""},{"$f":"IFERROR(VLOOKUP(A33,'1.Портфель кредитів'!A:AB,3,FALSE),\"\")","v":"МЕГАБАНК"},{"$f":"IFERROR(VLOOKUP(A33,'1.Портфель кредитів'!A:AB,14,FALSE),\"\")","v":41477},"транспорт",1,"од.","Вінницька","с.Юхимівка",199091,"НІ","Діюче"]
[{"$f":"'1.Портфель кредитів'!A16","v":"351629__8"},{"$f":"IFERROR(#REF!,\"\")","v":""},{"$f":"IFERROR(VLOOKUP(A34,'1.Портфель кредитів'!A:AB,3,FALSE),\"\")","v":"МЕГАБАНК"},{"$f":"IFERROR(VLOOKUP(A34,'1.Портфель кредитів'!A:AB,14,FALSE),\"\")","v":41477},"фінансова порука",1,"од.","Вінницька","м.Вінниця",4753918,"НІ","Діюче"]
[{"$f":"'1.Портфель кредитів'!A16","v":"351629__8"},{"$f":"IFERROR(#REF!,\"\")","v":""},{"$f":"IFERROR(VLOOKUP(A35,'1.Портфель кредитів'!A:AB,3,FALSE),\"\")","v":"МЕГАБАНК"},{"$f":"IFERROR(VLOOKUP(A35,'1.Портфель кредитів'!A:AB,14,FALSE),\"\")","v":41477},"фінансова порука",1,"од.","Вінницька","м.Вінниця",4753918,"НІ","Діюче"]
[{"$f":"'1.Портфель кредитів'!A17","v":"351629__9"},{"$f":"IFERROR(#REF!,\"\")","v":""},{"$f":"IFERROR(VLOOKUP(A36,'1.Портфель кредитів'!A:AB,3,FALSE),\"\")","v":"МЕГАБАНК"},{"$f":"IFERROR(VLOOKUP(A36,'1.Портфель кредитів'!A:AB,14,FALSE),\"\")","v":41537},"транспорт",1,"од.","Вінницька","с.Юхимівка",70000,"НІ","Діюче"]
[{"$f":"'1.Портфель кредитів'!A17","v":"351629__9"},{"$f":"IFERROR(#REF!,\"\")","v":""},{"$f":"IFERROR(VLOOKUP(A37,'1.Портфель кредитів'!A:AB,3,FALSE),\"\")","v":"МЕГАБАНК"},{"$f":"IFERROR(VLOOKUP(A37,'1.Портфель кредитів'!A:AB,14,FALSE),\"\")","v":41537},"обладнання",1,"од.","Вінницька","с.Якушинці",72000,"НІ","Діюче"]
[{"$f":"'1.Портфель кредитів'!A17","v":"351629__9"},{"$f":"IFERROR(#REF!,\"\")","v":""},{"$f":"IFERROR(VLOOKUP(A38,'1.Портфель кредитів'!A:AB,3,FALSE),\"\")","v":"МЕГАБАНК"},{"$f":"IFERROR(VLOOKUP(A38,'1.Портфель кредитів'!A:AB,14,FALSE),\"\")","v":41537},"житл. нерухомість",301.2,"м.кв.","Вінницька","с.Агрономічне",2044600,"так","Діюче"]
[{"$f":"'1.Портфель кредитів'!A17","v":"351629__9"},{"$f":"IFERROR(#REF!,\"\")","v":""},{"$f":"IFERROR(VLOOKUP(A39,'1.Портфель кредитів'!A:AB,3,FALSE),\"\")","v":"МЕГАБАНК"},{"$f":"IFERROR(VLOOKUP(A39,'1.Портфель кредитів'!A:AB,14,FALSE),\"\")","v":41537},"транспорт",1,"од.","Вінницька","с.Юхимівка",56260,"НІ","Діюче"]
[{"$f":"'1.Портфель кредитів'!A17","v":"351629__9"},{"$f":"IFERROR(#REF!,\"\")","v":""},{"$f":"IFERROR(VLOOKUP(A40,'1.Портфель кредитів'!A:AB,3,FALSE),\"\")","v":"МЕГАБАНК"},{"$f":"IFERROR(VLOOKUP(A40,'1.Портфель кредитів'!A:AB,14,FALSE),\"\")","v":41537},"фінансова порука",1,"од.","Вінницька","м.Вінниця",528700,"НІ","Діюче"]
[{"$f":"'1.Портфель кредитів'!A17","v":"351629__9"},{"$f":"IFERROR(#REF!,\"\")","v":""},{"$f":"IFERROR(VLOOKUP(A41,'1.Портфель кредитів'!A:AB,3,FALSE),\"\")","v":"МЕГАБАНК"},{"$f":"IFERROR(VLOOKUP(A41,'1.Портфель кредитів'!A:AB,14,FALSE),\"\")","v":41537},"фінансова порука",1,"од.","Вінницька","м.Вінниця",528700,"НІ","Діюче"]
[{"$f":"'1.Портфель кредитів'!A17","v":"351629__9"},{"$f":"IFERROR(#REF!,\"\")","v":""},{"$f":"IFERROR(VLOOKUP(A42,'1.Портфель кредитів'!A:AB,3,FALSE),\"\")","v":"МЕГАБАНК"},{"$f":"IFERROR(VLOOKUP(A42,'1.Портфель кредитів'!A:AB,14,FALSE),\"\")","v":41537},"фінансова порука",1,"од.","Вінницька","м.Вінниця",528700,"НІ","Діюче"]
[{"$f":"'1.Портфель кредитів'!A19","v":"351629__11"},{"$f":"IFERROR(#REF!,\"\")","v":""},{"$f":"IFERROR(VLOOKUP(A43,'1.Портфель кредитів'!A:AB,3,FALSE),\"\")","v":"МЕГАБАНК"},{"$f":"IFERROR(VLOOKUP(A43,'1.Портфель кредитів'!A:AB,14,FALSE),\"\")","v":41537},"житл. нерухомість",301.2,"м.кв.","Вінницька","с.Агрономічне",2044600,"так","Діюче"]
[{"$f":"'1.Портфель кредитів'!A19","v":"351629__11"},{"$f":"IFERROR(#REF!,\"\")","v":""},{"$f":"IFERROR(VLOOKUP(A44,'1.Портфель кредитів'!A:AB,3,FALSE),\"\")","v":"МЕГАБАНК"},{"$f":"IFERROR(VLOOKUP(A44,'1.Портфель кредитів'!A:AB,14,FALSE),\"\")","v":41537},"транспорт",1,"од.","Вінницька","с.Юхимівка",40740,"НІ","Діюче"]
[{"$f":"'1.Портфель кредитів'!A19","v":"351629__11"},{"$f":"IFERROR(#REF!,\"\")","v":""},{"$f":"IFERROR(VLOOKUP(A45,'1.Портфель кредитів'!A:AB,3,FALSE),\"\")","v":"МЕГАБАНК"},{"$f":"IFERROR(VLOOKUP(A45,'1.Портфель кредитів'!A:AB,14,FALSE),\"\")","v":41537},"транспорт",1,"од.","Вінницька","с.Юхимівка",100000,"НІ","Діюче"]
[{"$f":"'1.Портфель кредитів'!A19","v":"351629__11"},{"$f":"IFERROR(#REF!,\"\")","v":""},{"$f":"IFERROR(VLOOKUP(A46,'1.Портфель кредитів'!A:AB,3,FALSE),\"\")","v":"МЕГАБАНК"},{"$f":"IFERROR(VLOOKUP(A46,'1.Портфель кредитів'!A:AB,14,FALSE),\"\")","v":41537},"фінансова порука",1,"од.","Вінницька","м.Вінниця",382000,"НІ","Діюче"]
[{"$f":"'1.Портфель кредитів'!A19","v":"351629__11"},{"$f":"IFERROR(#REF!,\"\")","v":""},{"$f":"IFERROR(VLOOKUP(A47,'1.Портфель кредитів'!A:AB,3,FALSE),\"\")","v":"МЕГАБАНК"},{"$f":"IFERROR(VLOOKUP(A47,'1.Портфель кредитів'!A:AB,14,FALSE),\"\")","v":41537},"фінансова порука",1,"од.","Вінницька","м.Вінниця",382000,"НІ","Діюче"]
[{"$f":"'1.Портфель кредитів'!A19","v":"351629__11"},{"$f":"IFERROR(#REF!,\"\")","v":""},{"$f":"IFERROR(VLOOKUP(A48,'1.Портфель кредитів'!A:AB,3,FALSE),\"\")","v":"МЕГАБАНК"},{"$f":"IFERROR(VLOOKUP(A48,'1.Портфель кредитів'!A:AB,14,FALSE),\"\")","v":41537},"фінансова порука",1,"од.","Вінницька","м.Вінниця",382000,"НІ","Діюче"]
[{"$f":"'1.Портфель кредитів'!A20","v":"351629__12"},{"$f":"IFERROR(#REF!,\"\")","v":""},{"$f":"IFERROR(VLOOKUP(A49,'1.Портфель кредитів'!A:AB,3,FALSE),\"\")","v":"МЕГАБАНК"},{"$f":"IFERROR(VLOOKUP(A49,'1.Портфель кредитів'!A:AB,14,FALSE),\"\")","v":44714},"товари",1,"од.","Київська","с.Віта Поштова",49169153,"так","Діюче"]
[{"$f":"'1.Портфель кредитів'!A20","v":"351629__12"},{"$f":"IFERROR(#REF!,\"\")","v":""},{"$f":"IFERROR(VLOOKUP(A50,'1.Портфель кредитів'!A:AB,3,FALSE),\"\")","v":"МЕГАБАНК"},{"$f":"IFERROR(VLOOKUP(A50,'1.Портфель кредитів'!A:AB,14,FALSE),\"\")","v":44714},"фінансова порука",1,"од.","Київ","м.Київ",47000000,"НІ","Діюче"]
["320627__1","320627_1331789757","МР Банк","№05-В/11/32/ЮО/КЛ ","обладнання",81,"од.","Івано_Франківська","Пийло",1,"ТАК","В стані припинення (крім банкрутства)","Згідно акту огляду основних засобів від 18.12.2019 ідентифікувати обладнання не змогли через відсутність інвентарних номерів і його невикористання/старіння. За наявною інформацією від 22.05.2020 було списано 29 одиниць обладнання, та 09.07.2021 було списано 4 одиниці обладнання млина, тобто 40% було списано."]
["320627__1","320627_154361901130016994","МР Банк","№05-В/11/32/ЮО/КЛ ","ком. нерухомість",1673.1,"м.кв.","Івано_Франківська","Івано-Франківськ",15436190,"ТАК","Діюче","Іпотека  (комплекс торгово-офісних приміщень) проведено службове розслідування на предмет передачі в іпотеку неіснуючого майна та підробці документів, в результаті чого банк звернувся до правоохоронних органів з відповідною заявою. За даним фактом правоохоронними органами проведене досудове розслідування, за результатом якого матеріали передані в Івано-Франківський господарський суд. 28.08.2019 Банком подано позов в межах кримінальної справи. Матеріали направлено до суду для залучення до кримінальної відповідальності посадових осіб ТОВ «Компанія Рона». В Івано-Франківському міському судіздійснюється слухання кримінальної справи Відсутня ДУ№2 до договору іпотеки"]
["320627__1","320627_16000000631789757","МР Банк","№05-В/11/32/ЮО/КЛ ","майнові права",1,"од.","Івано_Франківська","Івано-Франківськ",16000000,"ТАК","В стані припинення (крім банкрутства)","Згідно листа Заставодавця від 15.06.2020, договір №15/12р-11 від 15.12.2011 припинено за домовленістю сторін"]
["320627__1","320627_50000000631789757","МР Банк","№05-В/11/32/ЮО/КЛ ","майнові права",1,"од.","Івано_Франківська","Івано-Франківськ",50000000,"ТАК","В стані припинення (крім банкрутства)","Згідно листа Заставодавця від 15.06.2020, договір №010414 від 23.12.2015 припинено за домовленістю сторін"]
["320627__1","320627_10670717572877809037","МР Банк","№05-В/11/32/ЮО/КЛ ","фінансова порука",1,"од.",null,null,106707174.80000001]
["320627__1","320627_10670717572862623414","МР Банк","№05-В/11/32/ЮО/КЛ ","фінансова порука",1,"од.",null,null,106707174.80000001]
["320627__1","320627_10670717572148406558","МР Банк","№05-В/11/32/ЮО/КЛ ","фінансова порука",1,"од.",null,null,106707174.80000001]
["320627__1","320627_10670717572287121326","МР Банк","№05-В/11/32/ЮО/КЛ ","фінансова порука",1,"од.",null,null,106707174.80000001]
["320627__2","320627_080","МР Банк","№Т032-013006290","беззаставний"]
["300012__1","","ПРОМІНВЕСТБАНК","07/4-07","транспорт",1,"шт.","Закарпатська","село Нижнє Солотвино",64000,"НІ",null,"останній акт перевірки в 2011"]
["300012__2","","ПРОМІНВЕСТБАНК","07/4-07","транспорт",1,"шт.","Закарпатська","село Холмок",70000,"НІ",null,"останній акт перевірки в 2011"]
["300012__3","","ПРОМІНВЕСТБАНК","07/4-07","транспорт",1,"шт.","Закарпатська","село Холмок",150000,"НІ",null,"останній акт перевірки в 2011"]
["300012__2","","ПРОМІНВЕСТБАНК","13/4-07","транспорт",1,"шт.","Закарпатська","місто Берегово",975000,"НІ","Діюче","останній акт перевірки в 2013 році"]
["300012__3","","ПРОМІНВЕСТБАНК","38/3-07","ком. нерухомість",655.13,"м.кв.","Закарпатська","село Латірка",779000,"НІ","Ліквідовано"]
["300012__3","","ПРОМІНВЕСТБАНК","38/3-07","обладнання",2,"од.","Закарпатська","село Латірка",100000,"НІ","Ліквідовано","остання перевірка у 2013 році"]
["300012__4","","ПРОМІНВЕСТБАНК","06-2.1/1018 ","земельні ділянки",0.19400000000000001,"га","Вінницька","місто Вінниця",16071722,"НІ","Банкрутство","На даний час та станом на дату звернення до суду на земельній ділянці по вул. Пирогова  у м. Вінниці (яка була розподілена на кілька земельних ділянок з присвоєнням окремих кадастрових номерів) розміщено два об`єкти нерухомого майна:\n- готельно-розважальний центр , загальною площею 8 145,3 кв.м., що розташований за адресою вул. Пирогова, м. Вінниця;\n- об`єкт незавершеного будівництва торгово-офісного комплексу (другий пусковий комплекс), що знаходиться на земельній ділянці площею 0,1430 га, розташований за адресою вул. Пирогова, м. Вінниця "]
["300012__4",null,"ПРОМІНВЕСТБАНК","06-2.1/1018 ","ком. нерухомість","4275,1 м.кв; 2,32 га","м.кв.; га","Вінницька","місто Вінниця",14470000,"НІ"]
["300012__4","","ПРОМІНВЕСТБАНК","06-2.1/1018 ","обладнання",4,"од.","Вінницька","місто Вінниця",4176000,"НІ","Діюче","останній акт перевірки в 2011"]
["300012__4","","ПРОМІНВЕСТБАНК","06-2.1/1018 ","обладнання",55,"од.","Вінницька","місто Вінниця",4079283.62,"НІ","Діюче","останній акт перевірки в 2011"]
["300012__4","","ПРОМІНВЕСТБАНК","06-2.1/1018 ","фінансова порука",null,null,null,null,32575000,null,"Діюче"]
["300012__5","","ПРОМІНВЕСТБАНК","06-2.1/1019 ","земельні ділянки",0.19400000000000001,"га","Вінницька","місто Вінниця",16071722,"НІ","Банкрутство","На даний час та станом на дату звернення до суду на земельній ділянці по вул. Пирогова  у м. Вінниці (яка була розподілена на кілька земельних ділянок з присвоєнням окремих кадастрових номерів) розміщено два об`єкти нерухомого майна:\n- готельно-розважальний центр \"Феріде Плаза\", загальною площею 8 145,3 кв.м., що розташований за адресою вул. Пирогова,  м. Вінниця;\n- об`єкт незавершеного будівництва торгово-офісного комплексу (другий пусковий комплекс), що знаходиться на земельній ділянці площею 0,1430 га, розташований за адресою вул. Пирогова,  м. Вінниця "]
["300012__5","","ПРОМІНВЕСТБАНК","06-2.1/1019 ","ком. нерухомість","4275,1 м.кв; 2,32 га","м.кв.; га","Вінницька","місто Вінниця",14470000,"НІ"]
["300012__5","","ПРОМІНВЕСТБАНК","06-2.1/1019 ","обладнання",4,"од.","Вінницька","місто Вінниця",4176000,"НІ","Діюче","останній акт перевірки в 2011"]
["300012__5","","ПРОМІНВЕСТБАНК","06-2.1/1019 ","обладнання",55,"од.","Вінницька","місто Вінниця",4079283.62,"НІ","Діюче","останній акт перевірки в 2011"]
["300012__5","","ПРОМІНВЕСТБАНК","06-2.1/1019 ","фінансова порука",null,null,null,null,32575000,null,"Діюче"]
["300012__6","","ПРОМІНВЕСТБАНК","1234/05-К","беззаставний"]
["300012__7","","ПРОМІНВЕСТБАНК","04-02-08/218","ком. нерухомість",2680.3,"м.кв.","Київська","місто Васильків",8566000,"НІ"]
["300012__7","","ПРОМІНВЕСТБАНК","04-02-08/218","майнові права",1,"од.",null,null,5000000,"НІ","Діюче"]
["300012__7","","ПРОМІНВЕСТБАНК","04-02-08/218","фінансова порука",null,null,null,null,825000,null,"Діюче"]
["300012__7","","ПРОМІНВЕСТБАНК","04-02-08/218","фінансова порука",null,null,null,null,825000]
["300012__8","","ПРОМІНВЕСТБАНК","03-01-20/544822/107","беззаставний"]
["300012__9","","ПРОМІНВЕСТБАНК","3/8/08","товари",92,"од.","Донецька"," м. Краматорськ",34733,"НІ","Діюче","останній акт перевірки від 2010 року"]
["300012__10","","ПРОМІНВЕСТБАНК","313-КР","беззаставний"]
["300012__11","","ПРОМІНВЕСТБАНК","347","обладнання",3,"од.","Житомирська"," місто Новоград-Волинський",71400,"НІ","В стані припинення (крім банкрутства)","наявність - невідомо"]
["300012__11","","ПРОМІНВЕСТБАНК","347","товари",8.34,"т","Житомирська"," місто Новоград-Волинський",69000,"НІ","Діюче","наявність - невідомо"]
["300012__11","","ПРОМІНВЕСТБАНК","347","фінансова порука",null,null,null,null,190058.73,null,"Діюче"]
["300012__12","","ПРОМІНВЕСТБАНК","1396","беззаставний"]
["300012__13","","ПРОМІНВЕСТБАНК","642/05-к","транспорт",1,"шт.","Львівська","місто Львів",22501.24,"НІ","Діюче","остання перевірка у січні 2007 року"]
["300012__14","","ПРОМІНВЕСТБАНК","997/05-к","беззаставний"]
["300012__15","","ПРОМІНВЕСТБАНК","521/05-К","беззаставний"]
["300012__16","","ПРОМІНВЕСТБАНК","793/05-К","беззаставний",null,null,null,null,null,null,null,"в кредитній справі наявний лист, щодо примусової реалізації заставленого майна майнового поручителя   (поточний стан: припино) ліквідатором по справі 33/235. інша інформація відсутня"]
["300012__17","","ПРОМІНВЕСТБАНК","483/06","ком. нерухомість",591,"м.кв.","Рівненська","місто Костопіль",400000,"НІ","В стані припинення (крім банкрутства)"]
["300012__17","","ПРОМІНВЕСТБАНК","483/06","товари","1. 20000; 2. 9000","кг","Рівненська","місто Костопіль",200000,"НІ","В стані припинення (крім банкрутства)","остання перевірка у 2013 році"]
["300012__18","","ПРОМІНВЕСТБАНК","02-05/595","беззаставний"]
["300012__19","","ПРОМІНВЕСТБАНК","2257 ","беззаставний"]
["300012__20","","ПРОМІНВЕСТБАНК","02-07/797","беззаставний"]
["300012__21","","ПРОМІНВЕСТБАНК","02-06/1110","беззаставний"]
["300012__22","","ПРОМІНВЕСТБАНК","03-1/114","ком. нерухомість",449.6,"м.кв.","Тернопільська","с. Дорофіївка",170000,"НІ","Діюче"]
["300012__22","","ПРОМІНВЕСТБАНК","03-1/114","транспорт",6,"од.","Волинська","с.Снігурівка",2285000,"НІ","Діюче","наявність - невідомо"]
["300012__23","","ПРОМІНВЕСТБАНК","20-0541/2-1","беззаставний"]
["300012__24","","ПРОМІНВЕСТБАНК","13-КЛ-04","беззаставний"]
["300012__25","","ПРОМІНВЕСТБАНК","1814/02-07","беззаставний"]
["300012__26","","ПРОМІНВЕСТБАНК","07-229к","беззаставний"]
["300012__27","","ПРОМІНВЕСТБАНК",63,"транспорт",2,"од.","Івано_Франківська","м. Івано-Франковськ",390000,"НІ","Діюче","інформація щодо наявності відсутня"]
["300012__28","","ПРОМІНВЕСТБАНК","362/2-2007","беззаставний"]
["300012__29","","ПРОМІНВЕСТБАНК",704,"беззаставний"]
["300012__30","","ПРОМІНВЕСТБАНК",162,"беззаставний"]
["300012__31","","ПРОМІНВЕСТБАНК","134-146/02","беззаставний"]
["300012__32","","ПРОМІНВЕСТБАНК","21/89","беззаставний"]
["300012__33","","ПРОМІНВЕСТБАНК","02-2.1/078","беззаставний"]
["300012__34","","ПРОМІНВЕСТБАНК","12/32а-04","беззаставний"]
["300012__35","","ПРОМІНВЕСТБАНК",105,"фінансова порука",null,null,null,null,2000000]
["300012__36","","ПРОМІНВЕСТБАНК",191,"беззаставний"]
["300012__37","","ПРОМІНВЕСТБАНК","18-2006Л","земельні ділянки",0.14499999999999999,"га","Львівська","с. Волосянка ",300000,"ТАК"]
["300012__38","","ПРОМІНВЕСТБАНК","02-2.1/663","транспорт",1,"од.","Вінницька","м. Жмеринка",20000,"НІ",null,"інформація щодо наявності відсутня"]
["300012__39","","ПРОМІНВЕСТБАНК",11,"земельні ділянки",2500,"м.кв.","Івано_Франківська","с.Посіч",162900,"НІ",null,"Відповідно до актів про реалізації предметів іпотеки від 25.08.2021 року та протоколів проведення електронних торгів Банк виявив бажання залишити за собою предмети іпотеки  в рахунок ціни майна за стартовою ціною третіх торгів 269 220,00 грн. (89 740,00  грн. за кожен окремо). Триває процедура оформлення документації на земельні ділянки з майбутнім переоформленням права власності за банком."]
["300012__39","","ПРОМІНВЕСТБАНК",11,"земельні ділянки",2500,"м.кв.","Івано_Франківська","с.Посіч",162900,"НІ",null,"Відповідно до актів про реалізації предметів іпотеки від 25.08.2021 року та протоколів проведення електронних торгів Банк виявив бажання залишити за собою предмети іпотеки  в рахунок ціни майна за стартовою ціною третіх торгів 269 220,00 грн. (89 740,00  грн. за кожен окремо). Триває процедура оформлення документації на земельні ділянки з майбутнім переоформленням права власності за банком."]
["300012__39","","ПРОМІНВЕСТБАНК",11,"земельні ділянки",2500,"м.кв.","Івано_Франківська","с.Посіч",162900,"НІ",null,"Відповідно до актів про реалізації предметів іпотеки від 25.08.2021 року та протоколів проведення електронних торгів Банк виявив бажання залишити за собою предмети іпотеки  в рахунок ціни майна за стартовою ціною третіх торгів 269 220,00 грн. (89 740,00  грн. за кожен окремо). Триває процедура оформлення документації на земельні ділянки з майбутнім переоформленням права власності за банком."]
["300012__40","","ПРОМІНВЕСТБАНК","94/2006","обладнання",1,"лінія","Одеська","м. Одеса",250000,"НІ",null,"інформація щодо наявності відсутня"]
["300012__41","","ПРОМІНВЕСТБАНК",32,"беззаставний"]
["300012__42","","ПРОМІНВЕСТБАНК","22-24/02","беззаставний"]
["300012__43","","ПРОМІНВЕСТБАНК","268-02-79","ком. нерухомість",210.9,"м.кв.","Сумська","м.Конотоп",130000,"НІ"]
["300012__44","","ПРОМІНВЕСТБАНК","53/3-06","беззаставний"]
["300012__45","","ПРОМІНВЕСТБАНК","87/3-05","беззаставний"]
["300012__46","","ПРОМІНВЕСТБАНК","25","беззаставний"]
["300012__47","","ПРОМІНВЕСТБАНК","70/210","беззаставний"]
["300012__48","","ПРОМІНВЕСТБАНК","689-04/08","беззаставний"]
["300012__49","","ПРОМІНВЕСТБАНК","148/10","беззаставний"]
["300012__50","","ПРОМІНВЕСТБАНК","119/02-08","беззаставний"]
["300012__51","","ПРОМІНВЕСТБАНК","241/02-08","беззаставний"]
["300012__52","","ПРОМІНВЕСТБАНК","044-60-01-15","беззаставний"]
["300012__53","","ПРОМІНВЕСТБАНК","11/3-07","беззаставний"]
["300012__54","","ПРОМІНВЕСТБАНК","157/2-06","майнові права",1,"од.",null,null,96000,"НІ",null,"при проведенні виконавчого провадження отриманого майна не виявлено"]
["300012__54","","ПРОМІНВЕСТБАНК","157/2-06","майнові права",1,"од.",null,null,20000,"НІ",null,"при проведенні виконавчого провадження отриманого майна не виявлено"]
["300012__55","","ПРОМІНВЕСТБАНК","I-29/08","беззаставний"]
["300012__56","","ПРОМІНВЕСТБАНК","42-2005Л","земельні ділянки","0,06; 0,25; 0,076","га","Львівська","1)  с.Волосянка; 2)  с.Тухля; 3) с.Волосянка",700000,"ТАК","Інше","власник іпотеки помер"]
["300012__57","","ПРОМІНВЕСТБАНК","03-1/117-224-03/07","беззаставний"]
["300012__58","","ПРОМІНВЕСТБАНК","396/02-08","беззаставний"]
["300012__59","","ПРОМІНВЕСТБАНК","527","товари","детальна інформація відсутня",null,"Закарпатська"," с. Біла Церква",3140528,"НІ","Ліквідовано","інформація щодо наявності відсутня"]
["300012__60","","ПРОМІНВЕСТБАНК","224","транспорт",1,"од.","Донецька","місто Слов'янськ",282624,"НІ","Діюче","Поточне місцезнаходження майна невідоме"]
["300012__60","","ПРОМІНВЕСТБАНК","224","фінансова порука",null,null,null,null,360000,null,"Банкрутство"]
["300012__61","","ПРОМІНВЕСТБАНК","1/07","беззаставний"]
["300012__62","","ПРОМІНВЕСТБАНК","23/1-08","беззаставний"]
["300012__63","","ПРОМІНВЕСТБАНК","140/772","беззаставний"]
["300012__64","","ПРОМІНВЕСТБАНК","104/569","беззаставний"]
["300012__65","","ПРОМІНВЕСТБАНК","03-27","беззаставний"]
["300012__66","","ПРОМІНВЕСТБАНК","45-08\\КР","беззаставний"]
["300012__67","","ПРОМІНВЕСТБАНК","265/02-06","житл. нерухомість","3380,3; 1000","м.кв.","Дніпропетровська","м.Дніпро",8423350,"НІ","Діюче"]
["300012__67","","ПРОМІНВЕСТБАНК","265/02-06","земельні ділянки",2.3E-2,"га","Дніпропетровська","м.Дніпро",293000,"НІ","Діюче","по виконавчим документам пропущений строк пред'явлення до виконання"]
["300012__67","","ПРОМІНВЕСТБАНК","265/02-06","житл. нерухомість",78.5,"м.кв.","Дніпропетровська","м.Дніпро",78000,"НІ",null,"по виконавчим документам пропущений строк пред'явлення до виконання"]
["300012__68","","ПРОМІНВЕСТБАНК","23/32a-04","житл. нерухомість",176.6,"м.кв.","Закарпатська","місто Мукачево",738000,"НІ"]
["300012__69","","ПРОМІНВЕСТБАНК","02-07/1640","обладнання",1,"лінія","Закарпатська","село Голубине",455000,"НІ","Інше","власник застави помер; остання перевірка майна у 2008 році"]
["300012__70","","ПРОМІНВЕСТБАНК","25","беззаставний"]
["300012__71","","ПРОМІНВЕСТБАНК","145/799","беззаставний"]
["300012__72","","ПРОМІНВЕСТБАНК","61/32-04","транспорт",1,"од.","Закарпатська","місто Ужгород",126400,"НІ",null,"остання перевірка у 2009 році"]
["300012__72","","ПРОМІНВЕСТБАНК","61/32-04","фінансова порука",null,null,null,null,142000]
["300012__73","","ПРОМІНВЕСТБАНК","89/501","беззаставний"]
["300012__74","","ПРОМІНВЕСТБАНК","20-0299/2-1","фінансова порука",null,null,null,null,4000000,null,"нерезидент"]
["300012__75","","ПРОМІНВЕСТБАНК","20-0841/2-1","майнові права",null,null,null,null,97609110,"НІ","Банкрутство"]
["300012__76","","ПРОМІНВЕСТБАНК","20-0298/3-2","беззаставний"]
["300012__77","","ПРОМІНВЕСТБАНК","20-0298/3-2","беззаставний"]
[]
[]
[null,{"$f":"IFERROR(#REF!,\"\")","v":""},{"$f":"IFERROR(VLOOKUP(A164,'1.Портфель кредитів'!A:AB,3,FALSE),\"\")","v":""},{"$f":"IFERROR(VLOOKUP(A164,'1.Портфель кредитів'!A:AB,14,FALSE),\"\")","v":""}]
[null,{"$f":"IFERROR(#REF!,\"\")","v":""},{"$f":"IFERROR(VLOOKUP(A165,'1.Портфель кредитів'!A:AB,3,FALSE),\"\")","v":""},{"$f":"IFERROR(VLOOKUP(A165,'1.Портфель кредитів'!A:AB,14,FALSE),\"\")","v":""}]
[null,{"$f":"IFERROR(#REF!,\"\")","v":""},{"$f":"IFERROR(VLOOKUP(A166,'1.Портфель кредитів'!A:AB,3,FALSE),\"\")","v":""},{"$f":"IFERROR(VLOOKUP(A166,'1.Портфель кредитів'!A:AB,14,FALSE),\"\")","v":""}]
[]
[null,{"$f":"IFERROR(#REF!,\"\")","v":""},{"$f":"IFERROR(VLOOKUP(A168,'1.Портфель кредитів'!A:AB,3,FALSE),\"\")","v":""},{"$f":"IFERROR(VLOOKUP(A168,'1.Портфель кредитів'!A:AB,14,FALSE),\"\")","v":""}]
[null,{"$f":"IFERROR(#REF!,\"\")","v":""},{"$f":"IFERROR(VLOOKUP(A169,'1.Портфель кредитів'!A:AB,3,FALSE),\"\")","v":""},{"$f":"IFERROR(VLOOKUP(A169,'1.Портфель кредитів'!A:AB,14,FALSE),\"\")","v":""}]
[null,{"$f":"IFERROR(#REF!,\"\")","v":""},{"$f":"IFERROR(VLOOKUP(A170,'1.Портфель кредитів'!A:AB,3,FALSE),\"\")","v":""},{"$f":"IFERROR(VLOOKUP(A170,'1.Портфель кредитів'!A:AB,14,FALSE),\"\")","v":""}]
[null,{"$f":"IFERROR(#REF!,\"\")","v":""},{"$f":"IFERROR(VLOOKUP(A171,'1.Портфель кредитів'!A:AB,3,FALSE),\"\")","v":""},{"$f":"IFERROR(VLOOKUP(A171,'1.Портфель кредитів'!A:AB,14,FALSE),\"\")","v":""}]
[null,{"$f":"IFERROR(#REF!,\"\")","v":""},{"$f":"IFERROR(VLOOKUP(A172,'1.Портфель кредитів'!A:AB,3,FALSE),\"\")","v":""},{"$f":"IFERROR(VLOOKUP(A172,'1.Портфель кредитів'!A:AB,14,FALSE),\"\")","v":""}]
[null,{"$f":"IFERROR(#REF!,\"\")","v":""},{"$f":"IFERROR(VLOOKUP(A173,'1.Портфель кредитів'!A:AB,3,FALSE),\"\")","v":""},{"$f":"IFERROR(VLOOKUP(A173,'1.Портфель кредитів'!A:AB,14,FALSE),\"\")","v":""}]
[null,{"$f":"IFERROR(#REF!,\"\")","v":""},{"$f":"IFERROR(VLOOKUP(A174,'1.Портфель кредитів'!A:AB,3,FALSE),\"\")","v":""},{"$f":"IFERROR(VLOOKUP(A174,'1.Портфель кредитів'!A:AB,14,FALSE),\"\")","v":""}]
[null,{"$f":"IFERROR(#REF!,\"\")","v":""},{"$f":"IFERROR(VLOOKUP(A175,'1.Портфель кредитів'!A:AB,3,FALSE),\"\")","v":""},{"$f":"IFERROR(VLOOKUP(A175,'1.Портфель кредитів'!A:AB,14,FALSE),\"\")","v":""}]
[null,{"$f":"IFERROR(#REF!,\"\")","v":""},{"$f":"IFERROR(VLOOKUP(A176,'1.Портфель кредитів'!A:AB,3,FALSE),\"\")","v":""},{"$f":"IFERROR(VLOOKUP(A176,'1.Портфель кредитів'!A:AB,14,FALSE),\"\")","v":""}]
[null,{"$f":"IFERROR(#REF!,\"\")","v":""},{"$f":"IFERROR(VLOOKUP(A177,'1.Портфель кредитів'!A:AB,3,FALSE),\"\")","v":""},{"$f":"IFERROR(VLOOKUP(A177,'1.Портфель кредитів'!A:AB,14,FALSE),\"\")","v":""}]
[null,{"$f":"IFERROR(#REF!,\"\")","v":""},{"$f":"IFERROR(VLOOKUP(A178,'1.Портфель кредитів'!A:AB,3,FALSE),\"\")","v":""},{"$f":"IFERROR(VLOOKUP(A178,'1.Портфель кредитів'!A:AB,14,FALSE),\"\")","v":""}]
[null,{"$f":"IFERROR(#REF!,\"\")","v":""},{"$f":"IFERROR(VLOOKUP(A179,'1.Портфель кредитів'!A:AB,3,FALSE),\"\")","v":""},{"$f":"IFERROR(VLOOKUP(A179,'1.Портфель кредитів'!A:AB,14,FALSE),\"\")","v":""}]
[null,{"$f":"IFERROR(#REF!,\"\")","v":""},{"$f":"IFERROR(VLOOKUP(A180,'1.Портфель кредитів'!A:AB,3,FALSE),\"\")","v":""},{"$f":"IFERROR(VLOOKUP(A180,'1.Портфель кредитів'!A:AB,14,FALSE),\"\")","v":""}]
[null,{"$f":"IFERROR(#REF!,\"\")","v":""},{"$f":"IFERROR(VLOOKUP(A181,'1.Портфель кредитів'!A:AB,3,FALSE),\"\")","v":""},{"$f":"IFERROR(VLOOKUP(A181,'1.Портфель кредитів'!A:AB,14,FALSE),\"\")","v":""}]
[null,{"$f":"IFERROR(#REF!,\"\")","v":""},{"$f":"IFERROR(VLOOKUP(A182,'1.Портфель кредитів'!A:AB,3,FALSE),\"\")","v":""},{"$f":"IFERROR(VLOOKUP(A182,'1.Портфель кредитів'!A:AB,14,FALSE),\"\")","v":""}]
[null,{"$f":"IFERROR(#REF!,\"\")","v":""},{"$f":"IFERROR(VLOOKUP(A183,'1.Портфель кредитів'!A:AB,3,FALSE),\"\")","v":""},{"$f":"IFERROR(VLOOKUP(A183,'1.Портфель кредитів'!A:AB,14,FALSE),\"\")","v":""}]
[null,{"$f":"IFERROR(#REF!,\"\")","v":""},{"$f":"IFERROR(VLOOKUP(A184,'1.Портфель кредитів'!A:AB,3,FALSE),\"\")","v":""},{"$f":"IFERROR(VLOOKUP(A184,'1.Портфель кредитів'!A:AB,14,FALSE),\"\")","v":""}]
[null,{"$f":"IFERROR(#REF!,\"\")","v":""},{"$f":"IFERROR(VLOOKUP(A185,'1.Портфель кредитів'!A:AB,3,FALSE),\"\")","v":""},{"$f":"IFERROR(VLOOKUP(A185,'1.Портфель кредитів'!A:AB,14,FALSE),\"\")","v":""}]
[null,{"$f":"IFERROR(#REF!,\"\")","v":""},{"$f":"IFERROR(VLOOKUP(A186,'1.Портфель кредитів'!A:AB,3,FALSE),\"\")","v":""},{"$f":"IFERROR(VLOOKUP(A186,'1.Портфель кредитів'!A:AB,14,FALSE),\"\")","v":""}]
[null,{"$f":"IFERROR(#REF!,\"\")","v":""},{"$f":"IFERROR(VLOOKUP(A187,'1.Портфель кредитів'!A:AB,3,FALSE),\"\")","v":""},{"$f":"IFERROR(VLOOKUP(A187,'1.Портфель кредитів'!A:AB,14,FALSE),\"\")","v":""}]
[null,{"$f":"IFERROR(#REF!,\"\")","v":""},{"$f":"IFERROR(VLOOKUP(A188,'1.Портфель кредитів'!A:AB,3,FALSE),\"\")","v":""},{"$f":"IFERROR(VLOOKUP(A188,'1.Портфель кредитів'!A:AB,14,FALSE),\"\")","v":""}]
[null,{"$f":"IFERROR(#REF!,\"\")","v":""},{"$f":"IFERROR(VLOOKUP(A189,'1.Портфель кредитів'!A:AB,3,FALSE),\"\")","v":""},{"$f":"IFERROR(VLOOKUP(A189,'1.Портфель кредитів'!A:AB,14,FALSE),\"\")","v":""}]
[null,{"$f":"IFERROR(#REF!,\"\")","v":""},{"$f":"IFERROR(VLOOKUP(A190,'1.Портфель кредитів'!A:AB,3,FALSE),\"\")","v":""},{"$f":"IFERROR(VLOOKUP(A190,'1.Портфель кредитів'!A:AB,14,FALSE),\"\")","v":""}]
[null,{"$f":"IFERROR(#REF!,\"\")","v":""},{"$f":"IFERROR(VLOOKUP(A191,'1.Портфель кредитів'!A:AB,3,FALSE),\"\")","v":""},{"$f":"IFERROR(VLOOKUP(A191,'1.Портфель кредитів'!A:AB,14,FALSE),\"\")","v":""}]
[null,{"$f":"IFERROR(#REF!,\"\")","v":""},{"$f":"IFERROR(VLOOKUP(A192,'1.Портфель кредитів'!A:AB,3,FALSE),\"\")","v":""},{"$f":"IFERROR(VLOOKUP(A192,'1.Портфель кредитів'!A:AB,14,FALSE),\"\")","v":""}]
[null,{"$f":"IFERROR(#REF!,\"\")","v":""},{"$f":"IFERROR(VLOOKUP(A193,'1.Портфель кредитів'!A:AB,3,FALSE),\"\")","v":""},{"$f":"IFERROR(VLOOKUP(A193,'1.Портфель кредитів'!A:AB,14,FALSE),\"\")","v":""}]
[null,{"$f":"IFERROR(#REF!,\"\")","v":""},{"$f":"IFERROR(VLOOKUP(A194,'1.Портфель кредитів'!A:AB,3,FALSE),\"\")","v":""},{"$f":"IFERROR(VLOOKUP(A194,'1.Портфель кредитів'!A:AB,14,FALSE),\"\")","v":""}]
[null,{"$f":"IFERROR(#REF!,\"\")","v":""},{"$f":"IFERROR(VLOOKUP(A195,'1.Портфель кредитів'!A:AB,3,FALSE),\"\")","v":""},{"$f":"IFERROR(VLOOKUP(A195,'1.Портфель кредитів'!A:AB,14,FALSE),\"\")","v":""}]
[null,{"$f":"IFERROR(#REF!,\"\")","v":""},{"$f":"IFERROR(VLOOKUP(A196,'1.Портфель кредитів'!A:AB,3,FALSE),\"\")","v":""},{"$f":"IFERROR(VLOOKUP(A196,'1.Портфель кредитів'!A:AB,14,FALSE),\"\")","v":""}]
[null,{"$f":"IFERROR(#REF!,\"\")","v":""},{"$f":"IFERROR(VLOOKUP(A197,'1.Портфель кредитів'!A:AB,3,FALSE),\"\")","v":""},{"$f":"IFERROR(VLOOKUP(A197,'1.Портфель кредитів'!A:AB,14,FALSE),\"\")","v":""}]
[null,{"$f":"IFERROR(#REF!,\"\")","v":""},{"$f":"IFERROR(VLOOKUP(A198,'1.Портфель кредитів'!A:AB,3,FALSE),\"\")","v":""},{"$f":"IFERROR(VLOOKUP(A198,'1.Портфель кредитів'!A:AB,14,FALSE),\"\")","v":""}]
[null,{"$f":"IFERROR(#REF!,\"\")","v":""},{"$f":"IFERROR(VLOOKUP(A199,'1.Портфель кредитів'!A:AB,3,FALSE),\"\")","v":""},{"$f":"IFERROR(VLOOKUP(A199,'1.Портфель кредитів'!A:AB,14,FALSE),\"\")","v":""}]
[null,{"$f":"IFERROR(#REF!,\"\")","v":""},{"$f":"IFERROR(VLOOKUP(A200,'1.Портфель кредитів'!A:AB,3,FALSE),\"\")","v":""},{"$f":"IFERROR(VLOOKUP(A200,'1.Портфель кредитів'!A:AB,14,FALSE),\"\")","v":""}]
[null,{"$f":"IFERROR(#REF!,\"\")","v":""},{"$f":"IFERROR(VLOOKUP(A201,'1.Портфель кредитів'!A:AB,3,FALSE),\"\")","v":""},{"$f":"IFERROR(VLOOKUP(A201,'1.Портфель кредитів'!A:AB,14,FALSE),\"\")","v":""}]
[null,{"$f":"IFERROR(#REF!,\"\")","v":""},{"$f":"IFERROR(VLOOKUP(A202,'1.Портфель кредитів'!A:AB,3,FALSE),\"\")","v":""},{"$f":"IFERROR(VLOOKUP(A202,'1.Портфель кредитів'!A:AB,14,FALSE),\"\")","v":""}]
[null,{"$f":"IFERROR(#REF!,\"\")","v":""},{"$f":"IFERROR(VLOOKUP(A203,'1.Портфель кредитів'!A:AB,3,FALSE),\"\")","v":""},{"$f":"IFERROR(VLOOKUP(A203,'1.Портфель кредитів'!A:AB,14,FALSE),\"\")","v":""}]
[null,{"$f":"IFERROR(#REF!,\"\")","v":""},{"$f":"IFERROR(VLOOKUP(A204,'1.Портфель кредитів'!A:AB,3,FALSE),\"\")","v":""},{"$f":"IFERROR(VLOOKUP(A204,'1.Портфель кредитів'!A:AB,14,FALSE),\"\")","v":""}]
[null,{"$f":"IFERROR(#REF!,\"\")","v":""},{"$f":"IFERROR(VLOOKUP(A205,'1.Портфель кредитів'!A:AB,3,FALSE),\"\")","v":""},{"$f":"IFERROR(VLOOKUP(A205,'1.Портфель кредитів'!A:AB,14,FALSE),\"\")","v":""}]
[null,{"$f":"IFERROR(#REF!,\"\")","v":""},{"$f":"IFERROR(VLOOKUP(A206,'1.Портфель кредитів'!A:AB,3,FALSE),\"\")","v":""},{"$f":"IFERROR(VLOOKUP(A206,'1.Портфель кредитів'!A:AB,14,FALSE),\"\")","v":""}]
[null,{"$f":"IFERROR(#REF!,\"\")","v":""},{"$f":"IFERROR(VLOOKUP(A207,'1.Портфель кредитів'!A:AB,3,FALSE),\"\")","v":""},{"$f":"IFERROR(VLOOKUP(A207,'1.Портфель кредитів'!A:AB,14,FALSE),\"\")","v":""}]
[null,{"$f":"IFERROR(#REF!,\"\")","v":""},{"$f":"IFERROR(VLOOKUP(A208,'1.Портфель кредитів'!A:AB,3,FALSE),\"\")","v":""},{"$f":"IFERROR(VLOOKUP(A208,'1.Портфель кредитів'!A:AB,14,FALSE),\"\")","v":""}]
[null,{"$f":"IFERROR(#REF!,\"\")","v":""},{"$f":"IFERROR(VLOOKUP(A209,'1.Портфель кредитів'!A:AB,3,FALSE),\"\")","v":""},{"$f":"IFERROR(VLOOKUP(A209,'1.Портфель кредитів'!A:AB,14,FALSE),\"\")","v":""}]
[null,{"$f":"IFERROR(#REF!,\"\")","v":""},{"$f":"IFERROR(VLOOKUP(A210,'1.Портфель кредитів'!A:AB,3,FALSE),\"\")","v":""},{"$f":"IFERROR(VLOOKUP(A210,'1.Портфель кредитів'!A:AB,14,FALSE),\"\")","v":""}]
[null,{"$f":"IFERROR(#REF!,\"\")","v":""},{"$f":"IFERROR(VLOOKUP(A211,'1.Портфель кредитів'!A:AB,3,FALSE),\"\")","v":""},{"$f":"IFERROR(VLOOKUP(A211,'1.Портфель кредитів'!A:AB,14,FALSE),\"\")","v":""}]
[null,{"$f":"IFERROR(#REF!,\"\")","v":""},{"$f":"IFERROR(VLOOKUP(A212,'1.Портфель кредитів'!A:AB,3,FALSE),\"\")","v":""},{"$f":"IFERROR(VLOOKUP(A212,'1.Портфель кредитів'!A:AB,14,FALSE),\"\")","v":""}]
[null,{"$f":"IFERROR(#REF!,\"\")","v":""},{"$f":"IFERROR(VLOOKUP(A213,'1.Портфель кредитів'!A:AB,3,FALSE),\"\")","v":""},{"$f":"IFERROR(VLOOKUP(A213,'1.Портфель кредитів'!A:AB,14,FALSE),\"\")","v":""}]
[null,{"$f":"IFERROR(#REF!,\"\")","v":""},{"$f":"IFERROR(VLOOKUP(A214,'1.Портфель кредитів'!A:AB,3,FALSE),\"\")","v":""},{"$f":"IFERROR(VLOOKUP(A214,'1.Портфель кредитів'!A:AB,14,FALSE),\"\")","v":""}]
[null,{"$f":"IFERROR(#REF!,\"\")","v":""},{"$f":"IFERROR(VLOOKUP(A215,'1.Портфель кредитів'!A:AB,3,FALSE),\"\")","v":""},{"$f":"IFERROR(VLOOKUP(A215,'1.Портфель кредитів'!A:AB,14,FALSE),\"\")","v":""}]
[null,{"$f":"IFERROR(#REF!,\"\")","v":""},{"$f":"IFERROR(VLOOKUP(A216,'1.Портфель кредитів'!A:AB,3,FALSE),\"\")","v":""},{"$f":"IFERROR(VLOOKUP(A216,'1.Портфель кредитів'!A:AB,14,FALSE),\"\")","v":""}]
[null,{"$f":"IFERROR(#REF!,\"\")","v":""},{"$f":"IFERROR(VLOOKUP(A217,'1.Портфель кредитів'!A:AB,3,FALSE),\"\")","v":""},{"$f":"IFERROR(VLOOKUP(A217,'1.Портфель кредитів'!A:AB,14,FALSE),\"\")","v":""}]
[null,{"$f":"IFERROR(#REF!,\"\")","v":""},{"$f":"IFERROR(VLOOKUP(A218,'1.Портфель кредитів'!A:AB,3,FALSE),\"\")","v":""},{"$f":"IFERROR(VLOOKUP(A218,'1.Портфель кредитів'!A:AB,14,FALSE),\"\")","v":""}]
[null,{"$f":"IFERROR(#REF!,\"\")","v":""},{"$f":"IFERROR(VLOOKUP(A219,'1.Портфель кредитів'!A:AB,3,FALSE),\"\")","v":""},{"$f":"IFERROR(VLOOKUP(A219,'1.Портфель кредитів'!A:AB,14,FALSE),\"\")","v":""}]
[null,{"$f":"IFERROR(#REF!,\"\")","v":""},{"$f":"IFERROR(VLOOKUP(A220,'1.Портфель кредитів'!A:AB,3,FALSE),\"\")","v":""},{"$f":"IFERROR(VLOOKUP(A220,'1.Портфель кредитів'!A:AB,14,FALSE),\"\")","v":""}]
[null,{"$f":"IFERROR(#REF!,\"\")","v":""},{"$f":"IFERROR(VLOOKUP(A221,'1.Портфель кредитів'!A:AB,3,FALSE),\"\")","v":""},{"$f":"IFERROR(VLOOKUP(A221,'1.Портфель кредитів'!A:AB,14,FALSE),\"\")","v":""}]
[null,{"$f":"IFERROR(#REF!,\"\")","v":""},{"$f":"IFERROR(VLOOKUP(A222,'1.Портфель кредитів'!A:AB,3,FALSE),\"\")","v":""},{"$f":"IFERROR(VLOOKUP(A222,'1.Портфель кредитів'!A:AB,14,FALSE),\"\")","v":""}]
[null,{"$f":"IFERROR(#REF!,\"\")","v":""},{"$f":"IFERROR(VLOOKUP(A223,'1.Портфель кредитів'!A:AB,3,FALSE),\"\")","v":""},{"$f":"IFERROR(VLOOKUP(A223,'1.Портфель кредитів'!A:AB,14,FALSE),\"\")","v":""}]
[null,{"$f":"IFERROR(#REF!,\"\")","v":""},{"$f":"IFERROR(VLOOKUP(A224,'1.Портфель кредитів'!A:AB,3,FALSE),\"\")","v":""},{"$f":"IFERROR(VLOOKUP(A224,'1.Портфель кредитів'!A:AB,14,FALSE),\"\")","v":""}]
[null,{"$f":"IFERROR(#REF!,\"\")","v":""},{"$f":"IFERROR(VLOOKUP(A225,'1.Портфель кредитів'!A:AB,3,FALSE),\"\")","v":""},{"$f":"IFERROR(VLOOKUP(A225,'1.Портфель кредитів'!A:AB,14,FALSE),\"\")","v":""}]
[null,{"$f":"IFERROR(#REF!,\"\")","v":""},{"$f":"IFERROR(VLOOKUP(A226,'1.Портфель кредитів'!A:AB,3,FALSE),\"\")","v":""},{"$f":"IFERROR(VLOOKUP(A226,'1.Портфель кредитів'!A:AB,14,FALSE),\"\")","v":""}]
[null,{"$f":"IFERROR(#REF!,\"\")","v":""},{"$f":"IFERROR(VLOOKUP(A227,'1.Портфель кредитів'!A:AB,3,FALSE),\"\")","v":""},{"$f":"IFERROR(VLOOKUP(A227,'1.Портфель кредитів'!A:AB,14,FALSE),\"\")","v":""}]
[null,{"$f":"IFERROR(#REF!,\"\")","v":""},{"$f":"IFERROR(VLOOKUP(A228,'1.Портфель кредитів'!A:AB,3,FALSE),\"\")","v":""},{"$f":"IFERROR(VLOOKUP(A228,'1.Портфель кредитів'!A:AB,14,FALSE),\"\")","v":""}]
[null,{"$f":"IFERROR(#REF!,\"\")","v":""},{"$f":"IFERROR(VLOOKUP(A229,'1.Портфель кредитів'!A:AB,3,FALSE),\"\")","v":""},{"$f":"IFERROR(VLOOKUP(A229,'1.Портфель кредитів'!A:AB,14,FALSE),\"\")","v":""}]
[null,{"$f":"IFERROR(#REF!,\"\")","v":""},{"$f":"IFERROR(VLOOKUP(A230,'1.Портфель кредитів'!A:AB,3,FALSE),\"\")","v":""},{"$f":"IFERROR(VLOOKUP(A230,'1.Портфель кредитів'!A:AB,14,FALSE),\"\")","v":""}]
[null,{"$f":"IFERROR(#REF!,\"\")","v":""},{"$f":"IFERROR(VLOOKUP(A231,'1.Портфель кредитів'!A:AB,3,FALSE),\"\")","v":""},{"$f":"IFERROR(VLOOKUP(A231,'1.Портфель кредитів'!A:AB,14,FALSE),\"\")","v":""}]
[null,{"$f":"IFERROR(#REF!,\"\")","v":""},{"$f":"IFERROR(VLOOKUP(A232,'1.Портфель кредитів'!A:AB,3,FALSE),\"\")","v":""},{"$f":"IFERROR(VLOOKUP(A232,'1.Портфель кредитів'!A:AB,14,FALSE),\"\")","v":""}]
[null,{"$f":"IFERROR(#REF!,\"\")","v":""},{"$f":"IFERROR(VLOOKUP(A233,'1.Портфель кредитів'!A:AB,3,FALSE),\"\")","v":""},{"$f":"IFERROR(VLOOKUP(A233,'1.Портфель кредитів'!A:AB,14,FALSE),\"\")","v":""}]
[null,{"$f":"IFERROR(#REF!,\"\")","v":""},{"$f":"IFERROR(VLOOKUP(A234,'1.Портфель кредитів'!A:AB,3,FALSE),\"\")","v":""},{"$f":"IFERROR(VLOOKUP(A234,'1.Портфель кредитів'!A:AB,14,FALSE),\"\")","v":""}]
[null,{"$f":"IFERROR(#REF!,\"\")","v":""},{"$f":"IFERROR(VLOOKUP(A235,'1.Портфель кредитів'!A:AB,3,FALSE),\"\")","v":""},{"$f":"IFERROR(VLOOKUP(A235,'1.Портфель кредитів'!A:AB,14,FALSE),\"\")","v":""}]
[null,{"$f":"IFERROR(#REF!,\"\")","v":""},{"$f":"IFERROR(VLOOKUP(A236,'1.Портфель кредитів'!A:AB,3,FALSE),\"\")","v":""},{"$f":"IFERROR(VLOOKUP(A236,'1.Портфель кредитів'!A:AB,14,FALSE),\"\")","v":""}]
[null,{"$f":"IFERROR(#REF!,\"\")","v":""},{"$f":"IFERROR(VLOOKUP(A237,'1.Портфель кредитів'!A:AB,3,FALSE),\"\")","v":""},{"$f":"IFERROR(VLOOKUP(A237,'1.Портфель кредитів'!A:AB,14,FALSE),\"\")","v":""}]
[null,{"$f":"IFERROR(#REF!,\"\")","v":""},{"$f":"IFERROR(VLOOKUP(A238,'1.Портфель кредитів'!A:AB,3,FALSE),\"\")","v":""},{"$f":"IFERROR(VLOOKUP(A238,'1.Портфель кредитів'!A:AB,14,FALSE),\"\")","v":""}]
[null,{"$f":"IFERROR(#REF!,\"\")","v":""},{"$f":"IFERROR(VLOOKUP(A239,'1.Портфель кредитів'!A:AB,3,FALSE),\"\")","v":""},{"$f":"IFERROR(VLOOKUP(A239,'1.Портфель кредитів'!A:AB,14,FALSE),\"\")","v":""}]
[null,{"$f":"IFERROR(#REF!,\"\")","v":""},{"$f":"IFERROR(VLOOKUP(A240,'1.Портфель кредитів'!A:AB,3,FALSE),\"\")","v":""},{"$f":"IFERROR(VLOOKUP(A240,'1.Портфель кредитів'!A:AB,14,FALSE),\"\")","v":""}]
[null,{"$f":"IFERROR(#REF!,\"\")","v":""},{"$f":"IFERROR(VLOOKUP(A241,'1.Портфель кредитів'!A:AB,3,FALSE),\"\")","v":""},{"$f":"IFERROR(VLOOKUP(A241,'1.Портфель кредитів'!A:AB,14,FALSE),\"\")","v":""}]
[null,{"$f":"IFERROR(#REF!,\"\")","v":""},{"$f":"IFERROR(VLOOKUP(A242,'1.Портфель кредитів'!A:AB,3,FALSE),\"\")","v":""},{"$f":"IFERROR(VLOOKUP(A242,'1.Портфель кредитів'!A:AB,14,FALSE),\"\")","v":""}]
[null,{"$f":"IFERROR(#REF!,\"\")","v":""},{"$f":"IFERROR(VLOOKUP(A243,'1.Портфель кредитів'!A:AB,3,FALSE),\"\")","v":""},{"$f":"IFERROR(VLOOKUP(A243,'1.Портфель кредитів'!A:AB,14,FALSE),\"\")","v":""}]
[null,{"$f":"IFERROR(#REF!,\"\")","v":""},{"$f":"IFERROR(VLOOKUP(A244,'1.Портфель кредитів'!A:AB,3,FALSE),\"\")","v":""},{"$f":"IFERROR(VLOOKUP(A244,'1.Портфель кредитів'!A:AB,14,FALSE),\"\")","v":""}]
[null,{"$f":"IFERROR(#REF!,\"\")","v":""},{"$f":"IFERROR(VLOOKUP(A245,'1.Портфель кредитів'!A:AB,3,FALSE),\"\")","v":""},{"$f":"IFERROR(VLOOKUP(A245,'1.Портфель кредитів'!A:AB,14,FALSE),\"\")","v":""}]
[null,{"$f":"IFERROR(#REF!,\"\")","v":""},{"$f":"IFERROR(VLOOKUP(A246,'1.Портфель кредитів'!A:AB,3,FALSE),\"\")","v":""},{"$f":"IFERROR(VLOOKUP(A246,'1.Портфель кредитів'!A:AB,14,FALSE),\"\")","v":""}]
[null,{"$f":"IFERROR(#REF!,\"\")","v":""},{"$f":"IFERROR(VLOOKUP(A247,'1.Портфель кредитів'!A:AB,3,FALSE),\"\")","v":""},{"$f":"IFERROR(VLOOKUP(A247,'1.Портфель кредитів'!A:AB,14,FALSE),\"\")","v":""}]
[null,{"$f":"IFERROR(#REF!,\"\")","v":""},{"$f":"IFERROR(VLOOKUP(A248,'1.Портфель кредитів'!A:AB,3,FALSE),\"\")","v":""},{"$f":"IFERROR(VLOOKUP(A248,'1.Портфель кредитів'!A:AB,14,FALSE),\"\")","v":""}]
[null,{"$f":"IFERROR(#REF!,\"\")","v":""},{"$f":"IFERROR(VLOOKUP(A249,'1.Портфель кредитів'!A:AB,3,FALSE),\"\")","v":""},{"$f":"IFERROR(VLOOKUP(A249,'1.Портфель кредитів'!A:AB,14,FALSE),\"\")","v":""}]
[null,{"$f":"IFERROR(#REF!,\"\")","v":""},{"$f":"IFERROR(VLOOKUP(A250,'1.Портфель кредитів'!A:AB,3,FALSE),\"\")","v":""},{"$f":"IFERROR(VLOOKUP(A250,'1.Портфель кредитів'!A:AB,14,FALSE),\"\")","v":""}]
[null,{"$f":"IFERROR(#REF!,\"\")","v":""},{"$f":"IFERROR(VLOOKUP(A251,'1.Портфель кредитів'!A:AB,3,FALSE),\"\")","v":""},{"$f":"IFERROR(VLOOKUP(A251,'1.Портфель кредитів'!A:AB,14,FALSE),\"\")","v":""}]
[null,{"$f":"IFERROR(#REF!,\"\")","v":""},{"$f":"IFERROR(VLOOKUP(A252,'1.Портфель кредитів'!A:AB,3,FALSE),\"\")","v":""},{"$f":"IFERROR(VLOOKUP(A252,'1.Портфель кредитів'!A:AB,14,FALSE),\"\")","v":""}]
[null,{"$f":"IFERROR(#REF!,\"\")","v":""},{"$f":"IFERROR(VLOOKUP(A253,'1.Портфель кредитів'!A:AB,3,FALSE),\"\")","v":""},{"$f":"IFERROR(VLOOKUP(A253,'1.Портфель кредитів'!A:AB,14,FALSE),\"\")","v":""}]
[null,{"$f":"IFERROR(#REF!,\"\")","v":""},{"$f":"IFERROR(VLOOKUP(A254,'1.Портфель кредитів'!A:AB,3,FALSE),\"\")","v":""},{"$f":"IFERROR(VLOOKUP(A254,'1.Портфель кредитів'!A:AB,14,FALSE),\"\")","v":""}]
[null,{"$f":"IFERROR(#REF!,\"\")","v":""},{"$f":"IFERROR(VLOOKUP(A255,'1.Портфель кредитів'!A:AB,3,FALSE),\"\")","v":""},{"$f":"IFERROR(VLOOKUP(A255,'1.Портфель кредитів'!A:AB,14,FALSE),\"\")","v":""}]
[null,{"$f":"IFERROR(#REF!,\"\")","v":""},{"$f":"IFERROR(VLOOKUP(A256,'1.Портфель кредитів'!A:AB,3,FALSE),\"\")","v":""},{"$f":"IFERROR(VLOOKUP(A256,'1.Портфель кредитів'!A:AB,14,FALSE),\"\")","v":""}]
[null,{"$f":"IFERROR(#REF!,\"\")","v":""},{"$f":"IFERROR(VLOOKUP(A257,'1.Портфель кредитів'!A:AB,3,FALSE),\"\")","v":""},{"$f":"IFERROR(VLOOKUP(A257,'1.Портфель кредитів'!A:AB,14,FALSE),\"\")","v":""}]
[null,{"$f":"IFERROR(#REF!,\"\")","v":""},{"$f":"IFERROR(VLOOKUP(A258,'1.Портфель кредитів'!A:AB,3,FALSE),\"\")","v":""},{"$f":"IFERROR(VLOOKUP(A258,'1.Портфель кредитів'!A:AB,14,FALSE),\"\")","v":""}]
[null,{"$f":"IFERROR(#REF!,\"\")","v":""},{"$f":"IFERROR(VLOOKUP(A259,'1.Портфель кредитів'!A:AB,3,FALSE),\"\")","v":""},{"$f":"IFERROR(VLOOKUP(A259,'1.Портфель кредитів'!A:AB,14,FALSE),\"\")","v":""}]
[null,{"$f":"IFERROR(#REF!,\"\")","v":""},{"$f":"IFERROR(VLOOKUP(A260,'1.Портфель кредитів'!A:AB,3,FALSE),\"\")","v":""},{"$f":"IFERROR(VLOOKUP(A260,'1.Портфель кредитів'!A:AB,14,FALSE),\"\")","v":""}]
[null,{"$f":"IFERROR(#REF!,\"\")","v":""},{"$f":"IFERROR(VLOOKUP(A261,'1.Портфель кредитів'!A:AB,3,FALSE),\"\")","v":""},{"$f":"IFERROR(VLOOKUP(A261,'1.Портфель кредитів'!A:AB,14,FALSE),\"\")","v":""}]
[null,{"$f":"IFERROR(#REF!,\"\")","v":""},{"$f":"IFERROR(VLOOKUP(A262,'1.Портфель кредитів'!A:AB,3,FALSE),\"\")","v":""},{"$f":"IFERROR(VLOOKUP(A262,'1.Портфель кредитів'!A:AB,14,FALSE),\"\")","v":""}]
[null,{"$f":"IFERROR(#REF!,\"\")","v":""},{"$f":"IFERROR(VLOOKUP(A263,'1.Портфель кредитів'!A:AB,3,FALSE),\"\")","v":""},{"$f":"IFERROR(VLOOKUP(A263,'1.Портфель кредитів'!A:AB,14,FALSE),\"\")","v":""}]
[null,{"$f":"IFERROR(#REF!,\"\")","v":""},{"$f":"IFERROR(VLOOKUP(A264,'1.Портфель кредитів'!A:AB,3,FALSE),\"\")","v":""},{"$f":"IFERROR(VLOOKUP(A264,'1.Портфель кредитів'!A:AB,14,FALSE),\"\")","v":""}]
[null,{"$f":"IFERROR(#REF!,\"\")","v":""},{"$f":"IFERROR(VLOOKUP(A265,'1.Портфель кредитів'!A:AB,3,FALSE),\"\")","v":""},{"$f":"IFERROR(VLOOKUP(A265,'1.Портфель кредитів'!A:AB,14,FALSE),\"\")","v":""}]
[null,{"$f":"IFERROR(#REF!,\"\")","v":""},{"$f":"IFERROR(VLOOKUP(A266,'1.Портфель кредитів'!A:AB,3,FALSE),\"\")","v":""},{"$f":"IFERROR(VLOOKUP(A266,'1.Портфель кредитів'!A:AB,14,FALSE),\"\")","v":""}]
[null,{"$f":"IFERROR(#REF!,\"\")","v":""},{"$f":"IFERROR(VLOOKUP(A267,'1.Портфель кредитів'!A:AB,3,FALSE),\"\")","v":""},{"$f":"IFERROR(VLOOKUP(A267,'1.Портфель кредитів'!A:AB,14,FALSE),\"\")","v":""}]
[null,{"$f":"IFERROR(#REF!,\"\")","v":""},{"$f":"IFERROR(VLOOKUP(A268,'1.Портфель кредитів'!A:AB,3,FALSE),\"\")","v":""},{"$f":"IFERROR(VLOOKUP(A268,'1.Портфель кредитів'!A:AB,14,FALSE),\"\")","v":""}]
[null,{"$f":"IFERROR(#REF!,\"\")","v":""},{"$f":"IFERROR(VLOOKUP(A269,'1.Портфель кредитів'!A:AB,3,FALSE),\"\")","v":""},{"$f":"IFERROR(VLOOKUP(A269,'1.Портфель кредитів'!A:AB,14,FALSE),\"\")","v":""}]
[null,{"$f":"IFERROR(#REF!,\"\")","v":""},{"$f":"IFERROR(VLOOKUP(A270,'1.Портфель кредитів'!A:AB,3,FALSE),\"\")","v":""},{"$f":"IFERROR(VLOOKUP(A270,'1.Портфель кредитів'!A:AB,14,FALSE),\"\")","v":""}]
[null,{"$f":"IFERROR(#REF!,\"\")","v":""},{"$f":"IFERROR(VLOOKUP(A271,'1.Портфель кредитів'!A:AB,3,FALSE),\"\")","v":""},{"$f":"IFERROR(VLOOKUP(A271,'1.Портфель кредитів'!A:AB,14,FALSE),\"\")","v":""}]
[null,{"$f":"IFERROR(#REF!,\"\")","v":""},{"$f":"IFERROR(VLOOKUP(A272,'1.Портфель кредитів'!A:AB,3,FALSE),\"\")","v":""},{"$f":"IFERROR(VLOOKUP(A272,'1.Портфель кредитів'!A:AB,14,FALSE),\"\")","v":""}]
[null,{"$f":"IFERROR(#REF!,\"\")","v":""},{"$f":"IFERROR(VLOOKUP(A273,'1.Портфель кредитів'!A:AB,3,FALSE),\"\")","v":""},{"$f":"IFERROR(VLOOKUP(A273,'1.Портфель кредитів'!A:AB,14,FALSE),\"\")","v":""}]
[null,{"$f":"IFERROR(#REF!,\"\")","v":""},{"$f":"IFERROR(VLOOKUP(A274,'1.Портфель кредитів'!A:AB,3,FALSE),\"\")","v":""},{"$f":"IFERROR(VLOOKUP(A274,'1.Портфель кредитів'!A:AB,14,FALSE),\"\")","v":""}]
[null,{"$f":"IFERROR(#REF!,\"\")","v":""},{"$f":"IFERROR(VLOOKUP(A275,'1.Портфель кредитів'!A:AB,3,FALSE),\"\")","v":""},{"$f":"IFERROR(VLOOKUP(A275,'1.Портфель кредитів'!A:AB,14,FALSE),\"\")","v":""}]
[null,{"$f":"IFERROR(#REF!,\"\")","v":""},{"$f":"IFERROR(VLOOKUP(A276,'1.Портфель кредитів'!A:AB,3,FALSE),\"\")","v":""},{"$f":"IFERROR(VLOOKUP(A276,'1.Портфель кредитів'!A:AB,14,FALSE),\"\")","v":""}]
[null,{"$f":"IFERROR(#REF!,\"\")","v":""},{"$f":"IFERROR(VLOOKUP(A277,'1.Портфель кредитів'!A:AB,3,FALSE),\"\")","v":""},{"$f":"IFERROR(VLOOKUP(A277,'1.Портфель кредитів'!A:AB,14,FALSE),\"\")","v":""}]
[null,{"$f":"IFERROR(#REF!,\"\")","v":""},{"$f":"IFERROR(VLOOKUP(A278,'1.Портфель кредитів'!A:AB,3,FALSE),\"\")","v":""},{"$f":"IFERROR(VLOOKUP(A278,'1.Портфель кредитів'!A:AB,14,FALSE),\"\")","v":""}]
[null,{"$f":"IFERROR(#REF!,\"\")","v":""},{"$f":"IFERROR(VLOOKUP(A279,'1.Портфель кредитів'!A:AB,3,FALSE),\"\")","v":""},{"$f":"IFERROR(VLOOKUP(A279,'1.Портфель кредитів'!A:AB,14,FALSE),\"\")","v":""}]
[null,{"$f":"IFERROR(#REF!,\"\")","v":""},{"$f":"IFERROR(VLOOKUP(A280,'1.Портфель кредитів'!A:AB,3,FALSE),\"\")","v":""},{"$f":"IFERROR(VLOOKUP(A280,'1.Портфель кредитів'!A:AB,14,FALSE),\"\")","v":""}]
[null,{"$f":"IFERROR(#REF!,\"\")","v":""},{"$f":"IFERROR(VLOOKUP(A281,'1.Портфель кредитів'!A:AB,3,FALSE),\"\")","v":""},{"$f":"IFERROR(VLOOKUP(A281,'1.Портфель кредитів'!A:AB,14,FALSE),\"\")","v":""}]
[null,{"$f":"IFERROR(#REF!,\"\")","v":""},{"$f":"IFERROR(VLOOKUP(A282,'1.Портфель кредитів'!A:AB,3,FALSE),\"\")","v":""},{"$f":"IFERROR(VLOOKUP(A282,'1.Портфель кредитів'!A:AB,14,FALSE),\"\")","v":""}]
[null,{"$f":"IFERROR(#REF!,\"\")","v":""},{"$f":"IFERROR(VLOOKUP(A283,'1.Портфель кредитів'!A:AB,3,FALSE),\"\")","v":""},{"$f":"IFERROR(VLOOKUP(A283,'1.Портфель кредитів'!A:AB,14,FALSE),\"\")","v":""}]
[null,{"$f":"IFERROR(#REF!,\"\")","v":""},{"$f":"IFERROR(VLOOKUP(A284,'1.Портфель кредитів'!A:AB,3,FALSE),\"\")","v":""},{"$f":"IFERROR(VLOOKUP(A284,'1.Портфель кредитів'!A:AB,14,FALSE),\"\")","v":""}]
[null,{"$f":"IFERROR(#REF!,\"\")","v":""},{"$f":"IFERROR(VLOOKUP(A285,'1.Портфель кредитів'!A:AB,3,FALSE),\"\")","v":""},{"$f":"IFERROR(VLOOKUP(A285,'1.Портфель кредитів'!A:AB,14,FALSE),\"\")","v":""}]
[null,{"$f":"IFERROR(#REF!,\"\")","v":""},{"$f":"IFERROR(VLOOKUP(A286,'1.Портфель кредитів'!A:AB,3,FALSE),\"\")","v":""},{"$f":"IFERROR(VLOOKUP(A286,'1.Портфель кредитів'!A:AB,14,FALSE),\"\")","v":""}]
[null,{"$f":"IFERROR(#REF!,\"\")","v":""},{"$f":"IFERROR(VLOOKUP(A287,'1.Портфель кредитів'!A:AB,3,FALSE),\"\")","v":""},{"$f":"IFERROR(VLOOKUP(A287,'1.Портфель кредитів'!A:AB,14,FALSE),\"\")","v":""}]
[null,{"$f":"IFERROR(#REF!,\"\")","v":""},{"$f":"IFERROR(VLOOKUP(A288,'1.Портфель кредитів'!A:AB,3,FALSE),\"\")","v":""},{"$f":"IFERROR(VLOOKUP(A288,'1.Портфель кредитів'!A:AB,14,FALSE),\"\")","v":""}]
[null,{"$f":"IFERROR(#REF!,\"\")","v":""},{"$f":"IFERROR(VLOOKUP(A289,'1.Портфель кредитів'!A:AB,3,FALSE),\"\")","v":""},{"$f":"IFERROR(VLOOKUP(A289,'1.Портфель кредитів'!A:AB,14,FALSE),\"\")","v":""}]
[null,{"$f":"IFERROR(#REF!,\"\")","v":""},{"$f":"IFERROR(VLOOKUP(A290,'1.Портфель кредитів'!A:AB,3,FALSE),\"\")","v":""},{"$f":"IFERROR(VLOOKUP(A290,'1.Портфель кредитів'!A:AB,14,FALSE),\"\")","v":""}]
[null,{"$f":"IFERROR(#REF!,\"\")","v":""},{"$f":"IFERROR(VLOOKUP(A291,'1.Портфель кредитів'!A:AB,3,FALSE),\"\")","v":""},{"$f":"IFERROR(VLOOKUP(A291,'1.Портфель кредитів'!A:AB,14,FALSE),\"\")","v":""}]
[null,{"$f":"IFERROR(#REF!,\"\")","v":""},{"$f":"IFERROR(VLOOKUP(A292,'1.Портфель кредитів'!A:AB,3,FALSE),\"\")","v":""},{"$f":"IFERROR(VLOOKUP(A292,'1.Портфель кредитів'!A:AB,14,FALSE),\"\")","v":""}]
[null,{"$f":"IFERROR(#REF!,\"\")","v":""},{"$f":"IFERROR(VLOOKUP(A293,'1.Портфель кредитів'!A:AB,3,FALSE),\"\")","v":""},{"$f":"IFERROR(VLOOKUP(A293,'1.Портфель кредитів'!A:AB,14,FALSE),\"\")","v":""}]
[null,{"$f":"IFERROR(#REF!,\"\")","v":""},{"$f":"IFERROR(VLOOKUP(A294,'1.Портфель кредитів'!A:AB,3,FALSE),\"\")","v":""},{"$f":"IFERROR(VLOOKUP(A294,'1.Портфель кредитів'!A:AB,14,FALSE),\"\")","v":""}]
[null,{"$f":"IFERROR(#REF!,\"\")","v":""},{"$f":"IFERROR(VLOOKUP(A295,'1.Портфель кредитів'!A:AB,3,FALSE),\"\")","v":""},{"$f":"IFERROR(VLOOKUP(A295,'1.Портфель кредитів'!A:AB,14,FALSE),\"\")","v":""}]
[null,{"$f":"IFERROR(#REF!,\"\")","v":""},{"$f":"IFERROR(VLOOKUP(A296,'1.Портфель кредитів'!A:AB,3,FALSE),\"\")","v":""},{"$f":"IFERROR(VLOOKUP(A296,'1.Портфель кредитів'!A:AB,14,FALSE),\"\")","v":""}]
[null,{"$f":"IFERROR(#REF!,\"\")","v":""},{"$f":"IFERROR(VLOOKUP(A297,'1.Портфель кредитів'!A:AB,3,FALSE),\"\")","v":""},{"$f":"IFERROR(VLOOKUP(A297,'1.Портфель кредитів'!A:AB,14,FALSE),\"\")","v":""}]
[null,{"$f":"IFERROR(#REF!,\"\")","v":""},{"$f":"IFERROR(VLOOKUP(A298,'1.Портфель кредитів'!A:AB,3,FALSE),\"\")","v":""},{"$f":"IFERROR(VLOOKUP(A298,'1.Портфель кредитів'!A:AB,14,FALSE),\"\")","v":""}]
[null,{"$f":"IFERROR(#REF!,\"\")","v":""},{"$f":"IFERROR(VLOOKUP(A299,'1.Портфель кредитів'!A:AB,3,FALSE),\"\")","v":""},{"$f":"IFERROR(VLOOKUP(A299,'1.Портфель кредитів'!A:AB,14,FALSE),\"\")","v":""}]
[null,{"$f":"IFERROR(#REF!,\"\")","v":""},{"$f":"IFERROR(VLOOKUP(A300,'1.Портфель кредитів'!A:AB,3,FALSE),\"\")","v":""},{"$f":"IFERROR(VLOOKUP(A300,'1.Портфель кредитів'!A:AB,14,FALSE),\"\")","v":""}]
[null,{"$f":"IFERROR(#REF!,\"\")","v":""},{"$f":"IFERROR(VLOOKUP(A301,'1.Портфель кредитів'!A:AB,3,FALSE),\"\")","v":""},{"$f":"IFERROR(VLOOKUP(A301,'1.Портфель кредитів'!A:AB,14,FALSE),\"\")","v":""}]
[null,{"$f":"IFERROR(#REF!,\"\")","v":""},{"$f":"IFERROR(VLOOKUP(A302,'1.Портфель кредитів'!A:AB,3,FALSE),\"\")","v":""},{"$f":"IFERROR(VLOOKUP(A302,'1.Портфель кредитів'!A:AB,14,FALSE),\"\")","v":""}]
[null,{"$f":"IFERROR(#REF!,\"\")","v":""},{"$f":"IFERROR(VLOOKUP(A303,'1.Портфель кредитів'!A:AB,3,FALSE),\"\")","v":""},{"$f":"IFERROR(VLOOKUP(A303,'1.Портфель кредитів'!A:AB,14,FALSE),\"\")","v":""}]
[null,{"$f":"IFERROR(#REF!,\"\")","v":""},{"$f":"IFERROR(VLOOKUP(A304,'1.Портфель кредитів'!A:AB,3,FALSE),\"\")","v":""},{"$f":"IFERROR(VLOOKUP(A304,'1.Портфель кредитів'!A:AB,14,FALSE),\"\")","v":""}]
[null,{"$f":"IFERROR(#REF!,\"\")","v":""},{"$f":"IFERROR(VLOOKUP(A305,'1.Портфель кредитів'!A:AB,3,FALSE),\"\")","v":""},{"$f":"IFERROR(VLOOKUP(A305,'1.Портфель кредитів'!A:AB,14,FALSE),\"\")","v":""}]
[null,{"$f":"IFERROR(#REF!,\"\")","v":""},{"$f":"IFERROR(VLOOKUP(A306,'1.Портфель кредитів'!A:AB,3,FALSE),\"\")","v":""},{"$f":"IFERROR(VLOOKUP(A306,'1.Портфель кредитів'!A:AB,14,FALSE),\"\")","v":""}]
[null,{"$f":"IFERROR(#REF!,\"\")","v":""},{"$f":"IFERROR(VLOOKUP(A307,'1.Портфель кредитів'!A:AB,3,FALSE),\"\")","v":""},{"$f":"IFERROR(VLOOKUP(A307,'1.Портфель кредитів'!A:AB,14,FALSE),\"\")","v":""}]
[null,{"$f":"IFERROR(#REF!,\"\")","v":""},{"$f":"IFERROR(VLOOKUP(A308,'1.Портфель кредитів'!A:AB,3,FALSE),\"\")","v":""},{"$f":"IFERROR(VLOOKUP(A308,'1.Портфель кредитів'!A:AB,14,FALSE),\"\")","v":""}]
[null,{"$f":"IFERROR(#REF!,\"\")","v":""},{"$f":"IFERROR(VLOOKUP(A309,'1.Портфель кредитів'!A:AB,3,FALSE),\"\")","v":""},{"$f":"IFERROR(VLOOKUP(A309,'1.Портфель кредитів'!A:AB,14,FALSE),\"\")","v":""}]
[null,{"$f":"IFERROR(#REF!,\"\")","v":""},{"$f":"IFERROR(VLOOKUP(A310,'1.Портфель кредитів'!A:AB,3,FALSE),\"\")","v":""},{"$f":"IFERROR(VLOOKUP(A310,'1.Портфель кредитів'!A:AB,14,FALSE),\"\")","v":""}]
[null,{"$f":"IFERROR(#REF!,\"\")","v":""},{"$f":"IFERROR(VLOOKUP(A311,'1.Портфель кредитів'!A:AB,3,FALSE),\"\")","v":""},{"$f":"IFERROR(VLOOKUP(A311,'1.Портфель кредитів'!A:AB,14,FALSE),\"\")","v":""}]
[null,{"$f":"IFERROR(#REF!,\"\")","v":""},{"$f":"IFERROR(VLOOKUP(A312,'1.Портфель кредитів'!A:AB,3,FALSE),\"\")","v":""},{"$f":"IFERROR(VLOOKUP(A312,'1.Портфель кредитів'!A:AB,14,FALSE),\"\")","v":""}]
[null,{"$f":"IFERROR(#REF!,\"\")","v":""},{"$f":"IFERROR(VLOOKUP(A313,'1.Портфель кредитів'!A:AB,3,FALSE),\"\")","v":""},{"$f":"IFERROR(VLOOKUP(A313,'1.Портфель кредитів'!A:AB,14,FALSE),\"\")","v":""}]
[null,{"$f":"IFERROR(#REF!,\"\")","v":""},{"$f":"IFERROR(VLOOKUP(A314,'1.Портфель кредитів'!A:AB,3,FALSE),\"\")","v":""},{"$f":"IFERROR(VLOOKUP(A314,'1.Портфель кредитів'!A:AB,14,FALSE),\"\")","v":""}]
[null,{"$f":"IFERROR(#REF!,\"\")","v":""},{"$f":"IFERROR(VLOOKUP(A315,'1.Портфель кредитів'!A:AB,3,FALSE),\"\")","v":""},{"$f":"IFERROR(VLOOKUP(A315,'1.Портфель кредитів'!A:AB,14,FALSE),\"\")","v":""}]
[null,{"$f":"IFERROR(#REF!,\"\")","v":""},{"$f":"IFERROR(VLOOKUP(A316,'1.Портфель кредитів'!A:AB,3,FALSE),\"\")","v":""},{"$f":"IFERROR(VLOOKUP(A316,'1.Портфель кредитів'!A:AB,14,FALSE),\"\")","v":""}]
[null,{"$f":"IFERROR(#REF!,\"\")","v":""},{"$f":"IFERROR(VLOOKUP(A317,'1.Портфель кредитів'!A:AB,3,FALSE),\"\")","v":""},{"$f":"IFERROR(VLOOKUP(A317,'1.Портфель кредитів'!A:AB,14,FALSE),\"\")","v":""}]
[null,{"$f":"IFERROR(#REF!,\"\")","v":""},{"$f":"IFERROR(VLOOKUP(A318,'1.Портфель кредитів'!A:AB,3,FALSE),\"\")","v":""},{"$f":"IFERROR(VLOOKUP(A318,'1.Портфель кредитів'!A:AB,14,FALSE),\"\")","v":""}]
[null,{"$f":"IFERROR(#REF!,\"\")","v":""},{"$f":"IFERROR(VLOOKUP(A319,'1.Портфель кредитів'!A:AB,3,FALSE),\"\")","v":""},{"$f":"IFERROR(VLOOKUP(A319,'1.Портфель кредитів'!A:AB,14,FALSE),\"\")","v":""}]
[null,{"$f":"IFERROR(#REF!,\"\")","v":""},{"$f":"IFERROR(VLOOKUP(A320,'1.Портфель кредитів'!A:AB,3,FALSE),\"\")","v":""},{"$f":"IFERROR(VLOOKUP(A320,'1.Портфель кредитів'!A:AB,14,FALSE),\"\")","v":""}]
[null,{"$f":"IFERROR(#REF!,\"\")","v":""},{"$f":"IFERROR(VLOOKUP(A321,'1.Портфель кредитів'!A:AB,3,FALSE),\"\")","v":""},{"$f":"IFERROR(VLOOKUP(A321,'1.Портфель кредитів'!A:AB,14,FALSE),\"\")","v":""}]
[null,{"$f":"IFERROR(#REF!,\"\")","v":""},{"$f":"IFERROR(VLOOKUP(A322,'1.Портфель кредитів'!A:AB,3,FALSE),\"\")","v":""},{"$f":"IFERROR(VLOOKUP(A322,'1.Портфель кредитів'!A:AB,14,FALSE),\"\")","v":""}]
[null,{"$f":"IFERROR(#REF!,\"\")","v":""},{"$f":"IFERROR(VLOOKUP(A323,'1.Портфель кредитів'!A:AB,3,FALSE),\"\")","v":""},{"$f":"IFERROR(VLOOKUP(A323,'1.Портфель кредитів'!A:AB,14,FALSE),\"\")","v":""}]
[null,{"$f":"IFERROR(#REF!,\"\")","v":""},{"$f":"IFERROR(VLOOKUP(A324,'1.Портфель кредитів'!A:AB,3,FALSE),\"\")","v":""},{"$f":"IFERROR(VLOOKUP(A324,'1.Портфель кредитів'!A:AB,14,FALSE),\"\")","v":""}]
[null,{"$f":"IFERROR(#REF!,\"\")","v":""},{"$f":"IFERROR(VLOOKUP(A325,'1.Портфель кредитів'!A:AB,3,FALSE),\"\")","v":""},{"$f":"IFERROR(VLOOKUP(A325,'1.Портфель кредитів'!A:AB,14,FALSE),\"\")","v":""}]
[null,{"$f":"IFERROR(#REF!,\"\")","v":""},{"$f":"IFERROR(VLOOKUP(A326,'1.Портфель кредитів'!A:AB,3,FALSE),\"\")","v":""},{"$f":"IFERROR(VLOOKUP(A326,'1.Портфель кредитів'!A:AB,14,FALSE),\"\")","v":""}]
[null,{"$f":"IFERROR(#REF!,\"\")","v":""},{"$f":"IFERROR(VLOOKUP(A327,'1.Портфель кредитів'!A:AB,3,FALSE),\"\")","v":""},{"$f":"IFERROR(VLOOKUP(A327,'1.Портфель кредитів'!A:AB,14,FALSE),\"\")","v":""}]
[null,{"$f":"IFERROR(#REF!,\"\")","v":""},{"$f":"IFERROR(VLOOKUP(A328,'1.Портфель кредитів'!A:AB,3,FALSE),\"\")","v":""},{"$f":"IFERROR(VLOOKUP(A328,'1.Портфель кредитів'!A:AB,14,FALSE),\"\")","v":""}]
[null,{"$f":"IFERROR(#REF!,\"\")","v":""},{"$f":"IFERROR(VLOOKUP(A329,'1.Портфель кредитів'!A:AB,3,FALSE),\"\")","v":""},{"$f":"IFERROR(VLOOKUP(A329,'1.Портфель кредитів'!A:AB,14,FALSE),\"\")","v":""}]
[null,{"$f":"IFERROR(#REF!,\"\")","v":""},{"$f":"IFERROR(VLOOKUP(A330,'1.Портфель кредитів'!A:AB,3,FALSE),\"\")","v":""},{"$f":"IFERROR(VLOOKUP(A330,'1.Портфель кредитів'!A:AB,14,FALSE),\"\")","v":""}]
[null,{"$f":"IFERROR(#REF!,\"\")","v":""},{"$f":"IFERROR(VLOOKUP(A331,'1.Портфель кредитів'!A:AB,3,FALSE),\"\")","v":""},{"$f":"IFERROR(VLOOKUP(A331,'1.Портфель кредитів'!A:AB,14,FALSE),\"\")","v":""}]
[null,{"$f":"IFERROR(#REF!,\"\")","v":""},{"$f":"IFERROR(VLOOKUP(A332,'1.Портфель кредитів'!A:AB,3,FALSE),\"\")","v":""},{"$f":"IFERROR(VLOOKUP(A332,'1.Портфель кредитів'!A:AB,14,FALSE),\"\")","v":""}]
[null,{"$f":"IFERROR(#REF!,\"\")","v":""},{"$f":"IFERROR(VLOOKUP(A333,'1.Портфель кредитів'!A:AB,3,FALSE),\"\")","v":""},{"$f":"IFERROR(VLOOKUP(A333,'1.Портфель кредитів'!A:AB,14,FALSE),\"\")","v":""}]
[null,{"$f":"IFERROR(#REF!,\"\")","v":""},{"$f":"IFERROR(VLOOKUP(A334,'1.Портфель кредитів'!A:AB,3,FALSE),\"\")","v":""},{"$f":"IFERROR(VLOOKUP(A334,'1.Портфель кредитів'!A:AB,14,FALSE),\"\")","v":""}]
[null,{"$f":"IFERROR(#REF!,\"\")","v":""},{"$f":"IFERROR(VLOOKUP(A335,'1.Портфель кредитів'!A:AB,3,FALSE),\"\")","v":""},{"$f":"IFERROR(VLOOKUP(A335,'1.Портфель кредитів'!A:AB,14,FALSE),\"\")","v":""}]
[null,{"$f":"IFERROR(#REF!,\"\")","v":""},{"$f":"IFERROR(VLOOKUP(A336,'1.Портфель кредитів'!A:AB,3,FALSE),\"\")","v":""},{"$f":"IFERROR(VLOOKUP(A336,'1.Портфель кредитів'!A:AB,14,FALSE),\"\")","v":""}]
[null,{"$f":"IFERROR(#REF!,\"\")","v":""},{"$f":"IFERROR(VLOOKUP(A337,'1.Портфель кредитів'!A:AB,3,FALSE),\"\")","v":""},{"$f":"IFERROR(VLOOKUP(A337,'1.Портфель кредитів'!A:AB,14,FALSE),\"\")","v":""}]
[null,{"$f":"IFERROR(#REF!,\"\")","v":""},{"$f":"IFERROR(VLOOKUP(A338,'1.Портфель кредитів'!A:AB,3,FALSE),\"\")","v":""},{"$f":"IFERROR(VLOOKUP(A338,'1.Портфель кредитів'!A:AB,14,FALSE),\"\")","v":""}]
[null,{"$f":"IFERROR(#REF!,\"\")","v":""},{"$f":"IFERROR(VLOOKUP(A339,'1.Портфель кредитів'!A:AB,3,FALSE),\"\")","v":""},{"$f":"IFERROR(VLOOKUP(A339,'1.Портфель кредитів'!A:AB,14,FALSE),\"\")","v":""}]
[null,{"$f":"IFERROR(#REF!,\"\")","v":""},{"$f":"IFERROR(VLOOKUP(A340,'1.Портфель кредитів'!A:AB,3,FALSE),\"\")","v":""},{"$f":"IFERROR(VLOOKUP(A340,'1.Портфель кредитів'!A:AB,14,FALSE),\"\")","v":""}]
[null,{"$f":"IFERROR(#REF!,\"\")","v":""},{"$f":"IFERROR(VLOOKUP(A341,'1.Портфель кредитів'!A:AB,3,FALSE),\"\")","v":""},{"$f":"IFERROR(VLOOKUP(A341,'1.Портфель кредитів'!A:AB,14,FALSE),\"\")","v":""}]
[null,{"$f":"IFERROR(#REF!,\"\")","v":""},{"$f":"IFERROR(VLOOKUP(A342,'1.Портфель кредитів'!A:AB,3,FALSE),\"\")","v":""},{"$f":"IFERROR(VLOOKUP(A342,'1.Портфель кредитів'!A:AB,14,FALSE),\"\")","v":""}]
[null,{"$f":"IFERROR(#REF!,\"\")","v":""},{"$f":"IFERROR(VLOOKUP(A343,'1.Портфель кредитів'!A:AB,3,FALSE),\"\")","v":""},{"$f":"IFERROR(VLOOKUP(A343,'1.Портфель кредитів'!A:AB,14,FALSE),\"\")","v":""}]
[null,{"$f":"IFERROR(#REF!,\"\")","v":""},{"$f":"IFERROR(VLOOKUP(A344,'1.Портфель кредитів'!A:AB,3,FALSE),\"\")","v":""},{"$f":"IFERROR(VLOOKUP(A344,'1.Портфель кредитів'!A:AB,14,FALSE),\"\")","v":""}]
[null,{"$f":"IFERROR(#REF!,\"\")","v":""},{"$f":"IFERROR(VLOOKUP(A345,'1.Портфель кредитів'!A:AB,3,FALSE),\"\")","v":""},{"$f":"IFERROR(VLOOKUP(A345,'1.Портфель кредитів'!A:AB,14,FALSE),\"\")","v":""}]
[null,{"$f":"IFERROR(#REF!,\"\")","v":""},{"$f":"IFERROR(VLOOKUP(A346,'1.Портфель кредитів'!A:AB,3,FALSE),\"\")","v":""},{"$f":"IFERROR(VLOOKUP(A346,'1.Портфель кредитів'!A:AB,14,FALSE),\"\")","v":""}]
[null,{"$f":"IFERROR(#REF!,\"\")","v":""},{"$f":"IFERROR(VLOOKUP(A347,'1.Портфель кредитів'!A:AB,3,FALSE),\"\")","v":""},{"$f":"IFERROR(VLOOKUP(A347,'1.Портфель кредитів'!A:AB,14,FALSE),\"\")","v":""}]
[null,{"$f":"IFERROR(#REF!,\"\")","v":""},{"$f":"IFERROR(VLOOKUP(A348,'1.Портфель кредитів'!A:AB,3,FALSE),\"\")","v":""},{"$f":"IFERROR(VLOOKUP(A348,'1.Портфель кредитів'!A:AB,14,FALSE),\"\")","v":""}]
[null,{"$f":"IFERROR(#REF!,\"\")","v":""},{"$f":"IFERROR(VLOOKUP(A349,'1.Портфель кредитів'!A:AB,3,FALSE),\"\")","v":""},{"$f":"IFERROR(VLOOKUP(A349,'1.Портфель кредитів'!A:AB,14,FALSE),\"\")","v":""}]
[null,{"$f":"IFERROR(#REF!,\"\")","v":""},{"$f":"IFERROR(VLOOKUP(A350,'1.Портфель кредитів'!A:AB,3,FALSE),\"\")","v":""},{"$f":"IFERROR(VLOOKUP(A350,'1.Портфель кредитів'!A:AB,14,FALSE),\"\")","v":""}]
[null,{"$f":"IFERROR(#REF!,\"\")","v":""},{"$f":"IFERROR(VLOOKUP(A351,'1.Портфель кредитів'!A:AB,3,FALSE),\"\")","v":""},{"$f":"IFERROR(VLOOKUP(A351,'1.Портфель кредитів'!A:AB,14,FALSE),\"\")","v":""}]
[null,{"$f":"IFERROR(#REF!,\"\")","v":""},{"$f":"IFERROR(VLOOKUP(A352,'1.Портфель кредитів'!A:AB,3,FALSE),\"\")","v":""},{"$f":"IFERROR(VLOOKUP(A352,'1.Портфель кредитів'!A:AB,14,FALSE),\"\")","v":""}]
[null,{"$f":"IFERROR(#REF!,\"\")","v":""},{"$f":"IFERROR(VLOOKUP(A353,'1.Портфель кредитів'!A:AB,3,FALSE),\"\")","v":""},{"$f":"IFERROR(VLOOKUP(A353,'1.Портфель кредитів'!A:AB,14,FALSE),\"\")","v":""}]
[null,{"$f":"IFERROR(#REF!,\"\")","v":""},{"$f":"IFERROR(VLOOKUP(A354,'1.Портфель кредитів'!A:AB,3,FALSE),\"\")","v":""},{"$f":"IFERROR(VLOOKUP(A354,'1.Портфель кредитів'!A:AB,14,FALSE),\"\")","v":""}]
[null,{"$f":"IFERROR(#REF!,\"\")","v":""},{"$f":"IFERROR(VLOOKUP(A355,'1.Портфель кредитів'!A:AB,3,FALSE),\"\")","v":""},{"$f":"IFERROR(VLOOKUP(A355,'1.Портфель кредитів'!A:AB,14,FALSE),\"\")","v":""}]
[null,{"$f":"IFERROR(#REF!,\"\")","v":""},{"$f":"IFERROR(VLOOKUP(A356,'1.Портфель кредитів'!A:AB,3,FALSE),\"\")","v":""},{"$f":"IFERROR(VLOOKUP(A356,'1.Портфель кредитів'!A:AB,14,FALSE),\"\")","v":""}]
[null,{"$f":"IFERROR(#REF!,\"\")","v":""},{"$f":"IFERROR(VLOOKUP(A357,'1.Портфель кредитів'!A:AB,3,FALSE),\"\")","v":""},{"$f":"IFERROR(VLOOKUP(A357,'1.Портфель кредитів'!A:AB,14,FALSE),\"\")","v":""}]
[null,{"$f":"IFERROR(#REF!,\"\")","v":""},{"$f":"IFERROR(VLOOKUP(A358,'1.Портфель кредитів'!A:AB,3,FALSE),\"\")","v":""},{"$f":"IFERROR(VLOOKUP(A358,'1.Портфель кредитів'!A:AB,14,FALSE),\"\")","v":""}]
[null,{"$f":"IFERROR(#REF!,\"\")","v":""},{"$f":"IFERROR(VLOOKUP(A359,'1.Портфель кредитів'!A:AB,3,FALSE),\"\")","v":""},{"$f":"IFERROR(VLOOKUP(A359,'1.Портфель кредитів'!A:AB,14,FALSE),\"\")","v":""}]
[null,{"$f":"IFERROR(#REF!,\"\")","v":""},{"$f":"IFERROR(VLOOKUP(A360,'1.Портфель кредитів'!A:AB,3,FALSE),\"\")","v":""},{"$f":"IFERROR(VLOOKUP(A360,'1.Портфель кредитів'!A:AB,14,FALSE),\"\")","v":""}]
[null,{"$f":"IFERROR(#REF!,\"\")","v":""},{"$f":"IFERROR(VLOOKUP(A361,'1.Портфель кредитів'!A:AB,3,FALSE),\"\")","v":""},{"$f":"IFERROR(VLOOKUP(A361,'1.Портфель кредитів'!A:AB,14,FALSE),\"\")","v":""}]
[null,{"$f":"IFERROR(#REF!,\"\")","v":""},{"$f":"IFERROR(VLOOKUP(A362,'1.Портфель кредитів'!A:AB,3,FALSE),\"\")","v":""},{"$f":"IFERROR(VLOOKUP(A362,'1.Портфель кредитів'!A:AB,14,FALSE),\"\")","v":""}]
[null,{"$f":"IFERROR(#REF!,\"\")","v":""},{"$f":"IFERROR(VLOOKUP(A363,'1.Портфель кредитів'!A:AB,3,FALSE),\"\")","v":""},{"$f":"IFERROR(VLOOKUP(A363,'1.Портфель кредитів'!A:AB,14,FALSE),\"\")","v":""}]
[null,{"$f":"IFERROR(#REF!,\"\")","v":""},{"$f":"IFERROR(VLOOKUP(A364,'1.Портфель кредитів'!A:AB,3,FALSE),\"\")","v":""},{"$f":"IFERROR(VLOOKUP(A364,'1.Портфель кредитів'!A:AB,14,FALSE),\"\")","v":""}]
[null,{"$f":"IFERROR(#REF!,\"\")","v":""},{"$f":"IFERROR(VLOOKUP(A365,'1.Портфель кредитів'!A:AB,3,FALSE),\"\")","v":""},{"$f":"IFERROR(VLOOKUP(A365,'1.Портфель кредитів'!A:AB,14,FALSE),\"\")","v":""}]
[null,{"$f":"IFERROR(#REF!,\"\")","v":""},{"$f":"IFERROR(VLOOKUP(A366,'1.Портфель кредитів'!A:AB,3,FALSE),\"\")","v":""},{"$f":"IFERROR(VLOOKUP(A366,'1.Портфель кредитів'!A:AB,14,FALSE),\"\")","v":""}]
[null,{"$f":"IFERROR(#REF!,\"\")","v":""},{"$f":"IFERROR(VLOOKUP(A367,'1.Портфель кредитів'!A:AB,3,FALSE),\"\")","v":""},{"$f":"IFERROR(VLOOKUP(A367,'1.Портфель кредитів'!A:AB,14,FALSE),\"\")","v":""}]
[null,{"$f":"IFERROR(#REF!,\"\")","v":""},{"$f":"IFERROR(VLOOKUP(A368,'1.Портфель кредитів'!A:AB,3,FALSE),\"\")","v":""},{"$f":"IFERROR(VLOOKUP(A368,'1.Портфель кредитів'!A:AB,14,FALSE),\"\")","v":""}]
[null,{"$f":"IFERROR(#REF!,\"\")","v":""},{"$f":"IFERROR(VLOOKUP(A369,'1.Портфель кредитів'!A:AB,3,FALSE),\"\")","v":""},{"$f":"IFERROR(VLOOKUP(A369,'1.Портфель кредитів'!A:AB,14,FALSE),\"\")","v":""}]
[null,{"$f":"IFERROR(#REF!,\"\")","v":""},{"$f":"IFERROR(VLOOKUP(A370,'1.Портфель кредитів'!A:AB,3,FALSE),\"\")","v":""},{"$f":"IFERROR(VLOOKUP(A370,'1.Портфель кредитів'!A:AB,14,FALSE),\"\")","v":""}]
[null,{"$f":"IFERROR(#REF!,\"\")","v":""},{"$f":"IFERROR(VLOOKUP(A371,'1.Портфель кредитів'!A:AB,3,FALSE),\"\")","v":""},{"$f":"IFERROR(VLOOKUP(A371,'1.Портфель кредитів'!A:AB,14,FALSE),\"\")","v":""}]
[null,{"$f":"IFERROR(#REF!,\"\")","v":""},{"$f":"IFERROR(VLOOKUP(A372,'1.Портфель кредитів'!A:AB,3,FALSE),\"\")","v":""},{"$f":"IFERROR(VLOOKUP(A372,'1.Портфель кредитів'!A:AB,14,FALSE),\"\")","v":""}]
[null,{"$f":"IFERROR(#REF!,\"\")","v":""},{"$f":"IFERROR(VLOOKUP(A373,'1.Портфель кредитів'!A:AB,3,FALSE),\"\")","v":""},{"$f":"IFERROR(VLOOKUP(A373,'1.Портфель кредитів'!A:AB,14,FALSE),\"\")","v":""}]
[null,{"$f":"IFERROR(#REF!,\"\")","v":""},{"$f":"IFERROR(VLOOKUP(A374,'1.Портфель кредитів'!A:AB,3,FALSE),\"\")","v":""},{"$f":"IFERROR(VLOOKUP(A374,'1.Портфель кредитів'!A:AB,14,FALSE),\"\")","v":""}]
[null,{"$f":"IFERROR(#REF!,\"\")","v":""},{"$f":"IFERROR(VLOOKUP(A375,'1.Портфель кредитів'!A:AB,3,FALSE),\"\")","v":""},{"$f":"IFERROR(VLOOKUP(A375,'1.Портфель кредитів'!A:AB,14,FALSE),\"\")","v":""}]
[null,{"$f":"IFERROR(#REF!,\"\")","v":""},{"$f":"IFERROR(VLOOKUP(A376,'1.Портфель кредитів'!A:AB,3,FALSE),\"\")","v":""},{"$f":"IFERROR(VLOOKUP(A376,'1.Портфель кредитів'!A:AB,14,FALSE),\"\")","v":""}]
[null,{"$f":"IFERROR(#REF!,\"\")","v":""},{"$f":"IFERROR(VLOOKUP(A377,'1.Портфель кредитів'!A:AB,3,FALSE),\"\")","v":""},{"$f":"IFERROR(VLOOKUP(A377,'1.Портфель кредитів'!A:AB,14,FALSE),\"\")","v":""}]
[null,{"$f":"IFERROR(#REF!,\"\")","v":""},{"$f":"IFERROR(VLOOKUP(A378,'1.Портфель кредитів'!A:AB,3,FALSE),\"\")","v":""},{"$f":"IFERROR(VLOOKUP(A378,'1.Портфель кредитів'!A:AB,14,FALSE),\"\")","v":""}]
[null,{"$f":"IFERROR(#REF!,\"\")","v":""},{"$f":"IFERROR(VLOOKUP(A379,'1.Портфель кредитів'!A:AB,3,FALSE),\"\")","v":""},{"$f":"IFERROR(VLOOKUP(A379,'1.Портфель кредитів'!A:AB,14,FALSE),\"\")","v":""}]
[null,{"$f":"IFERROR(#REF!,\"\")","v":""},{"$f":"IFERROR(VLOOKUP(A380,'1.Портфель кредитів'!A:AB,3,FALSE),\"\")","v":""},{"$f":"IFERROR(VLOOKUP(A380,'1.Портфель кредитів'!A:AB,14,FALSE),\"\")","v":""}]
[null,{"$f":"IFERROR(#REF!,\"\")","v":""},{"$f":"IFERROR(VLOOKUP(A381,'1.Портфель кредитів'!A:AB,3,FALSE),\"\")","v":""},{"$f":"IFERROR(VLOOKUP(A381,'1.Портфель кредитів'!A:AB,14,FALSE),\"\")","v":""}]
[null,{"$f":"IFERROR(#REF!,\"\")","v":""},{"$f":"IFERROR(VLOOKUP(A382,'1.Портфель кредитів'!A:AB,3,FALSE),\"\")","v":""},{"$f":"IFERROR(VLOOKUP(A382,'1.Портфель кредитів'!A:AB,14,FALSE),\"\")","v":""}]
[null,{"$f":"IFERROR(#REF!,\"\")","v":""},{"$f":"IFERROR(VLOOKUP(A383,'1.Портфель кредитів'!A:AB,3,FALSE),\"\")","v":""},{"$f":"IFERROR(VLOOKUP(A383,'1.Портфель кредитів'!A:AB,14,FALSE),\"\")","v":""}]
[null,{"$f":"IFERROR(#REF!,\"\")","v":""},{"$f":"IFERROR(VLOOKUP(A384,'1.Портфель кредитів'!A:AB,3,FALSE),\"\")","v":""},{"$f":"IFERROR(VLOOKUP(A384,'1.Портфель кредитів'!A:AB,14,FALSE),\"\")","v":""}]
[null,{"$f":"IFERROR(#REF!,\"\")","v":""},{"$f":"IFERROR(VLOOKUP(A385,'1.Портфель кредитів'!A:AB,3,FALSE),\"\")","v":""},{"$f":"IFERROR(VLOOKUP(A385,'1.Портфель кредитів'!A:AB,14,FALSE),\"\")","v":""}]
[null,{"$f":"IFERROR(#REF!,\"\")","v":""},{"$f":"IFERROR(VLOOKUP(A386,'1.Портфель кредитів'!A:AB,3,FALSE),\"\")","v":""},{"$f":"IFERROR(VLOOKUP(A386,'1.Портфель кредитів'!A:AB,14,FALSE),\"\")","v":""}]
[null,{"$f":"IFERROR(#REF!,\"\")","v":""},{"$f":"IFERROR(VLOOKUP(A387,'1.Портфель кредитів'!A:AB,3,FALSE),\"\")","v":""},{"$f":"IFERROR(VLOOKUP(A387,'1.Портфель кредитів'!A:AB,14,FALSE),\"\")","v":""}]
[null,{"$f":"IFERROR(#REF!,\"\")","v":""},{"$f":"IFERROR(VLOOKUP(A388,'1.Портфель кредитів'!A:AB,3,FALSE),\"\")","v":""},{"$f":"IFERROR(VLOOKUP(A388,'1.Портфель кредитів'!A:AB,14,FALSE),\"\")","v":""}]
[null,{"$f":"IFERROR(#REF!,\"\")","v":""},{"$f":"IFERROR(VLOOKUP(A389,'1.Портфель кредитів'!A:AB,3,FALSE),\"\")","v":""},{"$f":"IFERROR(VLOOKUP(A389,'1.Портфель кредитів'!A:AB,14,FALSE),\"\")","v":""}]
[null,{"$f":"IFERROR(#REF!,\"\")","v":""},{"$f":"IFERROR(VLOOKUP(A390,'1.Портфель кредитів'!A:AB,3,FALSE),\"\")","v":""},{"$f":"IFERROR(VLOOKUP(A390,'1.Портфель кредитів'!A:AB,14,FALSE),\"\")","v":""}]
[null,{"$f":"IFERROR(#REF!,\"\")","v":""},{"$f":"IFERROR(VLOOKUP(A391,'1.Портфель кредитів'!A:AB,3,FALSE),\"\")","v":""},{"$f":"IFERROR(VLOOKUP(A391,'1.Портфель кредитів'!A:AB,14,FALSE),\"\")","v":""}]
[null,{"$f":"IFERROR(#REF!,\"\")","v":""},{"$f":"IFERROR(VLOOKUP(A392,'1.Портфель кредитів'!A:AB,3,FALSE),\"\")","v":""},{"$f":"IFERROR(VLOOKUP(A392,'1.Портфель кредитів'!A:AB,14,FALSE),\"\")","v":""}]
[null,{"$f":"IFERROR(#REF!,\"\")","v":""},{"$f":"IFERROR(VLOOKUP(A393,'1.Портфель кредитів'!A:AB,3,FALSE),\"\")","v":""},{"$f":"IFERROR(VLOOKUP(A393,'1.Портфель кредитів'!A:AB,14,FALSE),\"\")","v":""}]
[null,{"$f":"IFERROR(#REF!,\"\")","v":""},{"$f":"IFERROR(VLOOKUP(A394,'1.Портфель кредитів'!A:AB,3,FALSE),\"\")","v":""},{"$f":"IFERROR(VLOOKUP(A394,'1.Портфель кредитів'!A:AB,14,FALSE),\"\")","v":""}]
[null,{"$f":"IFERROR(#REF!,\"\")","v":""},{"$f":"IFERROR(VLOOKUP(A395,'1.Портфель кредитів'!A:AB,3,FALSE),\"\")","v":""},{"$f":"IFERROR(VLOOKUP(A395,'1.Портфель кредитів'!A:AB,14,FALSE),\"\")","v":""}]
[null,{"$f":"IFERROR(#REF!,\"\")","v":""},{"$f":"IFERROR(VLOOKUP(A396,'1.Портфель кредитів'!A:AB,3,FALSE),\"\")","v":""},{"$f":"IFERROR(VLOOKUP(A396,'1.Портфель кредитів'!A:AB,14,FALSE),\"\")","v":""}]
[null,{"$f":"IFERROR(#REF!,\"\")","v":""},{"$f":"IFERROR(VLOOKUP(A397,'1.Портфель кредитів'!A:AB,3,FALSE),\"\")","v":""},{"$f":"IFERROR(VLOOKUP(A397,'1.Портфель кредитів'!A:AB,14,FALSE),\"\")","v":""}]
[null,{"$f":"IFERROR(#REF!,\"\")","v":""},{"$f":"IFERROR(VLOOKUP(A398,'1.Портфель кредитів'!A:AB,3,FALSE),\"\")","v":""},{"$f":"IFERROR(VLOOKUP(A398,'1.Портфель кредитів'!A:AB,14,FALSE),\"\")","v":""}]
[null,{"$f":"IFERROR(#REF!,\"\")","v":""},{"$f":"IFERROR(VLOOKUP(A399,'1.Портфель кредитів'!A:AB,3,FALSE),\"\")","v":""},{"$f":"IFERROR(VLOOKUP(A399,'1.Портфель кредитів'!A:AB,14,FALSE),\"\")","v":""}]
[null,{"$f":"IFERROR(#REF!,\"\")","v":""},{"$f":"IFERROR(VLOOKUP(A400,'1.Портфель кредитів'!A:AB,3,FALSE),\"\")","v":""},{"$f":"IFERROR(VLOOKUP(A400,'1.Портфель кредитів'!A:AB,14,FALSE),\"\")","v":""}]
[null,{"$f":"IFERROR(#REF!,\"\")","v":""},{"$f":"IFERROR(VLOOKUP(A401,'1.Портфель кредитів'!A:AB,3,FALSE),\"\")","v":""},{"$f":"IFERROR(VLOOKUP(A401,'1.Портфель кредитів'!A:AB,14,FALSE),\"\")","v":""}]
[null,{"$f":"IFERROR(#REF!,\"\")","v":""},{"$f":"IFERROR(VLOOKUP(A402,'1.Портфель кредитів'!A:AB,3,FALSE),\"\")","v":""},{"$f":"IFERROR(VLOOKUP(A402,'1.Портфель кредитів'!A:AB,14,FALSE),\"\")","v":""}]
[null,{"$f":"IFERROR(#REF!,\"\")","v":""},{"$f":"IFERROR(VLOOKUP(A403,'1.Портфель кредитів'!A:AB,3,FALSE),\"\")","v":""},{"$f":"IFERROR(VLOOKUP(A403,'1.Портфель кредитів'!A:AB,14,FALSE),\"\")","v":""}]
[null,{"$f":"IFERROR(#REF!,\"\")","v":""},{"$f":"IFERROR(VLOOKUP(A404,'1.Портфель кредитів'!A:AB,3,FALSE),\"\")","v":""},{"$f":"IFERROR(VLOOKUP(A404,'1.Портфель кредитів'!A:AB,14,FALSE),\"\")","v":""}]
[null,{"$f":"IFERROR(#REF!,\"\")","v":""},{"$f":"IFERROR(VLOOKUP(A405,'1.Портфель кредитів'!A:AB,3,FALSE),\"\")","v":""},{"$f":"IFERROR(VLOOKUP(A405,'1.Портфель кредитів'!A:AB,14,FALSE),\"\")","v":""}]
[null,{"$f":"IFERROR(#REF!,\"\")","v":""},{"$f":"IFERROR(VLOOKUP(A406,'1.Портфель кредитів'!A:AB,3,FALSE),\"\")","v":""},{"$f":"IFERROR(VLOOKUP(A406,'1.Портфель кредитів'!A:AB,14,FALSE),\"\")","v":""}]
[null,{"$f":"IFERROR(#REF!,\"\")","v":""},{"$f":"IFERROR(VLOOKUP(A407,'1.Портфель кредитів'!A:AB,3,FALSE),\"\")","v":""},{"$f":"IFERROR(VLOOKUP(A407,'1.Портфель кредитів'!A:AB,14,FALSE),\"\")","v":""}]
[null,{"$f":"IFERROR(#REF!,\"\")","v":""},{"$f":"IFERROR(VLOOKUP(A408,'1.Портфель кредитів'!A:AB,3,FALSE),\"\")","v":""},{"$f":"IFERROR(VLOOKUP(A408,'1.Портфель кредитів'!A:AB,14,FALSE),\"\")","v":""}]
[null,{"$f":"IFERROR(#REF!,\"\")","v":""},{"$f":"IFERROR(VLOOKUP(A409,'1.Портфель кредитів'!A:AB,3,FALSE),\"\")","v":""},{"$f":"IFERROR(VLOOKUP(A409,'1.Портфель кредитів'!A:AB,14,FALSE),\"\")","v":""}]
[null,{"$f":"IFERROR(#REF!,\"\")","v":""},{"$f":"IFERROR(VLOOKUP(A410,'1.Портфель кредитів'!A:AB,3,FALSE),\"\")","v":""},{"$f":"IFERROR(VLOOKUP(A410,'1.Портфель кредитів'!A:AB,14,FALSE),\"\")","v":""}]
[null,{"$f":"IFERROR(#REF!,\"\")","v":""},{"$f":"IFERROR(VLOOKUP(A411,'1.Портфель кредитів'!A:AB,3,FALSE),\"\")","v":""},{"$f":"IFERROR(VLOOKUP(A411,'1.Портфель кредитів'!A:AB,14,FALSE),\"\")","v":""}]
[null,{"$f":"IFERROR(#REF!,\"\")","v":""},{"$f":"IFERROR(VLOOKUP(A412,'1.Портфель кредитів'!A:AB,3,FALSE),\"\")","v":""},{"$f":"IFERROR(VLOOKUP(A412,'1.Портфель кредитів'!A:AB,14,FALSE),\"\")","v":""}]
[null,{"$f":"IFERROR(#REF!,\"\")","v":""},{"$f":"IFERROR(VLOOKUP(A413,'1.Портфель кредитів'!A:AB,3,FALSE),\"\")","v":""},{"$f":"IFERROR(VLOOKUP(A413,'1.Портфель кредитів'!A:AB,14,FALSE),\"\")","v":""}]
[null,{"$f":"IFERROR(#REF!,\"\")","v":""},{"$f":"IFERROR(VLOOKUP(A414,'1.Портфель кредитів'!A:AB,3,FALSE),\"\")","v":""},{"$f":"IFERROR(VLOOKUP(A414,'1.Портфель кредитів'!A:AB,14,FALSE),\"\")","v":""}]
[null,{"$f":"IFERROR(#REF!,\"\")","v":""},{"$f":"IFERROR(VLOOKUP(A415,'1.Портфель кредитів'!A:AB,3,FALSE),\"\")","v":""},{"$f":"IFERROR(VLOOKUP(A415,'1.Портфель кредитів'!A:AB,14,FALSE),\"\")","v":""}]
[null,{"$f":"IFERROR(#REF!,\"\")","v":""},{"$f":"IFERROR(VLOOKUP(A416,'1.Портфель кредитів'!A:AB,3,FALSE),\"\")","v":""},{"$f":"IFERROR(VLOOKUP(A416,'1.Портфель кредитів'!A:AB,14,FALSE),\"\")","v":""}]
[null,{"$f":"IFERROR(#REF!,\"\")","v":""},{"$f":"IFERROR(VLOOKUP(A417,'1.Портфель кредитів'!A:AB,3,FALSE),\"\")","v":""},{"$f":"IFERROR(VLOOKUP(A417,'1.Портфель кредитів'!A:AB,14,FALSE),\"\")","v":""}]
[null,{"$f":"IFERROR(#REF!,\"\")","v":""},{"$f":"IFERROR(VLOOKUP(A418,'1.Портфель кредитів'!A:AB,3,FALSE),\"\")","v":""},{"$f":"IFERROR(VLOOKUP(A418,'1.Портфель кредитів'!A:AB,14,FALSE),\"\")","v":""}]
[null,{"$f":"IFERROR(#REF!,\"\")","v":""},{"$f":"IFERROR(VLOOKUP(A419,'1.Портфель кредитів'!A:AB,3,FALSE),\"\")","v":""},{"$f":"IFERROR(VLOOKUP(A419,'1.Портфель кредитів'!A:AB,14,FALSE),\"\")","v":""}]
[null,{"$f":"IFERROR(#REF!,\"\")","v":""},{"$f":"IFERROR(VLOOKUP(A420,'1.Портфель кредитів'!A:AB,3,FALSE),\"\")","v":""},{"$f":"IFERROR(VLOOKUP(A420,'1.Портфель кредитів'!A:AB,14,FALSE),\"\")","v":""}]
[null,{"$f":"IFERROR(#REF!,\"\")","v":""},{"$f":"IFERROR(VLOOKUP(A421,'1.Портфель кредитів'!A:AB,3,FALSE),\"\")","v":""},{"$f":"IFERROR(VLOOKUP(A421,'1.Портфель кредитів'!A:AB,14,FALSE),\"\")","v":""}]
[null,{"$f":"IFERROR(#REF!,\"\")","v":""},{"$f":"IFERROR(VLOOKUP(A422,'1.Портфель кредитів'!A:AB,3,FALSE),\"\")","v":""},{"$f":"IFERROR(VLOOKUP(A422,'1.Портфель кредитів'!A:AB,14,FALSE),\"\")","v":""}]
[null,{"$f":"IFERROR(#REF!,\"\")","v":""},{"$f":"IFERROR(VLOOKUP(A423,'1.Портфель кредитів'!A:AB,3,FALSE),\"\")","v":""},{"$f":"IFERROR(VLOOKUP(A423,'1.Портфель кредитів'!A:AB,14,FALSE),\"\")","v":""}]
[null,{"$f":"IFERROR(#REF!,\"\")","v":""},{"$f":"IFERROR(VLOOKUP(A424,'1.Портфель кредитів'!A:AB,3,FALSE),\"\")","v":""},{"$f":"IFERROR(VLOOKUP(A424,'1.Портфель кредитів'!A:AB,14,FALSE),\"\")","v":""}]
[null,{"$f":"IFERROR(#REF!,\"\")","v":""},{"$f":"IFERROR(VLOOKUP(A425,'1.Портфель кредитів'!A:AB,3,FALSE),\"\")","v":""},{"$f":"IFERROR(VLOOKUP(A425,'1.Портфель кредитів'!A:AB,14,FALSE),\"\")","v":""}]
[null,{"$f":"IFERROR(#REF!,\"\")","v":""},{"$f":"IFERROR(VLOOKUP(A426,'1.Портфель кредитів'!A:AB,3,FALSE),\"\")","v":""},{"$f":"IFERROR(VLOOKUP(A426,'1.Портфель кредитів'!A:AB,14,FALSE),\"\")","v":""}]
[null,{"$f":"IFERROR(#REF!,\"\")","v":""},{"$f":"IFERROR(VLOOKUP(A427,'1.Портфель кредитів'!A:AB,3,FALSE),\"\")","v":""},{"$f":"IFERROR(VLOOKUP(A427,'1.Портфель кредитів'!A:AB,14,FALSE),\"\")","v":""}]
[null,{"$f":"IFERROR(#REF!,\"\")","v":""},{"$f":"IFERROR(VLOOKUP(A428,'1.Портфель кредитів'!A:AB,3,FALSE),\"\")","v":""},{"$f":"IFERROR(VLOOKUP(A428,'1.Портфель кредитів'!A:AB,14,FALSE),\"\")","v":""}]
[null,{"$f":"IFERROR(#REF!,\"\")","v":""},{"$f":"IFERROR(VLOOKUP(A429,'1.Портфель кредитів'!A:AB,3,FALSE),\"\")","v":""},{"$f":"IFERROR(VLOOKUP(A429,'1.Портфель кредитів'!A:AB,14,FALSE),\"\")","v":""}]
[null,{"$f":"IFERROR(#REF!,\"\")","v":""},{"$f":"IFERROR(VLOOKUP(A430,'1.Портфель кредитів'!A:AB,3,FALSE),\"\")","v":""},{"$f":"IFERROR(VLOOKUP(A430,'1.Портфель кредитів'!A:AB,14,FALSE),\"\")","v":""}]
[null,{"$f":"IFERROR(#REF!,\"\")","v":""},{"$f":"IFERROR(VLOOKUP(A431,'1.Портфель кредитів'!A:AB,3,FALSE),\"\")","v":""},{"$f":"IFERROR(VLOOKUP(A431,'1.Портфель кредитів'!A:AB,14,FALSE),\"\")","v":""}]
[null,{"$f":"IFERROR(#REF!,\"\")","v":""},{"$f":"IFERROR(VLOOKUP(A432,'1.Портфель кредитів'!A:AB,3,FALSE),\"\")","v":""},{"$f":"IFERROR(VLOOKUP(A432,'1.Портфель кредитів'!A:AB,14,FALSE),\"\")","v":""}]
[null,{"$f":"IFERROR(#REF!,\"\")","v":""},{"$f":"IFERROR(VLOOKUP(A433,'1.Портфель кредитів'!A:AB,3,FALSE),\"\")","v":""},{"$f":"IFERROR(VLOOKUP(A433,'1.Портфель кредитів'!A:AB,14,FALSE),\"\")","v":""}]
[null,{"$f":"IFERROR(#REF!,\"\")","v":""},{"$f":"IFERROR(VLOOKUP(A434,'1.Портфель кредитів'!A:AB,3,FALSE),\"\")","v":""},{"$f":"IFERROR(VLOOKUP(A434,'1.Портфель кредитів'!A:AB,14,FALSE),\"\")","v":""}]
[null,{"$f":"IFERROR(#REF!,\"\")","v":""},{"$f":"IFERROR(VLOOKUP(A435,'1.Портфель кредитів'!A:AB,3,FALSE),\"\")","v":""},{"$f":"IFERROR(VLOOKUP(A435,'1.Портфель кредитів'!A:AB,14,FALSE),\"\")","v":""}]
[null,{"$f":"IFERROR(#REF!,\"\")","v":""},{"$f":"IFERROR(VLOOKUP(A436,'1.Портфель кредитів'!A:AB,3,FALSE),\"\")","v":""},{"$f":"IFERROR(VLOOKUP(A436,'1.Портфель кредитів'!A:AB,14,FALSE),\"\")","v":""}]
[null,{"$f":"IFERROR(#REF!,\"\")","v":""},{"$f":"IFERROR(VLOOKUP(A437,'1.Портфель кредитів'!A:AB,3,FALSE),\"\")","v":""},{"$f":"IFERROR(VLOOKUP(A437,'1.Портфель кредитів'!A:AB,14,FALSE),\"\")","v":""}]
[null,{"$f":"IFERROR(#REF!,\"\")","v":""},{"$f":"IFERROR(VLOOKUP(A438,'1.Портфель кредитів'!A:AB,3,FALSE),\"\")","v":""},{"$f":"IFERROR(VLOOKUP(A438,'1.Портфель кредитів'!A:AB,14,FALSE),\"\")","v":""}]
[null,{"$f":"IFERROR(#REF!,\"\")","v":""},{"$f":"IFERROR(VLOOKUP(A439,'1.Портфель кредитів'!A:AB,3,FALSE),\"\")","v":""},{"$f":"IFERROR(VLOOKUP(A439,'1.Портфель кредитів'!A:AB,14,FALSE),\"\")","v":""}]
[null,{"$f":"IFERROR(#REF!,\"\")","v":""},{"$f":"IFERROR(VLOOKUP(A440,'1.Портфель кредитів'!A:AB,3,FALSE),\"\")","v":""},{"$f":"IFERROR(VLOOKUP(A440,'1.Портфель кредитів'!A:AB,14,FALSE),\"\")","v":""}]
[null,{"$f":"IFERROR(#REF!,\"\")","v":""},{"$f":"IFERROR(VLOOKUP(A441,'1.Портфель кредитів'!A:AB,3,FALSE),\"\")","v":""},{"$f":"IFERROR(VLOOKUP(A441,'1.Портфель кредитів'!A:AB,14,FALSE),\"\")","v":""}]
[null,{"$f":"IFERROR(#REF!,\"\")","v":""},{"$f":"IFERROR(VLOOKUP(A442,'1.Портфель кредитів'!A:AB,3,FALSE),\"\")","v":""},{"$f":"IFERROR(VLOOKUP(A442,'1.Портфель кредитів'!A:AB,14,FALSE),\"\")","v":""}]
[null,{"$f":"IFERROR(#REF!,\"\")","v":""},{"$f":"IFERROR(VLOOKUP(A443,'1.Портфель кредитів'!A:AB,3,FALSE),\"\")","v":""},{"$f":"IFERROR(VLOOKUP(A443,'1.Портфель кредитів'!A:AB,14,FALSE),\"\")","v":""}]
[null,{"$f":"IFERROR(#REF!,\"\")","v":""},{"$f":"IFERROR(VLOOKUP(A444,'1.Портфель кредитів'!A:AB,3,FALSE),\"\")","v":""},{"$f":"IFERROR(VLOOKUP(A444,'1.Портфель кредитів'!A:AB,14,FALSE),\"\")","v":""}]
[null,{"$f":"IFERROR(#REF!,\"\")","v":""},{"$f":"IFERROR(VLOOKUP(A445,'1.Портфель кредитів'!A:AB,3,FALSE),\"\")","v":""},{"$f":"IFERROR(VLOOKUP(A445,'1.Портфель кредитів'!A:AB,14,FALSE),\"\")","v":""}]
[null,{"$f":"IFERROR(#REF!,\"\")","v":""},{"$f":"IFERROR(VLOOKUP(A446,'1.Портфель кредитів'!A:AB,3,FALSE),\"\")","v":""},{"$f":"IFERROR(VLOOKUP(A446,'1.Портфель кредитів'!A:AB,14,FALSE),\"\")","v":""}]
[null,{"$f":"IFERROR(#REF!,\"\")","v":""},{"$f":"IFERROR(VLOOKUP(A447,'1.Портфель кредитів'!A:AB,3,FALSE),\"\")","v":""},{"$f":"IFERROR(VLOOKUP(A447,'1.Портфель кредитів'!A:AB,14,FALSE),\"\")","v":""}]
[null,{"$f":"IFERROR(#REF!,\"\")","v":""},{"$f":"IFERROR(VLOOKUP(A448,'1.Портфель кредитів'!A:AB,3,FALSE),\"\")","v":""},{"$f":"IFERROR(VLOOKUP(A448,'1.Портфель кредитів'!A:AB,14,FALSE),\"\")","v":""}]
[null,{"$f":"IFERROR(#REF!,\"\")","v":""},{"$f":"IFERROR(VLOOKUP(A449,'1.Портфель кредитів'!A:AB,3,FALSE),\"\")","v":""},{"$f":"IFERROR(VLOOKUP(A449,'1.Портфель кредитів'!A:AB,14,FALSE),\"\")","v":""}]
[null,{"$f":"IFERROR(#REF!,\"\")","v":""},{"$f":"IFERROR(VLOOKUP(A450,'1.Портфель кредитів'!A:AB,3,FALSE),\"\")","v":""},{"$f":"IFERROR(VLOOKUP(A450,'1.Портфель кредитів'!A:AB,14,FALSE),\"\")","v":""}]
[null,{"$f":"IFERROR(#REF!,\"\")","v":""},{"$f":"IFERROR(VLOOKUP(A451,'1.Портфель кредитів'!A:AB,3,FALSE),\"\")","v":""},{"$f":"IFERROR(VLOOKUP(A451,'1.Портфель кредитів'!A:AB,14,FALSE),\"\")","v":""}]
[null,{"$f":"IFERROR(#REF!,\"\")","v":""},{"$f":"IFERROR(VLOOKUP(A452,'1.Портфель кредитів'!A:AB,3,FALSE),\"\")","v":""},{"$f":"IFERROR(VLOOKUP(A452,'1.Портфель кредитів'!A:AB,14,FALSE),\"\")","v":""}]
[null,{"$f":"IFERROR(#REF!,\"\")","v":""},{"$f":"IFERROR(VLOOKUP(A453,'1.Портфель кредитів'!A:AB,3,FALSE),\"\")","v":""},{"$f":"IFERROR(VLOOKUP(A453,'1.Портфель кредитів'!A:AB,14,FALSE),\"\")","v":""}]
[null,{"$f":"IFERROR(#REF!,\"\")","v":""},{"$f":"IFERROR(VLOOKUP(A454,'1.Портфель кредитів'!A:AB,3,FALSE),\"\")","v":""},{"$f":"IFERROR(VLOOKUP(A454,'1.Портфель кредитів'!A:AB,14,FALSE),\"\")","v":""}]
[null,{"$f":"IFERROR(#REF!,\"\")","v":""},{"$f":"IFERROR(VLOOKUP(A455,'1.Портфель кредитів'!A:AB,3,FALSE),\"\")","v":""},{"$f":"IFERROR(VLOOKUP(A455,'1.Портфель кредитів'!A:AB,14,FALSE),\"\")","v":""}]
[null,{"$f":"IFERROR(#REF!,\"\")","v":""},{"$f":"IFERROR(VLOOKUP(A456,'1.Портфель кредитів'!A:AB,3,FALSE),\"\")","v":""},{"$f":"IFERROR(VLOOKUP(A456,'1.Портфель кредитів'!A:AB,14,FALSE),\"\")","v":""}]
[null,{"$f":"IFERROR(#REF!,\"\")","v":""},{"$f":"IFERROR(VLOOKUP(A457,'1.Портфель кредитів'!A:AB,3,FALSE),\"\")","v":""},{"$f":"IFERROR(VLOOKUP(A457,'1.Портфель кредитів'!A:AB,14,FALSE),\"\")","v":""}]
[null,{"$f":"IFERROR(#REF!,\"\")","v":""},{"$f":"IFERROR(VLOOKUP(A458,'1.Портфель кредитів'!A:AB,3,FALSE),\"\")","v":""},{"$f":"IFERROR(VLOOKUP(A458,'1.Портфель кредитів'!A:AB,14,FALSE),\"\")","v":""}]
[null,{"$f":"IFERROR(#REF!,\"\")","v":""},{"$f":"IFERROR(VLOOKUP(A459,'1.Портфель кредитів'!A:AB,3,FALSE),\"\")","v":""},{"$f":"IFERROR(VLOOKUP(A459,'1.Портфель кредитів'!A:AB,14,FALSE),\"\")","v":""}]
[null,{"$f":"IFERROR(#REF!,\"\")","v":""},{"$f":"IFERROR(VLOOKUP(A460,'1.Портфель кредитів'!A:AB,3,FALSE),\"\")","v":""},{"$f":"IFERROR(VLOOKUP(A460,'1.Портфель кредитів'!A:AB,14,FALSE),\"\")","v":""}]
[null,{"$f":"IFERROR(#REF!,\"\")","v":""},{"$f":"IFERROR(VLOOKUP(A461,'1.Портфель кредитів'!A:AB,3,FALSE),\"\")","v":""},{"$f":"IFERROR(VLOOKUP(A461,'1.Портфель кредитів'!A:AB,14,FALSE),\"\")","v":""}]
[null,{"$f":"IFERROR(#REF!,\"\")","v":""},{"$f":"IFERROR(VLOOKUP(A462,'1.Портфель кредитів'!A:AB,3,FALSE),\"\")","v":""},{"$f":"IFERROR(VLOOKUP(A462,'1.Портфель кредитів'!A:AB,14,FALSE),\"\")","v":""}]
[null,{"$f":"IFERROR(#REF!,\"\")","v":""},{"$f":"IFERROR(VLOOKUP(A463,'1.Портфель кредитів'!A:AB,3,FALSE),\"\")","v":""},{"$f":"IFERROR(VLOOKUP(A463,'1.Портфель кредитів'!A:AB,14,FALSE),\"\")","v":""}]
[null,{"$f":"IFERROR(#REF!,\"\")","v":""},{"$f":"IFERROR(VLOOKUP(A464,'1.Портфель кредитів'!A:AB,3,FALSE),\"\")","v":""},{"$f":"IFERROR(VLOOKUP(A464,'1.Портфель кредитів'!A:AB,14,FALSE),\"\")","v":""}]
[null,{"$f":"IFERROR(#REF!,\"\")","v":""},{"$f":"IFERROR(VLOOKUP(A465,'1.Портфель кредитів'!A:AB,3,FALSE),\"\")","v":""},{"$f":"IFERROR(VLOOKUP(A465,'1.Портфель кредитів'!A:AB,14,FALSE),\"\")","v":""}]
[null,{"$f":"IFERROR(#REF!,\"\")","v":""},{"$f":"IFERROR(VLOOKUP(A466,'1.Портфель кредитів'!A:AB,3,FALSE),\"\")","v":""},{"$f":"IFERROR(VLOOKUP(A466,'1.Портфель кредитів'!A:AB,14,FALSE),\"\")","v":""}]
[null,{"$f":"IFERROR(#REF!,\"\")","v":""},{"$f":"IFERROR(VLOOKUP(A467,'1.Портфель кредитів'!A:AB,3,FALSE),\"\")","v":""},{"$f":"IFERROR(VLOOKUP(A467,'1.Портфель кредитів'!A:AB,14,FALSE),\"\")","v":""}]
[null,{"$f":"IFERROR(#REF!,\"\")","v":""},{"$f":"IFERROR(VLOOKUP(A468,'1.Портфель кредитів'!A:AB,3,FALSE),\"\")","v":""},{"$f":"IFERROR(VLOOKUP(A468,'1.Портфель кредитів'!A:AB,14,FALSE),\"\")","v":""}]
[null,{"$f":"IFERROR(#REF!,\"\")","v":""},{"$f":"IFERROR(VLOOKUP(A469,'1.Портфель кредитів'!A:AB,3,FALSE),\"\")","v":""},{"$f":"IFERROR(VLOOKUP(A469,'1.Портфель кредитів'!A:AB,14,FALSE),\"\")","v":""}]
[null,{"$f":"IFERROR(#REF!,\"\")","v":""},{"$f":"IFERROR(VLOOKUP(A470,'1.Портфель кредитів'!A:AB,3,FALSE),\"\")","v":""},{"$f":"IFERROR(VLOOKUP(A470,'1.Портфель кредитів'!A:AB,14,FALSE),\"\")","v":""}]
[null,{"$f":"IFERROR(#REF!,\"\")","v":""},{"$f":"IFERROR(VLOOKUP(A471,'1.Портфель кредитів'!A:AB,3,FALSE),\"\")","v":""},{"$f":"IFERROR(VLOOKUP(A471,'1.Портфель кредитів'!A:AB,14,FALSE),\"\")","v":""}]
[null,{"$f":"IFERROR(#REF!,\"\")","v":""},{"$f":"IFERROR(VLOOKUP(A472,'1.Портфель кредитів'!A:AB,3,FALSE),\"\")","v":""},{"$f":"IFERROR(VLOOKUP(A472,'1.Портфель кредитів'!A:AB,14,FALSE),\"\")","v":""}]
[null,{"$f":"IFERROR(#REF!,\"\")","v":""},{"$f":"IFERROR(VLOOKUP(A473,'1.Портфель кредитів'!A:AB,3,FALSE),\"\")","v":""},{"$f":"IFERROR(VLOOKUP(A473,'1.Портфель кредитів'!A:AB,14,FALSE),\"\")","v":""}]
[null,{"$f":"IFERROR(#REF!,\"\")","v":""},{"$f":"IFERROR(VLOOKUP(A474,'1.Портфель кредитів'!A:AB,3,FALSE),\"\")","v":""},{"$f":"IFERROR(VLOOKUP(A474,'1.Портфель кредитів'!A:AB,14,FALSE),\"\")","v":""}]
[null,{"$f":"IFERROR(#REF!,\"\")","v":""},{"$f":"IFERROR(VLOOKUP(A475,'1.Портфель кредитів'!A:AB,3,FALSE),\"\")","v":""},{"$f":"IFERROR(VLOOKUP(A475,'1.Портфель кредитів'!A:AB,14,FALSE),\"\")","v":""}]
[null,{"$f":"IFERROR(#REF!,\"\")","v":""},{"$f":"IFERROR(VLOOKUP(A476,'1.Портфель кредитів'!A:AB,3,FALSE),\"\")","v":""},{"$f":"IFERROR(VLOOKUP(A476,'1.Портфель кредитів'!A:AB,14,FALSE),\"\")","v":""}]
[null,{"$f":"IFERROR(#REF!,\"\")","v":""},{"$f":"IFERROR(VLOOKUP(A477,'1.Портфель кредитів'!A:AB,3,FALSE),\"\")","v":""},{"$f":"IFERROR(VLOOKUP(A477,'1.Портфель кредитів'!A:AB,14,FALSE),\"\")","v":""}]
[null,{"$f":"IFERROR(#REF!,\"\")","v":""},{"$f":"IFERROR(VLOOKUP(A478,'1.Портфель кредитів'!A:AB,3,FALSE),\"\")","v":""},{"$f":"IFERROR(VLOOKUP(A478,'1.Портфель кредитів'!A:AB,14,FALSE),\"\")","v":""}]
[null,{"$f":"IFERROR(#REF!,\"\")","v":""},{"$f":"IFERROR(VLOOKUP(A479,'1.Портфель кредитів'!A:AB,3,FALSE),\"\")","v":""},{"$f":"IFERROR(VLOOKUP(A479,'1.Портфель кредитів'!A:AB,14,FALSE),\"\")","v":""}]
[null,{"$f":"IFERROR(#REF!,\"\")","v":""},{"$f":"IFERROR(VLOOKUP(A480,'1.Портфель кредитів'!A:AB,3,FALSE),\"\")","v":""},{"$f":"IFERROR(VLOOKUP(A480,'1.Портфель кредитів'!A:AB,14,FALSE),\"\")","v":""}]
[null,{"$f":"IFERROR(#REF!,\"\")","v":""},{"$f":"IFERROR(VLOOKUP(A481,'1.Портфель кредитів'!A:AB,3,FALSE),\"\")","v":""},{"$f":"IFERROR(VLOOKUP(A481,'1.Портфель кредитів'!A:AB,14,FALSE),\"\")","v":""}]
[null,{"$f":"IFERROR(#REF!,\"\")","v":""},{"$f":"IFERROR(VLOOKUP(A482,'1.Портфель кредитів'!A:AB,3,FALSE),\"\")","v":""},{"$f":"IFERROR(VLOOKUP(A482,'1.Портфель кредитів'!A:AB,14,FALSE),\"\")","v":""}]
[null,{"$f":"IFERROR(#REF!,\"\")","v":""},{"$f":"IFERROR(VLOOKUP(A483,'1.Портфель кредитів'!A:AB,3,FALSE),\"\")","v":""},{"$f":"IFERROR(VLOOKUP(A483,'1.Портфель кредитів'!A:AB,14,FALSE),\"\")","v":""}]
[null,{"$f":"IFERROR(#REF!,\"\")","v":""},{"$f":"IFERROR(VLOOKUP(A484,'1.Портфель кредитів'!A:AB,3,FALSE),\"\")","v":""},{"$f":"IFERROR(VLOOKUP(A484,'1.Портфель кредитів'!A:AB,14,FALSE),\"\")","v":""}]
[null,{"$f":"IFERROR(#REF!,\"\")","v":""},{"$f":"IFERROR(VLOOKUP(A485,'1.Портфель кредитів'!A:AB,3,FALSE),\"\")","v":""},{"$f":"IFERROR(VLOOKUP(A485,'1.Портфель кредитів'!A:AB,14,FALSE),\"\")","v":""}]
[null,{"$f":"IFERROR(#REF!,\"\")","v":""},{"$f":"IFERROR(VLOOKUP(A486,'1.Портфель кредитів'!A:AB,3,FALSE),\"\")","v":""},{"$f":"IFERROR(VLOOKUP(A486,'1.Портфель кредитів'!A:AB,14,FALSE),\"\")","v":""}]
[null,{"$f":"IFERROR(#REF!,\"\")","v":""},{"$f":"IFERROR(VLOOKUP(A487,'1.Портфель кредитів'!A:AB,3,FALSE),\"\")","v":""},{"$f":"IFERROR(VLOOKUP(A487,'1.Портфель кредитів'!A:AB,14,FALSE),\"\")","v":""}]
[null,{"$f":"IFERROR(#REF!,\"\")","v":""},{"$f":"IFERROR(VLOOKUP(A488,'1.Портфель кредитів'!A:AB,3,FALSE),\"\")","v":""},{"$f":"IFERROR(VLOOKUP(A488,'1.Портфель кредитів'!A:AB,14,FALSE),\"\")","v":""}]
[null,{"$f":"IFERROR(#REF!,\"\")","v":""},{"$f":"IFERROR(VLOOKUP(A489,'1.Портфель кредитів'!A:AB,3,FALSE),\"\")","v":""},{"$f":"IFERROR(VLOOKUP(A489,'1.Портфель кредитів'!A:AB,14,FALSE),\"\")","v":""}]
[null,{"$f":"IFERROR(#REF!,\"\")","v":""},{"$f":"IFERROR(VLOOKUP(A490,'1.Портфель кредитів'!A:AB,3,FALSE),\"\")","v":""},{"$f":"IFERROR(VLOOKUP(A490,'1.Портфель кредитів'!A:AB,14,FALSE),\"\")","v":""}]
[null,{"$f":"IFERROR(#REF!,\"\")","v":""},{"$f":"IFERROR(VLOOKUP(A491,'1.Портфель кредитів'!A:AB,3,FALSE),\"\")","v":""},{"$f":"IFERROR(VLOOKUP(A491,'1.Портфель кредитів'!A:AB,14,FALSE),\"\")","v":""}]
[null,{"$f":"IFERROR(#REF!,\"\")","v":""},{"$f":"IFERROR(VLOOKUP(A492,'1.Портфель кредитів'!A:AB,3,FALSE),\"\")","v":""},{"$f":"IFERROR(VLOOKUP(A492,'1.Портфель кредитів'!A:AB,14,FALSE),\"\")","v":""}]
[null,{"$f":"IFERROR(#REF!,\"\")","v":""},{"$f":"IFERROR(VLOOKUP(A493,'1.Портфель кредитів'!A:AB,3,FALSE),\"\")","v":""},{"$f":"IFERROR(VLOOKUP(A493,'1.Портфель кредитів'!A:AB,14,FALSE),\"\")","v":""}]
[null,{"$f":"IFERROR(#REF!,\"\")","v":""},{"$f":"IFERROR(VLOOKUP(A494,'1.Портфель кредитів'!A:AB,3,FALSE),\"\")","v":""},{"$f":"IFERROR(VLOOKUP(A494,'1.Портфель кредитів'!A:AB,14,FALSE),\"\")","v":""}]
[null,{"$f":"IFERROR(#REF!,\"\")","v":""},{"$f":"IFERROR(VLOOKUP(A495,'1.Портфель кредитів'!A:AB,3,FALSE),\"\")","v":""},{"$f":"IFERROR(VLOOKUP(A495,'1.Портфель кредитів'!A:AB,14,FALSE),\"\")","v":""}]
[null,{"$f":"IFERROR(#REF!,\"\")","v":""},{"$f":"IFERROR(VLOOKUP(A496,'1.Портфель кредитів'!A:AB,3,FALSE),\"\")","v":""},{"$f":"IFERROR(VLOOKUP(A496,'1.Портфель кредитів'!A:AB,14,FALSE),\"\")","v":""}]
[null,{"$f":"IFERROR(#REF!,\"\")","v":""},{"$f":"IFERROR(VLOOKUP(A497,'1.Портфель кредитів'!A:AB,3,FALSE),\"\")","v":""},{"$f":"IFERROR(VLOOKUP(A497,'1.Портфель кредитів'!A:AB,14,FALSE),\"\")","v":""}]
[null,{"$f":"IFERROR(#REF!,\"\")","v":""},{"$f":"IFERROR(VLOOKUP(A498,'1.Портфель кредитів'!A:AB,3,FALSE),\"\")","v":""},{"$f":"IFERROR(VLOOKUP(A498,'1.Портфель кредитів'!A:AB,14,FALSE),\"\")","v":""}]
[null,{"$f":"IFERROR(#REF!,\"\")","v":""},{"$f":"IFERROR(VLOOKUP(A499,'1.Портфель кредитів'!A:AB,3,FALSE),\"\")","v":""},{"$f":"IFERROR(VLOOKUP(A499,'1.Портфель кредитів'!A:AB,14,FALSE),\"\")","v":""}]
[null,{"$f":"IFERROR(#REF!,\"\")","v":""},{"$f":"IFERROR(VLOOKUP(A500,'1.Портфель кредитів'!A:AB,3,FALSE),\"\")","v":""},{"$f":"IFERROR(VLOOKUP(A500,'1.Портфель кредитів'!A:AB,14,FALSE),\"\")","v":""}]
[null,{"$f":"IFERROR(#REF!,\"\")","v":""},{"$f":"IFERROR(VLOOKUP(A501,'1.Портфель кредитів'!A:AB,3,FALSE),\"\")","v":""},{"$f":"IFERROR(VLOOKUP(A501,'1.Портфель кредитів'!A:AB,14,FALSE),\"\")","v":""}]
[null,{"$f":"IFERROR(#REF!,\"\")","v":""},{"$f":"IFERROR(VLOOKUP(A502,'1.Портфель кредитів'!A:AB,3,FALSE),\"\")","v":""},{"$f":"IFERROR(VLOOKUP(A502,'1.Портфель кредитів'!A:AB,14,FALSE),\"\")","v":""}]
[null,{"$f":"IFERROR(#REF!,\"\")","v":""},{"$f":"IFERROR(VLOOKUP(A503,'1.Портфель кредитів'!A:AB,3,FALSE),\"\")","v":""},{"$f":"IFERROR(VLOOKUP(A503,'1.Портфель кредитів'!A:AB,14,FALSE),\"\")","v":""}]
[null,{"$f":"IFERROR(#REF!,\"\")","v":""},{"$f":"IFERROR(VLOOKUP(A504,'1.Портфель кредитів'!A:AB,3,FALSE),\"\")","v":""},{"$f":"IFERROR(VLOOKUP(A504,'1.Портфель кредитів'!A:AB,14,FALSE),\"\")","v":""}]
[null,{"$f":"IFERROR(#REF!,\"\")","v":""},{"$f":"IFERROR(VLOOKUP(A505,'1.Портфель кредитів'!A:AB,3,FALSE),\"\")","v":""},{"$f":"IFERROR(VLOOKUP(A505,'1.Портфель кредитів'!A:AB,14,FALSE),\"\")","v":""}]
[null,{"$f":"IFERROR(#REF!,\"\")","v":""},{"$f":"IFERROR(VLOOKUP(A506,'1.Портфель кредитів'!A:AB,3,FALSE),\"\")","v":""},{"$f":"IFERROR(VLOOKUP(A506,'1.Портфель кредитів'!A:AB,14,FALSE),\"\")","v":""}]
[null,{"$f":"IFERROR(#REF!,\"\")","v":""},{"$f":"IFERROR(VLOOKUP(A507,'1.Портфель кредитів'!A:AB,3,FALSE),\"\")","v":""},{"$f":"IFERROR(VLOOKUP(A507,'1.Портфель кредитів'!A:AB,14,FALSE),\"\")","v":""}]
[null,{"$f":"IFERROR(#REF!,\"\")","v":""},{"$f":"IFERROR(VLOOKUP(A508,'1.Портфель кредитів'!A:AB,3,FALSE),\"\")","v":""},{"$f":"IFERROR(VLOOKUP(A508,'1.Портфель кредитів'!A:AB,14,FALSE),\"\")","v":""}]
[null,{"$f":"IFERROR(#REF!,\"\")","v":""},{"$f":"IFERROR(VLOOKUP(A509,'1.Портфель кредитів'!A:AB,3,FALSE),\"\")","v":""},{"$f":"IFERROR(VLOOKUP(A509,'1.Портфель кредитів'!A:AB,14,FALSE),\"\")","v":""}]
[null,{"$f":"IFERROR(#REF!,\"\")","v":""},{"$f":"IFERROR(VLOOKUP(A510,'1.Портфель кредитів'!A:AB,3,FALSE),\"\")","v":""},{"$f":"IFERROR(VLOOKUP(A510,'1.Портфель кредитів'!A:AB,14,FALSE),\"\")","v":""}]
[null,{"$f":"IFERROR(#REF!,\"\")","v":""},{"$f":"IFERROR(VLOOKUP(A511,'1.Портфель кредитів'!A:AB,3,FALSE),\"\")","v":""},{"$f":"IFERROR(VLOOKUP(A511,'1.Портфель кредитів'!A:AB,14,FALSE),\"\")","v":""}]
[null,{"$f":"IFERROR(#REF!,\"\")","v":""},{"$f":"IFERROR(VLOOKUP(A512,'1.Портфель кредитів'!A:AB,3,FALSE),\"\")","v":""},{"$f":"IFERROR(VLOOKUP(A512,'1.Портфель кредитів'!A:AB,14,FALSE),\"\")","v":""}]
[null,{"$f":"IFERROR(#REF!,\"\")","v":""},{"$f":"IFERROR(VLOOKUP(A513,'1.Портфель кредитів'!A:AB,3,FALSE),\"\")","v":""},{"$f":"IFERROR(VLOOKUP(A513,'1.Портфель кредитів'!A:AB,14,FALSE),\"\")","v":""}]
[null,{"$f":"IFERROR(#REF!,\"\")","v":""},{"$f":"IFERROR(VLOOKUP(A514,'1.Портфель кредитів'!A:AB,3,FALSE),\"\")","v":""},{"$f":"IFERROR(VLOOKUP(A514,'1.Портфель кредитів'!A:AB,14,FALSE),\"\")","v":""}]
[null,{"$f":"IFERROR(#REF!,\"\")","v":""},{"$f":"IFERROR(VLOOKUP(A515,'1.Портфель кредитів'!A:AB,3,FALSE),\"\")","v":""},{"$f":"IFERROR(VLOOKUP(A515,'1.Портфель кредитів'!A:AB,14,FALSE),\"\")","v":""}]
[null,{"$f":"IFERROR(#REF!,\"\")","v":""},{"$f":"IFERROR(VLOOKUP(A516,'1.Портфель кредитів'!A:AB,3,FALSE),\"\")","v":""},{"$f":"IFERROR(VLOOKUP(A516,'1.Портфель кредитів'!A:AB,14,FALSE),\"\")","v":""}]
[null,{"$f":"IFERROR(#REF!,\"\")","v":""},{"$f":"IFERROR(VLOOKUP(A517,'1.Портфель кредитів'!A:AB,3,FALSE),\"\")","v":""},{"$f":"IFERROR(VLOOKUP(A517,'1.Портфель кредитів'!A:AB,14,FALSE),\"\")","v":""}]
[null,{"$f":"IFERROR(#REF!,\"\")","v":""},{"$f":"IFERROR(VLOOKUP(A518,'1.Портфель кредитів'!A:AB,3,FALSE),\"\")","v":""},{"$f":"IFERROR(VLOOKUP(A518,'1.Портфель кредитів'!A:AB,14,FALSE),\"\")","v":""}]
[null,{"$f":"IFERROR(#REF!,\"\")","v":""},{"$f":"IFERROR(VLOOKUP(A519,'1.Портфель кредитів'!A:AB,3,FALSE),\"\")","v":""},{"$f":"IFERROR(VLOOKUP(A519,'1.Портфель кредитів'!A:AB,14,FALSE),\"\")","v":""}]
[null,{"$f":"IFERROR(#REF!,\"\")","v":""},{"$f":"IFERROR(VLOOKUP(A520,'1.Портфель кредитів'!A:AB,3,FALSE),\"\")","v":""},{"$f":"IFERROR(VLOOKUP(A520,'1.Портфель кредитів'!A:AB,14,FALSE),\"\")","v":""}]
[null,{"$f":"IFERROR(#REF!,\"\")","v":""},{"$f":"IFERROR(VLOOKUP(A521,'1.Портфель кредитів'!A:AB,3,FALSE),\"\")","v":""},{"$f":"IFERROR(VLOOKUP(A521,'1.Портфель кредитів'!A:AB,14,FALSE),\"\")","v":""}]
[null,{"$f":"IFERROR(#REF!,\"\")","v":""},{"$f":"IFERROR(VLOOKUP(A522,'1.Портфель кредитів'!A:AB,3,FALSE),\"\")","v":""},{"$f":"IFERROR(VLOOKUP(A522,'1.Портфель кредитів'!A:AB,14,FALSE),\"\")","v":""}]
[null,{"$f":"IFERROR(#REF!,\"\")","v":""},{"$f":"IFERROR(VLOOKUP(A523,'1.Портфель кредитів'!A:AB,3,FALSE),\"\")","v":""},{"$f":"IFERROR(VLOOKUP(A523,'1.Портфель кредитів'!A:AB,14,FALSE),\"\")","v":""}]
[null,{"$f":"IFERROR(#REF!,\"\")","v":""},{"$f":"IFERROR(VLOOKUP(A524,'1.Портфель кредитів'!A:AB,3,FALSE),\"\")","v":""},{"$f":"IFERROR(VLOOKUP(A524,'1.Портфель кредитів'!A:AB,14,FALSE),\"\")","v":""}]
[null,{"$f":"IFERROR(#REF!,\"\")","v":""},{"$f":"IFERROR(VLOOKUP(A525,'1.Портфель кредитів'!A:AB,3,FALSE),\"\")","v":""},{"$f":"IFERROR(VLOOKUP(A525,'1.Портфель кредитів'!A:AB,14,FALSE),\"\")","v":""}]
[null,{"$f":"IFERROR(#REF!,\"\")","v":""},{"$f":"IFERROR(VLOOKUP(A526,'1.Портфель кредитів'!A:AB,3,FALSE),\"\")","v":""},{"$f":"IFERROR(VLOOKUP(A526,'1.Портфель кредитів'!A:AB,14,FALSE),\"\")","v":""}]
[null,{"$f":"IFERROR(#REF!,\"\")","v":""},{"$f":"IFERROR(VLOOKUP(A527,'1.Портфель кредитів'!A:AB,3,FALSE),\"\")","v":""},{"$f":"IFERROR(VLOOKUP(A527,'1.Портфель кредитів'!A:AB,14,FALSE),\"\")","v":""}]
[null,{"$f":"IFERROR(#REF!,\"\")","v":""},{"$f":"IFERROR(VLOOKUP(A528,'1.Портфель кредитів'!A:AB,3,FALSE),\"\")","v":""},{"$f":"IFERROR(VLOOKUP(A528,'1.Портфель кредитів'!A:AB,14,FALSE),\"\")","v":""}]
[null,{"$f":"IFERROR(#REF!,\"\")","v":""},{"$f":"IFERROR(VLOOKUP(A529,'1.Портфель кредитів'!A:AB,3,FALSE),\"\")","v":""},{"$f":"IFERROR(VLOOKUP(A529,'1.Портфель кредитів'!A:AB,14,FALSE),\"\")","v":""}]
[null,{"$f":"IFERROR(#REF!,\"\")","v":""},{"$f":"IFERROR(VLOOKUP(A530,'1.Портфель кредитів'!A:AB,3,FALSE),\"\")","v":""},{"$f":"IFERROR(VLOOKUP(A530,'1.Портфель кредитів'!A:AB,14,FALSE),\"\")","v":""}]
[null,{"$f":"IFERROR(#REF!,\"\")","v":""},{"$f":"IFERROR(VLOOKUP(A531,'1.Портфель кредитів'!A:AB,3,FALSE),\"\")","v":""},{"$f":"IFERROR(VLOOKUP(A531,'1.Портфель кредитів'!A:AB,14,FALSE),\"\")","v":""}]
[null,{"$f":"IFERROR(#REF!,\"\")","v":""},{"$f":"IFERROR(VLOOKUP(A532,'1.Портфель кредитів'!A:AB,3,FALSE),\"\")","v":""},{"$f":"IFERROR(VLOOKUP(A532,'1.Портфель кредитів'!A:AB,14,FALSE),\"\")","v":""}]
[null,{"$f":"IFERROR(#REF!,\"\")","v":""},{"$f":"IFERROR(VLOOKUP(A533,'1.Портфель кредитів'!A:AB,3,FALSE),\"\")","v":""},{"$f":"IFERROR(VLOOKUP(A533,'1.Портфель кредитів'!A:AB,14,FALSE),\"\")","v":""}]
[null,{"$f":"IFERROR(#REF!,\"\")","v":""},{"$f":"IFERROR(VLOOKUP(A534,'1.Портфель кредитів'!A:AB,3,FALSE),\"\")","v":""},{"$f":"IFERROR(VLOOKUP(A534,'1.Портфель кредитів'!A:AB,14,FALSE),\"\")","v":""}]
[null,{"$f":"IFERROR(#REF!,\"\")","v":""},{"$f":"IFERROR(VLOOKUP(A535,'1.Портфель кредитів'!A:AB,3,FALSE),\"\")","v":""},{"$f":"IFERROR(VLOOKUP(A535,'1.Портфель кредитів'!A:AB,14,FALSE),\"\")","v":""}]
[null,{"$f":"IFERROR(#REF!,\"\")","v":""},{"$f":"IFERROR(VLOOKUP(A536,'1.Портфель кредитів'!A:AB,3,FALSE),\"\")","v":""},{"$f":"IFERROR(VLOOKUP(A536,'1.Портфель кредитів'!A:AB,14,FALSE),\"\")","v":""}]
[null,{"$f":"IFERROR(#REF!,\"\")","v":""},{"$f":"IFERROR(VLOOKUP(A537,'1.Портфель кредитів'!A:AB,3,FALSE),\"\")","v":""},{"$f":"IFERROR(VLOOKUP(A537,'1.Портфель кредитів'!A:AB,14,FALSE),\"\")","v":""}]
[null,{"$f":"IFERROR(#REF!,\"\")","v":""},{"$f":"IFERROR(VLOOKUP(A538,'1.Портфель кредитів'!A:AB,3,FALSE),\"\")","v":""},{"$f":"IFERROR(VLOOKUP(A538,'1.Портфель кредитів'!A:AB,14,FALSE),\"\")","v":""}]
[null,{"$f":"IFERROR(#REF!,\"\")","v":""},{"$f":"IFERROR(VLOOKUP(A539,'1.Портфель кредитів'!A:AB,3,FALSE),\"\")","v":""},{"$f":"IFERROR(VLOOKUP(A539,'1.Портфель кредитів'!A:AB,14,FALSE),\"\")","v":""}]
[null,{"$f":"IFERROR(#REF!,\"\")","v":""},{"$f":"IFERROR(VLOOKUP(A540,'1.Портфель кредитів'!A:AB,3,FALSE),\"\")","v":""},{"$f":"IFERROR(VLOOKUP(A540,'1.Портфель кредитів'!A:AB,14,FALSE),\"\")","v":""}]
[null,{"$f":"IFERROR(#REF!,\"\")","v":""},{"$f":"IFERROR(VLOOKUP(A541,'1.Портфель кредитів'!A:AB,3,FALSE),\"\")","v":""},{"$f":"IFERROR(VLOOKUP(A541,'1.Портфель кредитів'!A:AB,14,FALSE),\"\")","v":""}]
[null,{"$f":"IFERROR(#REF!,\"\")","v":""},{"$f":"IFERROR(VLOOKUP(A542,'1.Портфель кредитів'!A:AB,3,FALSE),\"\")","v":""},{"$f":"IFERROR(VLOOKUP(A542,'1.Портфель кредитів'!A:AB,14,FALSE),\"\")","v":""}]
[null,{"$f":"IFERROR(#REF!,\"\")","v":""},{"$f":"IFERROR(VLOOKUP(A543,'1.Портфель кредитів'!A:AB,3,FALSE),\"\")","v":""},{"$f":"IFERROR(VLOOKUP(A543,'1.Портфель кредитів'!A:AB,14,FALSE),\"\")","v":""}]
[null,{"$f":"IFERROR(#REF!,\"\")","v":""},{"$f":"IFERROR(VLOOKUP(A544,'1.Портфель кредитів'!A:AB,3,FALSE),\"\")","v":""},{"$f":"IFERROR(VLOOKUP(A544,'1.Портфель кредитів'!A:AB,14,FALSE),\"\")","v":""}]
[null,{"$f":"IFERROR(#REF!,\"\")","v":""},{"$f":"IFERROR(VLOOKUP(A545,'1.Портфель кредитів'!A:AB,3,FALSE),\"\")","v":""},{"$f":"IFERROR(VLOOKUP(A545,'1.Портфель кредитів'!A:AB,14,FALSE),\"\")","v":""}]
[null,{"$f":"IFERROR(#REF!,\"\")","v":""},{"$f":"IFERROR(VLOOKUP(A546,'1.Портфель кредитів'!A:AB,3,FALSE),\"\")","v":""},{"$f":"IFERROR(VLOOKUP(A546,'1.Портфель кредитів'!A:AB,14,FALSE),\"\")","v":""}]
[null,{"$f":"IFERROR(#REF!,\"\")","v":""},{"$f":"IFERROR(VLOOKUP(A547,'1.Портфель кредитів'!A:AB,3,FALSE),\"\")","v":""},{"$f":"IFERROR(VLOOKUP(A547,'1.Портфель кредитів'!A:AB,14,FALSE),\"\")","v":""}]
[null,{"$f":"IFERROR(#REF!,\"\")","v":""},{"$f":"IFERROR(VLOOKUP(A548,'1.Портфель кредитів'!A:AB,3,FALSE),\"\")","v":""},{"$f":"IFERROR(VLOOKUP(A548,'1.Портфель кредитів'!A:AB,14,FALSE),\"\")","v":""}]
[null,{"$f":"IFERROR(#REF!,\"\")","v":""},{"$f":"IFERROR(VLOOKUP(A549,'1.Портфель кредитів'!A:AB,3,FALSE),\"\")","v":""},{"$f":"IFERROR(VLOOKUP(A549,'1.Портфель кредитів'!A:AB,14,FALSE),\"\")","v":""}]
[null,{"$f":"IFERROR(#REF!,\"\")","v":""},{"$f":"IFERROR(VLOOKUP(A550,'1.Портфель кредитів'!A:AB,3,FALSE),\"\")","v":""},{"$f":"IFERROR(VLOOKUP(A550,'1.Портфель кредитів'!A:AB,14,FALSE),\"\")","v":""}]
[null,{"$f":"IFERROR(#REF!,\"\")","v":""},{"$f":"IFERROR(VLOOKUP(A551,'1.Портфель кредитів'!A:AB,3,FALSE),\"\")","v":""},{"$f":"IFERROR(VLOOKUP(A551,'1.Портфель кредитів'!A:AB,14,FALSE),\"\")","v":""}]
[null,{"$f":"IFERROR(#REF!,\"\")","v":""},{"$f":"IFERROR(VLOOKUP(A552,'1.Портфель кредитів'!A:AB,3,FALSE),\"\")","v":""},{"$f":"IFERROR(VLOOKUP(A552,'1.Портфель кредитів'!A:AB,14,FALSE),\"\")","v":""}]
[null,{"$f":"IFERROR(#REF!,\"\")","v":""},{"$f":"IFERROR(VLOOKUP(A553,'1.Портфель кредитів'!A:AB,3,FALSE),\"\")","v":""},{"$f":"IFERROR(VLOOKUP(A553,'1.Портфель кредитів'!A:AB,14,FALSE),\"\")","v":""}]
[null,{"$f":"IFERROR(#REF!,\"\")","v":""},{"$f":"IFERROR(VLOOKUP(A554,'1.Портфель кредитів'!A:AB,3,FALSE),\"\")","v":""},{"$f":"IFERROR(VLOOKUP(A554,'1.Портфель кредитів'!A:AB,14,FALSE),\"\")","v":""}]
[null,{"$f":"IFERROR(#REF!,\"\")","v":""},{"$f":"IFERROR(VLOOKUP(A555,'1.Портфель кредитів'!A:AB,3,FALSE),\"\")","v":""},{"$f":"IFERROR(VLOOKUP(A555,'1.Портфель кредитів'!A:AB,14,FALSE),\"\")","v":""}]
[null,{"$f":"IFERROR(#REF!,\"\")","v":""},{"$f":"IFERROR(VLOOKUP(A556,'1.Портфель кредитів'!A:AB,3,FALSE),\"\")","v":""},{"$f":"IFERROR(VLOOKUP(A556,'1.Портфель кредитів'!A:AB,14,FALSE),\"\")","v":""}]
[null,{"$f":"IFERROR(#REF!,\"\")","v":""},{"$f":"IFERROR(VLOOKUP(A557,'1.Портфель кредитів'!A:AB,3,FALSE),\"\")","v":""},{"$f":"IFERROR(VLOOKUP(A557,'1.Портфель кредитів'!A:AB,14,FALSE),\"\")","v":""}]
[null,{"$f":"IFERROR(#REF!,\"\")","v":""},{"$f":"IFERROR(VLOOKUP(A558,'1.Портфель кредитів'!A:AB,3,FALSE),\"\")","v":""},{"$f":"IFERROR(VLOOKUP(A558,'1.Портфель кредитів'!A:AB,14,FALSE),\"\")","v":""}]
[null,{"$f":"IFERROR(#REF!,\"\")","v":""},{"$f":"IFERROR(VLOOKUP(A559,'1.Портфель кредитів'!A:AB,3,FALSE),\"\")","v":""},{"$f":"IFERROR(VLOOKUP(A559,'1.Портфель кредитів'!A:AB,14,FALSE),\"\")","v":""}]
[null,{"$f":"IFERROR(#REF!,\"\")","v":""},{"$f":"IFERROR(VLOOKUP(A560,'1.Портфель кредитів'!A:AB,3,FALSE),\"\")","v":""},{"$f":"IFERROR(VLOOKUP(A560,'1.Портфель кредитів'!A:AB,14,FALSE),\"\")","v":""}]
[null,{"$f":"IFERROR(#REF!,\"\")","v":""},{"$f":"IFERROR(VLOOKUP(A561,'1.Портфель кредитів'!A:AB,3,FALSE),\"\")","v":""},{"$f":"IFERROR(VLOOKUP(A561,'1.Портфель кредитів'!A:AB,14,FALSE),\"\")","v":""}]
[null,{"$f":"IFERROR(#REF!,\"\")","v":""},{"$f":"IFERROR(VLOOKUP(A562,'1.Портфель кредитів'!A:AB,3,FALSE),\"\")","v":""},{"$f":"IFERROR(VLOOKUP(A562,'1.Портфель кредитів'!A:AB,14,FALSE),\"\")","v":""}]
[null,{"$f":"IFERROR(#REF!,\"\")","v":""},{"$f":"IFERROR(VLOOKUP(A563,'1.Портфель кредитів'!A:AB,3,FALSE),\"\")","v":""},{"$f":"IFERROR(VLOOKUP(A563,'1.Портфель кредитів'!A:AB,14,FALSE),\"\")","v":""}]
[null,{"$f":"IFERROR(#REF!,\"\")","v":""},{"$f":"IFERROR(VLOOKUP(A564,'1.Портфель кредитів'!A:AB,3,FALSE),\"\")","v":""},{"$f":"IFERROR(VLOOKUP(A564,'1.Портфель кредитів'!A:AB,14,FALSE),\"\")","v":""}]
[null,{"$f":"IFERROR(#REF!,\"\")","v":""},{"$f":"IFERROR(VLOOKUP(A565,'1.Портфель кредитів'!A:AB,3,FALSE),\"\")","v":""},{"$f":"IFERROR(VLOOKUP(A565,'1.Портфель кредитів'!A:AB,14,FALSE),\"\")","v":""}]
[null,{"$f":"IFERROR(#REF!,\"\")","v":""},{"$f":"IFERROR(VLOOKUP(A566,'1.Портфель кредитів'!A:AB,3,FALSE),\"\")","v":""},{"$f":"IFERROR(VLOOKUP(A566,'1.Портфель кредитів'!A:AB,14,FALSE),\"\")","v":""}]
[null,{"$f":"IFERROR(#REF!,\"\")","v":""},{"$f":"IFERROR(VLOOKUP(A567,'1.Портфель кредитів'!A:AB,3,FALSE),\"\")","v":""},{"$f":"IFERROR(VLOOKUP(A567,'1.Портфель кредитів'!A:AB,14,FALSE),\"\")","v":""}]
[null,{"$f":"IFERROR(#REF!,\"\")","v":""},{"$f":"IFERROR(VLOOKUP(A568,'1.Портфель кредитів'!A:AB,3,FALSE),\"\")","v":""},{"$f":"IFERROR(VLOOKUP(A568,'1.Портфель кредитів'!A:AB,14,FALSE),\"\")","v":""}]
[null,{"$f":"IFERROR(#REF!,\"\")","v":""},{"$f":"IFERROR(VLOOKUP(A569,'1.Портфель кредитів'!A:AB,3,FALSE),\"\")","v":""},{"$f":"IFERROR(VLOOKUP(A569,'1.Портфель кредитів'!A:AB,14,FALSE),\"\")","v":""}]
[null,{"$f":"IFERROR(#REF!,\"\")","v":""},{"$f":"IFERROR(VLOOKUP(A570,'1.Портфель кредитів'!A:AB,3,FALSE),\"\")","v":""},{"$f":"IFERROR(VLOOKUP(A570,'1.Портфель кредитів'!A:AB,14,FALSE),\"\")","v":""}]
[null,{"$f":"IFERROR(#REF!,\"\")","v":""},{"$f":"IFERROR(VLOOKUP(A571,'1.Портфель кредитів'!A:AB,3,FALSE),\"\")","v":""},{"$f":"IFERROR(VLOOKUP(A571,'1.Портфель кредитів'!A:AB,14,FALSE),\"\")","v":""}]
[null,{"$f":"IFERROR(#REF!,\"\")","v":""},{"$f":"IFERROR(VLOOKUP(A572,'1.Портфель кредитів'!A:AB,3,FALSE),\"\")","v":""},{"$f":"IFERROR(VLOOKUP(A572,'1.Портфель кредитів'!A:AB,14,FALSE),\"\")","v":""}]
[null,{"$f":"IFERROR(#REF!,\"\")","v":""},{"$f":"IFERROR(VLOOKUP(A573,'1.Портфель кредитів'!A:AB,3,FALSE),\"\")","v":""},{"$f":"IFERROR(VLOOKUP(A573,'1.Портфель кредитів'!A:AB,14,FALSE),\"\")","v":""}]
[null,{"$f":"IFERROR(#REF!,\"\")","v":""},{"$f":"IFERROR(VLOOKUP(A574,'1.Портфель кредитів'!A:AB,3,FALSE),\"\")","v":""},{"$f":"IFERROR(VLOOKUP(A574,'1.Портфель кредитів'!A:AB,14,FALSE),\"\")","v":""}]
[null,{"$f":"IFERROR(#REF!,\"\")","v":""},{"$f":"IFERROR(VLOOKUP(A575,'1.Портфель кредитів'!A:AB,3,FALSE),\"\")","v":""},{"$f":"IFERROR(VLOOKUP(A575,'1.Портфель кредитів'!A:AB,14,FALSE),\"\")","v":""}]
[null,{"$f":"IFERROR(#REF!,\"\")","v":""},{"$f":"IFERROR(VLOOKUP(A576,'1.Портфель кредитів'!A:AB,3,FALSE),\"\")","v":""},{"$f":"IFERROR(VLOOKUP(A576,'1.Портфель кредитів'!A:AB,14,FALSE),\"\")","v":""}]
[null,{"$f":"IFERROR(#REF!,\"\")","v":""},{"$f":"IFERROR(VLOOKUP(A577,'1.Портфель кредитів'!A:AB,3,FALSE),\"\")","v":""},{"$f":"IFERROR(VLOOKUP(A577,'1.Портфель кредитів'!A:AB,14,FALSE),\"\")","v":""}]
[null,{"$f":"IFERROR(#REF!,\"\")","v":""},{"$f":"IFERROR(VLOOKUP(A578,'1.Портфель кредитів'!A:AB,3,FALSE),\"\")","v":""},{"$f":"IFERROR(VLOOKUP(A578,'1.Портфель кредитів'!A:AB,14,FALSE),\"\")","v":""}]
[null,{"$f":"IFERROR(#REF!,\"\")","v":""},{"$f":"IFERROR(VLOOKUP(A579,'1.Портфель кредитів'!A:AB,3,FALSE),\"\")","v":""},{"$f":"IFERROR(VLOOKUP(A579,'1.Портфель кредитів'!A:AB,14,FALSE),\"\")","v":""}]
[null,{"$f":"IFERROR(#REF!,\"\")","v":""},{"$f":"IFERROR(VLOOKUP(A580,'1.Портфель кредитів'!A:AB,3,FALSE),\"\")","v":""},{"$f":"IFERROR(VLOOKUP(A580,'1.Портфель кредитів'!A:AB,14,FALSE),\"\")","v":""}]
[null,{"$f":"IFERROR(#REF!,\"\")","v":""},{"$f":"IFERROR(VLOOKUP(A581,'1.Портфель кредитів'!A:AB,3,FALSE),\"\")","v":""},{"$f":"IFERROR(VLOOKUP(A581,'1.Портфель кредитів'!A:AB,14,FALSE),\"\")","v":""}]
[null,{"$f":"IFERROR(#REF!,\"\")","v":""},{"$f":"IFERROR(VLOOKUP(A582,'1.Портфель кредитів'!A:AB,3,FALSE),\"\")","v":""},{"$f":"IFERROR(VLOOKUP(A582,'1.Портфель кредитів'!A:AB,14,FALSE),\"\")","v":""}]
[null,{"$f":"IFERROR(#REF!,\"\")","v":""},{"$f":"IFERROR(VLOOKUP(A583,'1.Портфель кредитів'!A:AB,3,FALSE),\"\")","v":""},{"$f":"IFERROR(VLOOKUP(A583,'1.Портфель кредитів'!A:AB,14,FALSE),\"\")","v":""}]
[null,{"$f":"IFERROR(#REF!,\"\")","v":""},{"$f":"IFERROR(VLOOKUP(A584,'1.Портфель кредитів'!A:AB,3,FALSE),\"\")","v":""},{"$f":"IFERROR(VLOOKUP(A584,'1.Портфель кредитів'!A:AB,14,FALSE),\"\")","v":""}]
[null,{"$f":"IFERROR(#REF!,\"\")","v":""},{"$f":"IFERROR(VLOOKUP(A585,'1.Портфель кредитів'!A:AB,3,FALSE),\"\")","v":""},{"$f":"IFERROR(VLOOKUP(A585,'1.Портфель кредитів'!A:AB,14,FALSE),\"\")","v":""}]
[null,{"$f":"IFERROR(#REF!,\"\")","v":""},{"$f":"IFERROR(VLOOKUP(A586,'1.Портфель кредитів'!A:AB,3,FALSE),\"\")","v":""},{"$f":"IFERROR(VLOOKUP(A586,'1.Портфель кредитів'!A:AB,14,FALSE),\"\")","v":""}]
[null,{"$f":"IFERROR(#REF!,\"\")","v":""},{"$f":"IFERROR(VLOOKUP(A587,'1.Портфель кредитів'!A:AB,3,FALSE),\"\")","v":""},{"$f":"IFERROR(VLOOKUP(A587,'1.Портфель кредитів'!A:AB,14,FALSE),\"\")","v":""}]
[null,{"$f":"IFERROR(#REF!,\"\")","v":""},{"$f":"IFERROR(VLOOKUP(A588,'1.Портфель кредитів'!A:AB,3,FALSE),\"\")","v":""},{"$f":"IFERROR(VLOOKUP(A588,'1.Портфель кредитів'!A:AB,14,FALSE),\"\")","v":""}]
[null,{"$f":"IFERROR(#REF!,\"\")","v":""},{"$f":"IFERROR(VLOOKUP(A589,'1.Портфель кредитів'!A:AB,3,FALSE),\"\")","v":""},{"$f":"IFERROR(VLOOKUP(A589,'1.Портфель кредитів'!A:AB,14,FALSE),\"\")","v":""}]
[null,{"$f":"IFERROR(#REF!,\"\")","v":""},{"$f":"IFERROR(VLOOKUP(A590,'1.Портфель кредитів'!A:AB,3,FALSE),\"\")","v":""},{"$f":"IFERROR(VLOOKUP(A590,'1.Портфель кредитів'!A:AB,14,FALSE),\"\")","v":""}]
[null,{"$f":"IFERROR(#REF!,\"\")","v":""},{"$f":"IFERROR(VLOOKUP(A591,'1.Портфель кредитів'!A:AB,3,FALSE),\"\")","v":""},{"$f":"IFERROR(VLOOKUP(A591,'1.Портфель кредитів'!A:AB,14,FALSE),\"\")","v":""}]
[null,{"$f":"IFERROR(#REF!,\"\")","v":""},{"$f":"IFERROR(VLOOKUP(A592,'1.Портфель кредитів'!A:AB,3,FALSE),\"\")","v":""},{"$f":"IFERROR(VLOOKUP(A592,'1.Портфель кредитів'!A:AB,14,FALSE),\"\")","v":""}]
[null,{"$f":"IFERROR(#REF!,\"\")","v":""},{"$f":"IFERROR(VLOOKUP(A593,'1.Портфель кредитів'!A:AB,3,FALSE),\"\")","v":""},{"$f":"IFERROR(VLOOKUP(A593,'1.Портфель кредитів'!A:AB,14,FALSE),\"\")","v":""}]
[null,{"$f":"IFERROR(#REF!,\"\")","v":""},{"$f":"IFERROR(VLOOKUP(A594,'1.Портфель кредитів'!A:AB,3,FALSE),\"\")","v":""},{"$f":"IFERROR(VLOOKUP(A594,'1.Портфель кредитів'!A:AB,14,FALSE),\"\")","v":""}]
[null,{"$f":"IFERROR(#REF!,\"\")","v":""},{"$f":"IFERROR(VLOOKUP(A595,'1.Портфель кредитів'!A:AB,3,FALSE),\"\")","v":""},{"$f":"IFERROR(VLOOKUP(A595,'1.Портфель кредитів'!A:AB,14,FALSE),\"\")","v":""}]
[null,{"$f":"IFERROR(#REF!,\"\")","v":""},{"$f":"IFERROR(VLOOKUP(A596,'1.Портфель кредитів'!A:AB,3,FALSE),\"\")","v":""},{"$f":"IFERROR(VLOOKUP(A596,'1.Портфель кредитів'!A:AB,14,FALSE),\"\")","v":""}]
[null,{"$f":"IFERROR(#REF!,\"\")","v":""},{"$f":"IFERROR(VLOOKUP(A597,'1.Портфель кредитів'!A:AB,3,FALSE),\"\")","v":""},{"$f":"IFERROR(VLOOKUP(A597,'1.Портфель кредитів'!A:AB,14,FALSE),\"\")","v":""}]
[null,{"$f":"IFERROR(#REF!,\"\")","v":""},{"$f":"IFERROR(VLOOKUP(A598,'1.Портфель кредитів'!A:AB,3,FALSE),\"\")","v":""},{"$f":"IFERROR(VLOOKUP(A598,'1.Портфель кредитів'!A:AB,14,FALSE),\"\")","v":""}]
[null,{"$f":"IFERROR(#REF!,\"\")","v":""},{"$f":"IFERROR(VLOOKUP(A599,'1.Портфель кредитів'!A:AB,3,FALSE),\"\")","v":""},{"$f":"IFERROR(VLOOKUP(A599,'1.Портфель кредитів'!A:AB,14,FALSE),\"\")","v":""}]
[null,{"$f":"IFERROR(#REF!,\"\")","v":""},{"$f":"IFERROR(VLOOKUP(A600,'1.Портфель кредитів'!A:AB,3,FALSE),\"\")","v":""},{"$f":"IFERROR(VLOOKUP(A600,'1.Портфель кредитів'!A:AB,14,FALSE),\"\")","v":""}]
[null,{"$f":"IFERROR(#REF!,\"\")","v":""},{"$f":"IFERROR(VLOOKUP(A601,'1.Портфель кредитів'!A:AB,3,FALSE),\"\")","v":""},{"$f":"IFERROR(VLOOKUP(A601,'1.Портфель кредитів'!A:AB,14,FALSE),\"\")","v":""}]
[null,{"$f":"IFERROR(#REF!,\"\")","v":""},{"$f":"IFERROR(VLOOKUP(A602,'1.Портфель кредитів'!A:AB,3,FALSE),\"\")","v":""},{"$f":"IFERROR(VLOOKUP(A602,'1.Портфель кредитів'!A:AB,14,FALSE),\"\")","v":""}]
[null,{"$f":"IFERROR(#REF!,\"\")","v":""},{"$f":"IFERROR(VLOOKUP(A603,'1.Портфель кредитів'!A:AB,3,FALSE),\"\")","v":""},{"$f":"IFERROR(VLOOKUP(A603,'1.Портфель кредитів'!A:AB,14,FALSE),\"\")","v":""}]
[null,{"$f":"IFERROR(#REF!,\"\")","v":""},{"$f":"IFERROR(VLOOKUP(A604,'1.Портфель кредитів'!A:AB,3,FALSE),\"\")","v":""},{"$f":"IFERROR(VLOOKUP(A604,'1.Портфель кредитів'!A:AB,14,FALSE),\"\")","v":""}]
[null,{"$f":"IFERROR(#REF!,\"\")","v":""},{"$f":"IFERROR(VLOOKUP(A605,'1.Портфель кредитів'!A:AB,3,FALSE),\"\")","v":""},{"$f":"IFERROR(VLOOKUP(A605,'1.Портфель кредитів'!A:AB,14,FALSE),\"\")","v":""}]
[null,{"$f":"IFERROR(#REF!,\"\")","v":""},{"$f":"IFERROR(VLOOKUP(A606,'1.Портфель кредитів'!A:AB,3,FALSE),\"\")","v":""},{"$f":"IFERROR(VLOOKUP(A606,'1.Портфель кредитів'!A:AB,14,FALSE),\"\")","v":""}]
[null,{"$f":"IFERROR(#REF!,\"\")","v":""},{"$f":"IFERROR(VLOOKUP(A607,'1.Портфель кредитів'!A:AB,3,FALSE),\"\")","v":""},{"$f":"IFERROR(VLOOKUP(A607,'1.Портфель кредитів'!A:AB,14,FALSE),\"\")","v":""}]
[null,{"$f":"IFERROR(#REF!,\"\")","v":""},{"$f":"IFERROR(VLOOKUP(A608,'1.Портфель кредитів'!A:AB,3,FALSE),\"\")","v":""},{"$f":"IFERROR(VLOOKUP(A608,'1.Портфель кредитів'!A:AB,14,FALSE),\"\")","v":""}]
[null,{"$f":"IFERROR(#REF!,\"\")","v":""},{"$f":"IFERROR(VLOOKUP(A609,'1.Портфель кредитів'!A:AB,3,FALSE),\"\")","v":""},{"$f":"IFERROR(VLOOKUP(A609,'1.Портфель кредитів'!A:AB,14,FALSE),\"\")","v":""}]
[null,{"$f":"IFERROR(#REF!,\"\")","v":""},{"$f":"IFERROR(VLOOKUP(A610,'1.Портфель кредитів'!A:AB,3,FALSE),\"\")","v":""},{"$f":"IFERROR(VLOOKUP(A610,'1.Портфель кредитів'!A:AB,14,FALSE),\"\")","v":""}]
[null,{"$f":"IFERROR(#REF!,\"\")","v":""},{"$f":"IFERROR(VLOOKUP(A611,'1.Портфель кредитів'!A:AB,3,FALSE),\"\")","v":""},{"$f":"IFERROR(VLOOKUP(A611,'1.Портфель кредитів'!A:AB,14,FALSE),\"\")","v":""}]
[null,{"$f":"IFERROR(#REF!,\"\")","v":""},{"$f":"IFERROR(VLOOKUP(A612,'1.Портфель кредитів'!A:AB,3,FALSE),\"\")","v":""},{"$f":"IFERROR(VLOOKUP(A612,'1.Портфель кредитів'!A:AB,14,FALSE),\"\")","v":""}]
[null,{"$f":"IFERROR(#REF!,\"\")","v":""},{"$f":"IFERROR(VLOOKUP(A613,'1.Портфель кредитів'!A:AB,3,FALSE),\"\")","v":""},{"$f":"IFERROR(VLOOKUP(A613,'1.Портфель кредитів'!A:AB,14,FALSE),\"\")","v":""}]
[null,{"$f":"IFERROR(#REF!,\"\")","v":""},{"$f":"IFERROR(VLOOKUP(A614,'1.Портфель кредитів'!A:AB,3,FALSE),\"\")","v":""},{"$f":"IFERROR(VLOOKUP(A614,'1.Портфель кредитів'!A:AB,14,FALSE),\"\")","v":""}]
[null,{"$f":"IFERROR(#REF!,\"\")","v":""},{"$f":"IFERROR(VLOOKUP(A615,'1.Портфель кредитів'!A:AB,3,FALSE),\"\")","v":""},{"$f":"IFERROR(VLOOKUP(A615,'1.Портфель кредитів'!A:AB,14,FALSE),\"\")","v":""}]
[null,{"$f":"IFERROR(#REF!,\"\")","v":""},{"$f":"IFERROR(VLOOKUP(A616,'1.Портфель кредитів'!A:AB,3,FALSE),\"\")","v":""},{"$f":"IFERROR(VLOOKUP(A616,'1.Портфель кредитів'!A:AB,14,FALSE),\"\")","v":""}]
[null,{"$f":"IFERROR(#REF!,\"\")","v":""},{"$f":"IFERROR(VLOOKUP(A617,'1.Портфель кредитів'!A:AB,3,FALSE),\"\")","v":""},{"$f":"IFERROR(VLOOKUP(A617,'1.Портфель кредитів'!A:AB,14,FALSE),\"\")","v":""}]
[null,{"$f":"IFERROR(#REF!,\"\")","v":""},{"$f":"IFERROR(VLOOKUP(A618,'1.Портфель кредитів'!A:AB,3,FALSE),\"\")","v":""},{"$f":"IFERROR(VLOOKUP(A618,'1.Портфель кредитів'!A:AB,14,FALSE),\"\")","v":""}]
[null,{"$f":"IFERROR(#REF!,\"\")","v":""},{"$f":"IFERROR(VLOOKUP(A619,'1.Портфель кредитів'!A:AB,3,FALSE),\"\")","v":""},{"$f":"IFERROR(VLOOKUP(A619,'1.Портфель кредитів'!A:AB,14,FALSE),\"\")","v":""}]
[null,{"$f":"IFERROR(#REF!,\"\")","v":""},{"$f":"IFERROR(VLOOKUP(A620,'1.Портфель кредитів'!A:AB,3,FALSE),\"\")","v":""},{"$f":"IFERROR(VLOOKUP(A620,'1.Портфель кредитів'!A:AB,14,FALSE),\"\")","v":""}]
[null,{"$f":"IFERROR(#REF!,\"\")","v":""},{"$f":"IFERROR(VLOOKUP(A621,'1.Портфель кредитів'!A:AB,3,FALSE),\"\")","v":""},{"$f":"IFERROR(VLOOKUP(A621,'1.Портфель кредитів'!A:AB,14,FALSE),\"\")","v":""}]
[null,{"$f":"IFERROR(#REF!,\"\")","v":""},{"$f":"IFERROR(VLOOKUP(A622,'1.Портфель кредитів'!A:AB,3,FALSE),\"\")","v":""},{"$f":"IFERROR(VLOOKUP(A622,'1.Портфель кредитів'!A:AB,14,FALSE),\"\")","v":""}]
[null,{"$f":"IFERROR(#REF!,\"\")","v":""},{"$f":"IFERROR(VLOOKUP(A623,'1.Портфель кредитів'!A:AB,3,FALSE),\"\")","v":""},{"$f":"IFERROR(VLOOKUP(A623,'1.Портфель кредитів'!A:AB,14,FALSE),\"\")","v":""}]
[null,{"$f":"IFERROR(#REF!,\"\")","v":""},{"$f":"IFERROR(VLOOKUP(A624,'1.Портфель кредитів'!A:AB,3,FALSE),\"\")","v":""},{"$f":"IFERROR(VLOOKUP(A624,'1.Портфель кредитів'!A:AB,14,FALSE),\"\")","v":""}]
[null,{"$f":"IFERROR(#REF!,\"\")","v":""},{"$f":"IFERROR(VLOOKUP(A625,'1.Портфель кредитів'!A:AB,3,FALSE),\"\")","v":""},{"$f":"IFERROR(VLOOKUP(A625,'1.Портфель кредитів'!A:AB,14,FALSE),\"\")","v":""}]
[null,{"$f":"IFERROR(#REF!,\"\")","v":""},{"$f":"IFERROR(VLOOKUP(A626,'1.Портфель кредитів'!A:AB,3,FALSE),\"\")","v":""},{"$f":"IFERROR(VLOOKUP(A626,'1.Портфель кредитів'!A:AB,14,FALSE),\"\")","v":""}]
[null,{"$f":"IFERROR(#REF!,\"\")","v":""},{"$f":"IFERROR(VLOOKUP(A627,'1.Портфель кредитів'!A:AB,3,FALSE),\"\")","v":""},{"$f":"IFERROR(VLOOKUP(A627,'1.Портфель кредитів'!A:AB,14,FALSE),\"\")","v":""}]
[null,{"$f":"IFERROR(#REF!,\"\")","v":""},{"$f":"IFERROR(VLOOKUP(A628,'1.Портфель кредитів'!A:AB,3,FALSE),\"\")","v":""},{"$f":"IFERROR(VLOOKUP(A628,'1.Портфель кредитів'!A:AB,14,FALSE),\"\")","v":""}]
[null,{"$f":"IFERROR(#REF!,\"\")","v":""},{"$f":"IFERROR(VLOOKUP(A629,'1.Портфель кредитів'!A:AB,3,FALSE),\"\")","v":""},{"$f":"IFERROR(VLOOKUP(A629,'1.Портфель кредитів'!A:AB,14,FALSE),\"\")","v":""}]
[null,{"$f":"IFERROR(#REF!,\"\")","v":""},{"$f":"IFERROR(VLOOKUP(A630,'1.Портфель кредитів'!A:AB,3,FALSE),\"\")","v":""},{"$f":"IFERROR(VLOOKUP(A630,'1.Портфель кредитів'!A:AB,14,FALSE),\"\")","v":""}]
[null,{"$f":"IFERROR(#REF!,\"\")","v":""},{"$f":"IFERROR(VLOOKUP(A631,'1.Портфель кредитів'!A:AB,3,FALSE),\"\")","v":""},{"$f":"IFERROR(VLOOKUP(A631,'1.Портфель кредитів'!A:AB,14,FALSE),\"\")","v":""}]
[null,{"$f":"IFERROR(#REF!,\"\")","v":""},{"$f":"IFERROR(VLOOKUP(A632,'1.Портфель кредитів'!A:AB,3,FALSE),\"\")","v":""},{"$f":"IFERROR(VLOOKUP(A632,'1.Портфель кредитів'!A:AB,14,FALSE),\"\")","v":""}]
[null,{"$f":"IFERROR(#REF!,\"\")","v":""},{"$f":"IFERROR(VLOOKUP(A633,'1.Портфель кредитів'!A:AB,3,FALSE),\"\")","v":""},{"$f":"IFERROR(VLOOKUP(A633,'1.Портфель кредитів'!A:AB,14,FALSE),\"\")","v":""}]
[null,{"$f":"IFERROR(#REF!,\"\")","v":""},{"$f":"IFERROR(VLOOKUP(A634,'1.Портфель кредитів'!A:AB,3,FALSE),\"\")","v":""},{"$f":"IFERROR(VLOOKUP(A634,'1.Портфель кредитів'!A:AB,14,FALSE),\"\")","v":""}]
[null,{"$f":"IFERROR(#REF!,\"\")","v":""},{"$f":"IFERROR(VLOOKUP(A635,'1.Портфель кредитів'!A:AB,3,FALSE),\"\")","v":""},{"$f":"IFERROR(VLOOKUP(A635,'1.Портфель кредитів'!A:AB,14,FALSE),\"\")","v":""}]
[null,{"$f":"IFERROR(#REF!,\"\")","v":""},{"$f":"IFERROR(VLOOKUP(A636,'1.Портфель кредитів'!A:AB,3,FALSE),\"\")","v":""},{"$f":"IFERROR(VLOOKUP(A636,'1.Портфель кредитів'!A:AB,14,FALSE),\"\")","v":""}]
[null,{"$f":"IFERROR(#REF!,\"\")","v":""},{"$f":"IFERROR(VLOOKUP(A637,'1.Портфель кредитів'!A:AB,3,FALSE),\"\")","v":""},{"$f":"IFERROR(VLOOKUP(A637,'1.Портфель кредитів'!A:AB,14,FALSE),\"\")","v":""}]
[null,{"$f":"IFERROR(#REF!,\"\")","v":""},{"$f":"IFERROR(VLOOKUP(A638,'1.Портфель кредитів'!A:AB,3,FALSE),\"\")","v":""},{"$f":"IFERROR(VLOOKUP(A638,'1.Портфель кредитів'!A:AB,14,FALSE),\"\")","v":""}]
[null,{"$f":"IFERROR(#REF!,\"\")","v":""},{"$f":"IFERROR(VLOOKUP(A639,'1.Портфель кредитів'!A:AB,3,FALSE),\"\")","v":""},{"$f":"IFERROR(VLOOKUP(A639,'1.Портфель кредитів'!A:AB,14,FALSE),\"\")","v":""}]
[null,{"$f":"IFERROR(#REF!,\"\")","v":""},{"$f":"IFERROR(VLOOKUP(A640,'1.Портфель кредитів'!A:AB,3,FALSE),\"\")","v":""},{"$f":"IFERROR(VLOOKUP(A640,'1.Портфель кредитів'!A:AB,14,FALSE),\"\")","v":""}]
[null,{"$f":"IFERROR(#REF!,\"\")","v":""},{"$f":"IFERROR(VLOOKUP(A641,'1.Портфель кредитів'!A:AB,3,FALSE),\"\")","v":""},{"$f":"IFERROR(VLOOKUP(A641,'1.Портфель кредитів'!A:AB,14,FALSE),\"\")","v":""}]
[null,{"$f":"IFERROR(#REF!,\"\")","v":""},{"$f":"IFERROR(VLOOKUP(A642,'1.Портфель кредитів'!A:AB,3,FALSE),\"\")","v":""},{"$f":"IFERROR(VLOOKUP(A642,'1.Портфель кредитів'!A:AB,14,FALSE),\"\")","v":""}]
[null,{"$f":"IFERROR(#REF!,\"\")","v":""},{"$f":"IFERROR(VLOOKUP(A643,'1.Портфель кредитів'!A:AB,3,FALSE),\"\")","v":""},{"$f":"IFERROR(VLOOKUP(A643,'1.Портфель кредитів'!A:AB,14,FALSE),\"\")","v":""}]
[null,{"$f":"IFERROR(#REF!,\"\")","v":""},{"$f":"IFERROR(VLOOKUP(A644,'1.Портфель кредитів'!A:AB,3,FALSE),\"\")","v":""},{"$f":"IFERROR(VLOOKUP(A644,'1.Портфель кредитів'!A:AB,14,FALSE),\"\")","v":""}]
[null,{"$f":"IFERROR(#REF!,\"\")","v":""},{"$f":"IFERROR(VLOOKUP(A645,'1.Портфель кредитів'!A:AB,3,FALSE),\"\")","v":""},{"$f":"IFERROR(VLOOKUP(A645,'1.Портфель кредитів'!A:AB,14,FALSE),\"\")","v":""}]
[null,{"$f":"IFERROR(#REF!,\"\")","v":""},{"$f":"IFERROR(VLOOKUP(A646,'1.Портфель кредитів'!A:AB,3,FALSE),\"\")","v":""},{"$f":"IFERROR(VLOOKUP(A646,'1.Портфель кредитів'!A:AB,14,FALSE),\"\")","v":""}]
[null,{"$f":"IFERROR(#REF!,\"\")","v":""},{"$f":"IFERROR(VLOOKUP(A647,'1.Портфель кредитів'!A:AB,3,FALSE),\"\")","v":""},{"$f":"IFERROR(VLOOKUP(A647,'1.Портфель кредитів'!A:AB,14,FALSE),\"\")","v":""}]
[null,{"$f":"IFERROR(#REF!,\"\")","v":""},{"$f":"IFERROR(VLOOKUP(A648,'1.Портфель кредитів'!A:AB,3,FALSE),\"\")","v":""},{"$f":"IFERROR(VLOOKUP(A648,'1.Портфель кредитів'!A:AB,14,FALSE),\"\")","v":""}]
[null,{"$f":"IFERROR(#REF!,\"\")","v":""},{"$f":"IFERROR(VLOOKUP(A649,'1.Портфель кредитів'!A:AB,3,FALSE),\"\")","v":""},{"$f":"IFERROR(VLOOKUP(A649,'1.Портфель кредитів'!A:AB,14,FALSE),\"\")","v":""}]
[null,{"$f":"IFERROR(#REF!,\"\")","v":""},{"$f":"IFERROR(VLOOKUP(A650,'1.Портфель кредитів'!A:AB,3,FALSE),\"\")","v":""},{"$f":"IFERROR(VLOOKUP(A650,'1.Портфель кредитів'!A:AB,14,FALSE),\"\")","v":""}]
[null,{"$f":"IFERROR(#REF!,\"\")","v":""},{"$f":"IFERROR(VLOOKUP(A651,'1.Портфель кредитів'!A:AB,3,FALSE),\"\")","v":""},{"$f":"IFERROR(VLOOKUP(A651,'1.Портфель кредитів'!A:AB,14,FALSE),\"\")","v":""}]
[null,{"$f":"IFERROR(#REF!,\"\")","v":""},{"$f":"IFERROR(VLOOKUP(A652,'1.Портфель кредитів'!A:AB,3,FALSE),\"\")","v":""},{"$f":"IFERROR(VLOOKUP(A652,'1.Портфель кредитів'!A:AB,14,FALSE),\"\")","v":""}]
[null,{"$f":"IFERROR(#REF!,\"\")","v":""},{"$f":"IFERROR(VLOOKUP(A653,'1.Портфель кредитів'!A:AB,3,FALSE),\"\")","v":""},{"$f":"IFERROR(VLOOKUP(A653,'1.Портфель кредитів'!A:AB,14,FALSE),\"\")","v":""}]
[null,{"$f":"IFERROR(#REF!,\"\")","v":""},{"$f":"IFERROR(VLOOKUP(A654,'1.Портфель кредитів'!A:AB,3,FALSE),\"\")","v":""},{"$f":"IFERROR(VLOOKUP(A654,'1.Портфель кредитів'!A:AB,14,FALSE),\"\")","v":""}]
[null,{"$f":"IFERROR(#REF!,\"\")","v":""},{"$f":"IFERROR(VLOOKUP(A655,'1.Портфель кредитів'!A:AB,3,FALSE),\"\")","v":""},{"$f":"IFERROR(VLOOKUP(A655,'1.Портфель кредитів'!A:AB,14,FALSE),\"\")","v":""}]
[null,{"$f":"IFERROR(#REF!,\"\")","v":""},{"$f":"IFERROR(VLOOKUP(A656,'1.Портфель кредитів'!A:AB,3,FALSE),\"\")","v":""},{"$f":"IFERROR(VLOOKUP(A656,'1.Портфель кредитів'!A:AB,14,FALSE),\"\")","v":""}]
[null,{"$f":"IFERROR(#REF!,\"\")","v":""},{"$f":"IFERROR(VLOOKUP(A657,'1.Портфель кредитів'!A:AB,3,FALSE),\"\")","v":""},{"$f":"IFERROR(VLOOKUP(A657,'1.Портфель кредитів'!A:AB,14,FALSE),\"\")","v":""}]
[null,{"$f":"IFERROR(#REF!,\"\")","v":""},{"$f":"IFERROR(VLOOKUP(A658,'1.Портфель кредитів'!A:AB,3,FALSE),\"\")","v":""},{"$f":"IFERROR(VLOOKUP(A658,'1.Портфель кредитів'!A:AB,14,FALSE),\"\")","v":""}]
[null,{"$f":"IFERROR(#REF!,\"\")","v":""},{"$f":"IFERROR(VLOOKUP(A659,'1.Портфель кредитів'!A:AB,3,FALSE),\"\")","v":""},{"$f":"IFERROR(VLOOKUP(A659,'1.Портфель кредитів'!A:AB,14,FALSE),\"\")","v":""}]
[null,{"$f":"IFERROR(#REF!,\"\")","v":""},{"$f":"IFERROR(VLOOKUP(A660,'1.Портфель кредитів'!A:AB,3,FALSE),\"\")","v":""},{"$f":"IFERROR(VLOOKUP(A660,'1.Портфель кредитів'!A:AB,14,FALSE),\"\")","v":""}]
[null,{"$f":"IFERROR(#REF!,\"\")","v":""},{"$f":"IFERROR(VLOOKUP(A661,'1.Портфель кредитів'!A:AB,3,FALSE),\"\")","v":""},{"$f":"IFERROR(VLOOKUP(A661,'1.Портфель кредитів'!A:AB,14,FALSE),\"\")","v":""}]
[null,{"$f":"IFERROR(#REF!,\"\")","v":""},{"$f":"IFERROR(VLOOKUP(A662,'1.Портфель кредитів'!A:AB,3,FALSE),\"\")","v":""},{"$f":"IFERROR(VLOOKUP(A662,'1.Портфель кредитів'!A:AB,14,FALSE),\"\")","v":""}]
[null,{"$f":"IFERROR(#REF!,\"\")","v":""},{"$f":"IFERROR(VLOOKUP(A663,'1.Портфель кредитів'!A:AB,3,FALSE),\"\")","v":""},{"$f":"IFERROR(VLOOKUP(A663,'1.Портфель кредитів'!A:AB,14,FALSE),\"\")","v":""}]
[null,{"$f":"IFERROR(#REF!,\"\")","v":""},{"$f":"IFERROR(VLOOKUP(A664,'1.Портфель кредитів'!A:AB,3,FALSE),\"\")","v":""},{"$f":"IFERROR(VLOOKUP(A664,'1.Портфель кредитів'!A:AB,14,FALSE),\"\")","v":""}]
[null,{"$f":"IFERROR(#REF!,\"\")","v":""},{"$f":"IFERROR(VLOOKUP(A665,'1.Портфель кредитів'!A:AB,3,FALSE),\"\")","v":""},{"$f":"IFERROR(VLOOKUP(A665,'1.Портфель кредитів'!A:AB,14,FALSE),\"\")","v":""}]
[null,{"$f":"IFERROR(#REF!,\"\")","v":""},{"$f":"IFERROR(VLOOKUP(A666,'1.Портфель кредитів'!A:AB,3,FALSE),\"\")","v":""},{"$f":"IFERROR(VLOOKUP(A666,'1.Портфель кредитів'!A:AB,14,FALSE),\"\")","v":""}]
[null,{"$f":"IFERROR(#REF!,\"\")","v":""},{"$f":"IFERROR(VLOOKUP(A667,'1.Портфель кредитів'!A:AB,3,FALSE),\"\")","v":""},{"$f":"IFERROR(VLOOKUP(A667,'1.Портфель кредитів'!A:AB,14,FALSE),\"\")","v":""}]
[null,{"$f":"IFERROR(#REF!,\"\")","v":""},{"$f":"IFERROR(VLOOKUP(A668,'1.Портфель кредитів'!A:AB,3,FALSE),\"\")","v":""},{"$f":"IFERROR(VLOOKUP(A668,'1.Портфель кредитів'!A:AB,14,FALSE),\"\")","v":""}]
[null,{"$f":"IFERROR(#REF!,\"\")","v":""},{"$f":"IFERROR(VLOOKUP(A669,'1.Портфель кредитів'!A:AB,3,FALSE),\"\")","v":""},{"$f":"IFERROR(VLOOKUP(A669,'1.Портфель кредитів'!A:AB,14,FALSE),\"\")","v":""}]
[null,{"$f":"IFERROR(#REF!,\"\")","v":""},{"$f":"IFERROR(VLOOKUP(A670,'1.Портфель кредитів'!A:AB,3,FALSE),\"\")","v":""},{"$f":"IFERROR(VLOOKUP(A670,'1.Портфель кредитів'!A:AB,14,FALSE),\"\")","v":""}]
[null,{"$f":"IFERROR(#REF!,\"\")","v":""},{"$f":"IFERROR(VLOOKUP(A671,'1.Портфель кредитів'!A:AB,3,FALSE),\"\")","v":""},{"$f":"IFERROR(VLOOKUP(A671,'1.Портфель кредитів'!A:AB,14,FALSE),\"\")","v":""}]
[null,{"$f":"IFERROR(#REF!,\"\")","v":""},{"$f":"IFERROR(VLOOKUP(A672,'1.Портфель кредитів'!A:AB,3,FALSE),\"\")","v":""},{"$f":"IFERROR(VLOOKUP(A672,'1.Портфель кредитів'!A:AB,14,FALSE),\"\")","v":""}]
[null,{"$f":"IFERROR(#REF!,\"\")","v":""},{"$f":"IFERROR(VLOOKUP(A673,'1.Портфель кредитів'!A:AB,3,FALSE),\"\")","v":""},{"$f":"IFERROR(VLOOKUP(A673,'1.Портфель кредитів'!A:AB,14,FALSE),\"\")","v":""}]
[null,{"$f":"IFERROR(#REF!,\"\")","v":""},{"$f":"IFERROR(VLOOKUP(A674,'1.Портфель кредитів'!A:AB,3,FALSE),\"\")","v":""},{"$f":"IFERROR(VLOOKUP(A674,'1.Портфель кредитів'!A:AB,14,FALSE),\"\")","v":""}]
[null,{"$f":"IFERROR(#REF!,\"\")","v":""},{"$f":"IFERROR(VLOOKUP(A675,'1.Портфель кредитів'!A:AB,3,FALSE),\"\")","v":""},{"$f":"IFERROR(VLOOKUP(A675,'1.Портфель кредитів'!A:AB,14,FALSE),\"\")","v":""}]
[null,{"$f":"IFERROR(#REF!,\"\")","v":""},{"$f":"IFERROR(VLOOKUP(A676,'1.Портфель кредитів'!A:AB,3,FALSE),\"\")","v":""},{"$f":"IFERROR(VLOOKUP(A676,'1.Портфель кредитів'!A:AB,14,FALSE),\"\")","v":""}]
[null,{"$f":"IFERROR(#REF!,\"\")","v":""},{"$f":"IFERROR(VLOOKUP(A677,'1.Портфель кредитів'!A:AB,3,FALSE),\"\")","v":""},{"$f":"IFERROR(VLOOKUP(A677,'1.Портфель кредитів'!A:AB,14,FALSE),\"\")","v":""}]
[null,{"$f":"IFERROR(#REF!,\"\")","v":""},{"$f":"IFERROR(VLOOKUP(A678,'1.Портфель кредитів'!A:AB,3,FALSE),\"\")","v":""},{"$f":"IFERROR(VLOOKUP(A678,'1.Портфель кредитів'!A:AB,14,FALSE),\"\")","v":""}]
[null,{"$f":"IFERROR(#REF!,\"\")","v":""},{"$f":"IFERROR(VLOOKUP(A679,'1.Портфель кредитів'!A:AB,3,FALSE),\"\")","v":""},{"$f":"IFERROR(VLOOKUP(A679,'1.Портфель кредитів'!A:AB,14,FALSE),\"\")","v":""}]
[null,{"$f":"IFERROR(#REF!,\"\")","v":""},{"$f":"IFERROR(VLOOKUP(A680,'1.Портфель кредитів'!A:AB,3,FALSE),\"\")","v":""},{"$f":"IFERROR(VLOOKUP(A680,'1.Портфель кредитів'!A:AB,14,FALSE),\"\")","v":""}]
[null,{"$f":"IFERROR(#REF!,\"\")","v":""},{"$f":"IFERROR(VLOOKUP(A681,'1.Портфель кредитів'!A:AB,3,FALSE),\"\")","v":""},{"$f":"IFERROR(VLOOKUP(A681,'1.Портфель кредитів'!A:AB,14,FALSE),\"\")","v":""}]
[null,{"$f":"IFERROR(#REF!,\"\")","v":""},{"$f":"IFERROR(VLOOKUP(A682,'1.Портфель кредитів'!A:AB,3,FALSE),\"\")","v":""},{"$f":"IFERROR(VLOOKUP(A682,'1.Портфель кредитів'!A:AB,14,FALSE),\"\")","v":""}]
[null,{"$f":"IFERROR(#REF!,\"\")","v":""},{"$f":"IFERROR(VLOOKUP(A683,'1.Портфель кредитів'!A:AB,3,FALSE),\"\")","v":""},{"$f":"IFERROR(VLOOKUP(A683,'1.Портфель кредитів'!A:AB,14,FALSE),\"\")","v":""}]
[null,{"$f":"IFERROR(#REF!,\"\")","v":""},{"$f":"IFERROR(VLOOKUP(A684,'1.Портфель кредитів'!A:AB,3,FALSE),\"\")","v":""},{"$f":"IFERROR(VLOOKUP(A684,'1.Портфель кредитів'!A:AB,14,FALSE),\"\")","v":""}]
[null,{"$f":"IFERROR(#REF!,\"\")","v":""},{"$f":"IFERROR(VLOOKUP(A685,'1.Портфель кредитів'!A:AB,3,FALSE),\"\")","v":""},{"$f":"IFERROR(VLOOKUP(A685,'1.Портфель кредитів'!A:AB,14,FALSE),\"\")","v":""}]
[null,{"$f":"IFERROR(#REF!,\"\")","v":""},{"$f":"IFERROR(VLOOKUP(A686,'1.Портфель кредитів'!A:AB,3,FALSE),\"\")","v":""},{"$f":"IFERROR(VLOOKUP(A686,'1.Портфель кредитів'!A:AB,14,FALSE),\"\")","v":""}]
[null,{"$f":"IFERROR(#REF!,\"\")","v":""},{"$f":"IFERROR(VLOOKUP(A687,'1.Портфель кредитів'!A:AB,3,FALSE),\"\")","v":""},{"$f":"IFERROR(VLOOKUP(A687,'1.Портфель кредитів'!A:AB,14,FALSE),\"\")","v":""}]
[null,{"$f":"IFERROR(#REF!,\"\")","v":""},{"$f":"IFERROR(VLOOKUP(A688,'1.Портфель кредитів'!A:AB,3,FALSE),\"\")","v":""},{"$f":"IFERROR(VLOOKUP(A688,'1.Портфель кредитів'!A:AB,14,FALSE),\"\")","v":""}]
[null,{"$f":"IFERROR(#REF!,\"\")","v":""},{"$f":"IFERROR(VLOOKUP(A689,'1.Портфель кредитів'!A:AB,3,FALSE),\"\")","v":""},{"$f":"IFERROR(VLOOKUP(A689,'1.Портфель кредитів'!A:AB,14,FALSE),\"\")","v":""}]
[null,{"$f":"IFERROR(#REF!,\"\")","v":""},{"$f":"IFERROR(VLOOKUP(A690,'1.Портфель кредитів'!A:AB,3,FALSE),\"\")","v":""},{"$f":"IFERROR(VLOOKUP(A690,'1.Портфель кредитів'!A:AB,14,FALSE),\"\")","v":""}]
[null,{"$f":"IFERROR(#REF!,\"\")","v":""},{"$f":"IFERROR(VLOOKUP(A691,'1.Портфель кредитів'!A:AB,3,FALSE),\"\")","v":""},{"$f":"IFERROR(VLOOKUP(A691,'1.Портфель кредитів'!A:AB,14,FALSE),\"\")","v":""}]
[null,{"$f":"IFERROR(#REF!,\"\")","v":""},{"$f":"IFERROR(VLOOKUP(A692,'1.Портфель кредитів'!A:AB,3,FALSE),\"\")","v":""},{"$f":"IFERROR(VLOOKUP(A692,'1.Портфель кредитів'!A:AB,14,FALSE),\"\")","v":""}]
[null,{"$f":"IFERROR(#REF!,\"\")","v":""},{"$f":"IFERROR(VLOOKUP(A693,'1.Портфель кредитів'!A:AB,3,FALSE),\"\")","v":""},{"$f":"IFERROR(VLOOKUP(A693,'1.Портфель кредитів'!A:AB,14,FALSE),\"\")","v":""}]
[null,{"$f":"IFERROR(#REF!,\"\")","v":""},{"$f":"IFERROR(VLOOKUP(A694,'1.Портфель кредитів'!A:AB,3,FALSE),\"\")","v":""},{"$f":"IFERROR(VLOOKUP(A694,'1.Портфель кредитів'!A:AB,14,FALSE),\"\")","v":""}]
[null,{"$f":"IFERROR(#REF!,\"\")","v":""},{"$f":"IFERROR(VLOOKUP(A695,'1.Портфель кредитів'!A:AB,3,FALSE),\"\")","v":""},{"$f":"IFERROR(VLOOKUP(A695,'1.Портфель кредитів'!A:AB,14,FALSE),\"\")","v":""}]
[null,{"$f":"IFERROR(#REF!,\"\")","v":""},{"$f":"IFERROR(VLOOKUP(A696,'1.Портфель кредитів'!A:AB,3,FALSE),\"\")","v":""},{"$f":"IFERROR(VLOOKUP(A696,'1.Портфель кредитів'!A:AB,14,FALSE),\"\")","v":""}]
[null,{"$f":"IFERROR(#REF!,\"\")","v":""},{"$f":"IFERROR(VLOOKUP(A697,'1.Портфель кредитів'!A:AB,3,FALSE),\"\")","v":""},{"$f":"IFERROR(VLOOKUP(A697,'1.Портфель кредитів'!A:AB,14,FALSE),\"\")","v":""}]
[null,{"$f":"IFERROR(#REF!,\"\")","v":""},{"$f":"IFERROR(VLOOKUP(A698,'1.Портфель кредитів'!A:AB,3,FALSE),\"\")","v":""},{"$f":"IFERROR(VLOOKUP(A698,'1.Портфель кредитів'!A:AB,14,FALSE),\"\")","v":""}]
[null,{"$f":"IFERROR(#REF!,\"\")","v":""},{"$f":"IFERROR(VLOOKUP(A699,'1.Портфель кредитів'!A:AB,3,FALSE),\"\")","v":""},{"$f":"IFERROR(VLOOKUP(A699,'1.Портфель кредитів'!A:AB,14,FALSE),\"\")","v":""}]
[null,{"$f":"IFERROR(#REF!,\"\")","v":""},{"$f":"IFERROR(VLOOKUP(A700,'1.Портфель кредитів'!A:AB,3,FALSE),\"\")","v":""},{"$f":"IFERROR(VLOOKUP(A700,'1.Портфель кредитів'!A:AB,14,FALSE),\"\")","v":""}]
[null,{"$f":"IFERROR(#REF!,\"\")","v":""},{"$f":"IFERROR(VLOOKUP(A701,'1.Портфель кредитів'!A:AB,3,FALSE),\"\")","v":""},{"$f":"IFERROR(VLOOKUP(A701,'1.Портфель кредитів'!A:AB,14,FALSE),\"\")","v":""}]
[null,{"$f":"IFERROR(#REF!,\"\")","v":""},{"$f":"IFERROR(VLOOKUP(A702,'1.Портфель кредитів'!A:AB,3,FALSE),\"\")","v":""},{"$f":"IFERROR(VLOOKUP(A702,'1.Портфель кредитів'!A:AB,14,FALSE),\"\")","v":""}]
[null,{"$f":"IFERROR(#REF!,\"\")","v":""},{"$f":"IFERROR(VLOOKUP(A703,'1.Портфель кредитів'!A:AB,3,FALSE),\"\")","v":""},{"$f":"IFERROR(VLOOKUP(A703,'1.Портфель кредитів'!A:AB,14,FALSE),\"\")","v":""}]
[null,{"$f":"IFERROR(#REF!,\"\")","v":""},{"$f":"IFERROR(VLOOKUP(A704,'1.Портфель кредитів'!A:AB,3,FALSE),\"\")","v":""},{"$f":"IFERROR(VLOOKUP(A704,'1.Портфель кредитів'!A:AB,14,FALSE),\"\")","v":""}]
[null,{"$f":"IFERROR(#REF!,\"\")","v":""},{"$f":"IFERROR(VLOOKUP(A705,'1.Портфель кредитів'!A:AB,3,FALSE),\"\")","v":""},{"$f":"IFERROR(VLOOKUP(A705,'1.Портфель кредитів'!A:AB,14,FALSE),\"\")","v":""}]
[null,{"$f":"IFERROR(#REF!,\"\")","v":""},{"$f":"IFERROR(VLOOKUP(A706,'1.Портфель кредитів'!A:AB,3,FALSE),\"\")","v":""},{"$f":"IFERROR(VLOOKUP(A706,'1.Портфель кредитів'!A:AB,14,FALSE),\"\")","v":""}]
[null,{"$f":"IFERROR(#REF!,\"\")","v":""},{"$f":"IFERROR(VLOOKUP(A707,'1.Портфель кредитів'!A:AB,3,FALSE),\"\")","v":""},{"$f":"IFERROR(VLOOKUP(A707,'1.Портфель кредитів'!A:AB,14,FALSE),\"\")","v":""}]
[null,{"$f":"IFERROR(#REF!,\"\")","v":""},{"$f":"IFERROR(VLOOKUP(A708,'1.Портфель кредитів'!A:AB,3,FALSE),\"\")","v":""},{"$f":"IFERROR(VLOOKUP(A708,'1.Портфель кредитів'!A:AB,14,FALSE),\"\")","v":""}]
[null,{"$f":"IFERROR(#REF!,\"\")","v":""},{"$f":"IFERROR(VLOOKUP(A709,'1.Портфель кредитів'!A:AB,3,FALSE),\"\")","v":""},{"$f":"IFERROR(VLOOKUP(A709,'1.Портфель кредитів'!A:AB,14,FALSE),\"\")","v":""}]
[null,{"$f":"IFERROR(#REF!,\"\")","v":""},{"$f":"IFERROR(VLOOKUP(A710,'1.Портфель кредитів'!A:AB,3,FALSE),\"\")","v":""},{"$f":"IFERROR(VLOOKUP(A710,'1.Портфель кредитів'!A:AB,14,FALSE),\"\")","v":""}]
[null,{"$f":"IFERROR(#REF!,\"\")","v":""},{"$f":"IFERROR(VLOOKUP(A711,'1.Портфель кредитів'!A:AB,3,FALSE),\"\")","v":""},{"$f":"IFERROR(VLOOKUP(A711,'1.Портфель кредитів'!A:AB,14,FALSE),\"\")","v":""}]
[null,{"$f":"IFERROR(#REF!,\"\")","v":""},{"$f":"IFERROR(VLOOKUP(A712,'1.Портфель кредитів'!A:AB,3,FALSE),\"\")","v":""},{"$f":"IFERROR(VLOOKUP(A712,'1.Портфель кредитів'!A:AB,14,FALSE),\"\")","v":""}]
[null,{"$f":"IFERROR(#REF!,\"\")","v":""},{"$f":"IFERROR(VLOOKUP(A713,'1.Портфель кредитів'!A:AB,3,FALSE),\"\")","v":""},{"$f":"IFERROR(VLOOKUP(A713,'1.Портфель кредитів'!A:AB,14,FALSE),\"\")","v":""}]
[null,{"$f":"IFERROR(#REF!,\"\")","v":""},{"$f":"IFERROR(VLOOKUP(A714,'1.Портфель кредитів'!A:AB,3,FALSE),\"\")","v":""},{"$f":"IFERROR(VLOOKUP(A714,'1.Портфель кредитів'!A:AB,14,FALSE),\"\")","v":""}]
[null,{"$f":"IFERROR(#REF!,\"\")","v":""},{"$f":"IFERROR(VLOOKUP(A715,'1.Портфель кредитів'!A:AB,3,FALSE),\"\")","v":""},{"$f":"IFERROR(VLOOKUP(A715,'1.Портфель кредитів'!A:AB,14,FALSE),\"\")","v":""}]
[null,{"$f":"IFERROR(#REF!,\"\")","v":""},{"$f":"IFERROR(VLOOKUP(A716,'1.Портфель кредитів'!A:AB,3,FALSE),\"\")","v":""},{"$f":"IFERROR(VLOOKUP(A716,'1.Портфель кредитів'!A:AB,14,FALSE),\"\")","v":""}]
[null,{"$f":"IFERROR(#REF!,\"\")","v":""},{"$f":"IFERROR(VLOOKUP(A717,'1.Портфель кредитів'!A:AB,3,FALSE),\"\")","v":""},{"$f":"IFERROR(VLOOKUP(A717,'1.Портфель кредитів'!A:AB,14,FALSE),\"\")","v":""}]
[null,{"$f":"IFERROR(#REF!,\"\")","v":""},{"$f":"IFERROR(VLOOKUP(A718,'1.Портфель кредитів'!A:AB,3,FALSE),\"\")","v":""},{"$f":"IFERROR(VLOOKUP(A718,'1.Портфель кредитів'!A:AB,14,FALSE),\"\")","v":""}]
[null,{"$f":"IFERROR(#REF!,\"\")","v":""},{"$f":"IFERROR(VLOOKUP(A719,'1.Портфель кредитів'!A:AB,3,FALSE),\"\")","v":""},{"$f":"IFERROR(VLOOKUP(A719,'1.Портфель кредитів'!A:AB,14,FALSE),\"\")","v":""}]
[null,{"$f":"IFERROR(#REF!,\"\")","v":""},{"$f":"IFERROR(VLOOKUP(A720,'1.Портфель кредитів'!A:AB,3,FALSE),\"\")","v":""},{"$f":"IFERROR(VLOOKUP(A720,'1.Портфель кредитів'!A:AB,14,FALSE),\"\")","v":""}]
[null,{"$f":"IFERROR(#REF!,\"\")","v":""},{"$f":"IFERROR(VLOOKUP(A721,'1.Портфель кредитів'!A:AB,3,FALSE),\"\")","v":""},{"$f":"IFERROR(VLOOKUP(A721,'1.Портфель кредитів'!A:AB,14,FALSE),\"\")","v":""}]
[null,{"$f":"IFERROR(#REF!,\"\")","v":""},{"$f":"IFERROR(VLOOKUP(A722,'1.Портфель кредитів'!A:AB,3,FALSE),\"\")","v":""},{"$f":"IFERROR(VLOOKUP(A722,'1.Портфель кредитів'!A:AB,14,FALSE),\"\")","v":""}]
[null,{"$f":"IFERROR(#REF!,\"\")","v":""},{"$f":"IFERROR(VLOOKUP(A723,'1.Портфель кредитів'!A:AB,3,FALSE),\"\")","v":""},{"$f":"IFERROR(VLOOKUP(A723,'1.Портфель кредитів'!A:AB,14,FALSE),\"\")","v":""}]
[null,{"$f":"IFERROR(#REF!,\"\")","v":""},{"$f":"IFERROR(VLOOKUP(A724,'1.Портфель кредитів'!A:AB,3,FALSE),\"\")","v":""},{"$f":"IFERROR(VLOOKUP(A724,'1.Портфель кредитів'!A:AB,14,FALSE),\"\")","v":""}]
[null,{"$f":"IFERROR(#REF!,\"\")","v":""},{"$f":"IFERROR(VLOOKUP(A725,'1.Портфель кредитів'!A:AB,3,FALSE),\"\")","v":""},{"$f":"IFERROR(VLOOKUP(A725,'1.Портфель кредитів'!A:AB,14,FALSE),\"\")","v":""}]
[null,{"$f":"IFERROR(#REF!,\"\")","v":""},{"$f":"IFERROR(VLOOKUP(A726,'1.Портфель кредитів'!A:AB,3,FALSE),\"\")","v":""},{"$f":"IFERROR(VLOOKUP(A726,'1.Портфель кредитів'!A:AB,14,FALSE),\"\")","v":""}]
[null,{"$f":"IFERROR(#REF!,\"\")","v":""},{"$f":"IFERROR(VLOOKUP(A727,'1.Портфель кредитів'!A:AB,3,FALSE),\"\")","v":""},{"$f":"IFERROR(VLOOKUP(A727,'1.Портфель кредитів'!A:AB,14,FALSE),\"\")","v":""}]
[null,{"$f":"IFERROR(#REF!,\"\")","v":""},{"$f":"IFERROR(VLOOKUP(A728,'1.Портфель кредитів'!A:AB,3,FALSE),\"\")","v":""},{"$f":"IFERROR(VLOOKUP(A728,'1.Портфель кредитів'!A:AB,14,FALSE),\"\")","v":""}]
[null,{"$f":"IFERROR(#REF!,\"\")","v":""},{"$f":"IFERROR(VLOOKUP(A729,'1.Портфель кредитів'!A:AB,3,FALSE),\"\")","v":""},{"$f":"IFERROR(VLOOKUP(A729,'1.Портфель кредитів'!A:AB,14,FALSE),\"\")","v":""}]
[null,{"$f":"IFERROR(#REF!,\"\")","v":""},{"$f":"IFERROR(VLOOKUP(A730,'1.Портфель кредитів'!A:AB,3,FALSE),\"\")","v":""},{"$f":"IFERROR(VLOOKUP(A730,'1.Портфель кредитів'!A:AB,14,FALSE),\"\")","v":""}]
[null,{"$f":"IFERROR(#REF!,\"\")","v":""},{"$f":"IFERROR(VLOOKUP(A731,'1.Портфель кредитів'!A:AB,3,FALSE),\"\")","v":""},{"$f":"IFERROR(VLOOKUP(A731,'1.Портфель кредитів'!A:AB,14,FALSE),\"\")","v":""}]
[null,{"$f":"IFERROR(#REF!,\"\")","v":""},{"$f":"IFERROR(VLOOKUP(A732,'1.Портфель кредитів'!A:AB,3,FALSE),\"\")","v":""},{"$f":"IFERROR(VLOOKUP(A732,'1.Портфель кредитів'!A:AB,14,FALSE),\"\")","v":""}]
[null,{"$f":"IFERROR(#REF!,\"\")","v":""},{"$f":"IFERROR(VLOOKUP(A733,'1.Портфель кредитів'!A:AB,3,FALSE),\"\")","v":""},{"$f":"IFERROR(VLOOKUP(A733,'1.Портфель кредитів'!A:AB,14,FALSE),\"\")","v":""}]
[null,{"$f":"IFERROR(#REF!,\"\")","v":""},{"$f":"IFERROR(VLOOKUP(A734,'1.Портфель кредитів'!A:AB,3,FALSE),\"\")","v":""},{"$f":"IFERROR(VLOOKUP(A734,'1.Портфель кредитів'!A:AB,14,FALSE),\"\")","v":""}]
[null,{"$f":"IFERROR(#REF!,\"\")","v":""},{"$f":"IFERROR(VLOOKUP(A735,'1.Портфель кредитів'!A:AB,3,FALSE),\"\")","v":""},{"$f":"IFERROR(VLOOKUP(A735,'1.Портфель кредитів'!A:AB,14,FALSE),\"\")","v":""}]
[null,{"$f":"IFERROR(#REF!,\"\")","v":""},{"$f":"IFERROR(VLOOKUP(A736,'1.Портфель кредитів'!A:AB,3,FALSE),\"\")","v":""},{"$f":"IFERROR(VLOOKUP(A736,'1.Портфель кредитів'!A:AB,14,FALSE),\"\")","v":""}]
[null,{"$f":"IFERROR(#REF!,\"\")","v":""},{"$f":"IFERROR(VLOOKUP(A737,'1.Портфель кредитів'!A:AB,3,FALSE),\"\")","v":""},{"$f":"IFERROR(VLOOKUP(A737,'1.Портфель кредитів'!A:AB,14,FALSE),\"\")","v":""}]
[null,{"$f":"IFERROR(#REF!,\"\")","v":""},{"$f":"IFERROR(VLOOKUP(A738,'1.Портфель кредитів'!A:AB,3,FALSE),\"\")","v":""},{"$f":"IFERROR(VLOOKUP(A738,'1.Портфель кредитів'!A:AB,14,FALSE),\"\")","v":""}]
[null,{"$f":"IFERROR(#REF!,\"\")","v":""},{"$f":"IFERROR(VLOOKUP(A739,'1.Портфель кредитів'!A:AB,3,FALSE),\"\")","v":""},{"$f":"IFERROR(VLOOKUP(A739,'1.Портфель кредитів'!A:AB,14,FALSE),\"\")","v":""}]
[null,{"$f":"IFERROR(#REF!,\"\")","v":""},{"$f":"IFERROR(VLOOKUP(A740,'1.Портфель кредитів'!A:AB,3,FALSE),\"\")","v":""},{"$f":"IFERROR(VLOOKUP(A740,'1.Портфель кредитів'!A:AB,14,FALSE),\"\")","v":""}]
[null,{"$f":"IFERROR(#REF!,\"\")","v":""},{"$f":"IFERROR(VLOOKUP(A741,'1.Портфель кредитів'!A:AB,3,FALSE),\"\")","v":""},{"$f":"IFERROR(VLOOKUP(A741,'1.Портфель кредитів'!A:AB,14,FALSE),\"\")","v":""}]
[null,{"$f":"IFERROR(#REF!,\"\")","v":""},{"$f":"IFERROR(VLOOKUP(A742,'1.Портфель кредитів'!A:AB,3,FALSE),\"\")","v":""},{"$f":"IFERROR(VLOOKUP(A742,'1.Портфель кредитів'!A:AB,14,FALSE),\"\")","v":""}]
[null,{"$f":"IFERROR(#REF!,\"\")","v":""},{"$f":"IFERROR(VLOOKUP(A743,'1.Портфель кредитів'!A:AB,3,FALSE),\"\")","v":""},{"$f":"IFERROR(VLOOKUP(A743,'1.Портфель кредитів'!A:AB,14,FALSE),\"\")","v":""}]
[null,{"$f":"IFERROR(#REF!,\"\")","v":""},{"$f":"IFERROR(VLOOKUP(A744,'1.Портфель кредитів'!A:AB,3,FALSE),\"\")","v":""},{"$f":"IFERROR(VLOOKUP(A744,'1.Портфель кредитів'!A:AB,14,FALSE),\"\")","v":""}]
[null,{"$f":"IFERROR(#REF!,\"\")","v":""},{"$f":"IFERROR(VLOOKUP(A745,'1.Портфель кредитів'!A:AB,3,FALSE),\"\")","v":""},{"$f":"IFERROR(VLOOKUP(A745,'1.Портфель кредитів'!A:AB,14,FALSE),\"\")","v":""}]
[null,{"$f":"IFERROR(#REF!,\"\")","v":""},{"$f":"IFERROR(VLOOKUP(A746,'1.Портфель кредитів'!A:AB,3,FALSE),\"\")","v":""},{"$f":"IFERROR(VLOOKUP(A746,'1.Портфель кредитів'!A:AB,14,FALSE),\"\")","v":""}]
[null,{"$f":"IFERROR(#REF!,\"\")","v":""},{"$f":"IFERROR(VLOOKUP(A747,'1.Портфель кредитів'!A:AB,3,FALSE),\"\")","v":""},{"$f":"IFERROR(VLOOKUP(A747,'1.Портфель кредитів'!A:AB,14,FALSE),\"\")","v":""}]
[null,{"$f":"IFERROR(#REF!,\"\")","v":""},{"$f":"IFERROR(VLOOKUP(A748,'1.Портфель кредитів'!A:AB,3,FALSE),\"\")","v":""},{"$f":"IFERROR(VLOOKUP(A748,'1.Портфель кредитів'!A:AB,14,FALSE),\"\")","v":""}]
[null,{"$f":"IFERROR(#REF!,\"\")","v":""},{"$f":"IFERROR(VLOOKUP(A749,'1.Портфель кредитів'!A:AB,3,FALSE),\"\")","v":""},{"$f":"IFERROR(VLOOKUP(A749,'1.Портфель кредитів'!A:AB,14,FALSE),\"\")","v":""}]
[null,{"$f":"IFERROR(#REF!,\"\")","v":""},{"$f":"IFERROR(VLOOKUP(A750,'1.Портфель кредитів'!A:AB,3,FALSE),\"\")","v":""},{"$f":"IFERROR(VLOOKUP(A750,'1.Портфель кредитів'!A:AB,14,FALSE),\"\")","v":""}]
[null,{"$f":"IFERROR(#REF!,\"\")","v":""},{"$f":"IFERROR(VLOOKUP(A751,'1.Портфель кредитів'!A:AB,3,FALSE),\"\")","v":""},{"$f":"IFERROR(VLOOKUP(A751,'1.Портфель кредитів'!A:AB,14,FALSE),\"\")","v":""}]
[null,{"$f":"IFERROR(#REF!,\"\")","v":""},{"$f":"IFERROR(VLOOKUP(A752,'1.Портфель кредитів'!A:AB,3,FALSE),\"\")","v":""},{"$f":"IFERROR(VLOOKUP(A752,'1.Портфель кредитів'!A:AB,14,FALSE),\"\")","v":""}]
[null,{"$f":"IFERROR(#REF!,\"\")","v":""},{"$f":"IFERROR(VLOOKUP(A753,'1.Портфель кредитів'!A:AB,3,FALSE),\"\")","v":""},{"$f":"IFERROR(VLOOKUP(A753,'1.Портфель кредитів'!A:AB,14,FALSE),\"\")","v":""}]
[null,{"$f":"IFERROR(#REF!,\"\")","v":""},{"$f":"IFERROR(VLOOKUP(A754,'1.Портфель кредитів'!A:AB,3,FALSE),\"\")","v":""},{"$f":"IFERROR(VLOOKUP(A754,'1.Портфель кредитів'!A:AB,14,FALSE),\"\")","v":""}]
[null,{"$f":"IFERROR(#REF!,\"\")","v":""},{"$f":"IFERROR(VLOOKUP(A755,'1.Портфель кредитів'!A:AB,3,FALSE),\"\")","v":""},{"$f":"IFERROR(VLOOKUP(A755,'1.Портфель кредитів'!A:AB,14,FALSE),\"\")","v":""}]
[null,{"$f":"IFERROR(#REF!,\"\")","v":""},{"$f":"IFERROR(VLOOKUP(A756,'1.Портфель кредитів'!A:AB,3,FALSE),\"\")","v":""},{"$f":"IFERROR(VLOOKUP(A756,'1.Портфель кредитів'!A:AB,14,FALSE),\"\")","v":""}]
[null,{"$f":"IFERROR(#REF!,\"\")","v":""},{"$f":"IFERROR(VLOOKUP(A757,'1.Портфель кредитів'!A:AB,3,FALSE),\"\")","v":""},{"$f":"IFERROR(VLOOKUP(A757,'1.Портфель кредитів'!A:AB,14,FALSE),\"\")","v":""}]
[null,{"$f":"IFERROR(#REF!,\"\")","v":""},{"$f":"IFERROR(VLOOKUP(A758,'1.Портфель кредитів'!A:AB,3,FALSE),\"\")","v":""},{"$f":"IFERROR(VLOOKUP(A758,'1.Портфель кредитів'!A:AB,14,FALSE),\"\")","v":""}]
[null,{"$f":"IFERROR(#REF!,\"\")","v":""},{"$f":"IFERROR(VLOOKUP(A759,'1.Портфель кредитів'!A:AB,3,FALSE),\"\")","v":""},{"$f":"IFERROR(VLOOKUP(A759,'1.Портфель кредитів'!A:AB,14,FALSE),\"\")","v":""}]
[null,{"$f":"IFERROR(#REF!,\"\")","v":""},{"$f":"IFERROR(VLOOKUP(A760,'1.Портфель кредитів'!A:AB,3,FALSE),\"\")","v":""},{"$f":"IFERROR(VLOOKUP(A760,'1.Портфель кредитів'!A:AB,14,FALSE),\"\")","v":""}]
[null,{"$f":"IFERROR(#REF!,\"\")","v":""},{"$f":"IFERROR(VLOOKUP(A761,'1.Портфель кредитів'!A:AB,3,FALSE),\"\")","v":""},{"$f":"IFERROR(VLOOKUP(A761,'1.Портфель кредитів'!A:AB,14,FALSE),\"\")","v":""}]
[null,{"$f":"IFERROR(#REF!,\"\")","v":""},{"$f":"IFERROR(VLOOKUP(A762,'1.Портфель кредитів'!A:AB,3,FALSE),\"\")","v":""},{"$f":"IFERROR(VLOOKUP(A762,'1.Портфель кредитів'!A:AB,14,FALSE),\"\")","v":""}]
[null,{"$f":"IFERROR(#REF!,\"\")","v":""},{"$f":"IFERROR(VLOOKUP(A763,'1.Портфель кредитів'!A:AB,3,FALSE),\"\")","v":""},{"$f":"IFERROR(VLOOKUP(A763,'1.Портфель кредитів'!A:AB,14,FALSE),\"\")","v":""}]
[null,{"$f":"IFERROR(#REF!,\"\")","v":""},{"$f":"IFERROR(VLOOKUP(A764,'1.Портфель кредитів'!A:AB,3,FALSE),\"\")","v":""},{"$f":"IFERROR(VLOOKUP(A764,'1.Портфель кредитів'!A:AB,14,FALSE),\"\")","v":""}]
[null,{"$f":"IFERROR(#REF!,\"\")","v":""},{"$f":"IFERROR(VLOOKUP(A765,'1.Портфель кредитів'!A:AB,3,FALSE),\"\")","v":""},{"$f":"IFERROR(VLOOKUP(A765,'1.Портфель кредитів'!A:AB,14,FALSE),\"\")","v":""}]
[null,{"$f":"IFERROR(#REF!,\"\")","v":""},{"$f":"IFERROR(VLOOKUP(A766,'1.Портфель кредитів'!A:AB,3,FALSE),\"\")","v":""},{"$f":"IFERROR(VLOOKUP(A766,'1.Портфель кредитів'!A:AB,14,FALSE),\"\")","v":""}]
[null,{"$f":"IFERROR(#REF!,\"\")","v":""},{"$f":"IFERROR(VLOOKUP(A767,'1.Портфель кредитів'!A:AB,3,FALSE),\"\")","v":""},{"$f":"IFERROR(VLOOKUP(A767,'1.Портфель кредитів'!A:AB,14,FALSE),\"\")","v":""}]
[null,{"$f":"IFERROR(#REF!,\"\")","v":""},{"$f":"IFERROR(VLOOKUP(A768,'1.Портфель кредитів'!A:AB,3,FALSE),\"\")","v":""},{"$f":"IFERROR(VLOOKUP(A768,'1.Портфель кредитів'!A:AB,14,FALSE),\"\")","v":""}]
[null,{"$f":"IFERROR(#REF!,\"\")","v":""},{"$f":"IFERROR(VLOOKUP(A769,'1.Портфель кредитів'!A:AB,3,FALSE),\"\")","v":""},{"$f":"IFERROR(VLOOKUP(A769,'1.Портфель кредитів'!A:AB,14,FALSE),\"\")","v":""}]
[null,{"$f":"IFERROR(#REF!,\"\")","v":""},{"$f":"IFERROR(VLOOKUP(A770,'1.Портфель кредитів'!A:AB,3,FALSE),\"\")","v":""},{"$f":"IFERROR(VLOOKUP(A770,'1.Портфель кредитів'!A:AB,14,FALSE),\"\")","v":""}]
[null,{"$f":"IFERROR(#REF!,\"\")","v":""},{"$f":"IFERROR(VLOOKUP(A771,'1.Портфель кредитів'!A:AB,3,FALSE),\"\")","v":""},{"$f":"IFERROR(VLOOKUP(A771,'1.Портфель кредитів'!A:AB,14,FALSE),\"\")","v":""}]
[null,{"$f":"IFERROR(#REF!,\"\")","v":""},{"$f":"IFERROR(VLOOKUP(A772,'1.Портфель кредитів'!A:AB,3,FALSE),\"\")","v":""},{"$f":"IFERROR(VLOOKUP(A772,'1.Портфель кредитів'!A:AB,14,FALSE),\"\")","v":""}]
[null,{"$f":"IFERROR(#REF!,\"\")","v":""},{"$f":"IFERROR(VLOOKUP(A773,'1.Портфель кредитів'!A:AB,3,FALSE),\"\")","v":""},{"$f":"IFERROR(VLOOKUP(A773,'1.Портфель кредитів'!A:AB,14,FALSE),\"\")","v":""}]
[null,{"$f":"IFERROR(#REF!,\"\")","v":""},{"$f":"IFERROR(VLOOKUP(A774,'1.Портфель кредитів'!A:AB,3,FALSE),\"\")","v":""},{"$f":"IFERROR(VLOOKUP(A774,'1.Портфель кредитів'!A:AB,14,FALSE),\"\")","v":""}]
[null,{"$f":"IFERROR(#REF!,\"\")","v":""},{"$f":"IFERROR(VLOOKUP(A775,'1.Портфель кредитів'!A:AB,3,FALSE),\"\")","v":""},{"$f":"IFERROR(VLOOKUP(A775,'1.Портфель кредитів'!A:AB,14,FALSE),\"\")","v":""}]
[null,{"$f":"IFERROR(#REF!,\"\")","v":""},{"$f":"IFERROR(VLOOKUP(A776,'1.Портфель кредитів'!A:AB,3,FALSE),\"\")","v":""},{"$f":"IFERROR(VLOOKUP(A776,'1.Портфель кредитів'!A:AB,14,FALSE),\"\")","v":""}]
[null,{"$f":"IFERROR(#REF!,\"\")","v":""},{"$f":"IFERROR(VLOOKUP(A777,'1.Портфель кредитів'!A:AB,3,FALSE),\"\")","v":""},{"$f":"IFERROR(VLOOKUP(A777,'1.Портфель кредитів'!A:AB,14,FALSE),\"\")","v":""}]
[null,{"$f":"IFERROR(#REF!,\"\")","v":""},{"$f":"IFERROR(VLOOKUP(A778,'1.Портфель кредитів'!A:AB,3,FALSE),\"\")","v":""},{"$f":"IFERROR(VLOOKUP(A778,'1.Портфель кредитів'!A:AB,14,FALSE),\"\")","v":""}]
[null,{"$f":"IFERROR(#REF!,\"\")","v":""},{"$f":"IFERROR(VLOOKUP(A779,'1.Портфель кредитів'!A:AB,3,FALSE),\"\")","v":""},{"$f":"IFERROR(VLOOKUP(A779,'1.Портфель кредитів'!A:AB,14,FALSE),\"\")","v":""}]
[null,{"$f":"IFERROR(#REF!,\"\")","v":""},{"$f":"IFERROR(VLOOKUP(A780,'1.Портфель кредитів'!A:AB,3,FALSE),\"\")","v":""},{"$f":"IFERROR(VLOOKUP(A780,'1.Портфель кредитів'!A:AB,14,FALSE),\"\")","v":""}]
[null,{"$f":"IFERROR(#REF!,\"\")","v":""},{"$f":"IFERROR(VLOOKUP(A781,'1.Портфель кредитів'!A:AB,3,FALSE),\"\")","v":""},{"$f":"IFERROR(VLOOKUP(A781,'1.Портфель кредитів'!A:AB,14,FALSE),\"\")","v":""}]
[null,{"$f":"IFERROR(#REF!,\"\")","v":""},{"$f":"IFERROR(VLOOKUP(A782,'1.Портфель кредитів'!A:AB,3,FALSE),\"\")","v":""},{"$f":"IFERROR(VLOOKUP(A782,'1.Портфель кредитів'!A:AB,14,FALSE),\"\")","v":""}]
[null,{"$f":"IFERROR(#REF!,\"\")","v":""},{"$f":"IFERROR(VLOOKUP(A783,'1.Портфель кредитів'!A:AB,3,FALSE),\"\")","v":""},{"$f":"IFERROR(VLOOKUP(A783,'1.Портфель кредитів'!A:AB,14,FALSE),\"\")","v":""}]
[null,{"$f":"IFERROR(#REF!,\"\")","v":""},{"$f":"IFERROR(VLOOKUP(A784,'1.Портфель кредитів'!A:AB,3,FALSE),\"\")","v":""},{"$f":"IFERROR(VLOOKUP(A784,'1.Портфель кредитів'!A:AB,14,FALSE),\"\")","v":""}]
[null,{"$f":"IFERROR(#REF!,\"\")","v":""},{"$f":"IFERROR(VLOOKUP(A785,'1.Портфель кредитів'!A:AB,3,FALSE),\"\")","v":""},{"$f":"IFERROR(VLOOKUP(A785,'1.Портфель кредитів'!A:AB,14,FALSE),\"\")","v":""}]
[null,{"$f":"IFERROR(#REF!,\"\")","v":""},{"$f":"IFERROR(VLOOKUP(A786,'1.Портфель кредитів'!A:AB,3,FALSE),\"\")","v":""},{"$f":"IFERROR(VLOOKUP(A786,'1.Портфель кредитів'!A:AB,14,FALSE),\"\")","v":""}]
[null,{"$f":"IFERROR(#REF!,\"\")","v":""},{"$f":"IFERROR(VLOOKUP(A787,'1.Портфель кредитів'!A:AB,3,FALSE),\"\")","v":""},{"$f":"IFERROR(VLOOKUP(A787,'1.Портфель кредитів'!A:AB,14,FALSE),\"\")","v":""}]
[null,{"$f":"IFERROR(#REF!,\"\")","v":""},{"$f":"IFERROR(VLOOKUP(A788,'1.Портфель кредитів'!A:AB,3,FALSE),\"\")","v":""},{"$f":"IFERROR(VLOOKUP(A788,'1.Портфель кредитів'!A:AB,14,FALSE),\"\")","v":""}]
[null,{"$f":"IFERROR(#REF!,\"\")","v":""},{"$f":"IFERROR(VLOOKUP(A789,'1.Портфель кредитів'!A:AB,3,FALSE),\"\")","v":""},{"$f":"IFERROR(VLOOKUP(A789,'1.Портфель кредитів'!A:AB,14,FALSE),\"\")","v":""}]
[null,{"$f":"IFERROR(#REF!,\"\")","v":""},{"$f":"IFERROR(VLOOKUP(A790,'1.Портфель кредитів'!A:AB,3,FALSE),\"\")","v":""},{"$f":"IFERROR(VLOOKUP(A790,'1.Портфель кредитів'!A:AB,14,FALSE),\"\")","v":""}]
[null,{"$f":"IFERROR(#REF!,\"\")","v":""},{"$f":"IFERROR(VLOOKUP(A791,'1.Портфель кредитів'!A:AB,3,FALSE),\"\")","v":""},{"$f":"IFERROR(VLOOKUP(A791,'1.Портфель кредитів'!A:AB,14,FALSE),\"\")","v":""}]
[null,{"$f":"IFERROR(#REF!,\"\")","v":""},{"$f":"IFERROR(VLOOKUP(A792,'1.Портфель кредитів'!A:AB,3,FALSE),\"\")","v":""},{"$f":"IFERROR(VLOOKUP(A792,'1.Портфель кредитів'!A:AB,14,FALSE),\"\")","v":""}]
[null,{"$f":"IFERROR(#REF!,\"\")","v":""},{"$f":"IFERROR(VLOOKUP(A793,'1.Портфель кредитів'!A:AB,3,FALSE),\"\")","v":""},{"$f":"IFERROR(VLOOKUP(A793,'1.Портфель кредитів'!A:AB,14,FALSE),\"\")","v":""}]
[null,{"$f":"IFERROR(#REF!,\"\")","v":""},{"$f":"IFERROR(VLOOKUP(A794,'1.Портфель кредитів'!A:AB,3,FALSE),\"\")","v":""},{"$f":"IFERROR(VLOOKUP(A794,'1.Портфель кредитів'!A:AB,14,FALSE),\"\")","v":""}]
[null,{"$f":"IFERROR(#REF!,\"\")","v":""},{"$f":"IFERROR(VLOOKUP(A795,'1.Портфель кредитів'!A:AB,3,FALSE),\"\")","v":""},{"$f":"IFERROR(VLOOKUP(A795,'1.Портфель кредитів'!A:AB,14,FALSE),\"\")","v":""}]
[null,{"$f":"IFERROR(#REF!,\"\")","v":""},{"$f":"IFERROR(VLOOKUP(A796,'1.Портфель кредитів'!A:AB,3,FALSE),\"\")","v":""},{"$f":"IFERROR(VLOOKUP(A796,'1.Портфель кредитів'!A:AB,14,FALSE),\"\")","v":""}]
[null,{"$f":"IFERROR(#REF!,\"\")","v":""},{"$f":"IFERROR(VLOOKUP(A797,'1.Портфель кредитів'!A:AB,3,FALSE),\"\")","v":""},{"$f":"IFERROR(VLOOKUP(A797,'1.Портфель кредитів'!A:AB,14,FALSE),\"\")","v":""}]
[null,{"$f":"IFERROR(#REF!,\"\")","v":""},{"$f":"IFERROR(VLOOKUP(A798,'1.Портфель кредитів'!A:AB,3,FALSE),\"\")","v":""},{"$f":"IFERROR(VLOOKUP(A798,'1.Портфель кредитів'!A:AB,14,FALSE),\"\")","v":""}]
[null,{"$f":"IFERROR(#REF!,\"\")","v":""},{"$f":"IFERROR(VLOOKUP(A799,'1.Портфель кредитів'!A:AB,3,FALSE),\"\")","v":""},{"$f":"IFERROR(VLOOKUP(A799,'1.Портфель кредитів'!A:AB,14,FALSE),\"\")","v":""}]
[null,{"$f":"IFERROR(#REF!,\"\")","v":""},{"$f":"IFERROR(VLOOKUP(A800,'1.Портфель кредитів'!A:AB,3,FALSE),\"\")","v":""},{"$f":"IFERROR(VLOOKUP(A800,'1.Портфель кредитів'!A:AB,14,FALSE),\"\")","v":""}]
[null,{"$f":"IFERROR(#REF!,\"\")","v":""},{"$f":"IFERROR(VLOOKUP(A801,'1.Портфель кредитів'!A:AB,3,FALSE),\"\")","v":""},{"$f":"IFERROR(VLOOKUP(A801,'1.Портфель кредитів'!A:AB,14,FALSE),\"\")","v":""}]
[null,{"$f":"IFERROR(#REF!,\"\")","v":""},{"$f":"IFERROR(VLOOKUP(A802,'1.Портфель кредитів'!A:AB,3,FALSE),\"\")","v":""},{"$f":"IFERROR(VLOOKUP(A802,'1.Портфель кредитів'!A:AB,14,FALSE),\"\")","v":""}]
[null,{"$f":"IFERROR(#REF!,\"\")","v":""},{"$f":"IFERROR(VLOOKUP(A803,'1.Портфель кредитів'!A:AB,3,FALSE),\"\")","v":""},{"$f":"IFERROR(VLOOKUP(A803,'1.Портфель кредитів'!A:AB,14,FALSE),\"\")","v":""}]
[null,{"$f":"IFERROR(#REF!,\"\")","v":""},{"$f":"IFERROR(VLOOKUP(A804,'1.Портфель кредитів'!A:AB,3,FALSE),\"\")","v":""},{"$f":"IFERROR(VLOOKUP(A804,'1.Портфель кредитів'!A:AB,14,FALSE),\"\")","v":""}]
[null,{"$f":"IFERROR(#REF!,\"\")","v":""},{"$f":"IFERROR(VLOOKUP(A805,'1.Портфель кредитів'!A:AB,3,FALSE),\"\")","v":""},{"$f":"IFERROR(VLOOKUP(A805,'1.Портфель кредитів'!A:AB,14,FALSE),\"\")","v":""}]
[null,{"$f":"IFERROR(#REF!,\"\")","v":""},{"$f":"IFERROR(VLOOKUP(A806,'1.Портфель кредитів'!A:AB,3,FALSE),\"\")","v":""},{"$f":"IFERROR(VLOOKUP(A806,'1.Портфель кредитів'!A:AB,14,FALSE),\"\")","v":""}]
[null,{"$f":"IFERROR(#REF!,\"\")","v":""},{"$f":"IFERROR(VLOOKUP(A807,'1.Портфель кредитів'!A:AB,3,FALSE),\"\")","v":""},{"$f":"IFERROR(VLOOKUP(A807,'1.Портфель кредитів'!A:AB,14,FALSE),\"\")","v":""}]
[null,{"$f":"IFERROR(#REF!,\"\")","v":""},{"$f":"IFERROR(VLOOKUP(A808,'1.Портфель кредитів'!A:AB,3,FALSE),\"\")","v":""},{"$f":"IFERROR(VLOOKUP(A808,'1.Портфель кредитів'!A:AB,14,FALSE),\"\")","v":""}]
[null,{"$f":"IFERROR(#REF!,\"\")","v":""},{"$f":"IFERROR(VLOOKUP(A809,'1.Портфель кредитів'!A:AB,3,FALSE),\"\")","v":""},{"$f":"IFERROR(VLOOKUP(A809,'1.Портфель кредитів'!A:AB,14,FALSE),\"\")","v":""}]
[null,{"$f":"IFERROR(#REF!,\"\")","v":""},{"$f":"IFERROR(VLOOKUP(A810,'1.Портфель кредитів'!A:AB,3,FALSE),\"\")","v":""},{"$f":"IFERROR(VLOOKUP(A810,'1.Портфель кредитів'!A:AB,14,FALSE),\"\")","v":""}]
[null,{"$f":"IFERROR(#REF!,\"\")","v":""},{"$f":"IFERROR(VLOOKUP(A811,'1.Портфель кредитів'!A:AB,3,FALSE),\"\")","v":""},{"$f":"IFERROR(VLOOKUP(A811,'1.Портфель кредитів'!A:AB,14,FALSE),\"\")","v":""}]
[null,{"$f":"IFERROR(#REF!,\"\")","v":""},{"$f":"IFERROR(VLOOKUP(A812,'1.Портфель кредитів'!A:AB,3,FALSE),\"\")","v":""},{"$f":"IFERROR(VLOOKUP(A812,'1.Портфель кредитів'!A:AB,14,FALSE),\"\")","v":""}]
[null,{"$f":"IFERROR(#REF!,\"\")","v":""},{"$f":"IFERROR(VLOOKUP(A813,'1.Портфель кредитів'!A:AB,3,FALSE),\"\")","v":""},{"$f":"IFERROR(VLOOKUP(A813,'1.Портфель кредитів'!A:AB,14,FALSE),\"\")","v":""}]
[null,{"$f":"IFERROR(#REF!,\"\")","v":""},{"$f":"IFERROR(VLOOKUP(A814,'1.Портфель кредитів'!A:AB,3,FALSE),\"\")","v":""},{"$f":"IFERROR(VLOOKUP(A814,'1.Портфель кредитів'!A:AB,14,FALSE),\"\")","v":""}]
[null,{"$f":"IFERROR(#REF!,\"\")","v":""},{"$f":"IFERROR(VLOOKUP(A815,'1.Портфель кредитів'!A:AB,3,FALSE),\"\")","v":""},{"$f":"IFERROR(VLOOKUP(A815,'1.Портфель кредитів'!A:AB,14,FALSE),\"\")","v":""}]
[null,{"$f":"IFERROR(#REF!,\"\")","v":""},{"$f":"IFERROR(VLOOKUP(A816,'1.Портфель кредитів'!A:AB,3,FALSE),\"\")","v":""},{"$f":"IFERROR(VLOOKUP(A816,'1.Портфель кредитів'!A:AB,14,FALSE),\"\")","v":""}]
[null,{"$f":"IFERROR(#REF!,\"\")","v":""},{"$f":"IFERROR(VLOOKUP(A817,'1.Портфель кредитів'!A:AB,3,FALSE),\"\")","v":""},{"$f":"IFERROR(VLOOKUP(A817,'1.Портфель кредитів'!A:AB,14,FALSE),\"\")","v":""}]
[null,{"$f":"IFERROR(#REF!,\"\")","v":""},{"$f":"IFERROR(VLOOKUP(A818,'1.Портфель кредитів'!A:AB,3,FALSE),\"\")","v":""},{"$f":"IFERROR(VLOOKUP(A818,'1.Портфель кредитів'!A:AB,14,FALSE),\"\")","v":""}]
[null,{"$f":"IFERROR(#REF!,\"\")","v":""},{"$f":"IFERROR(VLOOKUP(A819,'1.Портфель кредитів'!A:AB,3,FALSE),\"\")","v":""},{"$f":"IFERROR(VLOOKUP(A819,'1.Портфель кредитів'!A:AB,14,FALSE),\"\")","v":""}]
[null,{"$f":"IFERROR(#REF!,\"\")","v":""},{"$f":"IFERROR(VLOOKUP(A820,'1.Портфель кредитів'!A:AB,3,FALSE),\"\")","v":""},{"$f":"IFERROR(VLOOKUP(A820,'1.Портфель кредитів'!A:AB,14,FALSE),\"\")","v":""}]
[null,{"$f":"IFERROR(#REF!,\"\")","v":""},{"$f":"IFERROR(VLOOKUP(A821,'1.Портфель кредитів'!A:AB,3,FALSE),\"\")","v":""},{"$f":"IFERROR(VLOOKUP(A821,'1.Портфель кредитів'!A:AB,14,FALSE),\"\")","v":""}]
[null,{"$f":"IFERROR(#REF!,\"\")","v":""},{"$f":"IFERROR(VLOOKUP(A822,'1.Портфель кредитів'!A:AB,3,FALSE),\"\")","v":""},{"$f":"IFERROR(VLOOKUP(A822,'1.Портфель кредитів'!A:AB,14,FALSE),\"\")","v":""}]
[null,{"$f":"IFERROR(#REF!,\"\")","v":""},{"$f":"IFERROR(VLOOKUP(A823,'1.Портфель кредитів'!A:AB,3,FALSE),\"\")","v":""},{"$f":"IFERROR(VLOOKUP(A823,'1.Портфель кредитів'!A:AB,14,FALSE),\"\")","v":""}]
[null,{"$f":"IFERROR(#REF!,\"\")","v":""},{"$f":"IFERROR(VLOOKUP(A824,'1.Портфель кредитів'!A:AB,3,FALSE),\"\")","v":""},{"$f":"IFERROR(VLOOKUP(A824,'1.Портфель кредитів'!A:AB,14,FALSE),\"\")","v":""}]
[null,{"$f":"IFERROR(#REF!,\"\")","v":""},{"$f":"IFERROR(VLOOKUP(A825,'1.Портфель кредитів'!A:AB,3,FALSE),\"\")","v":""},{"$f":"IFERROR(VLOOKUP(A825,'1.Портфель кредитів'!A:AB,14,FALSE),\"\")","v":""}]
[null,{"$f":"IFERROR(#REF!,\"\")","v":""},{"$f":"IFERROR(VLOOKUP(A826,'1.Портфель кредитів'!A:AB,3,FALSE),\"\")","v":""},{"$f":"IFERROR(VLOOKUP(A826,'1.Портфель кредитів'!A:AB,14,FALSE),\"\")","v":""}]
[null,{"$f":"IFERROR(#REF!,\"\")","v":""},{"$f":"IFERROR(VLOOKUP(A827,'1.Портфель кредитів'!A:AB,3,FALSE),\"\")","v":""},{"$f":"IFERROR(VLOOKUP(A827,'1.Портфель кредитів'!A:AB,14,FALSE),\"\")","v":""}]
[null,{"$f":"IFERROR(#REF!,\"\")","v":""},{"$f":"IFERROR(VLOOKUP(A828,'1.Портфель кредитів'!A:AB,3,FALSE),\"\")","v":""},{"$f":"IFERROR(VLOOKUP(A828,'1.Портфель кредитів'!A:AB,14,FALSE),\"\")","v":""}]
[null,{"$f":"IFERROR(#REF!,\"\")","v":""},{"$f":"IFERROR(VLOOKUP(A829,'1.Портфель кредитів'!A:AB,3,FALSE),\"\")","v":""},{"$f":"IFERROR(VLOOKUP(A829,'1.Портфель кредитів'!A:AB,14,FALSE),\"\")","v":""}]
[null,{"$f":"IFERROR(#REF!,\"\")","v":""},{"$f":"IFERROR(VLOOKUP(A830,'1.Портфель кредитів'!A:AB,3,FALSE),\"\")","v":""},{"$f":"IFERROR(VLOOKUP(A830,'1.Портфель кредитів'!A:AB,14,FALSE),\"\")","v":""}]
[null,{"$f":"IFERROR(#REF!,\"\")","v":""},{"$f":"IFERROR(VLOOKUP(A831,'1.Портфель кредитів'!A:AB,3,FALSE),\"\")","v":""},{"$f":"IFERROR(VLOOKUP(A831,'1.Портфель кредитів'!A:AB,14,FALSE),\"\")","v":""}]
[null,{"$f":"IFERROR(#REF!,\"\")","v":""},{"$f":"IFERROR(VLOOKUP(A832,'1.Портфель кредитів'!A:AB,3,FALSE),\"\")","v":""},{"$f":"IFERROR(VLOOKUP(A832,'1.Портфель кредитів'!A:AB,14,FALSE),\"\")","v":""}]
[null,{"$f":"IFERROR(#REF!,\"\")","v":""},{"$f":"IFERROR(VLOOKUP(A833,'1.Портфель кредитів'!A:AB,3,FALSE),\"\")","v":""},{"$f":"IFERROR(VLOOKUP(A833,'1.Портфель кредитів'!A:AB,14,FALSE),\"\")","v":""}]
[null,{"$f":"IFERROR(#REF!,\"\")","v":""},{"$f":"IFERROR(VLOOKUP(A834,'1.Портфель кредитів'!A:AB,3,FALSE),\"\")","v":""},{"$f":"IFERROR(VLOOKUP(A834,'1.Портфель кредитів'!A:AB,14,FALSE),\"\")","v":""}]
[null,{"$f":"IFERROR(#REF!,\"\")","v":""},{"$f":"IFERROR(VLOOKUP(A835,'1.Портфель кредитів'!A:AB,3,FALSE),\"\")","v":""},{"$f":"IFERROR(VLOOKUP(A835,'1.Портфель кредитів'!A:AB,14,FALSE),\"\")","v":""}]
[null,{"$f":"IFERROR(#REF!,\"\")","v":""},{"$f":"IFERROR(VLOOKUP(A836,'1.Портфель кредитів'!A:AB,3,FALSE),\"\")","v":""},{"$f":"IFERROR(VLOOKUP(A836,'1.Портфель кредитів'!A:AB,14,FALSE),\"\")","v":""}]
[null,{"$f":"IFERROR(#REF!,\"\")","v":""},{"$f":"IFERROR(VLOOKUP(A837,'1.Портфель кредитів'!A:AB,3,FALSE),\"\")","v":""},{"$f":"IFERROR(VLOOKUP(A837,'1.Портфель кредитів'!A:AB,14,FALSE),\"\")","v":""}]
[null,{"$f":"IFERROR(#REF!,\"\")","v":""},{"$f":"IFERROR(VLOOKUP(A838,'1.Портфель кредитів'!A:AB,3,FALSE),\"\")","v":""},{"$f":"IFERROR(VLOOKUP(A838,'1.Портфель кредитів'!A:AB,14,FALSE),\"\")","v":""}]
[null,{"$f":"IFERROR(#REF!,\"\")","v":""},{"$f":"IFERROR(VLOOKUP(A839,'1.Портфель кредитів'!A:AB,3,FALSE),\"\")","v":""},{"$f":"IFERROR(VLOOKUP(A839,'1.Портфель кредитів'!A:AB,14,FALSE),\"\")","v":""}]
[null,{"$f":"IFERROR(#REF!,\"\")","v":""},{"$f":"IFERROR(VLOOKUP(A840,'1.Портфель кредитів'!A:AB,3,FALSE),\"\")","v":""},{"$f":"IFERROR(VLOOKUP(A840,'1.Портфель кредитів'!A:AB,14,FALSE),\"\")","v":""}]
[null,{"$f":"IFERROR(#REF!,\"\")","v":""},{"$f":"IFERROR(VLOOKUP(A841,'1.Портфель кредитів'!A:AB,3,FALSE),\"\")","v":""},{"$f":"IFERROR(VLOOKUP(A841,'1.Портфель кредитів'!A:AB,14,FALSE),\"\")","v":""}]
[null,{"$f":"IFERROR(#REF!,\"\")","v":""},{"$f":"IFERROR(VLOOKUP(A842,'1.Портфель кредитів'!A:AB,3,FALSE),\"\")","v":""},{"$f":"IFERROR(VLOOKUP(A842,'1.Портфель кредитів'!A:AB,14,FALSE),\"\")","v":""}]
[null,{"$f":"IFERROR(#REF!,\"\")","v":""},{"$f":"IFERROR(VLOOKUP(A843,'1.Портфель кредитів'!A:AB,3,FALSE),\"\")","v":""},{"$f":"IFERROR(VLOOKUP(A843,'1.Портфель кредитів'!A:AB,14,FALSE),\"\")","v":""}]
[null,{"$f":"IFERROR(#REF!,\"\")","v":""},{"$f":"IFERROR(VLOOKUP(A844,'1.Портфель кредитів'!A:AB,3,FALSE),\"\")","v":""},{"$f":"IFERROR(VLOOKUP(A844,'1.Портфель кредитів'!A:AB,14,FALSE),\"\")","v":""}]
[null,{"$f":"IFERROR(#REF!,\"\")","v":""},{"$f":"IFERROR(VLOOKUP(A845,'1.Портфель кредитів'!A:AB,3,FALSE),\"\")","v":""},{"$f":"IFERROR(VLOOKUP(A845,'1.Портфель кредитів'!A:AB,14,FALSE),\"\")","v":""}]
[null,{"$f":"IFERROR(#REF!,\"\")","v":""},{"$f":"IFERROR(VLOOKUP(A846,'1.Портфель кредитів'!A:AB,3,FALSE),\"\")","v":""},{"$f":"IFERROR(VLOOKUP(A846,'1.Портфель кредитів'!A:AB,14,FALSE),\"\")","v":""}]
[null,{"$f":"IFERROR(#REF!,\"\")","v":""},{"$f":"IFERROR(VLOOKUP(A847,'1.Портфель кредитів'!A:AB,3,FALSE),\"\")","v":""},{"$f":"IFERROR(VLOOKUP(A847,'1.Портфель кредитів'!A:AB,14,FALSE),\"\")","v":""}]
[null,{"$f":"IFERROR(#REF!,\"\")","v":""},{"$f":"IFERROR(VLOOKUP(A848,'1.Портфель кредитів'!A:AB,3,FALSE),\"\")","v":""},{"$f":"IFERROR(VLOOKUP(A848,'1.Портфель кредитів'!A:AB,14,FALSE),\"\")","v":""}]
[null,{"$f":"IFERROR(#REF!,\"\")","v":""},{"$f":"IFERROR(VLOOKUP(A849,'1.Портфель кредитів'!A:AB,3,FALSE),\"\")","v":""},{"$f":"IFERROR(VLOOKUP(A849,'1.Портфель кредитів'!A:AB,14,FALSE),\"\")","v":""}]
[null,{"$f":"IFERROR(#REF!,\"\")","v":""},{"$f":"IFERROR(VLOOKUP(A850,'1.Портфель кредитів'!A:AB,3,FALSE),\"\")","v":""},{"$f":"IFERROR(VLOOKUP(A850,'1.Портфель кредитів'!A:AB,14,FALSE),\"\")","v":""}]
[null,{"$f":"IFERROR(#REF!,\"\")","v":""},{"$f":"IFERROR(VLOOKUP(A851,'1.Портфель кредитів'!A:AB,3,FALSE),\"\")","v":""},{"$f":"IFERROR(VLOOKUP(A851,'1.Портфель кредитів'!A:AB,14,FALSE),\"\")","v":""}]
[null,{"$f":"IFERROR(#REF!,\"\")","v":""},{"$f":"IFERROR(VLOOKUP(A852,'1.Портфель кредитів'!A:AB,3,FALSE),\"\")","v":""},{"$f":"IFERROR(VLOOKUP(A852,'1.Портфель кредитів'!A:AB,14,FALSE),\"\")","v":""}]
[null,{"$f":"IFERROR(#REF!,\"\")","v":""},{"$f":"IFERROR(VLOOKUP(A853,'1.Портфель кредитів'!A:AB,3,FALSE),\"\")","v":""},{"$f":"IFERROR(VLOOKUP(A853,'1.Портфель кредитів'!A:AB,14,FALSE),\"\")","v":""}]
[null,{"$f":"IFERROR(#REF!,\"\")","v":""},{"$f":"IFERROR(VLOOKUP(A854,'1.Портфель кредитів'!A:AB,3,FALSE),\"\")","v":""},{"$f":"IFERROR(VLOOKUP(A854,'1.Портфель кредитів'!A:AB,14,FALSE),\"\")","v":""}]
[null,{"$f":"IFERROR(#REF!,\"\")","v":""},{"$f":"IFERROR(VLOOKUP(A855,'1.Портфель кредитів'!A:AB,3,FALSE),\"\")","v":""},{"$f":"IFERROR(VLOOKUP(A855,'1.Портфель кредитів'!A:AB,14,FALSE),\"\")","v":""}]
[null,{"$f":"IFERROR(#REF!,\"\")","v":""},{"$f":"IFERROR(VLOOKUP(A856,'1.Портфель кредитів'!A:AB,3,FALSE),\"\")","v":""},{"$f":"IFERROR(VLOOKUP(A856,'1.Портфель кредитів'!A:AB,14,FALSE),\"\")","v":""}]
[null,{"$f":"IFERROR(#REF!,\"\")","v":""},{"$f":"IFERROR(VLOOKUP(A857,'1.Портфель кредитів'!A:AB,3,FALSE),\"\")","v":""},{"$f":"IFERROR(VLOOKUP(A857,'1.Портфель кредитів'!A:AB,14,FALSE),\"\")","v":""}]
[null,{"$f":"IFERROR(#REF!,\"\")","v":""},{"$f":"IFERROR(VLOOKUP(A858,'1.Портфель кредитів'!A:AB,3,FALSE),\"\")","v":""},{"$f":"IFERROR(VLOOKUP(A858,'1.Портфель кредитів'!A:AB,14,FALSE),\"\")","v":""}]
[null,{"$f":"IFERROR(#REF!,\"\")","v":""},{"$f":"IFERROR(VLOOKUP(A859,'1.Портфель кредитів'!A:AB,3,FALSE),\"\")","v":""},{"$f":"IFERROR(VLOOKUP(A859,'1.Портфель кредитів'!A:AB,14,FALSE),\"\")","v":""}]
[null,{"$f":"IFERROR(#REF!,\"\")","v":""},{"$f":"IFERROR(VLOOKUP(A860,'1.Портфель кредитів'!A:AB,3,FALSE),\"\")","v":""},{"$f":"IFERROR(VLOOKUP(A860,'1.Портфель кредитів'!A:AB,14,FALSE),\"\")","v":""}]
[null,{"$f":"IFERROR(#REF!,\"\")","v":""},{"$f":"IFERROR(VLOOKUP(A861,'1.Портфель кредитів'!A:AB,3,FALSE),\"\")","v":""},{"$f":"IFERROR(VLOOKUP(A861,'1.Портфель кредитів'!A:AB,14,FALSE),\"\")","v":""}]
[null,{"$f":"IFERROR(#REF!,\"\")","v":""},{"$f":"IFERROR(VLOOKUP(A862,'1.Портфель кредитів'!A:AB,3,FALSE),\"\")","v":""},{"$f":"IFERROR(VLOOKUP(A862,'1.Портфель кредитів'!A:AB,14,FALSE),\"\")","v":""}]
[null,{"$f":"IFERROR(#REF!,\"\")","v":""},{"$f":"IFERROR(VLOOKUP(A863,'1.Портфель кредитів'!A:AB,3,FALSE),\"\")","v":""},{"$f":"IFERROR(VLOOKUP(A863,'1.Портфель кредитів'!A:AB,14,FALSE),\"\")","v":""}]
[null,{"$f":"IFERROR(#REF!,\"\")","v":""},{"$f":"IFERROR(VLOOKUP(A864,'1.Портфель кредитів'!A:AB,3,FALSE),\"\")","v":""},{"$f":"IFERROR(VLOOKUP(A864,'1.Портфель кредитів'!A:AB,14,FALSE),\"\")","v":""}]
[null,{"$f":"IFERROR(#REF!,\"\")","v":""},{"$f":"IFERROR(VLOOKUP(A865,'1.Портфель кредитів'!A:AB,3,FALSE),\"\")","v":""},{"$f":"IFERROR(VLOOKUP(A865,'1.Портфель кредитів'!A:AB,14,FALSE),\"\")","v":""}]
[null,{"$f":"IFERROR(#REF!,\"\")","v":""},{"$f":"IFERROR(VLOOKUP(A866,'1.Портфель кредитів'!A:AB,3,FALSE),\"\")","v":""},{"$f":"IFERROR(VLOOKUP(A866,'1.Портфель кредитів'!A:AB,14,FALSE),\"\")","v":""}]
[null,{"$f":"IFERROR(#REF!,\"\")","v":""},{"$f":"IFERROR(VLOOKUP(A867,'1.Портфель кредитів'!A:AB,3,FALSE),\"\")","v":""},{"$f":"IFERROR(VLOOKUP(A867,'1.Портфель кредитів'!A:AB,14,FALSE),\"\")","v":""}]
[null,{"$f":"IFERROR(#REF!,\"\")","v":""},{"$f":"IFERROR(VLOOKUP(A868,'1.Портфель кредитів'!A:AB,3,FALSE),\"\")","v":""},{"$f":"IFERROR(VLOOKUP(A868,'1.Портфель кредитів'!A:AB,14,FALSE),\"\")","v":""}]
[null,{"$f":"IFERROR(#REF!,\"\")","v":""},{"$f":"IFERROR(VLOOKUP(A869,'1.Портфель кредитів'!A:AB,3,FALSE),\"\")","v":""},{"$f":"IFERROR(VLOOKUP(A869,'1.Портфель кредитів'!A:AB,14,FALSE),\"\")","v":""}]
[null,{"$f":"IFERROR(#REF!,\"\")","v":""},{"$f":"IFERROR(VLOOKUP(A870,'1.Портфель кредитів'!A:AB,3,FALSE),\"\")","v":""},{"$f":"IFERROR(VLOOKUP(A870,'1.Портфель кредитів'!A:AB,14,FALSE),\"\")","v":""}]
[null,{"$f":"IFERROR(#REF!,\"\")","v":""},{"$f":"IFERROR(VLOOKUP(A871,'1.Портфель кредитів'!A:AB,3,FALSE),\"\")","v":""},{"$f":"IFERROR(VLOOKUP(A871,'1.Портфель кредитів'!A:AB,14,FALSE),\"\")","v":""}]
[null,{"$f":"IFERROR(#REF!,\"\")","v":""},{"$f":"IFERROR(VLOOKUP(A872,'1.Портфель кредитів'!A:AB,3,FALSE),\"\")","v":""},{"$f":"IFERROR(VLOOKUP(A872,'1.Портфель кредитів'!A:AB,14,FALSE),\"\")","v":""}]
[null,{"$f":"IFERROR(#REF!,\"\")","v":""},{"$f":"IFERROR(VLOOKUP(A873,'1.Портфель кредитів'!A:AB,3,FALSE),\"\")","v":""},{"$f":"IFERROR(VLOOKUP(A873,'1.Портфель кредитів'!A:AB,14,FALSE),\"\")","v":""}]
[null,{"$f":"IFERROR(#REF!,\"\")","v":""},{"$f":"IFERROR(VLOOKUP(A874,'1.Портфель кредитів'!A:AB,3,FALSE),\"\")","v":""},{"$f":"IFERROR(VLOOKUP(A874,'1.Портфель кредитів'!A:AB,14,FALSE),\"\")","v":""}]
[null,{"$f":"IFERROR(#REF!,\"\")","v":""},{"$f":"IFERROR(VLOOKUP(A875,'1.Портфель кредитів'!A:AB,3,FALSE),\"\")","v":""},{"$f":"IFERROR(VLOOKUP(A875,'1.Портфель кредитів'!A:AB,14,FALSE),\"\")","v":""}]
[null,{"$f":"IFERROR(#REF!,\"\")","v":""},{"$f":"IFERROR(VLOOKUP(A876,'1.Портфель кредитів'!A:AB,3,FALSE),\"\")","v":""},{"$f":"IFERROR(VLOOKUP(A876,'1.Портфель кредитів'!A:AB,14,FALSE),\"\")","v":""}]
[null,{"$f":"IFERROR(#REF!,\"\")","v":""},{"$f":"IFERROR(VLOOKUP(A877,'1.Портфель кредитів'!A:AB,3,FALSE),\"\")","v":""},{"$f":"IFERROR(VLOOKUP(A877,'1.Портфель кредитів'!A:AB,14,FALSE),\"\")","v":""}]
[null,{"$f":"IFERROR(#REF!,\"\")","v":""},{"$f":"IFERROR(VLOOKUP(A878,'1.Портфель кредитів'!A:AB,3,FALSE),\"\")","v":""},{"$f":"IFERROR(VLOOKUP(A878,'1.Портфель кредитів'!A:AB,14,FALSE),\"\")","v":""}]
[null,{"$f":"IFERROR(#REF!,\"\")","v":""},{"$f":"IFERROR(VLOOKUP(A879,'1.Портфель кредитів'!A:AB,3,FALSE),\"\")","v":""},{"$f":"IFERROR(VLOOKUP(A879,'1.Портфель кредитів'!A:AB,14,FALSE),\"\")","v":""}]
[null,{"$f":"IFERROR(#REF!,\"\")","v":""},{"$f":"IFERROR(VLOOKUP(A880,'1.Портфель кредитів'!A:AB,3,FALSE),\"\")","v":""},{"$f":"IFERROR(VLOOKUP(A880,'1.Портфель кредитів'!A:AB,14,FALSE),\"\")","v":""}]
[null,{"$f":"IFERROR(#REF!,\"\")","v":""},{"$f":"IFERROR(VLOOKUP(A881,'1.Портфель кредитів'!A:AB,3,FALSE),\"\")","v":""},{"$f":"IFERROR(VLOOKUP(A881,'1.Портфель кредитів'!A:AB,14,FALSE),\"\")","v":""}]
[null,{"$f":"IFERROR(#REF!,\"\")","v":""},{"$f":"IFERROR(VLOOKUP(A882,'1.Портфель кредитів'!A:AB,3,FALSE),\"\")","v":""},{"$f":"IFERROR(VLOOKUP(A882,'1.Портфель кредитів'!A:AB,14,FALSE),\"\")","v":""}]
[null,{"$f":"IFERROR(#REF!,\"\")","v":""},{"$f":"IFERROR(VLOOKUP(A883,'1.Портфель кредитів'!A:AB,3,FALSE),\"\")","v":""},{"$f":"IFERROR(VLOOKUP(A883,'1.Портфель кредитів'!A:AB,14,FALSE),\"\")","v":""}]
[null,{"$f":"IFERROR(#REF!,\"\")","v":""},{"$f":"IFERROR(VLOOKUP(A884,'1.Портфель кредитів'!A:AB,3,FALSE),\"\")","v":""},{"$f":"IFERROR(VLOOKUP(A884,'1.Портфель кредитів'!A:AB,14,FALSE),\"\")","v":""}]
[null,{"$f":"IFERROR(#REF!,\"\")","v":""},{"$f":"IFERROR(VLOOKUP(A885,'1.Портфель кредитів'!A:AB,3,FALSE),\"\")","v":""},{"$f":"IFERROR(VLOOKUP(A885,'1.Портфель кредитів'!A:AB,14,FALSE),\"\")","v":""}]
[null,{"$f":"IFERROR(#REF!,\"\")","v":""},{"$f":"IFERROR(VLOOKUP(A886,'1.Портфель кредитів'!A:AB,3,FALSE),\"\")","v":""},{"$f":"IFERROR(VLOOKUP(A886,'1.Портфель кредитів'!A:AB,14,FALSE),\"\")","v":""}]
[null,{"$f":"IFERROR(#REF!,\"\")","v":""},{"$f":"IFERROR(VLOOKUP(A887,'1.Портфель кредитів'!A:AB,3,FALSE),\"\")","v":""},{"$f":"IFERROR(VLOOKUP(A887,'1.Портфель кредитів'!A:AB,14,FALSE),\"\")","v":""}]
[null,{"$f":"IFERROR(#REF!,\"\")","v":""},{"$f":"IFERROR(VLOOKUP(A888,'1.Портфель кредитів'!A:AB,3,FALSE),\"\")","v":""},{"$f":"IFERROR(VLOOKUP(A888,'1.Портфель кредитів'!A:AB,14,FALSE),\"\")","v":""}]
[null,{"$f":"IFERROR(#REF!,\"\")","v":""},{"$f":"IFERROR(VLOOKUP(A889,'1.Портфель кредитів'!A:AB,3,FALSE),\"\")","v":""},{"$f":"IFERROR(VLOOKUP(A889,'1.Портфель кредитів'!A:AB,14,FALSE),\"\")","v":""}]
[null,{"$f":"IFERROR(#REF!,\"\")","v":""},{"$f":"IFERROR(VLOOKUP(A890,'1.Портфель кредитів'!A:AB,3,FALSE),\"\")","v":""},{"$f":"IFERROR(VLOOKUP(A890,'1.Портфель кредитів'!A:AB,14,FALSE),\"\")","v":""}]
[null,{"$f":"IFERROR(#REF!,\"\")","v":""},{"$f":"IFERROR(VLOOKUP(A891,'1.Портфель кредитів'!A:AB,3,FALSE),\"\")","v":""},{"$f":"IFERROR(VLOOKUP(A891,'1.Портфель кредитів'!A:AB,14,FALSE),\"\")","v":""}]
[null,{"$f":"IFERROR(#REF!,\"\")","v":""},{"$f":"IFERROR(VLOOKUP(A892,'1.Портфель кредитів'!A:AB,3,FALSE),\"\")","v":""},{"$f":"IFERROR(VLOOKUP(A892,'1.Портфель кредитів'!A:AB,14,FALSE),\"\")","v":""}]
[null,{"$f":"IFERROR(#REF!,\"\")","v":""},{"$f":"IFERROR(VLOOKUP(A893,'1.Портфель кредитів'!A:AB,3,FALSE),\"\")","v":""},{"$f":"IFERROR(VLOOKUP(A893,'1.Портфель кредитів'!A:AB,14,FALSE),\"\")","v":""}]
[null,{"$f":"IFERROR(#REF!,\"\")","v":""},{"$f":"IFERROR(VLOOKUP(A894,'1.Портфель кредитів'!A:AB,3,FALSE),\"\")","v":""},{"$f":"IFERROR(VLOOKUP(A894,'1.Портфель кредитів'!A:AB,14,FALSE),\"\")","v":""}]
[null,{"$f":"IFERROR(#REF!,\"\")","v":""},{"$f":"IFERROR(VLOOKUP(A895,'1.Портфель кредитів'!A:AB,3,FALSE),\"\")","v":""},{"$f":"IFERROR(VLOOKUP(A895,'1.Портфель кредитів'!A:AB,14,FALSE),\"\")","v":""}]
[null,{"$f":"IFERROR(#REF!,\"\")","v":""},{"$f":"IFERROR(VLOOKUP(A896,'1.Портфель кредитів'!A:AB,3,FALSE),\"\")","v":""},{"$f":"IFERROR(VLOOKUP(A896,'1.Портфель кредитів'!A:AB,14,FALSE),\"\")","v":""}]
[null,{"$f":"IFERROR(#REF!,\"\")","v":""},{"$f":"IFERROR(VLOOKUP(A897,'1.Портфель кредитів'!A:AB,3,FALSE),\"\")","v":""},{"$f":"IFERROR(VLOOKUP(A897,'1.Портфель кредитів'!A:AB,14,FALSE),\"\")","v":""}]
[null,{"$f":"IFERROR(#REF!,\"\")","v":""},{"$f":"IFERROR(VLOOKUP(A898,'1.Портфель кредитів'!A:AB,3,FALSE),\"\")","v":""},{"$f":"IFERROR(VLOOKUP(A898,'1.Портфель кредитів'!A:AB,14,FALSE),\"\")","v":""}]
[null,{"$f":"IFERROR(#REF!,\"\")","v":""},{"$f":"IFERROR(VLOOKUP(A899,'1.Портфель кредитів'!A:AB,3,FALSE),\"\")","v":""},{"$f":"IFERROR(VLOOKUP(A899,'1.Портфель кредитів'!A:AB,14,FALSE),\"\")","v":""}]
[null,{"$f":"IFERROR(#REF!,\"\")","v":""},{"$f":"IFERROR(VLOOKUP(A900,'1.Портфель кредитів'!A:AB,3,FALSE),\"\")","v":""},{"$f":"IFERROR(VLOOKUP(A900,'1.Портфель кредитів'!A:AB,14,FALSE),\"\")","v":""}]
[null,{"$f":"IFERROR(#REF!,\"\")","v":""},{"$f":"IFERROR(VLOOKUP(A901,'1.Портфель кредитів'!A:AB,3,FALSE),\"\")","v":""},{"$f":"IFERROR(VLOOKUP(A901,'1.Портфель кредитів'!A:AB,14,FALSE),\"\")","v":""}]
[null,{"$f":"IFERROR(#REF!,\"\")","v":""},{"$f":"IFERROR(VLOOKUP(A902,'1.Портфель кредитів'!A:AB,3,FALSE),\"\")","v":""},{"$f":"IFERROR(VLOOKUP(A902,'1.Портфель кредитів'!A:AB,14,FALSE),\"\")","v":""}]
[null,{"$f":"IFERROR(#REF!,\"\")","v":""},{"$f":"IFERROR(VLOOKUP(A903,'1.Портфель кредитів'!A:AB,3,FALSE),\"\")","v":""},{"$f":"IFERROR(VLOOKUP(A903,'1.Портфель кредитів'!A:AB,14,FALSE),\"\")","v":""}]
[null,{"$f":"IFERROR(#REF!,\"\")","v":""},{"$f":"IFERROR(VLOOKUP(A904,'1.Портфель кредитів'!A:AB,3,FALSE),\"\")","v":""},{"$f":"IFERROR(VLOOKUP(A904,'1.Портфель кредитів'!A:AB,14,FALSE),\"\")","v":""}]
[null,{"$f":"IFERROR(#REF!,\"\")","v":""},{"$f":"IFERROR(VLOOKUP(A905,'1.Портфель кредитів'!A:AB,3,FALSE),\"\")","v":""},{"$f":"IFERROR(VLOOKUP(A905,'1.Портфель кредитів'!A:AB,14,FALSE),\"\")","v":""}]
[null,{"$f":"IFERROR(#REF!,\"\")","v":""},{"$f":"IFERROR(VLOOKUP(A906,'1.Портфель кредитів'!A:AB,3,FALSE),\"\")","v":""},{"$f":"IFERROR(VLOOKUP(A906,'1.Портфель кредитів'!A:AB,14,FALSE),\"\")","v":""}]
[null,{"$f":"IFERROR(#REF!,\"\")","v":""},{"$f":"IFERROR(VLOOKUP(A907,'1.Портфель кредитів'!A:AB,3,FALSE),\"\")","v":""},{"$f":"IFERROR(VLOOKUP(A907,'1.Портфель кредитів'!A:AB,14,FALSE),\"\")","v":""}]
[null,{"$f":"IFERROR(#REF!,\"\")","v":""},{"$f":"IFERROR(VLOOKUP(A908,'1.Портфель кредитів'!A:AB,3,FALSE),\"\")","v":""},{"$f":"IFERROR(VLOOKUP(A908,'1.Портфель кредитів'!A:AB,14,FALSE),\"\")","v":""}]
[null,{"$f":"IFERROR(#REF!,\"\")","v":""},{"$f":"IFERROR(VLOOKUP(A909,'1.Портфель кредитів'!A:AB,3,FALSE),\"\")","v":""},{"$f":"IFERROR(VLOOKUP(A909,'1.Портфель кредитів'!A:AB,14,FALSE),\"\")","v":""}]
[null,{"$f":"IFERROR(#REF!,\"\")","v":""},{"$f":"IFERROR(VLOOKUP(A910,'1.Портфель кредитів'!A:AB,3,FALSE),\"\")","v":""},{"$f":"IFERROR(VLOOKUP(A910,'1.Портфель кредитів'!A:AB,14,FALSE),\"\")","v":""}]
[null,{"$f":"IFERROR(#REF!,\"\")","v":""},{"$f":"IFERROR(VLOOKUP(A911,'1.Портфель кредитів'!A:AB,3,FALSE),\"\")","v":""},{"$f":"IFERROR(VLOOKUP(A911,'1.Портфель кредитів'!A:AB,14,FALSE),\"\")","v":""}]
[null,{"$f":"IFERROR(#REF!,\"\")","v":""},{"$f":"IFERROR(VLOOKUP(A912,'1.Портфель кредитів'!A:AB,3,FALSE),\"\")","v":""},{"$f":"IFERROR(VLOOKUP(A912,'1.Портфель кредитів'!A:AB,14,FALSE),\"\")","v":""}]
[null,{"$f":"IFERROR(#REF!,\"\")","v":""},{"$f":"IFERROR(VLOOKUP(A913,'1.Портфель кредитів'!A:AB,3,FALSE),\"\")","v":""},{"$f":"IFERROR(VLOOKUP(A913,'1.Портфель кредитів'!A:AB,14,FALSE),\"\")","v":""}]
[null,{"$f":"IFERROR(#REF!,\"\")","v":""},{"$f":"IFERROR(VLOOKUP(A914,'1.Портфель кредитів'!A:AB,3,FALSE),\"\")","v":""},{"$f":"IFERROR(VLOOKUP(A914,'1.Портфель кредитів'!A:AB,14,FALSE),\"\")","v":""}]
[null,{"$f":"IFERROR(#REF!,\"\")","v":""},{"$f":"IFERROR(VLOOKUP(A915,'1.Портфель кредитів'!A:AB,3,FALSE),\"\")","v":""},{"$f":"IFERROR(VLOOKUP(A915,'1.Портфель кредитів'!A:AB,14,FALSE),\"\")","v":""}]
[null,{"$f":"IFERROR(#REF!,\"\")","v":""},{"$f":"IFERROR(VLOOKUP(A916,'1.Портфель кредитів'!A:AB,3,FALSE),\"\")","v":""},{"$f":"IFERROR(VLOOKUP(A916,'1.Портфель кредитів'!A:AB,14,FALSE),\"\")","v":""}]
[null,{"$f":"IFERROR(#REF!,\"\")","v":""},{"$f":"IFERROR(VLOOKUP(A917,'1.Портфель кредитів'!A:AB,3,FALSE),\"\")","v":""},{"$f":"IFERROR(VLOOKUP(A917,'1.Портфель кредитів'!A:AB,14,FALSE),\"\")","v":""}]
[null,{"$f":"IFERROR(#REF!,\"\")","v":""},{"$f":"IFERROR(VLOOKUP(A918,'1.Портфель кредитів'!A:AB,3,FALSE),\"\")","v":""},{"$f":"IFERROR(VLOOKUP(A918,'1.Портфель кредитів'!A:AB,14,FALSE),\"\")","v":""}]
[null,{"$f":"IFERROR(#REF!,\"\")","v":""},{"$f":"IFERROR(VLOOKUP(A919,'1.Портфель кредитів'!A:AB,3,FALSE),\"\")","v":""},{"$f":"IFERROR(VLOOKUP(A919,'1.Портфель кредитів'!A:AB,14,FALSE),\"\")","v":""}]
[null,{"$f":"IFERROR(#REF!,\"\")","v":""},{"$f":"IFERROR(VLOOKUP(A920,'1.Портфель кредитів'!A:AB,3,FALSE),\"\")","v":""},{"$f":"IFERROR(VLOOKUP(A920,'1.Портфель кредитів'!A:AB,14,FALSE),\"\")","v":""}]
[null,{"$f":"IFERROR(#REF!,\"\")","v":""},{"$f":"IFERROR(VLOOKUP(A921,'1.Портфель кредитів'!A:AB,3,FALSE),\"\")","v":""},{"$f":"IFERROR(VLOOKUP(A921,'1.Портфель кредитів'!A:AB,14,FALSE),\"\")","v":""}]
[null,{"$f":"IFERROR(#REF!,\"\")","v":""},{"$f":"IFERROR(VLOOKUP(A922,'1.Портфель кредитів'!A:AB,3,FALSE),\"\")","v":""},{"$f":"IFERROR(VLOOKUP(A922,'1.Портфель кредитів'!A:AB,14,FALSE),\"\")","v":""}]
[null,{"$f":"IFERROR(#REF!,\"\")","v":""},{"$f":"IFERROR(VLOOKUP(A923,'1.Портфель кредитів'!A:AB,3,FALSE),\"\")","v":""},{"$f":"IFERROR(VLOOKUP(A923,'1.Портфель кредитів'!A:AB,14,FALSE),\"\")","v":""}]
[null,{"$f":"IFERROR(#REF!,\"\")","v":""},{"$f":"IFERROR(VLOOKUP(A924,'1.Портфель кредитів'!A:AB,3,FALSE),\"\")","v":""},{"$f":"IFERROR(VLOOKUP(A924,'1.Портфель кредитів'!A:AB,14,FALSE),\"\")","v":""}]
[null,{"$f":"IFERROR(#REF!,\"\")","v":""},{"$f":"IFERROR(VLOOKUP(A925,'1.Портфель кредитів'!A:AB,3,FALSE),\"\")","v":""},{"$f":"IFERROR(VLOOKUP(A925,'1.Портфель кредитів'!A:AB,14,FALSE),\"\")","v":""}]
[null,{"$f":"IFERROR(#REF!,\"\")","v":""},{"$f":"IFERROR(VLOOKUP(A926,'1.Портфель кредитів'!A:AB,3,FALSE),\"\")","v":""},{"$f":"IFERROR(VLOOKUP(A926,'1.Портфель кредитів'!A:AB,14,FALSE),\"\")","v":""}]
[null,{"$f":"IFERROR(#REF!,\"\")","v":""},{"$f":"IFERROR(VLOOKUP(A927,'1.Портфель кредитів'!A:AB,3,FALSE),\"\")","v":""},{"$f":"IFERROR(VLOOKUP(A927,'1.Портфель кредитів'!A:AB,14,FALSE),\"\")","v":""}]
[null,{"$f":"IFERROR(#REF!,\"\")","v":""},{"$f":"IFERROR(VLOOKUP(A928,'1.Портфель кредитів'!A:AB,3,FALSE),\"\")","v":""},{"$f":"IFERROR(VLOOKUP(A928,'1.Портфель кредитів'!A:AB,14,FALSE),\"\")","v":""}]
[null,{"$f":"IFERROR(#REF!,\"\")","v":""},{"$f":"IFERROR(VLOOKUP(A929,'1.Портфель кредитів'!A:AB,3,FALSE),\"\")","v":""},{"$f":"IFERROR(VLOOKUP(A929,'1.Портфель кредитів'!A:AB,14,FALSE),\"\")","v":""}]
[null,{"$f":"IFERROR(#REF!,\"\")","v":""},{"$f":"IFERROR(VLOOKUP(A930,'1.Портфель кредитів'!A:AB,3,FALSE),\"\")","v":""},{"$f":"IFERROR(VLOOKUP(A930,'1.Портфель кредитів'!A:AB,14,FALSE),\"\")","v":""}]
[null,{"$f":"IFERROR(#REF!,\"\")","v":""},{"$f":"IFERROR(VLOOKUP(A931,'1.Портфель кредитів'!A:AB,3,FALSE),\"\")","v":""},{"$f":"IFERROR(VLOOKUP(A931,'1.Портфель кредитів'!A:AB,14,FALSE),\"\")","v":""}]
[null,{"$f":"IFERROR(#REF!,\"\")","v":""},{"$f":"IFERROR(VLOOKUP(A932,'1.Портфель кредитів'!A:AB,3,FALSE),\"\")","v":""},{"$f":"IFERROR(VLOOKUP(A932,'1.Портфель кредитів'!A:AB,14,FALSE),\"\")","v":""}]
[null,{"$f":"IFERROR(#REF!,\"\")","v":""},{"$f":"IFERROR(VLOOKUP(A933,'1.Портфель кредитів'!A:AB,3,FALSE),\"\")","v":""},{"$f":"IFERROR(VLOOKUP(A933,'1.Портфель кредитів'!A:AB,14,FALSE),\"\")","v":""}]
[null,{"$f":"IFERROR(#REF!,\"\")","v":""},{"$f":"IFERROR(VLOOKUP(A934,'1.Портфель кредитів'!A:AB,3,FALSE),\"\")","v":""},{"$f":"IFERROR(VLOOKUP(A934,'1.Портфель кредитів'!A:AB,14,FALSE),\"\")","v":""}]
[null,{"$f":"IFERROR(#REF!,\"\")","v":""},{"$f":"IFERROR(VLOOKUP(A935,'1.Портфель кредитів'!A:AB,3,FALSE),\"\")","v":""},{"$f":"IFERROR(VLOOKUP(A935,'1.Портфель кредитів'!A:AB,14,FALSE),\"\")","v":""}]
[null,{"$f":"IFERROR(#REF!,\"\")","v":""},{"$f":"IFERROR(VLOOKUP(A936,'1.Портфель кредитів'!A:AB,3,FALSE),\"\")","v":""},{"$f":"IFERROR(VLOOKUP(A936,'1.Портфель кредитів'!A:AB,14,FALSE),\"\")","v":""}]
[null,{"$f":"IFERROR(#REF!,\"\")","v":""},{"$f":"IFERROR(VLOOKUP(A937,'1.Портфель кредитів'!A:AB,3,FALSE),\"\")","v":""},{"$f":"IFERROR(VLOOKUP(A937,'1.Портфель кредитів'!A:AB,14,FALSE),\"\")","v":""}]
[null,{"$f":"IFERROR(#REF!,\"\")","v":""},{"$f":"IFERROR(VLOOKUP(A938,'1.Портфель кредитів'!A:AB,3,FALSE),\"\")","v":""},{"$f":"IFERROR(VLOOKUP(A938,'1.Портфель кредитів'!A:AB,14,FALSE),\"\")","v":""}]
[null,{"$f":"IFERROR(#REF!,\"\")","v":""},{"$f":"IFERROR(VLOOKUP(A939,'1.Портфель кредитів'!A:AB,3,FALSE),\"\")","v":""},{"$f":"IFERROR(VLOOKUP(A939,'1.Портфель кредитів'!A:AB,14,FALSE),\"\")","v":""}]
[null,{"$f":"IFERROR(#REF!,\"\")","v":""},{"$f":"IFERROR(VLOOKUP(A940,'1.Портфель кредитів'!A:AB,3,FALSE),\"\")","v":""},{"$f":"IFERROR(VLOOKUP(A940,'1.Портфель кредитів'!A:AB,14,FALSE),\"\")","v":""}]
[null,{"$f":"IFERROR(#REF!,\"\")","v":""},{"$f":"IFERROR(VLOOKUP(A941,'1.Портфель кредитів'!A:AB,3,FALSE),\"\")","v":""},{"$f":"IFERROR(VLOOKUP(A941,'1.Портфель кредитів'!A:AB,14,FALSE),\"\")","v":""}]
[null,{"$f":"IFERROR(#REF!,\"\")","v":""},{"$f":"IFERROR(VLOOKUP(A942,'1.Портфель кредитів'!A:AB,3,FALSE),\"\")","v":""},{"$f":"IFERROR(VLOOKUP(A942,'1.Портфель кредитів'!A:AB,14,FALSE),\"\")","v":""}]
[null,{"$f":"IFERROR(#REF!,\"\")","v":""},{"$f":"IFERROR(VLOOKUP(A943,'1.Портфель кредитів'!A:AB,3,FALSE),\"\")","v":""},{"$f":"IFERROR(VLOOKUP(A943,'1.Портфель кредитів'!A:AB,14,FALSE),\"\")","v":""}]
[null,{"$f":"IFERROR(#REF!,\"\")","v":""},{"$f":"IFERROR(VLOOKUP(A944,'1.Портфель кредитів'!A:AB,3,FALSE),\"\")","v":""},{"$f":"IFERROR(VLOOKUP(A944,'1.Портфель кредитів'!A:AB,14,FALSE),\"\")","v":""}]
[null,{"$f":"IFERROR(#REF!,\"\")","v":""},{"$f":"IFERROR(VLOOKUP(A945,'1.Портфель кредитів'!A:AB,3,FALSE),\"\")","v":""},{"$f":"IFERROR(VLOOKUP(A945,'1.Портфель кредитів'!A:AB,14,FALSE),\"\")","v":""}]
[null,{"$f":"IFERROR(#REF!,\"\")","v":""},{"$f":"IFERROR(VLOOKUP(A946,'1.Портфель кредитів'!A:AB,3,FALSE),\"\")","v":""},{"$f":"IFERROR(VLOOKUP(A946,'1.Портфель кредитів'!A:AB,14,FALSE),\"\")","v":""}]
[null,{"$f":"IFERROR(#REF!,\"\")","v":""},{"$f":"IFERROR(VLOOKUP(A947,'1.Портфель кредитів'!A:AB,3,FALSE),\"\")","v":""},{"$f":"IFERROR(VLOOKUP(A947,'1.Портфель кредитів'!A:AB,14,FALSE),\"\")","v":""}]
[null,{"$f":"IFERROR(#REF!,\"\")","v":""},{"$f":"IFERROR(VLOOKUP(A948,'1.Портфель кредитів'!A:AB,3,FALSE),\"\")","v":""},{"$f":"IFERROR(VLOOKUP(A948,'1.Портфель кредитів'!A:AB,14,FALSE),\"\")","v":""}]
[null,{"$f":"IFERROR(#REF!,\"\")","v":""},{"$f":"IFERROR(VLOOKUP(A949,'1.Портфель кредитів'!A:AB,3,FALSE),\"\")","v":""},{"$f":"IFERROR(VLOOKUP(A949,'1.Портфель кредитів'!A:AB,14,FALSE),\"\")","v":""}]
[null,{"$f":"IFERROR(#REF!,\"\")","v":""},{"$f":"IFERROR(VLOOKUP(A950,'1.Портфель кредитів'!A:AB,3,FALSE),\"\")","v":""},{"$f":"IFERROR(VLOOKUP(A950,'1.Портфель кредитів'!A:AB,14,FALSE),\"\")","v":""}]
[null,{"$f":"IFERROR(#REF!,\"\")","v":""},{"$f":"IFERROR(VLOOKUP(A951,'1.Портфель кредитів'!A:AB,3,FALSE),\"\")","v":""},{"$f":"IFERROR(VLOOKUP(A951,'1.Портфель кредитів'!A:AB,14,FALSE),\"\")","v":""}]
[null,{"$f":"IFERROR(#REF!,\"\")","v":""},{"$f":"IFERROR(VLOOKUP(A952,'1.Портфель кредитів'!A:AB,3,FALSE),\"\")","v":""},{"$f":"IFERROR(VLOOKUP(A952,'1.Портфель кредитів'!A:AB,14,FALSE),\"\")","v":""}]
[null,{"$f":"IFERROR(#REF!,\"\")","v":""},{"$f":"IFERROR(VLOOKUP(A953,'1.Портфель кредитів'!A:AB,3,FALSE),\"\")","v":""},{"$f":"IFERROR(VLOOKUP(A953,'1.Портфель кредитів'!A:AB,14,FALSE),\"\")","v":""}]
[null,{"$f":"IFERROR(#REF!,\"\")","v":""},{"$f":"IFERROR(VLOOKUP(A954,'1.Портфель кредитів'!A:AB,3,FALSE),\"\")","v":""},{"$f":"IFERROR(VLOOKUP(A954,'1.Портфель кредитів'!A:AB,14,FALSE),\"\")","v":""}]
[null,{"$f":"IFERROR(#REF!,\"\")","v":""},{"$f":"IFERROR(VLOOKUP(A955,'1.Портфель кредитів'!A:AB,3,FALSE),\"\")","v":""},{"$f":"IFERROR(VLOOKUP(A955,'1.Портфель кредитів'!A:AB,14,FALSE),\"\")","v":""}]
[null,{"$f":"IFERROR(#REF!,\"\")","v":""},{"$f":"IFERROR(VLOOKUP(A956,'1.Портфель кредитів'!A:AB,3,FALSE),\"\")","v":""},{"$f":"IFERROR(VLOOKUP(A956,'1.Портфель кредитів'!A:AB,14,FALSE),\"\")","v":""}]
[null,{"$f":"IFERROR(#REF!,\"\")","v":""},{"$f":"IFERROR(VLOOKUP(A957,'1.Портфель кредитів'!A:AB,3,FALSE),\"\")","v":""},{"$f":"IFERROR(VLOOKUP(A957,'1.Портфель кредитів'!A:AB,14,FALSE),\"\")","v":""}]
[null,{"$f":"IFERROR(#REF!,\"\")","v":""},{"$f":"IFERROR(VLOOKUP(A958,'1.Портфель кредитів'!A:AB,3,FALSE),\"\")","v":""},{"$f":"IFERROR(VLOOKUP(A958,'1.Портфель кредитів'!A:AB,14,FALSE),\"\")","v":""}]
[null,{"$f":"IFERROR(#REF!,\"\")","v":""},{"$f":"IFERROR(VLOOKUP(A959,'1.Портфель кредитів'!A:AB,3,FALSE),\"\")","v":""},{"$f":"IFERROR(VLOOKUP(A959,'1.Портфель кредитів'!A:AB,14,FALSE),\"\")","v":""}]
[null,{"$f":"IFERROR(#REF!,\"\")","v":""},{"$f":"IFERROR(VLOOKUP(A960,'1.Портфель кредитів'!A:AB,3,FALSE),\"\")","v":""},{"$f":"IFERROR(VLOOKUP(A960,'1.Портфель кредитів'!A:AB,14,FALSE),\"\")","v":""}]
[null,{"$f":"IFERROR(#REF!,\"\")","v":""},{"$f":"IFERROR(VLOOKUP(A961,'1.Портфель кредитів'!A:AB,3,FALSE),\"\")","v":""},{"$f":"IFERROR(VLOOKUP(A961,'1.Портфель кредитів'!A:AB,14,FALSE),\"\")","v":""}]
[null,{"$f":"IFERROR(#REF!,\"\")","v":""},{"$f":"IFERROR(VLOOKUP(A962,'1.Портфель кредитів'!A:AB,3,FALSE),\"\")","v":""},{"$f":"IFERROR(VLOOKUP(A962,'1.Портфель кредитів'!A:AB,14,FALSE),\"\")","v":""}]
[null,{"$f":"IFERROR(#REF!,\"\")","v":""},{"$f":"IFERROR(VLOOKUP(A963,'1.Портфель кредитів'!A:AB,3,FALSE),\"\")","v":""},{"$f":"IFERROR(VLOOKUP(A963,'1.Портфель кредитів'!A:AB,14,FALSE),\"\")","v":""}]
[null,{"$f":"IFERROR(#REF!,\"\")","v":""},{"$f":"IFERROR(VLOOKUP(A964,'1.Портфель кредитів'!A:AB,3,FALSE),\"\")","v":""},{"$f":"IFERROR(VLOOKUP(A964,'1.Портфель кредитів'!A:AB,14,FALSE),\"\")","v":""}]
[null,{"$f":"IFERROR(#REF!,\"\")","v":""},{"$f":"IFERROR(VLOOKUP(A965,'1.Портфель кредитів'!A:AB,3,FALSE),\"\")","v":""},{"$f":"IFERROR(VLOOKUP(A965,'1.Портфель кредитів'!A:AB,14,FALSE),\"\")","v":""}]
[null,{"$f":"IFERROR(#REF!,\"\")","v":""},{"$f":"IFERROR(VLOOKUP(A966,'1.Портфель кредитів'!A:AB,3,FALSE),\"\")","v":""},{"$f":"IFERROR(VLOOKUP(A966,'1.Портфель кредитів'!A:AB,14,FALSE),\"\")","v":""}]
[null,{"$f":"IFERROR(#REF!,\"\")","v":""},{"$f":"IFERROR(VLOOKUP(A967,'1.Портфель кредитів'!A:AB,3,FALSE),\"\")","v":""},{"$f":"IFERROR(VLOOKUP(A967,'1.Портфель кредитів'!A:AB,14,FALSE),\"\")","v":""}]
[null,{"$f":"IFERROR(#REF!,\"\")","v":""},{"$f":"IFERROR(VLOOKUP(A968,'1.Портфель кредитів'!A:AB,3,FALSE),\"\")","v":""},{"$f":"IFERROR(VLOOKUP(A968,'1.Портфель кредитів'!A:AB,14,FALSE),\"\")","v":""}]
[null,{"$f":"IFERROR(#REF!,\"\")","v":""},{"$f":"IFERROR(VLOOKUP(A969,'1.Портфель кредитів'!A:AB,3,FALSE),\"\")","v":""},{"$f":"IFERROR(VLOOKUP(A969,'1.Портфель кредитів'!A:AB,14,FALSE),\"\")","v":""}]
[null,{"$f":"IFERROR(#REF!,\"\")","v":""},{"$f":"IFERROR(VLOOKUP(A970,'1.Портфель кредитів'!A:AB,3,FALSE),\"\")","v":""},{"$f":"IFERROR(VLOOKUP(A970,'1.Портфель кредитів'!A:AB,14,FALSE),\"\")","v":""}]
[null,{"$f":"IFERROR(#REF!,\"\")","v":""},{"$f":"IFERROR(VLOOKUP(A971,'1.Портфель кредитів'!A:AB,3,FALSE),\"\")","v":""},{"$f":"IFERROR(VLOOKUP(A971,'1.Портфель кредитів'!A:AB,14,FALSE),\"\")","v":""}]
[null,{"$f":"IFERROR(#REF!,\"\")","v":""},{"$f":"IFERROR(VLOOKUP(A972,'1.Портфель кредитів'!A:AB,3,FALSE),\"\")","v":""},{"$f":"IFERROR(VLOOKUP(A972,'1.Портфель кредитів'!A:AB,14,FALSE),\"\")","v":""}]
[null,{"$f":"IFERROR(#REF!,\"\")","v":""},{"$f":"IFERROR(VLOOKUP(A973,'1.Портфель кредитів'!A:AB,3,FALSE),\"\")","v":""},{"$f":"IFERROR(VLOOKUP(A973,'1.Портфель кредитів'!A:AB,14,FALSE),\"\")","v":""}]
[null,{"$f":"IFERROR(#REF!,\"\")","v":""},{"$f":"IFERROR(VLOOKUP(A974,'1.Портфель кредитів'!A:AB,3,FALSE),\"\")","v":""},{"$f":"IFERROR(VLOOKUP(A974,'1.Портфель кредитів'!A:AB,14,FALSE),\"\")","v":""}]
[null,{"$f":"IFERROR(#REF!,\"\")","v":""},{"$f":"IFERROR(VLOOKUP(A975,'1.Портфель кредитів'!A:AB,3,FALSE),\"\")","v":""},{"$f":"IFERROR(VLOOKUP(A975,'1.Портфель кредитів'!A:AB,14,FALSE),\"\")","v":""}]
[null,{"$f":"IFERROR(#REF!,\"\")","v":""},{"$f":"IFERROR(VLOOKUP(A976,'1.Портфель кредитів'!A:AB,3,FALSE),\"\")","v":""},{"$f":"IFERROR(VLOOKUP(A976,'1.Портфель кредитів'!A:AB,14,FALSE),\"\")","v":""}]
[null,{"$f":"IFERROR(#REF!,\"\")","v":""},{"$f":"IFERROR(VLOOKUP(A977,'1.Портфель кредитів'!A:AB,3,FALSE),\"\")","v":""},{"$f":"IFERROR(VLOOKUP(A977,'1.Портфель кредитів'!A:AB,14,FALSE),\"\")","v":""}]
[null,{"$f":"IFERROR(#REF!,\"\")","v":""},{"$f":"IFERROR(VLOOKUP(A978,'1.Портфель кредитів'!A:AB,3,FALSE),\"\")","v":""},{"$f":"IFERROR(VLOOKUP(A978,'1.Портфель кредитів'!A:AB,14,FALSE),\"\")","v":""}]
[null,{"$f":"IFERROR(#REF!,\"\")","v":""},{"$f":"IFERROR(VLOOKUP(A979,'1.Портфель кредитів'!A:AB,3,FALSE),\"\")","v":""},{"$f":"IFERROR(VLOOKUP(A979,'1.Портфель кредитів'!A:AB,14,FALSE),\"\")","v":""}]
[null,{"$f":"IFERROR(#REF!,\"\")","v":""},{"$f":"IFERROR(VLOOKUP(A980,'1.Портфель кредитів'!A:AB,3,FALSE),\"\")","v":""},{"$f":"IFERROR(VLOOKUP(A980,'1.Портфель кредитів'!A:AB,14,FALSE),\"\")","v":""}]
[null,{"$f":"IFERROR(#REF!,\"\")","v":""},{"$f":"IFERROR(VLOOKUP(A981,'1.Портфель кредитів'!A:AB,3,FALSE),\"\")","v":""},{"$f":"IFERROR(VLOOKUP(A981,'1.Портфель кредитів'!A:AB,14,FALSE),\"\")","v":""}]
[null,{"$f":"IFERROR(#REF!,\"\")","v":""},{"$f":"IFERROR(VLOOKUP(A982,'1.Портфель кредитів'!A:AB,3,FALSE),\"\")","v":""},{"$f":"IFERROR(VLOOKUP(A982,'1.Портфель кредитів'!A:AB,14,FALSE),\"\")","v":""}]
[null,{"$f":"IFERROR(#REF!,\"\")","v":""},{"$f":"IFERROR(VLOOKUP(A983,'1.Портфель кредитів'!A:AB,3,FALSE),\"\")","v":""},{"$f":"IFERROR(VLOOKUP(A983,'1.Портфель кредитів'!A:AB,14,FALSE),\"\")","v":""}]
[null,{"$f":"IFERROR(#REF!,\"\")","v":""},{"$f":"IFERROR(VLOOKUP(A984,'1.Портфель кредитів'!A:AB,3,FALSE),\"\")","v":""},{"$f":"IFERROR(VLOOKUP(A984,'1.Портфель кредитів'!A:AB,14,FALSE),\"\")","v":""}]
[null,{"$f":"IFERROR(#REF!,\"\")","v":""},{"$f":"IFERROR(VLOOKUP(A985,'1.Портфель кредитів'!A:AB,3,FALSE),\"\")","v":""},{"$f":"IFERROR(VLOOKUP(A985,'1.Портфель кредитів'!A:AB,14,FALSE),\"\")","v":""}]
[null,{"$f":"IFERROR(#REF!,\"\")","v":""},{"$f":"IFERROR(VLOOKUP(A986,'1.Портфель кредитів'!A:AB,3,FALSE),\"\")","v":""},{"$f":"IFERROR(VLOOKUP(A986,'1.Портфель кредитів'!A:AB,14,FALSE),\"\")","v":""}]
[null,{"$f":"IFERROR(#REF!,\"\")","v":""},{"$f":"IFERROR(VLOOKUP(A987,'1.Портфель кредитів'!A:AB,3,FALSE),\"\")","v":""},{"$f":"IFERROR(VLOOKUP(A987,'1.Портфель кредитів'!A:AB,14,FALSE),\"\")","v":""}]
[null,{"$f":"IFERROR(#REF!,\"\")","v":""},{"$f":"IFERROR(VLOOKUP(A988,'1.Портфель кредитів'!A:AB,3,FALSE),\"\")","v":""},{"$f":"IFERROR(VLOOKUP(A988,'1.Портфель кредитів'!A:AB,14,FALSE),\"\")","v":""}]
[null,{"$f":"IFERROR(#REF!,\"\")","v":""},{"$f":"IFERROR(VLOOKUP(A989,'1.Портфель кредитів'!A:AB,3,FALSE),\"\")","v":""},{"$f":"IFERROR(VLOOKUP(A989,'1.Портфель кредитів'!A:AB,14,FALSE),\"\")","v":""}]
[null,{"$f":"IFERROR(#REF!,\"\")","v":""},{"$f":"IFERROR(VLOOKUP(A990,'1.Портфель кредитів'!A:AB,3,FALSE),\"\")","v":""},{"$f":"IFERROR(VLOOKUP(A990,'1.Портфель кредитів'!A:AB,14,FALSE),\"\")","v":""}]
[null,{"$f":"IFERROR(#REF!,\"\")","v":""},{"$f":"IFERROR(VLOOKUP(A991,'1.Портфель кредитів'!A:AB,3,FALSE),\"\")","v":""},{"$f":"IFERROR(VLOOKUP(A991,'1.Портфель кредитів'!A:AB,14,FALSE),\"\")","v":""}]
[null,{"$f":"IFERROR(#REF!,\"\")","v":""},{"$f":"IFERROR(VLOOKUP(A992,'1.Портфель кредитів'!A:AB,3,FALSE),\"\")","v":""},{"$f":"IFERROR(VLOOKUP(A992,'1.Портфель кредитів'!A:AB,14,FALSE),\"\")","v":""}]
[null,{"$f":"IFERROR(#REF!,\"\")","v":""},{"$f":"IFERROR(VLOOKUP(A993,'1.Портфель кредитів'!A:AB,3,FALSE),\"\")","v":""},{"$f":"IFERROR(VLOOKUP(A993,'1.Портфель кредитів'!A:AB,14,FALSE),\"\")","v":""}]
[null,{"$f":"IFERROR(#REF!,\"\")","v":""},{"$f":"IFERROR(VLOOKUP(A994,'1.Портфель кредитів'!A:AB,3,FALSE),\"\")","v":""},{"$f":"IFERROR(VLOOKUP(A994,'1.Портфель кредитів'!A:AB,14,FALSE),\"\")","v":""}]
[null,{"$f":"IFERROR(#REF!,\"\")","v":""},{"$f":"IFERROR(VLOOKUP(A995,'1.Портфель кредитів'!A:AB,3,FALSE),\"\")","v":""},{"$f":"IFERROR(VLOOKUP(A995,'1.Портфель кредитів'!A:AB,14,FALSE),\"\")","v":""}]
[null,{"$f":"IFERROR(#REF!,\"\")","v":""},{"$f":"IFERROR(VLOOKUP(A996,'1.Портфель кредитів'!A:AB,3,FALSE),\"\")","v":""},{"$f":"IFERROR(VLOOKUP(A996,'1.Портфель кредитів'!A:AB,14,FALSE),\"\")","v":""}]
[null,{"$f":"IFERROR(#REF!,\"\")","v":""},{"$f":"IFERROR(VLOOKUP(A997,'1.Портфель кредитів'!A:AB,3,FALSE),\"\")","v":""},{"$f":"IFERROR(VLOOKUP(A997,'1.Портфель кредитів'!A:AB,14,FALSE),\"\")","v":""}]
[null,{"$f":"IFERROR(#REF!,\"\")","v":""},{"$f":"IFERROR(VLOOKUP(A998,'1.Портфель кредитів'!A:AB,3,FALSE),\"\")","v":""},{"$f":"IFERROR(VLOOKUP(A998,'1.Портфель кредитів'!A:AB,14,FALSE),\"\")","v":""}]
[null,{"$f":"IFERROR(#REF!,\"\")","v":""},{"$f":"IFERROR(VLOOKUP(A999,'1.Портфель кредитів'!A:AB,3,FALSE),\"\")","v":""},{"$f":"IFERROR(VLOOKUP(A999,'1.Портфель кредитів'!A:AB,14,FALSE),\"\")","v":""}]
[null,{"$f":"IFERROR(#REF!,\"\")","v":""},{"$f":"IFERROR(VLOOKUP(A1000,'1.Портфель кредитів'!A:AB,3,FALSE),\"\")","v":""},{"$f":"IFERROR(VLOOKUP(A1000,'1.Портфель кредитів'!A:AB,14,FALSE),\"\")","v":""}]
[null,{"$f":"IFERROR(#REF!,\"\")","v":""},{"$f":"IFERROR(VLOOKUP(A1001,'1.Портфель кредитів'!A:AB,3,FALSE),\"\")","v":""},{"$f":"IFERROR(VLOOKUP(A1001,'1.Портфель кредитів'!A:AB,14,FALSE),\"\")","v":""}]
[null,{"$f":"IFERROR(#REF!,\"\")","v":""},{"$f":"IFERROR(VLOOKUP(A1002,'1.Портфель кредитів'!A:AB,3,FALSE),\"\")","v":""},{"$f":"IFERROR(VLOOKUP(A1002,'1.Портфель кредитів'!A:AB,14,FALSE),\"\")","v":""}]
[null,{"$f":"IFERROR(#REF!,\"\")","v":""},{"$f":"IFERROR(VLOOKUP(A1003,'1.Портфель кредитів'!A:AB,3,FALSE),\"\")","v":""},{"$f":"IFERROR(VLOOKUP(A1003,'1.Портфель кредитів'!A:AB,14,FALSE),\"\")","v":""}]
[null,{"$f":"IFERROR(#REF!,\"\")","v":""},{"$f":"IFERROR(VLOOKUP(A1004,'1.Портфель кредитів'!A:AB,3,FALSE),\"\")","v":""},{"$f":"IFERROR(VLOOKUP(A1004,'1.Портфель кредитів'!A:AB,14,FALSE),\"\")","v":""}]
[null,{"$f":"IFERROR(#REF!,\"\")","v":""},{"$f":"IFERROR(VLOOKUP(A1005,'1.Портфель кредитів'!A:AB,3,FALSE),\"\")","v":""},{"$f":"IFERROR(VLOOKUP(A1005,'1.Портфель кредитів'!A:AB,14,FALSE),\"\")","v":""}]
[null,{"$f":"IFERROR(#REF!,\"\")","v":""},{"$f":"IFERROR(VLOOKUP(A1006,'1.Портфель кредитів'!A:AB,3,FALSE),\"\")","v":""},{"$f":"IFERROR(VLOOKUP(A1006,'1.Портфель кредитів'!A:AB,14,FALSE),\"\")","v":""}]
[null,{"$f":"IFERROR(#REF!,\"\")","v":""},{"$f":"IFERROR(VLOOKUP(A1007,'1.Портфель кредитів'!A:AB,3,FALSE),\"\")","v":""},{"$f":"IFERROR(VLOOKUP(A1007,'1.Портфель кредитів'!A:AB,14,FALSE),\"\")","v":""}]
[null,{"$f":"IFERROR(#REF!,\"\")","v":""},{"$f":"IFERROR(VLOOKUP(A1008,'1.Портфель кредитів'!A:AB,3,FALSE),\"\")","v":""},{"$f":"IFERROR(VLOOKUP(A1008,'1.Портфель кредитів'!A:AB,14,FALSE),\"\")","v":""}]
[null,{"$f":"IFERROR(#REF!,\"\")","v":""},{"$f":"IFERROR(VLOOKUP(A1009,'1.Портфель кредитів'!A:AB,3,FALSE),\"\")","v":""},{"$f":"IFERROR(VLOOKUP(A1009,'1.Портфель кредитів'!A:AB,14,FALSE),\"\")","v":""}]
[null,{"$f":"IFERROR(#REF!,\"\")","v":""},{"$f":"IFERROR(VLOOKUP(A1010,'1.Портфель кредитів'!A:AB,3,FALSE),\"\")","v":""},{"$f":"IFERROR(VLOOKUP(A1010,'1.Портфель кредитів'!A:AB,14,FALSE),\"\")","v":""}]
[null,{"$f":"IFERROR(#REF!,\"\")","v":""},{"$f":"IFERROR(VLOOKUP(A1011,'1.Портфель кредитів'!A:AB,3,FALSE),\"\")","v":""},{"$f":"IFERROR(VLOOKUP(A1011,'1.Портфель кредитів'!A:AB,14,FALSE),\"\")","v":""}]
[null,{"$f":"IFERROR(#REF!,\"\")","v":""},{"$f":"IFERROR(VLOOKUP(A1012,'1.Портфель кредитів'!A:AB,3,FALSE),\"\")","v":""},{"$f":"IFERROR(VLOOKUP(A1012,'1.Портфель кредитів'!A:AB,14,FALSE),\"\")","v":""}]
[null,{"$f":"IFERROR(#REF!,\"\")","v":""},{"$f":"IFERROR(VLOOKUP(A1013,'1.Портфель кредитів'!A:AB,3,FALSE),\"\")","v":""},{"$f":"IFERROR(VLOOKUP(A1013,'1.Портфель кредитів'!A:AB,14,FALSE),\"\")","v":""}]
[null,{"$f":"IFERROR(#REF!,\"\")","v":""},{"$f":"IFERROR(VLOOKUP(A1014,'1.Портфель кредитів'!A:AB,3,FALSE),\"\")","v":""},{"$f":"IFERROR(VLOOKUP(A1014,'1.Портфель кредитів'!A:AB,14,FALSE),\"\")","v":""}]
[null,{"$f":"IFERROR(#REF!,\"\")","v":""},{"$f":"IFERROR(VLOOKUP(A1015,'1.Портфель кредитів'!A:AB,3,FALSE),\"\")","v":""},{"$f":"IFERROR(VLOOKUP(A1015,'1.Портфель кредитів'!A:AB,14,FALSE),\"\")","v":""}]
[null,{"$f":"IFERROR(#REF!,\"\")","v":""},{"$f":"IFERROR(VLOOKUP(A1016,'1.Портфель кредитів'!A:AB,3,FALSE),\"\")","v":""},{"$f":"IFERROR(VLOOKUP(A1016,'1.Портфель кредитів'!A:AB,14,FALSE),\"\")","v":""}]
[null,{"$f":"IFERROR(#REF!,\"\")","v":""},{"$f":"IFERROR(VLOOKUP(A1017,'1.Портфель кредитів'!A:AB,3,FALSE),\"\")","v":""},{"$f":"IFERROR(VLOOKUP(A1017,'1.Портфель кредитів'!A:AB,14,FALSE),\"\")","v":""}]
[null,{"$f":"IFERROR(#REF!,\"\")","v":""},{"$f":"IFERROR(VLOOKUP(A1018,'1.Портфель кредитів'!A:AB,3,FALSE),\"\")","v":""},{"$f":"IFERROR(VLOOKUP(A1018,'1.Портфель кредитів'!A:AB,14,FALSE),\"\")","v":""}]
[null,{"$f":"IFERROR(#REF!,\"\")","v":""},{"$f":"IFERROR(VLOOKUP(A1019,'1.Портфель кредитів'!A:AB,3,FALSE),\"\")","v":""},{"$f":"IFERROR(VLOOKUP(A1019,'1.Портфель кредитів'!A:AB,14,FALSE),\"\")","v":""}]
[null,{"$f":"IFERROR(#REF!,\"\")","v":""},{"$f":"IFERROR(VLOOKUP(A1020,'1.Портфель кредитів'!A:AB,3,FALSE),\"\")","v":""},{"$f":"IFERROR(VLOOKUP(A1020,'1.Портфель кредитів'!A:AB,14,FALSE),\"\")","v":""}]
[null,{"$f":"IFERROR(#REF!,\"\")","v":""},{"$f":"IFERROR(VLOOKUP(A1021,'1.Портфель кредитів'!A:AB,3,FALSE),\"\")","v":""},{"$f":"IFERROR(VLOOKUP(A1021,'1.Портфель кредитів'!A:AB,14,FALSE),\"\")","v":""}]
[null,{"$f":"IFERROR(#REF!,\"\")","v":""},{"$f":"IFERROR(VLOOKUP(A1022,'1.Портфель кредитів'!A:AB,3,FALSE),\"\")","v":""},{"$f":"IFERROR(VLOOKUP(A1022,'1.Портфель кредитів'!A:AB,14,FALSE),\"\")","v":""}]
[null,{"$f":"IFERROR(#REF!,\"\")","v":""},{"$f":"IFERROR(VLOOKUP(A1023,'1.Портфель кредитів'!A:AB,3,FALSE),\"\")","v":""},{"$f":"IFERROR(VLOOKUP(A1023,'1.Портфель кредитів'!A:AB,14,FALSE),\"\")","v":""}]
[null,{"$f":"IFERROR(#REF!,\"\")","v":""},{"$f":"IFERROR(VLOOKUP(A1024,'1.Портфель кредитів'!A:AB,3,FALSE),\"\")","v":""},{"$f":"IFERROR(VLOOKUP(A1024,'1.Портфель кредитів'!A:AB,14,FALSE),\"\")","v":""}]
[null,{"$f":"IFERROR(#REF!,\"\")","v":""},{"$f":"IFERROR(VLOOKUP(A1025,'1.Портфель кредитів'!A:AB,3,FALSE),\"\")","v":""},{"$f":"IFERROR(VLOOKUP(A1025,'1.Портфель кредитів'!A:AB,14,FALSE),\"\")","v":""}]
[null,{"$f":"IFERROR(#REF!,\"\")","v":""},{"$f":"IFERROR(VLOOKUP(A1026,'1.Портфель кредитів'!A:AB,3,FALSE),\"\")","v":""},{"$f":"IFERROR(VLOOKUP(A1026,'1.Портфель кредитів'!A:AB,14,FALSE),\"\")","v":""}]
[null,{"$f":"IFERROR(#REF!,\"\")","v":""},{"$f":"IFERROR(VLOOKUP(A1027,'1.Портфель кредитів'!A:AB,3,FALSE),\"\")","v":""},{"$f":"IFERROR(VLOOKUP(A1027,'1.Портфель кредитів'!A:AB,14,FALSE),\"\")","v":""}]
[null,{"$f":"IFERROR(#REF!,\"\")","v":""},{"$f":"IFERROR(VLOOKUP(A1028,'1.Портфель кредитів'!A:AB,3,FALSE),\"\")","v":""},{"$f":"IFERROR(VLOOKUP(A1028,'1.Портфель кредитів'!A:AB,14,FALSE),\"\")","v":""}]
[null,{"$f":"IFERROR(#REF!,\"\")","v":""},{"$f":"IFERROR(VLOOKUP(A1029,'1.Портфель кредитів'!A:AB,3,FALSE),\"\")","v":""},{"$f":"IFERROR(VLOOKUP(A1029,'1.Портфель кредитів'!A:AB,14,FALSE),\"\")","v":""}]
[null,{"$f":"IFERROR(#REF!,\"\")","v":""},{"$f":"IFERROR(VLOOKUP(A1030,'1.Портфель кредитів'!A:AB,3,FALSE),\"\")","v":""},{"$f":"IFERROR(VLOOKUP(A1030,'1.Портфель кредитів'!A:AB,14,FALSE),\"\")","v":""}]
[null,{"$f":"IFERROR(#REF!,\"\")","v":""},{"$f":"IFERROR(VLOOKUP(A1031,'1.Портфель кредитів'!A:AB,3,FALSE),\"\")","v":""},{"$f":"IFERROR(VLOOKUP(A1031,'1.Портфель кредитів'!A:AB,14,FALSE),\"\")","v":""}]
[null,{"$f":"IFERROR(#REF!,\"\")","v":""},{"$f":"IFERROR(VLOOKUP(A1032,'1.Портфель кредитів'!A:AB,3,FALSE),\"\")","v":""},{"$f":"IFERROR(VLOOKUP(A1032,'1.Портфель кредитів'!A:AB,14,FALSE),\"\")","v":""}]
[null,{"$f":"IFERROR(#REF!,\"\")","v":""},{"$f":"IFERROR(VLOOKUP(A1033,'1.Портфель кредитів'!A:AB,3,FALSE),\"\")","v":""},{"$f":"IFERROR(VLOOKUP(A1033,'1.Портфель кредитів'!A:AB,14,FALSE),\"\")","v":""}]
[null,{"$f":"IFERROR(#REF!,\"\")","v":""},{"$f":"IFERROR(VLOOKUP(A1034,'1.Портфель кредитів'!A:AB,3,FALSE),\"\")","v":""},{"$f":"IFERROR(VLOOKUP(A1034,'1.Портфель кредитів'!A:AB,14,FALSE),\"\")","v":""}]
[null,{"$f":"IFERROR(#REF!,\"\")","v":""},{"$f":"IFERROR(VLOOKUP(A1035,'1.Портфель кредитів'!A:AB,3,FALSE),\"\")","v":""},{"$f":"IFERROR(VLOOKUP(A1035,'1.Портфель кредитів'!A:AB,14,FALSE),\"\")","v":""}]
[null,{"$f":"IFERROR(#REF!,\"\")","v":""},{"$f":"IFERROR(VLOOKUP(A1036,'1.Портфель кредитів'!A:AB,3,FALSE),\"\")","v":""},{"$f":"IFERROR(VLOOKUP(A1036,'1.Портфель кредитів'!A:AB,14,FALSE),\"\")","v":""}]
[null,{"$f":"IFERROR(#REF!,\"\")","v":""},{"$f":"IFERROR(VLOOKUP(A1037,'1.Портфель кредитів'!A:AB,3,FALSE),\"\")","v":""},{"$f":"IFERROR(VLOOKUP(A1037,'1.Портфель кредитів'!A:AB,14,FALSE),\"\")","v":""}]
[null,{"$f":"IFERROR(#REF!,\"\")","v":""},{"$f":"IFERROR(VLOOKUP(A1038,'1.Портфель кредитів'!A:AB,3,FALSE),\"\")","v":""},{"$f":"IFERROR(VLOOKUP(A1038,'1.Портфель кредитів'!A:AB,14,FALSE),\"\")","v":""}]
[null,{"$f":"IFERROR(#REF!,\"\")","v":""},{"$f":"IFERROR(VLOOKUP(A1039,'1.Портфель кредитів'!A:AB,3,FALSE),\"\")","v":""},{"$f":"IFERROR(VLOOKUP(A1039,'1.Портфель кредитів'!A:AB,14,FALSE),\"\")","v":""}]
[null,{"$f":"IFERROR(#REF!,\"\")","v":""},{"$f":"IFERROR(VLOOKUP(A1040,'1.Портфель кредитів'!A:AB,3,FALSE),\"\")","v":""},{"$f":"IFERROR(VLOOKUP(A1040,'1.Портфель кредитів'!A:AB,14,FALSE),\"\")","v":""}]
[null,{"$f":"IFERROR(#REF!,\"\")","v":""},{"$f":"IFERROR(VLOOKUP(A1041,'1.Портфель кредитів'!A:AB,3,FALSE),\"\")","v":""},{"$f":"IFERROR(VLOOKUP(A1041,'1.Портфель кредитів'!A:AB,14,FALSE),\"\")","v":""}]
[null,{"$f":"IFERROR(#REF!,\"\")","v":""},{"$f":"IFERROR(VLOOKUP(A1042,'1.Портфель кредитів'!A:AB,3,FALSE),\"\")","v":""},{"$f":"IFERROR(VLOOKUP(A1042,'1.Портфель кредитів'!A:AB,14,FALSE),\"\")","v":""}]
[null,{"$f":"IFERROR(#REF!,\"\")","v":""},{"$f":"IFERROR(VLOOKUP(A1043,'1.Портфель кредитів'!A:AB,3,FALSE),\"\")","v":""},{"$f":"IFERROR(VLOOKUP(A1043,'1.Портфель кредитів'!A:AB,14,FALSE),\"\")","v":""}]
[null,{"$f":"IFERROR(#REF!,\"\")","v":""},{"$f":"IFERROR(VLOOKUP(A1044,'1.Портфель кредитів'!A:AB,3,FALSE),\"\")","v":""},{"$f":"IFERROR(VLOOKUP(A1044,'1.Портфель кредитів'!A:AB,14,FALSE),\"\")","v":""}]
[null,{"$f":"IFERROR(#REF!,\"\")","v":""},{"$f":"IFERROR(VLOOKUP(A1045,'1.Портфель кредитів'!A:AB,3,FALSE),\"\")","v":""},{"$f":"IFERROR(VLOOKUP(A1045,'1.Портфель кредитів'!A:AB,14,FALSE),\"\")","v":""}]
[null,{"$f":"IFERROR(#REF!,\"\")","v":""},{"$f":"IFERROR(VLOOKUP(A1046,'1.Портфель кредитів'!A:AB,3,FALSE),\"\")","v":""},{"$f":"IFERROR(VLOOKUP(A1046,'1.Портфель кредитів'!A:AB,14,FALSE),\"\")","v":""}]
[null,{"$f":"IFERROR(#REF!,\"\")","v":""},{"$f":"IFERROR(VLOOKUP(A1047,'1.Портфель кредитів'!A:AB,3,FALSE),\"\")","v":""},{"$f":"IFERROR(VLOOKUP(A1047,'1.Портфель кредитів'!A:AB,14,FALSE),\"\")","v":""}]
[null,{"$f":"IFERROR(#REF!,\"\")","v":""},{"$f":"IFERROR(VLOOKUP(A1048,'1.Портфель кредитів'!A:AB,3,FALSE),\"\")","v":""},{"$f":"IFERROR(VLOOKUP(A1048,'1.Портфель кредитів'!A:AB,14,FALSE),\"\")","v":""}]
[null,{"$f":"IFERROR(#REF!,\"\")","v":""},{"$f":"IFERROR(VLOOKUP(A1049,'1.Портфель кредитів'!A:AB,3,FALSE),\"\")","v":""},{"$f":"IFERROR(VLOOKUP(A1049,'1.Портфель кредитів'!A:AB,14,FALSE),\"\")","v":""}]
[null,{"$f":"IFERROR(#REF!,\"\")","v":""},{"$f":"IFERROR(VLOOKUP(A1050,'1.Портфель кредитів'!A:AB,3,FALSE),\"\")","v":""},{"$f":"IFERROR(VLOOKUP(A1050,'1.Портфель кредитів'!A:AB,14,FALSE),\"\")","v":""}]
[null,{"$f":"IFERROR(#REF!,\"\")","v":""},{"$f":"IFERROR(VLOOKUP(A1051,'1.Портфель кредитів'!A:AB,3,FALSE),\"\")","v":""},{"$f":"IFERROR(VLOOKUP(A1051,'1.Портфель кредитів'!A:AB,14,FALSE),\"\")","v":""}]
[null,{"$f":"IFERROR(#REF!,\"\")","v":""},{"$f":"IFERROR(VLOOKUP(A1052,'1.Портфель кредитів'!A:AB,3,FALSE),\"\")","v":""},{"$f":"IFERROR(VLOOKUP(A1052,'1.Портфель кредитів'!A:AB,14,FALSE),\"\")","v":""}]
[null,{"$f":"IFERROR(#REF!,\"\")","v":""},{"$f":"IFERROR(VLOOKUP(A1053,'1.Портфель кредитів'!A:AB,3,FALSE),\"\")","v":""},{"$f":"IFERROR(VLOOKUP(A1053,'1.Портфель кредитів'!A:AB,14,FALSE),\"\")","v":""}]
[null,{"$f":"IFERROR(#REF!,\"\")","v":""},{"$f":"IFERROR(VLOOKUP(A1054,'1.Портфель кредитів'!A:AB,3,FALSE),\"\")","v":""},{"$f":"IFERROR(VLOOKUP(A1054,'1.Портфель кредитів'!A:AB,14,FALSE),\"\")","v":""}]
[null,{"$f":"IFERROR(#REF!,\"\")","v":""},{"$f":"IFERROR(VLOOKUP(A1055,'1.Портфель кредитів'!A:AB,3,FALSE),\"\")","v":""},{"$f":"IFERROR(VLOOKUP(A1055,'1.Портфель кредитів'!A:AB,14,FALSE),\"\")","v":""}]
[null,{"$f":"IFERROR(#REF!,\"\")","v":""},{"$f":"IFERROR(VLOOKUP(A1056,'1.Портфель кредитів'!A:AB,3,FALSE),\"\")","v":""},{"$f":"IFERROR(VLOOKUP(A1056,'1.Портфель кредитів'!A:AB,14,FALSE),\"\")","v":""}]
[null,{"$f":"IFERROR(#REF!,\"\")","v":""},{"$f":"IFERROR(VLOOKUP(A1057,'1.Портфель кредитів'!A:AB,3,FALSE),\"\")","v":""},{"$f":"IFERROR(VLOOKUP(A1057,'1.Портфель кредитів'!A:AB,14,FALSE),\"\")","v":""}]
[null,{"$f":"IFERROR(#REF!,\"\")","v":""},{"$f":"IFERROR(VLOOKUP(A1058,'1.Портфель кредитів'!A:AB,3,FALSE),\"\")","v":""},{"$f":"IFERROR(VLOOKUP(A1058,'1.Портфель кредитів'!A:AB,14,FALSE),\"\")","v":""}]
[null,{"$f":"IFERROR(#REF!,\"\")","v":""},{"$f":"IFERROR(VLOOKUP(A1059,'1.Портфель кредитів'!A:AB,3,FALSE),\"\")","v":""},{"$f":"IFERROR(VLOOKUP(A1059,'1.Портфель кредитів'!A:AB,14,FALSE),\"\")","v":""}]
[null,{"$f":"IFERROR(#REF!,\"\")","v":""},{"$f":"IFERROR(VLOOKUP(A1060,'1.Портфель кредитів'!A:AB,3,FALSE),\"\")","v":""},{"$f":"IFERROR(VLOOKUP(A1060,'1.Портфель кредитів'!A:AB,14,FALSE),\"\")","v":""}]
[null,{"$f":"IFERROR(#REF!,\"\")","v":""},{"$f":"IFERROR(VLOOKUP(A1061,'1.Портфель кредитів'!A:AB,3,FALSE),\"\")","v":""},{"$f":"IFERROR(VLOOKUP(A1061,'1.Портфель кредитів'!A:AB,14,FALSE),\"\")","v":""}]
[null,{"$f":"IFERROR(#REF!,\"\")","v":""},{"$f":"IFERROR(VLOOKUP(A1062,'1.Портфель кредитів'!A:AB,3,FALSE),\"\")","v":""},{"$f":"IFERROR(VLOOKUP(A1062,'1.Портфель кредитів'!A:AB,14,FALSE),\"\")","v":""}]
[null,{"$f":"IFERROR(#REF!,\"\")","v":""},{"$f":"IFERROR(VLOOKUP(A1063,'1.Портфель кредитів'!A:AB,3,FALSE),\"\")","v":""},{"$f":"IFERROR(VLOOKUP(A1063,'1.Портфель кредитів'!A:AB,14,FALSE),\"\")","v":""}]
[null,{"$f":"IFERROR(#REF!,\"\")","v":""},{"$f":"IFERROR(VLOOKUP(A1064,'1.Портфель кредитів'!A:AB,3,FALSE),\"\")","v":""},{"$f":"IFERROR(VLOOKUP(A1064,'1.Портфель кредитів'!A:AB,14,FALSE),\"\")","v":""}]
[null,{"$f":"IFERROR(#REF!,\"\")","v":""},{"$f":"IFERROR(VLOOKUP(A1065,'1.Портфель кредитів'!A:AB,3,FALSE),\"\")","v":""},{"$f":"IFERROR(VLOOKUP(A1065,'1.Портфель кредитів'!A:AB,14,FALSE),\"\")","v":""}]
[null,{"$f":"IFERROR(#REF!,\"\")","v":""},{"$f":"IFERROR(VLOOKUP(A1066,'1.Портфель кредитів'!A:AB,3,FALSE),\"\")","v":""},{"$f":"IFERROR(VLOOKUP(A1066,'1.Портфель кредитів'!A:AB,14,FALSE),\"\")","v":""}]
[null,{"$f":"IFERROR(#REF!,\"\")","v":""},{"$f":"IFERROR(VLOOKUP(A1067,'1.Портфель кредитів'!A:AB,3,FALSE),\"\")","v":""},{"$f":"IFERROR(VLOOKUP(A1067,'1.Портфель кредитів'!A:AB,14,FALSE),\"\")","v":""}]
[null,{"$f":"IFERROR(#REF!,\"\")","v":""},{"$f":"IFERROR(VLOOKUP(A1068,'1.Портфель кредитів'!A:AB,3,FALSE),\"\")","v":""},{"$f":"IFERROR(VLOOKUP(A1068,'1.Портфель кредитів'!A:AB,14,FALSE),\"\")","v":""}]
[null,{"$f":"IFERROR(#REF!,\"\")","v":""},{"$f":"IFERROR(VLOOKUP(A1069,'1.Портфель кредитів'!A:AB,3,FALSE),\"\")","v":""},{"$f":"IFERROR(VLOOKUP(A1069,'1.Портфель кредитів'!A:AB,14,FALSE),\"\")","v":""}]
[null,{"$f":"IFERROR(#REF!,\"\")","v":""},{"$f":"IFERROR(VLOOKUP(A1070,'1.Портфель кредитів'!A:AB,3,FALSE),\"\")","v":""},{"$f":"IFERROR(VLOOKUP(A1070,'1.Портфель кредитів'!A:AB,14,FALSE),\"\")","v":""}]
[null,{"$f":"IFERROR(#REF!,\"\")","v":""},{"$f":"IFERROR(VLOOKUP(A1071,'1.Портфель кредитів'!A:AB,3,FALSE),\"\")","v":""},{"$f":"IFERROR(VLOOKUP(A1071,'1.Портфель кредитів'!A:AB,14,FALSE),\"\")","v":""}]
[null,{"$f":"IFERROR(#REF!,\"\")","v":""},{"$f":"IFERROR(VLOOKUP(A1072,'1.Портфель кредитів'!A:AB,3,FALSE),\"\")","v":""},{"$f":"IFERROR(VLOOKUP(A1072,'1.Портфель кредитів'!A:AB,14,FALSE),\"\")","v":""}]
[null,{"$f":"IFERROR(#REF!,\"\")","v":""},{"$f":"IFERROR(VLOOKUP(A1073,'1.Портфель кредитів'!A:AB,3,FALSE),\"\")","v":""},{"$f":"IFERROR(VLOOKUP(A1073,'1.Портфель кредитів'!A:AB,14,FALSE),\"\")","v":""}]
[null,{"$f":"IFERROR(#REF!,\"\")","v":""},{"$f":"IFERROR(VLOOKUP(A1074,'1.Портфель кредитів'!A:AB,3,FALSE),\"\")","v":""},{"$f":"IFERROR(VLOOKUP(A1074,'1.Портфель кредитів'!A:AB,14,FALSE),\"\")","v":""}]
[null,{"$f":"IFERROR(#REF!,\"\")","v":""},{"$f":"IFERROR(VLOOKUP(A1075,'1.Портфель кредитів'!A:AB,3,FALSE),\"\")","v":""},{"$f":"IFERROR(VLOOKUP(A1075,'1.Портфель кредитів'!A:AB,14,FALSE),\"\")","v":""}]
[null,{"$f":"IFERROR(#REF!,\"\")","v":""},{"$f":"IFERROR(VLOOKUP(A1076,'1.Портфель кредитів'!A:AB,3,FALSE),\"\")","v":""},{"$f":"IFERROR(VLOOKUP(A1076,'1.Портфель кредитів'!A:AB,14,FALSE),\"\")","v":""}]
[null,{"$f":"IFERROR(#REF!,\"\")","v":""},{"$f":"IFERROR(VLOOKUP(A1077,'1.Портфель кредитів'!A:AB,3,FALSE),\"\")","v":""},{"$f":"IFERROR(VLOOKUP(A1077,'1.Портфель кредитів'!A:AB,14,FALSE),\"\")","v":""}]
[null,{"$f":"IFERROR(#REF!,\"\")","v":""},{"$f":"IFERROR(VLOOKUP(A1078,'1.Портфель кредитів'!A:AB,3,FALSE),\"\")","v":""},{"$f":"IFERROR(VLOOKUP(A1078,'1.Портфель кредитів'!A:AB,14,FALSE),\"\")","v":""}]
[null,{"$f":"IFERROR(#REF!,\"\")","v":""},{"$f":"IFERROR(VLOOKUP(A1079,'1.Портфель кредитів'!A:AB,3,FALSE),\"\")","v":""},{"$f":"IFERROR(VLOOKUP(A1079,'1.Портфель кредитів'!A:AB,14,FALSE),\"\")","v":""}]
[null,{"$f":"IFERROR(#REF!,\"\")","v":""},{"$f":"IFERROR(VLOOKUP(A1080,'1.Портфель кредитів'!A:AB,3,FALSE),\"\")","v":""},{"$f":"IFERROR(VLOOKUP(A1080,'1.Портфель кредитів'!A:AB,14,FALSE),\"\")","v":""}]
[null,{"$f":"IFERROR(#REF!,\"\")","v":""},{"$f":"IFERROR(VLOOKUP(A1081,'1.Портфель кредитів'!A:AB,3,FALSE),\"\")","v":""},{"$f":"IFERROR(VLOOKUP(A1081,'1.Портфель кредитів'!A:AB,14,FALSE),\"\")","v":""}]
[null,{"$f":"IFERROR(#REF!,\"\")","v":""},{"$f":"IFERROR(VLOOKUP(A1082,'1.Портфель кредитів'!A:AB,3,FALSE),\"\")","v":""},{"$f":"IFERROR(VLOOKUP(A1082,'1.Портфель кредитів'!A:AB,14,FALSE),\"\")","v":""}]
[null,{"$f":"IFERROR(#REF!,\"\")","v":""},{"$f":"IFERROR(VLOOKUP(A1083,'1.Портфель кредитів'!A:AB,3,FALSE),\"\")","v":""},{"$f":"IFERROR(VLOOKUP(A1083,'1.Портфель кредитів'!A:AB,14,FALSE),\"\")","v":""}]
[null,{"$f":"IFERROR(#REF!,\"\")","v":""},{"$f":"IFERROR(VLOOKUP(A1084,'1.Портфель кредитів'!A:AB,3,FALSE),\"\")","v":""},{"$f":"IFERROR(VLOOKUP(A1084,'1.Портфель кредитів'!A:AB,14,FALSE),\"\")","v":""}]
[null,{"$f":"IFERROR(#REF!,\"\")","v":""},{"$f":"IFERROR(VLOOKUP(A1085,'1.Портфель кредитів'!A:AB,3,FALSE),\"\")","v":""},{"$f":"IFERROR(VLOOKUP(A1085,'1.Портфель кредитів'!A:AB,14,FALSE),\"\")","v":""}]
[null,{"$f":"IFERROR(#REF!,\"\")","v":""},{"$f":"IFERROR(VLOOKUP(A1086,'1.Портфель кредитів'!A:AB,3,FALSE),\"\")","v":""},{"$f":"IFERROR(VLOOKUP(A1086,'1.Портфель кредитів'!A:AB,14,FALSE),\"\")","v":""}]
[null,{"$f":"IFERROR(#REF!,\"\")","v":""},{"$f":"IFERROR(VLOOKUP(A1087,'1.Портфель кредитів'!A:AB,3,FALSE),\"\")","v":""},{"$f":"IFERROR(VLOOKUP(A1087,'1.Портфель кредитів'!A:AB,14,FALSE),\"\")","v":""}]
[null,{"$f":"IFERROR(#REF!,\"\")","v":""},{"$f":"IFERROR(VLOOKUP(A1088,'1.Портфель кредитів'!A:AB,3,FALSE),\"\")","v":""},{"$f":"IFERROR(VLOOKUP(A1088,'1.Портфель кредитів'!A:AB,14,FALSE),\"\")","v":""}]
[null,{"$f":"IFERROR(#REF!,\"\")","v":""},{"$f":"IFERROR(VLOOKUP(A1089,'1.Портфель кредитів'!A:AB,3,FALSE),\"\")","v":""},{"$f":"IFERROR(VLOOKUP(A1089,'1.Портфель кредитів'!A:AB,14,FALSE),\"\")","v":""}]
[null,{"$f":"IFERROR(#REF!,\"\")","v":""},{"$f":"IFERROR(VLOOKUP(A1090,'1.Портфель кредитів'!A:AB,3,FALSE),\"\")","v":""},{"$f":"IFERROR(VLOOKUP(A1090,'1.Портфель кредитів'!A:AB,14,FALSE),\"\")","v":""}]
[null,{"$f":"IFERROR(#REF!,\"\")","v":""},{"$f":"IFERROR(VLOOKUP(A1091,'1.Портфель кредитів'!A:AB,3,FALSE),\"\")","v":""},{"$f":"IFERROR(VLOOKUP(A1091,'1.Портфель кредитів'!A:AB,14,FALSE),\"\")","v":""}]
[null,{"$f":"IFERROR(#REF!,\"\")","v":""},{"$f":"IFERROR(VLOOKUP(A1092,'1.Портфель кредитів'!A:AB,3,FALSE),\"\")","v":""},{"$f":"IFERROR(VLOOKUP(A1092,'1.Портфель кредитів'!A:AB,14,FALSE),\"\")","v":""}]
[null,{"$f":"IFERROR(#REF!,\"\")","v":""},{"$f":"IFERROR(VLOOKUP(A1093,'1.Портфель кредитів'!A:AB,3,FALSE),\"\")","v":""},{"$f":"IFERROR(VLOOKUP(A1093,'1.Портфель кредитів'!A:AB,14,FALSE),\"\")","v":""}]
[null,{"$f":"IFERROR(#REF!,\"\")","v":""},{"$f":"IFERROR(VLOOKUP(A1094,'1.Портфель кредитів'!A:AB,3,FALSE),\"\")","v":""},{"$f":"IFERROR(VLOOKUP(A1094,'1.Портфель кредитів'!A:AB,14,FALSE),\"\")","v":""}]
[null,{"$f":"IFERROR(#REF!,\"\")","v":""},{"$f":"IFERROR(VLOOKUP(A1095,'1.Портфель кредитів'!A:AB,3,FALSE),\"\")","v":""},{"$f":"IFERROR(VLOOKUP(A1095,'1.Портфель кредитів'!A:AB,14,FALSE),\"\")","v":""}]
[null,{"$f":"IFERROR(#REF!,\"\")","v":""},{"$f":"IFERROR(VLOOKUP(A1096,'1.Портфель кредитів'!A:AB,3,FALSE),\"\")","v":""},{"$f":"IFERROR(VLOOKUP(A1096,'1.Портфель кредитів'!A:AB,14,FALSE),\"\")","v":""}]
[null,{"$f":"IFERROR(#REF!,\"\")","v":""},{"$f":"IFERROR(VLOOKUP(A1097,'1.Портфель кредитів'!A:AB,3,FALSE),\"\")","v":""},{"$f":"IFERROR(VLOOKUP(A1097,'1.Портфель кредитів'!A:AB,14,FALSE),\"\")","v":""}]
[null,{"$f":"IFERROR(#REF!,\"\")","v":""},{"$f":"IFERROR(VLOOKUP(A1098,'1.Портфель кредитів'!A:AB,3,FALSE),\"\")","v":""},{"$f":"IFERROR(VLOOKUP(A1098,'1.Портфель кредитів'!A:AB,14,FALSE),\"\")","v":""}]
[null,{"$f":"IFERROR(#REF!,\"\")","v":""},{"$f":"IFERROR(VLOOKUP(A1099,'1.Портфель кредитів'!A:AB,3,FALSE),\"\")","v":""},{"$f":"IFERROR(VLOOKUP(A1099,'1.Портфель кредитів'!A:AB,14,FALSE),\"\")","v":""}]
[null,{"$f":"IFERROR(#REF!,\"\")","v":""},{"$f":"IFERROR(VLOOKUP(A1100,'1.Портфель кредитів'!A:AB,3,FALSE),\"\")","v":""},{"$f":"IFERROR(VLOOKUP(A1100,'1.Портфель кредитів'!A:AB,14,FALSE),\"\")","v":""}]
[null,{"$f":"IFERROR(#REF!,\"\")","v":""},{"$f":"IFERROR(VLOOKUP(A1101,'1.Портфель кредитів'!A:AB,3,FALSE),\"\")","v":""},{"$f":"IFERROR(VLOOKUP(A1101,'1.Портфель кредитів'!A:AB,14,FALSE),\"\")","v":""}]
[null,{"$f":"IFERROR(#REF!,\"\")","v":""},{"$f":"IFERROR(VLOOKUP(A1102,'1.Портфель кредитів'!A:AB,3,FALSE),\"\")","v":""},{"$f":"IFERROR(VLOOKUP(A1102,'1.Портфель кредитів'!A:AB,14,FALSE),\"\")","v":""}]
[null,{"$f":"IFERROR(#REF!,\"\")","v":""},{"$f":"IFERROR(VLOOKUP(A1103,'1.Портфель кредитів'!A:AB,3,FALSE),\"\")","v":""},{"$f":"IFERROR(VLOOKUP(A1103,'1.Портфель кредитів'!A:AB,14,FALSE),\"\")","v":""}]
[null,{"$f":"IFERROR(#REF!,\"\")","v":""},{"$f":"IFERROR(VLOOKUP(A1104,'1.Портфель кредитів'!A:AB,3,FALSE),\"\")","v":""},{"$f":"IFERROR(VLOOKUP(A1104,'1.Портфель кредитів'!A:AB,14,FALSE),\"\")","v":""}]
[null,{"$f":"IFERROR(#REF!,\"\")","v":""},{"$f":"IFERROR(VLOOKUP(A1105,'1.Портфель кредитів'!A:AB,3,FALSE),\"\")","v":""},{"$f":"IFERROR(VLOOKUP(A1105,'1.Портфель кредитів'!A:AB,14,FALSE),\"\")","v":""}]
[null,{"$f":"IFERROR(#REF!,\"\")","v":""},{"$f":"IFERROR(VLOOKUP(A1106,'1.Портфель кредитів'!A:AB,3,FALSE),\"\")","v":""},{"$f":"IFERROR(VLOOKUP(A1106,'1.Портфель кредитів'!A:AB,14,FALSE),\"\")","v":""}]
[null,{"$f":"IFERROR(#REF!,\"\")","v":""},{"$f":"IFERROR(VLOOKUP(A1107,'1.Портфель кредитів'!A:AB,3,FALSE),\"\")","v":""},{"$f":"IFERROR(VLOOKUP(A1107,'1.Портфель кредитів'!A:AB,14,FALSE),\"\")","v":""}]
[null,{"$f":"IFERROR(#REF!,\"\")","v":""},{"$f":"IFERROR(VLOOKUP(A1108,'1.Портфель кредитів'!A:AB,3,FALSE),\"\")","v":""},{"$f":"IFERROR(VLOOKUP(A1108,'1.Портфель кредитів'!A:AB,14,FALSE),\"\")","v":""}]
[null,{"$f":"IFERROR(#REF!,\"\")","v":""},{"$f":"IFERROR(VLOOKUP(A1109,'1.Портфель кредитів'!A:AB,3,FALSE),\"\")","v":""},{"$f":"IFERROR(VLOOKUP(A1109,'1.Портфель кредитів'!A:AB,14,FALSE),\"\")","v":""}]
[null,{"$f":"IFERROR(#REF!,\"\")","v":""},{"$f":"IFERROR(VLOOKUP(A1110,'1.Портфель кредитів'!A:AB,3,FALSE),\"\")","v":""},{"$f":"IFERROR(VLOOKUP(A1110,'1.Портфель кредитів'!A:AB,14,FALSE),\"\")","v":""}]
[null,{"$f":"IFERROR(#REF!,\"\")","v":""},{"$f":"IFERROR(VLOOKUP(A1111,'1.Портфель кредитів'!A:AB,3,FALSE),\"\")","v":""},{"$f":"IFERROR(VLOOKUP(A1111,'1.Портфель кредитів'!A:AB,14,FALSE),\"\")","v":""}]
[null,{"$f":"IFERROR(#REF!,\"\")","v":""},{"$f":"IFERROR(VLOOKUP(A1112,'1.Портфель кредитів'!A:AB,3,FALSE),\"\")","v":""},{"$f":"IFERROR(VLOOKUP(A1112,'1.Портфель кредитів'!A:AB,14,FALSE),\"\")","v":""}]
[null,{"$f":"IFERROR(#REF!,\"\")","v":""},{"$f":"IFERROR(VLOOKUP(A1113,'1.Портфель кредитів'!A:AB,3,FALSE),\"\")","v":""},{"$f":"IFERROR(VLOOKUP(A1113,'1.Портфель кредитів'!A:AB,14,FALSE),\"\")","v":""}]
[null,{"$f":"IFERROR(#REF!,\"\")","v":""},{"$f":"IFERROR(VLOOKUP(A1114,'1.Портфель кредитів'!A:AB,3,FALSE),\"\")","v":""},{"$f":"IFERROR(VLOOKUP(A1114,'1.Портфель кредитів'!A:AB,14,FALSE),\"\")","v":""}]
[null,{"$f":"IFERROR(#REF!,\"\")","v":""},{"$f":"IFERROR(VLOOKUP(A1115,'1.Портфель кредитів'!A:AB,3,FALSE),\"\")","v":""},{"$f":"IFERROR(VLOOKUP(A1115,'1.Портфель кредитів'!A:AB,14,FALSE),\"\")","v":""}]
[null,{"$f":"IFERROR(#REF!,\"\")","v":""},{"$f":"IFERROR(VLOOKUP(A1116,'1.Портфель кредитів'!A:AB,3,FALSE),\"\")","v":""},{"$f":"IFERROR(VLOOKUP(A1116,'1.Портфель кредитів'!A:AB,14,FALSE),\"\")","v":""}]
[null,{"$f":"IFERROR(#REF!,\"\")","v":""},{"$f":"IFERROR(VLOOKUP(A1117,'1.Портфель кредитів'!A:AB,3,FALSE),\"\")","v":""},{"$f":"IFERROR(VLOOKUP(A1117,'1.Портфель кредитів'!A:AB,14,FALSE),\"\")","v":""}]
[null,{"$f":"IFERROR(#REF!,\"\")","v":""},{"$f":"IFERROR(VLOOKUP(A1118,'1.Портфель кредитів'!A:AB,3,FALSE),\"\")","v":""},{"$f":"IFERROR(VLOOKUP(A1118,'1.Портфель кредитів'!A:AB,14,FALSE),\"\")","v":""}]
[null,{"$f":"IFERROR(#REF!,\"\")","v":""},{"$f":"IFERROR(VLOOKUP(A1119,'1.Портфель кредитів'!A:AB,3,FALSE),\"\")","v":""},{"$f":"IFERROR(VLOOKUP(A1119,'1.Портфель кредитів'!A:AB,14,FALSE),\"\")","v":""}]
[null,{"$f":"IFERROR(#REF!,\"\")","v":""},{"$f":"IFERROR(VLOOKUP(A1120,'1.Портфель кредитів'!A:AB,3,FALSE),\"\")","v":""},{"$f":"IFERROR(VLOOKUP(A1120,'1.Портфель кредитів'!A:AB,14,FALSE),\"\")","v":""}]
[null,{"$f":"IFERROR(#REF!,\"\")","v":""},{"$f":"IFERROR(VLOOKUP(A1121,'1.Портфель кредитів'!A:AB,3,FALSE),\"\")","v":""},{"$f":"IFERROR(VLOOKUP(A1121,'1.Портфель кредитів'!A:AB,14,FALSE),\"\")","v":""}]
[null,{"$f":"IFERROR(#REF!,\"\")","v":""},{"$f":"IFERROR(VLOOKUP(A1122,'1.Портфель кредитів'!A:AB,3,FALSE),\"\")","v":""},{"$f":"IFERROR(VLOOKUP(A1122,'1.Портфель кредитів'!A:AB,14,FALSE),\"\")","v":""}]
[null,{"$f":"IFERROR(#REF!,\"\")","v":""},{"$f":"IFERROR(VLOOKUP(A1123,'1.Портфель кредитів'!A:AB,3,FALSE),\"\")","v":""},{"$f":"IFERROR(VLOOKUP(A1123,'1.Портфель кредитів'!A:AB,14,FALSE),\"\")","v":""}]
[null,{"$f":"IFERROR(#REF!,\"\")","v":""},{"$f":"IFERROR(VLOOKUP(A1124,'1.Портфель кредитів'!A:AB,3,FALSE),\"\")","v":""},{"$f":"IFERROR(VLOOKUP(A1124,'1.Портфель кредитів'!A:AB,14,FALSE),\"\")","v":""}]
[null,{"$f":"IFERROR(#REF!,\"\")","v":""},{"$f":"IFERROR(VLOOKUP(A1125,'1.Портфель кредитів'!A:AB,3,FALSE),\"\")","v":""},{"$f":"IFERROR(VLOOKUP(A1125,'1.Портфель кредитів'!A:AB,14,FALSE),\"\")","v":""}]
[null,{"$f":"IFERROR(#REF!,\"\")","v":""},{"$f":"IFERROR(VLOOKUP(A1126,'1.Портфель кредитів'!A:AB,3,FALSE),\"\")","v":""},{"$f":"IFERROR(VLOOKUP(A1126,'1.Портфель кредитів'!A:AB,14,FALSE),\"\")","v":""}]
[null,{"$f":"IFERROR(#REF!,\"\")","v":""},{"$f":"IFERROR(VLOOKUP(A1127,'1.Портфель кредитів'!A:AB,3,FALSE),\"\")","v":""},{"$f":"IFERROR(VLOOKUP(A1127,'1.Портфель кредитів'!A:AB,14,FALSE),\"\")","v":""}]
[null,{"$f":"IFERROR(#REF!,\"\")","v":""},{"$f":"IFERROR(VLOOKUP(A1128,'1.Портфель кредитів'!A:AB,3,FALSE),\"\")","v":""},{"$f":"IFERROR(VLOOKUP(A1128,'1.Портфель кредитів'!A:AB,14,FALSE),\"\")","v":""}]
[null,{"$f":"IFERROR(#REF!,\"\")","v":""},{"$f":"IFERROR(VLOOKUP(A1129,'1.Портфель кредитів'!A:AB,3,FALSE),\"\")","v":""},{"$f":"IFERROR(VLOOKUP(A1129,'1.Портфель кредитів'!A:AB,14,FALSE),\"\")","v":""}]
[null,{"$f":"IFERROR(#REF!,\"\")","v":""},{"$f":"IFERROR(VLOOKUP(A1130,'1.Портфель кредитів'!A:AB,3,FALSE),\"\")","v":""},{"$f":"IFERROR(VLOOKUP(A1130,'1.Портфель кредитів'!A:AB,14,FALSE),\"\")","v":""}]
[null,{"$f":"IFERROR(#REF!,\"\")","v":""},{"$f":"IFERROR(VLOOKUP(A1131,'1.Портфель кредитів'!A:AB,3,FALSE),\"\")","v":""},{"$f":"IFERROR(VLOOKUP(A1131,'1.Портфель кредитів'!A:AB,14,FALSE),\"\")","v":""}]
[null,{"$f":"IFERROR(#REF!,\"\")","v":""},{"$f":"IFERROR(VLOOKUP(A1132,'1.Портфель кредитів'!A:AB,3,FALSE),\"\")","v":""},{"$f":"IFERROR(VLOOKUP(A1132,'1.Портфель кредитів'!A:AB,14,FALSE),\"\")","v":""}]
[null,{"$f":"IFERROR(#REF!,\"\")","v":""},{"$f":"IFERROR(VLOOKUP(A1133,'1.Портфель кредитів'!A:AB,3,FALSE),\"\")","v":""},{"$f":"IFERROR(VLOOKUP(A1133,'1.Портфель кредитів'!A:AB,14,FALSE),\"\")","v":""}]
[null,{"$f":"IFERROR(#REF!,\"\")","v":""},{"$f":"IFERROR(VLOOKUP(A1134,'1.Портфель кредитів'!A:AB,3,FALSE),\"\")","v":""},{"$f":"IFERROR(VLOOKUP(A1134,'1.Портфель кредитів'!A:AB,14,FALSE),\"\")","v":""}]
[null,{"$f":"IFERROR(#REF!,\"\")","v":""},{"$f":"IFERROR(VLOOKUP(A1135,'1.Портфель кредитів'!A:AB,3,FALSE),\"\")","v":""},{"$f":"IFERROR(VLOOKUP(A1135,'1.Портфель кредитів'!A:AB,14,FALSE),\"\")","v":""}]
[null,{"$f":"IFERROR(#REF!,\"\")","v":""},{"$f":"IFERROR(VLOOKUP(A1136,'1.Портфель кредитів'!A:AB,3,FALSE),\"\")","v":""},{"$f":"IFERROR(VLOOKUP(A1136,'1.Портфель кредитів'!A:AB,14,FALSE),\"\")","v":""}]
[null,{"$f":"IFERROR(#REF!,\"\")","v":""},{"$f":"IFERROR(VLOOKUP(A1137,'1.Портфель кредитів'!A:AB,3,FALSE),\"\")","v":""},{"$f":"IFERROR(VLOOKUP(A1137,'1.Портфель кредитів'!A:AB,14,FALSE),\"\")","v":""}]
[null,{"$f":"IFERROR(#REF!,\"\")","v":""},{"$f":"IFERROR(VLOOKUP(A1138,'1.Портфель кредитів'!A:AB,3,FALSE),\"\")","v":""},{"$f":"IFERROR(VLOOKUP(A1138,'1.Портфель кредитів'!A:AB,14,FALSE),\"\")","v":""}]
[null,{"$f":"IFERROR(#REF!,\"\")","v":""},{"$f":"IFERROR(VLOOKUP(A1139,'1.Портфель кредитів'!A:AB,3,FALSE),\"\")","v":""},{"$f":"IFERROR(VLOOKUP(A1139,'1.Портфель кредитів'!A:AB,14,FALSE),\"\")","v":""}]
[null,{"$f":"IFERROR(#REF!,\"\")","v":""},{"$f":"IFERROR(VLOOKUP(A1140,'1.Портфель кредитів'!A:AB,3,FALSE),\"\")","v":""},{"$f":"IFERROR(VLOOKUP(A1140,'1.Портфель кредитів'!A:AB,14,FALSE),\"\")","v":""}]
[null,{"$f":"IFERROR(#REF!,\"\")","v":""},{"$f":"IFERROR(VLOOKUP(A1141,'1.Портфель кредитів'!A:AB,3,FALSE),\"\")","v":""},{"$f":"IFERROR(VLOOKUP(A1141,'1.Портфель кредитів'!A:AB,14,FALSE),\"\")","v":""}]
[null,{"$f":"IFERROR(#REF!,\"\")","v":""},{"$f":"IFERROR(VLOOKUP(A1142,'1.Портфель кредитів'!A:AB,3,FALSE),\"\")","v":""},{"$f":"IFERROR(VLOOKUP(A1142,'1.Портфель кредитів'!A:AB,14,FALSE),\"\")","v":""}]
[null,{"$f":"IFERROR(#REF!,\"\")","v":""},{"$f":"IFERROR(VLOOKUP(A1143,'1.Портфель кредитів'!A:AB,3,FALSE),\"\")","v":""},{"$f":"IFERROR(VLOOKUP(A1143,'1.Портфель кредитів'!A:AB,14,FALSE),\"\")","v":""}]
[null,{"$f":"IFERROR(#REF!,\"\")","v":""},{"$f":"IFERROR(VLOOKUP(A1144,'1.Портфель кредитів'!A:AB,3,FALSE),\"\")","v":""},{"$f":"IFERROR(VLOOKUP(A1144,'1.Портфель кредитів'!A:AB,14,FALSE),\"\")","v":""}]
[null,{"$f":"IFERROR(#REF!,\"\")","v":""},{"$f":"IFERROR(VLOOKUP(A1145,'1.Портфель кредитів'!A:AB,3,FALSE),\"\")","v":""},{"$f":"IFERROR(VLOOKUP(A1145,'1.Портфель кредитів'!A:AB,14,FALSE),\"\")","v":""}]
[null,{"$f":"IFERROR(#REF!,\"\")","v":""},{"$f":"IFERROR(VLOOKUP(A1146,'1.Портфель кредитів'!A:AB,3,FALSE),\"\")","v":""},{"$f":"IFERROR(VLOOKUP(A1146,'1.Портфель кредитів'!A:AB,14,FALSE),\"\")","v":""}]
[null,{"$f":"IFERROR(#REF!,\"\")","v":""},{"$f":"IFERROR(VLOOKUP(A1147,'1.Портфель кредитів'!A:AB,3,FALSE),\"\")","v":""},{"$f":"IFERROR(VLOOKUP(A1147,'1.Портфель кредитів'!A:AB,14,FALSE),\"\")","v":""}]
[null,{"$f":"IFERROR(#REF!,\"\")","v":""},{"$f":"IFERROR(VLOOKUP(A1148,'1.Портфель кредитів'!A:AB,3,FALSE),\"\")","v":""},{"$f":"IFERROR(VLOOKUP(A1148,'1.Портфель кредитів'!A:AB,14,FALSE),\"\")","v":""}]
[null,{"$f":"IFERROR(#REF!,\"\")","v":""},{"$f":"IFERROR(VLOOKUP(A1149,'1.Портфель кредитів'!A:AB,3,FALSE),\"\")","v":""},{"$f":"IFERROR(VLOOKUP(A1149,'1.Портфель кредитів'!A:AB,14,FALSE),\"\")","v":""}]
[null,{"$f":"IFERROR(#REF!,\"\")","v":""},{"$f":"IFERROR(VLOOKUP(A1150,'1.Портфель кредитів'!A:AB,3,FALSE),\"\")","v":""},{"$f":"IFERROR(VLOOKUP(A1150,'1.Портфель кредитів'!A:AB,14,FALSE),\"\")","v":""}]
[null,{"$f":"IFERROR(#REF!,\"\")","v":""},{"$f":"IFERROR(VLOOKUP(A1151,'1.Портфель кредитів'!A:AB,3,FALSE),\"\")","v":""},{"$f":"IFERROR(VLOOKUP(A1151,'1.Портфель кредитів'!A:AB,14,FALSE),\"\")","v":""}]
[null,{"$f":"IFERROR(#REF!,\"\")","v":""},{"$f":"IFERROR(VLOOKUP(A1152,'1.Портфель кредитів'!A:AB,3,FALSE),\"\")","v":""},{"$f":"IFERROR(VLOOKUP(A1152,'1.Портфель кредитів'!A:AB,14,FALSE),\"\")","v":""}]
[null,{"$f":"IFERROR(#REF!,\"\")","v":""},{"$f":"IFERROR(VLOOKUP(A1153,'1.Портфель кредитів'!A:AB,3,FALSE),\"\")","v":""},{"$f":"IFERROR(VLOOKUP(A1153,'1.Портфель кредитів'!A:AB,14,FALSE),\"\")","v":""}]
[null,{"$f":"IFERROR(#REF!,\"\")","v":""},{"$f":"IFERROR(VLOOKUP(A1154,'1.Портфель кредитів'!A:AB,3,FALSE),\"\")","v":""},{"$f":"IFERROR(VLOOKUP(A1154,'1.Портфель кредитів'!A:AB,14,FALSE),\"\")","v":""}]
[null,{"$f":"IFERROR(#REF!,\"\")","v":""},{"$f":"IFERROR(VLOOKUP(A1155,'1.Портфель кредитів'!A:AB,3,FALSE),\"\")","v":""},{"$f":"IFERROR(VLOOKUP(A1155,'1.Портфель кредитів'!A:AB,14,FALSE),\"\")","v":""}]
[null,{"$f":"IFERROR(#REF!,\"\")","v":""},{"$f":"IFERROR(VLOOKUP(A1156,'1.Портфель кредитів'!A:AB,3,FALSE),\"\")","v":""},{"$f":"IFERROR(VLOOKUP(A1156,'1.Портфель кредитів'!A:AB,14,FALSE),\"\")","v":""}]
[null,{"$f":"IFERROR(#REF!,\"\")","v":""},{"$f":"IFERROR(VLOOKUP(A1157,'1.Портфель кредитів'!A:AB,3,FALSE),\"\")","v":""},{"$f":"IFERROR(VLOOKUP(A1157,'1.Портфель кредитів'!A:AB,14,FALSE),\"\")","v":""}]
[null,{"$f":"IFERROR(#REF!,\"\")","v":""},{"$f":"IFERROR(VLOOKUP(A1158,'1.Портфель кредитів'!A:AB,3,FALSE),\"\")","v":""},{"$f":"IFERROR(VLOOKUP(A1158,'1.Портфель кредитів'!A:AB,14,FALSE),\"\")","v":""}]
[null,{"$f":"IFERROR(#REF!,\"\")","v":""},{"$f":"IFERROR(VLOOKUP(A1159,'1.Портфель кредитів'!A:AB,3,FALSE),\"\")","v":""},{"$f":"IFERROR(VLOOKUP(A1159,'1.Портфель кредитів'!A:AB,14,FALSE),\"\")","v":""}]
[null,{"$f":"IFERROR(#REF!,\"\")","v":""},{"$f":"IFERROR(VLOOKUP(A1160,'1.Портфель кредитів'!A:AB,3,FALSE),\"\")","v":""},{"$f":"IFERROR(VLOOKUP(A1160,'1.Портфель кредитів'!A:AB,14,FALSE),\"\")","v":""}]
[null,{"$f":"IFERROR(#REF!,\"\")","v":""},{"$f":"IFERROR(VLOOKUP(A1161,'1.Портфель кредитів'!A:AB,3,FALSE),\"\")","v":""},{"$f":"IFERROR(VLOOKUP(A1161,'1.Портфель кредитів'!A:AB,14,FALSE),\"\")","v":""}]
[null,{"$f":"IFERROR(#REF!,\"\")","v":""},{"$f":"IFERROR(VLOOKUP(A1162,'1.Портфель кредитів'!A:AB,3,FALSE),\"\")","v":""},{"$f":"IFERROR(VLOOKUP(A1162,'1.Портфель кредитів'!A:AB,14,FALSE),\"\")","v":""}]
[null,{"$f":"IFERROR(#REF!,\"\")","v":""},{"$f":"IFERROR(VLOOKUP(A1163,'1.Портфель кредитів'!A:AB,3,FALSE),\"\")","v":""},{"$f":"IFERROR(VLOOKUP(A1163,'1.Портфель кредитів'!A:AB,14,FALSE),\"\")","v":""}]
[null,{"$f":"IFERROR(#REF!,\"\")","v":""},{"$f":"IFERROR(VLOOKUP(A1164,'1.Портфель кредитів'!A:AB,3,FALSE),\"\")","v":""},{"$f":"IFERROR(VLOOKUP(A1164,'1.Портфель кредитів'!A:AB,14,FALSE),\"\")","v":""}]
[null,{"$f":"IFERROR(#REF!,\"\")","v":""},{"$f":"IFERROR(VLOOKUP(A1165,'1.Портфель кредитів'!A:AB,3,FALSE),\"\")","v":""},{"$f":"IFERROR(VLOOKUP(A1165,'1.Портфель кредитів'!A:AB,14,FALSE),\"\")","v":""}]
[null,{"$f":"IFERROR(#REF!,\"\")","v":""},{"$f":"IFERROR(VLOOKUP(A1166,'1.Портфель кредитів'!A:AB,3,FALSE),\"\")","v":""},{"$f":"IFERROR(VLOOKUP(A1166,'1.Портфель кредитів'!A:AB,14,FALSE),\"\")","v":""}]
[null,{"$f":"IFERROR(#REF!,\"\")","v":""},{"$f":"IFERROR(VLOOKUP(A1167,'1.Портфель кредитів'!A:AB,3,FALSE),\"\")","v":""},{"$f":"IFERROR(VLOOKUP(A1167,'1.Портфель кредитів'!A:AB,14,FALSE),\"\")","v":""}]
[null,{"$f":"IFERROR(#REF!,\"\")","v":""},{"$f":"IFERROR(VLOOKUP(A1168,'1.Портфель кредитів'!A:AB,3,FALSE),\"\")","v":""},{"$f":"IFERROR(VLOOKUP(A1168,'1.Портфель кредитів'!A:AB,14,FALSE),\"\")","v":""}]
[null,{"$f":"IFERROR(#REF!,\"\")","v":""},{"$f":"IFERROR(VLOOKUP(A1169,'1.Портфель кредитів'!A:AB,3,FALSE),\"\")","v":""},{"$f":"IFERROR(VLOOKUP(A1169,'1.Портфель кредитів'!A:AB,14,FALSE),\"\")","v":""}]
[null,{"$f":"IFERROR(#REF!,\"\")","v":""},{"$f":"IFERROR(VLOOKUP(A1170,'1.Портфель кредитів'!A:AB,3,FALSE),\"\")","v":""},{"$f":"IFERROR(VLOOKUP(A1170,'1.Портфель кредитів'!A:AB,14,FALSE),\"\")","v":""}]
[null,{"$f":"IFERROR(#REF!,\"\")","v":""},{"$f":"IFERROR(VLOOKUP(A1171,'1.Портфель кредитів'!A:AB,3,FALSE),\"\")","v":""},{"$f":"IFERROR(VLOOKUP(A1171,'1.Портфель кредитів'!A:AB,14,FALSE),\"\")","v":""}]
[null,{"$f":"IFERROR(#REF!,\"\")","v":""},{"$f":"IFERROR(VLOOKUP(A1172,'1.Портфель кредитів'!A:AB,3,FALSE),\"\")","v":""},{"$f":"IFERROR(VLOOKUP(A1172,'1.Портфель кредитів'!A:AB,14,FALSE),\"\")","v":""}]
[null,{"$f":"IFERROR(#REF!,\"\")","v":""},{"$f":"IFERROR(VLOOKUP(A1173,'1.Портфель кредитів'!A:AB,3,FALSE),\"\")","v":""},{"$f":"IFERROR(VLOOKUP(A1173,'1.Портфель кредитів'!A:AB,14,FALSE),\"\")","v":""}]
[null,{"$f":"IFERROR(#REF!,\"\")","v":""},{"$f":"IFERROR(VLOOKUP(A1174,'1.Портфель кредитів'!A:AB,3,FALSE),\"\")","v":""},{"$f":"IFERROR(VLOOKUP(A1174,'1.Портфель кредитів'!A:AB,14,FALSE),\"\")","v":""}]
[null,{"$f":"IFERROR(#REF!,\"\")","v":""},{"$f":"IFERROR(VLOOKUP(A1175,'1.Портфель кредитів'!A:AB,3,FALSE),\"\")","v":""},{"$f":"IFERROR(VLOOKUP(A1175,'1.Портфель кредитів'!A:AB,14,FALSE),\"\")","v":""}]
[null,{"$f":"IFERROR(#REF!,\"\")","v":""},{"$f":"IFERROR(VLOOKUP(A1176,'1.Портфель кредитів'!A:AB,3,FALSE),\"\")","v":""},{"$f":"IFERROR(VLOOKUP(A1176,'1.Портфель кредитів'!A:AB,14,FALSE),\"\")","v":""}]
[null,{"$f":"IFERROR(#REF!,\"\")","v":""},{"$f":"IFERROR(VLOOKUP(A1177,'1.Портфель кредитів'!A:AB,3,FALSE),\"\")","v":""},{"$f":"IFERROR(VLOOKUP(A1177,'1.Портфель кредитів'!A:AB,14,FALSE),\"\")","v":""}]
[null,{"$f":"IFERROR(#REF!,\"\")","v":""},{"$f":"IFERROR(VLOOKUP(A1178,'1.Портфель кредитів'!A:AB,3,FALSE),\"\")","v":""},{"$f":"IFERROR(VLOOKUP(A1178,'1.Портфель кредитів'!A:AB,14,FALSE),\"\")","v":""}]
[null,{"$f":"IFERROR(#REF!,\"\")","v":""},{"$f":"IFERROR(VLOOKUP(A1179,'1.Портфель кредитів'!A:AB,3,FALSE),\"\")","v":""},{"$f":"IFERROR(VLOOKUP(A1179,'1.Портфель кредитів'!A:AB,14,FALSE),\"\")","v":""}]
[null,{"$f":"IFERROR(#REF!,\"\")","v":""},{"$f":"IFERROR(VLOOKUP(A1180,'1.Портфель кредитів'!A:AB,3,FALSE),\"\")","v":""},{"$f":"IFERROR(VLOOKUP(A1180,'1.Портфель кредитів'!A:AB,14,FALSE),\"\")","v":""}]
[null,{"$f":"IFERROR(#REF!,\"\")","v":""},{"$f":"IFERROR(VLOOKUP(A1181,'1.Портфель кредитів'!A:AB,3,FALSE),\"\")","v":""},{"$f":"IFERROR(VLOOKUP(A1181,'1.Портфель кредитів'!A:AB,14,FALSE),\"\")","v":""}]
[null,{"$f":"IFERROR(#REF!,\"\")","v":""},{"$f":"IFERROR(VLOOKUP(A1182,'1.Портфель кредитів'!A:AB,3,FALSE),\"\")","v":""},{"$f":"IFERROR(VLOOKUP(A1182,'1.Портфель кредитів'!A:AB,14,FALSE),\"\")","v":""}]
[null,{"$f":"IFERROR(#REF!,\"\")","v":""},{"$f":"IFERROR(VLOOKUP(A1183,'1.Портфель кредитів'!A:AB,3,FALSE),\"\")","v":""},{"$f":"IFERROR(VLOOKUP(A1183,'1.Портфель кредитів'!A:AB,14,FALSE),\"\")","v":""}]
[null,{"$f":"IFERROR(#REF!,\"\")","v":""},{"$f":"IFERROR(VLOOKUP(A1184,'1.Портфель кредитів'!A:AB,3,FALSE),\"\")","v":""},{"$f":"IFERROR(VLOOKUP(A1184,'1.Портфель кредитів'!A:AB,14,FALSE),\"\")","v":""}]
[null,{"$f":"IFERROR(#REF!,\"\")","v":""},{"$f":"IFERROR(VLOOKUP(A1185,'1.Портфель кредитів'!A:AB,3,FALSE),\"\")","v":""},{"$f":"IFERROR(VLOOKUP(A1185,'1.Портфель кредитів'!A:AB,14,FALSE),\"\")","v":""}]
[null,{"$f":"IFERROR(#REF!,\"\")","v":""},{"$f":"IFERROR(VLOOKUP(A1186,'1.Портфель кредитів'!A:AB,3,FALSE),\"\")","v":""},{"$f":"IFERROR(VLOOKUP(A1186,'1.Портфель кредитів'!A:AB,14,FALSE),\"\")","v":""}]
[null,{"$f":"IFERROR(#REF!,\"\")","v":""},{"$f":"IFERROR(VLOOKUP(A1187,'1.Портфель кредитів'!A:AB,3,FALSE),\"\")","v":""},{"$f":"IFERROR(VLOOKUP(A1187,'1.Портфель кредитів'!A:AB,14,FALSE),\"\")","v":""}]
[null,{"$f":"IFERROR(#REF!,\"\")","v":""},{"$f":"IFERROR(VLOOKUP(A1188,'1.Портфель кредитів'!A:AB,3,FALSE),\"\")","v":""},{"$f":"IFERROR(VLOOKUP(A1188,'1.Портфель кредитів'!A:AB,14,FALSE),\"\")","v":""}]
[null,{"$f":"IFERROR(#REF!,\"\")","v":""},{"$f":"IFERROR(VLOOKUP(A1189,'1.Портфель кредитів'!A:AB,3,FALSE),\"\")","v":""},{"$f":"IFERROR(VLOOKUP(A1189,'1.Портфель кредитів'!A:AB,14,FALSE),\"\")","v":""}]
[null,{"$f":"IFERROR(#REF!,\"\")","v":""},{"$f":"IFERROR(VLOOKUP(A1190,'1.Портфель кредитів'!A:AB,3,FALSE),\"\")","v":""},{"$f":"IFERROR(VLOOKUP(A1190,'1.Портфель кредитів'!A:AB,14,FALSE),\"\")","v":""}]
[null,{"$f":"IFERROR(#REF!,\"\")","v":""},{"$f":"IFERROR(VLOOKUP(A1191,'1.Портфель кредитів'!A:AB,3,FALSE),\"\")","v":""},{"$f":"IFERROR(VLOOKUP(A1191,'1.Портфель кредитів'!A:AB,14,FALSE),\"\")","v":""}]
[null,{"$f":"IFERROR(#REF!,\"\")","v":""},{"$f":"IFERROR(VLOOKUP(A1192,'1.Портфель кредитів'!A:AB,3,FALSE),\"\")","v":""},{"$f":"IFERROR(VLOOKUP(A1192,'1.Портфель кредитів'!A:AB,14,FALSE),\"\")","v":""}]
[null,{"$f":"IFERROR(#REF!,\"\")","v":""},{"$f":"IFERROR(VLOOKUP(A1193,'1.Портфель кредитів'!A:AB,3,FALSE),\"\")","v":""},{"$f":"IFERROR(VLOOKUP(A1193,'1.Портфель кредитів'!A:AB,14,FALSE),\"\")","v":""}]
[null,{"$f":"IFERROR(#REF!,\"\")","v":""},{"$f":"IFERROR(VLOOKUP(A1194,'1.Портфель кредитів'!A:AB,3,FALSE),\"\")","v":""},{"$f":"IFERROR(VLOOKUP(A1194,'1.Портфель кредитів'!A:AB,14,FALSE),\"\")","v":""}]
[null,{"$f":"IFERROR(#REF!,\"\")","v":""},{"$f":"IFERROR(VLOOKUP(A1195,'1.Портфель кредитів'!A:AB,3,FALSE),\"\")","v":""},{"$f":"IFERROR(VLOOKUP(A1195,'1.Портфель кредитів'!A:AB,14,FALSE),\"\")","v":""}]
[null,{"$f":"IFERROR(#REF!,\"\")","v":""},{"$f":"IFERROR(VLOOKUP(A1196,'1.Портфель кредитів'!A:AB,3,FALSE),\"\")","v":""},{"$f":"IFERROR(VLOOKUP(A1196,'1.Портфель кредитів'!A:AB,14,FALSE),\"\")","v":""}]
[null,{"$f":"IFERROR(#REF!,\"\")","v":""},{"$f":"IFERROR(VLOOKUP(A1197,'1.Портфель кредитів'!A:AB,3,FALSE),\"\")","v":""},{"$f":"IFERROR(VLOOKUP(A1197,'1.Портфель кредитів'!A:AB,14,FALSE),\"\")","v":""}]
[null,{"$f":"IFERROR(#REF!,\"\")","v":""},{"$f":"IFERROR(VLOOKUP(A1198,'1.Портфель кредитів'!A:AB,3,FALSE),\"\")","v":""},{"$f":"IFERROR(VLOOKUP(A1198,'1.Портфель кредитів'!A:AB,14,FALSE),\"\")","v":""}]
[null,{"$f":"IFERROR(#REF!,\"\")","v":""},{"$f":"IFERROR(VLOOKUP(A1199,'1.Портфель кредитів'!A:AB,3,FALSE),\"\")","v":""},{"$f":"IFERROR(VLOOKUP(A1199,'1.Портфель кредитів'!A:AB,14,FALSE),\"\")","v":""}]
[null,{"$f":"IFERROR(#REF!,\"\")","v":""},{"$f":"IFERROR(VLOOKUP(A1200,'1.Портфель кредитів'!A:AB,3,FALSE),\"\")","v":""},{"$f":"IFERROR(VLOOKUP(A1200,'1.Портфель кредитів'!A:AB,14,FALSE),\"\")","v":""}]
[null,{"$f":"IFERROR(#REF!,\"\")","v":""},{"$f":"IFERROR(VLOOKUP(A1201,'1.Портфель кредитів'!A:AB,3,FALSE),\"\")","v":""},{"$f":"IFERROR(VLOOKUP(A1201,'1.Портфель кредитів'!A:AB,14,FALSE),\"\")","v":""}]

{"sheet":"3.ППР","index":2,"n_rows":1713,"n_cols":17,"rows_kept":1713,"cut":false,"hidden":false,"merged":[[174,0,174,9],[0,1,4,15],[175,0,175,9],[176,0,176,9],[177,0,177,9]]}
[null,"Цей документ був підготовлений Фондом гарантування вкладів фізичних осіб (далі – Фонд) виключно для інформаційних цілей і не повинен вважатися як спонукання до будь-яких дій чи бездіяльності. \nІнформація, що міститься в цьому документі, була отримана з/або ґрунтується на джерелах, які вважаються надійними, але не є вичерпною та не може сприйматися як повна або актуальна. Зокрема, але не виключно, станом на дату придбання активів допускаються несуттєві зміни лота, в складі якого продаються такі активи. Під несуттєвими змінами лота слід розуміти такі зміни характеристик активів у складі такого лота, які впливають на його балансову вартість, але не більше ніж на 10 відсотків. Рішення покупця щодо будь-яких дій або бездіяльності повинно ґрунтуватися на власних оцінках та дослідженнях майна (активу/активів), котре реалізується. Фонд не несе відповідальності за рішення покупця та його наслідки, що ґрунтується на інформації, викладеній в даному документі."]
[]
[]
[]
[]
[]
["unicid","Банк","№ кред. Дог","Розгляд справи у суді",null,null,null,"ДВС",null,null,"Банкрутство",null,null,null,null,null,"Кримінальне провадження за кредитною угодою\n(Так/Ні)"]
[null,null,null,"Предмет спору","Відповідач (позичальник/поручитель)","Дата надіслання вимоги / претензії","Дати звернення до суду","Дата провадження","Процесс (Так/Ні)","Реалізація майна (Так/Ні)","Дата провадження","Банк заявлений як кредитор (Так/Ні)","Банк внесенний в реєстр кредиторів (Так/Ні)","Дата визнання позичальника банкрутом","Дата визнання підприємства ліквідованим","Банкрутство фінансового поручителя"]
["351629__1","МЕГАБАНК","3-ю/2008","стягнення заборгованості","Солідарно",null,null,null,"ТАК","НІ",null,null,null,null,null,null,"НІ"]
["351629__2","МЕГАБАНК","22-ю/2008","стягнення заборгованості","Солідарно"," -",null,null,"ні","ні",null,null,null,null,null,null,"ні"]
["351629__3","МЕГАБАНК","23-ю/2008","стягнення заборгованості","Солідарно"," -"," -",null,"НІ","НІ",null,null,null,null,null,null,"НІ"]
["351629__4","МЕГАБАНК","288/2007","стягнення заборгованості","Позичальник"," -"," -",null,null,null,null,null,null,null,null,null,"НІ"]
["351629__5","МЕГАБАНК","12г/2008","стягнення заборгованості","Позичальник"," -"," -",null,null,null,null,null,null,null,null,null,"НІ"]
["351629__6","МЕГАБАНК","7-07/2013-MK-USD",null,null," -"," -"," -"," -"," -"," -"," -"," -"," -"," -"," -","НІ"]
["351629__7","МЕГАБАНК","23/2005","стягнення заборгованості","Солідарно",null,null,"2016-08-23","ні","НІ",null,null,null,null,null,null,"НІ"]
["351629__8","МЕГАБАНК","17-01/2008-МК-USD","стягнення заборгованості","Солідарно"," -","2009-11-19","2016-08-23","ні","Так.  Сідловий тягач-Е, марки SCANIA, модель 114L380, колір червоний, 2000 р.в.; Сідловий тягач-Е, марки SCANIA, модель 124L420, колір синій, 2000 р.в.;  Сідловий тягач-Е , марки SCANIA, модель 124L420, , колір червоний., 2002 р.в.; н/причіп бортовий-Е, марка VAN HOOL, модель 3В2010, колір синій, 2002 р.в. - реалізовано через прилюдні торги.     ",null,null,null,null,null,null,"так"]
["351629__9","МЕГАБАНК","29-01/2008-МК-UAH","стягнення заборгованості","Солідарно"," -","2009-11-19","2016-08-23","ні","Так.  Сідловий тягач-Е, марки SCANIA, модель 114L380, колір червоний, 2000 р.в.; Сідловий тягач-Е, марки SCANIA, модель 124L420, колір синій, 2000 р.в.;  Сідловий тягач-Е , марки SCANIA, модель 124L420, колір червоний, 2002 р.в.; н/причіп бортовий-Е, марка VAN HOOL, модель 3В2010, колір синій, 2002 р.в. - реалізовано через прилюдні торги.     ",null,null,null,null,null,null,"так"]
["351629__10","МЕГАБАНК","068",null,null,null,null,null,null,null,null,null,null,null,null,null,"НІ"]
["351629__11","МЕГАБАНК","30-01/2008-МК-UAH",null,null,null,null,null,null,null,null,null,null,null,null,null,"НІ"]
["351629__12","МЕГАБАНК","20-05в/2019",null,null,null,null,null,null,null,null,null,null,null,null,null,"НІ"]
["320627__1","МР Банк","№05-В/11/32/ЮО/КЛ ","стягнення заборгованості","Позичальник",null,"2016-12-28","2017-07-04","зупинено","ні"]
["320627__1","МР Банк","№05-В/11/32/ЮО/КЛ ","банкрутство","Позичальник",null,"2020-11-12"," ",null,null,"2020-07-17","ТАК","ТАК","2021-02-18"]
["320627__1","МР Банк","№05-В/11/32/ЮО/КЛ ","інше","поручителі, 3ті особи",null,null," "]
["320627__1","МР Банк","№05-В/11/32/ЮО/КЛ ","стягнення заборгованості","Поручитель",null,"2016-12-29","2023-04-18","ні","ні"]
["320627__1","МР Банк","№05-В/11/32/ЮО/КЛ ","стягнення заборгованості","Поручитель",null,"2017-01-03","2023-04-17","ні","ні"]
["320627__1","МР Банк","№05-В/11/32/ЮО/КЛ ","стягнення заборгованості","Поручитель",null,"2017-02-21","2023-04-18","ні","ні"]
["320627__1","МР Банк","№05-В/11/32/ЮО/КЛ ","стягнення заборгованості","Поручитель",null,"2017-01-27","2019-09-18","так","ні"]
["320627__2","МР Банк","№Т032-013006290"]
["300012__1","ПРОМІНВЕСТБАНК","07/4-07","стягнення заборгованості","Позичальник",null,"2012-04-09","2012-10-19","НІ","НІ",null,null,null,null,null,null,"НІ"]
["300012__2","ПРОМІНВЕСТБАНК","13/4-07","стягнення забезпечення","Поручитель",null,null,"-","-","-",null,null,null,null,null,null,"НІ"]
["300012__2","ПРОМІНВЕСТБАНК","13/4-07","стягнення заборгованості","Позичальник",null,"2014-12-15","2019-09-30","ТАК","НІ",null,null,null,null,null,null,"НІ"]
["300012__2","ПРОМІНВЕСТБАНК","13/4-07","банкрутство","Позичальник",null,null,null,null,null,null,null,null,null,"2012-09-19",null,"НІ"]
["300012__3","ПРОМІНВЕСТБАНК","38/3-07","стягнення забезпечення","Позичальник",null,"2008-09-16","-","-","-",null,null,null,null,null,null,"НІ"]
["300012__4","ПРОМІНВЕСТБАНК","06-2.1/1018 ","стягнення забезпечення","3-і особи",null,"2018-07-04","НІ","НІ","НІ","2015-09-17","ТАК","ТАК","2016-03-15",null,null,"ТАК"]
["300012__4","ПРОМІНВЕСТБАНК","06-2.1/1018 ","стягнення забезпечення","3-і особи",null,"2013-10-01","НІ","НІ","НІ",null,null,null,null,null,null,"ТАК"]
["300012__4","ПРОМІНВЕСТБАНК","06-2.1/1018 ","стягнення заборгованості","Позичальник",null,"2011-10-21","14.10.2013 - 12.09.2018","НІ","НІ",null,null,null,null,null,null,"ТАК"]
["300012__4","ПРОМІНВЕСТБАНК","06-2.1/1018 ","стягнення заборгованості","Поручитель",null,"2012-06-29","2013-04-29","ТАК","НІ",null,null,null,null,null,null,"ТАК"]
["300012__4","ПРОМІНВЕСТБАНК","06-2.1/1018 ","стягнення заборгованості","Поручитель",null,"2013-05-30","14.10.2013 -  07.05.2021","НІ","НІ",null,null,null,null,null,null,"ТАК"]
["300012__5","ПРОМІНВЕСТБАНК","06-2.1/1019 ","стягнення забезпечення","3-і особи",null,"2018-07-04","НІ","НІ","НІ","2015-09-17","ТАК","ТАК","2016-03-15",null,null,"ТАК"]
["300012__5","ПРОМІНВЕСТБАНК","06-2.1/1019 ","стягнення забезпечення","3-і особи",null,"2013-10-01","НІ","НІ","НІ",null,null,null,null,null,null,"ТАК"]
["300012__5","ПРОМІНВЕСТБАНК","06-2.1/1019 ","стягнення заборгованості","Позичальник",null,"1905-07-03","14.02.2018 - 24.12.2019","НІ","НІ",null,null,null,null,null,null,"ТАК"]
["300012__5","ПРОМІНВЕСТБАНК","06-2.1/1019 ","стягнення заборгованості","Поручитель",null,"2013-05-30","14.10.2013 -  07.05.2021","НІ","НІ",null,null,null,null,null,null,"ТАК"]
["300012__6","ПРОМІНВЕСТБАНК","1234/05-К","стягнення заборгованості","Позичальник",null,"2013-06-19","невідомо","НІ","НІ",null,null,null,null,null,null,"НІ"]
["300012__6","ПРОМІНВЕСТБАНК","1234/05-К","стягнення забезпечення","Поручитель",null,"2009-03-27","2012-03-14","НІ","ТАК",null,null,null,null,null,null,"НІ"]
["300012__7","ПРОМІНВЕСТБАНК","04-02-08/218","стягнення заборгованості","Солідарно",null,null,"2022-12-12","ТАК","НІ",null,null,null,null,null,null,"інформація відсутня "]
["300012__8","ПРОМІНВЕСТБАНК","03-01-20/544822/107","ППР не здійснюється",null,null,null,null,null,null,null,null,null,null,null,null,"інформація відсутня "]
["300012__9","ПРОМІНВЕСТБАНК","3/8/08","стягнення забезпечення","Позичальник","2009-10-08","10.03.2010","09.07.2020","ТАК","так (іпотека)",null,null,null,null,null,null,"інформація відсутня "]
["300012__10","ПРОМІНВЕСТБАНК","313-КР","стягнення заборгованості","Позичальник",null,null,"-",null,null,"2008-12-23","ТАК","ТАК","2009-09-08","2010-11-25",null,"інформація відсутня "]
["300012__11","ПРОМІНВЕСТБАНК","347","стягнення заборгованості","Солідарно",null,"2011-09-06","2016-05-12","ТАК","НІ",null,null,null,null,null,null,"НІ"]
["300012__12","ПРОМІНВЕСТБАНК","1396","стягнення заборгованості","Солідарно","2008-02-21","2008-09-18","2021-09-10","ТАК","ТАК",null,null,null,null,null,null,"НІ"]
["300012__12","ПРОМІНВЕСТБАНК","1396","банкрутство","Поручитель",null,"2008-09-19","-",null,null,null,null,null,null,null,"так","НІ"]
["300012__13","ПРОМІНВЕСТБАНК","642/05-к","стягнення забезпечення","Позичальник",null,"2007-01-11","невідомо","НІ","НІ",null,null,null,null,null,null,"НІ"]
["300012__14","ПРОМІНВЕСТБАНК","997/05-к","стягнення забезпечення","Поручитель",null,"2007-01-15","2019-08-14","НІ","ТАК",null,null,null,null,null,null,"НІ"]
["300012__15","ПРОМІНВЕСТБАНК","521/05-К","банкрутство","Позичальник",null,null,"-",null,null,"2008-12-19","ТАК","ТАК","2009-08-04","2010-04-20",null,"НІ"]
["300012__16","ПРОМІНВЕСТБАНК","793/05-К","стягнення забезпечення","Поручитель",null,"2007-03-29","-",null,"ТАК",null,null,null,null,null,null,"НІ"]
["300012__16","ПРОМІНВЕСТБАНК","793/05-К","банкрутство","Позичальник",null,null,"-",null,null,"2008-12-19","ТАК","ТАК","2009-08-04","2010-04-20",null,"НІ"]
["300012__17","ПРОМІНВЕСТБАНК","483/06","стягнення забезпечення","Позичальник",null,null,"10.09.2019-25.02.2021","НІ","ТАК",null,null,null,null,null,null,"НІ"]
["300012__17","ПРОМІНВЕСТБАНК","483/06","стягнення заборгованості","Позичальник",null,null,"2020-03-19","ТАК","НІ",null,null,null,null,null,null,"НІ"]
["300012__17","ПРОМІНВЕСТБАНК","483/06","інше","Позичальник",null,null,null,null,null,null,null,null,null,null,null,"НІ"]
["300012__18","ПРОМІНВЕСТБАНК","02-05/595","стягнення забезпечення","Поручитель",null,"2008-12-14","25.05.2016-14.11.2018\n03.07.2019-17.04.2020 (суд витрати)","НІ","ТАК",null,null,null,null,null,null,"НІ"]
["300012__18","ПРОМІНВЕСТБАНК","02-05/595","стягнення заборгованості","Позичальник",null,"2014-10-30","03.07.2019-17.04.2020","НІ","НІ",null,null,null,null,null,null,"НІ"]
["300012__18","ПРОМІНВЕСТБАНК","02-05/595","визнання зобов'язань недійсними","Банк",null,"2016-03-23",null,null,null,null,null,null,null,null,null,"НІ"]
["300012__19","ПРОМІНВЕСТБАНК","2257 ","стягнення забезпечення","Поручитель",null,"2011-10-31","2013-07-15","НІ","ТАК",null,null,null,null,null,null,"НІ"]
["300012__19","ПРОМІНВЕСТБАНК","2257 ","стягнення заборгованості","Позичальник",null,"30.10.2014 ","15.01.2015; 25.05.2016; 30.11.2022","ТАК","НІ",null,null,null,null,null,null,"НІ"]
["300012__20","ПРОМІНВЕСТБАНК","02-07/797","стягнення заборгованості","Позичальник",null,"2014-10-30","2022-12-19","ТАК","НІ",null,null,null,null,null,null,"НІ"]
["300012__20","ПРОМІНВЕСТБАНК","02-07/797","стягнення забезпечення","Поручитель",null,"2008-12-04","17.07.2013 - 07.03.2014 ","НІ","ТАК",null,null,null,null,null,null,"НІ"]
["300012__20","ПРОМІНВЕСТБАНК","02-07/797","інше","3-і особи",null,"2013-10-29",null,null,null,null,null,null,null,null,null,"НІ"]
["300012__21","ПРОМІНВЕСТБАНК","02-06/1110","стягнення забезпечення","Поручитель",null,"2010-12-23","06.02.2012; 06.06.2013; 20.02.2014; 11.09.2015; 25.05.2016","НІ","ТАК",null,null,null,null,null,null,"НІ"]
["300012__22","ПРОМІНВЕСТБАНК","03-1/114","стягнення забезпечення","Позичальник","2009-01-21","2009-01-21","29.05.2009; 25.05.2015","ТАК","ТАК",null,null,null,null,null,null,"НІ"]
["300012__23","ПРОМІНВЕСТБАНК","20-0541/2-1","стягнення заборгованості","Позичальник","2015-01-23","2015-03-26","2020-09-22","ТАК","ТАК",null,null,null,null,null,null,"НІ"]
["300012__23","ПРОМІНВЕСТБАНК","20-0541/2-1","стягнення заборгованості","Позичальник",null,"2018-10-26","2019-06-03","ТАК","НІ",null,null,null,null,null,null,"НІ"]
["300012__23","ПРОМІНВЕСТБАНК","20-0541/2-1","інше","3-і особи",null,null,null,null,null,null,null,null,null,null,null,"НІ"]
["300012__23","ПРОМІНВЕСТБАНК","20-0541/2-1","інше","3-і особи",null,null,null,null,null,null,null,null,null,null,null,"НІ"]
["300012__23","ПРОМІНВЕСТБАНК","20-0541/2-1","інше","3-і особи",null,null,null,null,null,null,null,null,null,null,null,"НІ"]
["300012__23","ПРОМІНВЕСТБАНК","20-0541/2-1","стягнення заборгованості","Поручитель",null,"2015-07-16","25.02.2016-28.12.2021","НІ","ТАК",null,null,null,null,null,null,"НІ"]
["300012__23","ПРОМІНВЕСТБАНК","20-0541/2-1","стягнення заборгованості","Поручитель",null,null,null,null,null,null,null,null,null,null,null,"НІ"]
["300012__24","ПРОМІНВЕСТБАНК","13-КЛ-04","стягнення заборгованості","Позичальник",null,null,"2016-02-22","ТАК","НІ",null,null,null,null,null,null,"НІ"]
["300012__24","ПРОМІНВЕСТБАНК","13-КЛ-04","інше","Позичальник",null,null,null,null,null,null,null,null,null,null,null,"НІ"]
["300012__25","ПРОМІНВЕСТБАНК","1814/02-07","стягнення заборгованості","Позичальник",null,"2015-12-29","2022-01-27","НІ",null,null,null,null,null,null,null,"НІ"]
["300012__25","ПРОМІНВЕСТБАНК","1814/02-07","стягнення забезпечення","Поручитель",null,"2009-10-16","13.12.2010-27.01.2011 ","НІ","НІ",null,null,null,null,null,null,"НІ"]
["300012__25","ПРОМІНВЕСТБАНК","1814/02-07","стягнення забезпечення","Поручитель","2008-11-19","2017-03-31","2019-09-03","ТАК","НІ",null,null,null,null,null,null,"НІ"]
["300012__25","ПРОМІНВЕСТБАНК","1814/02-07","інше","3-і особи",null,"2015-04-23",null,null,null,null,null,null,null,null,null,"НІ"]
["300012__26","ПРОМІНВЕСТБАНК","07-229к","стягнення заборгованості","Солідарно",null,null,"-","НІ","НІ",null,null,null,null,null,null,"інформація відсутня "]
["300012__27","ПРОМІНВЕСТБАНК",63,"стягнення забезпечення","Позичальник",null,"невідомо","2010-09-09","ТАК","НІ",null,null,null,null,null,null,"НІ"]
["300012__28","ПРОМІНВЕСТБАНК","362/2-2007","стягнення заборгованості","Позичальник",null,"2014-07-29","29.08.2019-02.04.2020","НІ","ТАК",null,null,null,null,null,null,"НІ"]
["300012__29","ПРОМІНВЕСТБАНК",704,"стягнення заборгованості","Позичальник",null,"2010-05-31","2015-07-08","ТАК","НІ",null,null,null,null,null,null,"НІ"]
["300012__30","ПРОМІНВЕСТБАНК",162,"стягнення забезпечення","Позичальник",null,"2010-12-14","04.11.2011; 01.02.2012; 15.07.2013; 05.03.2015; 01.09.2016; 22.03.2019 ","НІ","ТАК",null,null,null,null,null,null,"НІ"]
["300012__30","ПРОМІНВЕСТБАНК",162,"стягнення заборгованості","Позичальник",null,"2013-09-30","2019-05-03","ТАК","НІ",null,null,null,null,null,null,"НІ"]
["300012__31","ПРОМІНВЕСТБАНК","134-146/02","стягнення заборгованості","Позичальник",null,"2009-03-27","2016-03-29","НІ","НІ",null,null,null,null,null,null,"ТАК"]
["300012__32","ПРОМІНВЕСТБАНК","21/89","банкрутство","Позичальник",null,null,null,null,null,null,null,null,"2011-06-02","2011-06-02",null,"інформація відсутня "]
["300012__33","ПРОМІНВЕСТБАНК","02-2.1/078","стягнення заборгованості","Позичальник",null,"2009-11-23","2022-07-05","ТАК","НІ",null,null,null,null,null,null,"НІ"]
["300012__33","ПРОМІНВЕСТБАНК","02-2.1/078","стягнення заборгованості","Позичальник",null,"2011-10-11","2022-07-05","ТАК","НІ",null,null,null,null,null,null,"НІ"]
["300012__34","ПРОМІНВЕСТБАНК","12/32а-04","стягнення заборгованості","Позичальник",null,"2008-05-13","07.07.2008; 20.02.2013; 04.10.2016; ","НІ","НІ",null,null,null,null,null,null,"НІ"]
["300012__34","ПРОМІНВЕСТБАНК","12/32а-04","стягнення забезпечення","Поручитель",null,"2009-12-17","09.03.2010; 12.04.2013; 25.04.2014; 04.10.2016; 01.08.2019 ","НІ","НІ",null,null,null,null,null,null,"НІ"]
["300012__35","ПРОМІНВЕСТБАНК",105,"банкрутство","Позичальник",null,"2009-05-27",null,null,null,"2009-04-21","ТАК","ТАК","2010-08-11","2012-11-05",null,"НІ"]
["300012__35","ПРОМІНВЕСТБАНК",105,"стягнення заборгованості","Поручитель",null,"2009-07-16",null,null,null,null,null,null,null,null,null,"НІ"]
["300012__35","ПРОМІНВЕСТБАНК",105,"інше","3-і особи",null,null,null,null,null,null,null,null,null,null,null,"НІ"]
["300012__35","ПРОМІНВЕСТБАНК",105,"стягнення забезпечення","Поручитель",null,null,"2013-03-11","ТАК","ТАК",null,null,null,null,null,null,"НІ"]
["300012__36","ПРОМІНВЕСТБАНК",191,"стягнення заборгованості","Позичальник",null,"2009-07-24","2023-02-13","ТАК","НІ",null,null,null,null,null,null,"НІ"]
["300012__37","ПРОМІНВЕСТБАНК","18-2006Л","інше","Поручитель",null,null,"2016-10-04","ТАК","НІ",null,null,null,null,null,null,"НІ"]
["300012__37","ПРОМІНВЕСТБАНК","18-2006Л","інше","Банк",null,"2019-01-23",null,null,null,null,null,null,null,null,null,"НІ"]
["300012__37","ПРОМІНВЕСТБАНК","18-2006Л","визнання зобов'язань недійсними","Банк",null,"2019-01-23",null,null,null,null,null,null,null,null,null,"НІ"]
["300012__37","ПРОМІНВЕСТБАНК","18-2006Л","інше","Банк",null,"2020-01-15",null,null,null,null,null,null,null,null,null,"НІ"]
["300012__38","ПРОМІНВЕСТБАНК","02-2.1/663","стягнення заборгованості","Позичальник",null,"2009-11-23","2022-08-31","ТАК","НІ",null,null,null,null,null,null,"НІ"]
["300012__38","ПРОМІНВЕСТБАНК","02-2.1/663","стягнення заборгованості","Позичальник",null,null,null,"ні","ТАК",null,null,null,null,null,null,"НІ"]
["300012__39","ПРОМІНВЕСТБАНК",11,"стягнення заборгованості","Позичальник",null,"2011-02-09","2016-11-08","ТАК","НІ",null,null,null,null,null,null,"НІ"]
["300012__39","ПРОМІНВЕСТБАНК",11,"стягнення забезпечення","Поручитель",null,"2009-08-31","2011-05-07","НІ","НІ",null,null,null,null,null,null,"НІ"]
["300012__40","ПРОМІНВЕСТБАНК","94/2006","стягнення заборгованості","Позичальник",null,"2007-12-28","інформація відсутня",null,null,null,null,null,null,null,null,"НІ"]
["300012__40","ПРОМІНВЕСТБАНК","94/2006","банкрутство","Позичальник",null,null,null,null,null,null,null,null,null,null,null,"НІ"]
["300012__41","ПРОМІНВЕСТБАНК",32,"стягнення заборгованості","Позичальник",null,"2009-02-04","2012-11-21","ТАК","НІ",null,null,null,null,null,null,"ТАК"]
["300012__41","ПРОМІНВЕСТБАНК",32,"стягнення заборгованості","Позичальник",null,"2009-09-01","2012-11-11","ТАК","НІ",null,null,null,null,null,null,"ТАК"]
["300012__42","ПРОМІНВЕСТБАНК","22-24/02","стягнення забезпечення","Поручитель",null,"2009-03-02","2022-08-17","ТАК","ТАК",null,null,null,null,null,null,"НІ"]
["300012__42","ПРОМІНВЕСТБАНК","22-24/02","стягнення заборгованості","Позичальник",null,"2012-04-06","2013-04-18","НІ","НІ",null,null,null,null,null,null,"НІ"]
["300012__43","ПРОМІНВЕСТБАНК","268-02-79","стягнення заборгованості","Позичальник",null,"2010-08-10","2022-10-28","ТАК","НІ","2011-08-03","ТАК","ТАК","2011-08-15","2017-04-03",null,"НІ"]
["300012__43","ПРОМІНВЕСТБАНК","268-02-79","стягнення забезпечення","Поручитель","2010-02-16","2010-12-15","2020-06-05","ТАК","НІ",null,null,null,null,null,null,"НІ"]
["300012__43","ПРОМІНВЕСТБАНК","268-02-79","стягнення заборгованості","Солідарно",null,"2019-11-26",null,null,null,null,null,null,null,null,null,"НІ"]
["300012__44","ПРОМІНВЕСТБАНК","53/3-06","стягнення забезпечення","Поручитель",null,"2009-08-28","2016-09-15","НІ","ТАК",null,null,null,null,null,null,"інформація відсутня "]
["300012__45","ПРОМІНВЕСТБАНК","87/3-05","стягнення забезпечення","Поручитель",null,"2009-08-28","2016-09-15","НІ","ТАК",null,null,null,null,null,null,"інформація відсутня "]
["300012__45","ПРОМІНВЕСТБАНК","87/3-05","стягнення забезпечення","Позичальник",null,"2008-07-30","2011-10-13","НІ","ТАК",null,null,null,null,null,null,"інформація відсутня "]
["300012__46","ПРОМІНВЕСТБАНК","25","Інформація відсутня",null,null,null,null,null,null,null,null,null,null,null,null,"інформація відсутня "]
["300012__47","ПРОМІНВЕСТБАНК","70/210","Інформація відсутня",null,null,null,null,null,null,"2009-01-19","ТАК","ТАК","2010-10-06"," 13.01.2011",null,"інформація відсутня "]
["300012__48","ПРОМІНВЕСТБАНК","689-04/08","стягнення заборгованості","Позичальник",null,"2011-07-05","2019-07-23","ТАК","ТАК",null,null,null,null,null,null,"інформація відсутня "]
["300012__49","ПРОМІНВЕСТБАНК","148/10","ППР не здійснюється",null,null,null,null,null,null,null,null,null,null,null,null,"інформація відсутня "]
["300012__50","ПРОМІНВЕСТБАНК","119/02-08","стягнення заборгованості","Позичальник",null,"2009-03-17","2022-08-08","ТАК","НІ",null,null,null,null,null,null,"НІ"]
["300012__50","ПРОМІНВЕСТБАНК","119/02-08","стягнення заборгованості","Солідарно",null,"2010-06-01",null,null,null,null,null,null,null,null,null,"НІ"]
["300012__50","ПРОМІНВЕСТБАНК","119/02-08","банкрутство","Поручитель",null,"2011-12-09",null,null,null,null,null,null,null,null,"так","НІ"]
["300012__51","ПРОМІНВЕСТБАНК","241/02-08","стягнення заборгованості","Позичальник",null,"2009-03-17","2009-08-10","НІ","НІ",null,null,null,null,null,null,"НІ"]
["300012__51","ПРОМІНВЕСТБАНК","241/02-08","стягнення заборгованості","Солідарно",null,"2010-07-29",null,null,null,null,null,null,null,null,null,"НІ"]
["300012__51","ПРОМІНВЕСТБАНК","241/02-08","банкрутство","Поручитель",null,"2011-12-09",null,null,null,null,null,null,null,null,"так","НІ"]
["300012__52","ПРОМІНВЕСТБАНК","044-60-01-15","стягнення забезпечення","Позичальник",null,null,"2016-03-16","НІ","НІ",null,null,null,null,null,null,"інформація відсутня "]
["300012__53","ПРОМІНВЕСТБАНК","11/3-07","стягнення заборгованості","Солідарно",null,"2009-12-30","2016-08-05","НІ","ТАК",null,null,null,null,null,null,"НІ"]
["300012__53","ПРОМІНВЕСТБАНК","11/3-07","визнання зобов'язань недійсними","Поручитель",null,null,null,null,null,null,null,null,null,null,null,"НІ"]
["300012__54","ПРОМІНВЕСТБАНК","157/2-06","стягнення заборгованості","Позичальник",null,"2011-02-23","2014-12-10","НІ","ТАК",null,null,null,null,null,null,"НІ"]
["300012__55","ПРОМІНВЕСТБАНК","I-29/08","стягнення заборгованості","Позичальник",null,"2011-03-22","2021-02-21","ТАК","НІ",null,null,null,null,null,null,"НІ"]
["300012__55","ПРОМІНВЕСТБАНК","I-29/08","стягнення забезпечення","Поручитель",null,null,null,"НІ","ТАК",null,null,null,null,null,null,"НІ"]
["300012__55","ПРОМІНВЕСТБАНК","I-29/08","визнання зобов'язань недійсними","Банк",null,null,null,null,null,null,null,null,null,null,null,"НІ"]
["300012__55","ПРОМІНВЕСТБАНК","I-29/08","інше","3-і особи",null,"2019-05-16",null,null,null,null,null,null,null,null,null,"НІ"]
["300012__56","ПРОМІНВЕСТБАНК","42-2005Л","банкрутство","Позичальник",null,"2010-09-02",null,null,null,"2010-09-02","ТАК","ТАК","2010-10-04"," 14.02.2012 ",null,"НІ"]
["300012__56","ПРОМІНВЕСТБАНК","42-2005Л","банкрутство","Поручитель",null,"2010-11-12",null,null,null,null,null,null,null,null,null,"НІ"]
["300012__56","ПРОМІНВЕСТБАНК","42-2005Л","визнання зобов'язань недійсними","Банк",null,null,null,null,null,null,null,null,null,null,null,"НІ"]
["300012__56","ПРОМІНВЕСТБАНК","42-2005Л","інше","Банк",null,null,null,null,null,null,null,null,null,null,null,"НІ"]
["300012__56","ПРОМІНВЕСТБАНК","42-2005Л","визнання зобов'язань недійсними","Банк",null,null,null,null,null,null,null,null,null,null,null,"НІ"]
["300012__56","ПРОМІНВЕСТБАНК","42-2005Л","інше","Банк",null,null,null,null,null,null,null,null,null,null,null,"НІ"]
["300012__56","ПРОМІНВЕСТБАНК","42-2005Л","інше","Банк",null,null,null,null,null,null,null,null,null,null,null,"НІ"]
["300012__57","ПРОМІНВЕСТБАНК","03-1/117-224-03/07","стягнення заборгованості","Позичальник",null,"2009-09-03","2021-06-10","ТАК","НІ",null,null,null,null,null,null,"ТАК"]
["300012__58","ПРОМІНВЕСТБАНК","396/02-08","стягнення заборгованості","Позичальник",null,"2008-09-08","2010-09-20","НІ","ТАК",null,null,null,null,null,null,"НІ"]
["300012__58","ПРОМІНВЕСТБАНК","396/02-08","стягнення заборгованості","Позичальник",null,"2010-01-26",null,null,null,null,null,null,null,null,null,"НІ"]
["300012__59","ПРОМІНВЕСТБАНК","527","стягнення заборгованості","Позичальник",null," 14.07.2014","31.05.2016; 20.10.2021","ТАК","НІ",null,null,null,null,null,null,"інформація відсутня"]
["300012__60","ПРОМІНВЕСТБАНК","224","стягнення заборгованості","Позичальник",null,"03.09.2009","2009-10-17","ТАК","НІ",null,null,null,null,null,null,"НІ"]
["300012__61","ПРОМІНВЕСТБАНК","1/07","Інформація відсутня",null,null,null,null,null,null,null,null,null,null,null,null,"НІ"]
["300012__62","ПРОМІНВЕСТБАНК","23/1-08","стягнення забезпечення","Поручитель",null,"2010-12-31","30.07.2013; 29.01.2014","НІ","ТАК","2011-09-15","НІ","НІ","2011-10-25","2012-12-18",null,"НІ"]
["300012__63","ПРОМІНВЕСТБАНК","140/772","стягнення заборгованості","Позичальник",null,"2006-04-20","29.09.2006р. - немає інформації","НІ","НІ",null,null,null,null,null,null,"НІ"]
["300012__64","ПРОМІНВЕСТБАНК","104/569","стягнення заборгованості","Позичальник",null,"2006-03-15","2006-06-02","НІ","НІ",null,null,null,null,null,null,"НІ"]
["300012__65","ПРОМІНВЕСТБАНК","03-27","стягнення заборгованості","Позичальник",null,"2008-04-14","26.07.2008; 26.03.2014","НІ","НІ",null,null,null,null,null,null,"НІ"]
["300012__65","ПРОМІНВЕСТБАНК","03-27","стягнення заборгованості","Солідарно",null,"08.08.2006","20.02.2007; 18.12.2008; 15.11.2012; 11.09.2014;19.10.2015 ","ТАК","НІ",null,null,null,null,null,null,"НІ"]
["300012__66","ПРОМІНВЕСТБАНК","45-08\\КР","стягнення заборгованості","Позичальник",null,"2010-01-22","2022-01-19","ТАК","ТАК",null,null,null,null,null,null,"НІ"]
["300012__67","ПРОМІНВЕСТБАНК","265/02-06","стягнення заборгованості","Позичальник",null,"2008-09-08","2009-03-11","НІ","НІ",null,null,null,null,null,null,"НІ"]
["300012__67","ПРОМІНВЕСТБАНК","265/02-06","стягнення заборгованості","Позичальник",null,"2009-02-17","2010-01-25","НІ","НІ",null,null,null,null,null,null,"НІ"]
["300012__67","ПРОМІНВЕСТБАНК","265/02-06","стягнення забезпечення","Поручитель",null,"2009-12-11","2010-06-17","НІ","НІ",null,null,null,null,null,null,"НІ"]
["300012__67","ПРОМІНВЕСТБАНК","265/02-06","стягнення забезпечення","Поручитель",null,"2009-12-11","2010-06-17","НІ","НІ",null,null,null,null,null,null,"НІ"]
["300012__67","ПРОМІНВЕСТБАНК","265/02-06","стягнення заборгованості","Солідарно",null,"2009-12-11",null,null,null,null,null,null,null,null,null,"НІ"]
["300012__68","ПРОМІНВЕСТБАНК","23/32a-04","стягнення заборгованості","Позичальник",null,"1905-07-01","В АСВП відсутня інформація про виконавчі провадження",null,null,null,null,null,null,null,null,"інформація відсутня"]
["300012__69","ПРОМІНВЕСТБАНК","02-07/1640","стягнення заборгованості","Позичальник",null,"2008-09-30","2009-01-18","НІ","НІ",null,null,null,null,null,null,"інформація відсутня"]
["300012__70","ПРОМІНВЕСТБАНК","25","стягнення заборгованості","Позичальник",null,"2009-05-07","20.07.2009 - 25.09.2009","НІ","НІ",null,null,null,null,null,null,"інформація відсутня"]
["300012__71","ПРОМІНВЕСТБАНК","145/799","стягнення заборгованості","Позичальник",null,"2006-04-20","2007-06-13","НІ","НІ",null,null,null,null,null,null,"інформація відсутня"]
["300012__72","ПРОМІНВЕСТБАНК","61/32-04","стягнення заборгованості","Позичальник",null,"2010-09-01","2019-02-07","ні","НІ",null,null,null,null,null,null,"НІ"]
["300012__73","ПРОМІНВЕСТБАНК","89/501","стягнення заборгованості","Позичальник",null,"2006-06-15","10.11.2006 - 10.07.2007 ","НІ","НІ",null,null,null,null,null,null,"інформація відсутня"]
["300012__74","ПРОМІНВЕСТБАНК","20-0299/2-1","банкрутство","Позичальник","2014-05-29","2016-03-09",null,null,null,"2016-02-16","ТАК","ТАК","2017-05-16",null,null,"НІ"]
["300012__74","ПРОМІНВЕСТБАНК","20-0299/2-1","банкрутство","Позичальник",null,null,null,null,null,"2015-02-02","так","так ",null,null,null,"НІ"]
["300012__75","ПРОМІНВЕСТБАНК","20-0841/2-1","стягнення заборгованості","Позичальник","2014-05-29","2014-08-01","2015-03-16","НІ","НІ","2016-02-16","ТАК","ТАК","2017-05-16",null,null,"НІ"]
["300012__76","ПРОМІНВЕСТБАНК","20-0298/3-2","ППР не здійснюється",null,null,null,null,null,null,null,null,null,null,null,null,"НІ"]
["300012__77","ПРОМІНВЕСТБАНК","20-0298/3-2","банкрутство","Позичальник",null,"2016-03-09",null,null,null,"2016-02-23","Так","Так ","2017-05-16",null,null,"НІ"]
[null,"",""]
[null,"",""]
["«Недійсність (нікчемність), припинення всіх або будь-якого із прав, що складають Майнові права за цим лотом, або неможливість реалізації покупцем будь-якого із Майнових прав, набутих ним за договором купівлі-продажу Майнових прав за цим лотом, не вплине на дійсність договору купівлі-продажу Майнових прав за цим лотом та Покупець погоджується, що Продавець не несе жодної відповідальності за такі наслідки.\nБанк (продавець) та/або Фонд не відповідає за неотримання покупцем грошових коштів або іншого майна, які покупець очікував отримати від Майнових прав, набуваючи у власність Майнові права за цим лотом.\nПриймаючи рішення щодо придбання Майнових прав за цим лотом покупець має розуміти (усвідомлювати) характер Майнових прав, що переходять до покупця за цим лотом, та приймати усі ризики, пов’язані із таким переходом, у тому числі ризики того, що покупець у майбутньому не зможе отримати жодних коштів або майна за Майновими правами.»"]
["Цей документ був підготовлений Фондом гарантування вкладів фізичних осіб (далі – Фонд) виключно для інформаційних цілей і не повинен вважатися як спонукання до будь-яких дій чи бездіяльності.  Інформація, що міститься в цьому документі, була отримана з/або ґрунтується на джерелах, які вважаються надійними, але не є вичерпною та не може сприйматися як повна або актуальна. Рішення покупця щодо будь-яких дій або бездіяльності повинно ґрунтуватися на власних оцінках та дослідженнях майна (активу/активів), котре реалізується. Фонд не несе відповідальності за рішення покупця та його наслідки, що ґрунтується на інформації, викладеній в даному документі."]
["Покупцем не може бути особа, пов'язана з державою-агресором, відповідно до Постанови Кабінету Міністрів України №187 від 03.03.2022 (зі змінами)."]
["Звертаємо увагу, що  на період дії воєнного стану на території України  договори посвідчуються нотаріусом, який включений до затвердженого Міністерством юстиції переліку (https://minjust.gov.ua/news/ministry/perelik-notariusiv-yakimi-v-umovah-voennogo-stanu-vchinyayutsya-notarialni-dii-schodo-tsinnogo-mayna). Нотаріальне посвідчення договорів відчуження нерухомого майна на час дії воєнного стану здійснюється нотаріусом, який включений до затвердженого Міністерством юстиції переліку, за місцезнаходженням такого майна. Виключенням є м. Київ та Київська область, де договори відчуження нерухомого майна посвідчуються нотаріусом з м. Києва або Київської обл. за місцезнаходженням такого майна, або місцезнаходженням юридичної особи, або за зареєстрованим місцем проживання фізичної особи - однієї із сторін договору."]
[null,"",""]
[null,"",""]
[null,"",""]
[null,"",""]
[null,"",""]
[null,"",""]
[null,"",""]
[null,"",""]
[null,"",""]
[null,"",""]
[null,"",""]
[null,"",""]
[null,"",""]
[null,"",""]
[null,"",""]
[null,"",""]
[null,"",""]
[null,"",""]
[null,"",""]
[null,"",""]
[null,"",""]
[null,"",""]
[null,"",""]
[null,"",""]
[null,"",""]
[null,"",""]
[null,"",""]
[null,"",""]
[null,"",""]
[null,"",""]
[null,"",""]
[null,"",""]
[null,"",""]
[null,"",""]
[null,"",""]
[null,"",""]
[null,"",""]
[null,"",""]
[null,"",""]
[null,"",""]
[null,"",""]
[null,"",""]
[null,"",""]
[null,"",""]
[null,"",""]
[null,"",""]
[null,"",""]
[null,"",""]
[null,"",""]
[null,"",""]
[null,"",""]
[null,"",""]
[null,"",""]
[null,"",""]
[null,"",""]
[null,"",""]
[null,"",""]
[null,"",""]
[null,"",""]
[null,"",""]
[null,"",""]
[null,"",""]
[null,"",""]
[null,"",""]
[null,"",""]
[null,"",""]
[null,"",""]
[null,"",""]
[null,"",""]
[null,"",""]
[null,"",""]
[null,"",""]
[null,"",""]
[null,"",""]
[null,"",""]
[null,"",""]
[null,"",""]
[null,"",""]
[null,"",""]
[null,"",""]
[null,"",""]
[null,"",""]
[null,"",""]
[null,"",""]
[null,"",""]
[null,"",""]
[null,"",""]
[null,"",""]
[null,"",""]
[null,"",""]
[null,"",""]
[null,"",""]
[null,"",""]
[null,"",""]
[null,"",""]
[null,"",""]
[null,"",""]
[null,"",""]
[null,"",""]
[null,"",""]
[null,"",""]
[null,"",""]
[null,"",""]
[null,"",""]
[null,"",""]
[null,"",""]
[null,"",""]
[null,"",""]
[null,"",""]
[null,"",""]
[null,"",""]
[null,"",""]
[null,"",""]
[null,"",""]
[null,"",""]
[null,"",""]
[null,"",""]
[null,"",""]
[null,"",""]
[null,"",""]
[null,"",""]
[null,"",""]
[null,"",""]
[null,"",""]
[null,"",""]
[null,"",""]
[null,"",""]
[null,"",""]
[null,"",""]
[null,"",""]
[null,"",""]
[null,"",""]
[null,"",""]
[null,"",""]
[null,"",""]
[null,"",""]
[null,"",""]
[null,"",""]
[null,"",""]
[null,"",""]
[null,"",""]
[null,"",""]
[null,"",""]
[null,"",""]
[null,"",""]
[null,"",""]
[null,"",""]
[null,"",""]
[null,"",""]
[null,"",""]
[null,"",""]
[null,"",""]
[null,"",""]
[null,"",""]
[null,"",""]
[null,"",""]
[null,"",""]
[null,"",""]
[null,"",""]
[null,"",""]
[null,"",""]
[null,"",""]
[null,"",""]
[null,"",""]
[null,"",""]
[null,"",""]
[null,"",""]
[null,"",""]
[null,"",""]
[null,"",""]
[null,"",""]
[null,"",""]
[null,"",""]
[null,"",""]
[null,"",""]
[null,"",""]
[null,"",""]
[null,"",""]
[null,"",""]
[null,"",""]
[null,"",""]
[null,"",""]
[null,"",""]
[null,"",""]
[null,"",""]
[null,"",""]
[null,"",""]
[null,"",""]
[null,"",""]
[null,"",""]
[null,"",""]
[null,"",""]
[null,"",""]
[null,"",""]
[null,"",""]
[null,"",""]
[null,"",""]
[null,"",""]
[null,"",""]
[null,"",""]
[null,"",""]
[null,"",""]
[null,"",""]
[null,"",""]
[null,"",""]
[null,"",""]
[null,"",""]
[null,"",""]
[null,"",""]
[null,"",""]
[null,"",""]
[null,"",""]
[null,"",""]
[null,"",""]
[null,"",""]
[null,"",""]
[null,"",""]
[null,"",""]
[null,"",""]
[null,"",""]
[null,"",""]
[null,"",""]
[null,"",""]
[null,"",""]
[null,"",""]
[null,"",""]
[null,"",""]
[null,"",""]
[null,"",""]
[null,"",""]
[null,"",""]
[null,"",""]
[null,"",""]
[null,"",""]
[null,"",""]
[null,"",""]
[null,"",""]
[null,"",""]
[null,"",""]
[null,"",""]
[null,"",""]
[null,"",""]
[null,"",""]
[null,"",""]
[null,"",""]
[null,"",""]
[null,"",""]
[null,"",""]
[null,"",""]
[null,"",""]
[null,"",""]
[null,"",""]
[null,"",""]
[null,"",""]
[null,"",""]
[null,"",""]
[null,"",""]
[null,"",""]
[null,"",""]
[null,"",""]
[null,"",""]
[null,"",""]
[null,"",""]
[null,"",""]
[null,"",""]
[null,"",""]
[null,"",""]
[null,"",""]
[null,"",""]
[null,"",""]
[null,"",""]
[null,"",""]
[null,"",""]
[null,"",""]
[null,"",""]
[null,"",""]
[null,"",""]
[null,"",""]
[null,"",""]
[null,"",""]
[null,"",""]
[null,"",""]
[null,"",""]
[null,"",""]
[null,"",""]
[null,"",""]
[null,"",""]
[null,"",""]
[null,"",""]
[null,"",""]
[null,"",""]
[null,"",""]
[null,"",""]
[null,"",""]
[null,"",""]
[null,"",""]
[null,"",""]
[null,"",""]
[null,"",""]
[null,"",""]
[null,"",""]
[null,"",""]
[null,"",""]
[null,"",""]
[null,"",""]
[null,"",""]
[null,"",""]
[null,"",""]
[null,"",""]
[null,"",""]
[null,"",""]
[null,"",""]
[null,"",""]
[null,"",""]
[null,"",""]
[null,"",""]
[null,"",""]
[null,"",""]
[null,"",""]
[null,"",""]
[null,"",""]
[null,"",""]
[null,"",""]
[null,"",""]
[null,"",""]
[null,"",""]
[null,"",""]
[null,"",""]
[null,"",""]
[null,"",""]
[null,"",""]
[null,"",""]
[null,"",""]
[null,"",""]
[null,"",""]
[null,"",""]
[null,"",""]
[null,"",""]
[null,"",""]
[null,"",""]
[null,"",""]
[null,"",""]
[null,"",""]
[null,"",""]
[null,"",""]
[null,"",""]
[null,"",""]
[null,"",""]
[null,"",""]
[null,"",""]
[null,"",""]
[null,"",""]
[null,"",""]
[null,"",""]
[null,"",""]
[null,"",""]
[null,"",""]
[null,"",""]
[null,"",""]
[null,"",""]
[null,"",""]
[null,"",""]
[null,"",""]
[null,"",""]
[null,"",""]
[null,"",""]
[null,"",""]
[null,"",""]
[null,"",""]
[null,"",""]
[null,"",""]
[null,"",""]
[null,"",""]
[null,"",""]
[null,"",""]
[null,"",""]
[null,"",""]
[null,"",""]
[null,"",""]
[null,"",""]
[null,"",""]
[null,"",""]
[null,"",""]
[null,"",""]
[null,"",""]
[null,"",""]
[null,"",""]
[null,"",""]
[null,"",""]
[null,"",""]
[null,"",""]
[null,"",""]
[null,"",""]
[null,"",""]
[null,"",""]
[null,"",""]
[null,"",""]
[null,"",""]
[null,"",""]
[null,"",""]
[null,"",""]
[null,"",""]
[null,"",""]
[null,"",""]
[null,"",""]
[null,"",""]
[null,"",""]
[null,"",""]
[null,"",""]
[null,"",""]
[null,"",""]
[null,"",""]
[null,"",""]
[null,"",""]
[null,"",""]
[null,"",""]
[null,"",""]
[null,"",""]
[null,"",""]
[null,"",""]
[null,"",""]
[null,"",""]
[null,"",""]
[null,"",""]
[null,"",""]
[null,"",""]
[null,"",""]
[null,"",""]
[null,"",""]
[null,"",""]
[null,"",""]
[null,"",""]
[null,"",""]
[null,"",""]
[null,"",""]
[null,"",""]
[null,"",""]
[null,"",""]
[null,"",""]
[null,"",""]
[null,"",""]
[null,"",""]
[null,"",""]
[null,"",""]
[null,"",""]
[null,"",""]
[null,"",""]
[null,"",""]
[null,"",""]
[null,"",""]
[null,"",""]
[null,"",""]
[null,"",""]
[null,"",""]
[null,"",""]
[null,"",""]
[null,"",""]
[null,"",""]
[null,"",""]
[null,"",""]
[null,"",""]
[null,"",""]
[null,"",""]
[null,"",""]
[null,"",""]
[null,"",""]
[null,"",""]
[null,"",""]
[null,"",""]
[null,"",""]
[null,"",""]
[null,"",""]
[null,"",""]
[null,"",""]
[null,"",""]
[null,"",""]
[null,"",""]
[null,"",""]
[null,"",""]
[null,"",""]
[null,"",""]
[null,"",""]
[null,"",""]
[null,"",""]
[null,"",""]
[null,"",""]
[null,"",""]
[null,"",""]
[null,"",""]
[null,"",""]
[null,"",""]
[null,"",""]
[null,"",""]
[null,"",""]
[null,"",""]
[null,"",""]
[null,"",""]
[null,"",""]
[null,"",""]
[null,"",""]
[null,"",""]
[null,"",""]
[null,"",""]
[null,"",""]
[null,"",""]
[null,"",""]
[null,"",""]
[null,"",""]
[null,"",""]
[null,"",""]
[null,"",""]
[null,"",""]
[null,"",""]
[null,"",""]
[null,"",""]
[null,"",""]
[null,"",""]
[null,"",""]
[null,"",""]
[null,"",""]
[null,"",""]
[null,"",""]
[null,"",""]
[null,"",""]
[null,"",""]
[null,"",""]
[null,"",""]
[null,"",""]
[null,"",""]
[null,"",""]
[null,"",""]
[null,"",""]
[null,"",""]
[null,"",""]
[null,"",""]
[null,"",""]
[null,"",""]
[null,"",""]
[null,"",""]
[null,"",""]
[null,"",""]
[null,"",""]
[null,"",""]
[null,"",""]
[null,"",""]
[null,"",""]
[null,"",""]
[null,"",""]
[null,"",""]
[null,"",""]
[null,"",""]
[null,"",""]
[null,"",""]
[null,"",""]
[null,"",""]
[null,"",""]
[null,"",""]
[null,"",""]
[null,"",""]
[null,"",""]
[null,"",""]
[null,"",""]
[null,"",""]
[null,"",""]
[null,"",""]
[null,"",""]
[null,"",""]
[null,"",""]
[null,"",""]
[null,"",""]
[null,"",""]
[null,"",""]
[null,"",""]
[null,"",""]
[null,"",""]
[null,"",""]
[null,"",""]
[null,"",""]
[null,"",""]
[null,"",""]
[null,"",""]
[null,"",""]
[null,"",""]
[null,"",""]
[null,"",""]
[null,"",""]
[null,"",""]
[null,"",""]
[null,"",""]
[null,"",""]
[null,"",""]
[null,"",""]
[null,"",""]
[null,"",""]
[null,"",""]
[null,"",""]
[null,"",""]
[null,"",""]
[null,"",""]
[null,"",""]
[null,"",""]
[null,"",""]
[null,"",""]
[null,"",""]
[null,"",""]
[null,"",""]
[null,"",""]
[null,"",""]
[null,"",""]
[null,"",""]
[null,"",""]
[null,"",""]
[null,"",""]
[null,"",""]
[null,"",""]
[null,"",""]
[null,"",""]
[null,"",""]
[null,"",""]
[null,"",""]
[null,"",""]
[null,"",""]
[null,"",""]
[null,"",""]
[null,"",""]
[null,"",""]
[null,"",""]
[null,"",""]
[null,"",""]
[null,"",""]
[null,"",""]
[null,"",""]
[null,"",""]
[null,"",""]
[null,"",""]
[null,"",""]
[null,"",""]
[null,"",""]
[null,"",""]
[null,"",""]
[null,"",""]
[null,"",""]
[null,"",""]
[null,"",""]
[null,"",""]
[null,"",""]
[null,"",""]
[null,"",""]
[null,"",""]
[null,"",""]
[null,"",""]
[null,"",""]
[null,"",""]
[null,"",""]
[null,"",""]
[null,"",""]
[null,"",""]
[null,"",""]
[null,"",""]
[null,"",""]
[null,"",""]
[null,"",""]
[null,"",""]
[null,"",""]
[null,"",""]
[null,"",""]
[null,"",""]
[null,"",""]
[null,"",""]
[null,"",""]
[null,"",""]
[null,"",""]
[null,"",""]
[null,"",""]
[null,"",""]
[null,"",""]
[null,"",""]
[null,"",""]
[null,"",""]
[null,"",""]
[null,"",""]
[null,"",""]
[null,"",""]
[null,"",""]
[null,"",""]
[null,"",""]
[null,"",""]
[null,"",""]
[null,"",""]
[null,"",""]
[null,"",""]
[null,"",""]
[null,"",""]
[null,"",""]
[null,"",""]
[null,"",""]
[null,"",""]
[null,"",""]
[null,"",""]
[null,"",""]
[null,"",""]
[null,"",""]
[null,"",""]
[null,"",""]
[null,"",""]
[null,"",""]
[null,"",""]
[null,"",""]
[null,"",""]
[null,"",""]
[null,"",""]
[null,"",""]
[null,"",""]
[null,"",""]
[null,"",""]
[null,"",""]
[null,"",""]
[null,"",""]
[null,"",""]
[null,"",""]
[null,"",""]
[null,"",""]
[null,"",""]
[null,"",""]
[null,"",""]
[null,"",""]
[null,"",""]
[null,"",""]
[null,"",""]
[null,"",""]
[null,"",""]
[null,"",""]
[null,"",""]
[null,"",""]
[null,"",""]
[null,"",""]
[null,"",""]
[null,"",""]
[null,"",""]
[null,"",""]
[null,"",""]
[null,"",""]
[null,"",""]
[null,"",""]
[null,"",""]
[null,"",""]
[null,"",""]
[null,"",""]
[null,"",""]
[null,"",""]
[null,"",""]
[null,"",""]
[null,"",""]
[null,"",""]
[null,"",""]
[null,"",""]
[null,"",""]
[null,"",""]
[null,"",""]
[null,"",""]
[null,"",""]
[null,"",""]
[null,"",""]
[null,"",""]
[null,"",""]
[null,"",""]
[null,"",""]
[null,"",""]
[null,"",""]
[null,"",""]
[null,"",""]
[null,"",""]
[null,"",""]
[null,"",""]
[null,"",""]
[null,"",""]
[null,"",""]
[null,"",""]
[null,"",""]
[null,"",""]
[null,"",""]
[null,"",""]
[null,"",""]
[null,"",""]
[null,"",""]
[null,"",""]
[null,"",""]
[null,"",""]
[null,"",""]
[null,"",""]
[null,"",""]
[null,"",""]
[null,"",""]
[null,"",""]
[null,"",""]
[null,"",""]
[null,"",""]
[null,"",""]
[null,"",""]
[null,"",""]
[null,"",""]
[null,"",""]
[null,"",""]
[null,"",""]
[null,"",""]
[null,"",""]
[null,"",""]
[null,"",""]
[null,"",""]
[null,"",""]
[null,"",""]
[null,"",""]
[null,"",""]
[null,"",""]
[null,"",""]
[null,"",""]
[null,"",""]
[null,"",""]
[null,"",""]
[null,"",""]
[null,"",""]
[null,"",""]
[null,"",""]
[null,"",""]
[null,"",""]
[null,"",""]
[null,"",""]
[null,"",""]
[null,"",""]
[null,"",""]
[null,"",""]
[null,"",""]
[null,"",""]
[null,"",""]
[null,"",""]
[null,"",""]
[null,"",""]
[null,"",""]
[null,"",""]
[null,"",""]
[null,"",""]
[null,"",""]
[null,"",""]
[null,"",""]
[null,"",""]
[null,"",""]
[null,"",""]
[null,"",""]
[null,"",""]
[null,"",""]
[null,"",""]
[null,"",""]
[null,"",""]
[null,"",""]
[null,"",""]
[null,"",""]
[null,"",""]
[null,"",""]
[null,"",""]
[null,"",""]
[null,"",""]
[null,"",""]
[null,"",""]
[null,"",""]
[null,"",""]
[null,"",""]
[null,"",""]
[null,"",""]
[null,"",""]
[null,"",""]
[null,"",""]
[null,"",""]
[null,"",""]
[null,"",""]
[null,"",""]
[null,"",""]
[null,"",""]
[null,"",""]
[null,"",""]
[null,"",""]
[null,"",""]
[null,"",""]
[null,"",""]
[null,"",""]
[null,"",""]
[null,"",""]
[null,"",""]
[null,"",""]
[null,"",""]
[null,"",""]
[null,"",""]
[null,"",""]
[null,"",""]
[null,"",""]
[null,"",""]
[null,"",""]
[null,"",""]
[null,"",""]
[null,"",""]
[null,"",""]
[null,"",""]
[null,"",""]
[null,"",""]
[null,"",""]
[null,"",""]
[null,"",""]
[null,"",""]
[null,"",""]
[null,"",""]
[null,"",""]
[null,"",""]
[null,"",""]
[null,"",""]
[null,"",""]
[null,"",""]
[null,"",""]
[null,"",""]
[null,"",""]
[null,"",""]
[null,"",""]
[null,"",""]
[null,"",""]
[null,"",""]
[null,"",""]
[null,"",""]
[null,"",""]
[null,"",""]
[null,"",""]
[null,"",""]
[null,"",""]
[null,"",""]
[null,"",""]
[null,"",""]
[null,"",""]
[null,"",""]
[null,"",""]
[null,"",""]
[null,"",""]
[null,"",""]
[null,"",""]
[null,"",""]
[null,"",""]
[null,"",""]
[null,"",""]
[null,"",""]
[null,"",""]
[null,"",""]
[null,"",""]
[null,"",""]
[null,"",""]
[null,"",""]
[null,"",""]
[null,"",""]
[null,"",""]
[null,"",""]
[null,"",""]
[null,"",""]
[null,"",""]
[null,"",""]
[null,"",""]
[null,"",""]
[null,"",""]
[null,"",""]
[null,"",""]
[null,"",""]
[null,"",""]
[null,"",""]
[null,"",""]
[null,"",""]
[null,"",""]
[null,"",""]
[null,"",""]
[null,"",""]
[null,"",""]
[null,"",""]
[null,"",""]
[null,"",""]
[null,"",""]
[null,"",""]
[null,"",""]
[null,"",""]
[null,"",""]
[null,"",""]
[null,"",""]
[null,"",""]
[null,"",""]
[null,"",""]
[null,"",""]
[null,"",""]
[null,"",""]
[null,"",""]
[null,"",""]
[null,"",""]
[null,"",""]
[null,"",""]
[null,"",""]
[null,"",""]
[null,"",""]
[null,"",""]
[null,"",""]
[null,"",""]
[null,"",""]
[null,"",""]
[null,"",""]
[null,"",""]
[null,"",""]
[null,"",""]
[null,"",""]
[null,"",""]
[null,"",""]
[null,"",""]
[null,"",""]
[null,"",""]
[null,"",""]
[null,"",""]
[null,"",""]
[null,"",""]
[null,"",""]
[null,"",""]
[null,"",""]
[null,"",""]
[null,"",""]
[null,"",""]
[null,"",""]
[null,"",""]
[null,"",""]
[null,"",""]
[null,"",""]
[null,"",""]
[null,"",""]
[null,"",""]
[null,"",""]
[null,"",""]
[null,"",""]
[null,"",""]
[null,"",""]
[null,"",""]
[null,"",""]
[null,"",""]
[null,"",""]
[null,"",""]
[null,"",""]
[null,"",""]
[null,"",""]
[null,"",""]
[null,"",""]
[null,"",""]
[null,"",""]
[null,"",""]
[null,"",""]
[null,"",""]
[null,"",""]
[null,"",""]
[null,"",""]
[null,"",""]
[null,"",""]
[null,"",""]
[null,"",""]
[null,"",""]
[null,"",""]
[null,"",""]
[null,"",""]
[null,"",""]
[null,"",""]
[null,"",""]
[null,"",""]
[null,"",""]
[null,"",""]
[null,"",""]
[null,"",""]
[null,"",""]
[null,"",""]
[null,"",""]
[null,"",""]
[null,"",""]
[null,"",""]
[null,"",""]
[null,"",""]
[null,"",""]
[null,"",""]
[null,"",""]
[null,"",""]
[null,"",""]
[null,"",""]
[null,"",""]
[null,"",""]
[null,"",""]
[null,"",""]
[null,"",""]
[null,"",""]
[null,"",""]
[null,"",""]
[null,"",""]
[null,"",""]
[null,"",""]
[null,"",""]
[null,"",""]
[null,"",""]
[null,"",""]
[null,"",""]
[null,"",""]
[null,"",""]
[null,"",""]
[null,"",""]
[null,"",""]
[null,"",""]
[null,"",""]
[null,"",""]
[null,"",""]
[null,"",""]
[null,"",""]
[null,"",""]
[null,"",""]
[null,"",""]
[null,"",""]
[null,"",""]
[null,"",""]
[null,"",""]
[null,"",""]
[null,"",""]
[null,"",""]
[null,"",""]
[null,"",""]
[null,"",""]
[null,"",""]
[null,"",""]
[null,"",""]
[null,"",""]
[null,"",""]
[null,"",""]
[null,"",""]
[null,"",""]
[null,"",""]
[null,"",""]
[null,"",""]
[null,"",""]
[null,"",""]
[null,"",""]
[null,"",""]
[null,"",""]
[null,"",""]
[null,"",""]
[null,"",""]
[null,"",""]
[null,"",""]
[null,"",""]
[null,"",""]
[null,"",""]
[null,"",""]
[null,"",""]
[null,"",""]
[null,"",""]
[null,"",""]
[null,"",""]
[null,"",""]
[null,"",""]
[null,"",""]
[null,"",""]
[null,"",""]
[null,"",""]
[null,"",""]
[null,"",""]
[null,"",""]
[null,"",""]
[null,"",""]
[null,"",""]
[null,"",""]
[null,"",""]
[null,"",""]
[null,"",""]
[null,"",""]
[null,"",""]
[null,"",""]
[null,"",""]
[null,"",""]
[null,"",""]
[null,"",""]
[null,"",""]
[null,"",""]
[null,"",""]
[null,"",""]
[null,"",""]
[null,"",""]
[null,"",""]
[null,"",""]
[null,"",""]
[null,"",""]
[null,"",""]
[null,"",""]
[null,"",""]
[null,"",""]
[null,"",""]
[null,"",""]
[null,"",""]
[null,"",""]
[null,"",""]
[null,"",""]
[null,"",""]
[null,"",""]
[null,"",""]
[null,"",""]
[null,"",""]
[null,"",""]
[null,"",""]
[null,"",""]
[null,"",""]
[null,"",""]
[null,"",""]
[null,"",""]
[null,"",""]
[null,"",""]
[null,"",""]
[null,"",""]
[null,"",""]
[null,"",""]
[null,"",""]
[null,"",""]
[null,"",""]
[null,"",""]
[null,"",""]
[null,"",""]
[null,"",""]
[null,"",""]
[null,"",""]
[null,"",""]
[null,"",""]
[null,"",""]
[null,"",""]
[null,"",""]
[null,"",""]
[null,"",""]
[null,"",""]
[null,"",""]
[null,"",""]
[null,"",""]
[null,"",""]
[null,"",""]
[null,"",""]
[null,"",""]
[null,"",""]
[null,"",""]
[null,"",""]
[null,"",""]
[null,"",""]
[null,"",""]
[null,"",""]
[null,"",""]
[null,"",""]
[null,"",""]
[null,"",""]
[null,"",""]
[null,"",""]
[null,"",""]
[null,"",""]
[null,"",""]
[null,"",""]
[null,"",""]
[null,"",""]
[null,"",""]
[null,"",""]
[null,"",""]
[null,"",""]
[null,"",""]
[null,"",""]
[null,"",""]
[null,"",""]
[null,"",""]
[null,"",""]
[null,"",""]
[null,"",""]
[null,"",""]
[null,"",""]
[null,"",""]
[null,"",""]
[null,"",""]
[null,"",""]
[null,"",""]
[null,"",""]
[null,"",""]
[null,"",""]
[null,"",""]
[null,"",""]
[null,"",""]
[null,"",""]
[null,"",""]
[null,"",""]
[null,"",""]
[null,"",""]
[null,"",""]
[null,"",""]
[null,"",""]
[null,"",""]
[null,"",""]
[null,"",""]
[null,"",""]
[null,"",""]
[null,"",""]
[null,"",""]
[null,"",""]
[null,"",""]
[null,"",""]
[null,"",""]
[null,"",""]
[null,"",""]
[null,"",""]
[null,"",""]
[null,"",""]
[null,"",""]
[null,"",""]
[null,"",""]
[null,"",""]
[null,"",""]
[null,"",""]
[null,"",""]
[null,"",""]
[null,"",""]
[null,"",""]
[null,"",""]
[null,"",""]
[null,"",""]
[null,"",""]
[null,"",""]
[null,"",""]
[null,"",""]
[null,"",""]
[null,"",""]
[null,"",""]
[null,"",""]
[null,"",""]
[null,"",""]
[null,"",""]
[null,"",""]
[null,"",""]
[null,"",""]
[null,"",""]
[null,"",""]
[null,"",""]
[null,"",""]
[null,"",""]
[null,"",""]
[null,"",""]
[null,"",""]
[null,"",""]
[null,"",""]
[null,"",""]
[null,"",""]
[null,"",""]
[null,"",""]
[null,"",""]
[null,"",""]
[null,"",""]
[null,"",""]
[null,"",""]
[null,"",""]
[null,"",""]
[null,"",""]
[null,"",""]
[null,"",""]
[null,"",""]
[null,"",""]
[null,"",""]
[null,"",""]
[null,"",""]
[null,"",""]
[null,"",""]
[null,"",""]
[null,"",""]
[null,"",""]
[null,"",""]
[null,"",""]
[null,"",""]
[null,"",""]
[null,"",""]
[null,"",""]
[null,"",""]
[null,"",""]
[null,"",""]
[null,"",""]
[null,"",""]
[null,"",""]
[null,"",""]
[null,"",""]
[null,"",""]
[null,"",""]
[null,"",""]
[null,"",""]
[null,"",""]
[null,"",""]
[null,"",""]
[null,"",""]
[null,"",""]
[null,"",""]
[null,"",""]
[null,"",""]
[null,"",""]
[null,"",""]
[null,"",""]
[null,"",""]
[null,"",""]
[null,"",""]
[null,"",""]
[null,"",""]
[null,"",""]
[null,"",""]
[null,"",""]
[null,"",""]
[null,"",""]
[null,"",""]
[null,"",""]
[null,"",""]
[null,"",""]
[null,"",""]
[null,"",""]
[null,"",""]
[null,"",""]
[null,"",""]
[null,"",""]
[null,"",""]
[null,"",""]
[null,"",""]
[null,"",""]
[null,"",""]
[null,"",""]
[null,"",""]
[null,"",""]
[null,"",""]
[null,"",""]
[null,"",""]
[null,"",""]
[null,"",""]
[null,"",""]
[null,"",""]
[null,"",""]
[null,"",""]
[null,"",""]
[null,"",""]
[null,"",""]
[null,"",""]
[null,"",""]
[null,"",""]
[null,"",""]
[null,"",""]
[null,"",""]
[null,"",""]
[null,"",""]
[null,"",""]
[null,"",""]
[null,"",""]
[null,"",""]
[null,"",""]
[null,"",""]
[null,"",""]
[null,"",""]
[null,"",""]
[null,"",""]
[null,"",""]
[null,"",""]
[null,"",""]
[null,"",""]
[null,"",""]
[null,"",""]
[null,"",""]
[null,"",""]
[null,"",""]
[null,"",""]
[null,"",""]
[null,"",""]
[null,"",""]
[null,"",""]
[null,"",""]
[null,"",""]
[null,"",""]
[null,"",""]
[null,"",""]
[null,"",""]
[null,"",""]
[null,"",""]
[null,"",""]
[null,"",""]
[null,"",""]
[null,"",""]
[null,"",""]
[null,"",""]
[null,"",""]
[null,"",""]
[null,"",""]
[null,"",""]
[null,"",""]
[null,"",""]
[null,"",""]
[null,"",""]
[null,"",""]
[null,"",""]
[null,"",""]
[null,"",""]
[null,"",""]
[null,"",""]
[null,"",""]
[null,"",""]
[null,"",""]
[null,"",""]
[null,"",""]
[null,"",""]
[null,"",""]
[null,"",""]
[null,"",""]
[null,"",""]
[null,"",""]
[null,"",""]
[null,"",""]
[null,"",""]
[null,"",""]
[null,"",""]
[null,"",""]
[null,"",""]
[null,"",""]
[null,"",""]
[null,"",""]
[null,"",""]
[null,"",""]
[null,"",""]
[null,"",""]
[null,"",""]
[null,"",""]
[null,"",""]
[null,"",""]
[null,"",""]
[null,"",""]
[null,"",""]
[null,"",""]
[null,"",""]
[null,"",""]
[null,"",""]
[null,"",""]
[null,"",""]

{"sheet":"4.журнал торгів","index":3,"n_rows":1284,"n_cols":8,"rows_kept":1284,"cut":false,"hidden":false,"merged":[[100,0,100,7],[101,0,101,7],[102,0,102,7],[103,0,103,7]]}
[null,"Цей документ був підготовлений Фондом гарантування вкладів фізичних осіб (далі – Фонд) виключно для інформаційних цілей і не повинен вважатися як спонукання до будь-яких дій чи бездіяльності. \nІнформація, що міститься в цьому документі, була отримана з/або ґрунтується на джерелах, які вважаються надійними, але не є вичерпною та не може сприйматися як повна або актуальна. Зокрема, але не виключно, станом на дату придбання активів допускаються несуттєві зміни лота, в складі якого продаються такі активи. Під несуттєвими змінами лота слід розуміти такі зміни характеристик активів у складі такого лота, які впливають на його балансову вартість, але не більше ніж на 10 відсотків. Рішення покупця щодо будь-яких дій або бездіяльності повинно ґрунтуватися на власних оцінках та дослідженнях майна (активу/активів), котре реалізується. Фонд не несе відповідальності за рішення покупця та його наслідки, що ґрунтується на інформації, викладеній в даному документі."]
[]
[]
[]
[]
[]
["unicid","Банк","№ кред. Дог","Кількість торгів","Початкова вартість реалізації (голландський аукціон)","Мінімальна ціна на останніх торгах (голландський аукціон)","№ лота","Дата проведення останнього аукціону "]
["351629__1","МЕГАБАНК","3-ю/2008",4,67492.83,6749.28,"GL18N022154","2023-04-03"]
["351629__2","МЕГАБАНК","22-ю/2008",4,37254.559999999998,3725.46,"GL18N022154","2023-04-03"]
["351629__3","МЕГАБАНК","23-ю/2008",4,11987.05,1198.71,"GL18N022154","2023-04-03"]
["351629__4","МЕГАБАНК","288/2007",4,262770.34000000003,26277.03,"GL18N022154","2023-04-03"]
["351629__5","МЕГАБАНК","12г/2008",4,107238.13,10723.81,"GL18N022159","2023-04-03"]
["351629__6","МЕГАБАНК","7-07/2013-MK-USD",4,499764.4,49976.44,"GL18N022160","2023-04-03"]
["351629__7","МЕГАБАНК","23/2005",4,597311.15,59731.12,"GL15N023145","2023-04-13"]
["351629__8","МЕГАБАНК","17-01/2008-МК-USD",4,4466118.7300000004,446611.87,"GL15N023145","2023-04-13"]
["351629__9","МЕГАБАНК","29-01/2008-МК-UAH",4,426874.3,42687.43,"GL15N023145","2023-04-13"]
["351629__10","МЕГАБАНК","068",4,40,4,"GL15N023145","2023-04-13"]
["351629__11","МЕГАБАНК","30-01/2008-МК-UAH",4,274211.71000000002,27421.17,"GL15N023145","2023-04-13"]
["351629__12","МЕГАБАНК","20-05в/2019",8,48146669.469999999,4814666.95,"GL18N022997",45041]
["320627__1","МР Банк","№05-В/11/32/ЮО/КЛ ",4,175334242.46000001,17533424.25,"GL16N023447","2023-05-11"]
["320627__2","МР Банк","№Т032-013006290",4,250,25,"GL16N023447","2023-05-11"]
["300012__1","ПРОМІНВЕСТБАНК","07/4-07",4,789310.54,78931.05,"GL15N022041",45002]
["300012__2","ПРОМІНВЕСТБАНК","13/4-07",4,4462777.45,446277.75,"GL15N022179",45015]
["300012__3","ПРОМІНВЕСТБАНК","38/3-07",4,623882.36,62388.24,"GL16N022177",45015]
["300012__4","ПРОМІНВЕСТБАНК","06-2.1/1018 ",4,64111257.590000004,6411125.7599999998,"GL16N022303",45028]
["300012__5","ПРОМІНВЕСТБАНК","06-2.1/1019 ",4,8438712.6999999993,843871.27,"GL16N022303",45028]
["300012__6","ПРОМІНВЕСТБАНК","1234/05-К",4,420396.69,42039.67,"GL19N022305",45028]
["300012__7","ПРОМІНВЕСТБАНК","04-02-08/218",4,27887214.359999999,2788721.44,"GL16N022300",45028]
["300012__8","ПРОМІНВЕСТБАНК","03-01-20/544822/107",4,779.91,77.989999999999995,"GL16N022300",45028]
["300012__9","ПРОМІНВЕСТБАНК","3/8/08",4,1393519.43,139351.94,"GL18N022312",45028]
["300012__10","ПРОМІНВЕСТБАНК","313-КР",4,831758.89,83175.89,"GL19N022301",45028]
["300012__11","ПРОМІНВЕСТБАНК","347",4,149918.47,14991.85,"GL18N022311",45028]
["300012__12","ПРОМІНВЕСТБАНК","1396",4,1021636.41,102163.64,"GL19N022306",45028]
["300012__13","ПРОМІНВЕСТБАНК","642/05-к",4,578523.24,57852.32,"GL15N022365",45033]
["300012__14","ПРОМІНВЕСТБАНК","997/05-к",4,299635.77,29963.58,"GL15N022365",45033]
["300012__15","ПРОМІНВЕСТБАНК","521/05-К",4,343719.41,34371.94,"GL19N022364",45033]
["300012__16","ПРОМІНВЕСТБАНК","793/05-К",4,514205.49,51420.55,"GL19N022364",45033]
["300012__17","ПРОМІНВЕСТБАНК","483/06",4,337469.69,33746.97,"GL16N022370",45033]
["300012__18","ПРОМІНВЕСТБАНК","02-05/595",4,822630.79,82263.08,"GL19N022378",45033]
["300012__19","ПРОМІНВЕСТБАНК","2257 ",4,1308024.54,130802.45,"GL19N022378",45033]
["300012__20","ПРОМІНВЕСТБАНК","02-07/797",4,382654.83,38265.480000000003,"GL19N022378",45033]
["300012__21","ПРОМІНВЕСТБАНК","02-06/1110",4,1281933.56,128193.36,"GL19N022378",45033]
["300012__22","ПРОМІНВЕСТБАНК","03-1/114",4,1040819.8,104081.98,"GL16N022366",45033]
["300012__23","ПРОМІНВЕСТБАНК","20-0541/2-1",4,424505.32,42450.53,"GL19N022372",45033]
["300012__24","ПРОМІНВЕСТБАНК","13-КЛ-04",4,3584973.81,358497.38,"GL19N022380",45033]
["300012__25","ПРОМІНВЕСТБАНК","1814/02-07",4,3110227.24,311022.71999999997,"GL19N022394",45034]
["300012__26","ПРОМІНВЕСТБАНК","07-229к",4,305543.53999999998,30554.35,"GL19N022390",45034]
["300012__27","ПРОМІНВЕСТБАНК",63,4,452628.58,45262.86,"GL15N022381",45034]
["300012__28","ПРОМІНВЕСТБАНК","362/2-2007",4,548162.22,54816.22,"GL19N022383",45034]
["300012__29","ПРОМІНВЕСТБАНК",704,4,176417.65,17641.77,"GL19N022385",45034]
["300012__30","ПРОМІНВЕСТБАНК",162,4,7913000.5800000001,791300.06,"GL19N022386",45034]
["300012__31","ПРОМІНВЕСТБАНК","134-146/02",4,564498.81999999995,56449.88,"GL19N022387",45034]
["300012__32","ПРОМІНВЕСТБАНК","21/89",4,201162.46,20116.25,"GL19N022389",45034]
["300012__33","ПРОМІНВЕСТБАНК","02-2.1/078",4,141403.87,14140.39,"GL19N022392",45034]
["300012__34","ПРОМІНВЕСТБАНК","12/32а-04",4,4317441.0199999996,431744.1,"GL19N022393",45034]
["300012__35","ПРОМІНВЕСТБАНК",105,4,1825477.41,182547.74,"GL19N022406",45036]
["300012__36","ПРОМІНВЕСТБАНК",191,4,126113.14,12611.31,"GL19N022400",45036]
["300012__37","ПРОМІНВЕСТБАНК","18-2006Л",4,155650.68,15565.07,"GL16N022398",45036]
["300012__38","ПРОМІНВЕСТБАНК","02-2.1/663",4,143275.01,14327.5,"GL15N022408",45036]
["300012__39","ПРОМІНВЕСТБАНК",11,4,450327.14,45032.71,"GL16N022556",45037]
["300012__40","ПРОМІНВЕСТБАНК","94/2006",4,105516.94,10551.69,"GL18N022571",45037]
["300012__41","ПРОМІНВЕСТБАНК",32,4,606505.29,60650.53,"GL19N022569",45037]
["300012__42","ПРОМІНВЕСТБАНК","22-24/02",4,451901.31,45190.13,"GL19N022568",45037]
["300012__43","ПРОМІНВЕСТБАНК","268-02-79",4,152729.45000000001,15272.95,"GL16N022559",45037]
["300012__44","ПРОМІНВЕСТБАНК","53/3-06",4,202348.73,20234.87,"GL19N022562",45037]
["300012__45","ПРОМІНВЕСТБАНК","87/3-05",4,103901.46,10390.15,"GL19N022562",45037]
["300012__46","ПРОМІНВЕСТБАНК","25",4,120000,12000,"GL19N023014",45040]
["300012__47","ПРОМІНВЕСТБАНК","70/210",4,530488.78,53048.88,"GL19N023015",45040]
["300012__48","ПРОМІНВЕСТБАНК","689-04/08",4,297589.77,29758.98,"GL19N023008",45040]
["300012__49","ПРОМІНВЕСТБАНК","148/10",4,289.72000000000003,28.97,"GL19N023008",45040]
["300012__50","ПРОМІНВЕСТБАНК","119/02-08",4,1646584.47,164658.45000000001,"GL19N023009",45040]
["300012__51","ПРОМІНВЕСТБАНК","241/02-08",4,867794.53,86779.45,"GL19N023009",45040]
["300012__52","ПРОМІНВЕСТБАНК","044-60-01-15",4,140000,14000,"GL19N023019",45040]
["300012__53","ПРОМІНВЕСТБАНК","11/3-07",4,1773320.69,177332.07,"GL19N023025",45041]
["300012__54","ПРОМІНВЕСТБАНК","157/2-06",4,107362.23,10736.22,"GL18N023022",45041]
["300012__55","ПРОМІНВЕСТБАНК","I-29/08",4,713326.72,71332.67,"GL19N023073",45044]
["300012__56","ПРОМІНВЕСТБАНК","42-2005Л",4,1280938.76,128093.88,"GL16N023055",45044]
["300012__57","ПРОМІНВЕСТБАНК","03-1/117-224-03/07",4,2089504.21,208950.42,"GL19N023068",45044]
["300012__58","ПРОМІНВЕСТБАНК","396/02-08",4,3142059.5,314205.95,"GL19N023070",45044]
["300012__59","ПРОМІНВЕСТБАНК","527",4,9210442.5899999999,921044.26,"GL18N023051",45044]
["300012__60","ПРОМІНВЕСТБАНК","224",4,497728.56,49772.86,"GL15N023184",45054]
["300012__61","ПРОМІНВЕСТБАНК","1/07",4,100000,10000,"GL19N023186",45054]
["300012__62","ПРОМІНВЕСТБАНК","23/1-08",4,1015248.7,101524.87,"GL19N023185",45054]
["300012__63","ПРОМІНВЕСТБАНК","140/772",4,533424.68000000005,53342.47,"GL19N023187",45054]
["300012__64","ПРОМІНВЕСТБАНК","104/569",4,519724.52,51972.45,"GL19N023190",45054]
["300012__65","ПРОМІНВЕСТБАНК","03-27",4,247411.65,24741.17,"GL19N023197",45055]
["300012__66","ПРОМІНВЕСТБАНК","45-08\\КР",4,479713.78,47971.38,"GL19N023200",45055]
["300012__67","ПРОМІНВЕСТБАНК","265/02-06",4,6240920.8200000003,624092.07999999996,"GL16N023193",45055]
["300012__68","ПРОМІНВЕСТБАНК","23/32a-04",4,1817399.08,181739.91,"GL16N023201",45055]
["300012__69","ПРОМІНВЕСТБАНК","02-07/1640",4,308478.32,30847.83,"GL18N023195",45055]
["300012__70","ПРОМІНВЕСТБАНК","25",4,457841.17,45784.12,"GL19N023209",45056]
["300012__71","ПРОМІНВЕСТБАНК","145/799",4,533424.68000000005,53342.47,"GL19N023208",45056]
["300012__72","ПРОМІНВЕСТБАНК","61/32-04",4,122782.71,12278.27,"GL15N023212",45056]
["300012__73","ПРОМІНВЕСТБАНК","89/501",4,359895.4,35989.54,"GL19N023214",45056]
["300012__74","ПРОМІНВЕСТБАНК","20-0299/2-1",4,7742694.1799999997,774269.42,"GL19N019580",45056]
["300012__75","ПРОМІНВЕСТБАНК","20-0841/2-1",4,249159189.22,24915918.920000002,"GL19N019580",45056]
["300012__76","ПРОМІНВЕСТБАНК","20-0298/3-2",4,23206.799999999999,2320.6799999999998,"GL19N019580",45056]
["300012__77","ПРОМІНВЕСТБАНК","20-0298/3-2",4,471215.45,47121.55,"GL19N019580",45056]
[]
[null,"",""]
["«Недійсність (нікчемність), припинення всіх або будь-якого із прав, що складають Майнові права за цим лотом, або неможливість реалізації покупцем будь-якого із Майнових прав, набутих ним за договором купівлі-продажу Майнових прав за цим лотом, не вплине на дійсність договору купівлі-продажу Майнових прав за цим лотом та Покупець погоджується, що Продавець не несе жодної відповідальності за такі наслідки.\nБанк (продавець) та/або Фонд не відповідає за неотримання покупцем грошових коштів або іншого майна, які покупець очікував отримати від Майнових прав, набуваючи у власність Майнові права за цим лотом.\nПриймаючи рішення щодо придбання Майнових прав за цим лотом покупець має розуміти (усвідомлювати) характер Майнових прав, що переходять до покупця за цим лотом, та приймати усі ризики, пов’язані із таким переходом, у тому числі ризики того, що покупець у майбутньому не зможе отримати жодних коштів або майна за Майновими правами.»"]
["Цей документ був підготовлений Фондом гарантування вкладів фізичних осіб (далі – Фонд) виключно для інформаційних цілей і не повинен вважатися як спонукання до будь-яких дій чи бездіяльності.  Інформація, що міститься в цьому документі, була отримана з/або ґрунтується на джерелах, які вважаються надійними, але не є вичерпною та не може сприйматися як повна або актуальна. Рішення покупця щодо будь-яких дій або бездіяльності повинно ґрунтуватися на власних оцінках та дослідженнях майна (активу/активів), котре реалізується. Фонд не несе відповідальності за рішення покупця та його наслідки, що ґрунтується на інформації, викладеній в даному документі."]
["Покупцем не може бути особа, пов'язана з державою-агресором, відповідно до Постанови Кабінету Міністрів України №187 від 03.03.2022 (зі змінами)."]
["Звертаємо увагу, що  на період дії воєнного стану на території України  договори посвідчуються нотаріусом, який включений до затвердженого Міністерством юстиції переліку (https://minjust.gov.ua/news/ministry/perelik-notariusiv-yakimi-v-umovah-voennogo-stanu-vchinyayutsya-notarialni-dii-schodo-tsinnogo-mayna). Нотаріальне посвідчення договорів відчуження нерухомого майна на час дії воєнного стану здійснюється нотаріусом, який включений до затвердженого Міністерством юстиції переліку, за місцезнаходженням такого майна. Виключенням є м. Київ та Київська область, де договори відчуження нерухомого майна посвідчуються нотаріусом з м. Києва або Київської обл. за місцезнаходженням такого майна, або місцезнаходженням юридичної особи, або за зареєстрованим місцем проживання фізичної особи - однієї із сторін договору."]
[null,"",""]
[null,"",""]
[null,"",""]
[null,"",""]
[null,"",""]
[null,"",""]
[null,"",""]
[null,"",""]
[null,"",""]
[null,"",""]
[null,"",""]
[null,"",""]
[null,"",""]
[null,"",""]
[null,"",""]
[null,"",""]
[null,"",""]
[null,"",""]
[null,"",""]
[null,"",""]
[null,"",""]
[null,"",""]
[null,"",""]
[null,"",""]
[null,"",""]
[null,"",""]
[null,"",""]
[null,"",""]
[null,"",""]
[null,"",""]
[null,"",""]
[null,"",""]
[null,"",""]
[null,"",""]
[null,"",""]
[null,"",""]
[null,"",""]
[null,"",""]
[null,"",""]
[null,"",""]
[null,"",""]
[null,"",""]
[null,"",""]
[null,"",""]
[null,"",""]
[null,"",""]
[null,"",""]
[null,"",""]
[null,"",""]
[null,"",""]
[null,"",""]
[null,"",""]
[null,"",""]
[null,"",""]
[null,"",""]
[null,"",""]
[null,"",""]
[null,"",""]
[null,"",""]
[null,"",""]
[null,"",""]
[null,"",""]
[null,"",""]
[null,"",""]
[null,"",""]
[null,"",""]
[null,"",""]
[null,"",""]
[null,"",""]
[null,"",""]
[null,"",""]
[null,"",""]
[null,"",""]
[null,"",""]
[null,"",""]
[null,"",""]
[null,"",""]
[null,"",""]
[null,"",""]
[null,"",""]
[null,"",""]
[null,"",""]
[null,"",""]
[null,"",""]
[null,"",""]
[null,"",""]
[null,"",""]
[null,"",""]
[null,"",""]
[null,"",""]
[null,"",""]
[null,"",""]
[null,"",""]
[null,"",""]
[null,"",""]
[null,"",""]
[null,"",""]
[null,"",""]
[null,"",""]
[null,"",""]
[null,"",""]
[null,"",""]
[null,"",""]
[null,"",""]
[null,"",""]
[null,"",""]
[null,"",""]
[null,"",""]
[null,"",""]
[null,"",""]
[null,"",""]
[null,"",""]
[null,"",""]
[null,"",""]
[null,"",""]
[null,"",""]
[null,"",""]
[null,"",""]
[null,"",""]
[null,"",""]
[null,"",""]
[null,"",""]
[null,"",""]
[null,"",""]
[null,"",""]
[null,"",""]
[null,"",""]
[null,"",""]
[null,"",""]
[null,"",""]
[null,"",""]
[null,"",""]
[null,"",""]
[null,"",""]
[null,"",""]
[null,"",""]
[null,"",""]
[null,"",""]
[null,"",""]
[null,"",""]
[null,"",""]
[null,"",""]
[null,"",""]
[null,"",""]
[null,"",""]
[null,"",""]
[null,"",""]
[null,"",""]
[null,"",""]
[null,"",""]
[null,"",""]
[null,"",""]
[null,"",""]
[null,"",""]
[null,"",""]
[null,"",""]
[null,"",""]
[null,"",""]
[null,"",""]
[null,"",""]
[null,"",""]
[null,"",""]
[null,"",""]
[null,"",""]
[null,"",""]
[null,"",""]
[null,"",""]
[null,"",""]
[null,"",""]
[null,"",""]
[null,"",""]
[null,"",""]
[null,"",""]
[null,"",""]
[null,"",""]
[null,"",""]
[null,"",""]
[null,"",""]
[null,"",""]
[null,"",""]
[null,"",""]
[null,"",""]
[null,"",""]
[null,"",""]
[null,"",""]
[null,"",""]
[null,"",""]
[null,"",""]
[null,"",""]
[null,"",""]
[null,"",""]
[null,"",""]
[null,"",""]
[null,"",""]
[null,"",""]
[null,"",""]
[null,"",""]
[null,"",""]
[null,"",""]
[null,"",""]
[null,"",""]
[null,"",""]
[null,"",""]
[null,"",""]
[null,"",""]
[null,"",""]
[null,"",""]
[null,"",""]
[null,"",""]
[null,"",""]
[null,"",""]
[null,"",""]
[null,"",""]
[null,"",""]
[null,"",""]
[null,"",""]
[null,"",""]
[null,"",""]
[null,"",""]
[null,"",""]
[null,"",""]
[null,"",""]
[null,"",""]
[null,"",""]
[null,"",""]
[null,"",""]
[null,"",""]
[null,"",""]
[null,"",""]
[null,"",""]
[null,"",""]
[null,"",""]
[null,"",""]
[null,"",""]
[null,"",""]
[null,"",""]
[null,"",""]
[null,"",""]
[null,"",""]
[null,"",""]
[null,"",""]
[null,"",""]
[null,"",""]
[null,"",""]
[null,"",""]
[null,"",""]
[null,"",""]
[null,"",""]
[null,"",""]
[null,"",""]
[null,"",""]
[null,"",""]
[null,"",""]
[null,"",""]
[null,"",""]
[null,"",""]
[null,"",""]
[null,"",""]
[null,"",""]
[null,"",""]
[null,"",""]
[null,"",""]
[null,"",""]
[null,"",""]
[null,"",""]
[null,"",""]
[null,"",""]
[null,"",""]
[null,"",""]
[null,"",""]
[null,"",""]
[null,"",""]
[null,"",""]
[null,"",""]
[null,"",""]
[null,"",""]
[null,"",""]
[null,"",""]
[null,"",""]
[null,"",""]
[null,"",""]
[null,"",""]
[null,"",""]
[null,"",""]
[null,"",""]
[null,"",""]
[null,"",""]
[null,"",""]
[null,"",""]
[null,"",""]
[null,"",""]
[null,"",""]
[null,"",""]
[null,"",""]
[null,"",""]
[null,"",""]
[null,"",""]
[null,"",""]
[null,"",""]
[null,"",""]
[null,"",""]
[null,"",""]
[null,"",""]
[null,"",""]
[null,"",""]
[null,"",""]
[null,"",""]
[null,"",""]
[null,"",""]
[null,"",""]
[null,"",""]
[null,"",""]
[null,"",""]
[null,"",""]
[null,"",""]
[null,"",""]
[null,"",""]
[null,"",""]
[null,"",""]
[null,"",""]
[null,"",""]
[null,"",""]
[null,"",""]
[null,"",""]
[null,"",""]
[null,"",""]
[null,"",""]
[null,"",""]
[null,"",""]
[null,"",""]
[null,"",""]
[null,"",""]
[null,"",""]
[null,"",""]
[null,"",""]
[null,"",""]
[null,"",""]
[null,"",""]
[null,"",""]
[null,"",""]
[null,"",""]
[null,"",""]
[null,"",""]
[null,"",""]
[null,"",""]
[null,"",""]
[null,"",""]
[null,"",""]
[null,"",""]
[null,"",""]
[null,"",""]
[null,"",""]
[null,"",""]
[null,"",""]
[null,"",""]
[null,"",""]
[null,"",""]
[null,"",""]
[null,"",""]
[null,"",""]
[null,"",""]
[null,"",""]
[null,"",""]
[null,"",""]
[null,"",""]
[null,"",""]
[null,"",""]
[null,"",""]
[null,"",""]
[null,"",""]
[null,"",""]
[null,"",""]
[null,"",""]
[null,"",""]
[null,"",""]
[null,"",""]
[null,"",""]
[null,"",""]
[null,"",""]
[null,"",""]
[null,"",""]
[null,"",""]
[null,"",""]
[null,"",""]
[null,"",""]
[null,"",""]
[null,"",""]
[null,"",""]
[null,"",""]
[null,"",""]
[null,"",""]
[null,"",""]
[null,"",""]
[null,"",""]
[null,"",""]
[null,"",""]
[null,"",""]
[null,"",""]
[null,"",""]
[null,"",""]
[null,"",""]
[null,"",""]
[null,"",""]
[null,"",""]
[null,"",""]
[null,"",""]
[null,"",""]
[null,"",""]
[null,"",""]
[null,"",""]
[null,"",""]
[null,"",""]
[null,"",""]
[null,"",""]
[null,"",""]
[null,"",""]
[null,"",""]
[null,"",""]
[null,"",""]
[null,"",""]
[null,"",""]
[null,"",""]
[null,"",""]
[null,"",""]
[null,"",""]
[null,"",""]
[null,"",""]
[null,"",""]
[null,"",""]
[null,"",""]
[null,"",""]
[null,"",""]
[null,"",""]
[null,"",""]
[null,"",""]
[null,"",""]
[null,"",""]
[null,"",""]
[null,"",""]
[null,"",""]
[null,"",""]
[null,"",""]
[null,"",""]
[null,"",""]
[null,"",""]
[null,"",""]
[null,"",""]
[null,"",""]
[null,"",""]
[null,"",""]
[null,"",""]
[null,"",""]
[null,"",""]
[null,"",""]
[null,"",""]
[null,"",""]
[null,"",""]
[null,"",""]
[null,"",""]
[null,"",""]
[null,"",""]
[null,"",""]
[null,"",""]
[null,"",""]
[null,"",""]
[null,"",""]
[null,"",""]
[null,"",""]
[null,"",""]
[null,"",""]
[null,"",""]
[null,"",""]
[null,"",""]
[null,"",""]
[null,"",""]
[null,"",""]
[null,"",""]
[null,"",""]
[null,"",""]
[null,"",""]
[null,"",""]
[null,"",""]
[null,"",""]
[null,"",""]
[null,"",""]
[null,"",""]
[null,"",""]
[null,"",""]
[null,"",""]
[null,"",""]
[null,"",""]
[null,"",""]
[null,"",""]
[null,"",""]
[null,"",""]
[null,"",""]
[null,"",""]
[null,"",""]
[null,"",""]
[null,"",""]
[null,"",""]
[null,"",""]
[null,"",""]
[null,"",""]
[null,"",""]
[null,"",""]
[null,"",""]
[null,"",""]
[null,"",""]
[null,"",""]
[null,"",""]
[null,"",""]
[null,"",""]
[null,"",""]
[null,"",""]
[null,"",""]
[null,"",""]
[null,"",""]
[null,"",""]
[null,"",""]
[null,"",""]
[null,"",""]
[null,"",""]
[null,"",""]
[null,"",""]
[null,"",""]
[null,"",""]
[null,"",""]
[null,"",""]
[null,"",""]
[null,"",""]
[null,"",""]
[null,"",""]
[null,"",""]
[null,"",""]
[null,"",""]
[null,"",""]
[null,"",""]
[null,"",""]
[null,"",""]
[null,"",""]
[null,"",""]
[null,"",""]
[null,"",""]
[null,"",""]
[null,"",""]
[null,"",""]
[null,"",""]
[null,"",""]
[null,"",""]
[null,"",""]
[null,"",""]
[null,"",""]
[null,"",""]
[null,"",""]
[null,"",""]
[null,"",""]
[null,"",""]
[null,"",""]
[null,"",""]
[null,"",""]
[null,"",""]
[null,"",""]
[null,"",""]
[null,"",""]
[null,"",""]
[null,"",""]
[null,"",""]
[null,"",""]
[null,"",""]
[null,"",""]
[null,"",""]
[null,"",""]
[null,"",""]
[null,"",""]
[null,"",""]
[null,"",""]
[null,"",""]
[null,"",""]
[null,"",""]
[null,"",""]
[null,"",""]
[null,"",""]
[null,"",""]
[null,"",""]
[null,"",""]
[null,"",""]
[null,"",""]
[null,"",""]
[null,"",""]
[null,"",""]
[null,"",""]
[null,"",""]
[null,"",""]
[null,"",""]
[null,"",""]
[null,"",""]
[null,"",""]
[null,"",""]
[null,"",""]
[null,"",""]
[null,"",""]
[null,"",""]
[null,"",""]
[null,"",""]
[null,"",""]
[null,"",""]
[null,"",""]
[null,"",""]
[null,"",""]
[null,"",""]
[null,"",""]
[null,"",""]
[null,"",""]
[null,"",""]
[null,"",""]
[null,"",""]
[null,"",""]
[null,"",""]
[null,"",""]
[null,"",""]
[null,"",""]
[null,"",""]
[null,"",""]
[null,"",""]
[null,"",""]
[null,"",""]
[null,"",""]
[null,"",""]
[null,"",""]
[null,"",""]
[null,"",""]
[null,"",""]
[null,"",""]
[null,"",""]
[null,"",""]
[null,"",""]
[null,"",""]
[null,"",""]
[null,"",""]
[null,"",""]
[null,"",""]
[null,"",""]
[null,"",""]
[null,"",""]
[null,"",""]
[null,"",""]
[null,"",""]
[null,"",""]
[null,"",""]
[null,"",""]
[null,"",""]
[null,"",""]
[null,"",""]
[null,"",""]
[null,"",""]
[null,"",""]
[null,"",""]
[null,"",""]
[null,"",""]
[null,"",""]
[null,"",""]
[null,"",""]
[null,"",""]
[null,"",""]
[null,"",""]
[null,"",""]
[null,"",""]
[null,"",""]
[null,"",""]
[null,"",""]
[null,"",""]
[null,"",""]
[null,"",""]
[null,"",""]
[null,"",""]
[null,"",""]
[null,"",""]
[null,"",""]
[null,"",""]
[null,"",""]
[null,"",""]
[null,"",""]
[null,"",""]
[null,"",""]
[null,"",""]
[null,"",""]
[null,"",""]
[null,"",""]
[null,"",""]
[null,"",""]
[null,"",""]
[null,"",""]
[null,"",""]
[null,"",""]
[null,"",""]
[null,"",""]
[null,"",""]
[null,"",""]
[null,"",""]
[null,"",""]
[null,"",""]
[null,"",""]
[null,"",""]
[null,"",""]
[null,"",""]
[null,"",""]
[null,"",""]
[null,"",""]
[null,"",""]
[null,"",""]
[null,"",""]
[null,"",""]
[null,"",""]
[null,"",""]
[null,"",""]
[null,"",""]
[null,"",""]
[null,"",""]
[null,"",""]
[null,"",""]
[null,"",""]
[null,"",""]
[null,"",""]
[null,"",""]
[null,"",""]
[null,"",""]
[null,"",""]
[null,"",""]
[null,"",""]
[null,"",""]
[null,"",""]
[null,"",""]
[null,"",""]
[null,"",""]
[null,"",""]
[null,"",""]
[null,"",""]
[null,"",""]
[null,"",""]
[null,"",""]
[null,"",""]
[null,"",""]
[null,"",""]
[null,"",""]
[null,"",""]
[null,"",""]
[null,"",""]
[null,"",""]
[null,"",""]
[null,"",""]
[null,"",""]
[null,"",""]
[null,"",""]
[null,"",""]
[null,"",""]
[null,"",""]
[null,"",""]
[null,"",""]
[null,"",""]
[null,"",""]
[null,"",""]
[null,"",""]
[null,"",""]
[null,"",""]
[null,"",""]
[null,"",""]
[null,"",""]
[null,"",""]
[null,"",""]
[null,"",""]
[null,"",""]
[null,"",""]
[null,"",""]
[null,"",""]
[null,"",""]
[null,"",""]
[null,"",""]
[null,"",""]
[null,"",""]
[null,"",""]
[null,"",""]
[null,"",""]
[null,"",""]
[null,"",""]
[null,"",""]
[null,"",""]
[null,"",""]
[null,"",""]
[null,"",""]
[null,"",""]
[null,"",""]
[null,"",""]
[null,"",""]
[null,"",""]
[null,"",""]
[null,"",""]
[null,"",""]
[null,"",""]
[null,"",""]
[null,"",""]
[null,"",""]
[null,"",""]
[null,"",""]
[null,"",""]
[null,"",""]
[null,"",""]
[null,"",""]
[null,"",""]
[null,"",""]
[null,"",""]
[null,"",""]
[null,"",""]
[null,"",""]
[null,"",""]
[null,"",""]
[null,"",""]
[null,"",""]
[null,"",""]
[null,"",""]
[null,"",""]
[null,"",""]
[null,"",""]
[null,"",""]
[null,"",""]
[null,"",""]
[null,"",""]
[null,"",""]
[null,"",""]
[null,"",""]
[null,"",""]
[null,"",""]
[null,"",""]
[null,"",""]
[null,"",""]
[null,"",""]
[null,"",""]
[null,"",""]
[null,"",""]
[null,"",""]
[null,"",""]
[null,"",""]
[null,"",""]
[null,"",""]
[null,"",""]
[null,"",""]
[null,"",""]
[null,"",""]
[null,"",""]
[null,"",""]
[null,"",""]
[null,"",""]
[null,"",""]
[null,"",""]
[null,"",""]
[null,"",""]
[null,"",""]
[null,"",""]
[null,"",""]
[null,"",""]
[null,"",""]
[null,"",""]
[null,"",""]
[null,"",""]
[null,"",""]
[null,"",""]
[null,"",""]
[null,"",""]
[null,"",""]
[null,"",""]
[null,"",""]
[null,"",""]
[null,"",""]
[null,"",""]
[null,"",""]
[null,"",""]
[null,"",""]
[null,"",""]
[null,"",""]
[null,"",""]
[null,"",""]
[null,"",""]
[null,"",""]
[null,"",""]
[null,"",""]
[null,"",""]
[null,"",""]
[null,"",""]
[null,"",""]
[null,"",""]
[null,"",""]
[null,"",""]
[null,"",""]
[null,"",""]
[null,"",""]
[null,"",""]
[null,"",""]
[null,"",""]
[null,"",""]
[null,"",""]
[null,"",""]
[null,"",""]
[null,"",""]
[null,"",""]
[null,"",""]
[null,"",""]
[null,"",""]
[null,"",""]
[null,"",""]
[null,"",""]
[null,"",""]
[null,"",""]
[null,"",""]
[null,"",""]
[null,"",""]
[null,"",""]
[null,"",""]
[null,"",""]
[null,"",""]
[null,"",""]
[null,"",""]
[null,"",""]
[null,"",""]
[null,"",""]
[null,"",""]
[null,"",""]
[null,"",""]
[null,"",""]
[null,"",""]
[null,"",""]
[null,"",""]
[null,"",""]
[null,"",""]
[null,"",""]
[null,"",""]
[null,"",""]
[null,"",""]
[null,"",""]
[null,"",""]
[null,"",""]
[null,"",""]
[null,"",""]
[null,"",""]
[null,"",""]
[null,"",""]
[null,"",""]
[null,"",""]
[null,"",""]
[null,"",""]
[null,"",""]
[null,"",""]
[null,"",""]
[null,"",""]
[null,"",""]
[null,"",""]
[null,"",""]
[null,"",""]
[null,"",""]
[null,"",""]
[null,"",""]
[null,"",""]
[null,"",""]
[null,"",""]
[null,"",""]
[null,"",""]
[null,"",""]
[null,"",""]
[null,"",""]
[null,"",""]
[null,"",""]
[null,"",""]
[null,"",""]
[null,"",""]
[null,"",""]
[null,"",""]
[null,"",""]
[null,"",""]
[null,"",""]
[null,"",""]
[null,"",""]
[null,"",""]
[null,"",""]
[null,"",""]
[null,"",""]
[null,"",""]
[null,"",""]
[null,"",""]
[null,"",""]
[null,"",""]
[null,"",""]
[null,"",""]
[null,"",""]
[null,"",""]
[null,"",""]
[null,"",""]
[null,"",""]
[null,"",""]
[null,"",""]
[null,"",""]
[null,"",""]
[null,"",""]
[null,"",""]
[null,"",""]
[null,"",""]
[null,"",""]
[null,"",""]
[null,"",""]
[null,"",""]
[null,"",""]
[null,"",""]
[null,"",""]
[null,"",""]
[null,"",""]
[null,"",""]
[null,"",""]
[null,"",""]
[null,"",""]
[null,"",""]
[null,"",""]
[null,"",""]
[null,"",""]
[null,"",""]
[null,"",""]
[null,"",""]
[null,"",""]
[null,"",""]
[null,"",""]
[null,"",""]
[null,"",""]
[null,"",""]
[null,"",""]
[null,"",""]
[null,"",""]
[null,"",""]
[null,"",""]
[null,"",""]
[null,"",""]
[null,"",""]
[null,"",""]
[null,"",""]
[null,"",""]
[null,"",""]
[null,"",""]
[null,"",""]
[null,"",""]
[null,"",""]
[null,"",""]
[null,"",""]
[null,"",""]
[null,"",""]
[null,"",""]
[null,"",""]
[null,"",""]
[null,"",""]
[null,"",""]
[null,"",""]
[null,"",""]
[null,"",""]
[null,"",""]
[null,"",""]
[null,"",""]
[null,"",""]
[null,"",""]
[null,"",""]
[null,"",""]
[null,"",""]
[null,"",""]
[null,"",""]
[null,"",""]
[null,"",""]
[null,"",""]
[null,"",""]
[null,"",""]
[null,"",""]
[null,"",""]
[null,"",""]
[null,"",""]
[null,"",""]
[null,"",""]
[null,"",""]
[null,"",""]
[null,"",""]
[null,"",""]
[null,"",""]
[null,"",""]
[null,"",""]
[null,"",""]
[null,"",""]
[null,"",""]
[null,"",""]
[null,"",""]
[null,"",""]
[null,"",""]
[null,"",""]
[null,"",""]
[null,"",""]
[null,"",""]
[null,"",""]
[null,"",""]
[null,"",""]
[null,"",""]
[null,"",""]
[null,"",""]
[null,"",""]
[null,"",""]
[null,"",""]
[null,"",""]
[null,"",""]
[null,"",""]
[null,"",""]
[null,"",""]
[null,"",""]
[null,"",""]
[null,"",""]
[null,"",""]
[null,"",""]
[null,"",""]
[null,"",""]
[null,"",""]
[null,"",""]
[null,"",""]
[null,"",""]
[null,"",""]
[null,"",""]
[null,"",""]
[null,"",""]
[null,"",""]
[null,"",""]
[null,"",""]
[null,"",""]
[null,"",""]
[null,"",""]
[null,"",""]
[null,"",""]
[null,"",""]
[null,"",""]
[null,"",""]
[null,"",""]
[null,"",""]
[null,"",""]
[null,"",""]
[null,"",""]
[null,"",""]
[null,"",""]
[null,"",""]
[null,"",""]
[null,"",""]
[null,"",""]
[null,"",""]
[null,"",""]
[null,"",""]
[null,"",""]
[null,"",""]
[null,"",""]
[null,"",""]
[null,"",""]
[null,"",""]
[null,"",""]
[null,"",""]
[null,"",""]
[null,"",""]
[null,"",""]
[null,"",""]
[null,"",""]
[null,"",""]
[null,"",""]
[null,"",""]
[null,"",""]
[null,"",""]
[null,"",""]
[null,"",""]
[null,"",""]
[null,"",""]
[null,"",""]
[null,"",""]
[null,"",""]
[null,"",""]
[null,"",""]
[null,"",""]
[null,"",""]

{"sheet":"Група_актива","index":4,"n_rows":37,"n_cols":1,"rows_kept":37,"cut":false,"hidden":false,"merged":[]}
["← Назад"]
["1. Предмет продажу для активу, віднесеного до І групи активів, складається з прав вимоги за кредитним договором."]
[]
["2. Предмет продажу для активу, віднесеного до ІІ групи активів, складають наступні майнові права (окремі або в сукупності): "]
["- право оскаржувати, як у судовому, так і в позасудовому порядках припинення, ліквідацію позичальників та/або майнових поручителів (поручителів), які є юридичними особами, їх правонаступників;"]
["- право звернення до державних органів, установ та організацій всіх форм власності в межах прав та повноважень власника майнових прав (прав вимоги);"]
["- право звернення до правонаступників, спадкоємців та органів місцевого самоврядування в межах прав та повноважень власника майнових прав (прав вимоги), якщо позичальником та/або майновим поручителем (поручителем) є фізична особа, в тому числі фізична особа-підприємець; "]
["- права кредитора за майновими правами (правами вимоги) (зокрема, права вимоги застосування наслідків недійсності правочинів, вимоги з отримання коштів від реалізації заставного та іншого майна, вимоги, які випливають з розірвання та/або визнання недійсним договорів та/або визнання нікчемними договорів, права, які випливають із судових справ, в тому числі справ про банкрутство, виконавчих проваджень, в тому числі щодо майна, яке не було реалізоване на торгах та підлягатиме передачі стягувачу в погашення боргу після продажу майнових прав, права, які випливають з мирових угод, договорів з арбітражними керуючими, охоронними організаціями, права участі в колегіальних органах, в тому числі в комітеті кредиторів, право одержати, переважно перед іншими кредиторами майнових поручителів, іпотекодавця, заставодавця, якщо таке переважне право встановлено нормами чинного законодавства України, у порядку, визначеному договорами іпотеки (договорами застави), Законом України «Про іпотеку», Законом України «Про заставу», задоволення всіх своїх вимог (повернення суми основної заборгованості, сплати нарахованих процентів, комісій, можливої неустойки (штраф, пеня), відшкодування збитків, тощо), що випливають з умов кредитних договорів та договорів забезпечення, за рахунок майна, вказаного в таких договорах та додатках до них, тощо), які виникнуть в майбутньому у разі скасування реєстрації припинення/ліквідації боржників (позичальників, майнових поручителів, поручителів, які є юридичними особами); "]
["- право на оскарження будь-яких рішень у відповідності до вимог чинного законодавства України, які стосуються банку та пов’язані з правами вимоги та/або майновими правами до боржників (позичальників, майнових поручителів, поручителів), їх правонаступників, та/або укладеними договорами; "]
[" - право набути у власність гроші та/або майно на підставах, що виникли   за укладеними договорами; "]
["- право отримання грошових коштів/відшкодування від боржників (позичальників, майнових поручителів, поручителів), їх правонаступників за укладеними договорами; "]
["- будь-які інші без виключення права, що пов’язані або випливають із майнових прав (прав вимоги) до боржників (позичальників, майнових поручителів, поручителів), їх правонаступників."]
[]
["3. Предмет продажу для активу, віднесеного до підгрупи ІІІп, складають наступні майнові права (окремі або в сукупності):"]
["- право звернення до державних органів, установ та організацій всіх форм власності в межах прав та повноважень власника прав вимоги, які виникли за укладеними договорами; "]
[" - право набути у власність гроші та/або майно на підставах, що виникли  у зв’язку із укладенням та здійсненням операцій за укладеними договорами; "]
["- право оскаржувати припинення прав вимоги, в тому числі право оскаржувати в судовому порядку припинення (відсутність) прав вимоги; "]
["- права кредитора за правами вимоги (зокрема, права вимоги застосування наслідків недійсності правочинів, вимоги з отримання коштів від реалізації заставного та іншого майна, вимоги, які випливають з розірвання та/або визнання недійсним договорів та/або визнання нікчемними договорів, права, які випливають із судових справ, в тому числі справ про банкрутство, виконавчих проваджень, в тому числі щодо майна, яке не було реалізоване на торгах та підлягатиме передачі стягувачу в погашення боргу після продажу майнових прав, права, які випливають з мирових угод, договорів з арбітражними керуючими, охоронними організаціями, права участі в колегіальних органах, в тому числі в комітеті кредиторів, право одержати, переважно перед іншими кредиторами майнових поручителів, іпотекодавця, заставодавця, якщо таке переважне право встановлено нормами чинного законодавства України, у порядку, визначеному договорами іпотеки (договорами застави), Законом України «Про іпотеку», Законом України «Про заставу», задоволення всіх своїх вимог (повернення суми основної заборгованості, сплати нарахованих процентів, комісій, можливої неустойки (штраф, пеня), відшкодування збитків, тощо), що випливають з умов кредитних договорів та договорів забезпечення, за рахунок майна, вказаного в таких договорах та додатках до них, тощо), які виникнуть в майбутньому у разі скасування рішень про їх припинення або зміну; "]
["-право отримання грошових коштів/відшкодування від боржників (позичальників, майнових поручителів, поручителів), їх правонаступників за укладеними договорами за наслідками здійснених правочинів за укладеними договорами; "]
["- право на оскарження будь-яких рішень у відповідності до вимог чинного законодавства України, які стосуються банку та пов’язані з правами вимоги та/або майновими правами до боржників (позичальників, майнових поручителів, поручителів), їх правонаступників, та/або укладеними договорами; "]
["- право отримання грошових коштів/відшкодування до боржників (позичальників, майнових поручителів, поручителів), їх правонаступників за наслідками зміни або розірвання укладених договорів; "]
["- будь-які інші без виключення права, що пов’язані або випливають із прав вимоги до боржників (позичальників, майнових поручителів, поручителів), їх правонаступників. "]
[]
["4. Предмет продажу для активу, віднесеного до підгрупи ІІІн групи активів, складають наступні майнові права (окремі або в сукупності):"]
["- право звернення до державних органів, установ та організацій всіх форм власності в межах прав та повноважень власника прав вимоги, які виникли за укладеними   договорами; "]
["- право набути у власність гроші та/або майно на підставах, що виникли  у зв’язку із укладенням та здійсненням операцій за укладеними договорами; "]
["- право оскаржувати недійсність прав вимоги, в тому числі право оскаржувати в судовому порядку недійсність прав вимоги; "]
["- права кредитора за правами вимоги (зокрема, права вимоги застосування наслідків недійсності правочинів, вимоги з отримання коштів від реалізації заставного та іншого майна, вимоги, які випливають з розірвання та/або визнання недійсним договорів та/або визнання нікчемними договорів, права, які випливають із судових справ, в тому числі справ про банкрутство, виконавчих проваджень, в тому числі щодо майна, яке не було реалізоване на торгах та підлягатиме передачі стягувачу в погашення боргу після продажу майнових прав, права, які випливають з мирових угод, договорів з арбітражними керуючими, охоронними організаціями, права участі в колегіальних органах, в тому числі в комітеті кредиторів, право одержати, переважно перед іншими кредиторами майнових поручителів, іпотекодавця, заставодавця, якщо таке переважне право встановлено нормами чинного законодавства України, у порядку, визначеному договорами іпотеки (договорами застави), Законом України «Про іпотеку», Законом України «Про заставу», задоволення всіх своїх вимог (повернення суми основної заборгованості, сплати нарахованих процентів, комісій, можливої неустойки (штраф, пеня), відшкодування збитків, тощо), що випливають з умов кредитних договорів та договорів забезпечення, за рахунок майна, вказаного в таких договорах та додатках до них, тощо), які виникнуть в майбутньому у разі скасування рішень про їх недійсність або зміну; "]
[" -право отримання грошових коштів/відшкодування від боржників (позичальників, майнових поручителів, поручителів), їх правонаступників за наслідками недійсності/нікчемності укладених договорів; "]
["- право на оскарження будь-яких рішень у відповідності до вимог чинного законодавства України, які стосуються банку та пов’язані з правами вимоги та/або майновими правами до боржників (позичальників, майнових поручителів, поручителів), їх правонаступників, та/або укладеними договорами; "]
["- право отримання грошових коштів/відшкодування від боржників (позичальників, майнових поручителів, поручителів), їх правонаступників за наслідками зміни або розірвання укладених договорів; "]
["- будь-які інші без виключення права, що пов’язані або випливають із прав вимоги, до боржників (позичальників, майнових поручителів, поручителів), їх правонаступників"]
[]
["«Недійсність (нікчемність), припинення всіх або будь-якого із прав, що складають Майнові права за цим лотом, або неможливість реалізації покупцем будь-якого із Майнових прав, набутих ним за договором купівлі-продажу Майнових прав за цим лотом, не вплине на дійсність договору купівлі-продажу Майнових прав за цим лотом та Покупець погоджується, що Продавець не несе жодної відповідальності за такі наслідки.\nБанк (продавець) та/або Фонд не відповідає за неотримання покупцем грошових коштів або іншого майна, які покупець очікував отримати від Майнових прав, набуваючи у власність Майнові права за цим лотом.\nПриймаючи рішення щодо придбання Майнових прав за цим лотом покупець має розуміти (усвідомлювати) характер Майнових прав, що переходять до покупця за цим лотом, та приймати усі ризики, пов’язані із таким переходом, у тому числі ризики того, що покупець у майбутньому не зможе отримати жодних коштів або майна за Майновими правами.»"]
["Цей документ був підготовлений Фондом гарантування вкладів фізичних осіб (далі – Фонд) виключно для інформаційних цілей і не повинен вважатися як спонукання до будь-яких дій чи бездіяльності.  Інформація, що міститься в цьому документі, була отримана з/або ґрунтується на джерелах, які вважаються надійними, але не є вичерпною та не може сприйматися як повна або актуальна. Рішення покупця щодо будь-яких дій або бездіяльності повинно ґрунтуватися на власних оцінках та дослідженнях майна (активу/активів), котре реалізується. Фонд не несе відповідальності за рішення покупця та його наслідки, що ґрунтується на інформації, викладеній в даному документі."]
["Покупцем не може бути особа, пов'язана з державою-агресором, відповідно до Постанови Кабінету Міністрів України №187 від 03.03.2022 (зі змінами)."]
["Звертаємо увагу, що  на період дії воєнного стану на території України  договори посвідчуються нотаріусом, який включений до затвердженого Міністерством юстиції переліку (https://minjust.gov.ua/news/ministry/perelik-notariusiv-yakimi-v-umovah-voennogo-stanu-vchinyayutsya-notarialni-dii-schodo-tsinnogo-mayna). Нотаріальне посвідчення договорів відчуження нерухомого майна на час дії воєнного стану здійснюється нотаріусом, який включений до затвердженого Міністерством юстиції переліку, за місцезнаходженням такого майна. Виключенням є м. Київ та Київська область, де договори відчуження нерухомого майна посвідчуються нотаріусом з м. Києва або Київської обл. за місцезнаходженням такого майна, або місцезнаходженням юридичної особи, або за зареєстрованим місцем проживання фізичної особи - однієї із сторін договору."]

{"sheet":"Hidden_Словник","index":5,"n_rows":19702,"n_cols":50,"rows_kept":1125,"cut":true,"hidden":false,"merged":[],"bounds":{"rows_first":500,"rows_last":125,"rows_between":500,"halvings":2}}
["Коротка назва","Назва банку","МФО","Дата вводу тимч.адм.","Дата рішення про ліквид.",null,null,null,null,"#","область","Регіон",null,null,null,"Тип актива","NU",null,null,"Банкрутство",null,null,"Тип застави",null,"ТАК/Ні",null,"Вид судового провадження",null,null,"Відповідач (позичальник/поручитель)",null,null,null,"Наявність документів кредитної справи",null,null,null,null,"Одиниці виміру",null,null,"валюта",null,null,null,"область","населений пункт",null,null,"Наявність забезпечення"]
["Авант-Банк","ПАТ \"АВАНТ-БАНК\"","380708","2016-01-29","2016-02-26",null,null,null,null,1,"Автономна Республіка Крим","КРИМ/АТО",null,null,null,"Ю/О право вимоги","Сільське господарство, лісове господарство та рибне господарство",null,null,"Діюче",null,null,"житл. нерухомість",10,"ТАК",null,"стягнення заборгованості",null,null,"Позичальник",null,null,null,"Наявні документи кредитної справи",null,null,null,null,"га",null,null,"Гривня",980,null,null,"Автономна Республіка Крим","Алупка",null,null,"Наявне"]
["АКБ Банк","ПАТ \"АКБ Банк\"","331100","2014-05-30","2014-08-29",null,null,null,null,2,"Севастополь","КРИМ/АТО",null,null,null,"Ф/О право вимоги","Сільське господарство, мисливство та надання пов'язаних із ними послуг",null,null,"Банкрутство",null,null,"ком. нерухомість",11,"НІ",null,"стягнення забезпечення",null,null,"Поручитель",null,null,null,"Наявний кредитний договір",null,null,null,null,"м.кв.",null,null,"Доллар США",840,null,null,"Автономна Республіка Крим","Абрикосівка",null,null,"Відсутнє (реалізовано)"]
["Аксіома","ПАТ \"КБ \"АКСІОМА\"","307305","2014-10-10","2015-01-30",null,null,null,null,3,"Вінницька","ЦЕНТР",null,null,null,"ФОП право вимоги","Вирощування однорічних і дворічних культур",null,null,"В стані припинення (крім банкрутства)",null,null,"земельні ділянки",12,null,null,"банкрутство",null,null,"Солідарно",null,null,null,"Наяваний договір застави",null,null,null,null,"м.куб.",null,null,"Євро",978,null,null,"Автономна Республіка Крим","Абрикосове",null,null,"Відсутнє (виведено)"]
["Актабанк","ПАТ \"АКТАБАНК\"","307394","2014-09-17","2015-01-16",null,null,null,null,4,"Волинська","ЗАХІД",null,null,null,"Дебіторська заборгованість","Вирощування зернових культур (крім рису), бобових культур і насіння олійних культур",null,null,"Ліквідовано",null,null,"транспорт",2,null,null,"визнання зобов'язань недійсними",null,null,"3-і особи",null,null,null,"Відсутні документи кредитної справи",null,null,null,null,"т",null,null,"Швейцарські франки",756,null,null,"Автономна Республіка Крим","Аврора (Слов'янська сільська рада)",null,null,"Відсутнє (інше)"]
["Активбанк","ПАТ \"КБ \"АКТИВ - БАНК\"","300852","2014-09-03","2014-12-23",null,null,null,null,5,"Дніпропетровська","ПІВДЕНЬ",null,null,null,"Майн. права з ЦП","Вирощування рису",null,null,"Санація",null,null,"обладнання",3,null,null,"нікчемність правочину",null,null,null,null,null,null,null,null,null,null,null,"шт.",null,null,"Польські злоті",985,null,null,"Автономна Республіка Крим","Аграрне"]
["АРТЕМ-БАНК","АТ «АРТЕМ-БАНК»","300885","2016-11-16","2016-12-16",null,null,null,null,6,"Донецька","КРИМ/АТО",null,null,null,"Інше","Вирощування овочів і баштанних культур, коренеплодів і бульбоплодів",null,null,"Інше",null,null,"товари",4,null,null,"інше",null,null,null,null,null,null,null,null,null,null,null,"од.",null,null,"Фунт стерлінгів",826,null,null,"Автономна Республіка Крим","Аерофлотський"]
["БАНК ПЕТРОКОММЕРЦ-УКРАЇНА","ПАТ \"БАНК ПЕТРОКОММЕРЦ-УКРАЇНА\"","300120","2016-03-18","2016-04-22",null,null,null,null,7,"Житомирська","ЦЕНТР",null,null,null,null,"Вирощування цукрової тростини",null,null,null,null,null,"депозит",5,null,null,"ППР не здійснюється",null,null,null,null,null,null,null,null,null,null,null,null,null,null,"Китайські юані",156,null,null,"Автономна Республіка Крим","Азов"]
["БГ банк","ПАТ \"БГ БАНК\"","320995","2014-11-28","2015-02-27",null,null,null,null,8,"Закарпатська","ЗАХІД",null,null,null,null,"Вирощування тютюну",null,null,null,null,null,"майнові права",6,null,null,null,null,null,null,null,null,null,null,null,null,null,null,null,null,null,"Рос. рубль",643,null,null,"Автономна Республіка Крим","Азовське"]
["Богуслав","АТ «БАНК БОГУСЛАВ»",380322,null,null,null,null,null,null,9,"Запорізька","ПІВДЕНЬ",null,null,null,null,"Вирощування прядивних культур",null,null,null,null,null,"цінні папери",65,null,null,null,null,null,null,null,null,null,null,null,null,null,null,null,null,null,"мульт. валютн.",777,null,null,"Автономна Республіка Крим","Айвазовське"]
["Брокбізнесбанк","АТ \"БРОКБІЗНЕСБАНК\"","300249","2014-03-03","2014-06-11",null,null,null,null,10,"Івано_Франківська","ЗАХІД",null,null,null,null,"Вирощування інших однорічних і дворічних культур",null,null,null,null,null,"фінансова порука",7,null,null,null,null,null,null,null,null,null,null,null,null,null,null,null,null,null,null,null,null,null,"Автономна Республіка Крим","Айвове"]
["ВБР","ПАТ \"ВБР\"","380719","2014-11-28","2015-12-21",null,null,null,null,11,"Київ","ЦЕНТР",null,null,null,null,"Вирощування багаторічних культур",null,null,null,null,null,"беззаставний",8,null,null,null,null,null,null,null,null,null,null,null,null,null,null,null,null,null,null,null,null,null,"Автономна Республіка Крим","Айкаван"]
["ВЕКТОР","ПАТ \"ВЕКТОР БАНК\"","339038","2017-03-03","2017-03-22",null,null,null,null,12,"Київська","ЦЕНТР",null,null,null,null,"Вирощування винограду",null,null,null,null,null,"інше",9,null,null,null,null,null,null,null,null,null,null,null,null,null,null,null,null,null,null,null,null,null,"Автономна Республіка Крим","Акрополіс"]
["Велес","АТ \"БАНК ВЕЛЕС\"","322799",null,"2015-12-11",null,null,null,null,13,"Кіровоградська","ЦЕНТР",null,null,null,null,"Вирощування тропічних і субтропічних фруктів",null,null,null,null,null,null,null,null,null,null,null,null,null,null,null,null,null,null,null,null,null,null,null,null,null,null,null,null,"Автономна Республіка Крим","Алмазне"]
["ВіЕйБі","ПАТ \"ВіЕйБі Банк\"","380537","2014-11-21","2015-03-20",null,null,null,null,14,"Луганська","КРИМ/АТО",null,null,null,null,"Вирощування цитрусових",null,null,null,null,null,null,null,null,null,null,null,null,null,null,null,null,null,null,null,null,null,null,null,null,null,null,null,null,"Автономна Республіка Крим","Алушта"]
["ВТБ банк","АТ «ВТБ БАНК»",321767,"2018-12-19","2020-12-18",null,null,null,null,15,"Львівська","ЗАХІД",null,null,null,null,"Вирощування зерняткових і кісточкових фруктів",null,null,null,null,null,null,null,null,null,null,null,null,null,null,null,null,null,null,null,null,null,null,null,null,null,null,null,null,"Автономна Республіка Крим","Амурське"]
["Грінбанк","ПАТ \"Грін Банк\"","322324","2014-09-25","2015-01-23",null,null,null,null,16,"Миколаївська","ПІВДЕНЬ",null,null,null,null,"Вирощування ягід, горіхів, інших плодових дерев і чагарників",null,null,null,null,null,null,null,null,null,null,null,null,null,null,null,null,null,null,null,null,null,null,null,null,null,null,null,null,"Автономна Республіка Крим","Ана-Юрт"]
["Даніель","ПАТ \"КБ \"Даніель\"","380980","2014-01-17","2014-04-16",null,null,null,null,17,"Одеська","ПІВДЕНЬ",null,null,null,null,"Вирощування олійних плодів",null,null,null,null,null,null,null,null,null,null,null,null,null,null,null,null,null,null,null,null,null,null,null,null,null,null,null,null,"Автономна Республіка Крим","Андрусове"]
["Дельта","АТ \"Дельта Банк\"","380236","2015-03-03","2015-10-02",null,null,null,null,18,"Полтавська","ЦЕНТР",null,null,null,null,"Вирощування культур для виробництва напоїв",null,null,null,null,null,null,null,null,null,null,null,null,null,null,null,null,null,null,null,null,null,null,null,null,null,null,null,null,"Автономна Республіка Крим","Антонівка"]
["Демарк","Банк \"Демарк\"","353575","2014-09-29","2015-01-30",null,null,null,null,19,"Рівненська","ЗАХІД",null,null,null,null,"Вирощування пряних, ароматичних і лікарських культур",null,null,null,null,null,null,null,null,null,null,null,null,null,null,null,null,null,null,null,null,null,null,null,null,null,null,null,null,"Автономна Республіка Крим","Апрелівка"]
["ДЕРЖЗЕМБАНК","ПАТ «ДЕРЖЗЕМБАНК»","380968","2016-07-27","2016-09-27",null,null,null,null,20,"Сумська","СХІД",null,null,null,null,"Вирощування інших багаторічних культур",null,null,null,null,null,null,null,null,null,null,null,null,null,null,null,null,null,null,null,null,null,null,null,null,null,null,null,null,"Автономна Республіка Крим","Арбузівка"]
["ДІАМАНТБАНК","ПАТ \"ДІАМАНТБАНК\"","320854","2017-04-24","2017-06-24",null,null,null,null,21,"Тернопільська","ЗАХІД",null,null,null,null,"Відтворення рослин",null,null,null,null,null,null,null,null,null,null,null,null,null,null,null,null,null,null,null,null,null,null,null,null,null,null,null,null,"Автономна Республіка Крим","Арбузове"]
["Експобанк","АТ \"КБ \"ЕКСПОБАНК\"","322294","2014-09-25","2015-01-26",null,null,null,null,22,"Харківська","СХІД",null,null,null,null,"Відтворення рослин",null,null,null,null,null,null,null,null,null,null,null,null,null,null,null,null,null,null,null,null,null,null,null,null,null,null,null,null,"Автономна Республіка Крим","Аркадіївка"]
["Енергобанк","ПАТ \"ЕНЕРГОБАНК\"","300272","2015-02-13","2015-06-12",null,null,null,null,23,"Херсонська","ПІВДЕНЬ",null,null,null,null,"Тваринництво",null,null,null,null,null,null,null,null,null,null,null,null,null,null,null,null,null,null,null,null,null,null,null,null,null,null,null,null,"Автономна Республіка Крим","Армійське"]
["ЕРДЕ банк","АТ \"ЕРДЕ БАНК\"","380667","2012-10-30","2013-01-09",null,null,null,null,24,"Хмельницька","ЦЕНТР",null,null,null,null,"Розведення великої рогатої худоби молочних порід",null,null,null,null,null,null,null,null,null,null,null,null,null,null,null,null,null,null,null,null,null,null,null,null,null,null,null,null,"Автономна Республіка Крим","Армянськ"]
["Євробанк","ПАТ \"КБ \"ЄВРОБАНК\"","380355","2016-06-17","2016-08-17",null,null,null,null,25,"Черкаська","ЦЕНТР",null,null,null,null,"Розведення іншої великої рогатої худоби та буйволів",null,null,null,null,null,null,null,null,null,null,null,null,null,null,null,null,null,null,null,null,null,null,null,null,null,null,null,null,"Автономна Республіка Крим","Аромат"]
["Єврогазбанк","АТ \"ЄВРОГАЗБАНК\"","380430","2014-07-17","2014-11-18",null,null,null,null,26,"Чернівецька","ЗАХІД",null,null,null,null,"Розведення коней та інших тварин родини конячих",null,null,null,null,null,null,null,null,null,null,null,null,null,null,null,null,null,null,null,null,null,null,null,null,null,null,null,null,"Автономна Республіка Крим","Ароматне"]
["Західінкомбанк","ПАТ \"Західінкомбанк\"","303484","2014-05-29","2014-07-23",null,null,null,null,27,"Чернігівська","СХІД",null,null,null,null,"Розведення верблюдів та інших тварин родини верблюдячих",null,null,null,null,null,null,null,null,null,null,null,null,null,null,null,null,null,null,null,null,null,null,null,null,null,null,null,null,"Автономна Республіка Крим","Артемівка"]
["Златобанк","АТ \"ЗЛАТОБАНК\"","380612","2015-02-14","2015-05-13",null,null,null,null,null,null,null,null,null,null,null,"Розведення овець і кіз",null,null,null,null,null,null,null,null,null,null,null,null,null,null,null,null,null,null,null,null,null,null,null,null,null,null,null,null,"Автономна Республіка Крим","Бабенкове"]
["Золоті ворота","АТ \"БАНК ЗОЛОТІ ВОРОТА\"","351931","2014-08-04","2014-12-05",null,null,null,null,null,null,null,null,null,null,null,"Розведення свиней",null,null,null,null,null,null,null,null,null,null,null,null,null,null,null,null,null,null,null,null,null,null,null,null,null,null,null,null,"Автономна Республіка Крим","Багата Ущелина"]
["Імексбанк","АТ \"ІМЕКСБАНК\"","328384","2015-01-27","2015-05-27",null,null,null,null,null,null,null,null,null,null,null,"Розведення свійської птиці",null,null,null,null,null,null,null,null,null,null,null,null,null,null,null,null,null,null,null,null,null,null,null,null,null,null,null,null,"Автономна Республіка Крим","Багате"]
["ІНВЕСТБАНК","ПАТ \"КБ \"ІНВЕСТБАНК\"","328210","2016-12-16","2017-01-13",null,null,null,null,null,null,null,null,null,null,null,"Розведення інших тварин",null,null,null,null,null,null,null,null,null,null,null,null,null,null,null,null,null,null,null,null,null,null,null,null,null,null,null,null,"Автономна Республіка Крим","Багатівка"]
["Інтеграл банк","ПАТ \"Інтеграл-банк\"","320735","2015-09-16","2015-11-27",null,null,null,null,null,null,null,null,null,null,null,"Змішане сільське господарство",null,null,null,null,null,null,null,null,null,null,null,null,null,null,null,null,null,null,null,null,null,null,null,null,null,null,null,null,"Автономна Республіка Крим","Багерове"]
["Інтербанк","ПАТ КБ \"ІНТЕРБАНК\"","300216","2014-04-24","2014-07-23",null,null,null,null,null,null,null,null,null,null,null,"Змішане сільське господарство",null,null,null,null,null,null,null,null,null,null,null,null,null,null,null,null,null,null,null,null,null,null,null,null,null,null,null,null,"Автономна Республіка Крим","Баланове"]
["Інтеркредит банк","ПАТ \"ІнтерКредитБанк\"","307424","2014-10-10","2015-01-17",null,null,null,null,null,null,null,null,null,null,null,"Допоміжна діяльність у сільському господарстві та післяурожайна діяльність",null,null,null,null,null,null,null,null,null,null,null,null,null,null,null,null,null,null,null,null,null,null,null,null,null,null,null,null,"Автономна Республіка Крим","Балки"]
["Камбіо","ПАТ \"Банк Камбіо\"","380399","2014-12-05","2015-03-02",null,null,null,null,null,null,null,null,null,null,null,"Допоміжна діяльність у рослинництві",null,null,null,null,null,null,null,null,null,null,null,null,null,null,null,null,null,null,null,null,null,null,null,null,null,null,null,null,"Автономна Республіка Крим","Барабанове"]
["Київ","ПАТ \"АКБ \"КИЇВ\"","322498","2015-02-25","2015-06-25",null,null,null,null,null,null,null,null,null,null,null,"Допоміжна діяльність у тваринництві",null,null,null,null,null,null,null,null,null,null,null,null,null,null,null,null,null,null,null,null,null,null,null,null,null,null,null,null,"Автономна Республіка Крим","Барсове"]
["Київськая Русь","ПАТ \"Банк \"Київська Русь\"","319092","2015-03-20","2015-07-17",null,null,null,null,null,null,null,null,null,null,null,"Післяурожайна діяльність",null,null,null,null,null,null,null,null,null,null,null,null,null,null,null,null,null,null,null,null,null,null,null,null,null,null,null,null,"Автономна Республіка Крим","Батальне"]
["КЛАСИКБАНК","ПАТ «КЛАСИКБАНК»","306704","2016-06-15","2016-08-12",null,null,null,null,null,null,null,null,null,null,null,"Оброблення насіння для відтворення",null,null,null,null,null,null,null,null,null,null,null,null,null,null,null,null,null,null,null,null,null,null,null,null,null,null,null,null,"Автономна Республіка Крим","Бахчисарай"]
["Контракт","ПАТ Банк \"Контракт\"","322465","2015-10-07","2015-12-11",null,null,null,null,null,null,null,null,null,null,null,"Мисливство, відловлювання тварин і надання пов'язаних із ними послуг",null,null,null,null,null,null,null,null,null,null,null,null,null,null,null,null,null,null,null,null,null,null,null,null,null,null,null,null,"Автономна Республіка Крим","Бахчівка (Серебрянська сільська рада)"]
["Кредитпромбанк","ПАТ \"КРЕДИТПРОМБАНК\"","300863","2015-03-03","2015-06-03",null,null,null,null,null,null,null,null,null,null,null,"Мисливство, відловлювання тварин і надання пов'язаних із ними послуг",null,null,null,null,null,null,null,null,null,null,null,null,null,null,null,null,null,null,null,null,null,null,null,null,null,null,null,null,"Автономна Республіка Крим","Баштанівка"]
["Легбанк","ПАТ \"Легбанк\"","300056","2014-11-28","2015-02-27",null,null,null,null,null,null,null,null,null,null,null,"Лісове господарство та лісозаготівлі",null,null,null,null,null,null,null,null,null,null,null,null,null,null,null,null,null,null,null,null,null,null,null,null,null,null,null,null,"Автономна Республіка Крим","Берегове"]
["МР Банк","АКЦІОНЕРНЕ ТОВАРИСТВО \"МІЖНАРОДНИЙ РЕЗЕРВНИЙ БАНК\"",320627]
["Мегабанк","АТ «МЕГАБАНК»",351629]
["Меліор","ПАТ \"МЕЛІОР БАНК\"","307435","2014-10-10","2015-02-11",null,null,null,null,null,null,null,null,null,null,null,"Лісівництво та інша діяльність у лісовому господарстві",null,null,null,null,null,null,null,null,null,null,null,null,null,null,null,null,null,null,null,null,null,null,null,null,null,null,null,null,"Автономна Республіка Крим","Березівка"]
["Меркурій","АТ БАНК \"МЕРКУРІЙ\"","351663","2014-03-14","2014-06-12",null,null,null,null,null,null,null,null,null,null,null,"Лісівництво та інша діяльність у лісовому господарстві",null,null,null,null,null,null,null,null,null,null,null,null,null,null,null,null,null,null,null,null,null,null,null,null,null,null,null,null,"Автономна Республіка Крим","Бєлінське"]
["Михайлівський","ПАТ \"БАНК МИХАЙЛІВСЬКИЙ\"","380935","2016-05-23","2016-07-13",null,null,null,null,null,null,null,null,null,null,null,"Лісозаготівлі",null,null,null,null,null,null,null,null,null,null,null,null,null,null,null,null,null,null,null,null,null,null,null,null,null,null,null,null,"Автономна Республіка Крим","Біла Скеля"]
["Міський комерційний банк","ПАТ \"МІСЬКИЙ КОМЕРЦІЙНИЙ БАНК\"","339339","2014-11-21","2015-03-20",null,null,null,null,null,null,null,null,null,null,null,"Лісозаготівлі",null,null,null,null,null,null,null,null,null,null,null,null,null,null,null,null,null,null,null,null,null,null,null,null,null,null,null,null,"Автономна Республіка Крим","Білогірськ"]
["Надра","ПАТ \"КБ \"Надра\"","380764","2015-02-06","2015-06-05",null,null,null,null,null,null,null,null,null,null,null,"Збирання дикорослих недеревних продуктів",null,null,null,null,null,null,null,null,null,null,null,null,null,null,null,null,null,null,null,null,null,null,null,null,null,null,null,null,"Автономна Республіка Крим","Білоглинка"]
["Національний кредит","\"БАНК НАЦІОНАЛЬНИЙ КРЕДИТ\"","320702","2015-06-08","2015-08-31",null,null,null,null,null,null,null,null,null,null,null,"Збирання дикорослих недеревних продуктів",null,null,null,null,null,null,null,null,null,null,null,null,null,null,null,null,null,null,null,null,null,null,null,null,null,null,null,null,"Автономна Республіка Крим","Білокам'яне"]
["Національні інвестиції","БАНК НАЦІОНАЛЬНІ ІНВЕСТИЦІЇ","300498","2015-09-18","2015-12-01",null,null,null,null,null,null,null,null,null,null,null,"Надання допоміжних послуг у лісовому господарстві",null,null,null,null,null,null,null,null,null,null,null,null,null,null,null,null,null,null,null,null,null,null,null,null,null,null,null,null,"Автономна Республіка Крим","Бітумне (Гресівська)"]
["НК БАНК","АТ \"БАНК НАРОДНИЙ КАПІТАЛ\"","322432","2017-01-20","2017-03-09",null,null,null,null,null,null,null,null,null,null,null,"Надання допоміжних послуг у лісовому господарстві",null,null,null,null,null,null,null,null,null,null,null,null,null,null,null,null,null,null,null,null,null,null,null,null,null,null,null,null,"Автономна Республіка Крим","Благодатне"]
["Новий","ПАТ АКБ Новий",305062,null,null,null,null,null,null,null,null,null,null,null,null,null,"Рибне господарство",null,null,null,null,null,null,null,null,null,null,null,null,null,null,null,null,null,null,null,null,null,null,null,null,null,null,null,null,"Автономна Республіка Крим","Ближнє"]
["Омега","ПАТ \"ОМЕГА БАНК\"","300164","2015-03-03","2015-07-06",null,null,null,null,null,null,null,null,null,null,null,"Рибальство",null,null,null,null,null,null,null,null,null,null,null,null,null,null,null,null,null,null,null,null,null,null,null,null,null,null,null,null,"Автономна Республіка Крим","Ближньогородське"]
["Південкомбанк","ПАТ \"КБ \"ПІВДЕНКОМБАНК\"","335946","2014-05-26","2014-09-26",null,null,null,null,null,null,null,null,null,null,null,"Морське рибальство",null,null,null,null,null,null,null,null,null,null,null,null,null,null,null,null,null,null,null,null,null,null,null,null,null,null,null,null,"Автономна Республіка Крим","Богатир"]
["Платинум Банк","ПАТ \"Платинум Банк\"","380388","2017-01-11","2017-02-24",null,null,null,null,null,null,null,null,null,null,null,"Прісноводне рибальство",null,null,null,null,null,null,null,null,null,null,null,null,null,null,null,null,null,null,null,null,null,null,null,null,null,null,null,null,"Автономна Республіка Крим","Богачівка (Магазинська)"]
["Праймбанк","ПАТ \"ПРАЙМ-БАНК\"","300669","2014-10-03","2015-01-14",null,null,null,null,null,null,null,null,null,null,null,"Рибництво (аквакультура)",null,null,null,null,null,null,null,null,null,null,null,null,null,null,null,null,null,null,null,null,null,null,null,null,null,null,null,null,"Автономна Республіка Крим","Болотне"]
["Промінвестбанк","ПАТ «Промінвестбанк»",300012]
["Промекономбанк","ПАТ \"КБ \"ПРОМЕКОНОМБАНК\"","334992","2014-05-22","2014-09-08",null,null,null,null,null,null,null,null,null,null,null,"Морське рибництво (аквакультура)",null,null,null,null,null,null,null,null,null,null,null,null,null,null,null,null,null,null,null,null,null,null,null,null,null,null,null,null,"Автономна Республіка Крим","Бондаренкове"]
["Профінбанк","ПАТ \"ПРОФІН БАНК\"","334594","2015-01-20","2015-04-20",null,null,null,null,null,null,null,null,null,null,null,"Прісноводне рибництво (аквакультура)",null,null,null,null,null,null,null,null,null,null,null,null,null,null,null,null,null,null,null,null,null,null,null,null,null,null,null,null,"Автономна Республіка Крим","Борисівка"]
["Радикал","ПАТ \"РАДИКАЛ БАНК\"","319111","2015-07-10","2015-11-10",null,null,null,null,null,null,null,null,null,null,null,"Добувна промисловість і розроблення кар'єрів",null,null,null,null,null,null,null,null,null,null,null,null,null,null,null,null,null,null,null,null,null,null,null,null,null,null,null,null,"Автономна Республіка Крим","Бородіно"]
["Реал банк","ПАТ \"РЕАЛ БАНК\"","351588","2014-03-03","2014-05-21",null,null,null,null,null,null,null,null,null,null,null,"Добування кам'яного та бурого вугілля",null,null,null,null,null,null,null,null,null,null,null,null,null,null,null,null,null,null,null,null,null,null,null,null,null,null,null,null,"Автономна Республіка Крим","Ботанічне"]
["Банк Січ","АТ \"Банк Січ\"",380816]
["Смартбанк","ПУАТ «СМАРТБАНК»","380786","2016-05-25","2016-07-25",null,null,null,null,null,null,null,null,null,null,null,"Добування кам'яного вугілля",null,null,null,null,null,null,null,null,null,null,null,null,null,null,null,null,null,null,null,null,null,null,null,null,null,null,null,null,"Автономна Республіка Крим","Братське"]
["Софіївський","ПАТ \"Банк \"Софійський\"","380861","2015-12-23","2016-04-25",null,null,null,null,null,null,null,null,null,null,null,"Добування кам'яного вугілля",null,null,null,null,null,null,null,null,null,null,null,null,null,null,null,null,null,null,null,null,null,null,null,null,null,null,null,null,"Автономна Республіка Крим","Братське (Братської)"]
["Стандарт","ПАТ КБ \"СТАНДАРТ\"","380690","2015-02-20","2015-06-19",null,null,null,null,null,null,null,null,null,null,null,"Добування бурого вугілля",null,null,null,null,null,null,null,null,null,null,null,null,null,null,null,null,null,null,null,null,null,null,null,null,null,null,null,null,"Автономна Республіка Крим","Брянське"]
["Старокиївський","ПАТ \"СТАРОКИЇВСЬКИЙ БАНК\"","321477","2014-06-18","2014-09-18",null,null,null,null,null,null,null,null,null,null,null,"Добування бурого вугілля",null,null,null,null,null,null,null,null,null,null,null,null,null,null,null,null,null,null,null,null,null,null,null,null,null,null,null,null,"Автономна Республіка Крим","Буревісник"]
["Столичний","ПАТ АБ \"СТОЛИЧНИЙ\"","397133","2015-07-10","2015-09-18",null,null,null,null,null,null,null,null,null,null,null,"Добування сирої нафти та природного газу",null,null,null,null,null,null,null,null,null,null,null,null,null,null,null,null,null,null,null,null,null,null,null,null,null,null,null,null,"Автономна Республіка Крим","Валентинове (Кримська)"]
["Таврика","АТ \"БАНК \"ТАВРИКА\"","300788","2012-12-21","2013-03-21",null,null,null,null,null,null,null,null,null,null,null,"Добування сирої нафти",null,null,null,null,null,null,null,null,null,null,null,null,null,null,null,null,null,null,null,null,null,null,null,null,null,null,null,null,"Автономна Республіка Крим","Варварівка"]
["Терра банк","ПАТ \"ТЕРРА БАНК\"","380601","2014-08-22","2014-12-24",null,null,null,null,null,null,null,null,null,null,null,"Добування сирої нафти",null,null,null,null,null,null,null,null,null,null,null,null,null,null,null,null,null,null,null,null,null,null,null,null,null,null,null,null,"Автономна Республіка Крим","Василькове"]
["ТК Кредит","АТ КБ \"ТК Кредит\"","322830","2016-02-10","2016-04-08",null,null,null,null,null,null,null,null,null,null,null,"Добування природного газу",null,null,null,null,null,null,null,null,null,null,null,null,null,null,null,null,null,null,null,null,null,null,null,null,null,null,null,null,"Автономна Республіка Крим","Велике (Суворовська)"]
["ТРАСТ","ПАТ БАНК \"ТРАСТ\"","380474","2016-12-07","2016-12-30",null,null,null,null,null,null,null,null,null,null,null,"Добування природного газу",null,null,null,null,null,null,null,null,null,null,null,null,null,null,null,null,null,null,null,null,null,null,null,null,null,null,null,null,"Автономна Республіка Крим","Велике Садове (Куйбишевська)"]
["Укоопспілка","АБ \"УКООПСПІЛКА\"","322625","2015-01-23","2015-04-23",null,null,null,null,null,null,null,null,null,null,null,"Добування металевих руд",null,null,null,null,null,null,null,null,null,null,null,null,null,null,null,null,null,null,null,null,null,null,null,null,null,null,null,null,"Автономна Республіка Крим","Великосілля"]
["Укрбізнесбанк","ПАТ \"УКРБІЗНЕСБАНК\"","334969","2014-12-26","2015-04-24",null,null,null,null,null,null,null,null,null,null,null,"Добування залізних руд",null,null,null,null,null,null,null,null,null,null,null,null,null,null,null,null,null,null,null,null,null,null,null,null,null,null,null,null,"Автономна Республіка Крим","Вересаєве"]
["Укргазпромбанк","ПАТ \"УКРГАЗПРОМБАНК\"","320843","2015-04-08","2015-09-15",null,null,null,null,null,null,null,null,null,null,null,"Добування залізних руд",null,null,null,null,null,null,null,null,null,null,null,null,null,null,null,null,null,null,null,null,null,null,null,null,null,null,null,null,"Автономна Республіка Крим","Верхні Орішники"]
["Укрінбанк","ПАТ \"УКРІНБАНК\"","300142","2015-12-25","2016-03-23",null,null,null,null,null,null,null,null,null,null,null,"Добування руд кольорових металів",null,null,null,null,null,null,null,null,null,null,null,null,null,null,null,null,null,null,null,null,null,null,null,null,null,null,null,null,"Автономна Республіка Крим","Верхня Кутузовка"]
["Унікомбанк","ПАТ \"УНІКОМБАНК\"","335902","2015-10-16","2015-12-04",null,null,null,null,null,null,null,null,null,null,null,"Добування уранових і торієвих руд",null,null,null,null,null,null,null,null,null,null,null,null,null,null,null,null,null,null,null,null,null,null,null,null,null,null,null,null,"Автономна Республіка Крим","Верхньозаморське"]
["УПБ","ПАТ \"УПБ\"","300205","2015-05-29","2015-08-31",null,null,null,null,null,null,null,null,null,null,null,"Добування руд інших кольорових металів",null,null,null,null,null,null,null,null,null,null,null,null,null,null,null,null,null,null,null,null,null,null,null,null,null,null,null,null,"Автономна Республіка Крим","Верхньокурганне"]
["УФС","ПАТ \"КБ \"УФС\"","377777","2014-08-15","2014-11-13",null,null,null,null,null,null,null,null,null,null,null,"Добування інших корисних копалин та розроблення кар'єрів",null,null,null,null,null,null,null,null,null,null,null,null,null,null,null,null,null,null,null,null,null,null,null,null,null,null,null,null,"Автономна Республіка Крим","Верхоріччя"]
["ФІДОБАНК","ПУАТ «ФІДОБАНК»","300175","2016-05-20","2016-07-20",null,null,null,null,null,null,null,null,null,null,null,"Добування каменю, піску та глини",null,null,null,null,null,null,null,null,null,null,null,null,null,null,null,null,null,null,null,null,null,null,null,null,null,null,null,null,"Автономна Республіка Крим","Вершинне"]
["Фінанси та кредит","АТ \"БАНК \"ФІНАНСИ ТА КРЕДИТ\"","300131","2015-09-18","2015-12-17",null,null,null,null,null,null,null,null,null,null,null,"Добування декоративного та будівельного каменю, вапняку, гіпсу, крейди та глинистого сланцю",null,null,null,null,null,null,null,null,null,null,null,null,null,null,null,null,null,null,null,null,null,null,null,null,null,null,null,null,"Автономна Республіка Крим","Веселе"]
["ФІНБАНК","ПАТ \"ФІНБАНК\"","328685","2017-04-07","2017-04-27",null,null,null,null,null,null,null,null,null,null,null,"Добування піску, гравію, глин і каоліну",null,null,null,null,null,null,null,null,null,null,null,null,null,null,null,null,null,null,null,null,null,null,null,null,null,null,null,null,"Автономна Республіка Крим","Веселівка"]
["Фінростбанк","АТ \"ФІНРОСТБАНК\"","328599","2014-07-16","2014-10-16",null,null,null,null,null,null,null,null,null,null,null,"Добування корисних копалин та розроблення кар'єрів, н.в.і.у.",null,null,null,null,null,null,null,null,null,null,null,null,null,null,null,null,null,null,null,null,null,null,null,null,null,null,null,null,"Автономна Республіка Крим","Видне"]
["ФОРТУНА-БАНК","АТ \"ФОРТУНА-БАНК\"","300904","2017-01-27","2017-02-22",null,null,null,null,null,null,null,null,null,null,null,"Добування мінеральної сировини для хімічної промисловості та виробництва мінеральних добрив",null,null,null,null,null,null,null,null,null,null,null,null,null,null,null,null,null,null,null,null,null,null,null,null,null,null,null,null,"Автономна Республіка Крим","Виноградне"]
["Форум","ПАТ \"БАНК ФОРУМ\"","322948","2014-03-14","2014-06-16",null,null,null,null,null,null,null,null,null,null,null,"Добування торфу",null,null,null,null,null,null,null,null,null,null,null,null,null,null,null,null,null,null,null,null,null,null,null,null,null,null,null,null,"Автономна Республіка Крим","Виноградний"]
["Хрещатик","ПАТ \"КБ \"Хрещатик\"","300670","2016-04-05","2016-06-03",null,null,null,null,null,null,null,null,null,null,null,"Добування солі",null,null,null,null,null,null,null,null,null,null,null,null,null,null,null,null,null,null,null,null,null,null,null,null,null,null,null,null,"Автономна Республіка Крим","Виноградове"]
["Юніон стандарт банк","ПАТ \"ЮСБ БАНК\"","305987","2015-10-03","2015-12-28",null,null,null,null,null,null,null,null,null,null,null,"Добування інших корисних копалин та розроблення кар'єрів, н.в.і.у.",null,null,null,null,null,null,null,null,null,null,null,null,null,null,null,null,null,null,null,null,null,null,null,null,null,null,null,null,"Автономна Республіка Крим","Випасне"]
["Родовід","АТ «РОДОВІД БАНК»","321712","2017-12-20","2017-12-20",null,null,null,null,null,null,null,null,null,null,null,"Надання допоміжних послуг у сфері добувної промисловості та розроблення кар'єрів",null,null,null,null,null,null,null,null,null,null,null,null,null,null,null,null,null,null,null,null,null,null,null,null,null,null,null,null,"Автономна Республіка Крим","Високогірне"]
["ФІНАНСОВА ІНІЦІАТИВА","ПАТ «КБ «ФІНАНСОВА ІНІЦІАТИВА»",380054,null,null,null,null,null,null,null,null,null,null,null,null,null,"Надання допоміжних послуг у сфері добування нафти та природного газу",null,null,null,null,null,null,null,null,null,null,null,null,null,null,null,null,null,null,null,null,null,null,null,null,null,null,null,null,"Автономна Республіка Крим","Вишенне"]
["КБ Преміум","КБ Преміум",339555,null,null,null,null,null,null,null,null,null,null,null,null,null,"Надання допоміжних послуг у сфері добування нафти та природного газу",null,null,null,null,null,null,null,null,null,null,null,null,null,null,null,null,null,null,null,null,null,null,null,null,null,null,null,null,"Автономна Республіка Крим","Вишнівка (Вишнівської)"]
["Велес","Велес",322799,null,null,null,null,null,null,null,null,null,null,null,null,null,"Надання допоміжних послуг у сфері добування інших корисних копалин та розроблення кар'єрів",null,null,null,null,null,null,null,null,null,null,null,null,null,null,null,null,null,null,null,null,null,null,null,null,null,null,null,null,"Автономна Республіка Крим","Вишняківка"]
["Аркада","Аркада",322335,null,null,null,null,null,null,null,null,null,null,null,null,null,"Надання допоміжних послуг у сфері добування інших корисних копалин та розроблення кар'єрів",null,null,null,null,null,null,null,null,null,null,null,null,null,null,null,null,null,null,null,null,null,null,null,null,null,null,null,null,"Автономна Республіка Крим","Відважне"]
["Місто Банк","Місто Банк",328760,null,null,null,null,null,null,null,null,null,null,null,null,null,"Переробна промисловість",null,null,null,null,null,null,null,null,null,null,null,null,null,null,null,null,null,null,null,null,null,null,null,null,null,null,null,null,"Автономна Республіка Крим","Відкрите"]
["Укркомунбанк","Укркомунбанк",304988,null,null,null,null,null,null,null,null,null,null,null,null,null,"Виробництво харчових продуктів",null,null,null,null,null,null,null,null,null,null,null,null,null,null,null,null,null,null,null,null,null,null,null,null,null,null,null,null,"Автономна Республіка Крим","Відрадне"]
["ЧБРР","ЧБРР",384577,null,null,null,null,null,null,null,null,null,null,null,null,null,"Виробництво м'яса та м'ясних продуктів",null,null,null,null,null,null,null,null,null,null,null,null,null,null,null,null,null,null,null,null,null,null,null,null,null,null,null,null,"Автономна Республіка Крим","Відродження"]
["Капітал","ПАТ «АКБ «КАПІТАЛ»",334828,null,null,null,null,null,null,null,null,null,null,null,null,null,"Виробництво м'яса",null,null,null,null,null,null,null,null,null,null,null,null,null,null,null,null,null,null,null,null,null,null,null,null,null,null,null,null,"Автономна Республіка Крим","Вікторівка"]
["Земельний Капітал","АТ «КБ «ЗЕМЕЛЬНИЙ КАПІТАЛ»",305880,null,null,null,null,null,null,null,null,null,null,null,null,null,"Виробництво м'яса свійської птиці",null,null,null,null,null,null,null,null,null,null,null,null,null,null,null,null,null,null,null,null,null,null,null,null,null,null,null,null,"Автономна Республіка Крим","Віліне"]
[null,null,null,null,null,null,null,null,null,null,null,null,null,null,null,null,"Виробництво м'ясних продуктів",null,null,null,null,null,null,null,null,null,null,null,null,null,null,null,null,null,null,null,null,null,null,null,null,null,null,null,null,"Автономна Республіка Крим","Вільне"]
[null,null,null,null,null,null,null,null,null,null,null,null,null,null,null,null,"Перероблення та консервування риби, ракоподібних і молюсків",null,null,null,null,null,null,null,null,null,null,null,null,null,null,null,null,null,null,null,null,null,null,null,null,null,null,null,null,"Автономна Республіка Крим","Вітвисте (Єрмаковська)"]
[null,null,null,null,null,null,null,null,null,null,null,null,null,null,null,null,"Перероблення та консервування риби, ракоподібних і молюсків",null,null,null,null,null,null,null,null,null,null,null,null,null,null,null,null,null,null,null,null,null,null,null,null,null,null,null,null,"Автономна Республіка Крим","Вітіне"]
[null,null,null,null,null,null,null,null,null,null,null,null,null,null,null,null,"Перероблення та консервування фруктів і овочів",null,null,null,null,null,null,null,null,null,null,null,null,null,null,null,null,null,null,null,null,null,null,null,null,null,null,null,null,"Автономна Республіка Крим","Вітрівка (Виноградівська)"]
[null,null,null,null,null,null,null,null,null,null,null,null,null,null,null,null,"Перероблення та консервування картоплі",null,null,null,null,null,null,null,null,null,null,null,null,null,null,null,null,null,null,null,null,null,null,null,null,null,null,null,null,"Автономна Республіка Крим","Вітрянка (Ковильнівська сільська рада)"]
[null,null,null,null,null,null,null,null,null,null,null,null,null,null,null,null,"Виробництво фруктових і овочевих соків",null,null,null,null,null,null,null,null,null,null,null,null,null,null,null,null,null,null,null,null,null,null,null,null,null,null,null,null,"Автономна Республіка Крим","Владиславівка"]
[null,null,null,null,null,null,null,null,null,null,null,null,null,null,null,null," Інші види перероблення та консервування фруктів і овочів",null,null,null,null,null,null,null,null,null,null,null,null,null,null,null,null,null,null,null,null,null,null,null,null,null,null,null,null,"Автономна Республіка Крим","Владне"]
[null,null,null,null,null,null,null,null,null,null,null,null,null,null,null,null,"Виробництво олії та тваринних жирів",null,null,null,null,null,null,null,null,null,null,null,null,null,null,null,null,null,null,null,null,null,null,null,null,null,null,null,null,"Автономна Республіка Крим","Внукове"]
[null,null,null,null,null,null,null,null,null,null,null,null,null,null,null,null,"Виробництво олії та тваринних жирів",null,null,null,null,null,null,null,null,null,null,null,null,null,null,null,null,null,null,null,null,null,null,null,null,null,null,null,null,"Автономна Республіка Крим","Вогневе (Кольцовська)"]
[null,null,null,null,null,null,null,null,null,null,null,null,null,null,null,null,"Виробництво маргарину і подібних харчових жирів",null,null,null,null,null,null,null,null,null,null,null,null,null,null,null,null,null,null,null,null,null,null,null,null,null,null,null,null,"Автономна Республіка Крим","Вогні (Кукушкінська сільська рада)"]
[null,null,null,null,null,null,null,null,null,null,null,null,null,null,null,null,"Виробництво молочних продуктів",null,null,null,null,null,null,null,null,null,null,null,null,null,null,null,null,null,null,null,null,null,null,null,null,null,null,null,null,"Автономна Республіка Крим","Водне"]
[null,null,null,null,null,null,null,null,null,null,null,null,null,null,null,null,"Перероблення молока, виробництво масла та сиру",null,null,null,null,null,null,null,null,null,null,null,null,null,null,null,null,null,null,null,null,null,null,null,null,null,null,null,null,"Автономна Республіка Крим","Водопійне"]
[null,null,null,null,null,null,null,null,null,null,null,null,null,null,null,null,"Виробництво морозива",null,null,null,null,null,null,null,null,null,null,null,null,null,null,null,null,null,null,null,null,null,null,null,null,null,null,null,null,"Автономна Республіка Крим","Водопійне (Сизівська)"]
[null,null,null,null,null,null,null,null,null,null,null,null,null,null,null,null,"Виробництво продуктів борошномельно-круп'яної промисловості, крохмалів та крохмальних продуктів",null,null,null,null,null,null,null,null,null,null,null,null,null,null,null,null,null,null,null,null,null,null,null,null,null,null,null,null,"Автономна Республіка Крим","Войкове"]
[null,null,null,null,null,null,null,null,null,null,null,null,null,null,null,null,"Виробництво продуктів борошномельно-круп'яної промисловості",null,null,null,null,null,null,null,null,null,null,null,null,null,null,null,null,null,null,null,null,null,null,null,null,null,null,null,null,"Автономна Республіка Крим","Воїнка (Воїнська)"]
[null,null,null,null,null,null,null,null,null,null,null,null,null,null,null,null,"Виробництво крохмалів та крохмальних продуктів",null,null,null,null,null,null,null,null,null,null,null,null,null,null,null,null,null,null,null,null,null,null,null,null,null,null,null,null,"Автономна Республіка Крим","Володимирівка"]
[null,null,null,null,null,null,null,null,null,null,null,null,null,null,null,null,"Виробництво хліба, хлібобулочних і борошняних виробів",null,null,null,null,null,null,null,null,null,null,null,null,null,null,null,null,null,null,null,null,null,null,null,null,null,null,null,null,"Автономна Республіка Крим","Володимирове"]
[null,null,null,null,null,null,null,null,null,null,null,null,null,null,null,null,"Виробництво хліба та хлібобулочних виробів; виробництво борошняних кондитерських виробів, тортів і тістечок нетривалого зберігання",null,null,null,null,null,null,null,null,null,null,null,null,null,null,null,null,null,null,null,null,null,null,null,null,null,null,null,null,"Автономна Республіка Крим","Володине"]
[null,null,null,null,null,null,null,null,null,null,null,null,null,null,null,null,"Виробництво сухарів і сухого печива; виробництво борошняних кондитерських виробів, тортів і тістечок тривалого зберігання",null,null,null,null,null,null,null,null,null,null,null,null,null,null,null,null,null,null,null,null,null,null,null,null,null,null,null,null,"Автономна Республіка Крим","Волочаївка (Ковильнівська сільська рада)"]
[null,null,null,null,null,null,null,null,null,null,null,null,null,null,null,null,"Виробництво макаронних виробів та подібних борошняних виробів",null,null,null,null,null,null,null,null,null,null,null,null,null,null,null,null,null,null,null,null,null,null,null,null,null,null,null,null,"Автономна Республіка Крим","Волошине (Суворівської)"]
[null,null,null,null,null,null,null,null,null,null,null,null,null,null,null,null,"Виробництво інших харчових продуктів",null,null,null,null,null,null,null,null,null,null,null,null,null,null,null,null,null,null,null,null,null,null,null,null,null,null,null,null,"Автономна Республіка Крим","Воробйове"]
[null,null,null,null,null,null,null,null,null,null,null,null,null,null,null,null,"Виробництво цукру",null,null,null,null,null,null,null,null,null,null,null,null,null,null,null,null,null,null,null,null,null,null,null,null,null,null,null,null,"Автономна Республіка Крим","Ворон"]
[null,null,null,null,null,null,null,null,null,null,null,null,null,null,null,null,"Виробництво какао, шоколаду та цукрових кондитерських виробів",null,null,null,null,null,null,null,null,null,null,null,null,null,null,null,null,null,null,null,null,null,null,null,null,null,null,null,null,"Автономна Республіка Крим","Воронки (Зиминська сільська рада)"]
[null,null,null,null,null,null,null,null,null,null,null,null,null,null,null,null,"Виробництво чаю та кави",null,null,null,null,null,null,null,null,null,null,null,null,null,null,null,null,null,null,null,null,null,null,null,null,null,null,null,null,"Автономна Республіка Крим","Воронцівка (Ільїнської)"]
[null,null,null,null,null,null,null,null,null,null,null,null,null,null,null,null,"Виробництво прянощів і приправ",null,null,null,null,null,null,null,null,null,null,null,null,null,null,null,null,null,null,null,null,null,null,null,null,null,null,null,null,"Автономна Республіка Крим","Восточне"]
[null,null,null,null,null,null,null,null,null,null,null,null,null,null,null,null,"Виробництво готової їжі та страв",null,null,null,null,null,null,null,null,null,null,null,null,null,null,null,null,null,null,null,null,null,null,null,null,null,null,null,null,"Автономна Республіка Крим","Восход"]
[null,null,null,null,null,null,null,null,null,null,null,null,null,null,null,null,"Виробництво дитячого харчування та дієтичних харчових продуктів",null,null,null,null,null,null,null,null,null,null,null,null,null,null,null,null,null,null,null,null,null,null,null,null,null,null,null,null,"Автономна Республіка Крим","Вузлове"]
[null,null,null,null,null,null,null,null,null,null,null,null,null,null,null,null,"Виробництво інших харчових продуктів, н.в.і.у.",null,null,null,null,null,null,null,null,null,null,null,null,null,null,null,null,null,null,null,null,null,null,null,null,null,null,null,null,"Автономна Республіка Крим","Вулканівка"]
[null,null,null,null,null,null,null,null,null,null,null,null,null,null,null,null,"Виробництво готових кормів для тварин",null,null,null,null,null,null,null,null,null,null,null,null,null,null,null,null,null,null,null,null,null,null,null,null,null,null,null,null,"Автономна Республіка Крим","В'язникове"]
[null,null,null,null,null,null,null,null,null,null,null,null,null,null,null,null,"Виробництво готових кормів для тварин, що утримуються на фермах",null,null,null,null,null,null,null,null,null,null,null,null,null,null,null,null,null,null,null,null,null,null,null,null,null,null,null,null,"Автономна Республіка Крим","Гаршине"]
[null,null,null,null,null,null,null,null,null,null,null,null,null,null,null,null,"Виробництво готових кормів для домашніх тварин",null,null,null,null,null,null,null,null,null,null,null,null,null,null,null,null,null,null,null,null,null,null,null,null,null,null,null,null,"Автономна Республіка Крим","Гаспра"]
[null,null,null,null,null,null,null,null,null,null,null,null,null,null,null,null,"Виробництво напоїв",null,null,null,null,null,null,null,null,null,null,null,null,null,null,null,null,null,null,null,null,null,null,null,null,null,null,null,null,"Автономна Республіка Крим","Гвардійське (Гвардійської)"]
[null,null,null,null,null,null,null,null,null,null,null,null,null,null,null,null,"Виробництво напоїв",null,null,null,null,null,null,null,null,null,null,null,null,null,null,null,null,null,null,null,null,null,null,null,null,null,null,null,null,"Автономна Республіка Крим","Генеральське"]
[null,null,null,null,null,null,null,null,null,null,null,null,null,null,null,null,"Дистиляція, ректифікація та змішування спиртних напоїв",null,null,null,null,null,null,null,null,null,null,null,null,null,null,null,null,null,null,null,null,null,null,null,null,null,null,null,null,"Автономна Республіка Крим","Геройське"]
[null,null,null,null,null,null,null,null,null,null,null,null,null,null,null,null,"Виробництво виноградних вин",null,null,null,null,null,null,null,null,null,null,null,null,null,null,null,null,null,null,null,null,null,null,null,null,null,null,null,null,"Автономна Республіка Крим","Гірне"]
[null,null,null,null,null,null,null,null,null,null,null,null,null,null,null,null,"Виробництво сидру та інших плодово-ягідних вин",null,null,null,null,null,null,null,null,null,null,null,null,null,null,null,null,null,null,null,null,null,null,null,null,null,null,null,null,"Автономна Республіка Крим","Глазівка"]
[null,null,null,null,null,null,null,null,null,null,null,null,null,null,null,null,"Виробництво інших недистильованих напоїв із зброджуваних продуктів",null,null,null,null,null,null,null,null,null,null,null,null,null,null,null,null,null,null,null,null,null,null,null,null,null,null,null,null,"Автономна Республіка Крим","Глибокий Яр"]
[null,null,null,null,null,null,null,null,null,null,null,null,null,null,null,null,"Виробництво пива",null,null,null,null,null,null,null,null,null,null,null,null,null,null,null,null,null,null,null,null,null,null,null,null,null,null,null,null,"Автономна Республіка Крим","Глінка (Вересаєвська сільська рада)"]
[null,null,null,null,null,null,null,null,null,null,null,null,null,null,null,null,"Виробництво солоду",null,null,null,null,null,null,null,null,null,null,null,null,null,null,null,null,null,null,null,null,null,null,null,null,null,null,null,null,"Автономна Республіка Крим","Голованівка"]
[null,null,null,null,null,null,null,null,null,null,null,null,null,null,null,null,"Виробництво безалкогольних напоїв; виробництво мінеральних вод та інших вод, розлитих у пляшки",null,null,null,null,null,null,null,null,null,null,null,null,null,null,null,null,null,null,null,null,null,null,null,null,null,null,null,null,"Автономна Республіка Крим","Голуба Затока"]
[null,null,null,null,null,null,null,null,null,null,null,null,null,null,null,null,"Виробництво тютюнових виробів",null,null,null,null,null,null,null,null,null,null,null,null,null,null,null,null,null,null,null,null,null,null,null,null,null,null,null,null,"Автономна Республіка Крим","Голубинка"]
[null,null,null,null,null,null,null,null,null,null,null,null,null,null,null,null,"Виробництво тютюнових виробів",null,null,null,null,null,null,null,null,null,null,null,null,null,null,null,null,null,null,null,null,null,null,null,null,null,null,null,null,"Автономна Республіка Крим","Горлинка"]
[null,null,null,null,null,null,null,null,null,null,null,null,null,null,null,null,"Виробництво тютюнових виробів",null,null,null,null,null,null,null,null,null,null,null,null,null,null,null,null,null,null,null,null,null,null,null,null,null,null,null,null,"Автономна Республіка Крим","Горностаївка"]
[null,null,null,null,null,null,null,null,null,null,null,null,null,null,null,null,"Текстильне виробництво",null,null,null,null,null,null,null,null,null,null,null,null,null,null,null,null,null,null,null,null,null,null,null,null,null,null,null,null,"Автономна Республіка Крим","Городнє (Руч'ївська сільська рада)"]
[null,null,null,null,null,null,null,null,null,null,null,null,null,null,null,null,"Підготування та прядіння текстильних волокон",null,null,null,null,null,null,null,null,null,null,null,null,null,null,null,null,null,null,null,null,null,null,null,null,null,null,null,null,"Автономна Республіка Крим","Гресівський"]
[null,null,null,null,null,null,null,null,null,null,null,null,null,null,null,null,"Підготування та прядіння текстильних волокон",null,null,null,null,null,null,null,null,null,null,null,null,null,null,null,null,null,null,null,null,null,null,null,null,null,null,null,null,"Автономна Республіка Крим","Григорівка"]
[null,null,null,null,null,null,null,null,null,null,null,null,null,null,null,null,"Ткацьке виробництво",null,null,null,null,null,null,null,null,null,null,null,null,null,null,null,null,null,null,null,null,null,null,null,null,null,null,null,null,"Автономна Республіка Крим","Гришине (Гришинської)"]
[null,null,null,null,null,null,null,null,null,null,null,null,null,null,null,null,"Ткацьке виробництво",null,null,null,null,null,null,null,null,null,null,null,null,null,null,null,null,null,null,null,null,null,null,null,null,null,null,null,null,"Автономна Республіка Крим","Громівка"]
[null,null,null,null,null,null,null,null,null,null,null,null,null,null,null,null,"Оздоблення текстильних виробів",null,null,null,null,null,null,null,null,null,null,null,null,null,null,null,null,null,null,null,null,null,null,null,null,null,null,null,null,"Автономна Республіка Крим","Громове"]
[null,null,null,null,null,null,null,null,null,null,null,null,null,null,null,null,"Оздоблення текстильних виробів",null,null,null,null,null,null,null,null,null,null,null,null,null,null,null,null,null,null,null,null,null,null,null,null,null,null,null,null,"Автономна Республіка Крим","Громовка"]
[null,null,null,null,null,null,null,null,null,null,null,null,null,null,null,null,"Виробництво інших текстильних виробів",null,null,null,null,null,null,null,null,null,null,null,null,null,null,null,null,null,null,null,null,null,null,null,null,null,null,null,null,"Автономна Республіка Крим","Грушеве"]
[null,null,null,null,null,null,null,null,null,null,null,null,null,null,null,null,"Виробництво трикотажного полотна",null,null,null,null,null,null,null,null,null,null,null,null,null,null,null,null,null,null,null,null,null,null,null,null,null,null,null,null,"Автономна Республіка Крим","Грушівка"]
[null,null,null,null,null,null,null,null,null,null,null,null,null,null,null,null,"Виробництво готових текстильних виробів, крім одягу",null,null,null,null,null,null,null,null,null,null,null,null,null,null,null,null,null,null,null,null,null,null,null,null,null,null,null,null,"Автономна Республіка Крим","Гурзуф"]
[null,null,null,null,null,null,null,null,null,null,null,null,null,null,null,null,"Виробництво килимів і килимових виробів",null,null,null,null,null,null,null,null,null,null,null,null,null,null,null,null,null,null,null,null,null,null,null,null,null,null,null,null,"Автономна Республіка Крим","Давидове"]
[null,null,null,null,null,null,null,null,null,null,null,null,null,null,null,null,"Виробництво канатів, мотузок, шпагату та сіток",null,null,null,null,null,null,null,null,null,null,null,null,null,null,null,null,null,null,null,null,null,null,null,null,null,null,null,null,"Автономна Республіка Крим","Далеке"]
[null,null,null,null,null,null,null,null,null,null,null,null,null,null,null,null,"Виробництво нетканих текстильних матеріалів та виробів із них, крім одягу",null,null,null,null,null,null,null,null,null,null,null,null,null,null,null,null,null,null,null,null,null,null,null,null,null,null,null,null,"Автономна Республіка Крим","Данилівка"]
[null,null,null,null,null,null,null,null,null,null,null,null,null,null,null,null,"Виробництво інших текстильних виробів технічного та промислового призначення",null,null,null,null,null,null,null,null,null,null,null,null,null,null,null,null,null,null,null,null,null,null,null,null,null,null,null,null,"Автономна Республіка Крим","Дачне"]
[null,null,null,null,null,null,null,null,null,null,null,null,null,null,null,null,"Виробництво інших текстильних виробів, н.в.і.у.",null,null,null,null,null,null,null,null,null,null,null,null,null,null,null,null,null,null,null,null,null,null,null,null,null,null,null,null,"Автономна Республіка Крим","Дворіччя"]
[null,null,null,null,null,null,null,null,null,null,null,null,null,null,null,null,"Виробництво одягу",null,null,null,null,null,null,null,null,null,null,null,null,null,null,null,null,null,null,null,null,null,null,null,null,null,null,null,null,"Автономна Республіка Крим","Дворове"]
[null,null,null,null,null,null,null,null,null,null,null,null,null,null,null,null,"Виробництво одягу, крім хутряного",null,null,null,null,null,null,null,null,null,null,null,null,null,null,null,null,null,null,null,null,null,null,null,null,null,null,null,null,"Автономна Республіка Крим","Дем'янівка"]
[null,null,null,null,null,null,null,null,null,null,null,null,null,null,null,null,"Виробництво одягу зі шкіри",null,null,null,null,null,null,null,null,null,null,null,null,null,null,null,null,null,null,null,null,null,null,null,null,null,null,null,null,"Автономна Республіка Крим","Денисівка"]
[null,null,null,null,null,null,null,null,null,null,null,null,null,null,null,null,"Виробництво робочого одягу",null,null,null,null,null,null,null,null,null,null,null,null,null,null,null,null,null,null,null,null,null,null,null,null,null,null,null,null,"Автономна Республіка Крим","Джанкой"]
[null,null,null,null,null,null,null,null,null,null,null,null,null,null,null,null,"Виробництво іншого верхнього одягу",null,null,null,null,null,null,null,null,null,null,null,null,null,null,null,null,null,null,null,null,null,null,null,null,null,null,null,null,"Автономна Республіка Крим","Дивне"]
[null,null,null,null,null,null,null,null,null,null,null,null,null,null,null,null,"Виробництво спіднього одягу",null,null,null,null,null,null,null,null,null,null,null,null,null,null,null,null,null,null,null,null,null,null,null,null,null,null,null,null,"Автономна Республіка Крим","Дібрівка"]
[null,null,null,null,null,null,null,null,null,null,null,null,null,null,null,null,"Виробництво іншого одягу й аксесуарів",null,null,null,null,null,null,null,null,null,null,null,null,null,null,null,null,null,null,null,null,null,null,null,null,null,null,null,null,"Автономна Республіка Крим","Дібрівське"]
[null,null,null,null,null,null,null,null,null,null,null,null,null,null,null,null,"Виготовлення виробів із хутра",null,null,null,null,null,null,null,null,null,null,null,null,null,null,null,null,null,null,null,null,null,null,null,null,null,null,null,null,"Автономна Республіка Крим","Дмитрівка"]
[null,null,null,null,null,null,null,null,null,null,null,null,null,null,null,null,"Виготовлення виробів із хутра",null,null,null,null,null,null,null,null,null,null,null,null,null,null,null,null,null,null,null,null,null,null,null,null,null,null,null,null,"Автономна Республіка Крим","Дмитрівка (Войковське)"]
[null,null,null,null,null,null,null,null,null,null,null,null,null,null,null,null,"Виробництво трикотажного та в'язаного одягу",null,null,null,null,null,null,null,null,null,null,null,null,null,null,null,null,null,null,null,null,null,null,null,null,null,null,null,null,"Автономна Республіка Крим","Дмитрове"]
[null,null,null,null,null,null,null,null,null,null,null,null,null,null,null,null,"Виробництво панчішно-шкарпеткових виробів",null,null,null,null,null,null,null,null,null,null,null,null,null,null,null,null,null,null,null,null,null,null,null,null,null,null,null,null,"Автономна Республіка Крим","Дніпровка"]
[null,null,null,null,null,null,null,null,null,null,null,null,null,null,null,null,"Виробництво іншого трикотажного та в'язаного одягу",null,null,null,null,null,null,null,null,null,null,null,null,null,null,null,null,null,null,null,null,null,null,null,null,null,null,null,null,"Автономна Республіка Крим","Добре"]
[null,null,null,null,null,null,null,null,null,null,null,null,null,null,null,null,"Виробництво шкіри, виробів зі шкіри та інших матеріалів",null,null,null,null,null,null,null,null,null,null,null,null,null,null,null,null,null,null,null,null,null,null,null,null,null,null,null,null,"Автономна Республіка Крим","Добролюбовка"]
[null,null,null,null,null,null,null,null,null,null,null,null,null,null,null,null,"Дублення шкур і оздоблення шкіри; виробництво дорожніх виробів, сумок, лимарно-сідельних виробів; вичинка та фарбування хутра",null,null,null,null,null,null,null,null,null,null,null,null,null,null,null,null,null,null,null,null,null,null,null,null,null,null,null,null,"Автономна Республіка Крим","Добрушине"]
[null,null,null,null,null,null,null,null,null,null,null,null,null,null,null,null,"Дублення шкур і оздоблення шкіри; вичинка та фарбування хутра",null,null,null,null,null,null,null,null,null,null,null,null,null,null,null,null,null,null,null,null,null,null,null,null,null,null,null,null,"Автономна Республіка Крим","Дозорне"]
[null,null,null,null,null,null,null,null,null,null,null,null,null,null,null,null,"Виробництво дорожніх виробів, сумок, лимарно-сідельних виробів зі шкіри та інших матеріалів",null,null,null,null,null,null,null,null,null,null,null,null,null,null,null,null,null,null,null,null,null,null,null,null,null,null,null,null,"Автономна Республіка Крим","Докучаєве"]
[null,null,null,null,null,null,null,null,null,null,null,null,null,null,null,null,"Виробництво взуття",null,null,null,null,null,null,null,null,null,null,null,null,null,null,null,null,null,null,null,null,null,null,null,null,null,null,null,null,"Автономна Республіка Крим","Долинівка"]
[null,null,null,null,null,null,null,null,null,null,null,null,null,null,null,null,"Виробництво взуття",null,null,null,null,null,null,null,null,null,null,null,null,null,null,null,null,null,null,null,null,null,null,null,null,null,null,null,null,"Автономна Республіка Крим","Долинка (Митяївська)"]
[null,null,null,null,null,null,null,null,null,null,null,null,null,null,null,null,"Оброблення деревини та виготовлення виробів з деревини та корка, крім меблів; виготовлення виробів із соломки та рослинних матеріалів для плетіння",null,null,null,null,null,null,null,null,null,null,null,null,null,null,null,null,null,null,null,null,null,null,null,null,null,null,null,null,"Автономна Республіка Крим","Долинка (Новопавлівської)"]
[null,null,null,null,null,null,null,null,null,null,null,null,null,null,null,null,"Лісопильне та стругальне виробництво",null,null,null,null,null,null,null,null,null,null,null,null,null,null,null,null,null,null,null,null,null,null,null,null,null,null,null,null,"Автономна Республіка Крим","Долинне"]
[null,null,null,null,null,null,null,null,null,null,null,null,null,null,null,null,"Лісопильне та стругальне виробництво",null,null,null,null,null,null,null,null,null,null,null,null,null,null,null,null,null,null,null,null,null,null,null,null,null,null,null,null,"Автономна Республіка Крим","Донське"]
[null,null,null,null,null,null,null,null,null,null,null,null,null,null,null,null,"Виготовлення виробів з деревини, корка, соломки та рослинних матеріалів для плетіння",null,null,null,null,null,null,null,null,null,null,null,null,null,null,null,null,null,null,null,null,null,null,null,null,null,null,null,null,"Автономна Республіка Крим","Дорожнє"]
[null,null,null,null,null,null,null,null,null,null,null,null,null,null,null,null,"Виробництво фанери, дерев'яних плит і панелей, шпону",null,null,null,null,null,null,null,null,null,null,null,null,null,null,null,null,null,null,null,null,null,null,null,null,null,null,null,null,"Автономна Республіка Крим","Доходне"]
[null,null,null,null,null,null,null,null,null,null,null,null,null,null,null,null,"Виробництво щитового паркету",null,null,null,null,null,null,null,null,null,null,null,null,null,null,null,null,null,null,null,null,null,null,null,null,null,null,null,null,"Автономна Республіка Крим","Дрофине"]
[null,null,null,null,null,null,null,null,null,null,null,null,null,null,null,null,"Виробництво інших дерев'яних будівельних конструкцій і столярних виробів",null,null,null,null,null,null,null,null,null,null,null,null,null,null,null,null,null,null,null,null,null,null,null,null,null,null,null,null,"Автономна Республіка Крим","Дружне"]
[null,null,null,null,null,null,null,null,null,null,null,null,null,null,null,null,"Виробництво дерев'яної тари",null,null,null,null,null,null,null,null,null,null,null,null,null,null,null,null,null,null,null,null,null,null,null,null,null,null,null,null,"Автономна Республіка Крим","Дубки"]
[null,null,null,null,null,null,null,null,null,null,null,null,null,null,null,null,"Виробництво інших виробів з деревини; виготовлення виробів з корка, соломки та рослинних матеріалів для плетіння",null,null,null,null,null,null,null,null,null,null,null,null,null,null,null,null,null,null,null,null,null,null,null,null,null,null,null,null,"Автономна Республіка Крим","Дятлівка"]
[null,null,null,null,null,null,null,null,null,null,null,null,null,null,null,null,"Виробництво паперу та паперових виробів",null,null,null,null,null,null,null,null,null,null,null,null,null,null,null,null,null,null,null,null,null,null,null,null,null,null,null,null,"Автономна Республіка Крим","Євпаторія"]
[null,null,null,null,null,null,null,null,null,null,null,null,null,null,null,null,"Виробництво паперової маси, паперу та картону",null,null,null,null,null,null,null,null,null,null,null,null,null,null,null,null,null,null,null,null,null,null,null,null,null,null,null,null,"Автономна Республіка Крим","Єгорове"]
[null,null,null,null,null,null,null,null,null,null,null,null,null,null,null,null,"Виробництво паперової маси",null,null,null,null,null,null,null,null,null,null,null,null,null,null,null,null,null,null,null,null,null,null,null,null,null,null,null,null,"Автономна Республіка Крим","Єлизаветове"]
[null,null,null,null,null,null,null,null,null,null,null,null,null,null,null,null,"Виробництво паперу та картону",null,null,null,null,null,null,null,null,null,null,null,null,null,null,null,null,null,null,null,null,null,null,null,null,null,null,null,null,"Автономна Республіка Крим","Єрмакове"]
[null,null,null,null,null,null,null,null,null,null,null,null,null,null,null,null,"Виготовлення виробів з паперу та картону",null,null,null,null,null,null,null,null,null,null,null,null,null,null,null,null,null,null,null,null,null,null,null,null,null,null,null,null,"Автономна Республіка Крим","Єрофєєве"]
[null,null,null,null,null,null,null,null,null,null,null,null,null,null,null,null,"Виробництво гофрованого паперу та картону, паперової та картонної тари",null,null,null,null,null,null,null,null,null,null,null,null,null,null,null,null,null,null,null,null,null,null,null,null,null,null,null,null,"Автономна Республіка Крим","Жайворонки"]
[null,null,null,null,null,null,null,null,null,null,null,null,null,null,null,null,"Виробництво паперових виробів господарсько-побутового та санітарно-гігієнічного призначення",null,null,null,null,null,null,null,null,null,null,null,null,null,null,null,null,null,null,null,null,null,null,null,null,null,null,null,null,"Автономна Республіка Крим","Желябовка"]
[null,null,null,null,null,null,null,null,null,null,null,null,null,null,null,null,"Виробництво паперових канцелярських  виробів",null,null,null,null,null,null,null,null,null,null,null,null,null,null,null,null,null,null,null,null,null,null,null,null,null,null,null,null,"Автономна Республіка Крим","Жемчужина"]
[null,null,null,null,null,null,null,null,null,null,null,null,null,null,null,null,"Виробництво шпалер",null,null,null,null,null,null,null,null,null,null,null,null,null,null,null,null,null,null,null,null,null,null,null,null,null,null,null,null,"Автономна Республіка Крим","Жемчужина Криму"]
[null,null,null,null,null,null,null,null,null,null,null,null,null,null,null,null,"Виробництво інших виробів з паперу та картону",null,null,null,null,null,null,null,null,null,null,null,null,null,null,null,null,null,null,null,null,null,null,null,null,null,null,null,null,"Автономна Республіка Крим","Живописне"]
[null,null,null,null,null,null,null,null,null,null,null,null,null,null,null,null,"Поліграфічна діяльність, тиражування записаної інформації",null,null,null,null,null,null,null,null,null,null,null,null,null,null,null,null,null,null,null,null,null,null,null,null,null,null,null,null,"Автономна Республіка Крим","Жилине"]
[null,null,null,null,null,null,null,null,null,null,null,null,null,null,null,null,"Поліграфічна діяльність і надання пов'язаних із нею послуг",null,null,null,null,null,null,null,null,null,null,null,null,null,null,null,null,null,null,null,null,null,null,null,null,null,null,null,null,"Автономна Республіка Крим","Жовтокам'янка (Суворовська)"]
[null,null,null,null,null,null,null,null,null,null,null,null,null,null,null,null,"Друкування газет",null,null,null,null,null,null,null,null,null,null,null,null,null,null,null,null,null,null,null,null,null,null,null,null,null,null,null,null,"Автономна Республіка Крим","Журавки"]
[null,null,null,null,null,null,null,null,null,null,null,null,null,null,null,null,"Друкування іншої продукції",null,null,null,null,null,null,null,null,null,null,null,null,null,null,null,null,null,null,null,null,null,null,null,null,null,null,null,null,"Автономна Республіка Крим","Журавлі"]
[null,null,null,null,null,null,null,null,null,null,null,null,null,null,null,null,"Виготовлення друкарських форм і надання інших поліграфічних послуг",null,null,null,null,null,null,null,null,null,null,null,null,null,null,null,null,null,null,null,null,null,null,null,null,null,null,null,null,"Автономна Республіка Крим","Журавлівка"]
[null,null,null,null,null,null,null,null,null,null,null,null,null,null,null,null,"Брошурувально-палітурна діяльність і надання пов'язаних із нею послуг",null,null,null,null,null,null,null,null,null,null,null,null,null,null,null,null,null,null,null,null,null,null,null,null,null,null,null,null,"Автономна Республіка Крим","Завіт-Ленінський"]
[null,null,null,null,null,null,null,null,null,null,null,null,null,null,null,null,"Тиражування звуко-, відеозаписів і програмного забезпечення",null,null,null,null,null,null,null,null,null,null,null,null,null,null,null,null,null,null,null,null,null,null,null,null,null,null,null,null,"Автономна Республіка Крим","Завітне"]
[null,null,null,null,null,null,null,null,null,null,null,null,null,null,null,null,"Тиражування звуко-, відеозаписів і програмного забезпечення",null,null,null,null,null,null,null,null,null,null,null,null,null,null,null,null,null,null,null,null,null,null,null,null,null,null,null,null,"Автономна Республіка Крим","Заводське"]
[null,null,null,null,null,null,null,null,null,null,null,null,null,null,null,null,"Виробництво коксу та продуктів нафтоперероблення",null,null,null,null,null,null,null,null,null,null,null,null,null,null,null,null,null,null,null,null,null,null,null,null,null,null,null,null,"Автономна Республіка Крим","Задорне"]
[null,null,null,null,null,null,null,null,null,null,null,null,null,null,null,null,"Виробництво коксу та коксопродуктів",null,null,null,null,null,null,null,null,null,null,null,null,null,null,null,null,null,null,null,null,null,null,null,null,null,null,null,null,"Автономна Республіка Крим","Зайцеве"]
[null,null,null,null,null,null,null,null,null,null,null,null,null,null,null,null,"Виробництво коксу та коксопродуктів",null,null,null,null,null,null,null,null,null,null,null,null,null,null,null,null,null,null,null,null,null,null,null,null,null,null,null,null,"Автономна Республіка Крим","Заливне"]
[null,null,null,null,null,null,null,null,null,null,null,null,null,null,null,null,"Виробництво продуктів нафтоперероблення",null,null,null,null,null,null,null,null,null,null,null,null,null,null,null,null,null,null,null,null,null,null,null,null,null,null,null,null,"Автономна Республіка Крим","Залізничне"]
[null,null,null,null,null,null,null,null,null,null,null,null,null,null,null,null,"Виробництво продуктів нафтоперероблення",null,null,null,null,null,null,null,null,null,null,null,null,null,null,null,null,null,null,null,null,null,null,null,null,null,null,null,null,"Автономна Республіка Крим","Залісне"]
[null,null,null,null,null,null,null,null,null,null,null,null,null,null,null,null,"Виробництво хімічних речовин і хімічної продукції",null,null,null,null,null,null,null,null,null,null,null,null,null,null,null,null,null,null,null,null,null,null,null,null,null,null,null,null,"Автономна Республіка Крим","Залісся"]
[null,null,null,null,null,null,null,null,null,null,null,null,null,null,null,null,"Виробництво основної хімічної продукції, добрив і азотних сполук, пластмас і синтетичного каучуку в первинних формах",null,null,null,null,null,null,null,null,null,null,null,null,null,null,null,null,null,null,null,null,null,null,null,null,null,null,null,null,"Автономна Республіка Крим","Заозерне"]
[null,null,null,null,null,null,null,null,null,null,null,null,null,null,null,null,"Виробництво промислових газів",null,null,null,null,null,null,null,null,null,null,null,null,null,null,null,null,null,null,null,null,null,null,null,null,null,null,null,null,"Автономна Республіка Крим","Запрудне"]
[null,null,null,null,null,null,null,null,null,null,null,null,null,null,null,null,"Виробництво барвників і пігментів",null,null,null,null,null,null,null,null,null,null,null,null,null,null,null,null,null,null,null,null,null,null,null,null,null,null,null,null,"Автономна Республіка Крим","Зарічне"]
[null,null,null,null,null,null,null,null,null,null,null,null,null,null,null,null,"Виробництво інших основних неорганічних хімічних речовин",null,null,null,null,null,null,null,null,null,null,null,null,null,null,null,null,null,null,null,null,null,null,null,null,null,null,null,null,"Автономна Республіка Крим","Заріччя"]
[null,null,null,null,null,null,null,null,null,null,null,null,null,null,null,null,"Виробництво інших основних органічних хімічних речовин",null,null,null,null,null,null,null,null,null,null,null,null,null,null,null,null,null,null,null,null,null,null,null,null,null,null,null,null,"Автономна Республіка Крим","Затишне"]
[null,null,null,null,null,null,null,null,null,null,null,null,null,null,null,null,"Виробництво добрив і азотних сполук",null,null,null,null,null,null,null,null,null,null,null,null,null,null,null,null,null,null,null,null,null,null,null,null,null,null,null,null,"Автономна Республіка Крим","Звіздне"]
[null,null,null,null,null,null,null,null,null,null,null,null,null,null,null,null,"Виробництво пластмас у первинних формах",null,null,null,null,null,null,null,null,null,null,null,null,null,null,null,null,null,null,null,null,null,null,null,null,null,null,null,null,"Автономна Республіка Крим","Зелена Нива (Вишнівської)"]
[null,null,null,null,null,null,null,null,null,null,null,null,null,null,null,null,"Виробництво синтетичного каучуку в первинних формах",null,null,null,null,null,null,null,null,null,null,null,null,null,null,null,null,null,null,null,null,null,null,null,null,null,null,null,null,"Автономна Республіка Крим","Зелене"]
[null,null,null,null,null,null,null,null,null,null,null,null,null,null,null,null,"Виробництво пестицидів та іншої агрохімічної продукції",null,null,null,null,null,null,null,null,null,null,null,null,null,null,null,null,null,null,null,null,null,null,null,null,null,null,null,null,"Автономна Республіка Крим","Зелений Яр"]
[null,null,null,null,null,null,null,null,null,null,null,null,null,null,null,null,"Виробництво пестицидів та іншої агрохімічної продукції",null,null,null,null,null,null,null,null,null,null,null,null,null,null,null,null,null,null,null,null,null,null,null,null,null,null,null,null,"Автономна Республіка Крим","Зеленогірське"]
[null,null,null,null,null,null,null,null,null,null,null,null,null,null,null,null,"Виробництво фарб, лаків і подібної продукції, друкарської фарби та мастик",null,null,null,null,null,null,null,null,null,null,null,null,null,null,null,null,null,null,null,null,null,null,null,null,null,null,null,null,"Автономна Республіка Крим","Зеленогір'я"]
[null,null,null,null,null,null,null,null,null,null,null,null,null,null,null,null,"Виробництво фарб, лаків і подібної продукції, друкарської фарби та мастик",null,null,null,null,null,null,null,null,null,null,null,null,null,null,null,null,null,null,null,null,null,null,null,null,null,null,null,null,"Автономна Республіка Крим","Земляничне"]
[null,null,null,null,null,null,null,null,null,null,null,null,null,null,null,null,"Виробництво мила та мийних засобів, засобів для чищення та полірування, парфумних і косметичних засобів",null,null,null,null,null,null,null,null,null,null,null,null,null,null,null,null,null,null,null,null,null,null,null,null,null,null,null,null,"Автономна Республіка Крим","Зернове"]
[null,null,null,null,null,null,null,null,null,null,null,null,null,null,null,null,"Виробництво мила та мийних засобів, засобів для чищення та полірування",null,null,null,null,null,null,null,null,null,null,null,null,null,null,null,null,null,null,null,null,null,null,null,null,null,null,null,null,"Автономна Республіка Крим","Зибини"]
[null,null,null,null,null,null,null,null,null,null,null,null,null,null,null,null,"Виробництво парфумних і косметичних засобів",null,null,null,null,null,null,null,null,null,null,null,null,null,null,null,null,null,null,null,null,null,null,null,null,null,null,null,null,"Автономна Республіка Крим","Зимине"]
[null,null,null,null,null,null,null,null,null,null,null,null,null,null,null,null,"Виробництво іншої хімічної продукції",null,null,null,null,null,null,null,null,null,null,null,null,null,null,null,null,null,null,null,null,null,null,null,null,null,null,null,null,"Автономна Республіка Крим","Знам'янка"]
[null,null,null,null,null,null,null,null,null,null,null,null,null,null,null,null,"Виробництво вибухових речовин",null,null,null,null,null,null,null,null,null,null,null,null,null,null,null,null,null,null,null,null,null,null,null,null,null,null,null,null,"Автономна Республіка Крим","Знам'янка (Орлівської)"]
[null,null,null,null,null,null,null,null,null,null,null,null,null,null,null,null,"Виробництво клеїв",null,null,null,null,null,null,null,null,null,null,null,null,null,null,null,null,null,null,null,null,null,null,null,null,null,null,null,null,"Автономна Республіка Крим","Знам'янське"]
[null,null,null,null,null,null,null,null,null,null,null,null,null,null,null,null,"Виробництво ефірних олій",null,null,null,null,null,null,null,null,null,null,null,null,null,null,null,null,null,null,null,null,null,null,null,null,null,null,null,null,"Автономна Республіка Крим","Золоте"]
[null,null,null,null,null,null,null,null,null,null,null,null,null,null,null,null,"Виробництво іншої хімічної продукції, н.в.і.у.",null,null,null,null,null,null,null,null,null,null,null,null,null,null,null,null,null,null,null,null,null,null,null,null,null,null,null,null,"Автономна Республіка Крим","Золоте  Поле"]
[null,null,null,null,null,null,null,null,null,null,null,null,null,null,null,null,"Виробництво штучних і синтетичних волокон",null,null,null,null,null,null,null,null,null,null,null,null,null,null,null,null,null,null,null,null,null,null,null,null,null,null,null,null,"Автономна Республіка Крим","Зоркіне"]
[null,null,null,null,null,null,null,null,null,null,null,null,null,null,null,null,"Виробництво штучних і синтетичних волокон",null,null,null,null,null,null,null,null,null,null,null,null,null,null,null,null,null,null,null,null,null,null,null,null,null,null,null,null,"Автономна Республіка Крим","Зоря"]
[null,null,null,null,null,null,null,null,null,null,null,null,null,null,null,null,"Виробництво основних фармацевтичних продуктів і фармацевтичних препаратів",null,null,null,null,null,null,null,null,null,null,null,null,null,null,null,null,null,null,null,null,null,null,null,null,null,null,null,null,"Автономна Республіка Крим","Зоряне"]
[null,null,null,null,null,null,null,null,null,null,null,null,null,null,null,null,"Виробництво основних фармацевтичних продуктів",null,null,null,null,null,null,null,null,null,null,null,null,null,null,null,null,null,null,null,null,null,null,null,null,null,null,null,null,"Автономна Республіка Крим","Зубакіне"]
[null,null,null,null,null,null,null,null,null,null,null,null,null,null,null,null,"Виробництво основних фармацевтичних продуктів",null,null,null,null,null,null,null,null,null,null,null,null,null,null,null,null,null,null,null,null,null,null,null,null,null,null,null,null,"Автономна Республіка Крим","Зуя"]
[null,null,null,null,null,null,null,null,null,null,null,null,null,null,null,null,"Виробництво фармацевтичних препаратів і матеріалів",null,null,null,null,null,null,null,null,null,null,null,null,null,null,null,null,null,null,null,null,null,null,null,null,null,null,null,null,"Автономна Республіка Крим","Іванівка"]
[null,null,null,null,null,null,null,null,null,null,null,null,null,null,null,null,"Виробництво фармацевтичних препаратів і матеріалів",null,null,null,null,null,null,null,null,null,null,null,null,null,null,null,null,null,null,null,null,null,null,null,null,null,null,null,null,"Автономна Республіка Крим","Ізвесткове"]
[null,null,null,null,null,null,null,null,null,null,null,null,null,null,null,null,"Виробництво гумових і пластмасових виробів",null,null,null,null,null,null,null,null,null,null,null,null,null,null,null,null,null,null,null,null,null,null,null,null,null,null,null,null,"Автономна Республіка Крим","Ізобільне"]
[null,null,null,null,null,null,null,null,null,null,null,null,null,null,null,null,"Виробництво гумових виробів",null,null,null,null,null,null,null,null,null,null,null,null,null,null,null,null,null,null,null,null,null,null,null,null,null,null,null,null,"Автономна Республіка Крим","Ізумрудне"]
[null,null,null,null,null,null,null,null,null,null,null,null,null,null,null,null,"Виробництво гумових шин, покришок і камер; відновлення протектора гумових шин і покришок",null,null,null,null,null,null,null,null,null,null,null,null,null,null,null,null,null,null,null,null,null,null,null,null,null,null,null,null,"Автономна Республіка Крим","Ізюмівка"]
[null,null,null,null,null,null,null,null,null,null,null,null,null,null,null,null,"Виробництво інших гумових виробів",null,null,null,null,null,null,null,null,null,null,null,null,null,null,null,null,null,null,null,null,null,null,null,null,null,null,null,null,"Автономна Республіка Крим","Іллінка (Ільїнської)"]
[null,null,null,null,null,null,null,null,null,null,null,null,null,null,null,null,"Виробництво пластмасових виробів",null,null,null,null,null,null,null,null,null,null,null,null,null,null,null,null,null,null,null,null,null,null,null,null,null,null,null,null,"Автономна Республіка Крим","Іллінка (Сизівська)"]
[null,null,null,null,null,null,null,null,null,null,null,null,null,null,null,null,"Виробництво плит, листів, труб і профілів із пластмас",null,null,null,null,null,null,null,null,null,null,null,null,null,null,null,null,null,null,null,null,null,null,null,null,null,null,null,null,"Автономна Республіка Крим","Іллічеве"]
[null,null,null,null,null,null,null,null,null,null,null,null,null,null,null,null,"Виробництво тари з пластмас",null,null,null,null,null,null,null,null,null,null,null,null,null,null,null,null,null,null,null,null,null,null,null,null,null,null,null,null,"Автономна Республіка Крим","Іскра"]
[null,null,null,null,null,null,null,null,null,null,null,null,null,null,null,null,"Виробництво будівельних виробів із пластмас",null,null,null,null,null,null,null,null,null,null,null,null,null,null,null,null,null,null,null,null,null,null,null,null,null,null,null,null,"Автономна Республіка Крим","Істочне"]
[null,null,null,null,null,null,null,null,null,null,null,null,null,null,null,null,"Виробництво інших виробів із пластмас",null,null,null,null,null,null,null,null,null,null,null,null,null,null,null,null,null,null,null,null,null,null,null,null,null,null,null,null,"Автономна Республіка Крим","Істочне (Воїнської)"]
[null,null,null,null,null,null,null,null,null,null,null,null,null,null,null,null,"Виробництво іншої неметалевої мінеральної продукції",null,null,null,null,null,null,null,null,null,null,null,null,null,null,null,null,null,null,null,null,null,null,null,null,null,null,null,null,"Автономна Республіка Крим","Ішунь (Ішуньської)"]
[null,null,null,null,null,null,null,null,null,null,null,null,null,null,null,null,"Виробництво скла та виробів зі скла",null,null,null,null,null,null,null,null,null,null,null,null,null,null,null,null,null,null,null,null,null,null,null,null,null,null,null,null,"Автономна Республіка Крим","Казанки"]
[null,null,null,null,null,null,null,null,null,null,null,null,null,null,null,null,"Виробництво листового скла",null,null,null,null,null,null,null,null,null,null,null,null,null,null,null,null,null,null,null,null,null,null,null,null,null,null,null,null,"Автономна Республіка Крим","Калинівка"]
[null,null,null,null,null,null,null,null,null,null,null,null,null,null,null,null,"Формування й оброблення листового скла",null,null,null,null,null,null,null,null,null,null,null,null,null,null,null,null,null,null,null,null,null,null,null,null,null,null,null,null,"Автономна Республіка Крим","Калинівка (Оленівська)"]
[null,null,null,null,null,null,null,null,null,null,null,null,null,null,null,null,"Виробництво порожнистого скла",null,null,null,null,null,null,null,null,null,null,null,null,null,null,null,null,null,null,null,null,null,null,null,null,null,null,null,null,"Автономна Республіка Крим","Калініне"]
[null,null,null,null,null,null,null,null,null,null,null,null,null,null,null,null,"Виробництво скловолокна",null,null,null,null,null,null,null,null,null,null,null,null,null,null,null,null,null,null,null,null,null,null,null,null,null,null,null,null,"Автономна Республіка Крим","Калініне (Калінінської)"]
[null,null,null,null,null,null,null,null,null,null,null,null,null,null,null,null,"Виробництво й оброблення інших скляних виробів, у тому числі технічних",null,null,null,null,null,null,null,null,null,null,null,null,null,null,null,null,null,null,null,null,null,null,null,null,null,null,null,null,"Автономна Республіка Крим","Каменоломня"]
[null,null,null,null,null,null,null,null,null,null,null,null,null,null,null,null,"Виробництво вогнетривких виробів",null,null,null,null,null,null,null,null,null,null,null,null,null,null,null,null,null,null,null,null,null,null,null,null,null,null,null,null,"Автономна Республіка Крим","Кам'янка (Октябрьської)"]
[null,null,null,null,null,null,null,null,null,null,null,null,null,null,null,null,"Виробництво вогнетривких виробів",null,null,null,null,null,null,null,null,null,null,null,null,null,null,null,null,null,null,null,null,null,null,null,null,null,null,null,null,"Автономна Республіка Крим","Кам'янське"]
[null,null,null,null,null,null,null,null,null,null,null,null,null,null,null,null,"Виробництво будівельних матеріалів із глини",null,null,null,null,null,null,null,null,null,null,null,null,null,null,null,null,null,null,null,null,null,null,null,null,null,null,null,null,"Автономна Республіка Крим","Карасівка"]
[null,null,null,null,null,null,null,null,null,null,null,null,null,null,null,null,"Виробництво керамічних плиток і плит",null,null,null,null,null,null,null,null,null,null,null,null,null,null,null,null,null,null,null,null,null,null,null,null,null,null,null,null,"Автономна Республіка Крим","Кар'єрне"]
[null,null,null,null,null,null,null,null,null,null,null,null,null,null,null,null,"Виробництво цегли, черепиці та інших будівельних виробів із випаленої глини",null,null,null,null,null,null,null,null,null,null,null,null,null,null,null,null,null,null,null,null,null,null,null,null,null,null,null,null,"Автономна Республіка Крим","Карпівка"]
[null,null,null,null,null,null,null,null,null,null,null,null,null,null,null,null,"Виробництво іншої продукції з фарфору та кераміки",null,null,null,null,null,null,null,null,null,null,null,null,null,null,null,null,null,null,null,null,null,null,null,null,null,null,null,null,"Автономна Республіка Крим","Карпова Балка (Філатівської)"]
[null,null,null,null,null,null,null,null,null,null,null,null,null,null,null,null,"Виробництво господарських і декоративних керамічних виробів",null,null,null,null,null,null,null,null,null,null,null,null,null,null,null,null,null,null,null,null,null,null,null,null,null,null,null,null,"Автономна Республіка Крим","Кацівелі"]
[null,null,null,null,null,null,null,null,null,null,null,null,null,null,null,null,"Виробництво керамічних санітарно-технічних виробів",null,null,null,null,null,null,null,null,null,null,null,null,null,null,null,null,null,null,null,null,null,null,null,null,null,null,null,null,"Автономна Республіка Крим","Каштани"]
[null,null,null,null,null,null,null,null,null,null,null,null,null,null,null,null,"Виробництво керамічних електроізоляторів та ізоляційної арматури",null,null,null,null,null,null,null,null,null,null,null,null,null,null,null,null,null,null,null,null,null,null,null,null,null,null,null,null,"Автономна Республіка Крим","Каштанівка (Серебрянська сільська рада)"]
[null,null,null,null,null,null,null,null,null,null,null,null,null,null,null,null,"Виробництво інших керамічних виробів технічного призначення",null,null,null,null,null,null,null,null,null,null,null,null,null,null,null,null,null,null,null,null,null,null,null,null,null,null,null,null,"Автономна Республіка Крим","Каштанівка (Черновської)"]
[null,null,null,null,null,null,null,null,null,null,null,null,null,null,null,null,"Виробництво інших керамічних виробів",null,null,null,null,null,null,null,null,null,null,null,null,null,null,null,null,null,null,null,null,null,null,null,null,null,null,null,null,"Автономна Республіка Крим","Каштанове"]
[null,null,null,null,null,null,null,null,null,null,null,null,null,null,null,null,"Виробництво цементу, вапна та гіпсових сумішей",null,null,null,null,null,null,null,null,null,null,null,null,null,null,null,null,null,null,null,null,null,null,null,null,null,null,null,null,"Автономна Республіка Крим","Керч"]
[null,null,null,null,null,null,null,null,null,null,null,null,null,null,null,null,"Виробництво цементу",null,null,null,null,null,null,null,null,null,null,null,null,null,null,null,null,null,null,null,null,null,null,null,null,null,null,null,null,"Автономна Республіка Крим","Кизилівка"]
[null,null,null,null,null,null,null,null,null,null,null,null,null,null,null,null,"Виробництво вапна та гіпсових сумішей",null,null,null,null,null,null,null,null,null,null,null,null,null,null,null,null,null,null,null,null,null,null,null,null,null,null,null,null,"Автономна Республіка Крим","Кипарисне"]
[null,null,null,null,null,null,null,null,null,null,null,null,null,null,null,null,"Виготовлення виробів із бетону, гіпсу та цементу",null,null,null,null,null,null,null,null,null,null,null,null,null,null,null,null,null,null,null,null,null,null,null,null,null,null,null,null,"Автономна Республіка Крим","Кирпичне"]
[null,null,null,null,null,null,null,null,null,null,null,null,null,null,null,null,"Виготовлення виробів із бетону для будівництва",null,null,null,null,null,null,null,null,null,null,null,null,null,null,null,null,null,null,null,null,null,null,null,null,null,null,null,null,"Автономна Республіка Крим","Кирсанівка"]
[null,null,null,null,null,null,null,null,null,null,null,null,null,null,null,null,"Виготовлення виробів із гіпсу для будівництва",null,null,null,null,null,null,null,null,null,null,null,null,null,null,null,null,null,null,null,null,null,null,null,null,null,null,null,null,"Автономна Республіка Крим","Кіндратове"]
[null,null,null,null,null,null,null,null,null,null,null,null,null,null,null,null,"Виробництво бетонних розчинів, готових для використання",null,null,null,null,null,null,null,null,null,null,null,null,null,null,null,null,null,null,null,null,null,null,null,null,null,null,null,null,"Автономна Республіка Крим","Кіровське"]
[null,null,null,null,null,null,null,null,null,null,null,null,null,null,null,null,"Виробництво сухих будівельних сумішей",null,null,null,null,null,null,null,null,null,null,null,null,null,null,null,null,null,null,null,null,null,null,null,null,null,null,null,null,"Автономна Республіка Крим","Кісточківка"]
[null,null,null,null,null,null,null,null,null,null,null,null,null,null,null,null,"Виготовлення виробів із волокнистого цементу",null,null,null,null,null,null,null,null,null,null,null,null,null,null,null,null,null,null,null,null,null,null,null,null,null,null,null,null,"Автономна Республіка Крим","Клепиніне"]
[null,null,null,null,null,null,null,null,null,null,null,null,null,null,null,null,"Виробництво інших виробів із бетону, гіпсу та цементу",null,null,null,null,null,null,null,null,null,null,null,null,null,null,null,null,null,null,null,null,null,null,null,null,null,null,null,null,"Автономна Республіка Крим","Климове"]
[null,null,null,null,null,null,null,null,null,null,null,null,null,null,null,null,"Різання, оброблення та оздоблення декоративного та будівельного каменю",null,null,null,null,null,null,null,null,null,null,null,null,null,null,null,null,null,null,null,null,null,null,null,null,null,null,null,null,"Автономна Республіка Крим","Клинівка"]
[null,null,null,null,null,null,null,null,null,null,null,null,null,null,null,null,"Різання, оброблення та оздоблення декоративного та будівельного каменю",null,null,null,null,null,null,null,null,null,null,null,null,null,null,null,null,null,null,null,null,null,null,null,null,null,null,null,null,"Автономна Республіка Крим","Ключі"]
[null,null,null,null,null,null,null,null,null,null,null,null,null,null,null,null,"Виробництво абразивних виробів і неметалевих мінеральних виробів, н.в.і.у.",null,null,null,null,null,null,null,null,null,null,null,null,null,null,null,null,null,null,null,null,null,null,null,null,null,null,null,null,"Автономна Республіка Крим","Ключове"]
[null,null,null,null,null,null,null,null,null,null,null,null,null,null,null,null,"Виробництво абразивних виробів",null,null,null,null,null,null,null,null,null,null,null,null,null,null,null,null,null,null,null,null,null,null,null,null,null,null,null,null,"Автономна Республіка Крим","Ковильне"]
[null,null,null,null,null,null,null,null,null,null,null,null,null,null,null,null,"Виробництво неметалевих мінеральних виробів, н.в.і.у.",null,null,null,null,null,null,null,null,null,null,null,null,null,null,null,null,null,null,null,null,null,null,null,null,null,null,null,null,"Автономна Республіка Крим","Ковильне (Ковильнівська сільська рада)"]
[null,null,null,null,null,null,null,null,null,null,null,null,null,null,null,null,"Металургійне виробництво",null,null,null,null,null,null,null,null,null,null,null,null,null,null,null,null,null,null,null,null,null,null,null,null,null,null,null,null,"Автономна Республіка Крим","Коврове"]
[null,null,null,null,null,null,null,null,null,null,null,null,null,null,null,null,"Виробництво чавуну, сталі та феросплавів",null,null,null,null,null,null,null,null,null,null,null,null,null,null,null,null,null,null,null,null,null,null,null,null,null,null,null,null,"Автономна Республіка Крим","Коктебель"]
[null,null,null,null,null,null,null,null,null,null,null,null,null,null,null,null,"Виробництво чавуну, сталі та феросплавів",null,null,null,null,null,null,null,null,null,null,null,null,null,null,null,null,null,null,null,null,null,null,null,null,null,null,null,null,"Автономна Республіка Крим","Колодязне"]
[null,null,null,null,null,null,null,null,null,null,null,null,null,null,null,null,"Виробництво труб, порожнистих профілів і фітингів зі сталі",null,null,null,null,null,null,null,null,null,null,null,null,null,null,null,null,null,null,null,null,null,null,null,null,null,null,null,null,"Автономна Республіка Крим","Коломенське"]
[null,null,null,null,null,null,null,null,null,null,null,null,null,null,null,null,"Виробництво труб, порожнистих профілів і фітингів зі сталі",null,null,null,null,null,null,null,null,null,null,null,null,null,null,null,null,null,null,null,null,null,null,null,null,null,null,null,null,"Автономна Республіка Крим","Колоски"]
[null,null,null,null,null,null,null,null,null,null,null,null,null,null,null,null,"Виробництво іншої продукції первинного оброблення сталі",null,null,null,null,null,null,null,null,null,null,null,null,null,null,null,null,null,null,null,null,null,null,null,null,null,null,null,null,"Автономна Республіка Крим","Кольцове"]
[null,null,null,null,null,null,null,null,null,null,null,null,null,null,null,null,"Холодне волочіння прутків і профілів",null,null,null,null,null,null,null,null,null,null,null,null,null,null,null,null,null,null,null,null,null,null,null,null,null,null,null,null,"Автономна Республіка Крим","Кольчугине"]
[null,null,null,null,null,null,null,null,null,null,null,null,null,null,null,null,"Холодний прокат вузької штаби",null,null,null,null,null,null,null,null,null,null,null,null,null,null,null,null,null,null,null,null,null,null,null,null,null,null,null,null,"Автономна Республіка Крим","Комарівка"]
[null,null,null,null,null,null,null,null,null,null,null,null,null,null,null,null,"Холодне штампування та гнуття",null,null,null,null,null,null,null,null,null,null,null,null,null,null,null,null,null,null,null,null,null,null,null,null,null,null,null,null,"Автономна Республіка Крим","Комишинка"]
[null,null,null,null,null,null,null,null,null,null,null,null,null,null,null,null,"Холодне волочіння дроту",null,null,null,null,null,null,null,null,null,null,null,null,null,null,null,null,null,null,null,null,null,null,null,null,null,null,null,null,"Автономна Республіка Крим","Комишне (Руч'ївська сільська рада)"]
[null,null,null,null,null,null,null,null,null,null,null,null,null,null,null,null,"Виробництво дорогоцінних та інших кольорових металів",null,null,null,null,null,null,null,null,null,null,null,null,null,null,null,null,null,null,null,null,null,null,null,null,null,null,null,null,"Автономна Республіка Крим","Комсомольське"]
[null,null,null,null,null,null,null,null,null,null,null,null,null,null,null,null,"Виробництво дорогоцінних металів",null,null,null,null,null,null,null,null,null,null,null,null,null,null,null,null,null,null,null,null,null,null,null,null,null,null,null,null,"Автономна Республіка Крим","Комунари"]
[null,null,null,null,null,null,null,null,null,null,null,null,null,null,null,null,"Виробництво алюмінію",null,null,null,null,null,null,null,null,null,null,null,null,null,null,null,null,null,null,null,null,null,null,null,null,null,null,null,null,"Автономна Республіка Крим","Комунарне (Руч'ївська сільська рада)"]
[null,null,null,null,null,null,null,null,null,null,null,null,null,null,null,null,"Виробництво свинцю, цинку й олова",null,null,null,null,null,null,null,null,null,null,null,null,null,null,null,null,null,null,null,null,null,null,null,null,null,null,null,null,"Автономна Республіка Крим","Копані"]
[null,null,null,null,null,null,null,null,null,null,null,null,null,null,null,null,"Виробництво міді",null,null,null,null,null,null,null,null,null,null,null,null,null,null,null,null,null,null,null,null,null,null,null,null,null,null,null,null,"Автономна Республіка Крим","Кореїз"]
[null,null,null,null,null,null,null,null,null,null,null,null,null,null,null,null,"Виробництво інших кольорових металів",null,null,null,null,null,null,null,null,null,null,null,null,null,null,null,null,null,null,null,null,null,null,null,null,null,null,null,null,"Автономна Республіка Крим","Корінне"]
[null,null,null,null,null,null,null,null,null,null,null,null,null,null,null,null,"Виробництво ядерних матеріалів",null,null,null,null,null,null,null,null,null,null,null,null,null,null,null,null,null,null,null,null,null,null,null,null,null,null,null,null,"Автономна Республіка Крим","Кормове (Кормовської)"]
[null,null,null,null,null,null,null,null,null,null,null,null,null,null,null,null,"Лиття металів",null,null,null,null,null,null,null,null,null,null,null,null,null,null,null,null,null,null,null,null,null,null,null,null,null,null,null,null,"Автономна Республіка Крим","Корніївка"]
[null,null,null,null,null,null,null,null,null,null,null,null,null,null,null,null,"Лиття чавуну",null,null,null,null,null,null,null,null,null,null,null,null,null,null,null,null,null,null,null,null,null,null,null,null,null,null,null,null,"Автономна Республіка Крим","Корольове"]
[null,null,null,null,null,null,null,null,null,null,null,null,null,null,null,null,"Лиття сталі",null,null,null,null,null,null,null,null,null,null,null,null,null,null,null,null,null,null,null,null,null,null,null,null,null,null,null,null,"Автономна Республіка Крим","Костиріне"]
[null,null,null,null,null,null,null,null,null,null,null,null,null,null,null,null,"Лиття легких кольорових металів",null,null,null,null,null,null,null,null,null,null,null,null,null,null,null,null,null,null,null,null,null,null,null,null,null,null,null,null,"Автономна Республіка Крим","Костянтинівка"]
[null,null,null,null,null,null,null,null,null,null,null,null,null,null,null,null,"Лиття інших кольорових металів",null,null,null,null,null,null,null,null,null,null,null,null,null,null,null,null,null,null,null,null,null,null,null,null,null,null,null,null,"Автономна Республіка Крим","Котельникове"]
[null,null,null,null,null,null,null,null,null,null,null,null,null,null,null,null,"Виробництво готових металевих виробів, крім машин і устатковання",null,null,null,null,null,null,null,null,null,null,null,null,null,null,null,null,null,null,null,null,null,null,null,null,null,null,null,null,"Автономна Республіка Крим","Котовське (Славнівська сільська рада)"]
[null,null,null,null,null,null,null,null,null,null,null,null,null,null,null,null,"Виробництво будівельних металевих конструкцій і виробів",null,null,null,null,null,null,null,null,null,null,null,null,null,null,null,null,null,null,null,null,null,null,null,null,null,null,null,null,"Автономна Республіка Крим","Кочергіне"]
[null,null,null,null,null,null,null,null,null,null,null,null,null,null,null,null,"Виробництво будівельних металевих конструкцій і частин конструкцій",null,null,null,null,null,null,null,null,null,null,null,null,null,null,null,null,null,null,null,null,null,null,null,null,null,null,null,null,"Автономна Республіка Крим","Крайнє (Крайненська)"]
[null,null,null,null,null,null,null,null,null,null,null,null,null,null,null,null,"Виробництво металевих дверей і вікон",null,null,null,null,null,null,null,null,null,null,null,null,null,null,null,null,null,null,null,null,null,null,null,null,null,null,null,null,"Автономна Республіка Крим","Красна Долина"]
[null,null,null,null,null,null,null,null,null,null,null,null,null,null,null,null,"Виробництво металевих баків, резервуарів і контейнерів",null,null,null,null,null,null,null,null,null,null,null,null,null,null,null,null,null,null,null,null,null,null,null,null,null,null,null,null,"Автономна Республіка Крим","Красна Зорька"]
[null,null,null,null,null,null,null,null,null,null,null,null,null,null,null,null,"Виробництво радіаторів і  котлів центрального опалення",null,null,null,null,null,null,null,null,null,null,null,null,null,null,null,null,null,null,null,null,null,null,null,null,null,null,null,null,"Автономна Республіка Крим","Красна Поляна"]
[null,null,null,null,null,null,null,null,null,null,null,null,null,null,null,null,"Виробництво інших металевих баків, резервуарів і контейнерів",null,null,null,null,null,null,null,null,null,null,null,null,null,null,null,null,null,null,null,null,null,null,null,null,null,null,null,null,"Автономна Республіка Крим","Красна Слобода"]
[null,null,null,null,null,null,null,null,null,null,null,null,null,null,null,null,"Виробництво парових котлів, крім котлів центрального опалення",null,null,null,null,null,null,null,null,null,null,null,null,null,null,null,null,null,null,null,null,null,null,null,null,null,null,null,null,"Автономна Республіка Крим","Красний Мак"]
[null,null,null,null,null,null,null,null,null,null,null,null,null,null,null,null,"Виробництво парових котлів, крім котлів центрального опалення",null,null,null,null,null,null,null,null,null,null,null,null,null,null,null,null,null,null,null,null,null,null,null,null,null,null,null,null,"Автономна Республіка Крим","Красний Партизан"]
[null,null,null,null,null,null,null,null,null,null,null,null,null,null,null,null,"Виробництво зброї та боєприпасів",null,null,null,null,null,null,null,null,null,null,null,null,null,null,null,null,null,null,null,null,null,null,null,null,null,null,null,null,"Автономна Республіка Крим","Краснівка"]
[null,null,null,null,null,null,null,null,null,null,null,null,null,null,null,null,"Виробництво зброї та боєприпасів",null,null,null,null,null,null,null,null,null,null,null,null,null,null,null,null,null,null,null,null,null,null,null,null,null,null,null,null,"Автономна Республіка Крим","Красноармійське (Зиминська сільська рада)"]
[null,null,null,null,null,null,null,null,null,null,null,null,null,null,null,null,"Кування, пресування, штампування, профілювання; порошкова металургія",null,null,null,null,null,null,null,null,null,null,null,null,null,null,null,null,null,null,null,null,null,null,null,null,null,null,null,null,"Автономна Республіка Крим","Красноармійське (Красноармійська)"]
[null,null,null,null,null,null,null,null,null,null,null,null,null,null,null,null,"Кування, пресування, штампування, профілювання; порошкова металургія",null,null,null,null,null,null,null,null,null,null,null,null,null,null,null,null,null,null,null,null,null,null,null,null,null,null,null,null,"Автономна Республіка Крим","Красногвардійське"]
[null,null,null,null,null,null,null,null,null,null,null,null,null,null,null,null,"Оброблення металів та нанесення покриття на метали; механічне оброблення металевих виробів",null,null,null,null,null,null,null,null,null,null,null,null,null,null,null,null,null,null,null,null,null,null,null,null,null,null,null,null,"Автономна Республіка Крим","Красногірка"]
[null,null,null,null,null,null,null,null,null,null,null,null,null,null,null,null,"Оброблення металів та нанесення покриття на метали",null,null,null,null,null,null,null,null,null,null,null,null,null,null,null,null,null,null,null,null,null,null,null,null,null,null,null,null,"Автономна Республіка Крим","Красногірське"]
[null,null,null,null,null,null,null,null,null,null,null,null,null,null,null,null,"Механічне оброблення металевих виробів",null,null,null,null,null,null,null,null,null,null,null,null,null,null,null,null,null,null,null,null,null,null,null,null,null,null,null,null,"Автономна Республіка Крим","Краснодарка"]
[null,null,null,null,null,null,null,null,null,null,null,null,null,null,null,null,"Виробництво столових приборів, інструментів і металевих виробів загального призначення",null,null,null,null,null,null,null,null,null,null,null,null,null,null,null,null,null,null,null,null,null,null,null,null,null,null,null,null,"Автономна Республіка Крим","Краснодольне"]
[null,null,null,null,null,null,null,null,null,null,null,null,null,null,null,null,"Виробництво столових приборів",null,null,null,null,null,null,null,null,null,null,null,null,null,null,null,null,null,null,null,null,null,null,null,null,null,null,null,null,"Автономна Республіка Крим","Краснознам'янка"]
[null,null,null,null,null,null,null,null,null,null,null,null,null,null,null,null,"Виробництво замків і дверних петель",null,null,null,null,null,null,null,null,null,null,null,null,null,null,null,null,null,null,null,null,null,null,null,null,null,null,null,null,"Автономна Республіка Крим","Краснокам'янка"]
[null,null,null,null,null,null,null,null,null,null,null,null,null,null,null,null,"Виробництво інструментів",null,null,null,null,null,null,null,null,null,null,null,null,null,null,null,null,null,null,null,null,null,null,null,null,null,null,null,null,"Автономна Республіка Крим","Краснолісся"]
[null,null,null,null,null,null,null,null,null,null,null,null,null,null,null,null,"Виробництво інших готових металевих виробів",null,null,null,null,null,null,null,null,null,null,null,null,null,null,null,null,null,null,null,null,null,null,null,null,null,null,null,null,"Автономна Республіка Крим","Красноперекопськ"]
[null,null,null,null,null,null,null,null,null,null,null,null,null,null,null,null,"Виробництво сталевих бочок і подібних контейнерів",null,null,null,null,null,null,null,null,null,null,null,null,null,null,null,null,null,null,null,null,null,null,null,null,null,null,null,null,"Автономна Республіка Крим","Красноселівка"]
[null,null,null,null,null,null,null,null,null,null,null,null,null,null,null,null,"Виробництво легких металевих паковань",null,null,null,null,null,null,null,null,null,null,null,null,null,null,null,null,null,null,null,null,null,null,null,null,null,null,null,null,"Автономна Республіка Крим","Красносільське"]
[null,null,null,null,null,null,null,null,null,null,null,null,null,null,null,null,"Виробництво виробів із дроту, ланцюгів і пружин",null,null,null,null,null,null,null,null,null,null,null,null,null,null,null,null,null,null,null,null,null,null,null,null,null,null,null,null,"Автономна Республіка Крим","Красносільське (Окунівська)"]
[null,null,null,null,null,null,null,null,null,null,null,null,null,null,null,null,"Виробництво кріпильних і ґвинтонарізних виробів",null,null,null,null,null,null,null,null,null,null,null,null,null,null,null,null,null,null,null,null,null,null,null,null,null,null,null,null,"Автономна Республіка Крим","Краснофлотське"]
[null,null,null,null,null,null,null,null,null,null,null,null,null,null,null,null,"Виробництво інших готових металевих виробів, н.в.і.у.",null,null,null,null,null,null,null,null,null,null,null,null,null,null,null,null,null,null,null,null,null,null,null,null,null,null,null,null,"Автономна Республіка Крим","Красноярське"]
[null,null,null,null,null,null,null,null,null,null,null,null,null,null,null,null,"Виробництво комп'ютерів, електронної та оптичної продукції",null,null,null,null,null,null,null,null,null,null,null,null,null,null,null,null,null,null,null,null,null,null,null,null,null,null,null,null,"Автономна Республіка Крим","Кремнівка"]
[null,null,null,null,null,null,null,null,null,null,null,null,null,null,null,null,"Виробництво електронних компонентів і плат",null,null,null,null,null,null,null,null,null,null,null,null,null,null,null,null,null,null,null,null,null,null,null,null,null,null,null,null,"Автономна Республіка Крим","Крестянівка (Крестянівскої)"]
[null,null,null,null,null,null,null,null,null,null,null,null,null,null,null,null,"Виробництво електронних компонентів",null,null,null,null,null,null,null,null,null,null,null,null,null,null,null,null,null,null,null,null,null,null,null,null,null,null,null,null,"Автономна Республіка Крим","Кривцове"]
[null,null,null,null,null,null,null,null,null,null,null,null,null,null,null,null,"Виробництво змонтованих електронних плат",null,null,null,null,null,null,null,null,null,null,null,null,null,null,null,null,null,null,null,null,null,null,null,null,null,null,null,null,"Автономна Республіка Крим","Криловка (Степновської)"]
[null,null,null,null,null,null,null,null,null,null,null,null,null,null,null,null,"Виробництво комп'ютерів і периферійного устатковання",null,null,null,null,null,null,null,null,null,null,null,null,null,null,null,null,null,null,null,null,null,null,null,null,null,null,null,null,"Автономна Республіка Крим","Криловка (Штормівська)"]
[null,null,null,null,null,null,null,null,null,null,null,null,null,null,null,null,"Виробництво комп'ютерів і периферійного устатковання",null,null,null,null,null,null,null,null,null,null,null,null,null,null,null,null,null,null,null,null,null,null,null,null,null,null,null,null,"Автономна Республіка Крим","Кримка"]
[null,null,null,null,null,null,null,null,null,null,null,null,null,null,null,null,"Виробництво обладнання зв'язку",null,null,null,null,null,null,null,null,null,null,null,null,null,null,null,null,null,null,null,null,null,null,null,null,null,null,null,null,"Автономна Республіка Крим","Кримська Роза"]
[null,null,null,null,null,null,null,null,null,null,null,null,null,null,null,null,"Виробництво обладнання зв'язку",null,null,null,null,null,null,null,null,null,null,null,null,null,null,null,null,null,null,null,null,null,null,null,null,null,null,null,null,"Автономна Республіка Крим","Кримське"]
[null,null,null,null,null,null,null,null,null,null,null,null,null,null,null,null,"Виробництво електронної апаратури побутового призначення для приймання, записування та відтворювання звуку й зображення",null,null,null,null,null,null,null,null,null,null,null,null,null,null,null,null,null,null,null,null,null,null,null,null,null,null,null,null,"Автономна Республіка Крим","Кринички"]
[null,null,null,null,null,null,null,null,null,null,null,null,null,null,null,null,"Виробництво електронної апаратури побутового призначення для приймання, записування та відтворювання звуку й зображення",null,null,null,null,null,null,null,null,null,null,null,null,null,null,null,null,null,null,null,null,null,null,null,null,null,null,null,null,"Автономна Республіка Крим","Кріпке (Вишнівської)"]
[null,null,null,null,null,null,null,null,null,null,null,null,null,null,null,null,"Виробництво інструментів і обладнання для вимірювання, дослідження та навігації; виробництво годинників",null,null,null,null,null,null,null,null,null,null,null,null,null,null,null,null,null,null,null,null,null,null,null,null,null,null,null,null,"Автономна Республіка Крим","Кропоткіне (Чернишівська сільська рада)"]
[null,null,null,null,null,null,null,null,null,null,null,null,null,null,null,null,"Виробництво інструментів і обладнання для вимірювання, дослідження та навігації",null,null,null,null,null,null,null,null,null,null,null,null,null,null,null,null,null,null,null,null,null,null,null,null,null,null,null,null,"Автономна Республіка Крим","Кубанське"]
[null,null,null,null,null,null,null,null,null,null,null,null,null,null,null,null,"Виробництво годинників",null,null,null,null,null,null,null,null,null,null,null,null,null,null,null,null,null,null,null,null,null,null,null,null,null,null,null,null,"Автономна Республіка Крим","Кудрине"]
[null,null,null,null,null,null,null,null,null,null,null,null,null,null,null,null,"Виробництво радіологічного, електромедичного й електротерапевтичного устатковання",null,null,null,null,null,null,null,null,null,null,null,null,null,null,null,null,null,null,null,null,null,null,null,null,null,null,null,null,"Автономна Республіка Крим","Кузнецьке"]
[null,null,null,null,null,null,null,null,null,null,null,null,null,null,null,null,"Виробництво радіологічного, електромедичного й електротерапевтичного устатковання",null,null,null,null,null,null,null,null,null,null,null,null,null,null,null,null,null,null,null,null,null,null,null,null,null,null,null,null,"Автономна Республіка Крим","Куйбишеве"]
[null,null,null,null,null,null,null,null,null,null,null,null,null,null,null,null,"Виробництво оптичних приладів і фотографічного устатковання",null,null,null,null,null,null,null,null,null,null,null,null,null,null,null,null,null,null,null,null,null,null,null,null,null,null,null,null,"Автономна Республіка Крим","Кукурудзяне"]
[null,null,null,null,null,null,null,null,null,null,null,null,null,null,null,null,"Виробництво оптичних приладів і фотографічного устатковання",null,null,null,null,null,null,null,null,null,null,null,null,null,null,null,null,null,null,null,null,null,null,null,null,null,null,null,null,"Автономна Республіка Крим","Кукушкіне"]
[null,null,null,null,null,null,null,null,null,null,null,null,null,null,null,null,"Виробництво магнітних і оптичних носіїв даних",null,null,null,null,null,null,null,null,null,null,null,null,null,null,null,null,null,null,null,null,null,null,null,null,null,null,null,null,"Автономна Республіка Крим","Куликівка"]
[null,null,null,null,null,null,null,null,null,null,null,null,null,null,null,null,"Виробництво магнітних і оптичних носіїв даних",null,null,null,null,null,null,null,null,null,null,null,null,null,null,null,null,null,null,null,null,null,null,null,null,null,null,null,null,"Автономна Республіка Крим","Кумове (Ботанічна сільська рада)"]
[null,null,null,null,null,null,null,null,null,null,null,null,null,null,null,null,"Виробництво електричного устатковання",null,null,null,null,null,null,null,null,null,null,null,null,null,null,null,null,null,null,null,null,null,null,null,null,null,null,null,null,"Автономна Республіка Крим","Кунцеве"]
[null,null,null,null,null,null,null,null,null,null,null,null,null,null,null,null,"Виробництво електродвигунів, генераторів, трансформаторів, електророзподільчої та контрольної апаратури",null,null,null,null,null,null,null,null,null,null,null,null,null,null,null,null,null,null,null,null,null,null,null,null,null,null,null,null,"Автономна Республіка Крим","Купріне"]
[null,null,null,null,null,null,null,null,null,null,null,null,null,null,null,null,"Виробництво електродвигунів, генераторів і трансформаторів",null,null,null,null,null,null,null,null,null,null,null,null,null,null,null,null,null,null,null,null,null,null,null,null,null,null,null,null,"Автономна Республіка Крим","Курганне"]
[null,null,null,null,null,null,null,null,null,null,null,null,null,null,null,null,"Виробництво електророзподільчої та контрольної апаратури",null,null,null,null,null,null,null,null,null,null,null,null,null,null,null,null,null,null,null,null,null,null,null,null,null,null,null,null,"Автономна Республіка Крим","Курганне (Ільїнка)"]
[null,null,null,null,null,null,null,null,null,null,null,null,null,null,null,null,"Виробництво батарей і акумуляторів",null,null,null,null,null,null,null,null,null,null,null,null,null,null,null,null,null,null,null,null,null,null,null,null,null,null,null,null,"Автономна Республіка Крим","Курортне"]
[null,null,null,null,null,null,null,null,null,null,null,null,null,null,null,null,"Виробництво батарей і акумуляторів",null,null,null,null,null,null,null,null,null,null,null,null,null,null,null,null,null,null,null,null,null,null,null,null,null,null,null,null,"Автономна Республіка Крим","Курпати"]
[null,null,null,null,null,null,null,null,null,null,null,null,null,null,null,null,"Виробництво проводів, кабелів і електромонтажних пристроїв",null,null,null,null,null,null,null,null,null,null,null,null,null,null,null,null,null,null,null,null,null,null,null,null,null,null,null,null,"Автономна Республіка Крим","Курське"]
[null,null,null,null,null,null,null,null,null,null,null,null,null,null,null,null,"Виробництво волоконно-оптичних кабелів",null,null,null,null,null,null,null,null,null,null,null,null,null,null,null,null,null,null,null,null,null,null,null,null,null,null,null,null,"Автономна Республіка Крим","Лаванда"]
[null,null,null,null,null,null,null,null,null,null,null,null,null,null,null,null,"Виробництво інших видів електронних і електричних проводів та кабелів",null,null,null,null,null,null,null,null,null,null,null,null,null,null,null,null,null,null,null,null,null,null,null,null,null,null,null,null,"Автономна Республіка Крим","Лаврове"]
[null,null,null,null,null,null,null,null,null,null,null,null,null,null,null,null,"Виробництво електромонтажних пристроїв",null,null,null,null,null,null,null,null,null,null,null,null,null,null,null,null,null,null,null,null,null,null,null,null,null,null,null,null,"Автономна Республіка Крим","Лазарівка"]
[null,null,null,null,null,null,null,null,null,null,null,null,null,null,null,null,"Виробництво електричного освітлювального устатковання",null,null,null,null,null,null,null,null,null,null,null,null,null,null,null,null,null,null,null,null,null,null,null,null,null,null,null,null,"Автономна Республіка Крим","Лазурне"]
[null,null,null,null,null,null,null,null,null,null,null,null,null,null,null,null,"Виробництво електричного освітлювального устатковання",null,null,null,null,null,null,null,null,null,null,null,null,null,null,null,null,null,null,null,null,null,null,null,null,null,null,null,null,"Автономна Республіка Крим","Лебединка"]
[null,null,null,null,null,null,null,null,null,null,null,null,null,null,null,null,"Виробництво побутових приладів",null,null,null,null,null,null,null,null,null,null,null,null,null,null,null,null,null,null,null,null,null,null,null,null,null,null,null,null,"Автономна Республіка Крим","Левадки"]
[null,null,null,null,null,null,null,null,null,null,null,null,null,null,null,null,"Виробництво електричних побутових приладів",null,null,null,null,null,null,null,null,null,null,null,null,null,null,null,null,null,null,null,null,null,null,null,null,null,null,null,null,"Автономна Республіка Крим","Левітанівка (Калінінської)"]
[null,null,null,null,null,null,null,null,null,null,null,null,null,null,null,null,"Виробництво неелектричних побутових приладів",null,null,null,null,null,null,null,null,null,null,null,null,null,null,null,null,null,null,null,null,null,null,null,null,null,null,null,null,"Автономна Республіка Крим","Леніне"]
[null,null,null,null,null,null,null,null,null,null,null,null,null,null,null,null,"Виробництво іншого електричного устатковання",null,null,null,null,null,null,null,null,null,null,null,null,null,null,null,null,null,null,null,null,null,null,null,null,null,null,null,null,"Автономна Республіка Крим","Ленінське"]
[null,null,null,null,null,null,null,null,null,null,null,null,null,null,null,null,"Виробництво іншого електричного устатковання",null,null,null,null,null,null,null,null,null,null,null,null,null,null,null,null,null,null,null,null,null,null,null,null,null,null,null,null,"Автономна Республіка Крим","Ленське"]
[null,null,null,null,null,null,null,null,null,null,null,null,null,null,null,null,"Виробництво машин і устатковання, н.в.і.у.",null,null,null,null,null,null,null,null,null,null,null,null,null,null,null,null,null,null,null,null,null,null,null,null,null,null,null,null,"Автономна Республіка Крим","Лиманне"]
[null,null,null,null,null,null,null,null,null,null,null,null,null,null,null,null,"Виробництво машин і устатковання загального призначення",null,null,null,null,null,null,null,null,null,null,null,null,null,null,null,null,null,null,null,null,null,null,null,null,null,null,null,null,"Автономна Республіка Крим","Листвинне"]
[null,null,null,null,null,null,null,null,null,null,null,null,null,null,null,null,"Виробництво двигунів і турбін, крім авіаційних, автотранспортних і мотоциклетних двигунів",null,null,null,null,null,null,null,null,null,null,null,null,null,null,null,null,null,null,null,null,null,null,null,null,null,null,null,null,"Автономна Республіка Крим","Листове"]
[null,null,null,null,null,null,null,null,null,null,null,null,null,null,null,null,"Виробництво гідравлічного та пневматичного устатковання",null,null,null,null,null,null,null,null,null,null,null,null,null,null,null,null,null,null,null,null,null,null,null,null,null,null,null,null,"Автономна Республіка Крим","Литвиненкове"]
[null,null,null,null,null,null,null,null,null,null,null,null,null,null,null,null,"Виробництво інших помп і компресорів",null,null,null,null,null,null,null,null,null,null,null,null,null,null,null,null,null,null,null,null,null,null,null,null,null,null,null,null,"Автономна Республіка Крим","Лібкнехтівка"]
[null,null,null,null,null,null,null,null,null,null,null,null,null,null,null,null,"Виробництво інших кранів і клапанів",null,null,null,null,null,null,null,null,null,null,null,null,null,null,null,null,null,null,null,null,null,null,null,null,null,null,null,null,"Автономна Республіка Крим","Лівадія"]
[null,null,null,null,null,null,null,null,null,null,null,null,null,null,null,null,"Виробництво підшипників, зубчастих передач, елементів механічних передач і приводів",null,null,null,null,null,null,null,null,null,null,null,null,null,null,null,null,null,null,null,null,null,null,null,null,null,null,null,null,"Автономна Республіка Крим","Лікарственне"]
[null,null,null,null,null,null,null,null,null,null,null,null,null,null,null,null,"Виробництво інших машин і устатковання загального призначення",null,null,null,null,null,null,null,null,null,null,null,null,null,null,null,null,null,null,null,null,null,null,null,null,null,null,null,null,"Автономна Республіка Крим","Лінійне"]
[null,null,null,null,null,null,null,null,null,null,null,null,null,null,null,null,"Виробництво духових шаф, печей і пічних пальників",null,null,null,null,null,null,null,null,null,null,null,null,null,null,null,null,null,null,null,null,null,null,null,null,null,null,null,null,"Автономна Республіка Крим","Лісне"]
[null,null,null,null,null,null,null,null,null,null,null,null,null,null,null,null,"Виробництво підіймального та вантажно-розвантажувального устатковання",null,null,null,null,null,null,null,null,null,null,null,null,null,null,null,null,null,null,null,null,null,null,null,null,null,null,null,null,"Автономна Республіка Крим","Ліснівка"]
[null,null,null,null,null,null,null,null,null,null,null,null,null,null,null,null,"Виробництво офісних машин і устатковання, крім комп'ютерів і периферійного устатковання",null,null,null,null,null,null,null,null,null,null,null,null,null,null,null,null,null,null,null,null,null,null,null,null,null,null,null,null,"Автономна Республіка Крим","Лісносілля"]
[null,null,null,null,null,null,null,null,null,null,null,null,null,null,null,null,"Виробництво ручних електромеханічних і пневматичних інструментів",null,null,null,null,null,null,null,null,null,null,null,null,null,null,null,null,null,null,null,null,null,null,null,null,null,null,null,null,"Автономна Республіка Крим","Лічебне"]
[null,null,null,null,null,null,null,null,null,null,null,null,null,null,null,null,"Виробництво промислового холодильного та вентиляційного устатковання",null,null,null,null,null,null,null,null,null,null,null,null,null,null,null,null,null,null,null,null,null,null,null,null,null,null,null,null,"Автономна Республіка Крим","Лобанове"]
[null,null,null,null,null,null,null,null,null,null,null,null,null,null,null,null,"Виробництво інших машин і устатковання загального призначення, н.в.і.у.",null,null,null,null,null,null,null,null,null,null,null,null,null,null,null,null,null,null,null,null,null,null,null,null,null,null,null,null,"Автономна Республіка Крим","Ломоносове"]
[null,null,null,null,null,null,null,null,null,null,null,null,null,null,null,null,"Виробництво машин і устатковання для сільського та лісового господарства",null,null,null,null,null,null,null,null,null,null,null,null,null,null,null,null,null,null,null,null,null,null,null,null,null,null,null,null,"Автономна Республіка Крим","Лохівка"]
[null,null,null,null,null,null,null,null,null,null,null,null,null,null,null,null,"Виробництво машин і устатковання для сільського та лісового господарства",null,null,null,null,null,null,null,null,null,null,null,null,null,null,null,null,null,null,null,null,null,null,null,null,null,null,null,null,"Автономна Республіка Крим","Луганське"]
[null,null,null,null,null,null,null,null,null,null,null,null,null,null,null,null,"Виробництво металообробних машин і верстатів",null,null,null,null,null,null,null,null,null,null,null,null,null,null,null,null,null,null,null,null,null,null,null,null,null,null,null,null,"Автономна Республіка Крим","Лугове"]
[null,null,null,null,null,null,null,null,null,null,null,null,null,null,null,null,"Виробництво металообробних машин",null,null,null,null,null,null,null,null,null,null,null,null,null,null,null,null,null,null,null,null,null,null,null,null,null,null,null,null,"Автономна Республіка Крим","Лугове (Сизівська)"]
[null,null,null,null,null,null,null,null,null,null,null,null,null,null,null,null,"Виробництво інших верстатів",null,null,null,null,null,null,null,null,null,null,null,null,null,null,null,null,null,null,null,null,null,null,null,null,null,null,null,null,"Автономна Республіка Крим","Лужки"]
[null,null,null,null,null,null,null,null,null,null,null,null,null,null,null,null,"Виробництво інших машин і устатковання спеціального призначення",null,null,null,null,null,null,null,null,null,null,null,null,null,null,null,null,null,null,null,null,null,null,null,null,null,null,null,null,"Автономна Республіка Крим","Лучисте"]
[null,null,null,null,null,null,null,null,null,null,null,null,null,null,null,null,"Виробництво машин і устатковання для металургії",null,null,null,null,null,null,null,null,null,null,null,null,null,null,null,null,null,null,null,null,null,null,null,null,null,null,null,null,"Автономна Республіка Крим","Лучове"]
[null,null,null,null,null,null,null,null,null,null,null,null,null,null,null,null,"Виробництво машин і устатковання для добувної промисловості та будівництва",null,null,null,null,null,null,null,null,null,null,null,null,null,null,null,null,null,null,null,null,null,null,null,null,null,null,null,null,"Автономна Республіка Крим","Лушине (Стовпівська)"]
[null,null,null,null,null,null,null,null,null,null,null,null,null,null,null,null,"Виробництво машин і устатковання для виготовлення харчових продуктів і напоїв, перероблення тютюну",null,null,null,null,null,null,null,null,null,null,null,null,null,null,null,null,null,null,null,null,null,null,null,null,null,null,null,null,"Автономна Республіка Крим","Любимівка"]
[null,null,null,null,null,null,null,null,null,null,null,null,null,null,null,null,"Виробництво машин і устатковання для виготовлення текстильних, швейних, хутряних і шкіряних виробів",null,null,null,null,null,null,null,null,null,null,null,null,null,null,null,null,null,null,null,null,null,null,null,null,null,null,null,null,"Автономна Республіка Крим","Львове"]
[null,null,null,null,null,null,null,null,null,null,null,null,null,null,null,null,"Виробництво машин і устатковання для виготовлення паперу та картону",null,null,null,null,null,null,null,null,null,null,null,null,null,null,null,null,null,null,null,null,null,null,null,null,null,null,null,null,"Автономна Республіка Крим","Льговське"]
[null,null,null,null,null,null,null,null,null,null,null,null,null,null,null,null,"Виробництво машин і устатковання для виготовлення пластмас і гуми",null,null,null,null,null,null,null,null,null,null,null,null,null,null,null,null,null,null,null,null,null,null,null,null,null,null,null,null,"Автономна Республіка Крим","Магазинка (Магазинська)"]
[null,null,null,null,null,null,null,null,null,null,null,null,null,null,null,null,"Виробництво інших машин і устатковання спеціального призначення, н.в.і.у.",null,null,null,null,null,null,null,null,null,null,null,null,null,null,null,null,null,null,null,null,null,null,null,null,null,null,null,null,"Автономна Республіка Крим","Мазанка"]
[null,null,null,null,null,null,null,null,null,null,null,null,null,null,null,null,"Виробництво автотранспортних засобів, причепів і напівпричепів",null,null,null,null,null,null,null,null,null,null,null,null,null,null,null,null,null,null,null,null,null,null,null,null,null,null,null,null,"Автономна Республіка Крим","Майське"]
[null,null,null,null,null,null,null,null,null,null,null,null,null,null,null,null,"Виробництво автотранспортних засобів",null,null,null,null,null,null,null,null,null,null,null,null,null,null,null,null,null,null,null,null,null,null,null,null,null,null,null,null,"Автономна Республіка Крим","Макарівка (Первомайської)"]
[null,null,null,null,null,null,null,null,null,null,null,null,null,null,null,null,"Виробництво автотранспортних засобів",null,null,null,null,null,null,null,null,null,null,null,null,null,null,null,null,null,null,null,null,null,null,null,null,null,null,null,null,"Автономна Республіка Крим","Маківка"]
[null,null,null,null,null,null,null,null,null,null,null,null,null,null,null,null,"Виробництво кузовів для автотранспортних засобів, причепів і напівпричепів",null,null,null,null,null,null,null,null,null,null,null,null,null,null,null,null,null,null,null,null,null,null,null,null,null,null,null,null,"Автономна Республіка Крим","Маківське"]
[null,null,null,null,null,null,null,null,null,null,null,null,null,null,null,null,"Виробництво кузовів для автотранспортних засобів, причепів і напівпричепів",null,null,null,null,null,null,null,null,null,null,null,null,null,null,null,null,null,null,null,null,null,null,null,null,null,null,null,null,"Автономна Республіка Крим","Максимівка (Руч'ївська сільська рада)"]
[null,null,null,null,null,null,null,null,null,null,null,null,null,null,null,null,"Виробництво вузлів, деталей і приладдя для автотранспортних засобів",null,null,null,null,null,null,null,null,null,null,null,null,null,null,null,null,null,null,null,null,null,null,null,null,null,null,null,null,"Автономна Республіка Крим","Мале Садове"]
[null,null,null,null,null,null,null,null,null,null,null,null,null,null,null,null,"Виробництво електричного й електронного устатковання для автотранспортних засобів",null,null,null,null,null,null,null,null,null,null,null,null,null,null,null,null,null,null,null,null,null,null,null,null,null,null,null,null,"Автономна Республіка Крим","Маленьке"]
[null,null,null,null,null,null,null,null,null,null,null,null,null,null,null,null,"Виробництво інших вузлів, деталей і приладдя для автотранспортних засобів",null,null,null,null,null,null,null,null,null,null,null,null,null,null,null,null,null,null,null,null,null,null,null,null,null,null,null,null,"Автономна Республіка Крим","Малий Маяк"]
[null,null,null,null,null,null,null,null,null,null,null,null,null,null,null,null,"Виробництво інших транспортних засобів",null,null,null,null,null,null,null,null,null,null,null,null,null,null,null,null,null,null,null,null,null,null,null,null,null,null,null,null,"Автономна Республіка Крим","Малинівка"]
[null,null,null,null,null,null,null,null,null,null,null,null,null,null,null,null,"Будування суден і човнів",null,null,null,null,null,null,null,null,null,null,null,null,null,null,null,null,null,null,null,null,null,null,null,null,null,null,null,null,"Автономна Республіка Крим","Маловидне"]
[null,null,null,null,null,null,null,null,null,null,null,null,null,null,null,null,"Будування суден і плавучих конструкцій",null,null,null,null,null,null,null,null,null,null,null,null,null,null,null,null,null,null,null,null,null,null,null,null,null,null,null,null,"Автономна Республіка Крим","Малоріченське"]
[null,null,null,null,null,null,null,null,null,null,null,null,null,null,null,null,"Будування прогулянкових і спортивних човнів",null,null,null,null,null,null,null,null,null,null,null,null,null,null,null,null,null,null,null,null,null,null,null,null,null,null,null,null,"Автономна Республіка Крим","Мар'ївка"]
[null,null,null,null,null,null,null,null,null,null,null,null,null,null,null,null,"Виробництво залізничних локомотивів і рухомого складу",null,null,null,null,null,null,null,null,null,null,null,null,null,null,null,null,null,null,null,null,null,null,null,null,null,null,null,null,"Автономна Республіка Крим","Мар'їне"]
[null,null,null,null,null,null,null,null,null,null,null,null,null,null,null,null,"Виробництво залізничних локомотивів і рухомого складу",null,null,null,null,null,null,null,null,null,null,null,null,null,null,null,null,null,null,null,null,null,null,null,null,null,null,null,null,"Автономна Республіка Крим","Маркове"]
[null,null,null,null,null,null,null,null,null,null,null,null,null,null,null,null,"Виробництво повітряних і космічних літальних апаратів, супутнього устатковання",null,null,null,null,null,null,null,null,null,null,null,null,null,null,null,null,null,null,null,null,null,null,null,null,null,null,null,null,"Автономна Республіка Крим","Мартинівка"]
[null,null,null,null,null,null,null,null,null,null,null,null,null,null,null,null,"Виробництво повітряних і космічних літальних апаратів, супутнього устатковання",null,null,null,null,null,null,null,null,null,null,null,null,null,null,null,null,null,null,null,null,null,null,null,null,null,null,null,null,"Автономна Республіка Крим","Марфівка"]
[null,null,null,null,null,null,null,null,null,null,null,null,null,null,null,null,"Виробництво військових транспортних засобів",null,null,null,null,null,null,null,null,null,null,null,null,null,null,null,null,null,null,null,null,null,null,null,null,null,null,null,null,"Автономна Республіка Крим","Мар'янівка"]
[null,null,null,null,null,null,null,null,null,null,null,null,null,null,null,null,"Виробництво військових транспортних засобів",null,null,null,null,null,null,null,null,null,null,null,null,null,null,null,null,null,null,null,null,null,null,null,null,null,null,null,null,"Автономна Республіка Крим","Масандра"]
[null,null,null,null,null,null,null,null,null,null,null,null,null,null,null,null,"Виробництво транспортних засобів, н.в.і.у.",null,null,null,null,null,null,null,null,null,null,null,null,null,null,null,null,null,null,null,null,null,null,null,null,null,null,null,null,"Автономна Республіка Крим","Маслове"]
[null,null,null,null,null,null,null,null,null,null,null,null,null,null,null,null,"Виробництво мотоциклів",null,null,null,null,null,null,null,null,null,null,null,null,null,null,null,null,null,null,null,null,null,null,null,null,null,null,null,null,"Автономна Республіка Крим","Матвіївка (Правдинської)"]
[null,null,null,null,null,null,null,null,null,null,null,null,null,null,null,null,"Виробництво велосипедів, дитячих та інвалідних колясок",null,null,null,null,null,null,null,null,null,null,null,null,null,null,null,null,null,null,null,null,null,null,null,null,null,null,null,null,"Автономна Республіка Крим","Матросівка"]
[null,null,null,null,null,null,null,null,null,null,null,null,null,null,null,null,"Виробництво інших транспортних засобів і обладнання, н.в.і.у.",null,null,null,null,null,null,null,null,null,null,null,null,null,null,null,null,null,null,null,null,null,null,null,null,null,null,null,null,"Автономна Республіка Крим","Машине"]
[null,null,null,null,null,null,null,null,null,null,null,null,null,null,null,null,"Виробництво меблів",null,null,null,null,null,null,null,null,null,null,null,null,null,null,null,null,null,null,null,null,null,null,null,null,null,null,null,null,"Автономна Республіка Крим","Маяк"]
[null,null,null,null,null,null,null,null,null,null,null,null,null,null,null,null,"Виробництво меблів",null,null,null,null,null,null,null,null,null,null,null,null,null,null,null,null,null,null,null,null,null,null,null,null,null,null,null,null,"Автономна Республіка Крим","Медведеве"]
[null,null,null,null,null,null,null,null,null,null,null,null,null,null,null,null,"Виробництво меблів для офісів і підприємств торгівлі",null,null,null,null,null,null,null,null,null,null,null,null,null,null,null,null,null,null,null,null,null,null,null,null,null,null,null,null,"Автономна Республіка Крим","Медведівка"]
[null,null,null,null,null,null,null,null,null,null,null,null,null,null,null,null,"Виробництво кухонних меблів",null,null,null,null,null,null,null,null,null,null,null,null,null,null,null,null,null,null,null,null,null,null,null,null,null,null,null,null,"Автономна Республіка Крим","Межове"]
[null,null,null,null,null,null,null,null,null,null,null,null,null,null,null,null,"Виробництво матраців",null,null,null,null,null,null,null,null,null,null,null,null,null,null,null,null,null,null,null,null,null,null,null,null,null,null,null,null,"Автономна Республіка Крим","Мелехове"]
[null,null,null,null,null,null,null,null,null,null,null,null,null,null,null,null,"Виробництво інших меблів",null,null,null,null,null,null,null,null,null,null,null,null,null,null,null,null,null,null,null,null,null,null,null,null,null,null,null,null,"Автономна Республіка Крим","Мельники"]
[null,null,null,null,null,null,null,null,null,null,null,null,null,null,null,null,"Виробництво іншої продукції",null,null,null,null,null,null,null,null,null,null,null,null,null,null,null,null,null,null,null,null,null,null,null,null,null,null,null,null,"Автономна Республіка Крим","Мельничне"]
[null,null,null,null,null,null,null,null,null,null,null,null,null,null,null,null,"Виробництво ювелірних виробів, біжутерії та подібних виробів",null,null,null,null,null,null,null,null,null,null,null,null,null,null,null,null,null,null,null,null,null,null,null,null,null,null,null,null,"Автономна Республіка Крим","Мельничне (Островської)"]
[null,null,null,null,null,null,null,null,null,null,null,null,null,null,null,null,"Карбування монет",null,null,null,null,null,null,null,null,null,null,null,null,null,null,null,null,null,null,null,null,null,null,null,null,null,null,null,null,"Автономна Республіка Крим","Менделєєве"]
[null,null,null,null,null,null,null,null,null,null,null,null,null,null,null,null,"Виробництво ювелірних і подібних виробів",null,null,null,null,null,null,null,null,null,null,null,null,null,null,null,null,null,null,null,null,null,null,null,null,null,null,null,null,"Автономна Республіка Крим","Миколаївка"]
[null,null,null,null,null,null,null,null,null,null,null,null,null,null,null,null,"Виробництво біжутерії та подібних виробів",null,null,null,null,null,null,null,null,null,null,null,null,null,null,null,null,null,null,null,null,null,null,null,null,null,null,null,null,"Автономна Республіка Крим","Миндальне"]
[null,null,null,null,null,null,null,null,null,null,null,null,null,null,null,null,"Виробництво музичних інструментів",null,null,null,null,null,null,null,null,null,null,null,null,null,null,null,null,null,null,null,null,null,null,null,null,null,null,null,null,"Автономна Республіка Крим","Мирний"]
[null,null,null,null,null,null,null,null,null,null,null,null,null,null,null,null,"Виробництво музичних інструментів",null,null,null,null,null,null,null,null,null,null,null,null,null,null,null,null,null,null,null,null,null,null,null,null,null,null,null,null,"Автономна Республіка Крим","Мирнівка"]
[null,null,null,null,null,null,null,null,null,null,null,null,null,null,null,null,"Виробництво спортивних товарів",null,null,null,null,null,null,null,null,null,null,null,null,null,null,null,null,null,null,null,null,null,null,null,null,null,null,null,null,"Автономна Республіка Крим","Миролюбівка"]
[null,null,null,null,null,null,null,null,null,null,null,null,null,null,null,null,"Виробництво спортивних товарів",null,null,null,null,null,null,null,null,null,null,null,null,null,null,null,null,null,null,null,null,null,null,null,null,null,null,null,null,"Автономна Республіка Крим","Миронівка"]
[null,null,null,null,null,null,null,null,null,null,null,null,null,null,null,null,"Виробництво ігор та іграшок",null,null,null,null,null,null,null,null,null,null,null,null,null,null,null,null,null,null,null,null,null,null,null,null,null,null,null,null,"Автономна Республіка Крим","Мисове"]
[null,null,null,null,null,null,null,null,null,null,null,null,null,null,null,null,"Виробництво ігор та іграшок",null,null,null,null,null,null,null,null,null,null,null,null,null,null,null,null,null,null,null,null,null,null,null,null,null,null,null,null,"Автономна Республіка Крим","Митрофанівка"]
[null,null,null,null,null,null,null,null,null,null,null,null,null,null,null,null,"Виробництво медичних і стоматологічних інструментів і матеріалів",null,null,null,null,null,null,null,null,null,null,null,null,null,null,null,null,null,null,null,null,null,null,null,null,null,null,null,null,"Автономна Республіка Крим","Митюрине"]
[null,null,null,null,null,null,null,null,null,null,null,null,null,null,null,null,"Виробництво медичних і стоматологічних інструментів і матеріалів",null,null,null,null,null,null,null,null,null,null,null,null,null,null,null,null,null,null,null,null,null,null,null,null,null,null,null,null,"Автономна Республіка Крим","Митяєве"]
[null,null,null,null,null,null,null,null,null,null,null,null,null,null,null,null,"Виробництво продукції, н.в.і.у.",null,null,null,null,null,null,null,null,null,null,null,null,null,null,null,null,null,null,null,null,null,null,null,null,null,null,null,null,"Автономна Республіка Крим","Михайлівка"]
[null,null,null,null,null,null,null,null,null,null,null,null,null,null,null,null,"Виробництво мітел і щіток",null,null,null,null,null,null,null,null,null,null,null,null,null,null,null,null,null,null,null,null,null,null,null,null,null,null,null,null,"Автономна Республіка Крим","Міжводне"]
[null,null,null,null,null,null,null,null,null,null,null,null,null,null,null,null,"Виробництво іншої продукції, н.в.і.у.",null,null,null,null,null,null,null,null,null,null,null,null,null,null,null,null,null,null,null,null,null,null,null,null,null,null,null,null,"Автономна Республіка Крим","Міжгірне"]
[null,null,null,null,null,null,null,null,null,null,null,null,null,null,null,null,"Ремонт і монтаж машин і устатковання",null,null,null,null,null,null,null,null,null,null,null,null,null,null,null,null,null,null,null,null,null,null,null,null,null,null,null,null,"Автономна Республіка Крим","Міжгір'я"]
[null,null,null,null,null,null,null,null,null,null,null,null,null,null,null,null,"Ремонт і технічне обслуговування готових металевих виробів, машин і устатковання",null,null,null,null,null,null,null,null,null,null,null,null,null,null,null,null,null,null,null,null,null,null,null,null,null,null,null,null,"Автономна Республіка Крим","Міжріччя"]
[null,null,null,null,null,null,null,null,null,null,null,null,null,null,null,null,"Ремонт і технічне обслуговування готових металевих виробів",null,null,null,null,null,null,null,null,null,null,null,null,null,null,null,null,null,null,null,null,null,null,null,null,null,null,null,null,"Автономна Республіка Крим","Мілководне"]
[null,null,null,null,null,null,null,null,null,null,null,null,null,null,null,null,"Ремонт і технічне обслуговування машин і устатковання промислового призначення",null,null,null,null,null,null,null,null,null,null,null,null,null,null,null,null,null,null,null,null,null,null,null,null,null,null,null,null,"Автономна Республіка Крим","Мічурінівка"]
[null,null,null,null,null,null,null,null,null,null,null,null,null,null,null,null,"Ремонт і технічне обслуговування електронного й оптичного устатковання",null,null,null,null,null,null,null,null,null,null,null,null,null,null,null,null,null,null,null,null,null,null,null,null,null,null,null,null,"Автономна Республіка Крим","Мічурінське"]
[null,null,null,null,null,null,null,null,null,null,null,null,null,null,null,null,"Ремонт і технічне обслуговування електричного устатковання",null,null,null,null,null,null,null,null,null,null,null,null,null,null,null,null,null,null,null,null,null,null,null,null,null,null,null,null,"Автономна Республіка Крим","Многоводне"]
[null,null,null,null,null,null,null,null,null,null,null,null,null,null,null,null,"Ремонт і технічне обслуговування суден і човнів",null,null,null,null,null,null,null,null,null,null,null,null,null,null,null,null,null,null,null,null,null,null,null,null,null,null,null,null,"Автономна Республіка Крим","Многоріччя"]
[null,null,null,null,null,null,null,null,null,null,null,null,null,null,null,null,"Ремонт і технічне обслуговування повітряних і космічних літальних апаратів",null,null,null,null,null,null,null,null,null,null,null,null,null,null,null,null,null,null,null,null,null,null,null,null,null,null,null,null,"Автономна Республіка Крим","Молодіжне"]
[null,null,null,null,null,null,null,null,null,null,null,null,null,null,null,null,"Ремонт і технічне обслуговування інших транспортних засобів",null,null,null,null,null,null,null,null,null,null,null,null,null,null,null,null,null,null,null,null,null,null,null,null,null,null,null,null,"Автономна Республіка Крим","Молочне"]
[null,null,null,null,null,null,null,null,null,null,null,null,null,null,null,null,"Ремонт і технічне обслуговування інших машин і устатковання",null,null,null,null,null,null,null,null,null,null,null,null,null,null,null,null,null,null,null,null,null,null,null,null,null,null,null,null,"Автономна Республіка Крим","Молочне (Ковильнівська сільська рада)"]
[null,null,null,null,null,null,null,null,null,null,null,null,null,null,null,null,"Установлення та монтаж машин і устатковання",null,null,null,null,null,null,null,null,null,null,null,null,null,null,null,null,null,null,null,null,null,null,null,null,null,null,null,null,"Автономна Республіка Крим","Морське"]
[null,null,null,null,null,null,null,null,null,null,null,null,null,null,null,null,"Установлення та монтаж машин і устатковання",null,null,null,null,null,null,null,null,null,null,null,null,null,null,null,null,null,null,null,null,null,null,null,null,null,null,null,null,"Автономна Республіка Крим","Мостове"]
[null,null,null,null,null,null,null,null,null,null,null,null,null,null,null,null,"Постачання електроенергії, газу, пари та кондиційованого повітря",null,null,null,null,null,null,null,null,null,null,null,null,null,null,null,null,null,null,null,null,null,null,null,null,null,null,null,null,"Автономна Республіка Крим","Мраморне"]
[null,null,null,null,null,null,null,null,null,null,null,null,null,null,null,null,"Постачання електроенергії, газу, пари та кондиційованого повітря",null,null,null,null,null,null,null,null,null,null,null,null,null,null,null,null,null,null,null,null,null,null,null,null,null,null,null,null,"Автономна Республіка Крим","Муромське"]
[null,null,null,null,null,null,null,null,null,null,null,null,null,null,null,null,"Виробництво, передача та розподілення електроенергії",null,null,null,null,null,null,null,null,null,null,null,null,null,null,null,null,null,null,null,null,null,null,null,null,null,null,null,null,"Автономна Республіка Крим","Мускатне"]
[null,null,null,null,null,null,null,null,null,null,null,null,null,null,null,null,"Виробництво електроенергії",null,null,null,null,null,null,null,null,null,null,null,null,null,null,null,null,null,null,null,null,null,null,null,null,null,null,null,null,"Автономна Республіка Крим","Набережне"]
[null,null,null,null,null,null,null,null,null,null,null,null,null,null,null,null,"Передача електроенергії",null,null,null,null,null,null,null,null,null,null,null,null,null,null,null,null,null,null,null,null,null,null,null,null,null,null,null,null,"Автономна Республіка Крим","Нагірне"]
[null,null,null,null,null,null,null,null,null,null,null,null,null,null,null,null,"Розподілення електроенергії",null,null,null,null,null,null,null,null,null,null,null,null,null,null,null,null,null,null,null,null,null,null,null,null,null,null,null,null,"Автономна Республіка Крим","Надежда"]
[null,null,null,null,null,null,null,null,null,null,null,null,null,null,null,null,"Торгівля електроенергією",null,null,null,null,null,null,null,null,null,null,null,null,null,null,null,null,null,null,null,null,null,null,null,null,null,null,null,null,"Автономна Республіка Крим","Надеждине (Красноармійська)"]
[null,null,null,null,null,null,null,null,null,null,null,null,null,null,null,null,"Виробництво газу; розподілення газоподібного палива через місцеві (локальні) трубопроводи",null,null,null,null,null,null,null,null,null,null,null,null,null,null,null,null,null,null,null,null,null,null,null,null,null,null,null,null,"Автономна Республіка Крим","Найдьонівка"]
[null,null,null,null,null,null,null,null,null,null,null,null,null,null,null,null,"Виробництво газу",null,null,null,null,null,null,null,null,null,null,null,null,null,null,null,null,null,null,null,null,null,null,null,null,null,null,null,null,"Автономна Республіка Крим","Наникове"]
[null,null,null,null,null,null,null,null,null,null,null,null,null,null,null,null,"Розподілення газоподібного палива через місцеві (локальні) трубопроводи",null,null,null,null,null,null,null,null,null,null,null,null,null,null,null,null,null,null,null,null,null,null,null,null,null,null,null,null,"Автономна Республіка Крим","Насипне"]
[null,null,null,null,null,null,null,null,null,null,null,null,null,null,null,null,"Торгівля газом через місцеві (локальні) трубопроводи",null,null,null,null,null,null,null,null,null,null,null,null,null,null,null,null,null,null,null,null,null,null,null,null,null,null,null,null,"Автономна Республіка Крим","Наташине"]
[null,null,null,null,null,null,null,null,null,null,null,null,null,null,null,null,"Постачання пари, гарячої води та кондиційованого повітря",null,null,null,null,null,null,null,null,null,null,null,null,null,null,null,null,null,null,null,null,null,null,null,null,null,null,null,null,"Автономна Республіка Крим","Наумівка"]
[null,null,null,null,null,null,null,null,null,null,null,null,null,null,null,null,"Постачання пари, гарячої води та кондиційованого повітря",null,null,null,null,null,null,null,null,null,null,null,null,null,null,null,null,null,null,null,null,null,null,null,null,null,null,null,null,"Автономна Республіка Крим","Научний"]
[null,null,null,null,null,null,null,null,null,null,null,null,null,null,null,null,"Водопостачання; каналізація, поводження з відходами",null,null,null,null,null,null,null,null,null,null,null,null,null,null,null,null,null,null,null,null,null,null,null,null,null,null,null,null,"Автономна Республіка Крим","Нахідка"]
[null,null,null,null,null,null,null,null,null,null,null,null,null,null,null,null,"Забір, очищення та постачання води",null,null,null,null,null,null,null,null,null,null,null,null,null,null,null,null,null,null,null,null,null,null,null,null,null,null,null,null,"Автономна Республіка Крим","Нахімове"]
[null,null,null,null,null,null,null,null,null,null,null,null,null,null,null,null,"Забір, очищення та постачання води",null,null,null,null,null,null,null,null,null,null,null,null,null,null,null,null,null,null,null,null,null,null,null,null,null,null,null,null,"Автономна Республіка Крим","Невське"]
[null,null,null,null,null,null,null,null,null,null,null,null,null,null,null,null,"Забір очищення та постачання води",null,null,null,null,null,null,null,null,null,null,null,null,null,null,null,null,null,null,null,null,null,null,null,null,null,null,null,null,"Автономна Республіка Крим","Некрасове"]
[null,null,null,null,null,null,null,null,null,null,null,null,null,null,null,null,"Каналізація, відведення й очищення стічних вод",null,null,null,null,null,null,null,null,null,null,null,null,null,null,null,null,null,null,null,null,null,null,null,null,null,null,null,null,"Автономна Республіка Крим","Некрасовка"]
[null,null,null,null,null,null,null,null,null,null,null,null,null,null,null,null,"Каналізація, відведення й очищення стічних вод",null,null,null,null,null,null,null,null,null,null,null,null,null,null,null,null,null,null,null,null,null,null,null,null,null,null,null,null,"Автономна Республіка Крим","Нива"]
[null,null,null,null,null,null,null,null,null,null,null,null,null,null,null,null,"Каналізація, відведення й очищення стічних вод",null,null,null,null,null,null,null,null,null,null,null,null,null,null,null,null,null,null,null,null,null,null,null,null,null,null,null,null,"Автономна Республіка Крим","Нива (Березівська)"]
[null,null,null,null,null,null,null,null,null,null,null,null,null,null,null,null,"Збирання, оброблення й видалення відходів; відновлення матеріалів",null,null,null,null,null,null,null,null,null,null,null,null,null,null,null,null,null,null,null,null,null,null,null,null,null,null,null,null,"Автономна Республіка Крим","Нижнє Запрудне"]
[null,null,null,null,null,null,null,null,null,null,null,null,null,null,null,null,"Збирання відходів",null,null,null,null,null,null,null,null,null,null,null,null,null,null,null,null,null,null,null,null,null,null,null,null,null,null,null,null,"Автономна Республіка Крим","Нижні Орішники"]
[null,null,null,null,null,null,null,null,null,null,null,null,null,null,null,null,"Збирання безпечних відходів",null,null,null,null,null,null,null,null,null,null,null,null,null,null,null,null,null,null,null,null,null,null,null,null,null,null,null,null,"Автономна Республіка Крим","Нижні Острожки"]
[null,null,null,null,null,null,null,null,null,null,null,null,null,null,null,null,"Збирання небезпечних відходів",null,null,null,null,null,null,null,null,null,null,null,null,null,null,null,null,null,null,null,null,null,null,null,null,null,null,null,null,"Автономна Республіка Крим","Нижня Голубинка"]
[null,null,null,null,null,null,null,null,null,null,null,null,null,null,null,null,"Оброблення та видалення відходів",null,null,null,null,null,null,null,null,null,null,null,null,null,null,null,null,null,null,null,null,null,null,null,null,null,null,null,null,"Автономна Республіка Крим","Нижня Кутузовка"]
[null,null,null,null,null,null,null,null,null,null,null,null,null,null,null,null,"Оброблення та видалення безпечних відходів",null,null,null,null,null,null,null,null,null,null,null,null,null,null,null,null,null,null,null,null,null,null,null,null,null,null,null,null,"Автономна Республіка Крим","Нижньогірський"]
[null,null,null,null,null,null,null,null,null,null,null,null,null,null,null,null,"Оброблення та видалення небезпечних відходів",null,null,null,null,null,null,null,null,null,null,null,null,null,null,null,null,null,null,null,null,null,null,null,null,null,null,null,null,"Автономна Республіка Крим","Нижньозаморське"]
[null,null,null,null,null,null,null,null,null,null,null,null,null,null,null,null,"Відновлення матеріалів",null,null,null,null,null,null,null,null,null,null,null,null,null,null,null,null,null,null,null,null,null,null,null,null,null,null,null,null,"Автономна Республіка Крим","Нижньокурганне"]
[null,null,null,null,null,null,null,null,null,null,null,null,null,null,null,null,"Демонтаж (розбирання) машин і устатковання",null,null,null,null,null,null,null,null,null,null,null,null,null,null,null,null,null,null,null,null,null,null,null,null,null,null,null,null,"Автономна Республіка Крим","Низинне"]
[null,null,null,null,null,null,null,null,null,null,null,null,null,null,null,null,"Відновлення відсортованих відходів",null,null,null,null,null,null,null,null,null,null,null,null,null,null,null,null,null,null,null,null,null,null,null,null,null,null,null,null,"Автономна Республіка Крим","Низинне (Зерновська)"]
[null,null,null,null,null,null,null,null,null,null,null,null,null,null,null,null,"Інша діяльність щодо поводження з відходами",null,null,null,null,null,null,null,null,null,null,null,null,null,null,null,null,null,null,null,null,null,null,null,null,null,null,null,null,"Автономна Республіка Крим","Низівка"]
[null,null,null,null,null,null,null,null,null,null,null,null,null,null,null,null,"Інша діяльність щодо поводження з відходами",null,null,null,null,null,null,null,null,null,null,null,null,null,null,null,null,null,null,null,null,null,null,null,null,null,null,null,null,"Автономна Республіка Крим","Ніжинське"]
[null,null,null,null,null,null,null,null,null,null,null,null,null,null,null,null,"Інша діяльність щодо поводження з відходами",null,null,null,null,null,null,null,null,null,null,null,null,null,null,null,null,null,null,null,null,null,null,null,null,null,null,null,null,"Автономна Республіка Крим","Нікіта"]
[null,null,null,null,null,null,null,null,null,null,null,null,null,null,null,null,"Будівництво",null,null,null,null,null,null,null,null,null,null,null,null,null,null,null,null,null,null,null,null,null,null,null,null,null,null,null,null,"Автономна Республіка Крим","Нова Деревня (Крестянівскої)"]
[null,null,null,null,null,null,null,null,null,null,null,null,null,null,null,null,"Будівництво будівель",null,null,null,null,null,null,null,null,null,null,null,null,null,null,null,null,null,null,null,null,null,null,null,null,null,null,null,null,"Автономна Республіка Крим","Нове  Життя"]
[null,null,null,null,null,null,null,null,null,null,null,null,null,null,null,null,"Організація будівництва будівель",null,null,null,null,null,null,null,null,null,null,null,null,null,null,null,null,null,null,null,null,null,null,null,null,null,null,null,null,"Автономна Республіка Крим","Новеньке"]
[null,null,null,null,null,null,null,null,null,null,null,null,null,null,null,null,"Організація будівництва будівель",null,null,null,null,null,null,null,null,null,null,null,null,null,null,null,null,null,null,null,null,null,null,null,null,null,null,null,null,"Автономна Республіка Крим","Новий Мир"]
[null,null,null,null,null,null,null,null,null,null,null,null,null,null,null,null,"Будівництво житлових і нежитлових будівель",null,null,null,null,null,null,null,null,null,null,null,null,null,null,null,null,null,null,null,null,null,null,null,null,null,null,null,null,"Автономна Республіка Крим","Новий Сад"]
[null,null,null,null,null,null,null,null,null,null,null,null,null,null,null,null,"Будівництво житлових і нежитлових будівель",null,null,null,null,null,null,null,null,null,null,null,null,null,null,null,null,null,null,null,null,null,null,null,null,null,null,null,null,"Автономна Республіка Крим","Новий Світ"]
[null,null,null,null,null,null,null,null,null,null,null,null,null,null,null,null,"Будівництво споруд",null,null,null,null,null,null,null,null,null,null,null,null,null,null,null,null,null,null,null,null,null,null,null,null,null,null,null,null,"Автономна Республіка Крим","Новоандріївка"]
[null,null,null,null,null,null,null,null,null,null,null,null,null,null,null,null,"Будівництво доріг і залізниць",null,null,null,null,null,null,null,null,null,null,null,null,null,null,null,null,null,null,null,null,null,null,null,null,null,null,null,null,"Автономна Республіка Крим","Нововасилівка"]
[null,null,null,null,null,null,null,null,null,null,null,null,null,null,null,null,"Будівництво доріг і автострад",null,null,null,null,null,null,null,null,null,null,null,null,null,null,null,null,null,null,null,null,null,null,null,null,null,null,null,null,"Автономна Республіка Крим","Нововідрадне"]
[null,null,null,null,null,null,null,null,null,null,null,null,null,null,null,null,"Будівництво залізниць і метрополітену",null,null,null,null,null,null,null,null,null,null,null,null,null,null,null,null,null,null,null,null,null,null,null,null,null,null,null,null,"Автономна Республіка Крим","Новогригорівка"]
[null,null,null,null,null,null,null,null,null,null,null,null,null,null,null,null,"Будівництво мостів і тунелів",null,null,null,null,null,null,null,null,null,null,null,null,null,null,null,null,null,null,null,null,null,null,null,null,null,null,null,null,"Автономна Республіка Крим","Новодолинка"]
[null,null,null,null,null,null,null,null,null,null,null,null,null,null,null,null,"Будівництво комунікацій",null,null,null,null,null,null,null,null,null,null,null,null,null,null,null,null,null,null,null,null,null,null,null,null,null,null,null,null,"Автономна Республіка Крим","Новоестонія"]
[null,null,null,null,null,null,null,null,null,null,null,null,null,null,null,null,"Будівництво трубопроводів",null,null,null,null,null,null,null,null,null,null,null,null,null,null,null,null,null,null,null,null,null,null,null,null,null,null,null,null,"Автономна Республіка Крим","Новожилівка"]
[null,null,null,null,null,null,null,null,null,null,null,null,null,null,null,null,"Будівництво споруд електропостачання та телекомунікацій",null,null,null,null,null,null,null,null,null,null,null,null,null,null,null,null,null,null,null,null,null,null,null,null,null,null,null,null,"Автономна Республіка Крим","Новозбур'ївка"]
[null,null,null,null,null,null,null,null,null,null,null,null,null,null,null,null,"Будівництво інших споруд",null,null,null,null,null,null,null,null,null,null,null,null,null,null,null,null,null,null,null,null,null,null,null,null,null,null,null,null,"Автономна Республіка Крим","Новозуївка"]
[null,null,null,null,null,null,null,null,null,null,null,null,null,null,null,null,"Будівництво водних споруд",null,null,null,null,null,null,null,null,null,null,null,null,null,null,null,null,null,null,null,null,null,null,null,null,null,null,null,null,"Автономна Республіка Крим","Новоіванівка"]
[null,null,null,null,null,null,null,null,null,null,null,null,null,null,null,null,"Будівництво інших споруд, н.в.і.у.",null,null,null,null,null,null,null,null,null,null,null,null,null,null,null,null,null,null,null,null,null,null,null,null,null,null,null,null,"Автономна Республіка Крим","Новоіванівка (Магазинська)"]
[null,null,null,null,null,null,null,null,null,null,null,null,null,null,null,null,"Спеціалізовані будівельні роботи",null,null,null,null,null,null,null,null,null,null,null,null,null,null,null,null,null,null,null,null,null,null,null,null,null,null,null,null,"Автономна Республіка Крим","Новокатеринівка"]
[null,null,null,null,null,null,null,null,null,null,null,null,null,null,null,null,"Знесення та підготовчі роботи на будівельному майданчику",null,null,null,null,null,null,null,null,null,null,null,null,null,null,null,null,null,null,null,null,null,null,null,null,null,null,null,null,"Автономна Республіка Крим","Новокленове"]
[null,null,null,null,null,null,null,null,null,null,null,null,null,null,null,null,"Знесення",null,null,null,null,null,null,null,null,null,null,null,null,null,null,null,null,null,null,null,null,null,null,null,null,null,null,null,null,"Автономна Республіка Крим","Новокостянтинівка"]
[null,null,null,null,null,null,null,null,null,null,null,null,null,null,null,null,"Підготовчі роботи на будівельному майданчику",null,null,null,null,null,null,null,null,null,null,null,null,null,null,null,null,null,null,null,null,null,null,null,null,null,null,null,null,"Автономна Республіка Крим","Новокримське"]
[null,null,null,null,null,null,null,null,null,null,null,null,null,null,null,null,"Розвідувальне буріння",null,null,null,null,null,null,null,null,null,null,null,null,null,null,null,null,null,null,null,null,null,null,null,null,null,null,null,null,"Автономна Республіка Крим","Новомикільське"]
[null,null,null,null,null,null,null,null,null,null,null,null,null,null,null,null,"Електромонтажні, водопровідні та інші будівельно-монтажні роботи",null,null,null,null,null,null,null,null,null,null,null,null,null,null,null,null,null,null,null,null,null,null,null,null,null,null,null,null,"Автономна Республіка Крим","Новомиколаївка"]
[null,null,null,null,null,null,null,null,null,null,null,null,null,null,null,null,"Електромонтажні роботи",null,null,null,null,null,null,null,null,null,null,null,null,null,null,null,null,null,null,null,null,null,null,null,null,null,null,null,null,"Автономна Республіка Крим","Новомиколаївка (Орлівської)"]
[null,null,null,null,null,null,null,null,null,null,null,null,null,null,null,null,"Монтаж водопровідних мереж, систем опалення та кондиціонування",null,null,null,null,null,null,null,null,null,null,null,null,null,null,null,null,null,null,null,null,null,null,null,null,null,null,null,null,"Автономна Республіка Крим","Новоозерне"]
[null,null,null,null,null,null,null,null,null,null,null,null,null,null,null,null,"Оптова торгівля сільськогосподарською сировиною та живими тваринами",null,null,null,null,null,null,null,null,null,null,null,null,null,null,null,null,null,null,null,null,null,null,null,null,null,null,null,null,"Автономна Республіка Крим","Олива"]
[null,null,null,null,null,null,null,null,null,null,null,null,null,null,null,null,"Оптова торгівля інформаційним і комунікаційним устаткованням",null,null,null,null,null,null,null,null,null,null,null,null,null,null,null,null,null,null,null,null,null,null,null,null,null,null,null,null,"Автономна Республіка Крим","Партизанське"]
[null,null,null,null,null,null,null,null,null,null,null,null,null,null,null,null,"Неспеціалізована оптова торгівля",null,null,null,null,null,null,null,null,null,null,null,null,null,null,null,null,null,null,null,null,null,null,null,null,null,null,null,null,"Автономна Республіка Крим","Плодове"]
[null,null,null,null,null,null,null,null,null,null,null,null,null,null,null,null,"Трубопровідний транспорт",null,null,null,null,null,null,null,null,null,null,null,null,null,null,null,null,null,null,null,null,null,null,null,null,null,null,null,null,"Автономна Республіка Крим","Родники"]
[null,null,null,null,null,null,null,null,null,null,null,null,null,null,null,null,"Допоміжна діяльність у сфері транспорту",null,null,null,null,null,null,null,null,null,null,null,null,null,null,null,null,null,null,null,null,null,null,null,null,null,null,null,null,"Автономна Республіка Крим","Садове"]
[null,null,null,null,null,null,null,null,null,null,null,null,null,null,null,null,"Діяльність у сфері безпроводового електрозв'язку",null,null,null,null,null,null,null,null,null,null,null,null,null,null,null,null,null,null,null,null,null,null,null,null,null,null,null,null,"Автономна Республіка Крим","Станційне"]
[null,null,null,null,null,null,null,null,null,null,null,null,null,null,null,null,"Діяльність холдингових компаній",null,null,null,null,null,null,null,null,null,null,null,null,null,null,null,null,null,null,null,null,null,null,null,null,null,null,null,null,"Автономна Республіка Крим","Танкове"]
[null,null,null,null,null,null,null,null,null,null,null,null,null,null,null,null,"Рекламна діяльність і дослідження кон'юнктури ринку",null,null,null,null,null,null,null,null,null,null,null,null,null,null,null,null,null,null,null,null,null,null,null,null,null,null,null,null,"Автономна Республіка Крим","Холмове"]
[null,null,null,null,null,null,null,null,null,null,null,null,null,null,null,null,"Прокат відеозаписів і дисків",null,null,null,null,null,null,null,null,null,null,null,null,null,null,null,null,null,null,null,null,null,null,null,null,null,null,null,null,"Автономна Республіка Крим","Чорноморське"]
[null,null,null,null,null,null,null,null,null,null,null,null,null,null,null,null,"Діяльність туристичних агентств і туристичних операторів",null,null,null,null,null,null,null,null,null,null,null,null,null,null,null,null,null,null,null,null,null,null,null,null,null,null,null,null,"Автономна Республіка Крим","Юркине"]
[null,null,null,null,null,null,null,null,null,null,null,null,null,null,null,null,"Професійно-технічна освіта на рівні вищого професійно-технічного навчального закладу",null,null,null,null,null,null,null,null,null,null,null,null,null,null,null,null,null,null,null,null,null,null,null,null,null,null,null,null,"Вінницька","Бондурівка"]
[null,null,null,null,null,null,null,null,null,null,null,null,null,null,null,null,"Надання послуг догляду із забезпеченням проживання для осіб похилого віку та інвалідів",null,null,null,null,null,null,null,null,null,null,null,null,null,null,null,null,null,null,null,null,null,null,null,null,null,null,null,null,"Вінницька","Буша"]
[null,null,null,null,null,null,null,null,null,null,null,null,null,null,null,null,"Ремонт взуття та шкіряних виробів",null,null,null,null,null,null,null,null,null,null,null,null,null,null,null,null,null,null,null,null,null,null,null,null,null,null,null,null,"Вінницька","В'язовиця"]
[null,null,null,null,null,null,null,null,null,null,null,null,null,null,null,null,null,null,null,null,null,null,null,null,null,null,null,null,null,null,null,null,null,null,null,null,null,null,null,null,null,null,null,null,null,"Вінницька","Горай"]
[null,null,null,null,null,null,null,null,null,null,null,null,null,null,null,null,null,null,null,null,null,null,null,null,null,null,null,null,null,null,null,null,null,null,null,null,null,null,null,null,null,null,null,null,null,"Вінницька","Дубова"]
[null,null,null,null,null,null,null,null,null,null,null,null,null,null,null,null,null,null,null,null,null,null,null,null,null,null,null,null,null,null,null,null,null,null,null,null,null,null,null,null,null,null,null,null,null,"Вінницька","Забіляни"]
[null,null,null,null,null,null,null,null,null,null,null,null,null,null,null,null,null,null,null,null,null,null,null,null,null,null,null,null,null,null,null,null,null,null,null,null,null,null,null,null,null,null,null,null,null,"Вінницька","Кизими (Погорільська сільська рада)"]
[null,null,null,null,null,null,null,null,null,null,null,null,null,null,null,null,null,null,null,null,null,null,null,null,null,null,null,null,null,null,null,null,null,null,null,null,null,null,null,null,null,null,null,null,null,"Вінницька","Козятин (Козятинська сільська Рада)"]
[null,null,null,null,null,null,null,null,null,null,null,null,null,null,null,null,null,null,null,null,null,null,null,null,null,null,null,null,null,null,null,null,null,null,null,null,null,null,null,null,null,null,null,null,null,"Вінницька","Кукурівка"]
[null,null,null,null,null,null,null,null,null,null,null,null,null,null,null,null,null,null,null,null,null,null,null,null,null,null,null,null,null,null,null,null,null,null,null,null,null,null,null,null,null,null,null,null,null,"Вінницька","Куниче"]
[null,null,null,null,null,null,null,null,null,null,null,null,null,null,null,null,null,null,null,null,null,null,null,null,null,null,null,null,null,null,null,null,null,null,null,null,null,null,null,null,null,null,null,null,null,"Вінницька","Лугова"]
[null,null,null,null,null,null,null,null,null,null,null,null,null,null,null,null,null,null,null,null,null,null,null,null,null,null,null,null,null,null,null,null,null,null,null,null,null,null,null,null,null,null,null,null,null,"Вінницька","Могилів-Подільський"]
[null,null,null,null,null,null,null,null,null,null,null,null,null,null,null,null,null,null,null,null,null,null,null,null,null,null,null,null,null,null,null,null,null,null,null,null,null,null,null,null,null,null,null,null,null,"Вінницька","Нетребівка"]
[null,null,null,null,null,null,null,null,null,null,null,null,null,null,null,null,null,null,null,null,null,null,null,null,null,null,null,null,null,null,null,null,null,null,null,null,null,null,null,null,null,null,null,null,null,"Вінницька","Петрані"]
[null,null,null,null,null,null,null,null,null,null,null,null,null,null,null,null,null,null,null,null,null,null,null,null,null,null,null,null,null,null,null,null,null,null,null,null,null,null,null,null,null,null,null,null,null,"Вінницька","Подорожня"]
[null,null,null,null,null,null,null,null,null,null,null,null,null,null,null,null,null,null,null,null,null,null,null,null,null,null,null,null,null,null,null,null,null,null,null,null,null,null,null,null,null,null,null,null,null,"Вінницька","Рів"]
[null,null,null,null,null,null,null,null,null,null,null,null,null,null,null,null,null,null,null,null,null,null,null,null,null,null,null,null,null,null,null,null,null,null,null,null,null,null,null,null,null,null,null,null,null,"Вінницька","Серебрія"]
[null,null,null,null,null,null,null,null,null,null,null,null,null,null,null,null,null,null,null,null,null,null,null,null,null,null,null,null,null,null,null,null,null,null,null,null,null,null,null,null,null,null,null,null,null,"Вінницька","Слобода-Підлісівська"]
[null,null,null,null,null,null,null,null,null,null,null,null,null,null,null,null,null,null,null,null,null,null,null,null,null,null,null,null,null,null,null,null,null,null,null,null,null,null,null,null,null,null,null,null,null,"Вінницька","Тельмана (Скитецька сільська рада)"]
[null,null,null,null,null,null,null,null,null,null,null,null,null,null,null,null,null,null,null,null,null,null,null,null,null,null,null,null,null,null,null,null,null,null,null,null,null,null,null,null,null,null,null,null,null,"Вінницька","Тягун"]
[null,null,null,null,null,null,null,null,null,null,null,null,null,null,null,null,null,null,null,null,null,null,null,null,null,null,null,null,null,null,null,null,null,null,null,null,null,null,null,null,null,null,null,null,null,"Вінницька","Шендерівка"]
[null,null,null,null,null,null,null,null,null,null,null,null,null,null,null,null,null,null,null,null,null,null,null,null,null,null,null,null,null,null,null,null,null,null,null,null,null,null,null,null,null,null,null,null,null,"Вінницька","Щаслива"]
[null,null,null,null,null,null,null,null,null,null,null,null,null,null,null,null,null,null,null,null,null,null,null,null,null,null,null,null,null,null,null,null,null,null,null,null,null,null,null,null,null,null,null,null,null,"Волинська","Бортнів"]
[null,null,null,null,null,null,null,null,null,null,null,null,null,null,null,null,null,null,null,null,null,null,null,null,null,null,null,null,null,null,null,null,null,null,null,null,null,null,null,null,null,null,null,null,null,"Волинська","Буркачі"]
[null,null,null,null,null,null,null,null,null,null,null,null,null,null,null,null,null,null,null,null,null,null,null,null,null,null,null,null,null,null,null,null,null,null,null,null,null,null,null,null,null,null,null,null,null,"Волинська","Воютин"]
[null,null,null,null,null,null,null,null,null,null,null,null,null,null,null,null,null,null,null,null,null,null,null,null,null,null,null,null,null,null,null,null,null,null,null,null,null,null,null,null,null,null,null,null,null,"Волинська","Горичів"]
[null,null,null,null,null,null,null,null,null,null,null,null,null,null,null,null,null,null,null,null,null,null,null,null,null,null,null,null,null,null,null,null,null,null,null,null,null,null,null,null,null,null,null,null,null,"Волинська","Губин -Перший"]
[null,null,null,null,null,null,null,null,null,null,null,null,null,null,null,null,null,null,null,null,null,null,null,null,null,null,null,null,null,null,null,null,null,null,null,null,null,null,null,null,null,null,null,null,null,"Волинська","Замличі"]
[null,null,null,null,null,null,null,null,null,null,null,null,null,null,null,null,null,null,null,null,null,null,null,null,null,null,null,null,null,null,null,null,null,null,null,null,null,null,null,null,null,null,null,null,null,"Волинська","Звірів"]
[null,null,null,null,null,null,null,null,null,null,null,null,null,null,null,null,null,null,null,null,null,null,null,null,null,null,null,null,null,null,null,null,null,null,null,null,null,null,null,null,null,null,null,null,null,"Волинська","Красний Бір"]
[null,null,null,null,null,null,null,null,null,null,null,null,null,null,null,null,null,null,null,null,null,null,null,null,null,null,null,null,null,null,null,null,null,null,null,null,null,null,null,null,null,null,null,null,null,"Волинська","Купичів"]
[null,null,null,null,null,null,null,null,null,null,null,null,null,null,null,null,null,null,null,null,null,null,null,null,null,null,null,null,null,null,null,null,null,null,null,null,null,null,null,null,null,null,null,null,null,"Волинська","Маневичі"]
[null,null,null,null,null,null,null,null,null,null,null,null,null,null,null,null,null,null,null,null,null,null,null,null,null,null,null,null,null,null,null,null,null,null,null,null,null,null,null,null,null,null,null,null,null,"Волинська","Мильськ"]
[null,null,null,null,null,null,null,null,null,null,null,null,null,null,null,null,null,null,null,null,null,null,null,null,null,null,null,null,null,null,null,null,null,null,null,null,null,null,null,null,null,null,null,null,null,"Волинська","Мочалки"]
[null,null,null,null,null,null,null,null,null,null,null,null,null,null,null,null,null,null,null,null,null,null,null,null,null,null,null,null,null,null,null,null,null,null,null,null,null,null,null,null,null,null,null,null,null,"Волинська","Омельне"]
[null,null,null,null,null,null,null,null,null,null,null,null,null,null,null,null,null,null,null,null,null,null,null,null,null,null,null,null,null,null,null,null,null,null,null,null,null,null,null,null,null,null,null,null,null,"Волинська","Погіньки"]
[null,null,null,null,null,null,null,null,null,null,null,null,null,null,null,null,null,null,null,null,null,null,null,null,null,null,null,null,null,null,null,null,null,null,null,null,null,null,null,null,null,null,null,null,null,"Волинська","Рогожани"]
[null,null,null,null,null,null,null,null,null,null,null,null,null,null,null,null,null,null,null,null,null,null,null,null,null,null,null,null,null,null,null,null,null,null,null,null,null,null,null,null,null,null,null,null,null,"Волинська","Свидники"]
[null,null,null,null,null,null,null,null,null,null,null,null,null,null,null,null,null,null,null,null,null,null,null,null,null,null,null,null,null,null,null,null,null,null,null,null,null,null,null,null,null,null,null,null,null,"Волинська","Студині"]
[null,null,null,null,null,null,null,null,null,null,null,null,null,null,null,null,null,null,null,null,null,null,null,null,null,null,null,null,null,null,null,null,null,null,null,null,null,null,null,null,null,null,null,null,null,"Волинська","Торговище"]
[null,null,null,null,null,null,null,null,null,null,null,null,null,null,null,null,null,null,null,null,null,null,null,null,null,null,null,null,null,null,null,null,null,null,null,null,null,null,null,null,null,null,null,null,null,"Волинська","Хабарище"]
[null,null,null,null,null,null,null,null,null,null,null,null,null,null,null,null,null,null,null,null,null,null,null,null,null,null,null,null,null,null,null,null,null,null,null,null,null,null,null,null,null,null,null,null,null,"Дніпропетровська","Андріївка (Миролюбівська)"]
[null,null,null,null,null,null,null,null,null,null,null,null,null,null,null,null,null,null,null,null,null,null,null,null,null,null,null,null,null,null,null,null,null,null,null,null,null,null,null,null,null,null,null,null,null,"Дніпропетровська","Андронівка"]
[null,null,null,null,null,null,null,null,null,null,null,null,null,null,null,null,null,null,null,null,null,null,null,null,null,null,null,null,null,null,null,null,null,null,null,null,null,null,null,null,null,null,null,null,null,"Дніпропетровська","Великоолександрівка"]
[null,null,null,null,null,null,null,null,null,null,null,null,null,null,null,null,null,null,null,null,null,null,null,null,null,null,null,null,null,null,null,null,null,null,null,null,null,null,null,null,null,null,null,null,null,"Дніпропетровська","Веселе (Українська сільрада)"]
[null,null,null,null,null,null,null,null,null,null,null,null,null,null,null,null,null,null,null,null,null,null,null,null,null,null,null,null,null,null,null,null,null,null,null,null,null,null,null,null,null,null,null,null,null,"Дніпропетровська","Герасимівка (Новостепанівська сільська рада)"]
[null,null,null,null,null,null,null,null,null,null,null,null,null,null,null,null,null,null,null,null,null,null,null,null,null,null,null,null,null,null,null,null,null,null,null,null,null,null,null,null,null,null,null,null,null,"Дніпропетровська","Гранітне (Ленінська сільська рада)"]
[null,null,null,null,null,null,null,null,null,null,null,null,null,null,null,null,null,null,null,null,null,null,null,null,null,null,null,null,null,null,null,null,null,null,null,null,null,null,null,null,null,null,null,null,null,"Дніпропетровська","Дубовики"]
[null,null,null,null,null,null,null,null,null,null,null,null,null,null,null,null,null,null,null,null,null,null,null,null,null,null,null,null,null,null,null,null,null,null,null,null,null,null,null,null,null,null,null,null,null,"Дніпропетровська","Запорізьке (Запорізька сільська рада)"]
[null,null,null,null,null,null,null,null,null,null,null,null,null,null,null,null,null,null,null,null,null,null,null,null,null,null,null,null,null,null,null,null,null,null,null,null,null,null,null,null,null,null,null,null,null,"Дніпропетровська","Зелений Гай (Кіровська сільська рада)"]
[null,null,null,null,null,null,null,null,null,null,null,null,null,null,null,null,null,null,null,null,null,null,null,null,null,null,null,null,null,null,null,null,null,null,null,null,null,null,null,null,null,null,null,null,null,"Дніпропетровська","Кам'янське (Придніпровька сільська рада)"]
[null,null,null,null,null,null,null,null,null,null,null,null,null,null,null,null,null,null,null,null,null,null,null,null,null,null,null,null,null,null,null,null,null,null,null,null,null,null,null,null,null,null,null,null,null,"Дніпропетровська","Киричкове"]
[null,null,null,null,null,null,null,null,null,null,null,null,null,null,null,null,null,null,null,null,null,null,null,null,null,null,null,null,null,null,null,null,null,null,null,null,null,null,null,null,null,null,null,null,null,"Дніпропетровська","Кривий Ріг"]
[null,null,null,null,null,null,null,null,null,null,null,null,null,null,null,null,null,null,null,null,null,null,null,null,null,null,null,null,null,null,null,null,null,null,null,null,null,null,null,null,null,null,null,null,null,"Дніпропетровська","Ленінське (Ленінська сільська рада)"]
[null,null,null,null,null,null,null,null,null,null,null,null,null,null,null,null,null,null,null,null,null,null,null,null,null,null,null,null,null,null,null,null,null,null,null,null,null,null,null,null,null,null,null,null,null,"Дніпропетровська","Мар'ївка (Писарівської)"]
[null,null,null,null,null,null,null,null,null,null,null,null,null,null,null,null,null,null,null,null,null,null,null,null,null,null,null,null,null,null,null,null,null,null,null,null,null,null,null,null,null,null,null,null,null,"Дніпропетровська","Мерцалівка"]
[null,null,null,null,null,null,null,null,null,null,null,null,null,null,null,null,null,null,null,null,null,null,null,null,null,null,null,null,null,null,null,null,null,null,null,null,null,null,null,null,null,null,null,null,null,"Дніпропетровська","Новий Шлях (Веселівська сільська рада)"]
[null,null,null,null,null,null,null,null,null,null,null,null,null,null,null,null,null,null,null,null,null,null,null,null,null,null,null,null,null,null,null,null,null,null,null,null,null,null,null,null,null,null,null,null,null,"Дніпропетровська","Новожитомир (Красінська сільська рада)"]
[null,null,null,null,null,null,null,null,null,null,null,null,null,null,null,null,null,null,null,null,null,null,null,null,null,null,null,null,null,null,null,null,null,null,null,null,null,null,null,null,null,null,null,null,null,"Дніпропетровська","Новотроїцьке (Знаменівська)"]
[null,null,null,null,null,null,null,null,null,null,null,null,null,null,null,null,null,null,null,null,null,null,null,null,null,null,null,null,null,null,null,null,null,null,null,null,null,null,null,null,null,null,null,null,null,"Дніпропетровська","Олексіївка (Жовтнева сільська рада)"]
[null,null,null,null,null,null,null,null,null,null,null,null,null,null,null,null,null,null,null,null,null,null,null,null,null,null,null,null,null,null,null,null,null,null,null,null,null,null,null,null,null,null,null,null,null,"Дніпропетровська","Осадче"]
[null,null,null,null,null,null,null,null,null,null,null,null,null,null,null,null,null,null,null,null,null,null,null,null,null,null,null,null,null,null,null,null,null,null,null,null,null,null,null,null,null,null,null,null,null,"Дніпропетровська","Плавещена (Шульгівська сільська рада)"]
[null,null,null,null,null,null,null,null,null,null,null,null,null,null,null,null,null,null,null,null,null,null,null,null,null,null,null,null,null,null,null,null,null,null,null,null,null,null,null,null,null,null,null,null,null,"Дніпропетровська","Прядівка (Прядівська сільська рада)"]
[null,null,null,null,null,null,null,null,null,null,null,null,null,null,null,null,null,null,null,null,null,null,null,null,null,null,null,null,null,null,null,null,null,null,null,null,null,null,null,null,null,null,null,null,null,"Дніпропетровська","Смоленка (Гуляйпільська сільська рада)"]
[null,null,null,null,null,null,null,null,null,null,null,null,null,null,null,null,null,null,null,null,null,null,null,null,null,null,null,null,null,null,null,null,null,null,null,null,null,null,null,null,null,null,null,null,null,"Дніпропетровська","Суданівка"]
[null,null,null,null,null,null,null,null,null,null,null,null,null,null,null,null,null,null,null,null,null,null,null,null,null,null,null,null,null,null,null,null,null,null,null,null,null,null,null,null,null,null,null,null,null,"Дніпропетровська","Ульянівка (Шолоховська сільська рада)"]
[null,null,null,null,null,null,null,null,null,null,null,null,null,null,null,null,null,null,null,null,null,null,null,null,null,null,null,null,null,null,null,null,null,null,null,null,null,null,null,null,null,null,null,null,null,"Дніпропетровська","Чапаєвка (Преображенська сільська рада)"]
[null,null,null,null,null,null,null,null,null,null,null,null,null,null,null,null,null,null,null,null,null,null,null,null,null,null,null,null,null,null,null,null,null,null,null,null,null,null,null,null,null,null,null,null,null,"Дніпропетровська","Чернеччина"]
[null,null,null,null,null,null,null,null,null,null,null,null,null,null,null,null,null,null,null,null,null,null,null,null,null,null,null,null,null,null,null,null,null,null,null,null,null,null,null,null,null,null,null,null,null,"Дніпропетровська","Щорськ"]
[null,null,null,null,null,null,null,null,null,null,null,null,null,null,null,null,null,null,null,null,null,null,null,null,null,null,null,null,null,null,null,null,null,null,null,null,null,null,null,null,null,null,null,null,null,"Донецька","Балаган"]
[null,null,null,null,null,null,null,null,null,null,null,null,null,null,null,null,null,null,null,null,null,null,null,null,null,null,null,null,null,null,null,null,null,null,null,null,null,null,null,null,null,null,null,null,null,"Донецька","Веселе Поле"]
[null,null,null,null,null,null,null,null,null,null,null,null,null,null,null,null,null,null,null,null,null,null,null,null,null,null,null,null,null,null,null,null,null,null,null,null,null,null,null,null,null,null,null,null,null,"Донецька","Волноваха"]
[null,null,null,null,null,null,null,null,null,null,null,null,null,null,null,null,null,null,null,null,null,null,null,null,null,null,null,null,null,null,null,null,null,null,null,null,null,null,null,null,null,null,null,null,null,"Донецька","Докучаєвськ"]
[null,null,null,null,null,null,null,null,null,null,null,null,null,null,null,null,null,null,null,null,null,null,null,null,null,null,null,null,null,null,null,null,null,null,null,null,null,null,null,null,null,null,null,null,null,"Донецька","Жукова Балка"]
[null,null,null,null,null,null,null,null,null,null,null,null,null,null,null,null,null,null,null,null,null,null,null,null,null,null,null,null,null,null,null,null,null,null,null,null,null,null,null,null,null,null,null,null,null,"Донецька","Іванград"]
[null,null,null,null,null,null,null,null,null,null,null,null,null,null,null,null,null,null,null,null,null,null,null,null,null,null,null,null,null,null,null,null,null,null,null,null,null,null,null,null,null,null,null,null,null,"Донецька","Коровій Яр"]
[null,null,null,null,null,null,null,null,null,null,null,null,null,null,null,null,null,null,null,null,null,null,null,null,null,null,null,null,null,null,null,null,null,null,null,null,null,null,null,null,null,null,null,null,null,"Донецька","Кремінець (Луганська сільська Рада)"]
[null,null,null,null,null,null,null,null,null,null,null,null,null,null,null,null,null,null,null,null,null,null,null,null,null,null,null,null,null,null,null,null,null,null,null,null,null,null,null,null,null,null,null,null,null,"Донецька","Миколайпілля"]
[null,null,null,null,null,null,null,null,null,null,null,null,null,null,null,null,null,null,null,null,null,null,null,null,null,null,null,null,null,null,null,null,null,null,null,null,null,null,null,null,null,null,null,null,null,"Донецька","Молчалине"]
[null,null,null,null,null,null,null,null,null,null,null,null,null,null,null,null,null,null,null,null,null,null,null,null,null,null,null,null,null,null,null,null,null,null,null,null,null,null,null,null,null,null,null,null,null,"Донецька","Новомихайлівка"]
[null,null,null,null,null,null,null,null,null,null,null,null,null,null,null,null,null,null,null,null,null,null,null,null,null,null,null,null,null,null,null,null,null,null,null,null,null,null,null,null,null,null,null,null,null,"Донецька","Новоявленка"]
[null,null,null,null,null,null,null,null,null,null,null,null,null,null,null,null,null,null,null,null,null,null,null,null,null,null,null,null,null,null,null,null,null,null,null,null,null,null,null,null,null,null,null,null,null,"Донецька","Петропавлівка (Андріївська сільська рада)"]
[null,null,null,null,null,null,null,null,null,null,null,null,null,null,null,null,null,null,null,null,null,null,null,null,null,null,null,null,null,null,null,null,null,null,null,null,null,null,null,null,null,null,null,null,null,"Донецька","Приовражне"]
[null,null,null,null,null,null,null,null,null,null,null,null,null,null,null,null,null,null,null,null,null,null,null,null,null,null,null,null,null,null,null,null,null,null,null,null,null,null,null,null,null,null,null,null,null,"Донецька","Рівнопіль"]
[null,null,null,null,null,null,null,null,null,null,null,null,null,null,null,null,null,null,null,null,null,null,null,null,null,null,null,null,null,null,null,null,null,null,null,null,null,null,null,null,null,null,null,null,null,"Донецька","Соловйове"]
[null,null,null,null,null,null,null,null,null,null,null,null,null,null,null,null,null,null,null,null,null,null,null,null,null,null,null,null,null,null,null,null,null,null,null,null,null,null,null,null,null,null,null,null,null,"Донецька","Степано-Кринка"]
[null,null,null,null,null,null,null,null,null,null,null,null,null,null,null,null,null,null,null,null,null,null,null,null,null,null,null,null,null,null,null,null,null,null,null,null,null,null,null,null,null,null,null,null,null,"Донецька","Чичеріне"]
[null,null,null,null,null,null,null,null,null,null,null,null,null,null,null,null,null,null,null,null,null,null,null,null,null,null,null,null,null,null,null,null,null,null,null,null,null,null,null,null,null,null,null,null,null,"Донецька","Шевченко (Кумачевська)"]
[null,null,null,null,null,null,null,null,null,null,null,null,null,null,null,null,null,null,null,null,null,null,null,null,null,null,null,null,null,null,null,null,null,null,null,null,null,null,null,null,null,null,null,null,null,"Житомирська","Бичева"]
[null,null,null,null,null,null,null,null,null,null,null,null,null,null,null,null,null,null,null,null,null,null,null,null,null,null,null,null,null,null,null,null,null,null,null,null,null,null,null,null,null,null,null,null,null,"Житомирська","Борятин"]
[null,null,null,null,null,null,null,null,null,null,null,null,null,null,null,null,null,null,null,null,null,null,null,null,null,null,null,null,null,null,null,null,null,null,null,null,null,null,null,null,null,null,null,null,null,"Житомирська","Бухалівщина"]
[null,null,null,null,null,null,null,null,null,null,null,null,null,null,null,null,null,null,null,null,null,null,null,null,null,null,null,null,null,null,null,null,null,null,null,null,null,null,null,null,null,null,null,null,null,"Житомирська","Вишевичі"]
[null,null,null,null,null,null,null,null,null,null,null,null,null,null,null,null,null,null,null,null,null,null,null,null,null,null,null,null,null,null,null,null,null,null,null,null,null,null,null,null,null,null,null,null,null,"Житомирська","Возничі"]
[null,null,null,null,null,null,null,null,null,null,null,null,null,null,null,null,null,null,null,null,null,null,null,null,null,null,null,null,null,null,null,null,null,null,null,null,null,null,null,null,null,null,null,null,null,"Житомирська","Горщик"]
[null,null,null,null,null,null,null,null,null,null,null,null,null,null,null,null,null,null,null,null,null,null,null,null,null,null,null,null,null,null,null,null,null,null,null,null,null,null,null,null,null,null,null,null,null,"Житомирська","Дехтярка"]
[null,null,null,null,null,null,null,null,null,null,null,null,null,null,null,null,null,null,null,null,null,null,null,null,null,null,null,null,null,null,null,null,null,null,null,null,null,null,null,null,null,null,null,null,null,"Житомирська","Зарубинці"]
[null,null,null,null,null,null,null,null,null,null,null,null,null,null,null,null,null,null,null,null,null,null,null,null,null,null,null,null,null,null,null,null,null,null,null,null,null,null,null,null,null,null,null,null,null,"Житомирська","Зятинець"]
[null,null,null,null,null,null,null,null,null,null,null,null,null,null,null,null,null,null,null,null,null,null,null,null,null,null,null,null,null,null,null,null,null,null,null,null,null,null,null,null,null,null,null,null,null,"Житомирська","Копелянка"]
[null,null,null,null,null,null,null,null,null,null,null,null,null,null,null,null,null,null,null,null,null,null,null,null,null,null,null,null,null,null,null,null,null,null,null,null,null,null,null,null,null,null,null,null,null,"Житомирська","Кошечки"]
[null,null,null,null,null,null,null,null,null,null,null,null,null,null,null,null,null,null,null,null,null,null,null,null,null,null,null,null,null,null,null,null,null,null,null,null,null,null,null,null,null,null,null,null,null,"Житомирська","Крученець"]
[null,null,null,null,null,null,null,null,null,null,null,null,null,null,null,null,null,null,null,null,null,null,null,null,null,null,null,null,null,null,null,null,null,null,null,null,null,null,null,null,null,null,null,null,null,"Житомирська","Малий кобилин"]
[null,null,null,null,null,null,null,null,null,null,null,null,null,null,null,null,null,null,null,null,null,null,null,null,null,null,null,null,null,null,null,null,null,null,null,null,null,null,null,null,null,null,null,null,null,"Житомирська","Мамеч"]
[null,null,null,null,null,null,null,null,null,null,null,null,null,null,null,null,null,null,null,null,null,null,null,null,null,null,null,null,null,null,null,null,null,null,null,null,null,null,null,null,null,null,null,null,null,"Житомирська","Нераж"]
[null,null,null,null,null,null,null,null,null,null,null,null,null,null,null,null,null,null,null,null,null,null,null,null,null,null,null,null,null,null,null,null,null,null,null,null,null,null,null,null,null,null,null,null,null,"Житомирська","Нові Білокоровичі"]
[null,null,null,null,null,null,null,null,null,null,null,null,null,null,null,null,null,null,null,null,null,null,null,null,null,null,null,null,null,null,null,null,null,null,null,null,null,null,null,null,null,null,null,null,null,"Житомирська","Охотівка"]
[null,null,null,null,null,null,null,null,null,null,null,null,null,null,null,null,null,null,null,null,null,null,null,null,null,null,null,null,null,null,null,null,null,null,null,null,null,null,null,null,null,null,null,null,null,"Житомирська","Печанівка"]
[null,null,null,null,null,null,null,null,null,null,null,null,null,null,null,null,null,null,null,null,null,null,null,null,null,null,null,null,null,null,null,null,null,null,null,null,null,null,null,null,null,null,null,null,null,"Житомирська","Прибуток"]
[null,null,null,null,null,null,null,null,null,null,null,null,null,null,null,null,null,null,null,null,null,null,null,null,null,null,null,null,null,null,null,null,null,null,null,null,null,null,null,null,null,null,null,null,null,"Житомирська","Рудня -Хочинська"]
[null,null,null,null,null,null,null,null,null,null,null,null,null,null,null,null,null,null,null,null,null,null,null,null,null,null,null,null,null,null,null,null,null,null,null,null,null,null,null,null,null,null,null,null,null,"Житомирська","Семени"]
[null,null,null,null,null,null,null,null,null,null,null,null,null,null,null,null,null,null,null,null,null,null,null,null,null,null,null,null,null,null,null,null,null,null,null,null,null,null,null,null,null,null,null,null,null,"Житомирська","Старий Солотвин"]
[null,null,null,null,null,null,null,null,null,null,null,null,null,null,null,null,null,null,null,null,null,null,null,null,null,null,null,null,null,null,null,null,null,null,null,null,null,null,null,null,null,null,null,null,null,"Житомирська","Стовпів"]
[null,null,null,null,null,null,null,null,null,null,null,null,null,null,null,null,null,null,null,null,null,null,null,null,null,null,null,null,null,null,null,null,null,null,null,null,null,null,null,null,null,null,null,null,null,"Житомирська","Харліївка"]
[null,null,null,null,null,null,null,null,null,null,null,null,null,null,null,null,null,null,null,null,null,null,null,null,null,null,null,null,null,null,null,null,null,null,null,null,null,null,null,null,null,null,null,null,null,"Житомирська","Цвітянка"]
[null,null,null,null,null,null,null,null,null,null,null,null,null,null,null,null,null,null,null,null,null,null,null,null,null,null,null,null,null,null,null,null,null,null,null,null,null,null,null,null,null,null,null,null,null,"Житомирська","Шемеретів"]
[null,null,null,null,null,null,null,null,null,null,null,null,null,null,null,null,null,null,null,null,null,null,null,null,null,null,null,null,null,null,null,null,null,null,null,null,null,null,null,null,null,null,null,null,null,"Закарпатська","Березово (Березівська сільська рада)"]
[null,null,null,null,null,null,null,null,null,null,null,null,null,null,null,null,null,null,null,null,null,null,null,null,null,null,null,null,null,null,null,null,null,null,null,null,null,null,null,null,null,null,null,null,null,"Закарпатська","Веряця (Веряцька сільська рада)"]
[null,null,null,null,null,null,null,null,null,null,null,null,null,null,null,null,null,null,null,null,null,null,null,null,null,null,null,null,null,null,null,null,null,null,null,null,null,null,null,null,null,null,null,null,null,"Закарпатська","Галоч (Галоцька сільська рада)"]
[null,null,null,null,null,null,null,null,null,null,null,null,null,null,null,null,null,null,null,null,null,null,null,null,null,null,null,null,null,null,null,null,null,null,null,null,null,null,null,null,null,null,null,null,null,"Закарпатська","Горінчово (Горінчівська сільська рада)"]
[null,null,null,null,null,null,null,null,null,null,null,null,null,null,null,null,null,null,null,null,null,null,null,null,null,null,null,null,null,null,null,null,null,null,null,null,null,null,null,null,null,null,null,null,null,"Закарпатська","Заверхня Кичера (Синевирська сільська рада)"]
[null,null,null,null,null,null,null,null,null,null,null,null,null,null,null,null,null,null,null,null,null,null,null,null,null,null,null,null,null,null,null,null,null,null,null,null,null,null,null,null,null,null,null,null,null,"Закарпатська","Кічерний (Розтоцька сільська рада)"]
[null,null,null,null,null,null,null,null,null,null,null,null,null,null,null,null,null,null,null,null,null,null,null,null,null,null,null,null,null,null,null,null,null,null,null,null,null,null,null,null,null,null,null,null,null,"Закарпатська","Кривий (Липчанська сільська рада)"]
[null,null,null,null,null,null,null,null,null,null,null,null,null,null,null,null,null,null,null,null,null,null,null,null,null,null,null,null,null,null,null,null,null,null,null,null,null,null,null,null,null,null,null,null,null,"Закарпатська","Лозянський (Лозянська сільська рада)"]
[null,null,null,null,null,null,null,null,null,null,null,null,null,null,null,null,null,null,null,null,null,null,null,null,null,null,null,null,null,null,null,null,null,null,null,null,null,null,null,null,null,null,null,null,null,"Закарпатська","Нижній Студений (Нижньостуденівська сільська рада)"]
[null,null,null,null,null,null,null,null,null,null,null,null,null,null,null,null,null,null,null,null,null,null,null,null,null,null,null,null,null,null,null,null,null,null,null,null,null,null,null,null,null,null,null,null,null,"Закарпатська","Оріховиця (Оноківська сільська рада)"]
[null,null,null,null,null,null,null,null,null,null,null,null,null,null,null,null,null,null,null,null,null,null,null,null,null,null,null,null,null,null,null,null,null,null,null,null,null,null,null,null,null,null,null,null,null,"Закарпатська","Пістрялово (Пістрялівська сільська рада)"]
[null,null,null,null,null,null,null,null,null,null,null,null,null,null,null,null,null,null,null,null,null,null,null,null,null,null,null,null,null,null,null,null,null,null,null,null,null,null,null,null,null,null,null,null,null,"Закарпатська","Сасівка (Неліпинська сільська рада)"]
[null,null,null,null,null,null,null,null,null,null,null,null,null,null,null,null,null,null,null,null,null,null,null,null,null,null,null,null,null,null,null,null,null,null,null,null,null,null,null,null,null,null,null,null,null,"Закарпатська","Теково (Теківська сільська рада)"]
[null,null,null,null,null,null,null,null,null,null,null,null,null,null,null,null,null,null,null,null,null,null,null,null,null,null,null,null,null,null,null,null,null,null,null,null,null,null,null,null,null,null,null,null,null,"Закарпатська","Ужгород"]
[null,null,null,null,null,null,null,null,null,null,null,null,null,null,null,null,null,null,null,null,null,null,null,null,null,null,null,null,null,null,null,null,null,null,null,null,null,null,null,null,null,null,null,null,null,"Закарпатська","Чабин (Обавська сільська рада)"]
[null,null,null,null,null,null,null,null,null,null,null,null,null,null,null,null,null,null,null,null,null,null,null,null,null,null,null,null,null,null,null,null,null,null,null,null,null,null,null,null,null,null,null,null,null,"Запорізька","Білорічанське"]
[null,null,null,null,null,null,null,null,null,null,null,null,null,null,null,null,null,null,null,null,null,null,null,null,null,null,null,null,null,null,null,null,null,null,null,null,null,null,null,null,null,null,null,null,null,"Запорізька","Верхньодрагунське"]
[null,null,null,null,null,null,null,null,null,null,null,null,null,null,null,null,null,null,null,null,null,null,null,null,null,null,null,null,null,null,null,null,null,null,null,null,null,null,null,null,null,null,null,null,null,"Запорізька","Замістя"]
[null,null,null,null,null,null,null,null,null,null,null,null,null,null,null,null,null,null,null,null,null,null,null,null,null,null,null,null,null,null,null,null,null,null,null,null,null,null,null,null,null,null,null,null,null,"Запорізька","Козаківське"]
[null,null,null,null,null,null,null,null,null,null,null,null,null,null,null,null,null,null,null,null,null,null,null,null,null,null,null,null,null,null,null,null,null,null,null,null,null,null,null,null,null,null,null,null,null,"Запорізька","Кринівка"]
[null,null,null,null,null,null,null,null,null,null,null,null,null,null,null,null,null,null,null,null,null,null,null,null,null,null,null,null,null,null,null,null,null,null,null,null,null,null,null,null,null,null,null,null,null,"Запорізька","Новодарівка"]
[null,null,null,null,null,null,null,null,null,null,null,null,null,null,null,null,null,null,null,null,null,null,null,null,null,null,null,null,null,null,null,null,null,null,null,null,null,null,null,null,null,null,null,null,null,"Запорізька","Новосолоне"]
[null,null,null,null,null,null,null,null,null,null,null,null,null,null,null,null,null,null,null,null,null,null,null,null,null,null,null,null,null,null,null,null,null,null,null,null,null,null,null,null,null,null,null,null,null,"Запорізька","Романівське"]
[null,null,null,null,null,null,null,null,null,null,null,null,null,null,null,null,null,null,null,null,null,null,null,null,null,null,null,null,null,null,null,null,null,null,null,null,null,null,null,null,null,null,null,null,null,"Запорізька","Степногірськ"]
[null,null,null,null,null,null,null,null,null,null,null,null,null,null,null,null,null,null,null,null,null,null,null,null,null,null,null,null,null,null,null,null,null,null,null,null,null,null,null,null,null,null,null,null,null,"Івано_Франківська","Бабухів"]
[null,null,null,null,null,null,null,null,null,null,null,null,null,null,null,null,null,null,null,null,null,null,null,null,null,null,null,null,null,null,null,null,null,null,null,null,null,null,null,null,null,null,null,null,null,"Івано_Франківська","Бубнище"]
[null,null,null,null,null,null,null,null,null,null,null,null,null,null,null,null,null,null,null,null,null,null,null,null,null,null,null,null,null,null,null,null,null,null,null,null,null,null,null,null,null,null,null,null,null,"Івано_Франківська","Бучачки"]
[null,null,null,null,null,null,null,null,null,null,null,null,null,null,null,null,null,null,null,null,null,null,null,null,null,null,null,null,null,null,null,null,null,null,null,null,null,null,null,null,null,null,null,null,null,"Івано_Франківська","Глибівка"]
[null,null,null,null,null,null,null,null,null,null,null,null,null,null,null,null,null,null,null,null,null,null,null,null,null,null,null,null,null,null,null,null,null,null,null,null,null,null,null,null,null,null,null,null,null,"Івано_Франківська","Гринівці"]
[null,null,null,null,null,null,null,null,null,null,null,null,null,null,null,null,null,null,null,null,null,null,null,null,null,null,null,null,null,null,null,null,null,null,null,null,null,null,null,null,null,null,null,null,null,"Івано_Франківська","Задубрівці"]
[null,null,null,null,null,null,null,null,null,null,null,null,null,null,null,null,null,null,null,null,null,null,null,null,null,null,null,null,null,null,null,null,null,null,null,null,null,null,null,null,null,null,null,null,null,"Івано_Франківська","Івано-Франківськ"]
[null,null,null,null,null,null,null,null,null,null,null,null,null,null,null,null,null,null,null,null,null,null,null,null,null,null,null,null,null,null,null,null,null,null,null,null,null,null,null,null,null,null,null,null,null,"Івано_Франківська","Кривець"]
[null,null,null,null,null,null,null,null,null,null,null,null,null,null,null,null,null,null,null,null,null,null,null,null,null,null,null,null,null,null,null,null,null,null,null,null,null,null,null,null,null,null,null,null,null,"Івано_Франківська","Лісна Велесниця"]
[null,null,null,null,null,null,null,null,null,null,null,null,null,null,null,null,null,null,null,null,null,null,null,null,null,null,null,null,null,null,null,null,null,null,null,null,null,null,null,null,null,null,null,null,null,"Івано_Франківська","Насташине"]
[null,null,null,null,null,null,null,null,null,null,null,null,null,null,null,null,null,null,null,null,null,null,null,null,null,null,null,null,null,null,null,null,null,null,null,null,null,null,null,null,null,null,null,null,null,"Івано_Франківська","Озерце"]
[null,null,null,null,null,null,null,null,null,null,null,null,null,null,null,null,null,null,null,null,null,null,null,null,null,null,null,null,null,null,null,null,null,null,null,null,null,null,null,null,null,null,null,null,null,"Івано_Франківська","Передівання"]
[null,null,null,null,null,null,null,null,null,null,null,null,null,null,null,null,null,null,null,null,null,null,null,null,null,null,null,null,null,null,null,null,null,null,null,null,null,null,null,null,null,null,null,null,null,"Івано_Франківська","Раківчик"]
[null,null,null,null,null,null,null,null,null,null,null,null,null,null,null,null,null,null,null,null,null,null,null,null,null,null,null,null,null,null,null,null,null,null,null,null,null,null,null,null,null,null,null,null,null,"Івано_Франківська","Рунгури"]
[null,null,null,null,null,null,null,null,null,null,null,null,null,null,null,null,null,null,null,null,null,null,null,null,null,null,null,null,null,null,null,null,null,null,null,null,null,null,null,null,null,null,null,null,null,"Івано_Франківська","Стопчатів"]
[null,null,null,null,null,null,null,null,null,null,null,null,null,null,null,null,null,null,null,null,null,null,null,null,null,null,null,null,null,null,null,null,null,null,null,null,null,null,null,null,null,null,null,null,null,"Івано_Франківська","Тростянець"]
[null,null,null,null,null,null,null,null,null,null,null,null,null,null,null,null,null,null,null,null,null,null,null,null,null,null,null,null,null,null,null,null,null,null,null,null,null,null,null,null,null,null,null,null,null,"Івано_Франківська","Шевченкове (Залукв'янська)"]
[null,null,null,null,null,null,null,null,null,null,null,null,null,null,null,null,null,null,null,null,null,null,null,null,null,null,null,null,null,null,null,null,null,null,null,null,null,null,null,null,null,null,null,null,null,"Київська","Бакали"]
[null,null,null,null,null,null,null,null,null,null,null,null,null,null,null,null,null,null,null,null,null,null,null,null,null,null,null,null,null,null,null,null,null,null,null,null,null,null,null,null,null,null,null,null,null,"Київська","Вахутенці"]
[null,null,null,null,null,null,null,null,null,null,null,null,null,null,null,null,null,null,null,null,null,null,null,null,null,null,null,null,null,null,null,null,null,null,null,null,null,null,null,null,null,null,null,null,null,"Київська","Великі Пріцьки"]
[null,null,null,null,null,null,null,null,null,null,null,null,null,null,null,null,null,null,null,null,null,null,null,null,null,null,null,null,null,null,null,null,null,null,null,null,null,null,null,null,null,null,null,null,null,"Київська","Воронківка"]
[null,null,null,null,null,null,null,null,null,null,null,null,null,null,null,null,null,null,null,null,null,null,null,null,null,null,null,null,null,null,null,null,null,null,null,null,null,null,null,null,null,null,null,null,null,"Київська","Гречана Гребля"]
[null,null,null,null,null,null,null,null,null,null,null,null,null,null,null,null,null,null,null,null,null,null,null,null,null,null,null,null,null,null,null,null,null,null,null,null,null,null,null,null,null,null,null,null,null,"Київська","Деремезна"]
[null,null,null,null,null,null,null,null,null,null,null,null,null,null,null,null,null,null,null,null,null,null,null,null,null,null,null,null,null,null,null,null,null,null,null,null,null,null,null,null,null,null,null,null,null,"Київська","Зелена Поляна"]
[null,null,null,null,null,null,null,null,null,null,null,null,null,null,null,null,null,null,null,null,null,null,null,null,null,null,null,null,null,null,null,null,null,null,null,null,null,null,null,null,null,null,null,null,null,"Київська","Кайнари (Двірківщинська сільська рада)"]
[null,null,null,null,null,null,null,null,null,null,null,null,null,null,null,null,null,null,null,null,null,null,null,null,null,null,null,null,null,null,null,null,null,null,null,null,null,null,null,null,null,null,null,null,null,"Київська","Кривошиїнці"]
[null,null,null,null,null,null,null,null,null,null,null,null,null,null,null,null,null,null,null,null,null,null,null,null,null,null,null,null,null,null,null,null,null,null,null,null,null,null,null,null,null,null,null,null,null,"Київська","Леніно"]
[null,null,null,null,null,null,null,null,null,null,null,null,null,null,null,null,null,null,null,null,null,null,null,null,null,null,null,null,null,null,null,null,null,null,null,null,null,null,null,null,null,null,null,null,null,"Київська","Макарів"]
[null,null,null,null,null,null,null,null,null,null,null,null,null,null,null,null,null,null,null,null,null,null,null,null,null,null,null,null,null,null,null,null,null,null,null,null,null,null,null,null,null,null,null,null,null,"Київська","Мироцьке"]
[null,null,null,null,null,null,null,null,null,null,null,null,null,null,null,null,null,null,null,null,null,null,null,null,null,null,null,null,null,null,null,null,null,null,null,null,null,null,null,null,null,null,null,null,null,"Київська","Надросівка"]
[null,null,null,null,null,null,null,null,null,null,null,null,null,null,null,null,null,null,null,null,null,null,null,null,null,null,null,null,null,null,null,null,null,null,null,null,null,null,null,null,null,null,null,null,null,"Київська","Пашківка"]
[null,null,null,null,null,null,null,null,null,null,null,null,null,null,null,null,null,null,null,null,null,null,null,null,null,null,null,null,null,null,null,null,null,null,null,null,null,null,null,null,null,null,null,null,null,"Київська","Плесецьке"]
[null,null,null,null,null,null,null,null,null,null,null,null,null,null,null,null,null,null,null,null,null,null,null,null,null,null,null,null,null,null,null,null,null,null,null,null,null,null,null,null,null,null,null,null,null,"Київська","Рожів"]
[null,null,null,null,null,null,null,null,null,null,null,null,null,null,null,null,null,null,null,null,null,null,null,null,null,null,null,null,null,null,null,null,null,null,null,null,null,null,null,null,null,null,null,null,null,"Київська","Рудницьке"]
[null,null,null,null,null,null,null,null,null,null,null,null,null,null,null,null,null,null,null,null,null,null,null,null,null,null,null,null,null,null,null,null,null,null,null,null,null,null,null,null,null,null,null,null,null,"Київська","Стовпне"]
[null,null,null,null,null,null,null,null,null,null,null,null,null,null,null,null,null,null,null,null,null,null,null,null,null,null,null,null,null,null,null,null,null,null,null,null,null,null,null,null,null,null,null,null,null,"Київська","Тарасівка (Горохуватська Сільська рада)"]
[null,null,null,null,null,null,null,null,null,null,null,null,null,null,null,null,null,null,null,null,null,null,null,null,null,null,null,null,null,null,null,null,null,null,null,null,null,null,null,null,null,null,null,null,null,"Київська","Тростинська Новоселиця"]
[null,null,null,null,null,null,null,null,null,null,null,null,null,null,null,null,null,null,null,null,null,null,null,null,null,null,null,null,null,null,null,null,null,null,null,null,null,null,null,null,null,null,null,null,null,"Київська","Червоне (Застугнянська сільська рада)"]
[null,null,null,null,null,null,null,null,null,null,null,null,null,null,null,null,null,null,null,null,null,null,null,null,null,null,null,null,null,null,null,null,null,null,null,null,null,null,null,null,null,null,null,null,null,"Київська","Шандра"]
[null,null,null,null,null,null,null,null,null,null,null,null,null,null,null,null,null,null,null,null,null,null,null,null,null,null,null,null,null,null,null,null,null,null,null,null,null,null,null,null,null,null,null,null,null,"Кіровоградська","Братський Посад"]
[null,null,null,null,null,null,null,null,null,null,null,null,null,null,null,null,null,null,null,null,null,null,null,null,null,null,null,null,null,null,null,null,null,null,null,null,null,null,null,null,null,null,null,null,null,"Кіровоградська","Веселі Боковеньки"]
[null,null,null,null,null,null,null,null,null,null,null,null,null,null,null,null,null,null,null,null,null,null,null,null,null,null,null,null,null,null,null,null,null,null,null,null,null,null,null,null,null,null,null,null,null,"Кіровоградська","Запашка"]
[null,null,null,null,null,null,null,null,null,null,null,null,null,null,null,null,null,null,null,null,null,null,null,null,null,null,null,null,null,null,null,null,null,null,null,null,null,null,null,null,null,null,null,null,null,"Кіровоградська","Калмазове"]
[null,null,null,null,null,null,null,null,null,null,null,null,null,null,null,null,null,null,null,null,null,null,null,null,null,null,null,null,null,null,null,null,null,null,null,null,null,null,null,null,null,null,null,null,null,"Кіровоградська","Люшнювате"]
[null,null,null,null,null,null,null,null,null,null,null,null,null,null,null,null,null,null,null,null,null,null,null,null,null,null,null,null,null,null,null,null,null,null,null,null,null,null,null,null,null,null,null,null,null,"Кіровоградська","Миколо-Бабанка"]
[null,null,null,null,null,null,null,null,null,null,null,null,null,null,null,null,null,null,null,null,null,null,null,null,null,null,null,null,null,null,null,null,null,null,null,null,null,null,null,null,null,null,null,null,null,"Кіровоградська","Нерубаївка"]
[null,null,null,null,null,null,null,null,null,null,null,null,null,null,null,null,null,null,null,null,null,null,null,null,null,null,null,null,null,null,null,null,null,null,null,null,null,null,null,null,null,null,null,null,null,"Кіровоградська","Олександро-Акацатове"]
[null,null,null,null,null,null,null,null,null,null,null,null,null,null,null,null,null,null,null,null,null,null,null,null,null,null,null,null,null,null,null,null,null,null,null,null,null,null,null,null,null,null,null,null,null,"Кіровоградська","Пустельникове"]
[null,null,null,null,null,null,null,null,null,null,null,null,null,null,null,null,null,null,null,null,null,null,null,null,null,null,null,null,null,null,null,null,null,null,null,null,null,null,null,null,null,null,null,null,null,"Кіровоградська","Сухий Ташлик"]
[null,null,null,null,null,null,null,null,null,null,null,null,null,null,null,null,null,null,null,null,null,null,null,null,null,null,null,null,null,null,null,null,null,null,null,null,null,null,null,null,null,null,null,null,null,"Кіровоградська","Червона Кам'янка"]
[null,null,null,null,null,null,null,null,null,null,null,null,null,null,null,null,null,null,null,null,null,null,null,null,null,null,null,null,null,null,null,null,null,null,null,null,null,null,null,null,null,null,null,null,null,"Луганська","Благівка"]
[null,null,null,null,null,null,null,null,null,null,null,null,null,null,null,null,null,null,null,null,null,null,null,null,null,null,null,null,null,null,null,null,null,null,null,null,null,null,null,null,null,null,null,null,null,"Луганська","Валуйське"]
[null,null,null,null,null,null,null,null,null,null,null,null,null,null,null,null,null,null,null,null,null,null,null,null,null,null,null,null,null,null,null,null,null,null,null,null,null,null,null,null,null,null,null,null,null,"Луганська","Верхньобогданівка"]
[null,null,null,null,null,null,null,null,null,null,null,null,null,null,null,null,null,null,null,null,null,null,null,null,null,null,null,null,null,null,null,null,null,null,null,null,null,null,null,null,null,null,null,null,null,"Луганська","Гірне (Енгельсовська селещна рада)"]
[null,null,null,null,null,null,null,null,null,null,null,null,null,null,null,null,null,null,null,null,null,null,null,null,null,null,null,null,null,null,null,null,null,null,null,null,null,null,null,null,null,null,null,null,null,"Луганська","Дуванка"]
[null,null,null,null,null,null,null,null,null,null,null,null,null,null,null,null,null,null,null,null,null,null,null,null,null,null,null,null,null,null,null,null,null,null,null,null,null,null,null,null,null,null,null,null,null,"Луганська","Карла Лібкнехта"]
[null,null,null,null,null,null,null,null,null,null,null,null,null,null,null,null,null,null,null,null,null,null,null,null,null,null,null,null,null,null,null,null,null,null,null,null,null,null,null,null,null,null,null,null,null,"Луганська","Ковпакове"]
[null,null,null,null,null,null,null,null,null,null,null,null,null,null,null,null,null,null,null,null,null,null,null,null,null,null,null,null,null,null,null,null,null,null,null,null,null,null,null,null,null,null,null,null,null,"Луганська","Лескіно"]
[null,null,null,null,null,null,null,null,null,null,null,null,null,null,null,null,null,null,null,null,null,null,null,null,null,null,null,null,null,null,null,null,null,null,null,null,null,null,null,null,null,null,null,null,null,"Луганська","Лозовівка"]
[null,null,null,null,null,null,null,null,null,null,null,null,null,null,null,null,null,null,null,null,null,null,null,null,null,null,null,null,null,null,null,null,null,null,null,null,null,null,null,null,null,null,null,null,null,"Луганська","Нещеретове"]
[null,null,null,null,null,null,null,null,null,null,null,null,null,null,null,null,null,null,null,null,null,null,null,null,null,null,null,null,null,null,null,null,null,null,null,null,null,null,null,null,null,null,null,null,null,"Луганська","Новодеркул"]
[null,null,null,null,null,null,null,null,null,null,null,null,null,null,null,null,null,null,null,null,null,null,null,null,null,null,null,null,null,null,null,null,null,null,null,null,null,null,null,null,null,null,null,null,null,"Луганська","Новосвітлівка (Новосвітлівська селещна рада)"]
[null,null,null,null,null,null,null,null,null,null,null,null,null,null,null,null,null,null,null,null,null,null,null,null,null,null,null,null,null,null,null,null,null,null,null,null,null,null,null,null,null,null,null,null,null,"Луганська","Попівка (Сєверна селещна рада)"]
[null,null,null,null,null,null,null,null,null,null,null,null,null,null,null,null,null,null,null,null,null,null,null,null,null,null,null,null,null,null,null,null,null,null,null,null,null,null,null,null,null,null,null,null,null,"Луганська","Радгоспний"]
[null,null,null,null,null,null,null,null,null,null,null,null,null,null,null,null,null,null,null,null,null,null,null,null,null,null,null,null,null,null,null,null,null,null,null,null,null,null,null,null,null,null,null,null,null,"Луганська","Співаківка"]
[null,null,null,null,null,null,null,null,null,null,null,null,null,null,null,null,null,null,null,null,null,null,null,null,null,null,null,null,null,null,null,null,null,null,null,null,null,null,null,null,null,null,null,null,null,"Луганська","Тацине"]
[null,null,null,null,null,null,null,null,null,null,null,null,null,null,null,null,null,null,null,null,null,null,null,null,null,null,null,null,null,null,null,null,null,null,null,null,null,null,null,null,null,null,null,null,null,"Луганська","Червоногвардійське"]
[null,null,null,null,null,null,null,null,null,null,null,null,null,null,null,null,null,null,null,null,null,null,null,null,null,null,null,null,null,null,null,null,null,null,null,null,null,null,null,null,null,null,null,null,null,"Луганська","Шульгинка"]
[null,null,null,null,null,null,null,null,null,null,null,null,null,null,null,null,null,null,null,null,null,null,null,null,null,null,null,null,null,null,null,null,null,null,null,null,null,null,null,null,null,null,null,null,null,"Львівська","Бистрий"]
[null,null,null,null,null,null,null,null,null,null,null,null,null,null,null,null,null,null,null,null,null,null,null,null,null,null,null,null,null,null,null,null,null,null,null,null,null,null,null,null,null,null,null,null,null,"Львівська","Боб'ятин"]
[null,null,null,null,null,null,null,null,null,null,null,null,null,null,null,null,null,null,null,null,null,null,null,null,null,null,null,null,null,null,null,null,null,null,null,null,null,null,null,null,null,null,null,null,null,"Львівська","Борщовичі"]
[null,null,null,null,null,null,null,null,null,null,null,null,null,null,null,null,null,null,null,null,null,null,null,null,null,null,null,null,null,null,null,null,null,null,null,null,null,null,null,null,null,null,null,null,null,"Львівська","Великі Долини"]
[null,null,null,null,null,null,null,null,null,null,null,null,null,null,null,null,null,null,null,null,null,null,null,null,null,null,null,null,null,null,null,null,null,null,null,null,null,null,null,null,null,null,null,null,null,"Львівська","Викоти"]
[null,null,null,null,null,null,null,null,null,null,null,null,null,null,null,null,null,null,null,null,null,null,null,null,null,null,null,null,null,null,null,null,null,null,null,null,null,null,null,null,null,null,null,null,null,"Львівська","Воля Бартатівська"]
[null,null,null,null,null,null,null,null,null,null,null,null,null,null,null,null,null,null,null,null,null,null,null,null,null,null,null,null,null,null,null,null,null,null,null,null,null,null,null,null,null,null,null,null,null,"Львівська","Вощанці"]
[null,null,null,null,null,null,null,null,null,null,null,null,null,null,null,null,null,null,null,null,null,null,null,null,null,null,null,null,null,null,null,null,null,null,null,null,null,null,null,null,null,null,null,null,null,"Львівська","Грабина"]
[null,null,null,null,null,null,null,null,null,null,null,null,null,null,null,null,null,null,null,null,null,null,null,null,null,null,null,null,null,null,null,null,null,null,null,null,null,null,null,null,null,null,null,null,null,"Львівська","Гряда"]
[null,null,null,null,null,null,null,null,null,null,null,null,null,null,null,null,null,null,null,null,null,null,null,null,null,null,null,null,null,null,null,null,null,null,null,null,null,null,null,null,null,null,null,null,null,"Львівська","Довгомостиська"]
[null,null,null,null,null,null,null,null,null,null,null,null,null,null,null,null,null,null,null,null,null,null,null,null,null,null,null,null,null,null,null,null,null,null,null,null,null,null,null,null,null,null,null,null,null,"Львівська","Думниця"]
[null,null,null,null,null,null,null,null,null,null,null,null,null,null,null,null,null,null,null,null,null,null,null,null,null,null,null,null,null,null,null,null,null,null,null,null,null,null,null,null,null,null,null,null,null,"Львівська","Загірочко (Ходорів)"]
[null,null,null,null,null,null,null,null,null,null,null,null,null,null,null,null,null,null,null,null,null,null,null,null,null,null,null,null,null,null,null,null,null,null,null,null,null,null,null,null,null,null,null,null,null,"Львівська","Застав'є"]
[null,null,null,null,null,null,null,null,null,null,null,null,null,null,null,null,null,null,null,null,null,null,null,null,null,null,null,null,null,null,null,null,null,null,null,null,null,null,null,null,null,null,null,null,null,"Львівська","Зіболки"]
[null,null,null,null,null,null,null,null,null,null,null,null,null,null,null,null,null,null,null,null,null,null,null,null,null,null,null,null,null,null,null,null,null,null,null,null,null,null,null,null,null,null,null,null,null,"Львівська","Княжий Міст"]
[null,null,null,null,null,null,null,null,null,null,null,null,null,null,null,null,null,null,null,null,null,null,null,null,null,null,null,null,null,null,null,null,null,null,null,null,null,null,null,null,null,null,null,null,null,"Львівська","Конопниця"]
[null,null,null,null,null,null,null,null,null,null,null,null,null,null,null,null,null,null,null,null,null,null,null,null,null,null,null,null,null,null,null,null,null,null,null,null,null,null,null,null,null,null,null,null,null,"Львівська","Кузубатиця"]
[null,null,null,null,null,null,null,null,null,null,null,null,null,null,null,null,null,null,null,null,null,null,null,null,null,null,null,null,null,null,null,null,null,null,null,null,null,null,null,null,null,null,null,null,null,"Львівська","Липино"]
[null,null,null,null,null,null,null,null,null,null,null,null,null,null,null,null,null,null,null,null,null,null,null,null,null,null,null,null,null,null,null,null,null,null,null,null,null,null,null,null,null,null,null,null,null,"Львівська","Лисків"]
[null,null,null,null,null,null,null,null,null,null,null,null,null,null,null,null,null,null,null,null,null,null,null,null,null,null,null,null,null,null,null,null,null,null,null,null,null,null,null,null,null,null,null,null,null,"Львівська","Майдан Гологірський"]
[null,null,null,null,null,null,null,null,null,null,null,null,null,null,null,null,null,null,null,null,null,null,null,null,null,null,null,null,null,null,null,null,null,null,null,null,null,null,null,null,null,null,null,null,null,"Львівська","Малі Дідушичі"]
[null,null,null,null,null,null,null,null,null,null,null,null,null,null,null,null,null,null,null,null,null,null,null,null,null,null,null,null,null,null,null,null,null,null,null,null,null,null,null,null,null,null,null,null,null,"Львівська","Мокряни (Урізька)"]
[null,null,null,null,null,null,null,null,null,null,null,null,null,null,null,null,null,null,null,null,null,null,null,null,null,null,null,null,null,null,null,null,null,null,null,null,null,null,null,null,null,null,null,null,null,"Львівська","Мшана"]
[null,null,null,null,null,null,null,null,null,null,null,null,null,null,null,null,null,null,null,null,null,null,null,null,null,null,null,null,null,null,null,null,null,null,null,null,null,null,null,null,null,null,null,null,null,"Львівська","Новошини"]
[null,null,null,null,null,null,null,null,null,null,null,null,null,null,null,null,null,null,null,null,null,null,null,null,null,null,null,null,null,null,null,null,null,null,null,null,null,null,null,null,null,null,null,null,null,"Львівська","Ордів"]
[null,null,null,null,null,null,null,null,null,null,null,null,null,null,null,null,null,null,null,null,null,null,null,null,null,null,null,null,null,null,null,null,null,null,null,null,null,null,null,null,null,null,null,null,null,"Львівська","Панчишини"]
[null,null,null,null,null,null,null,null,null,null,null,null,null,null,null,null,null,null,null,null,null,null,null,null,null,null,null,null,null,null,null,null,null,null,null,null,null,null,null,null,null,null,null,null,null,"Львівська","Під'ярків"]
[null,null,null,null,null,null,null,null,null,null,null,null,null,null,null,null,null,null,null,null,null,null,null,null,null,null,null,null,null,null,null,null,null,null,null,null,null,null,null,null,null,null,null,null,null,"Львівська","Повітно"]
[null,null,null,null,null,null,null,null,null,null,null,null,null,null,null,null,null,null,null,null,null,null,null,null,null,null,null,null,null,null,null,null,null,null,null,null,null,null,null,null,null,null,null,null,null,"Львівська","Ракобовти"]
[null,null,null,null,null,null,null,null,null,null,null,null,null,null,null,null,null,null,null,null,null,null,null,null,null,null,null,null,null,null,null,null,null,null,null,null,null,null,null,null,null,null,null,null,null,"Львівська","Ріп'яна"]
[null,null,null,null,null,null,null,null,null,null,null,null,null,null,null,null,null,null,null,null,null,null,null,null,null,null,null,null,null,null,null,null,null,null,null,null,null,null,null,null,null,null,null,null,null,"Львівська","Свитазів"]
[null,null,null,null,null,null,null,null,null,null,null,null,null,null,null,null,null,null,null,null,null,null,null,null,null,null,null,null,null,null,null,null,null,null,null,null,null,null,null,null,null,null,null,null,null,"Львівська","Скнилів"]
[null,null,null,null,null,null,null,null,null,null,null,null,null,null,null,null,null,null,null,null,null,null,null,null,null,null,null,null,null,null,null,null,null,null,null,null,null,null,null,null,null,null,null,null,null,"Львівська","Старі Стрілища"]
[null,null,null,null,null,null,null,null,null,null,null,null,null,null,null,null,null,null,null,null,null,null,null,null,null,null,null,null,null,null,null,null,null,null,null,null,null,null,null,null,null,null,null,null,null,"Львівська","Стрілецьке"]
[null,null,null,null,null,null,null,null,null,null,null,null,null,null,null,null,null,null,null,null,null,null,null,null,null,null,null,null,null,null,null,null,null,null,null,null,null,null,null,null,null,null,null,null,null,"Львівська","Сухота"]
[null,null,null,null,null,null,null,null,null,null,null,null,null,null,null,null,null,null,null,null,null,null,null,null,null,null,null,null,null,null,null,null,null,null,null,null,null,null,null,null,null,null,null,null,null,"Львівська","Турича"]
[null,null,null,null,null,null,null,null,null,null,null,null,null,null,null,null,null,null,null,null,null,null,null,null,null,null,null,null,null,null,null,null,null,null,null,null,null,null,null,null,null,null,null,null,null,"Львівська","Ушня"]
[null,null,null,null,null,null,null,null,null,null,null,null,null,null,null,null,null,null,null,null,null,null,null,null,null,null,null,null,null,null,null,null,null,null,null,null,null,null,null,null,null,null,null,null,null,"Львівська","Черляни"]
[null,null,null,null,null,null,null,null,null,null,null,null,null,null,null,null,null,null,null,null,null,null,null,null,null,null,null,null,null,null,null,null,null,null,null,null,null,null,null,null,null,null,null,null,null,"Львівська","Шпиколоси"]
[null,null,null,null,null,null,null,null,null,null,null,null,null,null,null,null,null,null,null,null,null,null,null,null,null,null,null,null,null,null,null,null,null,null,null,null,null,null,null,null,null,null,null,null,null,"Миколаївська","Артемівка (Димівська)"]
[null,null,null,null,null,null,null,null,null,null,null,null,null,null,null,null,null,null,null,null,null,null,null,null,null,null,null,null,null,null,null,null,null,null,null,null,null,null,null,null,null,null,null,null,null,"Миколаївська","Берізки"]
[null,null,null,null,null,null,null,null,null,null,null,null,null,null,null,null,null,null,null,null,null,null,null,null,null,null,null,null,null,null,null,null,null,null,null,null,null,null,null,null,null,null,null,null,null,"Миколаївська","Бузьке (Бузька)"]
[null,null,null,null,null,null,null,null,null,null,null,null,null,null,null,null,null,null,null,null,null,null,null,null,null,null,null,null,null,null,null,null,null,null,null,null,null,null,null,null,null,null,null,null,null,"Миколаївська","Возсіятське (Возсіятська)"]
[null,null,null,null,null,null,null,null,null,null,null,null,null,null,null,null,null,null,null,null,null,null,null,null,null,null,null,null,null,null,null,null,null,null,null,null,null,null,null,null,null,null,null,null,null,"Миколаївська","Григорівка (Григорівська)"]
[null,null,null,null,null,null,null,null,null,null,null,null,null,null,null,null,null,null,null,null,null,null,null,null,null,null,null,null,null,null,null,null,null,null,null,null,null,null,null,null,null,null,null,null,null,"Миколаївська","Жовтневе (Безводненська)"]
[null,null,null,null,null,null,null,null,null,null,null,null,null,null,null,null,null,null,null,null,null,null,null,null,null,null,null,null,null,null,null,null,null,null,null,null,null,null,null,null,null,null,null,null,null,"Миколаївська","Зелений Гай (Зеленогайська)"]
[null,null,null,null,null,null,null,null,null,null,null,null,null,null,null,null,null,null,null,null,null,null,null,null,null,null,null,null,null,null,null,null,null,null,null,null,null,null,null,null,null,null,null,null,null,"Миколаївська","Катеринка (Кам'яномостівська)"]
[null,null,null,null,null,null,null,null,null,null,null,null,null,null,null,null,null,null,null,null,null,null,null,null,null,null,null,null,null,null,null,null,null,null,null,null,null,null,null,null,null,null,null,null,null,"Миколаївська","Коларівка (Коларівська)"]
[null,null,null,null,null,null,null,null,null,null,null,null,null,null,null,null,null,null,null,null,null,null,null,null,null,null,null,null,null,null,null,null,null,null,null,null,null,null,null,null,null,null,null,null,null,"Миколаївська","Лисянка (Ленінська)"]
[null,null,null,null,null,null,null,null,null,null,null,null,null,null,null,null,null,null,null,null,null,null,null,null,null,null,null,null,null,null,null,null,null,null,null,null,null,null,null,null,null,null,null,null,null,"Миколаївська","Майорівка (Баратівська)"]
[null,null,null,null,null,null,null,null,null,null,null,null,null,null,null,null,null,null,null,null,null,null,null,null,null,null,null,null,null,null,null,null,null,null,null,null,null,null,null,null,null,null,null,null,null,"Миколаївська","Мар'янівка (Доброкриничанська)"]
[null,null,null,null,null,null,null,null,null,null,null,null,null,null,null,null,null,null,null,null,null,null,null,null,null,null,null,null,null,null,null,null,null,null,null,null,null,null,null,null,null,null,null,null,null,"Миколаївська","Новоандріївка (Полтавська)"]
[null,null,null,null,null,null,null,null,null,null,null,null,null,null,null,null,null,null,null,null,null,null,null,null,null,null,null,null,null,null,null,null,null,null,null,null,null,null,null,null,null,null,null,null,null,"Миколаївська","Новоданилівка (Дмитро-Білівська сільська рада)"]
[null,null,null,null,null,null,null,null,null,null,null,null,null,null,null,null,null,null,null,null,null,null,null,null,null,null,null,null,null,null,null,null,null,null,null,null,null,null,null,null,null,null,null,null,null,"Миколаївська","Новосергіївка (Новосергіївська)"]
[null,null,null,null,null,null,null,null,null,null,null,null,null,null,null,null,null,null,null,null,null,null,null,null,null,null,null,null,null,null,null,null,null,null,null,null,null,null,null,null,null,null,null,null,null,"Миколаївська","Озеринівка (Братська)"]
[null,null,null,null,null,null,null,null,null,null,null,null,null,null,null,null,null,null,null,null,null,null,null,null,null,null,null,null,null,null,null,null,null,null,null,null,null,null,null,null,null,null,null,null,null,"Миколаївська","Поділля (Подільська)"]
[null,null,null,null,null,null,null,null,null,null,null,null,null,null,null,null,null,null,null,null,null,null,null,null,null,null,null,null,null,null,null,null,null,null,null,null,null,null,null,null,null,null,null,null,null,"Миколаївська","Прищепівка (Кам'яно-Костуватська)"]
[null,null,null,null,null,null,null,null,null,null,null,null,null,null,null,null,null,null,null,null,null,null,null,null,null,null,null,null,null,null,null,null,null,null,null,null,null,null,null,null,null,null,null,null,null,"Миколаївська","Старосолдатське (Новоіванівська)"]
[null,null,null,null,null,null,null,null,null,null,null,null,null,null,null,null,null,null,null,null,null,null,null,null,null,null,null,null,null,null,null,null,null,null,null,null,null,null,null,null,null,null,null,null,null,"Миколаївська","Тернівка (Мурахівська)"]
[null,null,null,null,null,null,null,null,null,null,null,null,null,null,null,null,null,null,null,null,null,null,null,null,null,null,null,null,null,null,null,null,null,null,null,null,null,null,null,null,null,null,null,null,null,"Миколаївська","Українець (Петропавлівська)"]
[null,null,null,null,null,null,null,null,null,null,null,null,null,null,null,null,null,null,null,null,null,null,null,null,null,null,null,null,null,null,null,null,null,null,null,null,null,null,null,null,null,null,null,null,null,"Миколаївська","Широколанівка (Широколанівської)"]
[null,null,null,null,null,null,null,null,null,null,null,null,null,null,null,null,null,null,null,null,null,null,null,null,null,null,null,null,null,null,null,null,null,null,null,null,null,null,null,null,null,null,null,null,null,"Миколаївська","Яковлівка (Любомирівська)"]
[null,null,null,null,null,null,null,null,null,null,null,null,null,null,null,null,null,null,null,null,null,null,null,null,null,null,null,null,null,null,null,null,null,null,null,null,null,null,null,null,null,null,null,null,null,"Одеська","Болгарка"]
[null,null,null,null,null,null,null,null,null,null,null,null,null,null,null,null,null,null,null,null,null,null,null,null,null,null,null,null,null,null,null,null,null,null,null,null,null,null,null,null,null,null,null,null,null,"Одеська","Височанське"]
[null,null,null,null,null,null,null,null,null,null,null,null,null,null,null,null,null,null,null,null,null,null,null,null,null,null,null,null,null,null,null,null,null,null,null,null,null,null,null,null,null,null,null,null,null,"Одеська","Гудевичеве"]
[null,null,null,null,null,null,null,null,null,null,null,null,null,null,null,null,null,null,null,null,null,null,null,null,null,null,null,null,null,null,null,null,null,null,null,null,null,null,null,null,null,null,null,null,null,"Одеська","Єлизаветівка (Юр'ївська)"]
[null,null,null,null,null,null,null,null,null,null,null,null,null,null,null,null,null,null,null,null,null,null,null,null,null,null,null,null,null,null,null,null,null,null,null,null,null,null,null,null,null,null,null,null,null,"Одеська","Кирнички"]
[null,null,null,null,null,null,null,null,null,null,null,null,null,null,null,null,null,null,null,null,null,null,null,null,null,null,null,null,null,null,null,null,null,null,null,null,null,null,null,null,null,null,null,null,null,"Одеська","Котовське (Розквітівської)"]
[null,null,null,null,null,null,null,null,null,null,null,null,null,null,null,null,null,null,null,null,null,null,null,null,null,null,null,null,null,null,null,null,null,null,null,null,null,null,null,null,null,null,null,null,null,"Одеська","Ланове"]
[null,null,null,null,null,null,null,null,null,null,null,null,null,null,null,null,null,null,null,null,null,null,null,null,null,null,null,null,null,null,null,null,null,null,null,null,null,null,null,null,null,null,null,null,null,"Одеська","Машенька"]
[null,null,null,null,null,null,null,null,null,null,null,null,null,null,null,null,null,null,null,null,null,null,null,null,null,null,null,null,null,null,null,null,null,null,null,null,null,null,null,null,null,null,null,null,null,"Одеська","Нова Олексіївка"]
[null,null,null,null,null,null,null,null,null,null,null,null,null,null,null,null,null,null,null,null,null,null,null,null,null,null,null,null,null,null,null,null,null,null,null,null,null,null,null,null,null,null,null,null,null,"Одеська","Павлинка"]
[null,null,null,null,null,null,null,null,null,null,null,null,null,null,null,null,null,null,null,null,null,null,null,null,null,null,null,null,null,null,null,null,null,null,null,null,null,null,null,null,null,null,null,null,null,"Одеська","Полезне"]
[null,null,null,null,null,null,null,null,null,null,null,null,null,null,null,null,null,null,null,null,null,null,null,null,null,null,null,null,null,null,null,null,null,null,null,null,null,null,null,null,null,null,null,null,null,"Одеська","Слюсареве"]
[null,null,null,null,null,null,null,null,null,null,null,null,null,null,null,null,null,null,null,null,null,null,null,null,null,null,null,null,null,null,null,null,null,null,null,null,null,null,null,null,null,null,null,null,null,"Одеська","Старостине"]
[null,null,null,null,null,null,null,null,null,null,null,null,null,null,null,null,null,null,null,null,null,null,null,null,null,null,null,null,null,null,null,null,null,null,null,null,null,null,null,null,null,null,null,null,null,"Одеська","Труд - Гребеники"]
[null,null,null,null,null,null,null,null,null,null,null,null,null,null,null,null,null,null,null,null,null,null,null,null,null,null,null,null,null,null,null,null,null,null,null,null,null,null,null,null,null,null,null,null,null,"Одеська","Яськи"]
[null,null,null,null,null,null,null,null,null,null,null,null,null,null,null,null,null,null,null,null,null,null,null,null,null,null,null,null,null,null,null,null,null,null,null,null,null,null,null,null,null,null,null,null,null,"Полтавська","Архемівка"]
[null,null,null,null,null,null,null,null,null,null,null,null,null,null,null,null,null,null,null,null,null,null,null,null,null,null,null,null,null,null,null,null,null,null,null,null,null,null,null,null,null,null,null,null,null,"Полтавська","Бочанівка"]
[null,null,null,null,null,null,null,null,null,null,null,null,null,null,null,null,null,null,null,null,null,null,null,null,null,null,null,null,null,null,null,null,null,null,null,null,null,null,null,null,null,null,null,null,null,"Полтавська","Буняківка (Говтвянська)"]
[null,null,null,null,null,null,null,null,null,null,null,null,null,null,null,null,null,null,null,null,null,null,null,null,null,null,null,null,null,null,null,null,null,null,null,null,null,null,null,null,null,null,null,null,null,"Полтавська","Вечірки"]
[null,null,null,null,null,null,null,null,null,null,null,null,null,null,null,null,null,null,null,null,null,null,null,null,null,null,null,null,null,null,null,null,null,null,null,null,null,null,null,null,null,null,null,null,null,"Полтавська","Вільхівщина"]
[null,null,null,null,null,null,null,null,null,null,null,null,null,null,null,null,null,null,null,null,null,null,null,null,null,null,null,null,null,null,null,null,null,null,null,null,null,null,null,null,null,null,null,null,null,"Полтавська","Гаївщина"]
[null,null,null,null,null,null,null,null,null,null,null,null,null,null,null,null,null,null,null,null,null,null,null,null,null,null,null,null,null,null,null,null,null,null,null,null,null,null,null,null,null,null,null,null,null,"Полтавська","Григорівщина"]
[null,null,null,null,null,null,null,null,null,null,null,null,null,null,null,null,null,null,null,null,null,null,null,null,null,null,null,null,null,null,null,null,null,null,null,null,null,null,null,null,null,null,null,null,null,"Полтавська","Дації"]
[null,null,null,null,null,null,null,null,null,null,null,null,null,null,null,null,null,null,null,null,null,null,null,null,null,null,null,null,null,null,null,null,null,null,null,null,null,null,null,null,null,null,null,null,null,"Полтавська","Заїки"]
[null,null,null,null,null,null,null,null,null,null,null,null,null,null,null,null,null,null,null,null,null,null,null,null,null,null,null,null,null,null,null,null,null,null,null,null,null,null,null,null,null,null,null,null,null,"Полтавська","Іванці"]
[null,null,null,null,null,null,null,null,null,null,null,null,null,null,null,null,null,null,null,null,null,null,null,null,null,null,null,null,null,null,null,null,null,null,null,null,null,null,null,null,null,null,null,null,null,"Полтавська","Кованчик"]
[null,null,null,null,null,null,null,null,null,null,null,null,null,null,null,null,null,null,null,null,null,null,null,null,null,null,null,null,null,null,null,null,null,null,null,null,null,null,null,null,null,null,null,null,null,"Полтавська","Комишня"]
[null,null,null,null,null,null,null,null,null,null,null,null,null,null,null,null,null,null,null,null,null,null,null,null,null,null,null,null,null,null,null,null,null,null,null,null,null,null,null,null,null,null,null,null,null,"Полтавська","Кузьменки"]
[null,null,null,null,null,null,null,null,null,null,null,null,null,null,null,null,null,null,null,null,null,null,null,null,null,null,null,null,null,null,null,null,null,null,null,null,null,null,null,null,null,null,null,null,null,"Полтавська","Лазьки"]
[null,null,null,null,null,null,null,null,null,null,null,null,null,null,null,null,null,null,null,null,null,null,null,null,null,null,null,null,null,null,null,null,null,null,null,null,null,null,null,null,null,null,null,null,null,"Полтавська","Лівобережна Сокілка"]
[null,null,null,null,null,null,null,null,null,null,null,null,null,null,null,null,null,null,null,null,null,null,null,null,null,null,null,null,null,null,null,null,null,null,null,null,null,null,null,null,null,null,null,null,null,"Полтавська","Малий Перевіз"]
[null,null,null,null,null,null,null,null,null,null,null,null,null,null,null,null,null,null,null,null,null,null,null,null,null,null,null,null,null,null,null,null,null,null,null,null,null,null,null,null,null,null,null,null,null,"Полтавська","Мацківці"]
[null,null,null,null,null,null,null,null,null,null,null,null,null,null,null,null,null,null,null,null,null,null,null,null,null,null,null,null,null,null,null,null,null,null,null,null,null,null,null,null,null,null,null,null,null,"Полтавська","Нижні Млини"]
[null,null,null,null,null,null,null,null,null,null,null,null,null,null,null,null,null,null,null,null,null,null,null,null,null,null,null,null,null,null,null,null,null,null,null,null,null,null,null,null,null,null,null,null,null,"Полтавська","Одарюківка"]
[null,null,null,null,null,null,null,null,null,null,null,null,null,null,null,null,null,null,null,null,null,null,null,null,null,null,null,null,null,null,null,null,null,null,null,null,null,null,null,null,null,null,null,null,null,"Полтавська","Панівка"]
[null,null,null,null,null,null,null,null,null,null,null,null,null,null,null,null,null,null,null,null,null,null,null,null,null,null,null,null,null,null,null,null,null,null,null,null,null,null,null,null,null,null,null,null,null,"Полтавська","Переліски"]
[null,null,null,null,null,null,null,null,null,null,null,null,null,null,null,null,null,null,null,null,null,null,null,null,null,null,null,null,null,null,null,null,null,null,null,null,null,null,null,null,null,null,null,null,null,"Полтавська","Принцеве"]
[null,null,null,null,null,null,null,null,null,null,null,null,null,null,null,null,null,null,null,null,null,null,null,null,null,null,null,null,null,null,null,null,null,null,null,null,null,null,null,null,null,null,null,null,null,"Полтавська","Радочини"]
[null,null,null,null,null,null,null,null,null,null,null,null,null,null,null,null,null,null,null,null,null,null,null,null,null,null,null,null,null,null,null,null,null,null,null,null,null,null,null,null,null,null,null,null,null,"Полтавська","Сватки"]
[null,null,null,null,null,null,null,null,null,null,null,null,null,null,null,null,null,null,null,null,null,null,null,null,null,null,null,null,null,null,null,null,null,null,null,null,null,null,null,null,null,null,null,null,null,"Полтавська","Синяківщина"]
[null,null,null,null,null,null,null,null,null,null,null,null,null,null,null,null,null,null,null,null,null,null,null,null,null,null,null,null,null,null,null,null,null,null,null,null,null,null,null,null,null,null,null,null,null,"Полтавська","Солошине"]
[null,null,null,null,null,null,null,null,null,null,null,null,null,null,null,null,null,null,null,null,null,null,null,null,null,null,null,null,null,null,null,null,null,null,null,null,null,null,null,null,null,null,null,null,null,"Полтавська","Сухоносівка"]
[null,null,null,null,null,null,null,null,null,null,null,null,null,null,null,null,null,null,null,null,null,null,null,null,null,null,null,null,null,null,null,null,null,null,null,null,null,null,null,null,null,null,null,null,null,"Полтавська","Тригубщина"]
[null,null,null,null,null,null,null,null,null,null,null,null,null,null,null,null,null,null,null,null,null,null,null,null,null,null,null,null,null,null,null,null,null,null,null,null,null,null,null,null,null,null,null,null,null,"Полтавська","Христівка"]
[null,null,null,null,null,null,null,null,null,null,null,null,null,null,null,null,null,null,null,null,null,null,null,null,null,null,null,null,null,null,null,null,null,null,null,null,null,null,null,null,null,null,null,null,null,"Полтавська","Червона Долина"]
[null,null,null,null,null,null,null,null,null,null,null,null,null,null,null,null,null,null,null,null,null,null,null,null,null,null,null,null,null,null,null,null,null,null,null,null,null,null,null,null,null,null,null,null,null,"Полтавська","Шмиглі"]
[null,null,null,null,null,null,null,null,null,null,null,null,null,null,null,null,null,null,null,null,null,null,null,null,null,null,null,null,null,null,null,null,null,null,null,null,null,null,null,null,null,null,null,null,null,"Полтавська","Яроші"]
[null,null,null,null,null,null,null,null,null,null,null,null,null,null,null,null,null,null,null,null,null,null,null,null,null,null,null,null,null,null,null,null,null,null,null,null,null,null,null,null,null,null,null,null,null,"Рівненська","Баранне"]
[null,null,null,null,null,null,null,null,null,null,null,null,null,null,null,null,null,null,null,null,null,null,null,null,null,null,null,null,null,null,null,null,null,null,null,null,null,null,null,null,null,null,null,null,null,"Рівненська","Буща"]
[null,null,null,null,null,null,null,null,null,null,null,null,null,null,null,null,null,null,null,null,null,null,null,null,null,null,null,null,null,null,null,null,null,null,null,null,null,null,null,null,null,null,null,null,null,"Рівненська","Великі  Цепцевичі"]
[null,null,null,null,null,null,null,null,null,null,null,null,null,null,null,null,null,null,null,null,null,null,null,null,null,null,null,null,null,null,null,null,null,null,null,null,null,null,null,null,null,null,null,null,null,"Рівненська","Грицьки"]
[null,null,null,null,null,null,null,null,null,null,null,null,null,null,null,null,null,null,null,null,null,null,null,null,null,null,null,null,null,null,null,null,null,null,null,null,null,null,null,null,null,null,null,null,null,"Рівненська","Дерть"]
[null,null,null,null,null,null,null,null,null,null,null,null,null,null,null,null,null,null,null,null,null,null,null,null,null,null,null,null,null,null,null,null,null,null,null,null,null,null,null,null,null,null,null,null,null,"Рівненська","Злазне"]
[null,null,null,null,null,null,null,null,null,null,null,null,null,null,null,null,null,null,null,null,null,null,null,null,null,null,null,null,null,null,null,null,null,null,null,null,null,null,null,null,null,null,null,null,null,"Рівненська","Ільпінь"]
[null,null,null,null,null,null,null,null,null,null,null,null,null,null,null,null,null,null,null,null,null,null,null,null,null,null,null,null,null,null,null,null,null,null,null,null,null,null,null,null,null,null,null,null,null,"Рівненська","Кухітська Воля"]
[null,null,null,null,null,null,null,null,null,null,null,null,null,null,null,null,null,null,null,null,null,null,null,null,null,null,null,null,null,null,null,null,null,null,null,null,null,null,null,null,null,null,null,null,null,"Рівненська","Майків"]
[null,null,null,null,null,null,null,null,null,null,null,null,null,null,null,null,null,null,null,null,null,null,null,null,null,null,null,null,null,null,null,null,null,null,null,null,null,null,null,null,null,null,null,null,null,"Рівненська","Малі Сади"]
[null,null,null,null,null,null,null,null,null,null,null,null,null,null,null,null,null,null,null,null,null,null,null,null,null,null,null,null,null,null,null,null,null,null,null,null,null,null,null,null,null,null,null,null,null,"Рівненська","Нова  Любомирка"]
[null,null,null,null,null,null,null,null,null,null,null,null,null,null,null,null,null,null,null,null,null,null,null,null,null,null,null,null,null,null,null,null,null,null,null,null,null,null,null,null,null,null,null,null,null,"Рівненська","Озліїв"]
[null,null,null,null,null,null,null,null,null,null,null,null,null,null,null,null,null,null,null,null,null,null,null,null,null,null,null,null,null,null,null,null,null,null,null,null,null,null,null,null,null,null,null,null,null,"Рівненська","Полиці"]
[null,null,null,null,null,null,null,null,null,null,null,null,null,null,null,null,null,null,null,null,null,null,null,null,null,null,null,null,null,null,null,null,null,null,null,null,null,null,null,null,null,null,null,null,null,"Рівненська","Різки"]
[null,null,null,null,null,null,null,null,null,null,null,null,null,null,null,null,null,null,null,null,null,null,null,null,null,null,null,null,null,null,null,null,null,null,null,null,null,null,null,null,null,null,null,null,null,"Рівненська","Стеблівка"]
[null,null,null,null,null,null,null,null,null,null,null,null,null,null,null,null,null,null,null,null,null,null,null,null,null,null,null,null,null,null,null,null,null,null,null,null,null,null,null,null,null,null,null,null,null,"Рівненська","Терешів"]
[null,null,null,null,null,null,null,null,null,null,null,null,null,null,null,null,null,null,null,null,null,null,null,null,null,null,null,null,null,null,null,null,null,null,null,null,null,null,null,null,null,null,null,null,null,"Рівненська","Углище"]
[null,null,null,null,null,null,null,null,null,null,null,null,null,null,null,null,null,null,null,null,null,null,null,null,null,null,null,null,null,null,null,null,null,null,null,null,null,null,null,null,null,null,null,null,null,"Севастополь","Камишли"]
[null,null,null,null,null,null,null,null,null,null,null,null,null,null,null,null,null,null,null,null,null,null,null,null,null,null,null,null,null,null,null,null,null,null,null,null,null,null,null,null,null,null,null,null,null,"Сумська","Анютине"]
[null,null,null,null,null,null,null,null,null,null,null,null,null,null,null,null,null,null,null,null,null,null,null,null,null,null,null,null,null,null,null,null,null,null,null,null,null,null,null,null,null,null,null,null,null,"Сумська","Бишкінь"]
[null,null,null,null,null,null,null,null,null,null,null,null,null,null,null,null,null,null,null,null,null,null,null,null,null,null,null,null,null,null,null,null,null,null,null,null,null,null,null,null,null,null,null,null,null,"Сумська","Будівельне"]
[null,null,null,null,null,null,null,null,null,null,null,null,null,null,null,null,null,null,null,null,null,null,null,null,null,null,null,null,null,null,null,null,null,null,null,null,null,null,null,null,null,null,null,null,null,"Сумська","Вікторове"]
[null,null,null,null,null,null,null,null,null,null,null,null,null,null,null,null,null,null,null,null,null,null,null,null,null,null,null,null,null,null,null,null,null,null,null,null,null,null,null,null,null,null,null,null,null,"Сумська","Воропай"]
[null,null,null,null,null,null,null,null,null,null,null,null,null,null,null,null,null,null,null,null,null,null,null,null,null,null,null,null,null,null,null,null,null,null,null,null,null,null,null,null,null,null,null,null,null,"Сумська","Грицини"]
[null,null,null,null,null,null,null,null,null,null,null,null,null,null,null,null,null,null,null,null,null,null,null,null,null,null,null,null,null,null,null,null,null,null,null,null,null,null,null,null,null,null,null,null,null,"Сумська","Дич"]
[null,null,null,null,null,null,null,null,null,null,null,null,null,null,null,null,null,null,null,null,null,null,null,null,null,null,null,null,null,null,null,null,null,null,null,null,null,null,null,null,null,null,null,null,null,"Сумська","Житне"]
[null,null,null,null,null,null,null,null,null,null,null,null,null,null,null,null,null,null,null,null,null,null,null,null,null,null,null,null,null,null,null,null,null,null,null,null,null,null,null,null,null,null,null,null,null,"Сумська","Кардашівка"]
[null,null,null,null,null,null,null,null,null,null,null,null,null,null,null,null,null,null,null,null,null,null,null,null,null,null,null,null,null,null,null,null,null,null,null,null,null,null,null,null,null,null,null,null,null,"Сумська","Клишки"]
[null,null,null,null,null,null,null,null,null,null,null,null,null,null,null,null,null,null,null,null,null,null,null,null,null,null,null,null,null,null,null,null,null,null,null,null,null,null,null,null,null,null,null,null,null,"Сумська","Кударі (М.Павлівка)"]
[null,null,null,null,null,null,null,null,null,null,null,null,null,null,null,null,null,null,null,null,null,null,null,null,null,null,null,null,null,null,null,null,null,null,null,null,null,null,null,null,null,null,null,null,null,"Сумська","Линтварівка"]
[null,null,null,null,null,null,null,null,null,null,null,null,null,null,null,null,null,null,null,null,null,null,null,null,null,null,null,null,null,null,null,null,null,null,null,null,null,null,null,null,null,null,null,null,null,"Сумська","Маршали"]
[null,null,null,null,null,null,null,null,null,null,null,null,null,null,null,null,null,null,null,null,null,null,null,null,null,null,null,null,null,null,null,null,null,null,null,null,null,null,null,null,null,null,null,null,null,"Сумська","Миронівщина"]
[null,null,null,null,null,null,null,null,null,null,null,null,null,null,null,null,null,null,null,null,null,null,null,null,null,null,null,null,null,null,null,null,null,null,null,null,null,null,null,null,null,null,null,null,null,"Сумська","Облоги"]
[null,null,null,null,null,null,null,null,null,null,null,null,null,null,null,null,null,null,null,null,null,null,null,null,null,null,null,null,null,null,null,null,null,null,null,null,null,null,null,null,null,null,null,null,null,"Сумська","Орлів яр"]
[null,null,null,null,null,null,null,null,null,null,null,null,null,null,null,null,null,null,null,null,null,null,null,null,null,null,null,null,null,null,null,null,null,null,null,null,null,null,null,null,null,null,null,null,null,"Сумська","Перехрестівка"]
[null,null,null,null,null,null,null,null,null,null,null,null,null,null,null,null,null,null,null,null,null,null,null,null,null,null,null,null,null,null,null,null,null,null,null,null,null,null,null,null,null,null,null,null,null,"Сумська","П'яткине (Грінченкове)"]
[null,null,null,null,null,null,null,null,null,null,null,null,null,null,null,null,null,null,null,null,null,null,null,null,null,null,null,null,null,null,null,null,null,null,null,null,null,null,null,null,null,null,null,null,null,"Сумська","Рожковичі"]
[null,null,null,null,null,null,null,null,null,null,null,null,null,null,null,null,null,null,null,null,null,null,null,null,null,null,null,null,null,null,null,null,null,null,null,null,null,null,null,null,null,null,null,null,null,"Сумська","Смоляниківка"]
[null,null,null,null,null,null,null,null,null,null,null,null,null,null,null,null,null,null,null,null,null,null,null,null,null,null,null,null,null,null,null,null,null,null,null,null,null,null,null,null,null,null,null,null,null,"Сумська","Сороколітове"]
[null,null,null,null,null,null,null,null,null,null,null,null,null,null,null,null,null,null,null,null,null,null,null,null,null,null,null,null,null,null,null,null,null,null,null,null,null,null,null,null,null,null,null,null,null,"Сумська","Хилькове"]
[null,null,null,null,null,null,null,null,null,null,null,null,null,null,null,null,null,null,null,null,null,null,null,null,null,null,null,null,null,null,null,null,null,null,null,null,null,null,null,null,null,null,null,null,null,"Сумська","Чапліївка"]
[null,null,null,null,null,null,null,null,null,null,null,null,null,null,null,null,null,null,null,null,null,null,null,null,null,null,null,null,null,null,null,null,null,null,null,null,null,null,null,null,null,null,null,null,null,"Сумська","Щебри"]
[null,null,null,null,null,null,null,null,null,null,null,null,null,null,null,null,null,null,null,null,null,null,null,null,null,null,null,null,null,null,null,null,null,null,null,null,null,null,null,null,null,null,null,null,null,"Тернопільська","Андрушівка (Андрушівська сільська рада)"]
[null,null,null,null,null,null,null,null,null,null,null,null,null,null,null,null,null,null,null,null,null,null,null,null,null,null,null,null,null,null,null,null,null,null,null,null,null,null,null,null,null,null,null,null,null,"Тернопільська","Бережанка (Іванківська сільська рада)"]
[null,null,null,null,null,null,null,null,null,null,null,null,null,null,null,null,null,null,null,null,null,null,null,null,null,null,null,null,null,null,null,null,null,null,null,null,null,null,null,null,null,null,null,null,null,"Тернопільська","Буцики (Гримайлівська селищна рада)"]
[null,null,null,null,null,null,null,null,null,null,null,null,null,null,null,null,null,null,null,null,null,null,null,null,null,null,null,null,null,null,null,null,null,null,null,null,null,null,null,null,null,null,null,null,null,"Тернопільська","Веселівка (Білокриницька сільська рада)"]
[null,null,null,null,null,null,null,null,null,null,null,null,null,null,null,null,null,null,null,null,null,null,null,null,null,null,null,null,null,null,null,null,null,null,null,null,null,null,null,null,null,null,null,null,null,"Тернопільська","Воробіївка (Воробіївська сільська рада)"]
[null,null,null,null,null,null,null,null,null,null,null,null,null,null,null,null,null,null,null,null,null,null,null,null,null,null,null,null,null,null,null,null,null,null,null,null,null,null,null,null,null,null,null,null,null,"Тернопільська","Гнилиці (Гнилицька сільська рада)"]
[null,null,null,null,null,null,null,null,null,null,null,null,null,null,null,null,null,null,null,null,null,null,null,null,null,null,null,null,null,null,null,null,null,null,null,null,null,null,null,null,null,null,null,null,null,"Тернопільська","Дзвиняча (Дзвинячанська сільська рада)"]
[null,null,null,null,null,null,null,null,null,null,null,null,null,null,null,null,null,null,null,null,null,null,null,null,null,null,null,null,null,null,null,null,null,null,null,null,null,null,null,null,null,null,null,null,null,"Тернопільська","Долина (Шульганівська сільська рада)"]
[null,null,null,null,null,null,null,null,null,null,null,null,null,null,null,null,null,null,null,null,null,null,null,null,null,null,null,null,null,null,null,null,null,null,null,null,null,null,null,null,null,null,null,null,null,"Тернопільська","Жолобки (Жолобківська сільська рада)"]
[null,null,null,null,null,null,null,null,null,null,null,null,null,null,null,null,null,null,null,null,null,null,null,null,null,null,null,null,null,null,null,null,null,null,null,null,null,null,null,null,null,null,null,null,null,"Тернопільська","Іване-Пусте (Івано-Пустенська сільська рада)"]
[null,null,null,null,null,null,null,null,null,null,null,null,null,null,null,null,null,null,null,null,null,null,null,null,null,null,null,null,null,null,null,null,null,null,null,null,null,null,null,null,null,null,null,null,null,"Тернопільська","Іква (Великобережецька сільська рада)"]
[null,null,null,null,null,null,null,null,null,null,null,null,null,null,null,null,null,null,null,null,null,null,null,null,null,null,null,null,null,null,null,null,null,null,null,null,null,null,null,null,null,null,null,null,null,"Тернопільська","Королівка (Головчинська сільська рада)"]
[null,null,null,null,null,null,null,null,null,null,null,null,null,null,null,null,null,null,null,null,null,null,null,null,null,null,null,null,null,null,null,null,null,null,null,null,null,null,null,null,null,null,null,null,null,"Тернопільська","Кошляки (Кошляківська сільська рада)"]
[null,null,null,null,null,null,null,null,null,null,null,null,null,null,null,null,null,null,null,null,null,null,null,null,null,null,null,null,null,null,null,null,null,null,null,null,null,null,null,null,null,null,null,null,null,"Тернопільська","Ліщанці (Ліщанецька сільська рада)"]
[null,null,null,null,null,null,null,null,null,null,null,null,null,null,null,null,null,null,null,null,null,null,null,null,null,null,null,null,null,null,null,null,null,null,null,null,null,null,null,null,null,null,null,null,null,"Тернопільська","Мала  Лука (Малолуцька сільська рада)"]
[null,null,null,null,null,null,null,null,null,null,null,null,null,null,null,null,null,null,null,null,null,null,null,null,null,null,null,null,null,null,null,null,null,null,null,null,null,null,null,null,null,null,null,null,null,"Тернопільська","Млинці (Городищенська сільська рада)"]
[null,null,null,null,null,null,null,null,null,null,null,null,null,null,null,null,null,null,null,null,null,null,null,null,null,null,null,null,null,null,null,null,null,null,null,null,null,null,null,null,null,null,null,null,null,"Тернопільська","Нападівка (Борсуківська сільська рада)"]
[null,null,null,null,null,null,null,null,null,null,null,null,null,null,null,null,null,null,null,null,null,null,null,null,null,null,null,null,null,null,null,null,null,null,null,null,null,null,null,null,null,null,null,null,null,"Тернопільська","Новосілка (Вілійська сільська рада)"]
[null,null,null,null,null,null,null,null,null,null,null,null,null,null,null,null,null,null,null,null,null,null,null,null,null,null,null,null,null,null,null,null,null,null,null,null,null,null,null,null,null,null,null,null,null,"Тернопільська","Пишківці (Пишківська сільська рада)"]
[null,null,null,null,null,null,null,null,null,null,null,null,null,null,null,null,null,null,null,null,null,null,null,null,null,null,null,null,null,null,null,null,null,null,null,null,null,null,null,null,null,null,null,null,null,"Тернопільська","Пізнанка (Пізнанська сільська рада)"]
[null,null,null,null,null,null,null,null,null,null,null,null,null,null,null,null,null,null,null,null,null,null,null,null,null,null,null,null,null,null,null,null,null,null,null,null,null,null,null,null,null,null,null,null,null,"Тернопільська","Рожиськ (Рожиська сільська рада)"]
[null,null,null,null,null,null,null,null,null,null,null,null,null,null,null,null,null,null,null,null,null,null,null,null,null,null,null,null,null,null,null,null,null,null,null,null,null,null,null,null,null,null,null,null,null,"Тернопільська","Сапанів (Сапанівська сільська рада)"]
[null,null,null,null,null,null,null,null,null,null,null,null,null,null,null,null,null,null,null,null,null,null,null,null,null,null,null,null,null,null,null,null,null,null,null,null,null,null,null,null,null,null,null,null,null,"Тернопільська","Сосулівка (Сосулівська сільська рада)"]
[null,null,null,null,null,null,null,null,null,null,null,null,null,null,null,null,null,null,null,null,null,null,null,null,null,null,null,null,null,null,null,null,null,null,null,null,null,null,null,null,null,null,null,null,null,"Тернопільська","Стриївка (Стриївська сільська рада)"]
[null,null,null,null,null,null,null,null,null,null,null,null,null,null,null,null,null,null,null,null,null,null,null,null,null,null,null,null,null,null,null,null,null,null,null,null,null,null,null,null,null,null,null,null,null,"Тернопільська","Товсте (Товстенська селищна рада)"]
[null,null,null,null,null,null,null,null,null,null,null,null,null,null,null,null,null,null,null,null,null,null,null,null,null,null,null,null,null,null,null,null,null,null,null,null,null,null,null,null,null,null,null,null,null,"Тернопільська","Цеценівка (Цеценівська сільська рада)"]
[null,null,null,null,null,null,null,null,null,null,null,null,null,null,null,null,null,null,null,null,null,null,null,null,null,null,null,null,null,null,null,null,null,null,null,null,null,null,null,null,null,null,null,null,null,"Тернопільська","Шайбівка (Нараївська сільська рада)"]
[null,null,null,null,null,null,null,null,null,null,null,null,null,null,null,null,null,null,null,null,null,null,null,null,null,null,null,null,null,null,null,null,null,null,null,null,null,null,null,null,null,null,null,null,null,"Харківська","Бабаки"]
[null,null,null,null,null,null,null,null,null,null,null,null,null,null,null,null,null,null,null,null,null,null,null,null,null,null,null,null,null,null,null,null,null,null,null,null,null,null,null,null,null,null,null,null,null,"Харківська","Безпалівка (Таранівська сільрада)"]
[null,null,null,null,null,null,null,null,null,null,null,null,null,null,null,null,null,null,null,null,null,null,null,null,null,null,null,null,null,null,null,null,null,null,null,null,null,null,null,null,null,null,null,null,null,"Харківська","Бровкове"]
[null,null,null,null,null,null,null,null,null,null,null,null,null,null,null,null,null,null,null,null,null,null,null,null,null,null,null,null,null,null,null,null,null,null,null,null,null,null,null,null,null,null,null,null,null,"Харківська","Великі Бучки"]
[null,null,null,null,null,null,null,null,null,null,null,null,null,null,null,null,null,null,null,null,null,null,null,null,null,null,null,null,null,null,null,null,null,null,null,null,null,null,null,null,null,null,null,null,null,"Харківська","Вище Солоне"]
[null,null,null,null,null,null,null,null,null,null,null,null,null,null,null,null,null,null,null,null,null,null,null,null,null,null,null,null,null,null,null,null,null,null,null,null,null,null,null,null,null,null,null,null,null,"Харківська","Глазунівка (П’ятигірська сільська рада)"]
[null,null,null,null,null,null,null,null,null,null,null,null,null,null,null,null,null,null,null,null,null,null,null,null,null,null,null,null,null,null,null,null,null,null,null,null,null,null,null,null,null,null,null,null,null,"Харківська","Горького"]
[null,null,null,null,null,null,null,null,null,null,null,null,null,null,null,null,null,null,null,null,null,null,null,null,null,null,null,null,null,null,null,null,null,null,null,null,null,null,null,null,null,null,null,null,null,"Харківська","Дудівка"]
[null,null,null,null,null,null,null,null,null,null,null,null,null,null,null,null,null,null,null,null,null,null,null,null,null,null,null,null,null,null,null,null,null,null,null,null,null,null,null,null,null,null,null,null,null,"Харківська","Залізничні Бірки"]
[null,null,null,null,null,null,null,null,null,null,null,null,null,null,null,null,null,null,null,null,null,null,null,null,null,null,null,null,null,null,null,null,null,null,null,null,null,null,null,null,null,null,null,null,null,"Харківська","Ізюм"]
[null,null,null,null,null,null,null,null,null,null,null,null,null,null,null,null,null,null,null,null,null,null,null,null,null,null,null,null,null,null,null,null,null,null,null,null,null,null,null,null,null,null,null,null,null,"Харківська","Кирюхи"]
[null,null,null,null,null,null,null,null,null,null,null,null,null,null,null,null,null,null,null,null,null,null,null,null,null,null,null,null,null,null,null,null,null,null,null,null,null,null,null,null,null,null,null,null,null,"Харківська","Коханівка"]
[null,null,null,null,null,null,null,null,null,null,null,null,null,null,null,null,null,null,null,null,null,null,null,null,null,null,null,null,null,null,null,null,null,null,null,null,null,null,null,null,null,null,null,null,null,"Харківська","Крутоярка"]
[null,null,null,null,null,null,null,null,null,null,null,null,null,null,null,null,null,null,null,null,null,null,null,null,null,null,null,null,null,null,null,null,null,null,null,null,null,null,null,null,null,null,null,null,null,"Харківська","Лазуківка"]
[null,null,null,null,null,null,null,null,null,null,null,null,null,null,null,null,null,null,null,null,null,null,null,null,null,null,null,null,null,null,null,null,null,null,null,null,null,null,null,null,null,null,null,null,null,"Харківська","Мануйлове"]
[null,null,null,null,null,null,null,null,null,null,null,null,null,null,null,null,null,null,null,null,null,null,null,null,null,null,null,null,null,null,null,null,null,null,null,null,null,null,null,null,null,null,null,null,null,"Харківська","Миколо-Комишувата"]
[null,null,null,null,null,null,null,null,null,null,null,null,null,null,null,null,null,null,null,null,null,null,null,null,null,null,null,null,null,null,null,null,null,null,null,null,null,null,null,null,null,null,null,null,null,"Харківська","Нова Дмитрівка"]
[null,null,null,null,null,null,null,null,null,null,null,null,null,null,null,null,null,null,null,null,null,null,null,null,null,null,null,null,null,null,null,null,null,null,null,null,null,null,null,null,null,null,null,null,null,"Харківська","Новокомсомольське"]
[null,null,null,null,null,null,null,null,null,null,null,null,null,null,null,null,null,null,null,null,null,null,null,null,null,null,null,null,null,null,null,null,null,null,null,null,null,null,null,null,null,null,null,null,null,"Харківська","Парасковія"]
[null,null,null,null,null,null,null,null,null,null,null,null,null,null,null,null,null,null,null,null,null,null,null,null,null,null,null,null,null,null,null,null,null,null,null,null,null,null,null,null,null,null,null,null,null,"Харківська","Першотравневе (Шарівська сільрада)"]
[null,null,null,null,null,null,null,null,null,null,null,null,null,null,null,null,null,null,null,null,null,null,null,null,null,null,null,null,null,null,null,null,null,null,null,null,null,null,null,null,null,null,null,null,null,"Харківська","П'ятигірське (П’ятигірська сільська рада)"]
[null,null,null,null,null,null,null,null,null,null,null,null,null,null,null,null,null,null,null,null,null,null,null,null,null,null,null,null,null,null,null,null,null,null,null,null,null,null,null,null,null,null,null,null,null,"Харківська","Реп'яхівка"]
[null,null,null,null,null,null,null,null,null,null,null,null,null,null,null,null,null,null,null,null,null,null,null,null,null,null,null,null,null,null,null,null,null,null,null,null,null,null,null,null,null,null,null,null,null,"Харківська","Скиртяне"]
[null,null,null,null,null,null,null,null,null,null,null,null,null,null,null,null,null,null,null,null,null,null,null,null,null,null,null,null,null,null,null,null,null,null,null,null,null,null,null,null,null,null,null,null,null,"Харківська","Софіївка Перша"]
[null,null,null,null,null,null,null,null,null,null,null,null,null,null,null,null,null,null,null,null,null,null,null,null,null,null,null,null,null,null,null,null,null,null,null,null,null,null,null,null,null,null,null,null,null,"Харківська","Старовірівка"]
[null,null,null,null,null,null,null,null,null,null,null,null,null,null,null,null,null,null,null,null,null,null,null,null,null,null,null,null,null,null,null,null,null,null,null,null,null,null,null,null,null,null,null,null,null,"Харківська","Хмарівка"]
[null,null,null,null,null,null,null,null,null,null,null,null,null,null,null,null,null,null,null,null,null,null,null,null,null,null,null,null,null,null,null,null,null,null,null,null,null,null,null,null,null,null,null,null,null,"Харківська","Чепелі"]
[null,null,null,null,null,null,null,null,null,null,null,null,null,null,null,null,null,null,null,null,null,null,null,null,null,null,null,null,null,null,null,null,null,null,null,null,null,null,null,null,null,null,null,null,null,"Харківська","Шийківка"]
[null,null,null,null,null,null,null,null,null,null,null,null,null,null,null,null,null,null,null,null,null,null,null,null,null,null,null,null,null,null,null,null,null,null,null,null,null,null,null,null,null,null,null,null,null,"Харківська","Шляхове"]
[null,null,null,null,null,null,null,null,null,null,null,null,null,null,null,null,null,null,null,null,null,null,null,null,null,null,null,null,null,null,null,null,null,null,null,null,null,null,null,null,null,null,null,null,null,"Херсонська","Гостроподолянське"]
[null,null,null,null,null,null,null,null,null,null,null,null,null,null,null,null,null,null,null,null,null,null,null,null,null,null,null,null,null,null,null,null,null,null,null,null,null,null,null,null,null,null,null,null,null,"Херсонська","Залізний Порт"]
[null,null,null,null,null,null,null,null,null,null,null,null,null,null,null,null,null,null,null,null,null,null,null,null,null,null,null,null,null,null,null,null,null,null,null,null,null,null,null,null,null,null,null,null,null,"Херсонська","Козачі  Лагері"]
[null,null,null,null,null,null,null,null,null,null,null,null,null,null,null,null,null,null,null,null,null,null,null,null,null,null,null,null,null,null,null,null,null,null,null,null,null,null,null,null,null,null,null,null,null,"Херсонська","Нова Праця"]
[null,null,null,null,null,null,null,null,null,null,null,null,null,null,null,null,null,null,null,null,null,null,null,null,null,null,null,null,null,null,null,null,null,null,null,null,null,null,null,null,null,null,null,null,null,"Херсонська","Новоросійське"]
[null,null,null,null,null,null,null,null,null,null,null,null,null,null,null,null,null,null,null,null,null,null,null,null,null,null,null,null,null,null,null,null,null,null,null,null,null,null,null,null,null,null,null,null,null,"Херсонська","Пчілка"]
[null,null,null,null,null,null,null,null,null,null,null,null,null,null,null,null,null,null,null,null,null,null,null,null,null,null,null,null,null,null,null,null,null,null,null,null,null,null,null,null,null,null,null,null,null,"Херсонська","Твердомедове"]
[null,null,null,null,null,null,null,null,null,null,null,null,null,null,null,null,null,null,null,null,null,null,null,null,null,null,null,null,null,null,null,null,null,null,null,null,null,null,null,null,null,null,null,null,null,"Хмельницька","Бальківці"]
[null,null,null,null,null,null,null,null,null,null,null,null,null,null,null,null,null,null,null,null,null,null,null,null,null,null,null,null,null,null,null,null,null,null,null,null,null,null,null,null,null,null,null,null,null,"Хмельницька","Білево"]
[null,null,null,null,null,null,null,null,null,null,null,null,null,null,null,null,null,null,null,null,null,null,null,null,null,null,null,null,null,null,null,null,null,null,null,null,null,null,null,null,null,null,null,null,null,"Хмельницька","Браїлівка"]
[null,null,null,null,null,null,null,null,null,null,null,null,null,null,null,null,null,null,null,null,null,null,null,null,null,null,null,null,null,null,null,null,null,null,null,null,null,null,null,null,null,null,null,null,null,"Хмельницька","Вереміївка"]
[null,null,null,null,null,null,null,null,null,null,null,null,null,null,null,null,null,null,null,null,null,null,null,null,null,null,null,null,null,null,null,null,null,null,null,null,null,null,null,null,null,null,null,null,null,"Хмельницька","Вівсяники"]
[null,null,null,null,null,null,null,null,null,null,null,null,null,null,null,null,null,null,null,null,null,null,null,null,null,null,null,null,null,null,null,null,null,null,null,null,null,null,null,null,null,null,null,null,null,"Хмельницька","Гонорівка"]
[null,null,null,null,null,null,null,null,null,null,null,null,null,null,null,null,null,null,null,null,null,null,null,null,null,null,null,null,null,null,null,null,null,null,null,null,null,null,null,null,null,null,null,null,null,"Хмельницька","Гриців"]
[null,null,null,null,null,null,null,null,null,null,null,null,null,null,null,null,null,null,null,null,null,null,null,null,null,null,null,null,null,null,null,null,null,null,null,null,null,null,null,null,null,null,null,null,null,"Хмельницька","Дубовий Гай"]
[null,null,null,null,null,null,null,null,null,null,null,null,null,null,null,null,null,null,null,null,null,null,null,null,null,null,null,null,null,null,null,null,null,null,null,null,null,null,null,null,null,null,null,null,null,"Хмельницька","Забрід"]
[null,null,null,null,null,null,null,null,null,null,null,null,null,null,null,null,null,null,null,null,null,null,null,null,null,null,null,null,null,null,null,null,null,null,null,null,null,null,null,null,null,null,null,null,null,"Хмельницька","Івоненці"]
[null,null,null,null,null,null,null,null,null,null,null,null,null,null,null,null,null,null,null,null,null,null,null,null,null,null,null,null,null,null,null,null,null,null,null,null,null,null,null,null,null,null,null,null,null,"Хмельницька","Караїмівка (Веснянка)"]
[null,null,null,null,null,null,null,null,null,null,null,null,null,null,null,null,null,null,null,null,null,null,null,null,null,null,null,null,null,null,null,null,null,null,null,null,null,null,null,null,null,null,null,null,null,"Хмельницька","Кіпченці"]
[null,null,null,null,null,null,null,null,null,null,null,null,null,null,null,null,null,null,null,null,null,null,null,null,null,null,null,null,null,null,null,null,null,null,null,null,null,null,null,null,null,null,null,null,null,"Хмельницька","Кривачинці"]
[null,null,null,null,null,null,null,null,null,null,null,null,null,null,null,null,null,null,null,null,null,null,null,null,null,null,null,null,null,null,null,null,null,null,null,null,null,null,null,null,null,null,null,null,null,"Хмельницька","Кузьминці"]
[null,null,null,null,null,null,null,null,null,null,null,null,null,null,null,null,null,null,null,null,null,null,null,null,null,null,null,null,null,null,null,null,null,null,null,null,null,null,null,null,null,null,null,null,null,"Хмельницька","Літки"]
[null,null,null,null,null,null,null,null,null,null,null,null,null,null,null,null,null,null,null,null,null,null,null,null,null,null,null,null,null,null,null,null,null,null,null,null,null,null,null,null,null,null,null,null,null,"Хмельницька","Майдан Карачієвецький"]
[null,null,null,null,null,null,null,null,null,null,null,null,null,null,null,null,null,null,null,null,null,null,null,null,null,null,null,null,null,null,null,null,null,null,null,null,null,null,null,null,null,null,null,null,null,"Хмельницька","Медисівка"]
[null,null,null,null,null,null,null,null,null,null,null,null,null,null,null,null,null,null,null,null,null,null,null,null,null,null,null,null,null,null,null,null,null,null,null,null,null,null,null,null,null,null,null,null,null,"Хмельницька","Михайлючка"]
[null,null,null,null,null,null,null,null,null,null,null,null,null,null,null,null,null,null,null,null,null,null,null,null,null,null,null,null,null,null,null,null,null,null,null,null,null,null,null,null,null,null,null,null,null,"Хмельницька","Нова Пісочна"]
[null,null,null,null,null,null,null,null,null,null,null,null,null,null,null,null,null,null,null,null,null,null,null,null,null,null,null,null,null,null,null,null,null,null,null,null,null,null,null,null,null,null,null,null,null,"Хмельницька","Остапківці"]
[null,null,null,null,null,null,null,null,null,null,null,null,null,null,null,null,null,null,null,null,null,null,null,null,null,null,null,null,null,null,null,null,null,null,null,null,null,null,null,null,null,null,null,null,null,"Хмельницька","Пашуки (Хоровецька сільська Рада)"]
[null,null,null,null,null,null,null,null,null,null,null,null,null,null,null,null,null,null,null,null,null,null,null,null,null,null,null,null,null,null,null,null,null,null,null,null,null,null,null,null,null,null,null,null,null,"Хмельницька","Постолівка"]
[null,null,null,null,null,null,null,null,null,null,null,null,null,null,null,null,null,null,null,null,null,null,null,null,null,null,null,null,null,null,null,null,null,null,null,null,null,null,null,null,null,null,null,null,null,"Хмельницька","Радівці"]
[null,null,null,null,null,null,null,null,null,null,null,null,null,null,null,null,null,null,null,null,null,null,null,null,null,null,null,null,null,null,null,null,null,null,null,null,null,null,null,null,null,null,null,null,null,"Хмельницька","Семенів"]
[null,null,null,null,null,null,null,null,null,null,null,null,null,null,null,null,null,null,null,null,null,null,null,null,null,null,null,null,null,null,null,null,null,null,null,null,null,null,null,null,null,null,null,null,null,"Хмельницька","Случ"]
[null,null,null,null,null,null,null,null,null,null,null,null,null,null,null,null,null,null,null,null,null,null,null,null,null,null,null,null,null,null,null,null,null,null,null,null,null,null,null,null,null,null,null,null,null,"Хмельницька","Степок (Самчики)"]
[null,null,null,null,null,null,null,null,null,null,null,null,null,null,null,null,null,null,null,null,null,null,null,null,null,null,null,null,null,null,null,null,null,null,null,null,null,null,null,null,null,null,null,null,null,"Хмельницька","Теліжинці"]
[null,null,null,null,null,null,null,null,null,null,null,null,null,null,null,null,null,null,null,null,null,null,null,null,null,null,null,null,null,null,null,null,null,null,null,null,null,null,null,null,null,null,null,null,null,"Хмельницька","Трительники"]
[null,null,null,null,null,null,null,null,null,null,null,null,null,null,null,null,null,null,null,null,null,null,null,null,null,null,null,null,null,null,null,null,null,null,null,null,null,null,null,null,null,null,null,null,null,"Хмельницька","Чепелівка"]
[null,null,null,null,null,null,null,null,null,null,null,null,null,null,null,null,null,null,null,null,null,null,null,null,null,null,null,null,null,null,null,null,null,null,null,null,null,null,null,null,null,null,null,null,null,"Хмельницька","Чорнокозинці (Шустовецька сільська рада)"]
[null,null,null,null,null,null,null,null,null,null,null,null,null,null,null,null,null,null,null,null,null,null,null,null,null,null,null,null,null,null,null,null,null,null,null,null,null,null,null,null,null,null,null,null,null,"Черкаська","Бабанка"]
[null,null,null,null,null,null,null,null,null,null,null,null,null,null,null,null,null,null,null,null,null,null,null,null,null,null,null,null,null,null,null,null,null,null,null,null,null,null,null,null,null,null,null,null,null,"Черкаська","Буда Горобіївська"]
[null,null,null,null,null,null,null,null,null,null,null,null,null,null,null,null,null,null,null,null,null,null,null,null,null,null,null,null,null,null,null,null,null,null,null,null,null,null,null,null,null,null,null,null,null,"Черкаська","Гуляйка"]
[null,null,null,null,null,null,null,null,null,null,null,null,null,null,null,null,null,null,null,null,null,null,null,null,null,null,null,null,null,null,null,null,null,null,null,null,null,null,null,null,null,null,null,null,null,"Черкаська","Домантове"]
[null,null,null,null,null,null,null,null,null,null,null,null,null,null,null,null,null,null,null,null,null,null,null,null,null,null,null,null,null,null,null,null,null,null,null,null,null,null,null,null,null,null,null,null,null,"Черкаська","Ковтунівка (Остапівська сільська  рада)"]
[null,null,null,null,null,null,null,null,null,null,null,null,null,null,null,null,null,null,null,null,null,null,null,null,null,null,null,null,null,null,null,null,null,null,null,null,null,null,null,null,null,null,null,null,null,"Черкаська","Коробівка"]
[null,null,null,null,null,null,null,null,null,null,null,null,null,null,null,null,null,null,null,null,null,null,null,null,null,null,null,null,null,null,null,null,null,null,null,null,null,null,null,null,null,null,null,null,null,"Черкаська","Межигірка"]
[null,null,null,null,null,null,null,null,null,null,null,null,null,null,null,null,null,null,null,null,null,null,null,null,null,null,null,null,null,null,null,null,null,null,null,null,null,null,null,null,null,null,null,null,null,"Черкаська","Нова Павлівка"]
[null,null,null,null,null,null,null,null,null,null,null,null,null,null,null,null,null,null,null,null,null,null,null,null,null,null,null,null,null,null,null,null,null,null,null,null,null,null,null,null,null,null,null,null,null,"Черкаська","Павлівка Перша"]
[null,null,null,null,null,null,null,null,null,null,null,null,null,null,null,null,null,null,null,null,null,null,null,null,null,null,null,null,null,null,null,null,null,null,null,null,null,null,null,null,null,null,null,null,null,"Черкаська","Санжариха"]
[null,null,null,null,null,null,null,null,null,null,null,null,null,null,null,null,null,null,null,null,null,null,null,null,null,null,null,null,null,null,null,null,null,null,null,null,null,null,null,null,null,null,null,null,null,"Черкаська","Скрипчинці"]
[null,null,null,null,null,null,null,null,null,null,null,null,null,null,null,null,null,null,null,null,null,null,null,null,null,null,null,null,null,null,null,null,null,null,null,null,null,null,null,null,null,null,null,null,null,"Черкаська","Халаїдове"]
[null,null,null,null,null,null,null,null,null,null,null,null,null,null,null,null,null,null,null,null,null,null,null,null,null,null,null,null,null,null,null,null,null,null,null,null,null,null,null,null,null,null,null,null,null,"Черкаська","Чеснопіль"]
[null,null,null,null,null,null,null,null,null,null,null,null,null,null,null,null,null,null,null,null,null,null,null,null,null,null,null,null,null,null,null,null,null,null,null,null,null,null,null,null,null,null,null,null,null,"Чернівецька","Буденець"]
[null,null,null,null,null,null,null,null,null,null,null,null,null,null,null,null,null,null,null,null,null,null,null,null,null,null,null,null,null,null,null,null,null,null,null,null,null,null,null,null,null,null,null,null,null,"Чернівецька","Велика Буда"]
[null,null,null,null,null,null,null,null,null,null,null,null,null,null,null,null,null,null,null,null,null,null,null,null,null,null,null,null,null,null,null,null,null,null,null,null,null,null,null,null,null,null,null,null,null,"Чернівецька","Горбова"]
[null,null,null,null,null,null,null,null,null,null,null,null,null,null,null,null,null,null,null,null,null,null,null,null,null,null,null,null,null,null,null,null,null,null,null,null,null,null,null,null,null,null,null,null,null,"Чернівецька","Корнешти"]
[null,null,null,null,null,null,null,null,null,null,null,null,null,null,null,null,null,null,null,null,null,null,null,null,null,null,null,null,null,null,null,null,null,null,null,null,null,null,null,null,null,null,null,null,null,"Чернівецька","Лукачівка"]
[null,null,null,null,null,null,null,null,null,null,null,null,null,null,null,null,null,null,null,null,null,null,null,null,null,null,null,null,null,null,null,null,null,null,null,null,null,null,null,null,null,null,null,null,null,"Чернівецька","Ошихліби"]
[null,null,null,null,null,null,null,null,null,null,null,null,null,null,null,null,null,null,null,null,null,null,null,null,null,null,null,null,null,null,null,null,null,null,null,null,null,null,null,null,null,null,null,null,null,"Чернівецька","Припруття"]
[null,null,null,null,null,null,null,null,null,null,null,null,null,null,null,null,null,null,null,null,null,null,null,null,null,null,null,null,null,null,null,null,null,null,null,null,null,null,null,null,null,null,null,null,null,"Чернівецька","Тарасівці"]
[null,null,null,null,null,null,null,null,null,null,null,null,null,null,null,null,null,null,null,null,null,null,null,null,null,null,null,null,null,null,null,null,null,null,null,null,null,null,null,null,null,null,null,null,null,"Чернівецька","Южинець"]
[null,null,null,null,null,null,null,null,null,null,null,null,null,null,null,null,null,null,null,null,null,null,null,null,null,null,null,null,null,null,null,null,null,null,null,null,null,null,null,null,null,null,null,null,null,"Чернігівська","Бережівка"]
[null,null,null,null,null,null,null,null,null,null,null,null,null,null,null,null,null,null,null,null,null,null,null,null,null,null,null,null,null,null,null,null,null,null,null,null,null,null,null,null,null,null,null,null,null,"Чернігівська","Велика Дорога"]
[null,null,null,null,null,null,null,null,null,null,null,null,null,null,null,null,null,null,null,null,null,null,null,null,null,null,null,null,null,null,null,null,null,null,null,null,null,null,null,null,null,null,null,null,null,"Чернігівська","Вильчики"]
[null,null,null,null,null,null,null,null,null,null,null,null,null,null,null,null,null,null,null,null,null,null,null,null,null,null,null,null,null,null,null,null,null,null,null,null,null,null,null,null,null,null,null,null,null,"Чернігівська","Данівка"]
[null,null,null,null,null,null,null,null,null,null,null,null,null,null,null,null,null,null,null,null,null,null,null,null,null,null,null,null,null,null,null,null,null,null,null,null,null,null,null,null,null,null,null,null,null,"Чернігівська","Дробишів"]
[null,null,null,null,null,null,null,null,null,null,null,null,null,null,null,null,null,null,null,null,null,null,null,null,null,null,null,null,null,null,null,null,null,null,null,null,null,null,null,null,null,null,null,null,null,"Чернігівська","Закревське"]
[null,null,null,null,null,null,null,null,null,null,null,null,null,null,null,null,null,null,null,null,null,null,null,null,null,null,null,null,null,null,null,null,null,null,null,null,null,null,null,null,null,null,null,null,null,"Чернігівська","Клипин"]
[null,null,null,null,null,null,null,null,null,null,null,null,null,null,null,null,null,null,null,null,null,null,null,null,null,null,null,null,null,null,null,null,null,null,null,null,null,null,null,null,null,null,null,null,null,"Чернігівська","Кугуки"]
[null,null,null,null,null,null,null,null,null,null,null,null,null,null,null,null,null,null,null,null,null,null,null,null,null,null,null,null,null,null,null,null,null,null,null,null,null,null,null,null,null,null,null,null,null,"Чернігівська","Ладинка"]
[null,null,null,null,null,null,null,null,null,null,null,null,null,null,null,null,null,null,null,null,null,null,null,null,null,null,null,null,null,null,null,null,null,null,null,null,null,null,null,null,null,null,null,null,null,"Чернігівська","Лісконоги"]
[null,null,null,null,null,null,null,null,null,null,null,null,null,null,null,null,null,null,null,null,null,null,null,null,null,null,null,null,null,null,null,null,null,null,null,null,null,null,null,null,null,null,null,null,null,"Чернігівська","Мезин"]
[null,null,null,null,null,null,null,null,null,null,null,null,null,null,null,null,null,null,null,null,null,null,null,null,null,null,null,null,null,null,null,null,null,null,null,null,null,null,null,null,null,null,null,null,null,"Чернігівська","Мурав'ї"]
[null,null,null,null,null,null,null,null,null,null,null,null,null,null,null,null,null,null,null,null,null,null,null,null,null,null,null,null,null,null,null,null,null,null,null,null,null,null,null,null,null,null,null,null,null,"Чернігівська","Остер"]
[null,null,null,null,null,null,null,null,null,null,null,null,null,null,null,null,null,null,null,null,null,null,null,null,null,null,null,null,null,null,null,null,null,null,null,null,null,null,null,null,null,null,null,null,null,"Чернігівська","Пересаж"]
[null,null,null,null,null,null,null,null,null,null,null,null,null,null,null,null,null,null,null,null,null,null,null,null,null,null,null,null,null,null,null,null,null,null,null,null,null,null,null,null,null,null,null,null,null,"Чернігівська","Радуль"]
[null,null,null,null,null,null,null,null,null,null,null,null,null,null,null,null,null,null,null,null,null,null,null,null,null,null,null,null,null,null,null,null,null,null,null,null,null,null,null,null,null,null,null,null,null,"Чернігівська","Роїще"]
[null,null,null,null,null,null,null,null,null,null,null,null,null,null,null,null,null,null,null,null,null,null,null,null,null,null,null,null,null,null,null,null,null,null,null,null,null,null,null,null,null,null,null,null,null,"Чернігівська","Сезьки"]
[null,null,null,null,null,null,null,null,null,null,null,null,null,null,null,null,null,null,null,null,null,null,null,null,null,null,null,null,null,null,null,null,null,null,null,null,null,null,null,null,null,null,null,null,null,"Чернігівська","Степанівське"]
[null,null,null,null,null,null,null,null,null,null,null,null,null,null,null,null,null,null,null,null,null,null,null,null,null,null,null,null,null,null,null,null,null,null,null,null,null,null,null,null,null,null,null,null,null,"Чернігівська","Тамарівка"]
[null,null,null,null,null,null,null,null,null,null,null,null,null,null,null,null,null,null,null,null,null,null,null,null,null,null,null,null,null,null,null,null,null,null,null,null,null,null,null,null,null,null,null,null,null,"Чернігівська","Тараса Шевченка"]
[null,null,null,null,null,null,null,null,null,null,null,null,null,null,null,null,null,null,null,null,null,null,null,null,null,null,null,null,null,null,null,null,null,null,null,null,null,null,null,null,null,null,null,null,null,"Чернігівська","Тарасів"]
[null,null,null,null,null,null,null,null,null,null,null,null,null,null,null,null,null,null,null,null,null,null,null,null,null,null,null,null,null,null,null,null,null,null,null,null,null,null,null,null,null,null,null,null,null,"Чернігівська","Тасуїв"]
[null,null,null,null,null,null,null,null,null,null,null,null,null,null,null,null,null,null,null,null,null,null,null,null,null,null,null,null,null,null,null,null,null,null,null,null,null,null,null,null,null,null,null,null,null,"Чернігівська","Татарівка"]
[null,null,null,null,null,null,null,null,null,null,null,null,null,null,null,null,null,null,null,null,null,null,null,null,null,null,null,null,null,null,null,null,null,null,null,null,null,null,null,null,null,null,null,null,null,"Чернігівська","Тельне"]
[null,null,null,null,null,null,null,null,null,null,null,null,null,null,null,null,null,null,null,null,null,null,null,null,null,null,null,null,null,null,null,null,null,null,null,null,null,null,null,null,null,null,null,null,null,"Чернігівська","Терехівка"]
[null,null,null,null,null,null,null,null,null,null,null,null,null,null,null,null,null,null,null,null,null,null,null,null,null,null,null,null,null,null,null,null,null,null,null,null,null,null,null,null,null,null,null,null,null,"Чернігівська","Терешиха"]
[null,null,null,null,null,null,null,null,null,null,null,null,null,null,null,null,null,null,null,null,null,null,null,null,null,null,null,null,null,null,null,null,null,null,null,null,null,null,null,null,null,null,null,null,null,"Чернігівська","Тертишники"]
[null,null,null,null,null,null,null,null,null,null,null,null,null,null,null,null,null,null,null,null,null,null,null,null,null,null,null,null,null,null,null,null,null,null,null,null,null,null,null,null,null,null,null,null,null,"Чернігівська","Тимоновичі"]
[null,null,null,null,null,null,null,null,null,null,null,null,null,null,null,null,null,null,null,null,null,null,null,null,null,null,null,null,null,null,null,null,null,null,null,null,null,null,null,null,null,null,null,null,null,"Чернігівська","Тиниця"]
[null,null,null,null,null,null,null,null,null,null,null,null,null,null,null,null,null,null,null,null,null,null,null,null,null,null,null,null,null,null,null,null,null,null,null,null,null,null,null,null,null,null,null,null,null,"Чернігівська","Титівка"]
[null,null,null,null,null,null,null,null,null,null,null,null,null,null,null,null,null,null,null,null,null,null,null,null,null,null,null,null,null,null,null,null,null,null,null,null,null,null,null,null,null,null,null,null,null,"Чернігівська","Тихонівське"]
[null,null,null,null,null,null,null,null,null,null,null,null,null,null,null,null,null,null,null,null,null,null,null,null,null,null,null,null,null,null,null,null,null,null,null,null,null,null,null,null,null,null,null,null,null,"Чернігівська","Тихоновичі"]
[null,null,null,null,null,null,null,null,null,null,null,null,null,null,null,null,null,null,null,null,null,null,null,null,null,null,null,null,null,null,null,null,null,null,null,null,null,null,null,null,null,null,null,null,null,"Чернігівська","Товкачівка"]
[null,null,null,null,null,null,null,null,null,null,null,null,null,null,null,null,null,null,null,null,null,null,null,null,null,null,null,null,null,null,null,null,null,null,null,null,null,null,null,null,null,null,null,null,null,"Чернігівська","Товстоліс"]
[null,null,null,null,null,null,null,null,null,null,null,null,null,null,null,null,null,null,null,null,null,null,null,null,null,null,null,null,null,null,null,null,null,null,null,null,null,null,null,null,null,null,null,null,null,"Чернігівська","Тонка"]
[null,null,null,null,null,null,null,null,null,null,null,null,null,null,null,null,null,null,null,null,null,null,null,null,null,null,null,null,null,null,null,null,null,null,null,null,null,null,null,null,null,null,null,null,null,"Чернігівська","Топчіївка"]
[null,null,null,null,null,null,null,null,null,null,null,null,null,null,null,null,null,null,null,null,null,null,null,null,null,null,null,null,null,null,null,null,null,null,null,null,null,null,null,null,null,null,null,null,null,"Чернігівська","Точене"]
[null,null,null,null,null,null,null,null,null,null,null,null,null,null,null,null,null,null,null,null,null,null,null,null,null,null,null,null,null,null,null,null,null,null,null,null,null,null,null,null,null,null,null,null,null,"Чернігівська","Травкине"]
[null,null,null,null,null,null,null,null,null,null,null,null,null,null,null,null,null,null,null,null,null,null,null,null,null,null,null,null,null,null,null,null,null,null,null,null,null,null,null,null,null,null,null,null,null,"Чернігівська","Тужар"]
[null,null,null,null,null,null,null,null,null,null,null,null,null,null,null,null,null,null,null,null,null,null,null,null,null,null,null,null,null,null,null,null,null,null,null,null,null,null,null,null,null,null,null,null,null,"Чернігівська","Тулія"]
[null,null,null,null,null,null,null,null,null,null,null,null,null,null,null,null,null,null,null,null,null,null,null,null,null,null,null,null,null,null,null,null,null,null,null,null,null,null,null,null,null,null,null,null,null,"Чернігівська","Туманська Гута"]
[null,null,null,null,null,null,null,null,null,null,null,null,null,null,null,null,null,null,null,null,null,null,null,null,null,null,null,null,null,null,null,null,null,null,null,null,null,null,null,null,null,null,null,null,null,"Чернігівська","Тупичів"]
[null,null,null,null,null,null,null,null,null,null,null,null,null,null,null,null,null,null,null,null,null,null,null,null,null,null,null,null,null,null,null,null,null,null,null,null,null,null,null,null,null,null,null,null,null,"Чернігівська","Турківка"]
[null,null,null,null,null,null,null,null,null,null,null,null,null,null,null,null,null,null,null,null,null,null,null,null,null,null,null,null,null,null,null,null,null,null,null,null,null,null,null,null,null,null,null,null,null,"Чернігівська","Тютюнниця"]
[null,null,null,null,null,null,null,null,null,null,null,null,null,null,null,null,null,null,null,null,null,null,null,null,null,null,null,null,null,null,null,null,null,null,null,null,null,null,null,null,null,null,null,null,null,"Чернігівська","Убіжичі"]
[null,null,null,null,null,null,null,null,null,null,null,null,null,null,null,null,null,null,null,null,null,null,null,null,null,null,null,null,null,null,null,null,null,null,null,null,null,null,null,null,null,null,null,null,null,"Чернігівська","Уборки"]
[null,null,null,null,null,null,null,null,null,null,null,null,null,null,null,null,null,null,null,null,null,null,null,null,null,null,null,null,null,null,null,null,null,null,null,null,null,null,null,null,null,null,null,null,null,"Чернігівська","Углова Рудня"]
[null,null,null,null,null,null,null,null,null,null,null,null,null,null,null,null,null,null,null,null,null,null,null,null,null,null,null,null,null,null,null,null,null,null,null,null,null,null,null,null,null,null,null,null,null,"Чернігівська","Удайці"]
[null,null,null,null,null,null,null,null,null,null,null,null,null,null,null,null,null,null,null,null,null,null,null,null,null,null,null,null,null,null,null,null,null,null,null,null,null,null,null,null,null,null,null,null,null,"Чернігівська","Узруй"]
[null,null,null,null,null,null,null,null,null,null,null,null,null,null,null,null,null,null,null,null,null,null,null,null,null,null,null,null,null,null,null,null,null,null,null,null,null,null,null,null,null,null,null,null,null,"Чернігівська","Українське (курінська)"]
[null,null,null,null,null,null,null,null,null,null,null,null,null,null,null,null,null,null,null,null,null,null,null,null,null,null,null,null,null,null,null,null,null,null,null,null,null,null,null,null,null,null,null,null,null,"Чернігівська","Унучки"]
[null,null,null,null,null,null,null,null,null,null,null,null,null,null,null,null,null,null,null,null,null,null,null,null,null,null,null,null,null,null,null,null,null,null,null,null,null,null,null,null,null,null,null,null,null,"Чернігівська","Ушівка"]
[null,null,null,null,null,null,null,null,null,null,null,null,null,null,null,null,null,null,null,null,null,null,null,null,null,null,null,null,null,null,null,null,null,null,null,null,null,null,null,null,null,null,null,null,null,"Чернігівська","Фаївка"]
[null,null,null,null,null,null,null,null,null,null,null,null,null,null,null,null,null,null,null,null,null,null,null,null,null,null,null,null,null,null,null,null,null,null,null,null,null,null,null,null,null,null,null,null,null,"Чернігівська","Фастівці"]
[null,null,null,null,null,null,null,null,null,null,null,null,null,null,null,null,null,null,null,null,null,null,null,null,null,null,null,null,null,null,null,null,null,null,null,null,null,null,null,null,null,null,null,null,null,"Чернігівська","Ферубки"]
[null,null,null,null,null,null,null,null,null,null,null,null,null,null,null,null,null,null,null,null,null,null,null,null,null,null,null,null,null,null,null,null,null,null,null,null,null,null,null,null,null,null,null,null,null,"Чернігівська","Феськівка"]
[null,null,null,null,null,null,null,null,null,null,null,null,null,null,null,null,null,null,null,null,null,null,null,null,null,null,null,null,null,null,null,null,null,null,null,null,null,null,null,null,null,null,null,null,null,"Чернігівська","Філонівка"]
[null,null,null,null,null,null,null,null,null,null,null,null,null,null,null,null,null,null,null,null,null,null,null,null,null,null,null,null,null,null,null,null,null,null,null,null,null,null,null,null,null,null,null,null,null,"Чернігівська","Форостовичі"]
[null,null,null,null,null,null,null,null,null,null,null,null,null,null,null,null,null,null,null,null,null,null,null,null,null,null,null,null,null,null,null,null,null,null,null,null,null,null,null,null,null,null,null,null,null,"Чернігівська","Фурсове"]
[null,null,null,null,null,null,null,null,null,null,null,null,null,null,null,null,null,null,null,null,null,null,null,null,null,null,null,null,null,null,null,null,null,null,null,null,null,null,null,null,null,null,null,null,null,"Чернігівська","Хаєнки"]
[null,null,null,null,null,null,null,null,null,null,null,null,null,null,null,null,null,null,null,null,null,null,null,null,null,null,null,null,null,null,null,null,null,null,null,null,null,null,null,null,null,null,null,null,null,"Чернігівська","Хаїха"]
[null,null,null,null,null,null,null,null,null,null,null,null,null,null,null,null,null,null,null,null,null,null,null,null,null,null,null,null,null,null,null,null,null,null,null,null,null,null,null,null,null,null,null,null,null,"Чернігівська","Халимонове"]
[null,null,null,null,null,null,null,null,null,null,null,null,null,null,null,null,null,null,null,null,null,null,null,null,null,null,null,null,null,null,null,null,null,null,null,null,null,null,null,null,null,null,null,null,null,"Чернігівська","Халявин"]
[null,null,null,null,null,null,null,null,null,null,null,null,null,null,null,null,null,null,null,null,null,null,null,null,null,null,null,null,null,null,null,null,null,null,null,null,null,null,null,null,null,null,null,null,null,"Чернігівська","Хатилова Гута"]
[null,null,null,null,null,null,null,null,null,null,null,null,null,null,null,null,null,null,null,null,null,null,null,null,null,null,null,null,null,null,null,null,null,null,null,null,null,null,null,null,null,null,null,null,null,"Чернігівська","Хвилівка"]
[null,null,null,null,null,null,null,null,null,null,null,null,null,null,null,null,null,null,null,null,null,null,null,null,null,null,null,null,null,null,null,null,null,null,null,null,null,null,null,null,null,null,null,null,null,"Чернігівська","Хибалівка"]
[null,null,null,null,null,null,null,null,null,null,null,null,null,null,null,null,null,null,null,null,null,null,null,null,null,null,null,null,null,null,null,null,null,null,null,null,null,null,null,null,null,null,null,null,null,"Чернігівська","Хлоп'яники"]
[null,null,null,null,null,null,null,null,null,null,null,null,null,null,null,null,null,null,null,null,null,null,null,null,null,null,null,null,null,null,null,null,null,null,null,null,null,null,null,null,null,null,null,null,null,"Чернігівська","Хмільниця"]
[null,null,null,null,null,null,null,null,null,null,null,null,null,null,null,null,null,null,null,null,null,null,null,null,null,null,null,null,null,null,null,null,null,null,null,null,null,null,null,null,null,null,null,null,null,"Чернігівська","Ховдіївка"]
[null,null,null,null,null,null,null,null,null,null,null,null,null,null,null,null,null,null,null,null,null,null,null,null,null,null,null,null,null,null,null,null,null,null,null,null,null,null,null,null,null,null,null,null,null,"Чернігівська","Ховми"]
[null,null,null,null,null,null,null,null,null,null,null,null,null,null,null,null,null,null,null,null,null,null,null,null,null,null,null,null,null,null,null,null,null,null,null,null,null,null,null,null,null,null,null,null,null,"Чернігівська","Холми"]
[null,null,null,null,null,null,null,null,null,null,null,null,null,null,null,null,null,null,null,null,null,null,null,null,null,null,null,null,null,null,null,null,null,null,null,null,null,null,null,null,null,null,null,null,null,"Чернігівська","Холявки"]
[null,null,null,null,null,null,null,null,null,null,null,null,null,null,null,null,null,null,null,null,null,null,null,null,null,null,null,null,null,null,null,null,null,null,null,null,null,null,null,null,null,null,null,null,null,"Чернігівська","Хоробичі"]
[null,null,null,null,null,null,null,null,null,null,null,null,null,null,null,null,null,null,null,null,null,null,null,null,null,null,null,null,null,null,null,null,null,null,null,null,null,null,null,null,null,null,null,null,null,"Чернігівська","Хороше Озеро"]
[null,null,null,null,null,null,null,null,null,null,null,null,null,null,null,null,null,null,null,null,null,null,null,null,null,null,null,null,null,null,null,null,null,null,null,null,null,null,null,null,null,null,null,null,null,"Чернігівська","Хотівля"]
[null,null,null,null,null,null,null,null,null,null,null,null,null,null,null,null,null,null,null,null,null,null,null,null,null,null,null,null,null,null,null,null,null,null,null,null,null,null,null,null,null,null,null,null,null,"Чернігівська","Хотіївка"]
[null,null,null,null,null,null,null,null,null,null,null,null,null,null,null,null,null,null,null,null,null,null,null,null,null,null,null,null,null,null,null,null,null,null,null,null,null,null,null,null,null,null,null,null,null,"Чернігівська","Хотуничі"]
[null,null,null,null,null,null,null,null,null,null,null,null,null,null,null,null,null,null,null,null,null,null,null,null,null,null,null,null,null,null,null,null,null,null,null,null,null,null,null,null,null,null,null,null,null,"Чернігівська","Храпате"]
[null,null,null,null,null,null,null,null,null,null,null,null,null,null,null,null,null,null,null,null,null,null,null,null,null,null,null,null,null,null,null,null,null,null,null,null,null,null,null,null,null,null,null,null,null,"Чернігівська","Хрипівка"]
[null,null,null,null,null,null,null,null,null,null,null,null,null,null,null,null,null,null,null,null,null,null,null,null,null,null,null,null,null,null,null,null,null,null,null,null,null,null,null,null,null,null,null,null,null,"Чернігівська","Хрінівка"]
[null,null,null,null,null,null,null,null,null,null,null,null,null,null,null,null,null,null,null,null,null,null,null,null,null,null,null,null,null,null,null,null,null,null,null,null,null,null,null,null,null,null,null,null,null,"Чернігівська","Хукалівка"]
[null,null,null,null,null,null,null,null,null,null,null,null,null,null,null,null,null,null,null,null,null,null,null,null,null,null,null,null,null,null,null,null,null,null,null,null,null,null,null,null,null,null,null,null,null,"Чернігівська","Часнівці"]
[null,null,null,null,null,null,null,null,null,null,null,null,null,null,null,null,null,null,null,null,null,null,null,null,null,null,null,null,null,null,null,null,null,null,null,null,null,null,null,null,null,null,null,null,null,"Чернігівська","Чемер"]
[null,null,null,null,null,null,null,null,null,null,null,null,null,null,null,null,null,null,null,null,null,null,null,null,null,null,null,null,null,null,null,null,null,null,null,null,null,null,null,null,null,null,null,null,null,"Чернігівська","Ченчики"]
[null,null,null,null,null,null,null,null,null,null,null,null,null,null,null,null,null,null,null,null,null,null,null,null,null,null,null,null,null,null,null,null,null,null,null,null,null,null,null,null,null,null,null,null,null,"Чернігівська","Чепелів"]
[null,null,null,null,null,null,null,null,null,null,null,null,null,null,null,null,null,null,null,null,null,null,null,null,null,null,null,null,null,null,null,null,null,null,null,null,null,null,null,null,null,null,null,null,null,"Чернігівська","Червона Буда"]
[null,null,null,null,null,null,null,null,null,null,null,null,null,null,null,null,null,null,null,null,null,null,null,null,null,null,null,null,null,null,null,null,null,null,null,null,null,null,null,null,null,null,null,null,null,"Чернігівська","Червона Гута"]
[null,null,null,null,null,null,null,null,null,null,null,null,null,null,null,null,null,null,null,null,null,null,null,null,null,null,null,null,null,null,null,null,null,null,null,null,null,null,null,null,null,null,null,null,null,"Чернігівська","Червона Україна"]
[null,null,null,null,null,null,null,null,null,null,null,null,null,null,null,null,null,null,null,null,null,null,null,null,null,null,null,null,null,null,null,null,null,null,null,null,null,null,null,null,null,null,null,null,null,"Чернігівська","Червоний Гай"]
[null,null,null,null,null,null,null,null,null,null,null,null,null,null,null,null,null,null,null,null,null,null,null,null,null,null,null,null,null,null,null,null,null,null,null,null,null,null,null,null,null,null,null,null,null,"Чернігівська","Червоний Довжик"]
[null,null,null,null,null,null,null,null,null,null,null,null,null,null,null,null,null,null,null,null,null,null,null,null,null,null,null,null,null,null,null,null,null,null,null,null,null,null,null,null,null,null,null,null,null,"Чернігівська","Червоний Колодязь"]
[null,null,null,null,null,null,null,null,null,null,null,null,null,null,null,null,null,null,null,null,null,null,null,null,null,null,null,null,null,null,null,null,null,null,null,null,null,null,null,null,null,null,null,null,null,"Чернігівська","Червоний Остер"]
[null,null,null,null,null,null,null,null,null,null,null,null,null,null,null,null,null,null,null,null,null,null,null,null,null,null,null,null,null,null,null,null,null,null,null,null,null,null,null,null,null,null,null,null,null,"Чернігівська","Червоний Пахар"]
[null,null,null,null,null,null,null,null,null,null,null,null,null,null,null,null,null,null,null,null,null,null,null,null,null,null,null,null,null,null,null,null,null,null,null,null,null,null,null,null,null,null,null,null,null,"Чернігівська","Червоний Плугатор"]
[null,null,null,null,null,null,null,null,null,null,null,null,null,null,null,null,null,null,null,null,null,null,null,null,null,null,null,null,null,null,null,null,null,null,null,null,null,null,null,null,null,null,null,null,null,"Чернігівська","Червоний Шлях"]
[null,null,null,null,null,null,null,null,null,null,null,null,null,null,null,null,null,null,null,null,null,null,null,null,null,null,null,null,null,null,null,null,null,null,null,null,null,null,null,null,null,null,null,null,null,"Чернігівська","Червоні Гори"]
[null,null,null,null,null,null,null,null,null,null,null,null,null,null,null,null,null,null,null,null,null,null,null,null,null,null,null,null,null,null,null,null,null,null,null,null,null,null,null,null,null,null,null,null,null,"Чернігівська","Червоні Партизани"]
[null,null,null,null,null,null,null,null,null,null,null,null,null,null,null,null,null,null,null,null,null,null,null,null,null,null,null,null,null,null,null,null,null,null,null,null,null,null,null,null,null,null,null,null,null,"Чернігівська","Черецьке"]
[null,null,null,null,null,null,null,null,null,null,null,null,null,null,null,null,null,null,null,null,null,null,null,null,null,null,null,null,null,null,null,null,null,null,null,null,null,null,null,null,null,null,null,null,null,"Чернігівська","Черниш"]
[null,null,null,null,null,null,null,null,null,null,null,null,null,null,null,null,null,null,null,null,null,null,null,null,null,null,null,null,null,null,null,null,null,null,null,null,null,null,null,null,null,null,null,null,null,"Чернігівська","Чернігів"]
[null,null,null,null,null,null,null,null,null,null,null,null,null,null,null,null,null,null,null,null,null,null,null,null,null,null,null,null,null,null,null,null,null,null,null,null,null,null,null,null,null,null,null,null,null,"Чернігівська","Чисті Лужи"]
[null,null,null,null,null,null,null,null,null,null,null,null,null,null,null,null,null,null,null,null,null,null,null,null,null,null,null,null,null,null,null,null,null,null,null,null,null,null,null,null,null,null,null,null,null,"Чернігівська","Чорний Ріг"]
[null,null,null,null,null,null,null,null,null,null,null,null,null,null,null,null,null,null,null,null,null,null,null,null,null,null,null,null,null,null,null,null,null,null,null,null,null,null,null,null,null,null,null,null,null,"Чернігівська","Чорногорці"]
[null,null,null,null,null,null,null,null,null,null,null,null,null,null,null,null,null,null,null,null,null,null,null,null,null,null,null,null,null,null,null,null,null,null,null,null,null,null,null,null,null,null,null,null,null,"Чернігівська","Чорнозем"]
[null,null,null,null,null,null,null,null,null,null,null,null,null,null,null,null,null,null,null,null,null,null,null,null,null,null,null,null,null,null,null,null,null,null,null,null,null,null,null,null,null,null,null,null,null,"Чернігівська","Чорнотичі"]
[null,null,null,null,null,null,null,null,null,null,null,null,null,null,null,null,null,null,null,null,null,null,null,null,null,null,null,null,null,null,null,null,null,null,null,null,null,null,null,null,null,null,null,null,null,"Чернігівська","Чудівка"]
[null,null,null,null,null,null,null,null,null,null,null,null,null,null,null,null,null,null,null,null,null,null,null,null,null,null,null,null,null,null,null,null,null,null,null,null,null,null,null,null,null,null,null,null,null,"Чернігівська","Чулатів"]
[null,null,null,null,null,null,null,null,null,null,null,null,null,null,null,null,null,null,null,null,null,null,null,null,null,null,null,null,null,null,null,null,null,null,null,null,null,null,null,null,null,null,null,null,null,"Чернігівська","Чумак"]
[null,null,null,null,null,null,null,null,null,null,null,null,null,null,null,null,null,null,null,null,null,null,null,null,null,null,null,null,null,null,null,null,null,null,null,null,null,null,null,null,null,null,null,null,null,"Чернігівська","Шабалинів"]
[null,null,null,null,null,null,null,null,null,null,null,null,null,null,null,null,null,null,null,null,null,null,null,null,null,null,null,null,null,null,null,null,null,null,null,null,null,null,null,null,null,null,null,null,null,"Чернігівська","Шаболтасівка"]
[null,null,null,null,null,null,null,null,null,null,null,null,null,null,null,null,null,null,null,null,null,null,null,null,null,null,null,null,null,null,null,null,null,null,null,null,null,null,null,null,null,null,null,null,null,"Чернігівська","Шами"]
[null,null,null,null,null,null,null,null,null,null,null,null,null,null,null,null,null,null,null,null,null,null,null,null,null,null,null,null,null,null,null,null,null,null,null,null,null,null,null,null,null,null,null,null,null,"Чернігівська","Шапіхи"]
[null,null,null,null,null,null,null,null,null,null,null,null,null,null,null,null,null,null,null,null,null,null,null,null,null,null,null,null,null,null,null,null,null,null,null,null,null,null,null,null,null,null,null,null,null,"Чернігівська","Шатура"]
[null,null,null,null,null,null,null,null,null,null,null,null,null,null,null,null,null,null,null,null,null,null,null,null,null,null,null,null,null,null,null,null,null,null,null,null,null,null,null,null,null,null,null,null,null,"Чернігівська","Шведчина"]
[null,null,null,null,null,null,null,null,null,null,null,null,null,null,null,null,null,null,null,null,null,null,null,null,null,null,null,null,null,null,null,null,null,null,null,null,null,null,null,null,null,null,null,null,null,"Чернігівська","Шептаки"]
[null,null,null,null,null,null,null,null,null,null,null,null,null,null,null,null,null,null,null,null,null,null,null,null,null,null,null,null,null,null,null,null,null,null,null,null,null,null,null,null,null,null,null,null,null,"Чернігівська","Шестовиця"]
[null,null,null,null,null,null,null,null,null,null,null,null,null,null,null,null,null,null,null,null,null,null,null,null,null,null,null,null,null,null,null,null,null,null,null,null,null,null,null,null,null,null,null,null,null,"Чернігівська","Шибиринівка"]
[null,null,null,null,null,null,null,null,null,null,null,null,null,null,null,null,null,null,null,null,null,null,null,null,null,null,null,null,null,null,null,null,null,null,null,null,null,null,null,null,null,null,null,null,null,"Чернігівська","Шиловичі"]
[null,null,null,null,null,null,null,null,null,null,null,null,null,null,null,null,null,null,null,null,null,null,null,null,null,null,null,null,null,null,null,null,null,null,null,null,null,null,null,null,null,null,null,null,null,"Чернігівська","Шишка"]
[null,null,null,null,null,null,null,null,null,null,null,null,null,null,null,null,null,null,null,null,null,null,null,null,null,null,null,null,null,null,null,null,null,null,null,null,null,null,null,null,null,null,null,null,null,"Чернігівська","Шкробове"]
[null,null,null,null,null,null,null,null,null,null,null,null,null,null,null,null,null,null,null,null,null,null,null,null,null,null,null,null,null,null,null,null,null,null,null,null,null,null,null,null,null,null,null,null,null,"Чернігівська","Шкуранка"]
[null,null,null,null,null,null,null,null,null,null,null,null,null,null,null,null,null,null,null,null,null,null,null,null,null,null,null,null,null,null,null,null,null,null,null,null,null,null,null,null,null,null,null,null,null,"Чернігівська","Шмаївка"]
[null,null,null,null,null,null,null,null,null,null,null,null,null,null,null,null,null,null,null,null,null,null,null,null,null,null,null,null,null,null,null,null,null,null,null,null,null,null,null,null,null,null,null,null,null,"Чернігівська","Шняківка"]
[null,null,null,null,null,null,null,null,null,null,null,null,null,null,null,null,null,null,null,null,null,null,null,null,null,null,null,null,null,null,null,null,null,null,null,null,null,null,null,null,null,null,null,null,null,"Чернігівська","Шолойки"]
[null,null,null,null,null,null,null,null,null,null,null,null,null,null,null,null,null,null,null,null,null,null,null,null,null,null,null,null,null,null,null,null,null,null,null,null,null,null,null,null,null,null,null,null,null,"Чернігівська","Шпаків"]
[null,null,null,null,null,null,null,null,null,null,null,null,null,null,null,null,null,null,null,null,null,null,null,null,null,null,null,null,null,null,null,null,null,null,null,null,null,null,null,null,null,null,null,null,null,"Чернігівська","Шумани"]
[null,null,null,null,null,null,null,null,null,null,null,null,null,null,null,null,null,null,null,null,null,null,null,null,null,null,null,null,null,null,null,null,null,null,null,null,null,null,null,null,null,null,null,null,null,"Чернігівська","Шумейкине (Матіївська)"]
[null,null,null,null,null,null,null,null,null,null,null,null,null,null,null,null,null,null,null,null,null,null,null,null,null,null,null,null,null,null,null,null,null,null,null,null,null,null,null,null,null,null,null,null,null,"Чернігівська","Шумейків"]
[null,null,null,null,null,null,null,null,null,null,null,null,null,null,null,null,null,null,null,null,null,null,null,null,null,null,null,null,null,null,null,null,null,null,null,null,null,null,null,null,null,null,null,null,null,"Чернігівська","Шумин"]
[null,null,null,null,null,null,null,null,null,null,null,null,null,null,null,null,null,null,null,null,null,null,null,null,null,null,null,null,null,null,null,null,null,null,null,null,null,null,null,null,null,null,null,null,null,"Чернігівська","Щокоть"]
[null,null,null,null,null,null,null,null,null,null,null,null,null,null,null,null,null,null,null,null,null,null,null,null,null,null,null,null,null,null,null,null,null,null,null,null,null,null,null,null,null,null,null,null,null,"Чернігівська","Щорс"]
[null,null,null,null,null,null,null,null,null,null,null,null,null,null,null,null,null,null,null,null,null,null,null,null,null,null,null,null,null,null,null,null,null,null,null,null,null,null,null,null,null,null,null,null,null,"Чернігівська","Щурівка"]
[null,null,null,null,null,null,null,null,null,null,null,null,null,null,null,null,null,null,null,null,null,null,null,null,null,null,null,null,null,null,null,null,null,null,null,null,null,null,null,null,null,null,null,null,null,"Чернігівська","Щуча Гребля"]
[null,null,null,null,null,null,null,null,null,null,null,null,null,null,null,null,null,null,null,null,null,null,null,null,null,null,null,null,null,null,null,null,null,null,null,null,null,null,null,null,null,null,null,null,null,"Чернігівська","Юрківщина"]
[null,null,null,null,null,null,null,null,null,null,null,null,null,null,null,null,null,null,null,null,null,null,null,null,null,null,null,null,null,null,null,null,null,null,null,null,null,null,null,null,null,null,null,null,null,"Чернігівська","Юхнове"]
[null,null,null,null,null,null,null,null,null,null,null,null,null,null,null,null,null,null,null,null,null,null,null,null,null,null,null,null,null,null,null,null,null,null,null,null,null,null,null,null,null,null,null,null,null,"Чернігівська","Яблунівське"]
[null,null,null,null,null,null,null,null,null,null,null,null,null,null,null,null,null,null,null,null,null,null,null,null,null,null,null,null,null,null,null,null,null,null,null,null,null,null,null,null,null,null,null,null,null,"Чернігівська","Ядути"]
[null,null,null,null,null,null,null,null,null,null,null,null,null,null,null,null,null,null,null,null,null,null,null,null,null,null,null,null,null,null,null,null,null,null,null,null,null,null,null,null,null,null,null,null,null,"Чернігівська","Якличі"]
[null,null,null,null,null,null,null,null,null,null,null,null,null,null,null,null,null,null,null,null,null,null,null,null,null,null,null,null,null,null,null,null,null,null,null,null,null,null,null,null,null,null,null,null,null,"Чернігівська","Ямище"]
[null,null,null,null,null,null,null,null,null,null,null,null,null,null,null,null,null,null,null,null,null,null,null,null,null,null,null,null,null,null,null,null,null,null,null,null,null,null,null,null,null,null,null,null,null,"Чернігівська","Ярова Білещина"]
[null,null,null,null,null,null,null,null,null,null,null,null,null,null,null,null,null,null,null,null,null,null,null,null,null,null,null,null,null,null,null,null,null,null,null,null,null,null,null,null,null,null,null,null,null,"Чернігівська","Ясна Зірка"]
[null,null,null,null,null,null,null,null,null,null,null,null,null,null,null,null,null,null,null,null,null,null,null,null,null,null,null,null,null,null,null,null,null,null,null,null,null,null,null,null,null,null,null,null,null,"Чернігівська","Яськове"]
[null,null,null,null,null,null,null,null,null,null,null,null,null,null,null,null,null,null,null,null,null,null,null,null,null,null,null,null,null,null,null,null,null,null,null,null,null,null,null,null,null,null,null,null,null,"Чернігівська","Ященків"]