{"text_format":"1","workbook":"xlsx","n_sheets":7,"sheets":["1.Портфель кредитів","2.Забезпечення","3.ППР","4.журнал торгів","Група_актива","Service_menu","Hidden_Словник"],"not_rendered":{"charts":0,"images":1,"macros":1,"external_links":0,"defined_names":37,"comments":0,"pivot_tables":0},"unopened":[],"bounds":{"document_bytes":16777216,"sheet_cells":100000,"rows_first":2000,"rows_last":500,"rows_between":2000,"halvings":0,"cell_chars":16384,"cell_head_chars":4096},"cells_cut":0,"cells_raw":0,"read":"whole","date_system":"1900"}

{"sheet":"1.Портфель кредитів","index":0,"n_rows":1015,"n_cols":484,"rows_kept":1015,"cut":false,"hidden":false,"merged":[[0,3,4,13],[7,30,7,32],[7,22,7,26],[7,1,7,2],[7,3,7,5],[22,1,25,14]]}
[null,null,null,"Цей документ був підготовлений Фондом гарантування вкладів фізичних осіб (далі – Фонд) виключно для інформаційних цілей і не повинен вважатися як спонукання до будь-яких дій чи бездіяльності. \nІнформація, що міститься в цьому документі, була отримана з/або ґрунтується на джерелах, які вважаються надійними, але не є вичерпною та не може сприйматися як повна або актуальна. Зокрема, але не виключно, станом на дату придбання активів допускаються несуттєві зміни лота, в складі якого продаються такі активи. Під несуттєвими змінами лота слід розуміти такі зміни характеристик активів у складі такого лота, які впливають на його балансову вартість, але не більше ніж на 10 відсотків. Рішення покупця щодо будь-яких дій або бездіяльності повинно ґрунтуватися на власних оцінках та дослідженнях майна (активу/активів), котре реалізується. Фонд не несе відповідальності за рішення покупця та його наслідки, що ґрунтується на інформації, викладеній в даному документі.",null,null,null,null,null,null,null,null,null,null,null,null,null,null,null,null,null,null,null,null,null,null,null,null,null,null,null,null,null,null,null,null,null,null,null,null,null,null,null,null,null,null,null,null,null,null,null,null,null,null,null,null,null,null,null,null,null,null,null,null,null,null,null,null,null,null,null,null,null,null,null,null,null,null,null,null,null,null,null,null,null,null,null,null,null,null,null,null,null,null,null,null,null,null,null,null,null,null,null,null,null,null,null,null,null,null,null,null,null,null,null,null,null,null,null,null,null,null,null,null,null,null,null,null,null,null,null,null,null,null,null,null,null,null,null,null,null,null,null,null,null,null,null,null,null,null,null,null,null,null,null,null,null,null,null,null,null,null,null,null,null,null,null,null,null,null,null,null,null,null,null,null,null,null,null,null,null,null,null,null,null,null,null,null,null,null,null,null,null,null,null,null,null,null,null,null,null,null,null,null,null,null,null,null,null,null,null,null,null,null,null,null,null,null,null,null,null,null,null,null,null,null,null,null,null,null,null,null,null,null,null,null,null,null,null,null,null,null,null,null,null,null,null,null,null,null,null,null,null,null,null,null,null,null,null,null,null,null,null,null,null,null,null,null,null,null,null,null,null,null,null,null,null,null,null,null,null,null,null,null,null,null,null,null,null,null,null,null,null,null,null,null,null,null,null,null,null,null,null,null,null,null,null,null,null,null,null,null,null,null,null,null,null,null,null,null,null,null,null,null,null,null,null,null,null,null,null,null,null,null,null,null,null,null,null,null,null,null,null,null,null,null,null,null,null,null,null,null,null,null,null,null,null,null,null,null,null,null,null,null,null,null,null,null,null,null,null,null,null,null,null,null,null,null,null,null,null,null,null,null,null,null,null,null,null,null,null,null,null,null,null,null,null,null,null,null,null,null,null,null,null,null,null,null,null,null,null,null,null,null,null,null,null,null,null,null,null,null,null,null,null,null,null,null,null,null,null,null,null,null,null,null,null,null,null,null,null,null,null,null,null,null,null,null,null,null,null,null,null,null,null,null,null,null,null,null,null,null,null,null,null,null,null,null,null,null,null,null,null,null,null,null,null,null,null,null,null,null,null,"2029-11-09"]
[]
[]
[]
[]
[]
[":","2021-05-01",null,null,null,null,null,null,null,null,null,null,null,null,null,null,null,null,null,null,null,{"$f":"SUM(V10:V1048576)","v":1696085.33},476348672.38,476348672.38,476348672.38,0,0,null,{"$f":"SUM(AC10:AC1048576)","v":0}]
[null,"Загальні дані",null,null,null,null,"Характеристика активу / фактори впливу",null,null,null,null,null,null,null,null,null,null,null,null,null,null,null,"Заборгованість",null,null,null,null,null,null,null,"Фільтри-обмеження"]
["#","Банк","МФО банку","Класифікація активу","Область","Ознака банкрутства/ліквідації (відповідно ЄДР на дату заповнення паспорту)","Група активу\n(1 – права вимоги,\n2 – майнові права,\n3 – майнові права)","Номер кредитного договору","Тип кредита/активу","Валюта","Відсоткова ставка номінальна","Дата відкриття","Дата закінчення","Відмітка про знаходження права об'єкту в якості забезпечення під рефінансуванням в НБУ","Наявність кредитного договору та договору застави","Кількість днів прострочення оплати боргу на дату заповнення","Сума погашеної заборгованності у поточному році","Сума останнього погашення заборгованності, грн. екв.","Дата останнього погашення заборгованності","Суб'єкт оціночної діяльності","Дата оцінки активу","Оціночна вартість, грн. екв.","Заборгованість на дату формування ліквідаційної маси, грн. екв.",{"$f":"\"Заборгованстіь  на дату заповнення паспорту, грн. екв. \"&TEXT(B7,\"dd.mm.yyyy\")&\"р. (тіло та проценти):\"","v":"Заборгованстіь  на дату заповнення паспорту, грн. екв. 01.05.2021р. (тіло та проценти):"},"Заборгованість по тілу кредиту на дату заповнення паспорту, грн. екв.","Забаргованність по нарах. % за кредитом на дату заповнення паспорту, грн. екв.","Штрафи та пені, грн. екв.",null,"Сумарна вартість забезпечення, грн. екв.:",null,"Позичальника ліквідовано","Фактична відсутність заборгованості (взаємозалік, недійсність кредитних договорів, нікчемність угод, тощо)\nза умови що рішення суду вступило в силу","Наявність судових заборон на реалізацію активу"]
[1,"Родовід",{"$f":"IFERROR(VLOOKUP(B10,Hidden_Словник!$A$2:$C$100,3,FALSE),\"\")","v":"321712"},"Майнові права, що випливають з цінних паперів, обіг яких зупинено","Луганська","порушено справу про банкрутство","-","-","Акція проста бездокументарна іменна, UA4000075014, 100 000 шт. ; Номінальна вартість 1 шт.: 0,1 грн.; Загальна номінальна вартість 10 000,00 грн.","Гривня","-","-","-","НІ","-","-","-","-","-","ТОВ \"ОФ \"Де Візу\"","2018-04-01",100,53170,53170,53170,0,0,null,0,null,{"$f":"IF(F10=\"\",\"\",IF(F10=\"Ліквідовано\",\"ТАК\",\"НІ\"))","v":"НІ"},"НІ","НІ"]
[2,"Родовід",{"$f":"IFERROR(VLOOKUP(B11,Hidden_Словник!$A$2:$C$100,3,FALSE),\"\")","v":"321712"},"Майнові права, що випливають з цінних паперів, обіг яких зупинено","м.Київ","в стані припинення","-","-","Акція проста бездокументарна іменна; UA4000079024, 1500 шт.; Номінальна вартість 1 шт.: 0,25 грн.; Загальна номінальна вартість;  375,00 грн.","Гривня","-","-","-","НІ","-","-","-","-","-","ТОВ \"ОФ \"Де Візу\"","2018-04-01",36.42,62772.36,62772.36,62772.36,0,0,null,0,null,{"$f":"IF(F11=\"\",\"\",IF(F11=\"Ліквідовано\",\"ТАК\",\"НІ\"))","v":"НІ"}]
[3,"Родовід",{"$f":"IFERROR(VLOOKUP(B12,Hidden_Словник!$A$2:$C$100,3,FALSE),\"\")","v":"321712"},"Майнові права, що випливають з цінних паперів, обіг яких зупинено","м.Київ","діюче","-","-","Акція корпоративного інвестиційного фонду проста бездокументарна іменна, UA4000027064, 44891932шт.; Номінальна вартість 1 шт.:  0,25 грн.; Загальна номінальна вартість:  11222983,00 грн.","Гривня","-","-","2058-03-13","НІ","-","-","-","-","-","ТОВ \"ОФ \"Де Візу\"","2018-04-01",448919.32,47123061.020000011,47123061.020000011,47123061.020000011,0,0,null,0,null,"НІ"]
[4,"Родовід",{"$f":"IFERROR(VLOOKUP(B13,Hidden_Словник!$A$2:$C$100,3,FALSE),\"\")","v":"321712"},"Майнові права, що випливають з цінних паперів, обіг яких зупинено","Одеська","діюче","-","-","Інвестиційний сертифікат бездокументарний іменний, UA4000051080, 7974шт.; Номінальна вартість 1 шт.:  1000,00 грн.; Загальна номінальна вартість:  7974000,00 грн.","Гривня","-","-","2059-01-11","НІ","-","-","-","-","-","ТОВ \"ОФ \"Де Візу\"","2018-04-01",1,15149850,15149850,15149850,0,0,null,0,null,"НІ"]
[5,"Родовід",{"$f":"IFERROR(VLOOKUP(B14,Hidden_Словник!$A$2:$C$100,3,FALSE),\"\")","v":"321712"},"Майнові права, що випливають з цінних паперів, випуск яких скасовано","Донецька","припинено","-","-","Акція проста іменна, UA4000024277, 11376923 шт.; Номінальна вартість 1 шт.:  0,25 грн.; Загальна номінальна вартість:  2844230,75 грн.","Гривня","-","-","-","НІ","-","-","-","-","-","ТОВ \"ОФ \"Де Візу\"","2018-04-01",1,63028153.420000002,63028153.420000002,63028153.420000002,0,0,null,0,null,"НІ"]
[6,"Родовід",{"$f":"IFERROR(VLOOKUP(B15,Hidden_Словник!$A$2:$C$100,3,FALSE),\"\")","v":"321712"},"Майнові права, що випливають з цінних паперів, обіг яких зупинено","м.Київ","порушено справу про банкрутство","-","-","Акція проста бездокументарна іменна, UA4000072912, 104 шт.; Номінальна вартість 1 шт.:  10,00 грн.; Загальна номінальна вартість:  1040,00 грн.","Гривня","-","-","-","НІ","-","-","-","-","-","ТОВ \"ОФ \"Де Візу\"","2018-04-01",1561.59,52000,52000,52000,0,0,null,0]
[7,"Родовід",{"$f":"IFERROR(VLOOKUP(B16,Hidden_Словник!$A$2:$C$100,3,FALSE),\"\")","v":"321712"},"Майнові права, що випливають з цінних паперів, обіг яких зупинено","Донецька","діюче","-","-","Акція корпоративного інвестиційного фонду проста бездокументарна іменна, UA4000078976, 27528000 шт.; Номінальна вартість 1 шт.:  0,25 грн.; Загальна номінальна вартість: 6882000,00 грн.","Гривня","-","-","2026-04-14","НІ","-","-","-","-","-","ТОВ \"ОФ \"Де Візу\"","2018-04-01",10678.28,59693340,59693340,59693340,0,0,null,0]
[8,"Родовід",{"$f":"IFERROR(VLOOKUP(B17,Hidden_Словник!$A$2:$C$100,3,FALSE),\"\")","v":"321712"},"Майнові права, що випливають з цінних паперів, обіг яких зупинено","м.Київ","КУА діюче, Фонд в стані припинення (ліквідації)","-","-","Інвестиційний сертифікат бездокументарний іменний, UA4000166003, 13088 шт.; Номінальна вартість 1 шт.:  1000,00 грн.. Загальна номінальна вартість: 13088000,00 грн.\n","Гривня","-","-","2016-10-26","НІ","-","-","-","-","-","ЗАТ \"Консалтингюрсервіс\"","2018-04-02",1234783.72,58856736,58856736,58856736,0,0,null,0]
[9,"Родовід",{"$f":"IFERROR(VLOOKUP(B18,Hidden_Словник!$A$2:$C$100,3,FALSE),\"\")","v":"321712"},"Майнові права, що випливають з цінних паперів, випуск яких скасовано","Донецька","припинено","-","-","Акція проста іменна, UA4000021380, 36295530 шт. Номінальна вартість 1 шт.: 0,25 грн.; Загальна номінальна вартість: 9073882,50 грн.","Гривня","-","-","-","НІ","-","-","-","-","-","ТОВ \"КАНЗАС РІАЛ ЕСТЕЙТ\"","2018-04-01",1,54443295,54443295,54443295,0,0,null,0]
[10,"Родовід",{"$f":"IFERROR(VLOOKUP(B19,Hidden_Словник!$A$2:$C$100,3,FALSE),\"\")","v":"321712"},"Майнові права, що випливають з цінних паперів, випуск яких скасовано","Донецька","припинено","-","-","Акція проста іменна, UA4000026785, 11376923 шт. Номінальна вартість 1 шт.: 0,25 грн. Загальна номінальна вартість: 2844230,75 грн.","Гривня","-","-","-","НІ","-","-","-","-","-","ТОВ \"КАНЗАС РІАЛ ЕСТЕЙТ\"","2018-04-01",1,62117999.579999998,62117999.579999998,62117999.579999998,0,0,null,0]
[11,"Родовід",{"$f":"IFERROR(VLOOKUP(B20,Hidden_Словник!$A$2:$C$100,3,FALSE),\"\")","v":"321712"},"Майнові права за списаною часткою у статутному капіталі в ТОВ","м.Київ","діюче","-","-","Частка у статутному капіталі","Гривня","-","-","-","НІ","-","-","-","-","-","ТОВ \"КАНЗАС РІАЛ ЕСТЕЙТ\"","2018-04-01",1,2670,2670,2670,0,0,null,0]
[12,"Родовід",{"$f":"IFERROR(VLOOKUP(B21,Hidden_Словник!$A$2:$C$100,3,FALSE),\"\")","v":"321712"},"Майнові права, що випливають з цінних паперів, випуск яких скасовано","Донецька","припинено","-","-","Облігація підприємства, проста іменна, серія А, UA4000031108, 97500 шт. Номінальна вартість 1 шт.:  1000,00 грн. Загальна номінальна вартість: 97500000,00 грн.","Гривня","-","-","31.01.2013","НІ","-","-","-","-","-","ТОВ \"КАНЗАС РІАЛ ЕСТЕЙТ\"","2018-04-01",1,115765625,115765625,115765625,0,0,null,0]
[]
[null,"Недійсність (нікчемність), припинення всіх або будь-якого із прав, що складають Майнові права за цим лотом, або неможливість реалізації покупцем будь-якого із Майнових прав, набутих ним за договором купівлі-продажу Майнових прав за цим лотом, не вплине на дійсність договору купівлі-продажу Майнових прав за цим лотом та Покупець погоджується, що Продавець не несе жодної відповідальності за такі наслідки.\nБанк (продавець) та/або Фонд не відповідає за неотримання покупцем грошових коштів або іншого майна, які покупець очікував отримати від Майнових прав, набуваючи у власність Майнові права за цим лотом.\nПриймаючи рішення щодо придбання Майнових прав за цим лотом покупець має розуміти (усвідомлювати) характер Майнових прав, що переходять до покупця за цим лотом, та приймати усі ризики, пов’язані із таким переходом, у тому числі ризики того, що покупець у майбутньому не зможе отримати жодних коштів або майна за Майновими правами.",null,null,null,null,null,null,null,null,null,null,null,null,null,null,null,null,null,null,null,null,null,null,null,null,null,null,null,null,""]
[null,null,null,null,null,null,null,null,null,null,null,null,null,null,null,null,null,null,null,null,null,null,null,{"$f":"IF(Y24+Z24>0,Y24+Z24,\"\")","v":""},null,null,null,null,null,null,""]
[null,null,null,null,null,null,null,null,null,null,null,null,null,null,null,null,null,null,null,null,null,null,null,"",null,null,null,null,null,null,""]
[null,null,null,null,null,null,null,null,null,null,null,null,null,null,null,null,null,null,null,null,null,null,null,"",null,null,null,null,null,null,""]
[null,null,{"$f":"IFERROR(VLOOKUP(B27,Hidden_Словник!$A$2:$C$100,3,FALSE),\"\")","v":""},null,null,null,null,null,null,null,null,null,null,null,null,null,null,null,null,null,null,null,null,"",null,null,null,null,null,null,""]
[null,null,{"$f":"IFERROR(VLOOKUP(B28,Hidden_Словник!$A$2:$C$100,3,FALSE),\"\")","v":""},null,null,null,null,null,null,null,null,null,null,null,null,null,null,null,null,null,null,null,null,"",null,null,null,null,null,null,""]
[null,null,{"$f":"IFERROR(VLOOKUP(B29,Hidden_Словник!$A$2:$C$100,3,FALSE),\"\")","v":""},null,null,null,null,null,null,null,null,null,null,null,null,null,null,null,null,null,null,null,null,"",null,null,null,null,null,null,""]
[null,null,{"$f":"IFERROR(VLOOKUP(B30,Hidden_Словник!$A$2:$C$100,3,FALSE),\"\")","v":""},null,null,null,null,null,null,null,null,null,null,null,null,null,null,null,null,null,null,null,null,"",null,null,null,null,null,null,""]
[null,null,{"$f":"IFERROR(VLOOKUP(B31,Hidden_Словник!$A$2:$C$100,3,FALSE),\"\")","v":""},null,null,null,null,null,null,null,null,null,null,null,null,null,null,null,null,null,null,null,null,"",null,null,null,null,null,null,""]
[null,null,{"$f":"IFERROR(VLOOKUP(B32,Hidden_Словник!$A$2:$C$100,3,FALSE),\"\")","v":""},null,null,null,null,null,null,null,null,null,null,null,null,null,null,null,null,null,null,null,null,"",null,null,null,null,null,null,""]
[null,null,{"$f":"IFERROR(VLOOKUP(B33,Hidden_Словник!$A$2:$C$100,3,FALSE),\"\")","v":""},null,null,null,null,null,null,null,null,null,null,null,null,null,null,null,null,null,null,null,null,"",null,null,null,null,null,null,""]
[null,null,{"$f":"IFERROR(VLOOKUP(B34,Hidden_Словник!$A$2:$C$100,3,FALSE),\"\")","v":""},null,null,null,null,null,null,null,null,null,null,null,null,null,null,null,null,null,null,null,null,"",null,null,null,null,null,null,""]
[null,null,{"$f":"IFERROR(VLOOKUP(B35,Hidden_Словник!$A$2:$C$100,3,FALSE),\"\")","v":""},null,null,null,null,null,null,null,null,null,null,null,null,null,null,null,null,null,null,null,null,"",null,null,null,null,null,null,""]
[null,null,{"$f":"IFERROR(VLOOKUP(B36,Hidden_Словник!$A$2:$C$100,3,FALSE),\"\")","v":""},null,null,null,null,null,null,null,null,null,null,null,null,null,null,null,null,null,null,null,null,"",null,null,null,null,null,null,""]
[null,null,{"$f":"IFERROR(VLOOKUP(B37,Hidden_Словник!$A$2:$C$100,3,FALSE),\"\")","v":""},null,null,null,null,null,null,null,null,null,null,null,null,null,null,null,null,null,null,null,null,"",null,null,null,null,null,null,""]
[null,null,{"$f":"IFERROR(VLOOKUP(B38,Hidden_Словник!$A$2:$C$100,3,FALSE),\"\")","v":""},null,null,null,null,null,null,null,null,null,null,null,null,null,null,null,null,null,null,null,null,"",null,null,null,null,null,null,""]
[null,null,{"$f":"IFERROR(VLOOKUP(B39,Hidden_Словник!$A$2:$C$100,3,FALSE),\"\")","v":""},null,null,null,null,null,null,null,null,null,null,null,null,null,null,null,null,null,null,null,null,"",null,null,null,null,null,null,""]
[null,null,{"$f":"IFERROR(VLOOKUP(B40,Hidden_Словник!$A$2:$C$100,3,FALSE),\"\")","v":""},null,null,null,null,null,null,null,null,null,null,null,null,null,null,null,null,null,null,null,null,"",null,null,null,null,null,null,""]
[null,null,{"$f":"IFERROR(VLOOKUP(B41,Hidden_Словник!$A$2:$C$100,3,FALSE),\"\")","v":""},null,null,null,null,null,null,null,null,null,null,null,null,null,null,null,null,null,null,null,null,"",null,null,null,null,null,null,""]
[null,null,{"$f":"IFERROR(VLOOKUP(B42,Hidden_Словник!$A$2:$C$100,3,FALSE),\"\")","v":""},null,null,null,null,null,null,null,null,null,null,null,null,null,null,null,null,null,null,null,null,"",null,null,null,null,null,null,""]
[null,null,{"$f":"IFERROR(VLOOKUP(B43,Hidden_Словник!$A$2:$C$100,3,FALSE),\"\")","v":""},null,null,null,null,null,null,null,null,null,null,null,null,null,null,null,null,null,null,null,null,"",null,null,null,null,null,null,""]
[null,null,{"$f":"IFERROR(VLOOKUP(B44,Hidden_Словник!$A$2:$C$100,3,FALSE),\"\")","v":""},null,null,null,null,null,null,null,null,null,null,null,null,null,null,null,null,null,null,null,null,"",null,null,null,null,null,null,""]
[null,null,{"$f":"IFERROR(VLOOKUP(B45,Hidden_Словник!$A$2:$C$100,3,FALSE),\"\")","v":""},null,null,null,null,null,null,null,null,null,null,null,null,null,null,null,null,null,null,null,null,"",null,null,null,null,null,null,""]
[null,null,{"$f":"IFERROR(VLOOKUP(B46,Hidden_Словник!$A$2:$C$100,3,FALSE),\"\")","v":""},null,null,null,null,null,null,null,null,null,null,null,null,null,null,null,null,null,null,null,null,"",null,null,null,null,null,null,""]
[null,null,{"$f":"IFERROR(VLOOKUP(B47,Hidden_Словник!$A$2:$C$100,3,FALSE),\"\")","v":""},null,null,null,null,null,null,null,null,null,null,null,null,null,null,null,null,null,null,null,null,"",null,null,null,null,null,null,""]
[null,null,{"$f":"IFERROR(VLOOKUP(B48,Hidden_Словник!$A$2:$C$100,3,FALSE),\"\")","v":""},null,null,null,null,null,null,null,null,null,null,null,null,null,null,null,null,null,null,null,null,"",null,null,null,null,null,null,""]
[null,null,{"$f":"IFERROR(VLOOKUP(B49,Hidden_Словник!$A$2:$C$100,3,FALSE),\"\")","v":""},null,null,null,null,null,null,null,null,null,null,null,null,null,null,null,null,null,null,null,null,"",null,null,null,null,null,null,""]
[null,null,{"$f":"IFERROR(VLOOKUP(B50,Hidden_Словник!$A$2:$C$100,3,FALSE),\"\")","v":""},null,null,null,null,null,null,null,null,null,null,null,null,null,null,null,null,null,null,null,null,"",null,null,null,null,null,null,""]
[null,null,{"$f":"IFERROR(VLOOKUP(B51,Hidden_Словник!$A$2:$C$100,3,FALSE),\"\")","v":""},null,null,null,null,null,null,null,null,null,null,null,null,null,null,null,null,null,null,null,null,"",null,null,null,null,null,null,""]
[null,null,{"$f":"IFERROR(VLOOKUP(B52,Hidden_Словник!$A$2:$C$100,3,FALSE),\"\")","v":""},null,null,null,null,null,null,null,null,null,null,null,null,null,null,null,null,null,null,null,null,"",null,null,null,null,null,null,""]
[null,null,{"$f":"IFERROR(VLOOKUP(B53,Hidden_Словник!$A$2:$C$100,3,FALSE),\"\")","v":""},null,null,null,null,null,null,null,null,null,null,null,null,null,null,null,null,null,null,null,null,"",null,null,null,null,null,null,""]
[null,null,{"$f":"IFERROR(VLOOKUP(B54,Hidden_Словник!$A$2:$C$100,3,FALSE),\"\")","v":""},null,null,null,null,null,null,null,null,null,null,null,null,null,null,null,null,null,null,null,null,"",null,null,null,null,null,null,""]
[null,null,{"$f":"IFERROR(VLOOKUP(B55,Hidden_Словник!$A$2:$C$100,3,FALSE),\"\")","v":""},null,null,null,null,null,null,null,null,null,null,null,null,null,null,null,null,null,null,null,null,"",null,null,null,null,null,null,""]
[null,null,{"$f":"IFERROR(VLOOKUP(B56,Hidden_Словник!$A$2:$C$100,3,FALSE),\"\")","v":""},null,null,null,null,null,null,null,null,null,null,null,null,null,null,null,null,null,null,null,null,"",null,null,null,null,null,null,""]
[null,null,{"$f":"IFERROR(VLOOKUP(B57,Hidden_Словник!$A$2:$C$100,3,FALSE),\"\")","v":""},null,null,null,null,null,null,null,null,null,null,null,null,null,null,null,null,null,null,null,null,"",null,null,null,null,null,null,""]
[null,null,{"$f":"IFERROR(VLOOKUP(B58,Hidden_Словник!$A$2:$C$100,3,FALSE),\"\")","v":""},null,null,null,null,null,null,null,null,null,null,null,null,null,null,null,null,null,null,null,null,"",null,null,null,null,null,null,""]
[null,null,{"$f":"IFERROR(VLOOKUP(B59,Hidden_Словник!$A$2:$C$100,3,FALSE),\"\")","v":""},null,null,null,null,null,null,null,null,null,null,null,null,null,null,null,null,null,null,null,null,"",null,null,null,null,null,null,""]
[null,null,{"$f":"IFERROR(VLOOKUP(B60,Hidden_Словник!$A$2:$C$100,3,FALSE),\"\")","v":""},null,null,null,null,null,null,null,null,null,null,null,null,null,null,null,null,null,null,null,null,"",null,null,null,null,null,null,""]
[null,null,{"$f":"IFERROR(VLOOKUP(B61,Hidden_Словник!$A$2:$C$100,3,FALSE),\"\")","v":""},null,null,null,null,null,null,null,null,null,null,null,null,null,null,null,null,null,null,null,null,"",null,null,null,null,null,null,""]
[null,null,{"$f":"IFERROR(VLOOKUP(B62,Hidden_Словник!$A$2:$C$100,3,FALSE),\"\")","v":""},null,null,null,null,null,null,null,null,null,null,null,null,null,null,null,null,null,null,null,null,"",null,null,null,null,null,null,""]
[null,null,{"$f":"IFERROR(VLOOKUP(B63,Hidden_Словник!$A$2:$C$100,3,FALSE),\"\")","v":""},null,null,null,null,null,null,null,null,null,null,null,null,null,null,null,null,null,null,null,null,"",null,null,null,null,null,null,""]
[null,null,{"$f":"IFERROR(VLOOKUP(B64,Hidden_Словник!$A$2:$C$100,3,FALSE),\"\")","v":""},null,null,null,null,null,null,null,null,null,null,null,null,null,null,null,null,null,null,null,null,"",null,null,null,null,null,null,""]
[null,null,{"$f":"IFERROR(VLOOKUP(B65,Hidden_Словник!$A$2:$C$100,3,FALSE),\"\")","v":""},null,null,null,null,null,null,null,null,null,null,null,null,null,null,null,null,null,null,null,null,"",null,null,null,null,null,null,""]
[null,null,{"$f":"IFERROR(VLOOKUP(B66,Hidden_Словник!$A$2:$C$100,3,FALSE),\"\")","v":""},null,null,null,null,null,null,null,null,null,null,null,null,null,null,null,null,null,null,null,null,"",null,null,null,null,null,null,""]
[null,null,{"$f":"IFERROR(VLOOKUP(B67,Hidden_Словник!$A$2:$C$100,3,FALSE),\"\")","v":""},null,null,null,null,null,null,null,null,null,null,null,null,null,null,null,null,null,null,null,null,"",null,null,null,null,null,null,""]
[null,null,{"$f":"IFERROR(VLOOKUP(B68,Hidden_Словник!$A$2:$C$100,3,FALSE),\"\")","v":""},null,null,null,null,null,null,null,null,null,null,null,null,null,null,null,null,null,null,null,null,"",null,null,null,null,null,null,""]
[null,null,{"$f":"IFERROR(VLOOKUP(B69,Hidden_Словник!$A$2:$C$100,3,FALSE),\"\")","v":""},null,null,null,null,null,null,null,null,null,null,null,null,null,null,null,null,null,null,null,null,"",null,null,null,null,null,null,""]
[null,null,{"$f":"IFERROR(VLOOKUP(B70,Hidden_Словник!$A$2:$C$100,3,FALSE),\"\")","v":""},null,null,null,null,null,null,null,null,null,null,null,null,null,null,null,null,null,null,null,null,"",null,null,null,null,null,null,""]
[null,null,{"$f":"IFERROR(VLOOKUP(B71,Hidden_Словник!$A$2:$C$100,3,FALSE),\"\")","v":""},null,null,null,null,null,null,null,null,null,null,null,null,null,null,null,null,null,null,null,null,"",null,null,null,null,null,null,""]
[null,null,{"$f":"IFERROR(VLOOKUP(B72,Hidden_Словник!$A$2:$C$100,3,FALSE),\"\")","v":""},null,null,null,null,null,null,null,null,null,null,null,null,null,null,null,null,null,null,null,null,"",null,null,null,null,null,null,""]
[null,null,{"$f":"IFERROR(VLOOKUP(B73,Hidden_Словник!$A$2:$C$100,3,FALSE),\"\")","v":""},null,null,null,null,null,null,null,null,null,null,null,null,null,null,null,null,null,null,null,null,"",null,null,null,null,null,null,""]
[null,null,{"$f":"IFERROR(VLOOKUP(B74,Hidden_Словник!$A$2:$C$100,3,FALSE),\"\")","v":""},null,null,null,null,null,null,null,null,null,null,null,null,null,null,null,null,null,null,null,null,"",null,null,null,null,null,null,""]
[null,null,{"$f":"IFERROR(VLOOKUP(B75,Hidden_Словник!$A$2:$C$100,3,FALSE),\"\")","v":""},null,null,null,null,null,null,null,null,null,null,null,null,null,null,null,null,null,null,null,null,"",null,null,null,null,null,null,""]
[null,null,{"$f":"IFERROR(VLOOKUP(B76,Hidden_Словник!$A$2:$C$100,3,FALSE),\"\")","v":""},null,null,null,null,null,null,null,null,null,null,null,null,null,null,null,null,null,null,null,null,"",null,null,null,null,null,null,""]
[null,null,{"$f":"IFERROR(VLOOKUP(B77,Hidden_Словник!$A$2:$C$100,3,FALSE),\"\")","v":""},null,null,null,null,null,null,null,null,null,null,null,null,null,null,null,null,null,null,null,null,"",null,null,null,null,null,null,""]
[null,null,{"$f":"IFERROR(VLOOKUP(B78,Hidden_Словник!$A$2:$C$100,3,FALSE),\"\")","v":""},null,null,null,null,null,null,null,null,null,null,null,null,null,null,null,null,null,null,null,null,"",null,null,null,null,null,null,""]
[null,null,{"$f":"IFERROR(VLOOKUP(B79,Hidden_Словник!$A$2:$C$100,3,FALSE),\"\")","v":""},null,null,null,null,null,null,null,null,null,null,null,null,null,null,null,null,null,null,null,null,"",null,null,null,null,null,null,""]
[null,null,{"$f":"IFERROR(VLOOKUP(B80,Hidden_Словник!$A$2:$C$100,3,FALSE),\"\")","v":""},null,null,null,null,null,null,null,null,null,null,null,null,null,null,null,null,null,null,null,null,"",null,null,null,null,null,null,""]
[null,null,{"$f":"IFERROR(VLOOKUP(B81,Hidden_Словник!$A$2:$C$100,3,FALSE),\"\")","v":""},null,null,null,null,null,null,null,null,null,null,null,null,null,null,null,null,null,null,null,null,"",null,null,null,null,null,null,""]
[null,null,{"$f":"IFERROR(VLOOKUP(B82,Hidden_Словник!$A$2:$C$100,3,FALSE),\"\")","v":""},null,null,null,null,null,null,null,null,null,null,null,null,null,null,null,null,null,null,null,null,"",null,null,null,null,null,null,""]
[null,null,{"$f":"IFERROR(VLOOKUP(B83,Hidden_Словник!$A$2:$C$100,3,FALSE),\"\")","v":""},null,null,null,null,null,null,null,null,null,null,null,null,null,null,null,null,null,null,null,null,"",null,null,null,null,null,null,""]
[null,null,{"$f":"IFERROR(VLOOKUP(B84,Hidden_Словник!$A$2:$C$100,3,FALSE),\"\")","v":""},null,null,null,null,null,null,null,null,null,null,null,null,null,null,null,null,null,null,null,null,{"$f":"IF(Y84+Z84>0,Y84+Z84,\"\")","v":""},null,null,null,null,null,null,{"$f":"IF(F84=\"\",\"\",IF(F84=\"Ліквідовано\",\"ТАК\",\"НІ\"))","v":""}]
[null,null,{"$f":"IFERROR(VLOOKUP(B85,Hidden_Словник!$A$2:$C$100,3,FALSE),\"\")","v":""},null,null,null,null,null,null,null,null,null,null,null,null,null,null,null,null,null,null,null,null,"",null,null,null,null,null,null,""]
[null,null,{"$f":"IFERROR(VLOOKUP(B86,Hidden_Словник!$A$2:$C$100,3,FALSE),\"\")","v":""},null,null,null,null,null,null,null,null,null,null,null,null,null,null,null,null,null,null,null,null,"",null,null,null,null,null,null,""]
[null,null,{"$f":"IFERROR(VLOOKUP(B87,Hidden_Словник!$A$2:$C$100,3,FALSE),\"\")","v":""},null,null,null,null,null,null,null,null,null,null,null,null,null,null,null,null,null,null,null,null,"",null,null,null,null,null,null,""]
[null,null,{"$f":"IFERROR(VLOOKUP(B88,Hidden_Словник!$A$2:$C$100,3,FALSE),\"\")","v":""},null,null,null,null,null,null,null,null,null,null,null,null,null,null,null,null,null,null,null,null,"",null,null,null,null,null,null,""]
[null,null,{"$f":"IFERROR(VLOOKUP(B89,Hidden_Словник!$A$2:$C$100,3,FALSE),\"\")","v":""},null,null,null,null,null,null,null,null,null,null,null,null,null,null,null,null,null,null,null,null,"",null,null,null,null,null,null,""]
[null,null,{"$f":"IFERROR(VLOOKUP(B90,Hidden_Словник!$A$2:$C$100,3,FALSE),\"\")","v":""},null,null,null,null,null,null,null,null,null,null,null,null,null,null,null,null,null,null,null,null,"",null,null,null,null,null,null,""]
[null,null,{"$f":"IFERROR(VLOOKUP(B91,Hidden_Словник!$A$2:$C$100,3,FALSE),\"\")","v":""},null,null,null,null,null,null,null,null,null,null,null,null,null,null,null,null,null,null,null,null,"",null,null,null,null,null,null,""]
[null,null,{"$f":"IFERROR(VLOOKUP(B92,Hidden_Словник!$A$2:$C$100,3,FALSE),\"\")","v":""},null,null,null,null,null,null,null,null,null,null,null,null,null,null,null,null,null,null,null,null,"",null,null,null,null,null,null,""]
[null,null,{"$f":"IFERROR(VLOOKUP(B93,Hidden_Словник!$A$2:$C$100,3,FALSE),\"\")","v":""},null,null,null,null,null,null,null,null,null,null,null,null,null,null,null,null,null,null,null,null,"",null,null,null,null,null,null,""]
[null,null,{"$f":"IFERROR(VLOOKUP(B94,Hidden_Словник!$A$2:$C$100,3,FALSE),\"\")","v":""},null,null,null,null,null,null,null,null,null,null,null,null,null,null,null,null,null,null,null,null,"",null,null,null,null,null,null,""]
[null,null,{"$f":"IFERROR(VLOOKUP(B95,Hidden_Словник!$A$2:$C$100,3,FALSE),\"\")","v":""},null,null,null,null,null,null,null,null,null,null,null,null,null,null,null,null,null,null,null,null,"",null,null,null,null,null,null,""]
[null,null,{"$f":"IFERROR(VLOOKUP(B96,Hidden_Словник!$A$2:$C$100,3,FALSE),\"\")","v":""},null,null,null,null,null,null,null,null,null,null,null,null,null,null,null,null,null,null,null,null,"",null,null,null,null,null,null,""]
[null,null,{"$f":"IFERROR(VLOOKUP(B97,Hidden_Словник!$A$2:$C$100,3,FALSE),\"\")","v":""},null,null,null,null,null,null,null,null,null,null,null,null,null,null,null,null,null,null,null,null,"",null,null,null,null,null,null,""]
[null,null,{"$f":"IFERROR(VLOOKUP(B98,Hidden_Словник!$A$2:$C$100,3,FALSE),\"\")","v":""},null,null,null,null,null,null,null,null,null,null,null,null,null,null,null,null,null,null,null,null,"",null,null,null,null,null,null,""]
[null,null,{"$f":"IFERROR(VLOOKUP(B99,Hidden_Словник!$A$2:$C$100,3,FALSE),\"\")","v":""},null,null,null,null,null,null,null,null,null,null,null,null,null,null,null,null,null,null,null,null,"",null,null,null,null,null,null,""]
[null,null,{"$f":"IFERROR(VLOOKUP(B100,Hidden_Словник!$A$2:$C$100,3,FALSE),\"\")","v":""},null,null,null,null,null,null,null,null,null,null,null,null,null,null,null,null,null,null,null,null,"",null,null,null,null,null,null,""]
[null,null,{"$f":"IFERROR(VLOOKUP(B101,Hidden_Словник!$A$2:$C$100,3,FALSE),\"\")","v":""},null,null,null,null,null,null,null,null,null,null,null,null,null,null,null,null,null,null,null,null,"",null,null,null,null,null,null,""]
[null,null,{"$f":"IFERROR(VLOOKUP(B102,Hidden_Словник!$A$2:$C$100,3,FALSE),\"\")","v":""},null,null,null,null,null,null,null,null,null,null,null,null,null,null,null,null,null,null,null,null,"",null,null,null,null,null,null,""]
[null,null,{"$f":"IFERROR(VLOOKUP(B103,Hidden_Словник!$A$2:$C$100,3,FALSE),\"\")","v":""},null,null,null,null,null,null,null,null,null,null,null,null,null,null,null,null,null,null,null,null,"",null,null,null,null,null,null,""]
[null,null,{"$f":"IFERROR(VLOOKUP(B104,Hidden_Словник!$A$2:$C$100,3,FALSE),\"\")","v":""},null,null,null,null,null,null,null,null,null,null,null,null,null,null,null,null,null,null,null,null,"",null,null,null,null,null,null,""]
[null,null,{"$f":"IFERROR(VLOOKUP(B105,Hidden_Словник!$A$2:$C$100,3,FALSE),\"\")","v":""},null,null,null,null,null,null,null,null,null,null,null,null,null,null,null,null,null,null,null,null,"",null,null,null,null,null,null,""]
[null,null,{"$f":"IFERROR(VLOOKUP(B106,Hidden_Словник!$A$2:$C$100,3,FALSE),\"\")","v":""},null,null,null,null,null,null,null,null,null,null,null,null,null,null,null,null,null,null,null,null,"",null,null,null,null,null,null,""]
[null,null,{"$f":"IFERROR(VLOOKUP(B107,Hidden_Словник!$A$2:$C$100,3,FALSE),\"\")","v":""},null,null,null,null,null,null,null,null,null,null,null,null,null,null,null,null,null,null,null,null,"",null,null,null,null,null,null,""]
[null,null,{"$f":"IFERROR(VLOOKUP(B108,Hidden_Словник!$A$2:$C$100,3,FALSE),\"\")","v":""},null,null,null,null,null,null,null,null,null,null,null,null,null,null,null,null,null,null,null,null,"",null,null,null,null,null,null,""]
[null,null,{"$f":"IFERROR(VLOOKUP(B109,Hidden_Словник!$A$2:$C$100,3,FALSE),\"\")","v":""},null,null,null,null,null,null,null,null,null,null,null,null,null,null,null,null,null,null,null,null,"",null,null,null,null,null,null,""]
[null,null,{"$f":"IFERROR(VLOOKUP(B110,Hidden_Словник!$A$2:$C$100,3,FALSE),\"\")","v":""},null,null,null,null,null,null,null,null,null,null,null,null,null,null,null,null,null,null,null,null,"",null,null,null,null,null,null,""]
[null,null,{"$f":"IFERROR(VLOOKUP(B111,Hidden_Словник!$A$2:$C$100,3,FALSE),\"\")","v":""},null,null,null,null,null,null,null,null,null,null,null,null,null,null,null,null,null,null,null,null,"",null,null,null,null,null,null,""]
[null,null,{"$f":"IFERROR(VLOOKUP(B112,Hidden_Словник!$A$2:$C$100,3,FALSE),\"\")","v":""},null,null,null,null,null,null,null,null,null,null,null,null,null,null,null,null,null,null,null,null,"",null,null,null,null,null,null,""]
[null,null,{"$f":"IFERROR(VLOOKUP(B113,Hidden_Словник!$A$2:$C$100,3,FALSE),\"\")","v":""},null,null,null,null,null,null,null,null,null,null,null,null,null,null,null,null,null,null,null,null,"",null,null,null,null,null,null,""]
[null,null,{"$f":"IFERROR(VLOOKUP(B114,Hidden_Словник!$A$2:$C$100,3,FALSE),\"\")","v":""},null,null,null,null,null,null,null,null,null,null,null,null,null,null,null,null,null,null,null,null,"",null,null,null,null,null,null,""]
[null,null,{"$f":"IFERROR(VLOOKUP(B115,Hidden_Словник!$A$2:$C$100,3,FALSE),\"\")","v":""},null,null,null,null,null,null,null,null,null,null,null,null,null,null,null,null,null,null,null,null,"",null,null,null,null,null,null,""]
[null,null,{"$f":"IFERROR(VLOOKUP(B116,Hidden_Словник!$A$2:$C$100,3,FALSE),\"\")","v":""},null,null,null,null,null,null,null,null,null,null,null,null,null,null,null,null,null,null,null,null,"",null,null,null,null,null,null,""]
[null,null,{"$f":"IFERROR(VLOOKUP(B117,Hidden_Словник!$A$2:$C$100,3,FALSE),\"\")","v":""},null,null,null,null,null,null,null,null,null,null,null,null,null,null,null,null,null,null,null,null,"",null,null,null,null,null,null,""]
[null,null,{"$f":"IFERROR(VLOOKUP(B118,Hidden_Словник!$A$2:$C$100,3,FALSE),\"\")","v":""},null,null,null,null,null,null,null,null,null,null,null,null,null,null,null,null,null,null,null,null,"",null,null,null,null,null,null,""]
[null,null,{"$f":"IFERROR(VLOOKUP(B119,Hidden_Словник!$A$2:$C$100,3,FALSE),\"\")","v":""},null,null,null,null,null,null,null,null,null,null,null,null,null,null,null,null,null,null,null,null,"",null,null,null,null,null,null,""]
[null,null,{"$f":"IFERROR(VLOOKUP(B120,Hidden_Словник!$A$2:$C$100,3,FALSE),\"\")","v":""},null,null,null,null,null,null,null,null,null,null,null,null,null,null,null,null,null,null,null,null,"",null,null,null,null,null,null,""]
[null,null,{"$f":"IFERROR(VLOOKUP(B121,Hidden_Словник!$A$2:$C$100,3,FALSE),\"\")","v":""},null,null,null,null,null,null,null,null,null,null,null,null,null,null,null,null,null,null,null,null,"",null,null,null,null,null,null,""]
[null,null,{"$f":"IFERROR(VLOOKUP(B122,Hidden_Словник!$A$2:$C$100,3,FALSE),\"\")","v":""},null,null,null,null,null,null,null,null,null,null,null,null,null,null,null,null,null,null,null,null,"",null,null,null,null,null,null,""]
[null,null,{"$f":"IFERROR(VLOOKUP(B123,Hidden_Словник!$A$2:$C$100,3,FALSE),\"\")","v":""},null,null,null,null,null,null,null,null,null,null,null,null,null,null,null,null,null,null,null,null,"",null,null,null,null,null,null,""]
[null,null,{"$f":"IFERROR(VLOOKUP(B124,Hidden_Словник!$A$2:$C$100,3,FALSE),\"\")","v":""},null,null,null,null,null,null,null,null,null,null,null,null,null,null,null,null,null,null,null,null,"",null,null,null,null,null,null,""]
[null,null,{"$f":"IFERROR(VLOOKUP(B125,Hidden_Словник!$A$2:$C$100,3,FALSE),\"\")","v":""},null,null,null,null,null,null,null,null,null,null,null,null,null,null,null,null,null,null,null,null,"",null,null,null,null,null,null,""]
[null,null,{"$f":"IFERROR(VLOOKUP(B126,Hidden_Словник!$A$2:$C$100,3,FALSE),\"\")","v":""},null,null,null,null,null,null,null,null,null,null,null,null,null,null,null,null,null,null,null,null,"",null,null,null,null,null,null,""]
[null,null,{"$f":"IFERROR(VLOOKUP(B127,Hidden_Словник!$A$2:$C$100,3,FALSE),\"\")","v":""},null,null,null,null,null,null,null,null,null,null,null,null,null,null,null,null,null,null,null,null,"",null,null,null,null,null,null,""]
[null,null,{"$f":"IFERROR(VLOOKUP(B128,Hidden_Словник!$A$2:$C$100,3,FALSE),\"\")","v":""},null,null,null,null,null,null,null,null,null,null,null,null,null,null,null,null,null,null,null,null,"",null,null,null,null,null,null,""]
[null,null,{"$f":"IFERROR(VLOOKUP(B129,Hidden_Словник!$A$2:$C$100,3,FALSE),\"\")","v":""},null,null,null,null,null,null,null,null,null,null,null,null,null,null,null,null,null,null,null,null,"",null,null,null,null,null,null,""]
[null,null,{"$f":"IFERROR(VLOOKUP(B130,Hidden_Словник!$A$2:$C$100,3,FALSE),\"\")","v":""},null,null,null,null,null,null,null,null,null,null,null,null,null,null,null,null,null,null,null,null,"",null,null,null,null,null,null,""]
[null,null,{"$f":"IFERROR(VLOOKUP(B131,Hidden_Словник!$A$2:$C$100,3,FALSE),\"\")","v":""},null,null,null,null,null,null,null,null,null,null,null,null,null,null,null,null,null,null,null,null,"",null,null,null,null,null,null,""]
[null,null,{"$f":"IFERROR(VLOOKUP(B132,Hidden_Словник!$A$2:$C$100,3,FALSE),\"\")","v":""},null,null,null,null,null,null,null,null,null,null,null,null,null,null,null,null,null,null,null,null,"",null,null,null,null,null,null,""]
[null,null,{"$f":"IFERROR(VLOOKUP(B133,Hidden_Словник!$A$2:$C$100,3,FALSE),\"\")","v":""},null,null,null,null,null,null,null,null,null,null,null,null,null,null,null,null,null,null,null,null,"",null,null,null,null,null,null,""]
[null,null,{"$f":"IFERROR(VLOOKUP(B134,Hidden_Словник!$A$2:$C$100,3,FALSE),\"\")","v":""},null,null,null,null,null,null,null,null,null,null,null,null,null,null,null,null,null,null,null,null,"",null,null,null,null,null,null,""]
[null,null,{"$f":"IFERROR(VLOOKUP(B135,Hidden_Словник!$A$2:$C$100,3,FALSE),\"\")","v":""},null,null,null,null,null,null,null,null,null,null,null,null,null,null,null,null,null,null,null,null,"",null,null,null,null,null,null,""]
[null,null,{"$f":"IFERROR(VLOOKUP(B136,Hidden_Словник!$A$2:$C$100,3,FALSE),\"\")","v":""},null,null,null,null,null,null,null,null,null,null,null,null,null,null,null,null,null,null,null,null,"",null,null,null,null,null,null,""]
[null,null,{"$f":"IFERROR(VLOOKUP(B137,Hidden_Словник!$A$2:$C$100,3,FALSE),\"\")","v":""},null,null,null,null,null,null,null,null,null,null,null,null,null,null,null,null,null,null,null,null,"",null,null,null,null,null,null,""]
[null,null,{"$f":"IFERROR(VLOOKUP(B138,Hidden_Словник!$A$2:$C$100,3,FALSE),\"\")","v":""},null,null,null,null,null,null,null,null,null,null,null,null,null,null,null,null,null,null,null,null,"",null,null,null,null,null,null,""]
[null,null,{"$f":"IFERROR(VLOOKUP(B139,Hidden_Словник!$A$2:$C$100,3,FALSE),\"\")","v":""},null,null,null,null,null,null,null,null,null,null,null,null,null,null,null,null,null,null,null,null,"",null,null,null,null,null,null,""]
[null,null,{"$f":"IFERROR(VLOOKUP(B140,Hidden_Словник!$A$2:$C$100,3,FALSE),\"\")","v":""},null,null,null,null,null,null,null,null,null,null,null,null,null,null,null,null,null,null,null,null,"",null,null,null,null,null,null,""]
[null,null,{"$f":"IFERROR(VLOOKUP(B141,Hidden_Словник!$A$2:$C$100,3,FALSE),\"\")","v":""},null,null,null,null,null,null,null,null,null,null,null,null,null,null,null,null,null,null,null,null,"",null,null,null,null,null,null,""]
[null,null,{"$f":"IFERROR(VLOOKUP(B142,Hidden_Словник!$A$2:$C$100,3,FALSE),\"\")","v":""},null,null,null,null,null,null,null,null,null,null,null,null,null,null,null,null,null,null,null,null,"",null,null,null,null,null,null,""]
[null,null,{"$f":"IFERROR(VLOOKUP(B143,Hidden_Словник!$A$2:$C$100,3,FALSE),\"\")","v":""},null,null,null,null,null,null,null,null,null,null,null,null,null,null,null,null,null,null,null,null,"",null,null,null,null,null,null,""]
[null,null,{"$f":"IFERROR(VLOOKUP(B144,Hidden_Словник!$A$2:$C$100,3,FALSE),\"\")","v":""},null,null,null,null,null,null,null,null,null,null,null,null,null,null,null,null,null,null,null,null,"",null,null,null,null,null,null,""]
[null,null,{"$f":"IFERROR(VLOOKUP(B145,Hidden_Словник!$A$2:$C$100,3,FALSE),\"\")","v":""},null,null,null,null,null,null,null,null,null,null,null,null,null,null,null,null,null,null,null,null,"",null,null,null,null,null,null,""]
[null,null,{"$f":"IFERROR(VLOOKUP(B146,Hidden_Словник!$A$2:$C$100,3,FALSE),\"\")","v":""},null,null,null,null,null,null,null,null,null,null,null,null,null,null,null,null,null,null,null,null,"",null,null,null,null,null,null,""]
[null,null,{"$f":"IFERROR(VLOOKUP(B147,Hidden_Словник!$A$2:$C$100,3,FALSE),\"\")","v":""},null,null,null,null,null,null,null,null,null,null,null,null,null,null,null,null,null,null,null,null,"",null,null,null,null,null,null,""]
[null,null,{"$f":"IFERROR(VLOOKUP(B148,Hidden_Словник!$A$2:$C$100,3,FALSE),\"\")","v":""},null,null,null,null,null,null,null,null,null,null,null,null,null,null,null,null,null,null,null,null,{"$f":"IF(Y148+Z148>0,Y148+Z148,\"\")","v":""},null,null,null,null,null,null,{"$f":"IF(F148=\"\",\"\",IF(F148=\"Ліквідовано\",\"ТАК\",\"НІ\"))","v":""}]
[null,null,{"$f":"IFERROR(VLOOKUP(B149,Hidden_Словник!$A$2:$C$100,3,FALSE),\"\")","v":""},null,null,null,null,null,null,null,null,null,null,null,null,null,null,null,null,null,null,null,null,"",null,null,null,null,null,null,""]
[null,null,{"$f":"IFERROR(VLOOKUP(B150,Hidden_Словник!$A$2:$C$100,3,FALSE),\"\")","v":""},null,null,null,null,null,null,null,null,null,null,null,null,null,null,null,null,null,null,null,null,"",null,null,null,null,null,null,""]
[null,null,{"$f":"IFERROR(VLOOKUP(B151,Hidden_Словник!$A$2:$C$100,3,FALSE),\"\")","v":""},null,null,null,null,null,null,null,null,null,null,null,null,null,null,null,null,null,null,null,null,"",null,null,null,null,null,null,""]
[null,null,{"$f":"IFERROR(VLOOKUP(B152,Hidden_Словник!$A$2:$C$100,3,FALSE),\"\")","v":""},null,null,null,null,null,null,null,null,null,null,null,null,null,null,null,null,null,null,null,null,"",null,null,null,null,null,null,""]
[null,null,{"$f":"IFERROR(VLOOKUP(B153,Hidden_Словник!$A$2:$C$100,3,FALSE),\"\")","v":""},null,null,null,null,null,null,null,null,null,null,null,null,null,null,null,null,null,null,null,null,"",null,null,null,null,null,null,""]
[null,null,{"$f":"IFERROR(VLOOKUP(B154,Hidden_Словник!$A$2:$C$100,3,FALSE),\"\")","v":""},null,null,null,null,null,null,null,null,null,null,null,null,null,null,null,null,null,null,null,null,"",null,null,null,null,null,null,""]
[null,null,{"$f":"IFERROR(VLOOKUP(B155,Hidden_Словник!$A$2:$C$100,3,FALSE),\"\")","v":""},null,null,null,null,null,null,null,null,null,null,null,null,null,null,null,null,null,null,null,null,"",null,null,null,null,null,null,""]
[null,null,{"$f":"IFERROR(VLOOKUP(B156,Hidden_Словник!$A$2:$C$100,3,FALSE),\"\")","v":""},null,null,null,null,null,null,null,null,null,null,null,null,null,null,null,null,null,null,null,null,"",null,null,null,null,null,null,""]
[null,null,{"$f":"IFERROR(VLOOKUP(B157,Hidden_Словник!$A$2:$C$100,3,FALSE),\"\")","v":""},null,null,null,null,null,null,null,null,null,null,null,null,null,null,null,null,null,null,null,null,"",null,null,null,null,null,null,""]
[null,null,{"$f":"IFERROR(VLOOKUP(B158,Hidden_Словник!$A$2:$C$100,3,FALSE),\"\")","v":""},null,null,null,null,null,null,null,null,null,null,null,null,null,null,null,null,null,null,null,null,"",null,null,null,null,null,null,""]
[null,null,{"$f":"IFERROR(VLOOKUP(B159,Hidden_Словник!$A$2:$C$100,3,FALSE),\"\")","v":""},null,null,null,null,null,null,null,null,null,null,null,null,null,null,null,null,null,null,null,null,"",null,null,null,null,null,null,""]
[null,null,{"$f":"IFERROR(VLOOKUP(B160,Hidden_Словник!$A$2:$C$100,3,FALSE),\"\")","v":""},null,null,null,null,null,null,null,null,null,null,null,null,null,null,null,null,null,null,null,null,"",null,null,null,null,null,null,""]
[null,null,{"$f":"IFERROR(VLOOKUP(B161,Hidden_Словник!$A$2:$C$100,3,FALSE),\"\")","v":""},null,null,null,null,null,null,null,null,null,null,null,null,null,null,null,null,null,null,null,null,"",null,null,null,null,null,null,""]
[null,null,{"$f":"IFERROR(VLOOKUP(B162,Hidden_Словник!$A$2:$C$100,3,FALSE),\"\")","v":""},null,null,null,null,null,null,null,null,null,null,null,null,null,null,null,null,null,null,null,null,"",null,null,null,null,null,null,""]
[null,null,{"$f":"IFERROR(VLOOKUP(B163,Hidden_Словник!$A$2:$C$100,3,FALSE),\"\")","v":""},null,null,null,null,null,null,null,null,null,null,null,null,null,null,null,null,null,null,null,null,"",null,null,null,null,null,null,""]
[null,null,{"$f":"IFERROR(VLOOKUP(B164,Hidden_Словник!$A$2:$C$100,3,FALSE),\"\")","v":""},null,null,null,null,null,null,null,null,null,null,null,null,null,null,null,null,null,null,null,null,"",null,null,null,null,null,null,""]
[null,null,{"$f":"IFERROR(VLOOKUP(B165,Hidden_Словник!$A$2:$C$100,3,FALSE),\"\")","v":""},null,null,null,null,null,null,null,null,null,null,null,null,null,null,null,null,null,null,null,null,"",null,null,null,null,null,null,""]
[null,null,{"$f":"IFERROR(VLOOKUP(B166,Hidden_Словник!$A$2:$C$100,3,FALSE),\"\")","v":""},null,null,null,null,null,null,null,null,null,null,null,null,null,null,null,null,null,null,null,null,"",null,null,null,null,null,null,""]
[null,null,{"$f":"IFERROR(VLOOKUP(B167,Hidden_Словник!$A$2:$C$100,3,FALSE),\"\")","v":""},null,null,null,null,null,null,null,null,null,null,null,null,null,null,null,null,null,null,null,null,"",null,null,null,null,null,null,""]
[null,null,{"$f":"IFERROR(VLOOKUP(B168,Hidden_Словник!$A$2:$C$100,3,FALSE),\"\")","v":""},null,null,null,null,null,null,null,null,null,null,null,null,null,null,null,null,null,null,null,null,"",null,null,null,null,null,null,""]
[null,null,{"$f":"IFERROR(VLOOKUP(B169,Hidden_Словник!$A$2:$C$100,3,FALSE),\"\")","v":""},null,null,null,null,null,null,null,null,null,null,null,null,null,null,null,null,null,null,null,null,"",null,null,null,null,null,null,""]
[null,null,{"$f":"IFERROR(VLOOKUP(B170,Hidden_Словник!$A$2:$C$100,3,FALSE),\"\")","v":""},null,null,null,null,null,null,null,null,null,null,null,null,null,null,null,null,null,null,null,null,"",null,null,null,null,null,null,""]
[null,null,{"$f":"IFERROR(VLOOKUP(B171,Hidden_Словник!$A$2:$C$100,3,FALSE),\"\")","v":""},null,null,null,null,null,null,null,null,null,null,null,null,null,null,null,null,null,null,null,null,"",null,null,null,null,null,null,""]
[null,null,{"$f":"IFERROR(VLOOKUP(B172,Hidden_Словник!$A$2:$C$100,3,FALSE),\"\")","v":""},null,null,null,null,null,null,null,null,null,null,null,null,null,null,null,null,null,null,null,null,"",null,null,null,null,null,null,""]
[null,null,{"$f":"IFERROR(VLOOKUP(B173,Hidden_Словник!$A$2:$C$100,3,FALSE),\"\")","v":""},null,null,null,null,null,null,null,null,null,null,null,null,null,null,null,null,null,null,null,null,"",null,null,null,null,null,null,""]
[null,null,{"$f":"IFERROR(VLOOKUP(B174,Hidden_Словник!$A$2:$C$100,3,FALSE),\"\")","v":""},null,null,null,null,null,null,null,null,null,null,null,null,null,null,null,null,null,null,null,null,"",null,null,null,null,null,null,""]
[null,null,{"$f":"IFERROR(VLOOKUP(B175,Hidden_Словник!$A$2:$C$100,3,FALSE),\"\")","v":""},null,null,null,null,null,null,null,null,null,null,null,null,null,null,null,null,null,null,null,null,"",null,null,null,null,null,null,""]
[null,null,{"$f":"IFERROR(VLOOKUP(B176,Hidden_Словник!$A$2:$C$100,3,FALSE),\"\")","v":""},null,null,null,null,null,null,null,null,null,null,null,null,null,null,null,null,null,null,null,null,"",null,null,null,null,null,null,""]
[null,null,{"$f":"IFERROR(VLOOKUP(B177,Hidden_Словник!$A$2:$C$100,3,FALSE),\"\")","v":""},null,null,null,null,null,null,null,null,null,null,null,null,null,null,null,null,null,null,null,null,"",null,null,null,null,null,null,""]
[null,null,{"$f":"IFERROR(VLOOKUP(B178,Hidden_Словник!$A$2:$C$100,3,FALSE),\"\")","v":""},null,null,null,null,null,null,null,null,null,null,null,null,null,null,null,null,null,null,null,null,"",null,null,null,null,null,null,""]
[null,null,{"$f":"IFERROR(VLOOKUP(B179,Hidden_Словник!$A$2:$C$100,3,FALSE),\"\")","v":""},null,null,null,null,null,null,null,null,null,null,null,null,null,null,null,null,null,null,null,null,"",null,null,null,null,null,null,""]
[null,null,{"$f":"IFERROR(VLOOKUP(B180,Hidden_Словник!$A$2:$C$100,3,FALSE),\"\")","v":""},null,null,null,null,null,null,null,null,null,null,null,null,null,null,null,null,null,null,null,null,"",null,null,null,null,null,null,""]
[null,null,{"$f":"IFERROR(VLOOKUP(B181,Hidden_Словник!$A$2:$C$100,3,FALSE),\"\")","v":""},null,null,null,null,null,null,null,null,null,null,null,null,null,null,null,null,null,null,null,null,"",null,null,null,null,null,null,""]
[null,null,{"$f":"IFERROR(VLOOKUP(B182,Hidden_Словник!$A$2:$C$100,3,FALSE),\"\")","v":""},null,null,null,null,null,null,null,null,null,null,null,null,null,null,null,null,null,null,null,null,"",null,null,null,null,null,null,""]
[null,null,{"$f":"IFERROR(VLOOKUP(B183,Hidden_Словник!$A$2:$C$100,3,FALSE),\"\")","v":""},null,null,null,null,null,null,null,null,null,null,null,null,null,null,null,null,null,null,null,null,"",null,null,null,null,null,null,""]
[null,null,{"$f":"IFERROR(VLOOKUP(B184,Hidden_Словник!$A$2:$C$100,3,FALSE),\"\")","v":""},null,null,null,null,null,null,null,null,null,null,null,null,null,null,null,null,null,null,null,null,"",null,null,null,null,null,null,""]
[null,null,{"$f":"IFERROR(VLOOKUP(B185,Hidden_Словник!$A$2:$C$100,3,FALSE),\"\")","v":""},null,null,null,null,null,null,null,null,null,null,null,null,null,null,null,null,null,null,null,null,"",null,null,null,null,null,null,""]
[null,null,{"$f":"IFERROR(VLOOKUP(B186,Hidden_Словник!$A$2:$C$100,3,FALSE),\"\")","v":""},null,null,null,null,null,null,null,null,null,null,null,null,null,null,null,null,null,null,null,null,"",null,null,null,null,null,null,""]
[null,null,{"$f":"IFERROR(VLOOKUP(B187,Hidden_Словник!$A$2:$C$100,3,FALSE),\"\")","v":""},null,null,null,null,null,null,null,null,null,null,null,null,null,null,null,null,null,null,null,null,"",null,null,null,null,null,null,""]
[null,null,{"$f":"IFERROR(VLOOKUP(B188,Hidden_Словник!$A$2:$C$100,3,FALSE),\"\")","v":""},null,null,null,null,null,null,null,null,null,null,null,null,null,null,null,null,null,null,null,null,"",null,null,null,null,null,null,""]
[null,null,{"$f":"IFERROR(VLOOKUP(B189,Hidden_Словник!$A$2:$C$100,3,FALSE),\"\")","v":""},null,null,null,null,null,null,null,null,null,null,null,null,null,null,null,null,null,null,null,null,"",null,null,null,null,null,null,""]
[null,null,{"$f":"IFERROR(VLOOKUP(B190,Hidden_Словник!$A$2:$C$100,3,FALSE),\"\")","v":""},null,null,null,null,null,null,null,null,null,null,null,null,null,null,null,null,null,null,null,null,"",null,null,null,null,null,null,""]
[null,null,{"$f":"IFERROR(VLOOKUP(B191,Hidden_Словник!$A$2:$C$100,3,FALSE),\"\")","v":""},null,null,null,null,null,null,null,null,null,null,null,null,null,null,null,null,null,null,null,null,"",null,null,null,null,null,null,""]
[null,null,{"$f":"IFERROR(VLOOKUP(B192,Hidden_Словник!$A$2:$C$100,3,FALSE),\"\")","v":""},null,null,null,null,null,null,null,null,null,null,null,null,null,null,null,null,null,null,null,null,"",null,null,null,null,null,null,""]
[null,null,{"$f":"IFERROR(VLOOKUP(B193,Hidden_Словник!$A$2:$C$100,3,FALSE),\"\")","v":""},null,null,null,null,null,null,null,null,null,null,null,null,null,null,null,null,null,null,null,null,"",null,null,null,null,null,null,""]
[null,null,{"$f":"IFERROR(VLOOKUP(B194,Hidden_Словник!$A$2:$C$100,3,FALSE),\"\")","v":""},null,null,null,null,null,null,null,null,null,null,null,null,null,null,null,null,null,null,null,null,"",null,null,null,null,null,null,""]
[null,null,{"$f":"IFERROR(VLOOKUP(B195,Hidden_Словник!$A$2:$C$100,3,FALSE),\"\")","v":""},null,null,null,null,null,null,null,null,null,null,null,null,null,null,null,null,null,null,null,null,"",null,null,null,null,null,null,""]
[null,null,{"$f":"IFERROR(VLOOKUP(B196,Hidden_Словник!$A$2:$C$100,3,FALSE),\"\")","v":""},null,null,null,null,null,null,null,null,null,null,null,null,null,null,null,null,null,null,null,null,"",null,null,null,null,null,null,""]
[null,null,{"$f":"IFERROR(VLOOKUP(B197,Hidden_Словник!$A$2:$C$100,3,FALSE),\"\")","v":""},null,null,null,null,null,null,null,null,null,null,null,null,null,null,null,null,null,null,null,null,"",null,null,null,null,null,null,""]
[null,null,{"$f":"IFERROR(VLOOKUP(B198,Hidden_Словник!$A$2:$C$100,3,FALSE),\"\")","v":""},null,null,null,null,null,null,null,null,null,null,null,null,null,null,null,null,null,null,null,null,"",null,null,null,null,null,null,""]
[null,null,{"$f":"IFERROR(VLOOKUP(B199,Hidden_Словник!$A$2:$C$100,3,FALSE),\"\")","v":""},null,null,null,null,null,null,null,null,null,null,null,null,null,null,null,null,null,null,null,null,"",null,null,null,null,null,null,""]
[null,null,{"$f":"IFERROR(VLOOKUP(B200,Hidden_Словник!$A$2:$C$100,3,FALSE),\"\")","v":""},null,null,null,null,null,null,null,null,null,null,null,null,null,null,null,null,null,null,null,null,"",null,null,null,null,null,null,""]
[null,null,{"$f":"IFERROR(VLOOKUP(B201,Hidden_Словник!$A$2:$C$100,3,FALSE),\"\")","v":""},null,null,null,null,null,null,null,null,null,null,null,null,null,null,null,null,null,null,null,null,"",null,null,null,null,null,null,""]
[null,null,{"$f":"IFERROR(VLOOKUP(B202,Hidden_Словник!$A$2:$C$100,3,FALSE),\"\")","v":""},null,null,null,null,null,null,null,null,null,null,null,null,null,null,null,null,null,null,null,null,"",null,null,null,null,null,null,""]
[null,null,{"$f":"IFERROR(VLOOKUP(B203,Hidden_Словник!$A$2:$C$100,3,FALSE),\"\")","v":""},null,null,null,null,null,null,null,null,null,null,null,null,null,null,null,null,null,null,null,null,"",null,null,null,null,null,null,""]
[null,null,{"$f":"IFERROR(VLOOKUP(B204,Hidden_Словник!$A$2:$C$100,3,FALSE),\"\")","v":""},null,null,null,null,null,null,null,null,null,null,null,null,null,null,null,null,null,null,null,null,"",null,null,null,null,null,null,""]
[null,null,{"$f":"IFERROR(VLOOKUP(B205,Hidden_Словник!$A$2:$C$100,3,FALSE),\"\")","v":""},null,null,null,null,null,null,null,null,null,null,null,null,null,null,null,null,null,null,null,null,"",null,null,null,null,null,null,""]
[null,null,{"$f":"IFERROR(VLOOKUP(B206,Hidden_Словник!$A$2:$C$100,3,FALSE),\"\")","v":""},null,null,null,null,null,null,null,null,null,null,null,null,null,null,null,null,null,null,null,null,"",null,null,null,null,null,null,""]
[null,null,{"$f":"IFERROR(VLOOKUP(B207,Hidden_Словник!$A$2:$C$100,3,FALSE),\"\")","v":""},null,null,null,null,null,null,null,null,null,null,null,null,null,null,null,null,null,null,null,null,"",null,null,null,null,null,null,""]
[null,null,{"$f":"IFERROR(VLOOKUP(B208,Hidden_Словник!$A$2:$C$100,3,FALSE),\"\")","v":""},null,null,null,null,null,null,null,null,null,null,null,null,null,null,null,null,null,null,null,null,"",null,null,null,null,null,null,""]
[null,null,{"$f":"IFERROR(VLOOKUP(B209,Hidden_Словник!$A$2:$C$100,3,FALSE),\"\")","v":""},null,null,null,null,null,null,null,null,null,null,null,null,null,null,null,null,null,null,null,null,"",null,null,null,null,null,null,""]
[null,null,{"$f":"IFERROR(VLOOKUP(B210,Hidden_Словник!$A$2:$C$100,3,FALSE),\"\")","v":""},null,null,null,null,null,null,null,null,null,null,null,null,null,null,null,null,null,null,null,null,"",null,null,null,null,null,null,""]
[null,null,{"$f":"IFERROR(VLOOKUP(B211,Hidden_Словник!$A$2:$C$100,3,FALSE),\"\")","v":""},null,null,null,null,null,null,null,null,null,null,null,null,null,null,null,null,null,null,null,null,"",null,null,null,null,null,null,""]
[null,null,{"$f":"IFERROR(VLOOKUP(B212,Hidden_Словник!$A$2:$C$100,3,FALSE),\"\")","v":""},null,null,null,null,null,null,null,null,null,null,null,null,null,null,null,null,null,null,null,null,{"$f":"IF(Y212+Z212>0,Y212+Z212,\"\")","v":""},null,null,null,null,null,null,{"$f":"IF(F212=\"\",\"\",IF(F212=\"Ліквідовано\",\"ТАК\",\"НІ\"))","v":""}]
[null,null,{"$f":"IFERROR(VLOOKUP(B213,Hidden_Словник!$A$2:$C$100,3,FALSE),\"\")","v":""},null,null,null,null,null,null,null,null,null,null,null,null,null,null,null,null,null,null,null,null,"",null,null,null,null,null,null,""]
[null,null,{"$f":"IFERROR(VLOOKUP(B214,Hidden_Словник!$A$2:$C$100,3,FALSE),\"\")","v":""},null,null,null,null,null,null,null,null,null,null,null,null,null,null,null,null,null,null,null,null,"",null,null,null,null,null,null,""]
[null,null,{"$f":"IFERROR(VLOOKUP(B215,Hidden_Словник!$A$2:$C$100,3,FALSE),\"\")","v":""},null,null,null,null,null,null,null,null,null,null,null,null,null,null,null,null,null,null,null,null,"",null,null,null,null,null,null,""]
[null,null,{"$f":"IFERROR(VLOOKUP(B216,Hidden_Словник!$A$2:$C$100,3,FALSE),\"\")","v":""},null,null,null,null,null,null,null,null,null,null,null,null,null,null,null,null,null,null,null,null,"",null,null,null,null,null,null,""]
[null,null,{"$f":"IFERROR(VLOOKUP(B217,Hidden_Словник!$A$2:$C$100,3,FALSE),\"\")","v":""},null,null,null,null,null,null,null,null,null,null,null,null,null,null,null,null,null,null,null,null,"",null,null,null,null,null,null,""]
[null,null,{"$f":"IFERROR(VLOOKUP(B218,Hidden_Словник!$A$2:$C$100,3,FALSE),\"\")","v":""},null,null,null,null,null,null,null,null,null,null,null,null,null,null,null,null,null,null,null,null,"",null,null,null,null,null,null,""]
[null,null,{"$f":"IFERROR(VLOOKUP(B219,Hidden_Словник!$A$2:$C$100,3,FALSE),\"\")","v":""},null,null,null,null,null,null,null,null,null,null,null,null,null,null,null,null,null,null,null,null,"",null,null,null,null,null,null,""]
[null,null,{"$f":"IFERROR(VLOOKUP(B220,Hidden_Словник!$A$2:$C$100,3,FALSE),\"\")","v":""},null,null,null,null,null,null,null,null,null,null,null,null,null,null,null,null,null,null,null,null,"",null,null,null,null,null,null,""]
[null,null,{"$f":"IFERROR(VLOOKUP(B221,Hidden_Словник!$A$2:$C$100,3,FALSE),\"\")","v":""},null,null,null,null,null,null,null,null,null,null,null,null,null,null,null,null,null,null,null,null,"",null,null,null,null,null,null,""]
[null,null,{"$f":"IFERROR(VLOOKUP(B222,Hidden_Словник!$A$2:$C$100,3,FALSE),\"\")","v":""},null,null,null,null,null,null,null,null,null,null,null,null,null,null,null,null,null,null,null,null,"",null,null,null,null,null,null,""]
[null,null,{"$f":"IFERROR(VLOOKUP(B223,Hidden_Словник!$A$2:$C$100,3,FALSE),\"\")","v":""},null,null,null,null,null,null,null,null,null,null,null,null,null,null,null,null,null,null,null,null,"",null,null,null,null,null,null,""]
[null,null,{"$f":"IFERROR(VLOOKUP(B224,Hidden_Словник!$A$2:$C$100,3,FALSE),\"\")","v":""},null,null,null,null,null,null,null,null,null,null,null,null,null,null,null,null,null,null,null,null,"",null,null,null,null,null,null,""]
[null,null,{"$f":"IFERROR(VLOOKUP(B225,Hidden_Словник!$A$2:$C$100,3,FALSE),\"\")","v":""},null,null,null,null,null,null,null,null,null,null,null,null,null,null,null,null,null,null,null,null,"",null,null,null,null,null,null,""]
[null,null,{"$f":"IFERROR(VLOOKUP(B226,Hidden_Словник!$A$2:$C$100,3,FALSE),\"\")","v":""},null,null,null,null,null,null,null,null,null,null,null,null,null,null,null,null,null,null,null,null,"",null,null,null,null,null,null,""]
[null,null,{"$f":"IFERROR(VLOOKUP(B227,Hidden_Словник!$A$2:$C$100,3,FALSE),\"\")","v":""},null,null,null,null,null,null,null,null,null,null,null,null,null,null,null,null,null,null,null,null,"",null,null,null,null,null,null,""]
[null,null,{"$f":"IFERROR(VLOOKUP(B228,Hidden_Словник!$A$2:$C$100,3,FALSE),\"\")","v":""},null,null,null,null,null,null,null,null,null,null,null,null,null,null,null,null,null,null,null,null,"",null,null,null,null,null,null,""]
[null,null,{"$f":"IFERROR(VLOOKUP(B229,Hidden_Словник!$A$2:$C$100,3,FALSE),\"\")","v":""},null,null,null,null,null,null,null,null,null,null,null,null,null,null,null,null,null,null,null,null,"",null,null,null,null,null,null,""]
[null,null,{"$f":"IFERROR(VLOOKUP(B230,Hidden_Словник!$A$2:$C$100,3,FALSE),\"\")","v":""},null,null,null,null,null,null,null,null,null,null,null,null,null,null,null,null,null,null,null,null,"",null,null,null,null,null,null,""]
[null,null,{"$f":"IFERROR(VLOOKUP(B231,Hidden_Словник!$A$2:$C$100,3,FALSE),\"\")","v":""},null,null,null,null,null,null,null,null,null,null,null,null,null,null,null,null,null,null,null,null,"",null,null,null,null,null,null,""]
[null,null,{"$f":"IFERROR(VLOOKUP(B232,Hidden_Словник!$A$2:$C$100,3,FALSE),\"\")","v":""},null,null,null,null,null,null,null,null,null,null,null,null,null,null,null,null,null,null,null,null,"",null,null,null,null,null,null,""]
[null,null,{"$f":"IFERROR(VLOOKUP(B233,Hidden_Словник!$A$2:$C$100,3,FALSE),\"\")","v":""},null,null,null,null,null,null,null,null,null,null,null,null,null,null,null,null,null,null,null,null,"",null,null,null,null,null,null,""]
[null,null,{"$f":"IFERROR(VLOOKUP(B234,Hidden_Словник!$A$2:$C$100,3,FALSE),\"\")","v":""},null,null,null,null,null,null,null,null,null,null,null,null,null,null,null,null,null,null,null,null,"",null,null,null,null,null,null,""]
[null,null,{"$f":"IFERROR(VLOOKUP(B235,Hidden_Словник!$A$2:$C$100,3,FALSE),\"\")","v":""},null,null,null,null,null,null,null,null,null,null,null,null,null,null,null,null,null,null,null,null,"",null,null,null,null,null,null,""]
[null,null,{"$f":"IFERROR(VLOOKUP(B236,Hidden_Словник!$A$2:$C$100,3,FALSE),\"\")","v":""},null,null,null,null,null,null,null,null,null,null,null,null,null,null,null,null,null,null,null,null,"",null,null,null,null,null,null,""]
[null,null,{"$f":"IFERROR(VLOOKUP(B237,Hidden_Словник!$A$2:$C$100,3,FALSE),\"\")","v":""},null,null,null,null,null,null,null,null,null,null,null,null,null,null,null,null,null,null,null,null,"",null,null,null,null,null,null,""]
[null,null,{"$f":"IFERROR(VLOOKUP(B238,Hidden_Словник!$A$2:$C$100,3,FALSE),\"\")","v":""},null,null,null,null,null,null,null,null,null,null,null,null,null,null,null,null,null,null,null,null,"",null,null,null,null,null,null,""]
[null,null,{"$f":"IFERROR(VLOOKUP(B239,Hidden_Словник!$A$2:$C$100,3,FALSE),\"\")","v":""},null,null,null,null,null,null,null,null,null,null,null,null,null,null,null,null,null,null,null,null,"",null,null,null,null,null,null,""]
[null,null,{"$f":"IFERROR(VLOOKUP(B240,Hidden_Словник!$A$2:$C$100,3,FALSE),\"\")","v":""},null,null,null,null,null,null,null,null,null,null,null,null,null,null,null,null,null,null,null,null,"",null,null,null,null,null,null,""]
[null,null,{"$f":"IFERROR(VLOOKUP(B241,Hidden_Словник!$A$2:$C$100,3,FALSE),\"\")","v":""},null,null,null,null,null,null,null,null,null,null,null,null,null,null,null,null,null,null,null,null,"",null,null,null,null,null,null,""]
[null,null,{"$f":"IFERROR(VLOOKUP(B242,Hidden_Словник!$A$2:$C$100,3,FALSE),\"\")","v":""},null,null,null,null,null,null,null,null,null,null,null,null,null,null,null,null,null,null,null,null,"",null,null,null,null,null,null,""]
[null,null,{"$f":"IFERROR(VLOOKUP(B243,Hidden_Словник!$A$2:$C$100,3,FALSE),\"\")","v":""},null,null,null,null,null,null,null,null,null,null,null,null,null,null,null,null,null,null,null,null,"",null,null,null,null,null,null,""]
[null,null,{"$f":"IFERROR(VLOOKUP(B244,Hidden_Словник!$A$2:$C$100,3,FALSE),\"\")","v":""},null,null,null,null,null,null,null,null,null,null,null,null,null,null,null,null,null,null,null,null,"",null,null,null,null,null,null,""]
[null,null,{"$f":"IFERROR(VLOOKUP(B245,Hidden_Словник!$A$2:$C$100,3,FALSE),\"\")","v":""},null,null,null,null,null,null,null,null,null,null,null,null,null,null,null,null,null,null,null,null,"",null,null,null,null,null,null,""]
[null,null,{"$f":"IFERROR(VLOOKUP(B246,Hidden_Словник!$A$2:$C$100,3,FALSE),\"\")","v":""},null,null,null,null,null,null,null,null,null,null,null,null,null,null,null,null,null,null,null,null,"",null,null,null,null,null,null,""]
[null,null,{"$f":"IFERROR(VLOOKUP(B247,Hidden_Словник!$A$2:$C$100,3,FALSE),\"\")","v":""},null,null,null,null,null,null,null,null,null,null,null,null,null,null,null,null,null,null,null,null,"",null,null,null,null,null,null,""]
[null,null,{"$f":"IFERROR(VLOOKUP(B248,Hidden_Словник!$A$2:$C$100,3,FALSE),\"\")","v":""},null,null,null,null,null,null,null,null,null,null,null,null,null,null,null,null,null,null,null,null,"",null,null,null,null,null,null,""]
[null,null,{"$f":"IFERROR(VLOOKUP(B249,Hidden_Словник!$A$2:$C$100,3,FALSE),\"\")","v":""},null,null,null,null,null,null,null,null,null,null,null,null,null,null,null,null,null,null,null,null,"",null,null,null,null,null,null,""]
[null,null,{"$f":"IFERROR(VLOOKUP(B250,Hidden_Словник!$A$2:$C$100,3,FALSE),\"\")","v":""},null,null,null,null,null,null,null,null,null,null,null,null,null,null,null,null,null,null,null,null,"",null,null,null,null,null,null,""]
[null,null,{"$f":"IFERROR(VLOOKUP(B251,Hidden_Словник!$A$2:$C$100,3,FALSE),\"\")","v":""},null,null,null,null,null,null,null,null,null,null,null,null,null,null,null,null,null,null,null,null,"",null,null,null,null,null,null,""]
[null,null,{"$f":"IFERROR(VLOOKUP(B252,Hidden_Словник!$A$2:$C$100,3,FALSE),\"\")","v":""},null,null,null,null,null,null,null,null,null,null,null,null,null,null,null,null,null,null,null,null,"",null,null,null,null,null,null,""]
[null,null,{"$f":"IFERROR(VLOOKUP(B253,Hidden_Словник!$A$2:$C$100,3,FALSE),\"\")","v":""},null,null,null,null,null,null,null,null,null,null,null,null,null,null,null,null,null,null,null,null,"",null,null,null,null,null,null,""]
[null,null,{"$f":"IFERROR(VLOOKUP(B254,Hidden_Словник!$A$2:$C$100,3,FALSE),\"\")","v":""},null,null,null,null,null,null,null,null,null,null,null,null,null,null,null,null,null,null,null,null,"",null,null,null,null,null,null,""]
[null,null,{"$f":"IFERROR(VLOOKUP(B255,Hidden_Словник!$A$2:$C$100,3,FALSE),\"\")","v":""},null,null,null,null,null,null,null,null,null,null,null,null,null,null,null,null,null,null,null,null,"",null,null,null,null,null,null,""]
[null,null,{"$f":"IFERROR(VLOOKUP(B256,Hidden_Словник!$A$2:$C$100,3,FALSE),\"\")","v":""},null,null,null,null,null,null,null,null,null,null,null,null,null,null,null,null,null,null,null,null,"",null,null,null,null,null,null,""]
[null,null,{"$f":"IFERROR(VLOOKUP(B257,Hidden_Словник!$A$2:$C$100,3,FALSE),\"\")","v":""},null,null,null,null,null,null,null,null,null,null,null,null,null,null,null,null,null,null,null,null,"",null,null,null,null,null,null,""]
[null,null,{"$f":"IFERROR(VLOOKUP(B258,Hidden_Словник!$A$2:$C$100,3,FALSE),\"\")","v":""},null,null,null,null,null,null,null,null,null,null,null,null,null,null,null,null,null,null,null,null,"",null,null,null,null,null,null,""]
[null,null,{"$f":"IFERROR(VLOOKUP(B259,Hidden_Словник!$A$2:$C$100,3,FALSE),\"\")","v":""},null,null,null,null,null,null,null,null,null,null,null,null,null,null,null,null,null,null,null,null,"",null,null,null,null,null,null,""]
[null,null,{"$f":"IFERROR(VLOOKUP(B260,Hidden_Словник!$A$2:$C$100,3,FALSE),\"\")","v":""},null,null,null,null,null,null,null,null,null,null,null,null,null,null,null,null,null,null,null,null,"",null,null,null,null,null,null,""]
[null,null,{"$f":"IFERROR(VLOOKUP(B261,Hidden_Словник!$A$2:$C$100,3,FALSE),\"\")","v":""},null,null,null,null,null,null,null,null,null,null,null,null,null,null,null,null,null,null,null,null,"",null,null,null,null,null,null,""]
[null,null,{"$f":"IFERROR(VLOOKUP(B262,Hidden_Словник!$A$2:$C$100,3,FALSE),\"\")","v":""},null,null,null,null,null,null,null,null,null,null,null,null,null,null,null,null,null,null,null,null,"",null,null,null,null,null,null,""]
[null,null,{"$f":"IFERROR(VLOOKUP(B263,Hidden_Словник!$A$2:$C$100,3,FALSE),\"\")","v":""},null,null,null,null,null,null,null,null,null,null,null,null,null,null,null,null,null,null,null,null,"",null,null,null,null,null,null,""]
[null,null,{"$f":"IFERROR(VLOOKUP(B264,Hidden_Словник!$A$2:$C$100,3,FALSE),\"\")","v":""},null,null,null,null,null,null,null,null,null,null,null,null,null,null,null,null,null,null,null,null,"",null,null,null,null,null,null,""]
[null,null,{"$f":"IFERROR(VLOOKUP(B265,Hidden_Словник!$A$2:$C$100,3,FALSE),\"\")","v":""},null,null,null,null,null,null,null,null,null,null,null,null,null,null,null,null,null,null,null,null,"",null,null,null,null,null,null,""]
[null,null,{"$f":"IFERROR(VLOOKUP(B266,Hidden_Словник!$A$2:$C$100,3,FALSE),\"\")","v":""},null,null,null,null,null,null,null,null,null,null,null,null,null,null,null,null,null,null,null,null,"",null,null,null,null,null,null,""]
[null,null,{"$f":"IFERROR(VLOOKUP(B267,Hidden_Словник!$A$2:$C$100,3,FALSE),\"\")","v":""},null,null,null,null,null,null,null,null,null,null,null,null,null,null,null,null,null,null,null,null,"",null,null,null,null,null,null,""]
[null,null,{"$f":"IFERROR(VLOOKUP(B268,Hidden_Словник!$A$2:$C$100,3,FALSE),\"\")","v":""},null,null,null,null,null,null,null,null,null,null,null,null,null,null,null,null,null,null,null,null,"",null,null,null,null,null,null,""]
[null,null,{"$f":"IFERROR(VLOOKUP(B269,Hidden_Словник!$A$2:$C$100,3,FALSE),\"\")","v":""},null,null,null,null,null,null,null,null,null,null,null,null,null,null,null,null,null,null,null,null,"",null,null,null,null,null,null,""]
[null,null,{"$f":"IFERROR(VLOOKUP(B270,Hidden_Словник!$A$2:$C$100,3,FALSE),\"\")","v":""},null,null,null,null,null,null,null,null,null,null,null,null,null,null,null,null,null,null,null,null,"",null,null,null,null,null,null,""]
[null,null,{"$f":"IFERROR(VLOOKUP(B271,Hidden_Словник!$A$2:$C$100,3,FALSE),\"\")","v":""},null,null,null,null,null,null,null,null,null,null,null,null,null,null,null,null,null,null,null,null,"",null,null,null,null,null,null,""]
[null,null,{"$f":"IFERROR(VLOOKUP(B272,Hidden_Словник!$A$2:$C$100,3,FALSE),\"\")","v":""},null,null,null,null,null,null,null,null,null,null,null,null,null,null,null,null,null,null,null,null,"",null,null,null,null,null,null,""]
[null,null,{"$f":"IFERROR(VLOOKUP(B273,Hidden_Словник!$A$2:$C$100,3,FALSE),\"\")","v":""},null,null,null,null,null,null,null,null,null,null,null,null,null,null,null,null,null,null,null,null,"",null,null,null,null,null,null,""]
[null,null,{"$f":"IFERROR(VLOOKUP(B274,Hidden_Словник!$A$2:$C$100,3,FALSE),\"\")","v":""},null,null,null,null,null,null,null,null,null,null,null,null,null,null,null,null,null,null,null,null,"",null,null,null,null,null,null,""]
[null,null,{"$f":"IFERROR(VLOOKUP(B275,Hidden_Словник!$A$2:$C$100,3,FALSE),\"\")","v":""},null,null,null,null,null,null,null,null,null,null,null,null,null,null,null,null,null,null,null,null,"",null,null,null,null,null,null,""]
[null,null,{"$f":"IFERROR(VLOOKUP(B276,Hidden_Словник!$A$2:$C$100,3,FALSE),\"\")","v":""},null,null,null,null,null,null,null,null,null,null,null,null,null,null,null,null,null,null,null,null,{"$f":"IF(Y276+Z276>0,Y276+Z276,\"\")","v":""},null,null,null,null,null,null,{"$f":"IF(F276=\"\",\"\",IF(F276=\"Ліквідовано\",\"ТАК\",\"НІ\"))","v":""}]
[null,null,{"$f":"IFERROR(VLOOKUP(B277,Hidden_Словник!$A$2:$C$100,3,FALSE),\"\")","v":""},null,null,null,null,null,null,null,null,null,null,null,null,null,null,null,null,null,null,null,null,"",null,null,null,null,null,null,""]
[null,null,{"$f":"IFERROR(VLOOKUP(B278,Hidden_Словник!$A$2:$C$100,3,FALSE),\"\")","v":""},null,null,null,null,null,null,null,null,null,null,null,null,null,null,null,null,null,null,null,null,"",null,null,null,null,null,null,""]
[null,null,{"$f":"IFERROR(VLOOKUP(B279,Hidden_Словник!$A$2:$C$100,3,FALSE),\"\")","v":""},null,null,null,null,null,null,null,null,null,null,null,null,null,null,null,null,null,null,null,null,"",null,null,null,null,null,null,""]
[null,null,{"$f":"IFERROR(VLOOKUP(B280,Hidden_Словник!$A$2:$C$100,3,FALSE),\"\")","v":""},null,null,null,null,null,null,null,null,null,null,null,null,null,null,null,null,null,null,null,null,"",null,null,null,null,null,null,""]
[null,null,{"$f":"IFERROR(VLOOKUP(B281,Hidden_Словник!$A$2:$C$100,3,FALSE),\"\")","v":""},null,null,null,null,null,null,null,null,null,null,null,null,null,null,null,null,null,null,null,null,"",null,null,null,null,null,null,""]
[null,null,{"$f":"IFERROR(VLOOKUP(B282,Hidden_Словник!$A$2:$C$100,3,FALSE),\"\")","v":""},null,null,null,null,null,null,null,null,null,null,null,null,null,null,null,null,null,null,null,null,"",null,null,null,null,null,null,""]
[null,null,{"$f":"IFERROR(VLOOKUP(B283,Hidden_Словник!$A$2:$C$100,3,FALSE),\"\")","v":""},null,null,null,null,null,null,null,null,null,null,null,null,null,null,null,null,null,null,null,null,"",null,null,null,null,null,null,""]
[null,null,{"$f":"IFERROR(VLOOKUP(B284,Hidden_Словник!$A$2:$C$100,3,FALSE),\"\")","v":""},null,null,null,null,null,null,null,null,null,null,null,null,null,null,null,null,null,null,null,null,"",null,null,null,null,null,null,""]
[null,null,{"$f":"IFERROR(VLOOKUP(B285,Hidden_Словник!$A$2:$C$100,3,FALSE),\"\")","v":""},null,null,null,null,null,null,null,null,null,null,null,null,null,null,null,null,null,null,null,null,"",null,null,null,null,null,null,""]
[null,null,{"$f":"IFERROR(VLOOKUP(B286,Hidden_Словник!$A$2:$C$100,3,FALSE),\"\")","v":""},null,null,null,null,null,null,null,null,null,null,null,null,null,null,null,null,null,null,null,null,"",null,null,null,null,null,null,""]
[null,null,{"$f":"IFERROR(VLOOKUP(B287,Hidden_Словник!$A$2:$C$100,3,FALSE),\"\")","v":""},null,null,null,null,null,null,null,null,null,null,null,null,null,null,null,null,null,null,null,null,"",null,null,null,null,null,null,""]
[null,null,{"$f":"IFERROR(VLOOKUP(B288,Hidden_Словник!$A$2:$C$100,3,FALSE),\"\")","v":""},null,null,null,null,null,null,null,null,null,null,null,null,null,null,null,null,null,null,null,null,"",null,null,null,null,null,null,""]
[null,null,{"$f":"IFERROR(VLOOKUP(B289,Hidden_Словник!$A$2:$C$100,3,FALSE),\"\")","v":""},null,null,null,null,null,null,null,null,null,null,null,null,null,null,null,null,null,null,null,null,"",null,null,null,null,null,null,""]
[null,null,{"$f":"IFERROR(VLOOKUP(B290,Hidden_Словник!$A$2:$C$100,3,FALSE),\"\")","v":""},null,null,null,null,null,null,null,null,null,null,null,null,null,null,null,null,null,null,null,null,"",null,null,null,null,null,null,""]
[null,null,{"$f":"IFERROR(VLOOKUP(B291,Hidden_Словник!$A$2:$C$100,3,FALSE),\"\")","v":""},null,null,null,null,null,null,null,null,null,null,null,null,null,null,null,null,null,null,null,null,"",null,null,null,null,null,null,""]
[null,null,{"$f":"IFERROR(VLOOKUP(B292,Hidden_Словник!$A$2:$C$100,3,FALSE),\"\")","v":""},null,null,null,null,null,null,null,null,null,null,null,null,null,null,null,null,null,null,null,null,"",null,null,null,null,null,null,""]
[null,null,{"$f":"IFERROR(VLOOKUP(B293,Hidden_Словник!$A$2:$C$100,3,FALSE),\"\")","v":""},null,null,null,null,null,null,null,null,null,null,null,null,null,null,null,null,null,null,null,null,"",null,null,null,null,null,null,""]
[null,null,{"$f":"IFERROR(VLOOKUP(B294,Hidden_Словник!$A$2:$C$100,3,FALSE),\"\")","v":""},null,null,null,null,null,null,null,null,null,null,null,null,null,null,null,null,null,null,null,null,"",null,null,null,null,null,null,""]
[null,null,{"$f":"IFERROR(VLOOKUP(B295,Hidden_Словник!$A$2:$C$100,3,FALSE),\"\")","v":""},null,null,null,null,null,null,null,null,null,null,null,null,null,null,null,null,null,null,null,null,"",null,null,null,null,null,null,""]
[null,null,{"$f":"IFERROR(VLOOKUP(B296,Hidden_Словник!$A$2:$C$100,3,FALSE),\"\")","v":""},null,null,null,null,null,null,null,null,null,null,null,null,null,null,null,null,null,null,null,null,"",null,null,null,null,null,null,""]
[null,null,{"$f":"IFERROR(VLOOKUP(B297,Hidden_Словник!$A$2:$C$100,3,FALSE),\"\")","v":""},null,null,null,null,null,null,null,null,null,null,null,null,null,null,null,null,null,null,null,null,"",null,null,null,null,null,null,""]
[null,null,{"$f":"IFERROR(VLOOKUP(B298,Hidden_Словник!$A$2:$C$100,3,FALSE),\"\")","v":""},null,null,null,null,null,null,null,null,null,null,null,null,null,null,null,null,null,null,null,null,"",null,null,null,null,null,null,""]
[null,null,{"$f":"IFERROR(VLOOKUP(B299,Hidden_Словник!$A$2:$C$100,3,FALSE),\"\")","v":""},null,null,null,null,null,null,null,null,null,null,null,null,null,null,null,null,null,null,null,null,"",null,null,null,null,null,null,""]
[null,null,{"$f":"IFERROR(VLOOKUP(B300,Hidden_Словник!$A$2:$C$100,3,FALSE),\"\")","v":""},null,null,null,null,null,null,null,null,null,null,null,null,null,null,null,null,null,null,null,null,"",null,null,null,null,null,null,""]
[null,null,{"$f":"IFERROR(VLOOKUP(B301,Hidden_Словник!$A$2:$C$100,3,FALSE),\"\")","v":""},null,null,null,null,null,null,null,null,null,null,null,null,null,null,null,null,null,null,null,null,"",null,null,null,null,null,null,""]
[null,null,{"$f":"IFERROR(VLOOKUP(B302,Hidden_Словник!$A$2:$C$100,3,FALSE),\"\")","v":""},null,null,null,null,null,null,null,null,null,null,null,null,null,null,null,null,null,null,null,null,"",null,null,null,null,null,null,""]
[null,null,{"$f":"IFERROR(VLOOKUP(B303,Hidden_Словник!$A$2:$C$100,3,FALSE),\"\")","v":""},null,null,null,null,null,null,null,null,null,null,null,null,null,null,null,null,null,null,null,null,"",null,null,null,null,null,null,""]
[null,null,{"$f":"IFERROR(VLOOKUP(B304,Hidden_Словник!$A$2:$C$100,3,FALSE),\"\")","v":""},null,null,null,null,null,null,null,null,null,null,null,null,null,null,null,null,null,null,null,null,"",null,null,null,null,null,null,""]
[null,null,{"$f":"IFERROR(VLOOKUP(B305,Hidden_Словник!$A$2:$C$100,3,FALSE),\"\")","v":""},null,null,null,null,null,null,null,null,null,null,null,null,null,null,null,null,null,null,null,null,"",null,null,null,null,null,null,""]
[null,null,{"$f":"IFERROR(VLOOKUP(B306,Hidden_Словник!$A$2:$C$100,3,FALSE),\"\")","v":""},null,null,null,null,null,null,null,null,null,null,null,null,null,null,null,null,null,null,null,null,"",null,null,null,null,null,null,""]
[null,null,{"$f":"IFERROR(VLOOKUP(B307,Hidden_Словник!$A$2:$C$100,3,FALSE),\"\")","v":""},null,null,null,null,null,null,null,null,null,null,null,null,null,null,null,null,null,null,null,null,"",null,null,null,null,null,null,""]
[null,null,{"$f":"IFERROR(VLOOKUP(B308,Hidden_Словник!$A$2:$C$100,3,FALSE),\"\")","v":""},null,null,null,null,null,null,null,null,null,null,null,null,null,null,null,null,null,null,null,null,"",null,null,null,null,null,null,""]
[null,null,{"$f":"IFERROR(VLOOKUP(B309,Hidden_Словник!$A$2:$C$100,3,FALSE),\"\")","v":""},null,null,null,null,null,null,null,null,null,null,null,null,null,null,null,null,null,null,null,null,"",null,null,null,null,null,null,""]
[null,null,{"$f":"IFERROR(VLOOKUP(B310,Hidden_Словник!$A$2:$C$100,3,FALSE),\"\")","v":""},null,null,null,null,null,null,null,null,null,null,null,null,null,null,null,null,null,null,null,null,"",null,null,null,null,null,null,""]
[null,null,{"$f":"IFERROR(VLOOKUP(B311,Hidden_Словник!$A$2:$C$100,3,FALSE),\"\")","v":""},null,null,null,null,null,null,null,null,null,null,null,null,null,null,null,null,null,null,null,null,"",null,null,null,null,null,null,""]
[null,null,{"$f":"IFERROR(VLOOKUP(B312,Hidden_Словник!$A$2:$C$100,3,FALSE),\"\")","v":""},null,null,null,null,null,null,null,null,null,null,null,null,null,null,null,null,null,null,null,null,"",null,null,null,null,null,null,""]
[null,null,{"$f":"IFERROR(VLOOKUP(B313,Hidden_Словник!$A$2:$C$100,3,FALSE),\"\")","v":""},null,null,null,null,null,null,null,null,null,null,null,null,null,null,null,null,null,null,null,null,"",null,null,null,null,null,null,""]
[null,null,{"$f":"IFERROR(VLOOKUP(B314,Hidden_Словник!$A$2:$C$100,3,FALSE),\"\")","v":""},null,null,null,null,null,null,null,null,null,null,null,null,null,null,null,null,null,null,null,null,"",null,null,null,null,null,null,""]
[null,null,{"$f":"IFERROR(VLOOKUP(B315,Hidden_Словник!$A$2:$C$100,3,FALSE),\"\")","v":""},null,null,null,null,null,null,null,null,null,null,null,null,null,null,null,null,null,null,null,null,"",null,null,null,null,null,null,""]
[null,null,{"$f":"IFERROR(VLOOKUP(B316,Hidden_Словник!$A$2:$C$100,3,FALSE),\"\")","v":""},null,null,null,null,null,null,null,null,null,null,null,null,null,null,null,null,null,null,null,null,"",null,null,null,null,null,null,""]
[null,null,{"$f":"IFERROR(VLOOKUP(B317,Hidden_Словник!$A$2:$C$100,3,FALSE),\"\")","v":""},null,null,null,null,null,null,null,null,null,null,null,null,null,null,null,null,null,null,null,null,"",null,null,null,null,null,null,""]
[null,null,{"$f":"IFERROR(VLOOKUP(B318,Hidden_Словник!$A$2:$C$100,3,FALSE),\"\")","v":""},null,null,null,null,null,null,null,null,null,null,null,null,null,null,null,null,null,null,null,null,"",null,null,null,null,null,null,""]
[null,null,{"$f":"IFERROR(VLOOKUP(B319,Hidden_Словник!$A$2:$C$100,3,FALSE),\"\")","v":""},null,null,null,null,null,null,null,null,null,null,null,null,null,null,null,null,null,null,null,null,"",null,null,null,null,null,null,""]
[null,null,{"$f":"IFERROR(VLOOKUP(B320,Hidden_Словник!$A$2:$C$100,3,FALSE),\"\")","v":""},null,null,null,null,null,null,null,null,null,null,null,null,null,null,null,null,null,null,null,null,"",null,null,null,null,null,null,""]
[null,null,{"$f":"IFERROR(VLOOKUP(B321,Hidden_Словник!$A$2:$C$100,3,FALSE),\"\")","v":""},null,null,null,null,null,null,null,null,null,null,null,null,null,null,null,null,null,null,null,null,"",null,null,null,null,null,null,""]
[null,null,{"$f":"IFERROR(VLOOKUP(B322,Hidden_Словник!$A$2:$C$100,3,FALSE),\"\")","v":""},null,null,null,null,null,null,null,null,null,null,null,null,null,null,null,null,null,null,null,null,"",null,null,null,null,null,null,""]
[null,null,{"$f":"IFERROR(VLOOKUP(B323,Hidden_Словник!$A$2:$C$100,3,FALSE),\"\")","v":""},null,null,null,null,null,null,null,null,null,null,null,null,null,null,null,null,null,null,null,null,"",null,null,null,null,null,null,""]
[null,null,{"$f":"IFERROR(VLOOKUP(B324,Hidden_Словник!$A$2:$C$100,3,FALSE),\"\")","v":""},null,null,null,null,null,null,null,null,null,null,null,null,null,null,null,null,null,null,null,null,"",null,null,null,null,null,null,""]
[null,null,{"$f":"IFERROR(VLOOKUP(B325,Hidden_Словник!$A$2:$C$100,3,FALSE),\"\")","v":""},null,null,null,null,null,null,null,null,null,null,null,null,null,null,null,null,null,null,null,null,"",null,null,null,null,null,null,""]
[null,null,{"$f":"IFERROR(VLOOKUP(B326,Hidden_Словник!$A$2:$C$100,3,FALSE),\"\")","v":""},null,null,null,null,null,null,null,null,null,null,null,null,null,null,null,null,null,null,null,null,"",null,null,null,null,null,null,""]
[null,null,{"$f":"IFERROR(VLOOKUP(B327,Hidden_Словник!$A$2:$C$100,3,FALSE),\"\")","v":""},null,null,null,null,null,null,null,null,null,null,null,null,null,null,null,null,null,null,null,null,"",null,null,null,null,null,null,""]
[null,null,{"$f":"IFERROR(VLOOKUP(B328,Hidden_Словник!$A$2:$C$100,3,FALSE),\"\")","v":""},null,null,null,null,null,null,null,null,null,null,null,null,null,null,null,null,null,null,null,null,"",null,null,null,null,null,null,""]
[null,null,{"$f":"IFERROR(VLOOKUP(B329,Hidden_Словник!$A$2:$C$100,3,FALSE),\"\")","v":""},null,null,null,null,null,null,null,null,null,null,null,null,null,null,null,null,null,null,null,null,"",null,null,null,null,null,null,""]
[null,null,{"$f":"IFERROR(VLOOKUP(B330,Hidden_Словник!$A$2:$C$100,3,FALSE),\"\")","v":""},null,null,null,null,null,null,null,null,null,null,null,null,null,null,null,null,null,null,null,null,"",null,null,null,null,null,null,""]
[null,null,{"$f":"IFERROR(VLOOKUP(B331,Hidden_Словник!$A$2:$C$100,3,FALSE),\"\")","v":""},null,null,null,null,null,null,null,null,null,null,null,null,null,null,null,null,null,null,null,null,"",null,null,null,null,null,null,""]
[null,null,{"$f":"IFERROR(VLOOKUP(B332,Hidden_Словник!$A$2:$C$100,3,FALSE),\"\")","v":""},null,null,null,null,null,null,null,null,null,null,null,null,null,null,null,null,null,null,null,null,"",null,null,null,null,null,null,""]
[null,null,{"$f":"IFERROR(VLOOKUP(B333,Hidden_Словник!$A$2:$C$100,3,FALSE),\"\")","v":""},null,null,null,null,null,null,null,null,null,null,null,null,null,null,null,null,null,null,null,null,"",null,null,null,null,null,null,""]
[null,null,{"$f":"IFERROR(VLOOKUP(B334,Hidden_Словник!$A$2:$C$100,3,FALSE),\"\")","v":""},null,null,null,null,null,null,null,null,null,null,null,null,null,null,null,null,null,null,null,null,"",null,null,null,null,null,null,""]
[null,null,{"$f":"IFERROR(VLOOKUP(B335,Hidden_Словник!$A$2:$C$100,3,FALSE),\"\")","v":""},null,null,null,null,null,null,null,null,null,null,null,null,null,null,null,null,null,null,null,null,"",null,null,null,null,null,null,""]
[null,null,{"$f":"IFERROR(VLOOKUP(B336,Hidden_Словник!$A$2:$C$100,3,FALSE),\"\")","v":""},null,null,null,null,null,null,null,null,null,null,null,null,null,null,null,null,null,null,null,null,"",null,null,null,null,null,null,""]
[null,null,{"$f":"IFERROR(VLOOKUP(B337,Hidden_Словник!$A$2:$C$100,3,FALSE),\"\")","v":""},null,null,null,null,null,null,null,null,null,null,null,null,null,null,null,null,null,null,null,null,"",null,null,null,null,null,null,""]
[null,null,{"$f":"IFERROR(VLOOKUP(B338,Hidden_Словник!$A$2:$C$100,3,FALSE),\"\")","v":""},null,null,null,null,null,null,null,null,null,null,null,null,null,null,null,null,null,null,null,null,"",null,null,null,null,null,null,""]
[null,null,{"$f":"IFERROR(VLOOKUP(B339,Hidden_Словник!$A$2:$C$100,3,FALSE),\"\")","v":""},null,null,null,null,null,null,null,null,null,null,null,null,null,null,null,null,null,null,null,null,"",null,null,null,null,null,null,""]
[null,null,{"$f":"IFERROR(VLOOKUP(B340,Hidden_Словник!$A$2:$C$100,3,FALSE),\"\")","v":""},null,null,null,null,null,null,null,null,null,null,null,null,null,null,null,null,null,null,null,null,{"$f":"IF(Y340+Z340>0,Y340+Z340,\"\")","v":""},null,null,null,null,null,null,{"$f":"IF(F340=\"\",\"\",IF(F340=\"Ліквідовано\",\"ТАК\",\"НІ\"))","v":""}]
[null,null,{"$f":"IFERROR(VLOOKUP(B341,Hidden_Словник!$A$2:$C$100,3,FALSE),\"\")","v":""},null,null,null,null,null,null,null,null,null,null,null,null,null,null,null,null,null,null,null,null,"",null,null,null,null,null,null,""]
[null,null,{"$f":"IFERROR(VLOOKUP(B342,Hidden_Словник!$A$2:$C$100,3,FALSE),\"\")","v":""},null,null,null,null,null,null,null,null,null,null,null,null,null,null,null,null,null,null,null,null,"",null,null,null,null,null,null,""]
[null,null,{"$f":"IFERROR(VLOOKUP(B343,Hidden_Словник!$A$2:$C$100,3,FALSE),\"\")","v":""},null,null,null,null,null,null,null,null,null,null,null,null,null,null,null,null,null,null,null,null,"",null,null,null,null,null,null,""]
[null,null,{"$f":"IFERROR(VLOOKUP(B344,Hidden_Словник!$A$2:$C$100,3,FALSE),\"\")","v":""},null,null,null,null,null,null,null,null,null,null,null,null,null,null,null,null,null,null,null,null,"",null,null,null,null,null,null,""]
[null,null,{"$f":"IFERROR(VLOOKUP(B345,Hidden_Словник!$A$2:$C$100,3,FALSE),\"\")","v":""},null,null,null,null,null,null,null,null,null,null,null,null,null,null,null,null,null,null,null,null,"",null,null,null,null,null,null,""]
[null,null,{"$f":"IFERROR(VLOOKUP(B346,Hidden_Словник!$A$2:$C$100,3,FALSE),\"\")","v":""},null,null,null,null,null,null,null,null,null,null,null,null,null,null,null,null,null,null,null,null,"",null,null,null,null,null,null,""]
[null,null,{"$f":"IFERROR(VLOOKUP(B347,Hidden_Словник!$A$2:$C$100,3,FALSE),\"\")","v":""},null,null,null,null,null,null,null,null,null,null,null,null,null,null,null,null,null,null,null,null,"",null,null,null,null,null,null,""]
[null,null,{"$f":"IFERROR(VLOOKUP(B348,Hidden_Словник!$A$2:$C$100,3,FALSE),\"\")","v":""},null,null,null,null,null,null,null,null,null,null,null,null,null,null,null,null,null,null,null,null,"",null,null,null,null,null,null,""]
[null,null,{"$f":"IFERROR(VLOOKUP(B349,Hidden_Словник!$A$2:$C$100,3,FALSE),\"\")","v":""},null,null,null,null,null,null,null,null,null,null,null,null,null,null,null,null,null,null,null,null,"",null,null,null,null,null,null,""]
[null,null,{"$f":"IFERROR(VLOOKUP(B350,Hidden_Словник!$A$2:$C$100,3,FALSE),\"\")","v":""},null,null,null,null,null,null,null,null,null,null,null,null,null,null,null,null,null,null,null,null,"",null,null,null,null,null,null,""]
[null,null,{"$f":"IFERROR(VLOOKUP(B351,Hidden_Словник!$A$2:$C$100,3,FALSE),\"\")","v":""},null,null,null,null,null,null,null,null,null,null,null,null,null,null,null,null,null,null,null,null,"",null,null,null,null,null,null,""]
[null,null,{"$f":"IFERROR(VLOOKUP(B352,Hidden_Словник!$A$2:$C$100,3,FALSE),\"\")","v":""},null,null,null,null,null,null,null,null,null,null,null,null,null,null,null,null,null,null,null,null,"",null,null,null,null,null,null,""]
[null,null,{"$f":"IFERROR(VLOOKUP(B353,Hidden_Словник!$A$2:$C$100,3,FALSE),\"\")","v":""},null,null,null,null,null,null,null,null,null,null,null,null,null,null,null,null,null,null,null,null,"",null,null,null,null,null,null,""]
[null,null,{"$f":"IFERROR(VLOOKUP(B354,Hidden_Словник!$A$2:$C$100,3,FALSE),\"\")","v":""},null,null,null,null,null,null,null,null,null,null,null,null,null,null,null,null,null,null,null,null,"",null,null,null,null,null,null,""]
[null,null,{"$f":"IFERROR(VLOOKUP(B355,Hidden_Словник!$A$2:$C$100,3,FALSE),\"\")","v":""},null,null,null,null,null,null,null,null,null,null,null,null,null,null,null,null,null,null,null,null,"",null,null,null,null,null,null,""]
[null,null,{"$f":"IFERROR(VLOOKUP(B356,Hidden_Словник!$A$2:$C$100,3,FALSE),\"\")","v":""},null,null,null,null,null,null,null,null,null,null,null,null,null,null,null,null,null,null,null,null,"",null,null,null,null,null,null,""]
[null,null,{"$f":"IFERROR(VLOOKUP(B357,Hidden_Словник!$A$2:$C$100,3,FALSE),\"\")","v":""},null,null,null,null,null,null,null,null,null,null,null,null,null,null,null,null,null,null,null,null,"",null,null,null,null,null,null,""]
[null,null,{"$f":"IFERROR(VLOOKUP(B358,Hidden_Словник!$A$2:$C$100,3,FALSE),\"\")","v":""},null,null,null,null,null,null,null,null,null,null,null,null,null,null,null,null,null,null,null,null,"",null,null,null,null,null,null,""]
[null,null,{"$f":"IFERROR(VLOOKUP(B359,Hidden_Словник!$A$2:$C$100,3,FALSE),\"\")","v":""},null,null,null,null,null,null,null,null,null,null,null,null,null,null,null,null,null,null,null,null,"",null,null,null,null,null,null,""]
[null,null,{"$f":"IFERROR(VLOOKUP(B360,Hidden_Словник!$A$2:$C$100,3,FALSE),\"\")","v":""},null,null,null,null,null,null,null,null,null,null,null,null,null,null,null,null,null,null,null,null,"",null,null,null,null,null,null,""]
[null,null,{"$f":"IFERROR(VLOOKUP(B361,Hidden_Словник!$A$2:$C$100,3,FALSE),\"\")","v":""},null,null,null,null,null,null,null,null,null,null,null,null,null,null,null,null,null,null,null,null,"",null,null,null,null,null,null,""]
[null,null,{"$f":"IFERROR(VLOOKUP(B362,Hidden_Словник!$A$2:$C$100,3,FALSE),\"\")","v":""},null,null,null,null,null,null,null,null,null,null,null,null,null,null,null,null,null,null,null,null,"",null,null,null,null,null,null,""]
[null,null,{"$f":"IFERROR(VLOOKUP(B363,Hidden_Словник!$A$2:$C$100,3,FALSE),\"\")","v":""},null,null,null,null,null,null,null,null,null,null,null,null,null,null,null,null,null,null,null,null,"",null,null,null,null,null,null,""]
[null,null,{"$f":"IFERROR(VLOOKUP(B364,Hidden_Словник!$A$2:$C$100,3,FALSE),\"\")","v":""},null,null,null,null,null,null,null,null,null,null,null,null,null,null,null,null,null,null,null,null,"",null,null,null,null,null,null,""]
[null,null,{"$f":"IFERROR(VLOOKUP(B365,Hidden_Словник!$A$2:$C$100,3,FALSE),\"\")","v":""},null,null,null,null,null,null,null,null,null,null,null,null,null,null,null,null,null,null,null,null,"",null,null,null,null,null,null,""]
[null,null,{"$f":"IFERROR(VLOOKUP(B366,Hidden_Словник!$A$2:$C$100,3,FALSE),\"\")","v":""},null,null,null,null,null,null,null,null,null,null,null,null,null,null,null,null,null,null,null,null,"",null,null,null,null,null,null,""]
[null,null,{"$f":"IFERROR(VLOOKUP(B367,Hidden_Словник!$A$2:$C$100,3,FALSE),\"\")","v":""},null,null,null,null,null,null,null,null,null,null,null,null,null,null,null,null,null,null,null,null,"",null,null,null,null,null,null,""]
[null,null,{"$f":"IFERROR(VLOOKUP(B368,Hidden_Словник!$A$2:$C$100,3,FALSE),\"\")","v":""},null,null,null,null,null,null,null,null,null,null,null,null,null,null,null,null,null,null,null,null,"",null,null,null,null,null,null,""]
[null,null,{"$f":"IFERROR(VLOOKUP(B369,Hidden_Словник!$A$2:$C$100,3,FALSE),\"\")","v":""},null,null,null,null,null,null,null,null,null,null,null,null,null,null,null,null,null,null,null,null,"",null,null,null,null,null,null,""]
[null,null,{"$f":"IFERROR(VLOOKUP(B370,Hidden_Словник!$A$2:$C$100,3,FALSE),\"\")","v":""},null,null,null,null,null,null,null,null,null,null,null,null,null,null,null,null,null,null,null,null,"",null,null,null,null,null,null,""]
[null,null,{"$f":"IFERROR(VLOOKUP(B371,Hidden_Словник!$A$2:$C$100,3,FALSE),\"\")","v":""},null,null,null,null,null,null,null,null,null,null,null,null,null,null,null,null,null,null,null,null,"",null,null,null,null,null,null,""]
[null,null,{"$f":"IFERROR(VLOOKUP(B372,Hidden_Словник!$A$2:$C$100,3,FALSE),\"\")","v":""},null,null,null,null,null,null,null,null,null,null,null,null,null,null,null,null,null,null,null,null,"",null,null,null,null,null,null,""]
[null,null,{"$f":"IFERROR(VLOOKUP(B373,Hidden_Словник!$A$2:$C$100,3,FALSE),\"\")","v":""},null,null,null,null,null,null,null,null,null,null,null,null,null,null,null,null,null,null,null,null,"",null,null,null,null,null,null,""]
[null,null,{"$f":"IFERROR(VLOOKUP(B374,Hidden_Словник!$A$2:$C$100,3,FALSE),\"\")","v":""},null,null,null,null,null,null,null,null,null,null,null,null,null,null,null,null,null,null,null,null,"",null,null,null,null,null,null,""]
[null,null,{"$f":"IFERROR(VLOOKUP(B375,Hidden_Словник!$A$2:$C$100,3,FALSE),\"\")","v":""},null,null,null,null,null,null,null,null,null,null,null,null,null,null,null,null,null,null,null,null,"",null,null,null,null,null,null,""]
[null,null,{"$f":"IFERROR(VLOOKUP(B376,Hidden_Словник!$A$2:$C$100,3,FALSE),\"\")","v":""},null,null,null,null,null,null,null,null,null,null,null,null,null,null,null,null,null,null,null,null,"",null,null,null,null,null,null,""]
[null,null,{"$f":"IFERROR(VLOOKUP(B377,Hidden_Словник!$A$2:$C$100,3,FALSE),\"\")","v":""},null,null,null,null,null,null,null,null,null,null,null,null,null,null,null,null,null,null,null,null,"",null,null,null,null,null,null,""]
[null,null,{"$f":"IFERROR(VLOOKUP(B378,Hidden_Словник!$A$2:$C$100,3,FALSE),\"\")","v":""},null,null,null,null,null,null,null,null,null,null,null,null,null,null,null,null,null,null,null,null,"",null,null,null,null,null,null,""]
[null,null,{"$f":"IFERROR(VLOOKUP(B379,Hidden_Словник!$A$2:$C$100,3,FALSE),\"\")","v":""},null,null,null,null,null,null,null,null,null,null,null,null,null,null,null,null,null,null,null,null,"",null,null,null,null,null,null,""]
[null,null,{"$f":"IFERROR(VLOOKUP(B380,Hidden_Словник!$A$2:$C$100,3,FALSE),\"\")","v":""},null,null,null,null,null,null,null,null,null,null,null,null,null,null,null,null,null,null,null,null,"",null,null,null,null,null,null,""]
[null,null,{"$f":"IFERROR(VLOOKUP(B381,Hidden_Словник!$A$2:$C$100,3,FALSE),\"\")","v":""},null,null,null,null,null,null,null,null,null,null,null,null,null,null,null,null,null,null,null,null,"",null,null,null,null,null,null,""]
[null,null,{"$f":"IFERROR(VLOOKUP(B382,Hidden_Словник!$A$2:$C$100,3,FALSE),\"\")","v":""},null,null,null,null,null,null,null,null,null,null,null,null,null,null,null,null,null,null,null,null,"",null,null,null,null,null,null,""]
[null,null,{"$f":"IFERROR(VLOOKUP(B383,Hidden_Словник!$A$2:$C$100,3,FALSE),\"\")","v":""},null,null,null,null,null,null,null,null,null,null,null,null,null,null,null,null,null,null,null,null,"",null,null,null,null,null,null,""]
[null,null,{"$f":"IFERROR(VLOOKUP(B384,Hidden_Словник!$A$2:$C$100,3,FALSE),\"\")","v":""},null,null,null,null,null,null,null,null,null,null,null,null,null,null,null,null,null,null,null,null,"",null,null,null,null,null,null,""]
[null,null,{"$f":"IFERROR(VLOOKUP(B385,Hidden_Словник!$A$2:$C$100,3,FALSE),\"\")","v":""},null,null,null,null,null,null,null,null,null,null,null,null,null,null,null,null,null,null,null,null,"",null,null,null,null,null,null,""]
[null,null,{"$f":"IFERROR(VLOOKUP(B386,Hidden_Словник!$A$2:$C$100,3,FALSE),\"\")","v":""},null,null,null,null,null,null,null,null,null,null,null,null,null,null,null,null,null,null,null,null,"",null,null,null,null,null,null,""]
[null,null,{"$f":"IFERROR(VLOOKUP(B387,Hidden_Словник!$A$2:$C$100,3,FALSE),\"\")","v":""},null,null,null,null,null,null,null,null,null,null,null,null,null,null,null,null,null,null,null,null,"",null,null,null,null,null,null,""]
[null,null,{"$f":"IFERROR(VLOOKUP(B388,Hidden_Словник!$A$2:$C$100,3,FALSE),\"\")","v":""},null,null,null,null,null,null,null,null,null,null,null,null,null,null,null,null,null,null,null,null,"",null,null,null,null,null,null,""]
[null,null,{"$f":"IFERROR(VLOOKUP(B389,Hidden_Словник!$A$2:$C$100,3,FALSE),\"\")","v":""},null,null,null,null,null,null,null,null,null,null,null,null,null,null,null,null,null,null,null,null,"",null,null,null,null,null,null,""]
[null,null,{"$f":"IFERROR(VLOOKUP(B390,Hidden_Словник!$A$2:$C$100,3,FALSE),\"\")","v":""},null,null,null,null,null,null,null,null,null,null,null,null,null,null,null,null,null,null,null,null,"",null,null,null,null,null,null,""]
[null,null,{"$f":"IFERROR(VLOOKUP(B391,Hidden_Словник!$A$2:$C$100,3,FALSE),\"\")","v":""},null,null,null,null,null,null,null,null,null,null,null,null,null,null,null,null,null,null,null,null,"",null,null,null,null,null,null,""]
[null,null,{"$f":"IFERROR(VLOOKUP(B392,Hidden_Словник!$A$2:$C$100,3,FALSE),\"\")","v":""},null,null,null,null,null,null,null,null,null,null,null,null,null,null,null,null,null,null,null,null,"",null,null,null,null,null,null,""]
[null,null,{"$f":"IFERROR(VLOOKUP(B393,Hidden_Словник!$A$2:$C$100,3,FALSE),\"\")","v":""},null,null,null,null,null,null,null,null,null,null,null,null,null,null,null,null,null,null,null,null,"",null,null,null,null,null,null,""]
[null,null,{"$f":"IFERROR(VLOOKUP(B394,Hidden_Словник!$A$2:$C$100,3,FALSE),\"\")","v":""},null,null,null,null,null,null,null,null,null,null,null,null,null,null,null,null,null,null,null,null,"",null,null,null,null,null,null,""]
[null,null,{"$f":"IFERROR(VLOOKUP(B395,Hidden_Словник!$A$2:$C$100,3,FALSE),\"\")","v":""},null,null,null,null,null,null,null,null,null,null,null,null,null,null,null,null,null,null,null,null,"",null,null,null,null,null,null,""]
[null,null,{"$f":"IFERROR(VLOOKUP(B396,Hidden_Словник!$A$2:$C$100,3,FALSE),\"\")","v":""},null,null,null,null,null,null,null,null,null,null,null,null,null,null,null,null,null,null,null,null,"",null,null,null,null,null,null,""]
[null,null,{"$f":"IFERROR(VLOOKUP(B397,Hidden_Словник!$A$2:$C$100,3,FALSE),\"\")","v":""},null,null,null,null,null,null,null,null,null,null,null,null,null,null,null,null,null,null,null,null,"",null,null,null,null,null,null,""]
[null,null,{"$f":"IFERROR(VLOOKUP(B398,Hidden_Словник!$A$2:$C$100,3,FALSE),\"\")","v":""},null,null,null,null,null,null,null,null,null,null,null,null,null,null,null,null,null,null,null,null,"",null,null,null,null,null,null,""]
[null,null,{"$f":"IFERROR(VLOOKUP(B399,Hidden_Словник!$A$2:$C$100,3,FALSE),\"\")","v":""},null,null,null,null,null,null,null,null,null,null,null,null,null,null,null,null,null,null,null,null,"",null,null,null,null,null,null,""]
[null,null,{"$f":"IFERROR(VLOOKUP(B400,Hidden_Словник!$A$2:$C$100,3,FALSE),\"\")","v":""},null,null,null,null,null,null,null,null,null,null,null,null,null,null,null,null,null,null,null,null,"",null,null,null,null,null,null,""]
[null,null,{"$f":"IFERROR(VLOOKUP(B401,Hidden_Словник!$A$2:$C$100,3,FALSE),\"\")","v":""},null,null,null,null,null,null,null,null,null,null,null,null,null,null,null,null,null,null,null,null,"",null,null,null,null,null,null,""]
[null,null,{"$f":"IFERROR(VLOOKUP(B402,Hidden_Словник!$A$2:$C$100,3,FALSE),\"\")","v":""},null,null,null,null,null,null,null,null,null,null,null,null,null,null,null,null,null,null,null,null,"",null,null,null,null,null,null,""]
[null,null,{"$f":"IFERROR(VLOOKUP(B403,Hidden_Словник!$A$2:$C$100,3,FALSE),\"\")","v":""},null,null,null,null,null,null,null,null,null,null,null,null,null,null,null,null,null,null,null,null,"",null,null,null,null,null,null,""]
[null,null,{"$f":"IFERROR(VLOOKUP(B404,Hidden_Словник!$A$2:$C$100,3,FALSE),\"\")","v":""},null,null,null,null,null,null,null,null,null,null,null,null,null,null,null,null,null,null,null,null,{"$f":"IF(Y404+Z404>0,Y404+Z404,\"\")","v":""},null,null,null,null,null,null,{"$f":"IF(F404=\"\",\"\",IF(F404=\"Ліквідовано\",\"ТАК\",\"НІ\"))","v":""}]
[null,null,{"$f":"IFERROR(VLOOKUP(B405,Hidden_Словник!$A$2:$C$100,3,FALSE),\"\")","v":""},null,null,null,null,null,null,null,null,null,null,null,null,null,null,null,null,null,null,null,null,"",null,null,null,null,null,null,""]
[null,null,{"$f":"IFERROR(VLOOKUP(B406,Hidden_Словник!$A$2:$C$100,3,FALSE),\"\")","v":""},null,null,null,null,null,null,null,null,null,null,null,null,null,null,null,null,null,null,null,null,"",null,null,null,null,null,null,""]
[null,null,{"$f":"IFERROR(VLOOKUP(B407,Hidden_Словник!$A$2:$C$100,3,FALSE),\"\")","v":""},null,null,null,null,null,null,null,null,null,null,null,null,null,null,null,null,null,null,null,null,"",null,null,null,null,null,null,""]
[null,null,{"$f":"IFERROR(VLOOKUP(B408,Hidden_Словник!$A$2:$C$100,3,FALSE),\"\")","v":""},null,null,null,null,null,null,null,null,null,null,null,null,null,null,null,null,null,null,null,null,"",null,null,null,null,null,null,""]
[null,null,{"$f":"IFERROR(VLOOKUP(B409,Hidden_Словник!$A$2:$C$100,3,FALSE),\"\")","v":""},null,null,null,null,null,null,null,null,null,null,null,null,null,null,null,null,null,null,null,null,"",null,null,null,null,null,null,""]
[null,null,{"$f":"IFERROR(VLOOKUP(B410,Hidden_Словник!$A$2:$C$100,3,FALSE),\"\")","v":""},null,null,null,null,null,null,null,null,null,null,null,null,null,null,null,null,null,null,null,null,"",null,null,null,null,null,null,""]
[null,null,{"$f":"IFERROR(VLOOKUP(B411,Hidden_Словник!$A$2:$C$100,3,FALSE),\"\")","v":""},null,null,null,null,null,null,null,null,null,null,null,null,null,null,null,null,null,null,null,null,"",null,null,null,null,null,null,""]
[null,null,{"$f":"IFERROR(VLOOKUP(B412,Hidden_Словник!$A$2:$C$100,3,FALSE),\"\")","v":""},null,null,null,null,null,null,null,null,null,null,null,null,null,null,null,null,null,null,null,null,"",null,null,null,null,null,null,""]
[null,null,{"$f":"IFERROR(VLOOKUP(B413,Hidden_Словник!$A$2:$C$100,3,FALSE),\"\")","v":""},null,null,null,null,null,null,null,null,null,null,null,null,null,null,null,null,null,null,null,null,"",null,null,null,null,null,null,""]
[null,null,{"$f":"IFERROR(VLOOKUP(B414,Hidden_Словник!$A$2:$C$100,3,FALSE),\"\")","v":""},null,null,null,null,null,null,null,null,null,null,null,null,null,null,null,null,null,null,null,null,"",null,null,null,null,null,null,""]
[null,null,{"$f":"IFERROR(VLOOKUP(B415,Hidden_Словник!$A$2:$C$100,3,FALSE),\"\")","v":""},null,null,null,null,null,null,null,null,null,null,null,null,null,null,null,null,null,null,null,null,"",null,null,null,null,null,null,""]
[null,null,{"$f":"IFERROR(VLOOKUP(B416,Hidden_Словник!$A$2:$C$100,3,FALSE),\"\")","v":""},null,null,null,null,null,null,null,null,null,null,null,null,null,null,null,null,null,null,null,null,"",null,null,null,null,null,null,""]
[null,null,{"$f":"IFERROR(VLOOKUP(B417,Hidden_Словник!$A$2:$C$100,3,FALSE),\"\")","v":""},null,null,null,null,null,null,null,null,null,null,null,null,null,null,null,null,null,null,null,null,"",null,null,null,null,null,null,""]
[null,null,{"$f":"IFERROR(VLOOKUP(B418,Hidden_Словник!$A$2:$C$100,3,FALSE),\"\")","v":""},null,null,null,null,null,null,null,null,null,null,null,null,null,null,null,null,null,null,null,null,"",null,null,null,null,null,null,""]
[null,null,{"$f":"IFERROR(VLOOKUP(B419,Hidden_Словник!$A$2:$C$100,3,FALSE),\"\")","v":""},null,null,null,null,null,null,null,null,null,null,null,null,null,null,null,null,null,null,null,null,"",null,null,null,null,null,null,""]
[null,null,{"$f":"IFERROR(VLOOKUP(B420,Hidden_Словник!$A$2:$C$100,3,FALSE),\"\")","v":""},null,null,null,null,null,null,null,null,null,null,null,null,null,null,null,null,null,null,null,null,"",null,null,null,null,null,null,""]
[null,null,{"$f":"IFERROR(VLOOKUP(B421,Hidden_Словник!$A$2:$C$100,3,FALSE),\"\")","v":""},null,null,null,null,null,null,null,null,null,null,null,null,null,null,null,null,null,null,null,null,"",null,null,null,null,null,null,""]
[null,null,{"$f":"IFERROR(VLOOKUP(B422,Hidden_Словник!$A$2:$C$100,3,FALSE),\"\")","v":""},null,null,null,null,null,null,null,null,null,null,null,null,null,null,null,null,null,null,null,null,"",null,null,null,null,null,null,""]
[null,null,{"$f":"IFERROR(VLOOKUP(B423,Hidden_Словник!$A$2:$C$100,3,FALSE),\"\")","v":""},null,null,null,null,null,null,null,null,null,null,null,null,null,null,null,null,null,null,null,null,"",null,null,null,null,null,null,""]
[null,null,{"$f":"IFERROR(VLOOKUP(B424,Hidden_Словник!$A$2:$C$100,3,FALSE),\"\")","v":""},null,null,null,null,null,null,null,null,null,null,null,null,null,null,null,null,null,null,null,null,"",null,null,null,null,null,null,""]
[null,null,{"$f":"IFERROR(VLOOKUP(B425,Hidden_Словник!$A$2:$C$100,3,FALSE),\"\")","v":""},null,null,null,null,null,null,null,null,null,null,null,null,null,null,null,null,null,null,null,null,"",null,null,null,null,null,null,""]
[null,null,{"$f":"IFERROR(VLOOKUP(B426,Hidden_Словник!$A$2:$C$100,3,FALSE),\"\")","v":""},null,null,null,null,null,null,null,null,null,null,null,null,null,null,null,null,null,null,null,null,"",null,null,null,null,null,null,""]
[null,null,{"$f":"IFERROR(VLOOKUP(B427,Hidden_Словник!$A$2:$C$100,3,FALSE),\"\")","v":""},null,null,null,null,null,null,null,null,null,null,null,null,null,null,null,null,null,null,null,null,"",null,null,null,null,null,null,""]
[null,null,{"$f":"IFERROR(VLOOKUP(B428,Hidden_Словник!$A$2:$C$100,3,FALSE),\"\")","v":""},null,null,null,null,null,null,null,null,null,null,null,null,null,null,null,null,null,null,null,null,"",null,null,null,null,null,null,""]
[null,null,{"$f":"IFERROR(VLOOKUP(B429,Hidden_Словник!$A$2:$C$100,3,FALSE),\"\")","v":""},null,null,null,null,null,null,null,null,null,null,null,null,null,null,null,null,null,null,null,null,"",null,null,null,null,null,null,""]
[null,null,{"$f":"IFERROR(VLOOKUP(B430,Hidden_Словник!$A$2:$C$100,3,FALSE),\"\")","v":""},null,null,null,null,null,null,null,null,null,null,null,null,null,null,null,null,null,null,null,null,"",null,null,null,null,null,null,""]
[null,null,{"$f":"IFERROR(VLOOKUP(B431,Hidden_Словник!$A$2:$C$100,3,FALSE),\"\")","v":""},null,null,null,null,null,null,null,null,null,null,null,null,null,null,null,null,null,null,null,null,"",null,null,null,null,null,null,""]
[null,null,{"$f":"IFERROR(VLOOKUP(B432,Hidden_Словник!$A$2:$C$100,3,FALSE),\"\")","v":""},null,null,null,null,null,null,null,null,null,null,null,null,null,null,null,null,null,null,null,null,"",null,null,null,null,null,null,""]
[null,null,{"$f":"IFERROR(VLOOKUP(B433,Hidden_Словник!$A$2:$C$100,3,FALSE),\"\")","v":""},null,null,null,null,null,null,null,null,null,null,null,null,null,null,null,null,null,null,null,null,"",null,null,null,null,null,null,""]
[null,null,{"$f":"IFERROR(VLOOKUP(B434,Hidden_Словник!$A$2:$C$100,3,FALSE),\"\")","v":""},null,null,null,null,null,null,null,null,null,null,null,null,null,null,null,null,null,null,null,null,"",null,null,null,null,null,null,""]
[null,null,{"$f":"IFERROR(VLOOKUP(B435,Hidden_Словник!$A$2:$C$100,3,FALSE),\"\")","v":""},null,null,null,null,null,null,null,null,null,null,null,null,null,null,null,null,null,null,null,null,"",null,null,null,null,null,null,""]
[null,null,{"$f":"IFERROR(VLOOKUP(B436,Hidden_Словник!$A$2:$C$100,3,FALSE),\"\")","v":""},null,null,null,null,null,null,null,null,null,null,null,null,null,null,null,null,null,null,null,null,"",null,null,null,null,null,null,""]
[null,null,{"$f":"IFERROR(VLOOKUP(B437,Hidden_Словник!$A$2:$C$100,3,FALSE),\"\")","v":""},null,null,null,null,null,null,null,null,null,null,null,null,null,null,null,null,null,null,null,null,"",null,null,null,null,null,null,""]
[null,null,{"$f":"IFERROR(VLOOKUP(B438,Hidden_Словник!$A$2:$C$100,3,FALSE),\"\")","v":""},null,null,null,null,null,null,null,null,null,null,null,null,null,null,null,null,null,null,null,null,"",null,null,null,null,null,null,""]
[null,null,{"$f":"IFERROR(VLOOKUP(B439,Hidden_Словник!$A$2:$C$100,3,FALSE),\"\")","v":""},null,null,null,null,null,null,null,null,null,null,null,null,null,null,null,null,null,null,null,null,"",null,null,null,null,null,null,""]
[null,null,{"$f":"IFERROR(VLOOKUP(B440,Hidden_Словник!$A$2:$C$100,3,FALSE),\"\")","v":""},null,null,null,null,null,null,null,null,null,null,null,null,null,null,null,null,null,null,null,null,"",null,null,null,null,null,null,""]
[null,null,{"$f":"IFERROR(VLOOKUP(B441,Hidden_Словник!$A$2:$C$100,3,FALSE),\"\")","v":""},null,null,null,null,null,null,null,null,null,null,null,null,null,null,null,null,null,null,null,null,"",null,null,null,null,null,null,""]
[null,null,{"$f":"IFERROR(VLOOKUP(B442,Hidden_Словник!$A$2:$C$100,3,FALSE),\"\")","v":""},null,null,null,null,null,null,null,null,null,null,null,null,null,null,null,null,null,null,null,null,"",null,null,null,null,null,null,""]
[null,null,{"$f":"IFERROR(VLOOKUP(B443,Hidden_Словник!$A$2:$C$100,3,FALSE),\"\")","v":""},null,null,null,null,null,null,null,null,null,null,null,null,null,null,null,null,null,null,null,null,"",null,null,null,null,null,null,""]
[null,null,{"$f":"IFERROR(VLOOKUP(B444,Hidden_Словник!$A$2:$C$100,3,FALSE),\"\")","v":""},null,null,null,null,null,null,null,null,null,null,null,null,null,null,null,null,null,null,null,null,"",null,null,null,null,null,null,""]
[null,null,{"$f":"IFERROR(VLOOKUP(B445,Hidden_Словник!$A$2:$C$100,3,FALSE),\"\")","v":""},null,null,null,null,null,null,null,null,null,null,null,null,null,null,null,null,null,null,null,null,"",null,null,null,null,null,null,""]
[null,null,{"$f":"IFERROR(VLOOKUP(B446,Hidden_Словник!$A$2:$C$100,3,FALSE),\"\")","v":""},null,null,null,null,null,null,null,null,null,null,null,null,null,null,null,null,null,null,null,null,"",null,null,null,null,null,null,""]
[null,null,{"$f":"IFERROR(VLOOKUP(B447,Hidden_Словник!$A$2:$C$100,3,FALSE),\"\")","v":""},null,null,null,null,null,null,null,null,null,null,null,null,null,null,null,null,null,null,null,null,"",null,null,null,null,null,null,""]
[null,null,{"$f":"IFERROR(VLOOKUP(B448,Hidden_Словник!$A$2:$C$100,3,FALSE),\"\")","v":""},null,null,null,null,null,null,null,null,null,null,null,null,null,null,null,null,null,null,null,null,"",null,null,null,null,null,null,""]
[null,null,{"$f":"IFERROR(VLOOKUP(B449,Hidden_Словник!$A$2:$C$100,3,FALSE),\"\")","v":""},null,null,null,null,null,null,null,null,null,null,null,null,null,null,null,null,null,null,null,null,"",null,null,null,null,null,null,""]
[null,null,{"$f":"IFERROR(VLOOKUP(B450,Hidden_Словник!$A$2:$C$100,3,FALSE),\"\")","v":""},null,null,null,null,null,null,null,null,null,null,null,null,null,null,null,null,null,null,null,null,"",null,null,null,null,null,null,""]
[null,null,{"$f":"IFERROR(VLOOKUP(B451,Hidden_Словник!$A$2:$C$100,3,FALSE),\"\")","v":""},null,null,null,null,null,null,null,null,null,null,null,null,null,null,null,null,null,null,null,null,"",null,null,null,null,null,null,""]
[null,null,{"$f":"IFERROR(VLOOKUP(B452,Hidden_Словник!$A$2:$C$100,3,FALSE),\"\")","v":""},null,null,null,null,null,null,null,null,null,null,null,null,null,null,null,null,null,null,null,null,"",null,null,null,null,null,null,""]
[null,null,{"$f":"IFERROR(VLOOKUP(B453,Hidden_Словник!$A$2:$C$100,3,FALSE),\"\")","v":""},null,null,null,null,null,null,null,null,null,null,null,null,null,null,null,null,null,null,null,null,"",null,null,null,null,null,null,""]
[null,null,{"$f":"IFERROR(VLOOKUP(B454,Hidden_Словник!$A$2:$C$100,3,FALSE),\"\")","v":""},null,null,null,null,null,null,null,null,null,null,null,null,null,null,null,null,null,null,null,null,"",null,null,null,null,null,null,""]
[null,null,{"$f":"IFERROR(VLOOKUP(B455,Hidden_Словник!$A$2:$C$100,3,FALSE),\"\")","v":""},null,null,null,null,null,null,null,null,null,null,null,null,null,null,null,null,null,null,null,null,"",null,null,null,null,null,null,""]
[null,null,{"$f":"IFERROR(VLOOKUP(B456,Hidden_Словник!$A$2:$C$100,3,FALSE),\"\")","v":""},null,null,null,null,null,null,null,null,null,null,null,null,null,null,null,null,null,null,null,null,"",null,null,null,null,null,null,""]
[null,null,{"$f":"IFERROR(VLOOKUP(B457,Hidden_Словник!$A$2:$C$100,3,FALSE),\"\")","v":""},null,null,null,null,null,null,null,null,null,null,null,null,null,null,null,null,null,null,null,null,"",null,null,null,null,null,null,""]
[null,null,{"$f":"IFERROR(VLOOKUP(B458,Hidden_Словник!$A$2:$C$100,3,FALSE),\"\")","v":""},null,null,null,null,null,null,null,null,null,null,null,null,null,null,null,null,null,null,null,null,"",null,null,null,null,null,null,""]
[null,null,{"$f":"IFERROR(VLOOKUP(B459,Hidden_Словник!$A$2:$C$100,3,FALSE),\"\")","v":""},null,null,null,null,null,null,null,null,null,null,null,null,null,null,null,null,null,null,null,null,"",null,null,null,null,null,null,""]
[null,null,{"$f":"IFERROR(VLOOKUP(B460,Hidden_Словник!$A$2:$C$100,3,FALSE),\"\")","v":""},null,null,null,null,null,null,null,null,null,null,null,null,null,null,null,null,null,null,null,null,"",null,null,null,null,null,null,""]
[null,null,{"$f":"IFERROR(VLOOKUP(B461,Hidden_Словник!$A$2:$C$100,3,FALSE),\"\")","v":""},null,null,null,null,null,null,null,null,null,null,null,null,null,null,null,null,null,null,null,null,"",null,null,null,null,null,null,""]
[null,null,{"$f":"IFERROR(VLOOKUP(B462,Hidden_Словник!$A$2:$C$100,3,FALSE),\"\")","v":""},null,null,null,null,null,null,null,null,null,null,null,null,null,null,null,null,null,null,null,null,"",null,null,null,null,null,null,""]
[null,null,{"$f":"IFERROR(VLOOKUP(B463,Hidden_Словник!$A$2:$C$100,3,FALSE),\"\")","v":""},null,null,null,null,null,null,null,null,null,null,null,null,null,null,null,null,null,null,null,null,"",null,null,null,null,null,null,""]
[null,null,{"$f":"IFERROR(VLOOKUP(B464,Hidden_Словник!$A$2:$C$100,3,FALSE),\"\")","v":""},null,null,null,null,null,null,null,null,null,null,null,null,null,null,null,null,null,null,null,null,"",null,null,null,null,null,null,""]
[null,null,{"$f":"IFERROR(VLOOKUP(B465,Hidden_Словник!$A$2:$C$100,3,FALSE),\"\")","v":""},null,null,null,null,null,null,null,null,null,null,null,null,null,null,null,null,null,null,null,null,"",null,null,null,null,null,null,""]
[null,null,{"$f":"IFERROR(VLOOKUP(B466,Hidden_Словник!$A$2:$C$100,3,FALSE),\"\")","v":""},null,null,null,null,null,null,null,null,null,null,null,null,null,null,null,null,null,null,null,null,"",null,null,null,null,null,null,""]
[null,null,{"$f":"IFERROR(VLOOKUP(B467,Hidden_Словник!$A$2:$C$100,3,FALSE),\"\")","v":""},null,null,null,null,null,null,null,null,null,null,null,null,null,null,null,null,null,null,null,null,"",null,null,null,null,null,null,""]
[null,null,{"$f":"IFERROR(VLOOKUP(B468,Hidden_Словник!$A$2:$C$100,3,FALSE),\"\")","v":""},null,null,null,null,null,null,null,null,null,null,null,null,null,null,null,null,null,null,null,null,{"$f":"IF(Y468+Z468>0,Y468+Z468,\"\")","v":""},null,null,null,null,null,null,{"$f":"IF(F468=\"\",\"\",IF(F468=\"Ліквідовано\",\"ТАК\",\"НІ\"))","v":""}]
[null,null,{"$f":"IFERROR(VLOOKUP(B469,Hidden_Словник!$A$2:$C$100,3,FALSE),\"\")","v":""},null,null,null,null,null,null,null,null,null,null,null,null,null,null,null,null,null,null,null,null,"",null,null,null,null,null,null,""]
[null,null,{"$f":"IFERROR(VLOOKUP(B470,Hidden_Словник!$A$2:$C$100,3,FALSE),\"\")","v":""},null,null,null,null,null,null,null,null,null,null,null,null,null,null,null,null,null,null,null,null,"",null,null,null,null,null,null,""]
[null,null,{"$f":"IFERROR(VLOOKUP(B471,Hidden_Словник!$A$2:$C$100,3,FALSE),\"\")","v":""},null,null,null,null,null,null,null,null,null,null,null,null,null,null,null,null,null,null,null,null,"",null,null,null,null,null,null,""]
[null,null,{"$f":"IFERROR(VLOOKUP(B472,Hidden_Словник!$A$2:$C$100,3,FALSE),\"\")","v":""},null,null,null,null,null,null,null,null,null,null,null,null,null,null,null,null,null,null,null,null,"",null,null,null,null,null,null,""]
[null,null,{"$f":"IFERROR(VLOOKUP(B473,Hidden_Словник!$A$2:$C$100,3,FALSE),\"\")","v":""},null,null,null,null,null,null,null,null,null,null,null,null,null,null,null,null,null,null,null,null,"",null,null,null,null,null,null,""]
[null,null,{"$f":"IFERROR(VLOOKUP(B474,Hidden_Словник!$A$2:$C$100,3,FALSE),\"\")","v":""},null,null,null,null,null,null,null,null,null,null,null,null,null,null,null,null,null,null,null,null,"",null,null,null,null,null,null,""]
[null,null,{"$f":"IFERROR(VLOOKUP(B475,Hidden_Словник!$A$2:$C$100,3,FALSE),\"\")","v":""},null,null,null,null,null,null,null,null,null,null,null,null,null,null,null,null,null,null,null,null,"",null,null,null,null,null,null,""]
[null,null,{"$f":"IFERROR(VLOOKUP(B476,Hidden_Словник!$A$2:$C$100,3,FALSE),\"\")","v":""},null,null,null,null,null,null,null,null,null,null,null,null,null,null,null,null,null,null,null,null,"",null,null,null,null,null,null,""]
[null,null,{"$f":"IFERROR(VLOOKUP(B477,Hidden_Словник!$A$2:$C$100,3,FALSE),\"\")","v":""},null,null,null,null,null,null,null,null,null,null,null,null,null,null,null,null,null,null,null,null,"",null,null,null,null,null,null,""]
[null,null,{"$f":"IFERROR(VLOOKUP(B478,Hidden_Словник!$A$2:$C$100,3,FALSE),\"\")","v":""},null,null,null,null,null,null,null,null,null,null,null,null,null,null,null,null,null,null,null,null,"",null,null,null,null,null,null,""]
[null,null,{"$f":"IFERROR(VLOOKUP(B479,Hidden_Словник!$A$2:$C$100,3,FALSE),\"\")","v":""},null,null,null,null,null,null,null,null,null,null,null,null,null,null,null,null,null,null,null,null,"",null,null,null,null,null,null,""]
[null,null,{"$f":"IFERROR(VLOOKUP(B480,Hidden_Словник!$A$2:$C$100,3,FALSE),\"\")","v":""},null,null,null,null,null,null,null,null,null,null,null,null,null,null,null,null,null,null,null,null,"",null,null,null,null,null,null,""]
[null,null,{"$f":"IFERROR(VLOOKUP(B481,Hidden_Словник!$A$2:$C$100,3,FALSE),\"\")","v":""},null,null,null,null,null,null,null,null,null,null,null,null,null,null,null,null,null,null,null,null,"",null,null,null,null,null,null,""]
[null,null,{"$f":"IFERROR(VLOOKUP(B482,Hidden_Словник!$A$2:$C$100,3,FALSE),\"\")","v":""},null,null,null,null,null,null,null,null,null,null,null,null,null,null,null,null,null,null,null,null,"",null,null,null,null,null,null,""]
[null,null,{"$f":"IFERROR(VLOOKUP(B483,Hidden_Словник!$A$2:$C$100,3,FALSE),\"\")","v":""},null,null,null,null,null,null,null,null,null,null,null,null,null,null,null,null,null,null,null,null,"",null,null,null,null,null,null,""]
[null,null,{"$f":"IFERROR(VLOOKUP(B484,Hidden_Словник!$A$2:$C$100,3,FALSE),\"\")","v":""},null,null,null,null,null,null,null,null,null,null,null,null,null,null,null,null,null,null,null,null,"",null,null,null,null,null,null,""]
[null,null,{"$f":"IFERROR(VLOOKUP(B485,Hidden_Словник!$A$2:$C$100,3,FALSE),\"\")","v":""},null,null,null,null,null,null,null,null,null,null,null,null,null,null,null,null,null,null,null,null,"",null,null,null,null,null,null,""]
[null,null,{"$f":"IFERROR(VLOOKUP(B486,Hidden_Словник!$A$2:$C$100,3,FALSE),\"\")","v":""},null,null,null,null,null,null,null,null,null,null,null,null,null,null,null,null,null,null,null,null,"",null,null,null,null,null,null,""]
[null,null,{"$f":"IFERROR(VLOOKUP(B487,Hidden_Словник!$A$2:$C$100,3,FALSE),\"\")","v":""},null,null,null,null,null,null,null,null,null,null,null,null,null,null,null,null,null,null,null,null,"",null,null,null,null,null,null,""]
[null,null,{"$f":"IFERROR(VLOOKUP(B488,Hidden_Словник!$A$2:$C$100,3,FALSE),\"\")","v":""},null,null,null,null,null,null,null,null,null,null,null,null,null,null,null,null,null,null,null,null,"",null,null,null,null,null,null,""]
[null,null,{"$f":"IFERROR(VLOOKUP(B489,Hidden_Словник!$A$2:$C$100,3,FALSE),\"\")","v":""},null,null,null,null,null,null,null,null,null,null,null,null,null,null,null,null,null,null,null,null,"",null,null,null,null,null,null,""]
[null,null,{"$f":"IFERROR(VLOOKUP(B490,Hidden_Словник!$A$2:$C$100,3,FALSE),\"\")","v":""},null,null,null,null,null,null,null,null,null,null,null,null,null,null,null,null,null,null,null,null,"",null,null,null,null,null,null,""]
[null,null,{"$f":"IFERROR(VLOOKUP(B491,Hidden_Словник!$A$2:$C$100,3,FALSE),\"\")","v":""},null,null,null,null,null,null,null,null,null,null,null,null,null,null,null,null,null,null,null,null,"",null,null,null,null,null,null,""]
[null,null,{"$f":"IFERROR(VLOOKUP(B492,Hidden_Словник!$A$2:$C$100,3,FALSE),\"\")","v":""},null,null,null,null,null,null,null,null,null,null,null,null,null,null,null,null,null,null,null,null,"",null,null,null,null,null,null,""]
[null,null,{"$f":"IFERROR(VLOOKUP(B493,Hidden_Словник!$A$2:$C$100,3,FALSE),\"\")","v":""},null,null,null,null,null,null,null,null,null,null,null,null,null,null,null,null,null,null,null,null,"",null,null,null,null,null,null,""]
[null,null,{"$f":"IFERROR(VLOOKUP(B494,Hidden_Словник!$A$2:$C$100,3,FALSE),\"\")","v":""},null,null,null,null,null,null,null,null,null,null,null,null,null,null,null,null,null,null,null,null,"",null,null,null,null,null,null,""]
[null,null,{"$f":"IFERROR(VLOOKUP(B495,Hidden_Словник!$A$2:$C$100,3,FALSE),\"\")","v":""},null,null,null,null,null,null,null,null,null,null,null,null,null,null,null,null,null,null,null,null,"",null,null,null,null,null,null,""]
[null,null,{"$f":"IFERROR(VLOOKUP(B496,Hidden_Словник!$A$2:$C$100,3,FALSE),\"\")","v":""},null,null,null,null,null,null,null,null,null,null,null,null,null,null,null,null,null,null,null,null,"",null,null,null,null,null,null,""]
[null,null,{"$f":"IFERROR(VLOOKUP(B497,Hidden_Словник!$A$2:$C$100,3,FALSE),\"\")","v":""},null,null,null,null,null,null,null,null,null,null,null,null,null,null,null,null,null,null,null,null,"",null,null,null,null,null,null,""]
[null,null,{"$f":"IFERROR(VLOOKUP(B498,Hidden_Словник!$A$2:$C$100,3,FALSE),\"\")","v":""},null,null,null,null,null,null,null,null,null,null,null,null,null,null,null,null,null,null,null,null,"",null,null,null,null,null,null,""]
[null,null,{"$f":"IFERROR(VLOOKUP(B499,Hidden_Словник!$A$2:$C$100,3,FALSE),\"\")","v":""},null,null,null,null,null,null,null,null,null,null,null,null,null,null,null,null,null,null,null,null,"",null,null,null,null,null,null,""]
[null,null,{"$f":"IFERROR(VLOOKUP(B500,Hidden_Словник!$A$2:$C$100,3,FALSE),\"\")","v":""},null,null,null,null,null,null,null,null,null,null,null,null,null,null,null,null,null,null,null,null,"",null,null,null,null,null,null,""]
[null,null,{"$f":"IFERROR(VLOOKUP(B501,Hidden_Словник!$A$2:$C$100,3,FALSE),\"\")","v":""},null,null,null,null,null,null,null,null,null,null,null,null,null,null,null,null,null,null,null,null,"",null,null,null,null,null,null,""]
[null,null,{"$f":"IFERROR(VLOOKUP(B502,Hidden_Словник!$A$2:$C$100,3,FALSE),\"\")","v":""},null,null,null,null,null,null,null,null,null,null,null,null,null,null,null,null,null,null,null,null,"",null,null,null,null,null,null,""]
[null,null,{"$f":"IFERROR(VLOOKUP(B503,Hidden_Словник!$A$2:$C$100,3,FALSE),\"\")","v":""},null,null,null,null,null,null,null,null,null,null,null,null,null,null,null,null,null,null,null,null,"",null,null,null,null,null,null,""]
[null,null,{"$f":"IFERROR(VLOOKUP(B504,Hidden_Словник!$A$2:$C$100,3,FALSE),\"\")","v":""},null,null,null,null,null,null,null,null,null,null,null,null,null,null,null,null,null,null,null,null,"",null,null,null,null,null,null,""]
[null,null,{"$f":"IFERROR(VLOOKUP(B505,Hidden_Словник!$A$2:$C$100,3,FALSE),\"\")","v":""},null,null,null,null,null,null,null,null,null,null,null,null,null,null,null,null,null,null,null,null,"",null,null,null,null,null,null,""]
[null,null,{"$f":"IFERROR(VLOOKUP(B506,Hidden_Словник!$A$2:$C$100,3,FALSE),\"\")","v":""},null,null,null,null,null,null,null,null,null,null,null,null,null,null,null,null,null,null,null,null,"",null,null,null,null,null,null,""]
[null,null,{"$f":"IFERROR(VLOOKUP(B507,Hidden_Словник!$A$2:$C$100,3,FALSE),\"\")","v":""},null,null,null,null,null,null,null,null,null,null,null,null,null,null,null,null,null,null,null,null,"",null,null,null,null,null,null,""]
[null,null,{"$f":"IFERROR(VLOOKUP(B508,Hidden_Словник!$A$2:$C$100,3,FALSE),\"\")","v":""},null,null,null,null,null,null,null,null,null,null,null,null,null,null,null,null,null,null,null,null,"",null,null,null,null,null,null,""]
[null,null,{"$f":"IFERROR(VLOOKUP(B509,Hidden_Словник!$A$2:$C$100,3,FALSE),\"\")","v":""},null,null,null,null,null,null,null,null,null,null,null,null,null,null,null,null,null,null,null,null,"",null,null,null,null,null,null,""]
[null,null,{"$f":"IFERROR(VLOOKUP(B510,Hidden_Словник!$A$2:$C$100,3,FALSE),\"\")","v":""},null,null,null,null,null,null,null,null,null,null,null,null,null,null,null,null,null,null,null,null,"",null,null,null,null,null,null,""]
[null,null,{"$f":"IFERROR(VLOOKUP(B511,Hidden_Словник!$A$2:$C$100,3,FALSE),\"\")","v":""},null,null,null,null,null,null,null,null,null,null,null,null,null,null,null,null,null,null,null,null,"",null,null,null,null,null,null,""]
[null,null,{"$f":"IFERROR(VLOOKUP(B512,Hidden_Словник!$A$2:$C$100,3,FALSE),\"\")","v":""},null,null,null,null,null,null,null,null,null,null,null,null,null,null,null,null,null,null,null,null,"",null,null,null,null,null,null,""]
[null,null,{"$f":"IFERROR(VLOOKUP(B513,Hidden_Словник!$A$2:$C$100,3,FALSE),\"\")","v":""},null,null,null,null,null,null,null,null,null,null,null,null,null,null,null,null,null,null,null,null,"",null,null,null,null,null,null,""]
[null,null,{"$f":"IFERROR(VLOOKUP(B514,Hidden_Словник!$A$2:$C$100,3,FALSE),\"\")","v":""},null,null,null,null,null,null,null,null,null,null,null,null,null,null,null,null,null,null,null,null,"",null,null,null,null,null,null,""]
[null,null,{"$f":"IFERROR(VLOOKUP(B515,Hidden_Словник!$A$2:$C$100,3,FALSE),\"\")","v":""},null,null,null,null,null,null,null,null,null,null,null,null,null,null,null,null,null,null,null,null,"",null,null,null,null,null,null,""]
[null,null,{"$f":"IFERROR(VLOOKUP(B516,Hidden_Словник!$A$2:$C$100,3,FALSE),\"\")","v":""},null,null,null,null,null,null,null,null,null,null,null,null,null,null,null,null,null,null,null,null,"",null,null,null,null,null,null,""]
[null,null,{"$f":"IFERROR(VLOOKUP(B517,Hidden_Словник!$A$2:$C$100,3,FALSE),\"\")","v":""},null,null,null,null,null,null,null,null,null,null,null,null,null,null,null,null,null,null,null,null,"",null,null,null,null,null,null,""]
[null,null,{"$f":"IFERROR(VLOOKUP(B518,Hidden_Словник!$A$2:$C$100,3,FALSE),\"\")","v":""},null,null,null,null,null,null,null,null,null,null,null,null,null,null,null,null,null,null,null,null,"",null,null,null,null,null,null,""]
[null,null,{"$f":"IFERROR(VLOOKUP(B519,Hidden_Словник!$A$2:$C$100,3,FALSE),\"\")","v":""},null,null,null,null,null,null,null,null,null,null,null,null,null,null,null,null,null,null,null,null,"",null,null,null,null,null,null,""]
[null,null,{"$f":"IFERROR(VLOOKUP(B520,Hidden_Словник!$A$2:$C$100,3,FALSE),\"\")","v":""},null,null,null,null,null,null,null,null,null,null,null,null,null,null,null,null,null,null,null,null,"",null,null,null,null,null,null,""]
[null,null,{"$f":"IFERROR(VLOOKUP(B521,Hidden_Словник!$A$2:$C$100,3,FALSE),\"\")","v":""},null,null,null,null,null,null,null,null,null,null,null,null,null,null,null,null,null,null,null,null,"",null,null,null,null,null,null,""]
[null,null,{"$f":"IFERROR(VLOOKUP(B522,Hidden_Словник!$A$2:$C$100,3,FALSE),\"\")","v":""},null,null,null,null,null,null,null,null,null,null,null,null,null,null,null,null,null,null,null,null,"",null,null,null,null,null,null,""]
[null,null,{"$f":"IFERROR(VLOOKUP(B523,Hidden_Словник!$A$2:$C$100,3,FALSE),\"\")","v":""},null,null,null,null,null,null,null,null,null,null,null,null,null,null,null,null,null,null,null,null,"",null,null,null,null,null,null,""]
[null,null,{"$f":"IFERROR(VLOOKUP(B524,Hidden_Словник!$A$2:$C$100,3,FALSE),\"\")","v":""},null,null,null,null,null,null,null,null,null,null,null,null,null,null,null,null,null,null,null,null,"",null,null,null,null,null,null,""]
[null,null,{"$f":"IFERROR(VLOOKUP(B525,Hidden_Словник!$A$2:$C$100,3,FALSE),\"\")","v":""},null,null,null,null,null,null,null,null,null,null,null,null,null,null,null,null,null,null,null,null,"",null,null,null,null,null,null,""]
[null,null,{"$f":"IFERROR(VLOOKUP(B526,Hidden_Словник!$A$2:$C$100,3,FALSE),\"\")","v":""},null,null,null,null,null,null,null,null,null,null,null,null,null,null,null,null,null,null,null,null,"",null,null,null,null,null,null,""]
[null,null,{"$f":"IFERROR(VLOOKUP(B527,Hidden_Словник!$A$2:$C$100,3,FALSE),\"\")","v":""},null,null,null,null,null,null,null,null,null,null,null,null,null,null,null,null,null,null,null,null,"",null,null,null,null,null,null,""]
[null,null,{"$f":"IFERROR(VLOOKUP(B528,Hidden_Словник!$A$2:$C$100,3,FALSE),\"\")","v":""},null,null,null,null,null,null,null,null,null,null,null,null,null,null,null,null,null,null,null,null,"",null,null,null,null,null,null,""]
[null,null,{"$f":"IFERROR(VLOOKUP(B529,Hidden_Словник!$A$2:$C$100,3,FALSE),\"\")","v":""},null,null,null,null,null,null,null,null,null,null,null,null,null,null,null,null,null,null,null,null,"",null,null,null,null,null,null,""]
[null,null,{"$f":"IFERROR(VLOOKUP(B530,Hidden_Словник!$A$2:$C$100,3,FALSE),\"\")","v":""},null,null,null,null,null,null,null,null,null,null,null,null,null,null,null,null,null,null,null,null,"",null,null,null,null,null,null,""]
[null,null,{"$f":"IFERROR(VLOOKUP(B531,Hidden_Словник!$A$2:$C$100,3,FALSE),\"\")","v":""},null,null,null,null,null,null,null,null,null,null,null,null,null,null,null,null,null,null,null,null,"",null,null,null,null,null,null,""]
[null,null,{"$f":"IFERROR(VLOOKUP(B532,Hidden_Словник!$A$2:$C$100,3,FALSE),\"\")","v":""},null,null,null,null,null,null,null,null,null,null,null,null,null,null,null,null,null,null,null,null,{"$f":"IF(Y532+Z532>0,Y532+Z532,\"\")","v":""},null,null,null,null,null,null,{"$f":"IF(F532=\"\",\"\",IF(F532=\"Ліквідовано\",\"ТАК\",\"НІ\"))","v":""}]
[null,null,{"$f":"IFERROR(VLOOKUP(B533,Hidden_Словник!$A$2:$C$100,3,FALSE),\"\")","v":""},null,null,null,null,null,null,null,null,null,null,null,null,null,null,null,null,null,null,null,null,"",null,null,null,null,null,null,""]
[null,null,{"$f":"IFERROR(VLOOKUP(B534,Hidden_Словник!$A$2:$C$100,3,FALSE),\"\")","v":""},null,null,null,null,null,null,null,null,null,null,null,null,null,null,null,null,null,null,null,null,"",null,null,null,null,null,null,""]
[null,null,{"$f":"IFERROR(VLOOKUP(B535,Hidden_Словник!$A$2:$C$100,3,FALSE),\"\")","v":""},null,null,null,null,null,null,null,null,null,null,null,null,null,null,null,null,null,null,null,null,"",null,null,null,null,null,null,""]
[null,null,{"$f":"IFERROR(VLOOKUP(B536,Hidden_Словник!$A$2:$C$100,3,FALSE),\"\")","v":""},null,null,null,null,null,null,null,null,null,null,null,null,null,null,null,null,null,null,null,null,"",null,null,null,null,null,null,""]
[null,null,{"$f":"IFERROR(VLOOKUP(B537,Hidden_Словник!$A$2:$C$100,3,FALSE),\"\")","v":""},null,null,null,null,null,null,null,null,null,null,null,null,null,null,null,null,null,null,null,null,"",null,null,null,null,null,null,""]
[null,null,{"$f":"IFERROR(VLOOKUP(B538,Hidden_Словник!$A$2:$C$100,3,FALSE),\"\")","v":""},null,null,null,null,null,null,null,null,null,null,null,null,null,null,null,null,null,null,null,null,"",null,null,null,null,null,null,""]
[null,null,{"$f":"IFERROR(VLOOKUP(B539,Hidden_Словник!$A$2:$C$100,3,FALSE),\"\")","v":""},null,null,null,null,null,null,null,null,null,null,null,null,null,null,null,null,null,null,null,null,"",null,null,null,null,null,null,""]
[null,null,{"$f":"IFERROR(VLOOKUP(B540,Hidden_Словник!$A$2:$C$100,3,FALSE),\"\")","v":""},null,null,null,null,null,null,null,null,null,null,null,null,null,null,null,null,null,null,null,null,"",null,null,null,null,null,null,""]
[null,null,{"$f":"IFERROR(VLOOKUP(B541,Hidden_Словник!$A$2:$C$100,3,FALSE),\"\")","v":""},null,null,null,null,null,null,null,null,null,null,null,null,null,null,null,null,null,null,null,null,"",null,null,null,null,null,null,""]
[null,null,{"$f":"IFERROR(VLOOKUP(B542,Hidden_Словник!$A$2:$C$100,3,FALSE),\"\")","v":""},null,null,null,null,null,null,null,null,null,null,null,null,null,null,null,null,null,null,null,null,"",null,null,null,null,null,null,""]
[null,null,{"$f":"IFERROR(VLOOKUP(B543,Hidden_Словник!$A$2:$C$100,3,FALSE),\"\")","v":""},null,null,null,null,null,null,null,null,null,null,null,null,null,null,null,null,null,null,null,null,"",null,null,null,null,null,null,""]
[null,null,{"$f":"IFERROR(VLOOKUP(B544,Hidden_Словник!$A$2:$C$100,3,FALSE),\"\")","v":""},null,null,null,null,null,null,null,null,null,null,null,null,null,null,null,null,null,null,null,null,"",null,null,null,null,null,null,""]
[null,null,{"$f":"IFERROR(VLOOKUP(B545,Hidden_Словник!$A$2:$C$100,3,FALSE),\"\")","v":""},null,null,null,null,null,null,null,null,null,null,null,null,null,null,null,null,null,null,null,null,"",null,null,null,null,null,null,""]
[null,null,{"$f":"IFERROR(VLOOKUP(B546,Hidden_Словник!$A$2:$C$100,3,FALSE),\"\")","v":""},null,null,null,null,null,null,null,null,null,null,null,null,null,null,null,null,null,null,null,null,"",null,null,null,null,null,null,""]
[null,null,{"$f":"IFERROR(VLOOKUP(B547,Hidden_Словник!$A$2:$C$100,3,FALSE),\"\")","v":""},null,null,null,null,null,null,null,null,null,null,null,null,null,null,null,null,null,null,null,null,"",null,null,null,null,null,null,""]
[null,null,{"$f":"IFERROR(VLOOKUP(B548,Hidden_Словник!$A$2:$C$100,3,FALSE),\"\")","v":""},null,null,null,null,null,null,null,null,null,null,null,null,null,null,null,null,null,null,null,null,"",null,null,null,null,null,null,""]
[null,null,{"$f":"IFERROR(VLOOKUP(B549,Hidden_Словник!$A$2:$C$100,3,FALSE),\"\")","v":""},null,null,null,null,null,null,null,null,null,null,null,null,null,null,null,null,null,null,null,null,"",null,null,null,null,null,null,""]
[null,null,{"$f":"IFERROR(VLOOKUP(B550,Hidden_Словник!$A$2:$C$100,3,FALSE),\"\")","v":""},null,null,null,null,null,null,null,null,null,null,null,null,null,null,null,null,null,null,null,null,"",null,null,null,null,null,null,""]
[null,null,{"$f":"IFERROR(VLOOKUP(B551,Hidden_Словник!$A$2:$C$100,3,FALSE),\"\")","v":""},null,null,null,null,null,null,null,null,null,null,null,null,null,null,null,null,null,null,null,null,"",null,null,null,null,null,null,""]
[null,null,{"$f":"IFERROR(VLOOKUP(B552,Hidden_Словник!$A$2:$C$100,3,FALSE),\"\")","v":""},null,null,null,null,null,null,null,null,null,null,null,null,null,null,null,null,null,null,null,null,"",null,null,null,null,null,null,""]
[null,null,{"$f":"IFERROR(VLOOKUP(B553,Hidden_Словник!$A$2:$C$100,3,FALSE),\"\")","v":""},null,null,null,null,null,null,null,null,null,null,null,null,null,null,null,null,null,null,null,null,"",null,null,null,null,null,null,""]
[null,null,{"$f":"IFERROR(VLOOKUP(B554,Hidden_Словник!$A$2:$C$100,3,FALSE),\"\")","v":""},null,null,null,null,null,null,null,null,null,null,null,null,null,null,null,null,null,null,null,null,"",null,null,null,null,null,null,""]
[null,null,{"$f":"IFERROR(VLOOKUP(B555,Hidden_Словник!$A$2:$C$100,3,FALSE),\"\")","v":""},null,null,null,null,null,null,null,null,null,null,null,null,null,null,null,null,null,null,null,null,"",null,null,null,null,null,null,""]
[null,null,{"$f":"IFERROR(VLOOKUP(B556,Hidden_Словник!$A$2:$C$100,3,FALSE),\"\")","v":""},null,null,null,null,null,null,null,null,null,null,null,null,null,null,null,null,null,null,null,null,"",null,null,null,null,null,null,""]
[null,null,{"$f":"IFERROR(VLOOKUP(B557,Hidden_Словник!$A$2:$C$100,3,FALSE),\"\")","v":""},null,null,null,null,null,null,null,null,null,null,null,null,null,null,null,null,null,null,null,null,"",null,null,null,null,null,null,""]
[null,null,{"$f":"IFERROR(VLOOKUP(B558,Hidden_Словник!$A$2:$C$100,3,FALSE),\"\")","v":""},null,null,null,null,null,null,null,null,null,null,null,null,null,null,null,null,null,null,null,null,"",null,null,null,null,null,null,""]
[null,null,{"$f":"IFERROR(VLOOKUP(B559,Hidden_Словник!$A$2:$C$100,3,FALSE),\"\")","v":""},null,null,null,null,null,null,null,null,null,null,null,null,null,null,null,null,null,null,null,null,"",null,null,null,null,null,null,""]
[null,null,{"$f":"IFERROR(VLOOKUP(B560,Hidden_Словник!$A$2:$C$100,3,FALSE),\"\")","v":""},null,null,null,null,null,null,null,null,null,null,null,null,null,null,null,null,null,null,null,null,"",null,null,null,null,null,null,""]
[null,null,{"$f":"IFERROR(VLOOKUP(B561,Hidden_Словник!$A$2:$C$100,3,FALSE),\"\")","v":""},null,null,null,null,null,null,null,null,null,null,null,null,null,null,null,null,null,null,null,null,"",null,null,null,null,null,null,""]
[null,null,{"$f":"IFERROR(VLOOKUP(B562,Hidden_Словник!$A$2:$C$100,3,FALSE),\"\")","v":""},null,null,null,null,null,null,null,null,null,null,null,null,null,null,null,null,null,null,null,null,"",null,null,null,null,null,null,""]
[null,null,{"$f":"IFERROR(VLOOKUP(B563,Hidden_Словник!$A$2:$C$100,3,FALSE),\"\")","v":""},null,null,null,null,null,null,null,null,null,null,null,null,null,null,null,null,null,null,null,null,"",null,null,null,null,null,null,""]
[null,null,{"$f":"IFERROR(VLOOKUP(B564,Hidden_Словник!$A$2:$C$100,3,FALSE),\"\")","v":""},null,null,null,null,null,null,null,null,null,null,null,null,null,null,null,null,null,null,null,null,"",null,null,null,null,null,null,""]
[null,null,{"$f":"IFERROR(VLOOKUP(B565,Hidden_Словник!$A$2:$C$100,3,FALSE),\"\")","v":""},null,null,null,null,null,null,null,null,null,null,null,null,null,null,null,null,null,null,null,null,"",null,null,null,null,null,null,""]
[null,null,{"$f":"IFERROR(VLOOKUP(B566,Hidden_Словник!$A$2:$C$100,3,FALSE),\"\")","v":""},null,null,null,null,null,null,null,null,null,null,null,null,null,null,null,null,null,null,null,null,"",null,null,null,null,null,null,""]
[null,null,{"$f":"IFERROR(VLOOKUP(B567,Hidden_Словник!$A$2:$C$100,3,FALSE),\"\")","v":""},null,null,null,null,null,null,null,null,null,null,null,null,null,null,null,null,null,null,null,null,"",null,null,null,null,null,null,""]
[null,null,{"$f":"IFERROR(VLOOKUP(B568,Hidden_Словник!$A$2:$C$100,3,FALSE),\"\")","v":""},null,null,null,null,null,null,null,null,null,null,null,null,null,null,null,null,null,null,null,null,"",null,null,null,null,null,null,""]
[null,null,{"$f":"IFERROR(VLOOKUP(B569,Hidden_Словник!$A$2:$C$100,3,FALSE),\"\")","v":""},null,null,null,null,null,null,null,null,null,null,null,null,null,null,null,null,null,null,null,null,"",null,null,null,null,null,null,""]
[null,null,{"$f":"IFERROR(VLOOKUP(B570,Hidden_Словник!$A$2:$C$100,3,FALSE),\"\")","v":""},null,null,null,null,null,null,null,null,null,null,null,null,null,null,null,null,null,null,null,null,"",null,null,null,null,null,null,""]
[null,null,{"$f":"IFERROR(VLOOKUP(B571,Hidden_Словник!$A$2:$C$100,3,FALSE),\"\")","v":""},null,null,null,null,null,null,null,null,null,null,null,null,null,null,null,null,null,null,null,null,"",null,null,null,null,null,null,""]
[null,null,{"$f":"IFERROR(VLOOKUP(B572,Hidden_Словник!$A$2:$C$100,3,FALSE),\"\")","v":""},null,null,null,null,null,null,null,null,null,null,null,null,null,null,null,null,null,null,null,null,"",null,null,null,null,null,null,""]
[null,null,{"$f":"IFERROR(VLOOKUP(B573,Hidden_Словник!$A$2:$C$100,3,FALSE),\"\")","v":""},null,null,null,null,null,null,null,null,null,null,null,null,null,null,null,null,null,null,null,null,"",null,null,null,null,null,null,""]
[null,null,{"$f":"IFERROR(VLOOKUP(B574,Hidden_Словник!$A$2:$C$100,3,FALSE),\"\")","v":""},null,null,null,null,null,null,null,null,null,null,null,null,null,null,null,null,null,null,null,null,"",null,null,null,null,null,null,""]
[null,null,{"$f":"IFERROR(VLOOKUP(B575,Hidden_Словник!$A$2:$C$100,3,FALSE),\"\")","v":""},null,null,null,null,null,null,null,null,null,null,null,null,null,null,null,null,null,null,null,null,"",null,null,null,null,null,null,""]
[null,null,{"$f":"IFERROR(VLOOKUP(B576,Hidden_Словник!$A$2:$C$100,3,FALSE),\"\")","v":""},null,null,null,null,null,null,null,null,null,null,null,null,null,null,null,null,null,null,null,null,"",null,null,null,null,null,null,""]
[null,null,{"$f":"IFERROR(VLOOKUP(B577,Hidden_Словник!$A$2:$C$100,3,FALSE),\"\")","v":""},null,null,null,null,null,null,null,null,null,null,null,null,null,null,null,null,null,null,null,null,"",null,null,null,null,null,null,""]
[null,null,{"$f":"IFERROR(VLOOKUP(B578,Hidden_Словник!$A$2:$C$100,3,FALSE),\"\")","v":""},null,null,null,null,null,null,null,null,null,null,null,null,null,null,null,null,null,null,null,null,"",null,null,null,null,null,null,""]
[null,null,{"$f":"IFERROR(VLOOKUP(B579,Hidden_Словник!$A$2:$C$100,3,FALSE),\"\")","v":""},null,null,null,null,null,null,null,null,null,null,null,null,null,null,null,null,null,null,null,null,"",null,null,null,null,null,null,""]
[null,null,{"$f":"IFERROR(VLOOKUP(B580,Hidden_Словник!$A$2:$C$100,3,FALSE),\"\")","v":""},null,null,null,null,null,null,null,null,null,null,null,null,null,null,null,null,null,null,null,null,"",null,null,null,null,null,null,""]
[null,null,{"$f":"IFERROR(VLOOKUP(B581,Hidden_Словник!$A$2:$C$100,3,FALSE),\"\")","v":""},null,null,null,null,null,null,null,null,null,null,null,null,null,null,null,null,null,null,null,null,"",null,null,null,null,null,null,""]
[null,null,{"$f":"IFERROR(VLOOKUP(B582,Hidden_Словник!$A$2:$C$100,3,FALSE),\"\")","v":""},null,null,null,null,null,null,null,null,null,null,null,null,null,null,null,null,null,null,null,null,"",null,null,null,null,null,null,""]
[null,null,{"$f":"IFERROR(VLOOKUP(B583,Hidden_Словник!$A$2:$C$100,3,FALSE),\"\")","v":""},null,null,null,null,null,null,null,null,null,null,null,null,null,null,null,null,null,null,null,null,"",null,null,null,null,null,null,""]
[null,null,{"$f":"IFERROR(VLOOKUP(B584,Hidden_Словник!$A$2:$C$100,3,FALSE),\"\")","v":""},null,null,null,null,null,null,null,null,null,null,null,null,null,null,null,null,null,null,null,null,"",null,null,null,null,null,null,""]
[null,null,{"$f":"IFERROR(VLOOKUP(B585,Hidden_Словник!$A$2:$C$100,3,FALSE),\"\")","v":""},null,null,null,null,null,null,null,null,null,null,null,null,null,null,null,null,null,null,null,null,"",null,null,null,null,null,null,""]
[null,null,{"$f":"IFERROR(VLOOKUP(B586,Hidden_Словник!$A$2:$C$100,3,FALSE),\"\")","v":""},null,null,null,null,null,null,null,null,null,null,null,null,null,null,null,null,null,null,null,null,"",null,null,null,null,null,null,""]
[null,null,{"$f":"IFERROR(VLOOKUP(B587,Hidden_Словник!$A$2:$C$100,3,FALSE),\"\")","v":""},null,null,null,null,null,null,null,null,null,null,null,null,null,null,null,null,null,null,null,null,"",null,null,null,null,null,null,""]
[null,null,{"$f":"IFERROR(VLOOKUP(B588,Hidden_Словник!$A$2:$C$100,3,FALSE),\"\")","v":""},null,null,null,null,null,null,null,null,null,null,null,null,null,null,null,null,null,null,null,null,"",null,null,null,null,null,null,""]
[null,null,{"$f":"IFERROR(VLOOKUP(B589,Hidden_Словник!$A$2:$C$100,3,FALSE),\"\")","v":""},null,null,null,null,null,null,null,null,null,null,null,null,null,null,null,null,null,null,null,null,"",null,null,null,null,null,null,""]
[null,null,{"$f":"IFERROR(VLOOKUP(B590,Hidden_Словник!$A$2:$C$100,3,FALSE),\"\")","v":""},null,null,null,null,null,null,null,null,null,null,null,null,null,null,null,null,null,null,null,null,"",null,null,null,null,null,null,""]
[null,null,{"$f":"IFERROR(VLOOKUP(B591,Hidden_Словник!$A$2:$C$100,3,FALSE),\"\")","v":""},null,null,null,null,null,null,null,null,null,null,null,null,null,null,null,null,null,null,null,null,"",null,null,null,null,null,null,""]
[null,null,{"$f":"IFERROR(VLOOKUP(B592,Hidden_Словник!$A$2:$C$100,3,FALSE),\"\")","v":""},null,null,null,null,null,null,null,null,null,null,null,null,null,null,null,null,null,null,null,null,"",null,null,null,null,null,null,""]
[null,null,{"$f":"IFERROR(VLOOKUP(B593,Hidden_Словник!$A$2:$C$100,3,FALSE),\"\")","v":""},null,null,null,null,null,null,null,null,null,null,null,null,null,null,null,null,null,null,null,null,"",null,null,null,null,null,null,""]
[null,null,{"$f":"IFERROR(VLOOKUP(B594,Hidden_Словник!$A$2:$C$100,3,FALSE),\"\")","v":""},null,null,null,null,null,null,null,null,null,null,null,null,null,null,null,null,null,null,null,null,"",null,null,null,null,null,null,""]
[null,null,{"$f":"IFERROR(VLOOKUP(B595,Hidden_Словник!$A$2:$C$100,3,FALSE),\"\")","v":""},null,null,null,null,null,null,null,null,null,null,null,null,null,null,null,null,null,null,null,null,"",null,null,null,null,null,null,""]
[null,null,{"$f":"IFERROR(VLOOKUP(B596,Hidden_Словник!$A$2:$C$100,3,FALSE),\"\")","v":""},null,null,null,null,null,null,null,null,null,null,null,null,null,null,null,null,null,null,null,null,{"$f":"IF(Y596+Z596>0,Y596+Z596,\"\")","v":""},null,null,null,null,null,null,{"$f":"IF(F596=\"\",\"\",IF(F596=\"Ліквідовано\",\"ТАК\",\"НІ\"))","v":""}]
[null,null,{"$f":"IFERROR(VLOOKUP(B597,Hidden_Словник!$A$2:$C$100,3,FALSE),\"\")","v":""},null,null,null,null,null,null,null,null,null,null,null,null,null,null,null,null,null,null,null,null,"",null,null,null,null,null,null,""]
[null,null,{"$f":"IFERROR(VLOOKUP(B598,Hidden_Словник!$A$2:$C$100,3,FALSE),\"\")","v":""},null,null,null,null,null,null,null,null,null,null,null,null,null,null,null,null,null,null,null,null,"",null,null,null,null,null,null,""]
[null,null,{"$f":"IFERROR(VLOOKUP(B599,Hidden_Словник!$A$2:$C$100,3,FALSE),\"\")","v":""},null,null,null,null,null,null,null,null,null,null,null,null,null,null,null,null,null,null,null,null,"",null,null,null,null,null,null,""]
[null,null,{"$f":"IFERROR(VLOOKUP(B600,Hidden_Словник!$A$2:$C$100,3,FALSE),\"\")","v":""},null,null,null,null,null,null,null,null,null,null,null,null,null,null,null,null,null,null,null,null,"",null,null,null,null,null,null,""]
[null,null,{"$f":"IFERROR(VLOOKUP(B601,Hidden_Словник!$A$2:$C$100,3,FALSE),\"\")","v":""},null,null,null,null,null,null,null,null,null,null,null,null,null,null,null,null,null,null,null,null,"",null,null,null,null,null,null,""]
[null,null,{"$f":"IFERROR(VLOOKUP(B602,Hidden_Словник!$A$2:$C$100,3,FALSE),\"\")","v":""},null,null,null,null,null,null,null,null,null,null,null,null,null,null,null,null,null,null,null,null,"",null,null,null,null,null,null,""]
[null,null,{"$f":"IFERROR(VLOOKUP(B603,Hidden_Словник!$A$2:$C$100,3,FALSE),\"\")","v":""},null,null,null,null,null,null,null,null,null,null,null,null,null,null,null,null,null,null,null,null,"",null,null,null,null,null,null,""]
[null,null,{"$f":"IFERROR(VLOOKUP(B604,Hidden_Словник!$A$2:$C$100,3,FALSE),\"\")","v":""},null,null,null,null,null,null,null,null,null,null,null,null,null,null,null,null,null,null,null,null,"",null,null,null,null,null,null,""]
[null,null,{"$f":"IFERROR(VLOOKUP(B605,Hidden_Словник!$A$2:$C$100,3,FALSE),\"\")","v":""},null,null,null,null,null,null,null,null,null,null,null,null,null,null,null,null,null,null,null,null,"",null,null,null,null,null,null,""]
[null,null,{"$f":"IFERROR(VLOOKUP(B606,Hidden_Словник!$A$2:$C$100,3,FALSE),\"\")","v":""},null,null,null,null,null,null,null,null,null,null,null,null,null,null,null,null,null,null,null,null,"",null,null,null,null,null,null,""]
[null,null,{"$f":"IFERROR(VLOOKUP(B607,Hidden_Словник!$A$2:$C$100,3,FALSE),\"\")","v":""},null,null,null,null,null,null,null,null,null,null,null,null,null,null,null,null,null,null,null,null,"",null,null,null,null,null,null,""]
[null,null,{"$f":"IFERROR(VLOOKUP(B608,Hidden_Словник!$A$2:$C$100,3,FALSE),\"\")","v":""},null,null,null,null,null,null,null,null,null,null,null,null,null,null,null,null,null,null,null,null,"",null,null,null,null,null,null,""]
[null,null,{"$f":"IFERROR(VLOOKUP(B609,Hidden_Словник!$A$2:$C$100,3,FALSE),\"\")","v":""},null,null,null,null,null,null,null,null,null,null,null,null,null,null,null,null,null,null,null,null,"",null,null,null,null,null,null,""]
[null,null,{"$f":"IFERROR(VLOOKUP(B610,Hidden_Словник!$A$2:$C$100,3,FALSE),\"\")","v":""},null,null,null,null,null,null,null,null,null,null,null,null,null,null,null,null,null,null,null,null,"",null,null,null,null,null,null,""]
[null,null,{"$f":"IFERROR(VLOOKUP(B611,Hidden_Словник!$A$2:$C$100,3,FALSE),\"\")","v":""},null,null,null,null,null,null,null,null,null,null,null,null,null,null,null,null,null,null,null,null,"",null,null,null,null,null,null,""]
[null,null,{"$f":"IFERROR(VLOOKUP(B612,Hidden_Словник!$A$2:$C$100,3,FALSE),\"\")","v":""},null,null,null,null,null,null,null,null,null,null,null,null,null,null,null,null,null,null,null,null,"",null,null,null,null,null,null,""]
[null,null,{"$f":"IFERROR(VLOOKUP(B613,Hidden_Словник!$A$2:$C$100,3,FALSE),\"\")","v":""},null,null,null,null,null,null,null,null,null,null,null,null,null,null,null,null,null,null,null,null,"",null,null,null,null,null,null,""]
[null,null,{"$f":"IFERROR(VLOOKUP(B614,Hidden_Словник!$A$2:$C$100,3,FALSE),\"\")","v":""},null,null,null,null,null,null,null,null,null,null,null,null,null,null,null,null,null,null,null,null,"",null,null,null,null,null,null,""]
[null,null,{"$f":"IFERROR(VLOOKUP(B615,Hidden_Словник!$A$2:$C$100,3,FALSE),\"\")","v":""},null,null,null,null,null,null,null,null,null,null,null,null,null,null,null,null,null,null,null,null,"",null,null,null,null,null,null,""]
[null,null,{"$f":"IFERROR(VLOOKUP(B616,Hidden_Словник!$A$2:$C$100,3,FALSE),\"\")","v":""},null,null,null,null,null,null,null,null,null,null,null,null,null,null,null,null,null,null,null,null,"",null,null,null,null,null,null,""]
[null,null,{"$f":"IFERROR(VLOOKUP(B617,Hidden_Словник!$A$2:$C$100,3,FALSE),\"\")","v":""},null,null,null,null,null,null,null,null,null,null,null,null,null,null,null,null,null,null,null,null,"",null,null,null,null,null,null,""]
[null,null,{"$f":"IFERROR(VLOOKUP(B618,Hidden_Словник!$A$2:$C$100,3,FALSE),\"\")","v":""},null,null,null,null,null,null,null,null,null,null,null,null,null,null,null,null,null,null,null,null,"",null,null,null,null,null,null,""]
[null,null,{"$f":"IFERROR(VLOOKUP(B619,Hidden_Словник!$A$2:$C$100,3,FALSE),\"\")","v":""},null,null,null,null,null,null,null,null,null,null,null,null,null,null,null,null,null,null,null,null,"",null,null,null,null,null,null,""]
[null,null,{"$f":"IFERROR(VLOOKUP(B620,Hidden_Словник!$A$2:$C$100,3,FALSE),\"\")","v":""},null,null,null,null,null,null,null,null,null,null,null,null,null,null,null,null,null,null,null,null,"",null,null,null,null,null,null,""]
[null,null,{"$f":"IFERROR(VLOOKUP(B621,Hidden_Словник!$A$2:$C$100,3,FALSE),\"\")","v":""},null,null,null,null,null,null,null,null,null,null,null,null,null,null,null,null,null,null,null,null,"",null,null,null,null,null,null,""]
[null,null,{"$f":"IFERROR(VLOOKUP(B622,Hidden_Словник!$A$2:$C$100,3,FALSE),\"\")","v":""},null,null,null,null,null,null,null,null,null,null,null,null,null,null,null,null,null,null,null,null,"",null,null,null,null,null,null,""]
[null,null,{"$f":"IFERROR(VLOOKUP(B623,Hidden_Словник!$A$2:$C$100,3,FALSE),\"\")","v":""},null,null,null,null,null,null,null,null,null,null,null,null,null,null,null,null,null,null,null,null,"",null,null,null,null,null,null,""]
[null,null,{"$f":"IFERROR(VLOOKUP(B624,Hidden_Словник!$A$2:$C$100,3,FALSE),\"\")","v":""},null,null,null,null,null,null,null,null,null,null,null,null,null,null,null,null,null,null,null,null,"",null,null,null,null,null,null,""]
[null,null,{"$f":"IFERROR(VLOOKUP(B625,Hidden_Словник!$A$2:$C$100,3,FALSE),\"\")","v":""},null,null,null,null,null,null,null,null,null,null,null,null,null,null,null,null,null,null,null,null,"",null,null,null,null,null,null,""]
[null,null,{"$f":"IFERROR(VLOOKUP(B626,Hidden_Словник!$A$2:$C$100,3,FALSE),\"\")","v":""},null,null,null,null,null,null,null,null,null,null,null,null,null,null,null,null,null,null,null,null,"",null,null,null,null,null,null,""]
[null,null,{"$f":"IFERROR(VLOOKUP(B627,Hidden_Словник!$A$2:$C$100,3,FALSE),\"\")","v":""},null,null,null,null,null,null,null,null,null,null,null,null,null,null,null,null,null,null,null,null,"",null,null,null,null,null,null,""]
[null,null,{"$f":"IFERROR(VLOOKUP(B628,Hidden_Словник!$A$2:$C$100,3,FALSE),\"\")","v":""},null,null,null,null,null,null,null,null,null,null,null,null,null,null,null,null,null,null,null,null,"",null,null,null,null,null,null,""]
[null,null,{"$f":"IFERROR(VLOOKUP(B629,Hidden_Словник!$A$2:$C$100,3,FALSE),\"\")","v":""},null,null,null,null,null,null,null,null,null,null,null,null,null,null,null,null,null,null,null,null,"",null,null,null,null,null,null,""]
[null,null,{"$f":"IFERROR(VLOOKUP(B630,Hidden_Словник!$A$2:$C$100,3,FALSE),\"\")","v":""},null,null,null,null,null,null,null,null,null,null,null,null,null,null,null,null,null,null,null,null,"",null,null,null,null,null,null,""]
[null,null,{"$f":"IFERROR(VLOOKUP(B631,Hidden_Словник!$A$2:$C$100,3,FALSE),\"\")","v":""},null,null,null,null,null,null,null,null,null,null,null,null,null,null,null,null,null,null,null,null,"",null,null,null,null,null,null,""]
[null,null,{"$f":"IFERROR(VLOOKUP(B632,Hidden_Словник!$A$2:$C$100,3,FALSE),\"\")","v":""},null,null,null,null,null,null,null,null,null,null,null,null,null,null,null,null,null,null,null,null,"",null,null,null,null,null,null,""]
[null,null,{"$f":"IFERROR(VLOOKUP(B633,Hidden_Словник!$A$2:$C$100,3,FALSE),\"\")","v":""},null,null,null,null,null,null,null,null,null,null,null,null,null,null,null,null,null,null,null,null,"",null,null,null,null,null,null,""]
[null,null,{"$f":"IFERROR(VLOOKUP(B634,Hidden_Словник!$A$2:$C$100,3,FALSE),\"\")","v":""},null,null,null,null,null,null,null,null,null,null,null,null,null,null,null,null,null,null,null,null,"",null,null,null,null,null,null,""]
[null,null,{"$f":"IFERROR(VLOOKUP(B635,Hidden_Словник!$A$2:$C$100,3,FALSE),\"\")","v":""},null,null,null,null,null,null,null,null,null,null,null,null,null,null,null,null,null,null,null,null,"",null,null,null,null,null,null,""]
[null,null,{"$f":"IFERROR(VLOOKUP(B636,Hidden_Словник!$A$2:$C$100,3,FALSE),\"\")","v":""},null,null,null,null,null,null,null,null,null,null,null,null,null,null,null,null,null,null,null,null,"",null,null,null,null,null,null,""]
[null,null,{"$f":"IFERROR(VLOOKUP(B637,Hidden_Словник!$A$2:$C$100,3,FALSE),\"\")","v":""},null,null,null,null,null,null,null,null,null,null,null,null,null,null,null,null,null,null,null,null,"",null,null,null,null,null,null,""]
[null,null,{"$f":"IFERROR(VLOOKUP(B638,Hidden_Словник!$A$2:$C$100,3,FALSE),\"\")","v":""},null,null,null,null,null,null,null,null,null,null,null,null,null,null,null,null,null,null,null,null,"",null,null,null,null,null,null,""]
[null,null,{"$f":"IFERROR(VLOOKUP(B639,Hidden_Словник!$A$2:$C$100,3,FALSE),\"\")","v":""},null,null,null,null,null,null,null,null,null,null,null,null,null,null,null,null,null,null,null,null,"",null,null,null,null,null,null,""]
[null,null,{"$f":"IFERROR(VLOOKUP(B640,Hidden_Словник!$A$2:$C$100,3,FALSE),\"\")","v":""},null,null,null,null,null,null,null,null,null,null,null,null,null,null,null,null,null,null,null,null,"",null,null,null,null,null,null,""]
[null,null,{"$f":"IFERROR(VLOOKUP(B641,Hidden_Словник!$A$2:$C$100,3,FALSE),\"\")","v":""},null,null,null,null,null,null,null,null,null,null,null,null,null,null,null,null,null,null,null,null,"",null,null,null,null,null,null,""]
[null,null,{"$f":"IFERROR(VLOOKUP(B642,Hidden_Словник!$A$2:$C$100,3,FALSE),\"\")","v":""},null,null,null,null,null,null,null,null,null,null,null,null,null,null,null,null,null,null,null,null,"",null,null,null,null,null,null,""]
[null,null,{"$f":"IFERROR(VLOOKUP(B643,Hidden_Словник!$A$2:$C$100,3,FALSE),\"\")","v":""},null,null,null,null,null,null,null,null,null,null,null,null,null,null,null,null,null,null,null,null,"",null,null,null,null,null,null,""]
[null,null,{"$f":"IFERROR(VLOOKUP(B644,Hidden_Словник!$A$2:$C$100,3,FALSE),\"\")","v":""},null,null,null,null,null,null,null,null,null,null,null,null,null,null,null,null,null,null,null,null,"",null,null,null,null,null,null,""]
[null,null,{"$f":"IFERROR(VLOOKUP(B645,Hidden_Словник!$A$2:$C$100,3,FALSE),\"\")","v":""},null,null,null,null,null,null,null,null,null,null,null,null,null,null,null,null,null,null,null,null,"",null,null,null,null,null,null,""]
[null,null,{"$f":"IFERROR(VLOOKUP(B646,Hidden_Словник!$A$2:$C$100,3,FALSE),\"\")","v":""},null,null,null,null,null,null,null,null,null,null,null,null,null,null,null,null,null,null,null,null,"",null,null,null,null,null,null,""]
[null,null,{"$f":"IFERROR(VLOOKUP(B647,Hidden_Словник!$A$2:$C$100,3,FALSE),\"\")","v":""},null,null,null,null,null,null,null,null,null,null,null,null,null,null,null,null,null,null,null,null,"",null,null,null,null,null,null,""]
[null,null,{"$f":"IFERROR(VLOOKUP(B648,Hidden_Словник!$A$2:$C$100,3,FALSE),\"\")","v":""},null,null,null,null,null,null,null,null,null,null,null,null,null,null,null,null,null,null,null,null,"",null,null,null,null,null,null,""]
[null,null,{"$f":"IFERROR(VLOOKUP(B649,Hidden_Словник!$A$2:$C$100,3,FALSE),\"\")","v":""},null,null,null,null,null,null,null,null,null,null,null,null,null,null,null,null,null,null,null,null,"",null,null,null,null,null,null,""]
[null,null,{"$f":"IFERROR(VLOOKUP(B650,Hidden_Словник!$A$2:$C$100,3,FALSE),\"\")","v":""},null,null,null,null,null,null,null,null,null,null,null,null,null,null,null,null,null,null,null,null,"",null,null,null,null,null,null,""]
[null,null,{"$f":"IFERROR(VLOOKUP(B651,Hidden_Словник!$A$2:$C$100,3,FALSE),\"\")","v":""},null,null,null,null,null,null,null,null,null,null,null,null,null,null,null,null,null,null,null,null,"",null,null,null,null,null,null,""]
[null,null,{"$f":"IFERROR(VLOOKUP(B652,Hidden_Словник!$A$2:$C$100,3,FALSE),\"\")","v":""},null,null,null,null,null,null,null,null,null,null,null,null,null,null,null,null,null,null,null,null,"",null,null,null,null,null,null,""]
[null,null,{"$f":"IFERROR(VLOOKUP(B653,Hidden_Словник!$A$2:$C$100,3,FALSE),\"\")","v":""},null,null,null,null,null,null,null,null,null,null,null,null,null,null,null,null,null,null,null,null,"",null,null,null,null,null,null,""]
[null,null,{"$f":"IFERROR(VLOOKUP(B654,Hidden_Словник!$A$2:$C$100,3,FALSE),\"\")","v":""},null,null,null,null,null,null,null,null,null,null,null,null,null,null,null,null,null,null,null,null,"",null,null,null,null,null,null,""]
[null,null,{"$f":"IFERROR(VLOOKUP(B655,Hidden_Словник!$A$2:$C$100,3,FALSE),\"\")","v":""},null,null,null,null,null,null,null,null,null,null,null,null,null,null,null,null,null,null,null,null,"",null,null,null,null,null,null,""]
[null,null,{"$f":"IFERROR(VLOOKUP(B656,Hidden_Словник!$A$2:$C$100,3,FALSE),\"\")","v":""},null,null,null,null,null,null,null,null,null,null,null,null,null,null,null,null,null,null,null,null,"",null,null,null,null,null,null,""]
[null,null,{"$f":"IFERROR(VLOOKUP(B657,Hidden_Словник!$A$2:$C$100,3,FALSE),\"\")","v":""},null,null,null,null,null,null,null,null,null,null,null,null,null,null,null,null,null,null,null,null,"",null,null,null,null,null,null,""]
[null,null,{"$f":"IFERROR(VLOOKUP(B658,Hidden_Словник!$A$2:$C$100,3,FALSE),\"\")","v":""},null,null,null,null,null,null,null,null,null,null,null,null,null,null,null,null,null,null,null,null,"",null,null,null,null,null,null,""]
[null,null,{"$f":"IFERROR(VLOOKUP(B659,Hidden_Словник!$A$2:$C$100,3,FALSE),\"\")","v":""},null,null,null,null,null,null,null,null,null,null,null,null,null,null,null,null,null,null,null,null,"",null,null,null,null,null,null,""]
[null,null,{"$f":"IFERROR(VLOOKUP(B660,Hidden_Словник!$A$2:$C$100,3,FALSE),\"\")","v":""},null,null,null,null,null,null,null,null,null,null,null,null,null,null,null,null,null,null,null,null,{"$f":"IF(Y660+Z660>0,Y660+Z660,\"\")","v":""},null,null,null,null,null,null,{"$f":"IF(F660=\"\",\"\",IF(F660=\"Ліквідовано\",\"ТАК\",\"НІ\"))","v":""}]
[null,null,{"$f":"IFERROR(VLOOKUP(B661,Hidden_Словник!$A$2:$C$100,3,FALSE),\"\")","v":""},null,null,null,null,null,null,null,null,null,null,null,null,null,null,null,null,null,null,null,null,"",null,null,null,null,null,null,""]
[null,null,{"$f":"IFERROR(VLOOKUP(B662,Hidden_Словник!$A$2:$C$100,3,FALSE),\"\")","v":""},null,null,null,null,null,null,null,null,null,null,null,null,null,null,null,null,null,null,null,null,"",null,null,null,null,null,null,""]
[null,null,{"$f":"IFERROR(VLOOKUP(B663,Hidden_Словник!$A$2:$C$100,3,FALSE),\"\")","v":""},null,null,null,null,null,null,null,null,null,null,null,null,null,null,null,null,null,null,null,null,"",null,null,null,null,null,null,""]
[null,null,{"$f":"IFERROR(VLOOKUP(B664,Hidden_Словник!$A$2:$C$100,3,FALSE),\"\")","v":""},null,null,null,null,null,null,null,null,null,null,null,null,null,null,null,null,null,null,null,null,"",null,null,null,null,null,null,""]
[null,null,{"$f":"IFERROR(VLOOKUP(B665,Hidden_Словник!$A$2:$C$100,3,FALSE),\"\")","v":""},null,null,null,null,null,null,null,null,null,null,null,null,null,null,null,null,null,null,null,null,"",null,null,null,null,null,null,""]
[null,null,{"$f":"IFERROR(VLOOKUP(B666,Hidden_Словник!$A$2:$C$100,3,FALSE),\"\")","v":""},null,null,null,null,null,null,null,null,null,null,null,null,null,null,null,null,null,null,null,null,"",null,null,null,null,null,null,""]
[null,null,{"$f":"IFERROR(VLOOKUP(B667,Hidden_Словник!$A$2:$C$100,3,FALSE),\"\")","v":""},null,null,null,null,null,null,null,null,null,null,null,null,null,null,null,null,null,null,null,null,"",null,null,null,null,null,null,""]
[null,null,{"$f":"IFERROR(VLOOKUP(B668,Hidden_Словник!$A$2:$C$100,3,FALSE),\"\")","v":""},null,null,null,null,null,null,null,null,null,null,null,null,null,null,null,null,null,null,null,null,"",null,null,null,null,null,null,""]
[null,null,{"$f":"IFERROR(VLOOKUP(B669,Hidden_Словник!$A$2:$C$100,3,FALSE),\"\")","v":""},null,null,null,null,null,null,null,null,null,null,null,null,null,null,null,null,null,null,null,null,"",null,null,null,null,null,null,""]
[null,null,{"$f":"IFERROR(VLOOKUP(B670,Hidden_Словник!$A$2:$C$100,3,FALSE),\"\")","v":""},null,null,null,null,null,null,null,null,null,null,null,null,null,null,null,null,null,null,null,null,"",null,null,null,null,null,null,""]
[null,null,{"$f":"IFERROR(VLOOKUP(B671,Hidden_Словник!$A$2:$C$100,3,FALSE),\"\")","v":""},null,null,null,null,null,null,null,null,null,null,null,null,null,null,null,null,null,null,null,null,"",null,null,null,null,null,null,""]
[null,null,{"$f":"IFERROR(VLOOKUP(B672,Hidden_Словник!$A$2:$C$100,3,FALSE),\"\")","v":""},null,null,null,null,null,null,null,null,null,null,null,null,null,null,null,null,null,null,null,null,"",null,null,null,null,null,null,""]
[null,null,{"$f":"IFERROR(VLOOKUP(B673,Hidden_Словник!$A$2:$C$100,3,FALSE),\"\")","v":""},null,null,null,null,null,null,null,null,null,null,null,null,null,null,null,null,null,null,null,null,"",null,null,null,null,null,null,""]
[null,null,{"$f":"IFERROR(VLOOKUP(B674,Hidden_Словник!$A$2:$C$100,3,FALSE),\"\")","v":""},null,null,null,null,null,null,null,null,null,null,null,null,null,null,null,null,null,null,null,null,"",null,null,null,null,null,null,""]
[null,null,{"$f":"IFERROR(VLOOKUP(B675,Hidden_Словник!$A$2:$C$100,3,FALSE),\"\")","v":""},null,null,null,null,null,null,null,null,null,null,null,null,null,null,null,null,null,null,null,null,"",null,null,null,null,null,null,""]
[null,null,{"$f":"IFERROR(VLOOKUP(B676,Hidden_Словник!$A$2:$C$100,3,FALSE),\"\")","v":""},null,null,null,null,null,null,null,null,null,null,null,null,null,null,null,null,null,null,null,null,"",null,null,null,null,null,null,""]
[null,null,{"$f":"IFERROR(VLOOKUP(B677,Hidden_Словник!$A$2:$C$100,3,FALSE),\"\")","v":""},null,null,null,null,null,null,null,null,null,null,null,null,null,null,null,null,null,null,null,null,"",null,null,null,null,null,null,""]
[null,null,{"$f":"IFERROR(VLOOKUP(B678,Hidden_Словник!$A$2:$C$100,3,FALSE),\"\")","v":""},null,null,null,null,null,null,null,null,null,null,null,null,null,null,null,null,null,null,null,null,"",null,null,null,null,null,null,""]
[null,null,{"$f":"IFERROR(VLOOKUP(B679,Hidden_Словник!$A$2:$C$100,3,FALSE),\"\")","v":""},null,null,null,null,null,null,null,null,null,null,null,null,null,null,null,null,null,null,null,null,"",null,null,null,null,null,null,""]
[null,null,{"$f":"IFERROR(VLOOKUP(B680,Hidden_Словник!$A$2:$C$100,3,FALSE),\"\")","v":""},null,null,null,null,null,null,null,null,null,null,null,null,null,null,null,null,null,null,null,null,"",null,null,null,null,null,null,""]
[null,null,{"$f":"IFERROR(VLOOKUP(B681,Hidden_Словник!$A$2:$C$100,3,FALSE),\"\")","v":""},null,null,null,null,null,null,null,null,null,null,null,null,null,null,null,null,null,null,null,null,"",null,null,null,null,null,null,""]
[null,null,{"$f":"IFERROR(VLOOKUP(B682,Hidden_Словник!$A$2:$C$100,3,FALSE),\"\")","v":""},null,null,null,null,null,null,null,null,null,null,null,null,null,null,null,null,null,null,null,null,"",null,null,null,null,null,null,""]
[null,null,{"$f":"IFERROR(VLOOKUP(B683,Hidden_Словник!$A$2:$C$100,3,FALSE),\"\")","v":""},null,null,null,null,null,null,null,null,null,null,null,null,null,null,null,null,null,null,null,null,"",null,null,null,null,null,null,""]
[null,null,{"$f":"IFERROR(VLOOKUP(B684,Hidden_Словник!$A$2:$C$100,3,FALSE),\"\")","v":""},null,null,null,null,null,null,null,null,null,null,null,null,null,null,null,null,null,null,null,null,"",null,null,null,null,null,null,""]
[null,null,{"$f":"IFERROR(VLOOKUP(B685,Hidden_Словник!$A$2:$C$100,3,FALSE),\"\")","v":""},null,null,null,null,null,null,null,null,null,null,null,null,null,null,null,null,null,null,null,null,"",null,null,null,null,null,null,""]
[null,null,{"$f":"IFERROR(VLOOKUP(B686,Hidden_Словник!$A$2:$C$100,3,FALSE),\"\")","v":""},null,null,null,null,null,null,null,null,null,null,null,null,null,null,null,null,null,null,null,null,"",null,null,null,null,null,null,""]
[null,null,{"$f":"IFERROR(VLOOKUP(B687,Hidden_Словник!$A$2:$C$100,3,FALSE),\"\")","v":""},null,null,null,null,null,null,null,null,null,null,null,null,null,null,null,null,null,null,null,null,"",null,null,null,null,null,null,""]
[null,null,{"$f":"IFERROR(VLOOKUP(B688,Hidden_Словник!$A$2:$C$100,3,FALSE),\"\")","v":""},null,null,null,null,null,null,null,null,null,null,null,null,null,null,null,null,null,null,null,null,"",null,null,null,null,null,null,""]
[null,null,{"$f":"IFERROR(VLOOKUP(B689,Hidden_Словник!$A$2:$C$100,3,FALSE),\"\")","v":""},null,null,null,null,null,null,null,null,null,null,null,null,null,null,null,null,null,null,null,null,"",null,null,null,null,null,null,""]
[null,null,{"$f":"IFERROR(VLOOKUP(B690,Hidden_Словник!$A$2:$C$100,3,FALSE),\"\")","v":""},null,null,null,null,null,null,null,null,null,null,null,null,null,null,null,null,null,null,null,null,"",null,null,null,null,null,null,""]
[null,null,{"$f":"IFERROR(VLOOKUP(B691,Hidden_Словник!$A$2:$C$100,3,FALSE),\"\")","v":""},null,null,null,null,null,null,null,null,null,null,null,null,null,null,null,null,null,null,null,null,"",null,null,null,null,null,null,""]
[null,null,{"$f":"IFERROR(VLOOKUP(B692,Hidden_Словник!$A$2:$C$100,3,FALSE),\"\")","v":""},null,null,null,null,null,null,null,null,null,null,null,null,null,null,null,null,null,null,null,null,"",null,null,null,null,null,null,""]
[null,null,{"$f":"IFERROR(VLOOKUP(B693,Hidden_Словник!$A$2:$C$100,3,FALSE),\"\")","v":""},null,null,null,null,null,null,null,null,null,null,null,null,null,null,null,null,null,null,null,null,"",null,null,null,null,null,null,""]
[null,null,{"$f":"IFERROR(VLOOKUP(B694,Hidden_Словник!$A$2:$C$100,3,FALSE),\"\")","v":""},null,null,null,null,null,null,null,null,null,null,null,null,null,null,null,null,null,null,null,null,"",null,null,null,null,null,null,""]
[null,null,{"$f":"IFERROR(VLOOKUP(B695,Hidden_Словник!$A$2:$C$100,3,FALSE),\"\")","v":""},null,null,null,null,null,null,null,null,null,null,null,null,null,null,null,null,null,null,null,null,"",null,null,null,null,null,null,""]
[null,null,{"$f":"IFERROR(VLOOKUP(B696,Hidden_Словник!$A$2:$C$100,3,FALSE),\"\")","v":""},null,null,null,null,null,null,null,null,null,null,null,null,null,null,null,null,null,null,null,null,"",null,null,null,null,null,null,""]
[null,null,{"$f":"IFERROR(VLOOKUP(B697,Hidden_Словник!$A$2:$C$100,3,FALSE),\"\")","v":""},null,null,null,null,null,null,null,null,null,null,null,null,null,null,null,null,null,null,null,null,"",null,null,null,null,null,null,""]
[null,null,{"$f":"IFERROR(VLOOKUP(B698,Hidden_Словник!$A$2:$C$100,3,FALSE),\"\")","v":""},null,null,null,null,null,null,null,null,null,null,null,null,null,null,null,null,null,null,null,null,"",null,null,null,null,null,null,""]
[null,null,{"$f":"IFERROR(VLOOKUP(B699,Hidden_Словник!$A$2:$C$100,3,FALSE),\"\")","v":""},null,null,null,null,null,null,null,null,null,null,null,null,null,null,null,null,null,null,null,null,"",null,null,null,null,null,null,""]
[null,null,{"$f":"IFERROR(VLOOKUP(B700,Hidden_Словник!$A$2:$C$100,3,FALSE),\"\")","v":""},null,null,null,null,null,null,null,null,null,null,null,null,null,null,null,null,null,null,null,null,"",null,null,null,null,null,null,""]
[null,null,{"$f":"IFERROR(VLOOKUP(B701,Hidden_Словник!$A$2:$C$100,3,FALSE),\"\")","v":""},null,null,null,null,null,null,null,null,null,null,null,null,null,null,null,null,null,null,null,null,"",null,null,null,null,null,null,""]
[null,null,{"$f":"IFERROR(VLOOKUP(B702,Hidden_Словник!$A$2:$C$100,3,FALSE),\"\")","v":""},null,null,null,null,null,null,null,null,null,null,null,null,null,null,null,null,null,null,null,null,"",null,null,null,null,null,null,""]
[null,null,{"$f":"IFERROR(VLOOKUP(B703,Hidden_Словник!$A$2:$C$100,3,FALSE),\"\")","v":""},null,null,null,null,null,null,null,null,null,null,null,null,null,null,null,null,null,null,null,null,"",null,null,null,null,null,null,""]
[null,null,{"$f":"IFERROR(VLOOKUP(B704,Hidden_Словник!$A$2:$C$100,3,FALSE),\"\")","v":""},null,null,null,null,null,null,null,null,null,null,null,null,null,null,null,null,null,null,null,null,"",null,null,null,null,null,null,""]
[null,null,{"$f":"IFERROR(VLOOKUP(B705,Hidden_Словник!$A$2:$C$100,3,FALSE),\"\")","v":""},null,null,null,null,null,null,null,null,null,null,null,null,null,null,null,null,null,null,null,null,"",null,null,null,null,null,null,""]
[null,null,{"$f":"IFERROR(VLOOKUP(B706,Hidden_Словник!$A$2:$C$100,3,FALSE),\"\")","v":""},null,null,null,null,null,null,null,null,null,null,null,null,null,null,null,null,null,null,null,null,"",null,null,null,null,null,null,""]
[null,null,{"$f":"IFERROR(VLOOKUP(B707,Hidden_Словник!$A$2:$C$100,3,FALSE),\"\")","v":""},null,null,null,null,null,null,null,null,null,null,null,null,null,null,null,null,null,null,null,null,"",null,null,null,null,null,null,""]
[null,null,{"$f":"IFERROR(VLOOKUP(B708,Hidden_Словник!$A$2:$C$100,3,FALSE),\"\")","v":""},null,null,null,null,null,null,null,null,null,null,null,null,null,null,null,null,null,null,null,null,"",null,null,null,null,null,null,""]
[null,null,{"$f":"IFERROR(VLOOKUP(B709,Hidden_Словник!$A$2:$C$100,3,FALSE),\"\")","v":""},null,null,null,null,null,null,null,null,null,null,null,null,null,null,null,null,null,null,null,null,"",null,null,null,null,null,null,""]
[null,null,{"$f":"IFERROR(VLOOKUP(B710,Hidden_Словник!$A$2:$C$100,3,FALSE),\"\")","v":""},null,null,null,null,null,null,null,null,null,null,null,null,null,null,null,null,null,null,null,null,"",null,null,null,null,null,null,""]
[null,null,{"$f":"IFERROR(VLOOKUP(B711,Hidden_Словник!$A$2:$C$100,3,FALSE),\"\")","v":""},null,null,null,null,null,null,null,null,null,null,null,null,null,null,null,null,null,null,null,null,"",null,null,null,null,null,null,""]
[null,null,{"$f":"IFERROR(VLOOKUP(B712,Hidden_Словник!$A$2:$C$100,3,FALSE),\"\")","v":""},null,null,null,null,null,null,null,null,null,null,null,null,null,null,null,null,null,null,null,null,"",null,null,null,null,null,null,""]
[null,null,{"$f":"IFERROR(VLOOKUP(B713,Hidden_Словник!$A$2:$C$100,3,FALSE),\"\")","v":""},null,null,null,null,null,null,null,null,null,null,null,null,null,null,null,null,null,null,null,null,"",null,null,null,null,null,null,""]
[null,null,{"$f":"IFERROR(VLOOKUP(B714,Hidden_Словник!$A$2:$C$100,3,FALSE),\"\")","v":""},null,null,null,null,null,null,null,null,null,null,null,null,null,null,null,null,null,null,null,null,"",null,null,null,null,null,null,""]
[null,null,{"$f":"IFERROR(VLOOKUP(B715,Hidden_Словник!$A$2:$C$100,3,FALSE),\"\")","v":""},null,null,null,null,null,null,null,null,null,null,null,null,null,null,null,null,null,null,null,null,"",null,null,null,null,null,null,""]
[null,null,{"$f":"IFERROR(VLOOKUP(B716,Hidden_Словник!$A$2:$C$100,3,FALSE),\"\")","v":""},null,null,null,null,null,null,null,null,null,null,null,null,null,null,null,null,null,null,null,null,"",null,null,null,null,null,null,""]
[null,null,{"$f":"IFERROR(VLOOKUP(B717,Hidden_Словник!$A$2:$C$100,3,FALSE),\"\")","v":""},null,null,null,null,null,null,null,null,null,null,null,null,null,null,null,null,null,null,null,null,"",null,null,null,null,null,null,""]
[null,null,{"$f":"IFERROR(VLOOKUP(B718,Hidden_Словник!$A$2:$C$100,3,FALSE),\"\")","v":""},null,null,null,null,null,null,null,null,null,null,null,null,null,null,null,null,null,null,null,null,"",null,null,null,null,null,null,""]
[null,null,{"$f":"IFERROR(VLOOKUP(B719,Hidden_Словник!$A$2:$C$100,3,FALSE),\"\")","v":""},null,null,null,null,null,null,null,null,null,null,null,null,null,null,null,null,null,null,null,null,"",null,null,null,null,null,null,""]
[null,null,{"$f":"IFERROR(VLOOKUP(B720,Hidden_Словник!$A$2:$C$100,3,FALSE),\"\")","v":""},null,null,null,null,null,null,null,null,null,null,null,null,null,null,null,null,null,null,null,null,"",null,null,null,null,null,null,""]
[null,null,{"$f":"IFERROR(VLOOKUP(B721,Hidden_Словник!$A$2:$C$100,3,FALSE),\"\")","v":""},null,null,null,null,null,null,null,null,null,null,null,null,null,null,null,null,null,null,null,null,"",null,null,null,null,null,null,""]
[null,null,{"$f":"IFERROR(VLOOKUP(B722,Hidden_Словник!$A$2:$C$100,3,FALSE),\"\")","v":""},null,null,null,null,null,null,null,null,null,null,null,null,null,null,null,null,null,null,null,null,"",null,null,null,null,null,null,""]
[null,null,{"$f":"IFERROR(VLOOKUP(B723,Hidden_Словник!$A$2:$C$100,3,FALSE),\"\")","v":""},null,null,null,null,null,null,null,null,null,null,null,null,null,null,null,null,null,null,null,null,"",null,null,null,null,null,null,""]
[null,null,{"$f":"IFERROR(VLOOKUP(B724,Hidden_Словник!$A$2:$C$100,3,FALSE),\"\")","v":""},null,null,null,null,null,null,null,null,null,null,null,null,null,null,null,null,null,null,null,null,{"$f":"IF(Y724+Z724>0,Y724+Z724,\"\")","v":""},null,null,null,null,null,null,{"$f":"IF(F724=\"\",\"\",IF(F724=\"Ліквідовано\",\"ТАК\",\"НІ\"))","v":""}]
[null,null,{"$f":"IFERROR(VLOOKUP(B725,Hidden_Словник!$A$2:$C$100,3,FALSE),\"\")","v":""},null,null,null,null,null,null,null,null,null,null,null,null,null,null,null,null,null,null,null,null,"",null,null,null,null,null,null,""]
[null,null,{"$f":"IFERROR(VLOOKUP(B726,Hidden_Словник!$A$2:$C$100,3,FALSE),\"\")","v":""},null,null,null,null,null,null,null,null,null,null,null,null,null,null,null,null,null,null,null,null,"",null,null,null,null,null,null,""]
[null,null,{"$f":"IFERROR(VLOOKUP(B727,Hidden_Словник!$A$2:$C$100,3,FALSE),\"\")","v":""},null,null,null,null,null,null,null,null,null,null,null,null,null,null,null,null,null,null,null,null,"",null,null,null,null,null,null,""]
[null,null,{"$f":"IFERROR(VLOOKUP(B728,Hidden_Словник!$A$2:$C$100,3,FALSE),\"\")","v":""},null,null,null,null,null,null,null,null,null,null,null,null,null,null,null,null,null,null,null,null,"",null,null,null,null,null,null,""]
[null,null,{"$f":"IFERROR(VLOOKUP(B729,Hidden_Словник!$A$2:$C$100,3,FALSE),\"\")","v":""},null,null,null,null,null,null,null,null,null,null,null,null,null,null,null,null,null,null,null,null,"",null,null,null,null,null,null,""]
[null,null,{"$f":"IFERROR(VLOOKUP(B730,Hidden_Словник!$A$2:$C$100,3,FALSE),\"\")","v":""},null,null,null,null,null,null,null,null,null,null,null,null,null,null,null,null,null,null,null,null,"",null,null,null,null,null,null,""]
[null,null,{"$f":"IFERROR(VLOOKUP(B731,Hidden_Словник!$A$2:$C$100,3,FALSE),\"\")","v":""},null,null,null,null,null,null,null,null,null,null,null,null,null,null,null,null,null,null,null,null,"",null,null,null,null,null,null,""]
[null,null,{"$f":"IFERROR(VLOOKUP(B732,Hidden_Словник!$A$2:$C$100,3,FALSE),\"\")","v":""},null,null,null,null,null,null,null,null,null,null,null,null,null,null,null,null,null,null,null,null,"",null,null,null,null,null,null,""]
[null,null,{"$f":"IFERROR(VLOOKUP(B733,Hidden_Словник!$A$2:$C$100,3,FALSE),\"\")","v":""},null,null,null,null,null,null,null,null,null,null,null,null,null,null,null,null,null,null,null,null,"",null,null,null,null,null,null,""]
[null,null,{"$f":"IFERROR(VLOOKUP(B734,Hidden_Словник!$A$2:$C$100,3,FALSE),\"\")","v":""},null,null,null,null,null,null,null,null,null,null,null,null,null,null,null,null,null,null,null,null,"",null,null,null,null,null,null,""]
[null,null,{"$f":"IFERROR(VLOOKUP(B735,Hidden_Словник!$A$2:$C$100,3,FALSE),\"\")","v":""},null,null,null,null,null,null,null,null,null,null,null,null,null,null,null,null,null,null,null,null,"",null,null,null,null,null,null,""]
[null,null,{"$f":"IFERROR(VLOOKUP(B736,Hidden_Словник!$A$2:$C$100,3,FALSE),\"\")","v":""},null,null,null,null,null,null,null,null,null,null,null,null,null,null,null,null,null,null,null,null,"",null,null,null,null,null,null,""]
[null,null,{"$f":"IFERROR(VLOOKUP(B737,Hidden_Словник!$A$2:$C$100,3,FALSE),\"\")","v":""},null,null,null,null,null,null,null,null,null,null,null,null,null,null,null,null,null,null,null,null,"",null,null,null,null,null,null,""]
[null,null,{"$f":"IFERROR(VLOOKUP(B738,Hidden_Словник!$A$2:$C$100,3,FALSE),\"\")","v":""},null,null,null,null,null,null,null,null,null,null,null,null,null,null,null,null,null,null,null,null,"",null,null,null,null,null,null,""]
[null,null,{"$f":"IFERROR(VLOOKUP(B739,Hidden_Словник!$A$2:$C$100,3,FALSE),\"\")","v":""},null,null,null,null,null,null,null,null,null,null,null,null,null,null,null,null,null,null,null,null,"",null,null,null,null,null,null,""]
[null,null,{"$f":"IFERROR(VLOOKUP(B740,Hidden_Словник!$A$2:$C$100,3,FALSE),\"\")","v":""},null,null,null,null,null,null,null,null,null,null,null,null,null,null,null,null,null,null,null,null,"",null,null,null,null,null,null,""]
[null,null,{"$f":"IFERROR(VLOOKUP(B741,Hidden_Словник!$A$2:$C$100,3,FALSE),\"\")","v":""},null,null,null,null,null,null,null,null,null,null,null,null,null,null,null,null,null,null,null,null,"",null,null,null,null,null,null,""]
[null,null,{"$f":"IFERROR(VLOOKUP(B742,Hidden_Словник!$A$2:$C$100,3,FALSE),\"\")","v":""},null,null,null,null,null,null,null,null,null,null,null,null,null,null,null,null,null,null,null,null,"",null,null,null,null,null,null,""]
[null,null,{"$f":"IFERROR(VLOOKUP(B743,Hidden_Словник!$A$2:$C$100,3,FALSE),\"\")","v":""},null,null,null,null,null,null,null,null,null,null,null,null,null,null,null,null,null,null,null,null,"",null,null,null,null,null,null,""]
[null,null,{"$f":"IFERROR(VLOOKUP(B744,Hidden_Словник!$A$2:$C$100,3,FALSE),\"\")","v":""},null,null,null,null,null,null,null,null,null,null,null,null,null,null,null,null,null,null,null,null,"",null,null,null,null,null,null,""]
[null,null,{"$f":"IFERROR(VLOOKUP(B745,Hidden_Словник!$A$2:$C$100,3,FALSE),\"\")","v":""},null,null,null,null,null,null,null,null,null,null,null,null,null,null,null,null,null,null,null,null,"",null,null,null,null,null,null,""]
[null,null,{"$f":"IFERROR(VLOOKUP(B746,Hidden_Словник!$A$2:$C$100,3,FALSE),\"\")","v":""},null,null,null,null,null,null,null,null,null,null,null,null,null,null,null,null,null,null,null,null,"",null,null,null,null,null,null,""]
[null,null,{"$f":"IFERROR(VLOOKUP(B747,Hidden_Словник!$A$2:$C$100,3,FALSE),\"\")","v":""},null,null,null,null,null,null,null,null,null,null,null,null,null,null,null,null,null,null,null,null,"",null,null,null,null,null,null,""]
[null,null,{"$f":"IFERROR(VLOOKUP(B748,Hidden_Словник!$A$2:$C$100,3,FALSE),\"\")","v":""},null,null,null,null,null,null,null,null,null,null,null,null,null,null,null,null,null,null,null,null,"",null,null,null,null,null,null,""]
[null,null,{"$f":"IFERROR(VLOOKUP(B749,Hidden_Словник!$A$2:$C$100,3,FALSE),\"\")","v":""},null,null,null,null,null,null,null,null,null,null,null,null,null,null,null,null,null,null,null,null,"",null,null,null,null,null,null,""]
[null,null,{"$f":"IFERROR(VLOOKUP(B750,Hidden_Словник!$A$2:$C$100,3,FALSE),\"\")","v":""},null,null,null,null,null,null,null,null,null,null,null,null,null,null,null,null,null,null,null,null,"",null,null,null,null,null,null,""]
[null,null,{"$f":"IFERROR(VLOOKUP(B751,Hidden_Словник!$A$2:$C$100,3,FALSE),\"\")","v":""},null,null,null,null,null,null,null,null,null,null,null,null,null,null,null,null,null,null,null,null,"",null,null,null,null,null,null,""]
[null,null,{"$f":"IFERROR(VLOOKUP(B752,Hidden_Словник!$A$2:$C$100,3,FALSE),\"\")","v":""},null,null,null,null,null,null,null,null,null,null,null,null,null,null,null,null,null,null,null,null,"",null,null,null,null,null,null,""]
[null,null,{"$f":"IFERROR(VLOOKUP(B753,Hidden_Словник!$A$2:$C$100,3,FALSE),\"\")","v":""},null,null,null,null,null,null,null,null,null,null,null,null,null,null,null,null,null,null,null,null,"",null,null,null,null,null,null,""]
[null,null,{"$f":"IFERROR(VLOOKUP(B754,Hidden_Словник!$A$2:$C$100,3,FALSE),\"\")","v":""},null,null,null,null,null,null,null,null,null,null,null,null,null,null,null,null,null,null,null,null,"",null,null,null,null,null,null,""]
[null,null,{"$f":"IFERROR(VLOOKUP(B755,Hidden_Словник!$A$2:$C$100,3,FALSE),\"\")","v":""},null,null,null,null,null,null,null,null,null,null,null,null,null,null,null,null,null,null,null,null,"",null,null,null,null,null,null,""]
[null,null,{"$f":"IFERROR(VLOOKUP(B756,Hidden_Словник!$A$2:$C$100,3,FALSE),\"\")","v":""},null,null,null,null,null,null,null,null,null,null,null,null,null,null,null,null,null,null,null,null,"",null,null,null,null,null,null,""]
[null,null,{"$f":"IFERROR(VLOOKUP(B757,Hidden_Словник!$A$2:$C$100,3,FALSE),\"\")","v":""},null,null,null,null,null,null,null,null,null,null,null,null,null,null,null,null,null,null,null,null,"",null,null,null,null,null,null,""]
[null,null,{"$f":"IFERROR(VLOOKUP(B758,Hidden_Словник!$A$2:$C$100,3,FALSE),\"\")","v":""},null,null,null,null,null,null,null,null,null,null,null,null,null,null,null,null,null,null,null,null,"",null,null,null,null,null,null,""]
[null,null,{"$f":"IFERROR(VLOOKUP(B759,Hidden_Словник!$A$2:$C$100,3,FALSE),\"\")","v":""},null,null,null,null,null,null,null,null,null,null,null,null,null,null,null,null,null,null,null,null,"",null,null,null,null,null,null,""]
[null,null,{"$f":"IFERROR(VLOOKUP(B760,Hidden_Словник!$A$2:$C$100,3,FALSE),\"\")","v":""},null,null,null,null,null,null,null,null,null,null,null,null,null,null,null,null,null,null,null,null,"",null,null,null,null,null,null,""]
[null,null,{"$f":"IFERROR(VLOOKUP(B761,Hidden_Словник!$A$2:$C$100,3,FALSE),\"\")","v":""},null,null,null,null,null,null,null,null,null,null,null,null,null,null,null,null,null,null,null,null,"",null,null,null,null,null,null,""]
[null,null,{"$f":"IFERROR(VLOOKUP(B762,Hidden_Словник!$A$2:$C$100,3,FALSE),\"\")","v":""},null,null,null,null,null,null,null,null,null,null,null,null,null,null,null,null,null,null,null,null,"",null,null,null,null,null,null,""]
[null,null,{"$f":"IFERROR(VLOOKUP(B763,Hidden_Словник!$A$2:$C$100,3,FALSE),\"\")","v":""},null,null,null,null,null,null,null,null,null,null,null,null,null,null,null,null,null,null,null,null,"",null,null,null,null,null,null,""]
[null,null,{"$f":"IFERROR(VLOOKUP(B764,Hidden_Словник!$A$2:$C$100,3,FALSE),\"\")","v":""},null,null,null,null,null,null,null,null,null,null,null,null,null,null,null,null,null,null,null,null,"",null,null,null,null,null,null,""]
[null,null,{"$f":"IFERROR(VLOOKUP(B765,Hidden_Словник!$A$2:$C$100,3,FALSE),\"\")","v":""},null,null,null,null,null,null,null,null,null,null,null,null,null,null,null,null,null,null,null,null,"",null,null,null,null,null,null,""]
[null,null,{"$f":"IFERROR(VLOOKUP(B766,Hidden_Словник!$A$2:$C$100,3,FALSE),\"\")","v":""},null,null,null,null,null,null,null,null,null,null,null,null,null,null,null,null,null,null,null,null,"",null,null,null,null,null,null,""]
[null,null,{"$f":"IFERROR(VLOOKUP(B767,Hidden_Словник!$A$2:$C$100,3,FALSE),\"\")","v":""},null,null,null,null,null,null,null,null,null,null,null,null,null,null,null,null,null,null,null,null,"",null,null,null,null,null,null,""]
[null,null,{"$f":"IFERROR(VLOOKUP(B768,Hidden_Словник!$A$2:$C$100,3,FALSE),\"\")","v":""},null,null,null,null,null,null,null,null,null,null,null,null,null,null,null,null,null,null,null,null,"",null,null,null,null,null,null,""]
[null,null,{"$f":"IFERROR(VLOOKUP(B769,Hidden_Словник!$A$2:$C$100,3,FALSE),\"\")","v":""},null,null,null,null,null,null,null,null,null,null,null,null,null,null,null,null,null,null,null,null,"",null,null,null,null,null,null,""]
[null,null,{"$f":"IFERROR(VLOOKUP(B770,Hidden_Словник!$A$2:$C$100,3,FALSE),\"\")","v":""},null,null,null,null,null,null,null,null,null,null,null,null,null,null,null,null,null,null,null,null,"",null,null,null,null,null,null,""]
[null,null,{"$f":"IFERROR(VLOOKUP(B771,Hidden_Словник!$A$2:$C$100,3,FALSE),\"\")","v":""},null,null,null,null,null,null,null,null,null,null,null,null,null,null,null,null,null,null,null,null,"",null,null,null,null,null,null,""]
[null,null,{"$f":"IFERROR(VLOOKUP(B772,Hidden_Словник!$A$2:$C$100,3,FALSE),\"\")","v":""},null,null,null,null,null,null,null,null,null,null,null,null,null,null,null,null,null,null,null,null,"",null,null,null,null,null,null,""]
[null,null,{"$f":"IFERROR(VLOOKUP(B773,Hidden_Словник!$A$2:$C$100,3,FALSE),\"\")","v":""},null,null,null,null,null,null,null,null,null,null,null,null,null,null,null,null,null,null,null,null,"",null,null,null,null,null,null,""]
[null,null,{"$f":"IFERROR(VLOOKUP(B774,Hidden_Словник!$A$2:$C$100,3,FALSE),\"\")","v":""},null,null,null,null,null,null,null,null,null,null,null,null,null,null,null,null,null,null,null,null,"",null,null,null,null,null,null,""]
[null,null,{"$f":"IFERROR(VLOOKUP(B775,Hidden_Словник!$A$2:$C$100,3,FALSE),\"\")","v":""},null,null,null,null,null,null,null,null,null,null,null,null,null,null,null,null,null,null,null,null,"",null,null,null,null,null,null,""]
[null,null,{"$f":"IFERROR(VLOOKUP(B776,Hidden_Словник!$A$2:$C$100,3,FALSE),\"\")","v":""},null,null,null,null,null,null,null,null,null,null,null,null,null,null,null,null,null,null,null,null,"",null,null,null,null,null,null,""]
[null,null,{"$f":"IFERROR(VLOOKUP(B777,Hidden_Словник!$A$2:$C$100,3,FALSE),\"\")","v":""},null,null,null,null,null,null,null,null,null,null,null,null,null,null,null,null,null,null,null,null,"",null,null,null,null,null,null,""]
[null,null,{"$f":"IFERROR(VLOOKUP(B778,Hidden_Словник!$A$2:$C$100,3,FALSE),\"\")","v":""},null,null,null,null,null,null,null,null,null,null,null,null,null,null,null,null,null,null,null,null,"",null,null,null,null,null,null,""]
[null,null,{"$f":"IFERROR(VLOOKUP(B779,Hidden_Словник!$A$2:$C$100,3,FALSE),\"\")","v":""},null,null,null,null,null,null,null,null,null,null,null,null,null,null,null,null,null,null,null,null,"",null,null,null,null,null,null,""]
[null,null,{"$f":"IFERROR(VLOOKUP(B780,Hidden_Словник!$A$2:$C$100,3,FALSE),\"\")","v":""},null,null,null,null,null,null,null,null,null,null,null,null,null,null,null,null,null,null,null,null,"",null,null,null,null,null,null,""]
[null,null,{"$f":"IFERROR(VLOOKUP(B781,Hidden_Словник!$A$2:$C$100,3,FALSE),\"\")","v":""},null,null,null,null,null,null,null,null,null,null,null,null,null,null,null,null,null,null,null,null,"",null,null,null,null,null,null,""]
[null,null,{"$f":"IFERROR(VLOOKUP(B782,Hidden_Словник!$A$2:$C$100,3,FALSE),\"\")","v":""},null,null,null,null,null,null,null,null,null,null,null,null,null,null,null,null,null,null,null,null,"",null,null,null,null,null,null,""]
[null,null,{"$f":"IFERROR(VLOOKUP(B783,Hidden_Словник!$A$2:$C$100,3,FALSE),\"\")","v":""},null,null,null,null,null,null,null,null,null,null,null,null,null,null,null,null,null,null,null,null,"",null,null,null,null,null,null,""]
[null,null,{"$f":"IFERROR(VLOOKUP(B784,Hidden_Словник!$A$2:$C$100,3,FALSE),\"\")","v":""},null,null,null,null,null,null,null,null,null,null,null,null,null,null,null,null,null,null,null,null,"",null,null,null,null,null,null,""]
[null,null,{"$f":"IFERROR(VLOOKUP(B785,Hidden_Словник!$A$2:$C$100,3,FALSE),\"\")","v":""},null,null,null,null,null,null,null,null,null,null,null,null,null,null,null,null,null,null,null,null,"",null,null,null,null,null,null,""]
[null,null,{"$f":"IFERROR(VLOOKUP(B786,Hidden_Словник!$A$2:$C$100,3,FALSE),\"\")","v":""},null,null,null,null,null,null,null,null,null,null,null,null,null,null,null,null,null,null,null,null,"",null,null,null,null,null,null,""]
[null,null,{"$f":"IFERROR(VLOOKUP(B787,Hidden_Словник!$A$2:$C$100,3,FALSE),\"\")","v":""},null,null,null,null,null,null,null,null,null,null,null,null,null,null,null,null,null,null,null,null,"",null,null,null,null,null,null,""]
[null,null,{"$f":"IFERROR(VLOOKUP(B788,Hidden_Словник!$A$2:$C$100,3,FALSE),\"\")","v":""},null,null,null,null,null,null,null,null,null,null,null,null,null,null,null,null,null,null,null,null,{"$f":"IF(Y788+Z788>0,Y788+Z788,\"\")","v":""},null,null,null,null,null,null,{"$f":"IF(F788=\"\",\"\",IF(F788=\"Ліквідовано\",\"ТАК\",\"НІ\"))","v":""}]
[null,null,{"$f":"IFERROR(VLOOKUP(B789,Hidden_Словник!$A$2:$C$100,3,FALSE),\"\")","v":""},null,null,null,null,null,null,null,null,null,null,null,null,null,null,null,null,null,null,null,null,"",null,null,null,null,null,null,""]
[null,null,{"$f":"IFERROR(VLOOKUP(B790,Hidden_Словник!$A$2:$C$100,3,FALSE),\"\")","v":""},null,null,null,null,null,null,null,null,null,null,null,null,null,null,null,null,null,null,null,null,"",null,null,null,null,null,null,""]
[null,null,{"$f":"IFERROR(VLOOKUP(B791,Hidden_Словник!$A$2:$C$100,3,FALSE),\"\")","v":""},null,null,null,null,null,null,null,null,null,null,null,null,null,null,null,null,null,null,null,null,"",null,null,null,null,null,null,""]
[null,null,{"$f":"IFERROR(VLOOKUP(B792,Hidden_Словник!$A$2:$C$100,3,FALSE),\"\")","v":""},null,null,null,null,null,null,null,null,null,null,null,null,null,null,null,null,null,null,null,null,"",null,null,null,null,null,null,""]
[null,null,{"$f":"IFERROR(VLOOKUP(B793,Hidden_Словник!$A$2:$C$100,3,FALSE),\"\")","v":""},null,null,null,null,null,null,null,null,null,null,null,null,null,null,null,null,null,null,null,null,"",null,null,null,null,null,null,""]
[null,null,{"$f":"IFERROR(VLOOKUP(B794,Hidden_Словник!$A$2:$C$100,3,FALSE),\"\")","v":""},null,null,null,null,null,null,null,null,null,null,null,null,null,null,null,null,null,null,null,null,"",null,null,null,null,null,null,""]
[null,null,{"$f":"IFERROR(VLOOKUP(B795,Hidden_Словник!$A$2:$C$100,3,FALSE),\"\")","v":""},null,null,null,null,null,null,null,null,null,null,null,null,null,null,null,null,null,null,null,null,"",null,null,null,null,null,null,""]
[null,null,{"$f":"IFERROR(VLOOKUP(B796,Hidden_Словник!$A$2:$C$100,3,FALSE),\"\")","v":""},null,null,null,null,null,null,null,null,null,null,null,null,null,null,null,null,null,null,null,null,"",null,null,null,null,null,null,""]
[null,null,{"$f":"IFERROR(VLOOKUP(B797,Hidden_Словник!$A$2:$C$100,3,FALSE),\"\")","v":""},null,null,null,null,null,null,null,null,null,null,null,null,null,null,null,null,null,null,null,null,"",null,null,null,null,null,null,""]
[null,null,{"$f":"IFERROR(VLOOKUP(B798,Hidden_Словник!$A$2:$C$100,3,FALSE),\"\")","v":""},null,null,null,null,null,null,null,null,null,null,null,null,null,null,null,null,null,null,null,null,"",null,null,null,null,null,null,""]
[null,null,{"$f":"IFERROR(VLOOKUP(B799,Hidden_Словник!$A$2:$C$100,3,FALSE),\"\")","v":""},null,null,null,null,null,null,null,null,null,null,null,null,null,null,null,null,null,null,null,null,"",null,null,null,null,null,null,""]
[null,null,{"$f":"IFERROR(VLOOKUP(B800,Hidden_Словник!$A$2:$C$100,3,FALSE),\"\")","v":""},null,null,null,null,null,null,null,null,null,null,null,null,null,null,null,null,null,null,null,null,"",null,null,null,null,null,null,""]
[null,null,{"$f":"IFERROR(VLOOKUP(B801,Hidden_Словник!$A$2:$C$100,3,FALSE),\"\")","v":""},null,null,null,null,null,null,null,null,null,null,null,null,null,null,null,null,null,null,null,null,"",null,null,null,null,null,null,""]
[null,null,{"$f":"IFERROR(VLOOKUP(B802,Hidden_Словник!$A$2:$C$100,3,FALSE),\"\")","v":""},null,null,null,null,null,null,null,null,null,null,null,null,null,null,null,null,null,null,null,null,"",null,null,null,null,null,null,""]
[null,null,{"$f":"IFERROR(VLOOKUP(B803,Hidden_Словник!$A$2:$C$100,3,FALSE),\"\")","v":""},null,null,null,null,null,null,null,null,null,null,null,null,null,null,null,null,null,null,null,null,"",null,null,null,null,null,null,""]
[null,null,{"$f":"IFERROR(VLOOKUP(B804,Hidden_Словник!$A$2:$C$100,3,FALSE),\"\")","v":""},null,null,null,null,null,null,null,null,null,null,null,null,null,null,null,null,null,null,null,null,"",null,null,null,null,null,null,""]
[null,null,{"$f":"IFERROR(VLOOKUP(B805,Hidden_Словник!$A$2:$C$100,3,FALSE),\"\")","v":""},null,null,null,null,null,null,null,null,null,null,null,null,null,null,null,null,null,null,null,null,"",null,null,null,null,null,null,""]
[null,null,{"$f":"IFERROR(VLOOKUP(B806,Hidden_Словник!$A$2:$C$100,3,FALSE),\"\")","v":""},null,null,null,null,null,null,null,null,null,null,null,null,null,null,null,null,null,null,null,null,"",null,null,null,null,null,null,""]
[null,null,{"$f":"IFERROR(VLOOKUP(B807,Hidden_Словник!$A$2:$C$100,3,FALSE),\"\")","v":""},null,null,null,null,null,null,null,null,null,null,null,null,null,null,null,null,null,null,null,null,"",null,null,null,null,null,null,""]
[null,null,{"$f":"IFERROR(VLOOKUP(B808,Hidden_Словник!$A$2:$C$100,3,FALSE),\"\")","v":""},null,null,null,null,null,null,null,null,null,null,null,null,null,null,null,null,null,null,null,null,"",null,null,null,null,null,null,""]
[null,null,{"$f":"IFERROR(VLOOKUP(B809,Hidden_Словник!$A$2:$C$100,3,FALSE),\"\")","v":""},null,null,null,null,null,null,null,null,null,null,null,null,null,null,null,null,null,null,null,null,"",null,null,null,null,null,null,""]
[null,null,{"$f":"IFERROR(VLOOKUP(B810,Hidden_Словник!$A$2:$C$100,3,FALSE),\"\")","v":""},null,null,null,null,null,null,null,null,null,null,null,null,null,null,null,null,null,null,null,null,"",null,null,null,null,null,null,""]
[null,null,{"$f":"IFERROR(VLOOKUP(B811,Hidden_Словник!$A$2:$C$100,3,FALSE),\"\")","v":""},null,null,null,null,null,null,null,null,null,null,null,null,null,null,null,null,null,null,null,null,"",null,null,null,null,null,null,""]
[null,null,{"$f":"IFERROR(VLOOKUP(B812,Hidden_Словник!$A$2:$C$100,3,FALSE),\"\")","v":""},null,null,null,null,null,null,null,null,null,null,null,null,null,null,null,null,null,null,null,null,"",null,null,null,null,null,null,""]
[null,null,{"$f":"IFERROR(VLOOKUP(B813,Hidden_Словник!$A$2:$C$100,3,FALSE),\"\")","v":""},null,null,null,null,null,null,null,null,null,null,null,null,null,null,null,null,null,null,null,null,"",null,null,null,null,null,null,""]
[null,null,{"$f":"IFERROR(VLOOKUP(B814,Hidden_Словник!$A$2:$C$100,3,FALSE),\"\")","v":""},null,null,null,null,null,null,null,null,null,null,null,null,null,null,null,null,null,null,null,null,"",null,null,null,null,null,null,""]
[null,null,{"$f":"IFERROR(VLOOKUP(B815,Hidden_Словник!$A$2:$C$100,3,FALSE),\"\")","v":""},null,null,null,null,null,null,null,null,null,null,null,null,null,null,null,null,null,null,null,null,"",null,null,null,null,null,null,""]
[null,null,{"$f":"IFERROR(VLOOKUP(B816,Hidden_Словник!$A$2:$C$100,3,FALSE),\"\")","v":""},null,null,null,null,null,null,null,null,null,null,null,null,null,null,null,null,null,null,null,null,"",null,null,null,null,null,null,""]
[null,null,{"$f":"IFERROR(VLOOKUP(B817,Hidden_Словник!$A$2:$C$100,3,FALSE),\"\")","v":""},null,null,null,null,null,null,null,null,null,null,null,null,null,null,null,null,null,null,null,null,"",null,null,null,null,null,null,""]
[null,null,{"$f":"IFERROR(VLOOKUP(B818,Hidden_Словник!$A$2:$C$100,3,FALSE),\"\")","v":""},null,null,null,null,null,null,null,null,null,null,null,null,null,null,null,null,null,null,null,null,"",null,null,null,null,null,null,""]
[null,null,{"$f":"IFERROR(VLOOKUP(B819,Hidden_Словник!$A$2:$C$100,3,FALSE),\"\")","v":""},null,null,null,null,null,null,null,null,null,null,null,null,null,null,null,null,null,null,null,null,"",null,null,null,null,null,null,""]
[null,null,{"$f":"IFERROR(VLOOKUP(B820,Hidden_Словник!$A$2:$C$100,3,FALSE),\"\")","v":""},null,null,null,null,null,null,null,null,null,null,null,null,null,null,null,null,null,null,null,null,"",null,null,null,null,null,null,""]
[null,null,{"$f":"IFERROR(VLOOKUP(B821,Hidden_Словник!$A$2:$C$100,3,FALSE),\"\")","v":""},null,null,null,null,null,null,null,null,null,null,null,null,null,null,null,null,null,null,null,null,"",null,null,null,null,null,null,""]
[null,null,{"$f":"IFERROR(VLOOKUP(B822,Hidden_Словник!$A$2:$C$100,3,FALSE),\"\")","v":""},null,null,null,null,null,null,null,null,null,null,null,null,null,null,null,null,null,null,null,null,"",null,null,null,null,null,null,""]
[null,null,{"$f":"IFERROR(VLOOKUP(B823,Hidden_Словник!$A$2:$C$100,3,FALSE),\"\")","v":""},null,null,null,null,null,null,null,null,null,null,null,null,null,null,null,null,null,null,null,null,"",null,null,null,null,null,null,""]
[null,null,{"$f":"IFERROR(VLOOKUP(B824,Hidden_Словник!$A$2:$C$100,3,FALSE),\"\")","v":""},null,null,null,null,null,null,null,null,null,null,null,null,null,null,null,null,null,null,null,null,"",null,null,null,null,null,null,""]
[null,null,{"$f":"IFERROR(VLOOKUP(B825,Hidden_Словник!$A$2:$C$100,3,FALSE),\"\")","v":""},null,null,null,null,null,null,null,null,null,null,null,null,null,null,null,null,null,null,null,null,"",null,null,null,null,null,null,""]
[null,null,{"$f":"IFERROR(VLOOKUP(B826,Hidden_Словник!$A$2:$C$100,3,FALSE),\"\")","v":""},null,null,null,null,null,null,null,null,null,null,null,null,null,null,null,null,null,null,null,null,"",null,null,null,null,null,null,""]
[null,null,{"$f":"IFERROR(VLOOKUP(B827,Hidden_Словник!$A$2:$C$100,3,FALSE),\"\")","v":""},null,null,null,null,null,null,null,null,null,null,null,null,null,null,null,null,null,null,null,null,"",null,null,null,null,null,null,""]
[null,null,{"$f":"IFERROR(VLOOKUP(B828,Hidden_Словник!$A$2:$C$100,3,FALSE),\"\")","v":""},null,null,null,null,null,null,null,null,null,null,null,null,null,null,null,null,null,null,null,null,"",null,null,null,null,null,null,""]
[null,null,{"$f":"IFERROR(VLOOKUP(B829,Hidden_Словник!$A$2:$C$100,3,FALSE),\"\")","v":""},null,null,null,null,null,null,null,null,null,null,null,null,null,null,null,null,null,null,null,null,"",null,null,null,null,null,null,""]
[null,null,{"$f":"IFERROR(VLOOKUP(B830,Hidden_Словник!$A$2:$C$100,3,FALSE),\"\")","v":""},null,null,null,null,null,null,null,null,null,null,null,null,null,null,null,null,null,null,null,null,"",null,null,null,null,null,null,""]
[null,null,{"$f":"IFERROR(VLOOKUP(B831,Hidden_Словник!$A$2:$C$100,3,FALSE),\"\")","v":""},null,null,null,null,null,null,null,null,null,null,null,null,null,null,null,null,null,null,null,null,"",null,null,null,null,null,null,""]
[null,null,{"$f":"IFERROR(VLOOKUP(B832,Hidden_Словник!$A$2:$C$100,3,FALSE),\"\")","v":""},null,null,null,null,null,null,null,null,null,null,null,null,null,null,null,null,null,null,null,null,"",null,null,null,null,null,null,""]
[null,null,{"$f":"IFERROR(VLOOKUP(B833,Hidden_Словник!$A$2:$C$100,3,FALSE),\"\")","v":""},null,null,null,null,null,null,null,null,null,null,null,null,null,null,null,null,null,null,null,null,"",null,null,null,null,null,null,""]
[null,null,{"$f":"IFERROR(VLOOKUP(B834,Hidden_Словник!$A$2:$C$100,3,FALSE),\"\")","v":""},null,null,null,null,null,null,null,null,null,null,null,null,null,null,null,null,null,null,null,null,"",null,null,null,null,null,null,""]
[null,null,{"$f":"IFERROR(VLOOKUP(B835,Hidden_Словник!$A$2:$C$100,3,FALSE),\"\")","v":""},null,null,null,null,null,null,null,null,null,null,null,null,null,null,null,null,null,null,null,null,"",null,null,null,null,null,null,""]
[null,null,{"$f":"IFERROR(VLOOKUP(B836,Hidden_Словник!$A$2:$C$100,3,FALSE),\"\")","v":""},null,null,null,null,null,null,null,null,null,null,null,null,null,null,null,null,null,null,null,null,"",null,null,null,null,null,null,""]
[null,null,{"$f":"IFERROR(VLOOKUP(B837,Hidden_Словник!$A$2:$C$100,3,FALSE),\"\")","v":""},null,null,null,null,null,null,null,null,null,null,null,null,null,null,null,null,null,null,null,null,"",null,null,null,null,null,null,""]
[null,null,{"$f":"IFERROR(VLOOKUP(B838,Hidden_Словник!$A$2:$C$100,3,FALSE),\"\")","v":""},null,null,null,null,null,null,null,null,null,null,null,null,null,null,null,null,null,null,null,null,"",null,null,null,null,null,null,""]
[null,null,{"$f":"IFERROR(VLOOKUP(B839,Hidden_Словник!$A$2:$C$100,3,FALSE),\"\")","v":""},null,null,null,null,null,null,null,null,null,null,null,null,null,null,null,null,null,null,null,null,"",null,null,null,null,null,null,""]
[null,null,{"$f":"IFERROR(VLOOKUP(B840,Hidden_Словник!$A$2:$C$100,3,FALSE),\"\")","v":""},null,null,null,null,null,null,null,null,null,null,null,null,null,null,null,null,null,null,null,null,"",null,null,null,null,null,null,""]
[null,null,{"$f":"IFERROR(VLOOKUP(B841,Hidden_Словник!$A$2:$C$100,3,FALSE),\"\")","v":""},null,null,null,null,null,null,null,null,null,null,null,null,null,null,null,null,null,null,null,null,"",null,null,null,null,null,null,""]
[null,null,{"$f":"IFERROR(VLOOKUP(B842,Hidden_Словник!$A$2:$C$100,3,FALSE),\"\")","v":""},null,null,null,null,null,null,null,null,null,null,null,null,null,null,null,null,null,null,null,null,"",null,null,null,null,null,null,""]
[null,null,{"$f":"IFERROR(VLOOKUP(B843,Hidden_Словник!$A$2:$C$100,3,FALSE),\"\")","v":""},null,null,null,null,null,null,null,null,null,null,null,null,null,null,null,null,null,null,null,null,"",null,null,null,null,null,null,""]
[null,null,{"$f":"IFERROR(VLOOKUP(B844,Hidden_Словник!$A$2:$C$100,3,FALSE),\"\")","v":""},null,null,null,null,null,null,null,null,null,null,null,null,null,null,null,null,null,null,null,null,"",null,null,null,null,null,null,""]
[null,null,{"$f":"IFERROR(VLOOKUP(B845,Hidden_Словник!$A$2:$C$100,3,FALSE),\"\")","v":""},null,null,null,null,null,null,null,null,null,null,null,null,null,null,null,null,null,null,null,null,"",null,null,null,null,null,null,""]
[null,null,{"$f":"IFERROR(VLOOKUP(B846,Hidden_Словник!$A$2:$C$100,3,FALSE),\"\")","v":""},null,null,null,null,null,null,null,null,null,null,null,null,null,null,null,null,null,null,null,null,"",null,null,null,null,null,null,""]
[null,null,{"$f":"IFERROR(VLOOKUP(B847,Hidden_Словник!$A$2:$C$100,3,FALSE),\"\")","v":""},null,null,null,null,null,null,null,null,null,null,null,null,null,null,null,null,null,null,null,null,"",null,null,null,null,null,null,""]
[null,null,{"$f":"IFERROR(VLOOKUP(B848,Hidden_Словник!$A$2:$C$100,3,FALSE),\"\")","v":""},null,null,null,null,null,null,null,null,null,null,null,null,null,null,null,null,null,null,null,null,"",null,null,null,null,null,null,""]
[null,null,{"$f":"IFERROR(VLOOKUP(B849,Hidden_Словник!$A$2:$C$100,3,FALSE),\"\")","v":""},null,null,null,null,null,null,null,null,null,null,null,null,null,null,null,null,null,null,null,null,"",null,null,null,null,null,null,""]
[null,null,{"$f":"IFERROR(VLOOKUP(B850,Hidden_Словник!$A$2:$C$100,3,FALSE),\"\")","v":""},null,null,null,null,null,null,null,null,null,null,null,null,null,null,null,null,null,null,null,null,"",null,null,null,null,null,null,""]
[null,null,{"$f":"IFERROR(VLOOKUP(B851,Hidden_Словник!$A$2:$C$100,3,FALSE),\"\")","v":""},null,null,null,null,null,null,null,null,null,null,null,null,null,null,null,null,null,null,null,null,"",null,null,null,null,null,null,""]
[null,null,{"$f":"IFERROR(VLOOKUP(B852,Hidden_Словник!$A$2:$C$100,3,FALSE),\"\")","v":""},null,null,null,null,null,null,null,null,null,null,null,null,null,null,null,null,null,null,null,null,{"$f":"IF(Y852+Z852>0,Y852+Z852,\"\")","v":""},null,null,null,null,null,null,{"$f":"IF(F852=\"\",\"\",IF(F852=\"Ліквідовано\",\"ТАК\",\"НІ\"))","v":""}]
[null,null,{"$f":"IFERROR(VLOOKUP(B853,Hidden_Словник!$A$2:$C$100,3,FALSE),\"\")","v":""},null,null,null,null,null,null,null,null,null,null,null,null,null,null,null,null,null,null,null,null,"",null,null,null,null,null,null,""]
[null,null,{"$f":"IFERROR(VLOOKUP(B854,Hidden_Словник!$A$2:$C$100,3,FALSE),\"\")","v":""},null,null,null,null,null,null,null,null,null,null,null,null,null,null,null,null,null,null,null,null,"",null,null,null,null,null,null,""]
[null,null,{"$f":"IFERROR(VLOOKUP(B855,Hidden_Словник!$A$2:$C$100,3,FALSE),\"\")","v":""},null,null,null,null,null,null,null,null,null,null,null,null,null,null,null,null,null,null,null,null,"",null,null,null,null,null,null,""]
[null,null,{"$f":"IFERROR(VLOOKUP(B856,Hidden_Словник!$A$2:$C$100,3,FALSE),\"\")","v":""},null,null,null,null,null,null,null,null,null,null,null,null,null,null,null,null,null,null,null,null,"",null,null,null,null,null,null,""]
[null,null,{"$f":"IFERROR(VLOOKUP(B857,Hidden_Словник!$A$2:$C$100,3,FALSE),\"\")","v":""},null,null,null,null,null,null,null,null,null,null,null,null,null,null,null,null,null,null,null,null,"",null,null,null,null,null,null,""]
[null,null,{"$f":"IFERROR(VLOOKUP(B858,Hidden_Словник!$A$2:$C$100,3,FALSE),\"\")","v":""},null,null,null,null,null,null,null,null,null,null,null,null,null,null,null,null,null,null,null,null,"",null,null,null,null,null,null,""]
[null,null,{"$f":"IFERROR(VLOOKUP(B859,Hidden_Словник!$A$2:$C$100,3,FALSE),\"\")","v":""},null,null,null,null,null,null,null,null,null,null,null,null,null,null,null,null,null,null,null,null,"",null,null,null,null,null,null,""]
[null,null,{"$f":"IFERROR(VLOOKUP(B860,Hidden_Словник!$A$2:$C$100,3,FALSE),\"\")","v":""},null,null,null,null,null,null,null,null,null,null,null,null,null,null,null,null,null,null,null,null,"",null,null,null,null,null,null,""]
[null,null,{"$f":"IFERROR(VLOOKUP(B861,Hidden_Словник!$A$2:$C$100,3,FALSE),\"\")","v":""},null,null,null,null,null,null,null,null,null,null,null,null,null,null,null,null,null,null,null,null,"",null,null,null,null,null,null,""]
[null,null,{"$f":"IFERROR(VLOOKUP(B862,Hidden_Словник!$A$2:$C$100,3,FALSE),\"\")","v":""},null,null,null,null,null,null,null,null,null,null,null,null,null,null,null,null,null,null,null,null,"",null,null,null,null,null,null,""]
[null,null,{"$f":"IFERROR(VLOOKUP(B863,Hidden_Словник!$A$2:$C$100,3,FALSE),\"\")","v":""},null,null,null,null,null,null,null,null,null,null,null,null,null,null,null,null,null,null,null,null,"",null,null,null,null,null,null,""]
[null,null,{"$f":"IFERROR(VLOOKUP(B864,Hidden_Словник!$A$2:$C$100,3,FALSE),\"\")","v":""},null,null,null,null,null,null,null,null,null,null,null,null,null,null,null,null,null,null,null,null,"",null,null,null,null,null,null,""]
[null,null,{"$f":"IFERROR(VLOOKUP(B865,Hidden_Словник!$A$2:$C$100,3,FALSE),\"\")","v":""},null,null,null,null,null,null,null,null,null,null,null,null,null,null,null,null,null,null,null,null,"",null,null,null,null,null,null,""]
[null,null,{"$f":"IFERROR(VLOOKUP(B866,Hidden_Словник!$A$2:$C$100,3,FALSE),\"\")","v":""},null,null,null,null,null,null,null,null,null,null,null,null,null,null,null,null,null,null,null,null,"",null,null,null,null,null,null,""]
[null,null,{"$f":"IFERROR(VLOOKUP(B867,Hidden_Словник!$A$2:$C$100,3,FALSE),\"\")","v":""},null,null,null,null,null,null,null,null,null,null,null,null,null,null,null,null,null,null,null,null,"",null,null,null,null,null,null,""]
[null,null,{"$f":"IFERROR(VLOOKUP(B868,Hidden_Словник!$A$2:$C$100,3,FALSE),\"\")","v":""},null,null,null,null,null,null,null,null,null,null,null,null,null,null,null,null,null,null,null,null,"",null,null,null,null,null,null,""]
[null,null,{"$f":"IFERROR(VLOOKUP(B869,Hidden_Словник!$A$2:$C$100,3,FALSE),\"\")","v":""},null,null,null,null,null,null,null,null,null,null,null,null,null,null,null,null,null,null,null,null,"",null,null,null,null,null,null,""]
[null,null,{"$f":"IFERROR(VLOOKUP(B870,Hidden_Словник!$A$2:$C$100,3,FALSE),\"\")","v":""},null,null,null,null,null,null,null,null,null,null,null,null,null,null,null,null,null,null,null,null,"",null,null,null,null,null,null,""]
[null,null,{"$f":"IFERROR(VLOOKUP(B871,Hidden_Словник!$A$2:$C$100,3,FALSE),\"\")","v":""},null,null,null,null,null,null,null,null,null,null,null,null,null,null,null,null,null,null,null,null,"",null,null,null,null,null,null,""]
[null,null,{"$f":"IFERROR(VLOOKUP(B872,Hidden_Словник!$A$2:$C$100,3,FALSE),\"\")","v":""},null,null,null,null,null,null,null,null,null,null,null,null,null,null,null,null,null,null,null,null,"",null,null,null,null,null,null,""]
[null,null,{"$f":"IFERROR(VLOOKUP(B873,Hidden_Словник!$A$2:$C$100,3,FALSE),\"\")","v":""},null,null,null,null,null,null,null,null,null,null,null,null,null,null,null,null,null,null,null,null,"",null,null,null,null,null,null,""]
[null,null,{"$f":"IFERROR(VLOOKUP(B874,Hidden_Словник!$A$2:$C$100,3,FALSE),\"\")","v":""},null,null,null,null,null,null,null,null,null,null,null,null,null,null,null,null,null,null,null,null,"",null,null,null,null,null,null,""]
[null,null,{"$f":"IFERROR(VLOOKUP(B875,Hidden_Словник!$A$2:$C$100,3,FALSE),\"\")","v":""},null,null,null,null,null,null,null,null,null,null,null,null,null,null,null,null,null,null,null,null,"",null,null,null,null,null,null,""]
[null,null,{"$f":"IFERROR(VLOOKUP(B876,Hidden_Словник!$A$2:$C$100,3,FALSE),\"\")","v":""},null,null,null,null,null,null,null,null,null,null,null,null,null,null,null,null,null,null,null,null,"",null,null,null,null,null,null,""]
[null,null,{"$f":"IFERROR(VLOOKUP(B877,Hidden_Словник!$A$2:$C$100,3,FALSE),\"\")","v":""},null,null,null,null,null,null,null,null,null,null,null,null,null,null,null,null,null,null,null,null,"",null,null,null,null,null,null,""]
[null,null,{"$f":"IFERROR(VLOOKUP(B878,Hidden_Словник!$A$2:$C$100,3,FALSE),\"\")","v":""},null,null,null,null,null,null,null,null,null,null,null,null,null,null,null,null,null,null,null,null,"",null,null,null,null,null,null,""]
[null,null,{"$f":"IFERROR(VLOOKUP(B879,Hidden_Словник!$A$2:$C$100,3,FALSE),\"\")","v":""},null,null,null,null,null,null,null,null,null,null,null,null,null,null,null,null,null,null,null,null,"",null,null,null,null,null,null,""]
[null,null,{"$f":"IFERROR(VLOOKUP(B880,Hidden_Словник!$A$2:$C$100,3,FALSE),\"\")","v":""},null,null,null,null,null,null,null,null,null,null,null,null,null,null,null,null,null,null,null,null,"",null,null,null,null,null,null,""]
[null,null,{"$f":"IFERROR(VLOOKUP(B881,Hidden_Словник!$A$2:$C$100,3,FALSE),\"\")","v":""},null,null,null,null,null,null,null,null,null,null,null,null,null,null,null,null,null,null,null,null,"",null,null,null,null,null,null,""]
[null,null,{"$f":"IFERROR(VLOOKUP(B882,Hidden_Словник!$A$2:$C$100,3,FALSE),\"\")","v":""},null,null,null,null,null,null,null,null,null,null,null,null,null,null,null,null,null,null,null,null,"",null,null,null,null,null,null,""]
[null,null,{"$f":"IFERROR(VLOOKUP(B883,Hidden_Словник!$A$2:$C$100,3,FALSE),\"\")","v":""},null,null,null,null,null,null,null,null,null,null,null,null,null,null,null,null,null,null,null,null,"",null,null,null,null,null,null,""]
[null,null,{"$f":"IFERROR(VLOOKUP(B884,Hidden_Словник!$A$2:$C$100,3,FALSE),\"\")","v":""},null,null,null,null,null,null,null,null,null,null,null,null,null,null,null,null,null,null,null,null,"",null,null,null,null,null,null,""]
[null,null,{"$f":"IFERROR(VLOOKUP(B885,Hidden_Словник!$A$2:$C$100,3,FALSE),\"\")","v":""},null,null,null,null,null,null,null,null,null,null,null,null,null,null,null,null,null,null,null,null,"",null,null,null,null,null,null,""]
[null,null,{"$f":"IFERROR(VLOOKUP(B886,Hidden_Словник!$A$2:$C$100,3,FALSE),\"\")","v":""},null,null,null,null,null,null,null,null,null,null,null,null,null,null,null,null,null,null,null,null,"",null,null,null,null,null,null,""]
[null,null,{"$f":"IFERROR(VLOOKUP(B887,Hidden_Словник!$A$2:$C$100,3,FALSE),\"\")","v":""},null,null,null,null,null,null,null,null,null,null,null,null,null,null,null,null,null,null,null,null,"",null,null,null,null,null,null,""]
[null,null,{"$f":"IFERROR(VLOOKUP(B888,Hidden_Словник!$A$2:$C$100,3,FALSE),\"\")","v":""},null,null,null,null,null,null,null,null,null,null,null,null,null,null,null,null,null,null,null,null,"",null,null,null,null,null,null,""]
[null,null,{"$f":"IFERROR(VLOOKUP(B889,Hidden_Словник!$A$2:$C$100,3,FALSE),\"\")","v":""},null,null,null,null,null,null,null,null,null,null,null,null,null,null,null,null,null,null,null,null,"",null,null,null,null,null,null,""]
[null,null,{"$f":"IFERROR(VLOOKUP(B890,Hidden_Словник!$A$2:$C$100,3,FALSE),\"\")","v":""},null,null,null,null,null,null,null,null,null,null,null,null,null,null,null,null,null,null,null,null,"",null,null,null,null,null,null,""]
[null,null,{"$f":"IFERROR(VLOOKUP(B891,Hidden_Словник!$A$2:$C$100,3,FALSE),\"\")","v":""},null,null,null,null,null,null,null,null,null,null,null,null,null,null,null,null,null,null,null,null,"",null,null,null,null,null,null,""]
[null,null,{"$f":"IFERROR(VLOOKUP(B892,Hidden_Словник!$A$2:$C$100,3,FALSE),\"\")","v":""},null,null,null,null,null,null,null,null,null,null,null,null,null,null,null,null,null,null,null,null,"",null,null,null,null,null,null,""]
[null,null,{"$f":"IFERROR(VLOOKUP(B893,Hidden_Словник!$A$2:$C$100,3,FALSE),\"\")","v":""},null,null,null,null,null,null,null,null,null,null,null,null,null,null,null,null,null,null,null,null,"",null,null,null,null,null,null,""]
[null,null,{"$f":"IFERROR(VLOOKUP(B894,Hidden_Словник!$A$2:$C$100,3,FALSE),\"\")","v":""},null,null,null,null,null,null,null,null,null,null,null,null,null,null,null,null,null,null,null,null,"",null,null,null,null,null,null,""]
[null,null,{"$f":"IFERROR(VLOOKUP(B895,Hidden_Словник!$A$2:$C$100,3,FALSE),\"\")","v":""},null,null,null,null,null,null,null,null,null,null,null,null,null,null,null,null,null,null,null,null,"",null,null,null,null,null,null,""]
[null,null,{"$f":"IFERROR(VLOOKUP(B896,Hidden_Словник!$A$2:$C$100,3,FALSE),\"\")","v":""},null,null,null,null,null,null,null,null,null,null,null,null,null,null,null,null,null,null,null,null,"",null,null,null,null,null,null,""]
[null,null,{"$f":"IFERROR(VLOOKUP(B897,Hidden_Словник!$A$2:$C$100,3,FALSE),\"\")","v":""},null,null,null,null,null,null,null,null,null,null,null,null,null,null,null,null,null,null,null,null,"",null,null,null,null,null,null,""]
[null,null,{"$f":"IFERROR(VLOOKUP(B898,Hidden_Словник!$A$2:$C$100,3,FALSE),\"\")","v":""},null,null,null,null,null,null,null,null,null,null,null,null,null,null,null,null,null,null,null,null,"",null,null,null,null,null,null,""]
[null,null,{"$f":"IFERROR(VLOOKUP(B899,Hidden_Словник!$A$2:$C$100,3,FALSE),\"\")","v":""},null,null,null,null,null,null,null,null,null,null,null,null,null,null,null,null,null,null,null,null,"",null,null,null,null,null,null,""]
[null,null,{"$f":"IFERROR(VLOOKUP(B900,Hidden_Словник!$A$2:$C$100,3,FALSE),\"\")","v":""},null,null,null,null,null,null,null,null,null,null,null,null,null,null,null,null,null,null,null,null,"",null,null,null,null,null,null,""]
[null,null,{"$f":"IFERROR(VLOOKUP(B901,Hidden_Словник!$A$2:$C$100,3,FALSE),\"\")","v":""},null,null,null,null,null,null,null,null,null,null,null,null,null,null,null,null,null,null,null,null,"",null,null,null,null,null,null,""]
[null,null,{"$f":"IFERROR(VLOOKUP(B902,Hidden_Словник!$A$2:$C$100,3,FALSE),\"\")","v":""},null,null,null,null,null,null,null,null,null,null,null,null,null,null,null,null,null,null,null,null,"",null,null,null,null,null,null,""]
[null,null,{"$f":"IFERROR(VLOOKUP(B903,Hidden_Словник!$A$2:$C$100,3,FALSE),\"\")","v":""},null,null,null,null,null,null,null,null,null,null,null,null,null,null,null,null,null,null,null,null,"",null,null,null,null,null,null,""]
[null,null,{"$f":"IFERROR(VLOOKUP(B904,Hidden_Словник!$A$2:$C$100,3,FALSE),\"\")","v":""},null,null,null,null,null,null,null,null,null,null,null,null,null,null,null,null,null,null,null,null,"",null,null,null,null,null,null,""]
[null,null,{"$f":"IFERROR(VLOOKUP(B905,Hidden_Словник!$A$2:$C$100,3,FALSE),\"\")","v":""},null,null,null,null,null,null,null,null,null,null,null,null,null,null,null,null,null,null,null,null,"",null,null,null,null,null,null,""]
[null,null,{"$f":"IFERROR(VLOOKUP(B906,Hidden_Словник!$A$2:$C$100,3,FALSE),\"\")","v":""},null,null,null,null,null,null,null,null,null,null,null,null,null,null,null,null,null,null,null,null,"",null,null,null,null,null,null,""]
[null,null,{"$f":"IFERROR(VLOOKUP(B907,Hidden_Словник!$A$2:$C$100,3,FALSE),\"\")","v":""},null,null,null,null,null,null,null,null,null,null,null,null,null,null,null,null,null,null,null,null,"",null,null,null,null,null,null,""]
[null,null,{"$f":"IFERROR(VLOOKUP(B908,Hidden_Словник!$A$2:$C$100,3,FALSE),\"\")","v":""},null,null,null,null,null,null,null,null,null,null,null,null,null,null,null,null,null,null,null,null,"",null,null,null,null,null,null,""]
[null,null,{"$f":"IFERROR(VLOOKUP(B909,Hidden_Словник!$A$2:$C$100,3,FALSE),\"\")","v":""},null,null,null,null,null,null,null,null,null,null,null,null,null,null,null,null,null,null,null,null,"",null,null,null,null,null,null,""]
[null,null,{"$f":"IFERROR(VLOOKUP(B910,Hidden_Словник!$A$2:$C$100,3,FALSE),\"\")","v":""},null,null,null,null,null,null,null,null,null,null,null,null,null,null,null,null,null,null,null,null,"",null,null,null,null,null,null,""]
[null,null,{"$f":"IFERROR(VLOOKUP(B911,Hidden_Словник!$A$2:$C$100,3,FALSE),\"\")","v":""},null,null,null,null,null,null,null,null,null,null,null,null,null,null,null,null,null,null,null,null,"",null,null,null,null,null,null,""]
[null,null,{"$f":"IFERROR(VLOOKUP(B912,Hidden_Словник!$A$2:$C$100,3,FALSE),\"\")","v":""},null,null,null,null,null,null,null,null,null,null,null,null,null,null,null,null,null,null,null,null,"",null,null,null,null,null,null,""]
[null,null,{"$f":"IFERROR(VLOOKUP(B913,Hidden_Словник!$A$2:$C$100,3,FALSE),\"\")","v":""},null,null,null,null,null,null,null,null,null,null,null,null,null,null,null,null,null,null,null,null,"",null,null,null,null,null,null,""]
[null,null,{"$f":"IFERROR(VLOOKUP(B914,Hidden_Словник!$A$2:$C$100,3,FALSE),\"\")","v":""},null,null,null,null,null,null,null,null,null,null,null,null,null,null,null,null,null,null,null,null,"",null,null,null,null,null,null,""]
[null,null,{"$f":"IFERROR(VLOOKUP(B915,Hidden_Словник!$A$2:$C$100,3,FALSE),\"\")","v":""},null,null,null,null,null,null,null,null,null,null,null,null,null,null,null,null,null,null,null,null,"",null,null,null,null,null,null,""]
[null,null,{"$f":"IFERROR(VLOOKUP(B916,Hidden_Словник!$A$2:$C$100,3,FALSE),\"\")","v":""},null,null,null,null,null,null,null,null,null,null,null,null,null,null,null,null,null,null,null,null,{"$f":"IF(Y916+Z916>0,Y916+Z916,\"\")","v":""},null,null,null,null,null,null,{"$f":"IF(F916=\"\",\"\",IF(F916=\"Ліквідовано\",\"ТАК\",\"НІ\"))","v":""}]
[null,null,{"$f":"IFERROR(VLOOKUP(B917,Hidden_Словник!$A$2:$C$100,3,FALSE),\"\")","v":""},null,null,null,null,null,null,null,null,null,null,null,null,null,null,null,null,null,null,null,null,"",null,null,null,null,null,null,""]
[null,null,{"$f":"IFERROR(VLOOKUP(B918,Hidden_Словник!$A$2:$C$100,3,FALSE),\"\")","v":""},null,null,null,null,null,null,null,null,null,null,null,null,null,null,null,null,null,null,null,null,"",null,null,null,null,null,null,""]
[null,null,{"$f":"IFERROR(VLOOKUP(B919,Hidden_Словник!$A$2:$C$100,3,FALSE),\"\")","v":""},null,null,null,null,null,null,null,null,null,null,null,null,null,null,null,null,null,null,null,null,"",null,null,null,null,null,null,""]
[null,null,{"$f":"IFERROR(VLOOKUP(B920,Hidden_Словник!$A$2:$C$100,3,FALSE),\"\")","v":""},null,null,null,null,null,null,null,null,null,null,null,null,null,null,null,null,null,null,null,null,"",null,null,null,null,null,null,""]
[null,null,{"$f":"IFERROR(VLOOKUP(B921,Hidden_Словник!$A$2:$C$100,3,FALSE),\"\")","v":""},null,null,null,null,null,null,null,null,null,null,null,null,null,null,null,null,null,null,null,null,"",null,null,null,null,null,null,""]
[null,null,{"$f":"IFERROR(VLOOKUP(B922,Hidden_Словник!$A$2:$C$100,3,FALSE),\"\")","v":""},null,null,null,null,null,null,null,null,null,null,null,null,null,null,null,null,null,null,null,null,"",null,null,null,null,null,null,""]
[null,null,{"$f":"IFERROR(VLOOKUP(B923,Hidden_Словник!$A$2:$C$100,3,FALSE),\"\")","v":""},null,null,null,null,null,null,null,null,null,null,null,null,null,null,null,null,null,null,null,null,"",null,null,null,null,null,null,""]
[null,null,{"$f":"IFERROR(VLOOKUP(B924,Hidden_Словник!$A$2:$C$100,3,FALSE),\"\")","v":""},null,null,null,null,null,null,null,null,null,null,null,null,null,null,null,null,null,null,null,null,"",null,null,null,null,null,null,""]
[null,null,{"$f":"IFERROR(VLOOKUP(B925,Hidden_Словник!$A$2:$C$100,3,FALSE),\"\")","v":""},null,null,null,null,null,null,null,null,null,null,null,null,null,null,null,null,null,null,null,null,"",null,null,null,null,null,null,""]
[null,null,{"$f":"IFERROR(VLOOKUP(B926,Hidden_Словник!$A$2:$C$100,3,FALSE),\"\")","v":""},null,null,null,null,null,null,null,null,null,null,null,null,null,null,null,null,null,null,null,null,"",null,null,null,null,null,null,""]
[null,null,{"$f":"IFERROR(VLOOKUP(B927,Hidden_Словник!$A$2:$C$100,3,FALSE),\"\")","v":""},null,null,null,null,null,null,null,null,null,null,null,null,null,null,null,null,null,null,null,null,"",null,null,null,null,null,null,""]
[null,null,{"$f":"IFERROR(VLOOKUP(B928,Hidden_Словник!$A$2:$C$100,3,FALSE),\"\")","v":""},null,null,null,null,null,null,null,null,null,null,null,null,null,null,null,null,null,null,null,null,"",null,null,null,null,null,null,""]
[null,null,{"$f":"IFERROR(VLOOKUP(B929,Hidden_Словник!$A$2:$C$100,3,FALSE),\"\")","v":""},null,null,null,null,null,null,null,null,null,null,null,null,null,null,null,null,null,null,null,null,"",null,null,null,null,null,null,""]
[null,null,{"$f":"IFERROR(VLOOKUP(B930,Hidden_Словник!$A$2:$C$100,3,FALSE),\"\")","v":""},null,null,null,null,null,null,null,null,null,null,null,null,null,null,null,null,null,null,null,null,"",null,null,null,null,null,null,""]
[null,null,{"$f":"IFERROR(VLOOKUP(B931,Hidden_Словник!$A$2:$C$100,3,FALSE),\"\")","v":""},null,null,null,null,null,null,null,null,null,null,null,null,null,null,null,null,null,null,null,null,"",null,null,null,null,null,null,""]
[null,null,{"$f":"IFERROR(VLOOKUP(B932,Hidden_Словник!$A$2:$C$100,3,FALSE),\"\")","v":""},null,null,null,null,null,null,null,null,null,null,null,null,null,null,null,null,null,null,null,null,"",null,null,null,null,null,null,""]
[null,null,{"$f":"IFERROR(VLOOKUP(B933,Hidden_Словник!$A$2:$C$100,3,FALSE),\"\")","v":""},null,null,null,null,null,null,null,null,null,null,null,null,null,null,null,null,null,null,null,null,"",null,null,null,null,null,null,""]
[null,null,{"$f":"IFERROR(VLOOKUP(B934,Hidden_Словник!$A$2:$C$100,3,FALSE),\"\")","v":""},null,null,null,null,null,null,null,null,null,null,null,null,null,null,null,null,null,null,null,null,"",null,null,null,null,null,null,""]
[null,null,{"$f":"IFERROR(VLOOKUP(B935,Hidden_Словник!$A$2:$C$100,3,FALSE),\"\")","v":""},null,null,null,null,null,null,null,null,null,null,null,null,null,null,null,null,null,null,null,null,"",null,null,null,null,null,null,""]
[null,null,{"$f":"IFERROR(VLOOKUP(B936,Hidden_Словник!$A$2:$C$100,3,FALSE),\"\")","v":""},null,null,null,null,null,null,null,null,null,null,null,null,null,null,null,null,null,null,null,null,"",null,null,null,null,null,null,""]
[null,null,{"$f":"IFERROR(VLOOKUP(B937,Hidden_Словник!$A$2:$C$100,3,FALSE),\"\")","v":""},null,null,null,null,null,null,null,null,null,null,null,null,null,null,null,null,null,null,null,null,"",null,null,null,null,null,null,""]
[null,null,{"$f":"IFERROR(VLOOKUP(B938,Hidden_Словник!$A$2:$C$100,3,FALSE),\"\")","v":""},null,null,null,null,null,null,null,null,null,null,null,null,null,null,null,null,null,null,null,null,"",null,null,null,null,null,null,""]
[null,null,{"$f":"IFERROR(VLOOKUP(B939,Hidden_Словник!$A$2:$C$100,3,FALSE),\"\")","v":""},null,null,null,null,null,null,null,null,null,null,null,null,null,null,null,null,null,null,null,null,"",null,null,null,null,null,null,""]
[null,null,{"$f":"IFERROR(VLOOKUP(B940,Hidden_Словник!$A$2:$C$100,3,FALSE),\"\")","v":""},null,null,null,null,null,null,null,null,null,null,null,null,null,null,null,null,null,null,null,null,"",null,null,null,null,null,null,""]
[null,null,{"$f":"IFERROR(VLOOKUP(B941,Hidden_Словник!$A$2:$C$100,3,FALSE),\"\")","v":""},null,null,null,null,null,null,null,null,null,null,null,null,null,null,null,null,null,null,null,null,"",null,null,null,null,null,null,""]
[null,null,{"$f":"IFERROR(VLOOKUP(B942,Hidden_Словник!$A$2:$C$100,3,FALSE),\"\")","v":""},null,null,null,null,null,null,null,null,null,null,null,null,null,null,null,null,null,null,null,null,"",null,null,null,null,null,null,""]
[null,null,{"$f":"IFERROR(VLOOKUP(B943,Hidden_Словник!$A$2:$C$100,3,FALSE),\"\")","v":""},null,null,null,null,null,null,null,null,null,null,null,null,null,null,null,null,null,null,null,null,"",null,null,null,null,null,null,""]
[null,null,{"$f":"IFERROR(VLOOKUP(B944,Hidden_Словник!$A$2:$C$100,3,FALSE),\"\")","v":""},null,null,null,null,null,null,null,null,null,null,null,null,null,null,null,null,null,null,null,null,"",null,null,null,null,null,null,""]
[null,null,{"$f":"IFERROR(VLOOKUP(B945,Hidden_Словник!$A$2:$C$100,3,FALSE),\"\")","v":""},null,null,null,null,null,null,null,null,null,null,null,null,null,null,null,null,null,null,null,null,"",null,null,null,null,null,null,""]
[null,null,{"$f":"IFERROR(VLOOKUP(B946,Hidden_Словник!$A$2:$C$100,3,FALSE),\"\")","v":""},null,null,null,null,null,null,null,null,null,null,null,null,null,null,null,null,null,null,null,null,"",null,null,null,null,null,null,""]
[null,null,{"$f":"IFERROR(VLOOKUP(B947,Hidden_Словник!$A$2:$C$100,3,FALSE),\"\")","v":""},null,null,null,null,null,null,null,null,null,null,null,null,null,null,null,null,null,null,null,null,"",null,null,null,null,null,null,""]
[null,null,{"$f":"IFERROR(VLOOKUP(B948,Hidden_Словник!$A$2:$C$100,3,FALSE),\"\")","v":""},null,null,null,null,null,null,null,null,null,null,null,null,null,null,null,null,null,null,null,null,"",null,null,null,null,null,null,""]
[null,null,{"$f":"IFERROR(VLOOKUP(B949,Hidden_Словник!$A$2:$C$100,3,FALSE),\"\")","v":""},null,null,null,null,null,null,null,null,null,null,null,null,null,null,null,null,null,null,null,null,"",null,null,null,null,null,null,""]
[null,null,{"$f":"IFERROR(VLOOKUP(B950,Hidden_Словник!$A$2:$C$100,3,FALSE),\"\")","v":""},null,null,null,null,null,null,null,null,null,null,null,null,null,null,null,null,null,null,null,null,"",null,null,null,null,null,null,""]
[null,null,{"$f":"IFERROR(VLOOKUP(B951,Hidden_Словник!$A$2:$C$100,3,FALSE),\"\")","v":""},null,null,null,null,null,null,null,null,null,null,null,null,null,null,null,null,null,null,null,null,"",null,null,null,null,null,null,""]
[null,null,{"$f":"IFERROR(VLOOKUP(B952,Hidden_Словник!$A$2:$C$100,3,FALSE),\"\")","v":""},null,null,null,null,null,null,null,null,null,null,null,null,null,null,null,null,null,null,null,null,"",null,null,null,null,null,null,""]
[null,null,{"$f":"IFERROR(VLOOKUP(B953,Hidden_Словник!$A$2:$C$100,3,FALSE),\"\")","v":""},null,null,null,null,null,null,null,null,null,null,null,null,null,null,null,null,null,null,null,null,"",null,null,null,null,null,null,""]
[null,null,{"$f":"IFERROR(VLOOKUP(B954,Hidden_Словник!$A$2:$C$100,3,FALSE),\"\")","v":""},null,null,null,null,null,null,null,null,null,null,null,null,null,null,null,null,null,null,null,null,"",null,null,null,null,null,null,""]
[null,null,{"$f":"IFERROR(VLOOKUP(B955,Hidden_Словник!$A$2:$C$100,3,FALSE),\"\")","v":""},null,null,null,null,null,null,null,null,null,null,null,null,null,null,null,null,null,null,null,null,"",null,null,null,null,null,null,""]
[null,null,{"$f":"IFERROR(VLOOKUP(B956,Hidden_Словник!$A$2:$C$100,3,FALSE),\"\")","v":""},null,null,null,null,null,null,null,null,null,null,null,null,null,null,null,null,null,null,null,null,"",null,null,null,null,null,null,""]
[null,null,{"$f":"IFERROR(VLOOKUP(B957,Hidden_Словник!$A$2:$C$100,3,FALSE),\"\")","v":""},null,null,null,null,null,null,null,null,null,null,null,null,null,null,null,null,null,null,null,null,"",null,null,null,null,null,null,""]
[null,null,{"$f":"IFERROR(VLOOKUP(B958,Hidden_Словник!$A$2:$C$100,3,FALSE),\"\")","v":""},null,null,null,null,null,null,null,null,null,null,null,null,null,null,null,null,null,null,null,null,"",null,null,null,null,null,null,""]
[null,null,{"$f":"IFERROR(VLOOKUP(B959,Hidden_Словник!$A$2:$C$100,3,FALSE),\"\")","v":""},null,null,null,null,null,null,null,null,null,null,null,null,null,null,null,null,null,null,null,null,"",null,null,null,null,null,null,""]
[null,null,{"$f":"IFERROR(VLOOKUP(B960,Hidden_Словник!$A$2:$C$100,3,FALSE),\"\")","v":""},null,null,null,null,null,null,null,null,null,null,null,null,null,null,null,null,null,null,null,null,"",null,null,null,null,null,null,""]
[null,null,{"$f":"IFERROR(VLOOKUP(B961,Hidden_Словник!$A$2:$C$100,3,FALSE),\"\")","v":""},null,null,null,null,null,null,null,null,null,null,null,null,null,null,null,null,null,null,null,null,"",null,null,null,null,null,null,""]
[null,null,{"$f":"IFERROR(VLOOKUP(B962,Hidden_Словник!$A$2:$C$100,3,FALSE),\"\")","v":""},null,null,null,null,null,null,null,null,null,null,null,null,null,null,null,null,null,null,null,null,"",null,null,null,null,null,null,""]
[null,null,{"$f":"IFERROR(VLOOKUP(B963,Hidden_Словник!$A$2:$C$100,3,FALSE),\"\")","v":""},null,null,null,null,null,null,null,null,null,null,null,null,null,null,null,null,null,null,null,null,"",null,null,null,null,null,null,""]
[null,null,{"$f":"IFERROR(VLOOKUP(B964,Hidden_Словник!$A$2:$C$100,3,FALSE),\"\")","v":""},null,null,null,null,null,null,null,null,null,null,null,null,null,null,null,null,null,null,null,null,"",null,null,null,null,null,null,""]
[null,null,{"$f":"IFERROR(VLOOKUP(B965,Hidden_Словник!$A$2:$C$100,3,FALSE),\"\")","v":""},null,null,null,null,null,null,null,null,null,null,null,null,null,null,null,null,null,null,null,null,"",null,null,null,null,null,null,""]
[null,null,{"$f":"IFERROR(VLOOKUP(B966,Hidden_Словник!$A$2:$C$100,3,FALSE),\"\")","v":""},null,null,null,null,null,null,null,null,null,null,null,null,null,null,null,null,null,null,null,null,"",null,null,null,null,null,null,""]
[null,null,{"$f":"IFERROR(VLOOKUP(B967,Hidden_Словник!$A$2:$C$100,3,FALSE),\"\")","v":""},null,null,null,null,null,null,null,null,null,null,null,null,null,null,null,null,null,null,null,null,"",null,null,null,null,null,null,""]
[null,null,{"$f":"IFERROR(VLOOKUP(B968,Hidden_Словник!$A$2:$C$100,3,FALSE),\"\")","v":""},null,null,null,null,null,null,null,null,null,null,null,null,null,null,null,null,null,null,null,null,"",null,null,null,null,null,null,""]
[null,null,{"$f":"IFERROR(VLOOKUP(B969,Hidden_Словник!$A$2:$C$100,3,FALSE),\"\")","v":""},null,null,null,null,null,null,null,null,null,null,null,null,null,null,null,null,null,null,null,null,"",null,null,null,null,null,null,""]
[null,null,{"$f":"IFERROR(VLOOKUP(B970,Hidden_Словник!$A$2:$C$100,3,FALSE),\"\")","v":""},null,null,null,null,null,null,null,null,null,null,null,null,null,null,null,null,null,null,null,null,"",null,null,null,null,null,null,""]
[null,null,{"$f":"IFERROR(VLOOKUP(B971,Hidden_Словник!$A$2:$C$100,3,FALSE),\"\")","v":""},null,null,null,null,null,null,null,null,null,null,null,null,null,null,null,null,null,null,null,null,"",null,null,null,null,null,null,""]
[null,null,{"$f":"IFERROR(VLOOKUP(B972,Hidden_Словник!$A$2:$C$100,3,FALSE),\"\")","v":""},null,null,null,null,null,null,null,null,null,null,null,null,null,null,null,null,null,null,null,null,"",null,null,null,null,null,null,""]
[null,null,{"$f":"IFERROR(VLOOKUP(B973,Hidden_Словник!$A$2:$C$100,3,FALSE),\"\")","v":""},null,null,null,null,null,null,null,null,null,null,null,null,null,null,null,null,null,null,null,null,"",null,null,null,null,null,null,""]
[null,null,{"$f":"IFERROR(VLOOKUP(B974,Hidden_Словник!$A$2:$C$100,3,FALSE),\"\")","v":""},null,null,null,null,null,null,null,null,null,null,null,null,null,null,null,null,null,null,null,null,"",null,null,null,null,null,null,""]
[null,null,{"$f":"IFERROR(VLOOKUP(B975,Hidden_Словник!$A$2:$C$100,3,FALSE),\"\")","v":""},null,null,null,null,null,null,null,null,null,null,null,null,null,null,null,null,null,null,null,null,"",null,null,null,null,null,null,""]
[null,null,{"$f":"IFERROR(VLOOKUP(B976,Hidden_Словник!$A$2:$C$100,3,FALSE),\"\")","v":""},null,null,null,null,null,null,null,null,null,null,null,null,null,null,null,null,null,null,null,null,"",null,null,null,null,null,null,""]
[null,null,{"$f":"IFERROR(VLOOKUP(B977,Hidden_Словник!$A$2:$C$100,3,FALSE),\"\")","v":""},null,null,null,null,null,null,null,null,null,null,null,null,null,null,null,null,null,null,null,null,"",null,null,null,null,null,null,""]
[null,null,{"$f":"IFERROR(VLOOKUP(B978,Hidden_Словник!$A$2:$C$100,3,FALSE),\"\")","v":""},null,null,null,null,null,null,null,null,null,null,null,null,null,null,null,null,null,null,null,null,"",null,null,null,null,null,null,""]
[null,null,{"$f":"IFERROR(VLOOKUP(B979,Hidden_Словник!$A$2:$C$100,3,FALSE),\"\")","v":""},null,null,null,null,null,null,null,null,null,null,null,null,null,null,null,null,null,null,null,null,"",null,null,null,null,null,null,""]
[null,null,{"$f":"IFERROR(VLOOKUP(B980,Hidden_Словник!$A$2:$C$100,3,FALSE),\"\")","v":""},null,null,null,null,null,null,null,null,null,null,null,null,null,null,null,null,null,null,null,null,{"$f":"IF(Y980+Z980>0,Y980+Z980,\"\")","v":""},null,null,null,null,null,null,{"$f":"IF(F980=\"\",\"\",IF(F980=\"Ліквідовано\",\"ТАК\",\"НІ\"))","v":""}]
[null,null,{"$f":"IFERROR(VLOOKUP(B981,Hidden_Словник!$A$2:$C$100,3,FALSE),\"\")","v":""},null,null,null,null,null,null,null,null,null,null,null,null,null,null,null,null,null,null,null,null,"",null,null,null,null,null,null,""]
[null,null,{"$f":"IFERROR(VLOOKUP(B982,Hidden_Словник!$A$2:$C$100,3,FALSE),\"\")","v":""},null,null,null,null,null,null,null,null,null,null,null,null,null,null,null,null,null,null,null,null,"",null,null,null,null,null,null,""]
[null,null,{"$f":"IFERROR(VLOOKUP(B983,Hidden_Словник!$A$2:$C$100,3,FALSE),\"\")","v":""},null,null,null,null,null,null,null,null,null,null,null,null,null,null,null,null,null,null,null,null,"",null,null,null,null,null,null,""]
[null,null,{"$f":"IFERROR(VLOOKUP(B984,Hidden_Словник!$A$2:$C$100,3,FALSE),\"\")","v":""},null,null,null,null,null,null,null,null,null,null,null,null,null,null,null,null,null,null,null,null,"",null,null,null,null,null,null,""]
[null,null,{"$f":"IFERROR(VLOOKUP(B985,Hidden_Словник!$A$2:$C$100,3,FALSE),\"\")","v":""},null,null,null,null,null,null,null,null,null,null,null,null,null,null,null,null,null,null,null,null,"",null,null,null,null,null,null,""]
[null,null,{"$f":"IFERROR(VLOOKUP(B986,Hidden_Словник!$A$2:$C$100,3,FALSE),\"\")","v":""},null,null,null,null,null,null,null,null,null,null,null,null,null,null,null,null,null,null,null,null,"",null,null,null,null,null,null,""]
[null,null,{"$f":"IFERROR(VLOOKUP(B987,Hidden_Словник!$A$2:$C$100,3,FALSE),\"\")","v":""},null,null,null,null,null,null,null,null,null,null,null,null,null,null,null,null,null,null,null,null,"",null,null,null,null,null,null,""]
[null,null,{"$f":"IFERROR(VLOOKUP(B988,Hidden_Словник!$A$2:$C$100,3,FALSE),\"\")","v":""},null,null,null,null,null,null,null,null,null,null,null,null,null,null,null,null,null,null,null,null,"",null,null,null,null,null,null,""]
[null,null,{"$f":"IFERROR(VLOOKUP(B989,Hidden_Словник!$A$2:$C$100,3,FALSE),\"\")","v":""},null,null,null,null,null,null,null,null,null,null,null,null,null,null,null,null,null,null,null,null,"",null,null,null,null,null,null,""]
[null,null,{"$f":"IFERROR(VLOOKUP(B990,Hidden_Словник!$A$2:$C$100,3,FALSE),\"\")","v":""},null,null,null,null,null,null,null,null,null,null,null,null,null,null,null,null,null,null,null,null,"",null,null,null,null,null,null,""]
[null,null,{"$f":"IFERROR(VLOOKUP(B991,Hidden_Словник!$A$2:$C$100,3,FALSE),\"\")","v":""},null,null,null,null,null,null,null,null,null,null,null,null,null,null,null,null,null,null,null,null,"",null,null,null,null,null,null,""]
[null,null,{"$f":"IFERROR(VLOOKUP(B992,Hidden_Словник!$A$2:$C$100,3,FALSE),\"\")","v":""},null,null,null,null,null,null,null,null,null,null,null,null,null,null,null,null,null,null,null,null,"",null,null,null,null,null,null,""]
[null,null,{"$f":"IFERROR(VLOOKUP(B993,Hidden_Словник!$A$2:$C$100,3,FALSE),\"\")","v":""},null,null,null,null,null,null,null,null,null,null,null,null,null,null,null,null,null,null,null,null,"",null,null,null,null,null,null,""]
[null,null,{"$f":"IFERROR(VLOOKUP(B994,Hidden_Словник!$A$2:$C$100,3,FALSE),\"\")","v":""},null,null,null,null,null,null,null,null,null,null,null,null,null,null,null,null,null,null,null,null,"",null,null,null,null,null,null,""]
[null,null,{"$f":"IFERROR(VLOOKUP(B995,Hidden_Словник!$A$2:$C$100,3,FALSE),\"\")","v":""},null,null,null,null,null,null,null,null,null,null,null,null,null,null,null,null,null,null,null,null,"",null,null,null,null,null,null,""]
[null,null,{"$f":"IFERROR(VLOOKUP(B996,Hidden_Словник!$A$2:$C$100,3,FALSE),\"\")","v":""},null,null,null,null,null,null,null,null,null,null,null,null,null,null,null,null,null,null,null,null,"",null,null,null,null,null,null,""]
[null,null,{"$f":"IFERROR(VLOOKUP(B997,Hidden_Словник!$A$2:$C$100,3,FALSE),\"\")","v":""},null,null,null,null,null,null,null,null,null,null,null,null,null,null,null,null,null,null,null,null,"",null,null,null,null,null,null,""]
[null,null,{"$f":"IFERROR(VLOOKUP(B998,Hidden_Словник!$A$2:$C$100,3,FALSE),\"\")","v":""},null,null,null,null,null,null,null,null,null,null,null,null,null,null,null,null,null,null,null,null,"",null,null,null,null,null,null,""]
[null,null,{"$f":"IFERROR(VLOOKUP(B999,Hidden_Словник!$A$2:$C$100,3,FALSE),\"\")","v":""},null,null,null,null,null,null,null,null,null,null,null,null,null,null,null,null,null,null,null,null,"",null,null,null,null,null,null,""]
[null,null,{"$f":"IFERROR(VLOOKUP(B1000,Hidden_Словник!$A$2:$C$100,3,FALSE),\"\")","v":""},null,null,null,null,null,null,null,null,null,null,null,null,null,null,null,null,null,null,null,null,"",null,null,null,null,null,null,""]
[null,null,{"$f":"IFERROR(VLOOKUP(B1001,Hidden_Словник!$A$2:$C$100,3,FALSE),\"\")","v":""},null,null,null,null,null,null,null,null,null,null,null,null,null,null,null,null,null,null,null,null,"",null,null,null,null,null,null,""]
[null,null,{"$f":"IFERROR(VLOOKUP(B1002,Hidden_Словник!$A$2:$C$100,3,FALSE),\"\")","v":""},null,null,null,null,null,null,null,null,null,null,null,null,null,null,null,null,null,null,null,null,"",null,null,null,null,null,null,""]
[null,null,{"$f":"IFERROR(VLOOKUP(B1003,Hidden_Словник!$A$2:$C$100,3,FALSE),\"\")","v":""},null,null,null,null,null,null,null,null,null,null,null,null,null,null,null,null,null,null,null,null,"",null,null,null,null,null,null,""]
[null,null,{"$f":"IFERROR(VLOOKUP(B1004,Hidden_Словник!$A$2:$C$100,3,FALSE),\"\")","v":""},null,null,null,null,null,null,null,null,null,null,null,null,null,null,null,null,null,null,null,null,"",null,null,null,null,null,null,""]
[null,null,{"$f":"IFERROR(VLOOKUP(B1005,Hidden_Словник!$A$2:$C$100,3,FALSE),\"\")","v":""},null,null,null,null,null,null,null,null,null,null,null,null,null,null,null,null,null,null,null,null,"",null,null,null,null,null,null,""]
[null,null,{"$f":"IFERROR(VLOOKUP(B1006,Hidden_Словник!$A$2:$C$100,3,FALSE),\"\")","v":""},null,null,null,null,null,null,null,null,null,null,null,null,null,null,null,null,null,null,null,null,"",null,null,null,null,null,null,""]
[null,null,{"$f":"IFERROR(VLOOKUP(B1007,Hidden_Словник!$A$2:$C$100,3,FALSE),\"\")","v":""},null,null,null,null,null,null,null,null,null,null,null,null,null,null,null,null,null,null,null,null,"",null,null,null,null,null,null,""]
[null,null,{"$f":"IFERROR(VLOOKUP(B1008,Hidden_Словник!$A$2:$C$100,3,FALSE),\"\")","v":""},null,null,null,null,null,null,null,null,null,null,null,null,null,null,null,null,null,null,null,null,"",null,null,null,null,null,null,""]
[null,null,{"$f":"IFERROR(VLOOKUP(B1009,Hidden_Словник!$A$2:$C$100,3,FALSE),\"\")","v":""},null,null,null,null,null,null,null,null,null,null,null,null,null,null,null,null,null,null,null,null,"",null,null,null,null,null,null,""]
[null,null,{"$f":"IFERROR(VLOOKUP(B1010,Hidden_Словник!$A$2:$C$100,3,FALSE),\"\")","v":""},null,null,null,null,null,null,null,null,null,null,null,null,null,null,null,null,null,null,null,null,"",null,null,null,null,null,null,""]
[null,null,{"$f":"IFERROR(VLOOKUP(B1011,Hidden_Словник!$A$2:$C$100,3,FALSE),\"\")","v":""},null,null,null,null,null,null,null,null,null,null,null,null,null,null,null,null,null,null,null,null,"",null,null,null,null,null,null,""]
[null,null,{"$f":"IFERROR(VLOOKUP(B1012,Hidden_Словник!$A$2:$C$100,3,FALSE),\"\")","v":""},null,null,null,null,null,null,null,null,null,null,null,null,null,null,null,null,null,null,null,null,"",null,null,null,null,null,null,""]
[null,null,{"$f":"IFERROR(VLOOKUP(B1013,Hidden_Словник!$A$2:$C$100,3,FALSE),\"\")","v":""},null,null,null,null,null,null,null,null,null,null,null,null,null,null,null,null,null,null,null,null,"",null,null,null,null,null,null,""]
[null,null,{"$f":"IFERROR(VLOOKUP(B1014,Hidden_Словник!$A$2:$C$100,3,FALSE),\"\")","v":""},null,null,null,null,null,null,null,null,null,null,null,null,null,null,null,null,null,null,null,null,"",null,null,null,null,null,null,""]
[null,null,{"$f":"IFERROR(VLOOKUP(B1015,Hidden_Словник!$A$2:$C$100,3,FALSE),\"\")","v":""},null,null,null,null,null,null,null,null,null,null,null,null,null,null,null,null,null,null,null,null,"",null,null,null,null,null,null,""]

{"sheet":"2.Забезпечення","index":1,"n_rows":1099,"n_cols":32,"rows_kept":1099,"cut":false,"hidden":false,"merged":[[3,7,7,17],[26,4,26,6],[29,4,29,5],[30,4,30,5],[27,4,27,6]]}
[]
[]
[]
[null,null,null,null,null,null,null,"Цей документ був підготовлений Фондом гарантування вкладів фізичних осіб (далі – Фонд) виключно для інформаційних цілей і не повинен вважатися як спонукання до будь-яких дій чи бездіяльності. \nІнформація, що міститься в цьому документі, була отримана з/або ґрунтується на джерелах, які вважаються надійними, але не є вичерпною та не може сприйматися як повна або актуальна. Зокрема, але не виключно, станом на дату придбання активів допускаються несуттєві зміни лота, в складі якого продаються такі активи. Під несуттєвими змінами лота слід розуміти такі зміни характеристик активів у складі такого лота, які впливають на його балансову вартість, але не більше ніж на 10 відсотків. Рішення покупця щодо будь-яких дій або бездіяльності повинно ґрунтуватися на власних оцінках та дослідженнях майна (активу/активів), котре реалізується. Фонд не несе відповідальності за рішення покупця та його наслідки, що ґрунтується на інформації, викладеній в даному документі."]
[]
[]
[]
[]
[]
[]
[]
["Звітна дата",":",{"$f":"'1.Портфель кредитів'!B7","v":"2021-05-01"}]
["unicid","Colateral_ID","Банк","№ кред. Дог","Тип застави","Опис застави","Кількість застави","(га, м2, шт., тощо)","Область знаходження застави","Населений пункт (місто/село/смт.)","Повна адреса застави (Район, місто, вулиця, № буд)","Сума/вартість за договором (грн.екв.)","Реєстрація у держ. Реєстрі (обтяження)\n(так/ні)","Найменування заставодавця/фінансового поручителя","ЕДРПОУ/ІНН заставодавця/фінансового поручителя","Ознака банкрутства/ліквідації заставодавця/фінансового поручителя(відповідно ЄДР на дату заповнення паспорту)","Перехресна застава","Пропорційна вартість застави","Додаткові коментарі про заставу (у випадку наявності в Банку інформації, в т.ч. щодо виведення застави, руйнування, знаходження в розшуку, тощо)","Балансова вартість кредиту","Загальна балансова вартість по кейсу, що покривається забезпеченням","Пропорційна вартість забезпечення",null,null,null,null,null,"МФО банка","Балансова вартість забезпечення","Тип застави_числовий","ЄДРПОУ Заставодавця","ID"]
[1,{"$f":"IFERROR(AF14,\"\")","v":""},{"$f":"IFERROR(VLOOKUP(A14,'1.Портфель кредитів'!A:AC,3,FALSE),\"\")","v":"321712"},"-","беззаставний",null,null,null,null,null,null,null,null,null,null,null,{"$f":"IF(O14=\"\",\"\",IF(COUNTIF(AF:AF,AF14)>1,\"так\",\"ні\"))","v":""},0,null,{"$f":"IFERROR(VLOOKUP(A14,'1.Портфель кредитів'!A:AC,30,FALSE),\"\")","v":""},{"$f":"SUMIF(B:B,B14,T:T)","v":0},{"$f":"T14/U14","v":{"$error":"#VALUE!"}},null,null,null,null,null,{"$f":"VLOOKUP(C14,Hidden_Словник!$A$2:C$81,3,FALSE)","v":{"$error":"#N/A"}},{"$f":"ROUNDUP(L14,0)","v":0},{"$f":"VLOOKUP(E14,Hidden_Словник!$W$2:$X$13,2,FALSE)","v":8},{"$f":"O14","v":0},{"$f":"AB14&\"_\"&AC14&AD14&AE14","v":{"$error":"#N/A"}}]
[2,{"$f":"IFERROR(AF15,\"\")","v":""},{"$f":"IFERROR(VLOOKUP(A15,'1.Портфель кредитів'!A:AC,3,FALSE),\"\")","v":"321712"},"-","беззаставний",null,null,null,null,null,null,null,null,null,null,null,{"$f":"IF(O15=\"\",\"\",IF(COUNTIF(AF:AF,AF15)>1,\"так\",\"ні\"))","v":""},0,null,{"$f":"IFERROR(VLOOKUP(A15,'1.Портфель кредитів'!A:AC,30,FALSE),\"\")","v":""},{"$f":"SUMIF(B:B,B15,T:T)","v":0},{"$f":"T15/U15","v":{"$error":"#VALUE!"}},null,null,null,null,null,{"$f":"VLOOKUP(C15,Hidden_Словник!$A$2:C$81,3,FALSE)","v":{"$error":"#N/A"}},0,{"$f":"VLOOKUP(E15,Hidden_Словник!$W$2:$X$13,2,FALSE)","v":8},0,{"$f":"AB15&\"_\"&AC15&AD15&AE15","v":{"$error":"#N/A"}}]
[3,"",{"$f":"IFERROR(VLOOKUP(A16,'1.Портфель кредитів'!A:AC,3,FALSE),\"\")","v":"321712"},"-","беззаставний",null,null,null,null,null,null,null,null,null,null,null,{"$f":"IF(O16=\"\",\"\",IF(COUNTIF(AF:AF,AF16)>1,\"так\",\"ні\"))","v":""},0,null,{"$f":"IFERROR(VLOOKUP(A16,'1.Портфель кредитів'!A:AC,30,FALSE),\"\")","v":""},{"$f":"SUMIF(B:B,B16,T:T)","v":0},{"$error":"#VALUE!"},null,null,null,null,null,{"$f":"VLOOKUP(C16,Hidden_Словник!$A$2:C$81,3,FALSE)","v":{"$error":"#N/A"}},0,{"$f":"VLOOKUP(E16,Hidden_Словник!$W$2:$X$13,2,FALSE)","v":8},0,{"$error":"#N/A"}]
[4,"",{"$f":"IFERROR(VLOOKUP(A17,'1.Портфель кредитів'!A:AC,3,FALSE),\"\")","v":"321712"},"-","беззаставний",null,null,null,null,null,null,null,null,null,null,null,{"$f":"IF(O17=\"\",\"\",IF(COUNTIF(AF:AF,AF17)>1,\"так\",\"ні\"))","v":""},0,null,{"$f":"IFERROR(VLOOKUP(A17,'1.Портфель кредитів'!A:AC,30,FALSE),\"\")","v":""},{"$f":"SUMIF(B:B,B17,T:T)","v":0},{"$error":"#VALUE!"},null,null,null,null,null,{"$f":"VLOOKUP(C17,Hidden_Словник!$A$2:C$81,3,FALSE)","v":{"$error":"#N/A"}},0,{"$f":"VLOOKUP(E17,Hidden_Словник!$W$2:$X$13,2,FALSE)","v":8},0,{"$error":"#N/A"}]
[5,null,{"$f":"IFERROR(VLOOKUP(A18,'1.Портфель кредитів'!A:AC,3,FALSE),\"\")","v":"321712"},"-","беззаставний",null,null,null,null,null,null,null,null,null,null,null,null,0]
[6,null,{"$f":"IFERROR(VLOOKUP(A19,'1.Портфель кредитів'!A:AC,3,FALSE),\"\")","v":"321712"},"-","беззаставний",null,null,null,null,null,null,null,null,null,null,null,null,{"$f":"IFERROR(V19*L19,\"\")","v":0}]
[7,null,{"$f":"IFERROR(VLOOKUP(A20,'1.Портфель кредитів'!A:AC,3,FALSE),\"\")","v":"321712"},"-","беззаставний",null,null,null,null,null,null,null,null,null,null,null,null,0]
[8,null,{"$f":"IFERROR(VLOOKUP(A21,'1.Портфель кредитів'!A:AC,3,FALSE),\"\")","v":"321712"},"-","беззаставний",null,null,null,null,null,null,null,null,null,null,null,null,0]
[9,null,{"$f":"IFERROR(VLOOKUP(A22,'1.Портфель кредитів'!A:AC,3,FALSE),\"\")","v":"321712"},"-","беззаставний",null,null,null,null,null,null,null,null,null,null,null,null,0]
[10,null,{"$f":"IFERROR(VLOOKUP(A23,'1.Портфель кредитів'!A:AC,3,FALSE),\"\")","v":"321712"},"-","беззаставний",null,null,null,null,null,null,null,null,null,null,null,null,0]
[11,null,{"$f":"IFERROR(VLOOKUP(A24,'1.Портфель кредитів'!A:AC,3,FALSE),\"\")","v":"321712"},"-","беззаставний",null,null,null,null,null,null,null,null,null,null,null,null,0]
[12,null,{"$f":"IFERROR(VLOOKUP(A25,'1.Портфель кредитів'!A:AC,3,FALSE),\"\")","v":"321712"},"-","беззаставний",null,null,null,null,null,null,null,null,null,null,null,null,0]
[null,"",{"$f":"IFERROR(VLOOKUP(A26,'1.Портфель кредитів'!A:AC,3,FALSE),\"\")","v":""},{"$f":"IFERROR(VLOOKUP(A26,'1.Портфель кредитів'!A:AC,14,FALSE),\"\")","v":""},null,null,null,null,null,null,null,null,null,null,null,null,{"$f":"IF(O26=\"\",\"\",IF(COUNTIF(AF:AF,AF26)>1,\"так\",\"ні\"))","v":""},"",null,{"$f":"IFERROR(VLOOKUP(A26,'1.Портфель кредитів'!A:AC,30,FALSE),\"\")","v":""},{"$f":"SUMIF(B:B,B26,T:T)","v":0},{"$error":"#VALUE!"},null,null,null,null,null,{"$f":"VLOOKUP(C26,Hidden_Словник!$A$2:C$81,3,FALSE)","v":{"$error":"#N/A"}},0,{"$f":"VLOOKUP(E26,Hidden_Словник!$W$2:$X$13,2,FALSE)","v":{"$error":"#N/A"}},0,{"$error":"#N/A"}]
[null,"",{"$f":"IFERROR(VLOOKUP(A27,'1.Портфель кредитів'!A:AC,3,FALSE),\"\")","v":""},{"$f":"IFERROR(VLOOKUP(A27,'1.Портфель кредитів'!A:AC,14,FALSE),\"\")","v":""},null,null,null,null,null,null,null,null,null,null,null,null,"","",null,{"$f":"IFERROR(VLOOKUP(A27,'1.Портфель кредитів'!A:AC,30,FALSE),\"\")","v":""},0,{"$error":"#VALUE!"},null,null,null,null,null,{"$f":"VLOOKUP(C27,Hidden_Словник!$A$2:C$81,3,FALSE)","v":{"$error":"#N/A"}},0,{"$f":"VLOOKUP(E27,Hidden_Словник!$W$2:$X$13,2,FALSE)","v":{"$error":"#N/A"}},0,{"$error":"#N/A"}]
[null,"",{"$f":"IFERROR(VLOOKUP(A28,'1.Портфель кредитів'!A:AC,3,FALSE),\"\")","v":""},{"$f":"IFERROR(VLOOKUP(A28,'1.Портфель кредитів'!A:AC,14,FALSE),\"\")","v":""},null,null,null,null,null,null,null,null,null,null,null,null,"","",null,{"$f":"IFERROR(VLOOKUP(A28,'1.Портфель кредитів'!A:AC,30,FALSE),\"\")","v":""},0,{"$error":"#VALUE!"},null,null,null,null,null,{"$f":"VLOOKUP(C28,Hidden_Словник!$A$2:C$81,3,FALSE)","v":{"$error":"#N/A"}},0,{"$f":"VLOOKUP(E28,Hidden_Словник!$W$2:$X$13,2,FALSE)","v":{"$error":"#N/A"}},0,{"$error":"#N/A"}]
[null,"",{"$f":"IFERROR(VLOOKUP(A29,'1.Портфель кредитів'!A:AC,3,FALSE),\"\")","v":""},{"$f":"IFERROR(VLOOKUP(A29,'1.Портфель кредитів'!A:AC,14,FALSE),\"\")","v":""},null,null,null,null,null,null,null,null,null,null,null,null,"","",null,{"$f":"IFERROR(VLOOKUP(A29,'1.Портфель кредитів'!A:AC,30,FALSE),\"\")","v":""},0,{"$error":"#VALUE!"},null,null,null,null,null,{"$f":"VLOOKUP(C29,Hidden_Словник!$A$2:C$81,3,FALSE)","v":{"$error":"#N/A"}},0,{"$f":"VLOOKUP(E29,Hidden_Словник!$W$2:$X$13,2,FALSE)","v":{"$error":"#N/A"}},0,{"$error":"#N/A"}]
[null,"",{"$f":"IFERROR(VLOOKUP(A30,'1.Портфель кредитів'!A:AC,3,FALSE),\"\")","v":""},{"$f":"IFERROR(VLOOKUP(A30,'1.Портфель кредитів'!A:AC,14,FALSE),\"\")","v":""},null,null,null,null,null,null,null,null,null,null,null,null,"","",null,{"$f":"IFERROR(VLOOKUP(A30,'1.Портфель кредитів'!A:AC,30,FALSE),\"\")","v":""},0,{"$error":"#VALUE!"},null,null,null,null,null,{"$f":"VLOOKUP(C30,Hidden_Словник!$A$2:C$81,3,FALSE)","v":{"$error":"#N/A"}},0,{"$f":"VLOOKUP(E30,Hidden_Словник!$W$2:$X$13,2,FALSE)","v":{"$error":"#N/A"}},0,{"$error":"#N/A"}]
[null,"",{"$f":"IFERROR(VLOOKUP(A31,'1.Портфель кредитів'!A:AC,3,FALSE),\"\")","v":""},{"$f":"IFERROR(VLOOKUP(A31,'1.Портфель кредитів'!A:AC,14,FALSE),\"\")","v":""},null,null,null,null,null,null,null,null,null,null,null,null,"","",null,{"$f":"IFERROR(VLOOKUP(A31,'1.Портфель кредитів'!A:AC,30,FALSE),\"\")","v":""},0,{"$error":"#VALUE!"},null,null,null,null,null,{"$f":"VLOOKUP(C31,Hidden_Словник!$A$2:C$81,3,FALSE)","v":{"$error":"#N/A"}},0,{"$f":"VLOOKUP(E31,Hidden_Словник!$W$2:$X$13,2,FALSE)","v":{"$error":"#N/A"}},0,{"$error":"#N/A"}]
[null,"",{"$f":"IFERROR(VLOOKUP(A32,'1.Портфель кредитів'!A:AC,3,FALSE),\"\")","v":""},{"$f":"IFERROR(VLOOKUP(A32,'1.Портфель кредитів'!A:AC,14,FALSE),\"\")","v":""},null,null,null,null,null,null,null,null,null,null,null,null,"","",null,{"$f":"IFERROR(VLOOKUP(A32,'1.Портфель кредитів'!A:AC,30,FALSE),\"\")","v":""},0,{"$error":"#VALUE!"},null,null,null,null,null,{"$f":"VLOOKUP(C32,Hidden_Словник!$A$2:C$81,3,FALSE)","v":{"$error":"#N/A"}},0,{"$f":"VLOOKUP(E32,Hidden_Словник!$W$2:$X$13,2,FALSE)","v":{"$error":"#N/A"}},0,{"$error":"#N/A"}]
[null,"",{"$f":"IFERROR(VLOOKUP(A33,'1.Портфель кредитів'!A:AC,3,FALSE),\"\")","v":""},{"$f":"IFERROR(VLOOKUP(A33,'1.Портфель кредитів'!A:AC,14,FALSE),\"\")","v":""},null,null,null,null,null,null,null,null,null,null,null,null,"","",null,{"$f":"IFERROR(VLOOKUP(A33,'1.Портфель кредитів'!A:AC,30,FALSE),\"\")","v":""},0,{"$error":"#VALUE!"},null,null,null,null,null,{"$f":"VLOOKUP(C33,Hidden_Словник!$A$2:C$81,3,FALSE)","v":{"$error":"#N/A"}},0,{"$f":"VLOOKUP(E33,Hidden_Словник!$W$2:$X$13,2,FALSE)","v":{"$error":"#N/A"}},0,{"$error":"#N/A"}]
[null,"",{"$f":"IFERROR(VLOOKUP(A34,'1.Портфель кредитів'!A:AC,3,FALSE),\"\")","v":""},{"$f":"IFERROR(VLOOKUP(A34,'1.Портфель кредитів'!A:AC,14,FALSE),\"\")","v":""},null,null,null,null,null,null,null,null,null,null,null,null,"","",null,{"$f":"IFERROR(VLOOKUP(A34,'1.Портфель кредитів'!A:AC,30,FALSE),\"\")","v":""},0,{"$error":"#VALUE!"},null,null,null,null,null,{"$f":"VLOOKUP(C34,Hidden_Словник!$A$2:C$81,3,FALSE)","v":{"$error":"#N/A"}},0,{"$f":"VLOOKUP(E34,Hidden_Словник!$W$2:$X$13,2,FALSE)","v":{"$error":"#N/A"}},0,{"$error":"#N/A"}]
[null,"",{"$f":"IFERROR(VLOOKUP(A35,'1.Портфель кредитів'!A:AC,3,FALSE),\"\")","v":""},{"$f":"IFERROR(VLOOKUP(A35,'1.Портфель кредитів'!A:AC,14,FALSE),\"\")","v":""},null,null,null,null,null,null,null,null,null,null,null,null,"","",null,{"$f":"IFERROR(VLOOKUP(A35,'1.Портфель кредитів'!A:AC,30,FALSE),\"\")","v":""},0,{"$error":"#VALUE!"},null,null,null,null,null,{"$f":"VLOOKUP(C35,Hidden_Словник!$A$2:C$81,3,FALSE)","v":{"$error":"#N/A"}},0,{"$f":"VLOOKUP(E35,Hidden_Словник!$W$2:$X$13,2,FALSE)","v":{"$error":"#N/A"}},0,{"$error":"#N/A"}]
[null,"",{"$f":"IFERROR(VLOOKUP(A36,'1.Портфель кредитів'!A:AC,3,FALSE),\"\")","v":""},{"$f":"IFERROR(VLOOKUP(A36,'1.Портфель кредитів'!A:AC,14,FALSE),\"\")","v":""},null,null,null,null,null,null,null,null,null,null,null,null,"","",null,{"$f":"IFERROR(VLOOKUP(A36,'1.Портфель кредитів'!A:AC,30,FALSE),\"\")","v":""},0,{"$error":"#VALUE!"},null,null,null,null,null,{"$f":"VLOOKUP(C36,Hidden_Словник!$A$2:C$81,3,FALSE)","v":{"$error":"#N/A"}},0,{"$f":"VLOOKUP(E36,Hidden_Словник!$W$2:$X$13,2,FALSE)","v":{"$error":"#N/A"}},0,{"$error":"#N/A"}]
[null,"",{"$f":"IFERROR(VLOOKUP(A37,'1.Портфель кредитів'!A:AC,3,FALSE),\"\")","v":""},{"$f":"IFERROR(VLOOKUP(A37,'1.Портфель кредитів'!A:AC,14,FALSE),\"\")","v":""},null,null,null,null,null,null,null,null,null,null,null,null,"","",null,{"$f":"IFERROR(VLOOKUP(A37,'1.Портфель кредитів'!A:AC,30,FALSE),\"\")","v":""},0,{"$error":"#VALUE!"},null,null,null,null,null,{"$f":"VLOOKUP(C37,Hidden_Словник!$A$2:C$81,3,FALSE)","v":{"$error":"#N/A"}},0,{"$f":"VLOOKUP(E37,Hidden_Словник!$W$2:$X$13,2,FALSE)","v":{"$error":"#N/A"}},0,{"$error":"#N/A"}]
[null,"",{"$f":"IFERROR(VLOOKUP(A38,'1.Портфель кредитів'!A:AC,3,FALSE),\"\")","v":""},{"$f":"IFERROR(VLOOKUP(A38,'1.Портфель кредитів'!A:AC,14,FALSE),\"\")","v":""},null,null,null,null,null,null,null,null,null,null,null,null,"","",null,{"$f":"IFERROR(VLOOKUP(A38,'1.Портфель кредитів'!A:AC,30,FALSE),\"\")","v":""},0,{"$error":"#VALUE!"},null,null,null,null,null,{"$f":"VLOOKUP(C38,Hidden_Словник!$A$2:C$81,3,FALSE)","v":{"$error":"#N/A"}},0,{"$f":"VLOOKUP(E38,Hidden_Словник!$W$2:$X$13,2,FALSE)","v":{"$error":"#N/A"}},0,{"$error":"#N/A"}]
[null,"",{"$f":"IFERROR(VLOOKUP(A39,'1.Портфель кредитів'!A:AC,3,FALSE),\"\")","v":""},{"$f":"IFERROR(VLOOKUP(A39,'1.Портфель кредитів'!A:AC,14,FALSE),\"\")","v":""},null,null,null,null,null,null,null,null,null,null,null,null,"","",null,{"$f":"IFERROR(VLOOKUP(A39,'1.Портфель кредитів'!A:AC,30,FALSE),\"\")","v":""},0,{"$error":"#VALUE!"},null,null,null,null,null,{"$f":"VLOOKUP(C39,Hidden_Словник!$A$2:C$81,3,FALSE)","v":{"$error":"#N/A"}},0,{"$f":"VLOOKUP(E39,Hidden_Словник!$W$2:$X$13,2,FALSE)","v":{"$error":"#N/A"}},0,{"$error":"#N/A"}]
[null,"",{"$f":"IFERROR(VLOOKUP(A40,'1.Портфель кредитів'!A:AC,3,FALSE),\"\")","v":""},{"$f":"IFERROR(VLOOKUP(A40,'1.Портфель кредитів'!A:AC,14,FALSE),\"\")","v":""},null,null,null,null,null,null,null,null,null,null,null,null,"","",null,{"$f":"IFERROR(VLOOKUP(A40,'1.Портфель кредитів'!A:AC,30,FALSE),\"\")","v":""},0,{"$error":"#VALUE!"},null,null,null,null,null,{"$f":"VLOOKUP(C40,Hidden_Словник!$A$2:C$81,3,FALSE)","v":{"$error":"#N/A"}},0,{"$f":"VLOOKUP(E40,Hidden_Словник!$W$2:$X$13,2,FALSE)","v":{"$error":"#N/A"}},0,{"$error":"#N/A"}]
[null,"",{"$f":"IFERROR(VLOOKUP(A41,'1.Портфель кредитів'!A:AC,3,FALSE),\"\")","v":""},{"$f":"IFERROR(VLOOKUP(A41,'1.Портфель кредитів'!A:AC,14,FALSE),\"\")","v":""},null,null,null,null,null,null,null,null,null,null,null,null,"","",null,{"$f":"IFERROR(VLOOKUP(A41,'1.Портфель кредитів'!A:AC,30,FALSE),\"\")","v":""},0,{"$error":"#VALUE!"},null,null,null,null,null,{"$f":"VLOOKUP(C41,Hidden_Словник!$A$2:C$81,3,FALSE)","v":{"$error":"#N/A"}},0,{"$f":"VLOOKUP(E41,Hidden_Словник!$W$2:$X$13,2,FALSE)","v":{"$error":"#N/A"}},0,{"$error":"#N/A"}]
[null,"",{"$f":"IFERROR(VLOOKUP(A42,'1.Портфель кредитів'!A:AC,3,FALSE),\"\")","v":""},{"$f":"IFERROR(VLOOKUP(A42,'1.Портфель кредитів'!A:AC,14,FALSE),\"\")","v":""},null,null,null,null,null,null,null,null,null,null,null,null,"","",null,{"$f":"IFERROR(VLOOKUP(A42,'1.Портфель кредитів'!A:AC,30,FALSE),\"\")","v":""},0,{"$error":"#VALUE!"},null,null,null,null,null,{"$f":"VLOOKUP(C42,Hidden_Словник!$A$2:C$81,3,FALSE)","v":{"$error":"#N/A"}},0,{"$f":"VLOOKUP(E42,Hidden_Словник!$W$2:$X$13,2,FALSE)","v":{"$error":"#N/A"}},0,{"$error":"#N/A"}]
[null,"",{"$f":"IFERROR(VLOOKUP(A43,'1.Портфель кредитів'!A:AC,3,FALSE),\"\")","v":""},{"$f":"IFERROR(VLOOKUP(A43,'1.Портфель кредитів'!A:AC,14,FALSE),\"\")","v":""},null,null,null,null,null,null,null,null,null,null,null,null,"","",null,{"$f":"IFERROR(VLOOKUP(A43,'1.Портфель кредитів'!A:AC,30,FALSE),\"\")","v":""},0,{"$error":"#VALUE!"},null,null,null,null,null,{"$f":"VLOOKUP(C43,Hidden_Словник!$A$2:C$81,3,FALSE)","v":{"$error":"#N/A"}},0,{"$f":"VLOOKUP(E43,Hidden_Словник!$W$2:$X$13,2,FALSE)","v":{"$error":"#N/A"}},0,{"$error":"#N/A"}]
[null,"",{"$f":"IFERROR(VLOOKUP(A44,'1.Портфель кредитів'!A:AC,3,FALSE),\"\")","v":""},{"$f":"IFERROR(VLOOKUP(A44,'1.Портфель кредитів'!A:AC,14,FALSE),\"\")","v":""},null,null,null,null,null,null,null,null,null,null,null,null,"","",null,{"$f":"IFERROR(VLOOKUP(A44,'1.Портфель кредитів'!A:AC,30,FALSE),\"\")","v":""},0,{"$error":"#VALUE!"},null,null,null,null,null,{"$f":"VLOOKUP(C44,Hidden_Словник!$A$2:C$81,3,FALSE)","v":{"$error":"#N/A"}},0,{"$f":"VLOOKUP(E44,Hidden_Словник!$W$2:$X$13,2,FALSE)","v":{"$error":"#N/A"}},0,{"$error":"#N/A"}]
[null,"",{"$f":"IFERROR(VLOOKUP(A45,'1.Портфель кредитів'!A:AC,3,FALSE),\"\")","v":""},{"$f":"IFERROR(VLOOKUP(A45,'1.Портфель кредитів'!A:AC,14,FALSE),\"\")","v":""},null,null,null,null,null,null,null,null,null,null,null,null,"","",null,{"$f":"IFERROR(VLOOKUP(A45,'1.Портфель кредитів'!A:AC,30,FALSE),\"\")","v":""},0,{"$error":"#VALUE!"},null,null,null,null,null,{"$f":"VLOOKUP(C45,Hidden_Словник!$A$2:C$81,3,FALSE)","v":{"$error":"#N/A"}},0,{"$f":"VLOOKUP(E45,Hidden_Словник!$W$2:$X$13,2,FALSE)","v":{"$error":"#N/A"}},0,{"$error":"#N/A"}]
[null,"",{"$f":"IFERROR(VLOOKUP(A46,'1.Портфель кредитів'!A:AC,3,FALSE),\"\")","v":""},{"$f":"IFERROR(VLOOKUP(A46,'1.Портфель кредитів'!A:AC,14,FALSE),\"\")","v":""},null,null,null,null,null,null,null,null,null,null,null,null,"","",null,{"$f":"IFERROR(VLOOKUP(A46,'1.Портфель кредитів'!A:AC,30,FALSE),\"\")","v":""},0,{"$error":"#VALUE!"},null,null,null,null,null,{"$f":"VLOOKUP(C46,Hidden_Словник!$A$2:C$81,3,FALSE)","v":{"$error":"#N/A"}},0,{"$f":"VLOOKUP(E46,Hidden_Словник!$W$2:$X$13,2,FALSE)","v":{"$error":"#N/A"}},0,{"$error":"#N/A"}]
[null,"",{"$f":"IFERROR(VLOOKUP(A47,'1.Портфель кредитів'!A:AC,3,FALSE),\"\")","v":""},{"$f":"IFERROR(VLOOKUP(A47,'1.Портфель кредитів'!A:AC,14,FALSE),\"\")","v":""},null,null,null,null,null,null,null,null,null,null,null,null,"","",null,{"$f":"IFERROR(VLOOKUP(A47,'1.Портфель кредитів'!A:AC,30,FALSE),\"\")","v":""},0,{"$error":"#VALUE!"},null,null,null,null,null,{"$f":"VLOOKUP(C47,Hidden_Словник!$A$2:C$81,3,FALSE)","v":{"$error":"#N/A"}},0,{"$f":"VLOOKUP(E47,Hidden_Словник!$W$2:$X$13,2,FALSE)","v":{"$error":"#N/A"}},0,{"$error":"#N/A"}]
[null,"",{"$f":"IFERROR(VLOOKUP(A48,'1.Портфель кредитів'!A:AC,3,FALSE),\"\")","v":""},{"$f":"IFERROR(VLOOKUP(A48,'1.Портфель кредитів'!A:AC,14,FALSE),\"\")","v":""},null,null,null,null,null,null,null,null,null,null,null,null,"","",null,{"$f":"IFERROR(VLOOKUP(A48,'1.Портфель кредитів'!A:AC,30,FALSE),\"\")","v":""},0,{"$error":"#VALUE!"},null,null,null,null,null,{"$f":"VLOOKUP(C48,Hidden_Словник!$A$2:C$81,3,FALSE)","v":{"$error":"#N/A"}},0,{"$f":"VLOOKUP(E48,Hidden_Словник!$W$2:$X$13,2,FALSE)","v":{"$error":"#N/A"}},0,{"$error":"#N/A"}]
[null,"",{"$f":"IFERROR(VLOOKUP(A49,'1.Портфель кредитів'!A:AC,3,FALSE),\"\")","v":""},{"$f":"IFERROR(VLOOKUP(A49,'1.Портфель кредитів'!A:AC,14,FALSE),\"\")","v":""},null,null,null,null,null,null,null,null,null,null,null,null,"","",null,{"$f":"IFERROR(VLOOKUP(A49,'1.Портфель кредитів'!A:AC,30,FALSE),\"\")","v":""},0,{"$error":"#VALUE!"},null,null,null,null,null,{"$f":"VLOOKUP(C49,Hidden_Словник!$A$2:C$81,3,FALSE)","v":{"$error":"#N/A"}},0,{"$f":"VLOOKUP(E49,Hidden_Словник!$W$2:$X$13,2,FALSE)","v":{"$error":"#N/A"}},0,{"$error":"#N/A"}]
[null,"",{"$f":"IFERROR(VLOOKUP(A50,'1.Портфель кредитів'!A:AC,3,FALSE),\"\")","v":""},{"$f":"IFERROR(VLOOKUP(A50,'1.Портфель кредитів'!A:AC,14,FALSE),\"\")","v":""},null,null,null,null,null,null,null,null,null,null,null,null,"","",null,{"$f":"IFERROR(VLOOKUP(A50,'1.Портфель кредитів'!A:AC,30,FALSE),\"\")","v":""},0,{"$error":"#VALUE!"},null,null,null,null,null,{"$f":"VLOOKUP(C50,Hidden_Словник!$A$2:C$81,3,FALSE)","v":{"$error":"#N/A"}},0,{"$f":"VLOOKUP(E50,Hidden_Словник!$W$2:$X$13,2,FALSE)","v":{"$error":"#N/A"}},0,{"$error":"#N/A"}]
[null,"",{"$f":"IFERROR(VLOOKUP(A51,'1.Портфель кредитів'!A:AC,3,FALSE),\"\")","v":""},{"$f":"IFERROR(VLOOKUP(A51,'1.Портфель кредитів'!A:AC,14,FALSE),\"\")","v":""},null,null,null,null,null,null,null,null,null,null,null,null,"","",null,{"$f":"IFERROR(VLOOKUP(A51,'1.Портфель кредитів'!A:AC,30,FALSE),\"\")","v":""},0,{"$error":"#VALUE!"},null,null,null,null,null,{"$f":"VLOOKUP(C51,Hidden_Словник!$A$2:C$81,3,FALSE)","v":{"$error":"#N/A"}},0,{"$f":"VLOOKUP(E51,Hidden_Словник!$W$2:$X$13,2,FALSE)","v":{"$error":"#N/A"}},0,{"$error":"#N/A"}]
[null,"",{"$f":"IFERROR(VLOOKUP(A52,'1.Портфель кредитів'!A:AC,3,FALSE),\"\")","v":""},{"$f":"IFERROR(VLOOKUP(A52,'1.Портфель кредитів'!A:AC,14,FALSE),\"\")","v":""},null,null,null,null,null,null,null,null,null,null,null,null,"","",null,{"$f":"IFERROR(VLOOKUP(A52,'1.Портфель кредитів'!A:AC,30,FALSE),\"\")","v":""},0,{"$error":"#VALUE!"},null,null,null,null,null,{"$f":"VLOOKUP(C52,Hidden_Словник!$A$2:C$81,3,FALSE)","v":{"$error":"#N/A"}},0,{"$f":"VLOOKUP(E52,Hidden_Словник!$W$2:$X$13,2,FALSE)","v":{"$error":"#N/A"}},0,{"$error":"#N/A"}]
[null,"",{"$f":"IFERROR(VLOOKUP(A53,'1.Портфель кредитів'!A:AC,3,FALSE),\"\")","v":""},{"$f":"IFERROR(VLOOKUP(A53,'1.Портфель кредитів'!A:AC,14,FALSE),\"\")","v":""},null,null,null,null,null,null,null,null,null,null,null,null,"","",null,{"$f":"IFERROR(VLOOKUP(A53,'1.Портфель кредитів'!A:AC,30,FALSE),\"\")","v":""},0,{"$error":"#VALUE!"},null,null,null,null,null,{"$f":"VLOOKUP(C53,Hidden_Словник!$A$2:C$81,3,FALSE)","v":{"$error":"#N/A"}},0,{"$f":"VLOOKUP(E53,Hidden_Словник!$W$2:$X$13,2,FALSE)","v":{"$error":"#N/A"}},0,{"$error":"#N/A"}]
[null,"",{"$f":"IFERROR(VLOOKUP(A54,'1.Портфель кредитів'!A:AC,3,FALSE),\"\")","v":""},{"$f":"IFERROR(VLOOKUP(A54,'1.Портфель кредитів'!A:AC,14,FALSE),\"\")","v":""},null,null,null,null,null,null,null,null,null,null,null,null,"","",null,{"$f":"IFERROR(VLOOKUP(A54,'1.Портфель кредитів'!A:AC,30,FALSE),\"\")","v":""},0,{"$error":"#VALUE!"},null,null,null,null,null,{"$f":"VLOOKUP(C54,Hidden_Словник!$A$2:C$81,3,FALSE)","v":{"$error":"#N/A"}},0,{"$f":"VLOOKUP(E54,Hidden_Словник!$W$2:$X$13,2,FALSE)","v":{"$error":"#N/A"}},0,{"$error":"#N/A"}]
[null,"",{"$f":"IFERROR(VLOOKUP(A55,'1.Портфель кредитів'!A:AC,3,FALSE),\"\")","v":""},{"$f":"IFERROR(VLOOKUP(A55,'1.Портфель кредитів'!A:AC,14,FALSE),\"\")","v":""},null,null,null,null,null,null,null,null,null,null,null,null,"","",null,{"$f":"IFERROR(VLOOKUP(A55,'1.Портфель кредитів'!A:AC,30,FALSE),\"\")","v":""},0,{"$error":"#VALUE!"},null,null,null,null,null,{"$f":"VLOOKUP(C55,Hidden_Словник!$A$2:C$81,3,FALSE)","v":{"$error":"#N/A"}},0,{"$f":"VLOOKUP(E55,Hidden_Словник!$W$2:$X$13,2,FALSE)","v":{"$error":"#N/A"}},0,{"$error":"#N/A"}]
[null,"",{"$f":"IFERROR(VLOOKUP(A56,'1.Портфель кредитів'!A:AC,3,FALSE),\"\")","v":""},{"$f":"IFERROR(VLOOKUP(A56,'1.Портфель кредитів'!A:AC,14,FALSE),\"\")","v":""},null,null,null,null,null,null,null,null,null,null,null,null,"","",null,{"$f":"IFERROR(VLOOKUP(A56,'1.Портфель кредитів'!A:AC,30,FALSE),\"\")","v":""},0,{"$error":"#VALUE!"},null,null,null,null,null,{"$f":"VLOOKUP(C56,Hidden_Словник!$A$2:C$81,3,FALSE)","v":{"$error":"#N/A"}},0,{"$f":"VLOOKUP(E56,Hidden_Словник!$W$2:$X$13,2,FALSE)","v":{"$error":"#N/A"}},0,{"$error":"#N/A"}]
[null,"",{"$f":"IFERROR(VLOOKUP(A57,'1.Портфель кредитів'!A:AC,3,FALSE),\"\")","v":""},{"$f":"IFERROR(VLOOKUP(A57,'1.Портфель кредитів'!A:AC,14,FALSE),\"\")","v":""},null,null,null,null,null,null,null,null,null,null,null,null,"","",null,{"$f":"IFERROR(VLOOKUP(A57,'1.Портфель кредитів'!A:AC,30,FALSE),\"\")","v":""},0,{"$error":"#VALUE!"},null,null,null,null,null,{"$f":"VLOOKUP(C57,Hidden_Словник!$A$2:C$81,3,FALSE)","v":{"$error":"#N/A"}},0,{"$f":"VLOOKUP(E57,Hidden_Словник!$W$2:$X$13,2,FALSE)","v":{"$error":"#N/A"}},0,{"$error":"#N/A"}]
[null,"",{"$f":"IFERROR(VLOOKUP(A58,'1.Портфель кредитів'!A:AC,3,FALSE),\"\")","v":""},{"$f":"IFERROR(VLOOKUP(A58,'1.Портфель кредитів'!A:AC,14,FALSE),\"\")","v":""},null,null,null,null,null,null,null,null,null,null,null,null,"","",null,{"$f":"IFERROR(VLOOKUP(A58,'1.Портфель кредитів'!A:AC,30,FALSE),\"\")","v":""},0,{"$error":"#VALUE!"},null,null,null,null,null,{"$f":"VLOOKUP(C58,Hidden_Словник!$A$2:C$81,3,FALSE)","v":{"$error":"#N/A"}},0,{"$f":"VLOOKUP(E58,Hidden_Словник!$W$2:$X$13,2,FALSE)","v":{"$error":"#N/A"}},0,{"$error":"#N/A"}]
[null,"",{"$f":"IFERROR(VLOOKUP(A59,'1.Портфель кредитів'!A:AC,3,FALSE),\"\")","v":""},{"$f":"IFERROR(VLOOKUP(A59,'1.Портфель кредитів'!A:AC,14,FALSE),\"\")","v":""},null,null,null,null,null,null,null,null,null,null,null,null,"","",null,{"$f":"IFERROR(VLOOKUP(A59,'1.Портфель кредитів'!A:AC,30,FALSE),\"\")","v":""},0,{"$error":"#VALUE!"},null,null,null,null,null,{"$f":"VLOOKUP(C59,Hidden_Словник!$A$2:C$81,3,FALSE)","v":{"$error":"#N/A"}},0,{"$f":"VLOOKUP(E59,Hidden_Словник!$W$2:$X$13,2,FALSE)","v":{"$error":"#N/A"}},0,{"$error":"#N/A"}]
[null,"",{"$f":"IFERROR(VLOOKUP(A60,'1.Портфель кредитів'!A:AC,3,FALSE),\"\")","v":""},{"$f":"IFERROR(VLOOKUP(A60,'1.Портфель кредитів'!A:AC,14,FALSE),\"\")","v":""},null,null,null,null,null,null,null,null,null,null,null,null,"","",null,{"$f":"IFERROR(VLOOKUP(A60,'1.Портфель кредитів'!A:AC,30,FALSE),\"\")","v":""},0,{"$error":"#VALUE!"},null,null,null,null,null,{"$f":"VLOOKUP(C60,Hidden_Словник!$A$2:C$81,3,FALSE)","v":{"$error":"#N/A"}},0,{"$f":"VLOOKUP(E60,Hidden_Словник!$W$2:$X$13,2,FALSE)","v":{"$error":"#N/A"}},0,{"$error":"#N/A"}]
[null,"",{"$f":"IFERROR(VLOOKUP(A61,'1.Портфель кредитів'!A:AC,3,FALSE),\"\")","v":""},{"$f":"IFERROR(VLOOKUP(A61,'1.Портфель кредитів'!A:AC,14,FALSE),\"\")","v":""},null,null,null,null,null,null,null,null,null,null,null,null,"","",null,{"$f":"IFERROR(VLOOKUP(A61,'1.Портфель кредитів'!A:AC,30,FALSE),\"\")","v":""},0,{"$error":"#VALUE!"},null,null,null,null,null,{"$f":"VLOOKUP(C61,Hidden_Словник!$A$2:C$81,3,FALSE)","v":{"$error":"#N/A"}},0,{"$f":"VLOOKUP(E61,Hidden_Словник!$W$2:$X$13,2,FALSE)","v":{"$error":"#N/A"}},0,{"$error":"#N/A"}]
[null,"",{"$f":"IFERROR(VLOOKUP(A62,'1.Портфель кредитів'!A:AC,3,FALSE),\"\")","v":""},{"$f":"IFERROR(VLOOKUP(A62,'1.Портфель кредитів'!A:AC,14,FALSE),\"\")","v":""},null,null,null,null,null,null,null,null,null,null,null,null,"","",null,{"$f":"IFERROR(VLOOKUP(A62,'1.Портфель кредитів'!A:AC,30,FALSE),\"\")","v":""},0,{"$error":"#VALUE!"},null,null,null,null,null,{"$f":"VLOOKUP(C62,Hidden_Словник!$A$2:C$81,3,FALSE)","v":{"$error":"#N/A"}},0,{"$f":"VLOOKUP(E62,Hidden_Словник!$W$2:$X$13,2,FALSE)","v":{"$error":"#N/A"}},0,{"$error":"#N/A"}]
[null,"",{"$f":"IFERROR(VLOOKUP(A63,'1.Портфель кредитів'!A:AC,3,FALSE),\"\")","v":""},{"$f":"IFERROR(VLOOKUP(A63,'1.Портфель кредитів'!A:AC,14,FALSE),\"\")","v":""},null,null,null,null,null,null,null,null,null,null,null,null,"","",null,{"$f":"IFERROR(VLOOKUP(A63,'1.Портфель кредитів'!A:AC,30,FALSE),\"\")","v":""},0,{"$f":"T63/U63","v":{"$error":"#VALUE!"}},null,null,null,null,null,{"$f":"VLOOKUP(C63,Hidden_Словник!$A$2:C$81,3,FALSE)","v":{"$error":"#N/A"}},0,{"$f":"VLOOKUP(E63,Hidden_Словник!$W$2:$X$13,2,FALSE)","v":{"$error":"#N/A"}},0,{"$error":"#N/A"}]
[null,"",{"$f":"IFERROR(VLOOKUP(A64,'1.Портфель кредитів'!A:AC,3,FALSE),\"\")","v":""},{"$f":"IFERROR(VLOOKUP(A64,'1.Портфель кредитів'!A:AC,14,FALSE),\"\")","v":""},null,null,null,null,null,null,null,null,null,null,null,null,"","",null,{"$f":"IFERROR(VLOOKUP(A64,'1.Портфель кредитів'!A:AC,30,FALSE),\"\")","v":""},0,{"$error":"#VALUE!"},null,null,null,null,null,{"$f":"VLOOKUP(C64,Hidden_Словник!$A$2:C$81,3,FALSE)","v":{"$error":"#N/A"}},0,{"$f":"VLOOKUP(E64,Hidden_Словник!$W$2:$X$13,2,FALSE)","v":{"$error":"#N/A"}},0,{"$error":"#N/A"}]
[null,"",{"$f":"IFERROR(VLOOKUP(A65,'1.Портфель кредитів'!A:AC,3,FALSE),\"\")","v":""},{"$f":"IFERROR(VLOOKUP(A65,'1.Портфель кредитів'!A:AC,14,FALSE),\"\")","v":""},null,null,null,null,null,null,null,null,null,null,null,null,"","",null,{"$f":"IFERROR(VLOOKUP(A65,'1.Портфель кредитів'!A:AC,30,FALSE),\"\")","v":""},0,{"$error":"#VALUE!"},null,null,null,null,null,{"$f":"VLOOKUP(C65,Hidden_Словник!$A$2:C$81,3,FALSE)","v":{"$error":"#N/A"}},0,{"$f":"VLOOKUP(E65,Hidden_Словник!$W$2:$X$13,2,FALSE)","v":{"$error":"#N/A"}},0,{"$error":"#N/A"}]
[null,"",{"$f":"IFERROR(VLOOKUP(A66,'1.Портфель кредитів'!A:AC,3,FALSE),\"\")","v":""},{"$f":"IFERROR(VLOOKUP(A66,'1.Портфель кредитів'!A:AC,14,FALSE),\"\")","v":""},null,null,null,null,null,null,null,null,null,null,null,null,"","",null,{"$f":"IFERROR(VLOOKUP(A66,'1.Портфель кредитів'!A:AC,30,FALSE),\"\")","v":""},0,{"$error":"#VALUE!"},null,null,null,null,null,{"$f":"VLOOKUP(C66,Hidden_Словник!$A$2:C$81,3,FALSE)","v":{"$error":"#N/A"}},0,{"$f":"VLOOKUP(E66,Hidden_Словник!$W$2:$X$13,2,FALSE)","v":{"$error":"#N/A"}},0,{"$error":"#N/A"}]
[null,"",{"$f":"IFERROR(VLOOKUP(A67,'1.Портфель кредитів'!A:AC,3,FALSE),\"\")","v":""},{"$f":"IFERROR(VLOOKUP(A67,'1.Портфель кредитів'!A:AC,14,FALSE),\"\")","v":""},null,null,null,null,null,null,null,null,null,null,null,null,"","",null,{"$f":"IFERROR(VLOOKUP(A67,'1.Портфель кредитів'!A:AC,30,FALSE),\"\")","v":""},0,{"$error":"#VALUE!"},null,null,null,null,null,{"$f":"VLOOKUP(C67,Hidden_Словник!$A$2:C$81,3,FALSE)","v":{"$error":"#N/A"}},0,{"$f":"VLOOKUP(E67,Hidden_Словник!$W$2:$X$13,2,FALSE)","v":{"$error":"#N/A"}},0,{"$error":"#N/A"}]
[null,"",{"$f":"IFERROR(VLOOKUP(A68,'1.Портфель кредитів'!A:AC,3,FALSE),\"\")","v":""},{"$f":"IFERROR(VLOOKUP(A68,'1.Портфель кредитів'!A:AC,14,FALSE),\"\")","v":""},null,null,null,null,null,null,null,null,null,null,null,null,"","",null,{"$f":"IFERROR(VLOOKUP(A68,'1.Портфель кредитів'!A:AC,30,FALSE),\"\")","v":""},0,{"$error":"#VALUE!"},null,null,null,null,null,{"$f":"VLOOKUP(C68,Hidden_Словник!$A$2:C$81,3,FALSE)","v":{"$error":"#N/A"}},0,{"$f":"VLOOKUP(E68,Hidden_Словник!$W$2:$X$13,2,FALSE)","v":{"$error":"#N/A"}},0,{"$error":"#N/A"}]
[null,"",{"$f":"IFERROR(VLOOKUP(A69,'1.Портфель кредитів'!A:AC,3,FALSE),\"\")","v":""},{"$f":"IFERROR(VLOOKUP(A69,'1.Портфель кредитів'!A:AC,14,FALSE),\"\")","v":""},null,null,null,null,null,null,null,null,null,null,null,null,"","",null,{"$f":"IFERROR(VLOOKUP(A69,'1.Портфель кредитів'!A:AC,30,FALSE),\"\")","v":""},0,{"$error":"#VALUE!"},null,null,null,null,null,{"$f":"VLOOKUP(C69,Hidden_Словник!$A$2:C$81,3,FALSE)","v":{"$error":"#N/A"}},0,{"$f":"VLOOKUP(E69,Hidden_Словник!$W$2:$X$13,2,FALSE)","v":{"$error":"#N/A"}},0,{"$error":"#N/A"}]
[null,"",{"$f":"IFERROR(VLOOKUP(A70,'1.Портфель кредитів'!A:AC,3,FALSE),\"\")","v":""},{"$f":"IFERROR(VLOOKUP(A70,'1.Портфель кредитів'!A:AC,14,FALSE),\"\")","v":""},null,null,null,null,null,null,null,null,null,null,null,null,"","",null,{"$f":"IFERROR(VLOOKUP(A70,'1.Портфель кредитів'!A:AC,30,FALSE),\"\")","v":""},0,{"$error":"#VALUE!"},null,null,null,null,null,{"$f":"VLOOKUP(C70,Hidden_Словник!$A$2:C$81,3,FALSE)","v":{"$error":"#N/A"}},0,{"$f":"VLOOKUP(E70,Hidden_Словник!$W$2:$X$13,2,FALSE)","v":{"$error":"#N/A"}},0,{"$error":"#N/A"}]
[null,"",{"$f":"IFERROR(VLOOKUP(A71,'1.Портфель кредитів'!A:AC,3,FALSE),\"\")","v":""},{"$f":"IFERROR(VLOOKUP(A71,'1.Портфель кредитів'!A:AC,14,FALSE),\"\")","v":""},null,null,null,null,null,null,null,null,null,null,null,null,"","",null,{"$f":"IFERROR(VLOOKUP(A71,'1.Портфель кредитів'!A:AC,30,FALSE),\"\")","v":""},0,{"$error":"#VALUE!"},null,null,null,null,null,{"$f":"VLOOKUP(C71,Hidden_Словник!$A$2:C$81,3,FALSE)","v":{"$error":"#N/A"}},0,{"$f":"VLOOKUP(E71,Hidden_Словник!$W$2:$X$13,2,FALSE)","v":{"$error":"#N/A"}},0,{"$error":"#N/A"}]
[null,"",{"$f":"IFERROR(VLOOKUP(A72,'1.Портфель кредитів'!A:AC,3,FALSE),\"\")","v":""},{"$f":"IFERROR(VLOOKUP(A72,'1.Портфель кредитів'!A:AC,14,FALSE),\"\")","v":""},null,null,null,null,null,null,null,null,null,null,null,null,"","",null,{"$f":"IFERROR(VLOOKUP(A72,'1.Портфель кредитів'!A:AC,30,FALSE),\"\")","v":""},0,{"$error":"#VALUE!"},null,null,null,null,null,{"$f":"VLOOKUP(C72,Hidden_Словник!$A$2:C$81,3,FALSE)","v":{"$error":"#N/A"}},0,{"$f":"VLOOKUP(E72,Hidden_Словник!$W$2:$X$13,2,FALSE)","v":{"$error":"#N/A"}},0,{"$error":"#N/A"}]
[null,"",{"$f":"IFERROR(VLOOKUP(A73,'1.Портфель кредитів'!A:AC,3,FALSE),\"\")","v":""},{"$f":"IFERROR(VLOOKUP(A73,'1.Портфель кредитів'!A:AC,14,FALSE),\"\")","v":""},null,null,null,null,null,null,null,null,null,null,null,null,"","",null,{"$f":"IFERROR(VLOOKUP(A73,'1.Портфель кредитів'!A:AC,30,FALSE),\"\")","v":""},0,{"$error":"#VALUE!"},null,null,null,null,null,{"$f":"VLOOKUP(C73,Hidden_Словник!$A$2:C$81,3,FALSE)","v":{"$error":"#N/A"}},0,{"$f":"VLOOKUP(E73,Hidden_Словник!$W$2:$X$13,2,FALSE)","v":{"$error":"#N/A"}},0,{"$error":"#N/A"}]
[null,"",{"$f":"IFERROR(VLOOKUP(A74,'1.Портфель кредитів'!A:AC,3,FALSE),\"\")","v":""},{"$f":"IFERROR(VLOOKUP(A74,'1.Портфель кредитів'!A:AC,14,FALSE),\"\")","v":""},null,null,null,null,null,null,null,null,null,null,null,null,"","",null,{"$f":"IFERROR(VLOOKUP(A74,'1.Портфель кредитів'!A:AC,30,FALSE),\"\")","v":""},0,{"$error":"#VALUE!"},null,null,null,null,null,{"$f":"VLOOKUP(C74,Hidden_Словник!$A$2:C$81,3,FALSE)","v":{"$error":"#N/A"}},0,{"$f":"VLOOKUP(E74,Hidden_Словник!$W$2:$X$13,2,FALSE)","v":{"$error":"#N/A"}},0,{"$error":"#N/A"}]
[null,"",{"$f":"IFERROR(VLOOKUP(A75,'1.Портфель кредитів'!A:AC,3,FALSE),\"\")","v":""},{"$f":"IFERROR(VLOOKUP(A75,'1.Портфель кредитів'!A:AC,14,FALSE),\"\")","v":""},null,null,null,null,null,null,null,null,null,null,null,null,"","",null,{"$f":"IFERROR(VLOOKUP(A75,'1.Портфель кредитів'!A:AC,30,FALSE),\"\")","v":""},0,{"$error":"#VALUE!"},null,null,null,null,null,{"$f":"VLOOKUP(C75,Hidden_Словник!$A$2:C$81,3,FALSE)","v":{"$error":"#N/A"}},0,{"$f":"VLOOKUP(E75,Hidden_Словник!$W$2:$X$13,2,FALSE)","v":{"$error":"#N/A"}},0,{"$error":"#N/A"}]
[null,"",{"$f":"IFERROR(VLOOKUP(A76,'1.Портфель кредитів'!A:AC,3,FALSE),\"\")","v":""},{"$f":"IFERROR(VLOOKUP(A76,'1.Портфель кредитів'!A:AC,14,FALSE),\"\")","v":""},null,null,null,null,null,null,null,null,null,null,null,null,"","",null,{"$f":"IFERROR(VLOOKUP(A76,'1.Портфель кредитів'!A:AC,30,FALSE),\"\")","v":""},0,{"$error":"#VALUE!"},null,null,null,null,null,{"$f":"VLOOKUP(C76,Hidden_Словник!$A$2:C$81,3,FALSE)","v":{"$error":"#N/A"}},0,{"$f":"VLOOKUP(E76,Hidden_Словник!$W$2:$X$13,2,FALSE)","v":{"$error":"#N/A"}},0,{"$error":"#N/A"}]
[null,"",{"$f":"IFERROR(VLOOKUP(A77,'1.Портфель кредитів'!A:AC,3,FALSE),\"\")","v":""},{"$f":"IFERROR(VLOOKUP(A77,'1.Портфель кредитів'!A:AC,14,FALSE),\"\")","v":""},null,null,null,null,null,null,null,null,null,null,null,null,"","",null,{"$f":"IFERROR(VLOOKUP(A77,'1.Портфель кредитів'!A:AC,30,FALSE),\"\")","v":""},0,{"$error":"#VALUE!"},null,null,null,null,null,{"$f":"VLOOKUP(C77,Hidden_Словник!$A$2:C$81,3,FALSE)","v":{"$error":"#N/A"}},0,{"$f":"VLOOKUP(E77,Hidden_Словник!$W$2:$X$13,2,FALSE)","v":{"$error":"#N/A"}},0,{"$error":"#N/A"}]
[null,"",{"$f":"IFERROR(VLOOKUP(A78,'1.Портфель кредитів'!A:AC,3,FALSE),\"\")","v":""},{"$f":"IFERROR(VLOOKUP(A78,'1.Портфель кредитів'!A:AC,14,FALSE),\"\")","v":""},null,null,null,null,null,null,null,null,null,null,null,null,"","",null,{"$f":"IFERROR(VLOOKUP(A78,'1.Портфель кредитів'!A:AC,30,FALSE),\"\")","v":""},0,{"$error":"#VALUE!"},null,null,null,null,null,{"$f":"VLOOKUP(C78,Hidden_Словник!$A$2:C$81,3,FALSE)","v":{"$error":"#N/A"}},0,{"$f":"VLOOKUP(E78,Hidden_Словник!$W$2:$X$13,2,FALSE)","v":{"$error":"#N/A"}},0,{"$error":"#N/A"}]
[null,"",{"$f":"IFERROR(VLOOKUP(A79,'1.Портфель кредитів'!A:AC,3,FALSE),\"\")","v":""},{"$f":"IFERROR(VLOOKUP(A79,'1.Портфель кредитів'!A:AC,14,FALSE),\"\")","v":""},null,null,null,null,null,null,null,null,null,null,null,null,"","",null,{"$f":"IFERROR(VLOOKUP(A79,'1.Портфель кредитів'!A:AC,30,FALSE),\"\")","v":""},0,{"$error":"#VALUE!"},null,null,null,null,null,{"$f":"VLOOKUP(C79,Hidden_Словник!$A$2:C$81,3,FALSE)","v":{"$error":"#N/A"}},0,{"$f":"VLOOKUP(E79,Hidden_Словник!$W$2:$X$13,2,FALSE)","v":{"$error":"#N/A"}},0,{"$error":"#N/A"}]
[null,"",{"$f":"IFERROR(VLOOKUP(A80,'1.Портфель кредитів'!A:AC,3,FALSE),\"\")","v":""},{"$f":"IFERROR(VLOOKUP(A80,'1.Портфель кредитів'!A:AC,14,FALSE),\"\")","v":""},null,null,null,null,null,null,null,null,null,null,null,null,"","",null,{"$f":"IFERROR(VLOOKUP(A80,'1.Портфель кредитів'!A:AC,30,FALSE),\"\")","v":""},0,{"$error":"#VALUE!"},null,null,null,null,null,{"$f":"VLOOKUP(C80,Hidden_Словник!$A$2:C$81,3,FALSE)","v":{"$error":"#N/A"}},0,{"$f":"VLOOKUP(E80,Hidden_Словник!$W$2:$X$13,2,FALSE)","v":{"$error":"#N/A"}},0,{"$error":"#N/A"}]
[null,"",{"$f":"IFERROR(VLOOKUP(A81,'1.Портфель кредитів'!A:AC,3,FALSE),\"\")","v":""},{"$f":"IFERROR(VLOOKUP(A81,'1.Портфель кредитів'!A:AC,14,FALSE),\"\")","v":""},null,null,null,null,null,null,null,null,null,null,null,null,"","",null,{"$f":"IFERROR(VLOOKUP(A81,'1.Портфель кредитів'!A:AC,30,FALSE),\"\")","v":""},0,{"$error":"#VALUE!"},null,null,null,null,null,{"$f":"VLOOKUP(C81,Hidden_Словник!$A$2:C$81,3,FALSE)","v":{"$error":"#N/A"}},0,{"$f":"VLOOKUP(E81,Hidden_Словник!$W$2:$X$13,2,FALSE)","v":{"$error":"#N/A"}},0,{"$error":"#N/A"}]
[null,"",{"$f":"IFERROR(VLOOKUP(A82,'1.Портфель кредитів'!A:AC,3,FALSE),\"\")","v":""},{"$f":"IFERROR(VLOOKUP(A82,'1.Портфель кредитів'!A:AC,14,FALSE),\"\")","v":""},null,null,null,null,null,null,null,null,null,null,null,null,"","",null,{"$f":"IFERROR(VLOOKUP(A82,'1.Портфель кредитів'!A:AC,30,FALSE),\"\")","v":""},0,{"$error":"#VALUE!"},null,null,null,null,null,{"$f":"VLOOKUP(C82,Hidden_Словник!$A$2:C$81,3,FALSE)","v":{"$error":"#N/A"}},0,{"$f":"VLOOKUP(E82,Hidden_Словник!$W$2:$X$13,2,FALSE)","v":{"$error":"#N/A"}},0,{"$error":"#N/A"}]
[null,"",{"$f":"IFERROR(VLOOKUP(A83,'1.Портфель кредитів'!A:AC,3,FALSE),\"\")","v":""},{"$f":"IFERROR(VLOOKUP(A83,'1.Портфель кредитів'!A:AC,14,FALSE),\"\")","v":""},null,null,null,null,null,null,null,null,null,null,null,null,"","",null,{"$f":"IFERROR(VLOOKUP(A83,'1.Портфель кредитів'!A:AC,30,FALSE),\"\")","v":""},0,{"$error":"#VALUE!"},null,null,null,null,null,{"$f":"VLOOKUP(C83,Hidden_Словник!$A$2:C$81,3,FALSE)","v":{"$error":"#N/A"}},0,{"$f":"VLOOKUP(E83,Hidden_Словник!$W$2:$X$13,2,FALSE)","v":{"$error":"#N/A"}},0,{"$error":"#N/A"}]
[null,"",{"$f":"IFERROR(VLOOKUP(A84,'1.Портфель кредитів'!A:AC,3,FALSE),\"\")","v":""},{"$f":"IFERROR(VLOOKUP(A84,'1.Портфель кредитів'!A:AC,14,FALSE),\"\")","v":""},null,null,null,null,null,null,null,null,null,null,null,null,"","",null,{"$f":"IFERROR(VLOOKUP(A84,'1.Портфель кредитів'!A:AC,30,FALSE),\"\")","v":""},0,{"$error":"#VALUE!"},null,null,null,null,null,{"$f":"VLOOKUP(C84,Hidden_Словник!$A$2:C$81,3,FALSE)","v":{"$error":"#N/A"}},0,{"$f":"VLOOKUP(E84,Hidden_Словник!$W$2:$X$13,2,FALSE)","v":{"$error":"#N/A"}},0,{"$error":"#N/A"}]
[null,"",{"$f":"IFERROR(VLOOKUP(A85,'1.Портфель кредитів'!A:AC,3,FALSE),\"\")","v":""},{"$f":"IFERROR(VLOOKUP(A85,'1.Портфель кредитів'!A:AC,14,FALSE),\"\")","v":""},null,null,null,null,null,null,null,null,null,null,null,null,"","",null,{"$f":"IFERROR(VLOOKUP(A85,'1.Портфель кредитів'!A:AC,30,FALSE),\"\")","v":""},0,{"$error":"#VALUE!"},null,null,null,null,null,{"$f":"VLOOKUP(C85,Hidden_Словник!$A$2:C$81,3,FALSE)","v":{"$error":"#N/A"}},0,{"$f":"VLOOKUP(E85,Hidden_Словник!$W$2:$X$13,2,FALSE)","v":{"$error":"#N/A"}},0,{"$error":"#N/A"}]
[null,"",{"$f":"IFERROR(VLOOKUP(A86,'1.Портфель кредитів'!A:AC,3,FALSE),\"\")","v":""},{"$f":"IFERROR(VLOOKUP(A86,'1.Портфель кредитів'!A:AC,14,FALSE),\"\")","v":""},null,null,null,null,null,null,null,null,null,null,null,null,"",{"$f":"IFERROR(V86*L86,\"\")","v":""},null,{"$f":"IFERROR(VLOOKUP(A86,'1.Портфель кредитів'!A:AC,30,FALSE),\"\")","v":""},0,{"$error":"#VALUE!"},null,null,null,null,null,{"$f":"VLOOKUP(C86,Hidden_Словник!$A$2:C$81,3,FALSE)","v":{"$error":"#N/A"}},{"$f":"ROUNDUP(L86,0)","v":0},{"$f":"VLOOKUP(E86,Hidden_Словник!$W$2:$X$13,2,FALSE)","v":{"$error":"#N/A"}},{"$f":"O86","v":0},{"$error":"#N/A"}]
[null,{"$f":"IFERROR(AF87,\"\")","v":""},{"$f":"IFERROR(VLOOKUP(A87,'1.Портфель кредитів'!A:AC,3,FALSE),\"\")","v":""},{"$f":"IFERROR(VLOOKUP(A87,'1.Портфель кредитів'!A:AC,14,FALSE),\"\")","v":""},null,null,null,null,null,null,null,null,null,null,null,null,"","",null,{"$f":"IFERROR(VLOOKUP(A87,'1.Портфель кредитів'!A:AC,30,FALSE),\"\")","v":""},0,{"$error":"#VALUE!"},null,null,null,null,null,{"$f":"VLOOKUP(C87,Hidden_Словник!$A$2:C$81,3,FALSE)","v":{"$error":"#N/A"}},0,{"$f":"VLOOKUP(E87,Hidden_Словник!$W$2:$X$13,2,FALSE)","v":{"$error":"#N/A"}},0,{"$f":"AB87&\"_\"&AC87&AD87&AE87","v":{"$error":"#N/A"}}]
[null,"",{"$f":"IFERROR(VLOOKUP(A88,'1.Портфель кредитів'!A:AC,3,FALSE),\"\")","v":""},{"$f":"IFERROR(VLOOKUP(A88,'1.Портфель кредитів'!A:AC,14,FALSE),\"\")","v":""},null,null,null,null,null,null,null,null,null,null,null,null,"","",null,{"$f":"IFERROR(VLOOKUP(A88,'1.Портфель кредитів'!A:AC,30,FALSE),\"\")","v":""},0,{"$error":"#VALUE!"},null,null,null,null,null,{"$f":"VLOOKUP(C88,Hidden_Словник!$A$2:C$81,3,FALSE)","v":{"$error":"#N/A"}},0,{"$f":"VLOOKUP(E88,Hidden_Словник!$W$2:$X$13,2,FALSE)","v":{"$error":"#N/A"}},0,{"$error":"#N/A"}]
[null,"",{"$f":"IFERROR(VLOOKUP(A89,'1.Портфель кредитів'!A:AC,3,FALSE),\"\")","v":""},{"$f":"IFERROR(VLOOKUP(A89,'1.Портфель кредитів'!A:AC,14,FALSE),\"\")","v":""},null,null,null,null,null,null,null,null,null,null,null,null,"","",null,{"$f":"IFERROR(VLOOKUP(A89,'1.Портфель кредитів'!A:AC,30,FALSE),\"\")","v":""},0,{"$error":"#VALUE!"},null,null,null,null,null,{"$f":"VLOOKUP(C89,Hidden_Словник!$A$2:C$81,3,FALSE)","v":{"$error":"#N/A"}},0,{"$f":"VLOOKUP(E89,Hidden_Словник!$W$2:$X$13,2,FALSE)","v":{"$error":"#N/A"}},0,{"$error":"#N/A"}]
[null,"",{"$f":"IFERROR(VLOOKUP(A90,'1.Портфель кредитів'!A:AC,3,FALSE),\"\")","v":""},{"$f":"IFERROR(VLOOKUP(A90,'1.Портфель кредитів'!A:AC,14,FALSE),\"\")","v":""},null,null,null,null,null,null,null,null,null,null,null,null,{"$f":"IF(O90=\"\",\"\",IF(COUNTIF(AF:AF,AF90)>1,\"так\",\"ні\"))","v":""},"",null,{"$f":"IFERROR(VLOOKUP(A90,'1.Портфель кредитів'!A:AC,30,FALSE),\"\")","v":""},{"$f":"SUMIF(B:B,B90,T:T)","v":0},{"$error":"#VALUE!"},null,null,null,null,null,{"$f":"VLOOKUP(C90,Hidden_Словник!$A$2:C$81,3,FALSE)","v":{"$error":"#N/A"}},0,{"$f":"VLOOKUP(E90,Hidden_Словник!$W$2:$X$13,2,FALSE)","v":{"$error":"#N/A"}},0,{"$error":"#N/A"}]
[null,"",{"$f":"IFERROR(VLOOKUP(A91,'1.Портфель кредитів'!A:AC,3,FALSE),\"\")","v":""},{"$f":"IFERROR(VLOOKUP(A91,'1.Портфель кредитів'!A:AC,14,FALSE),\"\")","v":""},null,null,null,null,null,null,null,null,null,null,null,null,"","",null,{"$f":"IFERROR(VLOOKUP(A91,'1.Портфель кредитів'!A:AC,30,FALSE),\"\")","v":""},0,{"$error":"#VALUE!"},null,null,null,null,null,{"$f":"VLOOKUP(C91,Hidden_Словник!$A$2:C$81,3,FALSE)","v":{"$error":"#N/A"}},0,{"$f":"VLOOKUP(E91,Hidden_Словник!$W$2:$X$13,2,FALSE)","v":{"$error":"#N/A"}},0,{"$error":"#N/A"}]
[null,"",{"$f":"IFERROR(VLOOKUP(A92,'1.Портфель кредитів'!A:AC,3,FALSE),\"\")","v":""},{"$f":"IFERROR(VLOOKUP(A92,'1.Портфель кредитів'!A:AC,14,FALSE),\"\")","v":""},null,null,null,null,null,null,null,null,null,null,null,null,"","",null,{"$f":"IFERROR(VLOOKUP(A92,'1.Портфель кредитів'!A:AC,30,FALSE),\"\")","v":""},0,{"$error":"#VALUE!"},null,null,null,null,null,{"$f":"VLOOKUP(C92,Hidden_Словник!$A$2:C$81,3,FALSE)","v":{"$error":"#N/A"}},0,{"$f":"VLOOKUP(E92,Hidden_Словник!$W$2:$X$13,2,FALSE)","v":{"$error":"#N/A"}},0,{"$error":"#N/A"}]
[null,"",{"$f":"IFERROR(VLOOKUP(A93,'1.Портфель кредитів'!A:AC,3,FALSE),\"\")","v":""},{"$f":"IFERROR(VLOOKUP(A93,'1.Портфель кредитів'!A:AC,14,FALSE),\"\")","v":""},null,null,null,null,null,null,null,null,null,null,null,null,"","",null,{"$f":"IFERROR(VLOOKUP(A93,'1.Портфель кредитів'!A:AC,30,FALSE),\"\")","v":""},0,{"$error":"#VALUE!"},null,null,null,null,null,{"$f":"VLOOKUP(C93,Hidden_Словник!$A$2:C$81,3,FALSE)","v":{"$error":"#N/A"}},0,{"$f":"VLOOKUP(E93,Hidden_Словник!$W$2:$X$13,2,FALSE)","v":{"$error":"#N/A"}},0,{"$error":"#N/A"}]
[null,"",{"$f":"IFERROR(VLOOKUP(A94,'1.Портфель кредитів'!A:AC,3,FALSE),\"\")","v":""},{"$f":"IFERROR(VLOOKUP(A94,'1.Портфель кредитів'!A:AC,14,FALSE),\"\")","v":""},null,null,null,null,null,null,null,null,null,null,null,null,"","",null,{"$f":"IFERROR(VLOOKUP(A94,'1.Портфель кредитів'!A:AC,30,FALSE),\"\")","v":""},0,{"$error":"#VALUE!"},null,null,null,null,null,{"$f":"VLOOKUP(C94,Hidden_Словник!$A$2:C$81,3,FALSE)","v":{"$error":"#N/A"}},0,{"$f":"VLOOKUP(E94,Hidden_Словник!$W$2:$X$13,2,FALSE)","v":{"$error":"#N/A"}},0,{"$error":"#N/A"}]
[null,"",{"$f":"IFERROR(VLOOKUP(A95,'1.Портфель кредитів'!A:AC,3,FALSE),\"\")","v":""},{"$f":"IFERROR(VLOOKUP(A95,'1.Портфель кредитів'!A:AC,14,FALSE),\"\")","v":""},null,null,null,null,null,null,null,null,null,null,null,null,"","",null,{"$f":"IFERROR(VLOOKUP(A95,'1.Портфель кредитів'!A:AC,30,FALSE),\"\")","v":""},0,{"$error":"#VALUE!"},null,null,null,null,null,{"$f":"VLOOKUP(C95,Hidden_Словник!$A$2:C$81,3,FALSE)","v":{"$error":"#N/A"}},0,{"$f":"VLOOKUP(E95,Hidden_Словник!$W$2:$X$13,2,FALSE)","v":{"$error":"#N/A"}},0,{"$error":"#N/A"}]
[null,"",{"$f":"IFERROR(VLOOKUP(A96,'1.Портфель кредитів'!A:AC,3,FALSE),\"\")","v":""},{"$f":"IFERROR(VLOOKUP(A96,'1.Портфель кредитів'!A:AC,14,FALSE),\"\")","v":""},null,null,null,null,null,null,null,null,null,null,null,null,"","",null,{"$f":"IFERROR(VLOOKUP(A96,'1.Портфель кредитів'!A:AC,30,FALSE),\"\")","v":""},0,{"$error":"#VALUE!"},null,null,null,null,null,{"$f":"VLOOKUP(C96,Hidden_Словник!$A$2:C$81,3,FALSE)","v":{"$error":"#N/A"}},0,{"$f":"VLOOKUP(E96,Hidden_Словник!$W$2:$X$13,2,FALSE)","v":{"$error":"#N/A"}},0,{"$error":"#N/A"}]
[null,"",{"$f":"IFERROR(VLOOKUP(A97,'1.Портфель кредитів'!A:AC,3,FALSE),\"\")","v":""},{"$f":"IFERROR(VLOOKUP(A97,'1.Портфель кредитів'!A:AC,14,FALSE),\"\")","v":""},null,null,null,null,null,null,null,null,null,null,null,null,"","",null,{"$f":"IFERROR(VLOOKUP(A97,'1.Портфель кредитів'!A:AC,30,FALSE),\"\")","v":""},0,{"$error":"#VALUE!"},null,null,null,null,null,{"$f":"VLOOKUP(C97,Hidden_Словник!$A$2:C$81,3,FALSE)","v":{"$error":"#N/A"}},0,{"$f":"VLOOKUP(E97,Hidden_Словник!$W$2:$X$13,2,FALSE)","v":{"$error":"#N/A"}},0,{"$error":"#N/A"}]
[null,"",{"$f":"IFERROR(VLOOKUP(A98,'1.Портфель кредитів'!A:AC,3,FALSE),\"\")","v":""},{"$f":"IFERROR(VLOOKUP(A98,'1.Портфель кредитів'!A:AC,14,FALSE),\"\")","v":""},null,null,null,null,null,null,null,null,null,null,null,null,"","",null,{"$f":"IFERROR(VLOOKUP(A98,'1.Портфель кредитів'!A:AC,30,FALSE),\"\")","v":""},0,{"$error":"#VALUE!"},null,null,null,null,null,{"$f":"VLOOKUP(C98,Hidden_Словник!$A$2:C$81,3,FALSE)","v":{"$error":"#N/A"}},0,{"$f":"VLOOKUP(E98,Hidden_Словник!$W$2:$X$13,2,FALSE)","v":{"$error":"#N/A"}},0,{"$error":"#N/A"}]
[null,"",{"$f":"IFERROR(VLOOKUP(A99,'1.Портфель кредитів'!A:AC,3,FALSE),\"\")","v":""},{"$f":"IFERROR(VLOOKUP(A99,'1.Портфель кредитів'!A:AC,14,FALSE),\"\")","v":""},null,null,null,null,null,null,null,null,null,null,null,null,"","",null,{"$f":"IFERROR(VLOOKUP(A99,'1.Портфель кредитів'!A:AC,30,FALSE),\"\")","v":""},0,{"$error":"#VALUE!"},null,null,null,null,null,{"$f":"VLOOKUP(C99,Hidden_Словник!$A$2:C$81,3,FALSE)","v":{"$error":"#N/A"}},0,{"$f":"VLOOKUP(E99,Hidden_Словник!$W$2:$X$13,2,FALSE)","v":{"$error":"#N/A"}},0,{"$error":"#N/A"}]
[null,"",{"$f":"IFERROR(VLOOKUP(A100,'1.Портфель кредитів'!A:AC,3,FALSE),\"\")","v":""},{"$f":"IFERROR(VLOOKUP(A100,'1.Портфель кредитів'!A:AC,14,FALSE),\"\")","v":""},null,null,null,null,null,null,null,null,null,null,null,null,"","",null,{"$f":"IFERROR(VLOOKUP(A100,'1.Портфель кредитів'!A:AC,30,FALSE),\"\")","v":""},0,{"$error":"#VALUE!"},null,null,null,null,null,{"$f":"VLOOKUP(C100,Hidden_Словник!$A$2:C$81,3,FALSE)","v":{"$error":"#N/A"}},0,{"$f":"VLOOKUP(E100,Hidden_Словник!$W$2:$X$13,2,FALSE)","v":{"$error":"#N/A"}},0,{"$error":"#N/A"}]
[null,"",{"$f":"IFERROR(VLOOKUP(A101,'1.Портфель кредитів'!A:AC,3,FALSE),\"\")","v":""},{"$f":"IFERROR(VLOOKUP(A101,'1.Портфель кредитів'!A:AC,14,FALSE),\"\")","v":""},null,null,null,null,null,null,null,null,null,null,null,null,"","",null,{"$f":"IFERROR(VLOOKUP(A101,'1.Портфель кредитів'!A:AC,30,FALSE),\"\")","v":""},0,{"$error":"#VALUE!"},null,null,null,null,null,{"$f":"VLOOKUP(C101,Hidden_Словник!$A$2:C$81,3,FALSE)","v":{"$error":"#N/A"}},0,{"$f":"VLOOKUP(E101,Hidden_Словник!$W$2:$X$13,2,FALSE)","v":{"$error":"#N/A"}},0,{"$error":"#N/A"}]
[null,"",{"$f":"IFERROR(VLOOKUP(A102,'1.Портфель кредитів'!A:AC,3,FALSE),\"\")","v":""},{"$f":"IFERROR(VLOOKUP(A102,'1.Портфель кредитів'!A:AC,14,FALSE),\"\")","v":""},null,null,null,null,null,null,null,null,null,null,null,null,"","",null,{"$f":"IFERROR(VLOOKUP(A102,'1.Портфель кредитів'!A:AC,30,FALSE),\"\")","v":""},0,{"$error":"#VALUE!"},null,null,null,null,null,{"$f":"VLOOKUP(C102,Hidden_Словник!$A$2:C$81,3,FALSE)","v":{"$error":"#N/A"}},0,{"$f":"VLOOKUP(E102,Hidden_Словник!$W$2:$X$13,2,FALSE)","v":{"$error":"#N/A"}},0,{"$error":"#N/A"}]
[null,"",{"$f":"IFERROR(VLOOKUP(A103,'1.Портфель кредитів'!A:AC,3,FALSE),\"\")","v":""},{"$f":"IFERROR(VLOOKUP(A103,'1.Портфель кредитів'!A:AC,14,FALSE),\"\")","v":""},null,null,null,null,null,null,null,null,null,null,null,null,"","",null,{"$f":"IFERROR(VLOOKUP(A103,'1.Портфель кредитів'!A:AC,30,FALSE),\"\")","v":""},0,{"$error":"#VALUE!"},null,null,null,null,null,{"$f":"VLOOKUP(C103,Hidden_Словник!$A$2:C$81,3,FALSE)","v":{"$error":"#N/A"}},0,{"$f":"VLOOKUP(E103,Hidden_Словник!$W$2:$X$13,2,FALSE)","v":{"$error":"#N/A"}},0,{"$error":"#N/A"}]
[null,"",{"$f":"IFERROR(VLOOKUP(A104,'1.Портфель кредитів'!A:AC,3,FALSE),\"\")","v":""},{"$f":"IFERROR(VLOOKUP(A104,'1.Портфель кредитів'!A:AC,14,FALSE),\"\")","v":""},null,null,null,null,null,null,null,null,null,null,null,null,"","",null,{"$f":"IFERROR(VLOOKUP(A104,'1.Портфель кредитів'!A:AC,30,FALSE),\"\")","v":""},0,{"$error":"#VALUE!"},null,null,null,null,null,{"$f":"VLOOKUP(C104,Hidden_Словник!$A$2:C$81,3,FALSE)","v":{"$error":"#N/A"}},0,{"$f":"VLOOKUP(E104,Hidden_Словник!$W$2:$X$13,2,FALSE)","v":{"$error":"#N/A"}},0,{"$error":"#N/A"}]
[null,"",{"$f":"IFERROR(VLOOKUP(A105,'1.Портфель кредитів'!A:AC,3,FALSE),\"\")","v":""},{"$f":"IFERROR(VLOOKUP(A105,'1.Портфель кредитів'!A:AC,14,FALSE),\"\")","v":""},null,null,null,null,null,null,null,null,null,null,null,null,"","",null,{"$f":"IFERROR(VLOOKUP(A105,'1.Портфель кредитів'!A:AC,30,FALSE),\"\")","v":""},0,{"$error":"#VALUE!"},null,null,null,null,null,{"$f":"VLOOKUP(C105,Hidden_Словник!$A$2:C$81,3,FALSE)","v":{"$error":"#N/A"}},0,{"$f":"VLOOKUP(E105,Hidden_Словник!$W$2:$X$13,2,FALSE)","v":{"$error":"#N/A"}},0,{"$error":"#N/A"}]
[null,"",{"$f":"IFERROR(VLOOKUP(A106,'1.Портфель кредитів'!A:AC,3,FALSE),\"\")","v":""},{"$f":"IFERROR(VLOOKUP(A106,'1.Портфель кредитів'!A:AC,14,FALSE),\"\")","v":""},null,null,null,null,null,null,null,null,null,null,null,null,"","",null,{"$f":"IFERROR(VLOOKUP(A106,'1.Портфель кредитів'!A:AC,30,FALSE),\"\")","v":""},0,{"$error":"#VALUE!"},null,null,null,null,null,{"$f":"VLOOKUP(C106,Hidden_Словник!$A$2:C$81,3,FALSE)","v":{"$error":"#N/A"}},0,{"$f":"VLOOKUP(E106,Hidden_Словник!$W$2:$X$13,2,FALSE)","v":{"$error":"#N/A"}},0,{"$error":"#N/A"}]
[null,"",{"$f":"IFERROR(VLOOKUP(A107,'1.Портфель кредитів'!A:AC,3,FALSE),\"\")","v":""},{"$f":"IFERROR(VLOOKUP(A107,'1.Портфель кредитів'!A:AC,14,FALSE),\"\")","v":""},null,null,null,null,null,null,null,null,null,null,null,null,"","",null,{"$f":"IFERROR(VLOOKUP(A107,'1.Портфель кредитів'!A:AC,30,FALSE),\"\")","v":""},0,{"$error":"#VALUE!"},null,null,null,null,null,{"$f":"VLOOKUP(C107,Hidden_Словник!$A$2:C$81,3,FALSE)","v":{"$error":"#N/A"}},0,{"$f":"VLOOKUP(E107,Hidden_Словник!$W$2:$X$13,2,FALSE)","v":{"$error":"#N/A"}},0,{"$error":"#N/A"}]
[null,"",{"$f":"IFERROR(VLOOKUP(A108,'1.Портфель кредитів'!A:AC,3,FALSE),\"\")","v":""},{"$f":"IFERROR(VLOOKUP(A108,'1.Портфель кредитів'!A:AC,14,FALSE),\"\")","v":""},null,null,null,null,null,null,null,null,null,null,null,null,"","",null,{"$f":"IFERROR(VLOOKUP(A108,'1.Портфель кредитів'!A:AC,30,FALSE),\"\")","v":""},0,{"$error":"#VALUE!"},null,null,null,null,null,{"$f":"VLOOKUP(C108,Hidden_Словник!$A$2:C$81,3,FALSE)","v":{"$error":"#N/A"}},0,{"$f":"VLOOKUP(E108,Hidden_Словник!$W$2:$X$13,2,FALSE)","v":{"$error":"#N/A"}},0,{"$error":"#N/A"}]
[null,"",{"$f":"IFERROR(VLOOKUP(A109,'1.Портфель кредитів'!A:AC,3,FALSE),\"\")","v":""},{"$f":"IFERROR(VLOOKUP(A109,'1.Портфель кредитів'!A:AC,14,FALSE),\"\")","v":""},null,null,null,null,null,null,null,null,null,null,null,null,"","",null,{"$f":"IFERROR(VLOOKUP(A109,'1.Портфель кредитів'!A:AC,30,FALSE),\"\")","v":""},0,{"$error":"#VALUE!"},null,null,null,null,null,{"$f":"VLOOKUP(C109,Hidden_Словник!$A$2:C$81,3,FALSE)","v":{"$error":"#N/A"}},0,{"$f":"VLOOKUP(E109,Hidden_Словник!$W$2:$X$13,2,FALSE)","v":{"$error":"#N/A"}},0,{"$error":"#N/A"}]
[null,"",{"$f":"IFERROR(VLOOKUP(A110,'1.Портфель кредитів'!A:AC,3,FALSE),\"\")","v":""},{"$f":"IFERROR(VLOOKUP(A110,'1.Портфель кредитів'!A:AC,14,FALSE),\"\")","v":""},null,null,null,null,null,null,null,null,null,null,null,null,"","",null,{"$f":"IFERROR(VLOOKUP(A110,'1.Портфель кредитів'!A:AC,30,FALSE),\"\")","v":""},0,{"$error":"#VALUE!"},null,null,null,null,null,{"$f":"VLOOKUP(C110,Hidden_Словник!$A$2:C$81,3,FALSE)","v":{"$error":"#N/A"}},0,{"$f":"VLOOKUP(E110,Hidden_Словник!$W$2:$X$13,2,FALSE)","v":{"$error":"#N/A"}},0,{"$error":"#N/A"}]
[null,"",{"$f":"IFERROR(VLOOKUP(A111,'1.Портфель кредитів'!A:AC,3,FALSE),\"\")","v":""},{"$f":"IFERROR(VLOOKUP(A111,'1.Портфель кредитів'!A:AC,14,FALSE),\"\")","v":""},null,null,null,null,null,null,null,null,null,null,null,null,"","",null,{"$f":"IFERROR(VLOOKUP(A111,'1.Портфель кредитів'!A:AC,30,FALSE),\"\")","v":""},0,{"$error":"#VALUE!"},null,null,null,null,null,{"$f":"VLOOKUP(C111,Hidden_Словник!$A$2:C$81,3,FALSE)","v":{"$error":"#N/A"}},0,{"$f":"VLOOKUP(E111,Hidden_Словник!$W$2:$X$13,2,FALSE)","v":{"$error":"#N/A"}},0,{"$error":"#N/A"}]
[null,"",{"$f":"IFERROR(VLOOKUP(A112,'1.Портфель кредитів'!A:AC,3,FALSE),\"\")","v":""},{"$f":"IFERROR(VLOOKUP(A112,'1.Портфель кредитів'!A:AC,14,FALSE),\"\")","v":""},null,null,null,null,null,null,null,null,null,null,null,null,"","",null,{"$f":"IFERROR(VLOOKUP(A112,'1.Портфель кредитів'!A:AC,30,FALSE),\"\")","v":""},0,{"$error":"#VALUE!"},null,null,null,null,null,{"$f":"VLOOKUP(C112,Hidden_Словник!$A$2:C$81,3,FALSE)","v":{"$error":"#N/A"}},0,{"$f":"VLOOKUP(E112,Hidden_Словник!$W$2:$X$13,2,FALSE)","v":{"$error":"#N/A"}},0,{"$error":"#N/A"}]
[null,"",{"$f":"IFERROR(VLOOKUP(A113,'1.Портфель кредитів'!A:AC,3,FALSE),\"\")","v":""},{"$f":"IFERROR(VLOOKUP(A113,'1.Портфель кредитів'!A:AC,14,FALSE),\"\")","v":""},null,null,null,null,null,null,null,null,null,null,null,null,"","",null,{"$f":"IFERROR(VLOOKUP(A113,'1.Портфель кредитів'!A:AC,30,FALSE),\"\")","v":""},0,{"$error":"#VALUE!"},null,null,null,null,null,{"$f":"VLOOKUP(C113,Hidden_Словник!$A$2:C$81,3,FALSE)","v":{"$error":"#N/A"}},0,{"$f":"VLOOKUP(E113,Hidden_Словник!$W$2:$X$13,2,FALSE)","v":{"$error":"#N/A"}},0,{"$error":"#N/A"}]
[null,"",{"$f":"IFERROR(VLOOKUP(A114,'1.Портфель кредитів'!A:AC,3,FALSE),\"\")","v":""},{"$f":"IFERROR(VLOOKUP(A114,'1.Портфель кредитів'!A:AC,14,FALSE),\"\")","v":""},null,null,null,null,null,null,null,null,null,null,null,null,"","",null,{"$f":"IFERROR(VLOOKUP(A114,'1.Портфель кредитів'!A:AC,30,FALSE),\"\")","v":""},0,{"$error":"#VALUE!"},null,null,null,null,null,{"$f":"VLOOKUP(C114,Hidden_Словник!$A$2:C$81,3,FALSE)","v":{"$error":"#N/A"}},0,{"$f":"VLOOKUP(E114,Hidden_Словник!$W$2:$X$13,2,FALSE)","v":{"$error":"#N/A"}},0,{"$error":"#N/A"}]
[null,"",{"$f":"IFERROR(VLOOKUP(A115,'1.Портфель кредитів'!A:AC,3,FALSE),\"\")","v":""},{"$f":"IFERROR(VLOOKUP(A115,'1.Портфель кредитів'!A:AC,14,FALSE),\"\")","v":""},null,null,null,null,null,null,null,null,null,null,null,null,"","",null,{"$f":"IFERROR(VLOOKUP(A115,'1.Портфель кредитів'!A:AC,30,FALSE),\"\")","v":""},0,{"$error":"#VALUE!"},null,null,null,null,null,{"$f":"VLOOKUP(C115,Hidden_Словник!$A$2:C$81,3,FALSE)","v":{"$error":"#N/A"}},0,{"$f":"VLOOKUP(E115,Hidden_Словник!$W$2:$X$13,2,FALSE)","v":{"$error":"#N/A"}},0,{"$error":"#N/A"}]
[null,"",{"$f":"IFERROR(VLOOKUP(A116,'1.Портфель кредитів'!A:AC,3,FALSE),\"\")","v":""},{"$f":"IFERROR(VLOOKUP(A116,'1.Портфель кредитів'!A:AC,14,FALSE),\"\")","v":""},null,null,null,null,null,null,null,null,null,null,null,null,"","",null,{"$f":"IFERROR(VLOOKUP(A116,'1.Портфель кредитів'!A:AC,30,FALSE),\"\")","v":""},0,{"$error":"#VALUE!"},null,null,null,null,null,{"$f":"VLOOKUP(C116,Hidden_Словник!$A$2:C$81,3,FALSE)","v":{"$error":"#N/A"}},0,{"$f":"VLOOKUP(E116,Hidden_Словник!$W$2:$X$13,2,FALSE)","v":{"$error":"#N/A"}},0,{"$error":"#N/A"}]
[null,"",{"$f":"IFERROR(VLOOKUP(A117,'1.Портфель кредитів'!A:AC,3,FALSE),\"\")","v":""},{"$f":"IFERROR(VLOOKUP(A117,'1.Портфель кредитів'!A:AC,14,FALSE),\"\")","v":""},null,null,null,null,null,null,null,null,null,null,null,null,"","",null,{"$f":"IFERROR(VLOOKUP(A117,'1.Портфель кредитів'!A:AC,30,FALSE),\"\")","v":""},0,{"$error":"#VALUE!"},null,null,null,null,null,{"$f":"VLOOKUP(C117,Hidden_Словник!$A$2:C$81,3,FALSE)","v":{"$error":"#N/A"}},0,{"$f":"VLOOKUP(E117,Hidden_Словник!$W$2:$X$13,2,FALSE)","v":{"$error":"#N/A"}},0,{"$error":"#N/A"}]
[null,"",{"$f":"IFERROR(VLOOKUP(A118,'1.Портфель кредитів'!A:AC,3,FALSE),\"\")","v":""},{"$f":"IFERROR(VLOOKUP(A118,'1.Портфель кредитів'!A:AC,14,FALSE),\"\")","v":""},null,null,null,null,null,null,null,null,null,null,null,null,"","",null,{"$f":"IFERROR(VLOOKUP(A118,'1.Портфель кредитів'!A:AC,30,FALSE),\"\")","v":""},0,{"$error":"#VALUE!"},null,null,null,null,null,{"$f":"VLOOKUP(C118,Hidden_Словник!$A$2:C$81,3,FALSE)","v":{"$error":"#N/A"}},0,{"$f":"VLOOKUP(E118,Hidden_Словник!$W$2:$X$13,2,FALSE)","v":{"$error":"#N/A"}},0,{"$error":"#N/A"}]
[null,"",{"$f":"IFERROR(VLOOKUP(A119,'1.Портфель кредитів'!A:AC,3,FALSE),\"\")","v":""},{"$f":"IFERROR(VLOOKUP(A119,'1.Портфель кредитів'!A:AC,14,FALSE),\"\")","v":""},null,null,null,null,null,null,null,null,null,null,null,null,"","",null,{"$f":"IFERROR(VLOOKUP(A119,'1.Портфель кредитів'!A:AC,30,FALSE),\"\")","v":""},0,{"$error":"#VALUE!"},null,null,null,null,null,{"$f":"VLOOKUP(C119,Hidden_Словник!$A$2:C$81,3,FALSE)","v":{"$error":"#N/A"}},0,{"$f":"VLOOKUP(E119,Hidden_Словник!$W$2:$X$13,2,FALSE)","v":{"$error":"#N/A"}},0,{"$error":"#N/A"}]
[null,"",{"$f":"IFERROR(VLOOKUP(A120,'1.Портфель кредитів'!A:AC,3,FALSE),\"\")","v":""},{"$f":"IFERROR(VLOOKUP(A120,'1.Портфель кредитів'!A:AC,14,FALSE),\"\")","v":""},null,null,null,null,null,null,null,null,null,null,null,null,"","",null,{"$f":"IFERROR(VLOOKUP(A120,'1.Портфель кредитів'!A:AC,30,FALSE),\"\")","v":""},0,{"$error":"#VALUE!"},null,null,null,null,null,{"$f":"VLOOKUP(C120,Hidden_Словник!$A$2:C$81,3,FALSE)","v":{"$error":"#N/A"}},0,{"$f":"VLOOKUP(E120,Hidden_Словник!$W$2:$X$13,2,FALSE)","v":{"$error":"#N/A"}},0,{"$error":"#N/A"}]
[null,"",{"$f":"IFERROR(VLOOKUP(A121,'1.Портфель кредитів'!A:AC,3,FALSE),\"\")","v":""},{"$f":"IFERROR(VLOOKUP(A121,'1.Портфель кредитів'!A:AC,14,FALSE),\"\")","v":""},null,null,null,null,null,null,null,null,null,null,null,null,"","",null,{"$f":"IFERROR(VLOOKUP(A121,'1.Портфель кредитів'!A:AC,30,FALSE),\"\")","v":""},0,{"$error":"#VALUE!"},null,null,null,null,null,{"$f":"VLOOKUP(C121,Hidden_Словник!$A$2:C$81,3,FALSE)","v":{"$error":"#N/A"}},0,{"$f":"VLOOKUP(E121,Hidden_Словник!$W$2:$X$13,2,FALSE)","v":{"$error":"#N/A"}},0,{"$error":"#N/A"}]
[null,"",{"$f":"IFERROR(VLOOKUP(A122,'1.Портфель кредитів'!A:AC,3,FALSE),\"\")","v":""},{"$f":"IFERROR(VLOOKUP(A122,'1.Портфель кредитів'!A:AC,14,FALSE),\"\")","v":""},null,null,null,null,null,null,null,null,null,null,null,null,"","",null,{"$f":"IFERROR(VLOOKUP(A122,'1.Портфель кредитів'!A:AC,30,FALSE),\"\")","v":""},0,{"$error":"#VALUE!"},null,null,null,null,null,{"$f":"VLOOKUP(C122,Hidden_Словник!$A$2:C$81,3,FALSE)","v":{"$error":"#N/A"}},0,{"$f":"VLOOKUP(E122,Hidden_Словник!$W$2:$X$13,2,FALSE)","v":{"$error":"#N/A"}},0,{"$error":"#N/A"}]
[null,"",{"$f":"IFERROR(VLOOKUP(A123,'1.Портфель кредитів'!A:AC,3,FALSE),\"\")","v":""},{"$f":"IFERROR(VLOOKUP(A123,'1.Портфель кредитів'!A:AC,14,FALSE),\"\")","v":""},null,null,null,null,null,null,null,null,null,null,null,null,"","",null,{"$f":"IFERROR(VLOOKUP(A123,'1.Портфель кредитів'!A:AC,30,FALSE),\"\")","v":""},0,{"$error":"#VALUE!"},null,null,null,null,null,{"$f":"VLOOKUP(C123,Hidden_Словник!$A$2:C$81,3,FALSE)","v":{"$error":"#N/A"}},0,{"$f":"VLOOKUP(E123,Hidden_Словник!$W$2:$X$13,2,FALSE)","v":{"$error":"#N/A"}},0,{"$error":"#N/A"}]
[null,"",{"$f":"IFERROR(VLOOKUP(A124,'1.Портфель кредитів'!A:AC,3,FALSE),\"\")","v":""},{"$f":"IFERROR(VLOOKUP(A124,'1.Портфель кредитів'!A:AC,14,FALSE),\"\")","v":""},null,null,null,null,null,null,null,null,null,null,null,null,"","",null,{"$f":"IFERROR(VLOOKUP(A124,'1.Портфель кредитів'!A:AC,30,FALSE),\"\")","v":""},0,{"$error":"#VALUE!"},null,null,null,null,null,{"$f":"VLOOKUP(C124,Hidden_Словник!$A$2:C$81,3,FALSE)","v":{"$error":"#N/A"}},0,{"$f":"VLOOKUP(E124,Hidden_Словник!$W$2:$X$13,2,FALSE)","v":{"$error":"#N/A"}},0,{"$error":"#N/A"}]
[null,"",{"$f":"IFERROR(VLOOKUP(A125,'1.Портфель кредитів'!A:AC,3,FALSE),\"\")","v":""},{"$f":"IFERROR(VLOOKUP(A125,'1.Портфель кредитів'!A:AC,14,FALSE),\"\")","v":""},null,null,null,null,null,null,null,null,null,null,null,null,"","",null,{"$f":"IFERROR(VLOOKUP(A125,'1.Портфель кредитів'!A:AC,30,FALSE),\"\")","v":""},0,{"$error":"#VALUE!"},null,null,null,null,null,{"$f":"VLOOKUP(C125,Hidden_Словник!$A$2:C$81,3,FALSE)","v":{"$error":"#N/A"}},0,{"$f":"VLOOKUP(E125,Hidden_Словник!$W$2:$X$13,2,FALSE)","v":{"$error":"#N/A"}},0,{"$error":"#N/A"}]
[null,"",{"$f":"IFERROR(VLOOKUP(A126,'1.Портфель кредитів'!A:AC,3,FALSE),\"\")","v":""},{"$f":"IFERROR(VLOOKUP(A126,'1.Портфель кредитів'!A:AC,14,FALSE),\"\")","v":""},null,null,null,null,null,null,null,null,null,null,null,null,"","",null,{"$f":"IFERROR(VLOOKUP(A126,'1.Портфель кредитів'!A:AC,30,FALSE),\"\")","v":""},0,{"$error":"#VALUE!"},null,null,null,null,null,{"$f":"VLOOKUP(C126,Hidden_Словник!$A$2:C$81,3,FALSE)","v":{"$error":"#N/A"}},0,{"$f":"VLOOKUP(E126,Hidden_Словник!$W$2:$X$13,2,FALSE)","v":{"$error":"#N/A"}},0,{"$error":"#N/A"}]
[null,"",{"$f":"IFERROR(VLOOKUP(A127,'1.Портфель кредитів'!A:AC,3,FALSE),\"\")","v":""},{"$f":"IFERROR(VLOOKUP(A127,'1.Портфель кредитів'!A:AC,14,FALSE),\"\")","v":""},null,null,null,null,null,null,null,null,null,null,null,null,"","",null,{"$f":"IFERROR(VLOOKUP(A127,'1.Портфель кредитів'!A:AC,30,FALSE),\"\")","v":""},0,{"$f":"T127/U127","v":{"$error":"#VALUE!"}},null,null,null,null,null,{"$f":"VLOOKUP(C127,Hidden_Словник!$A$2:C$81,3,FALSE)","v":{"$error":"#N/A"}},0,{"$f":"VLOOKUP(E127,Hidden_Словник!$W$2:$X$13,2,FALSE)","v":{"$error":"#N/A"}},0,{"$error":"#N/A"}]
[null,"",{"$f":"IFERROR(VLOOKUP(A128,'1.Портфель кредитів'!A:AC,3,FALSE),\"\")","v":""},{"$f":"IFERROR(VLOOKUP(A128,'1.Портфель кредитів'!A:AC,14,FALSE),\"\")","v":""},null,null,null,null,null,null,null,null,null,null,null,null,"","",null,{"$f":"IFERROR(VLOOKUP(A128,'1.Портфель кредитів'!A:AC,30,FALSE),\"\")","v":""},0,{"$error":"#VALUE!"},null,null,null,null,null,{"$f":"VLOOKUP(C128,Hidden_Словник!$A$2:C$81,3,FALSE)","v":{"$error":"#N/A"}},0,{"$f":"VLOOKUP(E128,Hidden_Словник!$W$2:$X$13,2,FALSE)","v":{"$error":"#N/A"}},0,{"$error":"#N/A"}]
[null,"",{"$f":"IFERROR(VLOOKUP(A129,'1.Портфель кредитів'!A:AC,3,FALSE),\"\")","v":""},{"$f":"IFERROR(VLOOKUP(A129,'1.Портфель кредитів'!A:AC,14,FALSE),\"\")","v":""},null,null,null,null,null,null,null,null,null,null,null,null,"","",null,{"$f":"IFERROR(VLOOKUP(A129,'1.Портфель кредитів'!A:AC,30,FALSE),\"\")","v":""},0,{"$error":"#VALUE!"},null,null,null,null,null,{"$f":"VLOOKUP(C129,Hidden_Словник!$A$2:C$81,3,FALSE)","v":{"$error":"#N/A"}},0,{"$f":"VLOOKUP(E129,Hidden_Словник!$W$2:$X$13,2,FALSE)","v":{"$error":"#N/A"}},0,{"$error":"#N/A"}]
[null,"",{"$f":"IFERROR(VLOOKUP(A130,'1.Портфель кредитів'!A:AC,3,FALSE),\"\")","v":""},{"$f":"IFERROR(VLOOKUP(A130,'1.Портфель кредитів'!A:AC,14,FALSE),\"\")","v":""},null,null,null,null,null,null,null,null,null,null,null,null,"","",null,{"$f":"IFERROR(VLOOKUP(A130,'1.Портфель кредитів'!A:AC,30,FALSE),\"\")","v":""},0,{"$error":"#VALUE!"},null,null,null,null,null,{"$f":"VLOOKUP(C130,Hidden_Словник!$A$2:C$81,3,FALSE)","v":{"$error":"#N/A"}},0,{"$f":"VLOOKUP(E130,Hidden_Словник!$W$2:$X$13,2,FALSE)","v":{"$error":"#N/A"}},0,{"$error":"#N/A"}]
[null,"",{"$f":"IFERROR(VLOOKUP(A131,'1.Портфель кредитів'!A:AC,3,FALSE),\"\")","v":""},{"$f":"IFERROR(VLOOKUP(A131,'1.Портфель кредитів'!A:AC,14,FALSE),\"\")","v":""},null,null,null,null,null,null,null,null,null,null,null,null,"","",null,{"$f":"IFERROR(VLOOKUP(A131,'1.Портфель кредитів'!A:AC,30,FALSE),\"\")","v":""},0,{"$error":"#VALUE!"},null,null,null,null,null,{"$f":"VLOOKUP(C131,Hidden_Словник!$A$2:C$81,3,FALSE)","v":{"$error":"#N/A"}},0,{"$f":"VLOOKUP(E131,Hidden_Словник!$W$2:$X$13,2,FALSE)","v":{"$error":"#N/A"}},0,{"$error":"#N/A"}]
[null,"",{"$f":"IFERROR(VLOOKUP(A132,'1.Портфель кредитів'!A:AC,3,FALSE),\"\")","v":""},{"$f":"IFERROR(VLOOKUP(A132,'1.Портфель кредитів'!A:AC,14,FALSE),\"\")","v":""},null,null,null,null,null,null,null,null,null,null,null,null,"","",null,{"$f":"IFERROR(VLOOKUP(A132,'1.Портфель кредитів'!A:AC,30,FALSE),\"\")","v":""},0,{"$error":"#VALUE!"},null,null,null,null,null,{"$f":"VLOOKUP(C132,Hidden_Словник!$A$2:C$81,3,FALSE)","v":{"$error":"#N/A"}},0,{"$f":"VLOOKUP(E132,Hidden_Словник!$W$2:$X$13,2,FALSE)","v":{"$error":"#N/A"}},0,{"$error":"#N/A"}]
[null,"",{"$f":"IFERROR(VLOOKUP(A133,'1.Портфель кредитів'!A:AC,3,FALSE),\"\")","v":""},{"$f":"IFERROR(VLOOKUP(A133,'1.Портфель кредитів'!A:AC,14,FALSE),\"\")","v":""},null,null,null,null,null,null,null,null,null,null,null,null,"","",null,{"$f":"IFERROR(VLOOKUP(A133,'1.Портфель кредитів'!A:AC,30,FALSE),\"\")","v":""},0,{"$error":"#VALUE!"},null,null,null,null,null,{"$f":"VLOOKUP(C133,Hidden_Словник!$A$2:C$81,3,FALSE)","v":{"$error":"#N/A"}},0,{"$f":"VLOOKUP(E133,Hidden_Словник!$W$2:$X$13,2,FALSE)","v":{"$error":"#N/A"}},0,{"$error":"#N/A"}]
[null,"",{"$f":"IFERROR(VLOOKUP(A134,'1.Портфель кредитів'!A:AC,3,FALSE),\"\")","v":""},{"$f":"IFERROR(VLOOKUP(A134,'1.Портфель кредитів'!A:AC,14,FALSE),\"\")","v":""},null,null,null,null,null,null,null,null,null,null,null,null,"","",null,{"$f":"IFERROR(VLOOKUP(A134,'1.Портфель кредитів'!A:AC,30,FALSE),\"\")","v":""},0,{"$error":"#VALUE!"},null,null,null,null,null,{"$f":"VLOOKUP(C134,Hidden_Словник!$A$2:C$81,3,FALSE)","v":{"$error":"#N/A"}},0,{"$f":"VLOOKUP(E134,Hidden_Словник!$W$2:$X$13,2,FALSE)","v":{"$error":"#N/A"}},0,{"$error":"#N/A"}]
[null,"",{"$f":"IFERROR(VLOOKUP(A135,'1.Портфель кредитів'!A:AC,3,FALSE),\"\")","v":""},{"$f":"IFERROR(VLOOKUP(A135,'1.Портфель кредитів'!A:AC,14,FALSE),\"\")","v":""},null,null,null,null,null,null,null,null,null,null,null,null,"","",null,{"$f":"IFERROR(VLOOKUP(A135,'1.Портфель кредитів'!A:AC,30,FALSE),\"\")","v":""},0,{"$error":"#VALUE!"},null,null,null,null,null,{"$f":"VLOOKUP(C135,Hidden_Словник!$A$2:C$81,3,FALSE)","v":{"$error":"#N/A"}},0,{"$f":"VLOOKUP(E135,Hidden_Словник!$W$2:$X$13,2,FALSE)","v":{"$error":"#N/A"}},0,{"$error":"#N/A"}]
[null,"",{"$f":"IFERROR(VLOOKUP(A136,'1.Портфель кредитів'!A:AC,3,FALSE),\"\")","v":""},{"$f":"IFERROR(VLOOKUP(A136,'1.Портфель кредитів'!A:AC,14,FALSE),\"\")","v":""},null,null,null,null,null,null,null,null,null,null,null,null,"","",null,{"$f":"IFERROR(VLOOKUP(A136,'1.Портфель кредитів'!A:AC,30,FALSE),\"\")","v":""},0,{"$error":"#VALUE!"},null,null,null,null,null,{"$f":"VLOOKUP(C136,Hidden_Словник!$A$2:C$81,3,FALSE)","v":{"$error":"#N/A"}},0,{"$f":"VLOOKUP(E136,Hidden_Словник!$W$2:$X$13,2,FALSE)","v":{"$error":"#N/A"}},0,{"$error":"#N/A"}]
[null,"",{"$f":"IFERROR(VLOOKUP(A137,'1.Портфель кредитів'!A:AC,3,FALSE),\"\")","v":""},{"$f":"IFERROR(VLOOKUP(A137,'1.Портфель кредитів'!A:AC,14,FALSE),\"\")","v":""},null,null,null,null,null,null,null,null,null,null,null,null,"","",null,{"$f":"IFERROR(VLOOKUP(A137,'1.Портфель кредитів'!A:AC,30,FALSE),\"\")","v":""},0,{"$error":"#VALUE!"},null,null,null,null,null,{"$f":"VLOOKUP(C137,Hidden_Словник!$A$2:C$81,3,FALSE)","v":{"$error":"#N/A"}},0,{"$f":"VLOOKUP(E137,Hidden_Словник!$W$2:$X$13,2,FALSE)","v":{"$error":"#N/A"}},0,{"$error":"#N/A"}]
[null,"",{"$f":"IFERROR(VLOOKUP(A138,'1.Портфель кредитів'!A:AC,3,FALSE),\"\")","v":""},{"$f":"IFERROR(VLOOKUP(A138,'1.Портфель кредитів'!A:AC,14,FALSE),\"\")","v":""},null,null,null,null,null,null,null,null,null,null,null,null,"","",null,{"$f":"IFERROR(VLOOKUP(A138,'1.Портфель кредитів'!A:AC,30,FALSE),\"\")","v":""},0,{"$error":"#VALUE!"},null,null,null,null,null,{"$f":"VLOOKUP(C138,Hidden_Словник!$A$2:C$81,3,FALSE)","v":{"$error":"#N/A"}},0,{"$f":"VLOOKUP(E138,Hidden_Словник!$W$2:$X$13,2,FALSE)","v":{"$error":"#N/A"}},0,{"$error":"#N/A"}]
[null,"",{"$f":"IFERROR(VLOOKUP(A139,'1.Портфель кредитів'!A:AC,3,FALSE),\"\")","v":""},{"$f":"IFERROR(VLOOKUP(A139,'1.Портфель кредитів'!A:AC,14,FALSE),\"\")","v":""},null,null,null,null,null,null,null,null,null,null,null,null,"","",null,{"$f":"IFERROR(VLOOKUP(A139,'1.Портфель кредитів'!A:AC,30,FALSE),\"\")","v":""},0,{"$error":"#VALUE!"},null,null,null,null,null,{"$f":"VLOOKUP(C139,Hidden_Словник!$A$2:C$81,3,FALSE)","v":{"$error":"#N/A"}},0,{"$f":"VLOOKUP(E139,Hidden_Словник!$W$2:$X$13,2,FALSE)","v":{"$error":"#N/A"}},0,{"$error":"#N/A"}]
[null,"",{"$f":"IFERROR(VLOOKUP(A140,'1.Портфель кредитів'!A:AC,3,FALSE),\"\")","v":""},{"$f":"IFERROR(VLOOKUP(A140,'1.Портфель кредитів'!A:AC,14,FALSE),\"\")","v":""},null,null,null,null,null,null,null,null,null,null,null,null,"","",null,{"$f":"IFERROR(VLOOKUP(A140,'1.Портфель кредитів'!A:AC,30,FALSE),\"\")","v":""},0,{"$error":"#VALUE!"},null,null,null,null,null,{"$f":"VLOOKUP(C140,Hidden_Словник!$A$2:C$81,3,FALSE)","v":{"$error":"#N/A"}},0,{"$f":"VLOOKUP(E140,Hidden_Словник!$W$2:$X$13,2,FALSE)","v":{"$error":"#N/A"}},0,{"$error":"#N/A"}]
[null,"",{"$f":"IFERROR(VLOOKUP(A141,'1.Портфель кредитів'!A:AC,3,FALSE),\"\")","v":""},{"$f":"IFERROR(VLOOKUP(A141,'1.Портфель кредитів'!A:AC,14,FALSE),\"\")","v":""},null,null,null,null,null,null,null,null,null,null,null,null,"","",null,{"$f":"IFERROR(VLOOKUP(A141,'1.Портфель кредитів'!A:AC,30,FALSE),\"\")","v":""},0,{"$error":"#VALUE!"},null,null,null,null,null,{"$f":"VLOOKUP(C141,Hidden_Словник!$A$2:C$81,3,FALSE)","v":{"$error":"#N/A"}},0,{"$f":"VLOOKUP(E141,Hidden_Словник!$W$2:$X$13,2,FALSE)","v":{"$error":"#N/A"}},0,{"$error":"#N/A"}]
[null,"",{"$f":"IFERROR(VLOOKUP(A142,'1.Портфель кредитів'!A:AC,3,FALSE),\"\")","v":""},{"$f":"IFERROR(VLOOKUP(A142,'1.Портфель кредитів'!A:AC,14,FALSE),\"\")","v":""},null,null,null,null,null,null,null,null,null,null,null,null,"","",null,{"$f":"IFERROR(VLOOKUP(A142,'1.Портфель кредитів'!A:AC,30,FALSE),\"\")","v":""},0,{"$error":"#VALUE!"},null,null,null,null,null,{"$f":"VLOOKUP(C142,Hidden_Словник!$A$2:C$81,3,FALSE)","v":{"$error":"#N/A"}},0,{"$f":"VLOOKUP(E142,Hidden_Словник!$W$2:$X$13,2,FALSE)","v":{"$error":"#N/A"}},0,{"$error":"#N/A"}]
[null,"",{"$f":"IFERROR(VLOOKUP(A143,'1.Портфель кредитів'!A:AC,3,FALSE),\"\")","v":""},{"$f":"IFERROR(VLOOKUP(A143,'1.Портфель кредитів'!A:AC,14,FALSE),\"\")","v":""},null,null,null,null,null,null,null,null,null,null,null,null,"","",null,{"$f":"IFERROR(VLOOKUP(A143,'1.Портфель кредитів'!A:AC,30,FALSE),\"\")","v":""},0,{"$error":"#VALUE!"},null,null,null,null,null,{"$f":"VLOOKUP(C143,Hidden_Словник!$A$2:C$81,3,FALSE)","v":{"$error":"#N/A"}},0,{"$f":"VLOOKUP(E143,Hidden_Словник!$W$2:$X$13,2,FALSE)","v":{"$error":"#N/A"}},0,{"$error":"#N/A"}]
[null,"",{"$f":"IFERROR(VLOOKUP(A144,'1.Портфель кредитів'!A:AC,3,FALSE),\"\")","v":""},{"$f":"IFERROR(VLOOKUP(A144,'1.Портфель кредитів'!A:AC,14,FALSE),\"\")","v":""},null,null,null,null,null,null,null,null,null,null,null,null,"","",null,{"$f":"IFERROR(VLOOKUP(A144,'1.Портфель кредитів'!A:AC,30,FALSE),\"\")","v":""},0,{"$error":"#VALUE!"},null,null,null,null,null,{"$f":"VLOOKUP(C144,Hidden_Словник!$A$2:C$81,3,FALSE)","v":{"$error":"#N/A"}},0,{"$f":"VLOOKUP(E144,Hidden_Словник!$W$2:$X$13,2,FALSE)","v":{"$error":"#N/A"}},0,{"$error":"#N/A"}]
[null,"",{"$f":"IFERROR(VLOOKUP(A145,'1.Портфель кредитів'!A:AC,3,FALSE),\"\")","v":""},{"$f":"IFERROR(VLOOKUP(A145,'1.Портфель кредитів'!A:AC,14,FALSE),\"\")","v":""},null,null,null,null,null,null,null,null,null,null,null,null,"","",null,{"$f":"IFERROR(VLOOKUP(A145,'1.Портфель кредитів'!A:AC,30,FALSE),\"\")","v":""},0,{"$error":"#VALUE!"},null,null,null,null,null,{"$f":"VLOOKUP(C145,Hidden_Словник!$A$2:C$81,3,FALSE)","v":{"$error":"#N/A"}},0,{"$f":"VLOOKUP(E145,Hidden_Словник!$W$2:$X$13,2,FALSE)","v":{"$error":"#N/A"}},0,{"$error":"#N/A"}]
[null,"",{"$f":"IFERROR(VLOOKUP(A146,'1.Портфель кредитів'!A:AC,3,FALSE),\"\")","v":""},{"$f":"IFERROR(VLOOKUP(A146,'1.Портфель кредитів'!A:AC,14,FALSE),\"\")","v":""},null,null,null,null,null,null,null,null,null,null,null,null,"","",null,{"$f":"IFERROR(VLOOKUP(A146,'1.Портфель кредитів'!A:AC,30,FALSE),\"\")","v":""},0,{"$error":"#VALUE!"},null,null,null,null,null,{"$f":"VLOOKUP(C146,Hidden_Словник!$A$2:C$81,3,FALSE)","v":{"$error":"#N/A"}},0,{"$f":"VLOOKUP(E146,Hidden_Словник!$W$2:$X$13,2,FALSE)","v":{"$error":"#N/A"}},0,{"$error":"#N/A"}]
[null,"",{"$f":"IFERROR(VLOOKUP(A147,'1.Портфель кредитів'!A:AC,3,FALSE),\"\")","v":""},{"$f":"IFERROR(VLOOKUP(A147,'1.Портфель кредитів'!A:AC,14,FALSE),\"\")","v":""},null,null,null,null,null,null,null,null,null,null,null,null,"","",null,{"$f":"IFERROR(VLOOKUP(A147,'1.Портфель кредитів'!A:AC,30,FALSE),\"\")","v":""},0,{"$error":"#VALUE!"},null,null,null,null,null,{"$f":"VLOOKUP(C147,Hidden_Словник!$A$2:C$81,3,FALSE)","v":{"$error":"#N/A"}},0,{"$f":"VLOOKUP(E147,Hidden_Словник!$W$2:$X$13,2,FALSE)","v":{"$error":"#N/A"}},0,{"$error":"#N/A"}]
[null,"",{"$f":"IFERROR(VLOOKUP(A148,'1.Портфель кредитів'!A:AC,3,FALSE),\"\")","v":""},{"$f":"IFERROR(VLOOKUP(A148,'1.Портфель кредитів'!A:AC,14,FALSE),\"\")","v":""},null,null,null,null,null,null,null,null,null,null,null,null,"","",null,{"$f":"IFERROR(VLOOKUP(A148,'1.Портфель кредитів'!A:AC,30,FALSE),\"\")","v":""},0,{"$error":"#VALUE!"},null,null,null,null,null,{"$f":"VLOOKUP(C148,Hidden_Словник!$A$2:C$81,3,FALSE)","v":{"$error":"#N/A"}},0,{"$f":"VLOOKUP(E148,Hidden_Словник!$W$2:$X$13,2,FALSE)","v":{"$error":"#N/A"}},0,{"$error":"#N/A"}]
[null,"",{"$f":"IFERROR(VLOOKUP(A149,'1.Портфель кредитів'!A:AC,3,FALSE),\"\")","v":""},{"$f":"IFERROR(VLOOKUP(A149,'1.Портфель кредитів'!A:AC,14,FALSE),\"\")","v":""},null,null,null,null,null,null,null,null,null,null,null,null,"","",null,{"$f":"IFERROR(VLOOKUP(A149,'1.Портфель кредитів'!A:AC,30,FALSE),\"\")","v":""},0,{"$error":"#VALUE!"},null,null,null,null,null,{"$f":"VLOOKUP(C149,Hidden_Словник!$A$2:C$81,3,FALSE)","v":{"$error":"#N/A"}},0,{"$f":"VLOOKUP(E149,Hidden_Словник!$W$2:$X$13,2,FALSE)","v":{"$error":"#N/A"}},0,{"$error":"#N/A"}]
[null,"",{"$f":"IFERROR(VLOOKUP(A150,'1.Портфель кредитів'!A:AC,3,FALSE),\"\")","v":""},{"$f":"IFERROR(VLOOKUP(A150,'1.Портфель кредитів'!A:AC,14,FALSE),\"\")","v":""},null,null,null,null,null,null,null,null,null,null,null,null,"",{"$f":"IFERROR(V150*L150,\"\")","v":""},null,{"$f":"IFERROR(VLOOKUP(A150,'1.Портфель кредитів'!A:AC,30,FALSE),\"\")","v":""},0,{"$error":"#VALUE!"},null,null,null,null,null,{"$f":"VLOOKUP(C150,Hidden_Словник!$A$2:C$81,3,FALSE)","v":{"$error":"#N/A"}},{"$f":"ROUNDUP(L150,0)","v":0},{"$f":"VLOOKUP(E150,Hidden_Словник!$W$2:$X$13,2,FALSE)","v":{"$error":"#N/A"}},{"$f":"O150","v":0},{"$error":"#N/A"}]
[null,{"$f":"IFERROR(AF151,\"\")","v":""},{"$f":"IFERROR(VLOOKUP(A151,'1.Портфель кредитів'!A:AC,3,FALSE),\"\")","v":""},{"$f":"IFERROR(VLOOKUP(A151,'1.Портфель кредитів'!A:AC,14,FALSE),\"\")","v":""},null,null,null,null,null,null,null,null,null,null,null,null,"","",null,{"$f":"IFERROR(VLOOKUP(A151,'1.Портфель кредитів'!A:AC,30,FALSE),\"\")","v":""},0,{"$error":"#VALUE!"},null,null,null,null,null,{"$f":"VLOOKUP(C151,Hidden_Словник!$A$2:C$81,3,FALSE)","v":{"$error":"#N/A"}},0,{"$f":"VLOOKUP(E151,Hidden_Словник!$W$2:$X$13,2,FALSE)","v":{"$error":"#N/A"}},0,{"$f":"AB151&\"_\"&AC151&AD151&AE151","v":{"$error":"#N/A"}}]
[null,"",{"$f":"IFERROR(VLOOKUP(A152,'1.Портфель кредитів'!A:AC,3,FALSE),\"\")","v":""},{"$f":"IFERROR(VLOOKUP(A152,'1.Портфель кредитів'!A:AC,14,FALSE),\"\")","v":""},null,null,null,null,null,null,null,null,null,null,null,null,"","",null,{"$f":"IFERROR(VLOOKUP(A152,'1.Портфель кредитів'!A:AC,30,FALSE),\"\")","v":""},0,{"$error":"#VALUE!"},null,null,null,null,null,{"$f":"VLOOKUP(C152,Hidden_Словник!$A$2:C$81,3,FALSE)","v":{"$error":"#N/A"}},0,{"$f":"VLOOKUP(E152,Hidden_Словник!$W$2:$X$13,2,FALSE)","v":{"$error":"#N/A"}},0,{"$error":"#N/A"}]
[null,"",{"$f":"IFERROR(VLOOKUP(A153,'1.Портфель кредитів'!A:AC,3,FALSE),\"\")","v":""},{"$f":"IFERROR(VLOOKUP(A153,'1.Портфель кредитів'!A:AC,14,FALSE),\"\")","v":""},null,null,null,null,null,null,null,null,null,null,null,null,"","",null,{"$f":"IFERROR(VLOOKUP(A153,'1.Портфель кредитів'!A:AC,30,FALSE),\"\")","v":""},0,{"$error":"#VALUE!"},null,null,null,null,null,{"$f":"VLOOKUP(C153,Hidden_Словник!$A$2:C$81,3,FALSE)","v":{"$error":"#N/A"}},0,{"$f":"VLOOKUP(E153,Hidden_Словник!$W$2:$X$13,2,FALSE)","v":{"$error":"#N/A"}},0,{"$error":"#N/A"}]
[null,"",{"$f":"IFERROR(VLOOKUP(A154,'1.Портфель кредитів'!A:AC,3,FALSE),\"\")","v":""},{"$f":"IFERROR(VLOOKUP(A154,'1.Портфель кредитів'!A:AC,14,FALSE),\"\")","v":""},null,null,null,null,null,null,null,null,null,null,null,null,{"$f":"IF(O154=\"\",\"\",IF(COUNTIF(AF:AF,AF154)>1,\"так\",\"ні\"))","v":""},"",null,{"$f":"IFERROR(VLOOKUP(A154,'1.Портфель кредитів'!A:AC,30,FALSE),\"\")","v":""},{"$f":"SUMIF(B:B,B154,T:T)","v":0},{"$error":"#VALUE!"},null,null,null,null,null,{"$f":"VLOOKUP(C154,Hidden_Словник!$A$2:C$81,3,FALSE)","v":{"$error":"#N/A"}},0,{"$f":"VLOOKUP(E154,Hidden_Словник!$W$2:$X$13,2,FALSE)","v":{"$error":"#N/A"}},0,{"$error":"#N/A"}]
[null,"",{"$f":"IFERROR(VLOOKUP(A155,'1.Портфель кредитів'!A:AC,3,FALSE),\"\")","v":""},{"$f":"IFERROR(VLOOKUP(A155,'1.Портфель кредитів'!A:AC,14,FALSE),\"\")","v":""},null,null,null,null,null,null,null,null,null,null,null,null,"","",null,{"$f":"IFERROR(VLOOKUP(A155,'1.Портфель кредитів'!A:AC,30,FALSE),\"\")","v":""},0,{"$error":"#VALUE!"},null,null,null,null,null,{"$f":"VLOOKUP(C155,Hidden_Словник!$A$2:C$81,3,FALSE)","v":{"$error":"#N/A"}},0,{"$f":"VLOOKUP(E155,Hidden_Словник!$W$2:$X$13,2,FALSE)","v":{"$error":"#N/A"}},0,{"$error":"#N/A"}]
[null,"",{"$f":"IFERROR(VLOOKUP(A156,'1.Портфель кредитів'!A:AC,3,FALSE),\"\")","v":""},{"$f":"IFERROR(VLOOKUP(A156,'1.Портфель кредитів'!A:AC,14,FALSE),\"\")","v":""},null,null,null,null,null,null,null,null,null,null,null,null,"","",null,{"$f":"IFERROR(VLOOKUP(A156,'1.Портфель кредитів'!A:AC,30,FALSE),\"\")","v":""},0,{"$error":"#VALUE!"},null,null,null,null,null,{"$f":"VLOOKUP(C156,Hidden_Словник!$A$2:C$81,3,FALSE)","v":{"$error":"#N/A"}},0,{"$f":"VLOOKUP(E156,Hidden_Словник!$W$2:$X$13,2,FALSE)","v":{"$error":"#N/A"}},0,{"$error":"#N/A"}]
[null,"",{"$f":"IFERROR(VLOOKUP(A157,'1.Портфель кредитів'!A:AC,3,FALSE),\"\")","v":""},{"$f":"IFERROR(VLOOKUP(A157,'1.Портфель кредитів'!A:AC,14,FALSE),\"\")","v":""},null,null,null,null,null,null,null,null,null,null,null,null,"","",null,{"$f":"IFERROR(VLOOKUP(A157,'1.Портфель кредитів'!A:AC,30,FALSE),\"\")","v":""},0,{"$error":"#VALUE!"},null,null,null,null,null,{"$f":"VLOOKUP(C157,Hidden_Словник!$A$2:C$81,3,FALSE)","v":{"$error":"#N/A"}},0,{"$f":"VLOOKUP(E157,Hidden_Словник!$W$2:$X$13,2,FALSE)","v":{"$error":"#N/A"}},0,{"$error":"#N/A"}]
[null,"",{"$f":"IFERROR(VLOOKUP(A158,'1.Портфель кредитів'!A:AC,3,FALSE),\"\")","v":""},{"$f":"IFERROR(VLOOKUP(A158,'1.Портфель кредитів'!A:AC,14,FALSE),\"\")","v":""},null,null,null,null,null,null,null,null,null,null,null,null,"","",null,{"$f":"IFERROR(VLOOKUP(A158,'1.Портфель кредитів'!A:AC,30,FALSE),\"\")","v":""},0,{"$error":"#VALUE!"},null,null,null,null,null,{"$f":"VLOOKUP(C158,Hidden_Словник!$A$2:C$81,3,FALSE)","v":{"$error":"#N/A"}},0,{"$f":"VLOOKUP(E158,Hidden_Словник!$W$2:$X$13,2,FALSE)","v":{"$error":"#N/A"}},0,{"$error":"#N/A"}]
[null,"",{"$f":"IFERROR(VLOOKUP(A159,'1.Портфель кредитів'!A:AC,3,FALSE),\"\")","v":""},{"$f":"IFERROR(VLOOKUP(A159,'1.Портфель кредитів'!A:AC,14,FALSE),\"\")","v":""},null,null,null,null,null,null,null,null,null,null,null,null,"","",null,{"$f":"IFERROR(VLOOKUP(A159,'1.Портфель кредитів'!A:AC,30,FALSE),\"\")","v":""},0,{"$error":"#VALUE!"},null,null,null,null,null,{"$f":"VLOOKUP(C159,Hidden_Словник!$A$2:C$81,3,FALSE)","v":{"$error":"#N/A"}},0,{"$f":"VLOOKUP(E159,Hidden_Словник!$W$2:$X$13,2,FALSE)","v":{"$error":"#N/A"}},0,{"$error":"#N/A"}]
[null,"",{"$f":"IFERROR(VLOOKUP(A160,'1.Портфель кредитів'!A:AC,3,FALSE),\"\")","v":""},{"$f":"IFERROR(VLOOKUP(A160,'1.Портфель кредитів'!A:AC,14,FALSE),\"\")","v":""},null,null,null,null,null,null,null,null,null,null,null,null,"","",null,{"$f":"IFERROR(VLOOKUP(A160,'1.Портфель кредитів'!A:AC,30,FALSE),\"\")","v":""},0,{"$error":"#VALUE!"},null,null,null,null,null,{"$f":"VLOOKUP(C160,Hidden_Словник!$A$2:C$81,3,FALSE)","v":{"$error":"#N/A"}},0,{"$f":"VLOOKUP(E160,Hidden_Словник!$W$2:$X$13,2,FALSE)","v":{"$error":"#N/A"}},0,{"$error":"#N/A"}]
[null,"",{"$f":"IFERROR(VLOOKUP(A161,'1.Портфель кредитів'!A:AC,3,FALSE),\"\")","v":""},{"$f":"IFERROR(VLOOKUP(A161,'1.Портфель кредитів'!A:AC,14,FALSE),\"\")","v":""},null,null,null,null,null,null,null,null,null,null,null,null,"","",null,{"$f":"IFERROR(VLOOKUP(A161,'1.Портфель кредитів'!A:AC,30,FALSE),\"\")","v":""},0,{"$error":"#VALUE!"},null,null,null,null,null,{"$f":"VLOOKUP(C161,Hidden_Словник!$A$2:C$81,3,FALSE)","v":{"$error":"#N/A"}},0,{"$f":"VLOOKUP(E161,Hidden_Словник!$W$2:$X$13,2,FALSE)","v":{"$error":"#N/A"}},0,{"$error":"#N/A"}]
[null,"",{"$f":"IFERROR(VLOOKUP(A162,'1.Портфель кредитів'!A:AC,3,FALSE),\"\")","v":""},{"$f":"IFERROR(VLOOKUP(A162,'1.Портфель кредитів'!A:AC,14,FALSE),\"\")","v":""},null,null,null,null,null,null,null,null,null,null,null,null,"","",null,{"$f":"IFERROR(VLOOKUP(A162,'1.Портфель кредитів'!A:AC,30,FALSE),\"\")","v":""},0,{"$error":"#VALUE!"},null,null,null,null,null,{"$f":"VLOOKUP(C162,Hidden_Словник!$A$2:C$81,3,FALSE)","v":{"$error":"#N/A"}},0,{"$f":"VLOOKUP(E162,Hidden_Словник!$W$2:$X$13,2,FALSE)","v":{"$error":"#N/A"}},0,{"$error":"#N/A"}]
[null,"",{"$f":"IFERROR(VLOOKUP(A163,'1.Портфель кредитів'!A:AC,3,FALSE),\"\")","v":""},{"$f":"IFERROR(VLOOKUP(A163,'1.Портфель кредитів'!A:AC,14,FALSE),\"\")","v":""},null,null,null,null,null,null,null,null,null,null,null,null,"","",null,{"$f":"IFERROR(VLOOKUP(A163,'1.Портфель кредитів'!A:AC,30,FALSE),\"\")","v":""},0,{"$error":"#VALUE!"},null,null,null,null,null,{"$f":"VLOOKUP(C163,Hidden_Словник!$A$2:C$81,3,FALSE)","v":{"$error":"#N/A"}},0,{"$f":"VLOOKUP(E163,Hidden_Словник!$W$2:$X$13,2,FALSE)","v":{"$error":"#N/A"}},0,{"$error":"#N/A"}]
[null,"",{"$f":"IFERROR(VLOOKUP(A164,'1.Портфель кредитів'!A:AC,3,FALSE),\"\")","v":""},{"$f":"IFERROR(VLOOKUP(A164,'1.Портфель кредитів'!A:AC,14,FALSE),\"\")","v":""},null,null,null,null,null,null,null,null,null,null,null,null,"","",null,{"$f":"IFERROR(VLOOKUP(A164,'1.Портфель кредитів'!A:AC,30,FALSE),\"\")","v":""},0,{"$error":"#VALUE!"},null,null,null,null,null,{"$f":"VLOOKUP(C164,Hidden_Словник!$A$2:C$81,3,FALSE)","v":{"$error":"#N/A"}},0,{"$f":"VLOOKUP(E164,Hidden_Словник!$W$2:$X$13,2,FALSE)","v":{"$error":"#N/A"}},0,{"$error":"#N/A"}]
[null,"",{"$f":"IFERROR(VLOOKUP(A165,'1.Портфель кредитів'!A:AC,3,FALSE),\"\")","v":""},{"$f":"IFERROR(VLOOKUP(A165,'1.Портфель кредитів'!A:AC,14,FALSE),\"\")","v":""},null,null,null,null,null,null,null,null,null,null,null,null,"","",null,{"$f":"IFERROR(VLOOKUP(A165,'1.Портфель кредитів'!A:AC,30,FALSE),\"\")","v":""},0,{"$error":"#VALUE!"},null,null,null,null,null,{"$f":"VLOOKUP(C165,Hidden_Словник!$A$2:C$81,3,FALSE)","v":{"$error":"#N/A"}},0,{"$f":"VLOOKUP(E165,Hidden_Словник!$W$2:$X$13,2,FALSE)","v":{"$error":"#N/A"}},0,{"$error":"#N/A"}]
[null,"",{"$f":"IFERROR(VLOOKUP(A166,'1.Портфель кредитів'!A:AC,3,FALSE),\"\")","v":""},{"$f":"IFERROR(VLOOKUP(A166,'1.Портфель кредитів'!A:AC,14,FALSE),\"\")","v":""},null,null,null,null,null,null,null,null,null,null,null,null,"","",null,{"$f":"IFERROR(VLOOKUP(A166,'1.Портфель кредитів'!A:AC,30,FALSE),\"\")","v":""},0,{"$error":"#VALUE!"},null,null,null,null,null,{"$f":"VLOOKUP(C166,Hidden_Словник!$A$2:C$81,3,FALSE)","v":{"$error":"#N/A"}},0,{"$f":"VLOOKUP(E166,Hidden_Словник!$W$2:$X$13,2,FALSE)","v":{"$error":"#N/A"}},0,{"$error":"#N/A"}]
[null,"",{"$f":"IFERROR(VLOOKUP(A167,'1.Портфель кредитів'!A:AC,3,FALSE),\"\")","v":""},{"$f":"IFERROR(VLOOKUP(A167,'1.Портфель кредитів'!A:AC,14,FALSE),\"\")","v":""},null,null,null,null,null,null,null,null,null,null,null,null,"","",null,{"$f":"IFERROR(VLOOKUP(A167,'1.Портфель кредитів'!A:AC,30,FALSE),\"\")","v":""},0,{"$error":"#VALUE!"},null,null,null,null,null,{"$f":"VLOOKUP(C167,Hidden_Словник!$A$2:C$81,3,FALSE)","v":{"$error":"#N/A"}},0,{"$f":"VLOOKUP(E167,Hidden_Словник!$W$2:$X$13,2,FALSE)","v":{"$error":"#N/A"}},0,{"$error":"#N/A"}]
[null,"",{"$f":"IFERROR(VLOOKUP(A168,'1.Портфель кредитів'!A:AC,3,FALSE),\"\")","v":""},{"$f":"IFERROR(VLOOKUP(A168,'1.Портфель кредитів'!A:AC,14,FALSE),\"\")","v":""},null,null,null,null,null,null,null,null,null,null,null,null,"","",null,{"$f":"IFERROR(VLOOKUP(A168,'1.Портфель кредитів'!A:AC,30,FALSE),\"\")","v":""},0,{"$error":"#VALUE!"},null,null,null,null,null,{"$f":"VLOOKUP(C168,Hidden_Словник!$A$2:C$81,3,FALSE)","v":{"$error":"#N/A"}},0,{"$f":"VLOOKUP(E168,Hidden_Словник!$W$2:$X$13,2,FALSE)","v":{"$error":"#N/A"}},0,{"$error":"#N/A"}]
[null,"",{"$f":"IFERROR(VLOOKUP(A169,'1.Портфель кредитів'!A:AC,3,FALSE),\"\")","v":""},{"$f":"IFERROR(VLOOKUP(A169,'1.Портфель кредитів'!A:AC,14,FALSE),\"\")","v":""},null,null,null,null,null,null,null,null,null,null,null,null,"","",null,{"$f":"IFERROR(VLOOKUP(A169,'1.Портфель кредитів'!A:AC,30,FALSE),\"\")","v":""},0,{"$error":"#VALUE!"},null,null,null,null,null,{"$f":"VLOOKUP(C169,Hidden_Словник!$A$2:C$81,3,FALSE)","v":{"$error":"#N/A"}},0,{"$f":"VLOOKUP(E169,Hidden_Словник!$W$2:$X$13,2,FALSE)","v":{"$error":"#N/A"}},0,{"$error":"#N/A"}]
[null,"",{"$f":"IFERROR(VLOOKUP(A170,'1.Портфель кредитів'!A:AC,3,FALSE),\"\")","v":""},{"$f":"IFERROR(VLOOKUP(A170,'1.Портфель кредитів'!A:AC,14,FALSE),\"\")","v":""},null,null,null,null,null,null,null,null,null,null,null,null,"","",null,{"$f":"IFERROR(VLOOKUP(A170,'1.Портфель кредитів'!A:AC,30,FALSE),\"\")","v":""},0,{"$error":"#VALUE!"},null,null,null,null,null,{"$f":"VLOOKUP(C170,Hidden_Словник!$A$2:C$81,3,FALSE)","v":{"$error":"#N/A"}},0,{"$f":"VLOOKUP(E170,Hidden_Словник!$W$2:$X$13,2,FALSE)","v":{"$error":"#N/A"}},0,{"$error":"#N/A"}]
[null,"",{"$f":"IFERROR(VLOOKUP(A171,'1.Портфель кредитів'!A:AC,3,FALSE),\"\")","v":""},{"$f":"IFERROR(VLOOKUP(A171,'1.Портфель кредитів'!A:AC,14,FALSE),\"\")","v":""},null,null,null,null,null,null,null,null,null,null,null,null,"","",null,{"$f":"IFERROR(VLOOKUP(A171,'1.Портфель кредитів'!A:AC,30,FALSE),\"\")","v":""},0,{"$error":"#VALUE!"},null,null,null,null,null,{"$f":"VLOOKUP(C171,Hidden_Словник!$A$2:C$81,3,FALSE)","v":{"$error":"#N/A"}},0,{"$f":"VLOOKUP(E171,Hidden_Словник!$W$2:$X$13,2,FALSE)","v":{"$error":"#N/A"}},0,{"$error":"#N/A"}]
[null,"",{"$f":"IFERROR(VLOOKUP(A172,'1.Портфель кредитів'!A:AC,3,FALSE),\"\")","v":""},{"$f":"IFERROR(VLOOKUP(A172,'1.Портфель кредитів'!A:AC,14,FALSE),\"\")","v":""},null,null,null,null,null,null,null,null,null,null,null,null,"","",null,{"$f":"IFERROR(VLOOKUP(A172,'1.Портфель кредитів'!A:AC,30,FALSE),\"\")","v":""},0,{"$error":"#VALUE!"},null,null,null,null,null,{"$f":"VLOOKUP(C172,Hidden_Словник!$A$2:C$81,3,FALSE)","v":{"$error":"#N/A"}},0,{"$f":"VLOOKUP(E172,Hidden_Словник!$W$2:$X$13,2,FALSE)","v":{"$error":"#N/A"}},0,{"$error":"#N/A"}]
[null,"",{"$f":"IFERROR(VLOOKUP(A173,'1.Портфель кредитів'!A:AC,3,FALSE),\"\")","v":""},{"$f":"IFERROR(VLOOKUP(A173,'1.Портфель кредитів'!A:AC,14,FALSE),\"\")","v":""},null,null,null,null,null,null,null,null,null,null,null,null,"","",null,{"$f":"IFERROR(VLOOKUP(A173,'1.Портфель кредитів'!A:AC,30,FALSE),\"\")","v":""},0,{"$error":"#VALUE!"},null,null,null,null,null,{"$f":"VLOOKUP(C173,Hidden_Словник!$A$2:C$81,3,FALSE)","v":{"$error":"#N/A"}},0,{"$f":"VLOOKUP(E173,Hidden_Словник!$W$2:$X$13,2,FALSE)","v":{"$error":"#N/A"}},0,{"$error":"#N/A"}]
[null,"",{"$f":"IFERROR(VLOOKUP(A174,'1.Портфель кредитів'!A:AC,3,FALSE),\"\")","v":""},{"$f":"IFERROR(VLOOKUP(A174,'1.Портфель кредитів'!A:AC,14,FALSE),\"\")","v":""},null,null,null,null,null,null,null,null,null,null,null,null,"","",null,{"$f":"IFERROR(VLOOKUP(A174,'1.Портфель кредитів'!A:AC,30,FALSE),\"\")","v":""},0,{"$error":"#VALUE!"},null,null,null,null,null,{"$f":"VLOOKUP(C174,Hidden_Словник!$A$2:C$81,3,FALSE)","v":{"$error":"#N/A"}},0,{"$f":"VLOOKUP(E174,Hidden_Словник!$W$2:$X$13,2,FALSE)","v":{"$error":"#N/A"}},0,{"$error":"#N/A"}]
[null,"",{"$f":"IFERROR(VLOOKUP(A175,'1.Портфель кредитів'!A:AC,3,FALSE),\"\")","v":""},{"$f":"IFERROR(VLOOKUP(A175,'1.Портфель кредитів'!A:AC,14,FALSE),\"\")","v":""},null,null,null,null,null,null,null,null,null,null,null,null,"","",null,{"$f":"IFERROR(VLOOKUP(A175,'1.Портфель кредитів'!A:AC,30,FALSE),\"\")","v":""},0,{"$error":"#VALUE!"},null,null,null,null,null,{"$f":"VLOOKUP(C175,Hidden_Словник!$A$2:C$81,3,FALSE)","v":{"$error":"#N/A"}},0,{"$f":"VLOOKUP(E175,Hidden_Словник!$W$2:$X$13,2,FALSE)","v":{"$error":"#N/A"}},0,{"$error":"#N/A"}]
[null,"",{"$f":"IFERROR(VLOOKUP(A176,'1.Портфель кредитів'!A:AC,3,FALSE),\"\")","v":""},{"$f":"IFERROR(VLOOKUP(A176,'1.Портфель кредитів'!A:AC,14,FALSE),\"\")","v":""},null,null,null,null,null,null,null,null,null,null,null,null,"","",null,{"$f":"IFERROR(VLOOKUP(A176,'1.Портфель кредитів'!A:AC,30,FALSE),\"\")","v":""},0,{"$error":"#VALUE!"},null,null,null,null,null,{"$f":"VLOOKUP(C176,Hidden_Словник!$A$2:C$81,3,FALSE)","v":{"$error":"#N/A"}},0,{"$f":"VLOOKUP(E176,Hidden_Словник!$W$2:$X$13,2,FALSE)","v":{"$error":"#N/A"}},0,{"$error":"#N/A"}]
[null,"",{"$f":"IFERROR(VLOOKUP(A177,'1.Портфель кредитів'!A:AC,3,FALSE),\"\")","v":""},{"$f":"IFERROR(VLOOKUP(A177,'1.Портфель кредитів'!A:AC,14,FALSE),\"\")","v":""},null,null,null,null,null,null,null,null,null,null,null,null,"","",null,{"$f":"IFERROR(VLOOKUP(A177,'1.Портфель кредитів'!A:AC,30,FALSE),\"\")","v":""},0,{"$error":"#VALUE!"},null,null,null,null,null,{"$f":"VLOOKUP(C177,Hidden_Словник!$A$2:C$81,3,FALSE)","v":{"$error":"#N/A"}},0,{"$f":"VLOOKUP(E177,Hidden_Словник!$W$2:$X$13,2,FALSE)","v":{"$error":"#N/A"}},0,{"$error":"#N/A"}]
[null,"",{"$f":"IFERROR(VLOOKUP(A178,'1.Портфель кредитів'!A:AC,3,FALSE),\"\")","v":""},{"$f":"IFERROR(VLOOKUP(A178,'1.Портфель кредитів'!A:AC,14,FALSE),\"\")","v":""},null,null,null,null,null,null,null,null,null,null,null,null,"","",null,{"$f":"IFERROR(VLOOKUP(A178,'1.Портфель кредитів'!A:AC,30,FALSE),\"\")","v":""},0,{"$error":"#VALUE!"},null,null,null,null,null,{"$f":"VLOOKUP(C178,Hidden_Словник!$A$2:C$81,3,FALSE)","v":{"$error":"#N/A"}},0,{"$f":"VLOOKUP(E178,Hidden_Словник!$W$2:$X$13,2,FALSE)","v":{"$error":"#N/A"}},0,{"$error":"#N/A"}]
[null,"",{"$f":"IFERROR(VLOOKUP(A179,'1.Портфель кредитів'!A:AC,3,FALSE),\"\")","v":""},{"$f":"IFERROR(VLOOKUP(A179,'1.Портфель кредитів'!A:AC,14,FALSE),\"\")","v":""},null,null,null,null,null,null,null,null,null,null,null,null,"","",null,{"$f":"IFERROR(VLOOKUP(A179,'1.Портфель кредитів'!A:AC,30,FALSE),\"\")","v":""},0,{"$error":"#VALUE!"},null,null,null,null,null,{"$f":"VLOOKUP(C179,Hidden_Словник!$A$2:C$81,3,FALSE)","v":{"$error":"#N/A"}},0,{"$f":"VLOOKUP(E179,Hidden_Словник!$W$2:$X$13,2,FALSE)","v":{"$error":"#N/A"}},0,{"$error":"#N/A"}]
[null,"",{"$f":"IFERROR(VLOOKUP(A180,'1.Портфель кредитів'!A:AC,3,FALSE),\"\")","v":""},{"$f":"IFERROR(VLOOKUP(A180,'1.Портфель кредитів'!A:AC,14,FALSE),\"\")","v":""},null,null,null,null,null,null,null,null,null,null,null,null,"","",null,{"$f":"IFERROR(VLOOKUP(A180,'1.Портфель кредитів'!A:AC,30,FALSE),\"\")","v":""},0,{"$error":"#VALUE!"},null,null,null,null,null,{"$f":"VLOOKUP(C180,Hidden_Словник!$A$2:C$81,3,FALSE)","v":{"$error":"#N/A"}},0,{"$f":"VLOOKUP(E180,Hidden_Словник!$W$2:$X$13,2,FALSE)","v":{"$error":"#N/A"}},0,{"$error":"#N/A"}]
[null,"",{"$f":"IFERROR(VLOOKUP(A181,'1.Портфель кредитів'!A:AC,3,FALSE),\"\")","v":""},{"$f":"IFERROR(VLOOKUP(A181,'1.Портфель кредитів'!A:AC,14,FALSE),\"\")","v":""},null,null,null,null,null,null,null,null,null,null,null,null,"","",null,{"$f":"IFERROR(VLOOKUP(A181,'1.Портфель кредитів'!A:AC,30,FALSE),\"\")","v":""},0,{"$error":"#VALUE!"},null,null,null,null,null,{"$f":"VLOOKUP(C181,Hidden_Словник!$A$2:C$81,3,FALSE)","v":{"$error":"#N/A"}},0,{"$f":"VLOOKUP(E181,Hidden_Словник!$W$2:$X$13,2,FALSE)","v":{"$error":"#N/A"}},0,{"$error":"#N/A"}]
[null,"",{"$f":"IFERROR(VLOOKUP(A182,'1.Портфель кредитів'!A:AC,3,FALSE),\"\")","v":""},{"$f":"IFERROR(VLOOKUP(A182,'1.Портфель кредитів'!A:AC,14,FALSE),\"\")","v":""},null,null,null,null,null,null,null,null,null,null,null,null,"","",null,{"$f":"IFERROR(VLOOKUP(A182,'1.Портфель кредитів'!A:AC,30,FALSE),\"\")","v":""},0,{"$error":"#VALUE!"},null,null,null,null,null,{"$f":"VLOOKUP(C182,Hidden_Словник!$A$2:C$81,3,FALSE)","v":{"$error":"#N/A"}},0,{"$f":"VLOOKUP(E182,Hidden_Словник!$W$2:$X$13,2,FALSE)","v":{"$error":"#N/A"}},0,{"$error":"#N/A"}]
[null,"",{"$f":"IFERROR(VLOOKUP(A183,'1.Портфель кредитів'!A:AC,3,FALSE),\"\")","v":""},{"$f":"IFERROR(VLOOKUP(A183,'1.Портфель кредитів'!A:AC,14,FALSE),\"\")","v":""},null,null,null,null,null,null,null,null,null,null,null,null,"","",null,{"$f":"IFERROR(VLOOKUP(A183,'1.Портфель кредитів'!A:AC,30,FALSE),\"\")","v":""},0,{"$error":"#VALUE!"},null,null,null,null,null,{"$f":"VLOOKUP(C183,Hidden_Словник!$A$2:C$81,3,FALSE)","v":{"$error":"#N/A"}},0,{"$f":"VLOOKUP(E183,Hidden_Словник!$W$2:$X$13,2,FALSE)","v":{"$error":"#N/A"}},0,{"$error":"#N/A"}]
[null,"",{"$f":"IFERROR(VLOOKUP(A184,'1.Портфель кредитів'!A:AC,3,FALSE),\"\")","v":""},{"$f":"IFERROR(VLOOKUP(A184,'1.Портфель кредитів'!A:AC,14,FALSE),\"\")","v":""},null,null,null,null,null,null,null,null,null,null,null,null,"","",null,{"$f":"IFERROR(VLOOKUP(A184,'1.Портфель кредитів'!A:AC,30,FALSE),\"\")","v":""},0,{"$error":"#VALUE!"},null,null,null,null,null,{"$f":"VLOOKUP(C184,Hidden_Словник!$A$2:C$81,3,FALSE)","v":{"$error":"#N/A"}},0,{"$f":"VLOOKUP(E184,Hidden_Словник!$W$2:$X$13,2,FALSE)","v":{"$error":"#N/A"}},0,{"$error":"#N/A"}]
[null,"",{"$f":"IFERROR(VLOOKUP(A185,'1.Портфель кредитів'!A:AC,3,FALSE),\"\")","v":""},{"$f":"IFERROR(VLOOKUP(A185,'1.Портфель кредитів'!A:AC,14,FALSE),\"\")","v":""},null,null,null,null,null,null,null,null,null,null,null,null,"","",null,{"$f":"IFERROR(VLOOKUP(A185,'1.Портфель кредитів'!A:AC,30,FALSE),\"\")","v":""},0,{"$error":"#VALUE!"},null,null,null,null,null,{"$f":"VLOOKUP(C185,Hidden_Словник!$A$2:C$81,3,FALSE)","v":{"$error":"#N/A"}},0,{"$f":"VLOOKUP(E185,Hidden_Словник!$W$2:$X$13,2,FALSE)","v":{"$error":"#N/A"}},0,{"$error":"#N/A"}]
[null,"",{"$f":"IFERROR(VLOOKUP(A186,'1.Портфель кредитів'!A:AC,3,FALSE),\"\")","v":""},{"$f":"IFERROR(VLOOKUP(A186,'1.Портфель кредитів'!A:AC,14,FALSE),\"\")","v":""},null,null,null,null,null,null,null,null,null,null,null,null,"","",null,{"$f":"IFERROR(VLOOKUP(A186,'1.Портфель кредитів'!A:AC,30,FALSE),\"\")","v":""},0,{"$error":"#VALUE!"},null,null,null,null,null,{"$f":"VLOOKUP(C186,Hidden_Словник!$A$2:C$81,3,FALSE)","v":{"$error":"#N/A"}},0,{"$f":"VLOOKUP(E186,Hidden_Словник!$W$2:$X$13,2,FALSE)","v":{"$error":"#N/A"}},0,{"$error":"#N/A"}]
[null,"",{"$f":"IFERROR(VLOOKUP(A187,'1.Портфель кредитів'!A:AC,3,FALSE),\"\")","v":""},{"$f":"IFERROR(VLOOKUP(A187,'1.Портфель кредитів'!A:AC,14,FALSE),\"\")","v":""},null,null,null,null,null,null,null,null,null,null,null,null,"","",null,{"$f":"IFERROR(VLOOKUP(A187,'1.Портфель кредитів'!A:AC,30,FALSE),\"\")","v":""},0,{"$error":"#VALUE!"},null,null,null,null,null,{"$f":"VLOOKUP(C187,Hidden_Словник!$A$2:C$81,3,FALSE)","v":{"$error":"#N/A"}},0,{"$f":"VLOOKUP(E187,Hidden_Словник!$W$2:$X$13,2,FALSE)","v":{"$error":"#N/A"}},0,{"$error":"#N/A"}]
[null,"",{"$f":"IFERROR(VLOOKUP(A188,'1.Портфель кредитів'!A:AC,3,FALSE),\"\")","v":""},{"$f":"IFERROR(VLOOKUP(A188,'1.Портфель кредитів'!A:AC,14,FALSE),\"\")","v":""},null,null,null,null,null,null,null,null,null,null,null,null,"","",null,{"$f":"IFERROR(VLOOKUP(A188,'1.Портфель кредитів'!A:AC,30,FALSE),\"\")","v":""},0,{"$error":"#VALUE!"},null,null,null,null,null,{"$f":"VLOOKUP(C188,Hidden_Словник!$A$2:C$81,3,FALSE)","v":{"$error":"#N/A"}},0,{"$f":"VLOOKUP(E188,Hidden_Словник!$W$2:$X$13,2,FALSE)","v":{"$error":"#N/A"}},0,{"$error":"#N/A"}]
[null,"",{"$f":"IFERROR(VLOOKUP(A189,'1.Портфель кредитів'!A:AC,3,FALSE),\"\")","v":""},{"$f":"IFERROR(VLOOKUP(A189,'1.Портфель кредитів'!A:AC,14,FALSE),\"\")","v":""},null,null,null,null,null,null,null,null,null,null,null,null,"","",null,{"$f":"IFERROR(VLOOKUP(A189,'1.Портфель кредитів'!A:AC,30,FALSE),\"\")","v":""},0,{"$error":"#VALUE!"},null,null,null,null,null,{"$f":"VLOOKUP(C189,Hidden_Словник!$A$2:C$81,3,FALSE)","v":{"$error":"#N/A"}},0,{"$f":"VLOOKUP(E189,Hidden_Словник!$W$2:$X$13,2,FALSE)","v":{"$error":"#N/A"}},0,{"$error":"#N/A"}]
[null,"",{"$f":"IFERROR(VLOOKUP(A190,'1.Портфель кредитів'!A:AC,3,FALSE),\"\")","v":""},{"$f":"IFERROR(VLOOKUP(A190,'1.Портфель кредитів'!A:AC,14,FALSE),\"\")","v":""},null,null,null,null,null,null,null,null,null,null,null,null,"","",null,{"$f":"IFERROR(VLOOKUP(A190,'1.Портфель кредитів'!A:AC,30,FALSE),\"\")","v":""},0,{"$error":"#VALUE!"},null,null,null,null,null,{"$f":"VLOOKUP(C190,Hidden_Словник!$A$2:C$81,3,FALSE)","v":{"$error":"#N/A"}},0,{"$f":"VLOOKUP(E190,Hidden_Словник!$W$2:$X$13,2,FALSE)","v":{"$error":"#N/A"}},0,{"$error":"#N/A"}]
[null,"",{"$f":"IFERROR(VLOOKUP(A191,'1.Портфель кредитів'!A:AC,3,FALSE),\"\")","v":""},{"$f":"IFERROR(VLOOKUP(A191,'1.Портфель кредитів'!A:AC,14,FALSE),\"\")","v":""},null,null,null,null,null,null,null,null,null,null,null,null,"","",null,{"$f":"IFERROR(VLOOKUP(A191,'1.Портфель кредитів'!A:AC,30,FALSE),\"\")","v":""},0,{"$f":"T191/U191","v":{"$error":"#VALUE!"}},null,null,null,null,null,{"$f":"VLOOKUP(C191,Hidden_Словник!$A$2:C$81,3,FALSE)","v":{"$error":"#N/A"}},0,{"$f":"VLOOKUP(E191,Hidden_Словник!$W$2:$X$13,2,FALSE)","v":{"$error":"#N/A"}},0,{"$error":"#N/A"}]
[null,"",{"$f":"IFERROR(VLOOKUP(A192,'1.Портфель кредитів'!A:AC,3,FALSE),\"\")","v":""},{"$f":"IFERROR(VLOOKUP(A192,'1.Портфель кредитів'!A:AC,14,FALSE),\"\")","v":""},null,null,null,null,null,null,null,null,null,null,null,null,"","",null,{"$f":"IFERROR(VLOOKUP(A192,'1.Портфель кредитів'!A:AC,30,FALSE),\"\")","v":""},0,{"$error":"#VALUE!"},null,null,null,null,null,{"$f":"VLOOKUP(C192,Hidden_Словник!$A$2:C$81,3,FALSE)","v":{"$error":"#N/A"}},0,{"$f":"VLOOKUP(E192,Hidden_Словник!$W$2:$X$13,2,FALSE)","v":{"$error":"#N/A"}},0,{"$error":"#N/A"}]
[null,"",{"$f":"IFERROR(VLOOKUP(A193,'1.Портфель кредитів'!A:AC,3,FALSE),\"\")","v":""},{"$f":"IFERROR(VLOOKUP(A193,'1.Портфель кредитів'!A:AC,14,FALSE),\"\")","v":""},null,null,null,null,null,null,null,null,null,null,null,null,"","",null,{"$f":"IFERROR(VLOOKUP(A193,'1.Портфель кредитів'!A:AC,30,FALSE),\"\")","v":""},0,{"$error":"#VALUE!"},null,null,null,null,null,{"$f":"VLOOKUP(C193,Hidden_Словник!$A$2:C$81,3,FALSE)","v":{"$error":"#N/A"}},0,{"$f":"VLOOKUP(E193,Hidden_Словник!$W$2:$X$13,2,FALSE)","v":{"$error":"#N/A"}},0,{"$error":"#N/A"}]
[null,"",{"$f":"IFERROR(VLOOKUP(A194,'1.Портфель кредитів'!A:AC,3,FALSE),\"\")","v":""},{"$f":"IFERROR(VLOOKUP(A194,'1.Портфель кредитів'!A:AC,14,FALSE),\"\")","v":""},null,null,null,null,null,null,null,null,null,null,null,null,"","",null,{"$f":"IFERROR(VLOOKUP(A194,'1.Портфель кредитів'!A:AC,30,FALSE),\"\")","v":""},0,{"$error":"#VALUE!"},null,null,null,null,null,{"$f":"VLOOKUP(C194,Hidden_Словник!$A$2:C$81,3,FALSE)","v":{"$error":"#N/A"}},0,{"$f":"VLOOKUP(E194,Hidden_Словник!$W$2:$X$13,2,FALSE)","v":{"$error":"#N/A"}},0,{"$error":"#N/A"}]
[null,"",{"$f":"IFERROR(VLOOKUP(A195,'1.Портфель кредитів'!A:AC,3,FALSE),\"\")","v":""},{"$f":"IFERROR(VLOOKUP(A195,'1.Портфель кредитів'!A:AC,14,FALSE),\"\")","v":""},null,null,null,null,null,null,null,null,null,null,null,null,"","",null,{"$f":"IFERROR(VLOOKUP(A195,'1.Портфель кредитів'!A:AC,30,FALSE),\"\")","v":""},0,{"$error":"#VALUE!"},null,null,null,null,null,{"$f":"VLOOKUP(C195,Hidden_Словник!$A$2:C$81,3,FALSE)","v":{"$error":"#N/A"}},0,{"$f":"VLOOKUP(E195,Hidden_Словник!$W$2:$X$13,2,FALSE)","v":{"$error":"#N/A"}},0,{"$error":"#N/A"}]
[null,"",{"$f":"IFERROR(VLOOKUP(A196,'1.Портфель кредитів'!A:AC,3,FALSE),\"\")","v":""},{"$f":"IFERROR(VLOOKUP(A196,'1.Портфель кредитів'!A:AC,14,FALSE),\"\")","v":""},null,null,null,null,null,null,null,null,null,null,null,null,"","",null,{"$f":"IFERROR(VLOOKUP(A196,'1.Портфель кредитів'!A:AC,30,FALSE),\"\")","v":""},0,{"$error":"#VALUE!"},null,null,null,null,null,{"$f":"VLOOKUP(C196,Hidden_Словник!$A$2:C$81,3,FALSE)","v":{"$error":"#N/A"}},0,{"$f":"VLOOKUP(E196,Hidden_Словник!$W$2:$X$13,2,FALSE)","v":{"$error":"#N/A"}},0,{"$error":"#N/A"}]
[null,"",{"$f":"IFERROR(VLOOKUP(A197,'1.Портфель кредитів'!A:AC,3,FALSE),\"\")","v":""},{"$f":"IFERROR(VLOOKUP(A197,'1.Портфель кредитів'!A:AC,14,FALSE),\"\")","v":""},null,null,null,null,null,null,null,null,null,null,null,null,"","",null,{"$f":"IFERROR(VLOOKUP(A197,'1.Портфель кредитів'!A:AC,30,FALSE),\"\")","v":""},0,{"$error":"#VALUE!"},null,null,null,null,null,{"$f":"VLOOKUP(C197,Hidden_Словник!$A$2:C$81,3,FALSE)","v":{"$error":"#N/A"}},0,{"$f":"VLOOKUP(E197,Hidden_Словник!$W$2:$X$13,2,FALSE)","v":{"$error":"#N/A"}},0,{"$error":"#N/A"}]
[null,"",{"$f":"IFERROR(VLOOKUP(A198,'1.Портфель кредитів'!A:AC,3,FALSE),\"\")","v":""},{"$f":"IFERROR(VLOOKUP(A198,'1.Портфель кредитів'!A:AC,14,FALSE),\"\")","v":""},null,null,null,null,null,null,null,null,null,null,null,null,"","",null,{"$f":"IFERROR(VLOOKUP(A198,'1.Портфель кредитів'!A:AC,30,FALSE),\"\")","v":""},0,{"$error":"#VALUE!"},null,null,null,null,null,{"$f":"VLOOKUP(C198,Hidden_Словник!$A$2:C$81,3,FALSE)","v":{"$error":"#N/A"}},0,{"$f":"VLOOKUP(E198,Hidden_Словник!$W$2:$X$13,2,FALSE)","v":{"$error":"#N/A"}},0,{"$error":"#N/A"}]
[null,"",{"$f":"IFERROR(VLOOKUP(A199,'1.Портфель кредитів'!A:AC,3,FALSE),\"\")","v":""},{"$f":"IFERROR(VLOOKUP(A199,'1.Портфель кредитів'!A:AC,14,FALSE),\"\")","v":""},null,null,null,null,null,null,null,null,null,null,null,null,"","",null,{"$f":"IFERROR(VLOOKUP(A199,'1.Портфель кредитів'!A:AC,30,FALSE),\"\")","v":""},0,{"$error":"#VALUE!"},null,null,null,null,null,{"$f":"VLOOKUP(C199,Hidden_Словник!$A$2:C$81,3,FALSE)","v":{"$error":"#N/A"}},0,{"$f":"VLOOKUP(E199,Hidden_Словник!$W$2:$X$13,2,FALSE)","v":{"$error":"#N/A"}},0,{"$error":"#N/A"}]
[null,"",{"$f":"IFERROR(VLOOKUP(A200,'1.Портфель кредитів'!A:AC,3,FALSE),\"\")","v":""},{"$f":"IFERROR(VLOOKUP(A200,'1.Портфель кредитів'!A:AC,14,FALSE),\"\")","v":""},null,null,null,null,null,null,null,null,null,null,null,null,"","",null,{"$f":"IFERROR(VLOOKUP(A200,'1.Портфель кредитів'!A:AC,30,FALSE),\"\")","v":""},0,{"$error":"#VALUE!"},null,null,null,null,null,{"$f":"VLOOKUP(C200,Hidden_Словник!$A$2:C$81,3,FALSE)","v":{"$error":"#N/A"}},0,{"$f":"VLOOKUP(E200,Hidden_Словник!$W$2:$X$13,2,FALSE)","v":{"$error":"#N/A"}},0,{"$error":"#N/A"}]
[null,"",{"$f":"IFERROR(VLOOKUP(A201,'1.Портфель кредитів'!A:AC,3,FALSE),\"\")","v":""},{"$f":"IFERROR(VLOOKUP(A201,'1.Портфель кредитів'!A:AC,14,FALSE),\"\")","v":""},null,null,null,null,null,null,null,null,null,null,null,null,"","",null,{"$f":"IFERROR(VLOOKUP(A201,'1.Портфель кредитів'!A:AC,30,FALSE),\"\")","v":""},0,{"$error":"#VALUE!"},null,null,null,null,null,{"$f":"VLOOKUP(C201,Hidden_Словник!$A$2:C$81,3,FALSE)","v":{"$error":"#N/A"}},0,{"$f":"VLOOKUP(E201,Hidden_Словник!$W$2:$X$13,2,FALSE)","v":{"$error":"#N/A"}},0,{"$error":"#N/A"}]
[null,"",{"$f":"IFERROR(VLOOKUP(A202,'1.Портфель кредитів'!A:AC,3,FALSE),\"\")","v":""},{"$f":"IFERROR(VLOOKUP(A202,'1.Портфель кредитів'!A:AC,14,FALSE),\"\")","v":""},null,null,null,null,null,null,null,null,null,null,null,null,"","",null,{"$f":"IFERROR(VLOOKUP(A202,'1.Портфель кредитів'!A:AC,30,FALSE),\"\")","v":""},0,{"$error":"#VALUE!"},null,null,null,null,null,{"$f":"VLOOKUP(C202,Hidden_Словник!$A$2:C$81,3,FALSE)","v":{"$error":"#N/A"}},0,{"$f":"VLOOKUP(E202,Hidden_Словник!$W$2:$X$13,2,FALSE)","v":{"$error":"#N/A"}},0,{"$error":"#N/A"}]
[null,"",{"$f":"IFERROR(VLOOKUP(A203,'1.Портфель кредитів'!A:AC,3,FALSE),\"\")","v":""},{"$f":"IFERROR(VLOOKUP(A203,'1.Портфель кредитів'!A:AC,14,FALSE),\"\")","v":""},null,null,null,null,null,null,null,null,null,null,null,null,"","",null,{"$f":"IFERROR(VLOOKUP(A203,'1.Портфель кредитів'!A:AC,30,FALSE),\"\")","v":""},0,{"$error":"#VALUE!"},null,null,null,null,null,{"$f":"VLOOKUP(C203,Hidden_Словник!$A$2:C$81,3,FALSE)","v":{"$error":"#N/A"}},0,{"$f":"VLOOKUP(E203,Hidden_Словник!$W$2:$X$13,2,FALSE)","v":{"$error":"#N/A"}},0,{"$error":"#N/A"}]
[null,"",{"$f":"IFERROR(VLOOKUP(A204,'1.Портфель кредитів'!A:AC,3,FALSE),\"\")","v":""},{"$f":"IFERROR(VLOOKUP(A204,'1.Портфель кредитів'!A:AC,14,FALSE),\"\")","v":""},null,null,null,null,null,null,null,null,null,null,null,null,"","",null,{"$f":"IFERROR(VLOOKUP(A204,'1.Портфель кредитів'!A:AC,30,FALSE),\"\")","v":""},0,{"$error":"#VALUE!"},null,null,null,null,null,{"$f":"VLOOKUP(C204,Hidden_Словник!$A$2:C$81,3,FALSE)","v":{"$error":"#N/A"}},0,{"$f":"VLOOKUP(E204,Hidden_Словник!$W$2:$X$13,2,FALSE)","v":{"$error":"#N/A"}},0,{"$error":"#N/A"}]
[null,"",{"$f":"IFERROR(VLOOKUP(A205,'1.Портфель кредитів'!A:AC,3,FALSE),\"\")","v":""},{"$f":"IFERROR(VLOOKUP(A205,'1.Портфель кредитів'!A:AC,14,FALSE),\"\")","v":""},null,null,null,null,null,null,null,null,null,null,null,null,"","",null,{"$f":"IFERROR(VLOOKUP(A205,'1.Портфель кредитів'!A:AC,30,FALSE),\"\")","v":""},0,{"$error":"#VALUE!"},null,null,null,null,null,{"$f":"VLOOKUP(C205,Hidden_Словник!$A$2:C$81,3,FALSE)","v":{"$error":"#N/A"}},0,{"$f":"VLOOKUP(E205,Hidden_Словник!$W$2:$X$13,2,FALSE)","v":{"$error":"#N/A"}},0,{"$error":"#N/A"}]
[null,"",{"$f":"IFERROR(VLOOKUP(A206,'1.Портфель кредитів'!A:AC,3,FALSE),\"\")","v":""},{"$f":"IFERROR(VLOOKUP(A206,'1.Портфель кредитів'!A:AC,14,FALSE),\"\")","v":""},null,null,null,null,null,null,null,null,null,null,null,null,"","",null,{"$f":"IFERROR(VLOOKUP(A206,'1.Портфель кредитів'!A:AC,30,FALSE),\"\")","v":""},0,{"$error":"#VALUE!"},null,null,null,null,null,{"$f":"VLOOKUP(C206,Hidden_Словник!$A$2:C$81,3,FALSE)","v":{"$error":"#N/A"}},0,{"$f":"VLOOKUP(E206,Hidden_Словник!$W$2:$X$13,2,FALSE)","v":{"$error":"#N/A"}},0,{"$error":"#N/A"}]
[null,"",{"$f":"IFERROR(VLOOKUP(A207,'1.Портфель кредитів'!A:AC,3,FALSE),\"\")","v":""},{"$f":"IFERROR(VLOOKUP(A207,'1.Портфель кредитів'!A:AC,14,FALSE),\"\")","v":""},null,null,null,null,null,null,null,null,null,null,null,null,"","",null,{"$f":"IFERROR(VLOOKUP(A207,'1.Портфель кредитів'!A:AC,30,FALSE),\"\")","v":""},0,{"$error":"#VALUE!"},null,null,null,null,null,{"$f":"VLOOKUP(C207,Hidden_Словник!$A$2:C$81,3,FALSE)","v":{"$error":"#N/A"}},0,{"$f":"VLOOKUP(E207,Hidden_Словник!$W$2:$X$13,2,FALSE)","v":{"$error":"#N/A"}},0,{"$error":"#N/A"}]
[null,"",{"$f":"IFERROR(VLOOKUP(A208,'1.Портфель кредитів'!A:AC,3,FALSE),\"\")","v":""},{"$f":"IFERROR(VLOOKUP(A208,'1.Портфель кредитів'!A:AC,14,FALSE),\"\")","v":""},null,null,null,null,null,null,null,null,null,null,null,null,"","",null,{"$f":"IFERROR(VLOOKUP(A208,'1.Портфель кредитів'!A:AC,30,FALSE),\"\")","v":""},0,{"$error":"#VALUE!"},null,null,null,null,null,{"$f":"VLOOKUP(C208,Hidden_Словник!$A$2:C$81,3,FALSE)","v":{"$error":"#N/A"}},0,{"$f":"VLOOKUP(E208,Hidden_Словник!$W$2:$X$13,2,FALSE)","v":{"$error":"#N/A"}},0,{"$error":"#N/A"}]
[null,"",{"$f":"IFERROR(VLOOKUP(A209,'1.Портфель кредитів'!A:AC,3,FALSE),\"\")","v":""},{"$f":"IFERROR(VLOOKUP(A209,'1.Портфель кредитів'!A:AC,14,FALSE),\"\")","v":""},null,null,null,null,null,null,null,null,null,null,null,null,"","",null,{"$f":"IFERROR(VLOOKUP(A209,'1.Портфель кредитів'!A:AC,30,FALSE),\"\")","v":""},0,{"$error":"#VALUE!"},null,null,null,null,null,{"$f":"VLOOKUP(C209,Hidden_Словник!$A$2:C$81,3,FALSE)","v":{"$error":"#N/A"}},0,{"$f":"VLOOKUP(E209,Hidden_Словник!$W$2:$X$13,2,FALSE)","v":{"$error":"#N/A"}},0,{"$error":"#N/A"}]
[null,"",{"$f":"IFERROR(VLOOKUP(A210,'1.Портфель кредитів'!A:AC,3,FALSE),\"\")","v":""},{"$f":"IFERROR(VLOOKUP(A210,'1.Портфель кредитів'!A:AC,14,FALSE),\"\")","v":""},null,null,null,null,null,null,null,null,null,null,null,null,"","",null,{"$f":"IFERROR(VLOOKUP(A210,'1.Портфель кредитів'!A:AC,30,FALSE),\"\")","v":""},0,{"$error":"#VALUE!"},null,null,null,null,null,{"$f":"VLOOKUP(C210,Hidden_Словник!$A$2:C$81,3,FALSE)","v":{"$error":"#N/A"}},0,{"$f":"VLOOKUP(E210,Hidden_Словник!$W$2:$X$13,2,FALSE)","v":{"$error":"#N/A"}},0,{"$error":"#N/A"}]
[null,"",{"$f":"IFERROR(VLOOKUP(A211,'1.Портфель кредитів'!A:AC,3,FALSE),\"\")","v":""},{"$f":"IFERROR(VLOOKUP(A211,'1.Портфель кредитів'!A:AC,14,FALSE),\"\")","v":""},null,null,null,null,null,null,null,null,null,null,null,null,"","",null,{"$f":"IFERROR(VLOOKUP(A211,'1.Портфель кредитів'!A:AC,30,FALSE),\"\")","v":""},0,{"$error":"#VALUE!"},null,null,null,null,null,{"$f":"VLOOKUP(C211,Hidden_Словник!$A$2:C$81,3,FALSE)","v":{"$error":"#N/A"}},0,{"$f":"VLOOKUP(E211,Hidden_Словник!$W$2:$X$13,2,FALSE)","v":{"$error":"#N/A"}},0,{"$error":"#N/A"}]
[null,"",{"$f":"IFERROR(VLOOKUP(A212,'1.Портфель кредитів'!A:AC,3,FALSE),\"\")","v":""},{"$f":"IFERROR(VLOOKUP(A212,'1.Портфель кредитів'!A:AC,14,FALSE),\"\")","v":""},null,null,null,null,null,null,null,null,null,null,null,null,"","",null,{"$f":"IFERROR(VLOOKUP(A212,'1.Портфель кредитів'!A:AC,30,FALSE),\"\")","v":""},0,{"$error":"#VALUE!"},null,null,null,null,null,{"$f":"VLOOKUP(C212,Hidden_Словник!$A$2:C$81,3,FALSE)","v":{"$error":"#N/A"}},0,{"$f":"VLOOKUP(E212,Hidden_Словник!$W$2:$X$13,2,FALSE)","v":{"$error":"#N/A"}},0,{"$error":"#N/A"}]
[null,"",{"$f":"IFERROR(VLOOKUP(A213,'1.Портфель кредитів'!A:AC,3,FALSE),\"\")","v":""},{"$f":"IFERROR(VLOOKUP(A213,'1.Портфель кредитів'!A:AC,14,FALSE),\"\")","v":""},null,null,null,null,null,null,null,null,null,null,null,null,"","",null,{"$f":"IFERROR(VLOOKUP(A213,'1.Портфель кредитів'!A:AC,30,FALSE),\"\")","v":""},0,{"$error":"#VALUE!"},null,null,null,null,null,{"$f":"VLOOKUP(C213,Hidden_Словник!$A$2:C$81,3,FALSE)","v":{"$error":"#N/A"}},0,{"$f":"VLOOKUP(E213,Hidden_Словник!$W$2:$X$13,2,FALSE)","v":{"$error":"#N/A"}},0,{"$error":"#N/A"}]
[null,"",{"$f":"IFERROR(VLOOKUP(A214,'1.Портфель кредитів'!A:AC,3,FALSE),\"\")","v":""},{"$f":"IFERROR(VLOOKUP(A214,'1.Портфель кредитів'!A:AC,14,FALSE),\"\")","v":""},null,null,null,null,null,null,null,null,null,null,null,null,"",{"$f":"IFERROR(V214*L214,\"\")","v":""},null,{"$f":"IFERROR(VLOOKUP(A214,'1.Портфель кредитів'!A:AC,30,FALSE),\"\")","v":""},0,{"$error":"#VALUE!"},null,null,null,null,null,{"$f":"VLOOKUP(C214,Hidden_Словник!$A$2:C$81,3,FALSE)","v":{"$error":"#N/A"}},{"$f":"ROUNDUP(L214,0)","v":0},{"$f":"VLOOKUP(E214,Hidden_Словник!$W$2:$X$13,2,FALSE)","v":{"$error":"#N/A"}},{"$f":"O214","v":0},{"$error":"#N/A"}]
[null,{"$f":"IFERROR(AF215,\"\")","v":""},{"$f":"IFERROR(VLOOKUP(A215,'1.Портфель кредитів'!A:AC,3,FALSE),\"\")","v":""},{"$f":"IFERROR(VLOOKUP(A215,'1.Портфель кредитів'!A:AC,14,FALSE),\"\")","v":""},null,null,null,null,null,null,null,null,null,null,null,null,"","",null,{"$f":"IFERROR(VLOOKUP(A215,'1.Портфель кредитів'!A:AC,30,FALSE),\"\")","v":""},0,{"$error":"#VALUE!"},null,null,null,null,null,{"$f":"VLOOKUP(C215,Hidden_Словник!$A$2:C$81,3,FALSE)","v":{"$error":"#N/A"}},0,{"$f":"VLOOKUP(E215,Hidden_Словник!$W$2:$X$13,2,FALSE)","v":{"$error":"#N/A"}},0,{"$f":"AB215&\"_\"&AC215&AD215&AE215","v":{"$error":"#N/A"}}]
[null,"",{"$f":"IFERROR(VLOOKUP(A216,'1.Портфель кредитів'!A:AC,3,FALSE),\"\")","v":""},{"$f":"IFERROR(VLOOKUP(A216,'1.Портфель кредитів'!A:AC,14,FALSE),\"\")","v":""},null,null,null,null,null,null,null,null,null,null,null,null,"","",null,{"$f":"IFERROR(VLOOKUP(A216,'1.Портфель кредитів'!A:AC,30,FALSE),\"\")","v":""},0,{"$error":"#VALUE!"},null,null,null,null,null,{"$f":"VLOOKUP(C216,Hidden_Словник!$A$2:C$81,3,FALSE)","v":{"$error":"#N/A"}},0,{"$f":"VLOOKUP(E216,Hidden_Словник!$W$2:$X$13,2,FALSE)","v":{"$error":"#N/A"}},0,{"$error":"#N/A"}]
[null,"",{"$f":"IFERROR(VLOOKUP(A217,'1.Портфель кредитів'!A:AC,3,FALSE),\"\")","v":""},{"$f":"IFERROR(VLOOKUP(A217,'1.Портфель кредитів'!A:AC,14,FALSE),\"\")","v":""},null,null,null,null,null,null,null,null,null,null,null,null,"","",null,{"$f":"IFERROR(VLOOKUP(A217,'1.Портфель кредитів'!A:AC,30,FALSE),\"\")","v":""},0,{"$error":"#VALUE!"},null,null,null,null,null,{"$f":"VLOOKUP(C217,Hidden_Словник!$A$2:C$81,3,FALSE)","v":{"$error":"#N/A"}},0,{"$f":"VLOOKUP(E217,Hidden_Словник!$W$2:$X$13,2,FALSE)","v":{"$error":"#N/A"}},0,{"$error":"#N/A"}]
[null,"",{"$f":"IFERROR(VLOOKUP(A218,'1.Портфель кредитів'!A:AC,3,FALSE),\"\")","v":""},{"$f":"IFERROR(VLOOKUP(A218,'1.Портфель кредитів'!A:AC,14,FALSE),\"\")","v":""},null,null,null,null,null,null,null,null,null,null,null,null,{"$f":"IF(O218=\"\",\"\",IF(COUNTIF(AF:AF,AF218)>1,\"так\",\"ні\"))","v":""},"",null,{"$f":"IFERROR(VLOOKUP(A218,'1.Портфель кредитів'!A:AC,30,FALSE),\"\")","v":""},{"$f":"SUMIF(B:B,B218,T:T)","v":0},{"$error":"#VALUE!"},null,null,null,null,null,{"$f":"VLOOKUP(C218,Hidden_Словник!$A$2:C$81,3,FALSE)","v":{"$error":"#N/A"}},0,{"$f":"VLOOKUP(E218,Hidden_Словник!$W$2:$X$13,2,FALSE)","v":{"$error":"#N/A"}},0,{"$error":"#N/A"}]
[null,"",{"$f":"IFERROR(VLOOKUP(A219,'1.Портфель кредитів'!A:AC,3,FALSE),\"\")","v":""},{"$f":"IFERROR(VLOOKUP(A219,'1.Портфель кредитів'!A:AC,14,FALSE),\"\")","v":""},null,null,null,null,null,null,null,null,null,null,null,null,"","",null,{"$f":"IFERROR(VLOOKUP(A219,'1.Портфель кредитів'!A:AC,30,FALSE),\"\")","v":""},0,{"$error":"#VALUE!"},null,null,null,null,null,{"$f":"VLOOKUP(C219,Hidden_Словник!$A$2:C$81,3,FALSE)","v":{"$error":"#N/A"}},0,{"$f":"VLOOKUP(E219,Hidden_Словник!$W$2:$X$13,2,FALSE)","v":{"$error":"#N/A"}},0,{"$error":"#N/A"}]
[null,"",{"$f":"IFERROR(VLOOKUP(A220,'1.Портфель кредитів'!A:AC,3,FALSE),\"\")","v":""},{"$f":"IFERROR(VLOOKUP(A220,'1.Портфель кредитів'!A:AC,14,FALSE),\"\")","v":""},null,null,null,null,null,null,null,null,null,null,null,null,"","",null,{"$f":"IFERROR(VLOOKUP(A220,'1.Портфель кредитів'!A:AC,30,FALSE),\"\")","v":""},0,{"$error":"#VALUE!"},null,null,null,null,null,{"$f":"VLOOKUP(C220,Hidden_Словник!$A$2:C$81,3,FALSE)","v":{"$error":"#N/A"}},0,{"$f":"VLOOKUP(E220,Hidden_Словник!$W$2:$X$13,2,FALSE)","v":{"$error":"#N/A"}},0,{"$error":"#N/A"}]
[null,"",{"$f":"IFERROR(VLOOKUP(A221,'1.Портфель кредитів'!A:AC,3,FALSE),\"\")","v":""},{"$f":"IFERROR(VLOOKUP(A221,'1.Портфель кредитів'!A:AC,14,FALSE),\"\")","v":""},null,null,null,null,null,null,null,null,null,null,null,null,"","",null,{"$f":"IFERROR(VLOOKUP(A221,'1.Портфель кредитів'!A:AC,30,FALSE),\"\")","v":""},0,{"$error":"#VALUE!"},null,null,null,null,null,{"$f":"VLOOKUP(C221,Hidden_Словник!$A$2:C$81,3,FALSE)","v":{"$error":"#N/A"}},0,{"$f":"VLOOKUP(E221,Hidden_Словник!$W$2:$X$13,2,FALSE)","v":{"$error":"#N/A"}},0,{"$error":"#N/A"}]
[null,"",{"$f":"IFERROR(VLOOKUP(A222,'1.Портфель кредитів'!A:AC,3,FALSE),\"\")","v":""},{"$f":"IFERROR(VLOOKUP(A222,'1.Портфель кредитів'!A:AC,14,FALSE),\"\")","v":""},null,null,null,null,null,null,null,null,null,null,null,null,"","",null,{"$f":"IFERROR(VLOOKUP(A222,'1.Портфель кредитів'!A:AC,30,FALSE),\"\")","v":""},0,{"$error":"#VALUE!"},null,null,null,null,null,{"$f":"VLOOKUP(C222,Hidden_Словник!$A$2:C$81,3,FALSE)","v":{"$error":"#N/A"}},0,{"$f":"VLOOKUP(E222,Hidden_Словник!$W$2:$X$13,2,FALSE)","v":{"$error":"#N/A"}},0,{"$error":"#N/A"}]
[null,"",{"$f":"IFERROR(VLOOKUP(A223,'1.Портфель кредитів'!A:AC,3,FALSE),\"\")","v":""},{"$f":"IFERROR(VLOOKUP(A223,'1.Портфель кредитів'!A:AC,14,FALSE),\"\")","v":""},null,null,null,null,null,null,null,null,null,null,null,null,"","",null,{"$f":"IFERROR(VLOOKUP(A223,'1.Портфель кредитів'!A:AC,30,FALSE),\"\")","v":""},0,{"$error":"#VALUE!"},null,null,null,null,null,{"$f":"VLOOKUP(C223,Hidden_Словник!$A$2:C$81,3,FALSE)","v":{"$error":"#N/A"}},0,{"$f":"VLOOKUP(E223,Hidden_Словник!$W$2:$X$13,2,FALSE)","v":{"$error":"#N/A"}},0,{"$error":"#N/A"}]
[null,"",{"$f":"IFERROR(VLOOKUP(A224,'1.Портфель кредитів'!A:AC,3,FALSE),\"\")","v":""},{"$f":"IFERROR(VLOOKUP(A224,'1.Портфель кредитів'!A:AC,14,FALSE),\"\")","v":""},null,null,null,null,null,null,null,null,null,null,null,null,"","",null,{"$f":"IFERROR(VLOOKUP(A224,'1.Портфель кредитів'!A:AC,30,FALSE),\"\")","v":""},0,{"$error":"#VALUE!"},null,null,null,null,null,{"$f":"VLOOKUP(C224,Hidden_Словник!$A$2:C$81,3,FALSE)","v":{"$error":"#N/A"}},0,{"$f":"VLOOKUP(E224,Hidden_Словник!$W$2:$X$13,2,FALSE)","v":{"$error":"#N/A"}},0,{"$error":"#N/A"}]
[null,"",{"$f":"IFERROR(VLOOKUP(A225,'1.Портфель кредитів'!A:AC,3,FALSE),\"\")","v":""},{"$f":"IFERROR(VLOOKUP(A225,'1.Портфель кредитів'!A:AC,14,FALSE),\"\")","v":""},null,null,null,null,null,null,null,null,null,null,null,null,"","",null,{"$f":"IFERROR(VLOOKUP(A225,'1.Портфель кредитів'!A:AC,30,FALSE),\"\")","v":""},0,{"$error":"#VALUE!"},null,null,null,null,null,{"$f":"VLOOKUP(C225,Hidden_Словник!$A$2:C$81,3,FALSE)","v":{"$error":"#N/A"}},0,{"$f":"VLOOKUP(E225,Hidden_Словник!$W$2:$X$13,2,FALSE)","v":{"$error":"#N/A"}},0,{"$error":"#N/A"}]
[null,"",{"$f":"IFERROR(VLOOKUP(A226,'1.Портфель кредитів'!A:AC,3,FALSE),\"\")","v":""},{"$f":"IFERROR(VLOOKUP(A226,'1.Портфель кредитів'!A:AC,14,FALSE),\"\")","v":""},null,null,null,null,null,null,null,null,null,null,null,null,"","",null,{"$f":"IFERROR(VLOOKUP(A226,'1.Портфель кредитів'!A:AC,30,FALSE),\"\")","v":""},0,{"$error":"#VALUE!"},null,null,null,null,null,{"$f":"VLOOKUP(C226,Hidden_Словник!$A$2:C$81,3,FALSE)","v":{"$error":"#N/A"}},0,{"$f":"VLOOKUP(E226,Hidden_Словник!$W$2:$X$13,2,FALSE)","v":{"$error":"#N/A"}},0,{"$error":"#N/A"}]
[null,"",{"$f":"IFERROR(VLOOKUP(A227,'1.Портфель кредитів'!A:AC,3,FALSE),\"\")","v":""},{"$f":"IFERROR(VLOOKUP(A227,'1.Портфель кредитів'!A:AC,14,FALSE),\"\")","v":""},null,null,null,null,null,null,null,null,null,null,null,null,"","",null,{"$f":"IFERROR(VLOOKUP(A227,'1.Портфель кредитів'!A:AC,30,FALSE),\"\")","v":""},0,{"$error":"#VALUE!"},null,null,null,null,null,{"$f":"VLOOKUP(C227,Hidden_Словник!$A$2:C$81,3,FALSE)","v":{"$error":"#N/A"}},0,{"$f":"VLOOKUP(E227,Hidden_Словник!$W$2:$X$13,2,FALSE)","v":{"$error":"#N/A"}},0,{"$error":"#N/A"}]
[null,"",{"$f":"IFERROR(VLOOKUP(A228,'1.Портфель кредитів'!A:AC,3,FALSE),\"\")","v":""},{"$f":"IFERROR(VLOOKUP(A228,'1.Портфель кредитів'!A:AC,14,FALSE),\"\")","v":""},null,null,null,null,null,null,null,null,null,null,null,null,"","",null,{"$f":"IFERROR(VLOOKUP(A228,'1.Портфель кредитів'!A:AC,30,FALSE),\"\")","v":""},0,{"$error":"#VALUE!"},null,null,null,null,null,{"$f":"VLOOKUP(C228,Hidden_Словник!$A$2:C$81,3,FALSE)","v":{"$error":"#N/A"}},0,{"$f":"VLOOKUP(E228,Hidden_Словник!$W$2:$X$13,2,FALSE)","v":{"$error":"#N/A"}},0,{"$error":"#N/A"}]
[null,"",{"$f":"IFERROR(VLOOKUP(A229,'1.Портфель кредитів'!A:AC,3,FALSE),\"\")","v":""},{"$f":"IFERROR(VLOOKUP(A229,'1.Портфель кредитів'!A:AC,14,FALSE),\"\")","v":""},null,null,null,null,null,null,null,null,null,null,null,null,"","",null,{"$f":"IFERROR(VLOOKUP(A229,'1.Портфель кредитів'!A:AC,30,FALSE),\"\")","v":""},0,{"$error":"#VALUE!"},null,null,null,null,null,{"$f":"VLOOKUP(C229,Hidden_Словник!$A$2:C$81,3,FALSE)","v":{"$error":"#N/A"}},0,{"$f":"VLOOKUP(E229,Hidden_Словник!$W$2:$X$13,2,FALSE)","v":{"$error":"#N/A"}},0,{"$error":"#N/A"}]
[null,"",{"$f":"IFERROR(VLOOKUP(A230,'1.Портфель кредитів'!A:AC,3,FALSE),\"\")","v":""},{"$f":"IFERROR(VLOOKUP(A230,'1.Портфель кредитів'!A:AC,14,FALSE),\"\")","v":""},null,null,null,null,null,null,null,null,null,null,null,null,"","",null,{"$f":"IFERROR(VLOOKUP(A230,'1.Портфель кредитів'!A:AC,30,FALSE),\"\")","v":""},0,{"$error":"#VALUE!"},null,null,null,null,null,{"$f":"VLOOKUP(C230,Hidden_Словник!$A$2:C$81,3,FALSE)","v":{"$error":"#N/A"}},0,{"$f":"VLOOKUP(E230,Hidden_Словник!$W$2:$X$13,2,FALSE)","v":{"$error":"#N/A"}},0,{"$error":"#N/A"}]
[null,"",{"$f":"IFERROR(VLOOKUP(A231,'1.Портфель кредитів'!A:AC,3,FALSE),\"\")","v":""},{"$f":"IFERROR(VLOOKUP(A231,'1.Портфель кредитів'!A:AC,14,FALSE),\"\")","v":""},null,null,null,null,null,null,null,null,null,null,null,null,"","",null,{"$f":"IFERROR(VLOOKUP(A231,'1.Портфель кредитів'!A:AC,30,FALSE),\"\")","v":""},0,{"$error":"#VALUE!"},null,null,null,null,null,{"$f":"VLOOKUP(C231,Hidden_Словник!$A$2:C$81,3,FALSE)","v":{"$error":"#N/A"}},0,{"$f":"VLOOKUP(E231,Hidden_Словник!$W$2:$X$13,2,FALSE)","v":{"$error":"#N/A"}},0,{"$error":"#N/A"}]
[null,"",{"$f":"IFERROR(VLOOKUP(A232,'1.Портфель кредитів'!A:AC,3,FALSE),\"\")","v":""},{"$f":"IFERROR(VLOOKUP(A232,'1.Портфель кредитів'!A:AC,14,FALSE),\"\")","v":""},null,null,null,null,null,null,null,null,null,null,null,null,"","",null,{"$f":"IFERROR(VLOOKUP(A232,'1.Портфель кредитів'!A:AC,30,FALSE),\"\")","v":""},0,{"$error":"#VALUE!"},null,null,null,null,null,{"$f":"VLOOKUP(C232,Hidden_Словник!$A$2:C$81,3,FALSE)","v":{"$error":"#N/A"}},0,{"$f":"VLOOKUP(E232,Hidden_Словник!$W$2:$X$13,2,FALSE)","v":{"$error":"#N/A"}},0,{"$error":"#N/A"}]
[null,"",{"$f":"IFERROR(VLOOKUP(A233,'1.Портфель кредитів'!A:AC,3,FALSE),\"\")","v":""},{"$f":"IFERROR(VLOOKUP(A233,'1.Портфель кредитів'!A:AC,14,FALSE),\"\")","v":""},null,null,null,null,null,null,null,null,null,null,null,null,"","",null,{"$f":"IFERROR(VLOOKUP(A233,'1.Портфель кредитів'!A:AC,30,FALSE),\"\")","v":""},0,{"$error":"#VALUE!"},null,null,null,null,null,{"$f":"VLOOKUP(C233,Hidden_Словник!$A$2:C$81,3,FALSE)","v":{"$error":"#N/A"}},0,{"$f":"VLOOKUP(E233,Hidden_Словник!$W$2:$X$13,2,FALSE)","v":{"$error":"#N/A"}},0,{"$error":"#N/A"}]
[null,"",{"$f":"IFERROR(VLOOKUP(A234,'1.Портфель кредитів'!A:AC,3,FALSE),\"\")","v":""},{"$f":"IFERROR(VLOOKUP(A234,'1.Портфель кредитів'!A:AC,14,FALSE),\"\")","v":""},null,null,null,null,null,null,null,null,null,null,null,null,"","",null,{"$f":"IFERROR(VLOOKUP(A234,'1.Портфель кредитів'!A:AC,30,FALSE),\"\")","v":""},0,{"$error":"#VALUE!"},null,null,null,null,null,{"$f":"VLOOKUP(C234,Hidden_Словник!$A$2:C$81,3,FALSE)","v":{"$error":"#N/A"}},0,{"$f":"VLOOKUP(E234,Hidden_Словник!$W$2:$X$13,2,FALSE)","v":{"$error":"#N/A"}},0,{"$error":"#N/A"}]
[null,"",{"$f":"IFERROR(VLOOKUP(A235,'1.Портфель кредитів'!A:AC,3,FALSE),\"\")","v":""},{"$f":"IFERROR(VLOOKUP(A235,'1.Портфель кредитів'!A:AC,14,FALSE),\"\")","v":""},null,null,null,null,null,null,null,null,null,null,null,null,"","",null,{"$f":"IFERROR(VLOOKUP(A235,'1.Портфель кредитів'!A:AC,30,FALSE),\"\")","v":""},0,{"$error":"#VALUE!"},null,null,null,null,null,{"$f":"VLOOKUP(C235,Hidden_Словник!$A$2:C$81,3,FALSE)","v":{"$error":"#N/A"}},0,{"$f":"VLOOKUP(E235,Hidden_Словник!$W$2:$X$13,2,FALSE)","v":{"$error":"#N/A"}},0,{"$error":"#N/A"}]
[null,"",{"$f":"IFERROR(VLOOKUP(A236,'1.Портфель кредитів'!A:AC,3,FALSE),\"\")","v":""},{"$f":"IFERROR(VLOOKUP(A236,'1.Портфель кредитів'!A:AC,14,FALSE),\"\")","v":""},null,null,null,null,null,null,null,null,null,null,null,null,"","",null,{"$f":"IFERROR(VLOOKUP(A236,'1.Портфель кредитів'!A:AC,30,FALSE),\"\")","v":""},0,{"$error":"#VALUE!"},null,null,null,null,null,{"$f":"VLOOKUP(C236,Hidden_Словник!$A$2:C$81,3,FALSE)","v":{"$error":"#N/A"}},0,{"$f":"VLOOKUP(E236,Hidden_Словник!$W$2:$X$13,2,FALSE)","v":{"$error":"#N/A"}},0,{"$error":"#N/A"}]
[null,"",{"$f":"IFERROR(VLOOKUP(A237,'1.Портфель кредитів'!A:AC,3,FALSE),\"\")","v":""},{"$f":"IFERROR(VLOOKUP(A237,'1.Портфель кредитів'!A:AC,14,FALSE),\"\")","v":""},null,null,null,null,null,null,null,null,null,null,null,null,"","",null,{"$f":"IFERROR(VLOOKUP(A237,'1.Портфель кредитів'!A:AC,30,FALSE),\"\")","v":""},0,{"$error":"#VALUE!"},null,null,null,null,null,{"$f":"VLOOKUP(C237,Hidden_Словник!$A$2:C$81,3,FALSE)","v":{"$error":"#N/A"}},0,{"$f":"VLOOKUP(E237,Hidden_Словник!$W$2:$X$13,2,FALSE)","v":{"$error":"#N/A"}},0,{"$error":"#N/A"}]
[null,"",{"$f":"IFERROR(VLOOKUP(A238,'1.Портфель кредитів'!A:AC,3,FALSE),\"\")","v":""},{"$f":"IFERROR(VLOOKUP(A238,'1.Портфель кредитів'!A:AC,14,FALSE),\"\")","v":""},null,null,null,null,null,null,null,null,null,null,null,null,"","",null,{"$f":"IFERROR(VLOOKUP(A238,'1.Портфель кредитів'!A:AC,30,FALSE),\"\")","v":""},0,{"$error":"#VALUE!"},null,null,null,null,null,{"$f":"VLOOKUP(C238,Hidden_Словник!$A$2:C$81,3,FALSE)","v":{"$error":"#N/A"}},0,{"$f":"VLOOKUP(E238,Hidden_Словник!$W$2:$X$13,2,FALSE)","v":{"$error":"#N/A"}},0,{"$error":"#N/A"}]
[null,"",{"$f":"IFERROR(VLOOKUP(A239,'1.Портфель кредитів'!A:AC,3,FALSE),\"\")","v":""},{"$f":"IFERROR(VLOOKUP(A239,'1.Портфель кредитів'!A:AC,14,FALSE),\"\")","v":""},null,null,null,null,null,null,null,null,null,null,null,null,"","",null,{"$f":"IFERROR(VLOOKUP(A239,'1.Портфель кредитів'!A:AC,30,FALSE),\"\")","v":""},0,{"$error":"#VALUE!"},null,null,null,null,null,{"$f":"VLOOKUP(C239,Hidden_Словник!$A$2:C$81,3,FALSE)","v":{"$error":"#N/A"}},0,{"$f":"VLOOKUP(E239,Hidden_Словник!$W$2:$X$13,2,FALSE)","v":{"$error":"#N/A"}},0,{"$error":"#N/A"}]
[null,"",{"$f":"IFERROR(VLOOKUP(A240,'1.Портфель кредитів'!A:AC,3,FALSE),\"\")","v":""},{"$f":"IFERROR(VLOOKUP(A240,'1.Портфель кредитів'!A:AC,14,FALSE),\"\")","v":""},null,null,null,null,null,null,null,null,null,null,null,null,"","",null,{"$f":"IFERROR(VLOOKUP(A240,'1.Портфель кредитів'!A:AC,30,FALSE),\"\")","v":""},0,{"$error":"#VALUE!"},null,null,null,null,null,{"$f":"VLOOKUP(C240,Hidden_Словник!$A$2:C$81,3,FALSE)","v":{"$error":"#N/A"}},0,{"$f":"VLOOKUP(E240,Hidden_Словник!$W$2:$X$13,2,FALSE)","v":{"$error":"#N/A"}},0,{"$error":"#N/A"}]
[null,"",{"$f":"IFERROR(VLOOKUP(A241,'1.Портфель кредитів'!A:AC,3,FALSE),\"\")","v":""},{"$f":"IFERROR(VLOOKUP(A241,'1.Портфель кредитів'!A:AC,14,FALSE),\"\")","v":""},null,null,null,null,null,null,null,null,null,null,null,null,"","",null,{"$f":"IFERROR(VLOOKUP(A241,'1.Портфель кредитів'!A:AC,30,FALSE),\"\")","v":""},0,{"$error":"#VALUE!"},null,null,null,null,null,{"$f":"VLOOKUP(C241,Hidden_Словник!$A$2:C$81,3,FALSE)","v":{"$error":"#N/A"}},0,{"$f":"VLOOKUP(E241,Hidden_Словник!$W$2:$X$13,2,FALSE)","v":{"$error":"#N/A"}},0,{"$error":"#N/A"}]
[null,"",{"$f":"IFERROR(VLOOKUP(A242,'1.Портфель кредитів'!A:AC,3,FALSE),\"\")","v":""},{"$f":"IFERROR(VLOOKUP(A242,'1.Портфель кредитів'!A:AC,14,FALSE),\"\")","v":""},null,null,null,null,null,null,null,null,null,null,null,null,"","",null,{"$f":"IFERROR(VLOOKUP(A242,'1.Портфель кредитів'!A:AC,30,FALSE),\"\")","v":""},0,{"$error":"#VALUE!"},null,null,null,null,null,{"$f":"VLOOKUP(C242,Hidden_Словник!$A$2:C$81,3,FALSE)","v":{"$error":"#N/A"}},0,{"$f":"VLOOKUP(E242,Hidden_Словник!$W$2:$X$13,2,FALSE)","v":{"$error":"#N/A"}},0,{"$error":"#N/A"}]
[null,"",{"$f":"IFERROR(VLOOKUP(A243,'1.Портфель кредитів'!A:AC,3,FALSE),\"\")","v":""},{"$f":"IFERROR(VLOOKUP(A243,'1.Портфель кредитів'!A:AC,14,FALSE),\"\")","v":""},null,null,null,null,null,null,null,null,null,null,null,null,"","",null,{"$f":"IFERROR(VLOOKUP(A243,'1.Портфель кредитів'!A:AC,30,FALSE),\"\")","v":""},0,{"$error":"#VALUE!"},null,null,null,null,null,{"$f":"VLOOKUP(C243,Hidden_Словник!$A$2:C$81,3,FALSE)","v":{"$error":"#N/A"}},0,{"$f":"VLOOKUP(E243,Hidden_Словник!$W$2:$X$13,2,FALSE)","v":{"$error":"#N/A"}},0,{"$error":"#N/A"}]
[null,"",{"$f":"IFERROR(VLOOKUP(A244,'1.Портфель кредитів'!A:AC,3,FALSE),\"\")","v":""},{"$f":"IFERROR(VLOOKUP(A244,'1.Портфель кредитів'!A:AC,14,FALSE),\"\")","v":""},null,null,null,null,null,null,null,null,null,null,null,null,"","",null,{"$f":"IFERROR(VLOOKUP(A244,'1.Портфель кредитів'!A:AC,30,FALSE),\"\")","v":""},0,{"$error":"#VALUE!"},null,null,null,null,null,{"$f":"VLOOKUP(C244,Hidden_Словник!$A$2:C$81,3,FALSE)","v":{"$error":"#N/A"}},0,{"$f":"VLOOKUP(E244,Hidden_Словник!$W$2:$X$13,2,FALSE)","v":{"$error":"#N/A"}},0,{"$error":"#N/A"}]
[null,"",{"$f":"IFERROR(VLOOKUP(A245,'1.Портфель кредитів'!A:AC,3,FALSE),\"\")","v":""},{"$f":"IFERROR(VLOOKUP(A245,'1.Портфель кредитів'!A:AC,14,FALSE),\"\")","v":""},null,null,null,null,null,null,null,null,null,null,null,null,"","",null,{"$f":"IFERROR(VLOOKUP(A245,'1.Портфель кредитів'!A:AC,30,FALSE),\"\")","v":""},0,{"$error":"#VALUE!"},null,null,null,null,null,{"$f":"VLOOKUP(C245,Hidden_Словник!$A$2:C$81,3,FALSE)","v":{"$error":"#N/A"}},0,{"$f":"VLOOKUP(E245,Hidden_Словник!$W$2:$X$13,2,FALSE)","v":{"$error":"#N/A"}},0,{"$error":"#N/A"}]
[null,"",{"$f":"IFERROR(VLOOKUP(A246,'1.Портфель кредитів'!A:AC,3,FALSE),\"\")","v":""},{"$f":"IFERROR(VLOOKUP(A246,'1.Портфель кредитів'!A:AC,14,FALSE),\"\")","v":""},null,null,null,null,null,null,null,null,null,null,null,null,"","",null,{"$f":"IFERROR(VLOOKUP(A246,'1.Портфель кредитів'!A:AC,30,FALSE),\"\")","v":""},0,{"$error":"#VALUE!"},null,null,null,null,null,{"$f":"VLOOKUP(C246,Hidden_Словник!$A$2:C$81,3,FALSE)","v":{"$error":"#N/A"}},0,{"$f":"VLOOKUP(E246,Hidden_Словник!$W$2:$X$13,2,FALSE)","v":{"$error":"#N/A"}},0,{"$error":"#N/A"}]
[null,"",{"$f":"IFERROR(VLOOKUP(A247,'1.Портфель кредитів'!A:AC,3,FALSE),\"\")","v":""},{"$f":"IFERROR(VLOOKUP(A247,'1.Портфель кредитів'!A:AC,14,FALSE),\"\")","v":""},null,null,null,null,null,null,null,null,null,null,null,null,"","",null,{"$f":"IFERROR(VLOOKUP(A247,'1.Портфель кредитів'!A:AC,30,FALSE),\"\")","v":""},0,{"$error":"#VALUE!"},null,null,null,null,null,{"$f":"VLOOKUP(C247,Hidden_Словник!$A$2:C$81,3,FALSE)","v":{"$error":"#N/A"}},0,{"$f":"VLOOKUP(E247,Hidden_Словник!$W$2:$X$13,2,FALSE)","v":{"$error":"#N/A"}},0,{"$error":"#N/A"}]
[null,"",{"$f":"IFERROR(VLOOKUP(A248,'1.Портфель кредитів'!A:AC,3,FALSE),\"\")","v":""},{"$f":"IFERROR(VLOOKUP(A248,'1.Портфель кредитів'!A:AC,14,FALSE),\"\")","v":""},null,null,null,null,null,null,null,null,null,null,null,null,"","",null,{"$f":"IFERROR(VLOOKUP(A248,'1.Портфель кредитів'!A:AC,30,FALSE),\"\")","v":""},0,{"$error":"#VALUE!"},null,null,null,null,null,{"$f":"VLOOKUP(C248,Hidden_Словник!$A$2:C$81,3,FALSE)","v":{"$error":"#N/A"}},0,{"$f":"VLOOKUP(E248,Hidden_Словник!$W$2:$X$13,2,FALSE)","v":{"$error":"#N/A"}},0,{"$error":"#N/A"}]
[null,"",{"$f":"IFERROR(VLOOKUP(A249,'1.Портфель кредитів'!A:AC,3,FALSE),\"\")","v":""},{"$f":"IFERROR(VLOOKUP(A249,'1.Портфель кредитів'!A:AC,14,FALSE),\"\")","v":""},null,null,null,null,null,null,null,null,null,null,null,null,"","",null,{"$f":"IFERROR(VLOOKUP(A249,'1.Портфель кредитів'!A:AC,30,FALSE),\"\")","v":""},0,{"$error":"#VALUE!"},null,null,null,null,null,{"$f":"VLOOKUP(C249,Hidden_Словник!$A$2:C$81,3,FALSE)","v":{"$error":"#N/A"}},0,{"$f":"VLOOKUP(E249,Hidden_Словник!$W$2:$X$13,2,FALSE)","v":{"$error":"#N/A"}},0,{"$error":"#N/A"}]
[null,"",{"$f":"IFERROR(VLOOKUP(A250,'1.Портфель кредитів'!A:AC,3,FALSE),\"\")","v":""},{"$f":"IFERROR(VLOOKUP(A250,'1.Портфель кредитів'!A:AC,14,FALSE),\"\")","v":""},null,null,null,null,null,null,null,null,null,null,null,null,"","",null,{"$f":"IFERROR(VLOOKUP(A250,'1.Портфель кредитів'!A:AC,30,FALSE),\"\")","v":""},0,{"$error":"#VALUE!"},null,null,null,null,null,{"$f":"VLOOKUP(C250,Hidden_Словник!$A$2:C$81,3,FALSE)","v":{"$error":"#N/A"}},0,{"$f":"VLOOKUP(E250,Hidden_Словник!$W$2:$X$13,2,FALSE)","v":{"$error":"#N/A"}},0,{"$error":"#N/A"}]
[null,"",{"$f":"IFERROR(VLOOKUP(A251,'1.Портфель кредитів'!A:AC,3,FALSE),\"\")","v":""},{"$f":"IFERROR(VLOOKUP(A251,'1.Портфель кредитів'!A:AC,14,FALSE),\"\")","v":""},null,null,null,null,null,null,null,null,null,null,null,null,"","",null,{"$f":"IFERROR(VLOOKUP(A251,'1.Портфель кредитів'!A:AC,30,FALSE),\"\")","v":""},0,{"$error":"#VALUE!"},null,null,null,null,null,{"$f":"VLOOKUP(C251,Hidden_Словник!$A$2:C$81,3,FALSE)","v":{"$error":"#N/A"}},0,{"$f":"VLOOKUP(E251,Hidden_Словник!$W$2:$X$13,2,FALSE)","v":{"$error":"#N/A"}},0,{"$error":"#N/A"}]
[null,"",{"$f":"IFERROR(VLOOKUP(A252,'1.Портфель кредитів'!A:AC,3,FALSE),\"\")","v":""},{"$f":"IFERROR(VLOOKUP(A252,'1.Портфель кредитів'!A:AC,14,FALSE),\"\")","v":""},null,null,null,null,null,null,null,null,null,null,null,null,"","",null,{"$f":"IFERROR(VLOOKUP(A252,'1.Портфель кредитів'!A:AC,30,FALSE),\"\")","v":""},0,{"$error":"#VALUE!"},null,null,null,null,null,{"$f":"VLOOKUP(C252,Hidden_Словник!$A$2:C$81,3,FALSE)","v":{"$error":"#N/A"}},0,{"$f":"VLOOKUP(E252,Hidden_Словник!$W$2:$X$13,2,FALSE)","v":{"$error":"#N/A"}},0,{"$error":"#N/A"}]
[null,"",{"$f":"IFERROR(VLOOKUP(A253,'1.Портфель кредитів'!A:AC,3,FALSE),\"\")","v":""},{"$f":"IFERROR(VLOOKUP(A253,'1.Портфель кредитів'!A:AC,14,FALSE),\"\")","v":""},null,null,null,null,null,null,null,null,null,null,null,null,"","",null,{"$f":"IFERROR(VLOOKUP(A253,'1.Портфель кредитів'!A:AC,30,FALSE),\"\")","v":""},0,{"$error":"#VALUE!"},null,null,null,null,null,{"$f":"VLOOKUP(C253,Hidden_Словник!$A$2:C$81,3,FALSE)","v":{"$error":"#N/A"}},0,{"$f":"VLOOKUP(E253,Hidden_Словник!$W$2:$X$13,2,FALSE)","v":{"$error":"#N/A"}},0,{"$error":"#N/A"}]
[null,"",{"$f":"IFERROR(VLOOKUP(A254,'1.Портфель кредитів'!A:AC,3,FALSE),\"\")","v":""},{"$f":"IFERROR(VLOOKUP(A254,'1.Портфель кредитів'!A:AC,14,FALSE),\"\")","v":""},null,null,null,null,null,null,null,null,null,null,null,null,"","",null,{"$f":"IFERROR(VLOOKUP(A254,'1.Портфель кредитів'!A:AC,30,FALSE),\"\")","v":""},0,{"$error":"#VALUE!"},null,null,null,null,null,{"$f":"VLOOKUP(C254,Hidden_Словник!$A$2:C$81,3,FALSE)","v":{"$error":"#N/A"}},0,{"$f":"VLOOKUP(E254,Hidden_Словник!$W$2:$X$13,2,FALSE)","v":{"$error":"#N/A"}},0,{"$error":"#N/A"}]
[null,"",{"$f":"IFERROR(VLOOKUP(A255,'1.Портфель кредитів'!A:AC,3,FALSE),\"\")","v":""},{"$f":"IFERROR(VLOOKUP(A255,'1.Портфель кредитів'!A:AC,14,FALSE),\"\")","v":""},null,null,null,null,null,null,null,null,null,null,null,null,"","",null,{"$f":"IFERROR(VLOOKUP(A255,'1.Портфель кредитів'!A:AC,30,FALSE),\"\")","v":""},0,{"$f":"T255/U255","v":{"$error":"#VALUE!"}},null,null,null,null,null,{"$f":"VLOOKUP(C255,Hidden_Словник!$A$2:C$81,3,FALSE)","v":{"$error":"#N/A"}},0,{"$f":"VLOOKUP(E255,Hidden_Словник!$W$2:$X$13,2,FALSE)","v":{"$error":"#N/A"}},0,{"$error":"#N/A"}]
[null,"",{"$f":"IFERROR(VLOOKUP(A256,'1.Портфель кредитів'!A:AC,3,FALSE),\"\")","v":""},{"$f":"IFERROR(VLOOKUP(A256,'1.Портфель кредитів'!A:AC,14,FALSE),\"\")","v":""},null,null,null,null,null,null,null,null,null,null,null,null,"","",null,{"$f":"IFERROR(VLOOKUP(A256,'1.Портфель кредитів'!A:AC,30,FALSE),\"\")","v":""},0,{"$error":"#VALUE!"},null,null,null,null,null,{"$f":"VLOOKUP(C256,Hidden_Словник!$A$2:C$81,3,FALSE)","v":{"$error":"#N/A"}},0,{"$f":"VLOOKUP(E256,Hidden_Словник!$W$2:$X$13,2,FALSE)","v":{"$error":"#N/A"}},0,{"$error":"#N/A"}]
[null,"",{"$f":"IFERROR(VLOOKUP(A257,'1.Портфель кредитів'!A:AC,3,FALSE),\"\")","v":""},{"$f":"IFERROR(VLOOKUP(A257,'1.Портфель кредитів'!A:AC,14,FALSE),\"\")","v":""},null,null,null,null,null,null,null,null,null,null,null,null,"","",null,{"$f":"IFERROR(VLOOKUP(A257,'1.Портфель кредитів'!A:AC,30,FALSE),\"\")","v":""},0,{"$error":"#VALUE!"},null,null,null,null,null,{"$f":"VLOOKUP(C257,Hidden_Словник!$A$2:C$81,3,FALSE)","v":{"$error":"#N/A"}},0,{"$f":"VLOOKUP(E257,Hidden_Словник!$W$2:$X$13,2,FALSE)","v":{"$error":"#N/A"}},0,{"$error":"#N/A"}]
[null,"",{"$f":"IFERROR(VLOOKUP(A258,'1.Портфель кредитів'!A:AC,3,FALSE),\"\")","v":""},{"$f":"IFERROR(VLOOKUP(A258,'1.Портфель кредитів'!A:AC,14,FALSE),\"\")","v":""},null,null,null,null,null,null,null,null,null,null,null,null,"","",null,{"$f":"IFERROR(VLOOKUP(A258,'1.Портфель кредитів'!A:AC,30,FALSE),\"\")","v":""},0,{"$error":"#VALUE!"},null,null,null,null,null,{"$f":"VLOOKUP(C258,Hidden_Словник!$A$2:C$81,3,FALSE)","v":{"$error":"#N/A"}},0,{"$f":"VLOOKUP(E258,Hidden_Словник!$W$2:$X$13,2,FALSE)","v":{"$error":"#N/A"}},0,{"$error":"#N/A"}]
[null,"",{"$f":"IFERROR(VLOOKUP(A259,'1.Портфель кредитів'!A:AC,3,FALSE),\"\")","v":""},{"$f":"IFERROR(VLOOKUP(A259,'1.Портфель кредитів'!A:AC,14,FALSE),\"\")","v":""},null,null,null,null,null,null,null,null,null,null,null,null,"","",null,{"$f":"IFERROR(VLOOKUP(A259,'1.Портфель кредитів'!A:AC,30,FALSE),\"\")","v":""},0,{"$error":"#VALUE!"},null,null,null,null,null,{"$f":"VLOOKUP(C259,Hidden_Словник!$A$2:C$81,3,FALSE)","v":{"$error":"#N/A"}},0,{"$f":"VLOOKUP(E259,Hidden_Словник!$W$2:$X$13,2,FALSE)","v":{"$error":"#N/A"}},0,{"$error":"#N/A"}]
[null,"",{"$f":"IFERROR(VLOOKUP(A260,'1.Портфель кредитів'!A:AC,3,FALSE),\"\")","v":""},{"$f":"IFERROR(VLOOKUP(A260,'1.Портфель кредитів'!A:AC,14,FALSE),\"\")","v":""},null,null,null,null,null,null,null,null,null,null,null,null,"","",null,{"$f":"IFERROR(VLOOKUP(A260,'1.Портфель кредитів'!A:AC,30,FALSE),\"\")","v":""},0,{"$error":"#VALUE!"},null,null,null,null,null,{"$f":"VLOOKUP(C260,Hidden_Словник!$A$2:C$81,3,FALSE)","v":{"$error":"#N/A"}},0,{"$f":"VLOOKUP(E260,Hidden_Словник!$W$2:$X$13,2,FALSE)","v":{"$error":"#N/A"}},0,{"$error":"#N/A"}]
[null,"",{"$f":"IFERROR(VLOOKUP(A261,'1.Портфель кредитів'!A:AC,3,FALSE),\"\")","v":""},{"$f":"IFERROR(VLOOKUP(A261,'1.Портфель кредитів'!A:AC,14,FALSE),\"\")","v":""},null,null,null,null,null,null,null,null,null,null,null,null,"","",null,{"$f":"IFERROR(VLOOKUP(A261,'1.Портфель кредитів'!A:AC,30,FALSE),\"\")","v":""},0,{"$error":"#VALUE!"},null,null,null,null,null,{"$f":"VLOOKUP(C261,Hidden_Словник!$A$2:C$81,3,FALSE)","v":{"$error":"#N/A"}},0,{"$f":"VLOOKUP(E261,Hidden_Словник!$W$2:$X$13,2,FALSE)","v":{"$error":"#N/A"}},0,{"$error":"#N/A"}]
[null,"",{"$f":"IFERROR(VLOOKUP(A262,'1.Портфель кредитів'!A:AC,3,FALSE),\"\")","v":""},{"$f":"IFERROR(VLOOKUP(A262,'1.Портфель кредитів'!A:AC,14,FALSE),\"\")","v":""},null,null,null,null,null,null,null,null,null,null,null,null,"","",null,{"$f":"IFERROR(VLOOKUP(A262,'1.Портфель кредитів'!A:AC,30,FALSE),\"\")","v":""},0,{"$error":"#VALUE!"},null,null,null,null,null,{"$f":"VLOOKUP(C262,Hidden_Словник!$A$2:C$81,3,FALSE)","v":{"$error":"#N/A"}},0,{"$f":"VLOOKUP(E262,Hidden_Словник!$W$2:$X$13,2,FALSE)","v":{"$error":"#N/A"}},0,{"$error":"#N/A"}]
[null,"",{"$f":"IFERROR(VLOOKUP(A263,'1.Портфель кредитів'!A:AC,3,FALSE),\"\")","v":""},{"$f":"IFERROR(VLOOKUP(A263,'1.Портфель кредитів'!A:AC,14,FALSE),\"\")","v":""},null,null,null,null,null,null,null,null,null,null,null,null,"","",null,{"$f":"IFERROR(VLOOKUP(A263,'1.Портфель кредитів'!A:AC,30,FALSE),\"\")","v":""},0,{"$error":"#VALUE!"},null,null,null,null,null,{"$f":"VLOOKUP(C263,Hidden_Словник!$A$2:C$81,3,FALSE)","v":{"$error":"#N/A"}},0,{"$f":"VLOOKUP(E263,Hidden_Словник!$W$2:$X$13,2,FALSE)","v":{"$error":"#N/A"}},0,{"$error":"#N/A"}]
[null,"",{"$f":"IFERROR(VLOOKUP(A264,'1.Портфель кредитів'!A:AC,3,FALSE),\"\")","v":""},{"$f":"IFERROR(VLOOKUP(A264,'1.Портфель кредитів'!A:AC,14,FALSE),\"\")","v":""},null,null,null,null,null,null,null,null,null,null,null,null,"","",null,{"$f":"IFERROR(VLOOKUP(A264,'1.Портфель кредитів'!A:AC,30,FALSE),\"\")","v":""},0,{"$error":"#VALUE!"},null,null,null,null,null,{"$f":"VLOOKUP(C264,Hidden_Словник!$A$2:C$81,3,FALSE)","v":{"$error":"#N/A"}},0,{"$f":"VLOOKUP(E264,Hidden_Словник!$W$2:$X$13,2,FALSE)","v":{"$error":"#N/A"}},0,{"$error":"#N/A"}]
[null,"",{"$f":"IFERROR(VLOOKUP(A265,'1.Портфель кредитів'!A:AC,3,FALSE),\"\")","v":""},{"$f":"IFERROR(VLOOKUP(A265,'1.Портфель кредитів'!A:AC,14,FALSE),\"\")","v":""},null,null,null,null,null,null,null,null,null,null,null,null,"","",null,{"$f":"IFERROR(VLOOKUP(A265,'1.Портфель кредитів'!A:AC,30,FALSE),\"\")","v":""},0,{"$error":"#VALUE!"},null,null,null,null,null,{"$f":"VLOOKUP(C265,Hidden_Словник!$A$2:C$81,3,FALSE)","v":{"$error":"#N/A"}},0,{"$f":"VLOOKUP(E265,Hidden_Словник!$W$2:$X$13,2,FALSE)","v":{"$error":"#N/A"}},0,{"$error":"#N/A"}]
[null,"",{"$f":"IFERROR(VLOOKUP(A266,'1.Портфель кредитів'!A:AC,3,FALSE),\"\")","v":""},{"$f":"IFERROR(VLOOKUP(A266,'1.Портфель кредитів'!A:AC,14,FALSE),\"\")","v":""},null,null,null,null,null,null,null,null,null,null,null,null,"","",null,{"$f":"IFERROR(VLOOKUP(A266,'1.Портфель кредитів'!A:AC,30,FALSE),\"\")","v":""},0,{"$error":"#VALUE!"},null,null,null,null,null,{"$f":"VLOOKUP(C266,Hidden_Словник!$A$2:C$81,3,FALSE)","v":{"$error":"#N/A"}},0,{"$f":"VLOOKUP(E266,Hidden_Словник!$W$2:$X$13,2,FALSE)","v":{"$error":"#N/A"}},0,{"$error":"#N/A"}]
[null,"",{"$f":"IFERROR(VLOOKUP(A267,'1.Портфель кредитів'!A:AC,3,FALSE),\"\")","v":""},{"$f":"IFERROR(VLOOKUP(A267,'1.Портфель кредитів'!A:AC,14,FALSE),\"\")","v":""},null,null,null,null,null,null,null,null,null,null,null,null,"","",null,{"$f":"IFERROR(VLOOKUP(A267,'1.Портфель кредитів'!A:AC,30,FALSE),\"\")","v":""},0,{"$error":"#VALUE!"},null,null,null,null,null,{"$f":"VLOOKUP(C267,Hidden_Словник!$A$2:C$81,3,FALSE)","v":{"$error":"#N/A"}},0,{"$f":"VLOOKUP(E267,Hidden_Словник!$W$2:$X$13,2,FALSE)","v":{"$error":"#N/A"}},0,{"$error":"#N/A"}]
[null,"",{"$f":"IFERROR(VLOOKUP(A268,'1.Портфель кредитів'!A:AC,3,FALSE),\"\")","v":""},{"$f":"IFERROR(VLOOKUP(A268,'1.Портфель кредитів'!A:AC,14,FALSE),\"\")","v":""},null,null,null,null,null,null,null,null,null,null,null,null,"","",null,{"$f":"IFERROR(VLOOKUP(A268,'1.Портфель кредитів'!A:AC,30,FALSE),\"\")","v":""},0,{"$error":"#VALUE!"},null,null,null,null,null,{"$f":"VLOOKUP(C268,Hidden_Словник!$A$2:C$81,3,FALSE)","v":{"$error":"#N/A"}},0,{"$f":"VLOOKUP(E268,Hidden_Словник!$W$2:$X$13,2,FALSE)","v":{"$error":"#N/A"}},0,{"$error":"#N/A"}]
[null,"",{"$f":"IFERROR(VLOOKUP(A269,'1.Портфель кредитів'!A:AC,3,FALSE),\"\")","v":""},{"$f":"IFERROR(VLOOKUP(A269,'1.Портфель кредитів'!A:AC,14,FALSE),\"\")","v":""},null,null,null,null,null,null,null,null,null,null,null,null,"","",null,{"$f":"IFERROR(VLOOKUP(A269,'1.Портфель кредитів'!A:AC,30,FALSE),\"\")","v":""},0,{"$error":"#VALUE!"},null,null,null,null,null,{"$f":"VLOOKUP(C269,Hidden_Словник!$A$2:C$81,3,FALSE)","v":{"$error":"#N/A"}},0,{"$f":"VLOOKUP(E269,Hidden_Словник!$W$2:$X$13,2,FALSE)","v":{"$error":"#N/A"}},0,{"$error":"#N/A"}]
[null,"",{"$f":"IFERROR(VLOOKUP(A270,'1.Портфель кредитів'!A:AC,3,FALSE),\"\")","v":""},{"$f":"IFERROR(VLOOKUP(A270,'1.Портфель кредитів'!A:AC,14,FALSE),\"\")","v":""},null,null,null,null,null,null,null,null,null,null,null,null,"","",null,{"$f":"IFERROR(VLOOKUP(A270,'1.Портфель кредитів'!A:AC,30,FALSE),\"\")","v":""},0,{"$error":"#VALUE!"},null,null,null,null,null,{"$f":"VLOOKUP(C270,Hidden_Словник!$A$2:C$81,3,FALSE)","v":{"$error":"#N/A"}},0,{"$f":"VLOOKUP(E270,Hidden_Словник!$W$2:$X$13,2,FALSE)","v":{"$error":"#N/A"}},0,{"$error":"#N/A"}]
[null,"",{"$f":"IFERROR(VLOOKUP(A271,'1.Портфель кредитів'!A:AC,3,FALSE),\"\")","v":""},{"$f":"IFERROR(VLOOKUP(A271,'1.Портфель кредитів'!A:AC,14,FALSE),\"\")","v":""},null,null,null,null,null,null,null,null,null,null,null,null,"","",null,{"$f":"IFERROR(VLOOKUP(A271,'1.Портфель кредитів'!A:AC,30,FALSE),\"\")","v":""},0,{"$error":"#VALUE!"},null,null,null,null,null,{"$f":"VLOOKUP(C271,Hidden_Словник!$A$2:C$81,3,FALSE)","v":{"$error":"#N/A"}},0,{"$f":"VLOOKUP(E271,Hidden_Словник!$W$2:$X$13,2,FALSE)","v":{"$error":"#N/A"}},0,{"$error":"#N/A"}]
[null,"",{"$f":"IFERROR(VLOOKUP(A272,'1.Портфель кредитів'!A:AC,3,FALSE),\"\")","v":""},{"$f":"IFERROR(VLOOKUP(A272,'1.Портфель кредитів'!A:AC,14,FALSE),\"\")","v":""},null,null,null,null,null,null,null,null,null,null,null,null,"","",null,{"$f":"IFERROR(VLOOKUP(A272,'1.Портфель кредитів'!A:AC,30,FALSE),\"\")","v":""},0,{"$error":"#VALUE!"},null,null,null,null,null,{"$f":"VLOOKUP(C272,Hidden_Словник!$A$2:C$81,3,FALSE)","v":{"$error":"#N/A"}},0,{"$f":"VLOOKUP(E272,Hidden_Словник!$W$2:$X$13,2,FALSE)","v":{"$error":"#N/A"}},0,{"$error":"#N/A"}]
[null,"",{"$f":"IFERROR(VLOOKUP(A273,'1.Портфель кредитів'!A:AC,3,FALSE),\"\")","v":""},{"$f":"IFERROR(VLOOKUP(A273,'1.Портфель кредитів'!A:AC,14,FALSE),\"\")","v":""},null,null,null,null,null,null,null,null,null,null,null,null,"","",null,{"$f":"IFERROR(VLOOKUP(A273,'1.Портфель кредитів'!A:AC,30,FALSE),\"\")","v":""},0,{"$error":"#VALUE!"},null,null,null,null,null,{"$f":"VLOOKUP(C273,Hidden_Словник!$A$2:C$81,3,FALSE)","v":{"$error":"#N/A"}},0,{"$f":"VLOOKUP(E273,Hidden_Словник!$W$2:$X$13,2,FALSE)","v":{"$error":"#N/A"}},0,{"$error":"#N/A"}]
[null,"",{"$f":"IFERROR(VLOOKUP(A274,'1.Портфель кредитів'!A:AC,3,FALSE),\"\")","v":""},{"$f":"IFERROR(VLOOKUP(A274,'1.Портфель кредитів'!A:AC,14,FALSE),\"\")","v":""},null,null,null,null,null,null,null,null,null,null,null,null,"","",null,{"$f":"IFERROR(VLOOKUP(A274,'1.Портфель кредитів'!A:AC,30,FALSE),\"\")","v":""},0,{"$error":"#VALUE!"},null,null,null,null,null,{"$f":"VLOOKUP(C274,Hidden_Словник!$A$2:C$81,3,FALSE)","v":{"$error":"#N/A"}},0,{"$f":"VLOOKUP(E274,Hidden_Словник!$W$2:$X$13,2,FALSE)","v":{"$error":"#N/A"}},0,{"$error":"#N/A"}]
[null,"",{"$f":"IFERROR(VLOOKUP(A275,'1.Портфель кредитів'!A:AC,3,FALSE),\"\")","v":""},{"$f":"IFERROR(VLOOKUP(A275,'1.Портфель кредитів'!A:AC,14,FALSE),\"\")","v":""},null,null,null,null,null,null,null,null,null,null,null,null,"","",null,{"$f":"IFERROR(VLOOKUP(A275,'1.Портфель кредитів'!A:AC,30,FALSE),\"\")","v":""},0,{"$error":"#VALUE!"},null,null,null,null,null,{"$f":"VLOOKUP(C275,Hidden_Словник!$A$2:C$81,3,FALSE)","v":{"$error":"#N/A"}},0,{"$f":"VLOOKUP(E275,Hidden_Словник!$W$2:$X$13,2,FALSE)","v":{"$error":"#N/A"}},0,{"$error":"#N/A"}]
[null,"",{"$f":"IFERROR(VLOOKUP(A276,'1.Портфель кредитів'!A:AC,3,FALSE),\"\")","v":""},{"$f":"IFERROR(VLOOKUP(A276,'1.Портфель кредитів'!A:AC,14,FALSE),\"\")","v":""},null,null,null,null,null,null,null,null,null,null,null,null,"","",null,{"$f":"IFERROR(VLOOKUP(A276,'1.Портфель кредитів'!A:AC,30,FALSE),\"\")","v":""},0,{"$error":"#VALUE!"},null,null,null,null,null,{"$f":"VLOOKUP(C276,Hidden_Словник!$A$2:C$81,3,FALSE)","v":{"$error":"#N/A"}},0,{"$f":"VLOOKUP(E276,Hidden_Словник!$W$2:$X$13,2,FALSE)","v":{"$error":"#N/A"}},0,{"$error":"#N/A"}]
[null,"",{"$f":"IFERROR(VLOOKUP(A277,'1.Портфель кредитів'!A:AC,3,FALSE),\"\")","v":""},{"$f":"IFERROR(VLOOKUP(A277,'1.Портфель кредитів'!A:AC,14,FALSE),\"\")","v":""},null,null,null,null,null,null,null,null,null,null,null,null,"","",null,{"$f":"IFERROR(VLOOKUP(A277,'1.Портфель кредитів'!A:AC,30,FALSE),\"\")","v":""},0,{"$error":"#VALUE!"},null,null,null,null,null,{"$f":"VLOOKUP(C277,Hidden_Словник!$A$2:C$81,3,FALSE)","v":{"$error":"#N/A"}},0,{"$f":"VLOOKUP(E277,Hidden_Словник!$W$2:$X$13,2,FALSE)","v":{"$error":"#N/A"}},0,{"$error":"#N/A"}]
[null,"",{"$f":"IFERROR(VLOOKUP(A278,'1.Портфель кредитів'!A:AC,3,FALSE),\"\")","v":""},{"$f":"IFERROR(VLOOKUP(A278,'1.Портфель кредитів'!A:AC,14,FALSE),\"\")","v":""},null,null,null,null,null,null,null,null,null,null,null,null,"",{"$f":"IFERROR(V278*L278,\"\")","v":""},null,{"$f":"IFERROR(VLOOKUP(A278,'1.Портфель кредитів'!A:AC,30,FALSE),\"\")","v":""},0,{"$error":"#VALUE!"},null,null,null,null,null,{"$f":"VLOOKUP(C278,Hidden_Словник!$A$2:C$81,3,FALSE)","v":{"$error":"#N/A"}},{"$f":"ROUNDUP(L278,0)","v":0},{"$f":"VLOOKUP(E278,Hidden_Словник!$W$2:$X$13,2,FALSE)","v":{"$error":"#N/A"}},{"$f":"O278","v":0},{"$error":"#N/A"}]
[null,{"$f":"IFERROR(AF279,\"\")","v":""},{"$f":"IFERROR(VLOOKUP(A279,'1.Портфель кредитів'!A:AC,3,FALSE),\"\")","v":""},{"$f":"IFERROR(VLOOKUP(A279,'1.Портфель кредитів'!A:AC,14,FALSE),\"\")","v":""},null,null,null,null,null,null,null,null,null,null,null,null,"","",null,{"$f":"IFERROR(VLOOKUP(A279,'1.Портфель кредитів'!A:AC,30,FALSE),\"\")","v":""},0,{"$error":"#VALUE!"},null,null,null,null,null,{"$f":"VLOOKUP(C279,Hidden_Словник!$A$2:C$81,3,FALSE)","v":{"$error":"#N/A"}},0,{"$f":"VLOOKUP(E279,Hidden_Словник!$W$2:$X$13,2,FALSE)","v":{"$error":"#N/A"}},0,{"$f":"AB279&\"_\"&AC279&AD279&AE279","v":{"$error":"#N/A"}}]
[null,"",{"$f":"IFERROR(VLOOKUP(A280,'1.Портфель кредитів'!A:AC,3,FALSE),\"\")","v":""},{"$f":"IFERROR(VLOOKUP(A280,'1.Портфель кредитів'!A:AC,14,FALSE),\"\")","v":""},null,null,null,null,null,null,null,null,null,null,null,null,"","",null,{"$f":"IFERROR(VLOOKUP(A280,'1.Портфель кредитів'!A:AC,30,FALSE),\"\")","v":""},0,{"$error":"#VALUE!"},null,null,null,null,null,{"$f":"VLOOKUP(C280,Hidden_Словник!$A$2:C$81,3,FALSE)","v":{"$error":"#N/A"}},0,{"$f":"VLOOKUP(E280,Hidden_Словник!$W$2:$X$13,2,FALSE)","v":{"$error":"#N/A"}},0,{"$error":"#N/A"}]
[null,"",{"$f":"IFERROR(VLOOKUP(A281,'1.Портфель кредитів'!A:AC,3,FALSE),\"\")","v":""},{"$f":"IFERROR(VLOOKUP(A281,'1.Портфель кредитів'!A:AC,14,FALSE),\"\")","v":""},null,null,null,null,null,null,null,null,null,null,null,null,"","",null,{"$f":"IFERROR(VLOOKUP(A281,'1.Портфель кредитів'!A:AC,30,FALSE),\"\")","v":""},0,{"$error":"#VALUE!"},null,null,null,null,null,{"$f":"VLOOKUP(C281,Hidden_Словник!$A$2:C$81,3,FALSE)","v":{"$error":"#N/A"}},0,{"$f":"VLOOKUP(E281,Hidden_Словник!$W$2:$X$13,2,FALSE)","v":{"$error":"#N/A"}},0,{"$error":"#N/A"}]
[null,"",{"$f":"IFERROR(VLOOKUP(A282,'1.Портфель кредитів'!A:AC,3,FALSE),\"\")","v":""},{"$f":"IFERROR(VLOOKUP(A282,'1.Портфель кредитів'!A:AC,14,FALSE),\"\")","v":""},null,null,null,null,null,null,null,null,null,null,null,null,{"$f":"IF(O282=\"\",\"\",IF(COUNTIF(AF:AF,AF282)>1,\"так\",\"ні\"))","v":""},"",null,{"$f":"IFERROR(VLOOKUP(A282,'1.Портфель кредитів'!A:AC,30,FALSE),\"\")","v":""},{"$f":"SUMIF(B:B,B282,T:T)","v":0},{"$error":"#VALUE!"},null,null,null,null,null,{"$f":"VLOOKUP(C282,Hidden_Словник!$A$2:C$81,3,FALSE)","v":{"$error":"#N/A"}},0,{"$f":"VLOOKUP(E282,Hidden_Словник!$W$2:$X$13,2,FALSE)","v":{"$error":"#N/A"}},0,{"$error":"#N/A"}]
[null,"",{"$f":"IFERROR(VLOOKUP(A283,'1.Портфель кредитів'!A:AC,3,FALSE),\"\")","v":""},{"$f":"IFERROR(VLOOKUP(A283,'1.Портфель кредитів'!A:AC,14,FALSE),\"\")","v":""},null,null,null,null,null,null,null,null,null,null,null,null,"","",null,{"$f":"IFERROR(VLOOKUP(A283,'1.Портфель кредитів'!A:AC,30,FALSE),\"\")","v":""},0,{"$error":"#VALUE!"},null,null,null,null,null,{"$f":"VLOOKUP(C283,Hidden_Словник!$A$2:C$81,3,FALSE)","v":{"$error":"#N/A"}},0,{"$f":"VLOOKUP(E283,Hidden_Словник!$W$2:$X$13,2,FALSE)","v":{"$error":"#N/A"}},0,{"$error":"#N/A"}]
[null,"",{"$f":"IFERROR(VLOOKUP(A284,'1.Портфель кредитів'!A:AC,3,FALSE),\"\")","v":""},{"$f":"IFERROR(VLOOKUP(A284,'1.Портфель кредитів'!A:AC,14,FALSE),\"\")","v":""},null,null,null,null,null,null,null,null,null,null,null,null,"","",null,{"$f":"IFERROR(VLOOKUP(A284,'1.Портфель кредитів'!A:AC,30,FALSE),\"\")","v":""},0,{"$error":"#VALUE!"},null,null,null,null,null,{"$f":"VLOOKUP(C284,Hidden_Словник!$A$2:C$81,3,FALSE)","v":{"$error":"#N/A"}},0,{"$f":"VLOOKUP(E284,Hidden_Словник!$W$2:$X$13,2,FALSE)","v":{"$error":"#N/A"}},0,{"$error":"#N/A"}]
[null,"",{"$f":"IFERROR(VLOOKUP(A285,'1.Портфель кредитів'!A:AC,3,FALSE),\"\")","v":""},{"$f":"IFERROR(VLOOKUP(A285,'1.Портфель кредитів'!A:AC,14,FALSE),\"\")","v":""},null,null,null,null,null,null,null,null,null,null,null,null,"","",null,{"$f":"IFERROR(VLOOKUP(A285,'1.Портфель кредитів'!A:AC,30,FALSE),\"\")","v":""},0,{"$error":"#VALUE!"},null,null,null,null,null,{"$f":"VLOOKUP(C285,Hidden_Словник!$A$2:C$81,3,FALSE)","v":{"$error":"#N/A"}},0,{"$f":"VLOOKUP(E285,Hidden_Словник!$W$2:$X$13,2,FALSE)","v":{"$error":"#N/A"}},0,{"$error":"#N/A"}]
[null,"",{"$f":"IFERROR(VLOOKUP(A286,'1.Портфель кредитів'!A:AC,3,FALSE),\"\")","v":""},{"$f":"IFERROR(VLOOKUP(A286,'1.Портфель кредитів'!A:AC,14,FALSE),\"\")","v":""},null,null,null,null,null,null,null,null,null,null,null,null,"","",null,{"$f":"IFERROR(VLOOKUP(A286,'1.Портфель кредитів'!A:AC,30,FALSE),\"\")","v":""},0,{"$error":"#VALUE!"},null,null,null,null,null,{"$f":"VLOOKUP(C286,Hidden_Словник!$A$2:C$81,3,FALSE)","v":{"$error":"#N/A"}},0,{"$f":"VLOOKUP(E286,Hidden_Словник!$W$2:$X$13,2,FALSE)","v":{"$error":"#N/A"}},0,{"$error":"#N/A"}]
[null,"",{"$f":"IFERROR(VLOOKUP(A287,'1.Портфель кредитів'!A:AC,3,FALSE),\"\")","v":""},{"$f":"IFERROR(VLOOKUP(A287,'1.Портфель кредитів'!A:AC,14,FALSE),\"\")","v":""},null,null,null,null,null,null,null,null,null,null,null,null,"","",null,{"$f":"IFERROR(VLOOKUP(A287,'1.Портфель кредитів'!A:AC,30,FALSE),\"\")","v":""},0,{"$error":"#VALUE!"},null,null,null,null,null,{"$f":"VLOOKUP(C287,Hidden_Словник!$A$2:C$81,3,FALSE)","v":{"$error":"#N/A"}},0,{"$f":"VLOOKUP(E287,Hidden_Словник!$W$2:$X$13,2,FALSE)","v":{"$error":"#N/A"}},0,{"$error":"#N/A"}]
[null,"",{"$f":"IFERROR(VLOOKUP(A288,'1.Портфель кредитів'!A:AC,3,FALSE),\"\")","v":""},{"$f":"IFERROR(VLOOKUP(A288,'1.Портфель кредитів'!A:AC,14,FALSE),\"\")","v":""},null,null,null,null,null,null,null,null,null,null,null,null,"","",null,{"$f":"IFERROR(VLOOKUP(A288,'1.Портфель кредитів'!A:AC,30,FALSE),\"\")","v":""},0,{"$error":"#VALUE!"},null,null,null,null,null,{"$f":"VLOOKUP(C288,Hidden_Словник!$A$2:C$81,3,FALSE)","v":{"$error":"#N/A"}},0,{"$f":"VLOOKUP(E288,Hidden_Словник!$W$2:$X$13,2,FALSE)","v":{"$error":"#N/A"}},0,{"$error":"#N/A"}]
[null,"",{"$f":"IFERROR(VLOOKUP(A289,'1.Портфель кредитів'!A:AC,3,FALSE),\"\")","v":""},{"$f":"IFERROR(VLOOKUP(A289,'1.Портфель кредитів'!A:AC,14,FALSE),\"\")","v":""},null,null,null,null,null,null,null,null,null,null,null,null,"","",null,{"$f":"IFERROR(VLOOKUP(A289,'1.Портфель кредитів'!A:AC,30,FALSE),\"\")","v":""},0,{"$error":"#VALUE!"},null,null,null,null,null,{"$f":"VLOOKUP(C289,Hidden_Словник!$A$2:C$81,3,FALSE)","v":{"$error":"#N/A"}},0,{"$f":"VLOOKUP(E289,Hidden_Словник!$W$2:$X$13,2,FALSE)","v":{"$error":"#N/A"}},0,{"$error":"#N/A"}]
[null,"",{"$f":"IFERROR(VLOOKUP(A290,'1.Портфель кредитів'!A:AC,3,FALSE),\"\")","v":""},{"$f":"IFERROR(VLOOKUP(A290,'1.Портфель кредитів'!A:AC,14,FALSE),\"\")","v":""},null,null,null,null,null,null,null,null,null,null,null,null,"","",null,{"$f":"IFERROR(VLOOKUP(A290,'1.Портфель кредитів'!A:AC,30,FALSE),\"\")","v":""},0,{"$error":"#VALUE!"},null,null,null,null,null,{"$f":"VLOOKUP(C290,Hidden_Словник!$A$2:C$81,3,FALSE)","v":{"$error":"#N/A"}},0,{"$f":"VLOOKUP(E290,Hidden_Словник!$W$2:$X$13,2,FALSE)","v":{"$error":"#N/A"}},0,{"$error":"#N/A"}]
[null,"",{"$f":"IFERROR(VLOOKUP(A291,'1.Портфель кредитів'!A:AC,3,FALSE),\"\")","v":""},{"$f":"IFERROR(VLOOKUP(A291,'1.Портфель кредитів'!A:AC,14,FALSE),\"\")","v":""},null,null,null,null,null,null,null,null,null,null,null,null,"","",null,{"$f":"IFERROR(VLOOKUP(A291,'1.Портфель кредитів'!A:AC,30,FALSE),\"\")","v":""},0,{"$error":"#VALUE!"},null,null,null,null,null,{"$f":"VLOOKUP(C291,Hidden_Словник!$A$2:C$81,3,FALSE)","v":{"$error":"#N/A"}},0,{"$f":"VLOOKUP(E291,Hidden_Словник!$W$2:$X$13,2,FALSE)","v":{"$error":"#N/A"}},0,{"$error":"#N/A"}]
[null,"",{"$f":"IFERROR(VLOOKUP(A292,'1.Портфель кредитів'!A:AC,3,FALSE),\"\")","v":""},{"$f":"IFERROR(VLOOKUP(A292,'1.Портфель кредитів'!A:AC,14,FALSE),\"\")","v":""},null,null,null,null,null,null,null,null,null,null,null,null,"","",null,{"$f":"IFERROR(VLOOKUP(A292,'1.Портфель кредитів'!A:AC,30,FALSE),\"\")","v":""},0,{"$error":"#VALUE!"},null,null,null,null,null,{"$f":"VLOOKUP(C292,Hidden_Словник!$A$2:C$81,3,FALSE)","v":{"$error":"#N/A"}},0,{"$f":"VLOOKUP(E292,Hidden_Словник!$W$2:$X$13,2,FALSE)","v":{"$error":"#N/A"}},0,{"$error":"#N/A"}]
[null,"",{"$f":"IFERROR(VLOOKUP(A293,'1.Портфель кредитів'!A:AC,3,FALSE),\"\")","v":""},{"$f":"IFERROR(VLOOKUP(A293,'1.Портфель кредитів'!A:AC,14,FALSE),\"\")","v":""},null,null,null,null,null,null,null,null,null,null,null,null,"","",null,{"$f":"IFERROR(VLOOKUP(A293,'1.Портфель кредитів'!A:AC,30,FALSE),\"\")","v":""},0,{"$error":"#VALUE!"},null,null,null,null,null,{"$f":"VLOOKUP(C293,Hidden_Словник!$A$2:C$81,3,FALSE)","v":{"$error":"#N/A"}},0,{"$f":"VLOOKUP(E293,Hidden_Словник!$W$2:$X$13,2,FALSE)","v":{"$error":"#N/A"}},0,{"$error":"#N/A"}]
[null,"",{"$f":"IFERROR(VLOOKUP(A294,'1.Портфель кредитів'!A:AC,3,FALSE),\"\")","v":""},{"$f":"IFERROR(VLOOKUP(A294,'1.Портфель кредитів'!A:AC,14,FALSE),\"\")","v":""},null,null,null,null,null,null,null,null,null,null,null,null,"","",null,{"$f":"IFERROR(VLOOKUP(A294,'1.Портфель кредитів'!A:AC,30,FALSE),\"\")","v":""},0,{"$error":"#VALUE!"},null,null,null,null,null,{"$f":"VLOOKUP(C294,Hidden_Словник!$A$2:C$81,3,FALSE)","v":{"$error":"#N/A"}},0,{"$f":"VLOOKUP(E294,Hidden_Словник!$W$2:$X$13,2,FALSE)","v":{"$error":"#N/A"}},0,{"$error":"#N/A"}]
[null,"",{"$f":"IFERROR(VLOOKUP(A295,'1.Портфель кредитів'!A:AC,3,FALSE),\"\")","v":""},{"$f":"IFERROR(VLOOKUP(A295,'1.Портфель кредитів'!A:AC,14,FALSE),\"\")","v":""},null,null,null,null,null,null,null,null,null,null,null,null,"","",null,{"$f":"IFERROR(VLOOKUP(A295,'1.Портфель кредитів'!A:AC,30,FALSE),\"\")","v":""},0,{"$error":"#VALUE!"},null,null,null,null,null,{"$f":"VLOOKUP(C295,Hidden_Словник!$A$2:C$81,3,FALSE)","v":{"$error":"#N/A"}},0,{"$f":"VLOOKUP(E295,Hidden_Словник!$W$2:$X$13,2,FALSE)","v":{"$error":"#N/A"}},0,{"$error":"#N/A"}]
[null,"",{"$f":"IFERROR(VLOOKUP(A296,'1.Портфель кредитів'!A:AC,3,FALSE),\"\")","v":""},{"$f":"IFERROR(VLOOKUP(A296,'1.Портфель кредитів'!A:AC,14,FALSE),\"\")","v":""},null,null,null,null,null,null,null,null,null,null,null,null,"","",null,{"$f":"IFERROR(VLOOKUP(A296,'1.Портфель кредитів'!A:AC,30,FALSE),\"\")","v":""},0,{"$error":"#VALUE!"},null,null,null,null,null,{"$f":"VLOOKUP(C296,Hidden_Словник!$A$2:C$81,3,FALSE)","v":{"$error":"#N/A"}},0,{"$f":"VLOOKUP(E296,Hidden_Словник!$W$2:$X$13,2,FALSE)","v":{"$error":"#N/A"}},0,{"$error":"#N/A"}]
[null,"",{"$f":"IFERROR(VLOOKUP(A297,'1.Портфель кредитів'!A:AC,3,FALSE),\"\")","v":""},{"$f":"IFERROR(VLOOKUP(A297,'1.Портфель кредитів'!A:AC,14,FALSE),\"\")","v":""},null,null,null,null,null,null,null,null,null,null,null,null,"","",null,{"$f":"IFERROR(VLOOKUP(A297,'1.Портфель кредитів'!A:AC,30,FALSE),\"\")","v":""},0,{"$error":"#VALUE!"},null,null,null,null,null,{"$f":"VLOOKUP(C297,Hidden_Словник!$A$2:C$81,3,FALSE)","v":{"$error":"#N/A"}},0,{"$f":"VLOOKUP(E297,Hidden_Словник!$W$2:$X$13,2,FALSE)","v":{"$error":"#N/A"}},0,{"$error":"#N/A"}]
[null,"",{"$f":"IFERROR(VLOOKUP(A298,'1.Портфель кредитів'!A:AC,3,FALSE),\"\")","v":""},{"$f":"IFERROR(VLOOKUP(A298,'1.Портфель кредитів'!A:AC,14,FALSE),\"\")","v":""},null,null,null,null,null,null,null,null,null,null,null,null,"","",null,{"$f":"IFERROR(VLOOKUP(A298,'1.Портфель кредитів'!A:AC,30,FALSE),\"\")","v":""},0,{"$error":"#VALUE!"},null,null,null,null,null,{"$f":"VLOOKUP(C298,Hidden_Словник!$A$2:C$81,3,FALSE)","v":{"$error":"#N/A"}},0,{"$f":"VLOOKUP(E298,Hidden_Словник!$W$2:$X$13,2,FALSE)","v":{"$error":"#N/A"}},0,{"$error":"#N/A"}]
[null,"",{"$f":"IFERROR(VLOOKUP(A299,'1.Портфель кредитів'!A:AC,3,FALSE),\"\")","v":""},{"$f":"IFERROR(VLOOKUP(A299,'1.Портфель кредитів'!A:AC,14,FALSE),\"\")","v":""},null,null,null,null,null,null,null,null,null,null,null,null,"","",null,{"$f":"IFERROR(VLOOKUP(A299,'1.Портфель кредитів'!A:AC,30,FALSE),\"\")","v":""},0,{"$error":"#VALUE!"},null,null,null,null,null,{"$f":"VLOOKUP(C299,Hidden_Словник!$A$2:C$81,3,FALSE)","v":{"$error":"#N/A"}},0,{"$f":"VLOOKUP(E299,Hidden_Словник!$W$2:$X$13,2,FALSE)","v":{"$error":"#N/A"}},0,{"$error":"#N/A"}]
[null,"",{"$f":"IFERROR(VLOOKUP(A300,'1.Портфель кредитів'!A:AC,3,FALSE),\"\")","v":""},{"$f":"IFERROR(VLOOKUP(A300,'1.Портфель кредитів'!A:AC,14,FALSE),\"\")","v":""},null,null,null,null,null,null,null,null,null,null,null,null,"","",null,{"$f":"IFERROR(VLOOKUP(A300,'1.Портфель кредитів'!A:AC,30,FALSE),\"\")","v":""},0,{"$error":"#VALUE!"},null,null,null,null,null,{"$f":"VLOOKUP(C300,Hidden_Словник!$A$2:C$81,3,FALSE)","v":{"$error":"#N/A"}},0,{"$f":"VLOOKUP(E300,Hidden_Словник!$W$2:$X$13,2,FALSE)","v":{"$error":"#N/A"}},0,{"$error":"#N/A"}]
[null,"",{"$f":"IFERROR(VLOOKUP(A301,'1.Портфель кредитів'!A:AC,3,FALSE),\"\")","v":""},{"$f":"IFERROR(VLOOKUP(A301,'1.Портфель кредитів'!A:AC,14,FALSE),\"\")","v":""},null,null,null,null,null,null,null,null,null,null,null,null,"","",null,{"$f":"IFERROR(VLOOKUP(A301,'1.Портфель кредитів'!A:AC,30,FALSE),\"\")","v":""},0,{"$error":"#VALUE!"},null,null,null,null,null,{"$f":"VLOOKUP(C301,Hidden_Словник!$A$2:C$81,3,FALSE)","v":{"$error":"#N/A"}},0,{"$f":"VLOOKUP(E301,Hidden_Словник!$W$2:$X$13,2,FALSE)","v":{"$error":"#N/A"}},0,{"$error":"#N/A"}]
[null,"",{"$f":"IFERROR(VLOOKUP(A302,'1.Портфель кредитів'!A:AC,3,FALSE),\"\")","v":""},{"$f":"IFERROR(VLOOKUP(A302,'1.Портфель кредитів'!A:AC,14,FALSE),\"\")","v":""},null,null,null,null,null,null,null,null,null,null,null,null,"","",null,{"$f":"IFERROR(VLOOKUP(A302,'1.Портфель кредитів'!A:AC,30,FALSE),\"\")","v":""},0,{"$error":"#VALUE!"},null,null,null,null,null,{"$f":"VLOOKUP(C302,Hidden_Словник!$A$2:C$81,3,FALSE)","v":{"$error":"#N/A"}},0,{"$f":"VLOOKUP(E302,Hidden_Словник!$W$2:$X$13,2,FALSE)","v":{"$error":"#N/A"}},0,{"$error":"#N/A"}]
[null,"",{"$f":"IFERROR(VLOOKUP(A303,'1.Портфель кредитів'!A:AC,3,FALSE),\"\")","v":""},{"$f":"IFERROR(VLOOKUP(A303,'1.Портфель кредитів'!A:AC,14,FALSE),\"\")","v":""},null,null,null,null,null,null,null,null,null,null,null,null,"","",null,{"$f":"IFERROR(VLOOKUP(A303,'1.Портфель кредитів'!A:AC,30,FALSE),\"\")","v":""},0,{"$error":"#VALUE!"},null,null,null,null,null,{"$f":"VLOOKUP(C303,Hidden_Словник!$A$2:C$81,3,FALSE)","v":{"$error":"#N/A"}},0,{"$f":"VLOOKUP(E303,Hidden_Словник!$W$2:$X$13,2,FALSE)","v":{"$error":"#N/A"}},0,{"$error":"#N/A"}]
[null,"",{"$f":"IFERROR(VLOOKUP(A304,'1.Портфель кредитів'!A:AC,3,FALSE),\"\")","v":""},{"$f":"IFERROR(VLOOKUP(A304,'1.Портфель кредитів'!A:AC,14,FALSE),\"\")","v":""},null,null,null,null,null,null,null,null,null,null,null,null,"","",null,{"$f":"IFERROR(VLOOKUP(A304,'1.Портфель кредитів'!A:AC,30,FALSE),\"\")","v":""},0,{"$error":"#VALUE!"},null,null,null,null,null,{"$f":"VLOOKUP(C304,Hidden_Словник!$A$2:C$81,3,FALSE)","v":{"$error":"#N/A"}},0,{"$f":"VLOOKUP(E304,Hidden_Словник!$W$2:$X$13,2,FALSE)","v":{"$error":"#N/A"}},0,{"$error":"#N/A"}]
[null,"",{"$f":"IFERROR(VLOOKUP(A305,'1.Портфель кредитів'!A:AC,3,FALSE),\"\")","v":""},{"$f":"IFERROR(VLOOKUP(A305,'1.Портфель кредитів'!A:AC,14,FALSE),\"\")","v":""},null,null,null,null,null,null,null,null,null,null,null,null,"","",null,{"$f":"IFERROR(VLOOKUP(A305,'1.Портфель кредитів'!A:AC,30,FALSE),\"\")","v":""},0,{"$error":"#VALUE!"},null,null,null,null,null,{"$f":"VLOOKUP(C305,Hidden_Словник!$A$2:C$81,3,FALSE)","v":{"$error":"#N/A"}},0,{"$f":"VLOOKUP(E305,Hidden_Словник!$W$2:$X$13,2,FALSE)","v":{"$error":"#N/A"}},0,{"$error":"#N/A"}]
[null,"",{"$f":"IFERROR(VLOOKUP(A306,'1.Портфель кредитів'!A:AC,3,FALSE),\"\")","v":""},{"$f":"IFERROR(VLOOKUP(A306,'1.Портфель кредитів'!A:AC,14,FALSE),\"\")","v":""},null,null,null,null,null,null,null,null,null,null,null,null,"","",null,{"$f":"IFERROR(VLOOKUP(A306,'1.Портфель кредитів'!A:AC,30,FALSE),\"\")","v":""},0,{"$error":"#VALUE!"},null,null,null,null,null,{"$f":"VLOOKUP(C306,Hidden_Словник!$A$2:C$81,3,FALSE)","v":{"$error":"#N/A"}},0,{"$f":"VLOOKUP(E306,Hidden_Словник!$W$2:$X$13,2,FALSE)","v":{"$error":"#N/A"}},0,{"$error":"#N/A"}]
[null,"",{"$f":"IFERROR(VLOOKUP(A307,'1.Портфель кредитів'!A:AC,3,FALSE),\"\")","v":""},{"$f":"IFERROR(VLOOKUP(A307,'1.Портфель кредитів'!A:AC,14,FALSE),\"\")","v":""},null,null,null,null,null,null,null,null,null,null,null,null,"","",null,{"$f":"IFERROR(VLOOKUP(A307,'1.Портфель кредитів'!A:AC,30,FALSE),\"\")","v":""},0,{"$error":"#VALUE!"},null,null,null,null,null,{"$f":"VLOOKUP(C307,Hidden_Словник!$A$2:C$81,3,FALSE)","v":{"$error":"#N/A"}},0,{"$f":"VLOOKUP(E307,Hidden_Словник!$W$2:$X$13,2,FALSE)","v":{"$error":"#N/A"}},0,{"$error":"#N/A"}]
[null,"",{"$f":"IFERROR(VLOOKUP(A308,'1.Портфель кредитів'!A:AC,3,FALSE),\"\")","v":""},{"$f":"IFERROR(VLOOKUP(A308,'1.Портфель кредитів'!A:AC,14,FALSE),\"\")","v":""},null,null,null,null,null,null,null,null,null,null,null,null,"","",null,{"$f":"IFERROR(VLOOKUP(A308,'1.Портфель кредитів'!A:AC,30,FALSE),\"\")","v":""},0,{"$error":"#VALUE!"},null,null,null,null,null,{"$f":"VLOOKUP(C308,Hidden_Словник!$A$2:C$81,3,FALSE)","v":{"$error":"#N/A"}},0,{"$f":"VLOOKUP(E308,Hidden_Словник!$W$2:$X$13,2,FALSE)","v":{"$error":"#N/A"}},0,{"$error":"#N/A"}]
[null,"",{"$f":"IFERROR(VLOOKUP(A309,'1.Портфель кредитів'!A:AC,3,FALSE),\"\")","v":""},{"$f":"IFERROR(VLOOKUP(A309,'1.Портфель кредитів'!A:AC,14,FALSE),\"\")","v":""},null,null,null,null,null,null,null,null,null,null,null,null,"","",null,{"$f":"IFERROR(VLOOKUP(A309,'1.Портфель кредитів'!A:AC,30,FALSE),\"\")","v":""},0,{"$error":"#VALUE!"},null,null,null,null,null,{"$f":"VLOOKUP(C309,Hidden_Словник!$A$2:C$81,3,FALSE)","v":{"$error":"#N/A"}},0,{"$f":"VLOOKUP(E309,Hidden_Словник!$W$2:$X$13,2,FALSE)","v":{"$error":"#N/A"}},0,{"$error":"#N/A"}]
[null,"",{"$f":"IFERROR(VLOOKUP(A310,'1.Портфель кредитів'!A:AC,3,FALSE),\"\")","v":""},{"$f":"IFERROR(VLOOKUP(A310,'1.Портфель кредитів'!A:AC,14,FALSE),\"\")","v":""},null,null,null,null,null,null,null,null,null,null,null,null,"","",null,{"$f":"IFERROR(VLOOKUP(A310,'1.Портфель кредитів'!A:AC,30,FALSE),\"\")","v":""},0,{"$error":"#VALUE!"},null,null,null,null,null,{"$f":"VLOOKUP(C310,Hidden_Словник!$A$2:C$81,3,FALSE)","v":{"$error":"#N/A"}},0,{"$f":"VLOOKUP(E310,Hidden_Словник!$W$2:$X$13,2,FALSE)","v":{"$error":"#N/A"}},0,{"$error":"#N/A"}]
[null,"",{"$f":"IFERROR(VLOOKUP(A311,'1.Портфель кредитів'!A:AC,3,FALSE),\"\")","v":""},{"$f":"IFERROR(VLOOKUP(A311,'1.Портфель кредитів'!A:AC,14,FALSE),\"\")","v":""},null,null,null,null,null,null,null,null,null,null,null,null,"","",null,{"$f":"IFERROR(VLOOKUP(A311,'1.Портфель кредитів'!A:AC,30,FALSE),\"\")","v":""},0,{"$error":"#VALUE!"},null,null,null,null,null,{"$f":"VLOOKUP(C311,Hidden_Словник!$A$2:C$81,3,FALSE)","v":{"$error":"#N/A"}},0,{"$f":"VLOOKUP(E311,Hidden_Словник!$W$2:$X$13,2,FALSE)","v":{"$error":"#N/A"}},0,{"$error":"#N/A"}]
[null,"",{"$f":"IFERROR(VLOOKUP(A312,'1.Портфель кредитів'!A:AC,3,FALSE),\"\")","v":""},{"$f":"IFERROR(VLOOKUP(A312,'1.Портфель кредитів'!A:AC,14,FALSE),\"\")","v":""},null,null,null,null,null,null,null,null,null,null,null,null,"","",null,{"$f":"IFERROR(VLOOKUP(A312,'1.Портфель кредитів'!A:AC,30,FALSE),\"\")","v":""},0,{"$error":"#VALUE!"},null,null,null,null,null,{"$f":"VLOOKUP(C312,Hidden_Словник!$A$2:C$81,3,FALSE)","v":{"$error":"#N/A"}},0,{"$f":"VLOOKUP(E312,Hidden_Словник!$W$2:$X$13,2,FALSE)","v":{"$error":"#N/A"}},0,{"$error":"#N/A"}]
[null,"",{"$f":"IFERROR(VLOOKUP(A313,'1.Портфель кредитів'!A:AC,3,FALSE),\"\")","v":""},{"$f":"IFERROR(VLOOKUP(A313,'1.Портфель кредитів'!A:AC,14,FALSE),\"\")","v":""},null,null,null,null,null,null,null,null,null,null,null,null,"","",null,{"$f":"IFERROR(VLOOKUP(A313,'1.Портфель кредитів'!A:AC,30,FALSE),\"\")","v":""},0,{"$error":"#VALUE!"},null,null,null,null,null,{"$f":"VLOOKUP(C313,Hidden_Словник!$A$2:C$81,3,FALSE)","v":{"$error":"#N/A"}},0,{"$f":"VLOOKUP(E313,Hidden_Словник!$W$2:$X$13,2,FALSE)","v":{"$error":"#N/A"}},0,{"$error":"#N/A"}]
[null,"",{"$f":"IFERROR(VLOOKUP(A314,'1.Портфель кредитів'!A:AC,3,FALSE),\"\")","v":""},{"$f":"IFERROR(VLOOKUP(A314,'1.Портфель кредитів'!A:AC,14,FALSE),\"\")","v":""},null,null,null,null,null,null,null,null,null,null,null,null,"","",null,{"$f":"IFERROR(VLOOKUP(A314,'1.Портфель кредитів'!A:AC,30,FALSE),\"\")","v":""},0,{"$error":"#VALUE!"},null,null,null,null,null,{"$f":"VLOOKUP(C314,Hidden_Словник!$A$2:C$81,3,FALSE)","v":{"$error":"#N/A"}},0,{"$f":"VLOOKUP(E314,Hidden_Словник!$W$2:$X$13,2,FALSE)","v":{"$error":"#N/A"}},0,{"$error":"#N/A"}]
[null,"",{"$f":"IFERROR(VLOOKUP(A315,'1.Портфель кредитів'!A:AC,3,FALSE),\"\")","v":""},{"$f":"IFERROR(VLOOKUP(A315,'1.Портфель кредитів'!A:AC,14,FALSE),\"\")","v":""},null,null,null,null,null,null,null,null,null,null,null,null,"","",null,{"$f":"IFERROR(VLOOKUP(A315,'1.Портфель кредитів'!A:AC,30,FALSE),\"\")","v":""},0,{"$error":"#VALUE!"},null,null,null,null,null,{"$f":"VLOOKUP(C315,Hidden_Словник!$A$2:C$81,3,FALSE)","v":{"$error":"#N/A"}},0,{"$f":"VLOOKUP(E315,Hidden_Словник!$W$2:$X$13,2,FALSE)","v":{"$error":"#N/A"}},0,{"$error":"#N/A"}]
[null,"",{"$f":"IFERROR(VLOOKUP(A316,'1.Портфель кредитів'!A:AC,3,FALSE),\"\")","v":""},{"$f":"IFERROR(VLOOKUP(A316,'1.Портфель кредитів'!A:AC,14,FALSE),\"\")","v":""},null,null,null,null,null,null,null,null,null,null,null,null,"","",null,{"$f":"IFERROR(VLOOKUP(A316,'1.Портфель кредитів'!A:AC,30,FALSE),\"\")","v":""},0,{"$error":"#VALUE!"},null,null,null,null,null,{"$f":"VLOOKUP(C316,Hidden_Словник!$A$2:C$81,3,FALSE)","v":{"$error":"#N/A"}},0,{"$f":"VLOOKUP(E316,Hidden_Словник!$W$2:$X$13,2,FALSE)","v":{"$error":"#N/A"}},0,{"$error":"#N/A"}]
[null,"",{"$f":"IFERROR(VLOOKUP(A317,'1.Портфель кредитів'!A:AC,3,FALSE),\"\")","v":""},{"$f":"IFERROR(VLOOKUP(A317,'1.Портфель кредитів'!A:AC,14,FALSE),\"\")","v":""},null,null,null,null,null,null,null,null,null,null,null,null,"","",null,{"$f":"IFERROR(VLOOKUP(A317,'1.Портфель кредитів'!A:AC,30,FALSE),\"\")","v":""},0,{"$error":"#VALUE!"},null,null,null,null,null,{"$f":"VLOOKUP(C317,Hidden_Словник!$A$2:C$81,3,FALSE)","v":{"$error":"#N/A"}},0,{"$f":"VLOOKUP(E317,Hidden_Словник!$W$2:$X$13,2,FALSE)","v":{"$error":"#N/A"}},0,{"$error":"#N/A"}]
[null,"",{"$f":"IFERROR(VLOOKUP(A318,'1.Портфель кредитів'!A:AC,3,FALSE),\"\")","v":""},{"$f":"IFERROR(VLOOKUP(A318,'1.Портфель кредитів'!A:AC,14,FALSE),\"\")","v":""},null,null,null,null,null,null,null,null,null,null,null,null,"","",null,{"$f":"IFERROR(VLOOKUP(A318,'1.Портфель кредитів'!A:AC,30,FALSE),\"\")","v":""},0,{"$error":"#VALUE!"},null,null,null,null,null,{"$f":"VLOOKUP(C318,Hidden_Словник!$A$2:C$81,3,FALSE)","v":{"$error":"#N/A"}},0,{"$f":"VLOOKUP(E318,Hidden_Словник!$W$2:$X$13,2,FALSE)","v":{"$error":"#N/A"}},0,{"$error":"#N/A"}]
[null,"",{"$f":"IFERROR(VLOOKUP(A319,'1.Портфель кредитів'!A:AC,3,FALSE),\"\")","v":""},{"$f":"IFERROR(VLOOKUP(A319,'1.Портфель кредитів'!A:AC,14,FALSE),\"\")","v":""},null,null,null,null,null,null,null,null,null,null,null,null,"","",null,{"$f":"IFERROR(VLOOKUP(A319,'1.Портфель кредитів'!A:AC,30,FALSE),\"\")","v":""},0,{"$f":"T319/U319","v":{"$error":"#VALUE!"}},null,null,null,null,null,{"$f":"VLOOKUP(C319,Hidden_Словник!$A$2:C$81,3,FALSE)","v":{"$error":"#N/A"}},0,{"$f":"VLOOKUP(E319,Hidden_Словник!$W$2:$X$13,2,FALSE)","v":{"$error":"#N/A"}},0,{"$error":"#N/A"}]
[null,"",{"$f":"IFERROR(VLOOKUP(A320,'1.Портфель кредитів'!A:AC,3,FALSE),\"\")","v":""},{"$f":"IFERROR(VLOOKUP(A320,'1.Портфель кредитів'!A:AC,14,FALSE),\"\")","v":""},null,null,null,null,null,null,null,null,null,null,null,null,"","",null,{"$f":"IFERROR(VLOOKUP(A320,'1.Портфель кредитів'!A:AC,30,FALSE),\"\")","v":""},0,{"$error":"#VALUE!"},null,null,null,null,null,{"$f":"VLOOKUP(C320,Hidden_Словник!$A$2:C$81,3,FALSE)","v":{"$error":"#N/A"}},0,{"$f":"VLOOKUP(E320,Hidden_Словник!$W$2:$X$13,2,FALSE)","v":{"$error":"#N/A"}},0,{"$error":"#N/A"}]
[null,"",{"$f":"IFERROR(VLOOKUP(A321,'1.Портфель кредитів'!A:AC,3,FALSE),\"\")","v":""},{"$f":"IFERROR(VLOOKUP(A321,'1.Портфель кредитів'!A:AC,14,FALSE),\"\")","v":""},null,null,null,null,null,null,null,null,null,null,null,null,"","",null,{"$f":"IFERROR(VLOOKUP(A321,'1.Портфель кредитів'!A:AC,30,FALSE),\"\")","v":""},0,{"$error":"#VALUE!"},null,null,null,null,null,{"$f":"VLOOKUP(C321,Hidden_Словник!$A$2:C$81,3,FALSE)","v":{"$error":"#N/A"}},0,{"$f":"VLOOKUP(E321,Hidden_Словник!$W$2:$X$13,2,FALSE)","v":{"$error":"#N/A"}},0,{"$error":"#N/A"}]
[null,"",{"$f":"IFERROR(VLOOKUP(A322,'1.Портфель кредитів'!A:AC,3,FALSE),\"\")","v":""},{"$f":"IFERROR(VLOOKUP(A322,'1.Портфель кредитів'!A:AC,14,FALSE),\"\")","v":""},null,null,null,null,null,null,null,null,null,null,null,null,"","",null,{"$f":"IFERROR(VLOOKUP(A322,'1.Портфель кредитів'!A:AC,30,FALSE),\"\")","v":""},0,{"$error":"#VALUE!"},null,null,null,null,null,{"$f":"VLOOKUP(C322,Hidden_Словник!$A$2:C$81,3,FALSE)","v":{"$error":"#N/A"}},0,{"$f":"VLOOKUP(E322,Hidden_Словник!$W$2:$X$13,2,FALSE)","v":{"$error":"#N/A"}},0,{"$error":"#N/A"}]
[null,"",{"$f":"IFERROR(VLOOKUP(A323,'1.Портфель кредитів'!A:AC,3,FALSE),\"\")","v":""},{"$f":"IFERROR(VLOOKUP(A323,'1.Портфель кредитів'!A:AC,14,FALSE),\"\")","v":""},null,null,null,null,null,null,null,null,null,null,null,null,"","",null,{"$f":"IFERROR(VLOOKUP(A323,'1.Портфель кредитів'!A:AC,30,FALSE),\"\")","v":""},0,{"$error":"#VALUE!"},null,null,null,null,null,{"$f":"VLOOKUP(C323,Hidden_Словник!$A$2:C$81,3,FALSE)","v":{"$error":"#N/A"}},0,{"$f":"VLOOKUP(E323,Hidden_Словник!$W$2:$X$13,2,FALSE)","v":{"$error":"#N/A"}},0,{"$error":"#N/A"}]
[null,"",{"$f":"IFERROR(VLOOKUP(A324,'1.Портфель кредитів'!A:AC,3,FALSE),\"\")","v":""},{"$f":"IFERROR(VLOOKUP(A324,'1.Портфель кредитів'!A:AC,14,FALSE),\"\")","v":""},null,null,null,null,null,null,null,null,null,null,null,null,"","",null,{"$f":"IFERROR(VLOOKUP(A324,'1.Портфель кредитів'!A:AC,30,FALSE),\"\")","v":""},0,{"$error":"#VALUE!"},null,null,null,null,null,{"$f":"VLOOKUP(C324,Hidden_Словник!$A$2:C$81,3,FALSE)","v":{"$error":"#N/A"}},0,{"$f":"VLOOKUP(E324,Hidden_Словник!$W$2:$X$13,2,FALSE)","v":{"$error":"#N/A"}},0,{"$error":"#N/A"}]
[null,"",{"$f":"IFERROR(VLOOKUP(A325,'1.Портфель кредитів'!A:AC,3,FALSE),\"\")","v":""},{"$f":"IFERROR(VLOOKUP(A325,'1.Портфель кредитів'!A:AC,14,FALSE),\"\")","v":""},null,null,null,null,null,null,null,null,null,null,null,null,"","",null,{"$f":"IFERROR(VLOOKUP(A325,'1.Портфель кредитів'!A:AC,30,FALSE),\"\")","v":""},0,{"$error":"#VALUE!"},null,null,null,null,null,{"$f":"VLOOKUP(C325,Hidden_Словник!$A$2:C$81,3,FALSE)","v":{"$error":"#N/A"}},0,{"$f":"VLOOKUP(E325,Hidden_Словник!$W$2:$X$13,2,FALSE)","v":{"$error":"#N/A"}},0,{"$error":"#N/A"}]
[null,"",{"$f":"IFERROR(VLOOKUP(A326,'1.Портфель кредитів'!A:AC,3,FALSE),\"\")","v":""},{"$f":"IFERROR(VLOOKUP(A326,'1.Портфель кредитів'!A:AC,14,FALSE),\"\")","v":""},null,null,null,null,null,null,null,null,null,null,null,null,"","",null,{"$f":"IFERROR(VLOOKUP(A326,'1.Портфель кредитів'!A:AC,30,FALSE),\"\")","v":""},0,{"$error":"#VALUE!"},null,null,null,null,null,{"$f":"VLOOKUP(C326,Hidden_Словник!$A$2:C$81,3,FALSE)","v":{"$error":"#N/A"}},0,{"$f":"VLOOKUP(E326,Hidden_Словник!$W$2:$X$13,2,FALSE)","v":{"$error":"#N/A"}},0,{"$error":"#N/A"}]
[null,"",{"$f":"IFERROR(VLOOKUP(A327,'1.Портфель кредитів'!A:AC,3,FALSE),\"\")","v":""},{"$f":"IFERROR(VLOOKUP(A327,'1.Портфель кредитів'!A:AC,14,FALSE),\"\")","v":""},null,null,null,null,null,null,null,null,null,null,null,null,"","",null,{"$f":"IFERROR(VLOOKUP(A327,'1.Портфель кредитів'!A:AC,30,FALSE),\"\")","v":""},0,{"$error":"#VALUE!"},null,null,null,null,null,{"$f":"VLOOKUP(C327,Hidden_Словник!$A$2:C$81,3,FALSE)","v":{"$error":"#N/A"}},0,{"$f":"VLOOKUP(E327,Hidden_Словник!$W$2:$X$13,2,FALSE)","v":{"$error":"#N/A"}},0,{"$error":"#N/A"}]
[null,"",{"$f":"IFERROR(VLOOKUP(A328,'1.Портфель кредитів'!A:AC,3,FALSE),\"\")","v":""},{"$f":"IFERROR(VLOOKUP(A328,'1.Портфель кредитів'!A:AC,14,FALSE),\"\")","v":""},null,null,null,null,null,null,null,null,null,null,null,null,"","",null,{"$f":"IFERROR(VLOOKUP(A328,'1.Портфель кредитів'!A:AC,30,FALSE),\"\")","v":""},0,{"$error":"#VALUE!"},null,null,null,null,null,{"$f":"VLOOKUP(C328,Hidden_Словник!$A$2:C$81,3,FALSE)","v":{"$error":"#N/A"}},0,{"$f":"VLOOKUP(E328,Hidden_Словник!$W$2:$X$13,2,FALSE)","v":{"$error":"#N/A"}},0,{"$error":"#N/A"}]
[null,"",{"$f":"IFERROR(VLOOKUP(A329,'1.Портфель кредитів'!A:AC,3,FALSE),\"\")","v":""},{"$f":"IFERROR(VLOOKUP(A329,'1.Портфель кредитів'!A:AC,14,FALSE),\"\")","v":""},null,null,null,null,null,null,null,null,null,null,null,null,"","",null,{"$f":"IFERROR(VLOOKUP(A329,'1.Портфель кредитів'!A:AC,30,FALSE),\"\")","v":""},0,{"$error":"#VALUE!"},null,null,null,null,null,{"$f":"VLOOKUP(C329,Hidden_Словник!$A$2:C$81,3,FALSE)","v":{"$error":"#N/A"}},0,{"$f":"VLOOKUP(E329,Hidden_Словник!$W$2:$X$13,2,FALSE)","v":{"$error":"#N/A"}},0,{"$error":"#N/A"}]
[null,"",{"$f":"IFERROR(VLOOKUP(A330,'1.Портфель кредитів'!A:AC,3,FALSE),\"\")","v":""},{"$f":"IFERROR(VLOOKUP(A330,'1.Портфель кредитів'!A:AC,14,FALSE),\"\")","v":""},null,null,null,null,null,null,null,null,null,null,null,null,"","",null,{"$f":"IFERROR(VLOOKUP(A330,'1.Портфель кредитів'!A:AC,30,FALSE),\"\")","v":""},0,{"$error":"#VALUE!"},null,null,null,null,null,{"$f":"VLOOKUP(C330,Hidden_Словник!$A$2:C$81,3,FALSE)","v":{"$error":"#N/A"}},0,{"$f":"VLOOKUP(E330,Hidden_Словник!$W$2:$X$13,2,FALSE)","v":{"$error":"#N/A"}},0,{"$error":"#N/A"}]
[null,"",{"$f":"IFERROR(VLOOKUP(A331,'1.Портфель кредитів'!A:AC,3,FALSE),\"\")","v":""},{"$f":"IFERROR(VLOOKUP(A331,'1.Портфель кредитів'!A:AC,14,FALSE),\"\")","v":""},null,null,null,null,null,null,null,null,null,null,null,null,"","",null,{"$f":"IFERROR(VLOOKUP(A331,'1.Портфель кредитів'!A:AC,30,FALSE),\"\")","v":""},0,{"$error":"#VALUE!"},null,null,null,null,null,{"$f":"VLOOKUP(C331,Hidden_Словник!$A$2:C$81,3,FALSE)","v":{"$error":"#N/A"}},0,{"$f":"VLOOKUP(E331,Hidden_Словник!$W$2:$X$13,2,FALSE)","v":{"$error":"#N/A"}},0,{"$error":"#N/A"}]
[null,"",{"$f":"IFERROR(VLOOKUP(A332,'1.Портфель кредитів'!A:AC,3,FALSE),\"\")","v":""},{"$f":"IFERROR(VLOOKUP(A332,'1.Портфель кредитів'!A:AC,14,FALSE),\"\")","v":""},null,null,null,null,null,null,null,null,null,null,null,null,"","",null,{"$f":"IFERROR(VLOOKUP(A332,'1.Портфель кредитів'!A:AC,30,FALSE),\"\")","v":""},0,{"$error":"#VALUE!"},null,null,null,null,null,{"$f":"VLOOKUP(C332,Hidden_Словник!$A$2:C$81,3,FALSE)","v":{"$error":"#N/A"}},0,{"$f":"VLOOKUP(E332,Hidden_Словник!$W$2:$X$13,2,FALSE)","v":{"$error":"#N/A"}},0,{"$error":"#N/A"}]
[null,"",{"$f":"IFERROR(VLOOKUP(A333,'1.Портфель кредитів'!A:AC,3,FALSE),\"\")","v":""},{"$f":"IFERROR(VLOOKUP(A333,'1.Портфель кредитів'!A:AC,14,FALSE),\"\")","v":""},null,null,null,null,null,null,null,null,null,null,null,null,"","",null,{"$f":"IFERROR(VLOOKUP(A333,'1.Портфель кредитів'!A:AC,30,FALSE),\"\")","v":""},0,{"$error":"#VALUE!"},null,null,null,null,null,{"$f":"VLOOKUP(C333,Hidden_Словник!$A$2:C$81,3,FALSE)","v":{"$error":"#N/A"}},0,{"$f":"VLOOKUP(E333,Hidden_Словник!$W$2:$X$13,2,FALSE)","v":{"$error":"#N/A"}},0,{"$error":"#N/A"}]
[null,"",{"$f":"IFERROR(VLOOKUP(A334,'1.Портфель кредитів'!A:AC,3,FALSE),\"\")","v":""},{"$f":"IFERROR(VLOOKUP(A334,'1.Портфель кредитів'!A:AC,14,FALSE),\"\")","v":""},null,null,null,null,null,null,null,null,null,null,null,null,"","",null,{"$f":"IFERROR(VLOOKUP(A334,'1.Портфель кредитів'!A:AC,30,FALSE),\"\")","v":""},0,{"$error":"#VALUE!"},null,null,null,null,null,{"$f":"VLOOKUP(C334,Hidden_Словник!$A$2:C$81,3,FALSE)","v":{"$error":"#N/A"}},0,{"$f":"VLOOKUP(E334,Hidden_Словник!$W$2:$X$13,2,FALSE)","v":{"$error":"#N/A"}},0,{"$error":"#N/A"}]
[null,"",{"$f":"IFERROR(VLOOKUP(A335,'1.Портфель кредитів'!A:AC,3,FALSE),\"\")","v":""},{"$f":"IFERROR(VLOOKUP(A335,'1.Портфель кредитів'!A:AC,14,FALSE),\"\")","v":""},null,null,null,null,null,null,null,null,null,null,null,null,"","",null,{"$f":"IFERROR(VLOOKUP(A335,'1.Портфель кредитів'!A:AC,30,FALSE),\"\")","v":""},0,{"$error":"#VALUE!"},null,null,null,null,null,{"$f":"VLOOKUP(C335,Hidden_Словник!$A$2:C$81,3,FALSE)","v":{"$error":"#N/A"}},0,{"$f":"VLOOKUP(E335,Hidden_Словник!$W$2:$X$13,2,FALSE)","v":{"$error":"#N/A"}},0,{"$error":"#N/A"}]
[null,"",{"$f":"IFERROR(VLOOKUP(A336,'1.Портфель кредитів'!A:AC,3,FALSE),\"\")","v":""},{"$f":"IFERROR(VLOOKUP(A336,'1.Портфель кредитів'!A:AC,14,FALSE),\"\")","v":""},null,null,null,null,null,null,null,null,null,null,null,null,"","",null,{"$f":"IFERROR(VLOOKUP(A336,'1.Портфель кредитів'!A:AC,30,FALSE),\"\")","v":""},0,{"$error":"#VALUE!"},null,null,null,null,null,{"$f":"VLOOKUP(C336,Hidden_Словник!$A$2:C$81,3,FALSE)","v":{"$error":"#N/A"}},0,{"$f":"VLOOKUP(E336,Hidden_Словник!$W$2:$X$13,2,FALSE)","v":{"$error":"#N/A"}},0,{"$error":"#N/A"}]
[null,"",{"$f":"IFERROR(VLOOKUP(A337,'1.Портфель кредитів'!A:AC,3,FALSE),\"\")","v":""},{"$f":"IFERROR(VLOOKUP(A337,'1.Портфель кредитів'!A:AC,14,FALSE),\"\")","v":""},null,null,null,null,null,null,null,null,null,null,null,null,"","",null,{"$f":"IFERROR(VLOOKUP(A337,'1.Портфель кредитів'!A:AC,30,FALSE),\"\")","v":""},0,{"$error":"#VALUE!"},null,null,null,null,null,{"$f":"VLOOKUP(C337,Hidden_Словник!$A$2:C$81,3,FALSE)","v":{"$error":"#N/A"}},0,{"$f":"VLOOKUP(E337,Hidden_Словник!$W$2:$X$13,2,FALSE)","v":{"$error":"#N/A"}},0,{"$error":"#N/A"}]
[null,"",{"$f":"IFERROR(VLOOKUP(A338,'1.Портфель кредитів'!A:AC,3,FALSE),\"\")","v":""},{"$f":"IFERROR(VLOOKUP(A338,'1.Портфель кредитів'!A:AC,14,FALSE),\"\")","v":""},null,null,null,null,null,null,null,null,null,null,null,null,"","",null,{"$f":"IFERROR(VLOOKUP(A338,'1.Портфель кредитів'!A:AC,30,FALSE),\"\")","v":""},0,{"$error":"#VALUE!"},null,null,null,null,null,{"$f":"VLOOKUP(C338,Hidden_Словник!$A$2:C$81,3,FALSE)","v":{"$error":"#N/A"}},0,{"$f":"VLOOKUP(E338,Hidden_Словник!$W$2:$X$13,2,FALSE)","v":{"$error":"#N/A"}},0,{"$error":"#N/A"}]
[null,"",{"$f":"IFERROR(VLOOKUP(A339,'1.Портфель кредитів'!A:AC,3,FALSE),\"\")","v":""},{"$f":"IFERROR(VLOOKUP(A339,'1.Портфель кредитів'!A:AC,14,FALSE),\"\")","v":""},null,null,null,null,null,null,null,null,null,null,null,null,"","",null,{"$f":"IFERROR(VLOOKUP(A339,'1.Портфель кредитів'!A:AC,30,FALSE),\"\")","v":""},0,{"$error":"#VALUE!"},null,null,null,null,null,{"$f":"VLOOKUP(C339,Hidden_Словник!$A$2:C$81,3,FALSE)","v":{"$error":"#N/A"}},0,{"$f":"VLOOKUP(E339,Hidden_Словник!$W$2:$X$13,2,FALSE)","v":{"$error":"#N/A"}},0,{"$error":"#N/A"}]
[null,"",{"$f":"IFERROR(VLOOKUP(A340,'1.Портфель кредитів'!A:AC,3,FALSE),\"\")","v":""},{"$f":"IFERROR(VLOOKUP(A340,'1.Портфель кредитів'!A:AC,14,FALSE),\"\")","v":""},null,null,null,null,null,null,null,null,null,null,null,null,"","",null,{"$f":"IFERROR(VLOOKUP(A340,'1.Портфель кредитів'!A:AC,30,FALSE),\"\")","v":""},0,{"$error":"#VALUE!"},null,null,null,null,null,{"$f":"VLOOKUP(C340,Hidden_Словник!$A$2:C$81,3,FALSE)","v":{"$error":"#N/A"}},0,{"$f":"VLOOKUP(E340,Hidden_Словник!$W$2:$X$13,2,FALSE)","v":{"$error":"#N/A"}},0,{"$error":"#N/A"}]
[null,"",{"$f":"IFERROR(VLOOKUP(A341,'1.Портфель кредитів'!A:AC,3,FALSE),\"\")","v":""},{"$f":"IFERROR(VLOOKUP(A341,'1.Портфель кредитів'!A:AC,14,FALSE),\"\")","v":""},null,null,null,null,null,null,null,null,null,null,null,null,"","",null,{"$f":"IFERROR(VLOOKUP(A341,'1.Портфель кредитів'!A:AC,30,FALSE),\"\")","v":""},0,{"$error":"#VALUE!"},null,null,null,null,null,{"$f":"VLOOKUP(C341,Hidden_Словник!$A$2:C$81,3,FALSE)","v":{"$error":"#N/A"}},0,{"$f":"VLOOKUP(E341,Hidden_Словник!$W$2:$X$13,2,FALSE)","v":{"$error":"#N/A"}},0,{"$error":"#N/A"}]
[null,"",{"$f":"IFERROR(VLOOKUP(A342,'1.Портфель кредитів'!A:AC,3,FALSE),\"\")","v":""},{"$f":"IFERROR(VLOOKUP(A342,'1.Портфель кредитів'!A:AC,14,FALSE),\"\")","v":""},null,null,null,null,null,null,null,null,null,null,null,null,"",{"$f":"IFERROR(V342*L342,\"\")","v":""},null,{"$f":"IFERROR(VLOOKUP(A342,'1.Портфель кредитів'!A:AC,30,FALSE),\"\")","v":""},0,{"$error":"#VALUE!"},null,null,null,null,null,{"$f":"VLOOKUP(C342,Hidden_Словник!$A$2:C$81,3,FALSE)","v":{"$error":"#N/A"}},{"$f":"ROUNDUP(L342,0)","v":0},{"$f":"VLOOKUP(E342,Hidden_Словник!$W$2:$X$13,2,FALSE)","v":{"$error":"#N/A"}},{"$f":"O342","v":0},{"$error":"#N/A"}]
[null,{"$f":"IFERROR(AF343,\"\")","v":""},{"$f":"IFERROR(VLOOKUP(A343,'1.Портфель кредитів'!A:AC,3,FALSE),\"\")","v":""},{"$f":"IFERROR(VLOOKUP(A343,'1.Портфель кредитів'!A:AC,14,FALSE),\"\")","v":""},null,null,null,null,null,null,null,null,null,null,null,null,"","",null,{"$f":"IFERROR(VLOOKUP(A343,'1.Портфель кредитів'!A:AC,30,FALSE),\"\")","v":""},0,{"$error":"#VALUE!"},null,null,null,null,null,{"$f":"VLOOKUP(C343,Hidden_Словник!$A$2:C$81,3,FALSE)","v":{"$error":"#N/A"}},0,{"$f":"VLOOKUP(E343,Hidden_Словник!$W$2:$X$13,2,FALSE)","v":{"$error":"#N/A"}},0,{"$f":"AB343&\"_\"&AC343&AD343&AE343","v":{"$error":"#N/A"}}]
[null,"",{"$f":"IFERROR(VLOOKUP(A344,'1.Портфель кредитів'!A:AC,3,FALSE),\"\")","v":""},{"$f":"IFERROR(VLOOKUP(A344,'1.Портфель кредитів'!A:AC,14,FALSE),\"\")","v":""},null,null,null,null,null,null,null,null,null,null,null,null,"","",null,{"$f":"IFERROR(VLOOKUP(A344,'1.Портфель кредитів'!A:AC,30,FALSE),\"\")","v":""},0,{"$error":"#VALUE!"},null,null,null,null,null,{"$f":"VLOOKUP(C344,Hidden_Словник!$A$2:C$81,3,FALSE)","v":{"$error":"#N/A"}},0,{"$f":"VLOOKUP(E344,Hidden_Словник!$W$2:$X$13,2,FALSE)","v":{"$error":"#N/A"}},0,{"$error":"#N/A"}]
[null,"",{"$f":"IFERROR(VLOOKUP(A345,'1.Портфель кредитів'!A:AC,3,FALSE),\"\")","v":""},{"$f":"IFERROR(VLOOKUP(A345,'1.Портфель кредитів'!A:AC,14,FALSE),\"\")","v":""},null,null,null,null,null,null,null,null,null,null,null,null,"","",null,{"$f":"IFERROR(VLOOKUP(A345,'1.Портфель кредитів'!A:AC,30,FALSE),\"\")","v":""},0,{"$error":"#VALUE!"},null,null,null,null,null,{"$f":"VLOOKUP(C345,Hidden_Словник!$A$2:C$81,3,FALSE)","v":{"$error":"#N/A"}},0,{"$f":"VLOOKUP(E345,Hidden_Словник!$W$2:$X$13,2,FALSE)","v":{"$error":"#N/A"}},0,{"$error":"#N/A"}]
[null,"",{"$f":"IFERROR(VLOOKUP(A346,'1.Портфель кредитів'!A:AC,3,FALSE),\"\")","v":""},{"$f":"IFERROR(VLOOKUP(A346,'1.Портфель кредитів'!A:AC,14,FALSE),\"\")","v":""},null,null,null,null,null,null,null,null,null,null,null,null,{"$f":"IF(O346=\"\",\"\",IF(COUNTIF(AF:AF,AF346)>1,\"так\",\"ні\"))","v":""},"",null,{"$f":"IFERROR(VLOOKUP(A346,'1.Портфель кредитів'!A:AC,30,FALSE),\"\")","v":""},{"$f":"SUMIF(B:B,B346,T:T)","v":0},{"$error":"#VALUE!"},null,null,null,null,null,{"$f":"VLOOKUP(C346,Hidden_Словник!$A$2:C$81,3,FALSE)","v":{"$error":"#N/A"}},0,{"$f":"VLOOKUP(E346,Hidden_Словник!$W$2:$X$13,2,FALSE)","v":{"$error":"#N/A"}},0,{"$error":"#N/A"}]
[null,"",{"$f":"IFERROR(VLOOKUP(A347,'1.Портфель кредитів'!A:AC,3,FALSE),\"\")","v":""},{"$f":"IFERROR(VLOOKUP(A347,'1.Портфель кредитів'!A:AC,14,FALSE),\"\")","v":""},null,null,null,null,null,null,null,null,null,null,null,null,"","",null,{"$f":"IFERROR(VLOOKUP(A347,'1.Портфель кредитів'!A:AC,30,FALSE),\"\")","v":""},0,{"$error":"#VALUE!"},null,null,null,null,null,{"$f":"VLOOKUP(C347,Hidden_Словник!$A$2:C$81,3,FALSE)","v":{"$error":"#N/A"}},0,{"$f":"VLOOKUP(E347,Hidden_Словник!$W$2:$X$13,2,FALSE)","v":{"$error":"#N/A"}},0,{"$error":"#N/A"}]
[null,"",{"$f":"IFERROR(VLOOKUP(A348,'1.Портфель кредитів'!A:AC,3,FALSE),\"\")","v":""},{"$f":"IFERROR(VLOOKUP(A348,'1.Портфель кредитів'!A:AC,14,FALSE),\"\")","v":""},null,null,null,null,null,null,null,null,null,null,null,null,"","",null,{"$f":"IFERROR(VLOOKUP(A348,'1.Портфель кредитів'!A:AC,30,FALSE),\"\")","v":""},0,{"$error":"#VALUE!"},null,null,null,null,null,{"$f":"VLOOKUP(C348,Hidden_Словник!$A$2:C$81,3,FALSE)","v":{"$error":"#N/A"}},0,{"$f":"VLOOKUP(E348,Hidden_Словник!$W$2:$X$13,2,FALSE)","v":{"$error":"#N/A"}},0,{"$error":"#N/A"}]
[null,"",{"$f":"IFERROR(VLOOKUP(A349,'1.Портфель кредитів'!A:AC,3,FALSE),\"\")","v":""},{"$f":"IFERROR(VLOOKUP(A349,'1.Портфель кредитів'!A:AC,14,FALSE),\"\")","v":""},null,null,null,null,null,null,null,null,null,null,null,null,"","",null,{"$f":"IFERROR(VLOOKUP(A349,'1.Портфель кредитів'!A:AC,30,FALSE),\"\")","v":""},0,{"$error":"#VALUE!"},null,null,null,null,null,{"$f":"VLOOKUP(C349,Hidden_Словник!$A$2:C$81,3,FALSE)","v":{"$error":"#N/A"}},0,{"$f":"VLOOKUP(E349,Hidden_Словник!$W$2:$X$13,2,FALSE)","v":{"$error":"#N/A"}},0,{"$error":"#N/A"}]
[null,"",{"$f":"IFERROR(VLOOKUP(A350,'1.Портфель кредитів'!A:AC,3,FALSE),\"\")","v":""},{"$f":"IFERROR(VLOOKUP(A350,'1.Портфель кредитів'!A:AC,14,FALSE),\"\")","v":""},null,null,null,null,null,null,null,null,null,null,null,null,"","",null,{"$f":"IFERROR(VLOOKUP(A350,'1.Портфель кредитів'!A:AC,30,FALSE),\"\")","v":""},0,{"$error":"#VALUE!"},null,null,null,null,null,{"$f":"VLOOKUP(C350,Hidden_Словник!$A$2:C$81,3,FALSE)","v":{"$error":"#N/A"}},0,{"$f":"VLOOKUP(E350,Hidden_Словник!$W$2:$X$13,2,FALSE)","v":{"$error":"#N/A"}},0,{"$error":"#N/A"}]
[null,"",{"$f":"IFERROR(VLOOKUP(A351,'1.Портфель кредитів'!A:AC,3,FALSE),\"\")","v":""},{"$f":"IFERROR(VLOOKUP(A351,'1.Портфель кредитів'!A:AC,14,FALSE),\"\")","v":""},null,null,null,null,null,null,null,null,null,null,null,null,"","",null,{"$f":"IFERROR(VLOOKUP(A351,'1.Портфель кредитів'!A:AC,30,FALSE),\"\")","v":""},0,{"$error":"#VALUE!"},null,null,null,null,null,{"$f":"VLOOKUP(C351,Hidden_Словник!$A$2:C$81,3,FALSE)","v":{"$error":"#N/A"}},0,{"$f":"VLOOKUP(E351,Hidden_Словник!$W$2:$X$13,2,FALSE)","v":{"$error":"#N/A"}},0,{"$error":"#N/A"}]
[null,"",{"$f":"IFERROR(VLOOKUP(A352,'1.Портфель кредитів'!A:AC,3,FALSE),\"\")","v":""},{"$f":"IFERROR(VLOOKUP(A352,'1.Портфель кредитів'!A:AC,14,FALSE),\"\")","v":""},null,null,null,null,null,null,null,null,null,null,null,null,"","",null,{"$f":"IFERROR(VLOOKUP(A352,'1.Портфель кредитів'!A:AC,30,FALSE),\"\")","v":""},0,{"$error":"#VALUE!"},null,null,null,null,null,{"$f":"VLOOKUP(C352,Hidden_Словник!$A$2:C$81,3,FALSE)","v":{"$error":"#N/A"}},0,{"$f":"VLOOKUP(E352,Hidden_Словник!$W$2:$X$13,2,FALSE)","v":{"$error":"#N/A"}},0,{"$error":"#N/A"}]
[null,"",{"$f":"IFERROR(VLOOKUP(A353,'1.Портфель кредитів'!A:AC,3,FALSE),\"\")","v":""},{"$f":"IFERROR(VLOOKUP(A353,'1.Портфель кредитів'!A:AC,14,FALSE),\"\")","v":""},null,null,null,null,null,null,null,null,null,null,null,null,"","",null,{"$f":"IFERROR(VLOOKUP(A353,'1.Портфель кредитів'!A:AC,30,FALSE),\"\")","v":""},0,{"$error":"#VALUE!"},null,null,null,null,null,{"$f":"VLOOKUP(C353,Hidden_Словник!$A$2:C$81,3,FALSE)","v":{"$error":"#N/A"}},0,{"$f":"VLOOKUP(E353,Hidden_Словник!$W$2:$X$13,2,FALSE)","v":{"$error":"#N/A"}},0,{"$error":"#N/A"}]
[null,"",{"$f":"IFERROR(VLOOKUP(A354,'1.Портфель кредитів'!A:AC,3,FALSE),\"\")","v":""},{"$f":"IFERROR(VLOOKUP(A354,'1.Портфель кредитів'!A:AC,14,FALSE),\"\")","v":""},null,null,null,null,null,null,null,null,null,null,null,null,"","",null,{"$f":"IFERROR(VLOOKUP(A354,'1.Портфель кредитів'!A:AC,30,FALSE),\"\")","v":""},0,{"$error":"#VALUE!"},null,null,null,null,null,{"$f":"VLOOKUP(C354,Hidden_Словник!$A$2:C$81,3,FALSE)","v":{"$error":"#N/A"}},0,{"$f":"VLOOKUP(E354,Hidden_Словник!$W$2:$X$13,2,FALSE)","v":{"$error":"#N/A"}},0,{"$error":"#N/A"}]
[null,"",{"$f":"IFERROR(VLOOKUP(A355,'1.Портфель кредитів'!A:AC,3,FALSE),\"\")","v":""},{"$f":"IFERROR(VLOOKUP(A355,'1.Портфель кредитів'!A:AC,14,FALSE),\"\")","v":""},null,null,null,null,null,null,null,null,null,null,null,null,"","",null,{"$f":"IFERROR(VLOOKUP(A355,'1.Портфель кредитів'!A:AC,30,FALSE),\"\")","v":""},0,{"$error":"#VALUE!"},null,null,null,null,null,{"$f":"VLOOKUP(C355,Hidden_Словник!$A$2:C$81,3,FALSE)","v":{"$error":"#N/A"}},0,{"$f":"VLOOKUP(E355,Hidden_Словник!$W$2:$X$13,2,FALSE)","v":{"$error":"#N/A"}},0,{"$error":"#N/A"}]
[null,"",{"$f":"IFERROR(VLOOKUP(A356,'1.Портфель кредитів'!A:AC,3,FALSE),\"\")","v":""},{"$f":"IFERROR(VLOOKUP(A356,'1.Портфель кредитів'!A:AC,14,FALSE),\"\")","v":""},null,null,null,null,null,null,null,null,null,null,null,null,"","",null,{"$f":"IFERROR(VLOOKUP(A356,'1.Портфель кредитів'!A:AC,30,FALSE),\"\")","v":""},0,{"$error":"#VALUE!"},null,null,null,null,null,{"$f":"VLOOKUP(C356,Hidden_Словник!$A$2:C$81,3,FALSE)","v":{"$error":"#N/A"}},0,{"$f":"VLOOKUP(E356,Hidden_Словник!$W$2:$X$13,2,FALSE)","v":{"$error":"#N/A"}},0,{"$error":"#N/A"}]
[null,"",{"$f":"IFERROR(VLOOKUP(A357,'1.Портфель кредитів'!A:AC,3,FALSE),\"\")","v":""},{"$f":"IFERROR(VLOOKUP(A357,'1.Портфель кредитів'!A:AC,14,FALSE),\"\")","v":""},null,null,null,null,null,null,null,null,null,null,null,null,"","",null,{"$f":"IFERROR(VLOOKUP(A357,'1.Портфель кредитів'!A:AC,30,FALSE),\"\")","v":""},0,{"$error":"#VALUE!"},null,null,null,null,null,{"$f":"VLOOKUP(C357,Hidden_Словник!$A$2:C$81,3,FALSE)","v":{"$error":"#N/A"}},0,{"$f":"VLOOKUP(E357,Hidden_Словник!$W$2:$X$13,2,FALSE)","v":{"$error":"#N/A"}},0,{"$error":"#N/A"}]
[null,"",{"$f":"IFERROR(VLOOKUP(A358,'1.Портфель кредитів'!A:AC,3,FALSE),\"\")","v":""},{"$f":"IFERROR(VLOOKUP(A358,'1.Портфель кредитів'!A:AC,14,FALSE),\"\")","v":""},null,null,null,null,null,null,null,null,null,null,null,null,"","",null,{"$f":"IFERROR(VLOOKUP(A358,'1.Портфель кредитів'!A:AC,30,FALSE),\"\")","v":""},0,{"$error":"#VALUE!"},null,null,null,null,null,{"$f":"VLOOKUP(C358,Hidden_Словник!$A$2:C$81,3,FALSE)","v":{"$error":"#N/A"}},0,{"$f":"VLOOKUP(E358,Hidden_Словник!$W$2:$X$13,2,FALSE)","v":{"$error":"#N/A"}},0,{"$error":"#N/A"}]
[null,"",{"$f":"IFERROR(VLOOKUP(A359,'1.Портфель кредитів'!A:AC,3,FALSE),\"\")","v":""},{"$f":"IFERROR(VLOOKUP(A359,'1.Портфель кредитів'!A:AC,14,FALSE),\"\")","v":""},null,null,null,null,null,null,null,null,null,null,null,null,"","",null,{"$f":"IFERROR(VLOOKUP(A359,'1.Портфель кредитів'!A:AC,30,FALSE),\"\")","v":""},0,{"$error":"#VALUE!"},null,null,null,null,null,{"$f":"VLOOKUP(C359,Hidden_Словник!$A$2:C$81,3,FALSE)","v":{"$error":"#N/A"}},0,{"$f":"VLOOKUP(E359,Hidden_Словник!$W$2:$X$13,2,FALSE)","v":{"$error":"#N/A"}},0,{"$error":"#N/A"}]
[null,"",{"$f":"IFERROR(VLOOKUP(A360,'1.Портфель кредитів'!A:AC,3,FALSE),\"\")","v":""},{"$f":"IFERROR(VLOOKUP(A360,'1.Портфель кредитів'!A:AC,14,FALSE),\"\")","v":""},null,null,null,null,null,null,null,null,null,null,null,null,"","",null,{"$f":"IFERROR(VLOOKUP(A360,'1.Портфель кредитів'!A:AC,30,FALSE),\"\")","v":""},0,{"$error":"#VALUE!"},null,null,null,null,null,{"$f":"VLOOKUP(C360,Hidden_Словник!$A$2:C$81,3,FALSE)","v":{"$error":"#N/A"}},0,{"$f":"VLOOKUP(E360,Hidden_Словник!$W$2:$X$13,2,FALSE)","v":{"$error":"#N/A"}},0,{"$error":"#N/A"}]
[null,"",{"$f":"IFERROR(VLOOKUP(A361,'1.Портфель кредитів'!A:AC,3,FALSE),\"\")","v":""},{"$f":"IFERROR(VLOOKUP(A361,'1.Портфель кредитів'!A:AC,14,FALSE),\"\")","v":""},null,null,null,null,null,null,null,null,null,null,null,null,"","",null,{"$f":"IFERROR(VLOOKUP(A361,'1.Портфель кредитів'!A:AC,30,FALSE),\"\")","v":""},0,{"$error":"#VALUE!"},null,null,null,null,null,{"$f":"VLOOKUP(C361,Hidden_Словник!$A$2:C$81,3,FALSE)","v":{"$error":"#N/A"}},0,{"$f":"VLOOKUP(E361,Hidden_Словник!$W$2:$X$13,2,FALSE)","v":{"$error":"#N/A"}},0,{"$error":"#N/A"}]
[null,"",{"$f":"IFERROR(VLOOKUP(A362,'1.Портфель кредитів'!A:AC,3,FALSE),\"\")","v":""},{"$f":"IFERROR(VLOOKUP(A362,'1.Портфель кредитів'!A:AC,14,FALSE),\"\")","v":""},null,null,null,null,null,null,null,null,null,null,null,null,"","",null,{"$f":"IFERROR(VLOOKUP(A362,'1.Портфель кредитів'!A:AC,30,FALSE),\"\")","v":""},0,{"$error":"#VALUE!"},null,null,null,null,null,{"$f":"VLOOKUP(C362,Hidden_Словник!$A$2:C$81,3,FALSE)","v":{"$error":"#N/A"}},0,{"$f":"VLOOKUP(E362,Hidden_Словник!$W$2:$X$13,2,FALSE)","v":{"$error":"#N/A"}},0,{"$error":"#N/A"}]
[null,"",{"$f":"IFERROR(VLOOKUP(A363,'1.Портфель кредитів'!A:AC,3,FALSE),\"\")","v":""},{"$f":"IFERROR(VLOOKUP(A363,'1.Портфель кредитів'!A:AC,14,FALSE),\"\")","v":""},null,null,null,null,null,null,null,null,null,null,null,null,"","",null,{"$f":"IFERROR(VLOOKUP(A363,'1.Портфель кредитів'!A:AC,30,FALSE),\"\")","v":""},0,{"$error":"#VALUE!"},null,null,null,null,null,{"$f":"VLOOKUP(C363,Hidden_Словник!$A$2:C$81,3,FALSE)","v":{"$error":"#N/A"}},0,{"$f":"VLOOKUP(E363,Hidden_Словник!$W$2:$X$13,2,FALSE)","v":{"$error":"#N/A"}},0,{"$error":"#N/A"}]
[null,"",{"$f":"IFERROR(VLOOKUP(A364,'1.Портфель кредитів'!A:AC,3,FALSE),\"\")","v":""},{"$f":"IFERROR(VLOOKUP(A364,'1.Портфель кредитів'!A:AC,14,FALSE),\"\")","v":""},null,null,null,null,null,null,null,null,null,null,null,null,"","",null,{"$f":"IFERROR(VLOOKUP(A364,'1.Портфель кредитів'!A:AC,30,FALSE),\"\")","v":""},0,{"$error":"#VALUE!"},null,null,null,null,null,{"$f":"VLOOKUP(C364,Hidden_Словник!$A$2:C$81,3,FALSE)","v":{"$error":"#N/A"}},0,{"$f":"VLOOKUP(E364,Hidden_Словник!$W$2:$X$13,2,FALSE)","v":{"$error":"#N/A"}},0,{"$error":"#N/A"}]
[null,"",{"$f":"IFERROR(VLOOKUP(A365,'1.Портфель кредитів'!A:AC,3,FALSE),\"\")","v":""},{"$f":"IFERROR(VLOOKUP(A365,'1.Портфель кредитів'!A:AC,14,FALSE),\"\")","v":""},null,null,null,null,null,null,null,null,null,null,null,null,"","",null,{"$f":"IFERROR(VLOOKUP(A365,'1.Портфель кредитів'!A:AC,30,FALSE),\"\")","v":""},0,{"$error":"#VALUE!"},null,null,null,null,null,{"$f":"VLOOKUP(C365,Hidden_Словник!$A$2:C$81,3,FALSE)","v":{"$error":"#N/A"}},0,{"$f":"VLOOKUP(E365,Hidden_Словник!$W$2:$X$13,2,FALSE)","v":{"$error":"#N/A"}},0,{"$error":"#N/A"}]
[null,"",{"$f":"IFERROR(VLOOKUP(A366,'1.Портфель кредитів'!A:AC,3,FALSE),\"\")","v":""},{"$f":"IFERROR(VLOOKUP(A366,'1.Портфель кредитів'!A:AC,14,FALSE),\"\")","v":""},null,null,null,null,null,null,null,null,null,null,null,null,"","",null,{"$f":"IFERROR(VLOOKUP(A366,'1.Портфель кредитів'!A:AC,30,FALSE),\"\")","v":""},0,{"$error":"#VALUE!"},null,null,null,null,null,{"$f":"VLOOKUP(C366,Hidden_Словник!$A$2:C$81,3,FALSE)","v":{"$error":"#N/A"}},0,{"$f":"VLOOKUP(E366,Hidden_Словник!$W$2:$X$13,2,FALSE)","v":{"$error":"#N/A"}},0,{"$error":"#N/A"}]
[null,"",{"$f":"IFERROR(VLOOKUP(A367,'1.Портфель кредитів'!A:AC,3,FALSE),\"\")","v":""},{"$f":"IFERROR(VLOOKUP(A367,'1.Портфель кредитів'!A:AC,14,FALSE),\"\")","v":""},null,null,null,null,null,null,null,null,null,null,null,null,"","",null,{"$f":"IFERROR(VLOOKUP(A367,'1.Портфель кредитів'!A:AC,30,FALSE),\"\")","v":""},0,{"$error":"#VALUE!"},null,null,null,null,null,{"$f":"VLOOKUP(C367,Hidden_Словник!$A$2:C$81,3,FALSE)","v":{"$error":"#N/A"}},0,{"$f":"VLOOKUP(E367,Hidden_Словник!$W$2:$X$13,2,FALSE)","v":{"$error":"#N/A"}},0,{"$error":"#N/A"}]
[null,"",{"$f":"IFERROR(VLOOKUP(A368,'1.Портфель кредитів'!A:AC,3,FALSE),\"\")","v":""},{"$f":"IFERROR(VLOOKUP(A368,'1.Портфель кредитів'!A:AC,14,FALSE),\"\")","v":""},null,null,null,null,null,null,null,null,null,null,null,null,"","",null,{"$f":"IFERROR(VLOOKUP(A368,'1.Портфель кредитів'!A:AC,30,FALSE),\"\")","v":""},0,{"$error":"#VALUE!"},null,null,null,null,null,{"$f":"VLOOKUP(C368,Hidden_Словник!$A$2:C$81,3,FALSE)","v":{"$error":"#N/A"}},0,{"$f":"VLOOKUP(E368,Hidden_Словник!$W$2:$X$13,2,FALSE)","v":{"$error":"#N/A"}},0,{"$error":"#N/A"}]
[null,"",{"$f":"IFERROR(VLOOKUP(A369,'1.Портфель кредитів'!A:AC,3,FALSE),\"\")","v":""},{"$f":"IFERROR(VLOOKUP(A369,'1.Портфель кредитів'!A:AC,14,FALSE),\"\")","v":""},null,null,null,null,null,null,null,null,null,null,null,null,"","",null,{"$f":"IFERROR(VLOOKUP(A369,'1.Портфель кредитів'!A:AC,30,FALSE),\"\")","v":""},0,{"$error":"#VALUE!"},null,null,null,null,null,{"$f":"VLOOKUP(C369,Hidden_Словник!$A$2:C$81,3,FALSE)","v":{"$error":"#N/A"}},0,{"$f":"VLOOKUP(E369,Hidden_Словник!$W$2:$X$13,2,FALSE)","v":{"$error":"#N/A"}},0,{"$error":"#N/A"}]
[null,"",{"$f":"IFERROR(VLOOKUP(A370,'1.Портфель кредитів'!A:AC,3,FALSE),\"\")","v":""},{"$f":"IFERROR(VLOOKUP(A370,'1.Портфель кредитів'!A:AC,14,FALSE),\"\")","v":""},null,null,null,null,null,null,null,null,null,null,null,null,"","",null,{"$f":"IFERROR(VLOOKUP(A370,'1.Портфель кредитів'!A:AC,30,FALSE),\"\")","v":""},0,{"$error":"#VALUE!"},null,null,null,null,null,{"$f":"VLOOKUP(C370,Hidden_Словник!$A$2:C$81,3,FALSE)","v":{"$error":"#N/A"}},0,{"$f":"VLOOKUP(E370,Hidden_Словник!$W$2:$X$13,2,FALSE)","v":{"$error":"#N/A"}},0,{"$error":"#N/A"}]
[null,"",{"$f":"IFERROR(VLOOKUP(A371,'1.Портфель кредитів'!A:AC,3,FALSE),\"\")","v":""},{"$f":"IFERROR(VLOOKUP(A371,'1.Портфель кредитів'!A:AC,14,FALSE),\"\")","v":""},null,null,null,null,null,null,null,null,null,null,null,null,"","",null,{"$f":"IFERROR(VLOOKUP(A371,'1.Портфель кредитів'!A:AC,30,FALSE),\"\")","v":""},0,{"$error":"#VALUE!"},null,null,null,null,null,{"$f":"VLOOKUP(C371,Hidden_Словник!$A$2:C$81,3,FALSE)","v":{"$error":"#N/A"}},0,{"$f":"VLOOKUP(E371,Hidden_Словник!$W$2:$X$13,2,FALSE)","v":{"$error":"#N/A"}},0,{"$error":"#N/A"}]
[null,"",{"$f":"IFERROR(VLOOKUP(A372,'1.Портфель кредитів'!A:AC,3,FALSE),\"\")","v":""},{"$f":"IFERROR(VLOOKUP(A372,'1.Портфель кредитів'!A:AC,14,FALSE),\"\")","v":""},null,null,null,null,null,null,null,null,null,null,null,null,"","",null,{"$f":"IFERROR(VLOOKUP(A372,'1.Портфель кредитів'!A:AC,30,FALSE),\"\")","v":""},0,{"$error":"#VALUE!"},null,null,null,null,null,{"$f":"VLOOKUP(C372,Hidden_Словник!$A$2:C$81,3,FALSE)","v":{"$error":"#N/A"}},0,{"$f":"VLOOKUP(E372,Hidden_Словник!$W$2:$X$13,2,FALSE)","v":{"$error":"#N/A"}},0,{"$error":"#N/A"}]
[null,"",{"$f":"IFERROR(VLOOKUP(A373,'1.Портфель кредитів'!A:AC,3,FALSE),\"\")","v":""},{"$f":"IFERROR(VLOOKUP(A373,'1.Портфель кредитів'!A:AC,14,FALSE),\"\")","v":""},null,null,null,null,null,null,null,null,null,null,null,null,"","",null,{"$f":"IFERROR(VLOOKUP(A373,'1.Портфель кредитів'!A:AC,30,FALSE),\"\")","v":""},0,{"$error":"#VALUE!"},null,null,null,null,null,{"$f":"VLOOKUP(C373,Hidden_Словник!$A$2:C$81,3,FALSE)","v":{"$error":"#N/A"}},0,{"$f":"VLOOKUP(E373,Hidden_Словник!$W$2:$X$13,2,FALSE)","v":{"$error":"#N/A"}},0,{"$error":"#N/A"}]
[null,"",{"$f":"IFERROR(VLOOKUP(A374,'1.Портфель кредитів'!A:AC,3,FALSE),\"\")","v":""},{"$f":"IFERROR(VLOOKUP(A374,'1.Портфель кредитів'!A:AC,14,FALSE),\"\")","v":""},null,null,null,null,null,null,null,null,null,null,null,null,"","",null,{"$f":"IFERROR(VLOOKUP(A374,'1.Портфель кредитів'!A:AC,30,FALSE),\"\")","v":""},0,{"$error":"#VALUE!"},null,null,null,null,null,{"$f":"VLOOKUP(C374,Hidden_Словник!$A$2:C$81,3,FALSE)","v":{"$error":"#N/A"}},0,{"$f":"VLOOKUP(E374,Hidden_Словник!$W$2:$X$13,2,FALSE)","v":{"$error":"#N/A"}},0,{"$error":"#N/A"}]
[null,"",{"$f":"IFERROR(VLOOKUP(A375,'1.Портфель кредитів'!A:AC,3,FALSE),\"\")","v":""},{"$f":"IFERROR(VLOOKUP(A375,'1.Портфель кредитів'!A:AC,14,FALSE),\"\")","v":""},null,null,null,null,null,null,null,null,null,null,null,null,"","",null,{"$f":"IFERROR(VLOOKUP(A375,'1.Портфель кредитів'!A:AC,30,FALSE),\"\")","v":""},0,{"$error":"#VALUE!"},null,null,null,null,null,{"$f":"VLOOKUP(C375,Hidden_Словник!$A$2:C$81,3,FALSE)","v":{"$error":"#N/A"}},0,{"$f":"VLOOKUP(E375,Hidden_Словник!$W$2:$X$13,2,FALSE)","v":{"$error":"#N/A"}},0,{"$error":"#N/A"}]
[null,"",{"$f":"IFERROR(VLOOKUP(A376,'1.Портфель кредитів'!A:AC,3,FALSE),\"\")","v":""},{"$f":"IFERROR(VLOOKUP(A376,'1.Портфель кредитів'!A:AC,14,FALSE),\"\")","v":""},null,null,null,null,null,null,null,null,null,null,null,null,"","",null,{"$f":"IFERROR(VLOOKUP(A376,'1.Портфель кредитів'!A:AC,30,FALSE),\"\")","v":""},0,{"$error":"#VALUE!"},null,null,null,null,null,{"$f":"VLOOKUP(C376,Hidden_Словник!$A$2:C$81,3,FALSE)","v":{"$error":"#N/A"}},0,{"$f":"VLOOKUP(E376,Hidden_Словник!$W$2:$X$13,2,FALSE)","v":{"$error":"#N/A"}},0,{"$error":"#N/A"}]
[null,"",{"$f":"IFERROR(VLOOKUP(A377,'1.Портфель кредитів'!A:AC,3,FALSE),\"\")","v":""},{"$f":"IFERROR(VLOOKUP(A377,'1.Портфель кредитів'!A:AC,14,FALSE),\"\")","v":""},null,null,null,null,null,null,null,null,null,null,null,null,"","",null,{"$f":"IFERROR(VLOOKUP(A377,'1.Портфель кредитів'!A:AC,30,FALSE),\"\")","v":""},0,{"$error":"#VALUE!"},null,null,null,null,null,{"$f":"VLOOKUP(C377,Hidden_Словник!$A$2:C$81,3,FALSE)","v":{"$error":"#N/A"}},0,{"$f":"VLOOKUP(E377,Hidden_Словник!$W$2:$X$13,2,FALSE)","v":{"$error":"#N/A"}},0,{"$error":"#N/A"}]
[null,"",{"$f":"IFERROR(VLOOKUP(A378,'1.Портфель кредитів'!A:AC,3,FALSE),\"\")","v":""},{"$f":"IFERROR(VLOOKUP(A378,'1.Портфель кредитів'!A:AC,14,FALSE),\"\")","v":""},null,null,null,null,null,null,null,null,null,null,null,null,"","",null,{"$f":"IFERROR(VLOOKUP(A378,'1.Портфель кредитів'!A:AC,30,FALSE),\"\")","v":""},0,{"$error":"#VALUE!"},null,null,null,null,null,{"$f":"VLOOKUP(C378,Hidden_Словник!$A$2:C$81,3,FALSE)","v":{"$error":"#N/A"}},0,{"$f":"VLOOKUP(E378,Hidden_Словник!$W$2:$X$13,2,FALSE)","v":{"$error":"#N/A"}},0,{"$error":"#N/A"}]
[null,"",{"$f":"IFERROR(VLOOKUP(A379,'1.Портфель кредитів'!A:AC,3,FALSE),\"\")","v":""},{"$f":"IFERROR(VLOOKUP(A379,'1.Портфель кредитів'!A:AC,14,FALSE),\"\")","v":""},null,null,null,null,null,null,null,null,null,null,null,null,"","",null,{"$f":"IFERROR(VLOOKUP(A379,'1.Портфель кредитів'!A:AC,30,FALSE),\"\")","v":""},0,{"$error":"#VALUE!"},null,null,null,null,null,{"$f":"VLOOKUP(C379,Hidden_Словник!$A$2:C$81,3,FALSE)","v":{"$error":"#N/A"}},0,{"$f":"VLOOKUP(E379,Hidden_Словник!$W$2:$X$13,2,FALSE)","v":{"$error":"#N/A"}},0,{"$error":"#N/A"}]
[null,"",{"$f":"IFERROR(VLOOKUP(A380,'1.Портфель кредитів'!A:AC,3,FALSE),\"\")","v":""},{"$f":"IFERROR(VLOOKUP(A380,'1.Портфель кредитів'!A:AC,14,FALSE),\"\")","v":""},null,null,null,null,null,null,null,null,null,null,null,null,"","",null,{"$f":"IFERROR(VLOOKUP(A380,'1.Портфель кредитів'!A:AC,30,FALSE),\"\")","v":""},0,{"$error":"#VALUE!"},null,null,null,null,null,{"$f":"VLOOKUP(C380,Hidden_Словник!$A$2:C$81,3,FALSE)","v":{"$error":"#N/A"}},0,{"$f":"VLOOKUP(E380,Hidden_Словник!$W$2:$X$13,2,FALSE)","v":{"$error":"#N/A"}},0,{"$error":"#N/A"}]
[null,"",{"$f":"IFERROR(VLOOKUP(A381,'1.Портфель кредитів'!A:AC,3,FALSE),\"\")","v":""},{"$f":"IFERROR(VLOOKUP(A381,'1.Портфель кредитів'!A:AC,14,FALSE),\"\")","v":""},null,null,null,null,null,null,null,null,null,null,null,null,"","",null,{"$f":"IFERROR(VLOOKUP(A381,'1.Портфель кредитів'!A:AC,30,FALSE),\"\")","v":""},0,{"$error":"#VALUE!"},null,null,null,null,null,{"$f":"VLOOKUP(C381,Hidden_Словник!$A$2:C$81,3,FALSE)","v":{"$error":"#N/A"}},0,{"$f":"VLOOKUP(E381,Hidden_Словник!$W$2:$X$13,2,FALSE)","v":{"$error":"#N/A"}},0,{"$error":"#N/A"}]
[null,"",{"$f":"IFERROR(VLOOKUP(A382,'1.Портфель кредитів'!A:AC,3,FALSE),\"\")","v":""},{"$f":"IFERROR(VLOOKUP(A382,'1.Портфель кредитів'!A:AC,14,FALSE),\"\")","v":""},null,null,null,null,null,null,null,null,null,null,null,null,"","",null,{"$f":"IFERROR(VLOOKUP(A382,'1.Портфель кредитів'!A:AC,30,FALSE),\"\")","v":""},0,{"$error":"#VALUE!"},null,null,null,null,null,{"$f":"VLOOKUP(C382,Hidden_Словник!$A$2:C$81,3,FALSE)","v":{"$error":"#N/A"}},0,{"$f":"VLOOKUP(E382,Hidden_Словник!$W$2:$X$13,2,FALSE)","v":{"$error":"#N/A"}},0,{"$error":"#N/A"}]
[null,"",{"$f":"IFERROR(VLOOKUP(A383,'1.Портфель кредитів'!A:AC,3,FALSE),\"\")","v":""},{"$f":"IFERROR(VLOOKUP(A383,'1.Портфель кредитів'!A:AC,14,FALSE),\"\")","v":""},null,null,null,null,null,null,null,null,null,null,null,null,"","",null,{"$f":"IFERROR(VLOOKUP(A383,'1.Портфель кредитів'!A:AC,30,FALSE),\"\")","v":""},0,{"$f":"T383/U383","v":{"$error":"#VALUE!"}},null,null,null,null,null,{"$f":"VLOOKUP(C383,Hidden_Словник!$A$2:C$81,3,FALSE)","v":{"$error":"#N/A"}},0,{"$f":"VLOOKUP(E383,Hidden_Словник!$W$2:$X$13,2,FALSE)","v":{"$error":"#N/A"}},0,{"$error":"#N/A"}]
[null,"",{"$f":"IFERROR(VLOOKUP(A384,'1.Портфель кредитів'!A:AC,3,FALSE),\"\")","v":""},{"$f":"IFERROR(VLOOKUP(A384,'1.Портфель кредитів'!A:AC,14,FALSE),\"\")","v":""},null,null,null,null,null,null,null,null,null,null,null,null,"","",null,{"$f":"IFERROR(VLOOKUP(A384,'1.Портфель кредитів'!A:AC,30,FALSE),\"\")","v":""},0,{"$error":"#VALUE!"},null,null,null,null,null,{"$f":"VLOOKUP(C384,Hidden_Словник!$A$2:C$81,3,FALSE)","v":{"$error":"#N/A"}},0,{"$f":"VLOOKUP(E384,Hidden_Словник!$W$2:$X$13,2,FALSE)","v":{"$error":"#N/A"}},0,{"$error":"#N/A"}]
[null,"",{"$f":"IFERROR(VLOOKUP(A385,'1.Портфель кредитів'!A:AC,3,FALSE),\"\")","v":""},{"$f":"IFERROR(VLOOKUP(A385,'1.Портфель кредитів'!A:AC,14,FALSE),\"\")","v":""},null,null,null,null,null,null,null,null,null,null,null,null,"","",null,{"$f":"IFERROR(VLOOKUP(A385,'1.Портфель кредитів'!A:AC,30,FALSE),\"\")","v":""},0,{"$error":"#VALUE!"},null,null,null,null,null,{"$f":"VLOOKUP(C385,Hidden_Словник!$A$2:C$81,3,FALSE)","v":{"$error":"#N/A"}},0,{"$f":"VLOOKUP(E385,Hidden_Словник!$W$2:$X$13,2,FALSE)","v":{"$error":"#N/A"}},0,{"$error":"#N/A"}]
[null,"",{"$f":"IFERROR(VLOOKUP(A386,'1.Портфель кредитів'!A:AC,3,FALSE),\"\")","v":""},{"$f":"IFERROR(VLOOKUP(A386,'1.Портфель кредитів'!A:AC,14,FALSE),\"\")","v":""},null,null,null,null,null,null,null,null,null,null,null,null,"","",null,{"$f":"IFERROR(VLOOKUP(A386,'1.Портфель кредитів'!A:AC,30,FALSE),\"\")","v":""},0,{"$error":"#VALUE!"},null,null,null,null,null,{"$f":"VLOOKUP(C386,Hidden_Словник!$A$2:C$81,3,FALSE)","v":{"$error":"#N/A"}},0,{"$f":"VLOOKUP(E386,Hidden_Словник!$W$2:$X$13,2,FALSE)","v":{"$error":"#N/A"}},0,{"$error":"#N/A"}]
[null,"",{"$f":"IFERROR(VLOOKUP(A387,'1.Портфель кредитів'!A:AC,3,FALSE),\"\")","v":""},{"$f":"IFERROR(VLOOKUP(A387,'1.Портфель кредитів'!A:AC,14,FALSE),\"\")","v":""},null,null,null,null,null,null,null,null,null,null,null,null,"","",null,{"$f":"IFERROR(VLOOKUP(A387,'1.Портфель кредитів'!A:AC,30,FALSE),\"\")","v":""},0,{"$error":"#VALUE!"},null,null,null,null,null,{"$f":"VLOOKUP(C387,Hidden_Словник!$A$2:C$81,3,FALSE)","v":{"$error":"#N/A"}},0,{"$f":"VLOOKUP(E387,Hidden_Словник!$W$2:$X$13,2,FALSE)","v":{"$error":"#N/A"}},0,{"$error":"#N/A"}]
[null,"",{"$f":"IFERROR(VLOOKUP(A388,'1.Портфель кредитів'!A:AC,3,FALSE),\"\")","v":""},{"$f":"IFERROR(VLOOKUP(A388,'1.Портфель кредитів'!A:AC,14,FALSE),\"\")","v":""},null,null,null,null,null,null,null,null,null,null,null,null,"","",null,{"$f":"IFERROR(VLOOKUP(A388,'1.Портфель кредитів'!A:AC,30,FALSE),\"\")","v":""},0,{"$error":"#VALUE!"},null,null,null,null,null,{"$f":"VLOOKUP(C388,Hidden_Словник!$A$2:C$81,3,FALSE)","v":{"$error":"#N/A"}},0,{"$f":"VLOOKUP(E388,Hidden_Словник!$W$2:$X$13,2,FALSE)","v":{"$error":"#N/A"}},0,{"$error":"#N/A"}]
[null,"",{"$f":"IFERROR(VLOOKUP(A389,'1.Портфель кредитів'!A:AC,3,FALSE),\"\")","v":""},{"$f":"IFERROR(VLOOKUP(A389,'1.Портфель кредитів'!A:AC,14,FALSE),\"\")","v":""},null,null,null,null,null,null,null,null,null,null,null,null,"","",null,{"$f":"IFERROR(VLOOKUP(A389,'1.Портфель кредитів'!A:AC,30,FALSE),\"\")","v":""},0,{"$error":"#VALUE!"},null,null,null,null,null,{"$f":"VLOOKUP(C389,Hidden_Словник!$A$2:C$81,3,FALSE)","v":{"$error":"#N/A"}},0,{"$f":"VLOOKUP(E389,Hidden_Словник!$W$2:$X$13,2,FALSE)","v":{"$error":"#N/A"}},0,{"$error":"#N/A"}]
[null,"",{"$f":"IFERROR(VLOOKUP(A390,'1.Портфель кредитів'!A:AC,3,FALSE),\"\")","v":""},{"$f":"IFERROR(VLOOKUP(A390,'1.Портфель кредитів'!A:AC,14,FALSE),\"\")","v":""},null,null,null,null,null,null,null,null,null,null,null,null,"","",null,{"$f":"IFERROR(VLOOKUP(A390,'1.Портфель кредитів'!A:AC,30,FALSE),\"\")","v":""},0,{"$error":"#VALUE!"},null,null,null,null,null,{"$f":"VLOOKUP(C390,Hidden_Словник!$A$2:C$81,3,FALSE)","v":{"$error":"#N/A"}},0,{"$f":"VLOOKUP(E390,Hidden_Словник!$W$2:$X$13,2,FALSE)","v":{"$error":"#N/A"}},0,{"$error":"#N/A"}]
[null,"",{"$f":"IFERROR(VLOOKUP(A391,'1.Портфель кредитів'!A:AC,3,FALSE),\"\")","v":""},{"$f":"IFERROR(VLOOKUP(A391,'1.Портфель кредитів'!A:AC,14,FALSE),\"\")","v":""},null,null,null,null,null,null,null,null,null,null,null,null,"","",null,{"$f":"IFERROR(VLOOKUP(A391,'1.Портфель кредитів'!A:AC,30,FALSE),\"\")","v":""},0,{"$error":"#VALUE!"},null,null,null,null,null,{"$f":"VLOOKUP(C391,Hidden_Словник!$A$2:C$81,3,FALSE)","v":{"$error":"#N/A"}},0,{"$f":"VLOOKUP(E391,Hidden_Словник!$W$2:$X$13,2,FALSE)","v":{"$error":"#N/A"}},0,{"$error":"#N/A"}]
[null,"",{"$f":"IFERROR(VLOOKUP(A392,'1.Портфель кредитів'!A:AC,3,FALSE),\"\")","v":""},{"$f":"IFERROR(VLOOKUP(A392,'1.Портфель кредитів'!A:AC,14,FALSE),\"\")","v":""},null,null,null,null,null,null,null,null,null,null,null,null,"","",null,{"$f":"IFERROR(VLOOKUP(A392,'1.Портфель кредитів'!A:AC,30,FALSE),\"\")","v":""},0,{"$error":"#VALUE!"},null,null,null,null,null,{"$f":"VLOOKUP(C392,Hidden_Словник!$A$2:C$81,3,FALSE)","v":{"$error":"#N/A"}},0,{"$f":"VLOOKUP(E392,Hidden_Словник!$W$2:$X$13,2,FALSE)","v":{"$error":"#N/A"}},0,{"$error":"#N/A"}]
[null,"",{"$f":"IFERROR(VLOOKUP(A393,'1.Портфель кредитів'!A:AC,3,FALSE),\"\")","v":""},{"$f":"IFERROR(VLOOKUP(A393,'1.Портфель кредитів'!A:AC,14,FALSE),\"\")","v":""},null,null,null,null,null,null,null,null,null,null,null,null,"","",null,{"$f":"IFERROR(VLOOKUP(A393,'1.Портфель кредитів'!A:AC,30,FALSE),\"\")","v":""},0,{"$error":"#VALUE!"},null,null,null,null,null,{"$f":"VLOOKUP(C393,Hidden_Словник!$A$2:C$81,3,FALSE)","v":{"$error":"#N/A"}},0,{"$f":"VLOOKUP(E393,Hidden_Словник!$W$2:$X$13,2,FALSE)","v":{"$error":"#N/A"}},0,{"$error":"#N/A"}]
[null,"",{"$f":"IFERROR(VLOOKUP(A394,'1.Портфель кредитів'!A:AC,3,FALSE),\"\")","v":""},{"$f":"IFERROR(VLOOKUP(A394,'1.Портфель кредитів'!A:AC,14,FALSE),\"\")","v":""},null,null,null,null,null,null,null,null,null,null,null,null,"","",null,{"$f":"IFERROR(VLOOKUP(A394,'1.Портфель кредитів'!A:AC,30,FALSE),\"\")","v":""},0,{"$error":"#VALUE!"},null,null,null,null,null,{"$f":"VLOOKUP(C394,Hidden_Словник!$A$2:C$81,3,FALSE)","v":{"$error":"#N/A"}},0,{"$f":"VLOOKUP(E394,Hidden_Словник!$W$2:$X$13,2,FALSE)","v":{"$error":"#N/A"}},0,{"$error":"#N/A"}]
[null,"",{"$f":"IFERROR(VLOOKUP(A395,'1.Портфель кредитів'!A:AC,3,FALSE),\"\")","v":""},{"$f":"IFERROR(VLOOKUP(A395,'1.Портфель кредитів'!A:AC,14,FALSE),\"\")","v":""},null,null,null,null,null,null,null,null,null,null,null,null,"","",null,{"$f":"IFERROR(VLOOKUP(A395,'1.Портфель кредитів'!A:AC,30,FALSE),\"\")","v":""},0,{"$error":"#VALUE!"},null,null,null,null,null,{"$f":"VLOOKUP(C395,Hidden_Словник!$A$2:C$81,3,FALSE)","v":{"$error":"#N/A"}},0,{"$f":"VLOOKUP(E395,Hidden_Словник!$W$2:$X$13,2,FALSE)","v":{"$error":"#N/A"}},0,{"$error":"#N/A"}]
[null,"",{"$f":"IFERROR(VLOOKUP(A396,'1.Портфель кредитів'!A:AC,3,FALSE),\"\")","v":""},{"$f":"IFERROR(VLOOKUP(A396,'1.Портфель кредитів'!A:AC,14,FALSE),\"\")","v":""},null,null,null,null,null,null,null,null,null,null,null,null,"","",null,{"$f":"IFERROR(VLOOKUP(A396,'1.Портфель кредитів'!A:AC,30,FALSE),\"\")","v":""},0,{"$error":"#VALUE!"},null,null,null,null,null,{"$f":"VLOOKUP(C396,Hidden_Словник!$A$2:C$81,3,FALSE)","v":{"$error":"#N/A"}},0,{"$f":"VLOOKUP(E396,Hidden_Словник!$W$2:$X$13,2,FALSE)","v":{"$error":"#N/A"}},0,{"$error":"#N/A"}]
[null,"",{"$f":"IFERROR(VLOOKUP(A397,'1.Портфель кредитів'!A:AC,3,FALSE),\"\")","v":""},{"$f":"IFERROR(VLOOKUP(A397,'1.Портфель кредитів'!A:AC,14,FALSE),\"\")","v":""},null,null,null,null,null,null,null,null,null,null,null,null,"","",null,{"$f":"IFERROR(VLOOKUP(A397,'1.Портфель кредитів'!A:AC,30,FALSE),\"\")","v":""},0,{"$error":"#VALUE!"},null,null,null,null,null,{"$f":"VLOOKUP(C397,Hidden_Словник!$A$2:C$81,3,FALSE)","v":{"$error":"#N/A"}},0,{"$f":"VLOOKUP(E397,Hidden_Словник!$W$2:$X$13,2,FALSE)","v":{"$error":"#N/A"}},0,{"$error":"#N/A"}]
[null,"",{"$f":"IFERROR(VLOOKUP(A398,'1.Портфель кредитів'!A:AC,3,FALSE),\"\")","v":""},{"$f":"IFERROR(VLOOKUP(A398,'1.Портфель кредитів'!A:AC,14,FALSE),\"\")","v":""},null,null,null,null,null,null,null,null,null,null,null,null,"","",null,{"$f":"IFERROR(VLOOKUP(A398,'1.Портфель кредитів'!A:AC,30,FALSE),\"\")","v":""},0,{"$error":"#VALUE!"},null,null,null,null,null,{"$f":"VLOOKUP(C398,Hidden_Словник!$A$2:C$81,3,FALSE)","v":{"$error":"#N/A"}},0,{"$f":"VLOOKUP(E398,Hidden_Словник!$W$2:$X$13,2,FALSE)","v":{"$error":"#N/A"}},0,{"$error":"#N/A"}]
[null,"",{"$f":"IFERROR(VLOOKUP(A399,'1.Портфель кредитів'!A:AC,3,FALSE),\"\")","v":""},{"$f":"IFERROR(VLOOKUP(A399,'1.Портфель кредитів'!A:AC,14,FALSE),\"\")","v":""},null,null,null,null,null,null,null,null,null,null,null,null,"","",null,{"$f":"IFERROR(VLOOKUP(A399,'1.Портфель кредитів'!A:AC,30,FALSE),\"\")","v":""},0,{"$error":"#VALUE!"},null,null,null,null,null,{"$f":"VLOOKUP(C399,Hidden_Словник!$A$2:C$81,3,FALSE)","v":{"$error":"#N/A"}},0,{"$f":"VLOOKUP(E399,Hidden_Словник!$W$2:$X$13,2,FALSE)","v":{"$error":"#N/A"}},0,{"$error":"#N/A"}]
[null,"",{"$f":"IFERROR(VLOOKUP(A400,'1.Портфель кредитів'!A:AC,3,FALSE),\"\")","v":""},{"$f":"IFERROR(VLOOKUP(A400,'1.Портфель кредитів'!A:AC,14,FALSE),\"\")","v":""},null,null,null,null,null,null,null,null,null,null,null,null,"","",null,{"$f":"IFERROR(VLOOKUP(A400,'1.Портфель кредитів'!A:AC,30,FALSE),\"\")","v":""},0,{"$error":"#VALUE!"},null,null,null,null,null,{"$f":"VLOOKUP(C400,Hidden_Словник!$A$2:C$81,3,FALSE)","v":{"$error":"#N/A"}},0,{"$f":"VLOOKUP(E400,Hidden_Словник!$W$2:$X$13,2,FALSE)","v":{"$error":"#N/A"}},0,{"$error":"#N/A"}]
[null,"",{"$f":"IFERROR(VLOOKUP(A401,'1.Портфель кредитів'!A:AC,3,FALSE),\"\")","v":""},{"$f":"IFERROR(VLOOKUP(A401,'1.Портфель кредитів'!A:AC,14,FALSE),\"\")","v":""},null,null,null,null,null,null,null,null,null,null,null,null,"","",null,{"$f":"IFERROR(VLOOKUP(A401,'1.Портфель кредитів'!A:AC,30,FALSE),\"\")","v":""},0,{"$error":"#VALUE!"},null,null,null,null,null,{"$f":"VLOOKUP(C401,Hidden_Словник!$A$2:C$81,3,FALSE)","v":{"$error":"#N/A"}},0,{"$f":"VLOOKUP(E401,Hidden_Словник!$W$2:$X$13,2,FALSE)","v":{"$error":"#N/A"}},0,{"$error":"#N/A"}]
[null,"",{"$f":"IFERROR(VLOOKUP(A402,'1.Портфель кредитів'!A:AC,3,FALSE),\"\")","v":""},{"$f":"IFERROR(VLOOKUP(A402,'1.Портфель кредитів'!A:AC,14,FALSE),\"\")","v":""},null,null,null,null,null,null,null,null,null,null,null,null,"","",null,{"$f":"IFERROR(VLOOKUP(A402,'1.Портфель кредитів'!A:AC,30,FALSE),\"\")","v":""},0,{"$error":"#VALUE!"},null,null,null,null,null,{"$f":"VLOOKUP(C402,Hidden_Словник!$A$2:C$81,3,FALSE)","v":{"$error":"#N/A"}},0,{"$f":"VLOOKUP(E402,Hidden_Словник!$W$2:$X$13,2,FALSE)","v":{"$error":"#N/A"}},0,{"$error":"#N/A"}]
[null,"",{"$f":"IFERROR(VLOOKUP(A403,'1.Портфель кредитів'!A:AC,3,FALSE),\"\")","v":""},{"$f":"IFERROR(VLOOKUP(A403,'1.Портфель кредитів'!A:AC,14,FALSE),\"\")","v":""},null,null,null,null,null,null,null,null,null,null,null,null,"","",null,{"$f":"IFERROR(VLOOKUP(A403,'1.Портфель кредитів'!A:AC,30,FALSE),\"\")","v":""},0,{"$error":"#VALUE!"},null,null,null,null,null,{"$f":"VLOOKUP(C403,Hidden_Словник!$A$2:C$81,3,FALSE)","v":{"$error":"#N/A"}},0,{"$f":"VLOOKUP(E403,Hidden_Словник!$W$2:$X$13,2,FALSE)","v":{"$error":"#N/A"}},0,{"$error":"#N/A"}]
[null,"",{"$f":"IFERROR(VLOOKUP(A404,'1.Портфель кредитів'!A:AC,3,FALSE),\"\")","v":""},{"$f":"IFERROR(VLOOKUP(A404,'1.Портфель кредитів'!A:AC,14,FALSE),\"\")","v":""},null,null,null,null,null,null,null,null,null,null,null,null,"","",null,{"$f":"IFERROR(VLOOKUP(A404,'1.Портфель кредитів'!A:AC,30,FALSE),\"\")","v":""},0,{"$error":"#VALUE!"},null,null,null,null,null,{"$f":"VLOOKUP(C404,Hidden_Словник!$A$2:C$81,3,FALSE)","v":{"$error":"#N/A"}},0,{"$f":"VLOOKUP(E404,Hidden_Словник!$W$2:$X$13,2,FALSE)","v":{"$error":"#N/A"}},0,{"$error":"#N/A"}]
[null,"",{"$f":"IFERROR(VLOOKUP(A405,'1.Портфель кредитів'!A:AC,3,FALSE),\"\")","v":""},{"$f":"IFERROR(VLOOKUP(A405,'1.Портфель кредитів'!A:AC,14,FALSE),\"\")","v":""},null,null,null,null,null,null,null,null,null,null,null,null,"","",null,{"$f":"IFERROR(VLOOKUP(A405,'1.Портфель кредитів'!A:AC,30,FALSE),\"\")","v":""},0,{"$error":"#VALUE!"},null,null,null,null,null,{"$f":"VLOOKUP(C405,Hidden_Словник!$A$2:C$81,3,FALSE)","v":{"$error":"#N/A"}},0,{"$f":"VLOOKUP(E405,Hidden_Словник!$W$2:$X$13,2,FALSE)","v":{"$error":"#N/A"}},0,{"$error":"#N/A"}]
[null,"",{"$f":"IFERROR(VLOOKUP(A406,'1.Портфель кредитів'!A:AC,3,FALSE),\"\")","v":""},{"$f":"IFERROR(VLOOKUP(A406,'1.Портфель кредитів'!A:AC,14,FALSE),\"\")","v":""},null,null,null,null,null,null,null,null,null,null,null,null,"",{"$f":"IFERROR(V406*L406,\"\")","v":""},null,{"$f":"IFERROR(VLOOKUP(A406,'1.Портфель кредитів'!A:AC,30,FALSE),\"\")","v":""},0,{"$error":"#VALUE!"},null,null,null,null,null,{"$f":"VLOOKUP(C406,Hidden_Словник!$A$2:C$81,3,FALSE)","v":{"$error":"#N/A"}},{"$f":"ROUNDUP(L406,0)","v":0},{"$f":"VLOOKUP(E406,Hidden_Словник!$W$2:$X$13,2,FALSE)","v":{"$error":"#N/A"}},{"$f":"O406","v":0},{"$error":"#N/A"}]
[null,{"$f":"IFERROR(AF407,\"\")","v":""},{"$f":"IFERROR(VLOOKUP(A407,'1.Портфель кредитів'!A:AC,3,FALSE),\"\")","v":""},{"$f":"IFERROR(VLOOKUP(A407,'1.Портфель кредитів'!A:AC,14,FALSE),\"\")","v":""},null,null,null,null,null,null,null,null,null,null,null,null,"","",null,{"$f":"IFERROR(VLOOKUP(A407,'1.Портфель кредитів'!A:AC,30,FALSE),\"\")","v":""},0,{"$error":"#VALUE!"},null,null,null,null,null,{"$f":"VLOOKUP(C407,Hidden_Словник!$A$2:C$81,3,FALSE)","v":{"$error":"#N/A"}},0,{"$f":"VLOOKUP(E407,Hidden_Словник!$W$2:$X$13,2,FALSE)","v":{"$error":"#N/A"}},0,{"$f":"AB407&\"_\"&AC407&AD407&AE407","v":{"$error":"#N/A"}}]
[null,"",{"$f":"IFERROR(VLOOKUP(A408,'1.Портфель кредитів'!A:AC,3,FALSE),\"\")","v":""},{"$f":"IFERROR(VLOOKUP(A408,'1.Портфель кредитів'!A:AC,14,FALSE),\"\")","v":""},null,null,null,null,null,null,null,null,null,null,null,null,"","",null,{"$f":"IFERROR(VLOOKUP(A408,'1.Портфель кредитів'!A:AC,30,FALSE),\"\")","v":""},0,{"$error":"#VALUE!"},null,null,null,null,null,{"$f":"VLOOKUP(C408,Hidden_Словник!$A$2:C$81,3,FALSE)","v":{"$error":"#N/A"}},0,{"$f":"VLOOKUP(E408,Hidden_Словник!$W$2:$X$13,2,FALSE)","v":{"$error":"#N/A"}},0,{"$error":"#N/A"}]
[null,"",{"$f":"IFERROR(VLOOKUP(A409,'1.Портфель кредитів'!A:AC,3,FALSE),\"\")","v":""},{"$f":"IFERROR(VLOOKUP(A409,'1.Портфель кредитів'!A:AC,14,FALSE),\"\")","v":""},null,null,null,null,null,null,null,null,null,null,null,null,"","",null,{"$f":"IFERROR(VLOOKUP(A409,'1.Портфель кредитів'!A:AC,30,FALSE),\"\")","v":""},0,{"$error":"#VALUE!"},null,null,null,null,null,{"$f":"VLOOKUP(C409,Hidden_Словник!$A$2:C$81,3,FALSE)","v":{"$error":"#N/A"}},0,{"$f":"VLOOKUP(E409,Hidden_Словник!$W$2:$X$13,2,FALSE)","v":{"$error":"#N/A"}},0,{"$error":"#N/A"}]
[null,"",{"$f":"IFERROR(VLOOKUP(A410,'1.Портфель кредитів'!A:AC,3,FALSE),\"\")","v":""},{"$f":"IFERROR(VLOOKUP(A410,'1.Портфель кредитів'!A:AC,14,FALSE),\"\")","v":""},null,null,null,null,null,null,null,null,null,null,null,null,{"$f":"IF(O410=\"\",\"\",IF(COUNTIF(AF:AF,AF410)>1,\"так\",\"ні\"))","v":""},"",null,{"$f":"IFERROR(VLOOKUP(A410,'1.Портфель кредитів'!A:AC,30,FALSE),\"\")","v":""},{"$f":"SUMIF(B:B,B410,T:T)","v":0},{"$error":"#VALUE!"},null,null,null,null,null,{"$f":"VLOOKUP(C410,Hidden_Словник!$A$2:C$81,3,FALSE)","v":{"$error":"#N/A"}},0,{"$f":"VLOOKUP(E410,Hidden_Словник!$W$2:$X$13,2,FALSE)","v":{"$error":"#N/A"}},0,{"$error":"#N/A"}]
[null,"",{"$f":"IFERROR(VLOOKUP(A411,'1.Портфель кредитів'!A:AC,3,FALSE),\"\")","v":""},{"$f":"IFERROR(VLOOKUP(A411,'1.Портфель кредитів'!A:AC,14,FALSE),\"\")","v":""},null,null,null,null,null,null,null,null,null,null,null,null,"","",null,{"$f":"IFERROR(VLOOKUP(A411,'1.Портфель кредитів'!A:AC,30,FALSE),\"\")","v":""},0,{"$error":"#VALUE!"},null,null,null,null,null,{"$f":"VLOOKUP(C411,Hidden_Словник!$A$2:C$81,3,FALSE)","v":{"$error":"#N/A"}},0,{"$f":"VLOOKUP(E411,Hidden_Словник!$W$2:$X$13,2,FALSE)","v":{"$error":"#N/A"}},0,{"$error":"#N/A"}]
[null,"",{"$f":"IFERROR(VLOOKUP(A412,'1.Портфель кредитів'!A:AC,3,FALSE),\"\")","v":""},{"$f":"IFERROR(VLOOKUP(A412,'1.Портфель кредитів'!A:AC,14,FALSE),\"\")","v":""},null,null,null,null,null,null,null,null,null,null,null,null,"","",null,{"$f":"IFERROR(VLOOKUP(A412,'1.Портфель кредитів'!A:AC,30,FALSE),\"\")","v":""},0,{"$error":"#VALUE!"},null,null,null,null,null,{"$f":"VLOOKUP(C412,Hidden_Словник!$A$2:C$81,3,FALSE)","v":{"$error":"#N/A"}},0,{"$f":"VLOOKUP(E412,Hidden_Словник!$W$2:$X$13,2,FALSE)","v":{"$error":"#N/A"}},0,{"$error":"#N/A"}]
[null,"",{"$f":"IFERROR(VLOOKUP(A413,'1.Портфель кредитів'!A:AC,3,FALSE),\"\")","v":""},{"$f":"IFERROR(VLOOKUP(A413,'1.Портфель кредитів'!A:AC,14,FALSE),\"\")","v":""},null,null,null,null,null,null,null,null,null,null,null,null,"","",null,{"$f":"IFERROR(VLOOKUP(A413,'1.Портфель кредитів'!A:AC,30,FALSE),\"\")","v":""},0,{"$error":"#VALUE!"},null,null,null,null,null,{"$f":"VLOOKUP(C413,Hidden_Словник!$A$2:C$81,3,FALSE)","v":{"$error":"#N/A"}},0,{"$f":"VLOOKUP(E413,Hidden_Словник!$W$2:$X$13,2,FALSE)","v":{"$error":"#N/A"}},0,{"$error":"#N/A"}]
[null,"",{"$f":"IFERROR(VLOOKUP(A414,'1.Портфель кредитів'!A:AC,3,FALSE),\"\")","v":""},{"$f":"IFERROR(VLOOKUP(A414,'1.Портфель кредитів'!A:AC,14,FALSE),\"\")","v":""},null,null,null,null,null,null,null,null,null,null,null,null,"","",null,{"$f":"IFERROR(VLOOKUP(A414,'1.Портфель кредитів'!A:AC,30,FALSE),\"\")","v":""},0,{"$error":"#VALUE!"},null,null,null,null,null,{"$f":"VLOOKUP(C414,Hidden_Словник!$A$2:C$81,3,FALSE)","v":{"$error":"#N/A"}},0,{"$f":"VLOOKUP(E414,Hidden_Словник!$W$2:$X$13,2,FALSE)","v":{"$error":"#N/A"}},0,{"$error":"#N/A"}]
[null,"",{"$f":"IFERROR(VLOOKUP(A415,'1.Портфель кредитів'!A:AC,3,FALSE),\"\")","v":""},{"$f":"IFERROR(VLOOKUP(A415,'1.Портфель кредитів'!A:AC,14,FALSE),\"\")","v":""},null,null,null,null,null,null,null,null,null,null,null,null,"","",null,{"$f":"IFERROR(VLOOKUP(A415,'1.Портфель кредитів'!A:AC,30,FALSE),\"\")","v":""},0,{"$error":"#VALUE!"},null,null,null,null,null,{"$f":"VLOOKUP(C415,Hidden_Словник!$A$2:C$81,3,FALSE)","v":{"$error":"#N/A"}},0,{"$f":"VLOOKUP(E415,Hidden_Словник!$W$2:$X$13,2,FALSE)","v":{"$error":"#N/A"}},0,{"$error":"#N/A"}]
[null,"",{"$f":"IFERROR(VLOOKUP(A416,'1.Портфель кредитів'!A:AC,3,FALSE),\"\")","v":""},{"$f":"IFERROR(VLOOKUP(A416,'1.Портфель кредитів'!A:AC,14,FALSE),\"\")","v":""},null,null,null,null,null,null,null,null,null,null,null,null,"","",null,{"$f":"IFERROR(VLOOKUP(A416,'1.Портфель кредитів'!A:AC,30,FALSE),\"\")","v":""},0,{"$error":"#VALUE!"},null,null,null,null,null,{"$f":"VLOOKUP(C416,Hidden_Словник!$A$2:C$81,3,FALSE)","v":{"$error":"#N/A"}},0,{"$f":"VLOOKUP(E416,Hidden_Словник!$W$2:$X$13,2,FALSE)","v":{"$error":"#N/A"}},0,{"$error":"#N/A"}]
[null,"",{"$f":"IFERROR(VLOOKUP(A417,'1.Портфель кредитів'!A:AC,3,FALSE),\"\")","v":""},{"$f":"IFERROR(VLOOKUP(A417,'1.Портфель кредитів'!A:AC,14,FALSE),\"\")","v":""},null,null,null,null,null,null,null,null,null,null,null,null,"","",null,{"$f":"IFERROR(VLOOKUP(A417,'1.Портфель кредитів'!A:AC,30,FALSE),\"\")","v":""},0,{"$error":"#VALUE!"},null,null,null,null,null,{"$f":"VLOOKUP(C417,Hidden_Словник!$A$2:C$81,3,FALSE)","v":{"$error":"#N/A"}},0,{"$f":"VLOOKUP(E417,Hidden_Словник!$W$2:$X$13,2,FALSE)","v":{"$error":"#N/A"}},0,{"$error":"#N/A"}]
[null,"",{"$f":"IFERROR(VLOOKUP(A418,'1.Портфель кредитів'!A:AC,3,FALSE),\"\")","v":""},{"$f":"IFERROR(VLOOKUP(A418,'1.Портфель кредитів'!A:AC,14,FALSE),\"\")","v":""},null,null,null,null,null,null,null,null,null,null,null,null,"","",null,{"$f":"IFERROR(VLOOKUP(A418,'1.Портфель кредитів'!A:AC,30,FALSE),\"\")","v":""},0,{"$error":"#VALUE!"},null,null,null,null,null,{"$f":"VLOOKUP(C418,Hidden_Словник!$A$2:C$81,3,FALSE)","v":{"$error":"#N/A"}},0,{"$f":"VLOOKUP(E418,Hidden_Словник!$W$2:$X$13,2,FALSE)","v":{"$error":"#N/A"}},0,{"$error":"#N/A"}]
[null,"",{"$f":"IFERROR(VLOOKUP(A419,'1.Портфель кредитів'!A:AC,3,FALSE),\"\")","v":""},{"$f":"IFERROR(VLOOKUP(A419,'1.Портфель кредитів'!A:AC,14,FALSE),\"\")","v":""},null,null,null,null,null,null,null,null,null,null,null,null,"","",null,{"$f":"IFERROR(VLOOKUP(A419,'1.Портфель кредитів'!A:AC,30,FALSE),\"\")","v":""},0,{"$error":"#VALUE!"},null,null,null,null,null,{"$f":"VLOOKUP(C419,Hidden_Словник!$A$2:C$81,3,FALSE)","v":{"$error":"#N/A"}},0,{"$f":"VLOOKUP(E419,Hidden_Словник!$W$2:$X$13,2,FALSE)","v":{"$error":"#N/A"}},0,{"$error":"#N/A"}]
[null,"",{"$f":"IFERROR(VLOOKUP(A420,'1.Портфель кредитів'!A:AC,3,FALSE),\"\")","v":""},{"$f":"IFERROR(VLOOKUP(A420,'1.Портфель кредитів'!A:AC,14,FALSE),\"\")","v":""},null,null,null,null,null,null,null,null,null,null,null,null,"","",null,{"$f":"IFERROR(VLOOKUP(A420,'1.Портфель кредитів'!A:AC,30,FALSE),\"\")","v":""},0,{"$error":"#VALUE!"},null,null,null,null,null,{"$f":"VLOOKUP(C420,Hidden_Словник!$A$2:C$81,3,FALSE)","v":{"$error":"#N/A"}},0,{"$f":"VLOOKUP(E420,Hidden_Словник!$W$2:$X$13,2,FALSE)","v":{"$error":"#N/A"}},0,{"$error":"#N/A"}]
[null,"",{"$f":"IFERROR(VLOOKUP(A421,'1.Портфель кредитів'!A:AC,3,FALSE),\"\")","v":""},{"$f":"IFERROR(VLOOKUP(A421,'1.Портфель кредитів'!A:AC,14,FALSE),\"\")","v":""},null,null,null,null,null,null,null,null,null,null,null,null,"","",null,{"$f":"IFERROR(VLOOKUP(A421,'1.Портфель кредитів'!A:AC,30,FALSE),\"\")","v":""},0,{"$error":"#VALUE!"},null,null,null,null,null,{"$f":"VLOOKUP(C421,Hidden_Словник!$A$2:C$81,3,FALSE)","v":{"$error":"#N/A"}},0,{"$f":"VLOOKUP(E421,Hidden_Словник!$W$2:$X$13,2,FALSE)","v":{"$error":"#N/A"}},0,{"$error":"#N/A"}]
[null,"",{"$f":"IFERROR(VLOOKUP(A422,'1.Портфель кредитів'!A:AC,3,FALSE),\"\")","v":""},{"$f":"IFERROR(VLOOKUP(A422,'1.Портфель кредитів'!A:AC,14,FALSE),\"\")","v":""},null,null,null,null,null,null,null,null,null,null,null,null,"","",null,{"$f":"IFERROR(VLOOKUP(A422,'1.Портфель кредитів'!A:AC,30,FALSE),\"\")","v":""},0,{"$error":"#VALUE!"},null,null,null,null,null,{"$f":"VLOOKUP(C422,Hidden_Словник!$A$2:C$81,3,FALSE)","v":{"$error":"#N/A"}},0,{"$f":"VLOOKUP(E422,Hidden_Словник!$W$2:$X$13,2,FALSE)","v":{"$error":"#N/A"}},0,{"$error":"#N/A"}]
[null,"",{"$f":"IFERROR(VLOOKUP(A423,'1.Портфель кредитів'!A:AC,3,FALSE),\"\")","v":""},{"$f":"IFERROR(VLOOKUP(A423,'1.Портфель кредитів'!A:AC,14,FALSE),\"\")","v":""},null,null,null,null,null,null,null,null,null,null,null,null,"","",null,{"$f":"IFERROR(VLOOKUP(A423,'1.Портфель кредитів'!A:AC,30,FALSE),\"\")","v":""},0,{"$error":"#VALUE!"},null,null,null,null,null,{"$f":"VLOOKUP(C423,Hidden_Словник!$A$2:C$81,3,FALSE)","v":{"$error":"#N/A"}},0,{"$f":"VLOOKUP(E423,Hidden_Словник!$W$2:$X$13,2,FALSE)","v":{"$error":"#N/A"}},0,{"$error":"#N/A"}]
[null,"",{"$f":"IFERROR(VLOOKUP(A424,'1.Портфель кредитів'!A:AC,3,FALSE),\"\")","v":""},{"$f":"IFERROR(VLOOKUP(A424,'1.Портфель кредитів'!A:AC,14,FALSE),\"\")","v":""},null,null,null,null,null,null,null,null,null,null,null,null,"","",null,{"$f":"IFERROR(VLOOKUP(A424,'1.Портфель кредитів'!A:AC,30,FALSE),\"\")","v":""},0,{"$error":"#VALUE!"},null,null,null,null,null,{"$f":"VLOOKUP(C424,Hidden_Словник!$A$2:C$81,3,FALSE)","v":{"$error":"#N/A"}},0,{"$f":"VLOOKUP(E424,Hidden_Словник!$W$2:$X$13,2,FALSE)","v":{"$error":"#N/A"}},0,{"$error":"#N/A"}]
[null,"",{"$f":"IFERROR(VLOOKUP(A425,'1.Портфель кредитів'!A:AC,3,FALSE),\"\")","v":""},{"$f":"IFERROR(VLOOKUP(A425,'1.Портфель кредитів'!A:AC,14,FALSE),\"\")","v":""},null,null,null,null,null,null,null,null,null,null,null,null,"","",null,{"$f":"IFERROR(VLOOKUP(A425,'1.Портфель кредитів'!A:AC,30,FALSE),\"\")","v":""},0,{"$error":"#VALUE!"},null,null,null,null,null,{"$f":"VLOOKUP(C425,Hidden_Словник!$A$2:C$81,3,FALSE)","v":{"$error":"#N/A"}},0,{"$f":"VLOOKUP(E425,Hidden_Словник!$W$2:$X$13,2,FALSE)","v":{"$error":"#N/A"}},0,{"$error":"#N/A"}]
[null,"",{"$f":"IFERROR(VLOOKUP(A426,'1.Портфель кредитів'!A:AC,3,FALSE),\"\")","v":""},{"$f":"IFERROR(VLOOKUP(A426,'1.Портфель кредитів'!A:AC,14,FALSE),\"\")","v":""},null,null,null,null,null,null,null,null,null,null,null,null,"","",null,{"$f":"IFERROR(VLOOKUP(A426,'1.Портфель кредитів'!A:AC,30,FALSE),\"\")","v":""},0,{"$error":"#VALUE!"},null,null,null,null,null,{"$f":"VLOOKUP(C426,Hidden_Словник!$A$2:C$81,3,FALSE)","v":{"$error":"#N/A"}},0,{"$f":"VLOOKUP(E426,Hidden_Словник!$W$2:$X$13,2,FALSE)","v":{"$error":"#N/A"}},0,{"$error":"#N/A"}]
[null,"",{"$f":"IFERROR(VLOOKUP(A427,'1.Портфель кредитів'!A:AC,3,FALSE),\"\")","v":""},{"$f":"IFERROR(VLOOKUP(A427,'1.Портфель кредитів'!A:AC,14,FALSE),\"\")","v":""},null,null,null,null,null,null,null,null,null,null,null,null,"","",null,{"$f":"IFERROR(VLOOKUP(A427,'1.Портфель кредитів'!A:AC,30,FALSE),\"\")","v":""},0,{"$error":"#VALUE!"},null,null,null,null,null,{"$f":"VLOOKUP(C427,Hidden_Словник!$A$2:C$81,3,FALSE)","v":{"$error":"#N/A"}},0,{"$f":"VLOOKUP(E427,Hidden_Словник!$W$2:$X$13,2,FALSE)","v":{"$error":"#N/A"}},0,{"$error":"#N/A"}]
[null,"",{"$f":"IFERROR(VLOOKUP(A428,'1.Портфель кредитів'!A:AC,3,FALSE),\"\")","v":""},{"$f":"IFERROR(VLOOKUP(A428,'1.Портфель кредитів'!A:AC,14,FALSE),\"\")","v":""},null,null,null,null,null,null,null,null,null,null,null,null,"","",null,{"$f":"IFERROR(VLOOKUP(A428,'1.Портфель кредитів'!A:AC,30,FALSE),\"\")","v":""},0,{"$error":"#VALUE!"},null,null,null,null,null,{"$f":"VLOOKUP(C428,Hidden_Словник!$A$2:C$81,3,FALSE)","v":{"$error":"#N/A"}},0,{"$f":"VLOOKUP(E428,Hidden_Словник!$W$2:$X$13,2,FALSE)","v":{"$error":"#N/A"}},0,{"$error":"#N/A"}]
[null,"",{"$f":"IFERROR(VLOOKUP(A429,'1.Портфель кредитів'!A:AC,3,FALSE),\"\")","v":""},{"$f":"IFERROR(VLOOKUP(A429,'1.Портфель кредитів'!A:AC,14,FALSE),\"\")","v":""},null,null,null,null,null,null,null,null,null,null,null,null,"","",null,{"$f":"IFERROR(VLOOKUP(A429,'1.Портфель кредитів'!A:AC,30,FALSE),\"\")","v":""},0,{"$error":"#VALUE!"},null,null,null,null,null,{"$f":"VLOOKUP(C429,Hidden_Словник!$A$2:C$81,3,FALSE)","v":{"$error":"#N/A"}},0,{"$f":"VLOOKUP(E429,Hidden_Словник!$W$2:$X$13,2,FALSE)","v":{"$error":"#N/A"}},0,{"$error":"#N/A"}]
[null,"",{"$f":"IFERROR(VLOOKUP(A430,'1.Портфель кредитів'!A:AC,3,FALSE),\"\")","v":""},{"$f":"IFERROR(VLOOKUP(A430,'1.Портфель кредитів'!A:AC,14,FALSE),\"\")","v":""},null,null,null,null,null,null,null,null,null,null,null,null,"","",null,{"$f":"IFERROR(VLOOKUP(A430,'1.Портфель кредитів'!A:AC,30,FALSE),\"\")","v":""},0,{"$error":"#VALUE!"},null,null,null,null,null,{"$f":"VLOOKUP(C430,Hidden_Словник!$A$2:C$81,3,FALSE)","v":{"$error":"#N/A"}},0,{"$f":"VLOOKUP(E430,Hidden_Словник!$W$2:$X$13,2,FALSE)","v":{"$error":"#N/A"}},0,{"$error":"#N/A"}]
[null,"",{"$f":"IFERROR(VLOOKUP(A431,'1.Портфель кредитів'!A:AC,3,FALSE),\"\")","v":""},{"$f":"IFERROR(VLOOKUP(A431,'1.Портфель кредитів'!A:AC,14,FALSE),\"\")","v":""},null,null,null,null,null,null,null,null,null,null,null,null,"","",null,{"$f":"IFERROR(VLOOKUP(A431,'1.Портфель кредитів'!A:AC,30,FALSE),\"\")","v":""},0,{"$error":"#VALUE!"},null,null,null,null,null,{"$f":"VLOOKUP(C431,Hidden_Словник!$A$2:C$81,3,FALSE)","v":{"$error":"#N/A"}},0,{"$f":"VLOOKUP(E431,Hidden_Словник!$W$2:$X$13,2,FALSE)","v":{"$error":"#N/A"}},0,{"$error":"#N/A"}]
[null,"",{"$f":"IFERROR(VLOOKUP(A432,'1.Портфель кредитів'!A:AC,3,FALSE),\"\")","v":""},{"$f":"IFERROR(VLOOKUP(A432,'1.Портфель кредитів'!A:AC,14,FALSE),\"\")","v":""},null,null,null,null,null,null,null,null,null,null,null,null,"","",null,{"$f":"IFERROR(VLOOKUP(A432,'1.Портфель кредитів'!A:AC,30,FALSE),\"\")","v":""},0,{"$error":"#VALUE!"},null,null,null,null,null,{"$f":"VLOOKUP(C432,Hidden_Словник!$A$2:C$81,3,FALSE)","v":{"$error":"#N/A"}},0,{"$f":"VLOOKUP(E432,Hidden_Словник!$W$2:$X$13,2,FALSE)","v":{"$error":"#N/A"}},0,{"$error":"#N/A"}]
[null,"",{"$f":"IFERROR(VLOOKUP(A433,'1.Портфель кредитів'!A:AC,3,FALSE),\"\")","v":""},{"$f":"IFERROR(VLOOKUP(A433,'1.Портфель кредитів'!A:AC,14,FALSE),\"\")","v":""},null,null,null,null,null,null,null,null,null,null,null,null,"","",null,{"$f":"IFERROR(VLOOKUP(A433,'1.Портфель кредитів'!A:AC,30,FALSE),\"\")","v":""},0,{"$error":"#VALUE!"},null,null,null,null,null,{"$f":"VLOOKUP(C433,Hidden_Словник!$A$2:C$81,3,FALSE)","v":{"$error":"#N/A"}},0,{"$f":"VLOOKUP(E433,Hidden_Словник!$W$2:$X$13,2,FALSE)","v":{"$error":"#N/A"}},0,{"$error":"#N/A"}]
[null,"",{"$f":"IFERROR(VLOOKUP(A434,'1.Портфель кредитів'!A:AC,3,FALSE),\"\")","v":""},{"$f":"IFERROR(VLOOKUP(A434,'1.Портфель кредитів'!A:AC,14,FALSE),\"\")","v":""},null,null,null,null,null,null,null,null,null,null,null,null,"","",null,{"$f":"IFERROR(VLOOKUP(A434,'1.Портфель кредитів'!A:AC,30,FALSE),\"\")","v":""},0,{"$error":"#VALUE!"},null,null,null,null,null,{"$f":"VLOOKUP(C434,Hidden_Словник!$A$2:C$81,3,FALSE)","v":{"$error":"#N/A"}},0,{"$f":"VLOOKUP(E434,Hidden_Словник!$W$2:$X$13,2,FALSE)","v":{"$error":"#N/A"}},0,{"$error":"#N/A"}]
[null,"",{"$f":"IFERROR(VLOOKUP(A435,'1.Портфель кредитів'!A:AC,3,FALSE),\"\")","v":""},{"$f":"IFERROR(VLOOKUP(A435,'1.Портфель кредитів'!A:AC,14,FALSE),\"\")","v":""},null,null,null,null,null,null,null,null,null,null,null,null,"","",null,{"$f":"IFERROR(VLOOKUP(A435,'1.Портфель кредитів'!A:AC,30,FALSE),\"\")","v":""},0,{"$error":"#VALUE!"},null,null,null,null,null,{"$f":"VLOOKUP(C435,Hidden_Словник!$A$2:C$81,3,FALSE)","v":{"$error":"#N/A"}},0,{"$f":"VLOOKUP(E435,Hidden_Словник!$W$2:$X$13,2,FALSE)","v":{"$error":"#N/A"}},0,{"$error":"#N/A"}]
[null,"",{"$f":"IFERROR(VLOOKUP(A436,'1.Портфель кредитів'!A:AC,3,FALSE),\"\")","v":""},{"$f":"IFERROR(VLOOKUP(A436,'1.Портфель кредитів'!A:AC,14,FALSE),\"\")","v":""},null,null,null,null,null,null,null,null,null,null,null,null,"","",null,{"$f":"IFERROR(VLOOKUP(A436,'1.Портфель кредитів'!A:AC,30,FALSE),\"\")","v":""},0,{"$error":"#VALUE!"},null,null,null,null,null,{"$f":"VLOOKUP(C436,Hidden_Словник!$A$2:C$81,3,FALSE)","v":{"$error":"#N/A"}},0,{"$f":"VLOOKUP(E436,Hidden_Словник!$W$2:$X$13,2,FALSE)","v":{"$error":"#N/A"}},0,{"$error":"#N/A"}]
[null,"",{"$f":"IFERROR(VLOOKUP(A437,'1.Портфель кредитів'!A:AC,3,FALSE),\"\")","v":""},{"$f":"IFERROR(VLOOKUP(A437,'1.Портфель кредитів'!A:AC,14,FALSE),\"\")","v":""},null,null,null,null,null,null,null,null,null,null,null,null,"","",null,{"$f":"IFERROR(VLOOKUP(A437,'1.Портфель кредитів'!A:AC,30,FALSE),\"\")","v":""},0,{"$error":"#VALUE!"},null,null,null,null,null,{"$f":"VLOOKUP(C437,Hidden_Словник!$A$2:C$81,3,FALSE)","v":{"$error":"#N/A"}},0,{"$f":"VLOOKUP(E437,Hidden_Словник!$W$2:$X$13,2,FALSE)","v":{"$error":"#N/A"}},0,{"$error":"#N/A"}]
[null,"",{"$f":"IFERROR(VLOOKUP(A438,'1.Портфель кредитів'!A:AC,3,FALSE),\"\")","v":""},{"$f":"IFERROR(VLOOKUP(A438,'1.Портфель кредитів'!A:AC,14,FALSE),\"\")","v":""},null,null,null,null,null,null,null,null,null,null,null,null,"","",null,{"$f":"IFERROR(VLOOKUP(A438,'1.Портфель кредитів'!A:AC,30,FALSE),\"\")","v":""},0,{"$error":"#VALUE!"},null,null,null,null,null,{"$f":"VLOOKUP(C438,Hidden_Словник!$A$2:C$81,3,FALSE)","v":{"$error":"#N/A"}},0,{"$f":"VLOOKUP(E438,Hidden_Словник!$W$2:$X$13,2,FALSE)","v":{"$error":"#N/A"}},0,{"$error":"#N/A"}]
[null,"",{"$f":"IFERROR(VLOOKUP(A439,'1.Портфель кредитів'!A:AC,3,FALSE),\"\")","v":""},{"$f":"IFERROR(VLOOKUP(A439,'1.Портфель кредитів'!A:AC,14,FALSE),\"\")","v":""},null,null,null,null,null,null,null,null,null,null,null,null,"","",null,{"$f":"IFERROR(VLOOKUP(A439,'1.Портфель кредитів'!A:AC,30,FALSE),\"\")","v":""},0,{"$error":"#VALUE!"},null,null,null,null,null,{"$f":"VLOOKUP(C439,Hidden_Словник!$A$2:C$81,3,FALSE)","v":{"$error":"#N/A"}},0,{"$f":"VLOOKUP(E439,Hidden_Словник!$W$2:$X$13,2,FALSE)","v":{"$error":"#N/A"}},0,{"$error":"#N/A"}]
[null,"",{"$f":"IFERROR(VLOOKUP(A440,'1.Портфель кредитів'!A:AC,3,FALSE),\"\")","v":""},{"$f":"IFERROR(VLOOKUP(A440,'1.Портфель кредитів'!A:AC,14,FALSE),\"\")","v":""},null,null,null,null,null,null,null,null,null,null,null,null,"","",null,{"$f":"IFERROR(VLOOKUP(A440,'1.Портфель кредитів'!A:AC,30,FALSE),\"\")","v":""},0,{"$error":"#VALUE!"},null,null,null,null,null,{"$f":"VLOOKUP(C440,Hidden_Словник!$A$2:C$81,3,FALSE)","v":{"$error":"#N/A"}},0,{"$f":"VLOOKUP(E440,Hidden_Словник!$W$2:$X$13,2,FALSE)","v":{"$error":"#N/A"}},0,{"$error":"#N/A"}]
[null,"",{"$f":"IFERROR(VLOOKUP(A441,'1.Портфель кредитів'!A:AC,3,FALSE),\"\")","v":""},{"$f":"IFERROR(VLOOKUP(A441,'1.Портфель кредитів'!A:AC,14,FALSE),\"\")","v":""},null,null,null,null,null,null,null,null,null,null,null,null,"","",null,{"$f":"IFERROR(VLOOKUP(A441,'1.Портфель кредитів'!A:AC,30,FALSE),\"\")","v":""},0,{"$error":"#VALUE!"},null,null,null,null,null,{"$f":"VLOOKUP(C441,Hidden_Словник!$A$2:C$81,3,FALSE)","v":{"$error":"#N/A"}},0,{"$f":"VLOOKUP(E441,Hidden_Словник!$W$2:$X$13,2,FALSE)","v":{"$error":"#N/A"}},0,{"$error":"#N/A"}]
[null,"",{"$f":"IFERROR(VLOOKUP(A442,'1.Портфель кредитів'!A:AC,3,FALSE),\"\")","v":""},{"$f":"IFERROR(VLOOKUP(A442,'1.Портфель кредитів'!A:AC,14,FALSE),\"\")","v":""},null,null,null,null,null,null,null,null,null,null,null,null,"","",null,{"$f":"IFERROR(VLOOKUP(A442,'1.Портфель кредитів'!A:AC,30,FALSE),\"\")","v":""},0,{"$error":"#VALUE!"},null,null,null,null,null,{"$f":"VLOOKUP(C442,Hidden_Словник!$A$2:C$81,3,FALSE)","v":{"$error":"#N/A"}},0,{"$f":"VLOOKUP(E442,Hidden_Словник!$W$2:$X$13,2,FALSE)","v":{"$error":"#N/A"}},0,{"$error":"#N/A"}]
[null,"",{"$f":"IFERROR(VLOOKUP(A443,'1.Портфель кредитів'!A:AC,3,FALSE),\"\")","v":""},{"$f":"IFERROR(VLOOKUP(A443,'1.Портфель кредитів'!A:AC,14,FALSE),\"\")","v":""},null,null,null,null,null,null,null,null,null,null,null,null,"","",null,{"$f":"IFERROR(VLOOKUP(A443,'1.Портфель кредитів'!A:AC,30,FALSE),\"\")","v":""},0,{"$error":"#VALUE!"},null,null,null,null,null,{"$f":"VLOOKUP(C443,Hidden_Словник!$A$2:C$81,3,FALSE)","v":{"$error":"#N/A"}},0,{"$f":"VLOOKUP(E443,Hidden_Словник!$W$2:$X$13,2,FALSE)","v":{"$error":"#N/A"}},0,{"$error":"#N/A"}]
[null,"",{"$f":"IFERROR(VLOOKUP(A444,'1.Портфель кредитів'!A:AC,3,FALSE),\"\")","v":""},{"$f":"IFERROR(VLOOKUP(A444,'1.Портфель кредитів'!A:AC,14,FALSE),\"\")","v":""},null,null,null,null,null,null,null,null,null,null,null,null,"","",null,{"$f":"IFERROR(VLOOKUP(A444,'1.Портфель кредитів'!A:AC,30,FALSE),\"\")","v":""},0,{"$error":"#VALUE!"},null,null,null,null,null,{"$f":"VLOOKUP(C444,Hidden_Словник!$A$2:C$81,3,FALSE)","v":{"$error":"#N/A"}},0,{"$f":"VLOOKUP(E444,Hidden_Словник!$W$2:$X$13,2,FALSE)","v":{"$error":"#N/A"}},0,{"$error":"#N/A"}]
[null,"",{"$f":"IFERROR(VLOOKUP(A445,'1.Портфель кредитів'!A:AC,3,FALSE),\"\")","v":""},{"$f":"IFERROR(VLOOKUP(A445,'1.Портфель кредитів'!A:AC,14,FALSE),\"\")","v":""},null,null,null,null,null,null,null,null,null,null,null,null,"","",null,{"$f":"IFERROR(VLOOKUP(A445,'1.Портфель кредитів'!A:AC,30,FALSE),\"\")","v":""},0,{"$error":"#VALUE!"},null,null,null,null,null,{"$f":"VLOOKUP(C445,Hidden_Словник!$A$2:C$81,3,FALSE)","v":{"$error":"#N/A"}},0,{"$f":"VLOOKUP(E445,Hidden_Словник!$W$2:$X$13,2,FALSE)","v":{"$error":"#N/A"}},0,{"$error":"#N/A"}]
[null,"",{"$f":"IFERROR(VLOOKUP(A446,'1.Портфель кредитів'!A:AC,3,FALSE),\"\")","v":""},{"$f":"IFERROR(VLOOKUP(A446,'1.Портфель кредитів'!A:AC,14,FALSE),\"\")","v":""},null,null,null,null,null,null,null,null,null,null,null,null,"","",null,{"$f":"IFERROR(VLOOKUP(A446,'1.Портфель кредитів'!A:AC,30,FALSE),\"\")","v":""},0,{"$error":"#VALUE!"},null,null,null,null,null,{"$f":"VLOOKUP(C446,Hidden_Словник!$A$2:C$81,3,FALSE)","v":{"$error":"#N/A"}},0,{"$f":"VLOOKUP(E446,Hidden_Словник!$W$2:$X$13,2,FALSE)","v":{"$error":"#N/A"}},0,{"$error":"#N/A"}]
[null,"",{"$f":"IFERROR(VLOOKUP(A447,'1.Портфель кредитів'!A:AC,3,FALSE),\"\")","v":""},{"$f":"IFERROR(VLOOKUP(A447,'1.Портфель кредитів'!A:AC,14,FALSE),\"\")","v":""},null,null,null,null,null,null,null,null,null,null,null,null,"","",null,{"$f":"IFERROR(VLOOKUP(A447,'1.Портфель кредитів'!A:AC,30,FALSE),\"\")","v":""},0,{"$f":"T447/U447","v":{"$error":"#VALUE!"}},null,null,null,null,null,{"$f":"VLOOKUP(C447,Hidden_Словник!$A$2:C$81,3,FALSE)","v":{"$error":"#N/A"}},0,{"$f":"VLOOKUP(E447,Hidden_Словник!$W$2:$X$13,2,FALSE)","v":{"$error":"#N/A"}},0,{"$error":"#N/A"}]
[null,"",{"$f":"IFERROR(VLOOKUP(A448,'1.Портфель кредитів'!A:AC,3,FALSE),\"\")","v":""},{"$f":"IFERROR(VLOOKUP(A448,'1.Портфель кредитів'!A:AC,14,FALSE),\"\")","v":""},null,null,null,null,null,null,null,null,null,null,null,null,"","",null,{"$f":"IFERROR(VLOOKUP(A448,'1.Портфель кредитів'!A:AC,30,FALSE),\"\")","v":""},0,{"$error":"#VALUE!"},null,null,null,null,null,{"$f":"VLOOKUP(C448,Hidden_Словник!$A$2:C$81,3,FALSE)","v":{"$error":"#N/A"}},0,{"$f":"VLOOKUP(E448,Hidden_Словник!$W$2:$X$13,2,FALSE)","v":{"$error":"#N/A"}},0,{"$error":"#N/A"}]
[null,"",{"$f":"IFERROR(VLOOKUP(A449,'1.Портфель кредитів'!A:AC,3,FALSE),\"\")","v":""},{"$f":"IFERROR(VLOOKUP(A449,'1.Портфель кредитів'!A:AC,14,FALSE),\"\")","v":""},null,null,null,null,null,null,null,null,null,null,null,null,"","",null,{"$f":"IFERROR(VLOOKUP(A449,'1.Портфель кредитів'!A:AC,30,FALSE),\"\")","v":""},0,{"$error":"#VALUE!"},null,null,null,null,null,{"$f":"VLOOKUP(C449,Hidden_Словник!$A$2:C$81,3,FALSE)","v":{"$error":"#N/A"}},0,{"$f":"VLOOKUP(E449,Hidden_Словник!$W$2:$X$13,2,FALSE)","v":{"$error":"#N/A"}},0,{"$error":"#N/A"}]
[null,"",{"$f":"IFERROR(VLOOKUP(A450,'1.Портфель кредитів'!A:AC,3,FALSE),\"\")","v":""},{"$f":"IFERROR(VLOOKUP(A450,'1.Портфель кредитів'!A:AC,14,FALSE),\"\")","v":""},null,null,null,null,null,null,null,null,null,null,null,null,"","",null,{"$f":"IFERROR(VLOOKUP(A450,'1.Портфель кредитів'!A:AC,30,FALSE),\"\")","v":""},0,{"$error":"#VALUE!"},null,null,null,null,null,{"$f":"VLOOKUP(C450,Hidden_Словник!$A$2:C$81,3,FALSE)","v":{"$error":"#N/A"}},0,{"$f":"VLOOKUP(E450,Hidden_Словник!$W$2:$X$13,2,FALSE)","v":{"$error":"#N/A"}},0,{"$error":"#N/A"}]
[null,"",{"$f":"IFERROR(VLOOKUP(A451,'1.Портфель кредитів'!A:AC,3,FALSE),\"\")","v":""},{"$f":"IFERROR(VLOOKUP(A451,'1.Портфель кредитів'!A:AC,14,FALSE),\"\")","v":""},null,null,null,null,null,null,null,null,null,null,null,null,"","",null,{"$f":"IFERROR(VLOOKUP(A451,'1.Портфель кредитів'!A:AC,30,FALSE),\"\")","v":""},0,{"$error":"#VALUE!"},null,null,null,null,null,{"$f":"VLOOKUP(C451,Hidden_Словник!$A$2:C$81,3,FALSE)","v":{"$error":"#N/A"}},0,{"$f":"VLOOKUP(E451,Hidden_Словник!$W$2:$X$13,2,FALSE)","v":{"$error":"#N/A"}},0,{"$error":"#N/A"}]
[null,"",{"$f":"IFERROR(VLOOKUP(A452,'1.Портфель кредитів'!A:AC,3,FALSE),\"\")","v":""},{"$f":"IFERROR(VLOOKUP(A452,'1.Портфель кредитів'!A:AC,14,FALSE),\"\")","v":""},null,null,null,null,null,null,null,null,null,null,null,null,"","",null,{"$f":"IFERROR(VLOOKUP(A452,'1.Портфель кредитів'!A:AC,30,FALSE),\"\")","v":""},0,{"$error":"#VALUE!"},null,null,null,null,null,{"$f":"VLOOKUP(C452,Hidden_Словник!$A$2:C$81,3,FALSE)","v":{"$error":"#N/A"}},0,{"$f":"VLOOKUP(E452,Hidden_Словник!$W$2:$X$13,2,FALSE)","v":{"$error":"#N/A"}},0,{"$error":"#N/A"}]
[null,"",{"$f":"IFERROR(VLOOKUP(A453,'1.Портфель кредитів'!A:AC,3,FALSE),\"\")","v":""},{"$f":"IFERROR(VLOOKUP(A453,'1.Портфель кредитів'!A:AC,14,FALSE),\"\")","v":""},null,null,null,null,null,null,null,null,null,null,null,null,"","",null,{"$f":"IFERROR(VLOOKUP(A453,'1.Портфель кредитів'!A:AC,30,FALSE),\"\")","v":""},0,{"$error":"#VALUE!"},null,null,null,null,null,{"$f":"VLOOKUP(C453,Hidden_Словник!$A$2:C$81,3,FALSE)","v":{"$error":"#N/A"}},0,{"$f":"VLOOKUP(E453,Hidden_Словник!$W$2:$X$13,2,FALSE)","v":{"$error":"#N/A"}},0,{"$error":"#N/A"}]
[null,"",{"$f":"IFERROR(VLOOKUP(A454,'1.Портфель кредитів'!A:AC,3,FALSE),\"\")","v":""},{"$f":"IFERROR(VLOOKUP(A454,'1.Портфель кредитів'!A:AC,14,FALSE),\"\")","v":""},null,null,null,null,null,null,null,null,null,null,null,null,"","",null,{"$f":"IFERROR(VLOOKUP(A454,'1.Портфель кредитів'!A:AC,30,FALSE),\"\")","v":""},0,{"$error":"#VALUE!"},null,null,null,null,null,{"$f":"VLOOKUP(C454,Hidden_Словник!$A$2:C$81,3,FALSE)","v":{"$error":"#N/A"}},0,{"$f":"VLOOKUP(E454,Hidden_Словник!$W$2:$X$13,2,FALSE)","v":{"$error":"#N/A"}},0,{"$error":"#N/A"}]
[null,"",{"$f":"IFERROR(VLOOKUP(A455,'1.Портфель кредитів'!A:AC,3,FALSE),\"\")","v":""},{"$f":"IFERROR(VLOOKUP(A455,'1.Портфель кредитів'!A:AC,14,FALSE),\"\")","v":""},null,null,null,null,null,null,null,null,null,null,null,null,"","",null,{"$f":"IFERROR(VLOOKUP(A455,'1.Портфель кредитів'!A:AC,30,FALSE),\"\")","v":""},0,{"$error":"#VALUE!"},null,null,null,null,null,{"$f":"VLOOKUP(C455,Hidden_Словник!$A$2:C$81,3,FALSE)","v":{"$error":"#N/A"}},0,{"$f":"VLOOKUP(E455,Hidden_Словник!$W$2:$X$13,2,FALSE)","v":{"$error":"#N/A"}},0,{"$error":"#N/A"}]
[null,"",{"$f":"IFERROR(VLOOKUP(A456,'1.Портфель кредитів'!A:AC,3,FALSE),\"\")","v":""},{"$f":"IFERROR(VLOOKUP(A456,'1.Портфель кредитів'!A:AC,14,FALSE),\"\")","v":""},null,null,null,null,null,null,null,null,null,null,null,null,"","",null,{"$f":"IFERROR(VLOOKUP(A456,'1.Портфель кредитів'!A:AC,30,FALSE),\"\")","v":""},0,{"$error":"#VALUE!"},null,null,null,null,null,{"$f":"VLOOKUP(C456,Hidden_Словник!$A$2:C$81,3,FALSE)","v":{"$error":"#N/A"}},0,{"$f":"VLOOKUP(E456,Hidden_Словник!$W$2:$X$13,2,FALSE)","v":{"$error":"#N/A"}},0,{"$error":"#N/A"}]
[null,"",{"$f":"IFERROR(VLOOKUP(A457,'1.Портфель кредитів'!A:AC,3,FALSE),\"\")","v":""},{"$f":"IFERROR(VLOOKUP(A457,'1.Портфель кредитів'!A:AC,14,FALSE),\"\")","v":""},null,null,null,null,null,null,null,null,null,null,null,null,"","",null,{"$f":"IFERROR(VLOOKUP(A457,'1.Портфель кредитів'!A:AC,30,FALSE),\"\")","v":""},0,{"$error":"#VALUE!"},null,null,null,null,null,{"$f":"VLOOKUP(C457,Hidden_Словник!$A$2:C$81,3,FALSE)","v":{"$error":"#N/A"}},0,{"$f":"VLOOKUP(E457,Hidden_Словник!$W$2:$X$13,2,FALSE)","v":{"$error":"#N/A"}},0,{"$error":"#N/A"}]
[null,"",{"$f":"IFERROR(VLOOKUP(A458,'1.Портфель кредитів'!A:AC,3,FALSE),\"\")","v":""},{"$f":"IFERROR(VLOOKUP(A458,'1.Портфель кредитів'!A:AC,14,FALSE),\"\")","v":""},null,null,null,null,null,null,null,null,null,null,null,null,"","",null,{"$f":"IFERROR(VLOOKUP(A458,'1.Портфель кредитів'!A:AC,30,FALSE),\"\")","v":""},0,{"$error":"#VALUE!"},null,null,null,null,null,{"$f":"VLOOKUP(C458,Hidden_Словник!$A$2:C$81,3,FALSE)","v":{"$error":"#N/A"}},0,{"$f":"VLOOKUP(E458,Hidden_Словник!$W$2:$X$13,2,FALSE)","v":{"$error":"#N/A"}},0,{"$error":"#N/A"}]
[null,"",{"$f":"IFERROR(VLOOKUP(A459,'1.Портфель кредитів'!A:AC,3,FALSE),\"\")","v":""},{"$f":"IFERROR(VLOOKUP(A459,'1.Портфель кредитів'!A:AC,14,FALSE),\"\")","v":""},null,null,null,null,null,null,null,null,null,null,null,null,"","",null,{"$f":"IFERROR(VLOOKUP(A459,'1.Портфель кредитів'!A:AC,30,FALSE),\"\")","v":""},0,{"$error":"#VALUE!"},null,null,null,null,null,{"$f":"VLOOKUP(C459,Hidden_Словник!$A$2:C$81,3,FALSE)","v":{"$error":"#N/A"}},0,{"$f":"VLOOKUP(E459,Hidden_Словник!$W$2:$X$13,2,FALSE)","v":{"$error":"#N/A"}},0,{"$error":"#N/A"}]
[null,"",{"$f":"IFERROR(VLOOKUP(A460,'1.Портфель кредитів'!A:AC,3,FALSE),\"\")","v":""},{"$f":"IFERROR(VLOOKUP(A460,'1.Портфель кредитів'!A:AC,14,FALSE),\"\")","v":""},null,null,null,null,null,null,null,null,null,null,null,null,"","",null,{"$f":"IFERROR(VLOOKUP(A460,'1.Портфель кредитів'!A:AC,30,FALSE),\"\")","v":""},0,{"$error":"#VALUE!"},null,null,null,null,null,{"$f":"VLOOKUP(C460,Hidden_Словник!$A$2:C$81,3,FALSE)","v":{"$error":"#N/A"}},0,{"$f":"VLOOKUP(E460,Hidden_Словник!$W$2:$X$13,2,FALSE)","v":{"$error":"#N/A"}},0,{"$error":"#N/A"}]
[null,"",{"$f":"IFERROR(VLOOKUP(A461,'1.Портфель кредитів'!A:AC,3,FALSE),\"\")","v":""},{"$f":"IFERROR(VLOOKUP(A461,'1.Портфель кредитів'!A:AC,14,FALSE),\"\")","v":""},null,null,null,null,null,null,null,null,null,null,null,null,"","",null,{"$f":"IFERROR(VLOOKUP(A461,'1.Портфель кредитів'!A:AC,30,FALSE),\"\")","v":""},0,{"$error":"#VALUE!"},null,null,null,null,null,{"$f":"VLOOKUP(C461,Hidden_Словник!$A$2:C$81,3,FALSE)","v":{"$error":"#N/A"}},0,{"$f":"VLOOKUP(E461,Hidden_Словник!$W$2:$X$13,2,FALSE)","v":{"$error":"#N/A"}},0,{"$error":"#N/A"}]
[null,"",{"$f":"IFERROR(VLOOKUP(A462,'1.Портфель кредитів'!A:AC,3,FALSE),\"\")","v":""},{"$f":"IFERROR(VLOOKUP(A462,'1.Портфель кредитів'!A:AC,14,FALSE),\"\")","v":""},null,null,null,null,null,null,null,null,null,null,null,null,"","",null,{"$f":"IFERROR(VLOOKUP(A462,'1.Портфель кредитів'!A:AC,30,FALSE),\"\")","v":""},0,{"$error":"#VALUE!"},null,null,null,null,null,{"$f":"VLOOKUP(C462,Hidden_Словник!$A$2:C$81,3,FALSE)","v":{"$error":"#N/A"}},0,{"$f":"VLOOKUP(E462,Hidden_Словник!$W$2:$X$13,2,FALSE)","v":{"$error":"#N/A"}},0,{"$error":"#N/A"}]
[null,"",{"$f":"IFERROR(VLOOKUP(A463,'1.Портфель кредитів'!A:AC,3,FALSE),\"\")","v":""},{"$f":"IFERROR(VLOOKUP(A463,'1.Портфель кредитів'!A:AC,14,FALSE),\"\")","v":""},null,null,null,null,null,null,null,null,null,null,null,null,"","",null,{"$f":"IFERROR(VLOOKUP(A463,'1.Портфель кредитів'!A:AC,30,FALSE),\"\")","v":""},0,{"$error":"#VALUE!"},null,null,null,null,null,{"$f":"VLOOKUP(C463,Hidden_Словник!$A$2:C$81,3,FALSE)","v":{"$error":"#N/A"}},0,{"$f":"VLOOKUP(E463,Hidden_Словник!$W$2:$X$13,2,FALSE)","v":{"$error":"#N/A"}},0,{"$error":"#N/A"}]
[null,"",{"$f":"IFERROR(VLOOKUP(A464,'1.Портфель кредитів'!A:AC,3,FALSE),\"\")","v":""},{"$f":"IFERROR(VLOOKUP(A464,'1.Портфель кредитів'!A:AC,14,FALSE),\"\")","v":""},null,null,null,null,null,null,null,null,null,null,null,null,"","",null,{"$f":"IFERROR(VLOOKUP(A464,'1.Портфель кредитів'!A:AC,30,FALSE),\"\")","v":""},0,{"$error":"#VALUE!"},null,null,null,null,null,{"$f":"VLOOKUP(C464,Hidden_Словник!$A$2:C$81,3,FALSE)","v":{"$error":"#N/A"}},0,{"$f":"VLOOKUP(E464,Hidden_Словник!$W$2:$X$13,2,FALSE)","v":{"$error":"#N/A"}},0,{"$error":"#N/A"}]
[null,"",{"$f":"IFERROR(VLOOKUP(A465,'1.Портфель кредитів'!A:AC,3,FALSE),\"\")","v":""},{"$f":"IFERROR(VLOOKUP(A465,'1.Портфель кредитів'!A:AC,14,FALSE),\"\")","v":""},null,null,null,null,null,null,null,null,null,null,null,null,"","",null,{"$f":"IFERROR(VLOOKUP(A465,'1.Портфель кредитів'!A:AC,30,FALSE),\"\")","v":""},0,{"$error":"#VALUE!"},null,null,null,null,null,{"$f":"VLOOKUP(C465,Hidden_Словник!$A$2:C$81,3,FALSE)","v":{"$error":"#N/A"}},0,{"$f":"VLOOKUP(E465,Hidden_Словник!$W$2:$X$13,2,FALSE)","v":{"$error":"#N/A"}},0,{"$error":"#N/A"}]
[null,"",{"$f":"IFERROR(VLOOKUP(A466,'1.Портфель кредитів'!A:AC,3,FALSE),\"\")","v":""},{"$f":"IFERROR(VLOOKUP(A466,'1.Портфель кредитів'!A:AC,14,FALSE),\"\")","v":""},null,null,null,null,null,null,null,null,null,null,null,null,"","",null,{"$f":"IFERROR(VLOOKUP(A466,'1.Портфель кредитів'!A:AC,30,FALSE),\"\")","v":""},0,{"$error":"#VALUE!"},null,null,null,null,null,{"$f":"VLOOKUP(C466,Hidden_Словник!$A$2:C$81,3,FALSE)","v":{"$error":"#N/A"}},0,{"$f":"VLOOKUP(E466,Hidden_Словник!$W$2:$X$13,2,FALSE)","v":{"$error":"#N/A"}},0,{"$error":"#N/A"}]
[null,"",{"$f":"IFERROR(VLOOKUP(A467,'1.Портфель кредитів'!A:AC,3,FALSE),\"\")","v":""},{"$f":"IFERROR(VLOOKUP(A467,'1.Портфель кредитів'!A:AC,14,FALSE),\"\")","v":""},null,null,null,null,null,null,null,null,null,null,null,null,"","",null,{"$f":"IFERROR(VLOOKUP(A467,'1.Портфель кредитів'!A:AC,30,FALSE),\"\")","v":""},0,{"$error":"#VALUE!"},null,null,null,null,null,{"$f":"VLOOKUP(C467,Hidden_Словник!$A$2:C$81,3,FALSE)","v":{"$error":"#N/A"}},0,{"$f":"VLOOKUP(E467,Hidden_Словник!$W$2:$X$13,2,FALSE)","v":{"$error":"#N/A"}},0,{"$error":"#N/A"}]
[null,"",{"$f":"IFERROR(VLOOKUP(A468,'1.Портфель кредитів'!A:AC,3,FALSE),\"\")","v":""},{"$f":"IFERROR(VLOOKUP(A468,'1.Портфель кредитів'!A:AC,14,FALSE),\"\")","v":""},null,null,null,null,null,null,null,null,null,null,null,null,"","",null,{"$f":"IFERROR(VLOOKUP(A468,'1.Портфель кредитів'!A:AC,30,FALSE),\"\")","v":""},0,{"$error":"#VALUE!"},null,null,null,null,null,{"$f":"VLOOKUP(C468,Hidden_Словник!$A$2:C$81,3,FALSE)","v":{"$error":"#N/A"}},0,{"$f":"VLOOKUP(E468,Hidden_Словник!$W$2:$X$13,2,FALSE)","v":{"$error":"#N/A"}},0,{"$error":"#N/A"}]
[null,"",{"$f":"IFERROR(VLOOKUP(A469,'1.Портфель кредитів'!A:AC,3,FALSE),\"\")","v":""},{"$f":"IFERROR(VLOOKUP(A469,'1.Портфель кредитів'!A:AC,14,FALSE),\"\")","v":""},null,null,null,null,null,null,null,null,null,null,null,null,"","",null,{"$f":"IFERROR(VLOOKUP(A469,'1.Портфель кредитів'!A:AC,30,FALSE),\"\")","v":""},0,{"$error":"#VALUE!"},null,null,null,null,null,{"$f":"VLOOKUP(C469,Hidden_Словник!$A$2:C$81,3,FALSE)","v":{"$error":"#N/A"}},0,{"$f":"VLOOKUP(E469,Hidden_Словник!$W$2:$X$13,2,FALSE)","v":{"$error":"#N/A"}},0,{"$error":"#N/A"}]
[null,"",{"$f":"IFERROR(VLOOKUP(A470,'1.Портфель кредитів'!A:AC,3,FALSE),\"\")","v":""},{"$f":"IFERROR(VLOOKUP(A470,'1.Портфель кредитів'!A:AC,14,FALSE),\"\")","v":""},null,null,null,null,null,null,null,null,null,null,null,null,"",{"$f":"IFERROR(V470*L470,\"\")","v":""},null,{"$f":"IFERROR(VLOOKUP(A470,'1.Портфель кредитів'!A:AC,30,FALSE),\"\")","v":""},0,{"$error":"#VALUE!"},null,null,null,null,null,{"$f":"VLOOKUP(C470,Hidden_Словник!$A$2:C$81,3,FALSE)","v":{"$error":"#N/A"}},{"$f":"ROUNDUP(L470,0)","v":0},{"$f":"VLOOKUP(E470,Hidden_Словник!$W$2:$X$13,2,FALSE)","v":{"$error":"#N/A"}},{"$f":"O470","v":0},{"$error":"#N/A"}]
[null,{"$f":"IFERROR(AF471,\"\")","v":""},{"$f":"IFERROR(VLOOKUP(A471,'1.Портфель кредитів'!A:AC,3,FALSE),\"\")","v":""},{"$f":"IFERROR(VLOOKUP(A471,'1.Портфель кредитів'!A:AC,14,FALSE),\"\")","v":""},null,null,null,null,null,null,null,null,null,null,null,null,"","",null,{"$f":"IFERROR(VLOOKUP(A471,'1.Портфель кредитів'!A:AC,30,FALSE),\"\")","v":""},0,{"$error":"#VALUE!"},null,null,null,null,null,{"$f":"VLOOKUP(C471,Hidden_Словник!$A$2:C$81,3,FALSE)","v":{"$error":"#N/A"}},0,{"$f":"VLOOKUP(E471,Hidden_Словник!$W$2:$X$13,2,FALSE)","v":{"$error":"#N/A"}},0,{"$f":"AB471&\"_\"&AC471&AD471&AE471","v":{"$error":"#N/A"}}]
[null,"",{"$f":"IFERROR(VLOOKUP(A472,'1.Портфель кредитів'!A:AC,3,FALSE),\"\")","v":""},{"$f":"IFERROR(VLOOKUP(A472,'1.Портфель кредитів'!A:AC,14,FALSE),\"\")","v":""},null,null,null,null,null,null,null,null,null,null,null,null,"","",null,{"$f":"IFERROR(VLOOKUP(A472,'1.Портфель кредитів'!A:AC,30,FALSE),\"\")","v":""},0,{"$error":"#VALUE!"},null,null,null,null,null,{"$f":"VLOOKUP(C472,Hidden_Словник!$A$2:C$81,3,FALSE)","v":{"$error":"#N/A"}},0,{"$f":"VLOOKUP(E472,Hidden_Словник!$W$2:$X$13,2,FALSE)","v":{"$error":"#N/A"}},0,{"$error":"#N/A"}]
[null,"",{"$f":"IFERROR(VLOOKUP(A473,'1.Портфель кредитів'!A:AC,3,FALSE),\"\")","v":""},{"$f":"IFERROR(VLOOKUP(A473,'1.Портфель кредитів'!A:AC,14,FALSE),\"\")","v":""},null,null,null,null,null,null,null,null,null,null,null,null,"","",null,{"$f":"IFERROR(VLOOKUP(A473,'1.Портфель кредитів'!A:AC,30,FALSE),\"\")","v":""},0,{"$error":"#VALUE!"},null,null,null,null,null,{"$f":"VLOOKUP(C473,Hidden_Словник!$A$2:C$81,3,FALSE)","v":{"$error":"#N/A"}},0,{"$f":"VLOOKUP(E473,Hidden_Словник!$W$2:$X$13,2,FALSE)","v":{"$error":"#N/A"}},0,{"$error":"#N/A"}]
[null,"",{"$f":"IFERROR(VLOOKUP(A474,'1.Портфель кредитів'!A:AC,3,FALSE),\"\")","v":""},{"$f":"IFERROR(VLOOKUP(A474,'1.Портфель кредитів'!A:AC,14,FALSE),\"\")","v":""},null,null,null,null,null,null,null,null,null,null,null,null,{"$f":"IF(O474=\"\",\"\",IF(COUNTIF(AF:AF,AF474)>1,\"так\",\"ні\"))","v":""},"",null,{"$f":"IFERROR(VLOOKUP(A474,'1.Портфель кредитів'!A:AC,30,FALSE),\"\")","v":""},{"$f":"SUMIF(B:B,B474,T:T)","v":0},{"$error":"#VALUE!"},null,null,null,null,null,{"$f":"VLOOKUP(C474,Hidden_Словник!$A$2:C$81,3,FALSE)","v":{"$error":"#N/A"}},0,{"$f":"VLOOKUP(E474,Hidden_Словник!$W$2:$X$13,2,FALSE)","v":{"$error":"#N/A"}},0,{"$error":"#N/A"}]
[null,"",{"$f":"IFERROR(VLOOKUP(A475,'1.Портфель кредитів'!A:AC,3,FALSE),\"\")","v":""},{"$f":"IFERROR(VLOOKUP(A475,'1.Портфель кредитів'!A:AC,14,FALSE),\"\")","v":""},null,null,null,null,null,null,null,null,null,null,null,null,"","",null,{"$f":"IFERROR(VLOOKUP(A475,'1.Портфель кредитів'!A:AC,30,FALSE),\"\")","v":""},0,{"$error":"#VALUE!"},null,null,null,null,null,{"$f":"VLOOKUP(C475,Hidden_Словник!$A$2:C$81,3,FALSE)","v":{"$error":"#N/A"}},0,{"$f":"VLOOKUP(E475,Hidden_Словник!$W$2:$X$13,2,FALSE)","v":{"$error":"#N/A"}},0,{"$error":"#N/A"}]
[null,"",{"$f":"IFERROR(VLOOKUP(A476,'1.Портфель кредитів'!A:AC,3,FALSE),\"\")","v":""},{"$f":"IFERROR(VLOOKUP(A476,'1.Портфель кредитів'!A:AC,14,FALSE),\"\")","v":""},null,null,null,null,null,null,null,null,null,null,null,null,"","",null,{"$f":"IFERROR(VLOOKUP(A476,'1.Портфель кредитів'!A:AC,30,FALSE),\"\")","v":""},0,{"$error":"#VALUE!"},null,null,null,null,null,{"$f":"VLOOKUP(C476,Hidden_Словник!$A$2:C$81,3,FALSE)","v":{"$error":"#N/A"}},0,{"$f":"VLOOKUP(E476,Hidden_Словник!$W$2:$X$13,2,FALSE)","v":{"$error":"#N/A"}},0,{"$error":"#N/A"}]
[null,"",{"$f":"IFERROR(VLOOKUP(A477,'1.Портфель кредитів'!A:AC,3,FALSE),\"\")","v":""},{"$f":"IFERROR(VLOOKUP(A477,'1.Портфель кредитів'!A:AC,14,FALSE),\"\")","v":""},null,null,null,null,null,null,null,null,null,null,null,null,"","",null,{"$f":"IFERROR(VLOOKUP(A477,'1.Портфель кредитів'!A:AC,30,FALSE),\"\")","v":""},0,{"$error":"#VALUE!"},null,null,null,null,null,{"$f":"VLOOKUP(C477,Hidden_Словник!$A$2:C$81,3,FALSE)","v":{"$error":"#N/A"}},0,{"$f":"VLOOKUP(E477,Hidden_Словник!$W$2:$X$13,2,FALSE)","v":{"$error":"#N/A"}},0,{"$error":"#N/A"}]
[null,"",{"$f":"IFERROR(VLOOKUP(A478,'1.Портфель кредитів'!A:AC,3,FALSE),\"\")","v":""},{"$f":"IFERROR(VLOOKUP(A478,'1.Портфель кредитів'!A:AC,14,FALSE),\"\")","v":""},null,null,null,null,null,null,null,null,null,null,null,null,"","",null,{"$f":"IFERROR(VLOOKUP(A478,'1.Портфель кредитів'!A:AC,30,FALSE),\"\")","v":""},0,{"$error":"#VALUE!"},null,null,null,null,null,{"$f":"VLOOKUP(C478,Hidden_Словник!$A$2:C$81,3,FALSE)","v":{"$error":"#N/A"}},0,{"$f":"VLOOKUP(E478,Hidden_Словник!$W$2:$X$13,2,FALSE)","v":{"$error":"#N/A"}},0,{"$error":"#N/A"}]
[null,"",{"$f":"IFERROR(VLOOKUP(A479,'1.Портфель кредитів'!A:AC,3,FALSE),\"\")","v":""},{"$f":"IFERROR(VLOOKUP(A479,'1.Портфель кредитів'!A:AC,14,FALSE),\"\")","v":""},null,null,null,null,null,null,null,null,null,null,null,null,"","",null,{"$f":"IFERROR(VLOOKUP(A479,'1.Портфель кредитів'!A:AC,30,FALSE),\"\")","v":""},0,{"$error":"#VALUE!"},null,null,null,null,null,{"$f":"VLOOKUP(C479,Hidden_Словник!$A$2:C$81,3,FALSE)","v":{"$error":"#N/A"}},0,{"$f":"VLOOKUP(E479,Hidden_Словник!$W$2:$X$13,2,FALSE)","v":{"$error":"#N/A"}},0,{"$error":"#N/A"}]
[null,"",{"$f":"IFERROR(VLOOKUP(A480,'1.Портфель кредитів'!A:AC,3,FALSE),\"\")","v":""},{"$f":"IFERROR(VLOOKUP(A480,'1.Портфель кредитів'!A:AC,14,FALSE),\"\")","v":""},null,null,null,null,null,null,null,null,null,null,null,null,"","",null,{"$f":"IFERROR(VLOOKUP(A480,'1.Портфель кредитів'!A:AC,30,FALSE),\"\")","v":""},0,{"$error":"#VALUE!"},null,null,null,null,null,{"$f":"VLOOKUP(C480,Hidden_Словник!$A$2:C$81,3,FALSE)","v":{"$error":"#N/A"}},0,{"$f":"VLOOKUP(E480,Hidden_Словник!$W$2:$X$13,2,FALSE)","v":{"$error":"#N/A"}},0,{"$error":"#N/A"}]
[null,"",{"$f":"IFERROR(VLOOKUP(A481,'1.Портфель кредитів'!A:AC,3,FALSE),\"\")","v":""},{"$f":"IFERROR(VLOOKUP(A481,'1.Портфель кредитів'!A:AC,14,FALSE),\"\")","v":""},null,null,null,null,null,null,null,null,null,null,null,null,"","",null,{"$f":"IFERROR(VLOOKUP(A481,'1.Портфель кредитів'!A:AC,30,FALSE),\"\")","v":""},0,{"$error":"#VALUE!"},null,null,null,null,null,{"$f":"VLOOKUP(C481,Hidden_Словник!$A$2:C$81,3,FALSE)","v":{"$error":"#N/A"}},0,{"$f":"VLOOKUP(E481,Hidden_Словник!$W$2:$X$13,2,FALSE)","v":{"$error":"#N/A"}},0,{"$error":"#N/A"}]
[null,"",{"$f":"IFERROR(VLOOKUP(A482,'1.Портфель кредитів'!A:AC,3,FALSE),\"\")","v":""},{"$f":"IFERROR(VLOOKUP(A482,'1.Портфель кредитів'!A:AC,14,FALSE),\"\")","v":""},null,null,null,null,null,null,null,null,null,null,null,null,"","",null,{"$f":"IFERROR(VLOOKUP(A482,'1.Портфель кредитів'!A:AC,30,FALSE),\"\")","v":""},0,{"$error":"#VALUE!"},null,null,null,null,null,{"$f":"VLOOKUP(C482,Hidden_Словник!$A$2:C$81,3,FALSE)","v":{"$error":"#N/A"}},0,{"$f":"VLOOKUP(E482,Hidden_Словник!$W$2:$X$13,2,FALSE)","v":{"$error":"#N/A"}},0,{"$error":"#N/A"}]
[null,"",{"$f":"IFERROR(VLOOKUP(A483,'1.Портфель кредитів'!A:AC,3,FALSE),\"\")","v":""},{"$f":"IFERROR(VLOOKUP(A483,'1.Портфель кредитів'!A:AC,14,FALSE),\"\")","v":""},null,null,null,null,null,null,null,null,null,null,null,null,"","",null,{"$f":"IFERROR(VLOOKUP(A483,'1.Портфель кредитів'!A:AC,30,FALSE),\"\")","v":""},0,{"$error":"#VALUE!"},null,null,null,null,null,{"$f":"VLOOKUP(C483,Hidden_Словник!$A$2:C$81,3,FALSE)","v":{"$error":"#N/A"}},0,{"$f":"VLOOKUP(E483,Hidden_Словник!$W$2:$X$13,2,FALSE)","v":{"$error":"#N/A"}},0,{"$error":"#N/A"}]
[null,"",{"$f":"IFERROR(VLOOKUP(A484,'1.Портфель кредитів'!A:AC,3,FALSE),\"\")","v":""},{"$f":"IFERROR(VLOOKUP(A484,'1.Портфель кредитів'!A:AC,14,FALSE),\"\")","v":""},null,null,null,null,null,null,null,null,null,null,null,null,"","",null,{"$f":"IFERROR(VLOOKUP(A484,'1.Портфель кредитів'!A:AC,30,FALSE),\"\")","v":""},0,{"$error":"#VALUE!"},null,null,null,null,null,{"$f":"VLOOKUP(C484,Hidden_Словник!$A$2:C$81,3,FALSE)","v":{"$error":"#N/A"}},0,{"$f":"VLOOKUP(E484,Hidden_Словник!$W$2:$X$13,2,FALSE)","v":{"$error":"#N/A"}},0,{"$error":"#N/A"}]
[null,"",{"$f":"IFERROR(VLOOKUP(A485,'1.Портфель кредитів'!A:AC,3,FALSE),\"\")","v":""},{"$f":"IFERROR(VLOOKUP(A485,'1.Портфель кредитів'!A:AC,14,FALSE),\"\")","v":""},null,null,null,null,null,null,null,null,null,null,null,null,"","",null,{"$f":"IFERROR(VLOOKUP(A485,'1.Портфель кредитів'!A:AC,30,FALSE),\"\")","v":""},0,{"$error":"#VALUE!"},null,null,null,null,null,{"$f":"VLOOKUP(C485,Hidden_Словник!$A$2:C$81,3,FALSE)","v":{"$error":"#N/A"}},0,{"$f":"VLOOKUP(E485,Hidden_Словник!$W$2:$X$13,2,FALSE)","v":{"$error":"#N/A"}},0,{"$error":"#N/A"}]
[null,"",{"$f":"IFERROR(VLOOKUP(A486,'1.Портфель кредитів'!A:AC,3,FALSE),\"\")","v":""},{"$f":"IFERROR(VLOOKUP(A486,'1.Портфель кредитів'!A:AC,14,FALSE),\"\")","v":""},null,null,null,null,null,null,null,null,null,null,null,null,"","",null,{"$f":"IFERROR(VLOOKUP(A486,'1.Портфель кредитів'!A:AC,30,FALSE),\"\")","v":""},0,{"$error":"#VALUE!"},null,null,null,null,null,{"$f":"VLOOKUP(C486,Hidden_Словник!$A$2:C$81,3,FALSE)","v":{"$error":"#N/A"}},0,{"$f":"VLOOKUP(E486,Hidden_Словник!$W$2:$X$13,2,FALSE)","v":{"$error":"#N/A"}},0,{"$error":"#N/A"}]
[null,"",{"$f":"IFERROR(VLOOKUP(A487,'1.Портфель кредитів'!A:AC,3,FALSE),\"\")","v":""},{"$f":"IFERROR(VLOOKUP(A487,'1.Портфель кредитів'!A:AC,14,FALSE),\"\")","v":""},null,null,null,null,null,null,null,null,null,null,null,null,"","",null,{"$f":"IFERROR(VLOOKUP(A487,'1.Портфель кредитів'!A:AC,30,FALSE),\"\")","v":""},0,{"$error":"#VALUE!"},null,null,null,null,null,{"$f":"VLOOKUP(C487,Hidden_Словник!$A$2:C$81,3,FALSE)","v":{"$error":"#N/A"}},0,{"$f":"VLOOKUP(E487,Hidden_Словник!$W$2:$X$13,2,FALSE)","v":{"$error":"#N/A"}},0,{"$error":"#N/A"}]
[null,"",{"$f":"IFERROR(VLOOKUP(A488,'1.Портфель кредитів'!A:AC,3,FALSE),\"\")","v":""},{"$f":"IFERROR(VLOOKUP(A488,'1.Портфель кредитів'!A:AC,14,FALSE),\"\")","v":""},null,null,null,null,null,null,null,null,null,null,null,null,"","",null,{"$f":"IFERROR(VLOOKUP(A488,'1.Портфель кредитів'!A:AC,30,FALSE),\"\")","v":""},0,{"$error":"#VALUE!"},null,null,null,null,null,{"$f":"VLOOKUP(C488,Hidden_Словник!$A$2:C$81,3,FALSE)","v":{"$error":"#N/A"}},0,{"$f":"VLOOKUP(E488,Hidden_Словник!$W$2:$X$13,2,FALSE)","v":{"$error":"#N/A"}},0,{"$error":"#N/A"}]
[null,"",{"$f":"IFERROR(VLOOKUP(A489,'1.Портфель кредитів'!A:AC,3,FALSE),\"\")","v":""},{"$f":"IFERROR(VLOOKUP(A489,'1.Портфель кредитів'!A:AC,14,FALSE),\"\")","v":""},null,null,null,null,null,null,null,null,null,null,null,null,"","",null,{"$f":"IFERROR(VLOOKUP(A489,'1.Портфель кредитів'!A:AC,30,FALSE),\"\")","v":""},0,{"$error":"#VALUE!"},null,null,null,null,null,{"$f":"VLOOKUP(C489,Hidden_Словник!$A$2:C$81,3,FALSE)","v":{"$error":"#N/A"}},0,{"$f":"VLOOKUP(E489,Hidden_Словник!$W$2:$X$13,2,FALSE)","v":{"$error":"#N/A"}},0,{"$error":"#N/A"}]
[null,"",{"$f":"IFERROR(VLOOKUP(A490,'1.Портфель кредитів'!A:AC,3,FALSE),\"\")","v":""},{"$f":"IFERROR(VLOOKUP(A490,'1.Портфель кредитів'!A:AC,14,FALSE),\"\")","v":""},null,null,null,null,null,null,null,null,null,null,null,null,"","",null,{"$f":"IFERROR(VLOOKUP(A490,'1.Портфель кредитів'!A:AC,30,FALSE),\"\")","v":""},0,{"$error":"#VALUE!"},null,null,null,null,null,{"$f":"VLOOKUP(C490,Hidden_Словник!$A$2:C$81,3,FALSE)","v":{"$error":"#N/A"}},0,{"$f":"VLOOKUP(E490,Hidden_Словник!$W$2:$X$13,2,FALSE)","v":{"$error":"#N/A"}},0,{"$error":"#N/A"}]
[null,"",{"$f":"IFERROR(VLOOKUP(A491,'1.Портфель кредитів'!A:AC,3,FALSE),\"\")","v":""},{"$f":"IFERROR(VLOOKUP(A491,'1.Портфель кредитів'!A:AC,14,FALSE),\"\")","v":""},null,null,null,null,null,null,null,null,null,null,null,null,"","",null,{"$f":"IFERROR(VLOOKUP(A491,'1.Портфель кредитів'!A:AC,30,FALSE),\"\")","v":""},0,{"$error":"#VALUE!"},null,null,null,null,null,{"$f":"VLOOKUP(C491,Hidden_Словник!$A$2:C$81,3,FALSE)","v":{"$error":"#N/A"}},0,{"$f":"VLOOKUP(E491,Hidden_Словник!$W$2:$X$13,2,FALSE)","v":{"$error":"#N/A"}},0,{"$error":"#N/A"}]
[null,"",{"$f":"IFERROR(VLOOKUP(A492,'1.Портфель кредитів'!A:AC,3,FALSE),\"\")","v":""},{"$f":"IFERROR(VLOOKUP(A492,'1.Портфель кредитів'!A:AC,14,FALSE),\"\")","v":""},null,null,null,null,null,null,null,null,null,null,null,null,"","",null,{"$f":"IFERROR(VLOOKUP(A492,'1.Портфель кредитів'!A:AC,30,FALSE),\"\")","v":""},0,{"$error":"#VALUE!"},null,null,null,null,null,{"$f":"VLOOKUP(C492,Hidden_Словник!$A$2:C$81,3,FALSE)","v":{"$error":"#N/A"}},0,{"$f":"VLOOKUP(E492,Hidden_Словник!$W$2:$X$13,2,FALSE)","v":{"$error":"#N/A"}},0,{"$error":"#N/A"}]
[null,"",{"$f":"IFERROR(VLOOKUP(A493,'1.Портфель кредитів'!A:AC,3,FALSE),\"\")","v":""},{"$f":"IFERROR(VLOOKUP(A493,'1.Портфель кредитів'!A:AC,14,FALSE),\"\")","v":""},null,null,null,null,null,null,null,null,null,null,null,null,"","",null,{"$f":"IFERROR(VLOOKUP(A493,'1.Портфель кредитів'!A:AC,30,FALSE),\"\")","v":""},0,{"$error":"#VALUE!"},null,null,null,null,null,{"$f":"VLOOKUP(C493,Hidden_Словник!$A$2:C$81,3,FALSE)","v":{"$error":"#N/A"}},0,{"$f":"VLOOKUP(E493,Hidden_Словник!$W$2:$X$13,2,FALSE)","v":{"$error":"#N/A"}},0,{"$error":"#N/A"}]
[null,"",{"$f":"IFERROR(VLOOKUP(A494,'1.Портфель кредитів'!A:AC,3,FALSE),\"\")","v":""},{"$f":"IFERROR(VLOOKUP(A494,'1.Портфель кредитів'!A:AC,14,FALSE),\"\")","v":""},null,null,null,null,null,null,null,null,null,null,null,null,"","",null,{"$f":"IFERROR(VLOOKUP(A494,'1.Портфель кредитів'!A:AC,30,FALSE),\"\")","v":""},0,{"$error":"#VALUE!"},null,null,null,null,null,{"$f":"VLOOKUP(C494,Hidden_Словник!$A$2:C$81,3,FALSE)","v":{"$error":"#N/A"}},0,{"$f":"VLOOKUP(E494,Hidden_Словник!$W$2:$X$13,2,FALSE)","v":{"$error":"#N/A"}},0,{"$error":"#N/A"}]
[null,"",{"$f":"IFERROR(VLOOKUP(A495,'1.Портфель кредитів'!A:AC,3,FALSE),\"\")","v":""},{"$f":"IFERROR(VLOOKUP(A495,'1.Портфель кредитів'!A:AC,14,FALSE),\"\")","v":""},null,null,null,null,null,null,null,null,null,null,null,null,"","",null,{"$f":"IFERROR(VLOOKUP(A495,'1.Портфель кредитів'!A:AC,30,FALSE),\"\")","v":""},0,{"$error":"#VALUE!"},null,null,null,null,null,{"$f":"VLOOKUP(C495,Hidden_Словник!$A$2:C$81,3,FALSE)","v":{"$error":"#N/A"}},0,{"$f":"VLOOKUP(E495,Hidden_Словник!$W$2:$X$13,2,FALSE)","v":{"$error":"#N/A"}},0,{"$error":"#N/A"}]
[null,"",{"$f":"IFERROR(VLOOKUP(A496,'1.Портфель кредитів'!A:AC,3,FALSE),\"\")","v":""},{"$f":"IFERROR(VLOOKUP(A496,'1.Портфель кредитів'!A:AC,14,FALSE),\"\")","v":""},null,null,null,null,null,null,null,null,null,null,null,null,"","",null,{"$f":"IFERROR(VLOOKUP(A496,'1.Портфель кредитів'!A:AC,30,FALSE),\"\")","v":""},0,{"$error":"#VALUE!"},null,null,null,null,null,{"$f":"VLOOKUP(C496,Hidden_Словник!$A$2:C$81,3,FALSE)","v":{"$error":"#N/A"}},0,{"$f":"VLOOKUP(E496,Hidden_Словник!$W$2:$X$13,2,FALSE)","v":{"$error":"#N/A"}},0,{"$error":"#N/A"}]
[null,"",{"$f":"IFERROR(VLOOKUP(A497,'1.Портфель кредитів'!A:AC,3,FALSE),\"\")","v":""},{"$f":"IFERROR(VLOOKUP(A497,'1.Портфель кредитів'!A:AC,14,FALSE),\"\")","v":""},null,null,null,null,null,null,null,null,null,null,null,null,"","",null,{"$f":"IFERROR(VLOOKUP(A497,'1.Портфель кредитів'!A:AC,30,FALSE),\"\")","v":""},0,{"$error":"#VALUE!"},null,null,null,null,null,{"$f":"VLOOKUP(C497,Hidden_Словник!$A$2:C$81,3,FALSE)","v":{"$error":"#N/A"}},0,{"$f":"VLOOKUP(E497,Hidden_Словник!$W$2:$X$13,2,FALSE)","v":{"$error":"#N/A"}},0,{"$error":"#N/A"}]
[null,"",{"$f":"IFERROR(VLOOKUP(A498,'1.Портфель кредитів'!A:AC,3,FALSE),\"\")","v":""},{"$f":"IFERROR(VLOOKUP(A498,'1.Портфель кредитів'!A:AC,14,FALSE),\"\")","v":""},null,null,null,null,null,null,null,null,null,null,null,null,"","",null,{"$f":"IFERROR(VLOOKUP(A498,'1.Портфель кредитів'!A:AC,30,FALSE),\"\")","v":""},0,{"$error":"#VALUE!"},null,null,null,null,null,{"$f":"VLOOKUP(C498,Hidden_Словник!$A$2:C$81,3,FALSE)","v":{"$error":"#N/A"}},0,{"$f":"VLOOKUP(E498,Hidden_Словник!$W$2:$X$13,2,FALSE)","v":{"$error":"#N/A"}},0,{"$error":"#N/A"}]
[null,"",{"$f":"IFERROR(VLOOKUP(A499,'1.Портфель кредитів'!A:AC,3,FALSE),\"\")","v":""},{"$f":"IFERROR(VLOOKUP(A499,'1.Портфель кредитів'!A:AC,14,FALSE),\"\")","v":""},null,null,null,null,null,null,null,null,null,null,null,null,"","",null,{"$f":"IFERROR(VLOOKUP(A499,'1.Портфель кредитів'!A:AC,30,FALSE),\"\")","v":""},0,{"$error":"#VALUE!"},null,null,null,null,null,{"$f":"VLOOKUP(C499,Hidden_Словник!$A$2:C$81,3,FALSE)","v":{"$error":"#N/A"}},0,{"$f":"VLOOKUP(E499,Hidden_Словник!$W$2:$X$13,2,FALSE)","v":{"$error":"#N/A"}},0,{"$error":"#N/A"}]
[null,"",{"$f":"IFERROR(VLOOKUP(A500,'1.Портфель кредитів'!A:AC,3,FALSE),\"\")","v":""},{"$f":"IFERROR(VLOOKUP(A500,'1.Портфель кредитів'!A:AC,14,FALSE),\"\")","v":""},null,null,null,null,null,null,null,null,null,null,null,null,"","",null,{"$f":"IFERROR(VLOOKUP(A500,'1.Портфель кредитів'!A:AC,30,FALSE),\"\")","v":""},0,{"$error":"#VALUE!"},null,null,null,null,null,{"$f":"VLOOKUP(C500,Hidden_Словник!$A$2:C$81,3,FALSE)","v":{"$error":"#N/A"}},0,{"$f":"VLOOKUP(E500,Hidden_Словник!$W$2:$X$13,2,FALSE)","v":{"$error":"#N/A"}},0,{"$error":"#N/A"}]
[null,"",{"$f":"IFERROR(VLOOKUP(A501,'1.Портфель кредитів'!A:AC,3,FALSE),\"\")","v":""},{"$f":"IFERROR(VLOOKUP(A501,'1.Портфель кредитів'!A:AC,14,FALSE),\"\")","v":""},null,null,null,null,null,null,null,null,null,null,null,null,"","",null,{"$f":"IFERROR(VLOOKUP(A501,'1.Портфель кредитів'!A:AC,30,FALSE),\"\")","v":""},0,{"$error":"#VALUE!"},null,null,null,null,null,{"$f":"VLOOKUP(C501,Hidden_Словник!$A$2:C$81,3,FALSE)","v":{"$error":"#N/A"}},0,{"$f":"VLOOKUP(E501,Hidden_Словник!$W$2:$X$13,2,FALSE)","v":{"$error":"#N/A"}},0,{"$error":"#N/A"}]
[null,"",{"$f":"IFERROR(VLOOKUP(A502,'1.Портфель кредитів'!A:AC,3,FALSE),\"\")","v":""},{"$f":"IFERROR(VLOOKUP(A502,'1.Портфель кредитів'!A:AC,14,FALSE),\"\")","v":""},null,null,null,null,null,null,null,null,null,null,null,null,"","",null,{"$f":"IFERROR(VLOOKUP(A502,'1.Портфель кредитів'!A:AC,30,FALSE),\"\")","v":""},0,{"$error":"#VALUE!"},null,null,null,null,null,{"$f":"VLOOKUP(C502,Hidden_Словник!$A$2:C$81,3,FALSE)","v":{"$error":"#N/A"}},0,{"$f":"VLOOKUP(E502,Hidden_Словник!$W$2:$X$13,2,FALSE)","v":{"$error":"#N/A"}},0,{"$error":"#N/A"}]
[null,"",{"$f":"IFERROR(VLOOKUP(A503,'1.Портфель кредитів'!A:AC,3,FALSE),\"\")","v":""},{"$f":"IFERROR(VLOOKUP(A503,'1.Портфель кредитів'!A:AC,14,FALSE),\"\")","v":""},null,null,null,null,null,null,null,null,null,null,null,null,"","",null,{"$f":"IFERROR(VLOOKUP(A503,'1.Портфель кредитів'!A:AC,30,FALSE),\"\")","v":""},0,{"$error":"#VALUE!"},null,null,null,null,null,{"$f":"VLOOKUP(C503,Hidden_Словник!$A$2:C$81,3,FALSE)","v":{"$error":"#N/A"}},0,{"$f":"VLOOKUP(E503,Hidden_Словник!$W$2:$X$13,2,FALSE)","v":{"$error":"#N/A"}},0,{"$error":"#N/A"}]
[null,"",{"$f":"IFERROR(VLOOKUP(A504,'1.Портфель кредитів'!A:AC,3,FALSE),\"\")","v":""},{"$f":"IFERROR(VLOOKUP(A504,'1.Портфель кредитів'!A:AC,14,FALSE),\"\")","v":""},null,null,null,null,null,null,null,null,null,null,null,null,"","",null,{"$f":"IFERROR(VLOOKUP(A504,'1.Портфель кредитів'!A:AC,30,FALSE),\"\")","v":""},0,{"$error":"#VALUE!"},null,null,null,null,null,{"$f":"VLOOKUP(C504,Hidden_Словник!$A$2:C$81,3,FALSE)","v":{"$error":"#N/A"}},0,{"$f":"VLOOKUP(E504,Hidden_Словник!$W$2:$X$13,2,FALSE)","v":{"$error":"#N/A"}},0,{"$error":"#N/A"}]
[null,"",{"$f":"IFERROR(VLOOKUP(A505,'1.Портфель кредитів'!A:AC,3,FALSE),\"\")","v":""},{"$f":"IFERROR(VLOOKUP(A505,'1.Портфель кредитів'!A:AC,14,FALSE),\"\")","v":""},null,null,null,null,null,null,null,null,null,null,null,null,"","",null,{"$f":"IFERROR(VLOOKUP(A505,'1.Портфель кредитів'!A:AC,30,FALSE),\"\")","v":""},0,{"$error":"#VALUE!"},null,null,null,null,null,{"$f":"VLOOKUP(C505,Hidden_Словник!$A$2:C$81,3,FALSE)","v":{"$error":"#N/A"}},0,{"$f":"VLOOKUP(E505,Hidden_Словник!$W$2:$X$13,2,FALSE)","v":{"$error":"#N/A"}},0,{"$error":"#N/A"}]
[null,"",{"$f":"IFERROR(VLOOKUP(A506,'1.Портфель кредитів'!A:AC,3,FALSE),\"\")","v":""},{"$f":"IFERROR(VLOOKUP(A506,'1.Портфель кредитів'!A:AC,14,FALSE),\"\")","v":""},null,null,null,null,null,null,null,null,null,null,null,null,"","",null,{"$f":"IFERROR(VLOOKUP(A506,'1.Портфель кредитів'!A:AC,30,FALSE),\"\")","v":""},0,{"$error":"#VALUE!"},null,null,null,null,null,{"$f":"VLOOKUP(C506,Hidden_Словник!$A$2:C$81,3,FALSE)","v":{"$error":"#N/A"}},0,{"$f":"VLOOKUP(E506,Hidden_Словник!$W$2:$X$13,2,FALSE)","v":{"$error":"#N/A"}},0,{"$error":"#N/A"}]
[null,"",{"$f":"IFERROR(VLOOKUP(A507,'1.Портфель кредитів'!A:AC,3,FALSE),\"\")","v":""},{"$f":"IFERROR(VLOOKUP(A507,'1.Портфель кредитів'!A:AC,14,FALSE),\"\")","v":""},null,null,null,null,null,null,null,null,null,null,null,null,"","",null,{"$f":"IFERROR(VLOOKUP(A507,'1.Портфель кредитів'!A:AC,30,FALSE),\"\")","v":""},0,{"$error":"#VALUE!"},null,null,null,null,null,{"$f":"VLOOKUP(C507,Hidden_Словник!$A$2:C$81,3,FALSE)","v":{"$error":"#N/A"}},0,{"$f":"VLOOKUP(E507,Hidden_Словник!$W$2:$X$13,2,FALSE)","v":{"$error":"#N/A"}},0,{"$error":"#N/A"}]
[null,"",{"$f":"IFERROR(VLOOKUP(A508,'1.Портфель кредитів'!A:AC,3,FALSE),\"\")","v":""},{"$f":"IFERROR(VLOOKUP(A508,'1.Портфель кредитів'!A:AC,14,FALSE),\"\")","v":""},null,null,null,null,null,null,null,null,null,null,null,null,"","",null,{"$f":"IFERROR(VLOOKUP(A508,'1.Портфель кредитів'!A:AC,30,FALSE),\"\")","v":""},0,{"$error":"#VALUE!"},null,null,null,null,null,{"$f":"VLOOKUP(C508,Hidden_Словник!$A$2:C$81,3,FALSE)","v":{"$error":"#N/A"}},0,{"$f":"VLOOKUP(E508,Hidden_Словник!$W$2:$X$13,2,FALSE)","v":{"$error":"#N/A"}},0,{"$error":"#N/A"}]
[null,"",{"$f":"IFERROR(VLOOKUP(A509,'1.Портфель кредитів'!A:AC,3,FALSE),\"\")","v":""},{"$f":"IFERROR(VLOOKUP(A509,'1.Портфель кредитів'!A:AC,14,FALSE),\"\")","v":""},null,null,null,null,null,null,null,null,null,null,null,null,"","",null,{"$f":"IFERROR(VLOOKUP(A509,'1.Портфель кредитів'!A:AC,30,FALSE),\"\")","v":""},0,{"$error":"#VALUE!"},null,null,null,null,null,{"$f":"VLOOKUP(C509,Hidden_Словник!$A$2:C$81,3,FALSE)","v":{"$error":"#N/A"}},0,{"$f":"VLOOKUP(E509,Hidden_Словник!$W$2:$X$13,2,FALSE)","v":{"$error":"#N/A"}},0,{"$error":"#N/A"}]
[null,"",{"$f":"IFERROR(VLOOKUP(A510,'1.Портфель кредитів'!A:AC,3,FALSE),\"\")","v":""},{"$f":"IFERROR(VLOOKUP(A510,'1.Портфель кредитів'!A:AC,14,FALSE),\"\")","v":""},null,null,null,null,null,null,null,null,null,null,null,null,"","",null,{"$f":"IFERROR(VLOOKUP(A510,'1.Портфель кредитів'!A:AC,30,FALSE),\"\")","v":""},0,{"$error":"#VALUE!"},null,null,null,null,null,{"$f":"VLOOKUP(C510,Hidden_Словник!$A$2:C$81,3,FALSE)","v":{"$error":"#N/A"}},0,{"$f":"VLOOKUP(E510,Hidden_Словник!$W$2:$X$13,2,FALSE)","v":{"$error":"#N/A"}},0,{"$error":"#N/A"}]
[null,"",{"$f":"IFERROR(VLOOKUP(A511,'1.Портфель кредитів'!A:AC,3,FALSE),\"\")","v":""},{"$f":"IFERROR(VLOOKUP(A511,'1.Портфель кредитів'!A:AC,14,FALSE),\"\")","v":""},null,null,null,null,null,null,null,null,null,null,null,null,"","",null,{"$f":"IFERROR(VLOOKUP(A511,'1.Портфель кредитів'!A:AC,30,FALSE),\"\")","v":""},0,{"$f":"T511/U511","v":{"$error":"#VALUE!"}},null,null,null,null,null,{"$f":"VLOOKUP(C511,Hidden_Словник!$A$2:C$81,3,FALSE)","v":{"$error":"#N/A"}},0,{"$f":"VLOOKUP(E511,Hidden_Словник!$W$2:$X$13,2,FALSE)","v":{"$error":"#N/A"}},0,{"$error":"#N/A"}]
[null,"",{"$f":"IFERROR(VLOOKUP(A512,'1.Портфель кредитів'!A:AC,3,FALSE),\"\")","v":""},{"$f":"IFERROR(VLOOKUP(A512,'1.Портфель кредитів'!A:AC,14,FALSE),\"\")","v":""},null,null,null,null,null,null,null,null,null,null,null,null,"","",null,{"$f":"IFERROR(VLOOKUP(A512,'1.Портфель кредитів'!A:AC,30,FALSE),\"\")","v":""},0,{"$error":"#VALUE!"},null,null,null,null,null,{"$f":"VLOOKUP(C512,Hidden_Словник!$A$2:C$81,3,FALSE)","v":{"$error":"#N/A"}},0,{"$f":"VLOOKUP(E512,Hidden_Словник!$W$2:$X$13,2,FALSE)","v":{"$error":"#N/A"}},0,{"$error":"#N/A"}]
[null,"",{"$f":"IFERROR(VLOOKUP(A513,'1.Портфель кредитів'!A:AC,3,FALSE),\"\")","v":""},{"$f":"IFERROR(VLOOKUP(A513,'1.Портфель кредитів'!A:AC,14,FALSE),\"\")","v":""},null,null,null,null,null,null,null,null,null,null,null,null,"","",null,{"$f":"IFERROR(VLOOKUP(A513,'1.Портфель кредитів'!A:AC,30,FALSE),\"\")","v":""},0,{"$error":"#VALUE!"},null,null,null,null,null,{"$f":"VLOOKUP(C513,Hidden_Словник!$A$2:C$81,3,FALSE)","v":{"$error":"#N/A"}},0,{"$f":"VLOOKUP(E513,Hidden_Словник!$W$2:$X$13,2,FALSE)","v":{"$error":"#N/A"}},0,{"$error":"#N/A"}]
[null,"",{"$f":"IFERROR(VLOOKUP(A514,'1.Портфель кредитів'!A:AC,3,FALSE),\"\")","v":""},{"$f":"IFERROR(VLOOKUP(A514,'1.Портфель кредитів'!A:AC,14,FALSE),\"\")","v":""},null,null,null,null,null,null,null,null,null,null,null,null,"","",null,{"$f":"IFERROR(VLOOKUP(A514,'1.Портфель кредитів'!A:AC,30,FALSE),\"\")","v":""},0,{"$error":"#VALUE!"},null,null,null,null,null,{"$f":"VLOOKUP(C514,Hidden_Словник!$A$2:C$81,3,FALSE)","v":{"$error":"#N/A"}},0,{"$f":"VLOOKUP(E514,Hidden_Словник!$W$2:$X$13,2,FALSE)","v":{"$error":"#N/A"}},0,{"$error":"#N/A"}]
[null,"",{"$f":"IFERROR(VLOOKUP(A515,'1.Портфель кредитів'!A:AC,3,FALSE),\"\")","v":""},{"$f":"IFERROR(VLOOKUP(A515,'1.Портфель кредитів'!A:AC,14,FALSE),\"\")","v":""},null,null,null,null,null,null,null,null,null,null,null,null,"","",null,{"$f":"IFERROR(VLOOKUP(A515,'1.Портфель кредитів'!A:AC,30,FALSE),\"\")","v":""},0,{"$error":"#VALUE!"},null,null,null,null,null,{"$f":"VLOOKUP(C515,Hidden_Словник!$A$2:C$81,3,FALSE)","v":{"$error":"#N/A"}},0,{"$f":"VLOOKUP(E515,Hidden_Словник!$W$2:$X$13,2,FALSE)","v":{"$error":"#N/A"}},0,{"$error":"#N/A"}]
[null,"",{"$f":"IFERROR(VLOOKUP(A516,'1.Портфель кредитів'!A:AC,3,FALSE),\"\")","v":""},{"$f":"IFERROR(VLOOKUP(A516,'1.Портфель кредитів'!A:AC,14,FALSE),\"\")","v":""},null,null,null,null,null,null,null,null,null,null,null,null,"","",null,{"$f":"IFERROR(VLOOKUP(A516,'1.Портфель кредитів'!A:AC,30,FALSE),\"\")","v":""},0,{"$error":"#VALUE!"},null,null,null,null,null,{"$f":"VLOOKUP(C516,Hidden_Словник!$A$2:C$81,3,FALSE)","v":{"$error":"#N/A"}},0,{"$f":"VLOOKUP(E516,Hidden_Словник!$W$2:$X$13,2,FALSE)","v":{"$error":"#N/A"}},0,{"$error":"#N/A"}]
[null,"",{"$f":"IFERROR(VLOOKUP(A517,'1.Портфель кредитів'!A:AC,3,FALSE),\"\")","v":""},{"$f":"IFERROR(VLOOKUP(A517,'1.Портфель кредитів'!A:AC,14,FALSE),\"\")","v":""},null,null,null,null,null,null,null,null,null,null,null,null,"","",null,{"$f":"IFERROR(VLOOKUP(A517,'1.Портфель кредитів'!A:AC,30,FALSE),\"\")","v":""},0,{"$error":"#VALUE!"},null,null,null,null,null,{"$f":"VLOOKUP(C517,Hidden_Словник!$A$2:C$81,3,FALSE)","v":{"$error":"#N/A"}},0,{"$f":"VLOOKUP(E517,Hidden_Словник!$W$2:$X$13,2,FALSE)","v":{"$error":"#N/A"}},0,{"$error":"#N/A"}]
[null,"",{"$f":"IFERROR(VLOOKUP(A518,'1.Портфель кредитів'!A:AC,3,FALSE),\"\")","v":""},{"$f":"IFERROR(VLOOKUP(A518,'1.Портфель кредитів'!A:AC,14,FALSE),\"\")","v":""},null,null,null,null,null,null,null,null,null,null,null,null,"","",null,{"$f":"IFERROR(VLOOKUP(A518,'1.Портфель кредитів'!A:AC,30,FALSE),\"\")","v":""},0,{"$error":"#VALUE!"},null,null,null,null,null,{"$f":"VLOOKUP(C518,Hidden_Словник!$A$2:C$81,3,FALSE)","v":{"$error":"#N/A"}},0,{"$f":"VLOOKUP(E518,Hidden_Словник!$W$2:$X$13,2,FALSE)","v":{"$error":"#N/A"}},0,{"$error":"#N/A"}]
[null,"",{"$f":"IFERROR(VLOOKUP(A519,'1.Портфель кредитів'!A:AC,3,FALSE),\"\")","v":""},{"$f":"IFERROR(VLOOKUP(A519,'1.Портфель кредитів'!A:AC,14,FALSE),\"\")","v":""},null,null,null,null,null,null,null,null,null,null,null,null,"","",null,{"$f":"IFERROR(VLOOKUP(A519,'1.Портфель кредитів'!A:AC,30,FALSE),\"\")","v":""},0,{"$error":"#VALUE!"},null,null,null,null,null,{"$f":"VLOOKUP(C519,Hidden_Словник!$A$2:C$81,3,FALSE)","v":{"$error":"#N/A"}},0,{"$f":"VLOOKUP(E519,Hidden_Словник!$W$2:$X$13,2,FALSE)","v":{"$error":"#N/A"}},0,{"$error":"#N/A"}]
[null,"",{"$f":"IFERROR(VLOOKUP(A520,'1.Портфель кредитів'!A:AC,3,FALSE),\"\")","v":""},{"$f":"IFERROR(VLOOKUP(A520,'1.Портфель кредитів'!A:AC,14,FALSE),\"\")","v":""},null,null,null,null,null,null,null,null,null,null,null,null,"","",null,{"$f":"IFERROR(VLOOKUP(A520,'1.Портфель кредитів'!A:AC,30,FALSE),\"\")","v":""},0,{"$error":"#VALUE!"},null,null,null,null,null,{"$f":"VLOOKUP(C520,Hidden_Словник!$A$2:C$81,3,FALSE)","v":{"$error":"#N/A"}},0,{"$f":"VLOOKUP(E520,Hidden_Словник!$W$2:$X$13,2,FALSE)","v":{"$error":"#N/A"}},0,{"$error":"#N/A"}]
[null,"",{"$f":"IFERROR(VLOOKUP(A521,'1.Портфель кредитів'!A:AC,3,FALSE),\"\")","v":""},{"$f":"IFERROR(VLOOKUP(A521,'1.Портфель кредитів'!A:AC,14,FALSE),\"\")","v":""},null,null,null,null,null,null,null,null,null,null,null,null,"","",null,{"$f":"IFERROR(VLOOKUP(A521,'1.Портфель кредитів'!A:AC,30,FALSE),\"\")","v":""},0,{"$error":"#VALUE!"},null,null,null,null,null,{"$f":"VLOOKUP(C521,Hidden_Словник!$A$2:C$81,3,FALSE)","v":{"$error":"#N/A"}},0,{"$f":"VLOOKUP(E521,Hidden_Словник!$W$2:$X$13,2,FALSE)","v":{"$error":"#N/A"}},0,{"$error":"#N/A"}]
[null,"",{"$f":"IFERROR(VLOOKUP(A522,'1.Портфель кредитів'!A:AC,3,FALSE),\"\")","v":""},{"$f":"IFERROR(VLOOKUP(A522,'1.Портфель кредитів'!A:AC,14,FALSE),\"\")","v":""},null,null,null,null,null,null,null,null,null,null,null,null,"","",null,{"$f":"IFERROR(VLOOKUP(A522,'1.Портфель кредитів'!A:AC,30,FALSE),\"\")","v":""},0,{"$error":"#VALUE!"},null,null,null,null,null,{"$f":"VLOOKUP(C522,Hidden_Словник!$A$2:C$81,3,FALSE)","v":{"$error":"#N/A"}},0,{"$f":"VLOOKUP(E522,Hidden_Словник!$W$2:$X$13,2,FALSE)","v":{"$error":"#N/A"}},0,{"$error":"#N/A"}]
[null,"",{"$f":"IFERROR(VLOOKUP(A523,'1.Портфель кредитів'!A:AC,3,FALSE),\"\")","v":""},{"$f":"IFERROR(VLOOKUP(A523,'1.Портфель кредитів'!A:AC,14,FALSE),\"\")","v":""},null,null,null,null,null,null,null,null,null,null,null,null,"","",null,{"$f":"IFERROR(VLOOKUP(A523,'1.Портфель кредитів'!A:AC,30,FALSE),\"\")","v":""},0,{"$error":"#VALUE!"},null,null,null,null,null,{"$f":"VLOOKUP(C523,Hidden_Словник!$A$2:C$81,3,FALSE)","v":{"$error":"#N/A"}},0,{"$f":"VLOOKUP(E523,Hidden_Словник!$W$2:$X$13,2,FALSE)","v":{"$error":"#N/A"}},0,{"$error":"#N/A"}]
[null,"",{"$f":"IFERROR(VLOOKUP(A524,'1.Портфель кредитів'!A:AC,3,FALSE),\"\")","v":""},{"$f":"IFERROR(VLOOKUP(A524,'1.Портфель кредитів'!A:AC,14,FALSE),\"\")","v":""},null,null,null,null,null,null,null,null,null,null,null,null,"","",null,{"$f":"IFERROR(VLOOKUP(A524,'1.Портфель кредитів'!A:AC,30,FALSE),\"\")","v":""},0,{"$error":"#VALUE!"},null,null,null,null,null,{"$f":"VLOOKUP(C524,Hidden_Словник!$A$2:C$81,3,FALSE)","v":{"$error":"#N/A"}},0,{"$f":"VLOOKUP(E524,Hidden_Словник!$W$2:$X$13,2,FALSE)","v":{"$error":"#N/A"}},0,{"$error":"#N/A"}]
[null,"",{"$f":"IFERROR(VLOOKUP(A525,'1.Портфель кредитів'!A:AC,3,FALSE),\"\")","v":""},{"$f":"IFERROR(VLOOKUP(A525,'1.Портфель кредитів'!A:AC,14,FALSE),\"\")","v":""},null,null,null,null,null,null,null,null,null,null,null,null,"","",null,{"$f":"IFERROR(VLOOKUP(A525,'1.Портфель кредитів'!A:AC,30,FALSE),\"\")","v":""},0,{"$error":"#VALUE!"},null,null,null,null,null,{"$f":"VLOOKUP(C525,Hidden_Словник!$A$2:C$81,3,FALSE)","v":{"$error":"#N/A"}},0,{"$f":"VLOOKUP(E525,Hidden_Словник!$W$2:$X$13,2,FALSE)","v":{"$error":"#N/A"}},0,{"$error":"#N/A"}]
[null,"",{"$f":"IFERROR(VLOOKUP(A526,'1.Портфель кредитів'!A:AC,3,FALSE),\"\")","v":""},{"$f":"IFERROR(VLOOKUP(A526,'1.Портфель кредитів'!A:AC,14,FALSE),\"\")","v":""},null,null,null,null,null,null,null,null,null,null,null,null,"","",null,{"$f":"IFERROR(VLOOKUP(A526,'1.Портфель кредитів'!A:AC,30,FALSE),\"\")","v":""},0,{"$error":"#VALUE!"},null,null,null,null,null,{"$f":"VLOOKUP(C526,Hidden_Словник!$A$2:C$81,3,FALSE)","v":{"$error":"#N/A"}},0,{"$f":"VLOOKUP(E526,Hidden_Словник!$W$2:$X$13,2,FALSE)","v":{"$error":"#N/A"}},0,{"$error":"#N/A"}]
[null,"",{"$f":"IFERROR(VLOOKUP(A527,'1.Портфель кредитів'!A:AC,3,FALSE),\"\")","v":""},{"$f":"IFERROR(VLOOKUP(A527,'1.Портфель кредитів'!A:AC,14,FALSE),\"\")","v":""},null,null,null,null,null,null,null,null,null,null,null,null,"","",null,{"$f":"IFERROR(VLOOKUP(A527,'1.Портфель кредитів'!A:AC,30,FALSE),\"\")","v":""},0,{"$error":"#VALUE!"},null,null,null,null,null,{"$f":"VLOOKUP(C527,Hidden_Словник!$A$2:C$81,3,FALSE)","v":{"$error":"#N/A"}},0,{"$f":"VLOOKUP(E527,Hidden_Словник!$W$2:$X$13,2,FALSE)","v":{"$error":"#N/A"}},0,{"$error":"#N/A"}]
[null,"",{"$f":"IFERROR(VLOOKUP(A528,'1.Портфель кредитів'!A:AC,3,FALSE),\"\")","v":""},{"$f":"IFERROR(VLOOKUP(A528,'1.Портфель кредитів'!A:AC,14,FALSE),\"\")","v":""},null,null,null,null,null,null,null,null,null,null,null,null,"","",null,{"$f":"IFERROR(VLOOKUP(A528,'1.Портфель кредитів'!A:AC,30,FALSE),\"\")","v":""},0,{"$error":"#VALUE!"},null,null,null,null,null,{"$f":"VLOOKUP(C528,Hidden_Словник!$A$2:C$81,3,FALSE)","v":{"$error":"#N/A"}},0,{"$f":"VLOOKUP(E528,Hidden_Словник!$W$2:$X$13,2,FALSE)","v":{"$error":"#N/A"}},0,{"$error":"#N/A"}]
[null,"",{"$f":"IFERROR(VLOOKUP(A529,'1.Портфель кредитів'!A:AC,3,FALSE),\"\")","v":""},{"$f":"IFERROR(VLOOKUP(A529,'1.Портфель кредитів'!A:AC,14,FALSE),\"\")","v":""},null,null,null,null,null,null,null,null,null,null,null,null,"","",null,{"$f":"IFERROR(VLOOKUP(A529,'1.Портфель кредитів'!A:AC,30,FALSE),\"\")","v":""},0,{"$error":"#VALUE!"},null,null,null,null,null,{"$f":"VLOOKUP(C529,Hidden_Словник!$A$2:C$81,3,FALSE)","v":{"$error":"#N/A"}},0,{"$f":"VLOOKUP(E529,Hidden_Словник!$W$2:$X$13,2,FALSE)","v":{"$error":"#N/A"}},0,{"$error":"#N/A"}]
[null,"",{"$f":"IFERROR(VLOOKUP(A530,'1.Портфель кредитів'!A:AC,3,FALSE),\"\")","v":""},{"$f":"IFERROR(VLOOKUP(A530,'1.Портфель кредитів'!A:AC,14,FALSE),\"\")","v":""},null,null,null,null,null,null,null,null,null,null,null,null,"","",null,{"$f":"IFERROR(VLOOKUP(A530,'1.Портфель кредитів'!A:AC,30,FALSE),\"\")","v":""},0,{"$error":"#VALUE!"},null,null,null,null,null,{"$f":"VLOOKUP(C530,Hidden_Словник!$A$2:C$81,3,FALSE)","v":{"$error":"#N/A"}},0,{"$f":"VLOOKUP(E530,Hidden_Словник!$W$2:$X$13,2,FALSE)","v":{"$error":"#N/A"}},0,{"$error":"#N/A"}]
[null,"",{"$f":"IFERROR(VLOOKUP(A531,'1.Портфель кредитів'!A:AC,3,FALSE),\"\")","v":""},{"$f":"IFERROR(VLOOKUP(A531,'1.Портфель кредитів'!A:AC,14,FALSE),\"\")","v":""},null,null,null,null,null,null,null,null,null,null,null,null,"","",null,{"$f":"IFERROR(VLOOKUP(A531,'1.Портфель кредитів'!A:AC,30,FALSE),\"\")","v":""},0,{"$error":"#VALUE!"},null,null,null,null,null,{"$f":"VLOOKUP(C531,Hidden_Словник!$A$2:C$81,3,FALSE)","v":{"$error":"#N/A"}},0,{"$f":"VLOOKUP(E531,Hidden_Словник!$W$2:$X$13,2,FALSE)","v":{"$error":"#N/A"}},0,{"$error":"#N/A"}]
[null,"",{"$f":"IFERROR(VLOOKUP(A532,'1.Портфель кредитів'!A:AC,3,FALSE),\"\")","v":""},{"$f":"IFERROR(VLOOKUP(A532,'1.Портфель кредитів'!A:AC,14,FALSE),\"\")","v":""},null,null,null,null,null,null,null,null,null,null,null,null,"","",null,{"$f":"IFERROR(VLOOKUP(A532,'1.Портфель кредитів'!A:AC,30,FALSE),\"\")","v":""},0,{"$error":"#VALUE!"},null,null,null,null,null,{"$f":"VLOOKUP(C532,Hidden_Словник!$A$2:C$81,3,FALSE)","v":{"$error":"#N/A"}},0,{"$f":"VLOOKUP(E532,Hidden_Словник!$W$2:$X$13,2,FALSE)","v":{"$error":"#N/A"}},0,{"$error":"#N/A"}]
[null,"",{"$f":"IFERROR(VLOOKUP(A533,'1.Портфель кредитів'!A:AC,3,FALSE),\"\")","v":""},{"$f":"IFERROR(VLOOKUP(A533,'1.Портфель кредитів'!A:AC,14,FALSE),\"\")","v":""},null,null,null,null,null,null,null,null,null,null,null,null,"","",null,{"$f":"IFERROR(VLOOKUP(A533,'1.Портфель кредитів'!A:AC,30,FALSE),\"\")","v":""},0,{"$error":"#VALUE!"},null,null,null,null,null,{"$f":"VLOOKUP(C533,Hidden_Словник!$A$2:C$81,3,FALSE)","v":{"$error":"#N/A"}},0,{"$f":"VLOOKUP(E533,Hidden_Словник!$W$2:$X$13,2,FALSE)","v":{"$error":"#N/A"}},0,{"$error":"#N/A"}]
[null,"",{"$f":"IFERROR(VLOOKUP(A534,'1.Портфель кредитів'!A:AC,3,FALSE),\"\")","v":""},{"$f":"IFERROR(VLOOKUP(A534,'1.Портфель кредитів'!A:AC,14,FALSE),\"\")","v":""},null,null,null,null,null,null,null,null,null,null,null,null,"",{"$f":"IFERROR(V534*L534,\"\")","v":""},null,{"$f":"IFERROR(VLOOKUP(A534,'1.Портфель кредитів'!A:AC,30,FALSE),\"\")","v":""},0,{"$error":"#VALUE!"},null,null,null,null,null,{"$f":"VLOOKUP(C534,Hidden_Словник!$A$2:C$81,3,FALSE)","v":{"$error":"#N/A"}},{"$f":"ROUNDUP(L534,0)","v":0},{"$f":"VLOOKUP(E534,Hidden_Словник!$W$2:$X$13,2,FALSE)","v":{"$error":"#N/A"}},{"$f":"O534","v":0},{"$error":"#N/A"}]
[null,{"$f":"IFERROR(AF535,\"\")","v":""},{"$f":"IFERROR(VLOOKUP(A535,'1.Портфель кредитів'!A:AC,3,FALSE),\"\")","v":""},{"$f":"IFERROR(VLOOKUP(A535,'1.Портфель кредитів'!A:AC,14,FALSE),\"\")","v":""},null,null,null,null,null,null,null,null,null,null,null,null,"","",null,{"$f":"IFERROR(VLOOKUP(A535,'1.Портфель кредитів'!A:AC,30,FALSE),\"\")","v":""},0,{"$error":"#VALUE!"},null,null,null,null,null,{"$f":"VLOOKUP(C535,Hidden_Словник!$A$2:C$81,3,FALSE)","v":{"$error":"#N/A"}},0,{"$f":"VLOOKUP(E535,Hidden_Словник!$W$2:$X$13,2,FALSE)","v":{"$error":"#N/A"}},0,{"$f":"AB535&\"_\"&AC535&AD535&AE535","v":{"$error":"#N/A"}}]
[null,"",{"$f":"IFERROR(VLOOKUP(A536,'1.Портфель кредитів'!A:AC,3,FALSE),\"\")","v":""},{"$f":"IFERROR(VLOOKUP(A536,'1.Портфель кредитів'!A:AC,14,FALSE),\"\")","v":""},null,null,null,null,null,null,null,null,null,null,null,null,"","",null,{"$f":"IFERROR(VLOOKUP(A536,'1.Портфель кредитів'!A:AC,30,FALSE),\"\")","v":""},0,{"$error":"#VALUE!"},null,null,null,null,null,{"$f":"VLOOKUP(C536,Hidden_Словник!$A$2:C$81,3,FALSE)","v":{"$error":"#N/A"}},0,{"$f":"VLOOKUP(E536,Hidden_Словник!$W$2:$X$13,2,FALSE)","v":{"$error":"#N/A"}},0,{"$error":"#N/A"}]
[null,"",{"$f":"IFERROR(VLOOKUP(A537,'1.Портфель кредитів'!A:AC,3,FALSE),\"\")","v":""},{"$f":"IFERROR(VLOOKUP(A537,'1.Портфель кредитів'!A:AC,14,FALSE),\"\")","v":""},null,null,null,null,null,null,null,null,null,null,null,null,"","",null,{"$f":"IFERROR(VLOOKUP(A537,'1.Портфель кредитів'!A:AC,30,FALSE),\"\")","v":""},0,{"$error":"#VALUE!"},null,null,null,null,null,{"$f":"VLOOKUP(C537,Hidden_Словник!$A$2:C$81,3,FALSE)","v":{"$error":"#N/A"}},0,{"$f":"VLOOKUP(E537,Hidden_Словник!$W$2:$X$13,2,FALSE)","v":{"$error":"#N/A"}},0,{"$error":"#N/A"}]
[null,"",{"$f":"IFERROR(VLOOKUP(A538,'1.Портфель кредитів'!A:AC,3,FALSE),\"\")","v":""},{"$f":"IFERROR(VLOOKUP(A538,'1.Портфель кредитів'!A:AC,14,FALSE),\"\")","v":""},null,null,null,null,null,null,null,null,null,null,null,null,{"$f":"IF(O538=\"\",\"\",IF(COUNTIF(AF:AF,AF538)>1,\"так\",\"ні\"))","v":""},"",null,{"$f":"IFERROR(VLOOKUP(A538,'1.Портфель кредитів'!A:AC,30,FALSE),\"\")","v":""},{"$f":"SUMIF(B:B,B538,T:T)","v":0},{"$error":"#VALUE!"},null,null,null,null,null,{"$f":"VLOOKUP(C538,Hidden_Словник!$A$2:C$81,3,FALSE)","v":{"$error":"#N/A"}},0,{"$f":"VLOOKUP(E538,Hidden_Словник!$W$2:$X$13,2,FALSE)","v":{"$error":"#N/A"}},0,{"$error":"#N/A"}]
[null,"",{"$f":"IFERROR(VLOOKUP(A539,'1.Портфель кредитів'!A:AC,3,FALSE),\"\")","v":""},{"$f":"IFERROR(VLOOKUP(A539,'1.Портфель кредитів'!A:AC,14,FALSE),\"\")","v":""},null,null,null,null,null,null,null,null,null,null,null,null,"","",null,{"$f":"IFERROR(VLOOKUP(A539,'1.Портфель кредитів'!A:AC,30,FALSE),\"\")","v":""},0,{"$error":"#VALUE!"},null,null,null,null,null,{"$f":"VLOOKUP(C539,Hidden_Словник!$A$2:C$81,3,FALSE)","v":{"$error":"#N/A"}},0,{"$f":"VLOOKUP(E539,Hidden_Словник!$W$2:$X$13,2,FALSE)","v":{"$error":"#N/A"}},0,{"$error":"#N/A"}]
[null,"",{"$f":"IFERROR(VLOOKUP(A540,'1.Портфель кредитів'!A:AC,3,FALSE),\"\")","v":""},{"$f":"IFERROR(VLOOKUP(A540,'1.Портфель кредитів'!A:AC,14,FALSE),\"\")","v":""},null,null,null,null,null,null,null,null,null,null,null,null,"","",null,{"$f":"IFERROR(VLOOKUP(A540,'1.Портфель кредитів'!A:AC,30,FALSE),\"\")","v":""},0,{"$error":"#VALUE!"},null,null,null,null,null,{"$f":"VLOOKUP(C540,Hidden_Словник!$A$2:C$81,3,FALSE)","v":{"$error":"#N/A"}},0,{"$f":"VLOOKUP(E540,Hidden_Словник!$W$2:$X$13,2,FALSE)","v":{"$error":"#N/A"}},0,{"$error":"#N/A"}]
[null,"",{"$f":"IFERROR(VLOOKUP(A541,'1.Портфель кредитів'!A:AC,3,FALSE),\"\")","v":""},{"$f":"IFERROR(VLOOKUP(A541,'1.Портфель кредитів'!A:AC,14,FALSE),\"\")","v":""},null,null,null,null,null,null,null,null,null,null,null,null,"","",null,{"$f":"IFERROR(VLOOKUP(A541,'1.Портфель кредитів'!A:AC,30,FALSE),\"\")","v":""},0,{"$error":"#VALUE!"},null,null,null,null,null,{"$f":"VLOOKUP(C541,Hidden_Словник!$A$2:C$81,3,FALSE)","v":{"$error":"#N/A"}},0,{"$f":"VLOOKUP(E541,Hidden_Словник!$W$2:$X$13,2,FALSE)","v":{"$error":"#N/A"}},0,{"$error":"#N/A"}]
[null,"",{"$f":"IFERROR(VLOOKUP(A542,'1.Портфель кредитів'!A:AC,3,FALSE),\"\")","v":""},{"$f":"IFERROR(VLOOKUP(A542,'1.Портфель кредитів'!A:AC,14,FALSE),\"\")","v":""},null,null,null,null,null,null,null,null,null,null,null,null,"","",null,{"$f":"IFERROR(VLOOKUP(A542,'1.Портфель кредитів'!A:AC,30,FALSE),\"\")","v":""},0,{"$error":"#VALUE!"},null,null,null,null,null,{"$f":"VLOOKUP(C542,Hidden_Словник!$A$2:C$81,3,FALSE)","v":{"$error":"#N/A"}},0,{"$f":"VLOOKUP(E542,Hidden_Словник!$W$2:$X$13,2,FALSE)","v":{"$error":"#N/A"}},0,{"$error":"#N/A"}]
[null,"",{"$f":"IFERROR(VLOOKUP(A543,'1.Портфель кредитів'!A:AC,3,FALSE),\"\")","v":""},{"$f":"IFERROR(VLOOKUP(A543,'1.Портфель кредитів'!A:AC,14,FALSE),\"\")","v":""},null,null,null,null,null,null,null,null,null,null,null,null,"","",null,{"$f":"IFERROR(VLOOKUP(A543,'1.Портфель кредитів'!A:AC,30,FALSE),\"\")","v":""},0,{"$error":"#VALUE!"},null,null,null,null,null,{"$f":"VLOOKUP(C543,Hidden_Словник!$A$2:C$81,3,FALSE)","v":{"$error":"#N/A"}},0,{"$f":"VLOOKUP(E543,Hidden_Словник!$W$2:$X$13,2,FALSE)","v":{"$error":"#N/A"}},0,{"$error":"#N/A"}]
[null,"",{"$f":"IFERROR(VLOOKUP(A544,'1.Портфель кредитів'!A:AC,3,FALSE),\"\")","v":""},{"$f":"IFERROR(VLOOKUP(A544,'1.Портфель кредитів'!A:AC,14,FALSE),\"\")","v":""},null,null,null,null,null,null,null,null,null,null,null,null,"","",null,{"$f":"IFERROR(VLOOKUP(A544,'1.Портфель кредитів'!A:AC,30,FALSE),\"\")","v":""},0,{"$error":"#VALUE!"},null,null,null,null,null,{"$f":"VLOOKUP(C544,Hidden_Словник!$A$2:C$81,3,FALSE)","v":{"$error":"#N/A"}},0,{"$f":"VLOOKUP(E544,Hidden_Словник!$W$2:$X$13,2,FALSE)","v":{"$error":"#N/A"}},0,{"$error":"#N/A"}]
[null,"",{"$f":"IFERROR(VLOOKUP(A545,'1.Портфель кредитів'!A:AC,3,FALSE),\"\")","v":""},{"$f":"IFERROR(VLOOKUP(A545,'1.Портфель кредитів'!A:AC,14,FALSE),\"\")","v":""},null,null,null,null,null,null,null,null,null,null,null,null,"","",null,{"$f":"IFERROR(VLOOKUP(A545,'1.Портфель кредитів'!A:AC,30,FALSE),\"\")","v":""},0,{"$error":"#VALUE!"},null,null,null,null,null,{"$f":"VLOOKUP(C545,Hidden_Словник!$A$2:C$81,3,FALSE)","v":{"$error":"#N/A"}},0,{"$f":"VLOOKUP(E545,Hidden_Словник!$W$2:$X$13,2,FALSE)","v":{"$error":"#N/A"}},0,{"$error":"#N/A"}]
[null,"",{"$f":"IFERROR(VLOOKUP(A546,'1.Портфель кредитів'!A:AC,3,FALSE),\"\")","v":""},{"$f":"IFERROR(VLOOKUP(A546,'1.Портфель кредитів'!A:AC,14,FALSE),\"\")","v":""},null,null,null,null,null,null,null,null,null,null,null,null,"","",null,{"$f":"IFERROR(VLOOKUP(A546,'1.Портфель кредитів'!A:AC,30,FALSE),\"\")","v":""},0,{"$error":"#VALUE!"},null,null,null,null,null,{"$f":"VLOOKUP(C546,Hidden_Словник!$A$2:C$81,3,FALSE)","v":{"$error":"#N/A"}},0,{"$f":"VLOOKUP(E546,Hidden_Словник!$W$2:$X$13,2,FALSE)","v":{"$error":"#N/A"}},0,{"$error":"#N/A"}]
[null,"",{"$f":"IFERROR(VLOOKUP(A547,'1.Портфель кредитів'!A:AC,3,FALSE),\"\")","v":""},{"$f":"IFERROR(VLOOKUP(A547,'1.Портфель кредитів'!A:AC,14,FALSE),\"\")","v":""},null,null,null,null,null,null,null,null,null,null,null,null,"","",null,{"$f":"IFERROR(VLOOKUP(A547,'1.Портфель кредитів'!A:AC,30,FALSE),\"\")","v":""},0,{"$error":"#VALUE!"},null,null,null,null,null,{"$f":"VLOOKUP(C547,Hidden_Словник!$A$2:C$81,3,FALSE)","v":{"$error":"#N/A"}},0,{"$f":"VLOOKUP(E547,Hidden_Словник!$W$2:$X$13,2,FALSE)","v":{"$error":"#N/A"}},0,{"$error":"#N/A"}]
[null,"",{"$f":"IFERROR(VLOOKUP(A548,'1.Портфель кредитів'!A:AC,3,FALSE),\"\")","v":""},{"$f":"IFERROR(VLOOKUP(A548,'1.Портфель кредитів'!A:AC,14,FALSE),\"\")","v":""},null,null,null,null,null,null,null,null,null,null,null,null,"","",null,{"$f":"IFERROR(VLOOKUP(A548,'1.Портфель кредитів'!A:AC,30,FALSE),\"\")","v":""},0,{"$error":"#VALUE!"},null,null,null,null,null,{"$f":"VLOOKUP(C548,Hidden_Словник!$A$2:C$81,3,FALSE)","v":{"$error":"#N/A"}},0,{"$f":"VLOOKUP(E548,Hidden_Словник!$W$2:$X$13,2,FALSE)","v":{"$error":"#N/A"}},0,{"$error":"#N/A"}]
[null,"",{"$f":"IFERROR(VLOOKUP(A549,'1.Портфель кредитів'!A:AC,3,FALSE),\"\")","v":""},{"$f":"IFERROR(VLOOKUP(A549,'1.Портфель кредитів'!A:AC,14,FALSE),\"\")","v":""},null,null,null,null,null,null,null,null,null,null,null,null,"","",null,{"$f":"IFERROR(VLOOKUP(A549,'1.Портфель кредитів'!A:AC,30,FALSE),\"\")","v":""},0,{"$error":"#VALUE!"},null,null,null,null,null,{"$f":"VLOOKUP(C549,Hidden_Словник!$A$2:C$81,3,FALSE)","v":{"$error":"#N/A"}},0,{"$f":"VLOOKUP(E549,Hidden_Словник!$W$2:$X$13,2,FALSE)","v":{"$error":"#N/A"}},0,{"$error":"#N/A"}]
[null,"",{"$f":"IFERROR(VLOOKUP(A550,'1.Портфель кредитів'!A:AC,3,FALSE),\"\")","v":""},{"$f":"IFERROR(VLOOKUP(A550,'1.Портфель кредитів'!A:AC,14,FALSE),\"\")","v":""},null,null,null,null,null,null,null,null,null,null,null,null,"","",null,{"$f":"IFERROR(VLOOKUP(A550,'1.Портфель кредитів'!A:AC,30,FALSE),\"\")","v":""},0,{"$error":"#VALUE!"},null,null,null,null,null,{"$f":"VLOOKUP(C550,Hidden_Словник!$A$2:C$81,3,FALSE)","v":{"$error":"#N/A"}},0,{"$f":"VLOOKUP(E550,Hidden_Словник!$W$2:$X$13,2,FALSE)","v":{"$error":"#N/A"}},0,{"$error":"#N/A"}]
[null,"",{"$f":"IFERROR(VLOOKUP(A551,'1.Портфель кредитів'!A:AC,3,FALSE),\"\")","v":""},{"$f":"IFERROR(VLOOKUP(A551,'1.Портфель кредитів'!A:AC,14,FALSE),\"\")","v":""},null,null,null,null,null,null,null,null,null,null,null,null,"","",null,{"$f":"IFERROR(VLOOKUP(A551,'1.Портфель кредитів'!A:AC,30,FALSE),\"\")","v":""},0,{"$error":"#VALUE!"},null,null,null,null,null,{"$f":"VLOOKUP(C551,Hidden_Словник!$A$2:C$81,3,FALSE)","v":{"$error":"#N/A"}},0,{"$f":"VLOOKUP(E551,Hidden_Словник!$W$2:$X$13,2,FALSE)","v":{"$error":"#N/A"}},0,{"$error":"#N/A"}]
[null,"",{"$f":"IFERROR(VLOOKUP(A552,'1.Портфель кредитів'!A:AC,3,FALSE),\"\")","v":""},{"$f":"IFERROR(VLOOKUP(A552,'1.Портфель кредитів'!A:AC,14,FALSE),\"\")","v":""},null,null,null,null,null,null,null,null,null,null,null,null,"","",null,{"$f":"IFERROR(VLOOKUP(A552,'1.Портфель кредитів'!A:AC,30,FALSE),\"\")","v":""},0,{"$error":"#VALUE!"},null,null,null,null,null,{"$f":"VLOOKUP(C552,Hidden_Словник!$A$2:C$81,3,FALSE)","v":{"$error":"#N/A"}},0,{"$f":"VLOOKUP(E552,Hidden_Словник!$W$2:$X$13,2,FALSE)","v":{"$error":"#N/A"}},0,{"$error":"#N/A"}]
[null,"",{"$f":"IFERROR(VLOOKUP(A553,'1.Портфель кредитів'!A:AC,3,FALSE),\"\")","v":""},{"$f":"IFERROR(VLOOKUP(A553,'1.Портфель кредитів'!A:AC,14,FALSE),\"\")","v":""},null,null,null,null,null,null,null,null,null,null,null,null,"","",null,{"$f":"IFERROR(VLOOKUP(A553,'1.Портфель кредитів'!A:AC,30,FALSE),\"\")","v":""},0,{"$error":"#VALUE!"},null,null,null,null,null,{"$f":"VLOOKUP(C553,Hidden_Словник!$A$2:C$81,3,FALSE)","v":{"$error":"#N/A"}},0,{"$f":"VLOOKUP(E553,Hidden_Словник!$W$2:$X$13,2,FALSE)","v":{"$error":"#N/A"}},0,{"$error":"#N/A"}]
[null,"",{"$f":"IFERROR(VLOOKUP(A554,'1.Портфель кредитів'!A:AC,3,FALSE),\"\")","v":""},{"$f":"IFERROR(VLOOKUP(A554,'1.Портфель кредитів'!A:AC,14,FALSE),\"\")","v":""},null,null,null,null,null,null,null,null,null,null,null,null,"","",null,{"$f":"IFERROR(VLOOKUP(A554,'1.Портфель кредитів'!A:AC,30,FALSE),\"\")","v":""},0,{"$error":"#VALUE!"},null,null,null,null,null,{"$f":"VLOOKUP(C554,Hidden_Словник!$A$2:C$81,3,FALSE)","v":{"$error":"#N/A"}},0,{"$f":"VLOOKUP(E554,Hidden_Словник!$W$2:$X$13,2,FALSE)","v":{"$error":"#N/A"}},0,{"$error":"#N/A"}]
[null,"",{"$f":"IFERROR(VLOOKUP(A555,'1.Портфель кредитів'!A:AC,3,FALSE),\"\")","v":""},{"$f":"IFERROR(VLOOKUP(A555,'1.Портфель кредитів'!A:AC,14,FALSE),\"\")","v":""},null,null,null,null,null,null,null,null,null,null,null,null,"","",null,{"$f":"IFERROR(VLOOKUP(A555,'1.Портфель кредитів'!A:AC,30,FALSE),\"\")","v":""},0,{"$error":"#VALUE!"},null,null,null,null,null,{"$f":"VLOOKUP(C555,Hidden_Словник!$A$2:C$81,3,FALSE)","v":{"$error":"#N/A"}},0,{"$f":"VLOOKUP(E555,Hidden_Словник!$W$2:$X$13,2,FALSE)","v":{"$error":"#N/A"}},0,{"$error":"#N/A"}]
[null,"",{"$f":"IFERROR(VLOOKUP(A556,'1.Портфель кредитів'!A:AC,3,FALSE),\"\")","v":""},{"$f":"IFERROR(VLOOKUP(A556,'1.Портфель кредитів'!A:AC,14,FALSE),\"\")","v":""},null,null,null,null,null,null,null,null,null,null,null,null,"","",null,{"$f":"IFERROR(VLOOKUP(A556,'1.Портфель кредитів'!A:AC,30,FALSE),\"\")","v":""},0,{"$error":"#VALUE!"},null,null,null,null,null,{"$f":"VLOOKUP(C556,Hidden_Словник!$A$2:C$81,3,FALSE)","v":{"$error":"#N/A"}},0,{"$f":"VLOOKUP(E556,Hidden_Словник!$W$2:$X$13,2,FALSE)","v":{"$error":"#N/A"}},0,{"$error":"#N/A"}]
[null,"",{"$f":"IFERROR(VLOOKUP(A557,'1.Портфель кредитів'!A:AC,3,FALSE),\"\")","v":""},{"$f":"IFERROR(VLOOKUP(A557,'1.Портфель кредитів'!A:AC,14,FALSE),\"\")","v":""},null,null,null,null,null,null,null,null,null,null,null,null,"","",null,{"$f":"IFERROR(VLOOKUP(A557,'1.Портфель кредитів'!A:AC,30,FALSE),\"\")","v":""},0,{"$error":"#VALUE!"},null,null,null,null,null,{"$f":"VLOOKUP(C557,Hidden_Словник!$A$2:C$81,3,FALSE)","v":{"$error":"#N/A"}},0,{"$f":"VLOOKUP(E557,Hidden_Словник!$W$2:$X$13,2,FALSE)","v":{"$error":"#N/A"}},0,{"$error":"#N/A"}]
[null,"",{"$f":"IFERROR(VLOOKUP(A558,'1.Портфель кредитів'!A:AC,3,FALSE),\"\")","v":""},{"$f":"IFERROR(VLOOKUP(A558,'1.Портфель кредитів'!A:AC,14,FALSE),\"\")","v":""},null,null,null,null,null,null,null,null,null,null,null,null,"","",null,{"$f":"IFERROR(VLOOKUP(A558,'1.Портфель кредитів'!A:AC,30,FALSE),\"\")","v":""},0,{"$error":"#VALUE!"},null,null,null,null,null,{"$f":"VLOOKUP(C558,Hidden_Словник!$A$2:C$81,3,FALSE)","v":{"$error":"#N/A"}},0,{"$f":"VLOOKUP(E558,Hidden_Словник!$W$2:$X$13,2,FALSE)","v":{"$error":"#N/A"}},0,{"$error":"#N/A"}]
[null,"",{"$f":"IFERROR(VLOOKUP(A559,'1.Портфель кредитів'!A:AC,3,FALSE),\"\")","v":""},{"$f":"IFERROR(VLOOKUP(A559,'1.Портфель кредитів'!A:AC,14,FALSE),\"\")","v":""},null,null,null,null,null,null,null,null,null,null,null,null,"","",null,{"$f":"IFERROR(VLOOKUP(A559,'1.Портфель кредитів'!A:AC,30,FALSE),\"\")","v":""},0,{"$error":"#VALUE!"},null,null,null,null,null,{"$f":"VLOOKUP(C559,Hidden_Словник!$A$2:C$81,3,FALSE)","v":{"$error":"#N/A"}},0,{"$f":"VLOOKUP(E559,Hidden_Словник!$W$2:$X$13,2,FALSE)","v":{"$error":"#N/A"}},0,{"$error":"#N/A"}]
[null,"",{"$f":"IFERROR(VLOOKUP(A560,'1.Портфель кредитів'!A:AC,3,FALSE),\"\")","v":""},{"$f":"IFERROR(VLOOKUP(A560,'1.Портфель кредитів'!A:AC,14,FALSE),\"\")","v":""},null,null,null,null,null,null,null,null,null,null,null,null,"","",null,{"$f":"IFERROR(VLOOKUP(A560,'1.Портфель кредитів'!A:AC,30,FALSE),\"\")","v":""},0,{"$error":"#VALUE!"},null,null,null,null,null,{"$f":"VLOOKUP(C560,Hidden_Словник!$A$2:C$81,3,FALSE)","v":{"$error":"#N/A"}},0,{"$f":"VLOOKUP(E560,Hidden_Словник!$W$2:$X$13,2,FALSE)","v":{"$error":"#N/A"}},0,{"$error":"#N/A"}]
[null,"",{"$f":"IFERROR(VLOOKUP(A561,'1.Портфель кредитів'!A:AC,3,FALSE),\"\")","v":""},{"$f":"IFERROR(VLOOKUP(A561,'1.Портфель кредитів'!A:AC,14,FALSE),\"\")","v":""},null,null,null,null,null,null,null,null,null,null,null,null,"","",null,{"$f":"IFERROR(VLOOKUP(A561,'1.Портфель кредитів'!A:AC,30,FALSE),\"\")","v":""},0,{"$error":"#VALUE!"},null,null,null,null,null,{"$f":"VLOOKUP(C561,Hidden_Словник!$A$2:C$81,3,FALSE)","v":{"$error":"#N/A"}},0,{"$f":"VLOOKUP(E561,Hidden_Словник!$W$2:$X$13,2,FALSE)","v":{"$error":"#N/A"}},0,{"$error":"#N/A"}]
[null,"",{"$f":"IFERROR(VLOOKUP(A562,'1.Портфель кредитів'!A:AC,3,FALSE),\"\")","v":""},{"$f":"IFERROR(VLOOKUP(A562,'1.Портфель кредитів'!A:AC,14,FALSE),\"\")","v":""},null,null,null,null,null,null,null,null,null,null,null,null,"","",null,{"$f":"IFERROR(VLOOKUP(A562,'1.Портфель кредитів'!A:AC,30,FALSE),\"\")","v":""},0,{"$error":"#VALUE!"},null,null,null,null,null,{"$f":"VLOOKUP(C562,Hidden_Словник!$A$2:C$81,3,FALSE)","v":{"$error":"#N/A"}},0,{"$f":"VLOOKUP(E562,Hidden_Словник!$W$2:$X$13,2,FALSE)","v":{"$error":"#N/A"}},0,{"$error":"#N/A"}]
[null,"",{"$f":"IFERROR(VLOOKUP(A563,'1.Портфель кредитів'!A:AC,3,FALSE),\"\")","v":""},{"$f":"IFERROR(VLOOKUP(A563,'1.Портфель кредитів'!A:AC,14,FALSE),\"\")","v":""},null,null,null,null,null,null,null,null,null,null,null,null,"","",null,{"$f":"IFERROR(VLOOKUP(A563,'1.Портфель кредитів'!A:AC,30,FALSE),\"\")","v":""},0,{"$error":"#VALUE!"},null,null,null,null,null,{"$f":"VLOOKUP(C563,Hidden_Словник!$A$2:C$81,3,FALSE)","v":{"$error":"#N/A"}},0,{"$f":"VLOOKUP(E563,Hidden_Словник!$W$2:$X$13,2,FALSE)","v":{"$error":"#N/A"}},0,{"$error":"#N/A"}]
[null,"",{"$f":"IFERROR(VLOOKUP(A564,'1.Портфель кредитів'!A:AC,3,FALSE),\"\")","v":""},{"$f":"IFERROR(VLOOKUP(A564,'1.Портфель кредитів'!A:AC,14,FALSE),\"\")","v":""},null,null,null,null,null,null,null,null,null,null,null,null,"","",null,{"$f":"IFERROR(VLOOKUP(A564,'1.Портфель кредитів'!A:AC,30,FALSE),\"\")","v":""},0,{"$error":"#VALUE!"},null,null,null,null,null,{"$f":"VLOOKUP(C564,Hidden_Словник!$A$2:C$81,3,FALSE)","v":{"$error":"#N/A"}},0,{"$f":"VLOOKUP(E564,Hidden_Словник!$W$2:$X$13,2,FALSE)","v":{"$error":"#N/A"}},0,{"$error":"#N/A"}]
[null,"",{"$f":"IFERROR(VLOOKUP(A565,'1.Портфель кредитів'!A:AC,3,FALSE),\"\")","v":""},{"$f":"IFERROR(VLOOKUP(A565,'1.Портфель кредитів'!A:AC,14,FALSE),\"\")","v":""},null,null,null,null,null,null,null,null,null,null,null,null,"","",null,{"$f":"IFERROR(VLOOKUP(A565,'1.Портфель кредитів'!A:AC,30,FALSE),\"\")","v":""},0,{"$error":"#VALUE!"},null,null,null,null,null,{"$f":"VLOOKUP(C565,Hidden_Словник!$A$2:C$81,3,FALSE)","v":{"$error":"#N/A"}},0,{"$f":"VLOOKUP(E565,Hidden_Словник!$W$2:$X$13,2,FALSE)","v":{"$error":"#N/A"}},0,{"$error":"#N/A"}]
[null,"",{"$f":"IFERROR(VLOOKUP(A566,'1.Портфель кредитів'!A:AC,3,FALSE),\"\")","v":""},{"$f":"IFERROR(VLOOKUP(A566,'1.Портфель кредитів'!A:AC,14,FALSE),\"\")","v":""},null,null,null,null,null,null,null,null,null,null,null,null,"","",null,{"$f":"IFERROR(VLOOKUP(A566,'1.Портфель кредитів'!A:AC,30,FALSE),\"\")","v":""},0,{"$error":"#VALUE!"},null,null,null,null,null,{"$f":"VLOOKUP(C566,Hidden_Словник!$A$2:C$81,3,FALSE)","v":{"$error":"#N/A"}},0,{"$f":"VLOOKUP(E566,Hidden_Словник!$W$2:$X$13,2,FALSE)","v":{"$error":"#N/A"}},0,{"$error":"#N/A"}]
[null,"",{"$f":"IFERROR(VLOOKUP(A567,'1.Портфель кредитів'!A:AC,3,FALSE),\"\")","v":""},{"$f":"IFERROR(VLOOKUP(A567,'1.Портфель кредитів'!A:AC,14,FALSE),\"\")","v":""},null,null,null,null,null,null,null,null,null,null,null,null,"","",null,{"$f":"IFERROR(VLOOKUP(A567,'1.Портфель кредитів'!A:AC,30,FALSE),\"\")","v":""},0,{"$error":"#VALUE!"},null,null,null,null,null,{"$f":"VLOOKUP(C567,Hidden_Словник!$A$2:C$81,3,FALSE)","v":{"$error":"#N/A"}},0,{"$f":"VLOOKUP(E567,Hidden_Словник!$W$2:$X$13,2,FALSE)","v":{"$error":"#N/A"}},0,{"$error":"#N/A"}]
[null,"",{"$f":"IFERROR(VLOOKUP(A568,'1.Портфель кредитів'!A:AC,3,FALSE),\"\")","v":""},{"$f":"IFERROR(VLOOKUP(A568,'1.Портфель кредитів'!A:AC,14,FALSE),\"\")","v":""},null,null,null,null,null,null,null,null,null,null,null,null,"","",null,{"$f":"IFERROR(VLOOKUP(A568,'1.Портфель кредитів'!A:AC,30,FALSE),\"\")","v":""},0,{"$error":"#VALUE!"},null,null,null,null,null,{"$f":"VLOOKUP(C568,Hidden_Словник!$A$2:C$81,3,FALSE)","v":{"$error":"#N/A"}},0,{"$f":"VLOOKUP(E568,Hidden_Словник!$W$2:$X$13,2,FALSE)","v":{"$error":"#N/A"}},0,{"$error":"#N/A"}]
[null,"",{"$f":"IFERROR(VLOOKUP(A569,'1.Портфель кредитів'!A:AC,3,FALSE),\"\")","v":""},{"$f":"IFERROR(VLOOKUP(A569,'1.Портфель кредитів'!A:AC,14,FALSE),\"\")","v":""},null,null,null,null,null,null,null,null,null,null,null,null,"","",null,{"$f":"IFERROR(VLOOKUP(A569,'1.Портфель кредитів'!A:AC,30,FALSE),\"\")","v":""},0,{"$error":"#VALUE!"},null,null,null,null,null,{"$f":"VLOOKUP(C569,Hidden_Словник!$A$2:C$81,3,FALSE)","v":{"$error":"#N/A"}},0,{"$f":"VLOOKUP(E569,Hidden_Словник!$W$2:$X$13,2,FALSE)","v":{"$error":"#N/A"}},0,{"$error":"#N/A"}]
[null,"",{"$f":"IFERROR(VLOOKUP(A570,'1.Портфель кредитів'!A:AC,3,FALSE),\"\")","v":""},{"$f":"IFERROR(VLOOKUP(A570,'1.Портфель кредитів'!A:AC,14,FALSE),\"\")","v":""},null,null,null,null,null,null,null,null,null,null,null,null,"","",null,{"$f":"IFERROR(VLOOKUP(A570,'1.Портфель кредитів'!A:AC,30,FALSE),\"\")","v":""},0,{"$error":"#VALUE!"},null,null,null,null,null,{"$f":"VLOOKUP(C570,Hidden_Словник!$A$2:C$81,3,FALSE)","v":{"$error":"#N/A"}},0,{"$f":"VLOOKUP(E570,Hidden_Словник!$W$2:$X$13,2,FALSE)","v":{"$error":"#N/A"}},0,{"$error":"#N/A"}]
[null,"",{"$f":"IFERROR(VLOOKUP(A571,'1.Портфель кредитів'!A:AC,3,FALSE),\"\")","v":""},{"$f":"IFERROR(VLOOKUP(A571,'1.Портфель кредитів'!A:AC,14,FALSE),\"\")","v":""},null,null,null,null,null,null,null,null,null,null,null,null,"","",null,{"$f":"IFERROR(VLOOKUP(A571,'1.Портфель кредитів'!A:AC,30,FALSE),\"\")","v":""},0,{"$error":"#VALUE!"},null,null,null,null,null,{"$f":"VLOOKUP(C571,Hidden_Словник!$A$2:C$81,3,FALSE)","v":{"$error":"#N/A"}},0,{"$f":"VLOOKUP(E571,Hidden_Словник!$W$2:$X$13,2,FALSE)","v":{"$error":"#N/A"}},0,{"$error":"#N/A"}]
[null,"",{"$f":"IFERROR(VLOOKUP(A572,'1.Портфель кредитів'!A:AC,3,FALSE),\"\")","v":""},{"$f":"IFERROR(VLOOKUP(A572,'1.Портфель кредитів'!A:AC,14,FALSE),\"\")","v":""},null,null,null,null,null,null,null,null,null,null,null,null,"","",null,{"$f":"IFERROR(VLOOKUP(A572,'1.Портфель кредитів'!A:AC,30,FALSE),\"\")","v":""},0,{"$error":"#VALUE!"},null,null,null,null,null,{"$f":"VLOOKUP(C572,Hidden_Словник!$A$2:C$81,3,FALSE)","v":{"$error":"#N/A"}},0,{"$f":"VLOOKUP(E572,Hidden_Словник!$W$2:$X$13,2,FALSE)","v":{"$error":"#N/A"}},0,{"$error":"#N/A"}]
[null,"",{"$f":"IFERROR(VLOOKUP(A573,'1.Портфель кредитів'!A:AC,3,FALSE),\"\")","v":""},{"$f":"IFERROR(VLOOKUP(A573,'1.Портфель кредитів'!A:AC,14,FALSE),\"\")","v":""},null,null,null,null,null,null,null,null,null,null,null,null,"","",null,{"$f":"IFERROR(VLOOKUP(A573,'1.Портфель кредитів'!A:AC,30,FALSE),\"\")","v":""},0,{"$error":"#VALUE!"},null,null,null,null,null,{"$f":"VLOOKUP(C573,Hidden_Словник!$A$2:C$81,3,FALSE)","v":{"$error":"#N/A"}},0,{"$f":"VLOOKUP(E573,Hidden_Словник!$W$2:$X$13,2,FALSE)","v":{"$error":"#N/A"}},0,{"$error":"#N/A"}]
[null,"",{"$f":"IFERROR(VLOOKUP(A574,'1.Портфель кредитів'!A:AC,3,FALSE),\"\")","v":""},{"$f":"IFERROR(VLOOKUP(A574,'1.Портфель кредитів'!A:AC,14,FALSE),\"\")","v":""},null,null,null,null,null,null,null,null,null,null,null,null,"","",null,{"$f":"IFERROR(VLOOKUP(A574,'1.Портфель кредитів'!A:AC,30,FALSE),\"\")","v":""},0,{"$error":"#VALUE!"},null,null,null,null,null,{"$f":"VLOOKUP(C574,Hidden_Словник!$A$2:C$81,3,FALSE)","v":{"$error":"#N/A"}},0,{"$f":"VLOOKUP(E574,Hidden_Словник!$W$2:$X$13,2,FALSE)","v":{"$error":"#N/A"}},0,{"$error":"#N/A"}]
[null,"",{"$f":"IFERROR(VLOOKUP(A575,'1.Портфель кредитів'!A:AC,3,FALSE),\"\")","v":""},{"$f":"IFERROR(VLOOKUP(A575,'1.Портфель кредитів'!A:AC,14,FALSE),\"\")","v":""},null,null,null,null,null,null,null,null,null,null,null,null,"","",null,{"$f":"IFERROR(VLOOKUP(A575,'1.Портфель кредитів'!A:AC,30,FALSE),\"\")","v":""},0,{"$f":"T575/U575","v":{"$error":"#VALUE!"}},null,null,null,null,null,{"$f":"VLOOKUP(C575,Hidden_Словник!$A$2:C$81,3,FALSE)","v":{"$error":"#N/A"}},0,{"$f":"VLOOKUP(E575,Hidden_Словник!$W$2:$X$13,2,FALSE)","v":{"$error":"#N/A"}},0,{"$error":"#N/A"}]
[null,"",{"$f":"IFERROR(VLOOKUP(A576,'1.Портфель кредитів'!A:AC,3,FALSE),\"\")","v":""},{"$f":"IFERROR(VLOOKUP(A576,'1.Портфель кредитів'!A:AC,14,FALSE),\"\")","v":""},null,null,null,null,null,null,null,null,null,null,null,null,"","",null,{"$f":"IFERROR(VLOOKUP(A576,'1.Портфель кредитів'!A:AC,30,FALSE),\"\")","v":""},0,{"$error":"#VALUE!"},null,null,null,null,null,{"$f":"VLOOKUP(C576,Hidden_Словник!$A$2:C$81,3,FALSE)","v":{"$error":"#N/A"}},0,{"$f":"VLOOKUP(E576,Hidden_Словник!$W$2:$X$13,2,FALSE)","v":{"$error":"#N/A"}},0,{"$error":"#N/A"}]
[null,"",{"$f":"IFERROR(VLOOKUP(A577,'1.Портфель кредитів'!A:AC,3,FALSE),\"\")","v":""},{"$f":"IFERROR(VLOOKUP(A577,'1.Портфель кредитів'!A:AC,14,FALSE),\"\")","v":""},null,null,null,null,null,null,null,null,null,null,null,null,"","",null,{"$f":"IFERROR(VLOOKUP(A577,'1.Портфель кредитів'!A:AC,30,FALSE),\"\")","v":""},0,{"$error":"#VALUE!"},null,null,null,null,null,{"$f":"VLOOKUP(C577,Hidden_Словник!$A$2:C$81,3,FALSE)","v":{"$error":"#N/A"}},0,{"$f":"VLOOKUP(E577,Hidden_Словник!$W$2:$X$13,2,FALSE)","v":{"$error":"#N/A"}},0,{"$error":"#N/A"}]
[null,"",{"$f":"IFERROR(VLOOKUP(A578,'1.Портфель кредитів'!A:AC,3,FALSE),\"\")","v":""},{"$f":"IFERROR(VLOOKUP(A578,'1.Портфель кредитів'!A:AC,14,FALSE),\"\")","v":""},null,null,null,null,null,null,null,null,null,null,null,null,"","",null,{"$f":"IFERROR(VLOOKUP(A578,'1.Портфель кредитів'!A:AC,30,FALSE),\"\")","v":""},0,{"$error":"#VALUE!"},null,null,null,null,null,{"$f":"VLOOKUP(C578,Hidden_Словник!$A$2:C$81,3,FALSE)","v":{"$error":"#N/A"}},0,{"$f":"VLOOKUP(E578,Hidden_Словник!$W$2:$X$13,2,FALSE)","v":{"$error":"#N/A"}},0,{"$error":"#N/A"}]
[null,"",{"$f":"IFERROR(VLOOKUP(A579,'1.Портфель кредитів'!A:AC,3,FALSE),\"\")","v":""},{"$f":"IFERROR(VLOOKUP(A579,'1.Портфель кредитів'!A:AC,14,FALSE),\"\")","v":""},null,null,null,null,null,null,null,null,null,null,null,null,"","",null,{"$f":"IFERROR(VLOOKUP(A579,'1.Портфель кредитів'!A:AC,30,FALSE),\"\")","v":""},0,{"$error":"#VALUE!"},null,null,null,null,null,{"$f":"VLOOKUP(C579,Hidden_Словник!$A$2:C$81,3,FALSE)","v":{"$error":"#N/A"}},0,{"$f":"VLOOKUP(E579,Hidden_Словник!$W$2:$X$13,2,FALSE)","v":{"$error":"#N/A"}},0,{"$error":"#N/A"}]
[null,"",{"$f":"IFERROR(VLOOKUP(A580,'1.Портфель кредитів'!A:AC,3,FALSE),\"\")","v":""},{"$f":"IFERROR(VLOOKUP(A580,'1.Портфель кредитів'!A:AC,14,FALSE),\"\")","v":""},null,null,null,null,null,null,null,null,null,null,null,null,"","",null,{"$f":"IFERROR(VLOOKUP(A580,'1.Портфель кредитів'!A:AC,30,FALSE),\"\")","v":""},0,{"$error":"#VALUE!"},null,null,null,null,null,{"$f":"VLOOKUP(C580,Hidden_Словник!$A$2:C$81,3,FALSE)","v":{"$error":"#N/A"}},0,{"$f":"VLOOKUP(E580,Hidden_Словник!$W$2:$X$13,2,FALSE)","v":{"$error":"#N/A"}},0,{"$error":"#N/A"}]
[null,"",{"$f":"IFERROR(VLOOKUP(A581,'1.Портфель кредитів'!A:AC,3,FALSE),\"\")","v":""},{"$f":"IFERROR(VLOOKUP(A581,'1.Портфель кредитів'!A:AC,14,FALSE),\"\")","v":""},null,null,null,null,null,null,null,null,null,null,null,null,"","",null,{"$f":"IFERROR(VLOOKUP(A581,'1.Портфель кредитів'!A:AC,30,FALSE),\"\")","v":""},0,{"$error":"#VALUE!"},null,null,null,null,null,{"$f":"VLOOKUP(C581,Hidden_Словник!$A$2:C$81,3,FALSE)","v":{"$error":"#N/A"}},0,{"$f":"VLOOKUP(E581,Hidden_Словник!$W$2:$X$13,2,FALSE)","v":{"$error":"#N/A"}},0,{"$error":"#N/A"}]
[null,"",{"$f":"IFERROR(VLOOKUP(A582,'1.Портфель кредитів'!A:AC,3,FALSE),\"\")","v":""},{"$f":"IFERROR(VLOOKUP(A582,'1.Портфель кредитів'!A:AC,14,FALSE),\"\")","v":""},null,null,null,null,null,null,null,null,null,null,null,null,"","",null,{"$f":"IFERROR(VLOOKUP(A582,'1.Портфель кредитів'!A:AC,30,FALSE),\"\")","v":""},0,{"$error":"#VALUE!"},null,null,null,null,null,{"$f":"VLOOKUP(C582,Hidden_Словник!$A$2:C$81,3,FALSE)","v":{"$error":"#N/A"}},0,{"$f":"VLOOKUP(E582,Hidden_Словник!$W$2:$X$13,2,FALSE)","v":{"$error":"#N/A"}},0,{"$error":"#N/A"}]
[null,"",{"$f":"IFERROR(VLOOKUP(A583,'1.Портфель кредитів'!A:AC,3,FALSE),\"\")","v":""},{"$f":"IFERROR(VLOOKUP(A583,'1.Портфель кредитів'!A:AC,14,FALSE),\"\")","v":""},null,null,null,null,null,null,null,null,null,null,null,null,"","",null,{"$f":"IFERROR(VLOOKUP(A583,'1.Портфель кредитів'!A:AC,30,FALSE),\"\")","v":""},0,{"$error":"#VALUE!"},null,null,null,null,null,{"$f":"VLOOKUP(C583,Hidden_Словник!$A$2:C$81,3,FALSE)","v":{"$error":"#N/A"}},0,{"$f":"VLOOKUP(E583,Hidden_Словник!$W$2:$X$13,2,FALSE)","v":{"$error":"#N/A"}},0,{"$error":"#N/A"}]
[null,"",{"$f":"IFERROR(VLOOKUP(A584,'1.Портфель кредитів'!A:AC,3,FALSE),\"\")","v":""},{"$f":"IFERROR(VLOOKUP(A584,'1.Портфель кредитів'!A:AC,14,FALSE),\"\")","v":""},null,null,null,null,null,null,null,null,null,null,null,null,"","",null,{"$f":"IFERROR(VLOOKUP(A584,'1.Портфель кредитів'!A:AC,30,FALSE),\"\")","v":""},0,{"$error":"#VALUE!"},null,null,null,null,null,{"$f":"VLOOKUP(C584,Hidden_Словник!$A$2:C$81,3,FALSE)","v":{"$error":"#N/A"}},0,{"$f":"VLOOKUP(E584,Hidden_Словник!$W$2:$X$13,2,FALSE)","v":{"$error":"#N/A"}},0,{"$error":"#N/A"}]
[null,"",{"$f":"IFERROR(VLOOKUP(A585,'1.Портфель кредитів'!A:AC,3,FALSE),\"\")","v":""},{"$f":"IFERROR(VLOOKUP(A585,'1.Портфель кредитів'!A:AC,14,FALSE),\"\")","v":""},null,null,null,null,null,null,null,null,null,null,null,null,"","",null,{"$f":"IFERROR(VLOOKUP(A585,'1.Портфель кредитів'!A:AC,30,FALSE),\"\")","v":""},0,{"$error":"#VALUE!"},null,null,null,null,null,{"$f":"VLOOKUP(C585,Hidden_Словник!$A$2:C$81,3,FALSE)","v":{"$error":"#N/A"}},0,{"$f":"VLOOKUP(E585,Hidden_Словник!$W$2:$X$13,2,FALSE)","v":{"$error":"#N/A"}},0,{"$error":"#N/A"}]
[null,"",{"$f":"IFERROR(VLOOKUP(A586,'1.Портфель кредитів'!A:AC,3,FALSE),\"\")","v":""},{"$f":"IFERROR(VLOOKUP(A586,'1.Портфель кредитів'!A:AC,14,FALSE),\"\")","v":""},null,null,null,null,null,null,null,null,null,null,null,null,"","",null,{"$f":"IFERROR(VLOOKUP(A586,'1.Портфель кредитів'!A:AC,30,FALSE),\"\")","v":""},0,{"$error":"#VALUE!"},null,null,null,null,null,{"$f":"VLOOKUP(C586,Hidden_Словник!$A$2:C$81,3,FALSE)","v":{"$error":"#N/A"}},0,{"$f":"VLOOKUP(E586,Hidden_Словник!$W$2:$X$13,2,FALSE)","v":{"$error":"#N/A"}},0,{"$error":"#N/A"}]
[null,"",{"$f":"IFERROR(VLOOKUP(A587,'1.Портфель кредитів'!A:AC,3,FALSE),\"\")","v":""},{"$f":"IFERROR(VLOOKUP(A587,'1.Портфель кредитів'!A:AC,14,FALSE),\"\")","v":""},null,null,null,null,null,null,null,null,null,null,null,null,"","",null,{"$f":"IFERROR(VLOOKUP(A587,'1.Портфель кредитів'!A:AC,30,FALSE),\"\")","v":""},0,{"$error":"#VALUE!"},null,null,null,null,null,{"$f":"VLOOKUP(C587,Hidden_Словник!$A$2:C$81,3,FALSE)","v":{"$error":"#N/A"}},0,{"$f":"VLOOKUP(E587,Hidden_Словник!$W$2:$X$13,2,FALSE)","v":{"$error":"#N/A"}},0,{"$error":"#N/A"}]
[null,"",{"$f":"IFERROR(VLOOKUP(A588,'1.Портфель кредитів'!A:AC,3,FALSE),\"\")","v":""},{"$f":"IFERROR(VLOOKUP(A588,'1.Портфель кредитів'!A:AC,14,FALSE),\"\")","v":""},null,null,null,null,null,null,null,null,null,null,null,null,"","",null,{"$f":"IFERROR(VLOOKUP(A588,'1.Портфель кредитів'!A:AC,30,FALSE),\"\")","v":""},0,{"$error":"#VALUE!"},null,null,null,null,null,{"$f":"VLOOKUP(C588,Hidden_Словник!$A$2:C$81,3,FALSE)","v":{"$error":"#N/A"}},0,{"$f":"VLOOKUP(E588,Hidden_Словник!$W$2:$X$13,2,FALSE)","v":{"$error":"#N/A"}},0,{"$error":"#N/A"}]
[null,"",{"$f":"IFERROR(VLOOKUP(A589,'1.Портфель кредитів'!A:AC,3,FALSE),\"\")","v":""},{"$f":"IFERROR(VLOOKUP(A589,'1.Портфель кредитів'!A:AC,14,FALSE),\"\")","v":""},null,null,null,null,null,null,null,null,null,null,null,null,"","",null,{"$f":"IFERROR(VLOOKUP(A589,'1.Портфель кредитів'!A:AC,30,FALSE),\"\")","v":""},0,{"$error":"#VALUE!"},null,null,null,null,null,{"$f":"VLOOKUP(C589,Hidden_Словник!$A$2:C$81,3,FALSE)","v":{"$error":"#N/A"}},0,{"$f":"VLOOKUP(E589,Hidden_Словник!$W$2:$X$13,2,FALSE)","v":{"$error":"#N/A"}},0,{"$error":"#N/A"}]
[null,"",{"$f":"IFERROR(VLOOKUP(A590,'1.Портфель кредитів'!A:AC,3,FALSE),\"\")","v":""},{"$f":"IFERROR(VLOOKUP(A590,'1.Портфель кредитів'!A:AC,14,FALSE),\"\")","v":""},null,null,null,null,null,null,null,null,null,null,null,null,"","",null,{"$f":"IFERROR(VLOOKUP(A590,'1.Портфель кредитів'!A:AC,30,FALSE),\"\")","v":""},0,{"$error":"#VALUE!"},null,null,null,null,null,{"$f":"VLOOKUP(C590,Hidden_Словник!$A$2:C$81,3,FALSE)","v":{"$error":"#N/A"}},0,{"$f":"VLOOKUP(E590,Hidden_Словник!$W$2:$X$13,2,FALSE)","v":{"$error":"#N/A"}},0,{"$error":"#N/A"}]
[null,"",{"$f":"IFERROR(VLOOKUP(A591,'1.Портфель кредитів'!A:AC,3,FALSE),\"\")","v":""},{"$f":"IFERROR(VLOOKUP(A591,'1.Портфель кредитів'!A:AC,14,FALSE),\"\")","v":""},null,null,null,null,null,null,null,null,null,null,null,null,"","",null,{"$f":"IFERROR(VLOOKUP(A591,'1.Портфель кредитів'!A:AC,30,FALSE),\"\")","v":""},0,{"$error":"#VALUE!"},null,null,null,null,null,{"$f":"VLOOKUP(C591,Hidden_Словник!$A$2:C$81,3,FALSE)","v":{"$error":"#N/A"}},0,{"$f":"VLOOKUP(E591,Hidden_Словник!$W$2:$X$13,2,FALSE)","v":{"$error":"#N/A"}},0,{"$error":"#N/A"}]
[null,"",{"$f":"IFERROR(VLOOKUP(A592,'1.Портфель кредитів'!A:AC,3,FALSE),\"\")","v":""},{"$f":"IFERROR(VLOOKUP(A592,'1.Портфель кредитів'!A:AC,14,FALSE),\"\")","v":""},null,null,null,null,null,null,null,null,null,null,null,null,"","",null,{"$f":"IFERROR(VLOOKUP(A592,'1.Портфель кредитів'!A:AC,30,FALSE),\"\")","v":""},0,{"$error":"#VALUE!"},null,null,null,null,null,{"$f":"VLOOKUP(C592,Hidden_Словник!$A$2:C$81,3,FALSE)","v":{"$error":"#N/A"}},0,{"$f":"VLOOKUP(E592,Hidden_Словник!$W$2:$X$13,2,FALSE)","v":{"$error":"#N/A"}},0,{"$error":"#N/A"}]
[null,"",{"$f":"IFERROR(VLOOKUP(A593,'1.Портфель кредитів'!A:AC,3,FALSE),\"\")","v":""},{"$f":"IFERROR(VLOOKUP(A593,'1.Портфель кредитів'!A:AC,14,FALSE),\"\")","v":""},null,null,null,null,null,null,null,null,null,null,null,null,"","",null,{"$f":"IFERROR(VLOOKUP(A593,'1.Портфель кредитів'!A:AC,30,FALSE),\"\")","v":""},0,{"$error":"#VALUE!"},null,null,null,null,null,{"$f":"VLOOKUP(C593,Hidden_Словник!$A$2:C$81,3,FALSE)","v":{"$error":"#N/A"}},0,{"$f":"VLOOKUP(E593,Hidden_Словник!$W$2:$X$13,2,FALSE)","v":{"$error":"#N/A"}},0,{"$error":"#N/A"}]
[null,"",{"$f":"IFERROR(VLOOKUP(A594,'1.Портфель кредитів'!A:AC,3,FALSE),\"\")","v":""},{"$f":"IFERROR(VLOOKUP(A594,'1.Портфель кредитів'!A:AC,14,FALSE),\"\")","v":""},null,null,null,null,null,null,null,null,null,null,null,null,"","",null,{"$f":"IFERROR(VLOOKUP(A594,'1.Портфель кредитів'!A:AC,30,FALSE),\"\")","v":""},0,{"$error":"#VALUE!"},null,null,null,null,null,{"$f":"VLOOKUP(C594,Hidden_Словник!$A$2:C$81,3,FALSE)","v":{"$error":"#N/A"}},0,{"$f":"VLOOKUP(E594,Hidden_Словник!$W$2:$X$13,2,FALSE)","v":{"$error":"#N/A"}},0,{"$error":"#N/A"}]
[null,"",{"$f":"IFERROR(VLOOKUP(A595,'1.Портфель кредитів'!A:AC,3,FALSE),\"\")","v":""},{"$f":"IFERROR(VLOOKUP(A595,'1.Портфель кредитів'!A:AC,14,FALSE),\"\")","v":""},null,null,null,null,null,null,null,null,null,null,null,null,"","",null,{"$f":"IFERROR(VLOOKUP(A595,'1.Портфель кредитів'!A:AC,30,FALSE),\"\")","v":""},0,{"$error":"#VALUE!"},null,null,null,null,null,{"$f":"VLOOKUP(C595,Hidden_Словник!$A$2:C$81,3,FALSE)","v":{"$error":"#N/A"}},0,{"$f":"VLOOKUP(E595,Hidden_Словник!$W$2:$X$13,2,FALSE)","v":{"$error":"#N/A"}},0,{"$error":"#N/A"}]
[null,"",{"$f":"IFERROR(VLOOKUP(A596,'1.Портфель кредитів'!A:AC,3,FALSE),\"\")","v":""},{"$f":"IFERROR(VLOOKUP(A596,'1.Портфель кредитів'!A:AC,14,FALSE),\"\")","v":""},null,null,null,null,null,null,null,null,null,null,null,null,"","",null,{"$f":"IFERROR(VLOOKUP(A596,'1.Портфель кредитів'!A:AC,30,FALSE),\"\")","v":""},0,{"$error":"#VALUE!"},null,null,null,null,null,{"$f":"VLOOKUP(C596,Hidden_Словник!$A$2:C$81,3,FALSE)","v":{"$error":"#N/A"}},0,{"$f":"VLOOKUP(E596,Hidden_Словник!$W$2:$X$13,2,FALSE)","v":{"$error":"#N/A"}},0,{"$error":"#N/A"}]
[null,"",{"$f":"IFERROR(VLOOKUP(A597,'1.Портфель кредитів'!A:AC,3,FALSE),\"\")","v":""},{"$f":"IFERROR(VLOOKUP(A597,'1.Портфель кредитів'!A:AC,14,FALSE),\"\")","v":""},null,null,null,null,null,null,null,null,null,null,null,null,"","",null,{"$f":"IFERROR(VLOOKUP(A597,'1.Портфель кредитів'!A:AC,30,FALSE),\"\")","v":""},0,{"$error":"#VALUE!"},null,null,null,null,null,{"$f":"VLOOKUP(C597,Hidden_Словник!$A$2:C$81,3,FALSE)","v":{"$error":"#N/A"}},0,{"$f":"VLOOKUP(E597,Hidden_Словник!$W$2:$X$13,2,FALSE)","v":{"$error":"#N/A"}},0,{"$error":"#N/A"}]
[null,"",{"$f":"IFERROR(VLOOKUP(A598,'1.Портфель кредитів'!A:AC,3,FALSE),\"\")","v":""},{"$f":"IFERROR(VLOOKUP(A598,'1.Портфель кредитів'!A:AC,14,FALSE),\"\")","v":""},null,null,null,null,null,null,null,null,null,null,null,null,"",{"$f":"IFERROR(V598*L598,\"\")","v":""},null,{"$f":"IFERROR(VLOOKUP(A598,'1.Портфель кредитів'!A:AC,30,FALSE),\"\")","v":""},0,{"$error":"#VALUE!"},null,null,null,null,null,{"$f":"VLOOKUP(C598,Hidden_Словник!$A$2:C$81,3,FALSE)","v":{"$error":"#N/A"}},{"$f":"ROUNDUP(L598,0)","v":0},{"$f":"VLOOKUP(E598,Hidden_Словник!$W$2:$X$13,2,FALSE)","v":{"$error":"#N/A"}},{"$f":"O598","v":0},{"$error":"#N/A"}]
[null,{"$f":"IFERROR(AF599,\"\")","v":""},{"$f":"IFERROR(VLOOKUP(A599,'1.Портфель кредитів'!A:AC,3,FALSE),\"\")","v":""},{"$f":"IFERROR(VLOOKUP(A599,'1.Портфель кредитів'!A:AC,14,FALSE),\"\")","v":""},null,null,null,null,null,null,null,null,null,null,null,null,"","",null,{"$f":"IFERROR(VLOOKUP(A599,'1.Портфель кредитів'!A:AC,30,FALSE),\"\")","v":""},0,{"$error":"#VALUE!"},null,null,null,null,null,{"$f":"VLOOKUP(C599,Hidden_Словник!$A$2:C$81,3,FALSE)","v":{"$error":"#N/A"}},0,{"$f":"VLOOKUP(E599,Hidden_Словник!$W$2:$X$13,2,FALSE)","v":{"$error":"#N/A"}},0,{"$f":"AB599&\"_\"&AC599&AD599&AE599","v":{"$error":"#N/A"}}]
[null,"",{"$f":"IFERROR(VLOOKUP(A600,'1.Портфель кредитів'!A:AC,3,FALSE),\"\")","v":""},{"$f":"IFERROR(VLOOKUP(A600,'1.Портфель кредитів'!A:AC,14,FALSE),\"\")","v":""},null,null,null,null,null,null,null,null,null,null,null,null,"","",null,{"$f":"IFERROR(VLOOKUP(A600,'1.Портфель кредитів'!A:AC,30,FALSE),\"\")","v":""},0,{"$error":"#VALUE!"},null,null,null,null,null,{"$f":"VLOOKUP(C600,Hidden_Словник!$A$2:C$81,3,FALSE)","v":{"$error":"#N/A"}},0,{"$f":"VLOOKUP(E600,Hidden_Словник!$W$2:$X$13,2,FALSE)","v":{"$error":"#N/A"}},0,{"$error":"#N/A"}]
[null,"",{"$f":"IFERROR(VLOOKUP(A601,'1.Портфель кредитів'!A:AC,3,FALSE),\"\")","v":""},{"$f":"IFERROR(VLOOKUP(A601,'1.Портфель кредитів'!A:AC,14,FALSE),\"\")","v":""},null,null,null,null,null,null,null,null,null,null,null,null,"","",null,{"$f":"IFERROR(VLOOKUP(A601,'1.Портфель кредитів'!A:AC,30,FALSE),\"\")","v":""},0,{"$error":"#VALUE!"},null,null,null,null,null,{"$f":"VLOOKUP(C601,Hidden_Словник!$A$2:C$81,3,FALSE)","v":{"$error":"#N/A"}},0,{"$f":"VLOOKUP(E601,Hidden_Словник!$W$2:$X$13,2,FALSE)","v":{"$error":"#N/A"}},0,{"$error":"#N/A"}]
[null,"",{"$f":"IFERROR(VLOOKUP(A602,'1.Портфель кредитів'!A:AC,3,FALSE),\"\")","v":""},{"$f":"IFERROR(VLOOKUP(A602,'1.Портфель кредитів'!A:AC,14,FALSE),\"\")","v":""},null,null,null,null,null,null,null,null,null,null,null,null,{"$f":"IF(O602=\"\",\"\",IF(COUNTIF(AF:AF,AF602)>1,\"так\",\"ні\"))","v":""},"",null,{"$f":"IFERROR(VLOOKUP(A602,'1.Портфель кредитів'!A:AC,30,FALSE),\"\")","v":""},{"$f":"SUMIF(B:B,B602,T:T)","v":0},{"$error":"#VALUE!"},null,null,null,null,null,{"$f":"VLOOKUP(C602,Hidden_Словник!$A$2:C$81,3,FALSE)","v":{"$error":"#N/A"}},0,{"$f":"VLOOKUP(E602,Hidden_Словник!$W$2:$X$13,2,FALSE)","v":{"$error":"#N/A"}},0,{"$error":"#N/A"}]
[null,"",{"$f":"IFERROR(VLOOKUP(A603,'1.Портфель кредитів'!A:AC,3,FALSE),\"\")","v":""},{"$f":"IFERROR(VLOOKUP(A603,'1.Портфель кредитів'!A:AC,14,FALSE),\"\")","v":""},null,null,null,null,null,null,null,null,null,null,null,null,"","",null,{"$f":"IFERROR(VLOOKUP(A603,'1.Портфель кредитів'!A:AC,30,FALSE),\"\")","v":""},0,{"$error":"#VALUE!"},null,null,null,null,null,{"$f":"VLOOKUP(C603,Hidden_Словник!$A$2:C$81,3,FALSE)","v":{"$error":"#N/A"}},0,{"$f":"VLOOKUP(E603,Hidden_Словник!$W$2:$X$13,2,FALSE)","v":{"$error":"#N/A"}},0,{"$error":"#N/A"}]
[null,"",{"$f":"IFERROR(VLOOKUP(A604,'1.Портфель кредитів'!A:AC,3,FALSE),\"\")","v":""},{"$f":"IFERROR(VLOOKUP(A604,'1.Портфель кредитів'!A:AC,14,FALSE),\"\")","v":""},null,null,null,null,null,null,null,null,null,null,null,null,"","",null,{"$f":"IFERROR(VLOOKUP(A604,'1.Портфель кредитів'!A:AC,30,FALSE),\"\")","v":""},0,{"$error":"#VALUE!"},null,null,null,null,null,{"$f":"VLOOKUP(C604,Hidden_Словник!$A$2:C$81,3,FALSE)","v":{"$error":"#N/A"}},0,{"$f":"VLOOKUP(E604,Hidden_Словник!$W$2:$X$13,2,FALSE)","v":{"$error":"#N/A"}},0,{"$error":"#N/A"}]
[null,"",{"$f":"IFERROR(VLOOKUP(A605,'1.Портфель кредитів'!A:AC,3,FALSE),\"\")","v":""},{"$f":"IFERROR(VLOOKUP(A605,'1.Портфель кредитів'!A:AC,14,FALSE),\"\")","v":""},null,null,null,null,null,null,null,null,null,null,null,null,"","",null,{"$f":"IFERROR(VLOOKUP(A605,'1.Портфель кредитів'!A:AC,30,FALSE),\"\")","v":""},0,{"$error":"#VALUE!"},null,null,null,null,null,{"$f":"VLOOKUP(C605,Hidden_Словник!$A$2:C$81,3,FALSE)","v":{"$error":"#N/A"}},0,{"$f":"VLOOKUP(E605,Hidden_Словник!$W$2:$X$13,2,FALSE)","v":{"$error":"#N/A"}},0,{"$error":"#N/A"}]
[null,"",{"$f":"IFERROR(VLOOKUP(A606,'1.Портфель кредитів'!A:AC,3,FALSE),\"\")","v":""},{"$f":"IFERROR(VLOOKUP(A606,'1.Портфель кредитів'!A:AC,14,FALSE),\"\")","v":""},null,null,null,null,null,null,null,null,null,null,null,null,"","",null,{"$f":"IFERROR(VLOOKUP(A606,'1.Портфель кредитів'!A:AC,30,FALSE),\"\")","v":""},0,{"$error":"#VALUE!"},null,null,null,null,null,{"$f":"VLOOKUP(C606,Hidden_Словник!$A$2:C$81,3,FALSE)","v":{"$error":"#N/A"}},0,{"$f":"VLOOKUP(E606,Hidden_Словник!$W$2:$X$13,2,FALSE)","v":{"$error":"#N/A"}},0,{"$error":"#N/A"}]
[null,"",{"$f":"IFERROR(VLOOKUP(A607,'1.Портфель кредитів'!A:AC,3,FALSE),\"\")","v":""},{"$f":"IFERROR(VLOOKUP(A607,'1.Портфель кредитів'!A:AC,14,FALSE),\"\")","v":""},null,null,null,null,null,null,null,null,null,null,null,null,"","",null,{"$f":"IFERROR(VLOOKUP(A607,'1.Портфель кредитів'!A:AC,30,FALSE),\"\")","v":""},0,{"$error":"#VALUE!"},null,null,null,null,null,{"$f":"VLOOKUP(C607,Hidden_Словник!$A$2:C$81,3,FALSE)","v":{"$error":"#N/A"}},0,{"$f":"VLOOKUP(E607,Hidden_Словник!$W$2:$X$13,2,FALSE)","v":{"$error":"#N/A"}},0,{"$error":"#N/A"}]
[null,"",{"$f":"IFERROR(VLOOKUP(A608,'1.Портфель кредитів'!A:AC,3,FALSE),\"\")","v":""},{"$f":"IFERROR(VLOOKUP(A608,'1.Портфель кредитів'!A:AC,14,FALSE),\"\")","v":""},null,null,null,null,null,null,null,null,null,null,null,null,"","",null,{"$f":"IFERROR(VLOOKUP(A608,'1.Портфель кредитів'!A:AC,30,FALSE),\"\")","v":""},0,{"$error":"#VALUE!"},null,null,null,null,null,{"$f":"VLOOKUP(C608,Hidden_Словник!$A$2:C$81,3,FALSE)","v":{"$error":"#N/A"}},0,{"$f":"VLOOKUP(E608,Hidden_Словник!$W$2:$X$13,2,FALSE)","v":{"$error":"#N/A"}},0,{"$error":"#N/A"}]
[null,"",{"$f":"IFERROR(VLOOKUP(A609,'1.Портфель кредитів'!A:AC,3,FALSE),\"\")","v":""},{"$f":"IFERROR(VLOOKUP(A609,'1.Портфель кредитів'!A:AC,14,FALSE),\"\")","v":""},null,null,null,null,null,null,null,null,null,null,null,null,"","",null,{"$f":"IFERROR(VLOOKUP(A609,'1.Портфель кредитів'!A:AC,30,FALSE),\"\")","v":""},0,{"$error":"#VALUE!"},null,null,null,null,null,{"$f":"VLOOKUP(C609,Hidden_Словник!$A$2:C$81,3,FALSE)","v":{"$error":"#N/A"}},0,{"$f":"VLOOKUP(E609,Hidden_Словник!$W$2:$X$13,2,FALSE)","v":{"$error":"#N/A"}},0,{"$error":"#N/A"}]
[null,"",{"$f":"IFERROR(VLOOKUP(A610,'1.Портфель кредитів'!A:AC,3,FALSE),\"\")","v":""},{"$f":"IFERROR(VLOOKUP(A610,'1.Портфель кредитів'!A:AC,14,FALSE),\"\")","v":""},null,null,null,null,null,null,null,null,null,null,null,null,"","",null,{"$f":"IFERROR(VLOOKUP(A610,'1.Портфель кредитів'!A:AC,30,FALSE),\"\")","v":""},0,{"$error":"#VALUE!"},null,null,null,null,null,{"$f":"VLOOKUP(C610,Hidden_Словник!$A$2:C$81,3,FALSE)","v":{"$error":"#N/A"}},0,{"$f":"VLOOKUP(E610,Hidden_Словник!$W$2:$X$13,2,FALSE)","v":{"$error":"#N/A"}},0,{"$error":"#N/A"}]
[null,"",{"$f":"IFERROR(VLOOKUP(A611,'1.Портфель кредитів'!A:AC,3,FALSE),\"\")","v":""},{"$f":"IFERROR(VLOOKUP(A611,'1.Портфель кредитів'!A:AC,14,FALSE),\"\")","v":""},null,null,null,null,null,null,null,null,null,null,null,null,"","",null,{"$f":"IFERROR(VLOOKUP(A611,'1.Портфель кредитів'!A:AC,30,FALSE),\"\")","v":""},0,{"$error":"#VALUE!"},null,null,null,null,null,{"$f":"VLOOKUP(C611,Hidden_Словник!$A$2:C$81,3,FALSE)","v":{"$error":"#N/A"}},0,{"$f":"VLOOKUP(E611,Hidden_Словник!$W$2:$X$13,2,FALSE)","v":{"$error":"#N/A"}},0,{"$error":"#N/A"}]
[null,"",{"$f":"IFERROR(VLOOKUP(A612,'1.Портфель кредитів'!A:AC,3,FALSE),\"\")","v":""},{"$f":"IFERROR(VLOOKUP(A612,'1.Портфель кредитів'!A:AC,14,FALSE),\"\")","v":""},null,null,null,null,null,null,null,null,null,null,null,null,"","",null,{"$f":"IFERROR(VLOOKUP(A612,'1.Портфель кредитів'!A:AC,30,FALSE),\"\")","v":""},0,{"$error":"#VALUE!"},null,null,null,null,null,{"$f":"VLOOKUP(C612,Hidden_Словник!$A$2:C$81,3,FALSE)","v":{"$error":"#N/A"}},0,{"$f":"VLOOKUP(E612,Hidden_Словник!$W$2:$X$13,2,FALSE)","v":{"$error":"#N/A"}},0,{"$error":"#N/A"}]
[null,"",{"$f":"IFERROR(VLOOKUP(A613,'1.Портфель кредитів'!A:AC,3,FALSE),\"\")","v":""},{"$f":"IFERROR(VLOOKUP(A613,'1.Портфель кредитів'!A:AC,14,FALSE),\"\")","v":""},null,null,null,null,null,null,null,null,null,null,null,null,"","",null,{"$f":"IFERROR(VLOOKUP(A613,'1.Портфель кредитів'!A:AC,30,FALSE),\"\")","v":""},0,{"$error":"#VALUE!"},null,null,null,null,null,{"$f":"VLOOKUP(C613,Hidden_Словник!$A$2:C$81,3,FALSE)","v":{"$error":"#N/A"}},0,{"$f":"VLOOKUP(E613,Hidden_Словник!$W$2:$X$13,2,FALSE)","v":{"$error":"#N/A"}},0,{"$error":"#N/A"}]
[null,"",{"$f":"IFERROR(VLOOKUP(A614,'1.Портфель кредитів'!A:AC,3,FALSE),\"\")","v":""},{"$f":"IFERROR(VLOOKUP(A614,'1.Портфель кредитів'!A:AC,14,FALSE),\"\")","v":""},null,null,null,null,null,null,null,null,null,null,null,null,"","",null,{"$f":"IFERROR(VLOOKUP(A614,'1.Портфель кредитів'!A:AC,30,FALSE),\"\")","v":""},0,{"$error":"#VALUE!"},null,null,null,null,null,{"$f":"VLOOKUP(C614,Hidden_Словник!$A$2:C$81,3,FALSE)","v":{"$error":"#N/A"}},0,{"$f":"VLOOKUP(E614,Hidden_Словник!$W$2:$X$13,2,FALSE)","v":{"$error":"#N/A"}},0,{"$error":"#N/A"}]
[null,"",{"$f":"IFERROR(VLOOKUP(A615,'1.Портфель кредитів'!A:AC,3,FALSE),\"\")","v":""},{"$f":"IFERROR(VLOOKUP(A615,'1.Портфель кредитів'!A:AC,14,FALSE),\"\")","v":""},null,null,null,null,null,null,null,null,null,null,null,null,"","",null,{"$f":"IFERROR(VLOOKUP(A615,'1.Портфель кредитів'!A:AC,30,FALSE),\"\")","v":""},0,{"$error":"#VALUE!"},null,null,null,null,null,{"$f":"VLOOKUP(C615,Hidden_Словник!$A$2:C$81,3,FALSE)","v":{"$error":"#N/A"}},0,{"$f":"VLOOKUP(E615,Hidden_Словник!$W$2:$X$13,2,FALSE)","v":{"$error":"#N/A"}},0,{"$error":"#N/A"}]
[null,"",{"$f":"IFERROR(VLOOKUP(A616,'1.Портфель кредитів'!A:AC,3,FALSE),\"\")","v":""},{"$f":"IFERROR(VLOOKUP(A616,'1.Портфель кредитів'!A:AC,14,FALSE),\"\")","v":""},null,null,null,null,null,null,null,null,null,null,null,null,"","",null,{"$f":"IFERROR(VLOOKUP(A616,'1.Портфель кредитів'!A:AC,30,FALSE),\"\")","v":""},0,{"$error":"#VALUE!"},null,null,null,null,null,{"$f":"VLOOKUP(C616,Hidden_Словник!$A$2:C$81,3,FALSE)","v":{"$error":"#N/A"}},0,{"$f":"VLOOKUP(E616,Hidden_Словник!$W$2:$X$13,2,FALSE)","v":{"$error":"#N/A"}},0,{"$error":"#N/A"}]
[null,"",{"$f":"IFERROR(VLOOKUP(A617,'1.Портфель кредитів'!A:AC,3,FALSE),\"\")","v":""},{"$f":"IFERROR(VLOOKUP(A617,'1.Портфель кредитів'!A:AC,14,FALSE),\"\")","v":""},null,null,null,null,null,null,null,null,null,null,null,null,"","",null,{"$f":"IFERROR(VLOOKUP(A617,'1.Портфель кредитів'!A:AC,30,FALSE),\"\")","v":""},0,{"$error":"#VALUE!"},null,null,null,null,null,{"$f":"VLOOKUP(C617,Hidden_Словник!$A$2:C$81,3,FALSE)","v":{"$error":"#N/A"}},0,{"$f":"VLOOKUP(E617,Hidden_Словник!$W$2:$X$13,2,FALSE)","v":{"$error":"#N/A"}},0,{"$error":"#N/A"}]
[null,"",{"$f":"IFERROR(VLOOKUP(A618,'1.Портфель кредитів'!A:AC,3,FALSE),\"\")","v":""},{"$f":"IFERROR(VLOOKUP(A618,'1.Портфель кредитів'!A:AC,14,FALSE),\"\")","v":""},null,null,null,null,null,null,null,null,null,null,null,null,"","",null,{"$f":"IFERROR(VLOOKUP(A618,'1.Портфель кредитів'!A:AC,30,FALSE),\"\")","v":""},0,{"$error":"#VALUE!"},null,null,null,null,null,{"$f":"VLOOKUP(C618,Hidden_Словник!$A$2:C$81,3,FALSE)","v":{"$error":"#N/A"}},0,{"$f":"VLOOKUP(E618,Hidden_Словник!$W$2:$X$13,2,FALSE)","v":{"$error":"#N/A"}},0,{"$error":"#N/A"}]
[null,"",{"$f":"IFERROR(VLOOKUP(A619,'1.Портфель кредитів'!A:AC,3,FALSE),\"\")","v":""},{"$f":"IFERROR(VLOOKUP(A619,'1.Портфель кредитів'!A:AC,14,FALSE),\"\")","v":""},null,null,null,null,null,null,null,null,null,null,null,null,"","",null,{"$f":"IFERROR(VLOOKUP(A619,'1.Портфель кредитів'!A:AC,30,FALSE),\"\")","v":""},0,{"$error":"#VALUE!"},null,null,null,null,null,{"$f":"VLOOKUP(C619,Hidden_Словник!$A$2:C$81,3,FALSE)","v":{"$error":"#N/A"}},0,{"$f":"VLOOKUP(E619,Hidden_Словник!$W$2:$X$13,2,FALSE)","v":{"$error":"#N/A"}},0,{"$error":"#N/A"}]
[null,"",{"$f":"IFERROR(VLOOKUP(A620,'1.Портфель кредитів'!A:AC,3,FALSE),\"\")","v":""},{"$f":"IFERROR(VLOOKUP(A620,'1.Портфель кредитів'!A:AC,14,FALSE),\"\")","v":""},null,null,null,null,null,null,null,null,null,null,null,null,"","",null,{"$f":"IFERROR(VLOOKUP(A620,'1.Портфель кредитів'!A:AC,30,FALSE),\"\")","v":""},0,{"$error":"#VALUE!"},null,null,null,null,null,{"$f":"VLOOKUP(C620,Hidden_Словник!$A$2:C$81,3,FALSE)","v":{"$error":"#N/A"}},0,{"$f":"VLOOKUP(E620,Hidden_Словник!$W$2:$X$13,2,FALSE)","v":{"$error":"#N/A"}},0,{"$error":"#N/A"}]
[null,"",{"$f":"IFERROR(VLOOKUP(A621,'1.Портфель кредитів'!A:AC,3,FALSE),\"\")","v":""},{"$f":"IFERROR(VLOOKUP(A621,'1.Портфель кредитів'!A:AC,14,FALSE),\"\")","v":""},null,null,null,null,null,null,null,null,null,null,null,null,"","",null,{"$f":"IFERROR(VLOOKUP(A621,'1.Портфель кредитів'!A:AC,30,FALSE),\"\")","v":""},0,{"$error":"#VALUE!"},null,null,null,null,null,{"$f":"VLOOKUP(C621,Hidden_Словник!$A$2:C$81,3,FALSE)","v":{"$error":"#N/A"}},0,{"$f":"VLOOKUP(E621,Hidden_Словник!$W$2:$X$13,2,FALSE)","v":{"$error":"#N/A"}},0,{"$error":"#N/A"}]
[null,"",{"$f":"IFERROR(VLOOKUP(A622,'1.Портфель кредитів'!A:AC,3,FALSE),\"\")","v":""},{"$f":"IFERROR(VLOOKUP(A622,'1.Портфель кредитів'!A:AC,14,FALSE),\"\")","v":""},null,null,null,null,null,null,null,null,null,null,null,null,"","",null,{"$f":"IFERROR(VLOOKUP(A622,'1.Портфель кредитів'!A:AC,30,FALSE),\"\")","v":""},0,{"$error":"#VALUE!"},null,null,null,null,null,{"$f":"VLOOKUP(C622,Hidden_Словник!$A$2:C$81,3,FALSE)","v":{"$error":"#N/A"}},0,{"$f":"VLOOKUP(E622,Hidden_Словник!$W$2:$X$13,2,FALSE)","v":{"$error":"#N/A"}},0,{"$error":"#N/A"}]
[null,"",{"$f":"IFERROR(VLOOKUP(A623,'1.Портфель кредитів'!A:AC,3,FALSE),\"\")","v":""},{"$f":"IFERROR(VLOOKUP(A623,'1.Портфель кредитів'!A:AC,14,FALSE),\"\")","v":""},null,null,null,null,null,null,null,null,null,null,null,null,"","",null,{"$f":"IFERROR(VLOOKUP(A623,'1.Портфель кредитів'!A:AC,30,FALSE),\"\")","v":""},0,{"$error":"#VALUE!"},null,null,null,null,null,{"$f":"VLOOKUP(C623,Hidden_Словник!$A$2:C$81,3,FALSE)","v":{"$error":"#N/A"}},0,{"$f":"VLOOKUP(E623,Hidden_Словник!$W$2:$X$13,2,FALSE)","v":{"$error":"#N/A"}},0,{"$error":"#N/A"}]
[null,"",{"$f":"IFERROR(VLOOKUP(A624,'1.Портфель кредитів'!A:AC,3,FALSE),\"\")","v":""},{"$f":"IFERROR(VLOOKUP(A624,'1.Портфель кредитів'!A:AC,14,FALSE),\"\")","v":""},null,null,null,null,null,null,null,null,null,null,null,null,"","",null,{"$f":"IFERROR(VLOOKUP(A624,'1.Портфель кредитів'!A:AC,30,FALSE),\"\")","v":""},0,{"$error":"#VALUE!"},null,null,null,null,null,{"$f":"VLOOKUP(C624,Hidden_Словник!$A$2:C$81,3,FALSE)","v":{"$error":"#N/A"}},0,{"$f":"VLOOKUP(E624,Hidden_Словник!$W$2:$X$13,2,FALSE)","v":{"$error":"#N/A"}},0,{"$error":"#N/A"}]
[null,"",{"$f":"IFERROR(VLOOKUP(A625,'1.Портфель кредитів'!A:AC,3,FALSE),\"\")","v":""},{"$f":"IFERROR(VLOOKUP(A625,'1.Портфель кредитів'!A:AC,14,FALSE),\"\")","v":""},null,null,null,null,null,null,null,null,null,null,null,null,"","",null,{"$f":"IFERROR(VLOOKUP(A625,'1.Портфель кредитів'!A:AC,30,FALSE),\"\")","v":""},0,{"$error":"#VALUE!"},null,null,null,null,null,{"$f":"VLOOKUP(C625,Hidden_Словник!$A$2:C$81,3,FALSE)","v":{"$error":"#N/A"}},0,{"$f":"VLOOKUP(E625,Hidden_Словник!$W$2:$X$13,2,FALSE)","v":{"$error":"#N/A"}},0,{"$error":"#N/A"}]
[null,"",{"$f":"IFERROR(VLOOKUP(A626,'1.Портфель кредитів'!A:AC,3,FALSE),\"\")","v":""},{"$f":"IFERROR(VLOOKUP(A626,'1.Портфель кредитів'!A:AC,14,FALSE),\"\")","v":""},null,null,null,null,null,null,null,null,null,null,null,null,"","",null,{"$f":"IFERROR(VLOOKUP(A626,'1.Портфель кредитів'!A:AC,30,FALSE),\"\")","v":""},0,{"$error":"#VALUE!"},null,null,null,null,null,{"$f":"VLOOKUP(C626,Hidden_Словник!$A$2:C$81,3,FALSE)","v":{"$error":"#N/A"}},0,{"$f":"VLOOKUP(E626,Hidden_Словник!$W$2:$X$13,2,FALSE)","v":{"$error":"#N/A"}},0,{"$error":"#N/A"}]
[null,"",{"$f":"IFERROR(VLOOKUP(A627,'1.Портфель кредитів'!A:AC,3,FALSE),\"\")","v":""},{"$f":"IFERROR(VLOOKUP(A627,'1.Портфель кредитів'!A:AC,14,FALSE),\"\")","v":""},null,null,null,null,null,null,null,null,null,null,null,null,"","",null,{"$f":"IFERROR(VLOOKUP(A627,'1.Портфель кредитів'!A:AC,30,FALSE),\"\")","v":""},0,{"$error":"#VALUE!"},null,null,null,null,null,{"$f":"VLOOKUP(C627,Hidden_Словник!$A$2:C$81,3,FALSE)","v":{"$error":"#N/A"}},0,{"$f":"VLOOKUP(E627,Hidden_Словник!$W$2:$X$13,2,FALSE)","v":{"$error":"#N/A"}},0,{"$error":"#N/A"}]
[null,"",{"$f":"IFERROR(VLOOKUP(A628,'1.Портфель кредитів'!A:AC,3,FALSE),\"\")","v":""},{"$f":"IFERROR(VLOOKUP(A628,'1.Портфель кредитів'!A:AC,14,FALSE),\"\")","v":""},null,null,null,null,null,null,null,null,null,null,null,null,"","",null,{"$f":"IFERROR(VLOOKUP(A628,'1.Портфель кредитів'!A:AC,30,FALSE),\"\")","v":""},0,{"$error":"#VALUE!"},null,null,null,null,null,{"$f":"VLOOKUP(C628,Hidden_Словник!$A$2:C$81,3,FALSE)","v":{"$error":"#N/A"}},0,{"$f":"VLOOKUP(E628,Hidden_Словник!$W$2:$X$13,2,FALSE)","v":{"$error":"#N/A"}},0,{"$error":"#N/A"}]
[null,"",{"$f":"IFERROR(VLOOKUP(A629,'1.Портфель кредитів'!A:AC,3,FALSE),\"\")","v":""},{"$f":"IFERROR(VLOOKUP(A629,'1.Портфель кредитів'!A:AC,14,FALSE),\"\")","v":""},null,null,null,null,null,null,null,null,null,null,null,null,"","",null,{"$f":"IFERROR(VLOOKUP(A629,'1.Портфель кредитів'!A:AC,30,FALSE),\"\")","v":""},0,{"$error":"#VALUE!"},null,null,null,null,null,{"$f":"VLOOKUP(C629,Hidden_Словник!$A$2:C$81,3,FALSE)","v":{"$error":"#N/A"}},0,{"$f":"VLOOKUP(E629,Hidden_Словник!$W$2:$X$13,2,FALSE)","v":{"$error":"#N/A"}},0,{"$error":"#N/A"}]
[null,"",{"$f":"IFERROR(VLOOKUP(A630,'1.Портфель кредитів'!A:AC,3,FALSE),\"\")","v":""},{"$f":"IFERROR(VLOOKUP(A630,'1.Портфель кредитів'!A:AC,14,FALSE),\"\")","v":""},null,null,null,null,null,null,null,null,null,null,null,null,"","",null,{"$f":"IFERROR(VLOOKUP(A630,'1.Портфель кредитів'!A:AC,30,FALSE),\"\")","v":""},0,{"$error":"#VALUE!"},null,null,null,null,null,{"$f":"VLOOKUP(C630,Hidden_Словник!$A$2:C$81,3,FALSE)","v":{"$error":"#N/A"}},0,{"$f":"VLOOKUP(E630,Hidden_Словник!$W$2:$X$13,2,FALSE)","v":{"$error":"#N/A"}},0,{"$error":"#N/A"}]
[null,"",{"$f":"IFERROR(VLOOKUP(A631,'1.Портфель кредитів'!A:AC,3,FALSE),\"\")","v":""},{"$f":"IFERROR(VLOOKUP(A631,'1.Портфель кредитів'!A:AC,14,FALSE),\"\")","v":""},null,null,null,null,null,null,null,null,null,null,null,null,"","",null,{"$f":"IFERROR(VLOOKUP(A631,'1.Портфель кредитів'!A:AC,30,FALSE),\"\")","v":""},0,{"$error":"#VALUE!"},null,null,null,null,null,{"$f":"VLOOKUP(C631,Hidden_Словник!$A$2:C$81,3,FALSE)","v":{"$error":"#N/A"}},0,{"$f":"VLOOKUP(E631,Hidden_Словник!$W$2:$X$13,2,FALSE)","v":{"$error":"#N/A"}},0,{"$error":"#N/A"}]
[null,"",{"$f":"IFERROR(VLOOKUP(A632,'1.Портфель кредитів'!A:AC,3,FALSE),\"\")","v":""},{"$f":"IFERROR(VLOOKUP(A632,'1.Портфель кредитів'!A:AC,14,FALSE),\"\")","v":""},null,null,null,null,null,null,null,null,null,null,null,null,"","",null,{"$f":"IFERROR(VLOOKUP(A632,'1.Портфель кредитів'!A:AC,30,FALSE),\"\")","v":""},0,{"$error":"#VALUE!"},null,null,null,null,null,{"$f":"VLOOKUP(C632,Hidden_Словник!$A$2:C$81,3,FALSE)","v":{"$error":"#N/A"}},0,{"$f":"VLOOKUP(E632,Hidden_Словник!$W$2:$X$13,2,FALSE)","v":{"$error":"#N/A"}},0,{"$error":"#N/A"}]
[null,"",{"$f":"IFERROR(VLOOKUP(A633,'1.Портфель кредитів'!A:AC,3,FALSE),\"\")","v":""},{"$f":"IFERROR(VLOOKUP(A633,'1.Портфель кредитів'!A:AC,14,FALSE),\"\")","v":""},null,null,null,null,null,null,null,null,null,null,null,null,"","",null,{"$f":"IFERROR(VLOOKUP(A633,'1.Портфель кредитів'!A:AC,30,FALSE),\"\")","v":""},0,{"$error":"#VALUE!"},null,null,null,null,null,{"$f":"VLOOKUP(C633,Hidden_Словник!$A$2:C$81,3,FALSE)","v":{"$error":"#N/A"}},0,{"$f":"VLOOKUP(E633,Hidden_Словник!$W$2:$X$13,2,FALSE)","v":{"$error":"#N/A"}},0,{"$error":"#N/A"}]
[null,"",{"$f":"IFERROR(VLOOKUP(A634,'1.Портфель кредитів'!A:AC,3,FALSE),\"\")","v":""},{"$f":"IFERROR(VLOOKUP(A634,'1.Портфель кредитів'!A:AC,14,FALSE),\"\")","v":""},null,null,null,null,null,null,null,null,null,null,null,null,"","",null,{"$f":"IFERROR(VLOOKUP(A634,'1.Портфель кредитів'!A:AC,30,FALSE),\"\")","v":""},0,{"$error":"#VALUE!"},null,null,null,null,null,{"$f":"VLOOKUP(C634,Hidden_Словник!$A$2:C$81,3,FALSE)","v":{"$error":"#N/A"}},0,{"$f":"VLOOKUP(E634,Hidden_Словник!$W$2:$X$13,2,FALSE)","v":{"$error":"#N/A"}},0,{"$error":"#N/A"}]
[null,"",{"$f":"IFERROR(VLOOKUP(A635,'1.Портфель кредитів'!A:AC,3,FALSE),\"\")","v":""},{"$f":"IFERROR(VLOOKUP(A635,'1.Портфель кредитів'!A:AC,14,FALSE),\"\")","v":""},null,null,null,null,null,null,null,null,null,null,null,null,"","",null,{"$f":"IFERROR(VLOOKUP(A635,'1.Портфель кредитів'!A:AC,30,FALSE),\"\")","v":""},0,{"$error":"#VALUE!"},null,null,null,null,null,{"$f":"VLOOKUP(C635,Hidden_Словник!$A$2:C$81,3,FALSE)","v":{"$error":"#N/A"}},0,{"$f":"VLOOKUP(E635,Hidden_Словник!$W$2:$X$13,2,FALSE)","v":{"$error":"#N/A"}},0,{"$error":"#N/A"}]
[null,"",{"$f":"IFERROR(VLOOKUP(A636,'1.Портфель кредитів'!A:AC,3,FALSE),\"\")","v":""},{"$f":"IFERROR(VLOOKUP(A636,'1.Портфель кредитів'!A:AC,14,FALSE),\"\")","v":""},null,null,null,null,null,null,null,null,null,null,null,null,"","",null,{"$f":"IFERROR(VLOOKUP(A636,'1.Портфель кредитів'!A:AC,30,FALSE),\"\")","v":""},0,{"$error":"#VALUE!"},null,null,null,null,null,{"$f":"VLOOKUP(C636,Hidden_Словник!$A$2:C$81,3,FALSE)","v":{"$error":"#N/A"}},0,{"$f":"VLOOKUP(E636,Hidden_Словник!$W$2:$X$13,2,FALSE)","v":{"$error":"#N/A"}},0,{"$error":"#N/A"}]
[null,"",{"$f":"IFERROR(VLOOKUP(A637,'1.Портфель кредитів'!A:AC,3,FALSE),\"\")","v":""},{"$f":"IFERROR(VLOOKUP(A637,'1.Портфель кредитів'!A:AC,14,FALSE),\"\")","v":""},null,null,null,null,null,null,null,null,null,null,null,null,"","",null,{"$f":"IFERROR(VLOOKUP(A637,'1.Портфель кредитів'!A:AC,30,FALSE),\"\")","v":""},0,{"$error":"#VALUE!"},null,null,null,null,null,{"$f":"VLOOKUP(C637,Hidden_Словник!$A$2:C$81,3,FALSE)","v":{"$error":"#N/A"}},0,{"$f":"VLOOKUP(E637,Hidden_Словник!$W$2:$X$13,2,FALSE)","v":{"$error":"#N/A"}},0,{"$error":"#N/A"}]
[null,"",{"$f":"IFERROR(VLOOKUP(A638,'1.Портфель кредитів'!A:AC,3,FALSE),\"\")","v":""},{"$f":"IFERROR(VLOOKUP(A638,'1.Портфель кредитів'!A:AC,14,FALSE),\"\")","v":""},null,null,null,null,null,null,null,null,null,null,null,null,"","",null,{"$f":"IFERROR(VLOOKUP(A638,'1.Портфель кредитів'!A:AC,30,FALSE),\"\")","v":""},0,{"$error":"#VALUE!"},null,null,null,null,null,{"$f":"VLOOKUP(C638,Hidden_Словник!$A$2:C$81,3,FALSE)","v":{"$error":"#N/A"}},0,{"$f":"VLOOKUP(E638,Hidden_Словник!$W$2:$X$13,2,FALSE)","v":{"$error":"#N/A"}},0,{"$error":"#N/A"}]
[null,"",{"$f":"IFERROR(VLOOKUP(A639,'1.Портфель кредитів'!A:AC,3,FALSE),\"\")","v":""},{"$f":"IFERROR(VLOOKUP(A639,'1.Портфель кредитів'!A:AC,14,FALSE),\"\")","v":""},null,null,null,null,null,null,null,null,null,null,null,null,"","",null,{"$f":"IFERROR(VLOOKUP(A639,'1.Портфель кредитів'!A:AC,30,FALSE),\"\")","v":""},0,{"$f":"T639/U639","v":{"$error":"#VALUE!"}},null,null,null,null,null,{"$f":"VLOOKUP(C639,Hidden_Словник!$A$2:C$81,3,FALSE)","v":{"$error":"#N/A"}},0,{"$f":"VLOOKUP(E639,Hidden_Словник!$W$2:$X$13,2,FALSE)","v":{"$error":"#N/A"}},0,{"$error":"#N/A"}]
[null,"",{"$f":"IFERROR(VLOOKUP(A640,'1.Портфель кредитів'!A:AC,3,FALSE),\"\")","v":""},{"$f":"IFERROR(VLOOKUP(A640,'1.Портфель кредитів'!A:AC,14,FALSE),\"\")","v":""},null,null,null,null,null,null,null,null,null,null,null,null,"","",null,{"$f":"IFERROR(VLOOKUP(A640,'1.Портфель кредитів'!A:AC,30,FALSE),\"\")","v":""},0,{"$error":"#VALUE!"},null,null,null,null,null,{"$f":"VLOOKUP(C640,Hidden_Словник!$A$2:C$81,3,FALSE)","v":{"$error":"#N/A"}},0,{"$f":"VLOOKUP(E640,Hidden_Словник!$W$2:$X$13,2,FALSE)","v":{"$error":"#N/A"}},0,{"$error":"#N/A"}]
[null,"",{"$f":"IFERROR(VLOOKUP(A641,'1.Портфель кредитів'!A:AC,3,FALSE),\"\")","v":""},{"$f":"IFERROR(VLOOKUP(A641,'1.Портфель кредитів'!A:AC,14,FALSE),\"\")","v":""},null,null,null,null,null,null,null,null,null,null,null,null,"","",null,{"$f":"IFERROR(VLOOKUP(A641,'1.Портфель кредитів'!A:AC,30,FALSE),\"\")","v":""},0,{"$error":"#VALUE!"},null,null,null,null,null,{"$f":"VLOOKUP(C641,Hidden_Словник!$A$2:C$81,3,FALSE)","v":{"$error":"#N/A"}},0,{"$f":"VLOOKUP(E641,Hidden_Словник!$W$2:$X$13,2,FALSE)","v":{"$error":"#N/A"}},0,{"$error":"#N/A"}]
[null,"",{"$f":"IFERROR(VLOOKUP(A642,'1.Портфель кредитів'!A:AC,3,FALSE),\"\")","v":""},{"$f":"IFERROR(VLOOKUP(A642,'1.Портфель кредитів'!A:AC,14,FALSE),\"\")","v":""},null,null,null,null,null,null,null,null,null,null,null,null,"","",null,{"$f":"IFERROR(VLOOKUP(A642,'1.Портфель кредитів'!A:AC,30,FALSE),\"\")","v":""},0,{"$error":"#VALUE!"},null,null,null,null,null,{"$f":"VLOOKUP(C642,Hidden_Словник!$A$2:C$81,3,FALSE)","v":{"$error":"#N/A"}},0,{"$f":"VLOOKUP(E642,Hidden_Словник!$W$2:$X$13,2,FALSE)","v":{"$error":"#N/A"}},0,{"$error":"#N/A"}]
[null,"",{"$f":"IFERROR(VLOOKUP(A643,'1.Портфель кредитів'!A:AC,3,FALSE),\"\")","v":""},{"$f":"IFERROR(VLOOKUP(A643,'1.Портфель кредитів'!A:AC,14,FALSE),\"\")","v":""},null,null,null,null,null,null,null,null,null,null,null,null,"","",null,{"$f":"IFERROR(VLOOKUP(A643,'1.Портфель кредитів'!A:AC,30,FALSE),\"\")","v":""},0,{"$error":"#VALUE!"},null,null,null,null,null,{"$f":"VLOOKUP(C643,Hidden_Словник!$A$2:C$81,3,FALSE)","v":{"$error":"#N/A"}},0,{"$f":"VLOOKUP(E643,Hidden_Словник!$W$2:$X$13,2,FALSE)","v":{"$error":"#N/A"}},0,{"$error":"#N/A"}]
[null,"",{"$f":"IFERROR(VLOOKUP(A644,'1.Портфель кредитів'!A:AC,3,FALSE),\"\")","v":""},{"$f":"IFERROR(VLOOKUP(A644,'1.Портфель кредитів'!A:AC,14,FALSE),\"\")","v":""},null,null,null,null,null,null,null,null,null,null,null,null,"","",null,{"$f":"IFERROR(VLOOKUP(A644,'1.Портфель кредитів'!A:AC,30,FALSE),\"\")","v":""},0,{"$error":"#VALUE!"},null,null,null,null,null,{"$f":"VLOOKUP(C644,Hidden_Словник!$A$2:C$81,3,FALSE)","v":{"$error":"#N/A"}},0,{"$f":"VLOOKUP(E644,Hidden_Словник!$W$2:$X$13,2,FALSE)","v":{"$error":"#N/A"}},0,{"$error":"#N/A"}]
[null,"",{"$f":"IFERROR(VLOOKUP(A645,'1.Портфель кредитів'!A:AC,3,FALSE),\"\")","v":""},{"$f":"IFERROR(VLOOKUP(A645,'1.Портфель кредитів'!A:AC,14,FALSE),\"\")","v":""},null,null,null,null,null,null,null,null,null,null,null,null,"","",null,{"$f":"IFERROR(VLOOKUP(A645,'1.Портфель кредитів'!A:AC,30,FALSE),\"\")","v":""},0,{"$error":"#VALUE!"},null,null,null,null,null,{"$f":"VLOOKUP(C645,Hidden_Словник!$A$2:C$81,3,FALSE)","v":{"$error":"#N/A"}},0,{"$f":"VLOOKUP(E645,Hidden_Словник!$W$2:$X$13,2,FALSE)","v":{"$error":"#N/A"}},0,{"$error":"#N/A"}]
[null,"",{"$f":"IFERROR(VLOOKUP(A646,'1.Портфель кредитів'!A:AC,3,FALSE),\"\")","v":""},{"$f":"IFERROR(VLOOKUP(A646,'1.Портфель кредитів'!A:AC,14,FALSE),\"\")","v":""},null,null,null,null,null,null,null,null,null,null,null,null,"","",null,{"$f":"IFERROR(VLOOKUP(A646,'1.Портфель кредитів'!A:AC,30,FALSE),\"\")","v":""},0,{"$error":"#VALUE!"},null,null,null,null,null,{"$f":"VLOOKUP(C646,Hidden_Словник!$A$2:C$81,3,FALSE)","v":{"$error":"#N/A"}},0,{"$f":"VLOOKUP(E646,Hidden_Словник!$W$2:$X$13,2,FALSE)","v":{"$error":"#N/A"}},0,{"$error":"#N/A"}]
[null,"",{"$f":"IFERROR(VLOOKUP(A647,'1.Портфель кредитів'!A:AC,3,FALSE),\"\")","v":""},{"$f":"IFERROR(VLOOKUP(A647,'1.Портфель кредитів'!A:AC,14,FALSE),\"\")","v":""},null,null,null,null,null,null,null,null,null,null,null,null,"","",null,{"$f":"IFERROR(VLOOKUP(A647,'1.Портфель кредитів'!A:AC,30,FALSE),\"\")","v":""},0,{"$error":"#VALUE!"},null,null,null,null,null,{"$f":"VLOOKUP(C647,Hidden_Словник!$A$2:C$81,3,FALSE)","v":{"$error":"#N/A"}},0,{"$f":"VLOOKUP(E647,Hidden_Словник!$W$2:$X$13,2,FALSE)","v":{"$error":"#N/A"}},0,{"$error":"#N/A"}]
[null,"",{"$f":"IFERROR(VLOOKUP(A648,'1.Портфель кредитів'!A:AC,3,FALSE),\"\")","v":""},{"$f":"IFERROR(VLOOKUP(A648,'1.Портфель кредитів'!A:AC,14,FALSE),\"\")","v":""},null,null,null,null,null,null,null,null,null,null,null,null,"","",null,{"$f":"IFERROR(VLOOKUP(A648,'1.Портфель кредитів'!A:AC,30,FALSE),\"\")","v":""},0,{"$error":"#VALUE!"},null,null,null,null,null,{"$f":"VLOOKUP(C648,Hidden_Словник!$A$2:C$81,3,FALSE)","v":{"$error":"#N/A"}},0,{"$f":"VLOOKUP(E648,Hidden_Словник!$W$2:$X$13,2,FALSE)","v":{"$error":"#N/A"}},0,{"$error":"#N/A"}]
[null,"",{"$f":"IFERROR(VLOOKUP(A649,'1.Портфель кредитів'!A:AC,3,FALSE),\"\")","v":""},{"$f":"IFERROR(VLOOKUP(A649,'1.Портфель кредитів'!A:AC,14,FALSE),\"\")","v":""},null,null,null,null,null,null,null,null,null,null,null,null,"","",null,{"$f":"IFERROR(VLOOKUP(A649,'1.Портфель кредитів'!A:AC,30,FALSE),\"\")","v":""},0,{"$error":"#VALUE!"},null,null,null,null,null,{"$f":"VLOOKUP(C649,Hidden_Словник!$A$2:C$81,3,FALSE)","v":{"$error":"#N/A"}},0,{"$f":"VLOOKUP(E649,Hidden_Словник!$W$2:$X$13,2,FALSE)","v":{"$error":"#N/A"}},0,{"$error":"#N/A"}]
[null,"",{"$f":"IFERROR(VLOOKUP(A650,'1.Портфель кредитів'!A:AC,3,FALSE),\"\")","v":""},{"$f":"IFERROR(VLOOKUP(A650,'1.Портфель кредитів'!A:AC,14,FALSE),\"\")","v":""},null,null,null,null,null,null,null,null,null,null,null,null,"","",null,{"$f":"IFERROR(VLOOKUP(A650,'1.Портфель кредитів'!A:AC,30,FALSE),\"\")","v":""},0,{"$error":"#VALUE!"},null,null,null,null,null,{"$f":"VLOOKUP(C650,Hidden_Словник!$A$2:C$81,3,FALSE)","v":{"$error":"#N/A"}},0,{"$f":"VLOOKUP(E650,Hidden_Словник!$W$2:$X$13,2,FALSE)","v":{"$error":"#N/A"}},0,{"$error":"#N/A"}]
[null,"",{"$f":"IFERROR(VLOOKUP(A651,'1.Портфель кредитів'!A:AC,3,FALSE),\"\")","v":""},{"$f":"IFERROR(VLOOKUP(A651,'1.Портфель кредитів'!A:AC,14,FALSE),\"\")","v":""},null,null,null,null,null,null,null,null,null,null,null,null,"","",null,{"$f":"IFERROR(VLOOKUP(A651,'1.Портфель кредитів'!A:AC,30,FALSE),\"\")","v":""},0,{"$error":"#VALUE!"},null,null,null,null,null,{"$f":"VLOOKUP(C651,Hidden_Словник!$A$2:C$81,3,FALSE)","v":{"$error":"#N/A"}},0,{"$f":"VLOOKUP(E651,Hidden_Словник!$W$2:$X$13,2,FALSE)","v":{"$error":"#N/A"}},0,{"$error":"#N/A"}]
[null,"",{"$f":"IFERROR(VLOOKUP(A652,'1.Портфель кредитів'!A:AC,3,FALSE),\"\")","v":""},{"$f":"IFERROR(VLOOKUP(A652,'1.Портфель кредитів'!A:AC,14,FALSE),\"\")","v":""},null,null,null,null,null,null,null,null,null,null,null,null,"","",null,{"$f":"IFERROR(VLOOKUP(A652,'1.Портфель кредитів'!A:AC,30,FALSE),\"\")","v":""},0,{"$error":"#VALUE!"},null,null,null,null,null,{"$f":"VLOOKUP(C652,Hidden_Словник!$A$2:C$81,3,FALSE)","v":{"$error":"#N/A"}},0,{"$f":"VLOOKUP(E652,Hidden_Словник!$W$2:$X$13,2,FALSE)","v":{"$error":"#N/A"}},0,{"$error":"#N/A"}]
[null,"",{"$f":"IFERROR(VLOOKUP(A653,'1.Портфель кредитів'!A:AC,3,FALSE),\"\")","v":""},{"$f":"IFERROR(VLOOKUP(A653,'1.Портфель кредитів'!A:AC,14,FALSE),\"\")","v":""},null,null,null,null,null,null,null,null,null,null,null,null,"","",null,{"$f":"IFERROR(VLOOKUP(A653,'1.Портфель кредитів'!A:AC,30,FALSE),\"\")","v":""},0,{"$error":"#VALUE!"},null,null,null,null,null,{"$f":"VLOOKUP(C653,Hidden_Словник!$A$2:C$81,3,FALSE)","v":{"$error":"#N/A"}},0,{"$f":"VLOOKUP(E653,Hidden_Словник!$W$2:$X$13,2,FALSE)","v":{"$error":"#N/A"}},0,{"$error":"#N/A"}]
[null,"",{"$f":"IFERROR(VLOOKUP(A654,'1.Портфель кредитів'!A:AC,3,FALSE),\"\")","v":""},{"$f":"IFERROR(VLOOKUP(A654,'1.Портфель кредитів'!A:AC,14,FALSE),\"\")","v":""},null,null,null,null,null,null,null,null,null,null,null,null,"","",null,{"$f":"IFERROR(VLOOKUP(A654,'1.Портфель кредитів'!A:AC,30,FALSE),\"\")","v":""},0,{"$error":"#VALUE!"},null,null,null,null,null,{"$f":"VLOOKUP(C654,Hidden_Словник!$A$2:C$81,3,FALSE)","v":{"$error":"#N/A"}},0,{"$f":"VLOOKUP(E654,Hidden_Словник!$W$2:$X$13,2,FALSE)","v":{"$error":"#N/A"}},0,{"$error":"#N/A"}]
[null,"",{"$f":"IFERROR(VLOOKUP(A655,'1.Портфель кредитів'!A:AC,3,FALSE),\"\")","v":""},{"$f":"IFERROR(VLOOKUP(A655,'1.Портфель кредитів'!A:AC,14,FALSE),\"\")","v":""},null,null,null,null,null,null,null,null,null,null,null,null,"","",null,{"$f":"IFERROR(VLOOKUP(A655,'1.Портфель кредитів'!A:AC,30,FALSE),\"\")","v":""},0,{"$error":"#VALUE!"},null,null,null,null,null,{"$f":"VLOOKUP(C655,Hidden_Словник!$A$2:C$81,3,FALSE)","v":{"$error":"#N/A"}},0,{"$f":"VLOOKUP(E655,Hidden_Словник!$W$2:$X$13,2,FALSE)","v":{"$error":"#N/A"}},0,{"$error":"#N/A"}]
[null,"",{"$f":"IFERROR(VLOOKUP(A656,'1.Портфель кредитів'!A:AC,3,FALSE),\"\")","v":""},{"$f":"IFERROR(VLOOKUP(A656,'1.Портфель кредитів'!A:AC,14,FALSE),\"\")","v":""},null,null,null,null,null,null,null,null,null,null,null,null,"","",null,{"$f":"IFERROR(VLOOKUP(A656,'1.Портфель кредитів'!A:AC,30,FALSE),\"\")","v":""},0,{"$error":"#VALUE!"},null,null,null,null,null,{"$f":"VLOOKUP(C656,Hidden_Словник!$A$2:C$81,3,FALSE)","v":{"$error":"#N/A"}},0,{"$f":"VLOOKUP(E656,Hidden_Словник!$W$2:$X$13,2,FALSE)","v":{"$error":"#N/A"}},0,{"$error":"#N/A"}]
[null,"",{"$f":"IFERROR(VLOOKUP(A657,'1.Портфель кредитів'!A:AC,3,FALSE),\"\")","v":""},{"$f":"IFERROR(VLOOKUP(A657,'1.Портфель кредитів'!A:AC,14,FALSE),\"\")","v":""},null,null,null,null,null,null,null,null,null,null,null,null,"","",null,{"$f":"IFERROR(VLOOKUP(A657,'1.Портфель кредитів'!A:AC,30,FALSE),\"\")","v":""},0,{"$error":"#VALUE!"},null,null,null,null,null,{"$f":"VLOOKUP(C657,Hidden_Словник!$A$2:C$81,3,FALSE)","v":{"$error":"#N/A"}},0,{"$f":"VLOOKUP(E657,Hidden_Словник!$W$2:$X$13,2,FALSE)","v":{"$error":"#N/A"}},0,{"$error":"#N/A"}]
[null,"",{"$f":"IFERROR(VLOOKUP(A658,'1.Портфель кредитів'!A:AC,3,FALSE),\"\")","v":""},{"$f":"IFERROR(VLOOKUP(A658,'1.Портфель кредитів'!A:AC,14,FALSE),\"\")","v":""},null,null,null,null,null,null,null,null,null,null,null,null,"","",null,{"$f":"IFERROR(VLOOKUP(A658,'1.Портфель кредитів'!A:AC,30,FALSE),\"\")","v":""},0,{"$error":"#VALUE!"},null,null,null,null,null,{"$f":"VLOOKUP(C658,Hidden_Словник!$A$2:C$81,3,FALSE)","v":{"$error":"#N/A"}},0,{"$f":"VLOOKUP(E658,Hidden_Словник!$W$2:$X$13,2,FALSE)","v":{"$error":"#N/A"}},0,{"$error":"#N/A"}]
[null,"",{"$f":"IFERROR(VLOOKUP(A659,'1.Портфель кредитів'!A:AC,3,FALSE),\"\")","v":""},{"$f":"IFERROR(VLOOKUP(A659,'1.Портфель кредитів'!A:AC,14,FALSE),\"\")","v":""},null,null,null,null,null,null,null,null,null,null,null,null,"","",null,{"$f":"IFERROR(VLOOKUP(A659,'1.Портфель кредитів'!A:AC,30,FALSE),\"\")","v":""},0,{"$error":"#VALUE!"},null,null,null,null,null,{"$f":"VLOOKUP(C659,Hidden_Словник!$A$2:C$81,3,FALSE)","v":{"$error":"#N/A"}},0,{"$f":"VLOOKUP(E659,Hidden_Словник!$W$2:$X$13,2,FALSE)","v":{"$error":"#N/A"}},0,{"$error":"#N/A"}]
[null,"",{"$f":"IFERROR(VLOOKUP(A660,'1.Портфель кредитів'!A:AC,3,FALSE),\"\")","v":""},{"$f":"IFERROR(VLOOKUP(A660,'1.Портфель кредитів'!A:AC,14,FALSE),\"\")","v":""},null,null,null,null,null,null,null,null,null,null,null,null,"","",null,{"$f":"IFERROR(VLOOKUP(A660,'1.Портфель кредитів'!A:AC,30,FALSE),\"\")","v":""},0,{"$error":"#VALUE!"},null,null,null,null,null,{"$f":"VLOOKUP(C660,Hidden_Словник!$A$2:C$81,3,FALSE)","v":{"$error":"#N/A"}},0,{"$f":"VLOOKUP(E660,Hidden_Словник!$W$2:$X$13,2,FALSE)","v":{"$error":"#N/A"}},0,{"$error":"#N/A"}]
[null,"",{"$f":"IFERROR(VLOOKUP(A661,'1.Портфель кредитів'!A:AC,3,FALSE),\"\")","v":""},{"$f":"IFERROR(VLOOKUP(A661,'1.Портфель кредитів'!A:AC,14,FALSE),\"\")","v":""},null,null,null,null,null,null,null,null,null,null,null,null,"","",null,{"$f":"IFERROR(VLOOKUP(A661,'1.Портфель кредитів'!A:AC,30,FALSE),\"\")","v":""},0,{"$error":"#VALUE!"},null,null,null,null,null,{"$f":"VLOOKUP(C661,Hidden_Словник!$A$2:C$81,3,FALSE)","v":{"$error":"#N/A"}},0,{"$f":"VLOOKUP(E661,Hidden_Словник!$W$2:$X$13,2,FALSE)","v":{"$error":"#N/A"}},0,{"$error":"#N/A"}]
[null,"",{"$f":"IFERROR(VLOOKUP(A662,'1.Портфель кредитів'!A:AC,3,FALSE),\"\")","v":""},{"$f":"IFERROR(VLOOKUP(A662,'1.Портфель кредитів'!A:AC,14,FALSE),\"\")","v":""},null,null,null,null,null,null,null,null,null,null,null,null,"",{"$f":"IFERROR(V662*L662,\"\")","v":""},null,{"$f":"IFERROR(VLOOKUP(A662,'1.Портфель кредитів'!A:AC,30,FALSE),\"\")","v":""},0,{"$error":"#VALUE!"},null,null,null,null,null,{"$f":"VLOOKUP(C662,Hidden_Словник!$A$2:C$81,3,FALSE)","v":{"$error":"#N/A"}},{"$f":"ROUNDUP(L662,0)","v":0},{"$f":"VLOOKUP(E662,Hidden_Словник!$W$2:$X$13,2,FALSE)","v":{"$error":"#N/A"}},{"$f":"O662","v":0},{"$error":"#N/A"}]
[null,{"$f":"IFERROR(AF663,\"\")","v":""},{"$f":"IFERROR(VLOOKUP(A663,'1.Портфель кредитів'!A:AC,3,FALSE),\"\")","v":""},{"$f":"IFERROR(VLOOKUP(A663,'1.Портфель кредитів'!A:AC,14,FALSE),\"\")","v":""},null,null,null,null,null,null,null,null,null,null,null,null,"","",null,{"$f":"IFERROR(VLOOKUP(A663,'1.Портфель кредитів'!A:AC,30,FALSE),\"\")","v":""},0,{"$error":"#VALUE!"},null,null,null,null,null,{"$f":"VLOOKUP(C663,Hidden_Словник!$A$2:C$81,3,FALSE)","v":{"$error":"#N/A"}},0,{"$f":"VLOOKUP(E663,Hidden_Словник!$W$2:$X$13,2,FALSE)","v":{"$error":"#N/A"}},0,{"$f":"AB663&\"_\"&AC663&AD663&AE663","v":{"$error":"#N/A"}}]
[null,"",{"$f":"IFERROR(VLOOKUP(A664,'1.Портфель кредитів'!A:AC,3,FALSE),\"\")","v":""},{"$f":"IFERROR(VLOOKUP(A664,'1.Портфель кредитів'!A:AC,14,FALSE),\"\")","v":""},null,null,null,null,null,null,null,null,null,null,null,null,"","",null,{"$f":"IFERROR(VLOOKUP(A664,'1.Портфель кредитів'!A:AC,30,FALSE),\"\")","v":""},0,{"$error":"#VALUE!"},null,null,null,null,null,{"$f":"VLOOKUP(C664,Hidden_Словник!$A$2:C$81,3,FALSE)","v":{"$error":"#N/A"}},0,{"$f":"VLOOKUP(E664,Hidden_Словник!$W$2:$X$13,2,FALSE)","v":{"$error":"#N/A"}},0,{"$error":"#N/A"}]
[null,"",{"$f":"IFERROR(VLOOKUP(A665,'1.Портфель кредитів'!A:AC,3,FALSE),\"\")","v":""},{"$f":"IFERROR(VLOOKUP(A665,'1.Портфель кредитів'!A:AC,14,FALSE),\"\")","v":""},null,null,null,null,null,null,null,null,null,null,null,null,"","",null,{"$f":"IFERROR(VLOOKUP(A665,'1.Портфель кредитів'!A:AC,30,FALSE),\"\")","v":""},0,{"$error":"#VALUE!"},null,null,null,null,null,{"$f":"VLOOKUP(C665,Hidden_Словник!$A$2:C$81,3,FALSE)","v":{"$error":"#N/A"}},0,{"$f":"VLOOKUP(E665,Hidden_Словник!$W$2:$X$13,2,FALSE)","v":{"$error":"#N/A"}},0,{"$error":"#N/A"}]
[null,"",{"$f":"IFERROR(VLOOKUP(A666,'1.Портфель кредитів'!A:AC,3,FALSE),\"\")","v":""},{"$f":"IFERROR(VLOOKUP(A666,'1.Портфель кредитів'!A:AC,14,FALSE),\"\")","v":""},null,null,null,null,null,null,null,null,null,null,null,null,{"$f":"IF(O666=\"\",\"\",IF(COUNTIF(AF:AF,AF666)>1,\"так\",\"ні\"))","v":""},"",null,{"$f":"IFERROR(VLOOKUP(A666,'1.Портфель кредитів'!A:AC,30,FALSE),\"\")","v":""},{"$f":"SUMIF(B:B,B666,T:T)","v":0},{"$error":"#VALUE!"},null,null,null,null,null,{"$f":"VLOOKUP(C666,Hidden_Словник!$A$2:C$81,3,FALSE)","v":{"$error":"#N/A"}},0,{"$f":"VLOOKUP(E666,Hidden_Словник!$W$2:$X$13,2,FALSE)","v":{"$error":"#N/A"}},0,{"$error":"#N/A"}]
[null,"",{"$f":"IFERROR(VLOOKUP(A667,'1.Портфель кредитів'!A:AC,3,FALSE),\"\")","v":""},{"$f":"IFERROR(VLOOKUP(A667,'1.Портфель кредитів'!A:AC,14,FALSE),\"\")","v":""},null,null,null,null,null,null,null,null,null,null,null,null,"","",null,{"$f":"IFERROR(VLOOKUP(A667,'1.Портфель кредитів'!A:AC,30,FALSE),\"\")","v":""},0,{"$error":"#VALUE!"},null,null,null,null,null,{"$f":"VLOOKUP(C667,Hidden_Словник!$A$2:C$81,3,FALSE)","v":{"$error":"#N/A"}},0,{"$f":"VLOOKUP(E667,Hidden_Словник!$W$2:$X$13,2,FALSE)","v":{"$error":"#N/A"}},0,{"$error":"#N/A"}]
[null,"",{"$f":"IFERROR(VLOOKUP(A668,'1.Портфель кредитів'!A:AC,3,FALSE),\"\")","v":""},{"$f":"IFERROR(VLOOKUP(A668,'1.Портфель кредитів'!A:AC,14,FALSE),\"\")","v":""},null,null,null,null,null,null,null,null,null,null,null,null,"","",null,{"$f":"IFERROR(VLOOKUP(A668,'1.Портфель кредитів'!A:AC,30,FALSE),\"\")","v":""},0,{"$error":"#VALUE!"},null,null,null,null,null,{"$f":"VLOOKUP(C668,Hidden_Словник!$A$2:C$81,3,FALSE)","v":{"$error":"#N/A"}},0,{"$f":"VLOOKUP(E668,Hidden_Словник!$W$2:$X$13,2,FALSE)","v":{"$error":"#N/A"}},0,{"$error":"#N/A"}]
[null,"",{"$f":"IFERROR(VLOOKUP(A669,'1.Портфель кредитів'!A:AC,3,FALSE),\"\")","v":""},{"$f":"IFERROR(VLOOKUP(A669,'1.Портфель кредитів'!A:AC,14,FALSE),\"\")","v":""},null,null,null,null,null,null,null,null,null,null,null,null,"","",null,{"$f":"IFERROR(VLOOKUP(A669,'1.Портфель кредитів'!A:AC,30,FALSE),\"\")","v":""},0,{"$error":"#VALUE!"},null,null,null,null,null,{"$f":"VLOOKUP(C669,Hidden_Словник!$A$2:C$81,3,FALSE)","v":{"$error":"#N/A"}},0,{"$f":"VLOOKUP(E669,Hidden_Словник!$W$2:$X$13,2,FALSE)","v":{"$error":"#N/A"}},0,{"$error":"#N/A"}]
[null,"",{"$f":"IFERROR(VLOOKUP(A670,'1.Портфель кредитів'!A:AC,3,FALSE),\"\")","v":""},{"$f":"IFERROR(VLOOKUP(A670,'1.Портфель кредитів'!A:AC,14,FALSE),\"\")","v":""},null,null,null,null,null,null,null,null,null,null,null,null,"","",null,{"$f":"IFERROR(VLOOKUP(A670,'1.Портфель кредитів'!A:AC,30,FALSE),\"\")","v":""},0,{"$error":"#VALUE!"},null,null,null,null,null,{"$f":"VLOOKUP(C670,Hidden_Словник!$A$2:C$81,3,FALSE)","v":{"$error":"#N/A"}},0,{"$f":"VLOOKUP(E670,Hidden_Словник!$W$2:$X$13,2,FALSE)","v":{"$error":"#N/A"}},0,{"$error":"#N/A"}]
[null,"",{"$f":"IFERROR(VLOOKUP(A671,'1.Портфель кредитів'!A:AC,3,FALSE),\"\")","v":""},{"$f":"IFERROR(VLOOKUP(A671,'1.Портфель кредитів'!A:AC,14,FALSE),\"\")","v":""},null,null,null,null,null,null,null,null,null,null,null,null,"","",null,{"$f":"IFERROR(VLOOKUP(A671,'1.Портфель кредитів'!A:AC,30,FALSE),\"\")","v":""},0,{"$error":"#VALUE!"},null,null,null,null,null,{"$f":"VLOOKUP(C671,Hidden_Словник!$A$2:C$81,3,FALSE)","v":{"$error":"#N/A"}},0,{"$f":"VLOOKUP(E671,Hidden_Словник!$W$2:$X$13,2,FALSE)","v":{"$error":"#N/A"}},0,{"$error":"#N/A"}]
[null,"",{"$f":"IFERROR(VLOOKUP(A672,'1.Портфель кредитів'!A:AC,3,FALSE),\"\")","v":""},{"$f":"IFERROR(VLOOKUP(A672,'1.Портфель кредитів'!A:AC,14,FALSE),\"\")","v":""},null,null,null,null,null,null,null,null,null,null,null,null,"","",null,{"$f":"IFERROR(VLOOKUP(A672,'1.Портфель кредитів'!A:AC,30,FALSE),\"\")","v":""},0,{"$error":"#VALUE!"},null,null,null,null,null,{"$f":"VLOOKUP(C672,Hidden_Словник!$A$2:C$81,3,FALSE)","v":{"$error":"#N/A"}},0,{"$f":"VLOOKUP(E672,Hidden_Словник!$W$2:$X$13,2,FALSE)","v":{"$error":"#N/A"}},0,{"$error":"#N/A"}]
[null,"",{"$f":"IFERROR(VLOOKUP(A673,'1.Портфель кредитів'!A:AC,3,FALSE),\"\")","v":""},{"$f":"IFERROR(VLOOKUP(A673,'1.Портфель кредитів'!A:AC,14,FALSE),\"\")","v":""},null,null,null,null,null,null,null,null,null,null,null,null,"","",null,{"$f":"IFERROR(VLOOKUP(A673,'1.Портфель кредитів'!A:AC,30,FALSE),\"\")","v":""},0,{"$error":"#VALUE!"},null,null,null,null,null,{"$f":"VLOOKUP(C673,Hidden_Словник!$A$2:C$81,3,FALSE)","v":{"$error":"#N/A"}},0,{"$f":"VLOOKUP(E673,Hidden_Словник!$W$2:$X$13,2,FALSE)","v":{"$error":"#N/A"}},0,{"$error":"#N/A"}]
[null,"",{"$f":"IFERROR(VLOOKUP(A674,'1.Портфель кредитів'!A:AC,3,FALSE),\"\")","v":""},{"$f":"IFERROR(VLOOKUP(A674,'1.Портфель кредитів'!A:AC,14,FALSE),\"\")","v":""},null,null,null,null,null,null,null,null,null,null,null,null,"","",null,{"$f":"IFERROR(VLOOKUP(A674,'1.Портфель кредитів'!A:AC,30,FALSE),\"\")","v":""},0,{"$error":"#VALUE!"},null,null,null,null,null,{"$f":"VLOOKUP(C674,Hidden_Словник!$A$2:C$81,3,FALSE)","v":{"$error":"#N/A"}},0,{"$f":"VLOOKUP(E674,Hidden_Словник!$W$2:$X$13,2,FALSE)","v":{"$error":"#N/A"}},0,{"$error":"#N/A"}]
[null,"",{"$f":"IFERROR(VLOOKUP(A675,'1.Портфель кредитів'!A:AC,3,FALSE),\"\")","v":""},{"$f":"IFERROR(VLOOKUP(A675,'1.Портфель кредитів'!A:AC,14,FALSE),\"\")","v":""},null,null,null,null,null,null,null,null,null,null,null,null,"","",null,{"$f":"IFERROR(VLOOKUP(A675,'1.Портфель кредитів'!A:AC,30,FALSE),\"\")","v":""},0,{"$error":"#VALUE!"},null,null,null,null,null,{"$f":"VLOOKUP(C675,Hidden_Словник!$A$2:C$81,3,FALSE)","v":{"$error":"#N/A"}},0,{"$f":"VLOOKUP(E675,Hidden_Словник!$W$2:$X$13,2,FALSE)","v":{"$error":"#N/A"}},0,{"$error":"#N/A"}]
[null,"",{"$f":"IFERROR(VLOOKUP(A676,'1.Портфель кредитів'!A:AC,3,FALSE),\"\")","v":""},{"$f":"IFERROR(VLOOKUP(A676,'1.Портфель кредитів'!A:AC,14,FALSE),\"\")","v":""},null,null,null,null,null,null,null,null,null,null,null,null,"","",null,{"$f":"IFERROR(VLOOKUP(A676,'1.Портфель кредитів'!A:AC,30,FALSE),\"\")","v":""},0,{"$error":"#VALUE!"},null,null,null,null,null,{"$f":"VLOOKUP(C676,Hidden_Словник!$A$2:C$81,3,FALSE)","v":{"$error":"#N/A"}},0,{"$f":"VLOOKUP(E676,Hidden_Словник!$W$2:$X$13,2,FALSE)","v":{"$error":"#N/A"}},0,{"$error":"#N/A"}]
[null,"",{"$f":"IFERROR(VLOOKUP(A677,'1.Портфель кредитів'!A:AC,3,FALSE),\"\")","v":""},{"$f":"IFERROR(VLOOKUP(A677,'1.Портфель кредитів'!A:AC,14,FALSE),\"\")","v":""},null,null,null,null,null,null,null,null,null,null,null,null,"","",null,{"$f":"IFERROR(VLOOKUP(A677,'1.Портфель кредитів'!A:AC,30,FALSE),\"\")","v":""},0,{"$error":"#VALUE!"},null,null,null,null,null,{"$f":"VLOOKUP(C677,Hidden_Словник!$A$2:C$81,3,FALSE)","v":{"$error":"#N/A"}},0,{"$f":"VLOOKUP(E677,Hidden_Словник!$W$2:$X$13,2,FALSE)","v":{"$error":"#N/A"}},0,{"$error":"#N/A"}]
[null,"",{"$f":"IFERROR(VLOOKUP(A678,'1.Портфель кредитів'!A:AC,3,FALSE),\"\")","v":""},{"$f":"IFERROR(VLOOKUP(A678,'1.Портфель кредитів'!A:AC,14,FALSE),\"\")","v":""},null,null,null,null,null,null,null,null,null,null,null,null,"","",null,{"$f":"IFERROR(VLOOKUP(A678,'1.Портфель кредитів'!A:AC,30,FALSE),\"\")","v":""},0,{"$error":"#VALUE!"},null,null,null,null,null,{"$f":"VLOOKUP(C678,Hidden_Словник!$A$2:C$81,3,FALSE)","v":{"$error":"#N/A"}},0,{"$f":"VLOOKUP(E678,Hidden_Словник!$W$2:$X$13,2,FALSE)","v":{"$error":"#N/A"}},0,{"$error":"#N/A"}]
[null,"",{"$f":"IFERROR(VLOOKUP(A679,'1.Портфель кредитів'!A:AC,3,FALSE),\"\")","v":""},{"$f":"IFERROR(VLOOKUP(A679,'1.Портфель кредитів'!A:AC,14,FALSE),\"\")","v":""},null,null,null,null,null,null,null,null,null,null,null,null,"","",null,{"$f":"IFERROR(VLOOKUP(A679,'1.Портфель кредитів'!A:AC,30,FALSE),\"\")","v":""},0,{"$error":"#VALUE!"},null,null,null,null,null,{"$f":"VLOOKUP(C679,Hidden_Словник!$A$2:C$81,3,FALSE)","v":{"$error":"#N/A"}},0,{"$f":"VLOOKUP(E679,Hidden_Словник!$W$2:$X$13,2,FALSE)","v":{"$error":"#N/A"}},0,{"$error":"#N/A"}]
[null,"",{"$f":"IFERROR(VLOOKUP(A680,'1.Портфель кредитів'!A:AC,3,FALSE),\"\")","v":""},{"$f":"IFERROR(VLOOKUP(A680,'1.Портфель кредитів'!A:AC,14,FALSE),\"\")","v":""},null,null,null,null,null,null,null,null,null,null,null,null,"","",null,{"$f":"IFERROR(VLOOKUP(A680,'1.Портфель кредитів'!A:AC,30,FALSE),\"\")","v":""},0,{"$error":"#VALUE!"},null,null,null,null,null,{"$f":"VLOOKUP(C680,Hidden_Словник!$A$2:C$81,3,FALSE)","v":{"$error":"#N/A"}},0,{"$f":"VLOOKUP(E680,Hidden_Словник!$W$2:$X$13,2,FALSE)","v":{"$error":"#N/A"}},0,{"$error":"#N/A"}]
[null,"",{"$f":"IFERROR(VLOOKUP(A681,'1.Портфель кредитів'!A:AC,3,FALSE),\"\")","v":""},{"$f":"IFERROR(VLOOKUP(A681,'1.Портфель кредитів'!A:AC,14,FALSE),\"\")","v":""},null,null,null,null,null,null,null,null,null,null,null,null,"","",null,{"$f":"IFERROR(VLOOKUP(A681,'1.Портфель кредитів'!A:AC,30,FALSE),\"\")","v":""},0,{"$error":"#VALUE!"},null,null,null,null,null,{"$f":"VLOOKUP(C681,Hidden_Словник!$A$2:C$81,3,FALSE)","v":{"$error":"#N/A"}},0,{"$f":"VLOOKUP(E681,Hidden_Словник!$W$2:$X$13,2,FALSE)","v":{"$error":"#N/A"}},0,{"$error":"#N/A"}]
[null,"",{"$f":"IFERROR(VLOOKUP(A682,'1.Портфель кредитів'!A:AC,3,FALSE),\"\")","v":""},{"$f":"IFERROR(VLOOKUP(A682,'1.Портфель кредитів'!A:AC,14,FALSE),\"\")","v":""},null,null,null,null,null,null,null,null,null,null,null,null,"","",null,{"$f":"IFERROR(VLOOKUP(A682,'1.Портфель кредитів'!A:AC,30,FALSE),\"\")","v":""},0,{"$error":"#VALUE!"},null,null,null,null,null,{"$f":"VLOOKUP(C682,Hidden_Словник!$A$2:C$81,3,FALSE)","v":{"$error":"#N/A"}},0,{"$f":"VLOOKUP(E682,Hidden_Словник!$W$2:$X$13,2,FALSE)","v":{"$error":"#N/A"}},0,{"$error":"#N/A"}]
[null,"",{"$f":"IFERROR(VLOOKUP(A683,'1.Портфель кредитів'!A:AC,3,FALSE),\"\")","v":""},{"$f":"IFERROR(VLOOKUP(A683,'1.Портфель кредитів'!A:AC,14,FALSE),\"\")","v":""},null,null,null,null,null,null,null,null,null,null,null,null,"","",null,{"$f":"IFERROR(VLOOKUP(A683,'1.Портфель кредитів'!A:AC,30,FALSE),\"\")","v":""},0,{"$error":"#VALUE!"},null,null,null,null,null,{"$f":"VLOOKUP(C683,Hidden_Словник!$A$2:C$81,3,FALSE)","v":{"$error":"#N/A"}},0,{"$f":"VLOOKUP(E683,Hidden_Словник!$W$2:$X$13,2,FALSE)","v":{"$error":"#N/A"}},0,{"$error":"#N/A"}]
[null,"",{"$f":"IFERROR(VLOOKUP(A684,'1.Портфель кредитів'!A:AC,3,FALSE),\"\")","v":""},{"$f":"IFERROR(VLOOKUP(A684,'1.Портфель кредитів'!A:AC,14,FALSE),\"\")","v":""},null,null,null,null,null,null,null,null,null,null,null,null,"","",null,{"$f":"IFERROR(VLOOKUP(A684,'1.Портфель кредитів'!A:AC,30,FALSE),\"\")","v":""},0,{"$error":"#VALUE!"},null,null,null,null,null,{"$f":"VLOOKUP(C684,Hidden_Словник!$A$2:C$81,3,FALSE)","v":{"$error":"#N/A"}},0,{"$f":"VLOOKUP(E684,Hidden_Словник!$W$2:$X$13,2,FALSE)","v":{"$error":"#N/A"}},0,{"$error":"#N/A"}]
[null,"",{"$f":"IFERROR(VLOOKUP(A685,'1.Портфель кредитів'!A:AC,3,FALSE),\"\")","v":""},{"$f":"IFERROR(VLOOKUP(A685,'1.Портфель кредитів'!A:AC,14,FALSE),\"\")","v":""},null,null,null,null,null,null,null,null,null,null,null,null,"","",null,{"$f":"IFERROR(VLOOKUP(A685,'1.Портфель кредитів'!A:AC,30,FALSE),\"\")","v":""},0,{"$error":"#VALUE!"},null,null,null,null,null,{"$f":"VLOOKUP(C685,Hidden_Словник!$A$2:C$81,3,FALSE)","v":{"$error":"#N/A"}},0,{"$f":"VLOOKUP(E685,Hidden_Словник!$W$2:$X$13,2,FALSE)","v":{"$error":"#N/A"}},0,{"$error":"#N/A"}]
[null,"",{"$f":"IFERROR(VLOOKUP(A686,'1.Портфель кредитів'!A:AC,3,FALSE),\"\")","v":""},{"$f":"IFERROR(VLOOKUP(A686,'1.Портфель кредитів'!A:AC,14,FALSE),\"\")","v":""},null,null,null,null,null,null,null,null,null,null,null,null,"","",null,{"$f":"IFERROR(VLOOKUP(A686,'1.Портфель кредитів'!A:AC,30,FALSE),\"\")","v":""},0,{"$error":"#VALUE!"},null,null,null,null,null,{"$f":"VLOOKUP(C686,Hidden_Словник!$A$2:C$81,3,FALSE)","v":{"$error":"#N/A"}},0,{"$f":"VLOOKUP(E686,Hidden_Словник!$W$2:$X$13,2,FALSE)","v":{"$error":"#N/A"}},0,{"$error":"#N/A"}]
[null,"",{"$f":"IFERROR(VLOOKUP(A687,'1.Портфель кредитів'!A:AC,3,FALSE),\"\")","v":""},{"$f":"IFERROR(VLOOKUP(A687,'1.Портфель кредитів'!A:AC,14,FALSE),\"\")","v":""},null,null,null,null,null,null,null,null,null,null,null,null,"","",null,{"$f":"IFERROR(VLOOKUP(A687,'1.Портфель кредитів'!A:AC,30,FALSE),\"\")","v":""},0,{"$error":"#VALUE!"},null,null,null,null,null,{"$f":"VLOOKUP(C687,Hidden_Словник!$A$2:C$81,3,FALSE)","v":{"$error":"#N/A"}},0,{"$f":"VLOOKUP(E687,Hidden_Словник!$W$2:$X$13,2,FALSE)","v":{"$error":"#N/A"}},0,{"$error":"#N/A"}]
[null,"",{"$f":"IFERROR(VLOOKUP(A688,'1.Портфель кредитів'!A:AC,3,FALSE),\"\")","v":""},{"$f":"IFERROR(VLOOKUP(A688,'1.Портфель кредитів'!A:AC,14,FALSE),\"\")","v":""},null,null,null,null,null,null,null,null,null,null,null,null,"","",null,{"$f":"IFERROR(VLOOKUP(A688,'1.Портфель кредитів'!A:AC,30,FALSE),\"\")","v":""},0,{"$error":"#VALUE!"},null,null,null,null,null,{"$f":"VLOOKUP(C688,Hidden_Словник!$A$2:C$81,3,FALSE)","v":{"$error":"#N/A"}},0,{"$f":"VLOOKUP(E688,Hidden_Словник!$W$2:$X$13,2,FALSE)","v":{"$error":"#N/A"}},0,{"$error":"#N/A"}]
[null,"",{"$f":"IFERROR(VLOOKUP(A689,'1.Портфель кредитів'!A:AC,3,FALSE),\"\")","v":""},{"$f":"IFERROR(VLOOKUP(A689,'1.Портфель кредитів'!A:AC,14,FALSE),\"\")","v":""},null,null,null,null,null,null,null,null,null,null,null,null,"","",null,{"$f":"IFERROR(VLOOKUP(A689,'1.Портфель кредитів'!A:AC,30,FALSE),\"\")","v":""},0,{"$error":"#VALUE!"},null,null,null,null,null,{"$f":"VLOOKUP(C689,Hidden_Словник!$A$2:C$81,3,FALSE)","v":{"$error":"#N/A"}},0,{"$f":"VLOOKUP(E689,Hidden_Словник!$W$2:$X$13,2,FALSE)","v":{"$error":"#N/A"}},0,{"$error":"#N/A"}]
[null,"",{"$f":"IFERROR(VLOOKUP(A690,'1.Портфель кредитів'!A:AC,3,FALSE),\"\")","v":""},{"$f":"IFERROR(VLOOKUP(A690,'1.Портфель кредитів'!A:AC,14,FALSE),\"\")","v":""},null,null,null,null,null,null,null,null,null,null,null,null,"","",null,{"$f":"IFERROR(VLOOKUP(A690,'1.Портфель кредитів'!A:AC,30,FALSE),\"\")","v":""},0,{"$error":"#VALUE!"},null,null,null,null,null,{"$f":"VLOOKUP(C690,Hidden_Словник!$A$2:C$81,3,FALSE)","v":{"$error":"#N/A"}},0,{"$f":"VLOOKUP(E690,Hidden_Словник!$W$2:$X$13,2,FALSE)","v":{"$error":"#N/A"}},0,{"$error":"#N/A"}]
[null,"",{"$f":"IFERROR(VLOOKUP(A691,'1.Портфель кредитів'!A:AC,3,FALSE),\"\")","v":""},{"$f":"IFERROR(VLOOKUP(A691,'1.Портфель кредитів'!A:AC,14,FALSE),\"\")","v":""},null,null,null,null,null,null,null,null,null,null,null,null,"","",null,{"$f":"IFERROR(VLOOKUP(A691,'1.Портфель кредитів'!A:AC,30,FALSE),\"\")","v":""},0,{"$error":"#VALUE!"},null,null,null,null,null,{"$f":"VLOOKUP(C691,Hidden_Словник!$A$2:C$81,3,FALSE)","v":{"$error":"#N/A"}},0,{"$f":"VLOOKUP(E691,Hidden_Словник!$W$2:$X$13,2,FALSE)","v":{"$error":"#N/A"}},0,{"$error":"#N/A"}]
[null,"",{"$f":"IFERROR(VLOOKUP(A692,'1.Портфель кредитів'!A:AC,3,FALSE),\"\")","v":""},{"$f":"IFERROR(VLOOKUP(A692,'1.Портфель кредитів'!A:AC,14,FALSE),\"\")","v":""},null,null,null,null,null,null,null,null,null,null,null,null,"","",null,{"$f":"IFERROR(VLOOKUP(A692,'1.Портфель кредитів'!A:AC,30,FALSE),\"\")","v":""},0,{"$error":"#VALUE!"},null,null,null,null,null,{"$f":"VLOOKUP(C692,Hidden_Словник!$A$2:C$81,3,FALSE)","v":{"$error":"#N/A"}},0,{"$f":"VLOOKUP(E692,Hidden_Словник!$W$2:$X$13,2,FALSE)","v":{"$error":"#N/A"}},0,{"$error":"#N/A"}]
[null,"",{"$f":"IFERROR(VLOOKUP(A693,'1.Портфель кредитів'!A:AC,3,FALSE),\"\")","v":""},{"$f":"IFERROR(VLOOKUP(A693,'1.Портфель кредитів'!A:AC,14,FALSE),\"\")","v":""},null,null,null,null,null,null,null,null,null,null,null,null,"","",null,{"$f":"IFERROR(VLOOKUP(A693,'1.Портфель кредитів'!A:AC,30,FALSE),\"\")","v":""},0,{"$error":"#VALUE!"},null,null,null,null,null,{"$f":"VLOOKUP(C693,Hidden_Словник!$A$2:C$81,3,FALSE)","v":{"$error":"#N/A"}},0,{"$f":"VLOOKUP(E693,Hidden_Словник!$W$2:$X$13,2,FALSE)","v":{"$error":"#N/A"}},0,{"$error":"#N/A"}]
[null,"",{"$f":"IFERROR(VLOOKUP(A694,'1.Портфель кредитів'!A:AC,3,FALSE),\"\")","v":""},{"$f":"IFERROR(VLOOKUP(A694,'1.Портфель кредитів'!A:AC,14,FALSE),\"\")","v":""},null,null,null,null,null,null,null,null,null,null,null,null,"","",null,{"$f":"IFERROR(VLOOKUP(A694,'1.Портфель кредитів'!A:AC,30,FALSE),\"\")","v":""},0,{"$error":"#VALUE!"},null,null,null,null,null,{"$f":"VLOOKUP(C694,Hidden_Словник!$A$2:C$81,3,FALSE)","v":{"$error":"#N/A"}},0,{"$f":"VLOOKUP(E694,Hidden_Словник!$W$2:$X$13,2,FALSE)","v":{"$error":"#N/A"}},0,{"$error":"#N/A"}]
[null,"",{"$f":"IFERROR(VLOOKUP(A695,'1.Портфель кредитів'!A:AC,3,FALSE),\"\")","v":""},{"$f":"IFERROR(VLOOKUP(A695,'1.Портфель кредитів'!A:AC,14,FALSE),\"\")","v":""},null,null,null,null,null,null,null,null,null,null,null,null,"","",null,{"$f":"IFERROR(VLOOKUP(A695,'1.Портфель кредитів'!A:AC,30,FALSE),\"\")","v":""},0,{"$error":"#VALUE!"},null,null,null,null,null,{"$f":"VLOOKUP(C695,Hidden_Словник!$A$2:C$81,3,FALSE)","v":{"$error":"#N/A"}},0,{"$f":"VLOOKUP(E695,Hidden_Словник!$W$2:$X$13,2,FALSE)","v":{"$error":"#N/A"}},0,{"$error":"#N/A"}]
[null,"",{"$f":"IFERROR(VLOOKUP(A696,'1.Портфель кредитів'!A:AC,3,FALSE),\"\")","v":""},{"$f":"IFERROR(VLOOKUP(A696,'1.Портфель кредитів'!A:AC,14,FALSE),\"\")","v":""},null,null,null,null,null,null,null,null,null,null,null,null,"","",null,{"$f":"IFERROR(VLOOKUP(A696,'1.Портфель кредитів'!A:AC,30,FALSE),\"\")","v":""},0,{"$error":"#VALUE!"},null,null,null,null,null,{"$f":"VLOOKUP(C696,Hidden_Словник!$A$2:C$81,3,FALSE)","v":{"$error":"#N/A"}},0,{"$f":"VLOOKUP(E696,Hidden_Словник!$W$2:$X$13,2,FALSE)","v":{"$error":"#N/A"}},0,{"$error":"#N/A"}]
[null,"",{"$f":"IFERROR(VLOOKUP(A697,'1.Портфель кредитів'!A:AC,3,FALSE),\"\")","v":""},{"$f":"IFERROR(VLOOKUP(A697,'1.Портфель кредитів'!A:AC,14,FALSE),\"\")","v":""},null,null,null,null,null,null,null,null,null,null,null,null,"","",null,{"$f":"IFERROR(VLOOKUP(A697,'1.Портфель кредитів'!A:AC,30,FALSE),\"\")","v":""},0,{"$error":"#VALUE!"},null,null,null,null,null,{"$f":"VLOOKUP(C697,Hidden_Словник!$A$2:C$81,3,FALSE)","v":{"$error":"#N/A"}},0,{"$f":"VLOOKUP(E697,Hidden_Словник!$W$2:$X$13,2,FALSE)","v":{"$error":"#N/A"}},0,{"$error":"#N/A"}]
[null,"",{"$f":"IFERROR(VLOOKUP(A698,'1.Портфель кредитів'!A:AC,3,FALSE),\"\")","v":""},{"$f":"IFERROR(VLOOKUP(A698,'1.Портфель кредитів'!A:AC,14,FALSE),\"\")","v":""},null,null,null,null,null,null,null,null,null,null,null,null,"","",null,{"$f":"IFERROR(VLOOKUP(A698,'1.Портфель кредитів'!A:AC,30,FALSE),\"\")","v":""},0,{"$error":"#VALUE!"},null,null,null,null,null,{"$f":"VLOOKUP(C698,Hidden_Словник!$A$2:C$81,3,FALSE)","v":{"$error":"#N/A"}},0,{"$f":"VLOOKUP(E698,Hidden_Словник!$W$2:$X$13,2,FALSE)","v":{"$error":"#N/A"}},0,{"$error":"#N/A"}]
[null,"",{"$f":"IFERROR(VLOOKUP(A699,'1.Портфель кредитів'!A:AC,3,FALSE),\"\")","v":""},{"$f":"IFERROR(VLOOKUP(A699,'1.Портфель кредитів'!A:AC,14,FALSE),\"\")","v":""},null,null,null,null,null,null,null,null,null,null,null,null,"","",null,{"$f":"IFERROR(VLOOKUP(A699,'1.Портфель кредитів'!A:AC,30,FALSE),\"\")","v":""},0,{"$error":"#VALUE!"},null,null,null,null,null,{"$f":"VLOOKUP(C699,Hidden_Словник!$A$2:C$81,3,FALSE)","v":{"$error":"#N/A"}},0,{"$f":"VLOOKUP(E699,Hidden_Словник!$W$2:$X$13,2,FALSE)","v":{"$error":"#N/A"}},0,{"$error":"#N/A"}]
[null,"",{"$f":"IFERROR(VLOOKUP(A700,'1.Портфель кредитів'!A:AC,3,FALSE),\"\")","v":""},{"$f":"IFERROR(VLOOKUP(A700,'1.Портфель кредитів'!A:AC,14,FALSE),\"\")","v":""},null,null,null,null,null,null,null,null,null,null,null,null,"","",null,{"$f":"IFERROR(VLOOKUP(A700,'1.Портфель кредитів'!A:AC,30,FALSE),\"\")","v":""},0,{"$error":"#VALUE!"},null,null,null,null,null,{"$f":"VLOOKUP(C700,Hidden_Словник!$A$2:C$81,3,FALSE)","v":{"$error":"#N/A"}},0,{"$f":"VLOOKUP(E700,Hidden_Словник!$W$2:$X$13,2,FALSE)","v":{"$error":"#N/A"}},0,{"$error":"#N/A"}]
[null,"",{"$f":"IFERROR(VLOOKUP(A701,'1.Портфель кредитів'!A:AC,3,FALSE),\"\")","v":""},{"$f":"IFERROR(VLOOKUP(A701,'1.Портфель кредитів'!A:AC,14,FALSE),\"\")","v":""},null,null,null,null,null,null,null,null,null,null,null,null,"","",null,{"$f":"IFERROR(VLOOKUP(A701,'1.Портфель кредитів'!A:AC,30,FALSE),\"\")","v":""},0,{"$error":"#VALUE!"},null,null,null,null,null,{"$f":"VLOOKUP(C701,Hidden_Словник!$A$2:C$81,3,FALSE)","v":{"$error":"#N/A"}},0,{"$f":"VLOOKUP(E701,Hidden_Словник!$W$2:$X$13,2,FALSE)","v":{"$error":"#N/A"}},0,{"$error":"#N/A"}]
[null,"",{"$f":"IFERROR(VLOOKUP(A702,'1.Портфель кредитів'!A:AC,3,FALSE),\"\")","v":""},{"$f":"IFERROR(VLOOKUP(A702,'1.Портфель кредитів'!A:AC,14,FALSE),\"\")","v":""},null,null,null,null,null,null,null,null,null,null,null,null,"","",null,{"$f":"IFERROR(VLOOKUP(A702,'1.Портфель кредитів'!A:AC,30,FALSE),\"\")","v":""},0,{"$error":"#VALUE!"},null,null,null,null,null,{"$f":"VLOOKUP(C702,Hidden_Словник!$A$2:C$81,3,FALSE)","v":{"$error":"#N/A"}},0,{"$f":"VLOOKUP(E702,Hidden_Словник!$W$2:$X$13,2,FALSE)","v":{"$error":"#N/A"}},0,{"$error":"#N/A"}]
[null,"",{"$f":"IFERROR(VLOOKUP(A703,'1.Портфель кредитів'!A:AC,3,FALSE),\"\")","v":""},{"$f":"IFERROR(VLOOKUP(A703,'1.Портфель кредитів'!A:AC,14,FALSE),\"\")","v":""},null,null,null,null,null,null,null,null,null,null,null,null,"","",null,{"$f":"IFERROR(VLOOKUP(A703,'1.Портфель кредитів'!A:AC,30,FALSE),\"\")","v":""},0,{"$f":"T703/U703","v":{"$error":"#VALUE!"}},null,null,null,null,null,{"$f":"VLOOKUP(C703,Hidden_Словник!$A$2:C$81,3,FALSE)","v":{"$error":"#N/A"}},0,{"$f":"VLOOKUP(E703,Hidden_Словник!$W$2:$X$13,2,FALSE)","v":{"$error":"#N/A"}},0,{"$error":"#N/A"}]
[null,"",{"$f":"IFERROR(VLOOKUP(A704,'1.Портфель кредитів'!A:AC,3,FALSE),\"\")","v":""},{"$f":"IFERROR(VLOOKUP(A704,'1.Портфель кредитів'!A:AC,14,FALSE),\"\")","v":""},null,null,null,null,null,null,null,null,null,null,null,null,"","",null,{"$f":"IFERROR(VLOOKUP(A704,'1.Портфель кредитів'!A:AC,30,FALSE),\"\")","v":""},0,{"$error":"#VALUE!"},null,null,null,null,null,{"$f":"VLOOKUP(C704,Hidden_Словник!$A$2:C$81,3,FALSE)","v":{"$error":"#N/A"}},0,{"$f":"VLOOKUP(E704,Hidden_Словник!$W$2:$X$13,2,FALSE)","v":{"$error":"#N/A"}},0,{"$error":"#N/A"}]
[null,"",{"$f":"IFERROR(VLOOKUP(A705,'1.Портфель кредитів'!A:AC,3,FALSE),\"\")","v":""},{"$f":"IFERROR(VLOOKUP(A705,'1.Портфель кредитів'!A:AC,14,FALSE),\"\")","v":""},null,null,null,null,null,null,null,null,null,null,null,null,"","",null,{"$f":"IFERROR(VLOOKUP(A705,'1.Портфель кредитів'!A:AC,30,FALSE),\"\")","v":""},0,{"$error":"#VALUE!"},null,null,null,null,null,{"$f":"VLOOKUP(C705,Hidden_Словник!$A$2:C$81,3,FALSE)","v":{"$error":"#N/A"}},0,{"$f":"VLOOKUP(E705,Hidden_Словник!$W$2:$X$13,2,FALSE)","v":{"$error":"#N/A"}},0,{"$error":"#N/A"}]
[null,"",{"$f":"IFERROR(VLOOKUP(A706,'1.Портфель кредитів'!A:AC,3,FALSE),\"\")","v":""},{"$f":"IFERROR(VLOOKUP(A706,'1.Портфель кредитів'!A:AC,14,FALSE),\"\")","v":""},null,null,null,null,null,null,null,null,null,null,null,null,"","",null,{"$f":"IFERROR(VLOOKUP(A706,'1.Портфель кредитів'!A:AC,30,FALSE),\"\")","v":""},0,{"$error":"#VALUE!"},null,null,null,null,null,{"$f":"VLOOKUP(C706,Hidden_Словник!$A$2:C$81,3,FALSE)","v":{"$error":"#N/A"}},0,{"$f":"VLOOKUP(E706,Hidden_Словник!$W$2:$X$13,2,FALSE)","v":{"$error":"#N/A"}},0,{"$error":"#N/A"}]
[null,"",{"$f":"IFERROR(VLOOKUP(A707,'1.Портфель кредитів'!A:AC,3,FALSE),\"\")","v":""},{"$f":"IFERROR(VLOOKUP(A707,'1.Портфель кредитів'!A:AC,14,FALSE),\"\")","v":""},null,null,null,null,null,null,null,null,null,null,null,null,"","",null,{"$f":"IFERROR(VLOOKUP(A707,'1.Портфель кредитів'!A:AC,30,FALSE),\"\")","v":""},0,{"$error":"#VALUE!"},null,null,null,null,null,{"$f":"VLOOKUP(C707,Hidden_Словник!$A$2:C$81,3,FALSE)","v":{"$error":"#N/A"}},0,{"$f":"VLOOKUP(E707,Hidden_Словник!$W$2:$X$13,2,FALSE)","v":{"$error":"#N/A"}},0,{"$error":"#N/A"}]
[null,"",{"$f":"IFERROR(VLOOKUP(A708,'1.Портфель кредитів'!A:AC,3,FALSE),\"\")","v":""},{"$f":"IFERROR(VLOOKUP(A708,'1.Портфель кредитів'!A:AC,14,FALSE),\"\")","v":""},null,null,null,null,null,null,null,null,null,null,null,null,"","",null,{"$f":"IFERROR(VLOOKUP(A708,'1.Портфель кредитів'!A:AC,30,FALSE),\"\")","v":""},0,{"$error":"#VALUE!"},null,null,null,null,null,{"$f":"VLOOKUP(C708,Hidden_Словник!$A$2:C$81,3,FALSE)","v":{"$error":"#N/A"}},0,{"$f":"VLOOKUP(E708,Hidden_Словник!$W$2:$X$13,2,FALSE)","v":{"$error":"#N/A"}},0,{"$error":"#N/A"}]
[null,"",{"$f":"IFERROR(VLOOKUP(A709,'1.Портфель кредитів'!A:AC,3,FALSE),\"\")","v":""},{"$f":"IFERROR(VLOOKUP(A709,'1.Портфель кредитів'!A:AC,14,FALSE),\"\")","v":""},null,null,null,null,null,null,null,null,null,null,null,null,"","",null,{"$f":"IFERROR(VLOOKUP(A709,'1.Портфель кредитів'!A:AC,30,FALSE),\"\")","v":""},0,{"$error":"#VALUE!"},null,null,null,null,null,{"$f":"VLOOKUP(C709,Hidden_Словник!$A$2:C$81,3,FALSE)","v":{"$error":"#N/A"}},0,{"$f":"VLOOKUP(E709,Hidden_Словник!$W$2:$X$13,2,FALSE)","v":{"$error":"#N/A"}},0,{"$error":"#N/A"}]
[null,"",{"$f":"IFERROR(VLOOKUP(A710,'1.Портфель кредитів'!A:AC,3,FALSE),\"\")","v":""},{"$f":"IFERROR(VLOOKUP(A710,'1.Портфель кредитів'!A:AC,14,FALSE),\"\")","v":""},null,null,null,null,null,null,null,null,null,null,null,null,"","",null,{"$f":"IFERROR(VLOOKUP(A710,'1.Портфель кредитів'!A:AC,30,FALSE),\"\")","v":""},0,{"$error":"#VALUE!"},null,null,null,null,null,{"$f":"VLOOKUP(C710,Hidden_Словник!$A$2:C$81,3,FALSE)","v":{"$error":"#N/A"}},0,{"$f":"VLOOKUP(E710,Hidden_Словник!$W$2:$X$13,2,FALSE)","v":{"$error":"#N/A"}},0,{"$error":"#N/A"}]
[null,"",{"$f":"IFERROR(VLOOKUP(A711,'1.Портфель кредитів'!A:AC,3,FALSE),\"\")","v":""},{"$f":"IFERROR(VLOOKUP(A711,'1.Портфель кредитів'!A:AC,14,FALSE),\"\")","v":""},null,null,null,null,null,null,null,null,null,null,null,null,"","",null,{"$f":"IFERROR(VLOOKUP(A711,'1.Портфель кредитів'!A:AC,30,FALSE),\"\")","v":""},0,{"$error":"#VALUE!"},null,null,null,null,null,{"$f":"VLOOKUP(C711,Hidden_Словник!$A$2:C$81,3,FALSE)","v":{"$error":"#N/A"}},0,{"$f":"VLOOKUP(E711,Hidden_Словник!$W$2:$X$13,2,FALSE)","v":{"$error":"#N/A"}},0,{"$error":"#N/A"}]
[null,"",{"$f":"IFERROR(VLOOKUP(A712,'1.Портфель кредитів'!A:AC,3,FALSE),\"\")","v":""},{"$f":"IFERROR(VLOOKUP(A712,'1.Портфель кредитів'!A:AC,14,FALSE),\"\")","v":""},null,null,null,null,null,null,null,null,null,null,null,null,"","",null,{"$f":"IFERROR(VLOOKUP(A712,'1.Портфель кредитів'!A:AC,30,FALSE),\"\")","v":""},0,{"$error":"#VALUE!"},null,null,null,null,null,{"$f":"VLOOKUP(C712,Hidden_Словник!$A$2:C$81,3,FALSE)","v":{"$error":"#N/A"}},0,{"$f":"VLOOKUP(E712,Hidden_Словник!$W$2:$X$13,2,FALSE)","v":{"$error":"#N/A"}},0,{"$error":"#N/A"}]
[null,"",{"$f":"IFERROR(VLOOKUP(A713,'1.Портфель кредитів'!A:AC,3,FALSE),\"\")","v":""},{"$f":"IFERROR(VLOOKUP(A713,'1.Портфель кредитів'!A:AC,14,FALSE),\"\")","v":""},null,null,null,null,null,null,null,null,null,null,null,null,"","",null,{"$f":"IFERROR(VLOOKUP(A713,'1.Портфель кредитів'!A:AC,30,FALSE),\"\")","v":""},0,{"$error":"#VALUE!"},null,null,null,null,null,{"$f":"VLOOKUP(C713,Hidden_Словник!$A$2:C$81,3,FALSE)","v":{"$error":"#N/A"}},0,{"$f":"VLOOKUP(E713,Hidden_Словник!$W$2:$X$13,2,FALSE)","v":{"$error":"#N/A"}},0,{"$error":"#N/A"}]
[null,"",{"$f":"IFERROR(VLOOKUP(A714,'1.Портфель кредитів'!A:AC,3,FALSE),\"\")","v":""},{"$f":"IFERROR(VLOOKUP(A714,'1.Портфель кредитів'!A:AC,14,FALSE),\"\")","v":""},null,null,null,null,null,null,null,null,null,null,null,null,"","",null,{"$f":"IFERROR(VLOOKUP(A714,'1.Портфель кредитів'!A:AC,30,FALSE),\"\")","v":""},0,{"$error":"#VALUE!"},null,null,null,null,null,{"$f":"VLOOKUP(C714,Hidden_Словник!$A$2:C$81,3,FALSE)","v":{"$error":"#N/A"}},0,{"$f":"VLOOKUP(E714,Hidden_Словник!$W$2:$X$13,2,FALSE)","v":{"$error":"#N/A"}},0,{"$error":"#N/A"}]
[null,"",{"$f":"IFERROR(VLOOKUP(A715,'1.Портфель кредитів'!A:AC,3,FALSE),\"\")","v":""},{"$f":"IFERROR(VLOOKUP(A715,'1.Портфель кредитів'!A:AC,14,FALSE),\"\")","v":""},null,null,null,null,null,null,null,null,null,null,null,null,"","",null,{"$f":"IFERROR(VLOOKUP(A715,'1.Портфель кредитів'!A:AC,30,FALSE),\"\")","v":""},0,{"$error":"#VALUE!"},null,null,null,null,null,{"$f":"VLOOKUP(C715,Hidden_Словник!$A$2:C$81,3,FALSE)","v":{"$error":"#N/A"}},0,{"$f":"VLOOKUP(E715,Hidden_Словник!$W$2:$X$13,2,FALSE)","v":{"$error":"#N/A"}},0,{"$error":"#N/A"}]
[null,"",{"$f":"IFERROR(VLOOKUP(A716,'1.Портфель кредитів'!A:AC,3,FALSE),\"\")","v":""},{"$f":"IFERROR(VLOOKUP(A716,'1.Портфель кредитів'!A:AC,14,FALSE),\"\")","v":""},null,null,null,null,null,null,null,null,null,null,null,null,"","",null,{"$f":"IFERROR(VLOOKUP(A716,'1.Портфель кредитів'!A:AC,30,FALSE),\"\")","v":""},0,{"$error":"#VALUE!"},null,null,null,null,null,{"$f":"VLOOKUP(C716,Hidden_Словник!$A$2:C$81,3,FALSE)","v":{"$error":"#N/A"}},0,{"$f":"VLOOKUP(E716,Hidden_Словник!$W$2:$X$13,2,FALSE)","v":{"$error":"#N/A"}},0,{"$error":"#N/A"}]
[null,"",{"$f":"IFERROR(VLOOKUP(A717,'1.Портфель кредитів'!A:AC,3,FALSE),\"\")","v":""},{"$f":"IFERROR(VLOOKUP(A717,'1.Портфель кредитів'!A:AC,14,FALSE),\"\")","v":""},null,null,null,null,null,null,null,null,null,null,null,null,"","",null,{"$f":"IFERROR(VLOOKUP(A717,'1.Портфель кредитів'!A:AC,30,FALSE),\"\")","v":""},0,{"$error":"#VALUE!"},null,null,null,null,null,{"$f":"VLOOKUP(C717,Hidden_Словник!$A$2:C$81,3,FALSE)","v":{"$error":"#N/A"}},0,{"$f":"VLOOKUP(E717,Hidden_Словник!$W$2:$X$13,2,FALSE)","v":{"$error":"#N/A"}},0,{"$error":"#N/A"}]
[null,"",{"$f":"IFERROR(VLOOKUP(A718,'1.Портфель кредитів'!A:AC,3,FALSE),\"\")","v":""},{"$f":"IFERROR(VLOOKUP(A718,'1.Портфель кредитів'!A:AC,14,FALSE),\"\")","v":""},null,null,null,null,null,null,null,null,null,null,null,null,"","",null,{"$f":"IFERROR(VLOOKUP(A718,'1.Портфель кредитів'!A:AC,30,FALSE),\"\")","v":""},0,{"$error":"#VALUE!"},null,null,null,null,null,{"$f":"VLOOKUP(C718,Hidden_Словник!$A$2:C$81,3,FALSE)","v":{"$error":"#N/A"}},0,{"$f":"VLOOKUP(E718,Hidden_Словник!$W$2:$X$13,2,FALSE)","v":{"$error":"#N/A"}},0,{"$error":"#N/A"}]
[null,"",{"$f":"IFERROR(VLOOKUP(A719,'1.Портфель кредитів'!A:AC,3,FALSE),\"\")","v":""},{"$f":"IFERROR(VLOOKUP(A719,'1.Портфель кредитів'!A:AC,14,FALSE),\"\")","v":""},null,null,null,null,null,null,null,null,null,null,null,null,"","",null,{"$f":"IFERROR(VLOOKUP(A719,'1.Портфель кредитів'!A:AC,30,FALSE),\"\")","v":""},0,{"$error":"#VALUE!"},null,null,null,null,null,{"$f":"VLOOKUP(C719,Hidden_Словник!$A$2:C$81,3,FALSE)","v":{"$error":"#N/A"}},0,{"$f":"VLOOKUP(E719,Hidden_Словник!$W$2:$X$13,2,FALSE)","v":{"$error":"#N/A"}},0,{"$error":"#N/A"}]
[null,"",{"$f":"IFERROR(VLOOKUP(A720,'1.Портфель кредитів'!A:AC,3,FALSE),\"\")","v":""},{"$f":"IFERROR(VLOOKUP(A720,'1.Портфель кредитів'!A:AC,14,FALSE),\"\")","v":""},null,null,null,null,null,null,null,null,null,null,null,null,"","",null,{"$f":"IFERROR(VLOOKUP(A720,'1.Портфель кредитів'!A:AC,30,FALSE),\"\")","v":""},0,{"$error":"#VALUE!"},null,null,null,null,null,{"$f":"VLOOKUP(C720,Hidden_Словник!$A$2:C$81,3,FALSE)","v":{"$error":"#N/A"}},0,{"$f":"VLOOKUP(E720,Hidden_Словник!$W$2:$X$13,2,FALSE)","v":{"$error":"#N/A"}},0,{"$error":"#N/A"}]
[null,"",{"$f":"IFERROR(VLOOKUP(A721,'1.Портфель кредитів'!A:AC,3,FALSE),\"\")","v":""},{"$f":"IFERROR(VLOOKUP(A721,'1.Портфель кредитів'!A:AC,14,FALSE),\"\")","v":""},null,null,null,null,null,null,null,null,null,null,null,null,"","",null,{"$f":"IFERROR(VLOOKUP(A721,'1.Портфель кредитів'!A:AC,30,FALSE),\"\")","v":""},0,{"$error":"#VALUE!"},null,null,null,null,null,{"$f":"VLOOKUP(C721,Hidden_Словник!$A$2:C$81,3,FALSE)","v":{"$error":"#N/A"}},0,{"$f":"VLOOKUP(E721,Hidden_Словник!$W$2:$X$13,2,FALSE)","v":{"$error":"#N/A"}},0,{"$error":"#N/A"}]
[null,"",{"$f":"IFERROR(VLOOKUP(A722,'1.Портфель кредитів'!A:AC,3,FALSE),\"\")","v":""},{"$f":"IFERROR(VLOOKUP(A722,'1.Портфель кредитів'!A:AC,14,FALSE),\"\")","v":""},null,null,null,null,null,null,null,null,null,null,null,null,"","",null,{"$f":"IFERROR(VLOOKUP(A722,'1.Портфель кредитів'!A:AC,30,FALSE),\"\")","v":""},0,{"$error":"#VALUE!"},null,null,null,null,null,{"$f":"VLOOKUP(C722,Hidden_Словник!$A$2:C$81,3,FALSE)","v":{"$error":"#N/A"}},0,{"$f":"VLOOKUP(E722,Hidden_Словник!$W$2:$X$13,2,FALSE)","v":{"$error":"#N/A"}},0,{"$error":"#N/A"}]
[null,"",{"$f":"IFERROR(VLOOKUP(A723,'1.Портфель кредитів'!A:AC,3,FALSE),\"\")","v":""},{"$f":"IFERROR(VLOOKUP(A723,'1.Портфель кредитів'!A:AC,14,FALSE),\"\")","v":""},null,null,null,null,null,null,null,null,null,null,null,null,"","",null,{"$f":"IFERROR(VLOOKUP(A723,'1.Портфель кредитів'!A:AC,30,FALSE),\"\")","v":""},0,{"$error":"#VALUE!"},null,null,null,null,null,{"$f":"VLOOKUP(C723,Hidden_Словник!$A$2:C$81,3,FALSE)","v":{"$error":"#N/A"}},0,{"$f":"VLOOKUP(E723,Hidden_Словник!$W$2:$X$13,2,FALSE)","v":{"$error":"#N/A"}},0,{"$error":"#N/A"}]
[null,"",{"$f":"IFERROR(VLOOKUP(A724,'1.Портфель кредитів'!A:AC,3,FALSE),\"\")","v":""},{"$f":"IFERROR(VLOOKUP(A724,'1.Портфель кредитів'!A:AC,14,FALSE),\"\")","v":""},null,null,null,null,null,null,null,null,null,null,null,null,"","",null,{"$f":"IFERROR(VLOOKUP(A724,'1.Портфель кредитів'!A:AC,30,FALSE),\"\")","v":""},0,{"$error":"#VALUE!"},null,null,null,null,null,{"$f":"VLOOKUP(C724,Hidden_Словник!$A$2:C$81,3,FALSE)","v":{"$error":"#N/A"}},0,{"$f":"VLOOKUP(E724,Hidden_Словник!$W$2:$X$13,2,FALSE)","v":{"$error":"#N/A"}},0,{"$error":"#N/A"}]
[null,"",{"$f":"IFERROR(VLOOKUP(A725,'1.Портфель кредитів'!A:AC,3,FALSE),\"\")","v":""},{"$f":"IFERROR(VLOOKUP(A725,'1.Портфель кредитів'!A:AC,14,FALSE),\"\")","v":""},null,null,null,null,null,null,null,null,null,null,null,null,"","",null,{"$f":"IFERROR(VLOOKUP(A725,'1.Портфель кредитів'!A:AC,30,FALSE),\"\")","v":""},0,{"$error":"#VALUE!"},null,null,null,null,null,{"$f":"VLOOKUP(C725,Hidden_Словник!$A$2:C$81,3,FALSE)","v":{"$error":"#N/A"}},0,{"$f":"VLOOKUP(E725,Hidden_Словник!$W$2:$X$13,2,FALSE)","v":{"$error":"#N/A"}},0,{"$error":"#N/A"}]
[null,"",{"$f":"IFERROR(VLOOKUP(A726,'1.Портфель кредитів'!A:AC,3,FALSE),\"\")","v":""},{"$f":"IFERROR(VLOOKUP(A726,'1.Портфель кредитів'!A:AC,14,FALSE),\"\")","v":""},null,null,null,null,null,null,null,null,null,null,null,null,"",{"$f":"IFERROR(V726*L726,\"\")","v":""},null,{"$f":"IFERROR(VLOOKUP(A726,'1.Портфель кредитів'!A:AC,30,FALSE),\"\")","v":""},0,{"$error":"#VALUE!"},null,null,null,null,null,{"$f":"VLOOKUP(C726,Hidden_Словник!$A$2:C$81,3,FALSE)","v":{"$error":"#N/A"}},{"$f":"ROUNDUP(L726,0)","v":0},{"$f":"VLOOKUP(E726,Hidden_Словник!$W$2:$X$13,2,FALSE)","v":{"$error":"#N/A"}},{"$f":"O726","v":0},{"$error":"#N/A"}]
[null,{"$f":"IFERROR(AF727,\"\")","v":""},{"$f":"IFERROR(VLOOKUP(A727,'1.Портфель кредитів'!A:AC,3,FALSE),\"\")","v":""},{"$f":"IFERROR(VLOOKUP(A727,'1.Портфель кредитів'!A:AC,14,FALSE),\"\")","v":""},null,null,null,null,null,null,null,null,null,null,null,null,"","",null,{"$f":"IFERROR(VLOOKUP(A727,'1.Портфель кредитів'!A:AC,30,FALSE),\"\")","v":""},0,{"$error":"#VALUE!"},null,null,null,null,null,{"$f":"VLOOKUP(C727,Hidden_Словник!$A$2:C$81,3,FALSE)","v":{"$error":"#N/A"}},0,{"$f":"VLOOKUP(E727,Hidden_Словник!$W$2:$X$13,2,FALSE)","v":{"$error":"#N/A"}},0,{"$f":"AB727&\"_\"&AC727&AD727&AE727","v":{"$error":"#N/A"}}]
[null,"",{"$f":"IFERROR(VLOOKUP(A728,'1.Портфель кредитів'!A:AC,3,FALSE),\"\")","v":""},{"$f":"IFERROR(VLOOKUP(A728,'1.Портфель кредитів'!A:AC,14,FALSE),\"\")","v":""},null,null,null,null,null,null,null,null,null,null,null,null,"","",null,{"$f":"IFERROR(VLOOKUP(A728,'1.Портфель кредитів'!A:AC,30,FALSE),\"\")","v":""},0,{"$error":"#VALUE!"},null,null,null,null,null,{"$f":"VLOOKUP(C728,Hidden_Словник!$A$2:C$81,3,FALSE)","v":{"$error":"#N/A"}},0,{"$f":"VLOOKUP(E728,Hidden_Словник!$W$2:$X$13,2,FALSE)","v":{"$error":"#N/A"}},0,{"$error":"#N/A"}]
[null,"",{"$f":"IFERROR(VLOOKUP(A729,'1.Портфель кредитів'!A:AC,3,FALSE),\"\")","v":""},{"$f":"IFERROR(VLOOKUP(A729,'1.Портфель кредитів'!A:AC,14,FALSE),\"\")","v":""},null,null,null,null,null,null,null,null,null,null,null,null,"","",null,{"$f":"IFERROR(VLOOKUP(A729,'1.Портфель кредитів'!A:AC,30,FALSE),\"\")","v":""},0,{"$error":"#VALUE!"},null,null,null,null,null,{"$f":"VLOOKUP(C729,Hidden_Словник!$A$2:C$81,3,FALSE)","v":{"$error":"#N/A"}},0,{"$f":"VLOOKUP(E729,Hidden_Словник!$W$2:$X$13,2,FALSE)","v":{"$error":"#N/A"}},0,{"$error":"#N/A"}]
[null,"",{"$f":"IFERROR(VLOOKUP(A730,'1.Портфель кредитів'!A:AC,3,FALSE),\"\")","v":""},{"$f":"IFERROR(VLOOKUP(A730,'1.Портфель кредитів'!A:AC,14,FALSE),\"\")","v":""},null,null,null,null,null,null,null,null,null,null,null,null,{"$f":"IF(O730=\"\",\"\",IF(COUNTIF(AF:AF,AF730)>1,\"так\",\"ні\"))","v":""},"",null,{"$f":"IFERROR(VLOOKUP(A730,'1.Портфель кредитів'!A:AC,30,FALSE),\"\")","v":""},{"$f":"SUMIF(B:B,B730,T:T)","v":0},{"$error":"#VALUE!"},null,null,null,null,null,{"$f":"VLOOKUP(C730,Hidden_Словник!$A$2:C$81,3,FALSE)","v":{"$error":"#N/A"}},0,{"$f":"VLOOKUP(E730,Hidden_Словник!$W$2:$X$13,2,FALSE)","v":{"$error":"#N/A"}},0,{"$error":"#N/A"}]
[null,"",{"$f":"IFERROR(VLOOKUP(A731,'1.Портфель кредитів'!A:AC,3,FALSE),\"\")","v":""},{"$f":"IFERROR(VLOOKUP(A731,'1.Портфель кредитів'!A:AC,14,FALSE),\"\")","v":""},null,null,null,null,null,null,null,null,null,null,null,null,"","",null,{"$f":"IFERROR(VLOOKUP(A731,'1.Портфель кредитів'!A:AC,30,FALSE),\"\")","v":""},0,{"$error":"#VALUE!"},null,null,null,null,null,{"$f":"VLOOKUP(C731,Hidden_Словник!$A$2:C$81,3,FALSE)","v":{"$error":"#N/A"}},0,{"$f":"VLOOKUP(E731,Hidden_Словник!$W$2:$X$13,2,FALSE)","v":{"$error":"#N/A"}},0,{"$error":"#N/A"}]
[null,"",{"$f":"IFERROR(VLOOKUP(A732,'1.Портфель кредитів'!A:AC,3,FALSE),\"\")","v":""},{"$f":"IFERROR(VLOOKUP(A732,'1.Портфель кредитів'!A:AC,14,FALSE),\"\")","v":""},null,null,null,null,null,null,null,null,null,null,null,null,"","",null,{"$f":"IFERROR(VLOOKUP(A732,'1.Портфель кредитів'!A:AC,30,FALSE),\"\")","v":""},0,{"$error":"#VALUE!"},null,null,null,null,null,{"$f":"VLOOKUP(C732,Hidden_Словник!$A$2:C$81,3,FALSE)","v":{"$error":"#N/A"}},0,{"$f":"VLOOKUP(E732,Hidden_Словник!$W$2:$X$13,2,FALSE)","v":{"$error":"#N/A"}},0,{"$error":"#N/A"}]
[null,"",{"$f":"IFERROR(VLOOKUP(A733,'1.Портфель кредитів'!A:AC,3,FALSE),\"\")","v":""},{"$f":"IFERROR(VLOOKUP(A733,'1.Портфель кредитів'!A:AC,14,FALSE),\"\")","v":""},null,null,null,null,null,null,null,null,null,null,null,null,"","",null,{"$f":"IFERROR(VLOOKUP(A733,'1.Портфель кредитів'!A:AC,30,FALSE),\"\")","v":""},0,{"$error":"#VALUE!"},null,null,null,null,null,{"$f":"VLOOKUP(C733,Hidden_Словник!$A$2:C$81,3,FALSE)","v":{"$error":"#N/A"}},0,{"$f":"VLOOKUP(E733,Hidden_Словник!$W$2:$X$13,2,FALSE)","v":{"$error":"#N/A"}},0,{"$error":"#N/A"}]
[null,"",{"$f":"IFERROR(VLOOKUP(A734,'1.Портфель кредитів'!A:AC,3,FALSE),\"\")","v":""},{"$f":"IFERROR(VLOOKUP(A734,'1.Портфель кредитів'!A:AC,14,FALSE),\"\")","v":""},null,null,null,null,null,null,null,null,null,null,null,null,"","",null,{"$f":"IFERROR(VLOOKUP(A734,'1.Портфель кредитів'!A:AC,30,FALSE),\"\")","v":""},0,{"$error":"#VALUE!"},null,null,null,null,null,{"$f":"VLOOKUP(C734,Hidden_Словник!$A$2:C$81,3,FALSE)","v":{"$error":"#N/A"}},0,{"$f":"VLOOKUP(E734,Hidden_Словник!$W$2:$X$13,2,FALSE)","v":{"$error":"#N/A"}},0,{"$error":"#N/A"}]
[null,"",{"$f":"IFERROR(VLOOKUP(A735,'1.Портфель кредитів'!A:AC,3,FALSE),\"\")","v":""},{"$f":"IFERROR(VLOOKUP(A735,'1.Портфель кредитів'!A:AC,14,FALSE),\"\")","v":""},null,null,null,null,null,null,null,null,null,null,null,null,"","",null,{"$f":"IFERROR(VLOOKUP(A735,'1.Портфель кредитів'!A:AC,30,FALSE),\"\")","v":""},0,{"$error":"#VALUE!"},null,null,null,null,null,{"$f":"VLOOKUP(C735,Hidden_Словник!$A$2:C$81,3,FALSE)","v":{"$error":"#N/A"}},0,{"$f":"VLOOKUP(E735,Hidden_Словник!$W$2:$X$13,2,FALSE)","v":{"$error":"#N/A"}},0,{"$error":"#N/A"}]
[null,"",{"$f":"IFERROR(VLOOKUP(A736,'1.Портфель кредитів'!A:AC,3,FALSE),\"\")","v":""},{"$f":"IFERROR(VLOOKUP(A736,'1.Портфель кредитів'!A:AC,14,FALSE),\"\")","v":""},null,null,null,null,null,null,null,null,null,null,null,null,"","",null,{"$f":"IFERROR(VLOOKUP(A736,'1.Портфель кредитів'!A:AC,30,FALSE),\"\")","v":""},0,{"$error":"#VALUE!"},null,null,null,null,null,{"$f":"VLOOKUP(C736,Hidden_Словник!$A$2:C$81,3,FALSE)","v":{"$error":"#N/A"}},0,{"$f":"VLOOKUP(E736,Hidden_Словник!$W$2:$X$13,2,FALSE)","v":{"$error":"#N/A"}},0,{"$error":"#N/A"}]
[null,"",{"$f":"IFERROR(VLOOKUP(A737,'1.Портфель кредитів'!A:AC,3,FALSE),\"\")","v":""},{"$f":"IFERROR(VLOOKUP(A737,'1.Портфель кредитів'!A:AC,14,FALSE),\"\")","v":""},null,null,null,null,null,null,null,null,null,null,null,null,"","",null,{"$f":"IFERROR(VLOOKUP(A737,'1.Портфель кредитів'!A:AC,30,FALSE),\"\")","v":""},0,{"$error":"#VALUE!"},null,null,null,null,null,{"$f":"VLOOKUP(C737,Hidden_Словник!$A$2:C$81,3,FALSE)","v":{"$error":"#N/A"}},0,{"$f":"VLOOKUP(E737,Hidden_Словник!$W$2:$X$13,2,FALSE)","v":{"$error":"#N/A"}},0,{"$error":"#N/A"}]
[null,"",{"$f":"IFERROR(VLOOKUP(A738,'1.Портфель кредитів'!A:AC,3,FALSE),\"\")","v":""},{"$f":"IFERROR(VLOOKUP(A738,'1.Портфель кредитів'!A:AC,14,FALSE),\"\")","v":""},null,null,null,null,null,null,null,null,null,null,null,null,"","",null,{"$f":"IFERROR(VLOOKUP(A738,'1.Портфель кредитів'!A:AC,30,FALSE),\"\")","v":""},0,{"$error":"#VALUE!"},null,null,null,null,null,{"$f":"VLOOKUP(C738,Hidden_Словник!$A$2:C$81,3,FALSE)","v":{"$error":"#N/A"}},0,{"$f":"VLOOKUP(E738,Hidden_Словник!$W$2:$X$13,2,FALSE)","v":{"$error":"#N/A"}},0,{"$error":"#N/A"}]
[null,"",{"$f":"IFERROR(VLOOKUP(A739,'1.Портфель кредитів'!A:AC,3,FALSE),\"\")","v":""},{"$f":"IFERROR(VLOOKUP(A739,'1.Портфель кредитів'!A:AC,14,FALSE),\"\")","v":""},null,null,null,null,null,null,null,null,null,null,null,null,"","",null,{"$f":"IFERROR(VLOOKUP(A739,'1.Портфель кредитів'!A:AC,30,FALSE),\"\")","v":""},0,{"$error":"#VALUE!"},null,null,null,null,null,{"$f":"VLOOKUP(C739,Hidden_Словник!$A$2:C$81,3,FALSE)","v":{"$error":"#N/A"}},0,{"$f":"VLOOKUP(E739,Hidden_Словник!$W$2:$X$13,2,FALSE)","v":{"$error":"#N/A"}},0,{"$error":"#N/A"}]
[null,"",{"$f":"IFERROR(VLOOKUP(A740,'1.Портфель кредитів'!A:AC,3,FALSE),\"\")","v":""},{"$f":"IFERROR(VLOOKUP(A740,'1.Портфель кредитів'!A:AC,14,FALSE),\"\")","v":""},null,null,null,null,null,null,null,null,null,null,null,null,"","",null,{"$f":"IFERROR(VLOOKUP(A740,'1.Портфель кредитів'!A:AC,30,FALSE),\"\")","v":""},0,{"$error":"#VALUE!"},null,null,null,null,null,{"$f":"VLOOKUP(C740,Hidden_Словник!$A$2:C$81,3,FALSE)","v":{"$error":"#N/A"}},0,{"$f":"VLOOKUP(E740,Hidden_Словник!$W$2:$X$13,2,FALSE)","v":{"$error":"#N/A"}},0,{"$error":"#N/A"}]
[null,"",{"$f":"IFERROR(VLOOKUP(A741,'1.Портфель кредитів'!A:AC,3,FALSE),\"\")","v":""},{"$f":"IFERROR(VLOOKUP(A741,'1.Портфель кредитів'!A:AC,14,FALSE),\"\")","v":""},null,null,null,null,null,null,null,null,null,null,null,null,"","",null,{"$f":"IFERROR(VLOOKUP(A741,'1.Портфель кредитів'!A:AC,30,FALSE),\"\")","v":""},0,{"$error":"#VALUE!"},null,null,null,null,null,{"$f":"VLOOKUP(C741,Hidden_Словник!$A$2:C$81,3,FALSE)","v":{"$error":"#N/A"}},0,{"$f":"VLOOKUP(E741,Hidden_Словник!$W$2:$X$13,2,FALSE)","v":{"$error":"#N/A"}},0,{"$error":"#N/A"}]
[null,"",{"$f":"IFERROR(VLOOKUP(A742,'1.Портфель кредитів'!A:AC,3,FALSE),\"\")","v":""},{"$f":"IFERROR(VLOOKUP(A742,'1.Портфель кредитів'!A:AC,14,FALSE),\"\")","v":""},null,null,null,null,null,null,null,null,null,null,null,null,"","",null,{"$f":"IFERROR(VLOOKUP(A742,'1.Портфель кредитів'!A:AC,30,FALSE),\"\")","v":""},0,{"$error":"#VALUE!"},null,null,null,null,null,{"$f":"VLOOKUP(C742,Hidden_Словник!$A$2:C$81,3,FALSE)","v":{"$error":"#N/A"}},0,{"$f":"VLOOKUP(E742,Hidden_Словник!$W$2:$X$13,2,FALSE)","v":{"$error":"#N/A"}},0,{"$error":"#N/A"}]
[null,"",{"$f":"IFERROR(VLOOKUP(A743,'1.Портфель кредитів'!A:AC,3,FALSE),\"\")","v":""},{"$f":"IFERROR(VLOOKUP(A743,'1.Портфель кредитів'!A:AC,14,FALSE),\"\")","v":""},null,null,null,null,null,null,null,null,null,null,null,null,"","",null,{"$f":"IFERROR(VLOOKUP(A743,'1.Портфель кредитів'!A:AC,30,FALSE),\"\")","v":""},0,{"$error":"#VALUE!"},null,null,null,null,null,{"$f":"VLOOKUP(C743,Hidden_Словник!$A$2:C$81,3,FALSE)","v":{"$error":"#N/A"}},0,{"$f":"VLOOKUP(E743,Hidden_Словник!$W$2:$X$13,2,FALSE)","v":{"$error":"#N/A"}},0,{"$error":"#N/A"}]
[null,"",{"$f":"IFERROR(VLOOKUP(A744,'1.Портфель кредитів'!A:AC,3,FALSE),\"\")","v":""},{"$f":"IFERROR(VLOOKUP(A744,'1.Портфель кредитів'!A:AC,14,FALSE),\"\")","v":""},null,null,null,null,null,null,null,null,null,null,null,null,"","",null,{"$f":"IFERROR(VLOOKUP(A744,'1.Портфель кредитів'!A:AC,30,FALSE),\"\")","v":""},0,{"$error":"#VALUE!"},null,null,null,null,null,{"$f":"VLOOKUP(C744,Hidden_Словник!$A$2:C$81,3,FALSE)","v":{"$error":"#N/A"}},0,{"$f":"VLOOKUP(E744,Hidden_Словник!$W$2:$X$13,2,FALSE)","v":{"$error":"#N/A"}},0,{"$error":"#N/A"}]
[null,"",{"$f":"IFERROR(VLOOKUP(A745,'1.Портфель кредитів'!A:AC,3,FALSE),\"\")","v":""},{"$f":"IFERROR(VLOOKUP(A745,'1.Портфель кредитів'!A:AC,14,FALSE),\"\")","v":""},null,null,null,null,null,null,null,null,null,null,null,null,"","",null,{"$f":"IFERROR(VLOOKUP(A745,'1.Портфель кредитів'!A:AC,30,FALSE),\"\")","v":""},0,{"$error":"#VALUE!"},null,null,null,null,null,{"$f":"VLOOKUP(C745,Hidden_Словник!$A$2:C$81,3,FALSE)","v":{"$error":"#N/A"}},0,{"$f":"VLOOKUP(E745,Hidden_Словник!$W$2:$X$13,2,FALSE)","v":{"$error":"#N/A"}},0,{"$error":"#N/A"}]
[null,"",{"$f":"IFERROR(VLOOKUP(A746,'1.Портфель кредитів'!A:AC,3,FALSE),\"\")","v":""},{"$f":"IFERROR(VLOOKUP(A746,'1.Портфель кредитів'!A:AC,14,FALSE),\"\")","v":""},null,null,null,null,null,null,null,null,null,null,null,null,"","",null,{"$f":"IFERROR(VLOOKUP(A746,'1.Портфель кредитів'!A:AC,30,FALSE),\"\")","v":""},0,{"$error":"#VALUE!"},null,null,null,null,null,{"$f":"VLOOKUP(C746,Hidden_Словник!$A$2:C$81,3,FALSE)","v":{"$error":"#N/A"}},0,{"$f":"VLOOKUP(E746,Hidden_Словник!$W$2:$X$13,2,FALSE)","v":{"$error":"#N/A"}},0,{"$error":"#N/A"}]
[null,"",{"$f":"IFERROR(VLOOKUP(A747,'1.Портфель кредитів'!A:AC,3,FALSE),\"\")","v":""},{"$f":"IFERROR(VLOOKUP(A747,'1.Портфель кредитів'!A:AC,14,FALSE),\"\")","v":""},null,null,null,null,null,null,null,null,null,null,null,null,"","",null,{"$f":"IFERROR(VLOOKUP(A747,'1.Портфель кредитів'!A:AC,30,FALSE),\"\")","v":""},0,{"$error":"#VALUE!"},null,null,null,null,null,{"$f":"VLOOKUP(C747,Hidden_Словник!$A$2:C$81,3,FALSE)","v":{"$error":"#N/A"}},0,{"$f":"VLOOKUP(E747,Hidden_Словник!$W$2:$X$13,2,FALSE)","v":{"$error":"#N/A"}},0,{"$error":"#N/A"}]
[null,"",{"$f":"IFERROR(VLOOKUP(A748,'1.Портфель кредитів'!A:AC,3,FALSE),\"\")","v":""},{"$f":"IFERROR(VLOOKUP(A748,'1.Портфель кредитів'!A:AC,14,FALSE),\"\")","v":""},null,null,null,null,null,null,null,null,null,null,null,null,"","",null,{"$f":"IFERROR(VLOOKUP(A748,'1.Портфель кредитів'!A:AC,30,FALSE),\"\")","v":""},0,{"$error":"#VALUE!"},null,null,null,null,null,{"$f":"VLOOKUP(C748,Hidden_Словник!$A$2:C$81,3,FALSE)","v":{"$error":"#N/A"}},0,{"$f":"VLOOKUP(E748,Hidden_Словник!$W$2:$X$13,2,FALSE)","v":{"$error":"#N/A"}},0,{"$error":"#N/A"}]
[null,"",{"$f":"IFERROR(VLOOKUP(A749,'1.Портфель кредитів'!A:AC,3,FALSE),\"\")","v":""},{"$f":"IFERROR(VLOOKUP(A749,'1.Портфель кредитів'!A:AC,14,FALSE),\"\")","v":""},null,null,null,null,null,null,null,null,null,null,null,null,"","",null,{"$f":"IFERROR(VLOOKUP(A749,'1.Портфель кредитів'!A:AC,30,FALSE),\"\")","v":""},0,{"$error":"#VALUE!"},null,null,null,null,null,{"$f":"VLOOKUP(C749,Hidden_Словник!$A$2:C$81,3,FALSE)","v":{"$error":"#N/A"}},0,{"$f":"VLOOKUP(E749,Hidden_Словник!$W$2:$X$13,2,FALSE)","v":{"$error":"#N/A"}},0,{"$error":"#N/A"}]
[null,"",{"$f":"IFERROR(VLOOKUP(A750,'1.Портфель кредитів'!A:AC,3,FALSE),\"\")","v":""},{"$f":"IFERROR(VLOOKUP(A750,'1.Портфель кредитів'!A:AC,14,FALSE),\"\")","v":""},null,null,null,null,null,null,null,null,null,null,null,null,"","",null,{"$f":"IFERROR(VLOOKUP(A750,'1.Портфель кредитів'!A:AC,30,FALSE),\"\")","v":""},0,{"$error":"#VALUE!"},null,null,null,null,null,{"$f":"VLOOKUP(C750,Hidden_Словник!$A$2:C$81,3,FALSE)","v":{"$error":"#N/A"}},0,{"$f":"VLOOKUP(E750,Hidden_Словник!$W$2:$X$13,2,FALSE)","v":{"$error":"#N/A"}},0,{"$error":"#N/A"}]
[null,"",{"$f":"IFERROR(VLOOKUP(A751,'1.Портфель кредитів'!A:AC,3,FALSE),\"\")","v":""},{"$f":"IFERROR(VLOOKUP(A751,'1.Портфель кредитів'!A:AC,14,FALSE),\"\")","v":""},null,null,null,null,null,null,null,null,null,null,null,null,"","",null,{"$f":"IFERROR(VLOOKUP(A751,'1.Портфель кредитів'!A:AC,30,FALSE),\"\")","v":""},0,{"$error":"#VALUE!"},null,null,null,null,null,{"$f":"VLOOKUP(C751,Hidden_Словник!$A$2:C$81,3,FALSE)","v":{"$error":"#N/A"}},0,{"$f":"VLOOKUP(E751,Hidden_Словник!$W$2:$X$13,2,FALSE)","v":{"$error":"#N/A"}},0,{"$error":"#N/A"}]
[null,"",{"$f":"IFERROR(VLOOKUP(A752,'1.Портфель кредитів'!A:AC,3,FALSE),\"\")","v":""},{"$f":"IFERROR(VLOOKUP(A752,'1.Портфель кредитів'!A:AC,14,FALSE),\"\")","v":""},null,null,null,null,null,null,null,null,null,null,null,null,"","",null,{"$f":"IFERROR(VLOOKUP(A752,'1.Портфель кредитів'!A:AC,30,FALSE),\"\")","v":""},0,{"$error":"#VALUE!"},null,null,null,null,null,{"$f":"VLOOKUP(C752,Hidden_Словник!$A$2:C$81,3,FALSE)","v":{"$error":"#N/A"}},0,{"$f":"VLOOKUP(E752,Hidden_Словник!$W$2:$X$13,2,FALSE)","v":{"$error":"#N/A"}},0,{"$error":"#N/A"}]
[null,"",{"$f":"IFERROR(VLOOKUP(A753,'1.Портфель кредитів'!A:AC,3,FALSE),\"\")","v":""},{"$f":"IFERROR(VLOOKUP(A753,'1.Портфель кредитів'!A:AC,14,FALSE),\"\")","v":""},null,null,null,null,null,null,null,null,null,null,null,null,"","",null,{"$f":"IFERROR(VLOOKUP(A753,'1.Портфель кредитів'!A:AC,30,FALSE),\"\")","v":""},0,{"$error":"#VALUE!"},null,null,null,null,null,{"$f":"VLOOKUP(C753,Hidden_Словник!$A$2:C$81,3,FALSE)","v":{"$error":"#N/A"}},0,{"$f":"VLOOKUP(E753,Hidden_Словник!$W$2:$X$13,2,FALSE)","v":{"$error":"#N/A"}},0,{"$error":"#N/A"}]
[null,"",{"$f":"IFERROR(VLOOKUP(A754,'1.Портфель кредитів'!A:AC,3,FALSE),\"\")","v":""},{"$f":"IFERROR(VLOOKUP(A754,'1.Портфель кредитів'!A:AC,14,FALSE),\"\")","v":""},null,null,null,null,null,null,null,null,null,null,null,null,"","",null,{"$f":"IFERROR(VLOOKUP(A754,'1.Портфель кредитів'!A:AC,30,FALSE),\"\")","v":""},0,{"$error":"#VALUE!"},null,null,null,null,null,{"$f":"VLOOKUP(C754,Hidden_Словник!$A$2:C$81,3,FALSE)","v":{"$error":"#N/A"}},0,{"$f":"VLOOKUP(E754,Hidden_Словник!$W$2:$X$13,2,FALSE)","v":{"$error":"#N/A"}},0,{"$error":"#N/A"}]
[null,"",{"$f":"IFERROR(VLOOKUP(A755,'1.Портфель кредитів'!A:AC,3,FALSE),\"\")","v":""},{"$f":"IFERROR(VLOOKUP(A755,'1.Портфель кредитів'!A:AC,14,FALSE),\"\")","v":""},null,null,null,null,null,null,null,null,null,null,null,null,"","",null,{"$f":"IFERROR(VLOOKUP(A755,'1.Портфель кредитів'!A:AC,30,FALSE),\"\")","v":""},0,{"$error":"#VALUE!"},null,null,null,null,null,{"$f":"VLOOKUP(C755,Hidden_Словник!$A$2:C$81,3,FALSE)","v":{"$error":"#N/A"}},0,{"$f":"VLOOKUP(E755,Hidden_Словник!$W$2:$X$13,2,FALSE)","v":{"$error":"#N/A"}},0,{"$error":"#N/A"}]
[null,"",{"$f":"IFERROR(VLOOKUP(A756,'1.Портфель кредитів'!A:AC,3,FALSE),\"\")","v":""},{"$f":"IFERROR(VLOOKUP(A756,'1.Портфель кредитів'!A:AC,14,FALSE),\"\")","v":""},null,null,null,null,null,null,null,null,null,null,null,null,"","",null,{"$f":"IFERROR(VLOOKUP(A756,'1.Портфель кредитів'!A:AC,30,FALSE),\"\")","v":""},0,{"$error":"#VALUE!"},null,null,null,null,null,{"$f":"VLOOKUP(C756,Hidden_Словник!$A$2:C$81,3,FALSE)","v":{"$error":"#N/A"}},0,{"$f":"VLOOKUP(E756,Hidden_Словник!$W$2:$X$13,2,FALSE)","v":{"$error":"#N/A"}},0,{"$error":"#N/A"}]
[null,"",{"$f":"IFERROR(VLOOKUP(A757,'1.Портфель кредитів'!A:AC,3,FALSE),\"\")","v":""},{"$f":"IFERROR(VLOOKUP(A757,'1.Портфель кредитів'!A:AC,14,FALSE),\"\")","v":""},null,null,null,null,null,null,null,null,null,null,null,null,"","",null,{"$f":"IFERROR(VLOOKUP(A757,'1.Портфель кредитів'!A:AC,30,FALSE),\"\")","v":""},0,{"$error":"#VALUE!"},null,null,null,null,null,{"$f":"VLOOKUP(C757,Hidden_Словник!$A$2:C$81,3,FALSE)","v":{"$error":"#N/A"}},0,{"$f":"VLOOKUP(E757,Hidden_Словник!$W$2:$X$13,2,FALSE)","v":{"$error":"#N/A"}},0,{"$error":"#N/A"}]
[null,"",{"$f":"IFERROR(VLOOKUP(A758,'1.Портфель кредитів'!A:AC,3,FALSE),\"\")","v":""},{"$f":"IFERROR(VLOOKUP(A758,'1.Портфель кредитів'!A:AC,14,FALSE),\"\")","v":""},null,null,null,null,null,null,null,null,null,null,null,null,"","",null,{"$f":"IFERROR(VLOOKUP(A758,'1.Портфель кредитів'!A:AC,30,FALSE),\"\")","v":""},0,{"$error":"#VALUE!"},null,null,null,null,null,{"$f":"VLOOKUP(C758,Hidden_Словник!$A$2:C$81,3,FALSE)","v":{"$error":"#N/A"}},0,{"$f":"VLOOKUP(E758,Hidden_Словник!$W$2:$X$13,2,FALSE)","v":{"$error":"#N/A"}},0,{"$error":"#N/A"}]
[null,"",{"$f":"IFERROR(VLOOKUP(A759,'1.Портфель кредитів'!A:AC,3,FALSE),\"\")","v":""},{"$f":"IFERROR(VLOOKUP(A759,'1.Портфель кредитів'!A:AC,14,FALSE),\"\")","v":""},null,null,null,null,null,null,null,null,null,null,null,null,"","",null,{"$f":"IFERROR(VLOOKUP(A759,'1.Портфель кредитів'!A:AC,30,FALSE),\"\")","v":""},0,{"$error":"#VALUE!"},null,null,null,null,null,{"$f":"VLOOKUP(C759,Hidden_Словник!$A$2:C$81,3,FALSE)","v":{"$error":"#N/A"}},0,{"$f":"VLOOKUP(E759,Hidden_Словник!$W$2:$X$13,2,FALSE)","v":{"$error":"#N/A"}},0,{"$error":"#N/A"}]
[null,"",{"$f":"IFERROR(VLOOKUP(A760,'1.Портфель кредитів'!A:AC,3,FALSE),\"\")","v":""},{"$f":"IFERROR(VLOOKUP(A760,'1.Портфель кредитів'!A:AC,14,FALSE),\"\")","v":""},null,null,null,null,null,null,null,null,null,null,null,null,"","",null,{"$f":"IFERROR(VLOOKUP(A760,'1.Портфель кредитів'!A:AC,30,FALSE),\"\")","v":""},0,{"$error":"#VALUE!"},null,null,null,null,null,{"$f":"VLOOKUP(C760,Hidden_Словник!$A$2:C$81,3,FALSE)","v":{"$error":"#N/A"}},0,{"$f":"VLOOKUP(E760,Hidden_Словник!$W$2:$X$13,2,FALSE)","v":{"$error":"#N/A"}},0,{"$error":"#N/A"}]
[null,"",{"$f":"IFERROR(VLOOKUP(A761,'1.Портфель кредитів'!A:AC,3,FALSE),\"\")","v":""},{"$f":"IFERROR(VLOOKUP(A761,'1.Портфель кредитів'!A:AC,14,FALSE),\"\")","v":""},null,null,null,null,null,null,null,null,null,null,null,null,"","",null,{"$f":"IFERROR(VLOOKUP(A761,'1.Портфель кредитів'!A:AC,30,FALSE),\"\")","v":""},0,{"$error":"#VALUE!"},null,null,null,null,null,{"$f":"VLOOKUP(C761,Hidden_Словник!$A$2:C$81,3,FALSE)","v":{"$error":"#N/A"}},0,{"$f":"VLOOKUP(E761,Hidden_Словник!$W$2:$X$13,2,FALSE)","v":{"$error":"#N/A"}},0,{"$error":"#N/A"}]
[null,"",{"$f":"IFERROR(VLOOKUP(A762,'1.Портфель кредитів'!A:AC,3,FALSE),\"\")","v":""},{"$f":"IFERROR(VLOOKUP(A762,'1.Портфель кредитів'!A:AC,14,FALSE),\"\")","v":""},null,null,null,null,null,null,null,null,null,null,null,null,"","",null,{"$f":"IFERROR(VLOOKUP(A762,'1.Портфель кредитів'!A:AC,30,FALSE),\"\")","v":""},0,{"$error":"#VALUE!"},null,null,null,null,null,{"$f":"VLOOKUP(C762,Hidden_Словник!$A$2:C$81,3,FALSE)","v":{"$error":"#N/A"}},0,{"$f":"VLOOKUP(E762,Hidden_Словник!$W$2:$X$13,2,FALSE)","v":{"$error":"#N/A"}},0,{"$error":"#N/A"}]
[null,"",{"$f":"IFERROR(VLOOKUP(A763,'1.Портфель кредитів'!A:AC,3,FALSE),\"\")","v":""},{"$f":"IFERROR(VLOOKUP(A763,'1.Портфель кредитів'!A:AC,14,FALSE),\"\")","v":""},null,null,null,null,null,null,null,null,null,null,null,null,"","",null,{"$f":"IFERROR(VLOOKUP(A763,'1.Портфель кредитів'!A:AC,30,FALSE),\"\")","v":""},0,{"$error":"#VALUE!"},null,null,null,null,null,{"$f":"VLOOKUP(C763,Hidden_Словник!$A$2:C$81,3,FALSE)","v":{"$error":"#N/A"}},0,{"$f":"VLOOKUP(E763,Hidden_Словник!$W$2:$X$13,2,FALSE)","v":{"$error":"#N/A"}},0,{"$error":"#N/A"}]
[null,"",{"$f":"IFERROR(VLOOKUP(A764,'1.Портфель кредитів'!A:AC,3,FALSE),\"\")","v":""},{"$f":"IFERROR(VLOOKUP(A764,'1.Портфель кредитів'!A:AC,14,FALSE),\"\")","v":""},null,null,null,null,null,null,null,null,null,null,null,null,"","",null,{"$f":"IFERROR(VLOOKUP(A764,'1.Портфель кредитів'!A:AC,30,FALSE),\"\")","v":""},0,{"$error":"#VALUE!"},null,null,null,null,null,{"$f":"VLOOKUP(C764,Hidden_Словник!$A$2:C$81,3,FALSE)","v":{"$error":"#N/A"}},0,{"$f":"VLOOKUP(E764,Hidden_Словник!$W$2:$X$13,2,FALSE)","v":{"$error":"#N/A"}},0,{"$error":"#N/A"}]
[null,"",{"$f":"IFERROR(VLOOKUP(A765,'1.Портфель кредитів'!A:AC,3,FALSE),\"\")","v":""},{"$f":"IFERROR(VLOOKUP(A765,'1.Портфель кредитів'!A:AC,14,FALSE),\"\")","v":""},null,null,null,null,null,null,null,null,null,null,null,null,"","",null,{"$f":"IFERROR(VLOOKUP(A765,'1.Портфель кредитів'!A:AC,30,FALSE),\"\")","v":""},0,{"$error":"#VALUE!"},null,null,null,null,null,{"$f":"VLOOKUP(C765,Hidden_Словник!$A$2:C$81,3,FALSE)","v":{"$error":"#N/A"}},0,{"$f":"VLOOKUP(E765,Hidden_Словник!$W$2:$X$13,2,FALSE)","v":{"$error":"#N/A"}},0,{"$error":"#N/A"}]
[null,"",{"$f":"IFERROR(VLOOKUP(A766,'1.Портфель кредитів'!A:AC,3,FALSE),\"\")","v":""},{"$f":"IFERROR(VLOOKUP(A766,'1.Портфель кредитів'!A:AC,14,FALSE),\"\")","v":""},null,null,null,null,null,null,null,null,null,null,null,null,"","",null,{"$f":"IFERROR(VLOOKUP(A766,'1.Портфель кредитів'!A:AC,30,FALSE),\"\")","v":""},0,{"$error":"#VALUE!"},null,null,null,null,null,{"$f":"VLOOKUP(C766,Hidden_Словник!$A$2:C$81,3,FALSE)","v":{"$error":"#N/A"}},0,{"$f":"VLOOKUP(E766,Hidden_Словник!$W$2:$X$13,2,FALSE)","v":{"$error":"#N/A"}},0,{"$error":"#N/A"}]
[null,"",{"$f":"IFERROR(VLOOKUP(A767,'1.Портфель кредитів'!A:AC,3,FALSE),\"\")","v":""},{"$f":"IFERROR(VLOOKUP(A767,'1.Портфель кредитів'!A:AC,14,FALSE),\"\")","v":""},null,null,null,null,null,null,null,null,null,null,null,null,"","",null,{"$f":"IFERROR(VLOOKUP(A767,'1.Портфель кредитів'!A:AC,30,FALSE),\"\")","v":""},0,{"$f":"T767/U767","v":{"$error":"#VALUE!"}},null,null,null,null,null,{"$f":"VLOOKUP(C767,Hidden_Словник!$A$2:C$81,3,FALSE)","v":{"$error":"#N/A"}},0,{"$f":"VLOOKUP(E767,Hidden_Словник!$W$2:$X$13,2,FALSE)","v":{"$error":"#N/A"}},0,{"$error":"#N/A"}]
[null,"",{"$f":"IFERROR(VLOOKUP(A768,'1.Портфель кредитів'!A:AC,3,FALSE),\"\")","v":""},{"$f":"IFERROR(VLOOKUP(A768,'1.Портфель кредитів'!A:AC,14,FALSE),\"\")","v":""},null,null,null,null,null,null,null,null,null,null,null,null,"","",null,{"$f":"IFERROR(VLOOKUP(A768,'1.Портфель кредитів'!A:AC,30,FALSE),\"\")","v":""},0,{"$error":"#VALUE!"},null,null,null,null,null,{"$f":"VLOOKUP(C768,Hidden_Словник!$A$2:C$81,3,FALSE)","v":{"$error":"#N/A"}},0,{"$f":"VLOOKUP(E768,Hidden_Словник!$W$2:$X$13,2,FALSE)","v":{"$error":"#N/A"}},0,{"$error":"#N/A"}]
[null,"",{"$f":"IFERROR(VLOOKUP(A769,'1.Портфель кредитів'!A:AC,3,FALSE),\"\")","v":""},{"$f":"IFERROR(VLOOKUP(A769,'1.Портфель кредитів'!A:AC,14,FALSE),\"\")","v":""},null,null,null,null,null,null,null,null,null,null,null,null,"","",null,{"$f":"IFERROR(VLOOKUP(A769,'1.Портфель кредитів'!A:AC,30,FALSE),\"\")","v":""},0,{"$error":"#VALUE!"},null,null,null,null,null,{"$f":"VLOOKUP(C769,Hidden_Словник!$A$2:C$81,3,FALSE)","v":{"$error":"#N/A"}},0,{"$f":"VLOOKUP(E769,Hidden_Словник!$W$2:$X$13,2,FALSE)","v":{"$error":"#N/A"}},0,{"$error":"#N/A"}]
[null,"",{"$f":"IFERROR(VLOOKUP(A770,'1.Портфель кредитів'!A:AC,3,FALSE),\"\")","v":""},{"$f":"IFERROR(VLOOKUP(A770,'1.Портфель кредитів'!A:AC,14,FALSE),\"\")","v":""},null,null,null,null,null,null,null,null,null,null,null,null,"","",null,{"$f":"IFERROR(VLOOKUP(A770,'1.Портфель кредитів'!A:AC,30,FALSE),\"\")","v":""},0,{"$error":"#VALUE!"},null,null,null,null,null,{"$f":"VLOOKUP(C770,Hidden_Словник!$A$2:C$81,3,FALSE)","v":{"$error":"#N/A"}},0,{"$f":"VLOOKUP(E770,Hidden_Словник!$W$2:$X$13,2,FALSE)","v":{"$error":"#N/A"}},0,{"$error":"#N/A"}]
[null,"",{"$f":"IFERROR(VLOOKUP(A771,'1.Портфель кредитів'!A:AC,3,FALSE),\"\")","v":""},{"$f":"IFERROR(VLOOKUP(A771,'1.Портфель кредитів'!A:AC,14,FALSE),\"\")","v":""},null,null,null,null,null,null,null,null,null,null,null,null,"","",null,{"$f":"IFERROR(VLOOKUP(A771,'1.Портфель кредитів'!A:AC,30,FALSE),\"\")","v":""},0,{"$error":"#VALUE!"},null,null,null,null,null,{"$f":"VLOOKUP(C771,Hidden_Словник!$A$2:C$81,3,FALSE)","v":{"$error":"#N/A"}},0,{"$f":"VLOOKUP(E771,Hidden_Словник!$W$2:$X$13,2,FALSE)","v":{"$error":"#N/A"}},0,{"$error":"#N/A"}]
[null,"",{"$f":"IFERROR(VLOOKUP(A772,'1.Портфель кредитів'!A:AC,3,FALSE),\"\")","v":""},{"$f":"IFERROR(VLOOKUP(A772,'1.Портфель кредитів'!A:AC,14,FALSE),\"\")","v":""},null,null,null,null,null,null,null,null,null,null,null,null,"","",null,{"$f":"IFERROR(VLOOKUP(A772,'1.Портфель кредитів'!A:AC,30,FALSE),\"\")","v":""},0,{"$error":"#VALUE!"},null,null,null,null,null,{"$f":"VLOOKUP(C772,Hidden_Словник!$A$2:C$81,3,FALSE)","v":{"$error":"#N/A"}},0,{"$f":"VLOOKUP(E772,Hidden_Словник!$W$2:$X$13,2,FALSE)","v":{"$error":"#N/A"}},0,{"$error":"#N/A"}]
[null,"",{"$f":"IFERROR(VLOOKUP(A773,'1.Портфель кредитів'!A:AC,3,FALSE),\"\")","v":""},{"$f":"IFERROR(VLOOKUP(A773,'1.Портфель кредитів'!A:AC,14,FALSE),\"\")","v":""},null,null,null,null,null,null,null,null,null,null,null,null,"","",null,{"$f":"IFERROR(VLOOKUP(A773,'1.Портфель кредитів'!A:AC,30,FALSE),\"\")","v":""},0,{"$error":"#VALUE!"},null,null,null,null,null,{"$f":"VLOOKUP(C773,Hidden_Словник!$A$2:C$81,3,FALSE)","v":{"$error":"#N/A"}},0,{"$f":"VLOOKUP(E773,Hidden_Словник!$W$2:$X$13,2,FALSE)","v":{"$error":"#N/A"}},0,{"$error":"#N/A"}]
[null,"",{"$f":"IFERROR(VLOOKUP(A774,'1.Портфель кредитів'!A:AC,3,FALSE),\"\")","v":""},{"$f":"IFERROR(VLOOKUP(A774,'1.Портфель кредитів'!A:AC,14,FALSE),\"\")","v":""},null,null,null,null,null,null,null,null,null,null,null,null,"","",null,{"$f":"IFERROR(VLOOKUP(A774,'1.Портфель кредитів'!A:AC,30,FALSE),\"\")","v":""},0,{"$error":"#VALUE!"},null,null,null,null,null,{"$f":"VLOOKUP(C774,Hidden_Словник!$A$2:C$81,3,FALSE)","v":{"$error":"#N/A"}},0,{"$f":"VLOOKUP(E774,Hidden_Словник!$W$2:$X$13,2,FALSE)","v":{"$error":"#N/A"}},0,{"$error":"#N/A"}]
[null,"",{"$f":"IFERROR(VLOOKUP(A775,'1.Портфель кредитів'!A:AC,3,FALSE),\"\")","v":""},{"$f":"IFERROR(VLOOKUP(A775,'1.Портфель кредитів'!A:AC,14,FALSE),\"\")","v":""},null,null,null,null,null,null,null,null,null,null,null,null,"","",null,{"$f":"IFERROR(VLOOKUP(A775,'1.Портфель кредитів'!A:AC,30,FALSE),\"\")","v":""},0,{"$error":"#VALUE!"},null,null,null,null,null,{"$f":"VLOOKUP(C775,Hidden_Словник!$A$2:C$81,3,FALSE)","v":{"$error":"#N/A"}},0,{"$f":"VLOOKUP(E775,Hidden_Словник!$W$2:$X$13,2,FALSE)","v":{"$error":"#N/A"}},0,{"$error":"#N/A"}]
[null,"",{"$f":"IFERROR(VLOOKUP(A776,'1.Портфель кредитів'!A:AC,3,FALSE),\"\")","v":""},{"$f":"IFERROR(VLOOKUP(A776,'1.Портфель кредитів'!A:AC,14,FALSE),\"\")","v":""},null,null,null,null,null,null,null,null,null,null,null,null,"","",null,{"$f":"IFERROR(VLOOKUP(A776,'1.Портфель кредитів'!A:AC,30,FALSE),\"\")","v":""},0,{"$error":"#VALUE!"},null,null,null,null,null,{"$f":"VLOOKUP(C776,Hidden_Словник!$A$2:C$81,3,FALSE)","v":{"$error":"#N/A"}},0,{"$f":"VLOOKUP(E776,Hidden_Словник!$W$2:$X$13,2,FALSE)","v":{"$error":"#N/A"}},0,{"$error":"#N/A"}]
[null,"",{"$f":"IFERROR(VLOOKUP(A777,'1.Портфель кредитів'!A:AC,3,FALSE),\"\")","v":""},{"$f":"IFERROR(VLOOKUP(A777,'1.Портфель кредитів'!A:AC,14,FALSE),\"\")","v":""},null,null,null,null,null,null,null,null,null,null,null,null,"","",null,{"$f":"IFERROR(VLOOKUP(A777,'1.Портфель кредитів'!A:AC,30,FALSE),\"\")","v":""},0,{"$error":"#VALUE!"},null,null,null,null,null,{"$f":"VLOOKUP(C777,Hidden_Словник!$A$2:C$81,3,FALSE)","v":{"$error":"#N/A"}},0,{"$f":"VLOOKUP(E777,Hidden_Словник!$W$2:$X$13,2,FALSE)","v":{"$error":"#N/A"}},0,{"$error":"#N/A"}]
[null,"",{"$f":"IFERROR(VLOOKUP(A778,'1.Портфель кредитів'!A:AC,3,FALSE),\"\")","v":""},{"$f":"IFERROR(VLOOKUP(A778,'1.Портфель кредитів'!A:AC,14,FALSE),\"\")","v":""},null,null,null,null,null,null,null,null,null,null,null,null,"","",null,{"$f":"IFERROR(VLOOKUP(A778,'1.Портфель кредитів'!A:AC,30,FALSE),\"\")","v":""},0,{"$error":"#VALUE!"},null,null,null,null,null,{"$f":"VLOOKUP(C778,Hidden_Словник!$A$2:C$81,3,FALSE)","v":{"$error":"#N/A"}},0,{"$f":"VLOOKUP(E778,Hidden_Словник!$W$2:$X$13,2,FALSE)","v":{"$error":"#N/A"}},0,{"$error":"#N/A"}]
[null,"",{"$f":"IFERROR(VLOOKUP(A779,'1.Портфель кредитів'!A:AC,3,FALSE),\"\")","v":""},{"$f":"IFERROR(VLOOKUP(A779,'1.Портфель кредитів'!A:AC,14,FALSE),\"\")","v":""},null,null,null,null,null,null,null,null,null,null,null,null,"","",null,{"$f":"IFERROR(VLOOKUP(A779,'1.Портфель кредитів'!A:AC,30,FALSE),\"\")","v":""},0,{"$error":"#VALUE!"},null,null,null,null,null,{"$f":"VLOOKUP(C779,Hidden_Словник!$A$2:C$81,3,FALSE)","v":{"$error":"#N/A"}},0,{"$f":"VLOOKUP(E779,Hidden_Словник!$W$2:$X$13,2,FALSE)","v":{"$error":"#N/A"}},0,{"$error":"#N/A"}]
[null,"",{"$f":"IFERROR(VLOOKUP(A780,'1.Портфель кредитів'!A:AC,3,FALSE),\"\")","v":""},{"$f":"IFERROR(VLOOKUP(A780,'1.Портфель кредитів'!A:AC,14,FALSE),\"\")","v":""},null,null,null,null,null,null,null,null,null,null,null,null,"","",null,{"$f":"IFERROR(VLOOKUP(A780,'1.Портфель кредитів'!A:AC,30,FALSE),\"\")","v":""},0,{"$error":"#VALUE!"},null,null,null,null,null,{"$f":"VLOOKUP(C780,Hidden_Словник!$A$2:C$81,3,FALSE)","v":{"$error":"#N/A"}},0,{"$f":"VLOOKUP(E780,Hidden_Словник!$W$2:$X$13,2,FALSE)","v":{"$error":"#N/A"}},0,{"$error":"#N/A"}]
[null,"",{"$f":"IFERROR(VLOOKUP(A781,'1.Портфель кредитів'!A:AC,3,FALSE),\"\")","v":""},{"$f":"IFERROR(VLOOKUP(A781,'1.Портфель кредитів'!A:AC,14,FALSE),\"\")","v":""},null,null,null,null,null,null,null,null,null,null,null,null,"","",null,{"$f":"IFERROR(VLOOKUP(A781,'1.Портфель кредитів'!A:AC,30,FALSE),\"\")","v":""},0,{"$error":"#VALUE!"},null,null,null,null,null,{"$f":"VLOOKUP(C781,Hidden_Словник!$A$2:C$81,3,FALSE)","v":{"$error":"#N/A"}},0,{"$f":"VLOOKUP(E781,Hidden_Словник!$W$2:$X$13,2,FALSE)","v":{"$error":"#N/A"}},0,{"$error":"#N/A"}]
[null,"",{"$f":"IFERROR(VLOOKUP(A782,'1.Портфель кредитів'!A:AC,3,FALSE),\"\")","v":""},{"$f":"IFERROR(VLOOKUP(A782,'1.Портфель кредитів'!A:AC,14,FALSE),\"\")","v":""},null,null,null,null,null,null,null,null,null,null,null,null,"","",null,{"$f":"IFERROR(VLOOKUP(A782,'1.Портфель кредитів'!A:AC,30,FALSE),\"\")","v":""},0,{"$error":"#VALUE!"},null,null,null,null,null,{"$f":"VLOOKUP(C782,Hidden_Словник!$A$2:C$81,3,FALSE)","v":{"$error":"#N/A"}},0,{"$f":"VLOOKUP(E782,Hidden_Словник!$W$2:$X$13,2,FALSE)","v":{"$error":"#N/A"}},0,{"$error":"#N/A"}]
[null,"",{"$f":"IFERROR(VLOOKUP(A783,'1.Портфель кредитів'!A:AC,3,FALSE),\"\")","v":""},{"$f":"IFERROR(VLOOKUP(A783,'1.Портфель кредитів'!A:AC,14,FALSE),\"\")","v":""},null,null,null,null,null,null,null,null,null,null,null,null,"","",null,{"$f":"IFERROR(VLOOKUP(A783,'1.Портфель кредитів'!A:AC,30,FALSE),\"\")","v":""},0,{"$error":"#VALUE!"},null,null,null,null,null,{"$f":"VLOOKUP(C783,Hidden_Словник!$A$2:C$81,3,FALSE)","v":{"$error":"#N/A"}},0,{"$f":"VLOOKUP(E783,Hidden_Словник!$W$2:$X$13,2,FALSE)","v":{"$error":"#N/A"}},0,{"$error":"#N/A"}]
[null,"",{"$f":"IFERROR(VLOOKUP(A784,'1.Портфель кредитів'!A:AC,3,FALSE),\"\")","v":""},{"$f":"IFERROR(VLOOKUP(A784,'1.Портфель кредитів'!A:AC,14,FALSE),\"\")","v":""},null,null,null,null,null,null,null,null,null,null,null,null,"","",null,{"$f":"IFERROR(VLOOKUP(A784,'1.Портфель кредитів'!A:AC,30,FALSE),\"\")","v":""},0,{"$error":"#VALUE!"},null,null,null,null,null,{"$f":"VLOOKUP(C784,Hidden_Словник!$A$2:C$81,3,FALSE)","v":{"$error":"#N/A"}},0,{"$f":"VLOOKUP(E784,Hidden_Словник!$W$2:$X$13,2,FALSE)","v":{"$error":"#N/A"}},0,{"$error":"#N/A"}]
[null,"",{"$f":"IFERROR(VLOOKUP(A785,'1.Портфель кредитів'!A:AC,3,FALSE),\"\")","v":""},{"$f":"IFERROR(VLOOKUP(A785,'1.Портфель кредитів'!A:AC,14,FALSE),\"\")","v":""},null,null,null,null,null,null,null,null,null,null,null,null,"","",null,{"$f":"IFERROR(VLOOKUP(A785,'1.Портфель кредитів'!A:AC,30,FALSE),\"\")","v":""},0,{"$error":"#VALUE!"},null,null,null,null,null,{"$f":"VLOOKUP(C785,Hidden_Словник!$A$2:C$81,3,FALSE)","v":{"$error":"#N/A"}},0,{"$f":"VLOOKUP(E785,Hidden_Словник!$W$2:$X$13,2,FALSE)","v":{"$error":"#N/A"}},0,{"$error":"#N/A"}]
[null,"",{"$f":"IFERROR(VLOOKUP(A786,'1.Портфель кредитів'!A:AC,3,FALSE),\"\")","v":""},{"$f":"IFERROR(VLOOKUP(A786,'1.Портфель кредитів'!A:AC,14,FALSE),\"\")","v":""},null,null,null,null,null,null,null,null,null,null,null,null,"","",null,{"$f":"IFERROR(VLOOKUP(A786,'1.Портфель кредитів'!A:AC,30,FALSE),\"\")","v":""},0,{"$error":"#VALUE!"},null,null,null,null,null,{"$f":"VLOOKUP(C786,Hidden_Словник!$A$2:C$81,3,FALSE)","v":{"$error":"#N/A"}},0,{"$f":"VLOOKUP(E786,Hidden_Словник!$W$2:$X$13,2,FALSE)","v":{"$error":"#N/A"}},0,{"$error":"#N/A"}]
[null,"",{"$f":"IFERROR(VLOOKUP(A787,'1.Портфель кредитів'!A:AC,3,FALSE),\"\")","v":""},{"$f":"IFERROR(VLOOKUP(A787,'1.Портфель кредитів'!A:AC,14,FALSE),\"\")","v":""},null,null,null,null,null,null,null,null,null,null,null,null,"","",null,{"$f":"IFERROR(VLOOKUP(A787,'1.Портфель кредитів'!A:AC,30,FALSE),\"\")","v":""},0,{"$error":"#VALUE!"},null,null,null,null,null,{"$f":"VLOOKUP(C787,Hidden_Словник!$A$2:C$81,3,FALSE)","v":{"$error":"#N/A"}},0,{"$f":"VLOOKUP(E787,Hidden_Словник!$W$2:$X$13,2,FALSE)","v":{"$error":"#N/A"}},0,{"$error":"#N/A"}]
[null,"",{"$f":"IFERROR(VLOOKUP(A788,'1.Портфель кредитів'!A:AC,3,FALSE),\"\")","v":""},{"$f":"IFERROR(VLOOKUP(A788,'1.Портфель кредитів'!A:AC,14,FALSE),\"\")","v":""},null,null,null,null,null,null,null,null,null,null,null,null,"","",null,{"$f":"IFERROR(VLOOKUP(A788,'1.Портфель кредитів'!A:AC,30,FALSE),\"\")","v":""},0,{"$error":"#VALUE!"},null,null,null,null,null,{"$f":"VLOOKUP(C788,Hidden_Словник!$A$2:C$81,3,FALSE)","v":{"$error":"#N/A"}},0,{"$f":"VLOOKUP(E788,Hidden_Словник!$W$2:$X$13,2,FALSE)","v":{"$error":"#N/A"}},0,{"$error":"#N/A"}]
[null,"",{"$f":"IFERROR(VLOOKUP(A789,'1.Портфель кредитів'!A:AC,3,FALSE),\"\")","v":""},{"$f":"IFERROR(VLOOKUP(A789,'1.Портфель кредитів'!A:AC,14,FALSE),\"\")","v":""},null,null,null,null,null,null,null,null,null,null,null,null,"","",null,{"$f":"IFERROR(VLOOKUP(A789,'1.Портфель кредитів'!A:AC,30,FALSE),\"\")","v":""},0,{"$error":"#VALUE!"},null,null,null,null,null,{"$f":"VLOOKUP(C789,Hidden_Словник!$A$2:C$81,3,FALSE)","v":{"$error":"#N/A"}},0,{"$f":"VLOOKUP(E789,Hidden_Словник!$W$2:$X$13,2,FALSE)","v":{"$error":"#N/A"}},0,{"$error":"#N/A"}]
[null,"",{"$f":"IFERROR(VLOOKUP(A790,'1.Портфель кредитів'!A:AC,3,FALSE),\"\")","v":""},{"$f":"IFERROR(VLOOKUP(A790,'1.Портфель кредитів'!A:AC,14,FALSE),\"\")","v":""},null,null,null,null,null,null,null,null,null,null,null,null,"",{"$f":"IFERROR(V790*L790,\"\")","v":""},null,{"$f":"IFERROR(VLOOKUP(A790,'1.Портфель кредитів'!A:AC,30,FALSE),\"\")","v":""},0,{"$error":"#VALUE!"},null,null,null,null,null,{"$f":"VLOOKUP(C790,Hidden_Словник!$A$2:C$81,3,FALSE)","v":{"$error":"#N/A"}},{"$f":"ROUNDUP(L790,0)","v":0},{"$f":"VLOOKUP(E790,Hidden_Словник!$W$2:$X$13,2,FALSE)","v":{"$error":"#N/A"}},{"$f":"O790","v":0},{"$error":"#N/A"}]
[null,{"$f":"IFERROR(AF791,\"\")","v":""},{"$f":"IFERROR(VLOOKUP(A791,'1.Портфель кредитів'!A:AC,3,FALSE),\"\")","v":""},{"$f":"IFERROR(VLOOKUP(A791,'1.Портфель кредитів'!A:AC,14,FALSE),\"\")","v":""},null,null,null,null,null,null,null,null,null,null,null,null,"","",null,{"$f":"IFERROR(VLOOKUP(A791,'1.Портфель кредитів'!A:AC,30,FALSE),\"\")","v":""},0,{"$error":"#VALUE!"},null,null,null,null,null,{"$f":"VLOOKUP(C791,Hidden_Словник!$A$2:C$81,3,FALSE)","v":{"$error":"#N/A"}},0,{"$f":"VLOOKUP(E791,Hidden_Словник!$W$2:$X$13,2,FALSE)","v":{"$error":"#N/A"}},0,{"$f":"AB791&\"_\"&AC791&AD791&AE791","v":{"$error":"#N/A"}}]
[null,"",{"$f":"IFERROR(VLOOKUP(A792,'1.Портфель кредитів'!A:AC,3,FALSE),\"\")","v":""},{"$f":"IFERROR(VLOOKUP(A792,'1.Портфель кредитів'!A:AC,14,FALSE),\"\")","v":""},null,null,null,null,null,null,null,null,null,null,null,null,"","",null,{"$f":"IFERROR(VLOOKUP(A792,'1.Портфель кредитів'!A:AC,30,FALSE),\"\")","v":""},0,{"$error":"#VALUE!"},null,null,null,null,null,{"$f":"VLOOKUP(C792,Hidden_Словник!$A$2:C$81,3,FALSE)","v":{"$error":"#N/A"}},0,{"$f":"VLOOKUP(E792,Hidden_Словник!$W$2:$X$13,2,FALSE)","v":{"$error":"#N/A"}},0,{"$error":"#N/A"}]
[null,"",{"$f":"IFERROR(VLOOKUP(A793,'1.Портфель кредитів'!A:AC,3,FALSE),\"\")","v":""},{"$f":"IFERROR(VLOOKUP(A793,'1.Портфель кредитів'!A:AC,14,FALSE),\"\")","v":""},null,null,null,null,null,null,null,null,null,null,null,null,"","",null,{"$f":"IFERROR(VLOOKUP(A793,'1.Портфель кредитів'!A:AC,30,FALSE),\"\")","v":""},0,{"$error":"#VALUE!"},null,null,null,null,null,{"$f":"VLOOKUP(C793,Hidden_Словник!$A$2:C$81,3,FALSE)","v":{"$error":"#N/A"}},0,{"$f":"VLOOKUP(E793,Hidden_Словник!$W$2:$X$13,2,FALSE)","v":{"$error":"#N/A"}},0,{"$error":"#N/A"}]
[null,"",{"$f":"IFERROR(VLOOKUP(A794,'1.Портфель кредитів'!A:AC,3,FALSE),\"\")","v":""},{"$f":"IFERROR(VLOOKUP(A794,'1.Портфель кредитів'!A:AC,14,FALSE),\"\")","v":""},null,null,null,null,null,null,null,null,null,null,null,null,{"$f":"IF(O794=\"\",\"\",IF(COUNTIF(AF:AF,AF794)>1,\"так\",\"ні\"))","v":""},"",null,{"$f":"IFERROR(VLOOKUP(A794,'1.Портфель кредитів'!A:AC,30,FALSE),\"\")","v":""},{"$f":"SUMIF(B:B,B794,T:T)","v":0},{"$error":"#VALUE!"},null,null,null,null,null,{"$f":"VLOOKUP(C794,Hidden_Словник!$A$2:C$81,3,FALSE)","v":{"$error":"#N/A"}},0,{"$f":"VLOOKUP(E794,Hidden_Словник!$W$2:$X$13,2,FALSE)","v":{"$error":"#N/A"}},0,{"$error":"#N/A"}]
[null,"",{"$f":"IFERROR(VLOOKUP(A795,'1.Портфель кредитів'!A:AC,3,FALSE),\"\")","v":""},{"$f":"IFERROR(VLOOKUP(A795,'1.Портфель кредитів'!A:AC,14,FALSE),\"\")","v":""},null,null,null,null,null,null,null,null,null,null,null,null,"","",null,{"$f":"IFERROR(VLOOKUP(A795,'1.Портфель кредитів'!A:AC,30,FALSE),\"\")","v":""},0,{"$error":"#VALUE!"},null,null,null,null,null,{"$f":"VLOOKUP(C795,Hidden_Словник!$A$2:C$81,3,FALSE)","v":{"$error":"#N/A"}},0,{"$f":"VLOOKUP(E795,Hidden_Словник!$W$2:$X$13,2,FALSE)","v":{"$error":"#N/A"}},0,{"$error":"#N/A"}]
[null,"",{"$f":"IFERROR(VLOOKUP(A796,'1.Портфель кредитів'!A:AC,3,FALSE),\"\")","v":""},{"$f":"IFERROR(VLOOKUP(A796,'1.Портфель кредитів'!A:AC,14,FALSE),\"\")","v":""},null,null,null,null,null,null,null,null,null,null,null,null,"","",null,{"$f":"IFERROR(VLOOKUP(A796,'1.Портфель кредитів'!A:AC,30,FALSE),\"\")","v":""},0,{"$error":"#VALUE!"},null,null,null,null,null,{"$f":"VLOOKUP(C796,Hidden_Словник!$A$2:C$81,3,FALSE)","v":{"$error":"#N/A"}},0,{"$f":"VLOOKUP(E796,Hidden_Словник!$W$2:$X$13,2,FALSE)","v":{"$error":"#N/A"}},0,{"$error":"#N/A"}]
[null,"",{"$f":"IFERROR(VLOOKUP(A797,'1.Портфель кредитів'!A:AC,3,FALSE),\"\")","v":""},{"$f":"IFERROR(VLOOKUP(A797,'1.Портфель кредитів'!A:AC,14,FALSE),\"\")","v":""},null,null,null,null,null,null,null,null,null,null,null,null,"","",null,{"$f":"IFERROR(VLOOKUP(A797,'1.Портфель кредитів'!A:AC,30,FALSE),\"\")","v":""},0,{"$error":"#VALUE!"},null,null,null,null,null,{"$f":"VLOOKUP(C797,Hidden_Словник!$A$2:C$81,3,FALSE)","v":{"$error":"#N/A"}},0,{"$f":"VLOOKUP(E797,Hidden_Словник!$W$2:$X$13,2,FALSE)","v":{"$error":"#N/A"}},0,{"$error":"#N/A"}]
[null,"",{"$f":"IFERROR(VLOOKUP(A798,'1.Портфель кредитів'!A:AC,3,FALSE),\"\")","v":""},{"$f":"IFERROR(VLOOKUP(A798,'1.Портфель кредитів'!A:AC,14,FALSE),\"\")","v":""},null,null,null,null,null,null,null,null,null,null,null,null,"","",null,{"$f":"IFERROR(VLOOKUP(A798,'1.Портфель кредитів'!A:AC,30,FALSE),\"\")","v":""},0,{"$error":"#VALUE!"},null,null,null,null,null,{"$f":"VLOOKUP(C798,Hidden_Словник!$A$2:C$81,3,FALSE)","v":{"$error":"#N/A"}},0,{"$f":"VLOOKUP(E798,Hidden_Словник!$W$2:$X$13,2,FALSE)","v":{"$error":"#N/A"}},0,{"$error":"#N/A"}]
[null,"",{"$f":"IFERROR(VLOOKUP(A799,'1.Портфель кредитів'!A:AC,3,FALSE),\"\")","v":""},{"$f":"IFERROR(VLOOKUP(A799,'1.Портфель кредитів'!A:AC,14,FALSE),\"\")","v":""},null,null,null,null,null,null,null,null,null,null,null,null,"","",null,{"$f":"IFERROR(VLOOKUP(A799,'1.Портфель кредитів'!A:AC,30,FALSE),\"\")","v":""},0,{"$error":"#VALUE!"},null,null,null,null,null,{"$f":"VLOOKUP(C799,Hidden_Словник!$A$2:C$81,3,FALSE)","v":{"$error":"#N/A"}},0,{"$f":"VLOOKUP(E799,Hidden_Словник!$W$2:$X$13,2,FALSE)","v":{"$error":"#N/A"}},0,{"$error":"#N/A"}]
[null,"",{"$f":"IFERROR(VLOOKUP(A800,'1.Портфель кредитів'!A:AC,3,FALSE),\"\")","v":""},{"$f":"IFERROR(VLOOKUP(A800,'1.Портфель кредитів'!A:AC,14,FALSE),\"\")","v":""},null,null,null,null,null,null,null,null,null,null,null,null,"","",null,{"$f":"IFERROR(VLOOKUP(A800,'1.Портфель кредитів'!A:AC,30,FALSE),\"\")","v":""},0,{"$error":"#VALUE!"},null,null,null,null,null,{"$f":"VLOOKUP(C800,Hidden_Словник!$A$2:C$81,3,FALSE)","v":{"$error":"#N/A"}},0,{"$f":"VLOOKUP(E800,Hidden_Словник!$W$2:$X$13,2,FALSE)","v":{"$error":"#N/A"}},0,{"$error":"#N/A"}]
[null,"",{"$f":"IFERROR(VLOOKUP(A801,'1.Портфель кредитів'!A:AC,3,FALSE),\"\")","v":""},{"$f":"IFERROR(VLOOKUP(A801,'1.Портфель кредитів'!A:AC,14,FALSE),\"\")","v":""},null,null,null,null,null,null,null,null,null,null,null,null,"","",null,{"$f":"IFERROR(VLOOKUP(A801,'1.Портфель кредитів'!A:AC,30,FALSE),\"\")","v":""},0,{"$error":"#VALUE!"},null,null,null,null,null,{"$f":"VLOOKUP(C801,Hidden_Словник!$A$2:C$81,3,FALSE)","v":{"$error":"#N/A"}},0,{"$f":"VLOOKUP(E801,Hidden_Словник!$W$2:$X$13,2,FALSE)","v":{"$error":"#N/A"}},0,{"$error":"#N/A"}]
[null,"",{"$f":"IFERROR(VLOOKUP(A802,'1.Портфель кредитів'!A:AC,3,FALSE),\"\")","v":""},{"$f":"IFERROR(VLOOKUP(A802,'1.Портфель кредитів'!A:AC,14,FALSE),\"\")","v":""},null,null,null,null,null,null,null,null,null,null,null,null,"","",null,{"$f":"IFERROR(VLOOKUP(A802,'1.Портфель кредитів'!A:AC,30,FALSE),\"\")","v":""},0,{"$error":"#VALUE!"},null,null,null,null,null,{"$f":"VLOOKUP(C802,Hidden_Словник!$A$2:C$81,3,FALSE)","v":{"$error":"#N/A"}},0,{"$f":"VLOOKUP(E802,Hidden_Словник!$W$2:$X$13,2,FALSE)","v":{"$error":"#N/A"}},0,{"$error":"#N/A"}]
[null,"",{"$f":"IFERROR(VLOOKUP(A803,'1.Портфель кредитів'!A:AC,3,FALSE),\"\")","v":""},{"$f":"IFERROR(VLOOKUP(A803,'1.Портфель кредитів'!A:AC,14,FALSE),\"\")","v":""},null,null,null,null,null,null,null,null,null,null,null,null,"","",null,{"$f":"IFERROR(VLOOKUP(A803,'1.Портфель кредитів'!A:AC,30,FALSE),\"\")","v":""},0,{"$error":"#VALUE!"},null,null,null,null,null,{"$f":"VLOOKUP(C803,Hidden_Словник!$A$2:C$81,3,FALSE)","v":{"$error":"#N/A"}},0,{"$f":"VLOOKUP(E803,Hidden_Словник!$W$2:$X$13,2,FALSE)","v":{"$error":"#N/A"}},0,{"$error":"#N/A"}]
[null,"",{"$f":"IFERROR(VLOOKUP(A804,'1.Портфель кредитів'!A:AC,3,FALSE),\"\")","v":""},{"$f":"IFERROR(VLOOKUP(A804,'1.Портфель кредитів'!A:AC,14,FALSE),\"\")","v":""},null,null,null,null,null,null,null,null,null,null,null,null,"","",null,{"$f":"IFERROR(VLOOKUP(A804,'1.Портфель кредитів'!A:AC,30,FALSE),\"\")","v":""},0,{"$error":"#VALUE!"},null,null,null,null,null,{"$f":"VLOOKUP(C804,Hidden_Словник!$A$2:C$81,3,FALSE)","v":{"$error":"#N/A"}},0,{"$f":"VLOOKUP(E804,Hidden_Словник!$W$2:$X$13,2,FALSE)","v":{"$error":"#N/A"}},0,{"$error":"#N/A"}]
[null,"",{"$f":"IFERROR(VLOOKUP(A805,'1.Портфель кредитів'!A:AC,3,FALSE),\"\")","v":""},{"$f":"IFERROR(VLOOKUP(A805,'1.Портфель кредитів'!A:AC,14,FALSE),\"\")","v":""},null,null,null,null,null,null,null,null,null,null,null,null,"","",null,{"$f":"IFERROR(VLOOKUP(A805,'1.Портфель кредитів'!A:AC,30,FALSE),\"\")","v":""},0,{"$error":"#VALUE!"},null,null,null,null,null,{"$f":"VLOOKUP(C805,Hidden_Словник!$A$2:C$81,3,FALSE)","v":{"$error":"#N/A"}},0,{"$f":"VLOOKUP(E805,Hidden_Словник!$W$2:$X$13,2,FALSE)","v":{"$error":"#N/A"}},0,{"$error":"#N/A"}]
[null,"",{"$f":"IFERROR(VLOOKUP(A806,'1.Портфель кредитів'!A:AC,3,FALSE),\"\")","v":""},{"$f":"IFERROR(VLOOKUP(A806,'1.Портфель кредитів'!A:AC,14,FALSE),\"\")","v":""},null,null,null,null,null,null,null,null,null,null,null,null,"","",null,{"$f":"IFERROR(VLOOKUP(A806,'1.Портфель кредитів'!A:AC,30,FALSE),\"\")","v":""},0,{"$error":"#VALUE!"},null,null,null,null,null,{"$f":"VLOOKUP(C806,Hidden_Словник!$A$2:C$81,3,FALSE)","v":{"$error":"#N/A"}},0,{"$f":"VLOOKUP(E806,Hidden_Словник!$W$2:$X$13,2,FALSE)","v":{"$error":"#N/A"}},0,{"$error":"#N/A"}]
[null,"",{"$f":"IFERROR(VLOOKUP(A807,'1.Портфель кредитів'!A:AC,3,FALSE),\"\")","v":""},{"$f":"IFERROR(VLOOKUP(A807,'1.Портфель кредитів'!A:AC,14,FALSE),\"\")","v":""},null,null,null,null,null,null,null,null,null,null,null,null,"","",null,{"$f":"IFERROR(VLOOKUP(A807,'1.Портфель кредитів'!A:AC,30,FALSE),\"\")","v":""},0,{"$error":"#VALUE!"},null,null,null,null,null,{"$f":"VLOOKUP(C807,Hidden_Словник!$A$2:C$81,3,FALSE)","v":{"$error":"#N/A"}},0,{"$f":"VLOOKUP(E807,Hidden_Словник!$W$2:$X$13,2,FALSE)","v":{"$error":"#N/A"}},0,{"$error":"#N/A"}]
[null,"",{"$f":"IFERROR(VLOOKUP(A808,'1.Портфель кредитів'!A:AC,3,FALSE),\"\")","v":""},{"$f":"IFERROR(VLOOKUP(A808,'1.Портфель кредитів'!A:AC,14,FALSE),\"\")","v":""},null,null,null,null,null,null,null,null,null,null,null,null,"","",null,{"$f":"IFERROR(VLOOKUP(A808,'1.Портфель кредитів'!A:AC,30,FALSE),\"\")","v":""},0,{"$error":"#VALUE!"},null,null,null,null,null,{"$f":"VLOOKUP(C808,Hidden_Словник!$A$2:C$81,3,FALSE)","v":{"$error":"#N/A"}},0,{"$f":"VLOOKUP(E808,Hidden_Словник!$W$2:$X$13,2,FALSE)","v":{"$error":"#N/A"}},0,{"$error":"#N/A"}]
[null,"",{"$f":"IFERROR(VLOOKUP(A809,'1.Портфель кредитів'!A:AC,3,FALSE),\"\")","v":""},{"$f":"IFERROR(VLOOKUP(A809,'1.Портфель кредитів'!A:AC,14,FALSE),\"\")","v":""},null,null,null,null,null,null,null,null,null,null,null,null,"","",null,{"$f":"IFERROR(VLOOKUP(A809,'1.Портфель кредитів'!A:AC,30,FALSE),\"\")","v":""},0,{"$error":"#VALUE!"},null,null,null,null,null,{"$f":"VLOOKUP(C809,Hidden_Словник!$A$2:C$81,3,FALSE)","v":{"$error":"#N/A"}},0,{"$f":"VLOOKUP(E809,Hidden_Словник!$W$2:$X$13,2,FALSE)","v":{"$error":"#N/A"}},0,{"$error":"#N/A"}]
[null,"",{"$f":"IFERROR(VLOOKUP(A810,'1.Портфель кредитів'!A:AC,3,FALSE),\"\")","v":""},{"$f":"IFERROR(VLOOKUP(A810,'1.Портфель кредитів'!A:AC,14,FALSE),\"\")","v":""},null,null,null,null,null,null,null,null,null,null,null,null,"","",null,{"$f":"IFERROR(VLOOKUP(A810,'1.Портфель кредитів'!A:AC,30,FALSE),\"\")","v":""},0,{"$error":"#VALUE!"},null,null,null,null,null,{"$f":"VLOOKUP(C810,Hidden_Словник!$A$2:C$81,3,FALSE)","v":{"$error":"#N/A"}},0,{"$f":"VLOOKUP(E810,Hidden_Словник!$W$2:$X$13,2,FALSE)","v":{"$error":"#N/A"}},0,{"$error":"#N/A"}]
[null,"",{"$f":"IFERROR(VLOOKUP(A811,'1.Портфель кредитів'!A:AC,3,FALSE),\"\")","v":""},{"$f":"IFERROR(VLOOKUP(A811,'1.Портфель кредитів'!A:AC,14,FALSE),\"\")","v":""},null,null,null,null,null,null,null,null,null,null,null,null,"","",null,{"$f":"IFERROR(VLOOKUP(A811,'1.Портфель кредитів'!A:AC,30,FALSE),\"\")","v":""},0,{"$error":"#VALUE!"},null,null,null,null,null,{"$f":"VLOOKUP(C811,Hidden_Словник!$A$2:C$81,3,FALSE)","v":{"$error":"#N/A"}},0,{"$f":"VLOOKUP(E811,Hidden_Словник!$W$2:$X$13,2,FALSE)","v":{"$error":"#N/A"}},0,{"$error":"#N/A"}]
[null,"",{"$f":"IFERROR(VLOOKUP(A812,'1.Портфель кредитів'!A:AC,3,FALSE),\"\")","v":""},{"$f":"IFERROR(VLOOKUP(A812,'1.Портфель кредитів'!A:AC,14,FALSE),\"\")","v":""},null,null,null,null,null,null,null,null,null,null,null,null,"","",null,{"$f":"IFERROR(VLOOKUP(A812,'1.Портфель кредитів'!A:AC,30,FALSE),\"\")","v":""},0,{"$error":"#VALUE!"},null,null,null,null,null,{"$f":"VLOOKUP(C812,Hidden_Словник!$A$2:C$81,3,FALSE)","v":{"$error":"#N/A"}},0,{"$f":"VLOOKUP(E812,Hidden_Словник!$W$2:$X$13,2,FALSE)","v":{"$error":"#N/A"}},0,{"$error":"#N/A"}]
[null,"",{"$f":"IFERROR(VLOOKUP(A813,'1.Портфель кредитів'!A:AC,3,FALSE),\"\")","v":""},{"$f":"IFERROR(VLOOKUP(A813,'1.Портфель кредитів'!A:AC,14,FALSE),\"\")","v":""},null,null,null,null,null,null,null,null,null,null,null,null,"","",null,{"$f":"IFERROR(VLOOKUP(A813,'1.Портфель кредитів'!A:AC,30,FALSE),\"\")","v":""},0,{"$error":"#VALUE!"},null,null,null,null,null,{"$f":"VLOOKUP(C813,Hidden_Словник!$A$2:C$81,3,FALSE)","v":{"$error":"#N/A"}},0,{"$f":"VLOOKUP(E813,Hidden_Словник!$W$2:$X$13,2,FALSE)","v":{"$error":"#N/A"}},0,{"$error":"#N/A"}]
[null,"",{"$f":"IFERROR(VLOOKUP(A814,'1.Портфель кредитів'!A:AC,3,FALSE),\"\")","v":""},{"$f":"IFERROR(VLOOKUP(A814,'1.Портфель кредитів'!A:AC,14,FALSE),\"\")","v":""},null,null,null,null,null,null,null,null,null,null,null,null,"","",null,{"$f":"IFERROR(VLOOKUP(A814,'1.Портфель кредитів'!A:AC,30,FALSE),\"\")","v":""},0,{"$error":"#VALUE!"},null,null,null,null,null,{"$f":"VLOOKUP(C814,Hidden_Словник!$A$2:C$81,3,FALSE)","v":{"$error":"#N/A"}},0,{"$f":"VLOOKUP(E814,Hidden_Словник!$W$2:$X$13,2,FALSE)","v":{"$error":"#N/A"}},0,{"$error":"#N/A"}]
[null,"",{"$f":"IFERROR(VLOOKUP(A815,'1.Портфель кредитів'!A:AC,3,FALSE),\"\")","v":""},{"$f":"IFERROR(VLOOKUP(A815,'1.Портфель кредитів'!A:AC,14,FALSE),\"\")","v":""},null,null,null,null,null,null,null,null,null,null,null,null,"","",null,{"$f":"IFERROR(VLOOKUP(A815,'1.Портфель кредитів'!A:AC,30,FALSE),\"\")","v":""},0,{"$error":"#VALUE!"},null,null,null,null,null,{"$f":"VLOOKUP(C815,Hidden_Словник!$A$2:C$81,3,FALSE)","v":{"$error":"#N/A"}},0,{"$f":"VLOOKUP(E815,Hidden_Словник!$W$2:$X$13,2,FALSE)","v":{"$error":"#N/A"}},0,{"$error":"#N/A"}]
[null,"",{"$f":"IFERROR(VLOOKUP(A816,'1.Портфель кредитів'!A:AC,3,FALSE),\"\")","v":""},{"$f":"IFERROR(VLOOKUP(A816,'1.Портфель кредитів'!A:AC,14,FALSE),\"\")","v":""},null,null,null,null,null,null,null,null,null,null,null,null,"","",null,{"$f":"IFERROR(VLOOKUP(A816,'1.Портфель кредитів'!A:AC,30,FALSE),\"\")","v":""},0,{"$error":"#VALUE!"},null,null,null,null,null,{"$f":"VLOOKUP(C816,Hidden_Словник!$A$2:C$81,3,FALSE)","v":{"$error":"#N/A"}},0,{"$f":"VLOOKUP(E816,Hidden_Словник!$W$2:$X$13,2,FALSE)","v":{"$error":"#N/A"}},0,{"$error":"#N/A"}]
[null,"",{"$f":"IFERROR(VLOOKUP(A817,'1.Портфель кредитів'!A:AC,3,FALSE),\"\")","v":""},{"$f":"IFERROR(VLOOKUP(A817,'1.Портфель кредитів'!A:AC,14,FALSE),\"\")","v":""},null,null,null,null,null,null,null,null,null,null,null,null,"","",null,{"$f":"IFERROR(VLOOKUP(A817,'1.Портфель кредитів'!A:AC,30,FALSE),\"\")","v":""},0,{"$error":"#VALUE!"},null,null,null,null,null,{"$f":"VLOOKUP(C817,Hidden_Словник!$A$2:C$81,3,FALSE)","v":{"$error":"#N/A"}},0,{"$f":"VLOOKUP(E817,Hidden_Словник!$W$2:$X$13,2,FALSE)","v":{"$error":"#N/A"}},0,{"$error":"#N/A"}]
[null,"",{"$f":"IFERROR(VLOOKUP(A818,'1.Портфель кредитів'!A:AC,3,FALSE),\"\")","v":""},{"$f":"IFERROR(VLOOKUP(A818,'1.Портфель кредитів'!A:AC,14,FALSE),\"\")","v":""},null,null,null,null,null,null,null,null,null,null,null,null,"","",null,{"$f":"IFERROR(VLOOKUP(A818,'1.Портфель кредитів'!A:AC,30,FALSE),\"\")","v":""},0,{"$error":"#VALUE!"},null,null,null,null,null,{"$f":"VLOOKUP(C818,Hidden_Словник!$A$2:C$81,3,FALSE)","v":{"$error":"#N/A"}},0,{"$f":"VLOOKUP(E818,Hidden_Словник!$W$2:$X$13,2,FALSE)","v":{"$error":"#N/A"}},0,{"$error":"#N/A"}]
[null,"",{"$f":"IFERROR(VLOOKUP(A819,'1.Портфель кредитів'!A:AC,3,FALSE),\"\")","v":""},{"$f":"IFERROR(VLOOKUP(A819,'1.Портфель кредитів'!A:AC,14,FALSE),\"\")","v":""},null,null,null,null,null,null,null,null,null,null,null,null,"","",null,{"$f":"IFERROR(VLOOKUP(A819,'1.Портфель кредитів'!A:AC,30,FALSE),\"\")","v":""},0,{"$error":"#VALUE!"},null,null,null,null,null,{"$f":"VLOOKUP(C819,Hidden_Словник!$A$2:C$81,3,FALSE)","v":{"$error":"#N/A"}},0,{"$f":"VLOOKUP(E819,Hidden_Словник!$W$2:$X$13,2,FALSE)","v":{"$error":"#N/A"}},0,{"$error":"#N/A"}]
[null,"",{"$f":"IFERROR(VLOOKUP(A820,'1.Портфель кредитів'!A:AC,3,FALSE),\"\")","v":""},{"$f":"IFERROR(VLOOKUP(A820,'1.Портфель кредитів'!A:AC,14,FALSE),\"\")","v":""},null,null,null,null,null,null,null,null,null,null,null,null,"","",null,{"$f":"IFERROR(VLOOKUP(A820,'1.Портфель кредитів'!A:AC,30,FALSE),\"\")","v":""},0,{"$error":"#VALUE!"},null,null,null,null,null,{"$f":"VLOOKUP(C820,Hidden_Словник!$A$2:C$81,3,FALSE)","v":{"$error":"#N/A"}},0,{"$f":"VLOOKUP(E820,Hidden_Словник!$W$2:$X$13,2,FALSE)","v":{"$error":"#N/A"}},0,{"$error":"#N/A"}]
[null,"",{"$f":"IFERROR(VLOOKUP(A821,'1.Портфель кредитів'!A:AC,3,FALSE),\"\")","v":""},{"$f":"IFERROR(VLOOKUP(A821,'1.Портфель кредитів'!A:AC,14,FALSE),\"\")","v":""},null,null,null,null,null,null,null,null,null,null,null,null,"","",null,{"$f":"IFERROR(VLOOKUP(A821,'1.Портфель кредитів'!A:AC,30,FALSE),\"\")","v":""},0,{"$error":"#VALUE!"},null,null,null,null,null,{"$f":"VLOOKUP(C821,Hidden_Словник!$A$2:C$81,3,FALSE)","v":{"$error":"#N/A"}},0,{"$f":"VLOOKUP(E821,Hidden_Словник!$W$2:$X$13,2,FALSE)","v":{"$error":"#N/A"}},0,{"$error":"#N/A"}]
[null,"",{"$f":"IFERROR(VLOOKUP(A822,'1.Портфель кредитів'!A:AC,3,FALSE),\"\")","v":""},{"$f":"IFERROR(VLOOKUP(A822,'1.Портфель кредитів'!A:AC,14,FALSE),\"\")","v":""},null,null,null,null,null,null,null,null,null,null,null,null,"","",null,{"$f":"IFERROR(VLOOKUP(A822,'1.Портфель кредитів'!A:AC,30,FALSE),\"\")","v":""},0,{"$error":"#VALUE!"},null,null,null,null,null,{"$f":"VLOOKUP(C822,Hidden_Словник!$A$2:C$81,3,FALSE)","v":{"$error":"#N/A"}},0,{"$f":"VLOOKUP(E822,Hidden_Словник!$W$2:$X$13,2,FALSE)","v":{"$error":"#N/A"}},0,{"$error":"#N/A"}]
[null,"",{"$f":"IFERROR(VLOOKUP(A823,'1.Портфель кредитів'!A:AC,3,FALSE),\"\")","v":""},{"$f":"IFERROR(VLOOKUP(A823,'1.Портфель кредитів'!A:AC,14,FALSE),\"\")","v":""},null,null,null,null,null,null,null,null,null,null,null,null,"","",null,{"$f":"IFERROR(VLOOKUP(A823,'1.Портфель кредитів'!A:AC,30,FALSE),\"\")","v":""},0,{"$error":"#VALUE!"},null,null,null,null,null,{"$f":"VLOOKUP(C823,Hidden_Словник!$A$2:C$81,3,FALSE)","v":{"$error":"#N/A"}},0,{"$f":"VLOOKUP(E823,Hidden_Словник!$W$2:$X$13,2,FALSE)","v":{"$error":"#N/A"}},0,{"$error":"#N/A"}]
[null,"",{"$f":"IFERROR(VLOOKUP(A824,'1.Портфель кредитів'!A:AC,3,FALSE),\"\")","v":""},{"$f":"IFERROR(VLOOKUP(A824,'1.Портфель кредитів'!A:AC,14,FALSE),\"\")","v":""},null,null,null,null,null,null,null,null,null,null,null,null,"","",null,{"$f":"IFERROR(VLOOKUP(A824,'1.Портфель кредитів'!A:AC,30,FALSE),\"\")","v":""},0,{"$error":"#VALUE!"},null,null,null,null,null,{"$f":"VLOOKUP(C824,Hidden_Словник!$A$2:C$81,3,FALSE)","v":{"$error":"#N/A"}},0,{"$f":"VLOOKUP(E824,Hidden_Словник!$W$2:$X$13,2,FALSE)","v":{"$error":"#N/A"}},0,{"$error":"#N/A"}]
[null,"",{"$f":"IFERROR(VLOOKUP(A825,'1.Портфель кредитів'!A:AC,3,FALSE),\"\")","v":""},{"$f":"IFERROR(VLOOKUP(A825,'1.Портфель кредитів'!A:AC,14,FALSE),\"\")","v":""},null,null,null,null,null,null,null,null,null,null,null,null,"","",null,{"$f":"IFERROR(VLOOKUP(A825,'1.Портфель кредитів'!A:AC,30,FALSE),\"\")","v":""},0,{"$error":"#VALUE!"},null,null,null,null,null,{"$f":"VLOOKUP(C825,Hidden_Словник!$A$2:C$81,3,FALSE)","v":{"$error":"#N/A"}},0,{"$f":"VLOOKUP(E825,Hidden_Словник!$W$2:$X$13,2,FALSE)","v":{"$error":"#N/A"}},0,{"$error":"#N/A"}]
[null,"",{"$f":"IFERROR(VLOOKUP(A826,'1.Портфель кредитів'!A:AC,3,FALSE),\"\")","v":""},{"$f":"IFERROR(VLOOKUP(A826,'1.Портфель кредитів'!A:AC,14,FALSE),\"\")","v":""},null,null,null,null,null,null,null,null,null,null,null,null,"","",null,{"$f":"IFERROR(VLOOKUP(A826,'1.Портфель кредитів'!A:AC,30,FALSE),\"\")","v":""},0,{"$error":"#VALUE!"},null,null,null,null,null,{"$f":"VLOOKUP(C826,Hidden_Словник!$A$2:C$81,3,FALSE)","v":{"$error":"#N/A"}},0,{"$f":"VLOOKUP(E826,Hidden_Словник!$W$2:$X$13,2,FALSE)","v":{"$error":"#N/A"}},0,{"$error":"#N/A"}]
[null,"",{"$f":"IFERROR(VLOOKUP(A827,'1.Портфель кредитів'!A:AC,3,FALSE),\"\")","v":""},{"$f":"IFERROR(VLOOKUP(A827,'1.Портфель кредитів'!A:AC,14,FALSE),\"\")","v":""},null,null,null,null,null,null,null,null,null,null,null,null,"","",null,{"$f":"IFERROR(VLOOKUP(A827,'1.Портфель кредитів'!A:AC,30,FALSE),\"\")","v":""},0,{"$error":"#VALUE!"},null,null,null,null,null,{"$f":"VLOOKUP(C827,Hidden_Словник!$A$2:C$81,3,FALSE)","v":{"$error":"#N/A"}},0,{"$f":"VLOOKUP(E827,Hidden_Словник!$W$2:$X$13,2,FALSE)","v":{"$error":"#N/A"}},0,{"$error":"#N/A"}]
[null,"",{"$f":"IFERROR(VLOOKUP(A828,'1.Портфель кредитів'!A:AC,3,FALSE),\"\")","v":""},{"$f":"IFERROR(VLOOKUP(A828,'1.Портфель кредитів'!A:AC,14,FALSE),\"\")","v":""},null,null,null,null,null,null,null,null,null,null,null,null,"","",null,{"$f":"IFERROR(VLOOKUP(A828,'1.Портфель кредитів'!A:AC,30,FALSE),\"\")","v":""},0,{"$error":"#VALUE!"},null,null,null,null,null,{"$f":"VLOOKUP(C828,Hidden_Словник!$A$2:C$81,3,FALSE)","v":{"$error":"#N/A"}},0,{"$f":"VLOOKUP(E828,Hidden_Словник!$W$2:$X$13,2,FALSE)","v":{"$error":"#N/A"}},0,{"$error":"#N/A"}]
[null,"",{"$f":"IFERROR(VLOOKUP(A829,'1.Портфель кредитів'!A:AC,3,FALSE),\"\")","v":""},{"$f":"IFERROR(VLOOKUP(A829,'1.Портфель кредитів'!A:AC,14,FALSE),\"\")","v":""},null,null,null,null,null,null,null,null,null,null,null,null,"","",null,{"$f":"IFERROR(VLOOKUP(A829,'1.Портфель кредитів'!A:AC,30,FALSE),\"\")","v":""},0,{"$error":"#VALUE!"},null,null,null,null,null,{"$f":"VLOOKUP(C829,Hidden_Словник!$A$2:C$81,3,FALSE)","v":{"$error":"#N/A"}},0,{"$f":"VLOOKUP(E829,Hidden_Словник!$W$2:$X$13,2,FALSE)","v":{"$error":"#N/A"}},0,{"$error":"#N/A"}]
[null,"",{"$f":"IFERROR(VLOOKUP(A830,'1.Портфель кредитів'!A:AC,3,FALSE),\"\")","v":""},{"$f":"IFERROR(VLOOKUP(A830,'1.Портфель кредитів'!A:AC,14,FALSE),\"\")","v":""},null,null,null,null,null,null,null,null,null,null,null,null,"","",null,{"$f":"IFERROR(VLOOKUP(A830,'1.Портфель кредитів'!A:AC,30,FALSE),\"\")","v":""},0,{"$error":"#VALUE!"},null,null,null,null,null,{"$f":"VLOOKUP(C830,Hidden_Словник!$A$2:C$81,3,FALSE)","v":{"$error":"#N/A"}},0,{"$f":"VLOOKUP(E830,Hidden_Словник!$W$2:$X$13,2,FALSE)","v":{"$error":"#N/A"}},0,{"$error":"#N/A"}]
[null,"",{"$f":"IFERROR(VLOOKUP(A831,'1.Портфель кредитів'!A:AC,3,FALSE),\"\")","v":""},{"$f":"IFERROR(VLOOKUP(A831,'1.Портфель кредитів'!A:AC,14,FALSE),\"\")","v":""},null,null,null,null,null,null,null,null,null,null,null,null,"","",null,{"$f":"IFERROR(VLOOKUP(A831,'1.Портфель кредитів'!A:AC,30,FALSE),\"\")","v":""},0,{"$f":"T831/U831","v":{"$error":"#VALUE!"}},null,null,null,null,null,{"$f":"VLOOKUP(C831,Hidden_Словник!$A$2:C$81,3,FALSE)","v":{"$error":"#N/A"}},0,{"$f":"VLOOKUP(E831,Hidden_Словник!$W$2:$X$13,2,FALSE)","v":{"$error":"#N/A"}},0,{"$error":"#N/A"}]
[null,"",{"$f":"IFERROR(VLOOKUP(A832,'1.Портфель кредитів'!A:AC,3,FALSE),\"\")","v":""},{"$f":"IFERROR(VLOOKUP(A832,'1.Портфель кредитів'!A:AC,14,FALSE),\"\")","v":""},null,null,null,null,null,null,null,null,null,null,null,null,"","",null,{"$f":"IFERROR(VLOOKUP(A832,'1.Портфель кредитів'!A:AC,30,FALSE),\"\")","v":""},0,{"$error":"#VALUE!"},null,null,null,null,null,{"$f":"VLOOKUP(C832,Hidden_Словник!$A$2:C$81,3,FALSE)","v":{"$error":"#N/A"}},0,{"$f":"VLOOKUP(E832,Hidden_Словник!$W$2:$X$13,2,FALSE)","v":{"$error":"#N/A"}},0,{"$error":"#N/A"}]
[null,"",{"$f":"IFERROR(VLOOKUP(A833,'1.Портфель кредитів'!A:AC,3,FALSE),\"\")","v":""},{"$f":"IFERROR(VLOOKUP(A833,'1.Портфель кредитів'!A:AC,14,FALSE),\"\")","v":""},null,null,null,null,null,null,null,null,null,null,null,null,"","",null,{"$f":"IFERROR(VLOOKUP(A833,'1.Портфель кредитів'!A:AC,30,FALSE),\"\")","v":""},0,{"$error":"#VALUE!"},null,null,null,null,null,{"$f":"VLOOKUP(C833,Hidden_Словник!$A$2:C$81,3,FALSE)","v":{"$error":"#N/A"}},0,{"$f":"VLOOKUP(E833,Hidden_Словник!$W$2:$X$13,2,FALSE)","v":{"$error":"#N/A"}},0,{"$error":"#N/A"}]
[null,"",{"$f":"IFERROR(VLOOKUP(A834,'1.Портфель кредитів'!A:AC,3,FALSE),\"\")","v":""},{"$f":"IFERROR(VLOOKUP(A834,'1.Портфель кредитів'!A:AC,14,FALSE),\"\")","v":""},null,null,null,null,null,null,null,null,null,null,null,null,"","",null,{"$f":"IFERROR(VLOOKUP(A834,'1.Портфель кредитів'!A:AC,30,FALSE),\"\")","v":""},0,{"$error":"#VALUE!"},null,null,null,null,null,{"$f":"VLOOKUP(C834,Hidden_Словник!$A$2:C$81,3,FALSE)","v":{"$error":"#N/A"}},0,{"$f":"VLOOKUP(E834,Hidden_Словник!$W$2:$X$13,2,FALSE)","v":{"$error":"#N/A"}},0,{"$error":"#N/A"}]
[null,"",{"$f":"IFERROR(VLOOKUP(A835,'1.Портфель кредитів'!A:AC,3,FALSE),\"\")","v":""},{"$f":"IFERROR(VLOOKUP(A835,'1.Портфель кредитів'!A:AC,14,FALSE),\"\")","v":""},null,null,null,null,null,null,null,null,null,null,null,null,"","",null,{"$f":"IFERROR(VLOOKUP(A835,'1.Портфель кредитів'!A:AC,30,FALSE),\"\")","v":""},0,{"$error":"#VALUE!"},null,null,null,null,null,{"$f":"VLOOKUP(C835,Hidden_Словник!$A$2:C$81,3,FALSE)","v":{"$error":"#N/A"}},0,{"$f":"VLOOKUP(E835,Hidden_Словник!$W$2:$X$13,2,FALSE)","v":{"$error":"#N/A"}},0,{"$error":"#N/A"}]
[null,"",{"$f":"IFERROR(VLOOKUP(A836,'1.Портфель кредитів'!A:AC,3,FALSE),\"\")","v":""},{"$f":"IFERROR(VLOOKUP(A836,'1.Портфель кредитів'!A:AC,14,FALSE),\"\")","v":""},null,null,null,null,null,null,null,null,null,null,null,null,"","",null,{"$f":"IFERROR(VLOOKUP(A836,'1.Портфель кредитів'!A:AC,30,FALSE),\"\")","v":""},0,{"$error":"#VALUE!"},null,null,null,null,null,{"$f":"VLOOKUP(C836,Hidden_Словник!$A$2:C$81,3,FALSE)","v":{"$error":"#N/A"}},0,{"$f":"VLOOKUP(E836,Hidden_Словник!$W$2:$X$13,2,FALSE)","v":{"$error":"#N/A"}},0,{"$error":"#N/A"}]
[null,"",{"$f":"IFERROR(VLOOKUP(A837,'1.Портфель кредитів'!A:AC,3,FALSE),\"\")","v":""},{"$f":"IFERROR(VLOOKUP(A837,'1.Портфель кредитів'!A:AC,14,FALSE),\"\")","v":""},null,null,null,null,null,null,null,null,null,null,null,null,"","",null,{"$f":"IFERROR(VLOOKUP(A837,'1.Портфель кредитів'!A:AC,30,FALSE),\"\")","v":""},0,{"$error":"#VALUE!"},null,null,null,null,null,{"$f":"VLOOKUP(C837,Hidden_Словник!$A$2:C$81,3,FALSE)","v":{"$error":"#N/A"}},0,{"$f":"VLOOKUP(E837,Hidden_Словник!$W$2:$X$13,2,FALSE)","v":{"$error":"#N/A"}},0,{"$error":"#N/A"}]
[null,"",{"$f":"IFERROR(VLOOKUP(A838,'1.Портфель кредитів'!A:AC,3,FALSE),\"\")","v":""},{"$f":"IFERROR(VLOOKUP(A838,'1.Портфель кредитів'!A:AC,14,FALSE),\"\")","v":""},null,null,null,null,null,null,null,null,null,null,null,null,"","",null,{"$f":"IFERROR(VLOOKUP(A838,'1.Портфель кредитів'!A:AC,30,FALSE),\"\")","v":""},0,{"$error":"#VALUE!"},null,null,null,null,null,{"$f":"VLOOKUP(C838,Hidden_Словник!$A$2:C$81,3,FALSE)","v":{"$error":"#N/A"}},0,{"$f":"VLOOKUP(E838,Hidden_Словник!$W$2:$X$13,2,FALSE)","v":{"$error":"#N/A"}},0,{"$error":"#N/A"}]
[null,"",{"$f":"IFERROR(VLOOKUP(A839,'1.Портфель кредитів'!A:AC,3,FALSE),\"\")","v":""},{"$f":"IFERROR(VLOOKUP(A839,'1.Портфель кредитів'!A:AC,14,FALSE),\"\")","v":""},null,null,null,null,null,null,null,null,null,null,null,null,"","",null,{"$f":"IFERROR(VLOOKUP(A839,'1.Портфель кредитів'!A:AC,30,FALSE),\"\")","v":""},0,{"$error":"#VALUE!"},null,null,null,null,null,{"$f":"VLOOKUP(C839,Hidden_Словник!$A$2:C$81,3,FALSE)","v":{"$error":"#N/A"}},0,{"$f":"VLOOKUP(E839,Hidden_Словник!$W$2:$X$13,2,FALSE)","v":{"$error":"#N/A"}},0,{"$error":"#N/A"}]
[null,"",{"$f":"IFERROR(VLOOKUP(A840,'1.Портфель кредитів'!A:AC,3,FALSE),\"\")","v":""},{"$f":"IFERROR(VLOOKUP(A840,'1.Портфель кредитів'!A:AC,14,FALSE),\"\")","v":""},null,null,null,null,null,null,null,null,null,null,null,null,"","",null,{"$f":"IFERROR(VLOOKUP(A840,'1.Портфель кредитів'!A:AC,30,FALSE),\"\")","v":""},0,{"$error":"#VALUE!"},null,null,null,null,null,{"$f":"VLOOKUP(C840,Hidden_Словник!$A$2:C$81,3,FALSE)","v":{"$error":"#N/A"}},0,{"$f":"VLOOKUP(E840,Hidden_Словник!$W$2:$X$13,2,FALSE)","v":{"$error":"#N/A"}},0,{"$error":"#N/A"}]
[null,"",{"$f":"IFERROR(VLOOKUP(A841,'1.Портфель кредитів'!A:AC,3,FALSE),\"\")","v":""},{"$f":"IFERROR(VLOOKUP(A841,'1.Портфель кредитів'!A:AC,14,FALSE),\"\")","v":""},null,null,null,null,null,null,null,null,null,null,null,null,"","",null,{"$f":"IFERROR(VLOOKUP(A841,'1.Портфель кредитів'!A:AC,30,FALSE),\"\")","v":""},0,{"$error":"#VALUE!"},null,null,null,null,null,{"$f":"VLOOKUP(C841,Hidden_Словник!$A$2:C$81,3,FALSE)","v":{"$error":"#N/A"}},0,{"$f":"VLOOKUP(E841,Hidden_Словник!$W$2:$X$13,2,FALSE)","v":{"$error":"#N/A"}},0,{"$error":"#N/A"}]
[null,"",{"$f":"IFERROR(VLOOKUP(A842,'1.Портфель кредитів'!A:AC,3,FALSE),\"\")","v":""},{"$f":"IFERROR(VLOOKUP(A842,'1.Портфель кредитів'!A:AC,14,FALSE),\"\")","v":""},null,null,null,null,null,null,null,null,null,null,null,null,"","",null,{"$f":"IFERROR(VLOOKUP(A842,'1.Портфель кредитів'!A:AC,30,FALSE),\"\")","v":""},0,{"$error":"#VALUE!"},null,null,null,null,null,{"$f":"VLOOKUP(C842,Hidden_Словник!$A$2:C$81,3,FALSE)","v":{"$error":"#N/A"}},0,{"$f":"VLOOKUP(E842,Hidden_Словник!$W$2:$X$13,2,FALSE)","v":{"$error":"#N/A"}},0,{"$error":"#N/A"}]
[null,"",{"$f":"IFERROR(VLOOKUP(A843,'1.Портфель кредитів'!A:AC,3,FALSE),\"\")","v":""},{"$f":"IFERROR(VLOOKUP(A843,'1.Портфель кредитів'!A:AC,14,FALSE),\"\")","v":""},null,null,null,null,null,null,null,null,null,null,null,null,"","",null,{"$f":"IFERROR(VLOOKUP(A843,'1.Портфель кредитів'!A:AC,30,FALSE),\"\")","v":""},0,{"$error":"#VALUE!"},null,null,null,null,null,{"$f":"VLOOKUP(C843,Hidden_Словник!$A$2:C$81,3,FALSE)","v":{"$error":"#N/A"}},0,{"$f":"VLOOKUP(E843,Hidden_Словник!$W$2:$X$13,2,FALSE)","v":{"$error":"#N/A"}},0,{"$error":"#N/A"}]
[null,"",{"$f":"IFERROR(VLOOKUP(A844,'1.Портфель кредитів'!A:AC,3,FALSE),\"\")","v":""},{"$f":"IFERROR(VLOOKUP(A844,'1.Портфель кредитів'!A:AC,14,FALSE),\"\")","v":""},null,null,null,null,null,null,null,null,null,null,null,null,"","",null,{"$f":"IFERROR(VLOOKUP(A844,'1.Портфель кредитів'!A:AC,30,FALSE),\"\")","v":""},0,{"$error":"#VALUE!"},null,null,null,null,null,{"$f":"VLOOKUP(C844,Hidden_Словник!$A$2:C$81,3,FALSE)","v":{"$error":"#N/A"}},0,{"$f":"VLOOKUP(E844,Hidden_Словник!$W$2:$X$13,2,FALSE)","v":{"$error":"#N/A"}},0,{"$error":"#N/A"}]
[null,"",{"$f":"IFERROR(VLOOKUP(A845,'1.Портфель кредитів'!A:AC,3,FALSE),\"\")","v":""},{"$f":"IFERROR(VLOOKUP(A845,'1.Портфель кредитів'!A:AC,14,FALSE),\"\")","v":""},null,null,null,null,null,null,null,null,null,null,null,null,"","",null,{"$f":"IFERROR(VLOOKUP(A845,'1.Портфель кредитів'!A:AC,30,FALSE),\"\")","v":""},0,{"$error":"#VALUE!"},null,null,null,null,null,{"$f":"VLOOKUP(C845,Hidden_Словник!$A$2:C$81,3,FALSE)","v":{"$error":"#N/A"}},0,{"$f":"VLOOKUP(E845,Hidden_Словник!$W$2:$X$13,2,FALSE)","v":{"$error":"#N/A"}},0,{"$error":"#N/A"}]
[null,"",{"$f":"IFERROR(VLOOKUP(A846,'1.Портфель кредитів'!A:AC,3,FALSE),\"\")","v":""},{"$f":"IFERROR(VLOOKUP(A846,'1.Портфель кредитів'!A:AC,14,FALSE),\"\")","v":""},null,null,null,null,null,null,null,null,null,null,null,null,"","",null,{"$f":"IFERROR(VLOOKUP(A846,'1.Портфель кредитів'!A:AC,30,FALSE),\"\")","v":""},0,{"$error":"#VALUE!"},null,null,null,null,null,{"$f":"VLOOKUP(C846,Hidden_Словник!$A$2:C$81,3,FALSE)","v":{"$error":"#N/A"}},0,{"$f":"VLOOKUP(E846,Hidden_Словник!$W$2:$X$13,2,FALSE)","v":{"$error":"#N/A"}},0,{"$error":"#N/A"}]
[null,"",{"$f":"IFERROR(VLOOKUP(A847,'1.Портфель кредитів'!A:AC,3,FALSE),\"\")","v":""},{"$f":"IFERROR(VLOOKUP(A847,'1.Портфель кредитів'!A:AC,14,FALSE),\"\")","v":""},null,null,null,null,null,null,null,null,null,null,null,null,"","",null,{"$f":"IFERROR(VLOOKUP(A847,'1.Портфель кредитів'!A:AC,30,FALSE),\"\")","v":""},0,{"$error":"#VALUE!"},null,null,null,null,null,{"$f":"VLOOKUP(C847,Hidden_Словник!$A$2:C$81,3,FALSE)","v":{"$error":"#N/A"}},0,{"$f":"VLOOKUP(E847,Hidden_Словник!$W$2:$X$13,2,FALSE)","v":{"$error":"#N/A"}},0,{"$error":"#N/A"}]
[null,"",{"$f":"IFERROR(VLOOKUP(A848,'1.Портфель кредитів'!A:AC,3,FALSE),\"\")","v":""},{"$f":"IFERROR(VLOOKUP(A848,'1.Портфель кредитів'!A:AC,14,FALSE),\"\")","v":""},null,null,null,null,null,null,null,null,null,null,null,null,"","",null,{"$f":"IFERROR(VLOOKUP(A848,'1.Портфель кредитів'!A:AC,30,FALSE),\"\")","v":""},0,{"$error":"#VALUE!"},null,null,null,null,null,{"$f":"VLOOKUP(C848,Hidden_Словник!$A$2:C$81,3,FALSE)","v":{"$error":"#N/A"}},0,{"$f":"VLOOKUP(E848,Hidden_Словник!$W$2:$X$13,2,FALSE)","v":{"$error":"#N/A"}},0,{"$error":"#N/A"}]
[null,"",{"$f":"IFERROR(VLOOKUP(A849,'1.Портфель кредитів'!A:AC,3,FALSE),\"\")","v":""},{"$f":"IFERROR(VLOOKUP(A849,'1.Портфель кредитів'!A:AC,14,FALSE),\"\")","v":""},null,null,null,null,null,null,null,null,null,null,null,null,"","",null,{"$f":"IFERROR(VLOOKUP(A849,'1.Портфель кредитів'!A:AC,30,FALSE),\"\")","v":""},0,{"$error":"#VALUE!"},null,null,null,null,null,{"$f":"VLOOKUP(C849,Hidden_Словник!$A$2:C$81,3,FALSE)","v":{"$error":"#N/A"}},0,{"$f":"VLOOKUP(E849,Hidden_Словник!$W$2:$X$13,2,FALSE)","v":{"$error":"#N/A"}},0,{"$error":"#N/A"}]
[null,"",{"$f":"IFERROR(VLOOKUP(A850,'1.Портфель кредитів'!A:AC,3,FALSE),\"\")","v":""},{"$f":"IFERROR(VLOOKUP(A850,'1.Портфель кредитів'!A:AC,14,FALSE),\"\")","v":""},null,null,null,null,null,null,null,null,null,null,null,null,"","",null,{"$f":"IFERROR(VLOOKUP(A850,'1.Портфель кредитів'!A:AC,30,FALSE),\"\")","v":""},0,{"$error":"#VALUE!"},null,null,null,null,null,{"$f":"VLOOKUP(C850,Hidden_Словник!$A$2:C$81,3,FALSE)","v":{"$error":"#N/A"}},0,{"$f":"VLOOKUP(E850,Hidden_Словник!$W$2:$X$13,2,FALSE)","v":{"$error":"#N/A"}},0,{"$error":"#N/A"}]
[null,"",{"$f":"IFERROR(VLOOKUP(A851,'1.Портфель кредитів'!A:AC,3,FALSE),\"\")","v":""},{"$f":"IFERROR(VLOOKUP(A851,'1.Портфель кредитів'!A:AC,14,FALSE),\"\")","v":""},null,null,null,null,null,null,null,null,null,null,null,null,"","",null,{"$f":"IFERROR(VLOOKUP(A851,'1.Портфель кредитів'!A:AC,30,FALSE),\"\")","v":""},0,{"$error":"#VALUE!"},null,null,null,null,null,{"$f":"VLOOKUP(C851,Hidden_Словник!$A$2:C$81,3,FALSE)","v":{"$error":"#N/A"}},0,{"$f":"VLOOKUP(E851,Hidden_Словник!$W$2:$X$13,2,FALSE)","v":{"$error":"#N/A"}},0,{"$error":"#N/A"}]
[null,"",{"$f":"IFERROR(VLOOKUP(A852,'1.Портфель кредитів'!A:AC,3,FALSE),\"\")","v":""},{"$f":"IFERROR(VLOOKUP(A852,'1.Портфель кредитів'!A:AC,14,FALSE),\"\")","v":""},null,null,null,null,null,null,null,null,null,null,null,null,"","",null,{"$f":"IFERROR(VLOOKUP(A852,'1.Портфель кредитів'!A:AC,30,FALSE),\"\")","v":""},0,{"$error":"#VALUE!"},null,null,null,null,null,{"$f":"VLOOKUP(C852,Hidden_Словник!$A$2:C$81,3,FALSE)","v":{"$error":"#N/A"}},0,{"$f":"VLOOKUP(E852,Hidden_Словник!$W$2:$X$13,2,FALSE)","v":{"$error":"#N/A"}},0,{"$error":"#N/A"}]
[null,"",{"$f":"IFERROR(VLOOKUP(A853,'1.Портфель кредитів'!A:AC,3,FALSE),\"\")","v":""},{"$f":"IFERROR(VLOOKUP(A853,'1.Портфель кредитів'!A:AC,14,FALSE),\"\")","v":""},null,null,null,null,null,null,null,null,null,null,null,null,"","",null,{"$f":"IFERROR(VLOOKUP(A853,'1.Портфель кредитів'!A:AC,30,FALSE),\"\")","v":""},0,{"$error":"#VALUE!"},null,null,null,null,null,{"$f":"VLOOKUP(C853,Hidden_Словник!$A$2:C$81,3,FALSE)","v":{"$error":"#N/A"}},0,{"$f":"VLOOKUP(E853,Hidden_Словник!$W$2:$X$13,2,FALSE)","v":{"$error":"#N/A"}},0,{"$error":"#N/A"}]
[null,"",{"$f":"IFERROR(VLOOKUP(A854,'1.Портфель кредитів'!A:AC,3,FALSE),\"\")","v":""},{"$f":"IFERROR(VLOOKUP(A854,'1.Портфель кредитів'!A:AC,14,FALSE),\"\")","v":""},null,null,null,null,null,null,null,null,null,null,null,null,"",{"$f":"IFERROR(V854*L854,\"\")","v":""},null,{"$f":"IFERROR(VLOOKUP(A854,'1.Портфель кредитів'!A:AC,30,FALSE),\"\")","v":""},0,{"$error":"#VALUE!"},null,null,null,null,null,{"$f":"VLOOKUP(C854,Hidden_Словник!$A$2:C$81,3,FALSE)","v":{"$error":"#N/A"}},{"$f":"ROUNDUP(L854,0)","v":0},{"$f":"VLOOKUP(E854,Hidden_Словник!$W$2:$X$13,2,FALSE)","v":{"$error":"#N/A"}},{"$f":"O854","v":0},{"$error":"#N/A"}]
[null,{"$f":"IFERROR(AF855,\"\")","v":""},{"$f":"IFERROR(VLOOKUP(A855,'1.Портфель кредитів'!A:AC,3,FALSE),\"\")","v":""},{"$f":"IFERROR(VLOOKUP(A855,'1.Портфель кредитів'!A:AC,14,FALSE),\"\")","v":""},null,null,null,null,null,null,null,null,null,null,null,null,"","",null,{"$f":"IFERROR(VLOOKUP(A855,'1.Портфель кредитів'!A:AC,30,FALSE),\"\")","v":""},0,{"$error":"#VALUE!"},null,null,null,null,null,{"$f":"VLOOKUP(C855,Hidden_Словник!$A$2:C$81,3,FALSE)","v":{"$error":"#N/A"}},0,{"$f":"VLOOKUP(E855,Hidden_Словник!$W$2:$X$13,2,FALSE)","v":{"$error":"#N/A"}},0,{"$f":"AB855&\"_\"&AC855&AD855&AE855","v":{"$error":"#N/A"}}]
[null,"",{"$f":"IFERROR(VLOOKUP(A856,'1.Портфель кредитів'!A:AC,3,FALSE),\"\")","v":""},{"$f":"IFERROR(VLOOKUP(A856,'1.Портфель кредитів'!A:AC,14,FALSE),\"\")","v":""},null,null,null,null,null,null,null,null,null,null,null,null,"","",null,{"$f":"IFERROR(VLOOKUP(A856,'1.Портфель кредитів'!A:AC,30,FALSE),\"\")","v":""},0,{"$error":"#VALUE!"},null,null,null,null,null,{"$f":"VLOOKUP(C856,Hidden_Словник!$A$2:C$81,3,FALSE)","v":{"$error":"#N/A"}},0,{"$f":"VLOOKUP(E856,Hidden_Словник!$W$2:$X$13,2,FALSE)","v":{"$error":"#N/A"}},0,{"$error":"#N/A"}]
[null,"",{"$f":"IFERROR(VLOOKUP(A857,'1.Портфель кредитів'!A:AC,3,FALSE),\"\")","v":""},{"$f":"IFERROR(VLOOKUP(A857,'1.Портфель кредитів'!A:AC,14,FALSE),\"\")","v":""},null,null,null,null,null,null,null,null,null,null,null,null,"","",null,{"$f":"IFERROR(VLOOKUP(A857,'1.Портфель кредитів'!A:AC,30,FALSE),\"\")","v":""},0,{"$error":"#VALUE!"},null,null,null,null,null,{"$f":"VLOOKUP(C857,Hidden_Словник!$A$2:C$81,3,FALSE)","v":{"$error":"#N/A"}},0,{"$f":"VLOOKUP(E857,Hidden_Словник!$W$2:$X$13,2,FALSE)","v":{"$error":"#N/A"}},0,{"$error":"#N/A"}]
[null,"",{"$f":"IFERROR(VLOOKUP(A858,'1.Портфель кредитів'!A:AC,3,FALSE),\"\")","v":""},{"$f":"IFERROR(VLOOKUP(A858,'1.Портфель кредитів'!A:AC,14,FALSE),\"\")","v":""},null,null,null,null,null,null,null,null,null,null,null,null,{"$f":"IF(O858=\"\",\"\",IF(COUNTIF(AF:AF,AF858)>1,\"так\",\"ні\"))","v":""},"",null,{"$f":"IFERROR(VLOOKUP(A858,'1.Портфель кредитів'!A:AC,30,FALSE),\"\")","v":""},{"$f":"SUMIF(B:B,B858,T:T)","v":0},{"$error":"#VALUE!"},null,null,null,null,null,{"$f":"VLOOKUP(C858,Hidden_Словник!$A$2:C$81,3,FALSE)","v":{"$error":"#N/A"}},0,{"$f":"VLOOKUP(E858,Hidden_Словник!$W$2:$X$13,2,FALSE)","v":{"$error":"#N/A"}},0,{"$error":"#N/A"}]
[null,"",{"$f":"IFERROR(VLOOKUP(A859,'1.Портфель кредитів'!A:AC,3,FALSE),\"\")","v":""},{"$f":"IFERROR(VLOOKUP(A859,'1.Портфель кредитів'!A:AC,14,FALSE),\"\")","v":""},null,null,null,null,null,null,null,null,null,null,null,null,"","",null,{"$f":"IFERROR(VLOOKUP(A859,'1.Портфель кредитів'!A:AC,30,FALSE),\"\")","v":""},0,{"$error":"#VALUE!"},null,null,null,null,null,{"$f":"VLOOKUP(C859,Hidden_Словник!$A$2:C$81,3,FALSE)","v":{"$error":"#N/A"}},0,{"$f":"VLOOKUP(E859,Hidden_Словник!$W$2:$X$13,2,FALSE)","v":{"$error":"#N/A"}},0,{"$error":"#N/A"}]
[null,"",{"$f":"IFERROR(VLOOKUP(A860,'1.Портфель кредитів'!A:AC,3,FALSE),\"\")","v":""},{"$f":"IFERROR(VLOOKUP(A860,'1.Портфель кредитів'!A:AC,14,FALSE),\"\")","v":""},null,null,null,null,null,null,null,null,null,null,null,null,"","",null,{"$f":"IFERROR(VLOOKUP(A860,'1.Портфель кредитів'!A:AC,30,FALSE),\"\")","v":""},0,{"$error":"#VALUE!"},null,null,null,null,null,{"$f":"VLOOKUP(C860,Hidden_Словник!$A$2:C$81,3,FALSE)","v":{"$error":"#N/A"}},0,{"$f":"VLOOKUP(E860,Hidden_Словник!$W$2:$X$13,2,FALSE)","v":{"$error":"#N/A"}},0,{"$error":"#N/A"}]
[null,"",{"$f":"IFERROR(VLOOKUP(A861,'1.Портфель кредитів'!A:AC,3,FALSE),\"\")","v":""},{"$f":"IFERROR(VLOOKUP(A861,'1.Портфель кредитів'!A:AC,14,FALSE),\"\")","v":""},null,null,null,null,null,null,null,null,null,null,null,null,"","",null,{"$f":"IFERROR(VLOOKUP(A861,'1.Портфель кредитів'!A:AC,30,FALSE),\"\")","v":""},0,{"$error":"#VALUE!"},null,null,null,null,null,{"$f":"VLOOKUP(C861,Hidden_Словник!$A$2:C$81,3,FALSE)","v":{"$error":"#N/A"}},0,{"$f":"VLOOKUP(E861,Hidden_Словник!$W$2:$X$13,2,FALSE)","v":{"$error":"#N/A"}},0,{"$error":"#N/A"}]
[null,"",{"$f":"IFERROR(VLOOKUP(A862,'1.Портфель кредитів'!A:AC,3,FALSE),\"\")","v":""},{"$f":"IFERROR(VLOOKUP(A862,'1.Портфель кредитів'!A:AC,14,FALSE),\"\")","v":""},null,null,null,null,null,null,null,null,null,null,null,null,"","",null,{"$f":"IFERROR(VLOOKUP(A862,'1.Портфель кредитів'!A:AC,30,FALSE),\"\")","v":""},0,{"$error":"#VALUE!"},null,null,null,null,null,{"$f":"VLOOKUP(C862,Hidden_Словник!$A$2:C$81,3,FALSE)","v":{"$error":"#N/A"}},0,{"$f":"VLOOKUP(E862,Hidden_Словник!$W$2:$X$13,2,FALSE)","v":{"$error":"#N/A"}},0,{"$error":"#N/A"}]
[null,"",{"$f":"IFERROR(VLOOKUP(A863,'1.Портфель кредитів'!A:AC,3,FALSE),\"\")","v":""},{"$f":"IFERROR(VLOOKUP(A863,'1.Портфель кредитів'!A:AC,14,FALSE),\"\")","v":""},null,null,null,null,null,null,null,null,null,null,null,null,"","",null,{"$f":"IFERROR(VLOOKUP(A863,'1.Портфель кредитів'!A:AC,30,FALSE),\"\")","v":""},0,{"$error":"#VALUE!"},null,null,null,null,null,{"$f":"VLOOKUP(C863,Hidden_Словник!$A$2:C$81,3,FALSE)","v":{"$error":"#N/A"}},0,{"$f":"VLOOKUP(E863,Hidden_Словник!$W$2:$X$13,2,FALSE)","v":{"$error":"#N/A"}},0,{"$error":"#N/A"}]
[null,"",{"$f":"IFERROR(VLOOKUP(A864,'1.Портфель кредитів'!A:AC,3,FALSE),\"\")","v":""},{"$f":"IFERROR(VLOOKUP(A864,'1.Портфель кредитів'!A:AC,14,FALSE),\"\")","v":""},null,null,null,null,null,null,null,null,null,null,null,null,"","",null,{"$f":"IFERROR(VLOOKUP(A864,'1.Портфель кредитів'!A:AC,30,FALSE),\"\")","v":""},0,{"$error":"#VALUE!"},null,null,null,null,null,{"$f":"VLOOKUP(C864,Hidden_Словник!$A$2:C$81,3,FALSE)","v":{"$error":"#N/A"}},0,{"$f":"VLOOKUP(E864,Hidden_Словник!$W$2:$X$13,2,FALSE)","v":{"$error":"#N/A"}},0,{"$error":"#N/A"}]
[null,"",{"$f":"IFERROR(VLOOKUP(A865,'1.Портфель кредитів'!A:AC,3,FALSE),\"\")","v":""},{"$f":"IFERROR(VLOOKUP(A865,'1.Портфель кредитів'!A:AC,14,FALSE),\"\")","v":""},null,null,null,null,null,null,null,null,null,null,null,null,"","",null,{"$f":"IFERROR(VLOOKUP(A865,'1.Портфель кредитів'!A:AC,30,FALSE),\"\")","v":""},0,{"$error":"#VALUE!"},null,null,null,null,null,{"$f":"VLOOKUP(C865,Hidden_Словник!$A$2:C$81,3,FALSE)","v":{"$error":"#N/A"}},0,{"$f":"VLOOKUP(E865,Hidden_Словник!$W$2:$X$13,2,FALSE)","v":{"$error":"#N/A"}},0,{"$error":"#N/A"}]
[null,"",{"$f":"IFERROR(VLOOKUP(A866,'1.Портфель кредитів'!A:AC,3,FALSE),\"\")","v":""},{"$f":"IFERROR(VLOOKUP(A866,'1.Портфель кредитів'!A:AC,14,FALSE),\"\")","v":""},null,null,null,null,null,null,null,null,null,null,null,null,"","",null,{"$f":"IFERROR(VLOOKUP(A866,'1.Портфель кредитів'!A:AC,30,FALSE),\"\")","v":""},0,{"$error":"#VALUE!"},null,null,null,null,null,{"$f":"VLOOKUP(C866,Hidden_Словник!$A$2:C$81,3,FALSE)","v":{"$error":"#N/A"}},0,{"$f":"VLOOKUP(E866,Hidden_Словник!$W$2:$X$13,2,FALSE)","v":{"$error":"#N/A"}},0,{"$error":"#N/A"}]
[null,"",{"$f":"IFERROR(VLOOKUP(A867,'1.Портфель кредитів'!A:AC,3,FALSE),\"\")","v":""},{"$f":"IFERROR(VLOOKUP(A867,'1.Портфель кредитів'!A:AC,14,FALSE),\"\")","v":""},null,null,null,null,null,null,null,null,null,null,null,null,"","",null,{"$f":"IFERROR(VLOOKUP(A867,'1.Портфель кредитів'!A:AC,30,FALSE),\"\")","v":""},0,{"$error":"#VALUE!"},null,null,null,null,null,{"$f":"VLOOKUP(C867,Hidden_Словник!$A$2:C$81,3,FALSE)","v":{"$error":"#N/A"}},0,{"$f":"VLOOKUP(E867,Hidden_Словник!$W$2:$X$13,2,FALSE)","v":{"$error":"#N/A"}},0,{"$error":"#N/A"}]
[null,"",{"$f":"IFERROR(VLOOKUP(A868,'1.Портфель кредитів'!A:AC,3,FALSE),\"\")","v":""},{"$f":"IFERROR(VLOOKUP(A868,'1.Портфель кредитів'!A:AC,14,FALSE),\"\")","v":""},null,null,null,null,null,null,null,null,null,null,null,null,"","",null,{"$f":"IFERROR(VLOOKUP(A868,'1.Портфель кредитів'!A:AC,30,FALSE),\"\")","v":""},0,{"$error":"#VALUE!"},null,null,null,null,null,{"$f":"VLOOKUP(C868,Hidden_Словник!$A$2:C$81,3,FALSE)","v":{"$error":"#N/A"}},0,{"$f":"VLOOKUP(E868,Hidden_Словник!$W$2:$X$13,2,FALSE)","v":{"$error":"#N/A"}},0,{"$error":"#N/A"}]
[null,"",{"$f":"IFERROR(VLOOKUP(A869,'1.Портфель кредитів'!A:AC,3,FALSE),\"\")","v":""},{"$f":"IFERROR(VLOOKUP(A869,'1.Портфель кредитів'!A:AC,14,FALSE),\"\")","v":""},null,null,null,null,null,null,null,null,null,null,null,null,"","",null,{"$f":"IFERROR(VLOOKUP(A869,'1.Портфель кредитів'!A:AC,30,FALSE),\"\")","v":""},0,{"$error":"#VALUE!"},null,null,null,null,null,{"$f":"VLOOKUP(C869,Hidden_Словник!$A$2:C$81,3,FALSE)","v":{"$error":"#N/A"}},0,{"$f":"VLOOKUP(E869,Hidden_Словник!$W$2:$X$13,2,FALSE)","v":{"$error":"#N/A"}},0,{"$error":"#N/A"}]
[null,"",{"$f":"IFERROR(VLOOKUP(A870,'1.Портфель кредитів'!A:AC,3,FALSE),\"\")","v":""},{"$f":"IFERROR(VLOOKUP(A870,'1.Портфель кредитів'!A:AC,14,FALSE),\"\")","v":""},null,null,null,null,null,null,null,null,null,null,null,null,"","",null,{"$f":"IFERROR(VLOOKUP(A870,'1.Портфель кредитів'!A:AC,30,FALSE),\"\")","v":""},0,{"$error":"#VALUE!"},null,null,null,null,null,{"$f":"VLOOKUP(C870,Hidden_Словник!$A$2:C$81,3,FALSE)","v":{"$error":"#N/A"}},0,{"$f":"VLOOKUP(E870,Hidden_Словник!$W$2:$X$13,2,FALSE)","v":{"$error":"#N/A"}},0,{"$error":"#N/A"}]
[null,"",{"$f":"IFERROR(VLOOKUP(A871,'1.Портфель кредитів'!A:AC,3,FALSE),\"\")","v":""},{"$f":"IFERROR(VLOOKUP(A871,'1.Портфель кредитів'!A:AC,14,FALSE),\"\")","v":""},null,null,null,null,null,null,null,null,null,null,null,null,"","",null,{"$f":"IFERROR(VLOOKUP(A871,'1.Портфель кредитів'!A:AC,30,FALSE),\"\")","v":""},0,{"$error":"#VALUE!"},null,null,null,null,null,{"$f":"VLOOKUP(C871,Hidden_Словник!$A$2:C$81,3,FALSE)","v":{"$error":"#N/A"}},0,{"$f":"VLOOKUP(E871,Hidden_Словник!$W$2:$X$13,2,FALSE)","v":{"$error":"#N/A"}},0,{"$error":"#N/A"}]
[null,"",{"$f":"IFERROR(VLOOKUP(A872,'1.Портфель кредитів'!A:AC,3,FALSE),\"\")","v":""},{"$f":"IFERROR(VLOOKUP(A872,'1.Портфель кредитів'!A:AC,14,FALSE),\"\")","v":""},null,null,null,null,null,null,null,null,null,null,null,null,"","",null,{"$f":"IFERROR(VLOOKUP(A872,'1.Портфель кредитів'!A:AC,30,FALSE),\"\")","v":""},0,{"$error":"#VALUE!"},null,null,null,null,null,{"$f":"VLOOKUP(C872,Hidden_Словник!$A$2:C$81,3,FALSE)","v":{"$error":"#N/A"}},0,{"$f":"VLOOKUP(E872,Hidden_Словник!$W$2:$X$13,2,FALSE)","v":{"$error":"#N/A"}},0,{"$error":"#N/A"}]
[null,"",{"$f":"IFERROR(VLOOKUP(A873,'1.Портфель кредитів'!A:AC,3,FALSE),\"\")","v":""},{"$f":"IFERROR(VLOOKUP(A873,'1.Портфель кредитів'!A:AC,14,FALSE),\"\")","v":""},null,null,null,null,null,null,null,null,null,null,null,null,"","",null,{"$f":"IFERROR(VLOOKUP(A873,'1.Портфель кредитів'!A:AC,30,FALSE),\"\")","v":""},0,{"$error":"#VALUE!"},null,null,null,null,null,{"$f":"VLOOKUP(C873,Hidden_Словник!$A$2:C$81,3,FALSE)","v":{"$error":"#N/A"}},0,{"$f":"VLOOKUP(E873,Hidden_Словник!$W$2:$X$13,2,FALSE)","v":{"$error":"#N/A"}},0,{"$error":"#N/A"}]
[null,"",{"$f":"IFERROR(VLOOKUP(A874,'1.Портфель кредитів'!A:AC,3,FALSE),\"\")","v":""},{"$f":"IFERROR(VLOOKUP(A874,'1.Портфель кредитів'!A:AC,14,FALSE),\"\")","v":""},null,null,null,null,null,null,null,null,null,null,null,null,"","",null,{"$f":"IFERROR(VLOOKUP(A874,'1.Портфель кредитів'!A:AC,30,FALSE),\"\")","v":""},0,{"$error":"#VALUE!"},null,null,null,null,null,{"$f":"VLOOKUP(C874,Hidden_Словник!$A$2:C$81,3,FALSE)","v":{"$error":"#N/A"}},0,{"$f":"VLOOKUP(E874,Hidden_Словник!$W$2:$X$13,2,FALSE)","v":{"$error":"#N/A"}},0,{"$error":"#N/A"}]
[null,"",{"$f":"IFERROR(VLOOKUP(A875,'1.Портфель кредитів'!A:AC,3,FALSE),\"\")","v":""},{"$f":"IFERROR(VLOOKUP(A875,'1.Портфель кредитів'!A:AC,14,FALSE),\"\")","v":""},null,null,null,null,null,null,null,null,null,null,null,null,"","",null,{"$f":"IFERROR(VLOOKUP(A875,'1.Портфель кредитів'!A:AC,30,FALSE),\"\")","v":""},0,{"$error":"#VALUE!"},null,null,null,null,null,{"$f":"VLOOKUP(C875,Hidden_Словник!$A$2:C$81,3,FALSE)","v":{"$error":"#N/A"}},0,{"$f":"VLOOKUP(E875,Hidden_Словник!$W$2:$X$13,2,FALSE)","v":{"$error":"#N/A"}},0,{"$error":"#N/A"}]
[null,"",{"$f":"IFERROR(VLOOKUP(A876,'1.Портфель кредитів'!A:AC,3,FALSE),\"\")","v":""},{"$f":"IFERROR(VLOOKUP(A876,'1.Портфель кредитів'!A:AC,14,FALSE),\"\")","v":""},null,null,null,null,null,null,null,null,null,null,null,null,"","",null,{"$f":"IFERROR(VLOOKUP(A876,'1.Портфель кредитів'!A:AC,30,FALSE),\"\")","v":""},0,{"$error":"#VALUE!"},null,null,null,null,null,{"$f":"VLOOKUP(C876,Hidden_Словник!$A$2:C$81,3,FALSE)","v":{"$error":"#N/A"}},0,{"$f":"VLOOKUP(E876,Hidden_Словник!$W$2:$X$13,2,FALSE)","v":{"$error":"#N/A"}},0,{"$error":"#N/A"}]
[null,"",{"$f":"IFERROR(VLOOKUP(A877,'1.Портфель кредитів'!A:AC,3,FALSE),\"\")","v":""},{"$f":"IFERROR(VLOOKUP(A877,'1.Портфель кредитів'!A:AC,14,FALSE),\"\")","v":""},null,null,null,null,null,null,null,null,null,null,null,null,"","",null,{"$f":"IFERROR(VLOOKUP(A877,'1.Портфель кредитів'!A:AC,30,FALSE),\"\")","v":""},0,{"$error":"#VALUE!"},null,null,null,null,null,{"$f":"VLOOKUP(C877,Hidden_Словник!$A$2:C$81,3,FALSE)","v":{"$error":"#N/A"}},0,{"$f":"VLOOKUP(E877,Hidden_Словник!$W$2:$X$13,2,FALSE)","v":{"$error":"#N/A"}},0,{"$error":"#N/A"}]
[null,"",{"$f":"IFERROR(VLOOKUP(A878,'1.Портфель кредитів'!A:AC,3,FALSE),\"\")","v":""},{"$f":"IFERROR(VLOOKUP(A878,'1.Портфель кредитів'!A:AC,14,FALSE),\"\")","v":""},null,null,null,null,null,null,null,null,null,null,null,null,"","",null,{"$f":"IFERROR(VLOOKUP(A878,'1.Портфель кредитів'!A:AC,30,FALSE),\"\")","v":""},0,{"$error":"#VALUE!"},null,null,null,null,null,{"$f":"VLOOKUP(C878,Hidden_Словник!$A$2:C$81,3,FALSE)","v":{"$error":"#N/A"}},0,{"$f":"VLOOKUP(E878,Hidden_Словник!$W$2:$X$13,2,FALSE)","v":{"$error":"#N/A"}},0,{"$error":"#N/A"}]
[null,"",{"$f":"IFERROR(VLOOKUP(A879,'1.Портфель кредитів'!A:AC,3,FALSE),\"\")","v":""},{"$f":"IFERROR(VLOOKUP(A879,'1.Портфель кредитів'!A:AC,14,FALSE),\"\")","v":""},null,null,null,null,null,null,null,null,null,null,null,null,"","",null,{"$f":"IFERROR(VLOOKUP(A879,'1.Портфель кредитів'!A:AC,30,FALSE),\"\")","v":""},0,{"$error":"#VALUE!"},null,null,null,null,null,{"$f":"VLOOKUP(C879,Hidden_Словник!$A$2:C$81,3,FALSE)","v":{"$error":"#N/A"}},0,{"$f":"VLOOKUP(E879,Hidden_Словник!$W$2:$X$13,2,FALSE)","v":{"$error":"#N/A"}},0,{"$error":"#N/A"}]
[null,"",{"$f":"IFERROR(VLOOKUP(A880,'1.Портфель кредитів'!A:AC,3,FALSE),\"\")","v":""},{"$f":"IFERROR(VLOOKUP(A880,'1.Портфель кредитів'!A:AC,14,FALSE),\"\")","v":""},null,null,null,null,null,null,null,null,null,null,null,null,"","",null,{"$f":"IFERROR(VLOOKUP(A880,'1.Портфель кредитів'!A:AC,30,FALSE),\"\")","v":""},0,{"$error":"#VALUE!"},null,null,null,null,null,{"$f":"VLOOKUP(C880,Hidden_Словник!$A$2:C$81,3,FALSE)","v":{"$error":"#N/A"}},0,{"$f":"VLOOKUP(E880,Hidden_Словник!$W$2:$X$13,2,FALSE)","v":{"$error":"#N/A"}},0,{"$error":"#N/A"}]
[null,"",{"$f":"IFERROR(VLOOKUP(A881,'1.Портфель кредитів'!A:AC,3,FALSE),\"\")","v":""},{"$f":"IFERROR(VLOOKUP(A881,'1.Портфель кредитів'!A:AC,14,FALSE),\"\")","v":""},null,null,null,null,null,null,null,null,null,null,null,null,"","",null,{"$f":"IFERROR(VLOOKUP(A881,'1.Портфель кредитів'!A:AC,30,FALSE),\"\")","v":""},0,{"$error":"#VALUE!"},null,null,null,null,null,{"$f":"VLOOKUP(C881,Hidden_Словник!$A$2:C$81,3,FALSE)","v":{"$error":"#N/A"}},0,{"$f":"VLOOKUP(E881,Hidden_Словник!$W$2:$X$13,2,FALSE)","v":{"$error":"#N/A"}},0,{"$error":"#N/A"}]
[null,"",{"$f":"IFERROR(VLOOKUP(A882,'1.Портфель кредитів'!A:AC,3,FALSE),\"\")","v":""},{"$f":"IFERROR(VLOOKUP(A882,'1.Портфель кредитів'!A:AC,14,FALSE),\"\")","v":""},null,null,null,null,null,null,null,null,null,null,null,null,"","",null,{"$f":"IFERROR(VLOOKUP(A882,'1.Портфель кредитів'!A:AC,30,FALSE),\"\")","v":""},0,{"$error":"#VALUE!"},null,null,null,null,null,{"$f":"VLOOKUP(C882,Hidden_Словник!$A$2:C$81,3,FALSE)","v":{"$error":"#N/A"}},0,{"$f":"VLOOKUP(E882,Hidden_Словник!$W$2:$X$13,2,FALSE)","v":{"$error":"#N/A"}},0,{"$error":"#N/A"}]
[null,"",{"$f":"IFERROR(VLOOKUP(A883,'1.Портфель кредитів'!A:AC,3,FALSE),\"\")","v":""},{"$f":"IFERROR(VLOOKUP(A883,'1.Портфель кредитів'!A:AC,14,FALSE),\"\")","v":""},null,null,null,null,null,null,null,null,null,null,null,null,"","",null,{"$f":"IFERROR(VLOOKUP(A883,'1.Портфель кредитів'!A:AC,30,FALSE),\"\")","v":""},0,{"$error":"#VALUE!"},null,null,null,null,null,{"$f":"VLOOKUP(C883,Hidden_Словник!$A$2:C$81,3,FALSE)","v":{"$error":"#N/A"}},0,{"$f":"VLOOKUP(E883,Hidden_Словник!$W$2:$X$13,2,FALSE)","v":{"$error":"#N/A"}},0,{"$error":"#N/A"}]
[null,"",{"$f":"IFERROR(VLOOKUP(A884,'1.Портфель кредитів'!A:AC,3,FALSE),\"\")","v":""},{"$f":"IFERROR(VLOOKUP(A884,'1.Портфель кредитів'!A:AC,14,FALSE),\"\")","v":""},null,null,null,null,null,null,null,null,null,null,null,null,"","",null,{"$f":"IFERROR(VLOOKUP(A884,'1.Портфель кредитів'!A:AC,30,FALSE),\"\")","v":""},0,{"$error":"#VALUE!"},null,null,null,null,null,{"$f":"VLOOKUP(C884,Hidden_Словник!$A$2:C$81,3,FALSE)","v":{"$error":"#N/A"}},0,{"$f":"VLOOKUP(E884,Hidden_Словник!$W$2:$X$13,2,FALSE)","v":{"$error":"#N/A"}},0,{"$error":"#N/A"}]
[null,"",{"$f":"IFERROR(VLOOKUP(A885,'1.Портфель кредитів'!A:AC,3,FALSE),\"\")","v":""},{"$f":"IFERROR(VLOOKUP(A885,'1.Портфель кредитів'!A:AC,14,FALSE),\"\")","v":""},null,null,null,null,null,null,null,null,null,null,null,null,"","",null,{"$f":"IFERROR(VLOOKUP(A885,'1.Портфель кредитів'!A:AC,30,FALSE),\"\")","v":""},0,{"$error":"#VALUE!"},null,null,null,null,null,{"$f":"VLOOKUP(C885,Hidden_Словник!$A$2:C$81,3,FALSE)","v":{"$error":"#N/A"}},0,{"$f":"VLOOKUP(E885,Hidden_Словник!$W$2:$X$13,2,FALSE)","v":{"$error":"#N/A"}},0,{"$error":"#N/A"}]
[null,"",{"$f":"IFERROR(VLOOKUP(A886,'1.Портфель кредитів'!A:AC,3,FALSE),\"\")","v":""},{"$f":"IFERROR(VLOOKUP(A886,'1.Портфель кредитів'!A:AC,14,FALSE),\"\")","v":""},null,null,null,null,null,null,null,null,null,null,null,null,"","",null,{"$f":"IFERROR(VLOOKUP(A886,'1.Портфель кредитів'!A:AC,30,FALSE),\"\")","v":""},0,{"$error":"#VALUE!"},null,null,null,null,null,{"$f":"VLOOKUP(C886,Hidden_Словник!$A$2:C$81,3,FALSE)","v":{"$error":"#N/A"}},0,{"$f":"VLOOKUP(E886,Hidden_Словник!$W$2:$X$13,2,FALSE)","v":{"$error":"#N/A"}},0,{"$error":"#N/A"}]
[null,"",{"$f":"IFERROR(VLOOKUP(A887,'1.Портфель кредитів'!A:AC,3,FALSE),\"\")","v":""},{"$f":"IFERROR(VLOOKUP(A887,'1.Портфель кредитів'!A:AC,14,FALSE),\"\")","v":""},null,null,null,null,null,null,null,null,null,null,null,null,"","",null,{"$f":"IFERROR(VLOOKUP(A887,'1.Портфель кредитів'!A:AC,30,FALSE),\"\")","v":""},0,{"$error":"#VALUE!"},null,null,null,null,null,{"$f":"VLOOKUP(C887,Hidden_Словник!$A$2:C$81,3,FALSE)","v":{"$error":"#N/A"}},0,{"$f":"VLOOKUP(E887,Hidden_Словник!$W$2:$X$13,2,FALSE)","v":{"$error":"#N/A"}},0,{"$error":"#N/A"}]
[null,"",{"$f":"IFERROR(VLOOKUP(A888,'1.Портфель кредитів'!A:AC,3,FALSE),\"\")","v":""},{"$f":"IFERROR(VLOOKUP(A888,'1.Портфель кредитів'!A:AC,14,FALSE),\"\")","v":""},null,null,null,null,null,null,null,null,null,null,null,null,"","",null,{"$f":"IFERROR(VLOOKUP(A888,'1.Портфель кредитів'!A:AC,30,FALSE),\"\")","v":""},0,{"$error":"#VALUE!"},null,null,null,null,null,{"$f":"VLOOKUP(C888,Hidden_Словник!$A$2:C$81,3,FALSE)","v":{"$error":"#N/A"}},0,{"$f":"VLOOKUP(E888,Hidden_Словник!$W$2:$X$13,2,FALSE)","v":{"$error":"#N/A"}},0,{"$error":"#N/A"}]
[null,"",{"$f":"IFERROR(VLOOKUP(A889,'1.Портфель кредитів'!A:AC,3,FALSE),\"\")","v":""},{"$f":"IFERROR(VLOOKUP(A889,'1.Портфель кредитів'!A:AC,14,FALSE),\"\")","v":""},null,null,null,null,null,null,null,null,null,null,null,null,"","",null,{"$f":"IFERROR(VLOOKUP(A889,'1.Портфель кредитів'!A:AC,30,FALSE),\"\")","v":""},0,{"$error":"#VALUE!"},null,null,null,null,null,{"$f":"VLOOKUP(C889,Hidden_Словник!$A$2:C$81,3,FALSE)","v":{"$error":"#N/A"}},0,{"$f":"VLOOKUP(E889,Hidden_Словник!$W$2:$X$13,2,FALSE)","v":{"$error":"#N/A"}},0,{"$error":"#N/A"}]
[null,"",{"$f":"IFERROR(VLOOKUP(A890,'1.Портфель кредитів'!A:AC,3,FALSE),\"\")","v":""},{"$f":"IFERROR(VLOOKUP(A890,'1.Портфель кредитів'!A:AC,14,FALSE),\"\")","v":""},null,null,null,null,null,null,null,null,null,null,null,null,"","",null,{"$f":"IFERROR(VLOOKUP(A890,'1.Портфель кредитів'!A:AC,30,FALSE),\"\")","v":""},0,{"$error":"#VALUE!"},null,null,null,null,null,{"$f":"VLOOKUP(C890,Hidden_Словник!$A$2:C$81,3,FALSE)","v":{"$error":"#N/A"}},0,{"$f":"VLOOKUP(E890,Hidden_Словник!$W$2:$X$13,2,FALSE)","v":{"$error":"#N/A"}},0,{"$error":"#N/A"}]
[null,"",{"$f":"IFERROR(VLOOKUP(A891,'1.Портфель кредитів'!A:AC,3,FALSE),\"\")","v":""},{"$f":"IFERROR(VLOOKUP(A891,'1.Портфель кредитів'!A:AC,14,FALSE),\"\")","v":""},null,null,null,null,null,null,null,null,null,null,null,null,"","",null,{"$f":"IFERROR(VLOOKUP(A891,'1.Портфель кредитів'!A:AC,30,FALSE),\"\")","v":""},0,{"$error":"#VALUE!"},null,null,null,null,null,{"$f":"VLOOKUP(C891,Hidden_Словник!$A$2:C$81,3,FALSE)","v":{"$error":"#N/A"}},0,{"$f":"VLOOKUP(E891,Hidden_Словник!$W$2:$X$13,2,FALSE)","v":{"$error":"#N/A"}},0,{"$error":"#N/A"}]
[null,"",{"$f":"IFERROR(VLOOKUP(A892,'1.Портфель кредитів'!A:AC,3,FALSE),\"\")","v":""},{"$f":"IFERROR(VLOOKUP(A892,'1.Портфель кредитів'!A:AC,14,FALSE),\"\")","v":""},null,null,null,null,null,null,null,null,null,null,null,null,"","",null,{"$f":"IFERROR(VLOOKUP(A892,'1.Портфель кредитів'!A:AC,30,FALSE),\"\")","v":""},0,{"$error":"#VALUE!"},null,null,null,null,null,{"$f":"VLOOKUP(C892,Hidden_Словник!$A$2:C$81,3,FALSE)","v":{"$error":"#N/A"}},0,{"$f":"VLOOKUP(E892,Hidden_Словник!$W$2:$X$13,2,FALSE)","v":{"$error":"#N/A"}},0,{"$error":"#N/A"}]
[null,"",{"$f":"IFERROR(VLOOKUP(A893,'1.Портфель кредитів'!A:AC,3,FALSE),\"\")","v":""},{"$f":"IFERROR(VLOOKUP(A893,'1.Портфель кредитів'!A:AC,14,FALSE),\"\")","v":""},null,null,null,null,null,null,null,null,null,null,null,null,"","",null,{"$f":"IFERROR(VLOOKUP(A893,'1.Портфель кредитів'!A:AC,30,FALSE),\"\")","v":""},0,{"$error":"#VALUE!"},null,null,null,null,null,{"$f":"VLOOKUP(C893,Hidden_Словник!$A$2:C$81,3,FALSE)","v":{"$error":"#N/A"}},0,{"$f":"VLOOKUP(E893,Hidden_Словник!$W$2:$X$13,2,FALSE)","v":{"$error":"#N/A"}},0,{"$error":"#N/A"}]
[null,"",{"$f":"IFERROR(VLOOKUP(A894,'1.Портфель кредитів'!A:AC,3,FALSE),\"\")","v":""},{"$f":"IFERROR(VLOOKUP(A894,'1.Портфель кредитів'!A:AC,14,FALSE),\"\")","v":""},null,null,null,null,null,null,null,null,null,null,null,null,"","",null,{"$f":"IFERROR(VLOOKUP(A894,'1.Портфель кредитів'!A:AC,30,FALSE),\"\")","v":""},0,{"$error":"#VALUE!"},null,null,null,null,null,{"$f":"VLOOKUP(C894,Hidden_Словник!$A$2:C$81,3,FALSE)","v":{"$error":"#N/A"}},0,{"$f":"VLOOKUP(E894,Hidden_Словник!$W$2:$X$13,2,FALSE)","v":{"$error":"#N/A"}},0,{"$error":"#N/A"}]
[null,"",{"$f":"IFERROR(VLOOKUP(A895,'1.Портфель кредитів'!A:AC,3,FALSE),\"\")","v":""},{"$f":"IFERROR(VLOOKUP(A895,'1.Портфель кредитів'!A:AC,14,FALSE),\"\")","v":""},null,null,null,null,null,null,null,null,null,null,null,null,"","",null,{"$f":"IFERROR(VLOOKUP(A895,'1.Портфель кредитів'!A:AC,30,FALSE),\"\")","v":""},0,{"$f":"T895/U895","v":{"$error":"#VALUE!"}},null,null,null,null,null,{"$f":"VLOOKUP(C895,Hidden_Словник!$A$2:C$81,3,FALSE)","v":{"$error":"#N/A"}},0,{"$f":"VLOOKUP(E895,Hidden_Словник!$W$2:$X$13,2,FALSE)","v":{"$error":"#N/A"}},0,{"$error":"#N/A"}]
[null,"",{"$f":"IFERROR(VLOOKUP(A896,'1.Портфель кредитів'!A:AC,3,FALSE),\"\")","v":""},{"$f":"IFERROR(VLOOKUP(A896,'1.Портфель кредитів'!A:AC,14,FALSE),\"\")","v":""},null,null,null,null,null,null,null,null,null,null,null,null,"","",null,{"$f":"IFERROR(VLOOKUP(A896,'1.Портфель кредитів'!A:AC,30,FALSE),\"\")","v":""},0,{"$error":"#VALUE!"},null,null,null,null,null,{"$f":"VLOOKUP(C896,Hidden_Словник!$A$2:C$81,3,FALSE)","v":{"$error":"#N/A"}},0,{"$f":"VLOOKUP(E896,Hidden_Словник!$W$2:$X$13,2,FALSE)","v":{"$error":"#N/A"}},0,{"$error":"#N/A"}]
[null,"",{"$f":"IFERROR(VLOOKUP(A897,'1.Портфель кредитів'!A:AC,3,FALSE),\"\")","v":""},{"$f":"IFERROR(VLOOKUP(A897,'1.Портфель кредитів'!A:AC,14,FALSE),\"\")","v":""},null,null,null,null,null,null,null,null,null,null,null,null,"","",null,{"$f":"IFERROR(VLOOKUP(A897,'1.Портфель кредитів'!A:AC,30,FALSE),\"\")","v":""},0,{"$error":"#VALUE!"},null,null,null,null,null,{"$f":"VLOOKUP(C897,Hidden_Словник!$A$2:C$81,3,FALSE)","v":{"$error":"#N/A"}},0,{"$f":"VLOOKUP(E897,Hidden_Словник!$W$2:$X$13,2,FALSE)","v":{"$error":"#N/A"}},0,{"$error":"#N/A"}]
[null,"",{"$f":"IFERROR(VLOOKUP(A898,'1.Портфель кредитів'!A:AC,3,FALSE),\"\")","v":""},{"$f":"IFERROR(VLOOKUP(A898,'1.Портфель кредитів'!A:AC,14,FALSE),\"\")","v":""},null,null,null,null,null,null,null,null,null,null,null,null,"","",null,{"$f":"IFERROR(VLOOKUP(A898,'1.Портфель кредитів'!A:AC,30,FALSE),\"\")","v":""},0,{"$error":"#VALUE!"},null,null,null,null,null,{"$f":"VLOOKUP(C898,Hidden_Словник!$A$2:C$81,3,FALSE)","v":{"$error":"#N/A"}},0,{"$f":"VLOOKUP(E898,Hidden_Словник!$W$2:$X$13,2,FALSE)","v":{"$error":"#N/A"}},0,{"$error":"#N/A"}]
[null,"",{"$f":"IFERROR(VLOOKUP(A899,'1.Портфель кредитів'!A:AC,3,FALSE),\"\")","v":""},{"$f":"IFERROR(VLOOKUP(A899,'1.Портфель кредитів'!A:AC,14,FALSE),\"\")","v":""},null,null,null,null,null,null,null,null,null,null,null,null,"","",null,{"$f":"IFERROR(VLOOKUP(A899,'1.Портфель кредитів'!A:AC,30,FALSE),\"\")","v":""},0,{"$error":"#VALUE!"},null,null,null,null,null,{"$f":"VLOOKUP(C899,Hidden_Словник!$A$2:C$81,3,FALSE)","v":{"$error":"#N/A"}},0,{"$f":"VLOOKUP(E899,Hidden_Словник!$W$2:$X$13,2,FALSE)","v":{"$error":"#N/A"}},0,{"$error":"#N/A"}]
[null,"",{"$f":"IFERROR(VLOOKUP(A900,'1.Портфель кредитів'!A:AC,3,FALSE),\"\")","v":""},{"$f":"IFERROR(VLOOKUP(A900,'1.Портфель кредитів'!A:AC,14,FALSE),\"\")","v":""},null,null,null,null,null,null,null,null,null,null,null,null,"","",null,{"$f":"IFERROR(VLOOKUP(A900,'1.Портфель кредитів'!A:AC,30,FALSE),\"\")","v":""},0,{"$error":"#VALUE!"},null,null,null,null,null,{"$f":"VLOOKUP(C900,Hidden_Словник!$A$2:C$81,3,FALSE)","v":{"$error":"#N/A"}},0,{"$f":"VLOOKUP(E900,Hidden_Словник!$W$2:$X$13,2,FALSE)","v":{"$error":"#N/A"}},0,{"$error":"#N/A"}]
[null,"",{"$f":"IFERROR(VLOOKUP(A901,'1.Портфель кредитів'!A:AC,3,FALSE),\"\")","v":""},{"$f":"IFERROR(VLOOKUP(A901,'1.Портфель кредитів'!A:AC,14,FALSE),\"\")","v":""},null,null,null,null,null,null,null,null,null,null,null,null,"","",null,{"$f":"IFERROR(VLOOKUP(A901,'1.Портфель кредитів'!A:AC,30,FALSE),\"\")","v":""},0,{"$error":"#VALUE!"},null,null,null,null,null,{"$f":"VLOOKUP(C901,Hidden_Словник!$A$2:C$81,3,FALSE)","v":{"$error":"#N/A"}},0,{"$f":"VLOOKUP(E901,Hidden_Словник!$W$2:$X$13,2,FALSE)","v":{"$error":"#N/A"}},0,{"$error":"#N/A"}]
[null,"",{"$f":"IFERROR(VLOOKUP(A902,'1.Портфель кредитів'!A:AC,3,FALSE),\"\")","v":""},{"$f":"IFERROR(VLOOKUP(A902,'1.Портфель кредитів'!A:AC,14,FALSE),\"\")","v":""},null,null,null,null,null,null,null,null,null,null,null,null,"","",null,{"$f":"IFERROR(VLOOKUP(A902,'1.Портфель кредитів'!A:AC,30,FALSE),\"\")","v":""},0,{"$error":"#VALUE!"},null,null,null,null,null,{"$f":"VLOOKUP(C902,Hidden_Словник!$A$2:C$81,3,FALSE)","v":{"$error":"#N/A"}},0,{"$f":"VLOOKUP(E902,Hidden_Словник!$W$2:$X$13,2,FALSE)","v":{"$error":"#N/A"}},0,{"$error":"#N/A"}]
[null,"",{"$f":"IFERROR(VLOOKUP(A903,'1.Портфель кредитів'!A:AC,3,FALSE),\"\")","v":""},{"$f":"IFERROR(VLOOKUP(A903,'1.Портфель кредитів'!A:AC,14,FALSE),\"\")","v":""},null,null,null,null,null,null,null,null,null,null,null,null,"","",null,{"$f":"IFERROR(VLOOKUP(A903,'1.Портфель кредитів'!A:AC,30,FALSE),\"\")","v":""},0,{"$error":"#VALUE!"},null,null,null,null,null,{"$f":"VLOOKUP(C903,Hidden_Словник!$A$2:C$81,3,FALSE)","v":{"$error":"#N/A"}},0,{"$f":"VLOOKUP(E903,Hidden_Словник!$W$2:$X$13,2,FALSE)","v":{"$error":"#N/A"}},0,{"$error":"#N/A"}]
[null,"",{"$f":"IFERROR(VLOOKUP(A904,'1.Портфель кредитів'!A:AC,3,FALSE),\"\")","v":""},{"$f":"IFERROR(VLOOKUP(A904,'1.Портфель кредитів'!A:AC,14,FALSE),\"\")","v":""},null,null,null,null,null,null,null,null,null,null,null,null,"","",null,{"$f":"IFERROR(VLOOKUP(A904,'1.Портфель кредитів'!A:AC,30,FALSE),\"\")","v":""},0,{"$error":"#VALUE!"},null,null,null,null,null,{"$f":"VLOOKUP(C904,Hidden_Словник!$A$2:C$81,3,FALSE)","v":{"$error":"#N/A"}},0,{"$f":"VLOOKUP(E904,Hidden_Словник!$W$2:$X$13,2,FALSE)","v":{"$error":"#N/A"}},0,{"$error":"#N/A"}]
[null,"",{"$f":"IFERROR(VLOOKUP(A905,'1.Портфель кредитів'!A:AC,3,FALSE),\"\")","v":""},{"$f":"IFERROR(VLOOKUP(A905,'1.Портфель кредитів'!A:AC,14,FALSE),\"\")","v":""},null,null,null,null,null,null,null,null,null,null,null,null,"","",null,{"$f":"IFERROR(VLOOKUP(A905,'1.Портфель кредитів'!A:AC,30,FALSE),\"\")","v":""},0,{"$error":"#VALUE!"},null,null,null,null,null,{"$f":"VLOOKUP(C905,Hidden_Словник!$A$2:C$81,3,FALSE)","v":{"$error":"#N/A"}},0,{"$f":"VLOOKUP(E905,Hidden_Словник!$W$2:$X$13,2,FALSE)","v":{"$error":"#N/A"}},0,{"$error":"#N/A"}]
[null,"",{"$f":"IFERROR(VLOOKUP(A906,'1.Портфель кредитів'!A:AC,3,FALSE),\"\")","v":""},{"$f":"IFERROR(VLOOKUP(A906,'1.Портфель кредитів'!A:AC,14,FALSE),\"\")","v":""},null,null,null,null,null,null,null,null,null,null,null,null,"","",null,{"$f":"IFERROR(VLOOKUP(A906,'1.Портфель кредитів'!A:AC,30,FALSE),\"\")","v":""},0,{"$error":"#VALUE!"},null,null,null,null,null,{"$f":"VLOOKUP(C906,Hidden_Словник!$A$2:C$81,3,FALSE)","v":{"$error":"#N/A"}},0,{"$f":"VLOOKUP(E906,Hidden_Словник!$W$2:$X$13,2,FALSE)","v":{"$error":"#N/A"}},0,{"$error":"#N/A"}]
[null,"",{"$f":"IFERROR(VLOOKUP(A907,'1.Портфель кредитів'!A:AC,3,FALSE),\"\")","v":""},{"$f":"IFERROR(VLOOKUP(A907,'1.Портфель кредитів'!A:AC,14,FALSE),\"\")","v":""},null,null,null,null,null,null,null,null,null,null,null,null,"","",null,{"$f":"IFERROR(VLOOKUP(A907,'1.Портфель кредитів'!A:AC,30,FALSE),\"\")","v":""},0,{"$error":"#VALUE!"},null,null,null,null,null,{"$f":"VLOOKUP(C907,Hidden_Словник!$A$2:C$81,3,FALSE)","v":{"$error":"#N/A"}},0,{"$f":"VLOOKUP(E907,Hidden_Словник!$W$2:$X$13,2,FALSE)","v":{"$error":"#N/A"}},0,{"$error":"#N/A"}]
[null,"",{"$f":"IFERROR(VLOOKUP(A908,'1.Портфель кредитів'!A:AC,3,FALSE),\"\")","v":""},{"$f":"IFERROR(VLOOKUP(A908,'1.Портфель кредитів'!A:AC,14,FALSE),\"\")","v":""},null,null,null,null,null,null,null,null,null,null,null,null,"","",null,{"$f":"IFERROR(VLOOKUP(A908,'1.Портфель кредитів'!A:AC,30,FALSE),\"\")","v":""},0,{"$error":"#VALUE!"},null,null,null,null,null,{"$f":"VLOOKUP(C908,Hidden_Словник!$A$2:C$81,3,FALSE)","v":{"$error":"#N/A"}},0,{"$f":"VLOOKUP(E908,Hidden_Словник!$W$2:$X$13,2,FALSE)","v":{"$error":"#N/A"}},0,{"$error":"#N/A"}]
[null,"",{"$f":"IFERROR(VLOOKUP(A909,'1.Портфель кредитів'!A:AC,3,FALSE),\"\")","v":""},{"$f":"IFERROR(VLOOKUP(A909,'1.Портфель кредитів'!A:AC,14,FALSE),\"\")","v":""},null,null,null,null,null,null,null,null,null,null,null,null,"","",null,{"$f":"IFERROR(VLOOKUP(A909,'1.Портфель кредитів'!A:AC,30,FALSE),\"\")","v":""},0,{"$error":"#VALUE!"},null,null,null,null,null,{"$f":"VLOOKUP(C909,Hidden_Словник!$A$2:C$81,3,FALSE)","v":{"$error":"#N/A"}},0,{"$f":"VLOOKUP(E909,Hidden_Словник!$W$2:$X$13,2,FALSE)","v":{"$error":"#N/A"}},0,{"$error":"#N/A"}]
[null,"",{"$f":"IFERROR(VLOOKUP(A910,'1.Портфель кредитів'!A:AC,3,FALSE),\"\")","v":""},{"$f":"IFERROR(VLOOKUP(A910,'1.Портфель кредитів'!A:AC,14,FALSE),\"\")","v":""},null,null,null,null,null,null,null,null,null,null,null,null,"","",null,{"$f":"IFERROR(VLOOKUP(A910,'1.Портфель кредитів'!A:AC,30,FALSE),\"\")","v":""},0,{"$error":"#VALUE!"},null,null,null,null,null,{"$f":"VLOOKUP(C910,Hidden_Словник!$A$2:C$81,3,FALSE)","v":{"$error":"#N/A"}},0,{"$f":"VLOOKUP(E910,Hidden_Словник!$W$2:$X$13,2,FALSE)","v":{"$error":"#N/A"}},0,{"$error":"#N/A"}]
[null,"",{"$f":"IFERROR(VLOOKUP(A911,'1.Портфель кредитів'!A:AC,3,FALSE),\"\")","v":""},{"$f":"IFERROR(VLOOKUP(A911,'1.Портфель кредитів'!A:AC,14,FALSE),\"\")","v":""},null,null,null,null,null,null,null,null,null,null,null,null,"","",null,{"$f":"IFERROR(VLOOKUP(A911,'1.Портфель кредитів'!A:AC,30,FALSE),\"\")","v":""},0,{"$error":"#VALUE!"},null,null,null,null,null,{"$f":"VLOOKUP(C911,Hidden_Словник!$A$2:C$81,3,FALSE)","v":{"$error":"#N/A"}},0,{"$f":"VLOOKUP(E911,Hidden_Словник!$W$2:$X$13,2,FALSE)","v":{"$error":"#N/A"}},0,{"$error":"#N/A"}]
[null,"",{"$f":"IFERROR(VLOOKUP(A912,'1.Портфель кредитів'!A:AC,3,FALSE),\"\")","v":""},{"$f":"IFERROR(VLOOKUP(A912,'1.Портфель кредитів'!A:AC,14,FALSE),\"\")","v":""},null,null,null,null,null,null,null,null,null,null,null,null,"","",null,{"$f":"IFERROR(VLOOKUP(A912,'1.Портфель кредитів'!A:AC,30,FALSE),\"\")","v":""},0,{"$error":"#VALUE!"},null,null,null,null,null,{"$f":"VLOOKUP(C912,Hidden_Словник!$A$2:C$81,3,FALSE)","v":{"$error":"#N/A"}},0,{"$f":"VLOOKUP(E912,Hidden_Словник!$W$2:$X$13,2,FALSE)","v":{"$error":"#N/A"}},0,{"$error":"#N/A"}]
[null,"",{"$f":"IFERROR(VLOOKUP(A913,'1.Портфель кредитів'!A:AC,3,FALSE),\"\")","v":""},{"$f":"IFERROR(VLOOKUP(A913,'1.Портфель кредитів'!A:AC,14,FALSE),\"\")","v":""},null,null,null,null,null,null,null,null,null,null,null,null,"","",null,{"$f":"IFERROR(VLOOKUP(A913,'1.Портфель кредитів'!A:AC,30,FALSE),\"\")","v":""},0,{"$error":"#VALUE!"},null,null,null,null,null,{"$f":"VLOOKUP(C913,Hidden_Словник!$A$2:C$81,3,FALSE)","v":{"$error":"#N/A"}},0,{"$f":"VLOOKUP(E913,Hidden_Словник!$W$2:$X$13,2,FALSE)","v":{"$error":"#N/A"}},0,{"$error":"#N/A"}]
[null,"",{"$f":"IFERROR(VLOOKUP(A914,'1.Портфель кредитів'!A:AC,3,FALSE),\"\")","v":""},{"$f":"IFERROR(VLOOKUP(A914,'1.Портфель кредитів'!A:AC,14,FALSE),\"\")","v":""},null,null,null,null,null,null,null,null,null,null,null,null,"","",null,{"$f":"IFERROR(VLOOKUP(A914,'1.Портфель кредитів'!A:AC,30,FALSE),\"\")","v":""},0,{"$error":"#VALUE!"},null,null,null,null,null,{"$f":"VLOOKUP(C914,Hidden_Словник!$A$2:C$81,3,FALSE)","v":{"$error":"#N/A"}},0,{"$f":"VLOOKUP(E914,Hidden_Словник!$W$2:$X$13,2,FALSE)","v":{"$error":"#N/A"}},0,{"$error":"#N/A"}]
[null,"",{"$f":"IFERROR(VLOOKUP(A915,'1.Портфель кредитів'!A:AC,3,FALSE),\"\")","v":""},{"$f":"IFERROR(VLOOKUP(A915,'1.Портфель кредитів'!A:AC,14,FALSE),\"\")","v":""},null,null,null,null,null,null,null,null,null,null,null,null,"","",null,{"$f":"IFERROR(VLOOKUP(A915,'1.Портфель кредитів'!A:AC,30,FALSE),\"\")","v":""},0,{"$error":"#VALUE!"},null,null,null,null,null,{"$f":"VLOOKUP(C915,Hidden_Словник!$A$2:C$81,3,FALSE)","v":{"$error":"#N/A"}},0,{"$f":"VLOOKUP(E915,Hidden_Словник!$W$2:$X$13,2,FALSE)","v":{"$error":"#N/A"}},0,{"$error":"#N/A"}]
[null,"",{"$f":"IFERROR(VLOOKUP(A916,'1.Портфель кредитів'!A:AC,3,FALSE),\"\")","v":""},{"$f":"IFERROR(VLOOKUP(A916,'1.Портфель кредитів'!A:AC,14,FALSE),\"\")","v":""},null,null,null,null,null,null,null,null,null,null,null,null,"","",null,{"$f":"IFERROR(VLOOKUP(A916,'1.Портфель кредитів'!A:AC,30,FALSE),\"\")","v":""},0,{"$error":"#VALUE!"},null,null,null,null,null,{"$f":"VLOOKUP(C916,Hidden_Словник!$A$2:C$81,3,FALSE)","v":{"$error":"#N/A"}},0,{"$f":"VLOOKUP(E916,Hidden_Словник!$W$2:$X$13,2,FALSE)","v":{"$error":"#N/A"}},0,{"$error":"#N/A"}]
[null,"",{"$f":"IFERROR(VLOOKUP(A917,'1.Портфель кредитів'!A:AC,3,FALSE),\"\")","v":""},{"$f":"IFERROR(VLOOKUP(A917,'1.Портфель кредитів'!A:AC,14,FALSE),\"\")","v":""},null,null,null,null,null,null,null,null,null,null,null,null,"","",null,{"$f":"IFERROR(VLOOKUP(A917,'1.Портфель кредитів'!A:AC,30,FALSE),\"\")","v":""},0,{"$error":"#VALUE!"},null,null,null,null,null,{"$f":"VLOOKUP(C917,Hidden_Словник!$A$2:C$81,3,FALSE)","v":{"$error":"#N/A"}},0,{"$f":"VLOOKUP(E917,Hidden_Словник!$W$2:$X$13,2,FALSE)","v":{"$error":"#N/A"}},0,{"$error":"#N/A"}]
[null,"",{"$f":"IFERROR(VLOOKUP(A918,'1.Портфель кредитів'!A:AC,3,FALSE),\"\")","v":""},{"$f":"IFERROR(VLOOKUP(A918,'1.Портфель кредитів'!A:AC,14,FALSE),\"\")","v":""},null,null,null,null,null,null,null,null,null,null,null,null,"",{"$f":"IFERROR(V918*L918,\"\")","v":""},null,{"$f":"IFERROR(VLOOKUP(A918,'1.Портфель кредитів'!A:AC,30,FALSE),\"\")","v":""},0,{"$error":"#VALUE!"},null,null,null,null,null,{"$f":"VLOOKUP(C918,Hidden_Словник!$A$2:C$81,3,FALSE)","v":{"$error":"#N/A"}},{"$f":"ROUNDUP(L918,0)","v":0},{"$f":"VLOOKUP(E918,Hidden_Словник!$W$2:$X$13,2,FALSE)","v":{"$error":"#N/A"}},{"$f":"O918","v":0},{"$error":"#N/A"}]
[null,{"$f":"IFERROR(AF919,\"\")","v":""},{"$f":"IFERROR(VLOOKUP(A919,'1.Портфель кредитів'!A:AC,3,FALSE),\"\")","v":""},{"$f":"IFERROR(VLOOKUP(A919,'1.Портфель кредитів'!A:AC,14,FALSE),\"\")","v":""},null,null,null,null,null,null,null,null,null,null,null,null,"","",null,{"$f":"IFERROR(VLOOKUP(A919,'1.Портфель кредитів'!A:AC,30,FALSE),\"\")","v":""},0,{"$error":"#VALUE!"},null,null,null,null,null,{"$f":"VLOOKUP(C919,Hidden_Словник!$A$2:C$81,3,FALSE)","v":{"$error":"#N/A"}},0,{"$f":"VLOOKUP(E919,Hidden_Словник!$W$2:$X$13,2,FALSE)","v":{"$error":"#N/A"}},0,{"$f":"AB919&\"_\"&AC919&AD919&AE919","v":{"$error":"#N/A"}}]
[null,"",{"$f":"IFERROR(VLOOKUP(A920,'1.Портфель кредитів'!A:AC,3,FALSE),\"\")","v":""},{"$f":"IFERROR(VLOOKUP(A920,'1.Портфель кредитів'!A:AC,14,FALSE),\"\")","v":""},null,null,null,null,null,null,null,null,null,null,null,null,"","",null,{"$f":"IFERROR(VLOOKUP(A920,'1.Портфель кредитів'!A:AC,30,FALSE),\"\")","v":""},0,{"$error":"#VALUE!"},null,null,null,null,null,{"$f":"VLOOKUP(C920,Hidden_Словник!$A$2:C$81,3,FALSE)","v":{"$error":"#N/A"}},0,{"$f":"VLOOKUP(E920,Hidden_Словник!$W$2:$X$13,2,FALSE)","v":{"$error":"#N/A"}},0,{"$error":"#N/A"}]
[null,"",{"$f":"IFERROR(VLOOKUP(A921,'1.Портфель кредитів'!A:AC,3,FALSE),\"\")","v":""},{"$f":"IFERROR(VLOOKUP(A921,'1.Портфель кредитів'!A:AC,14,FALSE),\"\")","v":""},null,null,null,null,null,null,null,null,null,null,null,null,"","",null,{"$f":"IFERROR(VLOOKUP(A921,'1.Портфель кредитів'!A:AC,30,FALSE),\"\")","v":""},0,{"$error":"#VALUE!"},null,null,null,null,null,{"$f":"VLOOKUP(C921,Hidden_Словник!$A$2:C$81,3,FALSE)","v":{"$error":"#N/A"}},0,{"$f":"VLOOKUP(E921,Hidden_Словник!$W$2:$X$13,2,FALSE)","v":{"$error":"#N/A"}},0,{"$error":"#N/A"}]
[null,"",{"$f":"IFERROR(VLOOKUP(A922,'1.Портфель кредитів'!A:AC,3,FALSE),\"\")","v":""},{"$f":"IFERROR(VLOOKUP(A922,'1.Портфель кредитів'!A:AC,14,FALSE),\"\")","v":""},null,null,null,null,null,null,null,null,null,null,null,null,{"$f":"IF(O922=\"\",\"\",IF(COUNTIF(AF:AF,AF922)>1,\"так\",\"ні\"))","v":""},"",null,{"$f":"IFERROR(VLOOKUP(A922,'1.Портфель кредитів'!A:AC,30,FALSE),\"\")","v":""},{"$f":"SUMIF(B:B,B922,T:T)","v":0},{"$error":"#VALUE!"},null,null,null,null,null,{"$f":"VLOOKUP(C922,Hidden_Словник!$A$2:C$81,3,FALSE)","v":{"$error":"#N/A"}},0,{"$f":"VLOOKUP(E922,Hidden_Словник!$W$2:$X$13,2,FALSE)","v":{"$error":"#N/A"}},0,{"$error":"#N/A"}]
[null,"",{"$f":"IFERROR(VLOOKUP(A923,'1.Портфель кредитів'!A:AC,3,FALSE),\"\")","v":""},{"$f":"IFERROR(VLOOKUP(A923,'1.Портфель кредитів'!A:AC,14,FALSE),\"\")","v":""},null,null,null,null,null,null,null,null,null,null,null,null,"","",null,{"$f":"IFERROR(VLOOKUP(A923,'1.Портфель кредитів'!A:AC,30,FALSE),\"\")","v":""},0,{"$error":"#VALUE!"},null,null,null,null,null,{"$f":"VLOOKUP(C923,Hidden_Словник!$A$2:C$81,3,FALSE)","v":{"$error":"#N/A"}},0,{"$f":"VLOOKUP(E923,Hidden_Словник!$W$2:$X$13,2,FALSE)","v":{"$error":"#N/A"}},0,{"$error":"#N/A"}]
[null,"",{"$f":"IFERROR(VLOOKUP(A924,'1.Портфель кредитів'!A:AC,3,FALSE),\"\")","v":""},{"$f":"IFERROR(VLOOKUP(A924,'1.Портфель кредитів'!A:AC,14,FALSE),\"\")","v":""},null,null,null,null,null,null,null,null,null,null,null,null,"","",null,{"$f":"IFERROR(VLOOKUP(A924,'1.Портфель кредитів'!A:AC,30,FALSE),\"\")","v":""},0,{"$error":"#VALUE!"},null,null,null,null,null,{"$f":"VLOOKUP(C924,Hidden_Словник!$A$2:C$81,3,FALSE)","v":{"$error":"#N/A"}},0,{"$f":"VLOOKUP(E924,Hidden_Словник!$W$2:$X$13,2,FALSE)","v":{"$error":"#N/A"}},0,{"$error":"#N/A"}]
[null,"",{"$f":"IFERROR(VLOOKUP(A925,'1.Портфель кредитів'!A:AC,3,FALSE),\"\")","v":""},{"$f":"IFERROR(VLOOKUP(A925,'1.Портфель кредитів'!A:AC,14,FALSE),\"\")","v":""},null,null,null,null,null,null,null,null,null,null,null,null,"","",null,{"$f":"IFERROR(VLOOKUP(A925,'1.Портфель кредитів'!A:AC,30,FALSE),\"\")","v":""},0,{"$error":"#VALUE!"},null,null,null,null,null,{"$f":"VLOOKUP(C925,Hidden_Словник!$A$2:C$81,3,FALSE)","v":{"$error":"#N/A"}},0,{"$f":"VLOOKUP(E925,Hidden_Словник!$W$2:$X$13,2,FALSE)","v":{"$error":"#N/A"}},0,{"$error":"#N/A"}]
[null,"",{"$f":"IFERROR(VLOOKUP(A926,'1.Портфель кредитів'!A:AC,3,FALSE),\"\")","v":""},{"$f":"IFERROR(VLOOKUP(A926,'1.Портфель кредитів'!A:AC,14,FALSE),\"\")","v":""},null,null,null,null,null,null,null,null,null,null,null,null,"","",null,{"$f":"IFERROR(VLOOKUP(A926,'1.Портфель кредитів'!A:AC,30,FALSE),\"\")","v":""},0,{"$error":"#VALUE!"},null,null,null,null,null,{"$f":"VLOOKUP(C926,Hidden_Словник!$A$2:C$81,3,FALSE)","v":{"$error":"#N/A"}},0,{"$f":"VLOOKUP(E926,Hidden_Словник!$W$2:$X$13,2,FALSE)","v":{"$error":"#N/A"}},0,{"$error":"#N/A"}]
[null,"",{"$f":"IFERROR(VLOOKUP(A927,'1.Портфель кредитів'!A:AC,3,FALSE),\"\")","v":""},{"$f":"IFERROR(VLOOKUP(A927,'1.Портфель кредитів'!A:AC,14,FALSE),\"\")","v":""},null,null,null,null,null,null,null,null,null,null,null,null,"","",null,{"$f":"IFERROR(VLOOKUP(A927,'1.Портфель кредитів'!A:AC,30,FALSE),\"\")","v":""},0,{"$error":"#VALUE!"},null,null,null,null,null,{"$f":"VLOOKUP(C927,Hidden_Словник!$A$2:C$81,3,FALSE)","v":{"$error":"#N/A"}},0,{"$f":"VLOOKUP(E927,Hidden_Словник!$W$2:$X$13,2,FALSE)","v":{"$error":"#N/A"}},0,{"$error":"#N/A"}]
[null,"",{"$f":"IFERROR(VLOOKUP(A928,'1.Портфель кредитів'!A:AC,3,FALSE),\"\")","v":""},{"$f":"IFERROR(VLOOKUP(A928,'1.Портфель кредитів'!A:AC,14,FALSE),\"\")","v":""},null,null,null,null,null,null,null,null,null,null,null,null,"","",null,{"$f":"IFERROR(VLOOKUP(A928,'1.Портфель кредитів'!A:AC,30,FALSE),\"\")","v":""},0,{"$error":"#VALUE!"},null,null,null,null,null,{"$f":"VLOOKUP(C928,Hidden_Словник!$A$2:C$81,3,FALSE)","v":{"$error":"#N/A"}},0,{"$f":"VLOOKUP(E928,Hidden_Словник!$W$2:$X$13,2,FALSE)","v":{"$error":"#N/A"}},0,{"$error":"#N/A"}]
[null,"",{"$f":"IFERROR(VLOOKUP(A929,'1.Портфель кредитів'!A:AC,3,FALSE),\"\")","v":""},{"$f":"IFERROR(VLOOKUP(A929,'1.Портфель кредитів'!A:AC,14,FALSE),\"\")","v":""},null,null,null,null,null,null,null,null,null,null,null,null,"","",null,{"$f":"IFERROR(VLOOKUP(A929,'1.Портфель кредитів'!A:AC,30,FALSE),\"\")","v":""},0,{"$error":"#VALUE!"},null,null,null,null,null,{"$f":"VLOOKUP(C929,Hidden_Словник!$A$2:C$81,3,FALSE)","v":{"$error":"#N/A"}},0,{"$f":"VLOOKUP(E929,Hidden_Словник!$W$2:$X$13,2,FALSE)","v":{"$error":"#N/A"}},0,{"$error":"#N/A"}]
[null,"",{"$f":"IFERROR(VLOOKUP(A930,'1.Портфель кредитів'!A:AC,3,FALSE),\"\")","v":""},{"$f":"IFERROR(VLOOKUP(A930,'1.Портфель кредитів'!A:AC,14,FALSE),\"\")","v":""},null,null,null,null,null,null,null,null,null,null,null,null,"","",null,{"$f":"IFERROR(VLOOKUP(A930,'1.Портфель кредитів'!A:AC,30,FALSE),\"\")","v":""},0,{"$error":"#VALUE!"},null,null,null,null,null,{"$f":"VLOOKUP(C930,Hidden_Словник!$A$2:C$81,3,FALSE)","v":{"$error":"#N/A"}},0,{"$f":"VLOOKUP(E930,Hidden_Словник!$W$2:$X$13,2,FALSE)","v":{"$error":"#N/A"}},0,{"$error":"#N/A"}]
[null,"",{"$f":"IFERROR(VLOOKUP(A931,'1.Портфель кредитів'!A:AC,3,FALSE),\"\")","v":""},{"$f":"IFERROR(VLOOKUP(A931,'1.Портфель кредитів'!A:AC,14,FALSE),\"\")","v":""},null,null,null,null,null,null,null,null,null,null,null,null,"","",null,{"$f":"IFERROR(VLOOKUP(A931,'1.Портфель кредитів'!A:AC,30,FALSE),\"\")","v":""},0,{"$error":"#VALUE!"},null,null,null,null,null,{"$f":"VLOOKUP(C931,Hidden_Словник!$A$2:C$81,3,FALSE)","v":{"$error":"#N/A"}},0,{"$f":"VLOOKUP(E931,Hidden_Словник!$W$2:$X$13,2,FALSE)","v":{"$error":"#N/A"}},0,{"$error":"#N/A"}]
[null,"",{"$f":"IFERROR(VLOOKUP(A932,'1.Портфель кредитів'!A:AC,3,FALSE),\"\")","v":""},{"$f":"IFERROR(VLOOKUP(A932,'1.Портфель кредитів'!A:AC,14,FALSE),\"\")","v":""},null,null,null,null,null,null,null,null,null,null,null,null,"","",null,{"$f":"IFERROR(VLOOKUP(A932,'1.Портфель кредитів'!A:AC,30,FALSE),\"\")","v":""},0,{"$error":"#VALUE!"},null,null,null,null,null,{"$f":"VLOOKUP(C932,Hidden_Словник!$A$2:C$81,3,FALSE)","v":{"$error":"#N/A"}},0,{"$f":"VLOOKUP(E932,Hidden_Словник!$W$2:$X$13,2,FALSE)","v":{"$error":"#N/A"}},0,{"$error":"#N/A"}]
[null,"",{"$f":"IFERROR(VLOOKUP(A933,'1.Портфель кредитів'!A:AC,3,FALSE),\"\")","v":""},{"$f":"IFERROR(VLOOKUP(A933,'1.Портфель кредитів'!A:AC,14,FALSE),\"\")","v":""},null,null,null,null,null,null,null,null,null,null,null,null,"","",null,{"$f":"IFERROR(VLOOKUP(A933,'1.Портфель кредитів'!A:AC,30,FALSE),\"\")","v":""},0,{"$error":"#VALUE!"},null,null,null,null,null,{"$f":"VLOOKUP(C933,Hidden_Словник!$A$2:C$81,3,FALSE)","v":{"$error":"#N/A"}},0,{"$f":"VLOOKUP(E933,Hidden_Словник!$W$2:$X$13,2,FALSE)","v":{"$error":"#N/A"}},0,{"$error":"#N/A"}]
[null,"",{"$f":"IFERROR(VLOOKUP(A934,'1.Портфель кредитів'!A:AC,3,FALSE),\"\")","v":""},{"$f":"IFERROR(VLOOKUP(A934,'1.Портфель кредитів'!A:AC,14,FALSE),\"\")","v":""},null,null,null,null,null,null,null,null,null,null,null,null,"","",null,{"$f":"IFERROR(VLOOKUP(A934,'1.Портфель кредитів'!A:AC,30,FALSE),\"\")","v":""},0,{"$error":"#VALUE!"},null,null,null,null,null,{"$f":"VLOOKUP(C934,Hidden_Словник!$A$2:C$81,3,FALSE)","v":{"$error":"#N/A"}},0,{"$f":"VLOOKUP(E934,Hidden_Словник!$W$2:$X$13,2,FALSE)","v":{"$error":"#N/A"}},0,{"$error":"#N/A"}]
[null,"",{"$f":"IFERROR(VLOOKUP(A935,'1.Портфель кредитів'!A:AC,3,FALSE),\"\")","v":""},{"$f":"IFERROR(VLOOKUP(A935,'1.Портфель кредитів'!A:AC,14,FALSE),\"\")","v":""},null,null,null,null,null,null,null,null,null,null,null,null,"","",null,{"$f":"IFERROR(VLOOKUP(A935,'1.Портфель кредитів'!A:AC,30,FALSE),\"\")","v":""},0,{"$error":"#VALUE!"},null,null,null,null,null,{"$f":"VLOOKUP(C935,Hidden_Словник!$A$2:C$81,3,FALSE)","v":{"$error":"#N/A"}},0,{"$f":"VLOOKUP(E935,Hidden_Словник!$W$2:$X$13,2,FALSE)","v":{"$error":"#N/A"}},0,{"$error":"#N/A"}]
[null,"",{"$f":"IFERROR(VLOOKUP(A936,'1.Портфель кредитів'!A:AC,3,FALSE),\"\")","v":""},{"$f":"IFERROR(VLOOKUP(A936,'1.Портфель кредитів'!A:AC,14,FALSE),\"\")","v":""},null,null,null,null,null,null,null,null,null,null,null,null,"","",null,{"$f":"IFERROR(VLOOKUP(A936,'1.Портфель кредитів'!A:AC,30,FALSE),\"\")","v":""},0,{"$error":"#VALUE!"},null,null,null,null,null,{"$f":"VLOOKUP(C936,Hidden_Словник!$A$2:C$81,3,FALSE)","v":{"$error":"#N/A"}},0,{"$f":"VLOOKUP(E936,Hidden_Словник!$W$2:$X$13,2,FALSE)","v":{"$error":"#N/A"}},0,{"$error":"#N/A"}]
[null,"",{"$f":"IFERROR(VLOOKUP(A937,'1.Портфель кредитів'!A:AC,3,FALSE),\"\")","v":""},{"$f":"IFERROR(VLOOKUP(A937,'1.Портфель кредитів'!A:AC,14,FALSE),\"\")","v":""},null,null,null,null,null,null,null,null,null,null,null,null,"","",null,{"$f":"IFERROR(VLOOKUP(A937,'1.Портфель кредитів'!A:AC,30,FALSE),\"\")","v":""},0,{"$error":"#VALUE!"},null,null,null,null,null,{"$f":"VLOOKUP(C937,Hidden_Словник!$A$2:C$81,3,FALSE)","v":{"$error":"#N/A"}},0,{"$f":"VLOOKUP(E937,Hidden_Словник!$W$2:$X$13,2,FALSE)","v":{"$error":"#N/A"}},0,{"$error":"#N/A"}]
[null,"",{"$f":"IFERROR(VLOOKUP(A938,'1.Портфель кредитів'!A:AC,3,FALSE),\"\")","v":""},{"$f":"IFERROR(VLOOKUP(A938,'1.Портфель кредитів'!A:AC,14,FALSE),\"\")","v":""},null,null,null,null,null,null,null,null,null,null,null,null,"","",null,{"$f":"IFERROR(VLOOKUP(A938,'1.Портфель кредитів'!A:AC,30,FALSE),\"\")","v":""},0,{"$error":"#VALUE!"},null,null,null,null,null,{"$f":"VLOOKUP(C938,Hidden_Словник!$A$2:C$81,3,FALSE)","v":{"$error":"#N/A"}},0,{"$f":"VLOOKUP(E938,Hidden_Словник!$W$2:$X$13,2,FALSE)","v":{"$error":"#N/A"}},0,{"$error":"#N/A"}]
[null,"",{"$f":"IFERROR(VLOOKUP(A939,'1.Портфель кредитів'!A:AC,3,FALSE),\"\")","v":""},{"$f":"IFERROR(VLOOKUP(A939,'1.Портфель кредитів'!A:AC,14,FALSE),\"\")","v":""},null,null,null,null,null,null,null,null,null,null,null,null,"","",null,{"$f":"IFERROR(VLOOKUP(A939,'1.Портфель кредитів'!A:AC,30,FALSE),\"\")","v":""},0,{"$error":"#VALUE!"},null,null,null,null,null,{"$f":"VLOOKUP(C939,Hidden_Словник!$A$2:C$81,3,FALSE)","v":{"$error":"#N/A"}},0,{"$f":"VLOOKUP(E939,Hidden_Словник!$W$2:$X$13,2,FALSE)","v":{"$error":"#N/A"}},0,{"$error":"#N/A"}]
[null,"",{"$f":"IFERROR(VLOOKUP(A940,'1.Портфель кредитів'!A:AC,3,FALSE),\"\")","v":""},{"$f":"IFERROR(VLOOKUP(A940,'1.Портфель кредитів'!A:AC,14,FALSE),\"\")","v":""},null,null,null,null,null,null,null,null,null,null,null,null,"","",null,{"$f":"IFERROR(VLOOKUP(A940,'1.Портфель кредитів'!A:AC,30,FALSE),\"\")","v":""},0,{"$error":"#VALUE!"},null,null,null,null,null,{"$f":"VLOOKUP(C940,Hidden_Словник!$A$2:C$81,3,FALSE)","v":{"$error":"#N/A"}},0,{"$f":"VLOOKUP(E940,Hidden_Словник!$W$2:$X$13,2,FALSE)","v":{"$error":"#N/A"}},0,{"$error":"#N/A"}]
[null,"",{"$f":"IFERROR(VLOOKUP(A941,'1.Портфель кредитів'!A:AC,3,FALSE),\"\")","v":""},{"$f":"IFERROR(VLOOKUP(A941,'1.Портфель кредитів'!A:AC,14,FALSE),\"\")","v":""},null,null,null,null,null,null,null,null,null,null,null,null,"","",null,{"$f":"IFERROR(VLOOKUP(A941,'1.Портфель кредитів'!A:AC,30,FALSE),\"\")","v":""},0,{"$error":"#VALUE!"},null,null,null,null,null,{"$f":"VLOOKUP(C941,Hidden_Словник!$A$2:C$81,3,FALSE)","v":{"$error":"#N/A"}},0,{"$f":"VLOOKUP(E941,Hidden_Словник!$W$2:$X$13,2,FALSE)","v":{"$error":"#N/A"}},0,{"$error":"#N/A"}]
[null,"",{"$f":"IFERROR(VLOOKUP(A942,'1.Портфель кредитів'!A:AC,3,FALSE),\"\")","v":""},{"$f":"IFERROR(VLOOKUP(A942,'1.Портфель кредитів'!A:AC,14,FALSE),\"\")","v":""},null,null,null,null,null,null,null,null,null,null,null,null,"","",null,{"$f":"IFERROR(VLOOKUP(A942,'1.Портфель кредитів'!A:AC,30,FALSE),\"\")","v":""},0,{"$error":"#VALUE!"},null,null,null,null,null,{"$f":"VLOOKUP(C942,Hidden_Словник!$A$2:C$81,3,FALSE)","v":{"$error":"#N/A"}},0,{"$f":"VLOOKUP(E942,Hidden_Словник!$W$2:$X$13,2,FALSE)","v":{"$error":"#N/A"}},0,{"$error":"#N/A"}]
[null,"",{"$f":"IFERROR(VLOOKUP(A943,'1.Портфель кредитів'!A:AC,3,FALSE),\"\")","v":""},{"$f":"IFERROR(VLOOKUP(A943,'1.Портфель кредитів'!A:AC,14,FALSE),\"\")","v":""},null,null,null,null,null,null,null,null,null,null,null,null,"","",null,{"$f":"IFERROR(VLOOKUP(A943,'1.Портфель кредитів'!A:AC,30,FALSE),\"\")","v":""},0,{"$error":"#VALUE!"},null,null,null,null,null,{"$f":"VLOOKUP(C943,Hidden_Словник!$A$2:C$81,3,FALSE)","v":{"$error":"#N/A"}},0,{"$f":"VLOOKUP(E943,Hidden_Словник!$W$2:$X$13,2,FALSE)","v":{"$error":"#N/A"}},0,{"$error":"#N/A"}]
[null,"",{"$f":"IFERROR(VLOOKUP(A944,'1.Портфель кредитів'!A:AC,3,FALSE),\"\")","v":""},{"$f":"IFERROR(VLOOKUP(A944,'1.Портфель кредитів'!A:AC,14,FALSE),\"\")","v":""},null,null,null,null,null,null,null,null,null,null,null,null,"","",null,{"$f":"IFERROR(VLOOKUP(A944,'1.Портфель кредитів'!A:AC,30,FALSE),\"\")","v":""},0,{"$error":"#VALUE!"},null,null,null,null,null,{"$f":"VLOOKUP(C944,Hidden_Словник!$A$2:C$81,3,FALSE)","v":{"$error":"#N/A"}},0,{"$f":"VLOOKUP(E944,Hidden_Словник!$W$2:$X$13,2,FALSE)","v":{"$error":"#N/A"}},0,{"$error":"#N/A"}]
[null,"",{"$f":"IFERROR(VLOOKUP(A945,'1.Портфель кредитів'!A:AC,3,FALSE),\"\")","v":""},{"$f":"IFERROR(VLOOKUP(A945,'1.Портфель кредитів'!A:AC,14,FALSE),\"\")","v":""},null,null,null,null,null,null,null,null,null,null,null,null,"","",null,{"$f":"IFERROR(VLOOKUP(A945,'1.Портфель кредитів'!A:AC,30,FALSE),\"\")","v":""},0,{"$error":"#VALUE!"},null,null,null,null,null,{"$f":"VLOOKUP(C945,Hidden_Словник!$A$2:C$81,3,FALSE)","v":{"$error":"#N/A"}},0,{"$f":"VLOOKUP(E945,Hidden_Словник!$W$2:$X$13,2,FALSE)","v":{"$error":"#N/A"}},0,{"$error":"#N/A"}]
[null,"",{"$f":"IFERROR(VLOOKUP(A946,'1.Портфель кредитів'!A:AC,3,FALSE),\"\")","v":""},{"$f":"IFERROR(VLOOKUP(A946,'1.Портфель кредитів'!A:AC,14,FALSE),\"\")","v":""},null,null,null,null,null,null,null,null,null,null,null,null,"","",null,{"$f":"IFERROR(VLOOKUP(A946,'1.Портфель кредитів'!A:AC,30,FALSE),\"\")","v":""},0,{"$error":"#VALUE!"},null,null,null,null,null,{"$f":"VLOOKUP(C946,Hidden_Словник!$A$2:C$81,3,FALSE)","v":{"$error":"#N/A"}},0,{"$f":"VLOOKUP(E946,Hidden_Словник!$W$2:$X$13,2,FALSE)","v":{"$error":"#N/A"}},0,{"$error":"#N/A"}]
[null,"",{"$f":"IFERROR(VLOOKUP(A947,'1.Портфель кредитів'!A:AC,3,FALSE),\"\")","v":""},{"$f":"IFERROR(VLOOKUP(A947,'1.Портфель кредитів'!A:AC,14,FALSE),\"\")","v":""},null,null,null,null,null,null,null,null,null,null,null,null,"","",null,{"$f":"IFERROR(VLOOKUP(A947,'1.Портфель кредитів'!A:AC,30,FALSE),\"\")","v":""},0,{"$error":"#VALUE!"},null,null,null,null,null,{"$f":"VLOOKUP(C947,Hidden_Словник!$A$2:C$81,3,FALSE)","v":{"$error":"#N/A"}},0,{"$f":"VLOOKUP(E947,Hidden_Словник!$W$2:$X$13,2,FALSE)","v":{"$error":"#N/A"}},0,{"$error":"#N/A"}]
[null,"",{"$f":"IFERROR(VLOOKUP(A948,'1.Портфель кредитів'!A:AC,3,FALSE),\"\")","v":""},{"$f":"IFERROR(VLOOKUP(A948,'1.Портфель кредитів'!A:AC,14,FALSE),\"\")","v":""},null,null,null,null,null,null,null,null,null,null,null,null,"","",null,{"$f":"IFERROR(VLOOKUP(A948,'1.Портфель кредитів'!A:AC,30,FALSE),\"\")","v":""},0,{"$error":"#VALUE!"},null,null,null,null,null,{"$f":"VLOOKUP(C948,Hidden_Словник!$A$2:C$81,3,FALSE)","v":{"$error":"#N/A"}},0,{"$f":"VLOOKUP(E948,Hidden_Словник!$W$2:$X$13,2,FALSE)","v":{"$error":"#N/A"}},0,{"$error":"#N/A"}]
[null,"",{"$f":"IFERROR(VLOOKUP(A949,'1.Портфель кредитів'!A:AC,3,FALSE),\"\")","v":""},{"$f":"IFERROR(VLOOKUP(A949,'1.Портфель кредитів'!A:AC,14,FALSE),\"\")","v":""},null,null,null,null,null,null,null,null,null,null,null,null,"","",null,{"$f":"IFERROR(VLOOKUP(A949,'1.Портфель кредитів'!A:AC,30,FALSE),\"\")","v":""},0,{"$error":"#VALUE!"},null,null,null,null,null,{"$f":"VLOOKUP(C949,Hidden_Словник!$A$2:C$81,3,FALSE)","v":{"$error":"#N/A"}},0,{"$f":"VLOOKUP(E949,Hidden_Словник!$W$2:$X$13,2,FALSE)","v":{"$error":"#N/A"}},0,{"$error":"#N/A"}]
[null,"",{"$f":"IFERROR(VLOOKUP(A950,'1.Портфель кредитів'!A:AC,3,FALSE),\"\")","v":""},{"$f":"IFERROR(VLOOKUP(A950,'1.Портфель кредитів'!A:AC,14,FALSE),\"\")","v":""},null,null,null,null,null,null,null,null,null,null,null,null,"","",null,{"$f":"IFERROR(VLOOKUP(A950,'1.Портфель кредитів'!A:AC,30,FALSE),\"\")","v":""},0,{"$error":"#VALUE!"},null,null,null,null,null,{"$f":"VLOOKUP(C950,Hidden_Словник!$A$2:C$81,3,FALSE)","v":{"$error":"#N/A"}},0,{"$f":"VLOOKUP(E950,Hidden_Словник!$W$2:$X$13,2,FALSE)","v":{"$error":"#N/A"}},0,{"$error":"#N/A"}]
[null,"",{"$f":"IFERROR(VLOOKUP(A951,'1.Портфель кредитів'!A:AC,3,FALSE),\"\")","v":""},{"$f":"IFERROR(VLOOKUP(A951,'1.Портфель кредитів'!A:AC,14,FALSE),\"\")","v":""},null,null,null,null,null,null,null,null,null,null,null,null,"","",null,{"$f":"IFERROR(VLOOKUP(A951,'1.Портфель кредитів'!A:AC,30,FALSE),\"\")","v":""},0,{"$error":"#VALUE!"},null,null,null,null,null,{"$f":"VLOOKUP(C951,Hidden_Словник!$A$2:C$81,3,FALSE)","v":{"$error":"#N/A"}},0,{"$f":"VLOOKUP(E951,Hidden_Словник!$W$2:$X$13,2,FALSE)","v":{"$error":"#N/A"}},0,{"$error":"#N/A"}]
[null,"",{"$f":"IFERROR(VLOOKUP(A952,'1.Портфель кредитів'!A:AC,3,FALSE),\"\")","v":""},{"$f":"IFERROR(VLOOKUP(A952,'1.Портфель кредитів'!A:AC,14,FALSE),\"\")","v":""},null,null,null,null,null,null,null,null,null,null,null,null,"","",null,{"$f":"IFERROR(VLOOKUP(A952,'1.Портфель кредитів'!A:AC,30,FALSE),\"\")","v":""},0,{"$error":"#VALUE!"},null,null,null,null,null,{"$f":"VLOOKUP(C952,Hidden_Словник!$A$2:C$81,3,FALSE)","v":{"$error":"#N/A"}},0,{"$f":"VLOOKUP(E952,Hidden_Словник!$W$2:$X$13,2,FALSE)","v":{"$error":"#N/A"}},0,{"$error":"#N/A"}]
[null,"",{"$f":"IFERROR(VLOOKUP(A953,'1.Портфель кредитів'!A:AC,3,FALSE),\"\")","v":""},{"$f":"IFERROR(VLOOKUP(A953,'1.Портфель кредитів'!A:AC,14,FALSE),\"\")","v":""},null,null,null,null,null,null,null,null,null,null,null,null,"","",null,{"$f":"IFERROR(VLOOKUP(A953,'1.Портфель кредитів'!A:AC,30,FALSE),\"\")","v":""},0,{"$error":"#VALUE!"},null,null,null,null,null,{"$f":"VLOOKUP(C953,Hidden_Словник!$A$2:C$81,3,FALSE)","v":{"$error":"#N/A"}},0,{"$f":"VLOOKUP(E953,Hidden_Словник!$W$2:$X$13,2,FALSE)","v":{"$error":"#N/A"}},0,{"$error":"#N/A"}]
[null,"",{"$f":"IFERROR(VLOOKUP(A954,'1.Портфель кредитів'!A:AC,3,FALSE),\"\")","v":""},{"$f":"IFERROR(VLOOKUP(A954,'1.Портфель кредитів'!A:AC,14,FALSE),\"\")","v":""},null,null,null,null,null,null,null,null,null,null,null,null,"","",null,{"$f":"IFERROR(VLOOKUP(A954,'1.Портфель кредитів'!A:AC,30,FALSE),\"\")","v":""},0,{"$error":"#VALUE!"},null,null,null,null,null,{"$f":"VLOOKUP(C954,Hidden_Словник!$A$2:C$81,3,FALSE)","v":{"$error":"#N/A"}},0,{"$f":"VLOOKUP(E954,Hidden_Словник!$W$2:$X$13,2,FALSE)","v":{"$error":"#N/A"}},0,{"$error":"#N/A"}]
[null,"",{"$f":"IFERROR(VLOOKUP(A955,'1.Портфель кредитів'!A:AC,3,FALSE),\"\")","v":""},{"$f":"IFERROR(VLOOKUP(A955,'1.Портфель кредитів'!A:AC,14,FALSE),\"\")","v":""},null,null,null,null,null,null,null,null,null,null,null,null,"","",null,{"$f":"IFERROR(VLOOKUP(A955,'1.Портфель кредитів'!A:AC,30,FALSE),\"\")","v":""},0,{"$error":"#VALUE!"},null,null,null,null,null,{"$f":"VLOOKUP(C955,Hidden_Словник!$A$2:C$81,3,FALSE)","v":{"$error":"#N/A"}},0,{"$f":"VLOOKUP(E955,Hidden_Словник!$W$2:$X$13,2,FALSE)","v":{"$error":"#N/A"}},0,{"$error":"#N/A"}]
[null,"",{"$f":"IFERROR(VLOOKUP(A956,'1.Портфель кредитів'!A:AC,3,FALSE),\"\")","v":""},{"$f":"IFERROR(VLOOKUP(A956,'1.Портфель кредитів'!A:AC,14,FALSE),\"\")","v":""},null,null,null,null,null,null,null,null,null,null,null,null,"","",null,{"$f":"IFERROR(VLOOKUP(A956,'1.Портфель кредитів'!A:AC,30,FALSE),\"\")","v":""},0,{"$error":"#VALUE!"},null,null,null,null,null,{"$f":"VLOOKUP(C956,Hidden_Словник!$A$2:C$81,3,FALSE)","v":{"$error":"#N/A"}},0,{"$f":"VLOOKUP(E956,Hidden_Словник!$W$2:$X$13,2,FALSE)","v":{"$error":"#N/A"}},0,{"$error":"#N/A"}]
[null,"",{"$f":"IFERROR(VLOOKUP(A957,'1.Портфель кредитів'!A:AC,3,FALSE),\"\")","v":""},{"$f":"IFERROR(VLOOKUP(A957,'1.Портфель кредитів'!A:AC,14,FALSE),\"\")","v":""},null,null,null,null,null,null,null,null,null,null,null,null,"","",null,{"$f":"IFERROR(VLOOKUP(A957,'1.Портфель кредитів'!A:AC,30,FALSE),\"\")","v":""},0,{"$error":"#VALUE!"},null,null,null,null,null,{"$f":"VLOOKUP(C957,Hidden_Словник!$A$2:C$81,3,FALSE)","v":{"$error":"#N/A"}},0,{"$f":"VLOOKUP(E957,Hidden_Словник!$W$2:$X$13,2,FALSE)","v":{"$error":"#N/A"}},0,{"$error":"#N/A"}]
[null,"",{"$f":"IFERROR(VLOOKUP(A958,'1.Портфель кредитів'!A:AC,3,FALSE),\"\")","v":""},{"$f":"IFERROR(VLOOKUP(A958,'1.Портфель кредитів'!A:AC,14,FALSE),\"\")","v":""},null,null,null,null,null,null,null,null,null,null,null,null,"","",null,{"$f":"IFERROR(VLOOKUP(A958,'1.Портфель кредитів'!A:AC,30,FALSE),\"\")","v":""},0,{"$error":"#VALUE!"},null,null,null,null,null,{"$f":"VLOOKUP(C958,Hidden_Словник!$A$2:C$81,3,FALSE)","v":{"$error":"#N/A"}},0,{"$f":"VLOOKUP(E958,Hidden_Словник!$W$2:$X$13,2,FALSE)","v":{"$error":"#N/A"}},0,{"$error":"#N/A"}]
[null,"",{"$f":"IFERROR(VLOOKUP(A959,'1.Портфель кредитів'!A:AC,3,FALSE),\"\")","v":""},{"$f":"IFERROR(VLOOKUP(A959,'1.Портфель кредитів'!A:AC,14,FALSE),\"\")","v":""},null,null,null,null,null,null,null,null,null,null,null,null,"","",null,{"$f":"IFERROR(VLOOKUP(A959,'1.Портфель кредитів'!A:AC,30,FALSE),\"\")","v":""},0,{"$f":"T959/U959","v":{"$error":"#VALUE!"}},null,null,null,null,null,{"$f":"VLOOKUP(C959,Hidden_Словник!$A$2:C$81,3,FALSE)","v":{"$error":"#N/A"}},0,{"$f":"VLOOKUP(E959,Hidden_Словник!$W$2:$X$13,2,FALSE)","v":{"$error":"#N/A"}},0,{"$error":"#N/A"}]
[null,"",{"$f":"IFERROR(VLOOKUP(A960,'1.Портфель кредитів'!A:AC,3,FALSE),\"\")","v":""},{"$f":"IFERROR(VLOOKUP(A960,'1.Портфель кредитів'!A:AC,14,FALSE),\"\")","v":""},null,null,null,null,null,null,null,null,null,null,null,null,"","",null,{"$f":"IFERROR(VLOOKUP(A960,'1.Портфель кредитів'!A:AC,30,FALSE),\"\")","v":""},0,{"$error":"#VALUE!"},null,null,null,null,null,{"$f":"VLOOKUP(C960,Hidden_Словник!$A$2:C$81,3,FALSE)","v":{"$error":"#N/A"}},0,{"$f":"VLOOKUP(E960,Hidden_Словник!$W$2:$X$13,2,FALSE)","v":{"$error":"#N/A"}},0,{"$error":"#N/A"}]
[null,"",{"$f":"IFERROR(VLOOKUP(A961,'1.Портфель кредитів'!A:AC,3,FALSE),\"\")","v":""},{"$f":"IFERROR(VLOOKUP(A961,'1.Портфель кредитів'!A:AC,14,FALSE),\"\")","v":""},null,null,null,null,null,null,null,null,null,null,null,null,"","",null,{"$f":"IFERROR(VLOOKUP(A961,'1.Портфель кредитів'!A:AC,30,FALSE),\"\")","v":""},0,{"$error":"#VALUE!"},null,null,null,null,null,{"$f":"VLOOKUP(C961,Hidden_Словник!$A$2:C$81,3,FALSE)","v":{"$error":"#N/A"}},0,{"$f":"VLOOKUP(E961,Hidden_Словник!$W$2:$X$13,2,FALSE)","v":{"$error":"#N/A"}},0,{"$error":"#N/A"}]
[null,"",{"$f":"IFERROR(VLOOKUP(A962,'1.Портфель кредитів'!A:AC,3,FALSE),\"\")","v":""},{"$f":"IFERROR(VLOOKUP(A962,'1.Портфель кредитів'!A:AC,14,FALSE),\"\")","v":""},null,null,null,null,null,null,null,null,null,null,null,null,"","",null,{"$f":"IFERROR(VLOOKUP(A962,'1.Портфель кредитів'!A:AC,30,FALSE),\"\")","v":""},0,{"$error":"#VALUE!"},null,null,null,null,null,{"$f":"VLOOKUP(C962,Hidden_Словник!$A$2:C$81,3,FALSE)","v":{"$error":"#N/A"}},0,{"$f":"VLOOKUP(E962,Hidden_Словник!$W$2:$X$13,2,FALSE)","v":{"$error":"#N/A"}},0,{"$error":"#N/A"}]
[null,"",{"$f":"IFERROR(VLOOKUP(A963,'1.Портфель кредитів'!A:AC,3,FALSE),\"\")","v":""},{"$f":"IFERROR(VLOOKUP(A963,'1.Портфель кредитів'!A:AC,14,FALSE),\"\")","v":""},null,null,null,null,null,null,null,null,null,null,null,null,"","",null,{"$f":"IFERROR(VLOOKUP(A963,'1.Портфель кредитів'!A:AC,30,FALSE),\"\")","v":""},0,{"$error":"#VALUE!"},null,null,null,null,null,{"$f":"VLOOKUP(C963,Hidden_Словник!$A$2:C$81,3,FALSE)","v":{"$error":"#N/A"}},0,{"$f":"VLOOKUP(E963,Hidden_Словник!$W$2:$X$13,2,FALSE)","v":{"$error":"#N/A"}},0,{"$error":"#N/A"}]
[null,"",{"$f":"IFERROR(VLOOKUP(A964,'1.Портфель кредитів'!A:AC,3,FALSE),\"\")","v":""},{"$f":"IFERROR(VLOOKUP(A964,'1.Портфель кредитів'!A:AC,14,FALSE),\"\")","v":""},null,null,null,null,null,null,null,null,null,null,null,null,"","",null,{"$f":"IFERROR(VLOOKUP(A964,'1.Портфель кредитів'!A:AC,30,FALSE),\"\")","v":""},0,{"$error":"#VALUE!"},null,null,null,null,null,{"$f":"VLOOKUP(C964,Hidden_Словник!$A$2:C$81,3,FALSE)","v":{"$error":"#N/A"}},0,{"$f":"VLOOKUP(E964,Hidden_Словник!$W$2:$X$13,2,FALSE)","v":{"$error":"#N/A"}},0,{"$error":"#N/A"}]
[null,"",{"$f":"IFERROR(VLOOKUP(A965,'1.Портфель кредитів'!A:AC,3,FALSE),\"\")","v":""},{"$f":"IFERROR(VLOOKUP(A965,'1.Портфель кредитів'!A:AC,14,FALSE),\"\")","v":""},null,null,null,null,null,null,null,null,null,null,null,null,"","",null,{"$f":"IFERROR(VLOOKUP(A965,'1.Портфель кредитів'!A:AC,30,FALSE),\"\")","v":""},0,{"$error":"#VALUE!"},null,null,null,null,null,{"$f":"VLOOKUP(C965,Hidden_Словник!$A$2:C$81,3,FALSE)","v":{"$error":"#N/A"}},0,{"$f":"VLOOKUP(E965,Hidden_Словник!$W$2:$X$13,2,FALSE)","v":{"$error":"#N/A"}},0,{"$error":"#N/A"}]
[null,"",{"$f":"IFERROR(VLOOKUP(A966,'1.Портфель кредитів'!A:AC,3,FALSE),\"\")","v":""},{"$f":"IFERROR(VLOOKUP(A966,'1.Портфель кредитів'!A:AC,14,FALSE),\"\")","v":""},null,null,null,null,null,null,null,null,null,null,null,null,"","",null,{"$f":"IFERROR(VLOOKUP(A966,'1.Портфель кредитів'!A:AC,30,FALSE),\"\")","v":""},0,{"$error":"#VALUE!"},null,null,null,null,null,{"$f":"VLOOKUP(C966,Hidden_Словник!$A$2:C$81,3,FALSE)","v":{"$error":"#N/A"}},0,{"$f":"VLOOKUP(E966,Hidden_Словник!$W$2:$X$13,2,FALSE)","v":{"$error":"#N/A"}},0,{"$error":"#N/A"}]
[null,"",{"$f":"IFERROR(VLOOKUP(A967,'1.Портфель кредитів'!A:AC,3,FALSE),\"\")","v":""},{"$f":"IFERROR(VLOOKUP(A967,'1.Портфель кредитів'!A:AC,14,FALSE),\"\")","v":""},null,null,null,null,null,null,null,null,null,null,null,null,"","",null,{"$f":"IFERROR(VLOOKUP(A967,'1.Портфель кредитів'!A:AC,30,FALSE),\"\")","v":""},0,{"$error":"#VALUE!"},null,null,null,null,null,{"$f":"VLOOKUP(C967,Hidden_Словник!$A$2:C$81,3,FALSE)","v":{"$error":"#N/A"}},0,{"$f":"VLOOKUP(E967,Hidden_Словник!$W$2:$X$13,2,FALSE)","v":{"$error":"#N/A"}},0,{"$error":"#N/A"}]
[null,"",{"$f":"IFERROR(VLOOKUP(A968,'1.Портфель кредитів'!A:AC,3,FALSE),\"\")","v":""},{"$f":"IFERROR(VLOOKUP(A968,'1.Портфель кредитів'!A:AC,14,FALSE),\"\")","v":""},null,null,null,null,null,null,null,null,null,null,null,null,"","",null,{"$f":"IFERROR(VLOOKUP(A968,'1.Портфель кредитів'!A:AC,30,FALSE),\"\")","v":""},0,{"$error":"#VALUE!"},null,null,null,null,null,{"$f":"VLOOKUP(C968,Hidden_Словник!$A$2:C$81,3,FALSE)","v":{"$error":"#N/A"}},0,{"$f":"VLOOKUP(E968,Hidden_Словник!$W$2:$X$13,2,FALSE)","v":{"$error":"#N/A"}},0,{"$error":"#N/A"}]
[null,"",{"$f":"IFERROR(VLOOKUP(A969,'1.Портфель кредитів'!A:AC,3,FALSE),\"\")","v":""},{"$f":"IFERROR(VLOOKUP(A969,'1.Портфель кредитів'!A:AC,14,FALSE),\"\")","v":""},null,null,null,null,null,null,null,null,null,null,null,null,"","",null,{"$f":"IFERROR(VLOOKUP(A969,'1.Портфель кредитів'!A:AC,30,FALSE),\"\")","v":""},0,{"$error":"#VALUE!"},null,null,null,null,null,{"$f":"VLOOKUP(C969,Hidden_Словник!$A$2:C$81,3,FALSE)","v":{"$error":"#N/A"}},0,{"$f":"VLOOKUP(E969,Hidden_Словник!$W$2:$X$13,2,FALSE)","v":{"$error":"#N/A"}},0,{"$error":"#N/A"}]
[null,"",{"$f":"IFERROR(VLOOKUP(A970,'1.Портфель кредитів'!A:AC,3,FALSE),\"\")","v":""},{"$f":"IFERROR(VLOOKUP(A970,'1.Портфель кредитів'!A:AC,14,FALSE),\"\")","v":""},null,null,null,null,null,null,null,null,null,null,null,null,"","",null,{"$f":"IFERROR(VLOOKUP(A970,'1.Портфель кредитів'!A:AC,30,FALSE),\"\")","v":""},0,{"$error":"#VALUE!"},null,null,null,null,null,{"$f":"VLOOKUP(C970,Hidden_Словник!$A$2:C$81,3,FALSE)","v":{"$error":"#N/A"}},0,{"$f":"VLOOKUP(E970,Hidden_Словник!$W$2:$X$13,2,FALSE)","v":{"$error":"#N/A"}},0,{"$error":"#N/A"}]
[null,"",{"$f":"IFERROR(VLOOKUP(A971,'1.Портфель кредитів'!A:AC,3,FALSE),\"\")","v":""},{"$f":"IFERROR(VLOOKUP(A971,'1.Портфель кредитів'!A:AC,14,FALSE),\"\")","v":""},null,null,null,null,null,null,null,null,null,null,null,null,"","",null,{"$f":"IFERROR(VLOOKUP(A971,'1.Портфель кредитів'!A:AC,30,FALSE),\"\")","v":""},0,{"$error":"#VALUE!"},null,null,null,null,null,{"$f":"VLOOKUP(C971,Hidden_Словник!$A$2:C$81,3,FALSE)","v":{"$error":"#N/A"}},0,{"$f":"VLOOKUP(E971,Hidden_Словник!$W$2:$X$13,2,FALSE)","v":{"$error":"#N/A"}},0,{"$error":"#N/A"}]
[null,"",{"$f":"IFERROR(VLOOKUP(A972,'1.Портфель кредитів'!A:AC,3,FALSE),\"\")","v":""},{"$f":"IFERROR(VLOOKUP(A972,'1.Портфель кредитів'!A:AC,14,FALSE),\"\")","v":""},null,null,null,null,null,null,null,null,null,null,null,null,"","",null,{"$f":"IFERROR(VLOOKUP(A972,'1.Портфель кредитів'!A:AC,30,FALSE),\"\")","v":""},0,{"$error":"#VALUE!"},null,null,null,null,null,{"$f":"VLOOKUP(C972,Hidden_Словник!$A$2:C$81,3,FALSE)","v":{"$error":"#N/A"}},0,{"$f":"VLOOKUP(E972,Hidden_Словник!$W$2:$X$13,2,FALSE)","v":{"$error":"#N/A"}},0,{"$error":"#N/A"}]
[null,"",{"$f":"IFERROR(VLOOKUP(A973,'1.Портфель кредитів'!A:AC,3,FALSE),\"\")","v":""},{"$f":"IFERROR(VLOOKUP(A973,'1.Портфель кредитів'!A:AC,14,FALSE),\"\")","v":""},null,null,null,null,null,null,null,null,null,null,null,null,"","",null,{"$f":"IFERROR(VLOOKUP(A973,'1.Портфель кредитів'!A:AC,30,FALSE),\"\")","v":""},0,{"$error":"#VALUE!"},null,null,null,null,null,{"$f":"VLOOKUP(C973,Hidden_Словник!$A$2:C$81,3,FALSE)","v":{"$error":"#N/A"}},0,{"$f":"VLOOKUP(E973,Hidden_Словник!$W$2:$X$13,2,FALSE)","v":{"$error":"#N/A"}},0,{"$error":"#N/A"}]
[null,"",{"$f":"IFERROR(VLOOKUP(A974,'1.Портфель кредитів'!A:AC,3,FALSE),\"\")","v":""},{"$f":"IFERROR(VLOOKUP(A974,'1.Портфель кредитів'!A:AC,14,FALSE),\"\")","v":""},null,null,null,null,null,null,null,null,null,null,null,null,"","",null,{"$f":"IFERROR(VLOOKUP(A974,'1.Портфель кредитів'!A:AC,30,FALSE),\"\")","v":""},0,{"$error":"#VALUE!"},null,null,null,null,null,{"$f":"VLOOKUP(C974,Hidden_Словник!$A$2:C$81,3,FALSE)","v":{"$error":"#N/A"}},0,{"$f":"VLOOKUP(E974,Hidden_Словник!$W$2:$X$13,2,FALSE)","v":{"$error":"#N/A"}},0,{"$error":"#N/A"}]
[null,"",{"$f":"IFERROR(VLOOKUP(A975,'1.Портфель кредитів'!A:AC,3,FALSE),\"\")","v":""},{"$f":"IFERROR(VLOOKUP(A975,'1.Портфель кредитів'!A:AC,14,FALSE),\"\")","v":""},null,null,null,null,null,null,null,null,null,null,null,null,"","",null,{"$f":"IFERROR(VLOOKUP(A975,'1.Портфель кредитів'!A:AC,30,FALSE),\"\")","v":""},0,{"$error":"#VALUE!"},null,null,null,null,null,{"$f":"VLOOKUP(C975,Hidden_Словник!$A$2:C$81,3,FALSE)","v":{"$error":"#N/A"}},0,{"$f":"VLOOKUP(E975,Hidden_Словник!$W$2:$X$13,2,FALSE)","v":{"$error":"#N/A"}},0,{"$error":"#N/A"}]
[null,"",{"$f":"IFERROR(VLOOKUP(A976,'1.Портфель кредитів'!A:AC,3,FALSE),\"\")","v":""},{"$f":"IFERROR(VLOOKUP(A976,'1.Портфель кредитів'!A:AC,14,FALSE),\"\")","v":""},null,null,null,null,null,null,null,null,null,null,null,null,"","",null,{"$f":"IFERROR(VLOOKUP(A976,'1.Портфель кредитів'!A:AC,30,FALSE),\"\")","v":""},0,{"$error":"#VALUE!"},null,null,null,null,null,{"$f":"VLOOKUP(C976,Hidden_Словник!$A$2:C$81,3,FALSE)","v":{"$error":"#N/A"}},0,{"$f":"VLOOKUP(E976,Hidden_Словник!$W$2:$X$13,2,FALSE)","v":{"$error":"#N/A"}},0,{"$error":"#N/A"}]
[null,"",{"$f":"IFERROR(VLOOKUP(A977,'1.Портфель кредитів'!A:AC,3,FALSE),\"\")","v":""},{"$f":"IFERROR(VLOOKUP(A977,'1.Портфель кредитів'!A:AC,14,FALSE),\"\")","v":""},null,null,null,null,null,null,null,null,null,null,null,null,"","",null,{"$f":"IFERROR(VLOOKUP(A977,'1.Портфель кредитів'!A:AC,30,FALSE),\"\")","v":""},0,{"$error":"#VALUE!"},null,null,null,null,null,{"$f":"VLOOKUP(C977,Hidden_Словник!$A$2:C$81,3,FALSE)","v":{"$error":"#N/A"}},0,{"$f":"VLOOKUP(E977,Hidden_Словник!$W$2:$X$13,2,FALSE)","v":{"$error":"#N/A"}},0,{"$error":"#N/A"}]
[null,"",{"$f":"IFERROR(VLOOKUP(A978,'1.Портфель кредитів'!A:AC,3,FALSE),\"\")","v":""},{"$f":"IFERROR(VLOOKUP(A978,'1.Портфель кредитів'!A:AC,14,FALSE),\"\")","v":""},null,null,null,null,null,null,null,null,null,null,null,null,"","",null,{"$f":"IFERROR(VLOOKUP(A978,'1.Портфель кредитів'!A:AC,30,FALSE),\"\")","v":""},0,{"$error":"#VALUE!"},null,null,null,null,null,{"$f":"VLOOKUP(C978,Hidden_Словник!$A$2:C$81,3,FALSE)","v":{"$error":"#N/A"}},0,{"$f":"VLOOKUP(E978,Hidden_Словник!$W$2:$X$13,2,FALSE)","v":{"$error":"#N/A"}},0,{"$error":"#N/A"}]
[null,"",{"$f":"IFERROR(VLOOKUP(A979,'1.Портфель кредитів'!A:AC,3,FALSE),\"\")","v":""},{"$f":"IFERROR(VLOOKUP(A979,'1.Портфель кредитів'!A:AC,14,FALSE),\"\")","v":""},null,null,null,null,null,null,null,null,null,null,null,null,"","",null,{"$f":"IFERROR(VLOOKUP(A979,'1.Портфель кредитів'!A:AC,30,FALSE),\"\")","v":""},0,{"$error":"#VALUE!"},null,null,null,null,null,{"$f":"VLOOKUP(C979,Hidden_Словник!$A$2:C$81,3,FALSE)","v":{"$error":"#N/A"}},0,{"$f":"VLOOKUP(E979,Hidden_Словник!$W$2:$X$13,2,FALSE)","v":{"$error":"#N/A"}},0,{"$error":"#N/A"}]
[null,"",{"$f":"IFERROR(VLOOKUP(A980,'1.Портфель кредитів'!A:AC,3,FALSE),\"\")","v":""},{"$f":"IFERROR(VLOOKUP(A980,'1.Портфель кредитів'!A:AC,14,FALSE),\"\")","v":""},null,null,null,null,null,null,null,null,null,null,null,null,"","",null,{"$f":"IFERROR(VLOOKUP(A980,'1.Портфель кредитів'!A:AC,30,FALSE),\"\")","v":""},0,{"$error":"#VALUE!"},null,null,null,null,null,{"$f":"VLOOKUP(C980,Hidden_Словник!$A$2:C$81,3,FALSE)","v":{"$error":"#N/A"}},0,{"$f":"VLOOKUP(E980,Hidden_Словник!$W$2:$X$13,2,FALSE)","v":{"$error":"#N/A"}},0,{"$error":"#N/A"}]
[null,"",{"$f":"IFERROR(VLOOKUP(A981,'1.Портфель кредитів'!A:AC,3,FALSE),\"\")","v":""},{"$f":"IFERROR(VLOOKUP(A981,'1.Портфель кредитів'!A:AC,14,FALSE),\"\")","v":""},null,null,null,null,null,null,null,null,null,null,null,null,"","",null,{"$f":"IFERROR(VLOOKUP(A981,'1.Портфель кредитів'!A:AC,30,FALSE),\"\")","v":""},0,{"$error":"#VALUE!"},null,null,null,null,null,{"$f":"VLOOKUP(C981,Hidden_Словник!$A$2:C$81,3,FALSE)","v":{"$error":"#N/A"}},0,{"$f":"VLOOKUP(E981,Hidden_Словник!$W$2:$X$13,2,FALSE)","v":{"$error":"#N/A"}},0,{"$error":"#N/A"}]
[null,"",{"$f":"IFERROR(VLOOKUP(A982,'1.Портфель кредитів'!A:AC,3,FALSE),\"\")","v":""},{"$f":"IFERROR(VLOOKUP(A982,'1.Портфель кредитів'!A:AC,14,FALSE),\"\")","v":""},null,null,null,null,null,null,null,null,null,null,null,null,"",{"$f":"IFERROR(V982*L982,\"\")","v":""},null,{"$f":"IFERROR(VLOOKUP(A982,'1.Портфель кредитів'!A:AC,30,FALSE),\"\")","v":""},0,{"$error":"#VALUE!"},null,null,null,null,null,{"$f":"VLOOKUP(C982,Hidden_Словник!$A$2:C$81,3,FALSE)","v":{"$error":"#N/A"}},{"$f":"ROUNDUP(L982,0)","v":0},{"$f":"VLOOKUP(E982,Hidden_Словник!$W$2:$X$13,2,FALSE)","v":{"$error":"#N/A"}},{"$f":"O982","v":0},{"$error":"#N/A"}]
[null,{"$f":"IFERROR(AF983,\"\")","v":""},{"$f":"IFERROR(VLOOKUP(A983,'1.Портфель кредитів'!A:AC,3,FALSE),\"\")","v":""},{"$f":"IFERROR(VLOOKUP(A983,'1.Портфель кредитів'!A:AC,14,FALSE),\"\")","v":""},null,null,null,null,null,null,null,null,null,null,null,null,"","",null,{"$f":"IFERROR(VLOOKUP(A983,'1.Портфель кредитів'!A:AC,30,FALSE),\"\")","v":""},0,{"$error":"#VALUE!"},null,null,null,null,null,{"$f":"VLOOKUP(C983,Hidden_Словник!$A$2:C$81,3,FALSE)","v":{"$error":"#N/A"}},0,{"$f":"VLOOKUP(E983,Hidden_Словник!$W$2:$X$13,2,FALSE)","v":{"$error":"#N/A"}},0,{"$f":"AB983&\"_\"&AC983&AD983&AE983","v":{"$error":"#N/A"}}]
[null,"",{"$f":"IFERROR(VLOOKUP(A984,'1.Портфель кредитів'!A:AC,3,FALSE),\"\")","v":""},{"$f":"IFERROR(VLOOKUP(A984,'1.Портфель кредитів'!A:AC,14,FALSE),\"\")","v":""},null,null,null,null,null,null,null,null,null,null,null,null,"","",null,{"$f":"IFERROR(VLOOKUP(A984,'1.Портфель кредитів'!A:AC,30,FALSE),\"\")","v":""},0,{"$error":"#VALUE!"},null,null,null,null,null,{"$f":"VLOOKUP(C984,Hidden_Словник!$A$2:C$81,3,FALSE)","v":{"$error":"#N/A"}},0,{"$f":"VLOOKUP(E984,Hidden_Словник!$W$2:$X$13,2,FALSE)","v":{"$error":"#N/A"}},0,{"$error":"#N/A"}]
[null,"",{"$f":"IFERROR(VLOOKUP(A985,'1.Портфель кредитів'!A:AC,3,FALSE),\"\")","v":""},{"$f":"IFERROR(VLOOKUP(A985,'1.Портфель кредитів'!A:AC,14,FALSE),\"\")","v":""},null,null,null,null,null,null,null,null,null,null,null,null,"","",null,{"$f":"IFERROR(VLOOKUP(A985,'1.Портфель кредитів'!A:AC,30,FALSE),\"\")","v":""},0,{"$error":"#VALUE!"},null,null,null,null,null,{"$f":"VLOOKUP(C985,Hidden_Словник!$A$2:C$81,3,FALSE)","v":{"$error":"#N/A"}},0,{"$f":"VLOOKUP(E985,Hidden_Словник!$W$2:$X$13,2,FALSE)","v":{"$error":"#N/A"}},0,{"$error":"#N/A"}]
[null,"",{"$f":"IFERROR(VLOOKUP(A986,'1.Портфель кредитів'!A:AC,3,FALSE),\"\")","v":""},{"$f":"IFERROR(VLOOKUP(A986,'1.Портфель кредитів'!A:AC,14,FALSE),\"\")","v":""},null,null,null,null,null,null,null,null,null,null,null,null,{"$f":"IF(O986=\"\",\"\",IF(COUNTIF(AF:AF,AF986)>1,\"так\",\"ні\"))","v":""},"",null,{"$f":"IFERROR(VLOOKUP(A986,'1.Портфель кредитів'!A:AC,30,FALSE),\"\")","v":""},{"$f":"SUMIF(B:B,B986,T:T)","v":0},{"$error":"#VALUE!"},null,null,null,null,null,{"$f":"VLOOKUP(C986,Hidden_Словник!$A$2:C$81,3,FALSE)","v":{"$error":"#N/A"}},0,{"$f":"VLOOKUP(E986,Hidden_Словник!$W$2:$X$13,2,FALSE)","v":{"$error":"#N/A"}},0,{"$error":"#N/A"}]
[null,"",{"$f":"IFERROR(VLOOKUP(A987,'1.Портфель кредитів'!A:AC,3,FALSE),\"\")","v":""},{"$f":"IFERROR(VLOOKUP(A987,'1.Портфель кредитів'!A:AC,14,FALSE),\"\")","v":""},null,null,null,null,null,null,null,null,null,null,null,null,"","",null,{"$f":"IFERROR(VLOOKUP(A987,'1.Портфель кредитів'!A:AC,30,FALSE),\"\")","v":""},0,{"$error":"#VALUE!"},null,null,null,null,null,{"$f":"VLOOKUP(C987,Hidden_Словник!$A$2:C$81,3,FALSE)","v":{"$error":"#N/A"}},0,{"$f":"VLOOKUP(E987,Hidden_Словник!$W$2:$X$13,2,FALSE)","v":{"$error":"#N/A"}},0,{"$error":"#N/A"}]
[null,"",{"$f":"IFERROR(VLOOKUP(A988,'1.Портфель кредитів'!A:AC,3,FALSE),\"\")","v":""},{"$f":"IFERROR(VLOOKUP(A988,'1.Портфель кредитів'!A:AC,14,FALSE),\"\")","v":""},null,null,null,null,null,null,null,null,null,null,null,null,"","",null,{"$f":"IFERROR(VLOOKUP(A988,'1.Портфель кредитів'!A:AC,30,FALSE),\"\")","v":""},0,{"$error":"#VALUE!"},null,null,null,null,null,{"$f":"VLOOKUP(C988,Hidden_Словник!$A$2:C$81,3,FALSE)","v":{"$error":"#N/A"}},0,{"$f":"VLOOKUP(E988,Hidden_Словник!$W$2:$X$13,2,FALSE)","v":{"$error":"#N/A"}},0,{"$error":"#N/A"}]
[null,"",{"$f":"IFERROR(VLOOKUP(A989,'1.Портфель кредитів'!A:AC,3,FALSE),\"\")","v":""},{"$f":"IFERROR(VLOOKUP(A989,'1.Портфель кредитів'!A:AC,14,FALSE),\"\")","v":""},null,null,null,null,null,null,null,null,null,null,null,null,"","",null,{"$f":"IFERROR(VLOOKUP(A989,'1.Портфель кредитів'!A:AC,30,FALSE),\"\")","v":""},0,{"$error":"#VALUE!"},null,null,null,null,null,{"$f":"VLOOKUP(C989,Hidden_Словник!$A$2:C$81,3,FALSE)","v":{"$error":"#N/A"}},0,{"$f":"VLOOKUP(E989,Hidden_Словник!$W$2:$X$13,2,FALSE)","v":{"$error":"#N/A"}},0,{"$error":"#N/A"}]
[null,"",{"$f":"IFERROR(VLOOKUP(A990,'1.Портфель кредитів'!A:AC,3,FALSE),\"\")","v":""},{"$f":"IFERROR(VLOOKUP(A990,'1.Портфель кредитів'!A:AC,14,FALSE),\"\")","v":""},null,null,null,null,null,null,null,null,null,null,null,null,"","",null,{"$f":"IFERROR(VLOOKUP(A990,'1.Портфель кредитів'!A:AC,30,FALSE),\"\")","v":""},0,{"$error":"#VALUE!"},null,null,null,null,null,{"$f":"VLOOKUP(C990,Hidden_Словник!$A$2:C$81,3,FALSE)","v":{"$error":"#N/A"}},0,{"$f":"VLOOKUP(E990,Hidden_Словник!$W$2:$X$13,2,FALSE)","v":{"$error":"#N/A"}},0,{"$error":"#N/A"}]
[null,"",{"$f":"IFERROR(VLOOKUP(A991,'1.Портфель кредитів'!A:AC,3,FALSE),\"\")","v":""},{"$f":"IFERROR(VLOOKUP(A991,'1.Портфель кредитів'!A:AC,14,FALSE),\"\")","v":""},null,null,null,null,null,null,null,null,null,null,null,null,"","",null,{"$f":"IFERROR(VLOOKUP(A991,'1.Портфель кредитів'!A:AC,30,FALSE),\"\")","v":""},0,{"$error":"#VALUE!"},null,null,null,null,null,{"$f":"VLOOKUP(C991,Hidden_Словник!$A$2:C$81,3,FALSE)","v":{"$error":"#N/A"}},0,{"$f":"VLOOKUP(E991,Hidden_Словник!$W$2:$X$13,2,FALSE)","v":{"$error":"#N/A"}},0,{"$error":"#N/A"}]
[null,"",{"$f":"IFERROR(VLOOKUP(A992,'1.Портфель кредитів'!A:AC,3,FALSE),\"\")","v":""},{"$f":"IFERROR(VLOOKUP(A992,'1.Портфель кредитів'!A:AC,14,FALSE),\"\")","v":""},null,null,null,null,null,null,null,null,null,null,null,null,"","",null,{"$f":"IFERROR(VLOOKUP(A992,'1.Портфель кредитів'!A:AC,30,FALSE),\"\")","v":""},0,{"$error":"#VALUE!"},null,null,null,null,null,{"$f":"VLOOKUP(C992,Hidden_Словник!$A$2:C$81,3,FALSE)","v":{"$error":"#N/A"}},0,{"$f":"VLOOKUP(E992,Hidden_Словник!$W$2:$X$13,2,FALSE)","v":{"$error":"#N/A"}},0,{"$error":"#N/A"}]
[null,"",{"$f":"IFERROR(VLOOKUP(A993,'1.Портфель кредитів'!A:AC,3,FALSE),\"\")","v":""},{"$f":"IFERROR(VLOOKUP(A993,'1.Портфель кредитів'!A:AC,14,FALSE),\"\")","v":""},null,null,null,null,null,null,null,null,null,null,null,null,"","",null,{"$f":"IFERROR(VLOOKUP(A993,'1.Портфель кредитів'!A:AC,30,FALSE),\"\")","v":""},0,{"$error":"#VALUE!"},null,null,null,null,null,{"$f":"VLOOKUP(C993,Hidden_Словник!$A$2:C$81,3,FALSE)","v":{"$error":"#N/A"}},0,{"$f":"VLOOKUP(E993,Hidden_Словник!$W$2:$X$13,2,FALSE)","v":{"$error":"#N/A"}},0,{"$error":"#N/A"}]
[null,"",{"$f":"IFERROR(VLOOKUP(A994,'1.Портфель кредитів'!A:AC,3,FALSE),\"\")","v":""},{"$f":"IFERROR(VLOOKUP(A994,'1.Портфель кредитів'!A:AC,14,FALSE),\"\")","v":""},null,null,null,null,null,null,null,null,null,null,null,null,"","",null,{"$f":"IFERROR(VLOOKUP(A994,'1.Портфель кредитів'!A:AC,30,FALSE),\"\")","v":""},0,{"$error":"#VALUE!"},null,null,null,null,null,{"$f":"VLOOKUP(C994,Hidden_Словник!$A$2:C$81,3,FALSE)","v":{"$error":"#N/A"}},0,{"$f":"VLOOKUP(E994,Hidden_Словник!$W$2:$X$13,2,FALSE)","v":{"$error":"#N/A"}},0,{"$error":"#N/A"}]
[null,"",{"$f":"IFERROR(VLOOKUP(A995,'1.Портфель кредитів'!A:AC,3,FALSE),\"\")","v":""},{"$f":"IFERROR(VLOOKUP(A995,'1.Портфель кредитів'!A:AC,14,FALSE),\"\")","v":""},null,null,null,null,null,null,null,null,null,null,null,null,"","",null,{"$f":"IFERROR(VLOOKUP(A995,'1.Портфель кредитів'!A:AC,30,FALSE),\"\")","v":""},0,{"$error":"#VALUE!"},null,null,null,null,null,{"$f":"VLOOKUP(C995,Hidden_Словник!$A$2:C$81,3,FALSE)","v":{"$error":"#N/A"}},0,{"$f":"VLOOKUP(E995,Hidden_Словник!$W$2:$X$13,2,FALSE)","v":{"$error":"#N/A"}},0,{"$error":"#N/A"}]
[null,"",{"$f":"IFERROR(VLOOKUP(A996,'1.Портфель кредитів'!A:AC,3,FALSE),\"\")","v":""},{"$f":"IFERROR(VLOOKUP(A996,'1.Портфель кредитів'!A:AC,14,FALSE),\"\")","v":""},null,null,null,null,null,null,null,null,null,null,null,null,"","",null,{"$f":"IFERROR(VLOOKUP(A996,'1.Портфель кредитів'!A:AC,30,FALSE),\"\")","v":""},0,{"$error":"#VALUE!"},null,null,null,null,null,{"$f":"VLOOKUP(C996,Hidden_Словник!$A$2:C$81,3,FALSE)","v":{"$error":"#N/A"}},0,{"$f":"VLOOKUP(E996,Hidden_Словник!$W$2:$X$13,2,FALSE)","v":{"$error":"#N/A"}},0,{"$error":"#N/A"}]
[null,"",{"$f":"IFERROR(VLOOKUP(A997,'1.Портфель кредитів'!A:AC,3,FALSE),\"\")","v":""},{"$f":"IFERROR(VLOOKUP(A997,'1.Портфель кредитів'!A:AC,14,FALSE),\"\")","v":""},null,null,null,null,null,null,null,null,null,null,null,null,"","",null,{"$f":"IFERROR(VLOOKUP(A997,'1.Портфель кредитів'!A:AC,30,FALSE),\"\")","v":""},0,{"$error":"#VALUE!"},null,null,null,null,null,{"$f":"VLOOKUP(C997,Hidden_Словник!$A$2:C$81,3,FALSE)","v":{"$error":"#N/A"}},0,{"$f":"VLOOKUP(E997,Hidden_Словник!$W$2:$X$13,2,FALSE)","v":{"$error":"#N/A"}},0,{"$error":"#N/A"}]
[null,"",{"$f":"IFERROR(VLOOKUP(A998,'1.Портфель кредитів'!A:AC,3,FALSE),\"\")","v":""},{"$f":"IFERROR(VLOOKUP(A998,'1.Портфель кредитів'!A:AC,14,FALSE),\"\")","v":""},null,null,null,null,null,null,null,null,null,null,null,null,"","",null,{"$f":"IFERROR(VLOOKUP(A998,'1.Портфель кредитів'!A:AC,30,FALSE),\"\")","v":""},0,{"$error":"#VALUE!"},null,null,null,null,null,{"$f":"VLOOKUP(C998,Hidden_Словник!$A$2:C$81,3,FALSE)","v":{"$error":"#N/A"}},0,{"$f":"VLOOKUP(E998,Hidden_Словник!$W$2:$X$13,2,FALSE)","v":{"$error":"#N/A"}},0,{"$error":"#N/A"}]
[null,"",{"$f":"IFERROR(VLOOKUP(A999,'1.Портфель кредитів'!A:AC,3,FALSE),\"\")","v":""},{"$f":"IFERROR(VLOOKUP(A999,'1.Портфель кредитів'!A:AC,14,FALSE),\"\")","v":""},null,null,null,null,null,null,null,null,null,null,null,null,"","",null,{"$f":"IFERROR(VLOOKUP(A999,'1.Портфель кредитів'!A:AC,30,FALSE),\"\")","v":""},0,{"$error":"#VALUE!"},null,null,null,null,null,{"$f":"VLOOKUP(C999,Hidden_Словник!$A$2:C$81,3,FALSE)","v":{"$error":"#N/A"}},0,{"$f":"VLOOKUP(E999,Hidden_Словник!$W$2:$X$13,2,FALSE)","v":{"$error":"#N/A"}},0,{"$error":"#N/A"}]
[null,"",{"$f":"IFERROR(VLOOKUP(A1000,'1.Портфель кредитів'!A:AC,3,FALSE),\"\")","v":""},{"$f":"IFERROR(VLOOKUP(A1000,'1.Портфель кредитів'!A:AC,14,FALSE),\"\")","v":""},null,null,null,null,null,null,null,null,null,null,null,null,"","",null,{"$f":"IFERROR(VLOOKUP(A1000,'1.Портфель кредитів'!A:AC,30,FALSE),\"\")","v":""},0,{"$error":"#VALUE!"},null,null,null,null,null,{"$f":"VLOOKUP(C1000,Hidden_Словник!$A$2:C$81,3,FALSE)","v":{"$error":"#N/A"}},0,{"$f":"VLOOKUP(E1000,Hidden_Словник!$W$2:$X$13,2,FALSE)","v":{"$error":"#N/A"}},0,{"$error":"#N/A"}]
[null,"",{"$f":"IFERROR(VLOOKUP(A1001,'1.Портфель кредитів'!A:AC,3,FALSE),\"\")","v":""},{"$f":"IFERROR(VLOOKUP(A1001,'1.Портфель кредитів'!A:AC,14,FALSE),\"\")","v":""},null,null,null,null,null,null,null,null,null,null,null,null,"","",null,{"$f":"IFERROR(VLOOKUP(A1001,'1.Портфель кредитів'!A:AC,30,FALSE),\"\")","v":""},0,{"$error":"#VALUE!"},null,null,null,null,null,{"$f":"VLOOKUP(C1001,Hidden_Словник!$A$2:C$81,3,FALSE)","v":{"$error":"#N/A"}},0,{"$f":"VLOOKUP(E1001,Hidden_Словник!$W$2:$X$13,2,FALSE)","v":{"$error":"#N/A"}},0,{"$error":"#N/A"}]
[null,"",{"$f":"IFERROR(VLOOKUP(A1002,'1.Портфель кредитів'!A:AC,3,FALSE),\"\")","v":""},{"$f":"IFERROR(VLOOKUP(A1002,'1.Портфель кредитів'!A:AC,14,FALSE),\"\")","v":""},null,null,null,null,null,null,null,null,null,null,null,null,"","",null,{"$f":"IFERROR(VLOOKUP(A1002,'1.Портфель кредитів'!A:AC,30,FALSE),\"\")","v":""},0,{"$error":"#VALUE!"},null,null,null,null,null,{"$f":"VLOOKUP(C1002,Hidden_Словник!$A$2:C$81,3,FALSE)","v":{"$error":"#N/A"}},0,{"$f":"VLOOKUP(E1002,Hidden_Словник!$W$2:$X$13,2,FALSE)","v":{"$error":"#N/A"}},0,{"$error":"#N/A"}]
[null,"",{"$f":"IFERROR(VLOOKUP(A1003,'1.Портфель кредитів'!A:AC,3,FALSE),\"\")","v":""},{"$f":"IFERROR(VLOOKUP(A1003,'1.Портфель кредитів'!A:AC,14,FALSE),\"\")","v":""},null,null,null,null,null,null,null,null,null,null,null,null,"","",null,{"$f":"IFERROR(VLOOKUP(A1003,'1.Портфель кредитів'!A:AC,30,FALSE),\"\")","v":""},0,{"$error":"#VALUE!"},null,null,null,null,null,{"$f":"VLOOKUP(C1003,Hidden_Словник!$A$2:C$81,3,FALSE)","v":{"$error":"#N/A"}},0,{"$f":"VLOOKUP(E1003,Hidden_Словник!$W$2:$X$13,2,FALSE)","v":{"$error":"#N/A"}},0,{"$error":"#N/A"}]
[null,"",{"$f":"IFERROR(VLOOKUP(A1004,'1.Портфель кредитів'!A:AC,3,FALSE),\"\")","v":""},{"$f":"IFERROR(VLOOKUP(A1004,'1.Портфель кредитів'!A:AC,14,FALSE),\"\")","v":""},null,null,null,null,null,null,null,null,null,null,null,null,"","",null,{"$f":"IFERROR(VLOOKUP(A1004,'1.Портфель кредитів'!A:AC,30,FALSE),\"\")","v":""},0,{"$error":"#VALUE!"},null,null,null,null,null,{"$f":"VLOOKUP(C1004,Hidden_Словник!$A$2:C$81,3,FALSE)","v":{"$error":"#N/A"}},0,{"$f":"VLOOKUP(E1004,Hidden_Словник!$W$2:$X$13,2,FALSE)","v":{"$error":"#N/A"}},0,{"$error":"#N/A"}]
[null,"",{"$f":"IFERROR(VLOOKUP(A1005,'1.Портфель кредитів'!A:AC,3,FALSE),\"\")","v":""},{"$f":"IFERROR(VLOOKUP(A1005,'1.Портфель кредитів'!A:AC,14,FALSE),\"\")","v":""},null,null,null,null,null,null,null,null,null,null,null,null,"","",null,{"$f":"IFERROR(VLOOKUP(A1005,'1.Портфель кредитів'!A:AC,30,FALSE),\"\")","v":""},0,{"$error":"#VALUE!"},null,null,null,null,null,{"$f":"VLOOKUP(C1005,Hidden_Словник!$A$2:C$81,3,FALSE)","v":{"$error":"#N/A"}},0,{"$f":"VLOOKUP(E1005,Hidden_Словник!$W$2:$X$13,2,FALSE)","v":{"$error":"#N/A"}},0,{"$error":"#N/A"}]
[null,"",{"$f":"IFERROR(VLOOKUP(A1006,'1.Портфель кредитів'!A:AC,3,FALSE),\"\")","v":""},{"$f":"IFERROR(VLOOKUP(A1006,'1.Портфель кредитів'!A:AC,14,FALSE),\"\")","v":""},null,null,null,null,null,null,null,null,null,null,null,null,"","",null,{"$f":"IFERROR(VLOOKUP(A1006,'1.Портфель кредитів'!A:AC,30,FALSE),\"\")","v":""},0,{"$error":"#VALUE!"},null,null,null,null,null,{"$f":"VLOOKUP(C1006,Hidden_Словник!$A$2:C$81,3,FALSE)","v":{"$error":"#N/A"}},0,{"$f":"VLOOKUP(E1006,Hidden_Словник!$W$2:$X$13,2,FALSE)","v":{"$error":"#N/A"}},0,{"$error":"#N/A"}]
[null,"",{"$f":"IFERROR(VLOOKUP(A1007,'1.Портфель кредитів'!A:AC,3,FALSE),\"\")","v":""},{"$f":"IFERROR(VLOOKUP(A1007,'1.Портфель кредитів'!A:AC,14,FALSE),\"\")","v":""},null,null,null,null,null,null,null,null,null,null,null,null,"","",null,{"$f":"IFERROR(VLOOKUP(A1007,'1.Портфель кредитів'!A:AC,30,FALSE),\"\")","v":""},0,{"$error":"#VALUE!"},null,null,null,null,null,{"$f":"VLOOKUP(C1007,Hidden_Словник!$A$2:C$81,3,FALSE)","v":{"$error":"#N/A"}},0,{"$f":"VLOOKUP(E1007,Hidden_Словник!$W$2:$X$13,2,FALSE)","v":{"$error":"#N/A"}},0,{"$error":"#N/A"}]
[null,"",{"$f":"IFERROR(VLOOKUP(A1008,'1.Портфель кредитів'!A:AC,3,FALSE),\"\")","v":""},{"$f":"IFERROR(VLOOKUP(A1008,'1.Портфель кредитів'!A:AC,14,FALSE),\"\")","v":""},null,null,null,null,null,null,null,null,null,null,null,null,"","",null,{"$f":"IFERROR(VLOOKUP(A1008,'1.Портфель кредитів'!A:AC,30,FALSE),\"\")","v":""},0,{"$error":"#VALUE!"},null,null,null,null,null,{"$f":"VLOOKUP(C1008,Hidden_Словник!$A$2:C$81,3,FALSE)","v":{"$error":"#N/A"}},0,{"$f":"VLOOKUP(E1008,Hidden_Словник!$W$2:$X$13,2,FALSE)","v":{"$error":"#N/A"}},0,{"$error":"#N/A"}]
[null,"",{"$f":"IFERROR(VLOOKUP(A1009,'1.Портфель кредитів'!A:AC,3,FALSE),\"\")","v":""},{"$f":"IFERROR(VLOOKUP(A1009,'1.Портфель кредитів'!A:AC,14,FALSE),\"\")","v":""},null,null,null,null,null,null,null,null,null,null,null,null,"","",null,{"$f":"IFERROR(VLOOKUP(A1009,'1.Портфель кредитів'!A:AC,30,FALSE),\"\")","v":""},0,{"$error":"#VALUE!"},null,null,null,null,null,{"$f":"VLOOKUP(C1009,Hidden_Словник!$A$2:C$81,3,FALSE)","v":{"$error":"#N/A"}},0,{"$f":"VLOOKUP(E1009,Hidden_Словник!$W$2:$X$13,2,FALSE)","v":{"$error":"#N/A"}},0,{"$error":"#N/A"}]
[null,"",{"$f":"IFERROR(VLOOKUP(A1010,'1.Портфель кредитів'!A:AC,3,FALSE),\"\")","v":""},{"$f":"IFERROR(VLOOKUP(A1010,'1.Портфель кредитів'!A:AC,14,FALSE),\"\")","v":""},null,null,null,null,null,null,null,null,null,null,null,null,"","",null,{"$f":"IFERROR(VLOOKUP(A1010,'1.Портфель кредитів'!A:AC,30,FALSE),\"\")","v":""},0,{"$error":"#VALUE!"},null,null,null,null,null,{"$f":"VLOOKUP(C1010,Hidden_Словник!$A$2:C$81,3,FALSE)","v":{"$error":"#N/A"}},0,{"$f":"VLOOKUP(E1010,Hidden_Словник!$W$2:$X$13,2,FALSE)","v":{"$error":"#N/A"}},0,{"$error":"#N/A"}]
[null,"",{"$f":"IFERROR(VLOOKUP(A1011,'1.Портфель кредитів'!A:AC,3,FALSE),\"\")","v":""},{"$f":"IFERROR(VLOOKUP(A1011,'1.Портфель кредитів'!A:AC,14,FALSE),\"\")","v":""},null,null,null,null,null,null,null,null,null,null,null,null,"","",null,{"$f":"IFERROR(VLOOKUP(A1011,'1.Портфель кредитів'!A:AC,30,FALSE),\"\")","v":""},0,{"$error":"#VALUE!"},null,null,null,null,null,{"$f":"VLOOKUP(C1011,Hidden_Словник!$A$2:C$81,3,FALSE)","v":{"$error":"#N/A"}},0,{"$f":"VLOOKUP(E1011,Hidden_Словник!$W$2:$X$13,2,FALSE)","v":{"$error":"#N/A"}},0,{"$error":"#N/A"}]
[null,"",{"$f":"IFERROR(VLOOKUP(A1012,'1.Портфель кредитів'!A:AC,3,FALSE),\"\")","v":""},{"$f":"IFERROR(VLOOKUP(A1012,'1.Портфель кредитів'!A:AC,14,FALSE),\"\")","v":""},null,null,null,null,null,null,null,null,null,null,null,null,"","",null,{"$f":"IFERROR(VLOOKUP(A1012,'1.Портфель кредитів'!A:AC,30,FALSE),\"\")","v":""},0,{"$error":"#VALUE!"},null,null,null,null,null,{"$f":"VLOOKUP(C1012,Hidden_Словник!$A$2:C$81,3,FALSE)","v":{"$error":"#N/A"}},0,{"$f":"VLOOKUP(E1012,Hidden_Словник!$W$2:$X$13,2,FALSE)","v":{"$error":"#N/A"}},0,{"$error":"#N/A"}]
[null,"",{"$f":"IFERROR(VLOOKUP(A1013,'1.Портфель кредитів'!A:AC,3,FALSE),\"\")","v":""},{"$f":"IFERROR(VLOOKUP(A1013,'1.Портфель кредитів'!A:AC,14,FALSE),\"\")","v":""},null,null,null,null,null,null,null,null,null,null,null,null,"","",null,{"$f":"IFERROR(VLOOKUP(A1013,'1.Портфель кредитів'!A:AC,30,FALSE),\"\")","v":""},0,{"$error":"#VALUE!"},null,null,null,null,null,{"$f":"VLOOKUP(C1013,Hidden_Словник!$A$2:C$81,3,FALSE)","v":{"$error":"#N/A"}},0,{"$f":"VLOOKUP(E1013,Hidden_Словник!$W$2:$X$13,2,FALSE)","v":{"$error":"#N/A"}},0,{"$error":"#N/A"}]
[null,"",{"$f":"IFERROR(VLOOKUP(A1014,'1.Портфель кредитів'!A:AC,3,FALSE),\"\")","v":""},{"$f":"IFERROR(VLOOKUP(A1014,'1.Портфель кредитів'!A:AC,14,FALSE),\"\")","v":""},null,null,null,null,null,null,null,null,null,null,null,null,"","",null,{"$f":"IFERROR(VLOOKUP(A1014,'1.Портфель кредитів'!A:AC,30,FALSE),\"\")","v":""},0,{"$error":"#VALUE!"},null,null,null,null,null,{"$f":"VLOOKUP(C1014,Hidden_Словник!$A$2:C$81,3,FALSE)","v":{"$error":"#N/A"}},0,{"$f":"VLOOKUP(E1014,Hidden_Словник!$W$2:$X$13,2,FALSE)","v":{"$error":"#N/A"}},0,{"$error":"#N/A"}]
[null,"",{"$f":"IFERROR(VLOOKUP(A1015,'1.Портфель кредитів'!A:AC,3,FALSE),\"\")","v":""},{"$f":"IFERROR(VLOOKUP(A1015,'1.Портфель кредитів'!A:AC,14,FALSE),\"\")","v":""},null,null,null,null,null,null,null,null,null,null,null,null,"","",null,{"$f":"IFERROR(VLOOKUP(A1015,'1.Портфель кредитів'!A:AC,30,FALSE),\"\")","v":""},0,{"$error":"#VALUE!"},null,null,null,null,null,{"$f":"VLOOKUP(C1015,Hidden_Словник!$A$2:C$81,3,FALSE)","v":{"$error":"#N/A"}},0,{"$f":"VLOOKUP(E1015,Hidden_Словник!$W$2:$X$13,2,FALSE)","v":{"$error":"#N/A"}},0,{"$error":"#N/A"}]
[null,"",{"$f":"IFERROR(VLOOKUP(A1016,'1.Портфель кредитів'!A:AC,3,FALSE),\"\")","v":""},{"$f":"IFERROR(VLOOKUP(A1016,'1.Портфель кредитів'!A:AC,14,FALSE),\"\")","v":""},null,null,null,null,null,null,null,null,null,null,null,null,"","",null,{"$f":"IFERROR(VLOOKUP(A1016,'1.Портфель кредитів'!A:AC,30,FALSE),\"\")","v":""},0,{"$error":"#VALUE!"},null,null,null,null,null,{"$f":"VLOOKUP(C1016,Hidden_Словник!$A$2:C$81,3,FALSE)","v":{"$error":"#N/A"}},0,{"$f":"VLOOKUP(E1016,Hidden_Словник!$W$2:$X$13,2,FALSE)","v":{"$error":"#N/A"}},0,{"$error":"#N/A"}]
[null,"",{"$f":"IFERROR(VLOOKUP(A1017,'1.Портфель кредитів'!A:AC,3,FALSE),\"\")","v":""},{"$f":"IFERROR(VLOOKUP(A1017,'1.Портфель кредитів'!A:AC,14,FALSE),\"\")","v":""},null,null,null,null,null,null,null,null,null,null,null,null,"","",null,{"$f":"IFERROR(VLOOKUP(A1017,'1.Портфель кредитів'!A:AC,30,FALSE),\"\")","v":""},0,{"$error":"#VALUE!"},null,null,null,null,null,{"$f":"VLOOKUP(C1017,Hidden_Словник!$A$2:C$81,3,FALSE)","v":{"$error":"#N/A"}},0,{"$f":"VLOOKUP(E1017,Hidden_Словник!$W$2:$X$13,2,FALSE)","v":{"$error":"#N/A"}},0,{"$error":"#N/A"}]
[null,"",{"$f":"IFERROR(VLOOKUP(A1018,'1.Портфель кредитів'!A:AC,3,FALSE),\"\")","v":""},{"$f":"IFERROR(VLOOKUP(A1018,'1.Портфель кредитів'!A:AC,14,FALSE),\"\")","v":""},null,null,null,null,null,null,null,null,null,null,null,null,"","",null,{"$f":"IFERROR(VLOOKUP(A1018,'1.Портфель кредитів'!A:AC,30,FALSE),\"\")","v":""},0,{"$error":"#VALUE!"},null,null,null,null,null,{"$f":"VLOOKUP(C1018,Hidden_Словник!$A$2:C$81,3,FALSE)","v":{"$error":"#N/A"}},0,{"$f":"VLOOKUP(E1018,Hidden_Словник!$W$2:$X$13,2,FALSE)","v":{"$error":"#N/A"}},0,{"$error":"#N/A"}]
[null,"",{"$f":"IFERROR(VLOOKUP(A1019,'1.Портфель кредитів'!A:AC,3,FALSE),\"\")","v":""},{"$f":"IFERROR(VLOOKUP(A1019,'1.Портфель кредитів'!A:AC,14,FALSE),\"\")","v":""},null,null,null,null,null,null,null,null,null,null,null,null,"","",null,{"$f":"IFERROR(VLOOKUP(A1019,'1.Портфель кредитів'!A:AC,30,FALSE),\"\")","v":""},0,{"$error":"#VALUE!"},null,null,null,null,null,{"$f":"VLOOKUP(C1019,Hidden_Словник!$A$2:C$81,3,FALSE)","v":{"$error":"#N/A"}},0,{"$f":"VLOOKUP(E1019,Hidden_Словник!$W$2:$X$13,2,FALSE)","v":{"$error":"#N/A"}},0,{"$error":"#N/A"}]
[null,"",{"$f":"IFERROR(VLOOKUP(A1020,'1.Портфель кредитів'!A:AC,3,FALSE),\"\")","v":""},{"$f":"IFERROR(VLOOKUP(A1020,'1.Портфель кредитів'!A:AC,14,FALSE),\"\")","v":""},null,null,null,null,null,null,null,null,null,null,null,null,"","",null,{"$f":"IFERROR(VLOOKUP(A1020,'1.Портфель кредитів'!A:AC,30,FALSE),\"\")","v":""},0,{"$error":"#VALUE!"},null,null,null,null,null,{"$f":"VLOOKUP(C1020,Hidden_Словник!$A$2:C$81,3,FALSE)","v":{"$error":"#N/A"}},0,{"$f":"VLOOKUP(E1020,Hidden_Словник!$W$2:$X$13,2,FALSE)","v":{"$error":"#N/A"}},0,{"$error":"#N/A"}]
[null,"",{"$f":"IFERROR(VLOOKUP(A1021,'1.Портфель кредитів'!A:AC,3,FALSE),\"\")","v":""},{"$f":"IFERROR(VLOOKUP(A1021,'1.Портфель кредитів'!A:AC,14,FALSE),\"\")","v":""},null,null,null,null,null,null,null,null,null,null,null,null,"","",null,{"$f":"IFERROR(VLOOKUP(A1021,'1.Портфель кредитів'!A:AC,30,FALSE),\"\")","v":""},0,{"$error":"#VALUE!"},null,null,null,null,null,{"$f":"VLOOKUP(C1021,Hidden_Словник!$A$2:C$81,3,FALSE)","v":{"$error":"#N/A"}},0,{"$f":"VLOOKUP(E1021,Hidden_Словник!$W$2:$X$13,2,FALSE)","v":{"$error":"#N/A"}},0,{"$error":"#N/A"}]
[null,"",{"$f":"IFERROR(VLOOKUP(A1022,'1.Портфель кредитів'!A:AC,3,FALSE),\"\")","v":""},{"$f":"IFERROR(VLOOKUP(A1022,'1.Портфель кредитів'!A:AC,14,FALSE),\"\")","v":""},null,null,null,null,null,null,null,null,null,null,null,null,"","",null,{"$f":"IFERROR(VLOOKUP(A1022,'1.Портфель кредитів'!A:AC,30,FALSE),\"\")","v":""},0,{"$error":"#VALUE!"},null,null,null,null,null,{"$f":"VLOOKUP(C1022,Hidden_Словник!$A$2:C$81,3,FALSE)","v":{"$error":"#N/A"}},0,{"$f":"VLOOKUP(E1022,Hidden_Словник!$W$2:$X$13,2,FALSE)","v":{"$error":"#N/A"}},0,{"$error":"#N/A"}]
[null,"",{"$f":"IFERROR(VLOOKUP(A1023,'1.Портфель кредитів'!A:AC,3,FALSE),\"\")","v":""},{"$f":"IFERROR(VLOOKUP(A1023,'1.Портфель кредитів'!A:AC,14,FALSE),\"\")","v":""},null,null,null,null,null,null,null,null,null,null,null,null,"","",null,{"$f":"IFERROR(VLOOKUP(A1023,'1.Портфель кредитів'!A:AC,30,FALSE),\"\")","v":""},0,{"$f":"T1023/U1023","v":{"$error":"#VALUE!"}},null,null,null,null,null,{"$f":"VLOOKUP(C1023,Hidden_Словник!$A$2:C$81,3,FALSE)","v":{"$error":"#N/A"}},0,{"$f":"VLOOKUP(E1023,Hidden_Словник!$W$2:$X$13,2,FALSE)","v":{"$error":"#N/A"}},0,{"$error":"#N/A"}]
[null,"",{"$f":"IFERROR(VLOOKUP(A1024,'1.Портфель кредитів'!A:AC,3,FALSE),\"\")","v":""},{"$f":"IFERROR(VLOOKUP(A1024,'1.Портфель кредитів'!A:AC,14,FALSE),\"\")","v":""},null,null,null,null,null,null,null,null,null,null,null,null,"","",null,{"$f":"IFERROR(VLOOKUP(A1024,'1.Портфель кредитів'!A:AC,30,FALSE),\"\")","v":""},0,{"$error":"#VALUE!"},null,null,null,null,null,{"$f":"VLOOKUP(C1024,Hidden_Словник!$A$2:C$81,3,FALSE)","v":{"$error":"#N/A"}},0,{"$f":"VLOOKUP(E1024,Hidden_Словник!$W$2:$X$13,2,FALSE)","v":{"$error":"#N/A"}},0,{"$error":"#N/A"}]
[null,"",{"$f":"IFERROR(VLOOKUP(A1025,'1.Портфель кредитів'!A:AC,3,FALSE),\"\")","v":""},{"$f":"IFERROR(VLOOKUP(A1025,'1.Портфель кредитів'!A:AC,14,FALSE),\"\")","v":""},null,null,null,null,null,null,null,null,null,null,null,null,"","",null,{"$f":"IFERROR(VLOOKUP(A1025,'1.Портфель кредитів'!A:AC,30,FALSE),\"\")","v":""},0,{"$error":"#VALUE!"},null,null,null,null,null,{"$f":"VLOOKUP(C1025,Hidden_Словник!$A$2:C$81,3,FALSE)","v":{"$error":"#N/A"}},0,{"$f":"VLOOKUP(E1025,Hidden_Словник!$W$2:$X$13,2,FALSE)","v":{"$error":"#N/A"}},0,{"$error":"#N/A"}]
[null,"",{"$f":"IFERROR(VLOOKUP(A1026,'1.Портфель кредитів'!A:AC,3,FALSE),\"\")","v":""},{"$f":"IFERROR(VLOOKUP(A1026,'1.Портфель кредитів'!A:AC,14,FALSE),\"\")","v":""},null,null,null,null,null,null,null,null,null,null,null,null,"","",null,{"$f":"IFERROR(VLOOKUP(A1026,'1.Портфель кредитів'!A:AC,30,FALSE),\"\")","v":""},0,{"$error":"#VALUE!"},null,null,null,null,null,{"$f":"VLOOKUP(C1026,Hidden_Словник!$A$2:C$81,3,FALSE)","v":{"$error":"#N/A"}},0,{"$f":"VLOOKUP(E1026,Hidden_Словник!$W$2:$X$13,2,FALSE)","v":{"$error":"#N/A"}},0,{"$error":"#N/A"}]
[null,"",{"$f":"IFERROR(VLOOKUP(A1027,'1.Портфель кредитів'!A:AC,3,FALSE),\"\")","v":""},{"$f":"IFERROR(VLOOKUP(A1027,'1.Портфель кредитів'!A:AC,14,FALSE),\"\")","v":""},null,null,null,null,null,null,null,null,null,null,null,null,"","",null,{"$f":"IFERROR(VLOOKUP(A1027,'1.Портфель кредитів'!A:AC,30,FALSE),\"\")","v":""},0,{"$error":"#VALUE!"},null,null,null,null,null,{"$f":"VLOOKUP(C1027,Hidden_Словник!$A$2:C$81,3,FALSE)","v":{"$error":"#N/A"}},0,{"$f":"VLOOKUP(E1027,Hidden_Словник!$W$2:$X$13,2,FALSE)","v":{"$error":"#N/A"}},0,{"$error":"#N/A"}]
[null,"",{"$f":"IFERROR(VLOOKUP(A1028,'1.Портфель кредитів'!A:AC,3,FALSE),\"\")","v":""},{"$f":"IFERROR(VLOOKUP(A1028,'1.Портфель кредитів'!A:AC,14,FALSE),\"\")","v":""},null,null,null,null,null,null,null,null,null,null,null,null,"","",null,{"$f":"IFERROR(VLOOKUP(A1028,'1.Портфель кредитів'!A:AC,30,FALSE),\"\")","v":""},0,{"$error":"#VALUE!"},null,null,null,null,null,{"$f":"VLOOKUP(C1028,Hidden_Словник!$A$2:C$81,3,FALSE)","v":{"$error":"#N/A"}},0,{"$f":"VLOOKUP(E1028,Hidden_Словник!$W$2:$X$13,2,FALSE)","v":{"$error":"#N/A"}},0,{"$error":"#N/A"}]
[null,"",{"$f":"IFERROR(VLOOKUP(A1029,'1.Портфель кредитів'!A:AC,3,FALSE),\"\")","v":""},{"$f":"IFERROR(VLOOKUP(A1029,'1.Портфель кредитів'!A:AC,14,FALSE),\"\")","v":""},null,null,null,null,null,null,null,null,null,null,null,null,"","",null,{"$f":"IFERROR(VLOOKUP(A1029,'1.Портфель кредитів'!A:AC,30,FALSE),\"\")","v":""},0,{"$error":"#VALUE!"},null,null,null,null,null,{"$f":"VLOOKUP(C1029,Hidden_Словник!$A$2:C$81,3,FALSE)","v":{"$error":"#N/A"}},0,{"$f":"VLOOKUP(E1029,Hidden_Словник!$W$2:$X$13,2,FALSE)","v":{"$error":"#N/A"}},0,{"$error":"#N/A"}]
[null,"",{"$f":"IFERROR(VLOOKUP(A1030,'1.Портфель кредитів'!A:AC,3,FALSE),\"\")","v":""},{"$f":"IFERROR(VLOOKUP(A1030,'1.Портфель кредитів'!A:AC,14,FALSE),\"\")","v":""},null,null,null,null,null,null,null,null,null,null,null,null,"","",null,{"$f":"IFERROR(VLOOKUP(A1030,'1.Портфель кредитів'!A:AC,30,FALSE),\"\")","v":""},0,{"$error":"#VALUE!"},null,null,null,null,null,{"$f":"VLOOKUP(C1030,Hidden_Словник!$A$2:C$81,3,FALSE)","v":{"$error":"#N/A"}},0,{"$f":"VLOOKUP(E1030,Hidden_Словник!$W$2:$X$13,2,FALSE)","v":{"$error":"#N/A"}},0,{"$error":"#N/A"}]
[null,"",{"$f":"IFERROR(VLOOKUP(A1031,'1.Портфель кредитів'!A:AC,3,FALSE),\"\")","v":""},{"$f":"IFERROR(VLOOKUP(A1031,'1.Портфель кредитів'!A:AC,14,FALSE),\"\")","v":""},null,null,null,null,null,null,null,null,null,null,null,null,"","",null,{"$f":"IFERROR(VLOOKUP(A1031,'1.Портфель кредитів'!A:AC,30,FALSE),\"\")","v":""},0,{"$error":"#VALUE!"},null,null,null,null,null,{"$f":"VLOOKUP(C1031,Hidden_Словник!$A$2:C$81,3,FALSE)","v":{"$error":"#N/A"}},0,{"$f":"VLOOKUP(E1031,Hidden_Словник!$W$2:$X$13,2,FALSE)","v":{"$error":"#N/A"}},0,{"$error":"#N/A"}]
[null,"",{"$f":"IFERROR(VLOOKUP(A1032,'1.Портфель кредитів'!A:AC,3,FALSE),\"\")","v":""},{"$f":"IFERROR(VLOOKUP(A1032,'1.Портфель кредитів'!A:AC,14,FALSE),\"\")","v":""},null,null,null,null,null,null,null,null,null,null,null,null,"","",null,{"$f":"IFERROR(VLOOKUP(A1032,'1.Портфель кредитів'!A:AC,30,FALSE),\"\")","v":""},0,{"$error":"#VALUE!"},null,null,null,null,null,{"$f":"VLOOKUP(C1032,Hidden_Словник!$A$2:C$81,3,FALSE)","v":{"$error":"#N/A"}},0,{"$f":"VLOOKUP(E1032,Hidden_Словник!$W$2:$X$13,2,FALSE)","v":{"$error":"#N/A"}},0,{"$error":"#N/A"}]
[null,"",{"$f":"IFERROR(VLOOKUP(A1033,'1.Портфель кредитів'!A:AC,3,FALSE),\"\")","v":""},{"$f":"IFERROR(VLOOKUP(A1033,'1.Портфель кредитів'!A:AC,14,FALSE),\"\")","v":""},null,null,null,null,null,null,null,null,null,null,null,null,"","",null,{"$f":"IFERROR(VLOOKUP(A1033,'1.Портфель кредитів'!A:AC,30,FALSE),\"\")","v":""},0,{"$error":"#VALUE!"},null,null,null,null,null,{"$f":"VLOOKUP(C1033,Hidden_Словник!$A$2:C$81,3,FALSE)","v":{"$error":"#N/A"}},0,{"$f":"VLOOKUP(E1033,Hidden_Словник!$W$2:$X$13,2,FALSE)","v":{"$error":"#N/A"}},0,{"$error":"#N/A"}]
[null,"",{"$f":"IFERROR(VLOOKUP(A1034,'1.Портфель кредитів'!A:AC,3,FALSE),\"\")","v":""},{"$f":"IFERROR(VLOOKUP(A1034,'1.Портфель кредитів'!A:AC,14,FALSE),\"\")","v":""},null,null,null,null,null,null,null,null,null,null,null,null,"","",null,{"$f":"IFERROR(VLOOKUP(A1034,'1.Портфель кредитів'!A:AC,30,FALSE),\"\")","v":""},0,{"$error":"#VALUE!"},null,null,null,null,null,{"$f":"VLOOKUP(C1034,Hidden_Словник!$A$2:C$81,3,FALSE)","v":{"$error":"#N/A"}},0,{"$f":"VLOOKUP(E1034,Hidden_Словник!$W$2:$X$13,2,FALSE)","v":{"$error":"#N/A"}},0,{"$error":"#N/A"}]
[null,"",{"$f":"IFERROR(VLOOKUP(A1035,'1.Портфель кредитів'!A:AC,3,FALSE),\"\")","v":""},{"$f":"IFERROR(VLOOKUP(A1035,'1.Портфель кредитів'!A:AC,14,FALSE),\"\")","v":""},null,null,null,null,null,null,null,null,null,null,null,null,"","",null,{"$f":"IFERROR(VLOOKUP(A1035,'1.Портфель кредитів'!A:AC,30,FALSE),\"\")","v":""},0,{"$error":"#VALUE!"},null,null,null,null,null,{"$f":"VLOOKUP(C1035,Hidden_Словник!$A$2:C$81,3,FALSE)","v":{"$error":"#N/A"}},0,{"$f":"VLOOKUP(E1035,Hidden_Словник!$W$2:$X$13,2,FALSE)","v":{"$error":"#N/A"}},0,{"$error":"#N/A"}]
[null,"",{"$f":"IFERROR(VLOOKUP(A1036,'1.Портфель кредитів'!A:AC,3,FALSE),\"\")","v":""},{"$f":"IFERROR(VLOOKUP(A1036,'1.Портфель кредитів'!A:AC,14,FALSE),\"\")","v":""},null,null,null,null,null,null,null,null,null,null,null,null,"","",null,{"$f":"IFERROR(VLOOKUP(A1036,'1.Портфель кредитів'!A:AC,30,FALSE),\"\")","v":""},0,{"$error":"#VALUE!"},null,null,null,null,null,{"$f":"VLOOKUP(C1036,Hidden_Словник!$A$2:C$81,3,FALSE)","v":{"$error":"#N/A"}},0,{"$f":"VLOOKUP(E1036,Hidden_Словник!$W$2:$X$13,2,FALSE)","v":{"$error":"#N/A"}},0,{"$error":"#N/A"}]
[null,"",{"$f":"IFERROR(VLOOKUP(A1037,'1.Портфель кредитів'!A:AC,3,FALSE),\"\")","v":""},{"$f":"IFERROR(VLOOKUP(A1037,'1.Портфель кредитів'!A:AC,14,FALSE),\"\")","v":""},null,null,null,null,null,null,null,null,null,null,null,null,"","",null,{"$f":"IFERROR(VLOOKUP(A1037,'1.Портфель кредитів'!A:AC,30,FALSE),\"\")","v":""},0,{"$error":"#VALUE!"},null,null,null,null,null,{"$f":"VLOOKUP(C1037,Hidden_Словник!$A$2:C$81,3,FALSE)","v":{"$error":"#N/A"}},0,{"$f":"VLOOKUP(E1037,Hidden_Словник!$W$2:$X$13,2,FALSE)","v":{"$error":"#N/A"}},0,{"$error":"#N/A"}]
[null,"",{"$f":"IFERROR(VLOOKUP(A1038,'1.Портфель кредитів'!A:AC,3,FALSE),\"\")","v":""},{"$f":"IFERROR(VLOOKUP(A1038,'1.Портфель кредитів'!A:AC,14,FALSE),\"\")","v":""},null,null,null,null,null,null,null,null,null,null,null,null,"","",null,{"$f":"IFERROR(VLOOKUP(A1038,'1.Портфель кредитів'!A:AC,30,FALSE),\"\")","v":""},0,{"$error":"#VALUE!"},null,null,null,null,null,{"$f":"VLOOKUP(C1038,Hidden_Словник!$A$2:C$81,3,FALSE)","v":{"$error":"#N/A"}},0,{"$f":"VLOOKUP(E1038,Hidden_Словник!$W$2:$X$13,2,FALSE)","v":{"$error":"#N/A"}},0,{"$error":"#N/A"}]
[null,"",{"$f":"IFERROR(VLOOKUP(A1039,'1.Портфель кредитів'!A:AC,3,FALSE),\"\")","v":""},{"$f":"IFERROR(VLOOKUP(A1039,'1.Портфель кредитів'!A:AC,14,FALSE),\"\")","v":""},null,null,null,null,null,null,null,null,null,null,null,null,"","",null,{"$f":"IFERROR(VLOOKUP(A1039,'1.Портфель кредитів'!A:AC,30,FALSE),\"\")","v":""},0,{"$error":"#VALUE!"},null,null,null,null,null,{"$f":"VLOOKUP(C1039,Hidden_Словник!$A$2:C$81,3,FALSE)","v":{"$error":"#N/A"}},0,{"$f":"VLOOKUP(E1039,Hidden_Словник!$W$2:$X$13,2,FALSE)","v":{"$error":"#N/A"}},0,{"$error":"#N/A"}]
[null,"",{"$f":"IFERROR(VLOOKUP(A1040,'1.Портфель кредитів'!A:AC,3,FALSE),\"\")","v":""},{"$f":"IFERROR(VLOOKUP(A1040,'1.Портфель кредитів'!A:AC,14,FALSE),\"\")","v":""},null,null,null,null,null,null,null,null,null,null,null,null,"","",null,{"$f":"IFERROR(VLOOKUP(A1040,'1.Портфель кредитів'!A:AC,30,FALSE),\"\")","v":""},0,{"$error":"#VALUE!"},null,null,null,null,null,{"$f":"VLOOKUP(C1040,Hidden_Словник!$A$2:C$81,3,FALSE)","v":{"$error":"#N/A"}},0,{"$f":"VLOOKUP(E1040,Hidden_Словник!$W$2:$X$13,2,FALSE)","v":{"$error":"#N/A"}},0,{"$error":"#N/A"}]
[null,"",{"$f":"IFERROR(VLOOKUP(A1041,'1.Портфель кредитів'!A:AC,3,FALSE),\"\")","v":""},{"$f":"IFERROR(VLOOKUP(A1041,'1.Портфель кредитів'!A:AC,14,FALSE),\"\")","v":""},null,null,null,null,null,null,null,null,null,null,null,null,"","",null,{"$f":"IFERROR(VLOOKUP(A1041,'1.Портфель кредитів'!A:AC,30,FALSE),\"\")","v":""},0,{"$error":"#VALUE!"},null,null,null,null,null,{"$f":"VLOOKUP(C1041,Hidden_Словник!$A$2:C$81,3,FALSE)","v":{"$error":"#N/A"}},0,{"$f":"VLOOKUP(E1041,Hidden_Словник!$W$2:$X$13,2,FALSE)","v":{"$error":"#N/A"}},0,{"$error":"#N/A"}]
[null,"",{"$f":"IFERROR(VLOOKUP(A1042,'1.Портфель кредитів'!A:AC,3,FALSE),\"\")","v":""},{"$f":"IFERROR(VLOOKUP(A1042,'1.Портфель кредитів'!A:AC,14,FALSE),\"\")","v":""},null,null,null,null,null,null,null,null,null,null,null,null,"","",null,{"$f":"IFERROR(VLOOKUP(A1042,'1.Портфель кредитів'!A:AC,30,FALSE),\"\")","v":""},0,{"$error":"#VALUE!"},null,null,null,null,null,{"$f":"VLOOKUP(C1042,Hidden_Словник!$A$2:C$81,3,FALSE)","v":{"$error":"#N/A"}},0,{"$f":"VLOOKUP(E1042,Hidden_Словник!$W$2:$X$13,2,FALSE)","v":{"$error":"#N/A"}},0,{"$error":"#N/A"}]
[null,"",{"$f":"IFERROR(VLOOKUP(A1043,'1.Портфель кредитів'!A:AC,3,FALSE),\"\")","v":""},{"$f":"IFERROR(VLOOKUP(A1043,'1.Портфель кредитів'!A:AC,14,FALSE),\"\")","v":""},null,null,null,null,null,null,null,null,null,null,null,null,"","",null,{"$f":"IFERROR(VLOOKUP(A1043,'1.Портфель кредитів'!A:AC,30,FALSE),\"\")","v":""},0,{"$error":"#VALUE!"},null,null,null,null,null,{"$f":"VLOOKUP(C1043,Hidden_Словник!$A$2:C$81,3,FALSE)","v":{"$error":"#N/A"}},0,{"$f":"VLOOKUP(E1043,Hidden_Словник!$W$2:$X$13,2,FALSE)","v":{"$error":"#N/A"}},0,{"$error":"#N/A"}]
[null,"",{"$f":"IFERROR(VLOOKUP(A1044,'1.Портфель кредитів'!A:AC,3,FALSE),\"\")","v":""},{"$f":"IFERROR(VLOOKUP(A1044,'1.Портфель кредитів'!A:AC,14,FALSE),\"\")","v":""},null,null,null,null,null,null,null,null,null,null,null,null,"","",null,{"$f":"IFERROR(VLOOKUP(A1044,'1.Портфель кредитів'!A:AC,30,FALSE),\"\")","v":""},0,{"$error":"#VALUE!"},null,null,null,null,null,{"$f":"VLOOKUP(C1044,Hidden_Словник!$A$2:C$81,3,FALSE)","v":{"$error":"#N/A"}},0,{"$f":"VLOOKUP(E1044,Hidden_Словник!$W$2:$X$13,2,FALSE)","v":{"$error":"#N/A"}},0,{"$error":"#N/A"}]
[null,"",{"$f":"IFERROR(VLOOKUP(A1045,'1.Портфель кредитів'!A:AC,3,FALSE),\"\")","v":""},{"$f":"IFERROR(VLOOKUP(A1045,'1.Портфель кредитів'!A:AC,14,FALSE),\"\")","v":""},null,null,null,null,null,null,null,null,null,null,null,null,"","",null,{"$f":"IFERROR(VLOOKUP(A1045,'1.Портфель кредитів'!A:AC,30,FALSE),\"\")","v":""},0,{"$error":"#VALUE!"},null,null,null,null,null,{"$f":"VLOOKUP(C1045,Hidden_Словник!$A$2:C$81,3,FALSE)","v":{"$error":"#N/A"}},0,{"$f":"VLOOKUP(E1045,Hidden_Словник!$W$2:$X$13,2,FALSE)","v":{"$error":"#N/A"}},0,{"$error":"#N/A"}]
[null,"",{"$f":"IFERROR(VLOOKUP(A1046,'1.Портфель кредитів'!A:AC,3,FALSE),\"\")","v":""},{"$f":"IFERROR(VLOOKUP(A1046,'1.Портфель кредитів'!A:AC,14,FALSE),\"\")","v":""},null,null,null,null,null,null,null,null,null,null,null,null,"",{"$f":"IFERROR(V1046*L1046,\"\")","v":""},null,{"$f":"IFERROR(VLOOKUP(A1046,'1.Портфель кредитів'!A:AC,30,FALSE),\"\")","v":""},0,{"$error":"#VALUE!"},null,null,null,null,null,{"$f":"VLOOKUP(C1046,Hidden_Словник!$A$2:C$81,3,FALSE)","v":{"$error":"#N/A"}},{"$f":"ROUNDUP(L1046,0)","v":0},{"$f":"VLOOKUP(E1046,Hidden_Словник!$W$2:$X$13,2,FALSE)","v":{"$error":"#N/A"}},{"$f":"O1046","v":0},{"$error":"#N/A"}]
[null,{"$f":"IFERROR(AF1047,\"\")","v":""},{"$f":"IFERROR(VLOOKUP(A1047,'1.Портфель кредитів'!A:AC,3,FALSE),\"\")","v":""},{"$f":"IFERROR(VLOOKUP(A1047,'1.Портфель кредитів'!A:AC,14,FALSE),\"\")","v":""},null,null,null,null,null,null,null,null,null,null,null,null,"","",null,{"$f":"IFERROR(VLOOKUP(A1047,'1.Портфель кредитів'!A:AC,30,FALSE),\"\")","v":""},0,{"$error":"#VALUE!"},null,null,null,null,null,{"$f":"VLOOKUP(C1047,Hidden_Словник!$A$2:C$81,3,FALSE)","v":{"$error":"#N/A"}},0,{"$f":"VLOOKUP(E1047,Hidden_Словник!$W$2:$X$13,2,FALSE)","v":{"$error":"#N/A"}},0,{"$f":"AB1047&\"_\"&AC1047&AD1047&AE1047","v":{"$error":"#N/A"}}]
[null,"",{"$f":"IFERROR(VLOOKUP(A1048,'1.Портфель кредитів'!A:AC,3,FALSE),\"\")","v":""},{"$f":"IFERROR(VLOOKUP(A1048,'1.Портфель кредитів'!A:AC,14,FALSE),\"\")","v":""},null,null,null,null,null,null,null,null,null,null,null,null,"","",null,{"$f":"IFERROR(VLOOKUP(A1048,'1.Портфель кредитів'!A:AC,30,FALSE),\"\")","v":""},0,{"$error":"#VALUE!"},null,null,null,null,null,{"$f":"VLOOKUP(C1048,Hidden_Словник!$A$2:C$81,3,FALSE)","v":{"$error":"#N/A"}},0,{"$f":"VLOOKUP(E1048,Hidden_Словник!$W$2:$X$13,2,FALSE)","v":{"$error":"#N/A"}},0,{"$error":"#N/A"}]
[null,"",{"$f":"IFERROR(VLOOKUP(A1049,'1.Портфель кредитів'!A:AC,3,FALSE),\"\")","v":""},{"$f":"IFERROR(VLOOKUP(A1049,'1.Портфель кредитів'!A:AC,14,FALSE),\"\")","v":""},null,null,null,null,null,null,null,null,null,null,null,null,"","",null,{"$f":"IFERROR(VLOOKUP(A1049,'1.Портфель кредитів'!A:AC,30,FALSE),\"\")","v":""},0,{"$error":"#VALUE!"},null,null,null,null,null,{"$f":"VLOOKUP(C1049,Hidden_Словник!$A$2:C$81,3,FALSE)","v":{"$error":"#N/A"}},0,{"$f":"VLOOKUP(E1049,Hidden_Словник!$W$2:$X$13,2,FALSE)","v":{"$error":"#N/A"}},0,{"$error":"#N/A"}]
[null,"",{"$f":"IFERROR(VLOOKUP(A1050,'1.Портфель кредитів'!A:AC,3,FALSE),\"\")","v":""},{"$f":"IFERROR(VLOOKUP(A1050,'1.Портфель кредитів'!A:AC,14,FALSE),\"\")","v":""},null,null,null,null,null,null,null,null,null,null,null,null,{"$f":"IF(O1050=\"\",\"\",IF(COUNTIF(AF:AF,AF1050)>1,\"так\",\"ні\"))","v":""},"",null,{"$f":"IFERROR(VLOOKUP(A1050,'1.Портфель кредитів'!A:AC,30,FALSE),\"\")","v":""},{"$f":"SUMIF(B:B,B1050,T:T)","v":0},{"$error":"#VALUE!"},null,null,null,null,null,{"$f":"VLOOKUP(C1050,Hidden_Словник!$A$2:C$81,3,FALSE)","v":{"$error":"#N/A"}},0,{"$f":"VLOOKUP(E1050,Hidden_Словник!$W$2:$X$13,2,FALSE)","v":{"$error":"#N/A"}},0,{"$error":"#N/A"}]
[null,"",{"$f":"IFERROR(VLOOKUP(A1051,'1.Портфель кредитів'!A:AC,3,FALSE),\"\")","v":""},{"$f":"IFERROR(VLOOKUP(A1051,'1.Портфель кредитів'!A:AC,14,FALSE),\"\")","v":""},null,null,null,null,null,null,null,null,null,null,null,null,"","",null,{"$f":"IFERROR(VLOOKUP(A1051,'1.Портфель кредитів'!A:AC,30,FALSE),\"\")","v":""},0,{"$error":"#VALUE!"},null,null,null,null,null,{"$f":"VLOOKUP(C1051,Hidden_Словник!$A$2:C$81,3,FALSE)","v":{"$error":"#N/A"}},0,{"$f":"VLOOKUP(E1051,Hidden_Словник!$W$2:$X$13,2,FALSE)","v":{"$error":"#N/A"}},0,{"$error":"#N/A"}]
[null,"",{"$f":"IFERROR(VLOOKUP(A1052,'1.Портфель кредитів'!A:AC,3,FALSE),\"\")","v":""},{"$f":"IFERROR(VLOOKUP(A1052,'1.Портфель кредитів'!A:AC,14,FALSE),\"\")","v":""},null,null,null,null,null,null,null,null,null,null,null,null,"","",null,{"$f":"IFERROR(VLOOKUP(A1052,'1.Портфель кредитів'!A:AC,30,FALSE),\"\")","v":""},0,{"$error":"#VALUE!"},null,null,null,null,null,{"$f":"VLOOKUP(C1052,Hidden_Словник!$A$2:C$81,3,FALSE)","v":{"$error":"#N/A"}},0,{"$f":"VLOOKUP(E1052,Hidden_Словник!$W$2:$X$13,2,FALSE)","v":{"$error":"#N/A"}},0,{"$error":"#N/A"}]
[null,"",{"$f":"IFERROR(VLOOKUP(A1053,'1.Портфель кредитів'!A:AC,3,FALSE),\"\")","v":""},{"$f":"IFERROR(VLOOKUP(A1053,'1.Портфель кредитів'!A:AC,14,FALSE),\"\")","v":""},null,null,null,null,null,null,null,null,null,null,null,null,"","",null,{"$f":"IFERROR(VLOOKUP(A1053,'1.Портфель кредитів'!A:AC,30,FALSE),\"\")","v":""},0,{"$error":"#VALUE!"},null,null,null,null,null,{"$f":"VLOOKUP(C1053,Hidden_Словник!$A$2:C$81,3,FALSE)","v":{"$error":"#N/A"}},0,{"$f":"VLOOKUP(E1053,Hidden_Словник!$W$2:$X$13,2,FALSE)","v":{"$error":"#N/A"}},0,{"$error":"#N/A"}]
[null,"",{"$f":"IFERROR(VLOOKUP(A1054,'1.Портфель кредитів'!A:AC,3,FALSE),\"\")","v":""},{"$f":"IFERROR(VLOOKUP(A1054,'1.Портфель кредитів'!A:AC,14,FALSE),\"\")","v":""},null,null,null,null,null,null,null,null,null,null,null,null,"","",null,{"$f":"IFERROR(VLOOKUP(A1054,'1.Портфель кредитів'!A:AC,30,FALSE),\"\")","v":""},0,{"$error":"#VALUE!"},null,null,null,null,null,{"$f":"VLOOKUP(C1054,Hidden_Словник!$A$2:C$81,3,FALSE)","v":{"$error":"#N/A"}},0,{"$f":"VLOOKUP(E1054,Hidden_Словник!$W$2:$X$13,2,FALSE)","v":{"$error":"#N/A"}},0,{"$error":"#N/A"}]
[null,"",{"$f":"IFERROR(VLOOKUP(A1055,'1.Портфель кредитів'!A:AC,3,FALSE),\"\")","v":""},{"$f":"IFERROR(VLOOKUP(A1055,'1.Портфель кредитів'!A:AC,14,FALSE),\"\")","v":""},null,null,null,null,null,null,null,null,null,null,null,null,"","",null,{"$f":"IFERROR(VLOOKUP(A1055,'1.Портфель кредитів'!A:AC,30,FALSE),\"\")","v":""},0,{"$error":"#VALUE!"},null,null,null,null,null,{"$f":"VLOOKUP(C1055,Hidden_Словник!$A$2:C$81,3,FALSE)","v":{"$error":"#N/A"}},0,{"$f":"VLOOKUP(E1055,Hidden_Словник!$W$2:$X$13,2,FALSE)","v":{"$error":"#N/A"}},0,{"$error":"#N/A"}]
[null,"",{"$f":"IFERROR(VLOOKUP(A1056,'1.Портфель кредитів'!A:AC,3,FALSE),\"\")","v":""},{"$f":"IFERROR(VLOOKUP(A1056,'1.Портфель кредитів'!A:AC,14,FALSE),\"\")","v":""},null,null,null,null,null,null,null,null,null,null,null,null,"","",null,{"$f":"IFERROR(VLOOKUP(A1056,'1.Портфель кредитів'!A:AC,30,FALSE),\"\")","v":""},0,{"$error":"#VALUE!"},null,null,null,null,null,{"$f":"VLOOKUP(C1056,Hidden_Словник!$A$2:C$81,3,FALSE)","v":{"$error":"#N/A"}},0,{"$f":"VLOOKUP(E1056,Hidden_Словник!$W$2:$X$13,2,FALSE)","v":{"$error":"#N/A"}},0,{"$error":"#N/A"}]
[null,"",{"$f":"IFERROR(VLOOKUP(A1057,'1.Портфель кредитів'!A:AC,3,FALSE),\"\")","v":""},{"$f":"IFERROR(VLOOKUP(A1057,'1.Портфель кредитів'!A:AC,14,FALSE),\"\")","v":""},null,null,null,null,null,null,null,null,null,null,null,null,"","",null,{"$f":"IFERROR(VLOOKUP(A1057,'1.Портфель кредитів'!A:AC,30,FALSE),\"\")","v":""},0,{"$error":"#VALUE!"},null,null,null,null,null,{"$f":"VLOOKUP(C1057,Hidden_Словник!$A$2:C$81,3,FALSE)","v":{"$error":"#N/A"}},0,{"$f":"VLOOKUP(E1057,Hidden_Словник!$W$2:$X$13,2,FALSE)","v":{"$error":"#N/A"}},0,{"$error":"#N/A"}]
[null,"",{"$f":"IFERROR(VLOOKUP(A1058,'1.Портфель кредитів'!A:AC,3,FALSE),\"\")","v":""},{"$f":"IFERROR(VLOOKUP(A1058,'1.Портфель кредитів'!A:AC,14,FALSE),\"\")","v":""},null,null,null,null,null,null,null,null,null,null,null,null,"","",null,{"$f":"IFERROR(VLOOKUP(A1058,'1.Портфель кредитів'!A:AC,30,FALSE),\"\")","v":""},0,{"$error":"#VALUE!"},null,null,null,null,null,{"$f":"VLOOKUP(C1058,Hidden_Словник!$A$2:C$81,3,FALSE)","v":{"$error":"#N/A"}},0,{"$f":"VLOOKUP(E1058,Hidden_Словник!$W$2:$X$13,2,FALSE)","v":{"$error":"#N/A"}},0,{"$error":"#N/A"}]
[null,"",{"$f":"IFERROR(VLOOKUP(A1059,'1.Портфель кредитів'!A:AC,3,FALSE),\"\")","v":""},{"$f":"IFERROR(VLOOKUP(A1059,'1.Портфель кредитів'!A:AC,14,FALSE),\"\")","v":""},null,null,null,null,null,null,null,null,null,null,null,null,"","",null,{"$f":"IFERROR(VLOOKUP(A1059,'1.Портфель кредитів'!A:AC,30,FALSE),\"\")","v":""},0,{"$error":"#VALUE!"},null,null,null,null,null,{"$f":"VLOOKUP(C1059,Hidden_Словник!$A$2:C$81,3,FALSE)","v":{"$error":"#N/A"}},0,{"$f":"VLOOKUP(E1059,Hidden_Словник!$W$2:$X$13,2,FALSE)","v":{"$error":"#N/A"}},0,{"$error":"#N/A"}]
[null,"",{"$f":"IFERROR(VLOOKUP(A1060,'1.Портфель кредитів'!A:AC,3,FALSE),\"\")","v":""},{"$f":"IFERROR(VLOOKUP(A1060,'1.Портфель кредитів'!A:AC,14,FALSE),\"\")","v":""},null,null,null,null,null,null,null,null,null,null,null,null,"","",null,{"$f":"IFERROR(VLOOKUP(A1060,'1.Портфель кредитів'!A:AC,30,FALSE),\"\")","v":""},0,{"$error":"#VALUE!"},null,null,null,null,null,{"$f":"VLOOKUP(C1060,Hidden_Словник!$A$2:C$81,3,FALSE)","v":{"$error":"#N/A"}},0,{"$f":"VLOOKUP(E1060,Hidden_Словник!$W$2:$X$13,2,FALSE)","v":{"$error":"#N/A"}},0,{"$error":"#N/A"}]
[null,"",{"$f":"IFERROR(VLOOKUP(A1061,'1.Портфель кредитів'!A:AC,3,FALSE),\"\")","v":""},{"$f":"IFERROR(VLOOKUP(A1061,'1.Портфель кредитів'!A:AC,14,FALSE),\"\")","v":""},null,null,null,null,null,null,null,null,null,null,null,null,"","",null,{"$f":"IFERROR(VLOOKUP(A1061,'1.Портфель кредитів'!A:AC,30,FALSE),\"\")","v":""},0,{"$error":"#VALUE!"},null,null,null,null,null,{"$f":"VLOOKUP(C1061,Hidden_Словник!$A$2:C$81,3,FALSE)","v":{"$error":"#N/A"}},0,{"$f":"VLOOKUP(E1061,Hidden_Словник!$W$2:$X$13,2,FALSE)","v":{"$error":"#N/A"}},0,{"$error":"#N/A"}]
[null,"",{"$f":"IFERROR(VLOOKUP(A1062,'1.Портфель кредитів'!A:AC,3,FALSE),\"\")","v":""},{"$f":"IFERROR(VLOOKUP(A1062,'1.Портфель кредитів'!A:AC,14,FALSE),\"\")","v":""},null,null,null,null,null,null,null,null,null,null,null,null,"","",null,{"$f":"IFERROR(VLOOKUP(A1062,'1.Портфель кредитів'!A:AC,30,FALSE),\"\")","v":""},0,{"$error":"#VALUE!"},null,null,null,null,null,{"$f":"VLOOKUP(C1062,Hidden_Словник!$A$2:C$81,3,FALSE)","v":{"$error":"#N/A"}},0,{"$f":"VLOOKUP(E1062,Hidden_Словник!$W$2:$X$13,2,FALSE)","v":{"$error":"#N/A"}},0,{"$error":"#N/A"}]
[null,"",{"$f":"IFERROR(VLOOKUP(A1063,'1.Портфель кредитів'!A:AC,3,FALSE),\"\")","v":""},{"$f":"IFERROR(VLOOKUP(A1063,'1.Портфель кредитів'!A:AC,14,FALSE),\"\")","v":""},null,null,null,null,null,null,null,null,null,null,null,null,"","",null,{"$f":"IFERROR(VLOOKUP(A1063,'1.Портфель кредитів'!A:AC,30,FALSE),\"\")","v":""},0,{"$error":"#VALUE!"},null,null,null,null,null,{"$f":"VLOOKUP(C1063,Hidden_Словник!$A$2:C$81,3,FALSE)","v":{"$error":"#N/A"}},0,{"$f":"VLOOKUP(E1063,Hidden_Словник!$W$2:$X$13,2,FALSE)","v":{"$error":"#N/A"}},0,{"$error":"#N/A"}]
[null,"",{"$f":"IFERROR(VLOOKUP(A1064,'1.Портфель кредитів'!A:AC,3,FALSE),\"\")","v":""},{"$f":"IFERROR(VLOOKUP(A1064,'1.Портфель кредитів'!A:AC,14,FALSE),\"\")","v":""},null,null,null,null,null,null,null,null,null,null,null,null,"","",null,{"$f":"IFERROR(VLOOKUP(A1064,'1.Портфель кредитів'!A:AC,30,FALSE),\"\")","v":""},0,{"$error":"#VALUE!"},null,null,null,null,null,{"$f":"VLOOKUP(C1064,Hidden_Словник!$A$2:C$81,3,FALSE)","v":{"$error":"#N/A"}},0,{"$f":"VLOOKUP(E1064,Hidden_Словник!$W$2:$X$13,2,FALSE)","v":{"$error":"#N/A"}},0,{"$error":"#N/A"}]
[null,"",{"$f":"IFERROR(VLOOKUP(A1065,'1.Портфель кредитів'!A:AC,3,FALSE),\"\")","v":""},{"$f":"IFERROR(VLOOKUP(A1065,'1.Портфель кредитів'!A:AC,14,FALSE),\"\")","v":""},null,null,null,null,null,null,null,null,null,null,null,null,"","",null,{"$f":"IFERROR(VLOOKUP(A1065,'1.Портфель кредитів'!A:AC,30,FALSE),\"\")","v":""},0,{"$error":"#VALUE!"},null,null,null,null,null,{"$f":"VLOOKUP(C1065,Hidden_Словник!$A$2:C$81,3,FALSE)","v":{"$error":"#N/A"}},0,{"$f":"VLOOKUP(E1065,Hidden_Словник!$W$2:$X$13,2,FALSE)","v":{"$error":"#N/A"}},0,{"$error":"#N/A"}]
[null,"",{"$f":"IFERROR(VLOOKUP(A1066,'1.Портфель кредитів'!A:AC,3,FALSE),\"\")","v":""},{"$f":"IFERROR(VLOOKUP(A1066,'1.Портфель кредитів'!A:AC,14,FALSE),\"\")","v":""},null,null,null,null,null,null,null,null,null,null,null,null,"","",null,{"$f":"IFERROR(VLOOKUP(A1066,'1.Портфель кредитів'!A:AC,30,FALSE),\"\")","v":""},0,{"$error":"#VALUE!"},null,null,null,null,null,{"$f":"VLOOKUP(C1066,Hidden_Словник!$A$2:C$81,3,FALSE)","v":{"$error":"#N/A"}},0,{"$f":"VLOOKUP(E1066,Hidden_Словник!$W$2:$X$13,2,FALSE)","v":{"$error":"#N/A"}},0,{"$error":"#N/A"}]
[null,"",{"$f":"IFERROR(VLOOKUP(A1067,'1.Портфель кредитів'!A:AC,3,FALSE),\"\")","v":""},{"$f":"IFERROR(VLOOKUP(A1067,'1.Портфель кредитів'!A:AC,14,FALSE),\"\")","v":""},null,null,null,null,null,null,null,null,null,null,null,null,"","",null,{"$f":"IFERROR(VLOOKUP(A1067,'1.Портфель кредитів'!A:AC,30,FALSE),\"\")","v":""},0,{"$error":"#VALUE!"},null,null,null,null,null,{"$f":"VLOOKUP(C1067,Hidden_Словник!$A$2:C$81,3,FALSE)","v":{"$error":"#N/A"}},0,{"$f":"VLOOKUP(E1067,Hidden_Словник!$W$2:$X$13,2,FALSE)","v":{"$error":"#N/A"}},0,{"$error":"#N/A"}]
[null,"",{"$f":"IFERROR(VLOOKUP(A1068,'1.Портфель кредитів'!A:AC,3,FALSE),\"\")","v":""},{"$f":"IFERROR(VLOOKUP(A1068,'1.Портфель кредитів'!A:AC,14,FALSE),\"\")","v":""},null,null,null,null,null,null,null,null,null,null,null,null,"","",null,{"$f":"IFERROR(VLOOKUP(A1068,'1.Портфель кредитів'!A:AC,30,FALSE),\"\")","v":""},0,{"$error":"#VALUE!"},null,null,null,null,null,{"$f":"VLOOKUP(C1068,Hidden_Словник!$A$2:C$81,3,FALSE)","v":{"$error":"#N/A"}},0,{"$f":"VLOOKUP(E1068,Hidden_Словник!$W$2:$X$13,2,FALSE)","v":{"$error":"#N/A"}},0,{"$error":"#N/A"}]
[null,"",{"$f":"IFERROR(VLOOKUP(A1069,'1.Портфель кредитів'!A:AC,3,FALSE),\"\")","v":""},{"$f":"IFERROR(VLOOKUP(A1069,'1.Портфель кредитів'!A:AC,14,FALSE),\"\")","v":""},null,null,null,null,null,null,null,null,null,null,null,null,"","",null,{"$f":"IFERROR(VLOOKUP(A1069,'1.Портфель кредитів'!A:AC,30,FALSE),\"\")","v":""},0,{"$error":"#VALUE!"},null,null,null,null,null,{"$f":"VLOOKUP(C1069,Hidden_Словник!$A$2:C$81,3,FALSE)","v":{"$error":"#N/A"}},0,{"$f":"VLOOKUP(E1069,Hidden_Словник!$W$2:$X$13,2,FALSE)","v":{"$error":"#N/A"}},0,{"$error":"#N/A"}]
[null,"",{"$f":"IFERROR(VLOOKUP(A1070,'1.Портфель кредитів'!A:AC,3,FALSE),\"\")","v":""},{"$f":"IFERROR(VLOOKUP(A1070,'1.Портфель кредитів'!A:AC,14,FALSE),\"\")","v":""},null,null,null,null,null,null,null,null,null,null,null,null,"","",null,{"$f":"IFERROR(VLOOKUP(A1070,'1.Портфель кредитів'!A:AC,30,FALSE),\"\")","v":""},0,{"$error":"#VALUE!"},null,null,null,null,null,{"$f":"VLOOKUP(C1070,Hidden_Словник!$A$2:C$81,3,FALSE)","v":{"$error":"#N/A"}},0,{"$f":"VLOOKUP(E1070,Hidden_Словник!$W$2:$X$13,2,FALSE)","v":{"$error":"#N/A"}},0,{"$error":"#N/A"}]
[null,"",{"$f":"IFERROR(VLOOKUP(A1071,'1.Портфель кредитів'!A:AC,3,FALSE),\"\")","v":""},{"$f":"IFERROR(VLOOKUP(A1071,'1.Портфель кредитів'!A:AC,14,FALSE),\"\")","v":""},null,null,null,null,null,null,null,null,null,null,null,null,"","",null,{"$f":"IFERROR(VLOOKUP(A1071,'1.Портфель кредитів'!A:AC,30,FALSE),\"\")","v":""},0,{"$error":"#VALUE!"},null,null,null,null,null,{"$f":"VLOOKUP(C1071,Hidden_Словник!$A$2:C$81,3,FALSE)","v":{"$error":"#N/A"}},0,{"$f":"VLOOKUP(E1071,Hidden_Словник!$W$2:$X$13,2,FALSE)","v":{"$error":"#N/A"}},0,{"$error":"#N/A"}]
[null,"",{"$f":"IFERROR(VLOOKUP(A1072,'1.Портфель кредитів'!A:AC,3,FALSE),\"\")","v":""},{"$f":"IFERROR(VLOOKUP(A1072,'1.Портфель кредитів'!A:AC,14,FALSE),\"\")","v":""},null,null,null,null,null,null,null,null,null,null,null,null,"","",null,{"$f":"IFERROR(VLOOKUP(A1072,'1.Портфель кредитів'!A:AC,30,FALSE),\"\")","v":""},0,{"$error":"#VALUE!"},null,null,null,null,null,{"$f":"VLOOKUP(C1072,Hidden_Словник!$A$2:C$81,3,FALSE)","v":{"$error":"#N/A"}},0,{"$f":"VLOOKUP(E1072,Hidden_Словник!$W$2:$X$13,2,FALSE)","v":{"$error":"#N/A"}},0,{"$error":"#N/A"}]
[null,"",{"$f":"IFERROR(VLOOKUP(A1073,'1.Портфель кредитів'!A:AC,3,FALSE),\"\")","v":""},{"$f":"IFERROR(VLOOKUP(A1073,'1.Портфель кредитів'!A:AC,14,FALSE),\"\")","v":""},null,null,null,null,null,null,null,null,null,null,null,null,"","",null,{"$f":"IFERROR(VLOOKUP(A1073,'1.Портфель кредитів'!A:AC,30,FALSE),\"\")","v":""},0,{"$error":"#VALUE!"},null,null,null,null,null,{"$f":"VLOOKUP(C1073,Hidden_Словник!$A$2:C$81,3,FALSE)","v":{"$error":"#N/A"}},0,{"$f":"VLOOKUP(E1073,Hidden_Словник!$W$2:$X$13,2,FALSE)","v":{"$error":"#N/A"}},0,{"$error":"#N/A"}]
[null,"",{"$f":"IFERROR(VLOOKUP(A1074,'1.Портфель кредитів'!A:AC,3,FALSE),\"\")","v":""},{"$f":"IFERROR(VLOOKUP(A1074,'1.Портфель кредитів'!A:AC,14,FALSE),\"\")","v":""},null,null,null,null,null,null,null,null,null,null,null,null,"","",null,{"$f":"IFERROR(VLOOKUP(A1074,'1.Портфель кредитів'!A:AC,30,FALSE),\"\")","v":""},0,{"$error":"#VALUE!"},null,null,null,null,null,{"$f":"VLOOKUP(C1074,Hidden_Словник!$A$2:C$81,3,FALSE)","v":{"$error":"#N/A"}},0,{"$f":"VLOOKUP(E1074,Hidden_Словник!$W$2:$X$13,2,FALSE)","v":{"$error":"#N/A"}},0,{"$error":"#N/A"}]
[null,"",{"$f":"IFERROR(VLOOKUP(A1075,'1.Портфель кредитів'!A:AC,3,FALSE),\"\")","v":""},{"$f":"IFERROR(VLOOKUP(A1075,'1.Портфель кредитів'!A:AC,14,FALSE),\"\")","v":""},null,null,null,null,null,null,null,null,null,null,null,null,"","",null,{"$f":"IFERROR(VLOOKUP(A1075,'1.Портфель кредитів'!A:AC,30,FALSE),\"\")","v":""},0,{"$error":"#VALUE!"},null,null,null,null,null,{"$f":"VLOOKUP(C1075,Hidden_Словник!$A$2:C$81,3,FALSE)","v":{"$error":"#N/A"}},0,{"$f":"VLOOKUP(E1075,Hidden_Словник!$W$2:$X$13,2,FALSE)","v":{"$error":"#N/A"}},0,{"$error":"#N/A"}]
[null,"",{"$f":"IFERROR(VLOOKUP(A1076,'1.Портфель кредитів'!A:AC,3,FALSE),\"\")","v":""},{"$f":"IFERROR(VLOOKUP(A1076,'1.Портфель кредитів'!A:AC,14,FALSE),\"\")","v":""},null,null,null,null,null,null,null,null,null,null,null,null,"","",null,{"$f":"IFERROR(VLOOKUP(A1076,'1.Портфель кредитів'!A:AC,30,FALSE),\"\")","v":""},0,{"$error":"#VALUE!"},null,null,null,null,null,{"$f":"VLOOKUP(C1076,Hidden_Словник!$A$2:C$81,3,FALSE)","v":{"$error":"#N/A"}},0,{"$f":"VLOOKUP(E1076,Hidden_Словник!$W$2:$X$13,2,FALSE)","v":{"$error":"#N/A"}},0,{"$error":"#N/A"}]
[null,"",{"$f":"IFERROR(VLOOKUP(A1077,'1.Портфель кредитів'!A:AC,3,FALSE),\"\")","v":""},{"$f":"IFERROR(VLOOKUP(A1077,'1.Портфель кредитів'!A:AC,14,FALSE),\"\")","v":""},null,null,null,null,null,null,null,null,null,null,null,null,"","",null,{"$f":"IFERROR(VLOOKUP(A1077,'1.Портфель кредитів'!A:AC,30,FALSE),\"\")","v":""},0,{"$error":"#VALUE!"},null,null,null,null,null,{"$f":"VLOOKUP(C1077,Hidden_Словник!$A$2:C$81,3,FALSE)","v":{"$error":"#N/A"}},0,{"$f":"VLOOKUP(E1077,Hidden_Словник!$W$2:$X$13,2,FALSE)","v":{"$error":"#N/A"}},0,{"$error":"#N/A"}]
[null,"",{"$f":"IFERROR(VLOOKUP(A1078,'1.Портфель кредитів'!A:AC,3,FALSE),\"\")","v":""},{"$f":"IFERROR(VLOOKUP(A1078,'1.Портфель кредитів'!A:AC,14,FALSE),\"\")","v":""},null,null,null,null,null,null,null,null,null,null,null,null,"","",null,{"$f":"IFERROR(VLOOKUP(A1078,'1.Портфель кредитів'!A:AC,30,FALSE),\"\")","v":""},0,{"$error":"#VALUE!"},null,null,null,null,null,{"$f":"VLOOKUP(C1078,Hidden_Словник!$A$2:C$81,3,FALSE)","v":{"$error":"#N/A"}},0,{"$f":"VLOOKUP(E1078,Hidden_Словник!$W$2:$X$13,2,FALSE)","v":{"$error":"#N/A"}},0,{"$error":"#N/A"}]
[null,"",{"$f":"IFERROR(VLOOKUP(A1079,'1.Портфель кредитів'!A:AC,3,FALSE),\"\")","v":""},{"$f":"IFERROR(VLOOKUP(A1079,'1.Портфель кредитів'!A:AC,14,FALSE),\"\")","v":""},null,null,null,null,null,null,null,null,null,null,null,null,"","",null,{"$f":"IFERROR(VLOOKUP(A1079,'1.Портфель кредитів'!A:AC,30,FALSE),\"\")","v":""},0,{"$error":"#VALUE!"},null,null,null,null,null,{"$f":"VLOOKUP(C1079,Hidden_Словник!$A$2:C$81,3,FALSE)","v":{"$error":"#N/A"}},0,{"$f":"VLOOKUP(E1079,Hidden_Словник!$W$2:$X$13,2,FALSE)","v":{"$error":"#N/A"}},0,{"$error":"#N/A"}]
[null,"",{"$f":"IFERROR(VLOOKUP(A1080,'1.Портфель кредитів'!A:AC,3,FALSE),\"\")","v":""},{"$f":"IFERROR(VLOOKUP(A1080,'1.Портфель кредитів'!A:AC,14,FALSE),\"\")","v":""},null,null,null,null,null,null,null,null,null,null,null,null,"","",null,{"$f":"IFERROR(VLOOKUP(A1080,'1.Портфель кредитів'!A:AC,30,FALSE),\"\")","v":""},0,{"$error":"#VALUE!"},null,null,null,null,null,{"$f":"VLOOKUP(C1080,Hidden_Словник!$A$2:C$81,3,FALSE)","v":{"$error":"#N/A"}},0,{"$f":"VLOOKUP(E1080,Hidden_Словник!$W$2:$X$13,2,FALSE)","v":{"$error":"#N/A"}},0,{"$error":"#N/A"}]
[null,"",{"$f":"IFERROR(VLOOKUP(A1081,'1.Портфель кредитів'!A:AC,3,FALSE),\"\")","v":""},{"$f":"IFERROR(VLOOKUP(A1081,'1.Портфель кредитів'!A:AC,14,FALSE),\"\")","v":""},null,null,null,null,null,null,null,null,null,null,null,null,"","",null,{"$f":"IFERROR(VLOOKUP(A1081,'1.Портфель кредитів'!A:AC,30,FALSE),\"\")","v":""},0,{"$error":"#VALUE!"},null,null,null,null,null,{"$f":"VLOOKUP(C1081,Hidden_Словник!$A$2:C$81,3,FALSE)","v":{"$error":"#N/A"}},0,{"$f":"VLOOKUP(E1081,Hidden_Словник!$W$2:$X$13,2,FALSE)","v":{"$error":"#N/A"}},0,{"$error":"#N/A"}]
[null,"",{"$f":"IFERROR(VLOOKUP(A1082,'1.Портфель кредитів'!A:AC,3,FALSE),\"\")","v":""},{"$f":"IFERROR(VLOOKUP(A1082,'1.Портфель кредитів'!A:AC,14,FALSE),\"\")","v":""},null,null,null,null,null,null,null,null,null,null,null,null,"","",null,{"$f":"IFERROR(VLOOKUP(A1082,'1.Портфель кредитів'!A:AC,30,FALSE),\"\")","v":""},0,{"$error":"#VALUE!"},null,null,null,null,null,{"$f":"VLOOKUP(C1082,Hidden_Словник!$A$2:C$81,3,FALSE)","v":{"$error":"#N/A"}},0,{"$f":"VLOOKUP(E1082,Hidden_Словник!$W$2:$X$13,2,FALSE)","v":{"$error":"#N/A"}},0,{"$error":"#N/A"}]
[null,"",{"$f":"IFERROR(VLOOKUP(A1083,'1.Портфель кредитів'!A:AC,3,FALSE),\"\")","v":""},{"$f":"IFERROR(VLOOKUP(A1083,'1.Портфель кредитів'!A:AC,14,FALSE),\"\")","v":""},null,null,null,null,null,null,null,null,null,null,null,null,"","",null,{"$f":"IFERROR(VLOOKUP(A1083,'1.Портфель кредитів'!A:AC,30,FALSE),\"\")","v":""},0,{"$error":"#VALUE!"},null,null,null,null,null,{"$f":"VLOOKUP(C1083,Hidden_Словник!$A$2:C$81,3,FALSE)","v":{"$error":"#N/A"}},0,{"$f":"VLOOKUP(E1083,Hidden_Словник!$W$2:$X$13,2,FALSE)","v":{"$error":"#N/A"}},0,{"$error":"#N/A"}]
[null,"",{"$f":"IFERROR(VLOOKUP(A1084,'1.Портфель кредитів'!A:AC,3,FALSE),\"\")","v":""},{"$f":"IFERROR(VLOOKUP(A1084,'1.Портфель кредитів'!A:AC,14,FALSE),\"\")","v":""},null,null,null,null,null,null,null,null,null,null,null,null,"","",null,{"$f":"IFERROR(VLOOKUP(A1084,'1.Портфель кредитів'!A:AC,30,FALSE),\"\")","v":""},0,{"$error":"#VALUE!"},null,null,null,null,null,{"$f":"VLOOKUP(C1084,Hidden_Словник!$A$2:C$81,3,FALSE)","v":{"$error":"#N/A"}},0,{"$f":"VLOOKUP(E1084,Hidden_Словник!$W$2:$X$13,2,FALSE)","v":{"$error":"#N/A"}},0,{"$error":"#N/A"}]
[null,"",{"$f":"IFERROR(VLOOKUP(A1085,'1.Портфель кредитів'!A:AC,3,FALSE),\"\")","v":""},{"$f":"IFERROR(VLOOKUP(A1085,'1.Портфель кредитів'!A:AC,14,FALSE),\"\")","v":""},null,null,null,null,null,null,null,null,null,null,null,null,"","",null,{"$f":"IFERROR(VLOOKUP(A1085,'1.Портфель кредитів'!A:AC,30,FALSE),\"\")","v":""},0,{"$error":"#VALUE!"},null,null,null,null,null,{"$f":"VLOOKUP(C1085,Hidden_Словник!$A$2:C$81,3,FALSE)","v":{"$error":"#N/A"}},0,{"$f":"VLOOKUP(E1085,Hidden_Словник!$W$2:$X$13,2,FALSE)","v":{"$error":"#N/A"}},0,{"$error":"#N/A"}]
[null,"",{"$f":"IFERROR(VLOOKUP(A1086,'1.Портфель кредитів'!A:AC,3,FALSE),\"\")","v":""},{"$f":"IFERROR(VLOOKUP(A1086,'1.Портфель кредитів'!A:AC,14,FALSE),\"\")","v":""},null,null,null,null,null,null,null,null,null,null,null,null,"","",null,{"$f":"IFERROR(VLOOKUP(A1086,'1.Портфель кредитів'!A:AC,30,FALSE),\"\")","v":""},0,{"$error":"#VALUE!"},null,null,null,null,null,{"$f":"VLOOKUP(C1086,Hidden_Словник!$A$2:C$81,3,FALSE)","v":{"$error":"#N/A"}},0,{"$f":"VLOOKUP(E1086,Hidden_Словник!$W$2:$X$13,2,FALSE)","v":{"$error":"#N/A"}},0,{"$error":"#N/A"}]
[null,"",{"$f":"IFERROR(VLOOKUP(A1087,'1.Портфель кредитів'!A:AC,3,FALSE),\"\")","v":""},{"$f":"IFERROR(VLOOKUP(A1087,'1.Портфель кредитів'!A:AC,14,FALSE),\"\")","v":""},null,null,null,null,null,null,null,null,null,null,null,null,"","",null,{"$f":"IFERROR(VLOOKUP(A1087,'1.Портфель кредитів'!A:AC,30,FALSE),\"\")","v":""},0,{"$f":"T1087/U1087","v":{"$error":"#VALUE!"}},null,null,null,null,null,{"$f":"VLOOKUP(C1087,Hidden_Словник!$A$2:C$81,3,FALSE)","v":{"$error":"#N/A"}},0,{"$f":"VLOOKUP(E1087,Hidden_Словник!$W$2:$X$13,2,FALSE)","v":{"$error":"#N/A"}},0,{"$error":"#N/A"}]
[null,"",{"$f":"IFERROR(VLOOKUP(A1088,'1.Портфель кредитів'!A:AC,3,FALSE),\"\")","v":""},{"$f":"IFERROR(VLOOKUP(A1088,'1.Портфель кредитів'!A:AC,14,FALSE),\"\")","v":""},null,null,null,null,null,null,null,null,null,null,null,null,"","",null,{"$f":"IFERROR(VLOOKUP(A1088,'1.Портфель кредитів'!A:AC,30,FALSE),\"\")","v":""},0,{"$error":"#VALUE!"},null,null,null,null,null,{"$f":"VLOOKUP(C1088,Hidden_Словник!$A$2:C$81,3,FALSE)","v":{"$error":"#N/A"}},0,{"$f":"VLOOKUP(E1088,Hidden_Словник!$W$2:$X$13,2,FALSE)","v":{"$error":"#N/A"}},0,{"$error":"#N/A"}]
[null,"",{"$f":"IFERROR(VLOOKUP(A1089,'1.Портфель кредитів'!A:AC,3,FALSE),\"\")","v":""},{"$f":"IFERROR(VLOOKUP(A1089,'1.Портфель кредитів'!A:AC,14,FALSE),\"\")","v":""},null,null,null,null,null,null,null,null,null,null,null,null,"","",null,{"$f":"IFERROR(VLOOKUP(A1089,'1.Портфель кредитів'!A:AC,30,FALSE),\"\")","v":""},0,{"$error":"#VALUE!"},null,null,null,null,null,{"$f":"VLOOKUP(C1089,Hidden_Словник!$A$2:C$81,3,FALSE)","v":{"$error":"#N/A"}},0,{"$f":"VLOOKUP(E1089,Hidden_Словник!$W$2:$X$13,2,FALSE)","v":{"$error":"#N/A"}},0,{"$error":"#N/A"}]
[null,"",{"$f":"IFERROR(VLOOKUP(A1090,'1.Портфель кредитів'!A:AC,3,FALSE),\"\")","v":""},{"$f":"IFERROR(VLOOKUP(A1090,'1.Портфель кредитів'!A:AC,14,FALSE),\"\")","v":""},null,null,null,null,null,null,null,null,null,null,null,null,"","",null,{"$f":"IFERROR(VLOOKUP(A1090,'1.Портфель кредитів'!A:AC,30,FALSE),\"\")","v":""},0,{"$error":"#VALUE!"},null,null,null,null,null,{"$f":"VLOOKUP(C1090,Hidden_Словник!$A$2:C$81,3,FALSE)","v":{"$error":"#N/A"}},0,{"$f":"VLOOKUP(E1090,Hidden_Словник!$W$2:$X$13,2,FALSE)","v":{"$error":"#N/A"}},0,{"$error":"#N/A"}]
[null,"",{"$f":"IFERROR(VLOOKUP(A1091,'1.Портфель кредитів'!A:AC,3,FALSE),\"\")","v":""},{"$f":"IFERROR(VLOOKUP(A1091,'1.Портфель кредитів'!A:AC,14,FALSE),\"\")","v":""},null,null,null,null,null,null,null,null,null,null,null,null,"","",null,{"$f":"IFERROR(VLOOKUP(A1091,'1.Портфель кредитів'!A:AC,30,FALSE),\"\")","v":""},0,{"$error":"#VALUE!"},null,null,null,null,null,{"$f":"VLOOKUP(C1091,Hidden_Словник!$A$2:C$81,3,FALSE)","v":{"$error":"#N/A"}},0,{"$f":"VLOOKUP(E1091,Hidden_Словник!$W$2:$X$13,2,FALSE)","v":{"$error":"#N/A"}},0,{"$error":"#N/A"}]
[null,"",{"$f":"IFERROR(VLOOKUP(A1092,'1.Портфель кредитів'!A:AC,3,FALSE),\"\")","v":""},{"$f":"IFERROR(VLOOKUP(A1092,'1.Портфель кредитів'!A:AC,14,FALSE),\"\")","v":""},null,null,null,null,null,null,null,null,null,null,null,null,"","",null,{"$f":"IFERROR(VLOOKUP(A1092,'1.Портфель кредитів'!A:AC,30,FALSE),\"\")","v":""},0,{"$error":"#VALUE!"},null,null,null,null,null,{"$f":"VLOOKUP(C1092,Hidden_Словник!$A$2:C$81,3,FALSE)","v":{"$error":"#N/A"}},0,{"$f":"VLOOKUP(E1092,Hidden_Словник!$W$2:$X$13,2,FALSE)","v":{"$error":"#N/A"}},0,{"$error":"#N/A"}]
[null,"",{"$f":"IFERROR(VLOOKUP(A1093,'1.Портфель кредитів'!A:AC,3,FALSE),\"\")","v":""},{"$f":"IFERROR(VLOOKUP(A1093,'1.Портфель кредитів'!A:AC,14,FALSE),\"\")","v":""},null,null,null,null,null,null,null,null,null,null,null,null,"","",null,{"$f":"IFERROR(VLOOKUP(A1093,'1.Портфель кредитів'!A:AC,30,FALSE),\"\")","v":""},0,{"$error":"#VALUE!"},null,null,null,null,null,{"$f":"VLOOKUP(C1093,Hidden_Словник!$A$2:C$81,3,FALSE)","v":{"$error":"#N/A"}},0,{"$f":"VLOOKUP(E1093,Hidden_Словник!$W$2:$X$13,2,FALSE)","v":{"$error":"#N/A"}},0,{"$error":"#N/A"}]
[null,"",{"$f":"IFERROR(VLOOKUP(A1094,'1.Портфель кредитів'!A:AC,3,FALSE),\"\")","v":""},{"$f":"IFERROR(VLOOKUP(A1094,'1.Портфель кредитів'!A:AC,14,FALSE),\"\")","v":""},null,null,null,null,null,null,null,null,null,null,null,null,"","",null,{"$f":"IFERROR(VLOOKUP(A1094,'1.Портфель кредитів'!A:AC,30,FALSE),\"\")","v":""},0,{"$error":"#VALUE!"},null,null,null,null,null,{"$f":"VLOOKUP(C1094,Hidden_Словник!$A$2:C$81,3,FALSE)","v":{"$error":"#N/A"}},0,{"$f":"VLOOKUP(E1094,Hidden_Словник!$W$2:$X$13,2,FALSE)","v":{"$error":"#N/A"}},0,{"$error":"#N/A"}]
[null,"",{"$f":"IFERROR(VLOOKUP(A1095,'1.Портфель кредитів'!A:AC,3,FALSE),\"\")","v":""},{"$f":"IFERROR(VLOOKUP(A1095,'1.Портфель кредитів'!A:AC,14,FALSE),\"\")","v":""},null,null,null,null,null,null,null,null,null,null,null,null,"","",null,{"$f":"IFERROR(VLOOKUP(A1095,'1.Портфель кредитів'!A:AC,30,FALSE),\"\")","v":""},0,{"$error":"#VALUE!"},null,null,null,null,null,{"$f":"VLOOKUP(C1095,Hidden_Словник!$A$2:C$81,3,FALSE)","v":{"$error":"#N/A"}},0,{"$f":"VLOOKUP(E1095,Hidden_Словник!$W$2:$X$13,2,FALSE)","v":{"$error":"#N/A"}},0,{"$error":"#N/A"}]
[null,"",{"$f":"IFERROR(VLOOKUP(A1096,'1.Портфель кредитів'!A:AC,3,FALSE),\"\")","v":""},{"$f":"IFERROR(VLOOKUP(A1096,'1.Портфель кредитів'!A:AC,14,FALSE),\"\")","v":""},null,null,null,null,null,null,null,null,null,null,null,null,"","",null,{"$f":"IFERROR(VLOOKUP(A1096,'1.Портфель кредитів'!A:AC,30,FALSE),\"\")","v":""},0,{"$error":"#VALUE!"},null,null,null,null,null,{"$f":"VLOOKUP(C1096,Hidden_Словник!$A$2:C$81,3,FALSE)","v":{"$error":"#N/A"}},0,{"$f":"VLOOKUP(E1096,Hidden_Словник!$W$2:$X$13,2,FALSE)","v":{"$error":"#N/A"}},0,{"$error":"#N/A"}]
[null,"",{"$f":"IFERROR(VLOOKUP(A1097,'1.Портфель кредитів'!A:AC,3,FALSE),\"\")","v":""},{"$f":"IFERROR(VLOOKUP(A1097,'1.Портфель кредитів'!A:AC,14,FALSE),\"\")","v":""},null,null,null,null,null,null,null,null,null,null,null,null,"","",null,{"$f":"IFERROR(VLOOKUP(A1097,'1.Портфель кредитів'!A:AC,30,FALSE),\"\")","v":""},0,{"$error":"#VALUE!"},null,null,null,null,null,{"$f":"VLOOKUP(C1097,Hidden_Словник!$A$2:C$81,3,FALSE)","v":{"$error":"#N/A"}},0,{"$f":"VLOOKUP(E1097,Hidden_Словник!$W$2:$X$13,2,FALSE)","v":{"$error":"#N/A"}},0,{"$error":"#N/A"}]
[null,"",{"$f":"IFERROR(VLOOKUP(A1098,'1.Портфель кредитів'!A:AC,3,FALSE),\"\")","v":""},{"$f":"IFERROR(VLOOKUP(A1098,'1.Портфель кредитів'!A:AC,14,FALSE),\"\")","v":""},null,null,null,null,null,null,null,null,null,null,null,null,"","",null,{"$f":"IFERROR(VLOOKUP(A1098,'1.Портфель кредитів'!A:AC,30,FALSE),\"\")","v":""},0,{"$error":"#VALUE!"},null,null,null,null,null,{"$f":"VLOOKUP(C1098,Hidden_Словник!$A$2:C$81,3,FALSE)","v":{"$error":"#N/A"}},0,{"$f":"VLOOKUP(E1098,Hidden_Словник!$W$2:$X$13,2,FALSE)","v":{"$error":"#N/A"}},0,{"$error":"#N/A"}]
[null,"",{"$f":"IFERROR(VLOOKUP(A1099,'1.Портфель кредитів'!A:AC,3,FALSE),\"\")","v":""},{"$f":"IFERROR(VLOOKUP(A1099,'1.Портфель кредитів'!A:AC,14,FALSE),\"\")","v":""},null,null,null,null,null,null,null,null,null,null,null,null,"","",null,{"$f":"IFERROR(VLOOKUP(A1099,'1.Портфель кредитів'!A:AC,30,FALSE),\"\")","v":""},0,{"$error":"#VALUE!"},null,null,null,null,null,{"$f":"VLOOKUP(C1099,Hidden_Словник!$A$2:C$81,3,FALSE)","v":{"$error":"#N/A"}},0,{"$f":"VLOOKUP(E1099,Hidden_Словник!$W$2:$X$13,2,FALSE)","v":{"$error":"#N/A"}},0,{"$error":"#N/A"}]

{"sheet":"3.ППР","index":2,"n_rows":1578,"n_cols":18,"rows_kept":1578,"cut":false,"hidden":false,"merged":[[6,0,7,0],[6,2,7,2],[6,1,7,1],[25,3,25,5],[0,6,4,15],[6,17,7,17],[6,8,6,10],[6,3,6,7],[6,11,6,16]]}
[null,null,null,null,null,null,"Цей документ був підготовлений Фондом гарантування вкладів фізичних осіб (далі – Фонд) виключно для інформаційних цілей і не повинен вважатися як спонукання до будь-яких дій чи бездіяльності. \nІнформація, що міститься в цьому документі, була отримана з/або ґрунтується на джерелах, які вважаються надійними, але не є вичерпною та не може сприйматися як повна або актуальна. Зокрема, але не виключно, станом на дату придбання активів допускаються несуттєві зміни лота, в складі якого продаються такі активи. Під несуттєвими змінами лота слід розуміти такі зміни характеристик активів у складі такого лота, які впливають на його балансову вартість, але не більше ніж на 10 відсотків. Рішення покупця щодо будь-яких дій або бездіяльності повинно ґрунтуватися на власних оцінках та дослідженнях майна (активу/активів), котре реалізується. Фонд не несе відповідальності за рішення покупця та його наслідки, що ґрунтується на інформації, викладеній в даному документі."]
[]
[]
[]
[]
[]
["unicid","Банк","№ кред. Дог","Розгляд справи у суді",null,null,null,null,"ДВС",null,null,"Банкрутство",null,null,null,null,null,"Кримінальне провадження за кредитною угодою\n(Так/Ні)"]
[null,null,null,"Предмет спору","Відповідач (позичальник/поручитель)","Дата надіслання вимоги / претензії","Дати звернення до суду","Стан розгляду справи у суді (короткий опис)","Дата провадження","Процесс (Так/Ні)","Реалізація майна (Так/Ні)","Дата провадження","Банк заявлений як кредитор (Так/Ні)","Банк внесенний в реєстр кредиторів (Так/Ні)","Дата визнання позичальника банкрутом","Дата визнання підприємства ліквідованим","Банкрутство фінансового поручителя"]
[1,{"$f":"IFERROR(VLOOKUP(A9,'1.Портфель кредитів'!A:AC,3,FALSE),\"\")","v":"321712"},"-","н/д",null,null,null,null,"-","НІ","НІ","-","НІ","НІ",null,null,null,"НІ"]
[2,{"$f":"IFERROR(VLOOKUP(A10,'1.Портфель кредитів'!A:AC,3,FALSE),\"\")","v":"321712"},"-","н/д",null,null,null,null,"-","НІ","НІ",null,"НІ","НІ",null,null,null,"НІ"]
[3,{"$f":"IFERROR(VLOOKUP(A11,'1.Портфель кредитів'!A:AC,3,FALSE),\"\")","v":"321712"},"-","н/д",null,null,null,null,"-","НІ","НІ",null,"НІ","НІ",null,null,null,"НІ"]
[4,{"$f":"IFERROR(VLOOKUP(A12,'1.Портфель кредитів'!A:AC,3,FALSE),\"\")","v":"321712"},"-","н/д",null,null,null,null,"-","НІ","НІ","-","НІ","НІ",null,null,null,"НІ"]
[5,{"$f":"IFERROR(VLOOKUP(A13,'1.Портфель кредитів'!A:AC,3,FALSE),\"\")","v":"321712"},"-","н/д",null,null,null,null,"-","НІ","НІ","-","НІ","НІ","2018-01-25","2018-02-02",null,"так"]
[6,{"$f":"IFERROR(VLOOKUP(A14,'1.Портфель кредитів'!A:AC,3,FALSE),\"\")","v":"321712"},"-","Заявлено кредиторські вимоги у справі про банкрутство , які виникли за Кредитним договором","Товариство-емітент","04.07.2017","04.07.2017","На даний час розгляд справи триває","-","НІ","НІ","-","НІ","НІ",null,null,null,"так"]
[7,{"$f":"IFERROR(VLOOKUP(A15,'1.Портфель кредитів'!A:AC,3,FALSE),\"\")","v":"321712"},"-","н/д",null,null,null,null,"-","НІ","НІ","-","НІ","НІ",null,null,null,"так"]
[8,{"$f":"IFERROR(VLOOKUP(A16,'1.Портфель кредитів'!A:AC,3,FALSE),\"\")","v":"321712"},"-","н/д",null,null,null,null,"-","НІ","НІ","-","НІ","НІ",null,null,null,"так"]
[9,{"$f":"IFERROR(VLOOKUP(A17,'1.Портфель кредитів'!A:AC,3,FALSE),\"\")","v":"321712"},"-","н/д",null,null,null,null,"-","НІ","НІ","2011-06-30","НІ","НІ","2012-04-09","2012-04-20",null,"НІ"]
[10,{"$f":"IFERROR(VLOOKUP(A18,'1.Портфель кредитів'!A:AC,3,FALSE),\"\")","v":"321712"},"-","н/д",null,null,null,null,"-","НІ","НІ","2016-09-06","НІ","НІ","2017-03-28","2017-04-26",null,"так"]
[11,{"$f":"IFERROR(VLOOKUP(A19,'1.Портфель кредитів'!A:AC,3,FALSE),\"\")","v":"321712"},"-","н/д",null,null,null,null,"-","НІ","НІ","-","НІ","НІ",null,null,null,"НІ"]
[12,{"$f":"IFERROR(VLOOKUP(A20,'1.Портфель кредитів'!A:AC,3,FALSE),\"\")","v":"321712"},"-","н/д",null,null,null,null,"-","НІ","НІ","2010-03-03","так","так","2010-06-18","2010-06-18",null,"НІ"]
[]
[]
[]
[]
[null,{"$f":"IFERROR(VLOOKUP(A25,'1.Портфель кредитів'!A:AC,3,FALSE),\"\")","v":""},{"$f":"IFERROR(VLOOKUP(A25,'1.Портфель кредитів'!A:AC,14,FALSE),\"\")","v":""}]
[null,{"$f":"IFERROR(VLOOKUP(A26,'1.Портфель кредитів'!A:AC,3,FALSE),\"\")","v":""},{"$f":"IFERROR(VLOOKUP(A26,'1.Портфель кредитів'!A:AC,14,FALSE),\"\")","v":""}]
[null,{"$f":"IFERROR(VLOOKUP(A27,'1.Портфель кредитів'!A:AC,3,FALSE),\"\")","v":""},{"$f":"IFERROR(VLOOKUP(A27,'1.Портфель кредитів'!A:AC,14,FALSE),\"\")","v":""}]
[null,{"$f":"IFERROR(VLOOKUP(A28,'1.Портфель кредитів'!A:AC,3,FALSE),\"\")","v":""},{"$f":"IFERROR(VLOOKUP(A28,'1.Портфель кредитів'!A:AC,14,FALSE),\"\")","v":""}]
[null,{"$f":"IFERROR(VLOOKUP(A29,'1.Портфель кредитів'!A:AC,3,FALSE),\"\")","v":""},{"$f":"IFERROR(VLOOKUP(A29,'1.Портфель кредитів'!A:AC,14,FALSE),\"\")","v":""}]
[null,{"$f":"IFERROR(VLOOKUP(A30,'1.Портфель кредитів'!A:AC,3,FALSE),\"\")","v":""},{"$f":"IFERROR(VLOOKUP(A30,'1.Портфель кредитів'!A:AC,14,FALSE),\"\")","v":""}]
[null,{"$f":"IFERROR(VLOOKUP(A31,'1.Портфель кредитів'!A:AC,3,FALSE),\"\")","v":""},{"$f":"IFERROR(VLOOKUP(A31,'1.Портфель кредитів'!A:AC,14,FALSE),\"\")","v":""}]
[null,{"$f":"IFERROR(VLOOKUP(A32,'1.Портфель кредитів'!A:AC,3,FALSE),\"\")","v":""},{"$f":"IFERROR(VLOOKUP(A32,'1.Портфель кредитів'!A:AC,14,FALSE),\"\")","v":""}]
[null,{"$f":"IFERROR(VLOOKUP(A33,'1.Портфель кредитів'!A:AC,3,FALSE),\"\")","v":""},{"$f":"IFERROR(VLOOKUP(A33,'1.Портфель кредитів'!A:AC,14,FALSE),\"\")","v":""}]
[null,{"$f":"IFERROR(VLOOKUP(A34,'1.Портфель кредитів'!A:AC,3,FALSE),\"\")","v":""},{"$f":"IFERROR(VLOOKUP(A34,'1.Портфель кредитів'!A:AC,14,FALSE),\"\")","v":""}]
[null,{"$f":"IFERROR(VLOOKUP(A35,'1.Портфель кредитів'!A:AC,3,FALSE),\"\")","v":""},{"$f":"IFERROR(VLOOKUP(A35,'1.Портфель кредитів'!A:AC,14,FALSE),\"\")","v":""}]
[null,{"$f":"IFERROR(VLOOKUP(A36,'1.Портфель кредитів'!A:AC,3,FALSE),\"\")","v":""},{"$f":"IFERROR(VLOOKUP(A36,'1.Портфель кредитів'!A:AC,14,FALSE),\"\")","v":""}]
[null,{"$f":"IFERROR(VLOOKUP(A37,'1.Портфель кредитів'!A:AC,3,FALSE),\"\")","v":""},{"$f":"IFERROR(VLOOKUP(A37,'1.Портфель кредитів'!A:AC,14,FALSE),\"\")","v":""}]
[null,{"$f":"IFERROR(VLOOKUP(A38,'1.Портфель кредитів'!A:AC,3,FALSE),\"\")","v":""},{"$f":"IFERROR(VLOOKUP(A38,'1.Портфель кредитів'!A:AC,14,FALSE),\"\")","v":""}]
[null,{"$f":"IFERROR(VLOOKUP(A39,'1.Портфель кредитів'!A:AC,3,FALSE),\"\")","v":""},{"$f":"IFERROR(VLOOKUP(A39,'1.Портфель кредитів'!A:AC,14,FALSE),\"\")","v":""}]
[null,{"$f":"IFERROR(VLOOKUP(A40,'1.Портфель кредитів'!A:AC,3,FALSE),\"\")","v":""},{"$f":"IFERROR(VLOOKUP(A40,'1.Портфель кредитів'!A:AC,14,FALSE),\"\")","v":""}]
[null,{"$f":"IFERROR(VLOOKUP(A41,'1.Портфель кредитів'!A:AC,3,FALSE),\"\")","v":""},{"$f":"IFERROR(VLOOKUP(A41,'1.Портфель кредитів'!A:AC,14,FALSE),\"\")","v":""}]
[null,{"$f":"IFERROR(VLOOKUP(A42,'1.Портфель кредитів'!A:AC,3,FALSE),\"\")","v":""},{"$f":"IFERROR(VLOOKUP(A42,'1.Портфель кредитів'!A:AC,14,FALSE),\"\")","v":""}]
[null,{"$f":"IFERROR(VLOOKUP(A43,'1.Портфель кредитів'!A:AC,3,FALSE),\"\")","v":""},{"$f":"IFERROR(VLOOKUP(A43,'1.Портфель кредитів'!A:AC,14,FALSE),\"\")","v":""}]
[null,{"$f":"IFERROR(VLOOKUP(A44,'1.Портфель кредитів'!A:AC,3,FALSE),\"\")","v":""},{"$f":"IFERROR(VLOOKUP(A44,'1.Портфель кредитів'!A:AC,14,FALSE),\"\")","v":""}]
[null,{"$f":"IFERROR(VLOOKUP(A45,'1.Портфель кредитів'!A:AC,3,FALSE),\"\")","v":""},{"$f":"IFERROR(VLOOKUP(A45,'1.Портфель кредитів'!A:AC,14,FALSE),\"\")","v":""}]
[null,{"$f":"IFERROR(VLOOKUP(A46,'1.Портфель кредитів'!A:AC,3,FALSE),\"\")","v":""},{"$f":"IFERROR(VLOOKUP(A46,'1.Портфель кредитів'!A:AC,14,FALSE),\"\")","v":""}]
[null,{"$f":"IFERROR(VLOOKUP(A47,'1.Портфель кредитів'!A:AC,3,FALSE),\"\")","v":""},{"$f":"IFERROR(VLOOKUP(A47,'1.Портфель кредитів'!A:AC,14,FALSE),\"\")","v":""}]
[null,{"$f":"IFERROR(VLOOKUP(A48,'1.Портфель кредитів'!A:AC,3,FALSE),\"\")","v":""},{"$f":"IFERROR(VLOOKUP(A48,'1.Портфель кредитів'!A:AC,14,FALSE),\"\")","v":""}]
[null,{"$f":"IFERROR(VLOOKUP(A49,'1.Портфель кредитів'!A:AC,3,FALSE),\"\")","v":""},{"$f":"IFERROR(VLOOKUP(A49,'1.Портфель кредитів'!A:AC,14,FALSE),\"\")","v":""}]
[null,{"$f":"IFERROR(VLOOKUP(A50,'1.Портфель кредитів'!A:AC,3,FALSE),\"\")","v":""},{"$f":"IFERROR(VLOOKUP(A50,'1.Портфель кредитів'!A:AC,14,FALSE),\"\")","v":""}]
[null,{"$f":"IFERROR(VLOOKUP(A51,'1.Портфель кредитів'!A:AC,3,FALSE),\"\")","v":""},{"$f":"IFERROR(VLOOKUP(A51,'1.Портфель кредитів'!A:AC,14,FALSE),\"\")","v":""}]
[null,{"$f":"IFERROR(VLOOKUP(A52,'1.Портфель кредитів'!A:AC,3,FALSE),\"\")","v":""},{"$f":"IFERROR(VLOOKUP(A52,'1.Портфель кредитів'!A:AC,14,FALSE),\"\")","v":""}]
[null,{"$f":"IFERROR(VLOOKUP(A53,'1.Портфель кредитів'!A:AC,3,FALSE),\"\")","v":""},{"$f":"IFERROR(VLOOKUP(A53,'1.Портфель кредитів'!A:AC,14,FALSE),\"\")","v":""}]
[null,{"$f":"IFERROR(VLOOKUP(A54,'1.Портфель кредитів'!A:AC,3,FALSE),\"\")","v":""},{"$f":"IFERROR(VLOOKUP(A54,'1.Портфель кредитів'!A:AC,14,FALSE),\"\")","v":""}]
[null,{"$f":"IFERROR(VLOOKUP(A55,'1.Портфель кредитів'!A:AC,3,FALSE),\"\")","v":""},{"$f":"IFERROR(VLOOKUP(A55,'1.Портфель кредитів'!A:AC,14,FALSE),\"\")","v":""}]
[null,{"$f":"IFERROR(VLOOKUP(A56,'1.Портфель кредитів'!A:AC,3,FALSE),\"\")","v":""},{"$f":"IFERROR(VLOOKUP(A56,'1.Портфель кредитів'!A:AC,14,FALSE),\"\")","v":""}]
[null,{"$f":"IFERROR(VLOOKUP(A57,'1.Портфель кредитів'!A:AC,3,FALSE),\"\")","v":""},{"$f":"IFERROR(VLOOKUP(A57,'1.Портфель кредитів'!A:AC,14,FALSE),\"\")","v":""}]
[null,{"$f":"IFERROR(VLOOKUP(A58,'1.Портфель кредитів'!A:AC,3,FALSE),\"\")","v":""},{"$f":"IFERROR(VLOOKUP(A58,'1.Портфель кредитів'!A:AC,14,FALSE),\"\")","v":""}]
[null,{"$f":"IFERROR(VLOOKUP(A59,'1.Портфель кредитів'!A:AC,3,FALSE),\"\")","v":""},{"$f":"IFERROR(VLOOKUP(A59,'1.Портфель кредитів'!A:AC,14,FALSE),\"\")","v":""}]
[null,{"$f":"IFERROR(VLOOKUP(A60,'1.Портфель кредитів'!A:AC,3,FALSE),\"\")","v":""},{"$f":"IFERROR(VLOOKUP(A60,'1.Портфель кредитів'!A:AC,14,FALSE),\"\")","v":""}]
[null,{"$f":"IFERROR(VLOOKUP(A61,'1.Портфель кредитів'!A:AC,3,FALSE),\"\")","v":""},{"$f":"IFERROR(VLOOKUP(A61,'1.Портфель кредитів'!A:AC,14,FALSE),\"\")","v":""}]
[null,{"$f":"IFERROR(VLOOKUP(A62,'1.Портфель кредитів'!A:AC,3,FALSE),\"\")","v":""},{"$f":"IFERROR(VLOOKUP(A62,'1.Портфель кредитів'!A:AC,14,FALSE),\"\")","v":""}]
[null,{"$f":"IFERROR(VLOOKUP(A63,'1.Портфель кредитів'!A:AC,3,FALSE),\"\")","v":""},{"$f":"IFERROR(VLOOKUP(A63,'1.Портфель кредитів'!A:AC,14,FALSE),\"\")","v":""}]
[null,{"$f":"IFERROR(VLOOKUP(A64,'1.Портфель кредитів'!A:AC,3,FALSE),\"\")","v":""},{"$f":"IFERROR(VLOOKUP(A64,'1.Портфель кредитів'!A:AC,14,FALSE),\"\")","v":""}]
[null,{"$f":"IFERROR(VLOOKUP(A65,'1.Портфель кредитів'!A:AC,3,FALSE),\"\")","v":""},{"$f":"IFERROR(VLOOKUP(A65,'1.Портфель кредитів'!A:AC,14,FALSE),\"\")","v":""}]
[null,{"$f":"IFERROR(VLOOKUP(A66,'1.Портфель кредитів'!A:AC,3,FALSE),\"\")","v":""},{"$f":"IFERROR(VLOOKUP(A66,'1.Портфель кредитів'!A:AC,14,FALSE),\"\")","v":""}]
[null,{"$f":"IFERROR(VLOOKUP(A67,'1.Портфель кредитів'!A:AC,3,FALSE),\"\")","v":""},{"$f":"IFERROR(VLOOKUP(A67,'1.Портфель кредитів'!A:AC,14,FALSE),\"\")","v":""}]
[null,{"$f":"IFERROR(VLOOKUP(A68,'1.Портфель кредитів'!A:AC,3,FALSE),\"\")","v":""},{"$f":"IFERROR(VLOOKUP(A68,'1.Портфель кредитів'!A:AC,14,FALSE),\"\")","v":""}]
[null,{"$f":"IFERROR(VLOOKUP(A69,'1.Портфель кредитів'!A:AC,3,FALSE),\"\")","v":""},{"$f":"IFERROR(VLOOKUP(A69,'1.Портфель кредитів'!A:AC,14,FALSE),\"\")","v":""}]
[null,{"$f":"IFERROR(VLOOKUP(A70,'1.Портфель кредитів'!A:AC,3,FALSE),\"\")","v":""},{"$f":"IFERROR(VLOOKUP(A70,'1.Портфель кредитів'!A:AC,14,FALSE),\"\")","v":""}]
[null,{"$f":"IFERROR(VLOOKUP(A71,'1.Портфель кредитів'!A:AC,3,FALSE),\"\")","v":""},{"$f":"IFERROR(VLOOKUP(A71,'1.Портфель кредитів'!A:AC,14,FALSE),\"\")","v":""}]
[null,{"$f":"IFERROR(VLOOKUP(A72,'1.Портфель кредитів'!A:AC,3,FALSE),\"\")","v":""},{"$f":"IFERROR(VLOOKUP(A72,'1.Портфель кредитів'!A:AC,14,FALSE),\"\")","v":""}]
[null,{"$f":"IFERROR(VLOOKUP(A73,'1.Портфель кредитів'!A:AC,3,FALSE),\"\")","v":""},{"$f":"IFERROR(VLOOKUP(A73,'1.Портфель кредитів'!A:AC,14,FALSE),\"\")","v":""}]
[null,{"$f":"IFERROR(VLOOKUP(A74,'1.Портфель кредитів'!A:AC,3,FALSE),\"\")","v":""},{"$f":"IFERROR(VLOOKUP(A74,'1.Портфель кредитів'!A:AC,14,FALSE),\"\")","v":""}]
[null,{"$f":"IFERROR(VLOOKUP(A75,'1.Портфель кредитів'!A:AC,3,FALSE),\"\")","v":""},{"$f":"IFERROR(VLOOKUP(A75,'1.Портфель кредитів'!A:AC,14,FALSE),\"\")","v":""}]
[null,{"$f":"IFERROR(VLOOKUP(A76,'1.Портфель кредитів'!A:AC,3,FALSE),\"\")","v":""},{"$f":"IFERROR(VLOOKUP(A76,'1.Портфель кредитів'!A:AC,14,FALSE),\"\")","v":""}]
[null,{"$f":"IFERROR(VLOOKUP(A77,'1.Портфель кредитів'!A:AC,3,FALSE),\"\")","v":""},{"$f":"IFERROR(VLOOKUP(A77,'1.Портфель кредитів'!A:AC,14,FALSE),\"\")","v":""}]
[null,{"$f":"IFERROR(VLOOKUP(A78,'1.Портфель кредитів'!A:AC,3,FALSE),\"\")","v":""},{"$f":"IFERROR(VLOOKUP(A78,'1.Портфель кредитів'!A:AC,14,FALSE),\"\")","v":""}]
[null,{"$f":"IFERROR(VLOOKUP(A79,'1.Портфель кредитів'!A:AC,3,FALSE),\"\")","v":""},{"$f":"IFERROR(VLOOKUP(A79,'1.Портфель кредитів'!A:AC,14,FALSE),\"\")","v":""}]
[null,{"$f":"IFERROR(VLOOKUP(A80,'1.Портфель кредитів'!A:AC,3,FALSE),\"\")","v":""},{"$f":"IFERROR(VLOOKUP(A80,'1.Портфель кредитів'!A:AC,14,FALSE),\"\")","v":""}]
[null,{"$f":"IFERROR(VLOOKUP(A81,'1.Портфель кредитів'!A:AC,3,FALSE),\"\")","v":""},{"$f":"IFERROR(VLOOKUP(A81,'1.Портфель кредитів'!A:AC,14,FALSE),\"\")","v":""}]
[null,{"$f":"IFERROR(VLOOKUP(A82,'1.Портфель кредитів'!A:AC,3,FALSE),\"\")","v":""},{"$f":"IFERROR(VLOOKUP(A82,'1.Портфель кредитів'!A:AC,14,FALSE),\"\")","v":""}]
[null,{"$f":"IFERROR(VLOOKUP(A83,'1.Портфель кредитів'!A:AC,3,FALSE),\"\")","v":""},{"$f":"IFERROR(VLOOKUP(A83,'1.Портфель кредитів'!A:AC,14,FALSE),\"\")","v":""}]
[null,{"$f":"IFERROR(VLOOKUP(A84,'1.Портфель кредитів'!A:AC,3,FALSE),\"\")","v":""},{"$f":"IFERROR(VLOOKUP(A84,'1.Портфель кредитів'!A:AC,14,FALSE),\"\")","v":""}]
[null,{"$f":"IFERROR(VLOOKUP(A85,'1.Портфель кредитів'!A:AC,3,FALSE),\"\")","v":""},{"$f":"IFERROR(VLOOKUP(A85,'1.Портфель кредитів'!A:AC,14,FALSE),\"\")","v":""}]
[null,{"$f":"IFERROR(VLOOKUP(A86,'1.Портфель кредитів'!A:AC,3,FALSE),\"\")","v":""},{"$f":"IFERROR(VLOOKUP(A86,'1.Портфель кредитів'!A:AC,14,FALSE),\"\")","v":""}]
[null,{"$f":"IFERROR(VLOOKUP(A87,'1.Портфель кредитів'!A:AC,3,FALSE),\"\")","v":""},{"$f":"IFERROR(VLOOKUP(A87,'1.Портфель кредитів'!A:AC,14,FALSE),\"\")","v":""}]
[null,{"$f":"IFERROR(VLOOKUP(A88,'1.Портфель кредитів'!A:AC,3,FALSE),\"\")","v":""},{"$f":"IFERROR(VLOOKUP(A88,'1.Портфель кредитів'!A:AC,14,FALSE),\"\")","v":""}]
[null,{"$f":"IFERROR(VLOOKUP(A89,'1.Портфель кредитів'!A:AC,3,FALSE),\"\")","v":""},{"$f":"IFERROR(VLOOKUP(A89,'1.Портфель кредитів'!A:AC,14,FALSE),\"\")","v":""}]
[null,{"$f":"IFERROR(VLOOKUP(A90,'1.Портфель кредитів'!A:AC,3,FALSE),\"\")","v":""},{"$f":"IFERROR(VLOOKUP(A90,'1.Портфель кредитів'!A:AC,14,FALSE),\"\")","v":""}]
[null,{"$f":"IFERROR(VLOOKUP(A91,'1.Портфель кредитів'!A:AC,3,FALSE),\"\")","v":""},{"$f":"IFERROR(VLOOKUP(A91,'1.Портфель кредитів'!A:AC,14,FALSE),\"\")","v":""}]
[null,{"$f":"IFERROR(VLOOKUP(A92,'1.Портфель кредитів'!A:AC,3,FALSE),\"\")","v":""},{"$f":"IFERROR(VLOOKUP(A92,'1.Портфель кредитів'!A:AC,14,FALSE),\"\")","v":""}]
[null,{"$f":"IFERROR(VLOOKUP(A93,'1.Портфель кредитів'!A:AC,3,FALSE),\"\")","v":""},{"$f":"IFERROR(VLOOKUP(A93,'1.Портфель кредитів'!A:AC,14,FALSE),\"\")","v":""}]
[null,{"$f":"IFERROR(VLOOKUP(A94,'1.Портфель кредитів'!A:AC,3,FALSE),\"\")","v":""},{"$f":"IFERROR(VLOOKUP(A94,'1.Портфель кредитів'!A:AC,14,FALSE),\"\")","v":""}]
[null,{"$f":"IFERROR(VLOOKUP(A95,'1.Портфель кредитів'!A:AC,3,FALSE),\"\")","v":""},{"$f":"IFERROR(VLOOKUP(A95,'1.Портфель кредитів'!A:AC,14,FALSE),\"\")","v":""}]
[null,{"$f":"IFERROR(VLOOKUP(A96,'1.Портфель кредитів'!A:AC,3,FALSE),\"\")","v":""},{"$f":"IFERROR(VLOOKUP(A96,'1.Портфель кредитів'!A:AC,14,FALSE),\"\")","v":""}]
[null,{"$f":"IFERROR(VLOOKUP(A97,'1.Портфель кредитів'!A:AC,3,FALSE),\"\")","v":""},{"$f":"IFERROR(VLOOKUP(A97,'1.Портфель кредитів'!A:AC,14,FALSE),\"\")","v":""}]
[null,{"$f":"IFERROR(VLOOKUP(A98,'1.Портфель кредитів'!A:AC,3,FALSE),\"\")","v":""},{"$f":"IFERROR(VLOOKUP(A98,'1.Портфель кредитів'!A:AC,14,FALSE),\"\")","v":""}]
[null,{"$f":"IFERROR(VLOOKUP(A99,'1.Портфель кредитів'!A:AC,3,FALSE),\"\")","v":""},{"$f":"IFERROR(VLOOKUP(A99,'1.Портфель кредитів'!A:AC,14,FALSE),\"\")","v":""}]
[null,{"$f":"IFERROR(VLOOKUP(A100,'1.Портфель кредитів'!A:AC,3,FALSE),\"\")","v":""},{"$f":"IFERROR(VLOOKUP(A100,'1.Портфель кредитів'!A:AC,14,FALSE),\"\")","v":""}]
[null,{"$f":"IFERROR(VLOOKUP(A101,'1.Портфель кредитів'!A:AC,3,FALSE),\"\")","v":""},{"$f":"IFERROR(VLOOKUP(A101,'1.Портфель кредитів'!A:AC,14,FALSE),\"\")","v":""}]
[null,{"$f":"IFERROR(VLOOKUP(A102,'1.Портфель кредитів'!A:AC,3,FALSE),\"\")","v":""},{"$f":"IFERROR(VLOOKUP(A102,'1.Портфель кредитів'!A:AC,14,FALSE),\"\")","v":""}]
[null,{"$f":"IFERROR(VLOOKUP(A103,'1.Портфель кредитів'!A:AC,3,FALSE),\"\")","v":""},{"$f":"IFERROR(VLOOKUP(A103,'1.Портфель кредитів'!A:AC,14,FALSE),\"\")","v":""}]
[null,{"$f":"IFERROR(VLOOKUP(A104,'1.Портфель кредитів'!A:AC,3,FALSE),\"\")","v":""},{"$f":"IFERROR(VLOOKUP(A104,'1.Портфель кредитів'!A:AC,14,FALSE),\"\")","v":""}]
[null,{"$f":"IFERROR(VLOOKUP(A105,'1.Портфель кредитів'!A:AC,3,FALSE),\"\")","v":""},{"$f":"IFERROR(VLOOKUP(A105,'1.Портфель кредитів'!A:AC,14,FALSE),\"\")","v":""}]
[null,{"$f":"IFERROR(VLOOKUP(A106,'1.Портфель кредитів'!A:AC,3,FALSE),\"\")","v":""},{"$f":"IFERROR(VLOOKUP(A106,'1.Портфель кредитів'!A:AC,14,FALSE),\"\")","v":""}]
[null,{"$f":"IFERROR(VLOOKUP(A107,'1.Портфель кредитів'!A:AC,3,FALSE),\"\")","v":""},{"$f":"IFERROR(VLOOKUP(A107,'1.Портфель кредитів'!A:AC,14,FALSE),\"\")","v":""}]
[null,{"$f":"IFERROR(VLOOKUP(A108,'1.Портфель кредитів'!A:AC,3,FALSE),\"\")","v":""},{"$f":"IFERROR(VLOOKUP(A108,'1.Портфель кредитів'!A:AC,14,FALSE),\"\")","v":""}]
[null,{"$f":"IFERROR(VLOOKUP(A109,'1.Портфель кредитів'!A:AC,3,FALSE),\"\")","v":""},{"$f":"IFERROR(VLOOKUP(A109,'1.Портфель кредитів'!A:AC,14,FALSE),\"\")","v":""}]
[null,{"$f":"IFERROR(VLOOKUP(A110,'1.Портфель кредитів'!A:AC,3,FALSE),\"\")","v":""},{"$f":"IFERROR(VLOOKUP(A110,'1.Портфель кредитів'!A:AC,14,FALSE),\"\")","v":""}]
[null,{"$f":"IFERROR(VLOOKUP(A111,'1.Портфель кредитів'!A:AC,3,FALSE),\"\")","v":""},{"$f":"IFERROR(VLOOKUP(A111,'1.Портфель кредитів'!A:AC,14,FALSE),\"\")","v":""}]
[null,{"$f":"IFERROR(VLOOKUP(A112,'1.Портфель кредитів'!A:AC,3,FALSE),\"\")","v":""},{"$f":"IFERROR(VLOOKUP(A112,'1.Портфель кредитів'!A:AC,14,FALSE),\"\")","v":""}]
[null,{"$f":"IFERROR(VLOOKUP(A113,'1.Портфель кредитів'!A:AC,3,FALSE),\"\")","v":""},{"$f":"IFERROR(VLOOKUP(A113,'1.Портфель кредитів'!A:AC,14,FALSE),\"\")","v":""}]
[null,{"$f":"IFERROR(VLOOKUP(A114,'1.Портфель кредитів'!A:AC,3,FALSE),\"\")","v":""},{"$f":"IFERROR(VLOOKUP(A114,'1.Портфель кредитів'!A:AC,14,FALSE),\"\")","v":""}]
[null,{"$f":"IFERROR(VLOOKUP(A115,'1.Портфель кредитів'!A:AC,3,FALSE),\"\")","v":""},{"$f":"IFERROR(VLOOKUP(A115,'1.Портфель кредитів'!A:AC,14,FALSE),\"\")","v":""}]
[null,{"$f":"IFERROR(VLOOKUP(A116,'1.Портфель кредитів'!A:AC,3,FALSE),\"\")","v":""},{"$f":"IFERROR(VLOOKUP(A116,'1.Портфель кредитів'!A:AC,14,FALSE),\"\")","v":""}]
[null,{"$f":"IFERROR(VLOOKUP(A117,'1.Портфель кредитів'!A:AC,3,FALSE),\"\")","v":""},{"$f":"IFERROR(VLOOKUP(A117,'1.Портфель кредитів'!A:AC,14,FALSE),\"\")","v":""}]
[null,{"$f":"IFERROR(VLOOKUP(A118,'1.Портфель кредитів'!A:AC,3,FALSE),\"\")","v":""},{"$f":"IFERROR(VLOOKUP(A118,'1.Портфель кредитів'!A:AC,14,FALSE),\"\")","v":""}]
[null,{"$f":"IFERROR(VLOOKUP(A119,'1.Портфель кредитів'!A:AC,3,FALSE),\"\")","v":""},{"$f":"IFERROR(VLOOKUP(A119,'1.Портфель кредитів'!A:AC,14,FALSE),\"\")","v":""}]
[null,{"$f":"IFERROR(VLOOKUP(A120,'1.Портфель кредитів'!A:AC,3,FALSE),\"\")","v":""},{"$f":"IFERROR(VLOOKUP(A120,'1.Портфель кредитів'!A:AC,14,FALSE),\"\")","v":""}]
[null,{"$f":"IFERROR(VLOOKUP(A121,'1.Портфель кредитів'!A:AC,3,FALSE),\"\")","v":""},{"$f":"IFERROR(VLOOKUP(A121,'1.Портфель кредитів'!A:AC,14,FALSE),\"\")","v":""}]
[null,{"$f":"IFERROR(VLOOKUP(A122,'1.Портфель кредитів'!A:AC,3,FALSE),\"\")","v":""},{"$f":"IFERROR(VLOOKUP(A122,'1.Портфель кредитів'!A:AC,14,FALSE),\"\")","v":""}]
[null,{"$f":"IFERROR(VLOOKUP(A123,'1.Портфель кредитів'!A:AC,3,FALSE),\"\")","v":""},{"$f":"IFERROR(VLOOKUP(A123,'1.Портфель кредитів'!A:AC,14,FALSE),\"\")","v":""}]
[null,{"$f":"IFERROR(VLOOKUP(A124,'1.Портфель кредитів'!A:AC,3,FALSE),\"\")","v":""},{"$f":"IFERROR(VLOOKUP(A124,'1.Портфель кредитів'!A:AC,14,FALSE),\"\")","v":""}]
[null,{"$f":"IFERROR(VLOOKUP(A125,'1.Портфель кредитів'!A:AC,3,FALSE),\"\")","v":""},{"$f":"IFERROR(VLOOKUP(A125,'1.Портфель кредитів'!A:AC,14,FALSE),\"\")","v":""}]
[null,{"$f":"IFERROR(VLOOKUP(A126,'1.Портфель кредитів'!A:AC,3,FALSE),\"\")","v":""},{"$f":"IFERROR(VLOOKUP(A126,'1.Портфель кредитів'!A:AC,14,FALSE),\"\")","v":""}]
[null,{"$f":"IFERROR(VLOOKUP(A127,'1.Портфель кредитів'!A:AC,3,FALSE),\"\")","v":""},{"$f":"IFERROR(VLOOKUP(A127,'1.Портфель кредитів'!A:AC,14,FALSE),\"\")","v":""}]
[null,{"$f":"IFERROR(VLOOKUP(A128,'1.Портфель кредитів'!A:AC,3,FALSE),\"\")","v":""},{"$f":"IFERROR(VLOOKUP(A128,'1.Портфель кредитів'!A:AC,14,FALSE),\"\")","v":""}]
[null,{"$f":"IFERROR(VLOOKUP(A129,'1.Портфель кредитів'!A:AC,3,FALSE),\"\")","v":""},{"$f":"IFERROR(VLOOKUP(A129,'1.Портфель кредитів'!A:AC,14,FALSE),\"\")","v":""}]
[null,{"$f":"IFERROR(VLOOKUP(A130,'1.Портфель кредитів'!A:AC,3,FALSE),\"\")","v":""},{"$f":"IFERROR(VLOOKUP(A130,'1.Портфель кредитів'!A:AC,14,FALSE),\"\")","v":""}]
[null,{"$f":"IFERROR(VLOOKUP(A131,'1.Портфель кредитів'!A:AC,3,FALSE),\"\")","v":""},{"$f":"IFERROR(VLOOKUP(A131,'1.Портфель кредитів'!A:AC,14,FALSE),\"\")","v":""}]
[null,{"$f":"IFERROR(VLOOKUP(A132,'1.Портфель кредитів'!A:AC,3,FALSE),\"\")","v":""},{"$f":"IFERROR(VLOOKUP(A132,'1.Портфель кредитів'!A:AC,14,FALSE),\"\")","v":""}]
[null,{"$f":"IFERROR(VLOOKUP(A133,'1.Портфель кредитів'!A:AC,3,FALSE),\"\")","v":""},{"$f":"IFERROR(VLOOKUP(A133,'1.Портфель кредитів'!A:AC,14,FALSE),\"\")","v":""}]
[null,{"$f":"IFERROR(VLOOKUP(A134,'1.Портфель кредитів'!A:AC,3,FALSE),\"\")","v":""},{"$f":"IFERROR(VLOOKUP(A134,'1.Портфель кредитів'!A:AC,14,FALSE),\"\")","v":""}]
[null,{"$f":"IFERROR(VLOOKUP(A135,'1.Портфель кредитів'!A:AC,3,FALSE),\"\")","v":""},{"$f":"IFERROR(VLOOKUP(A135,'1.Портфель кредитів'!A:AC,14,FALSE),\"\")","v":""}]
[null,{"$f":"IFERROR(VLOOKUP(A136,'1.Портфель кредитів'!A:AC,3,FALSE),\"\")","v":""},{"$f":"IFERROR(VLOOKUP(A136,'1.Портфель кредитів'!A:AC,14,FALSE),\"\")","v":""}]
[null,{"$f":"IFERROR(VLOOKUP(A137,'1.Портфель кредитів'!A:AC,3,FALSE),\"\")","v":""},{"$f":"IFERROR(VLOOKUP(A137,'1.Портфель кредитів'!A:AC,14,FALSE),\"\")","v":""}]
[null,{"$f":"IFERROR(VLOOKUP(A138,'1.Портфель кредитів'!A:AC,3,FALSE),\"\")","v":""},{"$f":"IFERROR(VLOOKUP(A138,'1.Портфель кредитів'!A:AC,14,FALSE),\"\")","v":""}]
[null,{"$f":"IFERROR(VLOOKUP(A139,'1.Портфель кредитів'!A:AC,3,FALSE),\"\")","v":""},{"$f":"IFERROR(VLOOKUP(A139,'1.Портфель кредитів'!A:AC,14,FALSE),\"\")","v":""}]
[null,{"$f":"IFERROR(VLOOKUP(A140,'1.Портфель кредитів'!A:AC,3,FALSE),\"\")","v":""},{"$f":"IFERROR(VLOOKUP(A140,'1.Портфель кредитів'!A:AC,14,FALSE),\"\")","v":""}]
[null,{"$f":"IFERROR(VLOOKUP(A141,'1.Портфель кредитів'!A:AC,3,FALSE),\"\")","v":""},{"$f":"IFERROR(VLOOKUP(A141,'1.Портфель кредитів'!A:AC,14,FALSE),\"\")","v":""}]
[null,{"$f":"IFERROR(VLOOKUP(A142,'1.Портфель кредитів'!A:AC,3,FALSE),\"\")","v":""},{"$f":"IFERROR(VLOOKUP(A142,'1.Портфель кредитів'!A:AC,14,FALSE),\"\")","v":""}]
[null,{"$f":"IFERROR(VLOOKUP(A143,'1.Портфель кредитів'!A:AC,3,FALSE),\"\")","v":""},{"$f":"IFERROR(VLOOKUP(A143,'1.Портфель кредитів'!A:AC,14,FALSE),\"\")","v":""}]
[null,{"$f":"IFERROR(VLOOKUP(A144,'1.Портфель кредитів'!A:AC,3,FALSE),\"\")","v":""},{"$f":"IFERROR(VLOOKUP(A144,'1.Портфель кредитів'!A:AC,14,FALSE),\"\")","v":""}]
[null,{"$f":"IFERROR(VLOOKUP(A145,'1.Портфель кредитів'!A:AC,3,FALSE),\"\")","v":""},{"$f":"IFERROR(VLOOKUP(A145,'1.Портфель кредитів'!A:AC,14,FALSE),\"\")","v":""}]
[null,{"$f":"IFERROR(VLOOKUP(A146,'1.Портфель кредитів'!A:AC,3,FALSE),\"\")","v":""},{"$f":"IFERROR(VLOOKUP(A146,'1.Портфель кредитів'!A:AC,14,FALSE),\"\")","v":""}]
[null,{"$f":"IFERROR(VLOOKUP(A147,'1.Портфель кредитів'!A:AC,3,FALSE),\"\")","v":""},{"$f":"IFERROR(VLOOKUP(A147,'1.Портфель кредитів'!A:AC,14,FALSE),\"\")","v":""}]
[null,{"$f":"IFERROR(VLOOKUP(A148,'1.Портфель кредитів'!A:AC,3,FALSE),\"\")","v":""},{"$f":"IFERROR(VLOOKUP(A148,'1.Портфель кредитів'!A:AC,14,FALSE),\"\")","v":""}]
[null,{"$f":"IFERROR(VLOOKUP(A149,'1.Портфель кредитів'!A:AC,3,FALSE),\"\")","v":""},{"$f":"IFERROR(VLOOKUP(A149,'1.Портфель кредитів'!A:AC,14,FALSE),\"\")","v":""}]
[null,{"$f":"IFERROR(VLOOKUP(A150,'1.Портфель кредитів'!A:AC,3,FALSE),\"\")","v":""},{"$f":"IFERROR(VLOOKUP(A150,'1.Портфель кредитів'!A:AC,14,FALSE),\"\")","v":""}]
[null,{"$f":"IFERROR(VLOOKUP(A151,'1.Портфель кредитів'!A:AC,3,FALSE),\"\")","v":""},{"$f":"IFERROR(VLOOKUP(A151,'1.Портфель кредитів'!A:AC,14,FALSE),\"\")","v":""}]
[null,{"$f":"IFERROR(VLOOKUP(A152,'1.Портфель кредитів'!A:AC,3,FALSE),\"\")","v":""},{"$f":"IFERROR(VLOOKUP(A152,'1.Портфель кредитів'!A:AC,14,FALSE),\"\")","v":""}]
[null,{"$f":"IFERROR(VLOOKUP(A153,'1.Портфель кредитів'!A:AC,3,FALSE),\"\")","v":""},{"$f":"IFERROR(VLOOKUP(A153,'1.Портфель кредитів'!A:AC,14,FALSE),\"\")","v":""}]
[null,{"$f":"IFERROR(VLOOKUP(A154,'1.Портфель кредитів'!A:AC,3,FALSE),\"\")","v":""},{"$f":"IFERROR(VLOOKUP(A154,'1.Портфель кредитів'!A:AC,14,FALSE),\"\")","v":""}]
[null,{"$f":"IFERROR(VLOOKUP(A155,'1.Портфель кредитів'!A:AC,3,FALSE),\"\")","v":""},{"$f":"IFERROR(VLOOKUP(A155,'1.Портфель кредитів'!A:AC,14,FALSE),\"\")","v":""}]
[null,{"$f":"IFERROR(VLOOKUP(A156,'1.Портфель кредитів'!A:AC,3,FALSE),\"\")","v":""},{"$f":"IFERROR(VLOOKUP(A156,'1.Портфель кредитів'!A:AC,14,FALSE),\"\")","v":""}]
[null,{"$f":"IFERROR(VLOOKUP(A157,'1.Портфель кредитів'!A:AC,3,FALSE),\"\")","v":""},{"$f":"IFERROR(VLOOKUP(A157,'1.Портфель кредитів'!A:AC,14,FALSE),\"\")","v":""}]
[null,{"$f":"IFERROR(VLOOKUP(A158,'1.Портфель кредитів'!A:AC,3,FALSE),\"\")","v":""},{"$f":"IFERROR(VLOOKUP(A158,'1.Портфель кредитів'!A:AC,14,FALSE),\"\")","v":""}]
[null,{"$f":"IFERROR(VLOOKUP(A159,'1.Портфель кредитів'!A:AC,3,FALSE),\"\")","v":""},{"$f":"IFERROR(VLOOKUP(A159,'1.Портфель кредитів'!A:AC,14,FALSE),\"\")","v":""}]
[null,{"$f":"IFERROR(VLOOKUP(A160,'1.Портфель кредитів'!A:AC,3,FALSE),\"\")","v":""},{"$f":"IFERROR(VLOOKUP(A160,'1.Портфель кредитів'!A:AC,14,FALSE),\"\")","v":""}]
[null,{"$f":"IFERROR(VLOOKUP(A161,'1.Портфель кредитів'!A:AC,3,FALSE),\"\")","v":""},{"$f":"IFERROR(VLOOKUP(A161,'1.Портфель кредитів'!A:AC,14,FALSE),\"\")","v":""}]
[null,{"$f":"IFERROR(VLOOKUP(A162,'1.Портфель кредитів'!A:AC,3,FALSE),\"\")","v":""},{"$f":"IFERROR(VLOOKUP(A162,'1.Портфель кредитів'!A:AC,14,FALSE),\"\")","v":""}]
[null,{"$f":"IFERROR(VLOOKUP(A163,'1.Портфель кредитів'!A:AC,3,FALSE),\"\")","v":""},{"$f":"IFERROR(VLOOKUP(A163,'1.Портфель кредитів'!A:AC,14,FALSE),\"\")","v":""}]
[null,{"$f":"IFERROR(VLOOKUP(A164,'1.Портфель кредитів'!A:AC,3,FALSE),\"\")","v":""},{"$f":"IFERROR(VLOOKUP(A164,'1.Портфель кредитів'!A:AC,14,FALSE),\"\")","v":""}]
[null,{"$f":"IFERROR(VLOOKUP(A165,'1.Портфель кредитів'!A:AC,3,FALSE),\"\")","v":""},{"$f":"IFERROR(VLOOKUP(A165,'1.Портфель кредитів'!A:AC,14,FALSE),\"\")","v":""}]
[null,{"$f":"IFERROR(VLOOKUP(A166,'1.Портфель кредитів'!A:AC,3,FALSE),\"\")","v":""},{"$f":"IFERROR(VLOOKUP(A166,'1.Портфель кредитів'!A:AC,14,FALSE),\"\")","v":""}]
[null,{"$f":"IFERROR(VLOOKUP(A167,'1.Портфель кредитів'!A:AC,3,FALSE),\"\")","v":""},{"$f":"IFERROR(VLOOKUP(A167,'1.Портфель кредитів'!A:AC,14,FALSE),\"\")","v":""}]
[null,{"$f":"IFERROR(VLOOKUP(A168,'1.Портфель кредитів'!A:AC,3,FALSE),\"\")","v":""},{"$f":"IFERROR(VLOOKUP(A168,'1.Портфель кредитів'!A:AC,14,FALSE),\"\")","v":""}]
[null,{"$f":"IFERROR(VLOOKUP(A169,'1.Портфель кредитів'!A:AC,3,FALSE),\"\")","v":""},{"$f":"IFERROR(VLOOKUP(A169,'1.Портфель кредитів'!A:AC,14,FALSE),\"\")","v":""}]
[null,{"$f":"IFERROR(VLOOKUP(A170,'1.Портфель кредитів'!A:AC,3,FALSE),\"\")","v":""},{"$f":"IFERROR(VLOOKUP(A170,'1.Портфель кредитів'!A:AC,14,FALSE),\"\")","v":""}]
[null,{"$f":"IFERROR(VLOOKUP(A171,'1.Портфель кредитів'!A:AC,3,FALSE),\"\")","v":""},{"$f":"IFERROR(VLOOKUP(A171,'1.Портфель кредитів'!A:AC,14,FALSE),\"\")","v":""}]
[null,{"$f":"IFERROR(VLOOKUP(A172,'1.Портфель кредитів'!A:AC,3,FALSE),\"\")","v":""},{"$f":"IFERROR(VLOOKUP(A172,'1.Портфель кредитів'!A:AC,14,FALSE),\"\")","v":""}]
[null,{"$f":"IFERROR(VLOOKUP(A173,'1.Портфель кредитів'!A:AC,3,FALSE),\"\")","v":""},{"$f":"IFERROR(VLOOKUP(A173,'1.Портфель кредитів'!A:AC,14,FALSE),\"\")","v":""}]
[null,{"$f":"IFERROR(VLOOKUP(A174,'1.Портфель кредитів'!A:AC,3,FALSE),\"\")","v":""},{"$f":"IFERROR(VLOOKUP(A174,'1.Портфель кредитів'!A:AC,14,FALSE),\"\")","v":""}]
[null,{"$f":"IFERROR(VLOOKUP(A175,'1.Портфель кредитів'!A:AC,3,FALSE),\"\")","v":""},{"$f":"IFERROR(VLOOKUP(A175,'1.Портфель кредитів'!A:AC,14,FALSE),\"\")","v":""}]
[null,{"$f":"IFERROR(VLOOKUP(A176,'1.Портфель кредитів'!A:AC,3,FALSE),\"\")","v":""},{"$f":"IFERROR(VLOOKUP(A176,'1.Портфель кредитів'!A:AC,14,FALSE),\"\")","v":""}]
[null,{"$f":"IFERROR(VLOOKUP(A177,'1.Портфель кредитів'!A:AC,3,FALSE),\"\")","v":""},{"$f":"IFERROR(VLOOKUP(A177,'1.Портфель кредитів'!A:AC,14,FALSE),\"\")","v":""}]
[null,{"$f":"IFERROR(VLOOKUP(A178,'1.Портфель кредитів'!A:AC,3,FALSE),\"\")","v":""},{"$f":"IFERROR(VLOOKUP(A178,'1.Портфель кредитів'!A:AC,14,FALSE),\"\")","v":""}]
[null,{"$f":"IFERROR(VLOOKUP(A179,'1.Портфель кредитів'!A:AC,3,FALSE),\"\")","v":""},{"$f":"IFERROR(VLOOKUP(A179,'1.Портфель кредитів'!A:AC,14,FALSE),\"\")","v":""}]
[null,{"$f":"IFERROR(VLOOKUP(A180,'1.Портфель кредитів'!A:AC,3,FALSE),\"\")","v":""},{"$f":"IFERROR(VLOOKUP(A180,'1.Портфель кредитів'!A:AC,14,FALSE),\"\")","v":""}]
[null,{"$f":"IFERROR(VLOOKUP(A181,'1.Портфель кредитів'!A:AC,3,FALSE),\"\")","v":""},{"$f":"IFERROR(VLOOKUP(A181,'1.Портфель кредитів'!A:AC,14,FALSE),\"\")","v":""}]
[null,{"$f":"IFERROR(VLOOKUP(A182,'1.Портфель кредитів'!A:AC,3,FALSE),\"\")","v":""},{"$f":"IFERROR(VLOOKUP(A182,'1.Портфель кредитів'!A:AC,14,FALSE),\"\")","v":""}]
[null,{"$f":"IFERROR(VLOOKUP(A183,'1.Портфель кредитів'!A:AC,3,FALSE),\"\")","v":""},{"$f":"IFERROR(VLOOKUP(A183,'1.Портфель кредитів'!A:AC,14,FALSE),\"\")","v":""}]
[null,{"$f":"IFERROR(VLOOKUP(A184,'1.Портфель кредитів'!A:AC,3,FALSE),\"\")","v":""},{"$f":"IFERROR(VLOOKUP(A184,'1.Портфель кредитів'!A:AC,14,FALSE),\"\")","v":""}]
[null,{"$f":"IFERROR(VLOOKUP(A185,'1.Портфель кредитів'!A:AC,3,FALSE),\"\")","v":""},{"$f":"IFERROR(VLOOKUP(A185,'1.Портфель кредитів'!A:AC,14,FALSE),\"\")","v":""}]
[null,{"$f":"IFERROR(VLOOKUP(A186,'1.Портфель кредитів'!A:AC,3,FALSE),\"\")","v":""},{"$f":"IFERROR(VLOOKUP(A186,'1.Портфель кредитів'!A:AC,14,FALSE),\"\")","v":""}]
[null,{"$f":"IFERROR(VLOOKUP(A187,'1.Портфель кредитів'!A:AC,3,FALSE),\"\")","v":""},{"$f":"IFERROR(VLOOKUP(A187,'1.Портфель кредитів'!A:AC,14,FALSE),\"\")","v":""}]
[null,{"$f":"IFERROR(VLOOKUP(A188,'1.Портфель кредитів'!A:AC,3,FALSE),\"\")","v":""},{"$f":"IFERROR(VLOOKUP(A188,'1.Портфель кредитів'!A:AC,14,FALSE),\"\")","v":""}]
[null,{"$f":"IFERROR(VLOOKUP(A189,'1.Портфель кредитів'!A:AC,3,FALSE),\"\")","v":""},{"$f":"IFERROR(VLOOKUP(A189,'1.Портфель кредитів'!A:AC,14,FALSE),\"\")","v":""}]
[null,{"$f":"IFERROR(VLOOKUP(A190,'1.Портфель кредитів'!A:AC,3,FALSE),\"\")","v":""},{"$f":"IFERROR(VLOOKUP(A190,'1.Портфель кредитів'!A:AC,14,FALSE),\"\")","v":""}]
[null,{"$f":"IFERROR(VLOOKUP(A191,'1.Портфель кредитів'!A:AC,3,FALSE),\"\")","v":""},{"$f":"IFERROR(VLOOKUP(A191,'1.Портфель кредитів'!A:AC,14,FALSE),\"\")","v":""}]
[null,{"$f":"IFERROR(VLOOKUP(A192,'1.Портфель кредитів'!A:AC,3,FALSE),\"\")","v":""},{"$f":"IFERROR(VLOOKUP(A192,'1.Портфель кредитів'!A:AC,14,FALSE),\"\")","v":""}]
[null,{"$f":"IFERROR(VLOOKUP(A193,'1.Портфель кредитів'!A:AC,3,FALSE),\"\")","v":""},{"$f":"IFERROR(VLOOKUP(A193,'1.Портфель кредитів'!A:AC,14,FALSE),\"\")","v":""}]
[null,{"$f":"IFERROR(VLOOKUP(A194,'1.Портфель кредитів'!A:AC,3,FALSE),\"\")","v":""},{"$f":"IFERROR(VLOOKUP(A194,'1.Портфель кредитів'!A:AC,14,FALSE),\"\")","v":""}]
[null,{"$f":"IFERROR(VLOOKUP(A195,'1.Портфель кредитів'!A:AC,3,FALSE),\"\")","v":""},{"$f":"IFERROR(VLOOKUP(A195,'1.Портфель кредитів'!A:AC,14,FALSE),\"\")","v":""}]
[null,{"$f":"IFERROR(VLOOKUP(A196,'1.Портфель кредитів'!A:AC,3,FALSE),\"\")","v":""},{"$f":"IFERROR(VLOOKUP(A196,'1.Портфель кредитів'!A:AC,14,FALSE),\"\")","v":""}]
[null,{"$f":"IFERROR(VLOOKUP(A197,'1.Портфель кредитів'!A:AC,3,FALSE),\"\")","v":""},{"$f":"IFERROR(VLOOKUP(A197,'1.Портфель кредитів'!A:AC,14,FALSE),\"\")","v":""}]
[null,{"$f":"IFERROR(VLOOKUP(A198,'1.Портфель кредитів'!A:AC,3,FALSE),\"\")","v":""},{"$f":"IFERROR(VLOOKUP(A198,'1.Портфель кредитів'!A:AC,14,FALSE),\"\")","v":""}]
[null,{"$f":"IFERROR(VLOOKUP(A199,'1.Портфель кредитів'!A:AC,3,FALSE),\"\")","v":""},{"$f":"IFERROR(VLOOKUP(A199,'1.Портфель кредитів'!A:AC,14,FALSE),\"\")","v":""}]
[null,{"$f":"IFERROR(VLOOKUP(A200,'1.Портфель кредитів'!A:AC,3,FALSE),\"\")","v":""},{"$f":"IFERROR(VLOOKUP(A200,'1.Портфель кредитів'!A:AC,14,FALSE),\"\")","v":""}]
[null,{"$f":"IFERROR(VLOOKUP(A201,'1.Портфель кредитів'!A:AC,3,FALSE),\"\")","v":""},{"$f":"IFERROR(VLOOKUP(A201,'1.Портфель кредитів'!A:AC,14,FALSE),\"\")","v":""}]
[null,{"$f":"IFERROR(VLOOKUP(A202,'1.Портфель кредитів'!A:AC,3,FALSE),\"\")","v":""},{"$f":"IFERROR(VLOOKUP(A202,'1.Портфель кредитів'!A:AC,14,FALSE),\"\")","v":""}]
[null,{"$f":"IFERROR(VLOOKUP(A203,'1.Портфель кредитів'!A:AC,3,FALSE),\"\")","v":""},{"$f":"IFERROR(VLOOKUP(A203,'1.Портфель кредитів'!A:AC,14,FALSE),\"\")","v":""}]
[null,{"$f":"IFERROR(VLOOKUP(A204,'1.Портфель кредитів'!A:AC,3,FALSE),\"\")","v":""},{"$f":"IFERROR(VLOOKUP(A204,'1.Портфель кредитів'!A:AC,14,FALSE),\"\")","v":""}]
[null,{"$f":"IFERROR(VLOOKUP(A205,'1.Портфель кредитів'!A:AC,3,FALSE),\"\")","v":""},{"$f":"IFERROR(VLOOKUP(A205,'1.Портфель кредитів'!A:AC,14,FALSE),\"\")","v":""}]
[null,{"$f":"IFERROR(VLOOKUP(A206,'1.Портфель кредитів'!A:AC,3,FALSE),\"\")","v":""},{"$f":"IFERROR(VLOOKUP(A206,'1.Портфель кредитів'!A:AC,14,FALSE),\"\")","v":""}]
[null,{"$f":"IFERROR(VLOOKUP(A207,'1.Портфель кредитів'!A:AC,3,FALSE),\"\")","v":""},{"$f":"IFERROR(VLOOKUP(A207,'1.Портфель кредитів'!A:AC,14,FALSE),\"\")","v":""}]
[null,{"$f":"IFERROR(VLOOKUP(A208,'1.Портфель кредитів'!A:AC,3,FALSE),\"\")","v":""},{"$f":"IFERROR(VLOOKUP(A208,'1.Портфель кредитів'!A:AC,14,FALSE),\"\")","v":""}]
[null,{"$f":"IFERROR(VLOOKUP(A209,'1.Портфель кредитів'!A:AC,3,FALSE),\"\")","v":""},{"$f":"IFERROR(VLOOKUP(A209,'1.Портфель кредитів'!A:AC,14,FALSE),\"\")","v":""}]
[null,{"$f":"IFERROR(VLOOKUP(A210,'1.Портфель кредитів'!A:AC,3,FALSE),\"\")","v":""},{"$f":"IFERROR(VLOOKUP(A210,'1.Портфель кредитів'!A:AC,14,FALSE),\"\")","v":""}]
[null,{"$f":"IFERROR(VLOOKUP(A211,'1.Портфель кредитів'!A:AC,3,FALSE),\"\")","v":""},{"$f":"IFERROR(VLOOKUP(A211,'1.Портфель кредитів'!A:AC,14,FALSE),\"\")","v":""}]
[null,{"$f":"IFERROR(VLOOKUP(A212,'1.Портфель кредитів'!A:AC,3,FALSE),\"\")","v":""},{"$f":"IFERROR(VLOOKUP(A212,'1.Портфель кредитів'!A:AC,14,FALSE),\"\")","v":""}]
[null,{"$f":"IFERROR(VLOOKUP(A213,'1.Портфель кредитів'!A:AC,3,FALSE),\"\")","v":""},{"$f":"IFERROR(VLOOKUP(A213,'1.Портфель кредитів'!A:AC,14,FALSE),\"\")","v":""}]
[null,{"$f":"IFERROR(VLOOKUP(A214,'1.Портфель кредитів'!A:AC,3,FALSE),\"\")","v":""},{"$f":"IFERROR(VLOOKUP(A214,'1.Портфель кредитів'!A:AC,14,FALSE),\"\")","v":""}]
[null,{"$f":"IFERROR(VLOOKUP(A215,'1.Портфель кредитів'!A:AC,3,FALSE),\"\")","v":""},{"$f":"IFERROR(VLOOKUP(A215,'1.Портфель кредитів'!A:AC,14,FALSE),\"\")","v":""}]
[null,{"$f":"IFERROR(VLOOKUP(A216,'1.Портфель кредитів'!A:AC,3,FALSE),\"\")","v":""},{"$f":"IFERROR(VLOOKUP(A216,'1.Портфель кредитів'!A:AC,14,FALSE),\"\")","v":""}]
[null,{"$f":"IFERROR(VLOOKUP(A217,'1.Портфель кредитів'!A:AC,3,FALSE),\"\")","v":""},{"$f":"IFERROR(VLOOKUP(A217,'1.Портфель кредитів'!A:AC,14,FALSE),\"\")","v":""}]
[null,{"$f":"IFERROR(VLOOKUP(A218,'1.Портфель кредитів'!A:AC,3,FALSE),\"\")","v":""},{"$f":"IFERROR(VLOOKUP(A218,'1.Портфель кредитів'!A:AC,14,FALSE),\"\")","v":""}]
[null,{"$f":"IFERROR(VLOOKUP(A219,'1.Портфель кредитів'!A:AC,3,FALSE),\"\")","v":""},{"$f":"IFERROR(VLOOKUP(A219,'1.Портфель кредитів'!A:AC,14,FALSE),\"\")","v":""}]
[null,{"$f":"IFERROR(VLOOKUP(A220,'1.Портфель кредитів'!A:AC,3,FALSE),\"\")","v":""},{"$f":"IFERROR(VLOOKUP(A220,'1.Портфель кредитів'!A:AC,14,FALSE),\"\")","v":""}]
[null,{"$f":"IFERROR(VLOOKUP(A221,'1.Портфель кредитів'!A:AC,3,FALSE),\"\")","v":""},{"$f":"IFERROR(VLOOKUP(A221,'1.Портфель кредитів'!A:AC,14,FALSE),\"\")","v":""}]
[null,{"$f":"IFERROR(VLOOKUP(A222,'1.Портфель кредитів'!A:AC,3,FALSE),\"\")","v":""},{"$f":"IFERROR(VLOOKUP(A222,'1.Портфель кредитів'!A:AC,14,FALSE),\"\")","v":""}]
[null,{"$f":"IFERROR(VLOOKUP(A223,'1.Портфель кредитів'!A:AC,3,FALSE),\"\")","v":""},{"$f":"IFERROR(VLOOKUP(A223,'1.Портфель кредитів'!A:AC,14,FALSE),\"\")","v":""}]
[null,{"$f":"IFERROR(VLOOKUP(A224,'1.Портфель кредитів'!A:AC,3,FALSE),\"\")","v":""},{"$f":"IFERROR(VLOOKUP(A224,'1.Портфель кредитів'!A:AC,14,FALSE),\"\")","v":""}]
[null,{"$f":"IFERROR(VLOOKUP(A225,'1.Портфель кредитів'!A:AC,3,FALSE),\"\")","v":""},{"$f":"IFERROR(VLOOKUP(A225,'1.Портфель кредитів'!A:AC,14,FALSE),\"\")","v":""}]
[null,{"$f":"IFERROR(VLOOKUP(A226,'1.Портфель кредитів'!A:AC,3,FALSE),\"\")","v":""},{"$f":"IFERROR(VLOOKUP(A226,'1.Портфель кредитів'!A:AC,14,FALSE),\"\")","v":""}]
[null,{"$f":"IFERROR(VLOOKUP(A227,'1.Портфель кредитів'!A:AC,3,FALSE),\"\")","v":""},{"$f":"IFERROR(VLOOKUP(A227,'1.Портфель кредитів'!A:AC,14,FALSE),\"\")","v":""}]
[null,{"$f":"IFERROR(VLOOKUP(A228,'1.Портфель кредитів'!A:AC,3,FALSE),\"\")","v":""},{"$f":"IFERROR(VLOOKUP(A228,'1.Портфель кредитів'!A:AC,14,FALSE),\"\")","v":""}]
[null,{"$f":"IFERROR(VLOOKUP(A229,'1.Портфель кредитів'!A:AC,3,FALSE),\"\")","v":""},{"$f":"IFERROR(VLOOKUP(A229,'1.Портфель кредитів'!A:AC,14,FALSE),\"\")","v":""}]
[null,{"$f":"IFERROR(VLOOKUP(A230,'1.Портфель кредитів'!A:AC,3,FALSE),\"\")","v":""},{"$f":"IFERROR(VLOOKUP(A230,'1.Портфель кредитів'!A:AC,14,FALSE),\"\")","v":""}]
[null,{"$f":"IFERROR(VLOOKUP(A231,'1.Портфель кредитів'!A:AC,3,FALSE),\"\")","v":""},{"$f":"IFERROR(VLOOKUP(A231,'1.Портфель кредитів'!A:AC,14,FALSE),\"\")","v":""}]
[null,{"$f":"IFERROR(VLOOKUP(A232,'1.Портфель кредитів'!A:AC,3,FALSE),\"\")","v":""},{"$f":"IFERROR(VLOOKUP(A232,'1.Портфель кредитів'!A:AC,14,FALSE),\"\")","v":""}]
[null,{"$f":"IFERROR(VLOOKUP(A233,'1.Портфель кредитів'!A:AC,3,FALSE),\"\")","v":""},{"$f":"IFERROR(VLOOKUP(A233,'1.Портфель кредитів'!A:AC,14,FALSE),\"\")","v":""}]
[null,{"$f":"IFERROR(VLOOKUP(A234,'1.Портфель кредитів'!A:AC,3,FALSE),\"\")","v":""},{"$f":"IFERROR(VLOOKUP(A234,'1.Портфель кредитів'!A:AC,14,FALSE),\"\")","v":""}]
[null,{"$f":"IFERROR(VLOOKUP(A235,'1.Портфель кредитів'!A:AC,3,FALSE),\"\")","v":""},{"$f":"IFERROR(VLOOKUP(A235,'1.Портфель кредитів'!A:AC,14,FALSE),\"\")","v":""}]
[null,{"$f":"IFERROR(VLOOKUP(A236,'1.Портфель кредитів'!A:AC,3,FALSE),\"\")","v":""},{"$f":"IFERROR(VLOOKUP(A236,'1.Портфель кредитів'!A:AC,14,FALSE),\"\")","v":""}]
[null,{"$f":"IFERROR(VLOOKUP(A237,'1.Портфель кредитів'!A:AC,3,FALSE),\"\")","v":""},{"$f":"IFERROR(VLOOKUP(A237,'1.Портфель кредитів'!A:AC,14,FALSE),\"\")","v":""}]
[null,{"$f":"IFERROR(VLOOKUP(A238,'1.Портфель кредитів'!A:AC,3,FALSE),\"\")","v":""},{"$f":"IFERROR(VLOOKUP(A238,'1.Портфель кредитів'!A:AC,14,FALSE),\"\")","v":""}]
[null,{"$f":"IFERROR(VLOOKUP(A239,'1.Портфель кредитів'!A:AC,3,FALSE),\"\")","v":""},{"$f":"IFERROR(VLOOKUP(A239,'1.Портфель кредитів'!A:AC,14,FALSE),\"\")","v":""}]
[null,{"$f":"IFERROR(VLOOKUP(A240,'1.Портфель кредитів'!A:AC,3,FALSE),\"\")","v":""},{"$f":"IFERROR(VLOOKUP(A240,'1.Портфель кредитів'!A:AC,14,FALSE),\"\")","v":""}]
[null,{"$f":"IFERROR(VLOOKUP(A241,'1.Портфель кредитів'!A:AC,3,FALSE),\"\")","v":""},{"$f":"IFERROR(VLOOKUP(A241,'1.Портфель кредитів'!A:AC,14,FALSE),\"\")","v":""}]
[null,{"$f":"IFERROR(VLOOKUP(A242,'1.Портфель кредитів'!A:AC,3,FALSE),\"\")","v":""},{"$f":"IFERROR(VLOOKUP(A242,'1.Портфель кредитів'!A:AC,14,FALSE),\"\")","v":""}]
[null,{"$f":"IFERROR(VLOOKUP(A243,'1.Портфель кредитів'!A:AC,3,FALSE),\"\")","v":""},{"$f":"IFERROR(VLOOKUP(A243,'1.Портфель кредитів'!A:AC,14,FALSE),\"\")","v":""}]
[null,{"$f":"IFERROR(VLOOKUP(A244,'1.Портфель кредитів'!A:AC,3,FALSE),\"\")","v":""},{"$f":"IFERROR(VLOOKUP(A244,'1.Портфель кредитів'!A:AC,14,FALSE),\"\")","v":""}]
[null,{"$f":"IFERROR(VLOOKUP(A245,'1.Портфель кредитів'!A:AC,3,FALSE),\"\")","v":""},{"$f":"IFERROR(VLOOKUP(A245,'1.Портфель кредитів'!A:AC,14,FALSE),\"\")","v":""}]
[null,{"$f":"IFERROR(VLOOKUP(A246,'1.Портфель кредитів'!A:AC,3,FALSE),\"\")","v":""},{"$f":"IFERROR(VLOOKUP(A246,'1.Портфель кредитів'!A:AC,14,FALSE),\"\")","v":""}]
[null,{"$f":"IFERROR(VLOOKUP(A247,'1.Портфель кредитів'!A:AC,3,FALSE),\"\")","v":""},{"$f":"IFERROR(VLOOKUP(A247,'1.Портфель кредитів'!A:AC,14,FALSE),\"\")","v":""}]
[null,{"$f":"IFERROR(VLOOKUP(A248,'1.Портфель кредитів'!A:AC,3,FALSE),\"\")","v":""},{"$f":"IFERROR(VLOOKUP(A248,'1.Портфель кредитів'!A:AC,14,FALSE),\"\")","v":""}]
[null,{"$f":"IFERROR(VLOOKUP(A249,'1.Портфель кредитів'!A:AC,3,FALSE),\"\")","v":""},{"$f":"IFERROR(VLOOKUP(A249,'1.Портфель кредитів'!A:AC,14,FALSE),\"\")","v":""}]
[null,{"$f":"IFERROR(VLOOKUP(A250,'1.Портфель кредитів'!A:AC,3,FALSE),\"\")","v":""},{"$f":"IFERROR(VLOOKUP(A250,'1.Портфель кредитів'!A:AC,14,FALSE),\"\")","v":""}]
[null,{"$f":"IFERROR(VLOOKUP(A251,'1.Портфель кредитів'!A:AC,3,FALSE),\"\")","v":""},{"$f":"IFERROR(VLOOKUP(A251,'1.Портфель кредитів'!A:AC,14,FALSE),\"\")","v":""}]
[null,{"$f":"IFERROR(VLOOKUP(A252,'1.Портфель кредитів'!A:AC,3,FALSE),\"\")","v":""},{"$f":"IFERROR(VLOOKUP(A252,'1.Портфель кредитів'!A:AC,14,FALSE),\"\")","v":""}]
[null,{"$f":"IFERROR(VLOOKUP(A253,'1.Портфель кредитів'!A:AC,3,FALSE),\"\")","v":""},{"$f":"IFERROR(VLOOKUP(A253,'1.Портфель кредитів'!A:AC,14,FALSE),\"\")","v":""}]
[null,{"$f":"IFERROR(VLOOKUP(A254,'1.Портфель кредитів'!A:AC,3,FALSE),\"\")","v":""},{"$f":"IFERROR(VLOOKUP(A254,'1.Портфель кредитів'!A:AC,14,FALSE),\"\")","v":""}]
[null,{"$f":"IFERROR(VLOOKUP(A255,'1.Портфель кредитів'!A:AC,3,FALSE),\"\")","v":""},{"$f":"IFERROR(VLOOKUP(A255,'1.Портфель кредитів'!A:AC,14,FALSE),\"\")","v":""}]
[null,{"$f":"IFERROR(VLOOKUP(A256,'1.Портфель кредитів'!A:AC,3,FALSE),\"\")","v":""},{"$f":"IFERROR(VLOOKUP(A256,'1.Портфель кредитів'!A:AC,14,FALSE),\"\")","v":""}]
[null,{"$f":"IFERROR(VLOOKUP(A257,'1.Портфель кредитів'!A:AC,3,FALSE),\"\")","v":""},{"$f":"IFERROR(VLOOKUP(A257,'1.Портфель кредитів'!A:AC,14,FALSE),\"\")","v":""}]
[null,{"$f":"IFERROR(VLOOKUP(A258,'1.Портфель кредитів'!A:AC,3,FALSE),\"\")","v":""},{"$f":"IFERROR(VLOOKUP(A258,'1.Портфель кредитів'!A:AC,14,FALSE),\"\")","v":""}]
[null,{"$f":"IFERROR(VLOOKUP(A259,'1.Портфель кредитів'!A:AC,3,FALSE),\"\")","v":""},{"$f":"IFERROR(VLOOKUP(A259,'1.Портфель кредитів'!A:AC,14,FALSE),\"\")","v":""}]
[null,{"$f":"IFERROR(VLOOKUP(A260,'1.Портфель кредитів'!A:AC,3,FALSE),\"\")","v":""},{"$f":"IFERROR(VLOOKUP(A260,'1.Портфель кредитів'!A:AC,14,FALSE),\"\")","v":""}]
[null,{"$f":"IFERROR(VLOOKUP(A261,'1.Портфель кредитів'!A:AC,3,FALSE),\"\")","v":""},{"$f":"IFERROR(VLOOKUP(A261,'1.Портфель кредитів'!A:AC,14,FALSE),\"\")","v":""}]
[null,{"$f":"IFERROR(VLOOKUP(A262,'1.Портфель кредитів'!A:AC,3,FALSE),\"\")","v":""},{"$f":"IFERROR(VLOOKUP(A262,'1.Портфель кредитів'!A:AC,14,FALSE),\"\")","v":""}]
[null,{"$f":"IFERROR(VLOOKUP(A263,'1.Портфель кредитів'!A:AC,3,FALSE),\"\")","v":""},{"$f":"IFERROR(VLOOKUP(A263,'1.Портфель кредитів'!A:AC,14,FALSE),\"\")","v":""}]
[null,{"$f":"IFERROR(VLOOKUP(A264,'1.Портфель кредитів'!A:AC,3,FALSE),\"\")","v":""},{"$f":"IFERROR(VLOOKUP(A264,'1.Портфель кредитів'!A:AC,14,FALSE),\"\")","v":""}]
[null,{"$f":"IFERROR(VLOOKUP(A265,'1.Портфель кредитів'!A:AC,3,FALSE),\"\")","v":""},{"$f":"IFERROR(VLOOKUP(A265,'1.Портфель кредитів'!A:AC,14,FALSE),\"\")","v":""}]
[null,{"$f":"IFERROR(VLOOKUP(A266,'1.Портфель кредитів'!A:AC,3,FALSE),\"\")","v":""},{"$f":"IFERROR(VLOOKUP(A266,'1.Портфель кредитів'!A:AC,14,FALSE),\"\")","v":""}]
[null,{"$f":"IFERROR(VLOOKUP(A267,'1.Портфель кредитів'!A:AC,3,FALSE),\"\")","v":""},{"$f":"IFERROR(VLOOKUP(A267,'1.Портфель кредитів'!A:AC,14,FALSE),\"\")","v":""}]
[null,{"$f":"IFERROR(VLOOKUP(A268,'1.Портфель кредитів'!A:AC,3,FALSE),\"\")","v":""},{"$f":"IFERROR(VLOOKUP(A268,'1.Портфель кредитів'!A:AC,14,FALSE),\"\")","v":""}]
[null,{"$f":"IFERROR(VLOOKUP(A269,'1.Портфель кредитів'!A:AC,3,FALSE),\"\")","v":""},{"$f":"IFERROR(VLOOKUP(A269,'1.Портфель кредитів'!A:AC,14,FALSE),\"\")","v":""}]
[null,{"$f":"IFERROR(VLOOKUP(A270,'1.Портфель кредитів'!A:AC,3,FALSE),\"\")","v":""},{"$f":"IFERROR(VLOOKUP(A270,'1.Портфель кредитів'!A:AC,14,FALSE),\"\")","v":""}]
[null,{"$f":"IFERROR(VLOOKUP(A271,'1.Портфель кредитів'!A:AC,3,FALSE),\"\")","v":""},{"$f":"IFERROR(VLOOKUP(A271,'1.Портфель кредитів'!A:AC,14,FALSE),\"\")","v":""}]
[null,{"$f":"IFERROR(VLOOKUP(A272,'1.Портфель кредитів'!A:AC,3,FALSE),\"\")","v":""},{"$f":"IFERROR(VLOOKUP(A272,'1.Портфель кредитів'!A:AC,14,FALSE),\"\")","v":""}]
[null,{"$f":"IFERROR(VLOOKUP(A273,'1.Портфель кредитів'!A:AC,3,FALSE),\"\")","v":""},{"$f":"IFERROR(VLOOKUP(A273,'1.Портфель кредитів'!A:AC,14,FALSE),\"\")","v":""}]
[null,{"$f":"IFERROR(VLOOKUP(A274,'1.Портфель кредитів'!A:AC,3,FALSE),\"\")","v":""},{"$f":"IFERROR(VLOOKUP(A274,'1.Портфель кредитів'!A:AC,14,FALSE),\"\")","v":""}]
[null,{"$f":"IFERROR(VLOOKUP(A275,'1.Портфель кредитів'!A:AC,3,FALSE),\"\")","v":""},{"$f":"IFERROR(VLOOKUP(A275,'1.Портфель кредитів'!A:AC,14,FALSE),\"\")","v":""}]
[null,{"$f":"IFERROR(VLOOKUP(A276,'1.Портфель кредитів'!A:AC,3,FALSE),\"\")","v":""},{"$f":"IFERROR(VLOOKUP(A276,'1.Портфель кредитів'!A:AC,14,FALSE),\"\")","v":""}]
[null,{"$f":"IFERROR(VLOOKUP(A277,'1.Портфель кредитів'!A:AC,3,FALSE),\"\")","v":""},{"$f":"IFERROR(VLOOKUP(A277,'1.Портфель кредитів'!A:AC,14,FALSE),\"\")","v":""}]
[null,{"$f":"IFERROR(VLOOKUP(A278,'1.Портфель кредитів'!A:AC,3,FALSE),\"\")","v":""},{"$f":"IFERROR(VLOOKUP(A278,'1.Портфель кредитів'!A:AC,14,FALSE),\"\")","v":""}]
[null,{"$f":"IFERROR(VLOOKUP(A279,'1.Портфель кредитів'!A:AC,3,FALSE),\"\")","v":""},{"$f":"IFERROR(VLOOKUP(A279,'1.Портфель кредитів'!A:AC,14,FALSE),\"\")","v":""}]
[null,{"$f":"IFERROR(VLOOKUP(A280,'1.Портфель кредитів'!A:AC,3,FALSE),\"\")","v":""},{"$f":"IFERROR(VLOOKUP(A280,'1.Портфель кредитів'!A:AC,14,FALSE),\"\")","v":""}]
[null,{"$f":"IFERROR(VLOOKUP(A281,'1.Портфель кредитів'!A:AC,3,FALSE),\"\")","v":""},{"$f":"IFERROR(VLOOKUP(A281,'1.Портфель кредитів'!A:AC,14,FALSE),\"\")","v":""}]
[null,{"$f":"IFERROR(VLOOKUP(A282,'1.Портфель кредитів'!A:AC,3,FALSE),\"\")","v":""},{"$f":"IFERROR(VLOOKUP(A282,'1.Портфель кредитів'!A:AC,14,FALSE),\"\")","v":""}]
[null,{"$f":"IFERROR(VLOOKUP(A283,'1.Портфель кредитів'!A:AC,3,FALSE),\"\")","v":""},{"$f":"IFERROR(VLOOKUP(A283,'1.Портфель кредитів'!A:AC,14,FALSE),\"\")","v":""}]
[null,{"$f":"IFERROR(VLOOKUP(A284,'1.Портфель кредитів'!A:AC,3,FALSE),\"\")","v":""},{"$f":"IFERROR(VLOOKUP(A284,'1.Портфель кредитів'!A:AC,14,FALSE),\"\")","v":""}]
[null,{"$f":"IFERROR(VLOOKUP(A285,'1.Портфель кредитів'!A:AC,3,FALSE),\"\")","v":""},{"$f":"IFERROR(VLOOKUP(A285,'1.Портфель кредитів'!A:AC,14,FALSE),\"\")","v":""}]
[null,{"$f":"IFERROR(VLOOKUP(A286,'1.Портфель кредитів'!A:AC,3,FALSE),\"\")","v":""},{"$f":"IFERROR(VLOOKUP(A286,'1.Портфель кредитів'!A:AC,14,FALSE),\"\")","v":""}]
[null,{"$f":"IFERROR(VLOOKUP(A287,'1.Портфель кредитів'!A:AC,3,FALSE),\"\")","v":""},{"$f":"IFERROR(VLOOKUP(A287,'1.Портфель кредитів'!A:AC,14,FALSE),\"\")","v":""}]
[null,{"$f":"IFERROR(VLOOKUP(A288,'1.Портфель кредитів'!A:AC,3,FALSE),\"\")","v":""},{"$f":"IFERROR(VLOOKUP(A288,'1.Портфель кредитів'!A:AC,14,FALSE),\"\")","v":""}]
[null,{"$f":"IFERROR(VLOOKUP(A289,'1.Портфель кредитів'!A:AC,3,FALSE),\"\")","v":""},{"$f":"IFERROR(VLOOKUP(A289,'1.Портфель кредитів'!A:AC,14,FALSE),\"\")","v":""}]
[null,{"$f":"IFERROR(VLOOKUP(A290,'1.Портфель кредитів'!A:AC,3,FALSE),\"\")","v":""},{"$f":"IFERROR(VLOOKUP(A290,'1.Портфель кредитів'!A:AC,14,FALSE),\"\")","v":""}]
[null,{"$f":"IFERROR(VLOOKUP(A291,'1.Портфель кредитів'!A:AC,3,FALSE),\"\")","v":""},{"$f":"IFERROR(VLOOKUP(A291,'1.Портфель кредитів'!A:AC,14,FALSE),\"\")","v":""}]
[null,{"$f":"IFERROR(VLOOKUP(A292,'1.Портфель кредитів'!A:AC,3,FALSE),\"\")","v":""},{"$f":"IFERROR(VLOOKUP(A292,'1.Портфель кредитів'!A:AC,14,FALSE),\"\")","v":""}]
[null,{"$f":"IFERROR(VLOOKUP(A293,'1.Портфель кредитів'!A:AC,3,FALSE),\"\")","v":""},{"$f":"IFERROR(VLOOKUP(A293,'1.Портфель кредитів'!A:AC,14,FALSE),\"\")","v":""}]
[null,{"$f":"IFERROR(VLOOKUP(A294,'1.Портфель кредитів'!A:AC,3,FALSE),\"\")","v":""},{"$f":"IFERROR(VLOOKUP(A294,'1.Портфель кредитів'!A:AC,14,FALSE),\"\")","v":""}]
[null,{"$f":"IFERROR(VLOOKUP(A295,'1.Портфель кредитів'!A:AC,3,FALSE),\"\")","v":""},{"$f":"IFERROR(VLOOKUP(A295,'1.Портфель кредитів'!A:AC,14,FALSE),\"\")","v":""}]
[null,{"$f":"IFERROR(VLOOKUP(A296,'1.Портфель кредитів'!A:AC,3,FALSE),\"\")","v":""},{"$f":"IFERROR(VLOOKUP(A296,'1.Портфель кредитів'!A:AC,14,FALSE),\"\")","v":""}]
[null,{"$f":"IFERROR(VLOOKUP(A297,'1.Портфель кредитів'!A:AC,3,FALSE),\"\")","v":""},{"$f":"IFERROR(VLOOKUP(A297,'1.Портфель кредитів'!A:AC,14,FALSE),\"\")","v":""}]
[null,{"$f":"IFERROR(VLOOKUP(A298,'1.Портфель кредитів'!A:AC,3,FALSE),\"\")","v":""},{"$f":"IFERROR(VLOOKUP(A298,'1.Портфель кредитів'!A:AC,14,FALSE),\"\")","v":""}]
[null,{"$f":"IFERROR(VLOOKUP(A299,'1.Портфель кредитів'!A:AC,3,FALSE),\"\")","v":""},{"$f":"IFERROR(VLOOKUP(A299,'1.Портфель кредитів'!A:AC,14,FALSE),\"\")","v":""}]
[null,{"$f":"IFERROR(VLOOKUP(A300,'1.Портфель кредитів'!A:AC,3,FALSE),\"\")","v":""},{"$f":"IFERROR(VLOOKUP(A300,'1.Портфель кредитів'!A:AC,14,FALSE),\"\")","v":""}]
[null,{"$f":"IFERROR(VLOOKUP(A301,'1.Портфель кредитів'!A:AC,3,FALSE),\"\")","v":""},{"$f":"IFERROR(VLOOKUP(A301,'1.Портфель кредитів'!A:AC,14,FALSE),\"\")","v":""}]
[null,{"$f":"IFERROR(VLOOKUP(A302,'1.Портфель кредитів'!A:AC,3,FALSE),\"\")","v":""},{"$f":"IFERROR(VLOOKUP(A302,'1.Портфель кредитів'!A:AC,14,FALSE),\"\")","v":""}]
[null,{"$f":"IFERROR(VLOOKUP(A303,'1.Портфель кредитів'!A:AC,3,FALSE),\"\")","v":""},{"$f":"IFERROR(VLOOKUP(A303,'1.Портфель кредитів'!A:AC,14,FALSE),\"\")","v":""}]
[null,{"$f":"IFERROR(VLOOKUP(A304,'1.Портфель кредитів'!A:AC,3,FALSE),\"\")","v":""},{"$f":"IFERROR(VLOOKUP(A304,'1.Портфель кредитів'!A:AC,14,FALSE),\"\")","v":""}]
[null,{"$f":"IFERROR(VLOOKUP(A305,'1.Портфель кредитів'!A:AC,3,FALSE),\"\")","v":""},{"$f":"IFERROR(VLOOKUP(A305,'1.Портфель кредитів'!A:AC,14,FALSE),\"\")","v":""}]
[null,{"$f":"IFERROR(VLOOKUP(A306,'1.Портфель кредитів'!A:AC,3,FALSE),\"\")","v":""},{"$f":"IFERROR(VLOOKUP(A306,'1.Портфель кредитів'!A:AC,14,FALSE),\"\")","v":""}]
[null,{"$f":"IFERROR(VLOOKUP(A307,'1.Портфель кредитів'!A:AC,3,FALSE),\"\")","v":""},{"$f":"IFERROR(VLOOKUP(A307,'1.Портфель кредитів'!A:AC,14,FALSE),\"\")","v":""}]
[null,{"$f":"IFERROR(VLOOKUP(A308,'1.Портфель кредитів'!A:AC,3,FALSE),\"\")","v":""},{"$f":"IFERROR(VLOOKUP(A308,'1.Портфель кредитів'!A:AC,14,FALSE),\"\")","v":""}]
[null,{"$f":"IFERROR(VLOOKUP(A309,'1.Портфель кредитів'!A:AC,3,FALSE),\"\")","v":""},{"$f":"IFERROR(VLOOKUP(A309,'1.Портфель кредитів'!A:AC,14,FALSE),\"\")","v":""}]
[null,{"$f":"IFERROR(VLOOKUP(A310,'1.Портфель кредитів'!A:AC,3,FALSE),\"\")","v":""},{"$f":"IFERROR(VLOOKUP(A310,'1.Портфель кредитів'!A:AC,14,FALSE),\"\")","v":""}]
[null,{"$f":"IFERROR(VLOOKUP(A311,'1.Портфель кредитів'!A:AC,3,FALSE),\"\")","v":""},{"$f":"IFERROR(VLOOKUP(A311,'1.Портфель кредитів'!A:AC,14,FALSE),\"\")","v":""}]
[null,{"$f":"IFERROR(VLOOKUP(A312,'1.Портфель кредитів'!A:AC,3,FALSE),\"\")","v":""},{"$f":"IFERROR(VLOOKUP(A312,'1.Портфель кредитів'!A:AC,14,FALSE),\"\")","v":""}]
[null,{"$f":"IFERROR(VLOOKUP(A313,'1.Портфель кредитів'!A:AC,3,FALSE),\"\")","v":""},{"$f":"IFERROR(VLOOKUP(A313,'1.Портфель кредитів'!A:AC,14,FALSE),\"\")","v":""}]
[null,{"$f":"IFERROR(VLOOKUP(A314,'1.Портфель кредитів'!A:AC,3,FALSE),\"\")","v":""},{"$f":"IFERROR(VLOOKUP(A314,'1.Портфель кредитів'!A:AC,14,FALSE),\"\")","v":""}]
[null,{"$f":"IFERROR(VLOOKUP(A315,'1.Портфель кредитів'!A:AC,3,FALSE),\"\")","v":""},{"$f":"IFERROR(VLOOKUP(A315,'1.Портфель кредитів'!A:AC,14,FALSE),\"\")","v":""}]
[null,{"$f":"IFERROR(VLOOKUP(A316,'1.Портфель кредитів'!A:AC,3,FALSE),\"\")","v":""},{"$f":"IFERROR(VLOOKUP(A316,'1.Портфель кредитів'!A:AC,14,FALSE),\"\")","v":""}]
[null,{"$f":"IFERROR(VLOOKUP(A317,'1.Портфель кредитів'!A:AC,3,FALSE),\"\")","v":""},{"$f":"IFERROR(VLOOKUP(A317,'1.Портфель кредитів'!A:AC,14,FALSE),\"\")","v":""}]
[null,{"$f":"IFERROR(VLOOKUP(A318,'1.Портфель кредитів'!A:AC,3,FALSE),\"\")","v":""},{"$f":"IFERROR(VLOOKUP(A318,'1.Портфель кредитів'!A:AC,14,FALSE),\"\")","v":""}]
[null,{"$f":"IFERROR(VLOOKUP(A319,'1.Портфель кредитів'!A:AC,3,FALSE),\"\")","v":""},{"$f":"IFERROR(VLOOKUP(A319,'1.Портфель кредитів'!A:AC,14,FALSE),\"\")","v":""}]
[null,{"$f":"IFERROR(VLOOKUP(A320,'1.Портфель кредитів'!A:AC,3,FALSE),\"\")","v":""},{"$f":"IFERROR(VLOOKUP(A320,'1.Портфель кредитів'!A:AC,14,FALSE),\"\")","v":""}]
[null,{"$f":"IFERROR(VLOOKUP(A321,'1.Портфель кредитів'!A:AC,3,FALSE),\"\")","v":""},{"$f":"IFERROR(VLOOKUP(A321,'1.Портфель кредитів'!A:AC,14,FALSE),\"\")","v":""}]
[null,{"$f":"IFERROR(VLOOKUP(A322,'1.Портфель кредитів'!A:AC,3,FALSE),\"\")","v":""},{"$f":"IFERROR(VLOOKUP(A322,'1.Портфель кредитів'!A:AC,14,FALSE),\"\")","v":""}]
[null,{"$f":"IFERROR(VLOOKUP(A323,'1.Портфель кредитів'!A:AC,3,FALSE),\"\")","v":""},{"$f":"IFERROR(VLOOKUP(A323,'1.Портфель кредитів'!A:AC,14,FALSE),\"\")","v":""}]
[null,{"$f":"IFERROR(VLOOKUP(A324,'1.Портфель кредитів'!A:AC,3,FALSE),\"\")","v":""},{"$f":"IFERROR(VLOOKUP(A324,'1.Портфель кредитів'!A:AC,14,FALSE),\"\")","v":""}]
[null,{"$f":"IFERROR(VLOOKUP(A325,'1.Портфель кредитів'!A:AC,3,FALSE),\"\")","v":""},{"$f":"IFERROR(VLOOKUP(A325,'1.Портфель кредитів'!A:AC,14,FALSE),\"\")","v":""}]
[null,{"$f":"IFERROR(VLOOKUP(A326,'1.Портфель кредитів'!A:AC,3,FALSE),\"\")","v":""},{"$f":"IFERROR(VLOOKUP(A326,'1.Портфель кредитів'!A:AC,14,FALSE),\"\")","v":""}]
[null,{"$f":"IFERROR(VLOOKUP(A327,'1.Портфель кредитів'!A:AC,3,FALSE),\"\")","v":""},{"$f":"IFERROR(VLOOKUP(A327,'1.Портфель кредитів'!A:AC,14,FALSE),\"\")","v":""}]
[null,{"$f":"IFERROR(VLOOKUP(A328,'1.Портфель кредитів'!A:AC,3,FALSE),\"\")","v":""},{"$f":"IFERROR(VLOOKUP(A328,'1.Портфель кредитів'!A:AC,14,FALSE),\"\")","v":""}]
[null,{"$f":"IFERROR(VLOOKUP(A329,'1.Портфель кредитів'!A:AC,3,FALSE),\"\")","v":""},{"$f":"IFERROR(VLOOKUP(A329,'1.Портфель кредитів'!A:AC,14,FALSE),\"\")","v":""}]
[null,{"$f":"IFERROR(VLOOKUP(A330,'1.Портфель кредитів'!A:AC,3,FALSE),\"\")","v":""},{"$f":"IFERROR(VLOOKUP(A330,'1.Портфель кредитів'!A:AC,14,FALSE),\"\")","v":""}]
[null,{"$f":"IFERROR(VLOOKUP(A331,'1.Портфель кредитів'!A:AC,3,FALSE),\"\")","v":""},{"$f":"IFERROR(VLOOKUP(A331,'1.Портфель кредитів'!A:AC,14,FALSE),\"\")","v":""}]
[null,{"$f":"IFERROR(VLOOKUP(A332,'1.Портфель кредитів'!A:AC,3,FALSE),\"\")","v":""},{"$f":"IFERROR(VLOOKUP(A332,'1.Портфель кредитів'!A:AC,14,FALSE),\"\")","v":""}]
[null,{"$f":"IFERROR(VLOOKUP(A333,'1.Портфель кредитів'!A:AC,3,FALSE),\"\")","v":""},{"$f":"IFERROR(VLOOKUP(A333,'1.Портфель кредитів'!A:AC,14,FALSE),\"\")","v":""}]
[null,{"$f":"IFERROR(VLOOKUP(A334,'1.Портфель кредитів'!A:AC,3,FALSE),\"\")","v":""},{"$f":"IFERROR(VLOOKUP(A334,'1.Портфель кредитів'!A:AC,14,FALSE),\"\")","v":""}]
[null,{"$f":"IFERROR(VLOOKUP(A335,'1.Портфель кредитів'!A:AC,3,FALSE),\"\")","v":""},{"$f":"IFERROR(VLOOKUP(A335,'1.Портфель кредитів'!A:AC,14,FALSE),\"\")","v":""}]
[null,{"$f":"IFERROR(VLOOKUP(A336,'1.Портфель кредитів'!A:AC,3,FALSE),\"\")","v":""},{"$f":"IFERROR(VLOOKUP(A336,'1.Портфель кредитів'!A:AC,14,FALSE),\"\")","v":""}]
[null,{"$f":"IFERROR(VLOOKUP(A337,'1.Портфель кредитів'!A:AC,3,FALSE),\"\")","v":""},{"$f":"IFERROR(VLOOKUP(A337,'1.Портфель кредитів'!A:AC,14,FALSE),\"\")","v":""}]
[null,{"$f":"IFERROR(VLOOKUP(A338,'1.Портфель кредитів'!A:AC,3,FALSE),\"\")","v":""},{"$f":"IFERROR(VLOOKUP(A338,'1.Портфель кредитів'!A:AC,14,FALSE),\"\")","v":""}]
[null,{"$f":"IFERROR(VLOOKUP(A339,'1.Портфель кредитів'!A:AC,3,FALSE),\"\")","v":""},{"$f":"IFERROR(VLOOKUP(A339,'1.Портфель кредитів'!A:AC,14,FALSE),\"\")","v":""}]
[null,{"$f":"IFERROR(VLOOKUP(A340,'1.Портфель кредитів'!A:AC,3,FALSE),\"\")","v":""},{"$f":"IFERROR(VLOOKUP(A340,'1.Портфель кредитів'!A:AC,14,FALSE),\"\")","v":""}]
[null,{"$f":"IFERROR(VLOOKUP(A341,'1.Портфель кредитів'!A:AC,3,FALSE),\"\")","v":""},{"$f":"IFERROR(VLOOKUP(A341,'1.Портфель кредитів'!A:AC,14,FALSE),\"\")","v":""}]
[null,{"$f":"IFERROR(VLOOKUP(A342,'1.Портфель кредитів'!A:AC,3,FALSE),\"\")","v":""},{"$f":"IFERROR(VLOOKUP(A342,'1.Портфель кредитів'!A:AC,14,FALSE),\"\")","v":""}]
[null,{"$f":"IFERROR(VLOOKUP(A343,'1.Портфель кредитів'!A:AC,3,FALSE),\"\")","v":""},{"$f":"IFERROR(VLOOKUP(A343,'1.Портфель кредитів'!A:AC,14,FALSE),\"\")","v":""}]
[null,{"$f":"IFERROR(VLOOKUP(A344,'1.Портфель кредитів'!A:AC,3,FALSE),\"\")","v":""},{"$f":"IFERROR(VLOOKUP(A344,'1.Портфель кредитів'!A:AC,14,FALSE),\"\")","v":""}]
[null,{"$f":"IFERROR(VLOOKUP(A345,'1.Портфель кредитів'!A:AC,3,FALSE),\"\")","v":""},{"$f":"IFERROR(VLOOKUP(A345,'1.Портфель кредитів'!A:AC,14,FALSE),\"\")","v":""}]
[null,{"$f":"IFERROR(VLOOKUP(A346,'1.Портфель кредитів'!A:AC,3,FALSE),\"\")","v":""},{"$f":"IFERROR(VLOOKUP(A346,'1.Портфель кредитів'!A:AC,14,FALSE),\"\")","v":""}]
[null,{"$f":"IFERROR(VLOOKUP(A347,'1.Портфель кредитів'!A:AC,3,FALSE),\"\")","v":""},{"$f":"IFERROR(VLOOKUP(A347,'1.Портфель кредитів'!A:AC,14,FALSE),\"\")","v":""}]
[null,{"$f":"IFERROR(VLOOKUP(A348,'1.Портфель кредитів'!A:AC,3,FALSE),\"\")","v":""},{"$f":"IFERROR(VLOOKUP(A348,'1.Портфель кредитів'!A:AC,14,FALSE),\"\")","v":""}]
[null,{"$f":"IFERROR(VLOOKUP(A349,'1.Портфель кредитів'!A:AC,3,FALSE),\"\")","v":""},{"$f":"IFERROR(VLOOKUP(A349,'1.Портфель кредитів'!A:AC,14,FALSE),\"\")","v":""}]
[null,{"$f":"IFERROR(VLOOKUP(A350,'1.Портфель кредитів'!A:AC,3,FALSE),\"\")","v":""},{"$f":"IFERROR(VLOOKUP(A350,'1.Портфель кредитів'!A:AC,14,FALSE),\"\")","v":""}]
[null,{"$f":"IFERROR(VLOOKUP(A351,'1.Портфель кредитів'!A:AC,3,FALSE),\"\")","v":""},{"$f":"IFERROR(VLOOKUP(A351,'1.Портфель кредитів'!A:AC,14,FALSE),\"\")","v":""}]
[null,{"$f":"IFERROR(VLOOKUP(A352,'1.Портфель кредитів'!A:AC,3,FALSE),\"\")","v":""},{"$f":"IFERROR(VLOOKUP(A352,'1.Портфель кредитів'!A:AC,14,FALSE),\"\")","v":""}]
[null,{"$f":"IFERROR(VLOOKUP(A353,'1.Портфель кредитів'!A:AC,3,FALSE),\"\")","v":""},{"$f":"IFERROR(VLOOKUP(A353,'1.Портфель кредитів'!A:AC,14,FALSE),\"\")","v":""}]
[null,{"$f":"IFERROR(VLOOKUP(A354,'1.Портфель кредитів'!A:AC,3,FALSE),\"\")","v":""},{"$f":"IFERROR(VLOOKUP(A354,'1.Портфель кредитів'!A:AC,14,FALSE),\"\")","v":""}]
[null,{"$f":"IFERROR(VLOOKUP(A355,'1.Портфель кредитів'!A:AC,3,FALSE),\"\")","v":""},{"$f":"IFERROR(VLOOKUP(A355,'1.Портфель кредитів'!A:AC,14,FALSE),\"\")","v":""}]
[null,{"$f":"IFERROR(VLOOKUP(A356,'1.Портфель кредитів'!A:AC,3,FALSE),\"\")","v":""},{"$f":"IFERROR(VLOOKUP(A356,'1.Портфель кредитів'!A:AC,14,FALSE),\"\")","v":""}]
[null,{"$f":"IFERROR(VLOOKUP(A357,'1.Портфель кредитів'!A:AC,3,FALSE),\"\")","v":""},{"$f":"IFERROR(VLOOKUP(A357,'1.Портфель кредитів'!A:AC,14,FALSE),\"\")","v":""}]
[null,{"$f":"IFERROR(VLOOKUP(A358,'1.Портфель кредитів'!A:AC,3,FALSE),\"\")","v":""},{"$f":"IFERROR(VLOOKUP(A358,'1.Портфель кредитів'!A:AC,14,FALSE),\"\")","v":""}]
[null,{"$f":"IFERROR(VLOOKUP(A359,'1.Портфель кредитів'!A:AC,3,FALSE),\"\")","v":""},{"$f":"IFERROR(VLOOKUP(A359,'1.Портфель кредитів'!A:AC,14,FALSE),\"\")","v":""}]
[null,{"$f":"IFERROR(VLOOKUP(A360,'1.Портфель кредитів'!A:AC,3,FALSE),\"\")","v":""},{"$f":"IFERROR(VLOOKUP(A360,'1.Портфель кредитів'!A:AC,14,FALSE),\"\")","v":""}]
[null,{"$f":"IFERROR(VLOOKUP(A361,'1.Портфель кредитів'!A:AC,3,FALSE),\"\")","v":""},{"$f":"IFERROR(VLOOKUP(A361,'1.Портфель кредитів'!A:AC,14,FALSE),\"\")","v":""}]
[null,{"$f":"IFERROR(VLOOKUP(A362,'1.Портфель кредитів'!A:AC,3,FALSE),\"\")","v":""},{"$f":"IFERROR(VLOOKUP(A362,'1.Портфель кредитів'!A:AC,14,FALSE),\"\")","v":""}]
[null,{"$f":"IFERROR(VLOOKUP(A363,'1.Портфель кредитів'!A:AC,3,FALSE),\"\")","v":""},{"$f":"IFERROR(VLOOKUP(A363,'1.Портфель кредитів'!A:AC,14,FALSE),\"\")","v":""}]
[null,{"$f":"IFERROR(VLOOKUP(A364,'1.Портфель кредитів'!A:AC,3,FALSE),\"\")","v":""},{"$f":"IFERROR(VLOOKUP(A364,'1.Портфель кредитів'!A:AC,14,FALSE),\"\")","v":""}]
[null,{"$f":"IFERROR(VLOOKUP(A365,'1.Портфель кредитів'!A:AC,3,FALSE),\"\")","v":""},{"$f":"IFERROR(VLOOKUP(A365,'1.Портфель кредитів'!A:AC,14,FALSE),\"\")","v":""}]
[null,{"$f":"IFERROR(VLOOKUP(A366,'1.Портфель кредитів'!A:AC,3,FALSE),\"\")","v":""},{"$f":"IFERROR(VLOOKUP(A366,'1.Портфель кредитів'!A:AC,14,FALSE),\"\")","v":""}]
[null,{"$f":"IFERROR(VLOOKUP(A367,'1.Портфель кредитів'!A:AC,3,FALSE),\"\")","v":""},{"$f":"IFERROR(VLOOKUP(A367,'1.Портфель кредитів'!A:AC,14,FALSE),\"\")","v":""}]
[null,{"$f":"IFERROR(VLOOKUP(A368,'1.Портфель кредитів'!A:AC,3,FALSE),\"\")","v":""},{"$f":"IFERROR(VLOOKUP(A368,'1.Портфель кредитів'!A:AC,14,FALSE),\"\")","v":""}]
[null,{"$f":"IFERROR(VLOOKUP(A369,'1.Портфель кредитів'!A:AC,3,FALSE),\"\")","v":""},{"$f":"IFERROR(VLOOKUP(A369,'1.Портфель кредитів'!A:AC,14,FALSE),\"\")","v":""}]
[null,{"$f":"IFERROR(VLOOKUP(A370,'1.Портфель кредитів'!A:AC,3,FALSE),\"\")","v":""},{"$f":"IFERROR(VLOOKUP(A370,'1.Портфель кредитів'!A:AC,14,FALSE),\"\")","v":""}]
[null,{"$f":"IFERROR(VLOOKUP(A371,'1.Портфель кредитів'!A:AC,3,FALSE),\"\")","v":""},{"$f":"IFERROR(VLOOKUP(A371,'1.Портфель кредитів'!A:AC,14,FALSE),\"\")","v":""}]
[null,{"$f":"IFERROR(VLOOKUP(A372,'1.Портфель кредитів'!A:AC,3,FALSE),\"\")","v":""},{"$f":"IFERROR(VLOOKUP(A372,'1.Портфель кредитів'!A:AC,14,FALSE),\"\")","v":""}]
[null,{"$f":"IFERROR(VLOOKUP(A373,'1.Портфель кредитів'!A:AC,3,FALSE),\"\")","v":""},{"$f":"IFERROR(VLOOKUP(A373,'1.Портфель кредитів'!A:AC,14,FALSE),\"\")","v":""}]
[null,{"$f":"IFERROR(VLOOKUP(A374,'1.Портфель кредитів'!A:AC,3,FALSE),\"\")","v":""},{"$f":"IFERROR(VLOOKUP(A374,'1.Портфель кредитів'!A:AC,14,FALSE),\"\")","v":""}]
[null,{"$f":"IFERROR(VLOOKUP(A375,'1.Портфель кредитів'!A:AC,3,FALSE),\"\")","v":""},{"$f":"IFERROR(VLOOKUP(A375,'1.Портфель кредитів'!A:AC,14,FALSE),\"\")","v":""}]
[null,{"$f":"IFERROR(VLOOKUP(A376,'1.Портфель кредитів'!A:AC,3,FALSE),\"\")","v":""},{"$f":"IFERROR(VLOOKUP(A376,'1.Портфель кредитів'!A:AC,14,FALSE),\"\")","v":""}]
[null,{"$f":"IFERROR(VLOOKUP(A377,'1.Портфель кредитів'!A:AC,3,FALSE),\"\")","v":""},{"$f":"IFERROR(VLOOKUP(A377,'1.Портфель кредитів'!A:AC,14,FALSE),\"\")","v":""}]
[null,{"$f":"IFERROR(VLOOKUP(A378,'1.Портфель кредитів'!A:AC,3,FALSE),\"\")","v":""},{"$f":"IFERROR(VLOOKUP(A378,'1.Портфель кредитів'!A:AC,14,FALSE),\"\")","v":""}]
[null,{"$f":"IFERROR(VLOOKUP(A379,'1.Портфель кредитів'!A:AC,3,FALSE),\"\")","v":""},{"$f":"IFERROR(VLOOKUP(A379,'1.Портфель кредитів'!A:AC,14,FALSE),\"\")","v":""}]
[null,{"$f":"IFERROR(VLOOKUP(A380,'1.Портфель кредитів'!A:AC,3,FALSE),\"\")","v":""},{"$f":"IFERROR(VLOOKUP(A380,'1.Портфель кредитів'!A:AC,14,FALSE),\"\")","v":""}]
[null,{"$f":"IFERROR(VLOOKUP(A381,'1.Портфель кредитів'!A:AC,3,FALSE),\"\")","v":""},{"$f":"IFERROR(VLOOKUP(A381,'1.Портфель кредитів'!A:AC,14,FALSE),\"\")","v":""}]
[null,{"$f":"IFERROR(VLOOKUP(A382,'1.Портфель кредитів'!A:AC,3,FALSE),\"\")","v":""},{"$f":"IFERROR(VLOOKUP(A382,'1.Портфель кредитів'!A:AC,14,FALSE),\"\")","v":""}]
[null,{"$f":"IFERROR(VLOOKUP(A383,'1.Портфель кредитів'!A:AC,3,FALSE),\"\")","v":""},{"$f":"IFERROR(VLOOKUP(A383,'1.Портфель кредитів'!A:AC,14,FALSE),\"\")","v":""}]
[null,{"$f":"IFERROR(VLOOKUP(A384,'1.Портфель кредитів'!A:AC,3,FALSE),\"\")","v":""},{"$f":"IFERROR(VLOOKUP(A384,'1.Портфель кредитів'!A:AC,14,FALSE),\"\")","v":""}]
[null,{"$f":"IFERROR(VLOOKUP(A385,'1.Портфель кредитів'!A:AC,3,FALSE),\"\")","v":""},{"$f":"IFERROR(VLOOKUP(A385,'1.Портфель кредитів'!A:AC,14,FALSE),\"\")","v":""}]
[null,{"$f":"IFERROR(VLOOKUP(A386,'1.Портфель кредитів'!A:AC,3,FALSE),\"\")","v":""},{"$f":"IFERROR(VLOOKUP(A386,'1.Портфель кредитів'!A:AC,14,FALSE),\"\")","v":""}]
[null,{"$f":"IFERROR(VLOOKUP(A387,'1.Портфель кредитів'!A:AC,3,FALSE),\"\")","v":""},{"$f":"IFERROR(VLOOKUP(A387,'1.Портфель кредитів'!A:AC,14,FALSE),\"\")","v":""}]
[null,{"$f":"IFERROR(VLOOKUP(A388,'1.Портфель кредитів'!A:AC,3,FALSE),\"\")","v":""},{"$f":"IFERROR(VLOOKUP(A388,'1.Портфель кредитів'!A:AC,14,FALSE),\"\")","v":""}]
[null,{"$f":"IFERROR(VLOOKUP(A389,'1.Портфель кредитів'!A:AC,3,FALSE),\"\")","v":""},{"$f":"IFERROR(VLOOKUP(A389,'1.Портфель кредитів'!A:AC,14,FALSE),\"\")","v":""}]
[null,{"$f":"IFERROR(VLOOKUP(A390,'1.Портфель кредитів'!A:AC,3,FALSE),\"\")","v":""},{"$f":"IFERROR(VLOOKUP(A390,'1.Портфель кредитів'!A:AC,14,FALSE),\"\")","v":""}]
[null,{"$f":"IFERROR(VLOOKUP(A391,'1.Портфель кредитів'!A:AC,3,FALSE),\"\")","v":""},{"$f":"IFERROR(VLOOKUP(A391,'1.Портфель кредитів'!A:AC,14,FALSE),\"\")","v":""}]
[null,{"$f":"IFERROR(VLOOKUP(A392,'1.Портфель кредитів'!A:AC,3,FALSE),\"\")","v":""},{"$f":"IFERROR(VLOOKUP(A392,'1.Портфель кредитів'!A:AC,14,FALSE),\"\")","v":""}]
[null,{"$f":"IFERROR(VLOOKUP(A393,'1.Портфель кредитів'!A:AC,3,FALSE),\"\")","v":""},{"$f":"IFERROR(VLOOKUP(A393,'1.Портфель кредитів'!A:AC,14,FALSE),\"\")","v":""}]
[null,{"$f":"IFERROR(VLOOKUP(A394,'1.Портфель кредитів'!A:AC,3,FALSE),\"\")","v":""},{"$f":"IFERROR(VLOOKUP(A394,'1.Портфель кредитів'!A:AC,14,FALSE),\"\")","v":""}]
[null,{"$f":"IFERROR(VLOOKUP(A395,'1.Портфель кредитів'!A:AC,3,FALSE),\"\")","v":""},{"$f":"IFERROR(VLOOKUP(A395,'1.Портфель кредитів'!A:AC,14,FALSE),\"\")","v":""}]
[null,{"$f":"IFERROR(VLOOKUP(A396,'1.Портфель кредитів'!A:AC,3,FALSE),\"\")","v":""},{"$f":"IFERROR(VLOOKUP(A396,'1.Портфель кредитів'!A:AC,14,FALSE),\"\")","v":""}]
[null,{"$f":"IFERROR(VLOOKUP(A397,'1.Портфель кредитів'!A:AC,3,FALSE),\"\")","v":""},{"$f":"IFERROR(VLOOKUP(A397,'1.Портфель кредитів'!A:AC,14,FALSE),\"\")","v":""}]
[null,{"$f":"IFERROR(VLOOKUP(A398,'1.Портфель кредитів'!A:AC,3,FALSE),\"\")","v":""},{"$f":"IFERROR(VLOOKUP(A398,'1.Портфель кредитів'!A:AC,14,FALSE),\"\")","v":""}]
[null,{"$f":"IFERROR(VLOOKUP(A399,'1.Портфель кредитів'!A:AC,3,FALSE),\"\")","v":""},{"$f":"IFERROR(VLOOKUP(A399,'1.Портфель кредитів'!A:AC,14,FALSE),\"\")","v":""}]
[null,{"$f":"IFERROR(VLOOKUP(A400,'1.Портфель кредитів'!A:AC,3,FALSE),\"\")","v":""},{"$f":"IFERROR(VLOOKUP(A400,'1.Портфель кредитів'!A:AC,14,FALSE),\"\")","v":""}]
[null,{"$f":"IFERROR(VLOOKUP(A401,'1.Портфель кредитів'!A:AC,3,FALSE),\"\")","v":""},{"$f":"IFERROR(VLOOKUP(A401,'1.Портфель кредитів'!A:AC,14,FALSE),\"\")","v":""}]
[null,{"$f":"IFERROR(VLOOKUP(A402,'1.Портфель кредитів'!A:AC,3,FALSE),\"\")","v":""},{"$f":"IFERROR(VLOOKUP(A402,'1.Портфель кредитів'!A:AC,14,FALSE),\"\")","v":""}]
[null,{"$f":"IFERROR(VLOOKUP(A403,'1.Портфель кредитів'!A:AC,3,FALSE),\"\")","v":""},{"$f":"IFERROR(VLOOKUP(A403,'1.Портфель кредитів'!A:AC,14,FALSE),\"\")","v":""}]
[null,{"$f":"IFERROR(VLOOKUP(A404,'1.Портфель кредитів'!A:AC,3,FALSE),\"\")","v":""},{"$f":"IFERROR(VLOOKUP(A404,'1.Портфель кредитів'!A:AC,14,FALSE),\"\")","v":""}]
[null,{"$f":"IFERROR(VLOOKUP(A405,'1.Портфель кредитів'!A:AC,3,FALSE),\"\")","v":""},{"$f":"IFERROR(VLOOKUP(A405,'1.Портфель кредитів'!A:AC,14,FALSE),\"\")","v":""}]
[null,{"$f":"IFERROR(VLOOKUP(A406,'1.Портфель кредитів'!A:AC,3,FALSE),\"\")","v":""},{"$f":"IFERROR(VLOOKUP(A406,'1.Портфель кредитів'!A:AC,14,FALSE),\"\")","v":""}]
[null,{"$f":"IFERROR(VLOOKUP(A407,'1.Портфель кредитів'!A:AC,3,FALSE),\"\")","v":""},{"$f":"IFERROR(VLOOKUP(A407,'1.Портфель кредитів'!A:AC,14,FALSE),\"\")","v":""}]
[null,{"$f":"IFERROR(VLOOKUP(A408,'1.Портфель кредитів'!A:AC,3,FALSE),\"\")","v":""},{"$f":"IFERROR(VLOOKUP(A408,'1.Портфель кредитів'!A:AC,14,FALSE),\"\")","v":""}]
[null,{"$f":"IFERROR(VLOOKUP(A409,'1.Портфель кредитів'!A:AC,3,FALSE),\"\")","v":""},{"$f":"IFERROR(VLOOKUP(A409,'1.Портфель кредитів'!A:AC,14,FALSE),\"\")","v":""}]
[null,{"$f":"IFERROR(VLOOKUP(A410,'1.Портфель кредитів'!A:AC,3,FALSE),\"\")","v":""},{"$f":"IFERROR(VLOOKUP(A410,'1.Портфель кредитів'!A:AC,14,FALSE),\"\")","v":""}]
[null,{"$f":"IFERROR(VLOOKUP(A411,'1.Портфель кредитів'!A:AC,3,FALSE),\"\")","v":""},{"$f":"IFERROR(VLOOKUP(A411,'1.Портфель кредитів'!A:AC,14,FALSE),\"\")","v":""}]
[null,{"$f":"IFERROR(VLOOKUP(A412,'1.Портфель кредитів'!A:AC,3,FALSE),\"\")","v":""},{"$f":"IFERROR(VLOOKUP(A412,'1.Портфель кредитів'!A:AC,14,FALSE),\"\")","v":""}]
[null,{"$f":"IFERROR(VLOOKUP(A413,'1.Портфель кредитів'!A:AC,3,FALSE),\"\")","v":""},{"$f":"IFERROR(VLOOKUP(A413,'1.Портфель кредитів'!A:AC,14,FALSE),\"\")","v":""}]
[null,{"$f":"IFERROR(VLOOKUP(A414,'1.Портфель кредитів'!A:AC,3,FALSE),\"\")","v":""},{"$f":"IFERROR(VLOOKUP(A414,'1.Портфель кредитів'!A:AC,14,FALSE),\"\")","v":""}]
[null,{"$f":"IFERROR(VLOOKUP(A415,'1.Портфель кредитів'!A:AC,3,FALSE),\"\")","v":""},{"$f":"IFERROR(VLOOKUP(A415,'1.Портфель кредитів'!A:AC,14,FALSE),\"\")","v":""}]
[null,{"$f":"IFERROR(VLOOKUP(A416,'1.Портфель кредитів'!A:AC,3,FALSE),\"\")","v":""},{"$f":"IFERROR(VLOOKUP(A416,'1.Портфель кредитів'!A:AC,14,FALSE),\"\")","v":""}]
[null,{"$f":"IFERROR(VLOOKUP(A417,'1.Портфель кредитів'!A:AC,3,FALSE),\"\")","v":""},{"$f":"IFERROR(VLOOKUP(A417,'1.Портфель кредитів'!A:AC,14,FALSE),\"\")","v":""}]
[null,{"$f":"IFERROR(VLOOKUP(A418,'1.Портфель кредитів'!A:AC,3,FALSE),\"\")","v":""},{"$f":"IFERROR(VLOOKUP(A418,'1.Портфель кредитів'!A:AC,14,FALSE),\"\")","v":""}]
[null,{"$f":"IFERROR(VLOOKUP(A419,'1.Портфель кредитів'!A:AC,3,FALSE),\"\")","v":""},{"$f":"IFERROR(VLOOKUP(A419,'1.Портфель кредитів'!A:AC,14,FALSE),\"\")","v":""}]
[null,{"$f":"IFERROR(VLOOKUP(A420,'1.Портфель кредитів'!A:AC,3,FALSE),\"\")","v":""},{"$f":"IFERROR(VLOOKUP(A420,'1.Портфель кредитів'!A:AC,14,FALSE),\"\")","v":""}]
[null,{"$f":"IFERROR(VLOOKUP(A421,'1.Портфель кредитів'!A:AC,3,FALSE),\"\")","v":""},{"$f":"IFERROR(VLOOKUP(A421,'1.Портфель кредитів'!A:AC,14,FALSE),\"\")","v":""}]
[null,{"$f":"IFERROR(VLOOKUP(A422,'1.Портфель кредитів'!A:AC,3,FALSE),\"\")","v":""},{"$f":"IFERROR(VLOOKUP(A422,'1.Портфель кредитів'!A:AC,14,FALSE),\"\")","v":""}]
[null,{"$f":"IFERROR(VLOOKUP(A423,'1.Портфель кредитів'!A:AC,3,FALSE),\"\")","v":""},{"$f":"IFERROR(VLOOKUP(A423,'1.Портфель кредитів'!A:AC,14,FALSE),\"\")","v":""}]
[null,{"$f":"IFERROR(VLOOKUP(A424,'1.Портфель кредитів'!A:AC,3,FALSE),\"\")","v":""},{"$f":"IFERROR(VLOOKUP(A424,'1.Портфель кредитів'!A:AC,14,FALSE),\"\")","v":""}]
[null,{"$f":"IFERROR(VLOOKUP(A425,'1.Портфель кредитів'!A:AC,3,FALSE),\"\")","v":""},{"$f":"IFERROR(VLOOKUP(A425,'1.Портфель кредитів'!A:AC,14,FALSE),\"\")","v":""}]
[null,{"$f":"IFERROR(VLOOKUP(A426,'1.Портфель кредитів'!A:AC,3,FALSE),\"\")","v":""},{"$f":"IFERROR(VLOOKUP(A426,'1.Портфель кредитів'!A:AC,14,FALSE),\"\")","v":""}]
[null,{"$f":"IFERROR(VLOOKUP(A427,'1.Портфель кредитів'!A:AC,3,FALSE),\"\")","v":""},{"$f":"IFERROR(VLOOKUP(A427,'1.Портфель кредитів'!A:AC,14,FALSE),\"\")","v":""}]
[null,{"$f":"IFERROR(VLOOKUP(A428,'1.Портфель кредитів'!A:AC,3,FALSE),\"\")","v":""},{"$f":"IFERROR(VLOOKUP(A428,'1.Портфель кредитів'!A:AC,14,FALSE),\"\")","v":""}]
[null,{"$f":"IFERROR(VLOOKUP(A429,'1.Портфель кредитів'!A:AC,3,FALSE),\"\")","v":""},{"$f":"IFERROR(VLOOKUP(A429,'1.Портфель кредитів'!A:AC,14,FALSE),\"\")","v":""}]
[null,{"$f":"IFERROR(VLOOKUP(A430,'1.Портфель кредитів'!A:AC,3,FALSE),\"\")","v":""},{"$f":"IFERROR(VLOOKUP(A430,'1.Портфель кредитів'!A:AC,14,FALSE),\"\")","v":""}]
[null,{"$f":"IFERROR(VLOOKUP(A431,'1.Портфель кредитів'!A:AC,3,FALSE),\"\")","v":""},{"$f":"IFERROR(VLOOKUP(A431,'1.Портфель кредитів'!A:AC,14,FALSE),\"\")","v":""}]
[null,{"$f":"IFERROR(VLOOKUP(A432,'1.Портфель кредитів'!A:AC,3,FALSE),\"\")","v":""},{"$f":"IFERROR(VLOOKUP(A432,'1.Портфель кредитів'!A:AC,14,FALSE),\"\")","v":""}]
[null,{"$f":"IFERROR(VLOOKUP(A433,'1.Портфель кредитів'!A:AC,3,FALSE),\"\")","v":""},{"$f":"IFERROR(VLOOKUP(A433,'1.Портфель кредитів'!A:AC,14,FALSE),\"\")","v":""}]
[null,{"$f":"IFERROR(VLOOKUP(A434,'1.Портфель кредитів'!A:AC,3,FALSE),\"\")","v":""},{"$f":"IFERROR(VLOOKUP(A434,'1.Портфель кредитів'!A:AC,14,FALSE),\"\")","v":""}]
[null,{"$f":"IFERROR(VLOOKUP(A435,'1.Портфель кредитів'!A:AC,3,FALSE),\"\")","v":""},{"$f":"IFERROR(VLOOKUP(A435,'1.Портфель кредитів'!A:AC,14,FALSE),\"\")","v":""}]
[null,{"$f":"IFERROR(VLOOKUP(A436,'1.Портфель кредитів'!A:AC,3,FALSE),\"\")","v":""},{"$f":"IFERROR(VLOOKUP(A436,'1.Портфель кредитів'!A:AC,14,FALSE),\"\")","v":""}]
[null,{"$f":"IFERROR(VLOOKUP(A437,'1.Портфель кредитів'!A:AC,3,FALSE),\"\")","v":""},{"$f":"IFERROR(VLOOKUP(A437,'1.Портфель кредитів'!A:AC,14,FALSE),\"\")","v":""}]
[null,{"$f":"IFERROR(VLOOKUP(A438,'1.Портфель кредитів'!A:AC,3,FALSE),\"\")","v":""},{"$f":"IFERROR(VLOOKUP(A438,'1.Портфель кредитів'!A:AC,14,FALSE),\"\")","v":""}]
[null,{"$f":"IFERROR(VLOOKUP(A439,'1.Портфель кредитів'!A:AC,3,FALSE),\"\")","v":""},{"$f":"IFERROR(VLOOKUP(A439,'1.Портфель кредитів'!A:AC,14,FALSE),\"\")","v":""}]
[null,{"$f":"IFERROR(VLOOKUP(A440,'1.Портфель кредитів'!A:AC,3,FALSE),\"\")","v":""},{"$f":"IFERROR(VLOOKUP(A440,'1.Портфель кредитів'!A:AC,14,FALSE),\"\")","v":""}]
[null,{"$f":"IFERROR(VLOOKUP(A441,'1.Портфель кредитів'!A:AC,3,FALSE),\"\")","v":""},{"$f":"IFERROR(VLOOKUP(A441,'1.Портфель кредитів'!A:AC,14,FALSE),\"\")","v":""}]
[null,{"$f":"IFERROR(VLOOKUP(A442,'1.Портфель кредитів'!A:AC,3,FALSE),\"\")","v":""},{"$f":"IFERROR(VLOOKUP(A442,'1.Портфель кредитів'!A:AC,14,FALSE),\"\")","v":""}]
[null,{"$f":"IFERROR(VLOOKUP(A443,'1.Портфель кредитів'!A:AC,3,FALSE),\"\")","v":""},{"$f":"IFERROR(VLOOKUP(A443,'1.Портфель кредитів'!A:AC,14,FALSE),\"\")","v":""}]
[null,{"$f":"IFERROR(VLOOKUP(A444,'1.Портфель кредитів'!A:AC,3,FALSE),\"\")","v":""},{"$f":"IFERROR(VLOOKUP(A444,'1.Портфель кредитів'!A:AC,14,FALSE),\"\")","v":""}]
[null,{"$f":"IFERROR(VLOOKUP(A445,'1.Портфель кредитів'!A:AC,3,FALSE),\"\")","v":""},{"$f":"IFERROR(VLOOKUP(A445,'1.Портфель кредитів'!A:AC,14,FALSE),\"\")","v":""}]
[null,{"$f":"IFERROR(VLOOKUP(A446,'1.Портфель кредитів'!A:AC,3,FALSE),\"\")","v":""},{"$f":"IFERROR(VLOOKUP(A446,'1.Портфель кредитів'!A:AC,14,FALSE),\"\")","v":""}]
[null,{"$f":"IFERROR(VLOOKUP(A447,'1.Портфель кредитів'!A:AC,3,FALSE),\"\")","v":""},{"$f":"IFERROR(VLOOKUP(A447,'1.Портфель кредитів'!A:AC,14,FALSE),\"\")","v":""}]
[null,{"$f":"IFERROR(VLOOKUP(A448,'1.Портфель кредитів'!A:AC,3,FALSE),\"\")","v":""},{"$f":"IFERROR(VLOOKUP(A448,'1.Портфель кредитів'!A:AC,14,FALSE),\"\")","v":""}]
[null,{"$f":"IFERROR(VLOOKUP(A449,'1.Портфель кредитів'!A:AC,3,FALSE),\"\")","v":""},{"$f":"IFERROR(VLOOKUP(A449,'1.Портфель кредитів'!A:AC,14,FALSE),\"\")","v":""}]
[null,{"$f":"IFERROR(VLOOKUP(A450,'1.Портфель кредитів'!A:AC,3,FALSE),\"\")","v":""},{"$f":"IFERROR(VLOOKUP(A450,'1.Портфель кредитів'!A:AC,14,FALSE),\"\")","v":""}]
[null,{"$f":"IFERROR(VLOOKUP(A451,'1.Портфель кредитів'!A:AC,3,FALSE),\"\")","v":""},{"$f":"IFERROR(VLOOKUP(A451,'1.Портфель кредитів'!A:AC,14,FALSE),\"\")","v":""}]
[null,{"$f":"IFERROR(VLOOKUP(A452,'1.Портфель кредитів'!A:AC,3,FALSE),\"\")","v":""},{"$f":"IFERROR(VLOOKUP(A452,'1.Портфель кредитів'!A:AC,14,FALSE),\"\")","v":""}]
[null,{"$f":"IFERROR(VLOOKUP(A453,'1.Портфель кредитів'!A:AC,3,FALSE),\"\")","v":""},{"$f":"IFERROR(VLOOKUP(A453,'1.Портфель кредитів'!A:AC,14,FALSE),\"\")","v":""}]
[null,{"$f":"IFERROR(VLOOKUP(A454,'1.Портфель кредитів'!A:AC,3,FALSE),\"\")","v":""},{"$f":"IFERROR(VLOOKUP(A454,'1.Портфель кредитів'!A:AC,14,FALSE),\"\")","v":""}]
[null,{"$f":"IFERROR(VLOOKUP(A455,'1.Портфель кредитів'!A:AC,3,FALSE),\"\")","v":""},{"$f":"IFERROR(VLOOKUP(A455,'1.Портфель кредитів'!A:AC,14,FALSE),\"\")","v":""}]
[null,{"$f":"IFERROR(VLOOKUP(A456,'1.Портфель кредитів'!A:AC,3,FALSE),\"\")","v":""},{"$f":"IFERROR(VLOOKUP(A456,'1.Портфель кредитів'!A:AC,14,FALSE),\"\")","v":""}]
[null,{"$f":"IFERROR(VLOOKUP(A457,'1.Портфель кредитів'!A:AC,3,FALSE),\"\")","v":""},{"$f":"IFERROR(VLOOKUP(A457,'1.Портфель кредитів'!A:AC,14,FALSE),\"\")","v":""}]
[null,{"$f":"IFERROR(VLOOKUP(A458,'1.Портфель кредитів'!A:AC,3,FALSE),\"\")","v":""},{"$f":"IFERROR(VLOOKUP(A458,'1.Портфель кредитів'!A:AC,14,FALSE),\"\")","v":""}]
[null,{"$f":"IFERROR(VLOOKUP(A459,'1.Портфель кредитів'!A:AC,3,FALSE),\"\")","v":""},{"$f":"IFERROR(VLOOKUP(A459,'1.Портфель кредитів'!A:AC,14,FALSE),\"\")","v":""}]
[null,{"$f":"IFERROR(VLOOKUP(A460,'1.Портфель кредитів'!A:AC,3,FALSE),\"\")","v":""},{"$f":"IFERROR(VLOOKUP(A460,'1.Портфель кредитів'!A:AC,14,FALSE),\"\")","v":""}]
[null,{"$f":"IFERROR(VLOOKUP(A461,'1.Портфель кредитів'!A:AC,3,FALSE),\"\")","v":""},{"$f":"IFERROR(VLOOKUP(A461,'1.Портфель кредитів'!A:AC,14,FALSE),\"\")","v":""}]
[null,{"$f":"IFERROR(VLOOKUP(A462,'1.Портфель кредитів'!A:AC,3,FALSE),\"\")","v":""},{"$f":"IFERROR(VLOOKUP(A462,'1.Портфель кредитів'!A:AC,14,FALSE),\"\")","v":""}]
[null,{"$f":"IFERROR(VLOOKUP(A463,'1.Портфель кредитів'!A:AC,3,FALSE),\"\")","v":""},{"$f":"IFERROR(VLOOKUP(A463,'1.Портфель кредитів'!A:AC,14,FALSE),\"\")","v":""}]
[null,{"$f":"IFERROR(VLOOKUP(A464,'1.Портфель кредитів'!A:AC,3,FALSE),\"\")","v":""},{"$f":"IFERROR(VLOOKUP(A464,'1.Портфель кредитів'!A:AC,14,FALSE),\"\")","v":""}]
[null,{"$f":"IFERROR(VLOOKUP(A465,'1.Портфель кредитів'!A:AC,3,FALSE),\"\")","v":""},{"$f":"IFERROR(VLOOKUP(A465,'1.Портфель кредитів'!A:AC,14,FALSE),\"\")","v":""}]
[null,{"$f":"IFERROR(VLOOKUP(A466,'1.Портфель кредитів'!A:AC,3,FALSE),\"\")","v":""},{"$f":"IFERROR(VLOOKUP(A466,'1.Портфель кредитів'!A:AC,14,FALSE),\"\")","v":""}]
[null,{"$f":"IFERROR(VLOOKUP(A467,'1.Портфель кредитів'!A:AC,3,FALSE),\"\")","v":""},{"$f":"IFERROR(VLOOKUP(A467,'1.Портфель кредитів'!A:AC,14,FALSE),\"\")","v":""}]
[null,{"$f":"IFERROR(VLOOKUP(A468,'1.Портфель кредитів'!A:AC,3,FALSE),\"\")","v":""},{"$f":"IFERROR(VLOOKUP(A468,'1.Портфель кредитів'!A:AC,14,FALSE),\"\")","v":""}]
[null,{"$f":"IFERROR(VLOOKUP(A469,'1.Портфель кредитів'!A:AC,3,FALSE),\"\")","v":""},{"$f":"IFERROR(VLOOKUP(A469,'1.Портфель кредитів'!A:AC,14,FALSE),\"\")","v":""}]
[null,{"$f":"IFERROR(VLOOKUP(A470,'1.Портфель кредитів'!A:AC,3,FALSE),\"\")","v":""},{"$f":"IFERROR(VLOOKUP(A470,'1.Портфель кредитів'!A:AC,14,FALSE),\"\")","v":""}]
[null,{"$f":"IFERROR(VLOOKUP(A471,'1.Портфель кредитів'!A:AC,3,FALSE),\"\")","v":""},{"$f":"IFERROR(VLOOKUP(A471,'1.Портфель кредитів'!A:AC,14,FALSE),\"\")","v":""}]
[null,{"$f":"IFERROR(VLOOKUP(A472,'1.Портфель кредитів'!A:AC,3,FALSE),\"\")","v":""},{"$f":"IFERROR(VLOOKUP(A472,'1.Портфель кредитів'!A:AC,14,FALSE),\"\")","v":""}]
[null,{"$f":"IFERROR(VLOOKUP(A473,'1.Портфель кредитів'!A:AC,3,FALSE),\"\")","v":""},{"$f":"IFERROR(VLOOKUP(A473,'1.Портфель кредитів'!A:AC,14,FALSE),\"\")","v":""}]
[null,{"$f":"IFERROR(VLOOKUP(A474,'1.Портфель кредитів'!A:AC,3,FALSE),\"\")","v":""},{"$f":"IFERROR(VLOOKUP(A474,'1.Портфель кредитів'!A:AC,14,FALSE),\"\")","v":""}]
[null,{"$f":"IFERROR(VLOOKUP(A475,'1.Портфель кредитів'!A:AC,3,FALSE),\"\")","v":""},{"$f":"IFERROR(VLOOKUP(A475,'1.Портфель кредитів'!A:AC,14,FALSE),\"\")","v":""}]
[null,{"$f":"IFERROR(VLOOKUP(A476,'1.Портфель кредитів'!A:AC,3,FALSE),\"\")","v":""},{"$f":"IFERROR(VLOOKUP(A476,'1.Портфель кредитів'!A:AC,14,FALSE),\"\")","v":""}]
[null,{"$f":"IFERROR(VLOOKUP(A477,'1.Портфель кредитів'!A:AC,3,FALSE),\"\")","v":""},{"$f":"IFERROR(VLOOKUP(A477,'1.Портфель кредитів'!A:AC,14,FALSE),\"\")","v":""}]
[null,{"$f":"IFERROR(VLOOKUP(A478,'1.Портфель кредитів'!A:AC,3,FALSE),\"\")","v":""},{"$f":"IFERROR(VLOOKUP(A478,'1.Портфель кредитів'!A:AC,14,FALSE),\"\")","v":""}]
[null,{"$f":"IFERROR(VLOOKUP(A479,'1.Портфель кредитів'!A:AC,3,FALSE),\"\")","v":""},{"$f":"IFERROR(VLOOKUP(A479,'1.Портфель кредитів'!A:AC,14,FALSE),\"\")","v":""}]
[null,{"$f":"IFERROR(VLOOKUP(A480,'1.Портфель кредитів'!A:AC,3,FALSE),\"\")","v":""},{"$f":"IFERROR(VLOOKUP(A480,'1.Портфель кредитів'!A:AC,14,FALSE),\"\")","v":""}]
[null,{"$f":"IFERROR(VLOOKUP(A481,'1.Портфель кредитів'!A:AC,3,FALSE),\"\")","v":""},{"$f":"IFERROR(VLOOKUP(A481,'1.Портфель кредитів'!A:AC,14,FALSE),\"\")","v":""}]
[null,{"$f":"IFERROR(VLOOKUP(A482,'1.Портфель кредитів'!A:AC,3,FALSE),\"\")","v":""},{"$f":"IFERROR(VLOOKUP(A482,'1.Портфель кредитів'!A:AC,14,FALSE),\"\")","v":""}]
[null,{"$f":"IFERROR(VLOOKUP(A483,'1.Портфель кредитів'!A:AC,3,FALSE),\"\")","v":""},{"$f":"IFERROR(VLOOKUP(A483,'1.Портфель кредитів'!A:AC,14,FALSE),\"\")","v":""}]
[null,{"$f":"IFERROR(VLOOKUP(A484,'1.Портфель кредитів'!A:AC,3,FALSE),\"\")","v":""},{"$f":"IFERROR(VLOOKUP(A484,'1.Портфель кредитів'!A:AC,14,FALSE),\"\")","v":""}]
[null,{"$f":"IFERROR(VLOOKUP(A485,'1.Портфель кредитів'!A:AC,3,FALSE),\"\")","v":""},{"$f":"IFERROR(VLOOKUP(A485,'1.Портфель кредитів'!A:AC,14,FALSE),\"\")","v":""}]
[null,{"$f":"IFERROR(VLOOKUP(A486,'1.Портфель кредитів'!A:AC,3,FALSE),\"\")","v":""},{"$f":"IFERROR(VLOOKUP(A486,'1.Портфель кредитів'!A:AC,14,FALSE),\"\")","v":""}]
[null,{"$f":"IFERROR(VLOOKUP(A487,'1.Портфель кредитів'!A:AC,3,FALSE),\"\")","v":""},{"$f":"IFERROR(VLOOKUP(A487,'1.Портфель кредитів'!A:AC,14,FALSE),\"\")","v":""}]
[null,{"$f":"IFERROR(VLOOKUP(A488,'1.Портфель кредитів'!A:AC,3,FALSE),\"\")","v":""},{"$f":"IFERROR(VLOOKUP(A488,'1.Портфель кредитів'!A:AC,14,FALSE),\"\")","v":""}]
[null,{"$f":"IFERROR(VLOOKUP(A489,'1.Портфель кредитів'!A:AC,3,FALSE),\"\")","v":""},{"$f":"IFERROR(VLOOKUP(A489,'1.Портфель кредитів'!A:AC,14,FALSE),\"\")","v":""}]
[null,{"$f":"IFERROR(VLOOKUP(A490,'1.Портфель кредитів'!A:AC,3,FALSE),\"\")","v":""},{"$f":"IFERROR(VLOOKUP(A490,'1.Портфель кредитів'!A:AC,14,FALSE),\"\")","v":""}]
[null,{"$f":"IFERROR(VLOOKUP(A491,'1.Портфель кредитів'!A:AC,3,FALSE),\"\")","v":""},{"$f":"IFERROR(VLOOKUP(A491,'1.Портфель кредитів'!A:AC,14,FALSE),\"\")","v":""}]
[null,{"$f":"IFERROR(VLOOKUP(A492,'1.Портфель кредитів'!A:AC,3,FALSE),\"\")","v":""},{"$f":"IFERROR(VLOOKUP(A492,'1.Портфель кредитів'!A:AC,14,FALSE),\"\")","v":""}]
[null,{"$f":"IFERROR(VLOOKUP(A493,'1.Портфель кредитів'!A:AC,3,FALSE),\"\")","v":""},{"$f":"IFERROR(VLOOKUP(A493,'1.Портфель кредитів'!A:AC,14,FALSE),\"\")","v":""}]
[null,{"$f":"IFERROR(VLOOKUP(A494,'1.Портфель кредитів'!A:AC,3,FALSE),\"\")","v":""},{"$f":"IFERROR(VLOOKUP(A494,'1.Портфель кредитів'!A:AC,14,FALSE),\"\")","v":""}]
[null,{"$f":"IFERROR(VLOOKUP(A495,'1.Портфель кредитів'!A:AC,3,FALSE),\"\")","v":""},{"$f":"IFERROR(VLOOKUP(A495,'1.Портфель кредитів'!A:AC,14,FALSE),\"\")","v":""}]
[null,{"$f":"IFERROR(VLOOKUP(A496,'1.Портфель кредитів'!A:AC,3,FALSE),\"\")","v":""},{"$f":"IFERROR(VLOOKUP(A496,'1.Портфель кредитів'!A:AC,14,FALSE),\"\")","v":""}]
[null,{"$f":"IFERROR(VLOOKUP(A497,'1.Портфель кредитів'!A:AC,3,FALSE),\"\")","v":""},{"$f":"IFERROR(VLOOKUP(A497,'1.Портфель кредитів'!A:AC,14,FALSE),\"\")","v":""}]
[null,{"$f":"IFERROR(VLOOKUP(A498,'1.Портфель кредитів'!A:AC,3,FALSE),\"\")","v":""},{"$f":"IFERROR(VLOOKUP(A498,'1.Портфель кредитів'!A:AC,14,FALSE),\"\")","v":""}]
[null,{"$f":"IFERROR(VLOOKUP(A499,'1.Портфель кредитів'!A:AC,3,FALSE),\"\")","v":""},{"$f":"IFERROR(VLOOKUP(A499,'1.Портфель кредитів'!A:AC,14,FALSE),\"\")","v":""}]
[null,{"$f":"IFERROR(VLOOKUP(A500,'1.Портфель кредитів'!A:AC,3,FALSE),\"\")","v":""},{"$f":"IFERROR(VLOOKUP(A500,'1.Портфель кредитів'!A:AC,14,FALSE),\"\")","v":""}]
[null,{"$f":"IFERROR(VLOOKUP(A501,'1.Портфель кредитів'!A:AC,3,FALSE),\"\")","v":""},{"$f":"IFERROR(VLOOKUP(A501,'1.Портфель кредитів'!A:AC,14,FALSE),\"\")","v":""}]
[null,{"$f":"IFERROR(VLOOKUP(A502,'1.Портфель кредитів'!A:AC,3,FALSE),\"\")","v":""},{"$f":"IFERROR(VLOOKUP(A502,'1.Портфель кредитів'!A:AC,14,FALSE),\"\")","v":""}]
[null,{"$f":"IFERROR(VLOOKUP(A503,'1.Портфель кредитів'!A:AC,3,FALSE),\"\")","v":""},{"$f":"IFERROR(VLOOKUP(A503,'1.Портфель кредитів'!A:AC,14,FALSE),\"\")","v":""}]
[null,{"$f":"IFERROR(VLOOKUP(A504,'1.Портфель кредитів'!A:AC,3,FALSE),\"\")","v":""},{"$f":"IFERROR(VLOOKUP(A504,'1.Портфель кредитів'!A:AC,14,FALSE),\"\")","v":""}]
[null,{"$f":"IFERROR(VLOOKUP(A505,'1.Портфель кредитів'!A:AC,3,FALSE),\"\")","v":""},{"$f":"IFERROR(VLOOKUP(A505,'1.Портфель кредитів'!A:AC,14,FALSE),\"\")","v":""}]
[null,{"$f":"IFERROR(VLOOKUP(A506,'1.Портфель кредитів'!A:AC,3,FALSE),\"\")","v":""},{"$f":"IFERROR(VLOOKUP(A506,'1.Портфель кредитів'!A:AC,14,FALSE),\"\")","v":""}]
[null,{"$f":"IFERROR(VLOOKUP(A507,'1.Портфель кредитів'!A:AC,3,FALSE),\"\")","v":""},{"$f":"IFERROR(VLOOKUP(A507,'1.Портфель кредитів'!A:AC,14,FALSE),\"\")","v":""}]
[null,{"$f":"IFERROR(VLOOKUP(A508,'1.Портфель кредитів'!A:AC,3,FALSE),\"\")","v":""},{"$f":"IFERROR(VLOOKUP(A508,'1.Портфель кредитів'!A:AC,14,FALSE),\"\")","v":""}]
[null,{"$f":"IFERROR(VLOOKUP(A509,'1.Портфель кредитів'!A:AC,3,FALSE),\"\")","v":""},{"$f":"IFERROR(VLOOKUP(A509,'1.Портфель кредитів'!A:AC,14,FALSE),\"\")","v":""}]
[null,{"$f":"IFERROR(VLOOKUP(A510,'1.Портфель кредитів'!A:AC,3,FALSE),\"\")","v":""},{"$f":"IFERROR(VLOOKUP(A510,'1.Портфель кредитів'!A:AC,14,FALSE),\"\")","v":""}]
[null,{"$f":"IFERROR(VLOOKUP(A511,'1.Портфель кредитів'!A:AC,3,FALSE),\"\")","v":""},{"$f":"IFERROR(VLOOKUP(A511,'1.Портфель кредитів'!A:AC,14,FALSE),\"\")","v":""}]
[null,{"$f":"IFERROR(VLOOKUP(A512,'1.Портфель кредитів'!A:AC,3,FALSE),\"\")","v":""},{"$f":"IFERROR(VLOOKUP(A512,'1.Портфель кредитів'!A:AC,14,FALSE),\"\")","v":""}]
[null,{"$f":"IFERROR(VLOOKUP(A513,'1.Портфель кредитів'!A:AC,3,FALSE),\"\")","v":""},{"$f":"IFERROR(VLOOKUP(A513,'1.Портфель кредитів'!A:AC,14,FALSE),\"\")","v":""}]
[null,{"$f":"IFERROR(VLOOKUP(A514,'1.Портфель кредитів'!A:AC,3,FALSE),\"\")","v":""},{"$f":"IFERROR(VLOOKUP(A514,'1.Портфель кредитів'!A:AC,14,FALSE),\"\")","v":""}]
[null,{"$f":"IFERROR(VLOOKUP(A515,'1.Портфель кредитів'!A:AC,3,FALSE),\"\")","v":""},{"$f":"IFERROR(VLOOKUP(A515,'1.Портфель кредитів'!A:AC,14,FALSE),\"\")","v":""}]
[null,{"$f":"IFERROR(VLOOKUP(A516,'1.Портфель кредитів'!A:AC,3,FALSE),\"\")","v":""},{"$f":"IFERROR(VLOOKUP(A516,'1.Портфель кредитів'!A:AC,14,FALSE),\"\")","v":""}]
[null,{"$f":"IFERROR(VLOOKUP(A517,'1.Портфель кредитів'!A:AC,3,FALSE),\"\")","v":""},{"$f":"IFERROR(VLOOKUP(A517,'1.Портфель кредитів'!A:AC,14,FALSE),\"\")","v":""}]
[null,{"$f":"IFERROR(VLOOKUP(A518,'1.Портфель кредитів'!A:AC,3,FALSE),\"\")","v":""},{"$f":"IFERROR(VLOOKUP(A518,'1.Портфель кредитів'!A:AC,14,FALSE),\"\")","v":""}]
[null,{"$f":"IFERROR(VLOOKUP(A519,'1.Портфель кредитів'!A:AC,3,FALSE),\"\")","v":""},{"$f":"IFERROR(VLOOKUP(A519,'1.Портфель кредитів'!A:AC,14,FALSE),\"\")","v":""}]
[null,{"$f":"IFERROR(VLOOKUP(A520,'1.Портфель кредитів'!A:AC,3,FALSE),\"\")","v":""},{"$f":"IFERROR(VLOOKUP(A520,'1.Портфель кредитів'!A:AC,14,FALSE),\"\")","v":""}]
[null,{"$f":"IFERROR(VLOOKUP(A521,'1.Портфель кредитів'!A:AC,3,FALSE),\"\")","v":""},{"$f":"IFERROR(VLOOKUP(A521,'1.Портфель кредитів'!A:AC,14,FALSE),\"\")","v":""}]
[null,{"$f":"IFERROR(VLOOKUP(A522,'1.Портфель кредитів'!A:AC,3,FALSE),\"\")","v":""},{"$f":"IFERROR(VLOOKUP(A522,'1.Портфель кредитів'!A:AC,14,FALSE),\"\")","v":""}]
[null,{"$f":"IFERROR(VLOOKUP(A523,'1.Портфель кредитів'!A:AC,3,FALSE),\"\")","v":""},{"$f":"IFERROR(VLOOKUP(A523,'1.Портфель кредитів'!A:AC,14,FALSE),\"\")","v":""}]
[null,{"$f":"IFERROR(VLOOKUP(A524,'1.Портфель кредитів'!A:AC,3,FALSE),\"\")","v":""},{"$f":"IFERROR(VLOOKUP(A524,'1.Портфель кредитів'!A:AC,14,FALSE),\"\")","v":""}]
[null,{"$f":"IFERROR(VLOOKUP(A525,'1.Портфель кредитів'!A:AC,3,FALSE),\"\")","v":""},{"$f":"IFERROR(VLOOKUP(A525,'1.Портфель кредитів'!A:AC,14,FALSE),\"\")","v":""}]
[null,{"$f":"IFERROR(VLOOKUP(A526,'1.Портфель кредитів'!A:AC,3,FALSE),\"\")","v":""},{"$f":"IFERROR(VLOOKUP(A526,'1.Портфель кредитів'!A:AC,14,FALSE),\"\")","v":""}]
[null,{"$f":"IFERROR(VLOOKUP(A527,'1.Портфель кредитів'!A:AC,3,FALSE),\"\")","v":""},{"$f":"IFERROR(VLOOKUP(A527,'1.Портфель кредитів'!A:AC,14,FALSE),\"\")","v":""}]
[null,{"$f":"IFERROR(VLOOKUP(A528,'1.Портфель кредитів'!A:AC,3,FALSE),\"\")","v":""},{"$f":"IFERROR(VLOOKUP(A528,'1.Портфель кредитів'!A:AC,14,FALSE),\"\")","v":""}]
[null,{"$f":"IFERROR(VLOOKUP(A529,'1.Портфель кредитів'!A:AC,3,FALSE),\"\")","v":""},{"$f":"IFERROR(VLOOKUP(A529,'1.Портфель кредитів'!A:AC,14,FALSE),\"\")","v":""}]
[null,{"$f":"IFERROR(VLOOKUP(A530,'1.Портфель кредитів'!A:AC,3,FALSE),\"\")","v":""},{"$f":"IFERROR(VLOOKUP(A530,'1.Портфель кредитів'!A:AC,14,FALSE),\"\")","v":""}]
[null,{"$f":"IFERROR(VLOOKUP(A531,'1.Портфель кредитів'!A:AC,3,FALSE),\"\")","v":""},{"$f":"IFERROR(VLOOKUP(A531,'1.Портфель кредитів'!A:AC,14,FALSE),\"\")","v":""}]
[null,{"$f":"IFERROR(VLOOKUP(A532,'1.Портфель кредитів'!A:AC,3,FALSE),\"\")","v":""},{"$f":"IFERROR(VLOOKUP(A532,'1.Портфель кредитів'!A:AC,14,FALSE),\"\")","v":""}]
[null,{"$f":"IFERROR(VLOOKUP(A533,'1.Портфель кредитів'!A:AC,3,FALSE),\"\")","v":""},{"$f":"IFERROR(VLOOKUP(A533,'1.Портфель кредитів'!A:AC,14,FALSE),\"\")","v":""}]
[null,{"$f":"IFERROR(VLOOKUP(A534,'1.Портфель кредитів'!A:AC,3,FALSE),\"\")","v":""},{"$f":"IFERROR(VLOOKUP(A534,'1.Портфель кредитів'!A:AC,14,FALSE),\"\")","v":""}]
[null,{"$f":"IFERROR(VLOOKUP(A535,'1.Портфель кредитів'!A:AC,3,FALSE),\"\")","v":""},{"$f":"IFERROR(VLOOKUP(A535,'1.Портфель кредитів'!A:AC,14,FALSE),\"\")","v":""}]
[null,{"$f":"IFERROR(VLOOKUP(A536,'1.Портфель кредитів'!A:AC,3,FALSE),\"\")","v":""},{"$f":"IFERROR(VLOOKUP(A536,'1.Портфель кредитів'!A:AC,14,FALSE),\"\")","v":""}]
[null,{"$f":"IFERROR(VLOOKUP(A537,'1.Портфель кредитів'!A:AC,3,FALSE),\"\")","v":""},{"$f":"IFERROR(VLOOKUP(A537,'1.Портфель кредитів'!A:AC,14,FALSE),\"\")","v":""}]
[null,{"$f":"IFERROR(VLOOKUP(A538,'1.Портфель кредитів'!A:AC,3,FALSE),\"\")","v":""},{"$f":"IFERROR(VLOOKUP(A538,'1.Портфель кредитів'!A:AC,14,FALSE),\"\")","v":""}]
[null,{"$f":"IFERROR(VLOOKUP(A539,'1.Портфель кредитів'!A:AC,3,FALSE),\"\")","v":""},{"$f":"IFERROR(VLOOKUP(A539,'1.Портфель кредитів'!A:AC,14,FALSE),\"\")","v":""}]
[null,{"$f":"IFERROR(VLOOKUP(A540,'1.Портфель кредитів'!A:AC,3,FALSE),\"\")","v":""},{"$f":"IFERROR(VLOOKUP(A540,'1.Портфель кредитів'!A:AC,14,FALSE),\"\")","v":""}]
[null,{"$f":"IFERROR(VLOOKUP(A541,'1.Портфель кредитів'!A:AC,3,FALSE),\"\")","v":""},{"$f":"IFERROR(VLOOKUP(A541,'1.Портфель кредитів'!A:AC,14,FALSE),\"\")","v":""}]
[null,{"$f":"IFERROR(VLOOKUP(A542,'1.Портфель кредитів'!A:AC,3,FALSE),\"\")","v":""},{"$f":"IFERROR(VLOOKUP(A542,'1.Портфель кредитів'!A:AC,14,FALSE),\"\")","v":""}]
[null,{"$f":"IFERROR(VLOOKUP(A543,'1.Портфель кредитів'!A:AC,3,FALSE),\"\")","v":""},{"$f":"IFERROR(VLOOKUP(A543,'1.Портфель кредитів'!A:AC,14,FALSE),\"\")","v":""}]
[null,{"$f":"IFERROR(VLOOKUP(A544,'1.Портфель кредитів'!A:AC,3,FALSE),\"\")","v":""},{"$f":"IFERROR(VLOOKUP(A544,'1.Портфель кредитів'!A:AC,14,FALSE),\"\")","v":""}]
[null,{"$f":"IFERROR(VLOOKUP(A545,'1.Портфель кредитів'!A:AC,3,FALSE),\"\")","v":""},{"$f":"IFERROR(VLOOKUP(A545,'1.Портфель кредитів'!A:AC,14,FALSE),\"\")","v":""}]
[null,{"$f":"IFERROR(VLOOKUP(A546,'1.Портфель кредитів'!A:AC,3,FALSE),\"\")","v":""},{"$f":"IFERROR(VLOOKUP(A546,'1.Портфель кредитів'!A:AC,14,FALSE),\"\")","v":""}]
[null,{"$f":"IFERROR(VLOOKUP(A547,'1.Портфель кредитів'!A:AC,3,FALSE),\"\")","v":""},{"$f":"IFERROR(VLOOKUP(A547,'1.Портфель кредитів'!A:AC,14,FALSE),\"\")","v":""}]
[null,{"$f":"IFERROR(VLOOKUP(A548,'1.Портфель кредитів'!A:AC,3,FALSE),\"\")","v":""},{"$f":"IFERROR(VLOOKUP(A548,'1.Портфель кредитів'!A:AC,14,FALSE),\"\")","v":""}]
[null,{"$f":"IFERROR(VLOOKUP(A549,'1.Портфель кредитів'!A:AC,3,FALSE),\"\")","v":""},{"$f":"IFERROR(VLOOKUP(A549,'1.Портфель кредитів'!A:AC,14,FALSE),\"\")","v":""}]
[null,{"$f":"IFERROR(VLOOKUP(A550,'1.Портфель кредитів'!A:AC,3,FALSE),\"\")","v":""},{"$f":"IFERROR(VLOOKUP(A550,'1.Портфель кредитів'!A:AC,14,FALSE),\"\")","v":""}]
[null,{"$f":"IFERROR(VLOOKUP(A551,'1.Портфель кредитів'!A:AC,3,FALSE),\"\")","v":""},{"$f":"IFERROR(VLOOKUP(A551,'1.Портфель кредитів'!A:AC,14,FALSE),\"\")","v":""}]
[null,{"$f":"IFERROR(VLOOKUP(A552,'1.Портфель кредитів'!A:AC,3,FALSE),\"\")","v":""},{"$f":"IFERROR(VLOOKUP(A552,'1.Портфель кредитів'!A:AC,14,FALSE),\"\")","v":""}]
[null,{"$f":"IFERROR(VLOOKUP(A553,'1.Портфель кредитів'!A:AC,3,FALSE),\"\")","v":""},{"$f":"IFERROR(VLOOKUP(A553,'1.Портфель кредитів'!A:AC,14,FALSE),\"\")","v":""}]
[null,{"$f":"IFERROR(VLOOKUP(A554,'1.Портфель кредитів'!A:AC,3,FALSE),\"\")","v":""},{"$f":"IFERROR(VLOOKUP(A554,'1.Портфель кредитів'!A:AC,14,FALSE),\"\")","v":""}]
[null,{"$f":"IFERROR(VLOOKUP(A555,'1.Портфель кредитів'!A:AC,3,FALSE),\"\")","v":""},{"$f":"IFERROR(VLOOKUP(A555,'1.Портфель кредитів'!A:AC,14,FALSE),\"\")","v":""}]
[null,{"$f":"IFERROR(VLOOKUP(A556,'1.Портфель кредитів'!A:AC,3,FALSE),\"\")","v":""},{"$f":"IFERROR(VLOOKUP(A556,'1.Портфель кредитів'!A:AC,14,FALSE),\"\")","v":""}]
[null,{"$f":"IFERROR(VLOOKUP(A557,'1.Портфель кредитів'!A:AC,3,FALSE),\"\")","v":""},{"$f":"IFERROR(VLOOKUP(A557,'1.Портфель кредитів'!A:AC,14,FALSE),\"\")","v":""}]
[null,{"$f":"IFERROR(VLOOKUP(A558,'1.Портфель кредитів'!A:AC,3,FALSE),\"\")","v":""},{"$f":"IFERROR(VLOOKUP(A558,'1.Портфель кредитів'!A:AC,14,FALSE),\"\")","v":""}]
[null,{"$f":"IFERROR(VLOOKUP(A559,'1.Портфель кредитів'!A:AC,3,FALSE),\"\")","v":""},{"$f":"IFERROR(VLOOKUP(A559,'1.Портфель кредитів'!A:AC,14,FALSE),\"\")","v":""}]
[null,{"$f":"IFERROR(VLOOKUP(A560,'1.Портфель кредитів'!A:AC,3,FALSE),\"\")","v":""},{"$f":"IFERROR(VLOOKUP(A560,'1.Портфель кредитів'!A:AC,14,FALSE),\"\")","v":""}]
[null,{"$f":"IFERROR(VLOOKUP(A561,'1.Портфель кредитів'!A:AC,3,FALSE),\"\")","v":""},{"$f":"IFERROR(VLOOKUP(A561,'1.Портфель кредитів'!A:AC,14,FALSE),\"\")","v":""}]
[null,{"$f":"IFERROR(VLOOKUP(A562,'1.Портфель кредитів'!A:AC,3,FALSE),\"\")","v":""},{"$f":"IFERROR(VLOOKUP(A562,'1.Портфель кредитів'!A:AC,14,FALSE),\"\")","v":""}]
[null,{"$f":"IFERROR(VLOOKUP(A563,'1.Портфель кредитів'!A:AC,3,FALSE),\"\")","v":""},{"$f":"IFERROR(VLOOKUP(A563,'1.Портфель кредитів'!A:AC,14,FALSE),\"\")","v":""}]
[null,{"$f":"IFERROR(VLOOKUP(A564,'1.Портфель кредитів'!A:AC,3,FALSE),\"\")","v":""},{"$f":"IFERROR(VLOOKUP(A564,'1.Портфель кредитів'!A:AC,14,FALSE),\"\")","v":""}]
[null,{"$f":"IFERROR(VLOOKUP(A565,'1.Портфель кредитів'!A:AC,3,FALSE),\"\")","v":""},{"$f":"IFERROR(VLOOKUP(A565,'1.Портфель кредитів'!A:AC,14,FALSE),\"\")","v":""}]
[null,{"$f":"IFERROR(VLOOKUP(A566,'1.Портфель кредитів'!A:AC,3,FALSE),\"\")","v":""},{"$f":"IFERROR(VLOOKUP(A566,'1.Портфель кредитів'!A:AC,14,FALSE),\"\")","v":""}]
[null,{"$f":"IFERROR(VLOOKUP(A567,'1.Портфель кредитів'!A:AC,3,FALSE),\"\")","v":""},{"$f":"IFERROR(VLOOKUP(A567,'1.Портфель кредитів'!A:AC,14,FALSE),\"\")","v":""}]
[null,{"$f":"IFERROR(VLOOKUP(A568,'1.Портфель кредитів'!A:AC,3,FALSE),\"\")","v":""},{"$f":"IFERROR(VLOOKUP(A568,'1.Портфель кредитів'!A:AC,14,FALSE),\"\")","v":""}]
[null,{"$f":"IFERROR(VLOOKUP(A569,'1.Портфель кредитів'!A:AC,3,FALSE),\"\")","v":""},{"$f":"IFERROR(VLOOKUP(A569,'1.Портфель кредитів'!A:AC,14,FALSE),\"\")","v":""}]
[null,{"$f":"IFERROR(VLOOKUP(A570,'1.Портфель кредитів'!A:AC,3,FALSE),\"\")","v":""},{"$f":"IFERROR(VLOOKUP(A570,'1.Портфель кредитів'!A:AC,14,FALSE),\"\")","v":""}]
[null,{"$f":"IFERROR(VLOOKUP(A571,'1.Портфель кредитів'!A:AC,3,FALSE),\"\")","v":""},{"$f":"IFERROR(VLOOKUP(A571,'1.Портфель кредитів'!A:AC,14,FALSE),\"\")","v":""}]
[null,{"$f":"IFERROR(VLOOKUP(A572,'1.Портфель кредитів'!A:AC,3,FALSE),\"\")","v":""},{"$f":"IFERROR(VLOOKUP(A572,'1.Портфель кредитів'!A:AC,14,FALSE),\"\")","v":""}]
[null,{"$f":"IFERROR(VLOOKUP(A573,'1.Портфель кредитів'!A:AC,3,FALSE),\"\")","v":""},{"$f":"IFERROR(VLOOKUP(A573,'1.Портфель кредитів'!A:AC,14,FALSE),\"\")","v":""}]
[null,{"$f":"IFERROR(VLOOKUP(A574,'1.Портфель кредитів'!A:AC,3,FALSE),\"\")","v":""},{"$f":"IFERROR(VLOOKUP(A574,'1.Портфель кредитів'!A:AC,14,FALSE),\"\")","v":""}]
[null,{"$f":"IFERROR(VLOOKUP(A575,'1.Портфель кредитів'!A:AC,3,FALSE),\"\")","v":""},{"$f":"IFERROR(VLOOKUP(A575,'1.Портфель кредитів'!A:AC,14,FALSE),\"\")","v":""}]
[null,{"$f":"IFERROR(VLOOKUP(A576,'1.Портфель кредитів'!A:AC,3,FALSE),\"\")","v":""},{"$f":"IFERROR(VLOOKUP(A576,'1.Портфель кредитів'!A:AC,14,FALSE),\"\")","v":""}]
[null,{"$f":"IFERROR(VLOOKUP(A577,'1.Портфель кредитів'!A:AC,3,FALSE),\"\")","v":""},{"$f":"IFERROR(VLOOKUP(A577,'1.Портфель кредитів'!A:AC,14,FALSE),\"\")","v":""}]
[null,{"$f":"IFERROR(VLOOKUP(A578,'1.Портфель кредитів'!A:AC,3,FALSE),\"\")","v":""},{"$f":"IFERROR(VLOOKUP(A578,'1.Портфель кредитів'!A:AC,14,FALSE),\"\")","v":""}]
[null,{"$f":"IFERROR(VLOOKUP(A579,'1.Портфель кредитів'!A:AC,3,FALSE),\"\")","v":""},{"$f":"IFERROR(VLOOKUP(A579,'1.Портфель кредитів'!A:AC,14,FALSE),\"\")","v":""}]
[null,{"$f":"IFERROR(VLOOKUP(A580,'1.Портфель кредитів'!A:AC,3,FALSE),\"\")","v":""},{"$f":"IFERROR(VLOOKUP(A580,'1.Портфель кредитів'!A:AC,14,FALSE),\"\")","v":""}]
[null,{"$f":"IFERROR(VLOOKUP(A581,'1.Портфель кредитів'!A:AC,3,FALSE),\"\")","v":""},{"$f":"IFERROR(VLOOKUP(A581,'1.Портфель кредитів'!A:AC,14,FALSE),\"\")","v":""}]
[null,{"$f":"IFERROR(VLOOKUP(A582,'1.Портфель кредитів'!A:AC,3,FALSE),\"\")","v":""},{"$f":"IFERROR(VLOOKUP(A582,'1.Портфель кредитів'!A:AC,14,FALSE),\"\")","v":""}]
[null,{"$f":"IFERROR(VLOOKUP(A583,'1.Портфель кредитів'!A:AC,3,FALSE),\"\")","v":""},{"$f":"IFERROR(VLOOKUP(A583,'1.Портфель кредитів'!A:AC,14,FALSE),\"\")","v":""}]
[null,{"$f":"IFERROR(VLOOKUP(A584,'1.Портфель кредитів'!A:AC,3,FALSE),\"\")","v":""},{"$f":"IFERROR(VLOOKUP(A584,'1.Портфель кредитів'!A:AC,14,FALSE),\"\")","v":""}]
[null,{"$f":"IFERROR(VLOOKUP(A585,'1.Портфель кредитів'!A:AC,3,FALSE),\"\")","v":""},{"$f":"IFERROR(VLOOKUP(A585,'1.Портфель кредитів'!A:AC,14,FALSE),\"\")","v":""}]
[null,{"$f":"IFERROR(VLOOKUP(A586,'1.Портфель кредитів'!A:AC,3,FALSE),\"\")","v":""},{"$f":"IFERROR(VLOOKUP(A586,'1.Портфель кредитів'!A:AC,14,FALSE),\"\")","v":""}]
[null,{"$f":"IFERROR(VLOOKUP(A587,'1.Портфель кредитів'!A:AC,3,FALSE),\"\")","v":""},{"$f":"IFERROR(VLOOKUP(A587,'1.Портфель кредитів'!A:AC,14,FALSE),\"\")","v":""}]
[null,{"$f":"IFERROR(VLOOKUP(A588,'1.Портфель кредитів'!A:AC,3,FALSE),\"\")","v":""},{"$f":"IFERROR(VLOOKUP(A588,'1.Портфель кредитів'!A:AC,14,FALSE),\"\")","v":""}]
[null,{"$f":"IFERROR(VLOOKUP(A589,'1.Портфель кредитів'!A:AC,3,FALSE),\"\")","v":""},{"$f":"IFERROR(VLOOKUP(A589,'1.Портфель кредитів'!A:AC,14,FALSE),\"\")","v":""}]
[null,{"$f":"IFERROR(VLOOKUP(A590,'1.Портфель кредитів'!A:AC,3,FALSE),\"\")","v":""},{"$f":"IFERROR(VLOOKUP(A590,'1.Портфель кредитів'!A:AC,14,FALSE),\"\")","v":""}]
[null,{"$f":"IFERROR(VLOOKUP(A591,'1.Портфель кредитів'!A:AC,3,FALSE),\"\")","v":""},{"$f":"IFERROR(VLOOKUP(A591,'1.Портфель кредитів'!A:AC,14,FALSE),\"\")","v":""}]
[null,{"$f":"IFERROR(VLOOKUP(A592,'1.Портфель кредитів'!A:AC,3,FALSE),\"\")","v":""},{"$f":"IFERROR(VLOOKUP(A592,'1.Портфель кредитів'!A:AC,14,FALSE),\"\")","v":""}]
[null,{"$f":"IFERROR(VLOOKUP(A593,'1.Портфель кредитів'!A:AC,3,FALSE),\"\")","v":""},{"$f":"IFERROR(VLOOKUP(A593,'1.Портфель кредитів'!A:AC,14,FALSE),\"\")","v":""}]
[null,{"$f":"IFERROR(VLOOKUP(A594,'1.Портфель кредитів'!A:AC,3,FALSE),\"\")","v":""},{"$f":"IFERROR(VLOOKUP(A594,'1.Портфель кредитів'!A:AC,14,FALSE),\"\")","v":""}]
[null,{"$f":"IFERROR(VLOOKUP(A595,'1.Портфель кредитів'!A:AC,3,FALSE),\"\")","v":""},{"$f":"IFERROR(VLOOKUP(A595,'1.Портфель кредитів'!A:AC,14,FALSE),\"\")","v":""}]
[null,{"$f":"IFERROR(VLOOKUP(A596,'1.Портфель кредитів'!A:AC,3,FALSE),\"\")","v":""},{"$f":"IFERROR(VLOOKUP(A596,'1.Портфель кредитів'!A:AC,14,FALSE),\"\")","v":""}]
[null,{"$f":"IFERROR(VLOOKUP(A597,'1.Портфель кредитів'!A:AC,3,FALSE),\"\")","v":""},{"$f":"IFERROR(VLOOKUP(A597,'1.Портфель кредитів'!A:AC,14,FALSE),\"\")","v":""}]
[null,{"$f":"IFERROR(VLOOKUP(A598,'1.Портфель кредитів'!A:AC,3,FALSE),\"\")","v":""},{"$f":"IFERROR(VLOOKUP(A598,'1.Портфель кредитів'!A:AC,14,FALSE),\"\")","v":""}]
[null,{"$f":"IFERROR(VLOOKUP(A599,'1.Портфель кредитів'!A:AC,3,FALSE),\"\")","v":""},{"$f":"IFERROR(VLOOKUP(A599,'1.Портфель кредитів'!A:AC,14,FALSE),\"\")","v":""}]
[null,{"$f":"IFERROR(VLOOKUP(A600,'1.Портфель кредитів'!A:AC,3,FALSE),\"\")","v":""},{"$f":"IFERROR(VLOOKUP(A600,'1.Портфель кредитів'!A:AC,14,FALSE),\"\")","v":""}]
[null,{"$f":"IFERROR(VLOOKUP(A601,'1.Портфель кредитів'!A:AC,3,FALSE),\"\")","v":""},{"$f":"IFERROR(VLOOKUP(A601,'1.Портфель кредитів'!A:AC,14,FALSE),\"\")","v":""}]
[null,{"$f":"IFERROR(VLOOKUP(A602,'1.Портфель кредитів'!A:AC,3,FALSE),\"\")","v":""},{"$f":"IFERROR(VLOOKUP(A602,'1.Портфель кредитів'!A:AC,14,FALSE),\"\")","v":""}]
[null,{"$f":"IFERROR(VLOOKUP(A603,'1.Портфель кредитів'!A:AC,3,FALSE),\"\")","v":""},{"$f":"IFERROR(VLOOKUP(A603,'1.Портфель кредитів'!A:AC,14,FALSE),\"\")","v":""}]
[null,{"$f":"IFERROR(VLOOKUP(A604,'1.Портфель кредитів'!A:AC,3,FALSE),\"\")","v":""},{"$f":"IFERROR(VLOOKUP(A604,'1.Портфель кредитів'!A:AC,14,FALSE),\"\")","v":""}]
[null,{"$f":"IFERROR(VLOOKUP(A605,'1.Портфель кредитів'!A:AC,3,FALSE),\"\")","v":""},{"$f":"IFERROR(VLOOKUP(A605,'1.Портфель кредитів'!A:AC,14,FALSE),\"\")","v":""}]
[null,{"$f":"IFERROR(VLOOKUP(A606,'1.Портфель кредитів'!A:AC,3,FALSE),\"\")","v":""},{"$f":"IFERROR(VLOOKUP(A606,'1.Портфель кредитів'!A:AC,14,FALSE),\"\")","v":""}]
[null,{"$f":"IFERROR(VLOOKUP(A607,'1.Портфель кредитів'!A:AC,3,FALSE),\"\")","v":""},{"$f":"IFERROR(VLOOKUP(A607,'1.Портфель кредитів'!A:AC,14,FALSE),\"\")","v":""}]
[null,{"$f":"IFERROR(VLOOKUP(A608,'1.Портфель кредитів'!A:AC,3,FALSE),\"\")","v":""},{"$f":"IFERROR(VLOOKUP(A608,'1.Портфель кредитів'!A:AC,14,FALSE),\"\")","v":""}]
[null,{"$f":"IFERROR(VLOOKUP(A609,'1.Портфель кредитів'!A:AC,3,FALSE),\"\")","v":""},{"$f":"IFERROR(VLOOKUP(A609,'1.Портфель кредитів'!A:AC,14,FALSE),\"\")","v":""}]
[null,{"$f":"IFERROR(VLOOKUP(A610,'1.Портфель кредитів'!A:AC,3,FALSE),\"\")","v":""},{"$f":"IFERROR(VLOOKUP(A610,'1.Портфель кредитів'!A:AC,14,FALSE),\"\")","v":""}]
[null,{"$f":"IFERROR(VLOOKUP(A611,'1.Портфель кредитів'!A:AC,3,FALSE),\"\")","v":""},{"$f":"IFERROR(VLOOKUP(A611,'1.Портфель кредитів'!A:AC,14,FALSE),\"\")","v":""}]
[null,{"$f":"IFERROR(VLOOKUP(A612,'1.Портфель кредитів'!A:AC,3,FALSE),\"\")","v":""},{"$f":"IFERROR(VLOOKUP(A612,'1.Портфель кредитів'!A:AC,14,FALSE),\"\")","v":""}]
[null,{"$f":"IFERROR(VLOOKUP(A613,'1.Портфель кредитів'!A:AC,3,FALSE),\"\")","v":""},{"$f":"IFERROR(VLOOKUP(A613,'1.Портфель кредитів'!A:AC,14,FALSE),\"\")","v":""}]
[null,{"$f":"IFERROR(VLOOKUP(A614,'1.Портфель кредитів'!A:AC,3,FALSE),\"\")","v":""},{"$f":"IFERROR(VLOOKUP(A614,'1.Портфель кредитів'!A:AC,14,FALSE),\"\")","v":""}]
[null,{"$f":"IFERROR(VLOOKUP(A615,'1.Портфель кредитів'!A:AC,3,FALSE),\"\")","v":""},{"$f":"IFERROR(VLOOKUP(A615,'1.Портфель кредитів'!A:AC,14,FALSE),\"\")","v":""}]
[null,{"$f":"IFERROR(VLOOKUP(A616,'1.Портфель кредитів'!A:AC,3,FALSE),\"\")","v":""},{"$f":"IFERROR(VLOOKUP(A616,'1.Портфель кредитів'!A:AC,14,FALSE),\"\")","v":""}]
[null,{"$f":"IFERROR(VLOOKUP(A617,'1.Портфель кредитів'!A:AC,3,FALSE),\"\")","v":""},{"$f":"IFERROR(VLOOKUP(A617,'1.Портфель кредитів'!A:AC,14,FALSE),\"\")","v":""}]
[null,{"$f":"IFERROR(VLOOKUP(A618,'1.Портфель кредитів'!A:AC,3,FALSE),\"\")","v":""},{"$f":"IFERROR(VLOOKUP(A618,'1.Портфель кредитів'!A:AC,14,FALSE),\"\")","v":""}]
[null,{"$f":"IFERROR(VLOOKUP(A619,'1.Портфель кредитів'!A:AC,3,FALSE),\"\")","v":""},{"$f":"IFERROR(VLOOKUP(A619,'1.Портфель кредитів'!A:AC,14,FALSE),\"\")","v":""}]
[null,{"$f":"IFERROR(VLOOKUP(A620,'1.Портфель кредитів'!A:AC,3,FALSE),\"\")","v":""},{"$f":"IFERROR(VLOOKUP(A620,'1.Портфель кредитів'!A:AC,14,FALSE),\"\")","v":""}]
[null,{"$f":"IFERROR(VLOOKUP(A621,'1.Портфель кредитів'!A:AC,3,FALSE),\"\")","v":""},{"$f":"IFERROR(VLOOKUP(A621,'1.Портфель кредитів'!A:AC,14,FALSE),\"\")","v":""}]
[null,{"$f":"IFERROR(VLOOKUP(A622,'1.Портфель кредитів'!A:AC,3,FALSE),\"\")","v":""},{"$f":"IFERROR(VLOOKUP(A622,'1.Портфель кредитів'!A:AC,14,FALSE),\"\")","v":""}]
[null,{"$f":"IFERROR(VLOOKUP(A623,'1.Портфель кредитів'!A:AC,3,FALSE),\"\")","v":""},{"$f":"IFERROR(VLOOKUP(A623,'1.Портфель кредитів'!A:AC,14,FALSE),\"\")","v":""}]
[null,{"$f":"IFERROR(VLOOKUP(A624,'1.Портфель кредитів'!A:AC,3,FALSE),\"\")","v":""},{"$f":"IFERROR(VLOOKUP(A624,'1.Портфель кредитів'!A:AC,14,FALSE),\"\")","v":""}]
[null,{"$f":"IFERROR(VLOOKUP(A625,'1.Портфель кредитів'!A:AC,3,FALSE),\"\")","v":""},{"$f":"IFERROR(VLOOKUP(A625,'1.Портфель кредитів'!A:AC,14,FALSE),\"\")","v":""}]
[null,{"$f":"IFERROR(VLOOKUP(A626,'1.Портфель кредитів'!A:AC,3,FALSE),\"\")","v":""},{"$f":"IFERROR(VLOOKUP(A626,'1.Портфель кредитів'!A:AC,14,FALSE),\"\")","v":""}]
[null,{"$f":"IFERROR(VLOOKUP(A627,'1.Портфель кредитів'!A:AC,3,FALSE),\"\")","v":""},{"$f":"IFERROR(VLOOKUP(A627,'1.Портфель кредитів'!A:AC,14,FALSE),\"\")","v":""}]
[null,{"$f":"IFERROR(VLOOKUP(A628,'1.Портфель кредитів'!A:AC,3,FALSE),\"\")","v":""},{"$f":"IFERROR(VLOOKUP(A628,'1.Портфель кредитів'!A:AC,14,FALSE),\"\")","v":""}]
[null,{"$f":"IFERROR(VLOOKUP(A629,'1.Портфель кредитів'!A:AC,3,FALSE),\"\")","v":""},{"$f":"IFERROR(VLOOKUP(A629,'1.Портфель кредитів'!A:AC,14,FALSE),\"\")","v":""}]
[null,{"$f":"IFERROR(VLOOKUP(A630,'1.Портфель кредитів'!A:AC,3,FALSE),\"\")","v":""},{"$f":"IFERROR(VLOOKUP(A630,'1.Портфель кредитів'!A:AC,14,FALSE),\"\")","v":""}]
[null,{"$f":"IFERROR(VLOOKUP(A631,'1.Портфель кредитів'!A:AC,3,FALSE),\"\")","v":""},{"$f":"IFERROR(VLOOKUP(A631,'1.Портфель кредитів'!A:AC,14,FALSE),\"\")","v":""}]
[null,{"$f":"IFERROR(VLOOKUP(A632,'1.Портфель кредитів'!A:AC,3,FALSE),\"\")","v":""},{"$f":"IFERROR(VLOOKUP(A632,'1.Портфель кредитів'!A:AC,14,FALSE),\"\")","v":""}]
[null,{"$f":"IFERROR(VLOOKUP(A633,'1.Портфель кредитів'!A:AC,3,FALSE),\"\")","v":""},{"$f":"IFERROR(VLOOKUP(A633,'1.Портфель кредитів'!A:AC,14,FALSE),\"\")","v":""}]
[null,{"$f":"IFERROR(VLOOKUP(A634,'1.Портфель кредитів'!A:AC,3,FALSE),\"\")","v":""},{"$f":"IFERROR(VLOOKUP(A634,'1.Портфель кредитів'!A:AC,14,FALSE),\"\")","v":""}]
[null,{"$f":"IFERROR(VLOOKUP(A635,'1.Портфель кредитів'!A:AC,3,FALSE),\"\")","v":""},{"$f":"IFERROR(VLOOKUP(A635,'1.Портфель кредитів'!A:AC,14,FALSE),\"\")","v":""}]
[null,{"$f":"IFERROR(VLOOKUP(A636,'1.Портфель кредитів'!A:AC,3,FALSE),\"\")","v":""},{"$f":"IFERROR(VLOOKUP(A636,'1.Портфель кредитів'!A:AC,14,FALSE),\"\")","v":""}]
[null,{"$f":"IFERROR(VLOOKUP(A637,'1.Портфель кредитів'!A:AC,3,FALSE),\"\")","v":""},{"$f":"IFERROR(VLOOKUP(A637,'1.Портфель кредитів'!A:AC,14,FALSE),\"\")","v":""}]
[null,{"$f":"IFERROR(VLOOKUP(A638,'1.Портфель кредитів'!A:AC,3,FALSE),\"\")","v":""},{"$f":"IFERROR(VLOOKUP(A638,'1.Портфель кредитів'!A:AC,14,FALSE),\"\")","v":""}]
[null,{"$f":"IFERROR(VLOOKUP(A639,'1.Портфель кредитів'!A:AC,3,FALSE),\"\")","v":""},{"$f":"IFERROR(VLOOKUP(A639,'1.Портфель кредитів'!A:AC,14,FALSE),\"\")","v":""}]
[null,{"$f":"IFERROR(VLOOKUP(A640,'1.Портфель кредитів'!A:AC,3,FALSE),\"\")","v":""},{"$f":"IFERROR(VLOOKUP(A640,'1.Портфель кредитів'!A:AC,14,FALSE),\"\")","v":""}]
[null,{"$f":"IFERROR(VLOOKUP(A641,'1.Портфель кредитів'!A:AC,3,FALSE),\"\")","v":""},{"$f":"IFERROR(VLOOKUP(A641,'1.Портфель кредитів'!A:AC,14,FALSE),\"\")","v":""}]
[null,{"$f":"IFERROR(VLOOKUP(A642,'1.Портфель кредитів'!A:AC,3,FALSE),\"\")","v":""},{"$f":"IFERROR(VLOOKUP(A642,'1.Портфель кредитів'!A:AC,14,FALSE),\"\")","v":""}]
[null,{"$f":"IFERROR(VLOOKUP(A643,'1.Портфель кредитів'!A:AC,3,FALSE),\"\")","v":""},{"$f":"IFERROR(VLOOKUP(A643,'1.Портфель кредитів'!A:AC,14,FALSE),\"\")","v":""}]
[null,{"$f":"IFERROR(VLOOKUP(A644,'1.Портфель кредитів'!A:AC,3,FALSE),\"\")","v":""},{"$f":"IFERROR(VLOOKUP(A644,'1.Портфель кредитів'!A:AC,14,FALSE),\"\")","v":""}]
[null,{"$f":"IFERROR(VLOOKUP(A645,'1.Портфель кредитів'!A:AC,3,FALSE),\"\")","v":""},{"$f":"IFERROR(VLOOKUP(A645,'1.Портфель кредитів'!A:AC,14,FALSE),\"\")","v":""}]
[null,{"$f":"IFERROR(VLOOKUP(A646,'1.Портфель кредитів'!A:AC,3,FALSE),\"\")","v":""},{"$f":"IFERROR(VLOOKUP(A646,'1.Портфель кредитів'!A:AC,14,FALSE),\"\")","v":""}]
[null,{"$f":"IFERROR(VLOOKUP(A647,'1.Портфель кредитів'!A:AC,3,FALSE),\"\")","v":""},{"$f":"IFERROR(VLOOKUP(A647,'1.Портфель кредитів'!A:AC,14,FALSE),\"\")","v":""}]
[null,{"$f":"IFERROR(VLOOKUP(A648,'1.Портфель кредитів'!A:AC,3,FALSE),\"\")","v":""},{"$f":"IFERROR(VLOOKUP(A648,'1.Портфель кредитів'!A:AC,14,FALSE),\"\")","v":""}]
[null,{"$f":"IFERROR(VLOOKUP(A649,'1.Портфель кредитів'!A:AC,3,FALSE),\"\")","v":""},{"$f":"IFERROR(VLOOKUP(A649,'1.Портфель кредитів'!A:AC,14,FALSE),\"\")","v":""}]
[null,{"$f":"IFERROR(VLOOKUP(A650,'1.Портфель кредитів'!A:AC,3,FALSE),\"\")","v":""},{"$f":"IFERROR(VLOOKUP(A650,'1.Портфель кредитів'!A:AC,14,FALSE),\"\")","v":""}]
[null,{"$f":"IFERROR(VLOOKUP(A651,'1.Портфель кредитів'!A:AC,3,FALSE),\"\")","v":""},{"$f":"IFERROR(VLOOKUP(A651,'1.Портфель кредитів'!A:AC,14,FALSE),\"\")","v":""}]
[null,{"$f":"IFERROR(VLOOKUP(A652,'1.Портфель кредитів'!A:AC,3,FALSE),\"\")","v":""},{"$f":"IFERROR(VLOOKUP(A652,'1.Портфель кредитів'!A:AC,14,FALSE),\"\")","v":""}]
[null,{"$f":"IFERROR(VLOOKUP(A653,'1.Портфель кредитів'!A:AC,3,FALSE),\"\")","v":""},{"$f":"IFERROR(VLOOKUP(A653,'1.Портфель кредитів'!A:AC,14,FALSE),\"\")","v":""}]
[null,{"$f":"IFERROR(VLOOKUP(A654,'1.Портфель кредитів'!A:AC,3,FALSE),\"\")","v":""},{"$f":"IFERROR(VLOOKUP(A654,'1.Портфель кредитів'!A:AC,14,FALSE),\"\")","v":""}]
[null,{"$f":"IFERROR(VLOOKUP(A655,'1.Портфель кредитів'!A:AC,3,FALSE),\"\")","v":""},{"$f":"IFERROR(VLOOKUP(A655,'1.Портфель кредитів'!A:AC,14,FALSE),\"\")","v":""}]
[null,{"$f":"IFERROR(VLOOKUP(A656,'1.Портфель кредитів'!A:AC,3,FALSE),\"\")","v":""},{"$f":"IFERROR(VLOOKUP(A656,'1.Портфель кредитів'!A:AC,14,FALSE),\"\")","v":""}]
[null,{"$f":"IFERROR(VLOOKUP(A657,'1.Портфель кредитів'!A:AC,3,FALSE),\"\")","v":""},{"$f":"IFERROR(VLOOKUP(A657,'1.Портфель кредитів'!A:AC,14,FALSE),\"\")","v":""}]
[null,{"$f":"IFERROR(VLOOKUP(A658,'1.Портфель кредитів'!A:AC,3,FALSE),\"\")","v":""},{"$f":"IFERROR(VLOOKUP(A658,'1.Портфель кредитів'!A:AC,14,FALSE),\"\")","v":""}]
[null,{"$f":"IFERROR(VLOOKUP(A659,'1.Портфель кредитів'!A:AC,3,FALSE),\"\")","v":""},{"$f":"IFERROR(VLOOKUP(A659,'1.Портфель кредитів'!A:AC,14,FALSE),\"\")","v":""}]
[null,{"$f":"IFERROR(VLOOKUP(A660,'1.Портфель кредитів'!A:AC,3,FALSE),\"\")","v":""},{"$f":"IFERROR(VLOOKUP(A660,'1.Портфель кредитів'!A:AC,14,FALSE),\"\")","v":""}]
[null,{"$f":"IFERROR(VLOOKUP(A661,'1.Портфель кредитів'!A:AC,3,FALSE),\"\")","v":""},{"$f":"IFERROR(VLOOKUP(A661,'1.Портфель кредитів'!A:AC,14,FALSE),\"\")","v":""}]
[null,{"$f":"IFERROR(VLOOKUP(A662,'1.Портфель кредитів'!A:AC,3,FALSE),\"\")","v":""},{"$f":"IFERROR(VLOOKUP(A662,'1.Портфель кредитів'!A:AC,14,FALSE),\"\")","v":""}]
[null,{"$f":"IFERROR(VLOOKUP(A663,'1.Портфель кредитів'!A:AC,3,FALSE),\"\")","v":""},{"$f":"IFERROR(VLOOKUP(A663,'1.Портфель кредитів'!A:AC,14,FALSE),\"\")","v":""}]
[null,{"$f":"IFERROR(VLOOKUP(A664,'1.Портфель кредитів'!A:AC,3,FALSE),\"\")","v":""},{"$f":"IFERROR(VLOOKUP(A664,'1.Портфель кредитів'!A:AC,14,FALSE),\"\")","v":""}]
[null,{"$f":"IFERROR(VLOOKUP(A665,'1.Портфель кредитів'!A:AC,3,FALSE),\"\")","v":""},{"$f":"IFERROR(VLOOKUP(A665,'1.Портфель кредитів'!A:AC,14,FALSE),\"\")","v":""}]
[null,{"$f":"IFERROR(VLOOKUP(A666,'1.Портфель кредитів'!A:AC,3,FALSE),\"\")","v":""},{"$f":"IFERROR(VLOOKUP(A666,'1.Портфель кредитів'!A:AC,14,FALSE),\"\")","v":""}]
[null,{"$f":"IFERROR(VLOOKUP(A667,'1.Портфель кредитів'!A:AC,3,FALSE),\"\")","v":""},{"$f":"IFERROR(VLOOKUP(A667,'1.Портфель кредитів'!A:AC,14,FALSE),\"\")","v":""}]
[null,{"$f":"IFERROR(VLOOKUP(A668,'1.Портфель кредитів'!A:AC,3,FALSE),\"\")","v":""},{"$f":"IFERROR(VLOOKUP(A668,'1.Портфель кредитів'!A:AC,14,FALSE),\"\")","v":""}]
[null,{"$f":"IFERROR(VLOOKUP(A669,'1.Портфель кредитів'!A:AC,3,FALSE),\"\")","v":""},{"$f":"IFERROR(VLOOKUP(A669,'1.Портфель кредитів'!A:AC,14,FALSE),\"\")","v":""}]
[null,{"$f":"IFERROR(VLOOKUP(A670,'1.Портфель кредитів'!A:AC,3,FALSE),\"\")","v":""},{"$f":"IFERROR(VLOOKUP(A670,'1.Портфель кредитів'!A:AC,14,FALSE),\"\")","v":""}]
[null,{"$f":"IFERROR(VLOOKUP(A671,'1.Портфель кредитів'!A:AC,3,FALSE),\"\")","v":""},{"$f":"IFERROR(VLOOKUP(A671,'1.Портфель кредитів'!A:AC,14,FALSE),\"\")","v":""}]
[null,{"$f":"IFERROR(VLOOKUP(A672,'1.Портфель кредитів'!A:AC,3,FALSE),\"\")","v":""},{"$f":"IFERROR(VLOOKUP(A672,'1.Портфель кредитів'!A:AC,14,FALSE),\"\")","v":""}]
[null,{"$f":"IFERROR(VLOOKUP(A673,'1.Портфель кредитів'!A:AC,3,FALSE),\"\")","v":""},{"$f":"IFERROR(VLOOKUP(A673,'1.Портфель кредитів'!A:AC,14,FALSE),\"\")","v":""}]
[null,{"$f":"IFERROR(VLOOKUP(A674,'1.Портфель кредитів'!A:AC,3,FALSE),\"\")","v":""},{"$f":"IFERROR(VLOOKUP(A674,'1.Портфель кредитів'!A:AC,14,FALSE),\"\")","v":""}]
[null,{"$f":"IFERROR(VLOOKUP(A675,'1.Портфель кредитів'!A:AC,3,FALSE),\"\")","v":""},{"$f":"IFERROR(VLOOKUP(A675,'1.Портфель кредитів'!A:AC,14,FALSE),\"\")","v":""}]
[null,{"$f":"IFERROR(VLOOKUP(A676,'1.Портфель кредитів'!A:AC,3,FALSE),\"\")","v":""},{"$f":"IFERROR(VLOOKUP(A676,'1.Портфель кредитів'!A:AC,14,FALSE),\"\")","v":""}]
[null,{"$f":"IFERROR(VLOOKUP(A677,'1.Портфель кредитів'!A:AC,3,FALSE),\"\")","v":""},{"$f":"IFERROR(VLOOKUP(A677,'1.Портфель кредитів'!A:AC,14,FALSE),\"\")","v":""}]
[null,{"$f":"IFERROR(VLOOKUP(A678,'1.Портфель кредитів'!A:AC,3,FALSE),\"\")","v":""},{"$f":"IFERROR(VLOOKUP(A678,'1.Портфель кредитів'!A:AC,14,FALSE),\"\")","v":""}]
[null,{"$f":"IFERROR(VLOOKUP(A679,'1.Портфель кредитів'!A:AC,3,FALSE),\"\")","v":""},{"$f":"IFERROR(VLOOKUP(A679,'1.Портфель кредитів'!A:AC,14,FALSE),\"\")","v":""}]
[null,{"$f":"IFERROR(VLOOKUP(A680,'1.Портфель кредитів'!A:AC,3,FALSE),\"\")","v":""},{"$f":"IFERROR(VLOOKUP(A680,'1.Портфель кредитів'!A:AC,14,FALSE),\"\")","v":""}]
[null,{"$f":"IFERROR(VLOOKUP(A681,'1.Портфель кредитів'!A:AC,3,FALSE),\"\")","v":""},{"$f":"IFERROR(VLOOKUP(A681,'1.Портфель кредитів'!A:AC,14,FALSE),\"\")","v":""}]
[null,{"$f":"IFERROR(VLOOKUP(A682,'1.Портфель кредитів'!A:AC,3,FALSE),\"\")","v":""},{"$f":"IFERROR(VLOOKUP(A682,'1.Портфель кредитів'!A:AC,14,FALSE),\"\")","v":""}]
[null,{"$f":"IFERROR(VLOOKUP(A683,'1.Портфель кредитів'!A:AC,3,FALSE),\"\")","v":""},{"$f":"IFERROR(VLOOKUP(A683,'1.Портфель кредитів'!A:AC,14,FALSE),\"\")","v":""}]
[null,{"$f":"IFERROR(VLOOKUP(A684,'1.Портфель кредитів'!A:AC,3,FALSE),\"\")","v":""},{"$f":"IFERROR(VLOOKUP(A684,'1.Портфель кредитів'!A:AC,14,FALSE),\"\")","v":""}]
[null,{"$f":"IFERROR(VLOOKUP(A685,'1.Портфель кредитів'!A:AC,3,FALSE),\"\")","v":""},{"$f":"IFERROR(VLOOKUP(A685,'1.Портфель кредитів'!A:AC,14,FALSE),\"\")","v":""}]
[null,{"$f":"IFERROR(VLOOKUP(A686,'1.Портфель кредитів'!A:AC,3,FALSE),\"\")","v":""},{"$f":"IFERROR(VLOOKUP(A686,'1.Портфель кредитів'!A:AC,14,FALSE),\"\")","v":""}]
[null,{"$f":"IFERROR(VLOOKUP(A687,'1.Портфель кредитів'!A:AC,3,FALSE),\"\")","v":""},{"$f":"IFERROR(VLOOKUP(A687,'1.Портфель кредитів'!A:AC,14,FALSE),\"\")","v":""}]
[null,{"$f":"IFERROR(VLOOKUP(A688,'1.Портфель кредитів'!A:AC,3,FALSE),\"\")","v":""},{"$f":"IFERROR(VLOOKUP(A688,'1.Портфель кредитів'!A:AC,14,FALSE),\"\")","v":""}]
[null,{"$f":"IFERROR(VLOOKUP(A689,'1.Портфель кредитів'!A:AC,3,FALSE),\"\")","v":""},{"$f":"IFERROR(VLOOKUP(A689,'1.Портфель кредитів'!A:AC,14,FALSE),\"\")","v":""}]
[null,{"$f":"IFERROR(VLOOKUP(A690,'1.Портфель кредитів'!A:AC,3,FALSE),\"\")","v":""},{"$f":"IFERROR(VLOOKUP(A690,'1.Портфель кредитів'!A:AC,14,FALSE),\"\")","v":""}]
[null,{"$f":"IFERROR(VLOOKUP(A691,'1.Портфель кредитів'!A:AC,3,FALSE),\"\")","v":""},{"$f":"IFERROR(VLOOKUP(A691,'1.Портфель кредитів'!A:AC,14,FALSE),\"\")","v":""}]
[null,{"$f":"IFERROR(VLOOKUP(A692,'1.Портфель кредитів'!A:AC,3,FALSE),\"\")","v":""},{"$f":"IFERROR(VLOOKUP(A692,'1.Портфель кредитів'!A:AC,14,FALSE),\"\")","v":""}]
[null,{"$f":"IFERROR(VLOOKUP(A693,'1.Портфель кредитів'!A:AC,3,FALSE),\"\")","v":""},{"$f":"IFERROR(VLOOKUP(A693,'1.Портфель кредитів'!A:AC,14,FALSE),\"\")","v":""}]
[null,{"$f":"IFERROR(VLOOKUP(A694,'1.Портфель кредитів'!A:AC,3,FALSE),\"\")","v":""},{"$f":"IFERROR(VLOOKUP(A694,'1.Портфель кредитів'!A:AC,14,FALSE),\"\")","v":""}]
[null,{"$f":"IFERROR(VLOOKUP(A695,'1.Портфель кредитів'!A:AC,3,FALSE),\"\")","v":""},{"$f":"IFERROR(VLOOKUP(A695,'1.Портфель кредитів'!A:AC,14,FALSE),\"\")","v":""}]
[null,{"$f":"IFERROR(VLOOKUP(A696,'1.Портфель кредитів'!A:AC,3,FALSE),\"\")","v":""},{"$f":"IFERROR(VLOOKUP(A696,'1.Портфель кредитів'!A:AC,14,FALSE),\"\")","v":""}]
[null,{"$f":"IFERROR(VLOOKUP(A697,'1.Портфель кредитів'!A:AC,3,FALSE),\"\")","v":""},{"$f":"IFERROR(VLOOKUP(A697,'1.Портфель кредитів'!A:AC,14,FALSE),\"\")","v":""}]
[null,{"$f":"IFERROR(VLOOKUP(A698,'1.Портфель кредитів'!A:AC,3,FALSE),\"\")","v":""},{"$f":"IFERROR(VLOOKUP(A698,'1.Портфель кредитів'!A:AC,14,FALSE),\"\")","v":""}]
[null,{"$f":"IFERROR(VLOOKUP(A699,'1.Портфель кредитів'!A:AC,3,FALSE),\"\")","v":""},{"$f":"IFERROR(VLOOKUP(A699,'1.Портфель кредитів'!A:AC,14,FALSE),\"\")","v":""}]
[null,{"$f":"IFERROR(VLOOKUP(A700,'1.Портфель кредитів'!A:AC,3,FALSE),\"\")","v":""},{"$f":"IFERROR(VLOOKUP(A700,'1.Портфель кредитів'!A:AC,14,FALSE),\"\")","v":""}]
[null,{"$f":"IFERROR(VLOOKUP(A701,'1.Портфель кредитів'!A:AC,3,FALSE),\"\")","v":""},{"$f":"IFERROR(VLOOKUP(A701,'1.Портфель кредитів'!A:AC,14,FALSE),\"\")","v":""}]
[null,{"$f":"IFERROR(VLOOKUP(A702,'1.Портфель кредитів'!A:AC,3,FALSE),\"\")","v":""},{"$f":"IFERROR(VLOOKUP(A702,'1.Портфель кредитів'!A:AC,14,FALSE),\"\")","v":""}]
[null,{"$f":"IFERROR(VLOOKUP(A703,'1.Портфель кредитів'!A:AC,3,FALSE),\"\")","v":""},{"$f":"IFERROR(VLOOKUP(A703,'1.Портфель кредитів'!A:AC,14,FALSE),\"\")","v":""}]
[null,{"$f":"IFERROR(VLOOKUP(A704,'1.Портфель кредитів'!A:AC,3,FALSE),\"\")","v":""},{"$f":"IFERROR(VLOOKUP(A704,'1.Портфель кредитів'!A:AC,14,FALSE),\"\")","v":""}]
[null,{"$f":"IFERROR(VLOOKUP(A705,'1.Портфель кредитів'!A:AC,3,FALSE),\"\")","v":""},{"$f":"IFERROR(VLOOKUP(A705,'1.Портфель кредитів'!A:AC,14,FALSE),\"\")","v":""}]
[null,{"$f":"IFERROR(VLOOKUP(A706,'1.Портфель кредитів'!A:AC,3,FALSE),\"\")","v":""},{"$f":"IFERROR(VLOOKUP(A706,'1.Портфель кредитів'!A:AC,14,FALSE),\"\")","v":""}]
[null,{"$f":"IFERROR(VLOOKUP(A707,'1.Портфель кредитів'!A:AC,3,FALSE),\"\")","v":""},{"$f":"IFERROR(VLOOKUP(A707,'1.Портфель кредитів'!A:AC,14,FALSE),\"\")","v":""}]
[null,{"$f":"IFERROR(VLOOKUP(A708,'1.Портфель кредитів'!A:AC,3,FALSE),\"\")","v":""},{"$f":"IFERROR(VLOOKUP(A708,'1.Портфель кредитів'!A:AC,14,FALSE),\"\")","v":""}]
[null,{"$f":"IFERROR(VLOOKUP(A709,'1.Портфель кредитів'!A:AC,3,FALSE),\"\")","v":""},{"$f":"IFERROR(VLOOKUP(A709,'1.Портфель кредитів'!A:AC,14,FALSE),\"\")","v":""}]
[null,{"$f":"IFERROR(VLOOKUP(A710,'1.Портфель кредитів'!A:AC,3,FALSE),\"\")","v":""},{"$f":"IFERROR(VLOOKUP(A710,'1.Портфель кредитів'!A:AC,14,FALSE),\"\")","v":""}]
[null,{"$f":"IFERROR(VLOOKUP(A711,'1.Портфель кредитів'!A:AC,3,FALSE),\"\")","v":""},{"$f":"IFERROR(VLOOKUP(A711,'1.Портфель кредитів'!A:AC,14,FALSE),\"\")","v":""}]
[null,{"$f":"IFERROR(VLOOKUP(A712,'1.Портфель кредитів'!A:AC,3,FALSE),\"\")","v":""},{"$f":"IFERROR(VLOOKUP(A712,'1.Портфель кредитів'!A:AC,14,FALSE),\"\")","v":""}]
[null,{"$f":"IFERROR(VLOOKUP(A713,'1.Портфель кредитів'!A:AC,3,FALSE),\"\")","v":""},{"$f":"IFERROR(VLOOKUP(A713,'1.Портфель кредитів'!A:AC,14,FALSE),\"\")","v":""}]
[null,{"$f":"IFERROR(VLOOKUP(A714,'1.Портфель кредитів'!A:AC,3,FALSE),\"\")","v":""},{"$f":"IFERROR(VLOOKUP(A714,'1.Портфель кредитів'!A:AC,14,FALSE),\"\")","v":""}]
[null,{"$f":"IFERROR(VLOOKUP(A715,'1.Портфель кредитів'!A:AC,3,FALSE),\"\")","v":""},{"$f":"IFERROR(VLOOKUP(A715,'1.Портфель кредитів'!A:AC,14,FALSE),\"\")","v":""}]
[null,{"$f":"IFERROR(VLOOKUP(A716,'1.Портфель кредитів'!A:AC,3,FALSE),\"\")","v":""},{"$f":"IFERROR(VLOOKUP(A716,'1.Портфель кредитів'!A:AC,14,FALSE),\"\")","v":""}]
[null,{"$f":"IFERROR(VLOOKUP(A717,'1.Портфель кредитів'!A:AC,3,FALSE),\"\")","v":""},{"$f":"IFERROR(VLOOKUP(A717,'1.Портфель кредитів'!A:AC,14,FALSE),\"\")","v":""}]
[null,{"$f":"IFERROR(VLOOKUP(A718,'1.Портфель кредитів'!A:AC,3,FALSE),\"\")","v":""},{"$f":"IFERROR(VLOOKUP(A718,'1.Портфель кредитів'!A:AC,14,FALSE),\"\")","v":""}]
[null,{"$f":"IFERROR(VLOOKUP(A719,'1.Портфель кредитів'!A:AC,3,FALSE),\"\")","v":""},{"$f":"IFERROR(VLOOKUP(A719,'1.Портфель кредитів'!A:AC,14,FALSE),\"\")","v":""}]
[null,{"$f":"IFERROR(VLOOKUP(A720,'1.Портфель кредитів'!A:AC,3,FALSE),\"\")","v":""},{"$f":"IFERROR(VLOOKUP(A720,'1.Портфель кредитів'!A:AC,14,FALSE),\"\")","v":""}]
[null,{"$f":"IFERROR(VLOOKUP(A721,'1.Портфель кредитів'!A:AC,3,FALSE),\"\")","v":""},{"$f":"IFERROR(VLOOKUP(A721,'1.Портфель кредитів'!A:AC,14,FALSE),\"\")","v":""}]
[null,{"$f":"IFERROR(VLOOKUP(A722,'1.Портфель кредитів'!A:AC,3,FALSE),\"\")","v":""},{"$f":"IFERROR(VLOOKUP(A722,'1.Портфель кредитів'!A:AC,14,FALSE),\"\")","v":""}]
[null,{"$f":"IFERROR(VLOOKUP(A723,'1.Портфель кредитів'!A:AC,3,FALSE),\"\")","v":""},{"$f":"IFERROR(VLOOKUP(A723,'1.Портфель кредитів'!A:AC,14,FALSE),\"\")","v":""}]
[null,{"$f":"IFERROR(VLOOKUP(A724,'1.Портфель кредитів'!A:AC,3,FALSE),\"\")","v":""},{"$f":"IFERROR(VLOOKUP(A724,'1.Портфель кредитів'!A:AC,14,FALSE),\"\")","v":""}]
[null,{"$f":"IFERROR(VLOOKUP(A725,'1.Портфель кредитів'!A:AC,3,FALSE),\"\")","v":""},{"$f":"IFERROR(VLOOKUP(A725,'1.Портфель кредитів'!A:AC,14,FALSE),\"\")","v":""}]
[null,{"$f":"IFERROR(VLOOKUP(A726,'1.Портфель кредитів'!A:AC,3,FALSE),\"\")","v":""},{"$f":"IFERROR(VLOOKUP(A726,'1.Портфель кредитів'!A:AC,14,FALSE),\"\")","v":""}]
[null,{"$f":"IFERROR(VLOOKUP(A727,'1.Портфель кредитів'!A:AC,3,FALSE),\"\")","v":""},{"$f":"IFERROR(VLOOKUP(A727,'1.Портфель кредитів'!A:AC,14,FALSE),\"\")","v":""}]
[null,{"$f":"IFERROR(VLOOKUP(A728,'1.Портфель кредитів'!A:AC,3,FALSE),\"\")","v":""},{"$f":"IFERROR(VLOOKUP(A728,'1.Портфель кредитів'!A:AC,14,FALSE),\"\")","v":""}]
[null,{"$f":"IFERROR(VLOOKUP(A729,'1.Портфель кредитів'!A:AC,3,FALSE),\"\")","v":""},{"$f":"IFERROR(VLOOKUP(A729,'1.Портфель кредитів'!A:AC,14,FALSE),\"\")","v":""}]
[null,{"$f":"IFERROR(VLOOKUP(A730,'1.Портфель кредитів'!A:AC,3,FALSE),\"\")","v":""},{"$f":"IFERROR(VLOOKUP(A730,'1.Портфель кредитів'!A:AC,14,FALSE),\"\")","v":""}]
[null,{"$f":"IFERROR(VLOOKUP(A731,'1.Портфель кредитів'!A:AC,3,FALSE),\"\")","v":""},{"$f":"IFERROR(VLOOKUP(A731,'1.Портфель кредитів'!A:AC,14,FALSE),\"\")","v":""}]
[null,{"$f":"IFERROR(VLOOKUP(A732,'1.Портфель кредитів'!A:AC,3,FALSE),\"\")","v":""},{"$f":"IFERROR(VLOOKUP(A732,'1.Портфель кредитів'!A:AC,14,FALSE),\"\")","v":""}]
[null,{"$f":"IFERROR(VLOOKUP(A733,'1.Портфель кредитів'!A:AC,3,FALSE),\"\")","v":""},{"$f":"IFERROR(VLOOKUP(A733,'1.Портфель кредитів'!A:AC,14,FALSE),\"\")","v":""}]
[null,{"$f":"IFERROR(VLOOKUP(A734,'1.Портфель кредитів'!A:AC,3,FALSE),\"\")","v":""},{"$f":"IFERROR(VLOOKUP(A734,'1.Портфель кредитів'!A:AC,14,FALSE),\"\")","v":""}]
[null,{"$f":"IFERROR(VLOOKUP(A735,'1.Портфель кредитів'!A:AC,3,FALSE),\"\")","v":""},{"$f":"IFERROR(VLOOKUP(A735,'1.Портфель кредитів'!A:AC,14,FALSE),\"\")","v":""}]
[null,{"$f":"IFERROR(VLOOKUP(A736,'1.Портфель кредитів'!A:AC,3,FALSE),\"\")","v":""},{"$f":"IFERROR(VLOOKUP(A736,'1.Портфель кредитів'!A:AC,14,FALSE),\"\")","v":""}]
[null,{"$f":"IFERROR(VLOOKUP(A737,'1.Портфель кредитів'!A:AC,3,FALSE),\"\")","v":""},{"$f":"IFERROR(VLOOKUP(A737,'1.Портфель кредитів'!A:AC,14,FALSE),\"\")","v":""}]
[null,{"$f":"IFERROR(VLOOKUP(A738,'1.Портфель кредитів'!A:AC,3,FALSE),\"\")","v":""},{"$f":"IFERROR(VLOOKUP(A738,'1.Портфель кредитів'!A:AC,14,FALSE),\"\")","v":""}]
[null,{"$f":"IFERROR(VLOOKUP(A739,'1.Портфель кредитів'!A:AC,3,FALSE),\"\")","v":""},{"$f":"IFERROR(VLOOKUP(A739,'1.Портфель кредитів'!A:AC,14,FALSE),\"\")","v":""}]
[null,{"$f":"IFERROR(VLOOKUP(A740,'1.Портфель кредитів'!A:AC,3,FALSE),\"\")","v":""},{"$f":"IFERROR(VLOOKUP(A740,'1.Портфель кредитів'!A:AC,14,FALSE),\"\")","v":""}]
[null,{"$f":"IFERROR(VLOOKUP(A741,'1.Портфель кредитів'!A:AC,3,FALSE),\"\")","v":""},{"$f":"IFERROR(VLOOKUP(A741,'1.Портфель кредитів'!A:AC,14,FALSE),\"\")","v":""}]
[null,{"$f":"IFERROR(VLOOKUP(A742,'1.Портфель кредитів'!A:AC,3,FALSE),\"\")","v":""},{"$f":"IFERROR(VLOOKUP(A742,'1.Портфель кредитів'!A:AC,14,FALSE),\"\")","v":""}]
[null,{"$f":"IFERROR(VLOOKUP(A743,'1.Портфель кредитів'!A:AC,3,FALSE),\"\")","v":""},{"$f":"IFERROR(VLOOKUP(A743,'1.Портфель кредитів'!A:AC,14,FALSE),\"\")","v":""}]
[null,{"$f":"IFERROR(VLOOKUP(A744,'1.Портфель кредитів'!A:AC,3,FALSE),\"\")","v":""},{"$f":"IFERROR(VLOOKUP(A744,'1.Портфель кредитів'!A:AC,14,FALSE),\"\")","v":""}]
[null,{"$f":"IFERROR(VLOOKUP(A745,'1.Портфель кредитів'!A:AC,3,FALSE),\"\")","v":""},{"$f":"IFERROR(VLOOKUP(A745,'1.Портфель кредитів'!A:AC,14,FALSE),\"\")","v":""}]
[null,{"$f":"IFERROR(VLOOKUP(A746,'1.Портфель кредитів'!A:AC,3,FALSE),\"\")","v":""},{"$f":"IFERROR(VLOOKUP(A746,'1.Портфель кредитів'!A:AC,14,FALSE),\"\")","v":""}]
[null,{"$f":"IFERROR(VLOOKUP(A747,'1.Портфель кредитів'!A:AC,3,FALSE),\"\")","v":""},{"$f":"IFERROR(VLOOKUP(A747,'1.Портфель кредитів'!A:AC,14,FALSE),\"\")","v":""}]
[null,{"$f":"IFERROR(VLOOKUP(A748,'1.Портфель кредитів'!A:AC,3,FALSE),\"\")","v":""},{"$f":"IFERROR(VLOOKUP(A748,'1.Портфель кредитів'!A:AC,14,FALSE),\"\")","v":""}]
[null,{"$f":"IFERROR(VLOOKUP(A749,'1.Портфель кредитів'!A:AC,3,FALSE),\"\")","v":""},{"$f":"IFERROR(VLOOKUP(A749,'1.Портфель кредитів'!A:AC,14,FALSE),\"\")","v":""}]
[null,{"$f":"IFERROR(VLOOKUP(A750,'1.Портфель кредитів'!A:AC,3,FALSE),\"\")","v":""},{"$f":"IFERROR(VLOOKUP(A750,'1.Портфель кредитів'!A:AC,14,FALSE),\"\")","v":""}]
[null,{"$f":"IFERROR(VLOOKUP(A751,'1.Портфель кредитів'!A:AC,3,FALSE),\"\")","v":""},{"$f":"IFERROR(VLOOKUP(A751,'1.Портфель кредитів'!A:AC,14,FALSE),\"\")","v":""}]
[null,{"$f":"IFERROR(VLOOKUP(A752,'1.Портфель кредитів'!A:AC,3,FALSE),\"\")","v":""},{"$f":"IFERROR(VLOOKUP(A752,'1.Портфель кредитів'!A:AC,14,FALSE),\"\")","v":""}]
[null,{"$f":"IFERROR(VLOOKUP(A753,'1.Портфель кредитів'!A:AC,3,FALSE),\"\")","v":""},{"$f":"IFERROR(VLOOKUP(A753,'1.Портфель кредитів'!A:AC,14,FALSE),\"\")","v":""}]
[null,{"$f":"IFERROR(VLOOKUP(A754,'1.Портфель кредитів'!A:AC,3,FALSE),\"\")","v":""},{"$f":"IFERROR(VLOOKUP(A754,'1.Портфель кредитів'!A:AC,14,FALSE),\"\")","v":""}]
[null,{"$f":"IFERROR(VLOOKUP(A755,'1.Портфель кредитів'!A:AC,3,FALSE),\"\")","v":""},{"$f":"IFERROR(VLOOKUP(A755,'1.Портфель кредитів'!A:AC,14,FALSE),\"\")","v":""}]
[null,{"$f":"IFERROR(VLOOKUP(A756,'1.Портфель кредитів'!A:AC,3,FALSE),\"\")","v":""},{"$f":"IFERROR(VLOOKUP(A756,'1.Портфель кредитів'!A:AC,14,FALSE),\"\")","v":""}]
[null,{"$f":"IFERROR(VLOOKUP(A757,'1.Портфель кредитів'!A:AC,3,FALSE),\"\")","v":""},{"$f":"IFERROR(VLOOKUP(A757,'1.Портфель кредитів'!A:AC,14,FALSE),\"\")","v":""}]
[null,{"$f":"IFERROR(VLOOKUP(A758,'1.Портфель кредитів'!A:AC,3,FALSE),\"\")","v":""},{"$f":"IFERROR(VLOOKUP(A758,'1.Портфель кредитів'!A:AC,14,FALSE),\"\")","v":""}]
[null,{"$f":"IFERROR(VLOOKUP(A759,'1.Портфель кредитів'!A:AC,3,FALSE),\"\")","v":""},{"$f":"IFERROR(VLOOKUP(A759,'1.Портфель кредитів'!A:AC,14,FALSE),\"\")","v":""}]
[null,{"$f":"IFERROR(VLOOKUP(A760,'1.Портфель кредитів'!A:AC,3,FALSE),\"\")","v":""},{"$f":"IFERROR(VLOOKUP(A760,'1.Портфель кредитів'!A:AC,14,FALSE),\"\")","v":""}]
[null,{"$f":"IFERROR(VLOOKUP(A761,'1.Портфель кредитів'!A:AC,3,FALSE),\"\")","v":""},{"$f":"IFERROR(VLOOKUP(A761,'1.Портфель кредитів'!A:AC,14,FALSE),\"\")","v":""}]
[null,{"$f":"IFERROR(VLOOKUP(A762,'1.Портфель кредитів'!A:AC,3,FALSE),\"\")","v":""},{"$f":"IFERROR(VLOOKUP(A762,'1.Портфель кредитів'!A:AC,14,FALSE),\"\")","v":""}]
[null,{"$f":"IFERROR(VLOOKUP(A763,'1.Портфель кредитів'!A:AC,3,FALSE),\"\")","v":""},{"$f":"IFERROR(VLOOKUP(A763,'1.Портфель кредитів'!A:AC,14,FALSE),\"\")","v":""}]
[null,{"$f":"IFERROR(VLOOKUP(A764,'1.Портфель кредитів'!A:AC,3,FALSE),\"\")","v":""},{"$f":"IFERROR(VLOOKUP(A764,'1.Портфель кредитів'!A:AC,14,FALSE),\"\")","v":""}]
[null,{"$f":"IFERROR(VLOOKUP(A765,'1.Портфель кредитів'!A:AC,3,FALSE),\"\")","v":""},{"$f":"IFERROR(VLOOKUP(A765,'1.Портфель кредитів'!A:AC,14,FALSE),\"\")","v":""}]
[null,{"$f":"IFERROR(VLOOKUP(A766,'1.Портфель кредитів'!A:AC,3,FALSE),\"\")","v":""},{"$f":"IFERROR(VLOOKUP(A766,'1.Портфель кредитів'!A:AC,14,FALSE),\"\")","v":""}]
[null,{"$f":"IFERROR(VLOOKUP(A767,'1.Портфель кредитів'!A:AC,3,FALSE),\"\")","v":""},{"$f":"IFERROR(VLOOKUP(A767,'1.Портфель кредитів'!A:AC,14,FALSE),\"\")","v":""}]
[null,{"$f":"IFERROR(VLOOKUP(A768,'1.Портфель кредитів'!A:AC,3,FALSE),\"\")","v":""},{"$f":"IFERROR(VLOOKUP(A768,'1.Портфель кредитів'!A:AC,14,FALSE),\"\")","v":""}]
[null,{"$f":"IFERROR(VLOOKUP(A769,'1.Портфель кредитів'!A:AC,3,FALSE),\"\")","v":""},{"$f":"IFERROR(VLOOKUP(A769,'1.Портфель кредитів'!A:AC,14,FALSE),\"\")","v":""}]
[null,{"$f":"IFERROR(VLOOKUP(A770,'1.Портфель кредитів'!A:AC,3,FALSE),\"\")","v":""},{"$f":"IFERROR(VLOOKUP(A770,'1.Портфель кредитів'!A:AC,14,FALSE),\"\")","v":""}]
[null,{"$f":"IFERROR(VLOOKUP(A771,'1.Портфель кредитів'!A:AC,3,FALSE),\"\")","v":""},{"$f":"IFERROR(VLOOKUP(A771,'1.Портфель кредитів'!A:AC,14,FALSE),\"\")","v":""}]
[null,{"$f":"IFERROR(VLOOKUP(A772,'1.Портфель кредитів'!A:AC,3,FALSE),\"\")","v":""},{"$f":"IFERROR(VLOOKUP(A772,'1.Портфель кредитів'!A:AC,14,FALSE),\"\")","v":""}]
[null,{"$f":"IFERROR(VLOOKUP(A773,'1.Портфель кредитів'!A:AC,3,FALSE),\"\")","v":""},{"$f":"IFERROR(VLOOKUP(A773,'1.Портфель кредитів'!A:AC,14,FALSE),\"\")","v":""}]
[null,{"$f":"IFERROR(VLOOKUP(A774,'1.Портфель кредитів'!A:AC,3,FALSE),\"\")","v":""},{"$f":"IFERROR(VLOOKUP(A774,'1.Портфель кредитів'!A:AC,14,FALSE),\"\")","v":""}]
[null,{"$f":"IFERROR(VLOOKUP(A775,'1.Портфель кредитів'!A:AC,3,FALSE),\"\")","v":""},{"$f":"IFERROR(VLOOKUP(A775,'1.Портфель кредитів'!A:AC,14,FALSE),\"\")","v":""}]
[null,{"$f":"IFERROR(VLOOKUP(A776,'1.Портфель кредитів'!A:AC,3,FALSE),\"\")","v":""},{"$f":"IFERROR(VLOOKUP(A776,'1.Портфель кредитів'!A:AC,14,FALSE),\"\")","v":""}]
[null,{"$f":"IFERROR(VLOOKUP(A777,'1.Портфель кредитів'!A:AC,3,FALSE),\"\")","v":""},{"$f":"IFERROR(VLOOKUP(A777,'1.Портфель кредитів'!A:AC,14,FALSE),\"\")","v":""}]
[null,{"$f":"IFERROR(VLOOKUP(A778,'1.Портфель кредитів'!A:AC,3,FALSE),\"\")","v":""},{"$f":"IFERROR(VLOOKUP(A778,'1.Портфель кредитів'!A:AC,14,FALSE),\"\")","v":""}]
[null,{"$f":"IFERROR(VLOOKUP(A779,'1.Портфель кредитів'!A:AC,3,FALSE),\"\")","v":""},{"$f":"IFERROR(VLOOKUP(A779,'1.Портфель кредитів'!A:AC,14,FALSE),\"\")","v":""}]
[null,{"$f":"IFERROR(VLOOKUP(A780,'1.Портфель кредитів'!A:AC,3,FALSE),\"\")","v":""},{"$f":"IFERROR(VLOOKUP(A780,'1.Портфель кредитів'!A:AC,14,FALSE),\"\")","v":""}]
[null,{"$f":"IFERROR(VLOOKUP(A781,'1.Портфель кредитів'!A:AC,3,FALSE),\"\")","v":""},{"$f":"IFERROR(VLOOKUP(A781,'1.Портфель кредитів'!A:AC,14,FALSE),\"\")","v":""}]
[null,{"$f":"IFERROR(VLOOKUP(A782,'1.Портфель кредитів'!A:AC,3,FALSE),\"\")","v":""},{"$f":"IFERROR(VLOOKUP(A782,'1.Портфель кредитів'!A:AC,14,FALSE),\"\")","v":""}]
[null,{"$f":"IFERROR(VLOOKUP(A783,'1.Портфель кредитів'!A:AC,3,FALSE),\"\")","v":""},{"$f":"IFERROR(VLOOKUP(A783,'1.Портфель кредитів'!A:AC,14,FALSE),\"\")","v":""}]
[null,{"$f":"IFERROR(VLOOKUP(A784,'1.Портфель кредитів'!A:AC,3,FALSE),\"\")","v":""},{"$f":"IFERROR(VLOOKUP(A784,'1.Портфель кредитів'!A:AC,14,FALSE),\"\")","v":""}]
[null,{"$f":"IFERROR(VLOOKUP(A785,'1.Портфель кредитів'!A:AC,3,FALSE),\"\")","v":""},{"$f":"IFERROR(VLOOKUP(A785,'1.Портфель кредитів'!A:AC,14,FALSE),\"\")","v":""}]
[null,{"$f":"IFERROR(VLOOKUP(A786,'1.Портфель кредитів'!A:AC,3,FALSE),\"\")","v":""},{"$f":"IFERROR(VLOOKUP(A786,'1.Портфель кредитів'!A:AC,14,FALSE),\"\")","v":""}]
[null,{"$f":"IFERROR(VLOOKUP(A787,'1.Портфель кредитів'!A:AC,3,FALSE),\"\")","v":""},{"$f":"IFERROR(VLOOKUP(A787,'1.Портфель кредитів'!A:AC,14,FALSE),\"\")","v":""}]
[null,{"$f":"IFERROR(VLOOKUP(A788,'1.Портфель кредитів'!A:AC,3,FALSE),\"\")","v":""},{"$f":"IFERROR(VLOOKUP(A788,'1.Портфель кредитів'!A:AC,14,FALSE),\"\")","v":""}]
[null,{"$f":"IFERROR(VLOOKUP(A789,'1.Портфель кредитів'!A:AC,3,FALSE),\"\")","v":""},{"$f":"IFERROR(VLOOKUP(A789,'1.Портфель кредитів'!A:AC,14,FALSE),\"\")","v":""}]
[null,{"$f":"IFERROR(VLOOKUP(A790,'1.Портфель кредитів'!A:AC,3,FALSE),\"\")","v":""},{"$f":"IFERROR(VLOOKUP(A790,'1.Портфель кредитів'!A:AC,14,FALSE),\"\")","v":""}]
[null,{"$f":"IFERROR(VLOOKUP(A791,'1.Портфель кредитів'!A:AC,3,FALSE),\"\")","v":""},{"$f":"IFERROR(VLOOKUP(A791,'1.Портфель кредитів'!A:AC,14,FALSE),\"\")","v":""}]
[null,{"$f":"IFERROR(VLOOKUP(A792,'1.Портфель кредитів'!A:AC,3,FALSE),\"\")","v":""},{"$f":"IFERROR(VLOOKUP(A792,'1.Портфель кредитів'!A:AC,14,FALSE),\"\")","v":""}]
[null,{"$f":"IFERROR(VLOOKUP(A793,'1.Портфель кредитів'!A:AC,3,FALSE),\"\")","v":""},{"$f":"IFERROR(VLOOKUP(A793,'1.Портфель кредитів'!A:AC,14,FALSE),\"\")","v":""}]
[null,{"$f":"IFERROR(VLOOKUP(A794,'1.Портфель кредитів'!A:AC,3,FALSE),\"\")","v":""},{"$f":"IFERROR(VLOOKUP(A794,'1.Портфель кредитів'!A:AC,14,FALSE),\"\")","v":""}]
[null,{"$f":"IFERROR(VLOOKUP(A795,'1.Портфель кредитів'!A:AC,3,FALSE),\"\")","v":""},{"$f":"IFERROR(VLOOKUP(A795,'1.Портфель кредитів'!A:AC,14,FALSE),\"\")","v":""}]
[null,{"$f":"IFERROR(VLOOKUP(A796,'1.Портфель кредитів'!A:AC,3,FALSE),\"\")","v":""},{"$f":"IFERROR(VLOOKUP(A796,'1.Портфель кредитів'!A:AC,14,FALSE),\"\")","v":""}]
[null,{"$f":"IFERROR(VLOOKUP(A797,'1.Портфель кредитів'!A:AC,3,FALSE),\"\")","v":""},{"$f":"IFERROR(VLOOKUP(A797,'1.Портфель кредитів'!A:AC,14,FALSE),\"\")","v":""}]
[null,{"$f":"IFERROR(VLOOKUP(A798,'1.Портфель кредитів'!A:AC,3,FALSE),\"\")","v":""},{"$f":"IFERROR(VLOOKUP(A798,'1.Портфель кредитів'!A:AC,14,FALSE),\"\")","v":""}]
[null,{"$f":"IFERROR(VLOOKUP(A799,'1.Портфель кредитів'!A:AC,3,FALSE),\"\")","v":""},{"$f":"IFERROR(VLOOKUP(A799,'1.Портфель кредитів'!A:AC,14,FALSE),\"\")","v":""}]
[null,{"$f":"IFERROR(VLOOKUP(A800,'1.Портфель кредитів'!A:AC,3,FALSE),\"\")","v":""},{"$f":"IFERROR(VLOOKUP(A800,'1.Портфель кредитів'!A:AC,14,FALSE),\"\")","v":""}]
[null,{"$f":"IFERROR(VLOOKUP(A801,'1.Портфель кредитів'!A:AC,3,FALSE),\"\")","v":""},{"$f":"IFERROR(VLOOKUP(A801,'1.Портфель кредитів'!A:AC,14,FALSE),\"\")","v":""}]
[null,{"$f":"IFERROR(VLOOKUP(A802,'1.Портфель кредитів'!A:AC,3,FALSE),\"\")","v":""},{"$f":"IFERROR(VLOOKUP(A802,'1.Портфель кредитів'!A:AC,14,FALSE),\"\")","v":""}]
[null,{"$f":"IFERROR(VLOOKUP(A803,'1.Портфель кредитів'!A:AC,3,FALSE),\"\")","v":""},{"$f":"IFERROR(VLOOKUP(A803,'1.Портфель кредитів'!A:AC,14,FALSE),\"\")","v":""}]
[null,{"$f":"IFERROR(VLOOKUP(A804,'1.Портфель кредитів'!A:AC,3,FALSE),\"\")","v":""},{"$f":"IFERROR(VLOOKUP(A804,'1.Портфель кредитів'!A:AC,14,FALSE),\"\")","v":""}]
[null,{"$f":"IFERROR(VLOOKUP(A805,'1.Портфель кредитів'!A:AC,3,FALSE),\"\")","v":""},{"$f":"IFERROR(VLOOKUP(A805,'1.Портфель кредитів'!A:AC,14,FALSE),\"\")","v":""}]
[null,{"$f":"IFERROR(VLOOKUP(A806,'1.Портфель кредитів'!A:AC,3,FALSE),\"\")","v":""},{"$f":"IFERROR(VLOOKUP(A806,'1.Портфель кредитів'!A:AC,14,FALSE),\"\")","v":""}]
[null,{"$f":"IFERROR(VLOOKUP(A807,'1.Портфель кредитів'!A:AC,3,FALSE),\"\")","v":""},{"$f":"IFERROR(VLOOKUP(A807,'1.Портфель кредитів'!A:AC,14,FALSE),\"\")","v":""}]
[null,{"$f":"IFERROR(VLOOKUP(A808,'1.Портфель кредитів'!A:AC,3,FALSE),\"\")","v":""},{"$f":"IFERROR(VLOOKUP(A808,'1.Портфель кредитів'!A:AC,14,FALSE),\"\")","v":""}]
[null,{"$f":"IFERROR(VLOOKUP(A809,'1.Портфель кредитів'!A:AC,3,FALSE),\"\")","v":""},{"$f":"IFERROR(VLOOKUP(A809,'1.Портфель кредитів'!A:AC,14,FALSE),\"\")","v":""}]
[null,{"$f":"IFERROR(VLOOKUP(A810,'1.Портфель кредитів'!A:AC,3,FALSE),\"\")","v":""},{"$f":"IFERROR(VLOOKUP(A810,'1.Портфель кредитів'!A:AC,14,FALSE),\"\")","v":""}]
[null,{"$f":"IFERROR(VLOOKUP(A811,'1.Портфель кредитів'!A:AC,3,FALSE),\"\")","v":""},{"$f":"IFERROR(VLOOKUP(A811,'1.Портфель кредитів'!A:AC,14,FALSE),\"\")","v":""}]
[null,{"$f":"IFERROR(VLOOKUP(A812,'1.Портфель кредитів'!A:AC,3,FALSE),\"\")","v":""},{"$f":"IFERROR(VLOOKUP(A812,'1.Портфель кредитів'!A:AC,14,FALSE),\"\")","v":""}]
[null,{"$f":"IFERROR(VLOOKUP(A813,'1.Портфель кредитів'!A:AC,3,FALSE),\"\")","v":""},{"$f":"IFERROR(VLOOKUP(A813,'1.Портфель кредитів'!A:AC,14,FALSE),\"\")","v":""}]
[null,{"$f":"IFERROR(VLOOKUP(A814,'1.Портфель кредитів'!A:AC,3,FALSE),\"\")","v":""},{"$f":"IFERROR(VLOOKUP(A814,'1.Портфель кредитів'!A:AC,14,FALSE),\"\")","v":""}]
[null,{"$f":"IFERROR(VLOOKUP(A815,'1.Портфель кредитів'!A:AC,3,FALSE),\"\")","v":""},{"$f":"IFERROR(VLOOKUP(A815,'1.Портфель кредитів'!A:AC,14,FALSE),\"\")","v":""}]
[null,{"$f":"IFERROR(VLOOKUP(A816,'1.Портфель кредитів'!A:AC,3,FALSE),\"\")","v":""},{"$f":"IFERROR(VLOOKUP(A816,'1.Портфель кредитів'!A:AC,14,FALSE),\"\")","v":""}]
[null,{"$f":"IFERROR(VLOOKUP(A817,'1.Портфель кредитів'!A:AC,3,FALSE),\"\")","v":""},{"$f":"IFERROR(VLOOKUP(A817,'1.Портфель кредитів'!A:AC,14,FALSE),\"\")","v":""}]
[null,{"$f":"IFERROR(VLOOKUP(A818,'1.Портфель кредитів'!A:AC,3,FALSE),\"\")","v":""},{"$f":"IFERROR(VLOOKUP(A818,'1.Портфель кредитів'!A:AC,14,FALSE),\"\")","v":""}]
[null,{"$f":"IFERROR(VLOOKUP(A819,'1.Портфель кредитів'!A:AC,3,FALSE),\"\")","v":""},{"$f":"IFERROR(VLOOKUP(A819,'1.Портфель кредитів'!A:AC,14,FALSE),\"\")","v":""}]
[null,{"$f":"IFERROR(VLOOKUP(A820,'1.Портфель кредитів'!A:AC,3,FALSE),\"\")","v":""},{"$f":"IFERROR(VLOOKUP(A820,'1.Портфель кредитів'!A:AC,14,FALSE),\"\")","v":""}]
[null,{"$f":"IFERROR(VLOOKUP(A821,'1.Портфель кредитів'!A:AC,3,FALSE),\"\")","v":""},{"$f":"IFERROR(VLOOKUP(A821,'1.Портфель кредитів'!A:AC,14,FALSE),\"\")","v":""}]
[null,{"$f":"IFERROR(VLOOKUP(A822,'1.Портфель кредитів'!A:AC,3,FALSE),\"\")","v":""},{"$f":"IFERROR(VLOOKUP(A822,'1.Портфель кредитів'!A:AC,14,FALSE),\"\")","v":""}]
[null,{"$f":"IFERROR(VLOOKUP(A823,'1.Портфель кредитів'!A:AC,3,FALSE),\"\")","v":""},{"$f":"IFERROR(VLOOKUP(A823,'1.Портфель кредитів'!A:AC,14,FALSE),\"\")","v":""}]
[null,{"$f":"IFERROR(VLOOKUP(A824,'1.Портфель кредитів'!A:AC,3,FALSE),\"\")","v":""},{"$f":"IFERROR(VLOOKUP(A824,'1.Портфель кредитів'!A:AC,14,FALSE),\"\")","v":""}]
[null,{"$f":"IFERROR(VLOOKUP(A825,'1.Портфель кредитів'!A:AC,3,FALSE),\"\")","v":""},{"$f":"IFERROR(VLOOKUP(A825,'1.Портфель кредитів'!A:AC,14,FALSE),\"\")","v":""}]
[null,{"$f":"IFERROR(VLOOKUP(A826,'1.Портфель кредитів'!A:AC,3,FALSE),\"\")","v":""},{"$f":"IFERROR(VLOOKUP(A826,'1.Портфель кредитів'!A:AC,14,FALSE),\"\")","v":""}]
[null,{"$f":"IFERROR(VLOOKUP(A827,'1.Портфель кредитів'!A:AC,3,FALSE),\"\")","v":""},{"$f":"IFERROR(VLOOKUP(A827,'1.Портфель кредитів'!A:AC,14,FALSE),\"\")","v":""}]
[null,{"$f":"IFERROR(VLOOKUP(A828,'1.Портфель кредитів'!A:AC,3,FALSE),\"\")","v":""},{"$f":"IFERROR(VLOOKUP(A828,'1.Портфель кредитів'!A:AC,14,FALSE),\"\")","v":""}]
[null,{"$f":"IFERROR(VLOOKUP(A829,'1.Портфель кредитів'!A:AC,3,FALSE),\"\")","v":""},{"$f":"IFERROR(VLOOKUP(A829,'1.Портфель кредитів'!A:AC,14,FALSE),\"\")","v":""}]
[null,{"$f":"IFERROR(VLOOKUP(A830,'1.Портфель кредитів'!A:AC,3,FALSE),\"\")","v":""},{"$f":"IFERROR(VLOOKUP(A830,'1.Портфель кредитів'!A:AC,14,FALSE),\"\")","v":""}]
[null,{"$f":"IFERROR(VLOOKUP(A831,'1.Портфель кредитів'!A:AC,3,FALSE),\"\")","v":""},{"$f":"IFERROR(VLOOKUP(A831,'1.Портфель кредитів'!A:AC,14,FALSE),\"\")","v":""}]
[null,{"$f":"IFERROR(VLOOKUP(A832,'1.Портфель кредитів'!A:AC,3,FALSE),\"\")","v":""},{"$f":"IFERROR(VLOOKUP(A832,'1.Портфель кредитів'!A:AC,14,FALSE),\"\")","v":""}]
[null,{"$f":"IFERROR(VLOOKUP(A833,'1.Портфель кредитів'!A:AC,3,FALSE),\"\")","v":""},{"$f":"IFERROR(VLOOKUP(A833,'1.Портфель кредитів'!A:AC,14,FALSE),\"\")","v":""}]
[null,{"$f":"IFERROR(VLOOKUP(A834,'1.Портфель кредитів'!A:AC,3,FALSE),\"\")","v":""},{"$f":"IFERROR(VLOOKUP(A834,'1.Портфель кредитів'!A:AC,14,FALSE),\"\")","v":""}]
[null,{"$f":"IFERROR(VLOOKUP(A835,'1.Портфель кредитів'!A:AC,3,FALSE),\"\")","v":""},{"$f":"IFERROR(VLOOKUP(A835,'1.Портфель кредитів'!A:AC,14,FALSE),\"\")","v":""}]
[null,{"$f":"IFERROR(VLOOKUP(A836,'1.Портфель кредитів'!A:AC,3,FALSE),\"\")","v":""},{"$f":"IFERROR(VLOOKUP(A836,'1.Портфель кредитів'!A:AC,14,FALSE),\"\")","v":""}]
[null,{"$f":"IFERROR(VLOOKUP(A837,'1.Портфель кредитів'!A:AC,3,FALSE),\"\")","v":""},{"$f":"IFERROR(VLOOKUP(A837,'1.Портфель кредитів'!A:AC,14,FALSE),\"\")","v":""}]
[null,{"$f":"IFERROR(VLOOKUP(A838,'1.Портфель кредитів'!A:AC,3,FALSE),\"\")","v":""},{"$f":"IFERROR(VLOOKUP(A838,'1.Портфель кредитів'!A:AC,14,FALSE),\"\")","v":""}]
[null,{"$f":"IFERROR(VLOOKUP(A839,'1.Портфель кредитів'!A:AC,3,FALSE),\"\")","v":""},{"$f":"IFERROR(VLOOKUP(A839,'1.Портфель кредитів'!A:AC,14,FALSE),\"\")","v":""}]
[null,{"$f":"IFERROR(VLOOKUP(A840,'1.Портфель кредитів'!A:AC,3,FALSE),\"\")","v":""},{"$f":"IFERROR(VLOOKUP(A840,'1.Портфель кредитів'!A:AC,14,FALSE),\"\")","v":""}]
[null,{"$f":"IFERROR(VLOOKUP(A841,'1.Портфель кредитів'!A:AC,3,FALSE),\"\")","v":""},{"$f":"IFERROR(VLOOKUP(A841,'1.Портфель кредитів'!A:AC,14,FALSE),\"\")","v":""}]
[null,{"$f":"IFERROR(VLOOKUP(A842,'1.Портфель кредитів'!A:AC,3,FALSE),\"\")","v":""},{"$f":"IFERROR(VLOOKUP(A842,'1.Портфель кредитів'!A:AC,14,FALSE),\"\")","v":""}]
[null,{"$f":"IFERROR(VLOOKUP(A843,'1.Портфель кредитів'!A:AC,3,FALSE),\"\")","v":""},{"$f":"IFERROR(VLOOKUP(A843,'1.Портфель кредитів'!A:AC,14,FALSE),\"\")","v":""}]
[null,{"$f":"IFERROR(VLOOKUP(A844,'1.Портфель кредитів'!A:AC,3,FALSE),\"\")","v":""},{"$f":"IFERROR(VLOOKUP(A844,'1.Портфель кредитів'!A:AC,14,FALSE),\"\")","v":""}]
[null,{"$f":"IFERROR(VLOOKUP(A845,'1.Портфель кредитів'!A:AC,3,FALSE),\"\")","v":""},{"$f":"IFERROR(VLOOKUP(A845,'1.Портфель кредитів'!A:AC,14,FALSE),\"\")","v":""}]
[null,{"$f":"IFERROR(VLOOKUP(A846,'1.Портфель кредитів'!A:AC,3,FALSE),\"\")","v":""},{"$f":"IFERROR(VLOOKUP(A846,'1.Портфель кредитів'!A:AC,14,FALSE),\"\")","v":""}]
[null,{"$f":"IFERROR(VLOOKUP(A847,'1.Портфель кредитів'!A:AC,3,FALSE),\"\")","v":""},{"$f":"IFERROR(VLOOKUP(A847,'1.Портфель кредитів'!A:AC,14,FALSE),\"\")","v":""}]
[null,{"$f":"IFERROR(VLOOKUP(A848,'1.Портфель кредитів'!A:AC,3,FALSE),\"\")","v":""},{"$f":"IFERROR(VLOOKUP(A848,'1.Портфель кредитів'!A:AC,14,FALSE),\"\")","v":""}]
[null,{"$f":"IFERROR(VLOOKUP(A849,'1.Портфель кредитів'!A:AC,3,FALSE),\"\")","v":""},{"$f":"IFERROR(VLOOKUP(A849,'1.Портфель кредитів'!A:AC,14,FALSE),\"\")","v":""}]
[null,{"$f":"IFERROR(VLOOKUP(A850,'1.Портфель кредитів'!A:AC,3,FALSE),\"\")","v":""},{"$f":"IFERROR(VLOOKUP(A850,'1.Портфель кредитів'!A:AC,14,FALSE),\"\")","v":""}]
[null,{"$f":"IFERROR(VLOOKUP(A851,'1.Портфель кредитів'!A:AC,3,FALSE),\"\")","v":""},{"$f":"IFERROR(VLOOKUP(A851,'1.Портфель кредитів'!A:AC,14,FALSE),\"\")","v":""}]
[null,{"$f":"IFERROR(VLOOKUP(A852,'1.Портфель кредитів'!A:AC,3,FALSE),\"\")","v":""},{"$f":"IFERROR(VLOOKUP(A852,'1.Портфель кредитів'!A:AC,14,FALSE),\"\")","v":""}]
[null,{"$f":"IFERROR(VLOOKUP(A853,'1.Портфель кредитів'!A:AC,3,FALSE),\"\")","v":""},{"$f":"IFERROR(VLOOKUP(A853,'1.Портфель кредитів'!A:AC,14,FALSE),\"\")","v":""}]
[null,{"$f":"IFERROR(VLOOKUP(A854,'1.Портфель кредитів'!A:AC,3,FALSE),\"\")","v":""},{"$f":"IFERROR(VLOOKUP(A854,'1.Портфель кредитів'!A:AC,14,FALSE),\"\")","v":""}]
[null,{"$f":"IFERROR(VLOOKUP(A855,'1.Портфель кредитів'!A:AC,3,FALSE),\"\")","v":""},{"$f":"IFERROR(VLOOKUP(A855,'1.Портфель кредитів'!A:AC,14,FALSE),\"\")","v":""}]
[null,{"$f":"IFERROR(VLOOKUP(A856,'1.Портфель кредитів'!A:AC,3,FALSE),\"\")","v":""},{"$f":"IFERROR(VLOOKUP(A856,'1.Портфель кредитів'!A:AC,14,FALSE),\"\")","v":""}]
[null,{"$f":"IFERROR(VLOOKUP(A857,'1.Портфель кредитів'!A:AC,3,FALSE),\"\")","v":""},{"$f":"IFERROR(VLOOKUP(A857,'1.Портфель кредитів'!A:AC,14,FALSE),\"\")","v":""}]
[null,{"$f":"IFERROR(VLOOKUP(A858,'1.Портфель кредитів'!A:AC,3,FALSE),\"\")","v":""},{"$f":"IFERROR(VLOOKUP(A858,'1.Портфель кредитів'!A:AC,14,FALSE),\"\")","v":""}]
[null,{"$f":"IFERROR(VLOOKUP(A859,'1.Портфель кредитів'!A:AC,3,FALSE),\"\")","v":""},{"$f":"IFERROR(VLOOKUP(A859,'1.Портфель кредитів'!A:AC,14,FALSE),\"\")","v":""}]
[null,{"$f":"IFERROR(VLOOKUP(A860,'1.Портфель кредитів'!A:AC,3,FALSE),\"\")","v":""},{"$f":"IFERROR(VLOOKUP(A860,'1.Портфель кредитів'!A:AC,14,FALSE),\"\")","v":""}]
[null,{"$f":"IFERROR(VLOOKUP(A861,'1.Портфель кредитів'!A:AC,3,FALSE),\"\")","v":""},{"$f":"IFERROR(VLOOKUP(A861,'1.Портфель кредитів'!A:AC,14,FALSE),\"\")","v":""}]
[null,{"$f":"IFERROR(VLOOKUP(A862,'1.Портфель кредитів'!A:AC,3,FALSE),\"\")","v":""},{"$f":"IFERROR(VLOOKUP(A862,'1.Портфель кредитів'!A:AC,14,FALSE),\"\")","v":""}]
[null,{"$f":"IFERROR(VLOOKUP(A863,'1.Портфель кредитів'!A:AC,3,FALSE),\"\")","v":""},{"$f":"IFERROR(VLOOKUP(A863,'1.Портфель кредитів'!A:AC,14,FALSE),\"\")","v":""}]
[null,{"$f":"IFERROR(VLOOKUP(A864,'1.Портфель кредитів'!A:AC,3,FALSE),\"\")","v":""},{"$f":"IFERROR(VLOOKUP(A864,'1.Портфель кредитів'!A:AC,14,FALSE),\"\")","v":""}]
[null,{"$f":"IFERROR(VLOOKUP(A865,'1.Портфель кредитів'!A:AC,3,FALSE),\"\")","v":""},{"$f":"IFERROR(VLOOKUP(A865,'1.Портфель кредитів'!A:AC,14,FALSE),\"\")","v":""}]
[null,{"$f":"IFERROR(VLOOKUP(A866,'1.Портфель кредитів'!A:AC,3,FALSE),\"\")","v":""},{"$f":"IFERROR(VLOOKUP(A866,'1.Портфель кредитів'!A:AC,14,FALSE),\"\")","v":""}]
[null,{"$f":"IFERROR(VLOOKUP(A867,'1.Портфель кредитів'!A:AC,3,FALSE),\"\")","v":""},{"$f":"IFERROR(VLOOKUP(A867,'1.Портфель кредитів'!A:AC,14,FALSE),\"\")","v":""}]
[null,{"$f":"IFERROR(VLOOKUP(A868,'1.Портфель кредитів'!A:AC,3,FALSE),\"\")","v":""},{"$f":"IFERROR(VLOOKUP(A868,'1.Портфель кредитів'!A:AC,14,FALSE),\"\")","v":""}]
[null,{"$f":"IFERROR(VLOOKUP(A869,'1.Портфель кредитів'!A:AC,3,FALSE),\"\")","v":""},{"$f":"IFERROR(VLOOKUP(A869,'1.Портфель кредитів'!A:AC,14,FALSE),\"\")","v":""}]
[null,{"$f":"IFERROR(VLOOKUP(A870,'1.Портфель кредитів'!A:AC,3,FALSE),\"\")","v":""},{"$f":"IFERROR(VLOOKUP(A870,'1.Портфель кредитів'!A:AC,14,FALSE),\"\")","v":""}]
[null,{"$f":"IFERROR(VLOOKUP(A871,'1.Портфель кредитів'!A:AC,3,FALSE),\"\")","v":""},{"$f":"IFERROR(VLOOKUP(A871,'1.Портфель кредитів'!A:AC,14,FALSE),\"\")","v":""}]
[null,{"$f":"IFERROR(VLOOKUP(A872,'1.Портфель кредитів'!A:AC,3,FALSE),\"\")","v":""},{"$f":"IFERROR(VLOOKUP(A872,'1.Портфель кредитів'!A:AC,14,FALSE),\"\")","v":""}]
[null,{"$f":"IFERROR(VLOOKUP(A873,'1.Портфель кредитів'!A:AC,3,FALSE),\"\")","v":""},{"$f":"IFERROR(VLOOKUP(A873,'1.Портфель кредитів'!A:AC,14,FALSE),\"\")","v":""}]
[null,{"$f":"IFERROR(VLOOKUP(A874,'1.Портфель кредитів'!A:AC,3,FALSE),\"\")","v":""},{"$f":"IFERROR(VLOOKUP(A874,'1.Портфель кредитів'!A:AC,14,FALSE),\"\")","v":""}]
[null,{"$f":"IFERROR(VLOOKUP(A875,'1.Портфель кредитів'!A:AC,3,FALSE),\"\")","v":""},{"$f":"IFERROR(VLOOKUP(A875,'1.Портфель кредитів'!A:AC,14,FALSE),\"\")","v":""}]
[null,{"$f":"IFERROR(VLOOKUP(A876,'1.Портфель кредитів'!A:AC,3,FALSE),\"\")","v":""},{"$f":"IFERROR(VLOOKUP(A876,'1.Портфель кредитів'!A:AC,14,FALSE),\"\")","v":""}]
[null,{"$f":"IFERROR(VLOOKUP(A877,'1.Портфель кредитів'!A:AC,3,FALSE),\"\")","v":""},{"$f":"IFERROR(VLOOKUP(A877,'1.Портфель кредитів'!A:AC,14,FALSE),\"\")","v":""}]
[null,{"$f":"IFERROR(VLOOKUP(A878,'1.Портфель кредитів'!A:AC,3,FALSE),\"\")","v":""},{"$f":"IFERROR(VLOOKUP(A878,'1.Портфель кредитів'!A:AC,14,FALSE),\"\")","v":""}]
[null,{"$f":"IFERROR(VLOOKUP(A879,'1.Портфель кредитів'!A:AC,3,FALSE),\"\")","v":""},{"$f":"IFERROR(VLOOKUP(A879,'1.Портфель кредитів'!A:AC,14,FALSE),\"\")","v":""}]
[null,{"$f":"IFERROR(VLOOKUP(A880,'1.Портфель кредитів'!A:AC,3,FALSE),\"\")","v":""},{"$f":"IFERROR(VLOOKUP(A880,'1.Портфель кредитів'!A:AC,14,FALSE),\"\")","v":""}]
[null,{"$f":"IFERROR(VLOOKUP(A881,'1.Портфель кредитів'!A:AC,3,FALSE),\"\")","v":""},{"$f":"IFERROR(VLOOKUP(A881,'1.Портфель кредитів'!A:AC,14,FALSE),\"\")","v":""}]
[null,{"$f":"IFERROR(VLOOKUP(A882,'1.Портфель кредитів'!A:AC,3,FALSE),\"\")","v":""},{"$f":"IFERROR(VLOOKUP(A882,'1.Портфель кредитів'!A:AC,14,FALSE),\"\")","v":""}]
[null,{"$f":"IFERROR(VLOOKUP(A883,'1.Портфель кредитів'!A:AC,3,FALSE),\"\")","v":""},{"$f":"IFERROR(VLOOKUP(A883,'1.Портфель кредитів'!A:AC,14,FALSE),\"\")","v":""}]
[null,{"$f":"IFERROR(VLOOKUP(A884,'1.Портфель кредитів'!A:AC,3,FALSE),\"\")","v":""},{"$f":"IFERROR(VLOOKUP(A884,'1.Портфель кредитів'!A:AC,14,FALSE),\"\")","v":""}]
[null,{"$f":"IFERROR(VLOOKUP(A885,'1.Портфель кредитів'!A:AC,3,FALSE),\"\")","v":""},{"$f":"IFERROR(VLOOKUP(A885,'1.Портфель кредитів'!A:AC,14,FALSE),\"\")","v":""}]
[null,{"$f":"IFERROR(VLOOKUP(A886,'1.Портфель кредитів'!A:AC,3,FALSE),\"\")","v":""},{"$f":"IFERROR(VLOOKUP(A886,'1.Портфель кредитів'!A:AC,14,FALSE),\"\")","v":""}]
[null,{"$f":"IFERROR(VLOOKUP(A887,'1.Портфель кредитів'!A:AC,3,FALSE),\"\")","v":""},{"$f":"IFERROR(VLOOKUP(A887,'1.Портфель кредитів'!A:AC,14,FALSE),\"\")","v":""}]
[null,{"$f":"IFERROR(VLOOKUP(A888,'1.Портфель кредитів'!A:AC,3,FALSE),\"\")","v":""},{"$f":"IFERROR(VLOOKUP(A888,'1.Портфель кредитів'!A:AC,14,FALSE),\"\")","v":""}]
[null,{"$f":"IFERROR(VLOOKUP(A889,'1.Портфель кредитів'!A:AC,3,FALSE),\"\")","v":""},{"$f":"IFERROR(VLOOKUP(A889,'1.Портфель кредитів'!A:AC,14,FALSE),\"\")","v":""}]
[null,{"$f":"IFERROR(VLOOKUP(A890,'1.Портфель кредитів'!A:AC,3,FALSE),\"\")","v":""},{"$f":"IFERROR(VLOOKUP(A890,'1.Портфель кредитів'!A:AC,14,FALSE),\"\")","v":""}]
[null,{"$f":"IFERROR(VLOOKUP(A891,'1.Портфель кредитів'!A:AC,3,FALSE),\"\")","v":""},{"$f":"IFERROR(VLOOKUP(A891,'1.Портфель кредитів'!A:AC,14,FALSE),\"\")","v":""}]
[null,{"$f":"IFERROR(VLOOKUP(A892,'1.Портфель кредитів'!A:AC,3,FALSE),\"\")","v":""},{"$f":"IFERROR(VLOOKUP(A892,'1.Портфель кредитів'!A:AC,14,FALSE),\"\")","v":""}]
[null,{"$f":"IFERROR(VLOOKUP(A893,'1.Портфель кредитів'!A:AC,3,FALSE),\"\")","v":""},{"$f":"IFERROR(VLOOKUP(A893,'1.Портфель кредитів'!A:AC,14,FALSE),\"\")","v":""}]
[null,{"$f":"IFERROR(VLOOKUP(A894,'1.Портфель кредитів'!A:AC,3,FALSE),\"\")","v":""},{"$f":"IFERROR(VLOOKUP(A894,'1.Портфель кредитів'!A:AC,14,FALSE),\"\")","v":""}]
[null,{"$f":"IFERROR(VLOOKUP(A895,'1.Портфель кредитів'!A:AC,3,FALSE),\"\")","v":""},{"$f":"IFERROR(VLOOKUP(A895,'1.Портфель кредитів'!A:AC,14,FALSE),\"\")","v":""}]
[null,{"$f":"IFERROR(VLOOKUP(A896,'1.Портфель кредитів'!A:AC,3,FALSE),\"\")","v":""},{"$f":"IFERROR(VLOOKUP(A896,'1.Портфель кредитів'!A:AC,14,FALSE),\"\")","v":""}]
[null,{"$f":"IFERROR(VLOOKUP(A897,'1.Портфель кредитів'!A:AC,3,FALSE),\"\")","v":""},{"$f":"IFERROR(VLOOKUP(A897,'1.Портфель кредитів'!A:AC,14,FALSE),\"\")","v":""}]
[null,{"$f":"IFERROR(VLOOKUP(A898,'1.Портфель кредитів'!A:AC,3,FALSE),\"\")","v":""},{"$f":"IFERROR(VLOOKUP(A898,'1.Портфель кредитів'!A:AC,14,FALSE),\"\")","v":""}]
[null,{"$f":"IFERROR(VLOOKUP(A899,'1.Портфель кредитів'!A:AC,3,FALSE),\"\")","v":""},{"$f":"IFERROR(VLOOKUP(A899,'1.Портфель кредитів'!A:AC,14,FALSE),\"\")","v":""}]
[null,{"$f":"IFERROR(VLOOKUP(A900,'1.Портфель кредитів'!A:AC,3,FALSE),\"\")","v":""},{"$f":"IFERROR(VLOOKUP(A900,'1.Портфель кредитів'!A:AC,14,FALSE),\"\")","v":""}]
[null,{"$f":"IFERROR(VLOOKUP(A901,'1.Портфель кредитів'!A:AC,3,FALSE),\"\")","v":""},{"$f":"IFERROR(VLOOKUP(A901,'1.Портфель кредитів'!A:AC,14,FALSE),\"\")","v":""}]
[null,{"$f":"IFERROR(VLOOKUP(A902,'1.Портфель кредитів'!A:AC,3,FALSE),\"\")","v":""},{"$f":"IFERROR(VLOOKUP(A902,'1.Портфель кредитів'!A:AC,14,FALSE),\"\")","v":""}]
[null,{"$f":"IFERROR(VLOOKUP(A903,'1.Портфель кредитів'!A:AC,3,FALSE),\"\")","v":""},{"$f":"IFERROR(VLOOKUP(A903,'1.Портфель кредитів'!A:AC,14,FALSE),\"\")","v":""}]
[null,{"$f":"IFERROR(VLOOKUP(A904,'1.Портфель кредитів'!A:AC,3,FALSE),\"\")","v":""},{"$f":"IFERROR(VLOOKUP(A904,'1.Портфель кредитів'!A:AC,14,FALSE),\"\")","v":""}]
[null,{"$f":"IFERROR(VLOOKUP(A905,'1.Портфель кредитів'!A:AC,3,FALSE),\"\")","v":""},{"$f":"IFERROR(VLOOKUP(A905,'1.Портфель кредитів'!A:AC,14,FALSE),\"\")","v":""}]
[null,{"$f":"IFERROR(VLOOKUP(A906,'1.Портфель кредитів'!A:AC,3,FALSE),\"\")","v":""},{"$f":"IFERROR(VLOOKUP(A906,'1.Портфель кредитів'!A:AC,14,FALSE),\"\")","v":""}]
[null,{"$f":"IFERROR(VLOOKUP(A907,'1.Портфель кредитів'!A:AC,3,FALSE),\"\")","v":""},{"$f":"IFERROR(VLOOKUP(A907,'1.Портфель кредитів'!A:AC,14,FALSE),\"\")","v":""}]
[null,{"$f":"IFERROR(VLOOKUP(A908,'1.Портфель кредитів'!A:AC,3,FALSE),\"\")","v":""},{"$f":"IFERROR(VLOOKUP(A908,'1.Портфель кредитів'!A:AC,14,FALSE),\"\")","v":""}]
[null,{"$f":"IFERROR(VLOOKUP(A909,'1.Портфель кредитів'!A:AC,3,FALSE),\"\")","v":""},{"$f":"IFERROR(VLOOKUP(A909,'1.Портфель кредитів'!A:AC,14,FALSE),\"\")","v":""}]
[null,{"$f":"IFERROR(VLOOKUP(A910,'1.Портфель кредитів'!A:AC,3,FALSE),\"\")","v":""},{"$f":"IFERROR(VLOOKUP(A910,'1.Портфель кредитів'!A:AC,14,FALSE),\"\")","v":""}]
[null,{"$f":"IFERROR(VLOOKUP(A911,'1.Портфель кредитів'!A:AC,3,FALSE),\"\")","v":""},{"$f":"IFERROR(VLOOKUP(A911,'1.Портфель кредитів'!A:AC,14,FALSE),\"\")","v":""}]
[null,{"$f":"IFERROR(VLOOKUP(A912,'1.Портфель кредитів'!A:AC,3,FALSE),\"\")","v":""},{"$f":"IFERROR(VLOOKUP(A912,'1.Портфель кредитів'!A:AC,14,FALSE),\"\")","v":""}]
[null,{"$f":"IFERROR(VLOOKUP(A913,'1.Портфель кредитів'!A:AC,3,FALSE),\"\")","v":""},{"$f":"IFERROR(VLOOKUP(A913,'1.Портфель кредитів'!A:AC,14,FALSE),\"\")","v":""}]
[null,{"$f":"IFERROR(VLOOKUP(A914,'1.Портфель кредитів'!A:AC,3,FALSE),\"\")","v":""},{"$f":"IFERROR(VLOOKUP(A914,'1.Портфель кредитів'!A:AC,14,FALSE),\"\")","v":""}]
[null,{"$f":"IFERROR(VLOOKUP(A915,'1.Портфель кредитів'!A:AC,3,FALSE),\"\")","v":""},{"$f":"IFERROR(VLOOKUP(A915,'1.Портфель кредитів'!A:AC,14,FALSE),\"\")","v":""}]
[null,{"$f":"IFERROR(VLOOKUP(A916,'1.Портфель кредитів'!A:AC,3,FALSE),\"\")","v":""},{"$f":"IFERROR(VLOOKUP(A916,'1.Портфель кредитів'!A:AC,14,FALSE),\"\")","v":""}]
[null,{"$f":"IFERROR(VLOOKUP(A917,'1.Портфель кредитів'!A:AC,3,FALSE),\"\")","v":""},{"$f":"IFERROR(VLOOKUP(A917,'1.Портфель кредитів'!A:AC,14,FALSE),\"\")","v":""}]
[null,{"$f":"IFERROR(VLOOKUP(A918,'1.Портфель кредитів'!A:AC,3,FALSE),\"\")","v":""},{"$f":"IFERROR(VLOOKUP(A918,'1.Портфель кредитів'!A:AC,14,FALSE),\"\")","v":""}]
[null,{"$f":"IFERROR(VLOOKUP(A919,'1.Портфель кредитів'!A:AC,3,FALSE),\"\")","v":""},{"$f":"IFERROR(VLOOKUP(A919,'1.Портфель кредитів'!A:AC,14,FALSE),\"\")","v":""}]
[null,{"$f":"IFERROR(VLOOKUP(A920,'1.Портфель кредитів'!A:AC,3,FALSE),\"\")","v":""},{"$f":"IFERROR(VLOOKUP(A920,'1.Портфель кредитів'!A:AC,14,FALSE),\"\")","v":""}]
[null,{"$f":"IFERROR(VLOOKUP(A921,'1.Портфель кредитів'!A:AC,3,FALSE),\"\")","v":""},{"$f":"IFERROR(VLOOKUP(A921,'1.Портфель кредитів'!A:AC,14,FALSE),\"\")","v":""}]
[null,{"$f":"IFERROR(VLOOKUP(A922,'1.Портфель кредитів'!A:AC,3,FALSE),\"\")","v":""},{"$f":"IFERROR(VLOOKUP(A922,'1.Портфель кредитів'!A:AC,14,FALSE),\"\")","v":""}]
[null,{"$f":"IFERROR(VLOOKUP(A923,'1.Портфель кредитів'!A:AC,3,FALSE),\"\")","v":""},{"$f":"IFERROR(VLOOKUP(A923,'1.Портфель кредитів'!A:AC,14,FALSE),\"\")","v":""}]
[null,{"$f":"IFERROR(VLOOKUP(A924,'1.Портфель кредитів'!A:AC,3,FALSE),\"\")","v":""},{"$f":"IFERROR(VLOOKUP(A924,'1.Портфель кредитів'!A:AC,14,FALSE),\"\")","v":""}]
[null,{"$f":"IFERROR(VLOOKUP(A925,'1.Портфель кредитів'!A:AC,3,FALSE),\"\")","v":""},{"$f":"IFERROR(VLOOKUP(A925,'1.Портфель кредитів'!A:AC,14,FALSE),\"\")","v":""}]
[null,{"$f":"IFERROR(VLOOKUP(A926,'1.Портфель кредитів'!A:AC,3,FALSE),\"\")","v":""},{"$f":"IFERROR(VLOOKUP(A926,'1.Портфель кредитів'!A:AC,14,FALSE),\"\")","v":""}]
[null,{"$f":"IFERROR(VLOOKUP(A927,'1.Портфель кредитів'!A:AC,3,FALSE),\"\")","v":""},{"$f":"IFERROR(VLOOKUP(A927,'1.Портфель кредитів'!A:AC,14,FALSE),\"\")","v":""}]
[null,{"$f":"IFERROR(VLOOKUP(A928,'1.Портфель кредитів'!A:AC,3,FALSE),\"\")","v":""},{"$f":"IFERROR(VLOOKUP(A928,'1.Портфель кредитів'!A:AC,14,FALSE),\"\")","v":""}]
[null,{"$f":"IFERROR(VLOOKUP(A929,'1.Портфель кредитів'!A:AC,3,FALSE),\"\")","v":""},{"$f":"IFERROR(VLOOKUP(A929,'1.Портфель кредитів'!A:AC,14,FALSE),\"\")","v":""}]
[null,{"$f":"IFERROR(VLOOKUP(A930,'1.Портфель кредитів'!A:AC,3,FALSE),\"\")","v":""},{"$f":"IFERROR(VLOOKUP(A930,'1.Портфель кредитів'!A:AC,14,FALSE),\"\")","v":""}]
[null,{"$f":"IFERROR(VLOOKUP(A931,'1.Портфель кредитів'!A:AC,3,FALSE),\"\")","v":""},{"$f":"IFERROR(VLOOKUP(A931,'1.Портфель кредитів'!A:AC,14,FALSE),\"\")","v":""}]
[null,{"$f":"IFERROR(VLOOKUP(A932,'1.Портфель кредитів'!A:AC,3,FALSE),\"\")","v":""},{"$f":"IFERROR(VLOOKUP(A932,'1.Портфель кредитів'!A:AC,14,FALSE),\"\")","v":""}]
[null,{"$f":"IFERROR(VLOOKUP(A933,'1.Портфель кредитів'!A:AC,3,FALSE),\"\")","v":""},{"$f":"IFERROR(VLOOKUP(A933,'1.Портфель кредитів'!A:AC,14,FALSE),\"\")","v":""}]
[null,{"$f":"IFERROR(VLOOKUP(A934,'1.Портфель кредитів'!A:AC,3,FALSE),\"\")","v":""},{"$f":"IFERROR(VLOOKUP(A934,'1.Портфель кредитів'!A:AC,14,FALSE),\"\")","v":""}]
[null,{"$f":"IFERROR(VLOOKUP(A935,'1.Портфель кредитів'!A:AC,3,FALSE),\"\")","v":""},{"$f":"IFERROR(VLOOKUP(A935,'1.Портфель кредитів'!A:AC,14,FALSE),\"\")","v":""}]
[null,{"$f":"IFERROR(VLOOKUP(A936,'1.Портфель кредитів'!A:AC,3,FALSE),\"\")","v":""},{"$f":"IFERROR(VLOOKUP(A936,'1.Портфель кредитів'!A:AC,14,FALSE),\"\")","v":""}]
[null,{"$f":"IFERROR(VLOOKUP(A937,'1.Портфель кредитів'!A:AC,3,FALSE),\"\")","v":""},{"$f":"IFERROR(VLOOKUP(A937,'1.Портфель кредитів'!A:AC,14,FALSE),\"\")","v":""}]
[null,{"$f":"IFERROR(VLOOKUP(A938,'1.Портфель кредитів'!A:AC,3,FALSE),\"\")","v":""},{"$f":"IFERROR(VLOOKUP(A938,'1.Портфель кредитів'!A:AC,14,FALSE),\"\")","v":""}]
[null,{"$f":"IFERROR(VLOOKUP(A939,'1.Портфель кредитів'!A:AC,3,FALSE),\"\")","v":""},{"$f":"IFERROR(VLOOKUP(A939,'1.Портфель кредитів'!A:AC,14,FALSE),\"\")","v":""}]
[null,{"$f":"IFERROR(VLOOKUP(A940,'1.Портфель кредитів'!A:AC,3,FALSE),\"\")","v":""},{"$f":"IFERROR(VLOOKUP(A940,'1.Портфель кредитів'!A:AC,14,FALSE),\"\")","v":""}]
[null,{"$f":"IFERROR(VLOOKUP(A941,'1.Портфель кредитів'!A:AC,3,FALSE),\"\")","v":""},{"$f":"IFERROR(VLOOKUP(A941,'1.Портфель кредитів'!A:AC,14,FALSE),\"\")","v":""}]
[null,{"$f":"IFERROR(VLOOKUP(A942,'1.Портфель кредитів'!A:AC,3,FALSE),\"\")","v":""},{"$f":"IFERROR(VLOOKUP(A942,'1.Портфель кредитів'!A:AC,14,FALSE),\"\")","v":""}]
[null,{"$f":"IFERROR(VLOOKUP(A943,'1.Портфель кредитів'!A:AC,3,FALSE),\"\")","v":""},{"$f":"IFERROR(VLOOKUP(A943,'1.Портфель кредитів'!A:AC,14,FALSE),\"\")","v":""}]
[null,{"$f":"IFERROR(VLOOKUP(A944,'1.Портфель кредитів'!A:AC,3,FALSE),\"\")","v":""},{"$f":"IFERROR(VLOOKUP(A944,'1.Портфель кредитів'!A:AC,14,FALSE),\"\")","v":""}]
[null,{"$f":"IFERROR(VLOOKUP(A945,'1.Портфель кредитів'!A:AC,3,FALSE),\"\")","v":""},{"$f":"IFERROR(VLOOKUP(A945,'1.Портфель кредитів'!A:AC,14,FALSE),\"\")","v":""}]
[null,{"$f":"IFERROR(VLOOKUP(A946,'1.Портфель кредитів'!A:AC,3,FALSE),\"\")","v":""},{"$f":"IFERROR(VLOOKUP(A946,'1.Портфель кредитів'!A:AC,14,FALSE),\"\")","v":""}]
[null,{"$f":"IFERROR(VLOOKUP(A947,'1.Портфель кредитів'!A:AC,3,FALSE),\"\")","v":""},{"$f":"IFERROR(VLOOKUP(A947,'1.Портфель кредитів'!A:AC,14,FALSE),\"\")","v":""}]
[null,{"$f":"IFERROR(VLOOKUP(A948,'1.Портфель кредитів'!A:AC,3,FALSE),\"\")","v":""},{"$f":"IFERROR(VLOOKUP(A948,'1.Портфель кредитів'!A:AC,14,FALSE),\"\")","v":""}]
[null,{"$f":"IFERROR(VLOOKUP(A949,'1.Портфель кредитів'!A:AC,3,FALSE),\"\")","v":""},{"$f":"IFERROR(VLOOKUP(A949,'1.Портфель кредитів'!A:AC,14,FALSE),\"\")","v":""}]
[null,{"$f":"IFERROR(VLOOKUP(A950,'1.Портфель кредитів'!A:AC,3,FALSE),\"\")","v":""},{"$f":"IFERROR(VLOOKUP(A950,'1.Портфель кредитів'!A:AC,14,FALSE),\"\")","v":""}]
[null,{"$f":"IFERROR(VLOOKUP(A951,'1.Портфель кредитів'!A:AC,3,FALSE),\"\")","v":""},{"$f":"IFERROR(VLOOKUP(A951,'1.Портфель кредитів'!A:AC,14,FALSE),\"\")","v":""}]
[null,{"$f":"IFERROR(VLOOKUP(A952,'1.Портфель кредитів'!A:AC,3,FALSE),\"\")","v":""},{"$f":"IFERROR(VLOOKUP(A952,'1.Портфель кредитів'!A:AC,14,FALSE),\"\")","v":""}]
[null,{"$f":"IFERROR(VLOOKUP(A953,'1.Портфель кредитів'!A:AC,3,FALSE),\"\")","v":""},{"$f":"IFERROR(VLOOKUP(A953,'1.Портфель кредитів'!A:AC,14,FALSE),\"\")","v":""}]
[null,{"$f":"IFERROR(VLOOKUP(A954,'1.Портфель кредитів'!A:AC,3,FALSE),\"\")","v":""},{"$f":"IFERROR(VLOOKUP(A954,'1.Портфель кредитів'!A:AC,14,FALSE),\"\")","v":""}]
[null,{"$f":"IFERROR(VLOOKUP(A955,'1.Портфель кредитів'!A:AC,3,FALSE),\"\")","v":""},{"$f":"IFERROR(VLOOKUP(A955,'1.Портфель кредитів'!A:AC,14,FALSE),\"\")","v":""}]
[null,{"$f":"IFERROR(VLOOKUP(A956,'1.Портфель кредитів'!A:AC,3,FALSE),\"\")","v":""},{"$f":"IFERROR(VLOOKUP(A956,'1.Портфель кредитів'!A:AC,14,FALSE),\"\")","v":""}]
[null,{"$f":"IFERROR(VLOOKUP(A957,'1.Портфель кредитів'!A:AC,3,FALSE),\"\")","v":""},{"$f":"IFERROR(VLOOKUP(A957,'1.Портфель кредитів'!A:AC,14,FALSE),\"\")","v":""}]
[null,{"$f":"IFERROR(VLOOKUP(A958,'1.Портфель кредитів'!A:AC,3,FALSE),\"\")","v":""},{"$f":"IFERROR(VLOOKUP(A958,'1.Портфель кредитів'!A:AC,14,FALSE),\"\")","v":""}]
[null,{"$f":"IFERROR(VLOOKUP(A959,'1.Портфель кредитів'!A:AC,3,FALSE),\"\")","v":""},{"$f":"IFERROR(VLOOKUP(A959,'1.Портфель кредитів'!A:AC,14,FALSE),\"\")","v":""}]
[null,{"$f":"IFERROR(VLOOKUP(A960,'1.Портфель кредитів'!A:AC,3,FALSE),\"\")","v":""},{"$f":"IFERROR(VLOOKUP(A960,'1.Портфель кредитів'!A:AC,14,FALSE),\"\")","v":""}]
[null,{"$f":"IFERROR(VLOOKUP(A961,'1.Портфель кредитів'!A:AC,3,FALSE),\"\")","v":""},{"$f":"IFERROR(VLOOKUP(A961,'1.Портфель кредитів'!A:AC,14,FALSE),\"\")","v":""}]
[null,{"$f":"IFERROR(VLOOKUP(A962,'1.Портфель кредитів'!A:AC,3,FALSE),\"\")","v":""},{"$f":"IFERROR(VLOOKUP(A962,'1.Портфель кредитів'!A:AC,14,FALSE),\"\")","v":""}]
[null,{"$f":"IFERROR(VLOOKUP(A963,'1.Портфель кредитів'!A:AC,3,FALSE),\"\")","v":""},{"$f":"IFERROR(VLOOKUP(A963,'1.Портфель кредитів'!A:AC,14,FALSE),\"\")","v":""}]
[null,{"$f":"IFERROR(VLOOKUP(A964,'1.Портфель кредитів'!A:AC,3,FALSE),\"\")","v":""},{"$f":"IFERROR(VLOOKUP(A964,'1.Портфель кредитів'!A:AC,14,FALSE),\"\")","v":""}]
[null,{"$f":"IFERROR(VLOOKUP(A965,'1.Портфель кредитів'!A:AC,3,FALSE),\"\")","v":""},{"$f":"IFERROR(VLOOKUP(A965,'1.Портфель кредитів'!A:AC,14,FALSE),\"\")","v":""}]
[null,{"$f":"IFERROR(VLOOKUP(A966,'1.Портфель кредитів'!A:AC,3,FALSE),\"\")","v":""},{"$f":"IFERROR(VLOOKUP(A966,'1.Портфель кредитів'!A:AC,14,FALSE),\"\")","v":""}]
[null,{"$f":"IFERROR(VLOOKUP(A967,'1.Портфель кредитів'!A:AC,3,FALSE),\"\")","v":""},{"$f":"IFERROR(VLOOKUP(A967,'1.Портфель кредитів'!A:AC,14,FALSE),\"\")","v":""}]
[null,{"$f":"IFERROR(VLOOKUP(A968,'1.Портфель кредитів'!A:AC,3,FALSE),\"\")","v":""},{"$f":"IFERROR(VLOOKUP(A968,'1.Портфель кредитів'!A:AC,14,FALSE),\"\")","v":""}]
[null,{"$f":"IFERROR(VLOOKUP(A969,'1.Портфель кредитів'!A:AC,3,FALSE),\"\")","v":""},{"$f":"IFERROR(VLOOKUP(A969,'1.Портфель кредитів'!A:AC,14,FALSE),\"\")","v":""}]
[null,{"$f":"IFERROR(VLOOKUP(A970,'1.Портфель кредитів'!A:AC,3,FALSE),\"\")","v":""},{"$f":"IFERROR(VLOOKUP(A970,'1.Портфель кредитів'!A:AC,14,FALSE),\"\")","v":""}]
[null,{"$f":"IFERROR(VLOOKUP(A971,'1.Портфель кредитів'!A:AC,3,FALSE),\"\")","v":""},{"$f":"IFERROR(VLOOKUP(A971,'1.Портфель кредитів'!A:AC,14,FALSE),\"\")","v":""}]
[null,{"$f":"IFERROR(VLOOKUP(A972,'1.Портфель кредитів'!A:AC,3,FALSE),\"\")","v":""},{"$f":"IFERROR(VLOOKUP(A972,'1.Портфель кредитів'!A:AC,14,FALSE),\"\")","v":""}]
[null,{"$f":"IFERROR(VLOOKUP(A973,'1.Портфель кредитів'!A:AC,3,FALSE),\"\")","v":""},{"$f":"IFERROR(VLOOKUP(A973,'1.Портфель кредитів'!A:AC,14,FALSE),\"\")","v":""}]
[null,{"$f":"IFERROR(VLOOKUP(A974,'1.Портфель кредитів'!A:AC,3,FALSE),\"\")","v":""},{"$f":"IFERROR(VLOOKUP(A974,'1.Портфель кредитів'!A:AC,14,FALSE),\"\")","v":""}]
[null,{"$f":"IFERROR(VLOOKUP(A975,'1.Портфель кредитів'!A:AC,3,FALSE),\"\")","v":""},{"$f":"IFERROR(VLOOKUP(A975,'1.Портфель кредитів'!A:AC,14,FALSE),\"\")","v":""}]
[null,{"$f":"IFERROR(VLOOKUP(A976,'1.Портфель кредитів'!A:AC,3,FALSE),\"\")","v":""},{"$f":"IFERROR(VLOOKUP(A976,'1.Портфель кредитів'!A:AC,14,FALSE),\"\")","v":""}]
[null,{"$f":"IFERROR(VLOOKUP(A977,'1.Портфель кредитів'!A:AC,3,FALSE),\"\")","v":""},{"$f":"IFERROR(VLOOKUP(A977,'1.Портфель кредитів'!A:AC,14,FALSE),\"\")","v":""}]
[null,{"$f":"IFERROR(VLOOKUP(A978,'1.Портфель кредитів'!A:AC,3,FALSE),\"\")","v":""},{"$f":"IFERROR(VLOOKUP(A978,'1.Портфель кредитів'!A:AC,14,FALSE),\"\")","v":""}]
[null,{"$f":"IFERROR(VLOOKUP(A979,'1.Портфель кредитів'!A:AC,3,FALSE),\"\")","v":""},{"$f":"IFERROR(VLOOKUP(A979,'1.Портфель кредитів'!A:AC,14,FALSE),\"\")","v":""}]
[null,{"$f":"IFERROR(VLOOKUP(A980,'1.Портфель кредитів'!A:AC,3,FALSE),\"\")","v":""},{"$f":"IFERROR(VLOOKUP(A980,'1.Портфель кредитів'!A:AC,14,FALSE),\"\")","v":""}]
[null,{"$f":"IFERROR(VLOOKUP(A981,'1.Портфель кредитів'!A:AC,3,FALSE),\"\")","v":""},{"$f":"IFERROR(VLOOKUP(A981,'1.Портфель кредитів'!A:AC,14,FALSE),\"\")","v":""}]
[null,{"$f":"IFERROR(VLOOKUP(A982,'1.Портфель кредитів'!A:AC,3,FALSE),\"\")","v":""},{"$f":"IFERROR(VLOOKUP(A982,'1.Портфель кредитів'!A:AC,14,FALSE),\"\")","v":""}]
[null,{"$f":"IFERROR(VLOOKUP(A983,'1.Портфель кредитів'!A:AC,3,FALSE),\"\")","v":""},{"$f":"IFERROR(VLOOKUP(A983,'1.Портфель кредитів'!A:AC,14,FALSE),\"\")","v":""}]
[null,{"$f":"IFERROR(VLOOKUP(A984,'1.Портфель кредитів'!A:AC,3,FALSE),\"\")","v":""},{"$f":"IFERROR(VLOOKUP(A984,'1.Портфель кредитів'!A:AC,14,FALSE),\"\")","v":""}]
[null,{"$f":"IFERROR(VLOOKUP(A985,'1.Портфель кредитів'!A:AC,3,FALSE),\"\")","v":""},{"$f":"IFERROR(VLOOKUP(A985,'1.Портфель кредитів'!A:AC,14,FALSE),\"\")","v":""}]
[null,{"$f":"IFERROR(VLOOKUP(A986,'1.Портфель кредитів'!A:AC,3,FALSE),\"\")","v":""},{"$f":"IFERROR(VLOOKUP(A986,'1.Портфель кредитів'!A:AC,14,FALSE),\"\")","v":""}]
[null,{"$f":"IFERROR(VLOOKUP(A987,'1.Портфель кредитів'!A:AC,3,FALSE),\"\")","v":""},{"$f":"IFERROR(VLOOKUP(A987,'1.Портфель кредитів'!A:AC,14,FALSE),\"\")","v":""}]
[null,{"$f":"IFERROR(VLOOKUP(A988,'1.Портфель кредитів'!A:AC,3,FALSE),\"\")","v":""},{"$f":"IFERROR(VLOOKUP(A988,'1.Портфель кредитів'!A:AC,14,FALSE),\"\")","v":""}]
[null,{"$f":"IFERROR(VLOOKUP(A989,'1.Портфель кредитів'!A:AC,3,FALSE),\"\")","v":""},{"$f":"IFERROR(VLOOKUP(A989,'1.Портфель кредитів'!A:AC,14,FALSE),\"\")","v":""}]
[null,{"$f":"IFERROR(VLOOKUP(A990,'1.Портфель кредитів'!A:AC,3,FALSE),\"\")","v":""},{"$f":"IFERROR(VLOOKUP(A990,'1.Портфель кредитів'!A:AC,14,FALSE),\"\")","v":""}]
[null,{"$f":"IFERROR(VLOOKUP(A991,'1.Портфель кредитів'!A:AC,3,FALSE),\"\")","v":""},{"$f":"IFERROR(VLOOKUP(A991,'1.Портфель кредитів'!A:AC,14,FALSE),\"\")","v":""}]
[null,{"$f":"IFERROR(VLOOKUP(A992,'1.Портфель кредитів'!A:AC,3,FALSE),\"\")","v":""},{"$f":"IFERROR(VLOOKUP(A992,'1.Портфель кредитів'!A:AC,14,FALSE),\"\")","v":""}]
[null,{"$f":"IFERROR(VLOOKUP(A993,'1.Портфель кредитів'!A:AC,3,FALSE),\"\")","v":""},{"$f":"IFERROR(VLOOKUP(A993,'1.Портфель кредитів'!A:AC,14,FALSE),\"\")","v":""}]
[null,{"$f":"IFERROR(VLOOKUP(A994,'1.Портфель кредитів'!A:AC,3,FALSE),\"\")","v":""},{"$f":"IFERROR(VLOOKUP(A994,'1.Портфель кредитів'!A:AC,14,FALSE),\"\")","v":""}]
[null,{"$f":"IFERROR(VLOOKUP(A995,'1.Портфель кредитів'!A:AC,3,FALSE),\"\")","v":""},{"$f":"IFERROR(VLOOKUP(A995,'1.Портфель кредитів'!A:AC,14,FALSE),\"\")","v":""}]
[null,{"$f":"IFERROR(VLOOKUP(A996,'1.Портфель кредитів'!A:AC,3,FALSE),\"\")","v":""},{"$f":"IFERROR(VLOOKUP(A996,'1.Портфель кредитів'!A:AC,14,FALSE),\"\")","v":""}]
[null,{"$f":"IFERROR(VLOOKUP(A997,'1.Портфель кредитів'!A:AC,3,FALSE),\"\")","v":""},{"$f":"IFERROR(VLOOKUP(A997,'1.Портфель кредитів'!A:AC,14,FALSE),\"\")","v":""}]
[null,{"$f":"IFERROR(VLOOKUP(A998,'1.Портфель кредитів'!A:AC,3,FALSE),\"\")","v":""},{"$f":"IFERROR(VLOOKUP(A998,'1.Портфель кредитів'!A:AC,14,FALSE),\"\")","v":""}]
[null,{"$f":"IFERROR(VLOOKUP(A999,'1.Портфель кредитів'!A:AC,3,FALSE),\"\")","v":""},{"$f":"IFERROR(VLOOKUP(A999,'1.Портфель кредитів'!A:AC,14,FALSE),\"\")","v":""}]
[null,{"$f":"IFERROR(VLOOKUP(A1000,'1.Портфель кредитів'!A:AC,3,FALSE),\"\")","v":""},{"$f":"IFERROR(VLOOKUP(A1000,'1.Портфель кредитів'!A:AC,14,FALSE),\"\")","v":""}]
[null,{"$f":"IFERROR(VLOOKUP(A1001,'1.Портфель кредитів'!A:AC,3,FALSE),\"\")","v":""},{"$f":"IFERROR(VLOOKUP(A1001,'1.Портфель кредитів'!A:AC,14,FALSE),\"\")","v":""}]
[null,{"$f":"IFERROR(VLOOKUP(A1002,'1.Портфель кредитів'!A:AC,3,FALSE),\"\")","v":""},{"$f":"IFERROR(VLOOKUP(A1002,'1.Портфель кредитів'!A:AC,14,FALSE),\"\")","v":""}]
[null,{"$f":"IFERROR(VLOOKUP(A1003,'1.Портфель кредитів'!A:AC,3,FALSE),\"\")","v":""},{"$f":"IFERROR(VLOOKUP(A1003,'1.Портфель кредитів'!A:AC,14,FALSE),\"\")","v":""}]
[null,{"$f":"IFERROR(VLOOKUP(A1004,'1.Портфель кредитів'!A:AC,3,FALSE),\"\")","v":""},{"$f":"IFERROR(VLOOKUP(A1004,'1.Портфель кредитів'!A:AC,14,FALSE),\"\")","v":""}]
[null,{"$f":"IFERROR(VLOOKUP(A1005,'1.Портфель кредитів'!A:AC,3,FALSE),\"\")","v":""},{"$f":"IFERROR(VLOOKUP(A1005,'1.Портфель кредитів'!A:AC,14,FALSE),\"\")","v":""}]
[null,{"$f":"IFERROR(VLOOKUP(A1006,'1.Портфель кредитів'!A:AC,3,FALSE),\"\")","v":""},{"$f":"IFERROR(VLOOKUP(A1006,'1.Портфель кредитів'!A:AC,14,FALSE),\"\")","v":""}]
[null,{"$f":"IFERROR(VLOOKUP(A1007,'1.Портфель кредитів'!A:AC,3,FALSE),\"\")","v":""},{"$f":"IFERROR(VLOOKUP(A1007,'1.Портфель кредитів'!A:AC,14,FALSE),\"\")","v":""}]
[null,{"$f":"IFERROR(VLOOKUP(A1008,'1.Портфель кредитів'!A:AC,3,FALSE),\"\")","v":""},{"$f":"IFERROR(VLOOKUP(A1008,'1.Портфель кредитів'!A:AC,14,FALSE),\"\")","v":""}]
[null,{"$f":"IFERROR(VLOOKUP(A1009,'1.Портфель кредитів'!A:AC,3,FALSE),\"\")","v":""},{"$f":"IFERROR(VLOOKUP(A1009,'1.Портфель кредитів'!A:AC,14,FALSE),\"\")","v":""}]
[null,{"$f":"IFERROR(VLOOKUP(A1010,'1.Портфель кредитів'!A:AC,3,FALSE),\"\")","v":""},{"$f":"IFERROR(VLOOKUP(A1010,'1.Портфель кредитів'!A:AC,14,FALSE),\"\")","v":""}]
[null,{"$f":"IFERROR(VLOOKUP(A1011,'1.Портфель кредитів'!A:AC,3,FALSE),\"\")","v":""},{"$f":"IFERROR(VLOOKUP(A1011,'1.Портфель кредитів'!A:AC,14,FALSE),\"\")","v":""}]
[null,{"$f":"IFERROR(VLOOKUP(A1012,'1.Портфель кредитів'!A:AC,3,FALSE),\"\")","v":""},{"$f":"IFERROR(VLOOKUP(A1012,'1.Портфель кредитів'!A:AC,14,FALSE),\"\")","v":""}]
[null,{"$f":"IFERROR(VLOOKUP(A1013,'1.Портфель кредитів'!A:AC,3,FALSE),\"\")","v":""},{"$f":"IFERROR(VLOOKUP(A1013,'1.Портфель кредитів'!A:AC,14,FALSE),\"\")","v":""}]
[null,{"$f":"IFERROR(VLOOKUP(A1014,'1.Портфель кредитів'!A:AC,3,FALSE),\"\")","v":""},{"$f":"IFERROR(VLOOKUP(A1014,'1.Портфель кредитів'!A:AC,14,FALSE),\"\")","v":""}]
[null,{"$f":"IFERROR(VLOOKUP(A1015,'1.Портфель кредитів'!A:AC,3,FALSE),\"\")","v":""},{"$f":"IFERROR(VLOOKUP(A1015,'1.Портфель кредитів'!A:AC,14,FALSE),\"\")","v":""}]
[null,{"$f":"IFERROR(VLOOKUP(A1016,'1.Портфель кредитів'!A:AC,3,FALSE),\"\")","v":""},{"$f":"IFERROR(VLOOKUP(A1016,'1.Портфель кредитів'!A:AC,14,FALSE),\"\")","v":""}]
[null,{"$f":"IFERROR(VLOOKUP(A1017,'1.Портфель кредитів'!A:AC,3,FALSE),\"\")","v":""},{"$f":"IFERROR(VLOOKUP(A1017,'1.Портфель кредитів'!A:AC,14,FALSE),\"\")","v":""}]
[null,{"$f":"IFERROR(VLOOKUP(A1018,'1.Портфель кредитів'!A:AC,3,FALSE),\"\")","v":""},{"$f":"IFERROR(VLOOKUP(A1018,'1.Портфель кредитів'!A:AC,14,FALSE),\"\")","v":""}]
[null,{"$f":"IFERROR(VLOOKUP(A1019,'1.Портфель кредитів'!A:AC,3,FALSE),\"\")","v":""},{"$f":"IFERROR(VLOOKUP(A1019,'1.Портфель кредитів'!A:AC,14,FALSE),\"\")","v":""}]
[null,{"$f":"IFERROR(VLOOKUP(A1020,'1.Портфель кредитів'!A:AC,3,FALSE),\"\")","v":""},{"$f":"IFERROR(VLOOKUP(A1020,'1.Портфель кредитів'!A:AC,14,FALSE),\"\")","v":""}]
[null,{"$f":"IFERROR(VLOOKUP(A1021,'1.Портфель кредитів'!A:AC,3,FALSE),\"\")","v":""},{"$f":"IFERROR(VLOOKUP(A1021,'1.Портфель кредитів'!A:AC,14,FALSE),\"\")","v":""}]
[null,{"$f":"IFERROR(VLOOKUP(A1022,'1.Портфель кредитів'!A:AC,3,FALSE),\"\")","v":""},{"$f":"IFERROR(VLOOKUP(A1022,'1.Портфель кредитів'!A:AC,14,FALSE),\"\")","v":""}]
[null,{"$f":"IFERROR(VLOOKUP(A1023,'1.Портфель кредитів'!A:AC,3,FALSE),\"\")","v":""},{"$f":"IFERROR(VLOOKUP(A1023,'1.Портфель кредитів'!A:AC,14,FALSE),\"\")","v":""}]
[null,{"$f":"IFERROR(VLOOKUP(A1024,'1.Портфель кредитів'!A:AC,3,FALSE),\"\")","v":""},{"$f":"IFERROR(VLOOKUP(A1024,'1.Портфель кредитів'!A:AC,14,FALSE),\"\")","v":""}]
[null,{"$f":"IFERROR(VLOOKUP(A1025,'1.Портфель кредитів'!A:AC,3,FALSE),\"\")","v":""},{"$f":"IFERROR(VLOOKUP(A1025,'1.Портфель кредитів'!A:AC,14,FALSE),\"\")","v":""}]
[null,{"$f":"IFERROR(VLOOKUP(A1026,'1.Портфель кредитів'!A:AC,3,FALSE),\"\")","v":""},{"$f":"IFERROR(VLOOKUP(A1026,'1.Портфель кредитів'!A:AC,14,FALSE),\"\")","v":""}]
[null,{"$f":"IFERROR(VLOOKUP(A1027,'1.Портфель кредитів'!A:AC,3,FALSE),\"\")","v":""},{"$f":"IFERROR(VLOOKUP(A1027,'1.Портфель кредитів'!A:AC,14,FALSE),\"\")","v":""}]
[null,{"$f":"IFERROR(VLOOKUP(A1028,'1.Портфель кредитів'!A:AC,3,FALSE),\"\")","v":""},{"$f":"IFERROR(VLOOKUP(A1028,'1.Портфель кредитів'!A:AC,14,FALSE),\"\")","v":""}]
[null,{"$f":"IFERROR(VLOOKUP(A1029,'1.Портфель кредитів'!A:AC,3,FALSE),\"\")","v":""},{"$f":"IFERROR(VLOOKUP(A1029,'1.Портфель кредитів'!A:AC,14,FALSE),\"\")","v":""}]
[null,{"$f":"IFERROR(VLOOKUP(A1030,'1.Портфель кредитів'!A:AC,3,FALSE),\"\")","v":""},{"$f":"IFERROR(VLOOKUP(A1030,'1.Портфель кредитів'!A:AC,14,FALSE),\"\")","v":""}]
[null,{"$f":"IFERROR(VLOOKUP(A1031,'1.Портфель кредитів'!A:AC,3,FALSE),\"\")","v":""},{"$f":"IFERROR(VLOOKUP(A1031,'1.Портфель кредитів'!A:AC,14,FALSE),\"\")","v":""}]
[null,{"$f":"IFERROR(VLOOKUP(A1032,'1.Портфель кредитів'!A:AC,3,FALSE),\"\")","v":""},{"$f":"IFERROR(VLOOKUP(A1032,'1.Портфель кредитів'!A:AC,14,FALSE),\"\")","v":""}]
[null,{"$f":"IFERROR(VLOOKUP(A1033,'1.Портфель кредитів'!A:AC,3,FALSE),\"\")","v":""},{"$f":"IFERROR(VLOOKUP(A1033,'1.Портфель кредитів'!A:AC,14,FALSE),\"\")","v":""}]
[null,{"$f":"IFERROR(VLOOKUP(A1034,'1.Портфель кредитів'!A:AC,3,FALSE),\"\")","v":""},{"$f":"IFERROR(VLOOKUP(A1034,'1.Портфель кредитів'!A:AC,14,FALSE),\"\")","v":""}]
[null,{"$f":"IFERROR(VLOOKUP(A1035,'1.Портфель кредитів'!A:AC,3,FALSE),\"\")","v":""},{"$f":"IFERROR(VLOOKUP(A1035,'1.Портфель кредитів'!A:AC,14,FALSE),\"\")","v":""}]
[null,{"$f":"IFERROR(VLOOKUP(A1036,'1.Портфель кредитів'!A:AC,3,FALSE),\"\")","v":""},{"$f":"IFERROR(VLOOKUP(A1036,'1.Портфель кредитів'!A:AC,14,FALSE),\"\")","v":""}]
[null,{"$f":"IFERROR(VLOOKUP(A1037,'1.Портфель кредитів'!A:AC,3,FALSE),\"\")","v":""},{"$f":"IFERROR(VLOOKUP(A1037,'1.Портфель кредитів'!A:AC,14,FALSE),\"\")","v":""}]
[null,{"$f":"IFERROR(VLOOKUP(A1038,'1.Портфель кредитів'!A:AC,3,FALSE),\"\")","v":""},{"$f":"IFERROR(VLOOKUP(A1038,'1.Портфель кредитів'!A:AC,14,FALSE),\"\")","v":""}]
[null,{"$f":"IFERROR(VLOOKUP(A1039,'1.Портфель кредитів'!A:AC,3,FALSE),\"\")","v":""},{"$f":"IFERROR(VLOOKUP(A1039,'1.Портфель кредитів'!A:AC,14,FALSE),\"\")","v":""}]
[null,{"$f":"IFERROR(VLOOKUP(A1040,'1.Портфель кредитів'!A:AC,3,FALSE),\"\")","v":""},{"$f":"IFERROR(VLOOKUP(A1040,'1.Портфель кредитів'!A:AC,14,FALSE),\"\")","v":""}]
[null,{"$f":"IFERROR(VLOOKUP(A1041,'1.Портфель кредитів'!A:AC,3,FALSE),\"\")","v":""},{"$f":"IFERROR(VLOOKUP(A1041,'1.Портфель кредитів'!A:AC,14,FALSE),\"\")","v":""}]
[null,{"$f":"IFERROR(VLOOKUP(A1042,'1.Портфель кредитів'!A:AC,3,FALSE),\"\")","v":""},{"$f":"IFERROR(VLOOKUP(A1042,'1.Портфель кредитів'!A:AC,14,FALSE),\"\")","v":""}]
[null,{"$f":"IFERROR(VLOOKUP(A1043,'1.Портфель кредитів'!A:AC,3,FALSE),\"\")","v":""},{"$f":"IFERROR(VLOOKUP(A1043,'1.Портфель кредитів'!A:AC,14,FALSE),\"\")","v":""}]
[null,{"$f":"IFERROR(VLOOKUP(A1044,'1.Портфель кредитів'!A:AC,3,FALSE),\"\")","v":""},{"$f":"IFERROR(VLOOKUP(A1044,'1.Портфель кредитів'!A:AC,14,FALSE),\"\")","v":""}]
[null,{"$f":"IFERROR(VLOOKUP(A1045,'1.Портфель кредитів'!A:AC,3,FALSE),\"\")","v":""},{"$f":"IFERROR(VLOOKUP(A1045,'1.Портфель кредитів'!A:AC,14,FALSE),\"\")","v":""}]
[null,{"$f":"IFERROR(VLOOKUP(A1046,'1.Портфель кредитів'!A:AC,3,FALSE),\"\")","v":""},{"$f":"IFERROR(VLOOKUP(A1046,'1.Портфель кредитів'!A:AC,14,FALSE),\"\")","v":""}]
[null,{"$f":"IFERROR(VLOOKUP(A1047,'1.Портфель кредитів'!A:AC,3,FALSE),\"\")","v":""},{"$f":"IFERROR(VLOOKUP(A1047,'1.Портфель кредитів'!A:AC,14,FALSE),\"\")","v":""}]
[null,{"$f":"IFERROR(VLOOKUP(A1048,'1.Портфель кредитів'!A:AC,3,FALSE),\"\")","v":""},{"$f":"IFERROR(VLOOKUP(A1048,'1.Портфель кредитів'!A:AC,14,FALSE),\"\")","v":""}]
[null,{"$f":"IFERROR(VLOOKUP(A1049,'1.Портфель кредитів'!A:AC,3,FALSE),\"\")","v":""},{"$f":"IFERROR(VLOOKUP(A1049,'1.Портфель кредитів'!A:AC,14,FALSE),\"\")","v":""}]
[null,{"$f":"IFERROR(VLOOKUP(A1050,'1.Портфель кредитів'!A:AC,3,FALSE),\"\")","v":""},{"$f":"IFERROR(VLOOKUP(A1050,'1.Портфель кредитів'!A:AC,14,FALSE),\"\")","v":""}]
[null,{"$f":"IFERROR(VLOOKUP(A1051,'1.Портфель кредитів'!A:AC,3,FALSE),\"\")","v":""},{"$f":"IFERROR(VLOOKUP(A1051,'1.Портфель кредитів'!A:AC,14,FALSE),\"\")","v":""}]
[null,{"$f":"IFERROR(VLOOKUP(A1052,'1.Портфель кредитів'!A:AC,3,FALSE),\"\")","v":""},{"$f":"IFERROR(VLOOKUP(A1052,'1.Портфель кредитів'!A:AC,14,FALSE),\"\")","v":""}]
[null,{"$f":"IFERROR(VLOOKUP(A1053,'1.Портфель кредитів'!A:AC,3,FALSE),\"\")","v":""},{"$f":"IFERROR(VLOOKUP(A1053,'1.Портфель кредитів'!A:AC,14,FALSE),\"\")","v":""}]
[null,{"$f":"IFERROR(VLOOKUP(A1054,'1.Портфель кредитів'!A:AC,3,FALSE),\"\")","v":""},{"$f":"IFERROR(VLOOKUP(A1054,'1.Портфель кредитів'!A:AC,14,FALSE),\"\")","v":""}]
[null,{"$f":"IFERROR(VLOOKUP(A1055,'1.Портфель кредитів'!A:AC,3,FALSE),\"\")","v":""},{"$f":"IFERROR(VLOOKUP(A1055,'1.Портфель кредитів'!A:AC,14,FALSE),\"\")","v":""}]
[null,{"$f":"IFERROR(VLOOKUP(A1056,'1.Портфель кредитів'!A:AC,3,FALSE),\"\")","v":""},{"$f":"IFERROR(VLOOKUP(A1056,'1.Портфель кредитів'!A:AC,14,FALSE),\"\")","v":""}]
[null,{"$f":"IFERROR(VLOOKUP(A1057,'1.Портфель кредитів'!A:AC,3,FALSE),\"\")","v":""},{"$f":"IFERROR(VLOOKUP(A1057,'1.Портфель кредитів'!A:AC,14,FALSE),\"\")","v":""}]
[null,{"$f":"IFERROR(VLOOKUP(A1058,'1.Портфель кредитів'!A:AC,3,FALSE),\"\")","v":""},{"$f":"IFERROR(VLOOKUP(A1058,'1.Портфель кредитів'!A:AC,14,FALSE),\"\")","v":""}]
[null,{"$f":"IFERROR(VLOOKUP(A1059,'1.Портфель кредитів'!A:AC,3,FALSE),\"\")","v":""},{"$f":"IFERROR(VLOOKUP(A1059,'1.Портфель кредитів'!A:AC,14,FALSE),\"\")","v":""}]
[null,{"$f":"IFERROR(VLOOKUP(A1060,'1.Портфель кредитів'!A:AC,3,FALSE),\"\")","v":""},{"$f":"IFERROR(VLOOKUP(A1060,'1.Портфель кредитів'!A:AC,14,FALSE),\"\")","v":""}]
[null,{"$f":"IFERROR(VLOOKUP(A1061,'1.Портфель кредитів'!A:AC,3,FALSE),\"\")","v":""},{"$f":"IFERROR(VLOOKUP(A1061,'1.Портфель кредитів'!A:AC,14,FALSE),\"\")","v":""}]
[null,{"$f":"IFERROR(VLOOKUP(A1062,'1.Портфель кредитів'!A:AC,3,FALSE),\"\")","v":""},{"$f":"IFERROR(VLOOKUP(A1062,'1.Портфель кредитів'!A:AC,14,FALSE),\"\")","v":""}]
[null,{"$f":"IFERROR(VLOOKUP(A1063,'1.Портфель кредитів'!A:AC,3,FALSE),\"\")","v":""},{"$f":"IFERROR(VLOOKUP(A1063,'1.Портфель кредитів'!A:AC,14,FALSE),\"\")","v":""}]
[null,{"$f":"IFERROR(VLOOKUP(A1064,'1.Портфель кредитів'!A:AC,3,FALSE),\"\")","v":""},{"$f":"IFERROR(VLOOKUP(A1064,'1.Портфель кредитів'!A:AC,14,FALSE),\"\")","v":""}]
[null,{"$f":"IFERROR(VLOOKUP(A1065,'1.Портфель кредитів'!A:AC,3,FALSE),\"\")","v":""},{"$f":"IFERROR(VLOOKUP(A1065,'1.Портфель кредитів'!A:AC,14,FALSE),\"\")","v":""}]
[null,{"$f":"IFERROR(VLOOKUP(A1066,'1.Портфель кредитів'!A:AC,3,FALSE),\"\")","v":""},{"$f":"IFERROR(VLOOKUP(A1066,'1.Портфель кредитів'!A:AC,14,FALSE),\"\")","v":""}]
[null,{"$f":"IFERROR(VLOOKUP(A1067,'1.Портфель кредитів'!A:AC,3,FALSE),\"\")","v":""},{"$f":"IFERROR(VLOOKUP(A1067,'1.Портфель кредитів'!A:AC,14,FALSE),\"\")","v":""}]
[null,{"$f":"IFERROR(VLOOKUP(A1068,'1.Портфель кредитів'!A:AC,3,FALSE),\"\")","v":""},{"$f":"IFERROR(VLOOKUP(A1068,'1.Портфель кредитів'!A:AC,14,FALSE),\"\")","v":""}]
[null,{"$f":"IFERROR(VLOOKUP(A1069,'1.Портфель кредитів'!A:AC,3,FALSE),\"\")","v":""},{"$f":"IFERROR(VLOOKUP(A1069,'1.Портфель кредитів'!A:AC,14,FALSE),\"\")","v":""}]
[null,{"$f":"IFERROR(VLOOKUP(A1070,'1.Портфель кредитів'!A:AC,3,FALSE),\"\")","v":""},{"$f":"IFERROR(VLOOKUP(A1070,'1.Портфель кредитів'!A:AC,14,FALSE),\"\")","v":""}]
[null,{"$f":"IFERROR(VLOOKUP(A1071,'1.Портфель кредитів'!A:AC,3,FALSE),\"\")","v":""},{"$f":"IFERROR(VLOOKUP(A1071,'1.Портфель кредитів'!A:AC,14,FALSE),\"\")","v":""}]
[null,{"$f":"IFERROR(VLOOKUP(A1072,'1.Портфель кредитів'!A:AC,3,FALSE),\"\")","v":""},{"$f":"IFERROR(VLOOKUP(A1072,'1.Портфель кредитів'!A:AC,14,FALSE),\"\")","v":""}]
[null,{"$f":"IFERROR(VLOOKUP(A1073,'1.Портфель кредитів'!A:AC,3,FALSE),\"\")","v":""},{"$f":"IFERROR(VLOOKUP(A1073,'1.Портфель кредитів'!A:AC,14,FALSE),\"\")","v":""}]
[null,{"$f":"IFERROR(VLOOKUP(A1074,'1.Портфель кредитів'!A:AC,3,FALSE),\"\")","v":""},{"$f":"IFERROR(VLOOKUP(A1074,'1.Портфель кредитів'!A:AC,14,FALSE),\"\")","v":""}]
[null,{"$f":"IFERROR(VLOOKUP(A1075,'1.Портфель кредитів'!A:AC,3,FALSE),\"\")","v":""},{"$f":"IFERROR(VLOOKUP(A1075,'1.Портфель кредитів'!A:AC,14,FALSE),\"\")","v":""}]
[null,{"$f":"IFERROR(VLOOKUP(A1076,'1.Портфель кредитів'!A:AC,3,FALSE),\"\")","v":""},{"$f":"IFERROR(VLOOKUP(A1076,'1.Портфель кредитів'!A:AC,14,FALSE),\"\")","v":""}]
[null,{"$f":"IFERROR(VLOOKUP(A1077,'1.Портфель кредитів'!A:AC,3,FALSE),\"\")","v":""},{"$f":"IFERROR(VLOOKUP(A1077,'1.Портфель кредитів'!A:AC,14,FALSE),\"\")","v":""}]
[null,{"$f":"IFERROR(VLOOKUP(A1078,'1.Портфель кредитів'!A:AC,3,FALSE),\"\")","v":""},{"$f":"IFERROR(VLOOKUP(A1078,'1.Портфель кредитів'!A:AC,14,FALSE),\"\")","v":""}]
[null,{"$f":"IFERROR(VLOOKUP(A1079,'1.Портфель кредитів'!A:AC,3,FALSE),\"\")","v":""},{"$f":"IFERROR(VLOOKUP(A1079,'1.Портфель кредитів'!A:AC,14,FALSE),\"\")","v":""}]
[null,{"$f":"IFERROR(VLOOKUP(A1080,'1.Портфель кредитів'!A:AC,3,FALSE),\"\")","v":""},{"$f":"IFERROR(VLOOKUP(A1080,'1.Портфель кредитів'!A:AC,14,FALSE),\"\")","v":""}]
[null,{"$f":"IFERROR(VLOOKUP(A1081,'1.Портфель кредитів'!A:AC,3,FALSE),\"\")","v":""},{"$f":"IFERROR(VLOOKUP(A1081,'1.Портфель кредитів'!A:AC,14,FALSE),\"\")","v":""}]
[null,{"$f":"IFERROR(VLOOKUP(A1082,'1.Портфель кредитів'!A:AC,3,FALSE),\"\")","v":""},{"$f":"IFERROR(VLOOKUP(A1082,'1.Портфель кредитів'!A:AC,14,FALSE),\"\")","v":""}]
[null,{"$f":"IFERROR(VLOOKUP(A1083,'1.Портфель кредитів'!A:AC,3,FALSE),\"\")","v":""},{"$f":"IFERROR(VLOOKUP(A1083,'1.Портфель кредитів'!A:AC,14,FALSE),\"\")","v":""}]
[null,{"$f":"IFERROR(VLOOKUP(A1084,'1.Портфель кредитів'!A:AC,3,FALSE),\"\")","v":""},{"$f":"IFERROR(VLOOKUP(A1084,'1.Портфель кредитів'!A:AC,14,FALSE),\"\")","v":""}]
[null,{"$f":"IFERROR(VLOOKUP(A1085,'1.Портфель кредитів'!A:AC,3,FALSE),\"\")","v":""},{"$f":"IFERROR(VLOOKUP(A1085,'1.Портфель кредитів'!A:AC,14,FALSE),\"\")","v":""}]
[null,{"$f":"IFERROR(VLOOKUP(A1086,'1.Портфель кредитів'!A:AC,3,FALSE),\"\")","v":""},{"$f":"IFERROR(VLOOKUP(A1086,'1.Портфель кредитів'!A:AC,14,FALSE),\"\")","v":""}]
[null,{"$f":"IFERROR(VLOOKUP(A1087,'1.Портфель кредитів'!A:AC,3,FALSE),\"\")","v":""},{"$f":"IFERROR(VLOOKUP(A1087,'1.Портфель кредитів'!A:AC,14,FALSE),\"\")","v":""}]
[null,{"$f":"IFERROR(VLOOKUP(A1088,'1.Портфель кредитів'!A:AC,3,FALSE),\"\")","v":""},{"$f":"IFERROR(VLOOKUP(A1088,'1.Портфель кредитів'!A:AC,14,FALSE),\"\")","v":""}]
[null,{"$f":"IFERROR(VLOOKUP(A1089,'1.Портфель кредитів'!A:AC,3,FALSE),\"\")","v":""},{"$f":"IFERROR(VLOOKUP(A1089,'1.Портфель кредитів'!A:AC,14,FALSE),\"\")","v":""}]
[null,{"$f":"IFERROR(VLOOKUP(A1090,'1.Портфель кредитів'!A:AC,3,FALSE),\"\")","v":""},{"$f":"IFERROR(VLOOKUP(A1090,'1.Портфель кредитів'!A:AC,14,FALSE),\"\")","v":""}]
[null,{"$f":"IFERROR(VLOOKUP(A1091,'1.Портфель кредитів'!A:AC,3,FALSE),\"\")","v":""},{"$f":"IFERROR(VLOOKUP(A1091,'1.Портфель кредитів'!A:AC,14,FALSE),\"\")","v":""}]
[null,{"$f":"IFERROR(VLOOKUP(A1092,'1.Портфель кредитів'!A:AC,3,FALSE),\"\")","v":""},{"$f":"IFERROR(VLOOKUP(A1092,'1.Портфель кредитів'!A:AC,14,FALSE),\"\")","v":""}]
[null,{"$f":"IFERROR(VLOOKUP(A1093,'1.Портфель кредитів'!A:AC,3,FALSE),\"\")","v":""},{"$f":"IFERROR(VLOOKUP(A1093,'1.Портфель кредитів'!A:AC,14,FALSE),\"\")","v":""}]
[null,{"$f":"IFERROR(VLOOKUP(A1094,'1.Портфель кредитів'!A:AC,3,FALSE),\"\")","v":""},{"$f":"IFERROR(VLOOKUP(A1094,'1.Портфель кредитів'!A:AC,14,FALSE),\"\")","v":""}]
[null,{"$f":"IFERROR(VLOOKUP(A1095,'1.Портфель кредитів'!A:AC,3,FALSE),\"\")","v":""},{"$f":"IFERROR(VLOOKUP(A1095,'1.Портфель кредитів'!A:AC,14,FALSE),\"\")","v":""}]
[null,{"$f":"IFERROR(VLOOKUP(A1096,'1.Портфель кредитів'!A:AC,3,FALSE),\"\")","v":""},{"$f":"IFERROR(VLOOKUP(A1096,'1.Портфель кредитів'!A:AC,14,FALSE),\"\")","v":""}]
[null,{"$f":"IFERROR(VLOOKUP(A1097,'1.Портфель кредитів'!A:AC,3,FALSE),\"\")","v":""},{"$f":"IFERROR(VLOOKUP(A1097,'1.Портфель кредитів'!A:AC,14,FALSE),\"\")","v":""}]
[null,{"$f":"IFERROR(VLOOKUP(A1098,'1.Портфель кредитів'!A:AC,3,FALSE),\"\")","v":""},{"$f":"IFERROR(VLOOKUP(A1098,'1.Портфель кредитів'!A:AC,14,FALSE),\"\")","v":""}]
[null,{"$f":"IFERROR(VLOOKUP(A1099,'1.Портфель кредитів'!A:AC,3,FALSE),\"\")","v":""},{"$f":"IFERROR(VLOOKUP(A1099,'1.Портфель кредитів'!A:AC,14,FALSE),\"\")","v":""}]
[null,{"$f":"IFERROR(VLOOKUP(A1100,'1.Портфель кредитів'!A:AC,3,FALSE),\"\")","v":""},{"$f":"IFERROR(VLOOKUP(A1100,'1.Портфель кредитів'!A:AC,14,FALSE),\"\")","v":""}]
[null,{"$f":"IFERROR(VLOOKUP(A1101,'1.Портфель кредитів'!A:AC,3,FALSE),\"\")","v":""},{"$f":"IFERROR(VLOOKUP(A1101,'1.Портфель кредитів'!A:AC,14,FALSE),\"\")","v":""}]
[null,{"$f":"IFERROR(VLOOKUP(A1102,'1.Портфель кредитів'!A:AC,3,FALSE),\"\")","v":""},{"$f":"IFERROR(VLOOKUP(A1102,'1.Портфель кредитів'!A:AC,14,FALSE),\"\")","v":""}]
[null,{"$f":"IFERROR(VLOOKUP(A1103,'1.Портфель кредитів'!A:AC,3,FALSE),\"\")","v":""},{"$f":"IFERROR(VLOOKUP(A1103,'1.Портфель кредитів'!A:AC,14,FALSE),\"\")","v":""}]
[null,{"$f":"IFERROR(VLOOKUP(A1104,'1.Портфель кредитів'!A:AC,3,FALSE),\"\")","v":""},{"$f":"IFERROR(VLOOKUP(A1104,'1.Портфель кредитів'!A:AC,14,FALSE),\"\")","v":""}]
[null,{"$f":"IFERROR(VLOOKUP(A1105,'1.Портфель кредитів'!A:AC,3,FALSE),\"\")","v":""},{"$f":"IFERROR(VLOOKUP(A1105,'1.Портфель кредитів'!A:AC,14,FALSE),\"\")","v":""}]
[null,{"$f":"IFERROR(VLOOKUP(A1106,'1.Портфель кредитів'!A:AC,3,FALSE),\"\")","v":""},{"$f":"IFERROR(VLOOKUP(A1106,'1.Портфель кредитів'!A:AC,14,FALSE),\"\")","v":""}]
[null,{"$f":"IFERROR(VLOOKUP(A1107,'1.Портфель кредитів'!A:AC,3,FALSE),\"\")","v":""},{"$f":"IFERROR(VLOOKUP(A1107,'1.Портфель кредитів'!A:AC,14,FALSE),\"\")","v":""}]
[null,{"$f":"IFERROR(VLOOKUP(A1108,'1.Портфель кредитів'!A:AC,3,FALSE),\"\")","v":""},{"$f":"IFERROR(VLOOKUP(A1108,'1.Портфель кредитів'!A:AC,14,FALSE),\"\")","v":""}]
[null,{"$f":"IFERROR(VLOOKUP(A1109,'1.Портфель кредитів'!A:AC,3,FALSE),\"\")","v":""},{"$f":"IFERROR(VLOOKUP(A1109,'1.Портфель кредитів'!A:AC,14,FALSE),\"\")","v":""}]
[null,{"$f":"IFERROR(VLOOKUP(A1110,'1.Портфель кредитів'!A:AC,3,FALSE),\"\")","v":""},{"$f":"IFERROR(VLOOKUP(A1110,'1.Портфель кредитів'!A:AC,14,FALSE),\"\")","v":""}]
[null,{"$f":"IFERROR(VLOOKUP(A1111,'1.Портфель кредитів'!A:AC,3,FALSE),\"\")","v":""},{"$f":"IFERROR(VLOOKUP(A1111,'1.Портфель кредитів'!A:AC,14,FALSE),\"\")","v":""}]
[null,{"$f":"IFERROR(VLOOKUP(A1112,'1.Портфель кредитів'!A:AC,3,FALSE),\"\")","v":""},{"$f":"IFERROR(VLOOKUP(A1112,'1.Портфель кредитів'!A:AC,14,FALSE),\"\")","v":""}]
[null,{"$f":"IFERROR(VLOOKUP(A1113,'1.Портфель кредитів'!A:AC,3,FALSE),\"\")","v":""},{"$f":"IFERROR(VLOOKUP(A1113,'1.Портфель кредитів'!A:AC,14,FALSE),\"\")","v":""}]
[null,{"$f":"IFERROR(VLOOKUP(A1114,'1.Портфель кредитів'!A:AC,3,FALSE),\"\")","v":""},{"$f":"IFERROR(VLOOKUP(A1114,'1.Портфель кредитів'!A:AC,14,FALSE),\"\")","v":""}]
[null,{"$f":"IFERROR(VLOOKUP(A1115,'1.Портфель кредитів'!A:AC,3,FALSE),\"\")","v":""},{"$f":"IFERROR(VLOOKUP(A1115,'1.Портфель кредитів'!A:AC,14,FALSE),\"\")","v":""}]
[null,{"$f":"IFERROR(VLOOKUP(A1116,'1.Портфель кредитів'!A:AC,3,FALSE),\"\")","v":""},{"$f":"IFERROR(VLOOKUP(A1116,'1.Портфель кредитів'!A:AC,14,FALSE),\"\")","v":""}]
[null,{"$f":"IFERROR(VLOOKUP(A1117,'1.Портфель кредитів'!A:AC,3,FALSE),\"\")","v":""},{"$f":"IFERROR(VLOOKUP(A1117,'1.Портфель кредитів'!A:AC,14,FALSE),\"\")","v":""}]
[null,{"$f":"IFERROR(VLOOKUP(A1118,'1.Портфель кредитів'!A:AC,3,FALSE),\"\")","v":""},{"$f":"IFERROR(VLOOKUP(A1118,'1.Портфель кредитів'!A:AC,14,FALSE),\"\")","v":""}]
[null,{"$f":"IFERROR(VLOOKUP(A1119,'1.Портфель кредитів'!A:AC,3,FALSE),\"\")","v":""},{"$f":"IFERROR(VLOOKUP(A1119,'1.Портфель кредитів'!A:AC,14,FALSE),\"\")","v":""}]
[null,{"$f":"IFERROR(VLOOKUP(A1120,'1.Портфель кредитів'!A:AC,3,FALSE),\"\")","v":""},{"$f":"IFERROR(VLOOKUP(A1120,'1.Портфель кредитів'!A:AC,14,FALSE),\"\")","v":""}]
[null,{"$f":"IFERROR(VLOOKUP(A1121,'1.Портфель кредитів'!A:AC,3,FALSE),\"\")","v":""},{"$f":"IFERROR(VLOOKUP(A1121,'1.Портфель кредитів'!A:AC,14,FALSE),\"\")","v":""}]
[null,{"$f":"IFERROR(VLOOKUP(A1122,'1.Портфель кредитів'!A:AC,3,FALSE),\"\")","v":""},{"$f":"IFERROR(VLOOKUP(A1122,'1.Портфель кредитів'!A:AC,14,FALSE),\"\")","v":""}]
[null,{"$f":"IFERROR(VLOOKUP(A1123,'1.Портфель кредитів'!A:AC,3,FALSE),\"\")","v":""},{"$f":"IFERROR(VLOOKUP(A1123,'1.Портфель кредитів'!A:AC,14,FALSE),\"\")","v":""}]
[null,{"$f":"IFERROR(VLOOKUP(A1124,'1.Портфель кредитів'!A:AC,3,FALSE),\"\")","v":""},{"$f":"IFERROR(VLOOKUP(A1124,'1.Портфель кредитів'!A:AC,14,FALSE),\"\")","v":""}]
[null,{"$f":"IFERROR(VLOOKUP(A1125,'1.Портфель кредитів'!A:AC,3,FALSE),\"\")","v":""},{"$f":"IFERROR(VLOOKUP(A1125,'1.Портфель кредитів'!A:AC,14,FALSE),\"\")","v":""}]
[null,{"$f":"IFERROR(VLOOKUP(A1126,'1.Портфель кредитів'!A:AC,3,FALSE),\"\")","v":""},{"$f":"IFERROR(VLOOKUP(A1126,'1.Портфель кредитів'!A:AC,14,FALSE),\"\")","v":""}]
[null,{"$f":"IFERROR(VLOOKUP(A1127,'1.Портфель кредитів'!A:AC,3,FALSE),\"\")","v":""},{"$f":"IFERROR(VLOOKUP(A1127,'1.Портфель кредитів'!A:AC,14,FALSE),\"\")","v":""}]
[null,{"$f":"IFERROR(VLOOKUP(A1128,'1.Портфель кредитів'!A:AC,3,FALSE),\"\")","v":""},{"$f":"IFERROR(VLOOKUP(A1128,'1.Портфель кредитів'!A:AC,14,FALSE),\"\")","v":""}]
[null,{"$f":"IFERROR(VLOOKUP(A1129,'1.Портфель кредитів'!A:AC,3,FALSE),\"\")","v":""},{"$f":"IFERROR(VLOOKUP(A1129,'1.Портфель кредитів'!A:AC,14,FALSE),\"\")","v":""}]
[null,{"$f":"IFERROR(VLOOKUP(A1130,'1.Портфель кредитів'!A:AC,3,FALSE),\"\")","v":""},{"$f":"IFERROR(VLOOKUP(A1130,'1.Портфель кредитів'!A:AC,14,FALSE),\"\")","v":""}]
[null,{"$f":"IFERROR(VLOOKUP(A1131,'1.Портфель кредитів'!A:AC,3,FALSE),\"\")","v":""},{"$f":"IFERROR(VLOOKUP(A1131,'1.Портфель кредитів'!A:AC,14,FALSE),\"\")","v":""}]
[null,{"$f":"IFERROR(VLOOKUP(A1132,'1.Портфель кредитів'!A:AC,3,FALSE),\"\")","v":""},{"$f":"IFERROR(VLOOKUP(A1132,'1.Портфель кредитів'!A:AC,14,FALSE),\"\")","v":""}]
[null,{"$f":"IFERROR(VLOOKUP(A1133,'1.Портфель кредитів'!A:AC,3,FALSE),\"\")","v":""},{"$f":"IFERROR(VLOOKUP(A1133,'1.Портфель кредитів'!A:AC,14,FALSE),\"\")","v":""}]
[null,{"$f":"IFERROR(VLOOKUP(A1134,'1.Портфель кредитів'!A:AC,3,FALSE),\"\")","v":""},{"$f":"IFERROR(VLOOKUP(A1134,'1.Портфель кредитів'!A:AC,14,FALSE),\"\")","v":""}]
[null,{"$f":"IFERROR(VLOOKUP(A1135,'1.Портфель кредитів'!A:AC,3,FALSE),\"\")","v":""},{"$f":"IFERROR(VLOOKUP(A1135,'1.Портфель кредитів'!A:AC,14,FALSE),\"\")","v":""}]
[null,{"$f":"IFERROR(VLOOKUP(A1136,'1.Портфель кредитів'!A:AC,3,FALSE),\"\")","v":""},{"$f":"IFERROR(VLOOKUP(A1136,'1.Портфель кредитів'!A:AC,14,FALSE),\"\")","v":""}]
[null,{"$f":"IFERROR(VLOOKUP(A1137,'1.Портфель кредитів'!A:AC,3,FALSE),\"\")","v":""},{"$f":"IFERROR(VLOOKUP(A1137,'1.Портфель кредитів'!A:AC,14,FALSE),\"\")","v":""}]
[null,{"$f":"IFERROR(VLOOKUP(A1138,'1.Портфель кредитів'!A:AC,3,FALSE),\"\")","v":""},{"$f":"IFERROR(VLOOKUP(A1138,'1.Портфель кредитів'!A:AC,14,FALSE),\"\")","v":""}]
[null,{"$f":"IFERROR(VLOOKUP(A1139,'1.Портфель кредитів'!A:AC,3,FALSE),\"\")","v":""},{"$f":"IFERROR(VLOOKUP(A1139,'1.Портфель кредитів'!A:AC,14,FALSE),\"\")","v":""}]
[null,{"$f":"IFERROR(VLOOKUP(A1140,'1.Портфель кредитів'!A:AC,3,FALSE),\"\")","v":""},{"$f":"IFERROR(VLOOKUP(A1140,'1.Портфель кредитів'!A:AC,14,FALSE),\"\")","v":""}]
[null,{"$f":"IFERROR(VLOOKUP(A1141,'1.Портфель кредитів'!A:AC,3,FALSE),\"\")","v":""},{"$f":"IFERROR(VLOOKUP(A1141,'1.Портфель кредитів'!A:AC,14,FALSE),\"\")","v":""}]
[null,{"$f":"IFERROR(VLOOKUP(A1142,'1.Портфель кредитів'!A:AC,3,FALSE),\"\")","v":""},{"$f":"IFERROR(VLOOKUP(A1142,'1.Портфель кредитів'!A:AC,14,FALSE),\"\")","v":""}]
[null,{"$f":"IFERROR(VLOOKUP(A1143,'1.Портфель кредитів'!A:AC,3,FALSE),\"\")","v":""},{"$f":"IFERROR(VLOOKUP(A1143,'1.Портфель кредитів'!A:AC,14,FALSE),\"\")","v":""}]
[null,{"$f":"IFERROR(VLOOKUP(A1144,'1.Портфель кредитів'!A:AC,3,FALSE),\"\")","v":""},{"$f":"IFERROR(VLOOKUP(A1144,'1.Портфель кредитів'!A:AC,14,FALSE),\"\")","v":""}]
[null,{"$f":"IFERROR(VLOOKUP(A1145,'1.Портфель кредитів'!A:AC,3,FALSE),\"\")","v":""},{"$f":"IFERROR(VLOOKUP(A1145,'1.Портфель кредитів'!A:AC,14,FALSE),\"\")","v":""}]
[null,{"$f":"IFERROR(VLOOKUP(A1146,'1.Портфель кредитів'!A:AC,3,FALSE),\"\")","v":""},{"$f":"IFERROR(VLOOKUP(A1146,'1.Портфель кредитів'!A:AC,14,FALSE),\"\")","v":""}]
[null,{"$f":"IFERROR(VLOOKUP(A1147,'1.Портфель кредитів'!A:AC,3,FALSE),\"\")","v":""},{"$f":"IFERROR(VLOOKUP(A1147,'1.Портфель кредитів'!A:AC,14,FALSE),\"\")","v":""}]
[null,{"$f":"IFERROR(VLOOKUP(A1148,'1.Портфель кредитів'!A:AC,3,FALSE),\"\")","v":""},{"$f":"IFERROR(VLOOKUP(A1148,'1.Портфель кредитів'!A:AC,14,FALSE),\"\")","v":""}]
[null,{"$f":"IFERROR(VLOOKUP(A1149,'1.Портфель кредитів'!A:AC,3,FALSE),\"\")","v":""},{"$f":"IFERROR(VLOOKUP(A1149,'1.Портфель кредитів'!A:AC,14,FALSE),\"\")","v":""}]
[null,{"$f":"IFERROR(VLOOKUP(A1150,'1.Портфель кредитів'!A:AC,3,FALSE),\"\")","v":""},{"$f":"IFERROR(VLOOKUP(A1150,'1.Портфель кредитів'!A:AC,14,FALSE),\"\")","v":""}]
[null,{"$f":"IFERROR(VLOOKUP(A1151,'1.Портфель кредитів'!A:AC,3,FALSE),\"\")","v":""},{"$f":"IFERROR(VLOOKUP(A1151,'1.Портфель кредитів'!A:AC,14,FALSE),\"\")","v":""}]
[null,{"$f":"IFERROR(VLOOKUP(A1152,'1.Портфель кредитів'!A:AC,3,FALSE),\"\")","v":""},{"$f":"IFERROR(VLOOKUP(A1152,'1.Портфель кредитів'!A:AC,14,FALSE),\"\")","v":""}]
[null,{"$f":"IFERROR(VLOOKUP(A1153,'1.Портфель кредитів'!A:AC,3,FALSE),\"\")","v":""},{"$f":"IFERROR(VLOOKUP(A1153,'1.Портфель кредитів'!A:AC,14,FALSE),\"\")","v":""}]
[null,{"$f":"IFERROR(VLOOKUP(A1154,'1.Портфель кредитів'!A:AC,3,FALSE),\"\")","v":""},{"$f":"IFERROR(VLOOKUP(A1154,'1.Портфель кредитів'!A:AC,14,FALSE),\"\")","v":""}]
[null,{"$f":"IFERROR(VLOOKUP(A1155,'1.Портфель кредитів'!A:AC,3,FALSE),\"\")","v":""},{"$f":"IFERROR(VLOOKUP(A1155,'1.Портфель кредитів'!A:AC,14,FALSE),\"\")","v":""}]
[null,{"$f":"IFERROR(VLOOKUP(A1156,'1.Портфель кредитів'!A:AC,3,FALSE),\"\")","v":""},{"$f":"IFERROR(VLOOKUP(A1156,'1.Портфель кредитів'!A:AC,14,FALSE),\"\")","v":""}]
[null,{"$f":"IFERROR(VLOOKUP(A1157,'1.Портфель кредитів'!A:AC,3,FALSE),\"\")","v":""},{"$f":"IFERROR(VLOOKUP(A1157,'1.Портфель кредитів'!A:AC,14,FALSE),\"\")","v":""}]
[null,{"$f":"IFERROR(VLOOKUP(A1158,'1.Портфель кредитів'!A:AC,3,FALSE),\"\")","v":""},{"$f":"IFERROR(VLOOKUP(A1158,'1.Портфель кредитів'!A:AC,14,FALSE),\"\")","v":""}]
[null,{"$f":"IFERROR(VLOOKUP(A1159,'1.Портфель кредитів'!A:AC,3,FALSE),\"\")","v":""},{"$f":"IFERROR(VLOOKUP(A1159,'1.Портфель кредитів'!A:AC,14,FALSE),\"\")","v":""}]
[null,{"$f":"IFERROR(VLOOKUP(A1160,'1.Портфель кредитів'!A:AC,3,FALSE),\"\")","v":""},{"$f":"IFERROR(VLOOKUP(A1160,'1.Портфель кредитів'!A:AC,14,FALSE),\"\")","v":""}]
[null,{"$f":"IFERROR(VLOOKUP(A1161,'1.Портфель кредитів'!A:AC,3,FALSE),\"\")","v":""},{"$f":"IFERROR(VLOOKUP(A1161,'1.Портфель кредитів'!A:AC,14,FALSE),\"\")","v":""}]
[null,{"$f":"IFERROR(VLOOKUP(A1162,'1.Портфель кредитів'!A:AC,3,FALSE),\"\")","v":""},{"$f":"IFERROR(VLOOKUP(A1162,'1.Портфель кредитів'!A:AC,14,FALSE),\"\")","v":""}]
[null,{"$f":"IFERROR(VLOOKUP(A1163,'1.Портфель кредитів'!A:AC,3,FALSE),\"\")","v":""},{"$f":"IFERROR(VLOOKUP(A1163,'1.Портфель кредитів'!A:AC,14,FALSE),\"\")","v":""}]
[null,{"$f":"IFERROR(VLOOKUP(A1164,'1.Портфель кредитів'!A:AC,3,FALSE),\"\")","v":""},{"$f":"IFERROR(VLOOKUP(A1164,'1.Портфель кредитів'!A:AC,14,FALSE),\"\")","v":""}]
[null,{"$f":"IFERROR(VLOOKUP(A1165,'1.Портфель кредитів'!A:AC,3,FALSE),\"\")","v":""},{"$f":"IFERROR(VLOOKUP(A1165,'1.Портфель кредитів'!A:AC,14,FALSE),\"\")","v":""}]
[null,{"$f":"IFERROR(VLOOKUP(A1166,'1.Портфель кредитів'!A:AC,3,FALSE),\"\")","v":""},{"$f":"IFERROR(VLOOKUP(A1166,'1.Портфель кредитів'!A:AC,14,FALSE),\"\")","v":""}]
[null,{"$f":"IFERROR(VLOOKUP(A1167,'1.Портфель кредитів'!A:AC,3,FALSE),\"\")","v":""},{"$f":"IFERROR(VLOOKUP(A1167,'1.Портфель кредитів'!A:AC,14,FALSE),\"\")","v":""}]
[null,{"$f":"IFERROR(VLOOKUP(A1168,'1.Портфель кредитів'!A:AC,3,FALSE),\"\")","v":""},{"$f":"IFERROR(VLOOKUP(A1168,'1.Портфель кредитів'!A:AC,14,FALSE),\"\")","v":""}]
[null,{"$f":"IFERROR(VLOOKUP(A1169,'1.Портфель кредитів'!A:AC,3,FALSE),\"\")","v":""},{"$f":"IFERROR(VLOOKUP(A1169,'1.Портфель кредитів'!A:AC,14,FALSE),\"\")","v":""}]
[null,{"$f":"IFERROR(VLOOKUP(A1170,'1.Портфель кредитів'!A:AC,3,FALSE),\"\")","v":""},{"$f":"IFERROR(VLOOKUP(A1170,'1.Портфель кредитів'!A:AC,14,FALSE),\"\")","v":""}]
[null,{"$f":"IFERROR(VLOOKUP(A1171,'1.Портфель кредитів'!A:AC,3,FALSE),\"\")","v":""},{"$f":"IFERROR(VLOOKUP(A1171,'1.Портфель кредитів'!A:AC,14,FALSE),\"\")","v":""}]
[null,{"$f":"IFERROR(VLOOKUP(A1172,'1.Портфель кредитів'!A:AC,3,FALSE),\"\")","v":""},{"$f":"IFERROR(VLOOKUP(A1172,'1.Портфель кредитів'!A:AC,14,FALSE),\"\")","v":""}]
[null,{"$f":"IFERROR(VLOOKUP(A1173,'1.Портфель кредитів'!A:AC,3,FALSE),\"\")","v":""},{"$f":"IFERROR(VLOOKUP(A1173,'1.Портфель кредитів'!A:AC,14,FALSE),\"\")","v":""}]
[null,{"$f":"IFERROR(VLOOKUP(A1174,'1.Портфель кредитів'!A:AC,3,FALSE),\"\")","v":""},{"$f":"IFERROR(VLOOKUP(A1174,'1.Портфель кредитів'!A:AC,14,FALSE),\"\")","v":""}]
[null,{"$f":"IFERROR(VLOOKUP(A1175,'1.Портфель кредитів'!A:AC,3,FALSE),\"\")","v":""},{"$f":"IFERROR(VLOOKUP(A1175,'1.Портфель кредитів'!A:AC,14,FALSE),\"\")","v":""}]
[null,{"$f":"IFERROR(VLOOKUP(A1176,'1.Портфель кредитів'!A:AC,3,FALSE),\"\")","v":""},{"$f":"IFERROR(VLOOKUP(A1176,'1.Портфель кредитів'!A:AC,14,FALSE),\"\")","v":""}]
[null,{"$f":"IFERROR(VLOOKUP(A1177,'1.Портфель кредитів'!A:AC,3,FALSE),\"\")","v":""},{"$f":"IFERROR(VLOOKUP(A1177,'1.Портфель кредитів'!A:AC,14,FALSE),\"\")","v":""}]
[null,{"$f":"IFERROR(VLOOKUP(A1178,'1.Портфель кредитів'!A:AC,3,FALSE),\"\")","v":""},{"$f":"IFERROR(VLOOKUP(A1178,'1.Портфель кредитів'!A:AC,14,FALSE),\"\")","v":""}]
[null,{"$f":"IFERROR(VLOOKUP(A1179,'1.Портфель кредитів'!A:AC,3,FALSE),\"\")","v":""},{"$f":"IFERROR(VLOOKUP(A1179,'1.Портфель кредитів'!A:AC,14,FALSE),\"\")","v":""}]
[null,{"$f":"IFERROR(VLOOKUP(A1180,'1.Портфель кредитів'!A:AC,3,FALSE),\"\")","v":""},{"$f":"IFERROR(VLOOKUP(A1180,'1.Портфель кредитів'!A:AC,14,FALSE),\"\")","v":""}]
[null,{"$f":"IFERROR(VLOOKUP(A1181,'1.Портфель кредитів'!A:AC,3,FALSE),\"\")","v":""},{"$f":"IFERROR(VLOOKUP(A1181,'1.Портфель кредитів'!A:AC,14,FALSE),\"\")","v":""}]
[null,{"$f":"IFERROR(VLOOKUP(A1182,'1.Портфель кредитів'!A:AC,3,FALSE),\"\")","v":""},{"$f":"IFERROR(VLOOKUP(A1182,'1.Портфель кредитів'!A:AC,14,FALSE),\"\")","v":""}]
[null,{"$f":"IFERROR(VLOOKUP(A1183,'1.Портфель кредитів'!A:AC,3,FALSE),\"\")","v":""},{"$f":"IFERROR(VLOOKUP(A1183,'1.Портфель кредитів'!A:AC,14,FALSE),\"\")","v":""}]
[null,{"$f":"IFERROR(VLOOKUP(A1184,'1.Портфель кредитів'!A:AC,3,FALSE),\"\")","v":""},{"$f":"IFERROR(VLOOKUP(A1184,'1.Портфель кредитів'!A:AC,14,FALSE),\"\")","v":""}]
[null,{"$f":"IFERROR(VLOOKUP(A1185,'1.Портфель кредитів'!A:AC,3,FALSE),\"\")","v":""},{"$f":"IFERROR(VLOOKUP(A1185,'1.Портфель кредитів'!A:AC,14,FALSE),\"\")","v":""}]
[null,{"$f":"IFERROR(VLOOKUP(A1186,'1.Портфель кредитів'!A:AC,3,FALSE),\"\")","v":""},{"$f":"IFERROR(VLOOKUP(A1186,'1.Портфель кредитів'!A:AC,14,FALSE),\"\")","v":""}]
[null,{"$f":"IFERROR(VLOOKUP(A1187,'1.Портфель кредитів'!A:AC,3,FALSE),\"\")","v":""},{"$f":"IFERROR(VLOOKUP(A1187,'1.Портфель кредитів'!A:AC,14,FALSE),\"\")","v":""}]
[null,{"$f":"IFERROR(VLOOKUP(A1188,'1.Портфель кредитів'!A:AC,3,FALSE),\"\")","v":""},{"$f":"IFERROR(VLOOKUP(A1188,'1.Портфель кредитів'!A:AC,14,FALSE),\"\")","v":""}]
[null,{"$f":"IFERROR(VLOOKUP(A1189,'1.Портфель кредитів'!A:AC,3,FALSE),\"\")","v":""},{"$f":"IFERROR(VLOOKUP(A1189,'1.Портфель кредитів'!A:AC,14,FALSE),\"\")","v":""}]
[null,{"$f":"IFERROR(VLOOKUP(A1190,'1.Портфель кредитів'!A:AC,3,FALSE),\"\")","v":""},{"$f":"IFERROR(VLOOKUP(A1190,'1.Портфель кредитів'!A:AC,14,FALSE),\"\")","v":""}]
[null,{"$f":"IFERROR(VLOOKUP(A1191,'1.Портфель кредитів'!A:AC,3,FALSE),\"\")","v":""},{"$f":"IFERROR(VLOOKUP(A1191,'1.Портфель кредитів'!A:AC,14,FALSE),\"\")","v":""}]
[null,{"$f":"IFERROR(VLOOKUP(A1192,'1.Портфель кредитів'!A:AC,3,FALSE),\"\")","v":""},{"$f":"IFERROR(VLOOKUP(A1192,'1.Портфель кредитів'!A:AC,14,FALSE),\"\")","v":""}]
[null,{"$f":"IFERROR(VLOOKUP(A1193,'1.Портфель кредитів'!A:AC,3,FALSE),\"\")","v":""},{"$f":"IFERROR(VLOOKUP(A1193,'1.Портфель кредитів'!A:AC,14,FALSE),\"\")","v":""}]
[null,{"$f":"IFERROR(VLOOKUP(A1194,'1.Портфель кредитів'!A:AC,3,FALSE),\"\")","v":""},{"$f":"IFERROR(VLOOKUP(A1194,'1.Портфель кредитів'!A:AC,14,FALSE),\"\")","v":""}]
[null,{"$f":"IFERROR(VLOOKUP(A1195,'1.Портфель кредитів'!A:AC,3,FALSE),\"\")","v":""},{"$f":"IFERROR(VLOOKUP(A1195,'1.Портфель кредитів'!A:AC,14,FALSE),\"\")","v":""}]
[null,{"$f":"IFERROR(VLOOKUP(A1196,'1.Портфель кредитів'!A:AC,3,FALSE),\"\")","v":""},{"$f":"IFERROR(VLOOKUP(A1196,'1.Портфель кредитів'!A:AC,14,FALSE),\"\")","v":""}]
[null,{"$f":"IFERROR(VLOOKUP(A1197,'1.Портфель кредитів'!A:AC,3,FALSE),\"\")","v":""},{"$f":"IFERROR(VLOOKUP(A1197,'1.Портфель кредитів'!A:AC,14,FALSE),\"\")","v":""}]
[null,{"$f":"IFERROR(VLOOKUP(A1198,'1.Портфель кредитів'!A:AC,3,FALSE),\"\")","v":""},{"$f":"IFERROR(VLOOKUP(A1198,'1.Портфель кредитів'!A:AC,14,FALSE),\"\")","v":""}]
[null,{"$f":"IFERROR(VLOOKUP(A1199,'1.Портфель кредитів'!A:AC,3,FALSE),\"\")","v":""},{"$f":"IFERROR(VLOOKUP(A1199,'1.Портфель кредитів'!A:AC,14,FALSE),\"\")","v":""}]
[null,{"$f":"IFERROR(VLOOKUP(A1200,'1.Портфель кредитів'!A:AC,3,FALSE),\"\")","v":""},{"$f":"IFERROR(VLOOKUP(A1200,'1.Портфель кредитів'!A:AC,14,FALSE),\"\")","v":""}]
[null,{"$f":"IFERROR(VLOOKUP(A1201,'1.Портфель кредитів'!A:AC,3,FALSE),\"\")","v":""},{"$f":"IFERROR(VLOOKUP(A1201,'1.Портфель кредитів'!A:AC,14,FALSE),\"\")","v":""}]
[null,{"$f":"IFERROR(VLOOKUP(A1202,'1.Портфель кредитів'!A:AC,3,FALSE),\"\")","v":""},{"$f":"IFERROR(VLOOKUP(A1202,'1.Портфель кредитів'!A:AC,14,FALSE),\"\")","v":""}]
[null,{"$f":"IFERROR(VLOOKUP(A1203,'1.Портфель кредитів'!A:AC,3,FALSE),\"\")","v":""},{"$f":"IFERROR(VLOOKUP(A1203,'1.Портфель кредитів'!A:AC,14,FALSE),\"\")","v":""}]
[null,{"$f":"IFERROR(VLOOKUP(A1204,'1.Портфель кредитів'!A:AC,3,FALSE),\"\")","v":""},{"$f":"IFERROR(VLOOKUP(A1204,'1.Портфель кредитів'!A:AC,14,FALSE),\"\")","v":""}]
[null,{"$f":"IFERROR(VLOOKUP(A1205,'1.Портфель кредитів'!A:AC,3,FALSE),\"\")","v":""},{"$f":"IFERROR(VLOOKUP(A1205,'1.Портфель кредитів'!A:AC,14,FALSE),\"\")","v":""}]
[null,{"$f":"IFERROR(VLOOKUP(A1206,'1.Портфель кредитів'!A:AC,3,FALSE),\"\")","v":""},{"$f":"IFERROR(VLOOKUP(A1206,'1.Портфель кредитів'!A:AC,14,FALSE),\"\")","v":""}]
[null,{"$f":"IFERROR(VLOOKUP(A1207,'1.Портфель кредитів'!A:AC,3,FALSE),\"\")","v":""},{"$f":"IFERROR(VLOOKUP(A1207,'1.Портфель кредитів'!A:AC,14,FALSE),\"\")","v":""}]
[null,{"$f":"IFERROR(VLOOKUP(A1208,'1.Портфель кредитів'!A:AC,3,FALSE),\"\")","v":""},{"$f":"IFERROR(VLOOKUP(A1208,'1.Портфель кредитів'!A:AC,14,FALSE),\"\")","v":""}]
[null,{"$f":"IFERROR(VLOOKUP(A1209,'1.Портфель кредитів'!A:AC,3,FALSE),\"\")","v":""},{"$f":"IFERROR(VLOOKUP(A1209,'1.Портфель кредитів'!A:AC,14,FALSE),\"\")","v":""}]
[null,{"$f":"IFERROR(VLOOKUP(A1210,'1.Портфель кредитів'!A:AC,3,FALSE),\"\")","v":""},{"$f":"IFERROR(VLOOKUP(A1210,'1.Портфель кредитів'!A:AC,14,FALSE),\"\")","v":""}]
[null,{"$f":"IFERROR(VLOOKUP(A1211,'1.Портфель кредитів'!A:AC,3,FALSE),\"\")","v":""},{"$f":"IFERROR(VLOOKUP(A1211,'1.Портфель кредитів'!A:AC,14,FALSE),\"\")","v":""}]
[null,{"$f":"IFERROR(VLOOKUP(A1212,'1.Портфель кредитів'!A:AC,3,FALSE),\"\")","v":""},{"$f":"IFERROR(VLOOKUP(A1212,'1.Портфель кредитів'!A:AC,14,FALSE),\"\")","v":""}]
[null,{"$f":"IFERROR(VLOOKUP(A1213,'1.Портфель кредитів'!A:AC,3,FALSE),\"\")","v":""},{"$f":"IFERROR(VLOOKUP(A1213,'1.Портфель кредитів'!A:AC,14,FALSE),\"\")","v":""}]
[null,{"$f":"IFERROR(VLOOKUP(A1214,'1.Портфель кредитів'!A:AC,3,FALSE),\"\")","v":""},{"$f":"IFERROR(VLOOKUP(A1214,'1.Портфель кредитів'!A:AC,14,FALSE),\"\")","v":""}]
[null,{"$f":"IFERROR(VLOOKUP(A1215,'1.Портфель кредитів'!A:AC,3,FALSE),\"\")","v":""},{"$f":"IFERROR(VLOOKUP(A1215,'1.Портфель кредитів'!A:AC,14,FALSE),\"\")","v":""}]
[null,{"$f":"IFERROR(VLOOKUP(A1216,'1.Портфель кредитів'!A:AC,3,FALSE),\"\")","v":""},{"$f":"IFERROR(VLOOKUP(A1216,'1.Портфель кредитів'!A:AC,14,FALSE),\"\")","v":""}]
[null,{"$f":"IFERROR(VLOOKUP(A1217,'1.Портфель кредитів'!A:AC,3,FALSE),\"\")","v":""},{"$f":"IFERROR(VLOOKUP(A1217,'1.Портфель кредитів'!A:AC,14,FALSE),\"\")","v":""}]
[null,{"$f":"IFERROR(VLOOKUP(A1218,'1.Портфель кредитів'!A:AC,3,FALSE),\"\")","v":""},{"$f":"IFERROR(VLOOKUP(A1218,'1.Портфель кредитів'!A:AC,14,FALSE),\"\")","v":""}]
[null,{"$f":"IFERROR(VLOOKUP(A1219,'1.Портфель кредитів'!A:AC,3,FALSE),\"\")","v":""},{"$f":"IFERROR(VLOOKUP(A1219,'1.Портфель кредитів'!A:AC,14,FALSE),\"\")","v":""}]
[null,{"$f":"IFERROR(VLOOKUP(A1220,'1.Портфель кредитів'!A:AC,3,FALSE),\"\")","v":""},{"$f":"IFERROR(VLOOKUP(A1220,'1.Портфель кредитів'!A:AC,14,FALSE),\"\")","v":""}]
[null,{"$f":"IFERROR(VLOOKUP(A1221,'1.Портфель кредитів'!A:AC,3,FALSE),\"\")","v":""},{"$f":"IFERROR(VLOOKUP(A1221,'1.Портфель кредитів'!A:AC,14,FALSE),\"\")","v":""}]
[null,{"$f":"IFERROR(VLOOKUP(A1222,'1.Портфель кредитів'!A:AC,3,FALSE),\"\")","v":""},{"$f":"IFERROR(VLOOKUP(A1222,'1.Портфель кредитів'!A:AC,14,FALSE),\"\")","v":""}]
[null,{"$f":"IFERROR(VLOOKUP(A1223,'1.Портфель кредитів'!A:AC,3,FALSE),\"\")","v":""},{"$f":"IFERROR(VLOOKUP(A1223,'1.Портфель кредитів'!A:AC,14,FALSE),\"\")","v":""}]
[null,{"$f":"IFERROR(VLOOKUP(A1224,'1.Портфель кредитів'!A:AC,3,FALSE),\"\")","v":""},{"$f":"IFERROR(VLOOKUP(A1224,'1.Портфель кредитів'!A:AC,14,FALSE),\"\")","v":""}]
[null,{"$f":"IFERROR(VLOOKUP(A1225,'1.Портфель кредитів'!A:AC,3,FALSE),\"\")","v":""},{"$f":"IFERROR(VLOOKUP(A1225,'1.Портфель кредитів'!A:AC,14,FALSE),\"\")","v":""}]
[null,{"$f":"IFERROR(VLOOKUP(A1226,'1.Портфель кредитів'!A:AC,3,FALSE),\"\")","v":""},{"$f":"IFERROR(VLOOKUP(A1226,'1.Портфель кредитів'!A:AC,14,FALSE),\"\")","v":""}]
[null,{"$f":"IFERROR(VLOOKUP(A1227,'1.Портфель кредитів'!A:AC,3,FALSE),\"\")","v":""},{"$f":"IFERROR(VLOOKUP(A1227,'1.Портфель кредитів'!A:AC,14,FALSE),\"\")","v":""}]
[null,{"$f":"IFERROR(VLOOKUP(A1228,'1.Портфель кредитів'!A:AC,3,FALSE),\"\")","v":""},{"$f":"IFERROR(VLOOKUP(A1228,'1.Портфель кредитів'!A:AC,14,FALSE),\"\")","v":""}]
[null,{"$f":"IFERROR(VLOOKUP(A1229,'1.Портфель кредитів'!A:AC,3,FALSE),\"\")","v":""},{"$f":"IFERROR(VLOOKUP(A1229,'1.Портфель кредитів'!A:AC,14,FALSE),\"\")","v":""}]
[null,{"$f":"IFERROR(VLOOKUP(A1230,'1.Портфель кредитів'!A:AC,3,FALSE),\"\")","v":""},{"$f":"IFERROR(VLOOKUP(A1230,'1.Портфель кредитів'!A:AC,14,FALSE),\"\")","v":""}]
[null,{"$f":"IFERROR(VLOOKUP(A1231,'1.Портфель кредитів'!A:AC,3,FALSE),\"\")","v":""},{"$f":"IFERROR(VLOOKUP(A1231,'1.Портфель кредитів'!A:AC,14,FALSE),\"\")","v":""}]
[null,{"$f":"IFERROR(VLOOKUP(A1232,'1.Портфель кредитів'!A:AC,3,FALSE),\"\")","v":""},{"$f":"IFERROR(VLOOKUP(A1232,'1.Портфель кредитів'!A:AC,14,FALSE),\"\")","v":""}]
[null,{"$f":"IFERROR(VLOOKUP(A1233,'1.Портфель кредитів'!A:AC,3,FALSE),\"\")","v":""},{"$f":"IFERROR(VLOOKUP(A1233,'1.Портфель кредитів'!A:AC,14,FALSE),\"\")","v":""}]
[null,{"$f":"IFERROR(VLOOKUP(A1234,'1.Портфель кредитів'!A:AC,3,FALSE),\"\")","v":""},{"$f":"IFERROR(VLOOKUP(A1234,'1.Портфель кредитів'!A:AC,14,FALSE),\"\")","v":""}]
[null,{"$f":"IFERROR(VLOOKUP(A1235,'1.Портфель кредитів'!A:AC,3,FALSE),\"\")","v":""},{"$f":"IFERROR(VLOOKUP(A1235,'1.Портфель кредитів'!A:AC,14,FALSE),\"\")","v":""}]
[null,{"$f":"IFERROR(VLOOKUP(A1236,'1.Портфель кредитів'!A:AC,3,FALSE),\"\")","v":""},{"$f":"IFERROR(VLOOKUP(A1236,'1.Портфель кредитів'!A:AC,14,FALSE),\"\")","v":""}]
[null,{"$f":"IFERROR(VLOOKUP(A1237,'1.Портфель кредитів'!A:AC,3,FALSE),\"\")","v":""},{"$f":"IFERROR(VLOOKUP(A1237,'1.Портфель кредитів'!A:AC,14,FALSE),\"\")","v":""}]
[null,{"$f":"IFERROR(VLOOKUP(A1238,'1.Портфель кредитів'!A:AC,3,FALSE),\"\")","v":""},{"$f":"IFERROR(VLOOKUP(A1238,'1.Портфель кредитів'!A:AC,14,FALSE),\"\")","v":""}]
[null,{"$f":"IFERROR(VLOOKUP(A1239,'1.Портфель кредитів'!A:AC,3,FALSE),\"\")","v":""},{"$f":"IFERROR(VLOOKUP(A1239,'1.Портфель кредитів'!A:AC,14,FALSE),\"\")","v":""}]
[null,{"$f":"IFERROR(VLOOKUP(A1240,'1.Портфель кредитів'!A:AC,3,FALSE),\"\")","v":""},{"$f":"IFERROR(VLOOKUP(A1240,'1.Портфель кредитів'!A:AC,14,FALSE),\"\")","v":""}]
[null,{"$f":"IFERROR(VLOOKUP(A1241,'1.Портфель кредитів'!A:AC,3,FALSE),\"\")","v":""},{"$f":"IFERROR(VLOOKUP(A1241,'1.Портфель кредитів'!A:AC,14,FALSE),\"\")","v":""}]
[null,{"$f":"IFERROR(VLOOKUP(A1242,'1.Портфель кредитів'!A:AC,3,FALSE),\"\")","v":""},{"$f":"IFERROR(VLOOKUP(A1242,'1.Портфель кредитів'!A:AC,14,FALSE),\"\")","v":""}]
[null,{"$f":"IFERROR(VLOOKUP(A1243,'1.Портфель кредитів'!A:AC,3,FALSE),\"\")","v":""},{"$f":"IFERROR(VLOOKUP(A1243,'1.Портфель кредитів'!A:AC,14,FALSE),\"\")","v":""}]
[null,{"$f":"IFERROR(VLOOKUP(A1244,'1.Портфель кредитів'!A:AC,3,FALSE),\"\")","v":""},{"$f":"IFERROR(VLOOKUP(A1244,'1.Портфель кредитів'!A:AC,14,FALSE),\"\")","v":""}]
[null,{"$f":"IFERROR(VLOOKUP(A1245,'1.Портфель кредитів'!A:AC,3,FALSE),\"\")","v":""},{"$f":"IFERROR(VLOOKUP(A1245,'1.Портфель кредитів'!A:AC,14,FALSE),\"\")","v":""}]
[null,{"$f":"IFERROR(VLOOKUP(A1246,'1.Портфель кредитів'!A:AC,3,FALSE),\"\")","v":""},{"$f":"IFERROR(VLOOKUP(A1246,'1.Портфель кредитів'!A:AC,14,FALSE),\"\")","v":""}]
[null,{"$f":"IFERROR(VLOOKUP(A1247,'1.Портфель кредитів'!A:AC,3,FALSE),\"\")","v":""},{"$f":"IFERROR(VLOOKUP(A1247,'1.Портфель кредитів'!A:AC,14,FALSE),\"\")","v":""}]
[null,{"$f":"IFERROR(VLOOKUP(A1248,'1.Портфель кредитів'!A:AC,3,FALSE),\"\")","v":""},{"$f":"IFERROR(VLOOKUP(A1248,'1.Портфель кредитів'!A:AC,14,FALSE),\"\")","v":""}]
[null,{"$f":"IFERROR(VLOOKUP(A1249,'1.Портфель кредитів'!A:AC,3,FALSE),\"\")","v":""},{"$f":"IFERROR(VLOOKUP(A1249,'1.Портфель кредитів'!A:AC,14,FALSE),\"\")","v":""}]
[null,{"$f":"IFERROR(VLOOKUP(A1250,'1.Портфель кредитів'!A:AC,3,FALSE),\"\")","v":""},{"$f":"IFERROR(VLOOKUP(A1250,'1.Портфель кредитів'!A:AC,14,FALSE),\"\")","v":""}]
[null,{"$f":"IFERROR(VLOOKUP(A1251,'1.Портфель кредитів'!A:AC,3,FALSE),\"\")","v":""},{"$f":"IFERROR(VLOOKUP(A1251,'1.Портфель кредитів'!A:AC,14,FALSE),\"\")","v":""}]
[null,{"$f":"IFERROR(VLOOKUP(A1252,'1.Портфель кредитів'!A:AC,3,FALSE),\"\")","v":""},{"$f":"IFERROR(VLOOKUP(A1252,'1.Портфель кредитів'!A:AC,14,FALSE),\"\")","v":""}]
[null,{"$f":"IFERROR(VLOOKUP(A1253,'1.Портфель кредитів'!A:AC,3,FALSE),\"\")","v":""},{"$f":"IFERROR(VLOOKUP(A1253,'1.Портфель кредитів'!A:AC,14,FALSE),\"\")","v":""}]
[null,{"$f":"IFERROR(VLOOKUP(A1254,'1.Портфель кредитів'!A:AC,3,FALSE),\"\")","v":""},{"$f":"IFERROR(VLOOKUP(A1254,'1.Портфель кредитів'!A:AC,14,FALSE),\"\")","v":""}]
[null,{"$f":"IFERROR(VLOOKUP(A1255,'1.Портфель кредитів'!A:AC,3,FALSE),\"\")","v":""},{"$f":"IFERROR(VLOOKUP(A1255,'1.Портфель кредитів'!A:AC,14,FALSE),\"\")","v":""}]
[null,{"$f":"IFERROR(VLOOKUP(A1256,'1.Портфель кредитів'!A:AC,3,FALSE),\"\")","v":""},{"$f":"IFERROR(VLOOKUP(A1256,'1.Портфель кредитів'!A:AC,14,FALSE),\"\")","v":""}]
[null,{"$f":"IFERROR(VLOOKUP(A1257,'1.Портфель кредитів'!A:AC,3,FALSE),\"\")","v":""},{"$f":"IFERROR(VLOOKUP(A1257,'1.Портфель кредитів'!A:AC,14,FALSE),\"\")","v":""}]
[null,{"$f":"IFERROR(VLOOKUP(A1258,'1.Портфель кредитів'!A:AC,3,FALSE),\"\")","v":""},{"$f":"IFERROR(VLOOKUP(A1258,'1.Портфель кредитів'!A:AC,14,FALSE),\"\")","v":""}]
[null,{"$f":"IFERROR(VLOOKUP(A1259,'1.Портфель кредитів'!A:AC,3,FALSE),\"\")","v":""},{"$f":"IFERROR(VLOOKUP(A1259,'1.Портфель кредитів'!A:AC,14,FALSE),\"\")","v":""}]
[null,{"$f":"IFERROR(VLOOKUP(A1260,'1.Портфель кредитів'!A:AC,3,FALSE),\"\")","v":""},{"$f":"IFERROR(VLOOKUP(A1260,'1.Портфель кредитів'!A:AC,14,FALSE),\"\")","v":""}]
[null,{"$f":"IFERROR(VLOOKUP(A1261,'1.Портфель кредитів'!A:AC,3,FALSE),\"\")","v":""},{"$f":"IFERROR(VLOOKUP(A1261,'1.Портфель кредитів'!A:AC,14,FALSE),\"\")","v":""}]
[null,{"$f":"IFERROR(VLOOKUP(A1262,'1.Портфель кредитів'!A:AC,3,FALSE),\"\")","v":""},{"$f":"IFERROR(VLOOKUP(A1262,'1.Портфель кредитів'!A:AC,14,FALSE),\"\")","v":""}]
[null,{"$f":"IFERROR(VLOOKUP(A1263,'1.Портфель кредитів'!A:AC,3,FALSE),\"\")","v":""},{"$f":"IFERROR(VLOOKUP(A1263,'1.Портфель кредитів'!A:AC,14,FALSE),\"\")","v":""}]
[null,{"$f":"IFERROR(VLOOKUP(A1264,'1.Портфель кредитів'!A:AC,3,FALSE),\"\")","v":""},{"$f":"IFERROR(VLOOKUP(A1264,'1.Портфель кредитів'!A:AC,14,FALSE),\"\")","v":""}]
[null,{"$f":"IFERROR(VLOOKUP(A1265,'1.Портфель кредитів'!A:AC,3,FALSE),\"\")","v":""},{"$f":"IFERROR(VLOOKUP(A1265,'1.Портфель кредитів'!A:AC,14,FALSE),\"\")","v":""}]
[null,{"$f":"IFERROR(VLOOKUP(A1266,'1.Портфель кредитів'!A:AC,3,FALSE),\"\")","v":""},{"$f":"IFERROR(VLOOKUP(A1266,'1.Портфель кредитів'!A:AC,14,FALSE),\"\")","v":""}]
[null,{"$f":"IFERROR(VLOOKUP(A1267,'1.Портфель кредитів'!A:AC,3,FALSE),\"\")","v":""},{"$f":"IFERROR(VLOOKUP(A1267,'1.Портфель кредитів'!A:AC,14,FALSE),\"\")","v":""}]
[null,{"$f":"IFERROR(VLOOKUP(A1268,'1.Портфель кредитів'!A:AC,3,FALSE),\"\")","v":""},{"$f":"IFERROR(VLOOKUP(A1268,'1.Портфель кредитів'!A:AC,14,FALSE),\"\")","v":""}]
[null,{"$f":"IFERROR(VLOOKUP(A1269,'1.Портфель кредитів'!A:AC,3,FALSE),\"\")","v":""},{"$f":"IFERROR(VLOOKUP(A1269,'1.Портфель кредитів'!A:AC,14,FALSE),\"\")","v":""}]
[null,{"$f":"IFERROR(VLOOKUP(A1270,'1.Портфель кредитів'!A:AC,3,FALSE),\"\")","v":""},{"$f":"IFERROR(VLOOKUP(A1270,'1.Портфель кредитів'!A:AC,14,FALSE),\"\")","v":""}]
[null,{"$f":"IFERROR(VLOOKUP(A1271,'1.Портфель кредитів'!A:AC,3,FALSE),\"\")","v":""},{"$f":"IFERROR(VLOOKUP(A1271,'1.Портфель кредитів'!A:AC,14,FALSE),\"\")","v":""}]
[null,{"$f":"IFERROR(VLOOKUP(A1272,'1.Портфель кредитів'!A:AC,3,FALSE),\"\")","v":""},{"$f":"IFERROR(VLOOKUP(A1272,'1.Портфель кредитів'!A:AC,14,FALSE),\"\")","v":""}]
[null,{"$f":"IFERROR(VLOOKUP(A1273,'1.Портфель кредитів'!A:AC,3,FALSE),\"\")","v":""},{"$f":"IFERROR(VLOOKUP(A1273,'1.Портфель кредитів'!A:AC,14,FALSE),\"\")","v":""}]
[null,{"$f":"IFERROR(VLOOKUP(A1274,'1.Портфель кредитів'!A:AC,3,FALSE),\"\")","v":""},{"$f":"IFERROR(VLOOKUP(A1274,'1.Портфель кредитів'!A:AC,14,FALSE),\"\")","v":""}]
[null,{"$f":"IFERROR(VLOOKUP(A1275,'1.Портфель кредитів'!A:AC,3,FALSE),\"\")","v":""},{"$f":"IFERROR(VLOOKUP(A1275,'1.Портфель кредитів'!A:AC,14,FALSE),\"\")","v":""}]
[null,{"$f":"IFERROR(VLOOKUP(A1276,'1.Портфель кредитів'!A:AC,3,FALSE),\"\")","v":""},{"$f":"IFERROR(VLOOKUP(A1276,'1.Портфель кредитів'!A:AC,14,FALSE),\"\")","v":""}]
[null,{"$f":"IFERROR(VLOOKUP(A1277,'1.Портфель кредитів'!A:AC,3,FALSE),\"\")","v":""},{"$f":"IFERROR(VLOOKUP(A1277,'1.Портфель кредитів'!A:AC,14,FALSE),\"\")","v":""}]
[null,{"$f":"IFERROR(VLOOKUP(A1278,'1.Портфель кредитів'!A:AC,3,FALSE),\"\")","v":""},{"$f":"IFERROR(VLOOKUP(A1278,'1.Портфель кредитів'!A:AC,14,FALSE),\"\")","v":""}]
[null,{"$f":"IFERROR(VLOOKUP(A1279,'1.Портфель кредитів'!A:AC,3,FALSE),\"\")","v":""},{"$f":"IFERROR(VLOOKUP(A1279,'1.Портфель кредитів'!A:AC,14,FALSE),\"\")","v":""}]
[null,{"$f":"IFERROR(VLOOKUP(A1280,'1.Портфель кредитів'!A:AC,3,FALSE),\"\")","v":""},{"$f":"IFERROR(VLOOKUP(A1280,'1.Портфель кредитів'!A:AC,14,FALSE),\"\")","v":""}]
[null,{"$f":"IFERROR(VLOOKUP(A1281,'1.Портфель кредитів'!A:AC,3,FALSE),\"\")","v":""},{"$f":"IFERROR(VLOOKUP(A1281,'1.Портфель кредитів'!A:AC,14,FALSE),\"\")","v":""}]
[null,{"$f":"IFERROR(VLOOKUP(A1282,'1.Портфель кредитів'!A:AC,3,FALSE),\"\")","v":""},{"$f":"IFERROR(VLOOKUP(A1282,'1.Портфель кредитів'!A:AC,14,FALSE),\"\")","v":""}]
[null,{"$f":"IFERROR(VLOOKUP(A1283,'1.Портфель кредитів'!A:AC,3,FALSE),\"\")","v":""},{"$f":"IFERROR(VLOOKUP(A1283,'1.Портфель кредитів'!A:AC,14,FALSE),\"\")","v":""}]
[null,{"$f":"IFERROR(VLOOKUP(A1284,'1.Портфель кредитів'!A:AC,3,FALSE),\"\")","v":""},{"$f":"IFERROR(VLOOKUP(A1284,'1.Портфель кредитів'!A:AC,14,FALSE),\"\")","v":""}]
[null,{"$f":"IFERROR(VLOOKUP(A1285,'1.Портфель кредитів'!A:AC,3,FALSE),\"\")","v":""},{"$f":"IFERROR(VLOOKUP(A1285,'1.Портфель кредитів'!A:AC,14,FALSE),\"\")","v":""}]
[null,{"$f":"IFERROR(VLOOKUP(A1286,'1.Портфель кредитів'!A:AC,3,FALSE),\"\")","v":""},{"$f":"IFERROR(VLOOKUP(A1286,'1.Портфель кредитів'!A:AC,14,FALSE),\"\")","v":""}]
[null,{"$f":"IFERROR(VLOOKUP(A1287,'1.Портфель кредитів'!A:AC,3,FALSE),\"\")","v":""},{"$f":"IFERROR(VLOOKUP(A1287,'1.Портфель кредитів'!A:AC,14,FALSE),\"\")","v":""}]
[null,{"$f":"IFERROR(VLOOKUP(A1288,'1.Портфель кредитів'!A:AC,3,FALSE),\"\")","v":""},{"$f":"IFERROR(VLOOKUP(A1288,'1.Портфель кредитів'!A:AC,14,FALSE),\"\")","v":""}]
[null,{"$f":"IFERROR(VLOOKUP(A1289,'1.Портфель кредитів'!A:AC,3,FALSE),\"\")","v":""},{"$f":"IFERROR(VLOOKUP(A1289,'1.Портфель кредитів'!A:AC,14,FALSE),\"\")","v":""}]
[null,{"$f":"IFERROR(VLOOKUP(A1290,'1.Портфель кредитів'!A:AC,3,FALSE),\"\")","v":""},{"$f":"IFERROR(VLOOKUP(A1290,'1.Портфель кредитів'!A:AC,14,FALSE),\"\")","v":""}]
[null,{"$f":"IFERROR(VLOOKUP(A1291,'1.Портфель кредитів'!A:AC,3,FALSE),\"\")","v":""},{"$f":"IFERROR(VLOOKUP(A1291,'1.Портфель кредитів'!A:AC,14,FALSE),\"\")","v":""}]
[null,{"$f":"IFERROR(VLOOKUP(A1292,'1.Портфель кредитів'!A:AC,3,FALSE),\"\")","v":""},{"$f":"IFERROR(VLOOKUP(A1292,'1.Портфель кредитів'!A:AC,14,FALSE),\"\")","v":""}]
[null,{"$f":"IFERROR(VLOOKUP(A1293,'1.Портфель кредитів'!A:AC,3,FALSE),\"\")","v":""},{"$f":"IFERROR(VLOOKUP(A1293,'1.Портфель кредитів'!A:AC,14,FALSE),\"\")","v":""}]
[null,{"$f":"IFERROR(VLOOKUP(A1294,'1.Портфель кредитів'!A:AC,3,FALSE),\"\")","v":""},{"$f":"IFERROR(VLOOKUP(A1294,'1.Портфель кредитів'!A:AC,14,FALSE),\"\")","v":""}]
[null,{"$f":"IFERROR(VLOOKUP(A1295,'1.Портфель кредитів'!A:AC,3,FALSE),\"\")","v":""},{"$f":"IFERROR(VLOOKUP(A1295,'1.Портфель кредитів'!A:AC,14,FALSE),\"\")","v":""}]
[null,{"$f":"IFERROR(VLOOKUP(A1296,'1.Портфель кредитів'!A:AC,3,FALSE),\"\")","v":""},{"$f":"IFERROR(VLOOKUP(A1296,'1.Портфель кредитів'!A:AC,14,FALSE),\"\")","v":""}]
[null,{"$f":"IFERROR(VLOOKUP(A1297,'1.Портфель кредитів'!A:AC,3,FALSE),\"\")","v":""},{"$f":"IFERROR(VLOOKUP(A1297,'1.Портфель кредитів'!A:AC,14,FALSE),\"\")","v":""}]
[null,{"$f":"IFERROR(VLOOKUP(A1298,'1.Портфель кредитів'!A:AC,3,FALSE),\"\")","v":""},{"$f":"IFERROR(VLOOKUP(A1298,'1.Портфель кредитів'!A:AC,14,FALSE),\"\")","v":""}]
[null,{"$f":"IFERROR(VLOOKUP(A1299,'1.Портфель кредитів'!A:AC,3,FALSE),\"\")","v":""},{"$f":"IFERROR(VLOOKUP(A1299,'1.Портфель кредитів'!A:AC,14,FALSE),\"\")","v":""}]
[null,{"$f":"IFERROR(VLOOKUP(A1300,'1.Портфель кредитів'!A:AC,3,FALSE),\"\")","v":""},{"$f":"IFERROR(VLOOKUP(A1300,'1.Портфель кредитів'!A:AC,14,FALSE),\"\")","v":""}]
[null,{"$f":"IFERROR(VLOOKUP(A1301,'1.Портфель кредитів'!A:AC,3,FALSE),\"\")","v":""},{"$f":"IFERROR(VLOOKUP(A1301,'1.Портфель кредитів'!A:AC,14,FALSE),\"\")","v":""}]
[null,{"$f":"IFERROR(VLOOKUP(A1302,'1.Портфель кредитів'!A:AC,3,FALSE),\"\")","v":""},{"$f":"IFERROR(VLOOKUP(A1302,'1.Портфель кредитів'!A:AC,14,FALSE),\"\")","v":""}]
[null,{"$f":"IFERROR(VLOOKUP(A1303,'1.Портфель кредитів'!A:AC,3,FALSE),\"\")","v":""},{"$f":"IFERROR(VLOOKUP(A1303,'1.Портфель кредитів'!A:AC,14,FALSE),\"\")","v":""}]
[null,{"$f":"IFERROR(VLOOKUP(A1304,'1.Портфель кредитів'!A:AC,3,FALSE),\"\")","v":""},{"$f":"IFERROR(VLOOKUP(A1304,'1.Портфель кредитів'!A:AC,14,FALSE),\"\")","v":""}]
[null,{"$f":"IFERROR(VLOOKUP(A1305,'1.Портфель кредитів'!A:AC,3,FALSE),\"\")","v":""},{"$f":"IFERROR(VLOOKUP(A1305,'1.Портфель кредитів'!A:AC,14,FALSE),\"\")","v":""}]
[null,{"$f":"IFERROR(VLOOKUP(A1306,'1.Портфель кредитів'!A:AC,3,FALSE),\"\")","v":""},{"$f":"IFERROR(VLOOKUP(A1306,'1.Портфель кредитів'!A:AC,14,FALSE),\"\")","v":""}]
[null,{"$f":"IFERROR(VLOOKUP(A1307,'1.Портфель кредитів'!A:AC,3,FALSE),\"\")","v":""},{"$f":"IFERROR(VLOOKUP(A1307,'1.Портфель кредитів'!A:AC,14,FALSE),\"\")","v":""}]
[null,{"$f":"IFERROR(VLOOKUP(A1308,'1.Портфель кредитів'!A:AC,3,FALSE),\"\")","v":""},{"$f":"IFERROR(VLOOKUP(A1308,'1.Портфель кредитів'!A:AC,14,FALSE),\"\")","v":""}]
[null,{"$f":"IFERROR(VLOOKUP(A1309,'1.Портфель кредитів'!A:AC,3,FALSE),\"\")","v":""},{"$f":"IFERROR(VLOOKUP(A1309,'1.Портфель кредитів'!A:AC,14,FALSE),\"\")","v":""}]
[null,{"$f":"IFERROR(VLOOKUP(A1310,'1.Портфель кредитів'!A:AC,3,FALSE),\"\")","v":""},{"$f":"IFERROR(VLOOKUP(A1310,'1.Портфель кредитів'!A:AC,14,FALSE),\"\")","v":""}]
[null,{"$f":"IFERROR(VLOOKUP(A1311,'1.Портфель кредитів'!A:AC,3,FALSE),\"\")","v":""},{"$f":"IFERROR(VLOOKUP(A1311,'1.Портфель кредитів'!A:AC,14,FALSE),\"\")","v":""}]
[null,{"$f":"IFERROR(VLOOKUP(A1312,'1.Портфель кредитів'!A:AC,3,FALSE),\"\")","v":""},{"$f":"IFERROR(VLOOKUP(A1312,'1.Портфель кредитів'!A:AC,14,FALSE),\"\")","v":""}]
[null,{"$f":"IFERROR(VLOOKUP(A1313,'1.Портфель кредитів'!A:AC,3,FALSE),\"\")","v":""},{"$f":"IFERROR(VLOOKUP(A1313,'1.Портфель кредитів'!A:AC,14,FALSE),\"\")","v":""}]
[null,{"$f":"IFERROR(VLOOKUP(A1314,'1.Портфель кредитів'!A:AC,3,FALSE),\"\")","v":""},{"$f":"IFERROR(VLOOKUP(A1314,'1.Портфель кредитів'!A:AC,14,FALSE),\"\")","v":""}]
[null,{"$f":"IFERROR(VLOOKUP(A1315,'1.Портфель кредитів'!A:AC,3,FALSE),\"\")","v":""},{"$f":"IFERROR(VLOOKUP(A1315,'1.Портфель кредитів'!A:AC,14,FALSE),\"\")","v":""}]
[null,{"$f":"IFERROR(VLOOKUP(A1316,'1.Портфель кредитів'!A:AC,3,FALSE),\"\")","v":""},{"$f":"IFERROR(VLOOKUP(A1316,'1.Портфель кредитів'!A:AC,14,FALSE),\"\")","v":""}]
[null,{"$f":"IFERROR(VLOOKUP(A1317,'1.Портфель кредитів'!A:AC,3,FALSE),\"\")","v":""},{"$f":"IFERROR(VLOOKUP(A1317,'1.Портфель кредитів'!A:AC,14,FALSE),\"\")","v":""}]
[null,{"$f":"IFERROR(VLOOKUP(A1318,'1.Портфель кредитів'!A:AC,3,FALSE),\"\")","v":""},{"$f":"IFERROR(VLOOKUP(A1318,'1.Портфель кредитів'!A:AC,14,FALSE),\"\")","v":""}]
[null,{"$f":"IFERROR(VLOOKUP(A1319,'1.Портфель кредитів'!A:AC,3,FALSE),\"\")","v":""},{"$f":"IFERROR(VLOOKUP(A1319,'1.Портфель кредитів'!A:AC,14,FALSE),\"\")","v":""}]
[null,{"$f":"IFERROR(VLOOKUP(A1320,'1.Портфель кредитів'!A:AC,3,FALSE),\"\")","v":""},{"$f":"IFERROR(VLOOKUP(A1320,'1.Портфель кредитів'!A:AC,14,FALSE),\"\")","v":""}]
[null,{"$f":"IFERROR(VLOOKUP(A1321,'1.Портфель кредитів'!A:AC,3,FALSE),\"\")","v":""},{"$f":"IFERROR(VLOOKUP(A1321,'1.Портфель кредитів'!A:AC,14,FALSE),\"\")","v":""}]
[null,{"$f":"IFERROR(VLOOKUP(A1322,'1.Портфель кредитів'!A:AC,3,FALSE),\"\")","v":""},{"$f":"IFERROR(VLOOKUP(A1322,'1.Портфель кредитів'!A:AC,14,FALSE),\"\")","v":""}]
[null,{"$f":"IFERROR(VLOOKUP(A1323,'1.Портфель кредитів'!A:AC,3,FALSE),\"\")","v":""},{"$f":"IFERROR(VLOOKUP(A1323,'1.Портфель кредитів'!A:AC,14,FALSE),\"\")","v":""}]
[null,{"$f":"IFERROR(VLOOKUP(A1324,'1.Портфель кредитів'!A:AC,3,FALSE),\"\")","v":""},{"$f":"IFERROR(VLOOKUP(A1324,'1.Портфель кредитів'!A:AC,14,FALSE),\"\")","v":""}]
[null,{"$f":"IFERROR(VLOOKUP(A1325,'1.Портфель кредитів'!A:AC,3,FALSE),\"\")","v":""},{"$f":"IFERROR(VLOOKUP(A1325,'1.Портфель кредитів'!A:AC,14,FALSE),\"\")","v":""}]
[null,{"$f":"IFERROR(VLOOKUP(A1326,'1.Портфель кредитів'!A:AC,3,FALSE),\"\")","v":""},{"$f":"IFERROR(VLOOKUP(A1326,'1.Портфель кредитів'!A:AC,14,FALSE),\"\")","v":""}]
[null,{"$f":"IFERROR(VLOOKUP(A1327,'1.Портфель кредитів'!A:AC,3,FALSE),\"\")","v":""},{"$f":"IFERROR(VLOOKUP(A1327,'1.Портфель кредитів'!A:AC,14,FALSE),\"\")","v":""}]
[null,{"$f":"IFERROR(VLOOKUP(A1328,'1.Портфель кредитів'!A:AC,3,FALSE),\"\")","v":""},{"$f":"IFERROR(VLOOKUP(A1328,'1.Портфель кредитів'!A:AC,14,FALSE),\"\")","v":""}]
[null,{"$f":"IFERROR(VLOOKUP(A1329,'1.Портфель кредитів'!A:AC,3,FALSE),\"\")","v":""},{"$f":"IFERROR(VLOOKUP(A1329,'1.Портфель кредитів'!A:AC,14,FALSE),\"\")","v":""}]
[null,{"$f":"IFERROR(VLOOKUP(A1330,'1.Портфель кредитів'!A:AC,3,FALSE),\"\")","v":""},{"$f":"IFERROR(VLOOKUP(A1330,'1.Портфель кредитів'!A:AC,14,FALSE),\"\")","v":""}]
[null,{"$f":"IFERROR(VLOOKUP(A1331,'1.Портфель кредитів'!A:AC,3,FALSE),\"\")","v":""},{"$f":"IFERROR(VLOOKUP(A1331,'1.Портфель кредитів'!A:AC,14,FALSE),\"\")","v":""}]
[null,{"$f":"IFERROR(VLOOKUP(A1332,'1.Портфель кредитів'!A:AC,3,FALSE),\"\")","v":""},{"$f":"IFERROR(VLOOKUP(A1332,'1.Портфель кредитів'!A:AC,14,FALSE),\"\")","v":""}]
[null,{"$f":"IFERROR(VLOOKUP(A1333,'1.Портфель кредитів'!A:AC,3,FALSE),\"\")","v":""},{"$f":"IFERROR(VLOOKUP(A1333,'1.Портфель кредитів'!A:AC,14,FALSE),\"\")","v":""}]
[null,{"$f":"IFERROR(VLOOKUP(A1334,'1.Портфель кредитів'!A:AC,3,FALSE),\"\")","v":""},{"$f":"IFERROR(VLOOKUP(A1334,'1.Портфель кредитів'!A:AC,14,FALSE),\"\")","v":""}]
[null,{"$f":"IFERROR(VLOOKUP(A1335,'1.Портфель кредитів'!A:AC,3,FALSE),\"\")","v":""},{"$f":"IFERROR(VLOOKUP(A1335,'1.Портфель кредитів'!A:AC,14,FALSE),\"\")","v":""}]
[null,{"$f":"IFERROR(VLOOKUP(A1336,'1.Портфель кредитів'!A:AC,3,FALSE),\"\")","v":""},{"$f":"IFERROR(VLOOKUP(A1336,'1.Портфель кредитів'!A:AC,14,FALSE),\"\")","v":""}]
[null,{"$f":"IFERROR(VLOOKUP(A1337,'1.Портфель кредитів'!A:AC,3,FALSE),\"\")","v":""},{"$f":"IFERROR(VLOOKUP(A1337,'1.Портфель кредитів'!A:AC,14,FALSE),\"\")","v":""}]
[null,{"$f":"IFERROR(VLOOKUP(A1338,'1.Портфель кредитів'!A:AC,3,FALSE),\"\")","v":""},{"$f":"IFERROR(VLOOKUP(A1338,'1.Портфель кредитів'!A:AC,14,FALSE),\"\")","v":""}]
[null,{"$f":"IFERROR(VLOOKUP(A1339,'1.Портфель кредитів'!A:AC,3,FALSE),\"\")","v":""},{"$f":"IFERROR(VLOOKUP(A1339,'1.Портфель кредитів'!A:AC,14,FALSE),\"\")","v":""}]
[null,{"$f":"IFERROR(VLOOKUP(A1340,'1.Портфель кредитів'!A:AC,3,FALSE),\"\")","v":""},{"$f":"IFERROR(VLOOKUP(A1340,'1.Портфель кредитів'!A:AC,14,FALSE),\"\")","v":""}]
[null,{"$f":"IFERROR(VLOOKUP(A1341,'1.Портфель кредитів'!A:AC,3,FALSE),\"\")","v":""},{"$f":"IFERROR(VLOOKUP(A1341,'1.Портфель кредитів'!A:AC,14,FALSE),\"\")","v":""}]
[null,{"$f":"IFERROR(VLOOKUP(A1342,'1.Портфель кредитів'!A:AC,3,FALSE),\"\")","v":""},{"$f":"IFERROR(VLOOKUP(A1342,'1.Портфель кредитів'!A:AC,14,FALSE),\"\")","v":""}]
[null,{"$f":"IFERROR(VLOOKUP(A1343,'1.Портфель кредитів'!A:AC,3,FALSE),\"\")","v":""},{"$f":"IFERROR(VLOOKUP(A1343,'1.Портфель кредитів'!A:AC,14,FALSE),\"\")","v":""}]
[null,{"$f":"IFERROR(VLOOKUP(A1344,'1.Портфель кредитів'!A:AC,3,FALSE),\"\")","v":""},{"$f":"IFERROR(VLOOKUP(A1344,'1.Портфель кредитів'!A:AC,14,FALSE),\"\")","v":""}]
[null,{"$f":"IFERROR(VLOOKUP(A1345,'1.Портфель кредитів'!A:AC,3,FALSE),\"\")","v":""},{"$f":"IFERROR(VLOOKUP(A1345,'1.Портфель кредитів'!A:AC,14,FALSE),\"\")","v":""}]
[null,{"$f":"IFERROR(VLOOKUP(A1346,'1.Портфель кредитів'!A:AC,3,FALSE),\"\")","v":""},{"$f":"IFERROR(VLOOKUP(A1346,'1.Портфель кредитів'!A:AC,14,FALSE),\"\")","v":""}]
[null,{"$f":"IFERROR(VLOOKUP(A1347,'1.Портфель кредитів'!A:AC,3,FALSE),\"\")","v":""},{"$f":"IFERROR(VLOOKUP(A1347,'1.Портфель кредитів'!A:AC,14,FALSE),\"\")","v":""}]
[null,{"$f":"IFERROR(VLOOKUP(A1348,'1.Портфель кредитів'!A:AC,3,FALSE),\"\")","v":""},{"$f":"IFERROR(VLOOKUP(A1348,'1.Портфель кредитів'!A:AC,14,FALSE),\"\")","v":""}]
[null,{"$f":"IFERROR(VLOOKUP(A1349,'1.Портфель кредитів'!A:AC,3,FALSE),\"\")","v":""},{"$f":"IFERROR(VLOOKUP(A1349,'1.Портфель кредитів'!A:AC,14,FALSE),\"\")","v":""}]
[null,{"$f":"IFERROR(VLOOKUP(A1350,'1.Портфель кредитів'!A:AC,3,FALSE),\"\")","v":""},{"$f":"IFERROR(VLOOKUP(A1350,'1.Портфель кредитів'!A:AC,14,FALSE),\"\")","v":""}]
[null,{"$f":"IFERROR(VLOOKUP(A1351,'1.Портфель кредитів'!A:AC,3,FALSE),\"\")","v":""},{"$f":"IFERROR(VLOOKUP(A1351,'1.Портфель кредитів'!A:AC,14,FALSE),\"\")","v":""}]
[null,{"$f":"IFERROR(VLOOKUP(A1352,'1.Портфель кредитів'!A:AC,3,FALSE),\"\")","v":""},{"$f":"IFERROR(VLOOKUP(A1352,'1.Портфель кредитів'!A:AC,14,FALSE),\"\")","v":""}]
[null,{"$f":"IFERROR(VLOOKUP(A1353,'1.Портфель кредитів'!A:AC,3,FALSE),\"\")","v":""},{"$f":"IFERROR(VLOOKUP(A1353,'1.Портфель кредитів'!A:AC,14,FALSE),\"\")","v":""}]
[null,{"$f":"IFERROR(VLOOKUP(A1354,'1.Портфель кредитів'!A:AC,3,FALSE),\"\")","v":""},{"$f":"IFERROR(VLOOKUP(A1354,'1.Портфель кредитів'!A:AC,14,FALSE),\"\")","v":""}]
[null,{"$f":"IFERROR(VLOOKUP(A1355,'1.Портфель кредитів'!A:AC,3,FALSE),\"\")","v":""},{"$f":"IFERROR(VLOOKUP(A1355,'1.Портфель кредитів'!A:AC,14,FALSE),\"\")","v":""}]
[null,{"$f":"IFERROR(VLOOKUP(A1356,'1.Портфель кредитів'!A:AC,3,FALSE),\"\")","v":""},{"$f":"IFERROR(VLOOKUP(A1356,'1.Портфель кредитів'!A:AC,14,FALSE),\"\")","v":""}]
[null,{"$f":"IFERROR(VLOOKUP(A1357,'1.Портфель кредитів'!A:AC,3,FALSE),\"\")","v":""},{"$f":"IFERROR(VLOOKUP(A1357,'1.Портфель кредитів'!A:AC,14,FALSE),\"\")","v":""}]
[null,{"$f":"IFERROR(VLOOKUP(A1358,'1.Портфель кредитів'!A:AC,3,FALSE),\"\")","v":""},{"$f":"IFERROR(VLOOKUP(A1358,'1.Портфель кредитів'!A:AC,14,FALSE),\"\")","v":""}]
[null,{"$f":"IFERROR(VLOOKUP(A1359,'1.Портфель кредитів'!A:AC,3,FALSE),\"\")","v":""},{"$f":"IFERROR(VLOOKUP(A1359,'1.Портфель кредитів'!A:AC,14,FALSE),\"\")","v":""}]
[null,{"$f":"IFERROR(VLOOKUP(A1360,'1.Портфель кредитів'!A:AC,3,FALSE),\"\")","v":""},{"$f":"IFERROR(VLOOKUP(A1360,'1.Портфель кредитів'!A:AC,14,FALSE),\"\")","v":""}]
[null,{"$f":"IFERROR(VLOOKUP(A1361,'1.Портфель кредитів'!A:AC,3,FALSE),\"\")","v":""},{"$f":"IFERROR(VLOOKUP(A1361,'1.Портфель кредитів'!A:AC,14,FALSE),\"\")","v":""}]
[null,{"$f":"IFERROR(VLOOKUP(A1362,'1.Портфель кредитів'!A:AC,3,FALSE),\"\")","v":""},{"$f":"IFERROR(VLOOKUP(A1362,'1.Портфель кредитів'!A:AC,14,FALSE),\"\")","v":""}]
[null,{"$f":"IFERROR(VLOOKUP(A1363,'1.Портфель кредитів'!A:AC,3,FALSE),\"\")","v":""},{"$f":"IFERROR(VLOOKUP(A1363,'1.Портфель кредитів'!A:AC,14,FALSE),\"\")","v":""}]
[null,{"$f":"IFERROR(VLOOKUP(A1364,'1.Портфель кредитів'!A:AC,3,FALSE),\"\")","v":""},{"$f":"IFERROR(VLOOKUP(A1364,'1.Портфель кредитів'!A:AC,14,FALSE),\"\")","v":""}]
[null,{"$f":"IFERROR(VLOOKUP(A1365,'1.Портфель кредитів'!A:AC,3,FALSE),\"\")","v":""},{"$f":"IFERROR(VLOOKUP(A1365,'1.Портфель кредитів'!A:AC,14,FALSE),\"\")","v":""}]
[null,{"$f":"IFERROR(VLOOKUP(A1366,'1.Портфель кредитів'!A:AC,3,FALSE),\"\")","v":""},{"$f":"IFERROR(VLOOKUP(A1366,'1.Портфель кредитів'!A:AC,14,FALSE),\"\")","v":""}]
[null,{"$f":"IFERROR(VLOOKUP(A1367,'1.Портфель кредитів'!A:AC,3,FALSE),\"\")","v":""},{"$f":"IFERROR(VLOOKUP(A1367,'1.Портфель кредитів'!A:AC,14,FALSE),\"\")","v":""}]
[null,{"$f":"IFERROR(VLOOKUP(A1368,'1.Портфель кредитів'!A:AC,3,FALSE),\"\")","v":""},{"$f":"IFERROR(VLOOKUP(A1368,'1.Портфель кредитів'!A:AC,14,FALSE),\"\")","v":""}]
[null,{"$f":"IFERROR(VLOOKUP(A1369,'1.Портфель кредитів'!A:AC,3,FALSE),\"\")","v":""},{"$f":"IFERROR(VLOOKUP(A1369,'1.Портфель кредитів'!A:AC,14,FALSE),\"\")","v":""}]
[null,{"$f":"IFERROR(VLOOKUP(A1370,'1.Портфель кредитів'!A:AC,3,FALSE),\"\")","v":""},{"$f":"IFERROR(VLOOKUP(A1370,'1.Портфель кредитів'!A:AC,14,FALSE),\"\")","v":""}]
[null,{"$f":"IFERROR(VLOOKUP(A1371,'1.Портфель кредитів'!A:AC,3,FALSE),\"\")","v":""},{"$f":"IFERROR(VLOOKUP(A1371,'1.Портфель кредитів'!A:AC,14,FALSE),\"\")","v":""}]
[null,{"$f":"IFERROR(VLOOKUP(A1372,'1.Портфель кредитів'!A:AC,3,FALSE),\"\")","v":""},{"$f":"IFERROR(VLOOKUP(A1372,'1.Портфель кредитів'!A:AC,14,FALSE),\"\")","v":""}]
[null,{"$f":"IFERROR(VLOOKUP(A1373,'1.Портфель кредитів'!A:AC,3,FALSE),\"\")","v":""},{"$f":"IFERROR(VLOOKUP(A1373,'1.Портфель кредитів'!A:AC,14,FALSE),\"\")","v":""}]
[null,{"$f":"IFERROR(VLOOKUP(A1374,'1.Портфель кредитів'!A:AC,3,FALSE),\"\")","v":""},{"$f":"IFERROR(VLOOKUP(A1374,'1.Портфель кредитів'!A:AC,14,FALSE),\"\")","v":""}]
[null,{"$f":"IFERROR(VLOOKUP(A1375,'1.Портфель кредитів'!A:AC,3,FALSE),\"\")","v":""},{"$f":"IFERROR(VLOOKUP(A1375,'1.Портфель кредитів'!A:AC,14,FALSE),\"\")","v":""}]
[null,{"$f":"IFERROR(VLOOKUP(A1376,'1.Портфель кредитів'!A:AC,3,FALSE),\"\")","v":""},{"$f":"IFERROR(VLOOKUP(A1376,'1.Портфель кредитів'!A:AC,14,FALSE),\"\")","v":""}]
[null,{"$f":"IFERROR(VLOOKUP(A1377,'1.Портфель кредитів'!A:AC,3,FALSE),\"\")","v":""},{"$f":"IFERROR(VLOOKUP(A1377,'1.Портфель кредитів'!A:AC,14,FALSE),\"\")","v":""}]
[null,{"$f":"IFERROR(VLOOKUP(A1378,'1.Портфель кредитів'!A:AC,3,FALSE),\"\")","v":""},{"$f":"IFERROR(VLOOKUP(A1378,'1.Портфель кредитів'!A:AC,14,FALSE),\"\")","v":""}]
[null,{"$f":"IFERROR(VLOOKUP(A1379,'1.Портфель кредитів'!A:AC,3,FALSE),\"\")","v":""},{"$f":"IFERROR(VLOOKUP(A1379,'1.Портфель кредитів'!A:AC,14,FALSE),\"\")","v":""}]
[null,{"$f":"IFERROR(VLOOKUP(A1380,'1.Портфель кредитів'!A:AC,3,FALSE),\"\")","v":""},{"$f":"IFERROR(VLOOKUP(A1380,'1.Портфель кредитів'!A:AC,14,FALSE),\"\")","v":""}]
[null,{"$f":"IFERROR(VLOOKUP(A1381,'1.Портфель кредитів'!A:AC,3,FALSE),\"\")","v":""},{"$f":"IFERROR(VLOOKUP(A1381,'1.Портфель кредитів'!A:AC,14,FALSE),\"\")","v":""}]
[null,{"$f":"IFERROR(VLOOKUP(A1382,'1.Портфель кредитів'!A:AC,3,FALSE),\"\")","v":""},{"$f":"IFERROR(VLOOKUP(A1382,'1.Портфель кредитів'!A:AC,14,FALSE),\"\")","v":""}]
[null,{"$f":"IFERROR(VLOOKUP(A1383,'1.Портфель кредитів'!A:AC,3,FALSE),\"\")","v":""},{"$f":"IFERROR(VLOOKUP(A1383,'1.Портфель кредитів'!A:AC,14,FALSE),\"\")","v":""}]
[null,{"$f":"IFERROR(VLOOKUP(A1384,'1.Портфель кредитів'!A:AC,3,FALSE),\"\")","v":""},{"$f":"IFERROR(VLOOKUP(A1384,'1.Портфель кредитів'!A:AC,14,FALSE),\"\")","v":""}]
[null,{"$f":"IFERROR(VLOOKUP(A1385,'1.Портфель кредитів'!A:AC,3,FALSE),\"\")","v":""},{"$f":"IFERROR(VLOOKUP(A1385,'1.Портфель кредитів'!A:AC,14,FALSE),\"\")","v":""}]
[null,{"$f":"IFERROR(VLOOKUP(A1386,'1.Портфель кредитів'!A:AC,3,FALSE),\"\")","v":""},{"$f":"IFERROR(VLOOKUP(A1386,'1.Портфель кредитів'!A:AC,14,FALSE),\"\")","v":""}]
[null,{"$f":"IFERROR(VLOOKUP(A1387,'1.Портфель кредитів'!A:AC,3,FALSE),\"\")","v":""},{"$f":"IFERROR(VLOOKUP(A1387,'1.Портфель кредитів'!A:AC,14,FALSE),\"\")","v":""}]
[null,{"$f":"IFERROR(VLOOKUP(A1388,'1.Портфель кредитів'!A:AC,3,FALSE),\"\")","v":""},{"$f":"IFERROR(VLOOKUP(A1388,'1.Портфель кредитів'!A:AC,14,FALSE),\"\")","v":""}]
[null,{"$f":"IFERROR(VLOOKUP(A1389,'1.Портфель кредитів'!A:AC,3,FALSE),\"\")","v":""},{"$f":"IFERROR(VLOOKUP(A1389,'1.Портфель кредитів'!A:AC,14,FALSE),\"\")","v":""}]
[null,{"$f":"IFERROR(VLOOKUP(A1390,'1.Портфель кредитів'!A:AC,3,FALSE),\"\")","v":""},{"$f":"IFERROR(VLOOKUP(A1390,'1.Портфель кредитів'!A:AC,14,FALSE),\"\")","v":""}]
[null,{"$f":"IFERROR(VLOOKUP(A1391,'1.Портфель кредитів'!A:AC,3,FALSE),\"\")","v":""},{"$f":"IFERROR(VLOOKUP(A1391,'1.Портфель кредитів'!A:AC,14,FALSE),\"\")","v":""}]
[null,{"$f":"IFERROR(VLOOKUP(A1392,'1.Портфель кредитів'!A:AC,3,FALSE),\"\")","v":""},{"$f":"IFERROR(VLOOKUP(A1392,'1.Портфель кредитів'!A:AC,14,FALSE),\"\")","v":""}]
[null,{"$f":"IFERROR(VLOOKUP(A1393,'1.Портфель кредитів'!A:AC,3,FALSE),\"\")","v":""},{"$f":"IFERROR(VLOOKUP(A1393,'1.Портфель кредитів'!A:AC,14,FALSE),\"\")","v":""}]
[null,{"$f":"IFERROR(VLOOKUP(A1394,'1.Портфель кредитів'!A:AC,3,FALSE),\"\")","v":""},{"$f":"IFERROR(VLOOKUP(A1394,'1.Портфель кредитів'!A:AC,14,FALSE),\"\")","v":""}]
[null,{"$f":"IFERROR(VLOOKUP(A1395,'1.Портфель кредитів'!A:AC,3,FALSE),\"\")","v":""},{"$f":"IFERROR(VLOOKUP(A1395,'1.Портфель кредитів'!A:AC,14,FALSE),\"\")","v":""}]
[null,{"$f":"IFERROR(VLOOKUP(A1396,'1.Портфель кредитів'!A:AC,3,FALSE),\"\")","v":""},{"$f":"IFERROR(VLOOKUP(A1396,'1.Портфель кредитів'!A:AC,14,FALSE),\"\")","v":""}]
[null,{"$f":"IFERROR(VLOOKUP(A1397,'1.Портфель кредитів'!A:AC,3,FALSE),\"\")","v":""},{"$f":"IFERROR(VLOOKUP(A1397,'1.Портфель кредитів'!A:AC,14,FALSE),\"\")","v":""}]
[null,{"$f":"IFERROR(VLOOKUP(A1398,'1.Портфель кредитів'!A:AC,3,FALSE),\"\")","v":""},{"$f":"IFERROR(VLOOKUP(A1398,'1.Портфель кредитів'!A:AC,14,FALSE),\"\")","v":""}]
[null,{"$f":"IFERROR(VLOOKUP(A1399,'1.Портфель кредитів'!A:AC,3,FALSE),\"\")","v":""},{"$f":"IFERROR(VLOOKUP(A1399,'1.Портфель кредитів'!A:AC,14,FALSE),\"\")","v":""}]
[null,{"$f":"IFERROR(VLOOKUP(A1400,'1.Портфель кредитів'!A:AC,3,FALSE),\"\")","v":""},{"$f":"IFERROR(VLOOKUP(A1400,'1.Портфель кредитів'!A:AC,14,FALSE),\"\")","v":""}]
[null,{"$f":"IFERROR(VLOOKUP(A1401,'1.Портфель кредитів'!A:AC,3,FALSE),\"\")","v":""},{"$f":"IFERROR(VLOOKUP(A1401,'1.Портфель кредитів'!A:AC,14,FALSE),\"\")","v":""}]
[null,{"$f":"IFERROR(VLOOKUP(A1402,'1.Портфель кредитів'!A:AC,3,FALSE),\"\")","v":""},{"$f":"IFERROR(VLOOKUP(A1402,'1.Портфель кредитів'!A:AC,14,FALSE),\"\")","v":""}]
[null,{"$f":"IFERROR(VLOOKUP(A1403,'1.Портфель кредитів'!A:AC,3,FALSE),\"\")","v":""},{"$f":"IFERROR(VLOOKUP(A1403,'1.Портфель кредитів'!A:AC,14,FALSE),\"\")","v":""}]
[null,{"$f":"IFERROR(VLOOKUP(A1404,'1.Портфель кредитів'!A:AC,3,FALSE),\"\")","v":""},{"$f":"IFERROR(VLOOKUP(A1404,'1.Портфель кредитів'!A:AC,14,FALSE),\"\")","v":""}]
[null,{"$f":"IFERROR(VLOOKUP(A1405,'1.Портфель кредитів'!A:AC,3,FALSE),\"\")","v":""},{"$f":"IFERROR(VLOOKUP(A1405,'1.Портфель кредитів'!A:AC,14,FALSE),\"\")","v":""}]
[null,{"$f":"IFERROR(VLOOKUP(A1406,'1.Портфель кредитів'!A:AC,3,FALSE),\"\")","v":""},{"$f":"IFERROR(VLOOKUP(A1406,'1.Портфель кредитів'!A:AC,14,FALSE),\"\")","v":""}]
[null,{"$f":"IFERROR(VLOOKUP(A1407,'1.Портфель кредитів'!A:AC,3,FALSE),\"\")","v":""},{"$f":"IFERROR(VLOOKUP(A1407,'1.Портфель кредитів'!A:AC,14,FALSE),\"\")","v":""}]
[null,{"$f":"IFERROR(VLOOKUP(A1408,'1.Портфель кредитів'!A:AC,3,FALSE),\"\")","v":""},{"$f":"IFERROR(VLOOKUP(A1408,'1.Портфель кредитів'!A:AC,14,FALSE),\"\")","v":""}]
[null,{"$f":"IFERROR(VLOOKUP(A1409,'1.Портфель кредитів'!A:AC,3,FALSE),\"\")","v":""},{"$f":"IFERROR(VLOOKUP(A1409,'1.Портфель кредитів'!A:AC,14,FALSE),\"\")","v":""}]
[null,{"$f":"IFERROR(VLOOKUP(A1410,'1.Портфель кредитів'!A:AC,3,FALSE),\"\")","v":""},{"$f":"IFERROR(VLOOKUP(A1410,'1.Портфель кредитів'!A:AC,14,FALSE),\"\")","v":""}]
[null,{"$f":"IFERROR(VLOOKUP(A1411,'1.Портфель кредитів'!A:AC,3,FALSE),\"\")","v":""},{"$f":"IFERROR(VLOOKUP(A1411,'1.Портфель кредитів'!A:AC,14,FALSE),\"\")","v":""}]
[null,{"$f":"IFERROR(VLOOKUP(A1412,'1.Портфель кредитів'!A:AC,3,FALSE),\"\")","v":""},{"$f":"IFERROR(VLOOKUP(A1412,'1.Портфель кредитів'!A:AC,14,FALSE),\"\")","v":""}]
[null,{"$f":"IFERROR(VLOOKUP(A1413,'1.Портфель кредитів'!A:AC,3,FALSE),\"\")","v":""},{"$f":"IFERROR(VLOOKUP(A1413,'1.Портфель кредитів'!A:AC,14,FALSE),\"\")","v":""}]
[null,{"$f":"IFERROR(VLOOKUP(A1414,'1.Портфель кредитів'!A:AC,3,FALSE),\"\")","v":""},{"$f":"IFERROR(VLOOKUP(A1414,'1.Портфель кредитів'!A:AC,14,FALSE),\"\")","v":""}]
[null,{"$f":"IFERROR(VLOOKUP(A1415,'1.Портфель кредитів'!A:AC,3,FALSE),\"\")","v":""},{"$f":"IFERROR(VLOOKUP(A1415,'1.Портфель кредитів'!A:AC,14,FALSE),\"\")","v":""}]
[null,{"$f":"IFERROR(VLOOKUP(A1416,'1.Портфель кредитів'!A:AC,3,FALSE),\"\")","v":""},{"$f":"IFERROR(VLOOKUP(A1416,'1.Портфель кредитів'!A:AC,14,FALSE),\"\")","v":""}]
[null,{"$f":"IFERROR(VLOOKUP(A1417,'1.Портфель кредитів'!A:AC,3,FALSE),\"\")","v":""},{"$f":"IFERROR(VLOOKUP(A1417,'1.Портфель кредитів'!A:AC,14,FALSE),\"\")","v":""}]
[null,{"$f":"IFERROR(VLOOKUP(A1418,'1.Портфель кредитів'!A:AC,3,FALSE),\"\")","v":""},{"$f":"IFERROR(VLOOKUP(A1418,'1.Портфель кредитів'!A:AC,14,FALSE),\"\")","v":""}]
[null,{"$f":"IFERROR(VLOOKUP(A1419,'1.Портфель кредитів'!A:AC,3,FALSE),\"\")","v":""},{"$f":"IFERROR(VLOOKUP(A1419,'1.Портфель кредитів'!A:AC,14,FALSE),\"\")","v":""}]
[null,{"$f":"IFERROR(VLOOKUP(A1420,'1.Портфель кредитів'!A:AC,3,FALSE),\"\")","v":""},{"$f":"IFERROR(VLOOKUP(A1420,'1.Портфель кредитів'!A:AC,14,FALSE),\"\")","v":""}]
[null,{"$f":"IFERROR(VLOOKUP(A1421,'1.Портфель кредитів'!A:AC,3,FALSE),\"\")","v":""},{"$f":"IFERROR(VLOOKUP(A1421,'1.Портфель кредитів'!A:AC,14,FALSE),\"\")","v":""}]
[null,{"$f":"IFERROR(VLOOKUP(A1422,'1.Портфель кредитів'!A:AC,3,FALSE),\"\")","v":""},{"$f":"IFERROR(VLOOKUP(A1422,'1.Портфель кредитів'!A:AC,14,FALSE),\"\")","v":""}]
[null,{"$f":"IFERROR(VLOOKUP(A1423,'1.Портфель кредитів'!A:AC,3,FALSE),\"\")","v":""},{"$f":"IFERROR(VLOOKUP(A1423,'1.Портфель кредитів'!A:AC,14,FALSE),\"\")","v":""}]
[null,{"$f":"IFERROR(VLOOKUP(A1424,'1.Портфель кредитів'!A:AC,3,FALSE),\"\")","v":""},{"$f":"IFERROR(VLOOKUP(A1424,'1.Портфель кредитів'!A:AC,14,FALSE),\"\")","v":""}]
[null,{"$f":"IFERROR(VLOOKUP(A1425,'1.Портфель кредитів'!A:AC,3,FALSE),\"\")","v":""},{"$f":"IFERROR(VLOOKUP(A1425,'1.Портфель кредитів'!A:AC,14,FALSE),\"\")","v":""}]
[null,{"$f":"IFERROR(VLOOKUP(A1426,'1.Портфель кредитів'!A:AC,3,FALSE),\"\")","v":""},{"$f":"IFERROR(VLOOKUP(A1426,'1.Портфель кредитів'!A:AC,14,FALSE),\"\")","v":""}]
[null,{"$f":"IFERROR(VLOOKUP(A1427,'1.Портфель кредитів'!A:AC,3,FALSE),\"\")","v":""},{"$f":"IFERROR(VLOOKUP(A1427,'1.Портфель кредитів'!A:AC,14,FALSE),\"\")","v":""}]
[null,{"$f":"IFERROR(VLOOKUP(A1428,'1.Портфель кредитів'!A:AC,3,FALSE),\"\")","v":""},{"$f":"IFERROR(VLOOKUP(A1428,'1.Портфель кредитів'!A:AC,14,FALSE),\"\")","v":""}]
[null,{"$f":"IFERROR(VLOOKUP(A1429,'1.Портфель кредитів'!A:AC,3,FALSE),\"\")","v":""},{"$f":"IFERROR(VLOOKUP(A1429,'1.Портфель кредитів'!A:AC,14,FALSE),\"\")","v":""}]
[null,{"$f":"IFERROR(VLOOKUP(A1430,'1.Портфель кредитів'!A:AC,3,FALSE),\"\")","v":""},{"$f":"IFERROR(VLOOKUP(A1430,'1.Портфель кредитів'!A:AC,14,FALSE),\"\")","v":""}]
[null,{"$f":"IFERROR(VLOOKUP(A1431,'1.Портфель кредитів'!A:AC,3,FALSE),\"\")","v":""},{"$f":"IFERROR(VLOOKUP(A1431,'1.Портфель кредитів'!A:AC,14,FALSE),\"\")","v":""}]
[null,{"$f":"IFERROR(VLOOKUP(A1432,'1.Портфель кредитів'!A:AC,3,FALSE),\"\")","v":""},{"$f":"IFERROR(VLOOKUP(A1432,'1.Портфель кредитів'!A:AC,14,FALSE),\"\")","v":""}]
[null,{"$f":"IFERROR(VLOOKUP(A1433,'1.Портфель кредитів'!A:AC,3,FALSE),\"\")","v":""},{"$f":"IFERROR(VLOOKUP(A1433,'1.Портфель кредитів'!A:AC,14,FALSE),\"\")","v":""}]
[null,{"$f":"IFERROR(VLOOKUP(A1434,'1.Портфель кредитів'!A:AC,3,FALSE),\"\")","v":""},{"$f":"IFERROR(VLOOKUP(A1434,'1.Портфель кредитів'!A:AC,14,FALSE),\"\")","v":""}]
[null,{"$f":"IFERROR(VLOOKUP(A1435,'1.Портфель кредитів'!A:AC,3,FALSE),\"\")","v":""},{"$f":"IFERROR(VLOOKUP(A1435,'1.Портфель кредитів'!A:AC,14,FALSE),\"\")","v":""}]
[null,{"$f":"IFERROR(VLOOKUP(A1436,'1.Портфель кредитів'!A:AC,3,FALSE),\"\")","v":""},{"$f":"IFERROR(VLOOKUP(A1436,'1.Портфель кредитів'!A:AC,14,FALSE),\"\")","v":""}]
[null,{"$f":"IFERROR(VLOOKUP(A1437,'1.Портфель кредитів'!A:AC,3,FALSE),\"\")","v":""},{"$f":"IFERROR(VLOOKUP(A1437,'1.Портфель кредитів'!A:AC,14,FALSE),\"\")","v":""}]
[null,{"$f":"IFERROR(VLOOKUP(A1438,'1.Портфель кредитів'!A:AC,3,FALSE),\"\")","v":""},{"$f":"IFERROR(VLOOKUP(A1438,'1.Портфель кредитів'!A:AC,14,FALSE),\"\")","v":""}]
[null,{"$f":"IFERROR(VLOOKUP(A1439,'1.Портфель кредитів'!A:AC,3,FALSE),\"\")","v":""},{"$f":"IFERROR(VLOOKUP(A1439,'1.Портфель кредитів'!A:AC,14,FALSE),\"\")","v":""}]
[null,{"$f":"IFERROR(VLOOKUP(A1440,'1.Портфель кредитів'!A:AC,3,FALSE),\"\")","v":""},{"$f":"IFERROR(VLOOKUP(A1440,'1.Портфель кредитів'!A:AC,14,FALSE),\"\")","v":""}]
[null,{"$f":"IFERROR(VLOOKUP(A1441,'1.Портфель кредитів'!A:AC,3,FALSE),\"\")","v":""},{"$f":"IFERROR(VLOOKUP(A1441,'1.Портфель кредитів'!A:AC,14,FALSE),\"\")","v":""}]
[null,{"$f":"IFERROR(VLOOKUP(A1442,'1.Портфель кредитів'!A:AC,3,FALSE),\"\")","v":""},{"$f":"IFERROR(VLOOKUP(A1442,'1.Портфель кредитів'!A:AC,14,FALSE),\"\")","v":""}]
[null,{"$f":"IFERROR(VLOOKUP(A1443,'1.Портфель кредитів'!A:AC,3,FALSE),\"\")","v":""},{"$f":"IFERROR(VLOOKUP(A1443,'1.Портфель кредитів'!A:AC,14,FALSE),\"\")","v":""}]
[null,{"$f":"IFERROR(VLOOKUP(A1444,'1.Портфель кредитів'!A:AC,3,FALSE),\"\")","v":""},{"$f":"IFERROR(VLOOKUP(A1444,'1.Портфель кредитів'!A:AC,14,FALSE),\"\")","v":""}]
[null,{"$f":"IFERROR(VLOOKUP(A1445,'1.Портфель кредитів'!A:AC,3,FALSE),\"\")","v":""},{"$f":"IFERROR(VLOOKUP(A1445,'1.Портфель кредитів'!A:AC,14,FALSE),\"\")","v":""}]
[null,{"$f":"IFERROR(VLOOKUP(A1446,'1.Портфель кредитів'!A:AC,3,FALSE),\"\")","v":""},{"$f":"IFERROR(VLOOKUP(A1446,'1.Портфель кредитів'!A:AC,14,FALSE),\"\")","v":""}]
[null,{"$f":"IFERROR(VLOOKUP(A1447,'1.Портфель кредитів'!A:AC,3,FALSE),\"\")","v":""},{"$f":"IFERROR(VLOOKUP(A1447,'1.Портфель кредитів'!A:AC,14,FALSE),\"\")","v":""}]
[null,{"$f":"IFERROR(VLOOKUP(A1448,'1.Портфель кредитів'!A:AC,3,FALSE),\"\")","v":""},{"$f":"IFERROR(VLOOKUP(A1448,'1.Портфель кредитів'!A:AC,14,FALSE),\"\")","v":""}]
[null,{"$f":"IFERROR(VLOOKUP(A1449,'1.Портфель кредитів'!A:AC,3,FALSE),\"\")","v":""},{"$f":"IFERROR(VLOOKUP(A1449,'1.Портфель кредитів'!A:AC,14,FALSE),\"\")","v":""}]
[null,{"$f":"IFERROR(VLOOKUP(A1450,'1.Портфель кредитів'!A:AC,3,FALSE),\"\")","v":""},{"$f":"IFERROR(VLOOKUP(A1450,'1.Портфель кредитів'!A:AC,14,FALSE),\"\")","v":""}]
[null,{"$f":"IFERROR(VLOOKUP(A1451,'1.Портфель кредитів'!A:AC,3,FALSE),\"\")","v":""},{"$f":"IFERROR(VLOOKUP(A1451,'1.Портфель кредитів'!A:AC,14,FALSE),\"\")","v":""}]
[null,{"$f":"IFERROR(VLOOKUP(A1452,'1.Портфель кредитів'!A:AC,3,FALSE),\"\")","v":""},{"$f":"IFERROR(VLOOKUP(A1452,'1.Портфель кредитів'!A:AC,14,FALSE),\"\")","v":""}]
[null,{"$f":"IFERROR(VLOOKUP(A1453,'1.Портфель кредитів'!A:AC,3,FALSE),\"\")","v":""},{"$f":"IFERROR(VLOOKUP(A1453,'1.Портфель кредитів'!A:AC,14,FALSE),\"\")","v":""}]
[null,{"$f":"IFERROR(VLOOKUP(A1454,'1.Портфель кредитів'!A:AC,3,FALSE),\"\")","v":""},{"$f":"IFERROR(VLOOKUP(A1454,'1.Портфель кредитів'!A:AC,14,FALSE),\"\")","v":""}]
[null,{"$f":"IFERROR(VLOOKUP(A1455,'1.Портфель кредитів'!A:AC,3,FALSE),\"\")","v":""},{"$f":"IFERROR(VLOOKUP(A1455,'1.Портфель кредитів'!A:AC,14,FALSE),\"\")","v":""}]
[null,{"$f":"IFERROR(VLOOKUP(A1456,'1.Портфель кредитів'!A:AC,3,FALSE),\"\")","v":""},{"$f":"IFERROR(VLOOKUP(A1456,'1.Портфель кредитів'!A:AC,14,FALSE),\"\")","v":""}]
[null,{"$f":"IFERROR(VLOOKUP(A1457,'1.Портфель кредитів'!A:AC,3,FALSE),\"\")","v":""},{"$f":"IFERROR(VLOOKUP(A1457,'1.Портфель кредитів'!A:AC,14,FALSE),\"\")","v":""}]
[null,{"$f":"IFERROR(VLOOKUP(A1458,'1.Портфель кредитів'!A:AC,3,FALSE),\"\")","v":""},{"$f":"IFERROR(VLOOKUP(A1458,'1.Портфель кредитів'!A:AC,14,FALSE),\"\")","v":""}]
[null,{"$f":"IFERROR(VLOOKUP(A1459,'1.Портфель кредитів'!A:AC,3,FALSE),\"\")","v":""},{"$f":"IFERROR(VLOOKUP(A1459,'1.Портфель кредитів'!A:AC,14,FALSE),\"\")","v":""}]
[null,{"$f":"IFERROR(VLOOKUP(A1460,'1.Портфель кредитів'!A:AC,3,FALSE),\"\")","v":""},{"$f":"IFERROR(VLOOKUP(A1460,'1.Портфель кредитів'!A:AC,14,FALSE),\"\")","v":""}]
[null,{"$f":"IFERROR(VLOOKUP(A1461,'1.Портфель кредитів'!A:AC,3,FALSE),\"\")","v":""},{"$f":"IFERROR(VLOOKUP(A1461,'1.Портфель кредитів'!A:AC,14,FALSE),\"\")","v":""}]
[null,{"$f":"IFERROR(VLOOKUP(A1462,'1.Портфель кредитів'!A:AC,3,FALSE),\"\")","v":""},{"$f":"IFERROR(VLOOKUP(A1462,'1.Портфель кредитів'!A:AC,14,FALSE),\"\")","v":""}]
[null,{"$f":"IFERROR(VLOOKUP(A1463,'1.Портфель кредитів'!A:AC,3,FALSE),\"\")","v":""},{"$f":"IFERROR(VLOOKUP(A1463,'1.Портфель кредитів'!A:AC,14,FALSE),\"\")","v":""}]
[null,{"$f":"IFERROR(VLOOKUP(A1464,'1.Портфель кредитів'!A:AC,3,FALSE),\"\")","v":""},{"$f":"IFERROR(VLOOKUP(A1464,'1.Портфель кредитів'!A:AC,14,FALSE),\"\")","v":""}]
[null,{"$f":"IFERROR(VLOOKUP(A1465,'1.Портфель кредитів'!A:AC,3,FALSE),\"\")","v":""},{"$f":"IFERROR(VLOOKUP(A1465,'1.Портфель кредитів'!A:AC,14,FALSE),\"\")","v":""}]
[null,{"$f":"IFERROR(VLOOKUP(A1466,'1.Портфель кредитів'!A:AC,3,FALSE),\"\")","v":""},{"$f":"IFERROR(VLOOKUP(A1466,'1.Портфель кредитів'!A:AC,14,FALSE),\"\")","v":""}]
[null,{"$f":"IFERROR(VLOOKUP(A1467,'1.Портфель кредитів'!A:AC,3,FALSE),\"\")","v":""},{"$f":"IFERROR(VLOOKUP(A1467,'1.Портфель кредитів'!A:AC,14,FALSE),\"\")","v":""}]
[null,{"$f":"IFERROR(VLOOKUP(A1468,'1.Портфель кредитів'!A:AC,3,FALSE),\"\")","v":""},{"$f":"IFERROR(VLOOKUP(A1468,'1.Портфель кредитів'!A:AC,14,FALSE),\"\")","v":""}]
[null,{"$f":"IFERROR(VLOOKUP(A1469,'1.Портфель кредитів'!A:AC,3,FALSE),\"\")","v":""},{"$f":"IFERROR(VLOOKUP(A1469,'1.Портфель кредитів'!A:AC,14,FALSE),\"\")","v":""}]
[null,{"$f":"IFERROR(VLOOKUP(A1470,'1.Портфель кредитів'!A:AC,3,FALSE),\"\")","v":""},{"$f":"IFERROR(VLOOKUP(A1470,'1.Портфель кредитів'!A:AC,14,FALSE),\"\")","v":""}]
[null,{"$f":"IFERROR(VLOOKUP(A1471,'1.Портфель кредитів'!A:AC,3,FALSE),\"\")","v":""},{"$f":"IFERROR(VLOOKUP(A1471,'1.Портфель кредитів'!A:AC,14,FALSE),\"\")","v":""}]
[null,{"$f":"IFERROR(VLOOKUP(A1472,'1.Портфель кредитів'!A:AC,3,FALSE),\"\")","v":""},{"$f":"IFERROR(VLOOKUP(A1472,'1.Портфель кредитів'!A:AC,14,FALSE),\"\")","v":""}]
[null,{"$f":"IFERROR(VLOOKUP(A1473,'1.Портфель кредитів'!A:AC,3,FALSE),\"\")","v":""},{"$f":"IFERROR(VLOOKUP(A1473,'1.Портфель кредитів'!A:AC,14,FALSE),\"\")","v":""}]
[null,{"$f":"IFERROR(VLOOKUP(A1474,'1.Портфель кредитів'!A:AC,3,FALSE),\"\")","v":""},{"$f":"IFERROR(VLOOKUP(A1474,'1.Портфель кредитів'!A:AC,14,FALSE),\"\")","v":""}]
[null,{"$f":"IFERROR(VLOOKUP(A1475,'1.Портфель кредитів'!A:AC,3,FALSE),\"\")","v":""},{"$f":"IFERROR(VLOOKUP(A1475,'1.Портфель кредитів'!A:AC,14,FALSE),\"\")","v":""}]
[null,{"$f":"IFERROR(VLOOKUP(A1476,'1.Портфель кредитів'!A:AC,3,FALSE),\"\")","v":""},{"$f":"IFERROR(VLOOKUP(A1476,'1.Портфель кредитів'!A:AC,14,FALSE),\"\")","v":""}]
[null,{"$f":"IFERROR(VLOOKUP(A1477,'1.Портфель кредитів'!A:AC,3,FALSE),\"\")","v":""},{"$f":"IFERROR(VLOOKUP(A1477,'1.Портфель кредитів'!A:AC,14,FALSE),\"\")","v":""}]
[null,{"$f":"IFERROR(VLOOKUP(A1478,'1.Портфель кредитів'!A:AC,3,FALSE),\"\")","v":""},{"$f":"IFERROR(VLOOKUP(A1478,'1.Портфель кредитів'!A:AC,14,FALSE),\"\")","v":""}]
[null,{"$f":"IFERROR(VLOOKUP(A1479,'1.Портфель кредитів'!A:AC,3,FALSE),\"\")","v":""},{"$f":"IFERROR(VLOOKUP(A1479,'1.Портфель кредитів'!A:AC,14,FALSE),\"\")","v":""}]
[null,{"$f":"IFERROR(VLOOKUP(A1480,'1.Портфель кредитів'!A:AC,3,FALSE),\"\")","v":""},{"$f":"IFERROR(VLOOKUP(A1480,'1.Портфель кредитів'!A:AC,14,FALSE),\"\")","v":""}]
[null,{"$f":"IFERROR(VLOOKUP(A1481,'1.Портфель кредитів'!A:AC,3,FALSE),\"\")","v":""},{"$f":"IFERROR(VLOOKUP(A1481,'1.Портфель кредитів'!A:AC,14,FALSE),\"\")","v":""}]
[null,{"$f":"IFERROR(VLOOKUP(A1482,'1.Портфель кредитів'!A:AC,3,FALSE),\"\")","v":""},{"$f":"IFERROR(VLOOKUP(A1482,'1.Портфель кредитів'!A:AC,14,FALSE),\"\")","v":""}]
[null,{"$f":"IFERROR(VLOOKUP(A1483,'1.Портфель кредитів'!A:AC,3,FALSE),\"\")","v":""},{"$f":"IFERROR(VLOOKUP(A1483,'1.Портфель кредитів'!A:AC,14,FALSE),\"\")","v":""}]
[null,{"$f":"IFERROR(VLOOKUP(A1484,'1.Портфель кредитів'!A:AC,3,FALSE),\"\")","v":""},{"$f":"IFERROR(VLOOKUP(A1484,'1.Портфель кредитів'!A:AC,14,FALSE),\"\")","v":""}]
[null,{"$f":"IFERROR(VLOOKUP(A1485,'1.Портфель кредитів'!A:AC,3,FALSE),\"\")","v":""},{"$f":"IFERROR(VLOOKUP(A1485,'1.Портфель кредитів'!A:AC,14,FALSE),\"\")","v":""}]
[null,{"$f":"IFERROR(VLOOKUP(A1486,'1.Портфель кредитів'!A:AC,3,FALSE),\"\")","v":""},{"$f":"IFERROR(VLOOKUP(A1486,'1.Портфель кредитів'!A:AC,14,FALSE),\"\")","v":""}]
[null,{"$f":"IFERROR(VLOOKUP(A1487,'1.Портфель кредитів'!A:AC,3,FALSE),\"\")","v":""},{"$f":"IFERROR(VLOOKUP(A1487,'1.Портфель кредитів'!A:AC,14,FALSE),\"\")","v":""}]
[null,{"$f":"IFERROR(VLOOKUP(A1488,'1.Портфель кредитів'!A:AC,3,FALSE),\"\")","v":""},{"$f":"IFERROR(VLOOKUP(A1488,'1.Портфель кредитів'!A:AC,14,FALSE),\"\")","v":""}]
[null,{"$f":"IFERROR(VLOOKUP(A1489,'1.Портфель кредитів'!A:AC,3,FALSE),\"\")","v":""},{"$f":"IFERROR(VLOOKUP(A1489,'1.Портфель кредитів'!A:AC,14,FALSE),\"\")","v":""}]
[null,{"$f":"IFERROR(VLOOKUP(A1490,'1.Портфель кредитів'!A:AC,3,FALSE),\"\")","v":""},{"$f":"IFERROR(VLOOKUP(A1490,'1.Портфель кредитів'!A:AC,14,FALSE),\"\")","v":""}]
[null,{"$f":"IFERROR(VLOOKUP(A1491,'1.Портфель кредитів'!A:AC,3,FALSE),\"\")","v":""},{"$f":"IFERROR(VLOOKUP(A1491,'1.Портфель кредитів'!A:AC,14,FALSE),\"\")","v":""}]
[null,{"$f":"IFERROR(VLOOKUP(A1492,'1.Портфель кредитів'!A:AC,3,FALSE),\"\")","v":""},{"$f":"IFERROR(VLOOKUP(A1492,'1.Портфель кредитів'!A:AC,14,FALSE),\"\")","v":""}]
[null,{"$f":"IFERROR(VLOOKUP(A1493,'1.Портфель кредитів'!A:AC,3,FALSE),\"\")","v":""},{"$f":"IFERROR(VLOOKUP(A1493,'1.Портфель кредитів'!A:AC,14,FALSE),\"\")","v":""}]
[null,{"$f":"IFERROR(VLOOKUP(A1494,'1.Портфель кредитів'!A:AC,3,FALSE),\"\")","v":""},{"$f":"IFERROR(VLOOKUP(A1494,'1.Портфель кредитів'!A:AC,14,FALSE),\"\")","v":""}]
[null,{"$f":"IFERROR(VLOOKUP(A1495,'1.Портфель кредитів'!A:AC,3,FALSE),\"\")","v":""},{"$f":"IFERROR(VLOOKUP(A1495,'1.Портфель кредитів'!A:AC,14,FALSE),\"\")","v":""}]
[null,{"$f":"IFERROR(VLOOKUP(A1496,'1.Портфель кредитів'!A:AC,3,FALSE),\"\")","v":""},{"$f":"IFERROR(VLOOKUP(A1496,'1.Портфель кредитів'!A:AC,14,FALSE),\"\")","v":""}]
[null,{"$f":"IFERROR(VLOOKUP(A1497,'1.Портфель кредитів'!A:AC,3,FALSE),\"\")","v":""},{"$f":"IFERROR(VLOOKUP(A1497,'1.Портфель кредитів'!A:AC,14,FALSE),\"\")","v":""}]
[null,{"$f":"IFERROR(VLOOKUP(A1498,'1.Портфель кредитів'!A:AC,3,FALSE),\"\")","v":""},{"$f":"IFERROR(VLOOKUP(A1498,'1.Портфель кредитів'!A:AC,14,FALSE),\"\")","v":""}]
[null,{"$f":"IFERROR(VLOOKUP(A1499,'1.Портфель кредитів'!A:AC,3,FALSE),\"\")","v":""},{"$f":"IFERROR(VLOOKUP(A1499,'1.Портфель кредитів'!A:AC,14,FALSE),\"\")","v":""}]
[null,{"$f":"IFERROR(VLOOKUP(A1500,'1.Портфель кредитів'!A:AC,3,FALSE),\"\")","v":""},{"$f":"IFERROR(VLOOKUP(A1500,'1.Портфель кредитів'!A:AC,14,FALSE),\"\")","v":""}]
[null,{"$f":"IFERROR(VLOOKUP(A1501,'1.Портфель кредитів'!A:AC,3,FALSE),\"\")","v":""},{"$f":"IFERROR(VLOOKUP(A1501,'1.Портфель кредитів'!A:AC,14,FALSE),\"\")","v":""}]
[null,{"$f":"IFERROR(VLOOKUP(A1502,'1.Портфель кредитів'!A:AC,3,FALSE),\"\")","v":""},{"$f":"IFERROR(VLOOKUP(A1502,'1.Портфель кредитів'!A:AC,14,FALSE),\"\")","v":""}]
[null,{"$f":"IFERROR(VLOOKUP(A1503,'1.Портфель кредитів'!A:AC,3,FALSE),\"\")","v":""},{"$f":"IFERROR(VLOOKUP(A1503,'1.Портфель кредитів'!A:AC,14,FALSE),\"\")","v":""}]
[null,{"$f":"IFERROR(VLOOKUP(A1504,'1.Портфель кредитів'!A:AC,3,FALSE),\"\")","v":""},{"$f":"IFERROR(VLOOKUP(A1504,'1.Портфель кредитів'!A:AC,14,FALSE),\"\")","v":""}]
[null,{"$f":"IFERROR(VLOOKUP(A1505,'1.Портфель кредитів'!A:AC,3,FALSE),\"\")","v":""},{"$f":"IFERROR(VLOOKUP(A1505,'1.Портфель кредитів'!A:AC,14,FALSE),\"\")","v":""}]
[null,{"$f":"IFERROR(VLOOKUP(A1506,'1.Портфель кредитів'!A:AC,3,FALSE),\"\")","v":""},{"$f":"IFERROR(VLOOKUP(A1506,'1.Портфель кредитів'!A:AC,14,FALSE),\"\")","v":""}]
[null,{"$f":"IFERROR(VLOOKUP(A1507,'1.Портфель кредитів'!A:AC,3,FALSE),\"\")","v":""},{"$f":"IFERROR(VLOOKUP(A1507,'1.Портфель кредитів'!A:AC,14,FALSE),\"\")","v":""}]
[null,{"$f":"IFERROR(VLOOKUP(A1508,'1.Портфель кредитів'!A:AC,3,FALSE),\"\")","v":""},{"$f":"IFERROR(VLOOKUP(A1508,'1.Портфель кредитів'!A:AC,14,FALSE),\"\")","v":""}]
[null,{"$f":"IFERROR(VLOOKUP(A1509,'1.Портфель кредитів'!A:AC,3,FALSE),\"\")","v":""},{"$f":"IFERROR(VLOOKUP(A1509,'1.Портфель кредитів'!A:AC,14,FALSE),\"\")","v":""}]
[null,{"$f":"IFERROR(VLOOKUP(A1510,'1.Портфель кредитів'!A:AC,3,FALSE),\"\")","v":""},{"$f":"IFERROR(VLOOKUP(A1510,'1.Портфель кредитів'!A:AC,14,FALSE),\"\")","v":""}]
[null,{"$f":"IFERROR(VLOOKUP(A1511,'1.Портфель кредитів'!A:AC,3,FALSE),\"\")","v":""},{"$f":"IFERROR(VLOOKUP(A1511,'1.Портфель кредитів'!A:AC,14,FALSE),\"\")","v":""}]
[null,{"$f":"IFERROR(VLOOKUP(A1512,'1.Портфель кредитів'!A:AC,3,FALSE),\"\")","v":""},{"$f":"IFERROR(VLOOKUP(A1512,'1.Портфель кредитів'!A:AC,14,FALSE),\"\")","v":""}]
[null,{"$f":"IFERROR(VLOOKUP(A1513,'1.Портфель кредитів'!A:AC,3,FALSE),\"\")","v":""},{"$f":"IFERROR(VLOOKUP(A1513,'1.Портфель кредитів'!A:AC,14,FALSE),\"\")","v":""}]
[null,{"$f":"IFERROR(VLOOKUP(A1514,'1.Портфель кредитів'!A:AC,3,FALSE),\"\")","v":""},{"$f":"IFERROR(VLOOKUP(A1514,'1.Портфель кредитів'!A:AC,14,FALSE),\"\")","v":""}]
[null,{"$f":"IFERROR(VLOOKUP(A1515,'1.Портфель кредитів'!A:AC,3,FALSE),\"\")","v":""},{"$f":"IFERROR(VLOOKUP(A1515,'1.Портфель кредитів'!A:AC,14,FALSE),\"\")","v":""}]
[null,{"$f":"IFERROR(VLOOKUP(A1516,'1.Портфель кредитів'!A:AC,3,FALSE),\"\")","v":""},{"$f":"IFERROR(VLOOKUP(A1516,'1.Портфель кредитів'!A:AC,14,FALSE),\"\")","v":""}]
[null,{"$f":"IFERROR(VLOOKUP(A1517,'1.Портфель кредитів'!A:AC,3,FALSE),\"\")","v":""},{"$f":"IFERROR(VLOOKUP(A1517,'1.Портфель кредитів'!A:AC,14,FALSE),\"\")","v":""}]
[null,{"$f":"IFERROR(VLOOKUP(A1518,'1.Портфель кредитів'!A:AC,3,FALSE),\"\")","v":""},{"$f":"IFERROR(VLOOKUP(A1518,'1.Портфель кредитів'!A:AC,14,FALSE),\"\")","v":""}]
[null,{"$f":"IFERROR(VLOOKUP(A1519,'1.Портфель кредитів'!A:AC,3,FALSE),\"\")","v":""},{"$f":"IFERROR(VLOOKUP(A1519,'1.Портфель кредитів'!A:AC,14,FALSE),\"\")","v":""}]
[null,{"$f":"IFERROR(VLOOKUP(A1520,'1.Портфель кредитів'!A:AC,3,FALSE),\"\")","v":""},{"$f":"IFERROR(VLOOKUP(A1520,'1.Портфель кредитів'!A:AC,14,FALSE),\"\")","v":""}]
[null,{"$f":"IFERROR(VLOOKUP(A1521,'1.Портфель кредитів'!A:AC,3,FALSE),\"\")","v":""},{"$f":"IFERROR(VLOOKUP(A1521,'1.Портфель кредитів'!A:AC,14,FALSE),\"\")","v":""}]
[null,{"$f":"IFERROR(VLOOKUP(A1522,'1.Портфель кредитів'!A:AC,3,FALSE),\"\")","v":""},{"$f":"IFERROR(VLOOKUP(A1522,'1.Портфель кредитів'!A:AC,14,FALSE),\"\")","v":""}]
[null,{"$f":"IFERROR(VLOOKUP(A1523,'1.Портфель кредитів'!A:AC,3,FALSE),\"\")","v":""},{"$f":"IFERROR(VLOOKUP(A1523,'1.Портфель кредитів'!A:AC,14,FALSE),\"\")","v":""}]
[null,{"$f":"IFERROR(VLOOKUP(A1524,'1.Портфель кредитів'!A:AC,3,FALSE),\"\")","v":""},{"$f":"IFERROR(VLOOKUP(A1524,'1.Портфель кредитів'!A:AC,14,FALSE),\"\")","v":""}]
[null,{"$f":"IFERROR(VLOOKUP(A1525,'1.Портфель кредитів'!A:AC,3,FALSE),\"\")","v":""},{"$f":"IFERROR(VLOOKUP(A1525,'1.Портфель кредитів'!A:AC,14,FALSE),\"\")","v":""}]
[null,{"$f":"IFERROR(VLOOKUP(A1526,'1.Портфель кредитів'!A:AC,3,FALSE),\"\")","v":""},{"$f":"IFERROR(VLOOKUP(A1526,'1.Портфель кредитів'!A:AC,14,FALSE),\"\")","v":""}]
[null,{"$f":"IFERROR(VLOOKUP(A1527,'1.Портфель кредитів'!A:AC,3,FALSE),\"\")","v":""},{"$f":"IFERROR(VLOOKUP(A1527,'1.Портфель кредитів'!A:AC,14,FALSE),\"\")","v":""}]
[null,{"$f":"IFERROR(VLOOKUP(A1528,'1.Портфель кредитів'!A:AC,3,FALSE),\"\")","v":""},{"$f":"IFERROR(VLOOKUP(A1528,'1.Портфель кредитів'!A:AC,14,FALSE),\"\")","v":""}]
[null,{"$f":"IFERROR(VLOOKUP(A1529,'1.Портфель кредитів'!A:AC,3,FALSE),\"\")","v":""},{"$f":"IFERROR(VLOOKUP(A1529,'1.Портфель кредитів'!A:AC,14,FALSE),\"\")","v":""}]
[null,{"$f":"IFERROR(VLOOKUP(A1530,'1.Портфель кредитів'!A:AC,3,FALSE),\"\")","v":""},{"$f":"IFERROR(VLOOKUP(A1530,'1.Портфель кредитів'!A:AC,14,FALSE),\"\")","v":""}]
[null,{"$f":"IFERROR(VLOOKUP(A1531,'1.Портфель кредитів'!A:AC,3,FALSE),\"\")","v":""},{"$f":"IFERROR(VLOOKUP(A1531,'1.Портфель кредитів'!A:AC,14,FALSE),\"\")","v":""}]
[null,{"$f":"IFERROR(VLOOKUP(A1532,'1.Портфель кредитів'!A:AC,3,FALSE),\"\")","v":""},{"$f":"IFERROR(VLOOKUP(A1532,'1.Портфель кредитів'!A:AC,14,FALSE),\"\")","v":""}]
[null,{"$f":"IFERROR(VLOOKUP(A1533,'1.Портфель кредитів'!A:AC,3,FALSE),\"\")","v":""},{"$f":"IFERROR(VLOOKUP(A1533,'1.Портфель кредитів'!A:AC,14,FALSE),\"\")","v":""}]
[null,{"$f":"IFERROR(VLOOKUP(A1534,'1.Портфель кредитів'!A:AC,3,FALSE),\"\")","v":""},{"$f":"IFERROR(VLOOKUP(A1534,'1.Портфель кредитів'!A:AC,14,FALSE),\"\")","v":""}]
[null,{"$f":"IFERROR(VLOOKUP(A1535,'1.Портфель кредитів'!A:AC,3,FALSE),\"\")","v":""},{"$f":"IFERROR(VLOOKUP(A1535,'1.Портфель кредитів'!A:AC,14,FALSE),\"\")","v":""}]
[null,{"$f":"IFERROR(VLOOKUP(A1536,'1.Портфель кредитів'!A:AC,3,FALSE),\"\")","v":""},{"$f":"IFERROR(VLOOKUP(A1536,'1.Портфель кредитів'!A:AC,14,FALSE),\"\")","v":""}]
[null,{"$f":"IFERROR(VLOOKUP(A1537,'1.Портфель кредитів'!A:AC,3,FALSE),\"\")","v":""},{"$f":"IFERROR(VLOOKUP(A1537,'1.Портфель кредитів'!A:AC,14,FALSE),\"\")","v":""}]
[null,{"$f":"IFERROR(VLOOKUP(A1538,'1.Портфель кредитів'!A:AC,3,FALSE),\"\")","v":""},{"$f":"IFERROR(VLOOKUP(A1538,'1.Портфель кредитів'!A:AC,14,FALSE),\"\")","v":""}]
[null,{"$f":"IFERROR(VLOOKUP(A1539,'1.Портфель кредитів'!A:AC,3,FALSE),\"\")","v":""},{"$f":"IFERROR(VLOOKUP(A1539,'1.Портфель кредитів'!A:AC,14,FALSE),\"\")","v":""}]
[null,{"$f":"IFERROR(VLOOKUP(A1540,'1.Портфель кредитів'!A:AC,3,FALSE),\"\")","v":""},{"$f":"IFERROR(VLOOKUP(A1540,'1.Портфель кредитів'!A:AC,14,FALSE),\"\")","v":""}]
[null,{"$f":"IFERROR(VLOOKUP(A1541,'1.Портфель кредитів'!A:AC,3,FALSE),\"\")","v":""},{"$f":"IFERROR(VLOOKUP(A1541,'1.Портфель кредитів'!A:AC,14,FALSE),\"\")","v":""}]
[null,{"$f":"IFERROR(VLOOKUP(A1542,'1.Портфель кредитів'!A:AC,3,FALSE),\"\")","v":""},{"$f":"IFERROR(VLOOKUP(A1542,'1.Портфель кредитів'!A:AC,14,FALSE),\"\")","v":""}]
[null,{"$f":"IFERROR(VLOOKUP(A1543,'1.Портфель кредитів'!A:AC,3,FALSE),\"\")","v":""},{"$f":"IFERROR(VLOOKUP(A1543,'1.Портфель кредитів'!A:AC,14,FALSE),\"\")","v":""}]
[null,{"$f":"IFERROR(VLOOKUP(A1544,'1.Портфель кредитів'!A:AC,3,FALSE),\"\")","v":""},{"$f":"IFERROR(VLOOKUP(A1544,'1.Портфель кредитів'!A:AC,14,FALSE),\"\")","v":""}]
[null,{"$f":"IFERROR(VLOOKUP(A1545,'1.Портфель кредитів'!A:AC,3,FALSE),\"\")","v":""},{"$f":"IFERROR(VLOOKUP(A1545,'1.Портфель кредитів'!A:AC,14,FALSE),\"\")","v":""}]
[null,{"$f":"IFERROR(VLOOKUP(A1546,'1.Портфель кредитів'!A:AC,3,FALSE),\"\")","v":""},{"$f":"IFERROR(VLOOKUP(A1546,'1.Портфель кредитів'!A:AC,14,FALSE),\"\")","v":""}]
[null,{"$f":"IFERROR(VLOOKUP(A1547,'1.Портфель кредитів'!A:AC,3,FALSE),\"\")","v":""},{"$f":"IFERROR(VLOOKUP(A1547,'1.Портфель кредитів'!A:AC,14,FALSE),\"\")","v":""}]
[null,{"$f":"IFERROR(VLOOKUP(A1548,'1.Портфель кредитів'!A:AC,3,FALSE),\"\")","v":""},{"$f":"IFERROR(VLOOKUP(A1548,'1.Портфель кредитів'!A:AC,14,FALSE),\"\")","v":""}]
[null,{"$f":"IFERROR(VLOOKUP(A1549,'1.Портфель кредитів'!A:AC,3,FALSE),\"\")","v":""},{"$f":"IFERROR(VLOOKUP(A1549,'1.Портфель кредитів'!A:AC,14,FALSE),\"\")","v":""}]
[null,{"$f":"IFERROR(VLOOKUP(A1550,'1.Портфель кредитів'!A:AC,3,FALSE),\"\")","v":""},{"$f":"IFERROR(VLOOKUP(A1550,'1.Портфель кредитів'!A:AC,14,FALSE),\"\")","v":""}]
[null,{"$f":"IFERROR(VLOOKUP(A1551,'1.Портфель кредитів'!A:AC,3,FALSE),\"\")","v":""},{"$f":"IFERROR(VLOOKUP(A1551,'1.Портфель кредитів'!A:AC,14,FALSE),\"\")","v":""}]
[null,{"$f":"IFERROR(VLOOKUP(A1552,'1.Портфель кредитів'!A:AC,3,FALSE),\"\")","v":""},{"$f":"IFERROR(VLOOKUP(A1552,'1.Портфель кредитів'!A:AC,14,FALSE),\"\")","v":""}]
[null,{"$f":"IFERROR(VLOOKUP(A1553,'1.Портфель кредитів'!A:AC,3,FALSE),\"\")","v":""},{"$f":"IFERROR(VLOOKUP(A1553,'1.Портфель кредитів'!A:AC,14,FALSE),\"\")","v":""}]
[null,{"$f":"IFERROR(VLOOKUP(A1554,'1.Портфель кредитів'!A:AC,3,FALSE),\"\")","v":""},{"$f":"IFERROR(VLOOKUP(A1554,'1.Портфель кредитів'!A:AC,14,FALSE),\"\")","v":""}]
[null,{"$f":"IFERROR(VLOOKUP(A1555,'1.Портфель кредитів'!A:AC,3,FALSE),\"\")","v":""},{"$f":"IFERROR(VLOOKUP(A1555,'1.Портфель кредитів'!A:AC,14,FALSE),\"\")","v":""}]
[null,{"$f":"IFERROR(VLOOKUP(A1556,'1.Портфель кредитів'!A:AC,3,FALSE),\"\")","v":""},{"$f":"IFERROR(VLOOKUP(A1556,'1.Портфель кредитів'!A:AC,14,FALSE),\"\")","v":""}]
[null,{"$f":"IFERROR(VLOOKUP(A1557,'1.Портфель кредитів'!A:AC,3,FALSE),\"\")","v":""},{"$f":"IFERROR(VLOOKUP(A1557,'1.Портфель кредитів'!A:AC,14,FALSE),\"\")","v":""}]
[null,{"$f":"IFERROR(VLOOKUP(A1558,'1.Портфель кредитів'!A:AC,3,FALSE),\"\")","v":""},{"$f":"IFERROR(VLOOKUP(A1558,'1.Портфель кредитів'!A:AC,14,FALSE),\"\")","v":""}]
[null,{"$f":"IFERROR(VLOOKUP(A1559,'1.Портфель кредитів'!A:AC,3,FALSE),\"\")","v":""},{"$f":"IFERROR(VLOOKUP(A1559,'1.Портфель кредитів'!A:AC,14,FALSE),\"\")","v":""}]
[null,{"$f":"IFERROR(VLOOKUP(A1560,'1.Портфель кредитів'!A:AC,3,FALSE),\"\")","v":""},{"$f":"IFERROR(VLOOKUP(A1560,'1.Портфель кредитів'!A:AC,14,FALSE),\"\")","v":""}]
[null,{"$f":"IFERROR(VLOOKUP(A1561,'1.Портфель кредитів'!A:AC,3,FALSE),\"\")","v":""},{"$f":"IFERROR(VLOOKUP(A1561,'1.Портфель кредитів'!A:AC,14,FALSE),\"\")","v":""}]
[null,{"$f":"IFERROR(VLOOKUP(A1562,'1.Портфель кредитів'!A:AC,3,FALSE),\"\")","v":""},{"$f":"IFERROR(VLOOKUP(A1562,'1.Портфель кредитів'!A:AC,14,FALSE),\"\")","v":""}]
[null,{"$f":"IFERROR(VLOOKUP(A1563,'1.Портфель кредитів'!A:AC,3,FALSE),\"\")","v":""},{"$f":"IFERROR(VLOOKUP(A1563,'1.Портфель кредитів'!A:AC,14,FALSE),\"\")","v":""}]
[null,{"$f":"IFERROR(VLOOKUP(A1564,'1.Портфель кредитів'!A:AC,3,FALSE),\"\")","v":""},{"$f":"IFERROR(VLOOKUP(A1564,'1.Портфель кредитів'!A:AC,14,FALSE),\"\")","v":""}]
[null,{"$f":"IFERROR(VLOOKUP(A1565,'1.Портфель кредитів'!A:AC,3,FALSE),\"\")","v":""},{"$f":"IFERROR(VLOOKUP(A1565,'1.Портфель кредитів'!A:AC,14,FALSE),\"\")","v":""}]
[null,{"$f":"IFERROR(VLOOKUP(A1566,'1.Портфель кредитів'!A:AC,3,FALSE),\"\")","v":""},{"$f":"IFERROR(VLOOKUP(A1566,'1.Портфель кредитів'!A:AC,14,FALSE),\"\")","v":""}]
[null,{"$f":"IFERROR(VLOOKUP(A1567,'1.Портфель кредитів'!A:AC,3,FALSE),\"\")","v":""},{"$f":"IFERROR(VLOOKUP(A1567,'1.Портфель кредитів'!A:AC,14,FALSE),\"\")","v":""}]
[null,{"$f":"IFERROR(VLOOKUP(A1568,'1.Портфель кредитів'!A:AC,3,FALSE),\"\")","v":""},{"$f":"IFERROR(VLOOKUP(A1568,'1.Портфель кредитів'!A:AC,14,FALSE),\"\")","v":""}]
[null,{"$f":"IFERROR(VLOOKUP(A1569,'1.Портфель кредитів'!A:AC,3,FALSE),\"\")","v":""},{"$f":"IFERROR(VLOOKUP(A1569,'1.Портфель кредитів'!A:AC,14,FALSE),\"\")","v":""}]
[null,{"$f":"IFERROR(VLOOKUP(A1570,'1.Портфель кредитів'!A:AC,3,FALSE),\"\")","v":""},{"$f":"IFERROR(VLOOKUP(A1570,'1.Портфель кредитів'!A:AC,14,FALSE),\"\")","v":""}]
[null,{"$f":"IFERROR(VLOOKUP(A1571,'1.Портфель кредитів'!A:AC,3,FALSE),\"\")","v":""},{"$f":"IFERROR(VLOOKUP(A1571,'1.Портфель кредитів'!A:AC,14,FALSE),\"\")","v":""}]
[null,{"$f":"IFERROR(VLOOKUP(A1572,'1.Портфель кредитів'!A:AC,3,FALSE),\"\")","v":""},{"$f":"IFERROR(VLOOKUP(A1572,'1.Портфель кредитів'!A:AC,14,FALSE),\"\")","v":""}]
[null,{"$f":"IFERROR(VLOOKUP(A1573,'1.Портфель кредитів'!A:AC,3,FALSE),\"\")","v":""},{"$f":"IFERROR(VLOOKUP(A1573,'1.Портфель кредитів'!A:AC,14,FALSE),\"\")","v":""}]
[null,{"$f":"IFERROR(VLOOKUP(A1574,'1.Портфель кредитів'!A:AC,3,FALSE),\"\")","v":""},{"$f":"IFERROR(VLOOKUP(A1574,'1.Портфель кредитів'!A:AC,14,FALSE),\"\")","v":""}]
[null,{"$f":"IFERROR(VLOOKUP(A1575,'1.Портфель кредитів'!A:AC,3,FALSE),\"\")","v":""},{"$f":"IFERROR(VLOOKUP(A1575,'1.Портфель кредитів'!A:AC,14,FALSE),\"\")","v":""}]
[null,{"$f":"IFERROR(VLOOKUP(A1576,'1.Портфель кредитів'!A:AC,3,FALSE),\"\")","v":""},{"$f":"IFERROR(VLOOKUP(A1576,'1.Портфель кредитів'!A:AC,14,FALSE),\"\")","v":""}]
[null,{"$f":"IFERROR(VLOOKUP(A1577,'1.Портфель кредитів'!A:AC,3,FALSE),\"\")","v":""},{"$f":"IFERROR(VLOOKUP(A1577,'1.Портфель кредитів'!A:AC,14,FALSE),\"\")","v":""}]
[null,{"$f":"IFERROR(VLOOKUP(A1578,'1.Портфель кредитів'!A:AC,3,FALSE),\"\")","v":""},{"$f":"IFERROR(VLOOKUP(A1578,'1.Портфель кредитів'!A:AC,14,FALSE),\"\")","v":""}]

{"sheet":"4.журнал торгів","index":3,"n_rows":1219,"n_cols":8,"rows_kept":1219,"cut":false,"hidden":false,"merged":[[0,6,4,14],[25,3,25,4],[26,3,26,4],[22,3,22,5]]}
[null,null,null,null,null,null,"Цей документ був підготовлений Фондом гарантування вкладів фізичних осіб (далі – Фонд) виключно для інформаційних цілей і не повинен вважатися як спонукання до будь-яких дій чи бездіяльності. \nІнформація, що міститься в цьому документі, була отримана з/або ґрунтується на джерелах, які вважаються надійними, але не є вичерпною та не може сприйматися як повна або актуальна. Зокрема, але не виключно, станом на дату придбання активів допускаються несуттєві зміни лота, в складі якого продаються такі активи. Під несуттєвими змінами лота слід розуміти такі зміни характеристик активів у складі такого лота, які впливають на його балансову вартість, але не більше ніж на 10 відсотків. Рішення покупця щодо будь-яких дій або бездіяльності повинно ґрунтуватися на власних оцінках та дослідженнях майна (активу/активів), котре реалізується. Фонд не несе відповідальності за рішення покупця та його наслідки, що ґрунтується на інформації, викладеній в даному документі."]
[]
[]
[]
[]
[]
["unicid","Банк","№ кред. Дог","Кількість торгів","Початкова вартість реалізації (голландський аукціон)","Мінімальна ціна на останніх торгах (голландський аукціон)","№ лота","Дата проведення останнього аукціону "]
[1,{"$f":"IFERROR(VLOOKUP(A8,'1.Портфель кредитів'!A:AC,3,FALSE),\"\")","v":"321712"},"-",1,53170,10634,"GL34N018811","2020-08-04"]
[2,{"$f":"IFERROR(VLOOKUP(A9,'1.Портфель кредитів'!A:AC,3,FALSE),\"\")","v":"321712"},"-",1,62772.36,12554.47,4,"2018-12-18"]
[3,{"$f":"IFERROR(VLOOKUP(A10,'1.Портфель кредитів'!A:AC,3,FALSE),\"\")","v":"321712"},"-",1,47123061.020000011,9424612.2040000018,"GL34N018812","2020-08-04"]
[4,{"$f":"IFERROR(VLOOKUP(A11,'1.Портфель кредитів'!A:AC,3,FALSE),\"\")","v":"321712"},"-",1,15149850,3029970,"GL34N017962","2020-05-26"]
[5,{"$f":"IFERROR(VLOOKUP(A12,'1.Портфель кредитів'!A:AC,3,FALSE),\"\")","v":"321712"},"-",1,63028153.420000002,12605630.684,"GL34N017963","2020-05-26"]
[6,{"$f":"IFERROR(VLOOKUP(A13,'1.Портфель кредитів'!A:AC,3,FALSE),\"\")","v":"321712"},"-",1,52000,10400,"GL34N017964","2020-05-26"]
[7,{"$f":"IFERROR(VLOOKUP(A14,'1.Портфель кредитів'!A:AC,3,FALSE),\"\")","v":"321712"},"-",1,59693340,11938668,19,"2018-12-18"]
[8,{"$f":"IFERROR(VLOOKUP(A15,'1.Портфель кредитів'!A:AC,3,FALSE),\"\")","v":"321712"},"-",1,58856736,11771347.200000001,"GL34N018748","2020-07-24"]
[9,{"$f":"IFERROR(VLOOKUP(A16,'1.Портфель кредитів'!A:AC,3,FALSE),\"\")","v":"321712"},"-",1,54443295,10888659,"GL34N018366","2020-06-26"]
[10,{"$f":"IFERROR(VLOOKUP(A17,'1.Портфель кредитів'!A:AC,3,FALSE),\"\")","v":"321712"},"-",1,62117999.579999998,12423599.916000001,"GL34N018367","2020-06-26"]
[11,{"$f":"IFERROR(VLOOKUP(A18,'1.Портфель кредитів'!A:AC,3,FALSE),\"\")","v":"321712"},"-",1,2670,534,"GL50N018368","2020-06-26"]
[12,{"$f":"IFERROR(VLOOKUP(A19,'1.Портфель кредитів'!A:AC,3,FALSE),\"\")","v":"321712"},"-",1,115765625,23153125,"GL34N018389","2020-06-26"]
[]
[]
[null,{"$f":"IFERROR(VLOOKUP(A22,'1.Портфель кредитів'!A:AC,3,FALSE),\"\")","v":""},{"$f":"IFERROR(VLOOKUP(A22,'1.Портфель кредитів'!A:AC,14,FALSE),\"\")","v":""}]
[null,{"$f":"IFERROR(VLOOKUP(A23,'1.Портфель кредитів'!A:AC,3,FALSE),\"\")","v":""},{"$f":"IFERROR(VLOOKUP(A23,'1.Портфель кредитів'!A:AC,14,FALSE),\"\")","v":""}]
[null,{"$f":"IFERROR(VLOOKUP(A24,'1.Портфель кредитів'!A:AC,3,FALSE),\"\")","v":""},{"$f":"IFERROR(VLOOKUP(A24,'1.Портфель кредитів'!A:AC,14,FALSE),\"\")","v":""}]
[null,{"$f":"IFERROR(VLOOKUP(A25,'1.Портфель кредитів'!A:AC,3,FALSE),\"\")","v":""},{"$f":"IFERROR(VLOOKUP(A25,'1.Портфель кредитів'!A:AC,14,FALSE),\"\")","v":""}]
[null,{"$f":"IFERROR(VLOOKUP(A26,'1.Портфель кредитів'!A:AC,3,FALSE),\"\")","v":""},{"$f":"IFERROR(VLOOKUP(A26,'1.Портфель кредитів'!A:AC,14,FALSE),\"\")","v":""}]
[null,{"$f":"IFERROR(VLOOKUP(A27,'1.Портфель кредитів'!A:AC,3,FALSE),\"\")","v":""},{"$f":"IFERROR(VLOOKUP(A27,'1.Портфель кредитів'!A:AC,14,FALSE),\"\")","v":""}]
[null,{"$f":"IFERROR(VLOOKUP(A28,'1.Портфель кредитів'!A:AC,3,FALSE),\"\")","v":""},{"$f":"IFERROR(VLOOKUP(A28,'1.Портфель кредитів'!A:AC,14,FALSE),\"\")","v":""}]
[null,{"$f":"IFERROR(VLOOKUP(A29,'1.Портфель кредитів'!A:AC,3,FALSE),\"\")","v":""},{"$f":"IFERROR(VLOOKUP(A29,'1.Портфель кредитів'!A:AC,14,FALSE),\"\")","v":""}]
[null,{"$f":"IFERROR(VLOOKUP(A30,'1.Портфель кредитів'!A:AC,3,FALSE),\"\")","v":""},{"$f":"IFERROR(VLOOKUP(A30,'1.Портфель кредитів'!A:AC,14,FALSE),\"\")","v":""}]
[null,{"$f":"IFERROR(VLOOKUP(A31,'1.Портфель кредитів'!A:AC,3,FALSE),\"\")","v":""},{"$f":"IFERROR(VLOOKUP(A31,'1.Портфель кредитів'!A:AC,14,FALSE),\"\")","v":""}]
[null,{"$f":"IFERROR(VLOOKUP(A32,'1.Портфель кредитів'!A:AC,3,FALSE),\"\")","v":""},{"$f":"IFERROR(VLOOKUP(A32,'1.Портфель кредитів'!A:AC,14,FALSE),\"\")","v":""}]
[null,{"$f":"IFERROR(VLOOKUP(A33,'1.Портфель кредитів'!A:AC,3,FALSE),\"\")","v":""},{"$f":"IFERROR(VLOOKUP(A33,'1.Портфель кредитів'!A:AC,14,FALSE),\"\")","v":""}]
[null,{"$f":"IFERROR(VLOOKUP(A34,'1.Портфель кредитів'!A:AC,3,FALSE),\"\")","v":""},{"$f":"IFERROR(VLOOKUP(A34,'1.Портфель кредитів'!A:AC,14,FALSE),\"\")","v":""}]
[null,{"$f":"IFERROR(VLOOKUP(A35,'1.Портфель кредитів'!A:AC,3,FALSE),\"\")","v":""},{"$f":"IFERROR(VLOOKUP(A35,'1.Портфель кредитів'!A:AC,14,FALSE),\"\")","v":""}]
[null,{"$f":"IFERROR(VLOOKUP(A36,'1.Портфель кредитів'!A:AC,3,FALSE),\"\")","v":""},{"$f":"IFERROR(VLOOKUP(A36,'1.Портфель кредитів'!A:AC,14,FALSE),\"\")","v":""}]
[null,{"$f":"IFERROR(VLOOKUP(A37,'1.Портфель кредитів'!A:AC,3,FALSE),\"\")","v":""},{"$f":"IFERROR(VLOOKUP(A37,'1.Портфель кредитів'!A:AC,14,FALSE),\"\")","v":""}]
[null,{"$f":"IFERROR(VLOOKUP(A38,'1.Портфель кредитів'!A:AC,3,FALSE),\"\")","v":""},{"$f":"IFERROR(VLOOKUP(A38,'1.Портфель кредитів'!A:AC,14,FALSE),\"\")","v":""}]
[null,{"$f":"IFERROR(VLOOKUP(A39,'1.Портфель кредитів'!A:AC,3,FALSE),\"\")","v":""},{"$f":"IFERROR(VLOOKUP(A39,'1.Портфель кредитів'!A:AC,14,FALSE),\"\")","v":""}]
[null,{"$f":"IFERROR(VLOOKUP(A40,'1.Портфель кредитів'!A:AC,3,FALSE),\"\")","v":""},{"$f":"IFERROR(VLOOKUP(A40,'1.Портфель кредитів'!A:AC,14,FALSE),\"\")","v":""}]
[null,{"$f":"IFERROR(VLOOKUP(A41,'1.Портфель кредитів'!A:AC,3,FALSE),\"\")","v":""},{"$f":"IFERROR(VLOOKUP(A41,'1.Портфель кредитів'!A:AC,14,FALSE),\"\")","v":""}]
[null,{"$f":"IFERROR(VLOOKUP(A42,'1.Портфель кредитів'!A:AC,3,FALSE),\"\")","v":""},{"$f":"IFERROR(VLOOKUP(A42,'1.Портфель кредитів'!A:AC,14,FALSE),\"\")","v":""}]
[null,{"$f":"IFERROR(VLOOKUP(A43,'1.Портфель кредитів'!A:AC,3,FALSE),\"\")","v":""},{"$f":"IFERROR(VLOOKUP(A43,'1.Портфель кредитів'!A:AC,14,FALSE),\"\")","v":""}]
[null,{"$f":"IFERROR(VLOOKUP(A44,'1.Портфель кредитів'!A:AC,3,FALSE),\"\")","v":""},{"$f":"IFERROR(VLOOKUP(A44,'1.Портфель кредитів'!A:AC,14,FALSE),\"\")","v":""}]
[null,{"$f":"IFERROR(VLOOKUP(A45,'1.Портфель кредитів'!A:AC,3,FALSE),\"\")","v":""},{"$f":"IFERROR(VLOOKUP(A45,'1.Портфель кредитів'!A:AC,14,FALSE),\"\")","v":""}]
[null,{"$f":"IFERROR(VLOOKUP(A46,'1.Портфель кредитів'!A:AC,3,FALSE),\"\")","v":""},{"$f":"IFERROR(VLOOKUP(A46,'1.Портфель кредитів'!A:AC,14,FALSE),\"\")","v":""}]
[null,{"$f":"IFERROR(VLOOKUP(A47,'1.Портфель кредитів'!A:AC,3,FALSE),\"\")","v":""},{"$f":"IFERROR(VLOOKUP(A47,'1.Портфель кредитів'!A:AC,14,FALSE),\"\")","v":""}]
[null,{"$f":"IFERROR(VLOOKUP(A48,'1.Портфель кредитів'!A:AC,3,FALSE),\"\")","v":""},{"$f":"IFERROR(VLOOKUP(A48,'1.Портфель кредитів'!A:AC,14,FALSE),\"\")","v":""}]
[null,{"$f":"IFERROR(VLOOKUP(A49,'1.Портфель кредитів'!A:AC,3,FALSE),\"\")","v":""},{"$f":"IFERROR(VLOOKUP(A49,'1.Портфель кредитів'!A:AC,14,FALSE),\"\")","v":""}]
[null,{"$f":"IFERROR(VLOOKUP(A50,'1.Портфель кредитів'!A:AC,3,FALSE),\"\")","v":""},{"$f":"IFERROR(VLOOKUP(A50,'1.Портфель кредитів'!A:AC,14,FALSE),\"\")","v":""}]
[null,{"$f":"IFERROR(VLOOKUP(A51,'1.Портфель кредитів'!A:AC,3,FALSE),\"\")","v":""},{"$f":"IFERROR(VLOOKUP(A51,'1.Портфель кредитів'!A:AC,14,FALSE),\"\")","v":""}]
[null,{"$f":"IFERROR(VLOOKUP(A52,'1.Портфель кредитів'!A:AC,3,FALSE),\"\")","v":""},{"$f":"IFERROR(VLOOKUP(A52,'1.Портфель кредитів'!A:AC,14,FALSE),\"\")","v":""}]
[null,{"$f":"IFERROR(VLOOKUP(A53,'1.Портфель кредитів'!A:AC,3,FALSE),\"\")","v":""},{"$f":"IFERROR(VLOOKUP(A53,'1.Портфель кредитів'!A:AC,14,FALSE),\"\")","v":""}]
[null,{"$f":"IFERROR(VLOOKUP(A54,'1.Портфель кредитів'!A:AC,3,FALSE),\"\")","v":""},{"$f":"IFERROR(VLOOKUP(A54,'1.Портфель кредитів'!A:AC,14,FALSE),\"\")","v":""}]
[null,{"$f":"IFERROR(VLOOKUP(A55,'1.Портфель кредитів'!A:AC,3,FALSE),\"\")","v":""},{"$f":"IFERROR(VLOOKUP(A55,'1.Портфель кредитів'!A:AC,14,FALSE),\"\")","v":""}]
[null,{"$f":"IFERROR(VLOOKUP(A56,'1.Портфель кредитів'!A:AC,3,FALSE),\"\")","v":""},{"$f":"IFERROR(VLOOKUP(A56,'1.Портфель кредитів'!A:AC,14,FALSE),\"\")","v":""}]
[null,{"$f":"IFERROR(VLOOKUP(A57,'1.Портфель кредитів'!A:AC,3,FALSE),\"\")","v":""},{"$f":"IFERROR(VLOOKUP(A57,'1.Портфель кредитів'!A:AC,14,FALSE),\"\")","v":""}]
[null,{"$f":"IFERROR(VLOOKUP(A58,'1.Портфель кредитів'!A:AC,3,FALSE),\"\")","v":""},{"$f":"IFERROR(VLOOKUP(A58,'1.Портфель кредитів'!A:AC,14,FALSE),\"\")","v":""}]
[null,{"$f":"IFERROR(VLOOKUP(A59,'1.Портфель кредитів'!A:AC,3,FALSE),\"\")","v":""},{"$f":"IFERROR(VLOOKUP(A59,'1.Портфель кредитів'!A:AC,14,FALSE),\"\")","v":""}]
[null,{"$f":"IFERROR(VLOOKUP(A60,'1.Портфель кредитів'!A:AC,3,FALSE),\"\")","v":""},{"$f":"IFERROR(VLOOKUP(A60,'1.Портфель кредитів'!A:AC,14,FALSE),\"\")","v":""}]
[null,{"$f":"IFERROR(VLOOKUP(A61,'1.Портфель кредитів'!A:AC,3,FALSE),\"\")","v":""},{"$f":"IFERROR(VLOOKUP(A61,'1.Портфель кредитів'!A:AC,14,FALSE),\"\")","v":""}]
[null,{"$f":"IFERROR(VLOOKUP(A62,'1.Портфель кредитів'!A:AC,3,FALSE),\"\")","v":""},{"$f":"IFERROR(VLOOKUP(A62,'1.Портфель кредитів'!A:AC,14,FALSE),\"\")","v":""}]
[null,{"$f":"IFERROR(VLOOKUP(A63,'1.Портфель кредитів'!A:AC,3,FALSE),\"\")","v":""},{"$f":"IFERROR(VLOOKUP(A63,'1.Портфель кредитів'!A:AC,14,FALSE),\"\")","v":""}]
[null,{"$f":"IFERROR(VLOOKUP(A64,'1.Портфель кредитів'!A:AC,3,FALSE),\"\")","v":""},{"$f":"IFERROR(VLOOKUP(A64,'1.Портфель кредитів'!A:AC,14,FALSE),\"\")","v":""}]
[null,{"$f":"IFERROR(VLOOKUP(A65,'1.Портфель кредитів'!A:AC,3,FALSE),\"\")","v":""},{"$f":"IFERROR(VLOOKUP(A65,'1.Портфель кредитів'!A:AC,14,FALSE),\"\")","v":""}]
[null,{"$f":"IFERROR(VLOOKUP(A66,'1.Портфель кредитів'!A:AC,3,FALSE),\"\")","v":""},{"$f":"IFERROR(VLOOKUP(A66,'1.Портфель кредитів'!A:AC,14,FALSE),\"\")","v":""}]
[null,{"$f":"IFERROR(VLOOKUP(A67,'1.Портфель кредитів'!A:AC,3,FALSE),\"\")","v":""},{"$f":"IFERROR(VLOOKUP(A67,'1.Портфель кредитів'!A:AC,14,FALSE),\"\")","v":""}]
[null,{"$f":"IFERROR(VLOOKUP(A68,'1.Портфель кредитів'!A:AC,3,FALSE),\"\")","v":""},{"$f":"IFERROR(VLOOKUP(A68,'1.Портфель кредитів'!A:AC,14,FALSE),\"\")","v":""}]
[null,{"$f":"IFERROR(VLOOKUP(A69,'1.Портфель кредитів'!A:AC,3,FALSE),\"\")","v":""},{"$f":"IFERROR(VLOOKUP(A69,'1.Портфель кредитів'!A:AC,14,FALSE),\"\")","v":""}]
[null,{"$f":"IFERROR(VLOOKUP(A70,'1.Портфель кредитів'!A:AC,3,FALSE),\"\")","v":""},{"$f":"IFERROR(VLOOKUP(A70,'1.Портфель кредитів'!A:AC,14,FALSE),\"\")","v":""}]
[null,{"$f":"IFERROR(VLOOKUP(A71,'1.Портфель кредитів'!A:AC,3,FALSE),\"\")","v":""},{"$f":"IFERROR(VLOOKUP(A71,'1.Портфель кредитів'!A:AC,14,FALSE),\"\")","v":""}]
[null,{"$f":"IFERROR(VLOOKUP(A72,'1.Портфель кредитів'!A:AC,3,FALSE),\"\")","v":""},{"$f":"IFERROR(VLOOKUP(A72,'1.Портфель кредитів'!A:AC,14,FALSE),\"\")","v":""}]
[null,{"$f":"IFERROR(VLOOKUP(A73,'1.Портфель кредитів'!A:AC,3,FALSE),\"\")","v":""},{"$f":"IFERROR(VLOOKUP(A73,'1.Портфель кредитів'!A:AC,14,FALSE),\"\")","v":""}]
[null,{"$f":"IFERROR(VLOOKUP(A74,'1.Портфель кредитів'!A:AC,3,FALSE),\"\")","v":""},{"$f":"IFERROR(VLOOKUP(A74,'1.Портфель кредитів'!A:AC,14,FALSE),\"\")","v":""}]
[null,{"$f":"IFERROR(VLOOKUP(A75,'1.Портфель кредитів'!A:AC,3,FALSE),\"\")","v":""},{"$f":"IFERROR(VLOOKUP(A75,'1.Портфель кредитів'!A:AC,14,FALSE),\"\")","v":""}]
[null,{"$f":"IFERROR(VLOOKUP(A76,'1.Портфель кредитів'!A:AC,3,FALSE),\"\")","v":""},{"$f":"IFERROR(VLOOKUP(A76,'1.Портфель кредитів'!A:AC,14,FALSE),\"\")","v":""}]
[null,{"$f":"IFERROR(VLOOKUP(A77,'1.Портфель кредитів'!A:AC,3,FALSE),\"\")","v":""},{"$f":"IFERROR(VLOOKUP(A77,'1.Портфель кредитів'!A:AC,14,FALSE),\"\")","v":""}]
[null,{"$f":"IFERROR(VLOOKUP(A78,'1.Портфель кредитів'!A:AC,3,FALSE),\"\")","v":""},{"$f":"IFERROR(VLOOKUP(A78,'1.Портфель кредитів'!A:AC,14,FALSE),\"\")","v":""}]
[null,{"$f":"IFERROR(VLOOKUP(A79,'1.Портфель кредитів'!A:AC,3,FALSE),\"\")","v":""},{"$f":"IFERROR(VLOOKUP(A79,'1.Портфель кредитів'!A:AC,14,FALSE),\"\")","v":""}]
[null,{"$f":"IFERROR(VLOOKUP(A80,'1.Портфель кредитів'!A:AC,3,FALSE),\"\")","v":""},{"$f":"IFERROR(VLOOKUP(A80,'1.Портфель кредитів'!A:AC,14,FALSE),\"\")","v":""}]
[null,{"$f":"IFERROR(VLOOKUP(A81,'1.Портфель кредитів'!A:AC,3,FALSE),\"\")","v":""},{"$f":"IFERROR(VLOOKUP(A81,'1.Портфель кредитів'!A:AC,14,FALSE),\"\")","v":""}]
[null,{"$f":"IFERROR(VLOOKUP(A82,'1.Портфель кредитів'!A:AC,3,FALSE),\"\")","v":""},{"$f":"IFERROR(VLOOKUP(A82,'1.Портфель кредитів'!A:AC,14,FALSE),\"\")","v":""}]
[null,{"$f":"IFERROR(VLOOKUP(A83,'1.Портфель кредитів'!A:AC,3,FALSE),\"\")","v":""},{"$f":"IFERROR(VLOOKUP(A83,'1.Портфель кредитів'!A:AC,14,FALSE),\"\")","v":""}]
[null,{"$f":"IFERROR(VLOOKUP(A84,'1.Портфель кредитів'!A:AC,3,FALSE),\"\")","v":""},{"$f":"IFERROR(VLOOKUP(A84,'1.Портфель кредитів'!A:AC,14,FALSE),\"\")","v":""}]
[null,{"$f":"IFERROR(VLOOKUP(A85,'1.Портфель кредитів'!A:AC,3,FALSE),\"\")","v":""},{"$f":"IFERROR(VLOOKUP(A85,'1.Портфель кредитів'!A:AC,14,FALSE),\"\")","v":""}]
[null,{"$f":"IFERROR(VLOOKUP(A86,'1.Портфель кредитів'!A:AC,3,FALSE),\"\")","v":""},{"$f":"IFERROR(VLOOKUP(A86,'1.Портфель кредитів'!A:AC,14,FALSE),\"\")","v":""}]
[null,{"$f":"IFERROR(VLOOKUP(A87,'1.Портфель кредитів'!A:AC,3,FALSE),\"\")","v":""},{"$f":"IFERROR(VLOOKUP(A87,'1.Портфель кредитів'!A:AC,14,FALSE),\"\")","v":""}]
[null,{"$f":"IFERROR(VLOOKUP(A88,'1.Портфель кредитів'!A:AC,3,FALSE),\"\")","v":""},{"$f":"IFERROR(VLOOKUP(A88,'1.Портфель кредитів'!A:AC,14,FALSE),\"\")","v":""}]
[null,{"$f":"IFERROR(VLOOKUP(A89,'1.Портфель кредитів'!A:AC,3,FALSE),\"\")","v":""},{"$f":"IFERROR(VLOOKUP(A89,'1.Портфель кредитів'!A:AC,14,FALSE),\"\")","v":""}]
[null,{"$f":"IFERROR(VLOOKUP(A90,'1.Портфель кредитів'!A:AC,3,FALSE),\"\")","v":""},{"$f":"IFERROR(VLOOKUP(A90,'1.Портфель кредитів'!A:AC,14,FALSE),\"\")","v":""}]
[null,{"$f":"IFERROR(VLOOKUP(A91,'1.Портфель кредитів'!A:AC,3,FALSE),\"\")","v":""},{"$f":"IFERROR(VLOOKUP(A91,'1.Портфель кредитів'!A:AC,14,FALSE),\"\")","v":""}]
[null,{"$f":"IFERROR(VLOOKUP(A92,'1.Портфель кредитів'!A:AC,3,FALSE),\"\")","v":""},{"$f":"IFERROR(VLOOKUP(A92,'1.Портфель кредитів'!A:AC,14,FALSE),\"\")","v":""}]
[null,{"$f":"IFERROR(VLOOKUP(A93,'1.Портфель кредитів'!A:AC,3,FALSE),\"\")","v":""},{"$f":"IFERROR(VLOOKUP(A93,'1.Портфель кредитів'!A:AC,14,FALSE),\"\")","v":""}]
[null,{"$f":"IFERROR(VLOOKUP(A94,'1.Портфель кредитів'!A:AC,3,FALSE),\"\")","v":""},{"$f":"IFERROR(VLOOKUP(A94,'1.Портфель кредитів'!A:AC,14,FALSE),\"\")","v":""}]
[null,{"$f":"IFERROR(VLOOKUP(A95,'1.Портфель кредитів'!A:AC,3,FALSE),\"\")","v":""},{"$f":"IFERROR(VLOOKUP(A95,'1.Портфель кредитів'!A:AC,14,FALSE),\"\")","v":""}]
[null,{"$f":"IFERROR(VLOOKUP(A96,'1.Портфель кредитів'!A:AC,3,FALSE),\"\")","v":""},{"$f":"IFERROR(VLOOKUP(A96,'1.Портфель кредитів'!A:AC,14,FALSE),\"\")","v":""}]
[null,{"$f":"IFERROR(VLOOKUP(A97,'1.Портфель кредитів'!A:AC,3,FALSE),\"\")","v":""},{"$f":"IFERROR(VLOOKUP(A97,'1.Портфель кредитів'!A:AC,14,FALSE),\"\")","v":""}]
[null,{"$f":"IFERROR(VLOOKUP(A98,'1.Портфель кредитів'!A:AC,3,FALSE),\"\")","v":""},{"$f":"IFERROR(VLOOKUP(A98,'1.Портфель кредитів'!A:AC,14,FALSE),\"\")","v":""}]
[null,{"$f":"IFERROR(VLOOKUP(A99,'1.Портфель кредитів'!A:AC,3,FALSE),\"\")","v":""},{"$f":"IFERROR(VLOOKUP(A99,'1.Портфель кредитів'!A:AC,14,FALSE),\"\")","v":""}]
[null,{"$f":"IFERROR(VLOOKUP(A100,'1.Портфель кредитів'!A:AC,3,FALSE),\"\")","v":""},{"$f":"IFERROR(VLOOKUP(A100,'1.Портфель кредитів'!A:AC,14,FALSE),\"\")","v":""}]
[null,{"$f":"IFERROR(VLOOKUP(A101,'1.Портфель кредитів'!A:AC,3,FALSE),\"\")","v":""},{"$f":"IFERROR(VLOOKUP(A101,'1.Портфель кредитів'!A:AC,14,FALSE),\"\")","v":""}]
[null,{"$f":"IFERROR(VLOOKUP(A102,'1.Портфель кредитів'!A:AC,3,FALSE),\"\")","v":""},{"$f":"IFERROR(VLOOKUP(A102,'1.Портфель кредитів'!A:AC,14,FALSE),\"\")","v":""}]
[null,{"$f":"IFERROR(VLOOKUP(A103,'1.Портфель кредитів'!A:AC,3,FALSE),\"\")","v":""},{"$f":"IFERROR(VLOOKUP(A103,'1.Портфель кредитів'!A:AC,14,FALSE),\"\")","v":""}]
[null,{"$f":"IFERROR(VLOOKUP(A104,'1.Портфель кредитів'!A:AC,3,FALSE),\"\")","v":""},{"$f":"IFERROR(VLOOKUP(A104,'1.Портфель кредитів'!A:AC,14,FALSE),\"\")","v":""}]
[null,{"$f":"IFERROR(VLOOKUP(A105,'1.Портфель кредитів'!A:AC,3,FALSE),\"\")","v":""},{"$f":"IFERROR(VLOOKUP(A105,'1.Портфель кредитів'!A:AC,14,FALSE),\"\")","v":""}]
[null,{"$f":"IFERROR(VLOOKUP(A106,'1.Портфель кредитів'!A:AC,3,FALSE),\"\")","v":""},{"$f":"IFERROR(VLOOKUP(A106,'1.Портфель кредитів'!A:AC,14,FALSE),\"\")","v":""}]
[null,{"$f":"IFERROR(VLOOKUP(A107,'1.Портфель кредитів'!A:AC,3,FALSE),\"\")","v":""},{"$f":"IFERROR(VLOOKUP(A107,'1.Портфель кредитів'!A:AC,14,FALSE),\"\")","v":""}]
[null,{"$f":"IFERROR(VLOOKUP(A108,'1.Портфель кредитів'!A:AC,3,FALSE),\"\")","v":""},{"$f":"IFERROR(VLOOKUP(A108,'1.Портфель кредитів'!A:AC,14,FALSE),\"\")","v":""}]
[null,{"$f":"IFERROR(VLOOKUP(A109,'1.Портфель кредитів'!A:AC,3,FALSE),\"\")","v":""},{"$f":"IFERROR(VLOOKUP(A109,'1.Портфель кредитів'!A:AC,14,FALSE),\"\")","v":""}]
[null,{"$f":"IFERROR(VLOOKUP(A110,'1.Портфель кредитів'!A:AC,3,FALSE),\"\")","v":""},{"$f":"IFERROR(VLOOKUP(A110,'1.Портфель кредитів'!A:AC,14,FALSE),\"\")","v":""}]
[null,{"$f":"IFERROR(VLOOKUP(A111,'1.Портфель кредитів'!A:AC,3,FALSE),\"\")","v":""},{"$f":"IFERROR(VLOOKUP(A111,'1.Портфель кредитів'!A:AC,14,FALSE),\"\")","v":""}]
[null,{"$f":"IFERROR(VLOOKUP(A112,'1.Портфель кредитів'!A:AC,3,FALSE),\"\")","v":""},{"$f":"IFERROR(VLOOKUP(A112,'1.Портфель кредитів'!A:AC,14,FALSE),\"\")","v":""}]
[null,{"$f":"IFERROR(VLOOKUP(A113,'1.Портфель кредитів'!A:AC,3,FALSE),\"\")","v":""},{"$f":"IFERROR(VLOOKUP(A113,'1.Портфель кредитів'!A:AC,14,FALSE),\"\")","v":""}]
[null,{"$f":"IFERROR(VLOOKUP(A114,'1.Портфель кредитів'!A:AC,3,FALSE),\"\")","v":""},{"$f":"IFERROR(VLOOKUP(A114,'1.Портфель кредитів'!A:AC,14,FALSE),\"\")","v":""}]
[null,{"$f":"IFERROR(VLOOKUP(A115,'1.Портфель кредитів'!A:AC,3,FALSE),\"\")","v":""},{"$f":"IFERROR(VLOOKUP(A115,'1.Портфель кредитів'!A:AC,14,FALSE),\"\")","v":""}]
[null,{"$f":"IFERROR(VLOOKUP(A116,'1.Портфель кредитів'!A:AC,3,FALSE),\"\")","v":""},{"$f":"IFERROR(VLOOKUP(A116,'1.Портфель кредитів'!A:AC,14,FALSE),\"\")","v":""}]
[null,{"$f":"IFERROR(VLOOKUP(A117,'1.Портфель кредитів'!A:AC,3,FALSE),\"\")","v":""},{"$f":"IFERROR(VLOOKUP(A117,'1.Портфель кредитів'!A:AC,14,FALSE),\"\")","v":""}]
[null,{"$f":"IFERROR(VLOOKUP(A118,'1.Портфель кредитів'!A:AC,3,FALSE),\"\")","v":""},{"$f":"IFERROR(VLOOKUP(A118,'1.Портфель кредитів'!A:AC,14,FALSE),\"\")","v":""}]
[null,{"$f":"IFERROR(VLOOKUP(A119,'1.Портфель кредитів'!A:AC,3,FALSE),\"\")","v":""},{"$f":"IFERROR(VLOOKUP(A119,'1.Портфель кредитів'!A:AC,14,FALSE),\"\")","v":""}]
[null,{"$f":"IFERROR(VLOOKUP(A120,'1.Портфель кредитів'!A:AC,3,FALSE),\"\")","v":""},{"$f":"IFERROR(VLOOKUP(A120,'1.Портфель кредитів'!A:AC,14,FALSE),\"\")","v":""}]
[null,{"$f":"IFERROR(VLOOKUP(A121,'1.Портфель кредитів'!A:AC,3,FALSE),\"\")","v":""},{"$f":"IFERROR(VLOOKUP(A121,'1.Портфель кредитів'!A:AC,14,FALSE),\"\")","v":""}]
[null,{"$f":"IFERROR(VLOOKUP(A122,'1.Портфель кредитів'!A:AC,3,FALSE),\"\")","v":""},{"$f":"IFERROR(VLOOKUP(A122,'1.Портфель кредитів'!A:AC,14,FALSE),\"\")","v":""}]
[null,{"$f":"IFERROR(VLOOKUP(A123,'1.Портфель кредитів'!A:AC,3,FALSE),\"\")","v":""},{"$f":"IFERROR(VLOOKUP(A123,'1.Портфель кредитів'!A:AC,14,FALSE),\"\")","v":""}]
[null,{"$f":"IFERROR(VLOOKUP(A124,'1.Портфель кредитів'!A:AC,3,FALSE),\"\")","v":""},{"$f":"IFERROR(VLOOKUP(A124,'1.Портфель кредитів'!A:AC,14,FALSE),\"\")","v":""}]
[null,{"$f":"IFERROR(VLOOKUP(A125,'1.Портфель кредитів'!A:AC,3,FALSE),\"\")","v":""},{"$f":"IFERROR(VLOOKUP(A125,'1.Портфель кредитів'!A:AC,14,FALSE),\"\")","v":""}]
[null,{"$f":"IFERROR(VLOOKUP(A126,'1.Портфель кредитів'!A:AC,3,FALSE),\"\")","v":""},{"$f":"IFERROR(VLOOKUP(A126,'1.Портфель кредитів'!A:AC,14,FALSE),\"\")","v":""}]
[null,{"$f":"IFERROR(VLOOKUP(A127,'1.Портфель кредитів'!A:AC,3,FALSE),\"\")","v":""},{"$f":"IFERROR(VLOOKUP(A127,'1.Портфель кредитів'!A:AC,14,FALSE),\"\")","v":""}]
[null,{"$f":"IFERROR(VLOOKUP(A128,'1.Портфель кредитів'!A:AC,3,FALSE),\"\")","v":""},{"$f":"IFERROR(VLOOKUP(A128,'1.Портфель кредитів'!A:AC,14,FALSE),\"\")","v":""}]
[null,{"$f":"IFERROR(VLOOKUP(A129,'1.Портфель кредитів'!A:AC,3,FALSE),\"\")","v":""},{"$f":"IFERROR(VLOOKUP(A129,'1.Портфель кредитів'!A:AC,14,FALSE),\"\")","v":""}]
[null,{"$f":"IFERROR(VLOOKUP(A130,'1.Портфель кредитів'!A:AC,3,FALSE),\"\")","v":""},{"$f":"IFERROR(VLOOKUP(A130,'1.Портфель кредитів'!A:AC,14,FALSE),\"\")","v":""}]
[null,{"$f":"IFERROR(VLOOKUP(A131,'1.Портфель кредитів'!A:AC,3,FALSE),\"\")","v":""},{"$f":"IFERROR(VLOOKUP(A131,'1.Портфель кредитів'!A:AC,14,FALSE),\"\")","v":""}]
[null,{"$f":"IFERROR(VLOOKUP(A132,'1.Портфель кредитів'!A:AC,3,FALSE),\"\")","v":""},{"$f":"IFERROR(VLOOKUP(A132,'1.Портфель кредитів'!A:AC,14,FALSE),\"\")","v":""}]
[null,{"$f":"IFERROR(VLOOKUP(A133,'1.Портфель кредитів'!A:AC,3,FALSE),\"\")","v":""},{"$f":"IFERROR(VLOOKUP(A133,'1.Портфель кредитів'!A:AC,14,FALSE),\"\")","v":""}]
[null,{"$f":"IFERROR(VLOOKUP(A134,'1.Портфель кредитів'!A:AC,3,FALSE),\"\")","v":""},{"$f":"IFERROR(VLOOKUP(A134,'1.Портфель кредитів'!A:AC,14,FALSE),\"\")","v":""}]
[null,{"$f":"IFERROR(VLOOKUP(A135,'1.Портфель кредитів'!A:AC,3,FALSE),\"\")","v":""},{"$f":"IFERROR(VLOOKUP(A135,'1.Портфель кредитів'!A:AC,14,FALSE),\"\")","v":""}]
[null,{"$f":"IFERROR(VLOOKUP(A136,'1.Портфель кредитів'!A:AC,3,FALSE),\"\")","v":""},{"$f":"IFERROR(VLOOKUP(A136,'1.Портфель кредитів'!A:AC,14,FALSE),\"\")","v":""}]
[null,{"$f":"IFERROR(VLOOKUP(A137,'1.Портфель кредитів'!A:AC,3,FALSE),\"\")","v":""},{"$f":"IFERROR(VLOOKUP(A137,'1.Портфель кредитів'!A:AC,14,FALSE),\"\")","v":""}]
[null,{"$f":"IFERROR(VLOOKUP(A138,'1.Портфель кредитів'!A:AC,3,FALSE),\"\")","v":""},{"$f":"IFERROR(VLOOKUP(A138,'1.Портфель кредитів'!A:AC,14,FALSE),\"\")","v":""}]
[null,{"$f":"IFERROR(VLOOKUP(A139,'1.Портфель кредитів'!A:AC,3,FALSE),\"\")","v":""},{"$f":"IFERROR(VLOOKUP(A139,'1.Портфель кредитів'!A:AC,14,FALSE),\"\")","v":""}]
[null,{"$f":"IFERROR(VLOOKUP(A140,'1.Портфель кредитів'!A:AC,3,FALSE),\"\")","v":""},{"$f":"IFERROR(VLOOKUP(A140,'1.Портфель кредитів'!A:AC,14,FALSE),\"\")","v":""}]
[null,{"$f":"IFERROR(VLOOKUP(A141,'1.Портфель кредитів'!A:AC,3,FALSE),\"\")","v":""},{"$f":"IFERROR(VLOOKUP(A141,'1.Портфель кредитів'!A:AC,14,FALSE),\"\")","v":""}]
[null,{"$f":"IFERROR(VLOOKUP(A142,'1.Портфель кредитів'!A:AC,3,FALSE),\"\")","v":""},{"$f":"IFERROR(VLOOKUP(A142,'1.Портфель кредитів'!A:AC,14,FALSE),\"\")","v":""}]
[null,{"$f":"IFERROR(VLOOKUP(A143,'1.Портфель кредитів'!A:AC,3,FALSE),\"\")","v":""},{"$f":"IFERROR(VLOOKUP(A143,'1.Портфель кредитів'!A:AC,14,FALSE),\"\")","v":""}]
[null,{"$f":"IFERROR(VLOOKUP(A144,'1.Портфель кредитів'!A:AC,3,FALSE),\"\")","v":""},{"$f":"IFERROR(VLOOKUP(A144,'1.Портфель кредитів'!A:AC,14,FALSE),\"\")","v":""}]
[null,{"$f":"IFERROR(VLOOKUP(A145,'1.Портфель кредитів'!A:AC,3,FALSE),\"\")","v":""},{"$f":"IFERROR(VLOOKUP(A145,'1.Портфель кредитів'!A:AC,14,FALSE),\"\")","v":""}]
[null,{"$f":"IFERROR(VLOOKUP(A146,'1.Портфель кредитів'!A:AC,3,FALSE),\"\")","v":""},{"$f":"IFERROR(VLOOKUP(A146,'1.Портфель кредитів'!A:AC,14,FALSE),\"\")","v":""}]
[null,{"$f":"IFERROR(VLOOKUP(A147,'1.Портфель кредитів'!A:AC,3,FALSE),\"\")","v":""},{"$f":"IFERROR(VLOOKUP(A147,'1.Портфель кредитів'!A:AC,14,FALSE),\"\")","v":""}]
[null,{"$f":"IFERROR(VLOOKUP(A148,'1.Портфель кредитів'!A:AC,3,FALSE),\"\")","v":""},{"$f":"IFERROR(VLOOKUP(A148,'1.Портфель кредитів'!A:AC,14,FALSE),\"\")","v":""}]
[null,{"$f":"IFERROR(VLOOKUP(A149,'1.Портфель кредитів'!A:AC,3,FALSE),\"\")","v":""},{"$f":"IFERROR(VLOOKUP(A149,'1.Портфель кредитів'!A:AC,14,FALSE),\"\")","v":""}]
[null,{"$f":"IFERROR(VLOOKUP(A150,'1.Портфель кредитів'!A:AC,3,FALSE),\"\")","v":""},{"$f":"IFERROR(VLOOKUP(A150,'1.Портфель кредитів'!A:AC,14,FALSE),\"\")","v":""}]
[null,{"$f":"IFERROR(VLOOKUP(A151,'1.Портфель кредитів'!A:AC,3,FALSE),\"\")","v":""},{"$f":"IFERROR(VLOOKUP(A151,'1.Портфель кредитів'!A:AC,14,FALSE),\"\")","v":""}]
[null,{"$f":"IFERROR(VLOOKUP(A152,'1.Портфель кредитів'!A:AC,3,FALSE),\"\")","v":""},{"$f":"IFERROR(VLOOKUP(A152,'1.Портфель кредитів'!A:AC,14,FALSE),\"\")","v":""}]
[null,{"$f":"IFERROR(VLOOKUP(A153,'1.Портфель кредитів'!A:AC,3,FALSE),\"\")","v":""},{"$f":"IFERROR(VLOOKUP(A153,'1.Портфель кредитів'!A:AC,14,FALSE),\"\")","v":""}]
[null,{"$f":"IFERROR(VLOOKUP(A154,'1.Портфель кредитів'!A:AC,3,FALSE),\"\")","v":""},{"$f":"IFERROR(VLOOKUP(A154,'1.Портфель кредитів'!A:AC,14,FALSE),\"\")","v":""}]
[null,{"$f":"IFERROR(VLOOKUP(A155,'1.Портфель кредитів'!A:AC,3,FALSE),\"\")","v":""},{"$f":"IFERROR(VLOOKUP(A155,'1.Портфель кредитів'!A:AC,14,FALSE),\"\")","v":""}]
[null,{"$f":"IFERROR(VLOOKUP(A156,'1.Портфель кредитів'!A:AC,3,FALSE),\"\")","v":""},{"$f":"IFERROR(VLOOKUP(A156,'1.Портфель кредитів'!A:AC,14,FALSE),\"\")","v":""}]
[null,{"$f":"IFERROR(VLOOKUP(A157,'1.Портфель кредитів'!A:AC,3,FALSE),\"\")","v":""},{"$f":"IFERROR(VLOOKUP(A157,'1.Портфель кредитів'!A:AC,14,FALSE),\"\")","v":""}]
[null,{"$f":"IFERROR(VLOOKUP(A158,'1.Портфель кредитів'!A:AC,3,FALSE),\"\")","v":""},{"$f":"IFERROR(VLOOKUP(A158,'1.Портфель кредитів'!A:AC,14,FALSE),\"\")","v":""}]
[null,{"$f":"IFERROR(VLOOKUP(A159,'1.Портфель кредитів'!A:AC,3,FALSE),\"\")","v":""},{"$f":"IFERROR(VLOOKUP(A159,'1.Портфель кредитів'!A:AC,14,FALSE),\"\")","v":""}]
[null,{"$f":"IFERROR(VLOOKUP(A160,'1.Портфель кредитів'!A:AC,3,FALSE),\"\")","v":""},{"$f":"IFERROR(VLOOKUP(A160,'1.Портфель кредитів'!A:AC,14,FALSE),\"\")","v":""}]
[null,{"$f":"IFERROR(VLOOKUP(A161,'1.Портфель кредитів'!A:AC,3,FALSE),\"\")","v":""},{"$f":"IFERROR(VLOOKUP(A161,'1.Портфель кредитів'!A:AC,14,FALSE),\"\")","v":""}]
[null,{"$f":"IFERROR(VLOOKUP(A162,'1.Портфель кредитів'!A:AC,3,FALSE),\"\")","v":""},{"$f":"IFERROR(VLOOKUP(A162,'1.Портфель кредитів'!A:AC,14,FALSE),\"\")","v":""}]
[null,{"$f":"IFERROR(VLOOKUP(A163,'1.Портфель кредитів'!A:AC,3,FALSE),\"\")","v":""},{"$f":"IFERROR(VLOOKUP(A163,'1.Портфель кредитів'!A:AC,14,FALSE),\"\")","v":""}]
[null,{"$f":"IFERROR(VLOOKUP(A164,'1.Портфель кредитів'!A:AC,3,FALSE),\"\")","v":""},{"$f":"IFERROR(VLOOKUP(A164,'1.Портфель кредитів'!A:AC,14,FALSE),\"\")","v":""}]
[null,{"$f":"IFERROR(VLOOKUP(A165,'1.Портфель кредитів'!A:AC,3,FALSE),\"\")","v":""},{"$f":"IFERROR(VLOOKUP(A165,'1.Портфель кредитів'!A:AC,14,FALSE),\"\")","v":""}]
[null,{"$f":"IFERROR(VLOOKUP(A166,'1.Портфель кредитів'!A:AC,3,FALSE),\"\")","v":""},{"$f":"IFERROR(VLOOKUP(A166,'1.Портфель кредитів'!A:AC,14,FALSE),\"\")","v":""}]
[null,{"$f":"IFERROR(VLOOKUP(A167,'1.Портфель кредитів'!A:AC,3,FALSE),\"\")","v":""},{"$f":"IFERROR(VLOOKUP(A167,'1.Портфель кредитів'!A:AC,14,FALSE),\"\")","v":""}]
[null,{"$f":"IFERROR(VLOOKUP(A168,'1.Портфель кредитів'!A:AC,3,FALSE),\"\")","v":""},{"$f":"IFERROR(VLOOKUP(A168,'1.Портфель кредитів'!A:AC,14,FALSE),\"\")","v":""}]
[null,{"$f":"IFERROR(VLOOKUP(A169,'1.Портфель кредитів'!A:AC,3,FALSE),\"\")","v":""},{"$f":"IFERROR(VLOOKUP(A169,'1.Портфель кредитів'!A:AC,14,FALSE),\"\")","v":""}]
[null,{"$f":"IFERROR(VLOOKUP(A170,'1.Портфель кредитів'!A:AC,3,FALSE),\"\")","v":""},{"$f":"IFERROR(VLOOKUP(A170,'1.Портфель кредитів'!A:AC,14,FALSE),\"\")","v":""}]
[null,{"$f":"IFERROR(VLOOKUP(A171,'1.Портфель кредитів'!A:AC,3,FALSE),\"\")","v":""},{"$f":"IFERROR(VLOOKUP(A171,'1.Портфель кредитів'!A:AC,14,FALSE),\"\")","v":""}]
[null,{"$f":"IFERROR(VLOOKUP(A172,'1.Портфель кредитів'!A:AC,3,FALSE),\"\")","v":""},{"$f":"IFERROR(VLOOKUP(A172,'1.Портфель кредитів'!A:AC,14,FALSE),\"\")","v":""}]
[null,{"$f":"IFERROR(VLOOKUP(A173,'1.Портфель кредитів'!A:AC,3,FALSE),\"\")","v":""},{"$f":"IFERROR(VLOOKUP(A173,'1.Портфель кредитів'!A:AC,14,FALSE),\"\")","v":""}]
[null,{"$f":"IFERROR(VLOOKUP(A174,'1.Портфель кредитів'!A:AC,3,FALSE),\"\")","v":""},{"$f":"IFERROR(VLOOKUP(A174,'1.Портфель кредитів'!A:AC,14,FALSE),\"\")","v":""}]
[null,{"$f":"IFERROR(VLOOKUP(A175,'1.Портфель кредитів'!A:AC,3,FALSE),\"\")","v":""},{"$f":"IFERROR(VLOOKUP(A175,'1.Портфель кредитів'!A:AC,14,FALSE),\"\")","v":""}]
[null,{"$f":"IFERROR(VLOOKUP(A176,'1.Портфель кредитів'!A:AC,3,FALSE),\"\")","v":""},{"$f":"IFERROR(VLOOKUP(A176,'1.Портфель кредитів'!A:AC,14,FALSE),\"\")","v":""}]
[null,{"$f":"IFERROR(VLOOKUP(A177,'1.Портфель кредитів'!A:AC,3,FALSE),\"\")","v":""},{"$f":"IFERROR(VLOOKUP(A177,'1.Портфель кредитів'!A:AC,14,FALSE),\"\")","v":""}]
[null,{"$f":"IFERROR(VLOOKUP(A178,'1.Портфель кредитів'!A:AC,3,FALSE),\"\")","v":""},{"$f":"IFERROR(VLOOKUP(A178,'1.Портфель кредитів'!A:AC,14,FALSE),\"\")","v":""}]
[null,{"$f":"IFERROR(VLOOKUP(A179,'1.Портфель кредитів'!A:AC,3,FALSE),\"\")","v":""},{"$f":"IFERROR(VLOOKUP(A179,'1.Портфель кредитів'!A:AC,14,FALSE),\"\")","v":""}]
[null,{"$f":"IFERROR(VLOOKUP(A180,'1.Портфель кредитів'!A:AC,3,FALSE),\"\")","v":""},{"$f":"IFERROR(VLOOKUP(A180,'1.Портфель кредитів'!A:AC,14,FALSE),\"\")","v":""}]
[null,{"$f":"IFERROR(VLOOKUP(A181,'1.Портфель кредитів'!A:AC,3,FALSE),\"\")","v":""},{"$f":"IFERROR(VLOOKUP(A181,'1.Портфель кредитів'!A:AC,14,FALSE),\"\")","v":""}]
[null,{"$f":"IFERROR(VLOOKUP(A182,'1.Портфель кредитів'!A:AC,3,FALSE),\"\")","v":""},{"$f":"IFERROR(VLOOKUP(A182,'1.Портфель кредитів'!A:AC,14,FALSE),\"\")","v":""}]
[null,{"$f":"IFERROR(VLOOKUP(A183,'1.Портфель кредитів'!A:AC,3,FALSE),\"\")","v":""},{"$f":"IFERROR(VLOOKUP(A183,'1.Портфель кредитів'!A:AC,14,FALSE),\"\")","v":""}]
[null,{"$f":"IFERROR(VLOOKUP(A184,'1.Портфель кредитів'!A:AC,3,FALSE),\"\")","v":""},{"$f":"IFERROR(VLOOKUP(A184,'1.Портфель кредитів'!A:AC,14,FALSE),\"\")","v":""}]
[null,{"$f":"IFERROR(VLOOKUP(A185,'1.Портфель кредитів'!A:AC,3,FALSE),\"\")","v":""},{"$f":"IFERROR(VLOOKUP(A185,'1.Портфель кредитів'!A:AC,14,FALSE),\"\")","v":""}]
[null,{"$f":"IFERROR(VLOOKUP(A186,'1.Портфель кредитів'!A:AC,3,FALSE),\"\")","v":""},{"$f":"IFERROR(VLOOKUP(A186,'1.Портфель кредитів'!A:AC,14,FALSE),\"\")","v":""}]
[null,{"$f":"IFERROR(VLOOKUP(A187,'1.Портфель кредитів'!A:AC,3,FALSE),\"\")","v":""},{"$f":"IFERROR(VLOOKUP(A187,'1.Портфель кредитів'!A:AC,14,FALSE),\"\")","v":""}]
[null,{"$f":"IFERROR(VLOOKUP(A188,'1.Портфель кредитів'!A:AC,3,FALSE),\"\")","v":""},{"$f":"IFERROR(VLOOKUP(A188,'1.Портфель кредитів'!A:AC,14,FALSE),\"\")","v":""}]
[null,{"$f":"IFERROR(VLOOKUP(A189,'1.Портфель кредитів'!A:AC,3,FALSE),\"\")","v":""},{"$f":"IFERROR(VLOOKUP(A189,'1.Портфель кредитів'!A:AC,14,FALSE),\"\")","v":""}]
[null,{"$f":"IFERROR(VLOOKUP(A190,'1.Портфель кредитів'!A:AC,3,FALSE),\"\")","v":""},{"$f":"IFERROR(VLOOKUP(A190,'1.Портфель кредитів'!A:AC,14,FALSE),\"\")","v":""}]
[null,{"$f":"IFERROR(VLOOKUP(A191,'1.Портфель кредитів'!A:AC,3,FALSE),\"\")","v":""},{"$f":"IFERROR(VLOOKUP(A191,'1.Портфель кредитів'!A:AC,14,FALSE),\"\")","v":""}]
[null,{"$f":"IFERROR(VLOOKUP(A192,'1.Портфель кредитів'!A:AC,3,FALSE),\"\")","v":""},{"$f":"IFERROR(VLOOKUP(A192,'1.Портфель кредитів'!A:AC,14,FALSE),\"\")","v":""}]
[null,{"$f":"IFERROR(VLOOKUP(A193,'1.Портфель кредитів'!A:AC,3,FALSE),\"\")","v":""},{"$f":"IFERROR(VLOOKUP(A193,'1.Портфель кредитів'!A:AC,14,FALSE),\"\")","v":""}]
[null,{"$f":"IFERROR(VLOOKUP(A194,'1.Портфель кредитів'!A:AC,3,FALSE),\"\")","v":""},{"$f":"IFERROR(VLOOKUP(A194,'1.Портфель кредитів'!A:AC,14,FALSE),\"\")","v":""}]
[null,{"$f":"IFERROR(VLOOKUP(A195,'1.Портфель кредитів'!A:AC,3,FALSE),\"\")","v":""},{"$f":"IFERROR(VLOOKUP(A195,'1.Портфель кредитів'!A:AC,14,FALSE),\"\")","v":""}]
[null,{"$f":"IFERROR(VLOOKUP(A196,'1.Портфель кредитів'!A:AC,3,FALSE),\"\")","v":""},{"$f":"IFERROR(VLOOKUP(A196,'1.Портфель кредитів'!A:AC,14,FALSE),\"\")","v":""}]
[null,{"$f":"IFERROR(VLOOKUP(A197,'1.Портфель кредитів'!A:AC,3,FALSE),\"\")","v":""},{"$f":"IFERROR(VLOOKUP(A197,'1.Портфель кредитів'!A:AC,14,FALSE),\"\")","v":""}]
[null,{"$f":"IFERROR(VLOOKUP(A198,'1.Портфель кредитів'!A:AC,3,FALSE),\"\")","v":""},{"$f":"IFERROR(VLOOKUP(A198,'1.Портфель кредитів'!A:AC,14,FALSE),\"\")","v":""}]
[null,{"$f":"IFERROR(VLOOKUP(A199,'1.Портфель кредитів'!A:AC,3,FALSE),\"\")","v":""},{"$f":"IFERROR(VLOOKUP(A199,'1.Портфель кредитів'!A:AC,14,FALSE),\"\")","v":""}]
[null,{"$f":"IFERROR(VLOOKUP(A200,'1.Портфель кредитів'!A:AC,3,FALSE),\"\")","v":""},{"$f":"IFERROR(VLOOKUP(A200,'1.Портфель кредитів'!A:AC,14,FALSE),\"\")","v":""}]
[null,{"$f":"IFERROR(VLOOKUP(A201,'1.Портфель кредитів'!A:AC,3,FALSE),\"\")","v":""},{"$f":"IFERROR(VLOOKUP(A201,'1.Портфель кредитів'!A:AC,14,FALSE),\"\")","v":""}]
[null,{"$f":"IFERROR(VLOOKUP(A202,'1.Портфель кредитів'!A:AC,3,FALSE),\"\")","v":""},{"$f":"IFERROR(VLOOKUP(A202,'1.Портфель кредитів'!A:AC,14,FALSE),\"\")","v":""}]
[null,{"$f":"IFERROR(VLOOKUP(A203,'1.Портфель кредитів'!A:AC,3,FALSE),\"\")","v":""},{"$f":"IFERROR(VLOOKUP(A203,'1.Портфель кредитів'!A:AC,14,FALSE),\"\")","v":""}]
[null,{"$f":"IFERROR(VLOOKUP(A204,'1.Портфель кредитів'!A:AC,3,FALSE),\"\")","v":""},{"$f":"IFERROR(VLOOKUP(A204,'1.Портфель кредитів'!A:AC,14,FALSE),\"\")","v":""}]
[null,{"$f":"IFERROR(VLOOKUP(A205,'1.Портфель кредитів'!A:AC,3,FALSE),\"\")","v":""},{"$f":"IFERROR(VLOOKUP(A205,'1.Портфель кредитів'!A:AC,14,FALSE),\"\")","v":""}]
[null,{"$f":"IFERROR(VLOOKUP(A206,'1.Портфель кредитів'!A:AC,3,FALSE),\"\")","v":""},{"$f":"IFERROR(VLOOKUP(A206,'1.Портфель кредитів'!A:AC,14,FALSE),\"\")","v":""}]
[null,{"$f":"IFERROR(VLOOKUP(A207,'1.Портфель кредитів'!A:AC,3,FALSE),\"\")","v":""},{"$f":"IFERROR(VLOOKUP(A207,'1.Портфель кредитів'!A:AC,14,FALSE),\"\")","v":""}]
[null,{"$f":"IFERROR(VLOOKUP(A208,'1.Портфель кредитів'!A:AC,3,FALSE),\"\")","v":""},{"$f":"IFERROR(VLOOKUP(A208,'1.Портфель кредитів'!A:AC,14,FALSE),\"\")","v":""}]
[null,{"$f":"IFERROR(VLOOKUP(A209,'1.Портфель кредитів'!A:AC,3,FALSE),\"\")","v":""},{"$f":"IFERROR(VLOOKUP(A209,'1.Портфель кредитів'!A:AC,14,FALSE),\"\")","v":""}]
[null,{"$f":"IFERROR(VLOOKUP(A210,'1.Портфель кредитів'!A:AC,3,FALSE),\"\")","v":""},{"$f":"IFERROR(VLOOKUP(A210,'1.Портфель кредитів'!A:AC,14,FALSE),\"\")","v":""}]
[null,{"$f":"IFERROR(VLOOKUP(A211,'1.Портфель кредитів'!A:AC,3,FALSE),\"\")","v":""},{"$f":"IFERROR(VLOOKUP(A211,'1.Портфель кредитів'!A:AC,14,FALSE),\"\")","v":""}]
[null,{"$f":"IFERROR(VLOOKUP(A212,'1.Портфель кредитів'!A:AC,3,FALSE),\"\")","v":""},{"$f":"IFERROR(VLOOKUP(A212,'1.Портфель кредитів'!A:AC,14,FALSE),\"\")","v":""}]
[null,{"$f":"IFERROR(VLOOKUP(A213,'1.Портфель кредитів'!A:AC,3,FALSE),\"\")","v":""},{"$f":"IFERROR(VLOOKUP(A213,'1.Портфель кредитів'!A:AC,14,FALSE),\"\")","v":""}]
[null,{"$f":"IFERROR(VLOOKUP(A214,'1.Портфель кредитів'!A:AC,3,FALSE),\"\")","v":""},{"$f":"IFERROR(VLOOKUP(A214,'1.Портфель кредитів'!A:AC,14,FALSE),\"\")","v":""}]
[null,{"$f":"IFERROR(VLOOKUP(A215,'1.Портфель кредитів'!A:AC,3,FALSE),\"\")","v":""},{"$f":"IFERROR(VLOOKUP(A215,'1.Портфель кредитів'!A:AC,14,FALSE),\"\")","v":""}]
[null,{"$f":"IFERROR(VLOOKUP(A216,'1.Портфель кредитів'!A:AC,3,FALSE),\"\")","v":""},{"$f":"IFERROR(VLOOKUP(A216,'1.Портфель кредитів'!A:AC,14,FALSE),\"\")","v":""}]
[null,{"$f":"IFERROR(VLOOKUP(A217,'1.Портфель кредитів'!A:AC,3,FALSE),\"\")","v":""},{"$f":"IFERROR(VLOOKUP(A217,'1.Портфель кредитів'!A:AC,14,FALSE),\"\")","v":""}]
[null,{"$f":"IFERROR(VLOOKUP(A218,'1.Портфель кредитів'!A:AC,3,FALSE),\"\")","v":""},{"$f":"IFERROR(VLOOKUP(A218,'1.Портфель кредитів'!A:AC,14,FALSE),\"\")","v":""}]
[null,{"$f":"IFERROR(VLOOKUP(A219,'1.Портфель кредитів'!A:AC,3,FALSE),\"\")","v":""},{"$f":"IFERROR(VLOOKUP(A219,'1.Портфель кредитів'!A:AC,14,FALSE),\"\")","v":""}]
[null,{"$f":"IFERROR(VLOOKUP(A220,'1.Портфель кредитів'!A:AC,3,FALSE),\"\")","v":""},{"$f":"IFERROR(VLOOKUP(A220,'1.Портфель кредитів'!A:AC,14,FALSE),\"\")","v":""}]
[null,{"$f":"IFERROR(VLOOKUP(A221,'1.Портфель кредитів'!A:AC,3,FALSE),\"\")","v":""},{"$f":"IFERROR(VLOOKUP(A221,'1.Портфель кредитів'!A:AC,14,FALSE),\"\")","v":""}]
[null,{"$f":"IFERROR(VLOOKUP(A222,'1.Портфель кредитів'!A:AC,3,FALSE),\"\")","v":""},{"$f":"IFERROR(VLOOKUP(A222,'1.Портфель кредитів'!A:AC,14,FALSE),\"\")","v":""}]
[null,{"$f":"IFERROR(VLOOKUP(A223,'1.Портфель кредитів'!A:AC,3,FALSE),\"\")","v":""},{"$f":"IFERROR(VLOOKUP(A223,'1.Портфель кредитів'!A:AC,14,FALSE),\"\")","v":""}]
[null,{"$f":"IFERROR(VLOOKUP(A224,'1.Портфель кредитів'!A:AC,3,FALSE),\"\")","v":""},{"$f":"IFERROR(VLOOKUP(A224,'1.Портфель кредитів'!A:AC,14,FALSE),\"\")","v":""}]
[null,{"$f":"IFERROR(VLOOKUP(A225,'1.Портфель кредитів'!A:AC,3,FALSE),\"\")","v":""},{"$f":"IFERROR(VLOOKUP(A225,'1.Портфель кредитів'!A:AC,14,FALSE),\"\")","v":""}]
[null,{"$f":"IFERROR(VLOOKUP(A226,'1.Портфель кредитів'!A:AC,3,FALSE),\"\")","v":""},{"$f":"IFERROR(VLOOKUP(A226,'1.Портфель кредитів'!A:AC,14,FALSE),\"\")","v":""}]
[null,{"$f":"IFERROR(VLOOKUP(A227,'1.Портфель кредитів'!A:AC,3,FALSE),\"\")","v":""},{"$f":"IFERROR(VLOOKUP(A227,'1.Портфель кредитів'!A:AC,14,FALSE),\"\")","v":""}]
[null,{"$f":"IFERROR(VLOOKUP(A228,'1.Портфель кредитів'!A:AC,3,FALSE),\"\")","v":""},{"$f":"IFERROR(VLOOKUP(A228,'1.Портфель кредитів'!A:AC,14,FALSE),\"\")","v":""}]
[null,{"$f":"IFERROR(VLOOKUP(A229,'1.Портфель кредитів'!A:AC,3,FALSE),\"\")","v":""},{"$f":"IFERROR(VLOOKUP(A229,'1.Портфель кредитів'!A:AC,14,FALSE),\"\")","v":""}]
[null,{"$f":"IFERROR(VLOOKUP(A230,'1.Портфель кредитів'!A:AC,3,FALSE),\"\")","v":""},{"$f":"IFERROR(VLOOKUP(A230,'1.Портфель кредитів'!A:AC,14,FALSE),\"\")","v":""}]
[null,{"$f":"IFERROR(VLOOKUP(A231,'1.Портфель кредитів'!A:AC,3,FALSE),\"\")","v":""},{"$f":"IFERROR(VLOOKUP(A231,'1.Портфель кредитів'!A:AC,14,FALSE),\"\")","v":""}]
[null,{"$f":"IFERROR(VLOOKUP(A232,'1.Портфель кредитів'!A:AC,3,FALSE),\"\")","v":""},{"$f":"IFERROR(VLOOKUP(A232,'1.Портфель кредитів'!A:AC,14,FALSE),\"\")","v":""}]
[null,{"$f":"IFERROR(VLOOKUP(A233,'1.Портфель кредитів'!A:AC,3,FALSE),\"\")","v":""},{"$f":"IFERROR(VLOOKUP(A233,'1.Портфель кредитів'!A:AC,14,FALSE),\"\")","v":""}]
[null,{"$f":"IFERROR(VLOOKUP(A234,'1.Портфель кредитів'!A:AC,3,FALSE),\"\")","v":""},{"$f":"IFERROR(VLOOKUP(A234,'1.Портфель кредитів'!A:AC,14,FALSE),\"\")","v":""}]
[null,{"$f":"IFERROR(VLOOKUP(A235,'1.Портфель кредитів'!A:AC,3,FALSE),\"\")","v":""},{"$f":"IFERROR(VLOOKUP(A235,'1.Портфель кредитів'!A:AC,14,FALSE),\"\")","v":""}]
[null,{"$f":"IFERROR(VLOOKUP(A236,'1.Портфель кредитів'!A:AC,3,FALSE),\"\")","v":""},{"$f":"IFERROR(VLOOKUP(A236,'1.Портфель кредитів'!A:AC,14,FALSE),\"\")","v":""}]
[null,{"$f":"IFERROR(VLOOKUP(A237,'1.Портфель кредитів'!A:AC,3,FALSE),\"\")","v":""},{"$f":"IFERROR(VLOOKUP(A237,'1.Портфель кредитів'!A:AC,14,FALSE),\"\")","v":""}]
[null,{"$f":"IFERROR(VLOOKUP(A238,'1.Портфель кредитів'!A:AC,3,FALSE),\"\")","v":""},{"$f":"IFERROR(VLOOKUP(A238,'1.Портфель кредитів'!A:AC,14,FALSE),\"\")","v":""}]
[null,{"$f":"IFERROR(VLOOKUP(A239,'1.Портфель кредитів'!A:AC,3,FALSE),\"\")","v":""},{"$f":"IFERROR(VLOOKUP(A239,'1.Портфель кредитів'!A:AC,14,FALSE),\"\")","v":""}]
[null,{"$f":"IFERROR(VLOOKUP(A240,'1.Портфель кредитів'!A:AC,3,FALSE),\"\")","v":""},{"$f":"IFERROR(VLOOKUP(A240,'1.Портфель кредитів'!A:AC,14,FALSE),\"\")","v":""}]
[null,{"$f":"IFERROR(VLOOKUP(A241,'1.Портфель кредитів'!A:AC,3,FALSE),\"\")","v":""},{"$f":"IFERROR(VLOOKUP(A241,'1.Портфель кредитів'!A:AC,14,FALSE),\"\")","v":""}]
[null,{"$f":"IFERROR(VLOOKUP(A242,'1.Портфель кредитів'!A:AC,3,FALSE),\"\")","v":""},{"$f":"IFERROR(VLOOKUP(A242,'1.Портфель кредитів'!A:AC,14,FALSE),\"\")","v":""}]
[null,{"$f":"IFERROR(VLOOKUP(A243,'1.Портфель кредитів'!A:AC,3,FALSE),\"\")","v":""},{"$f":"IFERROR(VLOOKUP(A243,'1.Портфель кредитів'!A:AC,14,FALSE),\"\")","v":""}]
[null,{"$f":"IFERROR(VLOOKUP(A244,'1.Портфель кредитів'!A:AC,3,FALSE),\"\")","v":""},{"$f":"IFERROR(VLOOKUP(A244,'1.Портфель кредитів'!A:AC,14,FALSE),\"\")","v":""}]
[null,{"$f":"IFERROR(VLOOKUP(A245,'1.Портфель кредитів'!A:AC,3,FALSE),\"\")","v":""},{"$f":"IFERROR(VLOOKUP(A245,'1.Портфель кредитів'!A:AC,14,FALSE),\"\")","v":""}]
[null,{"$f":"IFERROR(VLOOKUP(A246,'1.Портфель кредитів'!A:AC,3,FALSE),\"\")","v":""},{"$f":"IFERROR(VLOOKUP(A246,'1.Портфель кредитів'!A:AC,14,FALSE),\"\")","v":""}]
[null,{"$f":"IFERROR(VLOOKUP(A247,'1.Портфель кредитів'!A:AC,3,FALSE),\"\")","v":""},{"$f":"IFERROR(VLOOKUP(A247,'1.Портфель кредитів'!A:AC,14,FALSE),\"\")","v":""}]
[null,{"$f":"IFERROR(VLOOKUP(A248,'1.Портфель кредитів'!A:AC,3,FALSE),\"\")","v":""},{"$f":"IFERROR(VLOOKUP(A248,'1.Портфель кредитів'!A:AC,14,FALSE),\"\")","v":""}]
[null,{"$f":"IFERROR(VLOOKUP(A249,'1.Портфель кредитів'!A:AC,3,FALSE),\"\")","v":""},{"$f":"IFERROR(VLOOKUP(A249,'1.Портфель кредитів'!A:AC,14,FALSE),\"\")","v":""}]
[null,{"$f":"IFERROR(VLOOKUP(A250,'1.Портфель кредитів'!A:AC,3,FALSE),\"\")","v":""},{"$f":"IFERROR(VLOOKUP(A250,'1.Портфель кредитів'!A:AC,14,FALSE),\"\")","v":""}]
[null,{"$f":"IFERROR(VLOOKUP(A251,'1.Портфель кредитів'!A:AC,3,FALSE),\"\")","v":""},{"$f":"IFERROR(VLOOKUP(A251,'1.Портфель кредитів'!A:AC,14,FALSE),\"\")","v":""}]
[null,{"$f":"IFERROR(VLOOKUP(A252,'1.Портфель кредитів'!A:AC,3,FALSE),\"\")","v":""},{"$f":"IFERROR(VLOOKUP(A252,'1.Портфель кредитів'!A:AC,14,FALSE),\"\")","v":""}]
[null,{"$f":"IFERROR(VLOOKUP(A253,'1.Портфель кредитів'!A:AC,3,FALSE),\"\")","v":""},{"$f":"IFERROR(VLOOKUP(A253,'1.Портфель кредитів'!A:AC,14,FALSE),\"\")","v":""}]
[null,{"$f":"IFERROR(VLOOKUP(A254,'1.Портфель кредитів'!A:AC,3,FALSE),\"\")","v":""},{"$f":"IFERROR(VLOOKUP(A254,'1.Портфель кредитів'!A:AC,14,FALSE),\"\")","v":""}]
[null,{"$f":"IFERROR(VLOOKUP(A255,'1.Портфель кредитів'!A:AC,3,FALSE),\"\")","v":""},{"$f":"IFERROR(VLOOKUP(A255,'1.Портфель кредитів'!A:AC,14,FALSE),\"\")","v":""}]
[null,{"$f":"IFERROR(VLOOKUP(A256,'1.Портфель кредитів'!A:AC,3,FALSE),\"\")","v":""},{"$f":"IFERROR(VLOOKUP(A256,'1.Портфель кредитів'!A:AC,14,FALSE),\"\")","v":""}]
[null,{"$f":"IFERROR(VLOOKUP(A257,'1.Портфель кредитів'!A:AC,3,FALSE),\"\")","v":""},{"$f":"IFERROR(VLOOKUP(A257,'1.Портфель кредитів'!A:AC,14,FALSE),\"\")","v":""}]
[null,{"$f":"IFERROR(VLOOKUP(A258,'1.Портфель кредитів'!A:AC,3,FALSE),\"\")","v":""},{"$f":"IFERROR(VLOOKUP(A258,'1.Портфель кредитів'!A:AC,14,FALSE),\"\")","v":""}]
[null,{"$f":"IFERROR(VLOOKUP(A259,'1.Портфель кредитів'!A:AC,3,FALSE),\"\")","v":""},{"$f":"IFERROR(VLOOKUP(A259,'1.Портфель кредитів'!A:AC,14,FALSE),\"\")","v":""}]
[null,{"$f":"IFERROR(VLOOKUP(A260,'1.Портфель кредитів'!A:AC,3,FALSE),\"\")","v":""},{"$f":"IFERROR(VLOOKUP(A260,'1.Портфель кредитів'!A:AC,14,FALSE),\"\")","v":""}]
[null,{"$f":"IFERROR(VLOOKUP(A261,'1.Портфель кредитів'!A:AC,3,FALSE),\"\")","v":""},{"$f":"IFERROR(VLOOKUP(A261,'1.Портфель кредитів'!A:AC,14,FALSE),\"\")","v":""}]
[null,{"$f":"IFERROR(VLOOKUP(A262,'1.Портфель кредитів'!A:AC,3,FALSE),\"\")","v":""},{"$f":"IFERROR(VLOOKUP(A262,'1.Портфель кредитів'!A:AC,14,FALSE),\"\")","v":""}]
[null,{"$f":"IFERROR(VLOOKUP(A263,'1.Портфель кредитів'!A:AC,3,FALSE),\"\")","v":""},{"$f":"IFERROR(VLOOKUP(A263,'1.Портфель кредитів'!A:AC,14,FALSE),\"\")","v":""}]
[null,{"$f":"IFERROR(VLOOKUP(A264,'1.Портфель кредитів'!A:AC,3,FALSE),\"\")","v":""},{"$f":"IFERROR(VLOOKUP(A264,'1.Портфель кредитів'!A:AC,14,FALSE),\"\")","v":""}]
[null,{"$f":"IFERROR(VLOOKUP(A265,'1.Портфель кредитів'!A:AC,3,FALSE),\"\")","v":""},{"$f":"IFERROR(VLOOKUP(A265,'1.Портфель кредитів'!A:AC,14,FALSE),\"\")","v":""}]
[null,{"$f":"IFERROR(VLOOKUP(A266,'1.Портфель кредитів'!A:AC,3,FALSE),\"\")","v":""},{"$f":"IFERROR(VLOOKUP(A266,'1.Портфель кредитів'!A:AC,14,FALSE),\"\")","v":""}]
[null,{"$f":"IFERROR(VLOOKUP(A267,'1.Портфель кредитів'!A:AC,3,FALSE),\"\")","v":""},{"$f":"IFERROR(VLOOKUP(A267,'1.Портфель кредитів'!A:AC,14,FALSE),\"\")","v":""}]
[null,{"$f":"IFERROR(VLOOKUP(A268,'1.Портфель кредитів'!A:AC,3,FALSE),\"\")","v":""},{"$f":"IFERROR(VLOOKUP(A268,'1.Портфель кредитів'!A:AC,14,FALSE),\"\")","v":""}]
[null,{"$f":"IFERROR(VLOOKUP(A269,'1.Портфель кредитів'!A:AC,3,FALSE),\"\")","v":""},{"$f":"IFERROR(VLOOKUP(A269,'1.Портфель кредитів'!A:AC,14,FALSE),\"\")","v":""}]
[null,{"$f":"IFERROR(VLOOKUP(A270,'1.Портфель кредитів'!A:AC,3,FALSE),\"\")","v":""},{"$f":"IFERROR(VLOOKUP(A270,'1.Портфель кредитів'!A:AC,14,FALSE),\"\")","v":""}]
[null,{"$f":"IFERROR(VLOOKUP(A271,'1.Портфель кредитів'!A:AC,3,FALSE),\"\")","v":""},{"$f":"IFERROR(VLOOKUP(A271,'1.Портфель кредитів'!A:AC,14,FALSE),\"\")","v":""}]
[null,{"$f":"IFERROR(VLOOKUP(A272,'1.Портфель кредитів'!A:AC,3,FALSE),\"\")","v":""},{"$f":"IFERROR(VLOOKUP(A272,'1.Портфель кредитів'!A:AC,14,FALSE),\"\")","v":""}]
[null,{"$f":"IFERROR(VLOOKUP(A273,'1.Портфель кредитів'!A:AC,3,FALSE),\"\")","v":""},{"$f":"IFERROR(VLOOKUP(A273,'1.Портфель кредитів'!A:AC,14,FALSE),\"\")","v":""}]
[null,{"$f":"IFERROR(VLOOKUP(A274,'1.Портфель кредитів'!A:AC,3,FALSE),\"\")","v":""},{"$f":"IFERROR(VLOOKUP(A274,'1.Портфель кредитів'!A:AC,14,FALSE),\"\")","v":""}]
[null,{"$f":"IFERROR(VLOOKUP(A275,'1.Портфель кредитів'!A:AC,3,FALSE),\"\")","v":""},{"$f":"IFERROR(VLOOKUP(A275,'1.Портфель кредитів'!A:AC,14,FALSE),\"\")","v":""}]
[null,{"$f":"IFERROR(VLOOKUP(A276,'1.Портфель кредитів'!A:AC,3,FALSE),\"\")","v":""},{"$f":"IFERROR(VLOOKUP(A276,'1.Портфель кредитів'!A:AC,14,FALSE),\"\")","v":""}]
[null,{"$f":"IFERROR(VLOOKUP(A277,'1.Портфель кредитів'!A:AC,3,FALSE),\"\")","v":""},{"$f":"IFERROR(VLOOKUP(A277,'1.Портфель кредитів'!A:AC,14,FALSE),\"\")","v":""}]
[null,{"$f":"IFERROR(VLOOKUP(A278,'1.Портфель кредитів'!A:AC,3,FALSE),\"\")","v":""},{"$f":"IFERROR(VLOOKUP(A278,'1.Портфель кредитів'!A:AC,14,FALSE),\"\")","v":""}]
[null,{"$f":"IFERROR(VLOOKUP(A279,'1.Портфель кредитів'!A:AC,3,FALSE),\"\")","v":""},{"$f":"IFERROR(VLOOKUP(A279,'1.Портфель кредитів'!A:AC,14,FALSE),\"\")","v":""}]
[null,{"$f":"IFERROR(VLOOKUP(A280,'1.Портфель кредитів'!A:AC,3,FALSE),\"\")","v":""},{"$f":"IFERROR(VLOOKUP(A280,'1.Портфель кредитів'!A:AC,14,FALSE),\"\")","v":""}]
[null,{"$f":"IFERROR(VLOOKUP(A281,'1.Портфель кредитів'!A:AC,3,FALSE),\"\")","v":""},{"$f":"IFERROR(VLOOKUP(A281,'1.Портфель кредитів'!A:AC,14,FALSE),\"\")","v":""}]
[null,{"$f":"IFERROR(VLOOKUP(A282,'1.Портфель кредитів'!A:AC,3,FALSE),\"\")","v":""},{"$f":"IFERROR(VLOOKUP(A282,'1.Портфель кредитів'!A:AC,14,FALSE),\"\")","v":""}]
[null,{"$f":"IFERROR(VLOOKUP(A283,'1.Портфель кредитів'!A:AC,3,FALSE),\"\")","v":""},{"$f":"IFERROR(VLOOKUP(A283,'1.Портфель кредитів'!A:AC,14,FALSE),\"\")","v":""}]
[null,{"$f":"IFERROR(VLOOKUP(A284,'1.Портфель кредитів'!A:AC,3,FALSE),\"\")","v":""},{"$f":"IFERROR(VLOOKUP(A284,'1.Портфель кредитів'!A:AC,14,FALSE),\"\")","v":""}]
[null,{"$f":"IFERROR(VLOOKUP(A285,'1.Портфель кредитів'!A:AC,3,FALSE),\"\")","v":""},{"$f":"IFERROR(VLOOKUP(A285,'1.Портфель кредитів'!A:AC,14,FALSE),\"\")","v":""}]
[null,{"$f":"IFERROR(VLOOKUP(A286,'1.Портфель кредитів'!A:AC,3,FALSE),\"\")","v":""},{"$f":"IFERROR(VLOOKUP(A286,'1.Портфель кредитів'!A:AC,14,FALSE),\"\")","v":""}]
[null,{"$f":"IFERROR(VLOOKUP(A287,'1.Портфель кредитів'!A:AC,3,FALSE),\"\")","v":""},{"$f":"IFERROR(VLOOKUP(A287,'1.Портфель кредитів'!A:AC,14,FALSE),\"\")","v":""}]
[null,{"$f":"IFERROR(VLOOKUP(A288,'1.Портфель кредитів'!A:AC,3,FALSE),\"\")","v":""},{"$f":"IFERROR(VLOOKUP(A288,'1.Портфель кредитів'!A:AC,14,FALSE),\"\")","v":""}]
[null,{"$f":"IFERROR(VLOOKUP(A289,'1.Портфель кредитів'!A:AC,3,FALSE),\"\")","v":""},{"$f":"IFERROR(VLOOKUP(A289,'1.Портфель кредитів'!A:AC,14,FALSE),\"\")","v":""}]
[null,{"$f":"IFERROR(VLOOKUP(A290,'1.Портфель кредитів'!A:AC,3,FALSE),\"\")","v":""},{"$f":"IFERROR(VLOOKUP(A290,'1.Портфель кредитів'!A:AC,14,FALSE),\"\")","v":""}]
[null,{"$f":"IFERROR(VLOOKUP(A291,'1.Портфель кредитів'!A:AC,3,FALSE),\"\")","v":""},{"$f":"IFERROR(VLOOKUP(A291,'1.Портфель кредитів'!A:AC,14,FALSE),\"\")","v":""}]
[null,{"$f":"IFERROR(VLOOKUP(A292,'1.Портфель кредитів'!A:AC,3,FALSE),\"\")","v":""},{"$f":"IFERROR(VLOOKUP(A292,'1.Портфель кредитів'!A:AC,14,FALSE),\"\")","v":""}]
[null,{"$f":"IFERROR(VLOOKUP(A293,'1.Портфель кредитів'!A:AC,3,FALSE),\"\")","v":""},{"$f":"IFERROR(VLOOKUP(A293,'1.Портфель кредитів'!A:AC,14,FALSE),\"\")","v":""}]
[null,{"$f":"IFERROR(VLOOKUP(A294,'1.Портфель кредитів'!A:AC,3,FALSE),\"\")","v":""},{"$f":"IFERROR(VLOOKUP(A294,'1.Портфель кредитів'!A:AC,14,FALSE),\"\")","v":""}]
[null,{"$f":"IFERROR(VLOOKUP(A295,'1.Портфель кредитів'!A:AC,3,FALSE),\"\")","v":""},{"$f":"IFERROR(VLOOKUP(A295,'1.Портфель кредитів'!A:AC,14,FALSE),\"\")","v":""}]
[null,{"$f":"IFERROR(VLOOKUP(A296,'1.Портфель кредитів'!A:AC,3,FALSE),\"\")","v":""},{"$f":"IFERROR(VLOOKUP(A296,'1.Портфель кредитів'!A:AC,14,FALSE),\"\")","v":""}]
[null,{"$f":"IFERROR(VLOOKUP(A297,'1.Портфель кредитів'!A:AC,3,FALSE),\"\")","v":""},{"$f":"IFERROR(VLOOKUP(A297,'1.Портфель кредитів'!A:AC,14,FALSE),\"\")","v":""}]
[null,{"$f":"IFERROR(VLOOKUP(A298,'1.Портфель кредитів'!A:AC,3,FALSE),\"\")","v":""},{"$f":"IFERROR(VLOOKUP(A298,'1.Портфель кредитів'!A:AC,14,FALSE),\"\")","v":""}]
[null,{"$f":"IFERROR(VLOOKUP(A299,'1.Портфель кредитів'!A:AC,3,FALSE),\"\")","v":""},{"$f":"IFERROR(VLOOKUP(A299,'1.Портфель кредитів'!A:AC,14,FALSE),\"\")","v":""}]
[null,{"$f":"IFERROR(VLOOKUP(A300,'1.Портфель кредитів'!A:AC,3,FALSE),\"\")","v":""},{"$f":"IFERROR(VLOOKUP(A300,'1.Портфель кредитів'!A:AC,14,FALSE),\"\")","v":""}]
[null,{"$f":"IFERROR(VLOOKUP(A301,'1.Портфель кредитів'!A:AC,3,FALSE),\"\")","v":""},{"$f":"IFERROR(VLOOKUP(A301,'1.Портфель кредитів'!A:AC,14,FALSE),\"\")","v":""}]
[null,{"$f":"IFERROR(VLOOKUP(A302,'1.Портфель кредитів'!A:AC,3,FALSE),\"\")","v":""},{"$f":"IFERROR(VLOOKUP(A302,'1.Портфель кредитів'!A:AC,14,FALSE),\"\")","v":""}]
[null,{"$f":"IFERROR(VLOOKUP(A303,'1.Портфель кредитів'!A:AC,3,FALSE),\"\")","v":""},{"$f":"IFERROR(VLOOKUP(A303,'1.Портфель кредитів'!A:AC,14,FALSE),\"\")","v":""}]
[null,{"$f":"IFERROR(VLOOKUP(A304,'1.Портфель кредитів'!A:AC,3,FALSE),\"\")","v":""},{"$f":"IFERROR(VLOOKUP(A304,'1.Портфель кредитів'!A:AC,14,FALSE),\"\")","v":""}]
[null,{"$f":"IFERROR(VLOOKUP(A305,'1.Портфель кредитів'!A:AC,3,FALSE),\"\")","v":""},{"$f":"IFERROR(VLOOKUP(A305,'1.Портфель кредитів'!A:AC,14,FALSE),\"\")","v":""}]
[null,{"$f":"IFERROR(VLOOKUP(A306,'1.Портфель кредитів'!A:AC,3,FALSE),\"\")","v":""},{"$f":"IFERROR(VLOOKUP(A306,'1.Портфель кредитів'!A:AC,14,FALSE),\"\")","v":""}]
[null,{"$f":"IFERROR(VLOOKUP(A307,'1.Портфель кредитів'!A:AC,3,FALSE),\"\")","v":""},{"$f":"IFERROR(VLOOKUP(A307,'1.Портфель кредитів'!A:AC,14,FALSE),\"\")","v":""}]
[null,{"$f":"IFERROR(VLOOKUP(A308,'1.Портфель кредитів'!A:AC,3,FALSE),\"\")","v":""},{"$f":"IFERROR(VLOOKUP(A308,'1.Портфель кредитів'!A:AC,14,FALSE),\"\")","v":""}]
[null,{"$f":"IFERROR(VLOOKUP(A309,'1.Портфель кредитів'!A:AC,3,FALSE),\"\")","v":""},{"$f":"IFERROR(VLOOKUP(A309,'1.Портфель кредитів'!A:AC,14,FALSE),\"\")","v":""}]
[null,{"$f":"IFERROR(VLOOKUP(A310,'1.Портфель кредитів'!A:AC,3,FALSE),\"\")","v":""},{"$f":"IFERROR(VLOOKUP(A310,'1.Портфель кредитів'!A:AC,14,FALSE),\"\")","v":""}]
[null,{"$f":"IFERROR(VLOOKUP(A311,'1.Портфель кредитів'!A:AC,3,FALSE),\"\")","v":""},{"$f":"IFERROR(VLOOKUP(A311,'1.Портфель кредитів'!A:AC,14,FALSE),\"\")","v":""}]
[null,{"$f":"IFERROR(VLOOKUP(A312,'1.Портфель кредитів'!A:AC,3,FALSE),\"\")","v":""},{"$f":"IFERROR(VLOOKUP(A312,'1.Портфель кредитів'!A:AC,14,FALSE),\"\")","v":""}]
[null,{"$f":"IFERROR(VLOOKUP(A313,'1.Портфель кредитів'!A:AC,3,FALSE),\"\")","v":""},{"$f":"IFERROR(VLOOKUP(A313,'1.Портфель кредитів'!A:AC,14,FALSE),\"\")","v":""}]
[null,{"$f":"IFERROR(VLOOKUP(A314,'1.Портфель кредитів'!A:AC,3,FALSE),\"\")","v":""},{"$f":"IFERROR(VLOOKUP(A314,'1.Портфель кредитів'!A:AC,14,FALSE),\"\")","v":""}]
[null,{"$f":"IFERROR(VLOOKUP(A315,'1.Портфель кредитів'!A:AC,3,FALSE),\"\")","v":""},{"$f":"IFERROR(VLOOKUP(A315,'1.Портфель кредитів'!A:AC,14,FALSE),\"\")","v":""}]
[null,{"$f":"IFERROR(VLOOKUP(A316,'1.Портфель кредитів'!A:AC,3,FALSE),\"\")","v":""},{"$f":"IFERROR(VLOOKUP(A316,'1.Портфель кредитів'!A:AC,14,FALSE),\"\")","v":""}]
[null,{"$f":"IFERROR(VLOOKUP(A317,'1.Портфель кредитів'!A:AC,3,FALSE),\"\")","v":""},{"$f":"IFERROR(VLOOKUP(A317,'1.Портфель кредитів'!A:AC,14,FALSE),\"\")","v":""}]
[null,{"$f":"IFERROR(VLOOKUP(A318,'1.Портфель кредитів'!A:AC,3,FALSE),\"\")","v":""},{"$f":"IFERROR(VLOOKUP(A318,'1.Портфель кредитів'!A:AC,14,FALSE),\"\")","v":""}]
[null,{"$f":"IFERROR(VLOOKUP(A319,'1.Портфель кредитів'!A:AC,3,FALSE),\"\")","v":""},{"$f":"IFERROR(VLOOKUP(A319,'1.Портфель кредитів'!A:AC,14,FALSE),\"\")","v":""}]
[null,{"$f":"IFERROR(VLOOKUP(A320,'1.Портфель кредитів'!A:AC,3,FALSE),\"\")","v":""},{"$f":"IFERROR(VLOOKUP(A320,'1.Портфель кредитів'!A:AC,14,FALSE),\"\")","v":""}]
[null,{"$f":"IFERROR(VLOOKUP(A321,'1.Портфель кредитів'!A:AC,3,FALSE),\"\")","v":""},{"$f":"IFERROR(VLOOKUP(A321,'1.Портфель кредитів'!A:AC,14,FALSE),\"\")","v":""}]
[null,{"$f":"IFERROR(VLOOKUP(A322,'1.Портфель кредитів'!A:AC,3,FALSE),\"\")","v":""},{"$f":"IFERROR(VLOOKUP(A322,'1.Портфель кредитів'!A:AC,14,FALSE),\"\")","v":""}]
[null,{"$f":"IFERROR(VLOOKUP(A323,'1.Портфель кредитів'!A:AC,3,FALSE),\"\")","v":""},{"$f":"IFERROR(VLOOKUP(A323,'1.Портфель кредитів'!A:AC,14,FALSE),\"\")","v":""}]
[null,{"$f":"IFERROR(VLOOKUP(A324,'1.Портфель кредитів'!A:AC,3,FALSE),\"\")","v":""},{"$f":"IFERROR(VLOOKUP(A324,'1.Портфель кредитів'!A:AC,14,FALSE),\"\")","v":""}]
[null,{"$f":"IFERROR(VLOOKUP(A325,'1.Портфель кредитів'!A:AC,3,FALSE),\"\")","v":""},{"$f":"IFERROR(VLOOKUP(A325,'1.Портфель кредитів'!A:AC,14,FALSE),\"\")","v":""}]
[null,{"$f":"IFERROR(VLOOKUP(A326,'1.Портфель кредитів'!A:AC,3,FALSE),\"\")","v":""},{"$f":"IFERROR(VLOOKUP(A326,'1.Портфель кредитів'!A:AC,14,FALSE),\"\")","v":""}]
[null,{"$f":"IFERROR(VLOOKUP(A327,'1.Портфель кредитів'!A:AC,3,FALSE),\"\")","v":""},{"$f":"IFERROR(VLOOKUP(A327,'1.Портфель кредитів'!A:AC,14,FALSE),\"\")","v":""}]
[null,{"$f":"IFERROR(VLOOKUP(A328,'1.Портфель кредитів'!A:AC,3,FALSE),\"\")","v":""},{"$f":"IFERROR(VLOOKUP(A328,'1.Портфель кредитів'!A:AC,14,FALSE),\"\")","v":""}]
[null,{"$f":"IFERROR(VLOOKUP(A329,'1.Портфель кредитів'!A:AC,3,FALSE),\"\")","v":""},{"$f":"IFERROR(VLOOKUP(A329,'1.Портфель кредитів'!A:AC,14,FALSE),\"\")","v":""}]
[null,{"$f":"IFERROR(VLOOKUP(A330,'1.Портфель кредитів'!A:AC,3,FALSE),\"\")","v":""},{"$f":"IFERROR(VLOOKUP(A330,'1.Портфель кредитів'!A:AC,14,FALSE),\"\")","v":""}]
[null,{"$f":"IFERROR(VLOOKUP(A331,'1.Портфель кредитів'!A:AC,3,FALSE),\"\")","v":""},{"$f":"IFERROR(VLOOKUP(A331,'1.Портфель кредитів'!A:AC,14,FALSE),\"\")","v":""}]
[null,{"$f":"IFERROR(VLOOKUP(A332,'1.Портфель кредитів'!A:AC,3,FALSE),\"\")","v":""},{"$f":"IFERROR(VLOOKUP(A332,'1.Портфель кредитів'!A:AC,14,FALSE),\"\")","v":""}]
[null,{"$f":"IFERROR(VLOOKUP(A333,'1.Портфель кредитів'!A:AC,3,FALSE),\"\")","v":""},{"$f":"IFERROR(VLOOKUP(A333,'1.Портфель кредитів'!A:AC,14,FALSE),\"\")","v":""}]
[null,{"$f":"IFERROR(VLOOKUP(A334,'1.Портфель кредитів'!A:AC,3,FALSE),\"\")","v":""},{"$f":"IFERROR(VLOOKUP(A334,'1.Портфель кредитів'!A:AC,14,FALSE),\"\")","v":""}]
[null,{"$f":"IFERROR(VLOOKUP(A335,'1.Портфель кредитів'!A:AC,3,FALSE),\"\")","v":""},{"$f":"IFERROR(VLOOKUP(A335,'1.Портфель кредитів'!A:AC,14,FALSE),\"\")","v":""}]
[null,{"$f":"IFERROR(VLOOKUP(A336,'1.Портфель кредитів'!A:AC,3,FALSE),\"\")","v":""},{"$f":"IFERROR(VLOOKUP(A336,'1.Портфель кредитів'!A:AC,14,FALSE),\"\")","v":""}]
[null,{"$f":"IFERROR(VLOOKUP(A337,'1.Портфель кредитів'!A:AC,3,FALSE),\"\")","v":""},{"$f":"IFERROR(VLOOKUP(A337,'1.Портфель кредитів'!A:AC,14,FALSE),\"\")","v":""}]
[null,{"$f":"IFERROR(VLOOKUP(A338,'1.Портфель кредитів'!A:AC,3,FALSE),\"\")","v":""},{"$f":"IFERROR(VLOOKUP(A338,'1.Портфель кредитів'!A:AC,14,FALSE),\"\")","v":""}]
[null,{"$f":"IFERROR(VLOOKUP(A339,'1.Портфель кредитів'!A:AC,3,FALSE),\"\")","v":""},{"$f":"IFERROR(VLOOKUP(A339,'1.Портфель кредитів'!A:AC,14,FALSE),\"\")","v":""}]
[null,{"$f":"IFERROR(VLOOKUP(A340,'1.Портфель кредитів'!A:AC,3,FALSE),\"\")","v":""},{"$f":"IFERROR(VLOOKUP(A340,'1.Портфель кредитів'!A:AC,14,FALSE),\"\")","v":""}]
[null,{"$f":"IFERROR(VLOOKUP(A341,'1.Портфель кредитів'!A:AC,3,FALSE),\"\")","v":""},{"$f":"IFERROR(VLOOKUP(A341,'1.Портфель кредитів'!A:AC,14,FALSE),\"\")","v":""}]
[null,{"$f":"IFERROR(VLOOKUP(A342,'1.Портфель кредитів'!A:AC,3,FALSE),\"\")","v":""},{"$f":"IFERROR(VLOOKUP(A342,'1.Портфель кредитів'!A:AC,14,FALSE),\"\")","v":""}]
[null,{"$f":"IFERROR(VLOOKUP(A343,'1.Портфель кредитів'!A:AC,3,FALSE),\"\")","v":""},{"$f":"IFERROR(VLOOKUP(A343,'1.Портфель кредитів'!A:AC,14,FALSE),\"\")","v":""}]
[null,{"$f":"IFERROR(VLOOKUP(A344,'1.Портфель кредитів'!A:AC,3,FALSE),\"\")","v":""},{"$f":"IFERROR(VLOOKUP(A344,'1.Портфель кредитів'!A:AC,14,FALSE),\"\")","v":""}]
[null,{"$f":"IFERROR(VLOOKUP(A345,'1.Портфель кредитів'!A:AC,3,FALSE),\"\")","v":""},{"$f":"IFERROR(VLOOKUP(A345,'1.Портфель кредитів'!A:AC,14,FALSE),\"\")","v":""}]
[null,{"$f":"IFERROR(VLOOKUP(A346,'1.Портфель кредитів'!A:AC,3,FALSE),\"\")","v":""},{"$f":"IFERROR(VLOOKUP(A346,'1.Портфель кредитів'!A:AC,14,FALSE),\"\")","v":""}]
[null,{"$f":"IFERROR(VLOOKUP(A347,'1.Портфель кредитів'!A:AC,3,FALSE),\"\")","v":""},{"$f":"IFERROR(VLOOKUP(A347,'1.Портфель кредитів'!A:AC,14,FALSE),\"\")","v":""}]
[null,{"$f":"IFERROR(VLOOKUP(A348,'1.Портфель кредитів'!A:AC,3,FALSE),\"\")","v":""},{"$f":"IFERROR(VLOOKUP(A348,'1.Портфель кредитів'!A:AC,14,FALSE),\"\")","v":""}]
[null,{"$f":"IFERROR(VLOOKUP(A349,'1.Портфель кредитів'!A:AC,3,FALSE),\"\")","v":""},{"$f":"IFERROR(VLOOKUP(A349,'1.Портфель кредитів'!A:AC,14,FALSE),\"\")","v":""}]
[null,{"$f":"IFERROR(VLOOKUP(A350,'1.Портфель кредитів'!A:AC,3,FALSE),\"\")","v":""},{"$f":"IFERROR(VLOOKUP(A350,'1.Портфель кредитів'!A:AC,14,FALSE),\"\")","v":""}]
[null,{"$f":"IFERROR(VLOOKUP(A351,'1.Портфель кредитів'!A:AC,3,FALSE),\"\")","v":""},{"$f":"IFERROR(VLOOKUP(A351,'1.Портфель кредитів'!A:AC,14,FALSE),\"\")","v":""}]
[null,{"$f":"IFERROR(VLOOKUP(A352,'1.Портфель кредитів'!A:AC,3,FALSE),\"\")","v":""},{"$f":"IFERROR(VLOOKUP(A352,'1.Портфель кредитів'!A:AC,14,FALSE),\"\")","v":""}]
[null,{"$f":"IFERROR(VLOOKUP(A353,'1.Портфель кредитів'!A:AC,3,FALSE),\"\")","v":""},{"$f":"IFERROR(VLOOKUP(A353,'1.Портфель кредитів'!A:AC,14,FALSE),\"\")","v":""}]
[null,{"$f":"IFERROR(VLOOKUP(A354,'1.Портфель кредитів'!A:AC,3,FALSE),\"\")","v":""},{"$f":"IFERROR(VLOOKUP(A354,'1.Портфель кредитів'!A:AC,14,FALSE),\"\")","v":""}]
[null,{"$f":"IFERROR(VLOOKUP(A355,'1.Портфель кредитів'!A:AC,3,FALSE),\"\")","v":""},{"$f":"IFERROR(VLOOKUP(A355,'1.Портфель кредитів'!A:AC,14,FALSE),\"\")","v":""}]
[null,{"$f":"IFERROR(VLOOKUP(A356,'1.Портфель кредитів'!A:AC,3,FALSE),\"\")","v":""},{"$f":"IFERROR(VLOOKUP(A356,'1.Портфель кредитів'!A:AC,14,FALSE),\"\")","v":""}]
[null,{"$f":"IFERROR(VLOOKUP(A357,'1.Портфель кредитів'!A:AC,3,FALSE),\"\")","v":""},{"$f":"IFERROR(VLOOKUP(A357,'1.Портфель кредитів'!A:AC,14,FALSE),\"\")","v":""}]
[null,{"$f":"IFERROR(VLOOKUP(A358,'1.Портфель кредитів'!A:AC,3,FALSE),\"\")","v":""},{"$f":"IFERROR(VLOOKUP(A358,'1.Портфель кредитів'!A:AC,14,FALSE),\"\")","v":""}]
[null,{"$f":"IFERROR(VLOOKUP(A359,'1.Портфель кредитів'!A:AC,3,FALSE),\"\")","v":""},{"$f":"IFERROR(VLOOKUP(A359,'1.Портфель кредитів'!A:AC,14,FALSE),\"\")","v":""}]
[null,{"$f":"IFERROR(VLOOKUP(A360,'1.Портфель кредитів'!A:AC,3,FALSE),\"\")","v":""},{"$f":"IFERROR(VLOOKUP(A360,'1.Портфель кредитів'!A:AC,14,FALSE),\"\")","v":""}]
[null,{"$f":"IFERROR(VLOOKUP(A361,'1.Портфель кредитів'!A:AC,3,FALSE),\"\")","v":""},{"$f":"IFERROR(VLOOKUP(A361,'1.Портфель кредитів'!A:AC,14,FALSE),\"\")","v":""}]
[null,{"$f":"IFERROR(VLOOKUP(A362,'1.Портфель кредитів'!A:AC,3,FALSE),\"\")","v":""},{"$f":"IFERROR(VLOOKUP(A362,'1.Портфель кредитів'!A:AC,14,FALSE),\"\")","v":""}]
[null,{"$f":"IFERROR(VLOOKUP(A363,'1.Портфель кредитів'!A:AC,3,FALSE),\"\")","v":""},{"$f":"IFERROR(VLOOKUP(A363,'1.Портфель кредитів'!A:AC,14,FALSE),\"\")","v":""}]
[null,{"$f":"IFERROR(VLOOKUP(A364,'1.Портфель кредитів'!A:AC,3,FALSE),\"\")","v":""},{"$f":"IFERROR(VLOOKUP(A364,'1.Портфель кредитів'!A:AC,14,FALSE),\"\")","v":""}]
[null,{"$f":"IFERROR(VLOOKUP(A365,'1.Портфель кредитів'!A:AC,3,FALSE),\"\")","v":""},{"$f":"IFERROR(VLOOKUP(A365,'1.Портфель кредитів'!A:AC,14,FALSE),\"\")","v":""}]
[null,{"$f":"IFERROR(VLOOKUP(A366,'1.Портфель кредитів'!A:AC,3,FALSE),\"\")","v":""},{"$f":"IFERROR(VLOOKUP(A366,'1.Портфель кредитів'!A:AC,14,FALSE),\"\")","v":""}]
[null,{"$f":"IFERROR(VLOOKUP(A367,'1.Портфель кредитів'!A:AC,3,FALSE),\"\")","v":""},{"$f":"IFERROR(VLOOKUP(A367,'1.Портфель кредитів'!A:AC,14,FALSE),\"\")","v":""}]
[null,{"$f":"IFERROR(VLOOKUP(A368,'1.Портфель кредитів'!A:AC,3,FALSE),\"\")","v":""},{"$f":"IFERROR(VLOOKUP(A368,'1.Портфель кредитів'!A:AC,14,FALSE),\"\")","v":""}]
[null,{"$f":"IFERROR(VLOOKUP(A369,'1.Портфель кредитів'!A:AC,3,FALSE),\"\")","v":""},{"$f":"IFERROR(VLOOKUP(A369,'1.Портфель кредитів'!A:AC,14,FALSE),\"\")","v":""}]
[null,{"$f":"IFERROR(VLOOKUP(A370,'1.Портфель кредитів'!A:AC,3,FALSE),\"\")","v":""},{"$f":"IFERROR(VLOOKUP(A370,'1.Портфель кредитів'!A:AC,14,FALSE),\"\")","v":""}]
[null,{"$f":"IFERROR(VLOOKUP(A371,'1.Портфель кредитів'!A:AC,3,FALSE),\"\")","v":""},{"$f":"IFERROR(VLOOKUP(A371,'1.Портфель кредитів'!A:AC,14,FALSE),\"\")","v":""}]
[null,{"$f":"IFERROR(VLOOKUP(A372,'1.Портфель кредитів'!A:AC,3,FALSE),\"\")","v":""},{"$f":"IFERROR(VLOOKUP(A372,'1.Портфель кредитів'!A:AC,14,FALSE),\"\")","v":""}]
[null,{"$f":"IFERROR(VLOOKUP(A373,'1.Портфель кредитів'!A:AC,3,FALSE),\"\")","v":""},{"$f":"IFERROR(VLOOKUP(A373,'1.Портфель кредитів'!A:AC,14,FALSE),\"\")","v":""}]
[null,{"$f":"IFERROR(VLOOKUP(A374,'1.Портфель кредитів'!A:AC,3,FALSE),\"\")","v":""},{"$f":"IFERROR(VLOOKUP(A374,'1.Портфель кредитів'!A:AC,14,FALSE),\"\")","v":""}]
[null,{"$f":"IFERROR(VLOOKUP(A375,'1.Портфель кредитів'!A:AC,3,FALSE),\"\")","v":""},{"$f":"IFERROR(VLOOKUP(A375,'1.Портфель кредитів'!A:AC,14,FALSE),\"\")","v":""}]
[null,{"$f":"IFERROR(VLOOKUP(A376,'1.Портфель кредитів'!A:AC,3,FALSE),\"\")","v":""},{"$f":"IFERROR(VLOOKUP(A376,'1.Портфель кредитів'!A:AC,14,FALSE),\"\")","v":""}]
[null,{"$f":"IFERROR(VLOOKUP(A377,'1.Портфель кредитів'!A:AC,3,FALSE),\"\")","v":""},{"$f":"IFERROR(VLOOKUP(A377,'1.Портфель кредитів'!A:AC,14,FALSE),\"\")","v":""}]
[null,{"$f":"IFERROR(VLOOKUP(A378,'1.Портфель кредитів'!A:AC,3,FALSE),\"\")","v":""},{"$f":"IFERROR(VLOOKUP(A378,'1.Портфель кредитів'!A:AC,14,FALSE),\"\")","v":""}]
[null,{"$f":"IFERROR(VLOOKUP(A379,'1.Портфель кредитів'!A:AC,3,FALSE),\"\")","v":""},{"$f":"IFERROR(VLOOKUP(A379,'1.Портфель кредитів'!A:AC,14,FALSE),\"\")","v":""}]
[null,{"$f":"IFERROR(VLOOKUP(A380,'1.Портфель кредитів'!A:AC,3,FALSE),\"\")","v":""},{"$f":"IFERROR(VLOOKUP(A380,'1.Портфель кредитів'!A:AC,14,FALSE),\"\")","v":""}]
[null,{"$f":"IFERROR(VLOOKUP(A381,'1.Портфель кредитів'!A:AC,3,FALSE),\"\")","v":""},{"$f":"IFERROR(VLOOKUP(A381,'1.Портфель кредитів'!A:AC,14,FALSE),\"\")","v":""}]
[null,{"$f":"IFERROR(VLOOKUP(A382,'1.Портфель кредитів'!A:AC,3,FALSE),\"\")","v":""},{"$f":"IFERROR(VLOOKUP(A382,'1.Портфель кредитів'!A:AC,14,FALSE),\"\")","v":""}]
[null,{"$f":"IFERROR(VLOOKUP(A383,'1.Портфель кредитів'!A:AC,3,FALSE),\"\")","v":""},{"$f":"IFERROR(VLOOKUP(A383,'1.Портфель кредитів'!A:AC,14,FALSE),\"\")","v":""}]
[null,{"$f":"IFERROR(VLOOKUP(A384,'1.Портфель кредитів'!A:AC,3,FALSE),\"\")","v":""},{"$f":"IFERROR(VLOOKUP(A384,'1.Портфель кредитів'!A:AC,14,FALSE),\"\")","v":""}]
[null,{"$f":"IFERROR(VLOOKUP(A385,'1.Портфель кредитів'!A:AC,3,FALSE),\"\")","v":""},{"$f":"IFERROR(VLOOKUP(A385,'1.Портфель кредитів'!A:AC,14,FALSE),\"\")","v":""}]
[null,{"$f":"IFERROR(VLOOKUP(A386,'1.Портфель кредитів'!A:AC,3,FALSE),\"\")","v":""},{"$f":"IFERROR(VLOOKUP(A386,'1.Портфель кредитів'!A:AC,14,FALSE),\"\")","v":""}]
[null,{"$f":"IFERROR(VLOOKUP(A387,'1.Портфель кредитів'!A:AC,3,FALSE),\"\")","v":""},{"$f":"IFERROR(VLOOKUP(A387,'1.Портфель кредитів'!A:AC,14,FALSE),\"\")","v":""}]
[null,{"$f":"IFERROR(VLOOKUP(A388,'1.Портфель кредитів'!A:AC,3,FALSE),\"\")","v":""},{"$f":"IFERROR(VLOOKUP(A388,'1.Портфель кредитів'!A:AC,14,FALSE),\"\")","v":""}]
[null,{"$f":"IFERROR(VLOOKUP(A389,'1.Портфель кредитів'!A:AC,3,FALSE),\"\")","v":""},{"$f":"IFERROR(VLOOKUP(A389,'1.Портфель кредитів'!A:AC,14,FALSE),\"\")","v":""}]
[null,{"$f":"IFERROR(VLOOKUP(A390,'1.Портфель кредитів'!A:AC,3,FALSE),\"\")","v":""},{"$f":"IFERROR(VLOOKUP(A390,'1.Портфель кредитів'!A:AC,14,FALSE),\"\")","v":""}]
[null,{"$f":"IFERROR(VLOOKUP(A391,'1.Портфель кредитів'!A:AC,3,FALSE),\"\")","v":""},{"$f":"IFERROR(VLOOKUP(A391,'1.Портфель кредитів'!A:AC,14,FALSE),\"\")","v":""}]
[null,{"$f":"IFERROR(VLOOKUP(A392,'1.Портфель кредитів'!A:AC,3,FALSE),\"\")","v":""},{"$f":"IFERROR(VLOOKUP(A392,'1.Портфель кредитів'!A:AC,14,FALSE),\"\")","v":""}]
[null,{"$f":"IFERROR(VLOOKUP(A393,'1.Портфель кредитів'!A:AC,3,FALSE),\"\")","v":""},{"$f":"IFERROR(VLOOKUP(A393,'1.Портфель кредитів'!A:AC,14,FALSE),\"\")","v":""}]
[null,{"$f":"IFERROR(VLOOKUP(A394,'1.Портфель кредитів'!A:AC,3,FALSE),\"\")","v":""},{"$f":"IFERROR(VLOOKUP(A394,'1.Портфель кредитів'!A:AC,14,FALSE),\"\")","v":""}]
[null,{"$f":"IFERROR(VLOOKUP(A395,'1.Портфель кредитів'!A:AC,3,FALSE),\"\")","v":""},{"$f":"IFERROR(VLOOKUP(A395,'1.Портфель кредитів'!A:AC,14,FALSE),\"\")","v":""}]
[null,{"$f":"IFERROR(VLOOKUP(A396,'1.Портфель кредитів'!A:AC,3,FALSE),\"\")","v":""},{"$f":"IFERROR(VLOOKUP(A396,'1.Портфель кредитів'!A:AC,14,FALSE),\"\")","v":""}]
[null,{"$f":"IFERROR(VLOOKUP(A397,'1.Портфель кредитів'!A:AC,3,FALSE),\"\")","v":""},{"$f":"IFERROR(VLOOKUP(A397,'1.Портфель кредитів'!A:AC,14,FALSE),\"\")","v":""}]
[null,{"$f":"IFERROR(VLOOKUP(A398,'1.Портфель кредитів'!A:AC,3,FALSE),\"\")","v":""},{"$f":"IFERROR(VLOOKUP(A398,'1.Портфель кредитів'!A:AC,14,FALSE),\"\")","v":""}]
[null,{"$f":"IFERROR(VLOOKUP(A399,'1.Портфель кредитів'!A:AC,3,FALSE),\"\")","v":""},{"$f":"IFERROR(VLOOKUP(A399,'1.Портфель кредитів'!A:AC,14,FALSE),\"\")","v":""}]
[null,{"$f":"IFERROR(VLOOKUP(A400,'1.Портфель кредитів'!A:AC,3,FALSE),\"\")","v":""},{"$f":"IFERROR(VLOOKUP(A400,'1.Портфель кредитів'!A:AC,14,FALSE),\"\")","v":""}]
[null,{"$f":"IFERROR(VLOOKUP(A401,'1.Портфель кредитів'!A:AC,3,FALSE),\"\")","v":""},{"$f":"IFERROR(VLOOKUP(A401,'1.Портфель кредитів'!A:AC,14,FALSE),\"\")","v":""}]
[null,{"$f":"IFERROR(VLOOKUP(A402,'1.Портфель кредитів'!A:AC,3,FALSE),\"\")","v":""},{"$f":"IFERROR(VLOOKUP(A402,'1.Портфель кредитів'!A:AC,14,FALSE),\"\")","v":""}]
[null,{"$f":"IFERROR(VLOOKUP(A403,'1.Портфель кредитів'!A:AC,3,FALSE),\"\")","v":""},{"$f":"IFERROR(VLOOKUP(A403,'1.Портфель кредитів'!A:AC,14,FALSE),\"\")","v":""}]
[null,{"$f":"IFERROR(VLOOKUP(A404,'1.Портфель кредитів'!A:AC,3,FALSE),\"\")","v":""},{"$f":"IFERROR(VLOOKUP(A404,'1.Портфель кредитів'!A:AC,14,FALSE),\"\")","v":""}]
[null,{"$f":"IFERROR(VLOOKUP(A405,'1.Портфель кредитів'!A:AC,3,FALSE),\"\")","v":""},{"$f":"IFERROR(VLOOKUP(A405,'1.Портфель кредитів'!A:AC,14,FALSE),\"\")","v":""}]
[null,{"$f":"IFERROR(VLOOKUP(A406,'1.Портфель кредитів'!A:AC,3,FALSE),\"\")","v":""},{"$f":"IFERROR(VLOOKUP(A406,'1.Портфель кредитів'!A:AC,14,FALSE),\"\")","v":""}]
[null,{"$f":"IFERROR(VLOOKUP(A407,'1.Портфель кредитів'!A:AC,3,FALSE),\"\")","v":""},{"$f":"IFERROR(VLOOKUP(A407,'1.Портфель кредитів'!A:AC,14,FALSE),\"\")","v":""}]
[null,{"$f":"IFERROR(VLOOKUP(A408,'1.Портфель кредитів'!A:AC,3,FALSE),\"\")","v":""},{"$f":"IFERROR(VLOOKUP(A408,'1.Портфель кредитів'!A:AC,14,FALSE),\"\")","v":""}]
[null,{"$f":"IFERROR(VLOOKUP(A409,'1.Портфель кредитів'!A:AC,3,FALSE),\"\")","v":""},{"$f":"IFERROR(VLOOKUP(A409,'1.Портфель кредитів'!A:AC,14,FALSE),\"\")","v":""}]
[null,{"$f":"IFERROR(VLOOKUP(A410,'1.Портфель кредитів'!A:AC,3,FALSE),\"\")","v":""},{"$f":"IFERROR(VLOOKUP(A410,'1.Портфель кредитів'!A:AC,14,FALSE),\"\")","v":""}]
[null,{"$f":"IFERROR(VLOOKUP(A411,'1.Портфель кредитів'!A:AC,3,FALSE),\"\")","v":""},{"$f":"IFERROR(VLOOKUP(A411,'1.Портфель кредитів'!A:AC,14,FALSE),\"\")","v":""}]
[null,{"$f":"IFERROR(VLOOKUP(A412,'1.Портфель кредитів'!A:AC,3,FALSE),\"\")","v":""},{"$f":"IFERROR(VLOOKUP(A412,'1.Портфель кредитів'!A:AC,14,FALSE),\"\")","v":""}]
[null,{"$f":"IFERROR(VLOOKUP(A413,'1.Портфель кредитів'!A:AC,3,FALSE),\"\")","v":""},{"$f":"IFERROR(VLOOKUP(A413,'1.Портфель кредитів'!A:AC,14,FALSE),\"\")","v":""}]
[null,{"$f":"IFERROR(VLOOKUP(A414,'1.Портфель кредитів'!A:AC,3,FALSE),\"\")","v":""},{"$f":"IFERROR(VLOOKUP(A414,'1.Портфель кредитів'!A:AC,14,FALSE),\"\")","v":""}]
[null,{"$f":"IFERROR(VLOOKUP(A415,'1.Портфель кредитів'!A:AC,3,FALSE),\"\")","v":""},{"$f":"IFERROR(VLOOKUP(A415,'1.Портфель кредитів'!A:AC,14,FALSE),\"\")","v":""}]
[null,{"$f":"IFERROR(VLOOKUP(A416,'1.Портфель кредитів'!A:AC,3,FALSE),\"\")","v":""},{"$f":"IFERROR(VLOOKUP(A416,'1.Портфель кредитів'!A:AC,14,FALSE),\"\")","v":""}]
[null,{"$f":"IFERROR(VLOOKUP(A417,'1.Портфель кредитів'!A:AC,3,FALSE),\"\")","v":""},{"$f":"IFERROR(VLOOKUP(A417,'1.Портфель кредитів'!A:AC,14,FALSE),\"\")","v":""}]
[null,{"$f":"IFERROR(VLOOKUP(A418,'1.Портфель кредитів'!A:AC,3,FALSE),\"\")","v":""},{"$f":"IFERROR(VLOOKUP(A418,'1.Портфель кредитів'!A:AC,14,FALSE),\"\")","v":""}]
[null,{"$f":"IFERROR(VLOOKUP(A419,'1.Портфель кредитів'!A:AC,3,FALSE),\"\")","v":""},{"$f":"IFERROR(VLOOKUP(A419,'1.Портфель кредитів'!A:AC,14,FALSE),\"\")","v":""}]
[null,{"$f":"IFERROR(VLOOKUP(A420,'1.Портфель кредитів'!A:AC,3,FALSE),\"\")","v":""},{"$f":"IFERROR(VLOOKUP(A420,'1.Портфель кредитів'!A:AC,14,FALSE),\"\")","v":""}]
[null,{"$f":"IFERROR(VLOOKUP(A421,'1.Портфель кредитів'!A:AC,3,FALSE),\"\")","v":""},{"$f":"IFERROR(VLOOKUP(A421,'1.Портфель кредитів'!A:AC,14,FALSE),\"\")","v":""}]
[null,{"$f":"IFERROR(VLOOKUP(A422,'1.Портфель кредитів'!A:AC,3,FALSE),\"\")","v":""},{"$f":"IFERROR(VLOOKUP(A422,'1.Портфель кредитів'!A:AC,14,FALSE),\"\")","v":""}]
[null,{"$f":"IFERROR(VLOOKUP(A423,'1.Портфель кредитів'!A:AC,3,FALSE),\"\")","v":""},{"$f":"IFERROR(VLOOKUP(A423,'1.Портфель кредитів'!A:AC,14,FALSE),\"\")","v":""}]
[null,{"$f":"IFERROR(VLOOKUP(A424,'1.Портфель кредитів'!A:AC,3,FALSE),\"\")","v":""},{"$f":"IFERROR(VLOOKUP(A424,'1.Портфель кредитів'!A:AC,14,FALSE),\"\")","v":""}]
[null,{"$f":"IFERROR(VLOOKUP(A425,'1.Портфель кредитів'!A:AC,3,FALSE),\"\")","v":""},{"$f":"IFERROR(VLOOKUP(A425,'1.Портфель кредитів'!A:AC,14,FALSE),\"\")","v":""}]
[null,{"$f":"IFERROR(VLOOKUP(A426,'1.Портфель кредитів'!A:AC,3,FALSE),\"\")","v":""},{"$f":"IFERROR(VLOOKUP(A426,'1.Портфель кредитів'!A:AC,14,FALSE),\"\")","v":""}]
[null,{"$f":"IFERROR(VLOOKUP(A427,'1.Портфель кредитів'!A:AC,3,FALSE),\"\")","v":""},{"$f":"IFERROR(VLOOKUP(A427,'1.Портфель кредитів'!A:AC,14,FALSE),\"\")","v":""}]
[null,{"$f":"IFERROR(VLOOKUP(A428,'1.Портфель кредитів'!A:AC,3,FALSE),\"\")","v":""},{"$f":"IFERROR(VLOOKUP(A428,'1.Портфель кредитів'!A:AC,14,FALSE),\"\")","v":""}]
[null,{"$f":"IFERROR(VLOOKUP(A429,'1.Портфель кредитів'!A:AC,3,FALSE),\"\")","v":""},{"$f":"IFERROR(VLOOKUP(A429,'1.Портфель кредитів'!A:AC,14,FALSE),\"\")","v":""}]
[null,{"$f":"IFERROR(VLOOKUP(A430,'1.Портфель кредитів'!A:AC,3,FALSE),\"\")","v":""},{"$f":"IFERROR(VLOOKUP(A430,'1.Портфель кредитів'!A:AC,14,FALSE),\"\")","v":""}]
[null,{"$f":"IFERROR(VLOOKUP(A431,'1.Портфель кредитів'!A:AC,3,FALSE),\"\")","v":""},{"$f":"IFERROR(VLOOKUP(A431,'1.Портфель кредитів'!A:AC,14,FALSE),\"\")","v":""}]
[null,{"$f":"IFERROR(VLOOKUP(A432,'1.Портфель кредитів'!A:AC,3,FALSE),\"\")","v":""},{"$f":"IFERROR(VLOOKUP(A432,'1.Портфель кредитів'!A:AC,14,FALSE),\"\")","v":""}]
[null,{"$f":"IFERROR(VLOOKUP(A433,'1.Портфель кредитів'!A:AC,3,FALSE),\"\")","v":""},{"$f":"IFERROR(VLOOKUP(A433,'1.Портфель кредитів'!A:AC,14,FALSE),\"\")","v":""}]
[null,{"$f":"IFERROR(VLOOKUP(A434,'1.Портфель кредитів'!A:AC,3,FALSE),\"\")","v":""},{"$f":"IFERROR(VLOOKUP(A434,'1.Портфель кредитів'!A:AC,14,FALSE),\"\")","v":""}]
[null,{"$f":"IFERROR(VLOOKUP(A435,'1.Портфель кредитів'!A:AC,3,FALSE),\"\")","v":""},{"$f":"IFERROR(VLOOKUP(A435,'1.Портфель кредитів'!A:AC,14,FALSE),\"\")","v":""}]
[null,{"$f":"IFERROR(VLOOKUP(A436,'1.Портфель кредитів'!A:AC,3,FALSE),\"\")","v":""},{"$f":"IFERROR(VLOOKUP(A436,'1.Портфель кредитів'!A:AC,14,FALSE),\"\")","v":""}]
[null,{"$f":"IFERROR(VLOOKUP(A437,'1.Портфель кредитів'!A:AC,3,FALSE),\"\")","v":""},{"$f":"IFERROR(VLOOKUP(A437,'1.Портфель кредитів'!A:AC,14,FALSE),\"\")","v":""}]
[null,{"$f":"IFERROR(VLOOKUP(A438,'1.Портфель кредитів'!A:AC,3,FALSE),\"\")","v":""},{"$f":"IFERROR(VLOOKUP(A438,'1.Портфель кредитів'!A:AC,14,FALSE),\"\")","v":""}]
[null,{"$f":"IFERROR(VLOOKUP(A439,'1.Портфель кредитів'!A:AC,3,FALSE),\"\")","v":""},{"$f":"IFERROR(VLOOKUP(A439,'1.Портфель кредитів'!A:AC,14,FALSE),\"\")","v":""}]
[null,{"$f":"IFERROR(VLOOKUP(A440,'1.Портфель кредитів'!A:AC,3,FALSE),\"\")","v":""},{"$f":"IFERROR(VLOOKUP(A440,'1.Портфель кредитів'!A:AC,14,FALSE),\"\")","v":""}]
[null,{"$f":"IFERROR(VLOOKUP(A441,'1.Портфель кредитів'!A:AC,3,FALSE),\"\")","v":""},{"$f":"IFERROR(VLOOKUP(A441,'1.Портфель кредитів'!A:AC,14,FALSE),\"\")","v":""}]
[null,{"$f":"IFERROR(VLOOKUP(A442,'1.Портфель кредитів'!A:AC,3,FALSE),\"\")","v":""},{"$f":"IFERROR(VLOOKUP(A442,'1.Портфель кредитів'!A:AC,14,FALSE),\"\")","v":""}]
[null,{"$f":"IFERROR(VLOOKUP(A443,'1.Портфель кредитів'!A:AC,3,FALSE),\"\")","v":""},{"$f":"IFERROR(VLOOKUP(A443,'1.Портфель кредитів'!A:AC,14,FALSE),\"\")","v":""}]
[null,{"$f":"IFERROR(VLOOKUP(A444,'1.Портфель кредитів'!A:AC,3,FALSE),\"\")","v":""},{"$f":"IFERROR(VLOOKUP(A444,'1.Портфель кредитів'!A:AC,14,FALSE),\"\")","v":""}]
[null,{"$f":"IFERROR(VLOOKUP(A445,'1.Портфель кредитів'!A:AC,3,FALSE),\"\")","v":""},{"$f":"IFERROR(VLOOKUP(A445,'1.Портфель кредитів'!A:AC,14,FALSE),\"\")","v":""}]
[null,{"$f":"IFERROR(VLOOKUP(A446,'1.Портфель кредитів'!A:AC,3,FALSE),\"\")","v":""},{"$f":"IFERROR(VLOOKUP(A446,'1.Портфель кредитів'!A:AC,14,FALSE),\"\")","v":""}]
[null,{"$f":"IFERROR(VLOOKUP(A447,'1.Портфель кредитів'!A:AC,3,FALSE),\"\")","v":""},{"$f":"IFERROR(VLOOKUP(A447,'1.Портфель кредитів'!A:AC,14,FALSE),\"\")","v":""}]
[null,{"$f":"IFERROR(VLOOKUP(A448,'1.Портфель кредитів'!A:AC,3,FALSE),\"\")","v":""},{"$f":"IFERROR(VLOOKUP(A448,'1.Портфель кредитів'!A:AC,14,FALSE),\"\")","v":""}]
[null,{"$f":"IFERROR(VLOOKUP(A449,'1.Портфель кредитів'!A:AC,3,FALSE),\"\")","v":""},{"$f":"IFERROR(VLOOKUP(A449,'1.Портфель кредитів'!A:AC,14,FALSE),\"\")","v":""}]
[null,{"$f":"IFERROR(VLOOKUP(A450,'1.Портфель кредитів'!A:AC,3,FALSE),\"\")","v":""},{"$f":"IFERROR(VLOOKUP(A450,'1.Портфель кредитів'!A:AC,14,FALSE),\"\")","v":""}]
[null,{"$f":"IFERROR(VLOOKUP(A451,'1.Портфель кредитів'!A:AC,3,FALSE),\"\")","v":""},{"$f":"IFERROR(VLOOKUP(A451,'1.Портфель кредитів'!A:AC,14,FALSE),\"\")","v":""}]
[null,{"$f":"IFERROR(VLOOKUP(A452,'1.Портфель кредитів'!A:AC,3,FALSE),\"\")","v":""},{"$f":"IFERROR(VLOOKUP(A452,'1.Портфель кредитів'!A:AC,14,FALSE),\"\")","v":""}]
[null,{"$f":"IFERROR(VLOOKUP(A453,'1.Портфель кредитів'!A:AC,3,FALSE),\"\")","v":""},{"$f":"IFERROR(VLOOKUP(A453,'1.Портфель кредитів'!A:AC,14,FALSE),\"\")","v":""}]
[null,{"$f":"IFERROR(VLOOKUP(A454,'1.Портфель кредитів'!A:AC,3,FALSE),\"\")","v":""},{"$f":"IFERROR(VLOOKUP(A454,'1.Портфель кредитів'!A:AC,14,FALSE),\"\")","v":""}]
[null,{"$f":"IFERROR(VLOOKUP(A455,'1.Портфель кредитів'!A:AC,3,FALSE),\"\")","v":""},{"$f":"IFERROR(VLOOKUP(A455,'1.Портфель кредитів'!A:AC,14,FALSE),\"\")","v":""}]
[null,{"$f":"IFERROR(VLOOKUP(A456,'1.Портфель кредитів'!A:AC,3,FALSE),\"\")","v":""},{"$f":"IFERROR(VLOOKUP(A456,'1.Портфель кредитів'!A:AC,14,FALSE),\"\")","v":""}]
[null,{"$f":"IFERROR(VLOOKUP(A457,'1.Портфель кредитів'!A:AC,3,FALSE),\"\")","v":""},{"$f":"IFERROR(VLOOKUP(A457,'1.Портфель кредитів'!A:AC,14,FALSE),\"\")","v":""}]
[null,{"$f":"IFERROR(VLOOKUP(A458,'1.Портфель кредитів'!A:AC,3,FALSE),\"\")","v":""},{"$f":"IFERROR(VLOOKUP(A458,'1.Портфель кредитів'!A:AC,14,FALSE),\"\")","v":""}]
[null,{"$f":"IFERROR(VLOOKUP(A459,'1.Портфель кредитів'!A:AC,3,FALSE),\"\")","v":""},{"$f":"IFERROR(VLOOKUP(A459,'1.Портфель кредитів'!A:AC,14,FALSE),\"\")","v":""}]
[null,{"$f":"IFERROR(VLOOKUP(A460,'1.Портфель кредитів'!A:AC,3,FALSE),\"\")","v":""},{"$f":"IFERROR(VLOOKUP(A460,'1.Портфель кредитів'!A:AC,14,FALSE),\"\")","v":""}]
[null,{"$f":"IFERROR(VLOOKUP(A461,'1.Портфель кредитів'!A:AC,3,FALSE),\"\")","v":""},{"$f":"IFERROR(VLOOKUP(A461,'1.Портфель кредитів'!A:AC,14,FALSE),\"\")","v":""}]
[null,{"$f":"IFERROR(VLOOKUP(A462,'1.Портфель кредитів'!A:AC,3,FALSE),\"\")","v":""},{"$f":"IFERROR(VLOOKUP(A462,'1.Портфель кредитів'!A:AC,14,FALSE),\"\")","v":""}]
[null,{"$f":"IFERROR(VLOOKUP(A463,'1.Портфель кредитів'!A:AC,3,FALSE),\"\")","v":""},{"$f":"IFERROR(VLOOKUP(A463,'1.Портфель кредитів'!A:AC,14,FALSE),\"\")","v":""}]
[null,{"$f":"IFERROR(VLOOKUP(A464,'1.Портфель кредитів'!A:AC,3,FALSE),\"\")","v":""},{"$f":"IFERROR(VLOOKUP(A464,'1.Портфель кредитів'!A:AC,14,FALSE),\"\")","v":""}]
[null,{"$f":"IFERROR(VLOOKUP(A465,'1.Портфель кредитів'!A:AC,3,FALSE),\"\")","v":""},{"$f":"IFERROR(VLOOKUP(A465,'1.Портфель кредитів'!A:AC,14,FALSE),\"\")","v":""}]
[null,{"$f":"IFERROR(VLOOKUP(A466,'1.Портфель кредитів'!A:AC,3,FALSE),\"\")","v":""},{"$f":"IFERROR(VLOOKUP(A466,'1.Портфель кредитів'!A:AC,14,FALSE),\"\")","v":""}]
[null,{"$f":"IFERROR(VLOOKUP(A467,'1.Портфель кредитів'!A:AC,3,FALSE),\"\")","v":""},{"$f":"IFERROR(VLOOKUP(A467,'1.Портфель кредитів'!A:AC,14,FALSE),\"\")","v":""}]
[null,{"$f":"IFERROR(VLOOKUP(A468,'1.Портфель кредитів'!A:AC,3,FALSE),\"\")","v":""},{"$f":"IFERROR(VLOOKUP(A468,'1.Портфель кредитів'!A:AC,14,FALSE),\"\")","v":""}]
[null,{"$f":"IFERROR(VLOOKUP(A469,'1.Портфель кредитів'!A:AC,3,FALSE),\"\")","v":""},{"$f":"IFERROR(VLOOKUP(A469,'1.Портфель кредитів'!A:AC,14,FALSE),\"\")","v":""}]
[null,{"$f":"IFERROR(VLOOKUP(A470,'1.Портфель кредитів'!A:AC,3,FALSE),\"\")","v":""},{"$f":"IFERROR(VLOOKUP(A470,'1.Портфель кредитів'!A:AC,14,FALSE),\"\")","v":""}]
[null,{"$f":"IFERROR(VLOOKUP(A471,'1.Портфель кредитів'!A:AC,3,FALSE),\"\")","v":""},{"$f":"IFERROR(VLOOKUP(A471,'1.Портфель кредитів'!A:AC,14,FALSE),\"\")","v":""}]
[null,{"$f":"IFERROR(VLOOKUP(A472,'1.Портфель кредитів'!A:AC,3,FALSE),\"\")","v":""},{"$f":"IFERROR(VLOOKUP(A472,'1.Портфель кредитів'!A:AC,14,FALSE),\"\")","v":""}]
[null,{"$f":"IFERROR(VLOOKUP(A473,'1.Портфель кредитів'!A:AC,3,FALSE),\"\")","v":""},{"$f":"IFERROR(VLOOKUP(A473,'1.Портфель кредитів'!A:AC,14,FALSE),\"\")","v":""}]
[null,{"$f":"IFERROR(VLOOKUP(A474,'1.Портфель кредитів'!A:AC,3,FALSE),\"\")","v":""},{"$f":"IFERROR(VLOOKUP(A474,'1.Портфель кредитів'!A:AC,14,FALSE),\"\")","v":""}]
[null,{"$f":"IFERROR(VLOOKUP(A475,'1.Портфель кредитів'!A:AC,3,FALSE),\"\")","v":""},{"$f":"IFERROR(VLOOKUP(A475,'1.Портфель кредитів'!A:AC,14,FALSE),\"\")","v":""}]
[null,{"$f":"IFERROR(VLOOKUP(A476,'1.Портфель кредитів'!A:AC,3,FALSE),\"\")","v":""},{"$f":"IFERROR(VLOOKUP(A476,'1.Портфель кредитів'!A:AC,14,FALSE),\"\")","v":""}]
[null,{"$f":"IFERROR(VLOOKUP(A477,'1.Портфель кредитів'!A:AC,3,FALSE),\"\")","v":""},{"$f":"IFERROR(VLOOKUP(A477,'1.Портфель кредитів'!A:AC,14,FALSE),\"\")","v":""}]
[null,{"$f":"IFERROR(VLOOKUP(A478,'1.Портфель кредитів'!A:AC,3,FALSE),\"\")","v":""},{"$f":"IFERROR(VLOOKUP(A478,'1.Портфель кредитів'!A:AC,14,FALSE),\"\")","v":""}]
[null,{"$f":"IFERROR(VLOOKUP(A479,'1.Портфель кредитів'!A:AC,3,FALSE),\"\")","v":""},{"$f":"IFERROR(VLOOKUP(A479,'1.Портфель кредитів'!A:AC,14,FALSE),\"\")","v":""}]
[null,{"$f":"IFERROR(VLOOKUP(A480,'1.Портфель кредитів'!A:AC,3,FALSE),\"\")","v":""},{"$f":"IFERROR(VLOOKUP(A480,'1.Портфель кредитів'!A:AC,14,FALSE),\"\")","v":""}]
[null,{"$f":"IFERROR(VLOOKUP(A481,'1.Портфель кредитів'!A:AC,3,FALSE),\"\")","v":""},{"$f":"IFERROR(VLOOKUP(A481,'1.Портфель кредитів'!A:AC,14,FALSE),\"\")","v":""}]
[null,{"$f":"IFERROR(VLOOKUP(A482,'1.Портфель кредитів'!A:AC,3,FALSE),\"\")","v":""},{"$f":"IFERROR(VLOOKUP(A482,'1.Портфель кредитів'!A:AC,14,FALSE),\"\")","v":""}]
[null,{"$f":"IFERROR(VLOOKUP(A483,'1.Портфель кредитів'!A:AC,3,FALSE),\"\")","v":""},{"$f":"IFERROR(VLOOKUP(A483,'1.Портфель кредитів'!A:AC,14,FALSE),\"\")","v":""}]
[null,{"$f":"IFERROR(VLOOKUP(A484,'1.Портфель кредитів'!A:AC,3,FALSE),\"\")","v":""},{"$f":"IFERROR(VLOOKUP(A484,'1.Портфель кредитів'!A:AC,14,FALSE),\"\")","v":""}]
[null,{"$f":"IFERROR(VLOOKUP(A485,'1.Портфель кредитів'!A:AC,3,FALSE),\"\")","v":""},{"$f":"IFERROR(VLOOKUP(A485,'1.Портфель кредитів'!A:AC,14,FALSE),\"\")","v":""}]
[null,{"$f":"IFERROR(VLOOKUP(A486,'1.Портфель кредитів'!A:AC,3,FALSE),\"\")","v":""},{"$f":"IFERROR(VLOOKUP(A486,'1.Портфель кредитів'!A:AC,14,FALSE),\"\")","v":""}]
[null,{"$f":"IFERROR(VLOOKUP(A487,'1.Портфель кредитів'!A:AC,3,FALSE),\"\")","v":""},{"$f":"IFERROR(VLOOKUP(A487,'1.Портфель кредитів'!A:AC,14,FALSE),\"\")","v":""}]
[null,{"$f":"IFERROR(VLOOKUP(A488,'1.Портфель кредитів'!A:AC,3,FALSE),\"\")","v":""},{"$f":"IFERROR(VLOOKUP(A488,'1.Портфель кредитів'!A:AC,14,FALSE),\"\")","v":""}]
[null,{"$f":"IFERROR(VLOOKUP(A489,'1.Портфель кредитів'!A:AC,3,FALSE),\"\")","v":""},{"$f":"IFERROR(VLOOKUP(A489,'1.Портфель кредитів'!A:AC,14,FALSE),\"\")","v":""}]
[null,{"$f":"IFERROR(VLOOKUP(A490,'1.Портфель кредитів'!A:AC,3,FALSE),\"\")","v":""},{"$f":"IFERROR(VLOOKUP(A490,'1.Портфель кредитів'!A:AC,14,FALSE),\"\")","v":""}]
[null,{"$f":"IFERROR(VLOOKUP(A491,'1.Портфель кредитів'!A:AC,3,FALSE),\"\")","v":""},{"$f":"IFERROR(VLOOKUP(A491,'1.Портфель кредитів'!A:AC,14,FALSE),\"\")","v":""}]
[null,{"$f":"IFERROR(VLOOKUP(A492,'1.Портфель кредитів'!A:AC,3,FALSE),\"\")","v":""},{"$f":"IFERROR(VLOOKUP(A492,'1.Портфель кредитів'!A:AC,14,FALSE),\"\")","v":""}]
[null,{"$f":"IFERROR(VLOOKUP(A493,'1.Портфель кредитів'!A:AC,3,FALSE),\"\")","v":""},{"$f":"IFERROR(VLOOKUP(A493,'1.Портфель кредитів'!A:AC,14,FALSE),\"\")","v":""}]
[null,{"$f":"IFERROR(VLOOKUP(A494,'1.Портфель кредитів'!A:AC,3,FALSE),\"\")","v":""},{"$f":"IFERROR(VLOOKUP(A494,'1.Портфель кредитів'!A:AC,14,FALSE),\"\")","v":""}]
[null,{"$f":"IFERROR(VLOOKUP(A495,'1.Портфель кредитів'!A:AC,3,FALSE),\"\")","v":""},{"$f":"IFERROR(VLOOKUP(A495,'1.Портфель кредитів'!A:AC,14,FALSE),\"\")","v":""}]
[null,{"$f":"IFERROR(VLOOKUP(A496,'1.Портфель кредитів'!A:AC,3,FALSE),\"\")","v":""},{"$f":"IFERROR(VLOOKUP(A496,'1.Портфель кредитів'!A:AC,14,FALSE),\"\")","v":""}]
[null,{"$f":"IFERROR(VLOOKUP(A497,'1.Портфель кредитів'!A:AC,3,FALSE),\"\")","v":""},{"$f":"IFERROR(VLOOKUP(A497,'1.Портфель кредитів'!A:AC,14,FALSE),\"\")","v":""}]
[null,{"$f":"IFERROR(VLOOKUP(A498,'1.Портфель кредитів'!A:AC,3,FALSE),\"\")","v":""},{"$f":"IFERROR(VLOOKUP(A498,'1.Портфель кредитів'!A:AC,14,FALSE),\"\")","v":""}]
[null,{"$f":"IFERROR(VLOOKUP(A499,'1.Портфель кредитів'!A:AC,3,FALSE),\"\")","v":""},{"$f":"IFERROR(VLOOKUP(A499,'1.Портфель кредитів'!A:AC,14,FALSE),\"\")","v":""}]
[null,{"$f":"IFERROR(VLOOKUP(A500,'1.Портфель кредитів'!A:AC,3,FALSE),\"\")","v":""},{"$f":"IFERROR(VLOOKUP(A500,'1.Портфель кредитів'!A:AC,14,FALSE),\"\")","v":""}]
[null,{"$f":"IFERROR(VLOOKUP(A501,'1.Портфель кредитів'!A:AC,3,FALSE),\"\")","v":""},{"$f":"IFERROR(VLOOKUP(A501,'1.Портфель кредитів'!A:AC,14,FALSE),\"\")","v":""}]
[null,{"$f":"IFERROR(VLOOKUP(A502,'1.Портфель кредитів'!A:AC,3,FALSE),\"\")","v":""},{"$f":"IFERROR(VLOOKUP(A502,'1.Портфель кредитів'!A:AC,14,FALSE),\"\")","v":""}]
[null,{"$f":"IFERROR(VLOOKUP(A503,'1.Портфель кредитів'!A:AC,3,FALSE),\"\")","v":""},{"$f":"IFERROR(VLOOKUP(A503,'1.Портфель кредитів'!A:AC,14,FALSE),\"\")","v":""}]
[null,{"$f":"IFERROR(VLOOKUP(A504,'1.Портфель кредитів'!A:AC,3,FALSE),\"\")","v":""},{"$f":"IFERROR(VLOOKUP(A504,'1.Портфель кредитів'!A:AC,14,FALSE),\"\")","v":""}]
[null,{"$f":"IFERROR(VLOOKUP(A505,'1.Портфель кредитів'!A:AC,3,FALSE),\"\")","v":""},{"$f":"IFERROR(VLOOKUP(A505,'1.Портфель кредитів'!A:AC,14,FALSE),\"\")","v":""}]
[null,{"$f":"IFERROR(VLOOKUP(A506,'1.Портфель кредитів'!A:AC,3,FALSE),\"\")","v":""},{"$f":"IFERROR(VLOOKUP(A506,'1.Портфель кредитів'!A:AC,14,FALSE),\"\")","v":""}]
[null,{"$f":"IFERROR(VLOOKUP(A507,'1.Портфель кредитів'!A:AC,3,FALSE),\"\")","v":""},{"$f":"IFERROR(VLOOKUP(A507,'1.Портфель кредитів'!A:AC,14,FALSE),\"\")","v":""}]
[null,{"$f":"IFERROR(VLOOKUP(A508,'1.Портфель кредитів'!A:AC,3,FALSE),\"\")","v":""},{"$f":"IFERROR(VLOOKUP(A508,'1.Портфель кредитів'!A:AC,14,FALSE),\"\")","v":""}]
[null,{"$f":"IFERROR(VLOOKUP(A509,'1.Портфель кредитів'!A:AC,3,FALSE),\"\")","v":""},{"$f":"IFERROR(VLOOKUP(A509,'1.Портфель кредитів'!A:AC,14,FALSE),\"\")","v":""}]
[null,{"$f":"IFERROR(VLOOKUP(A510,'1.Портфель кредитів'!A:AC,3,FALSE),\"\")","v":""},{"$f":"IFERROR(VLOOKUP(A510,'1.Портфель кредитів'!A:AC,14,FALSE),\"\")","v":""}]
[null,{"$f":"IFERROR(VLOOKUP(A511,'1.Портфель кредитів'!A:AC,3,FALSE),\"\")","v":""},{"$f":"IFERROR(VLOOKUP(A511,'1.Портфель кредитів'!A:AC,14,FALSE),\"\")","v":""}]
[null,{"$f":"IFERROR(VLOOKUP(A512,'1.Портфель кредитів'!A:AC,3,FALSE),\"\")","v":""},{"$f":"IFERROR(VLOOKUP(A512,'1.Портфель кредитів'!A:AC,14,FALSE),\"\")","v":""}]
[null,{"$f":"IFERROR(VLOOKUP(A513,'1.Портфель кредитів'!A:AC,3,FALSE),\"\")","v":""},{"$f":"IFERROR(VLOOKUP(A513,'1.Портфель кредитів'!A:AC,14,FALSE),\"\")","v":""}]
[null,{"$f":"IFERROR(VLOOKUP(A514,'1.Портфель кредитів'!A:AC,3,FALSE),\"\")","v":""},{"$f":"IFERROR(VLOOKUP(A514,'1.Портфель кредитів'!A:AC,14,FALSE),\"\")","v":""}]
[null,{"$f":"IFERROR(VLOOKUP(A515,'1.Портфель кредитів'!A:AC,3,FALSE),\"\")","v":""},{"$f":"IFERROR(VLOOKUP(A515,'1.Портфель кредитів'!A:AC,14,FALSE),\"\")","v":""}]
[null,{"$f":"IFERROR(VLOOKUP(A516,'1.Портфель кредитів'!A:AC,3,FALSE),\"\")","v":""},{"$f":"IFERROR(VLOOKUP(A516,'1.Портфель кредитів'!A:AC,14,FALSE),\"\")","v":""}]
[null,{"$f":"IFERROR(VLOOKUP(A517,'1.Портфель кредитів'!A:AC,3,FALSE),\"\")","v":""},{"$f":"IFERROR(VLOOKUP(A517,'1.Портфель кредитів'!A:AC,14,FALSE),\"\")","v":""}]
[null,{"$f":"IFERROR(VLOOKUP(A518,'1.Портфель кредитів'!A:AC,3,FALSE),\"\")","v":""},{"$f":"IFERROR(VLOOKUP(A518,'1.Портфель кредитів'!A:AC,14,FALSE),\"\")","v":""}]
[null,{"$f":"IFERROR(VLOOKUP(A519,'1.Портфель кредитів'!A:AC,3,FALSE),\"\")","v":""},{"$f":"IFERROR(VLOOKUP(A519,'1.Портфель кредитів'!A:AC,14,FALSE),\"\")","v":""}]
[null,{"$f":"IFERROR(VLOOKUP(A520,'1.Портфель кредитів'!A:AC,3,FALSE),\"\")","v":""},{"$f":"IFERROR(VLOOKUP(A520,'1.Портфель кредитів'!A:AC,14,FALSE),\"\")","v":""}]
[null,{"$f":"IFERROR(VLOOKUP(A521,'1.Портфель кредитів'!A:AC,3,FALSE),\"\")","v":""},{"$f":"IFERROR(VLOOKUP(A521,'1.Портфель кредитів'!A:AC,14,FALSE),\"\")","v":""}]
[null,{"$f":"IFERROR(VLOOKUP(A522,'1.Портфель кредитів'!A:AC,3,FALSE),\"\")","v":""},{"$f":"IFERROR(VLOOKUP(A522,'1.Портфель кредитів'!A:AC,14,FALSE),\"\")","v":""}]
[null,{"$f":"IFERROR(VLOOKUP(A523,'1.Портфель кредитів'!A:AC,3,FALSE),\"\")","v":""},{"$f":"IFERROR(VLOOKUP(A523,'1.Портфель кредитів'!A:AC,14,FALSE),\"\")","v":""}]
[null,{"$f":"IFERROR(VLOOKUP(A524,'1.Портфель кредитів'!A:AC,3,FALSE),\"\")","v":""},{"$f":"IFERROR(VLOOKUP(A524,'1.Портфель кредитів'!A:AC,14,FALSE),\"\")","v":""}]
[null,{"$f":"IFERROR(VLOOKUP(A525,'1.Портфель кредитів'!A:AC,3,FALSE),\"\")","v":""},{"$f":"IFERROR(VLOOKUP(A525,'1.Портфель кредитів'!A:AC,14,FALSE),\"\")","v":""}]
[null,{"$f":"IFERROR(VLOOKUP(A526,'1.Портфель кредитів'!A:AC,3,FALSE),\"\")","v":""},{"$f":"IFERROR(VLOOKUP(A526,'1.Портфель кредитів'!A:AC,14,FALSE),\"\")","v":""}]
[null,{"$f":"IFERROR(VLOOKUP(A527,'1.Портфель кредитів'!A:AC,3,FALSE),\"\")","v":""},{"$f":"IFERROR(VLOOKUP(A527,'1.Портфель кредитів'!A:AC,14,FALSE),\"\")","v":""}]
[null,{"$f":"IFERROR(VLOOKUP(A528,'1.Портфель кредитів'!A:AC,3,FALSE),\"\")","v":""},{"$f":"IFERROR(VLOOKUP(A528,'1.Портфель кредитів'!A:AC,14,FALSE),\"\")","v":""}]
[null,{"$f":"IFERROR(VLOOKUP(A529,'1.Портфель кредитів'!A:AC,3,FALSE),\"\")","v":""},{"$f":"IFERROR(VLOOKUP(A529,'1.Портфель кредитів'!A:AC,14,FALSE),\"\")","v":""}]
[null,{"$f":"IFERROR(VLOOKUP(A530,'1.Портфель кредитів'!A:AC,3,FALSE),\"\")","v":""},{"$f":"IFERROR(VLOOKUP(A530,'1.Портфель кредитів'!A:AC,14,FALSE),\"\")","v":""}]
[null,{"$f":"IFERROR(VLOOKUP(A531,'1.Портфель кредитів'!A:AC,3,FALSE),\"\")","v":""},{"$f":"IFERROR(VLOOKUP(A531,'1.Портфель кредитів'!A:AC,14,FALSE),\"\")","v":""}]
[null,{"$f":"IFERROR(VLOOKUP(A532,'1.Портфель кредитів'!A:AC,3,FALSE),\"\")","v":""},{"$f":"IFERROR(VLOOKUP(A532,'1.Портфель кредитів'!A:AC,14,FALSE),\"\")","v":""}]
[null,{"$f":"IFERROR(VLOOKUP(A533,'1.Портфель кредитів'!A:AC,3,FALSE),\"\")","v":""},{"$f":"IFERROR(VLOOKUP(A533,'1.Портфель кредитів'!A:AC,14,FALSE),\"\")","v":""}]
[null,{"$f":"IFERROR(VLOOKUP(A534,'1.Портфель кредитів'!A:AC,3,FALSE),\"\")","v":""},{"$f":"IFERROR(VLOOKUP(A534,'1.Портфель кредитів'!A:AC,14,FALSE),\"\")","v":""}]
[null,{"$f":"IFERROR(VLOOKUP(A535,'1.Портфель кредитів'!A:AC,3,FALSE),\"\")","v":""},{"$f":"IFERROR(VLOOKUP(A535,'1.Портфель кредитів'!A:AC,14,FALSE),\"\")","v":""}]
[null,{"$f":"IFERROR(VLOOKUP(A536,'1.Портфель кредитів'!A:AC,3,FALSE),\"\")","v":""},{"$f":"IFERROR(VLOOKUP(A536,'1.Портфель кредитів'!A:AC,14,FALSE),\"\")","v":""}]
[null,{"$f":"IFERROR(VLOOKUP(A537,'1.Портфель кредитів'!A:AC,3,FALSE),\"\")","v":""},{"$f":"IFERROR(VLOOKUP(A537,'1.Портфель кредитів'!A:AC,14,FALSE),\"\")","v":""}]
[null,{"$f":"IFERROR(VLOOKUP(A538,'1.Портфель кредитів'!A:AC,3,FALSE),\"\")","v":""},{"$f":"IFERROR(VLOOKUP(A538,'1.Портфель кредитів'!A:AC,14,FALSE),\"\")","v":""}]
[null,{"$f":"IFERROR(VLOOKUP(A539,'1.Портфель кредитів'!A:AC,3,FALSE),\"\")","v":""},{"$f":"IFERROR(VLOOKUP(A539,'1.Портфель кредитів'!A:AC,14,FALSE),\"\")","v":""}]
[null,{"$f":"IFERROR(VLOOKUP(A540,'1.Портфель кредитів'!A:AC,3,FALSE),\"\")","v":""},{"$f":"IFERROR(VLOOKUP(A540,'1.Портфель кредитів'!A:AC,14,FALSE),\"\")","v":""}]
[null,{"$f":"IFERROR(VLOOKUP(A541,'1.Портфель кредитів'!A:AC,3,FALSE),\"\")","v":""},{"$f":"IFERROR(VLOOKUP(A541,'1.Портфель кредитів'!A:AC,14,FALSE),\"\")","v":""}]
[null,{"$f":"IFERROR(VLOOKUP(A542,'1.Портфель кредитів'!A:AC,3,FALSE),\"\")","v":""},{"$f":"IFERROR(VLOOKUP(A542,'1.Портфель кредитів'!A:AC,14,FALSE),\"\")","v":""}]
[null,{"$f":"IFERROR(VLOOKUP(A543,'1.Портфель кредитів'!A:AC,3,FALSE),\"\")","v":""},{"$f":"IFERROR(VLOOKUP(A543,'1.Портфель кредитів'!A:AC,14,FALSE),\"\")","v":""}]
[null,{"$f":"IFERROR(VLOOKUP(A544,'1.Портфель кредитів'!A:AC,3,FALSE),\"\")","v":""},{"$f":"IFERROR(VLOOKUP(A544,'1.Портфель кредитів'!A:AC,14,FALSE),\"\")","v":""}]
[null,{"$f":"IFERROR(VLOOKUP(A545,'1.Портфель кредитів'!A:AC,3,FALSE),\"\")","v":""},{"$f":"IFERROR(VLOOKUP(A545,'1.Портфель кредитів'!A:AC,14,FALSE),\"\")","v":""}]
[null,{"$f":"IFERROR(VLOOKUP(A546,'1.Портфель кредитів'!A:AC,3,FALSE),\"\")","v":""},{"$f":"IFERROR(VLOOKUP(A546,'1.Портфель кредитів'!A:AC,14,FALSE),\"\")","v":""}]
[null,{"$f":"IFERROR(VLOOKUP(A547,'1.Портфель кредитів'!A:AC,3,FALSE),\"\")","v":""},{"$f":"IFERROR(VLOOKUP(A547,'1.Портфель кредитів'!A:AC,14,FALSE),\"\")","v":""}]
[null,{"$f":"IFERROR(VLOOKUP(A548,'1.Портфель кредитів'!A:AC,3,FALSE),\"\")","v":""},{"$f":"IFERROR(VLOOKUP(A548,'1.Портфель кредитів'!A:AC,14,FALSE),\"\")","v":""}]
[null,{"$f":"IFERROR(VLOOKUP(A549,'1.Портфель кредитів'!A:AC,3,FALSE),\"\")","v":""},{"$f":"IFERROR(VLOOKUP(A549,'1.Портфель кредитів'!A:AC,14,FALSE),\"\")","v":""}]
[null,{"$f":"IFERROR(VLOOKUP(A550,'1.Портфель кредитів'!A:AC,3,FALSE),\"\")","v":""},{"$f":"IFERROR(VLOOKUP(A550,'1.Портфель кредитів'!A:AC,14,FALSE),\"\")","v":""}]
[null,{"$f":"IFERROR(VLOOKUP(A551,'1.Портфель кредитів'!A:AC,3,FALSE),\"\")","v":""},{"$f":"IFERROR(VLOOKUP(A551,'1.Портфель кредитів'!A:AC,14,FALSE),\"\")","v":""}]
[null,{"$f":"IFERROR(VLOOKUP(A552,'1.Портфель кредитів'!A:AC,3,FALSE),\"\")","v":""},{"$f":"IFERROR(VLOOKUP(A552,'1.Портфель кредитів'!A:AC,14,FALSE),\"\")","v":""}]
[null,{"$f":"IFERROR(VLOOKUP(A553,'1.Портфель кредитів'!A:AC,3,FALSE),\"\")","v":""},{"$f":"IFERROR(VLOOKUP(A553,'1.Портфель кредитів'!A:AC,14,FALSE),\"\")","v":""}]
[null,{"$f":"IFERROR(VLOOKUP(A554,'1.Портфель кредитів'!A:AC,3,FALSE),\"\")","v":""},{"$f":"IFERROR(VLOOKUP(A554,'1.Портфель кредитів'!A:AC,14,FALSE),\"\")","v":""}]
[null,{"$f":"IFERROR(VLOOKUP(A555,'1.Портфель кредитів'!A:AC,3,FALSE),\"\")","v":""},{"$f":"IFERROR(VLOOKUP(A555,'1.Портфель кредитів'!A:AC,14,FALSE),\"\")","v":""}]
[null,{"$f":"IFERROR(VLOOKUP(A556,'1.Портфель кредитів'!A:AC,3,FALSE),\"\")","v":""},{"$f":"IFERROR(VLOOKUP(A556,'1.Портфель кредитів'!A:AC,14,FALSE),\"\")","v":""}]
[null,{"$f":"IFERROR(VLOOKUP(A557,'1.Портфель кредитів'!A:AC,3,FALSE),\"\")","v":""},{"$f":"IFERROR(VLOOKUP(A557,'1.Портфель кредитів'!A:AC,14,FALSE),\"\")","v":""}]
[null,{"$f":"IFERROR(VLOOKUP(A558,'1.Портфель кредитів'!A:AC,3,FALSE),\"\")","v":""},{"$f":"IFERROR(VLOOKUP(A558,'1.Портфель кредитів'!A:AC,14,FALSE),\"\")","v":""}]
[null,{"$f":"IFERROR(VLOOKUP(A559,'1.Портфель кредитів'!A:AC,3,FALSE),\"\")","v":""},{"$f":"IFERROR(VLOOKUP(A559,'1.Портфель кредитів'!A:AC,14,FALSE),\"\")","v":""}]
[null,{"$f":"IFERROR(VLOOKUP(A560,'1.Портфель кредитів'!A:AC,3,FALSE),\"\")","v":""},{"$f":"IFERROR(VLOOKUP(A560,'1.Портфель кредитів'!A:AC,14,FALSE),\"\")","v":""}]
[null,{"$f":"IFERROR(VLOOKUP(A561,'1.Портфель кредитів'!A:AC,3,FALSE),\"\")","v":""},{"$f":"IFERROR(VLOOKUP(A561,'1.Портфель кредитів'!A:AC,14,FALSE),\"\")","v":""}]
[null,{"$f":"IFERROR(VLOOKUP(A562,'1.Портфель кредитів'!A:AC,3,FALSE),\"\")","v":""},{"$f":"IFERROR(VLOOKUP(A562,'1.Портфель кредитів'!A:AC,14,FALSE),\"\")","v":""}]
[null,{"$f":"IFERROR(VLOOKUP(A563,'1.Портфель кредитів'!A:AC,3,FALSE),\"\")","v":""},{"$f":"IFERROR(VLOOKUP(A563,'1.Портфель кредитів'!A:AC,14,FALSE),\"\")","v":""}]
[null,{"$f":"IFERROR(VLOOKUP(A564,'1.Портфель кредитів'!A:AC,3,FALSE),\"\")","v":""},{"$f":"IFERROR(VLOOKUP(A564,'1.Портфель кредитів'!A:AC,14,FALSE),\"\")","v":""}]
[null,{"$f":"IFERROR(VLOOKUP(A565,'1.Портфель кредитів'!A:AC,3,FALSE),\"\")","v":""},{"$f":"IFERROR(VLOOKUP(A565,'1.Портфель кредитів'!A:AC,14,FALSE),\"\")","v":""}]
[null,{"$f":"IFERROR(VLOOKUP(A566,'1.Портфель кредитів'!A:AC,3,FALSE),\"\")","v":""},{"$f":"IFERROR(VLOOKUP(A566,'1.Портфель кредитів'!A:AC,14,FALSE),\"\")","v":""}]
[null,{"$f":"IFERROR(VLOOKUP(A567,'1.Портфель кредитів'!A:AC,3,FALSE),\"\")","v":""},{"$f":"IFERROR(VLOOKUP(A567,'1.Портфель кредитів'!A:AC,14,FALSE),\"\")","v":""}]
[null,{"$f":"IFERROR(VLOOKUP(A568,'1.Портфель кредитів'!A:AC,3,FALSE),\"\")","v":""},{"$f":"IFERROR(VLOOKUP(A568,'1.Портфель кредитів'!A:AC,14,FALSE),\"\")","v":""}]
[null,{"$f":"IFERROR(VLOOKUP(A569,'1.Портфель кредитів'!A:AC,3,FALSE),\"\")","v":""},{"$f":"IFERROR(VLOOKUP(A569,'1.Портфель кредитів'!A:AC,14,FALSE),\"\")","v":""}]
[null,{"$f":"IFERROR(VLOOKUP(A570,'1.Портфель кредитів'!A:AC,3,FALSE),\"\")","v":""},{"$f":"IFERROR(VLOOKUP(A570,'1.Портфель кредитів'!A:AC,14,FALSE),\"\")","v":""}]
[null,{"$f":"IFERROR(VLOOKUP(A571,'1.Портфель кредитів'!A:AC,3,FALSE),\"\")","v":""},{"$f":"IFERROR(VLOOKUP(A571,'1.Портфель кредитів'!A:AC,14,FALSE),\"\")","v":""}]
[null,{"$f":"IFERROR(VLOOKUP(A572,'1.Портфель кредитів'!A:AC,3,FALSE),\"\")","v":""},{"$f":"IFERROR(VLOOKUP(A572,'1.Портфель кредитів'!A:AC,14,FALSE),\"\")","v":""}]
[null,{"$f":"IFERROR(VLOOKUP(A573,'1.Портфель кредитів'!A:AC,3,FALSE),\"\")","v":""},{"$f":"IFERROR(VLOOKUP(A573,'1.Портфель кредитів'!A:AC,14,FALSE),\"\")","v":""}]
[null,{"$f":"IFERROR(VLOOKUP(A574,'1.Портфель кредитів'!A:AC,3,FALSE),\"\")","v":""},{"$f":"IFERROR(VLOOKUP(A574,'1.Портфель кредитів'!A:AC,14,FALSE),\"\")","v":""}]
[null,{"$f":"IFERROR(VLOOKUP(A575,'1.Портфель кредитів'!A:AC,3,FALSE),\"\")","v":""},{"$f":"IFERROR(VLOOKUP(A575,'1.Портфель кредитів'!A:AC,14,FALSE),\"\")","v":""}]
[null,{"$f":"IFERROR(VLOOKUP(A576,'1.Портфель кредитів'!A:AC,3,FALSE),\"\")","v":""},{"$f":"IFERROR(VLOOKUP(A576,'1.Портфель кредитів'!A:AC,14,FALSE),\"\")","v":""}]
[null,{"$f":"IFERROR(VLOOKUP(A577,'1.Портфель кредитів'!A:AC,3,FALSE),\"\")","v":""},{"$f":"IFERROR(VLOOKUP(A577,'1.Портфель кредитів'!A:AC,14,FALSE),\"\")","v":""}]
[null,{"$f":"IFERROR(VLOOKUP(A578,'1.Портфель кредитів'!A:AC,3,FALSE),\"\")","v":""},{"$f":"IFERROR(VLOOKUP(A578,'1.Портфель кредитів'!A:AC,14,FALSE),\"\")","v":""}]
[null,{"$f":"IFERROR(VLOOKUP(A579,'1.Портфель кредитів'!A:AC,3,FALSE),\"\")","v":""},{"$f":"IFERROR(VLOOKUP(A579,'1.Портфель кредитів'!A:AC,14,FALSE),\"\")","v":""}]
[null,{"$f":"IFERROR(VLOOKUP(A580,'1.Портфель кредитів'!A:AC,3,FALSE),\"\")","v":""},{"$f":"IFERROR(VLOOKUP(A580,'1.Портфель кредитів'!A:AC,14,FALSE),\"\")","v":""}]
[null,{"$f":"IFERROR(VLOOKUP(A581,'1.Портфель кредитів'!A:AC,3,FALSE),\"\")","v":""},{"$f":"IFERROR(VLOOKUP(A581,'1.Портфель кредитів'!A:AC,14,FALSE),\"\")","v":""}]
[null,{"$f":"IFERROR(VLOOKUP(A582,'1.Портфель кредитів'!A:AC,3,FALSE),\"\")","v":""},{"$f":"IFERROR(VLOOKUP(A582,'1.Портфель кредитів'!A:AC,14,FALSE),\"\")","v":""}]
[null,{"$f":"IFERROR(VLOOKUP(A583,'1.Портфель кредитів'!A:AC,3,FALSE),\"\")","v":""},{"$f":"IFERROR(VLOOKUP(A583,'1.Портфель кредитів'!A:AC,14,FALSE),\"\")","v":""}]
[null,{"$f":"IFERROR(VLOOKUP(A584,'1.Портфель кредитів'!A:AC,3,FALSE),\"\")","v":""},{"$f":"IFERROR(VLOOKUP(A584,'1.Портфель кредитів'!A:AC,14,FALSE),\"\")","v":""}]
[null,{"$f":"IFERROR(VLOOKUP(A585,'1.Портфель кредитів'!A:AC,3,FALSE),\"\")","v":""},{"$f":"IFERROR(VLOOKUP(A585,'1.Портфель кредитів'!A:AC,14,FALSE),\"\")","v":""}]
[null,{"$f":"IFERROR(VLOOKUP(A586,'1.Портфель кредитів'!A:AC,3,FALSE),\"\")","v":""},{"$f":"IFERROR(VLOOKUP(A586,'1.Портфель кредитів'!A:AC,14,FALSE),\"\")","v":""}]
[null,{"$f":"IFERROR(VLOOKUP(A587,'1.Портфель кредитів'!A:AC,3,FALSE),\"\")","v":""},{"$f":"IFERROR(VLOOKUP(A587,'1.Портфель кредитів'!A:AC,14,FALSE),\"\")","v":""}]
[null,{"$f":"IFERROR(VLOOKUP(A588,'1.Портфель кредитів'!A:AC,3,FALSE),\"\")","v":""},{"$f":"IFERROR(VLOOKUP(A588,'1.Портфель кредитів'!A:AC,14,FALSE),\"\")","v":""}]
[null,{"$f":"IFERROR(VLOOKUP(A589,'1.Портфель кредитів'!A:AC,3,FALSE),\"\")","v":""},{"$f":"IFERROR(VLOOKUP(A589,'1.Портфель кредитів'!A:AC,14,FALSE),\"\")","v":""}]
[null,{"$f":"IFERROR(VLOOKUP(A590,'1.Портфель кредитів'!A:AC,3,FALSE),\"\")","v":""},{"$f":"IFERROR(VLOOKUP(A590,'1.Портфель кредитів'!A:AC,14,FALSE),\"\")","v":""}]
[null,{"$f":"IFERROR(VLOOKUP(A591,'1.Портфель кредитів'!A:AC,3,FALSE),\"\")","v":""},{"$f":"IFERROR(VLOOKUP(A591,'1.Портфель кредитів'!A:AC,14,FALSE),\"\")","v":""}]
[null,{"$f":"IFERROR(VLOOKUP(A592,'1.Портфель кредитів'!A:AC,3,FALSE),\"\")","v":""},{"$f":"IFERROR(VLOOKUP(A592,'1.Портфель кредитів'!A:AC,14,FALSE),\"\")","v":""}]
[null,{"$f":"IFERROR(VLOOKUP(A593,'1.Портфель кредитів'!A:AC,3,FALSE),\"\")","v":""},{"$f":"IFERROR(VLOOKUP(A593,'1.Портфель кредитів'!A:AC,14,FALSE),\"\")","v":""}]
[null,{"$f":"IFERROR(VLOOKUP(A594,'1.Портфель кредитів'!A:AC,3,FALSE),\"\")","v":""},{"$f":"IFERROR(VLOOKUP(A594,'1.Портфель кредитів'!A:AC,14,FALSE),\"\")","v":""}]
[null,{"$f":"IFERROR(VLOOKUP(A595,'1.Портфель кредитів'!A:AC,3,FALSE),\"\")","v":""},{"$f":"IFERROR(VLOOKUP(A595,'1.Портфель кредитів'!A:AC,14,FALSE),\"\")","v":""}]
[null,{"$f":"IFERROR(VLOOKUP(A596,'1.Портфель кредитів'!A:AC,3,FALSE),\"\")","v":""},{"$f":"IFERROR(VLOOKUP(A596,'1.Портфель кредитів'!A:AC,14,FALSE),\"\")","v":""}]
[null,{"$f":"IFERROR(VLOOKUP(A597,'1.Портфель кредитів'!A:AC,3,FALSE),\"\")","v":""},{"$f":"IFERROR(VLOOKUP(A597,'1.Портфель кредитів'!A:AC,14,FALSE),\"\")","v":""}]
[null,{"$f":"IFERROR(VLOOKUP(A598,'1.Портфель кредитів'!A:AC,3,FALSE),\"\")","v":""},{"$f":"IFERROR(VLOOKUP(A598,'1.Портфель кредитів'!A:AC,14,FALSE),\"\")","v":""}]
[null,{"$f":"IFERROR(VLOOKUP(A599,'1.Портфель кредитів'!A:AC,3,FALSE),\"\")","v":""},{"$f":"IFERROR(VLOOKUP(A599,'1.Портфель кредитів'!A:AC,14,FALSE),\"\")","v":""}]
[null,{"$f":"IFERROR(VLOOKUP(A600,'1.Портфель кредитів'!A:AC,3,FALSE),\"\")","v":""},{"$f":"IFERROR(VLOOKUP(A600,'1.Портфель кредитів'!A:AC,14,FALSE),\"\")","v":""}]
[null,{"$f":"IFERROR(VLOOKUP(A601,'1.Портфель кредитів'!A:AC,3,FALSE),\"\")","v":""},{"$f":"IFERROR(VLOOKUP(A601,'1.Портфель кредитів'!A:AC,14,FALSE),\"\")","v":""}]
[null,{"$f":"IFERROR(VLOOKUP(A602,'1.Портфель кредитів'!A:AC,3,FALSE),\"\")","v":""},{"$f":"IFERROR(VLOOKUP(A602,'1.Портфель кредитів'!A:AC,14,FALSE),\"\")","v":""}]
[null,{"$f":"IFERROR(VLOOKUP(A603,'1.Портфель кредитів'!A:AC,3,FALSE),\"\")","v":""},{"$f":"IFERROR(VLOOKUP(A603,'1.Портфель кредитів'!A:AC,14,FALSE),\"\")","v":""}]
[null,{"$f":"IFERROR(VLOOKUP(A604,'1.Портфель кредитів'!A:AC,3,FALSE),\"\")","v":""},{"$f":"IFERROR(VLOOKUP(A604,'1.Портфель кредитів'!A:AC,14,FALSE),\"\")","v":""}]
[null,{"$f":"IFERROR(VLOOKUP(A605,'1.Портфель кредитів'!A:AC,3,FALSE),\"\")","v":""},{"$f":"IFERROR(VLOOKUP(A605,'1.Портфель кредитів'!A:AC,14,FALSE),\"\")","v":""}]
[null,{"$f":"IFERROR(VLOOKUP(A606,'1.Портфель кредитів'!A:AC,3,FALSE),\"\")","v":""},{"$f":"IFERROR(VLOOKUP(A606,'1.Портфель кредитів'!A:AC,14,FALSE),\"\")","v":""}]
[null,{"$f":"IFERROR(VLOOKUP(A607,'1.Портфель кредитів'!A:AC,3,FALSE),\"\")","v":""},{"$f":"IFERROR(VLOOKUP(A607,'1.Портфель кредитів'!A:AC,14,FALSE),\"\")","v":""}]
[null,{"$f":"IFERROR(VLOOKUP(A608,'1.Портфель кредитів'!A:AC,3,FALSE),\"\")","v":""},{"$f":"IFERROR(VLOOKUP(A608,'1.Портфель кредитів'!A:AC,14,FALSE),\"\")","v":""}]
[null,{"$f":"IFERROR(VLOOKUP(A609,'1.Портфель кредитів'!A:AC,3,FALSE),\"\")","v":""},{"$f":"IFERROR(VLOOKUP(A609,'1.Портфель кредитів'!A:AC,14,FALSE),\"\")","v":""}]
[null,{"$f":"IFERROR(VLOOKUP(A610,'1.Портфель кредитів'!A:AC,3,FALSE),\"\")","v":""},{"$f":"IFERROR(VLOOKUP(A610,'1.Портфель кредитів'!A:AC,14,FALSE),\"\")","v":""}]
[null,{"$f":"IFERROR(VLOOKUP(A611,'1.Портфель кредитів'!A:AC,3,FALSE),\"\")","v":""},{"$f":"IFERROR(VLOOKUP(A611,'1.Портфель кредитів'!A:AC,14,FALSE),\"\")","v":""}]
[null,{"$f":"IFERROR(VLOOKUP(A612,'1.Портфель кредитів'!A:AC,3,FALSE),\"\")","v":""},{"$f":"IFERROR(VLOOKUP(A612,'1.Портфель кредитів'!A:AC,14,FALSE),\"\")","v":""}]
[null,{"$f":"IFERROR(VLOOKUP(A613,'1.Портфель кредитів'!A:AC,3,FALSE),\"\")","v":""},{"$f":"IFERROR(VLOOKUP(A613,'1.Портфель кредитів'!A:AC,14,FALSE),\"\")","v":""}]
[null,{"$f":"IFERROR(VLOOKUP(A614,'1.Портфель кредитів'!A:AC,3,FALSE),\"\")","v":""},{"$f":"IFERROR(VLOOKUP(A614,'1.Портфель кредитів'!A:AC,14,FALSE),\"\")","v":""}]
[null,{"$f":"IFERROR(VLOOKUP(A615,'1.Портфель кредитів'!A:AC,3,FALSE),\"\")","v":""},{"$f":"IFERROR(VLOOKUP(A615,'1.Портфель кредитів'!A:AC,14,FALSE),\"\")","v":""}]
[null,{"$f":"IFERROR(VLOOKUP(A616,'1.Портфель кредитів'!A:AC,3,FALSE),\"\")","v":""},{"$f":"IFERROR(VLOOKUP(A616,'1.Портфель кредитів'!A:AC,14,FALSE),\"\")","v":""}]
[null,{"$f":"IFERROR(VLOOKUP(A617,'1.Портфель кредитів'!A:AC,3,FALSE),\"\")","v":""},{"$f":"IFERROR(VLOOKUP(A617,'1.Портфель кредитів'!A:AC,14,FALSE),\"\")","v":""}]
[null,{"$f":"IFERROR(VLOOKUP(A618,'1.Портфель кредитів'!A:AC,3,FALSE),\"\")","v":""},{"$f":"IFERROR(VLOOKUP(A618,'1.Портфель кредитів'!A:AC,14,FALSE),\"\")","v":""}]
[null,{"$f":"IFERROR(VLOOKUP(A619,'1.Портфель кредитів'!A:AC,3,FALSE),\"\")","v":""},{"$f":"IFERROR(VLOOKUP(A619,'1.Портфель кредитів'!A:AC,14,FALSE),\"\")","v":""}]
[null,{"$f":"IFERROR(VLOOKUP(A620,'1.Портфель кредитів'!A:AC,3,FALSE),\"\")","v":""},{"$f":"IFERROR(VLOOKUP(A620,'1.Портфель кредитів'!A:AC,14,FALSE),\"\")","v":""}]
[null,{"$f":"IFERROR(VLOOKUP(A621,'1.Портфель кредитів'!A:AC,3,FALSE),\"\")","v":""},{"$f":"IFERROR(VLOOKUP(A621,'1.Портфель кредитів'!A:AC,14,FALSE),\"\")","v":""}]
[null,{"$f":"IFERROR(VLOOKUP(A622,'1.Портфель кредитів'!A:AC,3,FALSE),\"\")","v":""},{"$f":"IFERROR(VLOOKUP(A622,'1.Портфель кредитів'!A:AC,14,FALSE),\"\")","v":""}]
[null,{"$f":"IFERROR(VLOOKUP(A623,'1.Портфель кредитів'!A:AC,3,FALSE),\"\")","v":""},{"$f":"IFERROR(VLOOKUP(A623,'1.Портфель кредитів'!A:AC,14,FALSE),\"\")","v":""}]
[null,{"$f":"IFERROR(VLOOKUP(A624,'1.Портфель кредитів'!A:AC,3,FALSE),\"\")","v":""},{"$f":"IFERROR(VLOOKUP(A624,'1.Портфель кредитів'!A:AC,14,FALSE),\"\")","v":""}]
[null,{"$f":"IFERROR(VLOOKUP(A625,'1.Портфель кредитів'!A:AC,3,FALSE),\"\")","v":""},{"$f":"IFERROR(VLOOKUP(A625,'1.Портфель кредитів'!A:AC,14,FALSE),\"\")","v":""}]
[null,{"$f":"IFERROR(VLOOKUP(A626,'1.Портфель кредитів'!A:AC,3,FALSE),\"\")","v":""},{"$f":"IFERROR(VLOOKUP(A626,'1.Портфель кредитів'!A:AC,14,FALSE),\"\")","v":""}]
[null,{"$f":"IFERROR(VLOOKUP(A627,'1.Портфель кредитів'!A:AC,3,FALSE),\"\")","v":""},{"$f":"IFERROR(VLOOKUP(A627,'1.Портфель кредитів'!A:AC,14,FALSE),\"\")","v":""}]
[null,{"$f":"IFERROR(VLOOKUP(A628,'1.Портфель кредитів'!A:AC,3,FALSE),\"\")","v":""},{"$f":"IFERROR(VLOOKUP(A628,'1.Портфель кредитів'!A:AC,14,FALSE),\"\")","v":""}]
[null,{"$f":"IFERROR(VLOOKUP(A629,'1.Портфель кредитів'!A:AC,3,FALSE),\"\")","v":""},{"$f":"IFERROR(VLOOKUP(A629,'1.Портфель кредитів'!A:AC,14,FALSE),\"\")","v":""}]
[null,{"$f":"IFERROR(VLOOKUP(A630,'1.Портфель кредитів'!A:AC,3,FALSE),\"\")","v":""},{"$f":"IFERROR(VLOOKUP(A630,'1.Портфель кредитів'!A:AC,14,FALSE),\"\")","v":""}]
[null,{"$f":"IFERROR(VLOOKUP(A631,'1.Портфель кредитів'!A:AC,3,FALSE),\"\")","v":""},{"$f":"IFERROR(VLOOKUP(A631,'1.Портфель кредитів'!A:AC,14,FALSE),\"\")","v":""}]
[null,{"$f":"IFERROR(VLOOKUP(A632,'1.Портфель кредитів'!A:AC,3,FALSE),\"\")","v":""},{"$f":"IFERROR(VLOOKUP(A632,'1.Портфель кредитів'!A:AC,14,FALSE),\"\")","v":""}]
[null,{"$f":"IFERROR(VLOOKUP(A633,'1.Портфель кредитів'!A:AC,3,FALSE),\"\")","v":""},{"$f":"IFERROR(VLOOKUP(A633,'1.Портфель кредитів'!A:AC,14,FALSE),\"\")","v":""}]
[null,{"$f":"IFERROR(VLOOKUP(A634,'1.Портфель кредитів'!A:AC,3,FALSE),\"\")","v":""},{"$f":"IFERROR(VLOOKUP(A634,'1.Портфель кредитів'!A:AC,14,FALSE),\"\")","v":""}]
[null,{"$f":"IFERROR(VLOOKUP(A635,'1.Портфель кредитів'!A:AC,3,FALSE),\"\")","v":""},{"$f":"IFERROR(VLOOKUP(A635,'1.Портфель кредитів'!A:AC,14,FALSE),\"\")","v":""}]
[null,{"$f":"IFERROR(VLOOKUP(A636,'1.Портфель кредитів'!A:AC,3,FALSE),\"\")","v":""},{"$f":"IFERROR(VLOOKUP(A636,'1.Портфель кредитів'!A:AC,14,FALSE),\"\")","v":""}]
[null,{"$f":"IFERROR(VLOOKUP(A637,'1.Портфель кредитів'!A:AC,3,FALSE),\"\")","v":""},{"$f":"IFERROR(VLOOKUP(A637,'1.Портфель кредитів'!A:AC,14,FALSE),\"\")","v":""}]
[null,{"$f":"IFERROR(VLOOKUP(A638,'1.Портфель кредитів'!A:AC,3,FALSE),\"\")","v":""},{"$f":"IFERROR(VLOOKUP(A638,'1.Портфель кредитів'!A:AC,14,FALSE),\"\")","v":""}]
[null,{"$f":"IFERROR(VLOOKUP(A639,'1.Портфель кредитів'!A:AC,3,FALSE),\"\")","v":""},{"$f":"IFERROR(VLOOKUP(A639,'1.Портфель кредитів'!A:AC,14,FALSE),\"\")","v":""}]
[null,{"$f":"IFERROR(VLOOKUP(A640,'1.Портфель кредитів'!A:AC,3,FALSE),\"\")","v":""},{"$f":"IFERROR(VLOOKUP(A640,'1.Портфель кредитів'!A:AC,14,FALSE),\"\")","v":""}]
[null,{"$f":"IFERROR(VLOOKUP(A641,'1.Портфель кредитів'!A:AC,3,FALSE),\"\")","v":""},{"$f":"IFERROR(VLOOKUP(A641,'1.Портфель кредитів'!A:AC,14,FALSE),\"\")","v":""}]
[null,{"$f":"IFERROR(VLOOKUP(A642,'1.Портфель кредитів'!A:AC,3,FALSE),\"\")","v":""},{"$f":"IFERROR(VLOOKUP(A642,'1.Портфель кредитів'!A:AC,14,FALSE),\"\")","v":""}]
[null,{"$f":"IFERROR(VLOOKUP(A643,'1.Портфель кредитів'!A:AC,3,FALSE),\"\")","v":""},{"$f":"IFERROR(VLOOKUP(A643,'1.Портфель кредитів'!A:AC,14,FALSE),\"\")","v":""}]
[null,{"$f":"IFERROR(VLOOKUP(A644,'1.Портфель кредитів'!A:AC,3,FALSE),\"\")","v":""},{"$f":"IFERROR(VLOOKUP(A644,'1.Портфель кредитів'!A:AC,14,FALSE),\"\")","v":""}]
[null,{"$f":"IFERROR(VLOOKUP(A645,'1.Портфель кредитів'!A:AC,3,FALSE),\"\")","v":""},{"$f":"IFERROR(VLOOKUP(A645,'1.Портфель кредитів'!A:AC,14,FALSE),\"\")","v":""}]
[null,{"$f":"IFERROR(VLOOKUP(A646,'1.Портфель кредитів'!A:AC,3,FALSE),\"\")","v":""},{"$f":"IFERROR(VLOOKUP(A646,'1.Портфель кредитів'!A:AC,14,FALSE),\"\")","v":""}]
[null,{"$f":"IFERROR(VLOOKUP(A647,'1.Портфель кредитів'!A:AC,3,FALSE),\"\")","v":""},{"$f":"IFERROR(VLOOKUP(A647,'1.Портфель кредитів'!A:AC,14,FALSE),\"\")","v":""}]
[null,{"$f":"IFERROR(VLOOKUP(A648,'1.Портфель кредитів'!A:AC,3,FALSE),\"\")","v":""},{"$f":"IFERROR(VLOOKUP(A648,'1.Портфель кредитів'!A:AC,14,FALSE),\"\")","v":""}]
[null,{"$f":"IFERROR(VLOOKUP(A649,'1.Портфель кредитів'!A:AC,3,FALSE),\"\")","v":""},{"$f":"IFERROR(VLOOKUP(A649,'1.Портфель кредитів'!A:AC,14,FALSE),\"\")","v":""}]
[null,{"$f":"IFERROR(VLOOKUP(A650,'1.Портфель кредитів'!A:AC,3,FALSE),\"\")","v":""},{"$f":"IFERROR(VLOOKUP(A650,'1.Портфель кредитів'!A:AC,14,FALSE),\"\")","v":""}]
[null,{"$f":"IFERROR(VLOOKUP(A651,'1.Портфель кредитів'!A:AC,3,FALSE),\"\")","v":""},{"$f":"IFERROR(VLOOKUP(A651,'1.Портфель кредитів'!A:AC,14,FALSE),\"\")","v":""}]
[null,{"$f":"IFERROR(VLOOKUP(A652,'1.Портфель кредитів'!A:AC,3,FALSE),\"\")","v":""},{"$f":"IFERROR(VLOOKUP(A652,'1.Портфель кредитів'!A:AC,14,FALSE),\"\")","v":""}]
[null,{"$f":"IFERROR(VLOOKUP(A653,'1.Портфель кредитів'!A:AC,3,FALSE),\"\")","v":""},{"$f":"IFERROR(VLOOKUP(A653,'1.Портфель кредитів'!A:AC,14,FALSE),\"\")","v":""}]
[null,{"$f":"IFERROR(VLOOKUP(A654,'1.Портфель кредитів'!A:AC,3,FALSE),\"\")","v":""},{"$f":"IFERROR(VLOOKUP(A654,'1.Портфель кредитів'!A:AC,14,FALSE),\"\")","v":""}]
[null,{"$f":"IFERROR(VLOOKUP(A655,'1.Портфель кредитів'!A:AC,3,FALSE),\"\")","v":""},{"$f":"IFERROR(VLOOKUP(A655,'1.Портфель кредитів'!A:AC,14,FALSE),\"\")","v":""}]
[null,{"$f":"IFERROR(VLOOKUP(A656,'1.Портфель кредитів'!A:AC,3,FALSE),\"\")","v":""},{"$f":"IFERROR(VLOOKUP(A656,'1.Портфель кредитів'!A:AC,14,FALSE),\"\")","v":""}]
[null,{"$f":"IFERROR(VLOOKUP(A657,'1.Портфель кредитів'!A:AC,3,FALSE),\"\")","v":""},{"$f":"IFERROR(VLOOKUP(A657,'1.Портфель кредитів'!A:AC,14,FALSE),\"\")","v":""}]
[null,{"$f":"IFERROR(VLOOKUP(A658,'1.Портфель кредитів'!A:AC,3,FALSE),\"\")","v":""},{"$f":"IFERROR(VLOOKUP(A658,'1.Портфель кредитів'!A:AC,14,FALSE),\"\")","v":""}]
[null,{"$f":"IFERROR(VLOOKUP(A659,'1.Портфель кредитів'!A:AC,3,FALSE),\"\")","v":""},{"$f":"IFERROR(VLOOKUP(A659,'1.Портфель кредитів'!A:AC,14,FALSE),\"\")","v":""}]
[null,{"$f":"IFERROR(VLOOKUP(A660,'1.Портфель кредитів'!A:AC,3,FALSE),\"\")","v":""},{"$f":"IFERROR(VLOOKUP(A660,'1.Портфель кредитів'!A:AC,14,FALSE),\"\")","v":""}]
[null,{"$f":"IFERROR(VLOOKUP(A661,'1.Портфель кредитів'!A:AC,3,FALSE),\"\")","v":""},{"$f":"IFERROR(VLOOKUP(A661,'1.Портфель кредитів'!A:AC,14,FALSE),\"\")","v":""}]
[null,{"$f":"IFERROR(VLOOKUP(A662,'1.Портфель кредитів'!A:AC,3,FALSE),\"\")","v":""},{"$f":"IFERROR(VLOOKUP(A662,'1.Портфель кредитів'!A:AC,14,FALSE),\"\")","v":""}]
[null,{"$f":"IFERROR(VLOOKUP(A663,'1.Портфель кредитів'!A:AC,3,FALSE),\"\")","v":""},{"$f":"IFERROR(VLOOKUP(A663,'1.Портфель кредитів'!A:AC,14,FALSE),\"\")","v":""}]
[null,{"$f":"IFERROR(VLOOKUP(A664,'1.Портфель кредитів'!A:AC,3,FALSE),\"\")","v":""},{"$f":"IFERROR(VLOOKUP(A664,'1.Портфель кредитів'!A:AC,14,FALSE),\"\")","v":""}]
[null,{"$f":"IFERROR(VLOOKUP(A665,'1.Портфель кредитів'!A:AC,3,FALSE),\"\")","v":""},{"$f":"IFERROR(VLOOKUP(A665,'1.Портфель кредитів'!A:AC,14,FALSE),\"\")","v":""}]
[null,{"$f":"IFERROR(VLOOKUP(A666,'1.Портфель кредитів'!A:AC,3,FALSE),\"\")","v":""},{"$f":"IFERROR(VLOOKUP(A666,'1.Портфель кредитів'!A:AC,14,FALSE),\"\")","v":""}]
[null,{"$f":"IFERROR(VLOOKUP(A667,'1.Портфель кредитів'!A:AC,3,FALSE),\"\")","v":""},{"$f":"IFERROR(VLOOKUP(A667,'1.Портфель кредитів'!A:AC,14,FALSE),\"\")","v":""}]
[null,{"$f":"IFERROR(VLOOKUP(A668,'1.Портфель кредитів'!A:AC,3,FALSE),\"\")","v":""},{"$f":"IFERROR(VLOOKUP(A668,'1.Портфель кредитів'!A:AC,14,FALSE),\"\")","v":""}]
[null,{"$f":"IFERROR(VLOOKUP(A669,'1.Портфель кредитів'!A:AC,3,FALSE),\"\")","v":""},{"$f":"IFERROR(VLOOKUP(A669,'1.Портфель кредитів'!A:AC,14,FALSE),\"\")","v":""}]
[null,{"$f":"IFERROR(VLOOKUP(A670,'1.Портфель кредитів'!A:AC,3,FALSE),\"\")","v":""},{"$f":"IFERROR(VLOOKUP(A670,'1.Портфель кредитів'!A:AC,14,FALSE),\"\")","v":""}]
[null,{"$f":"IFERROR(VLOOKUP(A671,'1.Портфель кредитів'!A:AC,3,FALSE),\"\")","v":""},{"$f":"IFERROR(VLOOKUP(A671,'1.Портфель кредитів'!A:AC,14,FALSE),\"\")","v":""}]
[null,{"$f":"IFERROR(VLOOKUP(A672,'1.Портфель кредитів'!A:AC,3,FALSE),\"\")","v":""},{"$f":"IFERROR(VLOOKUP(A672,'1.Портфель кредитів'!A:AC,14,FALSE),\"\")","v":""}]
[null,{"$f":"IFERROR(VLOOKUP(A673,'1.Портфель кредитів'!A:AC,3,FALSE),\"\")","v":""},{"$f":"IFERROR(VLOOKUP(A673,'1.Портфель кредитів'!A:AC,14,FALSE),\"\")","v":""}]
[null,{"$f":"IFERROR(VLOOKUP(A674,'1.Портфель кредитів'!A:AC,3,FALSE),\"\")","v":""},{"$f":"IFERROR(VLOOKUP(A674,'1.Портфель кредитів'!A:AC,14,FALSE),\"\")","v":""}]
[null,{"$f":"IFERROR(VLOOKUP(A675,'1.Портфель кредитів'!A:AC,3,FALSE),\"\")","v":""},{"$f":"IFERROR(VLOOKUP(A675,'1.Портфель кредитів'!A:AC,14,FALSE),\"\")","v":""}]
[null,{"$f":"IFERROR(VLOOKUP(A676,'1.Портфель кредитів'!A:AC,3,FALSE),\"\")","v":""},{"$f":"IFERROR(VLOOKUP(A676,'1.Портфель кредитів'!A:AC,14,FALSE),\"\")","v":""}]
[null,{"$f":"IFERROR(VLOOKUP(A677,'1.Портфель кредитів'!A:AC,3,FALSE),\"\")","v":""},{"$f":"IFERROR(VLOOKUP(A677,'1.Портфель кредитів'!A:AC,14,FALSE),\"\")","v":""}]
[null,{"$f":"IFERROR(VLOOKUP(A678,'1.Портфель кредитів'!A:AC,3,FALSE),\"\")","v":""},{"$f":"IFERROR(VLOOKUP(A678,'1.Портфель кредитів'!A:AC,14,FALSE),\"\")","v":""}]
[null,{"$f":"IFERROR(VLOOKUP(A679,'1.Портфель кредитів'!A:AC,3,FALSE),\"\")","v":""},{"$f":"IFERROR(VLOOKUP(A679,'1.Портфель кредитів'!A:AC,14,FALSE),\"\")","v":""}]
[null,{"$f":"IFERROR(VLOOKUP(A680,'1.Портфель кредитів'!A:AC,3,FALSE),\"\")","v":""},{"$f":"IFERROR(VLOOKUP(A680,'1.Портфель кредитів'!A:AC,14,FALSE),\"\")","v":""}]
[null,{"$f":"IFERROR(VLOOKUP(A681,'1.Портфель кредитів'!A:AC,3,FALSE),\"\")","v":""},{"$f":"IFERROR(VLOOKUP(A681,'1.Портфель кредитів'!A:AC,14,FALSE),\"\")","v":""}]
[null,{"$f":"IFERROR(VLOOKUP(A682,'1.Портфель кредитів'!A:AC,3,FALSE),\"\")","v":""},{"$f":"IFERROR(VLOOKUP(A682,'1.Портфель кредитів'!A:AC,14,FALSE),\"\")","v":""}]
[null,{"$f":"IFERROR(VLOOKUP(A683,'1.Портфель кредитів'!A:AC,3,FALSE),\"\")","v":""},{"$f":"IFERROR(VLOOKUP(A683,'1.Портфель кредитів'!A:AC,14,FALSE),\"\")","v":""}]
[null,{"$f":"IFERROR(VLOOKUP(A684,'1.Портфель кредитів'!A:AC,3,FALSE),\"\")","v":""},{"$f":"IFERROR(VLOOKUP(A684,'1.Портфель кредитів'!A:AC,14,FALSE),\"\")","v":""}]
[null,{"$f":"IFERROR(VLOOKUP(A685,'1.Портфель кредитів'!A:AC,3,FALSE),\"\")","v":""},{"$f":"IFERROR(VLOOKUP(A685,'1.Портфель кредитів'!A:AC,14,FALSE),\"\")","v":""}]
[null,{"$f":"IFERROR(VLOOKUP(A686,'1.Портфель кредитів'!A:AC,3,FALSE),\"\")","v":""},{"$f":"IFERROR(VLOOKUP(A686,'1.Портфель кредитів'!A:AC,14,FALSE),\"\")","v":""}]
[null,{"$f":"IFERROR(VLOOKUP(A687,'1.Портфель кредитів'!A:AC,3,FALSE),\"\")","v":""},{"$f":"IFERROR(VLOOKUP(A687,'1.Портфель кредитів'!A:AC,14,FALSE),\"\")","v":""}]
[null,{"$f":"IFERROR(VLOOKUP(A688,'1.Портфель кредитів'!A:AC,3,FALSE),\"\")","v":""},{"$f":"IFERROR(VLOOKUP(A688,'1.Портфель кредитів'!A:AC,14,FALSE),\"\")","v":""}]
[null,{"$f":"IFERROR(VLOOKUP(A689,'1.Портфель кредитів'!A:AC,3,FALSE),\"\")","v":""},{"$f":"IFERROR(VLOOKUP(A689,'1.Портфель кредитів'!A:AC,14,FALSE),\"\")","v":""}]
[null,{"$f":"IFERROR(VLOOKUP(A690,'1.Портфель кредитів'!A:AC,3,FALSE),\"\")","v":""},{"$f":"IFERROR(VLOOKUP(A690,'1.Портфель кредитів'!A:AC,14,FALSE),\"\")","v":""}]
[null,{"$f":"IFERROR(VLOOKUP(A691,'1.Портфель кредитів'!A:AC,3,FALSE),\"\")","v":""},{"$f":"IFERROR(VLOOKUP(A691,'1.Портфель кредитів'!A:AC,14,FALSE),\"\")","v":""}]
[null,{"$f":"IFERROR(VLOOKUP(A692,'1.Портфель кредитів'!A:AC,3,FALSE),\"\")","v":""},{"$f":"IFERROR(VLOOKUP(A692,'1.Портфель кредитів'!A:AC,14,FALSE),\"\")","v":""}]
[null,{"$f":"IFERROR(VLOOKUP(A693,'1.Портфель кредитів'!A:AC,3,FALSE),\"\")","v":""},{"$f":"IFERROR(VLOOKUP(A693,'1.Портфель кредитів'!A:AC,14,FALSE),\"\")","v":""}]
[null,{"$f":"IFERROR(VLOOKUP(A694,'1.Портфель кредитів'!A:AC,3,FALSE),\"\")","v":""},{"$f":"IFERROR(VLOOKUP(A694,'1.Портфель кредитів'!A:AC,14,FALSE),\"\")","v":""}]
[null,{"$f":"IFERROR(VLOOKUP(A695,'1.Портфель кредитів'!A:AC,3,FALSE),\"\")","v":""},{"$f":"IFERROR(VLOOKUP(A695,'1.Портфель кредитів'!A:AC,14,FALSE),\"\")","v":""}]
[null,{"$f":"IFERROR(VLOOKUP(A696,'1.Портфель кредитів'!A:AC,3,FALSE),\"\")","v":""},{"$f":"IFERROR(VLOOKUP(A696,'1.Портфель кредитів'!A:AC,14,FALSE),\"\")","v":""}]
[null,{"$f":"IFERROR(VLOOKUP(A697,'1.Портфель кредитів'!A:AC,3,FALSE),\"\")","v":""},{"$f":"IFERROR(VLOOKUP(A697,'1.Портфель кредитів'!A:AC,14,FALSE),\"\")","v":""}]
[null,{"$f":"IFERROR(VLOOKUP(A698,'1.Портфель кредитів'!A:AC,3,FALSE),\"\")","v":""},{"$f":"IFERROR(VLOOKUP(A698,'1.Портфель кредитів'!A:AC,14,FALSE),\"\")","v":""}]
[null,{"$f":"IFERROR(VLOOKUP(A699,'1.Портфель кредитів'!A:AC,3,FALSE),\"\")","v":""},{"$f":"IFERROR(VLOOKUP(A699,'1.Портфель кредитів'!A:AC,14,FALSE),\"\")","v":""}]
[null,{"$f":"IFERROR(VLOOKUP(A700,'1.Портфель кредитів'!A:AC,3,FALSE),\"\")","v":""},{"$f":"IFERROR(VLOOKUP(A700,'1.Портфель кредитів'!A:AC,14,FALSE),\"\")","v":""}]
[null,{"$f":"IFERROR(VLOOKUP(A701,'1.Портфель кредитів'!A:AC,3,FALSE),\"\")","v":""},{"$f":"IFERROR(VLOOKUP(A701,'1.Портфель кредитів'!A:AC,14,FALSE),\"\")","v":""}]
[null,{"$f":"IFERROR(VLOOKUP(A702,'1.Портфель кредитів'!A:AC,3,FALSE),\"\")","v":""},{"$f":"IFERROR(VLOOKUP(A702,'1.Портфель кредитів'!A:AC,14,FALSE),\"\")","v":""}]
[null,{"$f":"IFERROR(VLOOKUP(A703,'1.Портфель кредитів'!A:AC,3,FALSE),\"\")","v":""},{"$f":"IFERROR(VLOOKUP(A703,'1.Портфель кредитів'!A:AC,14,FALSE),\"\")","v":""}]
[null,{"$f":"IFERROR(VLOOKUP(A704,'1.Портфель кредитів'!A:AC,3,FALSE),\"\")","v":""},{"$f":"IFERROR(VLOOKUP(A704,'1.Портфель кредитів'!A:AC,14,FALSE),\"\")","v":""}]
[null,{"$f":"IFERROR(VLOOKUP(A705,'1.Портфель кредитів'!A:AC,3,FALSE),\"\")","v":""},{"$f":"IFERROR(VLOOKUP(A705,'1.Портфель кредитів'!A:AC,14,FALSE),\"\")","v":""}]
[null,{"$f":"IFERROR(VLOOKUP(A706,'1.Портфель кредитів'!A:AC,3,FALSE),\"\")","v":""},{"$f":"IFERROR(VLOOKUP(A706,'1.Портфель кредитів'!A:AC,14,FALSE),\"\")","v":""}]
[null,{"$f":"IFERROR(VLOOKUP(A707,'1.Портфель кредитів'!A:AC,3,FALSE),\"\")","v":""},{"$f":"IFERROR(VLOOKUP(A707,'1.Портфель кредитів'!A:AC,14,FALSE),\"\")","v":""}]
[null,{"$f":"IFERROR(VLOOKUP(A708,'1.Портфель кредитів'!A:AC,3,FALSE),\"\")","v":""},{"$f":"IFERROR(VLOOKUP(A708,'1.Портфель кредитів'!A:AC,14,FALSE),\"\")","v":""}]
[null,{"$f":"IFERROR(VLOOKUP(A709,'1.Портфель кредитів'!A:AC,3,FALSE),\"\")","v":""},{"$f":"IFERROR(VLOOKUP(A709,'1.Портфель кредитів'!A:AC,14,FALSE),\"\")","v":""}]
[null,{"$f":"IFERROR(VLOOKUP(A710,'1.Портфель кредитів'!A:AC,3,FALSE),\"\")","v":""},{"$f":"IFERROR(VLOOKUP(A710,'1.Портфель кредитів'!A:AC,14,FALSE),\"\")","v":""}]
[null,{"$f":"IFERROR(VLOOKUP(A711,'1.Портфель кредитів'!A:AC,3,FALSE),\"\")","v":""},{"$f":"IFERROR(VLOOKUP(A711,'1.Портфель кредитів'!A:AC,14,FALSE),\"\")","v":""}]
[null,{"$f":"IFERROR(VLOOKUP(A712,'1.Портфель кредитів'!A:AC,3,FALSE),\"\")","v":""},{"$f":"IFERROR(VLOOKUP(A712,'1.Портфель кредитів'!A:AC,14,FALSE),\"\")","v":""}]
[null,{"$f":"IFERROR(VLOOKUP(A713,'1.Портфель кредитів'!A:AC,3,FALSE),\"\")","v":""},{"$f":"IFERROR(VLOOKUP(A713,'1.Портфель кредитів'!A:AC,14,FALSE),\"\")","v":""}]
[null,{"$f":"IFERROR(VLOOKUP(A714,'1.Портфель кредитів'!A:AC,3,FALSE),\"\")","v":""},{"$f":"IFERROR(VLOOKUP(A714,'1.Портфель кредитів'!A:AC,14,FALSE),\"\")","v":""}]
[null,{"$f":"IFERROR(VLOOKUP(A715,'1.Портфель кредитів'!A:AC,3,FALSE),\"\")","v":""},{"$f":"IFERROR(VLOOKUP(A715,'1.Портфель кредитів'!A:AC,14,FALSE),\"\")","v":""}]
[null,{"$f":"IFERROR(VLOOKUP(A716,'1.Портфель кредитів'!A:AC,3,FALSE),\"\")","v":""},{"$f":"IFERROR(VLOOKUP(A716,'1.Портфель кредитів'!A:AC,14,FALSE),\"\")","v":""}]
[null,{"$f":"IFERROR(VLOOKUP(A717,'1.Портфель кредитів'!A:AC,3,FALSE),\"\")","v":""},{"$f":"IFERROR(VLOOKUP(A717,'1.Портфель кредитів'!A:AC,14,FALSE),\"\")","v":""}]
[null,{"$f":"IFERROR(VLOOKUP(A718,'1.Портфель кредитів'!A:AC,3,FALSE),\"\")","v":""},{"$f":"IFERROR(VLOOKUP(A718,'1.Портфель кредитів'!A:AC,14,FALSE),\"\")","v":""}]
[null,{"$f":"IFERROR(VLOOKUP(A719,'1.Портфель кредитів'!A:AC,3,FALSE),\"\")","v":""},{"$f":"IFERROR(VLOOKUP(A719,'1.Портфель кредитів'!A:AC,14,FALSE),\"\")","v":""}]
[null,{"$f":"IFERROR(VLOOKUP(A720,'1.Портфель кредитів'!A:AC,3,FALSE),\"\")","v":""},{"$f":"IFERROR(VLOOKUP(A720,'1.Портфель кредитів'!A:AC,14,FALSE),\"\")","v":""}]
[null,{"$f":"IFERROR(VLOOKUP(A721,'1.Портфель кредитів'!A:AC,3,FALSE),\"\")","v":""},{"$f":"IFERROR(VLOOKUP(A721,'1.Портфель кредитів'!A:AC,14,FALSE),\"\")","v":""}]
[null,{"$f":"IFERROR(VLOOKUP(A722,'1.Портфель кредитів'!A:AC,3,FALSE),\"\")","v":""},{"$f":"IFERROR(VLOOKUP(A722,'1.Портфель кредитів'!A:AC,14,FALSE),\"\")","v":""}]
[null,{"$f":"IFERROR(VLOOKUP(A723,'1.Портфель кредитів'!A:AC,3,FALSE),\"\")","v":""},{"$f":"IFERROR(VLOOKUP(A723,'1.Портфель кредитів'!A:AC,14,FALSE),\"\")","v":""}]
[null,{"$f":"IFERROR(VLOOKUP(A724,'1.Портфель кредитів'!A:AC,3,FALSE),\"\")","v":""},{"$f":"IFERROR(VLOOKUP(A724,'1.Портфель кредитів'!A:AC,14,FALSE),\"\")","v":""}]
[null,{"$f":"IFERROR(VLOOKUP(A725,'1.Портфель кредитів'!A:AC,3,FALSE),\"\")","v":""},{"$f":"IFERROR(VLOOKUP(A725,'1.Портфель кредитів'!A:AC,14,FALSE),\"\")","v":""}]
[null,{"$f":"IFERROR(VLOOKUP(A726,'1.Портфель кредитів'!A:AC,3,FALSE),\"\")","v":""},{"$f":"IFERROR(VLOOKUP(A726,'1.Портфель кредитів'!A:AC,14,FALSE),\"\")","v":""}]
[null,{"$f":"IFERROR(VLOOKUP(A727,'1.Портфель кредитів'!A:AC,3,FALSE),\"\")","v":""},{"$f":"IFERROR(VLOOKUP(A727,'1.Портфель кредитів'!A:AC,14,FALSE),\"\")","v":""}]
[null,{"$f":"IFERROR(VLOOKUP(A728,'1.Портфель кредитів'!A:AC,3,FALSE),\"\")","v":""},{"$f":"IFERROR(VLOOKUP(A728,'1.Портфель кредитів'!A:AC,14,FALSE),\"\")","v":""}]
[null,{"$f":"IFERROR(VLOOKUP(A729,'1.Портфель кредитів'!A:AC,3,FALSE),\"\")","v":""},{"$f":"IFERROR(VLOOKUP(A729,'1.Портфель кредитів'!A:AC,14,FALSE),\"\")","v":""}]
[null,{"$f":"IFERROR(VLOOKUP(A730,'1.Портфель кредитів'!A:AC,3,FALSE),\"\")","v":""},{"$f":"IFERROR(VLOOKUP(A730,'1.Портфель кредитів'!A:AC,14,FALSE),\"\")","v":""}]
[null,{"$f":"IFERROR(VLOOKUP(A731,'1.Портфель кредитів'!A:AC,3,FALSE),\"\")","v":""},{"$f":"IFERROR(VLOOKUP(A731,'1.Портфель кредитів'!A:AC,14,FALSE),\"\")","v":""}]
[null,{"$f":"IFERROR(VLOOKUP(A732,'1.Портфель кредитів'!A:AC,3,FALSE),\"\")","v":""},{"$f":"IFERROR(VLOOKUP(A732,'1.Портфель кредитів'!A:AC,14,FALSE),\"\")","v":""}]
[null,{"$f":"IFERROR(VLOOKUP(A733,'1.Портфель кредитів'!A:AC,3,FALSE),\"\")","v":""},{"$f":"IFERROR(VLOOKUP(A733,'1.Портфель кредитів'!A:AC,14,FALSE),\"\")","v":""}]
[null,{"$f":"IFERROR(VLOOKUP(A734,'1.Портфель кредитів'!A:AC,3,FALSE),\"\")","v":""},{"$f":"IFERROR(VLOOKUP(A734,'1.Портфель кредитів'!A:AC,14,FALSE),\"\")","v":""}]
[null,{"$f":"IFERROR(VLOOKUP(A735,'1.Портфель кредитів'!A:AC,3,FALSE),\"\")","v":""},{"$f":"IFERROR(VLOOKUP(A735,'1.Портфель кредитів'!A:AC,14,FALSE),\"\")","v":""}]
[null,{"$f":"IFERROR(VLOOKUP(A736,'1.Портфель кредитів'!A:AC,3,FALSE),\"\")","v":""},{"$f":"IFERROR(VLOOKUP(A736,'1.Портфель кредитів'!A:AC,14,FALSE),\"\")","v":""}]
[null,{"$f":"IFERROR(VLOOKUP(A737,'1.Портфель кредитів'!A:AC,3,FALSE),\"\")","v":""},{"$f":"IFERROR(VLOOKUP(A737,'1.Портфель кредитів'!A:AC,14,FALSE),\"\")","v":""}]
[null,{"$f":"IFERROR(VLOOKUP(A738,'1.Портфель кредитів'!A:AC,3,FALSE),\"\")","v":""},{"$f":"IFERROR(VLOOKUP(A738,'1.Портфель кредитів'!A:AC,14,FALSE),\"\")","v":""}]
[null,{"$f":"IFERROR(VLOOKUP(A739,'1.Портфель кредитів'!A:AC,3,FALSE),\"\")","v":""},{"$f":"IFERROR(VLOOKUP(A739,'1.Портфель кредитів'!A:AC,14,FALSE),\"\")","v":""}]
[null,{"$f":"IFERROR(VLOOKUP(A740,'1.Портфель кредитів'!A:AC,3,FALSE),\"\")","v":""},{"$f":"IFERROR(VLOOKUP(A740,'1.Портфель кредитів'!A:AC,14,FALSE),\"\")","v":""}]
[null,{"$f":"IFERROR(VLOOKUP(A741,'1.Портфель кредитів'!A:AC,3,FALSE),\"\")","v":""},{"$f":"IFERROR(VLOOKUP(A741,'1.Портфель кредитів'!A:AC,14,FALSE),\"\")","v":""}]
[null,{"$f":"IFERROR(VLOOKUP(A742,'1.Портфель кредитів'!A:AC,3,FALSE),\"\")","v":""},{"$f":"IFERROR(VLOOKUP(A742,'1.Портфель кредитів'!A:AC,14,FALSE),\"\")","v":""}]
[null,{"$f":"IFERROR(VLOOKUP(A743,'1.Портфель кредитів'!A:AC,3,FALSE),\"\")","v":""},{"$f":"IFERROR(VLOOKUP(A743,'1.Портфель кредитів'!A:AC,14,FALSE),\"\")","v":""}]
[null,{"$f":"IFERROR(VLOOKUP(A744,'1.Портфель кредитів'!A:AC,3,FALSE),\"\")","v":""},{"$f":"IFERROR(VLOOKUP(A744,'1.Портфель кредитів'!A:AC,14,FALSE),\"\")","v":""}]
[null,{"$f":"IFERROR(VLOOKUP(A745,'1.Портфель кредитів'!A:AC,3,FALSE),\"\")","v":""},{"$f":"IFERROR(VLOOKUP(A745,'1.Портфель кредитів'!A:AC,14,FALSE),\"\")","v":""}]
[null,{"$f":"IFERROR(VLOOKUP(A746,'1.Портфель кредитів'!A:AC,3,FALSE),\"\")","v":""},{"$f":"IFERROR(VLOOKUP(A746,'1.Портфель кредитів'!A:AC,14,FALSE),\"\")","v":""}]
[null,{"$f":"IFERROR(VLOOKUP(A747,'1.Портфель кредитів'!A:AC,3,FALSE),\"\")","v":""},{"$f":"IFERROR(VLOOKUP(A747,'1.Портфель кредитів'!A:AC,14,FALSE),\"\")","v":""}]
[null,{"$f":"IFERROR(VLOOKUP(A748,'1.Портфель кредитів'!A:AC,3,FALSE),\"\")","v":""},{"$f":"IFERROR(VLOOKUP(A748,'1.Портфель кредитів'!A:AC,14,FALSE),\"\")","v":""}]
[null,{"$f":"IFERROR(VLOOKUP(A749,'1.Портфель кредитів'!A:AC,3,FALSE),\"\")","v":""},{"$f":"IFERROR(VLOOKUP(A749,'1.Портфель кредитів'!A:AC,14,FALSE),\"\")","v":""}]
[null,{"$f":"IFERROR(VLOOKUP(A750,'1.Портфель кредитів'!A:AC,3,FALSE),\"\")","v":""},{"$f":"IFERROR(VLOOKUP(A750,'1.Портфель кредитів'!A:AC,14,FALSE),\"\")","v":""}]
[null,{"$f":"IFERROR(VLOOKUP(A751,'1.Портфель кредитів'!A:AC,3,FALSE),\"\")","v":""},{"$f":"IFERROR(VLOOKUP(A751,'1.Портфель кредитів'!A:AC,14,FALSE),\"\")","v":""}]
[null,{"$f":"IFERROR(VLOOKUP(A752,'1.Портфель кредитів'!A:AC,3,FALSE),\"\")","v":""},{"$f":"IFERROR(VLOOKUP(A752,'1.Портфель кредитів'!A:AC,14,FALSE),\"\")","v":""}]
[null,{"$f":"IFERROR(VLOOKUP(A753,'1.Портфель кредитів'!A:AC,3,FALSE),\"\")","v":""},{"$f":"IFERROR(VLOOKUP(A753,'1.Портфель кредитів'!A:AC,14,FALSE),\"\")","v":""}]
[null,{"$f":"IFERROR(VLOOKUP(A754,'1.Портфель кредитів'!A:AC,3,FALSE),\"\")","v":""},{"$f":"IFERROR(VLOOKUP(A754,'1.Портфель кредитів'!A:AC,14,FALSE),\"\")","v":""}]
[null,{"$f":"IFERROR(VLOOKUP(A755,'1.Портфель кредитів'!A:AC,3,FALSE),\"\")","v":""},{"$f":"IFERROR(VLOOKUP(A755,'1.Портфель кредитів'!A:AC,14,FALSE),\"\")","v":""}]
[null,{"$f":"IFERROR(VLOOKUP(A756,'1.Портфель кредитів'!A:AC,3,FALSE),\"\")","v":""},{"$f":"IFERROR(VLOOKUP(A756,'1.Портфель кредитів'!A:AC,14,FALSE),\"\")","v":""}]
[null,{"$f":"IFERROR(VLOOKUP(A757,'1.Портфель кредитів'!A:AC,3,FALSE),\"\")","v":""},{"$f":"IFERROR(VLOOKUP(A757,'1.Портфель кредитів'!A:AC,14,FALSE),\"\")","v":""}]
[null,{"$f":"IFERROR(VLOOKUP(A758,'1.Портфель кредитів'!A:AC,3,FALSE),\"\")","v":""},{"$f":"IFERROR(VLOOKUP(A758,'1.Портфель кредитів'!A:AC,14,FALSE),\"\")","v":""}]
[null,{"$f":"IFERROR(VLOOKUP(A759,'1.Портфель кредитів'!A:AC,3,FALSE),\"\")","v":""},{"$f":"IFERROR(VLOOKUP(A759,'1.Портфель кредитів'!A:AC,14,FALSE),\"\")","v":""}]
[null,{"$f":"IFERROR(VLOOKUP(A760,'1.Портфель кредитів'!A:AC,3,FALSE),\"\")","v":""},{"$f":"IFERROR(VLOOKUP(A760,'1.Портфель кредитів'!A:AC,14,FALSE),\"\")","v":""}]
[null,{"$f":"IFERROR(VLOOKUP(A761,'1.Портфель кредитів'!A:AC,3,FALSE),\"\")","v":""},{"$f":"IFERROR(VLOOKUP(A761,'1.Портфель кредитів'!A:AC,14,FALSE),\"\")","v":""}]
[null,{"$f":"IFERROR(VLOOKUP(A762,'1.Портфель кредитів'!A:AC,3,FALSE),\"\")","v":""},{"$f":"IFERROR(VLOOKUP(A762,'1.Портфель кредитів'!A:AC,14,FALSE),\"\")","v":""}]
[null,{"$f":"IFERROR(VLOOKUP(A763,'1.Портфель кредитів'!A:AC,3,FALSE),\"\")","v":""},{"$f":"IFERROR(VLOOKUP(A763,'1.Портфель кредитів'!A:AC,14,FALSE),\"\")","v":""}]
[null,{"$f":"IFERROR(VLOOKUP(A764,'1.Портфель кредитів'!A:AC,3,FALSE),\"\")","v":""},{"$f":"IFERROR(VLOOKUP(A764,'1.Портфель кредитів'!A:AC,14,FALSE),\"\")","v":""}]
[null,{"$f":"IFERROR(VLOOKUP(A765,'1.Портфель кредитів'!A:AC,3,FALSE),\"\")","v":""},{"$f":"IFERROR(VLOOKUP(A765,'1.Портфель кредитів'!A:AC,14,FALSE),\"\")","v":""}]
[null,{"$f":"IFERROR(VLOOKUP(A766,'1.Портфель кредитів'!A:AC,3,FALSE),\"\")","v":""},{"$f":"IFERROR(VLOOKUP(A766,'1.Портфель кредитів'!A:AC,14,FALSE),\"\")","v":""}]
[null,{"$f":"IFERROR(VLOOKUP(A767,'1.Портфель кредитів'!A:AC,3,FALSE),\"\")","v":""},{"$f":"IFERROR(VLOOKUP(A767,'1.Портфель кредитів'!A:AC,14,FALSE),\"\")","v":""}]
[null,{"$f":"IFERROR(VLOOKUP(A768,'1.Портфель кредитів'!A:AC,3,FALSE),\"\")","v":""},{"$f":"IFERROR(VLOOKUP(A768,'1.Портфель кредитів'!A:AC,14,FALSE),\"\")","v":""}]
[null,{"$f":"IFERROR(VLOOKUP(A769,'1.Портфель кредитів'!A:AC,3,FALSE),\"\")","v":""},{"$f":"IFERROR(VLOOKUP(A769,'1.Портфель кредитів'!A:AC,14,FALSE),\"\")","v":""}]
[null,{"$f":"IFERROR(VLOOKUP(A770,'1.Портфель кредитів'!A:AC,3,FALSE),\"\")","v":""},{"$f":"IFERROR(VLOOKUP(A770,'1.Портфель кредитів'!A:AC,14,FALSE),\"\")","v":""}]
[null,{"$f":"IFERROR(VLOOKUP(A771,'1.Портфель кредитів'!A:AC,3,FALSE),\"\")","v":""},{"$f":"IFERROR(VLOOKUP(A771,'1.Портфель кредитів'!A:AC,14,FALSE),\"\")","v":""}]
[null,{"$f":"IFERROR(VLOOKUP(A772,'1.Портфель кредитів'!A:AC,3,FALSE),\"\")","v":""},{"$f":"IFERROR(VLOOKUP(A772,'1.Портфель кредитів'!A:AC,14,FALSE),\"\")","v":""}]
[null,{"$f":"IFERROR(VLOOKUP(A773,'1.Портфель кредитів'!A:AC,3,FALSE),\"\")","v":""},{"$f":"IFERROR(VLOOKUP(A773,'1.Портфель кредитів'!A:AC,14,FALSE),\"\")","v":""}]
[null,{"$f":"IFERROR(VLOOKUP(A774,'1.Портфель кредитів'!A:AC,3,FALSE),\"\")","v":""},{"$f":"IFERROR(VLOOKUP(A774,'1.Портфель кредитів'!A:AC,14,FALSE),\"\")","v":""}]
[null,{"$f":"IFERROR(VLOOKUP(A775,'1.Портфель кредитів'!A:AC,3,FALSE),\"\")","v":""},{"$f":"IFERROR(VLOOKUP(A775,'1.Портфель кредитів'!A:AC,14,FALSE),\"\")","v":""}]
[null,{"$f":"IFERROR(VLOOKUP(A776,'1.Портфель кредитів'!A:AC,3,FALSE),\"\")","v":""},{"$f":"IFERROR(VLOOKUP(A776,'1.Портфель кредитів'!A:AC,14,FALSE),\"\")","v":""}]
[null,{"$f":"IFERROR(VLOOKUP(A777,'1.Портфель кредитів'!A:AC,3,FALSE),\"\")","v":""},{"$f":"IFERROR(VLOOKUP(A777,'1.Портфель кредитів'!A:AC,14,FALSE),\"\")","v":""}]
[null,{"$f":"IFERROR(VLOOKUP(A778,'1.Портфель кредитів'!A:AC,3,FALSE),\"\")","v":""},{"$f":"IFERROR(VLOOKUP(A778,'1.Портфель кредитів'!A:AC,14,FALSE),\"\")","v":""}]
[null,{"$f":"IFERROR(VLOOKUP(A779,'1.Портфель кредитів'!A:AC,3,FALSE),\"\")","v":""},{"$f":"IFERROR(VLOOKUP(A779,'1.Портфель кредитів'!A:AC,14,FALSE),\"\")","v":""}]
[null,{"$f":"IFERROR(VLOOKUP(A780,'1.Портфель кредитів'!A:AC,3,FALSE),\"\")","v":""},{"$f":"IFERROR(VLOOKUP(A780,'1.Портфель кредитів'!A:AC,14,FALSE),\"\")","v":""}]
[null,{"$f":"IFERROR(VLOOKUP(A781,'1.Портфель кредитів'!A:AC,3,FALSE),\"\")","v":""},{"$f":"IFERROR(VLOOKUP(A781,'1.Портфель кредитів'!A:AC,14,FALSE),\"\")","v":""}]
[null,{"$f":"IFERROR(VLOOKUP(A782,'1.Портфель кредитів'!A:AC,3,FALSE),\"\")","v":""},{"$f":"IFERROR(VLOOKUP(A782,'1.Портфель кредитів'!A:AC,14,FALSE),\"\")","v":""}]
[null,{"$f":"IFERROR(VLOOKUP(A783,'1.Портфель кредитів'!A:AC,3,FALSE),\"\")","v":""},{"$f":"IFERROR(VLOOKUP(A783,'1.Портфель кредитів'!A:AC,14,FALSE),\"\")","v":""}]
[null,{"$f":"IFERROR(VLOOKUP(A784,'1.Портфель кредитів'!A:AC,3,FALSE),\"\")","v":""},{"$f":"IFERROR(VLOOKUP(A784,'1.Портфель кредитів'!A:AC,14,FALSE),\"\")","v":""}]
[null,{"$f":"IFERROR(VLOOKUP(A785,'1.Портфель кредитів'!A:AC,3,FALSE),\"\")","v":""},{"$f":"IFERROR(VLOOKUP(A785,'1.Портфель кредитів'!A:AC,14,FALSE),\"\")","v":""}]
[null,{"$f":"IFERROR(VLOOKUP(A786,'1.Портфель кредитів'!A:AC,3,FALSE),\"\")","v":""},{"$f":"IFERROR(VLOOKUP(A786,'1.Портфель кредитів'!A:AC,14,FALSE),\"\")","v":""}]
[null,{"$f":"IFERROR(VLOOKUP(A787,'1.Портфель кредитів'!A:AC,3,FALSE),\"\")","v":""},{"$f":"IFERROR(VLOOKUP(A787,'1.Портфель кредитів'!A:AC,14,FALSE),\"\")","v":""}]
[null,{"$f":"IFERROR(VLOOKUP(A788,'1.Портфель кредитів'!A:AC,3,FALSE),\"\")","v":""},{"$f":"IFERROR(VLOOKUP(A788,'1.Портфель кредитів'!A:AC,14,FALSE),\"\")","v":""}]
[null,{"$f":"IFERROR(VLOOKUP(A789,'1.Портфель кредитів'!A:AC,3,FALSE),\"\")","v":""},{"$f":"IFERROR(VLOOKUP(A789,'1.Портфель кредитів'!A:AC,14,FALSE),\"\")","v":""}]
[null,{"$f":"IFERROR(VLOOKUP(A790,'1.Портфель кредитів'!A:AC,3,FALSE),\"\")","v":""},{"$f":"IFERROR(VLOOKUP(A790,'1.Портфель кредитів'!A:AC,14,FALSE),\"\")","v":""}]
[null,{"$f":"IFERROR(VLOOKUP(A791,'1.Портфель кредитів'!A:AC,3,FALSE),\"\")","v":""},{"$f":"IFERROR(VLOOKUP(A791,'1.Портфель кредитів'!A:AC,14,FALSE),\"\")","v":""}]
[null,{"$f":"IFERROR(VLOOKUP(A792,'1.Портфель кредитів'!A:AC,3,FALSE),\"\")","v":""},{"$f":"IFERROR(VLOOKUP(A792,'1.Портфель кредитів'!A:AC,14,FALSE),\"\")","v":""}]
[null,{"$f":"IFERROR(VLOOKUP(A793,'1.Портфель кредитів'!A:AC,3,FALSE),\"\")","v":""},{"$f":"IFERROR(VLOOKUP(A793,'1.Портфель кредитів'!A:AC,14,FALSE),\"\")","v":""}]
[null,{"$f":"IFERROR(VLOOKUP(A794,'1.Портфель кредитів'!A:AC,3,FALSE),\"\")","v":""},{"$f":"IFERROR(VLOOKUP(A794,'1.Портфель кредитів'!A:AC,14,FALSE),\"\")","v":""}]
[null,{"$f":"IFERROR(VLOOKUP(A795,'1.Портфель кредитів'!A:AC,3,FALSE),\"\")","v":""},{"$f":"IFERROR(VLOOKUP(A795,'1.Портфель кредитів'!A:AC,14,FALSE),\"\")","v":""}]
[null,{"$f":"IFERROR(VLOOKUP(A796,'1.Портфель кредитів'!A:AC,3,FALSE),\"\")","v":""},{"$f":"IFERROR(VLOOKUP(A796,'1.Портфель кредитів'!A:AC,14,FALSE),\"\")","v":""}]
[null,{"$f":"IFERROR(VLOOKUP(A797,'1.Портфель кредитів'!A:AC,3,FALSE),\"\")","v":""},{"$f":"IFERROR(VLOOKUP(A797,'1.Портфель кредитів'!A:AC,14,FALSE),\"\")","v":""}]
[null,{"$f":"IFERROR(VLOOKUP(A798,'1.Портфель кредитів'!A:AC,3,FALSE),\"\")","v":""},{"$f":"IFERROR(VLOOKUP(A798,'1.Портфель кредитів'!A:AC,14,FALSE),\"\")","v":""}]
[null,{"$f":"IFERROR(VLOOKUP(A799,'1.Портфель кредитів'!A:AC,3,FALSE),\"\")","v":""},{"$f":"IFERROR(VLOOKUP(A799,'1.Портфель кредитів'!A:AC,14,FALSE),\"\")","v":""}]
[null,{"$f":"IFERROR(VLOOKUP(A800,'1.Портфель кредитів'!A:AC,3,FALSE),\"\")","v":""},{"$f":"IFERROR(VLOOKUP(A800,'1.Портфель кредитів'!A:AC,14,FALSE),\"\")","v":""}]
[null,{"$f":"IFERROR(VLOOKUP(A801,'1.Портфель кредитів'!A:AC,3,FALSE),\"\")","v":""},{"$f":"IFERROR(VLOOKUP(A801,'1.Портфель кредитів'!A:AC,14,FALSE),\"\")","v":""}]
[null,{"$f":"IFERROR(VLOOKUP(A802,'1.Портфель кредитів'!A:AC,3,FALSE),\"\")","v":""},{"$f":"IFERROR(VLOOKUP(A802,'1.Портфель кредитів'!A:AC,14,FALSE),\"\")","v":""}]
[null,{"$f":"IFERROR(VLOOKUP(A803,'1.Портфель кредитів'!A:AC,3,FALSE),\"\")","v":""},{"$f":"IFERROR(VLOOKUP(A803,'1.Портфель кредитів'!A:AC,14,FALSE),\"\")","v":""}]
[null,{"$f":"IFERROR(VLOOKUP(A804,'1.Портфель кредитів'!A:AC,3,FALSE),\"\")","v":""},{"$f":"IFERROR(VLOOKUP(A804,'1.Портфель кредитів'!A:AC,14,FALSE),\"\")","v":""}]
[null,{"$f":"IFERROR(VLOOKUP(A805,'1.Портфель кредитів'!A:AC,3,FALSE),\"\")","v":""},{"$f":"IFERROR(VLOOKUP(A805,'1.Портфель кредитів'!A:AC,14,FALSE),\"\")","v":""}]
[null,{"$f":"IFERROR(VLOOKUP(A806,'1.Портфель кредитів'!A:AC,3,FALSE),\"\")","v":""},{"$f":"IFERROR(VLOOKUP(A806,'1.Портфель кредитів'!A:AC,14,FALSE),\"\")","v":""}]
[null,{"$f":"IFERROR(VLOOKUP(A807,'1.Портфель кредитів'!A:AC,3,FALSE),\"\")","v":""},{"$f":"IFERROR(VLOOKUP(A807,'1.Портфель кредитів'!A:AC,14,FALSE),\"\")","v":""}]
[null,{"$f":"IFERROR(VLOOKUP(A808,'1.Портфель кредитів'!A:AC,3,FALSE),\"\")","v":""},{"$f":"IFERROR(VLOOKUP(A808,'1.Портфель кредитів'!A:AC,14,FALSE),\"\")","v":""}]
[null,{"$f":"IFERROR(VLOOKUP(A809,'1.Портфель кредитів'!A:AC,3,FALSE),\"\")","v":""},{"$f":"IFERROR(VLOOKUP(A809,'1.Портфель кредитів'!A:AC,14,FALSE),\"\")","v":""}]
[null,{"$f":"IFERROR(VLOOKUP(A810,'1.Портфель кредитів'!A:AC,3,FALSE),\"\")","v":""},{"$f":"IFERROR(VLOOKUP(A810,'1.Портфель кредитів'!A:AC,14,FALSE),\"\")","v":""}]
[null,{"$f":"IFERROR(VLOOKUP(A811,'1.Портфель кредитів'!A:AC,3,FALSE),\"\")","v":""},{"$f":"IFERROR(VLOOKUP(A811,'1.Портфель кредитів'!A:AC,14,FALSE),\"\")","v":""}]
[null,{"$f":"IFERROR(VLOOKUP(A812,'1.Портфель кредитів'!A:AC,3,FALSE),\"\")","v":""},{"$f":"IFERROR(VLOOKUP(A812,'1.Портфель кредитів'!A:AC,14,FALSE),\"\")","v":""}]
[null,{"$f":"IFERROR(VLOOKUP(A813,'1.Портфель кредитів'!A:AC,3,FALSE),\"\")","v":""},{"$f":"IFERROR(VLOOKUP(A813,'1.Портфель кредитів'!A:AC,14,FALSE),\"\")","v":""}]
[null,{"$f":"IFERROR(VLOOKUP(A814,'1.Портфель кредитів'!A:AC,3,FALSE),\"\")","v":""},{"$f":"IFERROR(VLOOKUP(A814,'1.Портфель кредитів'!A:AC,14,FALSE),\"\")","v":""}]
[null,{"$f":"IFERROR(VLOOKUP(A815,'1.Портфель кредитів'!A:AC,3,FALSE),\"\")","v":""},{"$f":"IFERROR(VLOOKUP(A815,'1.Портфель кредитів'!A:AC,14,FALSE),\"\")","v":""}]
[null,{"$f":"IFERROR(VLOOKUP(A816,'1.Портфель кредитів'!A:AC,3,FALSE),\"\")","v":""},{"$f":"IFERROR(VLOOKUP(A816,'1.Портфель кредитів'!A:AC,14,FALSE),\"\")","v":""}]
[null,{"$f":"IFERROR(VLOOKUP(A817,'1.Портфель кредитів'!A:AC,3,FALSE),\"\")","v":""},{"$f":"IFERROR(VLOOKUP(A817,'1.Портфель кредитів'!A:AC,14,FALSE),\"\")","v":""}]
[null,{"$f":"IFERROR(VLOOKUP(A818,'1.Портфель кредитів'!A:AC,3,FALSE),\"\")","v":""},{"$f":"IFERROR(VLOOKUP(A818,'1.Портфель кредитів'!A:AC,14,FALSE),\"\")","v":""}]
[null,{"$f":"IFERROR(VLOOKUP(A819,'1.Портфель кредитів'!A:AC,3,FALSE),\"\")","v":""},{"$f":"IFERROR(VLOOKUP(A819,'1.Портфель кредитів'!A:AC,14,FALSE),\"\")","v":""}]
[null,{"$f":"IFERROR(VLOOKUP(A820,'1.Портфель кредитів'!A:AC,3,FALSE),\"\")","v":""},{"$f":"IFERROR(VLOOKUP(A820,'1.Портфель кредитів'!A:AC,14,FALSE),\"\")","v":""}]
[null,{"$f":"IFERROR(VLOOKUP(A821,'1.Портфель кредитів'!A:AC,3,FALSE),\"\")","v":""},{"$f":"IFERROR(VLOOKUP(A821,'1.Портфель кредитів'!A:AC,14,FALSE),\"\")","v":""}]
[null,{"$f":"IFERROR(VLOOKUP(A822,'1.Портфель кредитів'!A:AC,3,FALSE),\"\")","v":""},{"$f":"IFERROR(VLOOKUP(A822,'1.Портфель кредитів'!A:AC,14,FALSE),\"\")","v":""}]
[null,{"$f":"IFERROR(VLOOKUP(A823,'1.Портфель кредитів'!A:AC,3,FALSE),\"\")","v":""},{"$f":"IFERROR(VLOOKUP(A823,'1.Портфель кредитів'!A:AC,14,FALSE),\"\")","v":""}]
[null,{"$f":"IFERROR(VLOOKUP(A824,'1.Портфель кредитів'!A:AC,3,FALSE),\"\")","v":""},{"$f":"IFERROR(VLOOKUP(A824,'1.Портфель кредитів'!A:AC,14,FALSE),\"\")","v":""}]
[null,{"$f":"IFERROR(VLOOKUP(A825,'1.Портфель кредитів'!A:AC,3,FALSE),\"\")","v":""},{"$f":"IFERROR(VLOOKUP(A825,'1.Портфель кредитів'!A:AC,14,FALSE),\"\")","v":""}]
[null,{"$f":"IFERROR(VLOOKUP(A826,'1.Портфель кредитів'!A:AC,3,FALSE),\"\")","v":""},{"$f":"IFERROR(VLOOKUP(A826,'1.Портфель кредитів'!A:AC,14,FALSE),\"\")","v":""}]
[null,{"$f":"IFERROR(VLOOKUP(A827,'1.Портфель кредитів'!A:AC,3,FALSE),\"\")","v":""},{"$f":"IFERROR(VLOOKUP(A827,'1.Портфель кредитів'!A:AC,14,FALSE),\"\")","v":""}]
[null,{"$f":"IFERROR(VLOOKUP(A828,'1.Портфель кредитів'!A:AC,3,FALSE),\"\")","v":""},{"$f":"IFERROR(VLOOKUP(A828,'1.Портфель кредитів'!A:AC,14,FALSE),\"\")","v":""}]
[null,{"$f":"IFERROR(VLOOKUP(A829,'1.Портфель кредитів'!A:AC,3,FALSE),\"\")","v":""},{"$f":"IFERROR(VLOOKUP(A829,'1.Портфель кредитів'!A:AC,14,FALSE),\"\")","v":""}]
[null,{"$f":"IFERROR(VLOOKUP(A830,'1.Портфель кредитів'!A:AC,3,FALSE),\"\")","v":""},{"$f":"IFERROR(VLOOKUP(A830,'1.Портфель кредитів'!A:AC,14,FALSE),\"\")","v":""}]
[null,{"$f":"IFERROR(VLOOKUP(A831,'1.Портфель кредитів'!A:AC,3,FALSE),\"\")","v":""},{"$f":"IFERROR(VLOOKUP(A831,'1.Портфель кредитів'!A:AC,14,FALSE),\"\")","v":""}]
[null,{"$f":"IFERROR(VLOOKUP(A832,'1.Портфель кредитів'!A:AC,3,FALSE),\"\")","v":""},{"$f":"IFERROR(VLOOKUP(A832,'1.Портфель кредитів'!A:AC,14,FALSE),\"\")","v":""}]
[null,{"$f":"IFERROR(VLOOKUP(A833,'1.Портфель кредитів'!A:AC,3,FALSE),\"\")","v":""},{"$f":"IFERROR(VLOOKUP(A833,'1.Портфель кредитів'!A:AC,14,FALSE),\"\")","v":""}]
[null,{"$f":"IFERROR(VLOOKUP(A834,'1.Портфель кредитів'!A:AC,3,FALSE),\"\")","v":""},{"$f":"IFERROR(VLOOKUP(A834,'1.Портфель кредитів'!A:AC,14,FALSE),\"\")","v":""}]
[null,{"$f":"IFERROR(VLOOKUP(A835,'1.Портфель кредитів'!A:AC,3,FALSE),\"\")","v":""},{"$f":"IFERROR(VLOOKUP(A835,'1.Портфель кредитів'!A:AC,14,FALSE),\"\")","v":""}]
[null,{"$f":"IFERROR(VLOOKUP(A836,'1.Портфель кредитів'!A:AC,3,FALSE),\"\")","v":""},{"$f":"IFERROR(VLOOKUP(A836,'1.Портфель кредитів'!A:AC,14,FALSE),\"\")","v":""}]
[null,{"$f":"IFERROR(VLOOKUP(A837,'1.Портфель кредитів'!A:AC,3,FALSE),\"\")","v":""},{"$f":"IFERROR(VLOOKUP(A837,'1.Портфель кредитів'!A:AC,14,FALSE),\"\")","v":""}]
[null,{"$f":"IFERROR(VLOOKUP(A838,'1.Портфель кредитів'!A:AC,3,FALSE),\"\")","v":""},{"$f":"IFERROR(VLOOKUP(A838,'1.Портфель кредитів'!A:AC,14,FALSE),\"\")","v":""}]
[null,{"$f":"IFERROR(VLOOKUP(A839,'1.Портфель кредитів'!A:AC,3,FALSE),\"\")","v":""},{"$f":"IFERROR(VLOOKUP(A839,'1.Портфель кредитів'!A:AC,14,FALSE),\"\")","v":""}]
[null,{"$f":"IFERROR(VLOOKUP(A840,'1.Портфель кредитів'!A:AC,3,FALSE),\"\")","v":""},{"$f":"IFERROR(VLOOKUP(A840,'1.Портфель кредитів'!A:AC,14,FALSE),\"\")","v":""}]
[null,{"$f":"IFERROR(VLOOKUP(A841,'1.Портфель кредитів'!A:AC,3,FALSE),\"\")","v":""},{"$f":"IFERROR(VLOOKUP(A841,'1.Портфель кредитів'!A:AC,14,FALSE),\"\")","v":""}]
[null,{"$f":"IFERROR(VLOOKUP(A842,'1.Портфель кредитів'!A:AC,3,FALSE),\"\")","v":""},{"$f":"IFERROR(VLOOKUP(A842,'1.Портфель кредитів'!A:AC,14,FALSE),\"\")","v":""}]
[null,{"$f":"IFERROR(VLOOKUP(A843,'1.Портфель кредитів'!A:AC,3,FALSE),\"\")","v":""},{"$f":"IFERROR(VLOOKUP(A843,'1.Портфель кредитів'!A:AC,14,FALSE),\"\")","v":""}]
[null,{"$f":"IFERROR(VLOOKUP(A844,'1.Портфель кредитів'!A:AC,3,FALSE),\"\")","v":""},{"$f":"IFERROR(VLOOKUP(A844,'1.Портфель кредитів'!A:AC,14,FALSE),\"\")","v":""}]
[null,{"$f":"IFERROR(VLOOKUP(A845,'1.Портфель кредитів'!A:AC,3,FALSE),\"\")","v":""},{"$f":"IFERROR(VLOOKUP(A845,'1.Портфель кредитів'!A:AC,14,FALSE),\"\")","v":""}]
[null,{"$f":"IFERROR(VLOOKUP(A846,'1.Портфель кредитів'!A:AC,3,FALSE),\"\")","v":""},{"$f":"IFERROR(VLOOKUP(A846,'1.Портфель кредитів'!A:AC,14,FALSE),\"\")","v":""}]
[null,{"$f":"IFERROR(VLOOKUP(A847,'1.Портфель кредитів'!A:AC,3,FALSE),\"\")","v":""},{"$f":"IFERROR(VLOOKUP(A847,'1.Портфель кредитів'!A:AC,14,FALSE),\"\")","v":""}]
[null,{"$f":"IFERROR(VLOOKUP(A848,'1.Портфель кредитів'!A:AC,3,FALSE),\"\")","v":""},{"$f":"IFERROR(VLOOKUP(A848,'1.Портфель кредитів'!A:AC,14,FALSE),\"\")","v":""}]
[null,{"$f":"IFERROR(VLOOKUP(A849,'1.Портфель кредитів'!A:AC,3,FALSE),\"\")","v":""},{"$f":"IFERROR(VLOOKUP(A849,'1.Портфель кредитів'!A:AC,14,FALSE),\"\")","v":""}]
[null,{"$f":"IFERROR(VLOOKUP(A850,'1.Портфель кредитів'!A:AC,3,FALSE),\"\")","v":""},{"$f":"IFERROR(VLOOKUP(A850,'1.Портфель кредитів'!A:AC,14,FALSE),\"\")","v":""}]
[null,{"$f":"IFERROR(VLOOKUP(A851,'1.Портфель кредитів'!A:AC,3,FALSE),\"\")","v":""},{"$f":"IFERROR(VLOOKUP(A851,'1.Портфель кредитів'!A:AC,14,FALSE),\"\")","v":""}]
[null,{"$f":"IFERROR(VLOOKUP(A852,'1.Портфель кредитів'!A:AC,3,FALSE),\"\")","v":""},{"$f":"IFERROR(VLOOKUP(A852,'1.Портфель кредитів'!A:AC,14,FALSE),\"\")","v":""}]
[null,{"$f":"IFERROR(VLOOKUP(A853,'1.Портфель кредитів'!A:AC,3,FALSE),\"\")","v":""},{"$f":"IFERROR(VLOOKUP(A853,'1.Портфель кредитів'!A:AC,14,FALSE),\"\")","v":""}]
[null,{"$f":"IFERROR(VLOOKUP(A854,'1.Портфель кредитів'!A:AC,3,FALSE),\"\")","v":""},{"$f":"IFERROR(VLOOKUP(A854,'1.Портфель кредитів'!A:AC,14,FALSE),\"\")","v":""}]
[null,{"$f":"IFERROR(VLOOKUP(A855,'1.Портфель кредитів'!A:AC,3,FALSE),\"\")","v":""},{"$f":"IFERROR(VLOOKUP(A855,'1.Портфель кредитів'!A:AC,14,FALSE),\"\")","v":""}]
[null,{"$f":"IFERROR(VLOOKUP(A856,'1.Портфель кредитів'!A:AC,3,FALSE),\"\")","v":""},{"$f":"IFERROR(VLOOKUP(A856,'1.Портфель кредитів'!A:AC,14,FALSE),\"\")","v":""}]
[null,{"$f":"IFERROR(VLOOKUP(A857,'1.Портфель кредитів'!A:AC,3,FALSE),\"\")","v":""},{"$f":"IFERROR(VLOOKUP(A857,'1.Портфель кредитів'!A:AC,14,FALSE),\"\")","v":""}]
[null,{"$f":"IFERROR(VLOOKUP(A858,'1.Портфель кредитів'!A:AC,3,FALSE),\"\")","v":""},{"$f":"IFERROR(VLOOKUP(A858,'1.Портфель кредитів'!A:AC,14,FALSE),\"\")","v":""}]
[null,{"$f":"IFERROR(VLOOKUP(A859,'1.Портфель кредитів'!A:AC,3,FALSE),\"\")","v":""},{"$f":"IFERROR(VLOOKUP(A859,'1.Портфель кредитів'!A:AC,14,FALSE),\"\")","v":""}]
[null,{"$f":"IFERROR(VLOOKUP(A860,'1.Портфель кредитів'!A:AC,3,FALSE),\"\")","v":""},{"$f":"IFERROR(VLOOKUP(A860,'1.Портфель кредитів'!A:AC,14,FALSE),\"\")","v":""}]
[null,{"$f":"IFERROR(VLOOKUP(A861,'1.Портфель кредитів'!A:AC,3,FALSE),\"\")","v":""},{"$f":"IFERROR(VLOOKUP(A861,'1.Портфель кредитів'!A:AC,14,FALSE),\"\")","v":""}]
[null,{"$f":"IFERROR(VLOOKUP(A862,'1.Портфель кредитів'!A:AC,3,FALSE),\"\")","v":""},{"$f":"IFERROR(VLOOKUP(A862,'1.Портфель кредитів'!A:AC,14,FALSE),\"\")","v":""}]
[null,{"$f":"IFERROR(VLOOKUP(A863,'1.Портфель кредитів'!A:AC,3,FALSE),\"\")","v":""},{"$f":"IFERROR(VLOOKUP(A863,'1.Портфель кредитів'!A:AC,14,FALSE),\"\")","v":""}]
[null,{"$f":"IFERROR(VLOOKUP(A864,'1.Портфель кредитів'!A:AC,3,FALSE),\"\")","v":""},{"$f":"IFERROR(VLOOKUP(A864,'1.Портфель кредитів'!A:AC,14,FALSE),\"\")","v":""}]
[null,{"$f":"IFERROR(VLOOKUP(A865,'1.Портфель кредитів'!A:AC,3,FALSE),\"\")","v":""},{"$f":"IFERROR(VLOOKUP(A865,'1.Портфель кредитів'!A:AC,14,FALSE),\"\")","v":""}]
[null,{"$f":"IFERROR(VLOOKUP(A866,'1.Портфель кредитів'!A:AC,3,FALSE),\"\")","v":""},{"$f":"IFERROR(VLOOKUP(A866,'1.Портфель кредитів'!A:AC,14,FALSE),\"\")","v":""}]
[null,{"$f":"IFERROR(VLOOKUP(A867,'1.Портфель кредитів'!A:AC,3,FALSE),\"\")","v":""},{"$f":"IFERROR(VLOOKUP(A867,'1.Портфель кредитів'!A:AC,14,FALSE),\"\")","v":""}]
[null,{"$f":"IFERROR(VLOOKUP(A868,'1.Портфель кредитів'!A:AC,3,FALSE),\"\")","v":""},{"$f":"IFERROR(VLOOKUP(A868,'1.Портфель кредитів'!A:AC,14,FALSE),\"\")","v":""}]
[null,{"$f":"IFERROR(VLOOKUP(A869,'1.Портфель кредитів'!A:AC,3,FALSE),\"\")","v":""},{"$f":"IFERROR(VLOOKUP(A869,'1.Портфель кредитів'!A:AC,14,FALSE),\"\")","v":""}]
[null,{"$f":"IFERROR(VLOOKUP(A870,'1.Портфель кредитів'!A:AC,3,FALSE),\"\")","v":""},{"$f":"IFERROR(VLOOKUP(A870,'1.Портфель кредитів'!A:AC,14,FALSE),\"\")","v":""}]
[null,{"$f":"IFERROR(VLOOKUP(A871,'1.Портфель кредитів'!A:AC,3,FALSE),\"\")","v":""},{"$f":"IFERROR(VLOOKUP(A871,'1.Портфель кредитів'!A:AC,14,FALSE),\"\")","v":""}]
[null,{"$f":"IFERROR(VLOOKUP(A872,'1.Портфель кредитів'!A:AC,3,FALSE),\"\")","v":""},{"$f":"IFERROR(VLOOKUP(A872,'1.Портфель кредитів'!A:AC,14,FALSE),\"\")","v":""}]
[null,{"$f":"IFERROR(VLOOKUP(A873,'1.Портфель кредитів'!A:AC,3,FALSE),\"\")","v":""},{"$f":"IFERROR(VLOOKUP(A873,'1.Портфель кредитів'!A:AC,14,FALSE),\"\")","v":""}]
[null,{"$f":"IFERROR(VLOOKUP(A874,'1.Портфель кредитів'!A:AC,3,FALSE),\"\")","v":""},{"$f":"IFERROR(VLOOKUP(A874,'1.Портфель кредитів'!A:AC,14,FALSE),\"\")","v":""}]
[null,{"$f":"IFERROR(VLOOKUP(A875,'1.Портфель кредитів'!A:AC,3,FALSE),\"\")","v":""},{"$f":"IFERROR(VLOOKUP(A875,'1.Портфель кредитів'!A:AC,14,FALSE),\"\")","v":""}]
[null,{"$f":"IFERROR(VLOOKUP(A876,'1.Портфель кредитів'!A:AC,3,FALSE),\"\")","v":""},{"$f":"IFERROR(VLOOKUP(A876,'1.Портфель кредитів'!A:AC,14,FALSE),\"\")","v":""}]
[null,{"$f":"IFERROR(VLOOKUP(A877,'1.Портфель кредитів'!A:AC,3,FALSE),\"\")","v":""},{"$f":"IFERROR(VLOOKUP(A877,'1.Портфель кредитів'!A:AC,14,FALSE),\"\")","v":""}]
[null,{"$f":"IFERROR(VLOOKUP(A878,'1.Портфель кредитів'!A:AC,3,FALSE),\"\")","v":""},{"$f":"IFERROR(VLOOKUP(A878,'1.Портфель кредитів'!A:AC,14,FALSE),\"\")","v":""}]
[null,{"$f":"IFERROR(VLOOKUP(A879,'1.Портфель кредитів'!A:AC,3,FALSE),\"\")","v":""},{"$f":"IFERROR(VLOOKUP(A879,'1.Портфель кредитів'!A:AC,14,FALSE),\"\")","v":""}]
[null,{"$f":"IFERROR(VLOOKUP(A880,'1.Портфель кредитів'!A:AC,3,FALSE),\"\")","v":""},{"$f":"IFERROR(VLOOKUP(A880,'1.Портфель кредитів'!A:AC,14,FALSE),\"\")","v":""}]
[null,{"$f":"IFERROR(VLOOKUP(A881,'1.Портфель кредитів'!A:AC,3,FALSE),\"\")","v":""},{"$f":"IFERROR(VLOOKUP(A881,'1.Портфель кредитів'!A:AC,14,FALSE),\"\")","v":""}]
[null,{"$f":"IFERROR(VLOOKUP(A882,'1.Портфель кредитів'!A:AC,3,FALSE),\"\")","v":""},{"$f":"IFERROR(VLOOKUP(A882,'1.Портфель кредитів'!A:AC,14,FALSE),\"\")","v":""}]
[null,{"$f":"IFERROR(VLOOKUP(A883,'1.Портфель кредитів'!A:AC,3,FALSE),\"\")","v":""},{"$f":"IFERROR(VLOOKUP(A883,'1.Портфель кредитів'!A:AC,14,FALSE),\"\")","v":""}]
[null,{"$f":"IFERROR(VLOOKUP(A884,'1.Портфель кредитів'!A:AC,3,FALSE),\"\")","v":""},{"$f":"IFERROR(VLOOKUP(A884,'1.Портфель кредитів'!A:AC,14,FALSE),\"\")","v":""}]
[null,{"$f":"IFERROR(VLOOKUP(A885,'1.Портфель кредитів'!A:AC,3,FALSE),\"\")","v":""},{"$f":"IFERROR(VLOOKUP(A885,'1.Портфель кредитів'!A:AC,14,FALSE),\"\")","v":""}]
[null,{"$f":"IFERROR(VLOOKUP(A886,'1.Портфель кредитів'!A:AC,3,FALSE),\"\")","v":""},{"$f":"IFERROR(VLOOKUP(A886,'1.Портфель кредитів'!A:AC,14,FALSE),\"\")","v":""}]
[null,{"$f":"IFERROR(VLOOKUP(A887,'1.Портфель кредитів'!A:AC,3,FALSE),\"\")","v":""},{"$f":"IFERROR(VLOOKUP(A887,'1.Портфель кредитів'!A:AC,14,FALSE),\"\")","v":""}]
[null,{"$f":"IFERROR(VLOOKUP(A888,'1.Портфель кредитів'!A:AC,3,FALSE),\"\")","v":""},{"$f":"IFERROR(VLOOKUP(A888,'1.Портфель кредитів'!A:AC,14,FALSE),\"\")","v":""}]
[null,{"$f":"IFERROR(VLOOKUP(A889,'1.Портфель кредитів'!A:AC,3,FALSE),\"\")","v":""},{"$f":"IFERROR(VLOOKUP(A889,'1.Портфель кредитів'!A:AC,14,FALSE),\"\")","v":""}]
[null,{"$f":"IFERROR(VLOOKUP(A890,'1.Портфель кредитів'!A:AC,3,FALSE),\"\")","v":""},{"$f":"IFERROR(VLOOKUP(A890,'1.Портфель кредитів'!A:AC,14,FALSE),\"\")","v":""}]
[null,{"$f":"IFERROR(VLOOKUP(A891,'1.Портфель кредитів'!A:AC,3,FALSE),\"\")","v":""},{"$f":"IFERROR(VLOOKUP(A891,'1.Портфель кредитів'!A:AC,14,FALSE),\"\")","v":""}]
[null,{"$f":"IFERROR(VLOOKUP(A892,'1.Портфель кредитів'!A:AC,3,FALSE),\"\")","v":""},{"$f":"IFERROR(VLOOKUP(A892,'1.Портфель кредитів'!A:AC,14,FALSE),\"\")","v":""}]
[null,{"$f":"IFERROR(VLOOKUP(A893,'1.Портфель кредитів'!A:AC,3,FALSE),\"\")","v":""},{"$f":"IFERROR(VLOOKUP(A893,'1.Портфель кредитів'!A:AC,14,FALSE),\"\")","v":""}]
[null,{"$f":"IFERROR(VLOOKUP(A894,'1.Портфель кредитів'!A:AC,3,FALSE),\"\")","v":""},{"$f":"IFERROR(VLOOKUP(A894,'1.Портфель кредитів'!A:AC,14,FALSE),\"\")","v":""}]
[null,{"$f":"IFERROR(VLOOKUP(A895,'1.Портфель кредитів'!A:AC,3,FALSE),\"\")","v":""},{"$f":"IFERROR(VLOOKUP(A895,'1.Портфель кредитів'!A:AC,14,FALSE),\"\")","v":""}]
[null,{"$f":"IFERROR(VLOOKUP(A896,'1.Портфель кредитів'!A:AC,3,FALSE),\"\")","v":""},{"$f":"IFERROR(VLOOKUP(A896,'1.Портфель кредитів'!A:AC,14,FALSE),\"\")","v":""}]
[null,{"$f":"IFERROR(VLOOKUP(A897,'1.Портфель кредитів'!A:AC,3,FALSE),\"\")","v":""},{"$f":"IFERROR(VLOOKUP(A897,'1.Портфель кредитів'!A:AC,14,FALSE),\"\")","v":""}]
[null,{"$f":"IFERROR(VLOOKUP(A898,'1.Портфель кредитів'!A:AC,3,FALSE),\"\")","v":""},{"$f":"IFERROR(VLOOKUP(A898,'1.Портфель кредитів'!A:AC,14,FALSE),\"\")","v":""}]
[null,{"$f":"IFERROR(VLOOKUP(A899,'1.Портфель кредитів'!A:AC,3,FALSE),\"\")","v":""},{"$f":"IFERROR(VLOOKUP(A899,'1.Портфель кредитів'!A:AC,14,FALSE),\"\")","v":""}]
[null,{"$f":"IFERROR(VLOOKUP(A900,'1.Портфель кредитів'!A:AC,3,FALSE),\"\")","v":""},{"$f":"IFERROR(VLOOKUP(A900,'1.Портфель кредитів'!A:AC,14,FALSE),\"\")","v":""}]
[null,{"$f":"IFERROR(VLOOKUP(A901,'1.Портфель кредитів'!A:AC,3,FALSE),\"\")","v":""},{"$f":"IFERROR(VLOOKUP(A901,'1.Портфель кредитів'!A:AC,14,FALSE),\"\")","v":""}]
[null,{"$f":"IFERROR(VLOOKUP(A902,'1.Портфель кредитів'!A:AC,3,FALSE),\"\")","v":""},{"$f":"IFERROR(VLOOKUP(A902,'1.Портфель кредитів'!A:AC,14,FALSE),\"\")","v":""}]
[null,{"$f":"IFERROR(VLOOKUP(A903,'1.Портфель кредитів'!A:AC,3,FALSE),\"\")","v":""},{"$f":"IFERROR(VLOOKUP(A903,'1.Портфель кредитів'!A:AC,14,FALSE),\"\")","v":""}]
[null,{"$f":"IFERROR(VLOOKUP(A904,'1.Портфель кредитів'!A:AC,3,FALSE),\"\")","v":""},{"$f":"IFERROR(VLOOKUP(A904,'1.Портфель кредитів'!A:AC,14,FALSE),\"\")","v":""}]
[null,{"$f":"IFERROR(VLOOKUP(A905,'1.Портфель кредитів'!A:AC,3,FALSE),\"\")","v":""},{"$f":"IFERROR(VLOOKUP(A905,'1.Портфель кредитів'!A:AC,14,FALSE),\"\")","v":""}]
[null,{"$f":"IFERROR(VLOOKUP(A906,'1.Портфель кредитів'!A:AC,3,FALSE),\"\")","v":""},{"$f":"IFERROR(VLOOKUP(A906,'1.Портфель кредитів'!A:AC,14,FALSE),\"\")","v":""}]
[null,{"$f":"IFERROR(VLOOKUP(A907,'1.Портфель кредитів'!A:AC,3,FALSE),\"\")","v":""},{"$f":"IFERROR(VLOOKUP(A907,'1.Портфель кредитів'!A:AC,14,FALSE),\"\")","v":""}]
[null,{"$f":"IFERROR(VLOOKUP(A908,'1.Портфель кредитів'!A:AC,3,FALSE),\"\")","v":""},{"$f":"IFERROR(VLOOKUP(A908,'1.Портфель кредитів'!A:AC,14,FALSE),\"\")","v":""}]
[null,{"$f":"IFERROR(VLOOKUP(A909,'1.Портфель кредитів'!A:AC,3,FALSE),\"\")","v":""},{"$f":"IFERROR(VLOOKUP(A909,'1.Портфель кредитів'!A:AC,14,FALSE),\"\")","v":""}]
[null,{"$f":"IFERROR(VLOOKUP(A910,'1.Портфель кредитів'!A:AC,3,FALSE),\"\")","v":""},{"$f":"IFERROR(VLOOKUP(A910,'1.Портфель кредитів'!A:AC,14,FALSE),\"\")","v":""}]
[null,{"$f":"IFERROR(VLOOKUP(A911,'1.Портфель кредитів'!A:AC,3,FALSE),\"\")","v":""},{"$f":"IFERROR(VLOOKUP(A911,'1.Портфель кредитів'!A:AC,14,FALSE),\"\")","v":""}]
[null,{"$f":"IFERROR(VLOOKUP(A912,'1.Портфель кредитів'!A:AC,3,FALSE),\"\")","v":""},{"$f":"IFERROR(VLOOKUP(A912,'1.Портфель кредитів'!A:AC,14,FALSE),\"\")","v":""}]
[null,{"$f":"IFERROR(VLOOKUP(A913,'1.Портфель кредитів'!A:AC,3,FALSE),\"\")","v":""},{"$f":"IFERROR(VLOOKUP(A913,'1.Портфель кредитів'!A:AC,14,FALSE),\"\")","v":""}]
[null,{"$f":"IFERROR(VLOOKUP(A914,'1.Портфель кредитів'!A:AC,3,FALSE),\"\")","v":""},{"$f":"IFERROR(VLOOKUP(A914,'1.Портфель кредитів'!A:AC,14,FALSE),\"\")","v":""}]
[null,{"$f":"IFERROR(VLOOKUP(A915,'1.Портфель кредитів'!A:AC,3,FALSE),\"\")","v":""},{"$f":"IFERROR(VLOOKUP(A915,'1.Портфель кредитів'!A:AC,14,FALSE),\"\")","v":""}]
[null,{"$f":"IFERROR(VLOOKUP(A916,'1.Портфель кредитів'!A:AC,3,FALSE),\"\")","v":""},{"$f":"IFERROR(VLOOKUP(A916,'1.Портфель кредитів'!A:AC,14,FALSE),\"\")","v":""}]
[null,{"$f":"IFERROR(VLOOKUP(A917,'1.Портфель кредитів'!A:AC,3,FALSE),\"\")","v":""},{"$f":"IFERROR(VLOOKUP(A917,'1.Портфель кредитів'!A:AC,14,FALSE),\"\")","v":""}]
[null,{"$f":"IFERROR(VLOOKUP(A918,'1.Портфель кредитів'!A:AC,3,FALSE),\"\")","v":""},{"$f":"IFERROR(VLOOKUP(A918,'1.Портфель кредитів'!A:AC,14,FALSE),\"\")","v":""}]
[null,{"$f":"IFERROR(VLOOKUP(A919,'1.Портфель кредитів'!A:AC,3,FALSE),\"\")","v":""},{"$f":"IFERROR(VLOOKUP(A919,'1.Портфель кредитів'!A:AC,14,FALSE),\"\")","v":""}]
[null,{"$f":"IFERROR(VLOOKUP(A920,'1.Портфель кредитів'!A:AC,3,FALSE),\"\")","v":""},{"$f":"IFERROR(VLOOKUP(A920,'1.Портфель кредитів'!A:AC,14,FALSE),\"\")","v":""}]
[null,{"$f":"IFERROR(VLOOKUP(A921,'1.Портфель кредитів'!A:AC,3,FALSE),\"\")","v":""},{"$f":"IFERROR(VLOOKUP(A921,'1.Портфель кредитів'!A:AC,14,FALSE),\"\")","v":""}]
[null,{"$f":"IFERROR(VLOOKUP(A922,'1.Портфель кредитів'!A:AC,3,FALSE),\"\")","v":""},{"$f":"IFERROR(VLOOKUP(A922,'1.Портфель кредитів'!A:AC,14,FALSE),\"\")","v":""}]
[null,{"$f":"IFERROR(VLOOKUP(A923,'1.Портфель кредитів'!A:AC,3,FALSE),\"\")","v":""},{"$f":"IFERROR(VLOOKUP(A923,'1.Портфель кредитів'!A:AC,14,FALSE),\"\")","v":""}]
[null,{"$f":"IFERROR(VLOOKUP(A924,'1.Портфель кредитів'!A:AC,3,FALSE),\"\")","v":""},{"$f":"IFERROR(VLOOKUP(A924,'1.Портфель кредитів'!A:AC,14,FALSE),\"\")","v":""}]
[null,{"$f":"IFERROR(VLOOKUP(A925,'1.Портфель кредитів'!A:AC,3,FALSE),\"\")","v":""},{"$f":"IFERROR(VLOOKUP(A925,'1.Портфель кредитів'!A:AC,14,FALSE),\"\")","v":""}]
[null,{"$f":"IFERROR(VLOOKUP(A926,'1.Портфель кредитів'!A:AC,3,FALSE),\"\")","v":""},{"$f":"IFERROR(VLOOKUP(A926,'1.Портфель кредитів'!A:AC,14,FALSE),\"\")","v":""}]
[null,{"$f":"IFERROR(VLOOKUP(A927,'1.Портфель кредитів'!A:AC,3,FALSE),\"\")","v":""},{"$f":"IFERROR(VLOOKUP(A927,'1.Портфель кредитів'!A:AC,14,FALSE),\"\")","v":""}]
[null,{"$f":"IFERROR(VLOOKUP(A928,'1.Портфель кредитів'!A:AC,3,FALSE),\"\")","v":""},{"$f":"IFERROR(VLOOKUP(A928,'1.Портфель кредитів'!A:AC,14,FALSE),\"\")","v":""}]
[null,{"$f":"IFERROR(VLOOKUP(A929,'1.Портфель кредитів'!A:AC,3,FALSE),\"\")","v":""},{"$f":"IFERROR(VLOOKUP(A929,'1.Портфель кредитів'!A:AC,14,FALSE),\"\")","v":""}]
[null,{"$f":"IFERROR(VLOOKUP(A930,'1.Портфель кредитів'!A:AC,3,FALSE),\"\")","v":""},{"$f":"IFERROR(VLOOKUP(A930,'1.Портфель кредитів'!A:AC,14,FALSE),\"\")","v":""}]
[null,{"$f":"IFERROR(VLOOKUP(A931,'1.Портфель кредитів'!A:AC,3,FALSE),\"\")","v":""},{"$f":"IFERROR(VLOOKUP(A931,'1.Портфель кредитів'!A:AC,14,FALSE),\"\")","v":""}]
[null,{"$f":"IFERROR(VLOOKUP(A932,'1.Портфель кредитів'!A:AC,3,FALSE),\"\")","v":""},{"$f":"IFERROR(VLOOKUP(A932,'1.Портфель кредитів'!A:AC,14,FALSE),\"\")","v":""}]
[null,{"$f":"IFERROR(VLOOKUP(A933,'1.Портфель кредитів'!A:AC,3,FALSE),\"\")","v":""},{"$f":"IFERROR(VLOOKUP(A933,'1.Портфель кредитів'!A:AC,14,FALSE),\"\")","v":""}]
[null,{"$f":"IFERROR(VLOOKUP(A934,'1.Портфель кредитів'!A:AC,3,FALSE),\"\")","v":""},{"$f":"IFERROR(VLOOKUP(A934,'1.Портфель кредитів'!A:AC,14,FALSE),\"\")","v":""}]
[null,{"$f":"IFERROR(VLOOKUP(A935,'1.Портфель кредитів'!A:AC,3,FALSE),\"\")","v":""},{"$f":"IFERROR(VLOOKUP(A935,'1.Портфель кредитів'!A:AC,14,FALSE),\"\")","v":""}]
[null,{"$f":"IFERROR(VLOOKUP(A936,'1.Портфель кредитів'!A:AC,3,FALSE),\"\")","v":""},{"$f":"IFERROR(VLOOKUP(A936,'1.Портфель кредитів'!A:AC,14,FALSE),\"\")","v":""}]
[null,{"$f":"IFERROR(VLOOKUP(A937,'1.Портфель кредитів'!A:AC,3,FALSE),\"\")","v":""},{"$f":"IFERROR(VLOOKUP(A937,'1.Портфель кредитів'!A:AC,14,FALSE),\"\")","v":""}]
[null,{"$f":"IFERROR(VLOOKUP(A938,'1.Портфель кредитів'!A:AC,3,FALSE),\"\")","v":""},{"$f":"IFERROR(VLOOKUP(A938,'1.Портфель кредитів'!A:AC,14,FALSE),\"\")","v":""}]
[null,{"$f":"IFERROR(VLOOKUP(A939,'1.Портфель кредитів'!A:AC,3,FALSE),\"\")","v":""},{"$f":"IFERROR(VLOOKUP(A939,'1.Портфель кредитів'!A:AC,14,FALSE),\"\")","v":""}]
[null,{"$f":"IFERROR(VLOOKUP(A940,'1.Портфель кредитів'!A:AC,3,FALSE),\"\")","v":""},{"$f":"IFERROR(VLOOKUP(A940,'1.Портфель кредитів'!A:AC,14,FALSE),\"\")","v":""}]
[null,{"$f":"IFERROR(VLOOKUP(A941,'1.Портфель кредитів'!A:AC,3,FALSE),\"\")","v":""},{"$f":"IFERROR(VLOOKUP(A941,'1.Портфель кредитів'!A:AC,14,FALSE),\"\")","v":""}]
[null,{"$f":"IFERROR(VLOOKUP(A942,'1.Портфель кредитів'!A:AC,3,FALSE),\"\")","v":""},{"$f":"IFERROR(VLOOKUP(A942,'1.Портфель кредитів'!A:AC,14,FALSE),\"\")","v":""}]
[null,{"$f":"IFERROR(VLOOKUP(A943,'1.Портфель кредитів'!A:AC,3,FALSE),\"\")","v":""},{"$f":"IFERROR(VLOOKUP(A943,'1.Портфель кредитів'!A:AC,14,FALSE),\"\")","v":""}]
[null,{"$f":"IFERROR(VLOOKUP(A944,'1.Портфель кредитів'!A:AC,3,FALSE),\"\")","v":""},{"$f":"IFERROR(VLOOKUP(A944,'1.Портфель кредитів'!A:AC,14,FALSE),\"\")","v":""}]
[null,{"$f":"IFERROR(VLOOKUP(A945,'1.Портфель кредитів'!A:AC,3,FALSE),\"\")","v":""},{"$f":"IFERROR(VLOOKUP(A945,'1.Портфель кредитів'!A:AC,14,FALSE),\"\")","v":""}]
[null,{"$f":"IFERROR(VLOOKUP(A946,'1.Портфель кредитів'!A:AC,3,FALSE),\"\")","v":""},{"$f":"IFERROR(VLOOKUP(A946,'1.Портфель кредитів'!A:AC,14,FALSE),\"\")","v":""}]
[null,{"$f":"IFERROR(VLOOKUP(A947,'1.Портфель кредитів'!A:AC,3,FALSE),\"\")","v":""},{"$f":"IFERROR(VLOOKUP(A947,'1.Портфель кредитів'!A:AC,14,FALSE),\"\")","v":""}]
[null,{"$f":"IFERROR(VLOOKUP(A948,'1.Портфель кредитів'!A:AC,3,FALSE),\"\")","v":""},{"$f":"IFERROR(VLOOKUP(A948,'1.Портфель кредитів'!A:AC,14,FALSE),\"\")","v":""}]
[null,{"$f":"IFERROR(VLOOKUP(A949,'1.Портфель кредитів'!A:AC,3,FALSE),\"\")","v":""},{"$f":"IFERROR(VLOOKUP(A949,'1.Портфель кредитів'!A:AC,14,FALSE),\"\")","v":""}]
[null,{"$f":"IFERROR(VLOOKUP(A950,'1.Портфель кредитів'!A:AC,3,FALSE),\"\")","v":""},{"$f":"IFERROR(VLOOKUP(A950,'1.Портфель кредитів'!A:AC,14,FALSE),\"\")","v":""}]
[null,{"$f":"IFERROR(VLOOKUP(A951,'1.Портфель кредитів'!A:AC,3,FALSE),\"\")","v":""},{"$f":"IFERROR(VLOOKUP(A951,'1.Портфель кредитів'!A:AC,14,FALSE),\"\")","v":""}]
[null,{"$f":"IFERROR(VLOOKUP(A952,'1.Портфель кредитів'!A:AC,3,FALSE),\"\")","v":""},{"$f":"IFERROR(VLOOKUP(A952,'1.Портфель кредитів'!A:AC,14,FALSE),\"\")","v":""}]
[null,{"$f":"IFERROR(VLOOKUP(A953,'1.Портфель кредитів'!A:AC,3,FALSE),\"\")","v":""},{"$f":"IFERROR(VLOOKUP(A953,'1.Портфель кредитів'!A:AC,14,FALSE),\"\")","v":""}]
[null,{"$f":"IFERROR(VLOOKUP(A954,'1.Портфель кредитів'!A:AC,3,FALSE),\"\")","v":""},{"$f":"IFERROR(VLOOKUP(A954,'1.Портфель кредитів'!A:AC,14,FALSE),\"\")","v":""}]
[null,{"$f":"IFERROR(VLOOKUP(A955,'1.Портфель кредитів'!A:AC,3,FALSE),\"\")","v":""},{"$f":"IFERROR(VLOOKUP(A955,'1.Портфель кредитів'!A:AC,14,FALSE),\"\")","v":""}]
[null,{"$f":"IFERROR(VLOOKUP(A956,'1.Портфель кредитів'!A:AC,3,FALSE),\"\")","v":""},{"$f":"IFERROR(VLOOKUP(A956,'1.Портфель кредитів'!A:AC,14,FALSE),\"\")","v":""}]
[null,{"$f":"IFERROR(VLOOKUP(A957,'1.Портфель кредитів'!A:AC,3,FALSE),\"\")","v":""},{"$f":"IFERROR(VLOOKUP(A957,'1.Портфель кредитів'!A:AC,14,FALSE),\"\")","v":""}]
[null,{"$f":"IFERROR(VLOOKUP(A958,'1.Портфель кредитів'!A:AC,3,FALSE),\"\")","v":""},{"$f":"IFERROR(VLOOKUP(A958,'1.Портфель кредитів'!A:AC,14,FALSE),\"\")","v":""}]
[null,{"$f":"IFERROR(VLOOKUP(A959,'1.Портфель кредитів'!A:AC,3,FALSE),\"\")","v":""},{"$f":"IFERROR(VLOOKUP(A959,'1.Портфель кредитів'!A:AC,14,FALSE),\"\")","v":""}]
[null,{"$f":"IFERROR(VLOOKUP(A960,'1.Портфель кредитів'!A:AC,3,FALSE),\"\")","v":""},{"$f":"IFERROR(VLOOKUP(A960,'1.Портфель кредитів'!A:AC,14,FALSE),\"\")","v":""}]
[null,{"$f":"IFERROR(VLOOKUP(A961,'1.Портфель кредитів'!A:AC,3,FALSE),\"\")","v":""},{"$f":"IFERROR(VLOOKUP(A961,'1.Портфель кредитів'!A:AC,14,FALSE),\"\")","v":""}]
[null,{"$f":"IFERROR(VLOOKUP(A962,'1.Портфель кредитів'!A:AC,3,FALSE),\"\")","v":""},{"$f":"IFERROR(VLOOKUP(A962,'1.Портфель кредитів'!A:AC,14,FALSE),\"\")","v":""}]
[null,{"$f":"IFERROR(VLOOKUP(A963,'1.Портфель кредитів'!A:AC,3,FALSE),\"\")","v":""},{"$f":"IFERROR(VLOOKUP(A963,'1.Портфель кредитів'!A:AC,14,FALSE),\"\")","v":""}]
[null,{"$f":"IFERROR(VLOOKUP(A964,'1.Портфель кредитів'!A:AC,3,FALSE),\"\")","v":""},{"$f":"IFERROR(VLOOKUP(A964,'1.Портфель кредитів'!A:AC,14,FALSE),\"\")","v":""}]
[null,{"$f":"IFERROR(VLOOKUP(A965,'1.Портфель кредитів'!A:AC,3,FALSE),\"\")","v":""},{"$f":"IFERROR(VLOOKUP(A965,'1.Портфель кредитів'!A:AC,14,FALSE),\"\")","v":""}]
[null,{"$f":"IFERROR(VLOOKUP(A966,'1.Портфель кредитів'!A:AC,3,FALSE),\"\")","v":""},{"$f":"IFERROR(VLOOKUP(A966,'1.Портфель кредитів'!A:AC,14,FALSE),\"\")","v":""}]
[null,{"$f":"IFERROR(VLOOKUP(A967,'1.Портфель кредитів'!A:AC,3,FALSE),\"\")","v":""},{"$f":"IFERROR(VLOOKUP(A967,'1.Портфель кредитів'!A:AC,14,FALSE),\"\")","v":""}]
[null,{"$f":"IFERROR(VLOOKUP(A968,'1.Портфель кредитів'!A:AC,3,FALSE),\"\")","v":""},{"$f":"IFERROR(VLOOKUP(A968,'1.Портфель кредитів'!A:AC,14,FALSE),\"\")","v":""}]
[null,{"$f":"IFERROR(VLOOKUP(A969,'1.Портфель кредитів'!A:AC,3,FALSE),\"\")","v":""},{"$f":"IFERROR(VLOOKUP(A969,'1.Портфель кредитів'!A:AC,14,FALSE),\"\")","v":""}]
[null,{"$f":"IFERROR(VLOOKUP(A970,'1.Портфель кредитів'!A:AC,3,FALSE),\"\")","v":""},{"$f":"IFERROR(VLOOKUP(A970,'1.Портфель кредитів'!A:AC,14,FALSE),\"\")","v":""}]
[null,{"$f":"IFERROR(VLOOKUP(A971,'1.Портфель кредитів'!A:AC,3,FALSE),\"\")","v":""},{"$f":"IFERROR(VLOOKUP(A971,'1.Портфель кредитів'!A:AC,14,FALSE),\"\")","v":""}]
[null,{"$f":"IFERROR(VLOOKUP(A972,'1.Портфель кредитів'!A:AC,3,FALSE),\"\")","v":""},{"$f":"IFERROR(VLOOKUP(A972,'1.Портфель кредитів'!A:AC,14,FALSE),\"\")","v":""}]
[null,{"$f":"IFERROR(VLOOKUP(A973,'1.Портфель кредитів'!A:AC,3,FALSE),\"\")","v":""},{"$f":"IFERROR(VLOOKUP(A973,'1.Портфель кредитів'!A:AC,14,FALSE),\"\")","v":""}]
[null,{"$f":"IFERROR(VLOOKUP(A974,'1.Портфель кредитів'!A:AC,3,FALSE),\"\")","v":""},{"$f":"IFERROR(VLOOKUP(A974,'1.Портфель кредитів'!A:AC,14,FALSE),\"\")","v":""}]
[null,{"$f":"IFERROR(VLOOKUP(A975,'1.Портфель кредитів'!A:AC,3,FALSE),\"\")","v":""},{"$f":"IFERROR(VLOOKUP(A975,'1.Портфель кредитів'!A:AC,14,FALSE),\"\")","v":""}]
[null,{"$f":"IFERROR(VLOOKUP(A976,'1.Портфель кредитів'!A:AC,3,FALSE),\"\")","v":""},{"$f":"IFERROR(VLOOKUP(A976,'1.Портфель кредитів'!A:AC,14,FALSE),\"\")","v":""}]
[null,{"$f":"IFERROR(VLOOKUP(A977,'1.Портфель кредитів'!A:AC,3,FALSE),\"\")","v":""},{"$f":"IFERROR(VLOOKUP(A977,'1.Портфель кредитів'!A:AC,14,FALSE),\"\")","v":""}]
[null,{"$f":"IFERROR(VLOOKUP(A978,'1.Портфель кредитів'!A:AC,3,FALSE),\"\")","v":""},{"$f":"IFERROR(VLOOKUP(A978,'1.Портфель кредитів'!A:AC,14,FALSE),\"\")","v":""}]
[null,{"$f":"IFERROR(VLOOKUP(A979,'1.Портфель кредитів'!A:AC,3,FALSE),\"\")","v":""},{"$f":"IFERROR(VLOOKUP(A979,'1.Портфель кредитів'!A:AC,14,FALSE),\"\")","v":""}]
[null,{"$f":"IFERROR(VLOOKUP(A980,'1.Портфель кредитів'!A:AC,3,FALSE),\"\")","v":""},{"$f":"IFERROR(VLOOKUP(A980,'1.Портфель кредитів'!A:AC,14,FALSE),\"\")","v":""}]
[null,{"$f":"IFERROR(VLOOKUP(A981,'1.Портфель кредитів'!A:AC,3,FALSE),\"\")","v":""},{"$f":"IFERROR(VLOOKUP(A981,'1.Портфель кредитів'!A:AC,14,FALSE),\"\")","v":""}]
[null,{"$f":"IFERROR(VLOOKUP(A982,'1.Портфель кредитів'!A:AC,3,FALSE),\"\")","v":""},{"$f":"IFERROR(VLOOKUP(A982,'1.Портфель кредитів'!A:AC,14,FALSE),\"\")","v":""}]
[null,{"$f":"IFERROR(VLOOKUP(A983,'1.Портфель кредитів'!A:AC,3,FALSE),\"\")","v":""},{"$f":"IFERROR(VLOOKUP(A983,'1.Портфель кредитів'!A:AC,14,FALSE),\"\")","v":""}]
[null,{"$f":"IFERROR(VLOOKUP(A984,'1.Портфель кредитів'!A:AC,3,FALSE),\"\")","v":""},{"$f":"IFERROR(VLOOKUP(A984,'1.Портфель кредитів'!A:AC,14,FALSE),\"\")","v":""}]
[null,{"$f":"IFERROR(VLOOKUP(A985,'1.Портфель кредитів'!A:AC,3,FALSE),\"\")","v":""},{"$f":"IFERROR(VLOOKUP(A985,'1.Портфель кредитів'!A:AC,14,FALSE),\"\")","v":""}]
[null,{"$f":"IFERROR(VLOOKUP(A986,'1.Портфель кредитів'!A:AC,3,FALSE),\"\")","v":""},{"$f":"IFERROR(VLOOKUP(A986,'1.Портфель кредитів'!A:AC,14,FALSE),\"\")","v":""}]
[null,{"$f":"IFERROR(VLOOKUP(A987,'1.Портфель кредитів'!A:AC,3,FALSE),\"\")","v":""},{"$f":"IFERROR(VLOOKUP(A987,'1.Портфель кредитів'!A:AC,14,FALSE),\"\")","v":""}]
[null,{"$f":"IFERROR(VLOOKUP(A988,'1.Портфель кредитів'!A:AC,3,FALSE),\"\")","v":""},{"$f":"IFERROR(VLOOKUP(A988,'1.Портфель кредитів'!A:AC,14,FALSE),\"\")","v":""}]
[null,{"$f":"IFERROR(VLOOKUP(A989,'1.Портфель кредитів'!A:AC,3,FALSE),\"\")","v":""},{"$f":"IFERROR(VLOOKUP(A989,'1.Портфель кредитів'!A:AC,14,FALSE),\"\")","v":""}]
[null,{"$f":"IFERROR(VLOOKUP(A990,'1.Портфель кредитів'!A:AC,3,FALSE),\"\")","v":""},{"$f":"IFERROR(VLOOKUP(A990,'1.Портфель кредитів'!A:AC,14,FALSE),\"\")","v":""}]
[null,{"$f":"IFERROR(VLOOKUP(A991,'1.Портфель кредитів'!A:AC,3,FALSE),\"\")","v":""},{"$f":"IFERROR(VLOOKUP(A991,'1.Портфель кредитів'!A:AC,14,FALSE),\"\")","v":""}]
[null,{"$f":"IFERROR(VLOOKUP(A992,'1.Портфель кредитів'!A:AC,3,FALSE),\"\")","v":""},{"$f":"IFERROR(VLOOKUP(A992,'1.Портфель кредитів'!A:AC,14,FALSE),\"\")","v":""}]
[null,{"$f":"IFERROR(VLOOKUP(A993,'1.Портфель кредитів'!A:AC,3,FALSE),\"\")","v":""},{"$f":"IFERROR(VLOOKUP(A993,'1.Портфель кредитів'!A:AC,14,FALSE),\"\")","v":""}]
[null,{"$f":"IFERROR(VLOOKUP(A994,'1.Портфель кредитів'!A:AC,3,FALSE),\"\")","v":""},{"$f":"IFERROR(VLOOKUP(A994,'1.Портфель кредитів'!A:AC,14,FALSE),\"\")","v":""}]
[null,{"$f":"IFERROR(VLOOKUP(A995,'1.Портфель кредитів'!A:AC,3,FALSE),\"\")","v":""},{"$f":"IFERROR(VLOOKUP(A995,'1.Портфель кредитів'!A:AC,14,FALSE),\"\")","v":""}]
[null,{"$f":"IFERROR(VLOOKUP(A996,'1.Портфель кредитів'!A:AC,3,FALSE),\"\")","v":""},{"$f":"IFERROR(VLOOKUP(A996,'1.Портфель кредитів'!A:AC,14,FALSE),\"\")","v":""}]
[null,{"$f":"IFERROR(VLOOKUP(A997,'1.Портфель кредитів'!A:AC,3,FALSE),\"\")","v":""},{"$f":"IFERROR(VLOOKUP(A997,'1.Портфель кредитів'!A:AC,14,FALSE),\"\")","v":""}]
[null,{"$f":"IFERROR(VLOOKUP(A998,'1.Портфель кредитів'!A:AC,3,FALSE),\"\")","v":""},{"$f":"IFERROR(VLOOKUP(A998,'1.Портфель кредитів'!A:AC,14,FALSE),\"\")","v":""}]
[null,{"$f":"IFERROR(VLOOKUP(A999,'1.Портфель кредитів'!A:AC,3,FALSE),\"\")","v":""},{"$f":"IFERROR(VLOOKUP(A999,'1.Портфель кредитів'!A:AC,14,FALSE),\"\")","v":""}]
[null,{"$f":"IFERROR(VLOOKUP(A1000,'1.Портфель кредитів'!A:AC,3,FALSE),\"\")","v":""},{"$f":"IFERROR(VLOOKUP(A1000,'1.Портфель кредитів'!A:AC,14,FALSE),\"\")","v":""}]
[null,{"$f":"IFERROR(VLOOKUP(A1001,'1.Портфель кредитів'!A:AC,3,FALSE),\"\")","v":""},{"$f":"IFERROR(VLOOKUP(A1001,'1.Портфель кредитів'!A:AC,14,FALSE),\"\")","v":""}]
[null,{"$f":"IFERROR(VLOOKUP(A1002,'1.Портфель кредитів'!A:AC,3,FALSE),\"\")","v":""},{"$f":"IFERROR(VLOOKUP(A1002,'1.Портфель кредитів'!A:AC,14,FALSE),\"\")","v":""}]
[null,{"$f":"IFERROR(VLOOKUP(A1003,'1.Портфель кредитів'!A:AC,3,FALSE),\"\")","v":""},{"$f":"IFERROR(VLOOKUP(A1003,'1.Портфель кредитів'!A:AC,14,FALSE),\"\")","v":""}]
[null,{"$f":"IFERROR(VLOOKUP(A1004,'1.Портфель кредитів'!A:AC,3,FALSE),\"\")","v":""},{"$f":"IFERROR(VLOOKUP(A1004,'1.Портфель кредитів'!A:AC,14,FALSE),\"\")","v":""}]
[null,{"$f":"IFERROR(VLOOKUP(A1005,'1.Портфель кредитів'!A:AC,3,FALSE),\"\")","v":""},{"$f":"IFERROR(VLOOKUP(A1005,'1.Портфель кредитів'!A:AC,14,FALSE),\"\")","v":""}]
[null,{"$f":"IFERROR(VLOOKUP(A1006,'1.Портфель кредитів'!A:AC,3,FALSE),\"\")","v":""},{"$f":"IFERROR(VLOOKUP(A1006,'1.Портфель кредитів'!A:AC,14,FALSE),\"\")","v":""}]
[null,{"$f":"IFERROR(VLOOKUP(A1007,'1.Портфель кредитів'!A:AC,3,FALSE),\"\")","v":""},{"$f":"IFERROR(VLOOKUP(A1007,'1.Портфель кредитів'!A:AC,14,FALSE),\"\")","v":""}]
[null,{"$f":"IFERROR(VLOOKUP(A1008,'1.Портфель кредитів'!A:AC,3,FALSE),\"\")","v":""},{"$f":"IFERROR(VLOOKUP(A1008,'1.Портфель кредитів'!A:AC,14,FALSE),\"\")","v":""}]
[null,{"$f":"IFERROR(VLOOKUP(A1009,'1.Портфель кредитів'!A:AC,3,FALSE),\"\")","v":""},{"$f":"IFERROR(VLOOKUP(A1009,'1.Портфель кредитів'!A:AC,14,FALSE),\"\")","v":""}]
[null,{"$f":"IFERROR(VLOOKUP(A1010,'1.Портфель кредитів'!A:AC,3,FALSE),\"\")","v":""},{"$f":"IFERROR(VLOOKUP(A1010,'1.Портфель кредитів'!A:AC,14,FALSE),\"\")","v":""}]
[null,{"$f":"IFERROR(VLOOKUP(A1011,'1.Портфель кредитів'!A:AC,3,FALSE),\"\")","v":""},{"$f":"IFERROR(VLOOKUP(A1011,'1.Портфель кредитів'!A:AC,14,FALSE),\"\")","v":""}]
[null,{"$f":"IFERROR(VLOOKUP(A1012,'1.Портфель кредитів'!A:AC,3,FALSE),\"\")","v":""},{"$f":"IFERROR(VLOOKUP(A1012,'1.Портфель кредитів'!A:AC,14,FALSE),\"\")","v":""}]
[null,{"$f":"IFERROR(VLOOKUP(A1013,'1.Портфель кредитів'!A:AC,3,FALSE),\"\")","v":""},{"$f":"IFERROR(VLOOKUP(A1013,'1.Портфель кредитів'!A:AC,14,FALSE),\"\")","v":""}]
[null,{"$f":"IFERROR(VLOOKUP(A1014,'1.Портфель кредитів'!A:AC,3,FALSE),\"\")","v":""},{"$f":"IFERROR(VLOOKUP(A1014,'1.Портфель кредитів'!A:AC,14,FALSE),\"\")","v":""}]
[null,{"$f":"IFERROR(VLOOKUP(A1015,'1.Портфель кредитів'!A:AC,3,FALSE),\"\")","v":""},{"$f":"IFERROR(VLOOKUP(A1015,'1.Портфель кредитів'!A:AC,14,FALSE),\"\")","v":""}]
[null,{"$f":"IFERROR(VLOOKUP(A1016,'1.Портфель кредитів'!A:AC,3,FALSE),\"\")","v":""},{"$f":"IFERROR(VLOOKUP(A1016,'1.Портфель кредитів'!A:AC,14,FALSE),\"\")","v":""}]
[null,{"$f":"IFERROR(VLOOKUP(A1017,'1.Портфель кредитів'!A:AC,3,FALSE),\"\")","v":""},{"$f":"IFERROR(VLOOKUP(A1017,'1.Портфель кредитів'!A:AC,14,FALSE),\"\")","v":""}]
[null,{"$f":"IFERROR(VLOOKUP(A1018,'1.Портфель кредитів'!A:AC,3,FALSE),\"\")","v":""},{"$f":"IFERROR(VLOOKUP(A1018,'1.Портфель кредитів'!A:AC,14,FALSE),\"\")","v":""}]
[null,{"$f":"IFERROR(VLOOKUP(A1019,'1.Портфель кредитів'!A:AC,3,FALSE),\"\")","v":""},{"$f":"IFERROR(VLOOKUP(A1019,'1.Портфель кредитів'!A:AC,14,FALSE),\"\")","v":""}]
[null,{"$f":"IFERROR(VLOOKUP(A1020,'1.Портфель кредитів'!A:AC,3,FALSE),\"\")","v":""},{"$f":"IFERROR(VLOOKUP(A1020,'1.Портфель кредитів'!A:AC,14,FALSE),\"\")","v":""}]
[null,{"$f":"IFERROR(VLOOKUP(A1021,'1.Портфель кредитів'!A:AC,3,FALSE),\"\")","v":""},{"$f":"IFERROR(VLOOKUP(A1021,'1.Портфель кредитів'!A:AC,14,FALSE),\"\")","v":""}]
[null,{"$f":"IFERROR(VLOOKUP(A1022,'1.Портфель кредитів'!A:AC,3,FALSE),\"\")","v":""},{"$f":"IFERROR(VLOOKUP(A1022,'1.Портфель кредитів'!A:AC,14,FALSE),\"\")","v":""}]
[null,{"$f":"IFERROR(VLOOKUP(A1023,'1.Портфель кредитів'!A:AC,3,FALSE),\"\")","v":""},{"$f":"IFERROR(VLOOKUP(A1023,'1.Портфель кредитів'!A:AC,14,FALSE),\"\")","v":""}]
[null,{"$f":"IFERROR(VLOOKUP(A1024,'1.Портфель кредитів'!A:AC,3,FALSE),\"\")","v":""},{"$f":"IFERROR(VLOOKUP(A1024,'1.Портфель кредитів'!A:AC,14,FALSE),\"\")","v":""}]
[null,{"$f":"IFERROR(VLOOKUP(A1025,'1.Портфель кредитів'!A:AC,3,FALSE),\"\")","v":""},{"$f":"IFERROR(VLOOKUP(A1025,'1.Портфель кредитів'!A:AC,14,FALSE),\"\")","v":""}]
[null,{"$f":"IFERROR(VLOOKUP(A1026,'1.Портфель кредитів'!A:AC,3,FALSE),\"\")","v":""},{"$f":"IFERROR(VLOOKUP(A1026,'1.Портфель кредитів'!A:AC,14,FALSE),\"\")","v":""}]
[null,{"$f":"IFERROR(VLOOKUP(A1027,'1.Портфель кредитів'!A:AC,3,FALSE),\"\")","v":""},{"$f":"IFERROR(VLOOKUP(A1027,'1.Портфель кредитів'!A:AC,14,FALSE),\"\")","v":""}]
[null,{"$f":"IFERROR(VLOOKUP(A1028,'1.Портфель кредитів'!A:AC,3,FALSE),\"\")","v":""},{"$f":"IFERROR(VLOOKUP(A1028,'1.Портфель кредитів'!A:AC,14,FALSE),\"\")","v":""}]
[null,{"$f":"IFERROR(VLOOKUP(A1029,'1.Портфель кредитів'!A:AC,3,FALSE),\"\")","v":""},{"$f":"IFERROR(VLOOKUP(A1029,'1.Портфель кредитів'!A:AC,14,FALSE),\"\")","v":""}]
[null,{"$f":"IFERROR(VLOOKUP(A1030,'1.Портфель кредитів'!A:AC,3,FALSE),\"\")","v":""},{"$f":"IFERROR(VLOOKUP(A1030,'1.Портфель кредитів'!A:AC,14,FALSE),\"\")","v":""}]
[null,{"$f":"IFERROR(VLOOKUP(A1031,'1.Портфель кредитів'!A:AC,3,FALSE),\"\")","v":""},{"$f":"IFERROR(VLOOKUP(A1031,'1.Портфель кредитів'!A:AC,14,FALSE),\"\")","v":""}]
[null,{"$f":"IFERROR(VLOOKUP(A1032,'1.Портфель кредитів'!A:AC,3,FALSE),\"\")","v":""},{"$f":"IFERROR(VLOOKUP(A1032,'1.Портфель кредитів'!A:AC,14,FALSE),\"\")","v":""}]
[null,{"$f":"IFERROR(VLOOKUP(A1033,'1.Портфель кредитів'!A:AC,3,FALSE),\"\")","v":""},{"$f":"IFERROR(VLOOKUP(A1033,'1.Портфель кредитів'!A:AC,14,FALSE),\"\")","v":""}]
[null,{"$f":"IFERROR(VLOOKUP(A1034,'1.Портфель кредитів'!A:AC,3,FALSE),\"\")","v":""},{"$f":"IFERROR(VLOOKUP(A1034,'1.Портфель кредитів'!A:AC,14,FALSE),\"\")","v":""}]
[null,{"$f":"IFERROR(VLOOKUP(A1035,'1.Портфель кредитів'!A:AC,3,FALSE),\"\")","v":""},{"$f":"IFERROR(VLOOKUP(A1035,'1.Портфель кредитів'!A:AC,14,FALSE),\"\")","v":""}]
[null,{"$f":"IFERROR(VLOOKUP(A1036,'1.Портфель кредитів'!A:AC,3,FALSE),\"\")","v":""},{"$f":"IFERROR(VLOOKUP(A1036,'1.Портфель кредитів'!A:AC,14,FALSE),\"\")","v":""}]
[null,{"$f":"IFERROR(VLOOKUP(A1037,'1.Портфель кредитів'!A:AC,3,FALSE),\"\")","v":""},{"$f":"IFERROR(VLOOKUP(A1037,'1.Портфель кредитів'!A:AC,14,FALSE),\"\")","v":""}]
[null,{"$f":"IFERROR(VLOOKUP(A1038,'1.Портфель кредитів'!A:AC,3,FALSE),\"\")","v":""},{"$f":"IFERROR(VLOOKUP(A1038,'1.Портфель кредитів'!A:AC,14,FALSE),\"\")","v":""}]
[null,{"$f":"IFERROR(VLOOKUP(A1039,'1.Портфель кредитів'!A:AC,3,FALSE),\"\")","v":""},{"$f":"IFERROR(VLOOKUP(A1039,'1.Портфель кредитів'!A:AC,14,FALSE),\"\")","v":""}]
[null,{"$f":"IFERROR(VLOOKUP(A1040,'1.Портфель кредитів'!A:AC,3,FALSE),\"\")","v":""},{"$f":"IFERROR(VLOOKUP(A1040,'1.Портфель кредитів'!A:AC,14,FALSE),\"\")","v":""}]
[null,{"$f":"IFERROR(VLOOKUP(A1041,'1.Портфель кредитів'!A:AC,3,FALSE),\"\")","v":""},{"$f":"IFERROR(VLOOKUP(A1041,'1.Портфель кредитів'!A:AC,14,FALSE),\"\")","v":""}]
[null,{"$f":"IFERROR(VLOOKUP(A1042,'1.Портфель кредитів'!A:AC,3,FALSE),\"\")","v":""},{"$f":"IFERROR(VLOOKUP(A1042,'1.Портфель кредитів'!A:AC,14,FALSE),\"\")","v":""}]
[null,{"$f":"IFERROR(VLOOKUP(A1043,'1.Портфель кредитів'!A:AC,3,FALSE),\"\")","v":""},{"$f":"IFERROR(VLOOKUP(A1043,'1.Портфель кредитів'!A:AC,14,FALSE),\"\")","v":""}]
[null,{"$f":"IFERROR(VLOOKUP(A1044,'1.Портфель кредитів'!A:AC,3,FALSE),\"\")","v":""},{"$f":"IFERROR(VLOOKUP(A1044,'1.Портфель кредитів'!A:AC,14,FALSE),\"\")","v":""}]
[null,{"$f":"IFERROR(VLOOKUP(A1045,'1.Портфель кредитів'!A:AC,3,FALSE),\"\")","v":""},{"$f":"IFERROR(VLOOKUP(A1045,'1.Портфель кредитів'!A:AC,14,FALSE),\"\")","v":""}]
[null,{"$f":"IFERROR(VLOOKUP(A1046,'1.Портфель кредитів'!A:AC,3,FALSE),\"\")","v":""},{"$f":"IFERROR(VLOOKUP(A1046,'1.Портфель кредитів'!A:AC,14,FALSE),\"\")","v":""}]
[null,{"$f":"IFERROR(VLOOKUP(A1047,'1.Портфель кредитів'!A:AC,3,FALSE),\"\")","v":""},{"$f":"IFERROR(VLOOKUP(A1047,'1.Портфель кредитів'!A:AC,14,FALSE),\"\")","v":""}]
[null,{"$f":"IFERROR(VLOOKUP(A1048,'1.Портфель кредитів'!A:AC,3,FALSE),\"\")","v":""},{"$f":"IFERROR(VLOOKUP(A1048,'1.Портфель кредитів'!A:AC,14,FALSE),\"\")","v":""}]
[null,{"$f":"IFERROR(VLOOKUP(A1049,'1.Портфель кредитів'!A:AC,3,FALSE),\"\")","v":""},{"$f":"IFERROR(VLOOKUP(A1049,'1.Портфель кредитів'!A:AC,14,FALSE),\"\")","v":""}]
[null,{"$f":"IFERROR(VLOOKUP(A1050,'1.Портфель кредитів'!A:AC,3,FALSE),\"\")","v":""},{"$f":"IFERROR(VLOOKUP(A1050,'1.Портфель кредитів'!A:AC,14,FALSE),\"\")","v":""}]
[null,{"$f":"IFERROR(VLOOKUP(A1051,'1.Портфель кредитів'!A:AC,3,FALSE),\"\")","v":""},{"$f":"IFERROR(VLOOKUP(A1051,'1.Портфель кредитів'!A:AC,14,FALSE),\"\")","v":""}]
[null,{"$f":"IFERROR(VLOOKUP(A1052,'1.Портфель кредитів'!A:AC,3,FALSE),\"\")","v":""},{"$f":"IFERROR(VLOOKUP(A1052,'1.Портфель кредитів'!A:AC,14,FALSE),\"\")","v":""}]
[null,{"$f":"IFERROR(VLOOKUP(A1053,'1.Портфель кредитів'!A:AC,3,FALSE),\"\")","v":""},{"$f":"IFERROR(VLOOKUP(A1053,'1.Портфель кредитів'!A:AC,14,FALSE),\"\")","v":""}]
[null,{"$f":"IFERROR(VLOOKUP(A1054,'1.Портфель кредитів'!A:AC,3,FALSE),\"\")","v":""},{"$f":"IFERROR(VLOOKUP(A1054,'1.Портфель кредитів'!A:AC,14,FALSE),\"\")","v":""}]
[null,{"$f":"IFERROR(VLOOKUP(A1055,'1.Портфель кредитів'!A:AC,3,FALSE),\"\")","v":""},{"$f":"IFERROR(VLOOKUP(A1055,'1.Портфель кредитів'!A:AC,14,FALSE),\"\")","v":""}]
[null,{"$f":"IFERROR(VLOOKUP(A1056,'1.Портфель кредитів'!A:AC,3,FALSE),\"\")","v":""},{"$f":"IFERROR(VLOOKUP(A1056,'1.Портфель кредитів'!A:AC,14,FALSE),\"\")","v":""}]
[null,{"$f":"IFERROR(VLOOKUP(A1057,'1.Портфель кредитів'!A:AC,3,FALSE),\"\")","v":""},{"$f":"IFERROR(VLOOKUP(A1057,'1.Портфель кредитів'!A:AC,14,FALSE),\"\")","v":""}]
[null,{"$f":"IFERROR(VLOOKUP(A1058,'1.Портфель кредитів'!A:AC,3,FALSE),\"\")","v":""},{"$f":"IFERROR(VLOOKUP(A1058,'1.Портфель кредитів'!A:AC,14,FALSE),\"\")","v":""}]
[null,{"$f":"IFERROR(VLOOKUP(A1059,'1.Портфель кредитів'!A:AC,3,FALSE),\"\")","v":""},{"$f":"IFERROR(VLOOKUP(A1059,'1.Портфель кредитів'!A:AC,14,FALSE),\"\")","v":""}]
[null,{"$f":"IFERROR(VLOOKUP(A1060,'1.Портфель кредитів'!A:AC,3,FALSE),\"\")","v":""},{"$f":"IFERROR(VLOOKUP(A1060,'1.Портфель кредитів'!A:AC,14,FALSE),\"\")","v":""}]
[null,{"$f":"IFERROR(VLOOKUP(A1061,'1.Портфель кредитів'!A:AC,3,FALSE),\"\")","v":""},{"$f":"IFERROR(VLOOKUP(A1061,'1.Портфель кредитів'!A:AC,14,FALSE),\"\")","v":""}]
[null,{"$f":"IFERROR(VLOOKUP(A1062,'1.Портфель кредитів'!A:AC,3,FALSE),\"\")","v":""},{"$f":"IFERROR(VLOOKUP(A1062,'1.Портфель кредитів'!A:AC,14,FALSE),\"\")","v":""}]
[null,{"$f":"IFERROR(VLOOKUP(A1063,'1.Портфель кредитів'!A:AC,3,FALSE),\"\")","v":""},{"$f":"IFERROR(VLOOKUP(A1063,'1.Портфель кредитів'!A:AC,14,FALSE),\"\")","v":""}]
[null,{"$f":"IFERROR(VLOOKUP(A1064,'1.Портфель кредитів'!A:AC,3,FALSE),\"\")","v":""},{"$f":"IFERROR(VLOOKUP(A1064,'1.Портфель кредитів'!A:AC,14,FALSE),\"\")","v":""}]
[null,{"$f":"IFERROR(VLOOKUP(A1065,'1.Портфель кредитів'!A:AC,3,FALSE),\"\")","v":""},{"$f":"IFERROR(VLOOKUP(A1065,'1.Портфель кредитів'!A:AC,14,FALSE),\"\")","v":""}]
[null,{"$f":"IFERROR(VLOOKUP(A1066,'1.Портфель кредитів'!A:AC,3,FALSE),\"\")","v":""},{"$f":"IFERROR(VLOOKUP(A1066,'1.Портфель кредитів'!A:AC,14,FALSE),\"\")","v":""}]
[null,{"$f":"IFERROR(VLOOKUP(A1067,'1.Портфель кредитів'!A:AC,3,FALSE),\"\")","v":""},{"$f":"IFERROR(VLOOKUP(A1067,'1.Портфель кредитів'!A:AC,14,FALSE),\"\")","v":""}]
[null,{"$f":"IFERROR(VLOOKUP(A1068,'1.Портфель кредитів'!A:AC,3,FALSE),\"\")","v":""},{"$f":"IFERROR(VLOOKUP(A1068,'1.Портфель кредитів'!A:AC,14,FALSE),\"\")","v":""}]
[null,{"$f":"IFERROR(VLOOKUP(A1069,'1.Портфель кредитів'!A:AC,3,FALSE),\"\")","v":""},{"$f":"IFERROR(VLOOKUP(A1069,'1.Портфель кредитів'!A:AC,14,FALSE),\"\")","v":""}]
[null,{"$f":"IFERROR(VLOOKUP(A1070,'1.Портфель кредитів'!A:AC,3,FALSE),\"\")","v":""},{"$f":"IFERROR(VLOOKUP(A1070,'1.Портфель кредитів'!A:AC,14,FALSE),\"\")","v":""}]
[null,{"$f":"IFERROR(VLOOKUP(A1071,'1.Портфель кредитів'!A:AC,3,FALSE),\"\")","v":""},{"$f":"IFERROR(VLOOKUP(A1071,'1.Портфель кредитів'!A:AC,14,FALSE),\"\")","v":""}]
[null,{"$f":"IFERROR(VLOOKUP(A1072,'1.Портфель кредитів'!A:AC,3,FALSE),\"\")","v":""},{"$f":"IFERROR(VLOOKUP(A1072,'1.Портфель кредитів'!A:AC,14,FALSE),\"\")","v":""}]
[null,{"$f":"IFERROR(VLOOKUP(A1073,'1.Портфель кредитів'!A:AC,3,FALSE),\"\")","v":""},{"$f":"IFERROR(VLOOKUP(A1073,'1.Портфель кредитів'!A:AC,14,FALSE),\"\")","v":""}]
[null,{"$f":"IFERROR(VLOOKUP(A1074,'1.Портфель кредитів'!A:AC,3,FALSE),\"\")","v":""},{"$f":"IFERROR(VLOOKUP(A1074,'1.Портфель кредитів'!A:AC,14,FALSE),\"\")","v":""}]
[null,{"$f":"IFERROR(VLOOKUP(A1075,'1.Портфель кредитів'!A:AC,3,FALSE),\"\")","v":""},{"$f":"IFERROR(VLOOKUP(A1075,'1.Портфель кредитів'!A:AC,14,FALSE),\"\")","v":""}]
[null,{"$f":"IFERROR(VLOOKUP(A1076,'1.Портфель кредитів'!A:AC,3,FALSE),\"\")","v":""},{"$f":"IFERROR(VLOOKUP(A1076,'1.Портфель кредитів'!A:AC,14,FALSE),\"\")","v":""}]
[null,{"$f":"IFERROR(VLOOKUP(A1077,'1.Портфель кредитів'!A:AC,3,FALSE),\"\")","v":""},{"$f":"IFERROR(VLOOKUP(A1077,'1.Портфель кредитів'!A:AC,14,FALSE),\"\")","v":""}]
[null,{"$f":"IFERROR(VLOOKUP(A1078,'1.Портфель кредитів'!A:AC,3,FALSE),\"\")","v":""},{"$f":"IFERROR(VLOOKUP(A1078,'1.Портфель кредитів'!A:AC,14,FALSE),\"\")","v":""}]
[null,{"$f":"IFERROR(VLOOKUP(A1079,'1.Портфель кредитів'!A:AC,3,FALSE),\"\")","v":""},{"$f":"IFERROR(VLOOKUP(A1079,'1.Портфель кредитів'!A:AC,14,FALSE),\"\")","v":""}]
[null,{"$f":"IFERROR(VLOOKUP(A1080,'1.Портфель кредитів'!A:AC,3,FALSE),\"\")","v":""},{"$f":"IFERROR(VLOOKUP(A1080,'1.Портфель кредитів'!A:AC,14,FALSE),\"\")","v":""}]
[null,{"$f":"IFERROR(VLOOKUP(A1081,'1.Портфель кредитів'!A:AC,3,FALSE),\"\")","v":""},{"$f":"IFERROR(VLOOKUP(A1081,'1.Портфель кредитів'!A:AC,14,FALSE),\"\")","v":""}]
[null,{"$f":"IFERROR(VLOOKUP(A1082,'1.Портфель кредитів'!A:AC,3,FALSE),\"\")","v":""},{"$f":"IFERROR(VLOOKUP(A1082,'1.Портфель кредитів'!A:AC,14,FALSE),\"\")","v":""}]
[null,{"$f":"IFERROR(VLOOKUP(A1083,'1.Портфель кредитів'!A:AC,3,FALSE),\"\")","v":""},{"$f":"IFERROR(VLOOKUP(A1083,'1.Портфель кредитів'!A:AC,14,FALSE),\"\")","v":""}]
[null,{"$f":"IFERROR(VLOOKUP(A1084,'1.Портфель кредитів'!A:AC,3,FALSE),\"\")","v":""},{"$f":"IFERROR(VLOOKUP(A1084,'1.Портфель кредитів'!A:AC,14,FALSE),\"\")","v":""}]
[null,{"$f":"IFERROR(VLOOKUP(A1085,'1.Портфель кредитів'!A:AC,3,FALSE),\"\")","v":""},{"$f":"IFERROR(VLOOKUP(A1085,'1.Портфель кредитів'!A:AC,14,FALSE),\"\")","v":""}]
[null,{"$f":"IFERROR(VLOOKUP(A1086,'1.Портфель кредитів'!A:AC,3,FALSE),\"\")","v":""},{"$f":"IFERROR(VLOOKUP(A1086,'1.Портфель кредитів'!A:AC,14,FALSE),\"\")","v":""}]
[null,{"$f":"IFERROR(VLOOKUP(A1087,'1.Портфель кредитів'!A:AC,3,FALSE),\"\")","v":""},{"$f":"IFERROR(VLOOKUP(A1087,'1.Портфель кредитів'!A:AC,14,FALSE),\"\")","v":""}]
[null,{"$f":"IFERROR(VLOOKUP(A1088,'1.Портфель кредитів'!A:AC,3,FALSE),\"\")","v":""},{"$f":"IFERROR(VLOOKUP(A1088,'1.Портфель кредитів'!A:AC,14,FALSE),\"\")","v":""}]
[null,{"$f":"IFERROR(VLOOKUP(A1089,'1.Портфель кредитів'!A:AC,3,FALSE),\"\")","v":""},{"$f":"IFERROR(VLOOKUP(A1089,'1.Портфель кредитів'!A:AC,14,FALSE),\"\")","v":""}]
[null,{"$f":"IFERROR(VLOOKUP(A1090,'1.Портфель кредитів'!A:AC,3,FALSE),\"\")","v":""},{"$f":"IFERROR(VLOOKUP(A1090,'1.Портфель кредитів'!A:AC,14,FALSE),\"\")","v":""}]
[null,{"$f":"IFERROR(VLOOKUP(A1091,'1.Портфель кредитів'!A:AC,3,FALSE),\"\")","v":""},{"$f":"IFERROR(VLOOKUP(A1091,'1.Портфель кредитів'!A:AC,14,FALSE),\"\")","v":""}]
[null,{"$f":"IFERROR(VLOOKUP(A1092,'1.Портфель кредитів'!A:AC,3,FALSE),\"\")","v":""},{"$f":"IFERROR(VLOOKUP(A1092,'1.Портфель кредитів'!A:AC,14,FALSE),\"\")","v":""}]
[null,{"$f":"IFERROR(VLOOKUP(A1093,'1.Портфель кредитів'!A:AC,3,FALSE),\"\")","v":""},{"$f":"IFERROR(VLOOKUP(A1093,'1.Портфель кредитів'!A:AC,14,FALSE),\"\")","v":""}]
[null,{"$f":"IFERROR(VLOOKUP(A1094,'1.Портфель кредитів'!A:AC,3,FALSE),\"\")","v":""},{"$f":"IFERROR(VLOOKUP(A1094,'1.Портфель кредитів'!A:AC,14,FALSE),\"\")","v":""}]
[null,{"$f":"IFERROR(VLOOKUP(A1095,'1.Портфель кредитів'!A:AC,3,FALSE),\"\")","v":""},{"$f":"IFERROR(VLOOKUP(A1095,'1.Портфель кредитів'!A:AC,14,FALSE),\"\")","v":""}]
[null,{"$f":"IFERROR(VLOOKUP(A1096,'1.Портфель кредитів'!A:AC,3,FALSE),\"\")","v":""},{"$f":"IFERROR(VLOOKUP(A1096,'1.Портфель кредитів'!A:AC,14,FALSE),\"\")","v":""}]
[null,{"$f":"IFERROR(VLOOKUP(A1097,'1.Портфель кредитів'!A:AC,3,FALSE),\"\")","v":""},{"$f":"IFERROR(VLOOKUP(A1097,'1.Портфель кредитів'!A:AC,14,FALSE),\"\")","v":""}]
[null,{"$f":"IFERROR(VLOOKUP(A1098,'1.Портфель кредитів'!A:AC,3,FALSE),\"\")","v":""},{"$f":"IFERROR(VLOOKUP(A1098,'1.Портфель кредитів'!A:AC,14,FALSE),\"\")","v":""}]
[null,{"$f":"IFERROR(VLOOKUP(A1099,'1.Портфель кредитів'!A:AC,3,FALSE),\"\")","v":""},{"$f":"IFERROR(VLOOKUP(A1099,'1.Портфель кредитів'!A:AC,14,FALSE),\"\")","v":""}]
[null,{"$f":"IFERROR(VLOOKUP(A1100,'1.Портфель кредитів'!A:AC,3,FALSE),\"\")","v":""},{"$f":"IFERROR(VLOOKUP(A1100,'1.Портфель кредитів'!A:AC,14,FALSE),\"\")","v":""}]
[null,{"$f":"IFERROR(VLOOKUP(A1101,'1.Портфель кредитів'!A:AC,3,FALSE),\"\")","v":""},{"$f":"IFERROR(VLOOKUP(A1101,'1.Портфель кредитів'!A:AC,14,FALSE),\"\")","v":""}]
[null,{"$f":"IFERROR(VLOOKUP(A1102,'1.Портфель кредитів'!A:AC,3,FALSE),\"\")","v":""},{"$f":"IFERROR(VLOOKUP(A1102,'1.Портфель кредитів'!A:AC,14,FALSE),\"\")","v":""}]
[null,{"$f":"IFERROR(VLOOKUP(A1103,'1.Портфель кредитів'!A:AC,3,FALSE),\"\")","v":""},{"$f":"IFERROR(VLOOKUP(A1103,'1.Портфель кредитів'!A:AC,14,FALSE),\"\")","v":""}]
[null,{"$f":"IFERROR(VLOOKUP(A1104,'1.Портфель кредитів'!A:AC,3,FALSE),\"\")","v":""},{"$f":"IFERROR(VLOOKUP(A1104,'1.Портфель кредитів'!A:AC,14,FALSE),\"\")","v":""}]
[null,{"$f":"IFERROR(VLOOKUP(A1105,'1.Портфель кредитів'!A:AC,3,FALSE),\"\")","v":""},{"$f":"IFERROR(VLOOKUP(A1105,'1.Портфель кредитів'!A:AC,14,FALSE),\"\")","v":""}]
[null,{"$f":"IFERROR(VLOOKUP(A1106,'1.Портфель кредитів'!A:AC,3,FALSE),\"\")","v":""},{"$f":"IFERROR(VLOOKUP(A1106,'1.Портфель кредитів'!A:AC,14,FALSE),\"\")","v":""}]
[null,{"$f":"IFERROR(VLOOKUP(A1107,'1.Портфель кредитів'!A:AC,3,FALSE),\"\")","v":""},{"$f":"IFERROR(VLOOKUP(A1107,'1.Портфель кредитів'!A:AC,14,FALSE),\"\")","v":""}]
[null,{"$f":"IFERROR(VLOOKUP(A1108,'1.Портфель кредитів'!A:AC,3,FALSE),\"\")","v":""},{"$f":"IFERROR(VLOOKUP(A1108,'1.Портфель кредитів'!A:AC,14,FALSE),\"\")","v":""}]
[null,{"$f":"IFERROR(VLOOKUP(A1109,'1.Портфель кредитів'!A:AC,3,FALSE),\"\")","v":""},{"$f":"IFERROR(VLOOKUP(A1109,'1.Портфель кредитів'!A:AC,14,FALSE),\"\")","v":""}]
[null,{"$f":"IFERROR(VLOOKUP(A1110,'1.Портфель кредитів'!A:AC,3,FALSE),\"\")","v":""},{"$f":"IFERROR(VLOOKUP(A1110,'1.Портфель кредитів'!A:AC,14,FALSE),\"\")","v":""}]
[null,{"$f":"IFERROR(VLOOKUP(A1111,'1.Портфель кредитів'!A:AC,3,FALSE),\"\")","v":""},{"$f":"IFERROR(VLOOKUP(A1111,'1.Портфель кредитів'!A:AC,14,FALSE),\"\")","v":""}]
[null,{"$f":"IFERROR(VLOOKUP(A1112,'1.Портфель кредитів'!A:AC,3,FALSE),\"\")","v":""},{"$f":"IFERROR(VLOOKUP(A1112,'1.Портфель кредитів'!A:AC,14,FALSE),\"\")","v":""}]
[null,{"$f":"IFERROR(VLOOKUP(A1113,'1.Портфель кредитів'!A:AC,3,FALSE),\"\")","v":""},{"$f":"IFERROR(VLOOKUP(A1113,'1.Портфель кредитів'!A:AC,14,FALSE),\"\")","v":""}]
[null,{"$f":"IFERROR(VLOOKUP(A1114,'1.Портфель кредитів'!A:AC,3,FALSE),\"\")","v":""},{"$f":"IFERROR(VLOOKUP(A1114,'1.Портфель кредитів'!A:AC,14,FALSE),\"\")","v":""}]
[null,{"$f":"IFERROR(VLOOKUP(A1115,'1.Портфель кредитів'!A:AC,3,FALSE),\"\")","v":""},{"$f":"IFERROR(VLOOKUP(A1115,'1.Портфель кредитів'!A:AC,14,FALSE),\"\")","v":""}]
[null,{"$f":"IFERROR(VLOOKUP(A1116,'1.Портфель кредитів'!A:AC,3,FALSE),\"\")","v":""},{"$f":"IFERROR(VLOOKUP(A1116,'1.Портфель кредитів'!A:AC,14,FALSE),\"\")","v":""}]
[null,{"$f":"IFERROR(VLOOKUP(A1117,'1.Портфель кредитів'!A:AC,3,FALSE),\"\")","v":""},{"$f":"IFERROR(VLOOKUP(A1117,'1.Портфель кредитів'!A:AC,14,FALSE),\"\")","v":""}]
[null,{"$f":"IFERROR(VLOOKUP(A1118,'1.Портфель кредитів'!A:AC,3,FALSE),\"\")","v":""},{"$f":"IFERROR(VLOOKUP(A1118,'1.Портфель кредитів'!A:AC,14,FALSE),\"\")","v":""}]
[null,{"$f":"IFERROR(VLOOKUP(A1119,'1.Портфель кредитів'!A:AC,3,FALSE),\"\")","v":""},{"$f":"IFERROR(VLOOKUP(A1119,'1.Портфель кредитів'!A:AC,14,FALSE),\"\")","v":""}]
[null,{"$f":"IFERROR(VLOOKUP(A1120,'1.Портфель кредитів'!A:AC,3,FALSE),\"\")","v":""},{"$f":"IFERROR(VLOOKUP(A1120,'1.Портфель кредитів'!A:AC,14,FALSE),\"\")","v":""}]
[null,{"$f":"IFERROR(VLOOKUP(A1121,'1.Портфель кредитів'!A:AC,3,FALSE),\"\")","v":""},{"$f":"IFERROR(VLOOKUP(A1121,'1.Портфель кредитів'!A:AC,14,FALSE),\"\")","v":""}]
[null,{"$f":"IFERROR(VLOOKUP(A1122,'1.Портфель кредитів'!A:AC,3,FALSE),\"\")","v":""},{"$f":"IFERROR(VLOOKUP(A1122,'1.Портфель кредитів'!A:AC,14,FALSE),\"\")","v":""}]
[null,{"$f":"IFERROR(VLOOKUP(A1123,'1.Портфель кредитів'!A:AC,3,FALSE),\"\")","v":""},{"$f":"IFERROR(VLOOKUP(A1123,'1.Портфель кредитів'!A:AC,14,FALSE),\"\")","v":""}]
[null,{"$f":"IFERROR(VLOOKUP(A1124,'1.Портфель кредитів'!A:AC,3,FALSE),\"\")","v":""},{"$f":"IFERROR(VLOOKUP(A1124,'1.Портфель кредитів'!A:AC,14,FALSE),\"\")","v":""}]
[null,{"$f":"IFERROR(VLOOKUP(A1125,'1.Портфель кредитів'!A:AC,3,FALSE),\"\")","v":""},{"$f":"IFERROR(VLOOKUP(A1125,'1.Портфель кредитів'!A:AC,14,FALSE),\"\")","v":""}]
[null,{"$f":"IFERROR(VLOOKUP(A1126,'1.Портфель кредитів'!A:AC,3,FALSE),\"\")","v":""},{"$f":"IFERROR(VLOOKUP(A1126,'1.Портфель кредитів'!A:AC,14,FALSE),\"\")","v":""}]
[null,{"$f":"IFERROR(VLOOKUP(A1127,'1.Портфель кредитів'!A:AC,3,FALSE),\"\")","v":""},{"$f":"IFERROR(VLOOKUP(A1127,'1.Портфель кредитів'!A:AC,14,FALSE),\"\")","v":""}]
[null,{"$f":"IFERROR(VLOOKUP(A1128,'1.Портфель кредитів'!A:AC,3,FALSE),\"\")","v":""},{"$f":"IFERROR(VLOOKUP(A1128,'1.Портфель кредитів'!A:AC,14,FALSE),\"\")","v":""}]
[null,{"$f":"IFERROR(VLOOKUP(A1129,'1.Портфель кредитів'!A:AC,3,FALSE),\"\")","v":""},{"$f":"IFERROR(VLOOKUP(A1129,'1.Портфель кредитів'!A:AC,14,FALSE),\"\")","v":""}]
[null,{"$f":"IFERROR(VLOOKUP(A1130,'1.Портфель кредитів'!A:AC,3,FALSE),\"\")","v":""},{"$f":"IFERROR(VLOOKUP(A1130,'1.Портфель кредитів'!A:AC,14,FALSE),\"\")","v":""}]
[null,{"$f":"IFERROR(VLOOKUP(A1131,'1.Портфель кредитів'!A:AC,3,FALSE),\"\")","v":""},{"$f":"IFERROR(VLOOKUP(A1131,'1.Портфель кредитів'!A:AC,14,FALSE),\"\")","v":""}]
[null,{"$f":"IFERROR(VLOOKUP(A1132,'1.Портфель кредитів'!A:AC,3,FALSE),\"\")","v":""},{"$f":"IFERROR(VLOOKUP(A1132,'1.Портфель кредитів'!A:AC,14,FALSE),\"\")","v":""}]
[null,{"$f":"IFERROR(VLOOKUP(A1133,'1.Портфель кредитів'!A:AC,3,FALSE),\"\")","v":""},{"$f":"IFERROR(VLOOKUP(A1133,'1.Портфель кредитів'!A:AC,14,FALSE),\"\")","v":""}]
[null,{"$f":"IFERROR(VLOOKUP(A1134,'1.Портфель кредитів'!A:AC,3,FALSE),\"\")","v":""},{"$f":"IFERROR(VLOOKUP(A1134,'1.Портфель кредитів'!A:AC,14,FALSE),\"\")","v":""}]
[null,{"$f":"IFERROR(VLOOKUP(A1135,'1.Портфель кредитів'!A:AC,3,FALSE),\"\")","v":""},{"$f":"IFERROR(VLOOKUP(A1135,'1.Портфель кредитів'!A:AC,14,FALSE),\"\")","v":""}]
[null,{"$f":"IFERROR(VLOOKUP(A1136,'1.Портфель кредитів'!A:AC,3,FALSE),\"\")","v":""},{"$f":"IFERROR(VLOOKUP(A1136,'1.Портфель кредитів'!A:AC,14,FALSE),\"\")","v":""}]
[null,{"$f":"IFERROR(VLOOKUP(A1137,'1.Портфель кредитів'!A:AC,3,FALSE),\"\")","v":""},{"$f":"IFERROR(VLOOKUP(A1137,'1.Портфель кредитів'!A:AC,14,FALSE),\"\")","v":""}]
[null,{"$f":"IFERROR(VLOOKUP(A1138,'1.Портфель кредитів'!A:AC,3,FALSE),\"\")","v":""},{"$f":"IFERROR(VLOOKUP(A1138,'1.Портфель кредитів'!A:AC,14,FALSE),\"\")","v":""}]
[null,{"$f":"IFERROR(VLOOKUP(A1139,'1.Портфель кредитів'!A:AC,3,FALSE),\"\")","v":""},{"$f":"IFERROR(VLOOKUP(A1139,'1.Портфель кредитів'!A:AC,14,FALSE),\"\")","v":""}]
[null,{"$f":"IFERROR(VLOOKUP(A1140,'1.Портфель кредитів'!A:AC,3,FALSE),\"\")","v":""},{"$f":"IFERROR(VLOOKUP(A1140,'1.Портфель кредитів'!A:AC,14,FALSE),\"\")","v":""}]
[null,{"$f":"IFERROR(VLOOKUP(A1141,'1.Портфель кредитів'!A:AC,3,FALSE),\"\")","v":""},{"$f":"IFERROR(VLOOKUP(A1141,'1.Портфель кредитів'!A:AC,14,FALSE),\"\")","v":""}]
[null,{"$f":"IFERROR(VLOOKUP(A1142,'1.Портфель кредитів'!A:AC,3,FALSE),\"\")","v":""},{"$f":"IFERROR(VLOOKUP(A1142,'1.Портфель кредитів'!A:AC,14,FALSE),\"\")","v":""}]
[null,{"$f":"IFERROR(VLOOKUP(A1143,'1.Портфель кредитів'!A:AC,3,FALSE),\"\")","v":""},{"$f":"IFERROR(VLOOKUP(A1143,'1.Портфель кредитів'!A:AC,14,FALSE),\"\")","v":""}]
[null,{"$f":"IFERROR(VLOOKUP(A1144,'1.Портфель кредитів'!A:AC,3,FALSE),\"\")","v":""},{"$f":"IFERROR(VLOOKUP(A1144,'1.Портфель кредитів'!A:AC,14,FALSE),\"\")","v":""}]
[null,{"$f":"IFERROR(VLOOKUP(A1145,'1.Портфель кредитів'!A:AC,3,FALSE),\"\")","v":""},{"$f":"IFERROR(VLOOKUP(A1145,'1.Портфель кредитів'!A:AC,14,FALSE),\"\")","v":""}]
[null,{"$f":"IFERROR(VLOOKUP(A1146,'1.Портфель кредитів'!A:AC,3,FALSE),\"\")","v":""},{"$f":"IFERROR(VLOOKUP(A1146,'1.Портфель кредитів'!A:AC,14,FALSE),\"\")","v":""}]
[null,{"$f":"IFERROR(VLOOKUP(A1147,'1.Портфель кредитів'!A:AC,3,FALSE),\"\")","v":""},{"$f":"IFERROR(VLOOKUP(A1147,'1.Портфель кредитів'!A:AC,14,FALSE),\"\")","v":""}]
[null,{"$f":"IFERROR(VLOOKUP(A1148,'1.Портфель кредитів'!A:AC,3,FALSE),\"\")","v":""},{"$f":"IFERROR(VLOOKUP(A1148,'1.Портфель кредитів'!A:AC,14,FALSE),\"\")","v":""}]
[null,{"$f":"IFERROR(VLOOKUP(A1149,'1.Портфель кредитів'!A:AC,3,FALSE),\"\")","v":""},{"$f":"IFERROR(VLOOKUP(A1149,'1.Портфель кредитів'!A:AC,14,FALSE),\"\")","v":""}]
[null,{"$f":"IFERROR(VLOOKUP(A1150,'1.Портфель кредитів'!A:AC,3,FALSE),\"\")","v":""},{"$f":"IFERROR(VLOOKUP(A1150,'1.Портфель кредитів'!A:AC,14,FALSE),\"\")","v":""}]
[null,{"$f":"IFERROR(VLOOKUP(A1151,'1.Портфель кредитів'!A:AC,3,FALSE),\"\")","v":""},{"$f":"IFERROR(VLOOKUP(A1151,'1.Портфель кредитів'!A:AC,14,FALSE),\"\")","v":""}]
[null,{"$f":"IFERROR(VLOOKUP(A1152,'1.Портфель кредитів'!A:AC,3,FALSE),\"\")","v":""},{"$f":"IFERROR(VLOOKUP(A1152,'1.Портфель кредитів'!A:AC,14,FALSE),\"\")","v":""}]
[null,{"$f":"IFERROR(VLOOKUP(A1153,'1.Портфель кредитів'!A:AC,3,FALSE),\"\")","v":""},{"$f":"IFERROR(VLOOKUP(A1153,'1.Портфель кредитів'!A:AC,14,FALSE),\"\")","v":""}]
[null,{"$f":"IFERROR(VLOOKUP(A1154,'1.Портфель кредитів'!A:AC,3,FALSE),\"\")","v":""},{"$f":"IFERROR(VLOOKUP(A1154,'1.Портфель кредитів'!A:AC,14,FALSE),\"\")","v":""}]
[null,{"$f":"IFERROR(VLOOKUP(A1155,'1.Портфель кредитів'!A:AC,3,FALSE),\"\")","v":""},{"$f":"IFERROR(VLOOKUP(A1155,'1.Портфель кредитів'!A:AC,14,FALSE),\"\")","v":""}]
[null,{"$f":"IFERROR(VLOOKUP(A1156,'1.Портфель кредитів'!A:AC,3,FALSE),\"\")","v":""},{"$f":"IFERROR(VLOOKUP(A1156,'1.Портфель кредитів'!A:AC,14,FALSE),\"\")","v":""}]
[null,{"$f":"IFERROR(VLOOKUP(A1157,'1.Портфель кредитів'!A:AC,3,FALSE),\"\")","v":""},{"$f":"IFERROR(VLOOKUP(A1157,'1.Портфель кредитів'!A:AC,14,FALSE),\"\")","v":""}]
[null,{"$f":"IFERROR(VLOOKUP(A1158,'1.Портфель кредитів'!A:AC,3,FALSE),\"\")","v":""},{"$f":"IFERROR(VLOOKUP(A1158,'1.Портфель кредитів'!A:AC,14,FALSE),\"\")","v":""}]
[null,{"$f":"IFERROR(VLOOKUP(A1159,'1.Портфель кредитів'!A:AC,3,FALSE),\"\")","v":""},{"$f":"IFERROR(VLOOKUP(A1159,'1.Портфель кредитів'!A:AC,14,FALSE),\"\")","v":""}]
[null,{"$f":"IFERROR(VLOOKUP(A1160,'1.Портфель кредитів'!A:AC,3,FALSE),\"\")","v":""},{"$f":"IFERROR(VLOOKUP(A1160,'1.Портфель кредитів'!A:AC,14,FALSE),\"\")","v":""}]
[null,{"$f":"IFERROR(VLOOKUP(A1161,'1.Портфель кредитів'!A:AC,3,FALSE),\"\")","v":""},{"$f":"IFERROR(VLOOKUP(A1161,'1.Портфель кредитів'!A:AC,14,FALSE),\"\")","v":""}]
[null,{"$f":"IFERROR(VLOOKUP(A1162,'1.Портфель кредитів'!A:AC,3,FALSE),\"\")","v":""},{"$f":"IFERROR(VLOOKUP(A1162,'1.Портфель кредитів'!A:AC,14,FALSE),\"\")","v":""}]
[null,{"$f":"IFERROR(VLOOKUP(A1163,'1.Портфель кредитів'!A:AC,3,FALSE),\"\")","v":""},{"$f":"IFERROR(VLOOKUP(A1163,'1.Портфель кредитів'!A:AC,14,FALSE),\"\")","v":""}]
[null,{"$f":"IFERROR(VLOOKUP(A1164,'1.Портфель кредитів'!A:AC,3,FALSE),\"\")","v":""},{"$f":"IFERROR(VLOOKUP(A1164,'1.Портфель кредитів'!A:AC,14,FALSE),\"\")","v":""}]
[null,{"$f":"IFERROR(VLOOKUP(A1165,'1.Портфель кредитів'!A:AC,3,FALSE),\"\")","v":""},{"$f":"IFERROR(VLOOKUP(A1165,'1.Портфель кредитів'!A:AC,14,FALSE),\"\")","v":""}]
[null,{"$f":"IFERROR(VLOOKUP(A1166,'1.Портфель кредитів'!A:AC,3,FALSE),\"\")","v":""},{"$f":"IFERROR(VLOOKUP(A1166,'1.Портфель кредитів'!A:AC,14,FALSE),\"\")","v":""}]
[null,{"$f":"IFERROR(VLOOKUP(A1167,'1.Портфель кредитів'!A:AC,3,FALSE),\"\")","v":""},{"$f":"IFERROR(VLOOKUP(A1167,'1.Портфель кредитів'!A:AC,14,FALSE),\"\")","v":""}]
[null,{"$f":"IFERROR(VLOOKUP(A1168,'1.Портфель кредитів'!A:AC,3,FALSE),\"\")","v":""},{"$f":"IFERROR(VLOOKUP(A1168,'1.Портфель кредитів'!A:AC,14,FALSE),\"\")","v":""}]
[null,{"$f":"IFERROR(VLOOKUP(A1169,'1.Портфель кредитів'!A:AC,3,FALSE),\"\")","v":""},{"$f":"IFERROR(VLOOKUP(A1169,'1.Портфель кредитів'!A:AC,14,FALSE),\"\")","v":""}]
[null,{"$f":"IFERROR(VLOOKUP(A1170,'1.Портфель кредитів'!A:AC,3,FALSE),\"\")","v":""},{"$f":"IFERROR(VLOOKUP(A1170,'1.Портфель кредитів'!A:AC,14,FALSE),\"\")","v":""}]
[null,{"$f":"IFERROR(VLOOKUP(A1171,'1.Портфель кредитів'!A:AC,3,FALSE),\"\")","v":""},{"$f":"IFERROR(VLOOKUP(A1171,'1.Портфель кредитів'!A:AC,14,FALSE),\"\")","v":""}]
[null,{"$f":"IFERROR(VLOOKUP(A1172,'1.Портфель кредитів'!A:AC,3,FALSE),\"\")","v":""},{"$f":"IFERROR(VLOOKUP(A1172,'1.Портфель кредитів'!A:AC,14,FALSE),\"\")","v":""}]
[null,{"$f":"IFERROR(VLOOKUP(A1173,'1.Портфель кредитів'!A:AC,3,FALSE),\"\")","v":""},{"$f":"IFERROR(VLOOKUP(A1173,'1.Портфель кредитів'!A:AC,14,FALSE),\"\")","v":""}]
[null,{"$f":"IFERROR(VLOOKUP(A1174,'1.Портфель кредитів'!A:AC,3,FALSE),\"\")","v":""},{"$f":"IFERROR(VLOOKUP(A1174,'1.Портфель кредитів'!A:AC,14,FALSE),\"\")","v":""}]
[null,{"$f":"IFERROR(VLOOKUP(A1175,'1.Портфель кредитів'!A:AC,3,FALSE),\"\")","v":""},{"$f":"IFERROR(VLOOKUP(A1175,'1.Портфель кредитів'!A:AC,14,FALSE),\"\")","v":""}]
[null,{"$f":"IFERROR(VLOOKUP(A1176,'1.Портфель кредитів'!A:AC,3,FALSE),\"\")","v":""},{"$f":"IFERROR(VLOOKUP(A1176,'1.Портфель кредитів'!A:AC,14,FALSE),\"\")","v":""}]
[null,{"$f":"IFERROR(VLOOKUP(A1177,'1.Портфель кредитів'!A:AC,3,FALSE),\"\")","v":""},{"$f":"IFERROR(VLOOKUP(A1177,'1.Портфель кредитів'!A:AC,14,FALSE),\"\")","v":""}]
[null,{"$f":"IFERROR(VLOOKUP(A1178,'1.Портфель кредитів'!A:AC,3,FALSE),\"\")","v":""},{"$f":"IFERROR(VLOOKUP(A1178,'1.Портфель кредитів'!A:AC,14,FALSE),\"\")","v":""}]
[null,{"$f":"IFERROR(VLOOKUP(A1179,'1.Портфель кредитів'!A:AC,3,FALSE),\"\")","v":""},{"$f":"IFERROR(VLOOKUP(A1179,'1.Портфель кредитів'!A:AC,14,FALSE),\"\")","v":""}]
[null,{"$f":"IFERROR(VLOOKUP(A1180,'1.Портфель кредитів'!A:AC,3,FALSE),\"\")","v":""},{"$f":"IFERROR(VLOOKUP(A1180,'1.Портфель кредитів'!A:AC,14,FALSE),\"\")","v":""}]
[null,{"$f":"IFERROR(VLOOKUP(A1181,'1.Портфель кредитів'!A:AC,3,FALSE),\"\")","v":""},{"$f":"IFERROR(VLOOKUP(A1181,'1.Портфель кредитів'!A:AC,14,FALSE),\"\")","v":""}]
[null,{"$f":"IFERROR(VLOOKUP(A1182,'1.Портфель кредитів'!A:AC,3,FALSE),\"\")","v":""},{"$f":"IFERROR(VLOOKUP(A1182,'1.Портфель кредитів'!A:AC,14,FALSE),\"\")","v":""}]
[null,{"$f":"IFERROR(VLOOKUP(A1183,'1.Портфель кредитів'!A:AC,3,FALSE),\"\")","v":""},{"$f":"IFERROR(VLOOKUP(A1183,'1.Портфель кредитів'!A:AC,14,FALSE),\"\")","v":""}]
[null,{"$f":"IFERROR(VLOOKUP(A1184,'1.Портфель кредитів'!A:AC,3,FALSE),\"\")","v":""},{"$f":"IFERROR(VLOOKUP(A1184,'1.Портфель кредитів'!A:AC,14,FALSE),\"\")","v":""}]
[null,{"$f":"IFERROR(VLOOKUP(A1185,'1.Портфель кредитів'!A:AC,3,FALSE),\"\")","v":""},{"$f":"IFERROR(VLOOKUP(A1185,'1.Портфель кредитів'!A:AC,14,FALSE),\"\")","v":""}]
[null,{"$f":"IFERROR(VLOOKUP(A1186,'1.Портфель кредитів'!A:AC,3,FALSE),\"\")","v":""},{"$f":"IFERROR(VLOOKUP(A1186,'1.Портфель кредитів'!A:AC,14,FALSE),\"\")","v":""}]
[null,{"$f":"IFERROR(VLOOKUP(A1187,'1.Портфель кредитів'!A:AC,3,FALSE),\"\")","v":""},{"$f":"IFERROR(VLOOKUP(A1187,'1.Портфель кредитів'!A:AC,14,FALSE),\"\")","v":""}]
[null,{"$f":"IFERROR(VLOOKUP(A1188,'1.Портфель кредитів'!A:AC,3,FALSE),\"\")","v":""},{"$f":"IFERROR(VLOOKUP(A1188,'1.Портфель кредитів'!A:AC,14,FALSE),\"\")","v":""}]
[null,{"$f":"IFERROR(VLOOKUP(A1189,'1.Портфель кредитів'!A:AC,3,FALSE),\"\")","v":""},{"$f":"IFERROR(VLOOKUP(A1189,'1.Портфель кредитів'!A:AC,14,FALSE),\"\")","v":""}]
[null,{"$f":"IFERROR(VLOOKUP(A1190,'1.Портфель кредитів'!A:AC,3,FALSE),\"\")","v":""},{"$f":"IFERROR(VLOOKUP(A1190,'1.Портфель кредитів'!A:AC,14,FALSE),\"\")","v":""}]
[null,{"$f":"IFERROR(VLOOKUP(A1191,'1.Портфель кредитів'!A:AC,3,FALSE),\"\")","v":""},{"$f":"IFERROR(VLOOKUP(A1191,'1.Портфель кредитів'!A:AC,14,FALSE),\"\")","v":""}]
[null,{"$f":"IFERROR(VLOOKUP(A1192,'1.Портфель кредитів'!A:AC,3,FALSE),\"\")","v":""},{"$f":"IFERROR(VLOOKUP(A1192,'1.Портфель кредитів'!A:AC,14,FALSE),\"\")","v":""}]
[null,{"$f":"IFERROR(VLOOKUP(A1193,'1.Портфель кредитів'!A:AC,3,FALSE),\"\")","v":""},{"$f":"IFERROR(VLOOKUP(A1193,'1.Портфель кредитів'!A:AC,14,FALSE),\"\")","v":""}]
[null,{"$f":"IFERROR(VLOOKUP(A1194,'1.Портфель кредитів'!A:AC,3,FALSE),\"\")","v":""},{"$f":"IFERROR(VLOOKUP(A1194,'1.Портфель кредитів'!A:AC,14,FALSE),\"\")","v":""}]
[null,{"$f":"IFERROR(VLOOKUP(A1195,'1.Портфель кредитів'!A:AC,3,FALSE),\"\")","v":""},{"$f":"IFERROR(VLOOKUP(A1195,'1.Портфель кредитів'!A:AC,14,FALSE),\"\")","v":""}]
[null,{"$f":"IFERROR(VLOOKUP(A1196,'1.Портфель кредитів'!A:AC,3,FALSE),\"\")","v":""},{"$f":"IFERROR(VLOOKUP(A1196,'1.Портфель кредитів'!A:AC,14,FALSE),\"\")","v":""}]
[null,{"$f":"IFERROR(VLOOKUP(A1197,'1.Портфель кредитів'!A:AC,3,FALSE),\"\")","v":""},{"$f":"IFERROR(VLOOKUP(A1197,'1.Портфель кредитів'!A:AC,14,FALSE),\"\")","v":""}]
[null,{"$f":"IFERROR(VLOOKUP(A1198,'1.Портфель кредитів'!A:AC,3,FALSE),\"\")","v":""},{"$f":"IFERROR(VLOOKUP(A1198,'1.Портфель кредитів'!A:AC,14,FALSE),\"\")","v":""}]
[null,{"$f":"IFERROR(VLOOKUP(A1199,'1.Портфель кредитів'!A:AC,3,FALSE),\"\")","v":""},{"$f":"IFERROR(VLOOKUP(A1199,'1.Портфель кредитів'!A:AC,14,FALSE),\"\")","v":""}]
[null,{"$f":"IFERROR(VLOOKUP(A1200,'1.Портфель кредитів'!A:AC,3,FALSE),\"\")","v":""},{"$f":"IFERROR(VLOOKUP(A1200,'1.Портфель кредитів'!A:AC,14,FALSE),\"\")","v":""}]
[null,{"$f":"IFERROR(VLOOKUP(A1201,'1.Портфель кредитів'!A:AC,3,FALSE),\"\")","v":""},{"$f":"IFERROR(VLOOKUP(A1201,'1.Портфель кредитів'!A:AC,14,FALSE),\"\")","v":""}]
[null,{"$f":"IFERROR(VLOOKUP(A1202,'1.Портфель кредитів'!A:AC,3,FALSE),\"\")","v":""},{"$f":"IFERROR(VLOOKUP(A1202,'1.Портфель кредитів'!A:AC,14,FALSE),\"\")","v":""}]
[null,{"$f":"IFERROR(VLOOKUP(A1203,'1.Портфель кредитів'!A:AC,3,FALSE),\"\")","v":""},{"$f":"IFERROR(VLOOKUP(A1203,'1.Портфель кредитів'!A:AC,14,FALSE),\"\")","v":""}]
[null,{"$f":"IFERROR(VLOOKUP(A1204,'1.Портфель кредитів'!A:AC,3,FALSE),\"\")","v":""},{"$f":"IFERROR(VLOOKUP(A1204,'1.Портфель кредитів'!A:AC,14,FALSE),\"\")","v":""}]
[null,{"$f":"IFERROR(VLOOKUP(A1205,'1.Портфель кредитів'!A:AC,3,FALSE),\"\")","v":""},{"$f":"IFERROR(VLOOKUP(A1205,'1.Портфель кредитів'!A:AC,14,FALSE),\"\")","v":""}]
[null,{"$f":"IFERROR(VLOOKUP(A1206,'1.Портфель кредитів'!A:AC,3,FALSE),\"\")","v":""},{"$f":"IFERROR(VLOOKUP(A1206,'1.Портфель кредитів'!A:AC,14,FALSE),\"\")","v":""}]
[null,{"$f":"IFERROR(VLOOKUP(A1207,'1.Портфель кредитів'!A:AC,3,FALSE),\"\")","v":""},{"$f":"IFERROR(VLOOKUP(A1207,'1.Портфель кредитів'!A:AC,14,FALSE),\"\")","v":""}]
[null,{"$f":"IFERROR(VLOOKUP(A1208,'1.Портфель кредитів'!A:AC,3,FALSE),\"\")","v":""},{"$f":"IFERROR(VLOOKUP(A1208,'1.Портфель кредитів'!A:AC,14,FALSE),\"\")","v":""}]
[null,{"$f":"IFERROR(VLOOKUP(A1209,'1.Портфель кредитів'!A:AC,3,FALSE),\"\")","v":""},{"$f":"IFERROR(VLOOKUP(A1209,'1.Портфель кредитів'!A:AC,14,FALSE),\"\")","v":""}]
[null,{"$f":"IFERROR(VLOOKUP(A1210,'1.Портфель кредитів'!A:AC,3,FALSE),\"\")","v":""},{"$f":"IFERROR(VLOOKUP(A1210,'1.Портфель кредитів'!A:AC,14,FALSE),\"\")","v":""}]
[null,{"$f":"IFERROR(VLOOKUP(A1211,'1.Портфель кредитів'!A:AC,3,FALSE),\"\")","v":""},{"$f":"IFERROR(VLOOKUP(A1211,'1.Портфель кредитів'!A:AC,14,FALSE),\"\")","v":""}]
[null,{"$f":"IFERROR(VLOOKUP(A1212,'1.Портфель кредитів'!A:AC,3,FALSE),\"\")","v":""},{"$f":"IFERROR(VLOOKUP(A1212,'1.Портфель кредитів'!A:AC,14,FALSE),\"\")","v":""}]
[null,{"$f":"IFERROR(VLOOKUP(A1213,'1.Портфель кредитів'!A:AC,3,FALSE),\"\")","v":""},{"$f":"IFERROR(VLOOKUP(A1213,'1.Портфель кредитів'!A:AC,14,FALSE),\"\")","v":""}]
[null,{"$f":"IFERROR(VLOOKUP(A1214,'1.Портфель кредитів'!A:AC,3,FALSE),\"\")","v":""},{"$f":"IFERROR(VLOOKUP(A1214,'1.Портфель кредитів'!A:AC,14,FALSE),\"\")","v":""}]
[null,{"$f":"IFERROR(VLOOKUP(A1215,'1.Портфель кредитів'!A:AC,3,FALSE),\"\")","v":""},{"$f":"IFERROR(VLOOKUP(A1215,'1.Портфель кредитів'!A:AC,14,FALSE),\"\")","v":""}]
[null,{"$f":"IFERROR(VLOOKUP(A1216,'1.Портфель кредитів'!A:AC,3,FALSE),\"\")","v":""},{"$f":"IFERROR(VLOOKUP(A1216,'1.Портфель кредитів'!A:AC,14,FALSE),\"\")","v":""}]
[null,{"$f":"IFERROR(VLOOKUP(A1217,'1.Портфель кредитів'!A:AC,3,FALSE),\"\")","v":""},{"$f":"IFERROR(VLOOKUP(A1217,'1.Портфель кредитів'!A:AC,14,FALSE),\"\")","v":""}]
[null,{"$f":"IFERROR(VLOOKUP(A1218,'1.Портфель кредитів'!A:AC,3,FALSE),\"\")","v":""},{"$f":"IFERROR(VLOOKUP(A1218,'1.Портфель кредитів'!A:AC,14,FALSE),\"\")","v":""}]
[null,{"$f":"IFERROR(VLOOKUP(A1219,'1.Портфель кредитів'!A:AC,3,FALSE),\"\")","v":""},{"$f":"IFERROR(VLOOKUP(A1219,'1.Портфель кредитів'!A:AC,14,FALSE),\"\")","v":""}]

{"sheet":"Група_актива","index":4,"n_rows":32,"n_cols":1,"rows_kept":32,"cut":false,"hidden":false,"merged":[]}
["← Назад"]
["1. Предмет продажу для активу, віднесеного до І групи активів, складається з прав вимоги за кредитним договором."]
[]
["2. Предмет продажу для активу, віднесеного до ІІ групи активів, складають наступні майнові права (окремі або в сукупності): "]
["- право оскаржувати, як у судовому, так і в позасудовому порядках припинення, ліквідацію позичальників та/або майнових поручителів (поручителів), які є юридичними особами; "]
["- право звернення до державних органів, установ та організацій всіх форм власності в межах прав та повноважень власника майнових прав (прав вимоги); "]
["- право звернення до правонаступників, спадкоємців та органів місцевого самоврядування в межах прав та повноважень власника майнових прав (прав вимоги), якщо позичальником та/або майновим поручителем (поручителем) є фізична особа, в тому числі фізична особа-підприємець; "]
["- права кредитора за майновими правами (правами вимоги), які виникнуть в майбутньому у разі скасування реєстрації припинення/ліквідації боржників (позичальників, майнових поручителів, поручителів, які є юридичними особами); "]
["- право набути у власність гроші та/або майно на підставах, що пов’язані із здійсненням банком кредитних операцій, укладенням відповідних договорів та фактичною видачею грошових коштів;  "]
["- право отримання грошових коштів/відшкодування внаслідок порушення вимог закону при здійсненні господарської діяльності, вчинення кримінальних правопорушень;"]
["- інші права, що пов’язані або випливають із майнових прав (прав вимоги)."]
[]
["3. Предмет продажу для активу, віднесеного до підгрупи ІІІп, складають наступні майнові права (окремі або в сукупності):"]
["- право звернення до державних органів, установ та організацій всіх форм власності в межах прав та повноважень власника прав вимоги, які виникли за укладеними договорами та\\або на інших підставах; "]
["- право набути у власність гроші та/або майно на підставах, що пов’язані із здійсненням банком кредитних операцій, укладенням відповідних договорів та фактичною видачею грошових коштів;  "]
["- право оскаржувати припинення прав вимоги, в тому числі право оскаржувати в судовому порядку припинення (відсутність) прав вимоги; "]
["- права кредитора за правами вимоги, які виникнуть в майбутньому у разі скасування рішень про їх припинення або зміну; "]
["- право отримання грошових коштів/відшкодування за наслідками порушення вимог закону при здійсненні господарської діяльності, вчинення кримінальних правопорушень;"]
["- право отримання грошових коштів/відшкодування за наслідками зміни або розірвання укладених договорів; "]
["      - інші права, що пов’язані або випливають із прав вимоги."]
[]
["4. Предмет продажу для активу, віднесеного до підгрупи ІІІн групи активів, складають наступні майнові права (окремі або в сукупності):"]
["- право звернення до державних органів, установ та організацій всіх форм власності в межах прав та повноважень власника прав вимоги, які виникли за укладеними договорами та\\або на інших підставах; "]
["- право набути у власність гроші та/або майно на підставах, що пов’язані із здійсненням банком кредитних операцій, укладенням відповідних договорів та фактичною видачею грошових коштів;  "]
["- право оскаржувати недійсність прав вимоги, в тому числі право оскаржувати в судовому порядку недійсність прав вимоги; "]
["- права кредитора за правами вимоги, які виникнуть в майбутньому у разі скасування рішень про їх недійсність або зміну; "]
["- право отримання грошових коштів/відшкодування за наслідками недійсності/нікчемності укладених договорів;"]
["- право отримання грошових коштів/відшкодування за наслідками порушення вимог закону при здійсненні господарської діяльності, вчинення кримінальних правопорушень;"]
["- право отримання грошових коштів/відшкодування за наслідками зміни або розірвання укладених договорів; "]
["      - інші права, що пов’язані або випливають із прав вимоги. "]
[]
["Недійсність (нікчемність), припинення всіх або будь-якого із прав, що складають Майнові права за цим лотом, або неможливість реалізації покупцем будь-якого із Майнових прав, набутих ним за договором купівлі-продажу Майнових прав за цим лотом, не вплине на дійсність договору купівлі-продажу Майнових прав за цим лотом та Покупець погоджується, що Продавець не несе жодної відповідальності за такі наслідки.\nБанк (продавець) та/або Фонд не відповідає за неотримання покупцем грошових коштів або іншого майна, які покупець очікував отримати від Майнових прав, набуваючи у власність Майнові права за цим лотом.\nПриймаючи рішення щодо придбання Майнових прав за цим лотом покупець має розуміти (усвідомлювати) характер Майнових прав, що переходять до покупця за цим лотом, та приймати усі ризики, пов’язані із таким переходом, у тому числі ризики того, що покупець у майбутньому не зможе отримати жодних коштів або майна за Майновими правами."]

{"sheet":"Service_menu","index":5,"n_rows":3,"n_cols":1,"rows_kept":3,"cut":false,"hidden":true,"merged":[]}
[]
["Введіть пароль адміністратора:"]
["***"]

{"sheet":"Hidden_Словник","index":6,"n_rows":19698,"n_cols":50,"rows_kept":1125,"cut":true,"hidden":true,"merged":[],"bounds":{"rows_first":500,"rows_last":125,"rows_between":500,"halvings":2}}
["Коротка назва","Назва банку","МФО","Дата вводу тимч.адм.","Дата рішення про ліквид.",null,null,null,null,"#","область","Регіон",null,null,null,"Тип актива","NU",null,null,"Банкрутство",null,null,"Тип застави",null,"ТАК/Ні",null,"Вид судового провадження",null,null,"Відповідач (позичальник/поручитель)",null,null,null,"Наявність документів кредитної справи",null,null,null,null,"Одиниці виміру",null,null,"валюта",null,null,null,"область","населений пункт",null,null,"Наявність забезпечення"]
["Авант-Банк","ПАТ \"АВАНТ-БАНК\"","380708",42398,42426,null,null,null,null,1,"Автономна Республіка Крим","КРИМ/АТО",null,null,null,"Ю/О право вимоги","Сільське господарство, лісове господарство та рибне господарство",null,null,"Діюче",null,null,"житл. нерухомість",10,"ТАК",null,"стягнення заборгованості",null,null,"Позичальник",null,null,null,"Наявні документи кредитної справи",null,null,null,null,"га",null,null,"Гривня",980,null,null,"Автономна Республіка Крим","Алупка",null,null,"Наявне"]
["АКБ Банк","ПАТ \"АКБ Банк\"","331100",41789,41880,null,null,null,null,2,"Севастополь","КРИМ/АТО",null,null,null,"Ф/О право вимоги","Сільське господарство, мисливство та надання пов'язаних із ними послуг",null,null,"Банкрутство",null,null,"ком. нерухомість",11,"НІ",null,"стягнення забезпечення",null,null,"Поручитель",null,null,null,"Наявний кредитний договір",null,null,null,null,"м.кв.",null,null,"Доллар США",840,null,null,"Автономна Республіка Крим","Абрикосівка",null,null,"Відсутнє (реалізовано)"]
["Аксіома","ПАТ \"КБ \"АКСІОМА\"","307305",41922,42034,null,null,null,null,3,"Вінницька","ЦЕНТР",null,null,null,"ФОП право вимоги","Вирощування однорічних і дворічних культур",null,null,"В стані припинення (крім банкрутства)",null,null,"земельні ділянки",12,null,null,"банкрутство",null,null,"Солідарно",null,null,null,"Наяваний договір застави",null,null,null,null,"м.куб.",null,null,"Євро",978,null,null,"Автономна Республіка Крим","Абрикосове",null,null,"Відсутнє (виведено)"]
["Актабанк","ПАТ \"АКТАБАНК\"","307394",41899,42020,null,null,null,null,4,"Волинська","ЗАХІД",null,null,null,"Дебіторська заборгованість","Вирощування зернових культур (крім рису), бобових культур і насіння олійних культур",null,null,"Ліквідовано",null,null,"транспорт",2,null,null,"визнання зобов'язань недійсними",null,null,"3-і особи",null,null,null,"Відсутні документи кредитної справи",null,null,null,null,"т",null,null,"Швейцарські франки",756,null,null,"Автономна Республіка Крим","Аврора (Слов'янська сільська рада)",null,null,"Відсутнє (інше)"]
["Активбанк","ПАТ \"КБ \"АКТИВ - БАНК\"","300852",41885,41996,null,null,null,null,5,"Дніпропетровська","ПІВДЕНЬ",null,null,null,"Майн. права з ЦП","Вирощування рису",null,null,"Санація",null,null,"обладнання",3,null,null,"нікчемність правочину",null,null,null,null,null,null,null,null,null,null,null,"шт.",null,null,"Польські злоті",985,null,null,"Автономна Республіка Крим","Аграрне"]
["АРТЕМ-БАНК","АТ «АРТЕМ-БАНК»","300885",42690,42720,null,null,null,null,6,"Донецька","КРИМ/АТО",null,null,null,"Інше","Вирощування овочів і баштанних культур, коренеплодів і бульбоплодів",null,null,"Інше",null,null,"товари",4,null,null,"інше",null,null,null,null,null,null,null,null,null,null,null,"од.",null,null,"Фунт стерлінгів",826,null,null,"Автономна Республіка Крим","Аерофлотський"]
["БАНК ПЕТРОКОММЕРЦ-УКРАЇНА","ПАТ \"БАНК ПЕТРОКОММЕРЦ-УКРАЇНА\"","300120",42447,42482,null,null,null,null,7,"Житомирська","ЦЕНТР",null,null,null,null,"Вирощування цукрової тростини",null,null,null,null,null,"депозит",5,null,null,"ППР не здійснюється",null,null,null,null,null,null,null,null,null,null,null,null,null,null,"Китайські юані",156,null,null,"Автономна Республіка Крим","Азов"]
["БГ банк","ПАТ \"БГ БАНК\"","320995",41971,42062,null,null,null,null,8,"Закарпатська","ЗАХІД",null,null,null,null,"Вирощування тютюну",null,null,null,null,null,"майнові права",6,null,null,null,null,null,null,null,null,null,null,null,null,null,null,null,null,null,"Рос. рубль",643,null,null,"Автономна Республіка Крим","Азовське"]
["Богуслав","АТ «БАНК БОГУСЛАВ»",380322,null,null,null,null,null,null,9,"Запорізька","ПІВДЕНЬ",null,null,null,null,"Вирощування прядивних культур",null,null,null,null,null,"цінні папери",65,null,null,null,null,null,null,null,null,null,null,null,null,null,null,null,null,null,"мульт. валютн.",777,null,null,"Автономна Республіка Крим","Айвазовське"]
["Брокбізнесбанк","АТ \"БРОКБІЗНЕСБАНК\"","300249",41701,41801,null,null,null,null,10,"Івано_Франківська","ЗАХІД",null,null,null,null,"Вирощування інших однорічних і дворічних культур",null,null,null,null,null,"фінансова порука",7,null,null,null,null,null,null,null,null,null,null,null,null,null,null,null,null,null,null,null,null,null,"Автономна Республіка Крим","Айвове"]
["ВБР","ПАТ \"ВБР\"","380719",41971,42359,null,null,null,null,11,"Київ","ЦЕНТР",null,null,null,null,"Вирощування багаторічних культур",null,null,null,null,null,"беззаставний",8,null,null,null,null,null,null,null,null,null,null,null,null,null,null,null,null,null,null,null,null,null,"Автономна Республіка Крим","Айкаван"]
["ВЕКТОР","ПАТ \"ВЕКТОР БАНК\"","339038",42797,42816,null,null,null,null,12,"Київська","ЦЕНТР",null,null,null,null,"Вирощування винограду",null,null,null,null,null,"інше",9,null,null,null,null,null,null,null,null,null,null,null,null,null,null,null,null,null,null,null,null,null,"Автономна Республіка Крим","Акрополіс"]
["Велес","АТ \"БАНК ВЕЛЕС\"","322799",null,42349,null,null,null,null,13,"Кіровоградська","ЦЕНТР",null,null,null,null,"Вирощування тропічних і субтропічних фруктів",null,null,null,null,null,null,null,null,null,null,null,null,null,null,null,null,null,null,null,null,null,null,null,null,null,null,null,null,"Автономна Республіка Крим","Алмазне"]
["ВіЕйБі","ПАТ \"ВіЕйБі Банк\"","380537",41964,42083,null,null,null,null,14,"Луганська","КРИМ/АТО",null,null,null,null,"Вирощування цитрусових",null,null,null,null,null,null,null,null,null,null,null,null,null,null,null,null,null,null,null,null,null,null,null,null,null,null,null,null,"Автономна Республіка Крим","Алушта"]
["ВТБ банк","АТ «ВТБ БАНК»",321767,43453,44183,null,null,null,null,15,"Львівська","ЗАХІД",null,null,null,null,"Вирощування зерняткових і кісточкових фруктів",null,null,null,null,null,null,null,null,null,null,null,null,null,null,null,null,null,null,null,null,null,null,null,null,null,null,null,null,"Автономна Республіка Крим","Амурське"]
["Грінбанк","ПАТ \"Грін Банк\"","322324",41907,42027,null,null,null,null,16,"Миколаївська","ПІВДЕНЬ",null,null,null,null,"Вирощування ягід, горіхів, інших плодових дерев і чагарників",null,null,null,null,null,null,null,null,null,null,null,null,null,null,null,null,null,null,null,null,null,null,null,null,null,null,null,null,"Автономна Республіка Крим","Ана-Юрт"]
["Даніель","ПАТ \"КБ \"Даніель\"","380980",41656,41745,null,null,null,null,17,"Одеська","ПІВДЕНЬ",null,null,null,null,"Вирощування олійних плодів",null,null,null,null,null,null,null,null,null,null,null,null,null,null,null,null,null,null,null,null,null,null,null,null,null,null,null,null,"Автономна Республіка Крим","Андрусове"]
["Дельта","АТ \"Дельта Банк\"","380236",42066,42279,null,null,null,null,18,"Полтавська","ЦЕНТР",null,null,null,null,"Вирощування культур для виробництва напоїв",null,null,null,null,null,null,null,null,null,null,null,null,null,null,null,null,null,null,null,null,null,null,null,null,null,null,null,null,"Автономна Республіка Крим","Антонівка"]
["Демарк","Банк \"Демарк\"","353575",41911,42034,null,null,null,null,19,"Рівненська","ЗАХІД",null,null,null,null,"Вирощування пряних, ароматичних і лікарських культур",null,null,null,null,null,null,null,null,null,null,null,null,null,null,null,null,null,null,null,null,null,null,null,null,null,null,null,null,"Автономна Республіка Крим","Апрелівка"]
["ДЕРЖЗЕМБАНК","ПАТ «ДЕРЖЗЕМБАНК»","380968",42578,42640,null,null,null,null,20,"Сумська","СХІД",null,null,null,null,"Вирощування інших багаторічних культур",null,null,null,null,null,null,null,null,null,null,null,null,null,null,null,null,null,null,null,null,null,null,null,null,null,null,null,null,"Автономна Республіка Крим","Арбузівка"]
["ДІАМАНТБАНК","ПАТ \"ДІАМАНТБАНК\"","320854",42849,42910,null,null,null,null,21,"Тернопільська","ЗАХІД",null,null,null,null,"Відтворення рослин",null,null,null,null,null,null,null,null,null,null,null,null,null,null,null,null,null,null,null,null,null,null,null,null,null,null,null,null,"Автономна Республіка Крим","Арбузове"]
["Експобанк","АТ \"КБ \"ЕКСПОБАНК\"","322294",41907,42030,null,null,null,null,22,"Харківська","СХІД",null,null,null,null,"Відтворення рослин",null,null,null,null,null,null,null,null,null,null,null,null,null,null,null,null,null,null,null,null,null,null,null,null,null,null,null,null,"Автономна Республіка Крим","Аркадіївка"]
["Енергобанк","ПАТ \"ЕНЕРГОБАНК\"","300272",42048,42167,null,null,null,null,23,"Херсонська","ПІВДЕНЬ",null,null,null,null,"Тваринництво",null,null,null,null,null,null,null,null,null,null,null,null,null,null,null,null,null,null,null,null,null,null,null,null,null,null,null,null,"Автономна Республіка Крим","Армійське"]
["ЕРДЕ банк","АТ \"ЕРДЕ БАНК\"","380667",41212,41283,null,null,null,null,24,"Хмельницька","ЦЕНТР",null,null,null,null,"Розведення великої рогатої худоби молочних порід",null,null,null,null,null,null,null,null,null,null,null,null,null,null,null,null,null,null,null,null,null,null,null,null,null,null,null,null,"Автономна Республіка Крим","Армянськ"]
["Євробанк","ПАТ \"КБ \"ЄВРОБАНК\"","380355",42538,42599,null,null,null,null,25,"Черкаська","ЦЕНТР",null,null,null,null,"Розведення іншої великої рогатої худоби та буйволів",null,null,null,null,null,null,null,null,null,null,null,null,null,null,null,null,null,null,null,null,null,null,null,null,null,null,null,null,"Автономна Республіка Крим","Аромат"]
["Єврогазбанк","АТ \"ЄВРОГАЗБАНК\"","380430",41837,41961,null,null,null,null,26,"Чернівецька","ЗАХІД",null,null,null,null,"Розведення коней та інших тварин родини конячих",null,null,null,null,null,null,null,null,null,null,null,null,null,null,null,null,null,null,null,null,null,null,null,null,null,null,null,null,"Автономна Республіка Крим","Ароматне"]
["Західінкомбанк","ПАТ \"Західінкомбанк\"","303484",41788,41843,null,null,null,null,27,"Чернігівська","СХІД",null,null,null,null,"Розведення верблюдів та інших тварин родини верблюдячих",null,null,null,null,null,null,null,null,null,null,null,null,null,null,null,null,null,null,null,null,null,null,null,null,null,null,null,null,"Автономна Республіка Крим","Артемівка"]
["Златобанк","АТ \"ЗЛАТОБАНК\"","380612",42049,42137,null,null,null,null,null,null,null,null,null,null,null,"Розведення овець і кіз",null,null,null,null,null,null,null,null,null,null,null,null,null,null,null,null,null,null,null,null,null,null,null,null,null,null,null,null,"Автономна Республіка Крим","Бабенкове"]
["Золоті ворота","АТ \"БАНК ЗОЛОТІ ВОРОТА\"","351931",41855,41978,null,null,null,null,null,null,null,null,null,null,null,"Розведення свиней",null,null,null,null,null,null,null,null,null,null,null,null,null,null,null,null,null,null,null,null,null,null,null,null,null,null,null,null,"Автономна Республіка Крим","Багата Ущелина"]
["Імексбанк","АТ \"ІМЕКСБАНК\"","328384",42031,42151,null,null,null,null,null,null,null,null,null,null,null,"Розведення свійської птиці",null,null,null,null,null,null,null,null,null,null,null,null,null,null,null,null,null,null,null,null,null,null,null,null,null,null,null,null,"Автономна Республіка Крим","Багате"]
["ІНВЕСТБАНК","ПАТ \"КБ \"ІНВЕСТБАНК\"","328210",42720,42748,null,null,null,null,null,null,null,null,null,null,null,"Розведення інших тварин",null,null,null,null,null,null,null,null,null,null,null,null,null,null,null,null,null,null,null,null,null,null,null,null,null,null,null,null,"Автономна Республіка Крим","Багатівка"]
["Інтеграл банк","ПАТ \"Інтеграл-банк\"","320735",42263,42335,null,null,null,null,null,null,null,null,null,null,null,"Змішане сільське господарство",null,null,null,null,null,null,null,null,null,null,null,null,null,null,null,null,null,null,null,null,null,null,null,null,null,null,null,null,"Автономна Республіка Крим","Багерове"]
["Інтербанк","ПАТ КБ \"ІНТЕРБАНК\"","300216",41753,41843,null,null,null,null,null,null,null,null,null,null,null,"Змішане сільське господарство",null,null,null,null,null,null,null,null,null,null,null,null,null,null,null,null,null,null,null,null,null,null,null,null,null,null,null,null,"Автономна Республіка Крим","Баланове"]
["Інтеркредит банк","ПАТ \"ІнтерКредитБанк\"","307424",41922,42021,null,null,null,null,null,null,null,null,null,null,null,"Допоміжна діяльність у сільському господарстві та післяурожайна діяльність",null,null,null,null,null,null,null,null,null,null,null,null,null,null,null,null,null,null,null,null,null,null,null,null,null,null,null,null,"Автономна Республіка Крим","Балки"]
["Камбіо","ПАТ \"Банк Камбіо\"","380399",41978,42065,null,null,null,null,null,null,null,null,null,null,null,"Допоміжна діяльність у рослинництві",null,null,null,null,null,null,null,null,null,null,null,null,null,null,null,null,null,null,null,null,null,null,null,null,null,null,null,null,"Автономна Республіка Крим","Барабанове"]
["Київ","ПАТ \"АКБ \"КИЇВ\"","322498",42060,42180,null,null,null,null,null,null,null,null,null,null,null,"Допоміжна діяльність у тваринництві",null,null,null,null,null,null,null,null,null,null,null,null,null,null,null,null,null,null,null,null,null,null,null,null,null,null,null,null,"Автономна Республіка Крим","Барсове"]
["Київськая Русь","ПАТ \"Банк \"Київська Русь\"","319092",42083,42202,null,null,null,null,null,null,null,null,null,null,null,"Післяурожайна діяльність",null,null,null,null,null,null,null,null,null,null,null,null,null,null,null,null,null,null,null,null,null,null,null,null,null,null,null,null,"Автономна Республіка Крим","Батальне"]
["КЛАСИКБАНК","ПАТ «КЛАСИКБАНК»","306704",42536,42594,null,null,null,null,null,null,null,null,null,null,null,"Оброблення насіння для відтворення",null,null,null,null,null,null,null,null,null,null,null,null,null,null,null,null,null,null,null,null,null,null,null,null,null,null,null,null,"Автономна Республіка Крим","Бахчисарай"]
["Контракт","ПАТ Банк \"Контракт\"","322465",42284,42349,null,null,null,null,null,null,null,null,null,null,null,"Мисливство, відловлювання тварин і надання пов'язаних із ними послуг",null,null,null,null,null,null,null,null,null,null,null,null,null,null,null,null,null,null,null,null,null,null,null,null,null,null,null,null,"Автономна Республіка Крим","Бахчівка (Серебрянська сільська рада)"]
["Кредитпромбанк","ПАТ \"КРЕДИТПРОМБАНК\"","300863",42066,42158,null,null,null,null,null,null,null,null,null,null,null,"Мисливство, відловлювання тварин і надання пов'язаних із ними послуг",null,null,null,null,null,null,null,null,null,null,null,null,null,null,null,null,null,null,null,null,null,null,null,null,null,null,null,null,"Автономна Республіка Крим","Баштанівка"]
["Легбанк","ПАТ \"Легбанк\"","300056",41971,42062,null,null,null,null,null,null,null,null,null,null,null,"Лісове господарство та лісозаготівлі",null,null,null,null,null,null,null,null,null,null,null,null,null,null,null,null,null,null,null,null,null,null,null,null,null,null,null,null,"Автономна Республіка Крим","Берегове"]
["Меліор","ПАТ \"МЕЛІОР БАНК\"","307435",41922,42046,null,null,null,null,null,null,null,null,null,null,null,"Лісівництво та інша діяльність у лісовому господарстві",null,null,null,null,null,null,null,null,null,null,null,null,null,null,null,null,null,null,null,null,null,null,null,null,null,null,null,null,"Автономна Республіка Крим","Березівка"]
["Меркурій","АТ БАНК \"МЕРКУРІЙ\"","351663",41712,41802,null,null,null,null,null,null,null,null,null,null,null,"Лісівництво та інша діяльність у лісовому господарстві",null,null,null,null,null,null,null,null,null,null,null,null,null,null,null,null,null,null,null,null,null,null,null,null,null,null,null,null,"Автономна Республіка Крим","Бєлінське"]
["Михайлівський","ПАТ \"БАНК МИХАЙЛІВСЬКИЙ\"","380935",42513,42564,null,null,null,null,null,null,null,null,null,null,null,"Лісозаготівлі",null,null,null,null,null,null,null,null,null,null,null,null,null,null,null,null,null,null,null,null,null,null,null,null,null,null,null,null,"Автономна Республіка Крим","Біла Скеля"]
["Міський комерційний банк","ПАТ \"МІСЬКИЙ КОМЕРЦІЙНИЙ БАНК\"","339339",41964,42083,null,null,null,null,null,null,null,null,null,null,null,"Лісозаготівлі",null,null,null,null,null,null,null,null,null,null,null,null,null,null,null,null,null,null,null,null,null,null,null,null,null,null,null,null,"Автономна Республіка Крим","Білогірськ"]
["Надра","ПАТ \"КБ \"Надра\"","380764",42041,42160,null,null,null,null,null,null,null,null,null,null,null,"Збирання дикорослих недеревних продуктів",null,null,null,null,null,null,null,null,null,null,null,null,null,null,null,null,null,null,null,null,null,null,null,null,null,null,null,null,"Автономна Республіка Крим","Білоглинка"]
["Національний кредит","\"БАНК НАЦІОНАЛЬНИЙ КРЕДИТ\"","320702",42163,42247,null,null,null,null,null,null,null,null,null,null,null,"Збирання дикорослих недеревних продуктів",null,null,null,null,null,null,null,null,null,null,null,null,null,null,null,null,null,null,null,null,null,null,null,null,null,null,null,null,"Автономна Республіка Крим","Білокам'яне"]
["Національні інвестиції","БАНК НАЦІОНАЛЬНІ ІНВЕСТИЦІЇ","300498",42265,42339,null,null,null,null,null,null,null,null,null,null,null,"Надання допоміжних послуг у лісовому господарстві",null,null,null,null,null,null,null,null,null,null,null,null,null,null,null,null,null,null,null,null,null,null,null,null,null,null,null,null,"Автономна Республіка Крим","Бітумне (Гресівська)"]
["НК БАНК","АТ \"БАНК НАРОДНИЙ КАПІТАЛ\"","322432",42755,42803,null,null,null,null,null,null,null,null,null,null,null,"Надання допоміжних послуг у лісовому господарстві",null,null,null,null,null,null,null,null,null,null,null,null,null,null,null,null,null,null,null,null,null,null,null,null,null,null,null,null,"Автономна Республіка Крим","Благодатне"]
["Новий","ПАТ АКБ Новий",305062,null,null,null,null,null,null,null,null,null,null,null,null,null,"Рибне господарство",null,null,null,null,null,null,null,null,null,null,null,null,null,null,null,null,null,null,null,null,null,null,null,null,null,null,null,null,"Автономна Республіка Крим","Ближнє"]
["Омега","ПАТ \"ОМЕГА БАНК\"","300164",42066,42191,null,null,null,null,null,null,null,null,null,null,null,"Рибальство",null,null,null,null,null,null,null,null,null,null,null,null,null,null,null,null,null,null,null,null,null,null,null,null,null,null,null,null,"Автономна Республіка Крим","Ближньогородське"]
["Південкомбанк","ПАТ \"КБ \"ПІВДЕНКОМБАНК\"","335946",41785,41908,null,null,null,null,null,null,null,null,null,null,null,"Морське рибальство",null,null,null,null,null,null,null,null,null,null,null,null,null,null,null,null,null,null,null,null,null,null,null,null,null,null,null,null,"Автономна Республіка Крим","Богатир"]
["Платинум Банк","ПАТ \"Платинум Банк\"","380388",42746,42790,null,null,null,null,null,null,null,null,null,null,null,"Прісноводне рибальство",null,null,null,null,null,null,null,null,null,null,null,null,null,null,null,null,null,null,null,null,null,null,null,null,null,null,null,null,"Автономна Республіка Крим","Богачівка (Магазинська)"]
["Праймбанк","ПАТ \"ПРАЙМ-БАНК\"","300669",41915,42018,null,null,null,null,null,null,null,null,null,null,null,"Рибництво (аквакультура)",null,null,null,null,null,null,null,null,null,null,null,null,null,null,null,null,null,null,null,null,null,null,null,null,null,null,null,null,"Автономна Республіка Крим","Болотне"]
["Промекономбанк","ПАТ \"КБ \"ПРОМЕКОНОМБАНК\"","334992",41781,41890,null,null,null,null,null,null,null,null,null,null,null,"Морське рибництво (аквакультура)",null,null,null,null,null,null,null,null,null,null,null,null,null,null,null,null,null,null,null,null,null,null,null,null,null,null,null,null,"Автономна Республіка Крим","Бондаренкове"]
["Профінбанк","ПАТ \"ПРОФІН БАНК\"","334594",42024,42114,null,null,null,null,null,null,null,null,null,null,null,"Прісноводне рибництво (аквакультура)",null,null,null,null,null,null,null,null,null,null,null,null,null,null,null,null,null,null,null,null,null,null,null,null,null,null,null,null,"Автономна Республіка Крим","Борисівка"]
["Радикал","ПАТ \"РАДИКАЛ БАНК\"","319111",42195,42318,null,null,null,null,null,null,null,null,null,null,null,"Добувна промисловість і розроблення кар'єрів",null,null,null,null,null,null,null,null,null,null,null,null,null,null,null,null,null,null,null,null,null,null,null,null,null,null,null,null,"Автономна Республіка Крим","Бородіно"]
["Реал банк","ПАТ \"РЕАЛ БАНК\"","351588",41701,41780,null,null,null,null,null,null,null,null,null,null,null,"Добування кам'яного та бурого вугілля",null,null,null,null,null,null,null,null,null,null,null,null,null,null,null,null,null,null,null,null,null,null,null,null,null,null,null,null,"Автономна Республіка Крим","Ботанічне"]
["Смартбанк","ПУАТ «СМАРТБАНК»","380786",42515,42576,null,null,null,null,null,null,null,null,null,null,null,"Добування кам'яного вугілля",null,null,null,null,null,null,null,null,null,null,null,null,null,null,null,null,null,null,null,null,null,null,null,null,null,null,null,null,"Автономна Республіка Крим","Братське"]
["Софіївський","ПАТ \"Банк \"Софійський\"","380861",42361,42485,null,null,null,null,null,null,null,null,null,null,null,"Добування кам'яного вугілля",null,null,null,null,null,null,null,null,null,null,null,null,null,null,null,null,null,null,null,null,null,null,null,null,null,null,null,null,"Автономна Республіка Крим","Братське (Братської)"]
["Стандарт","ПАТ КБ \"СТАНДАРТ\"","380690",42055,42174,null,null,null,null,null,null,null,null,null,null,null,"Добування бурого вугілля",null,null,null,null,null,null,null,null,null,null,null,null,null,null,null,null,null,null,null,null,null,null,null,null,null,null,null,null,"Автономна Республіка Крим","Брянське"]
["Старокиївський","ПАТ \"СТАРОКИЇВСЬКИЙ БАНК\"","321477",41808,41900,null,null,null,null,null,null,null,null,null,null,null,"Добування бурого вугілля",null,null,null,null,null,null,null,null,null,null,null,null,null,null,null,null,null,null,null,null,null,null,null,null,null,null,null,null,"Автономна Республіка Крим","Буревісник"]
["Столичний","ПАТ АБ \"СТОЛИЧНИЙ\"","397133",42195,42265,null,null,null,null,null,null,null,null,null,null,null,"Добування сирої нафти та природного газу",null,null,null,null,null,null,null,null,null,null,null,null,null,null,null,null,null,null,null,null,null,null,null,null,null,null,null,null,"Автономна Республіка Крим","Валентинове (Кримська)"]
["Таврика","АТ \"БАНК \"ТАВРИКА\"","300788",41264,41354,null,null,null,null,null,null,null,null,null,null,null,"Добування сирої нафти",null,null,null,null,null,null,null,null,null,null,null,null,null,null,null,null,null,null,null,null,null,null,null,null,null,null,null,null,"Автономна Республіка Крим","Варварівка"]
["Терра банк","ПАТ \"ТЕРРА БАНК\"","380601",41873,41997,null,null,null,null,null,null,null,null,null,null,null,"Добування сирої нафти",null,null,null,null,null,null,null,null,null,null,null,null,null,null,null,null,null,null,null,null,null,null,null,null,null,null,null,null,"Автономна Республіка Крим","Василькове"]
["ТК Кредит","АТ КБ \"ТК Кредит\"","322830",42410,42468,null,null,null,null,null,null,null,null,null,null,null,"Добування природного газу",null,null,null,null,null,null,null,null,null,null,null,null,null,null,null,null,null,null,null,null,null,null,null,null,null,null,null,null,"Автономна Республіка Крим","Велике (Суворовська)"]
["ТРАСТ","ПАТ БАНК \"ТРАСТ\"","380474",42711,42734,null,null,null,null,null,null,null,null,null,null,null,"Добування природного газу",null,null,null,null,null,null,null,null,null,null,null,null,null,null,null,null,null,null,null,null,null,null,null,null,null,null,null,null,"Автономна Республіка Крим","Велике Садове (Куйбишевська)"]
["Укоопспілка","АБ \"УКООПСПІЛКА\"","322625",42027,42117,null,null,null,null,null,null,null,null,null,null,null,"Добування металевих руд",null,null,null,null,null,null,null,null,null,null,null,null,null,null,null,null,null,null,null,null,null,null,null,null,null,null,null,null,"Автономна Республіка Крим","Великосілля"]
["Укрбізнесбанк","ПАТ \"УКРБІЗНЕСБАНК\"","334969",41999,42118,null,null,null,null,null,null,null,null,null,null,null,"Добування залізних руд",null,null,null,null,null,null,null,null,null,null,null,null,null,null,null,null,null,null,null,null,null,null,null,null,null,null,null,null,"Автономна Республіка Крим","Вересаєве"]
["Укргазпромбанк","ПАТ \"УКРГАЗПРОМБАНК\"","320843",42102,42262,null,null,null,null,null,null,null,null,null,null,null,"Добування залізних руд",null,null,null,null,null,null,null,null,null,null,null,null,null,null,null,null,null,null,null,null,null,null,null,null,null,null,null,null,"Автономна Республіка Крим","Верхні Орішники"]
["Укрінбанк","ПАТ \"УКРІНБАНК\"","300142",42363,42452,null,null,null,null,null,null,null,null,null,null,null,"Добування руд кольорових металів",null,null,null,null,null,null,null,null,null,null,null,null,null,null,null,null,null,null,null,null,null,null,null,null,null,null,null,null,"Автономна Республіка Крим","Верхня Кутузовка"]
["Унікомбанк","ПАТ \"УНІКОМБАНК\"","335902",42293,42342,null,null,null,null,null,null,null,null,null,null,null,"Добування уранових і торієвих руд",null,null,null,null,null,null,null,null,null,null,null,null,null,null,null,null,null,null,null,null,null,null,null,null,null,null,null,null,"Автономна Республіка Крим","Верхньозаморське"]
["УПБ","ПАТ \"УПБ\"","300205",42153,42247,null,null,null,null,null,null,null,null,null,null,null,"Добування руд інших кольорових металів",null,null,null,null,null,null,null,null,null,null,null,null,null,null,null,null,null,null,null,null,null,null,null,null,null,null,null,null,"Автономна Республіка Крим","Верхньокурганне"]
["УФС","ПАТ \"КБ \"УФС\"","377777",41866,41956,null,null,null,null,null,null,null,null,null,null,null,"Добування інших корисних копалин та розроблення кар'єрів",null,null,null,null,null,null,null,null,null,null,null,null,null,null,null,null,null,null,null,null,null,null,null,null,null,null,null,null,"Автономна Республіка Крим","Верхоріччя"]
["ФІДОБАНК","ПУАТ «ФІДОБАНК»","300175",42510,42571,null,null,null,null,null,null,null,null,null,null,null,"Добування каменю, піску та глини",null,null,null,null,null,null,null,null,null,null,null,null,null,null,null,null,null,null,null,null,null,null,null,null,null,null,null,null,"Автономна Республіка Крим","Вершинне"]
["Фінанси та кредит","АТ \"БАНК \"ФІНАНСИ ТА КРЕДИТ\"","300131",42265,42355,null,null,null,null,null,null,null,null,null,null,null,"Добування декоративного та будівельного каменю, вапняку, гіпсу, крейди та глинистого сланцю",null,null,null,null,null,null,null,null,null,null,null,null,null,null,null,null,null,null,null,null,null,null,null,null,null,null,null,null,"Автономна Республіка Крим","Веселе"]
["ФІНБАНК","ПАТ \"ФІНБАНК\"","328685",42832,42852,null,null,null,null,null,null,null,null,null,null,null,"Добування піску, гравію, глин і каоліну",null,null,null,null,null,null,null,null,null,null,null,null,null,null,null,null,null,null,null,null,null,null,null,null,null,null,null,null,"Автономна Республіка Крим","Веселівка"]
["Фінростбанк","АТ \"ФІНРОСТБАНК\"","328599",41836,41928,null,null,null,null,null,null,null,null,null,null,null,"Добування корисних копалин та розроблення кар'єрів, н.в.і.у.",null,null,null,null,null,null,null,null,null,null,null,null,null,null,null,null,null,null,null,null,null,null,null,null,null,null,null,null,"Автономна Республіка Крим","Видне"]
["ФОРТУНА-БАНК","АТ \"ФОРТУНА-БАНК\"","300904",42762,42788,null,null,null,null,null,null,null,null,null,null,null,"Добування мінеральної сировини для хімічної промисловості та виробництва мінеральних добрив",null,null,null,null,null,null,null,null,null,null,null,null,null,null,null,null,null,null,null,null,null,null,null,null,null,null,null,null,"Автономна Республіка Крим","Виноградне"]
["Форум","ПАТ \"БАНК ФОРУМ\"","322948",41712,41806,null,null,null,null,null,null,null,null,null,null,null,"Добування торфу",null,null,null,null,null,null,null,null,null,null,null,null,null,null,null,null,null,null,null,null,null,null,null,null,null,null,null,null,"Автономна Республіка Крим","Виноградний"]
["Хрещатик","ПАТ \"КБ \"Хрещатик\"","300670",42465,42524,null,null,null,null,null,null,null,null,null,null,null,"Добування солі",null,null,null,null,null,null,null,null,null,null,null,null,null,null,null,null,null,null,null,null,null,null,null,null,null,null,null,null,"Автономна Республіка Крим","Виноградове"]
["Юніон стандарт банк","ПАТ \"ЮСБ БАНК\"","305987",42280,42366,null,null,null,null,null,null,null,null,null,null,null,"Добування інших корисних копалин та розроблення кар'єрів, н.в.і.у.",null,null,null,null,null,null,null,null,null,null,null,null,null,null,null,null,null,null,null,null,null,null,null,null,null,null,null,null,"Автономна Республіка Крим","Випасне"]
["Родовід","АТ «РОДОВІД БАНК»","321712",43089,43089,null,null,null,null,null,null,null,null,null,null,null,"Надання допоміжних послуг у сфері добувної промисловості та розроблення кар'єрів",null,null,null,null,null,null,null,null,null,null,null,null,null,null,null,null,null,null,null,null,null,null,null,null,null,null,null,null,"Автономна Республіка Крим","Високогірне"]
[null,null,null,null,null,null,null,null,null,null,null,null,null,null,null,null,"Надання допоміжних послуг у сфері добування нафти та природного газу",null,null,null,null,null,null,null,null,null,null,null,null,null,null,null,null,null,null,null,null,null,null,null,null,null,null,null,null,"Автономна Республіка Крим","Вишенне"]
[null,null,null,null,null,null,null,null,null,null,null,null,null,null,null,null,"Надання допоміжних послуг у сфері добування нафти та природного газу",null,null,null,null,null,null,null,null,null,null,null,null,null,null,null,null,null,null,null,null,null,null,null,null,null,null,null,null,"Автономна Республіка Крим","Вишнівка (Вишнівської)"]
[null,null,null,null,null,null,null,null,null,null,null,null,null,null,null,null,"Надання допоміжних послуг у сфері добування інших корисних копалин та розроблення кар'єрів",null,null,null,null,null,null,null,null,null,null,null,null,null,null,null,null,null,null,null,null,null,null,null,null,null,null,null,null,"Автономна Республіка Крим","Вишняківка"]
[null,null,null,null,null,null,null,null,null,null,null,null,null,null,null,null,"Надання допоміжних послуг у сфері добування інших корисних копалин та розроблення кар'єрів",null,null,null,null,null,null,null,null,null,null,null,null,null,null,null,null,null,null,null,null,null,null,null,null,null,null,null,null,"Автономна Республіка Крим","Відважне"]
[null,null,null,null,null,null,null,null,null,null,null,null,null,null,null,null,"Переробна промисловість",null,null,null,null,null,null,null,null,null,null,null,null,null,null,null,null,null,null,null,null,null,null,null,null,null,null,null,null,"Автономна Республіка Крим","Відкрите"]
[null,null,null,null,null,null,null,null,null,null,null,null,null,null,null,null,"Виробництво харчових продуктів",null,null,null,null,null,null,null,null,null,null,null,null,null,null,null,null,null,null,null,null,null,null,null,null,null,null,null,null,"Автономна Республіка Крим","Відрадне"]
[null,null,null,null,null,null,null,null,null,null,null,null,null,null,null,null,"Виробництво м'яса та м'ясних продуктів",null,null,null,null,null,null,null,null,null,null,null,null,null,null,null,null,null,null,null,null,null,null,null,null,null,null,null,null,"Автономна Республіка Крим","Відродження"]
[null,null,null,null,null,null,null,null,null,null,null,null,null,null,null,null,"Виробництво м'яса",null,null,null,null,null,null,null,null,null,null,null,null,null,null,null,null,null,null,null,null,null,null,null,null,null,null,null,null,"Автономна Республіка Крим","Вікторівка"]
[null,null,null,null,null,null,null,null,null,null,null,null,null,null,null,null,"Виробництво м'яса свійської птиці",null,null,null,null,null,null,null,null,null,null,null,null,null,null,null,null,null,null,null,null,null,null,null,null,null,null,null,null,"Автономна Республіка Крим","Віліне"]
[null,null,null,null,null,null,null,null,null,null,null,null,null,null,null,null,"Виробництво м'ясних продуктів",null,null,null,null,null,null,null,null,null,null,null,null,null,null,null,null,null,null,null,null,null,null,null,null,null,null,null,null,"Автономна Республіка Крим","Вільне"]
[null,null,null,null,null,null,null,null,null,null,null,null,null,null,null,null,"Перероблення та консервування риби, ракоподібних і молюсків",null,null,null,null,null,null,null,null,null,null,null,null,null,null,null,null,null,null,null,null,null,null,null,null,null,null,null,null,"Автономна Республіка Крим","Вітвисте (Єрмаковська)"]
[null,null,null,null,null,null,null,null,null,null,null,null,null,null,null,null,"Перероблення та консервування риби, ракоподібних і молюсків",null,null,null,null,null,null,null,null,null,null,null,null,null,null,null,null,null,null,null,null,null,null,null,null,null,null,null,null,"Автономна Республіка Крим","Вітіне"]
[null,null,null,null,null,null,null,null,null,null,null,null,null,null,null,null,"Перероблення та консервування фруктів і овочів",null,null,null,null,null,null,null,null,null,null,null,null,null,null,null,null,null,null,null,null,null,null,null,null,null,null,null,null,"Автономна Республіка Крим","Вітрівка (Виноградівська)"]
[null,null,null,null,null,null,null,null,null,null,null,null,null,null,null,null,"Перероблення та консервування картоплі",null,null,null,null,null,null,null,null,null,null,null,null,null,null,null,null,null,null,null,null,null,null,null,null,null,null,null,null,"Автономна Республіка Крим","Вітрянка (Ковильнівська сільська рада)"]
[null,null,null,null,null,null,null,null,null,null,null,null,null,null,null,null,"Виробництво фруктових і овочевих соків",null,null,null,null,null,null,null,null,null,null,null,null,null,null,null,null,null,null,null,null,null,null,null,null,null,null,null,null,"Автономна Республіка Крим","Владиславівка"]
[null,null,null,null,null,null,null,null,null,null,null,null,null,null,null,null," Інші види перероблення та консервування фруктів і овочів",null,null,null,null,null,null,null,null,null,null,null,null,null,null,null,null,null,null,null,null,null,null,null,null,null,null,null,null,"Автономна Республіка Крим","Владне"]
[null,null,null,null,null,null,null,null,null,null,null,null,null,null,null,null,"Виробництво олії та тваринних жирів",null,null,null,null,null,null,null,null,null,null,null,null,null,null,null,null,null,null,null,null,null,null,null,null,null,null,null,null,"Автономна Республіка Крим","Внукове"]
[null,null,null,null,null,null,null,null,null,null,null,null,null,null,null,null,"Виробництво олії та тваринних жирів",null,null,null,null,null,null,null,null,null,null,null,null,null,null,null,null,null,null,null,null,null,null,null,null,null,null,null,null,"Автономна Республіка Крим","Вогневе (Кольцовська)"]
[null,null,null,null,null,null,null,null,null,null,null,null,null,null,null,null,"Виробництво маргарину і подібних харчових жирів",null,null,null,null,null,null,null,null,null,null,null,null,null,null,null,null,null,null,null,null,null,null,null,null,null,null,null,null,"Автономна Республіка Крим","Вогні (Кукушкінська сільська рада)"]
[null,null,null,null,null,null,null,null,null,null,null,null,null,null,null,null,"Виробництво молочних продуктів",null,null,null,null,null,null,null,null,null,null,null,null,null,null,null,null,null,null,null,null,null,null,null,null,null,null,null,null,"Автономна Республіка Крим","Водне"]
[null,null,null,null,null,null,null,null,null,null,null,null,null,null,null,null,"Перероблення молока, виробництво масла та сиру",null,null,null,null,null,null,null,null,null,null,null,null,null,null,null,null,null,null,null,null,null,null,null,null,null,null,null,null,"Автономна Республіка Крим","Водопійне"]
[null,null,null,null,null,null,null,null,null,null,null,null,null,null,null,null,"Виробництво морозива",null,null,null,null,null,null,null,null,null,null,null,null,null,null,null,null,null,null,null,null,null,null,null,null,null,null,null,null,"Автономна Республіка Крим","Водопійне (Сизівська)"]
[null,null,null,null,null,null,null,null,null,null,null,null,null,null,null,null,"Виробництво продуктів борошномельно-круп'яної промисловості, крохмалів та крохмальних продуктів",null,null,null,null,null,null,null,null,null,null,null,null,null,null,null,null,null,null,null,null,null,null,null,null,null,null,null,null,"Автономна Республіка Крим","Войкове"]
[null,null,null,null,null,null,null,null,null,null,null,null,null,null,null,null,"Виробництво продуктів борошномельно-круп'яної промисловості",null,null,null,null,null,null,null,null,null,null,null,null,null,null,null,null,null,null,null,null,null,null,null,null,null,null,null,null,"Автономна Республіка Крим","Воїнка (Воїнська)"]
[null,null,null,null,null,null,null,null,null,null,null,null,null,null,null,null,"Виробництво крохмалів та крохмальних продуктів",null,null,null,null,null,null,null,null,null,null,null,null,null,null,null,null,null,null,null,null,null,null,null,null,null,null,null,null,"Автономна Республіка Крим","Володимирівка"]
[null,null,null,null,null,null,null,null,null,null,null,null,null,null,null,null,"Виробництво хліба, хлібобулочних і борошняних виробів",null,null,null,null,null,null,null,null,null,null,null,null,null,null,null,null,null,null,null,null,null,null,null,null,null,null,null,null,"Автономна Республіка Крим","Володимирове"]
[null,null,null,null,null,null,null,null,null,null,null,null,null,null,null,null,"Виробництво хліба та хлібобулочних виробів; виробництво борошняних кондитерських виробів, тортів і тістечок нетривалого зберігання",null,null,null,null,null,null,null,null,null,null,null,null,null,null,null,null,null,null,null,null,null,null,null,null,null,null,null,null,"Автономна Республіка Крим","Володине"]
[null,null,null,null,null,null,null,null,null,null,null,null,null,null,null,null,"Виробництво сухарів і сухого печива; виробництво борошняних кондитерських виробів, тортів і тістечок тривалого зберігання",null,null,null,null,null,null,null,null,null,null,null,null,null,null,null,null,null,null,null,null,null,null,null,null,null,null,null,null,"Автономна Республіка Крим","Волочаївка (Ковильнівська сільська рада)"]
[null,null,null,null,null,null,null,null,null,null,null,null,null,null,null,null,"Виробництво макаронних виробів та подібних борошняних виробів",null,null,null,null,null,null,null,null,null,null,null,null,null,null,null,null,null,null,null,null,null,null,null,null,null,null,null,null,"Автономна Республіка Крим","Волошине (Суворівської)"]
[null,null,null,null,null,null,null,null,null,null,null,null,null,null,null,null,"Виробництво інших харчових продуктів",null,null,null,null,null,null,null,null,null,null,null,null,null,null,null,null,null,null,null,null,null,null,null,null,null,null,null,null,"Автономна Республіка Крим","Воробйове"]
[null,null,null,null,null,null,null,null,null,null,null,null,null,null,null,null,"Виробництво цукру",null,null,null,null,null,null,null,null,null,null,null,null,null,null,null,null,null,null,null,null,null,null,null,null,null,null,null,null,"Автономна Республіка Крим","Ворон"]
[null,null,null,null,null,null,null,null,null,null,null,null,null,null,null,null,"Виробництво какао, шоколаду та цукрових кондитерських виробів",null,null,null,null,null,null,null,null,null,null,null,null,null,null,null,null,null,null,null,null,null,null,null,null,null,null,null,null,"Автономна Республіка Крим","Воронки (Зиминська сільська рада)"]
[null,null,null,null,null,null,null,null,null,null,null,null,null,null,null,null,"Виробництво чаю та кави",null,null,null,null,null,null,null,null,null,null,null,null,null,null,null,null,null,null,null,null,null,null,null,null,null,null,null,null,"Автономна Республіка Крим","Воронцівка (Ільїнської)"]
[null,null,null,null,null,null,null,null,null,null,null,null,null,null,null,null,"Виробництво прянощів і приправ",null,null,null,null,null,null,null,null,null,null,null,null,null,null,null,null,null,null,null,null,null,null,null,null,null,null,null,null,"Автономна Республіка Крим","Восточне"]
[null,null,null,null,null,null,null,null,null,null,null,null,null,null,null,null,"Виробництво готової їжі та страв",null,null,null,null,null,null,null,null,null,null,null,null,null,null,null,null,null,null,null,null,null,null,null,null,null,null,null,null,"Автономна Республіка Крим","Восход"]
[null,null,null,null,null,null,null,null,null,null,null,null,null,null,null,null,"Виробництво дитячого харчування та дієтичних харчових продуктів",null,null,null,null,null,null,null,null,null,null,null,null,null,null,null,null,null,null,null,null,null,null,null,null,null,null,null,null,"Автономна Республіка Крим","Вузлове"]
[null,null,null,null,null,null,null,null,null,null,null,null,null,null,null,null,"Виробництво інших харчових продуктів, н.в.і.у.",null,null,null,null,null,null,null,null,null,null,null,null,null,null,null,null,null,null,null,null,null,null,null,null,null,null,null,null,"Автономна Республіка Крим","Вулканівка"]
[null,null,null,null,null,null,null,null,null,null,null,null,null,null,null,null,"Виробництво готових кормів для тварин",null,null,null,null,null,null,null,null,null,null,null,null,null,null,null,null,null,null,null,null,null,null,null,null,null,null,null,null,"Автономна Республіка Крим","В'язникове"]
[null,null,null,null,null,null,null,null,null,null,null,null,null,null,null,null,"Виробництво готових кормів для тварин, що утримуються на фермах",null,null,null,null,null,null,null,null,null,null,null,null,null,null,null,null,null,null,null,null,null,null,null,null,null,null,null,null,"Автономна Республіка Крим","Гаршине"]
[null,null,null,null,null,null,null,null,null,null,null,null,null,null,null,null,"Виробництво готових кормів для домашніх тварин",null,null,null,null,null,null,null,null,null,null,null,null,null,null,null,null,null,null,null,null,null,null,null,null,null,null,null,null,"Автономна Республіка Крим","Гаспра"]
[null,null,null,null,null,null,null,null,null,null,null,null,null,null,null,null,"Виробництво напоїв",null,null,null,null,null,null,null,null,null,null,null,null,null,null,null,null,null,null,null,null,null,null,null,null,null,null,null,null,"Автономна Республіка Крим","Гвардійське (Гвардійської)"]
[null,null,null,null,null,null,null,null,null,null,null,null,null,null,null,null,"Виробництво напоїв",null,null,null,null,null,null,null,null,null,null,null,null,null,null,null,null,null,null,null,null,null,null,null,null,null,null,null,null,"Автономна Республіка Крим","Генеральське"]
[null,null,null,null,null,null,null,null,null,null,null,null,null,null,null,null,"Дистиляція, ректифікація та змішування спиртних напоїв",null,null,null,null,null,null,null,null,null,null,null,null,null,null,null,null,null,null,null,null,null,null,null,null,null,null,null,null,"Автономна Республіка Крим","Геройське"]
[null,null,null,null,null,null,null,null,null,null,null,null,null,null,null,null,"Виробництво виноградних вин",null,null,null,null,null,null,null,null,null,null,null,null,null,null,null,null,null,null,null,null,null,null,null,null,null,null,null,null,"Автономна Республіка Крим","Гірне"]
[null,null,null,null,null,null,null,null,null,null,null,null,null,null,null,null,"Виробництво сидру та інших плодово-ягідних вин",null,null,null,null,null,null,null,null,null,null,null,null,null,null,null,null,null,null,null,null,null,null,null,null,null,null,null,null,"Автономна Республіка Крим","Глазівка"]
[null,null,null,null,null,null,null,null,null,null,null,null,null,null,null,null,"Виробництво інших недистильованих напоїв із зброджуваних продуктів",null,null,null,null,null,null,null,null,null,null,null,null,null,null,null,null,null,null,null,null,null,null,null,null,null,null,null,null,"Автономна Республіка Крим","Глибокий Яр"]
[null,null,null,null,null,null,null,null,null,null,null,null,null,null,null,null,"Виробництво пива",null,null,null,null,null,null,null,null,null,null,null,null,null,null,null,null,null,null,null,null,null,null,null,null,null,null,null,null,"Автономна Республіка Крим","Глінка (Вересаєвська сільська рада)"]
[null,null,null,null,null,null,null,null,null,null,null,null,null,null,null,null,"Виробництво солоду",null,null,null,null,null,null,null,null,null,null,null,null,null,null,null,null,null,null,null,null,null,null,null,null,null,null,null,null,"Автономна Республіка Крим","Голованівка"]
[null,null,null,null,null,null,null,null,null,null,null,null,null,null,null,null,"Виробництво безалкогольних напоїв; виробництво мінеральних вод та інших вод, розлитих у пляшки",null,null,null,null,null,null,null,null,null,null,null,null,null,null,null,null,null,null,null,null,null,null,null,null,null,null,null,null,"Автономна Республіка Крим","Голуба Затока"]
[null,null,null,null,null,null,null,null,null,null,null,null,null,null,null,null,"Виробництво тютюнових виробів",null,null,null,null,null,null,null,null,null,null,null,null,null,null,null,null,null,null,null,null,null,null,null,null,null,null,null,null,"Автономна Республіка Крим","Голубинка"]
[null,null,null,null,null,null,null,null,null,null,null,null,null,null,null,null,"Виробництво тютюнових виробів",null,null,null,null,null,null,null,null,null,null,null,null,null,null,null,null,null,null,null,null,null,null,null,null,null,null,null,null,"Автономна Республіка Крим","Горлинка"]
[null,null,null,null,null,null,null,null,null,null,null,null,null,null,null,null,"Виробництво тютюнових виробів",null,null,null,null,null,null,null,null,null,null,null,null,null,null,null,null,null,null,null,null,null,null,null,null,null,null,null,null,"Автономна Республіка Крим","Горностаївка"]
[null,null,null,null,null,null,null,null,null,null,null,null,null,null,null,null,"Текстильне виробництво",null,null,null,null,null,null,null,null,null,null,null,null,null,null,null,null,null,null,null,null,null,null,null,null,null,null,null,null,"Автономна Республіка Крим","Городнє (Руч'ївська сільська рада)"]
[null,null,null,null,null,null,null,null,null,null,null,null,null,null,null,null,"Підготування та прядіння текстильних волокон",null,null,null,null,null,null,null,null,null,null,null,null,null,null,null,null,null,null,null,null,null,null,null,null,null,null,null,null,"Автономна Республіка Крим","Гресівський"]
[null,null,null,null,null,null,null,null,null,null,null,null,null,null,null,null,"Підготування та прядіння текстильних волокон",null,null,null,null,null,null,null,null,null,null,null,null,null,null,null,null,null,null,null,null,null,null,null,null,null,null,null,null,"Автономна Республіка Крим","Григорівка"]
[null,null,null,null,null,null,null,null,null,null,null,null,null,null,null,null,"Ткацьке виробництво",null,null,null,null,null,null,null,null,null,null,null,null,null,null,null,null,null,null,null,null,null,null,null,null,null,null,null,null,"Автономна Республіка Крим","Гришине (Гришинської)"]
[null,null,null,null,null,null,null,null,null,null,null,null,null,null,null,null,"Ткацьке виробництво",null,null,null,null,null,null,null,null,null,null,null,null,null,null,null,null,null,null,null,null,null,null,null,null,null,null,null,null,"Автономна Республіка Крим","Громівка"]
[null,null,null,null,null,null,null,null,null,null,null,null,null,null,null,null,"Оздоблення текстильних виробів",null,null,null,null,null,null,null,null,null,null,null,null,null,null,null,null,null,null,null,null,null,null,null,null,null,null,null,null,"Автономна Республіка Крим","Громове"]
[null,null,null,null,null,null,null,null,null,null,null,null,null,null,null,null,"Оздоблення текстильних виробів",null,null,null,null,null,null,null,null,null,null,null,null,null,null,null,null,null,null,null,null,null,null,null,null,null,null,null,null,"Автономна Республіка Крим","Громовка"]
[null,null,null,null,null,null,null,null,null,null,null,null,null,null,null,null,"Виробництво інших текстильних виробів",null,null,null,null,null,null,null,null,null,null,null,null,null,null,null,null,null,null,null,null,null,null,null,null,null,null,null,null,"Автономна Республіка Крим","Грушеве"]
[null,null,null,null,null,null,null,null,null,null,null,null,null,null,null,null,"Виробництво трикотажного полотна",null,null,null,null,null,null,null,null,null,null,null,null,null,null,null,null,null,null,null,null,null,null,null,null,null,null,null,null,"Автономна Республіка Крим","Грушівка"]
[null,null,null,null,null,null,null,null,null,null,null,null,null,null,null,null,"Виробництво готових текстильних виробів, крім одягу",null,null,null,null,null,null,null,null,null,null,null,null,null,null,null,null,null,null,null,null,null,null,null,null,null,null,null,null,"Автономна Республіка Крим","Гурзуф"]
[null,null,null,null,null,null,null,null,null,null,null,null,null,null,null,null,"Виробництво килимів і килимових виробів",null,null,null,null,null,null,null,null,null,null,null,null,null,null,null,null,null,null,null,null,null,null,null,null,null,null,null,null,"Автономна Республіка Крим","Давидове"]
[null,null,null,null,null,null,null,null,null,null,null,null,null,null,null,null,"Виробництво канатів, мотузок, шпагату та сіток",null,null,null,null,null,null,null,null,null,null,null,null,null,null,null,null,null,null,null,null,null,null,null,null,null,null,null,null,"Автономна Республіка Крим","Далеке"]
[null,null,null,null,null,null,null,null,null,null,null,null,null,null,null,null,"Виробництво нетканих текстильних матеріалів та виробів із них, крім одягу",null,null,null,null,null,null,null,null,null,null,null,null,null,null,null,null,null,null,null,null,null,null,null,null,null,null,null,null,"Автономна Республіка Крим","Данилівка"]
[null,null,null,null,null,null,null,null,null,null,null,null,null,null,null,null,"Виробництво інших текстильних виробів технічного та промислового призначення",null,null,null,null,null,null,null,null,null,null,null,null,null,null,null,null,null,null,null,null,null,null,null,null,null,null,null,null,"Автономна Республіка Крим","Дачне"]
[null,null,null,null,null,null,null,null,null,null,null,null,null,null,null,null,"Виробництво інших текстильних виробів, н.в.і.у.",null,null,null,null,null,null,null,null,null,null,null,null,null,null,null,null,null,null,null,null,null,null,null,null,null,null,null,null,"Автономна Республіка Крим","Дворіччя"]
[null,null,null,null,null,null,null,null,null,null,null,null,null,null,null,null,"Виробництво одягу",null,null,null,null,null,null,null,null,null,null,null,null,null,null,null,null,null,null,null,null,null,null,null,null,null,null,null,null,"Автономна Республіка Крим","Дворове"]
[null,null,null,null,null,null,null,null,null,null,null,null,null,null,null,null,"Виробництво одягу, крім хутряного",null,null,null,null,null,null,null,null,null,null,null,null,null,null,null,null,null,null,null,null,null,null,null,null,null,null,null,null,"Автономна Республіка Крим","Дем'янівка"]
[null,null,null,null,null,null,null,null,null,null,null,null,null,null,null,null,"Виробництво одягу зі шкіри",null,null,null,null,null,null,null,null,null,null,null,null,null,null,null,null,null,null,null,null,null,null,null,null,null,null,null,null,"Автономна Республіка Крим","Денисівка"]
[null,null,null,null,null,null,null,null,null,null,null,null,null,null,null,null,"Виробництво робочого одягу",null,null,null,null,null,null,null,null,null,null,null,null,null,null,null,null,null,null,null,null,null,null,null,null,null,null,null,null,"Автономна Республіка Крим","Джанкой"]
[null,null,null,null,null,null,null,null,null,null,null,null,null,null,null,null,"Виробництво іншого верхнього одягу",null,null,null,null,null,null,null,null,null,null,null,null,null,null,null,null,null,null,null,null,null,null,null,null,null,null,null,null,"Автономна Республіка Крим","Дивне"]
[null,null,null,null,null,null,null,null,null,null,null,null,null,null,null,null,"Виробництво спіднього одягу",null,null,null,null,null,null,null,null,null,null,null,null,null,null,null,null,null,null,null,null,null,null,null,null,null,null,null,null,"Автономна Республіка Крим","Дібрівка"]
[null,null,null,null,null,null,null,null,null,null,null,null,null,null,null,null,"Виробництво іншого одягу й аксесуарів",null,null,null,null,null,null,null,null,null,null,null,null,null,null,null,null,null,null,null,null,null,null,null,null,null,null,null,null,"Автономна Республіка Крим","Дібрівське"]
[null,null,null,null,null,null,null,null,null,null,null,null,null,null,null,null,"Виготовлення виробів із хутра",null,null,null,null,null,null,null,null,null,null,null,null,null,null,null,null,null,null,null,null,null,null,null,null,null,null,null,null,"Автономна Республіка Крим","Дмитрівка"]
[null,null,null,null,null,null,null,null,null,null,null,null,null,null,null,null,"Виготовлення виробів із хутра",null,null,null,null,null,null,null,null,null,null,null,null,null,null,null,null,null,null,null,null,null,null,null,null,null,null,null,null,"Автономна Республіка Крим","Дмитрівка (Войковське)"]
[null,null,null,null,null,null,null,null,null,null,null,null,null,null,null,null,"Виробництво трикотажного та в'язаного одягу",null,null,null,null,null,null,null,null,null,null,null,null,null,null,null,null,null,null,null,null,null,null,null,null,null,null,null,null,"Автономна Республіка Крим","Дмитрове"]
[null,null,null,null,null,null,null,null,null,null,null,null,null,null,null,null,"Виробництво панчішно-шкарпеткових виробів",null,null,null,null,null,null,null,null,null,null,null,null,null,null,null,null,null,null,null,null,null,null,null,null,null,null,null,null,"Автономна Республіка Крим","Дніпровка"]
[null,null,null,null,null,null,null,null,null,null,null,null,null,null,null,null,"Виробництво іншого трикотажного та в'язаного одягу",null,null,null,null,null,null,null,null,null,null,null,null,null,null,null,null,null,null,null,null,null,null,null,null,null,null,null,null,"Автономна Республіка Крим","Добре"]
[null,null,null,null,null,null,null,null,null,null,null,null,null,null,null,null,"Виробництво шкіри, виробів зі шкіри та інших матеріалів",null,null,null,null,null,null,null,null,null,null,null,null,null,null,null,null,null,null,null,null,null,null,null,null,null,null,null,null,"Автономна Республіка Крим","Добролюбовка"]
[null,null,null,null,null,null,null,null,null,null,null,null,null,null,null,null,"Дублення шкур і оздоблення шкіри; виробництво дорожніх виробів, сумок, лимарно-сідельних виробів; вичинка та фарбування хутра",null,null,null,null,null,null,null,null,null,null,null,null,null,null,null,null,null,null,null,null,null,null,null,null,null,null,null,null,"Автономна Республіка Крим","Добрушине"]
[null,null,null,null,null,null,null,null,null,null,null,null,null,null,null,null,"Дублення шкур і оздоблення шкіри; вичинка та фарбування хутра",null,null,null,null,null,null,null,null,null,null,null,null,null,null,null,null,null,null,null,null,null,null,null,null,null,null,null,null,"Автономна Республіка Крим","Дозорне"]
[null,null,null,null,null,null,null,null,null,null,null,null,null,null,null,null,"Виробництво дорожніх виробів, сумок, лимарно-сідельних виробів зі шкіри та інших матеріалів",null,null,null,null,null,null,null,null,null,null,null,null,null,null,null,null,null,null,null,null,null,null,null,null,null,null,null,null,"Автономна Республіка Крим","Докучаєве"]
[null,null,null,null,null,null,null,null,null,null,null,null,null,null,null,null,"Виробництво взуття",null,null,null,null,null,null,null,null,null,null,null,null,null,null,null,null,null,null,null,null,null,null,null,null,null,null,null,null,"Автономна Республіка Крим","Долинівка"]
[null,null,null,null,null,null,null,null,null,null,null,null,null,null,null,null,"Виробництво взуття",null,null,null,null,null,null,null,null,null,null,null,null,null,null,null,null,null,null,null,null,null,null,null,null,null,null,null,null,"Автономна Республіка Крим","Долинка (Митяївська)"]
[null,null,null,null,null,null,null,null,null,null,null,null,null,null,null,null,"Оброблення деревини та виготовлення виробів з деревини та корка, крім меблів; виготовлення виробів із соломки та рослинних матеріалів для плетіння",null,null,null,null,null,null,null,null,null,null,null,null,null,null,null,null,null,null,null,null,null,null,null,null,null,null,null,null,"Автономна Республіка Крим","Долинка (Новопавлівської)"]
[null,null,null,null,null,null,null,null,null,null,null,null,null,null,null,null,"Лісопильне та стругальне виробництво",null,null,null,null,null,null,null,null,null,null,null,null,null,null,null,null,null,null,null,null,null,null,null,null,null,null,null,null,"Автономна Республіка Крим","Долинне"]
[null,null,null,null,null,null,null,null,null,null,null,null,null,null,null,null,"Лісопильне та стругальне виробництво",null,null,null,null,null,null,null,null,null,null,null,null,null,null,null,null,null,null,null,null,null,null,null,null,null,null,null,null,"Автономна Республіка Крим","Донське"]
[null,null,null,null,null,null,null,null,null,null,null,null,null,null,null,null,"Виготовлення виробів з деревини, корка, соломки та рослинних матеріалів для плетіння",null,null,null,null,null,null,null,null,null,null,null,null,null,null,null,null,null,null,null,null,null,null,null,null,null,null,null,null,"Автономна Республіка Крим","Дорожнє"]
[null,null,null,null,null,null,null,null,null,null,null,null,null,null,null,null,"Виробництво фанери, дерев'яних плит і панелей, шпону",null,null,null,null,null,null,null,null,null,null,null,null,null,null,null,null,null,null,null,null,null,null,null,null,null,null,null,null,"Автономна Республіка Крим","Доходне"]
[null,null,null,null,null,null,null,null,null,null,null,null,null,null,null,null,"Виробництво щитового паркету",null,null,null,null,null,null,null,null,null,null,null,null,null,null,null,null,null,null,null,null,null,null,null,null,null,null,null,null,"Автономна Республіка Крим","Дрофине"]
[null,null,null,null,null,null,null,null,null,null,null,null,null,null,null,null,"Виробництво інших дерев'яних будівельних конструкцій і столярних виробів",null,null,null,null,null,null,null,null,null,null,null,null,null,null,null,null,null,null,null,null,null,null,null,null,null,null,null,null,"Автономна Республіка Крим","Дружне"]
[null,null,null,null,null,null,null,null,null,null,null,null,null,null,null,null,"Виробництво дерев'яної тари",null,null,null,null,null,null,null,null,null,null,null,null,null,null,null,null,null,null,null,null,null,null,null,null,null,null,null,null,"Автономна Республіка Крим","Дубки"]
[null,null,null,null,null,null,null,null,null,null,null,null,null,null,null,null,"Виробництво інших виробів з деревини; виготовлення виробів з корка, соломки та рослинних матеріалів для плетіння",null,null,null,null,null,null,null,null,null,null,null,null,null,null,null,null,null,null,null,null,null,null,null,null,null,null,null,null,"Автономна Республіка Крим","Дятлівка"]
[null,null,null,null,null,null,null,null,null,null,null,null,null,null,null,null,"Виробництво паперу та паперових виробів",null,null,null,null,null,null,null,null,null,null,null,null,null,null,null,null,null,null,null,null,null,null,null,null,null,null,null,null,"Автономна Республіка Крим","Євпаторія"]
[null,null,null,null,null,null,null,null,null,null,null,null,null,null,null,null,"Виробництво паперової маси, паперу та картону",null,null,null,null,null,null,null,null,null,null,null,null,null,null,null,null,null,null,null,null,null,null,null,null,null,null,null,null,"Автономна Республіка Крим","Єгорове"]
[null,null,null,null,null,null,null,null,null,null,null,null,null,null,null,null,"Виробництво паперової маси",null,null,null,null,null,null,null,null,null,null,null,null,null,null,null,null,null,null,null,null,null,null,null,null,null,null,null,null,"Автономна Республіка Крим","Єлизаветове"]
[null,null,null,null,null,null,null,null,null,null,null,null,null,null,null,null,"Виробництво паперу та картону",null,null,null,null,null,null,null,null,null,null,null,null,null,null,null,null,null,null,null,null,null,null,null,null,null,null,null,null,"Автономна Республіка Крим","Єрмакове"]
[null,null,null,null,null,null,null,null,null,null,null,null,null,null,null,null,"Виготовлення виробів з паперу та картону",null,null,null,null,null,null,null,null,null,null,null,null,null,null,null,null,null,null,null,null,null,null,null,null,null,null,null,null,"Автономна Республіка Крим","Єрофєєве"]
[null,null,null,null,null,null,null,null,null,null,null,null,null,null,null,null,"Виробництво гофрованого паперу та картону, паперової та картонної тари",null,null,null,null,null,null,null,null,null,null,null,null,null,null,null,null,null,null,null,null,null,null,null,null,null,null,null,null,"Автономна Республіка Крим","Жайворонки"]
[null,null,null,null,null,null,null,null,null,null,null,null,null,null,null,null,"Виробництво паперових виробів господарсько-побутового та санітарно-гігієнічного призначення",null,null,null,null,null,null,null,null,null,null,null,null,null,null,null,null,null,null,null,null,null,null,null,null,null,null,null,null,"Автономна Республіка Крим","Желябовка"]
[null,null,null,null,null,null,null,null,null,null,null,null,null,null,null,null,"Виробництво паперових канцелярських  виробів",null,null,null,null,null,null,null,null,null,null,null,null,null,null,null,null,null,null,null,null,null,null,null,null,null,null,null,null,"Автономна Республіка Крим","Жемчужина"]
[null,null,null,null,null,null,null,null,null,null,null,null,null,null,null,null,"Виробництво шпалер",null,null,null,null,null,null,null,null,null,null,null,null,null,null,null,null,null,null,null,null,null,null,null,null,null,null,null,null,"Автономна Республіка Крим","Жемчужина Криму"]
[null,null,null,null,null,null,null,null,null,null,null,null,null,null,null,null,"Виробництво інших виробів з паперу та картону",null,null,null,null,null,null,null,null,null,null,null,null,null,null,null,null,null,null,null,null,null,null,null,null,null,null,null,null,"Автономна Республіка Крим","Живописне"]
[null,null,null,null,null,null,null,null,null,null,null,null,null,null,null,null,"Поліграфічна діяльність, тиражування записаної інформації",null,null,null,null,null,null,null,null,null,null,null,null,null,null,null,null,null,null,null,null,null,null,null,null,null,null,null,null,"Автономна Республіка Крим","Жилине"]
[null,null,null,null,null,null,null,null,null,null,null,null,null,null,null,null,"Поліграфічна діяльність і надання пов'язаних із нею послуг",null,null,null,null,null,null,null,null,null,null,null,null,null,null,null,null,null,null,null,null,null,null,null,null,null,null,null,null,"Автономна Республіка Крим","Жовтокам'янка (Суворовська)"]
[null,null,null,null,null,null,null,null,null,null,null,null,null,null,null,null,"Друкування газет",null,null,null,null,null,null,null,null,null,null,null,null,null,null,null,null,null,null,null,null,null,null,null,null,null,null,null,null,"Автономна Республіка Крим","Журавки"]
[null,null,null,null,null,null,null,null,null,null,null,null,null,null,null,null,"Друкування іншої продукції",null,null,null,null,null,null,null,null,null,null,null,null,null,null,null,null,null,null,null,null,null,null,null,null,null,null,null,null,"Автономна Республіка Крим","Журавлі"]
[null,null,null,null,null,null,null,null,null,null,null,null,null,null,null,null,"Виготовлення друкарських форм і надання інших поліграфічних послуг",null,null,null,null,null,null,null,null,null,null,null,null,null,null,null,null,null,null,null,null,null,null,null,null,null,null,null,null,"Автономна Республіка Крим","Журавлівка"]
[null,null,null,null,null,null,null,null,null,null,null,null,null,null,null,null,"Брошурувально-палітурна діяльність і надання пов'язаних із нею послуг",null,null,null,null,null,null,null,null,null,null,null,null,null,null,null,null,null,null,null,null,null,null,null,null,null,null,null,null,"Автономна Республіка Крим","Завіт-Ленінський"]
[null,null,null,null,null,null,null,null,null,null,null,null,null,null,null,null,"Тиражування звуко-, відеозаписів і програмного забезпечення",null,null,null,null,null,null,null,null,null,null,null,null,null,null,null,null,null,null,null,null,null,null,null,null,null,null,null,null,"Автономна Республіка Крим","Завітне"]
[null,null,null,null,null,null,null,null,null,null,null,null,null,null,null,null,"Тиражування звуко-, відеозаписів і програмного забезпечення",null,null,null,null,null,null,null,null,null,null,null,null,null,null,null,null,null,null,null,null,null,null,null,null,null,null,null,null,"Автономна Республіка Крим","Заводське"]
[null,null,null,null,null,null,null,null,null,null,null,null,null,null,null,null,"Виробництво коксу та продуктів нафтоперероблення",null,null,null,null,null,null,null,null,null,null,null,null,null,null,null,null,null,null,null,null,null,null,null,null,null,null,null,null,"Автономна Республіка Крим","Задорне"]
[null,null,null,null,null,null,null,null,null,null,null,null,null,null,null,null,"Виробництво коксу та коксопродуктів",null,null,null,null,null,null,null,null,null,null,null,null,null,null,null,null,null,null,null,null,null,null,null,null,null,null,null,null,"Автономна Республіка Крим","Зайцеве"]
[null,null,null,null,null,null,null,null,null,null,null,null,null,null,null,null,"Виробництво коксу та коксопродуктів",null,null,null,null,null,null,null,null,null,null,null,null,null,null,null,null,null,null,null,null,null,null,null,null,null,null,null,null,"Автономна Республіка Крим","Заливне"]
[null,null,null,null,null,null,null,null,null,null,null,null,null,null,null,null,"Виробництво продуктів нафтоперероблення",null,null,null,null,null,null,null,null,null,null,null,null,null,null,null,null,null,null,null,null,null,null,null,null,null,null,null,null,"Автономна Республіка Крим","Залізничне"]
[null,null,null,null,null,null,null,null,null,null,null,null,null,null,null,null,"Виробництво продуктів нафтоперероблення",null,null,null,null,null,null,null,null,null,null,null,null,null,null,null,null,null,null,null,null,null,null,null,null,null,null,null,null,"Автономна Республіка Крим","Залісне"]
[null,null,null,null,null,null,null,null,null,null,null,null,null,null,null,null,"Виробництво хімічних речовин і хімічної продукції",null,null,null,null,null,null,null,null,null,null,null,null,null,null,null,null,null,null,null,null,null,null,null,null,null,null,null,null,"Автономна Республіка Крим","Залісся"]
[null,null,null,null,null,null,null,null,null,null,null,null,null,null,null,null,"Виробництво основної хімічної продукції, добрив і азотних сполук, пластмас і синтетичного каучуку в первинних формах",null,null,null,null,null,null,null,null,null,null,null,null,null,null,null,null,null,null,null,null,null,null,null,null,null,null,null,null,"Автономна Республіка Крим","Заозерне"]
[null,null,null,null,null,null,null,null,null,null,null,null,null,null,null,null,"Виробництво промислових газів",null,null,null,null,null,null,null,null,null,null,null,null,null,null,null,null,null,null,null,null,null,null,null,null,null,null,null,null,"Автономна Республіка Крим","Запрудне"]
[null,null,null,null,null,null,null,null,null,null,null,null,null,null,null,null,"Виробництво барвників і пігментів",null,null,null,null,null,null,null,null,null,null,null,null,null,null,null,null,null,null,null,null,null,null,null,null,null,null,null,null,"Автономна Республіка Крим","Зарічне"]
[null,null,null,null,null,null,null,null,null,null,null,null,null,null,null,null,"Виробництво інших основних неорганічних хімічних речовин",null,null,null,null,null,null,null,null,null,null,null,null,null,null,null,null,null,null,null,null,null,null,null,null,null,null,null,null,"Автономна Республіка Крим","Заріччя"]
[null,null,null,null,null,null,null,null,null,null,null,null,null,null,null,null,"Виробництво інших основних органічних хімічних речовин",null,null,null,null,null,null,null,null,null,null,null,null,null,null,null,null,null,null,null,null,null,null,null,null,null,null,null,null,"Автономна Республіка Крим","Затишне"]
[null,null,null,null,null,null,null,null,null,null,null,null,null,null,null,null,"Виробництво добрив і азотних сполук",null,null,null,null,null,null,null,null,null,null,null,null,null,null,null,null,null,null,null,null,null,null,null,null,null,null,null,null,"Автономна Республіка Крим","Звіздне"]
[null,null,null,null,null,null,null,null,null,null,null,null,null,null,null,null,"Виробництво пластмас у первинних формах",null,null,null,null,null,null,null,null,null,null,null,null,null,null,null,null,null,null,null,null,null,null,null,null,null,null,null,null,"Автономна Республіка Крим","Зелена Нива (Вишнівської)"]
[null,null,null,null,null,null,null,null,null,null,null,null,null,null,null,null,"Виробництво синтетичного каучуку в первинних формах",null,null,null,null,null,null,null,null,null,null,null,null,null,null,null,null,null,null,null,null,null,null,null,null,null,null,null,null,"Автономна Республіка Крим","Зелене"]
[null,null,null,null,null,null,null,null,null,null,null,null,null,null,null,null,"Виробництво пестицидів та іншої агрохімічної продукції",null,null,null,null,null,null,null,null,null,null,null,null,null,null,null,null,null,null,null,null,null,null,null,null,null,null,null,null,"Автономна Республіка Крим","Зелений Яр"]
[null,null,null,null,null,null,null,null,null,null,null,null,null,null,null,null,"Виробництво пестицидів та іншої агрохімічної продукції",null,null,null,null,null,null,null,null,null,null,null,null,null,null,null,null,null,null,null,null,null,null,null,null,null,null,null,null,"Автономна Республіка Крим","Зеленогірське"]
[null,null,null,null,null,null,null,null,null,null,null,null,null,null,null,null,"Виробництво фарб, лаків і подібної продукції, друкарської фарби та мастик",null,null,null,null,null,null,null,null,null,null,null,null,null,null,null,null,null,null,null,null,null,null,null,null,null,null,null,null,"Автономна Республіка Крим","Зеленогір'я"]
[null,null,null,null,null,null,null,null,null,null,null,null,null,null,null,null,"Виробництво фарб, лаків і подібної продукції, друкарської фарби та мастик",null,null,null,null,null,null,null,null,null,null,null,null,null,null,null,null,null,null,null,null,null,null,null,null,null,null,null,null,"Автономна Республіка Крим","Земляничне"]
[null,null,null,null,null,null,null,null,null,null,null,null,null,null,null,null,"Виробництво мила та мийних засобів, засобів для чищення та полірування, парфумних і косметичних засобів",null,null,null,null,null,null,null,null,null,null,null,null,null,null,null,null,null,null,null,null,null,null,null,null,null,null,null,null,"Автономна Республіка Крим","Зернове"]
[null,null,null,null,null,null,null,null,null,null,null,null,null,null,null,null,"Виробництво мила та мийних засобів, засобів для чищення та полірування",null,null,null,null,null,null,null,null,null,null,null,null,null,null,null,null,null,null,null,null,null,null,null,null,null,null,null,null,"Автономна Республіка Крим","Зибини"]
[null,null,null,null,null,null,null,null,null,null,null,null,null,null,null,null,"Виробництво парфумних і косметичних засобів",null,null,null,null,null,null,null,null,null,null,null,null,null,null,null,null,null,null,null,null,null,null,null,null,null,null,null,null,"Автономна Республіка Крим","Зимине"]
[null,null,null,null,null,null,null,null,null,null,null,null,null,null,null,null,"Виробництво іншої хімічної продукції",null,null,null,null,null,null,null,null,null,null,null,null,null,null,null,null,null,null,null,null,null,null,null,null,null,null,null,null,"Автономна Республіка Крим","Знам'янка"]
[null,null,null,null,null,null,null,null,null,null,null,null,null,null,null,null,"Виробництво вибухових речовин",null,null,null,null,null,null,null,null,null,null,null,null,null,null,null,null,null,null,null,null,null,null,null,null,null,null,null,null,"Автономна Республіка Крим","Знам'янка (Орлівської)"]
[null,null,null,null,null,null,null,null,null,null,null,null,null,null,null,null,"Виробництво клеїв",null,null,null,null,null,null,null,null,null,null,null,null,null,null,null,null,null,null,null,null,null,null,null,null,null,null,null,null,"Автономна Республіка Крим","Знам'янське"]
[null,null,null,null,null,null,null,null,null,null,null,null,null,null,null,null,"Виробництво ефірних олій",null,null,null,null,null,null,null,null,null,null,null,null,null,null,null,null,null,null,null,null,null,null,null,null,null,null,null,null,"Автономна Республіка Крим","Золоте"]
[null,null,null,null,null,null,null,null,null,null,null,null,null,null,null,null,"Виробництво іншої хімічної продукції, н.в.і.у.",null,null,null,null,null,null,null,null,null,null,null,null,null,null,null,null,null,null,null,null,null,null,null,null,null,null,null,null,"Автономна Республіка Крим","Золоте  Поле"]
[null,null,null,null,null,null,null,null,null,null,null,null,null,null,null,null,"Виробництво штучних і синтетичних волокон",null,null,null,null,null,null,null,null,null,null,null,null,null,null,null,null,null,null,null,null,null,null,null,null,null,null,null,null,"Автономна Республіка Крим","Зоркіне"]
[null,null,null,null,null,null,null,null,null,null,null,null,null,null,null,null,"Виробництво штучних і синтетичних волокон",null,null,null,null,null,null,null,null,null,null,null,null,null,null,null,null,null,null,null,null,null,null,null,null,null,null,null,null,"Автономна Республіка Крим","Зоря"]
[null,null,null,null,null,null,null,null,null,null,null,null,null,null,null,null,"Виробництво основних фармацевтичних продуктів і фармацевтичних препаратів",null,null,null,null,null,null,null,null,null,null,null,null,null,null,null,null,null,null,null,null,null,null,null,null,null,null,null,null,"Автономна Республіка Крим","Зоряне"]
[null,null,null,null,null,null,null,null,null,null,null,null,null,null,null,null,"Виробництво основних фармацевтичних продуктів",null,null,null,null,null,null,null,null,null,null,null,null,null,null,null,null,null,null,null,null,null,null,null,null,null,null,null,null,"Автономна Республіка Крим","Зубакіне"]
[null,null,null,null,null,null,null,null,null,null,null,null,null,null,null,null,"Виробництво основних фармацевтичних продуктів",null,null,null,null,null,null,null,null,null,null,null,null,null,null,null,null,null,null,null,null,null,null,null,null,null,null,null,null,"Автономна Республіка Крим","Зуя"]
[null,null,null,null,null,null,null,null,null,null,null,null,null,null,null,null,"Виробництво фармацевтичних препаратів і матеріалів",null,null,null,null,null,null,null,null,null,null,null,null,null,null,null,null,null,null,null,null,null,null,null,null,null,null,null,null,"Автономна Республіка Крим","Іванівка"]
[null,null,null,null,null,null,null,null,null,null,null,null,null,null,null,null,"Виробництво фармацевтичних препаратів і матеріалів",null,null,null,null,null,null,null,null,null,null,null,null,null,null,null,null,null,null,null,null,null,null,null,null,null,null,null,null,"Автономна Республіка Крим","Ізвесткове"]
[null,null,null,null,null,null,null,null,null,null,null,null,null,null,null,null,"Виробництво гумових і пластмасових виробів",null,null,null,null,null,null,null,null,null,null,null,null,null,null,null,null,null,null,null,null,null,null,null,null,null,null,null,null,"Автономна Республіка Крим","Ізобільне"]
[null,null,null,null,null,null,null,null,null,null,null,null,null,null,null,null,"Виробництво гумових виробів",null,null,null,null,null,null,null,null,null,null,null,null,null,null,null,null,null,null,null,null,null,null,null,null,null,null,null,null,"Автономна Республіка Крим","Ізумрудне"]
[null,null,null,null,null,null,null,null,null,null,null,null,null,null,null,null,"Виробництво гумових шин, покришок і камер; відновлення протектора гумових шин і покришок",null,null,null,null,null,null,null,null,null,null,null,null,null,null,null,null,null,null,null,null,null,null,null,null,null,null,null,null,"Автономна Республіка Крим","Ізюмівка"]
[null,null,null,null,null,null,null,null,null,null,null,null,null,null,null,null,"Виробництво інших гумових виробів",null,null,null,null,null,null,null,null,null,null,null,null,null,null,null,null,null,null,null,null,null,null,null,null,null,null,null,null,"Автономна Республіка Крим","Іллінка (Ільїнської)"]
[null,null,null,null,null,null,null,null,null,null,null,null,null,null,null,null,"Виробництво пластмасових виробів",null,null,null,null,null,null,null,null,null,null,null,null,null,null,null,null,null,null,null,null,null,null,null,null,null,null,null,null,"Автономна Республіка Крим","Іллінка (Сизівська)"]
[null,null,null,null,null,null,null,null,null,null,null,null,null,null,null,null,"Виробництво плит, листів, труб і профілів із пластмас",null,null,null,null,null,null,null,null,null,null,null,null,null,null,null,null,null,null,null,null,null,null,null,null,null,null,null,null,"Автономна Республіка Крим","Іллічеве"]
[null,null,null,null,null,null,null,null,null,null,null,null,null,null,null,null,"Виробництво тари з пластмас",null,null,null,null,null,null,null,null,null,null,null,null,null,null,null,null,null,null,null,null,null,null,null,null,null,null,null,null,"Автономна Республіка Крим","Іскра"]
[null,null,null,null,null,null,null,null,null,null,null,null,null,null,null,null,"Виробництво будівельних виробів із пластмас",null,null,null,null,null,null,null,null,null,null,null,null,null,null,null,null,null,null,null,null,null,null,null,null,null,null,null,null,"Автономна Республіка Крим","Істочне"]
[null,null,null,null,null,null,null,null,null,null,null,null,null,null,null,null,"Виробництво інших виробів із пластмас",null,null,null,null,null,null,null,null,null,null,null,null,null,null,null,null,null,null,null,null,null,null,null,null,null,null,null,null,"Автономна Республіка Крим","Істочне (Воїнської)"]
[null,null,null,null,null,null,null,null,null,null,null,null,null,null,null,null,"Виробництво іншої неметалевої мінеральної продукції",null,null,null,null,null,null,null,null,null,null,null,null,null,null,null,null,null,null,null,null,null,null,null,null,null,null,null,null,"Автономна Республіка Крим","Ішунь (Ішуньської)"]
[null,null,null,null,null,null,null,null,null,null,null,null,null,null,null,null,"Виробництво скла та виробів зі скла",null,null,null,null,null,null,null,null,null,null,null,null,null,null,null,null,null,null,null,null,null,null,null,null,null,null,null,null,"Автономна Республіка Крим","Казанки"]
[null,null,null,null,null,null,null,null,null,null,null,null,null,null,null,null,"Виробництво листового скла",null,null,null,null,null,null,null,null,null,null,null,null,null,null,null,null,null,null,null,null,null,null,null,null,null,null,null,null,"Автономна Республіка Крим","Калинівка"]
[null,null,null,null,null,null,null,null,null,null,null,null,null,null,null,null,"Формування й оброблення листового скла",null,null,null,null,null,null,null,null,null,null,null,null,null,null,null,null,null,null,null,null,null,null,null,null,null,null,null,null,"Автономна Республіка Крим","Калинівка (Оленівська)"]
[null,null,null,null,null,null,null,null,null,null,null,null,null,null,null,null,"Виробництво порожнистого скла",null,null,null,null,null,null,null,null,null,null,null,null,null,null,null,null,null,null,null,null,null,null,null,null,null,null,null,null,"Автономна Республіка Крим","Калініне"]
[null,null,null,null,null,null,null,null,null,null,null,null,null,null,null,null,"Виробництво скловолокна",null,null,null,null,null,null,null,null,null,null,null,null,null,null,null,null,null,null,null,null,null,null,null,null,null,null,null,null,"Автономна Республіка Крим","Калініне (Калінінської)"]
[null,null,null,null,null,null,null,null,null,null,null,null,null,null,null,null,"Виробництво й оброблення інших скляних виробів, у тому числі технічних",null,null,null,null,null,null,null,null,null,null,null,null,null,null,null,null,null,null,null,null,null,null,null,null,null,null,null,null,"Автономна Республіка Крим","Каменоломня"]
[null,null,null,null,null,null,null,null,null,null,null,null,null,null,null,null,"Виробництво вогнетривких виробів",null,null,null,null,null,null,null,null,null,null,null,null,null,null,null,null,null,null,null,null,null,null,null,null,null,null,null,null,"Автономна Республіка Крим","Кам'янка (Октябрьської)"]
[null,null,null,null,null,null,null,null,null,null,null,null,null,null,null,null,"Виробництво вогнетривких виробів",null,null,null,null,null,null,null,null,null,null,null,null,null,null,null,null,null,null,null,null,null,null,null,null,null,null,null,null,"Автономна Республіка Крим","Кам'янське"]
[null,null,null,null,null,null,null,null,null,null,null,null,null,null,null,null,"Виробництво будівельних матеріалів із глини",null,null,null,null,null,null,null,null,null,null,null,null,null,null,null,null,null,null,null,null,null,null,null,null,null,null,null,null,"Автономна Республіка Крим","Карасівка"]
[null,null,null,null,null,null,null,null,null,null,null,null,null,null,null,null,"Виробництво керамічних плиток і плит",null,null,null,null,null,null,null,null,null,null,null,null,null,null,null,null,null,null,null,null,null,null,null,null,null,null,null,null,"Автономна Республіка Крим","Кар'єрне"]
[null,null,null,null,null,null,null,null,null,null,null,null,null,null,null,null,"Виробництво цегли, черепиці та інших будівельних виробів із випаленої глини",null,null,null,null,null,null,null,null,null,null,null,null,null,null,null,null,null,null,null,null,null,null,null,null,null,null,null,null,"Автономна Республіка Крим","Карпівка"]
[null,null,null,null,null,null,null,null,null,null,null,null,null,null,null,null,"Виробництво іншої продукції з фарфору та кераміки",null,null,null,null,null,null,null,null,null,null,null,null,null,null,null,null,null,null,null,null,null,null,null,null,null,null,null,null,"Автономна Республіка Крим","Карпова Балка (Філатівської)"]
[null,null,null,null,null,null,null,null,null,null,null,null,null,null,null,null,"Виробництво господарських і декоративних керамічних виробів",null,null,null,null,null,null,null,null,null,null,null,null,null,null,null,null,null,null,null,null,null,null,null,null,null,null,null,null,"Автономна Республіка Крим","Кацівелі"]
[null,null,null,null,null,null,null,null,null,null,null,null,null,null,null,null,"Виробництво керамічних санітарно-технічних виробів",null,null,null,null,null,null,null,null,null,null,null,null,null,null,null,null,null,null,null,null,null,null,null,null,null,null,null,null,"Автономна Республіка Крим","Каштани"]
[null,null,null,null,null,null,null,null,null,null,null,null,null,null,null,null,"Виробництво керамічних електроізоляторів та ізоляційної арматури",null,null,null,null,null,null,null,null,null,null,null,null,null,null,null,null,null,null,null,null,null,null,null,null,null,null,null,null,"Автономна Республіка Крим","Каштанівка (Серебрянська сільська рада)"]
[null,null,null,null,null,null,null,null,null,null,null,null,null,null,null,null,"Виробництво інших керамічних виробів технічного призначення",null,null,null,null,null,null,null,null,null,null,null,null,null,null,null,null,null,null,null,null,null,null,null,null,null,null,null,null,"Автономна Республіка Крим","Каштанівка (Черновської)"]
[null,null,null,null,null,null,null,null,null,null,null,null,null,null,null,null,"Виробництво інших керамічних виробів",null,null,null,null,null,null,null,null,null,null,null,null,null,null,null,null,null,null,null,null,null,null,null,null,null,null,null,null,"Автономна Республіка Крим","Каштанове"]
[null,null,null,null,null,null,null,null,null,null,null,null,null,null,null,null,"Виробництво цементу, вапна та гіпсових сумішей",null,null,null,null,null,null,null,null,null,null,null,null,null,null,null,null,null,null,null,null,null,null,null,null,null,null,null,null,"Автономна Республіка Крим","Керч"]
[null,null,null,null,null,null,null,null,null,null,null,null,null,null,null,null,"Виробництво цементу",null,null,null,null,null,null,null,null,null,null,null,null,null,null,null,null,null,null,null,null,null,null,null,null,null,null,null,null,"Автономна Республіка Крим","Кизилівка"]
[null,null,null,null,null,null,null,null,null,null,null,null,null,null,null,null,"Виробництво вапна та гіпсових сумішей",null,null,null,null,null,null,null,null,null,null,null,null,null,null,null,null,null,null,null,null,null,null,null,null,null,null,null,null,"Автономна Республіка Крим","Кипарисне"]
[null,null,null,null,null,null,null,null,null,null,null,null,null,null,null,null,"Виготовлення виробів із бетону, гіпсу та цементу",null,null,null,null,null,null,null,null,null,null,null,null,null,null,null,null,null,null,null,null,null,null,null,null,null,null,null,null,"Автономна Республіка Крим","Кирпичне"]
[null,null,null,null,null,null,null,null,null,null,null,null,null,null,null,null,"Виготовлення виробів із бетону для будівництва",null,null,null,null,null,null,null,null,null,null,null,null,null,null,null,null,null,null,null,null,null,null,null,null,null,null,null,null,"Автономна Республіка Крим","Кирсанівка"]
[null,null,null,null,null,null,null,null,null,null,null,null,null,null,null,null,"Виготовлення виробів із гіпсу для будівництва",null,null,null,null,null,null,null,null,null,null,null,null,null,null,null,null,null,null,null,null,null,null,null,null,null,null,null,null,"Автономна Республіка Крим","Кіндратове"]
[null,null,null,null,null,null,null,null,null,null,null,null,null,null,null,null,"Виробництво бетонних розчинів, готових для використання",null,null,null,null,null,null,null,null,null,null,null,null,null,null,null,null,null,null,null,null,null,null,null,null,null,null,null,null,"Автономна Республіка Крим","Кіровське"]
[null,null,null,null,null,null,null,null,null,null,null,null,null,null,null,null,"Виробництво сухих будівельних сумішей",null,null,null,null,null,null,null,null,null,null,null,null,null,null,null,null,null,null,null,null,null,null,null,null,null,null,null,null,"Автономна Республіка Крим","Кісточківка"]
[null,null,null,null,null,null,null,null,null,null,null,null,null,null,null,null,"Виготовлення виробів із волокнистого цементу",null,null,null,null,null,null,null,null,null,null,null,null,null,null,null,null,null,null,null,null,null,null,null,null,null,null,null,null,"Автономна Республіка Крим","Клепиніне"]
[null,null,null,null,null,null,null,null,null,null,null,null,null,null,null,null,"Виробництво інших виробів із бетону, гіпсу та цементу",null,null,null,null,null,null,null,null,null,null,null,null,null,null,null,null,null,null,null,null,null,null,null,null,null,null,null,null,"Автономна Республіка Крим","Климове"]
[null,null,null,null,null,null,null,null,null,null,null,null,null,null,null,null,"Різання, оброблення та оздоблення декоративного та будівельного каменю",null,null,null,null,null,null,null,null,null,null,null,null,null,null,null,null,null,null,null,null,null,null,null,null,null,null,null,null,"Автономна Республіка Крим","Клинівка"]
[null,null,null,null,null,null,null,null,null,null,null,null,null,null,null,null,"Різання, оброблення та оздоблення декоративного та будівельного каменю",null,null,null,null,null,null,null,null,null,null,null,null,null,null,null,null,null,null,null,null,null,null,null,null,null,null,null,null,"Автономна Республіка Крим","Ключі"]
[null,null,null,null,null,null,null,null,null,null,null,null,null,null,null,null,"Виробництво абразивних виробів і неметалевих мінеральних виробів, н.в.і.у.",null,null,null,null,null,null,null,null,null,null,null,null,null,null,null,null,null,null,null,null,null,null,null,null,null,null,null,null,"Автономна Республіка Крим","Ключове"]
[null,null,null,null,null,null,null,null,null,null,null,null,null,null,null,null,"Виробництво абразивних виробів",null,null,null,null,null,null,null,null,null,null,null,null,null,null,null,null,null,null,null,null,null,null,null,null,null,null,null,null,"Автономна Республіка Крим","Ковильне"]
[null,null,null,null,null,null,null,null,null,null,null,null,null,null,null,null,"Виробництво неметалевих мінеральних виробів, н.в.і.у.",null,null,null,null,null,null,null,null,null,null,null,null,null,null,null,null,null,null,null,null,null,null,null,null,null,null,null,null,"Автономна Республіка Крим","Ковильне (Ковильнівська сільська рада)"]
[null,null,null,null,null,null,null,null,null,null,null,null,null,null,null,null,"Металургійне виробництво",null,null,null,null,null,null,null,null,null,null,null,null,null,null,null,null,null,null,null,null,null,null,null,null,null,null,null,null,"Автономна Республіка Крим","Коврове"]
[null,null,null,null,null,null,null,null,null,null,null,null,null,null,null,null,"Виробництво чавуну, сталі та феросплавів",null,null,null,null,null,null,null,null,null,null,null,null,null,null,null,null,null,null,null,null,null,null,null,null,null,null,null,null,"Автономна Республіка Крим","Коктебель"]
[null,null,null,null,null,null,null,null,null,null,null,null,null,null,null,null,"Виробництво чавуну, сталі та феросплавів",null,null,null,null,null,null,null,null,null,null,null,null,null,null,null,null,null,null,null,null,null,null,null,null,null,null,null,null,"Автономна Республіка Крим","Колодязне"]
[null,null,null,null,null,null,null,null,null,null,null,null,null,null,null,null,"Виробництво труб, порожнистих профілів і фітингів зі сталі",null,null,null,null,null,null,null,null,null,null,null,null,null,null,null,null,null,null,null,null,null,null,null,null,null,null,null,null,"Автономна Республіка Крим","Коломенське"]
[null,null,null,null,null,null,null,null,null,null,null,null,null,null,null,null,"Виробництво труб, порожнистих профілів і фітингів зі сталі",null,null,null,null,null,null,null,null,null,null,null,null,null,null,null,null,null,null,null,null,null,null,null,null,null,null,null,null,"Автономна Республіка Крим","Колоски"]
[null,null,null,null,null,null,null,null,null,null,null,null,null,null,null,null,"Виробництво іншої продукції первинного оброблення сталі",null,null,null,null,null,null,null,null,null,null,null,null,null,null,null,null,null,null,null,null,null,null,null,null,null,null,null,null,"Автономна Республіка Крим","Кольцове"]
[null,null,null,null,null,null,null,null,null,null,null,null,null,null,null,null,"Холодне волочіння прутків і профілів",null,null,null,null,null,null,null,null,null,null,null,null,null,null,null,null,null,null,null,null,null,null,null,null,null,null,null,null,"Автономна Республіка Крим","Кольчугине"]
[null,null,null,null,null,null,null,null,null,null,null,null,null,null,null,null,"Холодний прокат вузької штаби",null,null,null,null,null,null,null,null,null,null,null,null,null,null,null,null,null,null,null,null,null,null,null,null,null,null,null,null,"Автономна Республіка Крим","Комарівка"]
[null,null,null,null,null,null,null,null,null,null,null,null,null,null,null,null,"Холодне штампування та гнуття",null,null,null,null,null,null,null,null,null,null,null,null,null,null,null,null,null,null,null,null,null,null,null,null,null,null,null,null,"Автономна Республіка Крим","Комишинка"]
[null,null,null,null,null,null,null,null,null,null,null,null,null,null,null,null,"Холодне волочіння дроту",null,null,null,null,null,null,null,null,null,null,null,null,null,null,null,null,null,null,null,null,null,null,null,null,null,null,null,null,"Автономна Республіка Крим","Комишне (Руч'ївська сільська рада)"]
[null,null,null,null,null,null,null,null,null,null,null,null,null,null,null,null,"Виробництво дорогоцінних та інших кольорових металів",null,null,null,null,null,null,null,null,null,null,null,null,null,null,null,null,null,null,null,null,null,null,null,null,null,null,null,null,"Автономна Республіка Крим","Комсомольське"]
[null,null,null,null,null,null,null,null,null,null,null,null,null,null,null,null,"Виробництво дорогоцінних металів",null,null,null,null,null,null,null,null,null,null,null,null,null,null,null,null,null,null,null,null,null,null,null,null,null,null,null,null,"Автономна Республіка Крим","Комунари"]
[null,null,null,null,null,null,null,null,null,null,null,null,null,null,null,null,"Виробництво алюмінію",null,null,null,null,null,null,null,null,null,null,null,null,null,null,null,null,null,null,null,null,null,null,null,null,null,null,null,null,"Автономна Республіка Крим","Комунарне (Руч'ївська сільська рада)"]
[null,null,null,null,null,null,null,null,null,null,null,null,null,null,null,null,"Виробництво свинцю, цинку й олова",null,null,null,null,null,null,null,null,null,null,null,null,null,null,null,null,null,null,null,null,null,null,null,null,null,null,null,null,"Автономна Республіка Крим","Копані"]
[null,null,null,null,null,null,null,null,null,null,null,null,null,null,null,null,"Виробництво міді",null,null,null,null,null,null,null,null,null,null,null,null,null,null,null,null,null,null,null,null,null,null,null,null,null,null,null,null,"Автономна Республіка Крим","Кореїз"]
[null,null,null,null,null,null,null,null,null,null,null,null,null,null,null,null,"Виробництво інших кольорових металів",null,null,null,null,null,null,null,null,null,null,null,null,null,null,null,null,null,null,null,null,null,null,null,null,null,null,null,null,"Автономна Республіка Крим","Корінне"]
[null,null,null,null,null,null,null,null,null,null,null,null,null,null,null,null,"Виробництво ядерних матеріалів",null,null,null,null,null,null,null,null,null,null,null,null,null,null,null,null,null,null,null,null,null,null,null,null,null,null,null,null,"Автономна Республіка Крим","Кормове (Кормовської)"]
[null,null,null,null,null,null,null,null,null,null,null,null,null,null,null,null,"Лиття металів",null,null,null,null,null,null,null,null,null,null,null,null,null,null,null,null,null,null,null,null,null,null,null,null,null,null,null,null,"Автономна Республіка Крим","Корніївка"]
[null,null,null,null,null,null,null,null,null,null,null,null,null,null,null,null,"Лиття чавуну",null,null,null,null,null,null,null,null,null,null,null,null,null,null,null,null,null,null,null,null,null,null,null,null,null,null,null,null,"Автономна Республіка Крим","Корольове"]
[null,null,null,null,null,null,null,null,null,null,null,null,null,null,null,null,"Лиття сталі",null,null,null,null,null,null,null,null,null,null,null,null,null,null,null,null,null,null,null,null,null,null,null,null,null,null,null,null,"Автономна Республіка Крим","Костиріне"]
[null,null,null,null,null,null,null,null,null,null,null,null,null,null,null,null,"Лиття легких кольорових металів",null,null,null,null,null,null,null,null,null,null,null,null,null,null,null,null,null,null,null,null,null,null,null,null,null,null,null,null,"Автономна Республіка Крим","Костянтинівка"]
[null,null,null,null,null,null,null,null,null,null,null,null,null,null,null,null,"Лиття інших кольорових металів",null,null,null,null,null,null,null,null,null,null,null,null,null,null,null,null,null,null,null,null,null,null,null,null,null,null,null,null,"Автономна Республіка Крим","Котельникове"]
[null,null,null,null,null,null,null,null,null,null,null,null,null,null,null,null,"Виробництво готових металевих виробів, крім машин і устатковання",null,null,null,null,null,null,null,null,null,null,null,null,null,null,null,null,null,null,null,null,null,null,null,null,null,null,null,null,"Автономна Республіка Крим","Котовське (Славнівська сільська рада)"]
[null,null,null,null,null,null,null,null,null,null,null,null,null,null,null,null,"Виробництво будівельних металевих конструкцій і виробів",null,null,null,null,null,null,null,null,null,null,null,null,null,null,null,null,null,null,null,null,null,null,null,null,null,null,null,null,"Автономна Республіка Крим","Кочергіне"]
[null,null,null,null,null,null,null,null,null,null,null,null,null,null,null,null,"Виробництво будівельних металевих конструкцій і частин конструкцій",null,null,null,null,null,null,null,null,null,null,null,null,null,null,null,null,null,null,null,null,null,null,null,null,null,null,null,null,"Автономна Республіка Крим","Крайнє (Крайненська)"]
[null,null,null,null,null,null,null,null,null,null,null,null,null,null,null,null,"Виробництво металевих дверей і вікон",null,null,null,null,null,null,null,null,null,null,null,null,null,null,null,null,null,null,null,null,null,null,null,null,null,null,null,null,"Автономна Республіка Крим","Красна Долина"]
[null,null,null,null,null,null,null,null,null,null,null,null,null,null,null,null,"Виробництво металевих баків, резервуарів і контейнерів",null,null,null,null,null,null,null,null,null,null,null,null,null,null,null,null,null,null,null,null,null,null,null,null,null,null,null,null,"Автономна Республіка Крим","Красна Зорька"]
[null,null,null,null,null,null,null,null,null,null,null,null,null,null,null,null,"Виробництво радіаторів і  котлів центрального опалення",null,null,null,null,null,null,null,null,null,null,null,null,null,null,null,null,null,null,null,null,null,null,null,null,null,null,null,null,"Автономна Республіка Крим","Красна Поляна"]
[null,null,null,null,null,null,null,null,null,null,null,null,null,null,null,null,"Виробництво інших металевих баків, резервуарів і контейнерів",null,null,null,null,null,null,null,null,null,null,null,null,null,null,null,null,null,null,null,null,null,null,null,null,null,null,null,null,"Автономна Республіка Крим","Красна Слобода"]
[null,null,null,null,null,null,null,null,null,null,null,null,null,null,null,null,"Виробництво парових котлів, крім котлів центрального опалення",null,null,null,null,null,null,null,null,null,null,null,null,null,null,null,null,null,null,null,null,null,null,null,null,null,null,null,null,"Автономна Республіка Крим","Красний Мак"]
[null,null,null,null,null,null,null,null,null,null,null,null,null,null,null,null,"Виробництво парових котлів, крім котлів центрального опалення",null,null,null,null,null,null,null,null,null,null,null,null,null,null,null,null,null,null,null,null,null,null,null,null,null,null,null,null,"Автономна Республіка Крим","Красний Партизан"]
[null,null,null,null,null,null,null,null,null,null,null,null,null,null,null,null,"Виробництво зброї та боєприпасів",null,null,null,null,null,null,null,null,null,null,null,null,null,null,null,null,null,null,null,null,null,null,null,null,null,null,null,null,"Автономна Республіка Крим","Краснівка"]
[null,null,null,null,null,null,null,null,null,null,null,null,null,null,null,null,"Виробництво зброї та боєприпасів",null,null,null,null,null,null,null,null,null,null,null,null,null,null,null,null,null,null,null,null,null,null,null,null,null,null,null,null,"Автономна Республіка Крим","Красноармійське (Зиминська сільська рада)"]
[null,null,null,null,null,null,null,null,null,null,null,null,null,null,null,null,"Кування, пресування, штампування, профілювання; порошкова металургія",null,null,null,null,null,null,null,null,null,null,null,null,null,null,null,null,null,null,null,null,null,null,null,null,null,null,null,null,"Автономна Республіка Крим","Красноармійське (Красноармійська)"]
[null,null,null,null,null,null,null,null,null,null,null,null,null,null,null,null,"Кування, пресування, штампування, профілювання; порошкова металургія",null,null,null,null,null,null,null,null,null,null,null,null,null,null,null,null,null,null,null,null,null,null,null,null,null,null,null,null,"Автономна Республіка Крим","Красногвардійське"]
[null,null,null,null,null,null,null,null,null,null,null,null,null,null,null,null,"Оброблення металів та нанесення покриття на метали; механічне оброблення металевих виробів",null,null,null,null,null,null,null,null,null,null,null,null,null,null,null,null,null,null,null,null,null,null,null,null,null,null,null,null,"Автономна Республіка Крим","Красногірка"]
[null,null,null,null,null,null,null,null,null,null,null,null,null,null,null,null,"Оброблення металів та нанесення покриття на метали",null,null,null,null,null,null,null,null,null,null,null,null,null,null,null,null,null,null,null,null,null,null,null,null,null,null,null,null,"Автономна Республіка Крим","Красногірське"]
[null,null,null,null,null,null,null,null,null,null,null,null,null,null,null,null,"Механічне оброблення металевих виробів",null,null,null,null,null,null,null,null,null,null,null,null,null,null,null,null,null,null,null,null,null,null,null,null,null,null,null,null,"Автономна Республіка Крим","Краснодарка"]
[null,null,null,null,null,null,null,null,null,null,null,null,null,null,null,null,"Виробництво столових приборів, інструментів і металевих виробів загального призначення",null,null,null,null,null,null,null,null,null,null,null,null,null,null,null,null,null,null,null,null,null,null,null,null,null,null,null,null,"Автономна Республіка Крим","Краснодольне"]
[null,null,null,null,null,null,null,null,null,null,null,null,null,null,null,null,"Виробництво столових приборів",null,null,null,null,null,null,null,null,null,null,null,null,null,null,null,null,null,null,null,null,null,null,null,null,null,null,null,null,"Автономна Республіка Крим","Краснознам'янка"]
[null,null,null,null,null,null,null,null,null,null,null,null,null,null,null,null,"Виробництво замків і дверних петель",null,null,null,null,null,null,null,null,null,null,null,null,null,null,null,null,null,null,null,null,null,null,null,null,null,null,null,null,"Автономна Республіка Крим","Краснокам'янка"]
[null,null,null,null,null,null,null,null,null,null,null,null,null,null,null,null,"Виробництво інструментів",null,null,null,null,null,null,null,null,null,null,null,null,null,null,null,null,null,null,null,null,null,null,null,null,null,null,null,null,"Автономна Республіка Крим","Краснолісся"]
[null,null,null,null,null,null,null,null,null,null,null,null,null,null,null,null,"Виробництво інших готових металевих виробів",null,null,null,null,null,null,null,null,null,null,null,null,null,null,null,null,null,null,null,null,null,null,null,null,null,null,null,null,"Автономна Республіка Крим","Красноперекопськ"]
[null,null,null,null,null,null,null,null,null,null,null,null,null,null,null,null,"Виробництво сталевих бочок і подібних контейнерів",null,null,null,null,null,null,null,null,null,null,null,null,null,null,null,null,null,null,null,null,null,null,null,null,null,null,null,null,"Автономна Республіка Крим","Красноселівка"]
[null,null,null,null,null,null,null,null,null,null,null,null,null,null,null,null,"Виробництво легких металевих паковань",null,null,null,null,null,null,null,null,null,null,null,null,null,null,null,null,null,null,null,null,null,null,null,null,null,null,null,null,"Автономна Республіка Крим","Красносільське"]
[null,null,null,null,null,null,null,null,null,null,null,null,null,null,null,null,"Виробництво виробів із дроту, ланцюгів і пружин",null,null,null,null,null,null,null,null,null,null,null,null,null,null,null,null,null,null,null,null,null,null,null,null,null,null,null,null,"Автономна Республіка Крим","Красносільське (Окунівська)"]
[null,null,null,null,null,null,null,null,null,null,null,null,null,null,null,null,"Виробництво кріпильних і ґвинтонарізних виробів",null,null,null,null,null,null,null,null,null,null,null,null,null,null,null,null,null,null,null,null,null,null,null,null,null,null,null,null,"Автономна Республіка Крим","Краснофлотське"]
[null,null,null,null,null,null,null,null,null,null,null,null,null,null,null,null,"Виробництво інших готових металевих виробів, н.в.і.у.",null,null,null,null,null,null,null,null,null,null,null,null,null,null,null,null,null,null,null,null,null,null,null,null,null,null,null,null,"Автономна Республіка Крим","Красноярське"]
[null,null,null,null,null,null,null,null,null,null,null,null,null,null,null,null,"Виробництво комп'ютерів, електронної та оптичної продукції",null,null,null,null,null,null,null,null,null,null,null,null,null,null,null,null,null,null,null,null,null,null,null,null,null,null,null,null,"Автономна Республіка Крим","Кремнівка"]
[null,null,null,null,null,null,null,null,null,null,null,null,null,null,null,null,"Виробництво електронних компонентів і плат",null,null,null,null,null,null,null,null,null,null,null,null,null,null,null,null,null,null,null,null,null,null,null,null,null,null,null,null,"Автономна Республіка Крим","Крестянівка (Крестянівскої)"]
[null,null,null,null,null,null,null,null,null,null,null,null,null,null,null,null,"Виробництво електронних компонентів",null,null,null,null,null,null,null,null,null,null,null,null,null,null,null,null,null,null,null,null,null,null,null,null,null,null,null,null,"Автономна Республіка Крим","Кривцове"]
[null,null,null,null,null,null,null,null,null,null,null,null,null,null,null,null,"Виробництво змонтованих електронних плат",null,null,null,null,null,null,null,null,null,null,null,null,null,null,null,null,null,null,null,null,null,null,null,null,null,null,null,null,"Автономна Республіка Крим","Криловка (Степновської)"]
[null,null,null,null,null,null,null,null,null,null,null,null,null,null,null,null,"Виробництво комп'ютерів і периферійного устатковання",null,null,null,null,null,null,null,null,null,null,null,null,null,null,null,null,null,null,null,null,null,null,null,null,null,null,null,null,"Автономна Республіка Крим","Криловка (Штормівська)"]
[null,null,null,null,null,null,null,null,null,null,null,null,null,null,null,null,"Виробництво комп'ютерів і периферійного устатковання",null,null,null,null,null,null,null,null,null,null,null,null,null,null,null,null,null,null,null,null,null,null,null,null,null,null,null,null,"Автономна Республіка Крим","Кримка"]
[null,null,null,null,null,null,null,null,null,null,null,null,null,null,null,null,"Виробництво обладнання зв'язку",null,null,null,null,null,null,null,null,null,null,null,null,null,null,null,null,null,null,null,null,null,null,null,null,null,null,null,null,"Автономна Республіка Крим","Кримська Роза"]
[null,null,null,null,null,null,null,null,null,null,null,null,null,null,null,null,"Виробництво обладнання зв'язку",null,null,null,null,null,null,null,null,null,null,null,null,null,null,null,null,null,null,null,null,null,null,null,null,null,null,null,null,"Автономна Республіка Крим","Кримське"]
[null,null,null,null,null,null,null,null,null,null,null,null,null,null,null,null,"Виробництво електронної апаратури побутового призначення для приймання, записування та відтворювання звуку й зображення",null,null,null,null,null,null,null,null,null,null,null,null,null,null,null,null,null,null,null,null,null,null,null,null,null,null,null,null,"Автономна Республіка Крим","Кринички"]
[null,null,null,null,null,null,null,null,null,null,null,null,null,null,null,null,"Виробництво електронної апаратури побутового призначення для приймання, записування та відтворювання звуку й зображення",null,null,null,null,null,null,null,null,null,null,null,null,null,null,null,null,null,null,null,null,null,null,null,null,null,null,null,null,"Автономна Республіка Крим","Кріпке (Вишнівської)"]
[null,null,null,null,null,null,null,null,null,null,null,null,null,null,null,null,"Виробництво інструментів і обладнання для вимірювання, дослідження та навігації; виробництво годинників",null,null,null,null,null,null,null,null,null,null,null,null,null,null,null,null,null,null,null,null,null,null,null,null,null,null,null,null,"Автономна Республіка Крим","Кропоткіне (Чернишівська сільська рада)"]
[null,null,null,null,null,null,null,null,null,null,null,null,null,null,null,null,"Виробництво інструментів і обладнання для вимірювання, дослідження та навігації",null,null,null,null,null,null,null,null,null,null,null,null,null,null,null,null,null,null,null,null,null,null,null,null,null,null,null,null,"Автономна Республіка Крим","Кубанське"]
[null,null,null,null,null,null,null,null,null,null,null,null,null,null,null,null,"Виробництво годинників",null,null,null,null,null,null,null,null,null,null,null,null,null,null,null,null,null,null,null,null,null,null,null,null,null,null,null,null,"Автономна Республіка Крим","Кудрине"]
[null,null,null,null,null,null,null,null,null,null,null,null,null,null,null,null,"Виробництво радіологічного, електромедичного й електротерапевтичного устатковання",null,null,null,null,null,null,null,null,null,null,null,null,null,null,null,null,null,null,null,null,null,null,null,null,null,null,null,null,"Автономна Республіка Крим","Кузнецьке"]
[null,null,null,null,null,null,null,null,null,null,null,null,null,null,null,null,"Виробництво радіологічного, електромедичного й електротерапевтичного устатковання",null,null,null,null,null,null,null,null,null,null,null,null,null,null,null,null,null,null,null,null,null,null,null,null,null,null,null,null,"Автономна Республіка Крим","Куйбишеве"]
[null,null,null,null,null,null,null,null,null,null,null,null,null,null,null,null,"Виробництво оптичних приладів і фотографічного устатковання",null,null,null,null,null,null,null,null,null,null,null,null,null,null,null,null,null,null,null,null,null,null,null,null,null,null,null,null,"Автономна Республіка Крим","Кукурудзяне"]
[null,null,null,null,null,null,null,null,null,null,null,null,null,null,null,null,"Виробництво оптичних приладів і фотографічного устатковання",null,null,null,null,null,null,null,null,null,null,null,null,null,null,null,null,null,null,null,null,null,null,null,null,null,null,null,null,"Автономна Республіка Крим","Кукушкіне"]
[null,null,null,null,null,null,null,null,null,null,null,null,null,null,null,null,"Виробництво магнітних і оптичних носіїв даних",null,null,null,null,null,null,null,null,null,null,null,null,null,null,null,null,null,null,null,null,null,null,null,null,null,null,null,null,"Автономна Республіка Крим","Куликівка"]
[null,null,null,null,null,null,null,null,null,null,null,null,null,null,null,null,"Виробництво магнітних і оптичних носіїв даних",null,null,null,null,null,null,null,null,null,null,null,null,null,null,null,null,null,null,null,null,null,null,null,null,null,null,null,null,"Автономна Республіка Крим","Кумове (Ботанічна сільська рада)"]
[null,null,null,null,null,null,null,null,null,null,null,null,null,null,null,null,"Виробництво електричного устатковання",null,null,null,null,null,null,null,null,null,null,null,null,null,null,null,null,null,null,null,null,null,null,null,null,null,null,null,null,"Автономна Республіка Крим","Кунцеве"]
[null,null,null,null,null,null,null,null,null,null,null,null,null,null,null,null,"Виробництво електродвигунів, генераторів, трансформаторів, електророзподільчої та контрольної апаратури",null,null,null,null,null,null,null,null,null,null,null,null,null,null,null,null,null,null,null,null,null,null,null,null,null,null,null,null,"Автономна Республіка Крим","Купріне"]
[null,null,null,null,null,null,null,null,null,null,null,null,null,null,null,null,"Виробництво електродвигунів, генераторів і трансформаторів",null,null,null,null,null,null,null,null,null,null,null,null,null,null,null,null,null,null,null,null,null,null,null,null,null,null,null,null,"Автономна Республіка Крим","Курганне"]
[null,null,null,null,null,null,null,null,null,null,null,null,null,null,null,null,"Виробництво електророзподільчої та контрольної апаратури",null,null,null,null,null,null,null,null,null,null,null,null,null,null,null,null,null,null,null,null,null,null,null,null,null,null,null,null,"Автономна Республіка Крим","Курганне (Ільїнка)"]
[null,null,null,null,null,null,null,null,null,null,null,null,null,null,null,null,"Виробництво батарей і акумуляторів",null,null,null,null,null,null,null,null,null,null,null,null,null,null,null,null,null,null,null,null,null,null,null,null,null,null,null,null,"Автономна Республіка Крим","Курортне"]
[null,null,null,null,null,null,null,null,null,null,null,null,null,null,null,null,"Виробництво батарей і акумуляторів",null,null,null,null,null,null,null,null,null,null,null,null,null,null,null,null,null,null,null,null,null,null,null,null,null,null,null,null,"Автономна Республіка Крим","Курпати"]
[null,null,null,null,null,null,null,null,null,null,null,null,null,null,null,null,"Виробництво проводів, кабелів і електромонтажних пристроїв",null,null,null,null,null,null,null,null,null,null,null,null,null,null,null,null,null,null,null,null,null,null,null,null,null,null,null,null,"Автономна Республіка Крим","Курське"]
[null,null,null,null,null,null,null,null,null,null,null,null,null,null,null,null,"Виробництво волоконно-оптичних кабелів",null,null,null,null,null,null,null,null,null,null,null,null,null,null,null,null,null,null,null,null,null,null,null,null,null,null,null,null,"Автономна Республіка Крим","Лаванда"]
[null,null,null,null,null,null,null,null,null,null,null,null,null,null,null,null,"Виробництво інших видів електронних і електричних проводів та кабелів",null,null,null,null,null,null,null,null,null,null,null,null,null,null,null,null,null,null,null,null,null,null,null,null,null,null,null,null,"Автономна Республіка Крим","Лаврове"]
[null,null,null,null,null,null,null,null,null,null,null,null,null,null,null,null,"Виробництво електромонтажних пристроїв",null,null,null,null,null,null,null,null,null,null,null,null,null,null,null,null,null,null,null,null,null,null,null,null,null,null,null,null,"Автономна Республіка Крим","Лазарівка"]
[null,null,null,null,null,null,null,null,null,null,null,null,null,null,null,null,"Виробництво електричного освітлювального устатковання",null,null,null,null,null,null,null,null,null,null,null,null,null,null,null,null,null,null,null,null,null,null,null,null,null,null,null,null,"Автономна Республіка Крим","Лазурне"]
[null,null,null,null,null,null,null,null,null,null,null,null,null,null,null,null,"Виробництво електричного освітлювального устатковання",null,null,null,null,null,null,null,null,null,null,null,null,null,null,null,null,null,null,null,null,null,null,null,null,null,null,null,null,"Автономна Республіка Крим","Лебединка"]
[null,null,null,null,null,null,null,null,null,null,null,null,null,null,null,null,"Виробництво побутових приладів",null,null,null,null,null,null,null,null,null,null,null,null,null,null,null,null,null,null,null,null,null,null,null,null,null,null,null,null,"Автономна Республіка Крим","Левадки"]
[null,null,null,null,null,null,null,null,null,null,null,null,null,null,null,null,"Виробництво електричних побутових приладів",null,null,null,null,null,null,null,null,null,null,null,null,null,null,null,null,null,null,null,null,null,null,null,null,null,null,null,null,"Автономна Республіка Крим","Левітанівка (Калінінської)"]
[null,null,null,null,null,null,null,null,null,null,null,null,null,null,null,null,"Виробництво неелектричних побутових приладів",null,null,null,null,null,null,null,null,null,null,null,null,null,null,null,null,null,null,null,null,null,null,null,null,null,null,null,null,"Автономна Республіка Крим","Леніне"]
[null,null,null,null,null,null,null,null,null,null,null,null,null,null,null,null,"Виробництво іншого електричного устатковання",null,null,null,null,null,null,null,null,null,null,null,null,null,null,null,null,null,null,null,null,null,null,null,null,null,null,null,null,"Автономна Республіка Крим","Ленінське"]
[null,null,null,null,null,null,null,null,null,null,null,null,null,null,null,null,"Виробництво іншого електричного устатковання",null,null,null,null,null,null,null,null,null,null,null,null,null,null,null,null,null,null,null,null,null,null,null,null,null,null,null,null,"Автономна Республіка Крим","Ленське"]
[null,null,null,null,null,null,null,null,null,null,null,null,null,null,null,null,"Виробництво машин і устатковання, н.в.і.у.",null,null,null,null,null,null,null,null,null,null,null,null,null,null,null,null,null,null,null,null,null,null,null,null,null,null,null,null,"Автономна Республіка Крим","Лиманне"]
[null,null,null,null,null,null,null,null,null,null,null,null,null,null,null,null,"Виробництво машин і устатковання загального призначення",null,null,null,null,null,null,null,null,null,null,null,null,null,null,null,null,null,null,null,null,null,null,null,null,null,null,null,null,"Автономна Республіка Крим","Листвинне"]
[null,null,null,null,null,null,null,null,null,null,null,null,null,null,null,null,"Виробництво двигунів і турбін, крім авіаційних, автотранспортних і мотоциклетних двигунів",null,null,null,null,null,null,null,null,null,null,null,null,null,null,null,null,null,null,null,null,null,null,null,null,null,null,null,null,"Автономна Республіка Крим","Листове"]
[null,null,null,null,null,null,null,null,null,null,null,null,null,null,null,null,"Виробництво гідравлічного та пневматичного устатковання",null,null,null,null,null,null,null,null,null,null,null,null,null,null,null,null,null,null,null,null,null,null,null,null,null,null,null,null,"Автономна Республіка Крим","Литвиненкове"]
[null,null,null,null,null,null,null,null,null,null,null,null,null,null,null,null,"Виробництво інших помп і компресорів",null,null,null,null,null,null,null,null,null,null,null,null,null,null,null,null,null,null,null,null,null,null,null,null,null,null,null,null,"Автономна Республіка Крим","Лібкнехтівка"]
[null,null,null,null,null,null,null,null,null,null,null,null,null,null,null,null,"Виробництво інших кранів і клапанів",null,null,null,null,null,null,null,null,null,null,null,null,null,null,null,null,null,null,null,null,null,null,null,null,null,null,null,null,"Автономна Республіка Крим","Лівадія"]
[null,null,null,null,null,null,null,null,null,null,null,null,null,null,null,null,"Виробництво підшипників, зубчастих передач, елементів механічних передач і приводів",null,null,null,null,null,null,null,null,null,null,null,null,null,null,null,null,null,null,null,null,null,null,null,null,null,null,null,null,"Автономна Республіка Крим","Лікарственне"]
[null,null,null,null,null,null,null,null,null,null,null,null,null,null,null,null,"Виробництво інших машин і устатковання загального призначення",null,null,null,null,null,null,null,null,null,null,null,null,null,null,null,null,null,null,null,null,null,null,null,null,null,null,null,null,"Автономна Республіка Крим","Лінійне"]
[null,null,null,null,null,null,null,null,null,null,null,null,null,null,null,null,"Виробництво духових шаф, печей і пічних пальників",null,null,null,null,null,null,null,null,null,null,null,null,null,null,null,null,null,null,null,null,null,null,null,null,null,null,null,null,"Автономна Республіка Крим","Лісне"]
[null,null,null,null,null,null,null,null,null,null,null,null,null,null,null,null,"Виробництво підіймального та вантажно-розвантажувального устатковання",null,null,null,null,null,null,null,null,null,null,null,null,null,null,null,null,null,null,null,null,null,null,null,null,null,null,null,null,"Автономна Республіка Крим","Ліснівка"]
[null,null,null,null,null,null,null,null,null,null,null,null,null,null,null,null,"Виробництво офісних машин і устатковання, крім комп'ютерів і периферійного устатковання",null,null,null,null,null,null,null,null,null,null,null,null,null,null,null,null,null,null,null,null,null,null,null,null,null,null,null,null,"Автономна Республіка Крим","Лісносілля"]
[null,null,null,null,null,null,null,null,null,null,null,null,null,null,null,null,"Виробництво ручних електромеханічних і пневматичних інструментів",null,null,null,null,null,null,null,null,null,null,null,null,null,null,null,null,null,null,null,null,null,null,null,null,null,null,null,null,"Автономна Республіка Крим","Лічебне"]
[null,null,null,null,null,null,null,null,null,null,null,null,null,null,null,null,"Виробництво промислового холодильного та вентиляційного устатковання",null,null,null,null,null,null,null,null,null,null,null,null,null,null,null,null,null,null,null,null,null,null,null,null,null,null,null,null,"Автономна Республіка Крим","Лобанове"]
[null,null,null,null,null,null,null,null,null,null,null,null,null,null,null,null,"Виробництво інших машин і устатковання загального призначення, н.в.і.у.",null,null,null,null,null,null,null,null,null,null,null,null,null,null,null,null,null,null,null,null,null,null,null,null,null,null,null,null,"Автономна Республіка Крим","Ломоносове"]
[null,null,null,null,null,null,null,null,null,null,null,null,null,null,null,null,"Виробництво машин і устатковання для сільського та лісового господарства",null,null,null,null,null,null,null,null,null,null,null,null,null,null,null,null,null,null,null,null,null,null,null,null,null,null,null,null,"Автономна Республіка Крим","Лохівка"]
[null,null,null,null,null,null,null,null,null,null,null,null,null,null,null,null,"Виробництво машин і устатковання для сільського та лісового господарства",null,null,null,null,null,null,null,null,null,null,null,null,null,null,null,null,null,null,null,null,null,null,null,null,null,null,null,null,"Автономна Республіка Крим","Луганське"]
[null,null,null,null,null,null,null,null,null,null,null,null,null,null,null,null,"Виробництво металообробних машин і верстатів",null,null,null,null,null,null,null,null,null,null,null,null,null,null,null,null,null,null,null,null,null,null,null,null,null,null,null,null,"Автономна Республіка Крим","Лугове"]
[null,null,null,null,null,null,null,null,null,null,null,null,null,null,null,null,"Виробництво металообробних машин",null,null,null,null,null,null,null,null,null,null,null,null,null,null,null,null,null,null,null,null,null,null,null,null,null,null,null,null,"Автономна Республіка Крим","Лугове (Сизівська)"]
[null,null,null,null,null,null,null,null,null,null,null,null,null,null,null,null,"Виробництво інших верстатів",null,null,null,null,null,null,null,null,null,null,null,null,null,null,null,null,null,null,null,null,null,null,null,null,null,null,null,null,"Автономна Республіка Крим","Лужки"]
[null,null,null,null,null,null,null,null,null,null,null,null,null,null,null,null,"Виробництво інших машин і устатковання спеціального призначення",null,null,null,null,null,null,null,null,null,null,null,null,null,null,null,null,null,null,null,null,null,null,null,null,null,null,null,null,"Автономна Республіка Крим","Лучисте"]
[null,null,null,null,null,null,null,null,null,null,null,null,null,null,null,null,"Виробництво машин і устатковання для металургії",null,null,null,null,null,null,null,null,null,null,null,null,null,null,null,null,null,null,null,null,null,null,null,null,null,null,null,null,"Автономна Республіка Крим","Лучове"]
[null,null,null,null,null,null,null,null,null,null,null,null,null,null,null,null,"Виробництво машин і устатковання для добувної промисловості та будівництва",null,null,null,null,null,null,null,null,null,null,null,null,null,null,null,null,null,null,null,null,null,null,null,null,null,null,null,null,"Автономна Республіка Крим","Лушине (Стовпівська)"]
[null,null,null,null,null,null,null,null,null,null,null,null,null,null,null,null,"Виробництво машин і устатковання для виготовлення харчових продуктів і напоїв, перероблення тютюну",null,null,null,null,null,null,null,null,null,null,null,null,null,null,null,null,null,null,null,null,null,null,null,null,null,null,null,null,"Автономна Республіка Крим","Любимівка"]
[null,null,null,null,null,null,null,null,null,null,null,null,null,null,null,null,"Виробництво машин і устатковання для виготовлення текстильних, швейних, хутряних і шкіряних виробів",null,null,null,null,null,null,null,null,null,null,null,null,null,null,null,null,null,null,null,null,null,null,null,null,null,null,null,null,"Автономна Республіка Крим","Львове"]
[null,null,null,null,null,null,null,null,null,null,null,null,null,null,null,null,"Виробництво машин і устатковання для виготовлення паперу та картону",null,null,null,null,null,null,null,null,null,null,null,null,null,null,null,null,null,null,null,null,null,null,null,null,null,null,null,null,"Автономна Республіка Крим","Льговське"]
[null,null,null,null,null,null,null,null,null,null,null,null,null,null,null,null,"Виробництво машин і устатковання для виготовлення пластмас і гуми",null,null,null,null,null,null,null,null,null,null,null,null,null,null,null,null,null,null,null,null,null,null,null,null,null,null,null,null,"Автономна Республіка Крим","Магазинка (Магазинська)"]
[null,null,null,null,null,null,null,null,null,null,null,null,null,null,null,null,"Виробництво інших машин і устатковання спеціального призначення, н.в.і.у.",null,null,null,null,null,null,null,null,null,null,null,null,null,null,null,null,null,null,null,null,null,null,null,null,null,null,null,null,"Автономна Республіка Крим","Мазанка"]
[null,null,null,null,null,null,null,null,null,null,null,null,null,null,null,null,"Виробництво автотранспортних засобів, причепів і напівпричепів",null,null,null,null,null,null,null,null,null,null,null,null,null,null,null,null,null,null,null,null,null,null,null,null,null,null,null,null,"Автономна Республіка Крим","Майське"]
[null,null,null,null,null,null,null,null,null,null,null,null,null,null,null,null,"Виробництво автотранспортних засобів",null,null,null,null,null,null,null,null,null,null,null,null,null,null,null,null,null,null,null,null,null,null,null,null,null,null,null,null,"Автономна Республіка Крим","Макарівка (Первомайської)"]
[null,null,null,null,null,null,null,null,null,null,null,null,null,null,null,null,"Виробництво автотранспортних засобів",null,null,null,null,null,null,null,null,null,null,null,null,null,null,null,null,null,null,null,null,null,null,null,null,null,null,null,null,"Автономна Республіка Крим","Маківка"]
[null,null,null,null,null,null,null,null,null,null,null,null,null,null,null,null,"Виробництво кузовів для автотранспортних засобів, причепів і напівпричепів",null,null,null,null,null,null,null,null,null,null,null,null,null,null,null,null,null,null,null,null,null,null,null,null,null,null,null,null,"Автономна Республіка Крим","Маківське"]
[null,null,null,null,null,null,null,null,null,null,null,null,null,null,null,null,"Виробництво кузовів для автотранспортних засобів, причепів і напівпричепів",null,null,null,null,null,null,null,null,null,null,null,null,null,null,null,null,null,null,null,null,null,null,null,null,null,null,null,null,"Автономна Республіка Крим","Максимівка (Руч'ївська сільська рада)"]
[null,null,null,null,null,null,null,null,null,null,null,null,null,null,null,null,"Виробництво вузлів, деталей і приладдя для автотранспортних засобів",null,null,null,null,null,null,null,null,null,null,null,null,null,null,null,null,null,null,null,null,null,null,null,null,null,null,null,null,"Автономна Республіка Крим","Мале Садове"]
[null,null,null,null,null,null,null,null,null,null,null,null,null,null,null,null,"Виробництво електричного й електронного устатковання для автотранспортних засобів",null,null,null,null,null,null,null,null,null,null,null,null,null,null,null,null,null,null,null,null,null,null,null,null,null,null,null,null,"Автономна Республіка Крим","Маленьке"]
[null,null,null,null,null,null,null,null,null,null,null,null,null,null,null,null,"Виробництво інших вузлів, деталей і приладдя для автотранспортних засобів",null,null,null,null,null,null,null,null,null,null,null,null,null,null,null,null,null,null,null,null,null,null,null,null,null,null,null,null,"Автономна Республіка Крим","Малий Маяк"]
[null,null,null,null,null,null,null,null,null,null,null,null,null,null,null,null,"Виробництво інших транспортних засобів",null,null,null,null,null,null,null,null,null,null,null,null,null,null,null,null,null,null,null,null,null,null,null,null,null,null,null,null,"Автономна Республіка Крим","Малинівка"]
[null,null,null,null,null,null,null,null,null,null,null,null,null,null,null,null,"Будування суден і човнів",null,null,null,null,null,null,null,null,null,null,null,null,null,null,null,null,null,null,null,null,null,null,null,null,null,null,null,null,"Автономна Республіка Крим","Маловидне"]
[null,null,null,null,null,null,null,null,null,null,null,null,null,null,null,null,"Будування суден і плавучих конструкцій",null,null,null,null,null,null,null,null,null,null,null,null,null,null,null,null,null,null,null,null,null,null,null,null,null,null,null,null,"Автономна Республіка Крим","Малоріченське"]
[null,null,null,null,null,null,null,null,null,null,null,null,null,null,null,null,"Будування прогулянкових і спортивних човнів",null,null,null,null,null,null,null,null,null,null,null,null,null,null,null,null,null,null,null,null,null,null,null,null,null,null,null,null,"Автономна Республіка Крим","Мар'ївка"]
[null,null,null,null,null,null,null,null,null,null,null,null,null,null,null,null,"Виробництво залізничних локомотивів і рухомого складу",null,null,null,null,null,null,null,null,null,null,null,null,null,null,null,null,null,null,null,null,null,null,null,null,null,null,null,null,"Автономна Республіка Крим","Мар'їне"]
[null,null,null,null,null,null,null,null,null,null,null,null,null,null,null,null,"Виробництво залізничних локомотивів і рухомого складу",null,null,null,null,null,null,null,null,null,null,null,null,null,null,null,null,null,null,null,null,null,null,null,null,null,null,null,null,"Автономна Республіка Крим","Маркове"]
[null,null,null,null,null,null,null,null,null,null,null,null,null,null,null,null,"Виробництво повітряних і космічних літальних апаратів, супутнього устатковання",null,null,null,null,null,null,null,null,null,null,null,null,null,null,null,null,null,null,null,null,null,null,null,null,null,null,null,null,"Автономна Республіка Крим","Мартинівка"]
[null,null,null,null,null,null,null,null,null,null,null,null,null,null,null,null,"Виробництво повітряних і космічних літальних апаратів, супутнього устатковання",null,null,null,null,null,null,null,null,null,null,null,null,null,null,null,null,null,null,null,null,null,null,null,null,null,null,null,null,"Автономна Республіка Крим","Марфівка"]
[null,null,null,null,null,null,null,null,null,null,null,null,null,null,null,null,"Виробництво військових транспортних засобів",null,null,null,null,null,null,null,null,null,null,null,null,null,null,null,null,null,null,null,null,null,null,null,null,null,null,null,null,"Автономна Республіка Крим","Мар'янівка"]
[null,null,null,null,null,null,null,null,null,null,null,null,null,null,null,null,"Виробництво військових транспортних засобів",null,null,null,null,null,null,null,null,null,null,null,null,null,null,null,null,null,null,null,null,null,null,null,null,null,null,null,null,"Автономна Республіка Крим","Масандра"]
[null,null,null,null,null,null,null,null,null,null,null,null,null,null,null,null,"Виробництво транспортних засобів, н.в.і.у.",null,null,null,null,null,null,null,null,null,null,null,null,null,null,null,null,null,null,null,null,null,null,null,null,null,null,null,null,"Автономна Республіка Крим","Маслове"]
[null,null,null,null,null,null,null,null,null,null,null,null,null,null,null,null,"Виробництво мотоциклів",null,null,null,null,null,null,null,null,null,null,null,null,null,null,null,null,null,null,null,null,null,null,null,null,null,null,null,null,"Автономна Республіка Крим","Матвіївка (Правдинської)"]
[null,null,null,null,null,null,null,null,null,null,null,null,null,null,null,null,"Виробництво велосипедів, дитячих та інвалідних колясок",null,null,null,null,null,null,null,null,null,null,null,null,null,null,null,null,null,null,null,null,null,null,null,null,null,null,null,null,"Автономна Республіка Крим","Матросівка"]
[null,null,null,null,null,null,null,null,null,null,null,null,null,null,null,null,"Виробництво інших транспортних засобів і обладнання, н.в.і.у.",null,null,null,null,null,null,null,null,null,null,null,null,null,null,null,null,null,null,null,null,null,null,null,null,null,null,null,null,"Автономна Республіка Крим","Машине"]
[null,null,null,null,null,null,null,null,null,null,null,null,null,null,null,null,"Виробництво меблів",null,null,null,null,null,null,null,null,null,null,null,null,null,null,null,null,null,null,null,null,null,null,null,null,null,null,null,null,"Автономна Республіка Крим","Маяк"]
[null,null,null,null,null,null,null,null,null,null,null,null,null,null,null,null,"Виробництво меблів",null,null,null,null,null,null,null,null,null,null,null,null,null,null,null,null,null,null,null,null,null,null,null,null,null,null,null,null,"Автономна Республіка Крим","Медведеве"]
[null,null,null,null,null,null,null,null,null,null,null,null,null,null,null,null,"Виробництво меблів для офісів і підприємств торгівлі",null,null,null,null,null,null,null,null,null,null,null,null,null,null,null,null,null,null,null,null,null,null,null,null,null,null,null,null,"Автономна Республіка Крим","Медведівка"]
[null,null,null,null,null,null,null,null,null,null,null,null,null,null,null,null,"Виробництво кухонних меблів",null,null,null,null,null,null,null,null,null,null,null,null,null,null,null,null,null,null,null,null,null,null,null,null,null,null,null,null,"Автономна Республіка Крим","Межове"]
[null,null,null,null,null,null,null,null,null,null,null,null,null,null,null,null,"Виробництво матраців",null,null,null,null,null,null,null,null,null,null,null,null,null,null,null,null,null,null,null,null,null,null,null,null,null,null,null,null,"Автономна Республіка Крим","Мелехове"]
[null,null,null,null,null,null,null,null,null,null,null,null,null,null,null,null,"Виробництво інших меблів",null,null,null,null,null,null,null,null,null,null,null,null,null,null,null,null,null,null,null,null,null,null,null,null,null,null,null,null,"Автономна Республіка Крим","Мельники"]
[null,null,null,null,null,null,null,null,null,null,null,null,null,null,null,null,"Виробництво іншої продукції",null,null,null,null,null,null,null,null,null,null,null,null,null,null,null,null,null,null,null,null,null,null,null,null,null,null,null,null,"Автономна Республіка Крим","Мельничне"]
[null,null,null,null,null,null,null,null,null,null,null,null,null,null,null,null,"Виробництво ювелірних виробів, біжутерії та подібних виробів",null,null,null,null,null,null,null,null,null,null,null,null,null,null,null,null,null,null,null,null,null,null,null,null,null,null,null,null,"Автономна Республіка Крим","Мельничне (Островської)"]
[null,null,null,null,null,null,null,null,null,null,null,null,null,null,null,null,"Карбування монет",null,null,null,null,null,null,null,null,null,null,null,null,null,null,null,null,null,null,null,null,null,null,null,null,null,null,null,null,"Автономна Республіка Крим","Менделєєве"]
[null,null,null,null,null,null,null,null,null,null,null,null,null,null,null,null,"Виробництво ювелірних і подібних виробів",null,null,null,null,null,null,null,null,null,null,null,null,null,null,null,null,null,null,null,null,null,null,null,null,null,null,null,null,"Автономна Республіка Крим","Миколаївка"]
[null,null,null,null,null,null,null,null,null,null,null,null,null,null,null,null,"Виробництво біжутерії та подібних виробів",null,null,null,null,null,null,null,null,null,null,null,null,null,null,null,null,null,null,null,null,null,null,null,null,null,null,null,null,"Автономна Республіка Крим","Миндальне"]
[null,null,null,null,null,null,null,null,null,null,null,null,null,null,null,null,"Виробництво музичних інструментів",null,null,null,null,null,null,null,null,null,null,null,null,null,null,null,null,null,null,null,null,null,null,null,null,null,null,null,null,"Автономна Республіка Крим","Мирний"]
[null,null,null,null,null,null,null,null,null,null,null,null,null,null,null,null,"Виробництво музичних інструментів",null,null,null,null,null,null,null,null,null,null,null,null,null,null,null,null,null,null,null,null,null,null,null,null,null,null,null,null,"Автономна Республіка Крим","Мирнівка"]
[null,null,null,null,null,null,null,null,null,null,null,null,null,null,null,null,"Виробництво спортивних товарів",null,null,null,null,null,null,null,null,null,null,null,null,null,null,null,null,null,null,null,null,null,null,null,null,null,null,null,null,"Автономна Республіка Крим","Миролюбівка"]
[null,null,null,null,null,null,null,null,null,null,null,null,null,null,null,null,"Виробництво спортивних товарів",null,null,null,null,null,null,null,null,null,null,null,null,null,null,null,null,null,null,null,null,null,null,null,null,null,null,null,null,"Автономна Республіка Крим","Миронівка"]
[null,null,null,null,null,null,null,null,null,null,null,null,null,null,null,null,"Виробництво ігор та іграшок",null,null,null,null,null,null,null,null,null,null,null,null,null,null,null,null,null,null,null,null,null,null,null,null,null,null,null,null,"Автономна Республіка Крим","Мисове"]
[null,null,null,null,null,null,null,null,null,null,null,null,null,null,null,null,"Виробництво ігор та іграшок",null,null,null,null,null,null,null,null,null,null,null,null,null,null,null,null,null,null,null,null,null,null,null,null,null,null,null,null,"Автономна Республіка Крим","Митрофанівка"]
[null,null,null,null,null,null,null,null,null,null,null,null,null,null,null,null,"Виробництво медичних і стоматологічних інструментів і матеріалів",null,null,null,null,null,null,null,null,null,null,null,null,null,null,null,null,null,null,null,null,null,null,null,null,null,null,null,null,"Автономна Республіка Крим","Митюрине"]
[null,null,null,null,null,null,null,null,null,null,null,null,null,null,null,null,"Виробництво медичних і стоматологічних інструментів і матеріалів",null,null,null,null,null,null,null,null,null,null,null,null,null,null,null,null,null,null,null,null,null,null,null,null,null,null,null,null,"Автономна Республіка Крим","Митяєве"]
[null,null,null,null,null,null,null,null,null,null,null,null,null,null,null,null,"Виробництво продукції, н.в.і.у.",null,null,null,null,null,null,null,null,null,null,null,null,null,null,null,null,null,null,null,null,null,null,null,null,null,null,null,null,"Автономна Республіка Крим","Михайлівка"]
[null,null,null,null,null,null,null,null,null,null,null,null,null,null,null,null,"Виробництво мітел і щіток",null,null,null,null,null,null,null,null,null,null,null,null,null,null,null,null,null,null,null,null,null,null,null,null,null,null,null,null,"Автономна Республіка Крим","Міжводне"]
[null,null,null,null,null,null,null,null,null,null,null,null,null,null,null,null,"Виробництво іншої продукції, н.в.і.у.",null,null,null,null,null,null,null,null,null,null,null,null,null,null,null,null,null,null,null,null,null,null,null,null,null,null,null,null,"Автономна Республіка Крим","Міжгірне"]
[null,null,null,null,null,null,null,null,null,null,null,null,null,null,null,null,"Ремонт і монтаж машин і устатковання",null,null,null,null,null,null,null,null,null,null,null,null,null,null,null,null,null,null,null,null,null,null,null,null,null,null,null,null,"Автономна Республіка Крим","Міжгір'я"]
[null,null,null,null,null,null,null,null,null,null,null,null,null,null,null,null,"Ремонт і технічне обслуговування готових металевих виробів, машин і устатковання",null,null,null,null,null,null,null,null,null,null,null,null,null,null,null,null,null,null,null,null,null,null,null,null,null,null,null,null,"Автономна Республіка Крим","Міжріччя"]
[null,null,null,null,null,null,null,null,null,null,null,null,null,null,null,null,"Ремонт і технічне обслуговування готових металевих виробів",null,null,null,null,null,null,null,null,null,null,null,null,null,null,null,null,null,null,null,null,null,null,null,null,null,null,null,null,"Автономна Республіка Крим","Мілководне"]
[null,null,null,null,null,null,null,null,null,null,null,null,null,null,null,null,"Ремонт і технічне обслуговування машин і устатковання промислового призначення",null,null,null,null,null,null,null,null,null,null,null,null,null,null,null,null,null,null,null,null,null,null,null,null,null,null,null,null,"Автономна Республіка Крим","Мічурінівка"]
[null,null,null,null,null,null,null,null,null,null,null,null,null,null,null,null,"Ремонт і технічне обслуговування електронного й оптичного устатковання",null,null,null,null,null,null,null,null,null,null,null,null,null,null,null,null,null,null,null,null,null,null,null,null,null,null,null,null,"Автономна Республіка Крим","Мічурінське"]
[null,null,null,null,null,null,null,null,null,null,null,null,null,null,null,null,"Ремонт і технічне обслуговування електричного устатковання",null,null,null,null,null,null,null,null,null,null,null,null,null,null,null,null,null,null,null,null,null,null,null,null,null,null,null,null,"Автономна Республіка Крим","Многоводне"]
[null,null,null,null,null,null,null,null,null,null,null,null,null,null,null,null,"Ремонт і технічне обслуговування суден і човнів",null,null,null,null,null,null,null,null,null,null,null,null,null,null,null,null,null,null,null,null,null,null,null,null,null,null,null,null,"Автономна Республіка Крим","Многоріччя"]
[null,null,null,null,null,null,null,null,null,null,null,null,null,null,null,null,"Ремонт і технічне обслуговування повітряних і космічних літальних апаратів",null,null,null,null,null,null,null,null,null,null,null,null,null,null,null,null,null,null,null,null,null,null,null,null,null,null,null,null,"Автономна Республіка Крим","Молодіжне"]
[null,null,null,null,null,null,null,null,null,null,null,null,null,null,null,null,"Ремонт і технічне обслуговування інших транспортних засобів",null,null,null,null,null,null,null,null,null,null,null,null,null,null,null,null,null,null,null,null,null,null,null,null,null,null,null,null,"Автономна Республіка Крим","Молочне"]
[null,null,null,null,null,null,null,null,null,null,null,null,null,null,null,null,"Ремонт і технічне обслуговування інших машин і устатковання",null,null,null,null,null,null,null,null,null,null,null,null,null,null,null,null,null,null,null,null,null,null,null,null,null,null,null,null,"Автономна Республіка Крим","Молочне (Ковильнівська сільська рада)"]
[null,null,null,null,null,null,null,null,null,null,null,null,null,null,null,null,"Установлення та монтаж машин і устатковання",null,null,null,null,null,null,null,null,null,null,null,null,null,null,null,null,null,null,null,null,null,null,null,null,null,null,null,null,"Автономна Республіка Крим","Морське"]
[null,null,null,null,null,null,null,null,null,null,null,null,null,null,null,null,"Установлення та монтаж машин і устатковання",null,null,null,null,null,null,null,null,null,null,null,null,null,null,null,null,null,null,null,null,null,null,null,null,null,null,null,null,"Автономна Республіка Крим","Мостове"]
[null,null,null,null,null,null,null,null,null,null,null,null,null,null,null,null,"Постачання електроенергії, газу, пари та кондиційованого повітря",null,null,null,null,null,null,null,null,null,null,null,null,null,null,null,null,null,null,null,null,null,null,null,null,null,null,null,null,"Автономна Республіка Крим","Мраморне"]
[null,null,null,null,null,null,null,null,null,null,null,null,null,null,null,null,"Постачання електроенергії, газу, пари та кондиційованого повітря",null,null,null,null,null,null,null,null,null,null,null,null,null,null,null,null,null,null,null,null,null,null,null,null,null,null,null,null,"Автономна Республіка Крим","Муромське"]
[null,null,null,null,null,null,null,null,null,null,null,null,null,null,null,null,"Виробництво, передача та розподілення електроенергії",null,null,null,null,null,null,null,null,null,null,null,null,null,null,null,null,null,null,null,null,null,null,null,null,null,null,null,null,"Автономна Республіка Крим","Мускатне"]
[null,null,null,null,null,null,null,null,null,null,null,null,null,null,null,null,"Виробництво електроенергії",null,null,null,null,null,null,null,null,null,null,null,null,null,null,null,null,null,null,null,null,null,null,null,null,null,null,null,null,"Автономна Республіка Крим","Набережне"]
[null,null,null,null,null,null,null,null,null,null,null,null,null,null,null,null,"Передача електроенергії",null,null,null,null,null,null,null,null,null,null,null,null,null,null,null,null,null,null,null,null,null,null,null,null,null,null,null,null,"Автономна Республіка Крим","Нагірне"]
[null,null,null,null,null,null,null,null,null,null,null,null,null,null,null,null,"Розподілення електроенергії",null,null,null,null,null,null,null,null,null,null,null,null,null,null,null,null,null,null,null,null,null,null,null,null,null,null,null,null,"Автономна Республіка Крим","Надежда"]
[null,null,null,null,null,null,null,null,null,null,null,null,null,null,null,null,"Торгівля електроенергією",null,null,null,null,null,null,null,null,null,null,null,null,null,null,null,null,null,null,null,null,null,null,null,null,null,null,null,null,"Автономна Республіка Крим","Надеждине (Красноармійська)"]
[null,null,null,null,null,null,null,null,null,null,null,null,null,null,null,null,"Виробництво газу; розподілення газоподібного палива через місцеві (локальні) трубопроводи",null,null,null,null,null,null,null,null,null,null,null,null,null,null,null,null,null,null,null,null,null,null,null,null,null,null,null,null,"Автономна Республіка Крим","Найдьонівка"]
[null,null,null,null,null,null,null,null,null,null,null,null,null,null,null,null,"Виробництво газу",null,null,null,null,null,null,null,null,null,null,null,null,null,null,null,null,null,null,null,null,null,null,null,null,null,null,null,null,"Автономна Республіка Крим","Наникове"]
[null,null,null,null,null,null,null,null,null,null,null,null,null,null,null,null,"Розподілення газоподібного палива через місцеві (локальні) трубопроводи",null,null,null,null,null,null,null,null,null,null,null,null,null,null,null,null,null,null,null,null,null,null,null,null,null,null,null,null,"Автономна Республіка Крим","Насипне"]
[null,null,null,null,null,null,null,null,null,null,null,null,null,null,null,null,"Торгівля газом через місцеві (локальні) трубопроводи",null,null,null,null,null,null,null,null,null,null,null,null,null,null,null,null,null,null,null,null,null,null,null,null,null,null,null,null,"Автономна Республіка Крим","Наташине"]
[null,null,null,null,null,null,null,null,null,null,null,null,null,null,null,null,"Постачання пари, гарячої води та кондиційованого повітря",null,null,null,null,null,null,null,null,null,null,null,null,null,null,null,null,null,null,null,null,null,null,null,null,null,null,null,null,"Автономна Республіка Крим","Наумівка"]
[null,null,null,null,null,null,null,null,null,null,null,null,null,null,null,null,"Постачання пари, гарячої води та кондиційованого повітря",null,null,null,null,null,null,null,null,null,null,null,null,null,null,null,null,null,null,null,null,null,null,null,null,null,null,null,null,"Автономна Республіка Крим","Научний"]
[null,null,null,null,null,null,null,null,null,null,null,null,null,null,null,null,"Водопостачання; каналізація, поводження з відходами",null,null,null,null,null,null,null,null,null,null,null,null,null,null,null,null,null,null,null,null,null,null,null,null,null,null,null,null,"Автономна Республіка Крим","Нахідка"]
[null,null,null,null,null,null,null,null,null,null,null,null,null,null,null,null,"Забір, очищення та постачання води",null,null,null,null,null,null,null,null,null,null,null,null,null,null,null,null,null,null,null,null,null,null,null,null,null,null,null,null,"Автономна Республіка Крим","Нахімове"]
[null,null,null,null,null,null,null,null,null,null,null,null,null,null,null,null,"Забір, очищення та постачання води",null,null,null,null,null,null,null,null,null,null,null,null,null,null,null,null,null,null,null,null,null,null,null,null,null,null,null,null,"Автономна Республіка Крим","Невське"]
[null,null,null,null,null,null,null,null,null,null,null,null,null,null,null,null,"Забір очищення та постачання води",null,null,null,null,null,null,null,null,null,null,null,null,null,null,null,null,null,null,null,null,null,null,null,null,null,null,null,null,"Автономна Республіка Крим","Некрасове"]
[null,null,null,null,null,null,null,null,null,null,null,null,null,null,null,null,"Каналізація, відведення й очищення стічних вод",null,null,null,null,null,null,null,null,null,null,null,null,null,null,null,null,null,null,null,null,null,null,null,null,null,null,null,null,"Автономна Республіка Крим","Некрасовка"]
[null,null,null,null,null,null,null,null,null,null,null,null,null,null,null,null,"Каналізація, відведення й очищення стічних вод",null,null,null,null,null,null,null,null,null,null,null,null,null,null,null,null,null,null,null,null,null,null,null,null,null,null,null,null,"Автономна Республіка Крим","Нива"]
[null,null,null,null,null,null,null,null,null,null,null,null,null,null,null,null,"Каналізація, відведення й очищення стічних вод",null,null,null,null,null,null,null,null,null,null,null,null,null,null,null,null,null,null,null,null,null,null,null,null,null,null,null,null,"Автономна Республіка Крим","Нива (Березівська)"]
[null,null,null,null,null,null,null,null,null,null,null,null,null,null,null,null,"Збирання, оброблення й видалення відходів; відновлення матеріалів",null,null,null,null,null,null,null,null,null,null,null,null,null,null,null,null,null,null,null,null,null,null,null,null,null,null,null,null,"Автономна Республіка Крим","Нижнє Запрудне"]
[null,null,null,null,null,null,null,null,null,null,null,null,null,null,null,null,"Збирання відходів",null,null,null,null,null,null,null,null,null,null,null,null,null,null,null,null,null,null,null,null,null,null,null,null,null,null,null,null,"Автономна Республіка Крим","Нижні Орішники"]
[null,null,null,null,null,null,null,null,null,null,null,null,null,null,null,null,"Збирання безпечних відходів",null,null,null,null,null,null,null,null,null,null,null,null,null,null,null,null,null,null,null,null,null,null,null,null,null,null,null,null,"Автономна Республіка Крим","Нижні Острожки"]
[null,null,null,null,null,null,null,null,null,null,null,null,null,null,null,null,"Збирання небезпечних відходів",null,null,null,null,null,null,null,null,null,null,null,null,null,null,null,null,null,null,null,null,null,null,null,null,null,null,null,null,"Автономна Республіка Крим","Нижня Голубинка"]
[null,null,null,null,null,null,null,null,null,null,null,null,null,null,null,null,"Оброблення та видалення відходів",null,null,null,null,null,null,null,null,null,null,null,null,null,null,null,null,null,null,null,null,null,null,null,null,null,null,null,null,"Автономна Республіка Крим","Нижня Кутузовка"]
[null,null,null,null,null,null,null,null,null,null,null,null,null,null,null,null,"Оброблення та видалення безпечних відходів",null,null,null,null,null,null,null,null,null,null,null,null,null,null,null,null,null,null,null,null,null,null,null,null,null,null,null,null,"Автономна Республіка Крим","Нижньогірський"]
[null,null,null,null,null,null,null,null,null,null,null,null,null,null,null,null,"Оброблення та видалення небезпечних відходів",null,null,null,null,null,null,null,null,null,null,null,null,null,null,null,null,null,null,null,null,null,null,null,null,null,null,null,null,"Автономна Республіка Крим","Нижньозаморське"]
[null,null,null,null,null,null,null,null,null,null,null,null,null,null,null,null,"Відновлення матеріалів",null,null,null,null,null,null,null,null,null,null,null,null,null,null,null,null,null,null,null,null,null,null,null,null,null,null,null,null,"Автономна Республіка Крим","Нижньокурганне"]
[null,null,null,null,null,null,null,null,null,null,null,null,null,null,null,null,"Демонтаж (розбирання) машин і устатковання",null,null,null,null,null,null,null,null,null,null,null,null,null,null,null,null,null,null,null,null,null,null,null,null,null,null,null,null,"Автономна Республіка Крим","Низинне"]
[null,null,null,null,null,null,null,null,null,null,null,null,null,null,null,null,"Відновлення відсортованих відходів",null,null,null,null,null,null,null,null,null,null,null,null,null,null,null,null,null,null,null,null,null,null,null,null,null,null,null,null,"Автономна Республіка Крим","Низинне (Зерновська)"]
[null,null,null,null,null,null,null,null,null,null,null,null,null,null,null,null,"Інша діяльність щодо поводження з відходами",null,null,null,null,null,null,null,null,null,null,null,null,null,null,null,null,null,null,null,null,null,null,null,null,null,null,null,null,"Автономна Республіка Крим","Низівка"]
[null,null,null,null,null,null,null,null,null,null,null,null,null,null,null,null,"Інша діяльність щодо поводження з відходами",null,null,null,null,null,null,null,null,null,null,null,null,null,null,null,null,null,null,null,null,null,null,null,null,null,null,null,null,"Автономна Республіка Крим","Ніжинське"]
[null,null,null,null,null,null,null,null,null,null,null,null,null,null,null,null,"Інша діяльність щодо поводження з відходами",null,null,null,null,null,null,null,null,null,null,null,null,null,null,null,null,null,null,null,null,null,null,null,null,null,null,null,null,"Автономна Республіка Крим","Нікіта"]
[null,null,null,null,null,null,null,null,null,null,null,null,null,null,null,null,"Будівництво",null,null,null,null,null,null,null,null,null,null,null,null,null,null,null,null,null,null,null,null,null,null,null,null,null,null,null,null,"Автономна Республіка Крим","Нова Деревня (Крестянівскої)"]
[null,null,null,null,null,null,null,null,null,null,null,null,null,null,null,null,"Будівництво будівель",null,null,null,null,null,null,null,null,null,null,null,null,null,null,null,null,null,null,null,null,null,null,null,null,null,null,null,null,"Автономна Республіка Крим","Нове  Життя"]
[null,null,null,null,null,null,null,null,null,null,null,null,null,null,null,null,"Організація будівництва будівель",null,null,null,null,null,null,null,null,null,null,null,null,null,null,null,null,null,null,null,null,null,null,null,null,null,null,null,null,"Автономна Республіка Крим","Новеньке"]
[null,null,null,null,null,null,null,null,null,null,null,null,null,null,null,null,"Організація будівництва будівель",null,null,null,null,null,null,null,null,null,null,null,null,null,null,null,null,null,null,null,null,null,null,null,null,null,null,null,null,"Автономна Республіка Крим","Новий Мир"]
[null,null,null,null,null,null,null,null,null,null,null,null,null,null,null,null,"Будівництво житлових і нежитлових будівель",null,null,null,null,null,null,null,null,null,null,null,null,null,null,null,null,null,null,null,null,null,null,null,null,null,null,null,null,"Автономна Республіка Крим","Новий Сад"]
[null,null,null,null,null,null,null,null,null,null,null,null,null,null,null,null,"Будівництво житлових і нежитлових будівель",null,null,null,null,null,null,null,null,null,null,null,null,null,null,null,null,null,null,null,null,null,null,null,null,null,null,null,null,"Автономна Республіка Крим","Новий Світ"]
[null,null,null,null,null,null,null,null,null,null,null,null,null,null,null,null,"Будівництво споруд",null,null,null,null,null,null,null,null,null,null,null,null,null,null,null,null,null,null,null,null,null,null,null,null,null,null,null,null,"Автономна Республіка Крим","Новоандріївка"]
[null,null,null,null,null,null,null,null,null,null,null,null,null,null,null,null,"Будівництво доріг і залізниць",null,null,null,null,null,null,null,null,null,null,null,null,null,null,null,null,null,null,null,null,null,null,null,null,null,null,null,null,"Автономна Республіка Крим","Нововасилівка"]
[null,null,null,null,null,null,null,null,null,null,null,null,null,null,null,null,"Будівництво доріг і автострад",null,null,null,null,null,null,null,null,null,null,null,null,null,null,null,null,null,null,null,null,null,null,null,null,null,null,null,null,"Автономна Республіка Крим","Нововідрадне"]
[null,null,null,null,null,null,null,null,null,null,null,null,null,null,null,null,"Будівництво залізниць і метрополітену",null,null,null,null,null,null,null,null,null,null,null,null,null,null,null,null,null,null,null,null,null,null,null,null,null,null,null,null,"Автономна Республіка Крим","Новогригорівка"]
[null,null,null,null,null,null,null,null,null,null,null,null,null,null,null,null,"Будівництво мостів і тунелів",null,null,null,null,null,null,null,null,null,null,null,null,null,null,null,null,null,null,null,null,null,null,null,null,null,null,null,null,"Автономна Республіка Крим","Новодолинка"]
[null,null,null,null,null,null,null,null,null,null,null,null,null,null,null,null,"Будівництво комунікацій",null,null,null,null,null,null,null,null,null,null,null,null,null,null,null,null,null,null,null,null,null,null,null,null,null,null,null,null,"Автономна Республіка Крим","Новоестонія"]
[null,null,null,null,null,null,null,null,null,null,null,null,null,null,null,null,"Будівництво трубопроводів",null,null,null,null,null,null,null,null,null,null,null,null,null,null,null,null,null,null,null,null,null,null,null,null,null,null,null,null,"Автономна Республіка Крим","Новожилівка"]
[null,null,null,null,null,null,null,null,null,null,null,null,null,null,null,null,"Будівництво споруд електропостачання та телекомунікацій",null,null,null,null,null,null,null,null,null,null,null,null,null,null,null,null,null,null,null,null,null,null,null,null,null,null,null,null,"Автономна Республіка Крим","Новозбур'ївка"]
[null,null,null,null,null,null,null,null,null,null,null,null,null,null,null,null,"Будівництво інших споруд",null,null,null,null,null,null,null,null,null,null,null,null,null,null,null,null,null,null,null,null,null,null,null,null,null,null,null,null,"Автономна Республіка Крим","Новозуївка"]
[null,null,null,null,null,null,null,null,null,null,null,null,null,null,null,null,"Будівництво водних споруд",null,null,null,null,null,null,null,null,null,null,null,null,null,null,null,null,null,null,null,null,null,null,null,null,null,null,null,null,"Автономна Республіка Крим","Новоіванівка"]
[null,null,null,null,null,null,null,null,null,null,null,null,null,null,null,null,"Будівництво інших споруд, н.в.і.у.",null,null,null,null,null,null,null,null,null,null,null,null,null,null,null,null,null,null,null,null,null,null,null,null,null,null,null,null,"Автономна Республіка Крим","Новоіванівка (Магазинська)"]
[null,null,null,null,null,null,null,null,null,null,null,null,null,null,null,null,"Спеціалізовані будівельні роботи",null,null,null,null,null,null,null,null,null,null,null,null,null,null,null,null,null,null,null,null,null,null,null,null,null,null,null,null,"Автономна Республіка Крим","Новокатеринівка"]
[null,null,null,null,null,null,null,null,null,null,null,null,null,null,null,null,"Знесення та підготовчі роботи на будівельному майданчику",null,null,null,null,null,null,null,null,null,null,null,null,null,null,null,null,null,null,null,null,null,null,null,null,null,null,null,null,"Автономна Республіка Крим","Новокленове"]
[null,null,null,null,null,null,null,null,null,null,null,null,null,null,null,null,"Знесення",null,null,null,null,null,null,null,null,null,null,null,null,null,null,null,null,null,null,null,null,null,null,null,null,null,null,null,null,"Автономна Республіка Крим","Новокостянтинівка"]
[null,null,null,null,null,null,null,null,null,null,null,null,null,null,null,null,"Підготовчі роботи на будівельному майданчику",null,null,null,null,null,null,null,null,null,null,null,null,null,null,null,null,null,null,null,null,null,null,null,null,null,null,null,null,"Автономна Республіка Крим","Новокримське"]
[null,null,null,null,null,null,null,null,null,null,null,null,null,null,null,null,"Розвідувальне буріння",null,null,null,null,null,null,null,null,null,null,null,null,null,null,null,null,null,null,null,null,null,null,null,null,null,null,null,null,"Автономна Республіка Крим","Новомикільське"]
[null,null,null,null,null,null,null,null,null,null,null,null,null,null,null,null,"Електромонтажні, водопровідні та інші будівельно-монтажні роботи",null,null,null,null,null,null,null,null,null,null,null,null,null,null,null,null,null,null,null,null,null,null,null,null,null,null,null,null,"Автономна Республіка Крим","Новомиколаївка"]
[null,null,null,null,null,null,null,null,null,null,null,null,null,null,null,null,"Електромонтажні роботи",null,null,null,null,null,null,null,null,null,null,null,null,null,null,null,null,null,null,null,null,null,null,null,null,null,null,null,null,"Автономна Республіка Крим","Новомиколаївка (Орлівської)"]
[null,null,null,null,null,null,null,null,null,null,null,null,null,null,null,null,"Монтаж водопровідних мереж, систем опалення та кондиціонування",null,null,null,null,null,null,null,null,null,null,null,null,null,null,null,null,null,null,null,null,null,null,null,null,null,null,null,null,"Автономна Республіка Крим","Новоозерне"]
[null,null,null,null,null,null,null,null,null,null,null,null,null,null,null,null,"Інші будівельно-монтажні роботи",null,null,null,null,null,null,null,null,null,null,null,null,null,null,null,null,null,null,null,null,null,null,null,null,null,null,null,null,"Автономна Республіка Крим","Новоолександрівка (Магазинської)"]
[null,null,null,null,null,null,null,null,null,null,null,null,null,null,null,null,"Роботи із завершення будівництва",null,null,null,null,null,null,null,null,null,null,null,null,null,null,null,null,null,null,null,null,null,null,null,null,null,null,null,null,"Автономна Республіка Крим","Новоолексіївка"]
[null,null,null,null,null,null,null,null,null,null,null,null,null,null,null,null,"Штукатурні роботи",null,null,null,null,null,null,null,null,null,null,null,null,null,null,null,null,null,null,null,null,null,null,null,null,null,null,null,null,"Автономна Республіка Крим","Новопавлівка"]
[null,null,null,null,null,null,null,null,null,null,null,null,null,null,null,null,"Установлення столярних виробів",null,null,null,null,null,null,null,null,null,null,null,null,null,null,null,null,null,null,null,null,null,null,null,null,null,null,null,null,"Автономна Республіка Крим","Новопавлівка (Новопавлівської)"]
[null,null,null,null,null,null,null,null,null,null,null,null,null,null,null,null,"Оптова торгівля шкірсировиною, шкурами та шкірою",null,null,null,null,null,null,null,null,null,null,null,null,null,null,null,null,null,null,null,null,null,null,null,null,null,null,null,null,"Автономна Республіка Крим","Опушки"]
[null,null,null,null,null,null,null,null,null,null,null,null,null,null,null,null,"Оптова торгівля сільськогосподарськими машинами й устаткованням",null,null,null,null,null,null,null,null,null,null,null,null,null,null,null,null,null,null,null,null,null,null,null,null,null,null,null,null,"Автономна Республіка Крим","Первомайське (Первомайської)"]
[null,null,null,null,null,null,null,null,null,null,null,null,null,null,null,null,"Роздрібна торгівля в неспеціалізованих магазинах переважно продуктами харчування, напоями та тютюновими виробами",null,null,null,null,null,null,null,null,null,null,null,null,null,null,null,null,null,null,null,null,null,null,null,null,null,null,null,null,"Автономна Республіка Крим","Побєдне"]
[null,null,null,null,null,null,null,null,null,null,null,null,null,null,null,null,"Вантажний морський транспорт",null,null,null,null,null,null,null,null,null,null,null,null,null,null,null,null,null,null,null,null,null,null,null,null,null,null,null,null,"Автономна Республіка Крим","Розкішне"]
[null,null,null,null,null,null,null,null,null,null,null,null,null,null,null,null,"Транспортне оброблення вантажів",null,null,null,null,null,null,null,null,null,null,null,null,null,null,null,null,null,null,null,null,null,null,null,null,null,null,null,null,"Автономна Республіка Крим","Санаторне"]
[null,null,null,null,null,null,null,null,null,null,null,null,null,null,null,null,"Інша діяльність у сфері електрозв'язку",null,null,null,null,null,null,null,null,null,null,null,null,null,null,null,null,null,null,null,null,null,null,null,null,null,null,null,null,"Автономна Республіка Крим","Степне (Степновської)"]
[null,null,null,null,null,null,null,null,null,null,null,null,null,null,null,null,"Фінансовий лізинг",null,null,null,null,null,null,null,null,null,null,null,null,null,null,null,null,null,null,null,null,null,null,null,null,null,null,null,null,"Автономна Республіка Крим","Тепле"]
[null,null,null,null,null,null,null,null,null,null,null,null,null,null,null,null,"Дослідження кон'юнктури ринку та виявлення громадської думки",null,null,null,null,null,null,null,null,null,null,null,null,null,null,null,null,null,null,null,null,null,null,null,null,null,null,null,null,"Автономна Республіка Крим","Цвіточне"]
[null,null,null,null,null,null,null,null,null,null,null,null,null,null,null,null,"Надання в оренду будівельних машин і устатковання",null,null,null,null,null,null,null,null,null,null,null,null,null,null,null,null,null,null,null,null,null,null,null,null,null,null,null,null,"Автономна Республіка Крим","Шаумян"]
[null,null,null,null,null,null,null,null,null,null,null,null,null,null,null,null,"Надання інших послуг із бронювання та пов'язана з цим діяльність",null,null,null,null,null,null,null,null,null,null,null,null,null,null,null,null,null,null,null,null,null,null,null,null,null,null,null,null,"Автономна Республіка Крим","Яковлівка"]
[null,null,null,null,null,null,null,null,null,null,null,null,null,null,null,null,"Освіта у сфері культури",null,null,null,null,null,null,null,null,null,null,null,null,null,null,null,null,null,null,null,null,null,null,null,null,null,null,null,null,"Вінницька","Бохоники"]
[null,null,null,null,null,null,null,null,null,null,null,null,null,null,null,null,"Надання соціальної допомоги без забезпечення проживання для осіб похилого віку та інвалідів",null,null,null,null,null,null,null,null,null,null,null,null,null,null,null,null,null,null,null,null,null,null,null,null,null,null,null,null,"Вінницька","Васютинці"]
[null,null,null,null,null,null,null,null,null,null,null,null,null,null,null,null,"Діяльність із забезпечення фізичного комфорту",null,null,null,null,null,null,null,null,null,null,null,null,null,null,null,null,null,null,null,null,null,null,null,null,null,null,null,null,"Вінницька","Глибока долина"]
[null,null,null,null,null,null,null,null,null,null,null,null,null,null,null,null,null,null,null,null,null,null,null,null,null,null,null,null,null,null,null,null,null,null,null,null,null,null,null,null,null,null,null,null,null,"Вінницька","Гриненки"]
[null,null,null,null,null,null,null,null,null,null,null,null,null,null,null,null,null,null,null,null,null,null,null,null,null,null,null,null,null,null,null,null,null,null,null,null,null,null,null,null,null,null,null,null,null,"Вінницька","Жабелівка"]
[null,null,null,null,null,null,null,null,null,null,null,null,null,null,null,null,null,null,null,null,null,null,null,null,null,null,null,null,null,null,null,null,null,null,null,null,null,null,null,null,null,null,null,null,null,"Вінницька","Закриниччя"]
[null,null,null,null,null,null,null,null,null,null,null,null,null,null,null,null,null,null,null,null,null,null,null,null,null,null,null,null,null,null,null,null,null,null,null,null,null,null,null,null,null,null,null,null,null,"Вінницька","Кисляк (Карбівська сільська рада)"]
[null,null,null,null,null,null,null,null,null,null,null,null,null,null,null,null,null,null,null,null,null,null,null,null,null,null,null,null,null,null,null,null,null,null,null,null,null,null,null,null,null,null,null,null,null,"Вінницька","Комаргородське, селище"]
[null,null,null,null,null,null,null,null,null,null,null,null,null,null,null,null,null,null,null,null,null,null,null,null,null,null,null,null,null,null,null,null,null,null,null,null,null,null,null,null,null,null,null,null,null,"Вінницька","Куманівці"]
[null,null,null,null,null,null,null,null,null,null,null,null,null,null,null,null,null,null,null,null,null,null,null,null,null,null,null,null,null,null,null,null,null,null,null,null,null,null,null,null,null,null,null,null,null,"Вінницька","Лип'ятин"]
[null,null,null,null,null,null,null,null,null,null,null,null,null,null,null,null,null,null,null,null,null,null,null,null,null,null,null,null,null,null,null,null,null,null,null,null,null,null,null,null,null,null,null,null,null,"Вінницька","Мар'янівське, селище"]
[null,null,null,null,null,null,null,null,null,null,null,null,null,null,null,null,null,null,null,null,null,null,null,null,null,null,null,null,null,null,null,null,null,null,null,null,null,null,null,null,null,null,null,null,null,"Вінницька","Мончинці"]
[null,null,null,null,null,null,null,null,null,null,null,null,null,null,null,null,null,null,null,null,null,null,null,null,null,null,null,null,null,null,null,null,null,null,null,null,null,null,null,null,null,null,null,null,null,"Вінницька","Нишівці"]
[null,null,null,null,null,null,null,null,null,null,null,null,null,null,null,null,null,null,null,null,null,null,null,null,null,null,null,null,null,null,null,null,null,null,null,null,null,null,null,null,null,null,null,null,null,"Вінницька","Петрунівка"]
[null,null,null,null,null,null,null,null,null,null,null,null,null,null,null,null,null,null,null,null,null,null,null,null,null,null,null,null,null,null,null,null,null,null,null,null,null,null,null,null,null,null,null,null,null,"Вінницька","Польова Лисіївка"]
[null,null,null,null,null,null,null,null,null,null,null,null,null,null,null,null,null,null,null,null,null,null,null,null,null,null,null,null,null,null,null,null,null,null,null,null,null,null,null,null,null,null,null,null,null,"Вінницька","Саїнка"]
[null,null,null,null,null,null,null,null,null,null,null,null,null,null,null,null,null,null,null,null,null,null,null,null,null,null,null,null,null,null,null,null,null,null,null,null,null,null,null,null,null,null,null,null,null,"Вінницька","Сиваківці"]
[null,null,null,null,null,null,null,null,null,null,null,null,null,null,null,null,null,null,null,null,null,null,null,null,null,null,null,null,null,null,null,null,null,null,null,null,null,null,null,null,null,null,null,null,null,"Вінницька","Сподахи"]
[null,null,null,null,null,null,null,null,null,null,null,null,null,null,null,null,null,null,null,null,null,null,null,null,null,null,null,null,null,null,null,null,null,null,null,null,null,null,null,null,null,null,null,null,null,"Вінницька","Теси"]
[null,null,null,null,null,null,null,null,null,null,null,null,null,null,null,null,null,null,null,null,null,null,null,null,null,null,null,null,null,null,null,null,null,null,null,null,null,null,null,null,null,null,null,null,null,"Вінницька","Уладівське"]
[null,null,null,null,null,null,null,null,null,null,null,null,null,null,null,null,null,null,null,null,null,null,null,null,null,null,null,null,null,null,null,null,null,null,null,null,null,null,null,null,null,null,null,null,null,"Вінницька","Шипинки"]
[null,null,null,null,null,null,null,null,null,null,null,null,null,null,null,null,null,null,null,null,null,null,null,null,null,null,null,null,null,null,null,null,null,null,null,null,null,null,null,null,null,null,null,null,null,"Вінницька","Щучинці"]
[null,null,null,null,null,null,null,null,null,null,null,null,null,null,null,null,null,null,null,null,null,null,null,null,null,null,null,null,null,null,null,null,null,null,null,null,null,null,null,null,null,null,null,null,null,"Волинська","Ботин"]
[null,null,null,null,null,null,null,null,null,null,null,null,null,null,null,null,null,null,null,null,null,null,null,null,null,null,null,null,null,null,null,null,null,null,null,null,null,null,null,null,null,null,null,null,null,"Волинська","Буяни"]
[null,null,null,null,null,null,null,null,null,null,null,null,null,null,null,null,null,null,null,null,null,null,null,null,null,null,null,null,null,null,null,null,null,null,null,null,null,null,null,null,null,null,null,null,null,"Волинська","Воля Свійчівська"]
[null,null,null,null,null,null,null,null,null,null,null,null,null,null,null,null,null,null,null,null,null,null,null,null,null,null,null,null,null,null,null,null,null,null,null,null,null,null,null,null,null,null,null,null,null,"Волинська","Горохів"]
[null,null,null,null,null,null,null,null,null,null,null,null,null,null,null,null,null,null,null,null,null,null,null,null,null,null,null,null,null,null,null,null,null,null,null,null,null,null,null,null,null,null,null,null,null,"Волинська","Гупали"]
[null,null,null,null,null,null,null,null,null,null,null,null,null,null,null,null,null,null,null,null,null,null,null,null,null,null,null,null,null,null,null,null,null,null,null,null,null,null,null,null,null,null,null,null,null,"Волинська","Запілля"]
[null,null,null,null,null,null,null,null,null,null,null,null,null,null,null,null,null,null,null,null,null,null,null,null,null,null,null,null,null,null,null,null,null,null,null,null,null,null,null,null,null,null,null,null,null,"Волинська","Зміїнець"]
[null,null,null,null,null,null,null,null,null,null,null,null,null,null,null,null,null,null,null,null,null,null,null,null,null,null,null,null,null,null,null,null,null,null,null,null,null,null,null,null,null,null,null,null,null,"Волинська","Краснодуб'я"]
[null,null,null,null,null,null,null,null,null,null,null,null,null,null,null,null,null,null,null,null,null,null,null,null,null,null,null,null,null,null,null,null,null,null,null,null,null,null,null,null,null,null,null,null,null,"Волинська","Кутрів"]
[null,null,null,null,null,null,null,null,null,null,null,null,null,null,null,null,null,null,null,null,null,null,null,null,null,null,null,null,null,null,null,null,null,null,null,null,null,null,null,null,null,null,null,null,null,"Волинська","Любешівська Воля"]
[null,null,null,null,null,null,null,null,null,null,null,null,null,null,null,null,null,null,null,null,null,null,null,null,null,null,null,null,null,null,null,null,null,null,null,null,null,null,null,null,null,null,null,null,null,"Волинська","Мировичі"]
[null,null,null,null,null,null,null,null,null,null,null,null,null,null,null,null,null,null,null,null,null,null,null,null,null,null,null,null,null,null,null,null,null,null,null,null,null,null,null,null,null,null,null,null,null,"Волинська","Муравище"]
[null,null,null,null,null,null,null,null,null,null,null,null,null,null,null,null,null,null,null,null,null,null,null,null,null,null,null,null,null,null,null,null,null,null,null,null,null,null,null,null,null,null,null,null,null,"Волинська","Осекрів"]
[null,null,null,null,null,null,null,null,null,null,null,null,null,null,null,null,null,null,null,null,null,null,null,null,null,null,null,null,null,null,null,null,null,null,null,null,null,null,null,null,null,null,null,null,null,"Волинська","Писарева Воля"]
[null,null,null,null,null,null,null,null,null,null,null,null,null,null,null,null,null,null,null,null,null,null,null,null,null,null,null,null,null,null,null,null,null,null,null,null,null,null,null,null,null,null,null,null,null,"Волинська","Рокині"]
[null,null,null,null,null,null,null,null,null,null,null,null,null,null,null,null,null,null,null,null,null,null,null,null,null,null,null,null,null,null,null,null,null,null,null,null,null,null,null,null,null,null,null,null,null,"Волинська","Серкизів"]
[null,null,null,null,null,null,null,null,null,null,null,null,null,null,null,null,null,null,null,null,null,null,null,null,null,null,null,null,null,null,null,null,null,null,null,null,null,null,null,null,null,null,null,null,null,"Волинська","Тагачин"]
[null,null,null,null,null,null,null,null,null,null,null,null,null,null,null,null,null,null,null,null,null,null,null,null,null,null,null,null,null,null,null,null,null,null,null,null,null,null,null,null,null,null,null,null,null,"Волинська","Трубки"]
[null,null,null,null,null,null,null,null,null,null,null,null,null,null,null,null,null,null,null,null,null,null,null,null,null,null,null,null,null,null,null,null,null,null,null,null,null,null,null,null,null,null,null,null,null,"Волинська","Холоневичі"]
[null,null,null,null,null,null,null,null,null,null,null,null,null,null,null,null,null,null,null,null,null,null,null,null,null,null,null,null,null,null,null,null,null,null,null,null,null,null,null,null,null,null,null,null,null,"Волинська","Якушів"]
[null,null,null,null,null,null,null,null,null,null,null,null,null,null,null,null,null,null,null,null,null,null,null,null,null,null,null,null,null,null,null,null,null,null,null,null,null,null,null,null,null,null,null,null,null,"Дніпропетровська","Антонівське"]
[null,null,null,null,null,null,null,null,null,null,null,null,null,null,null,null,null,null,null,null,null,null,null,null,null,null,null,null,null,null,null,null,null,null,null,null,null,null,null,null,null,null,null,null,null,"Дніпропетровська","Вербове (Бабайківська сільська рада)"]
[null,null,null,null,null,null,null,null,null,null,null,null,null,null,null,null,null,null,null,null,null,null,null,null,null,null,null,null,null,null,null,null,null,null,null,null,null,null,null,null,null,null,null,null,null,"Дніпропетровська","Веселе (Раївська)"]
[null,null,null,null,null,null,null,null,null,null,null,null,null,null,null,null,null,null,null,null,null,null,null,null,null,null,null,null,null,null,null,null,null,null,null,null,null,null,null,null,null,null,null,null,null,"Дніпропетровська","Гнатівка (Михайлівська сільська рада)"]
[null,null,null,null,null,null,null,null,null,null,null,null,null,null,null,null,null,null,null,null,null,null,null,null,null,null,null,null,null,null,null,null,null,null,null,null,null,null,null,null,null,null,null,null,null,"Дніпропетровська","Гришаї"]
[null,null,null,null,null,null,null,null,null,null,null,null,null,null,null,null,null,null,null,null,null,null,null,null,null,null,null,null,null,null,null,null,null,null,null,null,null,null,null,null,null,null,null,null,null,"Дніпропетровська","Євецько-Миколаївка"]
[null,null,null,null,null,null,null,null,null,null,null,null,null,null,null,null,null,null,null,null,null,null,null,null,null,null,null,null,null,null,null,null,null,null,null,null,null,null,null,null,null,null,null,null,null,"Дніпропетровська","Запорізьке (Запорізька сільська рада)"]
[null,null,null,null,null,null,null,null,null,null,null,null,null,null,null,null,null,null,null,null,null,null,null,null,null,null,null,null,null,null,null,null,null,null,null,null,null,null,null,null,null,null,null,null,null,"Дніпропетровська","Зелений Гай (Українська сільрада)"]
[null,null,null,null,null,null,null,null,null,null,null,null,null,null,null,null,null,null,null,null,null,null,null,null,null,null,null,null,null,null,null,null,null,null,null,null,null,null,null,null,null,null,null,null,null,"Дніпропетровська","Каплистівка"]
[null,null,null,null,null,null,null,null,null,null,null,null,null,null,null,null,null,null,null,null,null,null,null,null,null,null,null,null,null,null,null,null,null,null,null,null,null,null,null,null,null,null,null,null,null,"Дніпропетровська","Козодуб (Червоноіванівська сільська рада)"]
[null,null,null,null,null,null,null,null,null,null,null,null,null,null,null,null,null,null,null,null,null,null,null,null,null,null,null,null,null,null,null,null,null,null,null,null,null,null,null,null,null,null,null,null,null,"Дніпропетровська","Кринички (Марє-Дмитрівська сільська рада)"]
[null,null,null,null,null,null,null,null,null,null,null,null,null,null,null,null,null,null,null,null,null,null,null,null,null,null,null,null,null,null,null,null,null,null,null,null,null,null,null,null,null,null,null,null,null,"Дніпропетровська","Лисківка (Царичанська сільська рада)"]
[null,null,null,null,null,null,null,null,null,null,null,null,null,null,null,null,null,null,null,null,null,null,null,null,null,null,null,null,null,null,null,null,null,null,null,null,null,null,null,null,null,null,null,null,null,"Дніпропетровська","Мар'їнка"]
[null,null,null,null,null,null,null,null,null,null,null,null,null,null,null,null,null,null,null,null,null,null,null,null,null,null,null,null,null,null,null,null,null,null,null,null,null,null,null,null,null,null,null,null,null,"Дніпропетровська","Миколаївка (Миколаївська сільська рада)"]
[null,null,null,null,null,null,null,null,null,null,null,null,null,null,null,null,null,null,null,null,null,null,null,null,null,null,null,null,null,null,null,null,null,null,null,null,null,null,null,null,null,null,null,null,null,"Дніпропетровська","Нові Садки (Красінська сільська рада)"]
[null,null,null,null,null,null,null,null,null,null,null,null,null,null,null,null,null,null,null,null,null,null,null,null,null,null,null,null,null,null,null,null,null,null,null,null,null,null,null,null,null,null,null,null,null,"Дніпропетровська","Новоіванівка (Кам'янська)"]
[null,null,null,null,null,null,null,null,null,null,null,null,null,null,null,null,null,null,null,null,null,null,null,null,null,null,null,null,null,null,null,null,null,null,null,null,null,null,null,null,null,null,null,null,null,"Дніпропетровська","Новостроївка (Бабайківська сільська рада)"]
[null,null,null,null,null,null,null,null,null,null,null,null,null,null,null,null,null,null,null,null,null,null,null,null,null,null,null,null,null,null,null,null,null,null,null,null,null,null,null,null,null,null,null,null,null,"Дніпропетровська","Оленівка (Чапаєвська сільська рада)"]
[null,null,null,null,null,null,null,null,null,null,null,null,null,null,null,null,null,null,null,null,null,null,null,null,null,null,null,null,null,null,null,null,null,null,null,null,null,null,null,null,null,null,null,null,null,"Дніпропетровська","Отрадне (Чапаєвська сільська рада)"]
[null,null,null,null,null,null,null,null,null,null,null,null,null,null,null,null,null,null,null,null,null,null,null,null,null,null,null,null,null,null,null,null,null,null,null,null,null,null,null,null,null,null,null,null,null,"Дніпропетровська","Почино-Софіївка"]
[null,null,null,null,null,null,null,null,null,null,null,null,null,null,null,null,null,null,null,null,null,null,null,null,null,null,null,null,null,null,null,null,null,null,null,null,null,null,null,null,null,null,null,null,null,"Дніпропетровська","Радевичеве (Андріївська сільська рада)"]
[null,null,null,null,null,null,null,null,null,null,null,null,null,null,null,null,null,null,null,null,null,null,null,null,null,null,null,null,null,null,null,null,null,null,null,null,null,null,null,null,null,null,null,null,null,"Дніпропетровська","Сорокопанівка (Покровська сільська рада)"]
[null,null,null,null,null,null,null,null,null,null,null,null,null,null,null,null,null,null,null,null,null,null,null,null,null,null,null,null,null,null,null,null,null,null,null,null,null,null,null,null,null,null,null,null,null,"Дніпропетровська","Сурське"]
[null,null,null,null,null,null,null,null,null,null,null,null,null,null,null,null,null,null,null,null,null,null,null,null,null,null,null,null,null,null,null,null,null,null,null,null,null,null,null,null,null,null,null,null,null,"Дніпропетровська","Томаківка"]
[null,null,null,null,null,null,null,null,null,null,null,null,null,null,null,null,null,null,null,null,null,null,null,null,null,null,null,null,null,null,null,null,null,null,null,null,null,null,null,null,null,null,null,null,null,"Дніпропетровська","Чаус"]
[null,null,null,null,null,null,null,null,null,null,null,null,null,null,null,null,null,null,null,null,null,null,null,null,null,null,null,null,null,null,null,null,null,null,null,null,null,null,null,null,null,null,null,null,null,"Дніпропетровська","Червоний Промінь (Червонопроміньська сільська рада)"]
[null,null,null,null,null,null,null,null,null,null,null,null,null,null,null,null,null,null,null,null,null,null,null,null,null,null,null,null,null,null,null,null,null,null,null,null,null,null,null,null,null,null,null,null,null,"Дніпропетровська","Юр'ївське"]
[null,null,null,null,null,null,null,null,null,null,null,null,null,null,null,null,null,null,null,null,null,null,null,null,null,null,null,null,null,null,null,null,null,null,null,null,null,null,null,null,null,null,null,null,null,"Донецька","Бахчовик"]
[null,null,null,null,null,null,null,null,null,null,null,null,null,null,null,null,null,null,null,null,null,null,null,null,null,null,null,null,null,null,null,null,null,null,null,null,null,null,null,null,null,null,null,null,null,"Донецька","Виселки"]
[null,null,null,null,null,null,null,null,null,null,null,null,null,null,null,null,null,null,null,null,null,null,null,null,null,null,null,null,null,null,null,null,null,null,null,null,null,null,null,null,null,null,null,null,null,"Донецька","Володине (Старомлинівська с/р)"]
[null,null,null,null,null,null,null,null,null,null,null,null,null,null,null,null,null,null,null,null,null,null,null,null,null,null,null,null,null,null,null,null,null,null,null,null,null,null,null,null,null,null,null,null,null,"Донецька","Дробишеве"]
[null,null,null,null,null,null,null,null,null,null,null,null,null,null,null,null,null,null,null,null,null,null,null,null,null,null,null,null,null,null,null,null,null,null,null,null,null,null,null,null,null,null,null,null,null,"Донецька","Заїченко"]
[null,null,null,null,null,null,null,null,null,null,null,null,null,null,null,null,null,null,null,null,null,null,null,null,null,null,null,null,null,null,null,null,null,null,null,null,null,null,null,null,null,null,null,null,null,"Донецька","Зугрес"]
[null,null,null,null,null,null,null,null,null,null,null,null,null,null,null,null,null,null,null,null,null,null,null,null,null,null,null,null,null,null,null,null,null,null,null,null,null,null,null,null,null,null,null,null,null,"Донецька","Котлярівське"]
[null,null,null,null,null,null,null,null,null,null,null,null,null,null,null,null,null,null,null,null,null,null,null,null,null,null,null,null,null,null,null,null,null,null,null,null,null,null,null,null,null,null,null,null,null,"Донецька","Кримки"]
[null,null,null,null,null,null,null,null,null,null,null,null,null,null,null,null,null,null,null,null,null,null,null,null,null,null,null,null,null,null,null,null,null,null,null,null,null,null,null,null,null,null,null,null,null,"Донецька","Миколаївка (Новоекономічна селищна рада)"]
[null,null,null,null,null,null,null,null,null,null,null,null,null,null,null,null,null,null,null,null,null,null,null,null,null,null,null,null,null,null,null,null,null,null,null,null,null,null,null,null,null,null,null,null,null,"Донецька","Моспине"]
[null,null,null,null,null,null,null,null,null,null,null,null,null,null,null,null,null,null,null,null,null,null,null,null,null,null,null,null,null,null,null,null,null,null,null,null,null,null,null,null,null,null,null,null,null,"Донецька","Новогнатівка"]
[null,null,null,null,null,null,null,null,null,null,null,null,null,null,null,null,null,null,null,null,null,null,null,null,null,null,null,null,null,null,null,null,null,null,null,null,null,null,null,null,null,null,null,null,null,"Донецька","Обільне"]
[null,null,null,null,null,null,null,null,null,null,null,null,null,null,null,null,null,null,null,null,null,null,null,null,null,null,null,null,null,null,null,null,null,null,null,null,null,null,null,null,null,null,null,null,null,"Донецька","Пищевик"]
[null,null,null,null,null,null,null,null,null,null,null,null,null,null,null,null,null,null,null,null,null,null,null,null,null,null,null,null,null,null,null,null,null,null,null,null,null,null,null,null,null,null,null,null,null,"Донецька","Прохорівка"]
[null,null,null,null,null,null,null,null,null,null,null,null,null,null,null,null,null,null,null,null,null,null,null,null,null,null,null,null,null,null,null,null,null,null,null,null,null,null,null,null,null,null,null,null,null,"Донецька","Рідкодуб"]
[null,null,null,null,null,null,null,null,null,null,null,null,null,null,null,null,null,null,null,null,null,null,null,null,null,null,null,null,null,null,null,null,null,null,null,null,null,null,null,null,null,null,null,null,null,"Донецька","Сопине"]
[null,null,null,null,null,null,null,null,null,null,null,null,null,null,null,null,null,null,null,null,null,null,null,null,null,null,null,null,null,null,null,null,null,null,null,null,null,null,null,null,null,null,null,null,null,"Донецька","Трепельне"]
[null,null,null,null,null,null,null,null,null,null,null,null,null,null,null,null,null,null,null,null,null,null,null,null,null,null,null,null,null,null,null,null,null,null,null,null,null,null,null,null,null,null,null,null,null,"Донецька","Шабельківка"]
[null,null,null,null,null,null,null,null,null,null,null,null,null,null,null,null,null,null,null,null,null,null,null,null,null,null,null,null,null,null,null,null,null,null,null,null,null,null,null,null,null,null,null,null,null,"Донецька","Ялинське (Новопетриківська с/р)"]
[null,null,null,null,null,null,null,null,null,null,null,null,null,null,null,null,null,null,null,null,null,null,null,null,null,null,null,null,null,null,null,null,null,null,null,null,null,null,null,null,null,null,null,null,null,"Житомирська","Білилівка"]
[null,null,null,null,null,null,null,null,null,null,null,null,null,null,null,null,null,null,null,null,null,null,null,null,null,null,null,null,null,null,null,null,null,null,null,null,null,null,null,null,null,null,null,null,null,"Житомирська","Брід"]
[null,null,null,null,null,null,null,null,null,null,null,null,null,null,null,null,null,null,null,null,null,null,null,null,null,null,null,null,null,null,null,null,null,null,null,null,null,null,null,null,null,null,null,null,null,"Житомирська","Вакуленчук"]
[null,null,null,null,null,null,null,null,null,null,null,null,null,null,null,null,null,null,null,null,null,null,null,null,null,null,null,null,null,null,null,null,null,null,null,null,null,null,null,null,null,null,null,null,null,"Житомирська","Вишнянка"]
[null,null,null,null,null,null,null,null,null,null,null,null,null,null,null,null,null,null,null,null,null,null,null,null,null,null,null,null,null,null,null,null,null,null,null,null,null,null,null,null,null,null,null,null,null,"Житомирська","Голубин"]
[null,null,null,null,null,null,null,null,null,null,null,null,null,null,null,null,null,null,null,null,null,null,null,null,null,null,null,null,null,null,null,null,null,null,null,null,null,null,null,null,null,null,null,null,null,"Житомирська","Гута -Забілоцька"]
[null,null,null,null,null,null,null,null,null,null,null,null,null,null,null,null,null,null,null,null,null,null,null,null,null,null,null,null,null,null,null,null,null,null,null,null,null,null,null,null,null,null,null,null,null,"Житомирська","Дівошин"]
[null,null,null,null,null,null,null,null,null,null,null,null,null,null,null,null,null,null,null,null,null,null,null,null,null,null,null,null,null,null,null,null,null,null,null,null,null,null,null,null,null,null,null,null,null,"Житомирська","Збраньки"]
[null,null,null,null,null,null,null,null,null,null,null,null,null,null,null,null,null,null,null,null,null,null,null,null,null,null,null,null,null,null,null,null,null,null,null,null,null,null,null,null,null,null,null,null,null,"Житомирська","Іванопіль"]
[null,null,null,null,null,null,null,null,null,null,null,null,null,null,null,null,null,null,null,null,null,null,null,null,null,null,null,null,null,null,null,null,null,null,null,null,null,null,null,null,null,null,null,null,null,"Житомирська","Кораки"]
[null,null,null,null,null,null,null,null,null,null,null,null,null,null,null,null,null,null,null,null,null,null,null,null,null,null,null,null,null,null,null,null,null,null,null,null,null,null,null,null,null,null,null,null,null,"Житомирська","Краївщина"]
[null,null,null,null,null,null,null,null,null,null,null,null,null,null,null,null,null,null,null,null,null,null,null,null,null,null,null,null,null,null,null,null,null,null,null,null,null,null,null,null,null,null,null,null,null,"Житомирська","Лизник"]
[null,null,null,null,null,null,null,null,null,null,null,null,null,null,null,null,null,null,null,null,null,null,null,null,null,null,null,null,null,null,null,null,null,null,null,null,null,null,null,null,null,null,null,null,null,"Житомирська","Мала Чернігівка"]
[null,null,null,null,null,null,null,null,null,null,null,null,null,null,null,null,null,null,null,null,null,null,null,null,null,null,null,null,null,null,null,null,null,null,null,null,null,null,null,null,null,null,null,null,null,"Житомирська","Маркова Волиця"]
[null,null,null,null,null,null,null,null,null,null,null,null,null,null,null,null,null,null,null,null,null,null,null,null,null,null,null,null,null,null,null,null,null,null,null,null,null,null,null,null,null,null,null,null,null,"Житомирська","Нивки"]
[null,null,null,null,null,null,null,null,null,null,null,null,null,null,null,null,null,null,null,null,null,null,null,null,null,null,null,null,null,null,null,null,null,null,null,null,null,null,null,null,null,null,null,null,null,"Житомирська","Нові Жадьки"]
[null,null,null,null,null,null,null,null,null,null,null,null,null,null,null,null,null,null,null,null,null,null,null,null,null,null,null,null,null,null,null,null,null,null,null,null,null,null,null,null,null,null,null,null,null,"Житомирська","Павленківка"]
[null,null,null,null,null,null,null,null,null,null,null,null,null,null,null,null,null,null,null,null,null,null,null,null,null,null,null,null,null,null,null,null,null,null,null,null,null,null,null,null,null,null,null,null,null,"Житомирська","Пилипонка"]
[null,null,null,null,null,null,null,null,null,null,null,null,null,null,null,null,null,null,null,null,null,null,null,null,null,null,null,null,null,null,null,null,null,null,null,null,null,null,null,null,null,null,null,null,null,"Житомирська","Привороття"]
[null,null,null,null,null,null,null,null,null,null,null,null,null,null,null,null,null,null,null,null,null,null,null,null,null,null,null,null,null,null,null,null,null,null,null,null,null,null,null,null,null,null,null,null,null,"Житомирська","Рудня-Більківська"]
[null,null,null,null,null,null,null,null,null,null,null,null,null,null,null,null,null,null,null,null,null,null,null,null,null,null,null,null,null,null,null,null,null,null,null,null,null,null,null,null,null,null,null,null,null,"Житомирська","Середи"]
[null,null,null,null,null,null,null,null,null,null,null,null,null,null,null,null,null,null,null,null,null,null,null,null,null,null,null,null,null,null,null,null,null,null,null,null,null,null,null,null,null,null,null,null,null,"Житомирська","Старицьке"]
[null,null,null,null,null,null,null,null,null,null,null,null,null,null,null,null,null,null,null,null,null,null,null,null,null,null,null,null,null,null,null,null,null,null,null,null,null,null,null,null,null,null,null,null,null,"Житомирська","Стриєва"]
[null,null,null,null,null,null,null,null,null,null,null,null,null,null,null,null,null,null,null,null,null,null,null,null,null,null,null,null,null,null,null,null,null,null,null,null,null,null,null,null,null,null,null,null,null,"Житомирська","Хлупляни"]
[null,null,null,null,null,null,null,null,null,null,null,null,null,null,null,null,null,null,null,null,null,null,null,null,null,null,null,null,null,null,null,null,null,null,null,null,null,null,null,null,null,null,null,null,null,"Житомирська","Червона Волока"]
[null,null,null,null,null,null,null,null,null,null,null,null,null,null,null,null,null,null,null,null,null,null,null,null,null,null,null,null,null,null,null,null,null,null,null,null,null,null,null,null,null,null,null,null,null,"Житомирська","Щеніїв"]
[null,null,null,null,null,null,null,null,null,null,null,null,null,null,null,null,null,null,null,null,null,null,null,null,null,null,null,null,null,null,null,null,null,null,null,null,null,null,null,null,null,null,null,null,null,"Закарпатська","Біласовиця (Біласовицька сільська рада)"]
[null,null,null,null,null,null,null,null,null,null,null,null,null,null,null,null,null,null,null,null,null,null,null,null,null,null,null,null,null,null,null,null,null,null,null,null,null,null,null,null,null,null,null,null,null,"Закарпатська","Виноградів (Виноградівська міська рада)"]
[null,null,null,null,null,null,null,null,null,null,null,null,null,null,null,null,null,null,null,null,null,null,null,null,null,null,null,null,null,null,null,null,null,null,null,null,null,null,null,null,null,null,null,null,null,"Закарпатська","Ганьковиця (Ганьковицька сільська рада)"]
[null,null,null,null,null,null,null,null,null,null,null,null,null,null,null,null,null,null,null,null,null,null,null,null,null,null,null,null,null,null,null,null,null,null,null,null,null,null,null,null,null,null,null,null,null,"Закарпатська","Грабово (Пузняковецька сільська рада)"]
[null,null,null,null,null,null,null,null,null,null,null,null,null,null,null,null,null,null,null,null,null,null,null,null,null,null,null,null,null,null,null,null,null,null,null,null,null,null,null,null,null,null,null,null,null,"Закарпатська","Завосино (Малий Березний)"]
[null,null,null,null,null,null,null,null,null,null,null,null,null,null,null,null,null,null,null,null,null,null,null,null,null,null,null,null,null,null,null,null,null,null,null,null,null,null,null,null,null,null,null,null,null,"Закарпатська","Іршава (Іршавська міська рада)"]
[null,null,null,null,null,null,null,null,null,null,null,null,null,null,null,null,null,null,null,null,null,null,null,null,null,null,null,null,null,null,null,null,null,null,null,null,null,null,null,null,null,null,null,null,null,"Закарпатська","Кричово (Кричівська сільська рада)"]
[null,null,null,null,null,null,null,null,null,null,null,null,null,null,null,null,null,null,null,null,null,null,null,null,null,null,null,null,null,null,null,null,null,null,null,null,null,null,null,null,null,null,null,null,null,"Закарпатська","Лопушанка (Дусинська сільська рада)"]
[null,null,null,null,null,null,null,null,null,null,null,null,null,null,null,null,null,null,null,null,null,null,null,null,null,null,null,null,null,null,null,null,null,null,null,null,null,null,null,null,null,null,null,null,null,"Закарпатська","Нове Давидково (Новодавидківська сільська рада)"]
[null,null,null,null,null,null,null,null,null,null,null,null,null,null,null,null,null,null,null,null,null,null,null,null,null,null,null,null,null,null,null,null,null,null,null,null,null,null,null,null,null,null,null,null,null,"Закарпатська","Осій (Осійська сільська рада)"]
[null,null,null,null,null,null,null,null,null,null,null,null,null,null,null,null,null,null,null,null,null,null,null,null,null,null,null,null,null,null,null,null,null,null,null,null,null,null,null,null,null,null,null,null,null,"Закарпатська","Плоскановиця (Брестівська сільська рада)"]
[null,null,null,null,null,null,null,null,null,null,null,null,null,null,null,null,null,null,null,null,null,null,null,null,null,null,null,null,null,null,null,null,null,null,null,null,null,null,null,null,null,null,null,null,null,"Закарпатська","Свалява (Свалявська міська рада)"]
[null,null,null,null,null,null,null,null,null,null,null,null,null,null,null,null,null,null,null,null,null,null,null,null,null,null,null,null,null,null,null,null,null,null,null,null,null,null,null,null,null,null,null,null,null,"Закарпатська","Терново (Тернівська сільська рада)"]
[null,null,null,null,null,null,null,null,null,null,null,null,null,null,null,null,null,null,null,null,null,null,null,null,null,null,null,null,null,null,null,null,null,null,null,null,null,null,null,null,null,null,null,null,null,"Закарпатська","Усть-Чорна (Усть-Чорнянська селищна рада)"]
[null,null,null,null,null,null,null,null,null,null,null,null,null,null,null,null,null,null,null,null,null,null,null,null,null,null,null,null,null,null,null,null,null,null,null,null,null,null,null,null,null,null,null,null,null,"Закарпатська","Червеньово (Зняцівська сільська рада)"]
[null,null,null,null,null,null,null,null,null,null,null,null,null,null,null,null,null,null,null,null,null,null,null,null,null,null,null,null,null,null,null,null,null,null,null,null,null,null,null,null,null,null,null,null,null,"Запорізька","Богунівка"]
[null,null,null,null,null,null,null,null,null,null,null,null,null,null,null,null,null,null,null,null,null,null,null,null,null,null,null,null,null,null,null,null,null,null,null,null,null,null,null,null,null,null,null,null,null,"Запорізька","Веселівське"]
[null,null,null,null,null,null,null,null,null,null,null,null,null,null,null,null,null,null,null,null,null,null,null,null,null,null,null,null,null,null,null,null,null,null,null,null,null,null,null,null,null,null,null,null,null,"Запорізька","Зелена Балка"]
[null,null,null,null,null,null,null,null,null,null,null,null,null,null,null,null,null,null,null,null,null,null,null,null,null,null,null,null,null,null,null,null,null,null,null,null,null,null,null,null,null,null,null,null,null,"Запорізька","Кінські Роздори"]
[null,null,null,null,null,null,null,null,null,null,null,null,null,null,null,null,null,null,null,null,null,null,null,null,null,null,null,null,null,null,null,null,null,null,null,null,null,null,null,null,null,null,null,null,null,"Запорізька","Люцерна"]
[null,null,null,null,null,null,null,null,null,null,null,null,null,null,null,null,null,null,null,null,null,null,null,null,null,null,null,null,null,null,null,null,null,null,null,null,null,null,null,null,null,null,null,null,null,"Запорізька","Новозлатопіль"]
[null,null,null,null,null,null,null,null,null,null,null,null,null,null,null,null,null,null,null,null,null,null,null,null,null,null,null,null,null,null,null,null,null,null,null,null,null,null,null,null,null,null,null,null,null,"Запорізька","Новостепнянське"]
[null,null,null,null,null,null,null,null,null,null,null,null,null,null,null,null,null,null,null,null,null,null,null,null,null,null,null,null,null,null,null,null,null,null,null,null,null,null,null,null,null,null,null,null,null,"Запорізька","Ручаївка"]
[null,null,null,null,null,null,null,null,null,null,null,null,null,null,null,null,null,null,null,null,null,null,null,null,null,null,null,null,null,null,null,null,null,null,null,null,null,null,null,null,null,null,null,null,null,"Запорізька","Стульневе, селище"]
[null,null,null,null,null,null,null,null,null,null,null,null,null,null,null,null,null,null,null,null,null,null,null,null,null,null,null,null,null,null,null,null,null,null,null,null,null,null,null,null,null,null,null,null,null,"Івано_Франківська","Балинці"]
[null,null,null,null,null,null,null,null,null,null,null,null,null,null,null,null,null,null,null,null,null,null,null,null,null,null,null,null,null,null,null,null,null,null,null,null,null,null,null,null,null,null,null,null,null,"Івано_Франківська","Богородчани"]
[null,null,null,null,null,null,null,null,null,null,null,null,null,null,null,null,null,null,null,null,null,null,null,null,null,null,null,null,null,null,null,null,null,null,null,null,null,null,null,null,null,null,null,null,null,"Івано_Франківська","Вербилівці"]
[null,null,null,null,null,null,null,null,null,null,null,null,null,null,null,null,null,null,null,null,null,null,null,null,null,null,null,null,null,null,null,null,null,null,null,null,null,null,null,null,null,null,null,null,null,"Івано_Франківська","Глушків"]
[null,null,null,null,null,null,null,null,null,null,null,null,null,null,null,null,null,null,null,null,null,null,null,null,null,null,null,null,null,null,null,null,null,null,null,null,null,null,null,null,null,null,null,null,null,"Івано_Франківська","Гузіїв"]
[null,null,null,null,null,null,null,null,null,null,null,null,null,null,null,null,null,null,null,null,null,null,null,null,null,null,null,null,null,null,null,null,null,null,null,null,null,null,null,null,null,null,null,null,null,"Івано_Франківська","Заланів"]
[null,null,null,null,null,null,null,null,null,null,null,null,null,null,null,null,null,null,null,null,null,null,null,null,null,null,null,null,null,null,null,null,null,null,null,null,null,null,null,null,null,null,null,null,null,"Івано_Франківська","Ільці"]
[null,null,null,null,null,null,null,null,null,null,null,null,null,null,null,null,null,null,null,null,null,null,null,null,null,null,null,null,null,null,null,null,null,null,null,null,null,null,null,null,null,null,null,null,null,"Івано_Франківська","Кулачківці"]
[null,null,null,null,null,null,null,null,null,null,null,null,null,null,null,null,null,null,null,null,null,null,null,null,null,null,null,null,null,null,null,null,null,null,null,null,null,null,null,null,null,null,null,null,null,"Івано_Франківська","Лісна Тарновиця"]
[null,null,null,null,null,null,null,null,null,null,null,null,null,null,null,null,null,null,null,null,null,null,null,null,null,null,null,null,null,null,null,null,null,null,null,null,null,null,null,null,null,null,null,null,null,"Івано_Франківська","Межигірці"]
[null,null,null,null,null,null,null,null,null,null,null,null,null,null,null,null,null,null,null,null,null,null,null,null,null,null,null,null,null,null,null,null,null,null,null,null,null,null,null,null,null,null,null,null,null,"Івано_Франківська","Олешів"]
[null,null,null,null,null,null,null,null,null,null,null,null,null,null,null,null,null,null,null,null,null,null,null,null,null,null,null,null,null,null,null,null,null,null,null,null,null,null,null,null,null,null,null,null,null,"Івано_Франківська","Перерив"]
[null,null,null,null,null,null,null,null,null,null,null,null,null,null,null,null,null,null,null,null,null,null,null,null,null,null,null,null,null,null,null,null,null,null,null,null,null,null,null,null,null,null,null,null,null,"Івано_Франківська","Рибне"]
[null,null,null,null,null,null,null,null,null,null,null,null,null,null,null,null,null,null,null,null,null,null,null,null,null,null,null,null,null,null,null,null,null,null,null,null,null,null,null,null,null,null,null,null,null,"Івано_Франківська","Саджавка"]
[null,null,null,null,null,null,null,null,null,null,null,null,null,null,null,null,null,null,null,null,null,null,null,null,null,null,null,null,null,null,null,null,null,null,null,null,null,null,null,null,null,null,null,null,null,"Івано_Франківська","Студинець"]
[null,null,null,null,null,null,null,null,null,null,null,null,null,null,null,null,null,null,null,null,null,null,null,null,null,null,null,null,null,null,null,null,null,null,null,null,null,null,null,null,null,null,null,null,null,"Івано_Франківська","Тужилів"]
[null,null,null,null,null,null,null,null,null,null,null,null,null,null,null,null,null,null,null,null,null,null,null,null,null,null,null,null,null,null,null,null,null,null,null,null,null,null,null,null,null,null,null,null,null,"Івано_Франківська","Юнашків"]
[null,null,null,null,null,null,null,null,null,null,null,null,null,null,null,null,null,null,null,null,null,null,null,null,null,null,null,null,null,null,null,null,null,null,null,null,null,null,null,null,null,null,null,null,null,"Київська","Баришівка"]
[null,null,null,null,null,null,null,null,null,null,null,null,null,null,null,null,null,null,null,null,null,null,null,null,null,null,null,null,null,null,null,null,null,null,null,null,null,null,null,null,null,null,null,null,null,"Київська","Велика Вільшанка"]
[null,null,null,null,null,null,null,null,null,null,null,null,null,null,null,null,null,null,null,null,null,null,null,null,null,null,null,null,null,null,null,null,null,null,null,null,null,null,null,null,null,null,null,null,null,"Київська","Вербова"]
[null,null,null,null,null,null,null,null,null,null,null,null,null,null,null,null,null,null,null,null,null,null,null,null,null,null,null,null,null,null,null,null,null,null,null,null,null,null,null,null,null,null,null,null,null,"Київська","Володимирське"]
[null,null,null,null,null,null,null,null,null,null,null,null,null,null,null,null,null,null,null,null,null,null,null,null,null,null,null,null,null,null,null,null,null,null,null,null,null,null,null,null,null,null,null,null,null,"Київська","Гречанівка"]
[null,null,null,null,null,null,null,null,null,null,null,null,null,null,null,null,null,null,null,null,null,null,null,null,null,null,null,null,null,null,null,null,null,null,null,null,null,null,null,null,null,null,null,null,null,"Київська","Дзвеняче"]
[null,null,null,null,null,null,null,null,null,null,null,null,null,null,null,null,null,null,null,null,null,null,null,null,null,null,null,null,null,null,null,null,null,null,null,null,null,null,null,null,null,null,null,null,null,"Київська","Заострівське"]
[null,null,null,null,null,null,null,null,null,null,null,null,null,null,null,null,null,null,null,null,null,null,null,null,null,null,null,null,null,null,null,null,null,null,null,null,null,null,null,null,null,null,null,null,null,"Київська","Кам'яна Гребля"]
[null,null,null,null,null,null,null,null,null,null,null,null,null,null,null,null,null,null,null,null,null,null,null,null,null,null,null,null,null,null,null,null,null,null,null,null,null,null,null,null,null,null,null,null,null,"Київська","Крушинка"]
[null,null,null,null,null,null,null,null,null,null,null,null,null,null,null,null,null,null,null,null,null,null,null,null,null,null,null,null,null,null,null,null,null,null,null,null,null,null,null,null,null,null,null,null,null,"Київська","Лецьки"]
[null,null,null,null,null,null,null,null,null,null,null,null,null,null,null,null,null,null,null,null,null,null,null,null,null,null,null,null,null,null,null,null,null,null,null,null,null,null,null,null,null,null,null,null,null,"Київська","Мала Тарасівка"]
[null,null,null,null,null,null,null,null,null,null,null,null,null,null,null,null,null,null,null,null,null,null,null,null,null,null,null,null,null,null,null,null,null,null,null,null,null,null,null,null,null,null,null,null,null,"Київська","Мисайлівка"]
[null,null,null,null,null,null,null,null,null,null,null,null,null,null,null,null,null,null,null,null,null,null,null,null,null,null,null,null,null,null,null,null,null,null,null,null,null,null,null,null,null,null,null,null,null,"Київська","Насташка"]
[null,null,null,null,null,null,null,null,null,null,null,null,null,null,null,null,null,null,null,null,null,null,null,null,null,null,null,null,null,null,null,null,null,null,null,null,null,null,null,null,null,null,null,null,null,"Київська","Пасківщина"]
[null,null,null,null,null,null,null,null,null,null,null,null,null,null,null,null,null,null,null,null,null,null,null,null,null,null,null,null,null,null,null,null,null,null,null,null,null,null,null,null,null,null,null,null,null,"Київська","Плюти"]
[null,null,null,null,null,null,null,null,null,null,null,null,null,null,null,null,null,null,null,null,null,null,null,null,null,null,null,null,null,null,null,null,null,null,null,null,null,null,null,null,null,null,null,null,null,"Київська","Розважів"]
[null,null,null,null,null,null,null,null,null,null,null,null,null,null,null,null,null,null,null,null,null,null,null,null,null,null,null,null,null,null,null,null,null,null,null,null,null,null,null,null,null,null,null,null,null,"Київська","Саврань"]
[null,null,null,null,null,null,null,null,null,null,null,null,null,null,null,null,null,null,null,null,null,null,null,null,null,null,null,null,null,null,null,null,null,null,null,null,null,null,null,null,null,null,null,null,null,"Київська","Стоянка"]
[null,null,null,null,null,null,null,null,null,null,null,null,null,null,null,null,null,null,null,null,null,null,null,null,null,null,null,null,null,null,null,null,null,null,null,null,null,null,null,null,null,null,null,null,null,"Київська","Тараща"]
[null,null,null,null,null,null,null,null,null,null,null,null,null,null,null,null,null,null,null,null,null,null,null,null,null,null,null,null,null,null,null,null,null,null,null,null,null,null,null,null,null,null,null,null,null,"Київська","Урсалівка"]
[null,null,null,null,null,null,null,null,null,null,null,null,null,null,null,null,null,null,null,null,null,null,null,null,null,null,null,null,null,null,null,null,null,null,null,null,null,null,null,null,null,null,null,null,null,"Київська","Червоне Поле"]
[null,null,null,null,null,null,null,null,null,null,null,null,null,null,null,null,null,null,null,null,null,null,null,null,null,null,null,null,null,null,null,null,null,null,null,null,null,null,null,null,null,null,null,null,null,"Київська","Шевченківка"]
[null,null,null,null,null,null,null,null,null,null,null,null,null,null,null,null,null,null,null,null,null,null,null,null,null,null,null,null,null,null,null,null,null,null,null,null,null,null,null,null,null,null,null,null,null,"Кіровоградська","Бузникувате"]
[null,null,null,null,null,null,null,null,null,null,null,null,null,null,null,null,null,null,null,null,null,null,null,null,null,null,null,null,null,null,null,null,null,null,null,null,null,null,null,null,null,null,null,null,null,"Кіровоградська","Височанове"]
[null,null,null,null,null,null,null,null,null,null,null,null,null,null,null,null,null,null,null,null,null,null,null,null,null,null,null,null,null,null,null,null,null,null,null,null,null,null,null,null,null,null,null,null,null,"Кіровоградська","Звенигородка"]
[null,null,null,null,null,null,null,null,null,null,null,null,null,null,null,null,null,null,null,null,null,null,null,null,null,null,null,null,null,null,null,null,null,null,null,null,null,null,null,null,null,null,null,null,null,"Кіровоградська","Камбурліївка"]
[null,null,null,null,null,null,null,null,null,null,null,null,null,null,null,null,null,null,null,null,null,null,null,null,null,null,null,null,null,null,null,null,null,null,null,null,null,null,null,null,null,null,null,null,null,"Кіровоградська","Лев-балка"]
[null,null,null,null,null,null,null,null,null,null,null,null,null,null,null,null,null,null,null,null,null,null,null,null,null,null,null,null,null,null,null,null,null,null,null,null,null,null,null,null,null,null,null,null,null,"Кіровоградська","Могилів Курінь"]
[null,null,null,null,null,null,null,null,null,null,null,null,null,null,null,null,null,null,null,null,null,null,null,null,null,null,null,null,null,null,null,null,null,null,null,null,null,null,null,null,null,null,null,null,null,"Кіровоградська","Низове"]
[null,null,null,null,null,null,null,null,null,null,null,null,null,null,null,null,null,null,null,null,null,null,null,null,null,null,null,null,null,null,null,null,null,null,null,null,null,null,null,null,null,null,null,null,null,"Кіровоградська","Піщаний  Брід"]
[null,null,null,null,null,null,null,null,null,null,null,null,null,null,null,null,null,null,null,null,null,null,null,null,null,null,null,null,null,null,null,null,null,null,null,null,null,null,null,null,null,null,null,null,null,"Кіровоградська","П'ятомиколаївка"]
[null,null,null,null,null,null,null,null,null,null,null,null,null,null,null,null,null,null,null,null,null,null,null,null,null,null,null,null,null,null,null,null,null,null,null,null,null,null,null,null,null,null,null,null,null,"Кіровоградська","Сухолітівка"]
[null,null,null,null,null,null,null,null,null,null,null,null,null,null,null,null,null,null,null,null,null,null,null,null,null,null,null,null,null,null,null,null,null,null,null,null,null,null,null,null,null,null,null,null,null,"Кіровоградська","Червоний Ташлик"]
[null,null,null,null,null,null,null,null,null,null,null,null,null,null,null,null,null,null,null,null,null,null,null,null,null,null,null,null,null,null,null,null,null,null,null,null,null,null,null,null,null,null,null,null,null,"Луганська","Бокове-Платове"]
[null,null,null,null,null,null,null,null,null,null,null,null,null,null,null,null,null,null,null,null,null,null,null,null,null,null,null,null,null,null,null,null,null,null,null,null,null,null,null,null,null,null,null,null,null,"Луганська","Велика Мартинівка"]
[null,null,null,null,null,null,null,null,null,null,null,null,null,null,null,null,null,null,null,null,null,null,null,null,null,null,null,null,null,null,null,null,null,null,null,null,null,null,null,null,null,null,null,null,null,"Луганська","Верхньокам'янка"]
[null,null,null,null,null,null,null,null,null,null,null,null,null,null,null,null,null,null,null,null,null,null,null,null,null,null,null,null,null,null,null,null,null,null,null,null,null,null,null,null,null,null,null,null,null,"Луганська","Давидівка"]
[null,null,null,null,null,null,null,null,null,null,null,null,null,null,null,null,null,null,null,null,null,null,null,null,null,null,null,null,null,null,null,null,null,null,null,null,null,null,null,null,null,null,null,null,null,"Луганська","Енгельсове (Енгельсовська селещна рада)"]
[null,null,null,null,null,null,null,null,null,null,null,null,null,null,null,null,null,null,null,null,null,null,null,null,null,null,null,null,null,null,null,null,null,null,null,null,null,null,null,null,null,null,null,null,null,"Луганська","Карпати"]
[null,null,null,null,null,null,null,null,null,null,null,null,null,null,null,null,null,null,null,null,null,null,null,null,null,null,null,null,null,null,null,null,null,null,null,null,null,null,null,null,null,null,null,null,null,"Луганська","Козарик"]
[null,null,null,null,null,null,null,null,null,null,null,null,null,null,null,null,null,null,null,null,null,null,null,null,null,null,null,null,null,null,null,null,null,null,null,null,null,null,null,null,null,null,null,null,null,"Луганська","Куплювате"]
[null,null,null,null,null,null,null,null,null,null,null,null,null,null,null,null,null,null,null,null,null,null,null,null,null,null,null,null,null,null,null,null,null,null,null,null,null,null,null,null,null,null,null,null,null,"Луганська","Лоскутівка"]
[null,null,null,null,null,null,null,null,null,null,null,null,null,null,null,null,null,null,null,null,null,null,null,null,null,null,null,null,null,null,null,null,null,null,null,null,null,null,null,null,null,null,null,null,null,"Луганська","Марківське"]
[null,null,null,null,null,null,null,null,null,null,null,null,null,null,null,null,null,null,null,null,null,null,null,null,null,null,null,null,null,null,null,null,null,null,null,null,null,null,null,null,null,null,null,null,null,"Луганська","Новодружеськ"]
[null,null,null,null,null,null,null,null,null,null,null,null,null,null,null,null,null,null,null,null,null,null,null,null,null,null,null,null,null,null,null,null,null,null,null,null,null,null,null,null,null,null,null,null,null,"Луганська","Новоспасівка"]
[null,null,null,null,null,null,null,null,null,null,null,null,null,null,null,null,null,null,null,null,null,null,null,null,null,null,null,null,null,null,null,null,null,null,null,null,null,null,null,null,null,null,null,null,null,"Луганська","Преображенне"]
[null,null,null,null,null,null,null,null,null,null,null,null,null,null,null,null,null,null,null,null,null,null,null,null,null,null,null,null,null,null,null,null,null,null,null,null,null,null,null,null,null,null,null,null,null,"Луганська","Радісне (Білоскелюватська сільська рада)"]
[null,null,null,null,null,null,null,null,null,null,null,null,null,null,null,null,null,null,null,null,null,null,null,null,null,null,null,null,null,null,null,null,null,null,null,null,null,null,null,null,null,null,null,null,null,"Луганська","Станично-Луганське"]
[null,null,null,null,null,null,null,null,null,null,null,null,null,null,null,null,null,null,null,null,null,null,null,null,null,null,null,null,null,null,null,null,null,null,null,null,null,null,null,null,null,null,null,null,null,"Луганська","Тернівка"]
[null,null,null,null,null,null,null,null,null,null,null,null,null,null,null,null,null,null,null,null,null,null,null,null,null,null,null,null,null,null,null,null,null,null,null,null,null,null,null,null,null,null,null,null,null,"Луганська","Червоногвардійське"]
[null,null,null,null,null,null,null,null,null,null,null,null,null,null,null,null,null,null,null,null,null,null,null,null,null,null,null,null,null,null,null,null,null,null,null,null,null,null,null,null,null,null,null,null,null,"Луганська","Щотове"]
[null,null,null,null,null,null,null,null,null,null,null,null,null,null,null,null,null,null,null,null,null,null,null,null,null,null,null,null,null,null,null,null,null,null,null,null,null,null,null,null,null,null,null,null,null,"Львівська","Бишків"]
[null,null,null,null,null,null,null,null,null,null,null,null,null,null,null,null,null,null,null,null,null,null,null,null,null,null,null,null,null,null,null,null,null,null,null,null,null,null,null,null,null,null,null,null,null,"Львівська","Богутин"]
[null,null,null,null,null,null,null,null,null,null,null,null,null,null,null,null,null,null,null,null,null,null,null,null,null,null,null,null,null,null,null,null,null,null,null,null,null,null,null,null,null,null,null,null,null,"Львівська","Бояничі"]
[null,null,null,null,null,null,null,null,null,null,null,null,null,null,null,null,null,null,null,null,null,null,null,null,null,null,null,null,null,null,null,null,null,null,null,null,null,null,null,null,null,null,null,null,null,"Львівська","Велика Лінина"]
[null,null,null,null,null,null,null,null,null,null,null,null,null,null,null,null,null,null,null,null,null,null,null,null,null,null,null,null,null,null,null,null,null,null,null,null,null,null,null,null,null,null,null,null,null,"Львівська","Верхня Лукавиця"]
[null,null,null,null,null,null,null,null,null,null,null,null,null,null,null,null,null,null,null,null,null,null,null,null,null,null,null,null,null,null,null,null,null,null,null,null,null,null,null,null,null,null,null,null,null,"Львівська","Воля Добростанська"]
[null,null,null,null,null,null,null,null,null,null,null,null,null,null,null,null,null,null,null,null,null,null,null,null,null,null,null,null,null,null,null,null,null,null,null,null,null,null,null,null,null,null,null,null,null,"Львівська","Вуйковичі"]
[null,null,null,null,null,null,null,null,null,null,null,null,null,null,null,null,null,null,null,null,null,null,null,null,null,null,null,null,null,null,null,null,null,null,null,null,null,null,null,null,null,null,null,null,null,"Львівська","Грабівниця"]
[null,null,null,null,null,null,null,null,null,null,null,null,null,null,null,null,null,null,null,null,null,null,null,null,null,null,null,null,null,null,null,null,null,null,null,null,null,null,null,null,null,null,null,null,null,"Львівська","Гуманець"]
[null,null,null,null,null,null,null,null,null,null,null,null,null,null,null,null,null,null,null,null,null,null,null,null,null,null,null,null,null,null,null,null,null,null,null,null,null,null,null,null,null,null,null,null,null,"Львівська","Долини (Стародобротвірська сільська рада)"]
[null,null,null,null,null,null,null,null,null,null,null,null,null,null,null,null,null,null,null,null,null,null,null,null,null,null,null,null,null,null,null,null,null,null,null,null,null,null,null,null,null,null,null,null,null,"Львівська","Жирівка"]
[null,null,null,null,null,null,null,null,null,null,null,null,null,null,null,null,null,null,null,null,null,null,null,null,null,null,null,null,null,null,null,null,null,null,null,null,null,null,null,null,null,null,null,null,null,"Львівська","Журавків"]
[null,null,null,null,null,null,null,null,null,null,null,null,null,null,null,null,null,null,null,null,null,null,null,null,null,null,null,null,null,null,null,null,null,null,null,null,null,null,null,null,null,null,null,null,null,"Львівська","Заставне"]
[null,null,null,null,null,null,null,null,null,null,null,null,null,null,null,null,null,null,null,null,null,null,null,null,null,null,null,null,null,null,null,null,null,null,null,null,null,null,null,null,null,null,null,null,null,"Львівська","Золочів"]
[null,null,null,null,null,null,null,null,null,null,null,null,null,null,null,null,null,null,null,null,null,null,null,null,null,null,null,null,null,null,null,null,null,null,null,null,null,null,null,null,null,null,null,null,null,"Львівська","Кобилеччина"]
[null,null,null,null,null,null,null,null,null,null,null,null,null,null,null,null,null,null,null,null,null,null,null,null,null,null,null,null,null,null,null,null,null,null,null,null,null,null,null,null,null,null,null,null,null,"Львівська","Конюхів"]
[null,null,null,null,null,null,null,null,null,null,null,null,null,null,null,null,null,null,null,null,null,null,null,null,null,null,null,null,null,null,null,null,null,null,null,null,null,null,null,null,null,null,null,null,null,"Львівська","Костенів"]
[null,null,null,null,null,null,null,null,null,null,null,null,null,null,null,null,null,null,null,null,null,null,null,null,null,null,null,null,null,null,null,null,null,null,null,null,null,null,null,null,null,null,null,null,null,"Львівська","Ладанці"]
[null,null,null,null,null,null,null,null,null,null,null,null,null,null,null,null,null,null,null,null,null,null,null,null,null,null,null,null,null,null,null,null,null,null,null,null,null,null,null,null,null,null,null,null,null,"Львівська","Листв'яне"]
[null,null,null,null,null,null,null,null,null,null,null,null,null,null,null,null,null,null,null,null,null,null,null,null,null,null,null,null,null,null,null,null,null,null,null,null,null,null,null,null,null,null,null,null,null,"Львівська","Маїки"]
[null,null,null,null,null,null,null,null,null,null,null,null,null,null,null,null,null,null,null,null,null,null,null,null,null,null,null,null,null,null,null,null,null,null,null,null,null,null,null,null,null,null,null,null,null,"Львівська","Малі Ланки"]
[null,null,null,null,null,null,null,null,null,null,null,null,null,null,null,null,null,null,null,null,null,null,null,null,null,null,null,null,null,null,null,null,null,null,null,null,null,null,null,null,null,null,null,null,null,"Львівська","Молотів"]
[null,null,null,null,null,null,null,null,null,null,null,null,null,null,null,null,null,null,null,null,null,null,null,null,null,null,null,null,null,null,null,null,null,null,null,null,null,null,null,null,null,null,null,null,null,"Львівська","Нагачів"]
[null,null,null,null,null,null,null,null,null,null,null,null,null,null,null,null,null,null,null,null,null,null,null,null,null,null,null,null,null,null,null,null,null,null,null,null,null,null,null,null,null,null,null,null,null,"Львівська","Новини"]
[null,null,null,null,null,null,null,null,null,null,null,null,null,null,null,null,null,null,null,null,null,null,null,null,null,null,null,null,null,null,null,null,null,null,null,null,null,null,null,null,null,null,null,null,null,"Львівська","Опори"]
[null,null,null,null,null,null,null,null,null,null,null,null,null,null,null,null,null,null,null,null,null,null,null,null,null,null,null,null,null,null,null,null,null,null,null,null,null,null,null,null,null,null,null,null,null,"Львівська","Папірня"]
[null,null,null,null,null,null,null,null,null,null,null,null,null,null,null,null,null,null,null,null,null,null,null,null,null,null,null,null,null,null,null,null,null,null,null,null,null,null,null,null,null,null,null,null,null,"Львівська","Пісок"]
[null,null,null,null,null,null,null,null,null,null,null,null,null,null,null,null,null,null,null,null,null,null,null,null,null,null,null,null,null,null,null,null,null,null,null,null,null,null,null,null,null,null,null,null,null,"Львівська","Погірці"]
[null,null,null,null,null,null,null,null,null,null,null,null,null,null,null,null,null,null,null,null,null,null,null,null,null,null,null,null,null,null,null,null,null,null,null,null,null,null,null,null,null,null,null,null,null,"Львівська","Раковища"]
[null,null,null,null,null,null,null,null,null,null,null,null,null,null,null,null,null,null,null,null,null,null,null,null,null,null,null,null,null,null,null,null,null,null,null,null,null,null,null,null,null,null,null,null,null,"Львівська","Рішин"]
[null,null,null,null,null,null,null,null,null,null,null,null,null,null,null,null,null,null,null,null,null,null,null,null,null,null,null,null,null,null,null,null,null,null,null,null,null,null,null,null,null,null,null,null,null,"Львівська","Себечів"]
[null,null,null,null,null,null,null,null,null,null,null,null,null,null,null,null,null,null,null,null,null,null,null,null,null,null,null,null,null,null,null,null,null,null,null,null,null,null,null,null,null,null,null,null,null,"Львівська","Слабаш"]
[null,null,null,null,null,null,null,null,null,null,null,null,null,null,null,null,null,null,null,null,null,null,null,null,null,null,null,null,null,null,null,null,null,null,null,null,null,null,null,null,null,null,null,null,null,"Львівська","Стені"]
[null,null,null,null,null,null,null,null,null,null,null,null,null,null,null,null,null,null,null,null,null,null,null,null,null,null,null,null,null,null,null,null,null,null,null,null,null,null,null,null,null,null,null,null,null,"Львівська","Стрілків"]
[null,null,null,null,null,null,null,null,null,null,null,null,null,null,null,null,null,null,null,null,null,null,null,null,null,null,null,null,null,null,null,null,null,null,null,null,null,null,null,null,null,null,null,null,null,"Львівська","Сушно"]
[null,null,null,null,null,null,null,null,null,null,null,null,null,null,null,null,null,null,null,null,null,null,null,null,null,null,null,null,null,null,null,null,null,null,null,null,null,null,null,null,null,null,null,null,null,"Львівська","Тур'я"]
[null,null,null,null,null,null,null,null,null,null,null,null,null,null,null,null,null,null,null,null,null,null,null,null,null,null,null,null,null,null,null,null,null,null,null,null,null,null,null,null,null,null,null,null,null,"Львівська","Фійна"]
[null,null,null,null,null,null,null,null,null,null,null,null,null,null,null,null,null,null,null,null,null,null,null,null,null,null,null,null,null,null,null,null,null,null,null,null,null,null,null,null,null,null,null,null,null,"Львівська","Черневе"]
[null,null,null,null,null,null,null,null,null,null,null,null,null,null,null,null,null,null,null,null,null,null,null,null,null,null,null,null,null,null,null,null,null,null,null,null,null,null,null,null,null,null,null,null,null,"Львівська","Штуковець"]
[null,null,null,null,null,null,null,null,null,null,null,null,null,null,null,null,null,null,null,null,null,null,null,null,null,null,null,null,null,null,null,null,null,null,null,null,null,null,null,null,null,null,null,null,null,"Миколаївська","Афанасівка"]
[null,null,null,null,null,null,null,null,null,null,null,null,null,null,null,null,null,null,null,null,null,null,null,null,null,null,null,null,null,null,null,null,null,null,null,null,null,null,null,null,null,null,null,null,null,"Миколаївська","Біла  Криниця (Білокриницька)"]
[null,null,null,null,null,null,null,null,null,null,null,null,null,null,null,null,null,null,null,null,null,null,null,null,null,null,null,null,null,null,null,null,null,null,null,null,null,null,null,null,null,null,null,null,null,"Миколаївська","Булацелове (Семенівська)"]
[null,null,null,null,null,null,null,null,null,null,null,null,null,null,null,null,null,null,null,null,null,null,null,null,null,null,null,null,null,null,null,null,null,null,null,null,null,null,null,null,null,null,null,null,null,"Миколаївська","Волна (Олександрівська)"]
[null,null,null,null,null,null,null,null,null,null,null,null,null,null,null,null,null,null,null,null,null,null,null,null,null,null,null,null,null,null,null,null,null,null,null,null,null,null,null,null,null,null,null,null,null,"Миколаївська","Гамове (Кубряцька)"]
[null,null,null,null,null,null,null,null,null,null,null,null,null,null,null,null,null,null,null,null,null,null,null,null,null,null,null,null,null,null,null,null,null,null,null,null,null,null,null,null,null,null,null,null,null,"Миколаївська","Зброшкове (Доманівська)"]
[null,null,null,null,null,null,null,null,null,null,null,null,null,null,null,null,null,null,null,null,null,null,null,null,null,null,null,null,null,null,null,null,null,null,null,null,null,null,null,null,null,null,null,null,null,"Миколаївська","Зелений Гай (Кашперо-Миколаївська)"]
[null,null,null,null,null,null,null,null,null,null,null,null,null,null,null,null,null,null,null,null,null,null,null,null,null,null,null,null,null,null,null,null,null,null,null,null,null,null,null,null,null,null,null,null,null,"Миколаївська","Кашперо-Миколаївка (Кашперо-Миколаївська)"]
[null,null,null,null,null,null,null,null,null,null,null,null,null,null,null,null,null,null,null,null,null,null,null,null,null,null,null,null,null,null,null,null,null,null,null,null,null,null,null,null,null,null,null,null,null,"Миколаївська","Колос Добра (Новоселівська)"]
[null,null,null,null,null,null,null,null,null,null,null,null,null,null,null,null,null,null,null,null,null,null,null,null,null,null,null,null,null,null,null,null,null,null,null,null,null,null,null,null,null,null,null,null,null,"Миколаївська","Лісове (Володимирівська)"]
[null,null,null,null,null,null,null,null,null,null,null,null,null,null,null,null,null,null,null,null,null,null,null,null,null,null,null,null,null,null,null,null,null,null,null,null,null,null,null,null,null,null,null,null,null,"Миколаївська","Макарове (Улянівська)"]
[null,null,null,null,null,null,null,null,null,null,null,null,null,null,null,null,null,null,null,null,null,null,null,null,null,null,null,null,null,null,null,null,null,null,null,null,null,null,null,null,null,null,null,null,null,"Миколаївська","Мостове (Ганнівська)"]
[null,null,null,null,null,null,null,null,null,null,null,null,null,null,null,null,null,null,null,null,null,null,null,null,null,null,null,null,null,null,null,null,null,null,null,null,null,null,null,null,null,null,null,null,null,"Миколаївська","Мостове (Мостівське)"]
[null,null,null,null,null,null,null,null,null,null,null,null,null,null,null,null,null,null,null,null,null,null,null,null,null,null,null,null,null,null,null,null,null,null,null,null,null,null,null,null,null,null,null,null,null,"Миколаївська","Новодмитрівка (Новомихайлівська)"]
[null,null,null,null,null,null,null,null,null,null,null,null,null,null,null,null,null,null,null,null,null,null,null,null,null,null,null,null,null,null,null,null,null,null,null,null,null,null,null,null,null,null,null,null,null,"Миколаївська","Новосілка (Подільська)"]
[null,null,null,null,null,null,null,null,null,null,null,null,null,null,null,null,null,null,null,null,null,null,null,null,null,null,null,null,null,null,null,null,null,null,null,null,null,null,null,null,null,null,null,null,null,"Миколаївська","Олександрівка (Антонівська)"]
[null,null,null,null,null,null,null,null,null,null,null,null,null,null,null,null,null,null,null,null,null,null,null,null,null,null,null,null,null,null,null,null,null,null,null,null,null,null,null,null,null,null,null,null,null,"Миколаївська","Показне (Вільнозапорізька)"]
[null,null,null,null,null,null,null,null,null,null,null,null,null,null,null,null,null,null,null,null,null,null,null,null,null,null,null,null,null,null,null,null,null,null,null,null,null,null,null,null,null,null,null,null,null,"Миколаївська","Пришиб (Висунська)"]
[null,null,null,null,null,null,null,null,null,null,null,null,null,null,null,null,null,null,null,null,null,null,null,null,null,null,null,null,null,null,null,null,null,null,null,null,null,null,null,null,null,null,null,null,null,"Миколаївська","Станіславчик (Болеславчицька)"]
[null,null,null,null,null,null,null,null,null,null,null,null,null,null,null,null,null,null,null,null,null,null,null,null,null,null,null,null,null,null,null,null,null,null,null,null,null,null,null,null,null,null,null,null,null,"Миколаївська","Тернові Поди (Краснознам'янська)"]
[null,null,null,null,null,null,null,null,null,null,null,null,null,null,null,null,null,null,null,null,null,null,null,null,null,null,null,null,null,null,null,null,null,null,null,null,null,null,null,null,null,null,null,null,null,"Миколаївська","Улянівка (Воронцівська)"]
[null,null,null,null,null,null,null,null,null,null,null,null,null,null,null,null,null,null,null,null,null,null,null,null,null,null,null,null,null,null,null,null,null,null,null,null,null,null,null,null,null,null,null,null,null,"Миколаївська","Шмідтівка (Матіясівська)"]
[null,null,null,null,null,null,null,null,null,null,null,null,null,null,null,null,null,null,null,null,null,null,null,null,null,null,null,null,null,null,null,null,null,null,null,null,null,null,null,null,null,null,null,null,null,"Миколаївська","Ясна Зоря (Ольшанська)"]
[null,null,null,null,null,null,null,null,null,null,null,null,null,null,null,null,null,null,null,null,null,null,null,null,null,null,null,null,null,null,null,null,null,null,null,null,null,null,null,null,null,null,null,null,null,"Одеська","Борщі"]
[null,null,null,null,null,null,null,null,null,null,null,null,null,null,null,null,null,null,null,null,null,null,null,null,null,null,null,null,null,null,null,null,null,null,null,null,null,null,null,null,null,null,null,null,null,"Одеська","Вапнярка"]
[null,null,null,null,null,null,null,null,null,null,null,null,null,null,null,null,null,null,null,null,null,null,null,null,null,null,null,null,null,null,null,null,null,null,null,null,null,null,null,null,null,null,null,null,null,"Одеська","Дальнічень"]
[null,null,null,null,null,null,null,null,null,null,null,null,null,null,null,null,null,null,null,null,null,null,null,null,null,null,null,null,null,null,null,null,null,null,null,null,null,null,null,null,null,null,null,null,null,"Одеська","Єфросинівка"]
[null,null,null,null,null,null,null,null,null,null,null,null,null,null,null,null,null,null,null,null,null,null,null,null,null,null,null,null,null,null,null,null,null,null,null,null,null,null,null,null,null,null,null,null,null,"Одеська","Кілія"]
[null,null,null,null,null,null,null,null,null,null,null,null,null,null,null,null,null,null,null,null,null,null,null,null,null,null,null,null,null,null,null,null,null,null,null,null,null,null,null,null,null,null,null,null,null,"Одеська","Котовці"]
[null,null,null,null,null,null,null,null,null,null,null,null,null,null,null,null,null,null,null,null,null,null,null,null,null,null,null,null,null,null,null,null,null,null,null,null,null,null,null,null,null,null,null,null,null,"Одеська","Левадівка"]
[null,null,null,null,null,null,null,null,null,null,null,null,null,null,null,null,null,null,null,null,null,null,null,null,null,null,null,null,null,null,null,null,null,null,null,null,null,null,null,null,null,null,null,null,null,"Одеська","Муравлівка"]
[null,null,null,null,null,null,null,null,null,null,null,null,null,null,null,null,null,null,null,null,null,null,null,null,null,null,null,null,null,null,null,null,null,null,null,null,null,null,null,null,null,null,null,null,null,"Одеська","Нова Плахтіївка"]
[null,null,null,null,null,null,null,null,null,null,null,null,null,null,null,null,null,null,null,null,null,null,null,null,null,null,null,null,null,null,null,null,null,null,null,null,null,null,null,null,null,null,null,null,null,"Одеська","Олександрівка (Петрівська)"]
[null,null,null,null,null,null,null,null,null,null,null,null,null,null,null,null,null,null,null,null,null,null,null,null,null,null,null,null,null,null,null,null,null,null,null,null,null,null,null,null,null,null,null,null,null,"Одеська","Полянецьке"]
[null,null,null,null,null,null,null,null,null,null,null,null,null,null,null,null,null,null,null,null,null,null,null,null,null,null,null,null,null,null,null,null,null,null,null,null,null,null,null,null,null,null,null,null,null,"Одеська","Созонівка"]
[null,null,null,null,null,null,null,null,null,null,null,null,null,null,null,null,null,null,null,null,null,null,null,null,null,null,null,null,null,null,null,null,null,null,null,null,null,null,null,null,null,null,null,null,null,"Одеська","Струтинка"]
[null,null,null,null,null,null,null,null,null,null,null,null,null,null,null,null,null,null,null,null,null,null,null,null,null,null,null,null,null,null,null,null,null,null,null,null,null,null,null,null,null,null,null,null,null,"Одеська","Тузли"]
[null,null,null,null,null,null,null,null,null,null,null,null,null,null,null,null,null,null,null,null,null,null,null,null,null,null,null,null,null,null,null,null,null,null,null,null,null,null,null,null,null,null,null,null,null,"Одеська","Якова"]
[null,null,null,null,null,null,null,null,null,null,null,null,null,null,null,null,null,null,null,null,null,null,null,null,null,null,null,null,null,null,null,null,null,null,null,null,null,null,null,null,null,null,null,null,null,"Полтавська","Бабайкове"]
[null,null,null,null,null,null,null,null,null,null,null,null,null,null,null,null,null,null,null,null,null,null,null,null,null,null,null,null,null,null,null,null,null,null,null,null,null,null,null,null,null,null,null,null,null,"Полтавська","Біївці"]
[null,null,null,null,null,null,null,null,null,null,null,null,null,null,null,null,null,null,null,null,null,null,null,null,null,null,null,null,null,null,null,null,null,null,null,null,null,null,null,null,null,null,null,null,null,"Полтавська","Бурімка"]
[null,null,null,null,null,null,null,null,null,null,null,null,null,null,null,null,null,null,null,null,null,null,null,null,null,null,null,null,null,null,null,null,null,null,null,null,null,null,null,null,null,null,null,null,null,"Полтавська","Вили"]
[null,null,null,null,null,null,null,null,null,null,null,null,null,null,null,null,null,null,null,null,null,null,null,null,null,null,null,null,null,null,null,null,null,null,null,null,null,null,null,null,null,null,null,null,null,"Полтавська","Вінтенці"]
[null,null,null,null,null,null,null,null,null,null,null,null,null,null,null,null,null,null,null,null,null,null,null,null,null,null,null,null,null,null,null,null,null,null,null,null,null,null,null,null,null,null,null,null,null,"Полтавська","Голобородьківське"]
[null,null,null,null,null,null,null,null,null,null,null,null,null,null,null,null,null,null,null,null,null,null,null,null,null,null,null,null,null,null,null,null,null,null,null,null,null,null,null,null,null,null,null,null,null,"Полтавська","Григоро-Бригадирівка"]
[null,null,null,null,null,null,null,null,null,null,null,null,null,null,null,null,null,null,null,null,null,null,null,null,null,null,null,null,null,null,null,null,null,null,null,null,null,null,null,null,null,null,null,null,null,"Полтавська","Дашківка"]
[null,null,null,null,null,null,null,null,null,null,null,null,null,null,null,null,null,null,null,null,null,null,null,null,null,null,null,null,null,null,null,null,null,null,null,null,null,null,null,null,null,null,null,null,null,"Полтавська","Жадани"]
[null,null,null,null,null,null,null,null,null,null,null,null,null,null,null,null,null,null,null,null,null,null,null,null,null,null,null,null,null,null,null,null,null,null,null,null,null,null,null,null,null,null,null,null,null,"Полтавська","Ївженки"]
[null,null,null,null,null,null,null,null,null,null,null,null,null,null,null,null,null,null,null,null,null,null,null,null,null,null,null,null,null,null,null,null,null,null,null,null,null,null,null,null,null,null,null,null,null,"Полтавська","Ковердина Балка"]
[null,null,null,null,null,null,null,null,null,null,null,null,null,null,null,null,null,null,null,null,null,null,null,null,null,null,null,null,null,null,null,null,null,null,null,null,null,null,null,null,null,null,null,null,null,"Полтавська","Коновалівка"]
[null,null,null,null,null,null,null,null,null,null,null,null,null,null,null,null,null,null,null,null,null,null,null,null,null,null,null,null,null,null,null,null,null,null,null,null,null,null,null,null,null,null,null,null,null,"Полтавська","Кунівка"]
[null,null,null,null,null,null,null,null,null,null,null,null,null,null,null,null,null,null,null,null,null,null,null,null,null,null,null,null,null,null,null,null,null,null,null,null,null,null,null,null,null,null,null,null,null,"Полтавська","Ламане"]
[null,null,null,null,null,null,null,null,null,null,null,null,null,null,null,null,null,null,null,null,null,null,null,null,null,null,null,null,null,null,null,null,null,null,null,null,null,null,null,null,null,null,null,null,null,"Полтавська","Лізки"]
[null,null,null,null,null,null,null,null,null,null,null,null,null,null,null,null,null,null,null,null,null,null,null,null,null,null,null,null,null,null,null,null,null,null,null,null,null,null,null,null,null,null,null,null,null,"Полтавська","Малютинці"]
[null,null,null,null,null,null,null,null,null,null,null,null,null,null,null,null,null,null,null,null,null,null,null,null,null,null,null,null,null,null,null,null,null,null,null,null,null,null,null,null,null,null,null,null,null,"Полтавська","Мачухи"]
[null,null,null,null,null,null,null,null,null,null,null,null,null,null,null,null,null,null,null,null,null,null,null,null,null,null,null,null,null,null,null,null,null,null,null,null,null,null,null,null,null,null,null,null,null,"Полтавська","Нижні Яреськи"]
[null,null,null,null,null,null,null,null,null,null,null,null,null,null,null,null,null,null,null,null,null,null,null,null,null,null,null,null,null,null,null,null,null,null,null,null,null,null,null,null,null,null,null,null,null,"Полтавська","Новий Виселок"]
[null,null,null,null,null,null,null,null,null,null,null,null,null,null,null,null,null,null,null,null,null,null,null,null,null,null,null,null,null,null,null,null,null,null,null,null,null,null,null,null,null,null,null,null,null,"Полтавська","Панченки"]
[null,null,null,null,null,null,null,null,null,null,null,null,null,null,null,null,null,null,null,null,null,null,null,null,null,null,null,null,null,null,null,null,null,null,null,null,null,null,null,null,null,null,null,null,null,"Полтавська","Першотравневе"]
[null,null,null,null,null,null,null,null,null,null,null,null,null,null,null,null,null,null,null,null,null,null,null,null,null,null,null,null,null,null,null,null,null,null,null,null,null,null,null,null,null,null,null,null,null,"Полтавська","Пристанційне"]
[null,null,null,null,null,null,null,null,null,null,null,null,null,null,null,null,null,null,null,null,null,null,null,null,null,null,null,null,null,null,null,null,null,null,null,null,null,null,null,null,null,null,null,null,null,"Полтавська","Пушкареве"]
[null,null,null,null,null,null,null,null,null,null,null,null,null,null,null,null,null,null,null,null,null,null,null,null,null,null,null,null,null,null,null,null,null,null,null,null,null,null,null,null,null,null,null,null,null,"Полтавська","Свиридівка"]
[null,null,null,null,null,null,null,null,null,null,null,null,null,null,null,null,null,null,null,null,null,null,null,null,null,null,null,null,null,null,null,null,null,null,null,null,null,null,null,null,null,null,null,null,null,"Полтавська","Сиротенки"]
[null,null,null,null,null,null,null,null,null,null,null,null,null,null,null,null,null,null,null,null,null,null,null,null,null,null,null,null,null,null,null,null,null,null,null,null,null,null,null,null,null,null,null,null,null,"Полтавська","Снітине"]
[null,null,null,null,null,null,null,null,null,null,null,null,null,null,null,null,null,null,null,null,null,null,null,null,null,null,null,null,null,null,null,null,null,null,null,null,null,null,null,null,null,null,null,null,null,"Полтавська","Сухорабівка"]
[null,null,null,null,null,null,null,null,null,null,null,null,null,null,null,null,null,null,null,null,null,null,null,null,null,null,null,null,null,null,null,null,null,null,null,null,null,null,null,null,null,null,null,null,null,"Полтавська","Трирогове"]
[null,null,null,null,null,null,null,null,null,null,null,null,null,null,null,null,null,null,null,null,null,null,null,null,null,null,null,null,null,null,null,null,null,null,null,null,null,null,null,null,null,null,null,null,null,"Полтавська","Хорішки"]
[null,null,null,null,null,null,null,null,null,null,null,null,null,null,null,null,null,null,null,null,null,null,null,null,null,null,null,null,null,null,null,null,null,null,null,null,null,null,null,null,null,null,null,null,null,"Полтавська","Червоні Квіти"]
[null,null,null,null,null,null,null,null,null,null,null,null,null,null,null,null,null,null,null,null,null,null,null,null,null,null,null,null,null,null,null,null,null,null,null,null,null,null,null,null,null,null,null,null,null,"Полтавська","Шостаки"]
[null,null,null,null,null,null,null,null,null,null,null,null,null,null,null,null,null,null,null,null,null,null,null,null,null,null,null,null,null,null,null,null,null,null,null,null,null,null,null,null,null,null,null,null,null,"Полтавська","Ялосовецьке"]
[null,null,null,null,null,null,null,null,null,null,null,null,null,null,null,null,null,null,null,null,null,null,null,null,null,null,null,null,null,null,null,null,null,null,null,null,null,null,null,null,null,null,null,null,null,"Рівненська","Бармаки"]
[null,null,null,null,null,null,null,null,null,null,null,null,null,null,null,null,null,null,null,null,null,null,null,null,null,null,null,null,null,null,null,null,null,null,null,null,null,null,null,null,null,null,null,null,null,"Рівненська","Варковичі"]
[null,null,null,null,null,null,null,null,null,null,null,null,null,null,null,null,null,null,null,null,null,null,null,null,null,null,null,null,null,null,null,null,null,null,null,null,null,null,null,null,null,null,null,null,null,"Рівненська","Великі Загірці"]
[null,null,null,null,null,null,null,null,null,null,null,null,null,null,null,null,null,null,null,null,null,null,null,null,null,null,null,null,null,null,null,null,null,null,null,null,null,null,null,null,null,null,null,null,null,"Рівненська","Гільча Перша"]
[null,null,null,null,null,null,null,null,null,null,null,null,null,null,null,null,null,null,null,null,null,null,null,null,null,null,null,null,null,null,null,null,null,null,null,null,null,null,null,null,null,null,null,null,null,"Рівненська","Диків"]
[null,null,null,null,null,null,null,null,null,null,null,null,null,null,null,null,null,null,null,null,null,null,null,null,null,null,null,null,null,null,null,null,null,null,null,null,null,null,null,null,null,null,null,null,null,"Рівненська","Зносичі"]
[null,null,null,null,null,null,null,null,null,null,null,null,null,null,null,null,null,null,null,null,null,null,null,null,null,null,null,null,null,null,null,null,null,null,null,null,null,null,null,null,null,null,null,null,null,"Рівненська","Квасилів"]
[null,null,null,null,null,null,null,null,null,null,null,null,null,null,null,null,null,null,null,null,null,null,null,null,null,null,null,null,null,null,null,null,null,null,null,null,null,null,null,null,null,null,null,null,null,"Рівненська","Кухче"]
[null,null,null,null,null,null,null,null,null,null,null,null,null,null,null,null,null,null,null,null,null,null,null,null,null,null,null,null,null,null,null,null,null,null,null,null,null,null,null,null,null,null,null,null,null,"Рівненська","Макотерти"]
[null,null,null,null,null,null,null,null,null,null,null,null,null,null,null,null,null,null,null,null,null,null,null,null,null,null,null,null,null,null,null,null,null,null,null,null,null,null,null,null,null,null,null,null,null,"Рівненська","Малі Телковичі"]
[null,null,null,null,null,null,null,null,null,null,null,null,null,null,null,null,null,null,null,null,null,null,null,null,null,null,null,null,null,null,null,null,null,null,null,null,null,null,null,null,null,null,null,null,null,"Рівненська","М'ятин"]
[null,null,null,null,null,null,null,null,null,null,null,null,null,null,null,null,null,null,null,null,null,null,null,null,null,null,null,null,null,null,null,null,null,null,null,null,null,null,null,null,null,null,null,null,null,"Рівненська","Олибів"]
[null,null,null,null,null,null,null,null,null,null,null,null,null,null,null,null,null,null,null,null,null,null,null,null,null,null,null,null,null,null,null,null,null,null,null,null,null,null,null,null,null,null,null,null,null,"Рівненська","Працюки"]
[null,null,null,null,null,null,null,null,null,null,null,null,null,null,null,null,null,null,null,null,null,null,null,null,null,null,null,null,null,null,null,null,null,null,null,null,null,null,null,null,null,null,null,null,null,"Рівненська","Річечина"]
[null,null,null,null,null,null,null,null,null,null,null,null,null,null,null,null,null,null,null,null,null,null,null,null,null,null,null,null,null,null,null,null,null,null,null,null,null,null,null,null,null,null,null,null,null,"Рівненська","Степангород"]
[null,null,null,null,null,null,null,null,null,null,null,null,null,null,null,null,null,null,null,null,null,null,null,null,null,null,null,null,null,null,null,null,null,null,null,null,null,null,null,null,null,null,null,null,null,"Рівненська","Тесів"]
[null,null,null,null,null,null,null,null,null,null,null,null,null,null,null,null,null,null,null,null,null,null,null,null,null,null,null,null,null,null,null,null,null,null,null,null,null,null,null,null,null,null,null,null,null,"Рівненська","Удрицьк"]
[null,null,null,null,null,null,null,null,null,null,null,null,null,null,null,null,null,null,null,null,null,null,null,null,null,null,null,null,null,null,null,null,null,null,null,null,null,null,null,null,null,null,null,null,null,"Севастополь","Родніківське"]
[null,null,null,null,null,null,null,null,null,null,null,null,null,null,null,null,null,null,null,null,null,null,null,null,null,null,null,null,null,null,null,null,null,null,null,null,null,null,null,null,null,null,null,null,null,"Сумська","Артемо-растівка (Мартинівка)"]
[null,null,null,null,null,null,null,null,null,null,null,null,null,null,null,null,null,null,null,null,null,null,null,null,null,null,null,null,null,null,null,null,null,null,null,null,null,null,null,null,null,null,null,null,null,"Сумська","Бороданове"]
[null,null,null,null,null,null,null,null,null,null,null,null,null,null,null,null,null,null,null,null,null,null,null,null,null,null,null,null,null,null,null,null,null,null,null,null,null,null,null,null,null,null,null,null,null,"Сумська","Будне (Лантратівка)"]
[null,null,null,null,null,null,null,null,null,null,null,null,null,null,null,null,null,null,null,null,null,null,null,null,null,null,null,null,null,null,null,null,null,null,null,null,null,null,null,null,null,null,null,null,null,"Сумська","Вільна Слобода"]
[null,null,null,null,null,null,null,null,null,null,null,null,null,null,null,null,null,null,null,null,null,null,null,null,null,null,null,null,null,null,null,null,null,null,null,null,null,null,null,null,null,null,null,null,null,"Сумська","Воропаї"]
[null,null,null,null,null,null,null,null,null,null,null,null,null,null,null,null,null,null,null,null,null,null,null,null,null,null,null,null,null,null,null,null,null,null,null,null,null,null,null,null,null,null,null,null,null,"Сумська","Грінченкове"]
[null,null,null,null,null,null,null,null,null,null,null,null,null,null,null,null,null,null,null,null,null,null,null,null,null,null,null,null,null,null,null,null,null,null,null,null,null,null,null,null,null,null,null,null,null,"Сумська","Дернове"]
[null,null,null,null,null,null,null,null,null,null,null,null,null,null,null,null,null,null,null,null,null,null,null,null,null,null,null,null,null,null,null,null,null,null,null,null,null,null,null,null,null,null,null,null,null,"Сумська","Дяківка"]
[null,null,null,null,null,null,null,null,null,null,null,null,null,null,null,null,null,null,null,null,null,null,null,null,null,null,null,null,null,null,null,null,null,null,null,null,null,null,null,null,null,null,null,null,null,"Сумська","Карпенкове"]
[null,null,null,null,null,null,null,null,null,null,null,null,null,null,null,null,null,null,null,null,null,null,null,null,null,null,null,null,null,null,null,null,null,null,null,null,null,null,null,null,null,null,null,null,null,"Сумська","Клочківка"]
[null,null,null,null,null,null,null,null,null,null,null,null,null,null,null,null,null,null,null,null,null,null,null,null,null,null,null,null,null,null,null,null,null,null,null,null,null,null,null,null,null,null,null,null,null,"Сумська","Кудоярове"]
[null,null,null,null,null,null,null,null,null,null,null,null,null,null,null,null,null,null,null,null,null,null,null,null,null,null,null,null,null,null,null,null,null,null,null,null,null,null,null,null,null,null,null,null,null,"Сумська","Липняк"]
[null,null,null,null,null,null,null,null,null,null,null,null,null,null,null,null,null,null,null,null,null,null,null,null,null,null,null,null,null,null,null,null,null,null,null,null,null,null,null,null,null,null,null,null,null,"Сумська","Масензівка"]
[null,null,null,null,null,null,null,null,null,null,null,null,null,null,null,null,null,null,null,null,null,null,null,null,null,null,null,null,null,null,null,null,null,null,null,null,null,null,null,null,null,null,null,null,null,"Сумська","Могриця"]
[null,null,null,null,null,null,null,null,null,null,null,null,null,null,null,null,null,null,null,null,null,null,null,null,null,null,null,null,null,null,null,null,null,null,null,null,null,null,null,null,null,null,null,null,null,"Сумська","Нелени"]
[null,null,null,null,null,null,null,null,null,null,null,null,null,null,null,null,null,null,null,null,null,null,null,null,null,null,null,null,null,null,null,null,null,null,null,null,null,null,null,null,null,null,null,null,null,"Сумська","Осоївка"]
[null,null,null,null,null,null,null,null,null,null,null,null,null,null,null,null,null,null,null,null,null,null,null,null,null,null,null,null,null,null,null,null,null,null,null,null,null,null,null,null,null,null,null,null,null,"Сумська","Перехрестівка (Северинівська)"]
[null,null,null,null,null,null,null,null,null,null,null,null,null,null,null,null,null,null,null,null,null,null,null,null,null,null,null,null,null,null,null,null,null,null,null,null,null,null,null,null,null,null,null,null,null,"Сумська","Радгоспне (Буймер)"]
[null,null,null,null,null,null,null,null,null,null,null,null,null,null,null,null,null,null,null,null,null,null,null,null,null,null,null,null,null,null,null,null,null,null,null,null,null,null,null,null,null,null,null,null,null,"Сумська","Розсохувате (Грінченкове)"]
[null,null,null,null,null,null,null,null,null,null,null,null,null,null,null,null,null,null,null,null,null,null,null,null,null,null,null,null,null,null,null,null,null,null,null,null,null,null,null,null,null,null,null,null,null,"Сумська","Собич"]
[null,null,null,null,null,null,null,null,null,null,null,null,null,null,null,null,null,null,null,null,null,null,null,null,null,null,null,null,null,null,null,null,null,null,null,null,null,null,null,null,null,null,null,null,null,"Сумська","Сорочинське"]
[null,null,null,null,null,null,null,null,null,null,null,null,null,null,null,null,null,null,null,null,null,null,null,null,null,null,null,null,null,null,null,null,null,null,null,null,null,null,null,null,null,null,null,null,null,"Сумська","Хильчичі"]
[null,null,null,null,null,null,null,null,null,null,null,null,null,null,null,null,null,null,null,null,null,null,null,null,null,null,null,null,null,null,null,null,null,null,null,null,null,null,null,null,null,null,null,null,null,"Сумська","Чеберяки"]
[null,null,null,null,null,null,null,null,null,null,null,null,null,null,null,null,null,null,null,null,null,null,null,null,null,null,null,null,null,null,null,null,null,null,null,null,null,null,null,null,null,null,null,null,null,"Сумська","Щекино"]
[null,null,null,null,null,null,null,null,null,null,null,null,null,null,null,null,null,null,null,null,null,null,null,null,null,null,null,null,null,null,null,null,null,null,null,null,null,null,null,null,null,null,null,null,null,"Тернопільська","Антонів (Свидівська сільська рада)"]
[null,null,null,null,null,null,null,null,null,null,null,null,null,null,null,null,null,null,null,null,null,null,null,null,null,null,null,null,null,null,null,null,null,null,null,null,null,null,null,null,null,null,null,null,null,"Тернопільська","Берем'яни (Берем'янська сільська рада)"]
[null,null,null,null,null,null,null,null,null,null,null,null,null,null,null,null,null,null,null,null,null,null,null,null,null,null,null,null,null,null,null,null,null,null,null,null,null,null,null,null,null,null,null,null,null,"Тернопільська","Броварі (Язловецька сільська рада)"]
[null,null,null,null,null,null,null,null,null,null,null,null,null,null,null,null,null,null,null,null,null,null,null,null,null,null,null,null,null,null,null,null,null,null,null,null,null,null,null,null,null,null,null,null,null,"Тернопільська","Великі Кусківці (Великокусковецька сільська рада)"]
[null,null,null,null,null,null,null,null,null,null,null,null,null,null,null,null,null,null,null,null,null,null,null,null,null,null,null,null,null,null,null,null,null,null,null,null,null,null,null,null,null,null,null,null,null,"Тернопільська","Гадинківці (Гадинківська сільська рада)"]
[null,null,null,null,null,null,null,null,null,null,null,null,null,null,null,null,null,null,null,null,null,null,null,null,null,null,null,null,null,null,null,null,null,null,null,null,null,null,null,null,null,null,null,null,null,"Тернопільська","Гнилички (Новосільська сільська рада)"]
[null,null,null,null,null,null,null,null,null,null,null,null,null,null,null,null,null,null,null,null,null,null,null,null,null,null,null,null,null,null,null,null,null,null,null,null,null,null,null,null,null,null,null,null,null,"Тернопільська","Дзвинячка (Дзвиняцька сільська рада)"]
[null,null,null,null,null,null,null,null,null,null,null,null,null,null,null,null,null,null,null,null,null,null,null,null,null,null,null,null,null,null,null,null,null,null,null,null,null,null,null,null,null,null,null,null,null,"Тернопільська","Домаморич (Домаморицька сільська рада)"]
[null,null,null,null,null,null,null,null,null,null,null,null,null,null,null,null,null,null,null,null,null,null,null,null,null,null,null,null,null,null,null,null,null,null,null,null,null,null,null,null,null,null,null,null,null,"Тернопільська","Жуків (Жуківська сільська рада)"]
[null,null,null,null,null,null,null,null,null,null,null,null,null,null,null,null,null,null,null,null,null,null,null,null,null,null,null,null,null,null,null,null,null,null,null,null,null,null,null,null,null,null,null,null,null,"Тернопільська","Іванівка (Іванівська сільська рада)"]
[null,null,null,null,null,null,null,null,null,null,null,null,null,null,null,null,null,null,null,null,null,null,null,null,null,null,null,null,null,null,null,null,null,null,null,null,null,null,null,null,null,null,null,null,null,"Тернопільська","Ілавче (Ілавченська сільська рада)"]
[null,null,null,null,null,null,null,null,null,null,null,null,null,null,null,null,null,null,null,null,null,null,null,null,null,null,null,null,null,null,null,null,null,null,null,null,null,null,null,null,null,null,null,null,null,"Тернопільська","Королівка (Королівська сільська рада)"]
[null,null,null,null,null,null,null,null,null,null,null,null,null,null,null,null,null,null,null,null,null,null,null,null,null,null,null,null,null,null,null,null,null,null,null,null,null,null,null,null,null,null,null,null,null,"Тернопільська","Красівка (Дичківська сільська рада)"]
[null,null,null,null,null,null,null,null,null,null,null,null,null,null,null,null,null,null,null,null,null,null,null,null,null,null,null,null,null,null,null,null,null,null,null,null,null,null,null,null,null,null,null,null,null,"Тернопільська","Лози (Лозівська сільська рада)"]
[null,null,null,null,null,null,null,null,null,null,null,null,null,null,null,null,null,null,null,null,null,null,null,null,null,null,null,null,null,null,null,null,null,null,null,null,null,null,null,null,null,null,null,null,null,"Тернопільська","Мала Березовиця (Іванчанська сільська рада)"]
[null,null,null,null,null,null,null,null,null,null,null,null,null,null,null,null,null,null,null,null,null,null,null,null,null,null,null,null,null,null,null,null,null,null,null,null,null,null,null,null,null,null,null,null,null,"Тернопільська","Мовчанівка (Кам\"янківська сільська рада)"]
[null,null,null,null,null,null,null,null,null,null,null,null,null,null,null,null,null,null,null,null,null,null,null,null,null,null,null,null,null,null,null,null,null,null,null,null,null,null,null,null,null,null,null,null,null,"Тернопільська","Нараїв (Нараївська сільська рада)"]
[null,null,null,null,null,null,null,null,null,null,null,null,null,null,null,null,null,null,null,null,null,null,null,null,null,null,null,null,null,null,null,null,null,null,null,null,null,null,null,null,null,null,null,null,null,"Тернопільська","Новосілка (Малобірківська сільська рада)"]
[null,null,null,null,null,null,null,null,null,null,null,null,null,null,null,null,null,null,null,null,null,null,null,null,null,null,null,null,null,null,null,null,null,null,null,null,null,null,null,null,null,null,null,null,null,"Тернопільська","Пищатинці (Пищатинська сільська рада)"]
[null,null,null,null,null,null,null,null,null,null,null,null,null,null,null,null,null,null,null,null,null,null,null,null,null,null,null,null,null,null,null,null,null,null,null,null,null,null,null,null,null,null,null,null,null,"Тернопільська","Піщане (Ратищівська сільська рада)"]
[null,null,null,null,null,null,null,null,null,null,null,null,null,null,null,null,null,null,null,null,null,null,null,null,null,null,null,null,null,null,null,null,null,null,null,null,null,null,null,null,null,null,null,null,null,"Тернопільська","Розгадів (Розгадівська сільська рада)"]
[null,null,null,null,null,null,null,null,null,null,null,null,null,null,null,null,null,null,null,null,null,null,null,null,null,null,null,null,null,null,null,null,null,null,null,null,null,null,null,null,null,null,null,null,null,"Тернопільська","Сапова (Вишнівчицька сільська рада)"]
[null,null,null,null,null,null,null,null,null,null,null,null,null,null,null,null,null,null,null,null,null,null,null,null,null,null,null,null,null,null,null,null,null,null,null,null,null,null,null,null,null,null,null,null,null,"Тернопільська","Стара Могильниця (Могильницька сільська рада)"]
[null,null,null,null,null,null,null,null,null,null,null,null,null,null,null,null,null,null,null,null,null,null,null,null,null,null,null,null,null,null,null,null,null,null,null,null,null,null,null,null,null,null,null,null,null,"Тернопільська","Сухостав (Сухоставська сільська рада)"]
[null,null,null,null,null,null,null,null,null,null,null,null,null,null,null,null,null,null,null,null,null,null,null,null,null,null,null,null,null,null,null,null,null,null,null,null,null,null,null,null,null,null,null,null,null,"Тернопільська","Товсте (Товстенська сільська рада)"]
[null,null,null,null,null,null,null,null,null,null,null,null,null,null,null,null,null,null,null,null,null,null,null,null,null,null,null,null,null,null,null,null,null,null,null,null,null,null,null,null,null,null,null,null,null,"Тернопільська","Цецівка (Годівська сільська рада)"]
[null,null,null,null,null,null,null,null,null,null,null,null,null,null,null,null,null,null,null,null,null,null,null,null,null,null,null,null,null,null,null,null,null,null,null,null,null,null,null,null,null,null,null,null,null,"Тернопільська","Швайківці (Швайківська сільська рада)"]
[null,null,null,null,null,null,null,null,null,null,null,null,null,null,null,null,null,null,null,null,null,null,null,null,null,null,null,null,null,null,null,null,null,null,null,null,null,null,null,null,null,null,null,null,null,"Харківська","Бабенки"]
[null,null,null,null,null,null,null,null,null,null,null,null,null,null,null,null,null,null,null,null,null,null,null,null,null,null,null,null,null,null,null,null,null,null,null,null,null,null,null,null,null,null,null,null,null,"Харківська","Безпалівка (Таранівська сільська рада)"]
[null,null,null,null,null,null,null,null,null,null,null,null,null,null,null,null,null,null,null,null,null,null,null,null,null,null,null,null,null,null,null,null,null,null,null,null,null,null,null,null,null,null,null,null,null,"Харківська","Василівка (Моначинівська сільрада)"]
[null,null,null,null,null,null,null,null,null,null,null,null,null,null,null,null,null,null,null,null,null,null,null,null,null,null,null,null,null,null,null,null,null,null,null,null,null,null,null,null,null,null,null,null,null,"Харківська","Велика Кадигробівка"]
[null,null,null,null,null,null,null,null,null,null,null,null,null,null,null,null,null,null,null,null,null,null,null,null,null,null,null,null,null,null,null,null,null,null,null,null,null,null,null,null,null,null,null,null,null,"Харківська","Відрожденівське"]
[null,null,null,null,null,null,null,null,null,null,null,null,null,null,null,null,null,null,null,null,null,null,null,null,null,null,null,null,null,null,null,null,null,null,null,null,null,null,null,null,null,null,null,null,null,"Харківська","Глушківка"]
[null,null,null,null,null,null,null,null,null,null,null,null,null,null,null,null,null,null,null,null,null,null,null,null,null,null,null,null,null,null,null,null,null,null,null,null,null,null,null,null,null,null,null,null,null,"Харківська","Гракове"]
[null,null,null,null,null,null,null,null,null,null,null,null,null,null,null,null,null,null,null,null,null,null,null,null,null,null,null,null,null,null,null,null,null,null,null,null,null,null,null,null,null,null,null,null,null,"Харківська","Дудківка"]
[null,null,null,null,null,null,null,null,null,null,null,null,null,null,null,null,null,null,null,null,null,null,null,null,null,null,null,null,null,null,null,null,null,null,null,null,null,null,null,null,null,null,null,null,null,"Харківська","Завадівка"]
[null,null,null,null,null,null,null,null,null,null,null,null,null,null,null,null,null,null,null,null,null,null,null,null,null,null,null,null,null,null,null,null,null,null,null,null,null,null,null,null,null,null,null,null,null,"Харківська","Ізюм"]
[null,null,null,null,null,null,null,null,null,null,null,null,null,null,null,null,null,null,null,null,null,null,null,null,null,null,null,null,null,null,null,null,null,null,null,null,null,null,null,null,null,null,null,null,null,"Харківська","Кобзівка Друга"]
[null,null,null,null,null,null,null,null,null,null,null,null,null,null,null,null,null,null,null,null,null,null,null,null,null,null,null,null,null,null,null,null,null,null,null,null,null,null,null,null,null,null,null,null,null,"Харківська","Кочетівка"]
[null,null,null,null,null,null,null,null,null,null,null,null,null,null,null,null,null,null,null,null,null,null,null,null,null,null,null,null,null,null,null,null,null,null,null,null,null,null,null,null,null,null,null,null,null,"Харківська","Кручик"]
[null,null,null,null,null,null,null,null,null,null,null,null,null,null,null,null,null,null,null,null,null,null,null,null,null,null,null,null,null,null,null,null,null,null,null,null,null,null,null,null,null,null,null,null,null,"Харківська","Ландишеве"]
[null,null,null,null,null,null,null,null,null,null,null,null,null,null,null,null,null,null,null,null,null,null,null,null,null,null,null,null,null,null,null,null,null,null,null,null,null,null,null,null,null,null,null,null,null,"Харківська","Мануїлівка"]
[null,null,null,null,null,null,null,null,null,null,null,null,null,null,null,null,null,null,null,null,null,null,null,null,null,null,null,null,null,null,null,null,null,null,null,null,null,null,null,null,null,null,null,null,null,"Харківська","Миколо-Комишувата"]
[null,null,null,null,null,null,null,null,null,null,null,null,null,null,null,null,null,null,null,null,null,null,null,null,null,null,null,null,null,null,null,null,null,null,null,null,null,null,null,null,null,null,null,null,null,"Харківська","Надеждівка"]
[null,null,null,null,null,null,null,null,null,null,null,null,null,null,null,null,null,null,null,null,null,null,null,null,null,null,null,null,null,null,null,null,null,null,null,null,null,null,null,null,null,null,null,null,null,"Харківська","Новомиколаївка (Асіївська сільська рада)"]
[null,null,null,null,null,null,null,null,null,null,null,null,null,null,null,null,null,null,null,null,null,null,null,null,null,null,null,null,null,null,null,null,null,null,null,null,null,null,null,null,null,null,null,null,null,"Харківська","Паризьке"]
[null,null,null,null,null,null,null,null,null,null,null,null,null,null,null,null,null,null,null,null,null,null,null,null,null,null,null,null,null,null,null,null,null,null,null,null,null,null,null,null,null,null,null,null,null,"Харківська","Петрищеве"]
[null,null,null,null,null,null,null,null,null,null,null,null,null,null,null,null,null,null,null,null,null,null,null,null,null,null,null,null,null,null,null,null,null,null,null,null,null,null,null,null,null,null,null,null,null,"Харківська","П'ятницьке"]
[null,null,null,null,null,null,null,null,null,null,null,null,null,null,null,null,null,null,null,null,null,null,null,null,null,null,null,null,null,null,null,null,null,null,null,null,null,null,null,null,null,null,null,null,null,"Харківська","Рижове"]
[null,null,null,null,null,null,null,null,null,null,null,null,null,null,null,null,null,null,null,null,null,null,null,null,null,null,null,null,null,null,null,null,null,null,null,null,null,null,null,null,null,null,null,null,null,"Харківська","Скиртяне"]
[null,null,null,null,null,null,null,null,null,null,null,null,null,null,null,null,null,null,null,null,null,null,null,null,null,null,null,null,null,null,null,null,null,null,null,null,null,null,null,null,null,null,null,null,null,"Харківська","Соцзмагання"]
[null,null,null,null,null,null,null,null,null,null,null,null,null,null,null,null,null,null,null,null,null,null,null,null,null,null,null,null,null,null,null,null,null,null,null,null,null,null,null,null,null,null,null,null,null,"Харківська","Староволодимирівка"]
[null,null,null,null,null,null,null,null,null,null,null,null,null,null,null,null,null,null,null,null,null,null,null,null,null,null,null,null,null,null,null,null,null,null,null,null,null,null,null,null,null,null,null,null,null,"Харківська","Холодне"]
[null,null,null,null,null,null,null,null,null,null,null,null,null,null,null,null,null,null,null,null,null,null,null,null,null,null,null,null,null,null,null,null,null,null,null,null,null,null,null,null,null,null,null,null,null,"Харківська","Чепіль (Чепільська сільська рада)"]
[null,null,null,null,null,null,null,null,null,null,null,null,null,null,null,null,null,null,null,null,null,null,null,null,null,null,null,null,null,null,null,null,null,null,null,null,null,null,null,null,null,null,null,null,null,"Харківська","Шийчине"]
[null,null,null,null,null,null,null,null,null,null,null,null,null,null,null,null,null,null,null,null,null,null,null,null,null,null,null,null,null,null,null,null,null,null,null,null,null,null,null,null,null,null,null,null,null,"Харківська","Ярошівка"]
[null,null,null,null,null,null,null,null,null,null,null,null,null,null,null,null,null,null,null,null,null,null,null,null,null,null,null,null,null,null,null,null,null,null,null,null,null,null,null,null,null,null,null,null,null,"Херсонська","Гостроподолянське"]
[null,null,null,null,null,null,null,null,null,null,null,null,null,null,null,null,null,null,null,null,null,null,null,null,null,null,null,null,null,null,null,null,null,null,null,null,null,null,null,null,null,null,null,null,null,"Херсонська","Інгулець"]
[null,null,null,null,null,null,null,null,null,null,null,null,null,null,null,null,null,null,null,null,null,null,null,null,null,null,null,null,null,null,null,null,null,null,null,null,null,null,null,null,null,null,null,null,null,"Херсонська","Козачі Лагері"]
[null,null,null,null,null,null,null,null,null,null,null,null,null,null,null,null,null,null,null,null,null,null,null,null,null,null,null,null,null,null,null,null,null,null,null,null,null,null,null,null,null,null,null,null,null,"Херсонська","Новавасилівка"]
[null,null,null,null,null,null,null,null,null,null,null,null,null,null,null,null,null,null,null,null,null,null,null,null,null,null,null,null,null,null,null,null,null,null,null,null,null,null,null,null,null,null,null,null,null,"Херсонська","Новосеменівка"]
[null,null,null,null,null,null,null,null,null,null,null,null,null,null,null,null,null,null,null,null,null,null,null,null,null,null,null,null,null,null,null,null,null,null,null,null,null,null,null,null,null,null,null,null,null,"Херсонська","Скворцівка"]
[null,null,null,null,null,null,null,null,null,null,null,null,null,null,null,null,null,null,null,null,null,null,null,null,null,null,null,null,null,null,null,null,null,null,null,null,null,null,null,null,null,null,null,null,null,"Херсонська","Твердомедове"]
[null,null,null,null,null,null,null,null,null,null,null,null,null,null,null,null,null,null,null,null,null,null,null,null,null,null,null,null,null,null,null,null,null,null,null,null,null,null,null,null,null,null,null,null,null,"Хмельницька","Бальківці"]
[null,null,null,null,null,null,null,null,null,null,null,null,null,null,null,null,null,null,null,null,null,null,null,null,null,null,null,null,null,null,null,null,null,null,null,null,null,null,null,null,null,null,null,null,null,"Хмельницька","Березове"]
[null,null,null,null,null,null,null,null,null,null,null,null,null,null,null,null,null,null,null,null,null,null,null,null,null,null,null,null,null,null,null,null,null,null,null,null,null,null,null,null,null,null,null,null,null,"Хмельницька","Брикуля"]
[null,null,null,null,null,null,null,null,null,null,null,null,null,null,null,null,null,null,null,null,null,null,null,null,null,null,null,null,null,null,null,null,null,null,null,null,null,null,null,null,null,null,null,null,null,"Хмельницька","Верхівці"]
[null,null,null,null,null,null,null,null,null,null,null,null,null,null,null,null,null,null,null,null,null,null,null,null,null,null,null,null,null,null,null,null,null,null,null,null,null,null,null,null,null,null,null,null,null,"Хмельницька","Вікентово"]
[null,null,null,null,null,null,null,null,null,null,null,null,null,null,null,null,null,null,null,null,null,null,null,null,null,null,null,null,null,null,null,null,null,null,null,null,null,null,null,null,null,null,null,null,null,"Хмельницька","Голосків (Голосківська сільська рада)"]
[null,null,null,null,null,null,null,null,null,null,null,null,null,null,null,null,null,null,null,null,null,null,null,null,null,null,null,null,null,null,null,null,null,null,null,null,null,null,null,null,null,null,null,null,null,"Хмельницька","Гриців"]
[null,null,null,null,null,null,null,null,null,null,null,null,null,null,null,null,null,null,null,null,null,null,null,null,null,null,null,null,null,null,null,null,null,null,null,null,null,null,null,null,null,null,null,null,null,"Хмельницька","Дубовий Гай"]
[null,null,null,null,null,null,null,null,null,null,null,null,null,null,null,null,null,null,null,null,null,null,null,null,null,null,null,null,null,null,null,null,null,null,null,null,null,null,null,null,null,null,null,null,null,"Хмельницька","Залуччя (Залучанська сільська рада)"]
[null,null,null,null,null,null,null,null,null,null,null,null,null,null,null,null,null,null,null,null,null,null,null,null,null,null,null,null,null,null,null,null,null,null,null,null,null,null,null,null,null,null,null,null,null,"Хмельницька","Ізяслав"]
[null,null,null,null,null,null,null,null,null,null,null,null,null,null,null,null,null,null,null,null,null,null,null,null,null,null,null,null,null,null,null,null,null,null,null,null,null,null,null,null,null,null,null,null,null,"Хмельницька","Караїна"]
[null,null,null,null,null,null,null,null,null,null,null,null,null,null,null,null,null,null,null,null,null,null,null,null,null,null,null,null,null,null,null,null,null,null,null,null,null,null,null,null,null,null,null,null,null,"Хмельницька","Климківці"]
[null,null,null,null,null,null,null,null,null,null,null,null,null,null,null,null,null,null,null,null,null,null,null,null,null,null,null,null,null,null,null,null,null,null,null,null,null,null,null,null,null,null,null,null,null,"Хмельницька","Кривачинці"]
[null,null,null,null,null,null,null,null,null,null,null,null,null,null,null,null,null,null,null,null,null,null,null,null,null,null,null,null,null,null,null,null,null,null,null,null,null,null,null,null,null,null,null,null,null,"Хмельницька","Кузьминці"]
[null,null,null,null,null,null,null,null,null,null,null,null,null,null,null,null,null,null,null,null,null,null,null,null,null,null,null,null,null,null,null,null,null,null,null,null,null,null,null,null,null,null,null,null,null,"Хмельницька","Літки"]
[null,null,null,null,null,null,null,null,null,null,null,null,null,null,null,null,null,null,null,null,null,null,null,null,null,null,null,null,null,null,null,null,null,null,null,null,null,null,null,null,null,null,null,null,null,"Хмельницька","Малий Правутин"]
[null,null,null,null,null,null,null,null,null,null,null,null,null,null,null,null,null,null,null,null,null,null,null,null,null,null,null,null,null,null,null,null,null,null,null,null,null,null,null,null,null,null,null,null,null,"Хмельницька","Медці"]
[null,null,null,null,null,null,null,null,null,null,null,null,null,null,null,null,null,null,null,null,null,null,null,null,null,null,null,null,null,null,null,null,null,null,null,null,null,null,null,null,null,null,null,null,null,"Хмельницька","Михалківці"]
[null,null,null,null,null,null,null,null,null,null,null,null,null,null,null,null,null,null,null,null,null,null,null,null,null,null,null,null,null,null,null,null,null,null,null,null,null,null,null,null,null,null,null,null,null,"Хмельницька","Мухарів"]
[null,null,null,null,null,null,null,null,null,null,null,null,null,null,null,null,null,null,null,null,null,null,null,null,null,null,null,null,null,null,null,null,null,null,null,null,null,null,null,null,null,null,null,null,null,"Хмельницька","Остапківці"]
[null,null,null,null,null,null,null,null,null,null,null,null,null,null,null,null,null,null,null,null,null,null,null,null,null,null,null,null,null,null,null,null,null,null,null,null,null,null,null,null,null,null,null,null,null,"Хмельницька","Пашуки (Хоровецька сільська Рада)"]
[null,null,null,null,null,null,null,null,null,null,null,null,null,null,null,null,null,null,null,null,null,null,null,null,null,null,null,null,null,null,null,null,null,null,null,null,null,null,null,null,null,null,null,null,null,"Хмельницька","Постолівка"]
[null,null,null,null,null,null,null,null,null,null,null,null,null,null,null,null,null,null,null,null,null,null,null,null,null,null,null,null,null,null,null,null,null,null,null,null,null,null,null,null,null,null,null,null,null,"Хмельницька","Рівки"]
[null,null,null,null,null,null,null,null,null,null,null,null,null,null,null,null,null,null,null,null,null,null,null,null,null,null,null,null,null,null,null,null,null,null,null,null,null,null,null,null,null,null,null,null,null,"Хмельницька","Семереньки (Самченці)"]
[null,null,null,null,null,null,null,null,null,null,null,null,null,null,null,null,null,null,null,null,null,null,null,null,null,null,null,null,null,null,null,null,null,null,null,null,null,null,null,null,null,null,null,null,null,"Хмельницька","Слобідка  Малієвецька"]
[null,null,null,null,null,null,null,null,null,null,null,null,null,null,null,null,null,null,null,null,null,null,null,null,null,null,null,null,null,null,null,null,null,null,null,null,null,null,null,null,null,null,null,null,null,"Хмельницька","Степок (Самчики)"]
[null,null,null,null,null,null,null,null,null,null,null,null,null,null,null,null,null,null,null,null,null,null,null,null,null,null,null,null,null,null,null,null,null,null,null,null,null,null,null,null,null,null,null,null,null,"Хмельницька","Теліжинці"]
[null,null,null,null,null,null,null,null,null,null,null,null,null,null,null,null,null,null,null,null,null,null,null,null,null,null,null,null,null,null,null,null,null,null,null,null,null,null,null,null,null,null,null,null,null,"Хмельницька","Трительники"]
[null,null,null,null,null,null,null,null,null,null,null,null,null,null,null,null,null,null,null,null,null,null,null,null,null,null,null,null,null,null,null,null,null,null,null,null,null,null,null,null,null,null,null,null,null,"Хмельницька","Чернелівці"]
[null,null,null,null,null,null,null,null,null,null,null,null,null,null,null,null,null,null,null,null,null,null,null,null,null,null,null,null,null,null,null,null,null,null,null,null,null,null,null,null,null,null,null,null,null,"Хмельницька","Чотирибоки"]
[null,null,null,null,null,null,null,null,null,null,null,null,null,null,null,null,null,null,null,null,null,null,null,null,null,null,null,null,null,null,null,null,null,null,null,null,null,null,null,null,null,null,null,null,null,"Черкаська","Багачівка"]
[null,null,null,null,null,null,null,null,null,null,null,null,null,null,null,null,null,null,null,null,null,null,null,null,null,null,null,null,null,null,null,null,null,null,null,null,null,null,null,null,null,null,null,null,null,"Черкаська","Босівка"]
[null,null,null,null,null,null,null,null,null,null,null,null,null,null,null,null,null,null,null,null,null,null,null,null,null,null,null,null,null,null,null,null,null,null,null,null,null,null,null,null,null,null,null,null,null,"Черкаська","Гуляйка"]
[null,null,null,null,null,null,null,null,null,null,null,null,null,null,null,null,null,null,null,null,null,null,null,null,null,null,null,null,null,null,null,null,null,null,null,null,null,null,null,null,null,null,null,null,null,"Черкаська","Домантове"]
[null,null,null,null,null,null,null,null,null,null,null,null,null,null,null,null,null,null,null,null,null,null,null,null,null,null,null,null,null,null,null,null,null,null,null,null,null,null,null,null,null,null,null,null,null,"Черкаська","Ковтунівка (Остапівська сільська  рада)"]
[null,null,null,null,null,null,null,null,null,null,null,null,null,null,null,null,null,null,null,null,null,null,null,null,null,null,null,null,null,null,null,null,null,null,null,null,null,null,null,null,null,null,null,null,null,"Черкаська","Коржовий Кут"]
[null,null,null,null,null,null,null,null,null,null,null,null,null,null,null,null,null,null,null,null,null,null,null,null,null,null,null,null,null,null,null,null,null,null,null,null,null,null,null,null,null,null,null,null,null,"Черкаська","Мелесівка"]
[null,null,null,null,null,null,null,null,null,null,null,null,null,null,null,null,null,null,null,null,null,null,null,null,null,null,null,null,null,null,null,null,null,null,null,null,null,null,null,null,null,null,null,null,null,"Черкаська","Нова  Ярославка"]
[null,null,null,null,null,null,null,null,null,null,null,null,null,null,null,null,null,null,null,null,null,null,null,null,null,null,null,null,null,null,null,null,null,null,null,null,null,null,null,null,null,null,null,null,null,"Черкаська","Павлівка Перша"]
[null,null,null,null,null,null,null,null,null,null,null,null,null,null,null,null,null,null,null,null,null,null,null,null,null,null,null,null,null,null,null,null,null,null,null,null,null,null,null,null,null,null,null,null,null,"Черкаська","Санжариха"]
[null,null,null,null,null,null,null,null,null,null,null,null,null,null,null,null,null,null,null,null,null,null,null,null,null,null,null,null,null,null,null,null,null,null,null,null,null,null,null,null,null,null,null,null,null,"Черкаська","Скрипчинці"]
[null,null,null,null,null,null,null,null,null,null,null,null,null,null,null,null,null,null,null,null,null,null,null,null,null,null,null,null,null,null,null,null,null,null,null,null,null,null,null,null,null,null,null,null,null,"Черкаська","Халаїдове"]
[null,null,null,null,null,null,null,null,null,null,null,null,null,null,null,null,null,null,null,null,null,null,null,null,null,null,null,null,null,null,null,null,null,null,null,null,null,null,null,null,null,null,null,null,null,"Черкаська","Ховківка"]
[null,null,null,null,null,null,null,null,null,null,null,null,null,null,null,null,null,null,null,null,null,null,null,null,null,null,null,null,null,null,null,null,null,null,null,null,null,null,null,null,null,null,null,null,null,"Чернівецька","Бузовиця"]
[null,null,null,null,null,null,null,null,null,null,null,null,null,null,null,null,null,null,null,null,null,null,null,null,null,null,null,null,null,null,null,null,null,null,null,null,null,null,null,null,null,null,null,null,null,"Чернівецька","Випчина"]
[null,null,null,null,null,null,null,null,null,null,null,null,null,null,null,null,null,null,null,null,null,null,null,null,null,null,null,null,null,null,null,null,null,null,null,null,null,null,null,null,null,null,null,null,null,"Чернівецька","Горбова"]
[null,null,null,null,null,null,null,null,null,null,null,null,null,null,null,null,null,null,null,null,null,null,null,null,null,null,null,null,null,null,null,null,null,null,null,null,null,null,null,null,null,null,null,null,null,"Чернівецька","Корнешти"]
[null,null,null,null,null,null,null,null,null,null,null,null,null,null,null,null,null,null,null,null,null,null,null,null,null,null,null,null,null,null,null,null,null,null,null,null,null,null,null,null,null,null,null,null,null,"Чернівецька","Лукачівка"]
[null,null,null,null,null,null,null,null,null,null,null,null,null,null,null,null,null,null,null,null,null,null,null,null,null,null,null,null,null,null,null,null,null,null,null,null,null,null,null,null,null,null,null,null,null,"Чернівецька","Ошихліби"]
[null,null,null,null,null,null,null,null,null,null,null,null,null,null,null,null,null,null,null,null,null,null,null,null,null,null,null,null,null,null,null,null,null,null,null,null,null,null,null,null,null,null,null,null,null,"Чернівецька","Погорілівка"]
[null,null,null,null,null,null,null,null,null,null,null,null,null,null,null,null,null,null,null,null,null,null,null,null,null,null,null,null,null,null,null,null,null,null,null,null,null,null,null,null,null,null,null,null,null,"Чернівецька","Хряцька"]
[null,null,null,null,null,null,null,null,null,null,null,null,null,null,null,null,null,null,null,null,null,null,null,null,null,null,null,null,null,null,null,null,null,null,null,null,null,null,null,null,null,null,null,null,null,"Чернівецька","Южинець"]
[null,null,null,null,null,null,null,null,null,null,null,null,null,null,null,null,null,null,null,null,null,null,null,null,null,null,null,null,null,null,null,null,null,null,null,null,null,null,null,null,null,null,null,null,null,"Чернігівська","Бережівка"]
[null,null,null,null,null,null,null,null,null,null,null,null,null,null,null,null,null,null,null,null,null,null,null,null,null,null,null,null,null,null,null,null,null,null,null,null,null,null,null,null,null,null,null,null,null,"Чернігівська","Велика Дорога"]
[null,null,null,null,null,null,null,null,null,null,null,null,null,null,null,null,null,null,null,null,null,null,null,null,null,null,null,null,null,null,null,null,null,null,null,null,null,null,null,null,null,null,null,null,null,"Чернігівська","Вильчики"]
[null,null,null,null,null,null,null,null,null,null,null,null,null,null,null,null,null,null,null,null,null,null,null,null,null,null,null,null,null,null,null,null,null,null,null,null,null,null,null,null,null,null,null,null,null,"Чернігівська","Данівка"]
[null,null,null,null,null,null,null,null,null,null,null,null,null,null,null,null,null,null,null,null,null,null,null,null,null,null,null,null,null,null,null,null,null,null,null,null,null,null,null,null,null,null,null,null,null,"Чернігівська","Жеребецьке"]
[null,null,null,null,null,null,null,null,null,null,null,null,null,null,null,null,null,null,null,null,null,null,null,null,null,null,null,null,null,null,null,null,null,null,null,null,null,null,null,null,null,null,null,null,null,"Чернігівська","Карасинівка"]
[null,null,null,null,null,null,null,null,null,null,null,null,null,null,null,null,null,null,null,null,null,null,null,null,null,null,null,null,null,null,null,null,null,null,null,null,null,null,null,null,null,null,null,null,null,"Чернігівська","Клипин"]
[null,null,null,null,null,null,null,null,null,null,null,null,null,null,null,null,null,null,null,null,null,null,null,null,null,null,null,null,null,null,null,null,null,null,null,null,null,null,null,null,null,null,null,null,null,"Чернігівська","Кугуки"]
[null,null,null,null,null,null,null,null,null,null,null,null,null,null,null,null,null,null,null,null,null,null,null,null,null,null,null,null,null,null,null,null,null,null,null,null,null,null,null,null,null,null,null,null,null,"Чернігівська","Ладинка"]
[null,null,null,null,null,null,null,null,null,null,null,null,null,null,null,null,null,null,null,null,null,null,null,null,null,null,null,null,null,null,null,null,null,null,null,null,null,null,null,null,null,null,null,null,null,"Чернігівська","Лісконоги"]
[null,null,null,null,null,null,null,null,null,null,null,null,null,null,null,null,null,null,null,null,null,null,null,null,null,null,null,null,null,null,null,null,null,null,null,null,null,null,null,null,null,null,null,null,null,"Чернігівська","Мезин"]
[null,null,null,null,null,null,null,null,null,null,null,null,null,null,null,null,null,null,null,null,null,null,null,null,null,null,null,null,null,null,null,null,null,null,null,null,null,null,null,null,null,null,null,null,null,"Чернігівська","Мурав'ї"]
[null,null,null,null,null,null,null,null,null,null,null,null,null,null,null,null,null,null,null,null,null,null,null,null,null,null,null,null,null,null,null,null,null,null,null,null,null,null,null,null,null,null,null,null,null,"Чернігівська","Остер"]
[null,null,null,null,null,null,null,null,null,null,null,null,null,null,null,null,null,null,null,null,null,null,null,null,null,null,null,null,null,null,null,null,null,null,null,null,null,null,null,null,null,null,null,null,null,"Чернігівська","Пересаж"]
[null,null,null,null,null,null,null,null,null,null,null,null,null,null,null,null,null,null,null,null,null,null,null,null,null,null,null,null,null,null,null,null,null,null,null,null,null,null,null,null,null,null,null,null,null,"Чернігівська","Радуль"]
[null,null,null,null,null,null,null,null,null,null,null,null,null,null,null,null,null,null,null,null,null,null,null,null,null,null,null,null,null,null,null,null,null,null,null,null,null,null,null,null,null,null,null,null,null,"Чернігівська","Роїще"]
[null,null,null,null,null,null,null,null,null,null,null,null,null,null,null,null,null,null,null,null,null,null,null,null,null,null,null,null,null,null,null,null,null,null,null,null,null,null,null,null,null,null,null,null,null,"Чернігівська","Сезьки"]
[null,null,null,null,null,null,null,null,null,null,null,null,null,null,null,null,null,null,null,null,null,null,null,null,null,null,null,null,null,null,null,null,null,null,null,null,null,null,null,null,null,null,null,null,null,"Чернігівська","Степанівське"]
[null,null,null,null,null,null,null,null,null,null,null,null,null,null,null,null,null,null,null,null,null,null,null,null,null,null,null,null,null,null,null,null,null,null,null,null,null,null,null,null,null,null,null,null,null,"Чернігівська","Тамарівка"]
[null,null,null,null,null,null,null,null,null,null,null,null,null,null,null,null,null,null,null,null,null,null,null,null,null,null,null,null,null,null,null,null,null,null,null,null,null,null,null,null,null,null,null,null,null,"Чернігівська","Тараса Шевченка"]
[null,null,null,null,null,null,null,null,null,null,null,null,null,null,null,null,null,null,null,null,null,null,null,null,null,null,null,null,null,null,null,null,null,null,null,null,null,null,null,null,null,null,null,null,null,"Чернігівська","Тарасів"]
[null,null,null,null,null,null,null,null,null,null,null,null,null,null,null,null,null,null,null,null,null,null,null,null,null,null,null,null,null,null,null,null,null,null,null,null,null,null,null,null,null,null,null,null,null,"Чернігівська","Тасуїв"]
[null,null,null,null,null,null,null,null,null,null,null,null,null,null,null,null,null,null,null,null,null,null,null,null,null,null,null,null,null,null,null,null,null,null,null,null,null,null,null,null,null,null,null,null,null,"Чернігівська","Татарівка"]
[null,null,null,null,null,null,null,null,null,null,null,null,null,null,null,null,null,null,null,null,null,null,null,null,null,null,null,null,null,null,null,null,null,null,null,null,null,null,null,null,null,null,null,null,null,"Чернігівська","Тельне"]
[null,null,null,null,null,null,null,null,null,null,null,null,null,null,null,null,null,null,null,null,null,null,null,null,null,null,null,null,null,null,null,null,null,null,null,null,null,null,null,null,null,null,null,null,null,"Чернігівська","Терехівка"]
[null,null,null,null,null,null,null,null,null,null,null,null,null,null,null,null,null,null,null,null,null,null,null,null,null,null,null,null,null,null,null,null,null,null,null,null,null,null,null,null,null,null,null,null,null,"Чернігівська","Терешиха"]
[null,null,null,null,null,null,null,null,null,null,null,null,null,null,null,null,null,null,null,null,null,null,null,null,null,null,null,null,null,null,null,null,null,null,null,null,null,null,null,null,null,null,null,null,null,"Чернігівська","Тертишники"]
[null,null,null,null,null,null,null,null,null,null,null,null,null,null,null,null,null,null,null,null,null,null,null,null,null,null,null,null,null,null,null,null,null,null,null,null,null,null,null,null,null,null,null,null,null,"Чернігівська","Тимоновичі"]
[null,null,null,null,null,null,null,null,null,null,null,null,null,null,null,null,null,null,null,null,null,null,null,null,null,null,null,null,null,null,null,null,null,null,null,null,null,null,null,null,null,null,null,null,null,"Чернігівська","Тиниця"]
[null,null,null,null,null,null,null,null,null,null,null,null,null,null,null,null,null,null,null,null,null,null,null,null,null,null,null,null,null,null,null,null,null,null,null,null,null,null,null,null,null,null,null,null,null,"Чернігівська","Титівка"]
[null,null,null,null,null,null,null,null,null,null,null,null,null,null,null,null,null,null,null,null,null,null,null,null,null,null,null,null,null,null,null,null,null,null,null,null,null,null,null,null,null,null,null,null,null,"Чернігівська","Тихонівське"]
[null,null,null,null,null,null,null,null,null,null,null,null,null,null,null,null,null,null,null,null,null,null,null,null,null,null,null,null,null,null,null,null,null,null,null,null,null,null,null,null,null,null,null,null,null,"Чернігівська","Тихоновичі"]
[null,null,null,null,null,null,null,null,null,null,null,null,null,null,null,null,null,null,null,null,null,null,null,null,null,null,null,null,null,null,null,null,null,null,null,null,null,null,null,null,null,null,null,null,null,"Чернігівська","Товкачівка"]
[null,null,null,null,null,null,null,null,null,null,null,null,null,null,null,null,null,null,null,null,null,null,null,null,null,null,null,null,null,null,null,null,null,null,null,null,null,null,null,null,null,null,null,null,null,"Чернігівська","Товстоліс"]
[null,null,null,null,null,null,null,null,null,null,null,null,null,null,null,null,null,null,null,null,null,null,null,null,null,null,null,null,null,null,null,null,null,null,null,null,null,null,null,null,null,null,null,null,null,"Чернігівська","Тонка"]
[null,null,null,null,null,null,null,null,null,null,null,null,null,null,null,null,null,null,null,null,null,null,null,null,null,null,null,null,null,null,null,null,null,null,null,null,null,null,null,null,null,null,null,null,null,"Чернігівська","Топчіївка"]
[null,null,null,null,null,null,null,null,null,null,null,null,null,null,null,null,null,null,null,null,null,null,null,null,null,null,null,null,null,null,null,null,null,null,null,null,null,null,null,null,null,null,null,null,null,"Чернігівська","Точене"]
[null,null,null,null,null,null,null,null,null,null,null,null,null,null,null,null,null,null,null,null,null,null,null,null,null,null,null,null,null,null,null,null,null,null,null,null,null,null,null,null,null,null,null,null,null,"Чернігівська","Травкине"]
[null,null,null,null,null,null,null,null,null,null,null,null,null,null,null,null,null,null,null,null,null,null,null,null,null,null,null,null,null,null,null,null,null,null,null,null,null,null,null,null,null,null,null,null,null,"Чернігівська","Тужар"]
[null,null,null,null,null,null,null,null,null,null,null,null,null,null,null,null,null,null,null,null,null,null,null,null,null,null,null,null,null,null,null,null,null,null,null,null,null,null,null,null,null,null,null,null,null,"Чернігівська","Тулія"]
[null,null,null,null,null,null,null,null,null,null,null,null,null,null,null,null,null,null,null,null,null,null,null,null,null,null,null,null,null,null,null,null,null,null,null,null,null,null,null,null,null,null,null,null,null,"Чернігівська","Туманська Гута"]
[null,null,null,null,null,null,null,null,null,null,null,null,null,null,null,null,null,null,null,null,null,null,null,null,null,null,null,null,null,null,null,null,null,null,null,null,null,null,null,null,null,null,null,null,null,"Чернігівська","Тупичів"]
[null,null,null,null,null,null,null,null,null,null,null,null,null,null,null,null,null,null,null,null,null,null,null,null,null,null,null,null,null,null,null,null,null,null,null,null,null,null,null,null,null,null,null,null,null,"Чернігівська","Турківка"]
[null,null,null,null,null,null,null,null,null,null,null,null,null,null,null,null,null,null,null,null,null,null,null,null,null,null,null,null,null,null,null,null,null,null,null,null,null,null,null,null,null,null,null,null,null,"Чернігівська","Тютюнниця"]
[null,null,null,null,null,null,null,null,null,null,null,null,null,null,null,null,null,null,null,null,null,null,null,null,null,null,null,null,null,null,null,null,null,null,null,null,null,null,null,null,null,null,null,null,null,"Чернігівська","Убіжичі"]
[null,null,null,null,null,null,null,null,null,null,null,null,null,null,null,null,null,null,null,null,null,null,null,null,null,null,null,null,null,null,null,null,null,null,null,null,null,null,null,null,null,null,null,null,null,"Чернігівська","Уборки"]
[null,null,null,null,null,null,null,null,null,null,null,null,null,null,null,null,null,null,null,null,null,null,null,null,null,null,null,null,null,null,null,null,null,null,null,null,null,null,null,null,null,null,null,null,null,"Чернігівська","Углова Рудня"]
[null,null,null,null,null,null,null,null,null,null,null,null,null,null,null,null,null,null,null,null,null,null,null,null,null,null,null,null,null,null,null,null,null,null,null,null,null,null,null,null,null,null,null,null,null,"Чернігівська","Удайці"]
[null,null,null,null,null,null,null,null,null,null,null,null,null,null,null,null,null,null,null,null,null,null,null,null,null,null,null,null,null,null,null,null,null,null,null,null,null,null,null,null,null,null,null,null,null,"Чернігівська","Узруй"]
[null,null,null,null,null,null,null,null,null,null,null,null,null,null,null,null,null,null,null,null,null,null,null,null,null,null,null,null,null,null,null,null,null,null,null,null,null,null,null,null,null,null,null,null,null,"Чернігівська","Українське (курінська)"]
[null,null,null,null,null,null,null,null,null,null,null,null,null,null,null,null,null,null,null,null,null,null,null,null,null,null,null,null,null,null,null,null,null,null,null,null,null,null,null,null,null,null,null,null,null,"Чернігівська","Унучки"]
[null,null,null,null,null,null,null,null,null,null,null,null,null,null,null,null,null,null,null,null,null,null,null,null,null,null,null,null,null,null,null,null,null,null,null,null,null,null,null,null,null,null,null,null,null,"Чернігівська","Ушівка"]
[null,null,null,null,null,null,null,null,null,null,null,null,null,null,null,null,null,null,null,null,null,null,null,null,null,null,null,null,null,null,null,null,null,null,null,null,null,null,null,null,null,null,null,null,null,"Чернігівська","Фаївка"]
[null,null,null,null,null,null,null,null,null,null,null,null,null,null,null,null,null,null,null,null,null,null,null,null,null,null,null,null,null,null,null,null,null,null,null,null,null,null,null,null,null,null,null,null,null,"Чернігівська","Фастівці"]
[null,null,null,null,null,null,null,null,null,null,null,null,null,null,null,null,null,null,null,null,null,null,null,null,null,null,null,null,null,null,null,null,null,null,null,null,null,null,null,null,null,null,null,null,null,"Чернігівська","Ферубки"]
[null,null,null,null,null,null,null,null,null,null,null,null,null,null,null,null,null,null,null,null,null,null,null,null,null,null,null,null,null,null,null,null,null,null,null,null,null,null,null,null,null,null,null,null,null,"Чернігівська","Феськівка"]
[null,null,null,null,null,null,null,null,null,null,null,null,null,null,null,null,null,null,null,null,null,null,null,null,null,null,null,null,null,null,null,null,null,null,null,null,null,null,null,null,null,null,null,null,null,"Чернігівська","Філонівка"]
[null,null,null,null,null,null,null,null,null,null,null,null,null,null,null,null,null,null,null,null,null,null,null,null,null,null,null,null,null,null,null,null,null,null,null,null,null,null,null,null,null,null,null,null,null,"Чернігівська","Форостовичі"]
[null,null,null,null,null,null,null,null,null,null,null,null,null,null,null,null,null,null,null,null,null,null,null,null,null,null,null,null,null,null,null,null,null,null,null,null,null,null,null,null,null,null,null,null,null,"Чернігівська","Фурсове"]
[null,null,null,null,null,null,null,null,null,null,null,null,null,null,null,null,null,null,null,null,null,null,null,null,null,null,null,null,null,null,null,null,null,null,null,null,null,null,null,null,null,null,null,null,null,"Чернігівська","Хаєнки"]
[null,null,null,null,null,null,null,null,null,null,null,null,null,null,null,null,null,null,null,null,null,null,null,null,null,null,null,null,null,null,null,null,null,null,null,null,null,null,null,null,null,null,null,null,null,"Чернігівська","Хаїха"]
[null,null,null,null,null,null,null,null,null,null,null,null,null,null,null,null,null,null,null,null,null,null,null,null,null,null,null,null,null,null,null,null,null,null,null,null,null,null,null,null,null,null,null,null,null,"Чернігівська","Халимонове"]
[null,null,null,null,null,null,null,null,null,null,null,null,null,null,null,null,null,null,null,null,null,null,null,null,null,null,null,null,null,null,null,null,null,null,null,null,null,null,null,null,null,null,null,null,null,"Чернігівська","Халявин"]
[null,null,null,null,null,null,null,null,null,null,null,null,null,null,null,null,null,null,null,null,null,null,null,null,null,null,null,null,null,null,null,null,null,null,null,null,null,null,null,null,null,null,null,null,null,"Чернігівська","Хатилова Гута"]
[null,null,null,null,null,null,null,null,null,null,null,null,null,null,null,null,null,null,null,null,null,null,null,null,null,null,null,null,null,null,null,null,null,null,null,null,null,null,null,null,null,null,null,null,null,"Чернігівська","Хвилівка"]
[null,null,null,null,null,null,null,null,null,null,null,null,null,null,null,null,null,null,null,null,null,null,null,null,null,null,null,null,null,null,null,null,null,null,null,null,null,null,null,null,null,null,null,null,null,"Чернігівська","Хибалівка"]
[null,null,null,null,null,null,null,null,null,null,null,null,null,null,null,null,null,null,null,null,null,null,null,null,null,null,null,null,null,null,null,null,null,null,null,null,null,null,null,null,null,null,null,null,null,"Чернігівська","Хлоп'яники"]
[null,null,null,null,null,null,null,null,null,null,null,null,null,null,null,null,null,null,null,null,null,null,null,null,null,null,null,null,null,null,null,null,null,null,null,null,null,null,null,null,null,null,null,null,null,"Чернігівська","Хмільниця"]
[null,null,null,null,null,null,null,null,null,null,null,null,null,null,null,null,null,null,null,null,null,null,null,null,null,null,null,null,null,null,null,null,null,null,null,null,null,null,null,null,null,null,null,null,null,"Чернігівська","Ховдіївка"]
[null,null,null,null,null,null,null,null,null,null,null,null,null,null,null,null,null,null,null,null,null,null,null,null,null,null,null,null,null,null,null,null,null,null,null,null,null,null,null,null,null,null,null,null,null,"Чернігівська","Ховми"]
[null,null,null,null,null,null,null,null,null,null,null,null,null,null,null,null,null,null,null,null,null,null,null,null,null,null,null,null,null,null,null,null,null,null,null,null,null,null,null,null,null,null,null,null,null,"Чернігівська","Холми"]
[null,null,null,null,null,null,null,null,null,null,null,null,null,null,null,null,null,null,null,null,null,null,null,null,null,null,null,null,null,null,null,null,null,null,null,null,null,null,null,null,null,null,null,null,null,"Чернігівська","Холявки"]
[null,null,null,null,null,null,null,null,null,null,null,null,null,null,null,null,null,null,null,null,null,null,null,null,null,null,null,null,null,null,null,null,null,null,null,null,null,null,null,null,null,null,null,null,null,"Чернігівська","Хоробичі"]
[null,null,null,null,null,null,null,null,null,null,null,null,null,null,null,null,null,null,null,null,null,null,null,null,null,null,null,null,null,null,null,null,null,null,null,null,null,null,null,null,null,null,null,null,null,"Чернігівська","Хороше Озеро"]
[null,null,null,null,null,null,null,null,null,null,null,null,null,null,null,null,null,null,null,null,null,null,null,null,null,null,null,null,null,null,null,null,null,null,null,null,null,null,null,null,null,null,null,null,null,"Чернігівська","Хотівля"]
[null,null,null,null,null,null,null,null,null,null,null,null,null,null,null,null,null,null,null,null,null,null,null,null,null,null,null,null,null,null,null,null,null,null,null,null,null,null,null,null,null,null,null,null,null,"Чернігівська","Хотіївка"]
[null,null,null,null,null,null,null,null,null,null,null,null,null,null,null,null,null,null,null,null,null,null,null,null,null,null,null,null,null,null,null,null,null,null,null,null,null,null,null,null,null,null,null,null,null,"Чернігівська","Хотуничі"]
[null,null,null,null,null,null,null,null,null,null,null,null,null,null,null,null,null,null,null,null,null,null,null,null,null,null,null,null,null,null,null,null,null,null,null,null,null,null,null,null,null,null,null,null,null,"Чернігівська","Храпате"]
[null,null,null,null,null,null,null,null,null,null,null,null,null,null,null,null,null,null,null,null,null,null,null,null,null,null,null,null,null,null,null,null,null,null,null,null,null,null,null,null,null,null,null,null,null,"Чернігівська","Хрипівка"]
[null,null,null,null,null,null,null,null,null,null,null,null,null,null,null,null,null,null,null,null,null,null,null,null,null,null,null,null,null,null,null,null,null,null,null,null,null,null,null,null,null,null,null,null,null,"Чернігівська","Хрінівка"]
[null,null,null,null,null,null,null,null,null,null,null,null,null,null,null,null,null,null,null,null,null,null,null,null,null,null,null,null,null,null,null,null,null,null,null,null,null,null,null,null,null,null,null,null,null,"Чернігівська","Хукалівка"]
[null,null,null,null,null,null,null,null,null,null,null,null,null,null,null,null,null,null,null,null,null,null,null,null,null,null,null,null,null,null,null,null,null,null,null,null,null,null,null,null,null,null,null,null,null,"Чернігівська","Часнівці"]
[null,null,null,null,null,null,null,null,null,null,null,null,null,null,null,null,null,null,null,null,null,null,null,null,null,null,null,null,null,null,null,null,null,null,null,null,null,null,null,null,null,null,null,null,null,"Чернігівська","Чемер"]
[null,null,null,null,null,null,null,null,null,null,null,null,null,null,null,null,null,null,null,null,null,null,null,null,null,null,null,null,null,null,null,null,null,null,null,null,null,null,null,null,null,null,null,null,null,"Чернігівська","Ченчики"]
[null,null,null,null,null,null,null,null,null,null,null,null,null,null,null,null,null,null,null,null,null,null,null,null,null,null,null,null,null,null,null,null,null,null,null,null,null,null,null,null,null,null,null,null,null,"Чернігівська","Чепелів"]
[null,null,null,null,null,null,null,null,null,null,null,null,null,null,null,null,null,null,null,null,null,null,null,null,null,null,null,null,null,null,null,null,null,null,null,null,null,null,null,null,null,null,null,null,null,"Чернігівська","Червона Буда"]
[null,null,null,null,null,null,null,null,null,null,null,null,null,null,null,null,null,null,null,null,null,null,null,null,null,null,null,null,null,null,null,null,null,null,null,null,null,null,null,null,null,null,null,null,null,"Чернігівська","Червона Гута"]
[null,null,null,null,null,null,null,null,null,null,null,null,null,null,null,null,null,null,null,null,null,null,null,null,null,null,null,null,null,null,null,null,null,null,null,null,null,null,null,null,null,null,null,null,null,"Чернігівська","Червона Україна"]
[null,null,null,null,null,null,null,null,null,null,null,null,null,null,null,null,null,null,null,null,null,null,null,null,null,null,null,null,null,null,null,null,null,null,null,null,null,null,null,null,null,null,null,null,null,"Чернігівська","Червоний Гай"]
[null,null,null,null,null,null,null,null,null,null,null,null,null,null,null,null,null,null,null,null,null,null,null,null,null,null,null,null,null,null,null,null,null,null,null,null,null,null,null,null,null,null,null,null,null,"Чернігівська","Червоний Довжик"]
[null,null,null,null,null,null,null,null,null,null,null,null,null,null,null,null,null,null,null,null,null,null,null,null,null,null,null,null,null,null,null,null,null,null,null,null,null,null,null,null,null,null,null,null,null,"Чернігівська","Червоний Колодязь"]
[null,null,null,null,null,null,null,null,null,null,null,null,null,null,null,null,null,null,null,null,null,null,null,null,null,null,null,null,null,null,null,null,null,null,null,null,null,null,null,null,null,null,null,null,null,"Чернігівська","Червоний Остер"]
[null,null,null,null,null,null,null,null,null,null,null,null,null,null,null,null,null,null,null,null,null,null,null,null,null,null,null,null,null,null,null,null,null,null,null,null,null,null,null,null,null,null,null,null,null,"Чернігівська","Червоний Пахар"]
[null,null,null,null,null,null,null,null,null,null,null,null,null,null,null,null,null,null,null,null,null,null,null,null,null,null,null,null,null,null,null,null,null,null,null,null,null,null,null,null,null,null,null,null,null,"Чернігівська","Червоний Плугатор"]
[null,null,null,null,null,null,null,null,null,null,null,null,null,null,null,null,null,null,null,null,null,null,null,null,null,null,null,null,null,null,null,null,null,null,null,null,null,null,null,null,null,null,null,null,null,"Чернігівська","Червоний Шлях"]
[null,null,null,null,null,null,null,null,null,null,null,null,null,null,null,null,null,null,null,null,null,null,null,null,null,null,null,null,null,null,null,null,null,null,null,null,null,null,null,null,null,null,null,null,null,"Чернігівська","Червоні Гори"]
[null,null,null,null,null,null,null,null,null,null,null,null,null,null,null,null,null,null,null,null,null,null,null,null,null,null,null,null,null,null,null,null,null,null,null,null,null,null,null,null,null,null,null,null,null,"Чернігівська","Червоні Партизани"]
[null,null,null,null,null,null,null,null,null,null,null,null,null,null,null,null,null,null,null,null,null,null,null,null,null,null,null,null,null,null,null,null,null,null,null,null,null,null,null,null,null,null,null,null,null,"Чернігівська","Черецьке"]
[null,null,null,null,null,null,null,null,null,null,null,null,null,null,null,null,null,null,null,null,null,null,null,null,null,null,null,null,null,null,null,null,null,null,null,null,null,null,null,null,null,null,null,null,null,"Чернігівська","Черниш"]
[null,null,null,null,null,null,null,null,null,null,null,null,null,null,null,null,null,null,null,null,null,null,null,null,null,null,null,null,null,null,null,null,null,null,null,null,null,null,null,null,null,null,null,null,null,"Чернігівська","Чернігів"]
[null,null,null,null,null,null,null,null,null,null,null,null,null,null,null,null,null,null,null,null,null,null,null,null,null,null,null,null,null,null,null,null,null,null,null,null,null,null,null,null,null,null,null,null,null,"Чернігівська","Чисті Лужи"]
[null,null,null,null,null,null,null,null,null,null,null,null,null,null,null,null,null,null,null,null,null,null,null,null,null,null,null,null,null,null,null,null,null,null,null,null,null,null,null,null,null,null,null,null,null,"Чернігівська","Чорний Ріг"]
[null,null,null,null,null,null,null,null,null,null,null,null,null,null,null,null,null,null,null,null,null,null,null,null,null,null,null,null,null,null,null,null,null,null,null,null,null,null,null,null,null,null,null,null,null,"Чернігівська","Чорногорці"]
[null,null,null,null,null,null,null,null,null,null,null,null,null,null,null,null,null,null,null,null,null,null,null,null,null,null,null,null,null,null,null,null,null,null,null,null,null,null,null,null,null,null,null,null,null,"Чернігівська","Чорнозем"]
[null,null,null,null,null,null,null,null,null,null,null,null,null,null,null,null,null,null,null,null,null,null,null,null,null,null,null,null,null,null,null,null,null,null,null,null,null,null,null,null,null,null,null,null,null,"Чернігівська","Чорнотичі"]
[null,null,null,null,null,null,null,null,null,null,null,null,null,null,null,null,null,null,null,null,null,null,null,null,null,null,null,null,null,null,null,null,null,null,null,null,null,null,null,null,null,null,null,null,null,"Чернігівська","Чудівка"]
[null,null,null,null,null,null,null,null,null,null,null,null,null,null,null,null,null,null,null,null,null,null,null,null,null,null,null,null,null,null,null,null,null,null,null,null,null,null,null,null,null,null,null,null,null,"Чернігівська","Чулатів"]
[null,null,null,null,null,null,null,null,null,null,null,null,null,null,null,null,null,null,null,null,null,null,null,null,null,null,null,null,null,null,null,null,null,null,null,null,null,null,null,null,null,null,null,null,null,"Чернігівська","Чумак"]
[null,null,null,null,null,null,null,null,null,null,null,null,null,null,null,null,null,null,null,null,null,null,null,null,null,null,null,null,null,null,null,null,null,null,null,null,null,null,null,null,null,null,null,null,null,"Чернігівська","Шабалинів"]
[null,null,null,null,null,null,null,null,null,null,null,null,null,null,null,null,null,null,null,null,null,null,null,null,null,null,null,null,null,null,null,null,null,null,null,null,null,null,null,null,null,null,null,null,null,"Чернігівська","Шаболтасівка"]
[null,null,null,null,null,null,null,null,null,null,null,null,null,null,null,null,null,null,null,null,null,null,null,null,null,null,null,null,null,null,null,null,null,null,null,null,null,null,null,null,null,null,null,null,null,"Чернігівська","Шами"]
[null,null,null,null,null,null,null,null,null,null,null,null,null,null,null,null,null,null,null,null,null,null,null,null,null,null,null,null,null,null,null,null,null,null,null,null,null,null,null,null,null,null,null,null,null,"Чернігівська","Шапіхи"]
[null,null,null,null,null,null,null,null,null,null,null,null,null,null,null,null,null,null,null,null,null,null,null,null,null,null,null,null,null,null,null,null,null,null,null,null,null,null,null,null,null,null,null,null,null,"Чернігівська","Шатура"]
[null,null,null,null,null,null,null,null,null,null,null,null,null,null,null,null,null,null,null,null,null,null,null,null,null,null,null,null,null,null,null,null,null,null,null,null,null,null,null,null,null,null,null,null,null,"Чернігівська","Шведчина"]
[null,null,null,null,null,null,null,null,null,null,null,null,null,null,null,null,null,null,null,null,null,null,null,null,null,null,null,null,null,null,null,null,null,null,null,null,null,null,null,null,null,null,null,null,null,"Чернігівська","Шептаки"]
[null,null,null,null,null,null,null,null,null,null,null,null,null,null,null,null,null,null,null,null,null,null,null,null,null,null,null,null,null,null,null,null,null,null,null,null,null,null,null,null,null,null,null,null,null,"Чернігівська","Шестовиця"]
[null,null,null,null,null,null,null,null,null,null,null,null,null,null,null,null,null,null,null,null,null,null,null,null,null,null,null,null,null,null,null,null,null,null,null,null,null,null,null,null,null,null,null,null,null,"Чернігівська","Шибиринівка"]
[null,null,null,null,null,null,null,null,null,null,null,null,null,null,null,null,null,null,null,null,null,null,null,null,null,null,null,null,null,null,null,null,null,null,null,null,null,null,null,null,null,null,null,null,null,"Чернігівська","Шиловичі"]
[null,null,null,null,null,null,null,null,null,null,null,null,null,null,null,null,null,null,null,null,null,null,null,null,null,null,null,null,null,null,null,null,null,null,null,null,null,null,null,null,null,null,null,null,null,"Чернігівська","Шишка"]
[null,null,null,null,null,null,null,null,null,null,null,null,null,null,null,null,null,null,null,null,null,null,null,null,null,null,null,null,null,null,null,null,null,null,null,null,null,null,null,null,null,null,null,null,null,"Чернігівська","Шкробове"]
[null,null,null,null,null,null,null,null,null,null,null,null,null,null,null,null,null,null,null,null,null,null,null,null,null,null,null,null,null,null,null,null,null,null,null,null,null,null,null,null,null,null,null,null,null,"Чернігівська","Шкуранка"]
[null,null,null,null,null,null,null,null,null,null,null,null,null,null,null,null,null,null,null,null,null,null,null,null,null,null,null,null,null,null,null,null,null,null,null,null,null,null,null,null,null,null,null,null,null,"Чернігівська","Шмаївка"]
[null,null,null,null,null,null,null,null,null,null,null,null,null,null,null,null,null,null,null,null,null,null,null,null,null,null,null,null,null,null,null,null,null,null,null,null,null,null,null,null,null,null,null,null,null,"Чернігівська","Шняківка"]
[null,null,null,null,null,null,null,null,null,null,null,null,null,null,null,null,null,null,null,null,null,null,null,null,null,null,null,null,null,null,null,null,null,null,null,null,null,null,null,null,null,null,null,null,null,"Чернігівська","Шолойки"]
[null,null,null,null,null,null,null,null,null,null,null,null,null,null,null,null,null,null,null,null,null,null,null,null,null,null,null,null,null,null,null,null,null,null,null,null,null,null,null,null,null,null,null,null,null,"Чернігівська","Шпаків"]
[null,null,null,null,null,null,null,null,null,null,null,null,null,null,null,null,null,null,null,null,null,null,null,null,null,null,null,null,null,null,null,null,null,null,null,null,null,null,null,null,null,null,null,null,null,"Чернігівська","Шумани"]
[null,null,null,null,null,null,null,null,null,null,null,null,null,null,null,null,null,null,null,null,null,null,null,null,null,null,null,null,null,null,null,null,null,null,null,null,null,null,null,null,null,null,null,null,null,"Чернігівська","Шумейкине (Матіївська)"]
[null,null,null,null,null,null,null,null,null,null,null,null,null,null,null,null,null,null,null,null,null,null,null,null,null,null,null,null,null,null,null,null,null,null,null,null,null,null,null,null,null,null,null,null,null,"Чернігівська","Шумейків"]
[null,null,null,null,null,null,null,null,null,null,null,null,null,null,null,null,null,null,null,null,null,null,null,null,null,null,null,null,null,null,null,null,null,null,null,null,null,null,null,null,null,null,null,null,null,"Чернігівська","Шумин"]
[null,null,null,null,null,null,null,null,null,null,null,null,null,null,null,null,null,null,null,null,null,null,null,null,null,null,null,null,null,null,null,null,null,null,null,null,null,null,null,null,null,null,null,null,null,"Чернігівська","Щокоть"]
[null,null,null,null,null,null,null,null,null,null,null,null,null,null,null,null,null,null,null,null,null,null,null,null,null,null,null,null,null,null,null,null,null,null,null,null,null,null,null,null,null,null,null,null,null,"Чернігівська","Щорс"]
[null,null,null,null,null,null,null,null,null,null,null,null,null,null,null,null,null,null,null,null,null,null,null,null,null,null,null,null,null,null,null,null,null,null,null,null,null,null,null,null,null,null,null,null,null,"Чернігівська","Щурівка"]
[null,null,null,null,null,null,null,null,null,null,null,null,null,null,null,null,null,null,null,null,null,null,null,null,null,null,null,null,null,null,null,null,null,null,null,null,null,null,null,null,null,null,null,null,null,"Чернігівська","Щуча Гребля"]
[null,null,null,null,null,null,null,null,null,null,null,null,null,null,null,null,null,null,null,null,null,null,null,null,null,null,null,null,null,null,null,null,null,null,null,null,null,null,null,null,null,null,null,null,null,"Чернігівська","Юрківщина"]
[null,null,null,null,null,null,null,null,null,null,null,null,null,null,null,null,null,null,null,null,null,null,null,null,null,null,null,null,null,null,null,null,null,null,null,null,null,null,null,null,null,null,null,null,null,"Чернігівська","Юхнове"]
[null,null,null,null,null,null,null,null,null,null,null,null,null,null,null,null,null,null,null,null,null,null,null,null,null,null,null,null,null,null,null,null,null,null,null,null,null,null,null,null,null,null,null,null,null,"Чернігівська","Яблунівське"]
[null,null,null,null,null,null,null,null,null,null,null,null,null,null,null,null,null,null,null,null,null,null,null,null,null,null,null,null,null,null,null,null,null,null,null,null,null,null,null,null,null,null,null,null,null,"Чернігівська","Ядути"]
[null,null,null,null,null,null,null,null,null,null,null,null,null,null,null,null,null,null,null,null,null,null,null,null,null,null,null,null,null,null,null,null,null,null,null,null,null,null,null,null,null,null,null,null,null,"Чернігівська","Якличі"]
[null,null,null,null,null,null,null,null,null,null,null,null,null,null,null,null,null,null,null,null,null,null,null,null,null,null,null,null,null,null,null,null,null,null,null,null,null,null,null,null,null,null,null,null,null,"Чернігівська","Ямище"]
[null,null,null,null,null,null,null,null,null,null,null,null,null,null,null,null,null,null,null,null,null,null,null,null,null,null,null,null,null,null,null,null,null,null,null,null,null,null,null,null,null,null,null,null,null,"Чернігівська","Ярова Білещина"]
[null,null,null,null,null,null,null,null,null,null,null,null,null,null,null,null,null,null,null,null,null,null,null,null,null,null,null,null,null,null,null,null,null,null,null,null,null,null,null,null,null,null,null,null,null,"Чернігівська","Ясна Зірка"]
[null,null,null,null,null,null,null,null,null,null,null,null,null,null,null,null,null,null,null,null,null,null,null,null,null,null,null,null,null,null,null,null,null,null,null,null,null,null,null,null,null,null,null,null,null,"Чернігівська","Яськове"]
[null,null,null,null,null,null,null,null,null,null,null,null,null,null,null,null,null,null,null,null,null,null,null,null,null,null,null,null,null,null,null,null,null,null,null,null,null,null,null,null,null,null,null,null,null,"Чернігівська","Ященків"]