{"text_format":"1","workbook":"xlsx","n_sheets":6,"sheets":["1.Портфель кредитів","2.Забезпечення","3.ППР","4.журнал торгів","Група_актива","Hidden_Словник"],"not_rendered":{"charts":0,"images":1,"macros":1,"external_links":2,"defined_names":32,"comments":0,"pivot_tables":0},"unopened":[],"bounds":{"document_bytes":16777216,"sheet_cells":100000,"rows_first":2000,"rows_last":500,"rows_between":2000,"halvings":0,"cell_chars":16384,"cell_head_chars":4096},"cells_cut":0,"cells_raw":0,"read":"whole","date_system":"1900"}

{"sheet":"1.Портфель кредитів","index":0,"n_rows":1005,"n_cols":472,"rows_kept":1005,"cut":false,"hidden":false,"merged":[[1,2,3,18],[848,6,848,22],[849,6,849,22],[850,6,850,22],[851,6,851,22]]}
[]
[null,null,"Цей документ був підготовлений Фондом гарантування вкладів фізичних осіб (далі – Фонд) виключно для інформаційних цілей і не повинен вважатися як спонукання до будь-яких дій чи бездіяльності. \nІнформація, що міститься в цьому документі, була отримана з/або ґрунтується на джерелах, які вважаються надійними, але не є вичерпною та не може сприйматися як повна або актуальна. Зокрема, але не виключно, станом на дату придбання активів допускаються несуттєві зміни лота, в складі якого продаються такі активи. Під несуттєвими змінами лота слід розуміти такі зміни характеристик активів у складі такого лота, які впливають на його балансову вартість, але не більше ніж на 10 відсотків. Рішення покупця щодо будь-яких дій або бездіяльності повинно ґрунтуватися на власних оцінках та дослідженнях майна (активу/активів), котре реалізується. Фонд не несе відповідальності за рішення покупця та його наслідки, що ґрунтується на інформації, викладеній в даному документі.",null,null,null,null,null,null,null,null,null,null,null,null,null,null,null,null,null,null,null,null,null,null,null,null,null,null,null,null,null,null,null,null,null,null,null,null,null,null,null,null,null,null,null,null,null,null,null,null,null,null,null,null,null,null,null,null,null,null,null,null,null,null,null,null,null,null,null,null,null,null,null,null,null,null,null,null,null,null,null,null,null,null,null,null,null,null,null,null,null,null,null,null,null,null,null,null,null,null,null,null,null,null,null,null,null,null,null,null,null,null,null,null,null,null,null,null,null,null,null,null,null,null,null,null,null,null,null,null,null,null,null,null,null,null,null,null,null,null,null,null,null,null,null,null,null,null,null,null,null,null,null,null,null,null,null,null,null,null,null,null,null,null,null,null,null,null,null,null,null,null,null,null,null,null,null,null,null,null,null,null,null,null,null,null,null,null,null,null,null,null,null,null,null,null,null,null,null,null,null,null,null,null,null,null,null,null,null,null,null,null,null,null,null,null,null,null,null,null,null,null,null,null,null,null,null,null,null,null,null,null,null,null,null,null,null,null,null,null,null,null,null,null,null,null,null,null,null,null,null,null,null,null,null,null,null,null,null,null,null,null,null,null,null,null,null,null,null,null,null,null,null,null,null,null,null,null,null,null,null,null,null,null,null,null,null,null,null,null,null,null,null,null,null,null,null,null,null,null,null,null,null,null,null,null,null,null,null,null,null,null,null,null,null,null,null,null,null,null,null,null,null,null,null,null,null,null,null,null,null,null,null,null,null,null,null,null,null,null,null,null,null,null,null,null,null,null,null,null,null,null,null,null,null,null,null,null,null,null,null,null,null,null,null,null,null,null,null,null,null,null,null,null,null,null,null,null,null,null,null,null,null,null,null,null,null,null,null,null,null,null,null,null,null,null,null,null,null,null,null,null,null,null,null,null,null,null,null,null,null,null,null,null,null,null,null,null,null,null,null,null,null,null,null,null,null,null,null,null,null,null,null,null,null,null,null,null,null,null,null,null,null,null,null,null,null,null,null,null,null,null,null,null,null,null,null,null,null,null,null,null,null,null,null,null,null,null,null,null,"2029-11-09"]
[]
[]
[]
["Звітна дата",":","2023-12-01",null,null,null,null,null,null,null,null,null,null,null,null,null,null,null,null,null,null,null,679984610.40999925,2730429895.1396756,3282601961.3199964,2489696124.4100008,792905836.90999997,0]
[null,null,"Загальні дані",null,null,null,null,"Характеристика активу / фактори впливу",null,null,null,null,null,null,null,null,null,null,null,null,null,null,null,"Заборгованість"]
["unicid","#","Банк","МФО банку","Класифікація активу","Область","Ознака банкрутства/ліквідації (відповідно ЄДР на дату заповнення паспорту)","Група активу\n(1 – права вимоги,\n2 – майнові права,\n3 – майнові права)","Номер кредитного договору","Тип кредита/активу","Валюта","Відсоткова ставка номінальна","Дата відкриття","Дата закінчення","Відмітка про знаходження права об'єкту в якості забезпечення під рефінансуванням в НБУ","Наявність кредитного договору та договору застави","Кількість днів прострочення оплати боргу на дату заповнення","Сума погашеної заборгованності у поточному році","Сума останнього погашення заборгованності, грн. екв.","Дата останнього погашення заборгованності","Суб'єкт оціночної діяльності","Дата оцінки активу","Оціночна вартість, грн. екв.","Заборгованість на дату формування ліквідаційної маси, грн. екв.","Заборгованстіь  на дату заповнення паспорту, грн. екв. 01.12.2023р. (тіло та проценти):","Заборгованість по тілу кредиту на дату заповнення паспорту, грн. екв.","Забаргованність по нарах. % за кредитом на дату заповнення паспорту, грн. екв.","Штрафи та пені, грн. екв."]
["380816__1",1,"Банк Січ",380816,"Ю/О право вимоги","Київ","Банкрутство",1,"203470-ГР-3581","Банківська гарантія","Гривня",0.21,"2020-12-16","2024-03-05","НІ","Наявні документи кредитної справи",753,0,85924.06,"2021-04-16","ЗАТ «КОНСАЛТИНГЮРСЕРВІС»","2022-11-30",51070.89,3811260.69,4257802.5,3007341.89,1250460.6099999999,"згідно умов договору"]
["380816__2",2,"Банк Січ",380816,"Ю/О право вимоги","Київ","Банкрутство",1,"203470-ГР-3582","Банківська гарантія","Гривня",0.21,"2020-12-16","2024-03-05","НІ","Наявні документи кредитної справи",753,0,28542.240000000002,"2021-04-16","ЗАТ «КОНСАЛТИНГЮРСЕРВІС»","2022-11-30",16963.849999999999,1265959.02,1414291.02,998978.24,415312.78,"згідно умов договору"]
["380816__3",3,"Банк Січ",380816,"Ю/О право вимоги","Київ","Діюче",1,"203570-ГР-2511","Банківська гарантія","Гривня",0.3,"2020-09-07","2021-03-02","НІ","Відсутні документи кредитної справи",1052,0,3993.02,"2022-12-08","ЗАТ «КОНСАЛТИНГЮРСЕРВІС»","2022-11-30",15708,575384.72,679391.66999999993,360000,319391.67,"згідно умов договору"]
["380816__4",4,"Банк Січ",380816,"Ю/О право вимоги","Київ","Діюче",1,"173/13","кредитна лінія","Гривня",0,"2013-11-15","2014-05-30","НІ","Наявні документи кредитної справи",3469,0,17067.07,"2014-06-03","ЗАТ «КОНСАЛТИНГЮРСЕРВІС»","2022-11-30",8331.98,946816.1,946816.1,946816.1,0,"згідно умов договору"]
["380816__5",5,"Банк Січ",380816,"Ю/О право вимоги","Київ","Діюче",1,"176/13","кредитна лінія","Гривня",0,"2013-11-15","2014-05-30","НІ","Наявні документи кредитної справи",3469,0,17067.07,"2014-06-03","ЗАТ «КОНСАЛТИНГЮРСЕРВІС»","2022-11-30",8364.2999999999993,950488.76,950488.76,950488.76,0,"згідно умов договору"]
["380816__6",6,"Банк Січ",380816,"Ф/О право вимоги","Київ","Діюче",1,"258/19  ","кредит на споживчі потреби","Гривня",0.38,"2019-08-29","2021-08-26","НІ","Наявні документи кредитної справи",1155,0,105.2,"2021-08-09","ЗАТ «КОНСАЛТИНГЮРСЕРВІС»","2022-11-30",2100.9699999999998,328276.52,421226.27,152794.59,268431.68,"згідно умов договору"]
["380816__7",7,"Банк Січ",380816,"Ю/О право вимоги","Київ","Діюче",1,"246/19","відновлювана кредитна лінія","Гривня",0.24,"2019-08-19","2020-12-25","НІ","Наявні документи кредитної справи",1095,0,5000,"2021-06-29","ЗАТ «КОНСАЛТИНГЮРСЕРВІС»","2022-11-30",6117.06,926826.94,1100009.8400000001,598439.88,501569.96,"згідно умов договору"]
["380816__8",8,"Банк Січ",380816,"Ю/О право вимоги","Київ","Діюче",1,"112/21","кредитна лінія","Гривня",0.1515,"2021-03-11","2023-03-07","НІ","Наявні документи кредитної справи",441,0,129608.33,"2022-10-03","ЗАТ «КОНСАЛТИНГЮРСЕРВІС»","2022-11-30",16772282.109999999,25102591.670000002,29146424.990000002,24000000,5146424.99,"згідно умов договору"]
["380816__9",9,"Банк Січ",380816,"Ю/О право вимоги","Київ","Діюче",1,"463/21","кредитна лінія","Гривня",0.17150000000000001,"2021-11-16","2023-11-10","НІ","Наявні документи кредитної справи",409,0,339191.67,"2022-09-21","ЗАТ «КОНСАЛТИНГЮРСЕРВІС»","2022-11-30",18056457.870000001,27024580.559999999,31545511.07,26000000,5545511.0700000003,"згідно умов договору"]
["380816__10",10,"Банк Січ",380816,"Ю/О право вимоги","Львівська","Діюче",1,"394/21","кредитна лінія","Гривня",0.18,"2021-10-01","2022-09-30","НІ","Наявні документи кредитної справи",430,0,607000,"2022-07-27","ЗАТ «КОНСАЛТИНГЮРСЕРВІС»","2022-11-30",35455767.520000003,53379580.020000003,62241780.019999996,48560000,13681780.02,"згідно умов договору"]
["380816__11",11,"Банк Січ",380816,"Дебіторська заборгованість","Львівська","Діюче",null,26002001204450,"Дебіторська заборгованість","Гривня",0,"2022-01-31","-","НІ","Наявні документи кредитної справи",669,0,0,"-","ТОВ «ПІВНІЧНО-СХІДНА КОНСАЛТИНГОВА ГРУПА»","2022-11-30",1,845,845,845,0,0]
["380816__12",12,"Банк Січ",380816,"Дебіторська заборгованість","Львівська","Діюче",null,26001002204450,"Дебіторська заборгованість","Гривня",0,"2022-08-31","-","НІ","Наявні документи кредитної справи",457,0,0,"-","ТОВ «ПІВНІЧНО-СХІДНА КОНСАЛТИНГОВА ГРУПА»","2022-11-30",1,400,400,400,0,0]
["380816__13",13,"Банк Січ",380816,"Ю/О право вимоги","Київ","Діюче",1,"104/13","Невідновлювана мультивалютна кредитна лінія ","Гривня",0.23,"2013-08-12","2018-08-08","НІ","Відсутні документи кредитної справи",1940,0,119054.95,"2019-03-28","ЗАТ «КОНСАЛТИНГЮРСЕРВІС»123 283,49","2022-11-30",82289.02,123283.49,123283.49,123283.49,0,"згідно умов договору"]
["380816__14",14,"Банк Січ",380816,"Дебіторська заборгованість","Київ","Діюче",null,26004010664,"Дебіторська заборгованість","Гривня",0,"2022-06-30","-","НІ","Наявні документи кредитної справи",519,0,0,"-","ТОВ «ПІВНІЧНО-СХІДНА КОНСАЛТИНГОВА ГРУПА»","2022-11-30",616,1600,1600,1600,0,0]
["380816__15",15,"Банк Січ",380816,"Ю/О майнові права","Львівська","Ліквідовано",2,"578/21","Фінансовий лізинг","Гривня",0.09,"2021-12-31","2041-12-31","НІ","Наявні документи кредитної справи",445,0,272263.67999999999,"2022-07-29","ЗАТ «КОНСАЛТИНГЮРСЕРВІС»123 283,49","2022-11-30",12346381.300000001,"30 267 764,72",32912337.559999999,29383859.329999998,3528478.23,"згідно умов договору"]
["380816__16",16,"Банк Січ",380816,"Ю/О право вимоги","Львівська","Діюче",1,"279/21","Овердрафт","Гривня",0.2,"2021-07-01","2022-06-30","НІ","Наявні документи кредитної справи",518,0,2025155.33,"2022-02-01","ЗАТ «КОНСАЛТИНГЮРСЕРВІС»","2022-11-30",24819.9,2277054.65,2677004.9000000004,1972357.36,704647.54,"згідно умов договору"]
["380816__17",17,"Банк Січ",380816,"Дебіторська заборгованість","Львівська","Діюче",null,26005001201795,"Дебіторська заборгованість","Гривня",0,"2022-02-28",null,"НІ","Наявні документи кредитної справи",641,0,0,null,"ТОВ «ПІВНІЧНО-СХІДНА КОНСАЛТИНГОВА ГРУПА» ","2022-11-30",1,1506,1506,1506,0,0]
["380816__18",18,"Банк Січ",380816,"Ю/О право вимоги","Львівська","Діюче",1,"179/22 ","кредитна лінія","Гривня",0.33500000000000002,"2022-06-28","2022-08-11","НІ","Наявні документи кредитної справи",476,0,777.02,"2022-07-14","ЗАТ «КОНСАЛТИНГЮРСЕРВІС»","2022-11-30",79502.98,7293851.6500000004,9487911.3499999996,6459713.71,3028197.64,"згідно умов договору"]
["380816__19",19,"Банк Січ",380816,"Дебіторська заборгованість","Львівська","Діюче",null,26005001206596,"Дебіторська заборгованість","Гривня",0,"2022-08-31",null,"НІ","Наявні документи кредитної справи",457,0,0,null,"ТОВ «ПІВНІЧНО-СХІДНА КОНСАЛТИНГОВА ГРУПА» ","2022-11-30",1,300,300,300,0,0]
["380816__20",20,"Банк Січ",380816,"Дебіторська заборгованість","Львівська","Діюче",null," 26000501206596/980/РКО","Дебіторська заборгованість","Гривня",0,"2022-09-07",null,"НІ","Наявні документи кредитної справи",450,0,0,null,"ТОВ «ПІВНІЧНО-СХІДНА КОНСАЛТИНГОВА ГРУПА» ","2022-11-30",1,10,10,10,0,0]
["380816__21",21,"Банк Січ",380816,"Ю/О право вимоги","Львівська","Діюче",1,"200/21","кредитна лінія","Гривня",0.16,"2021-04-30","2023-04-27","НІ","Наявні документи кредитної справи",409,0,1997152.13,"2022-07-25","ЗАТ «КОНСАЛТИНГЮРСЕРВІС»","2022-11-30",40980849.600000001,52737984.189999998,61641496.899999999,49380135,12261361.9,"згідно умов договору"]
["380816__22",22,"Банк Січ",380816,"Дебіторська заборгованість","Львівська","Діюче",null,26002001205642,"Дебіторська заборгованість","Гривня",0,"2022-08-31",null,"НІ","Наявні документи кредитної справи",457,0,0,null,"ТОВ «ПІВНІЧНО-СХІДНА КОНСАЛТИНГОВА ГРУПА» ","2022-11-30",1,600,600,600,0,0]
["380816__23",23,"Банк Січ",380816,"Ю/О право вимоги","Львівська","Діюче",1,"379/21","відновлювана мультивалютна кредитна лінія ","Гривня",0.18,"2021-09-23","2023-09-22","НІ","Наявні документи кредитної справи",424,0,1895833.33,"2022-07-11","ЗАТ «КОНСАЛТИНГЮРСЕРВІС»","2022-11-30",46672865.909999996,53433333.329999998,62558333.329999998,50000000,12558333.33,"згідно умов договору"]
["380816__24",24,"Банк Січ",380816,"Дебіторська заборгованість","Львівська","Діюче",null,26003001206543,"Дебіторська заборгованість","Гривня",0,"2022-08-31",null,"НІ","Наявні документи кредитної справи",427,0,0,null,"ТОВ «ПІВНІЧНО-СХІДНА КОНСАЛТИНГОВА ГРУПА» ","2022-11-30",1,600,600,600,0,0]
["380816__25",25,"Банк Січ",380816,"Інше","Київ","Інше",null,34092020000011,"основні засоби","Гривня",0,"2018-12-27","-","НІ",null,"-","-","-","-","ЗАТ «КОНСАЛТИНГЮРСЕРВІС»123 283,49","2022-11-30",1,266.48,266.48,266.48,0,0]
["380816__26",26,"Банк Січ",380816,"Інше","Київ","Інше",null,34092020000012,"основні засоби","Гривня",0,"2018-12-27","-","НІ",null,"-","-","-","-","ЗАТ «КОНСАЛТИНГЮРСЕРВІС»123 283,49","2022-11-30",1,266.54000000000002,266.54000000000002,266.54000000000002,0,0]
["380816__27",27,"Банк Січ",380816,"Інше","Київ","Інше",null,34092020000013,"основні засоби","Гривня",0,"2018-12-27","-","НІ",null,"-","-","-","-","ЗАТ «КОНСАЛТИНГЮРСЕРВІС»123 283,49","2022-11-30",1,270.10000000000002,270.10000000000002,270.10000000000002,0,0]
["380816__28",28,"Банк Січ",380816,"Інше","Київ","Інше",null,34092020000014,"основні засоби","Гривня",0,"2018-12-27","-","НІ",null,"-","-","-","-","ЗАТ «КОНСАЛТИНГЮРСЕРВІС»123 283,49","2022-11-30",416,272.95999999999998,272.95999999999998,272.95999999999998,0,0]
["380816__29",29,"Банк Січ",380816,"Інше","Київ","Інше",null,34092020000015,"основні засоби","Гривня",0,"2018-12-27","-","НІ",null,"-","-","-","-","ЗАТ «КОНСАЛТИНГЮРСЕРВІС»123 283,49","2022-11-30",1,277.20999999999998,277.20999999999998,277.20999999999998,0,0]
["380816__30",30,"Банк Січ",380816,"Інше","Київ","Інше",null,34092020000016,"основні засоби","Гривня",0,"2018-12-27","-","НІ",null,"-","-","-","-","ЗАТ «КОНСАЛТИНГЮРСЕРВІС»123 283,49","2022-11-30",1,277.56,277.56,277.56,0,0]
["380816__31",31,"Банк Січ",380816,"Інше","Київ","Інше",null,34092020000017,"основні засоби","Гривня",0,"2018-12-27","-","НІ",null,"-","-","-","-","ЗАТ «КОНСАЛТИНГЮРСЕРВІС»123 283,49","2022-11-30",1,279.08,279.08,279.08,0,0]
["380816__32",32,"Банк Січ",380816,"Інше","Київ","Інше",null,34092020000018,"основні засоби","Гривня",0,"2018-12-27","-","НІ",null,"-","-","-","-","ЗАТ «КОНСАЛТИНГЮРСЕРВІС»123 283,49","2022-11-30",1,279.10000000000002,279.10000000000002,279.10000000000002,0,0]
["380816__33",33,"Банк Січ",380816,"Інше","Київ","Інше",null,34092020000019,"основні засоби","Гривня",0,"2018-12-27","-","НІ",null,"-","-","-","-","ЗАТ «КОНСАЛТИНГЮРСЕРВІС»123 283,49","2022-11-30",1,280.02999999999997,280.02999999999997,280.02999999999997,0,0]
["380816__34",34,"Банк Січ",380816,"Інше","Київ","Інше",null,34092020000110,"основні засоби","Гривня",0,"2018-12-27","-","НІ",null,"-","-","-","-","ЗАТ «КОНСАЛТИНГЮРСЕРВІС»123 283,49","2022-11-30",1,289.54000000000002,289.54000000000002,289.54000000000002,0,0]
["380816__35",35,"Банк Січ",380816,"Інше","Київ","Інше",null,34092020000111,"основні засоби","Гривня",0,"2018-12-27","-","НІ",null,"-","-","-","-","ЗАТ «КОНСАЛТИНГЮРСЕРВІС»123 283,49","2022-11-30",1,289.89,289.89,289.89,0,0]
["380816__36",36,"Банк Січ",380816,"Інше","Київ","Інше",null,34092020000112,"основні засоби","Гривня",0,"2018-12-27","-","НІ",null,"-","-","-","-","ЗАТ «КОНСАЛТИНГЮРСЕРВІС»123 283,49","2022-11-30",66,294.41000000000003,294.41000000000003,294.41000000000003,0,0]
["380816__37",37,"Банк Січ",380816,"Інше","Київ","Інше",null,34092020000113,"основні засоби","Гривня",0,"2018-12-27","-","НІ",null,"-","-","-","-","ЗАТ «КОНСАЛТИНГЮРСЕРВІС»123 283,49","2022-11-30",66,294.41000000000003,294.41000000000003,294.41000000000003,0,0]
["380816__38",38,"Банк Січ",380816,"Інше","Київ","Інше",null,34092020000114,"основні засоби","Гривня",0,"2018-12-27","-","НІ",null,"-","-","-","-","ЗАТ «КОНСАЛТИНГЮРСЕРВІС»123 283,49","2022-11-30",455,298.27,298.27,298.27,0,0]
["380816__39",39,"Банк Січ",380816,"Інше","Київ","Інше",null,34092020000115,"основні засоби","Гривня",0,"2018-12-27","-","НІ",null,"-","-","-","-","ЗАТ «КОНСАЛТИНГЮРСЕРВІС»123 283,49","2022-11-30",1,301.75,301.75,301.75,0,0]
["380816__40",40,"Банк Січ",380816,"Інше","Київ","Інше",null,34092020000116,"основні засоби","Гривня",0,"2018-12-27","-","НІ",null,"-","-","-","-","ЗАТ «КОНСАЛТИНГЮРСЕРВІС»123 283,49","2022-11-30",1,302.61,302.61,302.61,0,0]
["380816__41",41,"Банк Січ",380816,"Інше","Київ","Інше",null,34092020000117,"основні засоби","Гривня",0,"2018-12-27","-","НІ",null,"-","-","-","-","ЗАТ «КОНСАЛТИНГЮРСЕРВІС»123 283,49","2022-11-30",1,303.08,303.08,303.08,0,0]
["380816__42",42,"Банк Січ",380816,"Інше","Київ","Інше",null,34092020000118,"основні засоби","Гривня",0,"2018-12-27","-","НІ",null,"-","-","-","-","ЗАТ «КОНСАЛТИНГЮРСЕРВІС»123 283,49","2022-11-30",1,305.44,305.44,305.44,0,0]
["380816__43",43,"Банк Січ",380816,"Інше","Київ","Інше",null,34092020000119,"основні засоби","Гривня",0,"2018-12-27","-","НІ",null,"-","-","-","-","ЗАТ «КОНСАЛТИНГЮРСЕРВІС»123 283,49","2022-11-30",1,306.49,306.49,306.49,0,0]
["380816__44",44,"Банк Січ",380816,"Інше","Київ","Інше",null,34092020000120,"основні засоби","Гривня",0,"2018-12-27","-","НІ",null,"-","-","-","-","ЗАТ «КОНСАЛТИНГЮРСЕРВІС»123 283,49","2022-11-30",1,308.01,308.01,308.01,0,0]
["380816__45",45,"Банк Січ",380816,"Інше","Київ","Інше",null,34092020000121,"основні засоби","Гривня",0,"2018-12-27","-","НІ",null,"-","-","-","-","ЗАТ «КОНСАЛТИНГЮРСЕРВІС»123 283,49","2022-11-30",475,311.26,311.26,311.26,0,0]
["380816__46",46,"Банк Січ",380816,"Інше","Київ","Інше",null,34092020000122,"основні засоби","Гривня",0,"2018-12-27","-","НІ",null,"-","-","-","-","ЗАТ «КОНСАЛТИНГЮРСЕРВІС»123 283,49","2022-11-30",1,311.92,311.92,311.92,0,0]
["380816__47",47,"Банк Січ",380816,"Інше","Київ","Інше",null,34092020000123,"основні засоби","Гривня",0,"2018-12-27","-","НІ",null,"-","-","-","-","ЗАТ «КОНСАЛТИНГЮРСЕРВІС»123 283,49","2022-11-30",1,315.25,315.25,315.25,0,0]
["380816__48",48,"Банк Січ",380816,"Інше","Київ","Інше",null,34092020000124,"основні засоби","Гривня",0,"2018-12-27","-","НІ",null,"-","-","-","-","ЗАТ «КОНСАЛТИНГЮРСЕРВІС»123 283,49","2022-11-30",1,317.06,317.06,317.06,0,0]
["380816__49",49,"Банк Січ",380816,"Інше","Київ","Інше",null,34092020000125,"основні засоби","Гривня",0,"2018-12-27","-","НІ",null,"-","-","-","-","ЗАТ «КОНСАЛТИНГЮРСЕРВІС»123 283,49","2022-11-30",1,319.08999999999997,319.08999999999997,319.08999999999997,0,0]
["380816__50",50,"Банк Січ",380816,"Інше","Київ","Інше",null,34092020000126,"основні засоби","Гривня",0,"2018-12-27","-","НІ",null,"-","-","-","-","ЗАТ «КОНСАЛТИНГЮРСЕРВІС»123 283,49","2022-11-30",1,325.04000000000002,325.04000000000002,325.04000000000002,0,0]
["380816__51",51,"Банк Січ",380816,"Інше","Київ","Інше",null,34092020000127,"основні засоби","Гривня",0,"2018-12-27","-","НІ",null,"-","-","-","-","ЗАТ «КОНСАЛТИНГЮРСЕРВІС»123 283,49","2022-11-30",1,331.9,331.9,331.9,0,0]
["380816__52",52,"Банк Січ",380816,"Інше","Київ","Інше",null,34092020000128,"основні засоби","Гривня",0,"2018-12-27","-","НІ",null,"-","-","-","-","ЗАТ «КОНСАЛТИНГЮРСЕРВІС»123 283,49","2022-11-30",1,335.06,335.06,335.06,0,0]
["380816__53",53,"Банк Січ",380816,"Інше","Київ","Інше",null,34092020000129,"основні засоби","Гривня",0,"2018-12-27","-","НІ",null,"-","-","-","-","ЗАТ «КОНСАЛТИНГЮРСЕРВІС»123 283,49","2022-11-30",1,347.3,347.3,347.3,0,0]
["380816__54",54,"Банк Січ",380816,"Інше","Київ","Інше",null,34092020000130,"основні засоби","Гривня",0,"2018-12-27","-","НІ",null,"-","-","-","-","ЗАТ «КОНСАЛТИНГЮРСЕРВІС»123 283,49","2022-11-30",1,349.66,349.66,349.66,0,0]
["380816__55",55,"Банк Січ",380816,"Інше","Київ","Інше",null,34092020000131,"основні засоби","Гривня",0,"2018-12-27","-","НІ",null,"-","-","-","-","ЗАТ «КОНСАЛТИНГЮРСЕРВІС»123 283,49","2022-11-30",536,351.84,351.84,351.84,0,0]
["380816__56",56,"Банк Січ",380816,"Інше","Київ","Інше",null,34092020000132,"основні засоби","Гривня",0,"2018-12-27","-","НІ",null,"-","-","-","-","ЗАТ «КОНСАЛТИНГЮРСЕРВІС»123 283,49","2022-11-30",1,353.2,353.2,353.2,0,0]
["380816__57",57,"Банк Січ",380816,"Інше","Київ","Інше",null,34092020000133,"основні засоби","Гривня",0,"2018-12-27","-","НІ",null,"-","-","-","-","ЗАТ «КОНСАЛТИНГЮРСЕРВІС»123 283,49","2022-11-30",1,360.56,360.56,360.56,0,0]
["380816__58",58,"Банк Січ",380816,"Інше","Київ","Інше",null,34092020000134,"основні засоби","Гривня",0,"2018-12-27","-","НІ",null,"-","-","-","-","ЗАТ «КОНСАЛТИНГЮРСЕРВІС»123 283,49","2022-11-30",1,360.66,360.66,360.66,0,0]
["380816__59",59,"Банк Січ",380816,"Інше","Київ","Інше",null,34092020000135,"основні засоби","Гривня",0,"2018-12-27","-","НІ",null,"-","-","-","-","ЗАТ «КОНСАЛТИНГЮРСЕРВІС»123 283,49","2022-11-30",1,361.53,361.53,361.53,0,0]
["380816__60",60,"Банк Січ",380816,"Інше","Київ","Інше",null,34092020000136,"основні засоби","Гривня",0,"2018-12-27","-","НІ",null,"-","-","-","-","ЗАТ «КОНСАЛТИНГЮРСЕРВІС»123 283,49","2022-11-30",1,362.05,362.05,362.05,0,0]
["380816__61",61,"Банк Січ",380816,"Інше","Київ","Інше",null,34092020000137,"основні засоби","Гривня",0,"2018-12-27","-","НІ",null,"-","-","-","-","ЗАТ «КОНСАЛТИНГЮРСЕРВІС»123 283,49","2022-11-30",1,370.21,370.21,370.21,0,0]
["380816__62",62,"Банк Січ",380816,"Інше","Київ","Інше",null,34092020000138,"основні засоби","Гривня",0,"2018-12-27","-","НІ",null,"-","-","-","-","ЗАТ «КОНСАЛТИНГЮРСЕРВІС»123 283,49","2022-11-30",576,377.75,377.75,377.75,0,0]
["380816__63",63,"Банк Січ",380816,"Інше","Київ","Інше",null,34092020000139,"основні засоби","Гривня",0,"2018-12-27","-","НІ",null,"-","-","-","-","ЗАТ «КОНСАЛТИНГЮРСЕРВІС»123 283,49","2022-11-30",334,387.55,387.55,387.55,0,0]
["380816__64",64,"Банк Січ",380816,"Інше","Київ","Інше",null,34092020000140,"основні засоби","Гривня",0,"2018-12-27","-","НІ",null,"-","-","-","-","ЗАТ «КОНСАЛТИНГЮРСЕРВІС»123 283,49","2022-11-30",334,387.56,387.56,387.56,0,0]
["380816__65",65,"Банк Січ",380816,"Інше","Київ","Інше",null,34092020000141,"основні засоби","Гривня",0,"2018-12-27","-","НІ",null,"-","-","-","-","ЗАТ «КОНСАЛТИНГЮРСЕРВІС»123 283,49","2022-11-30",334,387.56,387.56,387.56,0,0]
["380816__66",66,"Банк Січ",380816,"Інше","Київ","Інше",null,34092020000142,"основні засоби","Гривня",0,"2018-12-27","-","НІ",null,"-","-","-","-","ЗАТ «КОНСАЛТИНГЮРСЕРВІС»123 283,49","2022-11-30",1,388.16,388.16,388.16,0,0]
["380816__67",67,"Банк Січ",380816,"Інше","Київ","Інше",null,34092020000143,"основні засоби","Гривня",0,"2018-12-27","-","НІ",null,"-","-","-","-","ЗАТ «КОНСАЛТИНГЮРСЕРВІС»123 283,49","2022-11-30",1,408.43,408.43,408.43,0,0]
["380816__68",68,"Банк Січ",380816,"Інше","Київ","Інше",null,34092020000144,"основні засоби","Гривня",0,"2018-12-27","-","НІ",null,"-","-","-","-","ЗАТ «КОНСАЛТИНГЮРСЕРВІС»123 283,49","2022-11-30",1,411.89,411.89,411.89,0,0]
["380816__69",69,"Банк Січ",380816,"Інше","Київ","Інше",null,34092020000145,"основні засоби","Гривня",0,"2018-12-27","-","НІ",null,"-","-","-","-","ЗАТ «КОНСАЛТИНГЮРСЕРВІС»123 283,49","2022-11-30",1,413.42,413.42,413.42,0,0]
["380816__70",70,"Банк Січ",380816,"Інше","Київ","Інше",null,34092020000146,"основні засоби","Гривня",0,"2018-12-27","-","НІ",null,"-","-","-","-","ЗАТ «КОНСАЛТИНГЮРСЕРВІС»123 283,49","2022-11-30",1,423.22,423.22,423.22,0,0]
["380816__71",71,"Банк Січ",380816,"Інше","Київ","Інше",null,34092020000147,"основні засоби","Гривня",0,"2018-12-27","-","НІ",null,"-","-","-","-","ЗАТ «КОНСАЛТИНГЮРСЕРВІС»123 283,49","2022-11-30",1,423.33,423.33,423.33,0,0]
["380816__72",72,"Банк Січ",380816,"Інше","Київ","Інше",null,34092020000148,"основні засоби","Гривня",0,"2018-12-27","-","НІ",null,"-","-","-","-","ЗАТ «КОНСАЛТИНГЮРСЕРВІС»123 283,49","2022-11-30",1,425.82,425.82,425.82,0,0]
["380816__73",73,"Банк Січ",380816,"Інше","Київ","Інше",null,34092020000149,"основні засоби","Гривня",0,"2018-12-27","-","НІ",null,"-","-","-","-","ЗАТ «КОНСАЛТИНГЮРСЕРВІС»123 283,49","2022-11-30",1,434.4,434.4,434.4,0,0]
["380816__74",74,"Банк Січ",380816,"Інше","Київ","Інше",null,34092020000150,"основні засоби","Гривня",0,"2018-12-27","-","НІ",null,"-","-","-","-","ЗАТ «КОНСАЛТИНГЮРСЕРВІС»123 283,49","2022-11-30",334,435.11,435.11,435.11,0,0]
["380816__75",75,"Банк Січ",380816,"Інше","Київ","Інше",null,34092020000151,"основні засоби","Гривня",0,"2018-12-27","-","НІ",null,"-","-","-","-","ЗАТ «КОНСАЛТИНГЮРСЕРВІС»123 283,49","2022-11-30",1,438.29,438.29,438.29,0,0]
["380816__76",76,"Банк Січ",380816,"Інше","Київ","Інше",null,34092020000152,"основні засоби","Гривня",0,"2018-12-27","-","НІ",null,"-","-","-","-","ЗАТ «КОНСАЛТИНГЮРСЕРВІС»123 283,49","2022-11-30",66,443.06,443.06,443.06,0,0]
["380816__77",77,"Банк Січ",380816,"Інше","Київ","Інше",null,34092020000153,"основні засоби","Гривня",0,"2018-12-27","-","НІ",null,"-","-","-","-","ЗАТ «КОНСАЛТИНГЮРСЕРВІС»123 283,49","2022-11-30",66,443.06,443.06,443.06,0,0]
["380816__78",78,"Банк Січ",380816,"Інше","Київ","Інше",null,34092020000154,"основні засоби","Гривня",0,"2018-12-27","-","НІ",null,"-","-","-","-","ЗАТ «КОНСАЛТИНГЮРСЕРВІС»123 283,49","2022-11-30",66,443.06,443.06,443.06,0,0]
["380816__79",79,"Банк Січ",380816,"Інше","Київ","Інше",null,34092020000155,"основні засоби","Гривня",0,"2018-12-27","-","НІ",null,"-","-","-","-","ЗАТ «КОНСАЛТИНГЮРСЕРВІС»123 283,49","2022-11-30",1,443.27,443.27,443.27,0,0]
["380816__80",80,"Банк Січ",380816,"Інше","Київ","Інше",null,34092020000156,"основні засоби","Гривня",0,"2018-12-27","-","НІ",null,"-","-","-","-","ЗАТ «КОНСАЛТИНГЮРСЕРВІС»123 283,49","2022-11-30",1,444.7,444.7,444.7,0,0]
["380816__81",81,"Банк Січ",380816,"Інше","Київ","Інше",null,34092020000157,"основні засоби","Гривня",0,"2018-12-27","-","НІ",null,"-","-","-","-","ЗАТ «КОНСАЛТИНГЮРСЕРВІС»123 283,49","2022-11-30",1,445.51,445.51,445.51,0,0]
["380816__82",82,"Банк Січ",380816,"Інше","Київ","Інше",null,34092020000158,"основні засоби","Гривня",0,"2018-12-27","-","НІ",null,"-","-","-","-","ЗАТ «КОНСАЛТИНГЮРСЕРВІС»123 283,49","2022-11-30",2666,452.41,452.41,452.41,0,0]
["380816__83",83,"Банк Січ",380816,"Інше","Київ","Інше",null,34092020000159,"основні засоби","Гривня",0,"2018-12-27","-","НІ",null,"-","-","-","-","ЗАТ «КОНСАЛТИНГЮРСЕРВІС»123 283,49","2022-11-30",2666,452.41,452.41,452.41,0,0]
["380816__84",84,"Банк Січ",380816,"Інше","Київ","Інше",null,34092020000160,"основні засоби","Гривня",0,"2018-12-27","-","НІ",null,"-","-","-","-","ЗАТ «КОНСАЛТИНГЮРСЕРВІС»123 283,49","2022-11-30",2666,452.41,452.41,452.41,0,0]
["380816__85",85,"Банк Січ",380816,"Інше","Київ","Інше",null,34092020000161,"основні засоби","Гривня",0,"2018-12-27","-","НІ",null,"-","-","-","-","ЗАТ «КОНСАЛТИНГЮРСЕРВІС»123 283,49","2022-11-30",66,455.45,455.45,455.45,0,0]
["380816__86",86,"Банк Січ",380816,"Інше","Київ","Інше",null,34092020000162,"основні засоби","Гривня",0,"2018-12-27","-","НІ",null,"-","-","-","-","ЗАТ «КОНСАЛТИНГЮРСЕРВІС»123 283,49","2022-11-30",698,458.18,458.18,458.18,0,0]
["380816__87",87,"Банк Січ",380816,"Інше","Київ","Інше",null,34092020000163,"основні засоби","Гривня",0,"2018-12-27","-","НІ",null,"-","-","-","-","ЗАТ «КОНСАЛТИНГЮРСЕРВІС»123 283,49","2022-11-30",2666,458.55,458.55,458.55,0,0]
["380816__88",88,"Банк Січ",380816,"Інше","Київ","Інше",null,34092020000164,"основні засоби","Гривня",0,"2018-12-27","-","НІ",null,"-","-","-","-","ЗАТ «КОНСАЛТИНГЮРСЕРВІС»123 283,49","2022-11-30",2666,462.99,462.99,462.99,0,0]
["380816__89",89,"Банк Січ",380816,"Інше","Київ","Інше",null,34092020000165,"основні засоби","Гривня",0,"2018-12-27","-","НІ",null,"-","-","-","-","ЗАТ «КОНСАЛТИНГЮРСЕРВІС»123 283,49","2022-11-30",2666,462.99,462.99,462.99,0,0]
["380816__90",90,"Банк Січ",380816,"Інше","Київ","Інше",null,34092020000166,"основні засоби","Гривня",0,"2018-12-27","-","НІ",null,"-","-","-","-","ЗАТ «КОНСАЛТИНГЮРСЕРВІС»123 283,49","2022-11-30",1,463.42,463.42,463.42,0,0]
["380816__91",91,"Банк Січ",380816,"Інше","Київ","Інше",null,34092020000167,"основні засоби","Гривня",0,"2018-12-27","-","НІ",null,"-","-","-","-","ЗАТ «КОНСАЛТИНГЮРСЕРВІС»123 283,49","2022-11-30",2666,467.37,467.37,467.37,0,0]
["380816__92",92,"Банк Січ",380816,"Інше","Київ","Інше",null,34092020000168,"основні засоби","Гривня",0,"2018-12-27","-","НІ",null,"-","-","-","-","ЗАТ «КОНСАЛТИНГЮРСЕРВІС»123 283,49","2022-11-30",334,471.05,471.05,471.05,0,0]
["380816__93",93,"Банк Січ",380816,"Інше","Київ","Інше",null,34092020000169,"основні засоби","Гривня",0,"2018-12-27","-","НІ",null,"-","-","-","-","ЗАТ «КОНСАЛТИНГЮРСЕРВІС»123 283,49","2022-11-30",334,471.05,471.05,471.05,0,0]
["380816__94",94,"Банк Січ",380816,"Інше","Київ","Інше",null,34092020000170,"основні засоби","Гривня",0,"2018-12-27","-","НІ",null,"-","-","-","-","ЗАТ «КОНСАЛТИНГЮРСЕРВІС»123 283,49","2022-11-30",66,471.35,471.35,471.35,0,0]
["380816__95",95,"Банк Січ",380816,"Інше","Київ","Інше",null,34092020000171,"основні засоби","Гривня",0,"2018-12-27","-","НІ",null,"-","-","-","-","ЗАТ «КОНСАЛТИНГЮРСЕРВІС»123 283,49","2022-11-30",2666,473.62,473.62,473.62,0,0]
["380816__96",96,"Банк Січ",380816,"Інше","Київ","Інше",null,34092020000172,"основні засоби","Гривня",0,"2018-12-27","-","НІ",null,"-","-","-","-","ЗАТ «КОНСАЛТИНГЮРСЕРВІС»123 283,49","2022-11-30",2666,474.68,474.68,474.68,0,0]
["380816__97",97,"Банк Січ",380816,"Інше","Київ","Інше",null,34092020000173,"основні засоби","Гривня",0,"2018-12-27","-","НІ",null,"-","-","-","-","ЗАТ «КОНСАЛТИНГЮРСЕРВІС»123 283,49","2022-11-30",726,476,476,476,0,0]
["380816__98",98,"Банк Січ",380816,"Інше","Київ","Інше",null,34092020000174,"основні засоби","Гривня",0,"2018-12-27","-","НІ",null,"-","-","-","-","ЗАТ «КОНСАЛТИНГЮРСЕРВІС»123 283,49","2022-11-30",728,477.4,477.4,477.4,0,0]
["380816__99",99,"Банк Січ",380816,"Інше","Київ","Інше",null,34092020000175,"основні засоби","Гривня",0,"2018-12-27","-","НІ",null,"-","-","-","-","ЗАТ «КОНСАЛТИНГЮРСЕРВІС»123 283,49","2022-11-30",728,477.4,477.4,477.4,0,0]
["380816__100",100,"Банк Січ",380816,"Інше","Київ","Інше",null,34092020000176,"основні засоби","Гривня",0,"2018-12-27","-","НІ",null,"-","-","-","-","ЗАТ «КОНСАЛТИНГЮРСЕРВІС»123 283,49","2022-11-30",728,477.4,477.4,477.4,0,0]
["380816__101",101,"Банк Січ",380816,"Інше","Київ","Інше",null,34092020000177,"основні засоби","Гривня",0,"2018-12-27","-","НІ",null,"-","-","-","-","ЗАТ «КОНСАЛТИНГЮРСЕРВІС»123 283,49","2022-11-30",1,483.34,483.34,483.34,0,0]
["380816__102",102,"Банк Січ",380816,"Інше","Київ","Інше",null,34092020000178,"основні засоби","Гривня",0,"2018-12-27","-","НІ",null,"-","-","-","-","ЗАТ «КОНСАЛТИНГЮРСЕРВІС»123 283,49","2022-11-30",66,484.57,484.57,484.57,0,0]
["380816__103",103,"Банк Січ",380816,"Інше","Київ","Інше",null,34092020000179,"основні засоби","Гривня",0,"2018-12-27","-","НІ",null,"-","-","-","-","ЗАТ «КОНСАЛТИНГЮРСЕРВІС»123 283,49","2022-11-30",2666,486.7,486.7,486.7,0,0]
["380816__104",104,"Банк Січ",380816,"Інше","Київ","Інше",null,34092020000180,"основні засоби","Гривня",0,"2018-12-27","-","НІ",null,"-","-","-","-","ЗАТ «КОНСАЛТИНГЮРСЕРВІС»123 283,49","2022-11-30",1,495.47,495.47,495.47,0,0]
["380816__105",105,"Банк Січ",380816,"Інше","Київ","Інше",null,34092020000181,"основні засоби","Гривня",0,"2018-12-27","-","НІ",null,"-","-","-","-","ЗАТ «КОНСАЛТИНГЮРСЕРВІС»123 283,49","2022-11-30",1,499.56,499.56,499.56,0,0]
["380816__106",106,"Банк Січ",380816,"Інше","Київ","Інше",null,34092020000182,"основні засоби","Гривня",0,"2018-12-27","-","НІ",null,"-","-","-","-","ЗАТ «КОНСАЛТИНГЮРСЕРВІС»123 283,49","2022-11-30",1,513.9,513.9,513.9,0,0]
["380816__107",107,"Банк Січ",380816,"Інше","Київ","Інше",null,34092020000183,"основні засоби","Гривня",0,"2018-12-27","-","НІ",null,"-","-","-","-","ЗАТ «КОНСАЛТИНГЮРСЕРВІС»123 283,49","2022-11-30",1,518.04,518.04,518.04,0,0]
["380816__108",108,"Банк Січ",380816,"Інше","Київ","Інше",null,34092020000184,"основні засоби","Гривня",0,"2018-12-27","-","НІ",null,"-","-","-","-","ЗАТ «КОНСАЛТИНГЮРСЕРВІС»123 283,49","2022-11-30",802,525.82000000000005,525.82000000000005,525.82000000000005,0,0]
["380816__109",109,"Банк Січ",380816,"Інше","Київ","Інше",null,34092020000185,"основні засоби","Гривня",0,"2018-12-27","-","НІ",null,"-","-","-","-","ЗАТ «КОНСАЛТИНГЮРСЕРВІС»123 283,49","2022-11-30",1334,542.07000000000005,542.07000000000005,542.07000000000005,0,0]
["380816__110",110,"Банк Січ",380816,"Інше","Київ","Інше",null,34092020000186,"основні засоби","Гривня",0,"2018-12-27","-","НІ",null,"-","-","-","-","ЗАТ «КОНСАЛТИНГЮРСЕРВІС»123 283,49","2022-11-30",38000,543.36,543.36,543.36,0,0]
["380816__111",111,"Банк Січ",380816,"Інше","Київ","Інше",null,34092020000187,"основні засоби","Гривня",0,"2018-12-27","-","НІ",null,"-","-","-","-","ЗАТ «КОНСАЛТИНГЮРСЕРВІС»123 283,49","2022-11-30",1,545.09,545.09,545.09,0,0]
["380816__112",112,"Банк Січ",380816,"Інше","Київ","Інше",null,34092020000188,"основні засоби","Гривня",0,"2018-12-27","-","НІ",null,"-","-","-","-","ЗАТ «КОНСАЛТИНГЮРСЕРВІС»123 283,49","2022-11-30",842,551.97,551.97,551.97,0,0]
["380816__113",113,"Банк Січ",380816,"Інше","Київ","Інше",null,34092020000189,"основні засоби","Гривня",0,"2018-12-27","-","НІ",null,"-","-","-","-","ЗАТ «КОНСАЛТИНГЮРСЕРВІС»123 283,49","2022-11-30",1,564.74,564.74,564.74,0,0]
["380816__114",114,"Банк Січ",380816,"Інше","Київ","Інше",null,34092020000190,"основні засоби","Гривня",0,"2018-12-27","-","НІ",null,"-","-","-","-","ЗАТ «КОНСАЛТИНГЮРСЕРВІС»123 283,49","2022-11-30",1,566.29,566.29,566.29,0,0]
["380816__115",115,"Банк Січ",380816,"Інше","Київ","Інше",null,34092020000191,"основні засоби","Гривня",0,"2018-12-27","-","НІ",null,"-","-","-","-","ЗАТ «КОНСАЛТИНГЮРСЕРВІС»123 283,49","2022-11-30",334,566.59,566.59,566.59,0,0]
["380816__116",116,"Банк Січ",380816,"Інше","Київ","Інше",null,34092020000192,"основні засоби","Гривня",0,"2018-12-27","-","НІ",null,"-","-","-","-","ЗАТ «КОНСАЛТИНГЮРСЕРВІС»123 283,49","2022-11-30",1334,568.28,568.28,568.28,0,0]
["380816__117",117,"Банк Січ",380816,"Інше","Київ","Інше",null,34092020000193,"основні засоби","Гривня",0,"2018-12-27","-","НІ",null,"-","-","-","-","ЗАТ «КОНСАЛТИНГЮРСЕРВІС»123 283,49","2022-11-30",1,569.02,569.02,569.02,0,0]
["380816__118",118,"Банк Січ",380816,"Інше","Київ","Інше",null,34092020000194,"основні засоби","Гривня",0,"2018-12-27","-","НІ",null,"-","-","-","-","ЗАТ «КОНСАЛТИНГЮРСЕРВІС»123 283,49","2022-11-30",1,578.54999999999995,578.54999999999995,578.54999999999995,0,0]
["380816__119",119,"Банк Січ",380816,"Інше","Київ","Інше",null,34092020000195,"основні засоби","Гривня",0,"2018-12-27","-","НІ",null,"-","-","-","-","ЗАТ «КОНСАЛТИНГЮРСЕРВІС»123 283,49","2022-11-30",885,580.48,580.48,580.48,0,0]
["380816__120",120,"Банк Січ",380816,"Інше","Київ","Інше",null,34092020000196,"основні засоби","Гривня",0,"2018-12-27","-","НІ",null,"-","-","-","-","ЗАТ «КОНСАЛТИНГЮРСЕРВІС»123 283,49","2022-11-30",1,583.04,583.04,583.04,0,0]
["380816__121",121,"Банк Січ",380816,"Інше","Київ","Інше",null,34092020000197,"основні засоби","Гривня",0,"2018-12-27","-","НІ",null,"-","-","-","-","ЗАТ «КОНСАЛТИНГЮРСЕРВІС»123 283,49","2022-11-30",1,597.96,597.96,597.96,0,0]
["380816__122",122,"Банк Січ",380816,"Інше","Київ","Інше",null,34092020000198,"основні засоби","Гривня",0,"2018-12-27","-","НІ",null,"-","-","-","-","ЗАТ «КОНСАЛТИНГЮРСЕРВІС»123 283,49","2022-11-30",66,598.07000000000005,598.07000000000005,598.07000000000005,0,0]
["380816__123",123,"Банк Січ",380816,"Інше","Київ","Інше",null,34092020000199,"основні засоби","Гривня",0,"2018-12-27","-","НІ",null,"-","-","-","-","ЗАТ «КОНСАЛТИНГЮРСЕРВІС»123 283,49","2022-11-30",1,601.1,601.1,601.1,0,0]
["380816__124",124,"Банк Січ",380816,"Інше","Київ","Інше",null,34092020001100,"основні засоби","Гривня",0,"2018-12-27","-","НІ",null,"-","-","-","-","ЗАТ «КОНСАЛТИНГЮРСЕРВІС»123 283,49","2022-11-30",941,617.6,617.6,617.6,0,0]
["380816__125",125,"Банк Січ",380816,"Інше","Київ","Інше",null,34092020001101,"основні засоби","Гривня",0,"2018-12-27","-","НІ",null,"-","-","-","-","ЗАТ «КОНСАЛТИНГЮРСЕРВІС»123 283,49","2022-11-30",1,644.38,644.38,644.38,0,0]
["380816__126",126,"Банк Січ",380816,"Інше","Київ","Інше",null,34092020001102,"основні засоби","Гривня",0,"2018-12-27","-","НІ",null,"-","-","-","-","ЗАТ «КОНСАЛТИНГЮРСЕРВІС»123 283,49","2022-11-30",988,648.34,648.34,648.34,0,0]
["380816__127",127,"Банк Січ",380816,"Інше","Київ","Інше",null,34092020001103,"основні засоби","Гривня",0,"2018-12-27","-","НІ",null,"-","-","-","-","ЗАТ «КОНСАЛТИНГЮРСЕРВІС»123 283,49","2022-11-30",1,672.44,672.44,672.44,0,0]
["380816__128",128,"Банк Січ",380816,"Інше","Київ","Інше",null,34092020001104,"основні засоби","Гривня",0,"2018-12-27","-","НІ",null,"-","-","-","-","ЗАТ «КОНСАЛТИНГЮРСЕРВІС»123 283,49","2022-11-30",1,681.29,681.29,681.29,0,0]
["380816__129",129,"Банк Січ",380816,"Інше","Київ","Інше",null,34092020001105,"основні засоби","Гривня",0,"2018-12-27","-","НІ",null,"-","-","-","-","ЗАТ «КОНСАЛТИНГЮРСЕРВІС»123 283,49","2022-11-30",1,684.64,684.64,684.64,0,0]
["380816__130",130,"Банк Січ",380816,"Інше","Київ","Інше",null,34092020001106,"основні засоби","Гривня",0,"2018-12-27","-","НІ",null,"-","-","-","-","ЗАТ «КОНСАЛТИНГЮРСЕРВІС»123 283,49","2022-11-30",1044,684.96,684.96,684.96,0,0]
["380816__131",131,"Банк Січ",380816,"Інше","Київ","Інше",null,34092020001107,"основні засоби","Гривня",0,"2018-12-27","-","НІ",null,"-","-","-","-","ЗАТ «КОНСАЛТИНГЮРСЕРВІС»123 283,49","2022-11-30",1,688.8,688.8,688.8,0,0]
["380816__132",132,"Банк Січ",380816,"Інше","Київ","Інше",null,34092020001108,"основні засоби","Гривня",0,"2018-12-27","-","НІ",null,"-","-","-","-","ЗАТ «КОНСАЛТИНГЮРСЕРВІС»123 283,49","2022-11-30",1059,694.69,694.69,694.69,0,0]
["380816__133",133,"Банк Січ",380816,"Інше","Київ","Інше",null,34092020001109,"основні засоби","Гривня",0,"2018-12-27","-","НІ",null,"-","-","-","-","ЗАТ «КОНСАЛТИНГЮРСЕРВІС»123 283,49","2022-11-30",1073,703.98,703.98,703.98,0,0]
["380816__134",134,"Банк Січ",380816,"Інше","Київ","Інше",null,34092020001110,"основні засоби","Гривня",0,"2018-12-27","-","НІ",null,"-","-","-","-","ЗАТ «КОНСАЛТИНГЮРСЕРВІС»123 283,49","2022-11-30",1,717.77,717.77,717.77,0,0]
["380816__135",135,"Банк Січ",380816,"Інше","Київ","Інше",null,34092020001111,"основні засоби","Гривня",0,"2018-12-27","-","НІ",null,"-","-","-","-","ЗАТ «КОНСАЛТИНГЮРСЕРВІС»123 283,49","2022-11-30",1102,722.61,722.61,722.61,0,0]
["380816__136",136,"Банк Січ",380816,"Інше","Київ","Інше",null,34092020001112,"основні засоби","Гривня",0,"2018-12-27","-","НІ",null,"-","-","-","-","ЗАТ «КОНСАЛТИНГЮРСЕРВІС»123 283,49","2022-11-30",1,742.82,742.82,742.82,0,0]
["380816__137",137,"Банк Січ",380816,"Інше","Київ","Інше",null,34092020001113,"основні засоби","Гривня",0,"2018-12-27","-","НІ",null,"-","-","-","-","ЗАТ «КОНСАЛТИНГЮРСЕРВІС»123 283,49","2022-11-30",1136,745.06,745.06,745.06,0,0]
["380816__138",138,"Банк Січ",380816,"Інше","Київ","Інше",null,34092020001114,"основні засоби","Гривня",0,"2018-12-27","-","НІ",null,"-","-","-","-","ЗАТ «КОНСАЛТИНГЮРСЕРВІС»123 283,49","2022-11-30",1,757.77,757.77,757.77,0,0]
["380816__139",139,"Банк Січ",380816,"Інше","Київ","Інше",null,34092020001115,"основні засоби","Гривня",0,"2018-12-27","-","НІ",null,"-","-","-","-","ЗАТ «КОНСАЛТИНГЮРСЕРВІС»123 283,49","2022-11-30",1,783.64,783.64,783.64,0,0]
["380816__140",140,"Банк Січ",380816,"Інше","Київ","Інше",null,34092020001116,"основні засоби","Гривня",0,"2018-12-27","-","НІ",null,"-","-","-","-","ЗАТ «КОНСАЛТИНГЮРСЕРВІС»123 283,49","2022-11-30",1,785.53,785.53,785.53,0,0]
["380816__141",141,"Банк Січ",380816,"Інше","Київ","Інше",null,34092020001117,"основні засоби","Гривня",0,"2018-12-27","-","НІ",null,"-","-","-","-","ЗАТ «КОНСАЛТИНГЮРСЕРВІС»123 283,49","2022-11-30",1213,795.71,795.71,795.71,0,0]
["380816__142",142,"Банк Січ",380816,"Інше","Київ","Інше",null,34092020001118,"основні засоби","Гривня",0,"2018-12-27","-","НІ",null,"-","-","-","-","ЗАТ «КОНСАЛТИНГЮРСЕРВІС»123 283,49","2022-11-30",1,807.95,807.95,807.95,0,0]
["380816__143",143,"Банк Січ",380816,"Інше","Київ","Інше",null,34092020001119,"основні засоби","Гривня",0,"2018-12-27","-","НІ",null,"-","-","-","-","ЗАТ «КОНСАЛТИНГЮРСЕРВІС»123 283,49","2022-11-30",1,813.58,813.58,813.58,0,0]
["380816__144",144,"Банк Січ",380816,"Інше","Київ","Інше",null,34092020001120,"основні засоби","Гривня",0,"2018-12-27","-","НІ",null,"-","-","-","-","ЗАТ «КОНСАЛТИНГЮРСЕРВІС»123 283,49","2022-11-30",1247,817.74,817.74,817.74,0,0]
["380816__145",145,"Банк Січ",380816,"Інше","Київ","Інше",null,34092020001121,"основні засоби","Гривня",0,"2018-12-27","-","НІ",null,"-","-","-","-","ЗАТ «КОНСАЛТИНГЮРСЕРВІС»123 283,49","2022-11-30",1,826.26,826.26,826.26,0,0]
["380816__146",146,"Банк Січ",380816,"Інше","Київ","Інше",null,34092020001122,"основні засоби","Гривня",0,"2018-12-27","-","НІ",null,"-","-","-","-","ЗАТ «КОНСАЛТИНГЮРСЕРВІС»123 283,49","2022-11-30",10000,848.05,848.05,848.05,0,0]
["380816__147",147,"Банк Січ",380816,"Інше","Київ","Інше",null,34092020001123,"основні засоби","Гривня",0,"2018-12-27","-","НІ",null,"-","-","-","-","ЗАТ «КОНСАЛТИНГЮРСЕРВІС»123 283,49","2022-11-30",1,851.85,851.85,851.85,0,0]
["380816__148",148,"Банк Січ",380816,"Інше","Київ","Інше",null,34092020001124,"основні засоби","Гривня",0,"2018-12-27","-","НІ",null,"-","-","-","-","ЗАТ «КОНСАЛТИНГЮРСЕРВІС»123 283,49","2022-11-30",1317,863.82,863.82,863.82,0,0]
["380816__149",149,"Банк Січ",380816,"Інше","Київ","Інше",null,34092020001125,"основні засоби","Гривня",0,"2018-12-27","-","НІ",null,"-","-","-","-","ЗАТ «КОНСАЛТИНГЮРСЕРВІС»123 283,49","2022-11-30",1323,867.81,867.81,867.81,0,0]
["380816__150",150,"Банк Січ",380816,"Інше","Київ","Інше",null,34092020001126,"основні засоби","Гривня",0,"2018-12-27","-","НІ",null,"-","-","-","-","ЗАТ «КОНСАЛТИНГЮРСЕРВІС»123 283,49","2022-11-30",1323,867.81,867.81,867.81,0,0]
["380816__151",151,"Банк Січ",380816,"Інше","Київ","Інше",null,34092020001127,"основні засоби","Гривня",0,"2018-12-27","-","НІ",null,"-","-","-","-","ЗАТ «КОНСАЛТИНГЮРСЕРВІС»123 283,49","2022-11-30",1323,867.81,867.81,867.81,0,0]
["380816__152",152,"Банк Січ",380816,"Інше","Київ","Інше",null,34092020001128,"основні засоби","Гривня",0,"2018-12-27","-","НІ",null,"-","-","-","-","ЗАТ «КОНСАЛТИНГЮРСЕРВІС»123 283,49","2022-11-30",1323,867.81,867.81,867.81,0,0]
["380816__153",153,"Банк Січ",380816,"Інше","Київ","Інше",null,34092020001129,"основні засоби","Гривня",0,"2018-12-27","-","НІ",null,"-","-","-","-","ЗАТ «КОНСАЛТИНГЮРСЕРВІС»123 283,49","2022-11-30",1324,868.68,868.68,868.68,0,0]
["380816__154",154,"Банк Січ",380816,"Інше","Київ","Інше",null,34092020001130,"основні засоби","Гривня",0,"2018-12-27","-","НІ",null,"-","-","-","-","ЗАТ «КОНСАЛТИНГЮРСЕРВІС»123 283,49","2022-11-30",1,873.54,873.54,873.54,0,0]
["380816__155",155,"Банк Січ",380816,"Інше","Київ","Інше",null,34092020001131,"основні засоби","Гривня",0,"2018-12-27","-","НІ",null,"-","-","-","-","ЗАТ «КОНСАЛТИНГЮРСЕРВІС»123 283,49","2022-11-30",1342,879.97,879.97,879.97,0,0]
["380816__156",156,"Банк Січ",380816,"Інше","Київ","Інше",null,34092020001132,"основні засоби","Гривня",0,"2018-12-27","-","НІ",null,"-","-","-","-","ЗАТ «КОНСАЛТИНГЮРСЕРВІС»123 283,49","2022-11-30",1367,896.48,896.48,896.48,0,0]
["380816__157",157,"Банк Січ",380816,"Інше","Київ","Інше",null,34092020001133,"основні засоби","Гривня",0,"2018-12-27","-","НІ",null,"-","-","-","-","ЗАТ «КОНСАЛТИНГЮРСЕРВІС»123 283,49","2022-11-30",1,899.12,899.12,899.12,0,0]
["380816__158",158,"Банк Січ",380816,"Інше","Київ","Інше",null,34092020001134,"основні засоби","Гривня",0,"2018-12-27","-","НІ",null,"-","-","-","-","ЗАТ «КОНСАЛТИНГЮРСЕРВІС»123 283,49","2022-11-30",1375,902.03,902.03,902.03,0,0]
["380816__159",159,"Банк Січ",380816,"Інше","Київ","Інше",null,34092020001135,"основні засоби","Гривня",0,"2018-12-27","-","НІ",null,"-","-","-","-","ЗАТ «КОНСАЛТИНГЮРСЕРВІС»123 283,49","2022-11-30",1375,902.03,902.03,902.03,0,0]
["380816__160",160,"Банк Січ",380816,"Інше","Київ","Інше",null,34092020001136,"основні засоби","Гривня",0,"2018-12-27","-","НІ",null,"-","-","-","-","ЗАТ «КОНСАЛТИНГЮРСЕРВІС»123 283,49","2022-11-30",1379,904.8,904.8,904.8,0,0]
["380816__161",161,"Банк Січ",380816,"Інше","Київ","Інше",null,34092020001137,"основні засоби","Гривня",0,"2018-12-27","-","НІ",null,"-","-","-","-","ЗАТ «КОНСАЛТИНГЮРСЕРВІС»123 283,49","2022-11-30",1,907.18,907.18,907.18,0,0]
["380816__162",162,"Банк Січ",380816,"Інше","Київ","Інше",null,34092020001138,"основні засоби","Гривня",0,"2018-12-27","-","НІ",null,"-","-","-","-","ЗАТ «КОНСАЛТИНГЮРСЕРВІС»123 283,49","2022-11-30",1,929.6,929.6,929.6,0,0]
["380816__163",163,"Банк Січ",380816,"Інше","Київ","Інше",null,34092020001139,"основні засоби","Гривня",0,"2018-12-27","-","НІ",null,"-","-","-","-","ЗАТ «КОНСАЛТИНГЮРСЕРВІС»123 283,49","2022-11-30",1,972.03,972.03,972.03,0,0]
["380816__164",164,"Банк Січ",380816,"Інше","Київ","Інше",null,34092020001140,"основні засоби","Гривня",0,"2018-12-27","-","НІ",null,"-","-","-","-","ЗАТ «КОНСАЛТИНГЮРСЕРВІС»123 283,49","2022-11-30",1,979.35,979.35,979.35,0,0]
["380816__165",165,"Банк Січ",380816,"Інше","Київ","Інше",null,34092020001141,"основні засоби","Гривня",0,"2018-12-27","-","НІ",null,"-","-","-","-","ЗАТ «КОНСАЛТИНГЮРСЕРВІС»123 283,49","2022-11-30",1,985.02,985.02,985.02,0,0]
["380816__166",166,"Банк Січ",380816,"Інше","Київ","Інше",null,34092020001142,"основні засоби","Гривня",0,"2018-12-27","-","НІ",null,"-","-","-","-","ЗАТ «КОНСАЛТИНГЮРСЕРВІС»123 283,49","2022-11-30",1,999.01,999.01,999.01,0,0]
["380816__167",167,"Банк Січ",380816,"Інше","Київ","Інше",null,34092020001143,"основні засоби","Гривня",0,"2018-12-27","-","НІ",null,"-","-","-","-","ЗАТ «КОНСАЛТИНГЮРСЕРВІС»123 283,49","2022-11-30",1560,1023.23,1023.23,1023.23,0,0]
["380816__168",168,"Банк Січ",380816,"Інше","Київ","Інше",null,34092020001144,"основні засоби","Гривня",0,"2018-12-27","-","НІ",null,"-","-","-","-","ЗАТ «КОНСАЛТИНГЮРСЕРВІС»123 283,49","2022-11-30",1,1024.71,1024.71,1024.71,0,0]
["380816__169",169,"Банк Січ",380816,"Інше","Київ","Інше",null,34092020001145,"основні засоби","Гривня",0,"2018-12-27","-","НІ",null,"-","-","-","-","ЗАТ «КОНСАЛТИНГЮРСЕРВІС»123 283,49","2022-11-30",1565,1026.19,1026.19,1026.19,0,0]
["380816__170",170,"Банк Січ",380816,"Інше","Київ","Інше",null,34092020001146,"основні засоби","Гривня",0,"2018-12-27","-","НІ",null,"-","-","-","-","ЗАТ «КОНСАЛТИНГЮРСЕРВІС»123 283,49","2022-11-30",1,1034.3699999999999,1034.3699999999999,1034.3699999999999,0,0]
["380816__171",171,"Банк Січ",380816,"Інше","Київ","Інше",null,34092020001147,"основні засоби","Гривня",0,"2018-12-27","-","НІ",null,"-","-","-","-","ЗАТ «КОНСАЛТИНГЮРСЕРВІС»123 283,49","2022-11-30",1,1042.6400000000001,1042.6400000000001,1042.6400000000001,0,0]
["380816__172",172,"Банк Січ",380816,"Інше","Київ","Інше",null,34092020001148,"основні засоби","Гривня",0,"2018-12-27","-","НІ",null,"-","-","-","-","ЗАТ «КОНСАЛТИНГЮРСЕРВІС»123 283,49","2022-11-30",1,1046.55,1046.55,1046.55,0,0]
["380816__173",173,"Банк Січ",380816,"Інше","Київ","Інше",null,34092020001149,"основні засоби","Гривня",0,"2018-12-27","-","НІ",null,"-","-","-","-","ЗАТ «КОНСАЛТИНГЮРСЕРВІС»123 283,49","2022-11-30",1,1049.1600000000001,1049.1600000000001,1049.1600000000001,0,0]
["380816__174",174,"Банк Січ",380816,"Інше","Київ","Інше",null,34092020001150,"основні засоби","Гривня",0,"2018-12-27","-","НІ",null,"-","-","-","-","ЗАТ «КОНСАЛТИНГЮРСЕРВІС»123 283,49","2022-11-30",1612,1057.29,1057.29,1057.29,0,0]
["380816__175",175,"Банк Січ",380816,"Інше","Київ","Інше",null,34092020001151,"основні засоби","Гривня",0,"2018-12-27","-","НІ",null,"-","-","-","-","ЗАТ «КОНСАЛТИНГЮРСЕРВІС»123 283,49","2022-11-30",1612,1057.29,1057.29,1057.29,0,0]
["380816__176",176,"Банк Січ",380816,"Інше","Київ","Інше",null,34092020001152,"основні засоби","Гривня",0,"2018-12-27","-","НІ",null,"-","-","-","-","ЗАТ «КОНСАЛТИНГЮРСЕРВІС»123 283,49","2022-11-30",1,1057.81,1057.81,1057.81,0,0]
["380816__177",177,"Банк Січ",380816,"Інше","Київ","Інше",null,34092020001153,"основні засоби","Гривня",0,"2018-12-27","-","НІ",null,"-","-","-","-","ЗАТ «КОНСАЛТИНГЮРСЕРВІС»123 283,49","2022-11-30",1,1062.93,1062.93,1062.93,0,0]
["380816__178",178,"Банк Січ",380816,"Інше","Київ","Інше",null,34092020001154,"основні засоби","Гривня",0,"2018-12-27","-","НІ",null,"-","-","-","-","ЗАТ «КОНСАЛТИНГЮРСЕРВІС»123 283,49","2022-11-30",1640,1075.57,1075.57,1075.57,0,0]
["380816__179",179,"Банк Січ",380816,"Інше","Київ","Інше",null,34092020001155,"основні засоби","Гривня",0,"2018-12-27","-","НІ",null,"-","-","-","-","ЗАТ «КОНСАЛТИНГЮРСЕРВІС»123 283,49","2022-11-30",1643,1077.52,1077.52,1077.52,0,0]
["380816__180",180,"Банк Січ",380816,"Інше","Київ","Інше",null,34092020001156,"основні засоби","Гривня",0,"2018-12-27","-","НІ",null,"-","-","-","-","ЗАТ «КОНСАЛТИНГЮРСЕРВІС»123 283,49","2022-11-30",1,1087.68,1087.68,1087.68,0,0]
["380816__181",181,"Банк Січ",380816,"Інше","Київ","Інше",null,34092020001157,"основні засоби","Гривня",0,"2018-12-27","-","НІ",null,"-","-","-","-","ЗАТ «КОНСАЛТИНГЮРСЕРВІС»123 283,49","2022-11-30",1763,1156.1500000000001,1156.1500000000001,1156.1500000000001,0,0]
["380816__182",182,"Банк Січ",380816,"Інше","Київ","Інше",null,34092020001158,"основні засоби","Гривня",0,"2018-12-27","-","НІ",null,"-","-","-","-","ЗАТ «КОНСАЛТИНГЮРСЕРВІС»123 283,49","2022-11-30",1,1185.71,1185.71,1185.71,0,0]
["380816__183",183,"Банк Січ",380816,"Інше","Київ","Інше",null,34092020001159,"основні засоби","Гривня",0,"2018-12-27","-","НІ",null,"-","-","-","-","ЗАТ «КОНСАЛТИНГЮРСЕРВІС»123 283,49","2022-11-30",1,1190.28,1190.28,1190.28,0,0]
["380816__184",184,"Банк Січ",380816,"Інше","Київ","Інше",null,34092020001160,"основні засоби","Гривня",0,"2018-12-27","-","НІ",null,"-","-","-","-","ЗАТ «КОНСАЛТИНГЮРСЕРВІС»123 283,49","2022-11-30",1,1190.9000000000001,1190.9000000000001,1190.9000000000001,0,0]
["380816__185",185,"Банк Січ",380816,"Інше","Київ","Інше",null,34092020001161,"основні засоби","Гривня",0,"2018-12-27","-","НІ",null,"-","-","-","-","ЗАТ «КОНСАЛТИНГЮРСЕРВІС»123 283,49","2022-11-30",1834,1202.56,1202.56,1202.56,0,0]
["380816__186",186,"Банк Січ",380816,"Інше","Київ","Інше",null,34092020001162,"основні засоби","Гривня",0,"2018-12-27","-","НІ",null,"-","-","-","-","ЗАТ «КОНСАЛТИНГЮРСЕРВІС»123 283,49","2022-11-30",1,1207.9000000000001,1207.9000000000001,1207.9000000000001,0,0]
["380816__187",187,"Банк Січ",380816,"Інше","Київ","Інше",null,34092020001163,"основні засоби","Гривня",0,"2018-12-27","-","НІ",null,"-","-","-","-","ЗАТ «КОНСАЛТИНГЮРСЕРВІС»123 283,49","2022-11-30",1,1229.76,1229.76,1229.76,0,0]
["380816__188",188,"Банк Січ",380816,"Інше","Київ","Інше",null,34092020001164,"основні засоби","Гривня",0,"2018-12-27","-","НІ",null,"-","-","-","-","ЗАТ «КОНСАЛТИНГЮРСЕРВІС»123 283,49","2022-11-30",1,1238.46,1238.46,1238.46,0,0]
["380816__189",189,"Банк Січ",380816,"Інше","Київ","Інше",null,34092020001165,"основні засоби","Гривня",0,"2018-12-27","-","НІ",null,"-","-","-","-","ЗАТ «КОНСАЛТИНГЮРСЕРВІС»123 283,49","2022-11-30",1904,1248.8,1248.8,1248.8,0,0]
["380816__190",190,"Банк Січ",380816,"Інше","Київ","Інше",null,34092020001166,"основні засоби","Гривня",0,"2018-12-27","-","НІ",null,"-","-","-","-","ЗАТ «КОНСАЛТИНГЮРСЕРВІС»123 283,49","2022-11-30",1,1280.77,1280.77,1280.77,0,0]
["380816__191",191,"Банк Січ",380816,"Інше","Київ","Інше",null,34092020001167,"основні засоби","Гривня",0,"2018-12-27","-","НІ",null,"-","-","-","-","ЗАТ «КОНСАЛТИНГЮРСЕРВІС»123 283,49","2022-11-30",1,1304.26,1304.26,1304.26,0,0]
["380816__192",192,"Банк Січ",380816,"Інше","Київ","Інше",null,34092020001168,"основні засоби","Гривня",0,"2018-12-27","-","НІ",null,"-","-","-","-","ЗАТ «КОНСАЛТИНГЮРСЕРВІС»123 283,49","2022-11-30",1994,1308.06,1308.06,1308.06,0,0]
["380816__193",193,"Банк Січ",380816,"Інше","Київ","Інше",null,34092020001169,"основні засоби","Гривня",0,"2018-12-27","-","НІ",null,"-","-","-","-","ЗАТ «КОНСАЛТИНГЮРСЕРВІС»123 283,49","2022-11-30",1,1331.72,1331.72,1331.72,0,0]
["380816__194",194,"Банк Січ",380816,"Інше","Київ","Інше",null,34092020001170,"основні засоби","Гривня",0,"2018-12-27","-","НІ",null,"-","-","-","-","ЗАТ «КОНСАЛТИНГЮРСЕРВІС»123 283,49","2022-11-30",1,1339.15,1339.15,1339.15,0,0]
["380816__195",195,"Банк Січ",380816,"Інше","Київ","Інше",null,34092020001171,"основні засоби","Гривня",0,"2018-12-27","-","НІ",null,"-","-","-","-","ЗАТ «КОНСАЛТИНГЮРСЕРВІС»123 283,49","2022-11-30",1,1344.7,1344.7,1344.7,0,0]
["380816__196",196,"Банк Січ",380816,"Інше","Київ","Інше",null,34092020001172,"основні засоби","Гривня",0,"2018-12-27","-","НІ",null,"-","-","-","-","ЗАТ «КОНСАЛТИНГЮРСЕРВІС»123 283,49","2022-11-30",1,1349.34,1349.34,1349.34,0,0]
["380816__197",197,"Банк Січ",380816,"Інше","Київ","Інше",null,34092020001173,"основні засоби","Гривня",0,"2018-12-27","-","НІ",null,"-","-","-","-","ЗАТ «КОНСАЛТИНГЮРСЕРВІС»123 283,49","2022-11-30",1,1350.23,1350.23,1350.23,0,0]
["380816__198",198,"Банк Січ",380816,"Інше","Київ","Інше",null,34092020001174,"основні засоби","Гривня",0,"2018-12-27","-","НІ",null,"-","-","-","-","ЗАТ «КОНСАЛТИНГЮРСЕРВІС»123 283,49","2022-11-30",1,1350.44,1350.44,1350.44,0,0]
["380816__199",199,"Банк Січ",380816,"Інше","Київ","Інше",null,34092020001175,"основні засоби","Гривня",0,"2018-12-27","-","НІ",null,"-","-","-","-","ЗАТ «КОНСАЛТИНГЮРСЕРВІС»123 283,49","2022-11-30",1,1361.85,1361.85,1361.85,0,0]
["380816__200",200,"Банк Січ",380816,"Інше","Київ","Інше",null,34092020001176,"основні засоби","Гривня",0,"2018-12-27","-","НІ",null,"-","-","-","-","ЗАТ «КОНСАЛТИНГЮРСЕРВІС»123 283,49","2022-11-30",1,1362.59,1362.59,1362.59,0,0]
["380816__201",201,"Банк Січ",380816,"Інше","Київ","Інше",null,34092020001177,"основні засоби","Гривня",0,"2018-12-27","-","НІ",null,"-","-","-","-","ЗАТ «КОНСАЛТИНГЮРСЕРВІС»123 283,49","2022-11-30",1,1365.37,1365.37,1365.37,0,0]
["380816__202",202,"Банк Січ",380816,"Інше","Київ","Інше",null,34092020001178,"основні засоби","Гривня",0,"2018-12-27","-","НІ",null,"-","-","-","-","ЗАТ «КОНСАЛТИНГЮРСЕРВІС»123 283,49","2022-11-30",1,1365.65,1365.65,1365.65,0,0]
["380816__203",203,"Банк Січ",380816,"Інше","Київ","Інше",null,34092020001179,"основні засоби","Гривня",0,"2018-12-27","-","НІ",null,"-","-","-","-","ЗАТ «КОНСАЛТИНГЮРСЕРВІС»123 283,49","2022-11-30",1,1365.75,1365.75,1365.75,0,0]
["380816__204",204,"Банк Січ",380816,"Інше","Київ","Інше",null,34092020001180,"основні засоби","Гривня",0,"2018-12-27","-","НІ",null,"-","-","-","-","ЗАТ «КОНСАЛТИНГЮРСЕРВІС»123 283,49","2022-11-30",1,1372.69,1372.69,1372.69,0,0]
["380816__205",205,"Банк Січ",380816,"Інше","Київ","Інше",null,34092020001181,"основні засоби","Гривня",0,"2018-12-27","-","НІ",null,"-","-","-","-","ЗАТ «КОНСАЛТИНГЮРСЕРВІС»123 283,49","2022-11-30",1,1373.16,1373.16,1373.16,0,0]
["380816__206",206,"Банк Січ",380816,"Інше","Київ","Інше",null,34092020001182,"основні засоби","Гривня",0,"2018-12-27","-","НІ",null,"-","-","-","-","ЗАТ «КОНСАЛТИНГЮРСЕРВІС»123 283,49","2022-11-30",1,1375.19,1375.19,1375.19,0,0]
["380816__207",207,"Банк Січ",380816,"Інше","Київ","Інше",null,34092020001183,"основні засоби","Гривня",0,"2018-12-27","-","НІ",null,"-","-","-","-","ЗАТ «КОНСАЛТИНГЮРСЕРВІС»123 283,49","2022-11-30",1,1375.49,1375.49,1375.49,0,0]
["380816__208",208,"Банк Січ",380816,"Інше","Київ","Інше",null,34092020001184,"основні засоби","Гривня",0,"2018-12-27","-","НІ",null,"-","-","-","-","ЗАТ «КОНСАЛТИНГЮРСЕРВІС»123 283,49","2022-11-30",1,1395.2,1395.2,1395.2,0,0]
["380816__209",209,"Банк Січ",380816,"Інше","Київ","Інше",null,34092020001185,"основні засоби","Гривня",0,"2018-12-27","-","НІ",null,"-","-","-","-","ЗАТ «КОНСАЛТИНГЮРСЕРВІС»123 283,49","2022-11-30",1,1414.88,1414.88,1414.88,0,0]
["380816__210",210,"Банк Січ",380816,"Інше","Київ","Інше",null,34092020001186,"основні засоби","Гривня",0,"2018-12-27","-","НІ",null,"-","-","-","-","ЗАТ «КОНСАЛТИНГЮРСЕРВІС»123 283,49","2022-11-30",1,1415.53,1415.53,1415.53,0,0]
["380816__211",211,"Банк Січ",380816,"Інше","Київ","Інше",null,34092020001187,"основні засоби","Гривня",0,"2018-12-27","-","НІ",null,"-","-","-","-","ЗАТ «КОНСАЛТИНГЮРСЕРВІС»123 283,49","2022-11-30",1,1419.99,1419.99,1419.99,0,0]
["380816__212",212,"Банк Січ",380816,"Інше","Київ","Інше",null,34092020001188,"основні засоби","Гривня",0,"2018-12-27","-","НІ",null,"-","-","-","-","ЗАТ «КОНСАЛТИНГЮРСЕРВІС»123 283,49","2022-11-30",2169,1422.56,1422.56,1422.56,0,0]
["380816__213",213,"Банк Січ",380816,"Інше","Київ","Інше",null,34092020001189,"основні засоби","Гривня",0,"2018-12-27","-","НІ",null,"-","-","-","-","ЗАТ «КОНСАЛТИНГЮРСЕРВІС»123 283,49","2022-11-30",1,1424.19,1424.19,1424.19,0,0]
["380816__214",214,"Банк Січ",380816,"Інше","Київ","Інше",null,34092020001190,"основні засоби","Гривня",0,"2018-12-27","-","НІ",null,"-","-","-","-","ЗАТ «КОНСАЛТИНГЮРСЕРВІС»123 283,49","2022-11-30",1,1435.91,1435.91,1435.91,0,0]
["380816__215",215,"Банк Січ",380816,"Інше","Київ","Інше",null,34092020001191,"основні засоби","Гривня",0,"2018-12-27","-","НІ",null,"-","-","-","-","ЗАТ «КОНСАЛТИНГЮРСЕРВІС»123 283,49","2022-11-30",1,1436.94,1436.94,1436.94,0,0]
["380816__216",216,"Банк Січ",380816,"Інше","Київ","Інше",null,34092020001192,"основні засоби","Гривня",0,"2018-12-27","-","НІ",null,"-","-","-","-","ЗАТ «КОНСАЛТИНГЮРСЕРВІС»123 283,49","2022-11-30",1,1445.09,1445.09,1445.09,0,0]
["380816__217",217,"Банк Січ",380816,"Інше","Київ","Інше",null,34092020001193,"основні засоби","Гривня",0,"2018-12-27","-","НІ",null,"-","-","-","-","ЗАТ «КОНСАЛТИНГЮРСЕРВІС»123 283,49","2022-11-30",1,1455.66,1455.66,1455.66,0,0]
["380816__218",218,"Банк Січ",380816,"Інше","Київ","Інше",null,34092020001194,"основні засоби","Гривня",0,"2018-12-27","-","НІ",null,"-","-","-","-","ЗАТ «КОНСАЛТИНГЮРСЕРВІС»123 283,49","2022-11-30",2227,1460.42,1460.42,1460.42,0,0]
["380816__219",219,"Банк Січ",380816,"Інше","Київ","Інше",null,34092020001195,"основні засоби","Гривня",0,"2018-12-27","-","НІ",null,"-","-","-","-","ЗАТ «КОНСАЛТИНГЮРСЕРВІС»123 283,49","2022-11-30",1,1469.24,1469.24,1469.24,0,0]
["380816__220",220,"Банк Січ",380816,"Інше","Київ","Інше",null,34092020001196,"основні засоби","Гривня",0,"2018-12-27","-","НІ",null,"-","-","-","-","ЗАТ «КОНСАЛТИНГЮРСЕРВІС»123 283,49","2022-11-30",1,1472.27,1472.27,1472.27,0,0]
["380816__221",221,"Банк Січ",380816,"Інше","Київ","Інше",null,34092020001197,"основні засоби","Гривня",0,"2018-12-27","-","НІ",null,"-","-","-","-","ЗАТ «КОНСАЛТИНГЮРСЕРВІС»123 283,49","2022-11-30",1650,1474.37,1474.37,1474.37,0,0]
["380816__222",222,"Банк Січ",380816,"Інше","Київ","Інше",null,34092020001198,"основні засоби","Гривня",0,"2018-12-27","-","НІ",null,"-","-","-","-","ЗАТ «КОНСАЛТИНГЮРСЕРВІС»123 283,49","2022-11-30",1,1475.71,1475.71,1475.71,0,0]
["380816__223",223,"Банк Січ",380816,"Інше","Київ","Інше",null,34092020001199,"основні засоби","Гривня",0,"2018-12-27","-","НІ",null,"-","-","-","-","ЗАТ «КОНСАЛТИНГЮРСЕРВІС»123 283,49","2022-11-30",1,1498.33,1498.33,1498.33,0,0]
["380816__224",224,"Банк Січ",380816,"Інше","Київ","Інше",null,34092020001200,"основні засоби","Гривня",0,"2018-12-27","-","НІ",null,"-","-","-","-","ЗАТ «КОНСАЛТИНГЮРСЕРВІС»123 283,49","2022-11-30",1,1501.93,1501.93,1501.93,0,0]
["380816__225",225,"Банк Січ",380816,"Інше","Київ","Інше",null,34092020001201,"основні засоби","Гривня",0,"2018-12-27","-","НІ",null,"-","-","-","-","ЗАТ «КОНСАЛТИНГЮРСЕРВІС»123 283,49","2022-11-30",1,1532.07,1532.07,1532.07,0,0]
["380816__226",226,"Банк Січ",380816,"Інше","Київ","Інше",null,34092020001202,"основні засоби","Гривня",0,"2018-12-27","-","НІ",null,"-","-","-","-","ЗАТ «КОНСАЛТИНГЮРСЕРВІС»123 283,49","2022-11-30",1,1543.11,1543.11,1543.11,0,0]
["380816__227",227,"Банк Січ",380816,"Інше","Київ","Інше",null,34092020001203,"основні засоби","Гривня",0,"2018-12-27","-","НІ",null,"-","-","-","-","ЗАТ «КОНСАЛТИНГЮРСЕРВІС»123 283,49","2022-11-30",1,1546.66,1546.66,1546.66,0,0]
["380816__228",228,"Банк Січ",380816,"Інше","Київ","Інше",null,34092020001204,"основні засоби","Гривня",0,"2018-12-27","-","НІ",null,"-","-","-","-","ЗАТ «КОНСАЛТИНГЮРСЕРВІС»123 283,49","2022-11-30",1,1559.96,1559.96,1559.96,0,0]
["380816__229",229,"Банк Січ",380816,"Інше","Київ","Інше",null,34092020001205,"основні засоби","Гривня",0,"2018-12-27","-","НІ",null,"-","-","-","-","ЗАТ «КОНСАЛТИНГЮРСЕРВІС»123 283,49","2022-11-30",1,1575.03,1575.03,1575.03,0,0]
["380816__230",230,"Банк Січ",380816,"Інше","Київ","Інше",null,34092020001206,"основні засоби","Гривня",0,"2018-12-27","-","НІ",null,"-","-","-","-","ЗАТ «КОНСАЛТИНГЮРСЕРВІС»123 283,49","2022-11-30",1,1596.07,1596.07,1596.07,0,0]
["380816__231",231,"Банк Січ",380816,"Інше","Київ","Інше",null,34092020001207,"основні засоби","Гривня",0,"2018-12-27","-","НІ",null,"-","-","-","-","ЗАТ «КОНСАЛТИНГЮРСЕРВІС»123 283,49","2022-11-30",1,1599.06,1599.06,1599.06,0,0]
["380816__232",232,"Банк Січ",380816,"Інше","Київ","Інше",null,34092020001208,"основні засоби","Гривня",0,"2018-12-27","-","НІ",null,"-","-","-","-","ЗАТ «КОНСАЛТИНГЮРСЕРВІС»123 283,49","2022-11-30",1,1636.79,1636.79,1636.79,0,0]
["380816__233",233,"Банк Січ",380816,"Інше","Київ","Інше",null,34092020001209,"основні засоби","Гривня",0,"2018-12-27","-","НІ",null,"-","-","-","-","ЗАТ «КОНСАЛТИНГЮРСЕРВІС»123 283,49","2022-11-30",1,1637.58,1637.58,1637.58,0,0]
["380816__234",234,"Банк Січ",380816,"Інше","Київ","Інше",null,34092020001210,"основні засоби","Гривня",0,"2018-12-27","-","НІ",null,"-","-","-","-","ЗАТ «КОНСАЛТИНГЮРСЕРВІС»123 283,49","2022-11-30",2509,1645.52,1645.52,1645.52,0,0]
["380816__235",235,"Банк Січ",380816,"Інше","Київ","Інше",null,34092020001211,"основні засоби","Гривня",0,"2018-12-27","-","НІ",null,"-","-","-","-","ЗАТ «КОНСАЛТИНГЮРСЕРВІС»123 283,49","2022-11-30",1,1645.73,1645.73,1645.73,0,0]
["380816__236",236,"Банк Січ",380816,"Інше","Київ","Інше",null,34092020001212,"основні засоби","Гривня",0,"2018-12-27","-","НІ",null,"-","-","-","-","ЗАТ «КОНСАЛТИНГЮРСЕРВІС»123 283,49","2022-11-30",1,1646.18,1646.18,1646.18,0,0]
["380816__237",237,"Банк Січ",380816,"Інше","Київ","Інше",null,34092020001213,"основні засоби","Гривня",0,"2018-12-27","-","НІ",null,"-","-","-","-","ЗАТ «КОНСАЛТИНГЮРСЕРВІС»123 283,49","2022-11-30",1,1647.14,1647.14,1647.14,0,0]
["380816__238",238,"Банк Січ",380816,"Інше","Київ","Інше",null,34092020001214,"основні засоби","Гривня",0,"2018-12-27","-","НІ",null,"-","-","-","-","ЗАТ «КОНСАЛТИНГЮРСЕРВІС»123 283,49","2022-11-30",1,1662.51,1662.51,1662.51,0,0]
["380816__239",239,"Банк Січ",380816,"Інше","Київ","Інше",null,34092020001215,"основні засоби","Гривня",0,"2018-12-27","-","НІ",null,"-","-","-","-","ЗАТ «КОНСАЛТИНГЮРСЕРВІС»123 283,49","2022-11-30",1,1671.69,1671.69,1671.69,0,0]
["380816__240",240,"Банк Січ",380816,"Інше","Київ","Інше",null,34092020001216,"основні засоби","Гривня",0,"2018-12-27","-","НІ",null,"-","-","-","-","ЗАТ «КОНСАЛТИНГЮРСЕРВІС»123 283,49","2022-11-30",2556,1676.44,1676.44,1676.44,0,0]
["380816__241",241,"Банк Січ",380816,"Інше","Київ","Інше",null,34092020001217,"основні засоби","Гривня",0,"2018-12-27","-","НІ",null,"-","-","-","-","ЗАТ «КОНСАЛТИНГЮРСЕРВІС»123 283,49","2022-11-30",2576,1689.45,1689.45,1689.45,0,0]
["380816__242",242,"Банк Січ",380816,"Інше","Київ","Інше",null,34092020001218,"основні засоби","Гривня",0,"2018-12-27","-","НІ",null,"-","-","-","-","ЗАТ «КОНСАЛТИНГЮРСЕРВІС»123 283,49","2022-11-30",1,1690.08,1690.08,1690.08,0,0]
["380816__243",243,"Банк Січ",380816,"Інше","Київ","Інше",null,34092020001219,"основні засоби","Гривня",0,"2018-12-27","-","НІ",null,"-","-","-","-","ЗАТ «КОНСАЛТИНГЮРСЕРВІС»123 283,49","2022-11-30",1,1693.94,1693.94,1693.94,0,0]
["380816__244",244,"Банк Січ",380816,"Інше","Київ","Інше",null,34092020001220,"основні засоби","Гривня",0,"2018-12-27","-","НІ",null,"-","-","-","-","ЗАТ «КОНСАЛТИНГЮРСЕРВІС»123 283,49","2022-11-30",1,1697.54,1697.54,1697.54,0,0]
["380816__245",245,"Банк Січ",380816,"Інше","Київ","Інше",null,34092020001221,"основні засоби","Гривня",0,"2018-12-27","-","НІ",null,"-","-","-","-","ЗАТ «КОНСАЛТИНГЮРСЕРВІС»123 283,49","2022-11-30",1,1721.19,1721.19,1721.19,0,0]
["380816__246",246,"Банк Січ",380816,"Інше","Київ","Інше",null,34092020001222,"основні засоби","Гривня",0,"2018-12-27","-","НІ",null,"-","-","-","-","ЗАТ «КОНСАЛТИНГЮРСЕРВІС»123 283,49","2022-11-30",1,1735.25,1735.25,1735.25,0,0]
["380816__247",247,"Банк Січ",380816,"Інше","Київ","Інше",null,34092020001223,"основні засоби","Гривня",0,"2018-12-27","-","НІ",null,"-","-","-","-","ЗАТ «КОНСАЛТИНГЮРСЕРВІС»123 283,49","2022-11-30",1,1739.64,1739.64,1739.64,0,0]
["380816__248",248,"Банк Січ",380816,"Інше","Київ","Інше",null,34092020001224,"основні засоби","Гривня",0,"2018-12-27","-","НІ",null,"-","-","-","-","ЗАТ «КОНСАЛТИНГЮРСЕРВІС»123 283,49","2022-11-30",1200,1740.03,1740.03,1740.03,0,0]
["380816__249",249,"Банк Січ",380816,"Інше","Київ","Інше",null,34092020001225,"основні засоби","Гривня",0,"2018-12-27","-","НІ",null,"-","-","-","-","ЗАТ «КОНСАЛТИНГЮРСЕРВІС»123 283,49","2022-11-30",1,1771.31,1771.31,1771.31,0,0]
["380816__250",250,"Банк Січ",380816,"Інше","Київ","Інше",null,34092020001226,"основні засоби","Гривня",0,"2018-12-27","-","НІ",null,"-","-","-","-","ЗАТ «КОНСАЛТИНГЮРСЕРВІС»123 283,49","2022-11-30",70934,1820.03,1820.03,1820.03,0,0]
["380816__251",251,"Банк Січ",380816,"Інше","Київ","Інше",null,34092020001227,"основні засоби","Гривня",0,"2018-12-27","-","НІ",null,"-","-","-","-","ЗАТ «КОНСАЛТИНГЮРСЕРВІС»123 283,49","2022-11-30",2802,1837.69,1837.69,1837.69,0,0]
["380816__252",252,"Банк Січ",380816,"Інше","Київ","Інше",null,34092020001228,"основні засоби","Гривня",0,"2018-12-27","-","НІ",null,"-","-","-","-","ЗАТ «КОНСАЛТИНГЮРСЕРВІС»123 283,49","2022-11-30",1,1845.1,1845.1,1845.1,0,0]
["380816__253",253,"Банк Січ",380816,"Інше","Київ","Інше",null,34092020001229,"основні засоби","Гривня",0,"2018-12-27","-","НІ",null,"-","-","-","-","ЗАТ «КОНСАЛТИНГЮРСЕРВІС»123 283,49","2022-11-30",1,1853.59,1853.59,1853.59,0,0]
["380816__254",254,"Банк Січ",380816,"Інше","Київ","Інше",null,34092020001230,"основні засоби","Гривня",0,"2018-12-27","-","НІ",null,"-","-","-","-","ЗАТ «КОНСАЛТИНГЮРСЕРВІС»123 283,49","2022-11-30",1,1861.21,1861.21,1861.21,0,0]
["380816__255",255,"Банк Січ",380816,"Інше","Київ","Інше",null,34092020001231,"основні засоби","Гривня",0,"2018-12-27","-","НІ",null,"-","-","-","-","ЗАТ «КОНСАЛТИНГЮРСЕРВІС»123 283,49","2022-11-30",1,1864.78,1864.78,1864.78,0,0]
["380816__256",256,"Банк Січ",380816,"Інше","Київ","Інше",null,34092020001232,"основні засоби","Гривня",0,"2018-12-27","-","НІ",null,"-","-","-","-","ЗАТ «КОНСАЛТИНГЮРСЕРВІС»123 283,49","2022-11-30",1,1877.34,1877.34,1877.34,0,0]
["380816__257",257,"Банк Січ",380816,"Інше","Київ","Інше",null,34092020001233,"основні засоби","Гривня",0,"2018-12-27","-","НІ",null,"-","-","-","-","ЗАТ «КОНСАЛТИНГЮРСЕРВІС»123 283,49","2022-11-30",1,1885.78,1885.78,1885.78,0,0]
["380816__258",258,"Банк Січ",380816,"Інше","Київ","Інше",null,34092020001234,"основні засоби","Гривня",0,"2018-12-27","-","НІ",null,"-","-","-","-","ЗАТ «КОНСАЛТИНГЮРСЕРВІС»123 283,49","2022-11-30",2884,1891.86,1891.86,1891.86,0,0]
["380816__259",259,"Банк Січ",380816,"Інше","Київ","Інше",null,34092020001235,"основні засоби","Гривня",0,"2018-12-27","-","НІ",null,"-","-","-","-","ЗАТ «КОНСАЛТИНГЮРСЕРВІС»123 283,49","2022-11-30",1,1894.69,1894.69,1894.69,0,0]
["380816__260",260,"Банк Січ",380816,"Інше","Київ","Інше",null,34092020001236,"основні засоби","Гривня",0,"2018-12-27","-","НІ",null,"-","-","-","-","ЗАТ «КОНСАЛТИНГЮРСЕРВІС»123 283,49","2022-11-30",2948,1933.58,1933.58,1933.58,0,0]
["380816__261",261,"Банк Січ",380816,"Інше","Київ","Інше",null,34092020001237,"основні засоби","Гривня",0,"2018-12-27","-","НІ",null,"-","-","-","-","ЗАТ «КОНСАЛТИНГЮРСЕРВІС»123 283,49","2022-11-30",1,1936.46,1936.46,1936.46,0,0]
["380816__262",262,"Банк Січ",380816,"Інше","Київ","Інше",null,34092020001238,"основні засоби","Гривня",0,"2018-12-27","-","НІ",null,"-","-","-","-","ЗАТ «КОНСАЛТИНГЮРСЕРВІС»123 283,49","2022-11-30",2962,1942.76,1942.76,1942.76,0,0]
["380816__263",263,"Банк Січ",380816,"Інше","Київ","Інше",null,34092020001239,"основні засоби","Гривня",0,"2018-12-27","-","НІ",null,"-","-","-","-","ЗАТ «КОНСАЛТИНГЮРСЕРВІС»123 283,49","2022-11-30",1,1946.5,1946.5,1946.5,0,0]
["380816__264",264,"Банк Січ",380816,"Інше","Київ","Інше",null,34092020001240,"основні засоби","Гривня",0,"2018-12-27","-","НІ",null,"-","-","-","-","ЗАТ «КОНСАЛТИНГЮРСЕРВІС»123 283,49","2022-11-30",1,2010.89,2010.89,2010.89,0,0]
["380816__265",265,"Банк Січ",380816,"Інше","Київ","Інше",null,34092020001241,"основні засоби","Гривня",0,"2018-12-27","-","НІ",null,"-","-","-","-","ЗАТ «КОНСАЛТИНГЮРСЕРВІС»123 283,49","2022-11-30",1,2020.94,2020.94,2020.94,0,0]
["380816__266",266,"Банк Січ",380816,"Інше","Київ","Інше",null,34092020001242,"основні засоби","Гривня",0,"2018-12-27","-","НІ",null,"-","-","-","-","ЗАТ «КОНСАЛТИНГЮРСЕРВІС»123 283,49","2022-11-30",1,2093.38,2093.38,2093.38,0,0]
["380816__267",267,"Банк Січ",380816,"Інше","Київ","Інше",null,34092020001243,"основні засоби","Гривня",0,"2018-12-27","-","НІ",null,"-","-","-","-","ЗАТ «КОНСАЛТИНГЮРСЕРВІС»123 283,49","2022-11-30",1,2113.4299999999998,2113.4299999999998,2113.4299999999998,0,0]
["380816__268",268,"Банк Січ",380816,"Інше","Київ","Інше",null,34092020001244,"основні засоби","Гривня",0,"2018-12-27","-","НІ",null,"-","-","-","-","ЗАТ «КОНСАЛТИНГЮРСЕРВІС»123 283,49","2022-11-30",1,2130.86,2130.86,2130.86,0,0]
["380816__269",269,"Банк Січ",380816,"Інше","Київ","Інше",null,34092020001245,"основні засоби","Гривня",0,"2018-12-27","-","НІ",null,"-","-","-","-","ЗАТ «КОНСАЛТИНГЮРСЕРВІС»123 283,49","2022-11-30",1,2160.11,2160.11,2160.11,0,0]
["380816__270",270,"Банк Січ",380816,"Інше","Київ","Інше",null,34092020001246,"основні засоби","Гривня",0,"2018-12-27","-","НІ",null,"-","-","-","-","ЗАТ «КОНСАЛТИНГЮРСЕРВІС»123 283,49","2022-11-30",1,2162.89,2162.89,2162.89,0,0]
["380816__271",271,"Банк Січ",380816,"Інше","Київ","Інше",null,34092020001247,"основні засоби","Гривня",0,"2018-12-27","-","НІ",null,"-","-","-","-","ЗАТ «КОНСАЛТИНГЮРСЕРВІС»123 283,49","2022-11-30",1,2167.56,2167.56,2167.56,0,0]
["380816__272",272,"Банк Січ",380816,"Інше","Київ","Інше",null,34092020001248,"основні засоби","Гривня",0,"2018-12-27","-","НІ",null,"-","-","-","-","ЗАТ «КОНСАЛТИНГЮРСЕРВІС»123 283,49","2022-11-30",1,2192.73,2192.73,2192.73,0,0]
["380816__273",273,"Банк Січ",380816,"Інше","Київ","Інше",null,34092020001249,"основні засоби","Гривня",0,"2018-12-27","-","НІ",null,"-","-","-","-","ЗАТ «КОНСАЛТИНГЮРСЕРВІС»123 283,49","2022-11-30",1,2198.3200000000002,2198.3200000000002,2198.3200000000002,0,0]
["380816__274",274,"Банк Січ",380816,"Інше","Київ","Інше",null,34092020001250,"основні засоби","Гривня",0,"2018-12-27","-","НІ",null,"-","-","-","-","ЗАТ «КОНСАЛТИНГЮРСЕРВІС»123 283,49","2022-11-30",1,2199.1799999999998,2199.1799999999998,2199.1799999999998,0,0]
["380816__275",275,"Банк Січ",380816,"Інше","Київ","Інше",null,34092020001251,"основні засоби","Гривня",0,"2018-12-27","-","НІ",null,"-","-","-","-","ЗАТ «КОНСАЛТИНГЮРСЕРВІС»123 283,49","2022-11-30",1,2223.88,2223.88,2223.88,0,0]
["380816__276",276,"Банк Січ",380816,"Інше","Київ","Інше",null,34092020001252,"основні засоби","Гривня",0,"2018-12-27","-","НІ",null,"-","-","-","-","ЗАТ «КОНСАЛТИНГЮРСЕРВІС»123 283,49","2022-11-30",1,2225.4699999999998,2225.4699999999998,2225.4699999999998,0,0]
["380816__277",277,"Банк Січ",380816,"Інше","Київ","Інше",null,34092020001253,"основні засоби","Гривня",0,"2018-12-27","-","НІ",null,"-","-","-","-","ЗАТ «КОНСАЛТИНГЮРСЕРВІС»123 283,49","2022-11-30",1,2237.8200000000002,2237.8200000000002,2237.8200000000002,0,0]
["380816__278",278,"Банк Січ",380816,"Інше","Київ","Інше",null,34092020001254,"основні засоби","Гривня",0,"2018-12-27","-","НІ",null,"-","-","-","-","ЗАТ «КОНСАЛТИНГЮРСЕРВІС»123 283,49","2022-11-30",1,2254.54,2254.54,2254.54,0,0]
["380816__279",279,"Банк Січ",380816,"Інше","Київ","Інше",null,34092020001255,"основні засоби","Гривня",0,"2018-12-27","-","НІ",null,"-","-","-","-","ЗАТ «КОНСАЛТИНГЮРСЕРВІС»123 283,49","2022-11-30",1,2254.89,2254.89,2254.89,0,0]
["380816__280",280,"Банк Січ",380816,"Інше","Київ","Інше",null,34092020001256,"основні засоби","Гривня",0,"2018-12-27","-","НІ",null,"-","-","-","-","ЗАТ «КОНСАЛТИНГЮРСЕРВІС»123 283,49","2022-11-30",1,2271.0700000000002,2271.0700000000002,2271.0700000000002,0,0]
["380816__281",281,"Банк Січ",380816,"Інше","Київ","Інше",null,34092020001257,"основні засоби","Гривня",0,"2018-12-27","-","НІ",null,"-","-","-","-","ЗАТ «КОНСАЛТИНГЮРСЕРВІС»123 283,49","2022-11-30",3472,2277.0700000000002,2277.0700000000002,2277.0700000000002,0,0]
["380816__282",282,"Банк Січ",380816,"Інше","Київ","Інше",null,34092020001258,"основні засоби","Гривня",0,"2018-12-27","-","НІ",null,"-","-","-","-","ЗАТ «КОНСАЛТИНГЮРСЕРВІС»123 283,49","2022-11-30",1,2278.21,2278.21,2278.21,0,0]
["380816__283",283,"Банк Січ",380816,"Інше","Київ","Інше",null,34092020001259,"основні засоби","Гривня",0,"2018-12-27","-","НІ",null,"-","-","-","-","ЗАТ «КОНСАЛТИНГЮРСЕРВІС»123 283,49","2022-11-30",1,2278.35,2278.35,2278.35,0,0]
["380816__284",284,"Банк Січ",380816,"Інше","Київ","Інше",null,34092020001260,"основні засоби","Гривня",0,"2018-12-27","-","НІ",null,"-","-","-","-","ЗАТ «КОНСАЛТИНГЮРСЕРВІС»123 283,49","2022-11-30",1,2281.2800000000002,2281.2800000000002,2281.2800000000002,0,0]
["380816__285",285,"Банк Січ",380816,"Інше","Київ","Інше",null,34092020001261,"основні засоби","Гривня",0,"2018-12-27","-","НІ",null,"-","-","-","-","ЗАТ «КОНСАЛТИНГЮРСЕРВІС»123 283,49","2022-11-30",1,2300.9899999999998,2300.9899999999998,2300.9899999999998,0,0]
["380816__286",286,"Банк Січ",380816,"Інше","Київ","Інше",null,34092020001262,"основні засоби","Гривня",0,"2018-12-27","-","НІ",null,"-","-","-","-","ЗАТ «КОНСАЛТИНГЮРСЕРВІС»123 283,49","2022-11-30",2666,2331.27,2331.27,2331.27,0,0]
["380816__287",287,"Банк Січ",380816,"Інше","Київ","Інше",null,34092020001263,"основні засоби","Гривня",0,"2018-12-27","-","НІ",null,"-","-","-","-","ЗАТ «КОНСАЛТИНГЮРСЕРВІС»123 283,49","2022-11-30",1,2332.6799999999998,2332.6799999999998,2332.6799999999998,0,0]
["380816__288",288,"Банк Січ",380816,"Інше","Київ","Інше",null,34092020001264,"основні засоби","Гривня",0,"2018-12-27","-","НІ",null,"-","-","-","-","ЗАТ «КОНСАЛТИНГЮРСЕРВІС»123 283,49","2022-11-30",1,2359.9899999999998,2359.9899999999998,2359.9899999999998,0,0]
["380816__289",289,"Банк Січ",380816,"Інше","Київ","Інше",null,34092020001265,"основні засоби","Гривня",0,"2018-12-27","-","НІ",null,"-","-","-","-","ЗАТ «КОНСАЛТИНГЮРСЕРВІС»123 283,49","2022-11-30",1,2380.81,2380.81,2380.81,0,0]
["380816__290",290,"Банк Січ",380816,"Інше","Київ","Інше",null,34092020001266,"основні засоби","Гривня",0,"2018-12-27","-","НІ",null,"-","-","-","-","ЗАТ «КОНСАЛТИНГЮРСЕРВІС»123 283,49","2022-11-30",1,2380.8200000000002,2380.8200000000002,2380.8200000000002,0,0]
["380816__291",291,"Банк Січ",380816,"Інше","Київ","Інше",null,34092020001267,"основні засоби","Гривня",0,"2018-12-27","-","НІ",null,"-","-","-","-","ЗАТ «КОНСАЛТИНГЮРСЕРВІС»123 283,49","2022-11-30",1,2382.66,2382.66,2382.66,0,0]
["380816__292",292,"Банк Січ",380816,"Інше","Київ","Інше",null,34092020001268,"основні засоби","Гривня",0,"2018-12-27","-","НІ",null,"-","-","-","-","ЗАТ «КОНСАЛТИНГЮРСЕРВІС»123 283,49","2022-11-30",1,2408.41,2408.41,2408.41,0,0]
["380816__293",293,"Банк Січ",380816,"Інше","Київ","Інше",null,34092020001269,"основні засоби","Гривня",0,"2018-12-27","-","НІ",null,"-","-","-","-","ЗАТ «КОНСАЛТИНГЮРСЕРВІС»123 283,49","2022-11-30",1,2419.67,2419.67,2419.67,0,0]
["380816__294",294,"Банк Січ",380816,"Інше","Київ","Інше",null,34092020001270,"основні засоби","Гривня",0,"2018-12-27","-","НІ",null,"-","-","-","-","ЗАТ «КОНСАЛТИНГЮРСЕРВІС»123 283,49","2022-11-30",1,2434.2399999999998,2434.2399999999998,2434.2399999999998,0,0]
["380816__295",295,"Банк Січ",380816,"Інше","Київ","Інше",null,34092020001271,"основні засоби","Гривня",0,"2018-12-27","-","НІ",null,"-","-","-","-","ЗАТ «КОНСАЛТИНГЮРСЕРВІС»123 283,49","2022-11-30",1,2442.71,2442.71,2442.71,0,0]
["380816__296",296,"Банк Січ",380816,"Інше","Київ","Інше",null,34092020001272,"основні засоби","Гривня",0,"2018-12-27","-","НІ",null,"-","-","-","-","ЗАТ «КОНСАЛТИНГЮРСЕРВІС»123 283,49","2022-11-30",1,2500.8000000000002,2500.8000000000002,2500.8000000000002,0,0]
["380816__297",297,"Банк Січ",380816,"Інше","Київ","Інше",null,34092020001273,"основні засоби","Гривня",0,"2018-12-27","-","НІ",null,"-","-","-","-","ЗАТ «КОНСАЛТИНГЮРСЕРВІС»123 283,49","2022-11-30",1,2546.7199999999998,2546.7199999999998,2546.7199999999998,0,0]
["380816__298",298,"Банк Січ",380816,"Інше","Київ","Інше",null,34092020001274,"основні засоби","Гривня",0,"2018-12-27","-","НІ",null,"-","-","-","-","ЗАТ «КОНСАЛТИНГЮРСЕРВІС»123 283,49","2022-11-30",1,2565.84,2565.84,2565.84,0,0]
["380816__299",299,"Банк Січ",380816,"Інше","Київ","Інше",null,34092020001275,"основні засоби","Гривня",0,"2018-12-27","-","НІ",null,"-","-","-","-","ЗАТ «КОНСАЛТИНГЮРСЕРВІС»123 283,49","2022-11-30",3930,2577.88,2577.88,2577.88,0,0]
["380816__300",300,"Банк Січ",380816,"Інше","Київ","Інше",null,34092020001276,"основні засоби","Гривня",0,"2018-12-27","-","НІ",null,"-","-","-","-","ЗАТ «КОНСАЛТИНГЮРСЕРВІС»123 283,49","2022-11-30",3930,2577.88,2577.88,2577.88,0,0]
["380816__301",301,"Банк Січ",380816,"Інше","Київ","Інше",null,34092020001277,"основні засоби","Гривня",0,"2018-12-27","-","НІ",null,"-","-","-","-","ЗАТ «КОНСАЛТИНГЮРСЕРВІС»123 283,49","2022-11-30",3930,2577.88,2577.88,2577.88,0,0]
["380816__302",302,"Банк Січ",380816,"Інше","Київ","Інше",null,34092020001278,"основні засоби","Гривня",0,"2018-12-27","-","НІ",null,"-","-","-","-","ЗАТ «КОНСАЛТИНГЮРСЕРВІС»123 283,49","2022-11-30",3930,2577.88,2577.88,2577.88,0,0]
["380816__303",303,"Банк Січ",380816,"Інше","Київ","Інше",null,34092020001279,"основні засоби","Гривня",0,"2018-12-27","-","НІ",null,"-","-","-","-","ЗАТ «КОНСАЛТИНГЮРСЕРВІС»123 283,49","2022-11-30",1,2603.67,2603.67,2603.67,0,0]
["380816__304",304,"Банк Січ",380816,"Інше","Київ","Інше",null,34092020001280,"основні засоби","Гривня",0,"2018-12-27","-","НІ",null,"-","-","-","-","ЗАТ «КОНСАЛТИНГЮРСЕРВІС»123 283,49","2022-11-30",1,2611.73,2611.73,2611.73,0,0]
["380816__305",305,"Банк Січ",380816,"Інше","Київ","Інше",null,34092020001281,"основні засоби","Гривня",0,"2018-12-27","-","НІ",null,"-","-","-","-","ЗАТ «КОНСАЛТИНГЮРСЕРВІС»123 283,49","2022-11-30",1,2622.08,2622.08,2622.08,0,0]
["380816__306",306,"Банк Січ",380816,"Інше","Київ","Інше",null,34092020001282,"основні засоби","Гривня",0,"2018-12-27","-","НІ",null,"-","-","-","-","ЗАТ «КОНСАЛТИНГЮРСЕРВІС»123 283,49","2022-11-30",1,2623.53,2623.53,2623.53,0,0]
["380816__307",307,"Банк Січ",380816,"Інше","Київ","Інше",null,34092020001283,"основні засоби","Гривня",0,"2018-12-27","-","НІ",null,"-","-","-","-","ЗАТ «КОНСАЛТИНГЮРСЕРВІС»123 283,49","2022-11-30",1,2685.27,2685.27,2685.27,0,0]
["380816__308",308,"Банк Січ",380816,"Інше","Київ","Інше",null,34092020001284,"основні засоби","Гривня",0,"2018-12-27","-","НІ",null,"-","-","-","-","ЗАТ «КОНСАЛТИНГЮРСЕРВІС»123 283,49","2022-11-30",1,2687.27,2687.27,2687.27,0,0]
["380816__309",309,"Банк Січ",380816,"Інше","Київ","Інше",null,34092020001285,"основні засоби","Гривня",0,"2018-12-27","-","НІ",null,"-","-","-","-","ЗАТ «КОНСАЛТИНГЮРСЕРВІС»123 283,49","2022-11-30",1,2714.31,2714.31,2714.31,0,0]
["380816__310",310,"Банк Січ",380816,"Інше","Київ","Інше",null,34092020001286,"основні засоби","Гривня",0,"2018-12-27","-","НІ",null,"-","-","-","-","ЗАТ «КОНСАЛТИНГЮРСЕРВІС»123 283,49","2022-11-30",1,2736.61,2736.61,2736.61,0,0]
["380816__311",311,"Банк Січ",380816,"Інше","Київ","Інше",null,34092020001287,"основні засоби","Гривня",0,"2018-12-27","-","НІ",null,"-","-","-","-","ЗАТ «КОНСАЛТИНГЮРСЕРВІС»123 283,49","2022-11-30",1,2738.93,2738.93,2738.93,0,0]
["380816__312",312,"Банк Січ",380816,"Інше","Київ","Інше",null,34092020001288,"основні засоби","Гривня",0,"2018-12-27","-","НІ",null,"-","-","-","-","ЗАТ «КОНСАЛТИНГЮРСЕРВІС»123 283,49","2022-11-30",1,2769.11,2769.11,2769.11,0,0]
["380816__313",313,"Банк Січ",380816,"Інше","Київ","Інше",null,34092020001289,"основні засоби","Гривня",0,"2018-12-27","-","НІ",null,"-","-","-","-","ЗАТ «КОНСАЛТИНГЮРСЕРВІС»123 283,49","2022-11-30",1,2785.04,2785.04,2785.04,0,0]
["380816__314",314,"Банк Січ",380816,"Інше","Київ","Інше",null,34092020001290,"основні засоби","Гривня",0,"2018-12-27","-","НІ",null,"-","-","-","-","ЗАТ «КОНСАЛТИНГЮРСЕРВІС»123 283,49","2022-11-30",1,2786.94,2786.94,2786.94,0,0]
["380816__315",315,"Банк Січ",380816,"Інше","Київ","Інше",null,34092020001291,"основні засоби","Гривня",0,"2018-12-27","-","НІ",null,"-","-","-","-","ЗАТ «КОНСАЛТИНГЮРСЕРВІС»123 283,49","2022-11-30",1,2791.09,2791.09,2791.09,0,0]
["380816__316",316,"Банк Січ",380816,"Інше","Київ","Інше",null,34092020001292,"основні засоби","Гривня",0,"2018-12-27","-","НІ",null,"-","-","-","-","ЗАТ «КОНСАЛТИНГЮРСЕРВІС»123 283,49","2022-11-30",1,2796.53,2796.53,2796.53,0,0]
["380816__317",317,"Банк Січ",380816,"Інше","Київ","Інше",null,34092020001293,"основні засоби","Гривня",0,"2018-12-27","-","НІ",null,"-","-","-","-","ЗАТ «КОНСАЛТИНГЮРСЕРВІС»123 283,49","2022-11-30",1,2808.73,2808.73,2808.73,0,0]
["380816__318",318,"Банк Січ",380816,"Інше","Київ","Інше",null,34092020001294,"основні засоби","Гривня",0,"2018-12-27","-","НІ",null,"-","-","-","-","ЗАТ «КОНСАЛТИНГЮРСЕРВІС»123 283,49","2022-11-30",1,2818.02,2818.02,2818.02,0,0]
["380816__319",319,"Банк Січ",380816,"Інше","Київ","Інше",null,34092020001295,"основні засоби","Гривня",0,"2018-12-27","-","НІ",null,"-","-","-","-","ЗАТ «КОНСАЛТИНГЮРСЕРВІС»123 283,49","2022-11-30",1,2836.25,2836.25,2836.25,0,0]
["380816__320",320,"Банк Січ",380816,"Інше","Київ","Інше",null,34092020001296,"основні засоби","Гривня",0,"2018-12-27","-","НІ",null,"-","-","-","-","ЗАТ «КОНСАЛТИНГЮРСЕРВІС»123 283,49","2022-11-30",1,2856.14,2856.14,2856.14,0,0]
["380816__321",321,"Банк Січ",380816,"Інше","Київ","Інше",null,34092020001297,"основні засоби","Гривня",0,"2018-12-27","-","НІ",null,"-","-","-","-","ЗАТ «КОНСАЛТИНГЮРСЕРВІС»123 283,49","2022-11-30",1,2897.97,2897.97,2897.97,0,0]
["380816__322",322,"Банк Січ",380816,"Інше","Київ","Інше",null,34092020001298,"основні засоби","Гривня",0,"2018-12-27","-","НІ",null,"-","-","-","-","ЗАТ «КОНСАЛТИНГЮРСЕРВІС»123 283,49","2022-11-30",1,2965,2965,2965,0,0]
["380816__323",323,"Банк Січ",380816,"Інше","Київ","Інше",null,34092020001299,"основні засоби","Гривня",0,"2018-12-27","-","НІ",null,"-","-","-","-","ЗАТ «КОНСАЛТИНГЮРСЕРВІС»123 283,49","2022-11-30",1,2988.78,2988.78,2988.78,0,0]
["380816__324",324,"Банк Січ",380816,"Інше","Київ","Інше",null,34092020001300,"основні засоби","Гривня",0,"2018-12-27","-","НІ",null,"-","-","-","-","ЗАТ «КОНСАЛТИНГЮРСЕРВІС»123 283,49","2022-11-30",1,3044.67,3044.67,3044.67,0,0]
["380816__325",325,"Банк Січ",380816,"Інше","Київ","Інше",null,34092020001301,"основні засоби","Гривня",0,"2018-12-27","-","НІ",null,"-","-","-","-","ЗАТ «КОНСАЛТИНГЮРСЕРВІС»123 283,49","2022-11-30",1,3092.99,3092.99,3092.99,0,0]
["380816__326",326,"Банк Січ",380816,"Інше","Київ","Інше",null,34092020001302,"основні засоби","Гривня",0,"2018-12-27","-","НІ",null,"-","-","-","-","ЗАТ «КОНСАЛТИНГЮРСЕРВІС»123 283,49","2022-11-30",1,3157.5,3157.5,3157.5,0,0]
["380816__327",327,"Банк Січ",380816,"Інше","Київ","Інше",null,34092020001303,"основні засоби","Гривня",0,"2018-12-27","-","НІ",null,"-","-","-","-","ЗАТ «КОНСАЛТИНГЮРСЕРВІС»123 283,49","2022-11-30",1,3168.71,3168.71,3168.71,0,0]
["380816__328",328,"Банк Січ",380816,"Інше","Київ","Інше",null,34092020001304,"основні засоби","Гривня",0,"2018-12-27","-","НІ",null,"-","-","-","-","ЗАТ «КОНСАЛТИНГЮРСЕРВІС»123 283,49","2022-11-30",4850,3181.13,3181.13,3181.13,0,0]
["380816__329",329,"Банк Січ",380816,"Інше","Київ","Інше",null,34092020001305,"основні засоби","Гривня",0,"2018-12-27","-","НІ",null,"-","-","-","-","ЗАТ «КОНСАЛТИНГЮРСЕРВІС»123 283,49","2022-11-30",1,3181.71,3181.71,3181.71,0,0]
["380816__330",330,"Банк Січ",380816,"Інше","Київ","Інше",null,34092020001306,"основні засоби","Гривня",0,"2018-12-27","-","НІ",null,"-","-","-","-","ЗАТ «КОНСАЛТИНГЮРСЕРВІС»123 283,49","2022-11-30",1,3238.53,3238.53,3238.53,0,0]
["380816__331",331,"Банк Січ",380816,"Інше","Київ","Інше",null,34092020001307,"основні засоби","Гривня",0,"2018-12-27","-","НІ",null,"-","-","-","-","ЗАТ «КОНСАЛТИНГЮРСЕРВІС»123 283,49","2022-11-30",1,3245.74,3245.74,3245.74,0,0]
["380816__332",332,"Банк Січ",380816,"Інше","Київ","Інше",null,34092020001308,"основні засоби","Гривня",0,"2018-12-27","-","НІ",null,"-","-","-","-","ЗАТ «КОНСАЛТИНГЮРСЕРВІС»123 283,49","2022-11-30",266,3245.91,3245.91,3245.91,0,0]
["380816__333",333,"Банк Січ",380816,"Інше","Київ","Інше",null,34092020001309,"основні засоби","Гривня",0,"2018-12-27","-","НІ",null,"-","-","-","-","ЗАТ «КОНСАЛТИНГЮРСЕРВІС»123 283,49","2022-11-30",1,3246.75,3246.75,3246.75,0,0]
["380816__334",334,"Банк Січ",380816,"Інше","Київ","Інше",null,34092020001310,"основні засоби","Гривня",0,"2018-12-27","-","НІ",null,"-","-","-","-","ЗАТ «КОНСАЛТИНГЮРСЕРВІС»123 283,49","2022-11-30",1,3255.9,3255.9,3255.9,0,0]
["380816__335",335,"Банк Січ",380816,"Інше","Київ","Інше",null,34092020001311,"основні засоби","Гривня",0,"2018-12-27","-","НІ",null,"-","-","-","-","ЗАТ «КОНСАЛТИНГЮРСЕРВІС»123 283,49","2022-11-30",1,3258.03,3258.03,3258.03,0,0]
["380816__336",336,"Банк Січ",380816,"Інше","Київ","Інше",null,34092020001312,"основні засоби","Гривня",0,"2018-12-27","-","НІ",null,"-","-","-","-","ЗАТ «КОНСАЛТИНГЮРСЕРВІС»123 283,49","2022-11-30",1,3270.44,3270.44,3270.44,0,0]
["380816__337",337,"Банк Січ",380816,"Інше","Київ","Інше",null,34092020001313,"основні засоби","Гривня",0,"2018-12-27","-","НІ",null,"-","-","-","-","ЗАТ «КОНСАЛТИНГЮРСЕРВІС»123 283,49","2022-11-30",1,3293.45,3293.45,3293.45,0,0]
["380816__338",338,"Банк Січ",380816,"Інше","Київ","Інше",null,34092020001314,"основні засоби","Гривня",0,"2018-12-27","-","НІ",null,"-","-","-","-","ЗАТ «КОНСАЛТИНГЮРСЕРВІС»123 283,49","2022-11-30",1,3295.86,3295.86,3295.86,0,0]
["380816__339",339,"Банк Січ",380816,"Інше","Київ","Інше",null,34092020001315,"основні засоби","Гривня",0,"2018-12-27","-","НІ",null,"-","-","-","-","ЗАТ «КОНСАЛТИНГЮРСЕРВІС»123 283,49","2022-11-30",1,3301.09,3301.09,3301.09,0,0]
["380816__340",340,"Банк Січ",380816,"Інше","Київ","Інше",null,34092020001316,"основні засоби","Гривня",0,"2018-12-27","-","НІ",null,"-","-","-","-","ЗАТ «КОНСАЛТИНГЮРСЕРВІС»123 283,49","2022-11-30",334,3306.16,3306.16,3306.16,0,0]
["380816__341",341,"Банк Січ",380816,"Інше","Київ","Інше",null,34092020001317,"основні засоби","Гривня",0,"2018-12-27","-","НІ",null,"-","-","-","-","ЗАТ «КОНСАЛТИНГЮРСЕРВІС»123 283,49","2022-11-30",1,3306.41,3306.41,3306.41,0,0]
["380816__342",342,"Банк Січ",380816,"Інше","Київ","Інше",null,34092020001318,"основні засоби","Гривня",0,"2018-12-27","-","НІ",null,"-","-","-","-","ЗАТ «КОНСАЛТИНГЮРСЕРВІС»123 283,49","2022-11-30",1,3348.82,3348.82,3348.82,0,0]
["380816__343",343,"Банк Січ",380816,"Інше","Київ","Інше",null,34092020001319,"основні засоби","Гривня",0,"2018-12-27","-","НІ",null,"-","-","-","-","ЗАТ «КОНСАЛТИНГЮРСЕРВІС»123 283,49","2022-11-30",1,3375.26,3375.26,3375.26,0,0]
["380816__344",344,"Банк Січ",380816,"Інше","Київ","Інше",null,34092020001320,"основні засоби","Гривня",0,"2018-12-27","-","НІ",null,"-","-","-","-","ЗАТ «КОНСАЛТИНГЮРСЕРВІС»123 283,49","2022-11-30",5159,3383.91,3383.91,3383.91,0,0]
["380816__345",345,"Банк Січ",380816,"Інше","Київ","Інше",null,34092020001321,"основні засоби","Гривня",0,"2018-12-27","-","НІ",null,"-","-","-","-","ЗАТ «КОНСАЛТИНГЮРСЕРВІС»123 283,49","2022-11-30",1,3399.96,3399.96,3399.96,0,0]
["380816__346",346,"Банк Січ",380816,"Інше","Київ","Інше",null,34092020001322,"основні засоби","Гривня",0,"2018-12-27","-","НІ",null,"-","-","-","-","ЗАТ «КОНСАЛТИНГЮРСЕРВІС»123 283,49","2022-11-30",1,3406.38,3406.38,3406.38,0,0]
["380816__347",347,"Банк Січ",380816,"Інше","Київ","Інше",null,34092020001323,"основні засоби","Гривня",0,"2018-12-27","-","НІ",null,"-","-","-","-","ЗАТ «КОНСАЛТИНГЮРСЕРВІС»123 283,49","2022-11-30",1,3443.79,3443.79,3443.79,0,0]
["380816__348",348,"Банк Січ",380816,"Інше","Київ","Інше",null,34092020001324,"основні засоби","Гривня",0,"2018-12-27","-","НІ",null,"-","-","-","-","ЗАТ «КОНСАЛТИНГЮРСЕРВІС»123 283,49","2022-11-30",1,3470.44,3470.44,3470.44,0,0]
["380816__349",349,"Банк Січ",380816,"Інше","Київ","Інше",null,34092020001325,"основні засоби","Гривня",0,"2018-12-27","-","НІ",null,"-","-","-","-","ЗАТ «КОНСАЛТИНГЮРСЕРВІС»123 283,49","2022-11-30",5293,3471.43,3471.43,3471.43,0,0]
["380816__350",350,"Банк Січ",380816,"Інше","Київ","Інше",null,34092020001326,"основні засоби","Гривня",0,"2018-12-27","-","НІ",null,"-","-","-","-","ЗАТ «КОНСАЛТИНГЮРСЕРВІС»123 283,49","2022-11-30",1,3541.98,3541.98,3541.98,0,0]
["380816__351",351,"Банк Січ",380816,"Інше","Київ","Інше",null,34092020001327,"основні засоби","Гривня",0,"2018-12-27","-","НІ",null,"-","-","-","-","ЗАТ «КОНСАЛТИНГЮРСЕРВІС»123 283,49","2022-11-30",1,3542.27,3542.27,3542.27,0,0]
["380816__352",352,"Банк Січ",380816,"Інше","Київ","Інше",null,34092020001328,"основні засоби","Гривня",0,"2018-12-27","-","НІ",null,"-","-","-","-","ЗАТ «КОНСАЛТИНГЮРСЕРВІС»123 283,49","2022-11-30",1,3596.09,3596.09,3596.09,0,0]
["380816__353",353,"Банк Січ",380816,"Інше","Київ","Інше",null,34092020001329,"основні засоби","Гривня",0,"2018-12-27","-","НІ",null,"-","-","-","-","ЗАТ «КОНСАЛТИНГЮРСЕРВІС»123 283,49","2022-11-30",1,3607.59,3607.59,3607.59,0,0]
["380816__354",354,"Банк Січ",380816,"Інше","Київ","Інше",null,34092020001330,"основні засоби","Гривня",0,"2018-12-27","-","НІ",null,"-","-","-","-","ЗАТ «КОНСАЛТИНГЮРСЕРВІС»123 283,49","2022-11-30",1,3612.24,3612.24,3612.24,0,0]
["380816__355",355,"Банк Січ",380816,"Інше","Київ","Інше",null,34092020001331,"основні засоби","Гривня",0,"2018-12-27","-","НІ",null,"-","-","-","-","ЗАТ «КОНСАЛТИНГЮРСЕРВІС»123 283,49","2022-11-30",1,3642.56,3642.56,3642.56,0,0]
["380816__356",356,"Банк Січ",380816,"Інше","Київ","Інше",null,34092020001332,"основні засоби","Гривня",0,"2018-12-27","-","НІ",null,"-","-","-","-","ЗАТ «КОНСАЛТИНГЮРСЕРВІС»123 283,49","2022-11-30",1,3647.07,3647.07,3647.07,0,0]
["380816__357",357,"Банк Січ",380816,"Інше","Київ","Інше",null,34092020001333,"основні засоби","Гривня",0,"2018-12-27","-","НІ",null,"-","-","-","-","ЗАТ «КОНСАЛТИНГЮРСЕРВІС»123 283,49","2022-11-30",2666,3655.65,3655.65,3655.65,0,0]
["380816__358",358,"Банк Січ",380816,"Інше","Київ","Інше",null,34092020001334,"основні засоби","Гривня",0,"2018-12-27","-","НІ",null,"-","-","-","-","ЗАТ «КОНСАЛТИНГЮРСЕРВІС»123 283,49","2022-11-30",5624,3688.94,3688.94,3688.94,0,0]
["380816__359",359,"Банк Січ",380816,"Інше","Київ","Інше",null,34092020001335,"основні засоби","Гривня",0,"2018-12-27","-","НІ",null,"-","-","-","-","ЗАТ «КОНСАЛТИНГЮРСЕРВІС»123 283,49","2022-11-30",1,3712.66,3712.66,3712.66,0,0]
["380816__360",360,"Банк Січ",380816,"Інше","Київ","Інше",null,34092020001336,"основні засоби","Гривня",0,"2018-12-27","-","НІ",null,"-","-","-","-","ЗАТ «КОНСАЛТИНГЮРСЕРВІС»123 283,49","2022-11-30",5690,3732.3,3732.3,3732.3,0,0]
["380816__361",361,"Банк Січ",380816,"Інше","Київ","Інше",null,34092020001337,"основні засоби","Гривня",0,"2018-12-27","-","НІ",null,"-","-","-","-","ЗАТ «КОНСАЛТИНГЮРСЕРВІС»123 283,49","2022-11-30",3960,3801.88,3801.88,3801.88,0,0]
["380816__362",362,"Банк Січ",380816,"Інше","Київ","Інше",null,34092020001338,"основні засоби","Гривня",0,"2018-12-27","-","НІ",null,"-","-","-","-","ЗАТ «КОНСАЛТИНГЮРСЕРВІС»123 283,49","2022-11-30",266,3802.85,3802.85,3802.85,0,0]
["380816__363",363,"Банк Січ",380816,"Інше","Київ","Інше",null,34092020001339,"основні засоби","Гривня",0,"2018-12-27","-","НІ",null,"-","-","-","-","ЗАТ «КОНСАЛТИНГЮРСЕРВІС»123 283,49","2022-11-30",1,3806.72,3806.72,3806.72,0,0]
["380816__364",364,"Банк Січ",380816,"Інше","Київ","Інше",null,34092020001340,"основні засоби","Гривня",0,"2018-12-27","-","НІ",null,"-","-","-","-","ЗАТ «КОНСАЛТИНГЮРСЕРВІС»123 283,49","2022-11-30",1,3841.01,3841.01,3841.01,0,0]
["380816__365",365,"Банк Січ",380816,"Інше","Київ","Інше",null,34092020001341,"основні засоби","Гривня",0,"2018-12-27","-","НІ",null,"-","-","-","-","ЗАТ «КОНСАЛТИНГЮРСЕРВІС»123 283,49","2022-11-30",1,3855.02,3855.02,3855.02,0,0]
["380816__366",366,"Банк Січ",380816,"Інше","Київ","Інше",null,34092020001342,"основні засоби","Гривня",0,"2018-12-27","-","НІ",null,"-","-","-","-","ЗАТ «КОНСАЛТИНГЮРСЕРВІС»123 283,49","2022-11-30",1,3872.91,3872.91,3872.91,0,0]
["380816__367",367,"Банк Січ",380816,"Інше","Київ","Інше",null,34092020001343,"основні засоби","Гривня",0,"2018-12-27","-","НІ",null,"-","-","-","-","ЗАТ «КОНСАЛТИНГЮРСЕРВІС»123 283,49","2022-11-30",1,3944.38,3944.38,3944.38,0,0]
["380816__368",368,"Банк Січ",380816,"Інше","Київ","Інше",null,34092020001344,"основні засоби","Гривня",0,"2018-12-27","-","НІ",null,"-","-","-","-","ЗАТ «КОНСАЛТИНГЮРСЕРВІС»123 283,49","2022-11-30",1,3947.61,3947.61,3947.61,0,0]
["380816__369",369,"Банк Січ",380816,"Інше","Київ","Інше",null,34092020001345,"основні засоби","Гривня",0,"2018-12-27","-","НІ",null,"-","-","-","-","ЗАТ «КОНСАЛТИНГЮРСЕРВІС»123 283,49","2022-11-30",6035,3958.61,3958.61,3958.61,0,0]
["380816__370",370,"Банк Січ",380816,"Інше","Київ","Інше",null,34092020001346,"основні засоби","Гривня",0,"2018-12-27","-","НІ",null,"-","-","-","-","ЗАТ «КОНСАЛТИНГЮРСЕРВІС»123 283,49","2022-11-30",1,3988.93,3988.93,3988.93,0,0]
["380816__371",371,"Банк Січ",380816,"Інше","Київ","Інше",null,34092020001347,"основні засоби","Гривня",0,"2018-12-27","-","НІ",null,"-","-","-","-","ЗАТ «КОНСАЛТИНГЮРСЕРВІС»123 283,49","2022-11-30",1,4212.6099999999997,4212.6099999999997,4212.6099999999997,0,0]
["380816__372",372,"Банк Січ",380816,"Інше","Київ","Інше",null,34092020001348,"основні засоби","Гривня",0,"2018-12-27","-","НІ",null,"-","-","-","-","ЗАТ «КОНСАЛТИНГЮРСЕРВІС»123 283,49","2022-11-30",1,4213.83,4213.83,4213.83,0,0]
["380816__373",373,"Банк Січ",380816,"Інше","Київ","Інше",null,34092020001349,"основні засоби","Гривня",0,"2018-12-27","-","НІ",null,"-","-","-","-","ЗАТ «КОНСАЛТИНГЮРСЕРВІС»123 283,49","2022-11-30",1,4230.16,4230.16,4230.16,0,0]
["380816__374",374,"Банк Січ",380816,"Інше","Київ","Інше",null,34092020001350,"основні засоби","Гривня",0,"2018-12-27","-","НІ",null,"-","-","-","-","ЗАТ «КОНСАЛТИНГЮРСЕРВІС»123 283,49","2022-11-30",1,4234.7,4234.7,4234.7,0,0]
["380816__375",375,"Банк Січ",380816,"Інше","Київ","Інше",null,34092020001351,"основні засоби","Гривня",0,"2018-12-27","-","НІ",null,"-","-","-","-","ЗАТ «КОНСАЛТИНГЮРСЕРВІС»123 283,49","2022-11-30",1,4289.12,4289.12,4289.12,0,0]
["380816__376",376,"Банк Січ",380816,"Інше","Київ","Інше",null,34092020001352,"основні засоби","Гривня",0,"2018-12-27","-","НІ",null,"-","-","-","-","ЗАТ «КОНСАЛТИНГЮРСЕРВІС»123 283,49","2022-11-30",1,4359.4399999999996,4359.4399999999996,4359.4399999999996,0,0]
["380816__377",377,"Банк Січ",380816,"Інше","Київ","Інше",null,34092020001353,"основні засоби","Гривня",0,"2018-12-27","-","НІ",null,"-","-","-","-","ЗАТ «КОНСАЛТИНГЮРСЕРВІС»123 283,49","2022-11-30",1,4369.7299999999996,4369.7299999999996,4369.7299999999996,0,0]
["380816__378",378,"Банк Січ",380816,"Інше","Київ","Інше",null,34092020001354,"основні засоби","Гривня",0,"2018-12-27","-","НІ",null,"-","-","-","-","ЗАТ «КОНСАЛТИНГЮРСЕРВІС»123 283,49","2022-11-30",1,4370.66,4370.66,4370.66,0,0]
["380816__379",379,"Банк Січ",380816,"Інше","Київ","Інше",null,34092020001355,"основні засоби","Гривня",0,"2018-12-27","-","НІ",null,"-","-","-","-","ЗАТ «КОНСАЛТИНГЮРСЕРВІС»123 283,49","2022-11-30",1,4371.12,4371.12,4371.12,0,0]
["380816__380",380,"Банк Січ",380816,"Інше","Київ","Інше",null,34092020001356,"основні засоби","Гривня",0,"2018-12-27","-","НІ",null,"-","-","-","-","ЗАТ «КОНСАЛТИНГЮРСЕРВІС»123 283,49","2022-11-30",1,4390,4390,4390,0,0]
["380816__381",381,"Банк Січ",380816,"Інше","Київ","Інше",null,34092020001357,"основні засоби","Гривня",0,"2018-12-27","-","НІ",null,"-","-","-","-","ЗАТ «КОНСАЛТИНГЮРСЕРВІС»123 283,49","2022-11-30",1,4392.5200000000004,4392.5200000000004,4392.5200000000004,0,0]
["380816__382",382,"Банк Січ",380816,"Інше","Київ","Інше",null,34092020001358,"основні засоби","Гривня",0,"2018-12-27","-","НІ",null,"-","-","-","-","ЗАТ «КОНСАЛТИНГЮРСЕРВІС»123 283,49","2022-11-30",1,4397.09,4397.09,4397.09,0,0]
["380816__383",383,"Банк Січ",380816,"Інше","Київ","Інше",null,34092020001359,"основні засоби","Гривня",0,"2018-12-27","-","НІ",null,"-","-","-","-","ЗАТ «КОНСАЛТИНГЮРСЕРВІС»123 283,49","2022-11-30",1,4435.3999999999996,4435.3999999999996,4435.3999999999996,0,0]
["380816__384",384,"Банк Січ",380816,"Інше","Київ","Інше",null,34092020001360,"основні засоби","Гривня",0,"2018-12-27","-","НІ",null,"-","-","-","-","ЗАТ «КОНСАЛТИНГЮРСЕРВІС»123 283,49","2022-11-30",1,4436.42,4436.42,4436.42,0,0]
["380816__385",385,"Банк Січ",380816,"Інше","Київ","Інше",null,34092020001361,"основні засоби","Гривня",0,"2018-12-27","-","НІ",null,"-","-","-","-","ЗАТ «КОНСАЛТИНГЮРСЕРВІС»123 283,49","2022-11-30",1,4480.3599999999997,4480.3599999999997,4480.3599999999997,0,0]
["380816__386",386,"Банк Січ",380816,"Інше","Київ","Інше",null,34092020001362,"основні засоби","Гривня",0,"2018-12-27","-","НІ",null,"-","-","-","-","ЗАТ «КОНСАЛТИНГЮРСЕРВІС»123 283,49","2022-11-30",1,4493.62,4493.62,4493.62,0,0]
["380816__387",387,"Банк Січ",380816,"Інше","Київ","Інше",null,34092020001363,"основні засоби","Гривня",0,"2018-12-27","-","НІ",null,"-","-","-","-","ЗАТ «КОНСАЛТИНГЮРСЕРВІС»123 283,49","2022-11-30",1,4526.74,4526.74,4526.74,0,0]
["380816__388",388,"Банк Січ",380816,"Інше","Київ","Інше",null,34092020001364,"основні засоби","Гривня",0,"2018-12-27","-","НІ",null,"-","-","-","-","ЗАТ «КОНСАЛТИНГЮРСЕРВІС»123 283,49","2022-11-30",1,4528.55,4528.55,4528.55,0,0]
["380816__389",389,"Банк Січ",380816,"Інше","Київ","Інше",null,34092020001365,"основні засоби","Гривня",0,"2018-12-27","-","НІ",null,"-","-","-","-","ЗАТ «КОНСАЛТИНГЮРСЕРВІС»123 283,49","2022-11-30",1,4532.3999999999996,4532.3999999999996,4532.3999999999996,0,0]
["380816__390",390,"Банк Січ",380816,"Інше","Київ","Інше",null,34092020001366,"основні засоби","Гривня",0,"2018-12-27","-","НІ",null,"-","-","-","-","ЗАТ «КОНСАЛТИНГЮРСЕРВІС»123 283,49","2022-11-30",1,4557.92,4557.92,4557.92,0,0]
["380816__391",391,"Банк Січ",380816,"Інше","Київ","Інше",null,34092020001367,"основні засоби","Гривня",0,"2018-12-27","-","НІ",null,"-","-","-","-","ЗАТ «КОНСАЛТИНГЮРСЕРВІС»123 283,49","2022-11-30",1,4560.43,4560.43,4560.43,0,0]
["380816__392",392,"Банк Січ",380816,"Інше","Київ","Інше",null,34092020001368,"основні засоби","Гривня",0,"2018-12-27","-","НІ",null,"-","-","-","-","ЗАТ «КОНСАЛТИНГЮРСЕРВІС»123 283,49","2022-11-30",1,4583.45,4583.45,4583.45,0,0]
["380816__393",393,"Банк Січ",380816,"Інше","Київ","Інше",null,34092020001369,"основні засоби","Гривня",0,"2018-12-27","-","НІ",null,"-","-","-","-","ЗАТ «КОНСАЛТИНГЮРСЕРВІС»123 283,49","2022-11-30",334,4586.03,4586.03,4586.03,0,0]
["380816__394",394,"Банк Січ",380816,"Інше","Київ","Інше",null,34092020001370,"основні засоби","Гривня",0,"2018-12-27","-","НІ",null,"-","-","-","-","ЗАТ «КОНСАЛТИНГЮРСЕРВІС»123 283,49","2022-11-30",334,4586.03,4586.03,4586.03,0,0]
["380816__395",395,"Банк Січ",380816,"Інше","Київ","Інше",null,34092020001371,"основні засоби","Гривня",0,"2018-12-27","-","НІ",null,"-","-","-","-","ЗАТ «КОНСАЛТИНГЮРСЕРВІС»123 283,49","2022-11-30",334,4586.03,4586.03,4586.03,0,0]
["380816__396",396,"Банк Січ",380816,"Інше","Київ","Інше",null,34092020001372,"основні засоби","Гривня",0,"2018-12-27","-","НІ",null,"-","-","-","-","ЗАТ «КОНСАЛТИНГЮРСЕРВІС»123 283,49","2022-11-30",334,4586.03,4586.03,4586.03,0,0]
["380816__397",397,"Банк Січ",380816,"Інше","Київ","Інше",null,34092020001373,"основні засоби","Гривня",0,"2018-12-27","-","НІ",null,"-","-","-","-","ЗАТ «КОНСАЛТИНГЮРСЕРВІС»123 283,49","2022-11-30",1,4590.2,4590.2,4590.2,0,0]
["380816__398",398,"Банк Січ",380816,"Інше","Київ","Інше",null,34092020001374,"основні засоби","Гривня",0,"2018-12-27","-","НІ",null,"-","-","-","-","ЗАТ «КОНСАЛТИНГЮРСЕРВІС»123 283,49","2022-11-30",1,4592.12,4592.12,4592.12,0,0]
["380816__399",399,"Банк Січ",380816,"Інше","Київ","Інше",null,34092020001375,"основні засоби","Гривня",0,"2018-12-27","-","НІ",null,"-","-","-","-","ЗАТ «КОНСАЛТИНГЮРСЕРВІС»123 283,49","2022-11-30",1,4663.37,4663.37,4663.37,0,0]
["380816__400",400,"Банк Січ",380816,"Інше","Київ","Інше",null,34092020001376,"основні засоби","Гривня",0,"2018-12-27","-","НІ",null,"-","-","-","-","ЗАТ «КОНСАЛТИНГЮРСЕРВІС»123 283,49","2022-11-30",7151,4690.1099999999997,4690.1099999999997,4690.1099999999997,0,0]
["380816__401",401,"Банк Січ",380816,"Інше","Київ","Інше",null,34092020001377,"основні засоби","Гривня",0,"2018-12-27","-","НІ",null,"-","-","-","-","ЗАТ «КОНСАЛТИНГЮРСЕРВІС»123 283,49","2022-11-30",1,4690.32,4690.32,4690.32,0,0]
["380816__402",402,"Банк Січ",380816,"Інше","Київ","Інше",null,34092020001378,"основні засоби","Гривня",0,"2018-12-27","-","НІ",null,"-","-","-","-","ЗАТ «КОНСАЛТИНГЮРСЕРВІС»123 283,49","2022-11-30",1,4794.26,4794.26,4794.26,0,0]
["380816__403",403,"Банк Січ",380816,"Інше","Київ","Інше",null,34092020001379,"основні засоби","Гривня",0,"2018-12-27","-","НІ",null,"-","-","-","-","ЗАТ «КОНСАЛТИНГЮРСЕРВІС»123 283,49","2022-11-30",1,4813.92,4813.92,4813.92,0,0]
["380816__404",404,"Банк Січ",380816,"Інше","Київ","Інше",null,34092020001380,"основні засоби","Гривня",0,"2018-12-27","-","НІ",null,"-","-","-","-","ЗАТ «КОНСАЛТИНГЮРСЕРВІС»123 283,49","2022-11-30",1,4817.05,4817.05,4817.05,0,0]
["380816__405",405,"Банк Січ",380816,"Інше","Київ","Інше",null,34092020001381,"основні засоби","Гривня",0,"2018-12-27","-","НІ",null,"-","-","-","-","ЗАТ «КОНСАЛТИНГЮРСЕРВІС»123 283,49","2022-11-30",1,4836.53,4836.53,4836.53,0,0]
["380816__406",406,"Банк Січ",380816,"Інше","Київ","Інше",null,34092020001382,"основні засоби","Гривня",0,"2018-12-27","-","НІ",null,"-","-","-","-","ЗАТ «КОНСАЛТИНГЮРСЕРВІС»123 283,49","2022-11-30",1,4853.5,4853.5,4853.5,0,0]
["380816__407",407,"Банк Січ",380816,"Інше","Київ","Інше",null,34092020001383,"основні засоби","Гривня",0,"2018-12-27","-","НІ",null,"-","-","-","-","ЗАТ «КОНСАЛТИНГЮРСЕРВІС»123 283,49","2022-11-30",1,4910.42,4910.42,4910.42,0,0]
["380816__408",408,"Банк Січ",380816,"Інше","Київ","Інше",null,34092020001384,"основні засоби","Гривня",0,"2018-12-27","-","НІ",null,"-","-","-","-","ЗАТ «КОНСАЛТИНГЮРСЕРВІС»123 283,49","2022-11-30",1,4917.5200000000004,4917.5200000000004,4917.5200000000004,0,0]
["380816__409",409,"Банк Січ",380816,"Інше","Київ","Інше",null,34092020001385,"основні засоби","Гривня",0,"2018-12-27","-","НІ",null,"-","-","-","-","ЗАТ «КОНСАЛТИНГЮРСЕРВІС»123 283,49","2022-11-30",1,4924.46,4924.46,4924.46,0,0]
["380816__410",410,"Банк Січ",380816,"Інше","Київ","Інше",null,34092020001386,"основні засоби","Гривня",0,"2018-12-27","-","НІ",null,"-","-","-","-","ЗАТ «КОНСАЛТИНГЮРСЕРВІС»123 283,49","2022-11-30",1,4944.1499999999996,4944.1499999999996,4944.1499999999996,0,0]
["380816__411",411,"Банк Січ",380816,"Інше","Київ","Інше",null,34092020001387,"основні засоби","Гривня",0,"2018-12-27","-","НІ",null,"-","-","-","-","ЗАТ «КОНСАЛТИНГЮРСЕРВІС»123 283,49","2022-11-30",1,4951.4799999999996,4951.4799999999996,4951.4799999999996,0,0]
["380816__412",412,"Банк Січ",380816,"Інше","Київ","Інше",null,34092020001388,"основні засоби","Гривня",0,"2018-12-27","-","НІ",null,"-","-","-","-","ЗАТ «КОНСАЛТИНГЮРСЕРВІС»123 283,49","2022-11-30",1,4954.6099999999997,4954.6099999999997,4954.6099999999997,0,0]
["380816__413",413,"Банк Січ",380816,"Інше","Київ","Інше",null,34092020001389,"основні засоби","Гривня",0,"2018-12-27","-","НІ",null,"-","-","-","-","ЗАТ «КОНСАЛТИНГЮРСЕРВІС»123 283,49","2022-11-30",1,5035.63,5035.63,5035.63,0,0]
["380816__414",414,"Банк Січ",380816,"Інше","Київ","Інше",null,34092020001390,"основні засоби","Гривня",0,"2018-12-27","-","НІ",null,"-","-","-","-","ЗАТ «КОНСАЛТИНГЮРСЕРВІС»123 283,49","2022-11-30",1,5038.6099999999997,5038.6099999999997,5038.6099999999997,0,0]
["380816__415",415,"Банк Січ",380816,"Інше","Київ","Інше",null,34092020001391,"основні засоби","Гривня",0,"2018-12-27","-","НІ",null,"-","-","-","-","ЗАТ «КОНСАЛТИНГЮРСЕРВІС»123 283,49","2022-11-30",334,5069.59,5069.59,5069.59,0,0]
["380816__416",416,"Банк Січ",380816,"Інше","Київ","Інше",null,34092020001392,"основні засоби","Гривня",0,"2018-12-27","-","НІ",null,"-","-","-","-","ЗАТ «КОНСАЛТИНГЮРСЕРВІС»123 283,49","2022-11-30",1,5093.04,5093.04,5093.04,0,0]
["380816__417",417,"Банк Січ",380816,"Інше","Київ","Інше",null,34092020001393,"основні засоби","Гривня",0,"2018-12-27","-","НІ",null,"-","-","-","-","ЗАТ «КОНСАЛТИНГЮРСЕРВІС»123 283,49","2022-11-30",7811,5123.12,5123.12,5123.12,0,0]
["380816__418",418,"Банк Січ",380816,"Інше","Київ","Інше",null,34092020001394,"основні засоби","Гривня",0,"2018-12-27","-","НІ",null,"-","-","-","-","ЗАТ «КОНСАЛТИНГЮРСЕРВІС»123 283,49","2022-11-30",1,5128.1899999999996,5128.1899999999996,5128.1899999999996,0,0]
["380816__419",419,"Банк Січ",380816,"Інше","Київ","Інше",null,34092020001395,"основні засоби","Гривня",0,"2018-12-27","-","НІ",null,"-","-","-","-","ЗАТ «КОНСАЛТИНГЮРСЕРВІС»123 283,49","2022-11-30",1,5130.1899999999996,5130.1899999999996,5130.1899999999996,0,0]
["380816__420",420,"Банк Січ",380816,"Інше","Київ","Інше",null,34092020001396,"основні засоби","Гривня",0,"2018-12-27","-","НІ",null,"-","-","-","-","ЗАТ «КОНСАЛТИНГЮРСЕРВІС»123 283,49","2022-11-30",7861,5156.3100000000004,5156.3100000000004,5156.3100000000004,0,0]
["380816__421",421,"Банк Січ",380816,"Інше","Київ","Інше",null,34092020001397,"основні засоби","Гривня",0,"2018-12-27","-","НІ",null,"-","-","-","-","ЗАТ «КОНСАЛТИНГЮРСЕРВІС»123 283,49","2022-11-30",7861,5156.3100000000004,5156.3100000000004,5156.3100000000004,0,0]
["380816__422",422,"Банк Січ",380816,"Інше","Київ","Інше",null,34092020001398,"основні засоби","Гривня",0,"2018-12-27","-","НІ",null,"-","-","-","-","ЗАТ «КОНСАЛТИНГЮРСЕРВІС»123 283,49","2022-11-30",7861,5156.3100000000004,5156.3100000000004,5156.3100000000004,0,0]
["380816__423",423,"Банк Січ",380816,"Інше","Київ","Інше",null,34092020001399,"основні засоби","Гривня",0,"2018-12-27","-","НІ",null,"-","-","-","-","ЗАТ «КОНСАЛТИНГЮРСЕРВІС»123 283,49","2022-11-30",7861,5156.3100000000004,5156.3100000000004,5156.3100000000004,0,0]
["380816__424",424,"Банк Січ",380816,"Інше","Київ","Інше",null,34092020001400,"основні засоби","Гривня",0,"2018-12-27","-","НІ",null,"-","-","-","-","ЗАТ «КОНСАЛТИНГЮРСЕРВІС»123 283,49","2022-11-30",7861,5156.3100000000004,5156.3100000000004,5156.3100000000004,0,0]
["380816__425",425,"Банк Січ",380816,"Інше","Київ","Інше",null,34092020001401,"основні засоби","Гривня",0,"2018-12-27","-","НІ",null,"-","-","-","-","ЗАТ «КОНСАЛТИНГЮРСЕРВІС»123 283,49","2022-11-30",1,5184.3999999999996,5184.3999999999996,5184.3999999999996,0,0]
["380816__426",426,"Банк Січ",380816,"Інше","Київ","Інше",null,34092020001402,"основні засоби","Гривня",0,"2018-12-27","-","НІ",null,"-","-","-","-","ЗАТ «КОНСАЛТИНГЮРСЕРВІС»123 283,49","2022-11-30",7936,5204.9799999999996,5204.9799999999996,5204.9799999999996,0,0]
["380816__427",427,"Банк Січ",380816,"Інше","Київ","Інше",null,34092020001403,"основні засоби","Гривня",0,"2018-12-27","-","НІ",null,"-","-","-","-","ЗАТ «КОНСАЛТИНГЮРСЕРВІС»123 283,49","2022-11-30",7936,5204.9799999999996,5204.9799999999996,5204.9799999999996,0,0]
["380816__428",428,"Банк Січ",380816,"Інше","Київ","Інше",null,34092020001404,"основні засоби","Гривня",0,"2018-12-27","-","НІ",null,"-","-","-","-","ЗАТ «КОНСАЛТИНГЮРСЕРВІС»123 283,49","2022-11-30",7936,5204.9799999999996,5204.9799999999996,5204.9799999999996,0,0]
["380816__429",429,"Банк Січ",380816,"Інше","Київ","Інше",null,34092020001405,"основні засоби","Гривня",0,"2018-12-27","-","НІ",null,"-","-","-","-","ЗАТ «КОНСАЛТИНГЮРСЕРВІС»123 283,49","2022-11-30",7936,5205.24,5205.24,5205.24,0,0]
["380816__430",430,"Банк Січ",380816,"Інше","Київ","Інше",null,34092020001406,"основні засоби","Гривня",0,"2018-12-27","-","НІ",null,"-","-","-","-","ЗАТ «КОНСАЛТИНГЮРСЕРВІС»123 283,49","2022-11-30",1,5210.84,5210.84,5210.84,0,0]
["380816__431",431,"Банк Січ",380816,"Інше","Київ","Інше",null,34092020001407,"основні засоби","Гривня",0,"2018-12-27","-","НІ",null,"-","-","-","-","ЗАТ «КОНСАЛТИНГЮРСЕРВІС»123 283,49","2022-11-30",7951,5215.2700000000004,5215.2700000000004,5215.2700000000004,0,0]
["380816__432",432,"Банк Січ",380816,"Інше","Київ","Інше",null,34092020001408,"основні засоби","Гривня",0,"2018-12-27","-","НІ",null,"-","-","-","-","ЗАТ «КОНСАЛТИНГЮРСЕРВІС»123 283,49","2022-11-30",7965,5224.1499999999996,5224.1499999999996,5224.1499999999996,0,0]
["380816__433",433,"Банк Січ",380816,"Інше","Київ","Інше",null,34092020001409,"основні засоби","Гривня",0,"2018-12-27","-","НІ",null,"-","-","-","-","ЗАТ «КОНСАЛТИНГЮРСЕРВІС»123 283,49","2022-11-30",7965,5224.1499999999996,5224.1499999999996,5224.1499999999996,0,0]
["380816__434",434,"Банк Січ",380816,"Інше","Київ","Інше",null,34092020001410,"основні засоби","Гривня",0,"2018-12-27","-","НІ",null,"-","-","-","-","ЗАТ «КОНСАЛТИНГЮРСЕРВІС»123 283,49","2022-11-30",7965,5224.1499999999996,5224.1499999999996,5224.1499999999996,0,0]
["380816__435",435,"Банк Січ",380816,"Інше","Київ","Інше",null,34092020001411,"основні засоби","Гривня",0,"2018-12-27","-","НІ",null,"-","-","-","-","ЗАТ «КОНСАЛТИНГЮРСЕРВІС»123 283,49","2022-11-30",7965,5224.1499999999996,5224.1499999999996,5224.1499999999996,0,0]
["380816__436",436,"Банк Січ",380816,"Інше","Київ","Інше",null,34092020001412,"основні засоби","Гривня",0,"2018-12-27","-","НІ",null,"-","-","-","-","ЗАТ «КОНСАЛТИНГЮРСЕРВІС»123 283,49","2022-11-30",7965,5224.1499999999996,5224.1499999999996,5224.1499999999996,0,0]
["380816__437",437,"Банк Січ",380816,"Інше","Київ","Інше",null,34092020001413,"основні засоби","Гривня",0,"2018-12-27","-","НІ",null,"-","-","-","-","ЗАТ «КОНСАЛТИНГЮРСЕРВІС»123 283,49","2022-11-30",7969,5227.09,5227.09,5227.09,0,0]
["380816__438",438,"Банк Січ",380816,"Інше","Київ","Інше",null,34092020001414,"основні засоби","Гривня",0,"2018-12-27","-","НІ",null,"-","-","-","-","ЗАТ «КОНСАЛТИНГЮРСЕРВІС»123 283,49","2022-11-30",7969,5227.09,5227.09,5227.09,0,0]
["380816__439",439,"Банк Січ",380816,"Інше","Київ","Інше",null,34092020001415,"основні засоби","Гривня",0,"2018-12-27","-","НІ",null,"-","-","-","-","ЗАТ «КОНСАЛТИНГЮРСЕРВІС»123 283,49","2022-11-30",7969,5227.09,5227.09,5227.09,0,0]
["380816__440",440,"Банк Січ",380816,"Інше","Київ","Інше",null,34092020001416,"основні засоби","Гривня",0,"2018-12-27","-","НІ",null,"-","-","-","-","ЗАТ «КОНСАЛТИНГЮРСЕРВІС»123 283,49","2022-11-30",7969,5227.09,5227.09,5227.09,0,0]
["380816__441",441,"Банк Січ",380816,"Інше","Київ","Інше",null,34092020001417,"основні засоби","Гривня",0,"2018-12-27","-","НІ",null,"-","-","-","-","ЗАТ «КОНСАЛТИНГЮРСЕРВІС»123 283,49","2022-11-30",7969,5227.09,5227.09,5227.09,0,0]
["380816__442",442,"Банк Січ",380816,"Інше","Київ","Інше",null,34092020001418,"основні засоби","Гривня",0,"2018-12-27","-","НІ",null,"-","-","-","-","ЗАТ «КОНСАЛТИНГЮРСЕРВІС»123 283,49","2022-11-30",7969,5227.09,5227.09,5227.09,0,0]
["380816__443",443,"Банк Січ",380816,"Інше","Київ","Інше",null,34092020001419,"основні засоби","Гривня",0,"2018-12-27","-","НІ",null,"-","-","-","-","ЗАТ «КОНСАЛТИНГЮРСЕРВІС»123 283,49","2022-11-30",7969,5227.09,5227.09,5227.09,0,0]
["380816__444",444,"Банк Січ",380816,"Інше","Київ","Інше",null,34092020001420,"основні засоби","Гривня",0,"2018-12-27","-","НІ",null,"-","-","-","-","ЗАТ «КОНСАЛТИНГЮРСЕРВІС»123 283,49","2022-11-30",7969,5227.09,5227.09,5227.09,0,0]
["380816__445",445,"Банк Січ",380816,"Інше","Київ","Інше",null,34092020001421,"основні засоби","Гривня",0,"2018-12-27","-","НІ",null,"-","-","-","-","ЗАТ «КОНСАЛТИНГЮРСЕРВІС»123 283,49","2022-11-30",7969,5227.09,5227.09,5227.09,0,0]
["380816__446",446,"Банк Січ",380816,"Інше","Київ","Інше",null,34092020001422,"основні засоби","Гривня",0,"2018-12-27","-","НІ",null,"-","-","-","-","ЗАТ «КОНСАЛТИНГЮРСЕРВІС»123 283,49","2022-11-30",7969,5227.09,5227.09,5227.09,0,0]
["380816__447",447,"Банк Січ",380816,"Інше","Київ","Інше",null,34092020001423,"основні засоби","Гривня",0,"2018-12-27","-","НІ",null,"-","-","-","-","ЗАТ «КОНСАЛТИНГЮРСЕРВІС»123 283,49","2022-11-30",7983,5235.97,5235.97,5235.97,0,0]
["380816__448",448,"Банк Січ",380816,"Інше","Київ","Інше",null,34092020001424,"основні засоби","Гривня",0,"2018-12-27","-","НІ",null,"-","-","-","-","ЗАТ «КОНСАЛТИНГЮРСЕРВІС»123 283,49","2022-11-30",1,5237.1499999999996,5237.1499999999996,5237.1499999999996,0,0]
["380816__449",449,"Банк Січ",380816,"Інше","Київ","Інше",null,34092020001425,"основні засоби","Гривня",0,"2018-12-27","-","НІ",null,"-","-","-","-","ЗАТ «КОНСАЛТИНГЮРСЕРВІС»123 283,49","2022-11-30",8023,5262.22,5262.22,5262.22,0,0]
["380816__450",450,"Банк Січ",380816,"Інше","Київ","Інше",null,34092020001426,"основні засоби","Гривня",0,"2018-12-27","-","НІ",null,"-","-","-","-","ЗАТ «КОНСАЛТИНГЮРСЕРВІС»123 283,49","2022-11-30",8039,5272.82,5272.82,5272.82,0,0]
["380816__451",451,"Банк Січ",380816,"Інше","Київ","Інше",null,34092020001427,"основні засоби","Гривня",0,"2018-12-27","-","НІ",null,"-","-","-","-","ЗАТ «КОНСАЛТИНГЮРСЕРВІС»123 283,49","2022-11-30",8039,5272.82,5272.82,5272.82,0,0]
["380816__452",452,"Банк Січ",380816,"Інше","Київ","Інше",null,34092020001428,"основні засоби","Гривня",0,"2018-12-27","-","НІ",null,"-","-","-","-","ЗАТ «КОНСАЛТИНГЮРСЕРВІС»123 283,49","2022-11-30",8039,5272.82,5272.82,5272.82,0,0]
["380816__453",453,"Банк Січ",380816,"Інше","Київ","Інше",null,34092020001429,"основні засоби","Гривня",0,"2018-12-27","-","НІ",null,"-","-","-","-","ЗАТ «КОНСАЛТИНГЮРСЕРВІС»123 283,49","2022-11-30",1,5360.91,5360.91,5360.91,0,0]
["380816__454",454,"Банк Січ",380816,"Інше","Київ","Інше",null,34092020001430,"основні засоби","Гривня",0,"2018-12-27","-","НІ",null,"-","-","-","-","ЗАТ «КОНСАЛТИНГЮРСЕРВІС»123 283,49","2022-11-30",1,5363.2,5363.2,5363.2,0,0]
["380816__455",455,"Банк Січ",380816,"Інше","Київ","Інше",null,34092020001431,"основні засоби","Гривня",0,"2018-12-27","-","НІ",null,"-","-","-","-","ЗАТ «КОНСАЛТИНГЮРСЕРВІС»123 283,49","2022-11-30",1,5440.87,5440.87,5440.87,0,0]
["380816__456",456,"Банк Січ",380816,"Інше","Київ","Інше",null,34092020001432,"основні засоби","Гривня",0,"2018-12-27","-","НІ",null,"-","-","-","-","ЗАТ «КОНСАЛТИНГЮРСЕРВІС»123 283,49","2022-11-30",1,5450.37,5450.37,5450.37,0,0]
["380816__457",457,"Банк Січ",380816,"Інше","Київ","Інше",null,34092020001433,"основні засоби","Гривня",0,"2018-12-27","-","НІ",null,"-","-","-","-","ЗАТ «КОНСАЛТИНГЮРСЕРВІС»123 283,49","2022-11-30",1,5477.55,5477.55,5477.55,0,0]
["380816__458",458,"Банк Січ",380816,"Інше","Київ","Інше",null,34092020001434,"основні засоби","Гривня",0,"2018-12-27","-","НІ",null,"-","-","-","-","ЗАТ «КОНСАЛТИНГЮРСЕРВІС»123 283,49","2022-11-30",1,5480.64,5480.64,5480.64,0,0]
["380816__459",459,"Банк Січ",380816,"Інше","Київ","Інше",null,34092020001435,"основні засоби","Гривня",0,"2018-12-27","-","НІ",null,"-","-","-","-","ЗАТ «КОНСАЛТИНГЮРСЕРВІС»123 283,49","2022-11-30",1,5540.76,5540.76,5540.76,0,0]
["380816__460",460,"Банк Січ",380816,"Інше","Київ","Інше",null,34092020001436,"основні засоби","Гривня",0,"2018-12-27","-","НІ",null,"-","-","-","-","ЗАТ «КОНСАЛТИНГЮРСЕРВІС»123 283,49","2022-11-30",1,5556.52,5556.52,5556.52,0,0]
["380816__461",461,"Банк Січ",380816,"Інше","Київ","Інше",null,34092020001437,"основні засоби","Гривня",0,"2018-12-27","-","НІ",null,"-","-","-","-","ЗАТ «КОНСАЛТИНГЮРСЕРВІС»123 283,49","2022-11-30",8478,5560.78,5560.78,5560.78,0,0]
["380816__462",462,"Банк Січ",380816,"Інше","Київ","Інше",null,34092020001438,"основні засоби","Гривня",0,"2018-12-27","-","НІ",null,"-","-","-","-","ЗАТ «КОНСАЛТИНГЮРСЕРВІС»123 283,49","2022-11-30",1,5660.93,5660.93,5660.93,0,0]
["380816__463",463,"Банк Січ",380816,"Інше","Київ","Інше",null,34092020001439,"основні засоби","Гривня",0,"2018-12-27","-","НІ",null,"-","-","-","-","ЗАТ «КОНСАЛТИНГЮРСЕРВІС»123 283,49","2022-11-30",1,5720.26,5720.26,5720.26,0,0]
["380816__464",464,"Банк Січ",380816,"Інше","Київ","Інше",null,34092020001440,"основні засоби","Гривня",0,"2018-12-27","-","НІ",null,"-","-","-","-","ЗАТ «КОНСАЛТИНГЮРСЕРВІС»123 283,49","2022-11-30",1,5852.53,5852.53,5852.53,0,0]
["380816__465",465,"Банк Січ",380816,"Інше","Київ","Інше",null,34092020001441,"основні засоби","Гривня",0,"2018-12-27","-","НІ",null,"-","-","-","-","ЗАТ «КОНСАЛТИНГЮРСЕРВІС»123 283,49","2022-11-30",8931,5857.83,5857.83,5857.83,0,0]
["380816__466",466,"Банк Січ",380816,"Інше","Київ","Інше",null,34092020001442,"основні засоби","Гривня",0,"2018-12-27","-","НІ",null,"-","-","-","-","ЗАТ «КОНСАЛТИНГЮРСЕРВІС»123 283,49","2022-11-30",334,5904.03,5904.03,5904.03,0,0]
["380816__467",467,"Банк Січ",380816,"Інше","Київ","Інше",null,34092020001443,"основні засоби","Гривня",0,"2018-12-27","-","НІ",null,"-","-","-","-","ЗАТ «КОНСАЛТИНГЮРСЕРВІС»123 283,49","2022-11-30",1,5919.55,5919.55,5919.55,0,0]
["380816__468",468,"Банк Січ",380816,"Інше","Київ","Інше",null,34092020001444,"основні засоби","Гривня",0,"2018-12-27","-","НІ",null,"-","-","-","-","ЗАТ «КОНСАЛТИНГЮРСЕРВІС»123 283,49","2022-11-30",1,6003.97,6003.97,6003.97,0,0]
["380816__469",469,"Банк Січ",380816,"Інше","Київ","Інше",null,34092020001445,"основні засоби","Гривня",0,"2018-12-27","-","НІ",null,"-","-","-","-","ЗАТ «КОНСАЛТИНГЮРСЕРВІС»123 283,49","2022-11-30",1,6096.82,6096.82,6096.82,0,0]
["380816__470",470,"Банк Січ",380816,"Інше","Київ","Інше",null,34092020001446,"основні засоби","Гривня",0,"2018-12-27","-","НІ",null,"-","-","-","-","ЗАТ «КОНСАЛТИНГЮРСЕРВІС»123 283,49","2022-11-30",1,6118.29,6118.29,6118.29,0,0]
["380816__471",471,"Банк Січ",380816,"Інше","Київ","Інше",null,34092020001447,"основні засоби","Гривня",0,"2018-12-27","-","НІ",null,"-","-","-","-","ЗАТ «КОНСАЛТИНГЮРСЕРВІС»123 283,49","2022-11-30",1,6148.68,6148.68,6148.68,0,0]
["380816__472",472,"Банк Січ",380816,"Інше","Київ","Інше",null,34092020001448,"основні засоби","Гривня",0,"2018-12-27","-","НІ",null,"-","-","-","-","ЗАТ «КОНСАЛТИНГЮРСЕРВІС»123 283,49","2022-11-30",1,6311.23,6311.23,6311.23,0,0]
["380816__473",473,"Банк Січ",380816,"Інше","Київ","Інше",null,34092020001449,"основні засоби","Гривня",0,"2018-12-27","-","НІ",null,"-","-","-","-","ЗАТ «КОНСАЛТИНГЮРСЕРВІС»123 283,49","2022-11-30",1,6327.73,6327.73,6327.73,0,0]
["380816__474",474,"Банк Січ",380816,"Інше","Київ","Інше",null,34092020001450,"основні засоби","Гривня",0,"2018-12-27","-","НІ",null,"-","-","-","-","ЗАТ «КОНСАЛТИНГЮРСЕРВІС»123 283,49","2022-11-30",1,6328.37,6328.37,6328.37,0,0]
["380816__475",475,"Банк Січ",380816,"Інше","Київ","Інше",null,34092020001451,"основні засоби","Гривня",0,"2018-12-27","-","НІ",null,"-","-","-","-","ЗАТ «КОНСАЛТИНГЮРСЕРВІС»123 283,49","2022-11-30",1,6336.15,6336.15,6336.15,0,0]
["380816__476",476,"Банк Січ",380816,"Інше","Київ","Інше",null,34092020001452,"основні засоби","Гривня",0,"2018-12-27","-","НІ",null,"-","-","-","-","ЗАТ «КОНСАЛТИНГЮРСЕРВІС»123 283,49","2022-11-30",1,6390.3,6390.3,6390.3,0,0]
["380816__477",477,"Банк Січ",380816,"Інше","Київ","Інше",null,34092020001453,"основні засоби","Гривня",0,"2018-12-27","-","НІ",null,"-","-","-","-","ЗАТ «КОНСАЛТИНГЮРСЕРВІС»123 283,49","2022-11-30",1,6434.61,6434.61,6434.61,0,0]
["380816__478",478,"Банк Січ",380816,"Інше","Київ","Інше",null,34092020001454,"основні засоби","Гривня",0,"2018-12-27","-","НІ",null,"-","-","-","-","ЗАТ «КОНСАЛТИНГЮРСЕРВІС»123 283,49","2022-11-30",1,6450.7,6450.7,6450.7,0,0]
["380816__479",479,"Банк Січ",380816,"Інше","Київ","Інше",null,34092020001455,"основні засоби","Гривня",0,"2018-12-27","-","НІ",null,"-","-","-","-","ЗАТ «КОНСАЛТИНГЮРСЕРВІС»123 283,49","2022-11-30",1,6452.35,6452.35,6452.35,0,0]
["380816__480",480,"Банк Січ",380816,"Інше","Київ","Інше",null,34092020001456,"основні засоби","Гривня",0,"2018-12-27","-","НІ",null,"-","-","-","-","ЗАТ «КОНСАЛТИНГЮРСЕРВІС»123 283,49","2022-11-30",9897,6491.46,6491.46,6491.46,0,0]
["380816__481",481,"Банк Січ",380816,"Інше","Київ","Інше",null,34092020001457,"основні засоби","Гривня",0,"2018-12-27","-","НІ",null,"-","-","-","-","ЗАТ «КОНСАЛТИНГЮРСЕРВІС»123 283,49","2022-11-30",9931,6514.04,6514.04,6514.04,0,0]
["380816__482",482,"Банк Січ",380816,"Інше","Київ","Інше",null,34092020001458,"основні засоби","Гривня",0,"2018-12-27","-","НІ",null,"-","-","-","-","ЗАТ «КОНСАЛТИНГЮРСЕРВІС»123 283,49","2022-11-30",9931,6514.04,6514.04,6514.04,0,0]
["380816__483",483,"Банк Січ",380816,"Інше","Київ","Інше",null,34092020001459,"основні засоби","Гривня",0,"2018-12-27","-","НІ",null,"-","-","-","-","ЗАТ «КОНСАЛТИНГЮРСЕРВІС»123 283,49","2022-11-30",9931,6514.04,6514.04,6514.04,0,0]
["380816__484",484,"Банк Січ",380816,"Інше","Київ","Інше",null,34092020001460,"основні засоби","Гривня",0,"2018-12-27","-","НІ",null,"-","-","-","-","ЗАТ «КОНСАЛТИНГЮРСЕРВІС»123 283,49","2022-11-30",1,6548.32,6548.32,6548.32,0,0]
["380816__485",485,"Банк Січ",380816,"Інше","Київ","Інше",null,34092020001461,"основні засоби","Гривня",0,"2018-12-27","-","НІ",null,"-","-","-","-","ЗАТ «КОНСАЛТИНГЮРСЕРВІС»123 283,49","2022-11-30",1,6573.91,6573.91,6573.91,0,0]
["380816__486",486,"Банк Січ",380816,"Інше","Київ","Інше",null,34092020001462,"основні засоби","Гривня",0,"2018-12-27","-","НІ",null,"-","-","-","-","ЗАТ «КОНСАЛТИНГЮРСЕРВІС»123 283,49","2022-11-30",1,6580.38,6580.38,6580.38,0,0]
["380816__487",487,"Банк Січ",380816,"Інше","Київ","Інше",null,34092020001463,"основні засоби","Гривня",0,"2018-12-27","-","НІ",null,"-","-","-","-","ЗАТ «КОНСАЛТИНГЮРСЕРВІС»123 283,49","2022-11-30",1,6649.75,6649.75,6649.75,0,0]
["380816__488",488,"Банк Січ",380816,"Інше","Київ","Інше",null,34092020001464,"основні засоби","Гривня",0,"2018-12-27","-","НІ",null,"-","-","-","-","ЗАТ «КОНСАЛТИНГЮРСЕРВІС»123 283,49","2022-11-30",1,6703.78,6703.78,6703.78,0,0]
["380816__489",489,"Банк Січ",380816,"Інше","Київ","Інше",null,34092020001465,"основні засоби","Гривня",0,"2018-12-27","-","НІ",null,"-","-","-","-","ЗАТ «КОНСАЛТИНГЮРСЕРВІС»123 283,49","2022-11-30",1,6752.9,6752.9,6752.9,0,0]
["380816__490",490,"Банк Січ",380816,"Інше","Київ","Інше",null,34092020001466,"основні засоби","Гривня",0,"2018-12-27","-","НІ",null,"-","-","-","-","ЗАТ «КОНСАЛТИНГЮРСЕРВІС»123 283,49","2022-11-30",1,6761.83,6761.83,6761.83,0,0]
["380816__491",491,"Банк Січ",380816,"Інше","Київ","Інше",null,34092020001467,"основні засоби","Гривня",0,"2018-12-27","-","НІ",null,"-","-","-","-","ЗАТ «КОНСАЛТИНГЮРСЕРВІС»123 283,49","2022-11-30",1,6767.25,6767.25,6767.25,0,0]
["380816__492",492,"Банк Січ",380816,"Інше","Київ","Інше",null,34092020001468,"основні засоби","Гривня",0,"2018-12-27","-","НІ",null,"-","-","-","-","ЗАТ «КОНСАЛТИНГЮРСЕРВІС»123 283,49","2022-11-30",1,6774.55,6774.55,6774.55,0,0]
["380816__493",493,"Банк Січ",380816,"Інше","Київ","Інше",null,34092020001469,"основні засоби","Гривня",0,"2018-12-27","-","НІ",null,"-","-","-","-","ЗАТ «КОНСАЛТИНГЮРСЕРВІС»123 283,49","2022-11-30",1,6785.69,6785.69,6785.69,0,0]
["380816__494",494,"Банк Січ",380816,"Інше","Київ","Інше",null,34092020001470,"основні засоби","Гривня",0,"2018-12-27","-","НІ",null,"-","-","-","-","ЗАТ «КОНСАЛТИНГЮРСЕРВІС»123 283,49","2022-11-30",1,6804.94,6804.94,6804.94,0,0]
["380816__495",495,"Банк Січ",380816,"Інше","Київ","Інше",null,34092020001471,"основні засоби","Гривня",0,"2018-12-27","-","НІ",null,"-","-","-","-","ЗАТ «КОНСАЛТИНГЮРСЕРВІС»123 283,49","2022-11-30",1,6833.8,6833.8,6833.8,0,0]
["380816__496",496,"Банк Січ",380816,"Інше","Київ","Інше",null,34092020001472,"основні засоби","Гривня",0,"2018-12-27","-","НІ",null,"-","-","-","-","ЗАТ «КОНСАЛТИНГЮРСЕРВІС»123 283,49","2022-11-30",10475,6871.04,6871.04,6871.04,0,0]
["380816__497",497,"Банк Січ",380816,"Інше","Київ","Інше",null,34092020001473,"основні засоби","Гривня",0,"2018-12-27","-","НІ",null,"-","-","-","-","ЗАТ «КОНСАЛТИНГЮРСЕРВІС»123 283,49","2022-11-30",1,6907.84,6907.84,6907.84,0,0]
["380816__498",498,"Банк Січ",380816,"Інше","Київ","Інше",null,34092020001474,"основні засоби","Гривня",0,"2018-12-27","-","НІ",null,"-","-","-","-","ЗАТ «КОНСАЛТИНГЮРСЕРВІС»123 283,49","2022-11-30",10574,6935.69,6935.69,6935.69,0,0]
["380816__499",499,"Банк Січ",380816,"Інше","Київ","Інше",null,34092020001475,"основні засоби","Гривня",0,"2018-12-27","-","НІ",null,"-","-","-","-","ЗАТ «КОНСАЛТИНГЮРСЕРВІС»123 283,49","2022-11-30",1,6995.27,6995.27,6995.27,0,0]
["380816__500",500,"Банк Січ",380816,"Інше","Київ","Інше",null,34092020001476,"основні засоби","Гривня",0,"2018-12-27","-","НІ",null,"-","-","-","-","ЗАТ «КОНСАЛТИНГЮРСЕРВІС»123 283,49","2022-11-30",1,7054.17,7054.17,7054.17,0,0]
["380816__501",501,"Банк Січ",380816,"Інше","Київ","Інше",null,34092020001477,"основні засоби","Гривня",0,"2018-12-27","-","НІ",null,"-","-","-","-","ЗАТ «КОНСАЛТИНГЮРСЕРВІС»123 283,49","2022-11-30",1,7074.42,7074.42,7074.42,0,0]
["380816__502",502,"Банк Січ",380816,"Інше","Київ","Інше",null,34092020001478,"основні засоби","Гривня",0,"2018-12-27","-","НІ",null,"-","-","-","-","ЗАТ «КОНСАЛТИНГЮРСЕРВІС»123 283,49","2022-11-30",10850,7116.68,7116.68,7116.68,0,0]
["380816__503",503,"Банк Січ",380816,"Інше","Київ","Інше",null,34092020001479,"основні засоби","Гривня",0,"2018-12-27","-","НІ",null,"-","-","-","-","ЗАТ «КОНСАЛТИНГЮРСЕРВІС»123 283,49","2022-11-30",1,7226.35,7226.35,7226.35,0,0]
["380816__504",504,"Банк Січ",380816,"Інше","Київ","Інше",null,34092020001480,"основні засоби","Гривня",0,"2018-12-27","-","НІ",null,"-","-","-","-","ЗАТ «КОНСАЛТИНГЮРСЕРВІС»123 283,49","2022-11-30",1,7261.83,7261.83,7261.83,0,0]
["380816__505",505,"Банк Січ",380816,"Інше","Київ","Інше",null,34092020001481,"основні засоби","Гривня",0,"2018-12-27","-","НІ",null,"-","-","-","-","ЗАТ «КОНСАЛТИНГЮРСЕРВІС»123 283,49","2022-11-30",1,7341.98,7341.98,7341.98,0,0]
["380816__506",506,"Банк Січ",380816,"Інше","Київ","Інше",null,34092020001482,"основні засоби","Гривня",0,"2018-12-27","-","НІ",null,"-","-","-","-","ЗАТ «КОНСАЛТИНГЮРСЕРВІС»123 283,49","2022-11-30",11242,7373.81,7373.81,7373.81,0,0]
["380816__507",507,"Банк Січ",380816,"Інше","Київ","Інше",null,34092020001483,"основні засоби","Гривня",0,"2018-12-27","-","НІ",null,"-","-","-","-","ЗАТ «КОНСАЛТИНГЮРСЕРВІС»123 283,49","2022-11-30",11242,7373.81,7373.81,7373.81,0,0]
["380816__508",508,"Банк Січ",380816,"Інше","Київ","Інше",null,34092020001484,"основні засоби","Гривня",0,"2018-12-27","-","НІ",null,"-","-","-","-","ЗАТ «КОНСАЛТИНГЮРСЕРВІС»123 283,49","2022-11-30",11242,7373.81,7373.81,7373.81,0,0]
["380816__509",509,"Банк Січ",380816,"Інше","Київ","Інше",null,34092020001485,"основні засоби","Гривня",0,"2018-12-27","-","НІ",null,"-","-","-","-","ЗАТ «КОНСАЛТИНГЮРСЕРВІС»123 283,49","2022-11-30",11249,7378.16,7378.16,7378.16,0,0]
["380816__510",510,"Банк Січ",380816,"Інше","Київ","Інше",null,34092020001486,"основні засоби","Гривня",0,"2018-12-27","-","НІ",null,"-","-","-","-","ЗАТ «КОНСАЛТИНГЮРСЕРВІС»123 283,49","2022-11-30",11249,7378.16,7378.16,7378.16,0,0]
["380816__511",511,"Банк Січ",380816,"Інше","Київ","Інше",null,34092020001487,"основні засоби","Гривня",0,"2018-12-27","-","НІ",null,"-","-","-","-","ЗАТ «КОНСАЛТИНГЮРСЕРВІС»123 283,49","2022-11-30",11249,7378.16,7378.16,7378.16,0,0]
["380816__512",512,"Банк Січ",380816,"Інше","Київ","Інше",null,34092020001488,"основні засоби","Гривня",0,"2018-12-27","-","НІ",null,"-","-","-","-","ЗАТ «КОНСАЛТИНГЮРСЕРВІС»123 283,49","2022-11-30",11313,7420.48,7420.48,7420.48,0,0]
["380816__513",513,"Банк Січ",380816,"Інше","Київ","Інше",null,34092020001489,"основні засоби","Гривня",0,"2018-12-27","-","НІ",null,"-","-","-","-","ЗАТ «КОНСАЛТИНГЮРСЕРВІС»123 283,49","2022-11-30",1,7444.86,7444.86,7444.86,0,0]
["380816__514",514,"Банк Січ",380816,"Інше","Київ","Інше",null,34092020001490,"основні засоби","Гривня",0,"2018-12-27","-","НІ",null,"-","-","-","-","ЗАТ «КОНСАЛТИНГЮРСЕРВІС»123 283,49","2022-11-30",1,7567.98,7567.98,7567.98,0,0]
["380816__515",515,"Банк Січ",380816,"Інше","Київ","Інше",null,34092020001491,"основні засоби","Гривня",0,"2018-12-27","-","НІ",null,"-","-","-","-","ЗАТ «КОНСАЛТИНГЮРСЕРВІС»123 283,49","2022-11-30",1,7604.38,7604.38,7604.38,0,0]
["380816__516",516,"Банк Січ",380816,"Інше","Київ","Інше",null,34092020001492,"основні засоби","Гривня",0,"2018-12-27","-","НІ",null,"-","-","-","-","ЗАТ «КОНСАЛТИНГЮРСЕРВІС»123 283,49","2022-11-30",1,7605.62,7605.62,7605.62,0,0]
["380816__517",517,"Банк Січ",380816,"Інше","Київ","Інше",null,34092020001493,"основні засоби","Гривня",0,"2018-12-27","-","НІ",null,"-","-","-","-","ЗАТ «КОНСАЛТИНГЮРСЕРВІС»123 283,49","2022-11-30",1,7646.51,7646.51,7646.51,0,0]
["380816__518",518,"Банк Січ",380816,"Інше","Київ","Інше",null,34092020001494,"основні засоби","Гривня",0,"2018-12-27","-","НІ",null,"-","-","-","-","ЗАТ «КОНСАЛТИНГЮРСЕРВІС»123 283,49","2022-11-30",1,7716.76,7716.76,7716.76,0,0]
["380816__519",519,"Банк Січ",380816,"Інше","Київ","Інше",null,34092020001495,"основні засоби","Гривня",0,"2018-12-27","-","НІ",null,"-","-","-","-","ЗАТ «КОНСАЛТИНГЮРСЕРВІС»123 283,49","2022-11-30",11915,7815.04,7815.04,7815.04,0,0]
["380816__520",520,"Банк Січ",380816,"Інше","Київ","Інше",null,34092020001496,"основні засоби","Гривня",0,"2018-12-27","-","НІ",null,"-","-","-","-","ЗАТ «КОНСАЛТИНГЮРСЕРВІС»123 283,49","2022-11-30",1,7888.03,7888.03,7888.03,0,0]
["380816__521",521,"Банк Січ",380816,"Інше","Київ","Інше",null,34092020001497,"основні засоби","Гривня",0,"2018-12-27","-","НІ",null,"-","-","-","-","ЗАТ «КОНСАЛТИНГЮРСЕРВІС»123 283,49","2022-11-30",1,8005.67,8005.67,8005.67,0,0]
["380816__522",522,"Банк Січ",380816,"Інше","Київ","Інше",null,34092020001498,"основні засоби","Гривня",0,"2018-12-27","-","НІ",null,"-","-","-","-","ЗАТ «КОНСАЛТИНГЮРСЕРВІС»123 283,49","2022-11-30",1,8101.7,8101.7,8101.7,0,0]
["380816__523",523,"Банк Січ",380816,"Інше","Київ","Інше",null,34092020001499,"основні засоби","Гривня",0,"2018-12-27","-","НІ",null,"-","-","-","-","ЗАТ «КОНСАЛТИНГЮРСЕРВІС»123 283,49","2022-11-30",12572,8245.99,8245.99,8245.99,0,0]
["380816__524",524,"Банк Січ",380816,"Інше","Київ","Інше",null,34092020001500,"основні засоби","Гривня",0,"2018-12-27","-","НІ",null,"-","-","-","-","ЗАТ «КОНСАЛТИНГЮРСЕРВІС»123 283,49","2022-11-30",1,8248.11,8248.11,8248.11,0,0]
["380816__525",525,"Банк Січ",380816,"Інше","Київ","Інше",null,34092020001501,"основні засоби","Гривня",0,"2018-12-27","-","НІ",null,"-","-","-","-","ЗАТ «КОНСАЛТИНГЮРСЕРВІС»123 283,49","2022-11-30",1,8260.4500000000007,8260.4500000000007,8260.4500000000007,0,0]
["380816__526",526,"Банк Січ",380816,"Інше","Київ","Інше",null,34092020001502,"основні засоби","Гривня",0,"2018-12-27","-","НІ",null,"-","-","-","-","ЗАТ «КОНСАЛТИНГЮРСЕРВІС»123 283,49","2022-11-30",1,8261.34,8261.34,8261.34,0,0]
["380816__527",527,"Банк Січ",380816,"Інше","Київ","Інше",null,34092020001503,"основні засоби","Гривня",0,"2018-12-27","-","НІ",null,"-","-","-","-","ЗАТ «КОНСАЛТИНГЮРСЕРВІС»123 283,49","2022-11-30",12639,8290.09,8290.09,8290.09,0,0]
["380816__528",528,"Банк Січ",380816,"Інше","Київ","Інше",null,34092020001504,"основні засоби","Гривня",0,"2018-12-27","-","НІ",null,"-","-","-","-","ЗАТ «КОНСАЛТИНГЮРСЕРВІС»123 283,49","2022-11-30",1,8440.23,8440.23,8440.23,0,0]
["380816__529",529,"Банк Січ",380816,"Інше","Київ","Інше",null,34092020001505,"основні засоби","Гривня",0,"2018-12-27","-","НІ",null,"-","-","-","-","ЗАТ «КОНСАЛТИНГЮРСЕРВІС»123 283,49","2022-11-30",1,8449.3799999999992,8449.3799999999992,8449.3799999999992,0,0]
["380816__530",530,"Банк Січ",380816,"Інше","Київ","Інше",null,34092020001506,"основні засоби","Гривня",0,"2018-12-27","-","НІ",null,"-","-","-","-","ЗАТ «КОНСАЛТИНГЮРСЕРВІС»123 283,49","2022-11-30",1,8518.57,8518.57,8518.57,0,0]
["380816__531",531,"Банк Січ",380816,"Інше","Київ","Інше",null,34092020001507,"основні засоби","Гривня",0,"2018-12-27","-","НІ",null,"-","-","-","-","ЗАТ «КОНСАЛТИНГЮРСЕРВІС»123 283,49","2022-11-30",13025,8543.1,8543.1,8543.1,0,0]
["380816__532",532,"Банк Січ",380816,"Інше","Київ","Інше",null,34092020001508,"основні засоби","Гривня",0,"2018-12-27","-","НІ",null,"-","-","-","-","ЗАТ «КОНСАЛТИНГЮРСЕРВІС»123 283,49","2022-11-30",3266,8572.4699999999993,8572.4699999999993,8572.4699999999993,0,0]
["380816__533",533,"Банк Січ",380816,"Інше","Київ","Інше",null,34092020001509,"основні засоби","Гривня",0,"2018-12-27","-","НІ",null,"-","-","-","-","ЗАТ «КОНСАЛТИНГЮРСЕРВІС»123 283,49","2022-11-30",1,8588.32,8588.32,8588.32,0,0]
["380816__534",534,"Банк Січ",380816,"Інше","Київ","Інше",null,34092020001510,"основні засоби","Гривня",0,"2018-12-27","-","НІ",null,"-","-","-","-","ЗАТ «КОНСАЛТИНГЮРСЕРВІС»123 283,49","2022-11-30",1,8688.7900000000009,8688.7900000000009,8688.7900000000009,0,0]
["380816__535",535,"Банк Січ",380816,"Інше","Київ","Інше",null,34092020001511,"основні засоби","Гривня",0,"2018-12-27","-","НІ",null,"-","-","-","-","ЗАТ «КОНСАЛТИНГЮРСЕРВІС»123 283,49","2022-11-30",1,8765.24,8765.24,8765.24,0,0]
["380816__536",536,"Банк Січ",380816,"Інше","Київ","Інше",null,34092020001512,"основні засоби","Гривня",0,"2018-12-27","-","НІ",null,"-","-","-","-","ЗАТ «КОНСАЛТИНГЮРСЕРВІС»123 283,49","2022-11-30",1,8886.91,8886.91,8886.91,0,0]
["380816__537",537,"Банк Січ",380816,"Інше","Київ","Інше",null,34092020001513,"основні засоби","Гривня",0,"2018-12-27","-","НІ",null,"-","-","-","-","ЗАТ «КОНСАЛТИНГЮРСЕРВІС»123 283,49","2022-11-30",1,8897.56,8897.56,8897.56,0,0]
["380816__538",538,"Банк Січ",380816,"Інше","Київ","Інше",null,34092020001514,"основні засоби","Гривня",0,"2018-12-27","-","НІ",null,"-","-","-","-","ЗАТ «КОНСАЛТИНГЮРСЕРВІС»123 283,49","2022-11-30",1,8938.2000000000007,8938.2000000000007,8938.2000000000007,0,0]
["380816__539",539,"Банк Січ",380816,"Інше","Київ","Інше",null,34092020001515,"основні засоби","Гривня",0,"2018-12-27","-","НІ",null,"-","-","-","-","ЗАТ «КОНСАЛТИНГЮРСЕРВІС»123 283,49","2022-11-30",1,9106.34,9106.34,9106.34,0,0]
["380816__540",540,"Банк Січ",380816,"Інше","Київ","Інше",null,34092020001516,"основні засоби","Гривня",0,"2018-12-27","-","НІ",null,"-","-","-","-","ЗАТ «КОНСАЛТИНГЮРСЕРВІС»123 283,49","2022-11-30",1,9123.9,9123.9,9123.9,0,0]
["380816__541",541,"Банк Січ",380816,"Інше","Київ","Інше",null,34092020001517,"основні засоби","Гривня",0,"2018-12-27","-","НІ",null,"-","-","-","-","ЗАТ «КОНСАЛТИНГЮРСЕРВІС»123 283,49","2022-11-30",1,9127.83,9127.83,9127.83,0,0]
["380816__542",542,"Банк Січ",380816,"Інше","Київ","Інше",null,34092020001518,"основні засоби","Гривня",0,"2018-12-27","-","НІ",null,"-","-","-","-","ЗАТ «КОНСАЛТИНГЮРСЕРВІС»123 283,49","2022-11-30",13919,9129.48,9129.48,9129.48,0,0]
["380816__543",543,"Банк Січ",380816,"Інше","Київ","Інше",null,34092020001519,"основні засоби","Гривня",0,"2018-12-27","-","НІ",null,"-","-","-","-","ЗАТ «КОНСАЛТИНГЮРСЕРВІС»123 283,49","2022-11-30",1,9158.5,9158.5,9158.5,0,0]
["380816__544",544,"Банк Січ",380816,"Інше","Київ","Інше",null,34092020001520,"основні засоби","Гривня",0,"2018-12-27","-","НІ",null,"-","-","-","-","ЗАТ «КОНСАЛТИНГЮРСЕРВІС»123 283,49","2022-11-30",1,9163.52,9163.52,9163.52,0,0]
["380816__545",545,"Банк Січ",380816,"Інше","Київ","Інше",null,34092020001521,"основні засоби","Гривня",0,"2018-12-27","-","НІ",null,"-","-","-","-","ЗАТ «КОНСАЛТИНГЮРСЕРВІС»123 283,49","2022-11-30",1,9255.11,9255.11,9255.11,0,0]
["380816__546",546,"Банк Січ",380816,"Інше","Київ","Інше",null,34092020001522,"основні засоби","Гривня",0,"2018-12-27","-","НІ",null,"-","-","-","-","ЗАТ «КОНСАЛТИНГЮРСЕРВІС»123 283,49","2022-11-30",1,9320.92,9320.92,9320.92,0,0]
["380816__547",547,"Банк Січ",380816,"Інше","Київ","Інше",null,34092020001523,"основні засоби","Гривня",0,"2018-12-27","-","НІ",null,"-","-","-","-","ЗАТ «КОНСАЛТИНГЮРСЕРВІС»123 283,49","2022-11-30",1,9325.8799999999992,9325.8799999999992,9325.8799999999992,0,0]
["380816__548",548,"Банк Січ",380816,"Інше","Київ","Інше",null,34092020001524,"основні засоби","Гривня",0,"2018-12-27","-","НІ",null,"-","-","-","-","ЗАТ «КОНСАЛТИНГЮРСЕРВІС»123 283,49","2022-11-30",1,9379.6,9379.6,9379.6,0,0]
["380816__549",549,"Банк Січ",380816,"Інше","Київ","Інше",null,34092020001525,"основні засоби","Гривня",0,"2018-12-27","-","НІ",null,"-","-","-","-","ЗАТ «КОНСАЛТИНГЮРСЕРВІС»123 283,49","2022-11-30",1,9521.6299999999992,9521.6299999999992,9521.6299999999992,0,0]
["380816__550",550,"Банк Січ",380816,"Інше","Київ","Інше",null,34092020001526,"основні засоби","Гривня",0,"2018-12-27","-","НІ",null,"-","-","-","-","ЗАТ «КОНСАЛТИНГЮРСЕРВІС»123 283,49","2022-11-30",1,9794.74,9794.74,9794.74,0,0]
["380816__551",551,"Банк Січ",380816,"Інше","Київ","Інше",null,34092020001527,"основні засоби","Гривня",0,"2018-12-27","-","НІ",null,"-","-","-","-","ЗАТ «КОНСАЛТИНГЮРСЕРВІС»123 283,49","2022-11-30",1,9824.2199999999993,9824.2199999999993,9824.2199999999993,0,0]
["380816__552",552,"Банк Січ",380816,"Інше","Київ","Інше",null,34092020001528,"основні засоби","Гривня",0,"2018-12-27","-","НІ",null,"-","-","-","-","ЗАТ «КОНСАЛТИНГЮРСЕРВІС»123 283,49","2022-11-30",1,10023.16,10023.16,10023.16,0,0]
["380816__553",553,"Банк Січ",380816,"Інше","Київ","Інше",null,34092020001529,"основні засоби","Гривня",0,"2018-12-27","-","НІ",null,"-","-","-","-","ЗАТ «КОНСАЛТИНГЮРСЕРВІС»123 283,49","2022-11-30",1,10076.24,10076.24,10076.24,0,0]
["380816__554",554,"Банк Січ",380816,"Інше","Київ","Інше",null,34092020001530,"основні засоби","Гривня",0,"2018-12-27","-","НІ",null,"-","-","-","-","ЗАТ «КОНСАЛТИНГЮРСЕРВІС»123 283,49","2022-11-30",1,10079.129999999999,10079.129999999999,10079.129999999999,0,0]
["380816__555",555,"Банк Січ",380816,"Інше","Київ","Інше",null,34092020001531,"основні засоби","Гривня",0,"2018-12-27","-","НІ",null,"-","-","-","-","ЗАТ «КОНСАЛТИНГЮРСЕРВІС»123 283,49","2022-11-30",1,10104.23,10104.23,10104.23,0,0]
["380816__556",556,"Банк Січ",380816,"Інше","Київ","Інше",null,34092020001532,"основні засоби","Гривня",0,"2018-12-27","-","НІ",null,"-","-","-","-","ЗАТ «КОНСАЛТИНГЮРСЕРВІС»123 283,49","2022-11-30",1,10132.700000000001,10132.700000000001,10132.700000000001,0,0]
["380816__557",557,"Банк Січ",380816,"Інше","Київ","Інше",null,34092020001533,"основні засоби","Гривня",0,"2018-12-27","-","НІ",null,"-","-","-","-","ЗАТ «КОНСАЛТИНГЮРСЕРВІС»123 283,49","2022-11-30",1,10167.379999999999,10167.379999999999,10167.379999999999,0,0]
["380816__558",558,"Банк Січ",380816,"Інше","Київ","Інше",null,34092020001534,"основні засоби","Гривня",0,"2018-12-27","-","НІ",null,"-","-","-","-","ЗАТ «КОНСАЛТИНГЮРСЕРВІС»123 283,49","2022-11-30",1,10265.31,10265.31,10265.31,0,0]
["380816__559",559,"Банк Січ",380816,"Інше","Київ","Інше",null,34092020001535,"основні засоби","Гривня",0,"2018-12-27","-","НІ",null,"-","-","-","-","ЗАТ «КОНСАЛТИНГЮРСЕРВІС»123 283,49","2022-11-30",1,10487.75,10487.75,10487.75,0,0]
["380816__560",560,"Банк Січ",380816,"Інше","Київ","Інше",null,34092020001536,"основні засоби","Гривня",0,"2018-12-27","-","НІ",null,"-","-","-","-","ЗАТ «КОНСАЛТИНГЮРСЕРВІС»123 283,49","2022-11-30",1,10775.81,10775.81,10775.81,0,0]
["380816__561",561,"Банк Січ",380816,"Інше","Київ","Інше",null,34092020001537,"основні засоби","Гривня",0,"2018-12-27","-","НІ",null,"-","-","-","-","ЗАТ «КОНСАЛТИНГЮРСЕРВІС»123 283,49","2022-11-30",1,11003.11,11003.11,11003.11,0,0]
["380816__562",562,"Банк Січ",380816,"Інше","Київ","Інше",null,34092020001538,"основні засоби","Гривня",0,"2018-12-27","-","НІ",null,"-","-","-","-","ЗАТ «КОНСАЛТИНГЮРСЕРВІС»123 283,49","2022-11-30",16802,11020.68,11020.68,11020.68,0,0]
["380816__563",563,"Банк Січ",380816,"Інше","Київ","Інше",null,34092020001539,"основні засоби","Гривня",0,"2018-12-27","-","НІ",null,"-","-","-","-","ЗАТ «КОНСАЛТИНГЮРСЕРВІС»123 283,49","2022-11-30",1,11026.04,11026.04,11026.04,0,0]
["380816__564",564,"Банк Січ",380816,"Інше","Київ","Інше",null,34092020001540,"основні засоби","Гривня",0,"2018-12-27","-","НІ",null,"-","-","-","-","ЗАТ «КОНСАЛТИНГЮРСЕРВІС»123 283,49","2022-11-30",1,11100.46,11100.46,11100.46,0,0]
["380816__565",565,"Банк Січ",380816,"Інше","Київ","Інше",null,34092020001541,"основні засоби","Гривня",0,"2018-12-27","-","НІ",null,"-","-","-","-","ЗАТ «КОНСАЛТИНГЮРСЕРВІС»123 283,49","2022-11-30",1,11208.34,11208.34,11208.34,0,0]
["380816__566",566,"Банк Січ",380816,"Інше","Київ","Інше",null,34092020001542,"основні засоби","Гривня",0,"2018-12-27","-","НІ",null,"-","-","-","-","ЗАТ «КОНСАЛТИНГЮРСЕРВІС»123 283,49","2022-11-30",1,11322.01,11322.01,11322.01,0,0]
["380816__567",567,"Банк Січ",380816,"Інше","Київ","Інше",null,34092020001543,"основні засоби","Гривня",0,"2018-12-27","-","НІ",null,"-","-","-","-","ЗАТ «КОНСАЛТИНГЮРСЕРВІС»123 283,49","2022-11-30",1,11469.15,11469.15,11469.15,0,0]
["380816__568",568,"Банк Січ",380816,"Інше","Київ","Інше",null,34092020001544,"основні засоби","Гривня",0,"2018-12-27","-","НІ",null,"-","-","-","-","ЗАТ «КОНСАЛТИНГЮРСЕРВІС»123 283,49","2022-11-30",1,11501.09,11501.09,11501.09,0,0]
["380816__569",569,"Банк Січ",380816,"Інше","Київ","Інше",null,34092020001545,"основні засоби","Гривня",0,"2018-12-27","-","НІ",null,"-","-","-","-","ЗАТ «КОНСАЛТИНГЮРСЕРВІС»123 283,49","2022-11-30",1,11671.44,11671.44,11671.44,0,0]
["380816__570",570,"Банк Січ",380816,"Інше","Київ","Інше",null,34092020001546,"основні засоби","Гривня",0,"2018-12-27","-","НІ",null,"-","-","-","-","ЗАТ «КОНСАЛТИНГЮРСЕРВІС»123 283,49","2022-11-30",1,11720.07,11720.07,11720.07,0,0]
["380816__571",571,"Банк Січ",380816,"Інше","Київ","Інше",null,34092020001547,"основні засоби","Гривня",0,"2018-12-27","-","НІ",null,"-","-","-","-","ЗАТ «КОНСАЛТИНГЮРСЕРВІС»123 283,49","2022-11-30",1,11779.56,11779.56,11779.56,0,0]
["380816__572",572,"Банк Січ",380816,"Інше","Київ","Інше",null,34092020001548,"основні засоби","Гривня",0,"2018-12-27","-","НІ",null,"-","-","-","-","ЗАТ «КОНСАЛТИНГЮРСЕРВІС»123 283,49","2022-11-30",1,11811.17,11811.17,11811.17,0,0]
["380816__573",573,"Банк Січ",380816,"Інше","Київ","Інше",null,34092020001549,"основні засоби","Гривня",0,"2018-12-27","-","НІ",null,"-","-","-","-","ЗАТ «КОНСАЛТИНГЮРСЕРВІС»123 283,49","2022-11-30",1,11828,11828,11828,0,0]
["380816__574",574,"Банк Січ",380816,"Інше","Київ","Інше",null,34092020001550,"основні засоби","Гривня",0,"2018-12-27","-","НІ",null,"-","-","-","-","ЗАТ «КОНСАЛТИНГЮРСЕРВІС»123 283,49","2022-11-30",1,11908.57,11908.57,11908.57,0,0]
["380816__575",575,"Банк Січ",380816,"Інше","Київ","Інше",null,34092020001551,"основні засоби","Гривня",0,"2018-12-27","-","НІ",null,"-","-","-","-","ЗАТ «КОНСАЛТИНГЮРСЕРВІС»123 283,49","2022-11-30",1,11969.35,11969.35,11969.35,0,0]
["380816__576",576,"Банк Січ",380816,"Інше","Київ","Інше",null,34092020001552,"основні засоби","Гривня",0,"2018-12-27","-","НІ",null,"-","-","-","-","ЗАТ «КОНСАЛТИНГЮРСЕРВІС»123 283,49","2022-11-30",1,12008.69,12008.69,12008.69,0,0]
["380816__577",577,"Банк Січ",380816,"Інше","Київ","Інше",null,34092020001553,"основні засоби","Гривня",0,"2018-12-27","-","НІ",null,"-","-","-","-","ЗАТ «КОНСАЛТИНГЮРСЕРВІС»123 283,49","2022-11-30",1,12057.72,12057.72,12057.72,0,0]
["380816__578",578,"Банк Січ",380816,"Інше","Київ","Інше",null,34092020001554,"основні засоби","Гривня",0,"2018-12-27","-","НІ",null,"-","-","-","-","ЗАТ «КОНСАЛТИНГЮРСЕРВІС»123 283,49","2022-11-30",1,12070.83,12070.83,12070.83,0,0]
["380816__579",579,"Банк Січ",380816,"Інше","Київ","Інше",null,34092020001555,"основні засоби","Гривня",0,"2018-12-27","-","НІ",null,"-","-","-","-","ЗАТ «КОНСАЛТИНГЮРСЕРВІС»123 283,49","2022-11-30",1,12225.68,12225.68,12225.68,0,0]
["380816__580",580,"Банк Січ",380816,"Інше","Київ","Інше",null,34092020001556,"основні засоби","Гривня",0,"2018-12-27","-","НІ",null,"-","-","-","-","ЗАТ «КОНСАЛТИНГЮРСЕРВІС»123 283,49","2022-11-30",1,12403.46,12403.46,12403.46,0,0]
["380816__581",581,"Банк Січ",380816,"Інше","Київ","Інше",null,34092020001557,"основні засоби","Гривня",0,"2018-12-27","-","НІ",null,"-","-","-","-","ЗАТ «КОНСАЛТИНГЮРСЕРВІС»123 283,49","2022-11-30",1,12544.21,12544.21,12544.21,0,0]
["380816__582",582,"Банк Січ",380816,"Інше","Київ","Інше",null,34092020001558,"основні засоби","Гривня",0,"2018-12-27","-","НІ",null,"-","-","-","-","ЗАТ «КОНСАЛТИНГЮРСЕРВІС»123 283,49","2022-11-30",1,12690.59,12690.59,12690.59,0,0]
["380816__583",583,"Банк Січ",380816,"Інше","Київ","Інше",null,34092020001559,"основні засоби","Гривня",0,"2018-12-27","-","НІ",null,"-","-","-","-","ЗАТ «КОНСАЛТИНГЮРСЕРВІС»123 283,49","2022-11-30",1,12740.77,12740.77,12740.77,0,0]
["380816__584",584,"Банк Січ",380816,"Інше","Київ","Інше",null,34092020001560,"основні засоби","Гривня",0,"2018-12-27","-","НІ",null,"-","-","-","-","ЗАТ «КОНСАЛТИНГЮРСЕРВІС»123 283,49","2022-11-30",1,12742.32,12742.32,12742.32,0,0]
["380816__585",585,"Банк Січ",380816,"Інше","Київ","Інше",null,34092020001561,"основні засоби","Гривня",0,"2018-12-27","-","НІ",null,"-","-","-","-","ЗАТ «КОНСАЛТИНГЮРСЕРВІС»123 283,49","2022-11-30",1,12778.55,12778.55,12778.55,0,0]
["380816__586",586,"Банк Січ",380816,"Інше","Київ","Інше",null,34092020001562,"основні засоби","Гривня",0,"2018-12-27","-","НІ",null,"-","-","-","-","ЗАТ «КОНСАЛТИНГЮРСЕРВІС»123 283,49","2022-11-30",19624,12871.74,12871.74,12871.74,0,0]
["380816__587",587,"Банк Січ",380816,"Інше","Київ","Інше",null,34092020001563,"основні засоби","Гривня",0,"2018-12-27","-","НІ",null,"-","-","-","-","ЗАТ «КОНСАЛТИНГЮРСЕРВІС»123 283,49","2022-11-30",1,12948.67,12948.67,12948.67,0,0]
["380816__588",588,"Банк Січ",380816,"Інше","Київ","Інше",null,34092020001564,"основні засоби","Гривня",0,"2018-12-27","-","НІ",null,"-","-","-","-","ЗАТ «КОНСАЛТИНГЮРСЕРВІС»123 283,49","2022-11-30",1,12978.56,12978.56,12978.56,0,0]
["380816__589",589,"Банк Січ",380816,"Інше","Київ","Інше",null,34092020001565,"основні засоби","Гривня",0,"2018-12-27","-","НІ",null,"-","-","-","-","ЗАТ «КОНСАЛТИНГЮРСЕРВІС»123 283,49","2022-11-30",19863,13028.21,13028.21,13028.21,0,0]
["380816__590",590,"Банк Січ",380816,"Інше","Київ","Інше",null,34092020001566,"основні засоби","Гривня",0,"2018-12-27","-","НІ",null,"-","-","-","-","ЗАТ «КОНСАЛТИНГЮРСЕРВІС»123 283,49","2022-11-30",1,13258.11,13258.11,13258.11,0,0]
["380816__591",591,"Банк Січ",380816,"Інше","Київ","Інше",null,34092020001567,"основні засоби","Гривня",0,"2018-12-27","-","НІ",null,"-","-","-","-","ЗАТ «КОНСАЛТИНГЮРСЕРВІС»123 283,49","2022-11-30",1,13760.83,13760.83,13760.83,0,0]
["380816__592",592,"Банк Січ",380816,"Інше","Київ","Інше",null,34092020001568,"основні засоби","Гривня",0,"2018-12-27","-","НІ",null,"-","-","-","-","ЗАТ «КОНСАЛТИНГЮРСЕРВІС»123 283,49","2022-11-30",1,14036.95,14036.95,14036.95,0,0]
["380816__593",593,"Банк Січ",380816,"Інше","Київ","Інше",null,34092020001569,"основні засоби","Гривня",0,"2018-12-27","-","НІ",null,"-","-","-","-","ЗАТ «КОНСАЛТИНГЮРСЕРВІС»123 283,49","2022-11-30",1,14047.18,14047.18,14047.18,0,0]
["380816__594",594,"Банк Січ",380816,"Інше","Київ","Інше",null,34092020001570,"основні засоби","Гривня",0,"2018-12-27","-","НІ",null,"-","-","-","-","ЗАТ «КОНСАЛТИНГЮРСЕРВІС»123 283,49","2022-11-30",1,14127.89,14127.89,14127.89,0,0]
["380816__595",595,"Банк Січ",380816,"Інше","Київ","Інше",null,34092020001571,"основні засоби","Гривня",0,"2018-12-27","-","НІ",null,"-","-","-","-","ЗАТ «КОНСАЛТИНГЮРСЕРВІС»123 283,49","2022-11-30",1,14351.6,14351.6,14351.6,0,0]
["380816__596",596,"Банк Січ",380816,"Інше","Київ","Інше",null,34092020001572,"основні засоби","Гривня",0,"2018-12-27","-","НІ",null,"-","-","-","-","ЗАТ «КОНСАЛТИНГЮРСЕРВІС»123 283,49","2022-11-30",1,14428.42,14428.42,14428.42,0,0]
["380816__597",597,"Банк Січ",380816,"Інше","Київ","Інше",null,34092020001573,"основні засоби","Гривня",0,"2018-12-27","-","НІ",null,"-","-","-","-","ЗАТ «КОНСАЛТИНГЮРСЕРВІС»123 283,49","2022-11-30",1,14452.89,14452.89,14452.89,0,0]
["380816__598",598,"Банк Січ",380816,"Інше","Київ","Інше",null,34092020001574,"основні засоби","Гривня",0,"2018-12-27","-","НІ",null,"-","-","-","-","ЗАТ «КОНСАЛТИНГЮРСЕРВІС»123 283,49","2022-11-30",1,14517.64,14517.64,14517.64,0,0]
["380816__599",599,"Банк Січ",380816,"Інше","Київ","Інше",null,34092020001575,"основні засоби","Гривня",0,"2018-12-27","-","НІ",null,"-","-","-","-","ЗАТ «КОНСАЛТИНГЮРСЕРВІС»123 283,49","2022-11-30",1,14556.85,14556.85,14556.85,0,0]
["380816__600",600,"Банк Січ",380816,"Інше","Київ","Інше",null,34092020001576,"основні засоби","Гривня",0,"2018-12-27","-","НІ",null,"-","-","-","-","ЗАТ «КОНСАЛТИНГЮРСЕРВІС»123 283,49","2022-11-30",1,14706.22,14706.22,14706.22,0,0]
["380816__601",601,"Банк Січ",380816,"Інше","Київ","Інше",null,34092020001577,"основні засоби","Гривня",0,"2018-12-27","-","НІ",null,"-","-","-","-","ЗАТ «КОНСАЛТИНГЮРСЕРВІС»123 283,49","2022-11-30",1,14746.96,14746.96,14746.96,0,0]
["380816__602",602,"Банк Січ",380816,"Інше","Київ","Інше",null,34092020001578,"основні засоби","Гривня",0,"2018-12-27","-","НІ",null,"-","-","-","-","ЗАТ «КОНСАЛТИНГЮРСЕРВІС»123 283,49","2022-11-30",1,14875.63,14875.63,14875.63,0,0]
["380816__603",603,"Банк Січ",380816,"Інше","Київ","Інше",null,34092020001579,"основні засоби","Гривня",0,"2018-12-27","-","НІ",null,"-","-","-","-","ЗАТ «КОНСАЛТИНГЮРСЕРВІС»123 283,49","2022-11-30",1,14992.18,14992.18,14992.18,0,0]
["380816__604",604,"Банк Січ",380816,"Інше","Київ","Інше",null,34092020001580,"основні засоби","Гривня",0,"2018-12-27","-","НІ",null,"-","-","-","-","ЗАТ «КОНСАЛТИНГЮРСЕРВІС»123 283,49","2022-11-30",23166,15194.82,15194.82,15194.82,0,0]
["380816__605",605,"Банк Січ",380816,"Інше","Київ","Інше",null,34092020001581,"основні засоби","Гривня",0,"2018-12-27","-","НІ",null,"-","-","-","-","ЗАТ «КОНСАЛТИНГЮРСЕРВІС»123 283,49","2022-11-30",1,15312.11,15312.11,15312.11,0,0]
["380816__606",606,"Банк Січ",380816,"Інше","Київ","Інше",null,34092020001582,"основні засоби","Гривня",0,"2018-12-27","-","НІ",null,"-","-","-","-","ЗАТ «КОНСАЛТИНГЮРСЕРВІС»123 283,49","2022-11-30",1,15538.47,15538.47,15538.47,0,0]
["380816__607",607,"Банк Січ",380816,"Інше","Київ","Інше",null,34092020001583,"основні засоби","Гривня",0,"2018-12-27","-","НІ",null,"-","-","-","-","ЗАТ «КОНСАЛТИНГЮРСЕРВІС»123 283,49","2022-11-30",23845,15640.27,15640.27,15640.27,0,0]
["380816__608",608,"Банк Січ",380816,"Інше","Київ","Інше",null,34092020001584,"основні засоби","Гривня",0,"2018-12-27","-","НІ",null,"-","-","-","-","ЗАТ «КОНСАЛТИНГЮРСЕРВІС»123 283,49","2022-11-30",1,15807.58,15807.58,15807.58,0,0]
["380816__609",609,"Банк Січ",380816,"Інше","Київ","Інше",null,34092020001585,"основні засоби","Гривня",0,"2018-12-27","-","НІ",null,"-","-","-","-","ЗАТ «КОНСАЛТИНГЮРСЕРВІС»123 283,49","2022-11-30",1,15851.9,15851.9,15851.9,0,0]
["380816__610",610,"Банк Січ",380816,"Інше","Київ","Інше",null,34092020001586,"основні засоби","Гривня",0,"2018-12-27","-","НІ",null,"-","-","-","-","ЗАТ «КОНСАЛТИНГЮРСЕРВІС»123 283,49","2022-11-30",1,15852.35,15852.35,15852.35,0,0]
["380816__611",611,"Банк Січ",380816,"Інше","Київ","Інше",null,34092020001587,"основні засоби","Гривня",0,"2018-12-27","-","НІ",null,"-","-","-","-","ЗАТ «КОНСАЛТИНГЮРСЕРВІС»123 283,49","2022-11-30",1,15888.82,15888.82,15888.82,0,0]
["380816__612",612,"Банк Січ",380816,"Інше","Київ","Інше",null,34092020001588,"основні засоби","Гривня",0,"2018-12-27","-","НІ",null,"-","-","-","-","ЗАТ «КОНСАЛТИНГЮРСЕРВІС»123 283,49","2022-11-30",1,15958.26,15958.26,15958.26,0,0]
["380816__613",613,"Банк Січ",380816,"Інше","Київ","Інше",null,34092020001589,"основні засоби","Гривня",0,"2018-12-27","-","НІ",null,"-","-","-","-","ЗАТ «КОНСАЛТИНГЮРСЕРВІС»123 283,49","2022-11-30",1,16113.07,16113.07,16113.07,0,0]
["380816__614",614,"Банк Січ",380816,"Інше","Київ","Інше",null,34092020001590,"основні засоби","Гривня",0,"2018-12-27","-","НІ",null,"-","-","-","-","ЗАТ «КОНСАЛТИНГЮРСЕРВІС»123 283,49","2022-11-30",1,16425.849999999999,16425.849999999999,16425.849999999999,0,0]
["380816__615",615,"Банк Січ",380816,"Інше","Київ","Інше",null,34092020001591,"основні засоби","Гривня",0,"2018-12-27","-","НІ",null,"-","-","-","-","ЗАТ «КОНСАЛТИНГЮРСЕРВІС»123 283,49","2022-11-30",1,16527.78,16527.78,16527.78,0,0]
["380816__616",616,"Банк Січ",380816,"Інше","Київ","Інше",null,34092020001592,"основні засоби","Гривня",0,"2018-12-27","-","НІ",null,"-","-","-","-","ЗАТ «КОНСАЛТИНГЮРСЕРВІС»123 283,49","2022-11-30",25390,16653.560000000001,16653.560000000001,16653.560000000001,0,0]
["380816__617",617,"Банк Січ",380816,"Інше","Київ","Інше",null,34092020001593,"основні засоби","Гривня",0,"2018-12-27","-","НІ",null,"-","-","-","-","ЗАТ «КОНСАЛТИНГЮРСЕРВІС»123 283,49","2022-11-30",1,17030.3,17030.3,17030.3,0,0]
["380816__618",618,"Банк Січ",380816,"Інше","Київ","Інше",null,34092020001594,"основні засоби","Гривня",0,"2018-12-27","-","НІ",null,"-","-","-","-","ЗАТ «КОНСАЛТИНГЮРСЕРВІС»123 283,49","2022-11-30",1,17052.14,17052.14,17052.14,0,0]
["380816__619",619,"Банк Січ",380816,"Інше","Київ","Інше",null,34092020001595,"основні засоби","Гривня",0,"2018-12-27","-","НІ",null,"-","-","-","-","ЗАТ «КОНСАЛТИНГЮРСЕРВІС»123 283,49","2022-11-30",1,17194.79,17194.79,17194.79,0,0]
["380816__620",620,"Банк Січ",380816,"Інше","Київ","Інше",null,34092020001596,"основні засоби","Гривня",0,"2018-12-27","-","НІ",null,"-","-","-","-","ЗАТ «КОНСАЛТИНГЮРСЕРВІС»123 283,49","2022-11-30",1,17517.57,17517.57,17517.57,0,0]
["380816__621",621,"Банк Січ",380816,"Інше","Київ","Інше",null,34092020001597,"основні засоби","Гривня",0,"2018-12-27","-","НІ",null,"-","-","-","-","ЗАТ «КОНСАЛТИНГЮРСЕРВІС»123 283,49","2022-11-30",1,17699.88,17699.88,17699.88,0,0]
["380816__622",622,"Банк Січ",380816,"Інше","Київ","Інше",null,34092020001598,"основні засоби","Гривня",0,"2018-12-27","-","НІ",null,"-","-","-","-","ЗАТ «КОНСАЛТИНГЮРСЕРВІС»123 283,49","2022-11-30",1,18023.63,18023.63,18023.63,0,0]
["380816__623",623,"Банк Січ",380816,"Інше","Київ","Інше",null,34092020001599,"основні засоби","Гривня",0,"2018-12-27","-","НІ",null,"-","-","-","-","ЗАТ «КОНСАЛТИНГЮРСЕРВІС»123 283,49","2022-11-30",1,18067.72,18067.72,18067.72,0,0]
["380816__624",624,"Банк Січ",380816,"Інше","Київ","Інше",null,34092020001600,"основні засоби","Гривня",0,"2018-12-27","-","НІ",null,"-","-","-","-","ЗАТ «КОНСАЛТИНГЮРСЕРВІС»123 283,49","2022-11-30",1,18112.22,18112.22,18112.22,0,0]
["380816__625",625,"Банк Січ",380816,"Інше","Київ","Інше",null,34092020001601,"основні засоби","Гривня",0,"2018-12-27","-","НІ",null,"-","-","-","-","ЗАТ «КОНСАЛТИНГЮРСЕРВІС»123 283,49","2022-11-30",1,18201.13,18201.13,18201.13,0,0]
["380816__626",626,"Банк Січ",380816,"Інше","Київ","Інше",null,34092020001602,"основні засоби","Гривня",0,"2018-12-27","-","НІ",null,"-","-","-","-","ЗАТ «КОНСАЛТИНГЮРСЕРВІС»123 283,49","2022-11-30",1,18459.68,18459.68,18459.68,0,0]
["380816__627",627,"Банк Січ",380816,"Інше","Київ","Інше",null,34092020001603,"основні засоби","Гривня",0,"2018-12-27","-","НІ",null,"-","-","-","-","ЗАТ «КОНСАЛТИНГЮРСЕРВІС»123 283,49","2022-11-30",1,18873.86,18873.86,18873.86,0,0]
["380816__628",628,"Банк Січ",380816,"Інше","Київ","Інше",null,34092020001604,"основні засоби","Гривня",0,"2018-12-27","-","НІ",null,"-","-","-","-","ЗАТ «КОНСАЛТИНГЮРСЕРВІС»123 283,49","2022-11-30",1,18997.11,18997.11,18997.11,0,0]
["380816__629",629,"Банк Січ",380816,"Інше","Київ","Інше",null,34092020001605,"основні засоби","Гривня",0,"2018-12-27","-","НІ",null,"-","-","-","-","ЗАТ «КОНСАЛТИНГЮРСЕРВІС»123 283,49","2022-11-30",1,19000.169999999998,19000.169999999998,19000.169999999998,0,0]
["380816__630",630,"Банк Січ",380816,"Інше","Київ","Інше",null,34092020001606,"основні засоби","Гривня",0,"2018-12-27","-","НІ",null,"-","-","-","-","ЗАТ «КОНСАЛТИНГЮРСЕРВІС»123 283,49","2022-11-30",1,19180.900000000001,19180.900000000001,19180.900000000001,0,0]
["380816__631",631,"Банк Січ",380816,"Інше","Київ","Інше",null,34092020001607,"основні засоби","Гривня",0,"2018-12-27","-","НІ",null,"-","-","-","-","ЗАТ «КОНСАЛТИНГЮРСЕРВІС»123 283,49","2022-11-30",29333,19240.189999999999,19240.189999999999,19240.189999999999,0,0]
["380816__632",632,"Банк Січ",380816,"Інше","Київ","Інше",null,34092020001608,"основні засоби","Гривня",0,"2018-12-27","-","НІ",null,"-","-","-","-","ЗАТ «КОНСАЛТИНГЮРСЕРВІС»123 283,49","2022-11-30",1,19316.39,19316.39,19316.39,0,0]
["380816__633",633,"Банк Січ",380816,"Інше","Київ","Інше",null,34092020001609,"основні засоби","Гривня",0,"2018-12-27","-","НІ",null,"-","-","-","-","ЗАТ «КОНСАЛТИНГЮРСЕРВІС»123 283,49","2022-11-30",1,19386.66,19386.66,19386.66,0,0]
["380816__634",634,"Банк Січ",380816,"Інше","Київ","Інше",null,34092020001610,"основні засоби","Гривня",0,"2018-12-27","-","НІ",null,"-","-","-","-","ЗАТ «КОНСАЛТИНГЮРСЕРВІС»123 283,49","2022-11-30",1,19417.47,19417.47,19417.47,0,0]
["380816__635",635,"Банк Січ",380816,"Інше","Київ","Інше",null,34092020001611,"основні засоби","Гривня",0,"2018-12-27","-","НІ",null,"-","-","-","-","ЗАТ «КОНСАЛТИНГЮРСЕРВІС»123 283,49","2022-11-30",1,19623.34,19623.34,19623.34,0,0]
["380816__636",636,"Банк Січ",380816,"Інше","Київ","Інше",null,34092020001612,"основні засоби","Гривня",0,"2018-12-27","-","НІ",null,"-","-","-","-","ЗАТ «КОНСАЛТИНГЮРСЕРВІС»123 283,49","2022-11-30",1,19696.86,19696.86,19696.86,0,0]
["380816__637",637,"Банк Січ",380816,"Інше","Київ","Інше",null,34092020001613,"основні засоби","Гривня",0,"2018-12-27","-","НІ",null,"-","-","-","-","ЗАТ «КОНСАЛТИНГЮРСЕРВІС»123 283,49","2022-11-30",1,19757.68,19757.68,19757.68,0,0]
["380816__638",638,"Банк Січ",380816,"Інше","Київ","Інше",null,34092020001614,"основні засоби","Гривня",0,"2018-12-27","-","НІ",null,"-","-","-","-","ЗАТ «КОНСАЛТИНГЮРСЕРВІС»123 283,49","2022-11-30",1,19935.96,19935.96,19935.96,0,0]
["380816__639",639,"Банк Січ",380816,"Інше","Київ","Інше",null,34092020001615,"основні засоби","Гривня",0,"2018-12-27","-","НІ",null,"-","-","-","-","ЗАТ «КОНСАЛТИНГЮРСЕРВІС»123 283,49","2022-11-30",1066,11629.43,11629.43,11629.43,0,0]
["380816__640",640,"Банк Січ",380816,"Інше","Київ","Інше",null,34092020001616,"основні засоби","Гривня",0,"2018-12-27","-","НІ",null,"-","-","-","-","ЗАТ «КОНСАЛТИНГЮРСЕРВІС»123 283,49","2022-11-30",1066,11668.98,11668.98,11668.98,0,0]
["380816__641",641,"Банк Січ",380816,"Інше","Київ","Інше",null,34092020001617,"основні засоби","Гривня",0,"2018-12-27","-","НІ",null,"-","-","-","-","ЗАТ «КОНСАЛТИНГЮРСЕРВІС»123 283,49","2022-11-30",1,9452.24,9452.24,9452.24,0,0]
["380816__642",642,"Банк Січ",380816,"Інше","Київ","Інше",null,34092020001618,"основні засоби","Гривня",0,"2018-12-27","-","НІ",null,"-","-","-","-","ЗАТ «КОНСАЛТИНГЮРСЕРВІС»123 283,49","2022-11-30",26113,17127.48,17127.48,17127.48,0,0]
["351629__1",1,"МЕГАБАНК",351629,"ФОП право вимоги","Полтавська","Діюче",1,"3-ю/2008","Відновлювана кредитна лінія","Гривня",1E-3,"2008-01-29","2009-08-01","НІ","Наявні документи кредитної справи",4423,0," -"," -","ТОВ \"АКО ЕКСПЕРТ\"","2022-09-01",2651.54,67470.23,67554.69,66664,890.69]
["351629__2",2,"МЕГАБАНК",351629,"ФОП право вимоги","Полтавська","Діюче",1,"22-ю/2008","Овердрафт","Гривня",1E-3,"2008-03-21","2009-09-01","НІ","Наявні документи кредитної справи",4423,0," -"," -","ТОВ \"АКО ЕКСПЕРТ\"","2022-09-01",1463.82,37242.090000000004,37288.720000000001,36796.910000000003,491.81]
["351629__3",3,"МЕГАБАНК",351629,"ФОП право вимоги","Полтавська","Діюче",1,"23-ю/2008","Кредит","Гривня",1E-3,"2008-03-24","2009-08-01","НІ","Наявні документи кредитної справи",4423,0,1405.19,"2022-10-04","ТОВ \"АКО ЕКСПЕРТ\"","2022-09-01",516.96,13151.08,11998.16,11983.97,14.19]
["351629__4",4,"МЕГАБАНК",351629,"Ф/О право вимоги","Полтавська","Діюче",1,"288/2007","Кредит","Гривня",0,"2007-12-20","2017-12-19","НІ","Наявні документи кредитної справи",4140,0,80784,"2019-03-22","ТОВ \"АКО ЕКСПЕРТ\"","2022-09-01",0.01,262770.33999999997,262770.33999999997,194084,68686.34]
["351629__5",5,"МЕГАБАНК",351629,"ФОП право вимоги","Вінницька","Діюче",1,"12г/2008","Кредит","Гривня",1E-3,"2008-07-25","2013-07-24","НІ","Наявні документи кредитної справи",4653,0,1749,"2010-08-04","ТОВ \"АКО ЕКСПЕРТ\"","2022-09-01",0.01,107222.23000000001,107301.92,62924,44377.919999999998]
["351629__6",6,"МЕГАБАНК",351629,"ФОП право вимоги","Київська","Діюче",1,"7-07/2013-MK-USD","Кредит","Доллар США",1E-3,"2013-10-09","2016-09-20","НІ","Відсутні документи кредитної справи",2609,0,683,"2018-03-26","ТОВ \"АКО ЕКСПЕРТ\"","2022-09-01",6.74,499638.61,497622.56,494378.62,3243.94]
["351629__7",7,"МЕГАБАНК",351629,"Ю/О право вимоги","Вінницька","Діюче",1,"23/2005","Невідновлювана кредитна лінія","Доллар США",0,"2005-12-16","2009-12-15","НІ","Наявні документи кредитної справи",5107,0,1257.29,"2009-06-05","ТОВ \"АКО ЕКСПЕРТ\"","2022-09-01",0.01,597311.14999999991,594152.16,541553.98,52598.18]
["351629__8",8,"МЕГАБАНК",351629,"Ю/О право вимоги","Вінницька","Діюче",1,"17-01/2008-МК-USD","Невідновлювана кредитна лініня","Доллар США",0,"2008-07-23","2013-07-22","НІ","Наявні документи кредитної справи",4952,0,58089.79,"2015-01-23","ТОВ \"АКО ЕКСПЕРТ\"","2022-09-01",11528.18,4466118.7300000004,4442498.8099999996,4249223.55,193275.26]
["351629__9",9,"МЕГАБАНК",351629,"Ю/О право вимоги","Вінницька","Діюче",1,"29-01/2008-МК-UAH","Невідновлювана кредитна лініня","Гривня",0,"2008-09-02","2013-09-20","НІ","Наявні документи кредитної справи",4746,0,34521.18,"2015-01-23","ТОВ \"АКО ЕКСПЕРТ\"","2022-09-01",356025.27,426874.3,426874.3,426874.3]
["351629__10",10,"МЕГАБАНК",351629,"Дебіторська заборгованість","Вінницька","Діюче",null,"068","Дебіторська заборгованість\n(комісії за розрахунково-касове обслуговування)","Гривня",0,"2005-12-12"," -","НІ","Відсутні документи кредитної справи",2799,0," -"," -","ТОВ «ПІВНІЧНО-СХІДНА КОНСАЛТИНГОВА ГРУПА»","2022-09-01",1,40,40,40]
["351629__11",11,"МЕГАБАНК",351629,"Ф/О право вимоги","Вінницька","Діюче",1,"30-01/2008-МК-UAH","споживчий кредит","Гривня",0,"2008-09-02","2013-09-20","НІ","Наявні документи кредитної справи",4771,0,64384,"2013-07-17","ТОВ \"АКО ЕКСПЕРТ\"","2022-09-01",177595.4,274211.71000000002,274211.71000000002,240740.45,33471.26]
["351629__12",12,"МЕГАБАНК",351629,"Ю/О право вимоги","Київ","Діюче",1,"20-05в/2019","кредитна лінія","Гривня",1E-3,"2021-03-05","2022-06-02","НІ","Відсутні документи кредитної справи",519,0,347550.77,"2022-01-31","ТОВ \"АКО ЕКСПЕРТ\"","2022-09-01",43792430.109999999,48126694.460000001,48186227.810000002,47000000,1186227.81]
["351629__13",13,"МЕГАБАНК",351629,"Ю/О право вимоги","Рівненська","Діюче",1,"2-19/2021-AEK-UAH","невідновлювана кредитна лінія","Гривня",0.23,"2021-05-12","2022-08-31","НІ","Наявний кредитний договір",488,0,7436,"2022-07-01","ТОВ “АКО ЕКСПЕРТ”","2022-09-01",203661.24,207921.39,266188.03999999998,200000,66188.039999999994]
["351629__14",14,"МЕГАБАНК",351629,"Ф/О право вимоги","Тернопільська","Діюче",1,"4-19/2020-МK-UAH","Невідновлювана кредитна лінія","Гривня",1E-3,"2020-12-21","2022-12-01","НІ","Наявні документи кредитної справи",493,70000,10000,"2023-11-03","ТОВ “АКО ЕКСПЕРТ”","2022-09-01",177953.1,274764.01,201088.71,201071.9,16.809999999999999]
["351629__15",15,"МЕГАБАНК",351629,"Дебіторська заборгованість","Тернопільська","Діюче",null,"231/2020","Дебіторська заборгованість","Гривня",null,"2020-12-01",null,"НІ","Відсутні документи кредитної справи",487,0,200,"2022-06-02","ТОВ «ПІВНІЧНО-СХІДНА КОНСАЛТИНГОВА ГРУПА»","2022-09-01",47.34,200,200,200]
["351629__16",16,"МЕГАБАНК",351629,"Ю/О право вимоги","Миколаївська","В стані припинення (крім банкрутства)",1,"16/2005","Відновлювана кредитна лінія","Гривня",0,"2005-03-22","2006-03-21","НІ","Відсутні документи кредитної справи",5914,0,2382.0300000000002,"2022-11-30","ТОВ “АКО ЕКСПЕРТ”","2022-09-01",0.01,161014.43,158632.4,158632.4]
["351629__17",17,"МЕГАБАНК",351629,"Ю/О право вимоги","Харківська","Діюче",1,"ДФ 260121","кредити в поточну діяльність МСБ ","Гривня",0,"2019-03-26","2019-04-05","НІ","Відсутні документи кредитної справи",1028,0,0,null,"ТОВ “АКО ЕКСПЕРТ”","2022-09-01",34.299999999999997,340000,340000,340000]
["351629__18",18,"МЕГАБАНК",351629,"Дебіторська заборгованість","Харківська","Діюче",null,8065,"Дебіторська заборгованість","Гривня",null,"2015-12-14",null,"НІ","Відсутні документи кредитної справи",1005,0,52.5,"2021-03-01","ТОВ «ПІВНІЧНО-СХІДНА КОНСАЛТИНГОВА ГРУПА»","2022-09-01",36.409999999999997,800,800,800]
["351629__19",19,"МЕГАБАНК",351629,"Дебіторська заборгованість","Харківська","Діюче",null,9079,"Дебіторська заборгованість","Гривня",null,"2018-03-23",null,"НІ","Відсутні документи кредитної справи",1156,0,206.02,"2020-09-02","ТОВ «ПІВНІЧНО-СХІДНА КОНСАЛТИНГОВА ГРУПА»","2022-09-01",2,43.98,43.98,43.98]
["351629__20",20,"МЕГАБАНК",351629,"Ю/О право вимоги","Херсонська","Діюче",1,"9-21о/2021-МК-UAH","овердрафт","Гривня",0.23,"2021-10-07","2022-10-06","НІ","Наявні документи кредитної справи",401,0,250,"2022-04-22","ТОВ “АКО ЕКСПЕРТ”","2022-09-01",4406.95,418001.79000000004,525267.17999999993,367382.07,157885.10999999999]
["351629__21",21,"МЕГАБАНК",351629,"Дебіторська заборгованість","Херсонська","Діюче",null,821,"Дебіторська заборгованість","Гривня",null,"2017-03-21",null,null,"Відсутні документи кредитної справи",579,0,0,null,"ТОВ «ПІВНІЧНО-СХІДНА КОНСАЛТИНГОВА ГРУПА»","2022-09-01",1,50,50,50]
["351629__22",22,"МЕГАБАНК",351629,"Ю/О право вимоги","Харківська","Діюче",1,"20-03в/2018","відновлювальна кредитна лінія","мульт. валютн.",1E-3,"2018-02-21","2023-01-23","НІ","Наявні документи кредитної справи",491,0,98005.29,"2022-03-15","ТОВ “АКО ЕКСПЕРТ”","2022-09-01",18259141.07,25643890.91,27179957.860000003,25745976.510000002,1433981.35]
["351629__23",23,"МЕГАБАНК",351629,"Ю/О право вимоги","Харківська","Діюче",1,"20-07/2022","відновлювальна кредитна лінія","Гривня",0.13500000000000001,"2022-02-03","2023-02-02","НІ","Відсутні документи кредитної справи",492,0,15000000,"2022-06-02","ТОВ “АКО ЕКСПЕРТ”","2022-09-01",650205.59,669375,669375,null,669375]
["351629__24",24,"МЕГАБАНК",351629,"Дебіторська заборгованість","Харківська","Діюче",null,"9368","дебіторська заборгованість ","Гривня",0,"2019-02-14",null,"НІ","Відсутні документи кредитної справи",487,0,250,"2022-03-02","ТОВ «ПІВНІЧНО-СХІДНА КОНСАЛТИНГОВА ГРУПА»","2022-09-01",59.17,250,250,250]
["351629__25",25,"МЕГАБАНК",351629,"Ю/О право вимоги","Харківська","Діюче",1,"20-44/2019","невідновлювана кредитна лінія ","Гривня",1E-3,"2019-08-15","2022-08-11","НІ","Відсутні документи кредитної справи",491,0,406090.7,"2022-01-27","ТОВ “АКО ЕКСПЕРТ”","2022-09-01",23295232.300000001,29122088.620000001,29155274.509999998,26199400,2955874.51]
["351629__26",26,"МЕГАБАНК",351629,"Ю/О право вимоги","Харківська","Діюче",1,"20-31/2019","відновлювальна кредитна лінія","Гривня",1E-3,"2019-06-25","2022-06-22","НІ","Відсутні документи кредитної справи",524,0,333250,"2021-12-30","ТОВ “АКО ЕКСПЕРТ”","2022-09-01",19612998.949999999,23363930.559999999,23391163.91,21500000,1891163.91]
["351629__27",27,"МЕГАБАНК",351629,"Ю/О право вимоги","Рівненська","Діюче",1,"20-23/2019","відновлювальна кредитна лінія","Гривня",1E-3,"2019-04-24","2022-06-30","НІ","Відсутні документи кредитної справи",516,0,417731.87,"2021-12-30","ТОВ “АКО ЕКСПЕРТ”","2022-09-01",12079434.199999999,14961695.449999999,14979644.209999999,14170061.359999999,809582.85]
["351629__28",28,"Мегабанк",351629,"Ю/О право вимоги","Київ","Діюче",1,"20-16в/2019","Кредитна лінія з забезпеченням","Гривня",1E-3,"2019-10-17","2022-10-12","НІ","Відсутні документи кредитної справи",455,0,300175.24,"2022-06-02","ТОВ “АКО ЕКСПЕРТ”","2022-09-01",39731184.880000003,49664670.07,50109073.439999998,47699824.759999998,2409248.6800000002]
["351629__29",29,"Мегабанк",351629,"Дебіторська заборгованість","Київ","Діюче",null,9461,"Дебіторська заборгованість","Гривня",null,"2019-06-12",null,"НІ","Відсутні документи кредитної справи",487,0,250,"2022-06-02","ТОВ «ПІВНІЧНО-СХІДНА КОНСАЛТИНГОВА ГРУПА»","2022-09-01",59.17,250,250,250]
["351629__30",30,"Мегабанк",351629,"Ю/О право вимоги","Київ","Діюче",1,"10-21о/2021-MK-UAH","Овердрафти суб'їктів господарювання","Гривня",0.23,"2021-11-26","2022-11-25","НІ","Наявні документи кредитної справи",492,0,10437.06,"2022-01-31","ТОВ “АКО ЕКСПЕРТ”","2022-09-01",645677.79,699776.76,879755.48,616424.17000000004,263331.31]
["351629__31",31,"Мегабанк",351629,"Дебіторська заборгованість","Київ","Діюче",null,905,"Дебіторська заборгованість","Гривня",null,"2022-01-31",null,"НІ","Відсутні документи кредитної справи",492,0,2.5,"2022-03-16","ТОВ «ПІВНІЧНО-СХІДНА КОНСАЛТИНГОВА ГРУПА»","2022-09-01",1,250,250,250]
["351629__32",32,"Мегабанк",351629,"Ю/О право вимоги","Харківська","Діюче",1,"20-10в/2019","відновлювальна кредитна лінія з забезпеченням","Гривня",1E-3,"2019-07-12","2022-07-08","НІ","Відсутні документи кредитної справи",507,0,426081.81,"2022-01-31","ТОВ “АКО ЕКСПЕРТ”","2022-09-01",41011508.310000002,49069517.789999999,49129811.140000001,47600000,1529811.14]
["351629__33",33,"Мегабанк",351629,"Ю/О право вимоги","Дніпропетровська","Діюче",1,"20-65/2019","Кредитна лінія з забезпеченням","Гривня",1E-3,"2019-12-11","2022-06-09","НІ","Відсутні документи кредитної справи",538,0,362436.37,"2021-12-30","ТОВ “АКО ЕКСПЕРТ”","2022-09-01",10788425.83,13285821.699999999,13301400.52,12299061.16,1002339.36]
["351629__34",34,"Мегабанк",351629,"Ю/О право вимоги","Полтавська","Діюче",1,"20-34/2019","Відновлювана кредитна лінія із забезпеченням","Гривня",1E-3,"2019-07-23","2022-07-20","НІ","Відсутні документи кредитної справи",496,0,463927.32999999996,"2021-12-30","ТОВ “АКО ЕКСПЕРТ”","2022-09-01",13869763.869999999,17273450.710000001,17293330.219999999,15694338.66,1598991.56]
["351629__35",35,"Мегабанк",351629,"Ю/О право вимоги","Миколаївська","Діюче",1,"20-13в/2019","Відновлювана кредиитна лінія із забезпечнням","Гривня",1E-3,"2019-08-29","2022-08-26","НІ","Відсутні документи кредитної справи",491,0,9976467.9299999997,"2022-06-02","ТОВ “АКО ЕКСПЕРТ”","2022-09-01",33136790.710000001,37388950.289999999,37434200.07,35723532.07,1710668]
["351629__36",36,"Мегабанк",351629,"Дебіторська заборгованість","Миколаївська","Діюче",null,"N40.06.000403","Дебіторська заборгованість","Гривня",null,"2019-08-16",null,"НІ","Відсутні документи кредитної справи",487,0,250,"2022-05-03","ТОВ «ПІВНІЧНО-СХІДНА КОНСАЛТИНГОВА ГРУПА»","2022-09-01",59.17,250,250,250]
["351629__37",37,"Мегабанк",351629,"Ю/О право вимоги","Харківська","Діюче",1,"20-28в/2019","відновлювальна кредитна лінія з забезпеченням","Гривня",1E-3,"2019-12-24","2022-12-22","НІ","Відсутні документи кредитної справи",491,0,194237.71,"2021-12-30","ТОВ “АКО ЕКСПЕРТ”","2022-09-01",21834670.300000001,26585503.02,27317410.240000002,25062930,2254480.2400000002]
["351629__38",38,"Мегабанк",351629,"Ю/О право вимоги","Харківська","Діюче",1,"20-19/2021","відновлювальна кредитна лінія з забезпеченням","Гривня",1E-3,"2021-04-07","2022-06-30","НІ","Відсутні документи кредитної справи",517,0,344100,"2022-01-27","ТОВ “АКО ЕКСПЕРТ”","2022-09-01",21467131.699999999,23274665.010000002,23302785.039999999,22200000,1102785.04]
["351629__39",39,"Мегабанк",351629,"Ю/О право вимоги","Рівненська","Діюче",1,"20-45/2019","відновлювальна кредитна лінія з забезпеченням","Гривня",1E-3,"2019-08-23","2022-08-19","НІ","Відсутні документи кредитної справи",491,0,502222.21,"2021-12-30","ТОВ “АКО ЕКСПЕРТ”","2022-09-01",13490647.75,19005294.139999997,19026874.299999997,17036957.649999999,1989916.65]
["351629__40",40,"Мегабанк",351629,"Ф/О право вимоги","Харківська","Діюче",1,"176-165-170-К","споживче кредитування","Гривня",1E-3,"2019-05-31","2022-07-28","НІ","Відсутні документи кредитної справи",489,0,60.92,"2022-02-21","ТОВ “АКО ЕКСПЕРТ”","2022-09-01",78.650000000000006,1636.0900000000001,1637.8000000000002,1359.38,278.42]
["351629__41",41,"Мегабанк",351629,"Ю/О право вимоги","Київ","Діюче",1,"20-26в/2020","відновлювальна кредитна лінія ","Доллар США",1E-3,"2020-08-13","2022-08-03","НІ","Відсутні документи кредитної справи",491,0,107489.03,"2021-05-31","ТОВ “АКО ЕКСПЕРТ”","2022-09-01",27371372.870000001,30751904.5,30625250.280000001,28409031.199999999,2216219.08]
["351629__42",42,"Мегабанк",351629,"Дебіторська заборгованість","Київ","Діюче",null,"07-149","Дебіторська заборгованість","Гривня",null,"2020-07-08",null,"НІ","Відсутні документи кредитної справи",493,0,150,"2022-05-25","ТОВ «ПІВНІЧНО-СХІДНА КОНСАЛТИНГОВА ГРУПА»","2022-09-01",71.010000000000005,300,300,300]
["351629__43",43,"Мегабанк",351629,"Ю/О право вимоги","Харківська","Діюче",1,"20-19в/2019","відновлювальна кредитна лінія з забезпеченням","Гривня",1E-3,"2019-10-29","2022-10-25","НІ","Відсутні документи кредитної справи",491,0,165102.04999999999,"2022-01-27","ТОВ “АКО ЕКСПЕРТ”","2022-09-01",17696785.739999998,22597677.539999999,22914330.27,21303490.5,1610839.77]
["351629__44",44,"Мегабанк",351629,"Ф/О право вимоги","Харківська","Діюче",1,"26-101-170-К","споживче кредитування","Гривня",1E-3,"2019-03-18","2022-07-28","НІ","Відсутні документи кредитної справи",466,0,58.69,"2021-11-30","ТОВ “АКО ЕКСПЕРТ”","2022-09-01",254.32,5290.81,5296.35,4432.1400000000003,864.21]
["351629__45",45,"Мегабанк",351629,"Ю/О право вимоги","Харківська","Діюче",1,"20-19/2019","відновлювальна кредитна лінія з забезпеченням","Гривня",0.18,"2019-03-11","2023-01-30","НІ","відсутні документи кредитної справи",491,0,480500,"2021-12-30","ТОВ “АКО ЕКСПЕРТ”","2022-09-01",28725326.870000001,34766500,41834500,31000000,10834500]
["351629__46",46,"Мегабанк",351629,"Ю/О право вимоги","Харківська","Діюче",1,"20-08в/2019","відновлювальна кредитна лінія з забезпеченням","Гривня",7.0000000000000007E-2,"2019-07-01","2022-12-01","НІ","Відсутні документи кредитної справи",491,0,376308.73,"2022-01-31","ТОВ “АКО ЕКСПЕРТ”","2022-09-01",33313970.16,43729171.07,44531021.109999999,42000000,2531021.11]
["351629__47",47,"Мегабанк",351629,"Дебіторська заборгованість","Харківська","Діюче",null,"9436","Дебіторська заборгованість","Гривня",null,"2019-05-16",null,"НІ","Відсутні документи кредитної справи",487,0,250,"2022-06-02","ТОВ «ПІВНІЧНО-СХІДНА КОНСАЛТИНГОВА ГРУПА»","2022-09-01",59.17,250,250,250]
["351629__48",48,"Мегабанк",351629,"Дебіторська заборгованість","Харківська","Діюче",null,"23-05/2019","Дебіторська заборгованість","Гривня",null,"2019-05-23",null,"НІ","Відсутні документи кредитної справи",518,0,4.03,"2022-05-19","ТОВ «ПІВНІЧНО-СХІДНА КОНСАЛТИНГОВА ГРУПА»","2022-09-01",0.95,4.03,4.03,4.03]
["351629__49",49,"Мегабанк",351629,"Ю/О право вимоги","Харківська","Діюче",1,"20-15в/2019","Кредитна лінія ","Євро",1E-3,"2019-09-27","2022-09-26","НІ","Наявний кредитний договір",491,0,124354.63,"2022-03-15","ТОВ “АКО ЕКСПЕРТ”","2022-09-01",19127720.579999998,22988775.699999999,25227333.059999999,24075070.84,1152262.22]
["351629__50",50,"Мегабанк",351629,"Ю/О право вимоги","Миколаївська","Діюче",1,"20-06в/2019","відновлювальна кредитна лінія з забезпеченням","Гривня",1E-3,"2019-06-20","2022-06-17","НІ","відсутні документи кредитної справи",528,0,393915.35,"2022-06-02","ТОВ “АКО ЕКСПЕРТ”","2022-09-01",42663756.439999998,47333564.420000002,47391965.460000001,46106084.649999999,1285880.81]
["351629__51",51,"Мегабанк",351629,"Дебіторська заборгованість","Миколаївська","Діюче",null,"N40.06.000325","Дебіторська заборгованість","Гривня",null,"2018-12-10",null,"НІ","Відсутні документи кредитної справи",487,0,250,"2022-06-02","ТОВ «ПІВНІЧНО-СХІДНА КОНСАЛТИНГОВА ГРУПА»","2022-09-01",59.17,250,250,250]
["320627__1",1,"МР Банк",320627,"Ю/О право вимоги","Івано_Франківська","В стані припинення (крім банкрутства)",1,"№05-В/11/32/ЮО/КЛ ","мультивалютна відновлювальна кредитна лінія","мульт. валютн.",0,"2011-12-28","2016-12-25","НІ","Наявні документи кредитної справи",2641,0,13878.05,"2020-05-13","ТОВ \"АКО ЕКСПЕРТ\"","2022-05-02",0.02,140267489.87,174406953.95999998,95229909.849999994,79177044.109999999,"згідно умов КД"]
["320627__2",2,"МР Банк",320627,"Дебіторська заборгованість","Івано_Франківська","В стані припинення (крім банкрутства)",null,"№Т032-013006290","дебіторська заборгованість за операціями з переказу коштів по системі \"Клієнт-Банк\" згідно договору №Т032-013006290 від 01.10.2021","Гривня",null,"2021-10-01",null,"НІ","Відсутні документи кредитної справи",791,0,null,null,"ТОВ \"АКО ЕКСПЕРТ\"","2022-05-02",123.18,250,250,250,0]
["320627__3",3,"МР Банк",320627,"Ю/О право вимоги","Харківська","В стані припинення (крім банкрутства)",1,"03-В/13/75/ЮО","Договір про відкриття кредитної лінії","Євро",0,"2013-04-24","2015-04-23","НІ","Наявні документи кредитної справи",3162,0,25046.02,"2020-11-10","ТОВ \"АКО ЕКСПЕРТ\"","2022-05-02",0.02,8307419.7800000003,10817304.49,4991021.33,5826283.1600000001,"згідно умов КД"]
["320627__4",4,"МР Банк",320627,"Дебіторська заборгованість","Харківська","В стані припинення (крім банкрутства)",null,"Т075-013005724","Просрочена комісія за обслуговування мультивалютного рахунку згідно Договору №Т075-013005724 від 07.11.2011","Гривня",null,"2011-11-07","-","НІ","Відсутні документи кредитної справи",2976,0,0,null,"ТОВ \"АКО ЕКСПЕРТ\"","2022-05-02",0.01,250,250,250,0]
["320627__5",5,"МР Банк",320627,"Дебіторська заборгованість","Харківська","В стані припинення (крім банкрутства)",null,"2013/ЗП/ХА5/12","Просрочена комісія за відкриття та обслуговування карткового рахунку згідно Договору №2013/ЗП/ХА5/12 від 13.09.2013","Гривня",null,"2013-09-13","-","НІ","Відсутні документи кредитної справи",2987,0,0,null,"ТОВ \"АКО ЕКСПЕРТ\"","2022-05-02",0.01,385,385,385,0]
["320627__6",6,"МР Банк",320627,"Ю/О право вимоги","Київ","В стані припинення (крім банкрутства)",1,"70-Н/13/29/Г/А-КБ","договір для проведення операцій з надання банківських гарантій/контрагарантій, відкритих резервних і документарних акредитивів","Доллар США",0,"2013-12-16","2015-01-27","НІ","Наявні документи кредитної справи",3069,0,226.32,null,"ТОВ \"АКО ЕКСПЕРТ\"","2022-05-02",0.03,631271432.60967696,784222345.76999998,345564381.81,438657963.95999998,"згідно умов КД"]
["320627__7",7,"МР Банк",320627,"Ю/О право вимоги","Київ","В стані припинення (крім банкрутства)",1,"LC/150808","договір на встановлення ліміту для проведення операцій з відкриття та сплати документ.акредитивів з забезпеченням","Доллар США",0,"2008-08-15","2010-08-30","НІ","Наявні документи кредитної справи",4984,0,null,null,"ТОВ \"АКО ЕКСПЕРТ\"","2022-05-02",0.05,569086347.88,701452899.32000005,676215859.19000006,25237040.129999999,"згідно умов КД"]
["300012__1",1,"ПРОМІНВЕСТБАНК",300012,"ФОП право вимоги","Закарпатська","Діюче",1,"07/4-07","кредит","Євро",0.11,"2007-04-11","2010-04-10","НІ","Наявні документи кредитної справи",4983,0,1117.1300000000001,"2015-06-24","Закрите акціонерне товариство «Консалтингюрсервіс»","2022-04-01",6441.16,678016.73,851330.93,831420.26,19910.669999999998]
["300012__2",2,"ПРОМІНВЕСТБАНК",300012,"ФОП право вимоги","Закарпатська","Ліквідовано",1,"13/4-07","кредит","Доллар США",0.13,"2007-06-14","10.06.2011","НІ","Наявні документи кредитної справи",4557,0,4910.78,"2017-09-29","Закрите акціонерне товариство «Консалтингюрсервіс»","2022-04-01",37487.35,3570224.4,4439175.2,3755178.49,683996.71]
["300012__3",3,"ПРОМІНВЕСТБАНК",300012,"ФОП право вимоги","Закарпатська","Ліквідовано",1,"38/3-07","кредит","Гривня",0.16500000000000001,"2007-07-12","2010-07-11","НІ","Наявні документи кредитної справи",4891,0,259.63,"2008-08-29","Закрите акціонерне товариство «Консалтингюрсервіс»","2022-04-01",516468.32,623882.36,624770.69999999995,599400,25370.7]
["300012__4",4,"ПРОМІНВЕСТБАНК",300012,"Ю/О право вимоги","Вінницька","Ліквідовано",1,"06-2.1/1018 ","кредитна лінія","мульт. валютн.","18,5% у грн; 12,5% у дол.США","06.11.2007","15.11.2019","НІ","відсутній оригінал кредитного договору та одного договору іпотеки","4184",0,912.62,"2021-10-20","Закрите акціонерне товариство «Консалтингюрсервіс»","2022-04-01",5855761.2000000002,54419873.939999998,63854983.259999998,61735560.82,2119422.44]
["300012__5",5,"ПРОМІНВЕСТБАНК",300012,"Ю/О право вимоги","Вінницька","Ліквідовано",1,"06-2.1/1019 ","кредитна лінія","Гривня",0.185,"06.11.2007","15.11.2019","НІ","відсутній оригінал кредитного договору та одного договору іпотеки","4184",0,1000,"2013-03-11","Закрите акціонерне товариство «Консалтингюрсервіс»","2022-04-01",669363.44999999995,8438712.6999999993,8438712.6999999993,8204270.8399999999,234441.86]
["300012__6",6,"ПРОМІНВЕСТБАНК",300012,"Ю/О право вимоги","Київ","Діюче",1,"1234/05-К","кредит","Гривня",0.16,"28.12.2007","26.12.2008","НІ","Наявні документи кредитної справи",5453,0,279603.31,"2012-05-14","Закрите акціонерне товариство «Консалтингюрсервіс»","2022-04-01",3993.77,420396.69,420396.69,420396.69,0]
["300012__7",7,"ПРОМІНВЕСТБАНК",300012,"Ю/О право вимоги","Київська","Діюче",1,"04-02-08/218","кредитна лінія","Доллар США",0.105,"2011-05-20","2014-05-15","НІ","Наявні документи кредитної справи",4066,0,8222.67,"2014-09-23","Закрите акціонерне товариство «Консалтингюрсервіс»","2022-04-01",321260.93,22309786.739999998,27739727.52,27739727.52,0]
["300012__8",8,"ПРОМІНВЕСТБАНК",300012,"Дебіторська заборгованість","Київська","Діюче",null,"03-01-20/544822/107","Дебіторська заборгованість","Гривня",null,"22.12.2020",null,"НІ","Наявні документи кредитної справи",1074,0,20.09,"2015-03-02","Закрите акціонерне товариство «Консалтингюрсервіс»","2022-04-01",120.68,779.91,779.91,779.91,0]
["300012__9",9,"ПРОМІНВЕСТБАНК",300012,"Ю/О право вимоги","Київ","Діюче",1,"3/8/08","кредитна лінія","Гривня",0.28000000000000003,"26.02.2008","20.09.2009","НІ","Наявні документи кредитної справи",5185,0,328482.14,"2012-09-11","Закрите акціонерне товариство «Консалтингюрсервіс»","2022-04-01",228350.87,1393519.43,1393519.43,1017475.59,376043.84]
["300012__10",10,"ПРОМІНВЕСТБАНК",300012,"Ю/О майнові права","Полтавська","Ліквідовано",2,"313-КР","кредит","Гривня",0.22,"2005-06-29","2006-06-28","НІ","Наявні документи кредитної справи",6365,0,7693.13,"2005-08-30","Закрите акціонерне товариство «Консалтингюрсервіс»","2022-04-01",3,831758.89,831758.89,800000,31758.89]
["300012__11",11,"ПРОМІНВЕСТБАНК",300012,"Ю/О право вимоги","Житомирська","Діюче",1,"347","кредитна лінія","Гривня",0.19,"07.06.2007","06.06.2008","НІ","Наявні документи кредитної справи",5656,0,3858.09,"2014-10-28","Закрите акціонерне товариство «Консалтингюрсервіс»","2022-04-01",1424.23,149918.47,149918.47,149918.47,0]
["300012__12",12,"ПРОМІНВЕСТБАНК",300012,"ФОП право вимоги","Чернівецька","Ліквідовано",1,"1396","кредитна лінія","Гривня",0.17,"02.06.2006","01.06.2008","НІ","відсутній оригінал договору іпотеки (в кредитній справі наявні копії) ",5661,0,79389.600000000006,"2021-03-10","Закрите акціонерне товариство «Консалтингюрсервіс»","2022-04-01",9836.7199999999993,1021636.41,1021636.41,1021636.41,0]
["300012__13",13,"ПРОМІНВЕСТБАНК",300012,"Ю/О право вимоги","Львівська","Діюче",1,"642/05-к","кредитна лінія","Гривня",0.19,"2005-08-17","2006-08-16","НІ","Наявні документи кредитної справи",6316,0,9693.5,"2006-09-29","Закрите акціонерне товариство «Консалтингюрсервіс»","2022-04-01",5495.98,578523.24,578523.24,545675.34,32847.9]
["300012__14",14,"ПРОМІНВЕСТБАНК",300012,"Ю/О право вимоги","Львівська","Діюче",1,"997/05-к","кредитна лінія","Гривня",0.19,"2005-12-20","2006-12-19","НІ","Наявні документи кредитної справи",6191,0,176510.49,"2020-09-30","Закрите акціонерне товариство «Консалтингюрсервіс»","2022-04-01",2846.54,299635.77,299635.77,299635.77,0]
["300012__15",15,"ПРОМІНВЕСТБАНК",300012,"Ю/О майнові права","Львівська","Ліквідовано",2,"521/05-К","кредит","Гривня",0.17,"2005-07-04","2006-06-20","НІ","Наявні документи кредитної справи",6373,0,3600,"2006-08-31","Закрите акціонерне товариство «Консалтингюрсервіс»","2022-04-01",2,343719.41,343719.41,335300,8419.41]
["300012__16",16,"ПРОМІНВЕСТБАНК",300012,"Ю/О майнові права","Львівська","Ліквідовано",2,"793/05-К","кредит","Гривня",0.17,"2005-10-12","2006-06-20","НІ","Наявні документи кредитної справи",6373,0,7534.25,"2006-06-26","Закрите акціонерне товариство «Консалтингюрсервіс»","2022-04-01",2,514205.49,514205.49,500000,14205.49]
["300012__17",17,"ПРОМІНВЕСТБАНК",300012,"Ю/О право вимоги","Рівненська","В стані припинення (крім банкрутства)",1,"483/06","кредитна лінія","Гривня",0.18,"2006-11-09","2008-11-08","НІ","відсутній оригінал іпотечного договору ",5501,0,98000,"2021-02-19","Закрите акціонерне товариство «Консалтингюрсервіс»","2022-04-01",292582.69,337469.69,337469.69,292152.17,45317.52]
["300012__18",18,"ПРОМІНВЕСТБАНК",300012,"Ю/О право вимоги","Закарпатська","Діюче",1,"02-05/595","кредитна лінія","Гривня",0.18,"2005-09-29","2008-09-26","НІ","Наявні документи кредитної справи",5544,0,209106,"2018-11-30","Закрите акціонерне товариство «Консалтингюрсервіс»","2022-04-01",7814.99,822630.79,822630.79,814934.06,7696.73]
["300012__19",19,"ПРОМІНВЕСТБАНК",300012,"Ю/О право вимоги","Закарпатська","Діюче",1,"2257 ","кредитна лінія","Гривня",0.16,"2007-12-10","2008-12-07","НІ","Наявні документи кредитної справи",5472,0,137273.79999999999,"2014-05-30","Закрите акціонерне товариство «Консалтингюрсервіс»","2022-04-01",935923.38,1308024.54,1308024.54,1000000,308024.53999999998]
["300012__20",20,"ПРОМІНВЕСТБАНК",300012,"Ю/О право вимоги","Закарпатська","Діюче",1,"02-07/797","кредитна лінія","Гривня",0.2,"2007-07-06","2008-07-04","НІ","Наявні документи кредитної справи",5628,0,26652.45,"2014-07-14","Закрите акціонерне товариство «Консалтингюрсервіс»","2022-04-01",3635.22,382654.83,873473.27,379467.77,494005.5]
["300012__21",21,"ПРОМІНВЕСТБАНК",300012,"Ю/О право вимоги","Закарпатська","Діюче",1,"02-06/1110","кредитна лінія","Гривня",0.18,"2006-10-20","2009-10-19","НІ","відсутній оригінал кредитного договору",5156,0,110781.85,"2018-11-13","Закрите акціонерне товариство «Консалтингюрсервіс»","2022-04-01",12178.37,1281933.56,1281933.56,985000,296933.56]
["300012__22",22,"ПРОМІНВЕСТБАНК",300012,"Ю/О право вимоги","Тернопільська","Діюче",1,"03-1/114","кредитна лінія","Гривня",0.22,"2007-10-02","2010-09-25","НІ","відсутній оригінал одного договору про внесення змін до кредитного договору",4815,0,140819.76999999999,"2010-09-16","Закрите акціонерне товариство «Консалтингюрсервіс»","2022-04-01",206720.72,1040819.8,1040819.8,842099.02,198720.78]
["300012__23",23,"ПРОМІНВЕСТБАНК",300012,"Ю/О право вимоги","Хмельницька","Діюче",1,"20-0541/2-1","кредитна лінія","Гривня",0.24299999999999999,"2014-02-18","2015-01-23","НІ","Наявні документи кредитної справи",2891,0,82045.460000000006,"2017-11-17","Закрите акціонерне товариство «Консалтингюрсервіс»","2022-04-01",5518.57,424505.32,424505.32000000007,149154.79,275350.53000000003]
["300012__24",24,"ПРОМІНВЕСТБАНК",300012,"Ю/О право вимоги","Київ","В стані припинення (крім банкрутства)",1,"13-КЛ-04","кредитна лінія","Доллар США",0.18,"2004-03-30","2005-03-17","НІ","Наявні документи кредитної справи",6833,0,13747.11,"2005-05-31","Закрите акціонерне товариство «Консалтингюрсервіс»","2022-04-01",27245.82,2867981.01,3566014,3346518.4,219495.6]
["300012__25",25,"ПРОМІНВЕСТБАНК",300012,"Ю/О право вимоги","Дніпропетровська","Діюче",1,"1814/02-07","кредит","Гривня",0.2,"2007-10-17","2008-10-16","НІ","Наявні документи кредитної справи",5524,0,37313.339999999997,"2008-10-31","Закрите акціонерне товариство «Консалтингюрсервіс»","2022-04-01",29547.16,3110227.24,3110227.24,3000000,110227.24]
["300012__26",26,"ПРОМІНВЕСТБАНК",300012,"Ю/О право вимоги","Київ","Діюче",1,"07-229к","кредит","Гривня",0.18,"2007-04-20","2008-04-18","НІ","Наявні документи кредитної справи",5705,0,3000,"2008-11-17","Закрите акціонерне товариство «Консалтингюрсервіс»","2022-04-01",2077.6999999999998,305543.53999999998,305543.53999999998,300000,5543.54]
["300012__27",27,"ПРОМІНВЕСТБАНК",300012,"ФОП право вимоги","Івано_Франківська","Діюче",1,63,"кредит","Доллар США",0.14000000000000001,"2006-12-21","2009-12-17","НІ","Наявні документи кредитної справи",5097,0,7992.5,"2012-06-27","Закрите акціонерне товариство «Консалтингюрсервіс»","2022-04-01",3439.98,362103.11,450234.77,450234.77,0]
["300012__28",28,"ПРОМІНВЕСТБАНК",300012,"ФОП право вимоги","Закарпатська","Діюче",1,"362/2-2007","кредит","Доллар США",0.12,"2007-08-03","2010-08-02","НІ","Наявні документи кредитної справи",4869,0,23253.82,"2013-07-16","Закрите акціонерне товариство «Консалтингюрсервіс»","2022-04-01",4166.04,438530.07,751698.24,545263.16,206435.08000000002]
["300012__29",29,"ПРОМІНВЕСТБАНК",300012,"ФОП право вимоги","Житомирська","Ліквідовано",1,704,"кредит","Гривня",0.2,"2007-11-29","2008-11-21","НІ","Наявні документи кредитної справи",5488,2250,450,"2023-11-28","Закрите акціонерне товариство «Консалтингюрсервіс»","2022-04-01",1675.97,176417.65,312535.32999999996,174167.65,138367.67999999999]
["300012__30",30,"ПРОМІНВЕСТБАНК",300012,"ФОП право вимоги","Закарпатська","Діюче",1,162,"кредит","Доллар США",0.17,"2006-07-06","2010-04-05","НІ","Наявні документи кредитної справи",4988,0,773382.62,"2019-07-15","Закрите акціонерне товариство «Консалтингюрсервіс»","2022-04-01",60221.2,6339074.5099999998,7871380.4400000004,7120081.6500000004,751298.79]
["300012__31",31,"ПРОМІНВЕСТБАНК",300012,"ФОП право вимоги","Житомирська","Діюче",1,"134-146/02","кредит","Гривня",0.18,"2007-11-02","2008-10-31","НІ","Наявні документи кредитної справи",5509,0,8482.0499999999993,"2008-10-31","Закрите акціонерне товариство «Консалтингюрсервіс»","2022-04-01",5362.74,564498.81999999995,564498.82000000007,499963.08,64535.74]
["300012__32",32,"ПРОМІНВЕСТБАНК",300012,"ФОП право вимоги","Сумська","Ліквідовано",1,"21/89","кредитна лінія","Гривня",0.23,"2005-03-31","2006-03-29","НІ","Наявні документи кредитної справи",6456,0,615.79999999999995,"2013-07-16","Закрите акціонерне товариство «Консалтингюрсервіс»","2022-04-01",1528.83,201162.46,201162.46,183059.72,18102.740000000002]
["300012__33",33,"ПРОМІНВЕСТБАНК",300012,"ФОП право вимоги","Вінницька","Ліквідовано",1,"02-2.1/078","кредитна лінія","Гривня",0.17499999999999999,"2008-02-07","2009-06-01","НІ","Наявні документи кредитної справи",5296,0,4784.87,"2015-09-15","Закрите акціонерне товариство «Консалтингюрсервіс»","2022-04-01",1343.33,141403.87,141403.87,101215,40188.870000000003]
["300012__34",34,"ПРОМІНВЕСТБАНК",300012,"ФОП право вимоги","Закарпатська","Діюче",1,"12/32а-04","кредит","Євро",0.13,"2004-06-09","2009-06-07","НІ","Наявні документи кредитної справи",5290,0,13583.75,"2007-05-24","Закрите акціонерне товариство «Консалтингюрсервіс»","2022-04-01",34312.870000000003,3611881.75,4429081.97,3994701.17,434380.79999999999]
["300012__35",35,"ПРОМІНВЕСТБАНК",300012,"Ю/О право вимоги","Кіровоградська","Ліквідовано",1,105,"кредитна лінія","Гривня",0.2,"2007-09-04","2010-09-03","НІ","Наявні документи кредитної справи",4837,0,2598.14,"2019-01-28","Закрите акціонерне товариство «Консалтингюрсервіс»","2022-04-01",1,1825477.41,1825477.41,1825477.41,0]
["300012__36",36,"ПРОМІНВЕСТБАНК",300012,"ФОП право вимоги","Львівська","Ліквідовано",1,191,"кредит","Гривня",0.18,"2005-10-17","2008-10-16","НІ","Наявні документи кредитної справи",5524,0,200,"2011-04-14","Закрите акціонерне товариство «Консалтингюрсервіс»","2022-04-01",1198.08,126113.14,126113.14,123738.77,2374.37]
["300012__37",37,"ПРОМІНВЕСТБАНК",300012,"ФОП право вимоги","Дніпропетровська","Діюче",1,"18-2006Л","кредитна лінія","Гривня",0.2,"2006-06-08","2007-06-07","НІ","відсутній договір іпотеки",6021,0,575.34,"2007-06-08","Закрите акціонерне товариство «Консалтингюрсервіс»","2022-04-01",3,155650.68,155650.68,150000,5650.6799999999994]
["300012__38",38,"ПРОМІНВЕСТБАНК",300012,"ФОП право вимоги","Вінницька","Ліквідовано",1,"02-2.1/663","кредитна лінія","Гривня",0.18,"2007-08-28","2009-08-27","НІ","Наявні документи кредитної справи",5209,0,98343.6,"2018-01-23","Закрите акціонерне товариство «Консалтингюрсервіс»","2022-04-01",1361.11,143275.01,143275.01,143275.01,0]
["300012__39",39,"ПРОМІНВЕСТБАНК",300012,"Ю/О право вимоги","Івано_Франківська","В стані припинення (крім банкрутства)",1,11,"кредитна лінія","Гривня",0.18,"2008-03-18","2009-03-16","НІ","Наявні документи кредитної справи",5373,0,6702.46,"2008-12-30","Закрите акціонерне товариство «Консалтингюрсервіс»","2022-04-01",4278.1099999999997,450327.14,450327.14,390000,60327.14]
["300012__40",40,"ПРОМІНВЕСТБАНК",300012,"Ю/О право вимоги","Київська","Банкрутство",1,"94/2006","кредит","Гривня",0.21,"2006-08-03","2007-08-02","НІ","Наявні документи кредитної справи",5965,0,314.48,"2007-07-31","Закрите акціонерне товариство «Консалтингюрсервіс»","2022-04-01",1002.41,105516.94,105516.94,94423.05,11093.89]
["300012__41",41,"ПРОМІНВЕСТБАНК",300012,"Ю/О право вимоги","Київ","Діюче",1,32,"кредитна лінія","Гривня",0.2,"2007-09-28","2008-09-26","НІ","Наявні документи кредитної справи",5544,0,2000,"2009-07-31","Закрите акціонерне товариство «Консалтингюрсервіс»","2022-04-01",5761.8,606505.29,606505.29,498303.78,108201.51]
["300012__42",42,"ПРОМІНВЕСТБАНК",300012,"ФОП право вимоги","Житомирська","Ліквідовано",1,"22-24/02","кредит","Гривня",0.21,"2006-03-29","2009-03-28","НІ","Наявні документи кредитної справи",5361,0,172031.78,"2016-09-06","Закрите акціонерне товариство «Консалтингюрсервіс»","2022-04-01",4293.0600000000004,451901.31,451901.31,440758.88,11142.43]
["300012__43",43,"ПРОМІНВЕСТБАНК",300012,"ФОП право вимоги","Сумська","Діюче",1,"268-02-79","кредитна лінія","Гривня",0.24,"2007-08-28","2010-06-30","НІ","Наявні документи кредитної справи",4902,0,2200,"2016-03-14","Закрите акціонерне товариство «Консалтингюрсервіс»","2022-04-01",1450.93,152729.45000000001,152729.45000000001,100000,52729.45]
["300012__44",44,"ПРОМІНВЕСТБАНК",300012,"ФОП право вимоги","Закарпатська","Ліквідовано",1,"53/3-06","кредитна лінія","Гривня",0.18,"2006-07-31","2009-07-30","НІ","Наявні документи кредитної справи",5237,0,3000,"2008-11-11","Закрите акціонерне товариство «Консалтингюрсервіс»","2022-04-01",1922.31,202348.73,202348.73,150000,52348.73]
["300012__45",45,"ПРОМІНВЕСТБАНК",300012,"ФОП право вимоги","Закарпатська","Ліквідовано",1,"87/3-05","кредит","Гривня",0.18,"2005-10-17","2008-10-16","НІ","Наявні документи кредитної справи",5524,0,212687.95,"2017-01-18","Закрите акціонерне товариство «Консалтингюрсервіс»","2022-04-01",987.06,103901.46,103901.45999999999,71170.42,32731.040000000001]
["300012__46",46,"ПРОМІНВЕСТБАНК",300012,"Ю/О право вимоги","Київська","В стані припинення (крім банкрутства)",1,"25","Інформація відсутня","Гривня",0.18,"1997-08-26","1998-08-26","НІ","Відсутні документи кредитної справи",9228,0,814000,"2003-04-04","Закрите акціонерне товариство «Консалтингюрсервіс»","2022-04-01",912,120000,120000,0,120000]
["300012__47",47,"ПРОМІНВЕСТБАНК",300012,"Ю/О майнові права","Полтавська","Ліквідовано",2,"70/210","Інформація відсутня","Гривня",0.22,"2005-05-31","2006-05-26","НІ","Відсутні документи кредитної справи",6398,0,390,"2005-09-30","Закрите акціонерне товариство «Консалтингюрсервіс»","2022-04-01",3802,530488.78,530488.78,500000,30488.78]
["300012__48",48,"ПРОМІНВЕСТБАНК",300012,"Ю/О право вимоги","Київ","Діюче",1,"689-04/08","кредитна лінія","Гривня",0.2,"2008-08-27","2011-07-29","НІ","Наявні документи кредитної справи",4508,0,16874.18,"2015-07-06","Закрите акціонерне товариство «Консалтингюрсервіс»","2022-04-01",3124.69,297589.77,317333.51,297589.77,19743.740000000002]
["300012__49",49,"ПРОМІНВЕСТБАНК",300012,"Дебіторська заборгованість","Київ","Діюче",null,"148/10","Дебіторська заборгованість","Гривня",null,"2012-10-11",null,"НІ","Наявні документи кредитної справи",4068,0,0.28000000000000003,"2011-07-29","Закрите акціонерне товариство «Консалтингюрсервіс»","2022-04-01",2.99,289.72000000000003,289.72000000000003,289.72000000000003,0]
["300012__50",50,"ПРОМІНВЕСТБАНК",300012,"ФОП право вимоги","Дніпропетровська","Діюче",1,"119/02-08","кредитна лінія","Гривня",0.2,"2008-01-31","2009-01-28","НІ","Наявні документи кредитної справи",5420,0,27578.14,"2008-10-31","Закрите акціонерне товариство «Консалтингюрсервіс»","2022-04-01",15642.56,1646584.47,1646584.47,1480000,166584.47]
["300012__51",51,"ПРОМІНВЕСТБАНК",300012,"ФОП право вимоги","Дніпропетровська","Діюче",1,"241/02-08","кредитна лінія","Гривня",0.2,"2008-03-05","2009-03-03","НІ","Наявні документи кредитної справи",5386,0,13213.11,"2008-10-31","Закрите акціонерне товариство «Консалтингюрсервіс»","2022-04-01",8244.0499999999993,867794.53,867794.53,780000,87794.53]
["300012__52",52,"ПРОМІНВЕСТБАНК",300012,"ФОП право вимоги","Одеська","Ліквідовано",1,"044-60-01-15","кредит","Гривня",0.18,"2005-05-31","2006-05-30","НІ","Відсутні документи кредитної справи",6394,0,10000,"2006-10-20","Закрите акціонерне товариство «Консалтингюрсервіс»","2022-04-01",1330,140000,142600.32000000001,140000,2600.3200000000002]
["300012__53",53,"ПРОМІНВЕСТБАНК",300012,"Ю/О право вимоги","Закарпатська","Діюче",1,"11/3-07","кредитна лінія","мульт. валютн.","25%-грн.; 14%-євро","2007-02-19","2009-02-18","НІ","Наявні документи кредитної справи",5399,0,7575.65,"2017-04-28","Закрите акціонерне товариство «Консалтингюрсервіс»","2022-04-01",951473.91,1601337.31,1800533.69,1511579.56,288954.13]
["300012__54",54,"ПРОМІНВЕСТБАНК",300012,"ФОП право вимоги","Закарпатська","Ліквідовано",1,"157/2-06","кредит","Гривня",0.2,"2006-05-31","2009-05-28","НІ","Наявні документи кредитної справи",5300,34392.339999999997,34392.339999999997,"2023-10-25","Закрите акціонерне товариство «Консалтингюрсервіс»","2022-04-01",1019.94,107362.23,72969.89,72969.89,0]
["300012__55",55,"ПРОМІНВЕСТБАНК",300012,"Ю/О право вимоги","Київ","Діюче",1,"I-29/08","кредитна лінія","Гривня",0.25,"25.07.2008","2010-07-24","НІ","Наявні документи кредитної справи",4878,0,922454.1,"2019-04-25","Закрите акціонерне товариство «Консалтингюрсервіс»","2022-04-01",6776.6,713326.72,713326.72,713326.72,0]
["300012__56",56,"ПРОМІНВЕСТБАНК",300012,"Ю/О майнові права","Дніпропетровська","Ліквідовано",2,"42-2005Л","кредитна лінія","Гривня",0.15,"2005-11-07","2008-11-06","НІ","відсутній договір іпотеки",5503,0,21268,"2012-02-01","Закрите акціонерне товариство «Консалтингюрсервіс»","2022-04-01",2,1280938.76,1280938.76,1249957.3400000001,30981.42]
["300012__57",57,"ПРОМІНВЕСТБАНК",300012,"Ю/О право вимоги","Київ","Діюче",1,"03-1/117-224-03/07","кредитна лінія","Доллар США",0.13,"05.07.2007","04.07.2008","НІ","відсутній оригінал кредитного договору ",5628,0,5000,"2008-09-30","Закрите акціонерне товариство «Консалтингюрсервіс»","2022-04-01",15880.24,1671604.51,2078453.47,2078453.47,0]
["300012__58",58,"ПРОМІНВЕСТБАНК",300012,"Ю/О право вимоги","Дніпропетровська","Діюче",1,"396/02-08","кредитна лінія","Гривня",0.2,"10.04.2008","09.04.2009","НІ","Наявні документи кредитної справи",5349,0,36206,"2011-09-26","Закрите акціонерне товариство «Консалтингюрсервіс»","2022-04-01",29849.56,3142059.5,3142059.5,3000000,142059.5]
["300012__59",59,"ПРОМІНВЕСТБАНК",300012,"ФОП право вимоги","Закарпатська","Ліквідовано",1,"527","кредит","Доллар США",0.12,"2006-09-28","2009-09-25","НІ","кредитний договір та договір забезпечення - відсутні",5180,0,19250,"2009-01-30","Закрите акціонерне товариство «Консалтингюрсервіс»","2022-04-01",69999.41,7368359.1100000003,9161731.4100000001,7202289.5999999996,1959441.81]
["300012__60",60,"ПРОМІНВЕСТБАНК",300012,"Ю/О право вимоги","Донецька","Діюче",1,"224","кредитна лінія","Гривня",0.22,"2008-09-10","2009-09-09","НІ","Наявні документи кредитної справи",5196,0,440.63,"2009-12-31","Закрите акціонерне товариство «Консалтингюрсервіс»","2022-04-01",3384.56,497728.56,497728.56,360000,137728.56]
["300012__61",61,"ПРОМІНВЕСТБАНК",300012,"Ю/О майнові права","Харківська","Ліквідовано",2,"1/07","кредит","Гривня",0.9,"1998-07-02","1999-07-13","НІ","Наявні документи кредитної справи",8907,0,"-","-","Закрите акціонерне товариство «Консалтингюрсервіс»","2022-04-01",1,100000,100000,100000,0]
["300012__62",62,"ПРОМІНВЕСТБАНК",300012,"ФОП право вимоги","Харківська","Ліквідовано",1,"23/1-08","кредитна лінія","Гривня",0.2,"2008-06-17","2009-06-05","НІ","Наявні документи кредитної справи",5292,0,286078,"2015-09-17","Закрите акціонерне товариство «Консалтингюрсервіс»","2022-04-01",2,1015248.7,1015248.7,975000,40248.699999999997]
["300012__63",63,"ПРОМІНВЕСТБАНК",300012,"ФОП право вимоги","Харківська","Ліквідовано",1,"140/772","кредит","Гривня",0.2,"2005-06-22","2006-06-21","НІ","Наявні документи кредитної справи",6372,0,1643.84,"2005-08-31","Закрите акціонерне товариство «Консалтингюрсервіс»","2022-04-01",5067.53,533424.68000000005,533424.68000000005,500000,33424.68]
["300012__64",64,"ПРОМІНВЕСТБАНК",300012,"ФОП право вимоги","Харківська","Ліквідовано",1,"104/569","кредит","Гривня",0.17,"2005-05-13","2006-05-12","НІ","Наявні документи кредитної справи",6412,0,1439.89,"2005-10-28","Закрите акціонерне товариство «Консалтингюрсервіс»","2022-04-01",2,519724.52,519724.52,499973.75,19750.77]
["300012__65",65,"ПРОМІНВЕСТБАНК",300012,"Ю/О право вимоги","Тернопільська","Діюче",1,"03-27","кредитна лінія","Гривня",0.18,"2004-02-12","2006-02-11","НІ","ні (наявні сканкопії договорів)",6502,0,731.82,"2018-10-29","Закрите акціонерне товариство «Консалтингюрсервіс»","2022-04-01",2350.41,247411.65,247411.65,241342.07999999999,6069.57]
["300012__66",66,"ПРОМІНВЕСТБАНК",300012,"Ю/О право вимоги","Полтавська","В стані припинення (крім банкрутства)",1,"45-08\\КР","кредитна лінія","Гривня",0.26,"2008-06-13","2010-10-29","НІ","Наявні документи кредитної справи",4781,0,2430,"2017-03-30","Закрите акціонерне товариство «Консалтингюрсервіс»","2022-04-01",4557.28,479713.78,479713.78,382839.94,96873.84]
["300012__67",67,"ПРОМІНВЕСТБАНК",300012,"Ю/О право вимоги","Миколаївська","Діюче",1,"265/02-06","кредитна лінія","Гривня",0.18,"20.03.2006","19.09.2008","НІ","Наявні документи кредитної справи",5551,0,20000,"2008-08-07","Закрите акціонерне товариство «Консалтингюрсервіс»","2022-04-01",59288.75,6240920.8200000003,6240920.8200000003,5959000,281920.82]
["300012__68",68,"ПРОМІНВЕСТБАНК",300012,"ФОП право вимоги","Закарпатська","Діюче",1,"23/32a-04","кредит","Доллар США",0.13,"2004-09-09","2009-09-08","НІ","Наявні документи кредитної справи",5197,0,8329.36,"2008-07-31","Закрите акціонерне товариство «Консалтингюрсервіс»","2022-04-01",1172891.3799999999,1453920.26,1807787.42,1455008,352779.42]
["300012__69",69,"ПРОМІНВЕСТБАНК",300012,"ФОП майнове право","Закарпатська","Ліквідовано",2,"02-07/1640","кредит","Гривня",0.16,"2007-11-20","2008-11-19","НІ","Наявні документи кредитної справи",5490,0,1014.49,"2008-02-05","Закрите акціонерне товариство «Консалтингюрсервіс»","2022-04-01",3,308478.32,308478.32,299999.98,8478.34]
["300012__70",70,"ПРОМІНВЕСТБАНК",300012,"Ю/О право вимоги","Харківська","В стані припинення (крім банкрутства)",1,"25","кредитна лінія","Гривня",0.18,"12.05.2005","2006-05-11","НІ","Наявні документи кредитної справи",6413,0,"після 01.08.2013 року погашення не здіснювалося (до 01.08.2013 інформація відсутня)",null,"Закрите акціонерне товариство «Консалтингюрсервіс»","2022-04-01",4349.49,457841.17,457841.17,457841.17,0]
["300012__71",71,"ПРОМІНВЕСТБАНК",300012,"ФОП майнове право","Харківська","Ліквідовано",2,"145/799","кредит","Гривня",0.2,"24.06.2005","23.06.2006","НІ","Наявні документи кредитної справи",6370,0,"після 01.08.2013 року погашення не здіснювалося (до 01.08.2013 інформація відсутня)",null,"Закрите акціонерне товариство «Консалтингюрсервіс»","2022-04-01",5067.53,533424.68000000005,533424.68000000005,500000,33424.68]
["300012__72",72,"ПРОМІНВЕСТБАНК",300012,"ФОП право вимоги","Закарпатська","Діюче",1,"61/32-04","кредит","Гривня",0.20499999999999999,"06.10.2004","2009-10-05","НІ","Наявні документи кредитної справи",5170,1041.03,1041.03,"2023-01-24","Закрите акціонерне товариство «Консалтингюрсервіс»","2022-04-01",1176.32,123823.74,122782.70999999999,104102.37,18680.34]
["300012__73",73,"ПРОМІНВЕСТБАНК",300012,"ФОП право вимоги","Харківська","Ліквідовано",1,"89/501","кредит","Гривня",0.17,"28.04.2005","20.04.2006","НІ","Наявні документи кредитної справи",6434,0,"після 01.08.2013 року погашення не здіснювалося (до 01.08.2013 інформація відсутня)",null,"Закрите акціонерне товариство «Консалтингюрсервіс»","2022-04-01",3419.01,359895.4,359895.4,359895.4,0]
["300012__74",74,"ПРОМІНВЕСТБАНК",300012,"Ю/О право вимоги","Київська","Банкрутство",1,"20-0298/3-2 (з одночасним укладанням договору про відкриття кредитної лінії №20-0299/2-1)","банківська гарантія","Доллар США","2% (комісійна винагорода за супровід наданої гарантії)","2013-02-15","2014-12-31","НІ","Наявні документи кредитної справи",3257,0,"-","-","Закрите акціонерне товариство «Консалтингюрсервіс»","2022-04-01",159189.9,6194159.5800000001,7701745.4699999997,7701745.4699999997,0]
["300012__75",75,"ПРОМІНВЕСТБАНК",300012,"Ю/О право вимоги","Київська","Банкрутство",1,"20-0841/2-1","кредитна лінія","Доллар США","змінна процентна ставка у розмірі 12-місячний Libor плюс 9,5 % річних","2011-03-30","2018-03-29","НІ","Наявні документи кредитної справи",3467,0,10029274.199999999,"2019-03-28","Закрите акціонерне товариство «Консалтингюрсервіс»","2022-04-01",5122716.43,199327487.65000001,276956437.98000002,178086904.53999999,98869533.439999998]
["300012__76",76,"ПРОМІНВЕСТБАНК",300012,"Дебіторська заборгованість","Київська","Банкрутство",null,"20-0298/3-2 ","Дебіторська заборгованість","Доллар США",null,"26.08.2014",null,"НІ","Наявні документи кредитної справи",3384,0,"-","-","Закрите акціонерне товариство «Консалтингюрсервіс»","2022-04-01",400,18565.45,23084.07,23084.07,0]
["300012__77",77,"ПРОМІНВЕСТБАНК",300012,"Дебіторська заборгованість","Київська","Банкрутство",null,"20-0298/3-2","Дебіторська заборгованість","Гривня",null,"15.02.2013",null,"НІ","Наявні документи кредитної справи",3941,0,245215.96,"2014-08-07","Закрите акціонерне товариство «Консалтингюрсервіс»","2022-04-01",23689.360000000001,471215.45,4740625.7300000004,4740625.7300000004,0]
["300012__78",78,"ПРОМІНВЕСТБАНК",300012,"Ю/О право вимоги","Київ","Діюче",1,"96/538","кредит","Гривня",0.2,"2005-05-05","2006-05-04","НІ","Наявні документи кредитної справи",6420,0,8219.18,"2005-06-30","Закрите акціонерне товариство «Консалтингюрсервіс»","2022-04-01",5067.53,533424.68000000005,533424.68000000005,500000,33424.68]
["300012__79",79,"ПРОМІНВЕСТБАНК",300012,"Ю/О право вимоги","Київ","Діюче",1,207,"кредитна лінія","Гривня",0.25,"2008-07-17","2009-08-27","НІ","Наявні документи кредитної справи",5209,0,3000,"2010-02-26","Закрите акціонерне товариство «Консалтингюрсервіс»","2022-04-01",6080.6,894205.77,894205.77,570292,323913.77]
["300012__80",80,"ПРОМІНВЕСТБАНК",300012,"Ю/О майнові права","Одеська","Ліквідовано",2,"047-60-01-15","інформація відсутня","Гривня",0.2,"2005-06-02","2006-06-01","НІ","Відсутні документи кредитної справи",6392,0,706.33,"2006-10-19","Закрите акціонерне товариство «Консалтингюрсервіс»","2022-04-01",1,300000,809246.59000000008,300000,509246.59]
["300012__81",81,"ПРОМІНВЕСТБАНК",300012,"Ю/О право вимоги","Київська","Діюче",1,"291-2007","кредитна лінія","Гривня",0.25,"2007-11-29","2009-03-27","НІ","Наявні документи кредитної справи",5362,0,16486.490000000002,"2014-08-22","Закрите акціонерне товариство «Консалтингюрсервіс»","2022-04-01",955.93,100624.05,100624.05,0,100624.05]
["300012__82",82,"ПРОМІНВЕСТБАНК",300012,"Ю/О право вимоги","Київська","Діюче",1,"14-2007","кредитна лінія","Гривня",0.25,"2007-01-26","2009-01-25","НІ","Наявні документи кредитної справи",5423,0,69791.820000000007,"2012-03-30","Закрите акціонерне товариство «Консалтингюрсервіс»","2022-04-01",592.12,62328.35,62328.35,0,62328.35]
["300012__83",83,"ПРОМІНВЕСТБАНК",300012,"Ю/О право вимоги","Тернопільська","Діюче",1,"04-11/6","кредит","Доллар США",0.14000000000000001,"2007-02-15","2010-02-14","НІ","Наявні документи кредитної справи",5038,0,12110.76,"2013-02-26","Закрите акціонерне товариство «Консалтингюрсервіс»","2022-04-01",22019.84,2317877.7200000002,2882022.01,2514632.13,367389.88]
["300012__84",84,"ПРОМІНВЕСТБАНК",300012,"Ю/О право вимоги","Тернопільська","Діюче",1,"04-11/60","кредит","Гривня",0.25,"2008-07-25","2010-06-30","НІ","Наявні документи кредитної справи",4902,0,13369.86,"2009-07-21","Закрите акціонерне товариство «Консалтингюрсервіс»","2022-04-01",2523.88,265671.26,265671.26,200000,65671.259999999995]
["300012__85",85,"ПРОМІНВЕСТБАНК",300012,"Ю/О майнові права","Дніпропетровська","Ліквідовано",2,"1802/02-03","кредитна лінія","Гривня",0.15,"2003-12-01","2013-09-03","НІ","Відсутні документи кредитної справи","3920",0,184.76,"2005-03-02","Закрите акціонерне товариство «Консалтингюрсервіс»","2022-04-01",1,353376.53,353376.53,0,353376.53]
["300012__86",86,"ПРОМІНВЕСТБАНК",300012,"Ю/О право вимоги","Тернопільська","Діюче",1,"04-11/8","кредит","Гривня",0.2,"2008-01-30","2011-01-29","НІ","відсутні оригінали договорів (в кредитній справі наявні копії), виїмка від 17.09.2013",4689,0,5095.8900000000003,"2009-01-30","Закрите акціонерне товариство «Консалтингюрсервіс»","2022-04-01",3799.48,399945.21,399945.21,300000,99945.21]
["300012__87",87,"ПРОМІНВЕСТБАНК",300012,"Ю/О право вимоги","Київ","Діюче",1,"90","кредит","Гривня",0.17,"2008-04-01","2010-04-05","НІ","кредитна справа - наявна, кредитний договір та договір забезпечення - відсутні (є у вигляді копій)",4988,0,167561,"2010-01-21","Закрите акціонерне товариство «Консалтингюрсервіс»","2022-04-01",2814.28,370299.58,370299.58,370299.58,0]
["300012__88",88,"ПРОМІНВЕСТБАНК",300012,"Ю/О право вимоги","Харківська","В стані припинення (крім банкрутства)",1,"121/1215","кредит","Гривня",0.18,"2004-11-18","2005-11-17","НІ","Наявні документи кредитної справи",6588,0,5945.2,"2005-09-27","Закрите акціонерне товариство «Консалтингюрсервіс»","2022-04-01",2,159024.68,159024.68,150000,9024.68]
["300012__89",89,"ПРОМІНВЕСТБАНК",300012,"Ю/О право вимоги","Харківська","В стані припинення (крім банкрутства)",1,"131/1277","кредит","Гривня",0.2,"2004-12-16","2005-12-10","НІ","Наявні документи кредитної справи",6565,0,443.84,"2005-08-31","Закрите акціонерне товариство «Консалтингюрсервіс»","2022-04-01",3490.79,367452.04,367452.04,350000,17452.04]
["300012__90",90,"ПРОМІНВЕСТБАНК",300012,"Ю/О право вимоги","Київ","Діюче",1,"18-2006 ","кредитна лінія","Гривня",0.2,"2006-02-22","2009-02-10","НІ","Наявні документи кредитної справи",5407,0,208370.75,"2011-11-08","Закрите акціонерне товариство «Консалтингюрсервіс»","2022-04-01",957.68,140836.12,140836.12,128807.93,12028.19]
["300012__91",91,"ПРОМІНВЕСТБАНК",300012,"Ю/О майнові права","Харківська","Ліквідовано",2,"34","кредит","Гривня",0.21,"2005-01-26","2005-11-15","НІ","Наявні документи кредитної справи",6590,0,13962.35,"2008-10-07","Закрите акціонерне товариство «Консалтингюрсервіс»","2022-04-01",1,280138.34999999998,280138.34999999998,280138.34999999998,0]
["300012__92",92,"ПРОМІНВЕСТБАНК",300012,"ФОП право вимоги","Тернопільська","Ліквідовано",1,"03-1/21","кредит","Євро",0.15,"2007-03-05","2010-03-04","НІ","Наявні документи кредитної справи",5020,0,19486.02,"2009-10-16","Закрите акціонерне товариство «Консалтингюрсервіс»","2022-04-01",12937.86,1361879.63,1670009.4100000001,1274666.58,395342.83]
["300012__93",93,"ПРОМІНВЕСТБАНК",300012,"ФОП право вимоги","Тернопільська","Ліквідовано",1,"03-1/91","кредит","Доллар США",0.15,"2007-07-13","2010-07-12","НІ","Наявні документи кредитної справи",4890,0,8391.8700000000008,"2010-06-25","Закрите акціонерне товариство «Консалтингюрсервіс»","2022-04-01",14513.22,1527706.97,1899532.9500000002,1564133.6,335399.34999999998]
["300012__94",94,"ПРОМІНВЕСТБАНК",300012,"Ю/О право вимоги","Донецька","Банкрутство",1,"02/1-457 ","кредит","Доллар США",0.15,"2007-06-22","2012-04-13","НІ","Наявні документи кредитної справи",4249,0,213349.45,"2016-08-12","Закрите акціонерне товариство «Консалтингюрсервіс»","2022-04-01",795796.56,132652192.38,164912385.58000001,150623039.99000001,14289345.59]
["300012__95",95,"ПРОМІНВЕСТБАНК",300012,"Дебіторська заборгованість","Донецька","Банкрутство",null,"02/1-457","дебіторська заборгованість","Гривня",null,"2007-06-22",null,"НІ","НІ",6006,0,"-","-","Закрите акціонерне товариство «Консалтингюрсервіс»","2022-04-01",13,1068,1068,1068,0]
["300012__96",96,"ПРОМІНВЕСТБАНК",300012,"Ю/О право вимоги","Сумська","В стані припинення (крім банкрутства)",1,"2-54-594","кредит","Гривня",0.12,"2005-08-19","2006-02-16","НІ","Наявні документи кредитної справи",6497,0,2169.86,"2005-09-07","Закрите акціонерне товариство «Консалтингюрсервіс»","2022-04-01",3959.8,416820.61,416820.61,416000,820.61]
["300012__97",97,"ПРОМІНВЕСТБАНК",300012,"Ю/О право вимоги","Сумська","Діюче",1,"6-09-104","кредитна лінія","Гривня",0.185,"2006-02-17","2007-02-14","НІ","Наявні документи кредитної справи",6134,0,1356.39,"2007-02-26","Закрите акціонерне товариство «Консалтингюрсервіс»","2022-04-01",2157.0100000000002,227052.6,227052.59999999998,223316.77,3735.83]
["300012__98",98,"ПРОМІНВЕСТБАНК",300012,"Ю/О право вимоги","Сумська","Діюче",1,"6-7-83","кредитна лінія","Гривня",0.17,"2006-02-14","2007-02-13","НІ","Наявні документи кредитної справи",6135,0,49613.18,"2017-03-14","Закрите акціонерне товариство «Консалтингюрсервіс»","2022-04-01",9586.41,1009095.39,1009095.39,980565,28530.39]
["300012__99",99,"ПРОМІНВЕСТБАНК",300012,"Ю/О право вимоги","Сумська","Діюче",1,"2-59-469","кредитна лінія","Гривня",0.2,"2006-05-31","2007-02-28","НІ","Наявні документи кредитної справи",6120,0,240,"2007-05-29","Закрите акціонерне товариство «Консалтингюрсервіс»","2022-04-01",998.81,105138.36,105138.36,100000,5138.3599999999997]
["300012__100",100,"ПРОМІНВЕСТБАНК",300012,"Ю/О право вимоги","Київська","Діюче",1,"23","кредит","Гривня",0.22,"2004-07-02","2005-07-01","НІ","Наявні документи кредитної справи",6727,0,22000,"2014-12-26","Закрите акціонерне товариство «Консалтингюрсервіс»","2022-04-01",906.02,95370.11,95370.11,95370.11,0]
["300012__101",101,"ПРОМІНВЕСТБАНК",300012,"ФОП право вимоги","Харківська","Діюче",1,"67/960","кредитна лінія","Гривня",0.18,"2004-09-08","2005-09-07","НІ","Наявні документи кредитної справи",6659,0,1239.96,"2005-07-28","Закрите акціонерне товариство «Консалтингюрсервіс»","2022-04-01",1024.9100000000001,107884.93,107884.93,100000,7884.93]
["300012__102",102,"ПРОМІНВЕСТБАНК",300012,"ФОП право вимоги","Харківська","Ліквідовано",1,"92/517","кредитна лінія","Гривня",0.2,"2005-04-28","2006-04-27","НІ","Наявні документи кредитної справи",6427,0,8493.16,"2005-09-27","Закрите акціонерне товариство «Консалтингюрсервіс»","2022-04-01",4986.8500000000004,524931.52,524931.52,500000,24931.52]
["300012__103",103,"ПРОМІНВЕСТБАНК",300012,"ФОП право вимоги","Харківська","Ліквідовано",1,"91/513","кредит","Гривня",0.2,"2005-04-28","2006-04-27","НІ","Наявні документи кредитної справи",6427,0,6849.32,"2005-07-27","Закрите акціонерне товариство «Консалтингюрсервіс»","2022-04-01",4986.8500000000004,524931.52,524931.52,500000,24931.52]
["300012__104",104,"ПРОМІНВЕСТБАНК",300012,"ФОП право вимоги","Харківська","Діюче",1,"62/323","кредит","Гривня",0.17,"2005-03-29","2006-03-28","НІ","Відсутні документи кредитної справи, протокол виїмки від 19.06.2006",6457,0,1746.58,"2005-06-06","Закрите акціонерне товариство «Консалтингюрсервіс»","2022-04-01",1484.28,156240.42000000001,156240.42000000001,150000,6240.42]
["300012__105",105,"ПРОМІНВЕСТБАНК",300012,"ФОП право вимоги","Харківська","Ліквідовано",1,"1-6/28-04","кредит","Гривня",0.22,"2004-11-26","2007-11-25","НІ","Наявні документи кредитної справи",5850,0,5000,"2007-01-25","Закрите акціонерне товариство «Консалтингюрсервіс»","2022-04-01",2295.5,241631.03,241631.03,237484.11,4146.92]
["300012__106",106,"ПРОМІНВЕСТБАНК",300012,"ФОП право вимоги","Закарпатська","Ліквідовано",1,"22/3-08","кредит","Гривня",0.2,"2008-06-02","2011-06-01","НІ","Наявні документи кредитної справи",4566,0,497.5,"2009-09-30","Закрите акціонерне товариство «Консалтингюрсервіс»","2022-04-01",363328.15,474887.97,474887.97,350000,124887.97]
["300012__107",107,"ПРОМІНВЕСТБАНК",300012,"ФОП право вимоги","Миколаївська","Ліквідовано",1,"1-41","кредит","Гривня",0.22,"2008-06-05","2009-06-03","НІ","Наявні документи кредитної справи",5294,15098.73,1268.0999999999999,"2023-11-08","Закрите акціонерне товариство «Консалтингюрсервіс»","2022-04-01",4321.3,454873.81,564250.35,300000,264250.34999999998]
["300012__108",108,"ПРОМІНВЕСТБАНК",300012,"ФОП право вимоги","Миколаївська","Ліквідовано",1,"1-13","кредит","Гривня",0.18,"2008-04-11","2009-04-08","НІ","Наявні документи кредитної справи",5350,0,1861.05,"2022-12-30","Закрите акціонерне товариство «Консалтингюрсервіс»","2022-04-01",625.67999999999995,65860.62,228057.32,53603,174454.32]
["300012__109",109,"ПРОМІНВЕСТБАНК",300012,"ФОП право вимоги","Львівська","Ліквідовано",1,"184/КР116","кредитна лінія","Гривня",0.25,"2008-07-23","2010-06-30","НІ","Наявні документи кредитної справи",4902,0,8507.42,"2020-08-21","Закрите акціонерне товариство «Консалтингюрсервіс»","2022-04-01",1523.26,160343.04999999999,160343.05000000002,132558.82,27784.23]
["300012__110",110,"ПРОМІНВЕСТБАНК",300012,"ФОП право вимоги","Закарпатська","Ліквідовано",1,"55/3-06","кредитна лінія","Гривня",0.2,"2006-08-09","2009-08-08","НІ","Наявні документи кредитної справи",5228,0,495.8,"2009-09-30","Закрите акціонерне товариство «Консалтингюрсервіс»","2022-04-01",149715.88,149715.88,172729.77,113000,59729.77]
["300012__111",111,"ПРОМІНВЕСТБАНК",300012,"ФОП право вимоги","Закарпатська","Ліквідовано ",1,"3/3-08","кредитна лінія","Гривня",0.18,"2008-02-06","2011-02-05","НІ","Наявні документи кредитної справи",4682,0,500,"2009-07-31","Закрите акціонерне товариство «Консалтингюрсервіс»","2022-04-01",1655905.32,1655905.32,1739426.88,1200000,539426.88]
["300012__112",112,"ПРОМІНВЕСТБАНК",300012,"ФОП право вимоги","Закарпатська","Ліквідовано",1,"31/3-08","кредит","Гривня",0.21,"2008-08-20","2011-08-19","НІ","Наявні документи кредитної справи",4487,0,999,"2010-11-23","Закрите акціонерне товариство «Консалтингюрсервіс»","2022-04-01",37378.370000000003,165142.14000000001,165142.14000000001,129119.53,36022.61]
["300012__113",113,"ПРОМІНВЕСТБАНК",300012,"ФОП право вимоги","Львівська","Ліквідовано ",1,"56/КР39","кредитна лінія","Гривня",0.23,"2008-02-25","2009-07-19","НІ","Наявні документи кредитної справи",5248,0,730,"2010-01-18","Закрите акціонерне товариство «Консалтингюрсервіс»","2022-04-01",1320.42,138991.47,138991.47,109000,29991.47]
["300012__114",114,"ПРОМІНВЕСТБАНК",300012,"ФОП право вимоги","Закарпатська","Ліквідовано",1,"590/1-2007","кредитна лінія","Гривня",0.2,"2007-12-05","2008-12-04","НІ","Наявні документи кредитної справи",5475,0,35509.4,"2015-11-30","Закрите акціонерне товариство «Консалтингюрсервіс»","2022-04-01",2260.88,237986.96,237986.96000000002,199072.38,38914.58]
["300012__115",115,"ПРОМІНВЕСТБАНК",300012,"Ю/О право вимоги","Закарпатська","Діюче",1,"17/4-07","кредит","Євро",0.12,"2007-07-19","2010-07-18","НІ","Наявні документи кредитної справи",4884,0,144.44999999999999,"2010-12-01","Закрите акціонерне товариство «Консалтингюрсервіс»","2022-04-01",1550.91,163253.85999999999,200190.58,200190.58,0]
["300012__116",116,"ПРОМІНВЕСТБАНК",300012,"Ю/О право вимоги","Закарпатська","Діюче",1,"21/4-07","кредит","Євро",0.12,"2007-09-05","2011-09-04","НІ","Наявні документи кредитної справи",4471,0,5252.34,"2010-10-29","Закрите акціонерне товариство «Консалтингюрсервіс»","2022-04-01",20998.46,1999852.89,2452326.23,2279631.29,172694.94]
["300012__117",117,"ПРОМІНВЕСТБАНК",300012,"Ю/О право вимоги","Закарпатська","Діюче",1,"25/4-07","кредит","Євро",0.12,"2007-11-05","2011-11-05","НІ","Наявні документи кредитної справи",4409,0,5252.34,"2010-10-29","Закрите акціонерне товариство «Консалтингюрсервіс»","2022-04-01",22067.31,2101648.6800000002,2577153.66,2382283.91,194869.75]
["300012__118",118,"ПРОМІНВЕСТБАНК",300012,"Ю/О право вимоги","Закарпатська","Діюче",1,"28/4-06","кредит","Євро",0.12,"2006-12-14","2010-12-12","НІ","Наявні документи кредитної справи",4737,0,317.48,"2010-12-01","Закрите акціонерне товариство «Консалтингюрсервіс»","2022-04-01",3621.89,381251.52,467510.94,467510.94,0]
["300012__119",119,"ПРОМІНВЕСТБАНК",300012,"Ю/О право вимоги","Закарпатська","Діюче",1,"32/32а-04","кредит","Євро",0.13,"19.11.2004","18.11.2009","НІ","Наявні документи кредитної справи",5126,0,5252.34,"2010-10-29","Закрите акціонерне товариство «Консалтингюрсервіс»","2022-04-01",16985.82,1787981.32,2192518.02,2010827.29,181690.73]
["300012__120",120,"ПРОМІНВЕСТБАНК",300012,"Ю/О майнові права","Одеська","Ліквідовано",2,"05-01-16/326","кредитна лінія","Гривня",0.2,"2008-07-23","2009-07-20","НІ","оригінал договору іпотеки відсутній",5247,0,756246.75,"2010-11-03","Закрите акціонерне товариство «Консалтингюрсервіс»","2022-04-01",2,181667.9,485635.47000000003,152023.12,333612.35000000003]
["300012__121",121,"ПРОМІНВЕСТБАНК",300012,"Ю/О право вимоги","Одеська","Ліквідовано",1,"05-01-16/433","кредитна лінія","Гривня",0.2,"2007-11-29","2009-04-20","НІ","Наявні документи кредитної справи",5338,0,3000,"2009-11-11","Закрите акціонерне товариство «Консалтингюрсервіс»","2022-04-01",2810.91,416919.14,810310.87000000011,295675.24,514635.63000000006]
["300012__122",122,"ПРОМІНВЕСТБАНК",300012,"Ю/О право вимоги","Закарпатська","Діюче",1,"1458","кредит","Гривня",0.19,"2007-09-04","2010-09-03","НІ","Наявні документи кредитної справи",4837,0,5833.86,"2012-12-17","Закрите акціонерне товариство «Консалтингюрсервіс»","2022-04-01",25776.14,25776.14,25776.14,25776.14,0]
["300012__123",123,"ПРОМІНВЕСТБАНК",300012,"Ю/О право вимоги","Закарпатська","Діюче",1,"2086"," кредитна лінія","Гривня",0.23,"2007-11-21","2009-05-20","НІ","Наявні документи кредитної справи",5308,0,316.76,"2010-03-23","Закрите акціонерне товариство «Консалтингюрсервіс»","2022-04-01",256587.62,323484.69,323484.69,255946,67538.69]
["300012__124",124,"ПРОМІНВЕСТБАНК",300012,"Ю/О право вимоги","Полтавська","Ліквідовано",1,"64-КР","невідновлювальна кредитна лінія","Гривня",0.28000000000000003,"08.10.2007","10.12.2010","НІ","Наявні документи кредитної справи",4739,0,13.89,"2018-03-02","Закрите акціонерне товариство «Консалтингюрсервіс»","2022-04-01",3,2889289.12,2889289.12,2490000,399289.12]
["300012__125",125,"ПРОМІНВЕСТБАНК",300012,"Ю/О право вимоги","Хмельницька","Банкрутство",1,"101-08/01","відновлювальна кредитна лінія","Гривня",0.18,"2008-02-07","2009-08-06","НІ","Наявні документи кредитної справи",5230,0,511507.98,"2016-05-04","Закрите акціонерне товариство «Консалтингюрсервіс»","2022-04-01",878289.92000000004,1598365.02,2164873.63,1188362.02,976511.6100000001]
["300012__126",126,"ПРОМІНВЕСТБАНК",300012,"Ю/О право вимоги","Хмельницька","Банкрутство",1,"1039-07/02","кредит","Гривня",0.21,"31.07.2007","30.07.2010","НІ","Наявні документи кредитної справи",4872,0,237906.23,"2017-11-16","Закрите акціонерне товариство «Консалтингюрсервіс»","2022-04-01",3938.92,518278.51,633600.04,518278.51,115321.53]
["300012__127",127,"ПРОМІНВЕСТБАНК",300012,"Ю/О право вимоги","Одеська","Діюче",1,"13-65-06/212","кредит","Гривня",0.18,"2008-05-08","2011-04-19","НІ","Наявні документи кредитної справи",4609,0,835195.25,"2017-12-26","Закрите акціонерне товариство «Консалтингюрсервіс»","2022-04-01",37500,5000000,5665115.8399999999,5000000,665115.84]
["300012__128",128,"ПРОМІНВЕСТБАНК",300012,"Ю/О право вимоги","Одеська","Діюче",1,"13-65-06/261","кредит","Гривня",0.22,"2008-05-27","2009-07-24","НІ","Наявні документи кредитної справи",5243,0,2851372.9,"2017-12-26","Закрите акціонерне товариство «Консалтингюрсервіс»","2022-04-01",15375.23,1617967.3,1617967.2999999998,1186506.1299999999,431461.17]
["300012__129",129,"ПРОМІНВЕСТБАНК",300012,"ФОП право вимоги","Тернопільська","Ліквідовано",1,"03-10","кредит","Гривня",0.2,"2008-02-01","2009-07-31","НІ","Наявні документи кредитної справи",5236,0,"-","-","Закрите акціонерне товариство «Консалтингюрсервіс»","2022-04-01",831.66,109429.49,109429.49,96000,13429.49]
["300012__130",130,"ПРОМІНВЕСТБАНК",300012,"ФОП право вимоги","Тернопільська","Ліквідовано",1,"03-1/140","кредитна лінія","Гривня",0.18,"10.12.2007","09.12.2009","НІ","Наявні документи кредитної справи",5105,0,44.17,"2014-04-23","Закрите акціонерне товариство «Консалтингюрсервіс»","2022-04-01",13865.37,1459512.9,1459512.9,991174.02,468338.88]
["300012__131",131,"ПРОМІНВЕСТБАНК",300012,"ФОП право вимоги","Тернопільська","Ліквідовано",1,"03-1/38","кредитна лінія","Гривня",0.25,"2008-03-21","2009-10-01","НІ","Наявні документи кредитної справи",5174,0,8000,"2009-07-31","Закрите акціонерне товариство «Консалтингюрсервіс»","2022-04-01",11712.33,1232876.7,1232876.7,800000,432876.7]
["300012__132",132,"ПРОМІНВЕСТБАНК",300012,"Ю/О право вимоги","Тернопільська","Діюче",1,"03-1/107","кредитна лінія","Гривня",0.25,"2007-09-06","2010-09-03","НІ","відсутні оригінал та копія Договору поруки, інші документи кредитної справи та договори - наявні",4837,0,124000,"2010-04-07","Закрите акціонерне товариство «Консалтингюрсервіс»","2022-04-01",895.83,94297.89,94297.89,80642.95,13654.94]
["300012__133",133,"ПРОМІНВЕСТБАНК",300012,"ФОП право вимоги","Закарпатська","Ліквідовано",1,422,"кредит","Гривня",0.19,"2005-12-05","2008-12-04","НІ","Наявні документи кредитної справи",5475,0,121325,"2015-07-28","Закрите акціонерне товариство «Консалтингюрсервіс»","2022-04-01",5340.03,562108.07999999996,562108.07999999996,556504.24,5603.84]
["300012__134",134,"ПРОМІНВЕСТБАНК",300012,"ФОП право вимоги","Закарпатська","Ліквідовано",1,"26/4-06","кредитна лінія","Євро",0.14000000000000001,"2006-11-08","2008-11-07","НІ","оригінали договорів та матеріалів кредитної справи відсутні ",5502,0,52729.65,"2012-05-21","Закрите акціонерне товариство «Консалтингюрсервіс»","2022-04-01",16552.54,1725914.23,2087630.1400000001,1995978.02,91652.12]
["300012__135",135,"ПРОМІНВЕСТБАНК",300012,"Дебіторська заборгованість","Київ","Діюче",null,"09-1763/7","Дебіторська заборгованість","Гривня",null,"2013-03-20",null,"НІ","НІ",3908,0,"-","-","ТОВ \"Північно-Східна консалтингова група\"","2023-01-02",15,144868.82,144868.82,144868.82,0]
["300012__136",136,"ПРОМІНВЕСТБАНК",300012,"Ю/О право вимоги","Київ","Діюче",1,"46-2007/к","кредитна лінія","Гривня",0.2,"2007-11-21","2009-11-20","НІ","Наявні документи кредитної справи",5124,0,52.13,"2012-08-06","Закрите акціонерне товариство «Консалтингюрсервіс»","2022-04-01",2,18752400.670000002,18752400.670000002,15462000,3290400.67]
["300012__137",137,"ПРОМІНВЕСТБАНК",300012,"Ю/О право вимоги","Волинська","В стані припинення (крім банкрутства)",1,"57-4","кредитна лінія","Гривня",0.2,"24.05.2006","22.05.2007","НІ","оригінали договорів відсутні (в кредитній справі наявні копії документів)",6037,0,32641.5,"2021-05-07","Закрите акціонерне товариство «Консалтингюрсервіс»","2022-04-01",2435.73,358195.94,358195.94,358195.94,0]
["300012__138",138,"ПРОМІНВЕСТБАНК",300012,"Ю/О право вимоги","Івано_Франківська","Діюче",1,56,"кредитна лінія","Гривня",0.22,"2010-05-17","2013-05-05","НІ","Наявні документи кредитної справи",4101,0,171768.18,"2021-05-26","Закрите акціонерне товариство «Консалтингюрсервіс»","2022-04-01",3486242.5,5431328.3099999996,5684212.54,937628.92,4746583.62]
["300012__139",139,"ПРОМІНВЕСТБАНК",300012,"Дебіторська заборгованість","Івано_Франківська","Діюче",null,"FCMF-50642","Дебіторська заборгованість","Гривня",null,"31.08.2012",null,"НІ","так",4109,0,"-","-","Закрите акціонерне товариство «Консалтингюрсервіс»","2022-04-01",6.6,640,640,640,0]
["","",null,"",null,null,null,null,null,null,null,null,null,null,null,null,null,null,null,null,null,null,null,null,""]
["","",null,"","",null,"«Недійсність (нікчемність), припинення всіх або будь-якого із прав, що складають Майнові права за цим лотом, або неможливість реалізації покупцем будь-якого із Майнових прав, набутих ним за договором купівлі-продажу Майнових прав за цим лотом, не вплине на дійсність договору купівлі-продажу Майнових прав за цим лотом та Покупець погоджується, що Продавець не несе жодної відповідальності за такі наслідки.\nБанк (продавець) та/або Фонд не відповідає за неотримання покупцем грошових коштів або іншого майна, які покупець очікував отримати від Майнових прав, набуваючи у власність Майнові права за цим лотом.\nПриймаючи рішення щодо придбання Майнових прав за цим лотом покупець має розуміти (усвідомлювати) характер Майнових прав, що переходять до покупця за цим лотом, та приймати усі ризики, пов’язані із таким переходом, у тому числі ризики того, що покупець у майбутньому не зможе отримати жодних коштів або майна за Майновими правами.»",null,null,null,null,null,null,null,null,null,null,null,null,null,null,null,null,null,null,null,null,null,null,"",null,null,null,null,"",null,""]
["","",null,"","",null,"Цей документ був підготовлений Фондом гарантування вкладів фізичних осіб (далі – Фонд) виключно для інформаційних цілей і не повинен вважатися як спонукання до будь-яких дій чи бездіяльності.  Інформація, що міститься в цьому документі, була отримана з/або ґрунтується на джерелах, які вважаються надійними, але не є вичерпною та не може сприйматися як повна або актуальна. Рішення покупця щодо будь-яких дій або бездіяльності повинно ґрунтуватися на власних оцінках та дослідженнях майна (активу/активів), котре реалізується. Фонд не несе відповідальності за рішення покупця та його наслідки, що ґрунтується на інформації, викладеній в даному документі.",null,null,null,null,null,null,null,null,null,null,null,null,null,null,null,null,null,null,null,null,null,null,"",null,null,null,null,"",null,""]
["","",null,"","",null,"Покупцем не може бути особа, пов'язана з державою-агресором, відповідно до Постанови Кабінету Міністрів України №187 від 03.03.2022 (зі змінами).",null,null,null,null,null,null,null,null,null,null,null,null,null,null,null,null,null,null,null,null,null,null,"",null,null,null,null,"",null,""]
["","",null,"","",null,"Звертаємо увагу, що  на період дії воєнного стану на території України  договори посвідчуються нотаріусом, який включений до затвердженого Міністерством юстиції переліку (https://minjust.gov.ua/news/ministry/perelik-notariusiv-yakimi-v-umovah-voennogo-stanu-vchinyayutsya-notarialni-dii-schodo-tsinnogo-mayna). Нотаріальне посвідчення договорів відчуження нерухомого майна на час дії воєнного стану здійснюється нотаріусом, який включений до затвердженого Міністерством юстиції переліку, за місцезнаходженням такого майна. Виключенням є м. Київ та Київська область, де договори відчуження нерухомого майна посвідчуються нотаріусом з м. Києва або Київської обл. за місцезнаходженням такого майна, або місцезнаходженням юридичної особи, або за зареєстрованим місцем проживання фізичної особи - однієї із сторін договору.",null,null,null,null,null,null,null,null,null,null,null,null,null,null,null,null,null,null,null,null,null,null,"",null,null,null,null,"",null,""]
["","",null,"","",null,null,null,null,null,null,null,null,null,null,null,null,null,null,null,null,null,null,null,null,null,null,null,null,"",null,null,null,null,"",null,""]
["","",null,"","",null,null,null,null,null,null,null,null,null,null,null,null,null,null,null,null,null,null,null,null,null,null,null,null,"",null,null,null,null,"",null,""]
["","",null,"",null,null,null,null,null,null,null,null,null,null,null,null,null,null,null,null,null,null,null,null,""]
["","",null,"",null,null,null,null,null,null,null,null,null,null,null,null,null,null,null,null,null,null,null,null,""]
["","",null,"",null,null,null,null,null,null,null,null,null,null,null,null,null,null,null,null,null,null,null,null,""]
["","",null,"",null,null,null,null,null,null,null,null,null,null,null,null,null,null,null,null,null,null,null,null,""]
["","",null,"",null,null,null,null,null,null,null,null,null,null,null,null,null,null,null,null,null,null,null,null,""]
["","",null,"",null,null,null,null,null,null,null,null,null,null,null,null,null,null,null,null,null,null,null,null,""]
["","",null,"",null,null,null,null,null,null,null,null,null,null,null,null,null,null,null,null,null,null,null,null,""]
["","",null,"",null,null,null,null,null,null,null,null,null,null,null,null,null,null,null,null,null,null,null,null,""]
["","",null,"",null,null,null,null,null,null,null,null,null,null,null,null,null,null,null,null,null,null,null,null,""]
["","",null,"",null,null,null,null,null,null,null,null,null,null,null,null,null,null,null,null,null,null,null,null,""]
["","",null,"",null,null,null,null,null,null,null,null,null,null,null,null,null,null,null,null,null,null,null,null,""]
["","",null,"",null,null,null,null,null,null,null,null,null,null,null,null,null,null,null,null,null,null,null,null,""]
["","",null,"",null,null,null,null,null,null,null,null,null,null,null,null,null,null,null,null,null,null,null,null,""]
["","",null,"",null,null,null,null,null,null,null,null,null,null,null,null,null,null,null,null,null,null,null,null,""]
["","",null,"",null,null,null,null,null,null,null,null,null,null,null,null,null,null,null,null,null,null,null,null,""]
["","",null,"",null,null,null,null,null,null,null,null,null,null,null,null,null,null,null,null,null,null,null,null,""]
["","",null,"",null,null,null,null,null,null,null,null,null,null,null,null,null,null,null,null,null,null,null,null,""]
["","",null,"",null,null,null,null,null,null,null,null,null,null,null,null,null,null,null,null,null,null,null,null,""]
["","",null,"",null,null,null,null,null,null,null,null,null,null,null,null,null,null,null,null,null,null,null,null,""]
["","",null,"",null,null,null,null,null,null,null,null,null,null,null,null,null,null,null,null,null,null,null,null,""]
["","",null,"",null,null,null,null,null,null,null,null,null,null,null,null,null,null,null,null,null,null,null,null,""]
["","",null,"",null,null,null,null,null,null,null,null,null,null,null,null,null,null,null,null,null,null,null,null,""]
["","",null,"",null,null,null,null,null,null,null,null,null,null,null,null,null,null,null,null,null,null,null,null,""]
["","",null,"",null,null,null,null,null,null,null,null,null,null,null,null,null,null,null,null,null,null,null,null,""]
["","",null,"",null,null,null,null,null,null,null,null,null,null,null,null,null,null,null,null,null,null,null,null,""]
["","",null,"",null,null,null,null,null,null,null,null,null,null,null,null,null,null,null,null,null,null,null,null,""]
["","",null,"",null,null,null,null,null,null,null,null,null,null,null,null,null,null,null,null,null,null,null,null,""]
["","",null,"",null,null,null,null,null,null,null,null,null,null,null,null,null,null,null,null,null,null,null,null,""]
["","",null,"",null,null,null,null,null,null,null,null,null,null,null,null,null,null,null,null,null,null,null,null,""]
["","",null,"",null,null,null,null,null,null,null,null,null,null,null,null,null,null,null,null,null,null,null,null,""]
["","",null,"",null,null,null,null,null,null,null,null,null,null,null,null,null,null,null,null,null,null,null,null,""]
["","",null,"",null,null,null,null,null,null,null,null,null,null,null,null,null,null,null,null,null,null,null,null,""]
["","",null,"",null,null,null,null,null,null,null,null,null,null,null,null,null,null,null,null,null,null,null,null,""]
["","",null,"",null,null,null,null,null,null,null,null,null,null,null,null,null,null,null,null,null,null,null,null,""]
["","",null,"",null,null,null,null,null,null,null,null,null,null,null,null,null,null,null,null,null,null,null,null,""]
["","",null,"",null,null,null,null,null,null,null,null,null,null,null,null,null,null,null,null,null,null,null,null,""]
["","",null,"",null,null,null,null,null,null,null,null,null,null,null,null,null,null,null,null,null,null,null,null,""]
["","",null,"",null,null,null,null,null,null,null,null,null,null,null,null,null,null,null,null,null,null,null,null,""]
["","",null,"",null,null,null,null,null,null,null,null,null,null,null,null,null,null,null,null,null,null,null,null,""]
["","",null,"",null,null,null,null,null,null,null,null,null,null,null,null,null,null,null,null,null,null,null,null,""]
["","",null,"",null,null,null,null,null,null,null,null,null,null,null,null,null,null,null,null,null,null,null,null,""]
["","",null,"",null,null,null,null,null,null,null,null,null,null,null,null,null,null,null,null,null,null,null,null,""]
["","",null,"",null,null,null,null,null,null,null,null,null,null,null,null,null,null,null,null,null,null,null,null,""]
["","",null,"",null,null,null,null,null,null,null,null,null,null,null,null,null,null,null,null,null,null,null,null,""]
["","",null,"",null,null,null,null,null,null,null,null,null,null,null,null,null,null,null,null,null,null,null,null,""]
["","",null,"",null,null,null,null,null,null,null,null,null,null,null,null,null,null,null,null,null,null,null,null,""]
["","",null,"",null,null,null,null,null,null,null,null,null,null,null,null,null,null,null,null,null,null,null,null,""]
["","",null,"",null,null,null,null,null,null,null,null,null,null,null,null,null,null,null,null,null,null,null,null,""]
["","",null,"",null,null,null,null,null,null,null,null,null,null,null,null,null,null,null,null,null,null,null,null,""]
["","",null,"",null,null,null,null,null,null,null,null,null,null,null,null,null,null,null,null,null,null,null,null,""]
["","",null,"",null,null,null,null,null,null,null,null,null,null,null,null,null,null,null,null,null,null,null,null,""]
["","",null,"",null,null,null,null,null,null,null,null,null,null,null,null,null,null,null,null,null,null,null,null,""]
["","",null,"",null,null,null,null,null,null,null,null,null,null,null,null,null,null,null,null,null,null,null,null,""]
["","",null,"",null,null,null,null,null,null,null,null,null,null,null,null,null,null,null,null,null,null,null,null,""]
["","",null,"",null,null,null,null,null,null,null,null,null,null,null,null,null,null,null,null,null,null,null,null,""]
["","",null,"",null,null,null,null,null,null,null,null,null,null,null,null,null,null,null,null,null,null,null,null,""]
["","",null,"",null,null,null,null,null,null,null,null,null,null,null,null,null,null,null,null,null,null,null,null,""]
["","",null,"",null,null,null,null,null,null,null,null,null,null,null,null,null,null,null,null,null,null,null,null,""]
["","",null,"",null,null,null,null,null,null,null,null,null,null,null,null,null,null,null,null,null,null,null,null,""]
["","",null,"",null,null,null,null,null,null,null,null,null,null,null,null,null,null,null,null,null,null,null,null,""]
["","",null,"",null,null,null,null,null,null,null,null,null,null,null,null,null,null,null,null,null,null,null,null,""]
["","",null,"",null,null,null,null,null,null,null,null,null,null,null,null,null,null,null,null,null,null,null,null,""]
["","",null,"",null,null,null,null,null,null,null,null,null,null,null,null,null,null,null,null,null,null,null,null,""]
["","",null,"",null,null,null,null,null,null,null,null,null,null,null,null,null,null,null,null,null,null,null,null,""]
["","",null,"",null,null,null,null,null,null,null,null,null,null,null,null,null,null,null,null,null,null,null,null,""]
["","",null,"",null,null,null,null,null,null,null,null,null,null,null,null,null,null,null,null,null,null,null,null,""]
["","",null,"",null,null,null,null,null,null,null,null,null,null,null,null,null,null,null,null,null,null,null,null,""]
["","",null,"",null,null,null,null,null,null,null,null,null,null,null,null,null,null,null,null,null,null,null,null,""]
["","",null,"",null,null,null,null,null,null,null,null,null,null,null,null,null,null,null,null,null,null,null,null,""]
["","",null,"",null,null,null,null,null,null,null,null,null,null,null,null,null,null,null,null,null,null,null,null,""]
["","",null,"",null,null,null,null,null,null,null,null,null,null,null,null,null,null,null,null,null,null,null,null,""]
["","",null,"",null,null,null,null,null,null,null,null,null,null,null,null,null,null,null,null,null,null,null,null,""]
["","",null,"",null,null,null,null,null,null,null,null,null,null,null,null,null,null,null,null,null,null,null,null,""]
["","",null,"",null,null,null,null,null,null,null,null,null,null,null,null,null,null,null,null,null,null,null,null,""]
["","",null,"",null,null,null,null,null,null,null,null,null,null,null,null,null,null,null,null,null,null,null,null,""]
["","",null,"",null,null,null,null,null,null,null,null,null,null,null,null,null,null,null,null,null,null,null,null,""]
["","",null,"",null,null,null,null,null,null,null,null,null,null,null,null,null,null,null,null,null,null,null,null,""]
["","",null,"",null,null,null,null,null,null,null,null,null,null,null,null,null,null,null,null,null,null,null,null,""]
["","",null,"",null,null,null,null,null,null,null,null,null,null,null,null,null,null,null,null,null,null,null,null,""]
["","",null,"",null,null,null,null,null,null,null,null,null,null,null,null,null,null,null,null,null,null,null,null,""]
["","",null,"",null,null,null,null,null,null,null,null,null,null,null,null,null,null,null,null,null,null,null,null,""]
["","",null,"",null,null,null,null,null,null,null,null,null,null,null,null,null,null,null,null,null,null,null,null,""]
["","",null,"",null,null,null,null,null,null,null,null,null,null,null,null,null,null,null,null,null,null,null,null,""]
["","",null,"",null,null,null,null,null,null,null,null,null,null,null,null,null,null,null,null,null,null,null,null,""]
["","",null,"",null,null,null,null,null,null,null,null,null,null,null,null,null,null,null,null,null,null,null,null,""]
["","",null,"",null,null,null,null,null,null,null,null,null,null,null,null,null,null,null,null,null,null,null,null,""]
["","",null,"",null,null,null,null,null,null,null,null,null,null,null,null,null,null,null,null,null,null,null,null,""]
["","",null,"",null,null,null,null,null,null,null,null,null,null,null,null,null,null,null,null,null,null,null,null,""]
["","",null,"",null,null,null,null,null,null,null,null,null,null,null,null,null,null,null,null,null,null,null,null,""]
["","",null,"",null,null,null,null,null,null,null,null,null,null,null,null,null,null,null,null,null,null,null,null,""]
["","",null,"",null,null,null,null,null,null,null,null,null,null,null,null,null,null,null,null,null,null,null,null,""]
["","",null,"",null,null,null,null,null,null,null,null,null,null,null,null,null,null,null,null,null,null,null,null,""]
["","",null,"",null,null,null,null,null,null,null,null,null,null,null,null,null,null,null,null,null,null,null,null,""]
["","",null,"",null,null,null,null,null,null,null,null,null,null,null,null,null,null,null,null,null,null,null,null,""]
["","",null,"",null,null,null,null,null,null,null,null,null,null,null,null,null,null,null,null,null,null,null,null,""]
["","",null,"",null,null,null,null,null,null,null,null,null,null,null,null,null,null,null,null,null,null,null,null,""]
["","",null,"",null,null,null,null,null,null,null,null,null,null,null,null,null,null,null,null,null,null,null,null,""]
["","",null,"",null,null,null,null,null,null,null,null,null,null,null,null,null,null,null,null,null,null,null,null,""]
["","",null,"",null,null,null,null,null,null,null,null,null,null,null,null,null,null,null,null,null,null,null,null,""]
["","",null,"",null,null,null,null,null,null,null,null,null,null,null,null,null,null,null,null,null,null,null,null,""]
["","",null,"",null,null,null,null,null,null,null,null,null,null,null,null,null,null,null,null,null,null,null,null,""]
["","",null,"",null,null,null,null,null,null,null,null,null,null,null,null,null,null,null,null,null,null,null,null,""]
["","",null,"",null,null,null,null,null,null,null,null,null,null,null,null,null,null,null,null,null,null,null,null,""]
["","",null,"",null,null,null,null,null,null,null,null,null,null,null,null,null,null,null,null,null,null,null,null,""]
["","",null,"",null,null,null,null,null,null,null,null,null,null,null,null,null,null,null,null,null,null,null,null,""]
["","",null,"",null,null,null,null,null,null,null,null,null,null,null,null,null,null,null,null,null,null,null,null,""]
["","",null,"",null,null,null,null,null,null,null,null,null,null,null,null,null,null,null,null,null,null,null,null,""]
["","",null,"",null,null,null,null,null,null,null,null,null,null,null,null,null,null,null,null,null,null,null,null,""]
["","",null,"",null,null,null,null,null,null,null,null,null,null,null,null,null,null,null,null,null,null,null,null,""]
["","",null,"",null,null,null,null,null,null,null,null,null,null,null,null,null,null,null,null,null,null,null,null,""]
["","",null,"",null,null,null,null,null,null,null,null,null,null,null,null,null,null,null,null,null,null,null,null,""]
["","",null,"",null,null,null,null,null,null,null,null,null,null,null,null,null,null,null,null,null,null,null,null,""]
["","",null,"",null,null,null,null,null,null,null,null,null,null,null,null,null,null,null,null,null,null,null,null,""]
["","",null,"",null,null,null,null,null,null,null,null,null,null,null,null,null,null,null,null,null,null,null,null,""]
["","",null,"",null,null,null,null,null,null,null,null,null,null,null,null,null,null,null,null,null,null,null,null,""]
["","",null,"",null,null,null,null,null,null,null,null,null,null,null,null,null,null,null,null,null,null,null,null,""]
["","",null,"",null,null,null,null,null,null,null,null,null,null,null,null,null,null,null,null,null,null,null,null,""]
["","",null,"",null,null,null,null,null,null,null,null,null,null,null,null,null,null,null,null,null,null,null,null,""]
["","",null,"",null,null,null,null,null,null,null,null,null,null,null,null,null,null,null,null,null,null,null,null,""]
["","",null,"",null,null,null,null,null,null,null,null,null,null,null,null,null,null,null,null,null,null,null,null,""]
["","",null,"",null,null,null,null,null,null,null,null,null,null,null,null,null,null,null,null,null,null,null,null,""]
["","",null,"",null,null,null,null,null,null,null,null,null,null,null,null,null,null,null,null,null,null,null,null,""]
["","",null,"",null,null,null,null,null,null,null,null,null,null,null,null,null,null,null,null,null,null,null,null,""]
["","",null,"",null,null,null,null,null,null,null,null,null,null,null,null,null,null,null,null,null,null,null,null,""]
["","",null,"",null,null,null,null,null,null,null,null,null,null,null,null,null,null,null,null,null,null,null,null,""]
["","",null,"",null,null,null,null,null,null,null,null,null,null,null,null,null,null,null,null,null,null,null,null,""]
["","",null,"",null,null,null,null,null,null,null,null,null,null,null,null,null,null,null,null,null,null,null,null,""]
["","",null,"",null,null,null,null,null,null,null,null,null,null,null,null,null,null,null,null,null,null,null,null,""]
["","",null,"",null,null,null,null,null,null,null,null,null,null,null,null,null,null,null,null,null,null,null,null,""]
["","",null,"",null,null,null,null,null,null,null,null,null,null,null,null,null,null,null,null,null,null,null,null,""]
["","",null,"",null,null,null,null,null,null,null,null,null,null,null,null,null,null,null,null,null,null,null,null,""]
["","",null,"",null,null,null,null,null,null,null,null,null,null,null,null,null,null,null,null,null,null,null,null,""]
["","",null,"",null,null,null,null,null,null,null,null,null,null,null,null,null,null,null,null,null,null,null,null,""]
["","",null,"",null,null,null,null,null,null,null,null,null,null,null,null,null,null,null,null,null,null,null,null,""]
["","",null,"",null,null,null,null,null,null,null,null,null,null,null,null,null,null,null,null,null,null,null,null,""]
["","",null,"",null,null,null,null,null,null,null,null,null,null,null,null,null,null,null,null,null,null,null,null,""]
["","",null,"",null,null,null,null,null,null,null,null,null,null,null,null,null,null,null,null,null,null,null,null,""]
["","",null,"",null,null,null,null,null,null,null,null,null,null,null,null,null,null,null,null,null,null,null,null,""]
["","",null,"",null,null,null,null,null,null,null,null,null,null,null,null,null,null,null,null,null,null,null,null,""]
["","",null,"",null,null,null,null,null,null,null,null,null,null,null,null,null,null,null,null,null,null,null,null,""]
["","",null,"",null,null,null,null,null,null,null,null,null,null,null,null,null,null,null,null,null,null,null,null,""]
["","",null,"",null,null,null,null,null,null,null,null,null,null,null,null,null,null,null,null,null,null,null,null,""]
["","",null,"",null,null,null,null,null,null,null,null,null,null,null,null,null,null,null,null,null,null,null,null,""]
["","",null,"",null,null,null,null,null,null,null,null,null,null,null,null,null,null,null,null,null,null,null,null,""]
["","",null,"",null,null,null,null,null,null,null,null,null,null,null,null,null,null,null,null,null,null,null,null,""]
["","",null,"",null,null,null,null,null,null,null,null,null,null,null,null,null,null,null,null,null,null,null,null,""]
["","",null,"",null,null,null,null,null,null,null,null,null,null,null,null,null,null,null,null,null,null,null,null,""]
["","",null,"",null,null,null,null,null,null,null,null,null,null,null,null,null,null,null,null,null,null,null,null,""]
["","",null,"",null,null,null,null,null,null,null,null,null,null,null,null,null,null,null,null,null,null,null,null,""]
["","",null,"",null,null,null,null,null,null,null,null,null,null,null,null,null,null,null,null,null,null,null,null,""]
["","",null,"",null,null,null,null,null,null,null,null,null,null,null,null,null,null,null,null,null,null,null,null,""]

{"sheet":"2.Забезпечення","index":1,"n_rows":1093,"n_cols":12,"rows_kept":1093,"cut":false,"hidden":false,"merged":[[4,9,8,19],[976,0,976,16],[977,0,977,16],[978,0,978,16],[979,0,979,16]]}
[]
[]
[]
[]
["Обов'язкове запвнення всіх можливих даних.",null,null,null,null,null,null,null,null,"Цей документ був підготовлений Фондом гарантування вкладів фізичних осіб (далі – Фонд) виключно для інформаційних цілей і не повинен вважатися як спонукання до будь-яких дій чи бездіяльності. \nІнформація, що міститься в цьому документі, була отримана з/або ґрунтується на джерелах, які вважаються надійними, але не є вичерпною та не може сприйматися як повна або актуальна. Зокрема, але не виключно, станом на дату придбання активів допускаються несуттєві зміни лота, в складі якого продаються такі активи. Під несуттєвими змінами лота слід розуміти такі зміни характеристик активів у складі такого лота, які впливають на його балансову вартість, але не більше ніж на 10 відсотків. Рішення покупця щодо будь-яких дій або бездіяльності повинно ґрунтуватися на власних оцінках та дослідженнях майна (активу/активів), котре реалізується. Фонд не несе відповідальності за рішення покупця та його наслідки, що ґрунтується на інформації, викладеній в даному документі."]
["Всі значення заповнюються в грн. еквіваленті, по курсу НБУ, станом на дату заповнення"]
["При заповненні інформації по забезпеченню - обов'язково необхідно зазначити unicid кредита, що покривається цим забезпеченням."]
["У випадку, якщо забезпечення є перехресним по різним кредитам, рядок такого забезпечення необхідно продублювати із зазначенням unicid кожного такого кредиту."]
["У випадку, якщо за кредитом наявні декілька позицій забезпечення, кожна така позиція заповнюється окремим рядком із зазначенням однакового unicid"]
["Вартість за договором - повна вартість забезпечення (навіть якщо забезпечення є перехресним) у гривневому еквіваленті відповідно курсу НБУ, станом на звітну дату, відповідно до останнього підписаного договору (договір застави, іпотеки, тощо… або додаткова угода)"]
["У випадку, якщо одним договором та однією сумою в забезпечення прийнято декілька позицій, іх необхідно вносити одним рядком. Місцерозташування та інші якісні показники, якщо вони відрізняються за позиціями такого списку, заповнюються за тим значенням що має найбільшу частку в структурі вартості."]
[]
["Звітна дата",{"$f":"'1.Портфель кредитів'!C6","v":"2023-12-01"}]
["unicid","Банк","№ кред. Дог","Тип застави","Кількість застави","(га, м2, шт., тощо)","Область знаходження застави","Населений пункт (місто/село/смт.)","Сума/вартість за договором (грн.екв.)","Реєстрація у держ. Реєстрі (обтяження)\n(так/ні)","Ознака банкрутства/ліквідації заставодавця/фінансового поручителя(відповідно ЄДР на дату заповнення паспорту)","Додаткові коментарі про заставу (у випадку наявності в Банку інформації, в т.ч. щодо виведення застави, руйнування, знаходження в розшуку, тощо)"]
["380816__1",{"$f":"IFERROR(VLOOKUP(A15,'1.Портфель кредитів'!A:AB,3,FALSE),\"\")","v":"Банк Січ"},{"$f":"'1.Портфель кредитів'!I9","v":"203470-ГР-3581"},"фінансова порука","-",null,null,null,3007341.89]
["380816__2",{"$f":"IFERROR(VLOOKUP(A16,'1.Портфель кредитів'!A:AB,3,FALSE),\"\")","v":"Банк Січ"},{"$f":"'1.Портфель кредитів'!I10","v":"203470-ГР-3582"},"фінансова порука","-",null,null,null,998978.24]
["380816__3",{"$f":"IFERROR(VLOOKUP(A17,'1.Портфель кредитів'!A:AB,3,FALSE),\"\")","v":"Банк Січ"},{"$f":"'1.Портфель кредитів'!I11","v":"203570-ГР-2511"},"беззаставний"]
["380816__4",{"$f":"IFERROR(VLOOKUP(A18,'1.Портфель кредитів'!A:AB,3,FALSE),\"\")","v":"Банк Січ"},{"$f":"'1.Портфель кредитів'!I12","v":"173/13"},"беззаставний"]
["380816__5",{"$f":"IFERROR(VLOOKUP(A19,'1.Портфель кредитів'!A:AB,3,FALSE),\"\")","v":"Банк Січ"},{"$f":"'1.Портфель кредитів'!I13","v":"176/13"},"беззаставний"]
["380816__6",{"$f":"IFERROR(VLOOKUP(A20,'1.Портфель кредитів'!A:AB,3,FALSE),\"\")","v":"Банк Січ"},{"$f":"'1.Портфель кредитів'!I14","v":"258/19  "},"беззаставний"]
["380816__7",{"$f":"IFERROR(VLOOKUP(A21,'1.Портфель кредитів'!A:AB,3,FALSE),\"\")","v":"Банк Січ"},{"$f":"'1.Портфель кредитів'!I15","v":"246/19"},"фінансова порука","-",null,null,null,600000]
["380816__7",{"$f":"IFERROR(VLOOKUP(A22,'1.Портфель кредитів'!A:AB,3,FALSE),\"\")","v":"Банк Січ"},{"$f":"'1.Портфель кредитів'!I16","v":"112/21"},"фінансова порука","-",null,null,null,600000,null,"Діюче"]
["380816__7",{"$f":"IFERROR(VLOOKUP(A23,'1.Портфель кредитів'!A:AB,3,FALSE),\"\")","v":"Банк Січ"},{"$f":"'1.Портфель кредитів'!I17","v":"463/21"},"фінансова порука","-",null,null,null,600000,null,"Діюче"]
["380816__8",{"$f":"IFERROR(VLOOKUP(A24,'1.Портфель кредитів'!A:AB,3,FALSE),\"\")","v":"Банк Січ"},{"$f":"'1.Портфель кредитів'!I18","v":"394/21"},"беззаставний"]
["380816__9",{"$f":"IFERROR(VLOOKUP(A25,'1.Портфель кредитів'!A:AB,3,FALSE),\"\")","v":"Банк Січ"},{"$f":"'1.Портфель кредитів'!I19","v":26002001204450},"беззаставний"]
["380816__10",{"$f":"IFERROR(VLOOKUP(A26,'1.Портфель кредитів'!A:AB,3,FALSE),\"\")","v":"Банк Січ"},{"$f":"'1.Портфель кредитів'!I20","v":26001002204450},"фінансова порука","-",null,null,null,50000000,null,"Банкрутство"]
["380816__11",{"$f":"IFERROR(VLOOKUP(A27,'1.Портфель кредитів'!A:AB,3,FALSE),\"\")","v":"Банк Січ"},{"$f":"'1.Портфель кредитів'!I21","v":"104/13"},"беззаставний"]
["380816__12",{"$f":"IFERROR(VLOOKUP(A28,'1.Портфель кредитів'!A:AB,3,FALSE),\"\")","v":"Банк Січ"},{"$f":"'1.Портфель кредитів'!I22","v":26004010664},"беззаставний"]
["380816__13",{"$f":"IFERROR(VLOOKUP(A29,'1.Портфель кредитів'!A:AB,3,FALSE),\"\")","v":"Банк Січ"},{"$f":"'1.Портфель кредитів'!I23","v":"578/21"},"обладнання",4425,"од.","Київська",null,76370283.239999995,"ТАК","Діюче"]
["380816__13",{"$f":"IFERROR(VLOOKUP(A30,'1.Портфель кредитів'!A:AB,3,FALSE),\"\")","v":"Банк Січ"},{"$f":"'1.Портфель кредитів'!I24","v":"279/21"},"транспорт",1,"од.",null,null,64879,"ТАК","Діюче","знаходження в розшуку"]
["380816__13",{"$f":"IFERROR(VLOOKUP(A31,'1.Портфель кредитів'!A:AB,3,FALSE),\"\")","v":"Банк Січ"},{"$f":"'1.Портфель кредитів'!I25","v":26005001201795},"транспорт",1,"од.",null,null,351647.13,"ТАК","Діюче","знаходження в розшуку"]
["380816__13",{"$f":"IFERROR(VLOOKUP(A32,'1.Портфель кредитів'!A:AB,3,FALSE),\"\")","v":"Банк Січ"},{"$f":"'1.Портфель кредитів'!I26","v":"179/22 "},"транспорт",1,"од.",null,null,76239,"ТАК","Діюче","знаходження в розшуку"]
["380816__13",{"$f":"IFERROR(VLOOKUP(A33,'1.Портфель кредитів'!A:AB,3,FALSE),\"\")","v":"Банк Січ"},{"$f":"'1.Портфель кредитів'!I27","v":26005001206596},"фінансова порука","-",null,null,null,30000000]
["380816__14",{"$f":"IFERROR(VLOOKUP(A34,'1.Портфель кредитів'!A:AB,3,FALSE),\"\")","v":"Банк Січ"},{"$f":"'1.Портфель кредитів'!I28","v":" 26000501206596/980/РКО"},"беззаставний"]
["380816__15",{"$f":"IFERROR(VLOOKUP(A35,'1.Портфель кредитів'!A:AB,3,FALSE),\"\")","v":"Банк Січ"},{"$f":"'1.Портфель кредитів'!I29","v":"200/21"},"обладнання",406,"од.","Київ","Київ",33852050,null,"Інше"]
["380816__16",{"$f":"IFERROR(VLOOKUP(A36,'1.Портфель кредитів'!A:AB,3,FALSE),\"\")","v":"Банк Січ"},{"$f":"'1.Портфель кредитів'!I30","v":26002001205642},"фінансова порука",null,null,null,null,2000000]
["380816__17",{"$f":"IFERROR(VLOOKUP(A37,'1.Портфель кредитів'!A:AB,3,FALSE),\"\")","v":"Банк Січ"},{"$f":"'1.Портфель кредитів'!I31","v":"379/21"},"беззаставний"]
["380816__18",{"$f":"IFERROR(VLOOKUP(A38,'1.Портфель кредитів'!A:AB,3,FALSE),\"\")","v":"Банк Січ"},{"$f":"'1.Портфель кредитів'!I32","v":26003001206543},"майнові права",null,null,null,null,3199926.344,"ТАК"]
["380816__18",{"$f":"IFERROR(VLOOKUP(A39,'1.Портфель кредитів'!A:AB,3,FALSE),\"\")","v":"Банк Січ"},{"$f":"'1.Портфель кредитів'!I33","v":34092020000011},"майнові права",null,null,null,null,5615565.5951999994,"ТАК"]
["380816__19",{"$f":"IFERROR(VLOOKUP(A40,'1.Портфель кредитів'!A:AB,3,FALSE),\"\")","v":"Банк Січ"},{"$f":"'1.Портфель кредитів'!I34","v":34092020000012},"беззаставний"]
["380816__20",{"$f":"IFERROR(VLOOKUP(A41,'1.Портфель кредитів'!A:AB,3,FALSE),\"\")","v":"Банк Січ"},{"$f":"'1.Портфель кредитів'!I35","v":34092020000013},"беззаставний"]
["380816__21",{"$f":"IFERROR(VLOOKUP(A42,'1.Портфель кредитів'!A:AB,3,FALSE),\"\")","v":"Банк Січ"},{"$f":"'1.Портфель кредитів'!I36","v":34092020000014},"беззаставний"]
["380816__22",{"$f":"IFERROR(VLOOKUP(A43,'1.Портфель кредитів'!A:AB,3,FALSE),\"\")","v":"Банк Січ"},{"$f":"'1.Портфель кредитів'!I37","v":34092020000015},"беззаставний"]
["380816__23",{"$f":"IFERROR(VLOOKUP(A44,'1.Портфель кредитів'!A:AB,3,FALSE),\"\")","v":"Банк Січ"},{"$f":"'1.Портфель кредитів'!I38","v":34092020000016},"беззаставний"]
["380816__24",{"$f":"IFERROR(VLOOKUP(A45,'1.Портфель кредитів'!A:AB,3,FALSE),\"\")","v":"Банк Січ"},{"$f":"'1.Портфель кредитів'!I39","v":34092020000017},"беззаставний"]
["380816__25",{"$f":"IFERROR(VLOOKUP(A46,'1.Портфель кредитів'!A:AB,3,FALSE),\"\")","v":"Банк Січ"},{"$f":"'1.Портфель кредитів'!I40","v":34092020000018},"беззаставний"]
["380816__26",{"$f":"IFERROR(VLOOKUP(A47,'1.Портфель кредитів'!A:AB,3,FALSE),\"\")","v":"Банк Січ"},{"$f":"'1.Портфель кредитів'!I41","v":34092020000019},"беззаставний"]
["380816__27",{"$f":"IFERROR(VLOOKUP(A48,'1.Портфель кредитів'!A:AB,3,FALSE),\"\")","v":"Банк Січ"},{"$f":"'1.Портфель кредитів'!I42","v":34092020000110},"беззаставний"]
["380816__28",{"$f":"IFERROR(VLOOKUP(A49,'1.Портфель кредитів'!A:AB,3,FALSE),\"\")","v":"Банк Січ"},{"$f":"'1.Портфель кредитів'!I43","v":34092020000111},"беззаставний"]
["380816__29",{"$f":"IFERROR(VLOOKUP(A50,'1.Портфель кредитів'!A:AB,3,FALSE),\"\")","v":"Банк Січ"},{"$f":"'1.Портфель кредитів'!I44","v":34092020000112},"беззаставний"]
["380816__30",{"$f":"IFERROR(VLOOKUP(A51,'1.Портфель кредитів'!A:AB,3,FALSE),\"\")","v":"Банк Січ"},{"$f":"'1.Портфель кредитів'!I45","v":34092020000113},"беззаставний"]
["380816__31",{"$f":"IFERROR(VLOOKUP(A52,'1.Портфель кредитів'!A:AB,3,FALSE),\"\")","v":"Банк Січ"},{"$f":"'1.Портфель кредитів'!I46","v":34092020000114},"беззаставний"]
["380816__32",{"$f":"IFERROR(VLOOKUP(A53,'1.Портфель кредитів'!A:AB,3,FALSE),\"\")","v":"Банк Січ"},{"$f":"'1.Портфель кредитів'!I47","v":34092020000115},"беззаставний"]
["380816__33",{"$f":"IFERROR(VLOOKUP(A54,'1.Портфель кредитів'!A:AB,3,FALSE),\"\")","v":"Банк Січ"},{"$f":"'1.Портфель кредитів'!I48","v":34092020000116},"беззаставний"]
["380816__34",{"$f":"IFERROR(VLOOKUP(A55,'1.Портфель кредитів'!A:AB,3,FALSE),\"\")","v":"Банк Січ"},{"$f":"'1.Портфель кредитів'!I49","v":34092020000117},"беззаставний"]
["380816__35",{"$f":"IFERROR(VLOOKUP(A56,'1.Портфель кредитів'!A:AB,3,FALSE),\"\")","v":"Банк Січ"},{"$f":"'1.Портфель кредитів'!I50","v":34092020000118},"беззаставний"]
["380816__36",{"$f":"IFERROR(VLOOKUP(A57,'1.Портфель кредитів'!A:AB,3,FALSE),\"\")","v":"Банк Січ"},{"$f":"'1.Портфель кредитів'!I51","v":34092020000119},"беззаставний"]
["380816__37",{"$f":"IFERROR(VLOOKUP(A58,'1.Портфель кредитів'!A:AB,3,FALSE),\"\")","v":"Банк Січ"},{"$f":"'1.Портфель кредитів'!I52","v":34092020000120},"беззаставний"]
["380816__38",{"$f":"IFERROR(VLOOKUP(A59,'1.Портфель кредитів'!A:AB,3,FALSE),\"\")","v":"Банк Січ"},{"$f":"'1.Портфель кредитів'!I53","v":34092020000121},"беззаставний"]
["380816__39",{"$f":"IFERROR(VLOOKUP(A60,'1.Портфель кредитів'!A:AB,3,FALSE),\"\")","v":"Банк Січ"},{"$f":"'1.Портфель кредитів'!I54","v":34092020000122},"беззаставний"]
["380816__40",{"$f":"IFERROR(VLOOKUP(A61,'1.Портфель кредитів'!A:AB,3,FALSE),\"\")","v":"Банк Січ"},{"$f":"'1.Портфель кредитів'!I55","v":34092020000123},"беззаставний"]
["380816__41",{"$f":"IFERROR(VLOOKUP(A62,'1.Портфель кредитів'!A:AB,3,FALSE),\"\")","v":"Банк Січ"},{"$f":"'1.Портфель кредитів'!I56","v":34092020000124},"беззаставний"]
["380816__42",{"$f":"IFERROR(VLOOKUP(A63,'1.Портфель кредитів'!A:AB,3,FALSE),\"\")","v":"Банк Січ"},{"$f":"'1.Портфель кредитів'!I57","v":34092020000125},"беззаставний"]
["380816__43",{"$f":"IFERROR(VLOOKUP(A64,'1.Портфель кредитів'!A:AB,3,FALSE),\"\")","v":"Банк Січ"},{"$f":"'1.Портфель кредитів'!I58","v":34092020000126},"беззаставний"]
["380816__44",{"$f":"IFERROR(VLOOKUP(A65,'1.Портфель кредитів'!A:AB,3,FALSE),\"\")","v":"Банк Січ"},{"$f":"'1.Портфель кредитів'!I59","v":34092020000127},"беззаставний"]
["380816__45",{"$f":"IFERROR(VLOOKUP(A66,'1.Портфель кредитів'!A:AB,3,FALSE),\"\")","v":"Банк Січ"},{"$f":"'1.Портфель кредитів'!I60","v":34092020000128},"беззаставний"]
["380816__46",{"$f":"IFERROR(VLOOKUP(A67,'1.Портфель кредитів'!A:AB,3,FALSE),\"\")","v":"Банк Січ"},{"$f":"'1.Портфель кредитів'!I61","v":34092020000129},"беззаставний"]
["380816__47",{"$f":"IFERROR(VLOOKUP(A68,'1.Портфель кредитів'!A:AB,3,FALSE),\"\")","v":"Банк Січ"},{"$f":"'1.Портфель кредитів'!I62","v":34092020000130},"беззаставний"]
["380816__48",{"$f":"IFERROR(VLOOKUP(A69,'1.Портфель кредитів'!A:AB,3,FALSE),\"\")","v":"Банк Січ"},{"$f":"'1.Портфель кредитів'!I63","v":34092020000131},"беззаставний"]
["380816__49",{"$f":"IFERROR(VLOOKUP(A70,'1.Портфель кредитів'!A:AB,3,FALSE),\"\")","v":"Банк Січ"},{"$f":"'1.Портфель кредитів'!I64","v":34092020000132},"беззаставний"]
["380816__50",{"$f":"IFERROR(VLOOKUP(A71,'1.Портфель кредитів'!A:AB,3,FALSE),\"\")","v":"Банк Січ"},{"$f":"'1.Портфель кредитів'!I65","v":34092020000133},"беззаставний"]
["380816__51",{"$f":"IFERROR(VLOOKUP(A72,'1.Портфель кредитів'!A:AB,3,FALSE),\"\")","v":"Банк Січ"},{"$f":"'1.Портфель кредитів'!I66","v":34092020000134},"беззаставний"]
["380816__52",{"$f":"IFERROR(VLOOKUP(A73,'1.Портфель кредитів'!A:AB,3,FALSE),\"\")","v":"Банк Січ"},{"$f":"'1.Портфель кредитів'!I67","v":34092020000135},"беззаставний"]
["380816__53",{"$f":"IFERROR(VLOOKUP(A74,'1.Портфель кредитів'!A:AB,3,FALSE),\"\")","v":"Банк Січ"},{"$f":"'1.Портфель кредитів'!I68","v":34092020000136},"беззаставний"]
["380816__54",{"$f":"IFERROR(VLOOKUP(A75,'1.Портфель кредитів'!A:AB,3,FALSE),\"\")","v":"Банк Січ"},{"$f":"'1.Портфель кредитів'!I69","v":34092020000137},"беззаставний"]
["380816__55",{"$f":"IFERROR(VLOOKUP(A76,'1.Портфель кредитів'!A:AB,3,FALSE),\"\")","v":"Банк Січ"},{"$f":"'1.Портфель кредитів'!I70","v":34092020000138},"беззаставний"]
["380816__56",{"$f":"IFERROR(VLOOKUP(A77,'1.Портфель кредитів'!A:AB,3,FALSE),\"\")","v":"Банк Січ"},{"$f":"'1.Портфель кредитів'!I71","v":34092020000139},"беззаставний"]
["380816__57",{"$f":"IFERROR(VLOOKUP(A78,'1.Портфель кредитів'!A:AB,3,FALSE),\"\")","v":"Банк Січ"},{"$f":"'1.Портфель кредитів'!I72","v":34092020000140},"беззаставний"]
["380816__58",{"$f":"IFERROR(VLOOKUP(A79,'1.Портфель кредитів'!A:AB,3,FALSE),\"\")","v":"Банк Січ"},{"$f":"'1.Портфель кредитів'!I73","v":34092020000141},"беззаставний"]
["380816__59",{"$f":"IFERROR(VLOOKUP(A80,'1.Портфель кредитів'!A:AB,3,FALSE),\"\")","v":"Банк Січ"},{"$f":"'1.Портфель кредитів'!I74","v":34092020000142},"беззаставний"]
["380816__60",{"$f":"IFERROR(VLOOKUP(A81,'1.Портфель кредитів'!A:AB,3,FALSE),\"\")","v":"Банк Січ"},{"$f":"'1.Портфель кредитів'!I75","v":34092020000143},"беззаставний"]
["380816__61",{"$f":"IFERROR(VLOOKUP(A82,'1.Портфель кредитів'!A:AB,3,FALSE),\"\")","v":"Банк Січ"},{"$f":"'1.Портфель кредитів'!I76","v":34092020000144},"беззаставний"]
["380816__62",{"$f":"IFERROR(VLOOKUP(A83,'1.Портфель кредитів'!A:AB,3,FALSE),\"\")","v":"Банк Січ"},{"$f":"'1.Портфель кредитів'!I77","v":34092020000145},"беззаставний"]
["380816__63",{"$f":"IFERROR(VLOOKUP(A84,'1.Портфель кредитів'!A:AB,3,FALSE),\"\")","v":"Банк Січ"},{"$f":"'1.Портфель кредитів'!I78","v":34092020000146},"беззаставний"]
["380816__64",{"$f":"IFERROR(VLOOKUP(A85,'1.Портфель кредитів'!A:AB,3,FALSE),\"\")","v":"Банк Січ"},{"$f":"'1.Портфель кредитів'!I79","v":34092020000147},"беззаставний"]
["380816__65",{"$f":"IFERROR(VLOOKUP(A86,'1.Портфель кредитів'!A:AB,3,FALSE),\"\")","v":"Банк Січ"},{"$f":"'1.Портфель кредитів'!I80","v":34092020000148},"беззаставний"]
["380816__66",{"$f":"IFERROR(VLOOKUP(A87,'1.Портфель кредитів'!A:AB,3,FALSE),\"\")","v":"Банк Січ"},{"$f":"'1.Портфель кредитів'!I81","v":34092020000149},"беззаставний"]
["380816__67",{"$f":"IFERROR(VLOOKUP(A88,'1.Портфель кредитів'!A:AB,3,FALSE),\"\")","v":"Банк Січ"},{"$f":"'1.Портфель кредитів'!I82","v":34092020000150},"беззаставний"]
["380816__68",{"$f":"IFERROR(VLOOKUP(A89,'1.Портфель кредитів'!A:AB,3,FALSE),\"\")","v":"Банк Січ"},{"$f":"'1.Портфель кредитів'!I83","v":34092020000151},"беззаставний"]
["380816__69",{"$f":"IFERROR(VLOOKUP(A90,'1.Портфель кредитів'!A:AB,3,FALSE),\"\")","v":"Банк Січ"},{"$f":"'1.Портфель кредитів'!I84","v":34092020000152},"беззаставний"]
["380816__70",{"$f":"IFERROR(VLOOKUP(A91,'1.Портфель кредитів'!A:AB,3,FALSE),\"\")","v":"Банк Січ"},{"$f":"'1.Портфель кредитів'!I85","v":34092020000153},"беззаставний"]
["380816__71",{"$f":"IFERROR(VLOOKUP(A92,'1.Портфель кредитів'!A:AB,3,FALSE),\"\")","v":"Банк Січ"},{"$f":"'1.Портфель кредитів'!I86","v":34092020000154},"беззаставний"]
["380816__72",{"$f":"IFERROR(VLOOKUP(A93,'1.Портфель кредитів'!A:AB,3,FALSE),\"\")","v":"Банк Січ"},{"$f":"'1.Портфель кредитів'!I87","v":34092020000155},"беззаставний"]
["380816__73",{"$f":"IFERROR(VLOOKUP(A94,'1.Портфель кредитів'!A:AB,3,FALSE),\"\")","v":"Банк Січ"},{"$f":"'1.Портфель кредитів'!I88","v":34092020000156},"беззаставний"]
["380816__74",{"$f":"IFERROR(VLOOKUP(A95,'1.Портфель кредитів'!A:AB,3,FALSE),\"\")","v":"Банк Січ"},{"$f":"'1.Портфель кредитів'!I89","v":34092020000157},"беззаставний"]
["380816__75",{"$f":"IFERROR(VLOOKUP(A96,'1.Портфель кредитів'!A:AB,3,FALSE),\"\")","v":"Банк Січ"},{"$f":"'1.Портфель кредитів'!I90","v":34092020000158},"беззаставний"]
["380816__76",{"$f":"IFERROR(VLOOKUP(A97,'1.Портфель кредитів'!A:AB,3,FALSE),\"\")","v":"Банк Січ"},{"$f":"'1.Портфель кредитів'!I91","v":34092020000159},"беззаставний"]
["380816__77",{"$f":"IFERROR(VLOOKUP(A98,'1.Портфель кредитів'!A:AB,3,FALSE),\"\")","v":"Банк Січ"},{"$f":"'1.Портфель кредитів'!I92","v":34092020000160},"беззаставний"]
["380816__78",{"$f":"IFERROR(VLOOKUP(A99,'1.Портфель кредитів'!A:AB,3,FALSE),\"\")","v":"Банк Січ"},{"$f":"'1.Портфель кредитів'!I93","v":34092020000161},"беззаставний"]
["380816__79",{"$f":"IFERROR(VLOOKUP(A100,'1.Портфель кредитів'!A:AB,3,FALSE),\"\")","v":"Банк Січ"},{"$f":"'1.Портфель кредитів'!I94","v":34092020000162},"беззаставний"]
["380816__80",{"$f":"IFERROR(VLOOKUP(A101,'1.Портфель кредитів'!A:AB,3,FALSE),\"\")","v":"Банк Січ"},{"$f":"'1.Портфель кредитів'!I95","v":34092020000163},"беззаставний"]
["380816__81",{"$f":"IFERROR(VLOOKUP(A102,'1.Портфель кредитів'!A:AB,3,FALSE),\"\")","v":"Банк Січ"},{"$f":"'1.Портфель кредитів'!I96","v":34092020000164},"беззаставний"]
["380816__82",{"$f":"IFERROR(VLOOKUP(A103,'1.Портфель кредитів'!A:AB,3,FALSE),\"\")","v":"Банк Січ"},{"$f":"'1.Портфель кредитів'!I97","v":34092020000165},"беззаставний"]
["380816__83",{"$f":"IFERROR(VLOOKUP(A104,'1.Портфель кредитів'!A:AB,3,FALSE),\"\")","v":"Банк Січ"},{"$f":"'1.Портфель кредитів'!I98","v":34092020000166},"беззаставний"]
["380816__84",{"$f":"IFERROR(VLOOKUP(A105,'1.Портфель кредитів'!A:AB,3,FALSE),\"\")","v":"Банк Січ"},{"$f":"'1.Портфель кредитів'!I99","v":34092020000167},"беззаставний"]
["380816__85",{"$f":"IFERROR(VLOOKUP(A106,'1.Портфель кредитів'!A:AB,3,FALSE),\"\")","v":"Банк Січ"},{"$f":"'1.Портфель кредитів'!I100","v":34092020000168},"беззаставний"]
["380816__86",{"$f":"IFERROR(VLOOKUP(A107,'1.Портфель кредитів'!A:AB,3,FALSE),\"\")","v":"Банк Січ"},{"$f":"'1.Портфель кредитів'!I101","v":34092020000169},"беззаставний"]
["380816__87",{"$f":"IFERROR(VLOOKUP(A108,'1.Портфель кредитів'!A:AB,3,FALSE),\"\")","v":"Банк Січ"},{"$f":"'1.Портфель кредитів'!I102","v":34092020000170},"беззаставний"]
["380816__88",{"$f":"IFERROR(VLOOKUP(A109,'1.Портфель кредитів'!A:AB,3,FALSE),\"\")","v":"Банк Січ"},{"$f":"'1.Портфель кредитів'!I103","v":34092020000171},"беззаставний"]
["380816__89",{"$f":"IFERROR(VLOOKUP(A110,'1.Портфель кредитів'!A:AB,3,FALSE),\"\")","v":"Банк Січ"},{"$f":"'1.Портфель кредитів'!I104","v":34092020000172},"беззаставний"]
["380816__90",{"$f":"IFERROR(VLOOKUP(A111,'1.Портфель кредитів'!A:AB,3,FALSE),\"\")","v":"Банк Січ"},{"$f":"'1.Портфель кредитів'!I105","v":34092020000173},"беззаставний"]
["380816__91",{"$f":"IFERROR(VLOOKUP(A112,'1.Портфель кредитів'!A:AB,3,FALSE),\"\")","v":"Банк Січ"},{"$f":"'1.Портфель кредитів'!I106","v":34092020000174},"беззаставний"]
["380816__92",{"$f":"IFERROR(VLOOKUP(A113,'1.Портфель кредитів'!A:AB,3,FALSE),\"\")","v":"Банк Січ"},{"$f":"'1.Портфель кредитів'!I107","v":34092020000175},"беззаставний"]
["380816__93",{"$f":"IFERROR(VLOOKUP(A114,'1.Портфель кредитів'!A:AB,3,FALSE),\"\")","v":"Банк Січ"},{"$f":"'1.Портфель кредитів'!I108","v":34092020000176},"беззаставний"]
["380816__94",{"$f":"IFERROR(VLOOKUP(A115,'1.Портфель кредитів'!A:AB,3,FALSE),\"\")","v":"Банк Січ"},{"$f":"'1.Портфель кредитів'!I109","v":34092020000177},"беззаставний"]
["380816__95",{"$f":"IFERROR(VLOOKUP(A116,'1.Портфель кредитів'!A:AB,3,FALSE),\"\")","v":"Банк Січ"},{"$f":"'1.Портфель кредитів'!I110","v":34092020000178},"беззаставний"]
["380816__96",{"$f":"IFERROR(VLOOKUP(A117,'1.Портфель кредитів'!A:AB,3,FALSE),\"\")","v":"Банк Січ"},{"$f":"'1.Портфель кредитів'!I111","v":34092020000179},"беззаставний"]
["380816__97",{"$f":"IFERROR(VLOOKUP(A118,'1.Портфель кредитів'!A:AB,3,FALSE),\"\")","v":"Банк Січ"},{"$f":"'1.Портфель кредитів'!I112","v":34092020000180},"беззаставний"]
["380816__98",{"$f":"IFERROR(VLOOKUP(A119,'1.Портфель кредитів'!A:AB,3,FALSE),\"\")","v":"Банк Січ"},{"$f":"'1.Портфель кредитів'!I113","v":34092020000181},"беззаставний"]
["380816__99",{"$f":"IFERROR(VLOOKUP(A120,'1.Портфель кредитів'!A:AB,3,FALSE),\"\")","v":"Банк Січ"},{"$f":"'1.Портфель кредитів'!I114","v":34092020000182},"беззаставний"]
["380816__100",{"$f":"IFERROR(VLOOKUP(A121,'1.Портфель кредитів'!A:AB,3,FALSE),\"\")","v":"Банк Січ"},{"$f":"'1.Портфель кредитів'!I115","v":34092020000183},"беззаставний"]
["380816__101",{"$f":"IFERROR(VLOOKUP(A122,'1.Портфель кредитів'!A:AB,3,FALSE),\"\")","v":"Банк Січ"},{"$f":"'1.Портфель кредитів'!I116","v":34092020000184},"беззаставний"]
["380816__102",{"$f":"IFERROR(VLOOKUP(A123,'1.Портфель кредитів'!A:AB,3,FALSE),\"\")","v":"Банк Січ"},{"$f":"'1.Портфель кредитів'!I117","v":34092020000185},"беззаставний"]
["380816__103",{"$f":"IFERROR(VLOOKUP(A124,'1.Портфель кредитів'!A:AB,3,FALSE),\"\")","v":"Банк Січ"},{"$f":"'1.Портфель кредитів'!I118","v":34092020000186},"беззаставний"]
["380816__104",{"$f":"IFERROR(VLOOKUP(A125,'1.Портфель кредитів'!A:AB,3,FALSE),\"\")","v":"Банк Січ"},{"$f":"'1.Портфель кредитів'!I119","v":34092020000187},"беззаставний"]
["380816__105",{"$f":"IFERROR(VLOOKUP(A126,'1.Портфель кредитів'!A:AB,3,FALSE),\"\")","v":"Банк Січ"},{"$f":"'1.Портфель кредитів'!I120","v":34092020000188},"беззаставний"]
["380816__106",{"$f":"IFERROR(VLOOKUP(A127,'1.Портфель кредитів'!A:AB,3,FALSE),\"\")","v":"Банк Січ"},{"$f":"'1.Портфель кредитів'!I121","v":34092020000189},"беззаставний"]
["380816__107",{"$f":"IFERROR(VLOOKUP(A128,'1.Портфель кредитів'!A:AB,3,FALSE),\"\")","v":"Банк Січ"},{"$f":"'1.Портфель кредитів'!I122","v":34092020000190},"беззаставний"]
["380816__108",{"$f":"IFERROR(VLOOKUP(A129,'1.Портфель кредитів'!A:AB,3,FALSE),\"\")","v":"Банк Січ"},{"$f":"'1.Портфель кредитів'!I123","v":34092020000191},"беззаставний"]
["380816__109",{"$f":"IFERROR(VLOOKUP(A130,'1.Портфель кредитів'!A:AB,3,FALSE),\"\")","v":"Банк Січ"},{"$f":"'1.Портфель кредитів'!I124","v":34092020000192},"беззаставний"]
["380816__110",{"$f":"IFERROR(VLOOKUP(A131,'1.Портфель кредитів'!A:AB,3,FALSE),\"\")","v":"Банк Січ"},{"$f":"'1.Портфель кредитів'!I125","v":34092020000193},"беззаставний"]
["380816__111",{"$f":"IFERROR(VLOOKUP(A132,'1.Портфель кредитів'!A:AB,3,FALSE),\"\")","v":"Банк Січ"},{"$f":"'1.Портфель кредитів'!I126","v":34092020000194},"беззаставний"]
["380816__112",{"$f":"IFERROR(VLOOKUP(A133,'1.Портфель кредитів'!A:AB,3,FALSE),\"\")","v":"Банк Січ"},{"$f":"'1.Портфель кредитів'!I127","v":34092020000195},"беззаставний"]
["380816__113",{"$f":"IFERROR(VLOOKUP(A134,'1.Портфель кредитів'!A:AB,3,FALSE),\"\")","v":"Банк Січ"},{"$f":"'1.Портфель кредитів'!I128","v":34092020000196},"беззаставний"]
["380816__114",{"$f":"IFERROR(VLOOKUP(A135,'1.Портфель кредитів'!A:AB,3,FALSE),\"\")","v":"Банк Січ"},{"$f":"'1.Портфель кредитів'!I129","v":34092020000197},"беззаставний"]
["380816__115",{"$f":"IFERROR(VLOOKUP(A136,'1.Портфель кредитів'!A:AB,3,FALSE),\"\")","v":"Банк Січ"},{"$f":"'1.Портфель кредитів'!I130","v":34092020000198},"беззаставний"]
["380816__116",{"$f":"IFERROR(VLOOKUP(A137,'1.Портфель кредитів'!A:AB,3,FALSE),\"\")","v":"Банк Січ"},{"$f":"'1.Портфель кредитів'!I131","v":34092020000199},"беззаставний"]
["380816__117",{"$f":"IFERROR(VLOOKUP(A138,'1.Портфель кредитів'!A:AB,3,FALSE),\"\")","v":"Банк Січ"},{"$f":"'1.Портфель кредитів'!I132","v":34092020001100},"беззаставний"]
["380816__118",{"$f":"IFERROR(VLOOKUP(A139,'1.Портфель кредитів'!A:AB,3,FALSE),\"\")","v":"Банк Січ"},{"$f":"'1.Портфель кредитів'!I133","v":34092020001101},"беззаставний"]
["380816__119",{"$f":"IFERROR(VLOOKUP(A140,'1.Портфель кредитів'!A:AB,3,FALSE),\"\")","v":"Банк Січ"},{"$f":"'1.Портфель кредитів'!I134","v":34092020001102},"беззаставний"]
["380816__120",{"$f":"IFERROR(VLOOKUP(A141,'1.Портфель кредитів'!A:AB,3,FALSE),\"\")","v":"Банк Січ"},{"$f":"'1.Портфель кредитів'!I135","v":34092020001103},"беззаставний"]
["380816__121",{"$f":"IFERROR(VLOOKUP(A142,'1.Портфель кредитів'!A:AB,3,FALSE),\"\")","v":"Банк Січ"},{"$f":"'1.Портфель кредитів'!I136","v":34092020001104},"беззаставний"]
["380816__122",{"$f":"IFERROR(VLOOKUP(A143,'1.Портфель кредитів'!A:AB,3,FALSE),\"\")","v":"Банк Січ"},{"$f":"'1.Портфель кредитів'!I137","v":34092020001105},"беззаставний"]
["380816__123",{"$f":"IFERROR(VLOOKUP(A144,'1.Портфель кредитів'!A:AB,3,FALSE),\"\")","v":"Банк Січ"},{"$f":"'1.Портфель кредитів'!I138","v":34092020001106},"беззаставний"]
["380816__124",{"$f":"IFERROR(VLOOKUP(A145,'1.Портфель кредитів'!A:AB,3,FALSE),\"\")","v":"Банк Січ"},{"$f":"'1.Портфель кредитів'!I139","v":34092020001107},"беззаставний"]
["380816__125",{"$f":"IFERROR(VLOOKUP(A146,'1.Портфель кредитів'!A:AB,3,FALSE),\"\")","v":"Банк Січ"},{"$f":"'1.Портфель кредитів'!I140","v":34092020001108},"беззаставний"]
["380816__126",{"$f":"IFERROR(VLOOKUP(A147,'1.Портфель кредитів'!A:AB,3,FALSE),\"\")","v":"Банк Січ"},{"$f":"'1.Портфель кредитів'!I141","v":34092020001109},"беззаставний"]
["380816__127",{"$f":"IFERROR(VLOOKUP(A148,'1.Портфель кредитів'!A:AB,3,FALSE),\"\")","v":"Банк Січ"},{"$f":"'1.Портфель кредитів'!I142","v":34092020001110},"беззаставний"]
["380816__128",{"$f":"IFERROR(VLOOKUP(A149,'1.Портфель кредитів'!A:AB,3,FALSE),\"\")","v":"Банк Січ"},{"$f":"'1.Портфель кредитів'!I143","v":34092020001111},"беззаставний"]
["380816__129",{"$f":"IFERROR(VLOOKUP(A150,'1.Портфель кредитів'!A:AB,3,FALSE),\"\")","v":"Банк Січ"},{"$f":"'1.Портфель кредитів'!I144","v":34092020001112},"беззаставний"]
["380816__130",{"$f":"IFERROR(VLOOKUP(A151,'1.Портфель кредитів'!A:AB,3,FALSE),\"\")","v":"Банк Січ"},{"$f":"'1.Портфель кредитів'!I145","v":34092020001113},"беззаставний"]
["380816__131",{"$f":"IFERROR(VLOOKUP(A152,'1.Портфель кредитів'!A:AB,3,FALSE),\"\")","v":"Банк Січ"},{"$f":"'1.Портфель кредитів'!I146","v":34092020001114},"беззаставний"]
["380816__132",{"$f":"IFERROR(VLOOKUP(A153,'1.Портфель кредитів'!A:AB,3,FALSE),\"\")","v":"Банк Січ"},{"$f":"'1.Портфель кредитів'!I147","v":34092020001115},"беззаставний"]
["380816__133",{"$f":"IFERROR(VLOOKUP(A154,'1.Портфель кредитів'!A:AB,3,FALSE),\"\")","v":"Банк Січ"},{"$f":"'1.Портфель кредитів'!I148","v":34092020001116},"беззаставний"]
["380816__134",{"$f":"IFERROR(VLOOKUP(A155,'1.Портфель кредитів'!A:AB,3,FALSE),\"\")","v":"Банк Січ"},{"$f":"'1.Портфель кредитів'!I149","v":34092020001117},"беззаставний"]
["380816__135",{"$f":"IFERROR(VLOOKUP(A156,'1.Портфель кредитів'!A:AB,3,FALSE),\"\")","v":"Банк Січ"},{"$f":"'1.Портфель кредитів'!I150","v":34092020001118},"беззаставний"]
["380816__136",{"$f":"IFERROR(VLOOKUP(A157,'1.Портфель кредитів'!A:AB,3,FALSE),\"\")","v":"Банк Січ"},{"$f":"'1.Портфель кредитів'!I151","v":34092020001119},"беззаставний"]
["380816__137",{"$f":"IFERROR(VLOOKUP(A158,'1.Портфель кредитів'!A:AB,3,FALSE),\"\")","v":"Банк Січ"},{"$f":"'1.Портфель кредитів'!I152","v":34092020001120},"беззаставний"]
["380816__138",{"$f":"IFERROR(VLOOKUP(A159,'1.Портфель кредитів'!A:AB,3,FALSE),\"\")","v":"Банк Січ"},{"$f":"'1.Портфель кредитів'!I153","v":34092020001121},"беззаставний"]
["380816__139",{"$f":"IFERROR(VLOOKUP(A160,'1.Портфель кредитів'!A:AB,3,FALSE),\"\")","v":"Банк Січ"},{"$f":"'1.Портфель кредитів'!I154","v":34092020001122},"беззаставний"]
["380816__140",{"$f":"IFERROR(VLOOKUP(A161,'1.Портфель кредитів'!A:AB,3,FALSE),\"\")","v":"Банк Січ"},{"$f":"'1.Портфель кредитів'!I155","v":34092020001123},"беззаставний"]
["380816__141",{"$f":"IFERROR(VLOOKUP(A162,'1.Портфель кредитів'!A:AB,3,FALSE),\"\")","v":"Банк Січ"},{"$f":"'1.Портфель кредитів'!I156","v":34092020001124},"беззаставний"]
["380816__142",{"$f":"IFERROR(VLOOKUP(A163,'1.Портфель кредитів'!A:AB,3,FALSE),\"\")","v":"Банк Січ"},{"$f":"'1.Портфель кредитів'!I157","v":34092020001125},"беззаставний"]
["380816__143",{"$f":"IFERROR(VLOOKUP(A164,'1.Портфель кредитів'!A:AB,3,FALSE),\"\")","v":"Банк Січ"},{"$f":"'1.Портфель кредитів'!I158","v":34092020001126},"беззаставний"]
["380816__144",{"$f":"IFERROR(VLOOKUP(A165,'1.Портфель кредитів'!A:AB,3,FALSE),\"\")","v":"Банк Січ"},{"$f":"'1.Портфель кредитів'!I159","v":34092020001127},"беззаставний"]
["380816__145",{"$f":"IFERROR(VLOOKUP(A166,'1.Портфель кредитів'!A:AB,3,FALSE),\"\")","v":"Банк Січ"},{"$f":"'1.Портфель кредитів'!I160","v":34092020001128},"беззаставний"]
["380816__146",{"$f":"IFERROR(VLOOKUP(A167,'1.Портфель кредитів'!A:AB,3,FALSE),\"\")","v":"Банк Січ"},{"$f":"'1.Портфель кредитів'!I161","v":34092020001129},"беззаставний"]
["380816__147",{"$f":"IFERROR(VLOOKUP(A168,'1.Портфель кредитів'!A:AB,3,FALSE),\"\")","v":"Банк Січ"},{"$f":"'1.Портфель кредитів'!I162","v":34092020001130},"беззаставний"]
["380816__148",{"$f":"IFERROR(VLOOKUP(A169,'1.Портфель кредитів'!A:AB,3,FALSE),\"\")","v":"Банк Січ"},{"$f":"'1.Портфель кредитів'!I163","v":34092020001131},"беззаставний"]
["380816__149",{"$f":"IFERROR(VLOOKUP(A170,'1.Портфель кредитів'!A:AB,3,FALSE),\"\")","v":"Банк Січ"},{"$f":"'1.Портфель кредитів'!I164","v":34092020001132},"беззаставний"]
["380816__150",{"$f":"IFERROR(VLOOKUP(A171,'1.Портфель кредитів'!A:AB,3,FALSE),\"\")","v":"Банк Січ"},{"$f":"'1.Портфель кредитів'!I165","v":34092020001133},"беззаставний"]
["380816__151",{"$f":"IFERROR(VLOOKUP(A172,'1.Портфель кредитів'!A:AB,3,FALSE),\"\")","v":"Банк Січ"},{"$f":"'1.Портфель кредитів'!I166","v":34092020001134},"беззаставний"]
["380816__152",{"$f":"IFERROR(VLOOKUP(A173,'1.Портфель кредитів'!A:AB,3,FALSE),\"\")","v":"Банк Січ"},{"$f":"'1.Портфель кредитів'!I167","v":34092020001135},"беззаставний"]
["380816__153",{"$f":"IFERROR(VLOOKUP(A174,'1.Портфель кредитів'!A:AB,3,FALSE),\"\")","v":"Банк Січ"},{"$f":"'1.Портфель кредитів'!I168","v":34092020001136},"беззаставний"]
["380816__154",{"$f":"IFERROR(VLOOKUP(A175,'1.Портфель кредитів'!A:AB,3,FALSE),\"\")","v":"Банк Січ"},{"$f":"'1.Портфель кредитів'!I169","v":34092020001137},"беззаставний"]
["380816__155",{"$f":"IFERROR(VLOOKUP(A176,'1.Портфель кредитів'!A:AB,3,FALSE),\"\")","v":"Банк Січ"},{"$f":"'1.Портфель кредитів'!I170","v":34092020001138},"беззаставний"]
["380816__156",{"$f":"IFERROR(VLOOKUP(A177,'1.Портфель кредитів'!A:AB,3,FALSE),\"\")","v":"Банк Січ"},{"$f":"'1.Портфель кредитів'!I171","v":34092020001139},"беззаставний"]
["380816__157",{"$f":"IFERROR(VLOOKUP(A178,'1.Портфель кредитів'!A:AB,3,FALSE),\"\")","v":"Банк Січ"},{"$f":"'1.Портфель кредитів'!I172","v":34092020001140},"беззаставний"]
["380816__158",{"$f":"IFERROR(VLOOKUP(A179,'1.Портфель кредитів'!A:AB,3,FALSE),\"\")","v":"Банк Січ"},{"$f":"'1.Портфель кредитів'!I173","v":34092020001141},"беззаставний"]
["380816__159",{"$f":"IFERROR(VLOOKUP(A180,'1.Портфель кредитів'!A:AB,3,FALSE),\"\")","v":"Банк Січ"},{"$f":"'1.Портфель кредитів'!I174","v":34092020001142},"беззаставний"]
["380816__160",{"$f":"IFERROR(VLOOKUP(A181,'1.Портфель кредитів'!A:AB,3,FALSE),\"\")","v":"Банк Січ"},{"$f":"'1.Портфель кредитів'!I175","v":34092020001143},"беззаставний"]
["380816__161",{"$f":"IFERROR(VLOOKUP(A182,'1.Портфель кредитів'!A:AB,3,FALSE),\"\")","v":"Банк Січ"},{"$f":"'1.Портфель кредитів'!I176","v":34092020001144},"беззаставний"]
["380816__162",{"$f":"IFERROR(VLOOKUP(A183,'1.Портфель кредитів'!A:AB,3,FALSE),\"\")","v":"Банк Січ"},{"$f":"'1.Портфель кредитів'!I177","v":34092020001145},"беззаставний"]
["380816__163",{"$f":"IFERROR(VLOOKUP(A184,'1.Портфель кредитів'!A:AB,3,FALSE),\"\")","v":"Банк Січ"},{"$f":"'1.Портфель кредитів'!I178","v":34092020001146},"беззаставний"]
["380816__164",{"$f":"IFERROR(VLOOKUP(A185,'1.Портфель кредитів'!A:AB,3,FALSE),\"\")","v":"Банк Січ"},{"$f":"'1.Портфель кредитів'!I179","v":34092020001147},"беззаставний"]
["380816__165",{"$f":"IFERROR(VLOOKUP(A186,'1.Портфель кредитів'!A:AB,3,FALSE),\"\")","v":"Банк Січ"},{"$f":"'1.Портфель кредитів'!I180","v":34092020001148},"беззаставний"]
["380816__166",{"$f":"IFERROR(VLOOKUP(A187,'1.Портфель кредитів'!A:AB,3,FALSE),\"\")","v":"Банк Січ"},{"$f":"'1.Портфель кредитів'!I181","v":34092020001149},"беззаставний"]
["380816__167",{"$f":"IFERROR(VLOOKUP(A188,'1.Портфель кредитів'!A:AB,3,FALSE),\"\")","v":"Банк Січ"},{"$f":"'1.Портфель кредитів'!I182","v":34092020001150},"беззаставний"]
["380816__168",{"$f":"IFERROR(VLOOKUP(A189,'1.Портфель кредитів'!A:AB,3,FALSE),\"\")","v":"Банк Січ"},{"$f":"'1.Портфель кредитів'!I183","v":34092020001151},"беззаставний"]
["380816__169",{"$f":"IFERROR(VLOOKUP(A190,'1.Портфель кредитів'!A:AB,3,FALSE),\"\")","v":"Банк Січ"},{"$f":"'1.Портфель кредитів'!I184","v":34092020001152},"беззаставний"]
["380816__170",{"$f":"IFERROR(VLOOKUP(A191,'1.Портфель кредитів'!A:AB,3,FALSE),\"\")","v":"Банк Січ"},{"$f":"'1.Портфель кредитів'!I185","v":34092020001153},"беззаставний"]
["380816__171",{"$f":"IFERROR(VLOOKUP(A192,'1.Портфель кредитів'!A:AB,3,FALSE),\"\")","v":"Банк Січ"},{"$f":"'1.Портфель кредитів'!I186","v":34092020001154},"беззаставний"]
["380816__172",{"$f":"IFERROR(VLOOKUP(A193,'1.Портфель кредитів'!A:AB,3,FALSE),\"\")","v":"Банк Січ"},{"$f":"'1.Портфель кредитів'!I187","v":34092020001155},"беззаставний"]
["380816__173",{"$f":"IFERROR(VLOOKUP(A194,'1.Портфель кредитів'!A:AB,3,FALSE),\"\")","v":"Банк Січ"},{"$f":"'1.Портфель кредитів'!I188","v":34092020001156},"беззаставний"]
["380816__174",{"$f":"IFERROR(VLOOKUP(A195,'1.Портфель кредитів'!A:AB,3,FALSE),\"\")","v":"Банк Січ"},{"$f":"'1.Портфель кредитів'!I189","v":34092020001157},"беззаставний"]
["380816__175",{"$f":"IFERROR(VLOOKUP(A196,'1.Портфель кредитів'!A:AB,3,FALSE),\"\")","v":"Банк Січ"},{"$f":"'1.Портфель кредитів'!I190","v":34092020001158},"беззаставний"]
["380816__176",{"$f":"IFERROR(VLOOKUP(A197,'1.Портфель кредитів'!A:AB,3,FALSE),\"\")","v":"Банк Січ"},{"$f":"'1.Портфель кредитів'!I191","v":34092020001159},"беззаставний"]
["380816__177",{"$f":"IFERROR(VLOOKUP(A198,'1.Портфель кредитів'!A:AB,3,FALSE),\"\")","v":"Банк Січ"},{"$f":"'1.Портфель кредитів'!I192","v":34092020001160},"беззаставний"]
["380816__178",{"$f":"IFERROR(VLOOKUP(A199,'1.Портфель кредитів'!A:AB,3,FALSE),\"\")","v":"Банк Січ"},{"$f":"'1.Портфель кредитів'!I193","v":34092020001161},"беззаставний"]
["380816__179",{"$f":"IFERROR(VLOOKUP(A200,'1.Портфель кредитів'!A:AB,3,FALSE),\"\")","v":"Банк Січ"},{"$f":"'1.Портфель кредитів'!I194","v":34092020001162},"беззаставний"]
["380816__180",{"$f":"IFERROR(VLOOKUP(A201,'1.Портфель кредитів'!A:AB,3,FALSE),\"\")","v":"Банк Січ"},{"$f":"'1.Портфель кредитів'!I195","v":34092020001163},"беззаставний"]
["380816__181",{"$f":"IFERROR(VLOOKUP(A202,'1.Портфель кредитів'!A:AB,3,FALSE),\"\")","v":"Банк Січ"},{"$f":"'1.Портфель кредитів'!I196","v":34092020001164},"беззаставний"]
["380816__182",{"$f":"IFERROR(VLOOKUP(A203,'1.Портфель кредитів'!A:AB,3,FALSE),\"\")","v":"Банк Січ"},{"$f":"'1.Портфель кредитів'!I197","v":34092020001165},"беззаставний"]
["380816__183",{"$f":"IFERROR(VLOOKUP(A204,'1.Портфель кредитів'!A:AB,3,FALSE),\"\")","v":"Банк Січ"},{"$f":"'1.Портфель кредитів'!I198","v":34092020001166},"беззаставний"]
["380816__184",{"$f":"IFERROR(VLOOKUP(A205,'1.Портфель кредитів'!A:AB,3,FALSE),\"\")","v":"Банк Січ"},{"$f":"'1.Портфель кредитів'!I199","v":34092020001167},"беззаставний"]
["380816__185",{"$f":"IFERROR(VLOOKUP(A206,'1.Портфель кредитів'!A:AB,3,FALSE),\"\")","v":"Банк Січ"},{"$f":"'1.Портфель кредитів'!I200","v":34092020001168},"беззаставний"]
["380816__186",{"$f":"IFERROR(VLOOKUP(A207,'1.Портфель кредитів'!A:AB,3,FALSE),\"\")","v":"Банк Січ"},{"$f":"'1.Портфель кредитів'!I201","v":34092020001169},"беззаставний"]
["380816__187",{"$f":"IFERROR(VLOOKUP(A208,'1.Портфель кредитів'!A:AB,3,FALSE),\"\")","v":"Банк Січ"},{"$f":"'1.Портфель кредитів'!I202","v":34092020001170},"беззаставний"]
["380816__188",{"$f":"IFERROR(VLOOKUP(A209,'1.Портфель кредитів'!A:AB,3,FALSE),\"\")","v":"Банк Січ"},{"$f":"'1.Портфель кредитів'!I203","v":34092020001171},"беззаставний"]
["380816__189",{"$f":"IFERROR(VLOOKUP(A210,'1.Портфель кредитів'!A:AB,3,FALSE),\"\")","v":"Банк Січ"},{"$f":"'1.Портфель кредитів'!I204","v":34092020001172},"беззаставний"]
["380816__190",{"$f":"IFERROR(VLOOKUP(A211,'1.Портфель кредитів'!A:AB,3,FALSE),\"\")","v":"Банк Січ"},{"$f":"'1.Портфель кредитів'!I205","v":34092020001173},"беззаставний"]
["380816__191",{"$f":"IFERROR(VLOOKUP(A212,'1.Портфель кредитів'!A:AB,3,FALSE),\"\")","v":"Банк Січ"},{"$f":"'1.Портфель кредитів'!I206","v":34092020001174},"беззаставний"]
["380816__192",{"$f":"IFERROR(VLOOKUP(A213,'1.Портфель кредитів'!A:AB,3,FALSE),\"\")","v":"Банк Січ"},{"$f":"'1.Портфель кредитів'!I207","v":34092020001175},"беззаставний"]
["380816__193",{"$f":"IFERROR(VLOOKUP(A214,'1.Портфель кредитів'!A:AB,3,FALSE),\"\")","v":"Банк Січ"},{"$f":"'1.Портфель кредитів'!I208","v":34092020001176},"беззаставний"]
["380816__194",{"$f":"IFERROR(VLOOKUP(A215,'1.Портфель кредитів'!A:AB,3,FALSE),\"\")","v":"Банк Січ"},{"$f":"'1.Портфель кредитів'!I209","v":34092020001177},"беззаставний"]
["380816__195",{"$f":"IFERROR(VLOOKUP(A216,'1.Портфель кредитів'!A:AB,3,FALSE),\"\")","v":"Банк Січ"},{"$f":"'1.Портфель кредитів'!I210","v":34092020001178},"беззаставний"]
["380816__196",{"$f":"IFERROR(VLOOKUP(A217,'1.Портфель кредитів'!A:AB,3,FALSE),\"\")","v":"Банк Січ"},{"$f":"'1.Портфель кредитів'!I211","v":34092020001179},"беззаставний"]
["380816__197",{"$f":"IFERROR(VLOOKUP(A218,'1.Портфель кредитів'!A:AB,3,FALSE),\"\")","v":"Банк Січ"},{"$f":"'1.Портфель кредитів'!I212","v":34092020001180},"беззаставний"]
["380816__198",{"$f":"IFERROR(VLOOKUP(A219,'1.Портфель кредитів'!A:AB,3,FALSE),\"\")","v":"Банк Січ"},{"$f":"'1.Портфель кредитів'!I213","v":34092020001181},"беззаставний"]
["380816__199",{"$f":"IFERROR(VLOOKUP(A220,'1.Портфель кредитів'!A:AB,3,FALSE),\"\")","v":"Банк Січ"},{"$f":"'1.Портфель кредитів'!I214","v":34092020001182},"беззаставний"]
["380816__200",{"$f":"IFERROR(VLOOKUP(A221,'1.Портфель кредитів'!A:AB,3,FALSE),\"\")","v":"Банк Січ"},{"$f":"'1.Портфель кредитів'!I215","v":34092020001183},"беззаставний"]
["380816__201",{"$f":"IFERROR(VLOOKUP(A222,'1.Портфель кредитів'!A:AB,3,FALSE),\"\")","v":"Банк Січ"},{"$f":"'1.Портфель кредитів'!I216","v":34092020001184},"беззаставний"]
["380816__202",{"$f":"IFERROR(VLOOKUP(A223,'1.Портфель кредитів'!A:AB,3,FALSE),\"\")","v":"Банк Січ"},{"$f":"'1.Портфель кредитів'!I217","v":34092020001185},"беззаставний"]
["380816__203",{"$f":"IFERROR(VLOOKUP(A224,'1.Портфель кредитів'!A:AB,3,FALSE),\"\")","v":"Банк Січ"},{"$f":"'1.Портфель кредитів'!I218","v":34092020001186},"беззаставний"]
["380816__204",{"$f":"IFERROR(VLOOKUP(A225,'1.Портфель кредитів'!A:AB,3,FALSE),\"\")","v":"Банк Січ"},{"$f":"'1.Портфель кредитів'!I219","v":34092020001187},"беззаставний"]
["380816__205",{"$f":"IFERROR(VLOOKUP(A226,'1.Портфель кредитів'!A:AB,3,FALSE),\"\")","v":"Банк Січ"},{"$f":"'1.Портфель кредитів'!I220","v":34092020001188},"беззаставний"]
["380816__206",{"$f":"IFERROR(VLOOKUP(A227,'1.Портфель кредитів'!A:AB,3,FALSE),\"\")","v":"Банк Січ"},{"$f":"'1.Портфель кредитів'!I221","v":34092020001189},"беззаставний"]
["380816__207",{"$f":"IFERROR(VLOOKUP(A228,'1.Портфель кредитів'!A:AB,3,FALSE),\"\")","v":"Банк Січ"},{"$f":"'1.Портфель кредитів'!I222","v":34092020001190},"беззаставний"]
["380816__208",{"$f":"IFERROR(VLOOKUP(A229,'1.Портфель кредитів'!A:AB,3,FALSE),\"\")","v":"Банк Січ"},{"$f":"'1.Портфель кредитів'!I223","v":34092020001191},"беззаставний"]
["380816__209",{"$f":"IFERROR(VLOOKUP(A230,'1.Портфель кредитів'!A:AB,3,FALSE),\"\")","v":"Банк Січ"},{"$f":"'1.Портфель кредитів'!I224","v":34092020001192},"беззаставний"]
["380816__210",{"$f":"IFERROR(VLOOKUP(A231,'1.Портфель кредитів'!A:AB,3,FALSE),\"\")","v":"Банк Січ"},{"$f":"'1.Портфель кредитів'!I225","v":34092020001193},"беззаставний"]
["380816__211",{"$f":"IFERROR(VLOOKUP(A232,'1.Портфель кредитів'!A:AB,3,FALSE),\"\")","v":"Банк Січ"},{"$f":"'1.Портфель кредитів'!I226","v":34092020001194},"беззаставний"]
["380816__212",{"$f":"IFERROR(VLOOKUP(A233,'1.Портфель кредитів'!A:AB,3,FALSE),\"\")","v":"Банк Січ"},{"$f":"'1.Портфель кредитів'!I227","v":34092020001195},"беззаставний"]
["380816__213",{"$f":"IFERROR(VLOOKUP(A234,'1.Портфель кредитів'!A:AB,3,FALSE),\"\")","v":"Банк Січ"},{"$f":"'1.Портфель кредитів'!I228","v":34092020001196},"беззаставний"]
["380816__214",{"$f":"IFERROR(VLOOKUP(A235,'1.Портфель кредитів'!A:AB,3,FALSE),\"\")","v":"Банк Січ"},{"$f":"'1.Портфель кредитів'!I229","v":34092020001197},"беззаставний"]
["380816__215",{"$f":"IFERROR(VLOOKUP(A236,'1.Портфель кредитів'!A:AB,3,FALSE),\"\")","v":"Банк Січ"},{"$f":"'1.Портфель кредитів'!I230","v":34092020001198},"беззаставний"]
["380816__216",{"$f":"IFERROR(VLOOKUP(A237,'1.Портфель кредитів'!A:AB,3,FALSE),\"\")","v":"Банк Січ"},{"$f":"'1.Портфель кредитів'!I231","v":34092020001199},"беззаставний"]
["380816__217",{"$f":"IFERROR(VLOOKUP(A238,'1.Портфель кредитів'!A:AB,3,FALSE),\"\")","v":"Банк Січ"},{"$f":"'1.Портфель кредитів'!I232","v":34092020001200},"беззаставний"]
["380816__218",{"$f":"IFERROR(VLOOKUP(A239,'1.Портфель кредитів'!A:AB,3,FALSE),\"\")","v":"Банк Січ"},{"$f":"'1.Портфель кредитів'!I233","v":34092020001201},"беззаставний"]
["380816__219",{"$f":"IFERROR(VLOOKUP(A240,'1.Портфель кредитів'!A:AB,3,FALSE),\"\")","v":"Банк Січ"},{"$f":"'1.Портфель кредитів'!I234","v":34092020001202},"беззаставний"]
["380816__220",{"$f":"IFERROR(VLOOKUP(A241,'1.Портфель кредитів'!A:AB,3,FALSE),\"\")","v":"Банк Січ"},{"$f":"'1.Портфель кредитів'!I235","v":34092020001203},"беззаставний"]
["380816__221",{"$f":"IFERROR(VLOOKUP(A242,'1.Портфель кредитів'!A:AB,3,FALSE),\"\")","v":"Банк Січ"},{"$f":"'1.Портфель кредитів'!I236","v":34092020001204},"беззаставний"]
["380816__222",{"$f":"IFERROR(VLOOKUP(A243,'1.Портфель кредитів'!A:AB,3,FALSE),\"\")","v":"Банк Січ"},{"$f":"'1.Портфель кредитів'!I237","v":34092020001205},"беззаставний"]
["380816__223",{"$f":"IFERROR(VLOOKUP(A244,'1.Портфель кредитів'!A:AB,3,FALSE),\"\")","v":"Банк Січ"},{"$f":"'1.Портфель кредитів'!I238","v":34092020001206},"беззаставний"]
["380816__224",{"$f":"IFERROR(VLOOKUP(A245,'1.Портфель кредитів'!A:AB,3,FALSE),\"\")","v":"Банк Січ"},{"$f":"'1.Портфель кредитів'!I239","v":34092020001207},"беззаставний"]
["380816__225",{"$f":"IFERROR(VLOOKUP(A246,'1.Портфель кредитів'!A:AB,3,FALSE),\"\")","v":"Банк Січ"},{"$f":"'1.Портфель кредитів'!I240","v":34092020001208},"беззаставний"]
["380816__226",{"$f":"IFERROR(VLOOKUP(A247,'1.Портфель кредитів'!A:AB,3,FALSE),\"\")","v":"Банк Січ"},{"$f":"'1.Портфель кредитів'!I241","v":34092020001209},"беззаставний"]
["380816__227",{"$f":"IFERROR(VLOOKUP(A248,'1.Портфель кредитів'!A:AB,3,FALSE),\"\")","v":"Банк Січ"},{"$f":"'1.Портфель кредитів'!I242","v":34092020001210},"беззаставний"]
["380816__228",{"$f":"IFERROR(VLOOKUP(A249,'1.Портфель кредитів'!A:AB,3,FALSE),\"\")","v":"Банк Січ"},{"$f":"'1.Портфель кредитів'!I243","v":34092020001211},"беззаставний"]
["380816__229",{"$f":"IFERROR(VLOOKUP(A250,'1.Портфель кредитів'!A:AB,3,FALSE),\"\")","v":"Банк Січ"},{"$f":"'1.Портфель кредитів'!I244","v":34092020001212},"беззаставний"]
["380816__230",{"$f":"IFERROR(VLOOKUP(A251,'1.Портфель кредитів'!A:AB,3,FALSE),\"\")","v":"Банк Січ"},{"$f":"'1.Портфель кредитів'!I245","v":34092020001213},"беззаставний"]
["380816__231",{"$f":"IFERROR(VLOOKUP(A252,'1.Портфель кредитів'!A:AB,3,FALSE),\"\")","v":"Банк Січ"},{"$f":"'1.Портфель кредитів'!I246","v":34092020001214},"беззаставний"]
["380816__232",{"$f":"IFERROR(VLOOKUP(A253,'1.Портфель кредитів'!A:AB,3,FALSE),\"\")","v":"Банк Січ"},{"$f":"'1.Портфель кредитів'!I247","v":34092020001215},"беззаставний"]
["380816__233",{"$f":"IFERROR(VLOOKUP(A254,'1.Портфель кредитів'!A:AB,3,FALSE),\"\")","v":"Банк Січ"},{"$f":"'1.Портфель кредитів'!I248","v":34092020001216},"беззаставний"]
["380816__234",{"$f":"IFERROR(VLOOKUP(A255,'1.Портфель кредитів'!A:AB,3,FALSE),\"\")","v":"Банк Січ"},{"$f":"'1.Портфель кредитів'!I249","v":34092020001217},"беззаставний"]
["380816__235",{"$f":"IFERROR(VLOOKUP(A256,'1.Портфель кредитів'!A:AB,3,FALSE),\"\")","v":"Банк Січ"},{"$f":"'1.Портфель кредитів'!I250","v":34092020001218},"беззаставний"]
["380816__236",{"$f":"IFERROR(VLOOKUP(A257,'1.Портфель кредитів'!A:AB,3,FALSE),\"\")","v":"Банк Січ"},{"$f":"'1.Портфель кредитів'!I251","v":34092020001219},"беззаставний"]
["380816__237",{"$f":"IFERROR(VLOOKUP(A258,'1.Портфель кредитів'!A:AB,3,FALSE),\"\")","v":"Банк Січ"},{"$f":"'1.Портфель кредитів'!I252","v":34092020001220},"беззаставний"]
["380816__238",{"$f":"IFERROR(VLOOKUP(A259,'1.Портфель кредитів'!A:AB,3,FALSE),\"\")","v":"Банк Січ"},{"$f":"'1.Портфель кредитів'!I253","v":34092020001221},"беззаставний"]
["380816__239",{"$f":"IFERROR(VLOOKUP(A260,'1.Портфель кредитів'!A:AB,3,FALSE),\"\")","v":"Банк Січ"},{"$f":"'1.Портфель кредитів'!I254","v":34092020001222},"беззаставний"]
["380816__240",{"$f":"IFERROR(VLOOKUP(A261,'1.Портфель кредитів'!A:AB,3,FALSE),\"\")","v":"Банк Січ"},{"$f":"'1.Портфель кредитів'!I255","v":34092020001223},"беззаставний"]
["380816__241",{"$f":"IFERROR(VLOOKUP(A262,'1.Портфель кредитів'!A:AB,3,FALSE),\"\")","v":"Банк Січ"},{"$f":"'1.Портфель кредитів'!I256","v":34092020001224},"беззаставний"]
["380816__242",{"$f":"IFERROR(VLOOKUP(A263,'1.Портфель кредитів'!A:AB,3,FALSE),\"\")","v":"Банк Січ"},{"$f":"'1.Портфель кредитів'!I257","v":34092020001225},"беззаставний"]
["380816__243",{"$f":"IFERROR(VLOOKUP(A264,'1.Портфель кредитів'!A:AB,3,FALSE),\"\")","v":"Банк Січ"},{"$f":"'1.Портфель кредитів'!I258","v":34092020001226},"беззаставний"]
["380816__244",{"$f":"IFERROR(VLOOKUP(A265,'1.Портфель кредитів'!A:AB,3,FALSE),\"\")","v":"Банк Січ"},{"$f":"'1.Портфель кредитів'!I259","v":34092020001227},"беззаставний"]
["380816__245",{"$f":"IFERROR(VLOOKUP(A266,'1.Портфель кредитів'!A:AB,3,FALSE),\"\")","v":"Банк Січ"},{"$f":"'1.Портфель кредитів'!I260","v":34092020001228},"беззаставний"]
["380816__246",{"$f":"IFERROR(VLOOKUP(A267,'1.Портфель кредитів'!A:AB,3,FALSE),\"\")","v":"Банк Січ"},{"$f":"'1.Портфель кредитів'!I261","v":34092020001229},"беззаставний"]
["380816__247",{"$f":"IFERROR(VLOOKUP(A268,'1.Портфель кредитів'!A:AB,3,FALSE),\"\")","v":"Банк Січ"},{"$f":"'1.Портфель кредитів'!I262","v":34092020001230},"беззаставний"]
["380816__248",{"$f":"IFERROR(VLOOKUP(A269,'1.Портфель кредитів'!A:AB,3,FALSE),\"\")","v":"Банк Січ"},{"$f":"'1.Портфель кредитів'!I263","v":34092020001231},"беззаставний"]
["380816__249",{"$f":"IFERROR(VLOOKUP(A270,'1.Портфель кредитів'!A:AB,3,FALSE),\"\")","v":"Банк Січ"},{"$f":"'1.Портфель кредитів'!I264","v":34092020001232},"беззаставний"]
["380816__250",{"$f":"IFERROR(VLOOKUP(A271,'1.Портфель кредитів'!A:AB,3,FALSE),\"\")","v":"Банк Січ"},{"$f":"'1.Портфель кредитів'!I265","v":34092020001233},"беззаставний"]
["380816__251",{"$f":"IFERROR(VLOOKUP(A272,'1.Портфель кредитів'!A:AB,3,FALSE),\"\")","v":"Банк Січ"},{"$f":"'1.Портфель кредитів'!I266","v":34092020001234},"беззаставний"]
["380816__252",{"$f":"IFERROR(VLOOKUP(A273,'1.Портфель кредитів'!A:AB,3,FALSE),\"\")","v":"Банк Січ"},{"$f":"'1.Портфель кредитів'!I267","v":34092020001235},"беззаставний"]
["380816__253",{"$f":"IFERROR(VLOOKUP(A274,'1.Портфель кредитів'!A:AB,3,FALSE),\"\")","v":"Банк Січ"},{"$f":"'1.Портфель кредитів'!I268","v":34092020001236},"беззаставний"]
["380816__254",{"$f":"IFERROR(VLOOKUP(A275,'1.Портфель кредитів'!A:AB,3,FALSE),\"\")","v":"Банк Січ"},{"$f":"'1.Портфель кредитів'!I269","v":34092020001237},"беззаставний"]
["380816__255",{"$f":"IFERROR(VLOOKUP(A276,'1.Портфель кредитів'!A:AB,3,FALSE),\"\")","v":"Банк Січ"},{"$f":"'1.Портфель кредитів'!I270","v":34092020001238},"беззаставний"]
["380816__256",{"$f":"IFERROR(VLOOKUP(A277,'1.Портфель кредитів'!A:AB,3,FALSE),\"\")","v":"Банк Січ"},{"$f":"'1.Портфель кредитів'!I271","v":34092020001239},"беззаставний"]
["380816__257",{"$f":"IFERROR(VLOOKUP(A278,'1.Портфель кредитів'!A:AB,3,FALSE),\"\")","v":"Банк Січ"},{"$f":"'1.Портфель кредитів'!I272","v":34092020001240},"беззаставний"]
["380816__258",{"$f":"IFERROR(VLOOKUP(A279,'1.Портфель кредитів'!A:AB,3,FALSE),\"\")","v":"Банк Січ"},{"$f":"'1.Портфель кредитів'!I273","v":34092020001241},"беззаставний"]
["380816__259",{"$f":"IFERROR(VLOOKUP(A280,'1.Портфель кредитів'!A:AB,3,FALSE),\"\")","v":"Банк Січ"},{"$f":"'1.Портфель кредитів'!I274","v":34092020001242},"беззаставний"]
["380816__260",{"$f":"IFERROR(VLOOKUP(A281,'1.Портфель кредитів'!A:AB,3,FALSE),\"\")","v":"Банк Січ"},{"$f":"'1.Портфель кредитів'!I275","v":34092020001243},"беззаставний"]
["380816__261",{"$f":"IFERROR(VLOOKUP(A282,'1.Портфель кредитів'!A:AB,3,FALSE),\"\")","v":"Банк Січ"},{"$f":"'1.Портфель кредитів'!I276","v":34092020001244},"беззаставний"]
["380816__262",{"$f":"IFERROR(VLOOKUP(A283,'1.Портфель кредитів'!A:AB,3,FALSE),\"\")","v":"Банк Січ"},{"$f":"'1.Портфель кредитів'!I277","v":34092020001245},"беззаставний"]
["380816__263",{"$f":"IFERROR(VLOOKUP(A284,'1.Портфель кредитів'!A:AB,3,FALSE),\"\")","v":"Банк Січ"},{"$f":"'1.Портфель кредитів'!I278","v":34092020001246},"беззаставний"]
["380816__264",{"$f":"IFERROR(VLOOKUP(A285,'1.Портфель кредитів'!A:AB,3,FALSE),\"\")","v":"Банк Січ"},{"$f":"'1.Портфель кредитів'!I279","v":34092020001247},"беззаставний"]
["380816__265",{"$f":"IFERROR(VLOOKUP(A286,'1.Портфель кредитів'!A:AB,3,FALSE),\"\")","v":"Банк Січ"},{"$f":"'1.Портфель кредитів'!I280","v":34092020001248},"беззаставний"]
["380816__266",{"$f":"IFERROR(VLOOKUP(A287,'1.Портфель кредитів'!A:AB,3,FALSE),\"\")","v":"Банк Січ"},{"$f":"'1.Портфель кредитів'!I281","v":34092020001249},"беззаставний"]
["380816__267",{"$f":"IFERROR(VLOOKUP(A288,'1.Портфель кредитів'!A:AB,3,FALSE),\"\")","v":"Банк Січ"},{"$f":"'1.Портфель кредитів'!I282","v":34092020001250},"беззаставний"]
["380816__268",{"$f":"IFERROR(VLOOKUP(A289,'1.Портфель кредитів'!A:AB,3,FALSE),\"\")","v":"Банк Січ"},{"$f":"'1.Портфель кредитів'!I283","v":34092020001251},"беззаставний"]
["380816__269",{"$f":"IFERROR(VLOOKUP(A290,'1.Портфель кредитів'!A:AB,3,FALSE),\"\")","v":"Банк Січ"},{"$f":"'1.Портфель кредитів'!I284","v":34092020001252},"беззаставний"]
["380816__270",{"$f":"IFERROR(VLOOKUP(A291,'1.Портфель кредитів'!A:AB,3,FALSE),\"\")","v":"Банк Січ"},{"$f":"'1.Портфель кредитів'!I285","v":34092020001253},"беззаставний"]
["380816__271",{"$f":"IFERROR(VLOOKUP(A292,'1.Портфель кредитів'!A:AB,3,FALSE),\"\")","v":"Банк Січ"},{"$f":"'1.Портфель кредитів'!I286","v":34092020001254},"беззаставний"]
["380816__272",{"$f":"IFERROR(VLOOKUP(A293,'1.Портфель кредитів'!A:AB,3,FALSE),\"\")","v":"Банк Січ"},{"$f":"'1.Портфель кредитів'!I287","v":34092020001255},"беззаставний"]
["380816__273",{"$f":"IFERROR(VLOOKUP(A294,'1.Портфель кредитів'!A:AB,3,FALSE),\"\")","v":"Банк Січ"},{"$f":"'1.Портфель кредитів'!I288","v":34092020001256},"беззаставний"]
["380816__274",{"$f":"IFERROR(VLOOKUP(A295,'1.Портфель кредитів'!A:AB,3,FALSE),\"\")","v":"Банк Січ"},{"$f":"'1.Портфель кредитів'!I289","v":34092020001257},"беззаставний"]
["380816__275",{"$f":"IFERROR(VLOOKUP(A296,'1.Портфель кредитів'!A:AB,3,FALSE),\"\")","v":"Банк Січ"},{"$f":"'1.Портфель кредитів'!I290","v":34092020001258},"беззаставний"]
["380816__276",{"$f":"IFERROR(VLOOKUP(A297,'1.Портфель кредитів'!A:AB,3,FALSE),\"\")","v":"Банк Січ"},{"$f":"'1.Портфель кредитів'!I291","v":34092020001259},"беззаставний"]
["380816__277",{"$f":"IFERROR(VLOOKUP(A298,'1.Портфель кредитів'!A:AB,3,FALSE),\"\")","v":"Банк Січ"},{"$f":"'1.Портфель кредитів'!I292","v":34092020001260},"беззаставний"]
["380816__278",{"$f":"IFERROR(VLOOKUP(A299,'1.Портфель кредитів'!A:AB,3,FALSE),\"\")","v":"Банк Січ"},{"$f":"'1.Портфель кредитів'!I293","v":34092020001261},"беззаставний"]
["380816__279",{"$f":"IFERROR(VLOOKUP(A300,'1.Портфель кредитів'!A:AB,3,FALSE),\"\")","v":"Банк Січ"},{"$f":"'1.Портфель кредитів'!I294","v":34092020001262},"беззаставний"]
["380816__280",{"$f":"IFERROR(VLOOKUP(A301,'1.Портфель кредитів'!A:AB,3,FALSE),\"\")","v":"Банк Січ"},{"$f":"'1.Портфель кредитів'!I295","v":34092020001263},"беззаставний"]
["380816__281",{"$f":"IFERROR(VLOOKUP(A302,'1.Портфель кредитів'!A:AB,3,FALSE),\"\")","v":"Банк Січ"},{"$f":"'1.Портфель кредитів'!I296","v":34092020001264},"беззаставний"]
["380816__282",{"$f":"IFERROR(VLOOKUP(A303,'1.Портфель кредитів'!A:AB,3,FALSE),\"\")","v":"Банк Січ"},{"$f":"'1.Портфель кредитів'!I297","v":34092020001265},"беззаставний"]
["380816__283",{"$f":"IFERROR(VLOOKUP(A304,'1.Портфель кредитів'!A:AB,3,FALSE),\"\")","v":"Банк Січ"},{"$f":"'1.Портфель кредитів'!I298","v":34092020001266},"беззаставний"]
["380816__284",{"$f":"IFERROR(VLOOKUP(A305,'1.Портфель кредитів'!A:AB,3,FALSE),\"\")","v":"Банк Січ"},{"$f":"'1.Портфель кредитів'!I299","v":34092020001267},"беззаставний"]
["380816__285",{"$f":"IFERROR(VLOOKUP(A306,'1.Портфель кредитів'!A:AB,3,FALSE),\"\")","v":"Банк Січ"},{"$f":"'1.Портфель кредитів'!I300","v":34092020001268},"беззаставний"]
["380816__286",{"$f":"IFERROR(VLOOKUP(A307,'1.Портфель кредитів'!A:AB,3,FALSE),\"\")","v":"Банк Січ"},{"$f":"'1.Портфель кредитів'!I301","v":34092020001269},"беззаставний"]
["380816__287",{"$f":"IFERROR(VLOOKUP(A308,'1.Портфель кредитів'!A:AB,3,FALSE),\"\")","v":"Банк Січ"},{"$f":"'1.Портфель кредитів'!I302","v":34092020001270},"беззаставний"]
["380816__288",{"$f":"IFERROR(VLOOKUP(A309,'1.Портфель кредитів'!A:AB,3,FALSE),\"\")","v":"Банк Січ"},{"$f":"'1.Портфель кредитів'!I303","v":34092020001271},"беззаставний"]
["380816__289",{"$f":"IFERROR(VLOOKUP(A310,'1.Портфель кредитів'!A:AB,3,FALSE),\"\")","v":"Банк Січ"},{"$f":"'1.Портфель кредитів'!I304","v":34092020001272},"беззаставний"]
["380816__290",{"$f":"IFERROR(VLOOKUP(A311,'1.Портфель кредитів'!A:AB,3,FALSE),\"\")","v":"Банк Січ"},{"$f":"'1.Портфель кредитів'!I305","v":34092020001273},"беззаставний"]
["380816__291",{"$f":"IFERROR(VLOOKUP(A312,'1.Портфель кредитів'!A:AB,3,FALSE),\"\")","v":"Банк Січ"},{"$f":"'1.Портфель кредитів'!I306","v":34092020001274},"беззаставний"]
["380816__292",{"$f":"IFERROR(VLOOKUP(A313,'1.Портфель кредитів'!A:AB,3,FALSE),\"\")","v":"Банк Січ"},{"$f":"'1.Портфель кредитів'!I307","v":34092020001275},"беззаставний"]
["380816__293",{"$f":"IFERROR(VLOOKUP(A314,'1.Портфель кредитів'!A:AB,3,FALSE),\"\")","v":"Банк Січ"},{"$f":"'1.Портфель кредитів'!I308","v":34092020001276},"беззаставний"]
["380816__294",{"$f":"IFERROR(VLOOKUP(A315,'1.Портфель кредитів'!A:AB,3,FALSE),\"\")","v":"Банк Січ"},{"$f":"'1.Портфель кредитів'!I309","v":34092020001277},"беззаставний"]
["380816__295",{"$f":"IFERROR(VLOOKUP(A316,'1.Портфель кредитів'!A:AB,3,FALSE),\"\")","v":"Банк Січ"},{"$f":"'1.Портфель кредитів'!I310","v":34092020001278},"беззаставний"]
["380816__296",{"$f":"IFERROR(VLOOKUP(A317,'1.Портфель кредитів'!A:AB,3,FALSE),\"\")","v":"Банк Січ"},{"$f":"'1.Портфель кредитів'!I311","v":34092020001279},"беззаставний"]
["380816__297",{"$f":"IFERROR(VLOOKUP(A318,'1.Портфель кредитів'!A:AB,3,FALSE),\"\")","v":"Банк Січ"},{"$f":"'1.Портфель кредитів'!I312","v":34092020001280},"беззаставний"]
["380816__298",{"$f":"IFERROR(VLOOKUP(A319,'1.Портфель кредитів'!A:AB,3,FALSE),\"\")","v":"Банк Січ"},{"$f":"'1.Портфель кредитів'!I313","v":34092020001281},"беззаставний"]
["380816__299",{"$f":"IFERROR(VLOOKUP(A320,'1.Портфель кредитів'!A:AB,3,FALSE),\"\")","v":"Банк Січ"},{"$f":"'1.Портфель кредитів'!I314","v":34092020001282},"беззаставний"]
["380816__300",{"$f":"IFERROR(VLOOKUP(A321,'1.Портфель кредитів'!A:AB,3,FALSE),\"\")","v":"Банк Січ"},{"$f":"'1.Портфель кредитів'!I315","v":34092020001283},"беззаставний"]
["380816__301",{"$f":"IFERROR(VLOOKUP(A322,'1.Портфель кредитів'!A:AB,3,FALSE),\"\")","v":"Банк Січ"},{"$f":"'1.Портфель кредитів'!I316","v":34092020001284},"беззаставний"]
["380816__302",{"$f":"IFERROR(VLOOKUP(A323,'1.Портфель кредитів'!A:AB,3,FALSE),\"\")","v":"Банк Січ"},{"$f":"'1.Портфель кредитів'!I317","v":34092020001285},"беззаставний"]
["380816__303",{"$f":"IFERROR(VLOOKUP(A324,'1.Портфель кредитів'!A:AB,3,FALSE),\"\")","v":"Банк Січ"},{"$f":"'1.Портфель кредитів'!I318","v":34092020001286},"беззаставний"]
["380816__304",{"$f":"IFERROR(VLOOKUP(A325,'1.Портфель кредитів'!A:AB,3,FALSE),\"\")","v":"Банк Січ"},{"$f":"'1.Портфель кредитів'!I319","v":34092020001287},"беззаставний"]
["380816__305",{"$f":"IFERROR(VLOOKUP(A326,'1.Портфель кредитів'!A:AB,3,FALSE),\"\")","v":"Банк Січ"},{"$f":"'1.Портфель кредитів'!I320","v":34092020001288},"беззаставний"]
["380816__306",{"$f":"IFERROR(VLOOKUP(A327,'1.Портфель кредитів'!A:AB,3,FALSE),\"\")","v":"Банк Січ"},{"$f":"'1.Портфель кредитів'!I321","v":34092020001289},"беззаставний"]
["380816__307",{"$f":"IFERROR(VLOOKUP(A328,'1.Портфель кредитів'!A:AB,3,FALSE),\"\")","v":"Банк Січ"},{"$f":"'1.Портфель кредитів'!I322","v":34092020001290},"беззаставний"]
["380816__308",{"$f":"IFERROR(VLOOKUP(A329,'1.Портфель кредитів'!A:AB,3,FALSE),\"\")","v":"Банк Січ"},{"$f":"'1.Портфель кредитів'!I323","v":34092020001291},"беззаставний"]
["380816__309",{"$f":"IFERROR(VLOOKUP(A330,'1.Портфель кредитів'!A:AB,3,FALSE),\"\")","v":"Банк Січ"},{"$f":"'1.Портфель кредитів'!I324","v":34092020001292},"беззаставний"]
["380816__310",{"$f":"IFERROR(VLOOKUP(A331,'1.Портфель кредитів'!A:AB,3,FALSE),\"\")","v":"Банк Січ"},{"$f":"'1.Портфель кредитів'!I325","v":34092020001293},"беззаставний"]
["380816__311",{"$f":"IFERROR(VLOOKUP(A332,'1.Портфель кредитів'!A:AB,3,FALSE),\"\")","v":"Банк Січ"},{"$f":"'1.Портфель кредитів'!I326","v":34092020001294},"беззаставний"]
["380816__312",{"$f":"IFERROR(VLOOKUP(A333,'1.Портфель кредитів'!A:AB,3,FALSE),\"\")","v":"Банк Січ"},{"$f":"'1.Портфель кредитів'!I327","v":34092020001295},"беззаставний"]
["380816__313",{"$f":"IFERROR(VLOOKUP(A334,'1.Портфель кредитів'!A:AB,3,FALSE),\"\")","v":"Банк Січ"},{"$f":"'1.Портфель кредитів'!I328","v":34092020001296},"беззаставний"]
["380816__314",{"$f":"IFERROR(VLOOKUP(A335,'1.Портфель кредитів'!A:AB,3,FALSE),\"\")","v":"Банк Січ"},{"$f":"'1.Портфель кредитів'!I329","v":34092020001297},"беззаставний"]
["380816__315",{"$f":"IFERROR(VLOOKUP(A336,'1.Портфель кредитів'!A:AB,3,FALSE),\"\")","v":"Банк Січ"},{"$f":"'1.Портфель кредитів'!I330","v":34092020001298},"беззаставний"]
["380816__316",{"$f":"IFERROR(VLOOKUP(A337,'1.Портфель кредитів'!A:AB,3,FALSE),\"\")","v":"Банк Січ"},{"$f":"'1.Портфель кредитів'!I331","v":34092020001299},"беззаставний"]
["380816__317",{"$f":"IFERROR(VLOOKUP(A338,'1.Портфель кредитів'!A:AB,3,FALSE),\"\")","v":"Банк Січ"},{"$f":"'1.Портфель кредитів'!I332","v":34092020001300},"беззаставний"]
["380816__318",{"$f":"IFERROR(VLOOKUP(A339,'1.Портфель кредитів'!A:AB,3,FALSE),\"\")","v":"Банк Січ"},{"$f":"'1.Портфель кредитів'!I333","v":34092020001301},"беззаставний"]
["380816__319",{"$f":"IFERROR(VLOOKUP(A340,'1.Портфель кредитів'!A:AB,3,FALSE),\"\")","v":"Банк Січ"},{"$f":"'1.Портфель кредитів'!I334","v":34092020001302},"беззаставний"]
["380816__320",{"$f":"IFERROR(VLOOKUP(A341,'1.Портфель кредитів'!A:AB,3,FALSE),\"\")","v":"Банк Січ"},{"$f":"'1.Портфель кредитів'!I335","v":34092020001303},"беззаставний"]
["380816__321",{"$f":"IFERROR(VLOOKUP(A342,'1.Портфель кредитів'!A:AB,3,FALSE),\"\")","v":"Банк Січ"},{"$f":"'1.Портфель кредитів'!I336","v":34092020001304},"беззаставний"]
["380816__322",{"$f":"IFERROR(VLOOKUP(A343,'1.Портфель кредитів'!A:AB,3,FALSE),\"\")","v":"Банк Січ"},{"$f":"'1.Портфель кредитів'!I337","v":34092020001305},"беззаставний"]
["380816__323",{"$f":"IFERROR(VLOOKUP(A344,'1.Портфель кредитів'!A:AB,3,FALSE),\"\")","v":"Банк Січ"},{"$f":"'1.Портфель кредитів'!I338","v":34092020001306},"беззаставний"]
["380816__324",{"$f":"IFERROR(VLOOKUP(A345,'1.Портфель кредитів'!A:AB,3,FALSE),\"\")","v":"Банк Січ"},{"$f":"'1.Портфель кредитів'!I339","v":34092020001307},"беззаставний"]
["380816__325",{"$f":"IFERROR(VLOOKUP(A346,'1.Портфель кредитів'!A:AB,3,FALSE),\"\")","v":"Банк Січ"},{"$f":"'1.Портфель кредитів'!I340","v":34092020001308},"беззаставний"]
["380816__326",{"$f":"IFERROR(VLOOKUP(A347,'1.Портфель кредитів'!A:AB,3,FALSE),\"\")","v":"Банк Січ"},{"$f":"'1.Портфель кредитів'!I341","v":34092020001309},"беззаставний"]
["380816__327",{"$f":"IFERROR(VLOOKUP(A348,'1.Портфель кредитів'!A:AB,3,FALSE),\"\")","v":"Банк Січ"},{"$f":"'1.Портфель кредитів'!I342","v":34092020001310},"беззаставний"]
["380816__328",{"$f":"IFERROR(VLOOKUP(A349,'1.Портфель кредитів'!A:AB,3,FALSE),\"\")","v":"Банк Січ"},{"$f":"'1.Портфель кредитів'!I343","v":34092020001311},"беззаставний"]
["380816__329",{"$f":"IFERROR(VLOOKUP(A350,'1.Портфель кредитів'!A:AB,3,FALSE),\"\")","v":"Банк Січ"},{"$f":"'1.Портфель кредитів'!I344","v":34092020001312},"беззаставний"]
["380816__330",{"$f":"IFERROR(VLOOKUP(A351,'1.Портфель кредитів'!A:AB,3,FALSE),\"\")","v":"Банк Січ"},{"$f":"'1.Портфель кредитів'!I345","v":34092020001313},"беззаставний"]
["380816__331",{"$f":"IFERROR(VLOOKUP(A352,'1.Портфель кредитів'!A:AB,3,FALSE),\"\")","v":"Банк Січ"},{"$f":"'1.Портфель кредитів'!I346","v":34092020001314},"беззаставний"]
["380816__332",{"$f":"IFERROR(VLOOKUP(A353,'1.Портфель кредитів'!A:AB,3,FALSE),\"\")","v":"Банк Січ"},{"$f":"'1.Портфель кредитів'!I347","v":34092020001315},"беззаставний"]
["380816__333",{"$f":"IFERROR(VLOOKUP(A354,'1.Портфель кредитів'!A:AB,3,FALSE),\"\")","v":"Банк Січ"},{"$f":"'1.Портфель кредитів'!I348","v":34092020001316},"беззаставний"]
["380816__334",{"$f":"IFERROR(VLOOKUP(A355,'1.Портфель кредитів'!A:AB,3,FALSE),\"\")","v":"Банк Січ"},{"$f":"'1.Портфель кредитів'!I349","v":34092020001317},"беззаставний"]
["380816__335",{"$f":"IFERROR(VLOOKUP(A356,'1.Портфель кредитів'!A:AB,3,FALSE),\"\")","v":"Банк Січ"},{"$f":"'1.Портфель кредитів'!I350","v":34092020001318},"беззаставний"]
["380816__336",{"$f":"IFERROR(VLOOKUP(A357,'1.Портфель кредитів'!A:AB,3,FALSE),\"\")","v":"Банк Січ"},{"$f":"'1.Портфель кредитів'!I351","v":34092020001319},"беззаставний"]
["380816__337",{"$f":"IFERROR(VLOOKUP(A358,'1.Портфель кредитів'!A:AB,3,FALSE),\"\")","v":"Банк Січ"},{"$f":"'1.Портфель кредитів'!I352","v":34092020001320},"беззаставний"]
["380816__338",{"$f":"IFERROR(VLOOKUP(A359,'1.Портфель кредитів'!A:AB,3,FALSE),\"\")","v":"Банк Січ"},{"$f":"'1.Портфель кредитів'!I353","v":34092020001321},"беззаставний"]
["380816__339",{"$f":"IFERROR(VLOOKUP(A360,'1.Портфель кредитів'!A:AB,3,FALSE),\"\")","v":"Банк Січ"},{"$f":"'1.Портфель кредитів'!I354","v":34092020001322},"беззаставний"]
["380816__340",{"$f":"IFERROR(VLOOKUP(A361,'1.Портфель кредитів'!A:AB,3,FALSE),\"\")","v":"Банк Січ"},{"$f":"'1.Портфель кредитів'!I355","v":34092020001323},"беззаставний"]
["380816__341",{"$f":"IFERROR(VLOOKUP(A362,'1.Портфель кредитів'!A:AB,3,FALSE),\"\")","v":"Банк Січ"},{"$f":"'1.Портфель кредитів'!I356","v":34092020001324},"беззаставний"]
["380816__342",{"$f":"IFERROR(VLOOKUP(A363,'1.Портфель кредитів'!A:AB,3,FALSE),\"\")","v":"Банк Січ"},{"$f":"'1.Портфель кредитів'!I357","v":34092020001325},"беззаставний"]
["380816__343",{"$f":"IFERROR(VLOOKUP(A364,'1.Портфель кредитів'!A:AB,3,FALSE),\"\")","v":"Банк Січ"},{"$f":"'1.Портфель кредитів'!I358","v":34092020001326},"беззаставний"]
["380816__344",{"$f":"IFERROR(VLOOKUP(A365,'1.Портфель кредитів'!A:AB,3,FALSE),\"\")","v":"Банк Січ"},{"$f":"'1.Портфель кредитів'!I359","v":34092020001327},"беззаставний"]
["380816__345",{"$f":"IFERROR(VLOOKUP(A366,'1.Портфель кредитів'!A:AB,3,FALSE),\"\")","v":"Банк Січ"},{"$f":"'1.Портфель кредитів'!I360","v":34092020001328},"беззаставний"]
["380816__346",{"$f":"IFERROR(VLOOKUP(A367,'1.Портфель кредитів'!A:AB,3,FALSE),\"\")","v":"Банк Січ"},{"$f":"'1.Портфель кредитів'!I361","v":34092020001329},"беззаставний"]
["380816__347",{"$f":"IFERROR(VLOOKUP(A368,'1.Портфель кредитів'!A:AB,3,FALSE),\"\")","v":"Банк Січ"},{"$f":"'1.Портфель кредитів'!I362","v":34092020001330},"беззаставний"]
["380816__348",{"$f":"IFERROR(VLOOKUP(A369,'1.Портфель кредитів'!A:AB,3,FALSE),\"\")","v":"Банк Січ"},{"$f":"'1.Портфель кредитів'!I363","v":34092020001331},"беззаставний"]
["380816__349",{"$f":"IFERROR(VLOOKUP(A370,'1.Портфель кредитів'!A:AB,3,FALSE),\"\")","v":"Банк Січ"},{"$f":"'1.Портфель кредитів'!I364","v":34092020001332},"беззаставний"]
["380816__350",{"$f":"IFERROR(VLOOKUP(A371,'1.Портфель кредитів'!A:AB,3,FALSE),\"\")","v":"Банк Січ"},{"$f":"'1.Портфель кредитів'!I365","v":34092020001333},"беззаставний"]
["380816__351",{"$f":"IFERROR(VLOOKUP(A372,'1.Портфель кредитів'!A:AB,3,FALSE),\"\")","v":"Банк Січ"},{"$f":"'1.Портфель кредитів'!I366","v":34092020001334},"беззаставний"]
["380816__352",{"$f":"IFERROR(VLOOKUP(A373,'1.Портфель кредитів'!A:AB,3,FALSE),\"\")","v":"Банк Січ"},{"$f":"'1.Портфель кредитів'!I367","v":34092020001335},"беззаставний"]
["380816__353",{"$f":"IFERROR(VLOOKUP(A374,'1.Портфель кредитів'!A:AB,3,FALSE),\"\")","v":"Банк Січ"},{"$f":"'1.Портфель кредитів'!I368","v":34092020001336},"беззаставний"]
["380816__354",{"$f":"IFERROR(VLOOKUP(A375,'1.Портфель кредитів'!A:AB,3,FALSE),\"\")","v":"Банк Січ"},{"$f":"'1.Портфель кредитів'!I369","v":34092020001337},"беззаставний"]
["380816__355",{"$f":"IFERROR(VLOOKUP(A376,'1.Портфель кредитів'!A:AB,3,FALSE),\"\")","v":"Банк Січ"},{"$f":"'1.Портфель кредитів'!I370","v":34092020001338},"беззаставний"]
["380816__356",{"$f":"IFERROR(VLOOKUP(A377,'1.Портфель кредитів'!A:AB,3,FALSE),\"\")","v":"Банк Січ"},{"$f":"'1.Портфель кредитів'!I371","v":34092020001339},"беззаставний"]
["380816__357",{"$f":"IFERROR(VLOOKUP(A378,'1.Портфель кредитів'!A:AB,3,FALSE),\"\")","v":"Банк Січ"},{"$f":"'1.Портфель кредитів'!I372","v":34092020001340},"беззаставний"]
["380816__358",{"$f":"IFERROR(VLOOKUP(A379,'1.Портфель кредитів'!A:AB,3,FALSE),\"\")","v":"Банк Січ"},{"$f":"'1.Портфель кредитів'!I373","v":34092020001341},"беззаставний"]
["380816__359",{"$f":"IFERROR(VLOOKUP(A380,'1.Портфель кредитів'!A:AB,3,FALSE),\"\")","v":"Банк Січ"},{"$f":"'1.Портфель кредитів'!I374","v":34092020001342},"беззаставний"]
["380816__360",{"$f":"IFERROR(VLOOKUP(A381,'1.Портфель кредитів'!A:AB,3,FALSE),\"\")","v":"Банк Січ"},{"$f":"'1.Портфель кредитів'!I375","v":34092020001343},"беззаставний"]
["380816__361",{"$f":"IFERROR(VLOOKUP(A382,'1.Портфель кредитів'!A:AB,3,FALSE),\"\")","v":"Банк Січ"},{"$f":"'1.Портфель кредитів'!I376","v":34092020001344},"беззаставний"]
["380816__362",{"$f":"IFERROR(VLOOKUP(A383,'1.Портфель кредитів'!A:AB,3,FALSE),\"\")","v":"Банк Січ"},{"$f":"'1.Портфель кредитів'!I377","v":34092020001345},"беззаставний"]
["380816__363",{"$f":"IFERROR(VLOOKUP(A384,'1.Портфель кредитів'!A:AB,3,FALSE),\"\")","v":"Банк Січ"},{"$f":"'1.Портфель кредитів'!I378","v":34092020001346},"беззаставний"]
["380816__364",{"$f":"IFERROR(VLOOKUP(A385,'1.Портфель кредитів'!A:AB,3,FALSE),\"\")","v":"Банк Січ"},{"$f":"'1.Портфель кредитів'!I379","v":34092020001347},"беззаставний"]
["380816__365",{"$f":"IFERROR(VLOOKUP(A386,'1.Портфель кредитів'!A:AB,3,FALSE),\"\")","v":"Банк Січ"},{"$f":"'1.Портфель кредитів'!I380","v":34092020001348},"беззаставний"]
["380816__366",{"$f":"IFERROR(VLOOKUP(A387,'1.Портфель кредитів'!A:AB,3,FALSE),\"\")","v":"Банк Січ"},{"$f":"'1.Портфель кредитів'!I381","v":34092020001349},"беззаставний"]
["380816__367",{"$f":"IFERROR(VLOOKUP(A388,'1.Портфель кредитів'!A:AB,3,FALSE),\"\")","v":"Банк Січ"},{"$f":"'1.Портфель кредитів'!I382","v":34092020001350},"беззаставний"]
["380816__368",{"$f":"IFERROR(VLOOKUP(A389,'1.Портфель кредитів'!A:AB,3,FALSE),\"\")","v":"Банк Січ"},{"$f":"'1.Портфель кредитів'!I383","v":34092020001351},"беззаставний"]
["380816__369",{"$f":"IFERROR(VLOOKUP(A390,'1.Портфель кредитів'!A:AB,3,FALSE),\"\")","v":"Банк Січ"},{"$f":"'1.Портфель кредитів'!I384","v":34092020001352},"беззаставний"]
["380816__370",{"$f":"IFERROR(VLOOKUP(A391,'1.Портфель кредитів'!A:AB,3,FALSE),\"\")","v":"Банк Січ"},{"$f":"'1.Портфель кредитів'!I385","v":34092020001353},"беззаставний"]
["380816__371",{"$f":"IFERROR(VLOOKUP(A392,'1.Портфель кредитів'!A:AB,3,FALSE),\"\")","v":"Банк Січ"},{"$f":"'1.Портфель кредитів'!I386","v":34092020001354},"беззаставний"]
["380816__372",{"$f":"IFERROR(VLOOKUP(A393,'1.Портфель кредитів'!A:AB,3,FALSE),\"\")","v":"Банк Січ"},{"$f":"'1.Портфель кредитів'!I387","v":34092020001355},"беззаставний"]
["380816__373",{"$f":"IFERROR(VLOOKUP(A394,'1.Портфель кредитів'!A:AB,3,FALSE),\"\")","v":"Банк Січ"},{"$f":"'1.Портфель кредитів'!I388","v":34092020001356},"беззаставний"]
["380816__374",{"$f":"IFERROR(VLOOKUP(A395,'1.Портфель кредитів'!A:AB,3,FALSE),\"\")","v":"Банк Січ"},{"$f":"'1.Портфель кредитів'!I389","v":34092020001357},"беззаставний"]
["380816__375",{"$f":"IFERROR(VLOOKUP(A396,'1.Портфель кредитів'!A:AB,3,FALSE),\"\")","v":"Банк Січ"},{"$f":"'1.Портфель кредитів'!I390","v":34092020001358},"беззаставний"]
["380816__376",{"$f":"IFERROR(VLOOKUP(A397,'1.Портфель кредитів'!A:AB,3,FALSE),\"\")","v":"Банк Січ"},{"$f":"'1.Портфель кредитів'!I391","v":34092020001359},"беззаставний"]
["380816__377",{"$f":"IFERROR(VLOOKUP(A398,'1.Портфель кредитів'!A:AB,3,FALSE),\"\")","v":"Банк Січ"},{"$f":"'1.Портфель кредитів'!I392","v":34092020001360},"беззаставний"]
["380816__378",{"$f":"IFERROR(VLOOKUP(A399,'1.Портфель кредитів'!A:AB,3,FALSE),\"\")","v":"Банк Січ"},{"$f":"'1.Портфель кредитів'!I393","v":34092020001361},"беззаставний"]
["380816__379",{"$f":"IFERROR(VLOOKUP(A400,'1.Портфель кредитів'!A:AB,3,FALSE),\"\")","v":"Банк Січ"},{"$f":"'1.Портфель кредитів'!I394","v":34092020001362},"беззаставний"]
["380816__380",{"$f":"IFERROR(VLOOKUP(A401,'1.Портфель кредитів'!A:AB,3,FALSE),\"\")","v":"Банк Січ"},{"$f":"'1.Портфель кредитів'!I395","v":34092020001363},"беззаставний"]
["380816__381",{"$f":"IFERROR(VLOOKUP(A402,'1.Портфель кредитів'!A:AB,3,FALSE),\"\")","v":"Банк Січ"},{"$f":"'1.Портфель кредитів'!I396","v":34092020001364},"беззаставний"]
["380816__382",{"$f":"IFERROR(VLOOKUP(A403,'1.Портфель кредитів'!A:AB,3,FALSE),\"\")","v":"Банк Січ"},{"$f":"'1.Портфель кредитів'!I397","v":34092020001365},"беззаставний"]
["380816__383",{"$f":"IFERROR(VLOOKUP(A404,'1.Портфель кредитів'!A:AB,3,FALSE),\"\")","v":"Банк Січ"},{"$f":"'1.Портфель кредитів'!I398","v":34092020001366},"беззаставний"]
["380816__384",{"$f":"IFERROR(VLOOKUP(A405,'1.Портфель кредитів'!A:AB,3,FALSE),\"\")","v":"Банк Січ"},{"$f":"'1.Портфель кредитів'!I399","v":34092020001367},"беззаставний"]
["380816__385",{"$f":"IFERROR(VLOOKUP(A406,'1.Портфель кредитів'!A:AB,3,FALSE),\"\")","v":"Банк Січ"},{"$f":"'1.Портфель кредитів'!I400","v":34092020001368},"беззаставний"]
["380816__386",{"$f":"IFERROR(VLOOKUP(A407,'1.Портфель кредитів'!A:AB,3,FALSE),\"\")","v":"Банк Січ"},{"$f":"'1.Портфель кредитів'!I401","v":34092020001369},"беззаставний"]
["380816__387",{"$f":"IFERROR(VLOOKUP(A408,'1.Портфель кредитів'!A:AB,3,FALSE),\"\")","v":"Банк Січ"},{"$f":"'1.Портфель кредитів'!I402","v":34092020001370},"беззаставний"]
["380816__388",{"$f":"IFERROR(VLOOKUP(A409,'1.Портфель кредитів'!A:AB,3,FALSE),\"\")","v":"Банк Січ"},{"$f":"'1.Портфель кредитів'!I403","v":34092020001371},"беззаставний"]
["380816__389",{"$f":"IFERROR(VLOOKUP(A410,'1.Портфель кредитів'!A:AB,3,FALSE),\"\")","v":"Банк Січ"},{"$f":"'1.Портфель кредитів'!I404","v":34092020001372},"беззаставний"]
["380816__390",{"$f":"IFERROR(VLOOKUP(A411,'1.Портфель кредитів'!A:AB,3,FALSE),\"\")","v":"Банк Січ"},{"$f":"'1.Портфель кредитів'!I405","v":34092020001373},"беззаставний"]
["380816__391",{"$f":"IFERROR(VLOOKUP(A412,'1.Портфель кредитів'!A:AB,3,FALSE),\"\")","v":"Банк Січ"},{"$f":"'1.Портфель кредитів'!I406","v":34092020001374},"беззаставний"]
["380816__392",{"$f":"IFERROR(VLOOKUP(A413,'1.Портфель кредитів'!A:AB,3,FALSE),\"\")","v":"Банк Січ"},{"$f":"'1.Портфель кредитів'!I407","v":34092020001375},"беззаставний"]
["380816__393",{"$f":"IFERROR(VLOOKUP(A414,'1.Портфель кредитів'!A:AB,3,FALSE),\"\")","v":"Банк Січ"},{"$f":"'1.Портфель кредитів'!I408","v":34092020001376},"беззаставний"]
["380816__394",{"$f":"IFERROR(VLOOKUP(A415,'1.Портфель кредитів'!A:AB,3,FALSE),\"\")","v":"Банк Січ"},{"$f":"'1.Портфель кредитів'!I409","v":34092020001377},"беззаставний"]
["380816__395",{"$f":"IFERROR(VLOOKUP(A416,'1.Портфель кредитів'!A:AB,3,FALSE),\"\")","v":"Банк Січ"},{"$f":"'1.Портфель кредитів'!I410","v":34092020001378},"беззаставний"]
["380816__396",{"$f":"IFERROR(VLOOKUP(A417,'1.Портфель кредитів'!A:AB,3,FALSE),\"\")","v":"Банк Січ"},{"$f":"'1.Портфель кредитів'!I411","v":34092020001379},"беззаставний"]
["380816__397",{"$f":"IFERROR(VLOOKUP(A418,'1.Портфель кредитів'!A:AB,3,FALSE),\"\")","v":"Банк Січ"},{"$f":"'1.Портфель кредитів'!I412","v":34092020001380},"беззаставний"]
["380816__398",{"$f":"IFERROR(VLOOKUP(A419,'1.Портфель кредитів'!A:AB,3,FALSE),\"\")","v":"Банк Січ"},{"$f":"'1.Портфель кредитів'!I413","v":34092020001381},"беззаставний"]
["380816__399",{"$f":"IFERROR(VLOOKUP(A420,'1.Портфель кредитів'!A:AB,3,FALSE),\"\")","v":"Банк Січ"},{"$f":"'1.Портфель кредитів'!I414","v":34092020001382},"беззаставний"]
["380816__400",{"$f":"IFERROR(VLOOKUP(A421,'1.Портфель кредитів'!A:AB,3,FALSE),\"\")","v":"Банк Січ"},{"$f":"'1.Портфель кредитів'!I415","v":34092020001383},"беззаставний"]
["380816__401",{"$f":"IFERROR(VLOOKUP(A422,'1.Портфель кредитів'!A:AB,3,FALSE),\"\")","v":"Банк Січ"},{"$f":"'1.Портфель кредитів'!I416","v":34092020001384},"беззаставний"]
["380816__402",{"$f":"IFERROR(VLOOKUP(A423,'1.Портфель кредитів'!A:AB,3,FALSE),\"\")","v":"Банк Січ"},{"$f":"'1.Портфель кредитів'!I417","v":34092020001385},"беззаставний"]
["380816__403",{"$f":"IFERROR(VLOOKUP(A424,'1.Портфель кредитів'!A:AB,3,FALSE),\"\")","v":"Банк Січ"},{"$f":"'1.Портфель кредитів'!I418","v":34092020001386},"беззаставний"]
["380816__404",{"$f":"IFERROR(VLOOKUP(A425,'1.Портфель кредитів'!A:AB,3,FALSE),\"\")","v":"Банк Січ"},{"$f":"'1.Портфель кредитів'!I419","v":34092020001387},"беззаставний"]
["380816__405",{"$f":"IFERROR(VLOOKUP(A426,'1.Портфель кредитів'!A:AB,3,FALSE),\"\")","v":"Банк Січ"},{"$f":"'1.Портфель кредитів'!I420","v":34092020001388},"беззаставний"]
["380816__406",{"$f":"IFERROR(VLOOKUP(A427,'1.Портфель кредитів'!A:AB,3,FALSE),\"\")","v":"Банк Січ"},{"$f":"'1.Портфель кредитів'!I421","v":34092020001389},"беззаставний"]
["380816__407",{"$f":"IFERROR(VLOOKUP(A428,'1.Портфель кредитів'!A:AB,3,FALSE),\"\")","v":"Банк Січ"},{"$f":"'1.Портфель кредитів'!I422","v":34092020001390},"беззаставний"]
["380816__408",{"$f":"IFERROR(VLOOKUP(A429,'1.Портфель кредитів'!A:AB,3,FALSE),\"\")","v":"Банк Січ"},{"$f":"'1.Портфель кредитів'!I423","v":34092020001391},"беззаставний"]
["380816__409",{"$f":"IFERROR(VLOOKUP(A430,'1.Портфель кредитів'!A:AB,3,FALSE),\"\")","v":"Банк Січ"},{"$f":"'1.Портфель кредитів'!I424","v":34092020001392},"беззаставний"]
["380816__410",{"$f":"IFERROR(VLOOKUP(A431,'1.Портфель кредитів'!A:AB,3,FALSE),\"\")","v":"Банк Січ"},{"$f":"'1.Портфель кредитів'!I425","v":34092020001393},"беззаставний"]
["380816__411",{"$f":"IFERROR(VLOOKUP(A432,'1.Портфель кредитів'!A:AB,3,FALSE),\"\")","v":"Банк Січ"},{"$f":"'1.Портфель кредитів'!I426","v":34092020001394},"беззаставний"]
["380816__412",{"$f":"IFERROR(VLOOKUP(A433,'1.Портфель кредитів'!A:AB,3,FALSE),\"\")","v":"Банк Січ"},{"$f":"'1.Портфель кредитів'!I427","v":34092020001395},"беззаставний"]
["380816__413",{"$f":"IFERROR(VLOOKUP(A434,'1.Портфель кредитів'!A:AB,3,FALSE),\"\")","v":"Банк Січ"},{"$f":"'1.Портфель кредитів'!I428","v":34092020001396},"беззаставний"]
["380816__414",{"$f":"IFERROR(VLOOKUP(A435,'1.Портфель кредитів'!A:AB,3,FALSE),\"\")","v":"Банк Січ"},{"$f":"'1.Портфель кредитів'!I429","v":34092020001397},"беззаставний"]
["380816__415",{"$f":"IFERROR(VLOOKUP(A436,'1.Портфель кредитів'!A:AB,3,FALSE),\"\")","v":"Банк Січ"},{"$f":"'1.Портфель кредитів'!I430","v":34092020001398},"беззаставний"]
["380816__416",{"$f":"IFERROR(VLOOKUP(A437,'1.Портфель кредитів'!A:AB,3,FALSE),\"\")","v":"Банк Січ"},{"$f":"'1.Портфель кредитів'!I431","v":34092020001399},"беззаставний"]
["380816__417",{"$f":"IFERROR(VLOOKUP(A438,'1.Портфель кредитів'!A:AB,3,FALSE),\"\")","v":"Банк Січ"},{"$f":"'1.Портфель кредитів'!I432","v":34092020001400},"беззаставний"]
["380816__418",{"$f":"IFERROR(VLOOKUP(A439,'1.Портфель кредитів'!A:AB,3,FALSE),\"\")","v":"Банк Січ"},{"$f":"'1.Портфель кредитів'!I433","v":34092020001401},"беззаставний"]
["380816__419",{"$f":"IFERROR(VLOOKUP(A440,'1.Портфель кредитів'!A:AB,3,FALSE),\"\")","v":"Банк Січ"},{"$f":"'1.Портфель кредитів'!I434","v":34092020001402},"беззаставний"]
["380816__420",{"$f":"IFERROR(VLOOKUP(A441,'1.Портфель кредитів'!A:AB,3,FALSE),\"\")","v":"Банк Січ"},{"$f":"'1.Портфель кредитів'!I435","v":34092020001403},"беззаставний"]
["380816__421",{"$f":"IFERROR(VLOOKUP(A442,'1.Портфель кредитів'!A:AB,3,FALSE),\"\")","v":"Банк Січ"},{"$f":"'1.Портфель кредитів'!I436","v":34092020001404},"беззаставний"]
["380816__422",{"$f":"IFERROR(VLOOKUP(A443,'1.Портфель кредитів'!A:AB,3,FALSE),\"\")","v":"Банк Січ"},{"$f":"'1.Портфель кредитів'!I437","v":34092020001405},"беззаставний"]
["380816__423",{"$f":"IFERROR(VLOOKUP(A444,'1.Портфель кредитів'!A:AB,3,FALSE),\"\")","v":"Банк Січ"},{"$f":"'1.Портфель кредитів'!I438","v":34092020001406},"беззаставний"]
["380816__424",{"$f":"IFERROR(VLOOKUP(A445,'1.Портфель кредитів'!A:AB,3,FALSE),\"\")","v":"Банк Січ"},{"$f":"'1.Портфель кредитів'!I439","v":34092020001407},"беззаставний"]
["380816__425",{"$f":"IFERROR(VLOOKUP(A446,'1.Портфель кредитів'!A:AB,3,FALSE),\"\")","v":"Банк Січ"},{"$f":"'1.Портфель кредитів'!I440","v":34092020001408},"беззаставний"]
["380816__426",{"$f":"IFERROR(VLOOKUP(A447,'1.Портфель кредитів'!A:AB,3,FALSE),\"\")","v":"Банк Січ"},{"$f":"'1.Портфель кредитів'!I441","v":34092020001409},"беззаставний"]
["380816__427",{"$f":"IFERROR(VLOOKUP(A448,'1.Портфель кредитів'!A:AB,3,FALSE),\"\")","v":"Банк Січ"},{"$f":"'1.Портфель кредитів'!I442","v":34092020001410},"беззаставний"]
["380816__428",{"$f":"IFERROR(VLOOKUP(A449,'1.Портфель кредитів'!A:AB,3,FALSE),\"\")","v":"Банк Січ"},{"$f":"'1.Портфель кредитів'!I443","v":34092020001411},"беззаставний"]
["380816__429",{"$f":"IFERROR(VLOOKUP(A450,'1.Портфель кредитів'!A:AB,3,FALSE),\"\")","v":"Банк Січ"},{"$f":"'1.Портфель кредитів'!I444","v":34092020001412},"беззаставний"]
["380816__430",{"$f":"IFERROR(VLOOKUP(A451,'1.Портфель кредитів'!A:AB,3,FALSE),\"\")","v":"Банк Січ"},{"$f":"'1.Портфель кредитів'!I445","v":34092020001413},"беззаставний"]
["380816__431",{"$f":"IFERROR(VLOOKUP(A452,'1.Портфель кредитів'!A:AB,3,FALSE),\"\")","v":"Банк Січ"},{"$f":"'1.Портфель кредитів'!I446","v":34092020001414},"беззаставний"]
["380816__432",{"$f":"IFERROR(VLOOKUP(A453,'1.Портфель кредитів'!A:AB,3,FALSE),\"\")","v":"Банк Січ"},{"$f":"'1.Портфель кредитів'!I447","v":34092020001415},"беззаставний"]
["380816__433",{"$f":"IFERROR(VLOOKUP(A454,'1.Портфель кредитів'!A:AB,3,FALSE),\"\")","v":"Банк Січ"},{"$f":"'1.Портфель кредитів'!I448","v":34092020001416},"беззаставний"]
["380816__434",{"$f":"IFERROR(VLOOKUP(A455,'1.Портфель кредитів'!A:AB,3,FALSE),\"\")","v":"Банк Січ"},{"$f":"'1.Портфель кредитів'!I449","v":34092020001417},"беззаставний"]
["380816__435",{"$f":"IFERROR(VLOOKUP(A456,'1.Портфель кредитів'!A:AB,3,FALSE),\"\")","v":"Банк Січ"},{"$f":"'1.Портфель кредитів'!I450","v":34092020001418},"беззаставний"]
["380816__436",{"$f":"IFERROR(VLOOKUP(A457,'1.Портфель кредитів'!A:AB,3,FALSE),\"\")","v":"Банк Січ"},{"$f":"'1.Портфель кредитів'!I451","v":34092020001419},"беззаставний"]
["380816__437",{"$f":"IFERROR(VLOOKUP(A458,'1.Портфель кредитів'!A:AB,3,FALSE),\"\")","v":"Банк Січ"},{"$f":"'1.Портфель кредитів'!I452","v":34092020001420},"беззаставний"]
["380816__438",{"$f":"IFERROR(VLOOKUP(A459,'1.Портфель кредитів'!A:AB,3,FALSE),\"\")","v":"Банк Січ"},{"$f":"'1.Портфель кредитів'!I453","v":34092020001421},"беззаставний"]
["380816__439",{"$f":"IFERROR(VLOOKUP(A460,'1.Портфель кредитів'!A:AB,3,FALSE),\"\")","v":"Банк Січ"},{"$f":"'1.Портфель кредитів'!I454","v":34092020001422},"беззаставний"]
["380816__440",{"$f":"IFERROR(VLOOKUP(A461,'1.Портфель кредитів'!A:AB,3,FALSE),\"\")","v":"Банк Січ"},{"$f":"'1.Портфель кредитів'!I455","v":34092020001423},"беззаставний"]
["380816__441",{"$f":"IFERROR(VLOOKUP(A462,'1.Портфель кредитів'!A:AB,3,FALSE),\"\")","v":"Банк Січ"},{"$f":"'1.Портфель кредитів'!I456","v":34092020001424},"беззаставний"]
["380816__442",{"$f":"IFERROR(VLOOKUP(A463,'1.Портфель кредитів'!A:AB,3,FALSE),\"\")","v":"Банк Січ"},{"$f":"'1.Портфель кредитів'!I457","v":34092020001425},"беззаставний"]
["380816__443",{"$f":"IFERROR(VLOOKUP(A464,'1.Портфель кредитів'!A:AB,3,FALSE),\"\")","v":"Банк Січ"},{"$f":"'1.Портфель кредитів'!I458","v":34092020001426},"беззаставний"]
["380816__444",{"$f":"IFERROR(VLOOKUP(A465,'1.Портфель кредитів'!A:AB,3,FALSE),\"\")","v":"Банк Січ"},{"$f":"'1.Портфель кредитів'!I459","v":34092020001427},"беззаставний"]
["380816__445",{"$f":"IFERROR(VLOOKUP(A466,'1.Портфель кредитів'!A:AB,3,FALSE),\"\")","v":"Банк Січ"},{"$f":"'1.Портфель кредитів'!I460","v":34092020001428},"беззаставний"]
["380816__446",{"$f":"IFERROR(VLOOKUP(A467,'1.Портфель кредитів'!A:AB,3,FALSE),\"\")","v":"Банк Січ"},{"$f":"'1.Портфель кредитів'!I461","v":34092020001429},"беззаставний"]
["380816__447",{"$f":"IFERROR(VLOOKUP(A468,'1.Портфель кредитів'!A:AB,3,FALSE),\"\")","v":"Банк Січ"},{"$f":"'1.Портфель кредитів'!I462","v":34092020001430},"беззаставний"]
["380816__448",{"$f":"IFERROR(VLOOKUP(A469,'1.Портфель кредитів'!A:AB,3,FALSE),\"\")","v":"Банк Січ"},{"$f":"'1.Портфель кредитів'!I463","v":34092020001431},"беззаставний"]
["380816__449",{"$f":"IFERROR(VLOOKUP(A470,'1.Портфель кредитів'!A:AB,3,FALSE),\"\")","v":"Банк Січ"},{"$f":"'1.Портфель кредитів'!I464","v":34092020001432},"беззаставний"]
["380816__450",{"$f":"IFERROR(VLOOKUP(A471,'1.Портфель кредитів'!A:AB,3,FALSE),\"\")","v":"Банк Січ"},{"$f":"'1.Портфель кредитів'!I465","v":34092020001433},"беззаставний"]
["380816__451",{"$f":"IFERROR(VLOOKUP(A472,'1.Портфель кредитів'!A:AB,3,FALSE),\"\")","v":"Банк Січ"},{"$f":"'1.Портфель кредитів'!I466","v":34092020001434},"беззаставний"]
["380816__452",{"$f":"IFERROR(VLOOKUP(A473,'1.Портфель кредитів'!A:AB,3,FALSE),\"\")","v":"Банк Січ"},{"$f":"'1.Портфель кредитів'!I467","v":34092020001435},"беззаставний"]
["380816__453",{"$f":"IFERROR(VLOOKUP(A474,'1.Портфель кредитів'!A:AB,3,FALSE),\"\")","v":"Банк Січ"},{"$f":"'1.Портфель кредитів'!I468","v":34092020001436},"беззаставний"]
["380816__454",{"$f":"IFERROR(VLOOKUP(A475,'1.Портфель кредитів'!A:AB,3,FALSE),\"\")","v":"Банк Січ"},{"$f":"'1.Портфель кредитів'!I469","v":34092020001437},"беззаставний"]
["380816__455",{"$f":"IFERROR(VLOOKUP(A476,'1.Портфель кредитів'!A:AB,3,FALSE),\"\")","v":"Банк Січ"},{"$f":"'1.Портфель кредитів'!I470","v":34092020001438},"беззаставний"]
["380816__456",{"$f":"IFERROR(VLOOKUP(A477,'1.Портфель кредитів'!A:AB,3,FALSE),\"\")","v":"Банк Січ"},{"$f":"'1.Портфель кредитів'!I471","v":34092020001439},"беззаставний"]
["380816__457",{"$f":"IFERROR(VLOOKUP(A478,'1.Портфель кредитів'!A:AB,3,FALSE),\"\")","v":"Банк Січ"},{"$f":"'1.Портфель кредитів'!I472","v":34092020001440},"беззаставний"]
["380816__458",{"$f":"IFERROR(VLOOKUP(A479,'1.Портфель кредитів'!A:AB,3,FALSE),\"\")","v":"Банк Січ"},{"$f":"'1.Портфель кредитів'!I473","v":34092020001441},"беззаставний"]
["380816__459",{"$f":"IFERROR(VLOOKUP(A480,'1.Портфель кредитів'!A:AB,3,FALSE),\"\")","v":"Банк Січ"},{"$f":"'1.Портфель кредитів'!I474","v":34092020001442},"беззаставний"]
["380816__460",{"$f":"IFERROR(VLOOKUP(A481,'1.Портфель кредитів'!A:AB,3,FALSE),\"\")","v":"Банк Січ"},{"$f":"'1.Портфель кредитів'!I475","v":34092020001443},"беззаставний"]
["380816__461",{"$f":"IFERROR(VLOOKUP(A482,'1.Портфель кредитів'!A:AB,3,FALSE),\"\")","v":"Банк Січ"},{"$f":"'1.Портфель кредитів'!I476","v":34092020001444},"беззаставний"]
["380816__462",{"$f":"IFERROR(VLOOKUP(A483,'1.Портфель кредитів'!A:AB,3,FALSE),\"\")","v":"Банк Січ"},{"$f":"'1.Портфель кредитів'!I477","v":34092020001445},"беззаставний"]
["380816__463",{"$f":"IFERROR(VLOOKUP(A484,'1.Портфель кредитів'!A:AB,3,FALSE),\"\")","v":"Банк Січ"},{"$f":"'1.Портфель кредитів'!I478","v":34092020001446},"беззаставний"]
["380816__464",{"$f":"IFERROR(VLOOKUP(A485,'1.Портфель кредитів'!A:AB,3,FALSE),\"\")","v":"Банк Січ"},{"$f":"'1.Портфель кредитів'!I479","v":34092020001447},"беззаставний"]
["380816__465",{"$f":"IFERROR(VLOOKUP(A486,'1.Портфель кредитів'!A:AB,3,FALSE),\"\")","v":"Банк Січ"},{"$f":"'1.Портфель кредитів'!I480","v":34092020001448},"беззаставний"]
["380816__466",{"$f":"IFERROR(VLOOKUP(A487,'1.Портфель кредитів'!A:AB,3,FALSE),\"\")","v":"Банк Січ"},{"$f":"'1.Портфель кредитів'!I481","v":34092020001449},"беззаставний"]
["380816__467",{"$f":"IFERROR(VLOOKUP(A488,'1.Портфель кредитів'!A:AB,3,FALSE),\"\")","v":"Банк Січ"},{"$f":"'1.Портфель кредитів'!I482","v":34092020001450},"беззаставний"]
["380816__468",{"$f":"IFERROR(VLOOKUP(A489,'1.Портфель кредитів'!A:AB,3,FALSE),\"\")","v":"Банк Січ"},{"$f":"'1.Портфель кредитів'!I483","v":34092020001451},"беззаставний"]
["380816__469",{"$f":"IFERROR(VLOOKUP(A490,'1.Портфель кредитів'!A:AB,3,FALSE),\"\")","v":"Банк Січ"},{"$f":"'1.Портфель кредитів'!I484","v":34092020001452},"беззаставний"]
["380816__470",{"$f":"IFERROR(VLOOKUP(A491,'1.Портфель кредитів'!A:AB,3,FALSE),\"\")","v":"Банк Січ"},{"$f":"'1.Портфель кредитів'!I485","v":34092020001453},"беззаставний"]
["380816__471",{"$f":"IFERROR(VLOOKUP(A492,'1.Портфель кредитів'!A:AB,3,FALSE),\"\")","v":"Банк Січ"},{"$f":"'1.Портфель кредитів'!I486","v":34092020001454},"беззаставний"]
["380816__472",{"$f":"IFERROR(VLOOKUP(A493,'1.Портфель кредитів'!A:AB,3,FALSE),\"\")","v":"Банк Січ"},{"$f":"'1.Портфель кредитів'!I487","v":34092020001455},"беззаставний"]
["380816__473",{"$f":"IFERROR(VLOOKUP(A494,'1.Портфель кредитів'!A:AB,3,FALSE),\"\")","v":"Банк Січ"},{"$f":"'1.Портфель кредитів'!I488","v":34092020001456},"беззаставний"]
["380816__474",{"$f":"IFERROR(VLOOKUP(A495,'1.Портфель кредитів'!A:AB,3,FALSE),\"\")","v":"Банк Січ"},{"$f":"'1.Портфель кредитів'!I489","v":34092020001457},"беззаставний"]
["380816__475",{"$f":"IFERROR(VLOOKUP(A496,'1.Портфель кредитів'!A:AB,3,FALSE),\"\")","v":"Банк Січ"},{"$f":"'1.Портфель кредитів'!I490","v":34092020001458},"беззаставний"]
["380816__476",{"$f":"IFERROR(VLOOKUP(A497,'1.Портфель кредитів'!A:AB,3,FALSE),\"\")","v":"Банк Січ"},{"$f":"'1.Портфель кредитів'!I491","v":34092020001459},"беззаставний"]
["380816__477",{"$f":"IFERROR(VLOOKUP(A498,'1.Портфель кредитів'!A:AB,3,FALSE),\"\")","v":"Банк Січ"},{"$f":"'1.Портфель кредитів'!I492","v":34092020001460},"беззаставний"]
["380816__478",{"$f":"IFERROR(VLOOKUP(A499,'1.Портфель кредитів'!A:AB,3,FALSE),\"\")","v":"Банк Січ"},{"$f":"'1.Портфель кредитів'!I493","v":34092020001461},"беззаставний"]
["380816__479",{"$f":"IFERROR(VLOOKUP(A500,'1.Портфель кредитів'!A:AB,3,FALSE),\"\")","v":"Банк Січ"},{"$f":"'1.Портфель кредитів'!I494","v":34092020001462},"беззаставний"]
["380816__480",{"$f":"IFERROR(VLOOKUP(A501,'1.Портфель кредитів'!A:AB,3,FALSE),\"\")","v":"Банк Січ"},{"$f":"'1.Портфель кредитів'!I495","v":34092020001463},"беззаставний"]
["380816__481",{"$f":"IFERROR(VLOOKUP(A502,'1.Портфель кредитів'!A:AB,3,FALSE),\"\")","v":"Банк Січ"},{"$f":"'1.Портфель кредитів'!I496","v":34092020001464},"беззаставний"]
["380816__482",{"$f":"IFERROR(VLOOKUP(A503,'1.Портфель кредитів'!A:AB,3,FALSE),\"\")","v":"Банк Січ"},{"$f":"'1.Портфель кредитів'!I497","v":34092020001465},"беззаставний"]
["380816__483",{"$f":"IFERROR(VLOOKUP(A504,'1.Портфель кредитів'!A:AB,3,FALSE),\"\")","v":"Банк Січ"},{"$f":"'1.Портфель кредитів'!I498","v":34092020001466},"беззаставний"]
["380816__484",{"$f":"IFERROR(VLOOKUP(A505,'1.Портфель кредитів'!A:AB,3,FALSE),\"\")","v":"Банк Січ"},{"$f":"'1.Портфель кредитів'!I499","v":34092020001467},"беззаставний"]
["380816__485",{"$f":"IFERROR(VLOOKUP(A506,'1.Портфель кредитів'!A:AB,3,FALSE),\"\")","v":"Банк Січ"},{"$f":"'1.Портфель кредитів'!I500","v":34092020001468},"беззаставний"]
["380816__486",{"$f":"IFERROR(VLOOKUP(A507,'1.Портфель кредитів'!A:AB,3,FALSE),\"\")","v":"Банк Січ"},{"$f":"'1.Портфель кредитів'!I501","v":34092020001469},"беззаставний"]
["380816__487",{"$f":"IFERROR(VLOOKUP(A508,'1.Портфель кредитів'!A:AB,3,FALSE),\"\")","v":"Банк Січ"},{"$f":"'1.Портфель кредитів'!I502","v":34092020001470},"беззаставний"]
["380816__488",{"$f":"IFERROR(VLOOKUP(A509,'1.Портфель кредитів'!A:AB,3,FALSE),\"\")","v":"Банк Січ"},{"$f":"'1.Портфель кредитів'!I503","v":34092020001471},"беззаставний"]
["380816__489",{"$f":"IFERROR(VLOOKUP(A510,'1.Портфель кредитів'!A:AB,3,FALSE),\"\")","v":"Банк Січ"},{"$f":"'1.Портфель кредитів'!I504","v":34092020001472},"беззаставний"]
["380816__490",{"$f":"IFERROR(VLOOKUP(A511,'1.Портфель кредитів'!A:AB,3,FALSE),\"\")","v":"Банк Січ"},{"$f":"'1.Портфель кредитів'!I505","v":34092020001473},"беззаставний"]
["380816__491",{"$f":"IFERROR(VLOOKUP(A512,'1.Портфель кредитів'!A:AB,3,FALSE),\"\")","v":"Банк Січ"},{"$f":"'1.Портфель кредитів'!I506","v":34092020001474},"беззаставний"]
["380816__492",{"$f":"IFERROR(VLOOKUP(A513,'1.Портфель кредитів'!A:AB,3,FALSE),\"\")","v":"Банк Січ"},{"$f":"'1.Портфель кредитів'!I507","v":34092020001475},"беззаставний"]
["380816__493",{"$f":"IFERROR(VLOOKUP(A514,'1.Портфель кредитів'!A:AB,3,FALSE),\"\")","v":"Банк Січ"},{"$f":"'1.Портфель кредитів'!I508","v":34092020001476},"беззаставний"]
["380816__494",{"$f":"IFERROR(VLOOKUP(A515,'1.Портфель кредитів'!A:AB,3,FALSE),\"\")","v":"Банк Січ"},{"$f":"'1.Портфель кредитів'!I509","v":34092020001477},"беззаставний"]
["380816__495",{"$f":"IFERROR(VLOOKUP(A516,'1.Портфель кредитів'!A:AB,3,FALSE),\"\")","v":"Банк Січ"},{"$f":"'1.Портфель кредитів'!I510","v":34092020001478},"беззаставний"]
["380816__496",{"$f":"IFERROR(VLOOKUP(A517,'1.Портфель кредитів'!A:AB,3,FALSE),\"\")","v":"Банк Січ"},{"$f":"'1.Портфель кредитів'!I511","v":34092020001479},"беззаставний"]
["380816__497",{"$f":"IFERROR(VLOOKUP(A518,'1.Портфель кредитів'!A:AB,3,FALSE),\"\")","v":"Банк Січ"},{"$f":"'1.Портфель кредитів'!I512","v":34092020001480},"беззаставний"]
["380816__498",{"$f":"IFERROR(VLOOKUP(A519,'1.Портфель кредитів'!A:AB,3,FALSE),\"\")","v":"Банк Січ"},{"$f":"'1.Портфель кредитів'!I513","v":34092020001481},"беззаставний"]
["380816__499",{"$f":"IFERROR(VLOOKUP(A520,'1.Портфель кредитів'!A:AB,3,FALSE),\"\")","v":"Банк Січ"},{"$f":"'1.Портфель кредитів'!I514","v":34092020001482},"беззаставний"]
["380816__500",{"$f":"IFERROR(VLOOKUP(A521,'1.Портфель кредитів'!A:AB,3,FALSE),\"\")","v":"Банк Січ"},{"$f":"'1.Портфель кредитів'!I515","v":34092020001483},"беззаставний"]
["380816__501",{"$f":"IFERROR(VLOOKUP(A522,'1.Портфель кредитів'!A:AB,3,FALSE),\"\")","v":"Банк Січ"},{"$f":"'1.Портфель кредитів'!I516","v":34092020001484},"беззаставний"]
["380816__502",{"$f":"IFERROR(VLOOKUP(A523,'1.Портфель кредитів'!A:AB,3,FALSE),\"\")","v":"Банк Січ"},{"$f":"'1.Портфель кредитів'!I517","v":34092020001485},"беззаставний"]
["380816__503",{"$f":"IFERROR(VLOOKUP(A524,'1.Портфель кредитів'!A:AB,3,FALSE),\"\")","v":"Банк Січ"},{"$f":"'1.Портфель кредитів'!I518","v":34092020001486},"беззаставний"]
["380816__504",{"$f":"IFERROR(VLOOKUP(A525,'1.Портфель кредитів'!A:AB,3,FALSE),\"\")","v":"Банк Січ"},{"$f":"'1.Портфель кредитів'!I519","v":34092020001487},"беззаставний"]
["380816__505",{"$f":"IFERROR(VLOOKUP(A526,'1.Портфель кредитів'!A:AB,3,FALSE),\"\")","v":"Банк Січ"},{"$f":"'1.Портфель кредитів'!I520","v":34092020001488},"беззаставний"]
["380816__506",{"$f":"IFERROR(VLOOKUP(A527,'1.Портфель кредитів'!A:AB,3,FALSE),\"\")","v":"Банк Січ"},{"$f":"'1.Портфель кредитів'!I521","v":34092020001489},"беззаставний"]
["380816__507",{"$f":"IFERROR(VLOOKUP(A528,'1.Портфель кредитів'!A:AB,3,FALSE),\"\")","v":"Банк Січ"},{"$f":"'1.Портфель кредитів'!I522","v":34092020001490},"беззаставний"]
["380816__508",{"$f":"IFERROR(VLOOKUP(A529,'1.Портфель кредитів'!A:AB,3,FALSE),\"\")","v":"Банк Січ"},{"$f":"'1.Портфель кредитів'!I523","v":34092020001491},"беззаставний"]
["380816__509",{"$f":"IFERROR(VLOOKUP(A530,'1.Портфель кредитів'!A:AB,3,FALSE),\"\")","v":"Банк Січ"},{"$f":"'1.Портфель кредитів'!I524","v":34092020001492},"беззаставний"]
["380816__510",{"$f":"IFERROR(VLOOKUP(A531,'1.Портфель кредитів'!A:AB,3,FALSE),\"\")","v":"Банк Січ"},{"$f":"'1.Портфель кредитів'!I525","v":34092020001493},"беззаставний"]
["380816__511",{"$f":"IFERROR(VLOOKUP(A532,'1.Портфель кредитів'!A:AB,3,FALSE),\"\")","v":"Банк Січ"},{"$f":"'1.Портфель кредитів'!I526","v":34092020001494},"беззаставний"]
["380816__512",{"$f":"IFERROR(VLOOKUP(A533,'1.Портфель кредитів'!A:AB,3,FALSE),\"\")","v":"Банк Січ"},{"$f":"'1.Портфель кредитів'!I527","v":34092020001495},"беззаставний"]
["380816__513",{"$f":"IFERROR(VLOOKUP(A534,'1.Портфель кредитів'!A:AB,3,FALSE),\"\")","v":"Банк Січ"},{"$f":"'1.Портфель кредитів'!I528","v":34092020001496},"беззаставний"]
["380816__514",{"$f":"IFERROR(VLOOKUP(A535,'1.Портфель кредитів'!A:AB,3,FALSE),\"\")","v":"Банк Січ"},{"$f":"'1.Портфель кредитів'!I529","v":34092020001497},"беззаставний"]
["380816__515",{"$f":"IFERROR(VLOOKUP(A536,'1.Портфель кредитів'!A:AB,3,FALSE),\"\")","v":"Банк Січ"},{"$f":"'1.Портфель кредитів'!I530","v":34092020001498},"беззаставний"]
["380816__516",{"$f":"IFERROR(VLOOKUP(A537,'1.Портфель кредитів'!A:AB,3,FALSE),\"\")","v":"Банк Січ"},{"$f":"'1.Портфель кредитів'!I531","v":34092020001499},"беззаставний"]
["380816__517",{"$f":"IFERROR(VLOOKUP(A538,'1.Портфель кредитів'!A:AB,3,FALSE),\"\")","v":"Банк Січ"},{"$f":"'1.Портфель кредитів'!I532","v":34092020001500},"беззаставний"]
["380816__518",{"$f":"IFERROR(VLOOKUP(A539,'1.Портфель кредитів'!A:AB,3,FALSE),\"\")","v":"Банк Січ"},{"$f":"'1.Портфель кредитів'!I533","v":34092020001501},"беззаставний"]
["380816__519",{"$f":"IFERROR(VLOOKUP(A540,'1.Портфель кредитів'!A:AB,3,FALSE),\"\")","v":"Банк Січ"},{"$f":"'1.Портфель кредитів'!I534","v":34092020001502},"беззаставний"]
["380816__520",{"$f":"IFERROR(VLOOKUP(A541,'1.Портфель кредитів'!A:AB,3,FALSE),\"\")","v":"Банк Січ"},{"$f":"'1.Портфель кредитів'!I535","v":34092020001503},"беззаставний"]
["380816__521",{"$f":"IFERROR(VLOOKUP(A542,'1.Портфель кредитів'!A:AB,3,FALSE),\"\")","v":"Банк Січ"},{"$f":"'1.Портфель кредитів'!I536","v":34092020001504},"беззаставний"]
["380816__522",{"$f":"IFERROR(VLOOKUP(A543,'1.Портфель кредитів'!A:AB,3,FALSE),\"\")","v":"Банк Січ"},{"$f":"'1.Портфель кредитів'!I537","v":34092020001505},"беззаставний"]
["380816__523",{"$f":"IFERROR(VLOOKUP(A544,'1.Портфель кредитів'!A:AB,3,FALSE),\"\")","v":"Банк Січ"},{"$f":"'1.Портфель кредитів'!I538","v":34092020001506},"беззаставний"]
["380816__524",{"$f":"IFERROR(VLOOKUP(A545,'1.Портфель кредитів'!A:AB,3,FALSE),\"\")","v":"Банк Січ"},{"$f":"'1.Портфель кредитів'!I539","v":34092020001507},"беззаставний"]
["380816__525",{"$f":"IFERROR(VLOOKUP(A546,'1.Портфель кредитів'!A:AB,3,FALSE),\"\")","v":"Банк Січ"},{"$f":"'1.Портфель кредитів'!I540","v":34092020001508},"беззаставний"]
["380816__526",{"$f":"IFERROR(VLOOKUP(A547,'1.Портфель кредитів'!A:AB,3,FALSE),\"\")","v":"Банк Січ"},{"$f":"'1.Портфель кредитів'!I541","v":34092020001509},"беззаставний"]
["380816__527",{"$f":"IFERROR(VLOOKUP(A548,'1.Портфель кредитів'!A:AB,3,FALSE),\"\")","v":"Банк Січ"},{"$f":"'1.Портфель кредитів'!I542","v":34092020001510},"беззаставний"]
["380816__528",{"$f":"IFERROR(VLOOKUP(A549,'1.Портфель кредитів'!A:AB,3,FALSE),\"\")","v":"Банк Січ"},{"$f":"'1.Портфель кредитів'!I543","v":34092020001511},"беззаставний"]
["380816__529",{"$f":"IFERROR(VLOOKUP(A550,'1.Портфель кредитів'!A:AB,3,FALSE),\"\")","v":"Банк Січ"},{"$f":"'1.Портфель кредитів'!I544","v":34092020001512},"беззаставний"]
["380816__530",{"$f":"IFERROR(VLOOKUP(A551,'1.Портфель кредитів'!A:AB,3,FALSE),\"\")","v":"Банк Січ"},{"$f":"'1.Портфель кредитів'!I545","v":34092020001513},"беззаставний"]
["380816__531",{"$f":"IFERROR(VLOOKUP(A552,'1.Портфель кредитів'!A:AB,3,FALSE),\"\")","v":"Банк Січ"},{"$f":"'1.Портфель кредитів'!I546","v":34092020001514},"беззаставний"]
["380816__532",{"$f":"IFERROR(VLOOKUP(A553,'1.Портфель кредитів'!A:AB,3,FALSE),\"\")","v":"Банк Січ"},{"$f":"'1.Портфель кредитів'!I547","v":34092020001515},"беззаставний"]
["380816__533",{"$f":"IFERROR(VLOOKUP(A554,'1.Портфель кредитів'!A:AB,3,FALSE),\"\")","v":"Банк Січ"},{"$f":"'1.Портфель кредитів'!I548","v":34092020001516},"беззаставний"]
["380816__534",{"$f":"IFERROR(VLOOKUP(A555,'1.Портфель кредитів'!A:AB,3,FALSE),\"\")","v":"Банк Січ"},{"$f":"'1.Портфель кредитів'!I549","v":34092020001517},"беззаставний"]
["380816__535",{"$f":"IFERROR(VLOOKUP(A556,'1.Портфель кредитів'!A:AB,3,FALSE),\"\")","v":"Банк Січ"},{"$f":"'1.Портфель кредитів'!I550","v":34092020001518},"беззаставний"]
["380816__536",{"$f":"IFERROR(VLOOKUP(A557,'1.Портфель кредитів'!A:AB,3,FALSE),\"\")","v":"Банк Січ"},{"$f":"'1.Портфель кредитів'!I551","v":34092020001519},"беззаставний"]
["380816__537",{"$f":"IFERROR(VLOOKUP(A558,'1.Портфель кредитів'!A:AB,3,FALSE),\"\")","v":"Банк Січ"},{"$f":"'1.Портфель кредитів'!I552","v":34092020001520},"беззаставний"]
["380816__538",{"$f":"IFERROR(VLOOKUP(A559,'1.Портфель кредитів'!A:AB,3,FALSE),\"\")","v":"Банк Січ"},{"$f":"'1.Портфель кредитів'!I553","v":34092020001521},"беззаставний"]
["380816__539",{"$f":"IFERROR(VLOOKUP(A560,'1.Портфель кредитів'!A:AB,3,FALSE),\"\")","v":"Банк Січ"},{"$f":"'1.Портфель кредитів'!I554","v":34092020001522},"беззаставний"]
["380816__540",{"$f":"IFERROR(VLOOKUP(A561,'1.Портфель кредитів'!A:AB,3,FALSE),\"\")","v":"Банк Січ"},{"$f":"'1.Портфель кредитів'!I555","v":34092020001523},"беззаставний"]
["380816__541",{"$f":"IFERROR(VLOOKUP(A562,'1.Портфель кредитів'!A:AB,3,FALSE),\"\")","v":"Банк Січ"},{"$f":"'1.Портфель кредитів'!I556","v":34092020001524},"беззаставний"]
["380816__542",{"$f":"IFERROR(VLOOKUP(A563,'1.Портфель кредитів'!A:AB,3,FALSE),\"\")","v":"Банк Січ"},{"$f":"'1.Портфель кредитів'!I557","v":34092020001525},"беззаставний"]
["380816__543",{"$f":"IFERROR(VLOOKUP(A564,'1.Портфель кредитів'!A:AB,3,FALSE),\"\")","v":"Банк Січ"},{"$f":"'1.Портфель кредитів'!I558","v":34092020001526},"беззаставний"]
["380816__544",{"$f":"IFERROR(VLOOKUP(A565,'1.Портфель кредитів'!A:AB,3,FALSE),\"\")","v":"Банк Січ"},{"$f":"'1.Портфель кредитів'!I559","v":34092020001527},"беззаставний"]
["380816__545",{"$f":"IFERROR(VLOOKUP(A566,'1.Портфель кредитів'!A:AB,3,FALSE),\"\")","v":"Банк Січ"},{"$f":"'1.Портфель кредитів'!I560","v":34092020001528},"беззаставний"]
["380816__546",{"$f":"IFERROR(VLOOKUP(A567,'1.Портфель кредитів'!A:AB,3,FALSE),\"\")","v":"Банк Січ"},{"$f":"'1.Портфель кредитів'!I561","v":34092020001529},"беззаставний"]
["380816__547",{"$f":"IFERROR(VLOOKUP(A568,'1.Портфель кредитів'!A:AB,3,FALSE),\"\")","v":"Банк Січ"},{"$f":"'1.Портфель кредитів'!I562","v":34092020001530},"беззаставний"]
["380816__548",{"$f":"IFERROR(VLOOKUP(A569,'1.Портфель кредитів'!A:AB,3,FALSE),\"\")","v":"Банк Січ"},{"$f":"'1.Портфель кредитів'!I563","v":34092020001531},"беззаставний"]
["380816__549",{"$f":"IFERROR(VLOOKUP(A570,'1.Портфель кредитів'!A:AB,3,FALSE),\"\")","v":"Банк Січ"},{"$f":"'1.Портфель кредитів'!I564","v":34092020001532},"беззаставний"]
["380816__550",{"$f":"IFERROR(VLOOKUP(A571,'1.Портфель кредитів'!A:AB,3,FALSE),\"\")","v":"Банк Січ"},{"$f":"'1.Портфель кредитів'!I565","v":34092020001533},"беззаставний"]
["380816__551",{"$f":"IFERROR(VLOOKUP(A572,'1.Портфель кредитів'!A:AB,3,FALSE),\"\")","v":"Банк Січ"},{"$f":"'1.Портфель кредитів'!I566","v":34092020001534},"беззаставний"]
["380816__552",{"$f":"IFERROR(VLOOKUP(A573,'1.Портфель кредитів'!A:AB,3,FALSE),\"\")","v":"Банк Січ"},{"$f":"'1.Портфель кредитів'!I567","v":34092020001535},"беззаставний"]
["380816__553",{"$f":"IFERROR(VLOOKUP(A574,'1.Портфель кредитів'!A:AB,3,FALSE),\"\")","v":"Банк Січ"},{"$f":"'1.Портфель кредитів'!I568","v":34092020001536},"беззаставний"]
["380816__554",{"$f":"IFERROR(VLOOKUP(A575,'1.Портфель кредитів'!A:AB,3,FALSE),\"\")","v":"Банк Січ"},{"$f":"'1.Портфель кредитів'!I569","v":34092020001537},"беззаставний"]
["380816__555",{"$f":"IFERROR(VLOOKUP(A576,'1.Портфель кредитів'!A:AB,3,FALSE),\"\")","v":"Банк Січ"},{"$f":"'1.Портфель кредитів'!I570","v":34092020001538},"беззаставний"]
["380816__556",{"$f":"IFERROR(VLOOKUP(A577,'1.Портфель кредитів'!A:AB,3,FALSE),\"\")","v":"Банк Січ"},{"$f":"'1.Портфель кредитів'!I571","v":34092020001539},"беззаставний"]
["380816__557",{"$f":"IFERROR(VLOOKUP(A578,'1.Портфель кредитів'!A:AB,3,FALSE),\"\")","v":"Банк Січ"},{"$f":"'1.Портфель кредитів'!I572","v":34092020001540},"беззаставний"]
["380816__558",{"$f":"IFERROR(VLOOKUP(A579,'1.Портфель кредитів'!A:AB,3,FALSE),\"\")","v":"Банк Січ"},{"$f":"'1.Портфель кредитів'!I573","v":34092020001541},"беззаставний"]
["380816__559",{"$f":"IFERROR(VLOOKUP(A580,'1.Портфель кредитів'!A:AB,3,FALSE),\"\")","v":"Банк Січ"},{"$f":"'1.Портфель кредитів'!I574","v":34092020001542},"беззаставний"]
["380816__560",{"$f":"IFERROR(VLOOKUP(A581,'1.Портфель кредитів'!A:AB,3,FALSE),\"\")","v":"Банк Січ"},{"$f":"'1.Портфель кредитів'!I575","v":34092020001543},"беззаставний"]
["380816__561",{"$f":"IFERROR(VLOOKUP(A582,'1.Портфель кредитів'!A:AB,3,FALSE),\"\")","v":"Банк Січ"},{"$f":"'1.Портфель кредитів'!I576","v":34092020001544},"беззаставний"]
["380816__562",{"$f":"IFERROR(VLOOKUP(A583,'1.Портфель кредитів'!A:AB,3,FALSE),\"\")","v":"Банк Січ"},{"$f":"'1.Портфель кредитів'!I577","v":34092020001545},"беззаставний"]
["380816__563",{"$f":"IFERROR(VLOOKUP(A584,'1.Портфель кредитів'!A:AB,3,FALSE),\"\")","v":"Банк Січ"},{"$f":"'1.Портфель кредитів'!I578","v":34092020001546},"беззаставний"]
["380816__564",{"$f":"IFERROR(VLOOKUP(A585,'1.Портфель кредитів'!A:AB,3,FALSE),\"\")","v":"Банк Січ"},{"$f":"'1.Портфель кредитів'!I579","v":34092020001547},"беззаставний"]
["380816__565",{"$f":"IFERROR(VLOOKUP(A586,'1.Портфель кредитів'!A:AB,3,FALSE),\"\")","v":"Банк Січ"},{"$f":"'1.Портфель кредитів'!I580","v":34092020001548},"беззаставний"]
["380816__566",{"$f":"IFERROR(VLOOKUP(A587,'1.Портфель кредитів'!A:AB,3,FALSE),\"\")","v":"Банк Січ"},{"$f":"'1.Портфель кредитів'!I581","v":34092020001549},"беззаставний"]
["380816__567",{"$f":"IFERROR(VLOOKUP(A588,'1.Портфель кредитів'!A:AB,3,FALSE),\"\")","v":"Банк Січ"},{"$f":"'1.Портфель кредитів'!I582","v":34092020001550},"беззаставний"]
["380816__568",{"$f":"IFERROR(VLOOKUP(A589,'1.Портфель кредитів'!A:AB,3,FALSE),\"\")","v":"Банк Січ"},{"$f":"'1.Портфель кредитів'!I583","v":34092020001551},"беззаставний"]
["380816__569",{"$f":"IFERROR(VLOOKUP(A590,'1.Портфель кредитів'!A:AB,3,FALSE),\"\")","v":"Банк Січ"},{"$f":"'1.Портфель кредитів'!I584","v":34092020001552},"беззаставний"]
["380816__570",{"$f":"IFERROR(VLOOKUP(A591,'1.Портфель кредитів'!A:AB,3,FALSE),\"\")","v":"Банк Січ"},{"$f":"'1.Портфель кредитів'!I585","v":34092020001553},"беззаставний"]
["380816__571",{"$f":"IFERROR(VLOOKUP(A592,'1.Портфель кредитів'!A:AB,3,FALSE),\"\")","v":"Банк Січ"},{"$f":"'1.Портфель кредитів'!I586","v":34092020001554},"беззаставний"]
["380816__572",{"$f":"IFERROR(VLOOKUP(A593,'1.Портфель кредитів'!A:AB,3,FALSE),\"\")","v":"Банк Січ"},{"$f":"'1.Портфель кредитів'!I587","v":34092020001555},"беззаставний"]
["380816__573",{"$f":"IFERROR(VLOOKUP(A594,'1.Портфель кредитів'!A:AB,3,FALSE),\"\")","v":"Банк Січ"},{"$f":"'1.Портфель кредитів'!I588","v":34092020001556},"беззаставний"]
["380816__574",{"$f":"IFERROR(VLOOKUP(A595,'1.Портфель кредитів'!A:AB,3,FALSE),\"\")","v":"Банк Січ"},{"$f":"'1.Портфель кредитів'!I589","v":34092020001557},"беззаставний"]
["380816__575",{"$f":"IFERROR(VLOOKUP(A596,'1.Портфель кредитів'!A:AB,3,FALSE),\"\")","v":"Банк Січ"},{"$f":"'1.Портфель кредитів'!I590","v":34092020001558},"беззаставний"]
["380816__576",{"$f":"IFERROR(VLOOKUP(A597,'1.Портфель кредитів'!A:AB,3,FALSE),\"\")","v":"Банк Січ"},{"$f":"'1.Портфель кредитів'!I591","v":34092020001559},"беззаставний"]
["380816__577",{"$f":"IFERROR(VLOOKUP(A598,'1.Портфель кредитів'!A:AB,3,FALSE),\"\")","v":"Банк Січ"},{"$f":"'1.Портфель кредитів'!I592","v":34092020001560},"беззаставний"]
["380816__578",{"$f":"IFERROR(VLOOKUP(A599,'1.Портфель кредитів'!A:AB,3,FALSE),\"\")","v":"Банк Січ"},{"$f":"'1.Портфель кредитів'!I593","v":34092020001561},"беззаставний"]
["380816__579",{"$f":"IFERROR(VLOOKUP(A600,'1.Портфель кредитів'!A:AB,3,FALSE),\"\")","v":"Банк Січ"},{"$f":"'1.Портфель кредитів'!I594","v":34092020001562},"беззаставний"]
["380816__580",{"$f":"IFERROR(VLOOKUP(A601,'1.Портфель кредитів'!A:AB,3,FALSE),\"\")","v":"Банк Січ"},{"$f":"'1.Портфель кредитів'!I595","v":34092020001563},"беззаставний"]
["380816__581",{"$f":"IFERROR(VLOOKUP(A602,'1.Портфель кредитів'!A:AB,3,FALSE),\"\")","v":"Банк Січ"},{"$f":"'1.Портфель кредитів'!I596","v":34092020001564},"беззаставний"]
["380816__582",{"$f":"IFERROR(VLOOKUP(A603,'1.Портфель кредитів'!A:AB,3,FALSE),\"\")","v":"Банк Січ"},{"$f":"'1.Портфель кредитів'!I597","v":34092020001565},"беззаставний"]
["380816__583",{"$f":"IFERROR(VLOOKUP(A604,'1.Портфель кредитів'!A:AB,3,FALSE),\"\")","v":"Банк Січ"},{"$f":"'1.Портфель кредитів'!I598","v":34092020001566},"беззаставний"]
["380816__584",{"$f":"IFERROR(VLOOKUP(A605,'1.Портфель кредитів'!A:AB,3,FALSE),\"\")","v":"Банк Січ"},{"$f":"'1.Портфель кредитів'!I599","v":34092020001567},"беззаставний"]
["380816__585",{"$f":"IFERROR(VLOOKUP(A606,'1.Портфель кредитів'!A:AB,3,FALSE),\"\")","v":"Банк Січ"},{"$f":"'1.Портфель кредитів'!I600","v":34092020001568},"беззаставний"]
["380816__586",{"$f":"IFERROR(VLOOKUP(A607,'1.Портфель кредитів'!A:AB,3,FALSE),\"\")","v":"Банк Січ"},{"$f":"'1.Портфель кредитів'!I601","v":34092020001569},"беззаставний"]
["380816__587",{"$f":"IFERROR(VLOOKUP(A608,'1.Портфель кредитів'!A:AB,3,FALSE),\"\")","v":"Банк Січ"},{"$f":"'1.Портфель кредитів'!I602","v":34092020001570},"беззаставний"]
["380816__588",{"$f":"IFERROR(VLOOKUP(A609,'1.Портфель кредитів'!A:AB,3,FALSE),\"\")","v":"Банк Січ"},{"$f":"'1.Портфель кредитів'!I603","v":34092020001571},"беззаставний"]
["380816__589",{"$f":"IFERROR(VLOOKUP(A610,'1.Портфель кредитів'!A:AB,3,FALSE),\"\")","v":"Банк Січ"},{"$f":"'1.Портфель кредитів'!I604","v":34092020001572},"беззаставний"]
["380816__590",{"$f":"IFERROR(VLOOKUP(A611,'1.Портфель кредитів'!A:AB,3,FALSE),\"\")","v":"Банк Січ"},{"$f":"'1.Портфель кредитів'!I605","v":34092020001573},"беззаставний"]
["380816__591",{"$f":"IFERROR(VLOOKUP(A612,'1.Портфель кредитів'!A:AB,3,FALSE),\"\")","v":"Банк Січ"},{"$f":"'1.Портфель кредитів'!I606","v":34092020001574},"беззаставний"]
["380816__592",{"$f":"IFERROR(VLOOKUP(A613,'1.Портфель кредитів'!A:AB,3,FALSE),\"\")","v":"Банк Січ"},{"$f":"'1.Портфель кредитів'!I607","v":34092020001575},"беззаставний"]
["380816__593",{"$f":"IFERROR(VLOOKUP(A614,'1.Портфель кредитів'!A:AB,3,FALSE),\"\")","v":"Банк Січ"},{"$f":"'1.Портфель кредитів'!I608","v":34092020001576},"беззаставний"]
["380816__594",{"$f":"IFERROR(VLOOKUP(A615,'1.Портфель кредитів'!A:AB,3,FALSE),\"\")","v":"Банк Січ"},{"$f":"'1.Портфель кредитів'!I609","v":34092020001577},"беззаставний"]
["380816__595",{"$f":"IFERROR(VLOOKUP(A616,'1.Портфель кредитів'!A:AB,3,FALSE),\"\")","v":"Банк Січ"},{"$f":"'1.Портфель кредитів'!I610","v":34092020001578},"беззаставний"]
["380816__596",{"$f":"IFERROR(VLOOKUP(A617,'1.Портфель кредитів'!A:AB,3,FALSE),\"\")","v":"Банк Січ"},{"$f":"'1.Портфель кредитів'!I611","v":34092020001579},"беззаставний"]
["380816__597",{"$f":"IFERROR(VLOOKUP(A618,'1.Портфель кредитів'!A:AB,3,FALSE),\"\")","v":"Банк Січ"},{"$f":"'1.Портфель кредитів'!I612","v":34092020001580},"беззаставний"]
["380816__598",{"$f":"IFERROR(VLOOKUP(A619,'1.Портфель кредитів'!A:AB,3,FALSE),\"\")","v":"Банк Січ"},{"$f":"'1.Портфель кредитів'!I613","v":34092020001581},"беззаставний"]
["380816__599",{"$f":"IFERROR(VLOOKUP(A620,'1.Портфель кредитів'!A:AB,3,FALSE),\"\")","v":"Банк Січ"},{"$f":"'1.Портфель кредитів'!I614","v":34092020001582},"беззаставний"]
["380816__600",{"$f":"IFERROR(VLOOKUP(A621,'1.Портфель кредитів'!A:AB,3,FALSE),\"\")","v":"Банк Січ"},{"$f":"'1.Портфель кредитів'!I615","v":34092020001583},"беззаставний"]
["380816__601",{"$f":"IFERROR(VLOOKUP(A622,'1.Портфель кредитів'!A:AB,3,FALSE),\"\")","v":"Банк Січ"},{"$f":"'1.Портфель кредитів'!I616","v":34092020001584},"беззаставний"]
["380816__602",{"$f":"IFERROR(VLOOKUP(A623,'1.Портфель кредитів'!A:AB,3,FALSE),\"\")","v":"Банк Січ"},{"$f":"'1.Портфель кредитів'!I617","v":34092020001585},"беззаставний"]
["380816__603",{"$f":"IFERROR(VLOOKUP(A624,'1.Портфель кредитів'!A:AB,3,FALSE),\"\")","v":"Банк Січ"},{"$f":"'1.Портфель кредитів'!I618","v":34092020001586},"беззаставний"]
["380816__604",{"$f":"IFERROR(VLOOKUP(A625,'1.Портфель кредитів'!A:AB,3,FALSE),\"\")","v":"Банк Січ"},{"$f":"'1.Портфель кредитів'!I619","v":34092020001587},"беззаставний"]
["380816__605",{"$f":"IFERROR(VLOOKUP(A626,'1.Портфель кредитів'!A:AB,3,FALSE),\"\")","v":"Банк Січ"},{"$f":"'1.Портфель кредитів'!I620","v":34092020001588},"беззаставний"]
["380816__606",{"$f":"IFERROR(VLOOKUP(A627,'1.Портфель кредитів'!A:AB,3,FALSE),\"\")","v":"Банк Січ"},{"$f":"'1.Портфель кредитів'!I621","v":34092020001589},"беззаставний"]
["380816__607",{"$f":"IFERROR(VLOOKUP(A628,'1.Портфель кредитів'!A:AB,3,FALSE),\"\")","v":"Банк Січ"},{"$f":"'1.Портфель кредитів'!I622","v":34092020001590},"беззаставний"]
["380816__608",{"$f":"IFERROR(VLOOKUP(A629,'1.Портфель кредитів'!A:AB,3,FALSE),\"\")","v":"Банк Січ"},{"$f":"'1.Портфель кредитів'!I623","v":34092020001591},"беззаставний"]
["380816__609",{"$f":"IFERROR(VLOOKUP(A630,'1.Портфель кредитів'!A:AB,3,FALSE),\"\")","v":"Банк Січ"},{"$f":"'1.Портфель кредитів'!I624","v":34092020001592},"беззаставний"]
["380816__610",{"$f":"IFERROR(VLOOKUP(A631,'1.Портфель кредитів'!A:AB,3,FALSE),\"\")","v":"Банк Січ"},{"$f":"'1.Портфель кредитів'!I625","v":34092020001593},"беззаставний"]
["380816__611",{"$f":"IFERROR(VLOOKUP(A632,'1.Портфель кредитів'!A:AB,3,FALSE),\"\")","v":"Банк Січ"},{"$f":"'1.Портфель кредитів'!I626","v":34092020001594},"беззаставний"]
["380816__612",{"$f":"IFERROR(VLOOKUP(A633,'1.Портфель кредитів'!A:AB,3,FALSE),\"\")","v":"Банк Січ"},{"$f":"'1.Портфель кредитів'!I627","v":34092020001595},"беззаставний"]
["380816__613",{"$f":"IFERROR(VLOOKUP(A634,'1.Портфель кредитів'!A:AB,3,FALSE),\"\")","v":"Банк Січ"},{"$f":"'1.Портфель кредитів'!I628","v":34092020001596},"беззаставний"]
["380816__614",{"$f":"IFERROR(VLOOKUP(A635,'1.Портфель кредитів'!A:AB,3,FALSE),\"\")","v":"Банк Січ"},{"$f":"'1.Портфель кредитів'!I629","v":34092020001597},"беззаставний"]
["380816__615",{"$f":"IFERROR(VLOOKUP(A636,'1.Портфель кредитів'!A:AB,3,FALSE),\"\")","v":"Банк Січ"},{"$f":"'1.Портфель кредитів'!I630","v":34092020001598},"беззаставний"]
["380816__616",{"$f":"IFERROR(VLOOKUP(A637,'1.Портфель кредитів'!A:AB,3,FALSE),\"\")","v":"Банк Січ"},{"$f":"'1.Портфель кредитів'!I631","v":34092020001599},"беззаставний"]
["380816__617",{"$f":"IFERROR(VLOOKUP(A638,'1.Портфель кредитів'!A:AB,3,FALSE),\"\")","v":"Банк Січ"},{"$f":"'1.Портфель кредитів'!I632","v":34092020001600},"беззаставний"]
["380816__618",{"$f":"IFERROR(VLOOKUP(A639,'1.Портфель кредитів'!A:AB,3,FALSE),\"\")","v":"Банк Січ"},{"$f":"'1.Портфель кредитів'!I633","v":34092020001601},"беззаставний"]
["380816__619",{"$f":"IFERROR(VLOOKUP(A640,'1.Портфель кредитів'!A:AB,3,FALSE),\"\")","v":"Банк Січ"},{"$f":"'1.Портфель кредитів'!I634","v":34092020001602},"беззаставний"]
["380816__620",{"$f":"IFERROR(VLOOKUP(A641,'1.Портфель кредитів'!A:AB,3,FALSE),\"\")","v":"Банк Січ"},{"$f":"'1.Портфель кредитів'!I635","v":34092020001603},"беззаставний"]
["380816__621",{"$f":"IFERROR(VLOOKUP(A642,'1.Портфель кредитів'!A:AB,3,FALSE),\"\")","v":"Банк Січ"},{"$f":"'1.Портфель кредитів'!I636","v":34092020001604},"беззаставний"]
["380816__622",{"$f":"IFERROR(VLOOKUP(A643,'1.Портфель кредитів'!A:AB,3,FALSE),\"\")","v":"Банк Січ"},{"$f":"'1.Портфель кредитів'!I637","v":34092020001605},"беззаставний"]
["380816__623",{"$f":"IFERROR(VLOOKUP(A644,'1.Портфель кредитів'!A:AB,3,FALSE),\"\")","v":"Банк Січ"},{"$f":"'1.Портфель кредитів'!I638","v":34092020001606},"беззаставний"]
["380816__624",{"$f":"IFERROR(VLOOKUP(A645,'1.Портфель кредитів'!A:AB,3,FALSE),\"\")","v":"Банк Січ"},{"$f":"'1.Портфель кредитів'!I639","v":34092020001607},"беззаставний"]
["380816__625",{"$f":"IFERROR(VLOOKUP(A646,'1.Портфель кредитів'!A:AB,3,FALSE),\"\")","v":"Банк Січ"},{"$f":"'1.Портфель кредитів'!I640","v":34092020001608},"беззаставний"]
["380816__626",{"$f":"IFERROR(VLOOKUP(A647,'1.Портфель кредитів'!A:AB,3,FALSE),\"\")","v":"Банк Січ"},{"$f":"'1.Портфель кредитів'!I641","v":34092020001609},"беззаставний"]
["380816__627",{"$f":"IFERROR(VLOOKUP(A648,'1.Портфель кредитів'!A:AB,3,FALSE),\"\")","v":"Банк Січ"},{"$f":"'1.Портфель кредитів'!I642","v":34092020001610},"беззаставний"]
["380816__628",{"$f":"IFERROR(VLOOKUP(A649,'1.Портфель кредитів'!A:AB,3,FALSE),\"\")","v":"Банк Січ"},{"$f":"'1.Портфель кредитів'!I643","v":34092020001611},"беззаставний"]
["380816__629",{"$f":"IFERROR(VLOOKUP(A650,'1.Портфель кредитів'!A:AB,3,FALSE),\"\")","v":"Банк Січ"},{"$f":"'1.Портфель кредитів'!I644","v":34092020001612},"беззаставний"]
["380816__630",{"$f":"IFERROR(VLOOKUP(A651,'1.Портфель кредитів'!A:AB,3,FALSE),\"\")","v":"Банк Січ"},{"$f":"'1.Портфель кредитів'!I645","v":34092020001613},"беззаставний"]
["380816__631",{"$f":"IFERROR(VLOOKUP(A652,'1.Портфель кредитів'!A:AB,3,FALSE),\"\")","v":"Банк Січ"},{"$f":"'1.Портфель кредитів'!I646","v":34092020001614},"беззаставний"]
["380816__632",{"$f":"IFERROR(VLOOKUP(A653,'1.Портфель кредитів'!A:AB,3,FALSE),\"\")","v":"Банк Січ"},{"$f":"'1.Портфель кредитів'!I647","v":34092020001615},"беззаставний"]
["380816__633",{"$f":"IFERROR(VLOOKUP(A654,'1.Портфель кредитів'!A:AB,3,FALSE),\"\")","v":"Банк Січ"},{"$f":"'1.Портфель кредитів'!I648","v":34092020001616},"беззаставний"]
["380816__634",{"$f":"IFERROR(VLOOKUP(A655,'1.Портфель кредитів'!A:AB,3,FALSE),\"\")","v":"Банк Січ"},{"$f":"'1.Портфель кредитів'!I649","v":34092020001617},"беззаставний"]
["380816__635",{"$f":"IFERROR(VLOOKUP(A656,'1.Портфель кредитів'!A:AB,3,FALSE),\"\")","v":"Банк Січ"},{"$f":"'1.Портфель кредитів'!I650","v":34092020001618},"беззаставний"]
["380816__636",{"$f":"IFERROR(VLOOKUP(A657,'1.Портфель кредитів'!A:AB,3,FALSE),\"\")","v":"Банк Січ"},{"$f":"'1.Портфель кредитів'!I651","v":"3-ю/2008"},"беззаставний"]
["380816__637",{"$f":"IFERROR(VLOOKUP(A658,'1.Портфель кредитів'!A:AB,3,FALSE),\"\")","v":"Банк Січ"},{"$f":"'1.Портфель кредитів'!I652","v":"22-ю/2008"},"беззаставний"]
["380816__638",{"$f":"IFERROR(VLOOKUP(A659,'1.Портфель кредитів'!A:AB,3,FALSE),\"\")","v":"Банк Січ"},{"$f":"'1.Портфель кредитів'!I653","v":"23-ю/2008"},"беззаставний"]
["380816__639",{"$f":"IFERROR(VLOOKUP(A660,'1.Портфель кредитів'!A:AB,3,FALSE),\"\")","v":"Банк Січ"},{"$f":"'1.Портфель кредитів'!I654","v":"288/2007"},"беззаставний"]
["380816__640",{"$f":"IFERROR(VLOOKUP(A661,'1.Портфель кредитів'!A:AB,3,FALSE),\"\")","v":"Банк Січ"},{"$f":"'1.Портфель кредитів'!I655","v":"12г/2008"},"беззаставний"]
["380816__641",{"$f":"IFERROR(VLOOKUP(A662,'1.Портфель кредитів'!A:AB,3,FALSE),\"\")","v":"Банк Січ"},{"$f":"'1.Портфель кредитів'!I656","v":"7-07/2013-MK-USD"},"беззаставний"]
["380816__642",{"$f":"IFERROR(VLOOKUP(A663,'1.Портфель кредитів'!A:AB,3,FALSE),\"\")","v":"Банк Січ"},{"$f":"'1.Портфель кредитів'!I657","v":"23/2005"},"беззаставний"]
["351629__1","МЕГАБАНК","3-ю/2008","товари",710,"м.куб.","Полтавська","с.Велика Богачка",467708,"НІ","Діюче"]
["351629__1","МЕГАБАНК","3-ю/2008","транспорт",1,"од.","Полтавська","с.Велика Богачка",20000,"НІ","Діюче"]
["351629__1","МЕГАБАНК","3-ю/2008","транспорт",1,"од.","Полтавська","с.Велика Богачка",20000,"НІ","Діюче"]
["351629__1","МЕГАБАНК","3-ю/2008","транспорт",1,"од.","Полтавська","с.Велика Богачка",40000,"НІ","Діюче"]
["351629__1","МЕГАБАНК","3-ю/2008","фінансова порука",1,"од.","Полтавська","с.Велика Богачка",200000,"НІ","Діюче"]
["351629__2","МЕГАБАНК","22-ю/2008","транспорт",1,"од.","Полтавська","с.Велика Богачка",20000,"НІ","Діюче"]
["351629__2","МЕГАБАНК","22-ю/2008","транспорт",1,"од.","Полтавська","с.Велика Богачка",20000,"НІ","Діюче"]
["351629__2","МЕГАБАНК","22-ю/2008","транспорт",1,"од.","Полтавська","с.Велика Богачка",40000,"НІ","Діюче"]
["351629__2","МЕГАБАНК","22-ю/2008","майнові права",1,"од.","Полтавська","с.Велика Богачка",77000,"НІ","Діюче"]
["351629__2","МЕГАБАНК","22-ю/2008","фінансова порука",1,"од.","Полтавська","с.Велика Богачка",40000,"НІ","Діюче"]
["351629__3","МЕГАБАНК","23-ю/2008","транспорт",1,"од.","Полтавська","с.Велика Богачка",20000,"НІ","Діюче"]
["351629__3","МЕГАБАНК","23-ю/2008","транспорт",1,"од.","Полтавська","с.Велика Богачка",20000,"НІ","Діюче"]
["351629__3","МЕГАБАНК","23-ю/2008","транспорт",1,"од.","Полтавська","с.Велика Богачка",40000,"НІ","Діюче"]
["351629__3","МЕГАБАНК","23-ю/2008","обладнання",11,"од.","Полтавська","с.Велика Богачка",99460,"НІ","Діюче"]
["351629__3","МЕГАБАНК","23-ю/2008","фінансова порука",1,"од.","Полтавська","с.Велика Богачка",52000,"НІ","Діюче"]
["351629__4","МЕГАБАНК","288/2007","фінансова порука",1,"од.","Полтавська","с.Велика Богачка",170000,"НІ","Діюче"]
["351629__5","МЕГАБАНК","12г/2008","обладнання",20,"од.","Вінницька","м.Іллінці",149925,"так","Діюче"]
["351629__6","МЕГАБАНК","7-07/2013-MK-USD","товари",1,"од.","Запорізька","с.Дніпровка",450000,"так","Діюче"]
["351629__6","МЕГАБАНК","7-07/2013-MK-USD","фінансова порука",1,"од.","Запорізька","м.Енергодар",4510524.8,"НІ","Діюче","Заставне майно, а саме:  Транспорт вантажний (автомобілі марки FAW СА1041  в кількості 4 шт.2005 р.в.- знято позичальником самостійно з обліку в 2009р. "]
["351629__7","МЕГАБАНК","23/2005","транспорт",4,"од.","Вінницька","м.Вінниця",240800,"НІ","Діюче"]
["351629__7","МЕГАБАНК","23/2005","фінансова порука",1,"од.","Вінницька","с.Юхимівка",2167961.92,"НІ","Діюче"]
["351629__8","МЕГАБАНК","17-01/2008-МК-USD","транспорт",1,"од.","Вінницька","м.Вінниця",138000,"НІ","Діюче"]
["351629__8","МЕГАБАНК","17-01/2008-МК-USD","обладнання",4,"шт.","Вінницька","с.Якушинці",156600,"НІ","Діюче"]
["351629__8","МЕГАБАНК","17-01/2008-МК-USD","транспорт",1,"од.","Вінницька","с.Юхимівка",199091,"НІ","Діюче"]
["351629__8","МЕГАБАНК","17-01/2008-МК-USD","фінансова порука",1,"од.","Вінницька","м.Вінниця",4728776,"НІ","Діюче"]
["351629__8","МЕГАБАНК","17-01/2008-МК-USD","фінансова порука",1,"од.","Вінницька","м.Вінниця",4728776,"НІ","Діюче"]
["351629__9","МЕГАБАНК","29-01/2008-МК-UAH","транспорт",1,"од.","Вінницька","с.Юхимівка",70000,"НІ","Діюче"]
["351629__9","МЕГАБАНК","29-01/2008-МК-UAH","обладнання",1,"од.","Вінницька","с.Якушинці",72000,"НІ","Діюче"]
["351629__9","МЕГАБАНК","29-01/2008-МК-UAH","житл. нерухомість",301.2,"м.кв.","Вінницька","с.Агрономічне",2044600,"так","Діюче"]
["351629__9","МЕГАБАНК","29-01/2008-МК-UAH","транспорт",1,"од.","Вінницька","с.Юхимівка",56260,"НІ","Діюче"]
["351629__9","МЕГАБАНК","29-01/2008-МК-UAH","фінансова порука",1,"од.","Вінницька","м.Вінниця",528700,"НІ","Діюче"]
["351629__9","МЕГАБАНК","29-01/2008-МК-UAH","фінансова порука",1,"од.","Вінницька","м.Вінниця",528700,"НІ","Діюче"]
["351629__9","МЕГАБАНК","29-01/2008-МК-UAH","фінансова порука",1,"од.","Вінницька","м.Вінниця",528700,"НІ","Діюче"]
["351629__10","МЕГАБАНК",{"$f":"'1.Портфель кредитів'!I660","v":"068"},"беззаставний"]
["351629__11","МЕГАБАНК","30-01/2008-МК-UAH","житл. нерухомість",301.2,"м.кв.","Вінницька","с.Агрономічне",2044600,"так","Діюче"]
["351629__11","МЕГАБАНК","30-01/2008-МК-UAH","транспорт",1,"од.","Вінницька","с.Юхимівка",40740,"НІ","Діюче"]
["351629__11","МЕГАБАНК","30-01/2008-МК-UAH","транспорт",1,"од.","Вінницька","с.Юхимівка",100000,"НІ","Діюче"]
["351629__11","МЕГАБАНК","30-01/2008-МК-UAH","фінансова порука",1,"од.","Вінницька","м.Вінниця",382000,"НІ","Діюче"]
["351629__11","МЕГАБАНК","30-01/2008-МК-UAH","фінансова порука",1,"од.","Вінницька","м.Вінниця",382000,"НІ","Діюче"]
["351629__11","МЕГАБАНК","30-01/2008-МК-UAH","фінансова порука",1,"од.","Вінницька","м.Вінниця",382000,"НІ","Діюче"]
["351629__12","МЕГАБАНК","20-05в/2019","товари",1,"од.","Київська","с.Віта Поштова",49169153,"так","Діюче"]
["351629__12","МЕГАБАНК","20-05в/2019","фінансова порука",1,"од.","Київ","м.Київ",47000000,"НІ","Діюче"]
["351629__13","МЕГАБАНК","2-19/2021-AEK-UAH","фінансова порука",1,"од.","Рівненська","смт.Рокитне",500000,"НІ","Діюче"]
["351629__13","МЕГАБАНК","2-19/2021-AEK-UAH","фінансова порука",1,"од.","Рівненська","м.Сарни",500000,"НІ","Діюче"]
["351629__13","МЕГАБАНК","2-19/2021-AEK-UAH","фінансова порука",1,"од.","Тернопільська","с.Біла",500000,"НІ","Діюче"]
["351629__14","МЕГАБАНК","4-19/2020-МK-UAH","ком. нерухомість",66.2,"м.кв.","Тернопільська","м.Тернопіль",1086200,"ТАК","Діюче"]
["351629__14","МЕГАБАНК","4-19/2020-МK-UAH","фінансова порука",1,"од.","Тернопільська","с.Біла",724000,"НІ","Діюче"]
["351629__15","МЕГАБАНК","231/2020","беззаставний"]
["351629__16","МЕГАБАНК","16/2005","товари",89525,"од.","Миколаївська","м.Миколаїв",512259,"ТАК","В стані припинення (крім банкрутства)"]
["351629__16","МЕГАБАНК","16/2005","фінансова порука",1,"од.","Миколаївська","м.Миколаїв",200000,"НІ","Діюче"]
["351629__17","МЕГАБАНК","ДФ 260121","беззаставний"]
["351629__18","МЕГАБАНК",8065,"беззаставний"]
["351629__19","МЕГАБАНК",9079,"беззаставний"]
["351629__20","МЕГАБАНК","9-21о/2021-МК-UAH","фінансова порука",1,"од.","Херсонська","м.Херсон",400000,"НІ","Діюче"]
["351629__21","МЕГАБАНК",821,"беззаставний"]
["351629__22","МЕГАБАНК","20-03в/2018","фінансова порука",1,"од.","Харківська","смт.Куп'янськ-Вузловий",1000000,"НІ","Діюче"]
["351629__23","МЕГАБАНК","20-07/2022","фінансова порука",1,"од.","Харківська","м.Куп'янськ",15000000,"НІ","Діюче"]
["351629__24","МЕГАБАНК","9368","беззаставний"]
["351629__25","МЕГАБАНК","20-44/2019","товари",5536,"т","Харківська","м.Балаклія",28399680,"ТАК","Діюче"]
["351629__25","МЕГАБАНК","20-44/2019","фінансова порука",1,"од.","Харківська","с.Вербівка",26200000,"НІ","Діюче"]
["351629__26","МЕГАБАНК","20-31/2019","товари",1900,"т","Харківська","м.Балаклія",16467300,"ТАК","Діюче"]
["351629__26","МЕГАБАНК","20-31/2019","фінансова порука",1,"од.","Донецька","м.Бахмут",21500000,"НІ","Діюче"]
["351629__27","МЕГАБАНК","20-23/2019","товари",226.86,"т","Харківська","м.Харків",10080190,"ТАК","Діюче"]
["351629__27","МЕГАБАНК","20-23/2019","фінансова порука",1,"од.","Харківська","м.Харків",14200000,"НІ","Діюче"]
["351629__28","Мегабанк","20-16в/2019","товари",1,"од.","Київська","м.Бровари",49707120,"ТАК","Діюче"]
["351629__28","Мегабанк","20-16в/2019","фінансова порука",1,"од.","Донецька","с.Парасковіївка",48000000,"НІ","Діюче"]
["351629__29","Мегабанк",9461,"беззаставний"]
["351629__30","Мегабанк","10-21о/2021-MK-UAH","фінансова порука",1,"од.","Херсонська","м.Херсон",634000,"НІ","Діюче"]
["351629__31","Мегабанк",905,"беззаставний"]
["351629__32","Мегабанк","20-10в/2019","товари",79.400000000000006,"т","Харківська","м.Чугуїв",49758142,"ТАК","Діюче"]
["351629__32","Мегабанк","20-10в/2019","фінансова порука",1,"од.","Донецька","м.Бахмут",47600000,"НІ","Діюче"]
["351629__33","Мегабанк","20-65/2019","товари",1,"од.","Харківська","м.Харків",16502500,"ТАК","Діюче"]
["351629__33","Мегабанк","20-65/2019","фінансова порука",1,"од.","Харківська","м.Харків",12300000,"НІ","Діюче"]
["351629__34","Мегабанк","20-34/2019","товари",1,"од.","Харківська","м.Харків",11434845,"ТАК","Діюче"]
["351629__34","Мегабанк","20-34/2019","фінансова порука",1,"од.","Харківська","м.Харків",15705000,"НІ","Діюче"]
["351629__35","Мегабанк","20-13в/2019","товари",103.8,"т","Миколаївська","м.Миколаїв",48244325,"ТАК","Діюче"]
["351629__35","Мегабанк","20-13в/2019","фінансова порука",1,"од.","Миколаївська","м.Миколаїв",45700000,"НІ","Діюче"]
["351629__36","Мегабанк","N40.06.000403","беззаставний"]
["351629__37","Мегабанк","20-28в/2019","товари",2450,"т","Харківська","с.Калинівка",17346000,"ТАК","Діюче"]
["351629__37","Мегабанк","20-28в/2019","фінансова порука",1,"од.","Харківська","с.Вербівка",25062930,"НІ","Діюче"]
["351629__38","Мегабанк","20-19/2021","товари",1905,"т","Харківська","с.Калинівка",26631900,"ТАК","Діюче"]
["351629__38","Мегабанк","20-19/2021","цінні папери",1,"од.","Харківська","с.Вербівка",22200000,"НІ","Діюче"]
["351629__39","Мегабанк","20-45/2019","товари",1,"од.","Харківська","м.Харків",9768500,"ТАК","Діюче"]
["351629__39","Мегабанк","20-45/2019","фінансова порука",1,"од.","Харківська","с.Першотравневе",17150000,"НІ","Діюче"]
["351629__40","Мегабанк","176-165-170-К","беззаставний"]
["351629__41","Мегабанк","20-26в/2020","фінансова порука",1,"од.","Харківська","м.Харків",12731320,"НІ","Діюче"]
["351629__42","Мегабанк","07-149","беззаставний"]
["351629__43","Мегабанк","20-19в/2019","товари",2400,"т","Харківська","м.Балаклія",35904000,"ТАК","Діюче"]
["351629__43","Мегабанк","20-19в/2019","фінансова порука",1,"од.","Харківська","м.Балаклія",21303490.5,"НІ","Діюче"]
["351629__44","Мегабанк","26-101-170-К","беззаставний"]
["351629__45","Мегабанк","20-19/2019","товари",2500,"т","Харківська","м.Балаклія",33650000,"ТАК","Діюче"]
["351629__45","Мегабанк","20-19/2019","фінансова порука",1,"од.","Харківська","м.Харків",31000000,"НІ","Діюче"]
["351629__46","Мегабанк","20-08в/2019","товари",1,"од.","Харківська","м.Харків",44150040,"ТАК","Діюче"]
["351629__46","Мегабанк","20-08в/2019","фінансова порука",1,"од.","Донецька","м.Бахмут",42000000,"НІ","Діюче"]
["351629__47","Мегабанк","9436","беззаставний"]
["351629__48","Мегабанк","23-05/2019","беззаставний"]
["351629__49","Мегабанк","20-15в/2019","беззаставний"]
["351629__50","Мегабанк","20-06в/2019","товари",1,"од.","Миколаївська","м.Миколаїв",48967515,"ТАК","Діюче"]
["351629__50","Мегабанк","20-06в/2019","фінансова порука",1,"од.","Миколаївська","с.Кир'яківка",46500000,"НІ","Діюче"]
["351629__51","Мегабанк","N40.06.000325","беззаставний"]
["320627__1","МР Банк","№05-В/11/32/ЮО/КЛ ","обладнання",81,"од.","Івано_Франківська","Пийло",1,"ТАК","В стані припинення (крім банкрутства)","Згідно акту огляду основних засобів від 18.12.2019 ідентифікувати обладнання не змогли через відсутність інвентарних номерів і його невикористання/старіння. За наявною інформацією від 22.05.2020 було списано 29 одиниць обладнання, та 09.07.2021 було списано 4 одиниці обладнання млина, тобто 40% було списано."]
["320627__1","МР Банк","№05-В/11/32/ЮО/КЛ ","ком. нерухомість",1673.1,"м.кв.","Івано_Франківська","Івано-Франківськ",15436190,"ТАК","Діюче","Іпотека  (комплекс торгово-офісних приміщень) проведено службове розслідування на предмет передачі в іпотеку неіснуючого майна та підробці документів, в результаті чого банк звернувся до правоохоронних органів з відповідною заявою. За даним фактом правоохоронними органами проведене досудове розслідування, за результатом якого матеріали передані в господарський суд. 28.08.2019 Банком подано позов в межах кримінальної справи. Матеріали направлено до суду для залучення до кримінальної відповідальності посадових осіб ТОВ . В  міському суді здійснюється слухання кримінальної справи Відсутня ДУ№2 до договору іпотеки"]
["320627__1","МР Банк","№05-В/11/32/ЮО/КЛ ","майнові права",1,"од.","Івано_Франківська","Івано-Франківськ",16000000,"ТАК","В стані припинення (крім банкрутства)","Згідно листа Заставодавця від 15.06.2020, договір №15/12р-11 від 15.12.2011 припинено за домовленістю сторін"]
["320627__1","МР Банк","№05-В/11/32/ЮО/КЛ ","майнові права",1,"од.","Івано_Франківська","Івано-Франківськ",50000000,"ТАК","В стані припинення (крім банкрутства)","Згідно листа Заставодавця від 15.06.2020, договір №010414 від 23.12.2015 припинено за домовленістю сторін"]
["320627__1","МР Банк","№05-В/11/32/ЮО/КЛ ","фінансова порука",1,"од.",null,null,106142833.59999999]
["320627__1","МР Банк","№05-В/11/32/ЮО/КЛ ","фінансова порука",1,"од.",null,null,106142833.59999999]
["320627__1","МР Банк","№05-В/11/32/ЮО/КЛ ","фінансова порука",1,"од.",null,null,106142833.59999999]
["320627__1","МР Банк","№05-В/11/32/ЮО/КЛ ","фінансова порука",1,"од.",null,null,106142833.59999999]
["320627__2","МР Банк","№Т032-013006290","беззаставний"]
["320627__3","МР Банк","03-В/13/75/ЮО","фінансова порука",1,"од.",null,null,5993730]
["320627__4","МР Банк","Т075-013005724","беззаставний"]
["320627__5","МР Банк","2013/ЗП/ХА5/12","беззаставний"]
["320627__6","МР Банк","70-Н/13/29/Г/А-КБ","фінансова порука",1,"од.",null,null,80000000,null,"Ліквідовано"]
["320627__6","МР Банк","70-Н/13/29/Г/А-КБ","фінансова порука",1,"од.",null,null,80000000]
["320627__7","МР Банк","LC/150808","фінансова порука",1,"од.",null,null,609797871.38,null,"Банкрутство"]
["320627__7","МР Банк","LC/150808","фінансова порука",1,"од.",null,null,1000318000,null,null,"згідно Рішення РАДА НАЦІОНАЛЬНОЇ БЕЗПЕКИ І ОБОРОНИ УКРАЇНИ від 2 травня 2018 року введеного в дію Указом Президента України від 14 травня 2018 року № 126/2018 «Про застосування та скасування персональних спеціальних економічних та інших обмежувальних заходів (санкцій)» до поручителя фізичної особи -   застосовуються обмежувальні заходи (санкції) "]
["300012__1","ПРОМІНВЕСТБАНК","07/4-07","транспорт",1,"шт.","Закарпатська","село Нижнє Солотвино",64000,"НІ",null,"останній акт перевірки в 2011"]
["300012__1","ПРОМІНВЕСТБАНК","07/4-07","транспорт",1,"шт.","Закарпатська","село Холмок",70000,"НІ",null,"останній акт перевірки в 2011"]
["300012__1","ПРОМІНВЕСТБАНК","07/4-07","транспорт",1,"шт.","Закарпатська","село Холмок",150000,"НІ",null,"останній акт перевірки в 2011"]
["300012__2","ПРОМІНВЕСТБАНК","13/4-07","транспорт",1,"шт.","Закарпатська","місто Берегово",975000,"НІ","Діюче","останній акт перевірки в 2013 році"]
["300012__3","ПРОМІНВЕСТБАНК","38/3-07","ком. нерухомість",655.13,"м.кв.","Закарпатська","село Латірка",779000,"НІ","Ліквідовано"]
["300012__3","ПРОМІНВЕСТБАНК","38/3-07","обладнання",2,"од.","Закарпатська","село Латірка",100000,"НІ","Ліквідовано","остання перевірка у 2013 році"]
["300012__4","ПРОМІНВЕСТБАНК","06-2.1/1018 ","земельні ділянки",0.19400000000000001,"га","Вінницька","місто Вінниця",16071722,"НІ","Ліквідовано","На даний час та станом на дату звернення до суду на земельній ділянці по вул. Пирогова  у м. Вінниці (яка була розподілена на кілька земельних ділянок з присвоєнням окремих кадастрових номерів) розміщено два об`єкти нерухомого майна:\n- готельно-розважальний центр, загальною площею 8 145,3 кв.м., що розташований за адресою вул. Пирогова,, м. Вінниця;\n- об`єкт незавершеного будівництва торгово-офісного комплексу (другий пусковий комплекс), що знаходиться на земельній ділянці площею 0,1430 га, розташований за адресою вул. Пирогова, м. Вінниця "]
["300012__4","ПРОМІНВЕСТБАНК","06-2.1/1018 ","ком. нерухомість","4275,1 м.кв; 2,32 га","м.кв.; га","Вінницька","місто Вінниця",14470000,"НІ"]
["300012__4","ПРОМІНВЕСТБАНК","06-2.1/1018 ","обладнання",4,"од.","Вінницька","місто Вінниця",4176000,"НІ","Діюче","останній акт перевірки в 2011"]
["300012__4","ПРОМІНВЕСТБАНК","06-2.1/1018 ","обладнання",55,"од.","Вінницька","місто Вінниця",4079283.62,"НІ","Діюче","останній акт перевірки в 2011"]
["300012__4","ПРОМІНВЕСТБАНК","06-2.1/1018 ","фінансова порука",null,null,null,null,32575000,null,"Діюче"]
["300012__5","ПРОМІНВЕСТБАНК","06-2.1/1019 ","земельні ділянки",0.19400000000000001,"га","Вінницька","місто Вінниця",16071722,"НІ","Ліквідовано","На даний час та станом на дату звернення до суду на земельній ділянці по вул. Пирогова  у м. Вінниці (яка була розподілена на кілька земельних ділянок з присвоєнням окремих кадастрових номерів) розміщено два об`єкти нерухомого майна:\n- готельно-розважальний центр, загальною площею 8 145,3 кв.м., що розташований за адресою вул. Пирогова,, м. Вінниця;\n- об`єкт незавершеного будівництва торгово-офісного комплексу (другий пусковий комплекс), що знаходиться на земельній ділянці площею 0,1430 га, розташований за адресою вул. Пирогова, м. Вінниця "]
["300012__5","ПРОМІНВЕСТБАНК","06-2.1/1019 ","ком. нерухомість","4275,1 м.кв; 2,32 га","м.кв.; га","Вінницька","місто Вінниця",14470000,"НІ"]
["300012__5","ПРОМІНВЕСТБАНК","06-2.1/1019 ","обладнання",4,"од.","Вінницька","місто Вінниця",4176000,"НІ","Діюче","останній акт перевірки в 2011"]
["300012__5","ПРОМІНВЕСТБАНК","06-2.1/1019 ","обладнання",55,"од.","Вінницька","місто Вінниця",4079283.62,"НІ","Діюче","останній акт перевірки в 2011"]
["300012__5","ПРОМІНВЕСТБАНК","06-2.1/1019 ","фінансова порука",null,null,null,null,32575000,null,"Діюче"]
["300012__6","ПРОМІНВЕСТБАНК","1234/05-К","беззаставний"]
["300012__7","ПРОМІНВЕСТБАНК","04-02-08/218","ком. нерухомість",2680.3,"м.кв.","Київська","місто Васильків",8566000,"НІ"]
["300012__7","ПРОМІНВЕСТБАНК","04-02-08/218","майнові права",1,"од.",null,null,5000000,"НІ","Діюче"]
["300012__7","ПРОМІНВЕСТБАНК","04-02-08/218","фінансова порука",null,null,null,null,825000,null,"Діюче"]
["300012__7","ПРОМІНВЕСТБАНК","04-02-08/218","фінансова порука",null,null,null,null,825000]
["300012__8","ПРОМІНВЕСТБАНК","03-01-20/544822/107","беззаставний"]
["300012__9","ПРОМІНВЕСТБАНК","3/8/08","товари",92,"од.","Донецька"," м. Краматорськ",34733,"НІ","Діюче","останній акт перевірки від 2010 року"]
["300012__10","ПРОМІНВЕСТБАНК","313-КР","беззаставний"]
["300012__11","ПРОМІНВЕСТБАНК","347","обладнання",3,"од.","Житомирська"," місто Новоград-Волинський",71400,"НІ","В стані припинення (крім банкрутства)","наявність - невідомо"]
["300012__11","ПРОМІНВЕСТБАНК","347","товари",8.34,"т","Житомирська"," місто Новоград-Волинський",69000,"НІ","Діюче","наявність - невідомо"]
["300012__11","ПРОМІНВЕСТБАНК","347","фінансова порука",null,null,null,null,190058.73,null,"Діюче"]
["300012__12","ПРОМІНВЕСТБАНК","1396","беззаставний"]
["300012__13","ПРОМІНВЕСТБАНК","642/05-к","транспорт",1,"шт.","Львівська","місто Львів",22501.24,"НІ","Діюче","остання перевірка у січні 2007 року"]
["300012__14","ПРОМІНВЕСТБАНК","997/05-к","беззаставний"]
["300012__15","ПРОМІНВЕСТБАНК","521/05-К","беззаставний"]
["300012__16","ПРОМІНВЕСТБАНК","793/05-К","беззаставний",null,null,null,null,null,null,null,"в кредитній справі наявний лист, щодо примусової реалізації заставленого майна майнового поручителя ТзОВ (поточний стан: припино) ліквідатором по справі 33/235. інша інформація відсутня"]
["300012__17","ПРОМІНВЕСТБАНК","483/06","ком. нерухомість",591,"м.кв.","Рівненська","місто Костопіль",400000,"НІ","В стані припинення (крім банкрутства)"]
["300012__17","ПРОМІНВЕСТБАНК","483/06","товари","1. 20000; 2. 9000","кг","Рівненська","місто Костопіль",200000,"НІ","В стані припинення (крім банкрутства)","остання перевірка у 2013 році"]
["300012__18","ПРОМІНВЕСТБАНК","02-05/595","беззаставний"]
["300012__19","ПРОМІНВЕСТБАНК","2257 ","беззаставний"]
["300012__20","ПРОМІНВЕСТБАНК","02-07/797","беззаставний"]
["300012__21","ПРОМІНВЕСТБАНК","02-06/1110","беззаставний"]
["300012__22","ПРОМІНВЕСТБАНК","03-1/114","ком. нерухомість",449.6,"м.кв.","Тернопільська","с. Дорофіївка",170000,"НІ","Діюче"]
["300012__22","ПРОМІНВЕСТБАНК","03-1/114","транспорт",6,"од.","Волинська","с.Снігурівка",2285000,"НІ","Діюче\nПрипинено","наявність - невідомо"]
["300012__23","ПРОМІНВЕСТБАНК","20-0541/2-1","беззаставний"]
["300012__24","ПРОМІНВЕСТБАНК","13-КЛ-04","беззаставний"]
["300012__25","ПРОМІНВЕСТБАНК","1814/02-07","беззаставний"]
["300012__26","ПРОМІНВЕСТБАНК","07-229к","беззаставний"]
["300012__27","ПРОМІНВЕСТБАНК",63,"транспорт",2,"од.","Івано_Франківська","м. Івано-Франковськ",390000,"НІ","Діюче","інформація щодо наявності відсутня"]
["300012__28","ПРОМІНВЕСТБАНК","362/2-2007","беззаставний"]
["300012__29","ПРОМІНВЕСТБАНК",704,"беззаставний"]
["300012__30","ПРОМІНВЕСТБАНК",162,"беззаставний"]
["300012__31","ПРОМІНВЕСТБАНК","134-146/02","беззаставний"]
["300012__32","ПРОМІНВЕСТБАНК","21/89","беззаставний"]
["300012__33","ПРОМІНВЕСТБАНК","02-2.1/078","беззаставний"]
["300012__34","ПРОМІНВЕСТБАНК","12/32а-04","беззаставний"]
["300012__35","ПРОМІНВЕСТБАНК",105,"фінансова порука",null,null,null,null,2000000]
["300012__36","ПРОМІНВЕСТБАНК",191,"беззаставний"]
["300012__37","ПРОМІНВЕСТБАНК","18-2006Л","земельні ділянки",0.14499999999999999,"га","Львівська","с. Волосянка ",300000,"ТАК"]
["300012__38","ПРОМІНВЕСТБАНК","02-2.1/663","транспорт",1,"од.","Вінницька","м. Жмеринка",20000,"НІ",null,"інформація щодо наявності відсутня"]
["300012__39","ПРОМІНВЕСТБАНК",11,"земельні ділянки",2500,"м.кв.","Івано_Франківська","с.Посіч",162900,"НІ",null,"Відповідно до актів про реалізації предметів іпотеки від 25.08.2021 року та протоколів проведення електронних торгів Банк виявив бажання залишити за собою предмети іпотеки  в рахунок ціни майна за стартовою ціною третіх торгів 269 220,00 грн. (89 740,00  грн. за кожен окремо). Триває процедура оформлення документації на земельні ділянки з майбутнім переоформленням права власності за банком."]
["300012__39","ПРОМІНВЕСТБАНК",11,"земельні ділянки",2500,"м.кв.","Івано_Франківська","с.Посіч",162900,"НІ",null,"Відповідно до актів про реалізації предметів іпотеки від 25.08.2021 року та протоколів проведення електронних торгів Банк виявив бажання залишити за собою предмети іпотеки  в рахунок ціни майна за стартовою ціною третіх торгів 269 220,00 грн. (89 740,00  грн. за кожен окремо). Триває процедура оформлення документації на земельні ділянки з майбутнім переоформленням права власності за банком."]
["300012__39","ПРОМІНВЕСТБАНК",11,"земельні ділянки",2500,"м.кв.","Івано_Франківська","с.Посіч",162900,"НІ",null,"Відповідно до актів про реалізації предметів іпотеки від 25.08.2021 року та протоколів проведення електронних торгів Банк виявив бажання залишити за собою предмети іпотеки  в рахунок ціни майна за стартовою ціною третіх торгів 269 220,00 грн. (89 740,00  грн. за кожен окремо). Триває процедура оформлення документації на земельні ділянки з майбутнім переоформленням права власності за банком."]
["300012__40","ПРОМІНВЕСТБАНК","94/2006","обладнання",1,"лінія","Одеська","м. Одеса",250000,"НІ",null,"інформація щодо наявності відсутня"]
["300012__41","ПРОМІНВЕСТБАНК",32,"беззаставний"]
["300012__42","ПРОМІНВЕСТБАНК","22-24/02","беззаставний"]
["300012__43","ПРОМІНВЕСТБАНК","268-02-79","ком. нерухомість",210.9,"м.кв.","Сумська","м.Конотоп",130000,"НІ"]
["300012__44","ПРОМІНВЕСТБАНК","53/3-06","беззаставний"]
["300012__45","ПРОМІНВЕСТБАНК","87/3-05","беззаставний"]
["300012__46","ПРОМІНВЕСТБАНК","25","беззаставний"]
["300012__47","ПРОМІНВЕСТБАНК","70/210","беззаставний"]
["300012__48","ПРОМІНВЕСТБАНК","689-04/08","беззаставний"]
["300012__49","ПРОМІНВЕСТБАНК","148/10","беззаставний"]
["300012__50","ПРОМІНВЕСТБАНК","119/02-08","беззаставний"]
["300012__51","ПРОМІНВЕСТБАНК","241/02-08","беззаставний"]
["300012__52","ПРОМІНВЕСТБАНК","044-60-01-15","беззаставний"]
["300012__53","ПРОМІНВЕСТБАНК","11/3-07","беззаставний"]
["300012__54","ПРОМІНВЕСТБАНК","157/2-06","майнові права",1,"од.",null,null,96000,"НІ",null,"при проведенні виконавчого провадження отриманого майна не виявлено"]
["300012__54","ПРОМІНВЕСТБАНК","157/2-06","майнові права",1,"од.",null,null,20000,"НІ",null,"при проведенні виконавчого провадження отриманого майна не виявлено"]
["300012__55","ПРОМІНВЕСТБАНК","I-29/08","беззаставний"]
["300012__56","ПРОМІНВЕСТБАНК","42-2005Л","земельні ділянки","0,06; 0,25; 0,076","га","Львівська","1)  с.Волосянка; 2)  с.Тухля; 3) с.Волосянка",700000,"ТАК","Інше","власник іпотеки помер"]
["300012__57","ПРОМІНВЕСТБАНК","03-1/117-224-03/07","беззаставний"]
["300012__58","ПРОМІНВЕСТБАНК","396/02-08","беззаставний"]
["300012__59","ПРОМІНВЕСТБАНК","527","товари","детальна інформація відсутня",null,"Закарпатська"," с. Біла Церква",3140528,"НІ","Ліквідовано","інформація щодо наявності відсутня"]
["300012__60","ПРОМІНВЕСТБАНК","224","транспорт",1,"од.","Донецька","місто Слов'янськ",282624,"НІ","Діюче","Поточне місцезнаходження майна невідоме"]
["300012__60","ПРОМІНВЕСТБАНК","224","фінансова порука",null,null,null,null,360000,null,"Банкрутство"]
["300012__61","ПРОМІНВЕСТБАНК","1/07","беззаставний"]
["300012__62","ПРОМІНВЕСТБАНК","23/1-08","беззаставний"]
["300012__63","ПРОМІНВЕСТБАНК","140/772","беззаставний"]
["300012__64","ПРОМІНВЕСТБАНК","104/569","беззаставний"]
["300012__65","ПРОМІНВЕСТБАНК","03-27","беззаставний"]
["300012__66","ПРОМІНВЕСТБАНК","45-08\\КР","беззаставний"]
["300012__67","ПРОМІНВЕСТБАНК","265/02-06","житл. нерухомість","3380,3; 1000","м.кв.","Дніпропетровська","м.Дніпро",8423350,"НІ","Діюче"]
["300012__67","ПРОМІНВЕСТБАНК","265/02-06","земельні ділянки",2.3E-2,"га","Дніпропетровська","м.Дніпро",293000,"НІ","Діюче","по виконавчим документам пропущений строк пред'явлення до виконання"]
["300012__67","ПРОМІНВЕСТБАНК","265/02-06","житл. нерухомість",78.5,"м.кв.","Дніпропетровська","м.Дніпро",78000,"НІ",null,"по виконавчим документам пропущений строк пред'явлення до виконання"]
["300012__68","ПРОМІНВЕСТБАНК","23/32a-04","житл. нерухомість",176.6,"м.кв.","Закарпатська","місто Мукачево",738000,"НІ"]
["300012__69","ПРОМІНВЕСТБАНК","02-07/1640","обладнання",1,"лінія","Закарпатська","село Голубине",455000,"НІ","Ліквідовано","власник застави помер; остання перевірка майна у 2008 році"]
["300012__70","ПРОМІНВЕСТБАНК","25","беззаставний"]
["300012__71","ПРОМІНВЕСТБАНК","145/799","беззаставний"]
["300012__72","ПРОМІНВЕСТБАНК","61/32-04","транспорт",1,"од.","Закарпатська","місто Ужгород",126400,"НІ",null,"остання перевірка у 2009 році"]
["300012__72","ПРОМІНВЕСТБАНК","61/32-04","фінансова порука",null,null,null,null,142000]
["300012__73","ПРОМІНВЕСТБАНК","89/501","беззаставний"]
["300012__74","ПРОМІНВЕСТБАНК","20-0298/3-2 (з одночасним укладанням договору про відкриття кредитної лінії №20-0299/2-1)","фінансова порука",null,null,null,null,{"$f":"4000000 *36.3752","v":145500800},null,"нерезидент"]
["300012__75","ПРОМІНВЕСТБАНК","20-0841/2-1","майнові права",null,null,null,null,97609110,"НІ","Банкрутство"]
["300012__76","ПРОМІНВЕСТБАНК","20-0298/3-2 ","беззаставний"]
["300012__77","ПРОМІНВЕСТБАНК","20-0298/3-2","беззаставний"]
["300012__78","ПРОМІНВЕСТБАНК","96/538","беззаставний"]
["300012__79","ПРОМІНВЕСТБАНК",207,"товари",10,"позцицій","Донецька","м. Слов'янськ",2263495,"так","Діюче","інформація щодо наявності відсутня"]
["300012__79","ПРОМІНВЕСТБАНК",207,"фінансова порука",null,null,null,null,null,null,"Діюче"]
["300012__80","ПРОМІНВЕСТБАНК","047-60-01-15","беззаставний"]
["300012__81","ПРОМІНВЕСТБАНК","291-2007","обладнання",126,"од.","Київська","Біла Церква",300000,"НІ","Діюче","інформація щодо наявності відсутня"]
["300012__82","ПРОМІНВЕСТБАНК","14-2007","беззаставний"]
["300012__83","ПРОМІНВЕСТБАНК","04-11/6","транспорт",7,"од.","Тернопільська","Чортків",585270,"НІ","Діюче","три автомобіля ВАЗ реалізовано у виконавчому провадженні, інші відсутні"]
["300012__84","ПРОМІНВЕСТБАНК","04-11/60","обладнання",1,"од.","Тернопільська","Старий Олексинець (Староолексинецька сільська рада)",173400,"ТАК","Діюче","наявність невідома"]
["300012__84","ПРОМІНВЕСТБАНК","04-11/60","транспорт",1,"од.","Тернопільська","Чортків",253000,"НІ","Діюче","наявність невідома"]
["300012__85","ПРОМІНВЕСТБАНК","1802/02-03","беззаставний"]
["300012__86","ПРОМІНВЕСТБАНК","04-11/8","товари/транспорт","товари(8 од.найменувань); напівпричіп-платформа (1 од.найменувань) ","од.","Тернопільська","смт. В. Березовиця",703175,"НІ","Діюче","наявність невідома (останній акт перевірки в 2010 році)"]
["300012__87","ПРОМІНВЕСТБАНК","90","транспорт",11,"од.","Київ, Київська","м. Київ, м.Бориспіль ",700000,"НІ","Діюче","інформація щодо наявності відсутня"]
["300012__88","ПРОМІНВЕСТБАНК","121/1215","беззаставний"]
["300012__89","ПРОМІНВЕСТБАНК","131/1277","беззаставний"]
["300012__90","ПРОМІНВЕСТБАНК","18-2006 ","беззаставний"]
["300012__91","ПРОМІНВЕСТБАНК","34","беззаставний"]
["300012__92","ПРОМІНВЕСТБАНК","03-1/21","транспорт",2,"од.","Тернопільська","Тернопіль",315400,"НІ","Ліквідовано","наявність невідома (остання перевірка у 2010 році)"]
["300012__93","ПРОМІНВЕСТБАНК","03-1/91","транспорт",2,"од.","Тернопільська","Тернопіль",250000,"НІ","Ліквідовано","наявність невідома (остання перевірка у 2010 році)"]
["300012__94","ПРОМІНВЕСТБАНК","02/1-457 ","майнові права",null,null,null,null,95000000,"НІ","Банкрутство"]
["300012__95","ПРОМІНВЕСТБАНК","02/1-457","беззаставний"]
["300012__96","ПРОМІНВЕСТБАНК","2-54-594","товари",9,"од.","Сумська","с. Стецьківка",39680,"ТАК","Діюче","наявність невідома (останній акт перевірки в  лютому 2011 року)"]
["300012__96","ПРОМІНВЕСТБАНК","2-54-594","майнові права",null,null,null,null,222032.51,"ТАК","В стані припинення (крім банкрутства)"]
["300012__97","ПРОМІНВЕСТБАНК","6-09-104","беззаставний"]
["300012__98","ПРОМІНВЕСТБАНК","6-7-83","беззаставний"]
["300012__99","ПРОМІНВЕСТБАНК","2-59-469","товари",13433,"декалітрів","Сумська","с. Стецьківка",317871,"НІ","Діюче","наявність невідома (остання перевірка у 2011 році)"]
["300012__100","ПРОМІНВЕСТБАНК","23","товари",4612.97,"декалітрів","Київська","Триліси",400000,"НІ","Діюче","наявність невідома (остання перевірка у 2007 році)"]
["300012__101","ПРОМІНВЕСТБАНК","67/960","беззаставний"]
["300012__102","ПРОМІНВЕСТБАНК","92/517","беззаставний"]
["300012__103","ПРОМІНВЕСТБАНК","91/513","беззаставний"]
["300012__104","ПРОМІНВЕСТБАНК","62/323","беззаставний"]
["300012__105","ПРОМІНВЕСТБАНК","1-6/28-04","фінансова порука",null,null,null,null,null,"НІ","Ліквідовано"]
["300012__106","ПРОМІНВЕСТБАНК","22/3-08","земельні ділянки",0.1,"га","Закарпатська","Зняцьово (Зняцівська сільська рада)",162594.85999999999,"ТАК",null," власник іпотеки помер (банк не має належного документального підтвердження факту смерті )"]
["300012__106","ПРОМІНВЕСТБАНК","22/3-08","ком. нерухомість",236.1,"м.кв.","Закарпатська","Зняцьово (Зняцівська сільська рада)",1877405.14,"ТАК",null,"власник іпотеки помер (банк не має належного документального підтвердження факту смерті)"]
["300012__106","ПРОМІНВЕСТБАНК","22/3-08","обладнання",1189,"поз.","Закарпатська","Зняцьово (Зняцівська сільська рада)",174618,"НІ",null,"власник застави помер (банк не має належного документального підтвердження факту смерті), наявність майна -невідомо"]
["300012__107","ПРОМІНВЕСТБАНК","1-41","обладнання",4,"од.","Кіровоградська","Олександро-Мар'ївка",750000,"НІ",null,"Поточне розташування невідомо (зг.акту перевірки від 31.05.2012 р.)"]
["300012__108","ПРОМІНВЕСТБАНК","1-13","обладнання",2,"шт.","Миколаївська","с. Синюхин Брід",461300,"ТАК",null,"Поточне розташування невідомо"]
["300012__109","ПРОМІНВЕСТБАНК","184/КР116","товари",33,"поз.","Львівська","м. Борислав",323829.58,"НІ",null,"наявність майна невідома"]
["300012__110","ПРОМІНВЕСТБАНК","55/3-06","ком. нерухомість",761,"м.кв.","Закарпатська"," с. Зняцьово",145000,"НІ",null,"власник іпотеки помер (банк не має належного документального підтвердження факту смерті), майно перебуває в незадовільному стані"]
["300012__111","ПРОМІНВЕСТБАНК","3/3-08","земельні ділянки",0.1,"га","Закарпатська"," с. Зняцьово",162595,"так",null,"власник іпотеки помер (банк не має належного документального підтвердження факту смерті)"]
["300012__111","ПРОМІНВЕСТБАНК","3/3-08","ком. нерухомість",236.1,"м.кв.","Закарпатська"," с. Зняцьово",2077405,"так",null,"власник іпотеки помер (банк не має належного документального підтвердження факту смерті)"]
["300012__111","ПРОМІНВЕСТБАНК","3/3-08","ком. нерухомість",107.7,"м.кв.","Закарпатська","с. Червеньово",460000,"ні"]
["300012__111","ПРОМІНВЕСТБАНК","3/3-08","майнові права",null,null,null,null,3183224,"ні",null,"власник застави помер (банк не має належного документального підтвердження факту смерті)"]
["300012__111","ПРОМІНВЕСТБАНК","3/3-08","фінансова порука"]
["300012__112","ПРОМІНВЕСТБАНК","31/3-08","житл. нерухомість",173.1,"м.кв.","Закарпатська","с. Ракошино",946000,"так"]
["300012__112","ПРОМІНВЕСТБАНК","31/3-08","земельні ділянки",0.1628,"га","Закарпатська","с. Ракошино",154000,"ні"]
["300012__112","ПРОМІНВЕСТБАНК","31/3-08","земельні ділянки",0.1,"га","Закарпатська","с. Ракошино",48750,"ні"]
["300012__112","ПРОМІНВЕСТБАНК","31/3-08","земельні ділянки",0.1,"га","Закарпатська","с. Ракошино",48750,"ні"]
["300012__112","ПРОМІНВЕСТБАНК","31/3-08","ком. нерухомість",1914.6,"м.кв.","Закарпатська","с. Зняцьово",760000,"ні",null,"власник іпотеки помер (банк не має належного документального підтвердження факту смерті)"]
["300012__113","ПРОМІНВЕСТБАНК","56/КР39","обладнання",1,"шт.","Львівська ","м. Борислав",100000,"ні","Ліквідовано","власник застави помер (банк не має належного документального підтвердження факту смерті), останній акт перевірки від 19.06.2013 - майно наявне, не використовується (законсервоване)"]
["300012__113","ПРОМІНВЕСТБАНК","56/КР39","транспорт",1,"шт.","Львівська ","м. Борислав",50000,"ні","Ліквідовано","власник застави помер (банк не має належного документального підтвердження факту смерті), останній акт перевірки від 19.06.2013 - майно наявне, не використовується "]
["300012__113","ПРОМІНВЕСТБАНК","56/КР39","товари",16,"поз.","Львівська ","м. Борислав",142389.32,"ні","Ліквідовано","наявність невідома"]
["300012__114","ПРОМІНВЕСТБАНК","590/1-2007","беззаставний"]
["300012__115","ПРОМІНВЕСТБАНК","17/4-07","транспорт",1,"од.","Закарпатська","місто Ужгород",154000,"НІ","Діюче","наявнсть невідома (остання перевірка у 2008 році)"]
["300012__116","ПРОМІНВЕСТБАНК","21/4-07","транспорт",2,"од.","Закарпатська","місто Ужгород",682000,"НІ","Діюче","наявнсть невідома (остання перевірка у 2008 році)"]
["300012__116","ПРОМІНВЕСТБАНК","21/4-07","фінансова порука"]
["300012__116","ПРОМІНВЕСТБАНК","21/4-07","фінансова порука"]
["300012__117","ПРОМІНВЕСТБАНК","25/4-07","транспорт",2,"од.","Закарпатська","місто Ужгород",660000,"НІ","Діюче","наявнсть невідома (остання перевірка у 2008 році)"]
["300012__117","ПРОМІНВЕСТБАНК","25/4-07","фінансова порука"]
["300012__117","ПРОМІНВЕСТБАНК","25/4-07","фінансова порука"]
["300012__118","ПРОМІНВЕСТБАНК","28/4-06","транспорт",1,"од.","Закарпатська","місто Ужгород",252000,"НІ","Діюче","наявнсть невідома (остання перевірка у 2008 році)"]
["300012__118","ПРОМІНВЕСТБАНК","28/4-06","майнові права",null,null,null,null,795806,"НІ","Діюче"]
["300012__119","ПРОМІНВЕСТБАНК","32/32а-04","транспорт",2,"од.","Закарпатська","місто Ужгород",213300,"НІ","Діюче","наявнсть невідома (остання перевірка у 2008 році)"]
["300012__119","ПРОМІНВЕСТБАНК","32/32а-04","транспорт",1,"од.","Закарпатська","місто Ужгород",126600,"НІ","Діюче","наявнсть невідома (остання перевірка у 2008 році)"]
["300012__120","ПРОМІНВЕСТБАНК","05-01-16/326","товари",243,"позиції найменувань","Одеська","м. Одеса",240000,"НІ","Ліквідовано","інформація щодо наявності відсутня"]
["300012__120","ПРОМІНВЕСТБАНК","05-01-16/326","товари",2899,"позиції найменувань","Одеська","м. Одеса",1000000,"НІ","Ліквідовано","інформація щодо наявності відсутня"]
["300012__120","ПРОМІНВЕСТБАНК","05-01-16/326","житл. нерухомість",41,"м.кв.","Одеська","м. Одеса",266293.5,"НІ",null,"2 майнових поручителя померли"]
["300012__121","ПРОМІНВЕСТБАНК","05-01-16/433","товари",337914,"од.","Одеська","м. Одеса",591868.73,"НІ","Ліквідовано","інформація щодо наявності відсутня"]
["300012__121","ПРОМІНВЕСТБАНК","05-01-16/433","фінансова порука",null,null,null,null,null,null,"В стані припинення (крім банкрутства)"]
["300012__122","ПРОМІНВЕСТБАНК","1458","беззаставний"]
["300012__123","ПРОМІНВЕСТБАНК","2086","беззаставний"]
["300012__124","ПРОМІНВЕСТБАНК","64-КР","фінансова порука",null,null,null,null,null,null,"В стані припинення (крім банкрутства)"]
["300012__124","ПРОМІНВЕСТБАНК","64-КР","фінансова порука"]
["300012__125","ПРОМІНВЕСТБАНК","101-08/01","беззаставний"]
["300012__126","ПРОМІНВЕСТБАНК","1039-07/02","беззаставний"]
["300012__127","ПРОМІНВЕСТБАНК","13-65-06/212","беззаставний"]
["300012__128","ПРОМІНВЕСТБАНК","13-65-06/261","товари",655,"позицій","Одеська","м. Одеса",5012912.8600000003,"НІ","Діюче","у виконавчому провадженні не виявлено"]
["300012__129","ПРОМІНВЕСТБАНК","03-10","беззаставний"]
["300012__130","ПРОМІНВЕСТБАНК","03-1/140","обладнання",9,"од.","Тернопільська","м. Ланівці",2169030,"НІ","Діюче","актом перевірки від 22.03.2011 року зафіксовано, що обладнання не використовується (законсервовано), в неробочому стані"]
["300012__131","ПРОМІНВЕСТБАНК","03-1/38","обладнання",2,"од.","Тернопільська","м. Ланівці",1057500,"НІ","Діюче","остання перевірка - 22.03.2011 року"]
["300012__131","ПРОМІНВЕСТБАНК","03-1/38","ком. нерухомість",415.4,"м.кв.","Тернопільська","м. Ланівці",556700,"ТАК","Діюче"]
["300012__132","ПРОМІНВЕСТБАНК","03-1/107","товари",2,"од.","Тернопільська","м. Ланівці",296000,"НІ","Діюче","майно відсутнє"]
["300012__132","ПРОМІНВЕСТБАНК","03-1/107","фінансова порука"]
["300012__133","ПРОМІНВЕСТБАНК",422,"беззаставний"]
["300012__134","ПРОМІНВЕСТБАНК","26/4-06","земельні ділянки",8.6499999999999994E-2,"га","Закарпатська"," на території Великолазівської сільської ради",85500,"ТАК"]
["300012__134","ПРОМІНВЕСТБАНК","26/4-06","обладнання",1,"од.","Закарпатська","с.Геєвці",89500,"НІ",null,"наявність невідома"]
["300012__134","ПРОМІНВЕСТБАНК","26/4-06","фінансова порука"]
["300012__135","ПРОМІНВЕСТБАНК","09-1763/7","беззаставний"]
["300012__136","ПРОМІНВЕСТБАНК","46-2007/к","майнові права",null,null,null,null,172258275.27000001,"НІ","Діюче","зг.акту від 13.12.2010 контракт не працює"]
["300012__137","ПРОМІНВЕСТБАНК","57-4","беззаставний"]
["300012__138","ПРОМІНВЕСТБАНК",56,"ком. нерухомість","432,6;\n0,0423\n","1) м2\n2) га","Івано_Франківська","м. Бурштин",961676,"ТАК","Діюче","12.08.2022  стягувачу оформлено АКТ про проведення електронного аукціону, що є підствою для   видачі нотаріусом банку, як іпотекодержателю, свідоцтва про залишення за собою майна з електронного аукціону, що не відбувся."]
["300012__138","ПРОМІНВЕСТБАНК",56,"товари",130,"т","Івано_Франківська","с. Задністрянське",1048380,"НІ","Діюче","у виконавчому провадженні не виявлено"]
["300012__138","ПРОМІНВЕСТБАНК",56,"фінансова порука"]
["300012__139","ПРОМІНВЕСТБАНК","FCMF-50642","беззаставний"]
[null,{"$f":"IFERROR(VLOOKUP(A975,'1.Портфель кредитів'!A:AB,3,FALSE),\"\")","v":""},{"$f":"IFERROR(VLOOKUP(A975,'1.Портфель кредитів'!A:AB,14,FALSE),\"\")","v":""}]
[null,{"$f":"IFERROR(VLOOKUP(A976,'1.Портфель кредитів'!A:AB,3,FALSE),\"\")","v":""},{"$f":"IFERROR(VLOOKUP(A976,'1.Портфель кредитів'!A:AB,14,FALSE),\"\")","v":""}]
["«Недійсність (нікчемність), припинення всіх або будь-якого із прав, що складають Майнові права за цим лотом, або неможливість реалізації покупцем будь-якого із Майнових прав, набутих ним за договором купівлі-продажу Майнових прав за цим лотом, не вплине на дійсність договору купівлі-продажу Майнових прав за цим лотом та Покупець погоджується, що Продавець не несе жодної відповідальності за такі наслідки.\nБанк (продавець) та/або Фонд не відповідає за неотримання покупцем грошових коштів або іншого майна, які покупець очікував отримати від Майнових прав, набуваючи у власність Майнові права за цим лотом.\nПриймаючи рішення щодо придбання Майнових прав за цим лотом покупець має розуміти (усвідомлювати) характер Майнових прав, що переходять до покупця за цим лотом, та приймати усі ризики, пов’язані із таким переходом, у тому числі ризики того, що покупець у майбутньому не зможе отримати жодних коштів або майна за Майновими правами.»"]
["Цей документ був підготовлений Фондом гарантування вкладів фізичних осіб (далі – Фонд) виключно для інформаційних цілей і не повинен вважатися як спонукання до будь-яких дій чи бездіяльності.  Інформація, що міститься в цьому документі, була отримана з/або ґрунтується на джерелах, які вважаються надійними, але не є вичерпною та не може сприйматися як повна або актуальна. Рішення покупця щодо будь-яких дій або бездіяльності повинно ґрунтуватися на власних оцінках та дослідженнях майна (активу/активів), котре реалізується. Фонд не несе відповідальності за рішення покупця та його наслідки, що ґрунтується на інформації, викладеній в даному документі."]
["Покупцем не може бути особа, пов'язана з державою-агресором, відповідно до Постанови Кабінету Міністрів України №187 від 03.03.2022 (зі змінами)."]
["Звертаємо увагу, що  на період дії воєнного стану на території України  договори посвідчуються нотаріусом, який включений до затвердженого Міністерством юстиції переліку (https://minjust.gov.ua/news/ministry/perelik-notariusiv-yakimi-v-umovah-voennogo-stanu-vchinyayutsya-notarialni-dii-schodo-tsinnogo-mayna). Нотаріальне посвідчення договорів відчуження нерухомого майна на час дії воєнного стану здійснюється нотаріусом, який включений до затвердженого Міністерством юстиції переліку, за місцезнаходженням такого майна. Виключенням є м. Київ та Київська область, де договори відчуження нерухомого майна посвідчуються нотаріусом з м. Києва або Київської обл. за місцезнаходженням такого майна, або місцезнаходженням юридичної особи, або за зареєстрованим місцем проживання фізичної особи - однієї із сторін договору."]
[]
[]
[null,{"$f":"IFERROR(VLOOKUP(A983,'1.Портфель кредитів'!A:AB,3,FALSE),\"\")","v":""},{"$f":"IFERROR(VLOOKUP(A983,'1.Портфель кредитів'!A:AB,14,FALSE),\"\")","v":""}]
[null,{"$f":"IFERROR(VLOOKUP(A984,'1.Портфель кредитів'!A:AB,3,FALSE),\"\")","v":""},{"$f":"IFERROR(VLOOKUP(A984,'1.Портфель кредитів'!A:AB,14,FALSE),\"\")","v":""}]
[null,{"$f":"IFERROR(VLOOKUP(A985,'1.Портфель кредитів'!A:AB,3,FALSE),\"\")","v":""},{"$f":"IFERROR(VLOOKUP(A985,'1.Портфель кредитів'!A:AB,14,FALSE),\"\")","v":""}]
[null,{"$f":"IFERROR(VLOOKUP(A986,'1.Портфель кредитів'!A:AB,3,FALSE),\"\")","v":""},{"$f":"IFERROR(VLOOKUP(A986,'1.Портфель кредитів'!A:AB,14,FALSE),\"\")","v":""}]
[null,{"$f":"IFERROR(VLOOKUP(A987,'1.Портфель кредитів'!A:AB,3,FALSE),\"\")","v":""},{"$f":"IFERROR(VLOOKUP(A987,'1.Портфель кредитів'!A:AB,14,FALSE),\"\")","v":""}]
[null,{"$f":"IFERROR(VLOOKUP(A988,'1.Портфель кредитів'!A:AB,3,FALSE),\"\")","v":""},{"$f":"IFERROR(VLOOKUP(A988,'1.Портфель кредитів'!A:AB,14,FALSE),\"\")","v":""}]
[null,{"$f":"IFERROR(VLOOKUP(A989,'1.Портфель кредитів'!A:AB,3,FALSE),\"\")","v":""},{"$f":"IFERROR(VLOOKUP(A989,'1.Портфель кредитів'!A:AB,14,FALSE),\"\")","v":""}]
[null,{"$f":"IFERROR(VLOOKUP(A990,'1.Портфель кредитів'!A:AB,3,FALSE),\"\")","v":""},{"$f":"IFERROR(VLOOKUP(A990,'1.Портфель кредитів'!A:AB,14,FALSE),\"\")","v":""}]
[null,{"$f":"IFERROR(VLOOKUP(A991,'1.Портфель кредитів'!A:AB,3,FALSE),\"\")","v":""},{"$f":"IFERROR(VLOOKUP(A991,'1.Портфель кредитів'!A:AB,14,FALSE),\"\")","v":""}]
[null,{"$f":"IFERROR(VLOOKUP(A992,'1.Портфель кредитів'!A:AB,3,FALSE),\"\")","v":""},{"$f":"IFERROR(VLOOKUP(A992,'1.Портфель кредитів'!A:AB,14,FALSE),\"\")","v":""}]
[null,{"$f":"IFERROR(VLOOKUP(A993,'1.Портфель кредитів'!A:AB,3,FALSE),\"\")","v":""},{"$f":"IFERROR(VLOOKUP(A993,'1.Портфель кредитів'!A:AB,14,FALSE),\"\")","v":""}]
[null,{"$f":"IFERROR(VLOOKUP(A994,'1.Портфель кредитів'!A:AB,3,FALSE),\"\")","v":""},{"$f":"IFERROR(VLOOKUP(A994,'1.Портфель кредитів'!A:AB,14,FALSE),\"\")","v":""}]
[null,{"$f":"IFERROR(VLOOKUP(A995,'1.Портфель кредитів'!A:AB,3,FALSE),\"\")","v":""},{"$f":"IFERROR(VLOOKUP(A995,'1.Портфель кредитів'!A:AB,14,FALSE),\"\")","v":""}]
[null,{"$f":"IFERROR(VLOOKUP(A996,'1.Портфель кредитів'!A:AB,3,FALSE),\"\")","v":""},{"$f":"IFERROR(VLOOKUP(A996,'1.Портфель кредитів'!A:AB,14,FALSE),\"\")","v":""}]
[null,{"$f":"IFERROR(VLOOKUP(A997,'1.Портфель кредитів'!A:AB,3,FALSE),\"\")","v":""},{"$f":"IFERROR(VLOOKUP(A997,'1.Портфель кредитів'!A:AB,14,FALSE),\"\")","v":""}]
[null,{"$f":"IFERROR(VLOOKUP(A998,'1.Портфель кредитів'!A:AB,3,FALSE),\"\")","v":""},{"$f":"IFERROR(VLOOKUP(A998,'1.Портфель кредитів'!A:AB,14,FALSE),\"\")","v":""}]
[null,{"$f":"IFERROR(VLOOKUP(A999,'1.Портфель кредитів'!A:AB,3,FALSE),\"\")","v":""},{"$f":"IFERROR(VLOOKUP(A999,'1.Портфель кредитів'!A:AB,14,FALSE),\"\")","v":""}]
[null,{"$f":"IFERROR(VLOOKUP(A1000,'1.Портфель кредитів'!A:AB,3,FALSE),\"\")","v":""},{"$f":"IFERROR(VLOOKUP(A1000,'1.Портфель кредитів'!A:AB,14,FALSE),\"\")","v":""}]
[null,{"$f":"IFERROR(VLOOKUP(A1001,'1.Портфель кредитів'!A:AB,3,FALSE),\"\")","v":""},{"$f":"IFERROR(VLOOKUP(A1001,'1.Портфель кредитів'!A:AB,14,FALSE),\"\")","v":""}]
[null,{"$f":"IFERROR(VLOOKUP(A1002,'1.Портфель кредитів'!A:AB,3,FALSE),\"\")","v":""},{"$f":"IFERROR(VLOOKUP(A1002,'1.Портфель кредитів'!A:AB,14,FALSE),\"\")","v":""}]
[null,{"$f":"IFERROR(VLOOKUP(A1003,'1.Портфель кредитів'!A:AB,3,FALSE),\"\")","v":""},{"$f":"IFERROR(VLOOKUP(A1003,'1.Портфель кредитів'!A:AB,14,FALSE),\"\")","v":""}]
[null,{"$f":"IFERROR(VLOOKUP(A1004,'1.Портфель кредитів'!A:AB,3,FALSE),\"\")","v":""},{"$f":"IFERROR(VLOOKUP(A1004,'1.Портфель кредитів'!A:AB,14,FALSE),\"\")","v":""}]
[null,{"$f":"IFERROR(VLOOKUP(A1005,'1.Портфель кредитів'!A:AB,3,FALSE),\"\")","v":""},{"$f":"IFERROR(VLOOKUP(A1005,'1.Портфель кредитів'!A:AB,14,FALSE),\"\")","v":""}]
[null,{"$f":"IFERROR(VLOOKUP(A1006,'1.Портфель кредитів'!A:AB,3,FALSE),\"\")","v":""},{"$f":"IFERROR(VLOOKUP(A1006,'1.Портфель кредитів'!A:AB,14,FALSE),\"\")","v":""}]
[null,{"$f":"IFERROR(VLOOKUP(A1007,'1.Портфель кредитів'!A:AB,3,FALSE),\"\")","v":""},{"$f":"IFERROR(VLOOKUP(A1007,'1.Портфель кредитів'!A:AB,14,FALSE),\"\")","v":""}]
[null,{"$f":"IFERROR(VLOOKUP(A1008,'1.Портфель кредитів'!A:AB,3,FALSE),\"\")","v":""},{"$f":"IFERROR(VLOOKUP(A1008,'1.Портфель кредитів'!A:AB,14,FALSE),\"\")","v":""}]
[null,{"$f":"IFERROR(VLOOKUP(A1009,'1.Портфель кредитів'!A:AB,3,FALSE),\"\")","v":""},{"$f":"IFERROR(VLOOKUP(A1009,'1.Портфель кредитів'!A:AB,14,FALSE),\"\")","v":""}]
[null,{"$f":"IFERROR(VLOOKUP(A1010,'1.Портфель кредитів'!A:AB,3,FALSE),\"\")","v":""},{"$f":"IFERROR(VLOOKUP(A1010,'1.Портфель кредитів'!A:AB,14,FALSE),\"\")","v":""}]
[null,{"$f":"IFERROR(VLOOKUP(A1011,'1.Портфель кредитів'!A:AB,3,FALSE),\"\")","v":""},{"$f":"IFERROR(VLOOKUP(A1011,'1.Портфель кредитів'!A:AB,14,FALSE),\"\")","v":""}]
[null,{"$f":"IFERROR(VLOOKUP(A1012,'1.Портфель кредитів'!A:AB,3,FALSE),\"\")","v":""},{"$f":"IFERROR(VLOOKUP(A1012,'1.Портфель кредитів'!A:AB,14,FALSE),\"\")","v":""}]
[null,{"$f":"IFERROR(VLOOKUP(A1013,'1.Портфель кредитів'!A:AB,3,FALSE),\"\")","v":""},{"$f":"IFERROR(VLOOKUP(A1013,'1.Портфель кредитів'!A:AB,14,FALSE),\"\")","v":""}]
[null,{"$f":"IFERROR(VLOOKUP(A1014,'1.Портфель кредитів'!A:AB,3,FALSE),\"\")","v":""},{"$f":"IFERROR(VLOOKUP(A1014,'1.Портфель кредитів'!A:AB,14,FALSE),\"\")","v":""}]
[null,{"$f":"IFERROR(VLOOKUP(A1015,'1.Портфель кредитів'!A:AB,3,FALSE),\"\")","v":""},{"$f":"IFERROR(VLOOKUP(A1015,'1.Портфель кредитів'!A:AB,14,FALSE),\"\")","v":""}]
[null,{"$f":"IFERROR(VLOOKUP(A1016,'1.Портфель кредитів'!A:AB,3,FALSE),\"\")","v":""},{"$f":"IFERROR(VLOOKUP(A1016,'1.Портфель кредитів'!A:AB,14,FALSE),\"\")","v":""}]
[null,{"$f":"IFERROR(VLOOKUP(A1017,'1.Портфель кредитів'!A:AB,3,FALSE),\"\")","v":""},{"$f":"IFERROR(VLOOKUP(A1017,'1.Портфель кредитів'!A:AB,14,FALSE),\"\")","v":""}]
[null,{"$f":"IFERROR(VLOOKUP(A1018,'1.Портфель кредитів'!A:AB,3,FALSE),\"\")","v":""},{"$f":"IFERROR(VLOOKUP(A1018,'1.Портфель кредитів'!A:AB,14,FALSE),\"\")","v":""}]
[null,{"$f":"IFERROR(VLOOKUP(A1019,'1.Портфель кредитів'!A:AB,3,FALSE),\"\")","v":""},{"$f":"IFERROR(VLOOKUP(A1019,'1.Портфель кредитів'!A:AB,14,FALSE),\"\")","v":""}]
[null,{"$f":"IFERROR(VLOOKUP(A1020,'1.Портфель кредитів'!A:AB,3,FALSE),\"\")","v":""},{"$f":"IFERROR(VLOOKUP(A1020,'1.Портфель кредитів'!A:AB,14,FALSE),\"\")","v":""}]
[null,{"$f":"IFERROR(VLOOKUP(A1021,'1.Портфель кредитів'!A:AB,3,FALSE),\"\")","v":""},{"$f":"IFERROR(VLOOKUP(A1021,'1.Портфель кредитів'!A:AB,14,FALSE),\"\")","v":""}]
[null,{"$f":"IFERROR(VLOOKUP(A1022,'1.Портфель кредитів'!A:AB,3,FALSE),\"\")","v":""},{"$f":"IFERROR(VLOOKUP(A1022,'1.Портфель кредитів'!A:AB,14,FALSE),\"\")","v":""}]
[null,{"$f":"IFERROR(VLOOKUP(A1023,'1.Портфель кредитів'!A:AB,3,FALSE),\"\")","v":""},{"$f":"IFERROR(VLOOKUP(A1023,'1.Портфель кредитів'!A:AB,14,FALSE),\"\")","v":""}]
[null,{"$f":"IFERROR(VLOOKUP(A1024,'1.Портфель кредитів'!A:AB,3,FALSE),\"\")","v":""},{"$f":"IFERROR(VLOOKUP(A1024,'1.Портфель кредитів'!A:AB,14,FALSE),\"\")","v":""}]
[null,{"$f":"IFERROR(VLOOKUP(A1025,'1.Портфель кредитів'!A:AB,3,FALSE),\"\")","v":""},{"$f":"IFERROR(VLOOKUP(A1025,'1.Портфель кредитів'!A:AB,14,FALSE),\"\")","v":""}]
[null,{"$f":"IFERROR(VLOOKUP(A1026,'1.Портфель кредитів'!A:AB,3,FALSE),\"\")","v":""},{"$f":"IFERROR(VLOOKUP(A1026,'1.Портфель кредитів'!A:AB,14,FALSE),\"\")","v":""}]
[null,{"$f":"IFERROR(VLOOKUP(A1027,'1.Портфель кредитів'!A:AB,3,FALSE),\"\")","v":""},{"$f":"IFERROR(VLOOKUP(A1027,'1.Портфель кредитів'!A:AB,14,FALSE),\"\")","v":""}]
[null,{"$f":"IFERROR(VLOOKUP(A1028,'1.Портфель кредитів'!A:AB,3,FALSE),\"\")","v":""},{"$f":"IFERROR(VLOOKUP(A1028,'1.Портфель кредитів'!A:AB,14,FALSE),\"\")","v":""}]
[null,{"$f":"IFERROR(VLOOKUP(A1029,'1.Портфель кредитів'!A:AB,3,FALSE),\"\")","v":""},{"$f":"IFERROR(VLOOKUP(A1029,'1.Портфель кредитів'!A:AB,14,FALSE),\"\")","v":""}]
[null,{"$f":"IFERROR(VLOOKUP(A1030,'1.Портфель кредитів'!A:AB,3,FALSE),\"\")","v":""},{"$f":"IFERROR(VLOOKUP(A1030,'1.Портфель кредитів'!A:AB,14,FALSE),\"\")","v":""}]
[null,{"$f":"IFERROR(VLOOKUP(A1031,'1.Портфель кредитів'!A:AB,3,FALSE),\"\")","v":""},{"$f":"IFERROR(VLOOKUP(A1031,'1.Портфель кредитів'!A:AB,14,FALSE),\"\")","v":""}]
[null,{"$f":"IFERROR(VLOOKUP(A1032,'1.Портфель кредитів'!A:AB,3,FALSE),\"\")","v":""},{"$f":"IFERROR(VLOOKUP(A1032,'1.Портфель кредитів'!A:AB,14,FALSE),\"\")","v":""}]
[null,{"$f":"IFERROR(VLOOKUP(A1033,'1.Портфель кредитів'!A:AB,3,FALSE),\"\")","v":""},{"$f":"IFERROR(VLOOKUP(A1033,'1.Портфель кредитів'!A:AB,14,FALSE),\"\")","v":""}]
[null,{"$f":"IFERROR(VLOOKUP(A1034,'1.Портфель кредитів'!A:AB,3,FALSE),\"\")","v":""},{"$f":"IFERROR(VLOOKUP(A1034,'1.Портфель кредитів'!A:AB,14,FALSE),\"\")","v":""}]
[null,{"$f":"IFERROR(VLOOKUP(A1035,'1.Портфель кредитів'!A:AB,3,FALSE),\"\")","v":""},{"$f":"IFERROR(VLOOKUP(A1035,'1.Портфель кредитів'!A:AB,14,FALSE),\"\")","v":""}]
[null,{"$f":"IFERROR(VLOOKUP(A1036,'1.Портфель кредитів'!A:AB,3,FALSE),\"\")","v":""},{"$f":"IFERROR(VLOOKUP(A1036,'1.Портфель кредитів'!A:AB,14,FALSE),\"\")","v":""}]
[null,{"$f":"IFERROR(VLOOKUP(A1037,'1.Портфель кредитів'!A:AB,3,FALSE),\"\")","v":""},{"$f":"IFERROR(VLOOKUP(A1037,'1.Портфель кредитів'!A:AB,14,FALSE),\"\")","v":""}]
[null,{"$f":"IFERROR(VLOOKUP(A1038,'1.Портфель кредитів'!A:AB,3,FALSE),\"\")","v":""},{"$f":"IFERROR(VLOOKUP(A1038,'1.Портфель кредитів'!A:AB,14,FALSE),\"\")","v":""}]
[null,{"$f":"IFERROR(VLOOKUP(A1039,'1.Портфель кредитів'!A:AB,3,FALSE),\"\")","v":""},{"$f":"IFERROR(VLOOKUP(A1039,'1.Портфель кредитів'!A:AB,14,FALSE),\"\")","v":""}]
[null,{"$f":"IFERROR(VLOOKUP(A1040,'1.Портфель кредитів'!A:AB,3,FALSE),\"\")","v":""},{"$f":"IFERROR(VLOOKUP(A1040,'1.Портфель кредитів'!A:AB,14,FALSE),\"\")","v":""}]
[null,{"$f":"IFERROR(VLOOKUP(A1041,'1.Портфель кредитів'!A:AB,3,FALSE),\"\")","v":""},{"$f":"IFERROR(VLOOKUP(A1041,'1.Портфель кредитів'!A:AB,14,FALSE),\"\")","v":""}]
[null,{"$f":"IFERROR(VLOOKUP(A1042,'1.Портфель кредитів'!A:AB,3,FALSE),\"\")","v":""},{"$f":"IFERROR(VLOOKUP(A1042,'1.Портфель кредитів'!A:AB,14,FALSE),\"\")","v":""}]
[null,{"$f":"IFERROR(VLOOKUP(A1043,'1.Портфель кредитів'!A:AB,3,FALSE),\"\")","v":""},{"$f":"IFERROR(VLOOKUP(A1043,'1.Портфель кредитів'!A:AB,14,FALSE),\"\")","v":""}]
[null,{"$f":"IFERROR(VLOOKUP(A1044,'1.Портфель кредитів'!A:AB,3,FALSE),\"\")","v":""},{"$f":"IFERROR(VLOOKUP(A1044,'1.Портфель кредитів'!A:AB,14,FALSE),\"\")","v":""}]
[null,{"$f":"IFERROR(VLOOKUP(A1045,'1.Портфель кредитів'!A:AB,3,FALSE),\"\")","v":""},{"$f":"IFERROR(VLOOKUP(A1045,'1.Портфель кредитів'!A:AB,14,FALSE),\"\")","v":""}]
[null,{"$f":"IFERROR(VLOOKUP(A1046,'1.Портфель кредитів'!A:AB,3,FALSE),\"\")","v":""},{"$f":"IFERROR(VLOOKUP(A1046,'1.Портфель кредитів'!A:AB,14,FALSE),\"\")","v":""}]
[null,{"$f":"IFERROR(VLOOKUP(A1047,'1.Портфель кредитів'!A:AB,3,FALSE),\"\")","v":""},{"$f":"IFERROR(VLOOKUP(A1047,'1.Портфель кредитів'!A:AB,14,FALSE),\"\")","v":""}]
[null,{"$f":"IFERROR(VLOOKUP(A1048,'1.Портфель кредитів'!A:AB,3,FALSE),\"\")","v":""},{"$f":"IFERROR(VLOOKUP(A1048,'1.Портфель кредитів'!A:AB,14,FALSE),\"\")","v":""}]
[null,{"$f":"IFERROR(VLOOKUP(A1049,'1.Портфель кредитів'!A:AB,3,FALSE),\"\")","v":""},{"$f":"IFERROR(VLOOKUP(A1049,'1.Портфель кредитів'!A:AB,14,FALSE),\"\")","v":""}]
[null,{"$f":"IFERROR(VLOOKUP(A1050,'1.Портфель кредитів'!A:AB,3,FALSE),\"\")","v":""},{"$f":"IFERROR(VLOOKUP(A1050,'1.Портфель кредитів'!A:AB,14,FALSE),\"\")","v":""}]
[null,{"$f":"IFERROR(VLOOKUP(A1051,'1.Портфель кредитів'!A:AB,3,FALSE),\"\")","v":""},{"$f":"IFERROR(VLOOKUP(A1051,'1.Портфель кредитів'!A:AB,14,FALSE),\"\")","v":""}]
[null,{"$f":"IFERROR(VLOOKUP(A1052,'1.Портфель кредитів'!A:AB,3,FALSE),\"\")","v":""},{"$f":"IFERROR(VLOOKUP(A1052,'1.Портфель кредитів'!A:AB,14,FALSE),\"\")","v":""}]
[null,{"$f":"IFERROR(VLOOKUP(A1053,'1.Портфель кредитів'!A:AB,3,FALSE),\"\")","v":""},{"$f":"IFERROR(VLOOKUP(A1053,'1.Портфель кредитів'!A:AB,14,FALSE),\"\")","v":""}]
[null,{"$f":"IFERROR(VLOOKUP(A1054,'1.Портфель кредитів'!A:AB,3,FALSE),\"\")","v":""},{"$f":"IFERROR(VLOOKUP(A1054,'1.Портфель кредитів'!A:AB,14,FALSE),\"\")","v":""}]
[null,{"$f":"IFERROR(VLOOKUP(A1055,'1.Портфель кредитів'!A:AB,3,FALSE),\"\")","v":""},{"$f":"IFERROR(VLOOKUP(A1055,'1.Портфель кредитів'!A:AB,14,FALSE),\"\")","v":""}]
[null,{"$f":"IFERROR(VLOOKUP(A1056,'1.Портфель кредитів'!A:AB,3,FALSE),\"\")","v":""},{"$f":"IFERROR(VLOOKUP(A1056,'1.Портфель кредитів'!A:AB,14,FALSE),\"\")","v":""}]
[null,{"$f":"IFERROR(VLOOKUP(A1057,'1.Портфель кредитів'!A:AB,3,FALSE),\"\")","v":""},{"$f":"IFERROR(VLOOKUP(A1057,'1.Портфель кредитів'!A:AB,14,FALSE),\"\")","v":""}]
[null,{"$f":"IFERROR(VLOOKUP(A1058,'1.Портфель кредитів'!A:AB,3,FALSE),\"\")","v":""},{"$f":"IFERROR(VLOOKUP(A1058,'1.Портфель кредитів'!A:AB,14,FALSE),\"\")","v":""}]
[null,{"$f":"IFERROR(VLOOKUP(A1059,'1.Портфель кредитів'!A:AB,3,FALSE),\"\")","v":""},{"$f":"IFERROR(VLOOKUP(A1059,'1.Портфель кредитів'!A:AB,14,FALSE),\"\")","v":""}]
[null,{"$f":"IFERROR(VLOOKUP(A1060,'1.Портфель кредитів'!A:AB,3,FALSE),\"\")","v":""},{"$f":"IFERROR(VLOOKUP(A1060,'1.Портфель кредитів'!A:AB,14,FALSE),\"\")","v":""}]
[null,{"$f":"IFERROR(VLOOKUP(A1061,'1.Портфель кредитів'!A:AB,3,FALSE),\"\")","v":""},{"$f":"IFERROR(VLOOKUP(A1061,'1.Портфель кредитів'!A:AB,14,FALSE),\"\")","v":""}]
[null,{"$f":"IFERROR(VLOOKUP(A1062,'1.Портфель кредитів'!A:AB,3,FALSE),\"\")","v":""},{"$f":"IFERROR(VLOOKUP(A1062,'1.Портфель кредитів'!A:AB,14,FALSE),\"\")","v":""}]
[null,{"$f":"IFERROR(VLOOKUP(A1063,'1.Портфель кредитів'!A:AB,3,FALSE),\"\")","v":""},{"$f":"IFERROR(VLOOKUP(A1063,'1.Портфель кредитів'!A:AB,14,FALSE),\"\")","v":""}]
[null,{"$f":"IFERROR(VLOOKUP(A1064,'1.Портфель кредитів'!A:AB,3,FALSE),\"\")","v":""},{"$f":"IFERROR(VLOOKUP(A1064,'1.Портфель кредитів'!A:AB,14,FALSE),\"\")","v":""}]
[null,{"$f":"IFERROR(VLOOKUP(A1065,'1.Портфель кредитів'!A:AB,3,FALSE),\"\")","v":""},{"$f":"IFERROR(VLOOKUP(A1065,'1.Портфель кредитів'!A:AB,14,FALSE),\"\")","v":""}]
[null,{"$f":"IFERROR(VLOOKUP(A1066,'1.Портфель кредитів'!A:AB,3,FALSE),\"\")","v":""},{"$f":"IFERROR(VLOOKUP(A1066,'1.Портфель кредитів'!A:AB,14,FALSE),\"\")","v":""}]
[null,{"$f":"IFERROR(VLOOKUP(A1067,'1.Портфель кредитів'!A:AB,3,FALSE),\"\")","v":""},{"$f":"IFERROR(VLOOKUP(A1067,'1.Портфель кредитів'!A:AB,14,FALSE),\"\")","v":""}]
[null,{"$f":"IFERROR(VLOOKUP(A1068,'1.Портфель кредитів'!A:AB,3,FALSE),\"\")","v":""},{"$f":"IFERROR(VLOOKUP(A1068,'1.Портфель кредитів'!A:AB,14,FALSE),\"\")","v":""}]
[null,{"$f":"IFERROR(VLOOKUP(A1069,'1.Портфель кредитів'!A:AB,3,FALSE),\"\")","v":""},{"$f":"IFERROR(VLOOKUP(A1069,'1.Портфель кредитів'!A:AB,14,FALSE),\"\")","v":""}]
[null,{"$f":"IFERROR(VLOOKUP(A1070,'1.Портфель кредитів'!A:AB,3,FALSE),\"\")","v":""},{"$f":"IFERROR(VLOOKUP(A1070,'1.Портфель кредитів'!A:AB,14,FALSE),\"\")","v":""}]
[null,{"$f":"IFERROR(VLOOKUP(A1071,'1.Портфель кредитів'!A:AB,3,FALSE),\"\")","v":""},{"$f":"IFERROR(VLOOKUP(A1071,'1.Портфель кредитів'!A:AB,14,FALSE),\"\")","v":""}]
[null,{"$f":"IFERROR(VLOOKUP(A1072,'1.Портфель кредитів'!A:AB,3,FALSE),\"\")","v":""},{"$f":"IFERROR(VLOOKUP(A1072,'1.Портфель кредитів'!A:AB,14,FALSE),\"\")","v":""}]
[null,{"$f":"IFERROR(VLOOKUP(A1073,'1.Портфель кредитів'!A:AB,3,FALSE),\"\")","v":""},{"$f":"IFERROR(VLOOKUP(A1073,'1.Портфель кредитів'!A:AB,14,FALSE),\"\")","v":""}]
[null,{"$f":"IFERROR(VLOOKUP(A1074,'1.Портфель кредитів'!A:AB,3,FALSE),\"\")","v":""},{"$f":"IFERROR(VLOOKUP(A1074,'1.Портфель кредитів'!A:AB,14,FALSE),\"\")","v":""}]
[null,{"$f":"IFERROR(VLOOKUP(A1075,'1.Портфель кредитів'!A:AB,3,FALSE),\"\")","v":""},{"$f":"IFERROR(VLOOKUP(A1075,'1.Портфель кредитів'!A:AB,14,FALSE),\"\")","v":""}]
[null,{"$f":"IFERROR(VLOOKUP(A1076,'1.Портфель кредитів'!A:AB,3,FALSE),\"\")","v":""},{"$f":"IFERROR(VLOOKUP(A1076,'1.Портфель кредитів'!A:AB,14,FALSE),\"\")","v":""}]
[null,{"$f":"IFERROR(VLOOKUP(A1077,'1.Портфель кредитів'!A:AB,3,FALSE),\"\")","v":""},{"$f":"IFERROR(VLOOKUP(A1077,'1.Портфель кредитів'!A:AB,14,FALSE),\"\")","v":""}]
[null,{"$f":"IFERROR(VLOOKUP(A1078,'1.Портфель кредитів'!A:AB,3,FALSE),\"\")","v":""},{"$f":"IFERROR(VLOOKUP(A1078,'1.Портфель кредитів'!A:AB,14,FALSE),\"\")","v":""}]
[null,{"$f":"IFERROR(VLOOKUP(A1079,'1.Портфель кредитів'!A:AB,3,FALSE),\"\")","v":""},{"$f":"IFERROR(VLOOKUP(A1079,'1.Портфель кредитів'!A:AB,14,FALSE),\"\")","v":""}]
[null,{"$f":"IFERROR(VLOOKUP(A1080,'1.Портфель кредитів'!A:AB,3,FALSE),\"\")","v":""},{"$f":"IFERROR(VLOOKUP(A1080,'1.Портфель кредитів'!A:AB,14,FALSE),\"\")","v":""}]
[null,{"$f":"IFERROR(VLOOKUP(A1081,'1.Портфель кредитів'!A:AB,3,FALSE),\"\")","v":""},{"$f":"IFERROR(VLOOKUP(A1081,'1.Портфель кредитів'!A:AB,14,FALSE),\"\")","v":""}]
[null,{"$f":"IFERROR(VLOOKUP(A1082,'1.Портфель кредитів'!A:AB,3,FALSE),\"\")","v":""},{"$f":"IFERROR(VLOOKUP(A1082,'1.Портфель кредитів'!A:AB,14,FALSE),\"\")","v":""}]
[null,{"$f":"IFERROR(VLOOKUP(A1083,'1.Портфель кредитів'!A:AB,3,FALSE),\"\")","v":""},{"$f":"IFERROR(VLOOKUP(A1083,'1.Портфель кредитів'!A:AB,14,FALSE),\"\")","v":""}]
[null,{"$f":"IFERROR(VLOOKUP(A1084,'1.Портфель кредитів'!A:AB,3,FALSE),\"\")","v":""},{"$f":"IFERROR(VLOOKUP(A1084,'1.Портфель кредитів'!A:AB,14,FALSE),\"\")","v":""}]
[null,{"$f":"IFERROR(VLOOKUP(A1085,'1.Портфель кредитів'!A:AB,3,FALSE),\"\")","v":""},{"$f":"IFERROR(VLOOKUP(A1085,'1.Портфель кредитів'!A:AB,14,FALSE),\"\")","v":""}]
[null,{"$f":"IFERROR(VLOOKUP(A1086,'1.Портфель кредитів'!A:AB,3,FALSE),\"\")","v":""},{"$f":"IFERROR(VLOOKUP(A1086,'1.Портфель кредитів'!A:AB,14,FALSE),\"\")","v":""}]
[null,{"$f":"IFERROR(VLOOKUP(A1087,'1.Портфель кредитів'!A:AB,3,FALSE),\"\")","v":""},{"$f":"IFERROR(VLOOKUP(A1087,'1.Портфель кредитів'!A:AB,14,FALSE),\"\")","v":""}]
[null,{"$f":"IFERROR(VLOOKUP(A1088,'1.Портфель кредитів'!A:AB,3,FALSE),\"\")","v":""},{"$f":"IFERROR(VLOOKUP(A1088,'1.Портфель кредитів'!A:AB,14,FALSE),\"\")","v":""}]
[null,{"$f":"IFERROR(VLOOKUP(A1089,'1.Портфель кредитів'!A:AB,3,FALSE),\"\")","v":""},{"$f":"IFERROR(VLOOKUP(A1089,'1.Портфель кредитів'!A:AB,14,FALSE),\"\")","v":""}]
[null,{"$f":"IFERROR(VLOOKUP(A1090,'1.Портфель кредитів'!A:AB,3,FALSE),\"\")","v":""},{"$f":"IFERROR(VLOOKUP(A1090,'1.Портфель кредитів'!A:AB,14,FALSE),\"\")","v":""}]
[null,{"$f":"IFERROR(VLOOKUP(A1091,'1.Портфель кредитів'!A:AB,3,FALSE),\"\")","v":""},{"$f":"IFERROR(VLOOKUP(A1091,'1.Портфель кредитів'!A:AB,14,FALSE),\"\")","v":""}]
[null,{"$f":"IFERROR(VLOOKUP(A1092,'1.Портфель кредитів'!A:AB,3,FALSE),\"\")","v":""},{"$f":"IFERROR(VLOOKUP(A1092,'1.Портфель кредитів'!A:AB,14,FALSE),\"\")","v":""}]
[null,{"$f":"IFERROR(VLOOKUP(A1093,'1.Портфель кредитів'!A:AB,3,FALSE),\"\")","v":""},{"$f":"IFERROR(VLOOKUP(A1093,'1.Портфель кредитів'!A:AB,14,FALSE),\"\")","v":""}]

{"sheet":"3.ППР","index":2,"n_rows":1567,"n_cols":17,"rows_kept":1567,"cut":false,"hidden":false,"merged":[[968,0,968,16],[969,0,969,16],[970,0,970,16],[971,0,971,16],[6,7,6,9],[6,10,6,15],[6,16,7,16],[6,3,6,6],[0,1,3,15]]}
[null,"Цей документ був підготовлений Фондом гарантування вкладів фізичних осіб (далі – Фонд) виключно для інформаційних цілей і не повинен вважатися як спонукання до будь-яких дій чи бездіяльності. \nІнформація, що міститься в цьому документі, була отримана з/або ґрунтується на джерелах, які вважаються надійними, але не є вичерпною та не може сприйматися як повна або актуальна. Зокрема, але не виключно, станом на дату придбання активів допускаються несуттєві зміни лота, в складі якого продаються такі активи. Під несуттєвими змінами лота слід розуміти такі зміни характеристик активів у складі такого лота, які впливають на його балансову вартість, але не більше ніж на 10 відсотків. Рішення покупця щодо будь-яких дій або бездіяльності повинно ґрунтуватися на власних оцінках та дослідженнях майна (активу/активів), котре реалізується. Фонд не несе відповідальності за рішення покупця та його наслідки, що ґрунтується на інформації, викладеній в даному документі."]
[]
[]
[]
[]
[]
["unicid","Банк","№ кред. Дог","Розгляд справи у суді",null,null,null,"ДВС",null,null,"Банкрутство",null,null,null,null,null,"Кримінальне провадження за кредитною угодою\n(Так/Ні)"]
[null,null,null,"Предмет спору","Відповідач (позичальник/поручитель)","Дата надіслання вимоги / претензії","Дати звернення до суду","Дата провадження","Процесс (Так/Ні)","Реалізація майна (Так/Ні)","Дата провадження","Банк заявлений як кредитор (Так/Ні)","Банк внесенний в реєстр кредиторів (Так/Ні)","Дата визнання позичальника банкрутом","Дата визнання підприємства ліквідованим","Банкрутство фінансового поручителя"]
["380816__1","Банк Січ","203470-ГР-3581","стягнення заборгованості","Солідарно","2021-12-07","2021-12-24","-","НІ","НІ"]
["380816__1","Банк Січ","203470-ГР-3581","банкрутство","Позичальник",null,"2023-09-12","-",null,null,"2023-07-26","ТАК","ТАК"]
["380816__1","Банк Січ","203470-ГР-3581","інше","Поручитель",null,null,"-",null,null,null,null,null,null,null,null,"ТАК"]
["380816__1","Банк Січ","203470-ГР-3581","інше","Поручитель",null,null,"-"]
["380816__2","Банк Січ","203470-ГР-3582","стягнення заборгованості","Солідарно","2021-12-07","2021-12-24","-","НІ","НІ"]
["380816__2","Банк Січ","203470-ГР-3582","банкрутство","Позичальник",null,"2023-09-12","-",null,null,"2023-07-26","ТАК","ТАК"]
["380816__2","Банк Січ","203470-ГР-3582","інше","Поручитель",null,null,"-",null,null,null,null,null,null,null,null,"ТАК"]
["380816__3","Банк Січ","203570-ГР-2511","визнання зобов'язань недійсними","3-і особи",null,"2022-02-07","-","НІ","НІ"]
["380816__3","Банк Січ","203570-ГР-2511","стягнення заборгованості","Позичальник","2021-07-05","2021-08-13","-","НІ","НІ"]
["380816__4","Банк Січ","173/13","стягнення забезпечення","Позичальник",null,"2014-10-24","-"]
["380816__4","Банк Січ","173/13","стягнення заборгованості","Поручитель",null," 19.09.2014","-","НІ","НІ"]
["380816__5","Банк Січ","176/13","стягнення заборгованості","Поручитель",null,"  19.09.2014","-","НІ","НІ"]
["380816__6","Банк Січ","258/19  ","стягнення заборгованості","Позичальник","2022-10-07","2023-10-13","-","НІ","НІ"]
["380816__7","Банк Січ","246/19","стягнення заборгованості","Солідарно","2022-10-03","2023-10-13","-","НІ","НІ"]
["380816__8","Банк Січ","112/21","стягнення заборгованості","Позичальник","2022-12-14","2023-09-13","-","НІ","НІ"]
["380816__9","Банк Січ","463/21","стягнення заборгованості","Позичальник","2022-12-14","2023-09-13","-","НІ","НІ"]
["380816__10","Банк Січ","394/21","банкрутство","Поручитель","2022-12-16","2023-09-14","-","НІ","НІ","2023-07-18","ТАК","ТАК"]
["380816__10","Банк Січ","394/21","стягнення заборгованості","Солідарно",null,"2023-09-11","-"]
["380816__11","Банк Січ",26002001204450,"ППР не здійснюється"]
["380816__12","Банк Січ",26001002204450,"ППР не здійснюється"]
["380816__13","Банк Січ","104/13","стягнення заборгованості","Позичальник",null,"2018-08-13","2021-12-15","ТАК","НІ"]
["380816__13","Банк Січ","104/13","стягнення забезпечення","Позичальник",null,"2018-08-03","-","ТАК","ТАК"]
["380816__13","Банк Січ","104/13","стягнення забезпечення","Позичальник",null,"2018-08-03","-","ТАК","ТАК"]
["380816__13","Банк Січ","104/13","стягнення заборгованості","Позичальник",null,"2018-08-17","-","ТАК","ТАК"]
["380816__13","Банк Січ","104/13","інше","3-і особи",null,"2019-05-17","-","ТАК","ТАК"]
["380816__14","Банк Січ",26004010664,"ППР не здійснюється"]
["380816__15","Банк Січ","578/21","інше","3-і особи","2022-12-14","2023-10-02","-"]
["380816__16","Банк Січ","279/21","стягнення заборгованості","Солідарно","2012-12-16","2023-10-13","-"]
["380816__17","Банк Січ",26005001201795,"ППР не здійснюється"]
["380816__18","Банк Січ","179/22 ","інше","Позичальник","2012-12-16"]
["380816__19","Банк Січ",26005001206596,"ППР не здійснюється"]
["380816__20","Банк Січ"," 26000501206596/980/РКО","ППР не здійснюється"]
["380816__21","Банк Січ","200/21","стягнення заборгованості","Позичальник","2012-12-14","2023-10-11","-"]
["380816__22","Банк Січ",26002001205642,"ППР не здійснюється"]
["380816__23","Банк Січ","379/21","стягнення заборгованості","Позичальник","2012-12-14","2023-10-11","-"]
["380816__24","Банк Січ",26003001206543,"ППР не здійснюється"]
["380816__25","Банк Січ",34092020000011,"ППР не здійснюється"]
["380816__26","Банк Січ",34092020000012,"ППР не здійснюється"]
["380816__27","Банк Січ",34092020000013,"ППР не здійснюється"]
["380816__28","Банк Січ",34092020000014,"ППР не здійснюється"]
["380816__29","Банк Січ",34092020000015,"ППР не здійснюється"]
["380816__30","Банк Січ",34092020000016,"ППР не здійснюється"]
["380816__31","Банк Січ",34092020000017,"ППР не здійснюється"]
["380816__32","Банк Січ",34092020000018,"ППР не здійснюється"]
["380816__33","Банк Січ",34092020000019,"ППР не здійснюється"]
["380816__34","Банк Січ",34092020000110,"ППР не здійснюється"]
["380816__35","Банк Січ",34092020000111,"ППР не здійснюється"]
["380816__36","Банк Січ",34092020000112,"ППР не здійснюється"]
["380816__37","Банк Січ",34092020000113,"ППР не здійснюється"]
["380816__38","Банк Січ",34092020000114,"ППР не здійснюється"]
["380816__39","Банк Січ",34092020000115,"ППР не здійснюється"]
["380816__40","Банк Січ",34092020000116,"ППР не здійснюється"]
["380816__41","Банк Січ",34092020000117,"ППР не здійснюється"]
["380816__42","Банк Січ",34092020000118,"ППР не здійснюється"]
["380816__43","Банк Січ",34092020000119,"ППР не здійснюється"]
["380816__44","Банк Січ",34092020000120,"ППР не здійснюється"]
["380816__45","Банк Січ",34092020000121,"ППР не здійснюється"]
["380816__46","Банк Січ",34092020000122,"ППР не здійснюється"]
["380816__47","Банк Січ",34092020000123,"ППР не здійснюється"]
["380816__48","Банк Січ",34092020000124,"ППР не здійснюється"]
["380816__49","Банк Січ",34092020000125,"ППР не здійснюється"]
["380816__50","Банк Січ",34092020000126,"ППР не здійснюється"]
["380816__51","Банк Січ",34092020000127,"ППР не здійснюється"]
["380816__52","Банк Січ",34092020000128,"ППР не здійснюється"]
["380816__53","Банк Січ",34092020000129,"ППР не здійснюється"]
["380816__54","Банк Січ",34092020000130,"ППР не здійснюється"]
["380816__55","Банк Січ",34092020000131,"ППР не здійснюється"]
["380816__56","Банк Січ",34092020000132,"ППР не здійснюється"]
["380816__57","Банк Січ",34092020000133,"ППР не здійснюється"]
["380816__58","Банк Січ",34092020000134,"ППР не здійснюється"]
["380816__59","Банк Січ",34092020000135,"ППР не здійснюється"]
["380816__60","Банк Січ",34092020000136,"ППР не здійснюється"]
["380816__61","Банк Січ",34092020000137,"ППР не здійснюється"]
["380816__62","Банк Січ",34092020000138,"ППР не здійснюється"]
["380816__63","Банк Січ",34092020000139,"ППР не здійснюється"]
["380816__64","Банк Січ",34092020000140,"ППР не здійснюється"]
["380816__65","Банк Січ",34092020000141,"ППР не здійснюється"]
["380816__66","Банк Січ",34092020000142,"ППР не здійснюється"]
["380816__67","Банк Січ",34092020000143,"ППР не здійснюється"]
["380816__68","Банк Січ",34092020000144,"ППР не здійснюється"]
["380816__69","Банк Січ",34092020000145,"ППР не здійснюється"]
["380816__70","Банк Січ",34092020000146,"ППР не здійснюється"]
["380816__71","Банк Січ",34092020000147,"ППР не здійснюється"]
["380816__72","Банк Січ",34092020000148,"ППР не здійснюється"]
["380816__73","Банк Січ",34092020000149,"ППР не здійснюється"]
["380816__74","Банк Січ",34092020000150,"ППР не здійснюється"]
["380816__75","Банк Січ",34092020000151,"ППР не здійснюється"]
["380816__76","Банк Січ",34092020000152,"ППР не здійснюється"]
["380816__77","Банк Січ",34092020000153,"ППР не здійснюється"]
["380816__78","Банк Січ",34092020000154,"ППР не здійснюється"]
["380816__79","Банк Січ",34092020000155,"ППР не здійснюється"]
["380816__80","Банк Січ",34092020000156,"ППР не здійснюється"]
["380816__81","Банк Січ",34092020000157,"ППР не здійснюється"]
["380816__82","Банк Січ",34092020000158,"ППР не здійснюється"]
["380816__83","Банк Січ",34092020000159,"ППР не здійснюється"]
["380816__84","Банк Січ",34092020000160,"ППР не здійснюється"]
["380816__85","Банк Січ",34092020000161,"ППР не здійснюється"]
["380816__86","Банк Січ",34092020000162,"ППР не здійснюється"]
["380816__87","Банк Січ",34092020000163,"ППР не здійснюється"]
["380816__88","Банк Січ",34092020000164,"ППР не здійснюється"]
["380816__89","Банк Січ",34092020000165,"ППР не здійснюється"]
["380816__90","Банк Січ",34092020000166,"ППР не здійснюється"]
["380816__91","Банк Січ",34092020000167,"ППР не здійснюється"]
["380816__92","Банк Січ",34092020000168,"ППР не здійснюється"]
["380816__93","Банк Січ",34092020000169,"ППР не здійснюється"]
["380816__94","Банк Січ",34092020000170,"ППР не здійснюється"]
["380816__95","Банк Січ",34092020000171,"ППР не здійснюється"]
["380816__96","Банк Січ",34092020000172,"ППР не здійснюється"]
["380816__97","Банк Січ",34092020000173,"ППР не здійснюється"]
["380816__98","Банк Січ",34092020000174,"ППР не здійснюється"]
["380816__99","Банк Січ",34092020000175,"ППР не здійснюється"]
["380816__100","Банк Січ",34092020000176,"ППР не здійснюється"]
["380816__101","Банк Січ",34092020000177,"ППР не здійснюється"]
["380816__102","Банк Січ",34092020000178,"ППР не здійснюється"]
["380816__103","Банк Січ",34092020000179,"ППР не здійснюється"]
["380816__104","Банк Січ",34092020000180,"ППР не здійснюється"]
["380816__105","Банк Січ",34092020000181,"ППР не здійснюється"]
["380816__106","Банк Січ",34092020000182,"ППР не здійснюється"]
["380816__107","Банк Січ",34092020000183,"ППР не здійснюється"]
["380816__108","Банк Січ",34092020000184,"ППР не здійснюється"]
["380816__109","Банк Січ",34092020000185,"ППР не здійснюється"]
["380816__110","Банк Січ",34092020000186,"ППР не здійснюється"]
["380816__111","Банк Січ",34092020000187,"ППР не здійснюється"]
["380816__112","Банк Січ",34092020000188,"ППР не здійснюється"]
["380816__113","Банк Січ",34092020000189,"ППР не здійснюється"]
["380816__114","Банк Січ",34092020000190,"ППР не здійснюється"]
["380816__115","Банк Січ",34092020000191,"ППР не здійснюється"]
["380816__116","Банк Січ",34092020000192,"ППР не здійснюється"]
["380816__117","Банк Січ",34092020000193,"ППР не здійснюється"]
["380816__118","Банк Січ",34092020000194,"ППР не здійснюється"]
["380816__119","Банк Січ",34092020000195,"ППР не здійснюється"]
["380816__120","Банк Січ",34092020000196,"ППР не здійснюється"]
["380816__121","Банк Січ",34092020000197,"ППР не здійснюється"]
["380816__122","Банк Січ",34092020000198,"ППР не здійснюється"]
["380816__123","Банк Січ",34092020000199,"ППР не здійснюється"]
["380816__124","Банк Січ",34092020001100,"ППР не здійснюється"]
["380816__125","Банк Січ",34092020001101,"ППР не здійснюється"]
["380816__126","Банк Січ",34092020001102,"ППР не здійснюється"]
["380816__127","Банк Січ",34092020001103,"ППР не здійснюється"]
["380816__128","Банк Січ",34092020001104,"ППР не здійснюється"]
["380816__129","Банк Січ",34092020001105,"ППР не здійснюється"]
["380816__130","Банк Січ",34092020001106,"ППР не здійснюється"]
["380816__131","Банк Січ",34092020001107,"ППР не здійснюється"]
["380816__132","Банк Січ",34092020001108,"ППР не здійснюється"]
["380816__133","Банк Січ",34092020001109,"ППР не здійснюється"]
["380816__134","Банк Січ",34092020001110,"ППР не здійснюється"]
["380816__135","Банк Січ",34092020001111,"ППР не здійснюється"]
["380816__136","Банк Січ",34092020001112,"ППР не здійснюється"]
["380816__137","Банк Січ",34092020001113,"ППР не здійснюється"]
["380816__138","Банк Січ",34092020001114,"ППР не здійснюється"]
["380816__139","Банк Січ",34092020001115,"ППР не здійснюється"]
["380816__140","Банк Січ",34092020001116,"ППР не здійснюється"]
["380816__141","Банк Січ",34092020001117,"ППР не здійснюється"]
["380816__142","Банк Січ",34092020001118,"ППР не здійснюється"]
["380816__143","Банк Січ",34092020001119,"ППР не здійснюється"]
["380816__144","Банк Січ",34092020001120,"ППР не здійснюється"]
["380816__145","Банк Січ",34092020001121,"ППР не здійснюється"]
["380816__146","Банк Січ",34092020001122,"ППР не здійснюється"]
["380816__147","Банк Січ",34092020001123,"ППР не здійснюється"]
["380816__148","Банк Січ",34092020001124,"ППР не здійснюється"]
["380816__149","Банк Січ",34092020001125,"ППР не здійснюється"]
["380816__150","Банк Січ",34092020001126,"ППР не здійснюється"]
["380816__151","Банк Січ",34092020001127,"ППР не здійснюється"]
["380816__152","Банк Січ",34092020001128,"ППР не здійснюється"]
["380816__153","Банк Січ",34092020001129,"ППР не здійснюється"]
["380816__154","Банк Січ",34092020001130,"ППР не здійснюється"]
["380816__155","Банк Січ",34092020001131,"ППР не здійснюється"]
["380816__156","Банк Січ",34092020001132,"ППР не здійснюється"]
["380816__157","Банк Січ",34092020001133,"ППР не здійснюється"]
["380816__158","Банк Січ",34092020001134,"ППР не здійснюється"]
["380816__159","Банк Січ",34092020001135,"ППР не здійснюється"]
["380816__160","Банк Січ",34092020001136,"ППР не здійснюється"]
["380816__161","Банк Січ",34092020001137,"ППР не здійснюється"]
["380816__162","Банк Січ",34092020001138,"ППР не здійснюється"]
["380816__163","Банк Січ",34092020001139,"ППР не здійснюється"]
["380816__164","Банк Січ",34092020001140,"ППР не здійснюється"]
["380816__165","Банк Січ",34092020001141,"ППР не здійснюється"]
["380816__166","Банк Січ",34092020001142,"ППР не здійснюється"]
["380816__167","Банк Січ",34092020001143,"ППР не здійснюється"]
["380816__168","Банк Січ",34092020001144,"ППР не здійснюється"]
["380816__169","Банк Січ",34092020001145,"ППР не здійснюється"]
["380816__170","Банк Січ",34092020001146,"ППР не здійснюється"]
["380816__171","Банк Січ",34092020001147,"ППР не здійснюється"]
["380816__172","Банк Січ",34092020001148,"ППР не здійснюється"]
["380816__173","Банк Січ",34092020001149,"ППР не здійснюється"]
["380816__174","Банк Січ",34092020001150,"ППР не здійснюється"]
["380816__175","Банк Січ",34092020001151,"ППР не здійснюється"]
["380816__176","Банк Січ",34092020001152,"ППР не здійснюється"]
["380816__177","Банк Січ",34092020001153,"ППР не здійснюється"]
["380816__178","Банк Січ",34092020001154,"ППР не здійснюється"]
["380816__179","Банк Січ",34092020001155,"ППР не здійснюється"]
["380816__180","Банк Січ",34092020001156,"ППР не здійснюється"]
["380816__181","Банк Січ",34092020001157,"ППР не здійснюється"]
["380816__182","Банк Січ",34092020001158,"ППР не здійснюється"]
["380816__183","Банк Січ",34092020001159,"ППР не здійснюється"]
["380816__184","Банк Січ",34092020001160,"ППР не здійснюється"]
["380816__185","Банк Січ",34092020001161,"ППР не здійснюється"]
["380816__186","Банк Січ",34092020001162,"ППР не здійснюється"]
["380816__187","Банк Січ",34092020001163,"ППР не здійснюється"]
["380816__188","Банк Січ",34092020001164,"ППР не здійснюється"]
["380816__189","Банк Січ",34092020001165,"ППР не здійснюється"]
["380816__190","Банк Січ",34092020001166,"ППР не здійснюється"]
["380816__191","Банк Січ",34092020001167,"ППР не здійснюється"]
["380816__192","Банк Січ",34092020001168,"ППР не здійснюється"]
["380816__193","Банк Січ",34092020001169,"ППР не здійснюється"]
["380816__194","Банк Січ",34092020001170,"ППР не здійснюється"]
["380816__195","Банк Січ",34092020001171,"ППР не здійснюється"]
["380816__196","Банк Січ",34092020001172,"ППР не здійснюється"]
["380816__197","Банк Січ",34092020001173,"ППР не здійснюється"]
["380816__198","Банк Січ",34092020001174,"ППР не здійснюється"]
["380816__199","Банк Січ",34092020001175,"ППР не здійснюється"]
["380816__200","Банк Січ",34092020001176,"ППР не здійснюється"]
["380816__201","Банк Січ",34092020001177,"ППР не здійснюється"]
["380816__202","Банк Січ",34092020001178,"ППР не здійснюється"]
["380816__203","Банк Січ",34092020001179,"ППР не здійснюється"]
["380816__204","Банк Січ",34092020001180,"ППР не здійснюється"]
["380816__205","Банк Січ",34092020001181,"ППР не здійснюється"]
["380816__206","Банк Січ",34092020001182,"ППР не здійснюється"]
["380816__207","Банк Січ",34092020001183,"ППР не здійснюється"]
["380816__208","Банк Січ",34092020001184,"ППР не здійснюється"]
["380816__209","Банк Січ",34092020001185,"ППР не здійснюється"]
["380816__210","Банк Січ",34092020001186,"ППР не здійснюється"]
["380816__211","Банк Січ",34092020001187,"ППР не здійснюється"]
["380816__212","Банк Січ",34092020001188,"ППР не здійснюється"]
["380816__213","Банк Січ",34092020001189,"ППР не здійснюється"]
["380816__214","Банк Січ",34092020001190,"ППР не здійснюється"]
["380816__215","Банк Січ",34092020001191,"ППР не здійснюється"]
["380816__216","Банк Січ",34092020001192,"ППР не здійснюється"]
["380816__217","Банк Січ",34092020001193,"ППР не здійснюється"]
["380816__218","Банк Січ",34092020001194,"ППР не здійснюється"]
["380816__219","Банк Січ",34092020001195,"ППР не здійснюється"]
["380816__220","Банк Січ",34092020001196,"ППР не здійснюється"]
["380816__221","Банк Січ",34092020001197,"ППР не здійснюється"]
["380816__222","Банк Січ",34092020001198,"ППР не здійснюється"]
["380816__223","Банк Січ",34092020001199,"ППР не здійснюється"]
["380816__224","Банк Січ",34092020001200,"ППР не здійснюється"]
["380816__225","Банк Січ",34092020001201,"ППР не здійснюється"]
["380816__226","Банк Січ",34092020001202,"ППР не здійснюється"]
["380816__227","Банк Січ",34092020001203,"ППР не здійснюється"]
["380816__228","Банк Січ",34092020001204,"ППР не здійснюється"]
["380816__229","Банк Січ",34092020001205,"ППР не здійснюється"]
["380816__230","Банк Січ",34092020001206,"ППР не здійснюється"]
["380816__231","Банк Січ",34092020001207,"ППР не здійснюється"]
["380816__232","Банк Січ",34092020001208,"ППР не здійснюється"]
["380816__233","Банк Січ",34092020001209,"ППР не здійснюється"]
["380816__234","Банк Січ",34092020001210,"ППР не здійснюється"]
["380816__235","Банк Січ",34092020001211,"ППР не здійснюється"]
["380816__236","Банк Січ",34092020001212,"ППР не здійснюється"]
["380816__237","Банк Січ",34092020001213,"ППР не здійснюється"]
["380816__238","Банк Січ",34092020001214,"ППР не здійснюється"]
["380816__239","Банк Січ",34092020001215,"ППР не здійснюється"]
["380816__240","Банк Січ",34092020001216,"ППР не здійснюється"]
["380816__241","Банк Січ",34092020001217,"ППР не здійснюється"]
["380816__242","Банк Січ",34092020001218,"ППР не здійснюється"]
["380816__243","Банк Січ",34092020001219,"ППР не здійснюється"]
["380816__244","Банк Січ",34092020001220,"ППР не здійснюється"]
["380816__245","Банк Січ",34092020001221,"ППР не здійснюється"]
["380816__246","Банк Січ",34092020001222,"ППР не здійснюється"]
["380816__247","Банк Січ",34092020001223,"ППР не здійснюється"]
["380816__248","Банк Січ",34092020001224,"ППР не здійснюється"]
["380816__249","Банк Січ",34092020001225,"ППР не здійснюється"]
["380816__250","Банк Січ",34092020001226,"ППР не здійснюється"]
["380816__251","Банк Січ",34092020001227,"ППР не здійснюється"]
["380816__252","Банк Січ",34092020001228,"ППР не здійснюється"]
["380816__253","Банк Січ",34092020001229,"ППР не здійснюється"]
["380816__254","Банк Січ",34092020001230,"ППР не здійснюється"]
["380816__255","Банк Січ",34092020001231,"ППР не здійснюється"]
["380816__256","Банк Січ",34092020001232,"ППР не здійснюється"]
["380816__257","Банк Січ",34092020001233,"ППР не здійснюється"]
["380816__258","Банк Січ",34092020001234,"ППР не здійснюється"]
["380816__259","Банк Січ",34092020001235,"ППР не здійснюється"]
["380816__260","Банк Січ",34092020001236,"ППР не здійснюється"]
["380816__261","Банк Січ",34092020001237,"ППР не здійснюється"]
["380816__262","Банк Січ",34092020001238,"ППР не здійснюється"]
["380816__263","Банк Січ",34092020001239,"ППР не здійснюється"]
["380816__264","Банк Січ",34092020001240,"ППР не здійснюється"]
["380816__265","Банк Січ",34092020001241,"ППР не здійснюється"]
["380816__266","Банк Січ",34092020001242,"ППР не здійснюється"]
["380816__267","Банк Січ",34092020001243,"ППР не здійснюється"]
["380816__268","Банк Січ",34092020001244,"ППР не здійснюється"]
["380816__269","Банк Січ",34092020001245,"ППР не здійснюється"]
["380816__270","Банк Січ",34092020001246,"ППР не здійснюється"]
["380816__271","Банк Січ",34092020001247,"ППР не здійснюється"]
["380816__272","Банк Січ",34092020001248,"ППР не здійснюється"]
["380816__273","Банк Січ",34092020001249,"ППР не здійснюється"]
["380816__274","Банк Січ",34092020001250,"ППР не здійснюється"]
["380816__275","Банк Січ",34092020001251,"ППР не здійснюється"]
["380816__276","Банк Січ",34092020001252,"ППР не здійснюється"]
["380816__277","Банк Січ",34092020001253,"ППР не здійснюється"]
["380816__278","Банк Січ",34092020001254,"ППР не здійснюється"]
["380816__279","Банк Січ",34092020001255,"ППР не здійснюється"]
["380816__280","Банк Січ",34092020001256,"ППР не здійснюється"]
["380816__281","Банк Січ",34092020001257,"ППР не здійснюється"]
["380816__282","Банк Січ",34092020001258,"ППР не здійснюється"]
["380816__283","Банк Січ",34092020001259,"ППР не здійснюється"]
["380816__284","Банк Січ",34092020001260,"ППР не здійснюється"]
["380816__285","Банк Січ",34092020001261,"ППР не здійснюється"]
["380816__286","Банк Січ",34092020001262,"ППР не здійснюється"]
["380816__287","Банк Січ",34092020001263,"ППР не здійснюється"]
["380816__288","Банк Січ",34092020001264,"ППР не здійснюється"]
["380816__289","Банк Січ",34092020001265,"ППР не здійснюється"]
["380816__290","Банк Січ",34092020001266,"ППР не здійснюється"]
["380816__291","Банк Січ",34092020001267,"ППР не здійснюється"]
["380816__292","Банк Січ",34092020001268,"ППР не здійснюється"]
["380816__293","Банк Січ",34092020001269,"ППР не здійснюється"]
["380816__294","Банк Січ",34092020001270,"ППР не здійснюється"]
["380816__295","Банк Січ",34092020001271,"ППР не здійснюється"]
["380816__296","Банк Січ",34092020001272,"ППР не здійснюється"]
["380816__297","Банк Січ",34092020001273,"ППР не здійснюється"]
["380816__298","Банк Січ",34092020001274,"ППР не здійснюється"]
["380816__299","Банк Січ",34092020001275,"ППР не здійснюється"]
["380816__300","Банк Січ",34092020001276,"ППР не здійснюється"]
["380816__301","Банк Січ",34092020001277,"ППР не здійснюється"]
["380816__302","Банк Січ",34092020001278,"ППР не здійснюється"]
["380816__303","Банк Січ",34092020001279,"ППР не здійснюється"]
["380816__304","Банк Січ",34092020001280,"ППР не здійснюється"]
["380816__305","Банк Січ",34092020001281,"ППР не здійснюється"]
["380816__306","Банк Січ",34092020001282,"ППР не здійснюється"]
["380816__307","Банк Січ",34092020001283,"ППР не здійснюється"]
["380816__308","Банк Січ",34092020001284,"ППР не здійснюється"]
["380816__309","Банк Січ",34092020001285,"ППР не здійснюється"]
["380816__310","Банк Січ",34092020001286,"ППР не здійснюється"]
["380816__311","Банк Січ",34092020001287,"ППР не здійснюється"]
["380816__312","Банк Січ",34092020001288,"ППР не здійснюється"]
["380816__313","Банк Січ",34092020001289,"ППР не здійснюється"]
["380816__314","Банк Січ",34092020001290,"ППР не здійснюється"]
["380816__315","Банк Січ",34092020001291,"ППР не здійснюється"]
["380816__316","Банк Січ",34092020001292,"ППР не здійснюється"]
["380816__317","Банк Січ",34092020001293,"ППР не здійснюється"]
["380816__318","Банк Січ",34092020001294,"ППР не здійснюється"]
["380816__319","Банк Січ",34092020001295,"ППР не здійснюється"]
["380816__320","Банк Січ",34092020001296,"ППР не здійснюється"]
["380816__321","Банк Січ",34092020001297,"ППР не здійснюється"]
["380816__322","Банк Січ",34092020001298,"ППР не здійснюється"]
["380816__323","Банк Січ",34092020001299,"ППР не здійснюється"]
["380816__324","Банк Січ",34092020001300,"ППР не здійснюється"]
["380816__325","Банк Січ",34092020001301,"ППР не здійснюється"]
["380816__326","Банк Січ",34092020001302,"ППР не здійснюється"]
["380816__327","Банк Січ",34092020001303,"ППР не здійснюється"]
["380816__328","Банк Січ",34092020001304,"ППР не здійснюється"]
["380816__329","Банк Січ",34092020001305,"ППР не здійснюється"]
["380816__330","Банк Січ",34092020001306,"ППР не здійснюється"]
["380816__331","Банк Січ",34092020001307,"ППР не здійснюється"]
["380816__332","Банк Січ",34092020001308,"ППР не здійснюється"]
["380816__333","Банк Січ",34092020001309,"ППР не здійснюється"]
["380816__334","Банк Січ",34092020001310,"ППР не здійснюється"]
["380816__335","Банк Січ",34092020001311,"ППР не здійснюється"]
["380816__336","Банк Січ",34092020001312,"ППР не здійснюється"]
["380816__337","Банк Січ",34092020001313,"ППР не здійснюється"]
["380816__338","Банк Січ",34092020001314,"ППР не здійснюється"]
["380816__339","Банк Січ",34092020001315,"ППР не здійснюється"]
["380816__340","Банк Січ",34092020001316,"ППР не здійснюється"]
["380816__341","Банк Січ",34092020001317,"ППР не здійснюється"]
["380816__342","Банк Січ",34092020001318,"ППР не здійснюється"]
["380816__343","Банк Січ",34092020001319,"ППР не здійснюється"]
["380816__344","Банк Січ",34092020001320,"ППР не здійснюється"]
["380816__345","Банк Січ",34092020001321,"ППР не здійснюється"]
["380816__346","Банк Січ",34092020001322,"ППР не здійснюється"]
["380816__347","Банк Січ",34092020001323,"ППР не здійснюється"]
["380816__348","Банк Січ",34092020001324,"ППР не здійснюється"]
["380816__349","Банк Січ",34092020001325,"ППР не здійснюється"]
["380816__350","Банк Січ",34092020001326,"ППР не здійснюється"]
["380816__351","Банк Січ",34092020001327,"ППР не здійснюється"]
["380816__352","Банк Січ",34092020001328,"ППР не здійснюється"]
["380816__353","Банк Січ",34092020001329,"ППР не здійснюється"]
["380816__354","Банк Січ",34092020001330,"ППР не здійснюється"]
["380816__355","Банк Січ",34092020001331,"ППР не здійснюється"]
["380816__356","Банк Січ",34092020001332,"ППР не здійснюється"]
["380816__357","Банк Січ",34092020001333,"ППР не здійснюється"]
["380816__358","Банк Січ",34092020001334,"ППР не здійснюється"]
["380816__359","Банк Січ",34092020001335,"ППР не здійснюється"]
["380816__360","Банк Січ",34092020001336,"ППР не здійснюється"]
["380816__361","Банк Січ",34092020001337,"ППР не здійснюється"]
["380816__362","Банк Січ",34092020001338,"ППР не здійснюється"]
["380816__363","Банк Січ",34092020001339,"ППР не здійснюється"]
["380816__364","Банк Січ",34092020001340,"ППР не здійснюється"]
["380816__365","Банк Січ",34092020001341,"ППР не здійснюється"]
["380816__366","Банк Січ",34092020001342,"ППР не здійснюється"]
["380816__367","Банк Січ",34092020001343,"ППР не здійснюється"]
["380816__368","Банк Січ",34092020001344,"ППР не здійснюється"]
["380816__369","Банк Січ",34092020001345,"ППР не здійснюється"]
["380816__370","Банк Січ",34092020001346,"ППР не здійснюється"]
["380816__371","Банк Січ",34092020001347,"ППР не здійснюється"]
["380816__372","Банк Січ",34092020001348,"ППР не здійснюється"]
["380816__373","Банк Січ",34092020001349,"ППР не здійснюється"]
["380816__374","Банк Січ",34092020001350,"ППР не здійснюється"]
["380816__375","Банк Січ",34092020001351,"ППР не здійснюється"]
["380816__376","Банк Січ",34092020001352,"ППР не здійснюється"]
["380816__377","Банк Січ",34092020001353,"ППР не здійснюється"]
["380816__378","Банк Січ",34092020001354,"ППР не здійснюється"]
["380816__379","Банк Січ",34092020001355,"ППР не здійснюється"]
["380816__380","Банк Січ",34092020001356,"ППР не здійснюється"]
["380816__381","Банк Січ",34092020001357,"ППР не здійснюється"]
["380816__382","Банк Січ",34092020001358,"ППР не здійснюється"]
["380816__383","Банк Січ",34092020001359,"ППР не здійснюється"]
["380816__384","Банк Січ",34092020001360,"ППР не здійснюється"]
["380816__385","Банк Січ",34092020001361,"ППР не здійснюється"]
["380816__386","Банк Січ",34092020001362,"ППР не здійснюється"]
["380816__387","Банк Січ",34092020001363,"ППР не здійснюється"]
["380816__388","Банк Січ",34092020001364,"ППР не здійснюється"]
["380816__389","Банк Січ",34092020001365,"ППР не здійснюється"]
["380816__390","Банк Січ",34092020001366,"ППР не здійснюється"]
["380816__391","Банк Січ",34092020001367,"ППР не здійснюється"]
["380816__392","Банк Січ",34092020001368,"ППР не здійснюється"]
["380816__393","Банк Січ",34092020001369,"ППР не здійснюється"]
["380816__394","Банк Січ",34092020001370,"ППР не здійснюється"]
["380816__395","Банк Січ",34092020001371,"ППР не здійснюється"]
["380816__396","Банк Січ",34092020001372,"ППР не здійснюється"]
["380816__397","Банк Січ",34092020001373,"ППР не здійснюється"]
["380816__398","Банк Січ",34092020001374,"ППР не здійснюється"]
["380816__399","Банк Січ",34092020001375,"ППР не здійснюється"]
["380816__400","Банк Січ",34092020001376,"ППР не здійснюється"]
["380816__401","Банк Січ",34092020001377,"ППР не здійснюється"]
["380816__402","Банк Січ",34092020001378,"ППР не здійснюється"]
["380816__403","Банк Січ",34092020001379,"ППР не здійснюється"]
["380816__404","Банк Січ",34092020001380,"ППР не здійснюється"]
["380816__405","Банк Січ",34092020001381,"ППР не здійснюється"]
["380816__406","Банк Січ",34092020001382,"ППР не здійснюється"]
["380816__407","Банк Січ",34092020001383,"ППР не здійснюється"]
["380816__408","Банк Січ",34092020001384,"ППР не здійснюється"]
["380816__409","Банк Січ",34092020001385,"ППР не здійснюється"]
["380816__410","Банк Січ",34092020001386,"ППР не здійснюється"]
["380816__411","Банк Січ",34092020001387,"ППР не здійснюється"]
["380816__412","Банк Січ",34092020001388,"ППР не здійснюється"]
["380816__413","Банк Січ",34092020001389,"ППР не здійснюється"]
["380816__414","Банк Січ",34092020001390,"ППР не здійснюється"]
["380816__415","Банк Січ",34092020001391,"ППР не здійснюється"]
["380816__416","Банк Січ",34092020001392,"ППР не здійснюється"]
["380816__417","Банк Січ",34092020001393,"ППР не здійснюється"]
["380816__418","Банк Січ",34092020001394,"ППР не здійснюється"]
["380816__419","Банк Січ",34092020001395,"ППР не здійснюється"]
["380816__420","Банк Січ",34092020001396,"ППР не здійснюється"]
["380816__421","Банк Січ",34092020001397,"ППР не здійснюється"]
["380816__422","Банк Січ",34092020001398,"ППР не здійснюється"]
["380816__423","Банк Січ",34092020001399,"ППР не здійснюється"]
["380816__424","Банк Січ",34092020001400,"ППР не здійснюється"]
["380816__425","Банк Січ",34092020001401,"ППР не здійснюється"]
["380816__426","Банк Січ",34092020001402,"ППР не здійснюється"]
["380816__427","Банк Січ",34092020001403,"ППР не здійснюється"]
["380816__428","Банк Січ",34092020001404,"ППР не здійснюється"]
["380816__429","Банк Січ",34092020001405,"ППР не здійснюється"]
["380816__430","Банк Січ",34092020001406,"ППР не здійснюється"]
["380816__431","Банк Січ",34092020001407,"ППР не здійснюється"]
["380816__432","Банк Січ",34092020001408,"ППР не здійснюється"]
["380816__433","Банк Січ",34092020001409,"ППР не здійснюється"]
["380816__434","Банк Січ",34092020001410,"ППР не здійснюється"]
["380816__435","Банк Січ",34092020001411,"ППР не здійснюється"]
["380816__436","Банк Січ",34092020001412,"ППР не здійснюється"]
["380816__437","Банк Січ",34092020001413,"ППР не здійснюється"]
["380816__438","Банк Січ",34092020001414,"ППР не здійснюється"]
["380816__439","Банк Січ",34092020001415,"ППР не здійснюється"]
["380816__440","Банк Січ",34092020001416,"ППР не здійснюється"]
["380816__441","Банк Січ",34092020001417,"ППР не здійснюється"]
["380816__442","Банк Січ",34092020001418,"ППР не здійснюється"]
["380816__443","Банк Січ",34092020001419,"ППР не здійснюється"]
["380816__444","Банк Січ",34092020001420,"ППР не здійснюється"]
["380816__445","Банк Січ",34092020001421,"ППР не здійснюється"]
["380816__446","Банк Січ",34092020001422,"ППР не здійснюється"]
["380816__447","Банк Січ",34092020001423,"ППР не здійснюється"]
["380816__448","Банк Січ",34092020001424,"ППР не здійснюється"]
["380816__449","Банк Січ",34092020001425,"ППР не здійснюється"]
["380816__450","Банк Січ",34092020001426,"ППР не здійснюється"]
["380816__451","Банк Січ",34092020001427,"ППР не здійснюється"]
["380816__452","Банк Січ",34092020001428,"ППР не здійснюється"]
["380816__453","Банк Січ",34092020001429,"ППР не здійснюється"]
["380816__454","Банк Січ",34092020001430,"ППР не здійснюється"]
["380816__455","Банк Січ",34092020001431,"ППР не здійснюється"]
["380816__456","Банк Січ",34092020001432,"ППР не здійснюється"]
["380816__457","Банк Січ",34092020001433,"ППР не здійснюється"]
["380816__458","Банк Січ",34092020001434,"ППР не здійснюється"]
["380816__459","Банк Січ",34092020001435,"ППР не здійснюється"]
["380816__460","Банк Січ",34092020001436,"ППР не здійснюється"]
["380816__461","Банк Січ",34092020001437,"ППР не здійснюється"]
["380816__462","Банк Січ",34092020001438,"ППР не здійснюється"]
["380816__463","Банк Січ",34092020001439,"ППР не здійснюється"]
["380816__464","Банк Січ",34092020001440,"ППР не здійснюється"]
["380816__465","Банк Січ",34092020001441,"ППР не здійснюється"]
["380816__466","Банк Січ",34092020001442,"ППР не здійснюється"]
["380816__467","Банк Січ",34092020001443,"ППР не здійснюється"]
["380816__468","Банк Січ",34092020001444,"ППР не здійснюється"]
["380816__469","Банк Січ",34092020001445,"ППР не здійснюється"]
["380816__470","Банк Січ",34092020001446,"ППР не здійснюється"]
["380816__471","Банк Січ",34092020001447,"ППР не здійснюється"]
["380816__472","Банк Січ",34092020001448,"ППР не здійснюється"]
["380816__473","Банк Січ",34092020001449,"ППР не здійснюється"]
["380816__474","Банк Січ",34092020001450,"ППР не здійснюється"]
["380816__475","Банк Січ",34092020001451,"ППР не здійснюється"]
["380816__476","Банк Січ",34092020001452,"ППР не здійснюється"]
["380816__477","Банк Січ",34092020001453,"ППР не здійснюється"]
["380816__478","Банк Січ",34092020001454,"ППР не здійснюється"]
["380816__479","Банк Січ",34092020001455,"ППР не здійснюється"]
["380816__480","Банк Січ",34092020001456,"ППР не здійснюється"]
["380816__481","Банк Січ",34092020001457,"ППР не здійснюється"]
["380816__482","Банк Січ",34092020001458,"ППР не здійснюється"]
["380816__483","Банк Січ",34092020001459,"ППР не здійснюється"]
["380816__484","Банк Січ",34092020001460,"ППР не здійснюється"]
["380816__485","Банк Січ",34092020001461,"ППР не здійснюється"]
["380816__486","Банк Січ",34092020001462,"ППР не здійснюється"]
["380816__487","Банк Січ",34092020001463,"ППР не здійснюється"]
["380816__488","Банк Січ",34092020001464,"ППР не здійснюється"]
["380816__489","Банк Січ",34092020001465,"ППР не здійснюється"]
["380816__490","Банк Січ",34092020001466,"ППР не здійснюється"]
["380816__491","Банк Січ",34092020001467,"ППР не здійснюється"]
["380816__492","Банк Січ",34092020001468,"ППР не здійснюється"]
["380816__493","Банк Січ",34092020001469,"ППР не здійснюється"]
["380816__494","Банк Січ",34092020001470,"ППР не здійснюється"]
["380816__495","Банк Січ",34092020001471,"ППР не здійснюється"]
["380816__496","Банк Січ",34092020001472,"ППР не здійснюється"]
["380816__497","Банк Січ",34092020001473,"ППР не здійснюється"]
["380816__498","Банк Січ",34092020001474,"ППР не здійснюється"]
["380816__499","Банк Січ",34092020001475,"ППР не здійснюється"]
["380816__500","Банк Січ",34092020001476,"ППР не здійснюється"]
["380816__501","Банк Січ",34092020001477,"ППР не здійснюється"]
["380816__502","Банк Січ",34092020001478,"ППР не здійснюється"]
["380816__503","Банк Січ",34092020001479,"ППР не здійснюється"]
["380816__504","Банк Січ",34092020001480,"ППР не здійснюється"]
["380816__505","Банк Січ",34092020001481,"ППР не здійснюється"]
["380816__506","Банк Січ",34092020001482,"ППР не здійснюється"]
["380816__507","Банк Січ",34092020001483,"ППР не здійснюється"]
["380816__508","Банк Січ",34092020001484,"ППР не здійснюється"]
["380816__509","Банк Січ",34092020001485,"ППР не здійснюється"]
["380816__510","Банк Січ",34092020001486,"ППР не здійснюється"]
["380816__511","Банк Січ",34092020001487,"ППР не здійснюється"]
["380816__512","Банк Січ",34092020001488,"ППР не здійснюється"]
["380816__513","Банк Січ",34092020001489,"ППР не здійснюється"]
["380816__514","Банк Січ",34092020001490,"ППР не здійснюється"]
["380816__515","Банк Січ",34092020001491,"ППР не здійснюється"]
["380816__516","Банк Січ",34092020001492,"ППР не здійснюється"]
["380816__517","Банк Січ",34092020001493,"ППР не здійснюється"]
["380816__518","Банк Січ",34092020001494,"ППР не здійснюється"]
["380816__519","Банк Січ",34092020001495,"ППР не здійснюється"]
["380816__520","Банк Січ",34092020001496,"ППР не здійснюється"]
["380816__521","Банк Січ",34092020001497,"ППР не здійснюється"]
["380816__522","Банк Січ",34092020001498,"ППР не здійснюється"]
["380816__523","Банк Січ",34092020001499,"ППР не здійснюється"]
["380816__524","Банк Січ",34092020001500,"ППР не здійснюється"]
["380816__525","Банк Січ",34092020001501,"ППР не здійснюється"]
["380816__526","Банк Січ",34092020001502,"ППР не здійснюється"]
["380816__527","Банк Січ",34092020001503,"ППР не здійснюється"]
["380816__528","Банк Січ",34092020001504,"ППР не здійснюється"]
["380816__529","Банк Січ",34092020001505,"ППР не здійснюється"]
["380816__530","Банк Січ",34092020001506,"ППР не здійснюється"]
["380816__531","Банк Січ",34092020001507,"ППР не здійснюється"]
["380816__532","Банк Січ",34092020001508,"ППР не здійснюється"]
["380816__533","Банк Січ",34092020001509,"ППР не здійснюється"]
["380816__534","Банк Січ",34092020001510,"ППР не здійснюється"]
["380816__535","Банк Січ",34092020001511,"ППР не здійснюється"]
["380816__536","Банк Січ",34092020001512,"ППР не здійснюється"]
["380816__537","Банк Січ",34092020001513,"ППР не здійснюється"]
["380816__538","Банк Січ",34092020001514,"ППР не здійснюється"]
["380816__539","Банк Січ",34092020001515,"ППР не здійснюється"]
["380816__540","Банк Січ",34092020001516,"ППР не здійснюється"]
["380816__541","Банк Січ",34092020001517,"ППР не здійснюється"]
["380816__542","Банк Січ",34092020001518,"ППР не здійснюється"]
["380816__543","Банк Січ",34092020001519,"ППР не здійснюється"]
["380816__544","Банк Січ",34092020001520,"ППР не здійснюється"]
["380816__545","Банк Січ",34092020001521,"ППР не здійснюється"]
["380816__546","Банк Січ",34092020001522,"ППР не здійснюється"]
["380816__547","Банк Січ",34092020001523,"ППР не здійснюється"]
["380816__548","Банк Січ",34092020001524,"ППР не здійснюється"]
["380816__549","Банк Січ",34092020001525,"ППР не здійснюється"]
["380816__550","Банк Січ",34092020001526,"ППР не здійснюється"]
["380816__551","Банк Січ",34092020001527,"ППР не здійснюється"]
["380816__552","Банк Січ",34092020001528,"ППР не здійснюється"]
["380816__553","Банк Січ",34092020001529,"ППР не здійснюється"]
["380816__554","Банк Січ",34092020001530,"ППР не здійснюється"]
["380816__555","Банк Січ",34092020001531,"ППР не здійснюється"]
["380816__556","Банк Січ",34092020001532,"ППР не здійснюється"]
["380816__557","Банк Січ",34092020001533,"ППР не здійснюється"]
["380816__558","Банк Січ",34092020001534,"ППР не здійснюється"]
["380816__559","Банк Січ",34092020001535,"ППР не здійснюється"]
["380816__560","Банк Січ",34092020001536,"ППР не здійснюється"]
["380816__561","Банк Січ",34092020001537,"ППР не здійснюється"]
["380816__562","Банк Січ",34092020001538,"ППР не здійснюється"]
["380816__563","Банк Січ",34092020001539,"ППР не здійснюється"]
["380816__564","Банк Січ",34092020001540,"ППР не здійснюється"]
["380816__565","Банк Січ",34092020001541,"ППР не здійснюється"]
["380816__566","Банк Січ",34092020001542,"ППР не здійснюється"]
["380816__567","Банк Січ",34092020001543,"ППР не здійснюється"]
["380816__568","Банк Січ",34092020001544,"ППР не здійснюється"]
["380816__569","Банк Січ",34092020001545,"ППР не здійснюється"]
["380816__570","Банк Січ",34092020001546,"ППР не здійснюється"]
["380816__571","Банк Січ",34092020001547,"ППР не здійснюється"]
["380816__572","Банк Січ",34092020001548,"ППР не здійснюється"]
["380816__573","Банк Січ",34092020001549,"ППР не здійснюється"]
["380816__574","Банк Січ",34092020001550,"ППР не здійснюється"]
["380816__575","Банк Січ",34092020001551,"ППР не здійснюється"]
["380816__576","Банк Січ",34092020001552,"ППР не здійснюється"]
["380816__577","Банк Січ",34092020001553,"ППР не здійснюється"]
["380816__578","Банк Січ",34092020001554,"ППР не здійснюється"]
["380816__579","Банк Січ",34092020001555,"ППР не здійснюється"]
["380816__580","Банк Січ",34092020001556,"ППР не здійснюється"]
["380816__581","Банк Січ",34092020001557,"ППР не здійснюється"]
["380816__582","Банк Січ",34092020001558,"ППР не здійснюється"]
["380816__583","Банк Січ",34092020001559,"ППР не здійснюється"]
["380816__584","Банк Січ",34092020001560,"ППР не здійснюється"]
["380816__585","Банк Січ",34092020001561,"ППР не здійснюється"]
["380816__586","Банк Січ",34092020001562,"ППР не здійснюється"]
["380816__587","Банк Січ",34092020001563,"ППР не здійснюється"]
["380816__588","Банк Січ",34092020001564,"ППР не здійснюється"]
["380816__589","Банк Січ",34092020001565,"ППР не здійснюється"]
["380816__590","Банк Січ",34092020001566,"ППР не здійснюється"]
["380816__591","Банк Січ",34092020001567,"ППР не здійснюється"]
["380816__592","Банк Січ",34092020001568,"ППР не здійснюється"]
["380816__593","Банк Січ",34092020001569,"ППР не здійснюється"]
["380816__594","Банк Січ",34092020001570,"ППР не здійснюється"]
["380816__595","Банк Січ",34092020001571,"ППР не здійснюється"]
["380816__596","Банк Січ",34092020001572,"ППР не здійснюється"]
["380816__597","Банк Січ",34092020001573,"ППР не здійснюється"]
["380816__598","Банк Січ",34092020001574,"ППР не здійснюється"]
["380816__599","Банк Січ",34092020001575,"ППР не здійснюється"]
["380816__600","Банк Січ",34092020001576,"ППР не здійснюється"]
["380816__601","Банк Січ",34092020001577,"ППР не здійснюється"]
["380816__602","Банк Січ",34092020001578,"ППР не здійснюється"]
["380816__603","Банк Січ",34092020001579,"ППР не здійснюється"]
["380816__604","Банк Січ",34092020001580,"ППР не здійснюється"]
["380816__605","Банк Січ",34092020001581,"ППР не здійснюється"]
["380816__606","Банк Січ",34092020001582,"ППР не здійснюється"]
["380816__607","Банк Січ",34092020001583,"ППР не здійснюється"]
["380816__608","Банк Січ",34092020001584,"ППР не здійснюється"]
["380816__609","Банк Січ",34092020001585,"ППР не здійснюється"]
["380816__610","Банк Січ",34092020001586,"ППР не здійснюється"]
["380816__611","Банк Січ",34092020001587,"ППР не здійснюється"]
["380816__612","Банк Січ",34092020001588,"ППР не здійснюється"]
["380816__613","Банк Січ",34092020001589,"ППР не здійснюється"]
["380816__614","Банк Січ",34092020001590,"ППР не здійснюється"]
["380816__615","Банк Січ",34092020001591,"ППР не здійснюється"]
["380816__616","Банк Січ",34092020001592,"ППР не здійснюється"]
["380816__617","Банк Січ",34092020001593,"ППР не здійснюється"]
["380816__618","Банк Січ",34092020001594,"ППР не здійснюється"]
["380816__619","Банк Січ",34092020001595,"ППР не здійснюється"]
["380816__620","Банк Січ",34092020001596,"ППР не здійснюється"]
["380816__621","Банк Січ",34092020001597,"ППР не здійснюється"]
["380816__622","Банк Січ",34092020001598,"ППР не здійснюється"]
["380816__623","Банк Січ",34092020001599,"ППР не здійснюється"]
["380816__624","Банк Січ",34092020001600,"ППР не здійснюється"]
["380816__625","Банк Січ",34092020001601,"ППР не здійснюється"]
["380816__626","Банк Січ",34092020001602,"ППР не здійснюється"]
["380816__627","Банк Січ",34092020001603,"ППР не здійснюється"]
["380816__628","Банк Січ",34092020001604,"ППР не здійснюється"]
["380816__629","Банк Січ",34092020001605,"ППР не здійснюється"]
["380816__630","Банк Січ",34092020001606,"ППР не здійснюється"]
["380816__631","Банк Січ",34092020001607,"ППР не здійснюється"]
["380816__632","Банк Січ",34092020001608,"ППР не здійснюється"]
["380816__633","Банк Січ",34092020001609,"ППР не здійснюється"]
["380816__634","Банк Січ",34092020001610,"ППР не здійснюється"]
["380816__635","Банк Січ",34092020001611,"ППР не здійснюється"]
["380816__636","Банк Січ",34092020001612,"ППР не здійснюється"]
["380816__637","Банк Січ",34092020001613,"ППР не здійснюється"]
["380816__638","Банк Січ",34092020001614,"ППР не здійснюється"]
["380816__639","Банк Січ",34092020001615,"ППР не здійснюється"]
["380816__640","Банк Січ",34092020001616,"ППР не здійснюється"]
["380816__641","Банк Січ",34092020001617,"ППР не здійснюється"]
["380816__642","Банк Січ",34092020001618,"ППР не здійснюється"]
["351629__1","МЕГАБАНК","3-ю/2008","стягнення заборгованості","Солідарно",null,null,null,"ТАК","НІ",null,null,null,null,null,null,"НІ"]
["351629__2","МЕГАБАНК","22-ю/2008","стягнення заборгованості","Солідарно"," -",null,null,"ні","ні",null,null,null,null,null,null,"ні"]
["351629__3","МЕГАБАНК","23-ю/2008","стягнення заборгованості","Солідарно"," -"," -",null,"НІ","НІ",null,null,null,null,null,null,"НІ"]
["351629__4","МЕГАБАНК","288/2007","стягнення заборгованості","Солідарно"," -"," -",null,null,null,null,null,null,null,null,null,"НІ"]
["351629__5","МЕГАБАНК","12г/2008","стягнення заборгованості","Позичальник"," -"," -",null,null,null,null,null,null,null,null,null,"НІ"]
["351629__6","МЕГАБАНК","7-07/2013-MK-USD","ППР не здійснюється",null," -"," -"," -"," -"," -"," -"," -"," -"," -"," -"," -","НІ"]
["351629__7","МЕГАБАНК","23/2005","стягнення заборгованості","Солідарно",null,null,"2016-08-23","ні","НІ",null,null,null,null,null,null,"НІ"]
["351629__8","МЕГАБАНК","17-01/2008-МК-USD","стягнення заборгованості","Солідарно"," -","2009-11-19","2016-08-23","ні","ТАК",null,null,null,null,null,null,"так"]
["351629__9","МЕГАБАНК","29-01/2008-МК-UAH","стягнення заборгованості","Солідарно"," -","2009-11-19","2016-08-23","ні","ТАК",null,null,null,null,null,null,"так"]
["351629__10","МЕГАБАНК","068","ППР не здійснюється",null,null,null,null,null,null,null,null,null,null,null,null,"НІ"]
["351629__11","МЕГАБАНК","30-01/2008-МК-UAH","ППР не здійснюється",null,null,null,null,null,null,null,null,null,null,null,null,"НІ"]
["351629__12","МЕГАБАНК","20-05в/2019","ППР не здійснюється",null,null,null,null,null,null,null,null,null,null,null,null,"НІ"]
["351629__13","МЕГАБАНК","2-19/2021-AEK-UAH","ППР не здійснюється",null,null,null,null,null,null,null,null,null,null,null,null,"НІ"]
["351629__14","МЕГАБАНК","4-19/2020-МK-UAH","ППР не здійснюється",null,null,null,null,null,null,null,null,null,null,null,null,"НІ"]
["351629__15","МЕГАБАНК","231/2020","ППР не здійснюється",null,null,null,null,null,null,null,null,null,null,null,null,"НІ"]
["351629__16","МЕГАБАНК","16/2005","стягнення заборгованості","Солідарно",null,"2006,2007р","щодо позичальника 18.08.2021(відкрито), 31.08.2021(завершено), щодо поручителя 18.06.2015 (відкрито)","ТАК","НІ","2016-08-26",null,null,null,null,null,"НІ"]
["351629__17","МЕГАБАНК","ДФ 260121","ППР не здійснюється",null,null,null,null,null,null,null,null,null,null,null,null,"НІ"]
["351629__18","МЕГАБАНК",8065,"ППР не здійснюється",null,null,null,null,null,null,null,null,null,null,null,null,"НІ"]
["351629__19","МЕГАБАНК",9079,"ППР не здійснюється",null,null,null,null,null,null,null,null,null,null,null,null,"НІ"]
["351629__20","МЕГАБАНК","9-21о/2021-МК-UAH","ППР не здійснюється",null,null,null,null,null,null,null,null,null,null,null,null,"НІ"]
["351629__21","МЕГАБАНК",821,"ППР не здійснюється",null,null,null,null,null,null,null,null,null,null,null,null,"НІ"]
["351629__22","МЕГАБАНК","20-03в/2018","ППР не здійснюється",null,null,null,null,null,null,null,null,null,null,null,null,"НІ"]
["351629__23","МЕГАБАНК","20-07/2022","ППР не здійснюється",null,null,null,null,null,null,null,null,null,null,null,null,"НІ"]
["351629__24","МЕГАБАНК","9368","ППР не здійснюється",null,null,null,null,null,null,null,null,null,null,null,null,"НІ"]
["351629__25","МЕГАБАНК","20-44/2019","ППР не здійснюється",null,null,null,null,null,null,null,null,null,null,null,null,"НІ"]
["351629__26","МЕГАБАНК","20-31/2019","ППР не здійснюється",null,null,null,null,null,null,null,null,null,null,null,null,"НІ"]
["351629__27","МЕГАБАНК","20-23/2019","ППР не здійснюється",null,null,null,null,null,null,null,null,null,null,null,null,"НІ"]
["351629__28","Мегабанк","20-16в/2019","ППР не здійснюється",null,null,null,null,null,null,null,null,null,null,null,null,"НІ"]
["351629__29","Мегабанк",9461,"ППР не здійснюється",null,null,null,null,null,null,null,null,null,null,null,null,"НІ"]
["351629__30","Мегабанк","10-21о/2021-MK-UAH","ППР не здійснюється",null,null,null,null,null,null,null,null,null,null,null,null,"НІ"]
["351629__31","Мегабанк",905,"ППР не здійснюється",null,null,null,null,null,null,null,null,null,null,null,null,"НІ"]
["351629__32","Мегабанк","20-10в/2019","ППР не здійснюється",null,null,null,null,null,null,null,null,null,null,null,null,"НІ"]
["351629__33","Мегабанк","20-65/2019","ППР не здійснюється",null,null,null,null,null,null,null,null,null,null,null,null,"НІ"]
["351629__34","Мегабанк","20-34/2019","ППР не здійснюється",null,null,null,null,null,null,null,null,null,null,null,null,"НІ"]
["351629__35","Мегабанк","20-13в/2019","ППР не здійснюється",null,null,null,null,null,null,null,null,null,null,null,null,"НІ"]
["351629__36","Мегабанк","N40.06.000403","ППР не здійснюється",null,null,null,null,null,null,null,null,null,null,null,null,"НІ"]
["351629__37","Мегабанк","20-28в/2019","ППР не здійснюється",null,null,null,null,null,null,null,null,null,null,null,null,"НІ"]
["351629__38","Мегабанк","20-19/2021","ППР не здійснюється",null,null,null,null,null,null,null,null,null,null,null,null,"НІ"]
["351629__39","Мегабанк","20-45/2019","ППР не здійснюється",null,null,null,null,null,null,null,null,null,null,null,null,"НІ"]
["351629__40","Мегабанк","176-165-170-К","ППР не здійснюється",null,null,null,null,null,null,null,null,null,null,null,null,"НІ"]
["351629__41","Мегабанк","20-26в/2020","ППР не здійснюється",null,null,null,null,null,null,null,null,null,null,null,null,"НІ"]
["351629__42","Мегабанк","07-149","ППР не здійснюється",null,null,null,null,null,null,null,null,null,null,null,null,"НІ"]
["351629__43","Мегабанк","20-19в/2019","ППР не здійснюється",null,null,null,null,null,null,null,null,null,null,null,null,"НІ"]
["351629__44","Мегабанк","26-101-170-К","ППР не здійснюється",null,null,null,null,null,null,null,null,null,null,null,null,"НІ"]
["351629__45","Мегабанк","20-19/2019","ППР не здійснюється",null,null,null,null,null,null,null,null,null,null,null,null,"НІ"]
["351629__46","Мегабанк","20-08в/2019","ППР не здійснюється",null,null,null,null,null,null,null,null,null,null,null,null,"НІ"]
["351629__47","Мегабанк","9436","ППР не здійснюється",null,null,null,null,null,null,null,null,null,null,null,null,"НІ"]
["351629__48","Мегабанк","23-05/2019","ППР не здійснюється",null,null,null,null,null,null,null,null,null,null,null,null,"НІ"]
["351629__49","Мегабанк","20-15в/2019","ППР не здійснюється",null,null,null,null,null,null,null,null,null,null,null,null,"НІ"]
["351629__50","Мегабанк","20-06в/2019","ППР не здійснюється",null,null,null,null,null,null,null,null,null,null,null,null,"НІ"]
["351629__51","Мегабанк","N40.06.000325","ППР не здійснюється",null,null,null,null,null,null,null,null,null,null,null,null,"НІ"]
["320627__1","МР Банк","№05-В/11/32/ЮО/КЛ ","стягнення заборгованості","Позичальник",null,"2016-12-28","2017-07-04","зупинено","ні"]
["320627__1","МР Банк","№05-В/11/32/ЮО/КЛ ","банкрутство","Позичальник",null,"2020-11-12"," ",null,null,"2020-07-17","ТАК","ТАК",44245]
["320627__1","МР Банк","№05-В/11/32/ЮО/КЛ ","інше","поручителі, 3ті особи",null,null," "]
["320627__1","МР Банк","№05-В/11/32/ЮО/КЛ ","стягнення заборгованості","Поручитель",null,"2016-12-29","2023-09-26","ні","ні"]
["320627__1","МР Банк","№05-В/11/32/ЮО/КЛ ","стягнення заборгованості","Поручитель",null,"2017-01-03","2023-09-26","ТАК","ні"]
["320627__1","МР Банк","№05-В/11/32/ЮО/КЛ ","стягнення заборгованості","Поручитель",null,"2017-02-21","2023-09-26","ТАК","ні"]
["320627__1","МР Банк","№05-В/11/32/ЮО/КЛ ","стягнення заборгованості","Поручитель",null,"2017-01-27","2019-09-18","НІ","ні"]
["320627__2","МР Банк","№Т032-013006290","ППР не здійснюється"]
["320627__3","МР Банк","03-В/13/75/ЮО","стягнення заборгованості","Позичальник",null,"2015-09-14","2020-06-01","так","ні"]
["320627__3","МР Банк","03-В/13/75/ЮО","стягнення заборгованості","Поручитель",null,"2015-10-01","2021-07-06","ні","ні"]
["320627__4","МР Банк","Т075-013005724","ППР не здійснюється"]
["320627__5","МР Банк","2013/ЗП/ХА5/12","ППР не здійснюється"]
["320627__6","МР Банк","70-Н/13/29/Г/А-КБ","банкрутство","Позичальник",null,"2020-12-14",null,null,null,"20.12.2020","ТАК","ТАК","2022-09-28"]
["320627__6","МР Банк","70-Н/13/29/Г/А-КБ","банкрутство","Поручитель",null,"2020-12-14"]
["320627__6","МР Банк","70-Н/13/29/Г/А-КБ","банкрутство","Поручитель"]
["320627__7","МР Банк","LC/150808","банкрутство","Позичальник",null,"2009-11-24",null,null,null,"24.11.2009 ","ТАК","ТАК","2016-02-11"]
["320627__7","МР Банк","LC/150808","банкрутство","Поручитель",null,"2011-05-31"]
["320627__7","МР Банк","LC/150808","стягнення заборгованості","Поручитель",null,"2014-02-13"]
["300012__1","ПРОМІНВЕСТБАНК","07/4-07","стягнення заборгованості","Позичальник",null,"2012-04-09","2012-10-19","НІ","НІ",null,null,null,null,null,null,"НІ"]
["300012__2","ПРОМІНВЕСТБАНК","13/4-07","стягнення забезпечення","Поручитель",null,null,"-","-","-",null,null,null,null,null,null,"НІ"]
["300012__2","ПРОМІНВЕСТБАНК","13/4-07","стягнення заборгованості","Позичальник",null,"2014-12-15","2019-09-30","ТАК","НІ",null,null,null,null,null,null,"НІ"]
["300012__2","ПРОМІНВЕСТБАНК","13/4-07","банкрутство","Позичальник",null,null,null,null,null,null,null,null,null,"2012-09-19",null,"НІ"]
["300012__3","ПРОМІНВЕСТБАНК","38/3-07","стягнення забезпечення","Позичальник",null,"2008-09-16","-","-","-",null,null,null,null,null,null,"НІ"]
["300012__4","ПРОМІНВЕСТБАНК","06-2.1/1018 ","стягнення забезпечення","правонаступник позичальника заставодавця в частині майна",null,"2018-07-04","НІ","НІ","НІ",null,null,null,null,null,null,"ТАК"]
["300012__4","ПРОМІНВЕСТБАНК","06-2.1/1018 ","стягнення забезпечення","3-і особи",null,"2013-10-01","НІ","НІ","НІ",null,null,null,null,null,null,"ТАК"]
["300012__4","ПРОМІНВЕСТБАНК","06-2.1/1018 ","стягнення заборгованості","Позичальник",null,"2011-10-21","14.10.2013 - 12.09.2018","НІ","НІ",null,null,null,null,null,null,"ТАК"]
["300012__4","ПРОМІНВЕСТБАНК","06-2.1/1018 ","стягнення заборгованості","Поручитель",null,"2012-06-29","2013-04-29","ТАК","НІ",null,null,null,null,null,null,"ТАК"]
["300012__4","ПРОМІНВЕСТБАНК","06-2.1/1018 ","стягнення заборгованості","Поручитель",null,"2013-05-30","14.10.2013 -  07.05.2021","НІ","НІ",null,null,null,null,null,null,"ТАК"]
["300012__4","ПРОМІНВЕСТБАНК","06-2.1/1018 ","банкрутство","Позичальник",null,null,"НІ","НІ","НІ","2015-09-17","ТАК","ТАК","2016-03-15","23.08.2023",null,"ТАК"]
["300012__5","ПРОМІНВЕСТБАНК","06-2.1/1019 ","стягнення забезпечення","правонаступник позичальника заставодавця в частині майна",null,"2018-07-04","НІ","НІ","НІ",null,null,null,null,null,null,"ТАК"]
["300012__5","ПРОМІНВЕСТБАНК","06-2.1/1019 ","стягнення забезпечення","3-і особи",null,"2013-10-01","НІ","НІ","НІ",null,null,null,null,null,null,"ТАК"]
["300012__5","ПРОМІНВЕСТБАНК","06-2.1/1019 ","стягнення заборгованості","Позичальник",null,"1905-07-03","14.02.2018 - 24.12.2019","НІ","НІ",null,null,null,null,null,null,"ТАК"]
["300012__5","ПРОМІНВЕСТБАНК","06-2.1/1019 ","стягнення заборгованості","Поручитель",null,"2013-05-30","14.10.2013 -  07.05.2021","НІ","НІ",null,null,null,null,null,null,"ТАК"]
["300012__6","ПРОМІНВЕСТБАНК","1234/05-К","стягнення заборгованості","Позичальник",null,"2013-06-19","невідомо","НІ","НІ",null,null,null,null,null,null,"НІ"]
["300012__6","ПРОМІНВЕСТБАНК","1234/05-К","стягнення забезпечення","Поручитель",null,"2009-03-27","2012-03-14","НІ","ТАК",null,null,null,null,null,null,"НІ"]
["300012__7","ПРОМІНВЕСТБАНК","04-02-08/218","стягнення заборгованості","Солідарно",null,null,"2022-12-12","ТАК","НІ",null,null,null,null,null,null,"так"]
["300012__8","ПРОМІНВЕСТБАНК","03-01-20/544822/107","ППР не здійснюється",null,null,null,null,null,null,null,null,null,null,null,null,"так"]
["300012__9","ПРОМІНВЕСТБАНК","3/8/08","стягнення забезпечення","Позичальник","2009-10-08","10.03.2010","09.07.2020","ТАК","так (іпотека)",null,null,null,null,null,null,"інформація відсутня "]
["300012__10","ПРОМІНВЕСТБАНК","313-КР","стягнення заборгованості","Позичальник",null,null,"-",null,null,"2008-12-23","ТАК","ТАК","2009-09-08","2010-11-25",null,"інформація відсутня "]
["300012__11","ПРОМІНВЕСТБАНК","347","стягнення заборгованості","Солідарно",null,"2011-09-06","2016-05-12","ТАК","НІ",null,null,null,null,null,null,"НІ"]
["300012__12","ПРОМІНВЕСТБАНК","1396","стягнення заборгованості","Солідарно","2008-02-21","2008-09-18","2021-09-10","ТАК","ТАК",null,null,null,null,null,null,"НІ"]
["300012__12","ПРОМІНВЕСТБАНК","1396","банкрутство","Поручитель",null,"2008-09-19","-",null,null,null,null,null,null,null,"так","НІ"]
["300012__13","ПРОМІНВЕСТБАНК","642/05-к","стягнення забезпечення","Позичальник",null,"2007-01-11","невідомо","НІ","НІ",null,null,null,null,null,null,"НІ"]
["300012__14","ПРОМІНВЕСТБАНК","997/05-к","стягнення забезпечення","Поручитель",null,"2007-01-15","2019-08-14","НІ","ТАК",null,null,null,null,null,null,"НІ"]
["300012__15","ПРОМІНВЕСТБАНК","521/05-К","банкрутство","Позичальник",null,null,"-",null,null,"2008-12-19","ТАК","ТАК","2009-08-04","2010-04-20",null,"НІ"]
["300012__16","ПРОМІНВЕСТБАНК","793/05-К","стягнення забезпечення","Поручитель",null,"2007-03-29","-",null,"ТАК",null,null,null,null,null,null,"НІ"]
["300012__16","ПРОМІНВЕСТБАНК","793/05-К","банкрутство","Позичальник",null,null,"-",null,null,"2008-12-19","ТАК","ТАК","2009-08-04","2010-04-20",null,"НІ"]
["300012__17","ПРОМІНВЕСТБАНК","483/06","стягнення забезпечення","Позичальник",null,null,"10.09.2019-25.02.2021","НІ","ТАК",null,null,null,null,null,null,"НІ"]
["300012__17","ПРОМІНВЕСТБАНК","483/06","стягнення заборгованості","Позичальник",null,null,"2020-03-19","ТАК","НІ",null,null,null,null,null,null,"НІ"]
["300012__17","ПРОМІНВЕСТБАНК","483/06","інше","Позичальник",null,null,null,null,null,null,null,null,null,null,null,"НІ"]
["300012__18","ПРОМІНВЕСТБАНК","02-05/595","стягнення забезпечення","Поручитель",null,"2008-12-14","25.05.2016-14.11.2018\n03.07.2019-17.04.2020 (суд витрати)","НІ","ТАК",null,null,null,null,null,null,"НІ"]
["300012__18","ПРОМІНВЕСТБАНК","02-05/595","стягнення заборгованості","Позичальник",null,"2014-10-30","03.07.2019-17.04.2020","НІ","НІ",null,null,null,null,null,null,"НІ"]
["300012__18","ПРОМІНВЕСТБАНК","02-05/595","визнання зобов'язань недійсними","Банк",null,"2016-03-23",null,null,null,null,null,null,null,null,null,"НІ"]
["300012__19","ПРОМІНВЕСТБАНК","2257 ","стягнення забезпечення","Поручитель",null,"2011-10-31","2013-07-15","НІ","ТАК",null,null,null,null,null,null,"НІ"]
["300012__19","ПРОМІНВЕСТБАНК","2257 ","стягнення заборгованості","Позичальник",null,"30.10.2014 ","15.01.2015; 25.05.2016; 30.11.2022","ТАК","НІ",null,null,null,null,null,null,"НІ"]
["300012__20","ПРОМІНВЕСТБАНК","02-07/797","стягнення заборгованості","Позичальник",null,"2014-10-30","2022-12-19","ТАК","НІ",null,null,null,null,null,null,"НІ"]
["300012__20","ПРОМІНВЕСТБАНК","02-07/797","стягнення забезпечення","Поручитель",null,"2008-12-04","17.07.2013 - 07.03.2014 ","НІ","ТАК",null,null,null,null,null,null,"НІ"]
["300012__20","ПРОМІНВЕСТБАНК","02-07/797","інше","3-і особи",null,"2013-10-29",null,null,null,null,null,null,null,null,null,"НІ"]
["300012__21","ПРОМІНВЕСТБАНК","02-06/1110","стягнення забезпечення","Поручитель",null,"2010-12-23","06.02.2012; 06.06.2013; 20.02.2014; 11.09.2015; 25.05.2016","НІ","ТАК",null,null,null,null,null,null,"НІ"]
["300012__22","ПРОМІНВЕСТБАНК","03-1/114","стягнення забезпечення","Позичальник","2009-01-21","2009-01-21","29.05.2009; 25.05.2015","ТАК","ТАК",null,null,null,null,null,null,"НІ"]
["300012__23","ПРОМІНВЕСТБАНК","20-0541/2-1","стягнення заборгованості","Позичальник","2015-01-23","2015-03-26","2020-09-22","ТАК","ТАК",null,null,null,null,null,null,"НІ"]
["300012__23","ПРОМІНВЕСТБАНК","20-0541/2-1","стягнення заборгованості","Позичальник",null,"2018-10-26","2019-06-03","ТАК","НІ",null,null,null,null,null,null,"НІ"]
["300012__23","ПРОМІНВЕСТБАНК","20-0541/2-1","інше","3-і особи",null,null,null,null,null,null,null,null,null,null,null,"НІ"]
["300012__23","ПРОМІНВЕСТБАНК","20-0541/2-1","інше","3-і особи",null,null,null,null,null,null,null,null,null,null,null,"НІ"]
["300012__23","ПРОМІНВЕСТБАНК","20-0541/2-1","інше","3-і особи",null,null,null,null,null,null,null,null,null,null,null,"НІ"]
["300012__23","ПРОМІНВЕСТБАНК","20-0541/2-1","стягнення заборгованості","Поручитель",null,"2015-07-16","25.02.2016-28.12.2021","НІ","ТАК",null,null,null,null,null,null,"НІ"]
["300012__23","ПРОМІНВЕСТБАНК","20-0541/2-1","стягнення заборгованості","Поручитель",null,null,null,null,null,null,null,null,null,null,null,"НІ"]
["300012__24","ПРОМІНВЕСТБАНК","13-КЛ-04","стягнення заборгованості","Позичальник",null,null,"2016-02-22","ТАК","НІ",null,null,null,null,null,null,"НІ"]
["300012__24","ПРОМІНВЕСТБАНК","13-КЛ-04","інше","Позичальник",null,null,null,null,null,null,null,null,null,null,null,"НІ"]
["300012__25","ПРОМІНВЕСТБАНК","1814/02-07","стягнення заборгованості","Позичальник",null,"2015-12-29","2022-01-27","НІ",null,null,null,null,null,null,null,"НІ"]
["300012__25","ПРОМІНВЕСТБАНК","1814/02-07","стягнення забезпечення","Поручитель",null,"2009-10-16","13.12.2010-27.01.2011 ","НІ","НІ",null,null,null,null,null,null,"НІ"]
["300012__25","ПРОМІНВЕСТБАНК","1814/02-07","стягнення забезпечення","Поручитель","2008-11-19","2017-03-31","2019-09-03","ТАК","НІ",null,null,null,null,null,null,"НІ"]
["300012__25","ПРОМІНВЕСТБАНК","1814/02-07","інше","3-і особи",null,"2015-04-23",null,null,null,null,null,null,null,null,null,"НІ"]
["300012__26","ПРОМІНВЕСТБАНК","07-229к","стягнення заборгованості","Солідарно",null,null,"-","НІ","НІ",null,null,null,null,null,null,"інформація відсутня "]
["300012__27","ПРОМІНВЕСТБАНК",63,"стягнення забезпечення","Позичальник",null,"невідомо","2010-09-09","ТАК","НІ",null,null,null,null,null,null,"НІ"]
["300012__28","ПРОМІНВЕСТБАНК","362/2-2007","стягнення заборгованості","Позичальник",null,"2014-07-29","29.08.2019-02.04.2020","НІ","ТАК",null,null,null,null,null,null,"НІ"]
["300012__29","ПРОМІНВЕСТБАНК",704,"стягнення заборгованості","Позичальник",null,"2010-05-31","2015-07-08","ТАК","НІ",null,null,null,null,null,null,"НІ"]
["300012__30","ПРОМІНВЕСТБАНК",162,"стягнення забезпечення","Позичальник",null,"2010-12-14","04.11.2011; 01.02.2012; 15.07.2013; 05.03.2015; 01.09.2016; 22.03.2019 ","НІ","ТАК",null,null,null,null,null,null,"НІ"]
["300012__30","ПРОМІНВЕСТБАНК",162,"стягнення заборгованості","Позичальник",null,"2013-09-30","2019-05-03","ТАК","НІ",null,null,null,null,null,null,"НІ"]
["300012__31","ПРОМІНВЕСТБАНК","134-146/02","стягнення заборгованості","Позичальник",null,"2009-03-27","2016-03-29","НІ","НІ",null,null,null,null,null,null,"ТАК"]
["300012__32","ПРОМІНВЕСТБАНК","21/89","банкрутство","Позичальник",null,null,null,null,null,null,null,null,40696,40696,null,"інформація відсутня "]
["300012__33","ПРОМІНВЕСТБАНК","02-2.1/078","стягнення заборгованості","Позичальник",null,"2009-11-23","2022-07-05","ТАК","НІ",null,null,null,null,null,null,"НІ"]
["300012__33","ПРОМІНВЕСТБАНК","02-2.1/078","стягнення заборгованості","Позичальник",null,"2011-10-11","2022-07-05","ТАК","НІ",null,null,null,null,null,null,"НІ"]
["300012__34","ПРОМІНВЕСТБАНК","12/32а-04","стягнення заборгованості","Позичальник",null,"2008-05-13","07.07.2008; 20.02.2013; 04.10.2016; ","НІ","НІ",null,null,null,null,null,null,"НІ"]
["300012__34","ПРОМІНВЕСТБАНК","12/32а-04","стягнення забезпечення","Поручитель",null,"2009-12-17","09.03.2010; 12.04.2013; 25.04.2014; 04.10.2016; 01.08.2019 ","НІ","НІ",null,null,null,null,null,null,"НІ"]
["300012__35","ПРОМІНВЕСТБАНК",105,"банкрутство","Позичальник",null,"2009-05-27",null,null,null,39924,"ТАК","ТАК",40401,41218,null,"НІ"]
["300012__35","ПРОМІНВЕСТБАНК",105,"стягнення заборгованості","Поручитель",null,"2009-07-16","2013-03-11","ТАК","ТАК",null,null,null,null,null,null,"НІ"]
["300012__35","ПРОМІНВЕСТБАНК",105,"інше","3-і особи",null,null,null,null,null,null,null,null,null,null,null,"НІ"]
["300012__35","ПРОМІНВЕСТБАНК",105,"стягнення забезпечення","Поручитель",null,null,null,null,null,null,null,null,null,null,null,"НІ"]
["300012__36","ПРОМІНВЕСТБАНК",191,"стягнення заборгованості","Позичальник",null,"2009-07-24","2023-02-13","ТАК","НІ",null,null,null,null,null,null,"НІ"]
["300012__37","ПРОМІНВЕСТБАНК","18-2006Л","інше","Поручитель",null,null,"2016-10-04","ТАК","НІ",null,null,null,null,null,null,"НІ"]
["300012__37","ПРОМІНВЕСТБАНК","18-2006Л","інше","Банк",null,"2019-01-23",null,null,null,null,null,null,null,null,null,"НІ"]
["300012__37","ПРОМІНВЕСТБАНК","18-2006Л","визнання зобов'язань недійсними","Банк",null,"2019-01-23",null,null,null,null,null,null,null,null,null,"НІ"]
["300012__37","ПРОМІНВЕСТБАНК","18-2006Л","інше","Банк",null,"2020-01-15",null,null,null,null,null,null,null,null,null,"НІ"]
["300012__38","ПРОМІНВЕСТБАНК","02-2.1/663","стягнення заборгованості","Позичальник",null,"2009-11-23","2022-08-31","ТАК","НІ",null,null,null,null,null,null,"НІ"]
["300012__38","ПРОМІНВЕСТБАНК","02-2.1/663","стягнення заборгованості","Позичальник",null,null,null,"ні","ТАК",null,null,null,null,null,null,"НІ"]
["300012__39","ПРОМІНВЕСТБАНК",11,"стягнення заборгованості","Позичальник",null,"2011-02-09","2016-11-08","ТАК","НІ",null,null,null,null,null,null,"НІ"]
["300012__39","ПРОМІНВЕСТБАНК",11,"стягнення забезпечення","Поручитель",null,"2009-08-31","2011-05-07","НІ","НІ",null,null,null,null,null,null,"НІ"]
["300012__40","ПРОМІНВЕСТБАНК","94/2006","стягнення заборгованості","Позичальник",null,"2007-12-28","інформація відсутня",null,null,null,null,null,null,null,null,"НІ"]
["300012__40","ПРОМІНВЕСТБАНК","94/2006","банкрутство","Позичальник",null,null,null,null,null,null,null,null,null,null,null,"НІ"]
["300012__41","ПРОМІНВЕСТБАНК",32,"стягнення заборгованості","Позичальник",null,"2009-02-04","2012-11-21","ТАК","НІ",null,null,null,null,null,null,"ТАК"]
["300012__41","ПРОМІНВЕСТБАНК",32,"стягнення заборгованості","Позичальник",null,"2009-09-01","2012-11-11","ТАК","НІ",null,null,null,null,null,null,"ТАК"]
["300012__42","ПРОМІНВЕСТБАНК","22-24/02","стягнення забезпечення","Поручитель",null,"2009-03-02","2022-08-17","ТАК","ТАК",null,null,null,null,null,null,"НІ"]
["300012__42","ПРОМІНВЕСТБАНК","22-24/02","стягнення заборгованості","Позичальник",null,"2012-04-06","2022-08-16","ТАК","НІ",null,null,null,null,null,null,"НІ"]
["300012__43","ПРОМІНВЕСТБАНК","268-02-79","стягнення заборгованості","Позичальник",null,"2010-08-10","2022-10-28","ТАК","НІ","2011-08-03","ТАК","ТАК","2011-08-15","2017-04-03",null,"НІ"]
["300012__43","ПРОМІНВЕСТБАНК","268-02-79","стягнення забезпечення","Поручитель","2010-02-16","2010-12-15","2020-06-05","ТАК","НІ",null,null,null,null,null,null,"НІ"]
["300012__43","ПРОМІНВЕСТБАНК","268-02-79","стягнення заборгованості","Солідарно",null,"2019-11-26",null,null,null,null,null,null,null,null,null,"НІ"]
["300012__44","ПРОМІНВЕСТБАНК","53/3-06","стягнення забезпечення","Поручитель",null,"2009-08-28","2016-09-15","НІ","ТАК",null,null,null,null,null,null,"інформація відсутня "]
["300012__45","ПРОМІНВЕСТБАНК","87/3-05","стягнення забезпечення","Поручитель",null,"2009-08-28","2016-09-15","НІ","ТАК",null,null,null,null,null,null,"інформація відсутня "]
["300012__45","ПРОМІНВЕСТБАНК","87/3-05","стягнення забезпечення","Позичальник",null,"2008-07-30","2011-10-13","НІ","ТАК",null,null,null,null,null,null,"інформація відсутня "]
["300012__46","ПРОМІНВЕСТБАНК","25","Інформація відсутня",null,null,null,null,null,null,null,null,null,null,null,null,"інформація відсутня "]
["300012__47","ПРОМІНВЕСТБАНК","70/210","Інформація відсутня",null,null,null,null,null,null,"2009-01-19","ТАК","ТАК","2010-10-06"," 13.01.2011",null,"інформація відсутня "]
["300012__48","ПРОМІНВЕСТБАНК","689-04/08","стягнення заборгованості","Позичальник",null,"2011-07-05","2019-07-23","ТАК","ТАК",null,null,null,null,null,null,"інформація відсутня "]
["300012__49","ПРОМІНВЕСТБАНК","148/10","ППР не здійснюється",null,null,null,null,null,null,null,null,null,null,null,null,"інформація відсутня "]
["300012__50","ПРОМІНВЕСТБАНК","119/02-08","стягнення заборгованості","Позичальник",null,"2009-03-17","2022-08-08","ТАК","НІ",null,null,null,null,null,null,"НІ"]
["300012__50","ПРОМІНВЕСТБАНК","119/02-08","стягнення заборгованості","Солідарно",null,"2010-06-01",null,null,null,null,null,null,null,null,null,"НІ"]
["300012__50","ПРОМІНВЕСТБАНК","119/02-08","банкрутство","Поручитель",null,"2011-12-09",null,null,null,null,null,null,null,null,"так","НІ"]
["300012__51","ПРОМІНВЕСТБАНК","241/02-08","стягнення заборгованості","Позичальник",null,"2009-03-17","2009-08-10","НІ","НІ",null,null,null,null,null,null,"НІ"]
["300012__51","ПРОМІНВЕСТБАНК","241/02-08","стягнення заборгованості","Солідарно",null,"2010-07-29",null,null,null,null,null,null,null,null,null,"НІ"]
["300012__51","ПРОМІНВЕСТБАНК","241/02-08","банкрутство","Поручитель",null,"2011-12-09",null,null,null,null,null,null,null,null,"так","НІ"]
["300012__52","ПРОМІНВЕСТБАНК","044-60-01-15","стягнення забезпечення","Позичальник",null,null,"2016-03-16","НІ","НІ",null,null,null,null,null,null,"інформація відсутня "]
["300012__53","ПРОМІНВЕСТБАНК","11/3-07","стягнення заборгованості","Солідарно",null,"2009-12-30","2016-08-05","НІ","ТАК",null,null,null,null,null,null,"НІ"]
["300012__53","ПРОМІНВЕСТБАНК","11/3-07","визнання зобов'язань недійсними","Поручитель",null,null,null,null,null,null,null,null,null,null,null,"НІ"]
["300012__54","ПРОМІНВЕСТБАНК","157/2-06","стягнення заборгованості","Позичальник",null,"2011-02-23","2014-12-10","НІ","ТАК",null,null,null,null,null,null,"НІ"]
["300012__55","ПРОМІНВЕСТБАНК","I-29/08","стягнення заборгованості","Позичальник",null,"2011-03-22","2021-02-21","ТАК","НІ",null,null,null,null,null,null,"НІ"]
["300012__55","ПРОМІНВЕСТБАНК","I-29/08","стягнення забезпечення","Поручитель",null,null,null,"НІ","ТАК",null,null,null,null,null,null,"НІ"]
["300012__55","ПРОМІНВЕСТБАНК","I-29/08","визнання зобов'язань недійсними","Банк",null,null,null,null,null,null,null,null,null,null,null,"НІ"]
["300012__55","ПРОМІНВЕСТБАНК","I-29/08","інше","3-і особи",null,"2019-05-16",null,null,null,null,null,null,null,null,null,"НІ"]
["300012__56","ПРОМІНВЕСТБАНК","42-2005Л","банкрутство","Позичальник",null,"2010-09-02",null,null,null,"2010-09-02","ТАК","ТАК","2010-10-04"," 14.02.2012 ",null,"НІ"]
["300012__56","ПРОМІНВЕСТБАНК","42-2005Л","банкрутство","Поручитель",null,"2010-11-12",null,null,null,null,null,null,null,null,null,"НІ"]
["300012__56","ПРОМІНВЕСТБАНК","42-2005Л","визнання зобов'язань недійсними","Банк",null,null,null,null,null,null,null,null,null,null,null,"НІ"]
["300012__56","ПРОМІНВЕСТБАНК","42-2005Л","інше","Банк",null,null,null,null,null,null,null,null,null,null,null,"НІ"]
["300012__56","ПРОМІНВЕСТБАНК","42-2005Л","визнання зобов'язань недійсними","Банк",null,null,null,null,null,null,null,null,null,null,null,"НІ"]
["300012__56","ПРОМІНВЕСТБАНК","42-2005Л","інше","Банк",null,null,null,null,null,null,null,null,null,null,null,"НІ"]
["300012__56","ПРОМІНВЕСТБАНК","42-2005Л","інше","Банк",null,null,null,null,null,null,null,null,null,null,null,"НІ"]
["300012__57","ПРОМІНВЕСТБАНК","03-1/117-224-03/07","стягнення заборгованості","Позичальник",null,"2009-09-03","2021-06-10","ТАК","НІ",null,null,null,null,null,null,"ТАК"]
["300012__58","ПРОМІНВЕСТБАНК","396/02-08","стягнення заборгованості","Позичальник",null,"2008-09-08","2010-09-20","НІ","ТАК",null,null,null,null,null,null,"НІ"]
["300012__58","ПРОМІНВЕСТБАНК","396/02-08","стягнення заборгованості","Позичальник",null,"2010-01-26",null,null,null,null,null,null,null,null,null,"НІ"]
["300012__59","ПРОМІНВЕСТБАНК","527","стягнення заборгованості","Позичальник",null," 14.07.2014","31.05.2016; 20.10.2021","ТАК","НІ",null,null,null,null,null,null,"інформація відсутня"]
["300012__60","ПРОМІНВЕСТБАНК","224","стягнення заборгованості","Позичальник",null,"03.09.2009","2009-10-17","ТАК","НІ",null,null,null,null,null,null,"НІ"]
["300012__61","ПРОМІНВЕСТБАНК","1/07","Інформація відсутня",null,null,null,null,null,null,null,null,null,null,null,null,"НІ"]
["300012__62","ПРОМІНВЕСТБАНК","23/1-08","стягнення забезпечення","Поручитель",null,"2010-12-31","30.07.2013; 29.01.2014","НІ","ТАК","2011-09-15","НІ","НІ","2011-10-25","2012-12-18",null,"НІ"]
["300012__63","ПРОМІНВЕСТБАНК","140/772","стягнення заборгованості","Позичальник",null,"2006-04-20","29.09.2006р. - немає інформації","НІ","НІ",null,null,null,null,null,null,"НІ"]
["300012__64","ПРОМІНВЕСТБАНК","104/569","стягнення заборгованості","Позичальник",null,"2006-03-15","2006-06-02","НІ","НІ",null,null,null,null,null,null,"НІ"]
["300012__65","ПРОМІНВЕСТБАНК","03-27","стягнення заборгованості","Позичальник",null,"2008-04-14","26.07.2008; 26.03.2014","НІ","НІ",null,null,null,null,null,null,"НІ"]
["300012__65","ПРОМІНВЕСТБАНК","03-27","стягнення заборгованості","Солідарно",null,"08.08.2006","20.02.2007; 18.12.2008; 15.11.2012; 11.09.2014;19.10.2015 ","ТАК","НІ",null,null,null,null,null,null,"НІ"]
["300012__66","ПРОМІНВЕСТБАНК","45-08\\КР","стягнення заборгованості","Позичальник",null,"2010-01-22","2022-01-19","ТАК","ТАК",null,null,null,null,null,null,"НІ"]
["300012__67","ПРОМІНВЕСТБАНК","265/02-06","стягнення заборгованості","Позичальник",null,"2008-09-08","2009-03-11","НІ","НІ",null,null,null,null,null,null,"НІ"]
["300012__67","ПРОМІНВЕСТБАНК","265/02-06","стягнення заборгованості","Позичальник",null,"2009-02-17","2010-01-25","НІ","НІ",null,null,null,null,null,null,"НІ"]
["300012__67","ПРОМІНВЕСТБАНК","265/02-06","стягнення забезпечення","Поручитель",null,"2009-12-11","2010-06-17","НІ","НІ",null,null,null,null,null,null,"НІ"]
["300012__67","ПРОМІНВЕСТБАНК","265/02-06","стягнення забезпечення","Поручитель",null,"2009-12-11","2010-06-17","НІ","НІ",null,null,null,null,null,null,"НІ"]
["300012__67","ПРОМІНВЕСТБАНК","265/02-06","стягнення заборгованості","Солідарно",null,"2009-12-11",null,null,null,null,null,null,null,null,null,"НІ"]
["300012__68","ПРОМІНВЕСТБАНК","23/32a-04","стягнення заборгованості","Позичальник",null,"1905-07-01","В АСВП відсутня інформація про виконавчі провадження",null,null,null,null,null,null,null,null,"інформація відсутня"]
["300012__69","ПРОМІНВЕСТБАНК","02-07/1640","стягнення заборгованості","Позичальник",null,"2008-09-30","2009-01-18","НІ","НІ",null,null,null,null,null,null,"інформація відсутня"]
["300012__70","ПРОМІНВЕСТБАНК","25","стягнення заборгованості","Позичальник",null,"2009-05-07","20.07.2009 - 25.09.2009","НІ","НІ",null,null,null,null,null,null,"інформація відсутня"]
["300012__71","ПРОМІНВЕСТБАНК","145/799","стягнення заборгованості","Позичальник",null,"2006-04-20","2007-06-13","НІ","НІ",null,null,null,null,null,null,"інформація відсутня"]
["300012__72","ПРОМІНВЕСТБАНК","61/32-04","стягнення заборгованості","Позичальник",null,"2010-09-01","2019-02-07","ні","НІ",null,null,null,null,null,null,"НІ"]
["300012__73","ПРОМІНВЕСТБАНК","89/501","стягнення заборгованості","Позичальник",null,"2006-06-15","10.11.2006 - 10.07.2007 ","НІ","НІ",null,null,null,null,null,null,"інформація відсутня"]
["300012__74","ПРОМІНВЕСТБАНК","20-0298/3-2 (з одночасним укладанням договору про відкриття кредитної лінії №20-0299/2-1)","стягнення заборгованості","Банк",null,null,"-",null,null,null,null,null,null,null,null,"НІ"]
["300012__74","ПРОМІНВЕСТБАНК","20-0298/3-2 (з одночасним укладанням договору про відкриття кредитної лінії №20-0299/2-1)","банкрутство","Позичальник","2014-05-29","2016-03-09",null,null,null,"2016-02-16","ТАК","ТАК","2017-05-16",null,null,"НІ"]
["300012__74","ПРОМІНВЕСТБАНК","20-0298/3-2 (з одночасним укладанням договору про відкриття кредитної лінії №20-0299/2-1)","банкрутство","Позичальник",null,null,null,null,null,"2015-02-02","так","так ",null,null,null,"НІ"]
["300012__75","ПРОМІНВЕСТБАНК","20-0841/2-1","стягнення заборгованості","Позичальник","2014-05-29","2014-08-01","2015-03-16","НІ","НІ","2016-02-16","ТАК","ТАК","2017-05-16",null,null,"НІ"]
["300012__76","ПРОМІНВЕСТБАНК","20-0298/3-2 ","ППР не здійснюється",null,null,null,null,null,null,null,null,null,null,null,null,"НІ"]
["300012__77","ПРОМІНВЕСТБАНК","20-0298/3-2","банкрутство","Позичальник",null,"2016-03-09",null,null,null,"2016-02-23","Так","Так ","2017-05-16",null,null,"НІ"]
["300012__78","ПРОМІНВЕСТБАНК","96/538","стягнення заборгованості","Позичальник","-","2006-04-20","16.10.2006 - 20.11.2007","ні","ні","-",null,null,null,null,null,"відсутня інформація"]
["300012__79","ПРОМІНВЕСТБАНК",207,"стягнення заборгованості","Солідарно","-","2011-04-01","03.07.2012; 28.01.2020 -з позичальника;\n29.03.2012; 28.01.2020 - з поручителя\n","ні","НІ","-",null,null,null,null,null,"інформація відсутня"]
["300012__80","ПРОМІНВЕСТБАНК","047-60-01-15","стягнення заборгованості","Позичальник","-","1905-07-03","інформація відсутня","інформація відсутня","інформація відсутня","2012-10-29","ТАК","ТАК","2013-01-11","2013-09-04",null,"інформація відсутня"]
["300012__81","ПРОМІНВЕСТБАНК","291-2007","стягнення забезпечення","Позичальник","-","2009-09-30","2022-11-28","ТАК","іпотека","-",null,null,null,null,null,"НІ"]
["300012__81","ПРОМІНВЕСТБАНК","291-2007","стягнення заборгованості","Позичальник","-","2012-03-15",null,null,null,"-",null,null,null,null,null,"НІ"]
["300012__82","ПРОМІНВЕСТБАНК","14-2007","стягнення забезпечення","Позичальник","-","2009-09-30","2022-11-29","ТАК","ТАК","-",null,null,null,null,null,"НІ"]
["300012__82","ПРОМІНВЕСТБАНК","14-2007","стягнення заборгованості","Позичальник","-","2012-03-15",null,null,null,"-",null,null,null,null,null,"НІ"]
["300012__83","ПРОМІНВЕСТБАНК","04-11/6","стягнення забезпечення","Позичальник","-","2010-01-18","2010-07-12","НІ","так (частково)","-",null,null,null,null,null,"інформація відсутня"]
["300012__84","ПРОМІНВЕСТБАНК","04-11/60","стягнення забезпечення","Позичальник/Поручитель","-","2010-02-18","02.01.2011; 13.10.2020; 17.06.2021","ТАК","НІ","-",null,null,null,null,null,"інформація про наявні кримінальні провадження відсутні"]
["300012__85","ПРОМІНВЕСТБАНК","1802/02-03","Інофрмація про судові процеси ініційовагні Банком по стягненню заборгованості з ПП \"Молбекс\" на порталі Судова влада відстуня. Також відстуні і судові рішення по стягненню заборгованості на ресурсі Єдиного державного реєстру судових рішень. ",null,"-",null,null,null,null,"-",null,null,null,null,null,"відомості про наявні кримінальні провадження відсутні"]
["300012__85","ПРОМІНВЕСТБАНК","1802/02-03","банкрутство","Позичальник","-",null,null,null,null,"2005-06-03","ТАК","ТАК","2005-06-14","2007-08-07",null,"відомості про наявні кримінальні провадження відсутні"]
["300012__86","ПРОМІНВЕСТБАНК","04-11/8","стягнення заборгованості","Позичальник","2009-12-14","2009-12-14","2016-03-21","ТАК","НІ","-",null,null,null,null,null,"НІ"]
["300012__87","ПРОМІНВЕСТБАНК","90","стягнення заборгованості","Позичальник","-",null,null,null,null,null,null,null,null,null,null,"інформація відсутня"]
["300012__88","ПРОМІНВЕСТБАНК","121/1215","стягнення заборгованості","Позичальник","-","2006-01-26","закрито","НІ","НІ",null,null,null,null,null,null,"НІ"]
["300012__88","ПРОМІНВЕСТБАНК","121/1215","банкрутство","Позичальник","-","2009-02-17",null,null,null,"-",null,null,null,null,null,"НІ"]
["300012__89","ПРОМІНВЕСТБАНК","131/1277","стягнення заборгованості","Позичальник","-","2006-01-26","закрито","НІ","НІ",null,null,null,null,null,null,"НІ"]
["300012__89","ПРОМІНВЕСТБАНК","131/1277","банкрутство","Позичальник","-","2009-02-17",null,null,null,null,null,null,null,null,null,"НІ"]
["300012__90","ПРОМІНВЕСТБАНК","18-2006 ","інформація відсутня",null,null,null,null,null,null,null,null,null,null,null,null,"інформація відсутня"]
["300012__91","ПРОМІНВЕСТБАНК","34","невідомо",null,null,null,null,null,null,null,null,null,"2010-09-28","2010-10-06",null,"інформація відсутня"]
["300012__92","ПРОМІНВЕСТБАНК","03-1/21","стягнення забезпечення","Позичальник","-","2009-11-09","08.07.2011; 09.12.2014","ТАК","НІ","-",null,null,null,null,null,"інформація відсутня"]
["300012__93","ПРОМІНВЕСТБАНК","03-1/91","стягнення заборгованості","Позичальник","-","2009-09-09","08.07.2011; 20.08.2014","НІ","НІ","-",null,null,null,null,null,"інформація відсутня"]
["300012__94","ПРОМІНВЕСТБАНК","02/1-457 ","стягнення заборгованості","Позичальник","2010-08-11","2011-03-22","2012-01-03","НІ","НІ",null,null,null,null,null,null,"НІ"]
["300012__94","ПРОМІНВЕСТБАНК","02/1-457 ","банкрутство","Позичальник","-",null,null,null,null,"2014-10-09","ТАК","ТАК","2016-01-12",null,null,"НІ"]
["300012__95","ПРОМІНВЕСТБАНК","02/1-457","ППР не здійснюється",null,null,null,null,null,null,null,null,null,null,null,null,"НІ"]
["300012__96","ПРОМІНВЕСТБАНК","2-54-594","стягнення заборгованості","Позичальник","2007-05-15","2010-05-19","2021-07-29","ТАК","НІ","-",null,null,null,null,null,"НІ"]
["300012__96","ПРОМІНВЕСТБАНК","2-54-594","стягнення заборгованості","Позичальник","-","2007-03-07","2007-08-29","ТАК","НІ","-",null,null,null,null,null,"НІ"]
["300012__96","ПРОМІНВЕСТБАНК","2-54-594","стягнення забезпечення","Поручитель","-","2013-12-10","2019-01-25","ТАК","НІ","-",null,null,null,null,null,"НІ"]
["300012__97","ПРОМІНВЕСТБАНК","6-09-104","стягнення заборгованості","Позичальник","-","2007-03-16","2014-02-11","ТАК","НІ","-",null,null,null,null,null,"НІ"]
["300012__97","ПРОМІНВЕСТБАНК","6-09-104","стягнення заборгованості","Позичальник","-","2013-09-24","2014-02-11","ТАК","НІ","-",null,null,null,null,null,"НІ"]
["300012__98","ПРОМІНВЕСТБАНК","6-7-83","стягнення заборгованості","Позичальник","-","2015-03-25","2019-01-21","ТАК","НІ","-",null,null,null,null,null,"НІ"]
["300012__99","ПРОМІНВЕСТБАНК","2-59-469","стягнення заборгованості","Позичальник","-","2007-05-21","2017-12-21","ТАК","НІ","-",null,null,null,null,null,"НІ"]
["300012__99","ПРОМІНВЕСТБАНК","2-59-469","стягнення заборгованості","Позичальник","-","2008-09-03","2017-12-21","ТАК","НІ","-",null,null,null,null,null,"НІ"]
["300012__100","ПРОМІНВЕСТБАНК","23","стягнення заборгованості","Позичальник","-","2015-11-24","26.04.2016; 05.08.2016;12.02.2020;16.07.2020","НІ","НІ","-",null,null,null,null,null,"НІ"]
["300012__101","ПРОМІНВЕСТБАНК","67/960","стягнення заборгованості","Позичальник","-","2006-03-03","08.08.2006 - 25.08.2008 ","НІ","НІ","-",null,null,null,null,null,"НІ"]
["300012__102","ПРОМІНВЕСТБАНК","92/517","стягнення заборгованості","Позичальник","-","2006-04-20","2006-07-13","НІ","НІ","-",null,null,null,null,null,"НІ"]
["300012__103","ПРОМІНВЕСТБАНК","91/513","стягнення заборгованості","Позичальник","-","2006-04-20","27.07.2006 - 09.02.2015","НІ","НІ","-",null,null,null,null,null,"НІ"]
["300012__104","ПРОМІНВЕСТБАНК","62/323","стягнення заборгованості","Позичальник","-","2006-03-15","12.05.2006 - 31.07.2006","НІ","НІ","-",null,null,null,null,null,"НІ"]
["300012__105","ПРОМІНВЕСТБАНК","1-6/28-04","стягнення заборгованості","Позичальник","-","2008-08-11","2009-01-23","НІ","НІ","-",null,null,null,null,null,"НІ"]
["300012__106","ПРОМІНВЕСТБАНК","22/3-08","стягнення забезпечення","Поручитель","-","2010-03-02","2015-03-02","ТАК","НІ","-",null,null,null,null,null,"НІ"]
["300012__107","ПРОМІНВЕСТБАНК","1-41","стягнення заборгованості","Позичальник","-","2010-12-20","2016-10-26","ТАК","НІ","-",null,null,null,null,null,"НІ"]
["300012__108","ПРОМІНВЕСТБАНК","1-13","стягнення заборгованості","Позичальник","-","2010-12-22","2020-03-26","ТАК","НІ",null,null,null,null,null,null,"НІ"]
["300012__108","ПРОМІНВЕСТБАНК","1-13","банкрутство","Поручитель","-","2010-08-25",null,null,null,null,null,null,null,null,null,"НІ"]
["300012__109","ПРОМІНВЕСТБАНК","184/КР116","стягнення забезпечення","Позичальник","-","2010-01-25","2010-06-10","ні","ТАК (обладнання)",null,null,null,null,null,null,"НІ"]
["300012__110","ПРОМІНВЕСТБАНК","55/3-06","стягнення заборгованості","Позичальник","-","2011-02-14","2015-03-02","ні","НІ",null,null,null,null,null,null,"НІ"]
["300012__111","ПРОМІНВЕСТБАНК","3/3-08","стягнення забезпечення","Позичальник","-","2010-03-02","2015-03-02","ТАК","НІ",null,null,null,null,null,null,"НІ"]
["300012__112","ПРОМІНВЕСТБАНК","31/3-08","стягнення заборгованості","Позичальник","-","2013-09-12","2014-03-06","ні","ні",null,null,null,null,null,null,"НІ"]
["300012__112","ПРОМІНВЕСТБАНК","31/3-08","стягнення забезпечення","Поручитель",null,"2013-08-20","2016-10-04","так","ні",null,null,null,null,null,null,"НІ"]
["300012__113","ПРОМІНВЕСТБАНК","56/КР39","стягнення заборгованості","Позичальник","-","2009-10-21","2011-11-18","ні","ні",null,null,null,null,null,null,"НІ"]
["300012__114","ПРОМІНВЕСТБАНК","590/1-2007","виконавчий напис","Поручитель","-","ні","2014-06-13","НІ","ТАК","-",null,null,null,null,null,"НІ"]
["300012__115","ПРОМІНВЕСТБАНК","17/4-07","стягнення заборгованості","Позичальник","-","2010-12-29"," 24.01.2023","ТАК","ні","-",null,null,null,null,null,"Відомості про кримінальні провадження відсутні"]
["300012__116","ПРОМІНВЕСТБАНК","21/4-07","стягнення заборгованості","Позичальник","-","2010-12-29","2023-03-19","ТАК","ні","-",null,null,null,null,null,"Відомості про кримінальні провадження відсутні"]
["300012__117","ПРОМІНВЕСТБАНК","25/4-07","стягнення заборгованості","Позичальник","-","2010-12-29","2023-01-19","ТАК","ні","-",null,null,null,null,null,"Відомості про кримінальні провадження відсутні"]
["300012__118","ПРОМІНВЕСТБАНК","28/4-06","стягнення заборгованості","Позичальник","-","2010-12-29"," 24.01.2023","ТАК","ні","-",null,null,null,null,null,"Відомості про кримінальні провадження відсутні"]
["300012__119","ПРОМІНВЕСТБАНК","32/32а-04","стягнення заборгованості","Позичальник","-","2010-12-29","2023-01-19","ТАК","ні","-",null,null,null,null,null,"Відомості про кримінальні провадження відсутні"]
["300012__120","ПРОМІНВЕСТБАНК","05-01-16/326","стягнення заборгованості","Позичальник","-","2012-09-24","2013-08-08","інформація відсутня","інформація відсутня","2015-09-14","ТАК","ТАК","2016-02-10","2016-07-06",null,"інформація відсутня"]
["300012__121","ПРОМІНВЕСТБАНК","05-01-16/433","стягнення заборгованості","Солідарно","-","2012-09-24","інформація відсутня ","інформація відсутня ","інформація відсутня ","2015-09-14","ТАК","ТАК","2016-02-10","2016-07-06",null,"інформація відсутня"]
["300012__122","ПРОМІНВЕСТБАНК","1458","стягнення заборгованості","Позичальник","-","2010-12-29","2019-07-03","НІ","ТАК","-",null,null,null,null,null,"НІ"]
["300012__123","ПРОМІНВЕСТБАНК","2086","стягнення заборгованості","Позичальник","-","29.12.2010\n","2019-07-03","НІ","ні","-",null,null,null,null,null,"НІ"]
["300012__123","ПРОМІНВЕСТБАНК","2086","стягнення забезпечення","Поручитель","-","2012-09-10","2013-05-29","НІ","ТАК","-",null,null,null,null,null,"НІ"]
["300012__124","ПРОМІНВЕСТБАНК","64-КР","стягнення заборгованості","Солідарно","-","2010-04-07","2016-06-15","ТАК","ні","2013-01-18","ТАК","ТАК","2013-06-18","2016-01-19",null,"НІ"]
["300012__124","ПРОМІНВЕСТБАНК","64-КР","банкрутство","Поручитель","-","2012-11-05",null,null,null,null,null,null,null,null,null,"НІ"]
["300012__124","ПРОМІНВЕСТБАНК","64-КР","стягнення заборгованості","Поручитель","-","2010-12-09","2019-12-11","НІ","ні",null,null,null,null,null,null,"НІ"]
["300012__125","ПРОМІНВЕСТБАНК","101-08/01","стягнення заборгованості","Позичальник","2010-10-25","2011-02-09","2011-04-07","НІ","ТАК","2011-12-05","ТАК","ТАК","2013-05-22",null,null,"НІ"]
["300012__126","ПРОМІНВЕСТБАНК","1039-07/02","стягнення заборгованості","Позичальник","2010-11-25","2011-02-23","2011-05-30","НІ","ТАК","2011-12-05","ТАК","ТАК","2013-05-22",null,null,"НІ"]
["300012__126","ПРОМІНВЕСТБАНК","1039-07/02","банкрутство","Позичальник","-",null,null,null,null,null,null,null,null,null,null,"НІ"]
["300012__127","ПРОМІНВЕСТБАНК","13-65-06/212","стягнення забезпечення","Позичальник","-","2012-06-05","13.01.2011 , 10.07.2019 , 02.09.2020","ТАК","ТАК",null,null,null,null,null,null,"НІ"]
["300012__127","ПРОМІНВЕСТБАНК","13-65-06/212","стягнення заборгованості","Позичальник","-","2009-06-24",null,null,null,null,null,null,null,null,null,"НІ"]
["300012__127","ПРОМІНВЕСТБАНК","13-65-06/212","стягнення заборгованості","Позичальник","-","2010-07-05",null,null,null,null,null,null,null,null,null,"НІ"]
["300012__128","ПРОМІНВЕСТБАНК","13-65-06/261","стягнення заборгованості","Солідарно","-","2010-07-05","13.02.2014  02.09.2020","ТАК","ТАК",null,null,null,null,null,null,"НІ"]
["300012__128","ПРОМІНВЕСТБАНК","13-65-06/261","стягнення заборгованості","Позичальник",null,"2009-06-24",null,null,null,null,null,null,null,null,null,"НІ"]
["300012__129","ПРОМІНВЕСТБАНК","03-10","банкрутство","Поручитель","-",null,"-",null,null,null,null,null,null,null,"так","НІ"]
["300012__130","ПРОМІНВЕСТБАНК","03-1/140","стягнення заборгованості","Солідарно","-","2010-01-20","2012-07-25","НІ","ні",null,null,null,null,null,null,"ТАК"]
["300012__131","ПРОМІНВЕСТБАНК","03-1/38","стягнення забезпечення","Позичальник/Поручитель","-","2009-11-25","інформація відсутня","ТАК","НІ",null,null,null,null,null,null,"ТАК"]
["300012__132","ПРОМІНВЕСТБАНК","03-1/107","стягнення забезпечення","Позичальник","-","2010-02-17","2010-06-16","НІ","ТАК",null,null,null,null,null,null,"ТАК"]
["300012__133","ПРОМІНВЕСТБАНК",422,"стягнення забезпечення","Позичальник","-","2009-07-15","2013-02-11","НІ","ТАК",null,null,null,null,null,null,"НІ"]
["300012__134","ПРОМІНВЕСТБАНК","26/4-06","стягнення заборгованості","Позичальник","-","2010-07-07","2014-11-18","ТАК","НІ",null,null,null,null,null,null,"ТАК"]
["300012__135","ПРОМІНВЕСТБАНК","09-1763/7","стягнення заборгованості","Дебітор","-",null,null,null,null,null,null,null,null,null,null,"НІ"]
["300012__136","ПРОМІНВЕСТБАНК","46-2007/к","про стягнення заборгованості за кредитом, звернення стягнення на предмет іпотеки ","Позичальник","-",null,"2010-02-25","НІ","ТАК",null,null,null,null,null,null,"НІ"]
["300012__137","ПРОМІНВЕСТБАНК","57-4","стягнення забезпечення","Поручитель","-","2009-08-20"," 06.11.2015","НІ","ТАК",null,null,null,null,null,null,"НІ"]
["300012__138","ПРОМІНВЕСТБАНК",56,"стягнення заборгованості","Позичальник","-","2012-06-18"," 28.10.2020 ","ТАК","ТАК",null,null,null,null,null,null,"НІ"]
["300012__138","ПРОМІНВЕСТБАНК",56,"стягнення забезпечення","Поручитель","-","2013-04-10","16.10.2013 (рішення суду виконано) ","НІ","ТАК",null,null,null,null,null,null,"НІ"]
["300012__138","ПРОМІНВЕСТБАНК",56,"стягнення заборгованості","Поручитель","-","2013-04-18","2016-07-20","ТАК","НІ",null,null,null,null,null,null,"НІ"]
["300012__138","ПРОМІНВЕСТБАНК",56,"стягнення заборгованості","Позичальник","-"," 24.04.2019","2020-10-28","ТАК","ТАК",null,null,null,null,null,null,"НІ"]
["300012__139","ПРОМІНВЕСТБАНК","FCMF-50642","ППР не здійснюється",null,null,null,null,null,null,null,null,null,null,null,null,"НІ"]
[null,"",""]
[null,"",""]
[null,"",""]
[null,"",""]
[null,"",""]
[null,"",""]
[null,"",""]
["«Недійсність (нікчемність), припинення всіх або будь-якого із прав, що складають Майнові права за цим лотом, або неможливість реалізації покупцем будь-якого із Майнових прав, набутих ним за договором купівлі-продажу Майнових прав за цим лотом, не вплине на дійсність договору купівлі-продажу Майнових прав за цим лотом та Покупець погоджується, що Продавець не несе жодної відповідальності за такі наслідки.\nБанк (продавець) та/або Фонд не відповідає за неотримання покупцем грошових коштів або іншого майна, які покупець очікував отримати від Майнових прав, набуваючи у власність Майнові права за цим лотом.\nПриймаючи рішення щодо придбання Майнових прав за цим лотом покупець має розуміти (усвідомлювати) характер Майнових прав, що переходять до покупця за цим лотом, та приймати усі ризики, пов’язані із таким переходом, у тому числі ризики того, що покупець у майбутньому не зможе отримати жодних коштів або майна за Майновими правами.»"]
["Цей документ був підготовлений Фондом гарантування вкладів фізичних осіб (далі – Фонд) виключно для інформаційних цілей і не повинен вважатися як спонукання до будь-яких дій чи бездіяльності.  Інформація, що міститься в цьому документі, була отримана з/або ґрунтується на джерелах, які вважаються надійними, але не є вичерпною та не може сприйматися як повна або актуальна. Рішення покупця щодо будь-яких дій або бездіяльності повинно ґрунтуватися на власних оцінках та дослідженнях майна (активу/активів), котре реалізується. Фонд не несе відповідальності за рішення покупця та його наслідки, що ґрунтується на інформації, викладеній в даному документі."]
["Покупцем не може бути особа, пов'язана з державою-агресором, відповідно до Постанови Кабінету Міністрів України №187 від 03.03.2022 (зі змінами)."]
["Звертаємо увагу, що  на період дії воєнного стану на території України  договори посвідчуються нотаріусом, який включений до затвердженого Міністерством юстиції переліку (https://minjust.gov.ua/news/ministry/perelik-notariusiv-yakimi-v-umovah-voennogo-stanu-vchinyayutsya-notarialni-dii-schodo-tsinnogo-mayna). Нотаріальне посвідчення договорів відчуження нерухомого майна на час дії воєнного стану здійснюється нотаріусом, який включений до затвердженого Міністерством юстиції переліку, за місцезнаходженням такого майна. Виключенням є м. Київ та Київська область, де договори відчуження нерухомого майна посвідчуються нотаріусом з м. Києва або Київської обл. за місцезнаходженням такого майна, або місцезнаходженням юридичної особи, або за зареєстрованим місцем проживання фізичної особи - однієї із сторін договору."]
[]
[]
[null,"",""]
[null,"",""]
[null,"",""]
[null,"",""]
[null,"",""]
[null,"",""]
[null,"",""]
[null,"",""]
[null,"",""]
[null,"",""]
[null,"",""]
[null,"",""]
[null,"",""]
[null,"",""]
[null,"",""]
[null,"",""]
[null,"",""]
[null,"",""]
[null,"",""]
[null,"",""]
[null,"",""]
[null,"",""]
[null,"",""]
[null,"",""]
[null,"",""]
[null,"",""]
[null,"",""]
[null,"",""]
[null,"",""]
[null,"",""]
[null,"",""]
[null,"",""]
[null,"",""]
[null,"",""]
[null,"",""]
[null,"",""]
[null,"",""]
[null,"",""]
[null,"",""]
[null,"",""]
[null,"",""]
[null,"",""]
[null,"",""]
[null,"",""]
[null,"",""]
[null,"",""]
[null,"",""]
[null,"",""]
[null,"",""]
[null,"",""]
[null,"",""]
[null,"",""]
[null,"",""]
[null,"",""]
[null,"",""]
[null,"",""]
[null,"",""]
[null,"",""]
[null,"",""]
[null,"",""]
[null,"",""]
[null,"",""]
[null,"",""]
[null,"",""]
[null,"",""]
[null,"",""]
[null,"",""]
[null,"",""]
[null,"",""]
[null,"",""]
[null,"",""]
[null,"",""]
[null,"",""]
[null,"",""]
[null,"",""]
[null,"",""]
[null,"",""]
[null,"",""]
[null,"",""]
[null,"",""]
[null,"",""]
[null,"",""]
[null,"",""]
[null,"",""]
[null,"",""]
[null,"",""]
[null,"",""]
[null,"",""]
[null,"",""]
[null,"",""]
[null,"",""]
[null,"",""]
[null,"",""]
[null,"",""]
[null,"",""]
[null,"",""]
[null,"",""]
[null,"",""]
[null,"",""]
[null,"",""]
[null,"",""]
[null,"",""]
[null,"",""]
[null,"",""]
[null,"",""]
[null,"",""]
[null,"",""]
[null,"",""]
[null,"",""]
[null,"",""]
[null,"",""]
[null,"",""]
[null,"",""]
[null,"",""]
[null,"",""]
[null,"",""]
[null,"",""]
[null,"",""]
[null,"",""]
[null,"",""]
[null,"",""]
[null,"",""]
[null,"",""]
[null,"",""]
[null,"",""]
[null,"",""]
[null,"",""]
[null,"",""]
[null,"",""]
[null,"",""]
[null,"",""]
[null,"",""]
[null,"",""]
[null,"",""]
[null,"",""]
[null,"",""]
[null,"",""]
[null,"",""]
[null,"",""]
[null,"",""]
[null,"",""]
[null,"",""]
[null,"",""]
[null,"",""]
[null,"",""]
[null,"",""]
[null,"",""]
[null,"",""]
[null,"",""]
[null,"",""]
[null,"",""]
[null,"",""]
[null,"",""]
[null,"",""]
[null,"",""]
[null,"",""]
[null,"",""]
[null,"",""]
[null,"",""]
[null,"",""]
[null,"",""]
[null,"",""]
[null,"",""]
[null,"",""]
[null,"",""]
[null,"",""]
[null,"",""]
[null,"",""]
[null,"",""]
[null,"",""]
[null,"",""]
[null,"",""]
[null,"",""]
[null,"",""]
[null,"",""]
[null,"",""]
[null,"",""]
[null,"",""]
[null,"",""]
[null,"",""]
[null,"",""]
[null,"",""]
[null,"",""]
[null,"",""]
[null,"",""]
[null,"",""]
[null,"",""]
[null,"",""]
[null,"",""]
[null,"",""]
[null,"",""]
[null,"",""]
[null,"",""]
[null,"",""]
[null,"",""]
[null,"",""]
[null,"",""]
[null,"",""]
[null,"",""]
[null,"",""]
[null,"",""]
[null,"",""]
[null,"",""]
[null,"",""]
[null,"",""]
[null,"",""]
[null,"",""]
[null,"",""]
[null,"",""]
[null,"",""]
[null,"",""]
[null,"",""]
[null,"",""]
[null,"",""]
[null,"",""]
[null,"",""]
[null,"",""]
[null,"",""]
[null,"",""]
[null,"",""]
[null,"",""]
[null,"",""]
[null,"",""]
[null,"",""]
[null,"",""]
[null,"",""]
[null,"",""]
[null,"",""]
[null,"",""]
[null,"",""]
[null,"",""]
[null,"",""]
[null,"",""]
[null,"",""]
[null,"",""]
[null,"",""]
[null,"",""]
[null,"",""]
[null,"",""]
[null,"",""]
[null,"",""]
[null,"",""]
[null,"",""]
[null,"",""]
[null,"",""]
[null,"",""]
[null,"",""]
[null,"",""]
[null,"",""]
[null,"",""]
[null,"",""]
[null,"",""]
[null,"",""]
[null,"",""]
[null,"",""]
[null,"",""]
[null,"",""]
[null,"",""]
[null,"",""]
[null,"",""]
[null,"",""]
[null,"",""]
[null,"",""]
[null,"",""]
[null,"",""]
[null,"",""]
[null,"",""]
[null,"",""]
[null,"",""]
[null,"",""]
[null,"",""]
[null,"",""]
[null,"",""]
[null,"",""]
[null,"",""]
[null,"",""]
[null,"",""]
[null,"",""]
[null,"",""]
[null,"",""]
[null,"",""]
[null,"",""]
[null,"",""]
[null,"",""]
[null,"",""]
[null,"",""]
[null,"",""]
[null,"",""]
[null,"",""]
[null,"",""]
[null,"",""]
[null,"",""]
[null,"",""]
[null,"",""]
[null,"",""]
[null,"",""]
[null,"",""]
[null,"",""]
[null,"",""]
[null,"",""]
[null,"",""]
[null,"",""]
[null,"",""]
[null,"",""]
[null,"",""]
[null,"",""]
[null,"",""]
[null,"",""]
[null,"",""]
[null,"",""]
[null,"",""]
[null,"",""]
[null,"",""]
[null,"",""]
[null,"",""]
[null,"",""]
[null,"",""]
[null,"",""]
[null,"",""]
[null,"",""]
[null,"",""]
[null,"",""]
[null,"",""]
[null,"",""]
[null,"",""]
[null,"",""]
[null,"",""]
[null,"",""]
[null,"",""]
[null,"",""]
[null,"",""]
[null,"",""]
[null,"",""]
[null,"",""]
[null,"",""]
[null,"",""]
[null,"",""]
[null,"",""]
[null,"",""]
[null,"",""]
[null,"",""]
[null,"",""]
[null,"",""]
[null,"",""]
[null,"",""]
[null,"",""]
[null,"",""]
[null,"",""]
[null,"",""]
[null,"",""]
[null,"",""]
[null,"",""]
[null,"",""]
[null,"",""]
[null,"",""]
[null,"",""]
[null,"",""]
[null,"",""]
[null,"",""]
[null,"",""]
[null,"",""]
[null,"",""]
[null,"",""]
[null,"",""]
[null,"",""]
[null,"",""]
[null,"",""]
[null,"",""]
[null,"",""]
[null,"",""]
[null,"",""]
[null,"",""]
[null,"",""]
[null,"",""]
[null,"",""]
[null,"",""]
[null,"",""]
[null,"",""]
[null,"",""]
[null,"",""]
[null,"",""]
[null,"",""]
[null,"",""]
[null,"",""]
[null,"",""]
[null,"",""]
[null,"",""]
[null,"",""]
[null,"",""]
[null,"",""]
[null,"",""]
[null,"",""]
[null,"",""]
[null,"",""]
[null,"",""]
[null,"",""]
[null,"",""]
[null,"",""]
[null,"",""]
[null,"",""]
[null,"",""]
[null,"",""]
[null,"",""]
[null,"",""]
[null,"",""]
[null,"",""]
[null,"",""]
[null,"",""]
[null,"",""]
[null,"",""]
[null,"",""]
[null,"",""]
[null,"",""]
[null,"",""]
[null,"",""]
[null,"",""]
[null,"",""]
[null,"",""]
[null,"",""]
[null,"",""]
[null,"",""]
[null,"",""]
[null,"",""]
[null,"",""]
[null,"",""]
[null,"",""]
[null,"",""]
[null,"",""]
[null,"",""]
[null,"",""]
[null,"",""]
[null,"",""]
[null,"",""]
[null,"",""]
[null,"",""]
[null,"",""]
[null,"",""]
[null,"",""]
[null,"",""]
[null,"",""]
[null,"",""]
[null,"",""]
[null,"",""]
[null,"",""]
[null,"",""]
[null,"",""]
[null,"",""]
[null,"",""]
[null,"",""]
[null,"",""]
[null,"",""]
[null,"",""]
[null,"",""]
[null,"",""]
[null,"",""]
[null,"",""]
[null,"",""]
[null,"",""]
[null,"",""]
[null,"",""]
[null,"",""]
[null,"",""]
[null,"",""]
[null,"",""]
[null,"",""]
[null,"",""]
[null,"",""]
[null,"",""]
[null,"",""]
[null,"",""]
[null,"",""]
[null,"",""]
[null,"",""]
[null,"",""]
[null,"",""]
[null,"",""]
[null,"",""]
[null,"",""]
[null,"",""]
[null,"",""]
[null,"",""]
[null,"",""]
[null,"",""]
[null,"",""]
[null,"",""]
[null,"",""]
[null,"",""]
[null,"",""]
[null,"",""]
[null,"",""]
[null,"",""]
[null,"",""]
[null,"",""]
[null,"",""]
[null,"",""]
[null,"",""]
[null,"",""]
[null,"",""]
[null,"",""]
[null,"",""]
[null,"",""]
[null,"",""]
[null,"",""]
[null,"",""]
[null,"",""]
[null,"",""]
[null,"",""]
[null,"",""]
[null,"",""]
[null,"",""]
[null,"",""]
[null,"",""]
[null,"",""]
[null,"",""]
[null,"",""]
[null,"",""]
[null,"",""]
[null,"",""]
[null,"",""]
[null,"",""]
[null,"",""]
[null,"",""]
[null,"",""]
[null,"",""]
[null,"",""]
[null,"",""]
[null,"",""]
[null,"",""]
[null,"",""]
[null,"",""]
[null,"",""]
[null,"",""]
[null,"",""]
[null,"",""]
[null,"",""]
[null,"",""]
[null,"",""]
[null,"",""]
[null,"",""]
[null,"",""]
[null,"",""]
[null,"",""]
[null,"",""]
[null,"",""]
[null,"",""]
[null,"",""]
[null,"",""]
[null,"",""]
[null,"",""]
[null,"",""]
[null,"",""]
[null,"",""]
[null,"",""]
[null,"",""]
[null,"",""]
[null,"",""]
[null,"",""]
[null,"",""]
[null,"",""]
[null,"",""]
[null,"",""]
[null,"",""]
[null,"",""]
[null,"",""]
[null,"",""]
[null,"",""]
[null,"",""]
[null,"",""]
[null,"",""]
[null,"",""]
[null,"",""]
[null,"",""]
[null,"",""]
[null,"",""]
[null,"",""]
[null,"",""]
[null,"",""]
[null,"",""]
[null,"",""]
[null,"",""]
[null,"",""]
[null,"",""]
[null,"",""]
[null,"",""]
[null,"",""]
[null,"",""]
[null,"",""]
[null,"",""]
[null,"",""]
[null,"",""]
[null,"",""]
[null,"",""]
[null,"",""]

{"sheet":"4.журнал торгів","index":3,"n_rows":1209,"n_cols":8,"rows_kept":1209,"cut":false,"hidden":false,"merged":[[0,1,4,7],[847,0,847,16],[848,0,848,16],[849,0,849,16],[850,0,850,16]]}
[null,"Цей документ був підготовлений Фондом гарантування вкладів фізичних осіб (далі – Фонд) виключно для інформаційних цілей і не повинен вважатися як спонукання до будь-яких дій чи бездіяльності. \nІнформація, що міститься в цьому документі, була отримана з/або ґрунтується на джерелах, які вважаються надійними, але не є вичерпною та не може сприйматися як повна або актуальна. Зокрема, але не виключно, станом на дату придбання активів допускаються несуттєві зміни лота, в складі якого продаються такі активи. Під несуттєвими змінами лота слід розуміти такі зміни характеристик активів у складі такого лота, які впливають на його балансову вартість, але не більше ніж на 10 відсотків. Рішення покупця щодо будь-яких дій або бездіяльності повинно ґрунтуватися на власних оцінках та дослідженнях майна (активу/активів), котре реалізується. Фонд не несе відповідальності за рішення покупця та його наслідки, що ґрунтується на інформації, викладеній в даному документі."]
[]
[]
[]
[]
[]
["unicid","Банк","№ кред. Дог","Кількість торгів","Початкова вартість реалізації (голландський аукціон)","Мінімальна ціна на останніх торгах (голландський аукціон)","№ лота","Дата проведення останнього аукціону "]
["380816__1",{"$f":"IFERROR(VLOOKUP(A8,'1.Портфель кредитів'!A:AB,3,FALSE),\"\")","v":"Банк Січ"},{"$f":"'1.Портфель кредитів'!I9","v":"203470-ГР-3581"},5,395157.35,158062.94,"GL19N125065","2023-11-09"]
["380816__2",{"$f":"IFERROR(VLOOKUP(A9,'1.Портфель кредитів'!A:AB,3,FALSE),\"\")","v":"Банк Січ"},{"$f":"'1.Портфель кредитів'!I10","v":"203470-ГР-3582"},5,131256.79999999999,52502.720000000001,"GL19N125065","2023-11-09"]
["380816__3",{"$f":"IFERROR(VLOOKUP(A10,'1.Портфель кредитів'!A:AB,3,FALSE),\"\")","v":"Банк Січ"},{"$f":"'1.Портфель кредитів'!I11","v":"203570-ГР-2511"},5,59802.18,23920.87,"GL19N125065","2023-11-09"]
["380816__4",{"$f":"IFERROR(VLOOKUP(A11,'1.Портфель кредитів'!A:AB,3,FALSE),\"\")","v":"Банк Січ"},{"$f":"'1.Портфель кредитів'!I12","v":"173/13"},5,94681.61,37872.639999999999,"GL19N125065","2023-11-09"]
["380816__5",{"$f":"IFERROR(VLOOKUP(A12,'1.Портфель кредитів'!A:AB,3,FALSE),\"\")","v":"Банк Січ"},{"$f":"'1.Портфель кредитів'!I13","v":"176/13"},5,95048.88,38019.550000000003,"GL19N125065","2023-11-09"]
["380816__6",{"$f":"IFERROR(VLOOKUP(A13,'1.Портфель кредитів'!A:AB,3,FALSE),\"\")","v":"Банк Січ"},{"$f":"'1.Портфель кредитів'!I14","v":"258/19  "},5,35119.56,14047.82,"GL19N125065","2023-11-09"]
["380816__7",{"$f":"IFERROR(VLOOKUP(A14,'1.Портфель кредитів'!A:AB,3,FALSE),\"\")","v":"Банк Січ"},{"$f":"'1.Портфель кредитів'!I15","v":"246/19"},5,97658.16,39063.26,"GL19N125065","2023-11-09"]
["380816__8",{"$f":"IFERROR(VLOOKUP(A15,'1.Портфель кредитів'!A:AB,3,FALSE),\"\")","v":"Банк Січ"},{"$f":"'1.Портфель кредитів'!I16","v":"112/21"},5,2669969.17,1067987.67,"GL19N125065","2023-11-09"]
["380816__9",{"$f":"IFERROR(VLOOKUP(A16,'1.Портфель кредитів'!A:AB,3,FALSE),\"\")","v":"Банк Січ"},{"$f":"'1.Портфель кредитів'!I17","v":"463/21"},5,2889488.33,1155795.33,"GL19N125065","2023-11-09"]
["380816__10",{"$f":"IFERROR(VLOOKUP(A17,'1.Портфель кредитів'!A:AB,3,FALSE),\"\")","v":"Банк Січ"},{"$f":"'1.Портфель кредитів'!I18","v":"394/21"},5,5779854,2311941.6,"GL19N125065","2023-11-09"]
["380816__11",{"$f":"IFERROR(VLOOKUP(A18,'1.Портфель кредитів'!A:AB,3,FALSE),\"\")","v":"Банк Січ"},{"$f":"'1.Портфель кредитів'!I19","v":26002001204450},5,84.5,33.799999999999997,"GL19N125065","2023-11-09"]
["380816__12",{"$f":"IFERROR(VLOOKUP(A19,'1.Портфель кредитів'!A:AB,3,FALSE),\"\")","v":"Банк Січ"},{"$f":"'1.Портфель кредитів'!I20","v":26001002204450},5,40,16,"GL19N125065","2023-11-09"]
["380816__13",{"$f":"IFERROR(VLOOKUP(A20,'1.Портфель кредитів'!A:AB,3,FALSE),\"\")","v":"Банк Січ"},{"$f":"'1.Портфель кредитів'!I21","v":"104/13"},5,12328.35,4931.34,"GL19N125065","2023-11-09"]
["380816__14",{"$f":"IFERROR(VLOOKUP(A21,'1.Портфель кредитів'!A:AB,3,FALSE),\"\")","v":"Банк Січ"},{"$f":"'1.Портфель кредитів'!I22","v":26004010664},5,160,64,"GL19N125065","2023-11-09"]
["380816__15",{"$f":"IFERROR(VLOOKUP(A22,'1.Портфель кредитів'!A:AB,3,FALSE),\"\")","v":"Банк Січ"},{"$f":"'1.Портфель кредитів'!I23","v":"578/21"},5,3114447.57,1245779.03,"GL19N125065","2023-11-09"]
["380816__16",{"$f":"IFERROR(VLOOKUP(A23,'1.Портфель кредитів'!A:AB,3,FALSE),\"\")","v":"Банк Січ"},{"$f":"'1.Портфель кредитів'!I24","v":"279/21"},5,250935.45,100374.18,"GL18N1025136","2023-11-15"]
["380816__17",{"$f":"IFERROR(VLOOKUP(A24,'1.Портфель кредитів'!A:AB,3,FALSE),\"\")","v":"Банк Січ"},{"$f":"'1.Портфель кредитів'!I25","v":26005001201795},5,150.6,60.24,"GL18N1025136","2023-11-15"]
["380816__18",{"$f":"IFERROR(VLOOKUP(A25,'1.Портфель кредитів'!A:AB,3,FALSE),\"\")","v":"Банк Січ"},{"$f":"'1.Портфель кредитів'!I26","v":"179/22 "},5,856820.96,342728.38,"GL18N1025136","2023-11-15"]
["380816__19",{"$f":"IFERROR(VLOOKUP(A26,'1.Портфель кредитів'!A:AB,3,FALSE),\"\")","v":"Банк Січ"},{"$f":"'1.Портфель кредитів'!I27","v":26005001206596},5,30,12,"GL18N1025136","2023-11-15"]
["380816__20",{"$f":"IFERROR(VLOOKUP(A27,'1.Портфель кредитів'!A:AB,3,FALSE),\"\")","v":"Банк Січ"},{"$f":"'1.Портфель кредитів'!I28","v":" 26000501206596/980/РКО"},5,1,0.4,"GL18N1025136","2023-11-15"]
["380816__21",{"$f":"IFERROR(VLOOKUP(A28,'1.Портфель кредитів'!A:AB,3,FALSE),\"\")","v":"Банк Січ"},{"$f":"'1.Портфель кредитів'!I29","v":"200/21"},5,5673228.8499999996,2269291.54,"GL18N1025136","2023-11-15"]
["380816__22",{"$f":"IFERROR(VLOOKUP(A29,'1.Портфель кредитів'!A:AB,3,FALSE),\"\")","v":"Банк Січ"},{"$f":"'1.Портфель кредитів'!I30","v":26002001205642},5,60,24,"GL18N1025136","2023-11-15"]
["380816__23",{"$f":"IFERROR(VLOOKUP(A30,'1.Портфель кредитів'!A:AB,3,FALSE),\"\")","v":"Банк Січ"},{"$f":"'1.Портфель кредитів'!I31","v":"379/21"},5,5798333.3300000001,2319333.33,"GL18N1025136","2023-11-15"]
["380816__24",{"$f":"IFERROR(VLOOKUP(A31,'1.Портфель кредитів'!A:AB,3,FALSE),\"\")","v":"Банк Січ"},{"$f":"'1.Портфель кредитів'!I32","v":26003001206543},5,60,24,"GL18N1025136","2023-11-15"]
["380816__25",{"$f":"IFERROR(VLOOKUP(A32,'1.Портфель кредитів'!A:AB,3,FALSE),\"\")","v":"Банк Січ"},{"$f":"'1.Портфель кредитів'!I33","v":34092020000011},5,31.977600000000002,12.79,"GL19N125065","2023-11-09"]
["380816__26",{"$f":"IFERROR(VLOOKUP(A33,'1.Портфель кредитів'!A:AB,3,FALSE),\"\")","v":"Банк Січ"},{"$f":"'1.Портфель кредитів'!I34","v":34092020000012},5,31.984800000000003,12.79,"GL19N125065","2023-11-09"]
["380816__27",{"$f":"IFERROR(VLOOKUP(A34,'1.Портфель кредитів'!A:AB,3,FALSE),\"\")","v":"Банк Січ"},{"$f":"'1.Портфель кредитів'!I35","v":34092020000013},5,32.411999999999999,12.96,"GL19N125065","2023-11-09"]
["380816__28",{"$f":"IFERROR(VLOOKUP(A35,'1.Портфель кредитів'!A:AB,3,FALSE),\"\")","v":"Банк Січ"},{"$f":"'1.Портфель кредитів'!I36","v":34092020000014},5,49.92,19.97,"GL19N125065","2023-11-09"]
["380816__29",{"$f":"IFERROR(VLOOKUP(A36,'1.Портфель кредитів'!A:AB,3,FALSE),\"\")","v":"Банк Січ"},{"$f":"'1.Портфель кредитів'!I37","v":34092020000015},5,33.2652,13.31,"GL19N125065","2023-11-09"]
["380816__30",{"$f":"IFERROR(VLOOKUP(A37,'1.Портфель кредитів'!A:AB,3,FALSE),\"\")","v":"Банк Січ"},{"$f":"'1.Портфель кредитів'!I38","v":34092020000016},5,33.307200000000002,13.32,"GL19N125065","2023-11-09"]
["380816__31",{"$f":"IFERROR(VLOOKUP(A38,'1.Портфель кредитів'!A:AB,3,FALSE),\"\")","v":"Банк Січ"},{"$f":"'1.Портфель кредитів'!I39","v":34092020000017},5,33.489599999999996,13.4,"GL19N125065","2023-11-09"]
["380816__32",{"$f":"IFERROR(VLOOKUP(A39,'1.Портфель кредитів'!A:AB,3,FALSE),\"\")","v":"Банк Січ"},{"$f":"'1.Портфель кредитів'!I40","v":34092020000018},5,33.492000000000004,13.4,"GL19N125065","2023-11-09"]
["380816__33",{"$f":"IFERROR(VLOOKUP(A40,'1.Портфель кредитів'!A:AB,3,FALSE),\"\")","v":"Банк Січ"},{"$f":"'1.Портфель кредитів'!I41","v":34092020000019},5,33.603599999999993,13.44,"GL19N125065","2023-11-09"]
["380816__34",{"$f":"IFERROR(VLOOKUP(A41,'1.Портфель кредитів'!A:AB,3,FALSE),\"\")","v":"Банк Січ"},{"$f":"'1.Портфель кредитів'!I42","v":34092020000110},5,34.744800000000005,13.9,"GL19N125065","2023-11-09"]
["380816__35",{"$f":"IFERROR(VLOOKUP(A42,'1.Портфель кредитів'!A:AB,3,FALSE),\"\")","v":"Банк Січ"},{"$f":"'1.Портфель кредитів'!I43","v":34092020000111},5,34.786799999999999,13.91,"GL19N125065","2023-11-09"]
["380816__36",{"$f":"IFERROR(VLOOKUP(A43,'1.Портфель кредитів'!A:AB,3,FALSE),\"\")","v":"Банк Січ"},{"$f":"'1.Портфель кредитів'!I44","v":34092020000112},5,35.329200000000007,14.13,"GL19N125065","2023-11-09"]
["380816__37",{"$f":"IFERROR(VLOOKUP(A44,'1.Портфель кредитів'!A:AB,3,FALSE),\"\")","v":"Банк Січ"},{"$f":"'1.Портфель кредитів'!I45","v":34092020000113},5,35.329200000000007,14.13,"GL19N125065","2023-11-09"]
["380816__38",{"$f":"IFERROR(VLOOKUP(A45,'1.Портфель кредитів'!A:AB,3,FALSE),\"\")","v":"Банк Січ"},{"$f":"'1.Портфель кредитів'!I46","v":34092020000114},5,54.6,21.84,"GL19N125065","2023-11-09"]
["380816__39",{"$f":"IFERROR(VLOOKUP(A46,'1.Портфель кредитів'!A:AB,3,FALSE),\"\")","v":"Банк Січ"},{"$f":"'1.Портфель кредитів'!I47","v":34092020000115},5,36.21,14.48,"GL19N125065","2023-11-09"]
["380816__40",{"$f":"IFERROR(VLOOKUP(A47,'1.Портфель кредитів'!A:AB,3,FALSE),\"\")","v":"Банк Січ"},{"$f":"'1.Портфель кредитів'!I48","v":34092020000116},5,36.313200000000002,14.53,"GL19N125065","2023-11-09"]
["380816__41",{"$f":"IFERROR(VLOOKUP(A48,'1.Портфель кредитів'!A:AB,3,FALSE),\"\")","v":"Банк Січ"},{"$f":"'1.Портфель кредитів'!I49","v":34092020000117},5,36.369599999999998,14.55,"GL19N125065","2023-11-09"]
["380816__42",{"$f":"IFERROR(VLOOKUP(A49,'1.Портфель кредитів'!A:AB,3,FALSE),\"\")","v":"Банк Січ"},{"$f":"'1.Портфель кредитів'!I50","v":34092020000118},5,36.652799999999999,14.66,"GL19N125065","2023-11-09"]
["380816__43",{"$f":"IFERROR(VLOOKUP(A50,'1.Портфель кредитів'!A:AB,3,FALSE),\"\")","v":"Банк Січ"},{"$f":"'1.Портфель кредитів'!I51","v":34092020000119},5,36.778800000000004,14.71,"GL19N125065","2023-11-09"]
["380816__44",{"$f":"IFERROR(VLOOKUP(A51,'1.Портфель кредитів'!A:AB,3,FALSE),\"\")","v":"Банк Січ"},{"$f":"'1.Портфель кредитів'!I52","v":34092020000120},5,36.961199999999998,14.78,"GL19N125065","2023-11-09"]
["380816__45",{"$f":"IFERROR(VLOOKUP(A52,'1.Портфель кредитів'!A:AB,3,FALSE),\"\")","v":"Банк Січ"},{"$f":"'1.Портфель кредитів'!I53","v":34092020000121},5,57,22.8,"GL19N125065","2023-11-09"]
["380816__46",{"$f":"IFERROR(VLOOKUP(A53,'1.Портфель кредитів'!A:AB,3,FALSE),\"\")","v":"Банк Січ"},{"$f":"'1.Портфель кредитів'!I54","v":34092020000122},5,37.430400000000006,14.97,"GL19N125065","2023-11-09"]
["380816__47",{"$f":"IFERROR(VLOOKUP(A54,'1.Портфель кредитів'!A:AB,3,FALSE),\"\")","v":"Банк Січ"},{"$f":"'1.Портфель кредитів'!I55","v":34092020000123},5,37.830000000000005,15.13,"GL19N125065","2023-11-09"]
["380816__48",{"$f":"IFERROR(VLOOKUP(A55,'1.Портфель кредитів'!A:AB,3,FALSE),\"\")","v":"Банк Січ"},{"$f":"'1.Портфель кредитів'!I56","v":34092020000124},5,38.047199999999997,15.22,"GL19N125065","2023-11-09"]
["380816__49",{"$f":"IFERROR(VLOOKUP(A56,'1.Портфель кредитів'!A:AB,3,FALSE),\"\")","v":"Банк Січ"},{"$f":"'1.Портфель кредитів'!I57","v":34092020000125},5,38.290799999999997,15.32,"GL19N125065","2023-11-09"]
["380816__50",{"$f":"IFERROR(VLOOKUP(A57,'1.Портфель кредитів'!A:AB,3,FALSE),\"\")","v":"Банк Січ"},{"$f":"'1.Портфель кредитів'!I58","v":34092020000126},5,39.004800000000003,15.6,"GL19N125065","2023-11-09"]
["380816__51",{"$f":"IFERROR(VLOOKUP(A58,'1.Портфель кредитів'!A:AB,3,FALSE),\"\")","v":"Банк Січ"},{"$f":"'1.Портфель кредитів'!I59","v":34092020000127},5,39.828000000000003,15.93,"GL19N125065","2023-11-09"]
["380816__52",{"$f":"IFERROR(VLOOKUP(A59,'1.Портфель кредитів'!A:AB,3,FALSE),\"\")","v":"Банк Січ"},{"$f":"'1.Портфель кредитів'!I60","v":34092020000128},5,40.2072,16.079999999999998,"GL19N125065","2023-11-09"]
["380816__53",{"$f":"IFERROR(VLOOKUP(A60,'1.Портфель кредитів'!A:AB,3,FALSE),\"\")","v":"Банк Січ"},{"$f":"'1.Портфель кредитів'!I61","v":34092020000129},5,41.676000000000002,16.670000000000002,"GL19N125065","2023-11-09"]
["380816__54",{"$f":"IFERROR(VLOOKUP(A61,'1.Портфель кредитів'!A:AB,3,FALSE),\"\")","v":"Банк Січ"},{"$f":"'1.Портфель кредитів'!I62","v":34092020000130},5,41.95920000000001,16.78,"GL19N125065","2023-11-09"]
["380816__55",{"$f":"IFERROR(VLOOKUP(A62,'1.Портфель кредитів'!A:AB,3,FALSE),\"\")","v":"Банк Січ"},{"$f":"'1.Портфель кредитів'!I63","v":34092020000131},5,64.319999999999993,25.73,"GL19N125065","2023-11-09"]
["380816__56",{"$f":"IFERROR(VLOOKUP(A63,'1.Портфель кредитів'!A:AB,3,FALSE),\"\")","v":"Банк Січ"},{"$f":"'1.Портфель кредитів'!I64","v":34092020000132},5,42.384,16.95,"GL19N125065","2023-11-09"]
["380816__57",{"$f":"IFERROR(VLOOKUP(A64,'1.Портфель кредитів'!A:AB,3,FALSE),\"\")","v":"Банк Січ"},{"$f":"'1.Портфель кредитів'!I65","v":34092020000133},5,43.267200000000003,17.309999999999999,"GL19N125065","2023-11-09"]
["380816__58",{"$f":"IFERROR(VLOOKUP(A65,'1.Портфель кредитів'!A:AB,3,FALSE),\"\")","v":"Банк Січ"},{"$f":"'1.Портфель кредитів'!I66","v":34092020000134},5,43.279200000000003,17.309999999999999,"GL19N125065","2023-11-09"]
["380816__59",{"$f":"IFERROR(VLOOKUP(A66,'1.Портфель кредитів'!A:AB,3,FALSE),\"\")","v":"Банк Січ"},{"$f":"'1.Портфель кредитів'!I67","v":34092020000135},5,43.383600000000001,17.350000000000001,"GL19N125065","2023-11-09"]
["380816__60",{"$f":"IFERROR(VLOOKUP(A67,'1.Портфель кредитів'!A:AB,3,FALSE),\"\")","v":"Банк Січ"},{"$f":"'1.Портфель кредитів'!I68","v":34092020000136},5,43.445999999999998,17.38,"GL19N125065","2023-11-09"]
["380816__61",{"$f":"IFERROR(VLOOKUP(A68,'1.Портфель кредитів'!A:AB,3,FALSE),\"\")","v":"Банк Січ"},{"$f":"'1.Портфель кредитів'!I69","v":34092020000137},5,44.425199999999997,17.77,"GL19N125065","2023-11-09"]
["380816__62",{"$f":"IFERROR(VLOOKUP(A69,'1.Портфель кредитів'!A:AB,3,FALSE),\"\")","v":"Банк Січ"},{"$f":"'1.Портфель кредитів'!I70","v":34092020000138},5,69.11999999999999,27.65,"GL19N125065","2023-11-09"]
["380816__63",{"$f":"IFERROR(VLOOKUP(A70,'1.Портфель кредитів'!A:AB,3,FALSE),\"\")","v":"Банк Січ"},{"$f":"'1.Портфель кредитів'!I71","v":34092020000139},5,46.506,18.600000000000001,"GL19N125065","2023-11-09"]
["380816__64",{"$f":"IFERROR(VLOOKUP(A71,'1.Портфель кредитів'!A:AB,3,FALSE),\"\")","v":"Банк Січ"},{"$f":"'1.Портфель кредитів'!I72","v":34092020000140},5,46.507200000000005,18.600000000000001,"GL19N125065","2023-11-09"]
["380816__65",{"$f":"IFERROR(VLOOKUP(A72,'1.Портфель кредитів'!A:AB,3,FALSE),\"\")","v":"Банк Січ"},{"$f":"'1.Портфель кредитів'!I73","v":34092020000141},5,46.507200000000005,18.600000000000001,"GL19N125065","2023-11-09"]
["380816__66",{"$f":"IFERROR(VLOOKUP(A73,'1.Портфель кредитів'!A:AB,3,FALSE),\"\")","v":"Банк Січ"},{"$f":"'1.Портфель кредитів'!I74","v":34092020000142},5,46.579200000000007,18.63,"GL19N125065","2023-11-09"]
["380816__67",{"$f":"IFERROR(VLOOKUP(A74,'1.Портфель кредитів'!A:AB,3,FALSE),\"\")","v":"Банк Січ"},{"$f":"'1.Портфель кредитів'!I75","v":34092020000143},5,49.011600000000001,19.600000000000001,"GL19N125065","2023-11-09"]
["380816__68",{"$f":"IFERROR(VLOOKUP(A75,'1.Портфель кредитів'!A:AB,3,FALSE),\"\")","v":"Банк Січ"},{"$f":"'1.Портфель кредитів'!I76","v":34092020000144},5,49.4268,19.77,"GL19N125065","2023-11-09"]
["380816__69",{"$f":"IFERROR(VLOOKUP(A76,'1.Портфель кредитів'!A:AB,3,FALSE),\"\")","v":"Банк Січ"},{"$f":"'1.Портфель кредитів'!I77","v":34092020000145},5,49.610399999999998,19.84,"GL19N125065","2023-11-09"]
["380816__70",{"$f":"IFERROR(VLOOKUP(A77,'1.Портфель кредитів'!A:AB,3,FALSE),\"\")","v":"Банк Січ"},{"$f":"'1.Портфель кредитів'!I78","v":34092020000146},5,50.786400000000008,20.309999999999999,"GL19N125065","2023-11-09"]
["380816__71",{"$f":"IFERROR(VLOOKUP(A78,'1.Портфель кредитів'!A:AB,3,FALSE),\"\")","v":"Банк Січ"},{"$f":"'1.Портфель кредитів'!I79","v":34092020000147},5,50.799599999999998,20.32,"GL19N125065","2023-11-09"]
["380816__72",{"$f":"IFERROR(VLOOKUP(A79,'1.Портфель кредитів'!A:AB,3,FALSE),\"\")","v":"Банк Січ"},{"$f":"'1.Портфель кредитів'!I80","v":34092020000148},5,51.098399999999998,20.440000000000001,"GL19N125065","2023-11-09"]
["380816__73",{"$f":"IFERROR(VLOOKUP(A80,'1.Портфель кредитів'!A:AB,3,FALSE),\"\")","v":"Банк Січ"},{"$f":"'1.Портфель кредитів'!I81","v":34092020000149},5,52.128,20.85,"GL19N125065","2023-11-09"]
["380816__74",{"$f":"IFERROR(VLOOKUP(A81,'1.Портфель кредитів'!A:AB,3,FALSE),\"\")","v":"Банк Січ"},{"$f":"'1.Портфель кредитів'!I82","v":34092020000150},5,52.213200000000001,20.89,"GL19N125065","2023-11-09"]
["380816__75",{"$f":"IFERROR(VLOOKUP(A82,'1.Портфель кредитів'!A:AB,3,FALSE),\"\")","v":"Банк Січ"},{"$f":"'1.Портфель кредитів'!I83","v":34092020000151},5,52.594799999999999,21.04,"GL19N125065","2023-11-09"]
["380816__76",{"$f":"IFERROR(VLOOKUP(A83,'1.Портфель кредитів'!A:AB,3,FALSE),\"\")","v":"Банк Січ"},{"$f":"'1.Портфель кредитів'!I84","v":34092020000152},5,53.167200000000008,21.27,"GL19N125065","2023-11-09"]
["380816__77",{"$f":"IFERROR(VLOOKUP(A84,'1.Портфель кредитів'!A:AB,3,FALSE),\"\")","v":"Банк Січ"},{"$f":"'1.Портфель кредитів'!I85","v":34092020000153},5,53.167200000000008,21.27,"GL19N125065","2023-11-09"]
["380816__78",{"$f":"IFERROR(VLOOKUP(A85,'1.Портфель кредитів'!A:AB,3,FALSE),\"\")","v":"Банк Січ"},{"$f":"'1.Портфель кредитів'!I86","v":34092020000154},5,53.167200000000008,21.27,"GL19N125065","2023-11-09"]
["380816__79",{"$f":"IFERROR(VLOOKUP(A86,'1.Портфель кредитів'!A:AB,3,FALSE),\"\")","v":"Банк Січ"},{"$f":"'1.Портфель кредитів'!I87","v":34092020000155},5,53.192399999999999,21.28,"GL19N125065","2023-11-09"]
["380816__80",{"$f":"IFERROR(VLOOKUP(A87,'1.Портфель кредитів'!A:AB,3,FALSE),\"\")","v":"Банк Січ"},{"$f":"'1.Портфель кредитів'!I88","v":34092020000156},5,53.364000000000004,21.35,"GL19N125065","2023-11-09"]
["380816__81",{"$f":"IFERROR(VLOOKUP(A88,'1.Портфель кредитів'!A:AB,3,FALSE),\"\")","v":"Банк Січ"},{"$f":"'1.Портфель кредитів'!I89","v":34092020000157},5,53.461199999999998,21.38,"GL19N125065","2023-11-09"]
["380816__82",{"$f":"IFERROR(VLOOKUP(A89,'1.Портфель кредитів'!A:AB,3,FALSE),\"\")","v":"Банк Січ"},{"$f":"'1.Портфель кредитів'!I90","v":34092020000158},5,319.92,127.97,"GL19N125065","2023-11-09"]
["380816__83",{"$f":"IFERROR(VLOOKUP(A90,'1.Портфель кредитів'!A:AB,3,FALSE),\"\")","v":"Банк Січ"},{"$f":"'1.Портфель кредитів'!I91","v":34092020000159},5,319.92,127.97,"GL19N125065","2023-11-09"]
["380816__84",{"$f":"IFERROR(VLOOKUP(A91,'1.Портфель кредитів'!A:AB,3,FALSE),\"\")","v":"Банк Січ"},{"$f":"'1.Портфель кредитів'!I92","v":34092020000160},5,319.92,127.97,"GL19N125065","2023-11-09"]
["380816__85",{"$f":"IFERROR(VLOOKUP(A92,'1.Портфель кредитів'!A:AB,3,FALSE),\"\")","v":"Банк Січ"},{"$f":"'1.Портфель кредитів'!I93","v":34092020000161},5,54.653999999999996,21.86,"GL19N125065","2023-11-09"]
["380816__86",{"$f":"IFERROR(VLOOKUP(A93,'1.Портфель кредитів'!A:AB,3,FALSE),\"\")","v":"Банк Січ"},{"$f":"'1.Портфель кредитів'!I94","v":34092020000162},5,83.76,33.5,"GL19N125065","2023-11-09"]
["380816__87",{"$f":"IFERROR(VLOOKUP(A94,'1.Портфель кредитів'!A:AB,3,FALSE),\"\")","v":"Банк Січ"},{"$f":"'1.Портфель кредитів'!I95","v":34092020000163},5,319.92,127.97,"GL19N125065","2023-11-09"]
["380816__88",{"$f":"IFERROR(VLOOKUP(A95,'1.Портфель кредитів'!A:AB,3,FALSE),\"\")","v":"Банк Січ"},{"$f":"'1.Портфель кредитів'!I96","v":34092020000164},5,319.92,127.97,"GL19N125065","2023-11-09"]
["380816__89",{"$f":"IFERROR(VLOOKUP(A96,'1.Портфель кредитів'!A:AB,3,FALSE),\"\")","v":"Банк Січ"},{"$f":"'1.Портфель кредитів'!I97","v":34092020000165},5,319.92,127.97,"GL19N125065","2023-11-09"]
["380816__90",{"$f":"IFERROR(VLOOKUP(A97,'1.Портфель кредитів'!A:AB,3,FALSE),\"\")","v":"Банк Січ"},{"$f":"'1.Портфель кредитів'!I98","v":34092020000166},5,55.610400000000006,22.24,"GL19N125065","2023-11-09"]
["380816__91",{"$f":"IFERROR(VLOOKUP(A98,'1.Портфель кредитів'!A:AB,3,FALSE),\"\")","v":"Банк Січ"},{"$f":"'1.Портфель кредитів'!I99","v":34092020000167},5,319.92,127.97,"GL19N125065","2023-11-09"]
["380816__92",{"$f":"IFERROR(VLOOKUP(A99,'1.Портфель кредитів'!A:AB,3,FALSE),\"\")","v":"Банк Січ"},{"$f":"'1.Портфель кредитів'!I100","v":34092020000168},5,56.526000000000003,22.61,"GL19N125065","2023-11-09"]
["380816__93",{"$f":"IFERROR(VLOOKUP(A100,'1.Портфель кредитів'!A:AB,3,FALSE),\"\")","v":"Банк Січ"},{"$f":"'1.Портфель кредитів'!I101","v":34092020000169},5,56.526000000000003,22.61,"GL19N125065","2023-11-09"]
["380816__94",{"$f":"IFERROR(VLOOKUP(A101,'1.Портфель кредитів'!A:AB,3,FALSE),\"\")","v":"Банк Січ"},{"$f":"'1.Портфель кредитів'!I102","v":34092020000170},5,56.562000000000005,22.62,"GL19N125065","2023-11-09"]
["380816__95",{"$f":"IFERROR(VLOOKUP(A102,'1.Портфель кредитів'!A:AB,3,FALSE),\"\")","v":"Банк Січ"},{"$f":"'1.Портфель кредитів'!I103","v":34092020000171},5,319.92,127.97,"GL19N125065","2023-11-09"]
["380816__96",{"$f":"IFERROR(VLOOKUP(A103,'1.Портфель кредитів'!A:AB,3,FALSE),\"\")","v":"Банк Січ"},{"$f":"'1.Портфель кредитів'!I104","v":34092020000172},5,319.92,127.97,"GL19N125065","2023-11-09"]
["380816__97",{"$f":"IFERROR(VLOOKUP(A104,'1.Портфель кредитів'!A:AB,3,FALSE),\"\")","v":"Банк Січ"},{"$f":"'1.Портфель кредитів'!I105","v":34092020000173},5,87.12,34.85,"GL19N125065","2023-11-09"]
["380816__98",{"$f":"IFERROR(VLOOKUP(A105,'1.Портфель кредитів'!A:AB,3,FALSE),\"\")","v":"Банк Січ"},{"$f":"'1.Портфель кредитів'!I106","v":34092020000174},5,87.360000000000014,34.94,"GL19N125065","2023-11-09"]
["380816__99",{"$f":"IFERROR(VLOOKUP(A106,'1.Портфель кредитів'!A:AB,3,FALSE),\"\")","v":"Банк Січ"},{"$f":"'1.Портфель кредитів'!I107","v":34092020000175},5,87.360000000000014,34.94,"GL19N125065","2023-11-09"]
["380816__100",{"$f":"IFERROR(VLOOKUP(A107,'1.Портфель кредитів'!A:AB,3,FALSE),\"\")","v":"Банк Січ"},{"$f":"'1.Портфель кредитів'!I108","v":34092020000176},5,87.360000000000014,34.94,"GL19N125065","2023-11-09"]
["380816__101",{"$f":"IFERROR(VLOOKUP(A108,'1.Портфель кредитів'!A:AB,3,FALSE),\"\")","v":"Банк Січ"},{"$f":"'1.Портфель кредитів'!I109","v":34092020000177},5,58.000799999999998,23.2,"GL19N125065","2023-11-09"]
["380816__102",{"$f":"IFERROR(VLOOKUP(A109,'1.Портфель кредитів'!A:AB,3,FALSE),\"\")","v":"Банк Січ"},{"$f":"'1.Портфель кредитів'!I110","v":34092020000178},5,58.148399999999995,23.26,"GL19N125065","2023-11-09"]
["380816__103",{"$f":"IFERROR(VLOOKUP(A110,'1.Портфель кредитів'!A:AB,3,FALSE),\"\")","v":"Банк Січ"},{"$f":"'1.Портфель кредитів'!I111","v":34092020000179},5,319.92,127.97,"GL19N125065","2023-11-09"]
["380816__104",{"$f":"IFERROR(VLOOKUP(A111,'1.Портфель кредитів'!A:AB,3,FALSE),\"\")","v":"Банк Січ"},{"$f":"'1.Портфель кредитів'!I112","v":34092020000180},5,59.456400000000002,23.78,"GL19N125065","2023-11-09"]
["380816__105",{"$f":"IFERROR(VLOOKUP(A112,'1.Портфель кредитів'!A:AB,3,FALSE),\"\")","v":"Банк Січ"},{"$f":"'1.Портфель кредитів'!I113","v":34092020000181},5,59.947200000000002,23.98,"GL19N125065","2023-11-09"]
["380816__106",{"$f":"IFERROR(VLOOKUP(A113,'1.Портфель кредитів'!A:AB,3,FALSE),\"\")","v":"Банк Січ"},{"$f":"'1.Портфель кредитів'!I114","v":34092020000182},5,61.667999999999999,24.67,"GL19N125065","2023-11-09"]
["380816__107",{"$f":"IFERROR(VLOOKUP(A114,'1.Портфель кредитів'!A:AB,3,FALSE),\"\")","v":"Банк Січ"},{"$f":"'1.Портфель кредитів'!I115","v":34092020000183},5,62.164799999999993,24.87,"GL19N125065","2023-11-09"]
["380816__108",{"$f":"IFERROR(VLOOKUP(A115,'1.Портфель кредитів'!A:AB,3,FALSE),\"\")","v":"Банк Січ"},{"$f":"'1.Портфель кредитів'!I116","v":34092020000184},5,96.240000000000009,38.5,"GL19N125065","2023-11-09"]
["380816__109",{"$f":"IFERROR(VLOOKUP(A116,'1.Портфель кредитів'!A:AB,3,FALSE),\"\")","v":"Банк Січ"},{"$f":"'1.Портфель кредитів'!I117","v":34092020000185},5,160.08000000000001,64.03,"GL19N125065","2023-11-09"]
["380816__110",{"$f":"IFERROR(VLOOKUP(A117,'1.Портфель кредитів'!A:AB,3,FALSE),\"\")","v":"Банк Січ"},{"$f":"'1.Портфель кредитів'!I118","v":34092020000186},5,4560,1824,"GL19N125065","2023-11-09"]
["380816__111",{"$f":"IFERROR(VLOOKUP(A118,'1.Портфель кредитів'!A:AB,3,FALSE),\"\")","v":"Банк Січ"},{"$f":"'1.Портфель кредитів'!I119","v":34092020000187},5,65.410800000000009,26.16,"GL19N125065","2023-11-09"]
["380816__112",{"$f":"IFERROR(VLOOKUP(A119,'1.Портфель кредитів'!A:AB,3,FALSE),\"\")","v":"Банк Січ"},{"$f":"'1.Портфель кредитів'!I120","v":34092020000188},5,101.04,40.42,"GL19N125065","2023-11-09"]
["380816__113",{"$f":"IFERROR(VLOOKUP(A120,'1.Портфель кредитів'!A:AB,3,FALSE),\"\")","v":"Банк Січ"},{"$f":"'1.Портфель кредитів'!I121","v":34092020000189},5,67.768799999999999,27.11,"GL19N125065","2023-11-09"]
["380816__114",{"$f":"IFERROR(VLOOKUP(A121,'1.Портфель кредитів'!A:AB,3,FALSE),\"\")","v":"Банк Січ"},{"$f":"'1.Портфель кредитів'!I122","v":34092020000190},5,67.954799999999992,27.18,"GL19N125065","2023-11-09"]
["380816__115",{"$f":"IFERROR(VLOOKUP(A122,'1.Портфель кредитів'!A:AB,3,FALSE),\"\")","v":"Банк Січ"},{"$f":"'1.Портфель кредитів'!I123","v":34092020000191},5,67.990800000000007,27.2,"GL19N125065","2023-11-09"]
["380816__116",{"$f":"IFERROR(VLOOKUP(A123,'1.Портфель кредитів'!A:AB,3,FALSE),\"\")","v":"Банк Січ"},{"$f":"'1.Портфель кредитів'!I124","v":34092020000192},5,160.08000000000001,64.03,"GL19N125065","2023-11-09"]
["380816__117",{"$f":"IFERROR(VLOOKUP(A124,'1.Портфель кредитів'!A:AB,3,FALSE),\"\")","v":"Банк Січ"},{"$f":"'1.Портфель кредитів'!I125","v":34092020000193},5,68.282399999999996,27.31,"GL19N125065","2023-11-09"]
["380816__118",{"$f":"IFERROR(VLOOKUP(A125,'1.Портфель кредитів'!A:AB,3,FALSE),\"\")","v":"Банк Січ"},{"$f":"'1.Портфель кредитів'!I126","v":34092020000194},5,69.425999999999988,27.77,"GL19N125065","2023-11-09"]
["380816__119",{"$f":"IFERROR(VLOOKUP(A126,'1.Портфель кредитів'!A:AB,3,FALSE),\"\")","v":"Банк Січ"},{"$f":"'1.Портфель кредитів'!I127","v":34092020000195},5,106.2,42.48,"GL19N125065","2023-11-09"]
["380816__120",{"$f":"IFERROR(VLOOKUP(A127,'1.Портфель кредитів'!A:AB,3,FALSE),\"\")","v":"Банк Січ"},{"$f":"'1.Портфель кредитів'!I128","v":34092020000196},5,69.964799999999997,27.99,"GL19N125065","2023-11-09"]
["380816__121",{"$f":"IFERROR(VLOOKUP(A128,'1.Портфель кредитів'!A:AB,3,FALSE),\"\")","v":"Банк Січ"},{"$f":"'1.Портфель кредитів'!I129","v":34092020000197},5,71.755200000000002,28.7,"GL19N125065","2023-11-09"]
["380816__122",{"$f":"IFERROR(VLOOKUP(A129,'1.Портфель кредитів'!A:AB,3,FALSE),\"\")","v":"Банк Січ"},{"$f":"'1.Портфель кредитів'!I130","v":34092020000198},5,71.768400000000014,28.71,"GL19N125065","2023-11-09"]
["380816__123",{"$f":"IFERROR(VLOOKUP(A130,'1.Портфель кредитів'!A:AB,3,FALSE),\"\")","v":"Банк Січ"},{"$f":"'1.Портфель кредитів'!I131","v":34092020000199},5,72.132000000000005,28.85,"GL19N125065","2023-11-09"]
["380816__124",{"$f":"IFERROR(VLOOKUP(A131,'1.Портфель кредитів'!A:AB,3,FALSE),\"\")","v":"Банк Січ"},{"$f":"'1.Портфель кредитів'!I132","v":34092020001100},5,112.92000000000002,45.17,"GL19N125065","2023-11-09"]
["380816__125",{"$f":"IFERROR(VLOOKUP(A132,'1.Портфель кредитів'!A:AB,3,FALSE),\"\")","v":"Банк Січ"},{"$f":"'1.Портфель кредитів'!I133","v":34092020001101},5,77.325600000000009,30.93,"GL19N125065","2023-11-09"]
["380816__126",{"$f":"IFERROR(VLOOKUP(A133,'1.Портфель кредитів'!A:AB,3,FALSE),\"\")","v":"Банк Січ"},{"$f":"'1.Портфель кредитів'!I134","v":34092020001102},5,118.56,47.42,"GL19N125065","2023-11-09"]
["380816__127",{"$f":"IFERROR(VLOOKUP(A134,'1.Портфель кредитів'!A:AB,3,FALSE),\"\")","v":"Банк Січ"},{"$f":"'1.Портфель кредитів'!I135","v":34092020001103},5,80.692800000000005,32.28,"GL19N125065","2023-11-09"]
["380816__128",{"$f":"IFERROR(VLOOKUP(A135,'1.Портфель кредитів'!A:AB,3,FALSE),\"\")","v":"Банк Січ"},{"$f":"'1.Портфель кредитів'!I136","v":34092020001104},5,81.754799999999989,32.700000000000003,"GL19N125065","2023-11-09"]
["380816__129",{"$f":"IFERROR(VLOOKUP(A136,'1.Портфель кредитів'!A:AB,3,FALSE),\"\")","v":"Банк Січ"},{"$f":"'1.Портфель кредитів'!I137","v":34092020001105},5,82.156800000000004,32.86,"GL19N125065","2023-11-09"]
["380816__130",{"$f":"IFERROR(VLOOKUP(A137,'1.Портфель кредитів'!A:AB,3,FALSE),\"\")","v":"Банк Січ"},{"$f":"'1.Портфель кредитів'!I138","v":34092020001106},5,125.28,50.11,"GL19N125065","2023-11-09"]
["380816__131",{"$f":"IFERROR(VLOOKUP(A138,'1.Портфель кредитів'!A:AB,3,FALSE),\"\")","v":"Банк Січ"},{"$f":"'1.Портфель кредитів'!I139","v":34092020001107},5,82.656000000000006,33.06,"GL19N125065","2023-11-09"]
["380816__132",{"$f":"IFERROR(VLOOKUP(A139,'1.Портфель кредитів'!A:AB,3,FALSE),\"\")","v":"Банк Січ"},{"$f":"'1.Портфель кредитів'!I140","v":34092020001108},5,127.08,50.83,"GL19N125065","2023-11-09"]
["380816__133",{"$f":"IFERROR(VLOOKUP(A140,'1.Портфель кредитів'!A:AB,3,FALSE),\"\")","v":"Банк Січ"},{"$f":"'1.Портфель кредитів'!I141","v":34092020001109},5,128.76,51.5,"GL19N125065","2023-11-09"]
["380816__134",{"$f":"IFERROR(VLOOKUP(A141,'1.Портфель кредитів'!A:AB,3,FALSE),\"\")","v":"Банк Січ"},{"$f":"'1.Портфель кредитів'!I142","v":34092020001110},5,86.132400000000004,34.450000000000003,"GL19N125065","2023-11-09"]
["380816__135",{"$f":"IFERROR(VLOOKUP(A142,'1.Портфель кредитів'!A:AB,3,FALSE),\"\")","v":"Банк Січ"},{"$f":"'1.Портфель кредитів'!I143","v":34092020001111},5,132.23999999999998,52.9,"GL19N125065","2023-11-09"]
["380816__136",{"$f":"IFERROR(VLOOKUP(A143,'1.Портфель кредитів'!A:AB,3,FALSE),\"\")","v":"Банк Січ"},{"$f":"'1.Портфель кредитів'!I144","v":34092020001112},5,89.138400000000004,35.659999999999997,"GL19N125065","2023-11-09"]
["380816__137",{"$f":"IFERROR(VLOOKUP(A144,'1.Портфель кредитів'!A:AB,3,FALSE),\"\")","v":"Банк Січ"},{"$f":"'1.Портфель кредитів'!I145","v":34092020001113},5,136.32000000000002,54.53,"GL19N125065","2023-11-09"]
["380816__138",{"$f":"IFERROR(VLOOKUP(A145,'1.Портфель кредитів'!A:AB,3,FALSE),\"\")","v":"Банк Січ"},{"$f":"'1.Портфель кредитів'!I146","v":34092020001114},5,90.932400000000001,36.369999999999997,"GL19N125065","2023-11-09"]
["380816__139",{"$f":"IFERROR(VLOOKUP(A146,'1.Портфель кредитів'!A:AB,3,FALSE),\"\")","v":"Банк Січ"},{"$f":"'1.Портфель кредитів'!I147","v":34092020001115},5,94.036799999999999,37.61,"GL19N125065","2023-11-09"]
["380816__140",{"$f":"IFERROR(VLOOKUP(A147,'1.Портфель кредитів'!A:AB,3,FALSE),\"\")","v":"Банк Січ"},{"$f":"'1.Портфель кредитів'!I148","v":34092020001116},5,94.263599999999997,37.71,"GL19N125065","2023-11-09"]
["380816__141",{"$f":"IFERROR(VLOOKUP(A148,'1.Портфель кредитів'!A:AB,3,FALSE),\"\")","v":"Банк Січ"},{"$f":"'1.Портфель кредитів'!I149","v":34092020001117},5,145.56,58.22,"GL19N125065","2023-11-09"]
["380816__142",{"$f":"IFERROR(VLOOKUP(A149,'1.Портфель кредитів'!A:AB,3,FALSE),\"\")","v":"Банк Січ"},{"$f":"'1.Портфель кредитів'!I150","v":34092020001118},5,96.954000000000008,38.78,"GL19N125065","2023-11-09"]
["380816__143",{"$f":"IFERROR(VLOOKUP(A150,'1.Портфель кредитів'!A:AB,3,FALSE),\"\")","v":"Банк Січ"},{"$f":"'1.Портфель кредитів'!I151","v":34092020001119},5,97.629600000000011,39.049999999999997,"GL19N125065","2023-11-09"]
["380816__144",{"$f":"IFERROR(VLOOKUP(A151,'1.Портфель кредитів'!A:AB,3,FALSE),\"\")","v":"Банк Січ"},{"$f":"'1.Портфель кредитів'!I152","v":34092020001120},5,149.63999999999999,59.86,"GL19N125065","2023-11-09"]
["380816__145",{"$f":"IFERROR(VLOOKUP(A152,'1.Портфель кредитів'!A:AB,3,FALSE),\"\")","v":"Банк Січ"},{"$f":"'1.Портфель кредитів'!I153","v":34092020001121},5,99.151200000000003,39.659999999999997,"GL19N125065","2023-11-09"]
["380816__146",{"$f":"IFERROR(VLOOKUP(A153,'1.Портфель кредитів'!A:AB,3,FALSE),\"\")","v":"Банк Січ"},{"$f":"'1.Портфель кредитів'!I154","v":34092020001122},5,1200,480,"GL19N125065","2023-11-09"]
["380816__147",{"$f":"IFERROR(VLOOKUP(A154,'1.Портфель кредитів'!A:AB,3,FALSE),\"\")","v":"Банк Січ"},{"$f":"'1.Портфель кредитів'!I155","v":34092020001123},5,102.22200000000001,40.89,"GL19N125065","2023-11-09"]
["380816__148",{"$f":"IFERROR(VLOOKUP(A155,'1.Портфель кредитів'!A:AB,3,FALSE),\"\")","v":"Банк Січ"},{"$f":"'1.Портфель кредитів'!I156","v":34092020001124},5,158.04,63.22,"GL19N125065","2023-11-09"]
["380816__149",{"$f":"IFERROR(VLOOKUP(A156,'1.Портфель кредитів'!A:AB,3,FALSE),\"\")","v":"Банк Січ"},{"$f":"'1.Портфель кредитів'!I157","v":34092020001125},5,158.76,63.5,"GL19N125065","2023-11-09"]
["380816__150",{"$f":"IFERROR(VLOOKUP(A157,'1.Портфель кредитів'!A:AB,3,FALSE),\"\")","v":"Банк Січ"},{"$f":"'1.Портфель кредитів'!I158","v":34092020001126},5,158.76,63.5,"GL19N125065","2023-11-09"]
["380816__151",{"$f":"IFERROR(VLOOKUP(A158,'1.Портфель кредитів'!A:AB,3,FALSE),\"\")","v":"Банк Січ"},{"$f":"'1.Портфель кредитів'!I159","v":34092020001127},5,158.76,63.5,"GL19N125065","2023-11-09"]
["380816__152",{"$f":"IFERROR(VLOOKUP(A159,'1.Портфель кредитів'!A:AB,3,FALSE),\"\")","v":"Банк Січ"},{"$f":"'1.Портфель кредитів'!I160","v":34092020001128},5,158.76,63.5,"GL19N125065","2023-11-09"]
["380816__153",{"$f":"IFERROR(VLOOKUP(A160,'1.Портфель кредитів'!A:AB,3,FALSE),\"\")","v":"Банк Січ"},{"$f":"'1.Портфель кредитів'!I161","v":34092020001129},5,158.88,63.55,"GL19N125065","2023-11-09"]
["380816__154",{"$f":"IFERROR(VLOOKUP(A161,'1.Портфель кредитів'!A:AB,3,FALSE),\"\")","v":"Банк Січ"},{"$f":"'1.Портфель кредитів'!I162","v":34092020001130},5,104.82479999999998,41.93,"GL19N125065","2023-11-09"]
["380816__155",{"$f":"IFERROR(VLOOKUP(A162,'1.Портфель кредитів'!A:AB,3,FALSE),\"\")","v":"Банк Січ"},{"$f":"'1.Портфель кредитів'!I163","v":34092020001131},5,161.04,64.42,"GL19N125065","2023-11-09"]
["380816__156",{"$f":"IFERROR(VLOOKUP(A163,'1.Портфель кредитів'!A:AB,3,FALSE),\"\")","v":"Банк Січ"},{"$f":"'1.Портфель кредитів'!I164","v":34092020001132},5,164.04,65.62,"GL19N125065","2023-11-09"]
["380816__157",{"$f":"IFERROR(VLOOKUP(A164,'1.Портфель кредитів'!A:AB,3,FALSE),\"\")","v":"Банк Січ"},{"$f":"'1.Портфель кредитів'!I165","v":34092020001133},5,107.8944,43.16,"GL19N125065","2023-11-09"]
["380816__158",{"$f":"IFERROR(VLOOKUP(A165,'1.Портфель кредитів'!A:AB,3,FALSE),\"\")","v":"Банк Січ"},{"$f":"'1.Портфель кредитів'!I166","v":34092020001134},5,165,66,"GL19N125065","2023-11-09"]
["380816__159",{"$f":"IFERROR(VLOOKUP(A166,'1.Портфель кредитів'!A:AB,3,FALSE),\"\")","v":"Банк Січ"},{"$f":"'1.Портфель кредитів'!I167","v":34092020001135},5,165,66,"GL19N125065","2023-11-09"]
["380816__160",{"$f":"IFERROR(VLOOKUP(A167,'1.Портфель кредитів'!A:AB,3,FALSE),\"\")","v":"Банк Січ"},{"$f":"'1.Портфель кредитів'!I168","v":34092020001136},5,165.48000000000002,66.19,"GL19N125065","2023-11-09"]
["380816__161",{"$f":"IFERROR(VLOOKUP(A168,'1.Портфель кредитів'!A:AB,3,FALSE),\"\")","v":"Банк Січ"},{"$f":"'1.Портфель кредитів'!I169","v":34092020001137},5,108.86160000000001,43.54,"GL19N125065","2023-11-09"]
["380816__162",{"$f":"IFERROR(VLOOKUP(A169,'1.Портфель кредитів'!A:AB,3,FALSE),\"\")","v":"Банк Січ"},{"$f":"'1.Портфель кредитів'!I170","v":34092020001138},5,111.55200000000001,44.62,"GL19N125065","2023-11-09"]
["380816__163",{"$f":"IFERROR(VLOOKUP(A170,'1.Портфель кредитів'!A:AB,3,FALSE),\"\")","v":"Банк Січ"},{"$f":"'1.Портфель кредитів'!I171","v":34092020001139},5,116.64359999999999,46.66,"GL19N125065","2023-11-09"]
["380816__164",{"$f":"IFERROR(VLOOKUP(A171,'1.Портфель кредитів'!A:AB,3,FALSE),\"\")","v":"Банк Січ"},{"$f":"'1.Портфель кредитів'!I172","v":34092020001140},5,117.52200000000001,47.01,"GL19N125065","2023-11-09"]
["380816__165",{"$f":"IFERROR(VLOOKUP(A172,'1.Портфель кредитів'!A:AB,3,FALSE),\"\")","v":"Банк Січ"},{"$f":"'1.Портфель кредитів'!I173","v":34092020001141},5,118.2024,47.28,"GL19N125065","2023-11-09"]
["380816__166",{"$f":"IFERROR(VLOOKUP(A173,'1.Портфель кредитів'!A:AB,3,FALSE),\"\")","v":"Банк Січ"},{"$f":"'1.Портфель кредитів'!I174","v":34092020001142},5,119.88119999999999,47.95,"GL19N125065","2023-11-09"]
["380816__167",{"$f":"IFERROR(VLOOKUP(A174,'1.Портфель кредитів'!A:AB,3,FALSE),\"\")","v":"Банк Січ"},{"$f":"'1.Портфель кредитів'!I175","v":34092020001143},5,187.20000000000002,74.88,"GL19N125065","2023-11-09"]
["380816__168",{"$f":"IFERROR(VLOOKUP(A175,'1.Портфель кредитів'!A:AB,3,FALSE),\"\")","v":"Банк Січ"},{"$f":"'1.Портфель кредитів'!I176","v":34092020001144},5,122.96520000000001,49.19,"GL19N125065","2023-11-09"]
["380816__169",{"$f":"IFERROR(VLOOKUP(A176,'1.Портфель кредитів'!A:AB,3,FALSE),\"\")","v":"Банк Січ"},{"$f":"'1.Портфель кредитів'!I177","v":34092020001145},5,187.8,75.12,"GL19N125065","2023-11-09"]
["380816__170",{"$f":"IFERROR(VLOOKUP(A177,'1.Портфель кредитів'!A:AB,3,FALSE),\"\")","v":"Банк Січ"},{"$f":"'1.Портфель кредитів'!I178","v":34092020001146},5,124.12439999999999,49.65,"GL19N125065","2023-11-09"]
["380816__171",{"$f":"IFERROR(VLOOKUP(A178,'1.Портфель кредитів'!A:AB,3,FALSE),\"\")","v":"Банк Січ"},{"$f":"'1.Портфель кредитів'!I179","v":34092020001147},5,125.11680000000001,50.05,"GL19N125065","2023-11-09"]
["380816__172",{"$f":"IFERROR(VLOOKUP(A179,'1.Портфель кредитів'!A:AB,3,FALSE),\"\")","v":"Банк Січ"},{"$f":"'1.Портфель кредитів'!I180","v":34092020001148},5,125.586,50.23,"GL19N125065","2023-11-09"]
["380816__173",{"$f":"IFERROR(VLOOKUP(A180,'1.Портфель кредитів'!A:AB,3,FALSE),\"\")","v":"Банк Січ"},{"$f":"'1.Портфель кредитів'!I181","v":34092020001149},5,125.89920000000001,50.36,"GL19N125065","2023-11-09"]
["380816__174",{"$f":"IFERROR(VLOOKUP(A181,'1.Портфель кредитів'!A:AB,3,FALSE),\"\")","v":"Банк Січ"},{"$f":"'1.Портфель кредитів'!I182","v":34092020001150},5,193.44,77.38,"GL19N125065","2023-11-09"]
["380816__175",{"$f":"IFERROR(VLOOKUP(A182,'1.Портфель кредитів'!A:AB,3,FALSE),\"\")","v":"Банк Січ"},{"$f":"'1.Портфель кредитів'!I183","v":34092020001151},5,193.44,77.38,"GL19N125065","2023-11-09"]
["380816__176",{"$f":"IFERROR(VLOOKUP(A183,'1.Портфель кредитів'!A:AB,3,FALSE),\"\")","v":"Банк Січ"},{"$f":"'1.Портфель кредитів'!I184","v":34092020001152},5,126.93719999999999,50.77,"GL19N125065","2023-11-09"]
["380816__177",{"$f":"IFERROR(VLOOKUP(A184,'1.Портфель кредитів'!A:AB,3,FALSE),\"\")","v":"Банк Січ"},{"$f":"'1.Портфель кредитів'!I185","v":34092020001153},5,127.55160000000001,51.02,"GL19N125065","2023-11-09"]
["380816__178",{"$f":"IFERROR(VLOOKUP(A185,'1.Портфель кредитів'!A:AB,3,FALSE),\"\")","v":"Банк Січ"},{"$f":"'1.Портфель кредитів'!I186","v":34092020001154},5,196.8,78.72,"GL19N125065","2023-11-09"]
["380816__179",{"$f":"IFERROR(VLOOKUP(A186,'1.Портфель кредитів'!A:AB,3,FALSE),\"\")","v":"Банк Січ"},{"$f":"'1.Портфель кредитів'!I187","v":34092020001155},5,197.16,78.86,"GL19N125065","2023-11-09"]
["380816__180",{"$f":"IFERROR(VLOOKUP(A187,'1.Портфель кредитів'!A:AB,3,FALSE),\"\")","v":"Банк Січ"},{"$f":"'1.Портфель кредитів'!I188","v":34092020001156},5,130.52160000000001,52.21,"GL19N125065","2023-11-09"]
["380816__181",{"$f":"IFERROR(VLOOKUP(A188,'1.Портфель кредитів'!A:AB,3,FALSE),\"\")","v":"Банк Січ"},{"$f":"'1.Портфель кредитів'!I189","v":34092020001157},5,211.56,84.62,"GL19N125065","2023-11-09"]
["380816__182",{"$f":"IFERROR(VLOOKUP(A189,'1.Портфель кредитів'!A:AB,3,FALSE),\"\")","v":"Банк Січ"},{"$f":"'1.Портфель кредитів'!I190","v":34092020001158},5,142.2852,56.91,"GL19N125065","2023-11-09"]
["380816__183",{"$f":"IFERROR(VLOOKUP(A190,'1.Портфель кредитів'!A:AB,3,FALSE),\"\")","v":"Банк Січ"},{"$f":"'1.Портфель кредитів'!I191","v":34092020001159},5,142.83360000000002,57.13,"GL19N125065","2023-11-09"]
["380816__184",{"$f":"IFERROR(VLOOKUP(A191,'1.Портфель кредитів'!A:AB,3,FALSE),\"\")","v":"Банк Січ"},{"$f":"'1.Портфель кредитів'!I192","v":34092020001160},5,142.90800000000002,57.16,"GL19N125065","2023-11-09"]
["380816__185",{"$f":"IFERROR(VLOOKUP(A192,'1.Портфель кредитів'!A:AB,3,FALSE),\"\")","v":"Банк Січ"},{"$f":"'1.Портфель кредитів'!I193","v":34092020001161},5,220.07999999999998,88.03,"GL19N125065","2023-11-09"]
["380816__186",{"$f":"IFERROR(VLOOKUP(A193,'1.Портфель кредитів'!A:AB,3,FALSE),\"\")","v":"Банк Січ"},{"$f":"'1.Портфель кредитів'!I194","v":34092020001162},5,144.94800000000001,57.98,"GL19N125065","2023-11-09"]
["380816__187",{"$f":"IFERROR(VLOOKUP(A194,'1.Портфель кредитів'!A:AB,3,FALSE),\"\")","v":"Банк Січ"},{"$f":"'1.Портфель кредитів'!I195","v":34092020001163},5,147.5712,59.03,"GL19N125065","2023-11-09"]
["380816__188",{"$f":"IFERROR(VLOOKUP(A195,'1.Портфель кредитів'!A:AB,3,FALSE),\"\")","v":"Банк Січ"},{"$f":"'1.Портфель кредитів'!I196","v":34092020001164},5,148.61520000000002,59.45,"GL19N125065","2023-11-09"]
["380816__189",{"$f":"IFERROR(VLOOKUP(A196,'1.Портфель кредитів'!A:AB,3,FALSE),\"\")","v":"Банк Січ"},{"$f":"'1.Портфель кредитів'!I197","v":34092020001165},5,228.48,91.39,"GL19N125065","2023-11-09"]
["380816__190",{"$f":"IFERROR(VLOOKUP(A197,'1.Портфель кредитів'!A:AB,3,FALSE),\"\")","v":"Банк Січ"},{"$f":"'1.Портфель кредитів'!I198","v":34092020001166},5,153.69240000000002,61.48,"GL19N125065","2023-11-09"]
["380816__191",{"$f":"IFERROR(VLOOKUP(A198,'1.Портфель кредитів'!A:AB,3,FALSE),\"\")","v":"Банк Січ"},{"$f":"'1.Портфель кредитів'!I199","v":34092020001167},5,156.5112,62.6,"GL19N125065","2023-11-09"]
["380816__192",{"$f":"IFERROR(VLOOKUP(A199,'1.Портфель кредитів'!A:AB,3,FALSE),\"\")","v":"Банк Січ"},{"$f":"'1.Портфель кредитів'!I200","v":34092020001168},5,239.27999999999997,95.71,"GL19N125065","2023-11-09"]
["380816__193",{"$f":"IFERROR(VLOOKUP(A200,'1.Портфель кредитів'!A:AB,3,FALSE),\"\")","v":"Банк Січ"},{"$f":"'1.Портфель кредитів'!I201","v":34092020001169},5,159.80640000000002,63.92,"GL19N125065","2023-11-09"]
["380816__194",{"$f":"IFERROR(VLOOKUP(A201,'1.Портфель кредитів'!A:AB,3,FALSE),\"\")","v":"Банк Січ"},{"$f":"'1.Портфель кредитів'!I202","v":34092020001170},5,160.69800000000001,64.28,"GL19N125065","2023-11-09"]
["380816__195",{"$f":"IFERROR(VLOOKUP(A202,'1.Портфель кредитів'!A:AB,3,FALSE),\"\")","v":"Банк Січ"},{"$f":"'1.Портфель кредитів'!I203","v":34092020001171},5,161.36400000000003,64.55,"GL19N125065","2023-11-09"]
["380816__196",{"$f":"IFERROR(VLOOKUP(A203,'1.Портфель кредитів'!A:AB,3,FALSE),\"\")","v":"Банк Січ"},{"$f":"'1.Портфель кредитів'!I204","v":34092020001172},5,161.92079999999999,64.77,"GL19N125065","2023-11-09"]
["380816__197",{"$f":"IFERROR(VLOOKUP(A204,'1.Портфель кредитів'!A:AB,3,FALSE),\"\")","v":"Банк Січ"},{"$f":"'1.Портфель кредитів'!I205","v":34092020001173},5,162.02760000000001,64.81,"GL19N125065","2023-11-09"]
["380816__198",{"$f":"IFERROR(VLOOKUP(A205,'1.Портфель кредитів'!A:AB,3,FALSE),\"\")","v":"Банк Січ"},{"$f":"'1.Портфель кредитів'!I206","v":34092020001174},5,162.05280000000002,64.819999999999993,"GL19N125065","2023-11-09"]
["380816__199",{"$f":"IFERROR(VLOOKUP(A206,'1.Портфель кредитів'!A:AB,3,FALSE),\"\")","v":"Банк Січ"},{"$f":"'1.Портфель кредитів'!I207","v":34092020001175},5,163.422,65.37,"GL19N125065","2023-11-09"]
["380816__200",{"$f":"IFERROR(VLOOKUP(A207,'1.Портфель кредитів'!A:AB,3,FALSE),\"\")","v":"Банк Січ"},{"$f":"'1.Портфель кредитів'!I208","v":34092020001176},5,163.51080000000002,65.400000000000006,"GL19N125065","2023-11-09"]
["380816__201",{"$f":"IFERROR(VLOOKUP(A208,'1.Портфель кредитів'!A:AB,3,FALSE),\"\")","v":"Банк Січ"},{"$f":"'1.Портфель кредитів'!I209","v":34092020001177},5,163.84439999999998,65.540000000000006,"GL19N125065","2023-11-09"]
["380816__202",{"$f":"IFERROR(VLOOKUP(A209,'1.Портфель кредитів'!A:AB,3,FALSE),\"\")","v":"Банк Січ"},{"$f":"'1.Портфель кредитів'!I210","v":34092020001178},5,163.87800000000001,65.55,"GL19N125065","2023-11-09"]
["380816__203",{"$f":"IFERROR(VLOOKUP(A210,'1.Портфель кредитів'!A:AB,3,FALSE),\"\")","v":"Банк Січ"},{"$f":"'1.Портфель кредитів'!I211","v":34092020001179},5,163.89,65.56,"GL19N125065","2023-11-09"]
["380816__204",{"$f":"IFERROR(VLOOKUP(A211,'1.Портфель кредитів'!A:AB,3,FALSE),\"\")","v":"Банк Січ"},{"$f":"'1.Портфель кредитів'!I212","v":34092020001180},5,164.72280000000001,65.89,"GL19N125065","2023-11-09"]
["380816__205",{"$f":"IFERROR(VLOOKUP(A212,'1.Портфель кредитів'!A:AB,3,FALSE),\"\")","v":"Банк Січ"},{"$f":"'1.Портфель кредитів'!I213","v":34092020001181},5,164.77920000000003,65.91,"GL19N125065","2023-11-09"]
["380816__206",{"$f":"IFERROR(VLOOKUP(A213,'1.Портфель кредитів'!A:AB,3,FALSE),\"\")","v":"Банк Січ"},{"$f":"'1.Портфель кредитів'!I214","v":34092020001182},5,165.02280000000002,66.010000000000005,"GL19N125065","2023-11-09"]
["380816__207",{"$f":"IFERROR(VLOOKUP(A214,'1.Портфель кредитів'!A:AB,3,FALSE),\"\")","v":"Банк Січ"},{"$f":"'1.Портфель кредитів'!I215","v":34092020001183},5,165.05880000000002,66.02,"GL19N125065","2023-11-09"]
["380816__208",{"$f":"IFERROR(VLOOKUP(A215,'1.Портфель кредитів'!A:AB,3,FALSE),\"\")","v":"Банк Січ"},{"$f":"'1.Портфель кредитів'!I216","v":34092020001184},5,167.42400000000001,66.97,"GL19N125065","2023-11-09"]
["380816__209",{"$f":"IFERROR(VLOOKUP(A216,'1.Портфель кредитів'!A:AB,3,FALSE),\"\")","v":"Банк Січ"},{"$f":"'1.Портфель кредитів'!I217","v":34092020001185},5,169.78560000000002,67.91,"GL19N125065","2023-11-09"]
["380816__210",{"$f":"IFERROR(VLOOKUP(A217,'1.Портфель кредитів'!A:AB,3,FALSE),\"\")","v":"Банк Січ"},{"$f":"'1.Портфель кредитів'!I218","v":34092020001186},5,169.86360000000002,67.95,"GL19N125065","2023-11-09"]
["380816__211",{"$f":"IFERROR(VLOOKUP(A218,'1.Портфель кредитів'!A:AB,3,FALSE),\"\")","v":"Банк Січ"},{"$f":"'1.Портфель кредитів'!I219","v":34092020001187},5,170.39880000000002,68.16,"GL19N125065","2023-11-09"]
["380816__212",{"$f":"IFERROR(VLOOKUP(A219,'1.Портфель кредитів'!A:AB,3,FALSE),\"\")","v":"Банк Січ"},{"$f":"'1.Портфель кредитів'!I220","v":34092020001188},5,260.27999999999997,104.11,"GL19N125065","2023-11-09"]
["380816__213",{"$f":"IFERROR(VLOOKUP(A220,'1.Портфель кредитів'!A:AB,3,FALSE),\"\")","v":"Банк Січ"},{"$f":"'1.Портфель кредитів'!I221","v":34092020001189},5,170.90280000000001,68.36,"GL19N125065","2023-11-09"]
["380816__214",{"$f":"IFERROR(VLOOKUP(A221,'1.Портфель кредитів'!A:AB,3,FALSE),\"\")","v":"Банк Січ"},{"$f":"'1.Портфель кредитів'!I222","v":34092020001190},5,172.30920000000003,68.92,"GL19N125065","2023-11-09"]
["380816__215",{"$f":"IFERROR(VLOOKUP(A222,'1.Портфель кредитів'!A:AB,3,FALSE),\"\")","v":"Банк Січ"},{"$f":"'1.Портфель кредитів'!I223","v":34092020001191},5,172.43280000000001,68.97,"GL19N125065","2023-11-09"]
["380816__216",{"$f":"IFERROR(VLOOKUP(A223,'1.Портфель кредитів'!A:AB,3,FALSE),\"\")","v":"Банк Січ"},{"$f":"'1.Портфель кредитів'!I224","v":34092020001192},5,173.41079999999999,69.36,"GL19N125065","2023-11-09"]
["380816__217",{"$f":"IFERROR(VLOOKUP(A224,'1.Портфель кредитів'!A:AB,3,FALSE),\"\")","v":"Банк Січ"},{"$f":"'1.Портфель кредитів'!I225","v":34092020001193},5,174.67920000000004,69.87,"GL19N125065","2023-11-09"]
["380816__218",{"$f":"IFERROR(VLOOKUP(A225,'1.Портфель кредитів'!A:AB,3,FALSE),\"\")","v":"Банк Січ"},{"$f":"'1.Портфель кредитів'!I226","v":34092020001194},5,267.24,106.9,"GL19N125065","2023-11-09"]
["380816__219",{"$f":"IFERROR(VLOOKUP(A226,'1.Портфель кредитів'!A:AB,3,FALSE),\"\")","v":"Банк Січ"},{"$f":"'1.Портфель кредитів'!I227","v":34092020001195},5,176.30880000000002,70.52,"GL19N125065","2023-11-09"]
["380816__220",{"$f":"IFERROR(VLOOKUP(A227,'1.Портфель кредитів'!A:AB,3,FALSE),\"\")","v":"Банк Січ"},{"$f":"'1.Портфель кредитів'!I228","v":34092020001196},5,176.67240000000001,70.67,"GL19N125065","2023-11-09"]
["380816__221",{"$f":"IFERROR(VLOOKUP(A228,'1.Портфель кредитів'!A:AB,3,FALSE),\"\")","v":"Банк Січ"},{"$f":"'1.Портфель кредитів'!I229","v":34092020001197},5,198,79.2,"GL19N125065","2023-11-09"]
["380816__222",{"$f":"IFERROR(VLOOKUP(A229,'1.Портфель кредитів'!A:AB,3,FALSE),\"\")","v":"Банк Січ"},{"$f":"'1.Портфель кредитів'!I230","v":34092020001198},5,177.08520000000001,70.83,"GL19N125065","2023-11-09"]
["380816__223",{"$f":"IFERROR(VLOOKUP(A230,'1.Портфель кредитів'!A:AB,3,FALSE),\"\")","v":"Банк Січ"},{"$f":"'1.Портфель кредитів'!I231","v":34092020001199},5,179.7996,71.92,"GL19N125065","2023-11-09"]
["380816__224",{"$f":"IFERROR(VLOOKUP(A231,'1.Портфель кредитів'!A:AB,3,FALSE),\"\")","v":"Банк Січ"},{"$f":"'1.Портфель кредитів'!I232","v":34092020001200},5,180.23160000000001,72.09,"GL19N125065","2023-11-09"]
["380816__225",{"$f":"IFERROR(VLOOKUP(A232,'1.Портфель кредитів'!A:AB,3,FALSE),\"\")","v":"Банк Січ"},{"$f":"'1.Портфель кредитів'!I233","v":34092020001201},5,183.8484,73.540000000000006,"GL19N125065","2023-11-09"]
["380816__226",{"$f":"IFERROR(VLOOKUP(A233,'1.Портфель кредитів'!A:AB,3,FALSE),\"\")","v":"Банк Січ"},{"$f":"'1.Портфель кредитів'!I234","v":34092020001202},5,185.17319999999998,74.069999999999993,"GL19N125065","2023-11-09"]
["380816__227",{"$f":"IFERROR(VLOOKUP(A234,'1.Портфель кредитів'!A:AB,3,FALSE),\"\")","v":"Банк Січ"},{"$f":"'1.Портфель кредитів'!I235","v":34092020001203},5,185.5992,74.239999999999995,"GL19N125065","2023-11-09"]
["380816__228",{"$f":"IFERROR(VLOOKUP(A235,'1.Портфель кредитів'!A:AB,3,FALSE),\"\")","v":"Банк Січ"},{"$f":"'1.Портфель кредитів'!I236","v":34092020001204},5,187.1952,74.88,"GL19N125065","2023-11-09"]
["380816__229",{"$f":"IFERROR(VLOOKUP(A236,'1.Портфель кредитів'!A:AB,3,FALSE),\"\")","v":"Банк Січ"},{"$f":"'1.Портфель кредитів'!I237","v":34092020001205},5,189.00360000000001,75.599999999999994,"GL19N125065","2023-11-09"]
["380816__230",{"$f":"IFERROR(VLOOKUP(A237,'1.Портфель кредитів'!A:AB,3,FALSE),\"\")","v":"Банк Січ"},{"$f":"'1.Портфель кредитів'!I238","v":34092020001206},5,191.5284,76.61,"GL19N125065","2023-11-09"]
["380816__231",{"$f":"IFERROR(VLOOKUP(A238,'1.Портфель кредитів'!A:AB,3,FALSE),\"\")","v":"Банк Січ"},{"$f":"'1.Портфель кредитів'!I239","v":34092020001207},5,191.88720000000001,76.75,"GL19N125065","2023-11-09"]
["380816__232",{"$f":"IFERROR(VLOOKUP(A239,'1.Портфель кредитів'!A:AB,3,FALSE),\"\")","v":"Банк Січ"},{"$f":"'1.Портфель кредитів'!I240","v":34092020001208},5,196.41480000000001,78.569999999999993,"GL19N125065","2023-11-09"]
["380816__233",{"$f":"IFERROR(VLOOKUP(A240,'1.Портфель кредитів'!A:AB,3,FALSE),\"\")","v":"Банк Січ"},{"$f":"'1.Портфель кредитів'!I241","v":34092020001209},5,196.50959999999998,78.599999999999994,"GL19N125065","2023-11-09"]
["380816__234",{"$f":"IFERROR(VLOOKUP(A241,'1.Портфель кредитів'!A:AB,3,FALSE),\"\")","v":"Банк Січ"},{"$f":"'1.Портфель кредитів'!I242","v":34092020001210},5,301.08,120.43,"GL19N125065","2023-11-09"]
["380816__235",{"$f":"IFERROR(VLOOKUP(A242,'1.Портфель кредитів'!A:AB,3,FALSE),\"\")","v":"Банк Січ"},{"$f":"'1.Портфель кредитів'!I243","v":34092020001211},5,197.48760000000001,79,"GL19N125065","2023-11-09"]
["380816__236",{"$f":"IFERROR(VLOOKUP(A243,'1.Портфель кредитів'!A:AB,3,FALSE),\"\")","v":"Банк Січ"},{"$f":"'1.Портфель кредитів'!I244","v":34092020001212},5,197.54160000000002,79.02,"GL19N125065","2023-11-09"]
["380816__237",{"$f":"IFERROR(VLOOKUP(A244,'1.Портфель кредитів'!A:AB,3,FALSE),\"\")","v":"Банк Січ"},{"$f":"'1.Портфель кредитів'!I245","v":34092020001213},5,197.6568,79.06,"GL19N125065","2023-11-09"]
["380816__238",{"$f":"IFERROR(VLOOKUP(A245,'1.Портфель кредитів'!A:AB,3,FALSE),\"\")","v":"Банк Січ"},{"$f":"'1.Портфель кредитів'!I246","v":34092020001214},5,199.50120000000001,79.8,"GL19N125065","2023-11-09"]
["380816__239",{"$f":"IFERROR(VLOOKUP(A246,'1.Портфель кредитів'!A:AB,3,FALSE),\"\")","v":"Банк Січ"},{"$f":"'1.Портфель кредитів'!I247","v":34092020001215},5,200.6028,80.239999999999995,"GL19N125065","2023-11-09"]
["380816__240",{"$f":"IFERROR(VLOOKUP(A247,'1.Портфель кредитів'!A:AB,3,FALSE),\"\")","v":"Банк Січ"},{"$f":"'1.Портфель кредитів'!I248","v":34092020001216},5,306.71999999999997,122.69,"GL19N125065","2023-11-09"]
["380816__241",{"$f":"IFERROR(VLOOKUP(A248,'1.Портфель кредитів'!A:AB,3,FALSE),\"\")","v":"Банк Січ"},{"$f":"'1.Портфель кредитів'!I249","v":34092020001217},5,309.12,123.65,"GL19N125065","2023-11-09"]
["380816__242",{"$f":"IFERROR(VLOOKUP(A249,'1.Портфель кредитів'!A:AB,3,FALSE),\"\")","v":"Банк Січ"},{"$f":"'1.Портфель кредитів'!I250","v":34092020001218},5,202.80959999999999,81.12,"GL19N125065","2023-11-09"]
["380816__243",{"$f":"IFERROR(VLOOKUP(A250,'1.Портфель кредитів'!A:AB,3,FALSE),\"\")","v":"Банк Січ"},{"$f":"'1.Портфель кредитів'!I251","v":34092020001219},5,203.27280000000002,81.31,"GL19N125065","2023-11-09"]
["380816__244",{"$f":"IFERROR(VLOOKUP(A251,'1.Портфель кредитів'!A:AB,3,FALSE),\"\")","v":"Банк Січ"},{"$f":"'1.Портфель кредитів'!I252","v":34092020001220},5,203.70479999999998,81.48,"GL19N125065","2023-11-09"]
["380816__245",{"$f":"IFERROR(VLOOKUP(A252,'1.Портфель кредитів'!A:AB,3,FALSE),\"\")","v":"Банк Січ"},{"$f":"'1.Портфель кредитів'!I253","v":34092020001221},5,206.5428,82.62,"GL19N125065","2023-11-09"]
["380816__246",{"$f":"IFERROR(VLOOKUP(A253,'1.Портфель кредитів'!A:AB,3,FALSE),\"\")","v":"Банк Січ"},{"$f":"'1.Портфель кредитів'!I254","v":34092020001222},5,208.23,83.29,"GL19N125065","2023-11-09"]
["380816__247",{"$f":"IFERROR(VLOOKUP(A254,'1.Портфель кредитів'!A:AB,3,FALSE),\"\")","v":"Банк Січ"},{"$f":"'1.Портфель кредитів'!I255","v":34092020001223},5,208.75680000000003,83.5,"GL19N125065","2023-11-09"]
["380816__248",{"$f":"IFERROR(VLOOKUP(A255,'1.Портфель кредитів'!A:AB,3,FALSE),\"\")","v":"Банк Січ"},{"$f":"'1.Портфель кредитів'!I256","v":34092020001224},5,208.80360000000002,83.52,"GL19N125065","2023-11-09"]
["380816__249",{"$f":"IFERROR(VLOOKUP(A256,'1.Портфель кредитів'!A:AB,3,FALSE),\"\")","v":"Банк Січ"},{"$f":"'1.Портфель кредитів'!I257","v":34092020001225},5,212.55719999999997,85.02,"GL19N125065","2023-11-09"]
["380816__250",{"$f":"IFERROR(VLOOKUP(A257,'1.Портфель кредитів'!A:AB,3,FALSE),\"\")","v":"Банк Січ"},{"$f":"'1.Портфель кредитів'!I258","v":34092020001226},5,8512.08,3404.83,"GL19N125065","2023-11-09"]
["380816__251",{"$f":"IFERROR(VLOOKUP(A258,'1.Портфель кредитів'!A:AB,3,FALSE),\"\")","v":"Банк Січ"},{"$f":"'1.Портфель кредитів'!I259","v":34092020001227},5,336.24,134.5,"GL19N125065","2023-11-09"]
["380816__252",{"$f":"IFERROR(VLOOKUP(A259,'1.Портфель кредитів'!A:AB,3,FALSE),\"\")","v":"Банк Січ"},{"$f":"'1.Портфель кредитів'!I260","v":34092020001228},5,221.41200000000001,88.56,"GL19N125065","2023-11-09"]
["380816__253",{"$f":"IFERROR(VLOOKUP(A260,'1.Портфель кредитів'!A:AB,3,FALSE),\"\")","v":"Банк Січ"},{"$f":"'1.Портфель кредитів'!I261","v":34092020001229},5,222.4308,88.97,"GL19N125065","2023-11-09"]
["380816__254",{"$f":"IFERROR(VLOOKUP(A261,'1.Портфель кредитів'!A:AB,3,FALSE),\"\")","v":"Банк Січ"},{"$f":"'1.Портфель кредитів'!I262","v":34092020001230},5,223.34519999999998,89.34,"GL19N125065","2023-11-09"]
["380816__255",{"$f":"IFERROR(VLOOKUP(A262,'1.Портфель кредитів'!A:AB,3,FALSE),\"\")","v":"Банк Січ"},{"$f":"'1.Портфель кредитів'!I263","v":34092020001231},5,223.77359999999999,89.51,"GL19N125065","2023-11-09"]
["380816__256",{"$f":"IFERROR(VLOOKUP(A263,'1.Портфель кредитів'!A:AB,3,FALSE),\"\")","v":"Банк Січ"},{"$f":"'1.Портфель кредитів'!I264","v":34092020001232},5,225.2808,90.11,"GL19N125065","2023-11-09"]
["380816__257",{"$f":"IFERROR(VLOOKUP(A264,'1.Портфель кредитів'!A:AB,3,FALSE),\"\")","v":"Банк Січ"},{"$f":"'1.Портфель кредитів'!I265","v":34092020001233},5,226.29359999999997,90.52,"GL19N125065","2023-11-09"]
["380816__258",{"$f":"IFERROR(VLOOKUP(A265,'1.Портфель кредитів'!A:AB,3,FALSE),\"\")","v":"Банк Січ"},{"$f":"'1.Портфель кредитів'!I266","v":34092020001234},5,346.08,138.43,"GL19N125065","2023-11-09"]
["380816__259",{"$f":"IFERROR(VLOOKUP(A266,'1.Портфель кредитів'!A:AB,3,FALSE),\"\")","v":"Банк Січ"},{"$f":"'1.Портфель кредитів'!I267","v":34092020001235},5,227.36280000000002,90.95,"GL19N125065","2023-11-09"]
["380816__260",{"$f":"IFERROR(VLOOKUP(A267,'1.Портфель кредитів'!A:AB,3,FALSE),\"\")","v":"Банк Січ"},{"$f":"'1.Портфель кредитів'!I268","v":34092020001236},5,353.76,141.5,"GL19N125065","2023-11-09"]
["380816__261",{"$f":"IFERROR(VLOOKUP(A268,'1.Портфель кредитів'!A:AB,3,FALSE),\"\")","v":"Банк Січ"},{"$f":"'1.Портфель кредитів'!I269","v":34092020001237},5,232.37520000000001,92.95,"GL19N125065","2023-11-09"]
["380816__262",{"$f":"IFERROR(VLOOKUP(A269,'1.Портфель кредитів'!A:AB,3,FALSE),\"\")","v":"Банк Січ"},{"$f":"'1.Портфель кредитів'!I270","v":34092020001238},5,355.44000000000005,142.18,"GL19N125065","2023-11-09"]
["380816__263",{"$f":"IFERROR(VLOOKUP(A270,'1.Портфель кредитів'!A:AB,3,FALSE),\"\")","v":"Банк Січ"},{"$f":"'1.Портфель кредитів'!I271","v":34092020001239},5,233.57999999999998,93.43,"GL19N125065","2023-11-09"]
["380816__264",{"$f":"IFERROR(VLOOKUP(A271,'1.Портфель кредитів'!A:AB,3,FALSE),\"\")","v":"Банк Січ"},{"$f":"'1.Портфель кредитів'!I272","v":34092020001240},5,241.30680000000004,96.52,"GL19N125065","2023-11-09"]
["380816__265",{"$f":"IFERROR(VLOOKUP(A272,'1.Портфель кредитів'!A:AB,3,FALSE),\"\")","v":"Банк Січ"},{"$f":"'1.Портфель кредитів'!I273","v":34092020001241},5,242.51280000000003,97.01,"GL19N125065","2023-11-09"]
["380816__266",{"$f":"IFERROR(VLOOKUP(A273,'1.Портфель кредитів'!A:AB,3,FALSE),\"\")","v":"Банк Січ"},{"$f":"'1.Портфель кредитів'!I274","v":34092020001242},5,251.2056,100.48,"GL19N125065","2023-11-09"]
["380816__267",{"$f":"IFERROR(VLOOKUP(A274,'1.Портфель кредитів'!A:AB,3,FALSE),\"\")","v":"Банк Січ"},{"$f":"'1.Портфель кредитів'!I275","v":34092020001243},5,253.61159999999995,101.44,"GL19N125065","2023-11-09"]
["380816__268",{"$f":"IFERROR(VLOOKUP(A275,'1.Портфель кредитів'!A:AB,3,FALSE),\"\")","v":"Банк Січ"},{"$f":"'1.Портфель кредитів'!I276","v":34092020001244},5,255.70320000000004,102.28,"GL19N125065","2023-11-09"]
["380816__269",{"$f":"IFERROR(VLOOKUP(A276,'1.Портфель кредитів'!A:AB,3,FALSE),\"\")","v":"Банк Січ"},{"$f":"'1.Портфель кредитів'!I277","v":34092020001245},5,259.21320000000003,103.69,"GL19N125065","2023-11-09"]
["380816__270",{"$f":"IFERROR(VLOOKUP(A277,'1.Портфель кредитів'!A:AB,3,FALSE),\"\")","v":"Банк Січ"},{"$f":"'1.Портфель кредитів'!I278","v":34092020001246},5,259.54680000000002,103.82,"GL19N125065","2023-11-09"]
["380816__271",{"$f":"IFERROR(VLOOKUP(A278,'1.Портфель кредитів'!A:AB,3,FALSE),\"\")","v":"Банк Січ"},{"$f":"'1.Портфель кредитів'!I279","v":34092020001247},5,260.10719999999998,104.04,"GL19N125065","2023-11-09"]
["380816__272",{"$f":"IFERROR(VLOOKUP(A279,'1.Портфель кредитів'!A:AB,3,FALSE),\"\")","v":"Банк Січ"},{"$f":"'1.Портфель кредитів'!I280","v":34092020001248},5,263.12759999999997,105.25,"GL19N125065","2023-11-09"]
["380816__273",{"$f":"IFERROR(VLOOKUP(A280,'1.Портфель кредитів'!A:AB,3,FALSE),\"\")","v":"Банк Січ"},{"$f":"'1.Портфель кредитів'!I281","v":34092020001249},5,263.79840000000002,105.52,"GL19N125065","2023-11-09"]
["380816__274",{"$f":"IFERROR(VLOOKUP(A281,'1.Портфель кредитів'!A:AB,3,FALSE),\"\")","v":"Банк Січ"},{"$f":"'1.Портфель кредитів'!I282","v":34092020001250},5,263.90159999999997,105.56,"GL19N125065","2023-11-09"]
["380816__275",{"$f":"IFERROR(VLOOKUP(A282,'1.Портфель кредитів'!A:AB,3,FALSE),\"\")","v":"Банк Січ"},{"$f":"'1.Портфель кредитів'!I283","v":34092020001251},5,266.86560000000003,106.75,"GL19N125065","2023-11-09"]
["380816__276",{"$f":"IFERROR(VLOOKUP(A283,'1.Портфель кредитів'!A:AB,3,FALSE),\"\")","v":"Банк Січ"},{"$f":"'1.Портфель кредитів'!I284","v":34092020001252},5,267.0564,106.82,"GL19N125065","2023-11-09"]
["380816__277",{"$f":"IFERROR(VLOOKUP(A284,'1.Портфель кредитів'!A:AB,3,FALSE),\"\")","v":"Банк Січ"},{"$f":"'1.Портфель кредитів'!I285","v":34092020001253},5,268.53840000000002,107.42,"GL19N125065","2023-11-09"]
["380816__278",{"$f":"IFERROR(VLOOKUP(A285,'1.Портфель кредитів'!A:AB,3,FALSE),\"\")","v":"Банк Січ"},{"$f":"'1.Портфель кредитів'!I286","v":34092020001254},5,270.54480000000001,108.22,"GL19N125065","2023-11-09"]
["380816__279",{"$f":"IFERROR(VLOOKUP(A286,'1.Портфель кредитів'!A:AB,3,FALSE),\"\")","v":"Банк Січ"},{"$f":"'1.Портфель кредитів'!I287","v":34092020001255},5,270.58679999999998,108.23,"GL19N125065","2023-11-09"]
["380816__280",{"$f":"IFERROR(VLOOKUP(A287,'1.Портфель кредитів'!A:AB,3,FALSE),\"\")","v":"Банк Січ"},{"$f":"'1.Портфель кредитів'!I288","v":34092020001256},5,272.52840000000003,109.01,"GL19N125065","2023-11-09"]
["380816__281",{"$f":"IFERROR(VLOOKUP(A288,'1.Портфель кредитів'!A:AB,3,FALSE),\"\")","v":"Банк Січ"},{"$f":"'1.Портфель кредитів'!I289","v":34092020001257},5,416.64,166.66,"GL19N125065","2023-11-09"]
["380816__282",{"$f":"IFERROR(VLOOKUP(A289,'1.Портфель кредитів'!A:AB,3,FALSE),\"\")","v":"Банк Січ"},{"$f":"'1.Портфель кредитів'!I290","v":34092020001258},5,273.3852,109.35,"GL19N125065","2023-11-09"]
["380816__283",{"$f":"IFERROR(VLOOKUP(A290,'1.Портфель кредитів'!A:AB,3,FALSE),\"\")","v":"Банк Січ"},{"$f":"'1.Портфель кредитів'!I291","v":34092020001259},5,273.40199999999999,109.36,"GL19N125065","2023-11-09"]
["380816__284",{"$f":"IFERROR(VLOOKUP(A291,'1.Портфель кредитів'!A:AB,3,FALSE),\"\")","v":"Банк Січ"},{"$f":"'1.Портфель кредитів'!I292","v":34092020001260},5,273.75360000000001,109.5,"GL19N125065","2023-11-09"]
["380816__285",{"$f":"IFERROR(VLOOKUP(A292,'1.Портфель кредитів'!A:AB,3,FALSE),\"\")","v":"Банк Січ"},{"$f":"'1.Портфель кредитів'!I293","v":34092020001261},5,276.11879999999996,110.45,"GL19N125065","2023-11-09"]
["380816__286",{"$f":"IFERROR(VLOOKUP(A293,'1.Портфель кредитів'!A:AB,3,FALSE),\"\")","v":"Банк Січ"},{"$f":"'1.Портфель кредитів'!I294","v":34092020001262},5,319.92,127.97,"GL19N125065","2023-11-09"]
["380816__287",{"$f":"IFERROR(VLOOKUP(A294,'1.Портфель кредитів'!A:AB,3,FALSE),\"\")","v":"Банк Січ"},{"$f":"'1.Портфель кредитів'!I295","v":34092020001263},5,279.92160000000001,111.97,"GL19N125065","2023-11-09"]
["380816__288",{"$f":"IFERROR(VLOOKUP(A295,'1.Портфель кредитів'!A:AB,3,FALSE),\"\")","v":"Банк Січ"},{"$f":"'1.Портфель кредитів'!I296","v":34092020001264},5,283.19880000000001,113.28,"GL19N125065","2023-11-09"]
["380816__289",{"$f":"IFERROR(VLOOKUP(A296,'1.Портфель кредитів'!A:AB,3,FALSE),\"\")","v":"Банк Січ"},{"$f":"'1.Портфель кредитів'!I297","v":34092020001265},5,285.69720000000001,114.28,"GL19N125065","2023-11-09"]
["380816__290",{"$f":"IFERROR(VLOOKUP(A297,'1.Портфель кредитів'!A:AB,3,FALSE),\"\")","v":"Банк Січ"},{"$f":"'1.Портфель кредитів'!I298","v":34092020001266},5,285.69839999999999,114.28,"GL19N125065","2023-11-09"]
["380816__291",{"$f":"IFERROR(VLOOKUP(A298,'1.Портфель кредитів'!A:AB,3,FALSE),\"\")","v":"Банк Січ"},{"$f":"'1.Портфель кредитів'!I299","v":34092020001267},5,285.91919999999999,114.37,"GL19N125065","2023-11-09"]
["380816__292",{"$f":"IFERROR(VLOOKUP(A299,'1.Портфель кредитів'!A:AB,3,FALSE),\"\")","v":"Банк Січ"},{"$f":"'1.Портфель кредитів'!I300","v":34092020001268},5,289.00919999999996,115.6,"GL19N125065","2023-11-09"]
["380816__293",{"$f":"IFERROR(VLOOKUP(A300,'1.Портфель кредитів'!A:AB,3,FALSE),\"\")","v":"Банк Січ"},{"$f":"'1.Портфель кредитів'!I301","v":34092020001269},5,290.36039999999997,116.14,"GL19N125065","2023-11-09"]
["380816__294",{"$f":"IFERROR(VLOOKUP(A301,'1.Портфель кредитів'!A:AB,3,FALSE),\"\")","v":"Банк Січ"},{"$f":"'1.Портфель кредитів'!I302","v":34092020001270},5,292.10879999999997,116.84,"GL19N125065","2023-11-09"]
["380816__295",{"$f":"IFERROR(VLOOKUP(A302,'1.Портфель кредитів'!A:AB,3,FALSE),\"\")","v":"Банк Січ"},{"$f":"'1.Портфель кредитів'!I303","v":34092020001271},5,293.12520000000001,117.25,"GL19N125065","2023-11-09"]
["380816__296",{"$f":"IFERROR(VLOOKUP(A303,'1.Портфель кредитів'!A:AB,3,FALSE),\"\")","v":"Банк Січ"},{"$f":"'1.Портфель кредитів'!I304","v":34092020001272},5,300.096,120.04,"GL19N125065","2023-11-09"]
["380816__297",{"$f":"IFERROR(VLOOKUP(A304,'1.Портфель кредитів'!A:AB,3,FALSE),\"\")","v":"Банк Січ"},{"$f":"'1.Портфель кредитів'!I305","v":34092020001273},5,305.60640000000001,122.24,"GL19N125065","2023-11-09"]
["380816__298",{"$f":"IFERROR(VLOOKUP(A305,'1.Портфель кредитів'!A:AB,3,FALSE),\"\")","v":"Банк Січ"},{"$f":"'1.Портфель кредитів'!I306","v":34092020001274},5,307.90080000000006,123.16,"GL19N125065","2023-11-09"]
["380816__299",{"$f":"IFERROR(VLOOKUP(A306,'1.Портфель кредитів'!A:AB,3,FALSE),\"\")","v":"Банк Січ"},{"$f":"'1.Портфель кредитів'!I307","v":34092020001275},5,471.6,188.64,"GL19N125065","2023-11-09"]
["380816__300",{"$f":"IFERROR(VLOOKUP(A307,'1.Портфель кредитів'!A:AB,3,FALSE),\"\")","v":"Банк Січ"},{"$f":"'1.Портфель кредитів'!I308","v":34092020001276},5,471.6,188.64,"GL19N125065","2023-11-09"]
["380816__301",{"$f":"IFERROR(VLOOKUP(A308,'1.Портфель кредитів'!A:AB,3,FALSE),\"\")","v":"Банк Січ"},{"$f":"'1.Портфель кредитів'!I309","v":34092020001277},5,471.6,188.64,"GL19N125065","2023-11-09"]
["380816__302",{"$f":"IFERROR(VLOOKUP(A309,'1.Портфель кредитів'!A:AB,3,FALSE),\"\")","v":"Банк Січ"},{"$f":"'1.Портфель кредитів'!I310","v":34092020001278},5,471.6,188.64,"GL19N125065","2023-11-09"]
["380816__303",{"$f":"IFERROR(VLOOKUP(A310,'1.Портфель кредитів'!A:AB,3,FALSE),\"\")","v":"Банк Січ"},{"$f":"'1.Портфель кредитів'!I311","v":34092020001279},5,312.44040000000001,124.98,"GL19N125065","2023-11-09"]
["380816__304",{"$f":"IFERROR(VLOOKUP(A311,'1.Портфель кредитів'!A:AB,3,FALSE),\"\")","v":"Банк Січ"},{"$f":"'1.Портфель кредитів'!I312","v":34092020001280},5,313.4076,125.36,"GL19N125065","2023-11-09"]
["380816__305",{"$f":"IFERROR(VLOOKUP(A312,'1.Портфель кредитів'!A:AB,3,FALSE),\"\")","v":"Банк Січ"},{"$f":"'1.Портфель кредитів'!I313","v":34092020001281},5,314.64959999999996,125.86,"GL19N125065","2023-11-09"]
["380816__306",{"$f":"IFERROR(VLOOKUP(A313,'1.Портфель кредитів'!A:AB,3,FALSE),\"\")","v":"Банк Січ"},{"$f":"'1.Портфель кредитів'!I314","v":34092020001282},5,314.82360000000006,125.93,"GL19N125065","2023-11-09"]
["380816__307",{"$f":"IFERROR(VLOOKUP(A314,'1.Портфель кредитів'!A:AB,3,FALSE),\"\")","v":"Банк Січ"},{"$f":"'1.Портфель кредитів'!I315","v":34092020001283},5,322.23240000000004,128.88999999999999,"GL19N125065","2023-11-09"]
["380816__308",{"$f":"IFERROR(VLOOKUP(A315,'1.Портфель кредитів'!A:AB,3,FALSE),\"\")","v":"Банк Січ"},{"$f":"'1.Портфель кредитів'!I316","v":34092020001284},5,322.47239999999999,128.99,"GL19N125065","2023-11-09"]
["380816__309",{"$f":"IFERROR(VLOOKUP(A316,'1.Портфель кредитів'!A:AB,3,FALSE),\"\")","v":"Банк Січ"},{"$f":"'1.Портфель кредитів'!I317","v":34092020001285},5,325.71720000000005,130.29,"GL19N125065","2023-11-09"]
["380816__310",{"$f":"IFERROR(VLOOKUP(A317,'1.Портфель кредитів'!A:AB,3,FALSE),\"\")","v":"Банк Січ"},{"$f":"'1.Портфель кредитів'!I318","v":34092020001286},5,328.39320000000004,131.36000000000001,"GL19N125065","2023-11-09"]
["380816__311",{"$f":"IFERROR(VLOOKUP(A318,'1.Портфель кредитів'!A:AB,3,FALSE),\"\")","v":"Банк Січ"},{"$f":"'1.Портфель кредитів'!I319","v":34092020001287},5,328.67160000000001,131.47,"GL19N125065","2023-11-09"]
["380816__312",{"$f":"IFERROR(VLOOKUP(A319,'1.Портфель кредитів'!A:AB,3,FALSE),\"\")","v":"Банк Січ"},{"$f":"'1.Портфель кредитів'!I320","v":34092020001288},5,332.29320000000007,132.91999999999999,"GL19N125065","2023-11-09"]
["380816__313",{"$f":"IFERROR(VLOOKUP(A320,'1.Портфель кредитів'!A:AB,3,FALSE),\"\")","v":"Банк Січ"},{"$f":"'1.Портфель кредитів'!I321","v":34092020001289},5,334.20479999999998,133.68,"GL19N125065","2023-11-09"]
["380816__314",{"$f":"IFERROR(VLOOKUP(A321,'1.Портфель кредитів'!A:AB,3,FALSE),\"\")","v":"Банк Січ"},{"$f":"'1.Портфель кредитів'!I322","v":34092020001290},5,334.43280000000004,133.77000000000001,"GL19N125065","2023-11-09"]
["380816__315",{"$f":"IFERROR(VLOOKUP(A322,'1.Портфель кредитів'!A:AB,3,FALSE),\"\")","v":"Банк Січ"},{"$f":"'1.Портфель кредитів'!I323","v":34092020001291},5,334.93080000000003,133.97,"GL19N125065","2023-11-09"]
["380816__316",{"$f":"IFERROR(VLOOKUP(A323,'1.Портфель кредитів'!A:AB,3,FALSE),\"\")","v":"Банк Січ"},{"$f":"'1.Портфель кредитів'!I324","v":34092020001292},5,335.58360000000005,134.22999999999999,"GL19N125065","2023-11-09"]
["380816__317",{"$f":"IFERROR(VLOOKUP(A324,'1.Портфель кредитів'!A:AB,3,FALSE),\"\")","v":"Банк Січ"},{"$f":"'1.Портфель кредитів'!I325","v":34092020001293},5,337.04760000000005,134.82,"GL19N125065","2023-11-09"]
["380816__318",{"$f":"IFERROR(VLOOKUP(A325,'1.Портфель кредитів'!A:AB,3,FALSE),\"\")","v":"Банк Січ"},{"$f":"'1.Портфель кредитів'!I326","v":34092020001294},5,338.16239999999999,135.26,"GL19N125065","2023-11-09"]
["380816__319",{"$f":"IFERROR(VLOOKUP(A326,'1.Портфель кредитів'!A:AB,3,FALSE),\"\")","v":"Банк Січ"},{"$f":"'1.Портфель кредитів'!I327","v":34092020001295},5,340.35,136.13999999999999,"GL19N125065","2023-11-09"]
["380816__320",{"$f":"IFERROR(VLOOKUP(A327,'1.Портфель кредитів'!A:AB,3,FALSE),\"\")","v":"Банк Січ"},{"$f":"'1.Портфель кредитів'!I328","v":34092020001296},5,342.73680000000002,137.09,"GL19N125065","2023-11-09"]
["380816__321",{"$f":"IFERROR(VLOOKUP(A328,'1.Портфель кредитів'!A:AB,3,FALSE),\"\")","v":"Банк Січ"},{"$f":"'1.Портфель кредитів'!I329","v":34092020001297},5,347.75639999999999,139.1,"GL19N125065","2023-11-09"]
["380816__322",{"$f":"IFERROR(VLOOKUP(A329,'1.Портфель кредитів'!A:AB,3,FALSE),\"\")","v":"Банк Січ"},{"$f":"'1.Портфель кредитів'!I330","v":34092020001298},5,355.8,142.32,"GL19N125065","2023-11-09"]
["380816__323",{"$f":"IFERROR(VLOOKUP(A330,'1.Портфель кредитів'!A:AB,3,FALSE),\"\")","v":"Банк Січ"},{"$f":"'1.Портфель кредитів'!I331","v":34092020001299},5,358.65360000000004,143.46,"GL19N125065","2023-11-09"]
["380816__324",{"$f":"IFERROR(VLOOKUP(A331,'1.Портфель кредитів'!A:AB,3,FALSE),\"\")","v":"Банк Січ"},{"$f":"'1.Портфель кредитів'!I332","v":34092020001300},5,365.36040000000003,146.13999999999999,"GL19N125065","2023-11-09"]
["380816__325",{"$f":"IFERROR(VLOOKUP(A332,'1.Портфель кредитів'!A:AB,3,FALSE),\"\")","v":"Банк Січ"},{"$f":"'1.Портфель кредитів'!I333","v":34092020001301},5,371.15879999999999,148.46,"GL19N125065","2023-11-09"]
["380816__326",{"$f":"IFERROR(VLOOKUP(A333,'1.Портфель кредитів'!A:AB,3,FALSE),\"\")","v":"Банк Січ"},{"$f":"'1.Портфель кредитів'!I334","v":34092020001302},5,378.90000000000003,151.56,"GL19N125065","2023-11-09"]
["380816__327",{"$f":"IFERROR(VLOOKUP(A334,'1.Портфель кредитів'!A:AB,3,FALSE),\"\")","v":"Банк Січ"},{"$f":"'1.Портфель кредитів'!I335","v":34092020001303},5,380.24520000000001,152.1,"GL19N125065","2023-11-09"]
["380816__328",{"$f":"IFERROR(VLOOKUP(A335,'1.Портфель кредитів'!A:AB,3,FALSE),\"\")","v":"Банк Січ"},{"$f":"'1.Портфель кредитів'!I336","v":34092020001304},5,582,232.8,"GL19N125065","2023-11-09"]
["380816__329",{"$f":"IFERROR(VLOOKUP(A336,'1.Портфель кредитів'!A:AB,3,FALSE),\"\")","v":"Банк Січ"},{"$f":"'1.Портфель кредитів'!I337","v":34092020001305},5,381.80520000000001,152.72,"GL19N125065","2023-11-09"]
["380816__330",{"$f":"IFERROR(VLOOKUP(A337,'1.Портфель кредитів'!A:AB,3,FALSE),\"\")","v":"Банк Січ"},{"$f":"'1.Портфель кредитів'!I338","v":34092020001306},5,388.62360000000001,155.44999999999999,"GL19N125065","2023-11-09"]
["380816__331",{"$f":"IFERROR(VLOOKUP(A338,'1.Портфель кредитів'!A:AB,3,FALSE),\"\")","v":"Банк Січ"},{"$f":"'1.Портфель кредитів'!I339","v":34092020001307},5,389.48879999999997,155.80000000000001,"GL19N125065","2023-11-09"]
["380816__332",{"$f":"IFERROR(VLOOKUP(A339,'1.Портфель кредитів'!A:AB,3,FALSE),\"\")","v":"Банк Січ"},{"$f":"'1.Портфель кредитів'!I340","v":34092020001308},5,389.50919999999996,155.80000000000001,"GL19N125065","2023-11-09"]
["380816__333",{"$f":"IFERROR(VLOOKUP(A340,'1.Портфель кредитів'!A:AB,3,FALSE),\"\")","v":"Банк Січ"},{"$f":"'1.Портфель кредитів'!I341","v":34092020001309},5,389.61,155.84,"GL19N125065","2023-11-09"]
["380816__334",{"$f":"IFERROR(VLOOKUP(A341,'1.Портфель кредитів'!A:AB,3,FALSE),\"\")","v":"Банк Січ"},{"$f":"'1.Портфель кредитів'!I342","v":34092020001310},5,390.70800000000003,156.28,"GL19N125065","2023-11-09"]
["380816__335",{"$f":"IFERROR(VLOOKUP(A342,'1.Портфель кредитів'!A:AB,3,FALSE),\"\")","v":"Банк Січ"},{"$f":"'1.Портфель кредитів'!I343","v":34092020001311},5,390.96360000000004,156.38999999999999,"GL19N125065","2023-11-09"]
["380816__336",{"$f":"IFERROR(VLOOKUP(A343,'1.Портфель кредитів'!A:AB,3,FALSE),\"\")","v":"Банк Січ"},{"$f":"'1.Портфель кредитів'!I344","v":34092020001312},5,392.45280000000002,156.97999999999999,"GL19N125065","2023-11-09"]
["380816__337",{"$f":"IFERROR(VLOOKUP(A344,'1.Портфель кредитів'!A:AB,3,FALSE),\"\")","v":"Банк Січ"},{"$f":"'1.Портфель кредитів'!I345","v":34092020001313},5,395.21399999999994,158.09,"GL19N125065","2023-11-09"]
["380816__338",{"$f":"IFERROR(VLOOKUP(A345,'1.Портфель кредитів'!A:AB,3,FALSE),\"\")","v":"Банк Січ"},{"$f":"'1.Портфель кредитів'!I346","v":34092020001314},5,395.50320000000005,158.19999999999999,"GL19N125065","2023-11-09"]
["380816__339",{"$f":"IFERROR(VLOOKUP(A346,'1.Портфель кредитів'!A:AB,3,FALSE),\"\")","v":"Банк Січ"},{"$f":"'1.Портфель кредитів'!I347","v":34092020001315},5,396.13080000000002,158.44999999999999,"GL19N125065","2023-11-09"]
["380816__340",{"$f":"IFERROR(VLOOKUP(A347,'1.Портфель кредитів'!A:AB,3,FALSE),\"\")","v":"Банк Січ"},{"$f":"'1.Портфель кредитів'!I348","v":34092020001316},5,396.73919999999998,158.69999999999999,"GL19N125065","2023-11-09"]
["380816__341",{"$f":"IFERROR(VLOOKUP(A348,'1.Портфель кредитів'!A:AB,3,FALSE),\"\")","v":"Банк Січ"},{"$f":"'1.Портфель кредитів'!I349","v":34092020001317},5,396.76919999999996,158.71,"GL19N125065","2023-11-09"]
["380816__342",{"$f":"IFERROR(VLOOKUP(A349,'1.Портфель кредитів'!A:AB,3,FALSE),\"\")","v":"Банк Січ"},{"$f":"'1.Портфель кредитів'!I350","v":34092020001318},5,401.85840000000002,160.74,"GL19N125065","2023-11-09"]
["380816__343",{"$f":"IFERROR(VLOOKUP(A350,'1.Портфель кредитів'!A:AB,3,FALSE),\"\")","v":"Банк Січ"},{"$f":"'1.Портфель кредитів'!I351","v":34092020001319},5,405.03120000000001,162.01,"GL19N125065","2023-11-09"]
["380816__344",{"$f":"IFERROR(VLOOKUP(A351,'1.Портфель кредитів'!A:AB,3,FALSE),\"\")","v":"Банк Січ"},{"$f":"'1.Портфель кредитів'!I352","v":34092020001320},5,619.08000000000004,247.63,"GL19N125065","2023-11-09"]
["380816__345",{"$f":"IFERROR(VLOOKUP(A352,'1.Портфель кредитів'!A:AB,3,FALSE),\"\")","v":"Банк Січ"},{"$f":"'1.Портфель кредитів'!I353","v":34092020001321},5,407.99520000000001,163.19999999999999,"GL19N125065","2023-11-09"]
["380816__346",{"$f":"IFERROR(VLOOKUP(A353,'1.Портфель кредитів'!A:AB,3,FALSE),\"\")","v":"Банк Січ"},{"$f":"'1.Портфель кредитів'!I354","v":34092020001322},5,408.76560000000001,163.51,"GL19N125065","2023-11-09"]
["380816__347",{"$f":"IFERROR(VLOOKUP(A354,'1.Портфель кредитів'!A:AB,3,FALSE),\"\")","v":"Банк Січ"},{"$f":"'1.Портфель кредитів'!I355","v":34092020001323},5,413.25479999999999,165.3,"GL19N125065","2023-11-09"]
["380816__348",{"$f":"IFERROR(VLOOKUP(A355,'1.Портфель кредитів'!A:AB,3,FALSE),\"\")","v":"Банк Січ"},{"$f":"'1.Портфель кредитів'!I356","v":34092020001324},5,416.45280000000002,166.58,"GL19N125065","2023-11-09"]
["380816__349",{"$f":"IFERROR(VLOOKUP(A356,'1.Портфель кредитів'!A:AB,3,FALSE),\"\")","v":"Банк Січ"},{"$f":"'1.Портфель кредитів'!I357","v":34092020001325},5,635.16,254.06,"GL19N125065","2023-11-09"]
["380816__350",{"$f":"IFERROR(VLOOKUP(A357,'1.Портфель кредитів'!A:AB,3,FALSE),\"\")","v":"Банк Січ"},{"$f":"'1.Портфель кредитів'!I358","v":34092020001326},5,425.03760000000005,170.02,"GL19N125065","2023-11-09"]
["380816__351",{"$f":"IFERROR(VLOOKUP(A358,'1.Портфель кредитів'!A:AB,3,FALSE),\"\")","v":"Банк Січ"},{"$f":"'1.Портфель кредитів'!I359","v":34092020001327},5,425.07240000000002,170.03,"GL19N125065","2023-11-09"]
["380816__352",{"$f":"IFERROR(VLOOKUP(A359,'1.Портфель кредитів'!A:AB,3,FALSE),\"\")","v":"Банк Січ"},{"$f":"'1.Портфель кредитів'!I360","v":34092020001328},5,431.5308,172.61,"GL19N125065","2023-11-09"]
["380816__353",{"$f":"IFERROR(VLOOKUP(A360,'1.Портфель кредитів'!A:AB,3,FALSE),\"\")","v":"Банк Січ"},{"$f":"'1.Портфель кредитів'!I361","v":34092020001329},5,432.91080000000005,173.16,"GL19N125065","2023-11-09"]
["380816__354",{"$f":"IFERROR(VLOOKUP(A361,'1.Портфель кредитів'!A:AB,3,FALSE),\"\")","v":"Банк Січ"},{"$f":"'1.Портфель кредитів'!I362","v":34092020001330},5,433.46879999999993,173.39,"GL19N125065","2023-11-09"]
["380816__355",{"$f":"IFERROR(VLOOKUP(A362,'1.Портфель кредитів'!A:AB,3,FALSE),\"\")","v":"Банк Січ"},{"$f":"'1.Портфель кредитів'!I363","v":34092020001331},5,437.10720000000003,174.84,"GL19N125065","2023-11-09"]
["380816__356",{"$f":"IFERROR(VLOOKUP(A363,'1.Портфель кредитів'!A:AB,3,FALSE),\"\")","v":"Банк Січ"},{"$f":"'1.Портфель кредитів'!I364","v":34092020001332},5,437.64840000000004,175.06,"GL19N125065","2023-11-09"]
["380816__357",{"$f":"IFERROR(VLOOKUP(A364,'1.Портфель кредитів'!A:AB,3,FALSE),\"\")","v":"Банк Січ"},{"$f":"'1.Портфель кредитів'!I365","v":34092020001333},5,438.678,175.47,"GL19N125065","2023-11-09"]
["380816__358",{"$f":"IFERROR(VLOOKUP(A365,'1.Портфель кредитів'!A:AB,3,FALSE),\"\")","v":"Банк Січ"},{"$f":"'1.Портфель кредитів'!I366","v":34092020001334},5,674.88000000000011,269.95,"GL19N125065","2023-11-09"]
["380816__359",{"$f":"IFERROR(VLOOKUP(A366,'1.Портфель кредитів'!A:AB,3,FALSE),\"\")","v":"Банк Січ"},{"$f":"'1.Портфель кредитів'!I367","v":34092020001335},5,445.51920000000001,178.21,"GL19N125065","2023-11-09"]
["380816__360",{"$f":"IFERROR(VLOOKUP(A367,'1.Портфель кредитів'!A:AB,3,FALSE),\"\")","v":"Банк Січ"},{"$f":"'1.Портфель кредитів'!I368","v":34092020001336},5,682.80000000000007,273.12,"GL19N125065","2023-11-09"]
["380816__361",{"$f":"IFERROR(VLOOKUP(A368,'1.Портфель кредитів'!A:AB,3,FALSE),\"\")","v":"Банк Січ"},{"$f":"'1.Портфель кредитів'!I369","v":34092020001337},5,475.20000000000005,190.08,"GL19N125065","2023-11-09"]
["380816__362",{"$f":"IFERROR(VLOOKUP(A369,'1.Портфель кредитів'!A:AB,3,FALSE),\"\")","v":"Банк Січ"},{"$f":"'1.Портфель кредитів'!I370","v":34092020001338},5,456.34200000000004,182.54,"GL19N125065","2023-11-09"]
["380816__363",{"$f":"IFERROR(VLOOKUP(A370,'1.Портфель кредитів'!A:AB,3,FALSE),\"\")","v":"Банк Січ"},{"$f":"'1.Портфель кредитів'!I371","v":34092020001339},5,456.80639999999994,182.72,"GL19N125065","2023-11-09"]
["380816__364",{"$f":"IFERROR(VLOOKUP(A371,'1.Портфель кредитів'!A:AB,3,FALSE),\"\")","v":"Банк Січ"},{"$f":"'1.Портфель кредитів'!I372","v":34092020001340},5,460.92120000000006,184.37,"GL19N125065","2023-11-09"]
["380816__365",{"$f":"IFERROR(VLOOKUP(A372,'1.Портфель кредитів'!A:AB,3,FALSE),\"\")","v":"Банк Січ"},{"$f":"'1.Портфель кредитів'!I373","v":34092020001341},5,462.60239999999999,185.04,"GL19N125065","2023-11-09"]
["380816__366",{"$f":"IFERROR(VLOOKUP(A373,'1.Портфель кредитів'!A:AB,3,FALSE),\"\")","v":"Банк Січ"},{"$f":"'1.Портфель кредитів'!I374","v":34092020001342},5,464.74919999999997,185.9,"GL19N125065","2023-11-09"]
["380816__367",{"$f":"IFERROR(VLOOKUP(A374,'1.Портфель кредитів'!A:AB,3,FALSE),\"\")","v":"Банк Січ"},{"$f":"'1.Портфель кредитів'!I375","v":34092020001343},5,473.32560000000007,189.33,"GL19N125065","2023-11-09"]
["380816__368",{"$f":"IFERROR(VLOOKUP(A375,'1.Портфель кредитів'!A:AB,3,FALSE),\"\")","v":"Банк Січ"},{"$f":"'1.Портфель кредитів'!I376","v":34092020001344},5,473.71319999999997,189.49,"GL19N125065","2023-11-09"]
["380816__369",{"$f":"IFERROR(VLOOKUP(A376,'1.Портфель кредитів'!A:AB,3,FALSE),\"\")","v":"Банк Січ"},{"$f":"'1.Портфель кредитів'!I377","v":34092020001345},5,724.2,289.68,"GL19N125065","2023-11-09"]
["380816__370",{"$f":"IFERROR(VLOOKUP(A377,'1.Портфель кредитів'!A:AB,3,FALSE),\"\")","v":"Банк Січ"},{"$f":"'1.Портфель кредитів'!I378","v":34092020001346},5,478.67159999999996,191.47,"GL19N125065","2023-11-09"]
["380816__371",{"$f":"IFERROR(VLOOKUP(A378,'1.Портфель кредитів'!A:AB,3,FALSE),\"\")","v":"Банк Січ"},{"$f":"'1.Портфель кредитів'!I379","v":34092020001347},5,505.51319999999998,202.21,"GL19N125065","2023-11-09"]
["380816__372",{"$f":"IFERROR(VLOOKUP(A379,'1.Портфель кредитів'!A:AB,3,FALSE),\"\")","v":"Банк Січ"},{"$f":"'1.Портфель кредитів'!I380","v":34092020001348},5,505.65959999999995,202.26,"GL19N125065","2023-11-09"]
["380816__373",{"$f":"IFERROR(VLOOKUP(A380,'1.Портфель кредитів'!A:AB,3,FALSE),\"\")","v":"Банк Січ"},{"$f":"'1.Портфель кредитів'!I381","v":34092020001349},5,507.61920000000003,203.05,"GL19N125065","2023-11-09"]
["380816__374",{"$f":"IFERROR(VLOOKUP(A381,'1.Портфель кредитів'!A:AB,3,FALSE),\"\")","v":"Банк Січ"},{"$f":"'1.Портфель кредитів'!I382","v":34092020001350},5,508.16399999999999,203.27,"GL19N125065","2023-11-09"]
["380816__375",{"$f":"IFERROR(VLOOKUP(A382,'1.Портфель кредитів'!A:AB,3,FALSE),\"\")","v":"Банк Січ"},{"$f":"'1.Портфель кредитів'!I383","v":34092020001351},5,514.69439999999997,205.88,"GL19N125065","2023-11-09"]
["380816__376",{"$f":"IFERROR(VLOOKUP(A383,'1.Портфель кредитів'!A:AB,3,FALSE),\"\")","v":"Банк Січ"},{"$f":"'1.Портфель кредитів'!I384","v":34092020001352},5,523.13279999999997,209.25,"GL19N125065","2023-11-09"]
["380816__377",{"$f":"IFERROR(VLOOKUP(A384,'1.Портфель кредитів'!A:AB,3,FALSE),\"\")","v":"Банк Січ"},{"$f":"'1.Портфель кредитів'!I385","v":34092020001353},5,524.36759999999992,209.75,"GL19N125065","2023-11-09"]
["380816__378",{"$f":"IFERROR(VLOOKUP(A385,'1.Портфель кредитів'!A:AB,3,FALSE),\"\")","v":"Банк Січ"},{"$f":"'1.Портфель кредитів'!I386","v":34092020001354},5,524.47919999999999,209.79,"GL19N125065","2023-11-09"]
["380816__379",{"$f":"IFERROR(VLOOKUP(A386,'1.Портфель кредитів'!A:AB,3,FALSE),\"\")","v":"Банк Січ"},{"$f":"'1.Портфель кредитів'!I387","v":34092020001355},5,524.53440000000001,209.81,"GL19N125065","2023-11-09"]
["380816__380",{"$f":"IFERROR(VLOOKUP(A387,'1.Портфель кредитів'!A:AB,3,FALSE),\"\")","v":"Банк Січ"},{"$f":"'1.Портфель кредитів'!I388","v":34092020001356},5,526.80000000000007,210.72,"GL19N125065","2023-11-09"]
["380816__381",{"$f":"IFERROR(VLOOKUP(A388,'1.Портфель кредитів'!A:AB,3,FALSE),\"\")","v":"Банк Січ"},{"$f":"'1.Портфель кредитів'!I389","v":34092020001357},5,527.1024000000001,210.84,"GL19N125065","2023-11-09"]
["380816__382",{"$f":"IFERROR(VLOOKUP(A389,'1.Портфель кредитів'!A:AB,3,FALSE),\"\")","v":"Банк Січ"},{"$f":"'1.Портфель кредитів'!I390","v":34092020001358},5,527.6508,211.06,"GL19N125065","2023-11-09"]
["380816__383",{"$f":"IFERROR(VLOOKUP(A390,'1.Портфель кредитів'!A:AB,3,FALSE),\"\")","v":"Банк Січ"},{"$f":"'1.Портфель кредитів'!I391","v":34092020001359},5,532.24799999999993,212.9,"GL19N125065","2023-11-09"]
["380816__384",{"$f":"IFERROR(VLOOKUP(A391,'1.Портфель кредитів'!A:AB,3,FALSE),\"\")","v":"Банк Січ"},{"$f":"'1.Портфель кредитів'!I392","v":34092020001360},5,532.37040000000002,212.95,"GL19N125065","2023-11-09"]
["380816__385",{"$f":"IFERROR(VLOOKUP(A392,'1.Портфель кредитів'!A:AB,3,FALSE),\"\")","v":"Банк Січ"},{"$f":"'1.Портфель кредитів'!I393","v":34092020001361},5,537.64319999999998,215.06,"GL19N125065","2023-11-09"]
["380816__386",{"$f":"IFERROR(VLOOKUP(A393,'1.Портфель кредитів'!A:AB,3,FALSE),\"\")","v":"Банк Січ"},{"$f":"'1.Портфель кредитів'!I394","v":34092020001362},5,539.23440000000005,215.69,"GL19N125065","2023-11-09"]
["380816__387",{"$f":"IFERROR(VLOOKUP(A394,'1.Портфель кредитів'!A:AB,3,FALSE),\"\")","v":"Банк Січ"},{"$f":"'1.Портфель кредитів'!I395","v":34092020001363},5,543.2088,217.28,"GL19N125065","2023-11-09"]
["380816__388",{"$f":"IFERROR(VLOOKUP(A395,'1.Портфель кредитів'!A:AB,3,FALSE),\"\")","v":"Банк Січ"},{"$f":"'1.Портфель кредитів'!I396","v":34092020001364},5,543.42600000000004,217.37,"GL19N125065","2023-11-09"]
["380816__389",{"$f":"IFERROR(VLOOKUP(A396,'1.Портфель кредитів'!A:AB,3,FALSE),\"\")","v":"Банк Січ"},{"$f":"'1.Портфель кредитів'!I397","v":34092020001365},5,543.88799999999992,217.56,"GL19N125065","2023-11-09"]
["380816__390",{"$f":"IFERROR(VLOOKUP(A397,'1.Портфель кредитів'!A:AB,3,FALSE),\"\")","v":"Банк Січ"},{"$f":"'1.Портфель кредитів'!I398","v":34092020001366},5,546.95040000000006,218.78,"GL19N125065","2023-11-09"]
["380816__391",{"$f":"IFERROR(VLOOKUP(A398,'1.Портфель кредитів'!A:AB,3,FALSE),\"\")","v":"Банк Січ"},{"$f":"'1.Портфель кредитів'!I399","v":34092020001367},5,547.25160000000005,218.9,"GL19N125065","2023-11-09"]
["380816__392",{"$f":"IFERROR(VLOOKUP(A399,'1.Портфель кредитів'!A:AB,3,FALSE),\"\")","v":"Банк Січ"},{"$f":"'1.Портфель кредитів'!I400","v":34092020001368},5,550.01400000000001,220.01,"GL19N125065","2023-11-09"]
["380816__393",{"$f":"IFERROR(VLOOKUP(A400,'1.Портфель кредитів'!A:AB,3,FALSE),\"\")","v":"Банк Січ"},{"$f":"'1.Портфель кредитів'!I401","v":34092020001369},5,550.32360000000006,220.13,"GL19N125065","2023-11-09"]
["380816__394",{"$f":"IFERROR(VLOOKUP(A401,'1.Портфель кредитів'!A:AB,3,FALSE),\"\")","v":"Банк Січ"},{"$f":"'1.Портфель кредитів'!I402","v":34092020001370},5,550.32360000000006,220.13,"GL19N125065","2023-11-09"]
["380816__395",{"$f":"IFERROR(VLOOKUP(A402,'1.Портфель кредитів'!A:AB,3,FALSE),\"\")","v":"Банк Січ"},{"$f":"'1.Портфель кредитів'!I403","v":34092020001371},5,550.32360000000006,220.13,"GL19N125065","2023-11-09"]
["380816__396",{"$f":"IFERROR(VLOOKUP(A403,'1.Портфель кредитів'!A:AB,3,FALSE),\"\")","v":"Банк Січ"},{"$f":"'1.Портфель кредитів'!I404","v":34092020001372},5,550.32360000000006,220.13,"GL19N125065","2023-11-09"]
["380816__397",{"$f":"IFERROR(VLOOKUP(A404,'1.Портфель кредитів'!A:AB,3,FALSE),\"\")","v":"Банк Січ"},{"$f":"'1.Портфель кредитів'!I405","v":34092020001373},5,550.82399999999996,220.33,"GL19N125065","2023-11-09"]
["380816__398",{"$f":"IFERROR(VLOOKUP(A405,'1.Портфель кредитів'!A:AB,3,FALSE),\"\")","v":"Банк Січ"},{"$f":"'1.Портфель кредитів'!I406","v":34092020001374},5,551.05439999999999,220.42,"GL19N125065","2023-11-09"]
["380816__399",{"$f":"IFERROR(VLOOKUP(A406,'1.Портфель кредитів'!A:AB,3,FALSE),\"\")","v":"Банк Січ"},{"$f":"'1.Портфель кредитів'!I407","v":34092020001375},5,559.60440000000006,223.84,"GL19N125065","2023-11-09"]
["380816__400",{"$f":"IFERROR(VLOOKUP(A407,'1.Портфель кредитів'!A:AB,3,FALSE),\"\")","v":"Банк Січ"},{"$f":"'1.Портфель кредитів'!I408","v":34092020001376},5,858.11999999999989,343.25,"GL19N125065","2023-11-09"]
["380816__401",{"$f":"IFERROR(VLOOKUP(A408,'1.Портфель кредитів'!A:AB,3,FALSE),\"\")","v":"Банк Січ"},{"$f":"'1.Портфель кредитів'!I409","v":34092020001377},5,562.83839999999998,225.14,"GL19N125065","2023-11-09"]
["380816__402",{"$f":"IFERROR(VLOOKUP(A409,'1.Портфель кредитів'!A:AB,3,FALSE),\"\")","v":"Банк Січ"},{"$f":"'1.Портфель кредитів'!I410","v":34092020001378},5,575.31119999999999,230.12,"GL19N125065","2023-11-09"]
["380816__403",{"$f":"IFERROR(VLOOKUP(A410,'1.Портфель кредитів'!A:AB,3,FALSE),\"\")","v":"Банк Січ"},{"$f":"'1.Портфель кредитів'!I411","v":34092020001379},5,577.67039999999997,231.07,"GL19N125065","2023-11-09"]
["380816__404",{"$f":"IFERROR(VLOOKUP(A411,'1.Портфель кредитів'!A:AB,3,FALSE),\"\")","v":"Банк Січ"},{"$f":"'1.Портфель кредитів'!I412","v":34092020001380},5,578.04600000000005,231.22,"GL19N125065","2023-11-09"]
["380816__405",{"$f":"IFERROR(VLOOKUP(A412,'1.Портфель кредитів'!A:AB,3,FALSE),\"\")","v":"Банк Січ"},{"$f":"'1.Портфель кредитів'!I413","v":34092020001381},5,580.3836,232.15,"GL19N125065","2023-11-09"]
["380816__406",{"$f":"IFERROR(VLOOKUP(A413,'1.Портфель кредитів'!A:AB,3,FALSE),\"\")","v":"Банк Січ"},{"$f":"'1.Портфель кредитів'!I414","v":34092020001382},5,582.41999999999996,232.97,"GL19N125065","2023-11-09"]
["380816__407",{"$f":"IFERROR(VLOOKUP(A414,'1.Портфель кредитів'!A:AB,3,FALSE),\"\")","v":"Банк Січ"},{"$f":"'1.Портфель кредитів'!I415","v":34092020001383},5,589.25040000000001,235.7,"GL19N125065","2023-11-09"]
["380816__408",{"$f":"IFERROR(VLOOKUP(A415,'1.Портфель кредитів'!A:AB,3,FALSE),\"\")","v":"Банк Січ"},{"$f":"'1.Портфель кредитів'!I416","v":34092020001384},5,590.1024000000001,236.04,"GL19N125065","2023-11-09"]
["380816__409",{"$f":"IFERROR(VLOOKUP(A416,'1.Портфель кредитів'!A:AB,3,FALSE),\"\")","v":"Банк Січ"},{"$f":"'1.Портфель кредитів'!I417","v":34092020001385},5,590.93520000000001,236.37,"GL19N125065","2023-11-09"]
["380816__410",{"$f":"IFERROR(VLOOKUP(A417,'1.Портфель кредитів'!A:AB,3,FALSE),\"\")","v":"Банк Січ"},{"$f":"'1.Портфель кредитів'!I418","v":34092020001386},5,593.298,237.32,"GL19N125065","2023-11-09"]
["380816__411",{"$f":"IFERROR(VLOOKUP(A418,'1.Портфель кредитів'!A:AB,3,FALSE),\"\")","v":"Банк Січ"},{"$f":"'1.Портфель кредитів'!I419","v":34092020001387},5,594.17759999999987,237.67,"GL19N125065","2023-11-09"]
["380816__412",{"$f":"IFERROR(VLOOKUP(A419,'1.Портфель кредитів'!A:AB,3,FALSE),\"\")","v":"Банк Січ"},{"$f":"'1.Портфель кредитів'!I420","v":34092020001388},5,594.55319999999995,237.82,"GL19N125065","2023-11-09"]
["380816__413",{"$f":"IFERROR(VLOOKUP(A420,'1.Портфель кредитів'!A:AB,3,FALSE),\"\")","v":"Банк Січ"},{"$f":"'1.Портфель кредитів'!I421","v":34092020001389},5,604.27560000000005,241.71,"GL19N125065","2023-11-09"]
["380816__414",{"$f":"IFERROR(VLOOKUP(A421,'1.Портфель кредитів'!A:AB,3,FALSE),\"\")","v":"Банк Січ"},{"$f":"'1.Портфель кредитів'!I422","v":34092020001390},5,604.63319999999999,241.85,"GL19N125065","2023-11-09"]
["380816__415",{"$f":"IFERROR(VLOOKUP(A422,'1.Портфель кредитів'!A:AB,3,FALSE),\"\")","v":"Банк Січ"},{"$f":"'1.Портфель кредитів'!I423","v":34092020001391},5,608.35080000000005,243.34,"GL19N125065","2023-11-09"]
["380816__416",{"$f":"IFERROR(VLOOKUP(A423,'1.Портфель кредитів'!A:AB,3,FALSE),\"\")","v":"Банк Січ"},{"$f":"'1.Портфель кредитів'!I424","v":34092020001392},5,611.16480000000001,244.47,"GL19N125065","2023-11-09"]
["380816__417",{"$f":"IFERROR(VLOOKUP(A424,'1.Портфель кредитів'!A:AB,3,FALSE),\"\")","v":"Банк Січ"},{"$f":"'1.Портфель кредитів'!I425","v":34092020001393},5,937.31999999999994,374.93,"GL19N125065","2023-11-09"]
["380816__418",{"$f":"IFERROR(VLOOKUP(A425,'1.Портфель кредитів'!A:AB,3,FALSE),\"\")","v":"Банк Січ"},{"$f":"'1.Портфель кредитів'!I426","v":34092020001394},5,615.38279999999997,246.15,"GL19N125065","2023-11-09"]
["380816__419",{"$f":"IFERROR(VLOOKUP(A426,'1.Портфель кредитів'!A:AB,3,FALSE),\"\")","v":"Банк Січ"},{"$f":"'1.Портфель кредитів'!I427","v":34092020001395},5,615.62279999999998,246.25,"GL19N125065","2023-11-09"]
["380816__420",{"$f":"IFERROR(VLOOKUP(A427,'1.Портфель кредитів'!A:AB,3,FALSE),\"\")","v":"Банк Січ"},{"$f":"'1.Портфель кредитів'!I428","v":34092020001396},5,943.31999999999994,377.33,"GL19N125065","2023-11-09"]
["380816__421",{"$f":"IFERROR(VLOOKUP(A428,'1.Портфель кредитів'!A:AB,3,FALSE),\"\")","v":"Банк Січ"},{"$f":"'1.Портфель кредитів'!I429","v":34092020001397},5,943.31999999999994,377.33,"GL19N125065","2023-11-09"]
["380816__422",{"$f":"IFERROR(VLOOKUP(A429,'1.Портфель кредитів'!A:AB,3,FALSE),\"\")","v":"Банк Січ"},{"$f":"'1.Портфель кредитів'!I430","v":34092020001398},5,943.31999999999994,377.33,"GL19N125065","2023-11-09"]
["380816__423",{"$f":"IFERROR(VLOOKUP(A430,'1.Портфель кредитів'!A:AB,3,FALSE),\"\")","v":"Банк Січ"},{"$f":"'1.Портфель кредитів'!I431","v":34092020001399},5,943.31999999999994,377.33,"GL19N125065","2023-11-09"]
["380816__424",{"$f":"IFERROR(VLOOKUP(A431,'1.Портфель кредитів'!A:AB,3,FALSE),\"\")","v":"Банк Січ"},{"$f":"'1.Портфель кредитів'!I432","v":34092020001400},5,943.31999999999994,377.33,"GL19N125065","2023-11-09"]
["380816__425",{"$f":"IFERROR(VLOOKUP(A432,'1.Портфель кредитів'!A:AB,3,FALSE),\"\")","v":"Банк Січ"},{"$f":"'1.Портфель кредитів'!I433","v":34092020001401},5,622.12800000000004,248.85,"GL19N125065","2023-11-09"]
["380816__426",{"$f":"IFERROR(VLOOKUP(A433,'1.Портфель кредитів'!A:AB,3,FALSE),\"\")","v":"Банк Січ"},{"$f":"'1.Портфель кредитів'!I434","v":34092020001402},5,952.31999999999994,380.93,"GL19N125065","2023-11-09"]
["380816__427",{"$f":"IFERROR(VLOOKUP(A434,'1.Портфель кредитів'!A:AB,3,FALSE),\"\")","v":"Банк Січ"},{"$f":"'1.Портфель кредитів'!I435","v":34092020001403},5,952.31999999999994,380.93,"GL19N125065","2023-11-09"]
["380816__428",{"$f":"IFERROR(VLOOKUP(A435,'1.Портфель кредитів'!A:AB,3,FALSE),\"\")","v":"Банк Січ"},{"$f":"'1.Портфель кредитів'!I436","v":34092020001404},5,952.31999999999994,380.93,"GL19N125065","2023-11-09"]
["380816__429",{"$f":"IFERROR(VLOOKUP(A436,'1.Портфель кредитів'!A:AB,3,FALSE),\"\")","v":"Банк Січ"},{"$f":"'1.Портфель кредитів'!I437","v":34092020001405},5,952.31999999999994,380.93,"GL19N125065","2023-11-09"]
["380816__430",{"$f":"IFERROR(VLOOKUP(A437,'1.Портфель кредитів'!A:AB,3,FALSE),\"\")","v":"Банк Січ"},{"$f":"'1.Портфель кредитів'!I438","v":34092020001406},5,625.30079999999998,250.12,"GL19N125065","2023-11-09"]
["380816__431",{"$f":"IFERROR(VLOOKUP(A438,'1.Портфель кредитів'!A:AB,3,FALSE),\"\")","v":"Банк Січ"},{"$f":"'1.Портфель кредитів'!I439","v":34092020001407},5,954.11999999999989,381.65,"GL19N125065","2023-11-09"]
["380816__432",{"$f":"IFERROR(VLOOKUP(A439,'1.Портфель кредитів'!A:AB,3,FALSE),\"\")","v":"Банк Січ"},{"$f":"'1.Портфель кредитів'!I440","v":34092020001408},5,955.80000000000007,382.32,"GL19N125065","2023-11-09"]
["380816__433",{"$f":"IFERROR(VLOOKUP(A440,'1.Портфель кредитів'!A:AB,3,FALSE),\"\")","v":"Банк Січ"},{"$f":"'1.Портфель кредитів'!I441","v":34092020001409},5,955.80000000000007,382.32,"GL19N125065","2023-11-09"]
["380816__434",{"$f":"IFERROR(VLOOKUP(A441,'1.Портфель кредитів'!A:AB,3,FALSE),\"\")","v":"Банк Січ"},{"$f":"'1.Портфель кредитів'!I442","v":34092020001410},5,955.80000000000007,382.32,"GL19N125065","2023-11-09"]
["380816__435",{"$f":"IFERROR(VLOOKUP(A442,'1.Портфель кредитів'!A:AB,3,FALSE),\"\")","v":"Банк Січ"},{"$f":"'1.Портфель кредитів'!I443","v":34092020001411},5,955.80000000000007,382.32,"GL19N125065","2023-11-09"]
["380816__436",{"$f":"IFERROR(VLOOKUP(A443,'1.Портфель кредитів'!A:AB,3,FALSE),\"\")","v":"Банк Січ"},{"$f":"'1.Портфель кредитів'!I444","v":34092020001412},5,955.80000000000007,382.32,"GL19N125065","2023-11-09"]
["380816__437",{"$f":"IFERROR(VLOOKUP(A444,'1.Портфель кредитів'!A:AB,3,FALSE),\"\")","v":"Банк Січ"},{"$f":"'1.Портфель кредитів'!I445","v":34092020001413},5,956.28,382.51,"GL19N125065","2023-11-09"]
["380816__438",{"$f":"IFERROR(VLOOKUP(A445,'1.Портфель кредитів'!A:AB,3,FALSE),\"\")","v":"Банк Січ"},{"$f":"'1.Портфель кредитів'!I446","v":34092020001414},5,956.28,382.51,"GL19N125065","2023-11-09"]
["380816__439",{"$f":"IFERROR(VLOOKUP(A446,'1.Портфель кредитів'!A:AB,3,FALSE),\"\")","v":"Банк Січ"},{"$f":"'1.Портфель кредитів'!I447","v":34092020001415},5,956.28,382.51,"GL19N125065","2023-11-09"]
["380816__440",{"$f":"IFERROR(VLOOKUP(A447,'1.Портфель кредитів'!A:AB,3,FALSE),\"\")","v":"Банк Січ"},{"$f":"'1.Портфель кредитів'!I448","v":34092020001416},5,956.28,382.51,"GL19N125065","2023-11-09"]
["380816__441",{"$f":"IFERROR(VLOOKUP(A448,'1.Портфель кредитів'!A:AB,3,FALSE),\"\")","v":"Банк Січ"},{"$f":"'1.Портфель кредитів'!I449","v":34092020001417},5,956.28,382.51,"GL19N125065","2023-11-09"]
["380816__442",{"$f":"IFERROR(VLOOKUP(A449,'1.Портфель кредитів'!A:AB,3,FALSE),\"\")","v":"Банк Січ"},{"$f":"'1.Портфель кредитів'!I450","v":34092020001418},5,956.28,382.51,"GL19N125065","2023-11-09"]
["380816__443",{"$f":"IFERROR(VLOOKUP(A450,'1.Портфель кредитів'!A:AB,3,FALSE),\"\")","v":"Банк Січ"},{"$f":"'1.Портфель кредитів'!I451","v":34092020001419},5,956.28,382.51,"GL19N125065","2023-11-09"]
["380816__444",{"$f":"IFERROR(VLOOKUP(A451,'1.Портфель кредитів'!A:AB,3,FALSE),\"\")","v":"Банк Січ"},{"$f":"'1.Портфель кредитів'!I452","v":34092020001420},5,956.28,382.51,"GL19N125065","2023-11-09"]
["380816__445",{"$f":"IFERROR(VLOOKUP(A452,'1.Портфель кредитів'!A:AB,3,FALSE),\"\")","v":"Банк Січ"},{"$f":"'1.Портфель кредитів'!I453","v":34092020001421},5,956.28,382.51,"GL19N125065","2023-11-09"]
["380816__446",{"$f":"IFERROR(VLOOKUP(A453,'1.Портфель кредитів'!A:AB,3,FALSE),\"\")","v":"Банк Січ"},{"$f":"'1.Портфель кредитів'!I454","v":34092020001422},5,956.28,382.51,"GL19N125065","2023-11-09"]
["380816__447",{"$f":"IFERROR(VLOOKUP(A454,'1.Портфель кредитів'!A:AB,3,FALSE),\"\")","v":"Банк Січ"},{"$f":"'1.Портфель кредитів'!I455","v":34092020001423},5,957.96,383.18,"GL19N125065","2023-11-09"]
["380816__448",{"$f":"IFERROR(VLOOKUP(A455,'1.Портфель кредитів'!A:AB,3,FALSE),\"\")","v":"Банк Січ"},{"$f":"'1.Портфель кредитів'!I456","v":34092020001424},5,628.45799999999997,251.38,"GL19N125065","2023-11-09"]
["380816__449",{"$f":"IFERROR(VLOOKUP(A456,'1.Портфель кредитів'!A:AB,3,FALSE),\"\")","v":"Банк Січ"},{"$f":"'1.Портфель кредитів'!I457","v":34092020001425},5,962.7600000000001,385.1,"GL19N125065","2023-11-09"]
["380816__450",{"$f":"IFERROR(VLOOKUP(A457,'1.Портфель кредитів'!A:AB,3,FALSE),\"\")","v":"Банк Січ"},{"$f":"'1.Портфель кредитів'!I458","v":34092020001426},5,964.68,385.87,"GL19N125065","2023-11-09"]
["380816__451",{"$f":"IFERROR(VLOOKUP(A458,'1.Портфель кредитів'!A:AB,3,FALSE),\"\")","v":"Банк Січ"},{"$f":"'1.Портфель кредитів'!I459","v":34092020001427},5,964.68,385.87,"GL19N125065","2023-11-09"]
["380816__452",{"$f":"IFERROR(VLOOKUP(A459,'1.Портфель кредитів'!A:AB,3,FALSE),\"\")","v":"Банк Січ"},{"$f":"'1.Портфель кредитів'!I460","v":34092020001428},5,964.68,385.87,"GL19N125065","2023-11-09"]
["380816__453",{"$f":"IFERROR(VLOOKUP(A460,'1.Портфель кредитів'!A:AB,3,FALSE),\"\")","v":"Банк Січ"},{"$f":"'1.Портфель кредитів'!I461","v":34092020001429},5,643.30920000000003,257.32,"GL19N125065","2023-11-09"]
["380816__454",{"$f":"IFERROR(VLOOKUP(A461,'1.Портфель кредитів'!A:AB,3,FALSE),\"\")","v":"Банк Січ"},{"$f":"'1.Портфель кредитів'!I462","v":34092020001430},5,643.58399999999995,257.43,"GL19N125065","2023-11-09"]
["380816__455",{"$f":"IFERROR(VLOOKUP(A462,'1.Портфель кредитів'!A:AB,3,FALSE),\"\")","v":"Банк Січ"},{"$f":"'1.Портфель кредитів'!I463","v":34092020001431},5,652.90440000000001,261.16000000000003,"GL19N125065","2023-11-09"]
["380816__456",{"$f":"IFERROR(VLOOKUP(A463,'1.Портфель кредитів'!A:AB,3,FALSE),\"\")","v":"Банк Січ"},{"$f":"'1.Портфель кредитів'!I464","v":34092020001432},5,654.0444,261.62,"GL19N125065","2023-11-09"]
["380816__457",{"$f":"IFERROR(VLOOKUP(A464,'1.Портфель кредитів'!A:AB,3,FALSE),\"\")","v":"Банк Січ"},{"$f":"'1.Портфель кредитів'!I465","v":34092020001433},5,657.30600000000004,262.92,"GL19N125065","2023-11-09"]
["380816__458",{"$f":"IFERROR(VLOOKUP(A465,'1.Портфель кредитів'!A:AB,3,FALSE),\"\")","v":"Банк Січ"},{"$f":"'1.Портфель кредитів'!I466","v":34092020001434},5,657.67680000000007,263.07,"GL19N125065","2023-11-09"]
["380816__459",{"$f":"IFERROR(VLOOKUP(A466,'1.Портфель кредитів'!A:AB,3,FALSE),\"\")","v":"Банк Січ"},{"$f":"'1.Портфель кредитів'!I467","v":34092020001435},5,664.89120000000003,265.95999999999998,"GL19N125065","2023-11-09"]
["380816__460",{"$f":"IFERROR(VLOOKUP(A467,'1.Портфель кредитів'!A:AB,3,FALSE),\"\")","v":"Банк Січ"},{"$f":"'1.Портфель кредитів'!I468","v":34092020001436},5,666.78240000000005,266.70999999999998,"GL19N125065","2023-11-09"]
["380816__461",{"$f":"IFERROR(VLOOKUP(A468,'1.Портфель кредитів'!A:AB,3,FALSE),\"\")","v":"Банк Січ"},{"$f":"'1.Портфель кредитів'!I469","v":34092020001437},5,1017.3600000000001,406.94,"GL19N125065","2023-11-09"]
["380816__462",{"$f":"IFERROR(VLOOKUP(A469,'1.Портфель кредитів'!A:AB,3,FALSE),\"\")","v":"Банк Січ"},{"$f":"'1.Портфель кредитів'!I470","v":34092020001438},5,679.3116,271.72000000000003,"GL19N125065","2023-11-09"]
["380816__463",{"$f":"IFERROR(VLOOKUP(A470,'1.Портфель кредитів'!A:AB,3,FALSE),\"\")","v":"Банк Січ"},{"$f":"'1.Портфель кредитів'!I471","v":34092020001439},5,686.43119999999999,274.57,"GL19N125065","2023-11-09"]
["380816__464",{"$f":"IFERROR(VLOOKUP(A471,'1.Портфель кредитів'!A:AB,3,FALSE),\"\")","v":"Банк Січ"},{"$f":"'1.Портфель кредитів'!I472","v":34092020001440},5,702.30359999999996,280.92,"GL19N125065","2023-11-09"]
["380816__465",{"$f":"IFERROR(VLOOKUP(A472,'1.Портфель кредитів'!A:AB,3,FALSE),\"\")","v":"Банк Січ"},{"$f":"'1.Портфель кредитів'!I473","v":34092020001441},5,1071.72,428.69,"GL19N125065","2023-11-09"]
["380816__466",{"$f":"IFERROR(VLOOKUP(A473,'1.Портфель кредитів'!A:AB,3,FALSE),\"\")","v":"Банк Січ"},{"$f":"'1.Портфель кредитів'!I474","v":34092020001442},5,708.48360000000002,283.39,"GL19N125065","2023-11-09"]
["380816__467",{"$f":"IFERROR(VLOOKUP(A474,'1.Портфель кредитів'!A:AB,3,FALSE),\"\")","v":"Банк Січ"},{"$f":"'1.Портфель кредитів'!I475","v":34092020001443},5,710.346,284.14,"GL19N125065","2023-11-09"]
["380816__468",{"$f":"IFERROR(VLOOKUP(A475,'1.Портфель кредитів'!A:AB,3,FALSE),\"\")","v":"Банк Січ"},{"$f":"'1.Портфель кредитів'!I476","v":34092020001444},5,720.47640000000001,288.19,"GL19N125065","2023-11-09"]
["380816__469",{"$f":"IFERROR(VLOOKUP(A476,'1.Портфель кредитів'!A:AB,3,FALSE),\"\")","v":"Банк Січ"},{"$f":"'1.Портфель кредитів'!I477","v":34092020001445},5,731.61839999999995,292.64999999999998,"GL19N125065","2023-11-09"]
["380816__470",{"$f":"IFERROR(VLOOKUP(A477,'1.Портфель кредитів'!A:AB,3,FALSE),\"\")","v":"Банк Січ"},{"$f":"'1.Портфель кредитів'!I478","v":34092020001446},5,734.19479999999999,293.68,"GL19N125065","2023-11-09"]
["380816__471",{"$f":"IFERROR(VLOOKUP(A478,'1.Портфель кредитів'!A:AB,3,FALSE),\"\")","v":"Банк Січ"},{"$f":"'1.Портфель кредитів'!I479","v":34092020001447},5,737.84160000000008,295.14,"GL19N125065","2023-11-09"]
["380816__472",{"$f":"IFERROR(VLOOKUP(A479,'1.Портфель кредитів'!A:AB,3,FALSE),\"\")","v":"Банк Січ"},{"$f":"'1.Портфель кредитів'!I480","v":34092020001448},5,757.34759999999994,302.94,"GL19N125065","2023-11-09"]
["380816__473",{"$f":"IFERROR(VLOOKUP(A480,'1.Портфель кредитів'!A:AB,3,FALSE),\"\")","v":"Банк Січ"},{"$f":"'1.Портфель кредитів'!I481","v":34092020001449},5,759.32759999999996,303.73,"GL19N125065","2023-11-09"]
["380816__474",{"$f":"IFERROR(VLOOKUP(A481,'1.Портфель кредитів'!A:AB,3,FALSE),\"\")","v":"Банк Січ"},{"$f":"'1.Портфель кредитів'!I482","v":34092020001450},5,759.40440000000001,303.76,"GL19N125065","2023-11-09"]
["380816__475",{"$f":"IFERROR(VLOOKUP(A482,'1.Портфель кредитів'!A:AB,3,FALSE),\"\")","v":"Банк Січ"},{"$f":"'1.Портфель кредитів'!I483","v":34092020001451},5,760.33799999999997,304.14,"GL19N125065","2023-11-09"]
["380816__476",{"$f":"IFERROR(VLOOKUP(A483,'1.Портфель кредитів'!A:AB,3,FALSE),\"\")","v":"Банк Січ"},{"$f":"'1.Портфель кредитів'!I484","v":34092020001452},5,766.83600000000001,306.73,"GL19N125065","2023-11-09"]
["380816__477",{"$f":"IFERROR(VLOOKUP(A484,'1.Портфель кредитів'!A:AB,3,FALSE),\"\")","v":"Банк Січ"},{"$f":"'1.Портфель кредитів'!I485","v":34092020001453},5,772.15319999999997,308.86,"GL19N125065","2023-11-09"]
["380816__478",{"$f":"IFERROR(VLOOKUP(A485,'1.Портфель кредитів'!A:AB,3,FALSE),\"\")","v":"Банк Січ"},{"$f":"'1.Портфель кредитів'!I486","v":34092020001454},5,774.08399999999995,309.63,"GL19N125065","2023-11-09"]
["380816__479",{"$f":"IFERROR(VLOOKUP(A486,'1.Портфель кредитів'!A:AB,3,FALSE),\"\")","v":"Банк Січ"},{"$f":"'1.Портфель кредитів'!I487","v":34092020001455},5,774.28200000000004,309.70999999999998,"GL19N125065","2023-11-09"]
["380816__480",{"$f":"IFERROR(VLOOKUP(A487,'1.Портфель кредитів'!A:AB,3,FALSE),\"\")","v":"Банк Січ"},{"$f":"'1.Портфель кредитів'!I488","v":34092020001456},5,1187.6400000000001,475.06,"GL19N125065","2023-11-09"]
["380816__481",{"$f":"IFERROR(VLOOKUP(A488,'1.Портфель кредитів'!A:AB,3,FALSE),\"\")","v":"Банк Січ"},{"$f":"'1.Портфель кредитів'!I489","v":34092020001457},5,1191.72,476.69,"GL19N125065","2023-11-09"]
["380816__482",{"$f":"IFERROR(VLOOKUP(A489,'1.Портфель кредитів'!A:AB,3,FALSE),\"\")","v":"Банк Січ"},{"$f":"'1.Портфель кредитів'!I490","v":34092020001458},5,1191.72,476.69,"GL19N125065","2023-11-09"]
["380816__483",{"$f":"IFERROR(VLOOKUP(A490,'1.Портфель кредитів'!A:AB,3,FALSE),\"\")","v":"Банк Січ"},{"$f":"'1.Портфель кредитів'!I491","v":34092020001459},5,1191.72,476.69,"GL19N125065","2023-11-09"]
["380816__484",{"$f":"IFERROR(VLOOKUP(A491,'1.Портфель кредитів'!A:AB,3,FALSE),\"\")","v":"Банк Січ"},{"$f":"'1.Портфель кредитів'!I492","v":34092020001460},5,785.79840000000002,314.32,"GL19N125065","2023-11-09"]
["380816__485",{"$f":"IFERROR(VLOOKUP(A492,'1.Портфель кредитів'!A:AB,3,FALSE),\"\")","v":"Банк Січ"},{"$f":"'1.Портфель кредитів'!I493","v":34092020001461},5,788.86919999999998,315.55,"GL19N125065","2023-11-09"]
["380816__486",{"$f":"IFERROR(VLOOKUP(A493,'1.Портфель кредитів'!A:AB,3,FALSE),\"\")","v":"Банк Січ"},{"$f":"'1.Портфель кредитів'!I494","v":34092020001462},5,789.64560000000006,315.86,"GL19N125065","2023-11-09"]
["380816__487",{"$f":"IFERROR(VLOOKUP(A494,'1.Портфель кредитів'!A:AB,3,FALSE),\"\")","v":"Банк Січ"},{"$f":"'1.Портфель кредитів'!I495","v":34092020001463},5,797.97,319.19,"GL19N125065","2023-11-09"]
["380816__488",{"$f":"IFERROR(VLOOKUP(A495,'1.Портфель кредитів'!A:AB,3,FALSE),\"\")","v":"Банк Січ"},{"$f":"'1.Портфель кредитів'!I496","v":34092020001464},5,804.45359999999994,321.77999999999997,"GL19N125065","2023-11-09"]
["380816__489",{"$f":"IFERROR(VLOOKUP(A496,'1.Портфель кредитів'!A:AB,3,FALSE),\"\")","v":"Банк Січ"},{"$f":"'1.Портфель кредитів'!I497","v":34092020001465},5,810.34799999999996,324.14,"GL19N125065","2023-11-09"]
["380816__490",{"$f":"IFERROR(VLOOKUP(A497,'1.Портфель кредитів'!A:AB,3,FALSE),\"\")","v":"Банк Січ"},{"$f":"'1.Портфель кредитів'!I498","v":34092020001466},5,811.41960000000006,324.57,"GL19N125065","2023-11-09"]
["380816__491",{"$f":"IFERROR(VLOOKUP(A498,'1.Портфель кредитів'!A:AB,3,FALSE),\"\")","v":"Банк Січ"},{"$f":"'1.Портфель кредитів'!I499","v":34092020001467},5,812.07,324.83,"GL19N125065","2023-11-09"]
["380816__492",{"$f":"IFERROR(VLOOKUP(A499,'1.Портфель кредитів'!A:AB,3,FALSE),\"\")","v":"Банк Січ"},{"$f":"'1.Портфель кредитів'!I500","v":34092020001468},5,812.94600000000003,325.18,"GL19N125065","2023-11-09"]
["380816__493",{"$f":"IFERROR(VLOOKUP(A500,'1.Портфель кредитів'!A:AB,3,FALSE),\"\")","v":"Банк Січ"},{"$f":"'1.Портфель кредитів'!I501","v":34092020001469},5,814.28279999999995,325.70999999999998,"GL19N125065","2023-11-09"]
["380816__494",{"$f":"IFERROR(VLOOKUP(A501,'1.Портфель кредитів'!A:AB,3,FALSE),\"\")","v":"Банк Січ"},{"$f":"'1.Портфель кредитів'!I502","v":34092020001470},5,816.5927999999999,326.64,"GL19N125065","2023-11-09"]
["380816__495",{"$f":"IFERROR(VLOOKUP(A502,'1.Портфель кредитів'!A:AB,3,FALSE),\"\")","v":"Банк Січ"},{"$f":"'1.Портфель кредитів'!I503","v":34092020001471},5,820.05600000000004,328.02,"GL19N125065","2023-11-09"]
["380816__496",{"$f":"IFERROR(VLOOKUP(A503,'1.Портфель кредитів'!A:AB,3,FALSE),\"\")","v":"Банк Січ"},{"$f":"'1.Портфель кредитів'!I504","v":34092020001472},5,1257,502.8,"GL19N125065","2023-11-09"]
["380816__497",{"$f":"IFERROR(VLOOKUP(A504,'1.Портфель кредитів'!A:AB,3,FALSE),\"\")","v":"Банк Січ"},{"$f":"'1.Портфель кредитів'!I505","v":34092020001473},5,828.94079999999997,331.58,"GL19N125065","2023-11-09"]
["380816__498",{"$f":"IFERROR(VLOOKUP(A505,'1.Портфель кредитів'!A:AB,3,FALSE),\"\")","v":"Банк Січ"},{"$f":"'1.Портфель кредитів'!I506","v":34092020001474},5,1268.8800000000001,507.55,"GL19N125065","2023-11-09"]
["380816__499",{"$f":"IFERROR(VLOOKUP(A506,'1.Портфель кредитів'!A:AB,3,FALSE),\"\")","v":"Банк Січ"},{"$f":"'1.Портфель кредитів'!I507","v":34092020001475},5,839.43240000000014,335.77,"GL19N125065","2023-11-09"]
["380816__500",{"$f":"IFERROR(VLOOKUP(A507,'1.Портфель кредитів'!A:AB,3,FALSE),\"\")","v":"Банк Січ"},{"$f":"'1.Портфель кредитів'!I508","v":34092020001476},5,846.5003999999999,338.6,"GL19N125065","2023-11-09"]
["380816__501",{"$f":"IFERROR(VLOOKUP(A508,'1.Портфель кредитів'!A:AB,3,FALSE),\"\")","v":"Банк Січ"},{"$f":"'1.Портфель кредитів'!I509","v":34092020001477},5,848.93040000000008,339.57,"GL19N125065","2023-11-09"]
["380816__502",{"$f":"IFERROR(VLOOKUP(A509,'1.Портфель кредитів'!A:AB,3,FALSE),\"\")","v":"Банк Січ"},{"$f":"'1.Портфель кредитів'!I510","v":34092020001478},5,1302,520.79999999999995,"GL19N125065","2023-11-09"]
["380816__503",{"$f":"IFERROR(VLOOKUP(A510,'1.Портфель кредитів'!A:AB,3,FALSE),\"\")","v":"Банк Січ"},{"$f":"'1.Портфель кредитів'!I511","v":34092020001479},5,867.16200000000015,346.86,"GL19N125065","2023-11-09"]
["380816__504",{"$f":"IFERROR(VLOOKUP(A511,'1.Портфель кредитів'!A:AB,3,FALSE),\"\")","v":"Банк Січ"},{"$f":"'1.Портфель кредитів'!I512","v":34092020001480},5,871.41960000000006,348.57,"GL19N125065","2023-11-09"]
["380816__505",{"$f":"IFERROR(VLOOKUP(A512,'1.Портфель кредитів'!A:AB,3,FALSE),\"\")","v":"Банк Січ"},{"$f":"'1.Портфель кредитів'!I513","v":34092020001481},5,881.03759999999988,352.42,"GL19N125065","2023-11-09"]
["380816__506",{"$f":"IFERROR(VLOOKUP(A513,'1.Портфель кредитів'!A:AB,3,FALSE),\"\")","v":"Банк Січ"},{"$f":"'1.Портфель кредитів'!I514","v":34092020001482},5,1349.04,539.62,"GL19N125065","2023-11-09"]
["380816__507",{"$f":"IFERROR(VLOOKUP(A514,'1.Портфель кредитів'!A:AB,3,FALSE),\"\")","v":"Банк Січ"},{"$f":"'1.Портфель кредитів'!I515","v":34092020001483},5,1349.04,539.62,"GL19N125065","2023-11-09"]
["380816__508",{"$f":"IFERROR(VLOOKUP(A515,'1.Портфель кредитів'!A:AB,3,FALSE),\"\")","v":"Банк Січ"},{"$f":"'1.Портфель кредитів'!I516","v":34092020001484},5,1349.04,539.62,"GL19N125065","2023-11-09"]
["380816__509",{"$f":"IFERROR(VLOOKUP(A516,'1.Портфель кредитів'!A:AB,3,FALSE),\"\")","v":"Банк Січ"},{"$f":"'1.Портфель кредитів'!I517","v":34092020001485},5,1349.88,539.95000000000005,"GL19N125065","2023-11-09"]
["380816__510",{"$f":"IFERROR(VLOOKUP(A517,'1.Портфель кредитів'!A:AB,3,FALSE),\"\")","v":"Банк Січ"},{"$f":"'1.Портфель кредитів'!I518","v":34092020001486},5,1349.88,539.95000000000005,"GL19N125065","2023-11-09"]
["380816__511",{"$f":"IFERROR(VLOOKUP(A518,'1.Портфель кредитів'!A:AB,3,FALSE),\"\")","v":"Банк Січ"},{"$f":"'1.Портфель кредитів'!I519","v":34092020001487},5,1349.88,539.95000000000005,"GL19N125065","2023-11-09"]
["380816__512",{"$f":"IFERROR(VLOOKUP(A519,'1.Портфель кредитів'!A:AB,3,FALSE),\"\")","v":"Банк Січ"},{"$f":"'1.Портфель кредитів'!I520","v":34092020001488},5,1357.5600000000002,543.02,"GL19N125065","2023-11-09"]
["380816__513",{"$f":"IFERROR(VLOOKUP(A520,'1.Портфель кредитів'!A:AB,3,FALSE),\"\")","v":"Банк Січ"},{"$f":"'1.Портфель кредитів'!I521","v":34092020001489},5,893.38319999999987,357.35,"GL19N125065","2023-11-09"]
["380816__514",{"$f":"IFERROR(VLOOKUP(A521,'1.Портфель кредитів'!A:AB,3,FALSE),\"\")","v":"Банк Січ"},{"$f":"'1.Портфель кредитів'!I522","v":34092020001490},5,908.1576,363.26,"GL19N125065","2023-11-09"]
["380816__515",{"$f":"IFERROR(VLOOKUP(A522,'1.Портфель кредитів'!A:AB,3,FALSE),\"\")","v":"Банк Січ"},{"$f":"'1.Портфель кредитів'!I523","v":34092020001491},5,912.52559999999994,365.01,"GL19N125065","2023-11-09"]
["380816__516",{"$f":"IFERROR(VLOOKUP(A523,'1.Портфель кредитів'!A:AB,3,FALSE),\"\")","v":"Банк Січ"},{"$f":"'1.Портфель кредитів'!I524","v":34092020001492},5,912.67439999999988,365.07,"GL19N125065","2023-11-09"]
["380816__517",{"$f":"IFERROR(VLOOKUP(A524,'1.Портфель кредитів'!A:AB,3,FALSE),\"\")","v":"Банк Січ"},{"$f":"'1.Портфель кредитів'!I525","v":34092020001493},5,917.58120000000008,367.03,"GL19N125065","2023-11-09"]
["380816__518",{"$f":"IFERROR(VLOOKUP(A525,'1.Портфель кредитів'!A:AB,3,FALSE),\"\")","v":"Банк Січ"},{"$f":"'1.Портфель кредитів'!I526","v":34092020001494},5,926.01119999999992,370.4,"GL19N125065","2023-11-09"]
["380816__519",{"$f":"IFERROR(VLOOKUP(A526,'1.Портфель кредитів'!A:AB,3,FALSE),\"\")","v":"Банк Січ"},{"$f":"'1.Портфель кредитів'!I527","v":34092020001495},5,1429.8000000000002,571.91999999999996,"GL19N125065","2023-11-09"]
["380816__520",{"$f":"IFERROR(VLOOKUP(A527,'1.Портфель кредитів'!A:AB,3,FALSE),\"\")","v":"Банк Січ"},{"$f":"'1.Портфель кредитів'!I528","v":34092020001496},5,946.56359999999995,378.63,"GL19N125065","2023-11-09"]
["380816__521",{"$f":"IFERROR(VLOOKUP(A528,'1.Портфель кредитів'!A:AB,3,FALSE),\"\")","v":"Банк Січ"},{"$f":"'1.Портфель кредитів'!I529","v":34092020001497},5,960.68040000000008,384.27,"GL19N125065","2023-11-09"]
["380816__522",{"$f":"IFERROR(VLOOKUP(A529,'1.Портфель кредитів'!A:AB,3,FALSE),\"\")","v":"Банк Січ"},{"$f":"'1.Портфель кредитів'!I530","v":34092020001498},5,972.20399999999995,388.88,"GL19N125065","2023-11-09"]
["380816__523",{"$f":"IFERROR(VLOOKUP(A530,'1.Портфель кредитів'!A:AB,3,FALSE),\"\")","v":"Банк Січ"},{"$f":"'1.Портфель кредитів'!I531","v":34092020001499},5,1508.64,603.46,"GL19N125065","2023-11-09"]
["380816__524",{"$f":"IFERROR(VLOOKUP(A531,'1.Портфель кредитів'!A:AB,3,FALSE),\"\")","v":"Банк Січ"},{"$f":"'1.Портфель кредитів'!I532","v":34092020001500},5,989.77320000000009,395.91,"GL19N125065","2023-11-09"]
["380816__525",{"$f":"IFERROR(VLOOKUP(A532,'1.Портфель кредитів'!A:AB,3,FALSE),\"\")","v":"Банк Січ"},{"$f":"'1.Портфель кредитів'!I533","v":34092020001501},5,991.25400000000013,396.5,"GL19N125065","2023-11-09"]
["380816__526",{"$f":"IFERROR(VLOOKUP(A533,'1.Портфель кредитів'!A:AB,3,FALSE),\"\")","v":"Банк Січ"},{"$f":"'1.Портфель кредитів'!I534","v":34092020001502},5,991.36080000000004,396.54,"GL19N125065","2023-11-09"]
["380816__527",{"$f":"IFERROR(VLOOKUP(A534,'1.Портфель кредитів'!A:AB,3,FALSE),\"\")","v":"Банк Січ"},{"$f":"'1.Портфель кредитів'!I535","v":34092020001503},5,1516.68,606.66999999999996,"GL19N125065","2023-11-09"]
["380816__528",{"$f":"IFERROR(VLOOKUP(A535,'1.Портфель кредитів'!A:AB,3,FALSE),\"\")","v":"Банк Січ"},{"$f":"'1.Портфель кредитів'!I536","v":34092020001504},5,1012.8276000000001,405.13,"GL19N125065","2023-11-09"]
["380816__529",{"$f":"IFERROR(VLOOKUP(A536,'1.Портфель кредитів'!A:AB,3,FALSE),\"\")","v":"Банк Січ"},{"$f":"'1.Портфель кредитів'!I537","v":34092020001505},5,1013.9256,405.57,"GL19N125065","2023-11-09"]
["380816__530",{"$f":"IFERROR(VLOOKUP(A537,'1.Портфель кредитів'!A:AB,3,FALSE),\"\")","v":"Банк Січ"},{"$f":"'1.Портфель кредитів'!I538","v":34092020001506},5,1022.2284,408.89,"GL19N125065","2023-11-09"]
["380816__531",{"$f":"IFERROR(VLOOKUP(A538,'1.Портфель кредитів'!A:AB,3,FALSE),\"\")","v":"Банк Січ"},{"$f":"'1.Портфель кредитів'!I539","v":34092020001507},5,1563,625.20000000000005,"GL19N125065","2023-11-09"]
["380816__532",{"$f":"IFERROR(VLOOKUP(A539,'1.Портфель кредитів'!A:AB,3,FALSE),\"\")","v":"Банк Січ"},{"$f":"'1.Портфель кредитів'!I540","v":34092020001508},5,1028.6963999999998,411.48,"GL19N125065","2023-11-09"]
["380816__533",{"$f":"IFERROR(VLOOKUP(A540,'1.Портфель кредитів'!A:AB,3,FALSE),\"\")","v":"Банк Січ"},{"$f":"'1.Портфель кредитів'!I541","v":34092020001509},5,1030.5983999999999,412.24,"GL19N125065","2023-11-09"]
["380816__534",{"$f":"IFERROR(VLOOKUP(A541,'1.Портфель кредитів'!A:AB,3,FALSE),\"\")","v":"Банк Січ"},{"$f":"'1.Портфель кредитів'!I542","v":34092020001510},5,1042.6548,417.06,"GL19N125065","2023-11-09"]
["380816__535",{"$f":"IFERROR(VLOOKUP(A542,'1.Портфель кредитів'!A:AB,3,FALSE),\"\")","v":"Банк Січ"},{"$f":"'1.Портфель кредитів'!I543","v":34092020001511},5,1051.8288,420.73,"GL19N125065","2023-11-09"]
["380816__536",{"$f":"IFERROR(VLOOKUP(A543,'1.Портфель кредитів'!A:AB,3,FALSE),\"\")","v":"Банк Січ"},{"$f":"'1.Портфель кредитів'!I544","v":34092020001512},5,1066.4292,426.57,"GL19N125065","2023-11-09"]
["380816__537",{"$f":"IFERROR(VLOOKUP(A544,'1.Портфель кредитів'!A:AB,3,FALSE),\"\")","v":"Банк Січ"},{"$f":"'1.Портфель кредитів'!I545","v":34092020001513},5,1067.7071999999998,427.08,"GL19N125065","2023-11-09"]
["380816__538",{"$f":"IFERROR(VLOOKUP(A545,'1.Портфель кредитів'!A:AB,3,FALSE),\"\")","v":"Банк Січ"},{"$f":"'1.Портфель кредитів'!I546","v":34092020001514},5,1072.5840000000001,429.03,"GL19N125065","2023-11-09"]
["380816__539",{"$f":"IFERROR(VLOOKUP(A546,'1.Портфель кредитів'!A:AB,3,FALSE),\"\")","v":"Банк Січ"},{"$f":"'1.Портфель кредитів'!I547","v":34092020001515},5,1092.7608,437.1,"GL19N125065","2023-11-09"]
["380816__540",{"$f":"IFERROR(VLOOKUP(A547,'1.Портфель кредитів'!A:AB,3,FALSE),\"\")","v":"Банк Січ"},{"$f":"'1.Портфель кредитів'!I548","v":34092020001516},5,1094.8679999999999,437.95,"GL19N125065","2023-11-09"]
["380816__541",{"$f":"IFERROR(VLOOKUP(A548,'1.Портфель кредитів'!A:AB,3,FALSE),\"\")","v":"Банк Січ"},{"$f":"'1.Портфель кредитів'!I549","v":34092020001517},5,1095.3396,438.14,"GL19N125065","2023-11-09"]
["380816__542",{"$f":"IFERROR(VLOOKUP(A549,'1.Портфель кредитів'!A:AB,3,FALSE),\"\")","v":"Банк Січ"},{"$f":"'1.Портфель кредитів'!I550","v":34092020001518},5,1670.28,668.11,"GL19N125065","2023-11-09"]
["380816__543",{"$f":"IFERROR(VLOOKUP(A550,'1.Портфель кредитів'!A:AB,3,FALSE),\"\")","v":"Банк Січ"},{"$f":"'1.Портфель кредитів'!I551","v":34092020001519},5,1099.02,439.61,"GL19N125065","2023-11-09"]
["380816__544",{"$f":"IFERROR(VLOOKUP(A551,'1.Портфель кредитів'!A:AB,3,FALSE),\"\")","v":"Банк Січ"},{"$f":"'1.Портфель кредитів'!I552","v":34092020001520},5,1099.6224,439.85,"GL19N125065","2023-11-09"]
["380816__545",{"$f":"IFERROR(VLOOKUP(A552,'1.Портфель кредитів'!A:AB,3,FALSE),\"\")","v":"Банк Січ"},{"$f":"'1.Портфель кредитів'!I553","v":34092020001521},5,1110.6132,444.25,"GL19N125065","2023-11-09"]
["380816__546",{"$f":"IFERROR(VLOOKUP(A553,'1.Портфель кредитів'!A:AB,3,FALSE),\"\")","v":"Банк Січ"},{"$f":"'1.Портфель кредитів'!I554","v":34092020001522},5,1118.5103999999999,447.4,"GL19N125065","2023-11-09"]
["380816__547",{"$f":"IFERROR(VLOOKUP(A554,'1.Портфель кредитів'!A:AB,3,FALSE),\"\")","v":"Банк Січ"},{"$f":"'1.Портфель кредитів'!I555","v":34092020001523},5,1119.1055999999999,447.64,"GL19N125065","2023-11-09"]
["380816__548",{"$f":"IFERROR(VLOOKUP(A555,'1.Портфель кредитів'!A:AB,3,FALSE),\"\")","v":"Банк Січ"},{"$f":"'1.Портфель кредитів'!I556","v":34092020001524},5,1125.5520000000001,450.22,"GL19N125065","2023-11-09"]
["380816__549",{"$f":"IFERROR(VLOOKUP(A556,'1.Портфель кредитів'!A:AB,3,FALSE),\"\")","v":"Банк Січ"},{"$f":"'1.Портфель кредитів'!I557","v":34092020001525},5,1142.5955999999999,457.04,"GL19N125065","2023-11-09"]
["380816__550",{"$f":"IFERROR(VLOOKUP(A557,'1.Портфель кредитів'!A:AB,3,FALSE),\"\")","v":"Банк Січ"},{"$f":"'1.Портфель кредитів'!I558","v":34092020001526},5,1175.3688,470.15,"GL19N125065","2023-11-09"]
["380816__551",{"$f":"IFERROR(VLOOKUP(A558,'1.Портфель кредитів'!A:AB,3,FALSE),\"\")","v":"Банк Січ"},{"$f":"'1.Портфель кредитів'!I559","v":34092020001527},5,1178.9063999999998,471.56,"GL19N125065","2023-11-09"]
["380816__552",{"$f":"IFERROR(VLOOKUP(A559,'1.Портфель кредитів'!A:AB,3,FALSE),\"\")","v":"Банк Січ"},{"$f":"'1.Портфель кредитів'!I560","v":34092020001528},5,1202.7791999999999,481.11,"GL19N125065","2023-11-09"]
["380816__553",{"$f":"IFERROR(VLOOKUP(A560,'1.Портфель кредитів'!A:AB,3,FALSE),\"\")","v":"Банк Січ"},{"$f":"'1.Портфель кредитів'!I561","v":34092020001529},5,1209.1487999999999,483.66,"GL19N125065","2023-11-09"]
["380816__554",{"$f":"IFERROR(VLOOKUP(A561,'1.Портфель кредитів'!A:AB,3,FALSE),\"\")","v":"Банк Січ"},{"$f":"'1.Портфель кредитів'!I562","v":34092020001530},5,1209.4956,483.8,"GL19N125065","2023-11-09"]
["380816__555",{"$f":"IFERROR(VLOOKUP(A562,'1.Портфель кредитів'!A:AB,3,FALSE),\"\")","v":"Банк Січ"},{"$f":"'1.Портфель кредитів'!I563","v":34092020001531},5,1212.5075999999999,485,"GL19N125065","2023-11-09"]
["380816__556",{"$f":"IFERROR(VLOOKUP(A563,'1.Портфель кредитів'!A:AB,3,FALSE),\"\")","v":"Банк Січ"},{"$f":"'1.Портфель кредитів'!I564","v":34092020001532},5,1215.924,486.37,"GL19N125065","2023-11-09"]
["380816__557",{"$f":"IFERROR(VLOOKUP(A564,'1.Портфель кредитів'!A:AB,3,FALSE),\"\")","v":"Банк Січ"},{"$f":"'1.Портфель кредитів'!I565","v":34092020001533},5,1220.0855999999999,488.03,"GL19N125065","2023-11-09"]
["380816__558",{"$f":"IFERROR(VLOOKUP(A565,'1.Портфель кредитів'!A:AB,3,FALSE),\"\")","v":"Банк Січ"},{"$f":"'1.Портфель кредитів'!I566","v":34092020001534},5,1231.8371999999999,492.73,"GL19N125065","2023-11-09"]
["380816__559",{"$f":"IFERROR(VLOOKUP(A566,'1.Портфель кредитів'!A:AB,3,FALSE),\"\")","v":"Банк Січ"},{"$f":"'1.Портфель кредитів'!I567","v":34092020001535},5,1258.53,503.41,"GL19N125065","2023-11-09"]
["380816__560",{"$f":"IFERROR(VLOOKUP(A567,'1.Портфель кредитів'!A:AB,3,FALSE),\"\")","v":"Банк Січ"},{"$f":"'1.Портфель кредитів'!I568","v":34092020001536},5,1293.0972000000002,517.24,"GL19N125065","2023-11-09"]
["380816__561",{"$f":"IFERROR(VLOOKUP(A568,'1.Портфель кредитів'!A:AB,3,FALSE),\"\")","v":"Банк Січ"},{"$f":"'1.Портфель кредитів'!I569","v":34092020001537},5,1320.3732,528.15,"GL19N125065","2023-11-09"]
["380816__562",{"$f":"IFERROR(VLOOKUP(A569,'1.Портфель кредитів'!A:AB,3,FALSE),\"\")","v":"Банк Січ"},{"$f":"'1.Портфель кредитів'!I570","v":34092020001538},5,2016.2399999999998,806.5,"GL19N125065","2023-11-09"]
["380816__563",{"$f":"IFERROR(VLOOKUP(A570,'1.Портфель кредитів'!A:AB,3,FALSE),\"\")","v":"Банк Січ"},{"$f":"'1.Портфель кредитів'!I571","v":34092020001539},5,1323.1248000000003,529.25,"GL19N125065","2023-11-09"]
["380816__564",{"$f":"IFERROR(VLOOKUP(A571,'1.Портфель кредитів'!A:AB,3,FALSE),\"\")","v":"Банк Січ"},{"$f":"'1.Портфель кредитів'!I572","v":34092020001540},5,1332.0551999999998,532.82000000000005,"GL19N125065","2023-11-09"]
["380816__565",{"$f":"IFERROR(VLOOKUP(A572,'1.Портфель кредитів'!A:AB,3,FALSE),\"\")","v":"Банк Січ"},{"$f":"'1.Портфель кредитів'!I573","v":34092020001541},5,1345.0008,538,"GL19N125065","2023-11-09"]
["380816__566",{"$f":"IFERROR(VLOOKUP(A573,'1.Портфель кредитів'!A:AB,3,FALSE),\"\")","v":"Банк Січ"},{"$f":"'1.Портфель кредитів'!I574","v":34092020001542},5,1358.6412,543.46,"GL19N125065","2023-11-09"]
["380816__567",{"$f":"IFERROR(VLOOKUP(A574,'1.Портфель кредитів'!A:AB,3,FALSE),\"\")","v":"Банк Січ"},{"$f":"'1.Портфель кредитів'!I575","v":34092020001543},5,1376.298,550.52,"GL19N125065","2023-11-09"]
["380816__568",{"$f":"IFERROR(VLOOKUP(A575,'1.Портфель кредитів'!A:AB,3,FALSE),\"\")","v":"Банк Січ"},{"$f":"'1.Портфель кредитів'!I576","v":34092020001544},5,1380.1307999999999,552.04999999999995,"GL19N125065","2023-11-09"]
["380816__569",{"$f":"IFERROR(VLOOKUP(A576,'1.Портфель кредитів'!A:AB,3,FALSE),\"\")","v":"Банк Січ"},{"$f":"'1.Портфель кредитів'!I577","v":34092020001545},5,1400.5728000000001,560.23,"GL19N125065","2023-11-09"]
["380816__570",{"$f":"IFERROR(VLOOKUP(A577,'1.Портфель кредитів'!A:AB,3,FALSE),\"\")","v":"Банк Січ"},{"$f":"'1.Портфель кредитів'!I578","v":34092020001546},5,1406.4084,562.55999999999995,"GL19N125065","2023-11-09"]
["380816__571",{"$f":"IFERROR(VLOOKUP(A578,'1.Портфель кредитів'!A:AB,3,FALSE),\"\")","v":"Банк Січ"},{"$f":"'1.Портфель кредитів'!I579","v":34092020001547},5,1413.5472,565.41999999999996,"GL19N125065","2023-11-09"]
["380816__572",{"$f":"IFERROR(VLOOKUP(A579,'1.Портфель кредитів'!A:AB,3,FALSE),\"\")","v":"Банк Січ"},{"$f":"'1.Портфель кредитів'!I580","v":34092020001548},5,1417.3404,566.94000000000005,"GL19N125065","2023-11-09"]
["380816__573",{"$f":"IFERROR(VLOOKUP(A580,'1.Портфель кредитів'!A:AB,3,FALSE),\"\")","v":"Банк Січ"},{"$f":"'1.Портфель кредитів'!I581","v":34092020001549},5,1419.3600000000001,567.74,"GL19N125065","2023-11-09"]
["380816__574",{"$f":"IFERROR(VLOOKUP(A581,'1.Портфель кредитів'!A:AB,3,FALSE),\"\")","v":"Банк Січ"},{"$f":"'1.Портфель кредитів'!I582","v":34092020001550},5,1429.0284000000001,571.61,"GL19N125065","2023-11-09"]
["380816__575",{"$f":"IFERROR(VLOOKUP(A582,'1.Портфель кредитів'!A:AB,3,FALSE),\"\")","v":"Банк Січ"},{"$f":"'1.Портфель кредитів'!I583","v":34092020001551},5,1436.3220000000001,574.53,"GL19N125065","2023-11-09"]
["380816__576",{"$f":"IFERROR(VLOOKUP(A583,'1.Портфель кредитів'!A:AB,3,FALSE),\"\")","v":"Банк Січ"},{"$f":"'1.Портфель кредитів'!I584","v":34092020001552},5,1441.0428000000002,576.41999999999996,"GL19N125065","2023-11-09"]
["380816__577",{"$f":"IFERROR(VLOOKUP(A584,'1.Портфель кредитів'!A:AB,3,FALSE),\"\")","v":"Банк Січ"},{"$f":"'1.Портфель кредитів'!I585","v":34092020001553},5,1446.9264000000001,578.77,"GL19N125065","2023-11-09"]
["380816__578",{"$f":"IFERROR(VLOOKUP(A585,'1.Портфель кредитів'!A:AB,3,FALSE),\"\")","v":"Банк Січ"},{"$f":"'1.Портфель кредитів'!I586","v":34092020001554},5,1448.4996000000001,579.4,"GL19N125065","2023-11-09"]
["380816__579",{"$f":"IFERROR(VLOOKUP(A586,'1.Портфель кредитів'!A:AB,3,FALSE),\"\")","v":"Банк Січ"},{"$f":"'1.Портфель кредитів'!I587","v":34092020001555},5,1467.0816000000002,586.83000000000004,"GL19N125065","2023-11-09"]
["380816__580",{"$f":"IFERROR(VLOOKUP(A587,'1.Портфель кредитів'!A:AB,3,FALSE),\"\")","v":"Банк Січ"},{"$f":"'1.Портфель кредитів'!I588","v":34092020001556},5,1488.4151999999999,595.37,"GL19N125065","2023-11-09"]
["380816__581",{"$f":"IFERROR(VLOOKUP(A588,'1.Портфель кредитів'!A:AB,3,FALSE),\"\")","v":"Банк Січ"},{"$f":"'1.Портфель кредитів'!I589","v":34092020001557},5,1505.3051999999998,602.12,"GL19N125065","2023-11-09"]
["380816__582",{"$f":"IFERROR(VLOOKUP(A589,'1.Портфель кредитів'!A:AB,3,FALSE),\"\")","v":"Банк Січ"},{"$f":"'1.Портфель кредитів'!I590","v":34092020001558},5,1522.8707999999999,609.15,"GL19N125065","2023-11-09"]
["380816__583",{"$f":"IFERROR(VLOOKUP(A590,'1.Портфель кредитів'!A:AB,3,FALSE),\"\")","v":"Банк Січ"},{"$f":"'1.Портфель кредитів'!I591","v":34092020001559},5,1528.8924,611.55999999999995,"GL19N125065","2023-11-09"]
["380816__584",{"$f":"IFERROR(VLOOKUP(A591,'1.Портфель кредитів'!A:AB,3,FALSE),\"\")","v":"Банк Січ"},{"$f":"'1.Портфель кредитів'!I592","v":34092020001560},5,1529.0784000000001,611.63,"GL19N125065","2023-11-09"]
["380816__585",{"$f":"IFERROR(VLOOKUP(A592,'1.Портфель кредитів'!A:AB,3,FALSE),\"\")","v":"Банк Січ"},{"$f":"'1.Портфель кредитів'!I593","v":34092020001561},5,1533.4259999999999,613.37,"GL19N125065","2023-11-09"]
["380816__586",{"$f":"IFERROR(VLOOKUP(A593,'1.Портфель кредитів'!A:AB,3,FALSE),\"\")","v":"Банк Січ"},{"$f":"'1.Портфель кредитів'!I594","v":34092020001562},5,2354.88,941.95,"GL19N125065","2023-11-09"]
["380816__587",{"$f":"IFERROR(VLOOKUP(A594,'1.Портфель кредитів'!A:AB,3,FALSE),\"\")","v":"Банк Січ"},{"$f":"'1.Портфель кредитів'!I595","v":34092020001563},5,1553.8404,621.54,"GL19N125065","2023-11-09"]
["380816__588",{"$f":"IFERROR(VLOOKUP(A595,'1.Портфель кредитів'!A:AB,3,FALSE),\"\")","v":"Банк Січ"},{"$f":"'1.Портфель кредитів'!I596","v":34092020001564},5,1557.4272000000001,622.97,"GL19N125065","2023-11-09"]
["380816__589",{"$f":"IFERROR(VLOOKUP(A596,'1.Портфель кредитів'!A:AB,3,FALSE),\"\")","v":"Банк Січ"},{"$f":"'1.Портфель кредитів'!I597","v":34092020001565},5,2383.56,953.42,"GL19N125065","2023-11-09"]
["380816__590",{"$f":"IFERROR(VLOOKUP(A597,'1.Портфель кредитів'!A:AB,3,FALSE),\"\")","v":"Банк Січ"},{"$f":"'1.Портфель кредитів'!I598","v":34092020001566},5,1590.9732000000001,636.39,"GL19N125065","2023-11-09"]
["380816__591",{"$f":"IFERROR(VLOOKUP(A598,'1.Портфель кредитів'!A:AB,3,FALSE),\"\")","v":"Банк Січ"},{"$f":"'1.Портфель кредитів'!I599","v":34092020001567},5,1651.2996000000001,660.52,"GL19N125065","2023-11-09"]
["380816__592",{"$f":"IFERROR(VLOOKUP(A599,'1.Портфель кредитів'!A:AB,3,FALSE),\"\")","v":"Банк Січ"},{"$f":"'1.Портфель кредитів'!I600","v":34092020001568},5,1684.4340000000002,673.77,"GL19N125065","2023-11-09"]
["380816__593",{"$f":"IFERROR(VLOOKUP(A600,'1.Портфель кредитів'!A:AB,3,FALSE),\"\")","v":"Банк Січ"},{"$f":"'1.Портфель кредитів'!I601","v":34092020001569},5,1685.6615999999999,674.26,"GL19N125065","2023-11-09"]
["380816__594",{"$f":"IFERROR(VLOOKUP(A601,'1.Портфель кредитів'!A:AB,3,FALSE),\"\")","v":"Банк Січ"},{"$f":"'1.Портфель кредитів'!I602","v":34092020001570},5,1695.3467999999998,678.14,"GL19N125065","2023-11-09"]
["380816__595",{"$f":"IFERROR(VLOOKUP(A602,'1.Портфель кредитів'!A:AB,3,FALSE),\"\")","v":"Банк Січ"},{"$f":"'1.Портфель кредитів'!I603","v":34092020001571},5,1722.192,688.88,"GL19N125065","2023-11-09"]
["380816__596",{"$f":"IFERROR(VLOOKUP(A603,'1.Портфель кредитів'!A:AB,3,FALSE),\"\")","v":"Банк Січ"},{"$f":"'1.Портфель кредитів'!I604","v":34092020001572},5,1731.4104,692.56,"GL19N125065","2023-11-09"]
["380816__597",{"$f":"IFERROR(VLOOKUP(A604,'1.Портфель кредитів'!A:AB,3,FALSE),\"\")","v":"Банк Січ"},{"$f":"'1.Портфель кредитів'!I605","v":34092020001573},5,1734.3467999999998,693.74,"GL19N125065","2023-11-09"]
["380816__598",{"$f":"IFERROR(VLOOKUP(A605,'1.Портфель кредитів'!A:AB,3,FALSE),\"\")","v":"Банк Січ"},{"$f":"'1.Портфель кредитів'!I606","v":34092020001574},5,1742.1167999999998,696.85,"GL19N125065","2023-11-09"]
["380816__599",{"$f":"IFERROR(VLOOKUP(A606,'1.Портфель кредитів'!A:AB,3,FALSE),\"\")","v":"Банк Січ"},{"$f":"'1.Портфель кредитів'!I607","v":34092020001575},5,1746.8220000000001,698.73,"GL19N125065","2023-11-09"]
["380816__600",{"$f":"IFERROR(VLOOKUP(A607,'1.Портфель кредитів'!A:AB,3,FALSE),\"\")","v":"Банк Січ"},{"$f":"'1.Портфель кредитів'!I608","v":34092020001576},5,1764.7464,705.9,"GL19N125065","2023-11-09"]
["380816__601",{"$f":"IFERROR(VLOOKUP(A608,'1.Портфель кредитів'!A:AB,3,FALSE),\"\")","v":"Банк Січ"},{"$f":"'1.Портфель кредитів'!I609","v":34092020001577},5,1769.6351999999999,707.85,"GL19N125065","2023-11-09"]
["380816__602",{"$f":"IFERROR(VLOOKUP(A609,'1.Портфель кредитів'!A:AB,3,FALSE),\"\")","v":"Банк Січ"},{"$f":"'1.Портфель кредитів'!I610","v":34092020001578},5,1785.0755999999999,714.03,"GL19N125065","2023-11-09"]
["380816__603",{"$f":"IFERROR(VLOOKUP(A610,'1.Портфель кредитів'!A:AB,3,FALSE),\"\")","v":"Банк Січ"},{"$f":"'1.Портфель кредитів'!I611","v":34092020001579},5,1799.0616,719.62,"GL19N125065","2023-11-09"]
["380816__604",{"$f":"IFERROR(VLOOKUP(A611,'1.Портфель кредитів'!A:AB,3,FALSE),\"\")","v":"Банк Січ"},{"$f":"'1.Портфель кредитів'!I612","v":34092020001580},5,2779.92,1111.97,"GL19N125065","2023-11-09"]
["380816__605",{"$f":"IFERROR(VLOOKUP(A612,'1.Портфель кредитів'!A:AB,3,FALSE),\"\")","v":"Банк Січ"},{"$f":"'1.Портфель кредитів'!I613","v":34092020001581},5,1837.4531999999999,734.98,"GL19N125065","2023-11-09"]
["380816__606",{"$f":"IFERROR(VLOOKUP(A613,'1.Портфель кредитів'!A:AB,3,FALSE),\"\")","v":"Банк Січ"},{"$f":"'1.Портфель кредитів'!I614","v":34092020001582},5,1864.6163999999999,745.85,"GL19N125065","2023-11-09"]
["380816__607",{"$f":"IFERROR(VLOOKUP(A614,'1.Портфель кредитів'!A:AB,3,FALSE),\"\")","v":"Банк Січ"},{"$f":"'1.Портфель кредитів'!I615","v":34092020001583},5,2861.4,1144.56,"GL19N125065","2023-11-09"]
["380816__608",{"$f":"IFERROR(VLOOKUP(A615,'1.Портфель кредитів'!A:AB,3,FALSE),\"\")","v":"Банк Січ"},{"$f":"'1.Портфель кредитів'!I616","v":34092020001584},5,1896.9096,758.76,"GL19N125065","2023-11-09"]
["380816__609",{"$f":"IFERROR(VLOOKUP(A616,'1.Портфель кредитів'!A:AB,3,FALSE),\"\")","v":"Банк Січ"},{"$f":"'1.Портфель кредитів'!I617","v":34092020001585},5,1902.2280000000001,760.89,"GL19N125065","2023-11-09"]
["380816__610",{"$f":"IFERROR(VLOOKUP(A617,'1.Портфель кредитів'!A:AB,3,FALSE),\"\")","v":"Банк Січ"},{"$f":"'1.Портфель кредитів'!I618","v":34092020001586},5,1902.2820000000002,760.91,"GL19N125065","2023-11-09"]
["380816__611",{"$f":"IFERROR(VLOOKUP(A618,'1.Портфель кредитів'!A:AB,3,FALSE),\"\")","v":"Банк Січ"},{"$f":"'1.Портфель кредитів'!I619","v":34092020001587},5,1906.6584,762.66,"GL19N125065","2023-11-09"]
["380816__612",{"$f":"IFERROR(VLOOKUP(A619,'1.Портфель кредитів'!A:AB,3,FALSE),\"\")","v":"Банк Січ"},{"$f":"'1.Портфель кредитів'!I620","v":34092020001588},5,1914.9912000000002,766,"GL19N125065","2023-11-09"]
["380816__613",{"$f":"IFERROR(VLOOKUP(A620,'1.Портфель кредитів'!A:AB,3,FALSE),\"\")","v":"Банк Січ"},{"$f":"'1.Портфель кредитів'!I621","v":34092020001589},5,1933.5683999999999,773.43,"GL19N125065","2023-11-09"]
["380816__614",{"$f":"IFERROR(VLOOKUP(A621,'1.Портфель кредитів'!A:AB,3,FALSE),\"\")","v":"Банк Січ"},{"$f":"'1.Портфель кредитів'!I622","v":34092020001590},5,1971.1019999999999,788.44,"GL19N125065","2023-11-09"]
["380816__615",{"$f":"IFERROR(VLOOKUP(A622,'1.Портфель кредитів'!A:AB,3,FALSE),\"\")","v":"Банк Січ"},{"$f":"'1.Портфель кредитів'!I623","v":34092020001591},5,1983.3335999999999,793.33,"GL19N125065","2023-11-09"]
["380816__616",{"$f":"IFERROR(VLOOKUP(A623,'1.Портфель кредитів'!A:AB,3,FALSE),\"\")","v":"Банк Січ"},{"$f":"'1.Портфель кредитів'!I624","v":34092020001592},5,3046.8,1218.72,"GL19N125065","2023-11-09"]
["380816__617",{"$f":"IFERROR(VLOOKUP(A624,'1.Портфель кредитів'!A:AB,3,FALSE),\"\")","v":"Банк Січ"},{"$f":"'1.Портфель кредитів'!I625","v":34092020001593},5,2043.6359999999997,817.45,"GL19N125065","2023-11-09"]
["380816__618",{"$f":"IFERROR(VLOOKUP(A625,'1.Портфель кредитів'!A:AB,3,FALSE),\"\")","v":"Банк Січ"},{"$f":"'1.Портфель кредитів'!I626","v":34092020001594},5,2046.2568000000001,818.5,"GL19N125065","2023-11-09"]
["380816__619",{"$f":"IFERROR(VLOOKUP(A626,'1.Портфель кредитів'!A:AB,3,FALSE),\"\")","v":"Банк Січ"},{"$f":"'1.Портфель кредитів'!I627","v":34092020001595},5,2063.3748000000001,825.35,"GL19N125065","2023-11-09"]
["380816__620",{"$f":"IFERROR(VLOOKUP(A627,'1.Портфель кредитів'!A:AB,3,FALSE),\"\")","v":"Банк Січ"},{"$f":"'1.Портфель кредитів'!I628","v":34092020001596},5,2102.1084000000001,840.84,"GL19N125065","2023-11-09"]
["380816__621",{"$f":"IFERROR(VLOOKUP(A628,'1.Портфель кредитів'!A:AB,3,FALSE),\"\")","v":"Банк Січ"},{"$f":"'1.Портфель кредитів'!I629","v":34092020001597},5,2123.9856,849.59,"GL19N125065","2023-11-09"]
["380816__622",{"$f":"IFERROR(VLOOKUP(A629,'1.Портфель кредитів'!A:AB,3,FALSE),\"\")","v":"Банк Січ"},{"$f":"'1.Портфель кредитів'!I630","v":34092020001598},5,2162.8355999999999,865.13,"GL19N125065","2023-11-09"]
["380816__623",{"$f":"IFERROR(VLOOKUP(A630,'1.Портфель кредитів'!A:AB,3,FALSE),\"\")","v":"Банк Січ"},{"$f":"'1.Портфель кредитів'!I631","v":34092020001599},5,2168.1264000000001,867.25,"GL19N125065","2023-11-09"]
["380816__624",{"$f":"IFERROR(VLOOKUP(A631,'1.Портфель кредитів'!A:AB,3,FALSE),\"\")","v":"Банк Січ"},{"$f":"'1.Портфель кредитів'!I632","v":34092020001600},5,2173.4664000000002,869.39,"GL19N125065","2023-11-09"]
["380816__625",{"$f":"IFERROR(VLOOKUP(A632,'1.Портфель кредитів'!A:AB,3,FALSE),\"\")","v":"Банк Січ"},{"$f":"'1.Портфель кредитів'!I633","v":34092020001601},5,2184.1356000000001,873.65,"GL19N125065","2023-11-09"]
["380816__626",{"$f":"IFERROR(VLOOKUP(A633,'1.Портфель кредитів'!A:AB,3,FALSE),\"\")","v":"Банк Січ"},{"$f":"'1.Портфель кредитів'!I634","v":34092020001602},5,2215.1615999999999,886.06,"GL19N125065","2023-11-09"]
["380816__627",{"$f":"IFERROR(VLOOKUP(A634,'1.Портфель кредитів'!A:AB,3,FALSE),\"\")","v":"Банк Січ"},{"$f":"'1.Портфель кредитів'!I635","v":34092020001603},5,2264.8632000000002,905.95,"GL19N125065","2023-11-09"]
["380816__628",{"$f":"IFERROR(VLOOKUP(A635,'1.Портфель кредитів'!A:AB,3,FALSE),\"\")","v":"Банк Січ"},{"$f":"'1.Портфель кредитів'!I636","v":34092020001604},5,2279.6532000000002,911.86,"GL19N125065","2023-11-09"]
["380816__629",{"$f":"IFERROR(VLOOKUP(A636,'1.Портфель кредитів'!A:AB,3,FALSE),\"\")","v":"Банк Січ"},{"$f":"'1.Портфель кредитів'!I637","v":34092020001605},5,2280.0203999999999,912.01,"GL19N125065","2023-11-09"]
["380816__630",{"$f":"IFERROR(VLOOKUP(A637,'1.Портфель кредитів'!A:AB,3,FALSE),\"\")","v":"Банк Січ"},{"$f":"'1.Портфель кредитів'!I638","v":34092020001606},5,2301.7080000000001,920.68,"GL19N125065","2023-11-09"]
["380816__631",{"$f":"IFERROR(VLOOKUP(A638,'1.Портфель кредитів'!A:AB,3,FALSE),\"\")","v":"Банк Січ"},{"$f":"'1.Портфель кредитів'!I639","v":34092020001607},5,3519.96,1407.98,"GL19N125065","2023-11-09"]
["380816__632",{"$f":"IFERROR(VLOOKUP(A639,'1.Портфель кредитів'!A:AB,3,FALSE),\"\")","v":"Банк Січ"},{"$f":"'1.Портфель кредитів'!I640","v":34092020001608},5,2317.9667999999997,927.19,"GL19N125065","2023-11-09"]
["380816__633",{"$f":"IFERROR(VLOOKUP(A640,'1.Портфель кредитів'!A:AB,3,FALSE),\"\")","v":"Банк Січ"},{"$f":"'1.Портфель кредитів'!I641","v":34092020001609},5,2326.3991999999998,930.56,"GL19N125065","2023-11-09"]
["380816__634",{"$f":"IFERROR(VLOOKUP(A641,'1.Портфель кредитів'!A:AB,3,FALSE),\"\")","v":"Банк Січ"},{"$f":"'1.Портфель кредитів'!I642","v":34092020001610},5,2330.0963999999999,932.04,"GL19N125065","2023-11-09"]
["380816__635",{"$f":"IFERROR(VLOOKUP(A642,'1.Портфель кредитів'!A:AB,3,FALSE),\"\")","v":"Банк Січ"},{"$f":"'1.Портфель кредитів'!I643","v":34092020001611},5,2354.8008,941.92,"GL19N125065","2023-11-09"]
["380816__636",{"$f":"IFERROR(VLOOKUP(A643,'1.Портфель кредитів'!A:AB,3,FALSE),\"\")","v":"Банк Січ"},{"$f":"'1.Портфель кредитів'!I644","v":34092020001612},5,2363.6232,945.45,"GL19N125065","2023-11-09"]
["380816__637",{"$f":"IFERROR(VLOOKUP(A644,'1.Портфель кредитів'!A:AB,3,FALSE),\"\")","v":"Банк Січ"},{"$f":"'1.Портфель кредитів'!I645","v":34092020001613},5,2370.9216000000001,948.37,"GL19N125065","2023-11-09"]
["380816__638",{"$f":"IFERROR(VLOOKUP(A645,'1.Портфель кредитів'!A:AB,3,FALSE),\"\")","v":"Банк Січ"},{"$f":"'1.Портфель кредитів'!I646","v":34092020001614},5,2392.3152,956.93,"GL19N125065","2023-11-09"]
["380816__639",{"$f":"IFERROR(VLOOKUP(A646,'1.Портфель кредитів'!A:AB,3,FALSE),\"\")","v":"Банк Січ"},{"$f":"'1.Портфель кредитів'!I647","v":34092020001615},5,1395.5316000000003,558.21,"GL19N125065","2023-11-09"]
["380816__640",{"$f":"IFERROR(VLOOKUP(A647,'1.Портфель кредитів'!A:AB,3,FALSE),\"\")","v":"Банк Січ"},{"$f":"'1.Портфель кредитів'!I648","v":34092020001616},5,1400.2776000000001,560.11,"GL19N125065","2023-11-09"]
["380816__641",{"$f":"IFERROR(VLOOKUP(A648,'1.Портфель кредитів'!A:AB,3,FALSE),\"\")","v":"Банк Січ"},{"$f":"'1.Портфель кредитів'!I649","v":34092020001617},5,1134.2688000000001,453.71,"GL19N125065","2023-11-09"]
["380816__642",{"$f":"IFERROR(VLOOKUP(A649,'1.Портфель кредитів'!A:AB,3,FALSE),\"\")","v":"Банк Січ"},{"$f":"'1.Портфель кредитів'!I650","v":34092020001618},5,3133.56,1253.42,"GL19N125065","2023-11-09"]
["351629__1","МЕГАБАНК","3-ю/2008",5,67492.83,2699.71,"GL18N124640","2023-09-25"]
["351629__2","МЕГАБАНК","22-ю/2008",5,37254.559999999998,1490.18,"GL18N124640","2023-09-25"]
["351629__3","МЕГАБАНК","23-ю/2008",5,11987.05,479.48,"GL18N124640","2023-09-25"]
["351629__4","МЕГАБАНК","288/2007",5,262770.34000000003,10510.81,"GL18N124640","2023-09-25"]
["351629__5","МЕГАБАНК","12г/2008",5,107238.13,4289.5200000000004,"GL18N124640","2023-09-25"]
["351629__6","МЕГАБАНК","7-07/2013-MK-USD",5,499764.4,19990.580000000002,"GL18N124640","2023-09-25"]
["351629__7","МЕГАБАНК","23/2005",5,597311.15,23892.45,"GL18N124640","2023-09-25"]
["351629__8","МЕГАБАНК","17-01/2008-МК-USD",5,4466118.7300000004,178644.75,"GL18N124640","2023-09-25"]
["351629__9","МЕГАБАНК","29-01/2008-МК-UAH",5,426874.3,17074.97,"GL18N124640","2023-09-25"]
["351629__10","МЕГАБАНК","068",5,40,1.6,"GL18N124640","2023-09-25"]
["351629__11","МЕГАБАНК","30-01/2008-МК-UAH",5,274211.71000000002,10968.47,"GL18N124640","2023-09-25"]
["351629__12","МЕГАБАНК","20-05в/2019",9,48146669.469999999,1925866.78,"GL18N124640","2023-09-25"]
["351629__13","МЕГАБАНК","2-19/2021-AEK-UAH",9,219549.16,9241.9699999999993,"GL19N125065","2023-11-09"]
["351629__14","МЕГАБАНК","4-19/2020-МK-UAH",9,274852.68,10836.21,"GL19N125065","2023-11-09"]
["351629__15","МЕГАБАНК","231/2020",9,200,8,"GL19N125065","2023-11-09"]
["351629__16","МЕГАБАНК","16/2005",5,158632.4,6345.3,"GL19N125065","2023-11-09"]
["351629__17","МЕГАБАНК","ДФ 260121",5,340000,13600,"GL19N125065","2023-11-09"]
["351629__18","МЕГАБАНК",8065,5,800,32,"GL19N125065","2023-11-09"]
["351629__19","МЕГАБАНК",9079,5,43.98,1.76,"GL19N125065","2023-11-09"]
["351629__20","МЕГАБАНК","9-21о/2021-МК-UAH",9,482314.08,19292.560000000001,"GL19N125065","2023-11-09"]
["351629__21","МЕГАБАНК",821,9,50,2,"GL19N125065","2023-11-09"]
["351629__22","МЕГАБАНК","20-03в/2018",9,27043413.75,1081736.55,"GL19N125065","2023-11-09"]
["351629__23","МЕГАБАНК","20-07/2022",9,669375,26775,"GL19N125065","2023-11-09"]
["351629__24","МЕГАБАНК","9368",9,250,10,"GL19N125065","2023-11-09"]
["351629__25","МЕГАБАНК","20-44/2019",9,29141956.489999998,1165678.26,"GL19N125065","2023-11-09"]
["351629__26","МЕГАБАНК","20-31/2019",9,23380234.73,935209.39,"GL19N125065","2023-11-09"]
["351629__27","МЕГАБАНК","20-23/2019",9,14972441.09,598897.64,"GL19N125065","2023-11-09"]
["351629__28","Мегабанк","20-16в/2019",9,50084826.030000001,2003393.04,"GL19N125065","2023-11-09"]
["351629__29","Мегабанк",9461,9,250,10,"GL19N125065","2023-11-09"]
["351629__30","Мегабанк","10-21о/2021-MK-UAH",9,807685.22,32307.41,"GL18N1025136","2023-11-15"]
["351629__31","Мегабанк",905,9,250,10,"GL18N1025136","2023-11-15"]
["351629__32","Мегабанк","20-10в/2019",9,49109581.130000003,1964383.24,"GL18N1025136","2023-11-15"]
["351629__33","Мегабанк","20-65/2019",9,13296173.41,531846.93999999994,"GL18N1025136","2023-11-15"]
["351629__34","Мегабанк","20-34/2019",9,17286660.120000001,691466.4,"GL18N1025136","2023-11-15"]
["351629__35","Мегабанк","20-13в/2019",9,37419017.579999998,1496760.7,"GL18N1025136","2023-11-15"]
["351629__36","Мегабанк","N40.06.000403",9,250,10,"GL18N1025136","2023-11-15"]
["351629__37","Мегабанк","20-28в/2019",9,27306758.48,1092270.3400000001,"GL18N1025136","2023-11-15"]
["351629__38","Мегабанк","20-19/2021",9,23293350.030000001,931734,"GL18N1025136","2023-11-15"]
["351629__39","Мегабанк","20-45/2019",9,19019633.59,760785.34,"GL18N1025136","2023-11-15"]
["351629__40","Мегабанк","176-165-170-К",9,1637.22,65.489999999999995,"GL18N1025136","2023-11-15"]
["351629__41","Мегабанк","20-26в/2020",9,30775941.41,1231037.6599999999,"GL18N1025136","2023-11-15"]
["351629__42","Мегабанк","07-149",9,300,12,"GL18N1025136","2023-11-15"]
["351629__43","Мегабанк","20-19в/2019",9,22905276.280000001,916211.05,"GL18N1025136","2023-11-15"]
["351629__44","Мегабанк","26-101-170-К",9,5294.49,211.78,"GL18N1025136","2023-11-15"]
["351629__45","Мегабанк","20-19/2019",9,39463000,1578520,"GL18N1025136","2023-11-15"]
["351629__46","Мегабанк","20-08в/2019",9,44513171.100000001,1780526.84,"GL18N1025136","2023-11-15"]
["351629__47","Мегабанк","9436",9,250,10,"GL18N1025136","2023-11-15"]
["351629__48","Мегабанк","23-05/2019",9,4.03,0.16,"GL18N1025136","2023-11-15"]
["351629__49","Мегабанк","20-15в/2019",9,25243858.239999998,1009754.33,"GL18N1025136","2023-11-15"]
["351629__50","Мегабанк","20-06в/2019",9,47372370.369999997,1894894.82,"GL18N1025136","2023-11-15"]
["351629__51","Мегабанк","N40.06.000325",9,250,10,"GL18N1025136","2023-11-15"]
["320627__1","МР Банк","№05-В/11/32/ЮО/КЛ ",5,175334242.46000001,7013369.7000000002,"GL18N124640","2023-09-25"]
["320627__2","МР Банк","№Т032-013006290",5,250,10,"GL18N124640","2023-09-25"]
["320627__3","МР Банк","03-В/13/75/ЮО",5,10452596.550000001,418103.86,"GL19N125065","2023-11-09"]
["320627__4","МР Банк","Т075-013005724",5,250,10,"GL19N125065","2023-11-09"]
["320627__5","МР Банк","2013/ЗП/ХА5/12",5,385,15.4,"GL19N125065","2023-11-09"]
["320627__6","МР Банк","70-Н/13/29/Г/А-КБ",5,788376764.36000001,31535070.579999998,"GL19N124665","2023-09-12"]
["320627__7","МР Банк","LC/150808",5,705048210.05999994,28201928.404000003,"GL19N124666","2023-09-12"]
["300012__1","ПРОМІНВЕСТБАНК","07/4-07",5,789310.54,31572.42,"GL18N124640","2023-09-25"]
["300012__2","ПРОМІНВЕСТБАНК","13/4-07",5,4462777.45,178511.1,"GL18N124640","2023-09-25"]
["300012__3","ПРОМІНВЕСТБАНК","38/3-07",5,623882.36,24955.3,"GL18N124640","2023-09-25"]
["300012__4","ПРОМІНВЕСТБАНК","06-2.1/1018 ",5,64111257.590000004,2564450.2999999998,"GL18N124640","2023-09-25"]
["300012__5","ПРОМІНВЕСТБАНК","06-2.1/1019 ",5,8438712.6999999993,337548.51,"GL18N124640","2023-09-25"]
["300012__6","ПРОМІНВЕСТБАНК","1234/05-К",5,420396.69,16815.87,"GL18N124640","2023-09-25"]
["300012__7","ПРОМІНВЕСТБАНК","04-02-08/218",5,27887214.359999999,1115488.58,"GL18N124640","2023-09-25"]
["300012__8","ПРОМІНВЕСТБАНК","03-01-20/544822/107",5,779.91,31.2,"GL18N124640","2023-09-25"]
["300012__9","ПРОМІНВЕСТБАНК","3/8/08",5,1393519.43,55740.78,"GL18N124640","2023-09-25"]
["300012__10","ПРОМІНВЕСТБАНК","313-КР",5,831758.89,33270.36,"GL18N124640","2023-09-25"]
["300012__11","ПРОМІНВЕСТБАНК","347",5,149918.47,5996.74,"GL18N124640","2023-09-25"]
["300012__12","ПРОМІНВЕСТБАНК","1396",5,1021636.41,40865.46,"GL18N124640","2023-09-25"]
["300012__13","ПРОМІНВЕСТБАНК","642/05-к",5,578523.24,23140.93,"GL18N124640","2023-09-25"]
["300012__14","ПРОМІНВЕСТБАНК","997/05-к",5,299635.77,11985.43,"GL18N124640","2023-09-25"]
["300012__15","ПРОМІНВЕСТБАНК","521/05-К",5,343719.41,13748.78,"GL18N124640","2023-09-25"]
["300012__16","ПРОМІНВЕСТБАНК","793/05-К",5,514205.49,20568.22,"GL18N124640","2023-09-25"]
["300012__17","ПРОМІНВЕСТБАНК","483/06",5,337469.69,13498.79,"GL18N124640","2023-09-25"]
["300012__18","ПРОМІНВЕСТБАНК","02-05/595",5,822630.79,32905.230000000003,"GL18N124640","2023-09-25"]
["300012__19","ПРОМІНВЕСТБАНК","2257 ",5,1308024.54,52320.98,"GL18N124640","2023-09-25"]
["300012__20","ПРОМІНВЕСТБАНК","02-07/797",5,382654.83,15306.19,"GL18N124640","2023-09-25"]
["300012__21","ПРОМІНВЕСТБАНК","02-06/1110",5,1281933.56,51277.34,"GL18N124640","2023-09-25"]
["300012__22","ПРОМІНВЕСТБАНК","03-1/114",5,1040819.8,41632.79,"GL18N124640","2023-09-25"]
["300012__23","ПРОМІНВЕСТБАНК","20-0541/2-1",5,424505.32,16980.21,"GL18N124640","2023-09-25"]
["300012__24","ПРОМІНВЕСТБАНК","13-КЛ-04",5,3584973.81,143398.95000000001,"GL18N124640","2023-09-25"]
["300012__25","ПРОМІНВЕСТБАНК","1814/02-07",5,3110227.24,124409.09,"GL18N124640","2023-09-25"]
["300012__26","ПРОМІНВЕСТБАНК","07-229к",5,305543.53999999998,12221.74,"GL18N124640","2023-09-25"]
["300012__27","ПРОМІНВЕСТБАНК",63,5,452628.58,18105.14,"GL18N124640","2023-09-25"]
["300012__28","ПРОМІНВЕСТБАНК","362/2-2007",5,548162.22,21926.49,"GL18N124640","2023-09-25"]
["300012__29","ПРОМІНВЕСТБАНК",704,5,176417.65,7056.71,"GL18N124640","2023-09-25"]
["300012__30","ПРОМІНВЕСТБАНК",162,5,7913000.5800000001,316520.02,"GL18N124640","2023-09-25"]
["300012__31","ПРОМІНВЕСТБАНК","134-146/02",5,564498.81999999995,22579.95,"GL18N124640","2023-09-25"]
["300012__32","ПРОМІНВЕСТБАНК","21/89",5,201162.46,8046.5,"GL18N124640","2023-09-25"]
["300012__33","ПРОМІНВЕСТБАНК","02-2.1/078",5,141403.87,5656.16,"GL18N124640","2023-09-25"]
["300012__34","ПРОМІНВЕСТБАНК","12/32а-04",5,4317441.0199999996,172697.64,"GL18N124640","2023-09-25"]
["300012__35","ПРОМІНВЕСТБАНК",105,5,1825477.41,73019.100000000006,"GL18N124640","2023-09-25"]
["300012__36","ПРОМІНВЕСТБАНК",191,5,126113.14,5044.5200000000004,"GL18N124640","2023-09-25"]
["300012__37","ПРОМІНВЕСТБАНК","18-2006Л",5,155650.68,6226.03,"GL18N124640","2023-09-25"]
["300012__38","ПРОМІНВЕСТБАНК","02-2.1/663",5,143275.01,5731,"GL18N124640","2023-09-25"]
["300012__39","ПРОМІНВЕСТБАНК",11,5,450327.14,18013.080000000002,"GL18N124640","2023-09-25"]
["300012__40","ПРОМІНВЕСТБАНК","94/2006",5,105516.94,4220.68,"GL18N124640","2023-09-25"]
["300012__41","ПРОМІНВЕСТБАНК",32,5,606505.29,24260.21,"GL18N124640","2023-09-25"]
["300012__42","ПРОМІНВЕСТБАНК","22-24/02",5,451901.31,18076.05,"GL18N124640","2023-09-25"]
["300012__43","ПРОМІНВЕСТБАНК","268-02-79",5,152729.45000000001,6109.18,"GL18N124640","2023-09-25"]
["300012__44","ПРОМІНВЕСТБАНК","53/3-06",5,202348.73,8093.95,"GL18N124640","2023-09-25"]
["300012__45","ПРОМІНВЕСТБАНК","87/3-05",5,103901.46,4156.0600000000004,"GL18N124640","2023-09-25"]
["300012__46","ПРОМІНВЕСТБАНК","25",5,120000,4800,"GL18N124640","2023-09-25"]
["300012__47","ПРОМІНВЕСТБАНК","70/210",5,530488.78,21219.55,"GL18N124640","2023-09-25"]
["300012__48","ПРОМІНВЕСТБАНК","689-04/08",5,297589.77,11903.59,"GL18N124640","2023-09-25"]
["300012__49","ПРОМІНВЕСТБАНК","148/10",5,289.72000000000003,11.59,"GL18N124640","2023-09-25"]
["300012__50","ПРОМІНВЕСТБАНК","119/02-08",5,1646584.47,65863.38,"GL18N124640","2023-09-25"]
["300012__51","ПРОМІНВЕСТБАНК","241/02-08",5,867794.53,34711.78,"GL18N124640","2023-09-25"]
["300012__52","ПРОМІНВЕСТБАНК","044-60-01-15",5,140000,5600,"GL18N124640","2023-09-25"]
["300012__53","ПРОМІНВЕСТБАНК","11/3-07",5,1773320.69,70932.83,"GL18N124640","2023-09-25"]
["300012__54","ПРОМІНВЕСТБАНК","157/2-06",5,107362.23,4294.49,"GL18N124640","2023-09-25"]
["300012__55","ПРОМІНВЕСТБАНК","I-29/08",5,713326.72,28533.07,"GL18N124640","2023-09-25"]
["300012__56","ПРОМІНВЕСТБАНК","42-2005Л",5,1280938.76,51237.55,"GL18N124640","2023-09-25"]
["300012__57","ПРОМІНВЕСТБАНК","03-1/117-224-03/07",5,2089504.21,83580.17,"GL18N124640","2023-09-25"]
["300012__58","ПРОМІНВЕСТБАНК","396/02-08",5,3142059.5,125682.38,"GL18N124640","2023-09-25"]
["300012__59","ПРОМІНВЕСТБАНК","527",5,9210442.5899999999,368417.7,"GL18N124640","2023-09-25"]
["300012__60","ПРОМІНВЕСТБАНК","224",5,497728.56,19909.14,"GL18N124640","2023-09-25"]
["300012__61","ПРОМІНВЕСТБАНК","1/07",5,100000,4000,"GL18N124640","2023-09-25"]
["300012__62","ПРОМІНВЕСТБАНК","23/1-08",5,1015248.7,40609.949999999997,"GL18N124640","2023-09-25"]
["300012__63","ПРОМІНВЕСТБАНК","140/772",5,533424.68000000005,21336.99,"GL18N124640","2023-09-25"]
["300012__64","ПРОМІНВЕСТБАНК","104/569",5,519724.52,20788.98,"GL18N124640","2023-09-25"]
["300012__65","ПРОМІНВЕСТБАНК","03-27",5,247411.65,9896.4699999999993,"GL18N124640","2023-09-25"]
["300012__66","ПРОМІНВЕСТБАНК","45-08\\КР",5,479713.78,19188.55,"GL18N124640","2023-09-25"]
["300012__67","ПРОМІНВЕСТБАНК","265/02-06",5,6240920.8200000003,249636.83,"GL18N124640","2023-09-25"]
["300012__68","ПРОМІНВЕСТБАНК","23/32a-04",5,1817399.08,72695.960000000006,"GL18N124640","2023-09-25"]
["300012__69","ПРОМІНВЕСТБАНК","02-07/1640",5,308478.32,12339.13,"GL18N124640","2023-09-25"]
["300012__70","ПРОМІНВЕСТБАНК","25",5,457841.17,18313.650000000001,"GL18N124640","2023-09-25"]
["300012__71","ПРОМІНВЕСТБАНК","145/799",5,533424.68000000005,21336.99,"GL18N124640","2023-09-25"]
["300012__72","ПРОМІНВЕСТБАНК","61/32-04",5,122782.71,4911.3100000000004,"GL18N124640","2023-09-25"]
["300012__73","ПРОМІНВЕСТБАНК","89/501",5,359895.4,14395.82,"GL18N124640","2023-09-25"]
["300012__74","ПРОМІНВЕСТБАНК","20-0298/3-2 (з одночасним укладанням договору про відкриття кредитної лінії №20-0299/2-1)",5,7742694.1799999997,309707.77,"GL18N124640","2023-09-25"]
["300012__75","ПРОМІНВЕСТБАНК","20-0841/2-1",5,249159189.22,9966367.5700000003,"GL18N124640","2023-09-25"]
["300012__76","ПРОМІНВЕСТБАНК","20-0298/3-2 ",5,23206.799999999999,928.27,"GL18N124640","2023-09-25"]
["300012__77","ПРОМІНВЕСТБАНК","20-0298/3-2",5,471215.45,18848.62,"GL18N124640","2023-09-25"]
["300012__78","ПРОМІНВЕСТБАНК","96/538",5,533424.68000000005,21336.99,"GL19N125065","2023-11-09"]
["300012__79","ПРОМІНВЕСТБАНК",207,5,894205.77,35768.230000000003,"GL19N125065","2023-11-09"]
["300012__80","ПРОМІНВЕСТБАНК","047-60-01-15",5,300000,12000,"GL19N125065","2023-11-09"]
["300012__81","ПРОМІНВЕСТБАНК","291-2007",5,100624.05,4024.96,"GL19N125065","2023-11-09"]
["300012__82","ПРОМІНВЕСТБАНК","14-2007",5,62328.35,2493.14,"GL19N125065","2023-11-09"]
["300012__83","ПРОМІНВЕСТБАНК","04-11/6",5,2897345.18,115893.81,"GL19N125065","2023-11-09"]
["300012__84","ПРОМІНВЕСТБАНК","04-11/60",5,265671.26,10626.85,"GL19N125065","2023-11-09"]
["300012__85","ПРОМІНВЕСТБАНК","1802/02-03",5,353376.53,14135.06,"GL19N125065","2023-11-09"]
["300012__86","ПРОМІНВЕСТБАНК","04-11/8",5,399945.21,15997.81,"GL19N125065","2023-11-09"]
["300012__87","ПРОМІНВЕСТБАНК","90",5,370299.58,14811.98,"GL19N125065","2023-11-09"]
["300012__88","ПРОМІНВЕСТБАНК","121/1215",5,159024.68,6360.99,"GL19N125065","2023-11-09"]
["300012__89","ПРОМІНВЕСТБАНК","131/1277",5,367452.04,14698.08,"GL19N125065","2023-11-09"]
["300012__90","ПРОМІНВЕСТБАНК","18-2006 ",5,140836.12,5633.44,"GL19N125065","2023-11-09"]
["300012__91","ПРОМІНВЕСТБАНК","34",5,280138.34999999998,11205.54,"GL19N125065","2023-11-09"]
["300012__92","ПРОМІНВЕСТБАНК","03-1/21",5,1627914.59,65116.58,"GL19N125065","2023-11-09"]
["300012__93","ПРОМІНВЕСТБАНК","03-1/91",5,1909632.4,76385.3,"GL19N125065","2023-11-09"]
["300012__94","ПРОМІНВЕСТБАНК","02/1-457 ",5,165788629.75,6631545.1900000004,"GL19N125065","2023-11-09"]
["300012__95","ПРОМІНВЕСТБАНК","02/1-457",5,1068,42.72,"GL19N125065","2023-11-09"]
["300012__96","ПРОМІНВЕСТБАНК","2-54-594",5,416820.61,16672.82,"GL19N125065","2023-11-09"]
["300012__97","ПРОМІНВЕСТБАНК","6-09-104",5,227052.6,9082.1,"GL19N125065","2023-11-09"]
["300012__98","ПРОМІНВЕСТБАНК","6-7-83",5,1009095.39,40363.82,"GL19N125065","2023-11-09"]
["300012__99","ПРОМІНВЕСТБАНК","2-59-469",5,105138.36,4205.54,"GL19N125065","2023-11-09"]
["300012__100","ПРОМІНВЕСТБАНК","23",5,95370.11,3814.8,"GL19N125065","2023-11-09"]
["300012__101","ПРОМІНВЕСТБАНК","67/960",5,107884.93,4315.3999999999996,"GL19N125065","2023-11-09"]
["300012__102","ПРОМІНВЕСТБАНК","92/517",5,524931.52,20997.26,"GL19N125065","2023-11-09"]
["300012__103","ПРОМІНВЕСТБАНК","91/513",5,524931.52,20997.26,"GL19N125065","2023-11-09"]
["300012__104","ПРОМІНВЕСТБАНК","62/323",5,156240.42000000001,6249.62,"GL19N125065","2023-11-09"]
["300012__105","ПРОМІНВЕСТБАНК","1-6/28-04",5,241631.03,9665.24,"GL19N125065","2023-11-09"]
["300012__106","ПРОМІНВЕСТБАНК","22/3-08",5,474887.97,18995.52,"GL19N125065","2023-11-09"]
["300012__107","ПРОМІНВЕСТБАНК","1-41",5,454873.81,17998,"GL19N125065","2023-11-09"]
["300012__108","ПРОМІНВЕСТБАНК","1-13",5,65860.62,2559.98,"GL19N125065","2023-11-09"]
["300012__109","ПРОМІНВЕСТБАНК","184/КР116",5,160343.04999999999,6413.72,"GL19N125065","2023-11-09"]
["300012__110","ПРОМІНВЕСТБАНК","55/3-06",5,149715.88,5988.64,"GL19N125065","2023-11-09"]
["300012__111","ПРОМІНВЕСТБАНК","3/3-08",5,1655905.32,66236.210000000006,"GL19N125065","2023-11-09"]
["300012__112","ПРОМІНВЕСТБАНК","31/3-08",5,165142.14000000001,6605.68,"GL19N125065","2023-11-09"]
["300012__113","ПРОМІНВЕСТБАНК","56/КР39",5,138991.47,5559.66,"GL19N125065","2023-11-09"]
["300012__114","ПРОМІНВЕСТБАНК","590/1-2007",5,237986.96,9519.48,"GL19N125065","2023-11-09"]
["300012__115","ПРОМІНВЕСТБАНК","17/4-07",5,202133.96,8085.36,"GL19N125065","2023-11-09"]
["300012__116","ПРОМІНВЕСТБАНК","21/4-07",5,2476132.5499999998,99045.3,"GL19N125065","2023-11-09"]
["300012__117","ПРОМІНВЕСТБАНК","25/4-07",5,2602171.7400000002,104086.87,"GL19N125065","2023-11-09"]
["300012__118","ПРОМІНВЕСТБАНК","28/4-06",5,472049.37,18881.98,"GL19N125065","2023-11-09"]
["300012__119","ПРОМІНВЕСТБАНК","32/32а-04",5,2213802.2000000002,88552.09,"GL19N125065","2023-11-09"]
["300012__120","ПРОМІНВЕСТБАНК","05-01-16/326",5,181667.9,7266.72,"GL19N125065","2023-11-09"]
["300012__121","ПРОМІНВЕСТБАНК","05-01-16/433",5,416919.14,16676.759999999998,"GL19N125065","2023-11-09"]
["300012__122","ПРОМІНВЕСТБАНК","1458",5,25776.14,1031.04,"GL19N125065","2023-11-09"]
["300012__123","ПРОМІНВЕСТБАНК","2086",5,323484.69,12939.39,"GL19N125065","2023-11-09"]
["300012__124","ПРОМІНВЕСТБАНК","64-КР",5,2889289.12,115571.56,"GL19N125065","2023-11-09"]
["300012__125","ПРОМІНВЕСТБАНК","101-08/01",5,1598365.02,63934.6,"GL19N125065","2023-11-09"]
["300012__126","ПРОМІНВЕСТБАНК","1039-07/02",5,518278.51,20731.14,"GL19N125065","2023-11-09"]
["300012__127","ПРОМІНВЕСТБАНК","13-65-06/212",5,5000000,200000,"GL19N125065","2023-11-09"]
["300012__128","ПРОМІНВЕСТБАНК","13-65-06/261",5,1617967.3,64718.69,"GL19N125065","2023-11-09"]
["300012__129","ПРОМІНВЕСТБАНК","03-10",5,109429.49,4377.18,"GL19N125065","2023-11-09"]
["300012__130","ПРОМІНВЕСТБАНК","03-1/140",5,1459512.9,58380.52,"GL19N125065","2023-11-09"]
["300012__131","ПРОМІНВЕСТБАНК","03-1/38",5,1232876.7,49315.07,"GL19N125065","2023-11-09"]
["300012__132","ПРОМІНВЕСТБАНК","03-1/107",5,94297.89,3771.92,"GL19N125065","2023-11-09"]
["300012__133","ПРОМІНВЕСТБАНК",422,5,562108.07999999996,22484.32,"GL19N125065","2023-11-09"]
["300012__134","ПРОМІНВЕСТБАНК","26/4-06",5,2052207.79,82088.31,"GL19N125065","2023-11-09"]
["300012__135","ПРОМІНВЕСТБАНК","09-1763/7",5,144868.82,5794.75,"GL19N125065","2023-11-09"]
["300012__136","ПРОМІНВЕСТБАНК","46-2007/к",5,18752400.670000002,750096.03,"GL19N125065","2023-11-09"]
["300012__137","ПРОМІНВЕСТБАНК","57-4",5,358195.94,14327.84,"GL19N125065","2023-11-09"]
["300012__138","ПРОМІНВЕСТБАНК",56,7,5431328.5499999998,223465.69,"GL19N125065","2023-11-09"]
["300012__139","ПРОМІНВЕСТБАНК","FCMF-50642",7,640,25.6,"GL19N125065","2023-11-09"]
[null,{"$f":"IFERROR(VLOOKUP(A847,'1.Портфель кредитів'!A:AB,3,FALSE),\"\")","v":""},{"$f":"IFERROR(VLOOKUP(A847,'1.Портфель кредитів'!A:AB,14,FALSE),\"\")","v":""}]
["«Недійсність (нікчемність), припинення всіх або будь-якого із прав, що складають Майнові права за цим лотом, або неможливість реалізації покупцем будь-якого із Майнових прав, набутих ним за договором купівлі-продажу Майнових прав за цим лотом, не вплине на дійсність договору купівлі-продажу Майнових прав за цим лотом та Покупець погоджується, що Продавець не несе жодної відповідальності за такі наслідки.\nБанк (продавець) та/або Фонд не відповідає за неотримання покупцем грошових коштів або іншого майна, які покупець очікував отримати від Майнових прав, набуваючи у власність Майнові права за цим лотом.\nПриймаючи рішення щодо придбання Майнових прав за цим лотом покупець має розуміти (усвідомлювати) характер Майнових прав, що переходять до покупця за цим лотом, та приймати усі ризики, пов’язані із таким переходом, у тому числі ризики того, що покупець у майбутньому не зможе отримати жодних коштів або майна за Майновими правами.»"]
["Цей документ був підготовлений Фондом гарантування вкладів фізичних осіб (далі – Фонд) виключно для інформаційних цілей і не повинен вважатися як спонукання до будь-яких дій чи бездіяльності.  Інформація, що міститься в цьому документі, була отримана з/або ґрунтується на джерелах, які вважаються надійними, але не є вичерпною та не може сприйматися як повна або актуальна. Рішення покупця щодо будь-яких дій або бездіяльності повинно ґрунтуватися на власних оцінках та дослідженнях майна (активу/активів), котре реалізується. Фонд не несе відповідальності за рішення покупця та його наслідки, що ґрунтується на інформації, викладеній в даному документі."]
["Покупцем не може бути особа, пов'язана з державою-агресором, відповідно до Постанови Кабінету Міністрів України №187 від 03.03.2022 (зі змінами)."]
["Звертаємо увагу, що  на період дії воєнного стану на території України  договори посвідчуються нотаріусом, який включений до затвердженого Міністерством юстиції переліку (https://minjust.gov.ua/news/ministry/perelik-notariusiv-yakimi-v-umovah-voennogo-stanu-vchinyayutsya-notarialni-dii-schodo-tsinnogo-mayna). Нотаріальне посвідчення договорів відчуження нерухомого майна на час дії воєнного стану здійснюється нотаріусом, який включений до затвердженого Міністерством юстиції переліку, за місцезнаходженням такого майна. Виключенням є м. Київ та Київська область, де договори відчуження нерухомого майна посвідчуються нотаріусом з м. Києва або Київської обл. за місцезнаходженням такого майна, або місцезнаходженням юридичної особи, або за зареєстрованим місцем проживання фізичної особи - однієї із сторін договору."]
[null,{"$f":"IFERROR(VLOOKUP(A852,'1.Портфель кредитів'!A:AB,3,FALSE),\"\")","v":""},{"$f":"IFERROR(VLOOKUP(A852,'1.Портфель кредитів'!A:AB,14,FALSE),\"\")","v":""}]
[null,{"$f":"IFERROR(VLOOKUP(A853,'1.Портфель кредитів'!A:AB,3,FALSE),\"\")","v":""},{"$f":"IFERROR(VLOOKUP(A853,'1.Портфель кредитів'!A:AB,14,FALSE),\"\")","v":""}]
[null,{"$f":"IFERROR(VLOOKUP(A854,'1.Портфель кредитів'!A:AB,3,FALSE),\"\")","v":""},{"$f":"IFERROR(VLOOKUP(A854,'1.Портфель кредитів'!A:AB,14,FALSE),\"\")","v":""}]
[null,{"$f":"IFERROR(VLOOKUP(A855,'1.Портфель кредитів'!A:AB,3,FALSE),\"\")","v":""},{"$f":"IFERROR(VLOOKUP(A855,'1.Портфель кредитів'!A:AB,14,FALSE),\"\")","v":""}]
[null,{"$f":"IFERROR(VLOOKUP(A856,'1.Портфель кредитів'!A:AB,3,FALSE),\"\")","v":""},{"$f":"IFERROR(VLOOKUP(A856,'1.Портфель кредитів'!A:AB,14,FALSE),\"\")","v":""}]
[null,{"$f":"IFERROR(VLOOKUP(A857,'1.Портфель кредитів'!A:AB,3,FALSE),\"\")","v":""},{"$f":"IFERROR(VLOOKUP(A857,'1.Портфель кредитів'!A:AB,14,FALSE),\"\")","v":""}]
[null,{"$f":"IFERROR(VLOOKUP(A858,'1.Портфель кредитів'!A:AB,3,FALSE),\"\")","v":""},{"$f":"IFERROR(VLOOKUP(A858,'1.Портфель кредитів'!A:AB,14,FALSE),\"\")","v":""}]
[null,{"$f":"IFERROR(VLOOKUP(A859,'1.Портфель кредитів'!A:AB,3,FALSE),\"\")","v":""},{"$f":"IFERROR(VLOOKUP(A859,'1.Портфель кредитів'!A:AB,14,FALSE),\"\")","v":""}]
[null,{"$f":"IFERROR(VLOOKUP(A860,'1.Портфель кредитів'!A:AB,3,FALSE),\"\")","v":""},{"$f":"IFERROR(VLOOKUP(A860,'1.Портфель кредитів'!A:AB,14,FALSE),\"\")","v":""}]
[null,{"$f":"IFERROR(VLOOKUP(A861,'1.Портфель кредитів'!A:AB,3,FALSE),\"\")","v":""},{"$f":"IFERROR(VLOOKUP(A861,'1.Портфель кредитів'!A:AB,14,FALSE),\"\")","v":""}]
[null,{"$f":"IFERROR(VLOOKUP(A862,'1.Портфель кредитів'!A:AB,3,FALSE),\"\")","v":""},{"$f":"IFERROR(VLOOKUP(A862,'1.Портфель кредитів'!A:AB,14,FALSE),\"\")","v":""}]
[null,{"$f":"IFERROR(VLOOKUP(A863,'1.Портфель кредитів'!A:AB,3,FALSE),\"\")","v":""},{"$f":"IFERROR(VLOOKUP(A863,'1.Портфель кредитів'!A:AB,14,FALSE),\"\")","v":""}]
[null,{"$f":"IFERROR(VLOOKUP(A864,'1.Портфель кредитів'!A:AB,3,FALSE),\"\")","v":""},{"$f":"IFERROR(VLOOKUP(A864,'1.Портфель кредитів'!A:AB,14,FALSE),\"\")","v":""}]
[null,{"$f":"IFERROR(VLOOKUP(A865,'1.Портфель кредитів'!A:AB,3,FALSE),\"\")","v":""},{"$f":"IFERROR(VLOOKUP(A865,'1.Портфель кредитів'!A:AB,14,FALSE),\"\")","v":""}]
[null,{"$f":"IFERROR(VLOOKUP(A866,'1.Портфель кредитів'!A:AB,3,FALSE),\"\")","v":""},{"$f":"IFERROR(VLOOKUP(A866,'1.Портфель кредитів'!A:AB,14,FALSE),\"\")","v":""}]
[null,{"$f":"IFERROR(VLOOKUP(A867,'1.Портфель кредитів'!A:AB,3,FALSE),\"\")","v":""},{"$f":"IFERROR(VLOOKUP(A867,'1.Портфель кредитів'!A:AB,14,FALSE),\"\")","v":""}]
[null,{"$f":"IFERROR(VLOOKUP(A868,'1.Портфель кредитів'!A:AB,3,FALSE),\"\")","v":""},{"$f":"IFERROR(VLOOKUP(A868,'1.Портфель кредитів'!A:AB,14,FALSE),\"\")","v":""}]
[null,{"$f":"IFERROR(VLOOKUP(A869,'1.Портфель кредитів'!A:AB,3,FALSE),\"\")","v":""},{"$f":"IFERROR(VLOOKUP(A869,'1.Портфель кредитів'!A:AB,14,FALSE),\"\")","v":""}]
[null,{"$f":"IFERROR(VLOOKUP(A870,'1.Портфель кредитів'!A:AB,3,FALSE),\"\")","v":""},{"$f":"IFERROR(VLOOKUP(A870,'1.Портфель кредитів'!A:AB,14,FALSE),\"\")","v":""}]
[null,{"$f":"IFERROR(VLOOKUP(A871,'1.Портфель кредитів'!A:AB,3,FALSE),\"\")","v":""},{"$f":"IFERROR(VLOOKUP(A871,'1.Портфель кредитів'!A:AB,14,FALSE),\"\")","v":""}]
[null,{"$f":"IFERROR(VLOOKUP(A872,'1.Портфель кредитів'!A:AB,3,FALSE),\"\")","v":""},{"$f":"IFERROR(VLOOKUP(A872,'1.Портфель кредитів'!A:AB,14,FALSE),\"\")","v":""}]
[null,{"$f":"IFERROR(VLOOKUP(A873,'1.Портфель кредитів'!A:AB,3,FALSE),\"\")","v":""},{"$f":"IFERROR(VLOOKUP(A873,'1.Портфель кредитів'!A:AB,14,FALSE),\"\")","v":""}]
[null,{"$f":"IFERROR(VLOOKUP(A874,'1.Портфель кредитів'!A:AB,3,FALSE),\"\")","v":""},{"$f":"IFERROR(VLOOKUP(A874,'1.Портфель кредитів'!A:AB,14,FALSE),\"\")","v":""}]
[null,{"$f":"IFERROR(VLOOKUP(A875,'1.Портфель кредитів'!A:AB,3,FALSE),\"\")","v":""},{"$f":"IFERROR(VLOOKUP(A875,'1.Портфель кредитів'!A:AB,14,FALSE),\"\")","v":""}]
[null,{"$f":"IFERROR(VLOOKUP(A876,'1.Портфель кредитів'!A:AB,3,FALSE),\"\")","v":""},{"$f":"IFERROR(VLOOKUP(A876,'1.Портфель кредитів'!A:AB,14,FALSE),\"\")","v":""}]
[null,{"$f":"IFERROR(VLOOKUP(A877,'1.Портфель кредитів'!A:AB,3,FALSE),\"\")","v":""},{"$f":"IFERROR(VLOOKUP(A877,'1.Портфель кредитів'!A:AB,14,FALSE),\"\")","v":""}]
[null,{"$f":"IFERROR(VLOOKUP(A878,'1.Портфель кредитів'!A:AB,3,FALSE),\"\")","v":""},{"$f":"IFERROR(VLOOKUP(A878,'1.Портфель кредитів'!A:AB,14,FALSE),\"\")","v":""}]
[null,{"$f":"IFERROR(VLOOKUP(A879,'1.Портфель кредитів'!A:AB,3,FALSE),\"\")","v":""},{"$f":"IFERROR(VLOOKUP(A879,'1.Портфель кредитів'!A:AB,14,FALSE),\"\")","v":""}]
[null,{"$f":"IFERROR(VLOOKUP(A880,'1.Портфель кредитів'!A:AB,3,FALSE),\"\")","v":""},{"$f":"IFERROR(VLOOKUP(A880,'1.Портфель кредитів'!A:AB,14,FALSE),\"\")","v":""}]
[null,{"$f":"IFERROR(VLOOKUP(A881,'1.Портфель кредитів'!A:AB,3,FALSE),\"\")","v":""},{"$f":"IFERROR(VLOOKUP(A881,'1.Портфель кредитів'!A:AB,14,FALSE),\"\")","v":""}]
[null,{"$f":"IFERROR(VLOOKUP(A882,'1.Портфель кредитів'!A:AB,3,FALSE),\"\")","v":""},{"$f":"IFERROR(VLOOKUP(A882,'1.Портфель кредитів'!A:AB,14,FALSE),\"\")","v":""}]
[null,{"$f":"IFERROR(VLOOKUP(A883,'1.Портфель кредитів'!A:AB,3,FALSE),\"\")","v":""},{"$f":"IFERROR(VLOOKUP(A883,'1.Портфель кредитів'!A:AB,14,FALSE),\"\")","v":""}]
[null,{"$f":"IFERROR(VLOOKUP(A884,'1.Портфель кредитів'!A:AB,3,FALSE),\"\")","v":""},{"$f":"IFERROR(VLOOKUP(A884,'1.Портфель кредитів'!A:AB,14,FALSE),\"\")","v":""}]
[null,{"$f":"IFERROR(VLOOKUP(A885,'1.Портфель кредитів'!A:AB,3,FALSE),\"\")","v":""},{"$f":"IFERROR(VLOOKUP(A885,'1.Портфель кредитів'!A:AB,14,FALSE),\"\")","v":""}]
[null,{"$f":"IFERROR(VLOOKUP(A886,'1.Портфель кредитів'!A:AB,3,FALSE),\"\")","v":""},{"$f":"IFERROR(VLOOKUP(A886,'1.Портфель кредитів'!A:AB,14,FALSE),\"\")","v":""}]
[null,{"$f":"IFERROR(VLOOKUP(A887,'1.Портфель кредитів'!A:AB,3,FALSE),\"\")","v":""},{"$f":"IFERROR(VLOOKUP(A887,'1.Портфель кредитів'!A:AB,14,FALSE),\"\")","v":""}]
[null,{"$f":"IFERROR(VLOOKUP(A888,'1.Портфель кредитів'!A:AB,3,FALSE),\"\")","v":""},{"$f":"IFERROR(VLOOKUP(A888,'1.Портфель кредитів'!A:AB,14,FALSE),\"\")","v":""}]
[null,{"$f":"IFERROR(VLOOKUP(A889,'1.Портфель кредитів'!A:AB,3,FALSE),\"\")","v":""},{"$f":"IFERROR(VLOOKUP(A889,'1.Портфель кредитів'!A:AB,14,FALSE),\"\")","v":""}]
[null,{"$f":"IFERROR(VLOOKUP(A890,'1.Портфель кредитів'!A:AB,3,FALSE),\"\")","v":""},{"$f":"IFERROR(VLOOKUP(A890,'1.Портфель кредитів'!A:AB,14,FALSE),\"\")","v":""}]
[null,{"$f":"IFERROR(VLOOKUP(A891,'1.Портфель кредитів'!A:AB,3,FALSE),\"\")","v":""},{"$f":"IFERROR(VLOOKUP(A891,'1.Портфель кредитів'!A:AB,14,FALSE),\"\")","v":""}]
[null,{"$f":"IFERROR(VLOOKUP(A892,'1.Портфель кредитів'!A:AB,3,FALSE),\"\")","v":""},{"$f":"IFERROR(VLOOKUP(A892,'1.Портфель кредитів'!A:AB,14,FALSE),\"\")","v":""}]
[null,{"$f":"IFERROR(VLOOKUP(A893,'1.Портфель кредитів'!A:AB,3,FALSE),\"\")","v":""},{"$f":"IFERROR(VLOOKUP(A893,'1.Портфель кредитів'!A:AB,14,FALSE),\"\")","v":""}]
[null,{"$f":"IFERROR(VLOOKUP(A894,'1.Портфель кредитів'!A:AB,3,FALSE),\"\")","v":""},{"$f":"IFERROR(VLOOKUP(A894,'1.Портфель кредитів'!A:AB,14,FALSE),\"\")","v":""}]
[null,{"$f":"IFERROR(VLOOKUP(A895,'1.Портфель кредитів'!A:AB,3,FALSE),\"\")","v":""},{"$f":"IFERROR(VLOOKUP(A895,'1.Портфель кредитів'!A:AB,14,FALSE),\"\")","v":""}]
[null,{"$f":"IFERROR(VLOOKUP(A896,'1.Портфель кредитів'!A:AB,3,FALSE),\"\")","v":""},{"$f":"IFERROR(VLOOKUP(A896,'1.Портфель кредитів'!A:AB,14,FALSE),\"\")","v":""}]
[null,{"$f":"IFERROR(VLOOKUP(A897,'1.Портфель кредитів'!A:AB,3,FALSE),\"\")","v":""},{"$f":"IFERROR(VLOOKUP(A897,'1.Портфель кредитів'!A:AB,14,FALSE),\"\")","v":""}]
[null,{"$f":"IFERROR(VLOOKUP(A898,'1.Портфель кредитів'!A:AB,3,FALSE),\"\")","v":""},{"$f":"IFERROR(VLOOKUP(A898,'1.Портфель кредитів'!A:AB,14,FALSE),\"\")","v":""}]
[null,{"$f":"IFERROR(VLOOKUP(A899,'1.Портфель кредитів'!A:AB,3,FALSE),\"\")","v":""},{"$f":"IFERROR(VLOOKUP(A899,'1.Портфель кредитів'!A:AB,14,FALSE),\"\")","v":""}]
[null,{"$f":"IFERROR(VLOOKUP(A900,'1.Портфель кредитів'!A:AB,3,FALSE),\"\")","v":""},{"$f":"IFERROR(VLOOKUP(A900,'1.Портфель кредитів'!A:AB,14,FALSE),\"\")","v":""}]
[null,{"$f":"IFERROR(VLOOKUP(A901,'1.Портфель кредитів'!A:AB,3,FALSE),\"\")","v":""},{"$f":"IFERROR(VLOOKUP(A901,'1.Портфель кредитів'!A:AB,14,FALSE),\"\")","v":""}]
[null,{"$f":"IFERROR(VLOOKUP(A902,'1.Портфель кредитів'!A:AB,3,FALSE),\"\")","v":""},{"$f":"IFERROR(VLOOKUP(A902,'1.Портфель кредитів'!A:AB,14,FALSE),\"\")","v":""}]
[null,{"$f":"IFERROR(VLOOKUP(A903,'1.Портфель кредитів'!A:AB,3,FALSE),\"\")","v":""},{"$f":"IFERROR(VLOOKUP(A903,'1.Портфель кредитів'!A:AB,14,FALSE),\"\")","v":""}]
[null,{"$f":"IFERROR(VLOOKUP(A904,'1.Портфель кредитів'!A:AB,3,FALSE),\"\")","v":""},{"$f":"IFERROR(VLOOKUP(A904,'1.Портфель кредитів'!A:AB,14,FALSE),\"\")","v":""}]
[null,{"$f":"IFERROR(VLOOKUP(A905,'1.Портфель кредитів'!A:AB,3,FALSE),\"\")","v":""},{"$f":"IFERROR(VLOOKUP(A905,'1.Портфель кредитів'!A:AB,14,FALSE),\"\")","v":""}]
[null,{"$f":"IFERROR(VLOOKUP(A906,'1.Портфель кредитів'!A:AB,3,FALSE),\"\")","v":""},{"$f":"IFERROR(VLOOKUP(A906,'1.Портфель кредитів'!A:AB,14,FALSE),\"\")","v":""}]
[null,{"$f":"IFERROR(VLOOKUP(A907,'1.Портфель кредитів'!A:AB,3,FALSE),\"\")","v":""},{"$f":"IFERROR(VLOOKUP(A907,'1.Портфель кредитів'!A:AB,14,FALSE),\"\")","v":""}]
[null,{"$f":"IFERROR(VLOOKUP(A908,'1.Портфель кредитів'!A:AB,3,FALSE),\"\")","v":""},{"$f":"IFERROR(VLOOKUP(A908,'1.Портфель кредитів'!A:AB,14,FALSE),\"\")","v":""}]
[null,{"$f":"IFERROR(VLOOKUP(A909,'1.Портфель кредитів'!A:AB,3,FALSE),\"\")","v":""},{"$f":"IFERROR(VLOOKUP(A909,'1.Портфель кредитів'!A:AB,14,FALSE),\"\")","v":""}]
[null,{"$f":"IFERROR(VLOOKUP(A910,'1.Портфель кредитів'!A:AB,3,FALSE),\"\")","v":""},{"$f":"IFERROR(VLOOKUP(A910,'1.Портфель кредитів'!A:AB,14,FALSE),\"\")","v":""}]
[null,{"$f":"IFERROR(VLOOKUP(A911,'1.Портфель кредитів'!A:AB,3,FALSE),\"\")","v":""},{"$f":"IFERROR(VLOOKUP(A911,'1.Портфель кредитів'!A:AB,14,FALSE),\"\")","v":""}]
[null,{"$f":"IFERROR(VLOOKUP(A912,'1.Портфель кредитів'!A:AB,3,FALSE),\"\")","v":""},{"$f":"IFERROR(VLOOKUP(A912,'1.Портфель кредитів'!A:AB,14,FALSE),\"\")","v":""}]
[null,{"$f":"IFERROR(VLOOKUP(A913,'1.Портфель кредитів'!A:AB,3,FALSE),\"\")","v":""},{"$f":"IFERROR(VLOOKUP(A913,'1.Портфель кредитів'!A:AB,14,FALSE),\"\")","v":""}]
[null,{"$f":"IFERROR(VLOOKUP(A914,'1.Портфель кредитів'!A:AB,3,FALSE),\"\")","v":""},{"$f":"IFERROR(VLOOKUP(A914,'1.Портфель кредитів'!A:AB,14,FALSE),\"\")","v":""}]
[null,{"$f":"IFERROR(VLOOKUP(A915,'1.Портфель кредитів'!A:AB,3,FALSE),\"\")","v":""},{"$f":"IFERROR(VLOOKUP(A915,'1.Портфель кредитів'!A:AB,14,FALSE),\"\")","v":""}]
[null,{"$f":"IFERROR(VLOOKUP(A916,'1.Портфель кредитів'!A:AB,3,FALSE),\"\")","v":""},{"$f":"IFERROR(VLOOKUP(A916,'1.Портфель кредитів'!A:AB,14,FALSE),\"\")","v":""}]
[null,{"$f":"IFERROR(VLOOKUP(A917,'1.Портфель кредитів'!A:AB,3,FALSE),\"\")","v":""},{"$f":"IFERROR(VLOOKUP(A917,'1.Портфель кредитів'!A:AB,14,FALSE),\"\")","v":""}]
[null,{"$f":"IFERROR(VLOOKUP(A918,'1.Портфель кредитів'!A:AB,3,FALSE),\"\")","v":""},{"$f":"IFERROR(VLOOKUP(A918,'1.Портфель кредитів'!A:AB,14,FALSE),\"\")","v":""}]
[null,{"$f":"IFERROR(VLOOKUP(A919,'1.Портфель кредитів'!A:AB,3,FALSE),\"\")","v":""},{"$f":"IFERROR(VLOOKUP(A919,'1.Портфель кредитів'!A:AB,14,FALSE),\"\")","v":""}]
[null,{"$f":"IFERROR(VLOOKUP(A920,'1.Портфель кредитів'!A:AB,3,FALSE),\"\")","v":""},{"$f":"IFERROR(VLOOKUP(A920,'1.Портфель кредитів'!A:AB,14,FALSE),\"\")","v":""}]
[null,{"$f":"IFERROR(VLOOKUP(A921,'1.Портфель кредитів'!A:AB,3,FALSE),\"\")","v":""},{"$f":"IFERROR(VLOOKUP(A921,'1.Портфель кредитів'!A:AB,14,FALSE),\"\")","v":""}]
[null,{"$f":"IFERROR(VLOOKUP(A922,'1.Портфель кредитів'!A:AB,3,FALSE),\"\")","v":""},{"$f":"IFERROR(VLOOKUP(A922,'1.Портфель кредитів'!A:AB,14,FALSE),\"\")","v":""}]
[null,{"$f":"IFERROR(VLOOKUP(A923,'1.Портфель кредитів'!A:AB,3,FALSE),\"\")","v":""},{"$f":"IFERROR(VLOOKUP(A923,'1.Портфель кредитів'!A:AB,14,FALSE),\"\")","v":""}]
[null,{"$f":"IFERROR(VLOOKUP(A924,'1.Портфель кредитів'!A:AB,3,FALSE),\"\")","v":""},{"$f":"IFERROR(VLOOKUP(A924,'1.Портфель кредитів'!A:AB,14,FALSE),\"\")","v":""}]
[null,{"$f":"IFERROR(VLOOKUP(A925,'1.Портфель кредитів'!A:AB,3,FALSE),\"\")","v":""},{"$f":"IFERROR(VLOOKUP(A925,'1.Портфель кредитів'!A:AB,14,FALSE),\"\")","v":""}]
[null,{"$f":"IFERROR(VLOOKUP(A926,'1.Портфель кредитів'!A:AB,3,FALSE),\"\")","v":""},{"$f":"IFERROR(VLOOKUP(A926,'1.Портфель кредитів'!A:AB,14,FALSE),\"\")","v":""}]
[null,{"$f":"IFERROR(VLOOKUP(A927,'1.Портфель кредитів'!A:AB,3,FALSE),\"\")","v":""},{"$f":"IFERROR(VLOOKUP(A927,'1.Портфель кредитів'!A:AB,14,FALSE),\"\")","v":""}]
[null,{"$f":"IFERROR(VLOOKUP(A928,'1.Портфель кредитів'!A:AB,3,FALSE),\"\")","v":""},{"$f":"IFERROR(VLOOKUP(A928,'1.Портфель кредитів'!A:AB,14,FALSE),\"\")","v":""}]
[null,{"$f":"IFERROR(VLOOKUP(A929,'1.Портфель кредитів'!A:AB,3,FALSE),\"\")","v":""},{"$f":"IFERROR(VLOOKUP(A929,'1.Портфель кредитів'!A:AB,14,FALSE),\"\")","v":""}]
[null,{"$f":"IFERROR(VLOOKUP(A930,'1.Портфель кредитів'!A:AB,3,FALSE),\"\")","v":""},{"$f":"IFERROR(VLOOKUP(A930,'1.Портфель кредитів'!A:AB,14,FALSE),\"\")","v":""}]
[null,{"$f":"IFERROR(VLOOKUP(A931,'1.Портфель кредитів'!A:AB,3,FALSE),\"\")","v":""},{"$f":"IFERROR(VLOOKUP(A931,'1.Портфель кредитів'!A:AB,14,FALSE),\"\")","v":""}]
[null,{"$f":"IFERROR(VLOOKUP(A932,'1.Портфель кредитів'!A:AB,3,FALSE),\"\")","v":""},{"$f":"IFERROR(VLOOKUP(A932,'1.Портфель кредитів'!A:AB,14,FALSE),\"\")","v":""}]
[null,{"$f":"IFERROR(VLOOKUP(A933,'1.Портфель кредитів'!A:AB,3,FALSE),\"\")","v":""},{"$f":"IFERROR(VLOOKUP(A933,'1.Портфель кредитів'!A:AB,14,FALSE),\"\")","v":""}]
[null,{"$f":"IFERROR(VLOOKUP(A934,'1.Портфель кредитів'!A:AB,3,FALSE),\"\")","v":""},{"$f":"IFERROR(VLOOKUP(A934,'1.Портфель кредитів'!A:AB,14,FALSE),\"\")","v":""}]
[null,{"$f":"IFERROR(VLOOKUP(A935,'1.Портфель кредитів'!A:AB,3,FALSE),\"\")","v":""},{"$f":"IFERROR(VLOOKUP(A935,'1.Портфель кредитів'!A:AB,14,FALSE),\"\")","v":""}]
[null,{"$f":"IFERROR(VLOOKUP(A936,'1.Портфель кредитів'!A:AB,3,FALSE),\"\")","v":""},{"$f":"IFERROR(VLOOKUP(A936,'1.Портфель кредитів'!A:AB,14,FALSE),\"\")","v":""}]
[null,{"$f":"IFERROR(VLOOKUP(A937,'1.Портфель кредитів'!A:AB,3,FALSE),\"\")","v":""},{"$f":"IFERROR(VLOOKUP(A937,'1.Портфель кредитів'!A:AB,14,FALSE),\"\")","v":""}]
[null,{"$f":"IFERROR(VLOOKUP(A938,'1.Портфель кредитів'!A:AB,3,FALSE),\"\")","v":""},{"$f":"IFERROR(VLOOKUP(A938,'1.Портфель кредитів'!A:AB,14,FALSE),\"\")","v":""}]
[null,{"$f":"IFERROR(VLOOKUP(A939,'1.Портфель кредитів'!A:AB,3,FALSE),\"\")","v":""},{"$f":"IFERROR(VLOOKUP(A939,'1.Портфель кредитів'!A:AB,14,FALSE),\"\")","v":""}]
[null,{"$f":"IFERROR(VLOOKUP(A940,'1.Портфель кредитів'!A:AB,3,FALSE),\"\")","v":""},{"$f":"IFERROR(VLOOKUP(A940,'1.Портфель кредитів'!A:AB,14,FALSE),\"\")","v":""}]
[null,{"$f":"IFERROR(VLOOKUP(A941,'1.Портфель кредитів'!A:AB,3,FALSE),\"\")","v":""},{"$f":"IFERROR(VLOOKUP(A941,'1.Портфель кредитів'!A:AB,14,FALSE),\"\")","v":""}]
[null,{"$f":"IFERROR(VLOOKUP(A942,'1.Портфель кредитів'!A:AB,3,FALSE),\"\")","v":""},{"$f":"IFERROR(VLOOKUP(A942,'1.Портфель кредитів'!A:AB,14,FALSE),\"\")","v":""}]
[null,{"$f":"IFERROR(VLOOKUP(A943,'1.Портфель кредитів'!A:AB,3,FALSE),\"\")","v":""},{"$f":"IFERROR(VLOOKUP(A943,'1.Портфель кредитів'!A:AB,14,FALSE),\"\")","v":""}]
[null,{"$f":"IFERROR(VLOOKUP(A944,'1.Портфель кредитів'!A:AB,3,FALSE),\"\")","v":""},{"$f":"IFERROR(VLOOKUP(A944,'1.Портфель кредитів'!A:AB,14,FALSE),\"\")","v":""}]
[null,{"$f":"IFERROR(VLOOKUP(A945,'1.Портфель кредитів'!A:AB,3,FALSE),\"\")","v":""},{"$f":"IFERROR(VLOOKUP(A945,'1.Портфель кредитів'!A:AB,14,FALSE),\"\")","v":""}]
[null,{"$f":"IFERROR(VLOOKUP(A946,'1.Портфель кредитів'!A:AB,3,FALSE),\"\")","v":""},{"$f":"IFERROR(VLOOKUP(A946,'1.Портфель кредитів'!A:AB,14,FALSE),\"\")","v":""}]
[null,{"$f":"IFERROR(VLOOKUP(A947,'1.Портфель кредитів'!A:AB,3,FALSE),\"\")","v":""},{"$f":"IFERROR(VLOOKUP(A947,'1.Портфель кредитів'!A:AB,14,FALSE),\"\")","v":""}]
[null,{"$f":"IFERROR(VLOOKUP(A948,'1.Портфель кредитів'!A:AB,3,FALSE),\"\")","v":""},{"$f":"IFERROR(VLOOKUP(A948,'1.Портфель кредитів'!A:AB,14,FALSE),\"\")","v":""}]
[null,{"$f":"IFERROR(VLOOKUP(A949,'1.Портфель кредитів'!A:AB,3,FALSE),\"\")","v":""},{"$f":"IFERROR(VLOOKUP(A949,'1.Портфель кредитів'!A:AB,14,FALSE),\"\")","v":""}]
[null,{"$f":"IFERROR(VLOOKUP(A950,'1.Портфель кредитів'!A:AB,3,FALSE),\"\")","v":""},{"$f":"IFERROR(VLOOKUP(A950,'1.Портфель кредитів'!A:AB,14,FALSE),\"\")","v":""}]
[null,{"$f":"IFERROR(VLOOKUP(A951,'1.Портфель кредитів'!A:AB,3,FALSE),\"\")","v":""},{"$f":"IFERROR(VLOOKUP(A951,'1.Портфель кредитів'!A:AB,14,FALSE),\"\")","v":""}]
[null,{"$f":"IFERROR(VLOOKUP(A952,'1.Портфель кредитів'!A:AB,3,FALSE),\"\")","v":""},{"$f":"IFERROR(VLOOKUP(A952,'1.Портфель кредитів'!A:AB,14,FALSE),\"\")","v":""}]
[null,{"$f":"IFERROR(VLOOKUP(A953,'1.Портфель кредитів'!A:AB,3,FALSE),\"\")","v":""},{"$f":"IFERROR(VLOOKUP(A953,'1.Портфель кредитів'!A:AB,14,FALSE),\"\")","v":""}]
[null,{"$f":"IFERROR(VLOOKUP(A954,'1.Портфель кредитів'!A:AB,3,FALSE),\"\")","v":""},{"$f":"IFERROR(VLOOKUP(A954,'1.Портфель кредитів'!A:AB,14,FALSE),\"\")","v":""}]
[null,{"$f":"IFERROR(VLOOKUP(A955,'1.Портфель кредитів'!A:AB,3,FALSE),\"\")","v":""},{"$f":"IFERROR(VLOOKUP(A955,'1.Портфель кредитів'!A:AB,14,FALSE),\"\")","v":""}]
[null,{"$f":"IFERROR(VLOOKUP(A956,'1.Портфель кредитів'!A:AB,3,FALSE),\"\")","v":""},{"$f":"IFERROR(VLOOKUP(A956,'1.Портфель кредитів'!A:AB,14,FALSE),\"\")","v":""}]
[null,{"$f":"IFERROR(VLOOKUP(A957,'1.Портфель кредитів'!A:AB,3,FALSE),\"\")","v":""},{"$f":"IFERROR(VLOOKUP(A957,'1.Портфель кредитів'!A:AB,14,FALSE),\"\")","v":""}]
[null,{"$f":"IFERROR(VLOOKUP(A958,'1.Портфель кредитів'!A:AB,3,FALSE),\"\")","v":""},{"$f":"IFERROR(VLOOKUP(A958,'1.Портфель кредитів'!A:AB,14,FALSE),\"\")","v":""}]
[null,{"$f":"IFERROR(VLOOKUP(A959,'1.Портфель кредитів'!A:AB,3,FALSE),\"\")","v":""},{"$f":"IFERROR(VLOOKUP(A959,'1.Портфель кредитів'!A:AB,14,FALSE),\"\")","v":""}]
[null,{"$f":"IFERROR(VLOOKUP(A960,'1.Портфель кредитів'!A:AB,3,FALSE),\"\")","v":""},{"$f":"IFERROR(VLOOKUP(A960,'1.Портфель кредитів'!A:AB,14,FALSE),\"\")","v":""}]
[null,{"$f":"IFERROR(VLOOKUP(A961,'1.Портфель кредитів'!A:AB,3,FALSE),\"\")","v":""},{"$f":"IFERROR(VLOOKUP(A961,'1.Портфель кредитів'!A:AB,14,FALSE),\"\")","v":""}]
[null,{"$f":"IFERROR(VLOOKUP(A962,'1.Портфель кредитів'!A:AB,3,FALSE),\"\")","v":""},{"$f":"IFERROR(VLOOKUP(A962,'1.Портфель кредитів'!A:AB,14,FALSE),\"\")","v":""}]
[null,{"$f":"IFERROR(VLOOKUP(A963,'1.Портфель кредитів'!A:AB,3,FALSE),\"\")","v":""},{"$f":"IFERROR(VLOOKUP(A963,'1.Портфель кредитів'!A:AB,14,FALSE),\"\")","v":""}]
[null,{"$f":"IFERROR(VLOOKUP(A964,'1.Портфель кредитів'!A:AB,3,FALSE),\"\")","v":""},{"$f":"IFERROR(VLOOKUP(A964,'1.Портфель кредитів'!A:AB,14,FALSE),\"\")","v":""}]
[null,{"$f":"IFERROR(VLOOKUP(A965,'1.Портфель кредитів'!A:AB,3,FALSE),\"\")","v":""},{"$f":"IFERROR(VLOOKUP(A965,'1.Портфель кредитів'!A:AB,14,FALSE),\"\")","v":""}]
[null,{"$f":"IFERROR(VLOOKUP(A966,'1.Портфель кредитів'!A:AB,3,FALSE),\"\")","v":""},{"$f":"IFERROR(VLOOKUP(A966,'1.Портфель кредитів'!A:AB,14,FALSE),\"\")","v":""}]
[null,{"$f":"IFERROR(VLOOKUP(A967,'1.Портфель кредитів'!A:AB,3,FALSE),\"\")","v":""},{"$f":"IFERROR(VLOOKUP(A967,'1.Портфель кредитів'!A:AB,14,FALSE),\"\")","v":""}]
[null,{"$f":"IFERROR(VLOOKUP(A968,'1.Портфель кредитів'!A:AB,3,FALSE),\"\")","v":""},{"$f":"IFERROR(VLOOKUP(A968,'1.Портфель кредитів'!A:AB,14,FALSE),\"\")","v":""}]
[null,{"$f":"IFERROR(VLOOKUP(A969,'1.Портфель кредитів'!A:AB,3,FALSE),\"\")","v":""},{"$f":"IFERROR(VLOOKUP(A969,'1.Портфель кредитів'!A:AB,14,FALSE),\"\")","v":""}]
[null,{"$f":"IFERROR(VLOOKUP(A970,'1.Портфель кредитів'!A:AB,3,FALSE),\"\")","v":""},{"$f":"IFERROR(VLOOKUP(A970,'1.Портфель кредитів'!A:AB,14,FALSE),\"\")","v":""}]
[null,{"$f":"IFERROR(VLOOKUP(A971,'1.Портфель кредитів'!A:AB,3,FALSE),\"\")","v":""},{"$f":"IFERROR(VLOOKUP(A971,'1.Портфель кредитів'!A:AB,14,FALSE),\"\")","v":""}]
[null,{"$f":"IFERROR(VLOOKUP(A972,'1.Портфель кредитів'!A:AB,3,FALSE),\"\")","v":""},{"$f":"IFERROR(VLOOKUP(A972,'1.Портфель кредитів'!A:AB,14,FALSE),\"\")","v":""}]
[null,{"$f":"IFERROR(VLOOKUP(A973,'1.Портфель кредитів'!A:AB,3,FALSE),\"\")","v":""},{"$f":"IFERROR(VLOOKUP(A973,'1.Портфель кредитів'!A:AB,14,FALSE),\"\")","v":""}]
[null,{"$f":"IFERROR(VLOOKUP(A974,'1.Портфель кредитів'!A:AB,3,FALSE),\"\")","v":""},{"$f":"IFERROR(VLOOKUP(A974,'1.Портфель кредитів'!A:AB,14,FALSE),\"\")","v":""}]
[null,{"$f":"IFERROR(VLOOKUP(A975,'1.Портфель кредитів'!A:AB,3,FALSE),\"\")","v":""},{"$f":"IFERROR(VLOOKUP(A975,'1.Портфель кредитів'!A:AB,14,FALSE),\"\")","v":""}]
[null,{"$f":"IFERROR(VLOOKUP(A976,'1.Портфель кредитів'!A:AB,3,FALSE),\"\")","v":""},{"$f":"IFERROR(VLOOKUP(A976,'1.Портфель кредитів'!A:AB,14,FALSE),\"\")","v":""}]
[null,{"$f":"IFERROR(VLOOKUP(A977,'1.Портфель кредитів'!A:AB,3,FALSE),\"\")","v":""},{"$f":"IFERROR(VLOOKUP(A977,'1.Портфель кредитів'!A:AB,14,FALSE),\"\")","v":""}]
[null,{"$f":"IFERROR(VLOOKUP(A978,'1.Портфель кредитів'!A:AB,3,FALSE),\"\")","v":""},{"$f":"IFERROR(VLOOKUP(A978,'1.Портфель кредитів'!A:AB,14,FALSE),\"\")","v":""}]
[null,{"$f":"IFERROR(VLOOKUP(A979,'1.Портфель кредитів'!A:AB,3,FALSE),\"\")","v":""},{"$f":"IFERROR(VLOOKUP(A979,'1.Портфель кредитів'!A:AB,14,FALSE),\"\")","v":""}]
[null,{"$f":"IFERROR(VLOOKUP(A980,'1.Портфель кредитів'!A:AB,3,FALSE),\"\")","v":""},{"$f":"IFERROR(VLOOKUP(A980,'1.Портфель кредитів'!A:AB,14,FALSE),\"\")","v":""}]
[null,{"$f":"IFERROR(VLOOKUP(A981,'1.Портфель кредитів'!A:AB,3,FALSE),\"\")","v":""},{"$f":"IFERROR(VLOOKUP(A981,'1.Портфель кредитів'!A:AB,14,FALSE),\"\")","v":""}]
[null,{"$f":"IFERROR(VLOOKUP(A982,'1.Портфель кредитів'!A:AB,3,FALSE),\"\")","v":""},{"$f":"IFERROR(VLOOKUP(A982,'1.Портфель кредитів'!A:AB,14,FALSE),\"\")","v":""}]
[null,{"$f":"IFERROR(VLOOKUP(A983,'1.Портфель кредитів'!A:AB,3,FALSE),\"\")","v":""},{"$f":"IFERROR(VLOOKUP(A983,'1.Портфель кредитів'!A:AB,14,FALSE),\"\")","v":""}]
[null,{"$f":"IFERROR(VLOOKUP(A984,'1.Портфель кредитів'!A:AB,3,FALSE),\"\")","v":""},{"$f":"IFERROR(VLOOKUP(A984,'1.Портфель кредитів'!A:AB,14,FALSE),\"\")","v":""}]
[null,{"$f":"IFERROR(VLOOKUP(A985,'1.Портфель кредитів'!A:AB,3,FALSE),\"\")","v":""},{"$f":"IFERROR(VLOOKUP(A985,'1.Портфель кредитів'!A:AB,14,FALSE),\"\")","v":""}]
[null,{"$f":"IFERROR(VLOOKUP(A986,'1.Портфель кредитів'!A:AB,3,FALSE),\"\")","v":""},{"$f":"IFERROR(VLOOKUP(A986,'1.Портфель кредитів'!A:AB,14,FALSE),\"\")","v":""}]
[null,{"$f":"IFERROR(VLOOKUP(A987,'1.Портфель кредитів'!A:AB,3,FALSE),\"\")","v":""},{"$f":"IFERROR(VLOOKUP(A987,'1.Портфель кредитів'!A:AB,14,FALSE),\"\")","v":""}]
[null,{"$f":"IFERROR(VLOOKUP(A988,'1.Портфель кредитів'!A:AB,3,FALSE),\"\")","v":""},{"$f":"IFERROR(VLOOKUP(A988,'1.Портфель кредитів'!A:AB,14,FALSE),\"\")","v":""}]
[null,{"$f":"IFERROR(VLOOKUP(A989,'1.Портфель кредитів'!A:AB,3,FALSE),\"\")","v":""},{"$f":"IFERROR(VLOOKUP(A989,'1.Портфель кредитів'!A:AB,14,FALSE),\"\")","v":""}]
[null,{"$f":"IFERROR(VLOOKUP(A990,'1.Портфель кредитів'!A:AB,3,FALSE),\"\")","v":""},{"$f":"IFERROR(VLOOKUP(A990,'1.Портфель кредитів'!A:AB,14,FALSE),\"\")","v":""}]
[null,{"$f":"IFERROR(VLOOKUP(A991,'1.Портфель кредитів'!A:AB,3,FALSE),\"\")","v":""},{"$f":"IFERROR(VLOOKUP(A991,'1.Портфель кредитів'!A:AB,14,FALSE),\"\")","v":""}]
[null,{"$f":"IFERROR(VLOOKUP(A992,'1.Портфель кредитів'!A:AB,3,FALSE),\"\")","v":""},{"$f":"IFERROR(VLOOKUP(A992,'1.Портфель кредитів'!A:AB,14,FALSE),\"\")","v":""}]
[null,{"$f":"IFERROR(VLOOKUP(A993,'1.Портфель кредитів'!A:AB,3,FALSE),\"\")","v":""},{"$f":"IFERROR(VLOOKUP(A993,'1.Портфель кредитів'!A:AB,14,FALSE),\"\")","v":""}]
[null,{"$f":"IFERROR(VLOOKUP(A994,'1.Портфель кредитів'!A:AB,3,FALSE),\"\")","v":""},{"$f":"IFERROR(VLOOKUP(A994,'1.Портфель кредитів'!A:AB,14,FALSE),\"\")","v":""}]
[null,{"$f":"IFERROR(VLOOKUP(A995,'1.Портфель кредитів'!A:AB,3,FALSE),\"\")","v":""},{"$f":"IFERROR(VLOOKUP(A995,'1.Портфель кредитів'!A:AB,14,FALSE),\"\")","v":""}]
[null,{"$f":"IFERROR(VLOOKUP(A996,'1.Портфель кредитів'!A:AB,3,FALSE),\"\")","v":""},{"$f":"IFERROR(VLOOKUP(A996,'1.Портфель кредитів'!A:AB,14,FALSE),\"\")","v":""}]
[null,{"$f":"IFERROR(VLOOKUP(A997,'1.Портфель кредитів'!A:AB,3,FALSE),\"\")","v":""},{"$f":"IFERROR(VLOOKUP(A997,'1.Портфель кредитів'!A:AB,14,FALSE),\"\")","v":""}]
[null,{"$f":"IFERROR(VLOOKUP(A998,'1.Портфель кредитів'!A:AB,3,FALSE),\"\")","v":""},{"$f":"IFERROR(VLOOKUP(A998,'1.Портфель кредитів'!A:AB,14,FALSE),\"\")","v":""}]
[null,{"$f":"IFERROR(VLOOKUP(A999,'1.Портфель кредитів'!A:AB,3,FALSE),\"\")","v":""},{"$f":"IFERROR(VLOOKUP(A999,'1.Портфель кредитів'!A:AB,14,FALSE),\"\")","v":""}]
[null,{"$f":"IFERROR(VLOOKUP(A1000,'1.Портфель кредитів'!A:AB,3,FALSE),\"\")","v":""},{"$f":"IFERROR(VLOOKUP(A1000,'1.Портфель кредитів'!A:AB,14,FALSE),\"\")","v":""}]
[null,{"$f":"IFERROR(VLOOKUP(A1001,'1.Портфель кредитів'!A:AB,3,FALSE),\"\")","v":""},{"$f":"IFERROR(VLOOKUP(A1001,'1.Портфель кредитів'!A:AB,14,FALSE),\"\")","v":""}]
[null,{"$f":"IFERROR(VLOOKUP(A1002,'1.Портфель кредитів'!A:AB,3,FALSE),\"\")","v":""},{"$f":"IFERROR(VLOOKUP(A1002,'1.Портфель кредитів'!A:AB,14,FALSE),\"\")","v":""}]
[null,{"$f":"IFERROR(VLOOKUP(A1003,'1.Портфель кредитів'!A:AB,3,FALSE),\"\")","v":""},{"$f":"IFERROR(VLOOKUP(A1003,'1.Портфель кредитів'!A:AB,14,FALSE),\"\")","v":""}]
[null,{"$f":"IFERROR(VLOOKUP(A1004,'1.Портфель кредитів'!A:AB,3,FALSE),\"\")","v":""},{"$f":"IFERROR(VLOOKUP(A1004,'1.Портфель кредитів'!A:AB,14,FALSE),\"\")","v":""}]
[null,{"$f":"IFERROR(VLOOKUP(A1005,'1.Портфель кредитів'!A:AB,3,FALSE),\"\")","v":""},{"$f":"IFERROR(VLOOKUP(A1005,'1.Портфель кредитів'!A:AB,14,FALSE),\"\")","v":""}]
[null,{"$f":"IFERROR(VLOOKUP(A1006,'1.Портфель кредитів'!A:AB,3,FALSE),\"\")","v":""},{"$f":"IFERROR(VLOOKUP(A1006,'1.Портфель кредитів'!A:AB,14,FALSE),\"\")","v":""}]
[null,{"$f":"IFERROR(VLOOKUP(A1007,'1.Портфель кредитів'!A:AB,3,FALSE),\"\")","v":""},{"$f":"IFERROR(VLOOKUP(A1007,'1.Портфель кредитів'!A:AB,14,FALSE),\"\")","v":""}]
[null,{"$f":"IFERROR(VLOOKUP(A1008,'1.Портфель кредитів'!A:AB,3,FALSE),\"\")","v":""},{"$f":"IFERROR(VLOOKUP(A1008,'1.Портфель кредитів'!A:AB,14,FALSE),\"\")","v":""}]
[null,{"$f":"IFERROR(VLOOKUP(A1009,'1.Портфель кредитів'!A:AB,3,FALSE),\"\")","v":""},{"$f":"IFERROR(VLOOKUP(A1009,'1.Портфель кредитів'!A:AB,14,FALSE),\"\")","v":""}]
[null,{"$f":"IFERROR(VLOOKUP(A1010,'1.Портфель кредитів'!A:AB,3,FALSE),\"\")","v":""},{"$f":"IFERROR(VLOOKUP(A1010,'1.Портфель кредитів'!A:AB,14,FALSE),\"\")","v":""}]
[null,{"$f":"IFERROR(VLOOKUP(A1011,'1.Портфель кредитів'!A:AB,3,FALSE),\"\")","v":""},{"$f":"IFERROR(VLOOKUP(A1011,'1.Портфель кредитів'!A:AB,14,FALSE),\"\")","v":""}]
[null,{"$f":"IFERROR(VLOOKUP(A1012,'1.Портфель кредитів'!A:AB,3,FALSE),\"\")","v":""},{"$f":"IFERROR(VLOOKUP(A1012,'1.Портфель кредитів'!A:AB,14,FALSE),\"\")","v":""}]
[null,{"$f":"IFERROR(VLOOKUP(A1013,'1.Портфель кредитів'!A:AB,3,FALSE),\"\")","v":""},{"$f":"IFERROR(VLOOKUP(A1013,'1.Портфель кредитів'!A:AB,14,FALSE),\"\")","v":""}]
[null,{"$f":"IFERROR(VLOOKUP(A1014,'1.Портфель кредитів'!A:AB,3,FALSE),\"\")","v":""},{"$f":"IFERROR(VLOOKUP(A1014,'1.Портфель кредитів'!A:AB,14,FALSE),\"\")","v":""}]
[null,{"$f":"IFERROR(VLOOKUP(A1015,'1.Портфель кредитів'!A:AB,3,FALSE),\"\")","v":""},{"$f":"IFERROR(VLOOKUP(A1015,'1.Портфель кредитів'!A:AB,14,FALSE),\"\")","v":""}]
[null,{"$f":"IFERROR(VLOOKUP(A1016,'1.Портфель кредитів'!A:AB,3,FALSE),\"\")","v":""},{"$f":"IFERROR(VLOOKUP(A1016,'1.Портфель кредитів'!A:AB,14,FALSE),\"\")","v":""}]
[null,{"$f":"IFERROR(VLOOKUP(A1017,'1.Портфель кредитів'!A:AB,3,FALSE),\"\")","v":""},{"$f":"IFERROR(VLOOKUP(A1017,'1.Портфель кредитів'!A:AB,14,FALSE),\"\")","v":""}]
[null,{"$f":"IFERROR(VLOOKUP(A1018,'1.Портфель кредитів'!A:AB,3,FALSE),\"\")","v":""},{"$f":"IFERROR(VLOOKUP(A1018,'1.Портфель кредитів'!A:AB,14,FALSE),\"\")","v":""}]
[null,{"$f":"IFERROR(VLOOKUP(A1019,'1.Портфель кредитів'!A:AB,3,FALSE),\"\")","v":""},{"$f":"IFERROR(VLOOKUP(A1019,'1.Портфель кредитів'!A:AB,14,FALSE),\"\")","v":""}]
[null,{"$f":"IFERROR(VLOOKUP(A1020,'1.Портфель кредитів'!A:AB,3,FALSE),\"\")","v":""},{"$f":"IFERROR(VLOOKUP(A1020,'1.Портфель кредитів'!A:AB,14,FALSE),\"\")","v":""}]
[null,{"$f":"IFERROR(VLOOKUP(A1021,'1.Портфель кредитів'!A:AB,3,FALSE),\"\")","v":""},{"$f":"IFERROR(VLOOKUP(A1021,'1.Портфель кредитів'!A:AB,14,FALSE),\"\")","v":""}]
[null,{"$f":"IFERROR(VLOOKUP(A1022,'1.Портфель кредитів'!A:AB,3,FALSE),\"\")","v":""},{"$f":"IFERROR(VLOOKUP(A1022,'1.Портфель кредитів'!A:AB,14,FALSE),\"\")","v":""}]
[null,{"$f":"IFERROR(VLOOKUP(A1023,'1.Портфель кредитів'!A:AB,3,FALSE),\"\")","v":""},{"$f":"IFERROR(VLOOKUP(A1023,'1.Портфель кредитів'!A:AB,14,FALSE),\"\")","v":""}]
[null,{"$f":"IFERROR(VLOOKUP(A1024,'1.Портфель кредитів'!A:AB,3,FALSE),\"\")","v":""},{"$f":"IFERROR(VLOOKUP(A1024,'1.Портфель кредитів'!A:AB,14,FALSE),\"\")","v":""}]
[null,{"$f":"IFERROR(VLOOKUP(A1025,'1.Портфель кредитів'!A:AB,3,FALSE),\"\")","v":""},{"$f":"IFERROR(VLOOKUP(A1025,'1.Портфель кредитів'!A:AB,14,FALSE),\"\")","v":""}]
[null,{"$f":"IFERROR(VLOOKUP(A1026,'1.Портфель кредитів'!A:AB,3,FALSE),\"\")","v":""},{"$f":"IFERROR(VLOOKUP(A1026,'1.Портфель кредитів'!A:AB,14,FALSE),\"\")","v":""}]
[null,{"$f":"IFERROR(VLOOKUP(A1027,'1.Портфель кредитів'!A:AB,3,FALSE),\"\")","v":""},{"$f":"IFERROR(VLOOKUP(A1027,'1.Портфель кредитів'!A:AB,14,FALSE),\"\")","v":""}]
[null,{"$f":"IFERROR(VLOOKUP(A1028,'1.Портфель кредитів'!A:AB,3,FALSE),\"\")","v":""},{"$f":"IFERROR(VLOOKUP(A1028,'1.Портфель кредитів'!A:AB,14,FALSE),\"\")","v":""}]
[null,{"$f":"IFERROR(VLOOKUP(A1029,'1.Портфель кредитів'!A:AB,3,FALSE),\"\")","v":""},{"$f":"IFERROR(VLOOKUP(A1029,'1.Портфель кредитів'!A:AB,14,FALSE),\"\")","v":""}]
[null,{"$f":"IFERROR(VLOOKUP(A1030,'1.Портфель кредитів'!A:AB,3,FALSE),\"\")","v":""},{"$f":"IFERROR(VLOOKUP(A1030,'1.Портфель кредитів'!A:AB,14,FALSE),\"\")","v":""}]
[null,{"$f":"IFERROR(VLOOKUP(A1031,'1.Портфель кредитів'!A:AB,3,FALSE),\"\")","v":""},{"$f":"IFERROR(VLOOKUP(A1031,'1.Портфель кредитів'!A:AB,14,FALSE),\"\")","v":""}]
[null,{"$f":"IFERROR(VLOOKUP(A1032,'1.Портфель кредитів'!A:AB,3,FALSE),\"\")","v":""},{"$f":"IFERROR(VLOOKUP(A1032,'1.Портфель кредитів'!A:AB,14,FALSE),\"\")","v":""}]
[null,{"$f":"IFERROR(VLOOKUP(A1033,'1.Портфель кредитів'!A:AB,3,FALSE),\"\")","v":""},{"$f":"IFERROR(VLOOKUP(A1033,'1.Портфель кредитів'!A:AB,14,FALSE),\"\")","v":""}]
[null,{"$f":"IFERROR(VLOOKUP(A1034,'1.Портфель кредитів'!A:AB,3,FALSE),\"\")","v":""},{"$f":"IFERROR(VLOOKUP(A1034,'1.Портфель кредитів'!A:AB,14,FALSE),\"\")","v":""}]
[null,{"$f":"IFERROR(VLOOKUP(A1035,'1.Портфель кредитів'!A:AB,3,FALSE),\"\")","v":""},{"$f":"IFERROR(VLOOKUP(A1035,'1.Портфель кредитів'!A:AB,14,FALSE),\"\")","v":""}]
[null,{"$f":"IFERROR(VLOOKUP(A1036,'1.Портфель кредитів'!A:AB,3,FALSE),\"\")","v":""},{"$f":"IFERROR(VLOOKUP(A1036,'1.Портфель кредитів'!A:AB,14,FALSE),\"\")","v":""}]
[null,{"$f":"IFERROR(VLOOKUP(A1037,'1.Портфель кредитів'!A:AB,3,FALSE),\"\")","v":""},{"$f":"IFERROR(VLOOKUP(A1037,'1.Портфель кредитів'!A:AB,14,FALSE),\"\")","v":""}]
[null,{"$f":"IFERROR(VLOOKUP(A1038,'1.Портфель кредитів'!A:AB,3,FALSE),\"\")","v":""},{"$f":"IFERROR(VLOOKUP(A1038,'1.Портфель кредитів'!A:AB,14,FALSE),\"\")","v":""}]
[null,{"$f":"IFERROR(VLOOKUP(A1039,'1.Портфель кредитів'!A:AB,3,FALSE),\"\")","v":""},{"$f":"IFERROR(VLOOKUP(A1039,'1.Портфель кредитів'!A:AB,14,FALSE),\"\")","v":""}]
[null,{"$f":"IFERROR(VLOOKUP(A1040,'1.Портфель кредитів'!A:AB,3,FALSE),\"\")","v":""},{"$f":"IFERROR(VLOOKUP(A1040,'1.Портфель кредитів'!A:AB,14,FALSE),\"\")","v":""}]
[null,{"$f":"IFERROR(VLOOKUP(A1041,'1.Портфель кредитів'!A:AB,3,FALSE),\"\")","v":""},{"$f":"IFERROR(VLOOKUP(A1041,'1.Портфель кредитів'!A:AB,14,FALSE),\"\")","v":""}]
[null,{"$f":"IFERROR(VLOOKUP(A1042,'1.Портфель кредитів'!A:AB,3,FALSE),\"\")","v":""},{"$f":"IFERROR(VLOOKUP(A1042,'1.Портфель кредитів'!A:AB,14,FALSE),\"\")","v":""}]
[null,{"$f":"IFERROR(VLOOKUP(A1043,'1.Портфель кредитів'!A:AB,3,FALSE),\"\")","v":""},{"$f":"IFERROR(VLOOKUP(A1043,'1.Портфель кредитів'!A:AB,14,FALSE),\"\")","v":""}]
[null,{"$f":"IFERROR(VLOOKUP(A1044,'1.Портфель кредитів'!A:AB,3,FALSE),\"\")","v":""},{"$f":"IFERROR(VLOOKUP(A1044,'1.Портфель кредитів'!A:AB,14,FALSE),\"\")","v":""}]
[null,{"$f":"IFERROR(VLOOKUP(A1045,'1.Портфель кредитів'!A:AB,3,FALSE),\"\")","v":""},{"$f":"IFERROR(VLOOKUP(A1045,'1.Портфель кредитів'!A:AB,14,FALSE),\"\")","v":""}]
[null,{"$f":"IFERROR(VLOOKUP(A1046,'1.Портфель кредитів'!A:AB,3,FALSE),\"\")","v":""},{"$f":"IFERROR(VLOOKUP(A1046,'1.Портфель кредитів'!A:AB,14,FALSE),\"\")","v":""}]
[null,{"$f":"IFERROR(VLOOKUP(A1047,'1.Портфель кредитів'!A:AB,3,FALSE),\"\")","v":""},{"$f":"IFERROR(VLOOKUP(A1047,'1.Портфель кредитів'!A:AB,14,FALSE),\"\")","v":""}]
[null,{"$f":"IFERROR(VLOOKUP(A1048,'1.Портфель кредитів'!A:AB,3,FALSE),\"\")","v":""},{"$f":"IFERROR(VLOOKUP(A1048,'1.Портфель кредитів'!A:AB,14,FALSE),\"\")","v":""}]
[null,{"$f":"IFERROR(VLOOKUP(A1049,'1.Портфель кредитів'!A:AB,3,FALSE),\"\")","v":""},{"$f":"IFERROR(VLOOKUP(A1049,'1.Портфель кредитів'!A:AB,14,FALSE),\"\")","v":""}]
[null,{"$f":"IFERROR(VLOOKUP(A1050,'1.Портфель кредитів'!A:AB,3,FALSE),\"\")","v":""},{"$f":"IFERROR(VLOOKUP(A1050,'1.Портфель кредитів'!A:AB,14,FALSE),\"\")","v":""}]
[null,{"$f":"IFERROR(VLOOKUP(A1051,'1.Портфель кредитів'!A:AB,3,FALSE),\"\")","v":""},{"$f":"IFERROR(VLOOKUP(A1051,'1.Портфель кредитів'!A:AB,14,FALSE),\"\")","v":""}]
[null,{"$f":"IFERROR(VLOOKUP(A1052,'1.Портфель кредитів'!A:AB,3,FALSE),\"\")","v":""},{"$f":"IFERROR(VLOOKUP(A1052,'1.Портфель кредитів'!A:AB,14,FALSE),\"\")","v":""}]
[null,{"$f":"IFERROR(VLOOKUP(A1053,'1.Портфель кредитів'!A:AB,3,FALSE),\"\")","v":""},{"$f":"IFERROR(VLOOKUP(A1053,'1.Портфель кредитів'!A:AB,14,FALSE),\"\")","v":""}]
[null,{"$f":"IFERROR(VLOOKUP(A1054,'1.Портфель кредитів'!A:AB,3,FALSE),\"\")","v":""},{"$f":"IFERROR(VLOOKUP(A1054,'1.Портфель кредитів'!A:AB,14,FALSE),\"\")","v":""}]
[null,{"$f":"IFERROR(VLOOKUP(A1055,'1.Портфель кредитів'!A:AB,3,FALSE),\"\")","v":""},{"$f":"IFERROR(VLOOKUP(A1055,'1.Портфель кредитів'!A:AB,14,FALSE),\"\")","v":""}]
[null,{"$f":"IFERROR(VLOOKUP(A1056,'1.Портфель кредитів'!A:AB,3,FALSE),\"\")","v":""},{"$f":"IFERROR(VLOOKUP(A1056,'1.Портфель кредитів'!A:AB,14,FALSE),\"\")","v":""}]
[null,{"$f":"IFERROR(VLOOKUP(A1057,'1.Портфель кредитів'!A:AB,3,FALSE),\"\")","v":""},{"$f":"IFERROR(VLOOKUP(A1057,'1.Портфель кредитів'!A:AB,14,FALSE),\"\")","v":""}]
[null,{"$f":"IFERROR(VLOOKUP(A1058,'1.Портфель кредитів'!A:AB,3,FALSE),\"\")","v":""},{"$f":"IFERROR(VLOOKUP(A1058,'1.Портфель кредитів'!A:AB,14,FALSE),\"\")","v":""}]
[null,{"$f":"IFERROR(VLOOKUP(A1059,'1.Портфель кредитів'!A:AB,3,FALSE),\"\")","v":""},{"$f":"IFERROR(VLOOKUP(A1059,'1.Портфель кредитів'!A:AB,14,FALSE),\"\")","v":""}]
[null,{"$f":"IFERROR(VLOOKUP(A1060,'1.Портфель кредитів'!A:AB,3,FALSE),\"\")","v":""},{"$f":"IFERROR(VLOOKUP(A1060,'1.Портфель кредитів'!A:AB,14,FALSE),\"\")","v":""}]
[null,{"$f":"IFERROR(VLOOKUP(A1061,'1.Портфель кредитів'!A:AB,3,FALSE),\"\")","v":""},{"$f":"IFERROR(VLOOKUP(A1061,'1.Портфель кредитів'!A:AB,14,FALSE),\"\")","v":""}]
[null,{"$f":"IFERROR(VLOOKUP(A1062,'1.Портфель кредитів'!A:AB,3,FALSE),\"\")","v":""},{"$f":"IFERROR(VLOOKUP(A1062,'1.Портфель кредитів'!A:AB,14,FALSE),\"\")","v":""}]
[null,{"$f":"IFERROR(VLOOKUP(A1063,'1.Портфель кредитів'!A:AB,3,FALSE),\"\")","v":""},{"$f":"IFERROR(VLOOKUP(A1063,'1.Портфель кредитів'!A:AB,14,FALSE),\"\")","v":""}]
[null,{"$f":"IFERROR(VLOOKUP(A1064,'1.Портфель кредитів'!A:AB,3,FALSE),\"\")","v":""},{"$f":"IFERROR(VLOOKUP(A1064,'1.Портфель кредитів'!A:AB,14,FALSE),\"\")","v":""}]
[null,{"$f":"IFERROR(VLOOKUP(A1065,'1.Портфель кредитів'!A:AB,3,FALSE),\"\")","v":""},{"$f":"IFERROR(VLOOKUP(A1065,'1.Портфель кредитів'!A:AB,14,FALSE),\"\")","v":""}]
[null,{"$f":"IFERROR(VLOOKUP(A1066,'1.Портфель кредитів'!A:AB,3,FALSE),\"\")","v":""},{"$f":"IFERROR(VLOOKUP(A1066,'1.Портфель кредитів'!A:AB,14,FALSE),\"\")","v":""}]
[null,{"$f":"IFERROR(VLOOKUP(A1067,'1.Портфель кредитів'!A:AB,3,FALSE),\"\")","v":""},{"$f":"IFERROR(VLOOKUP(A1067,'1.Портфель кредитів'!A:AB,14,FALSE),\"\")","v":""}]
[null,{"$f":"IFERROR(VLOOKUP(A1068,'1.Портфель кредитів'!A:AB,3,FALSE),\"\")","v":""},{"$f":"IFERROR(VLOOKUP(A1068,'1.Портфель кредитів'!A:AB,14,FALSE),\"\")","v":""}]
[null,{"$f":"IFERROR(VLOOKUP(A1069,'1.Портфель кредитів'!A:AB,3,FALSE),\"\")","v":""},{"$f":"IFERROR(VLOOKUP(A1069,'1.Портфель кредитів'!A:AB,14,FALSE),\"\")","v":""}]
[null,{"$f":"IFERROR(VLOOKUP(A1070,'1.Портфель кредитів'!A:AB,3,FALSE),\"\")","v":""},{"$f":"IFERROR(VLOOKUP(A1070,'1.Портфель кредитів'!A:AB,14,FALSE),\"\")","v":""}]
[null,{"$f":"IFERROR(VLOOKUP(A1071,'1.Портфель кредитів'!A:AB,3,FALSE),\"\")","v":""},{"$f":"IFERROR(VLOOKUP(A1071,'1.Портфель кредитів'!A:AB,14,FALSE),\"\")","v":""}]
[null,{"$f":"IFERROR(VLOOKUP(A1072,'1.Портфель кредитів'!A:AB,3,FALSE),\"\")","v":""},{"$f":"IFERROR(VLOOKUP(A1072,'1.Портфель кредитів'!A:AB,14,FALSE),\"\")","v":""}]
[null,{"$f":"IFERROR(VLOOKUP(A1073,'1.Портфель кредитів'!A:AB,3,FALSE),\"\")","v":""},{"$f":"IFERROR(VLOOKUP(A1073,'1.Портфель кредитів'!A:AB,14,FALSE),\"\")","v":""}]
[null,{"$f":"IFERROR(VLOOKUP(A1074,'1.Портфель кредитів'!A:AB,3,FALSE),\"\")","v":""},{"$f":"IFERROR(VLOOKUP(A1074,'1.Портфель кредитів'!A:AB,14,FALSE),\"\")","v":""}]
[null,{"$f":"IFERROR(VLOOKUP(A1075,'1.Портфель кредитів'!A:AB,3,FALSE),\"\")","v":""},{"$f":"IFERROR(VLOOKUP(A1075,'1.Портфель кредитів'!A:AB,14,FALSE),\"\")","v":""}]
[null,{"$f":"IFERROR(VLOOKUP(A1076,'1.Портфель кредитів'!A:AB,3,FALSE),\"\")","v":""},{"$f":"IFERROR(VLOOKUP(A1076,'1.Портфель кредитів'!A:AB,14,FALSE),\"\")","v":""}]
[null,{"$f":"IFERROR(VLOOKUP(A1077,'1.Портфель кредитів'!A:AB,3,FALSE),\"\")","v":""},{"$f":"IFERROR(VLOOKUP(A1077,'1.Портфель кредитів'!A:AB,14,FALSE),\"\")","v":""}]
[null,{"$f":"IFERROR(VLOOKUP(A1078,'1.Портфель кредитів'!A:AB,3,FALSE),\"\")","v":""},{"$f":"IFERROR(VLOOKUP(A1078,'1.Портфель кредитів'!A:AB,14,FALSE),\"\")","v":""}]
[null,{"$f":"IFERROR(VLOOKUP(A1079,'1.Портфель кредитів'!A:AB,3,FALSE),\"\")","v":""},{"$f":"IFERROR(VLOOKUP(A1079,'1.Портфель кредитів'!A:AB,14,FALSE),\"\")","v":""}]
[null,{"$f":"IFERROR(VLOOKUP(A1080,'1.Портфель кредитів'!A:AB,3,FALSE),\"\")","v":""},{"$f":"IFERROR(VLOOKUP(A1080,'1.Портфель кредитів'!A:AB,14,FALSE),\"\")","v":""}]
[null,{"$f":"IFERROR(VLOOKUP(A1081,'1.Портфель кредитів'!A:AB,3,FALSE),\"\")","v":""},{"$f":"IFERROR(VLOOKUP(A1081,'1.Портфель кредитів'!A:AB,14,FALSE),\"\")","v":""}]
[null,{"$f":"IFERROR(VLOOKUP(A1082,'1.Портфель кредитів'!A:AB,3,FALSE),\"\")","v":""},{"$f":"IFERROR(VLOOKUP(A1082,'1.Портфель кредитів'!A:AB,14,FALSE),\"\")","v":""}]
[null,{"$f":"IFERROR(VLOOKUP(A1083,'1.Портфель кредитів'!A:AB,3,FALSE),\"\")","v":""},{"$f":"IFERROR(VLOOKUP(A1083,'1.Портфель кредитів'!A:AB,14,FALSE),\"\")","v":""}]
[null,{"$f":"IFERROR(VLOOKUP(A1084,'1.Портфель кредитів'!A:AB,3,FALSE),\"\")","v":""},{"$f":"IFERROR(VLOOKUP(A1084,'1.Портфель кредитів'!A:AB,14,FALSE),\"\")","v":""}]
[null,{"$f":"IFERROR(VLOOKUP(A1085,'1.Портфель кредитів'!A:AB,3,FALSE),\"\")","v":""},{"$f":"IFERROR(VLOOKUP(A1085,'1.Портфель кредитів'!A:AB,14,FALSE),\"\")","v":""}]
[null,{"$f":"IFERROR(VLOOKUP(A1086,'1.Портфель кредитів'!A:AB,3,FALSE),\"\")","v":""},{"$f":"IFERROR(VLOOKUP(A1086,'1.Портфель кредитів'!A:AB,14,FALSE),\"\")","v":""}]
[null,{"$f":"IFERROR(VLOOKUP(A1087,'1.Портфель кредитів'!A:AB,3,FALSE),\"\")","v":""},{"$f":"IFERROR(VLOOKUP(A1087,'1.Портфель кредитів'!A:AB,14,FALSE),\"\")","v":""}]
[null,{"$f":"IFERROR(VLOOKUP(A1088,'1.Портфель кредитів'!A:AB,3,FALSE),\"\")","v":""},{"$f":"IFERROR(VLOOKUP(A1088,'1.Портфель кредитів'!A:AB,14,FALSE),\"\")","v":""}]
[null,{"$f":"IFERROR(VLOOKUP(A1089,'1.Портфель кредитів'!A:AB,3,FALSE),\"\")","v":""},{"$f":"IFERROR(VLOOKUP(A1089,'1.Портфель кредитів'!A:AB,14,FALSE),\"\")","v":""}]
[null,{"$f":"IFERROR(VLOOKUP(A1090,'1.Портфель кредитів'!A:AB,3,FALSE),\"\")","v":""},{"$f":"IFERROR(VLOOKUP(A1090,'1.Портфель кредитів'!A:AB,14,FALSE),\"\")","v":""}]
[null,{"$f":"IFERROR(VLOOKUP(A1091,'1.Портфель кредитів'!A:AB,3,FALSE),\"\")","v":""},{"$f":"IFERROR(VLOOKUP(A1091,'1.Портфель кредитів'!A:AB,14,FALSE),\"\")","v":""}]
[null,{"$f":"IFERROR(VLOOKUP(A1092,'1.Портфель кредитів'!A:AB,3,FALSE),\"\")","v":""},{"$f":"IFERROR(VLOOKUP(A1092,'1.Портфель кредитів'!A:AB,14,FALSE),\"\")","v":""}]
[null,{"$f":"IFERROR(VLOOKUP(A1093,'1.Портфель кредитів'!A:AB,3,FALSE),\"\")","v":""},{"$f":"IFERROR(VLOOKUP(A1093,'1.Портфель кредитів'!A:AB,14,FALSE),\"\")","v":""}]
[null,{"$f":"IFERROR(VLOOKUP(A1094,'1.Портфель кредитів'!A:AB,3,FALSE),\"\")","v":""},{"$f":"IFERROR(VLOOKUP(A1094,'1.Портфель кредитів'!A:AB,14,FALSE),\"\")","v":""}]
[null,{"$f":"IFERROR(VLOOKUP(A1095,'1.Портфель кредитів'!A:AB,3,FALSE),\"\")","v":""},{"$f":"IFERROR(VLOOKUP(A1095,'1.Портфель кредитів'!A:AB,14,FALSE),\"\")","v":""}]
[null,{"$f":"IFERROR(VLOOKUP(A1096,'1.Портфель кредитів'!A:AB,3,FALSE),\"\")","v":""},{"$f":"IFERROR(VLOOKUP(A1096,'1.Портфель кредитів'!A:AB,14,FALSE),\"\")","v":""}]
[null,{"$f":"IFERROR(VLOOKUP(A1097,'1.Портфель кредитів'!A:AB,3,FALSE),\"\")","v":""},{"$f":"IFERROR(VLOOKUP(A1097,'1.Портфель кредитів'!A:AB,14,FALSE),\"\")","v":""}]
[null,{"$f":"IFERROR(VLOOKUP(A1098,'1.Портфель кредитів'!A:AB,3,FALSE),\"\")","v":""},{"$f":"IFERROR(VLOOKUP(A1098,'1.Портфель кредитів'!A:AB,14,FALSE),\"\")","v":""}]
[null,{"$f":"IFERROR(VLOOKUP(A1099,'1.Портфель кредитів'!A:AB,3,FALSE),\"\")","v":""},{"$f":"IFERROR(VLOOKUP(A1099,'1.Портфель кредитів'!A:AB,14,FALSE),\"\")","v":""}]
[null,{"$f":"IFERROR(VLOOKUP(A1100,'1.Портфель кредитів'!A:AB,3,FALSE),\"\")","v":""},{"$f":"IFERROR(VLOOKUP(A1100,'1.Портфель кредитів'!A:AB,14,FALSE),\"\")","v":""}]
[null,{"$f":"IFERROR(VLOOKUP(A1101,'1.Портфель кредитів'!A:AB,3,FALSE),\"\")","v":""},{"$f":"IFERROR(VLOOKUP(A1101,'1.Портфель кредитів'!A:AB,14,FALSE),\"\")","v":""}]
[null,{"$f":"IFERROR(VLOOKUP(A1102,'1.Портфель кредитів'!A:AB,3,FALSE),\"\")","v":""},{"$f":"IFERROR(VLOOKUP(A1102,'1.Портфель кредитів'!A:AB,14,FALSE),\"\")","v":""}]
[null,{"$f":"IFERROR(VLOOKUP(A1103,'1.Портфель кредитів'!A:AB,3,FALSE),\"\")","v":""},{"$f":"IFERROR(VLOOKUP(A1103,'1.Портфель кредитів'!A:AB,14,FALSE),\"\")","v":""}]
[null,{"$f":"IFERROR(VLOOKUP(A1104,'1.Портфель кредитів'!A:AB,3,FALSE),\"\")","v":""},{"$f":"IFERROR(VLOOKUP(A1104,'1.Портфель кредитів'!A:AB,14,FALSE),\"\")","v":""}]
[null,{"$f":"IFERROR(VLOOKUP(A1105,'1.Портфель кредитів'!A:AB,3,FALSE),\"\")","v":""},{"$f":"IFERROR(VLOOKUP(A1105,'1.Портфель кредитів'!A:AB,14,FALSE),\"\")","v":""}]
[null,{"$f":"IFERROR(VLOOKUP(A1106,'1.Портфель кредитів'!A:AB,3,FALSE),\"\")","v":""},{"$f":"IFERROR(VLOOKUP(A1106,'1.Портфель кредитів'!A:AB,14,FALSE),\"\")","v":""}]
[null,{"$f":"IFERROR(VLOOKUP(A1107,'1.Портфель кредитів'!A:AB,3,FALSE),\"\")","v":""},{"$f":"IFERROR(VLOOKUP(A1107,'1.Портфель кредитів'!A:AB,14,FALSE),\"\")","v":""}]
[null,{"$f":"IFERROR(VLOOKUP(A1108,'1.Портфель кредитів'!A:AB,3,FALSE),\"\")","v":""},{"$f":"IFERROR(VLOOKUP(A1108,'1.Портфель кредитів'!A:AB,14,FALSE),\"\")","v":""}]
[null,{"$f":"IFERROR(VLOOKUP(A1109,'1.Портфель кредитів'!A:AB,3,FALSE),\"\")","v":""},{"$f":"IFERROR(VLOOKUP(A1109,'1.Портфель кредитів'!A:AB,14,FALSE),\"\")","v":""}]
[null,{"$f":"IFERROR(VLOOKUP(A1110,'1.Портфель кредитів'!A:AB,3,FALSE),\"\")","v":""},{"$f":"IFERROR(VLOOKUP(A1110,'1.Портфель кредитів'!A:AB,14,FALSE),\"\")","v":""}]
[null,{"$f":"IFERROR(VLOOKUP(A1111,'1.Портфель кредитів'!A:AB,3,FALSE),\"\")","v":""},{"$f":"IFERROR(VLOOKUP(A1111,'1.Портфель кредитів'!A:AB,14,FALSE),\"\")","v":""}]
[null,{"$f":"IFERROR(VLOOKUP(A1112,'1.Портфель кредитів'!A:AB,3,FALSE),\"\")","v":""},{"$f":"IFERROR(VLOOKUP(A1112,'1.Портфель кредитів'!A:AB,14,FALSE),\"\")","v":""}]
[null,{"$f":"IFERROR(VLOOKUP(A1113,'1.Портфель кредитів'!A:AB,3,FALSE),\"\")","v":""},{"$f":"IFERROR(VLOOKUP(A1113,'1.Портфель кредитів'!A:AB,14,FALSE),\"\")","v":""}]
[null,{"$f":"IFERROR(VLOOKUP(A1114,'1.Портфель кредитів'!A:AB,3,FALSE),\"\")","v":""},{"$f":"IFERROR(VLOOKUP(A1114,'1.Портфель кредитів'!A:AB,14,FALSE),\"\")","v":""}]
[null,{"$f":"IFERROR(VLOOKUP(A1115,'1.Портфель кредитів'!A:AB,3,FALSE),\"\")","v":""},{"$f":"IFERROR(VLOOKUP(A1115,'1.Портфель кредитів'!A:AB,14,FALSE),\"\")","v":""}]
[null,{"$f":"IFERROR(VLOOKUP(A1116,'1.Портфель кредитів'!A:AB,3,FALSE),\"\")","v":""},{"$f":"IFERROR(VLOOKUP(A1116,'1.Портфель кредитів'!A:AB,14,FALSE),\"\")","v":""}]
[null,{"$f":"IFERROR(VLOOKUP(A1117,'1.Портфель кредитів'!A:AB,3,FALSE),\"\")","v":""},{"$f":"IFERROR(VLOOKUP(A1117,'1.Портфель кредитів'!A:AB,14,FALSE),\"\")","v":""}]
[null,{"$f":"IFERROR(VLOOKUP(A1118,'1.Портфель кредитів'!A:AB,3,FALSE),\"\")","v":""},{"$f":"IFERROR(VLOOKUP(A1118,'1.Портфель кредитів'!A:AB,14,FALSE),\"\")","v":""}]
[null,{"$f":"IFERROR(VLOOKUP(A1119,'1.Портфель кредитів'!A:AB,3,FALSE),\"\")","v":""},{"$f":"IFERROR(VLOOKUP(A1119,'1.Портфель кредитів'!A:AB,14,FALSE),\"\")","v":""}]
[null,{"$f":"IFERROR(VLOOKUP(A1120,'1.Портфель кредитів'!A:AB,3,FALSE),\"\")","v":""},{"$f":"IFERROR(VLOOKUP(A1120,'1.Портфель кредитів'!A:AB,14,FALSE),\"\")","v":""}]
[null,{"$f":"IFERROR(VLOOKUP(A1121,'1.Портфель кредитів'!A:AB,3,FALSE),\"\")","v":""},{"$f":"IFERROR(VLOOKUP(A1121,'1.Портфель кредитів'!A:AB,14,FALSE),\"\")","v":""}]
[null,{"$f":"IFERROR(VLOOKUP(A1122,'1.Портфель кредитів'!A:AB,3,FALSE),\"\")","v":""},{"$f":"IFERROR(VLOOKUP(A1122,'1.Портфель кредитів'!A:AB,14,FALSE),\"\")","v":""}]
[null,{"$f":"IFERROR(VLOOKUP(A1123,'1.Портфель кредитів'!A:AB,3,FALSE),\"\")","v":""},{"$f":"IFERROR(VLOOKUP(A1123,'1.Портфель кредитів'!A:AB,14,FALSE),\"\")","v":""}]
[null,{"$f":"IFERROR(VLOOKUP(A1124,'1.Портфель кредитів'!A:AB,3,FALSE),\"\")","v":""},{"$f":"IFERROR(VLOOKUP(A1124,'1.Портфель кредитів'!A:AB,14,FALSE),\"\")","v":""}]
[null,{"$f":"IFERROR(VLOOKUP(A1125,'1.Портфель кредитів'!A:AB,3,FALSE),\"\")","v":""},{"$f":"IFERROR(VLOOKUP(A1125,'1.Портфель кредитів'!A:AB,14,FALSE),\"\")","v":""}]
[null,{"$f":"IFERROR(VLOOKUP(A1126,'1.Портфель кредитів'!A:AB,3,FALSE),\"\")","v":""},{"$f":"IFERROR(VLOOKUP(A1126,'1.Портфель кредитів'!A:AB,14,FALSE),\"\")","v":""}]
[null,{"$f":"IFERROR(VLOOKUP(A1127,'1.Портфель кредитів'!A:AB,3,FALSE),\"\")","v":""},{"$f":"IFERROR(VLOOKUP(A1127,'1.Портфель кредитів'!A:AB,14,FALSE),\"\")","v":""}]
[null,{"$f":"IFERROR(VLOOKUP(A1128,'1.Портфель кредитів'!A:AB,3,FALSE),\"\")","v":""},{"$f":"IFERROR(VLOOKUP(A1128,'1.Портфель кредитів'!A:AB,14,FALSE),\"\")","v":""}]
[null,{"$f":"IFERROR(VLOOKUP(A1129,'1.Портфель кредитів'!A:AB,3,FALSE),\"\")","v":""},{"$f":"IFERROR(VLOOKUP(A1129,'1.Портфель кредитів'!A:AB,14,FALSE),\"\")","v":""}]
[null,{"$f":"IFERROR(VLOOKUP(A1130,'1.Портфель кредитів'!A:AB,3,FALSE),\"\")","v":""},{"$f":"IFERROR(VLOOKUP(A1130,'1.Портфель кредитів'!A:AB,14,FALSE),\"\")","v":""}]
[null,{"$f":"IFERROR(VLOOKUP(A1131,'1.Портфель кредитів'!A:AB,3,FALSE),\"\")","v":""},{"$f":"IFERROR(VLOOKUP(A1131,'1.Портфель кредитів'!A:AB,14,FALSE),\"\")","v":""}]
[null,{"$f":"IFERROR(VLOOKUP(A1132,'1.Портфель кредитів'!A:AB,3,FALSE),\"\")","v":""},{"$f":"IFERROR(VLOOKUP(A1132,'1.Портфель кредитів'!A:AB,14,FALSE),\"\")","v":""}]
[null,{"$f":"IFERROR(VLOOKUP(A1133,'1.Портфель кредитів'!A:AB,3,FALSE),\"\")","v":""},{"$f":"IFERROR(VLOOKUP(A1133,'1.Портфель кредитів'!A:AB,14,FALSE),\"\")","v":""}]
[null,{"$f":"IFERROR(VLOOKUP(A1134,'1.Портфель кредитів'!A:AB,3,FALSE),\"\")","v":""},{"$f":"IFERROR(VLOOKUP(A1134,'1.Портфель кредитів'!A:AB,14,FALSE),\"\")","v":""}]
[null,{"$f":"IFERROR(VLOOKUP(A1135,'1.Портфель кредитів'!A:AB,3,FALSE),\"\")","v":""},{"$f":"IFERROR(VLOOKUP(A1135,'1.Портфель кредитів'!A:AB,14,FALSE),\"\")","v":""}]
[null,{"$f":"IFERROR(VLOOKUP(A1136,'1.Портфель кредитів'!A:AB,3,FALSE),\"\")","v":""},{"$f":"IFERROR(VLOOKUP(A1136,'1.Портфель кредитів'!A:AB,14,FALSE),\"\")","v":""}]
[null,{"$f":"IFERROR(VLOOKUP(A1137,'1.Портфель кредитів'!A:AB,3,FALSE),\"\")","v":""},{"$f":"IFERROR(VLOOKUP(A1137,'1.Портфель кредитів'!A:AB,14,FALSE),\"\")","v":""}]
[null,{"$f":"IFERROR(VLOOKUP(A1138,'1.Портфель кредитів'!A:AB,3,FALSE),\"\")","v":""},{"$f":"IFERROR(VLOOKUP(A1138,'1.Портфель кредитів'!A:AB,14,FALSE),\"\")","v":""}]
[null,{"$f":"IFERROR(VLOOKUP(A1139,'1.Портфель кредитів'!A:AB,3,FALSE),\"\")","v":""},{"$f":"IFERROR(VLOOKUP(A1139,'1.Портфель кредитів'!A:AB,14,FALSE),\"\")","v":""}]
[null,{"$f":"IFERROR(VLOOKUP(A1140,'1.Портфель кредитів'!A:AB,3,FALSE),\"\")","v":""},{"$f":"IFERROR(VLOOKUP(A1140,'1.Портфель кредитів'!A:AB,14,FALSE),\"\")","v":""}]
[null,{"$f":"IFERROR(VLOOKUP(A1141,'1.Портфель кредитів'!A:AB,3,FALSE),\"\")","v":""},{"$f":"IFERROR(VLOOKUP(A1141,'1.Портфель кредитів'!A:AB,14,FALSE),\"\")","v":""}]
[null,{"$f":"IFERROR(VLOOKUP(A1142,'1.Портфель кредитів'!A:AB,3,FALSE),\"\")","v":""},{"$f":"IFERROR(VLOOKUP(A1142,'1.Портфель кредитів'!A:AB,14,FALSE),\"\")","v":""}]
[null,{"$f":"IFERROR(VLOOKUP(A1143,'1.Портфель кредитів'!A:AB,3,FALSE),\"\")","v":""},{"$f":"IFERROR(VLOOKUP(A1143,'1.Портфель кредитів'!A:AB,14,FALSE),\"\")","v":""}]
[null,{"$f":"IFERROR(VLOOKUP(A1144,'1.Портфель кредитів'!A:AB,3,FALSE),\"\")","v":""},{"$f":"IFERROR(VLOOKUP(A1144,'1.Портфель кредитів'!A:AB,14,FALSE),\"\")","v":""}]
[null,{"$f":"IFERROR(VLOOKUP(A1145,'1.Портфель кредитів'!A:AB,3,FALSE),\"\")","v":""},{"$f":"IFERROR(VLOOKUP(A1145,'1.Портфель кредитів'!A:AB,14,FALSE),\"\")","v":""}]
[null,{"$f":"IFERROR(VLOOKUP(A1146,'1.Портфель кредитів'!A:AB,3,FALSE),\"\")","v":""},{"$f":"IFERROR(VLOOKUP(A1146,'1.Портфель кредитів'!A:AB,14,FALSE),\"\")","v":""}]
[null,{"$f":"IFERROR(VLOOKUP(A1147,'1.Портфель кредитів'!A:AB,3,FALSE),\"\")","v":""},{"$f":"IFERROR(VLOOKUP(A1147,'1.Портфель кредитів'!A:AB,14,FALSE),\"\")","v":""}]
[null,{"$f":"IFERROR(VLOOKUP(A1148,'1.Портфель кредитів'!A:AB,3,FALSE),\"\")","v":""},{"$f":"IFERROR(VLOOKUP(A1148,'1.Портфель кредитів'!A:AB,14,FALSE),\"\")","v":""}]
[null,{"$f":"IFERROR(VLOOKUP(A1149,'1.Портфель кредитів'!A:AB,3,FALSE),\"\")","v":""},{"$f":"IFERROR(VLOOKUP(A1149,'1.Портфель кредитів'!A:AB,14,FALSE),\"\")","v":""}]
[null,{"$f":"IFERROR(VLOOKUP(A1150,'1.Портфель кредитів'!A:AB,3,FALSE),\"\")","v":""},{"$f":"IFERROR(VLOOKUP(A1150,'1.Портфель кредитів'!A:AB,14,FALSE),\"\")","v":""}]
[null,{"$f":"IFERROR(VLOOKUP(A1151,'1.Портфель кредитів'!A:AB,3,FALSE),\"\")","v":""},{"$f":"IFERROR(VLOOKUP(A1151,'1.Портфель кредитів'!A:AB,14,FALSE),\"\")","v":""}]
[null,{"$f":"IFERROR(VLOOKUP(A1152,'1.Портфель кредитів'!A:AB,3,FALSE),\"\")","v":""},{"$f":"IFERROR(VLOOKUP(A1152,'1.Портфель кредитів'!A:AB,14,FALSE),\"\")","v":""}]
[null,{"$f":"IFERROR(VLOOKUP(A1153,'1.Портфель кредитів'!A:AB,3,FALSE),\"\")","v":""},{"$f":"IFERROR(VLOOKUP(A1153,'1.Портфель кредитів'!A:AB,14,FALSE),\"\")","v":""}]
[null,{"$f":"IFERROR(VLOOKUP(A1154,'1.Портфель кредитів'!A:AB,3,FALSE),\"\")","v":""},{"$f":"IFERROR(VLOOKUP(A1154,'1.Портфель кредитів'!A:AB,14,FALSE),\"\")","v":""}]
[null,{"$f":"IFERROR(VLOOKUP(A1155,'1.Портфель кредитів'!A:AB,3,FALSE),\"\")","v":""},{"$f":"IFERROR(VLOOKUP(A1155,'1.Портфель кредитів'!A:AB,14,FALSE),\"\")","v":""}]
[null,{"$f":"IFERROR(VLOOKUP(A1156,'1.Портфель кредитів'!A:AB,3,FALSE),\"\")","v":""},{"$f":"IFERROR(VLOOKUP(A1156,'1.Портфель кредитів'!A:AB,14,FALSE),\"\")","v":""}]
[null,{"$f":"IFERROR(VLOOKUP(A1157,'1.Портфель кредитів'!A:AB,3,FALSE),\"\")","v":""},{"$f":"IFERROR(VLOOKUP(A1157,'1.Портфель кредитів'!A:AB,14,FALSE),\"\")","v":""}]
[null,{"$f":"IFERROR(VLOOKUP(A1158,'1.Портфель кредитів'!A:AB,3,FALSE),\"\")","v":""},{"$f":"IFERROR(VLOOKUP(A1158,'1.Портфель кредитів'!A:AB,14,FALSE),\"\")","v":""}]
[null,{"$f":"IFERROR(VLOOKUP(A1159,'1.Портфель кредитів'!A:AB,3,FALSE),\"\")","v":""},{"$f":"IFERROR(VLOOKUP(A1159,'1.Портфель кредитів'!A:AB,14,FALSE),\"\")","v":""}]
[null,{"$f":"IFERROR(VLOOKUP(A1160,'1.Портфель кредитів'!A:AB,3,FALSE),\"\")","v":""},{"$f":"IFERROR(VLOOKUP(A1160,'1.Портфель кредитів'!A:AB,14,FALSE),\"\")","v":""}]
[null,{"$f":"IFERROR(VLOOKUP(A1161,'1.Портфель кредитів'!A:AB,3,FALSE),\"\")","v":""},{"$f":"IFERROR(VLOOKUP(A1161,'1.Портфель кредитів'!A:AB,14,FALSE),\"\")","v":""}]
[null,{"$f":"IFERROR(VLOOKUP(A1162,'1.Портфель кредитів'!A:AB,3,FALSE),\"\")","v":""},{"$f":"IFERROR(VLOOKUP(A1162,'1.Портфель кредитів'!A:AB,14,FALSE),\"\")","v":""}]
[null,{"$f":"IFERROR(VLOOKUP(A1163,'1.Портфель кредитів'!A:AB,3,FALSE),\"\")","v":""},{"$f":"IFERROR(VLOOKUP(A1163,'1.Портфель кредитів'!A:AB,14,FALSE),\"\")","v":""}]
[null,{"$f":"IFERROR(VLOOKUP(A1164,'1.Портфель кредитів'!A:AB,3,FALSE),\"\")","v":""},{"$f":"IFERROR(VLOOKUP(A1164,'1.Портфель кредитів'!A:AB,14,FALSE),\"\")","v":""}]
[null,{"$f":"IFERROR(VLOOKUP(A1165,'1.Портфель кредитів'!A:AB,3,FALSE),\"\")","v":""},{"$f":"IFERROR(VLOOKUP(A1165,'1.Портфель кредитів'!A:AB,14,FALSE),\"\")","v":""}]
[null,{"$f":"IFERROR(VLOOKUP(A1166,'1.Портфель кредитів'!A:AB,3,FALSE),\"\")","v":""},{"$f":"IFERROR(VLOOKUP(A1166,'1.Портфель кредитів'!A:AB,14,FALSE),\"\")","v":""}]
[null,{"$f":"IFERROR(VLOOKUP(A1167,'1.Портфель кредитів'!A:AB,3,FALSE),\"\")","v":""},{"$f":"IFERROR(VLOOKUP(A1167,'1.Портфель кредитів'!A:AB,14,FALSE),\"\")","v":""}]
[null,{"$f":"IFERROR(VLOOKUP(A1168,'1.Портфель кредитів'!A:AB,3,FALSE),\"\")","v":""},{"$f":"IFERROR(VLOOKUP(A1168,'1.Портфель кредитів'!A:AB,14,FALSE),\"\")","v":""}]
[null,{"$f":"IFERROR(VLOOKUP(A1169,'1.Портфель кредитів'!A:AB,3,FALSE),\"\")","v":""},{"$f":"IFERROR(VLOOKUP(A1169,'1.Портфель кредитів'!A:AB,14,FALSE),\"\")","v":""}]
[null,{"$f":"IFERROR(VLOOKUP(A1170,'1.Портфель кредитів'!A:AB,3,FALSE),\"\")","v":""},{"$f":"IFERROR(VLOOKUP(A1170,'1.Портфель кредитів'!A:AB,14,FALSE),\"\")","v":""}]
[null,{"$f":"IFERROR(VLOOKUP(A1171,'1.Портфель кредитів'!A:AB,3,FALSE),\"\")","v":""},{"$f":"IFERROR(VLOOKUP(A1171,'1.Портфель кредитів'!A:AB,14,FALSE),\"\")","v":""}]
[null,{"$f":"IFERROR(VLOOKUP(A1172,'1.Портфель кредитів'!A:AB,3,FALSE),\"\")","v":""},{"$f":"IFERROR(VLOOKUP(A1172,'1.Портфель кредитів'!A:AB,14,FALSE),\"\")","v":""}]
[null,{"$f":"IFERROR(VLOOKUP(A1173,'1.Портфель кредитів'!A:AB,3,FALSE),\"\")","v":""},{"$f":"IFERROR(VLOOKUP(A1173,'1.Портфель кредитів'!A:AB,14,FALSE),\"\")","v":""}]
[null,{"$f":"IFERROR(VLOOKUP(A1174,'1.Портфель кредитів'!A:AB,3,FALSE),\"\")","v":""},{"$f":"IFERROR(VLOOKUP(A1174,'1.Портфель кредитів'!A:AB,14,FALSE),\"\")","v":""}]
[null,{"$f":"IFERROR(VLOOKUP(A1175,'1.Портфель кредитів'!A:AB,3,FALSE),\"\")","v":""},{"$f":"IFERROR(VLOOKUP(A1175,'1.Портфель кредитів'!A:AB,14,FALSE),\"\")","v":""}]
[null,{"$f":"IFERROR(VLOOKUP(A1176,'1.Портфель кредитів'!A:AB,3,FALSE),\"\")","v":""},{"$f":"IFERROR(VLOOKUP(A1176,'1.Портфель кредитів'!A:AB,14,FALSE),\"\")","v":""}]
[null,{"$f":"IFERROR(VLOOKUP(A1177,'1.Портфель кредитів'!A:AB,3,FALSE),\"\")","v":""},{"$f":"IFERROR(VLOOKUP(A1177,'1.Портфель кредитів'!A:AB,14,FALSE),\"\")","v":""}]
[null,{"$f":"IFERROR(VLOOKUP(A1178,'1.Портфель кредитів'!A:AB,3,FALSE),\"\")","v":""},{"$f":"IFERROR(VLOOKUP(A1178,'1.Портфель кредитів'!A:AB,14,FALSE),\"\")","v":""}]
[null,{"$f":"IFERROR(VLOOKUP(A1179,'1.Портфель кредитів'!A:AB,3,FALSE),\"\")","v":""},{"$f":"IFERROR(VLOOKUP(A1179,'1.Портфель кредитів'!A:AB,14,FALSE),\"\")","v":""}]
[null,{"$f":"IFERROR(VLOOKUP(A1180,'1.Портфель кредитів'!A:AB,3,FALSE),\"\")","v":""},{"$f":"IFERROR(VLOOKUP(A1180,'1.Портфель кредитів'!A:AB,14,FALSE),\"\")","v":""}]
[null,{"$f":"IFERROR(VLOOKUP(A1181,'1.Портфель кредитів'!A:AB,3,FALSE),\"\")","v":""},{"$f":"IFERROR(VLOOKUP(A1181,'1.Портфель кредитів'!A:AB,14,FALSE),\"\")","v":""}]
[null,{"$f":"IFERROR(VLOOKUP(A1182,'1.Портфель кредитів'!A:AB,3,FALSE),\"\")","v":""},{"$f":"IFERROR(VLOOKUP(A1182,'1.Портфель кредитів'!A:AB,14,FALSE),\"\")","v":""}]
[null,{"$f":"IFERROR(VLOOKUP(A1183,'1.Портфель кредитів'!A:AB,3,FALSE),\"\")","v":""},{"$f":"IFERROR(VLOOKUP(A1183,'1.Портфель кредитів'!A:AB,14,FALSE),\"\")","v":""}]
[null,{"$f":"IFERROR(VLOOKUP(A1184,'1.Портфель кредитів'!A:AB,3,FALSE),\"\")","v":""},{"$f":"IFERROR(VLOOKUP(A1184,'1.Портфель кредитів'!A:AB,14,FALSE),\"\")","v":""}]
[null,{"$f":"IFERROR(VLOOKUP(A1185,'1.Портфель кредитів'!A:AB,3,FALSE),\"\")","v":""},{"$f":"IFERROR(VLOOKUP(A1185,'1.Портфель кредитів'!A:AB,14,FALSE),\"\")","v":""}]
[null,{"$f":"IFERROR(VLOOKUP(A1186,'1.Портфель кредитів'!A:AB,3,FALSE),\"\")","v":""},{"$f":"IFERROR(VLOOKUP(A1186,'1.Портфель кредитів'!A:AB,14,FALSE),\"\")","v":""}]
[null,{"$f":"IFERROR(VLOOKUP(A1187,'1.Портфель кредитів'!A:AB,3,FALSE),\"\")","v":""},{"$f":"IFERROR(VLOOKUP(A1187,'1.Портфель кредитів'!A:AB,14,FALSE),\"\")","v":""}]
[null,{"$f":"IFERROR(VLOOKUP(A1188,'1.Портфель кредитів'!A:AB,3,FALSE),\"\")","v":""},{"$f":"IFERROR(VLOOKUP(A1188,'1.Портфель кредитів'!A:AB,14,FALSE),\"\")","v":""}]
[null,{"$f":"IFERROR(VLOOKUP(A1189,'1.Портфель кредитів'!A:AB,3,FALSE),\"\")","v":""},{"$f":"IFERROR(VLOOKUP(A1189,'1.Портфель кредитів'!A:AB,14,FALSE),\"\")","v":""}]
[null,{"$f":"IFERROR(VLOOKUP(A1190,'1.Портфель кредитів'!A:AB,3,FALSE),\"\")","v":""},{"$f":"IFERROR(VLOOKUP(A1190,'1.Портфель кредитів'!A:AB,14,FALSE),\"\")","v":""}]
[null,{"$f":"IFERROR(VLOOKUP(A1191,'1.Портфель кредитів'!A:AB,3,FALSE),\"\")","v":""},{"$f":"IFERROR(VLOOKUP(A1191,'1.Портфель кредитів'!A:AB,14,FALSE),\"\")","v":""}]
[null,{"$f":"IFERROR(VLOOKUP(A1192,'1.Портфель кредитів'!A:AB,3,FALSE),\"\")","v":""},{"$f":"IFERROR(VLOOKUP(A1192,'1.Портфель кредитів'!A:AB,14,FALSE),\"\")","v":""}]
[null,{"$f":"IFERROR(VLOOKUP(A1193,'1.Портфель кредитів'!A:AB,3,FALSE),\"\")","v":""},{"$f":"IFERROR(VLOOKUP(A1193,'1.Портфель кредитів'!A:AB,14,FALSE),\"\")","v":""}]
[null,{"$f":"IFERROR(VLOOKUP(A1194,'1.Портфель кредитів'!A:AB,3,FALSE),\"\")","v":""},{"$f":"IFERROR(VLOOKUP(A1194,'1.Портфель кредитів'!A:AB,14,FALSE),\"\")","v":""}]
[null,{"$f":"IFERROR(VLOOKUP(A1195,'1.Портфель кредитів'!A:AB,3,FALSE),\"\")","v":""},{"$f":"IFERROR(VLOOKUP(A1195,'1.Портфель кредитів'!A:AB,14,FALSE),\"\")","v":""}]
[null,{"$f":"IFERROR(VLOOKUP(A1196,'1.Портфель кредитів'!A:AB,3,FALSE),\"\")","v":""},{"$f":"IFERROR(VLOOKUP(A1196,'1.Портфель кредитів'!A:AB,14,FALSE),\"\")","v":""}]
[null,{"$f":"IFERROR(VLOOKUP(A1197,'1.Портфель кредитів'!A:AB,3,FALSE),\"\")","v":""},{"$f":"IFERROR(VLOOKUP(A1197,'1.Портфель кредитів'!A:AB,14,FALSE),\"\")","v":""}]
[null,{"$f":"IFERROR(VLOOKUP(A1198,'1.Портфель кредитів'!A:AB,3,FALSE),\"\")","v":""},{"$f":"IFERROR(VLOOKUP(A1198,'1.Портфель кредитів'!A:AB,14,FALSE),\"\")","v":""}]
[null,{"$f":"IFERROR(VLOOKUP(A1199,'1.Портфель кредитів'!A:AB,3,FALSE),\"\")","v":""},{"$f":"IFERROR(VLOOKUP(A1199,'1.Портфель кредитів'!A:AB,14,FALSE),\"\")","v":""}]
[null,{"$f":"IFERROR(VLOOKUP(A1200,'1.Портфель кредитів'!A:AB,3,FALSE),\"\")","v":""},{"$f":"IFERROR(VLOOKUP(A1200,'1.Портфель кредитів'!A:AB,14,FALSE),\"\")","v":""}]
[null,{"$f":"IFERROR(VLOOKUP(A1201,'1.Портфель кредитів'!A:AB,3,FALSE),\"\")","v":""},{"$f":"IFERROR(VLOOKUP(A1201,'1.Портфель кредитів'!A:AB,14,FALSE),\"\")","v":""}]
[null,{"$f":"IFERROR(VLOOKUP(A1202,'1.Портфель кредитів'!A:AB,3,FALSE),\"\")","v":""},{"$f":"IFERROR(VLOOKUP(A1202,'1.Портфель кредитів'!A:AB,14,FALSE),\"\")","v":""}]
[null,{"$f":"IFERROR(VLOOKUP(A1203,'1.Портфель кредитів'!A:AB,3,FALSE),\"\")","v":""},{"$f":"IFERROR(VLOOKUP(A1203,'1.Портфель кредитів'!A:AB,14,FALSE),\"\")","v":""}]
[null,{"$f":"IFERROR(VLOOKUP(A1204,'1.Портфель кредитів'!A:AB,3,FALSE),\"\")","v":""},{"$f":"IFERROR(VLOOKUP(A1204,'1.Портфель кредитів'!A:AB,14,FALSE),\"\")","v":""}]
[null,{"$f":"IFERROR(VLOOKUP(A1205,'1.Портфель кредитів'!A:AB,3,FALSE),\"\")","v":""},{"$f":"IFERROR(VLOOKUP(A1205,'1.Портфель кредитів'!A:AB,14,FALSE),\"\")","v":""}]
[null,{"$f":"IFERROR(VLOOKUP(A1206,'1.Портфель кредитів'!A:AB,3,FALSE),\"\")","v":""},{"$f":"IFERROR(VLOOKUP(A1206,'1.Портфель кредитів'!A:AB,14,FALSE),\"\")","v":""}]
[null,{"$f":"IFERROR(VLOOKUP(A1207,'1.Портфель кредитів'!A:AB,3,FALSE),\"\")","v":""},{"$f":"IFERROR(VLOOKUP(A1207,'1.Портфель кредитів'!A:AB,14,FALSE),\"\")","v":""}]
[null,{"$f":"IFERROR(VLOOKUP(A1208,'1.Портфель кредитів'!A:AB,3,FALSE),\"\")","v":""},{"$f":"IFERROR(VLOOKUP(A1208,'1.Портфель кредитів'!A:AB,14,FALSE),\"\")","v":""}]
[null,{"$f":"IFERROR(VLOOKUP(A1209,'1.Портфель кредитів'!A:AB,3,FALSE),\"\")","v":""},{"$f":"IFERROR(VLOOKUP(A1209,'1.Портфель кредитів'!A:AB,14,FALSE),\"\")","v":""}]

{"sheet":"Група_актива","index":4,"n_rows":37,"n_cols":1,"rows_kept":37,"cut":false,"hidden":false,"merged":[]}
["← Назад"]
["1. Предмет продажу для активу, віднесеного до І групи активів, складається з прав вимоги за кредитним договором."]
[]
["2. Предмет продажу для активу, віднесеного до ІІ групи активів, складають наступні майнові права (окремі або в сукупності): "]
["- право оскаржувати, як у судовому, так і в позасудовому порядках припинення, ліквідацію позичальників та/або майнових поручителів (поручителів), які є юридичними особами, їх правонаступників;"]
["- право звернення до державних органів, установ та організацій всіх форм власності в межах прав та повноважень власника майнових прав (прав вимоги);"]
["- право звернення до правонаступників, спадкоємців та органів місцевого самоврядування в межах прав та повноважень власника майнових прав (прав вимоги), якщо позичальником та/або майновим поручителем (поручителем) є фізична особа, в тому числі фізична особа-підприємець; "]
["- права кредитора за майновими правами (правами вимоги) (зокрема, права вимоги застосування наслідків недійсності правочинів, вимоги з отримання коштів від реалізації заставного та іншого майна, вимоги, які випливають з розірвання та/або визнання недійсним договорів та/або визнання нікчемними договорів, права, які випливають із судових справ, в тому числі справ про банкрутство, виконавчих проваджень, в тому числі щодо майна, яке не було реалізоване на торгах та підлягатиме передачі стягувачу в погашення боргу після продажу майнових прав, права, які випливають з мирових угод, договорів з арбітражними керуючими, охоронними організаціями, права участі в колегіальних органах, в тому числі в комітеті кредиторів, право одержати, переважно перед іншими кредиторами майнових поручителів, іпотекодавця, заставодавця, якщо таке переважне право встановлено нормами чинного законодавства України, у порядку, визначеному договорами іпотеки (договорами застави), Законом України «Про іпотеку», Законом України «Про заставу», задоволення всіх своїх вимог (повернення суми основної заборгованості, сплати нарахованих процентів, комісій, можливої неустойки (штраф, пеня), відшкодування збитків, тощо), що випливають з умов кредитних договорів та договорів забезпечення, за рахунок майна, вказаного в таких договорах та додатках до них, тощо), які виникнуть в майбутньому у разі скасування реєстрації припинення/ліквідації боржників (позичальників, майнових поручителів, поручителів, які є юридичними особами); "]
["- право на оскарження будь-яких рішень у відповідності до вимог чинного законодавства України, які стосуються банку та пов’язані з правами вимоги та/або майновими правами до боржників (позичальників, майнових поручителів, поручителів), їх правонаступників, та/або укладеними договорами; "]
[" - право набути у власність гроші та/або майно на підставах, що виникли   за укладеними договорами; "]
["- право отримання грошових коштів/відшкодування від боржників (позичальників, майнових поручителів, поручителів), їх правонаступників за укладеними договорами; "]
["- будь-які інші без виключення права, що пов’язані або випливають із майнових прав (прав вимоги) до боржників (позичальників, майнових поручителів, поручителів), їх правонаступників."]
[]
["3. Предмет продажу для активу, віднесеного до підгрупи ІІІп, складають наступні майнові права (окремі або в сукупності):"]
["- право звернення до державних органів, установ та організацій всіх форм власності в межах прав та повноважень власника прав вимоги, які виникли за укладеними договорами; "]
[" - право набути у власність гроші та/або майно на підставах, що виникли  у зв’язку із укладенням та здійсненням операцій за укладеними договорами; "]
["- право оскаржувати припинення прав вимоги, в тому числі право оскаржувати в судовому порядку припинення (відсутність) прав вимоги; "]
["- права кредитора за правами вимоги (зокрема, права вимоги застосування наслідків недійсності правочинів, вимоги з отримання коштів від реалізації заставного та іншого майна, вимоги, які випливають з розірвання та/або визнання недійсним договорів та/або визнання нікчемними договорів, права, які випливають із судових справ, в тому числі справ про банкрутство, виконавчих проваджень, в тому числі щодо майна, яке не було реалізоване на торгах та підлягатиме передачі стягувачу в погашення боргу після продажу майнових прав, права, які випливають з мирових угод, договорів з арбітражними керуючими, охоронними організаціями, права участі в колегіальних органах, в тому числі в комітеті кредиторів, право одержати, переважно перед іншими кредиторами майнових поручителів, іпотекодавця, заставодавця, якщо таке переважне право встановлено нормами чинного законодавства України, у порядку, визначеному договорами іпотеки (договорами застави), Законом України «Про іпотеку», Законом України «Про заставу», задоволення всіх своїх вимог (повернення суми основної заборгованості, сплати нарахованих процентів, комісій, можливої неустойки (штраф, пеня), відшкодування збитків, тощо), що випливають з умов кредитних договорів та договорів забезпечення, за рахунок майна, вказаного в таких договорах та додатках до них, тощо), які виникнуть в майбутньому у разі скасування рішень про їх припинення або зміну; "]
["-право отримання грошових коштів/відшкодування від боржників (позичальників, майнових поручителів, поручителів), їх правонаступників за укладеними договорами за наслідками здійснених правочинів за укладеними договорами; "]
["- право на оскарження будь-яких рішень у відповідності до вимог чинного законодавства України, які стосуються банку та пов’язані з правами вимоги та/або майновими правами до боржників (позичальників, майнових поручителів, поручителів), їх правонаступників, та/або укладеними договорами; "]
["- право отримання грошових коштів/відшкодування до боржників (позичальників, майнових поручителів, поручителів), їх правонаступників за наслідками зміни або розірвання укладених договорів; "]
["- будь-які інші без виключення права, що пов’язані або випливають із прав вимоги до боржників (позичальників, майнових поручителів, поручителів), їх правонаступників. "]
[]
["4. Предмет продажу для активу, віднесеного до підгрупи ІІІн групи активів, складають наступні майнові права (окремі або в сукупності):"]
["- право звернення до державних органів, установ та організацій всіх форм власності в межах прав та повноважень власника прав вимоги, які виникли за укладеними   договорами; "]
["- право набути у власність гроші та/або майно на підставах, що виникли  у зв’язку із укладенням та здійсненням операцій за укладеними договорами; "]
["- право оскаржувати недійсність прав вимоги, в тому числі право оскаржувати в судовому порядку недійсність прав вимоги; "]
["- права кредитора за правами вимоги (зокрема, права вимоги застосування наслідків недійсності правочинів, вимоги з отримання коштів від реалізації заставного та іншого майна, вимоги, які випливають з розірвання та/або визнання недійсним договорів та/або визнання нікчемними договорів, права, які випливають із судових справ, в тому числі справ про банкрутство, виконавчих проваджень, в тому числі щодо майна, яке не було реалізоване на торгах та підлягатиме передачі стягувачу в погашення боргу після продажу майнових прав, права, які випливають з мирових угод, договорів з арбітражними керуючими, охоронними організаціями, права участі в колегіальних органах, в тому числі в комітеті кредиторів, право одержати, переважно перед іншими кредиторами майнових поручителів, іпотекодавця, заставодавця, якщо таке переважне право встановлено нормами чинного законодавства України, у порядку, визначеному договорами іпотеки (договорами застави), Законом України «Про іпотеку», Законом України «Про заставу», задоволення всіх своїх вимог (повернення суми основної заборгованості, сплати нарахованих процентів, комісій, можливої неустойки (штраф, пеня), відшкодування збитків, тощо), що випливають з умов кредитних договорів та договорів забезпечення, за рахунок майна, вказаного в таких договорах та додатках до них, тощо), які виникнуть в майбутньому у разі скасування рішень про їх недійсність або зміну; "]
[" -право отримання грошових коштів/відшкодування від боржників (позичальників, майнових поручителів, поручителів), їх правонаступників за наслідками недійсності/нікчемності укладених договорів; "]
["- право на оскарження будь-яких рішень у відповідності до вимог чинного законодавства України, які стосуються банку та пов’язані з правами вимоги та/або майновими правами до боржників (позичальників, майнових поручителів, поручителів), їх правонаступників, та/або укладеними договорами; "]
["- право отримання грошових коштів/відшкодування від боржників (позичальників, майнових поручителів, поручителів), їх правонаступників за наслідками зміни або розірвання укладених договорів; "]
["- будь-які інші без виключення права, що пов’язані або випливають із прав вимоги, до боржників (позичальників, майнових поручителів, поручителів), їх правонаступників"]
[]
["«Недійсність (нікчемність), припинення всіх або будь-якого із прав, що складають Майнові права за цим лотом, або неможливість реалізації покупцем будь-якого із Майнових прав, набутих ним за договором купівлі-продажу Майнових прав за цим лотом, не вплине на дійсність договору купівлі-продажу Майнових прав за цим лотом та Покупець погоджується, що Продавець не несе жодної відповідальності за такі наслідки.\nБанк (продавець) та/або Фонд не відповідає за неотримання покупцем грошових коштів або іншого майна, які покупець очікував отримати від Майнових прав, набуваючи у власність Майнові права за цим лотом.\nПриймаючи рішення щодо придбання Майнових прав за цим лотом покупець має розуміти (усвідомлювати) характер Майнових прав, що переходять до покупця за цим лотом, та приймати усі ризики, пов’язані із таким переходом, у тому числі ризики того, що покупець у майбутньому не зможе отримати жодних коштів або майна за Майновими правами.»"]
["Цей документ був підготовлений Фондом гарантування вкладів фізичних осіб (далі – Фонд) виключно для інформаційних цілей і не повинен вважатися як спонукання до будь-яких дій чи бездіяльності.  Інформація, що міститься в цьому документі, була отримана з/або ґрунтується на джерелах, які вважаються надійними, але не є вичерпною та не може сприйматися як повна або актуальна. Рішення покупця щодо будь-яких дій або бездіяльності повинно ґрунтуватися на власних оцінках та дослідженнях майна (активу/активів), котре реалізується. Фонд не несе відповідальності за рішення покупця та його наслідки, що ґрунтується на інформації, викладеній в даному документі."]
["Покупцем не може бути особа, пов'язана з державою-агресором, відповідно до Постанови Кабінету Міністрів України №187 від 03.03.2022 (зі змінами)."]
["Звертаємо увагу, що  на період дії воєнного стану на території України  договори посвідчуються нотаріусом, який включений до затвердженого Міністерством юстиції переліку (https://minjust.gov.ua/news/ministry/perelik-notariusiv-yakimi-v-umovah-voennogo-stanu-vchinyayutsya-notarialni-dii-schodo-tsinnogo-mayna). Нотаріальне посвідчення договорів відчуження нерухомого майна на час дії воєнного стану здійснюється нотаріусом, який включений до затвердженого Міністерством юстиції переліку, за місцезнаходженням такого майна. Виключенням є м. Київ та Київська область, де договори відчуження нерухомого майна посвідчуються нотаріусом з м. Києва або Київської обл. за місцезнаходженням такого майна, або місцезнаходженням юридичної особи, або за зареєстрованим місцем проживання фізичної особи - однієї із сторін договору."]

{"sheet":"Hidden_Словник","index":5,"n_rows":19704,"n_cols":50,"rows_kept":1125,"cut":true,"hidden":false,"merged":[],"bounds":{"rows_first":500,"rows_last":125,"rows_between":500,"halvings":2}}
["Коротка назва","Назва банку","МФО","Дата вводу тимч.адм.","Дата рішення про ліквид.",null,null,null,null,"#","область","Регіон",null,null,null,"Тип актива","NU",null,null,"Банкрутство",null,null,"Тип застави",null,"ТАК/Ні",null,"Вид судового провадження",null,null,"Відповідач (позичальник/поручитель)",null,null,null,"Наявність документів кредитної справи",null,null,null,null,"Одиниці виміру",null,null,"валюта",null,null,null,"область","населений пункт",null,null,"Наявність забезпечення"]
["Авант-Банк","ПАТ \"АВАНТ-БАНК\"","380708","2016-01-29","2016-02-26",null,null,null,null,1,"Автономна Республіка Крим","КРИМ/АТО",null,null,null,"Ю/О право вимоги","Сільське господарство, лісове господарство та рибне господарство",null,null,"Діюче",null,null,"житл. нерухомість",10,"ТАК",null,"стягнення заборгованості",null,null,"Позичальник",null,null,null,"Наявні документи кредитної справи",null,null,null,null,"га",null,null,"Гривня",980,null,null,"Автономна Республіка Крим","Алупка",null,null,"Наявне"]
["АКБ Банк","ПАТ \"АКБ Банк\"","331100","2014-05-30","2014-08-29",null,null,null,null,2,"Севастополь","КРИМ/АТО",null,null,null,"Ф/О право вимоги","Сільське господарство, мисливство та надання пов'язаних із ними послуг",null,null,"Банкрутство",null,null,"ком. нерухомість",11,"НІ",null,"стягнення забезпечення",null,null,"Поручитель",null,null,null,"Наявний кредитний договір",null,null,null,null,"м.кв.",null,null,"Доллар США",840,null,null,"Автономна Республіка Крим","Абрикосівка",null,null,"Відсутнє (реалізовано)"]
["Аксіома","ПАТ \"КБ \"АКСІОМА\"","307305","2014-10-10","2015-01-30",null,null,null,null,3,"Вінницька","ЦЕНТР",null,null,null,"ФОП право вимоги","Вирощування однорічних і дворічних культур",null,null,"В стані припинення (крім банкрутства)",null,null,"земельні ділянки",12,null,null,"банкрутство",null,null,"Солідарно",null,null,null,"Наяваний договір застави",null,null,null,null,"м.куб.",null,null,"Євро",978,null,null,"Автономна Республіка Крим","Абрикосове",null,null,"Відсутнє (виведено)"]
["Актабанк","ПАТ \"АКТАБАНК\"","307394","2014-09-17","2015-01-16",null,null,null,null,4,"Волинська","ЗАХІД",null,null,null,"Дебіторська заборгованість","Вирощування зернових культур (крім рису), бобових культур і насіння олійних культур",null,null,"Ліквідовано",null,null,"транспорт",2,null,null,"визнання зобов'язань недійсними",null,null,"3-і особи",null,null,null,"Відсутні документи кредитної справи",null,null,null,null,"т",null,null,"Швейцарські франки",756,null,null,"Автономна Республіка Крим","Аврора (Слов'янська сільська рада)",null,null,"Відсутнє (інше)"]
["Активбанк","ПАТ \"КБ \"АКТИВ - БАНК\"","300852","2014-09-03","2014-12-23",null,null,null,null,5,"Дніпропетровська","ПІВДЕНЬ",null,null,null,"Майн. права з ЦП","Вирощування рису",null,null,"Санація",null,null,"обладнання",3,null,null,"нікчемність правочину",null,null,null,null,null,null,null,null,null,null,null,"шт.",null,null,"Польські злоті",985,null,null,"Автономна Республіка Крим","Аграрне"]
["АРТЕМ-БАНК","АТ «АРТЕМ-БАНК»","300885","2016-11-16","2016-12-16",null,null,null,null,6,"Донецька","КРИМ/АТО",null,null,null,"Ю/О майнові права","Вирощування овочів і баштанних культур, коренеплодів і бульбоплодів",null,null,"Інше",null,null,"товари",4,null,null,"інше",null,null,null,null,null,null,null,null,null,null,null,"од.",null,null,"Фунт стерлінгів",826,null,null,"Автономна Республіка Крим","Аерофлотський"]
["БАНК ПЕТРОКОММЕРЦ-УКРАЇНА","ПАТ \"БАНК ПЕТРОКОММЕРЦ-УКРАЇНА\"","300120","2016-03-18","2016-04-22",null,null,null,null,7,"Житомирська","ЦЕНТР",null,null,null,"Ф/О майнові права","Вирощування цукрової тростини",null,null,null,null,null,"депозит",5,null,null,"ППР не здійснюється",null,null,null,null,null,null,null,null,null,null,null,null,null,null,"Китайські юані",156,null,null,"Автономна Республіка Крим","Азов"]
["БГ банк","ПАТ \"БГ БАНК\"","320995","2014-11-28","2015-02-27",null,null,null,null,8,"Закарпатська","ЗАХІД",null,null,null,"ФОП майнові права","Вирощування тютюну",null,null,null,null,null,"майнові права",6,null,null,null,null,null,null,null,null,null,null,null,null,null,null,null,null,null,"Рос. рубль",643,null,null,"Автономна Республіка Крим","Азовське"]
["Богуслав","АТ «БАНК БОГУСЛАВ»",380322,null,null,null,null,null,null,9,"Запорізька","ПІВДЕНЬ",null,null,null,"Інше","Вирощування прядивних культур",null,null,null,null,null,"цінні папери",65,null,null,null,null,null,null,null,null,null,null,null,null,null,null,null,null,null,"мульт. валютн.",777,null,null,"Автономна Республіка Крим","Айвазовське"]
["Брокбізнесбанк","АТ \"БРОКБІЗНЕСБАНК\"","300249","2014-03-03","2014-06-11",null,null,null,null,10,"Івано_Франківська","ЗАХІД",null,null,null,null,"Вирощування інших однорічних і дворічних культур",null,null,null,null,null,"фінансова порука",7,null,null,null,null,null,null,null,null,null,null,null,null,null,null,null,null,null,null,null,null,null,"Автономна Республіка Крим","Айвове"]
["ВБР","ПАТ \"ВБР\"","380719","2014-11-28","2015-12-21",null,null,null,null,11,"Київ","ЦЕНТР",null,null,null,null,"Вирощування багаторічних культур",null,null,null,null,null,"беззаставний",8,null,null,null,null,null,null,null,null,null,null,null,null,null,null,null,null,null,null,null,null,null,"Автономна Республіка Крим","Айкаван"]
["ВЕКТОР","ПАТ \"ВЕКТОР БАНК\"","339038","2017-03-03","2017-03-22",null,null,null,null,12,"Київська","ЦЕНТР",null,null,null,null,"Вирощування винограду",null,null,null,null,null,"інше",9,null,null,null,null,null,null,null,null,null,null,null,null,null,null,null,null,null,null,null,null,null,"Автономна Республіка Крим","Акрополіс"]
["Велес","АТ \"БАНК ВЕЛЕС\"","322799",null,"2015-12-11",null,null,null,null,13,"Кіровоградська","ЦЕНТР",null,null,null,null,"Вирощування тропічних і субтропічних фруктів",null,null,null,null,null,null,null,null,null,null,null,null,null,null,null,null,null,null,null,null,null,null,null,null,null,null,null,null,"Автономна Республіка Крим","Алмазне"]
["ВіЕйБі","ПАТ \"ВіЕйБі Банк\"","380537","2014-11-21","2015-03-20",null,null,null,null,14,"Луганська","КРИМ/АТО",null,null,null,null,"Вирощування цитрусових",null,null,null,null,null,null,null,null,null,null,null,null,null,null,null,null,null,null,null,null,null,null,null,null,null,null,null,null,"Автономна Республіка Крим","Алушта"]
["ВТБ банк","АТ «ВТБ БАНК»",321767,"2018-12-19","2020-12-18",null,null,null,null,15,"Львівська","ЗАХІД",null,null,null,null,"Вирощування зерняткових і кісточкових фруктів",null,null,null,null,null,null,null,null,null,null,null,null,null,null,null,null,null,null,null,null,null,null,null,null,null,null,null,null,"Автономна Республіка Крим","Амурське"]
["Грінбанк","ПАТ \"Грін Банк\"","322324","2014-09-25","2015-01-23",null,null,null,null,16,"Миколаївська","ПІВДЕНЬ",null,null,null,null,"Вирощування ягід, горіхів, інших плодових дерев і чагарників",null,null,null,null,null,null,null,null,null,null,null,null,null,null,null,null,null,null,null,null,null,null,null,null,null,null,null,null,"Автономна Республіка Крим","Ана-Юрт"]
["Даніель","ПАТ \"КБ \"Даніель\"","380980","2014-01-17","2014-04-16",null,null,null,null,17,"Одеська","ПІВДЕНЬ",null,null,null,null,"Вирощування олійних плодів",null,null,null,null,null,null,null,null,null,null,null,null,null,null,null,null,null,null,null,null,null,null,null,null,null,null,null,null,"Автономна Республіка Крим","Андрусове"]
["Дельта","АТ \"Дельта Банк\"","380236","2015-03-03","2015-10-02",null,null,null,null,18,"Полтавська","ЦЕНТР",null,null,null,null,"Вирощування культур для виробництва напоїв",null,null,null,null,null,null,null,null,null,null,null,null,null,null,null,null,null,null,null,null,null,null,null,null,null,null,null,null,"Автономна Республіка Крим","Антонівка"]
["Демарк","Банк \"Демарк\"","353575","2014-09-29","2015-01-30",null,null,null,null,19,"Рівненська","ЗАХІД",null,null,null,null,"Вирощування пряних, ароматичних і лікарських культур",null,null,null,null,null,null,null,null,null,null,null,null,null,null,null,null,null,null,null,null,null,null,null,null,null,null,null,null,"Автономна Республіка Крим","Апрелівка"]
["ДЕРЖЗЕМБАНК","ПАТ «ДЕРЖЗЕМБАНК»","380968","2016-07-27","2016-09-27",null,null,null,null,20,"Сумська","СХІД",null,null,null,null,"Вирощування інших багаторічних культур",null,null,null,null,null,null,null,null,null,null,null,null,null,null,null,null,null,null,null,null,null,null,null,null,null,null,null,null,"Автономна Республіка Крим","Арбузівка"]
["ДІАМАНТБАНК","ПАТ \"ДІАМАНТБАНК\"","320854","2017-04-24","2017-06-24",null,null,null,null,21,"Тернопільська","ЗАХІД",null,null,null,null,"Відтворення рослин",null,null,null,null,null,null,null,null,null,null,null,null,null,null,null,null,null,null,null,null,null,null,null,null,null,null,null,null,"Автономна Республіка Крим","Арбузове"]
["Експобанк","АТ \"КБ \"ЕКСПОБАНК\"","322294","2014-09-25","2015-01-26",null,null,null,null,22,"Харківська","СХІД",null,null,null,null,"Відтворення рослин",null,null,null,null,null,null,null,null,null,null,null,null,null,null,null,null,null,null,null,null,null,null,null,null,null,null,null,null,"Автономна Республіка Крим","Аркадіївка"]
["Енергобанк","ПАТ \"ЕНЕРГОБАНК\"","300272","2015-02-13","2015-06-12",null,null,null,null,23,"Херсонська","ПІВДЕНЬ",null,null,null,null,"Тваринництво",null,null,null,null,null,null,null,null,null,null,null,null,null,null,null,null,null,null,null,null,null,null,null,null,null,null,null,null,"Автономна Республіка Крим","Армійське"]
["ЕРДЕ банк","АТ \"ЕРДЕ БАНК\"","380667","2012-10-30","2013-01-09",null,null,null,null,24,"Хмельницька","ЦЕНТР",null,null,null,null,"Розведення великої рогатої худоби молочних порід",null,null,null,null,null,null,null,null,null,null,null,null,null,null,null,null,null,null,null,null,null,null,null,null,null,null,null,null,"Автономна Республіка Крим","Армянськ"]
["Євробанк","ПАТ \"КБ \"ЄВРОБАНК\"","380355","2016-06-17","2016-08-17",null,null,null,null,25,"Черкаська","ЦЕНТР",null,null,null,null,"Розведення іншої великої рогатої худоби та буйволів",null,null,null,null,null,null,null,null,null,null,null,null,null,null,null,null,null,null,null,null,null,null,null,null,null,null,null,null,"Автономна Республіка Крим","Аромат"]
["Єврогазбанк","АТ \"ЄВРОГАЗБАНК\"","380430","2014-07-17","2014-11-18",null,null,null,null,26,"Чернівецька","ЗАХІД",null,null,null,null,"Розведення коней та інших тварин родини конячих",null,null,null,null,null,null,null,null,null,null,null,null,null,null,null,null,null,null,null,null,null,null,null,null,null,null,null,null,"Автономна Республіка Крим","Ароматне"]
["Західінкомбанк","ПАТ \"Західінкомбанк\"","303484","2014-05-29","2014-07-23",null,null,null,null,27,"Чернігівська","СХІД",null,null,null,null,"Розведення верблюдів та інших тварин родини верблюдячих",null,null,null,null,null,null,null,null,null,null,null,null,null,null,null,null,null,null,null,null,null,null,null,null,null,null,null,null,"Автономна Республіка Крим","Артемівка"]
["Златобанк","АТ \"ЗЛАТОБАНК\"","380612","2015-02-14","2015-05-13",null,null,null,null,null,null,null,null,null,null,null,"Розведення овець і кіз",null,null,null,null,null,null,null,null,null,null,null,null,null,null,null,null,null,null,null,null,null,null,null,null,null,null,null,null,"Автономна Республіка Крим","Бабенкове"]
["Золоті ворота","АТ \"БАНК ЗОЛОТІ ВОРОТА\"","351931","2014-08-04","2014-12-05",null,null,null,null,null,null,null,null,null,null,null,"Розведення свиней",null,null,null,null,null,null,null,null,null,null,null,null,null,null,null,null,null,null,null,null,null,null,null,null,null,null,null,null,"Автономна Республіка Крим","Багата Ущелина"]
["Імексбанк","АТ \"ІМЕКСБАНК\"","328384","2015-01-27","2015-05-27",null,null,null,null,null,null,null,null,null,null,null,"Розведення свійської птиці",null,null,null,null,null,null,null,null,null,null,null,null,null,null,null,null,null,null,null,null,null,null,null,null,null,null,null,null,"Автономна Республіка Крим","Багате"]
["ІНВЕСТБАНК","ПАТ \"КБ \"ІНВЕСТБАНК\"","328210","2016-12-16","2017-01-13",null,null,null,null,null,null,null,null,null,null,null,"Розведення інших тварин",null,null,null,null,null,null,null,null,null,null,null,null,null,null,null,null,null,null,null,null,null,null,null,null,null,null,null,null,"Автономна Республіка Крим","Багатівка"]
["Інтеграл банк","ПАТ \"Інтеграл-банк\"","320735","2015-09-16","2015-11-27",null,null,null,null,null,null,null,null,null,null,null,"Змішане сільське господарство",null,null,null,null,null,null,null,null,null,null,null,null,null,null,null,null,null,null,null,null,null,null,null,null,null,null,null,null,"Автономна Республіка Крим","Багерове"]
["Інтербанк","ПАТ КБ \"ІНТЕРБАНК\"","300216","2014-04-24","2014-07-23",null,null,null,null,null,null,null,null,null,null,null,"Змішане сільське господарство",null,null,null,null,null,null,null,null,null,null,null,null,null,null,null,null,null,null,null,null,null,null,null,null,null,null,null,null,"Автономна Республіка Крим","Баланове"]
["Інтеркредит банк","ПАТ \"ІнтерКредитБанк\"","307424","2014-10-10","2015-01-17",null,null,null,null,null,null,null,null,null,null,null,"Допоміжна діяльність у сільському господарстві та післяурожайна діяльність",null,null,null,null,null,null,null,null,null,null,null,null,null,null,null,null,null,null,null,null,null,null,null,null,null,null,null,null,"Автономна Республіка Крим","Балки"]
["Камбіо","ПАТ \"Банк Камбіо\"","380399","2014-12-05","2015-03-02",null,null,null,null,null,null,null,null,null,null,null,"Допоміжна діяльність у рослинництві",null,null,null,null,null,null,null,null,null,null,null,null,null,null,null,null,null,null,null,null,null,null,null,null,null,null,null,null,"Автономна Республіка Крим","Барабанове"]
["Київ","ПАТ \"АКБ \"КИЇВ\"","322498","2015-02-25","2015-06-25",null,null,null,null,null,null,null,null,null,null,null,"Допоміжна діяльність у тваринництві",null,null,null,null,null,null,null,null,null,null,null,null,null,null,null,null,null,null,null,null,null,null,null,null,null,null,null,null,"Автономна Республіка Крим","Барсове"]
["Київськая Русь","ПАТ \"Банк \"Київська Русь\"","319092","2015-03-20","2015-07-17",null,null,null,null,null,null,null,null,null,null,null,"Післяурожайна діяльність",null,null,null,null,null,null,null,null,null,null,null,null,null,null,null,null,null,null,null,null,null,null,null,null,null,null,null,null,"Автономна Республіка Крим","Батальне"]
["КЛАСИКБАНК","ПАТ «КЛАСИКБАНК»","306704","2016-06-15","2016-08-12",null,null,null,null,null,null,null,null,null,null,null,"Оброблення насіння для відтворення",null,null,null,null,null,null,null,null,null,null,null,null,null,null,null,null,null,null,null,null,null,null,null,null,null,null,null,null,"Автономна Республіка Крим","Бахчисарай"]
["Контракт","ПАТ Банк \"Контракт\"","322465","2015-10-07","2015-12-11",null,null,null,null,null,null,null,null,null,null,null,"Мисливство, відловлювання тварин і надання пов'язаних із ними послуг",null,null,null,null,null,null,null,null,null,null,null,null,null,null,null,null,null,null,null,null,null,null,null,null,null,null,null,null,"Автономна Республіка Крим","Бахчівка (Серебрянська сільська рада)"]
["Кредитпромбанк","ПАТ \"КРЕДИТПРОМБАНК\"","300863","2015-03-03","2015-06-03",null,null,null,null,null,null,null,null,null,null,null,"Мисливство, відловлювання тварин і надання пов'язаних із ними послуг",null,null,null,null,null,null,null,null,null,null,null,null,null,null,null,null,null,null,null,null,null,null,null,null,null,null,null,null,"Автономна Республіка Крим","Баштанівка"]
["Легбанк","ПАТ \"Легбанк\"","300056","2014-11-28","2015-02-27",null,null,null,null,null,null,null,null,null,null,null,"Лісове господарство та лісозаготівлі",null,null,null,null,null,null,null,null,null,null,null,null,null,null,null,null,null,null,null,null,null,null,null,null,null,null,null,null,"Автономна Республіка Крим","Берегове"]
["МР Банк","АКЦІОНЕРНЕ ТОВАРИСТВО \"МІЖНАРОДНИЙ РЕЗЕРВНИЙ БАНК\"",320627,null,null,null,null,null,null,null,null,null,null,null,null,null,null,null,null,null,null,null,null,null,null,null,null,null,null,null,null,null,null,null,null,null,null,null,null,null,null,null,null,null,null,"Автономна Республіка Крим","Березівка"]
["Мегабанк","АТ «МЕГАБАНК»",351629,null,null,null,null,null,null,null,null,null,null,null,null,null,null,null,null,null,null,null,null,null,null,null,null,null,null,null,null,null,null,null,null,null,null,null,null,null,null,null,null,null,null,"Автономна Республіка Крим","Бєлінське"]
["Меліор","ПАТ \"МЕЛІОР БАНК\"","307435","2014-10-10","2015-02-11",null,null,null,null,null,null,null,null,null,null,null,null,null,null,null,null,null,null,null,null,null,null,null,null,null,null,null,null,null,null,null,null,null,null,null,null,null,null,null,null,"Автономна Республіка Крим","Біла Скеля"]
["Меркурій","АТ БАНК \"МЕРКУРІЙ\"","351663","2014-03-14","2014-06-12",null,null,null,null,null,null,null,null,null,null,null,null,null,null,null,null,null,null,null,null,null,null,null,null,null,null,null,null,null,null,null,null,null,null,null,null,null,null,null,null,"Автономна Республіка Крим","Білогірськ"]
["Михайлівський","ПАТ \"БАНК МИХАЙЛІВСЬКИЙ\"","380935","2016-05-23","2016-07-13",null,null,null,null,null,null,null,null,null,null,null,"Лісівництво та інша діяльність у лісовому господарстві",null,null,null,null,null,null,null,null,null,null,null,null,null,null,null,null,null,null,null,null,null,null,null,null,null,null,null,null,"Автономна Республіка Крим","Білоглинка"]
["Міський комерційний банк","ПАТ \"МІСЬКИЙ КОМЕРЦІЙНИЙ БАНК\"","339339","2014-11-21","2015-03-20",null,null,null,null,null,null,null,null,null,null,null,"Лісівництво та інша діяльність у лісовому господарстві",null,null,null,null,null,null,null,null,null,null,null,null,null,null,null,null,null,null,null,null,null,null,null,null,null,null,null,null,"Автономна Республіка Крим","Білокам'яне"]
["Надра","ПАТ \"КБ \"Надра\"","380764","2015-02-06","2015-06-05",null,null,null,null,null,null,null,null,null,null,null,"Лісозаготівлі",null,null,null,null,null,null,null,null,null,null,null,null,null,null,null,null,null,null,null,null,null,null,null,null,null,null,null,null,"Автономна Республіка Крим","Бітумне (Гресівська)"]
["Національний кредит","\"БАНК НАЦІОНАЛЬНИЙ КРЕДИТ\"","320702","2015-06-08","2015-08-31",null,null,null,null,null,null,null,null,null,null,null,"Лісозаготівлі",null,null,null,null,null,null,null,null,null,null,null,null,null,null,null,null,null,null,null,null,null,null,null,null,null,null,null,null,"Автономна Республіка Крим","Благодатне"]
["Національні інвестиції","БАНК НАЦІОНАЛЬНІ ІНВЕСТИЦІЇ","300498","2015-09-18","2015-12-01",null,null,null,null,null,null,null,null,null,null,null,"Збирання дикорослих недеревних продуктів",null,null,null,null,null,null,null,null,null,null,null,null,null,null,null,null,null,null,null,null,null,null,null,null,null,null,null,null,"Автономна Республіка Крим","Ближнє"]
["НК БАНК","АТ \"БАНК НАРОДНИЙ КАПІТАЛ\"","322432","2017-01-20","2017-03-09",null,null,null,null,null,null,null,null,null,null,null,"Збирання дикорослих недеревних продуктів",null,null,null,null,null,null,null,null,null,null,null,null,null,null,null,null,null,null,null,null,null,null,null,null,null,null,null,null,"Автономна Республіка Крим","Ближньогородське"]
["Новий","ПАТ АКБ Новий",305062,null,null,null,null,null,null,null,null,null,null,null,null,null,"Надання допоміжних послуг у лісовому господарстві",null,null,null,null,null,null,null,null,null,null,null,null,null,null,null,null,null,null,null,null,null,null,null,null,null,null,null,null,"Автономна Республіка Крим","Богатир"]
["Омега","ПАТ \"ОМЕГА БАНК\"","300164","2015-03-03","2015-07-06",null,null,null,null,null,null,null,null,null,null,null,"Надання допоміжних послуг у лісовому господарстві",null,null,null,null,null,null,null,null,null,null,null,null,null,null,null,null,null,null,null,null,null,null,null,null,null,null,null,null,"Автономна Республіка Крим","Богачівка (Магазинська)"]
["Південкомбанк","ПАТ \"КБ \"ПІВДЕНКОМБАНК\"","335946","2014-05-26","2014-09-26",null,null,null,null,null,null,null,null,null,null,null,"Рибне господарство",null,null,null,null,null,null,null,null,null,null,null,null,null,null,null,null,null,null,null,null,null,null,null,null,null,null,null,null,"Автономна Республіка Крим","Болотне"]
["Платинум Банк","ПАТ \"Платинум Банк\"","380388","2017-01-11","2017-02-24",null,null,null,null,null,null,null,null,null,null,null,"Рибальство",null,null,null,null,null,null,null,null,null,null,null,null,null,null,null,null,null,null,null,null,null,null,null,null,null,null,null,null,"Автономна Республіка Крим","Бондаренкове"]
["Праймбанк","ПАТ \"ПРАЙМ-БАНК\"","300669","2014-10-03","2015-01-14",null,null,null,null,null,null,null,null,null,null,null,"Морське рибальство",null,null,null,null,null,null,null,null,null,null,null,null,null,null,null,null,null,null,null,null,null,null,null,null,null,null,null,null,"Автономна Республіка Крим","Борисівка"]
["Промінвестбанк","ПАТ «Промінвестбанк»",300012,null,null,null,null,null,null,null,null,null,null,null,null,null,"Прісноводне рибальство",null,null,null,null,null,null,null,null,null,null,null,null,null,null,null,null,null,null,null,null,null,null,null,null,null,null,null,null,"Автономна Республіка Крим","Бородіно"]
["Промекономбанк","ПАТ \"КБ \"ПРОМЕКОНОМБАНК\"","334992","2014-05-22","2014-09-08",null,null,null,null,null,null,null,null,null,null,null,"Рибництво (аквакультура)",null,null,null,null,null,null,null,null,null,null,null,null,null,null,null,null,null,null,null,null,null,null,null,null,null,null,null,null,"Автономна Республіка Крим","Ботанічне"]
["Профінбанк","ПАТ \"ПРОФІН БАНК\"","334594","2015-01-20","2015-04-20",null,null,null,null,null,null,null,null,null,null,null,null,null,null,null,null,null,null,null,null,null,null,null,null,null,null,null,null,null,null,null,null,null,null,null,null,null,null,null,null,"Автономна Республіка Крим","Братське"]
["Радикал","ПАТ \"РАДИКАЛ БАНК\"","319111","2015-07-10","2015-11-10",null,null,null,null,null,null,null,null,null,null,null,"Морське рибництво (аквакультура)",null,null,null,null,null,null,null,null,null,null,null,null,null,null,null,null,null,null,null,null,null,null,null,null,null,null,null,null,"Автономна Республіка Крим","Братське (Братської)"]
["Реал банк","ПАТ \"РЕАЛ БАНК\"","351588","2014-03-03","2014-05-21",null,null,null,null,null,null,null,null,null,null,null,"Прісноводне рибництво (аквакультура)",null,null,null,null,null,null,null,null,null,null,null,null,null,null,null,null,null,null,null,null,null,null,null,null,null,null,null,null,"Автономна Республіка Крим","Брянське"]
["Банк Січ","АТ \"Банк Січ\"",380816,null,null,null,null,null,null,null,null,null,null,null,null,null,"Добувна промисловість і розроблення кар'єрів",null,null,null,null,null,null,null,null,null,null,null,null,null,null,null,null,null,null,null,null,null,null,null,null,null,null,null,null,"Автономна Республіка Крим","Буревісник"]
["Смартбанк","ПУАТ «СМАРТБАНК»","380786","2016-05-25","2016-07-25",null,null,null,null,null,null,null,null,null,null,null,"Добування кам'яного та бурого вугілля",null,null,null,null,null,null,null,null,null,null,null,null,null,null,null,null,null,null,null,null,null,null,null,null,null,null,null,null,"Автономна Республіка Крим","Валентинове (Кримська)"]
["Софіївський","ПАТ \"Банк \"Софійський\"","380861","2015-12-23","2016-04-25",null,null,null,null,null,null,null,null,null,null,null,null,null,null,null,null,null,null,null,null,null,null,null,null,null,null,null,null,null,null,null,null,null,null,null,null,null,null,null,null,"Автономна Республіка Крим","Варварівка"]
["Стандарт","ПАТ КБ \"СТАНДАРТ\"","380690","2015-02-20","2015-06-19",null,null,null,null,null,null,null,null,null,null,null,"Добування кам'яного вугілля",null,null,null,null,null,null,null,null,null,null,null,null,null,null,null,null,null,null,null,null,null,null,null,null,null,null,null,null,"Автономна Республіка Крим","Василькове"]
["Старокиївський","ПАТ \"СТАРОКИЇВСЬКИЙ БАНК\"","321477","2014-06-18","2014-09-18",null,null,null,null,null,null,null,null,null,null,null,"Добування кам'яного вугілля",null,null,null,null,null,null,null,null,null,null,null,null,null,null,null,null,null,null,null,null,null,null,null,null,null,null,null,null,"Автономна Республіка Крим","Велике (Суворовська)"]
["Столичний","ПАТ АБ \"СТОЛИЧНИЙ\"","397133","2015-07-10","2015-09-18",null,null,null,null,null,null,null,null,null,null,null,"Добування бурого вугілля",null,null,null,null,null,null,null,null,null,null,null,null,null,null,null,null,null,null,null,null,null,null,null,null,null,null,null,null,"Автономна Республіка Крим","Велике Садове (Куйбишевська)"]
["Таврика","АТ \"БАНК \"ТАВРИКА\"","300788","2012-12-21","2013-03-21",null,null,null,null,null,null,null,null,null,null,null,"Добування бурого вугілля",null,null,null,null,null,null,null,null,null,null,null,null,null,null,null,null,null,null,null,null,null,null,null,null,null,null,null,null,"Автономна Республіка Крим","Великосілля"]
["Терра банк","ПАТ \"ТЕРРА БАНК\"","380601","2014-08-22","2014-12-24",null,null,null,null,null,null,null,null,null,null,null,"Добування сирої нафти та природного газу",null,null,null,null,null,null,null,null,null,null,null,null,null,null,null,null,null,null,null,null,null,null,null,null,null,null,null,null,"Автономна Республіка Крим","Вересаєве"]
["ТК Кредит","АТ КБ \"ТК Кредит\"","322830","2016-02-10","2016-04-08",null,null,null,null,null,null,null,null,null,null,null,"Добування сирої нафти",null,null,null,null,null,null,null,null,null,null,null,null,null,null,null,null,null,null,null,null,null,null,null,null,null,null,null,null,"Автономна Республіка Крим","Верхні Орішники"]
["ТРАСТ","ПАТ БАНК \"ТРАСТ\"","380474","2016-12-07","2016-12-30",null,null,null,null,null,null,null,null,null,null,null,"Добування сирої нафти",null,null,null,null,null,null,null,null,null,null,null,null,null,null,null,null,null,null,null,null,null,null,null,null,null,null,null,null,"Автономна Республіка Крим","Верхня Кутузовка"]
["Укоопспілка","АБ \"УКООПСПІЛКА\"","322625","2015-01-23","2015-04-23",null,null,null,null,null,null,null,null,null,null,null,"Добування природного газу",null,null,null,null,null,null,null,null,null,null,null,null,null,null,null,null,null,null,null,null,null,null,null,null,null,null,null,null,"Автономна Республіка Крим","Верхньозаморське"]
["Укрбізнесбанк","ПАТ \"УКРБІЗНЕСБАНК\"","334969","2014-12-26","2015-04-24",null,null,null,null,null,null,null,null,null,null,null,"Добування природного газу",null,null,null,null,null,null,null,null,null,null,null,null,null,null,null,null,null,null,null,null,null,null,null,null,null,null,null,null,"Автономна Республіка Крим","Верхньокурганне"]
["Укргазпромбанк","ПАТ \"УКРГАЗПРОМБАНК\"","320843","2015-04-08","2015-09-15",null,null,null,null,null,null,null,null,null,null,null,"Добування металевих руд",null,null,null,null,null,null,null,null,null,null,null,null,null,null,null,null,null,null,null,null,null,null,null,null,null,null,null,null,"Автономна Республіка Крим","Верхоріччя"]
["Укрінбанк","ПАТ \"УКРІНБАНК\"","300142","2015-12-25","2016-03-23",null,null,null,null,null,null,null,null,null,null,null,"Добування залізних руд",null,null,null,null,null,null,null,null,null,null,null,null,null,null,null,null,null,null,null,null,null,null,null,null,null,null,null,null,"Автономна Республіка Крим","Вершинне"]
["Унікомбанк","ПАТ \"УНІКОМБАНК\"","335902","2015-10-16","2015-12-04",null,null,null,null,null,null,null,null,null,null,null,"Добування залізних руд",null,null,null,null,null,null,null,null,null,null,null,null,null,null,null,null,null,null,null,null,null,null,null,null,null,null,null,null,"Автономна Республіка Крим","Веселе"]
["УПБ","ПАТ \"УПБ\"","300205","2015-05-29","2015-08-31",null,null,null,null,null,null,null,null,null,null,null,"Добування руд кольорових металів",null,null,null,null,null,null,null,null,null,null,null,null,null,null,null,null,null,null,null,null,null,null,null,null,null,null,null,null,"Автономна Республіка Крим","Веселівка"]
["УФС","ПАТ \"КБ \"УФС\"","377777","2014-08-15","2014-11-13",null,null,null,null,null,null,null,null,null,null,null,"Добування уранових і торієвих руд",null,null,null,null,null,null,null,null,null,null,null,null,null,null,null,null,null,null,null,null,null,null,null,null,null,null,null,null,"Автономна Республіка Крим","Видне"]
["ФІДОБАНК","ПУАТ «ФІДОБАНК»","300175","2016-05-20","2016-07-20",null,null,null,null,null,null,null,null,null,null,null,"Добування руд інших кольорових металів",null,null,null,null,null,null,null,null,null,null,null,null,null,null,null,null,null,null,null,null,null,null,null,null,null,null,null,null,"Автономна Республіка Крим","Виноградне"]
["Фінанси та кредит","АТ \"БАНК \"ФІНАНСИ ТА КРЕДИТ\"","300131","2015-09-18","2015-12-17",null,null,null,null,null,null,null,null,null,null,null,"Добування інших корисних копалин та розроблення кар'єрів",null,null,null,null,null,null,null,null,null,null,null,null,null,null,null,null,null,null,null,null,null,null,null,null,null,null,null,null,"Автономна Республіка Крим","Виноградний"]
["ФІНБАНК","ПАТ \"ФІНБАНК\"","328685","2017-04-07","2017-04-27",null,null,null,null,null,null,null,null,null,null,null,"Добування каменю, піску та глини",null,null,null,null,null,null,null,null,null,null,null,null,null,null,null,null,null,null,null,null,null,null,null,null,null,null,null,null,"Автономна Республіка Крим","Виноградове"]
["Фінростбанк","АТ \"ФІНРОСТБАНК\"","328599","2014-07-16","2014-10-16",null,null,null,null,null,null,null,null,null,null,null,"Добування декоративного та будівельного каменю, вапняку, гіпсу, крейди та глинистого сланцю",null,null,null,null,null,null,null,null,null,null,null,null,null,null,null,null,null,null,null,null,null,null,null,null,null,null,null,null,"Автономна Республіка Крим","Випасне"]
["ФОРТУНА-БАНК","АТ \"ФОРТУНА-БАНК\"","300904","2017-01-27","2017-02-22",null,null,null,null,null,null,null,null,null,null,null,"Добування піску, гравію, глин і каоліну",null,null,null,null,null,null,null,null,null,null,null,null,null,null,null,null,null,null,null,null,null,null,null,null,null,null,null,null,"Автономна Республіка Крим","Високогірне"]
["Форум","ПАТ \"БАНК ФОРУМ\"","322948","2014-03-14","2014-06-16",null,null,null,null,null,null,null,null,null,null,null,"Добування корисних копалин та розроблення кар'єрів, н.в.і.у.",null,null,null,null,null,null,null,null,null,null,null,null,null,null,null,null,null,null,null,null,null,null,null,null,null,null,null,null,"Автономна Республіка Крим","Вишенне"]
["Хрещатик","ПАТ \"КБ \"Хрещатик\"","300670","2016-04-05","2016-06-03",null,null,null,null,null,null,null,null,null,null,null,"Добування мінеральної сировини для хімічної промисловості та виробництва мінеральних добрив",null,null,null,null,null,null,null,null,null,null,null,null,null,null,null,null,null,null,null,null,null,null,null,null,null,null,null,null,"Автономна Республіка Крим","Вишнівка (Вишнівської)"]
["Юніон стандарт банк","ПАТ \"ЮСБ БАНК\"","305987","2015-10-03","2015-12-28",null,null,null,null,null,null,null,null,null,null,null,"Добування торфу",null,null,null,null,null,null,null,null,null,null,null,null,null,null,null,null,null,null,null,null,null,null,null,null,null,null,null,null,"Автономна Республіка Крим","Вишняківка"]
["Родовід","АТ «РОДОВІД БАНК»","321712","2017-12-20","2017-12-20",null,null,null,null,null,null,null,null,null,null,null,"Добування солі",null,null,null,null,null,null,null,null,null,null,null,null,null,null,null,null,null,null,null,null,null,null,null,null,null,null,null,null,"Автономна Республіка Крим","Відважне"]
["ФІНАНСОВА ІНІЦІАТИВА","ПАТ «КБ «ФІНАНСОВА ІНІЦІАТИВА»",380054,null,null,null,null,null,null,null,null,null,null,null,null,null,"Добування інших корисних копалин та розроблення кар'єрів, н.в.і.у.",null,null,null,null,null,null,null,null,null,null,null,null,null,null,null,null,null,null,null,null,null,null,null,null,null,null,null,null,"Автономна Республіка Крим","Відкрите"]
["КБ Преміум","КБ Преміум",339555,null,null,null,null,null,null,null,null,null,null,null,null,null,"Надання допоміжних послуг у сфері добувної промисловості та розроблення кар'єрів",null,null,null,null,null,null,null,null,null,null,null,null,null,null,null,null,null,null,null,null,null,null,null,null,null,null,null,null,"Автономна Республіка Крим","Відрадне"]
["Велес","Велес",322799,null,null,null,null,null,null,null,null,null,null,null,null,null,"Надання допоміжних послуг у сфері добування нафти та природного газу",null,null,null,null,null,null,null,null,null,null,null,null,null,null,null,null,null,null,null,null,null,null,null,null,null,null,null,null,"Автономна Республіка Крим","Відродження"]
["Аркада","Аркада",322335,null,null,null,null,null,null,null,null,null,null,null,null,null,"Надання допоміжних послуг у сфері добування нафти та природного газу",null,null,null,null,null,null,null,null,null,null,null,null,null,null,null,null,null,null,null,null,null,null,null,null,null,null,null,null,"Автономна Республіка Крим","Вікторівка"]
["Місто Банк","Місто Банк",328760,null,null,null,null,null,null,null,null,null,null,null,null,null,"Надання допоміжних послуг у сфері добування інших корисних копалин та розроблення кар'єрів",null,null,null,null,null,null,null,null,null,null,null,null,null,null,null,null,null,null,null,null,null,null,null,null,null,null,null,null,"Автономна Республіка Крим","Віліне"]
["Укркомунбанк","Укркомунбанк",304988,null,null,null,null,null,null,null,null,null,null,null,null,null,"Надання допоміжних послуг у сфері добування інших корисних копалин та розроблення кар'єрів",null,null,null,null,null,null,null,null,null,null,null,null,null,null,null,null,null,null,null,null,null,null,null,null,null,null,null,null,"Автономна Республіка Крим","Вільне"]
["ЧБРР","ЧБРР",384577,null,null,null,null,null,null,null,null,null,null,null,null,null,"Переробна промисловість",null,null,null,null,null,null,null,null,null,null,null,null,null,null,null,null,null,null,null,null,null,null,null,null,null,null,null,null,"Автономна Республіка Крим","Вітвисте (Єрмаковська)"]
["Капітал","ПАТ «АКБ «КАПІТАЛ»",334828,null,null,null,null,null,null,null,null,null,null,null,null,null,"Виробництво харчових продуктів",null,null,null,null,null,null,null,null,null,null,null,null,null,null,null,null,null,null,null,null,null,null,null,null,null,null,null,null,"Автономна Республіка Крим","Вітіне"]
["Земельний Капітал","АТ «КБ «ЗЕМЕЛЬНИЙ КАПІТАЛ»",305880,null,null,null,null,null,null,null,null,null,null,null,null,null,"Виробництво м'яса та м'ясних продуктів",null,null,null,null,null,null,null,null,null,null,null,null,null,null,null,null,null,null,null,null,null,null,null,null,null,null,null,null,"Автономна Республіка Крим","Вітрівка (Виноградівська)"]
[null,null,null,null,null,null,null,null,null,null,null,null,null,null,null,null,"Виробництво м'яса",null,null,null,null,null,null,null,null,null,null,null,null,null,null,null,null,null,null,null,null,null,null,null,null,null,null,null,null,"Автономна Республіка Крим","Вітрянка (Ковильнівська сільська рада)"]
[null,null,null,null,null,null,null,null,null,null,null,null,null,null,null,null,"Виробництво м'яса свійської птиці",null,null,null,null,null,null,null,null,null,null,null,null,null,null,null,null,null,null,null,null,null,null,null,null,null,null,null,null,"Автономна Республіка Крим","Владиславівка"]
[null,null,null,null,null,null,null,null,null,null,null,null,null,null,null,null,"Виробництво м'ясних продуктів",null,null,null,null,null,null,null,null,null,null,null,null,null,null,null,null,null,null,null,null,null,null,null,null,null,null,null,null,"Автономна Республіка Крим","Владне"]
[null,null,null,null,null,null,null,null,null,null,null,null,null,null,null,null,"Перероблення та консервування риби, ракоподібних і молюсків",null,null,null,null,null,null,null,null,null,null,null,null,null,null,null,null,null,null,null,null,null,null,null,null,null,null,null,null,"Автономна Республіка Крим","Внукове"]
[null,null,null,null,null,null,null,null,null,null,null,null,null,null,null,null,"Перероблення та консервування риби, ракоподібних і молюсків",null,null,null,null,null,null,null,null,null,null,null,null,null,null,null,null,null,null,null,null,null,null,null,null,null,null,null,null,"Автономна Республіка Крим","Вогневе (Кольцовська)"]
[null,null,null,null,null,null,null,null,null,null,null,null,null,null,null,null,"Перероблення та консервування фруктів і овочів",null,null,null,null,null,null,null,null,null,null,null,null,null,null,null,null,null,null,null,null,null,null,null,null,null,null,null,null,"Автономна Республіка Крим","Вогні (Кукушкінська сільська рада)"]
[null,null,null,null,null,null,null,null,null,null,null,null,null,null,null,null,"Перероблення та консервування картоплі",null,null,null,null,null,null,null,null,null,null,null,null,null,null,null,null,null,null,null,null,null,null,null,null,null,null,null,null,"Автономна Республіка Крим","Водне"]
[null,null,null,null,null,null,null,null,null,null,null,null,null,null,null,null,"Виробництво фруктових і овочевих соків",null,null,null,null,null,null,null,null,null,null,null,null,null,null,null,null,null,null,null,null,null,null,null,null,null,null,null,null,"Автономна Республіка Крим","Водопійне"]
[null,null,null,null,null,null,null,null,null,null,null,null,null,null,null,null," Інші види перероблення та консервування фруктів і овочів",null,null,null,null,null,null,null,null,null,null,null,null,null,null,null,null,null,null,null,null,null,null,null,null,null,null,null,null,"Автономна Республіка Крим","Водопійне (Сизівська)"]
[null,null,null,null,null,null,null,null,null,null,null,null,null,null,null,null,"Виробництво олії та тваринних жирів",null,null,null,null,null,null,null,null,null,null,null,null,null,null,null,null,null,null,null,null,null,null,null,null,null,null,null,null,"Автономна Республіка Крим","Войкове"]
[null,null,null,null,null,null,null,null,null,null,null,null,null,null,null,null,"Виробництво олії та тваринних жирів",null,null,null,null,null,null,null,null,null,null,null,null,null,null,null,null,null,null,null,null,null,null,null,null,null,null,null,null,"Автономна Республіка Крим","Воїнка (Воїнська)"]
[null,null,null,null,null,null,null,null,null,null,null,null,null,null,null,null,"Виробництво маргарину і подібних харчових жирів",null,null,null,null,null,null,null,null,null,null,null,null,null,null,null,null,null,null,null,null,null,null,null,null,null,null,null,null,"Автономна Республіка Крим","Володимирівка"]
[null,null,null,null,null,null,null,null,null,null,null,null,null,null,null,null,"Виробництво молочних продуктів",null,null,null,null,null,null,null,null,null,null,null,null,null,null,null,null,null,null,null,null,null,null,null,null,null,null,null,null,"Автономна Республіка Крим","Володимирове"]
[null,null,null,null,null,null,null,null,null,null,null,null,null,null,null,null,"Перероблення молока, виробництво масла та сиру",null,null,null,null,null,null,null,null,null,null,null,null,null,null,null,null,null,null,null,null,null,null,null,null,null,null,null,null,"Автономна Республіка Крим","Володине"]
[null,null,null,null,null,null,null,null,null,null,null,null,null,null,null,null,"Виробництво морозива",null,null,null,null,null,null,null,null,null,null,null,null,null,null,null,null,null,null,null,null,null,null,null,null,null,null,null,null,"Автономна Республіка Крим","Волочаївка (Ковильнівська сільська рада)"]
[null,null,null,null,null,null,null,null,null,null,null,null,null,null,null,null,"Виробництво продуктів борошномельно-круп'яної промисловості, крохмалів та крохмальних продуктів",null,null,null,null,null,null,null,null,null,null,null,null,null,null,null,null,null,null,null,null,null,null,null,null,null,null,null,null,"Автономна Республіка Крим","Волошине (Суворівської)"]
[null,null,null,null,null,null,null,null,null,null,null,null,null,null,null,null,"Виробництво продуктів борошномельно-круп'яної промисловості",null,null,null,null,null,null,null,null,null,null,null,null,null,null,null,null,null,null,null,null,null,null,null,null,null,null,null,null,"Автономна Республіка Крим","Воробйове"]
[null,null,null,null,null,null,null,null,null,null,null,null,null,null,null,null,"Виробництво крохмалів та крохмальних продуктів",null,null,null,null,null,null,null,null,null,null,null,null,null,null,null,null,null,null,null,null,null,null,null,null,null,null,null,null,"Автономна Республіка Крим","Ворон"]
[null,null,null,null,null,null,null,null,null,null,null,null,null,null,null,null,"Виробництво хліба, хлібобулочних і борошняних виробів",null,null,null,null,null,null,null,null,null,null,null,null,null,null,null,null,null,null,null,null,null,null,null,null,null,null,null,null,"Автономна Республіка Крим","Воронки (Зиминська сільська рада)"]
[null,null,null,null,null,null,null,null,null,null,null,null,null,null,null,null,"Виробництво хліба та хлібобулочних виробів; виробництво борошняних кондитерських виробів, тортів і тістечок нетривалого зберігання",null,null,null,null,null,null,null,null,null,null,null,null,null,null,null,null,null,null,null,null,null,null,null,null,null,null,null,null,"Автономна Республіка Крим","Воронцівка (Ільїнської)"]
[null,null,null,null,null,null,null,null,null,null,null,null,null,null,null,null,"Виробництво сухарів і сухого печива; виробництво борошняних кондитерських виробів, тортів і тістечок тривалого зберігання",null,null,null,null,null,null,null,null,null,null,null,null,null,null,null,null,null,null,null,null,null,null,null,null,null,null,null,null,"Автономна Республіка Крим","Восточне"]
[null,null,null,null,null,null,null,null,null,null,null,null,null,null,null,null,"Виробництво макаронних виробів та подібних борошняних виробів",null,null,null,null,null,null,null,null,null,null,null,null,null,null,null,null,null,null,null,null,null,null,null,null,null,null,null,null,"Автономна Республіка Крим","Восход"]
[null,null,null,null,null,null,null,null,null,null,null,null,null,null,null,null,"Виробництво інших харчових продуктів",null,null,null,null,null,null,null,null,null,null,null,null,null,null,null,null,null,null,null,null,null,null,null,null,null,null,null,null,"Автономна Республіка Крим","Вузлове"]
[null,null,null,null,null,null,null,null,null,null,null,null,null,null,null,null,"Виробництво цукру",null,null,null,null,null,null,null,null,null,null,null,null,null,null,null,null,null,null,null,null,null,null,null,null,null,null,null,null,"Автономна Республіка Крим","Вулканівка"]
[null,null,null,null,null,null,null,null,null,null,null,null,null,null,null,null,"Виробництво какао, шоколаду та цукрових кондитерських виробів",null,null,null,null,null,null,null,null,null,null,null,null,null,null,null,null,null,null,null,null,null,null,null,null,null,null,null,null,"Автономна Республіка Крим","В'язникове"]
[null,null,null,null,null,null,null,null,null,null,null,null,null,null,null,null,"Виробництво чаю та кави",null,null,null,null,null,null,null,null,null,null,null,null,null,null,null,null,null,null,null,null,null,null,null,null,null,null,null,null,"Автономна Республіка Крим","Гаршине"]
[null,null,null,null,null,null,null,null,null,null,null,null,null,null,null,null,"Виробництво прянощів і приправ",null,null,null,null,null,null,null,null,null,null,null,null,null,null,null,null,null,null,null,null,null,null,null,null,null,null,null,null,"Автономна Республіка Крим","Гаспра"]
[null,null,null,null,null,null,null,null,null,null,null,null,null,null,null,null,"Виробництво готової їжі та страв",null,null,null,null,null,null,null,null,null,null,null,null,null,null,null,null,null,null,null,null,null,null,null,null,null,null,null,null,"Автономна Республіка Крим","Гвардійське (Гвардійської)"]
[null,null,null,null,null,null,null,null,null,null,null,null,null,null,null,null,"Виробництво дитячого харчування та дієтичних харчових продуктів",null,null,null,null,null,null,null,null,null,null,null,null,null,null,null,null,null,null,null,null,null,null,null,null,null,null,null,null,"Автономна Республіка Крим","Генеральське"]
[null,null,null,null,null,null,null,null,null,null,null,null,null,null,null,null,"Виробництво інших харчових продуктів, н.в.і.у.",null,null,null,null,null,null,null,null,null,null,null,null,null,null,null,null,null,null,null,null,null,null,null,null,null,null,null,null,"Автономна Республіка Крим","Геройське"]
[null,null,null,null,null,null,null,null,null,null,null,null,null,null,null,null,"Виробництво готових кормів для тварин",null,null,null,null,null,null,null,null,null,null,null,null,null,null,null,null,null,null,null,null,null,null,null,null,null,null,null,null,"Автономна Республіка Крим","Гірне"]
[null,null,null,null,null,null,null,null,null,null,null,null,null,null,null,null,"Виробництво готових кормів для тварин, що утримуються на фермах",null,null,null,null,null,null,null,null,null,null,null,null,null,null,null,null,null,null,null,null,null,null,null,null,null,null,null,null,"Автономна Республіка Крим","Глазівка"]
[null,null,null,null,null,null,null,null,null,null,null,null,null,null,null,null,"Виробництво готових кормів для домашніх тварин",null,null,null,null,null,null,null,null,null,null,null,null,null,null,null,null,null,null,null,null,null,null,null,null,null,null,null,null,"Автономна Республіка Крим","Глибокий Яр"]
[null,null,null,null,null,null,null,null,null,null,null,null,null,null,null,null,"Виробництво напоїв",null,null,null,null,null,null,null,null,null,null,null,null,null,null,null,null,null,null,null,null,null,null,null,null,null,null,null,null,"Автономна Республіка Крим","Глінка (Вересаєвська сільська рада)"]
[null,null,null,null,null,null,null,null,null,null,null,null,null,null,null,null,"Виробництво напоїв",null,null,null,null,null,null,null,null,null,null,null,null,null,null,null,null,null,null,null,null,null,null,null,null,null,null,null,null,"Автономна Республіка Крим","Голованівка"]
[null,null,null,null,null,null,null,null,null,null,null,null,null,null,null,null,"Дистиляція, ректифікація та змішування спиртних напоїв",null,null,null,null,null,null,null,null,null,null,null,null,null,null,null,null,null,null,null,null,null,null,null,null,null,null,null,null,"Автономна Республіка Крим","Голуба Затока"]
[null,null,null,null,null,null,null,null,null,null,null,null,null,null,null,null,"Виробництво виноградних вин",null,null,null,null,null,null,null,null,null,null,null,null,null,null,null,null,null,null,null,null,null,null,null,null,null,null,null,null,"Автономна Республіка Крим","Голубинка"]
[null,null,null,null,null,null,null,null,null,null,null,null,null,null,null,null,"Виробництво сидру та інших плодово-ягідних вин",null,null,null,null,null,null,null,null,null,null,null,null,null,null,null,null,null,null,null,null,null,null,null,null,null,null,null,null,"Автономна Республіка Крим","Горлинка"]
[null,null,null,null,null,null,null,null,null,null,null,null,null,null,null,null,"Виробництво інших недистильованих напоїв із зброджуваних продуктів",null,null,null,null,null,null,null,null,null,null,null,null,null,null,null,null,null,null,null,null,null,null,null,null,null,null,null,null,"Автономна Республіка Крим","Горностаївка"]
[null,null,null,null,null,null,null,null,null,null,null,null,null,null,null,null,"Виробництво пива",null,null,null,null,null,null,null,null,null,null,null,null,null,null,null,null,null,null,null,null,null,null,null,null,null,null,null,null,"Автономна Республіка Крим","Городнє (Руч'ївська сільська рада)"]
[null,null,null,null,null,null,null,null,null,null,null,null,null,null,null,null,"Виробництво солоду",null,null,null,null,null,null,null,null,null,null,null,null,null,null,null,null,null,null,null,null,null,null,null,null,null,null,null,null,"Автономна Республіка Крим","Гресівський"]
[null,null,null,null,null,null,null,null,null,null,null,null,null,null,null,null,"Виробництво безалкогольних напоїв; виробництво мінеральних вод та інших вод, розлитих у пляшки",null,null,null,null,null,null,null,null,null,null,null,null,null,null,null,null,null,null,null,null,null,null,null,null,null,null,null,null,"Автономна Республіка Крим","Григорівка"]
[null,null,null,null,null,null,null,null,null,null,null,null,null,null,null,null,"Виробництво тютюнових виробів",null,null,null,null,null,null,null,null,null,null,null,null,null,null,null,null,null,null,null,null,null,null,null,null,null,null,null,null,"Автономна Республіка Крим","Гришине (Гришинської)"]
[null,null,null,null,null,null,null,null,null,null,null,null,null,null,null,null,"Виробництво тютюнових виробів",null,null,null,null,null,null,null,null,null,null,null,null,null,null,null,null,null,null,null,null,null,null,null,null,null,null,null,null,"Автономна Республіка Крим","Громівка"]
[null,null,null,null,null,null,null,null,null,null,null,null,null,null,null,null,"Виробництво тютюнових виробів",null,null,null,null,null,null,null,null,null,null,null,null,null,null,null,null,null,null,null,null,null,null,null,null,null,null,null,null,"Автономна Республіка Крим","Громове"]
[null,null,null,null,null,null,null,null,null,null,null,null,null,null,null,null,"Текстильне виробництво",null,null,null,null,null,null,null,null,null,null,null,null,null,null,null,null,null,null,null,null,null,null,null,null,null,null,null,null,"Автономна Республіка Крим","Громовка"]
[null,null,null,null,null,null,null,null,null,null,null,null,null,null,null,null,"Підготування та прядіння текстильних волокон",null,null,null,null,null,null,null,null,null,null,null,null,null,null,null,null,null,null,null,null,null,null,null,null,null,null,null,null,"Автономна Республіка Крим","Грушеве"]
[null,null,null,null,null,null,null,null,null,null,null,null,null,null,null,null,"Підготування та прядіння текстильних волокон",null,null,null,null,null,null,null,null,null,null,null,null,null,null,null,null,null,null,null,null,null,null,null,null,null,null,null,null,"Автономна Республіка Крим","Грушівка"]
[null,null,null,null,null,null,null,null,null,null,null,null,null,null,null,null,"Ткацьке виробництво",null,null,null,null,null,null,null,null,null,null,null,null,null,null,null,null,null,null,null,null,null,null,null,null,null,null,null,null,"Автономна Республіка Крим","Гурзуф"]
[null,null,null,null,null,null,null,null,null,null,null,null,null,null,null,null,"Ткацьке виробництво",null,null,null,null,null,null,null,null,null,null,null,null,null,null,null,null,null,null,null,null,null,null,null,null,null,null,null,null,"Автономна Республіка Крим","Давидове"]
[null,null,null,null,null,null,null,null,null,null,null,null,null,null,null,null,"Оздоблення текстильних виробів",null,null,null,null,null,null,null,null,null,null,null,null,null,null,null,null,null,null,null,null,null,null,null,null,null,null,null,null,"Автономна Республіка Крим","Далеке"]
[null,null,null,null,null,null,null,null,null,null,null,null,null,null,null,null,"Оздоблення текстильних виробів",null,null,null,null,null,null,null,null,null,null,null,null,null,null,null,null,null,null,null,null,null,null,null,null,null,null,null,null,"Автономна Республіка Крим","Данилівка"]
[null,null,null,null,null,null,null,null,null,null,null,null,null,null,null,null,"Виробництво інших текстильних виробів",null,null,null,null,null,null,null,null,null,null,null,null,null,null,null,null,null,null,null,null,null,null,null,null,null,null,null,null,"Автономна Республіка Крим","Дачне"]
[null,null,null,null,null,null,null,null,null,null,null,null,null,null,null,null,"Виробництво трикотажного полотна",null,null,null,null,null,null,null,null,null,null,null,null,null,null,null,null,null,null,null,null,null,null,null,null,null,null,null,null,"Автономна Республіка Крим","Дворіччя"]
[null,null,null,null,null,null,null,null,null,null,null,null,null,null,null,null,"Виробництво готових текстильних виробів, крім одягу",null,null,null,null,null,null,null,null,null,null,null,null,null,null,null,null,null,null,null,null,null,null,null,null,null,null,null,null,"Автономна Республіка Крим","Дворове"]
[null,null,null,null,null,null,null,null,null,null,null,null,null,null,null,null,"Виробництво килимів і килимових виробів",null,null,null,null,null,null,null,null,null,null,null,null,null,null,null,null,null,null,null,null,null,null,null,null,null,null,null,null,"Автономна Республіка Крим","Дем'янівка"]
[null,null,null,null,null,null,null,null,null,null,null,null,null,null,null,null,"Виробництво канатів, мотузок, шпагату та сіток",null,null,null,null,null,null,null,null,null,null,null,null,null,null,null,null,null,null,null,null,null,null,null,null,null,null,null,null,"Автономна Республіка Крим","Денисівка"]
[null,null,null,null,null,null,null,null,null,null,null,null,null,null,null,null,"Виробництво нетканих текстильних матеріалів та виробів із них, крім одягу",null,null,null,null,null,null,null,null,null,null,null,null,null,null,null,null,null,null,null,null,null,null,null,null,null,null,null,null,"Автономна Республіка Крим","Джанкой"]
[null,null,null,null,null,null,null,null,null,null,null,null,null,null,null,null,"Виробництво інших текстильних виробів технічного та промислового призначення",null,null,null,null,null,null,null,null,null,null,null,null,null,null,null,null,null,null,null,null,null,null,null,null,null,null,null,null,"Автономна Республіка Крим","Дивне"]
[null,null,null,null,null,null,null,null,null,null,null,null,null,null,null,null,"Виробництво інших текстильних виробів, н.в.і.у.",null,null,null,null,null,null,null,null,null,null,null,null,null,null,null,null,null,null,null,null,null,null,null,null,null,null,null,null,"Автономна Республіка Крим","Дібрівка"]
[null,null,null,null,null,null,null,null,null,null,null,null,null,null,null,null,"Виробництво одягу",null,null,null,null,null,null,null,null,null,null,null,null,null,null,null,null,null,null,null,null,null,null,null,null,null,null,null,null,"Автономна Республіка Крим","Дібрівське"]
[null,null,null,null,null,null,null,null,null,null,null,null,null,null,null,null,"Виробництво одягу, крім хутряного",null,null,null,null,null,null,null,null,null,null,null,null,null,null,null,null,null,null,null,null,null,null,null,null,null,null,null,null,"Автономна Республіка Крим","Дмитрівка"]
[null,null,null,null,null,null,null,null,null,null,null,null,null,null,null,null,"Виробництво одягу зі шкіри",null,null,null,null,null,null,null,null,null,null,null,null,null,null,null,null,null,null,null,null,null,null,null,null,null,null,null,null,"Автономна Республіка Крим","Дмитрівка (Войковське)"]
[null,null,null,null,null,null,null,null,null,null,null,null,null,null,null,null,"Виробництво робочого одягу",null,null,null,null,null,null,null,null,null,null,null,null,null,null,null,null,null,null,null,null,null,null,null,null,null,null,null,null,"Автономна Республіка Крим","Дмитрове"]
[null,null,null,null,null,null,null,null,null,null,null,null,null,null,null,null,"Виробництво іншого верхнього одягу",null,null,null,null,null,null,null,null,null,null,null,null,null,null,null,null,null,null,null,null,null,null,null,null,null,null,null,null,"Автономна Республіка Крим","Дніпровка"]
[null,null,null,null,null,null,null,null,null,null,null,null,null,null,null,null,"Виробництво спіднього одягу",null,null,null,null,null,null,null,null,null,null,null,null,null,null,null,null,null,null,null,null,null,null,null,null,null,null,null,null,"Автономна Республіка Крим","Добре"]
[null,null,null,null,null,null,null,null,null,null,null,null,null,null,null,null,"Виробництво іншого одягу й аксесуарів",null,null,null,null,null,null,null,null,null,null,null,null,null,null,null,null,null,null,null,null,null,null,null,null,null,null,null,null,"Автономна Республіка Крим","Добролюбовка"]
[null,null,null,null,null,null,null,null,null,null,null,null,null,null,null,null,"Виготовлення виробів із хутра",null,null,null,null,null,null,null,null,null,null,null,null,null,null,null,null,null,null,null,null,null,null,null,null,null,null,null,null,"Автономна Республіка Крим","Добрушине"]
[null,null,null,null,null,null,null,null,null,null,null,null,null,null,null,null,"Виготовлення виробів із хутра",null,null,null,null,null,null,null,null,null,null,null,null,null,null,null,null,null,null,null,null,null,null,null,null,null,null,null,null,"Автономна Республіка Крим","Дозорне"]
[null,null,null,null,null,null,null,null,null,null,null,null,null,null,null,null,"Виробництво трикотажного та в'язаного одягу",null,null,null,null,null,null,null,null,null,null,null,null,null,null,null,null,null,null,null,null,null,null,null,null,null,null,null,null,"Автономна Республіка Крим","Докучаєве"]
[null,null,null,null,null,null,null,null,null,null,null,null,null,null,null,null,"Виробництво панчішно-шкарпеткових виробів",null,null,null,null,null,null,null,null,null,null,null,null,null,null,null,null,null,null,null,null,null,null,null,null,null,null,null,null,"Автономна Республіка Крим","Долинівка"]
[null,null,null,null,null,null,null,null,null,null,null,null,null,null,null,null,"Виробництво іншого трикотажного та в'язаного одягу",null,null,null,null,null,null,null,null,null,null,null,null,null,null,null,null,null,null,null,null,null,null,null,null,null,null,null,null,"Автономна Республіка Крим","Долинка (Митяївська)"]
[null,null,null,null,null,null,null,null,null,null,null,null,null,null,null,null,"Виробництво шкіри, виробів зі шкіри та інших матеріалів",null,null,null,null,null,null,null,null,null,null,null,null,null,null,null,null,null,null,null,null,null,null,null,null,null,null,null,null,"Автономна Республіка Крим","Долинка (Новопавлівської)"]
[null,null,null,null,null,null,null,null,null,null,null,null,null,null,null,null,"Дублення шкур і оздоблення шкіри; виробництво дорожніх виробів, сумок, лимарно-сідельних виробів; вичинка та фарбування хутра",null,null,null,null,null,null,null,null,null,null,null,null,null,null,null,null,null,null,null,null,null,null,null,null,null,null,null,null,"Автономна Республіка Крим","Долинне"]
[null,null,null,null,null,null,null,null,null,null,null,null,null,null,null,null,"Дублення шкур і оздоблення шкіри; вичинка та фарбування хутра",null,null,null,null,null,null,null,null,null,null,null,null,null,null,null,null,null,null,null,null,null,null,null,null,null,null,null,null,"Автономна Республіка Крим","Донське"]
[null,null,null,null,null,null,null,null,null,null,null,null,null,null,null,null,"Виробництво дорожніх виробів, сумок, лимарно-сідельних виробів зі шкіри та інших матеріалів",null,null,null,null,null,null,null,null,null,null,null,null,null,null,null,null,null,null,null,null,null,null,null,null,null,null,null,null,"Автономна Республіка Крим","Дорожнє"]
[null,null,null,null,null,null,null,null,null,null,null,null,null,null,null,null,"Виробництво взуття",null,null,null,null,null,null,null,null,null,null,null,null,null,null,null,null,null,null,null,null,null,null,null,null,null,null,null,null,"Автономна Республіка Крим","Доходне"]
[null,null,null,null,null,null,null,null,null,null,null,null,null,null,null,null,"Виробництво взуття",null,null,null,null,null,null,null,null,null,null,null,null,null,null,null,null,null,null,null,null,null,null,null,null,null,null,null,null,"Автономна Республіка Крим","Дрофине"]
[null,null,null,null,null,null,null,null,null,null,null,null,null,null,null,null,"Оброблення деревини та виготовлення виробів з деревини та корка, крім меблів; виготовлення виробів із соломки та рослинних матеріалів для плетіння",null,null,null,null,null,null,null,null,null,null,null,null,null,null,null,null,null,null,null,null,null,null,null,null,null,null,null,null,"Автономна Республіка Крим","Дружне"]
[null,null,null,null,null,null,null,null,null,null,null,null,null,null,null,null,"Лісопильне та стругальне виробництво",null,null,null,null,null,null,null,null,null,null,null,null,null,null,null,null,null,null,null,null,null,null,null,null,null,null,null,null,"Автономна Республіка Крим","Дубки"]
[null,null,null,null,null,null,null,null,null,null,null,null,null,null,null,null,"Лісопильне та стругальне виробництво",null,null,null,null,null,null,null,null,null,null,null,null,null,null,null,null,null,null,null,null,null,null,null,null,null,null,null,null,"Автономна Республіка Крим","Дятлівка"]
[null,null,null,null,null,null,null,null,null,null,null,null,null,null,null,null,"Виготовлення виробів з деревини, корка, соломки та рослинних матеріалів для плетіння",null,null,null,null,null,null,null,null,null,null,null,null,null,null,null,null,null,null,null,null,null,null,null,null,null,null,null,null,"Автономна Республіка Крим","Євпаторія"]
[null,null,null,null,null,null,null,null,null,null,null,null,null,null,null,null,"Виробництво фанери, дерев'яних плит і панелей, шпону",null,null,null,null,null,null,null,null,null,null,null,null,null,null,null,null,null,null,null,null,null,null,null,null,null,null,null,null,"Автономна Республіка Крим","Єгорове"]
[null,null,null,null,null,null,null,null,null,null,null,null,null,null,null,null,"Виробництво щитового паркету",null,null,null,null,null,null,null,null,null,null,null,null,null,null,null,null,null,null,null,null,null,null,null,null,null,null,null,null,"Автономна Республіка Крим","Єлизаветове"]
[null,null,null,null,null,null,null,null,null,null,null,null,null,null,null,null,"Виробництво інших дерев'яних будівельних конструкцій і столярних виробів",null,null,null,null,null,null,null,null,null,null,null,null,null,null,null,null,null,null,null,null,null,null,null,null,null,null,null,null,"Автономна Республіка Крим","Єрмакове"]
[null,null,null,null,null,null,null,null,null,null,null,null,null,null,null,null,"Виробництво дерев'яної тари",null,null,null,null,null,null,null,null,null,null,null,null,null,null,null,null,null,null,null,null,null,null,null,null,null,null,null,null,"Автономна Республіка Крим","Єрофєєве"]
[null,null,null,null,null,null,null,null,null,null,null,null,null,null,null,null,"Виробництво інших виробів з деревини; виготовлення виробів з корка, соломки та рослинних матеріалів для плетіння",null,null,null,null,null,null,null,null,null,null,null,null,null,null,null,null,null,null,null,null,null,null,null,null,null,null,null,null,"Автономна Республіка Крим","Жайворонки"]
[null,null,null,null,null,null,null,null,null,null,null,null,null,null,null,null,"Виробництво паперу та паперових виробів",null,null,null,null,null,null,null,null,null,null,null,null,null,null,null,null,null,null,null,null,null,null,null,null,null,null,null,null,"Автономна Республіка Крим","Желябовка"]
[null,null,null,null,null,null,null,null,null,null,null,null,null,null,null,null,"Виробництво паперової маси, паперу та картону",null,null,null,null,null,null,null,null,null,null,null,null,null,null,null,null,null,null,null,null,null,null,null,null,null,null,null,null,"Автономна Республіка Крим","Жемчужина"]
[null,null,null,null,null,null,null,null,null,null,null,null,null,null,null,null,"Виробництво паперової маси",null,null,null,null,null,null,null,null,null,null,null,null,null,null,null,null,null,null,null,null,null,null,null,null,null,null,null,null,"Автономна Республіка Крим","Жемчужина Криму"]
[null,null,null,null,null,null,null,null,null,null,null,null,null,null,null,null,"Виробництво паперу та картону",null,null,null,null,null,null,null,null,null,null,null,null,null,null,null,null,null,null,null,null,null,null,null,null,null,null,null,null,"Автономна Республіка Крим","Живописне"]
[null,null,null,null,null,null,null,null,null,null,null,null,null,null,null,null,"Виготовлення виробів з паперу та картону",null,null,null,null,null,null,null,null,null,null,null,null,null,null,null,null,null,null,null,null,null,null,null,null,null,null,null,null,"Автономна Республіка Крим","Жилине"]
[null,null,null,null,null,null,null,null,null,null,null,null,null,null,null,null,"Виробництво гофрованого паперу та картону, паперової та картонної тари",null,null,null,null,null,null,null,null,null,null,null,null,null,null,null,null,null,null,null,null,null,null,null,null,null,null,null,null,"Автономна Республіка Крим","Жовтокам'янка (Суворовська)"]
[null,null,null,null,null,null,null,null,null,null,null,null,null,null,null,null,"Виробництво паперових виробів господарсько-побутового та санітарно-гігієнічного призначення",null,null,null,null,null,null,null,null,null,null,null,null,null,null,null,null,null,null,null,null,null,null,null,null,null,null,null,null,"Автономна Республіка Крим","Журавки"]
[null,null,null,null,null,null,null,null,null,null,null,null,null,null,null,null,"Виробництво паперових канцелярських  виробів",null,null,null,null,null,null,null,null,null,null,null,null,null,null,null,null,null,null,null,null,null,null,null,null,null,null,null,null,"Автономна Республіка Крим","Журавлі"]
[null,null,null,null,null,null,null,null,null,null,null,null,null,null,null,null,"Виробництво шпалер",null,null,null,null,null,null,null,null,null,null,null,null,null,null,null,null,null,null,null,null,null,null,null,null,null,null,null,null,"Автономна Республіка Крим","Журавлівка"]
[null,null,null,null,null,null,null,null,null,null,null,null,null,null,null,null,"Виробництво інших виробів з паперу та картону",null,null,null,null,null,null,null,null,null,null,null,null,null,null,null,null,null,null,null,null,null,null,null,null,null,null,null,null,"Автономна Республіка Крим","Завіт-Ленінський"]
[null,null,null,null,null,null,null,null,null,null,null,null,null,null,null,null,"Поліграфічна діяльність, тиражування записаної інформації",null,null,null,null,null,null,null,null,null,null,null,null,null,null,null,null,null,null,null,null,null,null,null,null,null,null,null,null,"Автономна Республіка Крим","Завітне"]
[null,null,null,null,null,null,null,null,null,null,null,null,null,null,null,null,"Поліграфічна діяльність і надання пов'язаних із нею послуг",null,null,null,null,null,null,null,null,null,null,null,null,null,null,null,null,null,null,null,null,null,null,null,null,null,null,null,null,"Автономна Республіка Крим","Заводське"]
[null,null,null,null,null,null,null,null,null,null,null,null,null,null,null,null,"Друкування газет",null,null,null,null,null,null,null,null,null,null,null,null,null,null,null,null,null,null,null,null,null,null,null,null,null,null,null,null,"Автономна Республіка Крим","Задорне"]
[null,null,null,null,null,null,null,null,null,null,null,null,null,null,null,null,"Друкування іншої продукції",null,null,null,null,null,null,null,null,null,null,null,null,null,null,null,null,null,null,null,null,null,null,null,null,null,null,null,null,"Автономна Республіка Крим","Зайцеве"]
[null,null,null,null,null,null,null,null,null,null,null,null,null,null,null,null,"Виготовлення друкарських форм і надання інших поліграфічних послуг",null,null,null,null,null,null,null,null,null,null,null,null,null,null,null,null,null,null,null,null,null,null,null,null,null,null,null,null,"Автономна Республіка Крим","Заливне"]
[null,null,null,null,null,null,null,null,null,null,null,null,null,null,null,null,"Брошурувально-палітурна діяльність і надання пов'язаних із нею послуг",null,null,null,null,null,null,null,null,null,null,null,null,null,null,null,null,null,null,null,null,null,null,null,null,null,null,null,null,"Автономна Республіка Крим","Залізничне"]
[null,null,null,null,null,null,null,null,null,null,null,null,null,null,null,null,"Тиражування звуко-, відеозаписів і програмного забезпечення",null,null,null,null,null,null,null,null,null,null,null,null,null,null,null,null,null,null,null,null,null,null,null,null,null,null,null,null,"Автономна Республіка Крим","Залісне"]
[null,null,null,null,null,null,null,null,null,null,null,null,null,null,null,null,"Тиражування звуко-, відеозаписів і програмного забезпечення",null,null,null,null,null,null,null,null,null,null,null,null,null,null,null,null,null,null,null,null,null,null,null,null,null,null,null,null,"Автономна Республіка Крим","Залісся"]
[null,null,null,null,null,null,null,null,null,null,null,null,null,null,null,null,"Виробництво коксу та продуктів нафтоперероблення",null,null,null,null,null,null,null,null,null,null,null,null,null,null,null,null,null,null,null,null,null,null,null,null,null,null,null,null,"Автономна Республіка Крим","Заозерне"]
[null,null,null,null,null,null,null,null,null,null,null,null,null,null,null,null,"Виробництво коксу та коксопродуктів",null,null,null,null,null,null,null,null,null,null,null,null,null,null,null,null,null,null,null,null,null,null,null,null,null,null,null,null,"Автономна Республіка Крим","Запрудне"]
[null,null,null,null,null,null,null,null,null,null,null,null,null,null,null,null,"Виробництво коксу та коксопродуктів",null,null,null,null,null,null,null,null,null,null,null,null,null,null,null,null,null,null,null,null,null,null,null,null,null,null,null,null,"Автономна Республіка Крим","Зарічне"]
[null,null,null,null,null,null,null,null,null,null,null,null,null,null,null,null,"Виробництво продуктів нафтоперероблення",null,null,null,null,null,null,null,null,null,null,null,null,null,null,null,null,null,null,null,null,null,null,null,null,null,null,null,null,"Автономна Республіка Крим","Заріччя"]
[null,null,null,null,null,null,null,null,null,null,null,null,null,null,null,null,"Виробництво продуктів нафтоперероблення",null,null,null,null,null,null,null,null,null,null,null,null,null,null,null,null,null,null,null,null,null,null,null,null,null,null,null,null,"Автономна Республіка Крим","Затишне"]
[null,null,null,null,null,null,null,null,null,null,null,null,null,null,null,null,"Виробництво хімічних речовин і хімічної продукції",null,null,null,null,null,null,null,null,null,null,null,null,null,null,null,null,null,null,null,null,null,null,null,null,null,null,null,null,"Автономна Республіка Крим","Звіздне"]
[null,null,null,null,null,null,null,null,null,null,null,null,null,null,null,null,"Виробництво основної хімічної продукції, добрив і азотних сполук, пластмас і синтетичного каучуку в первинних формах",null,null,null,null,null,null,null,null,null,null,null,null,null,null,null,null,null,null,null,null,null,null,null,null,null,null,null,null,"Автономна Республіка Крим","Зелена Нива (Вишнівської)"]
[null,null,null,null,null,null,null,null,null,null,null,null,null,null,null,null,"Виробництво промислових газів",null,null,null,null,null,null,null,null,null,null,null,null,null,null,null,null,null,null,null,null,null,null,null,null,null,null,null,null,"Автономна Республіка Крим","Зелене"]
[null,null,null,null,null,null,null,null,null,null,null,null,null,null,null,null,"Виробництво барвників і пігментів",null,null,null,null,null,null,null,null,null,null,null,null,null,null,null,null,null,null,null,null,null,null,null,null,null,null,null,null,"Автономна Республіка Крим","Зелений Яр"]
[null,null,null,null,null,null,null,null,null,null,null,null,null,null,null,null,"Виробництво інших основних неорганічних хімічних речовин",null,null,null,null,null,null,null,null,null,null,null,null,null,null,null,null,null,null,null,null,null,null,null,null,null,null,null,null,"Автономна Республіка Крим","Зеленогірське"]
[null,null,null,null,null,null,null,null,null,null,null,null,null,null,null,null,"Виробництво інших основних органічних хімічних речовин",null,null,null,null,null,null,null,null,null,null,null,null,null,null,null,null,null,null,null,null,null,null,null,null,null,null,null,null,"Автономна Республіка Крим","Зеленогір'я"]
[null,null,null,null,null,null,null,null,null,null,null,null,null,null,null,null,"Виробництво добрив і азотних сполук",null,null,null,null,null,null,null,null,null,null,null,null,null,null,null,null,null,null,null,null,null,null,null,null,null,null,null,null,"Автономна Республіка Крим","Земляничне"]
[null,null,null,null,null,null,null,null,null,null,null,null,null,null,null,null,"Виробництво пластмас у первинних формах",null,null,null,null,null,null,null,null,null,null,null,null,null,null,null,null,null,null,null,null,null,null,null,null,null,null,null,null,"Автономна Республіка Крим","Зернове"]
[null,null,null,null,null,null,null,null,null,null,null,null,null,null,null,null,"Виробництво синтетичного каучуку в первинних формах",null,null,null,null,null,null,null,null,null,null,null,null,null,null,null,null,null,null,null,null,null,null,null,null,null,null,null,null,"Автономна Республіка Крим","Зибини"]
[null,null,null,null,null,null,null,null,null,null,null,null,null,null,null,null,"Виробництво пестицидів та іншої агрохімічної продукції",null,null,null,null,null,null,null,null,null,null,null,null,null,null,null,null,null,null,null,null,null,null,null,null,null,null,null,null,"Автономна Республіка Крим","Зимине"]
[null,null,null,null,null,null,null,null,null,null,null,null,null,null,null,null,"Виробництво пестицидів та іншої агрохімічної продукції",null,null,null,null,null,null,null,null,null,null,null,null,null,null,null,null,null,null,null,null,null,null,null,null,null,null,null,null,"Автономна Республіка Крим","Знам'янка"]
[null,null,null,null,null,null,null,null,null,null,null,null,null,null,null,null,"Виробництво фарб, лаків і подібної продукції, друкарської фарби та мастик",null,null,null,null,null,null,null,null,null,null,null,null,null,null,null,null,null,null,null,null,null,null,null,null,null,null,null,null,"Автономна Республіка Крим","Знам'янка (Орлівської)"]
[null,null,null,null,null,null,null,null,null,null,null,null,null,null,null,null,"Виробництво фарб, лаків і подібної продукції, друкарської фарби та мастик",null,null,null,null,null,null,null,null,null,null,null,null,null,null,null,null,null,null,null,null,null,null,null,null,null,null,null,null,"Автономна Республіка Крим","Знам'янське"]
[null,null,null,null,null,null,null,null,null,null,null,null,null,null,null,null,"Виробництво мила та мийних засобів, засобів для чищення та полірування, парфумних і косметичних засобів",null,null,null,null,null,null,null,null,null,null,null,null,null,null,null,null,null,null,null,null,null,null,null,null,null,null,null,null,"Автономна Республіка Крим","Золоте"]
[null,null,null,null,null,null,null,null,null,null,null,null,null,null,null,null,"Виробництво мила та мийних засобів, засобів для чищення та полірування",null,null,null,null,null,null,null,null,null,null,null,null,null,null,null,null,null,null,null,null,null,null,null,null,null,null,null,null,"Автономна Республіка Крим","Золоте  Поле"]
[null,null,null,null,null,null,null,null,null,null,null,null,null,null,null,null,"Виробництво парфумних і косметичних засобів",null,null,null,null,null,null,null,null,null,null,null,null,null,null,null,null,null,null,null,null,null,null,null,null,null,null,null,null,"Автономна Республіка Крим","Зоркіне"]
[null,null,null,null,null,null,null,null,null,null,null,null,null,null,null,null,"Виробництво іншої хімічної продукції",null,null,null,null,null,null,null,null,null,null,null,null,null,null,null,null,null,null,null,null,null,null,null,null,null,null,null,null,"Автономна Республіка Крим","Зоря"]
[null,null,null,null,null,null,null,null,null,null,null,null,null,null,null,null,"Виробництво вибухових речовин",null,null,null,null,null,null,null,null,null,null,null,null,null,null,null,null,null,null,null,null,null,null,null,null,null,null,null,null,"Автономна Республіка Крим","Зоряне"]
[null,null,null,null,null,null,null,null,null,null,null,null,null,null,null,null,"Виробництво клеїв",null,null,null,null,null,null,null,null,null,null,null,null,null,null,null,null,null,null,null,null,null,null,null,null,null,null,null,null,"Автономна Республіка Крим","Зубакіне"]
[null,null,null,null,null,null,null,null,null,null,null,null,null,null,null,null,"Виробництво ефірних олій",null,null,null,null,null,null,null,null,null,null,null,null,null,null,null,null,null,null,null,null,null,null,null,null,null,null,null,null,"Автономна Республіка Крим","Зуя"]
[null,null,null,null,null,null,null,null,null,null,null,null,null,null,null,null,"Виробництво іншої хімічної продукції, н.в.і.у.",null,null,null,null,null,null,null,null,null,null,null,null,null,null,null,null,null,null,null,null,null,null,null,null,null,null,null,null,"Автономна Республіка Крим","Іванівка"]
[null,null,null,null,null,null,null,null,null,null,null,null,null,null,null,null,"Виробництво штучних і синтетичних волокон",null,null,null,null,null,null,null,null,null,null,null,null,null,null,null,null,null,null,null,null,null,null,null,null,null,null,null,null,"Автономна Республіка Крим","Ізвесткове"]
[null,null,null,null,null,null,null,null,null,null,null,null,null,null,null,null,"Виробництво штучних і синтетичних волокон",null,null,null,null,null,null,null,null,null,null,null,null,null,null,null,null,null,null,null,null,null,null,null,null,null,null,null,null,"Автономна Республіка Крим","Ізобільне"]
[null,null,null,null,null,null,null,null,null,null,null,null,null,null,null,null,"Виробництво основних фармацевтичних продуктів і фармацевтичних препаратів",null,null,null,null,null,null,null,null,null,null,null,null,null,null,null,null,null,null,null,null,null,null,null,null,null,null,null,null,"Автономна Республіка Крим","Ізумрудне"]
[null,null,null,null,null,null,null,null,null,null,null,null,null,null,null,null,"Виробництво основних фармацевтичних продуктів",null,null,null,null,null,null,null,null,null,null,null,null,null,null,null,null,null,null,null,null,null,null,null,null,null,null,null,null,"Автономна Республіка Крим","Ізюмівка"]
[null,null,null,null,null,null,null,null,null,null,null,null,null,null,null,null,"Виробництво основних фармацевтичних продуктів",null,null,null,null,null,null,null,null,null,null,null,null,null,null,null,null,null,null,null,null,null,null,null,null,null,null,null,null,"Автономна Республіка Крим","Іллінка (Ільїнської)"]
[null,null,null,null,null,null,null,null,null,null,null,null,null,null,null,null,"Виробництво фармацевтичних препаратів і матеріалів",null,null,null,null,null,null,null,null,null,null,null,null,null,null,null,null,null,null,null,null,null,null,null,null,null,null,null,null,"Автономна Республіка Крим","Іллінка (Сизівська)"]
[null,null,null,null,null,null,null,null,null,null,null,null,null,null,null,null,"Виробництво фармацевтичних препаратів і матеріалів",null,null,null,null,null,null,null,null,null,null,null,null,null,null,null,null,null,null,null,null,null,null,null,null,null,null,null,null,"Автономна Республіка Крим","Іллічеве"]
[null,null,null,null,null,null,null,null,null,null,null,null,null,null,null,null,"Виробництво гумових і пластмасових виробів",null,null,null,null,null,null,null,null,null,null,null,null,null,null,null,null,null,null,null,null,null,null,null,null,null,null,null,null,"Автономна Республіка Крим","Іскра"]
[null,null,null,null,null,null,null,null,null,null,null,null,null,null,null,null,"Виробництво гумових виробів",null,null,null,null,null,null,null,null,null,null,null,null,null,null,null,null,null,null,null,null,null,null,null,null,null,null,null,null,"Автономна Республіка Крим","Істочне"]
[null,null,null,null,null,null,null,null,null,null,null,null,null,null,null,null,"Виробництво гумових шин, покришок і камер; відновлення протектора гумових шин і покришок",null,null,null,null,null,null,null,null,null,null,null,null,null,null,null,null,null,null,null,null,null,null,null,null,null,null,null,null,"Автономна Республіка Крим","Істочне (Воїнської)"]
[null,null,null,null,null,null,null,null,null,null,null,null,null,null,null,null,"Виробництво інших гумових виробів",null,null,null,null,null,null,null,null,null,null,null,null,null,null,null,null,null,null,null,null,null,null,null,null,null,null,null,null,"Автономна Республіка Крим","Ішунь (Ішуньської)"]
[null,null,null,null,null,null,null,null,null,null,null,null,null,null,null,null,"Виробництво пластмасових виробів",null,null,null,null,null,null,null,null,null,null,null,null,null,null,null,null,null,null,null,null,null,null,null,null,null,null,null,null,"Автономна Республіка Крим","Казанки"]
[null,null,null,null,null,null,null,null,null,null,null,null,null,null,null,null,"Виробництво плит, листів, труб і профілів із пластмас",null,null,null,null,null,null,null,null,null,null,null,null,null,null,null,null,null,null,null,null,null,null,null,null,null,null,null,null,"Автономна Республіка Крим","Калинівка"]
[null,null,null,null,null,null,null,null,null,null,null,null,null,null,null,null,"Виробництво тари з пластмас",null,null,null,null,null,null,null,null,null,null,null,null,null,null,null,null,null,null,null,null,null,null,null,null,null,null,null,null,"Автономна Республіка Крим","Калинівка (Оленівська)"]
[null,null,null,null,null,null,null,null,null,null,null,null,null,null,null,null,"Виробництво будівельних виробів із пластмас",null,null,null,null,null,null,null,null,null,null,null,null,null,null,null,null,null,null,null,null,null,null,null,null,null,null,null,null,"Автономна Республіка Крим","Калініне"]
[null,null,null,null,null,null,null,null,null,null,null,null,null,null,null,null,"Виробництво інших виробів із пластмас",null,null,null,null,null,null,null,null,null,null,null,null,null,null,null,null,null,null,null,null,null,null,null,null,null,null,null,null,"Автономна Республіка Крим","Калініне (Калінінської)"]
[null,null,null,null,null,null,null,null,null,null,null,null,null,null,null,null,"Виробництво іншої неметалевої мінеральної продукції",null,null,null,null,null,null,null,null,null,null,null,null,null,null,null,null,null,null,null,null,null,null,null,null,null,null,null,null,"Автономна Республіка Крим","Каменоломня"]
[null,null,null,null,null,null,null,null,null,null,null,null,null,null,null,null,"Виробництво скла та виробів зі скла",null,null,null,null,null,null,null,null,null,null,null,null,null,null,null,null,null,null,null,null,null,null,null,null,null,null,null,null,"Автономна Республіка Крим","Кам'янка (Октябрьської)"]
[null,null,null,null,null,null,null,null,null,null,null,null,null,null,null,null,"Виробництво листового скла",null,null,null,null,null,null,null,null,null,null,null,null,null,null,null,null,null,null,null,null,null,null,null,null,null,null,null,null,"Автономна Республіка Крим","Кам'янське"]
[null,null,null,null,null,null,null,null,null,null,null,null,null,null,null,null,"Формування й оброблення листового скла",null,null,null,null,null,null,null,null,null,null,null,null,null,null,null,null,null,null,null,null,null,null,null,null,null,null,null,null,"Автономна Республіка Крим","Карасівка"]
[null,null,null,null,null,null,null,null,null,null,null,null,null,null,null,null,"Виробництво порожнистого скла",null,null,null,null,null,null,null,null,null,null,null,null,null,null,null,null,null,null,null,null,null,null,null,null,null,null,null,null,"Автономна Республіка Крим","Кар'єрне"]
[null,null,null,null,null,null,null,null,null,null,null,null,null,null,null,null,"Виробництво скловолокна",null,null,null,null,null,null,null,null,null,null,null,null,null,null,null,null,null,null,null,null,null,null,null,null,null,null,null,null,"Автономна Республіка Крим","Карпівка"]
[null,null,null,null,null,null,null,null,null,null,null,null,null,null,null,null,"Виробництво й оброблення інших скляних виробів, у тому числі технічних",null,null,null,null,null,null,null,null,null,null,null,null,null,null,null,null,null,null,null,null,null,null,null,null,null,null,null,null,"Автономна Республіка Крим","Карпова Балка (Філатівської)"]
[null,null,null,null,null,null,null,null,null,null,null,null,null,null,null,null,"Виробництво вогнетривких виробів",null,null,null,null,null,null,null,null,null,null,null,null,null,null,null,null,null,null,null,null,null,null,null,null,null,null,null,null,"Автономна Республіка Крим","Кацівелі"]
[null,null,null,null,null,null,null,null,null,null,null,null,null,null,null,null,"Виробництво вогнетривких виробів",null,null,null,null,null,null,null,null,null,null,null,null,null,null,null,null,null,null,null,null,null,null,null,null,null,null,null,null,"Автономна Республіка Крим","Каштани"]
[null,null,null,null,null,null,null,null,null,null,null,null,null,null,null,null,"Виробництво будівельних матеріалів із глини",null,null,null,null,null,null,null,null,null,null,null,null,null,null,null,null,null,null,null,null,null,null,null,null,null,null,null,null,"Автономна Республіка Крим","Каштанівка (Серебрянська сільська рада)"]
[null,null,null,null,null,null,null,null,null,null,null,null,null,null,null,null,"Виробництво керамічних плиток і плит",null,null,null,null,null,null,null,null,null,null,null,null,null,null,null,null,null,null,null,null,null,null,null,null,null,null,null,null,"Автономна Республіка Крим","Каштанівка (Черновської)"]
[null,null,null,null,null,null,null,null,null,null,null,null,null,null,null,null,"Виробництво цегли, черепиці та інших будівельних виробів із випаленої глини",null,null,null,null,null,null,null,null,null,null,null,null,null,null,null,null,null,null,null,null,null,null,null,null,null,null,null,null,"Автономна Республіка Крим","Каштанове"]
[null,null,null,null,null,null,null,null,null,null,null,null,null,null,null,null,"Виробництво іншої продукції з фарфору та кераміки",null,null,null,null,null,null,null,null,null,null,null,null,null,null,null,null,null,null,null,null,null,null,null,null,null,null,null,null,"Автономна Республіка Крим","Керч"]
[null,null,null,null,null,null,null,null,null,null,null,null,null,null,null,null,"Виробництво господарських і декоративних керамічних виробів",null,null,null,null,null,null,null,null,null,null,null,null,null,null,null,null,null,null,null,null,null,null,null,null,null,null,null,null,"Автономна Республіка Крим","Кизилівка"]
[null,null,null,null,null,null,null,null,null,null,null,null,null,null,null,null,"Виробництво керамічних санітарно-технічних виробів",null,null,null,null,null,null,null,null,null,null,null,null,null,null,null,null,null,null,null,null,null,null,null,null,null,null,null,null,"Автономна Республіка Крим","Кипарисне"]
[null,null,null,null,null,null,null,null,null,null,null,null,null,null,null,null,"Виробництво керамічних електроізоляторів та ізоляційної арматури",null,null,null,null,null,null,null,null,null,null,null,null,null,null,null,null,null,null,null,null,null,null,null,null,null,null,null,null,"Автономна Республіка Крим","Кирпичне"]
[null,null,null,null,null,null,null,null,null,null,null,null,null,null,null,null,"Виробництво інших керамічних виробів технічного призначення",null,null,null,null,null,null,null,null,null,null,null,null,null,null,null,null,null,null,null,null,null,null,null,null,null,null,null,null,"Автономна Республіка Крим","Кирсанівка"]
[null,null,null,null,null,null,null,null,null,null,null,null,null,null,null,null,"Виробництво інших керамічних виробів",null,null,null,null,null,null,null,null,null,null,null,null,null,null,null,null,null,null,null,null,null,null,null,null,null,null,null,null,"Автономна Республіка Крим","Кіндратове"]
[null,null,null,null,null,null,null,null,null,null,null,null,null,null,null,null,"Виробництво цементу, вапна та гіпсових сумішей",null,null,null,null,null,null,null,null,null,null,null,null,null,null,null,null,null,null,null,null,null,null,null,null,null,null,null,null,"Автономна Республіка Крим","Кіровське"]
[null,null,null,null,null,null,null,null,null,null,null,null,null,null,null,null,"Виробництво цементу",null,null,null,null,null,null,null,null,null,null,null,null,null,null,null,null,null,null,null,null,null,null,null,null,null,null,null,null,"Автономна Республіка Крим","Кісточківка"]
[null,null,null,null,null,null,null,null,null,null,null,null,null,null,null,null,"Виробництво вапна та гіпсових сумішей",null,null,null,null,null,null,null,null,null,null,null,null,null,null,null,null,null,null,null,null,null,null,null,null,null,null,null,null,"Автономна Республіка Крим","Клепиніне"]
[null,null,null,null,null,null,null,null,null,null,null,null,null,null,null,null,"Виготовлення виробів із бетону, гіпсу та цементу",null,null,null,null,null,null,null,null,null,null,null,null,null,null,null,null,null,null,null,null,null,null,null,null,null,null,null,null,"Автономна Республіка Крим","Климове"]
[null,null,null,null,null,null,null,null,null,null,null,null,null,null,null,null,"Виготовлення виробів із бетону для будівництва",null,null,null,null,null,null,null,null,null,null,null,null,null,null,null,null,null,null,null,null,null,null,null,null,null,null,null,null,"Автономна Республіка Крим","Клинівка"]
[null,null,null,null,null,null,null,null,null,null,null,null,null,null,null,null,"Виготовлення виробів із гіпсу для будівництва",null,null,null,null,null,null,null,null,null,null,null,null,null,null,null,null,null,null,null,null,null,null,null,null,null,null,null,null,"Автономна Республіка Крим","Ключі"]
[null,null,null,null,null,null,null,null,null,null,null,null,null,null,null,null,"Виробництво бетонних розчинів, готових для використання",null,null,null,null,null,null,null,null,null,null,null,null,null,null,null,null,null,null,null,null,null,null,null,null,null,null,null,null,"Автономна Республіка Крим","Ключове"]
[null,null,null,null,null,null,null,null,null,null,null,null,null,null,null,null,"Виробництво сухих будівельних сумішей",null,null,null,null,null,null,null,null,null,null,null,null,null,null,null,null,null,null,null,null,null,null,null,null,null,null,null,null,"Автономна Республіка Крим","Ковильне"]
[null,null,null,null,null,null,null,null,null,null,null,null,null,null,null,null,"Виготовлення виробів із волокнистого цементу",null,null,null,null,null,null,null,null,null,null,null,null,null,null,null,null,null,null,null,null,null,null,null,null,null,null,null,null,"Автономна Республіка Крим","Ковильне (Ковильнівська сільська рада)"]
[null,null,null,null,null,null,null,null,null,null,null,null,null,null,null,null,"Виробництво інших виробів із бетону, гіпсу та цементу",null,null,null,null,null,null,null,null,null,null,null,null,null,null,null,null,null,null,null,null,null,null,null,null,null,null,null,null,"Автономна Республіка Крим","Коврове"]
[null,null,null,null,null,null,null,null,null,null,null,null,null,null,null,null,"Різання, оброблення та оздоблення декоративного та будівельного каменю",null,null,null,null,null,null,null,null,null,null,null,null,null,null,null,null,null,null,null,null,null,null,null,null,null,null,null,null,"Автономна Республіка Крим","Коктебель"]
[null,null,null,null,null,null,null,null,null,null,null,null,null,null,null,null,"Різання, оброблення та оздоблення декоративного та будівельного каменю",null,null,null,null,null,null,null,null,null,null,null,null,null,null,null,null,null,null,null,null,null,null,null,null,null,null,null,null,"Автономна Республіка Крим","Колодязне"]
[null,null,null,null,null,null,null,null,null,null,null,null,null,null,null,null,"Виробництво абразивних виробів і неметалевих мінеральних виробів, н.в.і.у.",null,null,null,null,null,null,null,null,null,null,null,null,null,null,null,null,null,null,null,null,null,null,null,null,null,null,null,null,"Автономна Республіка Крим","Коломенське"]
[null,null,null,null,null,null,null,null,null,null,null,null,null,null,null,null,"Виробництво абразивних виробів",null,null,null,null,null,null,null,null,null,null,null,null,null,null,null,null,null,null,null,null,null,null,null,null,null,null,null,null,"Автономна Республіка Крим","Колоски"]
[null,null,null,null,null,null,null,null,null,null,null,null,null,null,null,null,"Виробництво неметалевих мінеральних виробів, н.в.і.у.",null,null,null,null,null,null,null,null,null,null,null,null,null,null,null,null,null,null,null,null,null,null,null,null,null,null,null,null,"Автономна Республіка Крим","Кольцове"]
[null,null,null,null,null,null,null,null,null,null,null,null,null,null,null,null,"Металургійне виробництво",null,null,null,null,null,null,null,null,null,null,null,null,null,null,null,null,null,null,null,null,null,null,null,null,null,null,null,null,"Автономна Республіка Крим","Кольчугине"]
[null,null,null,null,null,null,null,null,null,null,null,null,null,null,null,null,"Виробництво чавуну, сталі та феросплавів",null,null,null,null,null,null,null,null,null,null,null,null,null,null,null,null,null,null,null,null,null,null,null,null,null,null,null,null,"Автономна Республіка Крим","Комарівка"]
[null,null,null,null,null,null,null,null,null,null,null,null,null,null,null,null,"Виробництво чавуну, сталі та феросплавів",null,null,null,null,null,null,null,null,null,null,null,null,null,null,null,null,null,null,null,null,null,null,null,null,null,null,null,null,"Автономна Республіка Крим","Комишинка"]
[null,null,null,null,null,null,null,null,null,null,null,null,null,null,null,null,"Виробництво труб, порожнистих профілів і фітингів зі сталі",null,null,null,null,null,null,null,null,null,null,null,null,null,null,null,null,null,null,null,null,null,null,null,null,null,null,null,null,"Автономна Республіка Крим","Комишне (Руч'ївська сільська рада)"]
[null,null,null,null,null,null,null,null,null,null,null,null,null,null,null,null,"Виробництво труб, порожнистих профілів і фітингів зі сталі",null,null,null,null,null,null,null,null,null,null,null,null,null,null,null,null,null,null,null,null,null,null,null,null,null,null,null,null,"Автономна Республіка Крим","Комсомольське"]
[null,null,null,null,null,null,null,null,null,null,null,null,null,null,null,null,"Виробництво іншої продукції первинного оброблення сталі",null,null,null,null,null,null,null,null,null,null,null,null,null,null,null,null,null,null,null,null,null,null,null,null,null,null,null,null,"Автономна Республіка Крим","Комунари"]
[null,null,null,null,null,null,null,null,null,null,null,null,null,null,null,null,"Холодне волочіння прутків і профілів",null,null,null,null,null,null,null,null,null,null,null,null,null,null,null,null,null,null,null,null,null,null,null,null,null,null,null,null,"Автономна Республіка Крим","Комунарне (Руч'ївська сільська рада)"]
[null,null,null,null,null,null,null,null,null,null,null,null,null,null,null,null,"Холодний прокат вузької штаби",null,null,null,null,null,null,null,null,null,null,null,null,null,null,null,null,null,null,null,null,null,null,null,null,null,null,null,null,"Автономна Республіка Крим","Копані"]
[null,null,null,null,null,null,null,null,null,null,null,null,null,null,null,null,"Холодне штампування та гнуття",null,null,null,null,null,null,null,null,null,null,null,null,null,null,null,null,null,null,null,null,null,null,null,null,null,null,null,null,"Автономна Республіка Крим","Кореїз"]
[null,null,null,null,null,null,null,null,null,null,null,null,null,null,null,null,"Холодне волочіння дроту",null,null,null,null,null,null,null,null,null,null,null,null,null,null,null,null,null,null,null,null,null,null,null,null,null,null,null,null,"Автономна Республіка Крим","Корінне"]
[null,null,null,null,null,null,null,null,null,null,null,null,null,null,null,null,"Виробництво дорогоцінних та інших кольорових металів",null,null,null,null,null,null,null,null,null,null,null,null,null,null,null,null,null,null,null,null,null,null,null,null,null,null,null,null,"Автономна Республіка Крим","Кормове (Кормовської)"]
[null,null,null,null,null,null,null,null,null,null,null,null,null,null,null,null,"Виробництво дорогоцінних металів",null,null,null,null,null,null,null,null,null,null,null,null,null,null,null,null,null,null,null,null,null,null,null,null,null,null,null,null,"Автономна Республіка Крим","Корніївка"]
[null,null,null,null,null,null,null,null,null,null,null,null,null,null,null,null,"Виробництво алюмінію",null,null,null,null,null,null,null,null,null,null,null,null,null,null,null,null,null,null,null,null,null,null,null,null,null,null,null,null,"Автономна Республіка Крим","Корольове"]
[null,null,null,null,null,null,null,null,null,null,null,null,null,null,null,null,"Виробництво свинцю, цинку й олова",null,null,null,null,null,null,null,null,null,null,null,null,null,null,null,null,null,null,null,null,null,null,null,null,null,null,null,null,"Автономна Республіка Крим","Костиріне"]
[null,null,null,null,null,null,null,null,null,null,null,null,null,null,null,null,"Виробництво міді",null,null,null,null,null,null,null,null,null,null,null,null,null,null,null,null,null,null,null,null,null,null,null,null,null,null,null,null,"Автономна Республіка Крим","Костянтинівка"]
[null,null,null,null,null,null,null,null,null,null,null,null,null,null,null,null,"Виробництво інших кольорових металів",null,null,null,null,null,null,null,null,null,null,null,null,null,null,null,null,null,null,null,null,null,null,null,null,null,null,null,null,"Автономна Республіка Крим","Котельникове"]
[null,null,null,null,null,null,null,null,null,null,null,null,null,null,null,null,"Виробництво ядерних матеріалів",null,null,null,null,null,null,null,null,null,null,null,null,null,null,null,null,null,null,null,null,null,null,null,null,null,null,null,null,"Автономна Республіка Крим","Котовське (Славнівська сільська рада)"]
[null,null,null,null,null,null,null,null,null,null,null,null,null,null,null,null,"Лиття металів",null,null,null,null,null,null,null,null,null,null,null,null,null,null,null,null,null,null,null,null,null,null,null,null,null,null,null,null,"Автономна Республіка Крим","Кочергіне"]
[null,null,null,null,null,null,null,null,null,null,null,null,null,null,null,null,"Лиття чавуну",null,null,null,null,null,null,null,null,null,null,null,null,null,null,null,null,null,null,null,null,null,null,null,null,null,null,null,null,"Автономна Республіка Крим","Крайнє (Крайненська)"]
[null,null,null,null,null,null,null,null,null,null,null,null,null,null,null,null,"Лиття сталі",null,null,null,null,null,null,null,null,null,null,null,null,null,null,null,null,null,null,null,null,null,null,null,null,null,null,null,null,"Автономна Республіка Крим","Красна Долина"]
[null,null,null,null,null,null,null,null,null,null,null,null,null,null,null,null,"Лиття легких кольорових металів",null,null,null,null,null,null,null,null,null,null,null,null,null,null,null,null,null,null,null,null,null,null,null,null,null,null,null,null,"Автономна Республіка Крим","Красна Зорька"]
[null,null,null,null,null,null,null,null,null,null,null,null,null,null,null,null,"Лиття інших кольорових металів",null,null,null,null,null,null,null,null,null,null,null,null,null,null,null,null,null,null,null,null,null,null,null,null,null,null,null,null,"Автономна Республіка Крим","Красна Поляна"]
[null,null,null,null,null,null,null,null,null,null,null,null,null,null,null,null,"Виробництво готових металевих виробів, крім машин і устатковання",null,null,null,null,null,null,null,null,null,null,null,null,null,null,null,null,null,null,null,null,null,null,null,null,null,null,null,null,"Автономна Республіка Крим","Красна Слобода"]
[null,null,null,null,null,null,null,null,null,null,null,null,null,null,null,null,"Виробництво будівельних металевих конструкцій і виробів",null,null,null,null,null,null,null,null,null,null,null,null,null,null,null,null,null,null,null,null,null,null,null,null,null,null,null,null,"Автономна Республіка Крим","Красний Мак"]
[null,null,null,null,null,null,null,null,null,null,null,null,null,null,null,null,"Виробництво будівельних металевих конструкцій і частин конструкцій",null,null,null,null,null,null,null,null,null,null,null,null,null,null,null,null,null,null,null,null,null,null,null,null,null,null,null,null,"Автономна Республіка Крим","Красний Партизан"]
[null,null,null,null,null,null,null,null,null,null,null,null,null,null,null,null,"Виробництво металевих дверей і вікон",null,null,null,null,null,null,null,null,null,null,null,null,null,null,null,null,null,null,null,null,null,null,null,null,null,null,null,null,"Автономна Республіка Крим","Краснівка"]
[null,null,null,null,null,null,null,null,null,null,null,null,null,null,null,null,"Виробництво металевих баків, резервуарів і контейнерів",null,null,null,null,null,null,null,null,null,null,null,null,null,null,null,null,null,null,null,null,null,null,null,null,null,null,null,null,"Автономна Республіка Крим","Красноармійське (Зиминська сільська рада)"]
[null,null,null,null,null,null,null,null,null,null,null,null,null,null,null,null,"Виробництво радіаторів і  котлів центрального опалення",null,null,null,null,null,null,null,null,null,null,null,null,null,null,null,null,null,null,null,null,null,null,null,null,null,null,null,null,"Автономна Республіка Крим","Красноармійське (Красноармійська)"]
[null,null,null,null,null,null,null,null,null,null,null,null,null,null,null,null,"Виробництво інших металевих баків, резервуарів і контейнерів",null,null,null,null,null,null,null,null,null,null,null,null,null,null,null,null,null,null,null,null,null,null,null,null,null,null,null,null,"Автономна Республіка Крим","Красногвардійське"]
[null,null,null,null,null,null,null,null,null,null,null,null,null,null,null,null,"Виробництво парових котлів, крім котлів центрального опалення",null,null,null,null,null,null,null,null,null,null,null,null,null,null,null,null,null,null,null,null,null,null,null,null,null,null,null,null,"Автономна Республіка Крим","Красногірка"]
[null,null,null,null,null,null,null,null,null,null,null,null,null,null,null,null,"Виробництво парових котлів, крім котлів центрального опалення",null,null,null,null,null,null,null,null,null,null,null,null,null,null,null,null,null,null,null,null,null,null,null,null,null,null,null,null,"Автономна Республіка Крим","Красногірське"]
[null,null,null,null,null,null,null,null,null,null,null,null,null,null,null,null,"Виробництво зброї та боєприпасів",null,null,null,null,null,null,null,null,null,null,null,null,null,null,null,null,null,null,null,null,null,null,null,null,null,null,null,null,"Автономна Республіка Крим","Краснодарка"]
[null,null,null,null,null,null,null,null,null,null,null,null,null,null,null,null,"Виробництво зброї та боєприпасів",null,null,null,null,null,null,null,null,null,null,null,null,null,null,null,null,null,null,null,null,null,null,null,null,null,null,null,null,"Автономна Республіка Крим","Краснодольне"]
[null,null,null,null,null,null,null,null,null,null,null,null,null,null,null,null,"Кування, пресування, штампування, профілювання; порошкова металургія",null,null,null,null,null,null,null,null,null,null,null,null,null,null,null,null,null,null,null,null,null,null,null,null,null,null,null,null,"Автономна Республіка Крим","Краснознам'янка"]
[null,null,null,null,null,null,null,null,null,null,null,null,null,null,null,null,"Кування, пресування, штампування, профілювання; порошкова металургія",null,null,null,null,null,null,null,null,null,null,null,null,null,null,null,null,null,null,null,null,null,null,null,null,null,null,null,null,"Автономна Республіка Крим","Краснокам'янка"]
[null,null,null,null,null,null,null,null,null,null,null,null,null,null,null,null,"Оброблення металів та нанесення покриття на метали; механічне оброблення металевих виробів",null,null,null,null,null,null,null,null,null,null,null,null,null,null,null,null,null,null,null,null,null,null,null,null,null,null,null,null,"Автономна Республіка Крим","Краснолісся"]
[null,null,null,null,null,null,null,null,null,null,null,null,null,null,null,null,"Оброблення металів та нанесення покриття на метали",null,null,null,null,null,null,null,null,null,null,null,null,null,null,null,null,null,null,null,null,null,null,null,null,null,null,null,null,"Автономна Республіка Крим","Красноперекопськ"]
[null,null,null,null,null,null,null,null,null,null,null,null,null,null,null,null,"Механічне оброблення металевих виробів",null,null,null,null,null,null,null,null,null,null,null,null,null,null,null,null,null,null,null,null,null,null,null,null,null,null,null,null,"Автономна Республіка Крим","Красноселівка"]
[null,null,null,null,null,null,null,null,null,null,null,null,null,null,null,null,"Виробництво столових приборів, інструментів і металевих виробів загального призначення",null,null,null,null,null,null,null,null,null,null,null,null,null,null,null,null,null,null,null,null,null,null,null,null,null,null,null,null,"Автономна Республіка Крим","Красносільське"]
[null,null,null,null,null,null,null,null,null,null,null,null,null,null,null,null,"Виробництво столових приборів",null,null,null,null,null,null,null,null,null,null,null,null,null,null,null,null,null,null,null,null,null,null,null,null,null,null,null,null,"Автономна Республіка Крим","Красносільське (Окунівська)"]
[null,null,null,null,null,null,null,null,null,null,null,null,null,null,null,null,"Виробництво замків і дверних петель",null,null,null,null,null,null,null,null,null,null,null,null,null,null,null,null,null,null,null,null,null,null,null,null,null,null,null,null,"Автономна Республіка Крим","Краснофлотське"]
[null,null,null,null,null,null,null,null,null,null,null,null,null,null,null,null,"Виробництво інструментів",null,null,null,null,null,null,null,null,null,null,null,null,null,null,null,null,null,null,null,null,null,null,null,null,null,null,null,null,"Автономна Республіка Крим","Красноярське"]
[null,null,null,null,null,null,null,null,null,null,null,null,null,null,null,null,"Виробництво інших готових металевих виробів",null,null,null,null,null,null,null,null,null,null,null,null,null,null,null,null,null,null,null,null,null,null,null,null,null,null,null,null,"Автономна Республіка Крим","Кремнівка"]
[null,null,null,null,null,null,null,null,null,null,null,null,null,null,null,null,"Виробництво сталевих бочок і подібних контейнерів",null,null,null,null,null,null,null,null,null,null,null,null,null,null,null,null,null,null,null,null,null,null,null,null,null,null,null,null,"Автономна Республіка Крим","Крестянівка (Крестянівскої)"]
[null,null,null,null,null,null,null,null,null,null,null,null,null,null,null,null,"Виробництво легких металевих паковань",null,null,null,null,null,null,null,null,null,null,null,null,null,null,null,null,null,null,null,null,null,null,null,null,null,null,null,null,"Автономна Республіка Крим","Кривцове"]
[null,null,null,null,null,null,null,null,null,null,null,null,null,null,null,null,"Виробництво виробів із дроту, ланцюгів і пружин",null,null,null,null,null,null,null,null,null,null,null,null,null,null,null,null,null,null,null,null,null,null,null,null,null,null,null,null,"Автономна Республіка Крим","Криловка (Степновської)"]
[null,null,null,null,null,null,null,null,null,null,null,null,null,null,null,null,"Виробництво кріпильних і ґвинтонарізних виробів",null,null,null,null,null,null,null,null,null,null,null,null,null,null,null,null,null,null,null,null,null,null,null,null,null,null,null,null,"Автономна Республіка Крим","Криловка (Штормівська)"]
[null,null,null,null,null,null,null,null,null,null,null,null,null,null,null,null,"Виробництво інших готових металевих виробів, н.в.і.у.",null,null,null,null,null,null,null,null,null,null,null,null,null,null,null,null,null,null,null,null,null,null,null,null,null,null,null,null,"Автономна Республіка Крим","Кримка"]
[null,null,null,null,null,null,null,null,null,null,null,null,null,null,null,null,"Виробництво комп'ютерів, електронної та оптичної продукції",null,null,null,null,null,null,null,null,null,null,null,null,null,null,null,null,null,null,null,null,null,null,null,null,null,null,null,null,"Автономна Республіка Крим","Кримська Роза"]
[null,null,null,null,null,null,null,null,null,null,null,null,null,null,null,null,"Виробництво електронних компонентів і плат",null,null,null,null,null,null,null,null,null,null,null,null,null,null,null,null,null,null,null,null,null,null,null,null,null,null,null,null,"Автономна Республіка Крим","Кримське"]
[null,null,null,null,null,null,null,null,null,null,null,null,null,null,null,null,"Виробництво електронних компонентів",null,null,null,null,null,null,null,null,null,null,null,null,null,null,null,null,null,null,null,null,null,null,null,null,null,null,null,null,"Автономна Республіка Крим","Кринички"]
[null,null,null,null,null,null,null,null,null,null,null,null,null,null,null,null,"Виробництво змонтованих електронних плат",null,null,null,null,null,null,null,null,null,null,null,null,null,null,null,null,null,null,null,null,null,null,null,null,null,null,null,null,"Автономна Республіка Крим","Кріпке (Вишнівської)"]
[null,null,null,null,null,null,null,null,null,null,null,null,null,null,null,null,"Виробництво комп'ютерів і периферійного устатковання",null,null,null,null,null,null,null,null,null,null,null,null,null,null,null,null,null,null,null,null,null,null,null,null,null,null,null,null,"Автономна Республіка Крим","Кропоткіне (Чернишівська сільська рада)"]
[null,null,null,null,null,null,null,null,null,null,null,null,null,null,null,null,"Виробництво комп'ютерів і периферійного устатковання",null,null,null,null,null,null,null,null,null,null,null,null,null,null,null,null,null,null,null,null,null,null,null,null,null,null,null,null,"Автономна Республіка Крим","Кубанське"]
[null,null,null,null,null,null,null,null,null,null,null,null,null,null,null,null,"Виробництво обладнання зв'язку",null,null,null,null,null,null,null,null,null,null,null,null,null,null,null,null,null,null,null,null,null,null,null,null,null,null,null,null,"Автономна Республіка Крим","Кудрине"]
[null,null,null,null,null,null,null,null,null,null,null,null,null,null,null,null,"Виробництво обладнання зв'язку",null,null,null,null,null,null,null,null,null,null,null,null,null,null,null,null,null,null,null,null,null,null,null,null,null,null,null,null,"Автономна Республіка Крим","Кузнецьке"]
[null,null,null,null,null,null,null,null,null,null,null,null,null,null,null,null,"Виробництво електронної апаратури побутового призначення для приймання, записування та відтворювання звуку й зображення",null,null,null,null,null,null,null,null,null,null,null,null,null,null,null,null,null,null,null,null,null,null,null,null,null,null,null,null,"Автономна Республіка Крим","Куйбишеве"]
[null,null,null,null,null,null,null,null,null,null,null,null,null,null,null,null,"Виробництво електронної апаратури побутового призначення для приймання, записування та відтворювання звуку й зображення",null,null,null,null,null,null,null,null,null,null,null,null,null,null,null,null,null,null,null,null,null,null,null,null,null,null,null,null,"Автономна Республіка Крим","Кукурудзяне"]
[null,null,null,null,null,null,null,null,null,null,null,null,null,null,null,null,"Виробництво інструментів і обладнання для вимірювання, дослідження та навігації; виробництво годинників",null,null,null,null,null,null,null,null,null,null,null,null,null,null,null,null,null,null,null,null,null,null,null,null,null,null,null,null,"Автономна Республіка Крим","Кукушкіне"]
[null,null,null,null,null,null,null,null,null,null,null,null,null,null,null,null,"Виробництво інструментів і обладнання для вимірювання, дослідження та навігації",null,null,null,null,null,null,null,null,null,null,null,null,null,null,null,null,null,null,null,null,null,null,null,null,null,null,null,null,"Автономна Республіка Крим","Куликівка"]
[null,null,null,null,null,null,null,null,null,null,null,null,null,null,null,null,"Виробництво годинників",null,null,null,null,null,null,null,null,null,null,null,null,null,null,null,null,null,null,null,null,null,null,null,null,null,null,null,null,"Автономна Республіка Крим","Кумове (Ботанічна сільська рада)"]
[null,null,null,null,null,null,null,null,null,null,null,null,null,null,null,null,"Виробництво радіологічного, електромедичного й електротерапевтичного устатковання",null,null,null,null,null,null,null,null,null,null,null,null,null,null,null,null,null,null,null,null,null,null,null,null,null,null,null,null,"Автономна Республіка Крим","Кунцеве"]
[null,null,null,null,null,null,null,null,null,null,null,null,null,null,null,null,"Виробництво радіологічного, електромедичного й електротерапевтичного устатковання",null,null,null,null,null,null,null,null,null,null,null,null,null,null,null,null,null,null,null,null,null,null,null,null,null,null,null,null,"Автономна Республіка Крим","Купріне"]
[null,null,null,null,null,null,null,null,null,null,null,null,null,null,null,null,"Виробництво оптичних приладів і фотографічного устатковання",null,null,null,null,null,null,null,null,null,null,null,null,null,null,null,null,null,null,null,null,null,null,null,null,null,null,null,null,"Автономна Республіка Крим","Курганне"]
[null,null,null,null,null,null,null,null,null,null,null,null,null,null,null,null,"Виробництво оптичних приладів і фотографічного устатковання",null,null,null,null,null,null,null,null,null,null,null,null,null,null,null,null,null,null,null,null,null,null,null,null,null,null,null,null,"Автономна Республіка Крим","Курганне (Ільїнка)"]
[null,null,null,null,null,null,null,null,null,null,null,null,null,null,null,null,"Виробництво магнітних і оптичних носіїв даних",null,null,null,null,null,null,null,null,null,null,null,null,null,null,null,null,null,null,null,null,null,null,null,null,null,null,null,null,"Автономна Республіка Крим","Курортне"]
[null,null,null,null,null,null,null,null,null,null,null,null,null,null,null,null,"Виробництво магнітних і оптичних носіїв даних",null,null,null,null,null,null,null,null,null,null,null,null,null,null,null,null,null,null,null,null,null,null,null,null,null,null,null,null,"Автономна Республіка Крим","Курпати"]
[null,null,null,null,null,null,null,null,null,null,null,null,null,null,null,null,"Виробництво електричного устатковання",null,null,null,null,null,null,null,null,null,null,null,null,null,null,null,null,null,null,null,null,null,null,null,null,null,null,null,null,"Автономна Республіка Крим","Курське"]
[null,null,null,null,null,null,null,null,null,null,null,null,null,null,null,null,"Виробництво електродвигунів, генераторів, трансформаторів, електророзподільчої та контрольної апаратури",null,null,null,null,null,null,null,null,null,null,null,null,null,null,null,null,null,null,null,null,null,null,null,null,null,null,null,null,"Автономна Республіка Крим","Лаванда"]
[null,null,null,null,null,null,null,null,null,null,null,null,null,null,null,null,"Виробництво електродвигунів, генераторів і трансформаторів",null,null,null,null,null,null,null,null,null,null,null,null,null,null,null,null,null,null,null,null,null,null,null,null,null,null,null,null,"Автономна Республіка Крим","Лаврове"]
[null,null,null,null,null,null,null,null,null,null,null,null,null,null,null,null,"Виробництво електророзподільчої та контрольної апаратури",null,null,null,null,null,null,null,null,null,null,null,null,null,null,null,null,null,null,null,null,null,null,null,null,null,null,null,null,"Автономна Республіка Крим","Лазарівка"]
[null,null,null,null,null,null,null,null,null,null,null,null,null,null,null,null,"Виробництво батарей і акумуляторів",null,null,null,null,null,null,null,null,null,null,null,null,null,null,null,null,null,null,null,null,null,null,null,null,null,null,null,null,"Автономна Республіка Крим","Лазурне"]
[null,null,null,null,null,null,null,null,null,null,null,null,null,null,null,null,"Виробництво батарей і акумуляторів",null,null,null,null,null,null,null,null,null,null,null,null,null,null,null,null,null,null,null,null,null,null,null,null,null,null,null,null,"Автономна Республіка Крим","Лебединка"]
[null,null,null,null,null,null,null,null,null,null,null,null,null,null,null,null,"Виробництво проводів, кабелів і електромонтажних пристроїв",null,null,null,null,null,null,null,null,null,null,null,null,null,null,null,null,null,null,null,null,null,null,null,null,null,null,null,null,"Автономна Республіка Крим","Левадки"]
[null,null,null,null,null,null,null,null,null,null,null,null,null,null,null,null,"Виробництво волоконно-оптичних кабелів",null,null,null,null,null,null,null,null,null,null,null,null,null,null,null,null,null,null,null,null,null,null,null,null,null,null,null,null,"Автономна Республіка Крим","Левітанівка (Калінінської)"]
[null,null,null,null,null,null,null,null,null,null,null,null,null,null,null,null,"Виробництво інших видів електронних і електричних проводів та кабелів",null,null,null,null,null,null,null,null,null,null,null,null,null,null,null,null,null,null,null,null,null,null,null,null,null,null,null,null,"Автономна Республіка Крим","Леніне"]
[null,null,null,null,null,null,null,null,null,null,null,null,null,null,null,null,"Виробництво електромонтажних пристроїв",null,null,null,null,null,null,null,null,null,null,null,null,null,null,null,null,null,null,null,null,null,null,null,null,null,null,null,null,"Автономна Республіка Крим","Ленінське"]
[null,null,null,null,null,null,null,null,null,null,null,null,null,null,null,null,"Виробництво електричного освітлювального устатковання",null,null,null,null,null,null,null,null,null,null,null,null,null,null,null,null,null,null,null,null,null,null,null,null,null,null,null,null,"Автономна Республіка Крим","Ленське"]
[null,null,null,null,null,null,null,null,null,null,null,null,null,null,null,null,"Виробництво електричного освітлювального устатковання",null,null,null,null,null,null,null,null,null,null,null,null,null,null,null,null,null,null,null,null,null,null,null,null,null,null,null,null,"Автономна Республіка Крим","Лиманне"]
[null,null,null,null,null,null,null,null,null,null,null,null,null,null,null,null,"Виробництво побутових приладів",null,null,null,null,null,null,null,null,null,null,null,null,null,null,null,null,null,null,null,null,null,null,null,null,null,null,null,null,"Автономна Республіка Крим","Листвинне"]
[null,null,null,null,null,null,null,null,null,null,null,null,null,null,null,null,"Виробництво електричних побутових приладів",null,null,null,null,null,null,null,null,null,null,null,null,null,null,null,null,null,null,null,null,null,null,null,null,null,null,null,null,"Автономна Республіка Крим","Листове"]
[null,null,null,null,null,null,null,null,null,null,null,null,null,null,null,null,"Виробництво неелектричних побутових приладів",null,null,null,null,null,null,null,null,null,null,null,null,null,null,null,null,null,null,null,null,null,null,null,null,null,null,null,null,"Автономна Республіка Крим","Литвиненкове"]
[null,null,null,null,null,null,null,null,null,null,null,null,null,null,null,null,"Виробництво іншого електричного устатковання",null,null,null,null,null,null,null,null,null,null,null,null,null,null,null,null,null,null,null,null,null,null,null,null,null,null,null,null,"Автономна Республіка Крим","Лібкнехтівка"]
[null,null,null,null,null,null,null,null,null,null,null,null,null,null,null,null,"Виробництво іншого електричного устатковання",null,null,null,null,null,null,null,null,null,null,null,null,null,null,null,null,null,null,null,null,null,null,null,null,null,null,null,null,"Автономна Республіка Крим","Лівадія"]
[null,null,null,null,null,null,null,null,null,null,null,null,null,null,null,null,"Виробництво машин і устатковання, н.в.і.у.",null,null,null,null,null,null,null,null,null,null,null,null,null,null,null,null,null,null,null,null,null,null,null,null,null,null,null,null,"Автономна Республіка Крим","Лікарственне"]
[null,null,null,null,null,null,null,null,null,null,null,null,null,null,null,null,"Виробництво машин і устатковання загального призначення",null,null,null,null,null,null,null,null,null,null,null,null,null,null,null,null,null,null,null,null,null,null,null,null,null,null,null,null,"Автономна Республіка Крим","Лінійне"]
[null,null,null,null,null,null,null,null,null,null,null,null,null,null,null,null,"Виробництво двигунів і турбін, крім авіаційних, автотранспортних і мотоциклетних двигунів",null,null,null,null,null,null,null,null,null,null,null,null,null,null,null,null,null,null,null,null,null,null,null,null,null,null,null,null,"Автономна Республіка Крим","Лісне"]
[null,null,null,null,null,null,null,null,null,null,null,null,null,null,null,null,"Виробництво гідравлічного та пневматичного устатковання",null,null,null,null,null,null,null,null,null,null,null,null,null,null,null,null,null,null,null,null,null,null,null,null,null,null,null,null,"Автономна Республіка Крим","Ліснівка"]
[null,null,null,null,null,null,null,null,null,null,null,null,null,null,null,null,"Виробництво інших помп і компресорів",null,null,null,null,null,null,null,null,null,null,null,null,null,null,null,null,null,null,null,null,null,null,null,null,null,null,null,null,"Автономна Республіка Крим","Лісносілля"]
[null,null,null,null,null,null,null,null,null,null,null,null,null,null,null,null,"Виробництво інших кранів і клапанів",null,null,null,null,null,null,null,null,null,null,null,null,null,null,null,null,null,null,null,null,null,null,null,null,null,null,null,null,"Автономна Республіка Крим","Лічебне"]
[null,null,null,null,null,null,null,null,null,null,null,null,null,null,null,null,"Виробництво підшипників, зубчастих передач, елементів механічних передач і приводів",null,null,null,null,null,null,null,null,null,null,null,null,null,null,null,null,null,null,null,null,null,null,null,null,null,null,null,null,"Автономна Республіка Крим","Лобанове"]
[null,null,null,null,null,null,null,null,null,null,null,null,null,null,null,null,"Виробництво інших машин і устатковання загального призначення",null,null,null,null,null,null,null,null,null,null,null,null,null,null,null,null,null,null,null,null,null,null,null,null,null,null,null,null,"Автономна Республіка Крим","Ломоносове"]
[null,null,null,null,null,null,null,null,null,null,null,null,null,null,null,null,"Виробництво духових шаф, печей і пічних пальників",null,null,null,null,null,null,null,null,null,null,null,null,null,null,null,null,null,null,null,null,null,null,null,null,null,null,null,null,"Автономна Республіка Крим","Лохівка"]
[null,null,null,null,null,null,null,null,null,null,null,null,null,null,null,null,"Виробництво підіймального та вантажно-розвантажувального устатковання",null,null,null,null,null,null,null,null,null,null,null,null,null,null,null,null,null,null,null,null,null,null,null,null,null,null,null,null,"Автономна Республіка Крим","Луганське"]
[null,null,null,null,null,null,null,null,null,null,null,null,null,null,null,null,"Виробництво офісних машин і устатковання, крім комп'ютерів і периферійного устатковання",null,null,null,null,null,null,null,null,null,null,null,null,null,null,null,null,null,null,null,null,null,null,null,null,null,null,null,null,"Автономна Республіка Крим","Лугове"]
[null,null,null,null,null,null,null,null,null,null,null,null,null,null,null,null,"Виробництво ручних електромеханічних і пневматичних інструментів",null,null,null,null,null,null,null,null,null,null,null,null,null,null,null,null,null,null,null,null,null,null,null,null,null,null,null,null,"Автономна Республіка Крим","Лугове (Сизівська)"]
[null,null,null,null,null,null,null,null,null,null,null,null,null,null,null,null,"Виробництво промислового холодильного та вентиляційного устатковання",null,null,null,null,null,null,null,null,null,null,null,null,null,null,null,null,null,null,null,null,null,null,null,null,null,null,null,null,"Автономна Республіка Крим","Лужки"]
[null,null,null,null,null,null,null,null,null,null,null,null,null,null,null,null,"Виробництво інших машин і устатковання загального призначення, н.в.і.у.",null,null,null,null,null,null,null,null,null,null,null,null,null,null,null,null,null,null,null,null,null,null,null,null,null,null,null,null,"Автономна Республіка Крим","Лучисте"]
[null,null,null,null,null,null,null,null,null,null,null,null,null,null,null,null,"Виробництво машин і устатковання для сільського та лісового господарства",null,null,null,null,null,null,null,null,null,null,null,null,null,null,null,null,null,null,null,null,null,null,null,null,null,null,null,null,"Автономна Республіка Крим","Лучове"]
[null,null,null,null,null,null,null,null,null,null,null,null,null,null,null,null,"Виробництво машин і устатковання для сільського та лісового господарства",null,null,null,null,null,null,null,null,null,null,null,null,null,null,null,null,null,null,null,null,null,null,null,null,null,null,null,null,"Автономна Республіка Крим","Лушине (Стовпівська)"]
[null,null,null,null,null,null,null,null,null,null,null,null,null,null,null,null,"Виробництво металообробних машин і верстатів",null,null,null,null,null,null,null,null,null,null,null,null,null,null,null,null,null,null,null,null,null,null,null,null,null,null,null,null,"Автономна Республіка Крим","Любимівка"]
[null,null,null,null,null,null,null,null,null,null,null,null,null,null,null,null,"Виробництво металообробних машин",null,null,null,null,null,null,null,null,null,null,null,null,null,null,null,null,null,null,null,null,null,null,null,null,null,null,null,null,"Автономна Республіка Крим","Львове"]
[null,null,null,null,null,null,null,null,null,null,null,null,null,null,null,null,"Виробництво інших верстатів",null,null,null,null,null,null,null,null,null,null,null,null,null,null,null,null,null,null,null,null,null,null,null,null,null,null,null,null,"Автономна Республіка Крим","Льговське"]
[null,null,null,null,null,null,null,null,null,null,null,null,null,null,null,null,"Виробництво інших машин і устатковання спеціального призначення",null,null,null,null,null,null,null,null,null,null,null,null,null,null,null,null,null,null,null,null,null,null,null,null,null,null,null,null,"Автономна Республіка Крим","Магазинка (Магазинська)"]
[null,null,null,null,null,null,null,null,null,null,null,null,null,null,null,null,"Виробництво машин і устатковання для металургії",null,null,null,null,null,null,null,null,null,null,null,null,null,null,null,null,null,null,null,null,null,null,null,null,null,null,null,null,"Автономна Республіка Крим","Мазанка"]
[null,null,null,null,null,null,null,null,null,null,null,null,null,null,null,null,"Виробництво машин і устатковання для добувної промисловості та будівництва",null,null,null,null,null,null,null,null,null,null,null,null,null,null,null,null,null,null,null,null,null,null,null,null,null,null,null,null,"Автономна Республіка Крим","Майське"]
[null,null,null,null,null,null,null,null,null,null,null,null,null,null,null,null,"Виробництво машин і устатковання для виготовлення харчових продуктів і напоїв, перероблення тютюну",null,null,null,null,null,null,null,null,null,null,null,null,null,null,null,null,null,null,null,null,null,null,null,null,null,null,null,null,"Автономна Республіка Крим","Макарівка (Первомайської)"]
[null,null,null,null,null,null,null,null,null,null,null,null,null,null,null,null,"Виробництво машин і устатковання для виготовлення текстильних, швейних, хутряних і шкіряних виробів",null,null,null,null,null,null,null,null,null,null,null,null,null,null,null,null,null,null,null,null,null,null,null,null,null,null,null,null,"Автономна Республіка Крим","Маківка"]
[null,null,null,null,null,null,null,null,null,null,null,null,null,null,null,null,"Виробництво машин і устатковання для виготовлення паперу та картону",null,null,null,null,null,null,null,null,null,null,null,null,null,null,null,null,null,null,null,null,null,null,null,null,null,null,null,null,"Автономна Республіка Крим","Маківське"]
[null,null,null,null,null,null,null,null,null,null,null,null,null,null,null,null,"Виробництво машин і устатковання для виготовлення пластмас і гуми",null,null,null,null,null,null,null,null,null,null,null,null,null,null,null,null,null,null,null,null,null,null,null,null,null,null,null,null,"Автономна Республіка Крим","Максимівка (Руч'ївська сільська рада)"]
[null,null,null,null,null,null,null,null,null,null,null,null,null,null,null,null,"Виробництво інших машин і устатковання спеціального призначення, н.в.і.у.",null,null,null,null,null,null,null,null,null,null,null,null,null,null,null,null,null,null,null,null,null,null,null,null,null,null,null,null,"Автономна Республіка Крим","Мале Садове"]
[null,null,null,null,null,null,null,null,null,null,null,null,null,null,null,null,"Виробництво автотранспортних засобів, причепів і напівпричепів",null,null,null,null,null,null,null,null,null,null,null,null,null,null,null,null,null,null,null,null,null,null,null,null,null,null,null,null,"Автономна Республіка Крим","Маленьке"]
[null,null,null,null,null,null,null,null,null,null,null,null,null,null,null,null,"Виробництво автотранспортних засобів",null,null,null,null,null,null,null,null,null,null,null,null,null,null,null,null,null,null,null,null,null,null,null,null,null,null,null,null,"Автономна Республіка Крим","Малий Маяк"]
[null,null,null,null,null,null,null,null,null,null,null,null,null,null,null,null,"Виробництво автотранспортних засобів",null,null,null,null,null,null,null,null,null,null,null,null,null,null,null,null,null,null,null,null,null,null,null,null,null,null,null,null,"Автономна Республіка Крим","Малинівка"]
[null,null,null,null,null,null,null,null,null,null,null,null,null,null,null,null,"Виробництво кузовів для автотранспортних засобів, причепів і напівпричепів",null,null,null,null,null,null,null,null,null,null,null,null,null,null,null,null,null,null,null,null,null,null,null,null,null,null,null,null,"Автономна Республіка Крим","Маловидне"]
[null,null,null,null,null,null,null,null,null,null,null,null,null,null,null,null,"Виробництво кузовів для автотранспортних засобів, причепів і напівпричепів",null,null,null,null,null,null,null,null,null,null,null,null,null,null,null,null,null,null,null,null,null,null,null,null,null,null,null,null,"Автономна Республіка Крим","Малоріченське"]
[null,null,null,null,null,null,null,null,null,null,null,null,null,null,null,null,"Виробництво вузлів, деталей і приладдя для автотранспортних засобів",null,null,null,null,null,null,null,null,null,null,null,null,null,null,null,null,null,null,null,null,null,null,null,null,null,null,null,null,"Автономна Республіка Крим","Мар'ївка"]
[null,null,null,null,null,null,null,null,null,null,null,null,null,null,null,null,"Виробництво електричного й електронного устатковання для автотранспортних засобів",null,null,null,null,null,null,null,null,null,null,null,null,null,null,null,null,null,null,null,null,null,null,null,null,null,null,null,null,"Автономна Республіка Крим","Мар'їне"]
[null,null,null,null,null,null,null,null,null,null,null,null,null,null,null,null,"Виробництво інших вузлів, деталей і приладдя для автотранспортних засобів",null,null,null,null,null,null,null,null,null,null,null,null,null,null,null,null,null,null,null,null,null,null,null,null,null,null,null,null,"Автономна Республіка Крим","Маркове"]
[null,null,null,null,null,null,null,null,null,null,null,null,null,null,null,null,"Виробництво інших транспортних засобів",null,null,null,null,null,null,null,null,null,null,null,null,null,null,null,null,null,null,null,null,null,null,null,null,null,null,null,null,"Автономна Республіка Крим","Мартинівка"]
[null,null,null,null,null,null,null,null,null,null,null,null,null,null,null,null,"Будування суден і човнів",null,null,null,null,null,null,null,null,null,null,null,null,null,null,null,null,null,null,null,null,null,null,null,null,null,null,null,null,"Автономна Республіка Крим","Марфівка"]
[null,null,null,null,null,null,null,null,null,null,null,null,null,null,null,null,"Будування суден і плавучих конструкцій",null,null,null,null,null,null,null,null,null,null,null,null,null,null,null,null,null,null,null,null,null,null,null,null,null,null,null,null,"Автономна Республіка Крим","Мар'янівка"]
[null,null,null,null,null,null,null,null,null,null,null,null,null,null,null,null,"Будування прогулянкових і спортивних човнів",null,null,null,null,null,null,null,null,null,null,null,null,null,null,null,null,null,null,null,null,null,null,null,null,null,null,null,null,"Автономна Республіка Крим","Масандра"]
[null,null,null,null,null,null,null,null,null,null,null,null,null,null,null,null,"Виробництво залізничних локомотивів і рухомого складу",null,null,null,null,null,null,null,null,null,null,null,null,null,null,null,null,null,null,null,null,null,null,null,null,null,null,null,null,"Автономна Республіка Крим","Маслове"]
[null,null,null,null,null,null,null,null,null,null,null,null,null,null,null,null,"Виробництво залізничних локомотивів і рухомого складу",null,null,null,null,null,null,null,null,null,null,null,null,null,null,null,null,null,null,null,null,null,null,null,null,null,null,null,null,"Автономна Республіка Крим","Матвіївка (Правдинської)"]
[null,null,null,null,null,null,null,null,null,null,null,null,null,null,null,null,"Виробництво повітряних і космічних літальних апаратів, супутнього устатковання",null,null,null,null,null,null,null,null,null,null,null,null,null,null,null,null,null,null,null,null,null,null,null,null,null,null,null,null,"Автономна Республіка Крим","Матросівка"]
[null,null,null,null,null,null,null,null,null,null,null,null,null,null,null,null,"Виробництво повітряних і космічних літальних апаратів, супутнього устатковання",null,null,null,null,null,null,null,null,null,null,null,null,null,null,null,null,null,null,null,null,null,null,null,null,null,null,null,null,"Автономна Республіка Крим","Машине"]
[null,null,null,null,null,null,null,null,null,null,null,null,null,null,null,null,"Виробництво військових транспортних засобів",null,null,null,null,null,null,null,null,null,null,null,null,null,null,null,null,null,null,null,null,null,null,null,null,null,null,null,null,"Автономна Республіка Крим","Маяк"]
[null,null,null,null,null,null,null,null,null,null,null,null,null,null,null,null,"Виробництво військових транспортних засобів",null,null,null,null,null,null,null,null,null,null,null,null,null,null,null,null,null,null,null,null,null,null,null,null,null,null,null,null,"Автономна Республіка Крим","Медведеве"]
[null,null,null,null,null,null,null,null,null,null,null,null,null,null,null,null,"Виробництво транспортних засобів, н.в.і.у.",null,null,null,null,null,null,null,null,null,null,null,null,null,null,null,null,null,null,null,null,null,null,null,null,null,null,null,null,"Автономна Республіка Крим","Медведівка"]
[null,null,null,null,null,null,null,null,null,null,null,null,null,null,null,null,"Виробництво мотоциклів",null,null,null,null,null,null,null,null,null,null,null,null,null,null,null,null,null,null,null,null,null,null,null,null,null,null,null,null,"Автономна Республіка Крим","Межове"]
[null,null,null,null,null,null,null,null,null,null,null,null,null,null,null,null,"Виробництво велосипедів, дитячих та інвалідних колясок",null,null,null,null,null,null,null,null,null,null,null,null,null,null,null,null,null,null,null,null,null,null,null,null,null,null,null,null,"Автономна Республіка Крим","Мелехове"]
[null,null,null,null,null,null,null,null,null,null,null,null,null,null,null,null,"Виробництво інших транспортних засобів і обладнання, н.в.і.у.",null,null,null,null,null,null,null,null,null,null,null,null,null,null,null,null,null,null,null,null,null,null,null,null,null,null,null,null,"Автономна Республіка Крим","Мельники"]
[null,null,null,null,null,null,null,null,null,null,null,null,null,null,null,null,"Виробництво меблів",null,null,null,null,null,null,null,null,null,null,null,null,null,null,null,null,null,null,null,null,null,null,null,null,null,null,null,null,"Автономна Республіка Крим","Мельничне"]
[null,null,null,null,null,null,null,null,null,null,null,null,null,null,null,null,"Виробництво меблів",null,null,null,null,null,null,null,null,null,null,null,null,null,null,null,null,null,null,null,null,null,null,null,null,null,null,null,null,"Автономна Республіка Крим","Мельничне (Островської)"]
[null,null,null,null,null,null,null,null,null,null,null,null,null,null,null,null,"Виробництво меблів для офісів і підприємств торгівлі",null,null,null,null,null,null,null,null,null,null,null,null,null,null,null,null,null,null,null,null,null,null,null,null,null,null,null,null,"Автономна Республіка Крим","Менделєєве"]
[null,null,null,null,null,null,null,null,null,null,null,null,null,null,null,null,"Виробництво кухонних меблів",null,null,null,null,null,null,null,null,null,null,null,null,null,null,null,null,null,null,null,null,null,null,null,null,null,null,null,null,"Автономна Республіка Крим","Миколаївка"]
[null,null,null,null,null,null,null,null,null,null,null,null,null,null,null,null,"Виробництво матраців",null,null,null,null,null,null,null,null,null,null,null,null,null,null,null,null,null,null,null,null,null,null,null,null,null,null,null,null,"Автономна Республіка Крим","Миндальне"]
[null,null,null,null,null,null,null,null,null,null,null,null,null,null,null,null,"Виробництво інших меблів",null,null,null,null,null,null,null,null,null,null,null,null,null,null,null,null,null,null,null,null,null,null,null,null,null,null,null,null,"Автономна Республіка Крим","Мирний"]
[null,null,null,null,null,null,null,null,null,null,null,null,null,null,null,null,"Виробництво іншої продукції",null,null,null,null,null,null,null,null,null,null,null,null,null,null,null,null,null,null,null,null,null,null,null,null,null,null,null,null,"Автономна Республіка Крим","Мирнівка"]
[null,null,null,null,null,null,null,null,null,null,null,null,null,null,null,null,"Виробництво ювелірних виробів, біжутерії та подібних виробів",null,null,null,null,null,null,null,null,null,null,null,null,null,null,null,null,null,null,null,null,null,null,null,null,null,null,null,null,"Автономна Республіка Крим","Миролюбівка"]
[null,null,null,null,null,null,null,null,null,null,null,null,null,null,null,null,"Карбування монет",null,null,null,null,null,null,null,null,null,null,null,null,null,null,null,null,null,null,null,null,null,null,null,null,null,null,null,null,"Автономна Республіка Крим","Миронівка"]
[null,null,null,null,null,null,null,null,null,null,null,null,null,null,null,null,"Виробництво ювелірних і подібних виробів",null,null,null,null,null,null,null,null,null,null,null,null,null,null,null,null,null,null,null,null,null,null,null,null,null,null,null,null,"Автономна Республіка Крим","Мисове"]
[null,null,null,null,null,null,null,null,null,null,null,null,null,null,null,null,"Виробництво біжутерії та подібних виробів",null,null,null,null,null,null,null,null,null,null,null,null,null,null,null,null,null,null,null,null,null,null,null,null,null,null,null,null,"Автономна Республіка Крим","Митрофанівка"]
[null,null,null,null,null,null,null,null,null,null,null,null,null,null,null,null,"Виробництво музичних інструментів",null,null,null,null,null,null,null,null,null,null,null,null,null,null,null,null,null,null,null,null,null,null,null,null,null,null,null,null,"Автономна Республіка Крим","Митюрине"]
[null,null,null,null,null,null,null,null,null,null,null,null,null,null,null,null,"Виробництво музичних інструментів",null,null,null,null,null,null,null,null,null,null,null,null,null,null,null,null,null,null,null,null,null,null,null,null,null,null,null,null,"Автономна Республіка Крим","Митяєве"]
[null,null,null,null,null,null,null,null,null,null,null,null,null,null,null,null,"Виробництво спортивних товарів",null,null,null,null,null,null,null,null,null,null,null,null,null,null,null,null,null,null,null,null,null,null,null,null,null,null,null,null,"Автономна Республіка Крим","Михайлівка"]
[null,null,null,null,null,null,null,null,null,null,null,null,null,null,null,null,"Виробництво спортивних товарів",null,null,null,null,null,null,null,null,null,null,null,null,null,null,null,null,null,null,null,null,null,null,null,null,null,null,null,null,"Автономна Республіка Крим","Міжводне"]
[null,null,null,null,null,null,null,null,null,null,null,null,null,null,null,null,"Виробництво ігор та іграшок",null,null,null,null,null,null,null,null,null,null,null,null,null,null,null,null,null,null,null,null,null,null,null,null,null,null,null,null,"Автономна Республіка Крим","Міжгірне"]
[null,null,null,null,null,null,null,null,null,null,null,null,null,null,null,null,"Виробництво ігор та іграшок",null,null,null,null,null,null,null,null,null,null,null,null,null,null,null,null,null,null,null,null,null,null,null,null,null,null,null,null,"Автономна Республіка Крим","Міжгір'я"]
[null,null,null,null,null,null,null,null,null,null,null,null,null,null,null,null,"Виробництво медичних і стоматологічних інструментів і матеріалів",null,null,null,null,null,null,null,null,null,null,null,null,null,null,null,null,null,null,null,null,null,null,null,null,null,null,null,null,"Автономна Республіка Крим","Міжріччя"]
[null,null,null,null,null,null,null,null,null,null,null,null,null,null,null,null,"Виробництво медичних і стоматологічних інструментів і матеріалів",null,null,null,null,null,null,null,null,null,null,null,null,null,null,null,null,null,null,null,null,null,null,null,null,null,null,null,null,"Автономна Республіка Крим","Мілководне"]
[null,null,null,null,null,null,null,null,null,null,null,null,null,null,null,null,"Виробництво продукції, н.в.і.у.",null,null,null,null,null,null,null,null,null,null,null,null,null,null,null,null,null,null,null,null,null,null,null,null,null,null,null,null,"Автономна Республіка Крим","Мічурінівка"]
[null,null,null,null,null,null,null,null,null,null,null,null,null,null,null,null,"Виробництво мітел і щіток",null,null,null,null,null,null,null,null,null,null,null,null,null,null,null,null,null,null,null,null,null,null,null,null,null,null,null,null,"Автономна Республіка Крим","Мічурінське"]
[null,null,null,null,null,null,null,null,null,null,null,null,null,null,null,null,"Виробництво іншої продукції, н.в.і.у.",null,null,null,null,null,null,null,null,null,null,null,null,null,null,null,null,null,null,null,null,null,null,null,null,null,null,null,null,"Автономна Республіка Крим","Многоводне"]
[null,null,null,null,null,null,null,null,null,null,null,null,null,null,null,null,"Ремонт і монтаж машин і устатковання",null,null,null,null,null,null,null,null,null,null,null,null,null,null,null,null,null,null,null,null,null,null,null,null,null,null,null,null,"Автономна Республіка Крим","Многоріччя"]
[null,null,null,null,null,null,null,null,null,null,null,null,null,null,null,null,"Ремонт і технічне обслуговування готових металевих виробів, машин і устатковання",null,null,null,null,null,null,null,null,null,null,null,null,null,null,null,null,null,null,null,null,null,null,null,null,null,null,null,null,"Автономна Республіка Крим","Молодіжне"]
[null,null,null,null,null,null,null,null,null,null,null,null,null,null,null,null,"Ремонт і технічне обслуговування готових металевих виробів",null,null,null,null,null,null,null,null,null,null,null,null,null,null,null,null,null,null,null,null,null,null,null,null,null,null,null,null,"Автономна Республіка Крим","Молочне"]
[null,null,null,null,null,null,null,null,null,null,null,null,null,null,null,null,"Ремонт і технічне обслуговування машин і устатковання промислового призначення",null,null,null,null,null,null,null,null,null,null,null,null,null,null,null,null,null,null,null,null,null,null,null,null,null,null,null,null,"Автономна Республіка Крим","Молочне (Ковильнівська сільська рада)"]
[null,null,null,null,null,null,null,null,null,null,null,null,null,null,null,null,"Ремонт і технічне обслуговування електронного й оптичного устатковання",null,null,null,null,null,null,null,null,null,null,null,null,null,null,null,null,null,null,null,null,null,null,null,null,null,null,null,null,"Автономна Республіка Крим","Морське"]
[null,null,null,null,null,null,null,null,null,null,null,null,null,null,null,null,"Ремонт і технічне обслуговування електричного устатковання",null,null,null,null,null,null,null,null,null,null,null,null,null,null,null,null,null,null,null,null,null,null,null,null,null,null,null,null,"Автономна Республіка Крим","Мостове"]
[null,null,null,null,null,null,null,null,null,null,null,null,null,null,null,null,"Ремонт і технічне обслуговування суден і човнів",null,null,null,null,null,null,null,null,null,null,null,null,null,null,null,null,null,null,null,null,null,null,null,null,null,null,null,null,"Автономна Республіка Крим","Мраморне"]
[null,null,null,null,null,null,null,null,null,null,null,null,null,null,null,null,"Ремонт і технічне обслуговування повітряних і космічних літальних апаратів",null,null,null,null,null,null,null,null,null,null,null,null,null,null,null,null,null,null,null,null,null,null,null,null,null,null,null,null,"Автономна Республіка Крим","Муромське"]
[null,null,null,null,null,null,null,null,null,null,null,null,null,null,null,null,"Ремонт і технічне обслуговування інших транспортних засобів",null,null,null,null,null,null,null,null,null,null,null,null,null,null,null,null,null,null,null,null,null,null,null,null,null,null,null,null,"Автономна Республіка Крим","Мускатне"]
[null,null,null,null,null,null,null,null,null,null,null,null,null,null,null,null,"Ремонт і технічне обслуговування інших машин і устатковання",null,null,null,null,null,null,null,null,null,null,null,null,null,null,null,null,null,null,null,null,null,null,null,null,null,null,null,null,"Автономна Республіка Крим","Набережне"]
[null,null,null,null,null,null,null,null,null,null,null,null,null,null,null,null,"Установлення та монтаж машин і устатковання",null,null,null,null,null,null,null,null,null,null,null,null,null,null,null,null,null,null,null,null,null,null,null,null,null,null,null,null,"Автономна Республіка Крим","Нагірне"]
[null,null,null,null,null,null,null,null,null,null,null,null,null,null,null,null,"Установлення та монтаж машин і устатковання",null,null,null,null,null,null,null,null,null,null,null,null,null,null,null,null,null,null,null,null,null,null,null,null,null,null,null,null,"Автономна Республіка Крим","Надежда"]
[null,null,null,null,null,null,null,null,null,null,null,null,null,null,null,null,"Постачання електроенергії, газу, пари та кондиційованого повітря",null,null,null,null,null,null,null,null,null,null,null,null,null,null,null,null,null,null,null,null,null,null,null,null,null,null,null,null,"Автономна Республіка Крим","Надеждине (Красноармійська)"]
[null,null,null,null,null,null,null,null,null,null,null,null,null,null,null,null,"Постачання електроенергії, газу, пари та кондиційованого повітря",null,null,null,null,null,null,null,null,null,null,null,null,null,null,null,null,null,null,null,null,null,null,null,null,null,null,null,null,"Автономна Республіка Крим","Найдьонівка"]
[null,null,null,null,null,null,null,null,null,null,null,null,null,null,null,null,"Виробництво, передача та розподілення електроенергії",null,null,null,null,null,null,null,null,null,null,null,null,null,null,null,null,null,null,null,null,null,null,null,null,null,null,null,null,"Автономна Республіка Крим","Наникове"]
[null,null,null,null,null,null,null,null,null,null,null,null,null,null,null,null,"Виробництво електроенергії",null,null,null,null,null,null,null,null,null,null,null,null,null,null,null,null,null,null,null,null,null,null,null,null,null,null,null,null,"Автономна Республіка Крим","Насипне"]
[null,null,null,null,null,null,null,null,null,null,null,null,null,null,null,null,"Передача електроенергії",null,null,null,null,null,null,null,null,null,null,null,null,null,null,null,null,null,null,null,null,null,null,null,null,null,null,null,null,"Автономна Республіка Крим","Наташине"]
[null,null,null,null,null,null,null,null,null,null,null,null,null,null,null,null,"Розподілення електроенергії",null,null,null,null,null,null,null,null,null,null,null,null,null,null,null,null,null,null,null,null,null,null,null,null,null,null,null,null,"Автономна Республіка Крим","Наумівка"]
[null,null,null,null,null,null,null,null,null,null,null,null,null,null,null,null,"Торгівля електроенергією",null,null,null,null,null,null,null,null,null,null,null,null,null,null,null,null,null,null,null,null,null,null,null,null,null,null,null,null,"Автономна Республіка Крим","Научний"]
[null,null,null,null,null,null,null,null,null,null,null,null,null,null,null,null,"Виробництво газу; розподілення газоподібного палива через місцеві (локальні) трубопроводи",null,null,null,null,null,null,null,null,null,null,null,null,null,null,null,null,null,null,null,null,null,null,null,null,null,null,null,null,"Автономна Республіка Крим","Нахідка"]
[null,null,null,null,null,null,null,null,null,null,null,null,null,null,null,null,"Виробництво газу",null,null,null,null,null,null,null,null,null,null,null,null,null,null,null,null,null,null,null,null,null,null,null,null,null,null,null,null,"Автономна Республіка Крим","Нахімове"]
[null,null,null,null,null,null,null,null,null,null,null,null,null,null,null,null,"Розподілення газоподібного палива через місцеві (локальні) трубопроводи",null,null,null,null,null,null,null,null,null,null,null,null,null,null,null,null,null,null,null,null,null,null,null,null,null,null,null,null,"Автономна Республіка Крим","Невське"]
[null,null,null,null,null,null,null,null,null,null,null,null,null,null,null,null,"Торгівля газом через місцеві (локальні) трубопроводи",null,null,null,null,null,null,null,null,null,null,null,null,null,null,null,null,null,null,null,null,null,null,null,null,null,null,null,null,"Автономна Республіка Крим","Некрасове"]
[null,null,null,null,null,null,null,null,null,null,null,null,null,null,null,null,"Постачання пари, гарячої води та кондиційованого повітря",null,null,null,null,null,null,null,null,null,null,null,null,null,null,null,null,null,null,null,null,null,null,null,null,null,null,null,null,"Автономна Республіка Крим","Некрасовка"]
[null,null,null,null,null,null,null,null,null,null,null,null,null,null,null,null,"Постачання пари, гарячої води та кондиційованого повітря",null,null,null,null,null,null,null,null,null,null,null,null,null,null,null,null,null,null,null,null,null,null,null,null,null,null,null,null,"Автономна Республіка Крим","Нива"]
[null,null,null,null,null,null,null,null,null,null,null,null,null,null,null,null,"Водопостачання; каналізація, поводження з відходами",null,null,null,null,null,null,null,null,null,null,null,null,null,null,null,null,null,null,null,null,null,null,null,null,null,null,null,null,"Автономна Республіка Крим","Нива (Березівська)"]
[null,null,null,null,null,null,null,null,null,null,null,null,null,null,null,null,"Забір, очищення та постачання води",null,null,null,null,null,null,null,null,null,null,null,null,null,null,null,null,null,null,null,null,null,null,null,null,null,null,null,null,"Автономна Республіка Крим","Нижнє Запрудне"]
[null,null,null,null,null,null,null,null,null,null,null,null,null,null,null,null,"Забір, очищення та постачання води",null,null,null,null,null,null,null,null,null,null,null,null,null,null,null,null,null,null,null,null,null,null,null,null,null,null,null,null,"Автономна Республіка Крим","Нижні Орішники"]
[null,null,null,null,null,null,null,null,null,null,null,null,null,null,null,null,"Забір очищення та постачання води",null,null,null,null,null,null,null,null,null,null,null,null,null,null,null,null,null,null,null,null,null,null,null,null,null,null,null,null,"Автономна Республіка Крим","Нижні Острожки"]
[null,null,null,null,null,null,null,null,null,null,null,null,null,null,null,null,"Каналізація, відведення й очищення стічних вод",null,null,null,null,null,null,null,null,null,null,null,null,null,null,null,null,null,null,null,null,null,null,null,null,null,null,null,null,"Автономна Республіка Крим","Нижня Голубинка"]
[null,null,null,null,null,null,null,null,null,null,null,null,null,null,null,null,"Каналізація, відведення й очищення стічних вод",null,null,null,null,null,null,null,null,null,null,null,null,null,null,null,null,null,null,null,null,null,null,null,null,null,null,null,null,"Автономна Республіка Крим","Нижня Кутузовка"]
[null,null,null,null,null,null,null,null,null,null,null,null,null,null,null,null,"Каналізація, відведення й очищення стічних вод",null,null,null,null,null,null,null,null,null,null,null,null,null,null,null,null,null,null,null,null,null,null,null,null,null,null,null,null,"Автономна Республіка Крим","Нижньогірський"]
[null,null,null,null,null,null,null,null,null,null,null,null,null,null,null,null,"Збирання, оброблення й видалення відходів; відновлення матеріалів",null,null,null,null,null,null,null,null,null,null,null,null,null,null,null,null,null,null,null,null,null,null,null,null,null,null,null,null,"Автономна Республіка Крим","Нижньозаморське"]
[null,null,null,null,null,null,null,null,null,null,null,null,null,null,null,null,"Збирання відходів",null,null,null,null,null,null,null,null,null,null,null,null,null,null,null,null,null,null,null,null,null,null,null,null,null,null,null,null,"Автономна Республіка Крим","Нижньокурганне"]
[null,null,null,null,null,null,null,null,null,null,null,null,null,null,null,null,"Збирання безпечних відходів",null,null,null,null,null,null,null,null,null,null,null,null,null,null,null,null,null,null,null,null,null,null,null,null,null,null,null,null,"Автономна Республіка Крим","Низинне"]
[null,null,null,null,null,null,null,null,null,null,null,null,null,null,null,null,"Збирання небезпечних відходів",null,null,null,null,null,null,null,null,null,null,null,null,null,null,null,null,null,null,null,null,null,null,null,null,null,null,null,null,"Автономна Республіка Крим","Низинне (Зерновська)"]
[null,null,null,null,null,null,null,null,null,null,null,null,null,null,null,null,"Оброблення та видалення відходів",null,null,null,null,null,null,null,null,null,null,null,null,null,null,null,null,null,null,null,null,null,null,null,null,null,null,null,null,"Автономна Республіка Крим","Низівка"]
[null,null,null,null,null,null,null,null,null,null,null,null,null,null,null,null,"Оброблення та видалення безпечних відходів",null,null,null,null,null,null,null,null,null,null,null,null,null,null,null,null,null,null,null,null,null,null,null,null,null,null,null,null,"Автономна Республіка Крим","Ніжинське"]
[null,null,null,null,null,null,null,null,null,null,null,null,null,null,null,null,"Оброблення та видалення небезпечних відходів",null,null,null,null,null,null,null,null,null,null,null,null,null,null,null,null,null,null,null,null,null,null,null,null,null,null,null,null,"Автономна Республіка Крим","Нікіта"]
[null,null,null,null,null,null,null,null,null,null,null,null,null,null,null,null,"Відновлення матеріалів",null,null,null,null,null,null,null,null,null,null,null,null,null,null,null,null,null,null,null,null,null,null,null,null,null,null,null,null,"Автономна Республіка Крим","Нова Деревня (Крестянівскої)"]
[null,null,null,null,null,null,null,null,null,null,null,null,null,null,null,null,"Демонтаж (розбирання) машин і устатковання",null,null,null,null,null,null,null,null,null,null,null,null,null,null,null,null,null,null,null,null,null,null,null,null,null,null,null,null,"Автономна Республіка Крим","Нове  Життя"]
[null,null,null,null,null,null,null,null,null,null,null,null,null,null,null,null,"Відновлення відсортованих відходів",null,null,null,null,null,null,null,null,null,null,null,null,null,null,null,null,null,null,null,null,null,null,null,null,null,null,null,null,"Автономна Республіка Крим","Новеньке"]
[null,null,null,null,null,null,null,null,null,null,null,null,null,null,null,null,"Інша діяльність щодо поводження з відходами",null,null,null,null,null,null,null,null,null,null,null,null,null,null,null,null,null,null,null,null,null,null,null,null,null,null,null,null,"Автономна Республіка Крим","Новий Мир"]
[null,null,null,null,null,null,null,null,null,null,null,null,null,null,null,null,"Інша діяльність щодо поводження з відходами",null,null,null,null,null,null,null,null,null,null,null,null,null,null,null,null,null,null,null,null,null,null,null,null,null,null,null,null,"Автономна Республіка Крим","Новий Сад"]
[null,null,null,null,null,null,null,null,null,null,null,null,null,null,null,null,"Інша діяльність щодо поводження з відходами",null,null,null,null,null,null,null,null,null,null,null,null,null,null,null,null,null,null,null,null,null,null,null,null,null,null,null,null,"Автономна Республіка Крим","Новий Світ"]
[null,null,null,null,null,null,null,null,null,null,null,null,null,null,null,null,"Будівництво",null,null,null,null,null,null,null,null,null,null,null,null,null,null,null,null,null,null,null,null,null,null,null,null,null,null,null,null,"Автономна Республіка Крим","Новоандріївка"]
[null,null,null,null,null,null,null,null,null,null,null,null,null,null,null,null,"Будівництво будівель",null,null,null,null,null,null,null,null,null,null,null,null,null,null,null,null,null,null,null,null,null,null,null,null,null,null,null,null,"Автономна Республіка Крим","Нововасилівка"]
[null,null,null,null,null,null,null,null,null,null,null,null,null,null,null,null,"Організація будівництва будівель",null,null,null,null,null,null,null,null,null,null,null,null,null,null,null,null,null,null,null,null,null,null,null,null,null,null,null,null,"Автономна Республіка Крим","Нововідрадне"]
[null,null,null,null,null,null,null,null,null,null,null,null,null,null,null,null,"Організація будівництва будівель",null,null,null,null,null,null,null,null,null,null,null,null,null,null,null,null,null,null,null,null,null,null,null,null,null,null,null,null,"Автономна Республіка Крим","Новогригорівка"]
[null,null,null,null,null,null,null,null,null,null,null,null,null,null,null,null,"Будівництво житлових і нежитлових будівель",null,null,null,null,null,null,null,null,null,null,null,null,null,null,null,null,null,null,null,null,null,null,null,null,null,null,null,null,"Автономна Республіка Крим","Новодолинка"]
[null,null,null,null,null,null,null,null,null,null,null,null,null,null,null,null,"Будівництво житлових і нежитлових будівель",null,null,null,null,null,null,null,null,null,null,null,null,null,null,null,null,null,null,null,null,null,null,null,null,null,null,null,null,"Автономна Республіка Крим","Новоестонія"]
[null,null,null,null,null,null,null,null,null,null,null,null,null,null,null,null,"Будівництво споруд",null,null,null,null,null,null,null,null,null,null,null,null,null,null,null,null,null,null,null,null,null,null,null,null,null,null,null,null,"Автономна Республіка Крим","Новожилівка"]
[null,null,null,null,null,null,null,null,null,null,null,null,null,null,null,null,"Будівництво доріг і залізниць",null,null,null,null,null,null,null,null,null,null,null,null,null,null,null,null,null,null,null,null,null,null,null,null,null,null,null,null,"Автономна Республіка Крим","Новозбур'ївка"]
[null,null,null,null,null,null,null,null,null,null,null,null,null,null,null,null,"Будівництво доріг і автострад",null,null,null,null,null,null,null,null,null,null,null,null,null,null,null,null,null,null,null,null,null,null,null,null,null,null,null,null,"Автономна Республіка Крим","Новозуївка"]
[null,null,null,null,null,null,null,null,null,null,null,null,null,null,null,null,"Будівництво залізниць і метрополітену",null,null,null,null,null,null,null,null,null,null,null,null,null,null,null,null,null,null,null,null,null,null,null,null,null,null,null,null,"Автономна Республіка Крим","Новоіванівка"]
[null,null,null,null,null,null,null,null,null,null,null,null,null,null,null,null,"Будівництво мостів і тунелів",null,null,null,null,null,null,null,null,null,null,null,null,null,null,null,null,null,null,null,null,null,null,null,null,null,null,null,null,"Автономна Республіка Крим","Новоіванівка (Магазинська)"]
[null,null,null,null,null,null,null,null,null,null,null,null,null,null,null,null,"Будівництво комунікацій",null,null,null,null,null,null,null,null,null,null,null,null,null,null,null,null,null,null,null,null,null,null,null,null,null,null,null,null,"Автономна Республіка Крим","Новокатеринівка"]
[null,null,null,null,null,null,null,null,null,null,null,null,null,null,null,null,"Будівництво трубопроводів",null,null,null,null,null,null,null,null,null,null,null,null,null,null,null,null,null,null,null,null,null,null,null,null,null,null,null,null,"Автономна Республіка Крим","Новокленове"]
[null,null,null,null,null,null,null,null,null,null,null,null,null,null,null,null,"Будівництво споруд електропостачання та телекомунікацій",null,null,null,null,null,null,null,null,null,null,null,null,null,null,null,null,null,null,null,null,null,null,null,null,null,null,null,null,"Автономна Республіка Крим","Новокостянтинівка"]
[null,null,null,null,null,null,null,null,null,null,null,null,null,null,null,null,"Будівництво інших споруд",null,null,null,null,null,null,null,null,null,null,null,null,null,null,null,null,null,null,null,null,null,null,null,null,null,null,null,null,"Автономна Республіка Крим","Новокримське"]
[null,null,null,null,null,null,null,null,null,null,null,null,null,null,null,null,"Будівництво водних споруд",null,null,null,null,null,null,null,null,null,null,null,null,null,null,null,null,null,null,null,null,null,null,null,null,null,null,null,null,"Автономна Республіка Крим","Новомикільське"]
[null,null,null,null,null,null,null,null,null,null,null,null,null,null,null,null,"Будівництво інших споруд, н.в.і.у.",null,null,null,null,null,null,null,null,null,null,null,null,null,null,null,null,null,null,null,null,null,null,null,null,null,null,null,null,"Автономна Республіка Крим","Новомиколаївка"]
[null,null,null,null,null,null,null,null,null,null,null,null,null,null,null,null,"Спеціалізовані будівельні роботи",null,null,null,null,null,null,null,null,null,null,null,null,null,null,null,null,null,null,null,null,null,null,null,null,null,null,null,null,"Автономна Республіка Крим","Новомиколаївка (Орлівської)"]
[null,null,null,null,null,null,null,null,null,null,null,null,null,null,null,null,"Знесення та підготовчі роботи на будівельному майданчику",null,null,null,null,null,null,null,null,null,null,null,null,null,null,null,null,null,null,null,null,null,null,null,null,null,null,null,null,"Автономна Республіка Крим","Новоозерне"]
[null,null,null,null,null,null,null,null,null,null,null,null,null,null,null,null,"Знесення",null,null,null,null,null,null,null,null,null,null,null,null,null,null,null,null,null,null,null,null,null,null,null,null,null,null,null,null,"Автономна Республіка Крим","Новоолександрівка (Магазинської)"]
[null,null,null,null,null,null,null,null,null,null,null,null,null,null,null,null,"Підготовчі роботи на будівельному майданчику",null,null,null,null,null,null,null,null,null,null,null,null,null,null,null,null,null,null,null,null,null,null,null,null,null,null,null,null,"Автономна Республіка Крим","Новоолексіївка"]
[null,null,null,null,null,null,null,null,null,null,null,null,null,null,null,null,"Розвідувальне буріння",null,null,null,null,null,null,null,null,null,null,null,null,null,null,null,null,null,null,null,null,null,null,null,null,null,null,null,null,"Автономна Республіка Крим","Новопавлівка"]
[null,null,null,null,null,null,null,null,null,null,null,null,null,null,null,null,"Електромонтажні, водопровідні та інші будівельно-монтажні роботи",null,null,null,null,null,null,null,null,null,null,null,null,null,null,null,null,null,null,null,null,null,null,null,null,null,null,null,null,"Автономна Республіка Крим","Новопавлівка (Новопавлівської)"]
[null,null,null,null,null,null,null,null,null,null,null,null,null,null,null,null,"Діяльність посередників, що спеціалізуються в торгівлі іншими товарами",null,null,null,null,null,null,null,null,null,null,null,null,null,null,null,null,null,null,null,null,null,null,null,null,null,null,null,null,"Автономна Республіка Крим","Опушки"]
[null,null,null,null,null,null,null,null,null,null,null,null,null,null,null,null,"Оптова торгівля годинниками та ювелірними виробами",null,null,null,null,null,null,null,null,null,null,null,null,null,null,null,null,null,null,null,null,null,null,null,null,null,null,null,null,"Автономна Республіка Крим","Первомайське (Первомайської)"]
[null,null,null,null,null,null,null,null,null,null,null,null,null,null,null,null,"Оптова торгівля іншими проміжними продуктами",null,null,null,null,null,null,null,null,null,null,null,null,null,null,null,null,null,null,null,null,null,null,null,null,null,null,null,null,"Автономна Республіка Крим","Побєдне"]
[null,null,null,null,null,null,null,null,null,null,null,null,null,null,null,null,"Надання послуг перевезення речей (переїзду)",null,null,null,null,null,null,null,null,null,null,null,null,null,null,null,null,null,null,null,null,null,null,null,null,null,null,null,null,"Автономна Республіка Крим","Розкішне"]
[null,null,null,null,null,null,null,null,null,null,null,null,null,null,null,null,"Складське господарство",null,null,null,null,null,null,null,null,null,null,null,null,null,null,null,null,null,null,null,null,null,null,null,null,null,null,null,null,"Автономна Республіка Крим","Санаторне"]
[null,null,null,null,null,null,null,null,null,null,null,null,null,null,null,null,"Діяльність у сфері проводового електрозв'язку",null,null,null,null,null,null,null,null,null,null,null,null,null,null,null,null,null,null,null,null,null,null,null,null,null,null,null,null,"Автономна Республіка Крим","Степне (Степновської)"]
[null,null,null,null,null,null,null,null,null,null,null,null,null,null,null,null,"Інші види грошового посередництва",null,null,null,null,null,null,null,null,null,null,null,null,null,null,null,null,null,null,null,null,null,null,null,null,null,null,null,null,"Автономна Республіка Крим","Тепле"]
[null,null,null,null,null,null,null,null,null,null,null,null,null,null,null,null,"Дослідження й експериментальні розробки у сфері суспільних і гуманітарних наук",null,null,null,null,null,null,null,null,null,null,null,null,null,null,null,null,null,null,null,null,null,null,null,null,null,null,null,null,"Автономна Республіка Крим","Цвіточне"]
[null,null,null,null,null,null,null,null,null,null,null,null,null,null,null,null,"Прокат побутових виробів і предметів особистого вжитку",null,null,null,null,null,null,null,null,null,null,null,null,null,null,null,null,null,null,null,null,null,null,null,null,null,null,null,null,"Автономна Республіка Крим","Шаумян"]
[null,null,null,null,null,null,null,null,null,null,null,null,null,null,null,null,"Інша діяльність із забезпечення трудовими ресурсами",null,null,null,null,null,null,null,null,null,null,null,null,null,null,null,null,null,null,null,null,null,null,null,null,null,null,null,null,"Автономна Республіка Крим","Яковлівка"]
[null,null,null,null,null,null,null,null,null,null,null,null,null,null,null,null,"Професійно-технічна освіта",null,null,null,null,null,null,null,null,null,null,null,null,null,null,null,null,null,null,null,null,null,null,null,null,null,null,null,null,"Вінницька","Бохоники"]
[null,null,null,null,null,null,null,null,null,null,null,null,null,null,null,null,"Надання послуг догляду із забезпеченням проживання для осіб з розумовими вадами та хворих на наркоманію",null,null,null,null,null,null,null,null,null,null,null,null,null,null,null,null,null,null,null,null,null,null,null,null,null,null,null,null,"Вінницька","Васютинці"]
[null,null,null,null,null,null,null,null,null,null,null,null,null,null,null,null,"Ремонт електронної апаратури побутового призначення для приймання, записування, відтворювання звуку й зображення",null,null,null,null,null,null,null,null,null,null,null,null,null,null,null,null,null,null,null,null,null,null,null,null,null,null,null,null,"Вінницька","Гальжбіївка"]
[null,null,null,null,null,null,null,null,null,null,null,null,null,null,null,null,"Діяльність екстериторіальних організацій і органів",null,null,null,null,null,null,null,null,null,null,null,null,null,null,null,null,null,null,null,null,null,null,null,null,null,null,null,null,"Вінницька","Городківка"]
[null,null,null,null,null,null,null,null,null,null,null,null,null,null,null,null,null,null,null,null,null,null,null,null,null,null,null,null,null,null,null,null,null,null,null,null,null,null,null,null,null,null,null,null,null,"Вінницька","Жабелівка"]
[null,null,null,null,null,null,null,null,null,null,null,null,null,null,null,null,null,null,null,null,null,null,null,null,null,null,null,null,null,null,null,null,null,null,null,null,null,null,null,null,null,null,null,null,null,"Вінницька","Закриниччя"]
[null,null,null,null,null,null,null,null,null,null,null,null,null,null,null,null,null,null,null,null,null,null,null,null,null,null,null,null,null,null,null,null,null,null,null,null,null,null,null,null,null,null,null,null,null,"Вінницька","Кисляк (Карбівська сільська рада)"]
[null,null,null,null,null,null,null,null,null,null,null,null,null,null,null,null,null,null,null,null,null,null,null,null,null,null,null,null,null,null,null,null,null,null,null,null,null,null,null,null,null,null,null,null,null,"Вінницька","Комаргородське, селище"]
[null,null,null,null,null,null,null,null,null,null,null,null,null,null,null,null,null,null,null,null,null,null,null,null,null,null,null,null,null,null,null,null,null,null,null,null,null,null,null,null,null,null,null,null,null,"Вінницька","Кудіївці"]
[null,null,null,null,null,null,null,null,null,null,null,null,null,null,null,null,null,null,null,null,null,null,null,null,null,null,null,null,null,null,null,null,null,null,null,null,null,null,null,null,null,null,null,null,null,"Вінницька","Лисогора"]
[null,null,null,null,null,null,null,null,null,null,null,null,null,null,null,null,null,null,null,null,null,null,null,null,null,null,null,null,null,null,null,null,null,null,null,null,null,null,null,null,null,null,null,null,null,"Вінницька","Лука-Мелешківська"]
[null,null,null,null,null,null,null,null,null,null,null,null,null,null,null,null,null,null,null,null,null,null,null,null,null,null,null,null,null,null,null,null,null,null,null,null,null,null,null,null,null,null,null,null,null,"Вінницька","Мончинці"]
[null,null,null,null,null,null,null,null,null,null,null,null,null,null,null,null,null,null,null,null,null,null,null,null,null,null,null,null,null,null,null,null,null,null,null,null,null,null,null,null,null,null,null,null,null,"Вінницька","Нишівці"]
[null,null,null,null,null,null,null,null,null,null,null,null,null,null,null,null,null,null,null,null,null,null,null,null,null,null,null,null,null,null,null,null,null,null,null,null,null,null,null,null,null,null,null,null,null,"Вінницька","Петрунівка"]
[null,null,null,null,null,null,null,null,null,null,null,null,null,null,null,null,null,null,null,null,null,null,null,null,null,null,null,null,null,null,null,null,null,null,null,null,null,null,null,null,null,null,null,null,null,"Вінницька","Польова Лисіївка"]
[null,null,null,null,null,null,null,null,null,null,null,null,null,null,null,null,null,null,null,null,null,null,null,null,null,null,null,null,null,null,null,null,null,null,null,null,null,null,null,null,null,null,null,null,null,"Вінницька","Рогізна"]
[]
[null,null,null,null,null,null,null,null,null,null,null,null,null,null,null,null,null,null,null,null,null,null,null,null,null,null,null,null,null,null,null,null,null,null,null,null,null,null,null,null,null,null,null,null,null,"Вінницька","Слобода-Межирівська"]
[null,null,null,null,null,null,null,null,null,null,null,null,null,null,null,null,null,null,null,null,null,null,null,null,null,null,null,null,null,null,null,null,null,null,null,null,null,null,null,null,null,null,null,null,null,"Вінницька","Теклинівка"]
[null,null,null,null,null,null,null,null,null,null,null,null,null,null,null,null,null,null,null,null,null,null,null,null,null,null,null,null,null,null,null,null,null,null,null,null,null,null,null,null,null,null,null,null,null,"Вінницька","Туча"]
[null,null,null,null,null,null,null,null,null,null,null,null,null,null,null,null,null,null,null,null,null,null,null,null,null,null,null,null,null,null,null,null,null,null,null,null,null,null,null,null,null,null,null,null,null,"Вінницька","Шевченківка (Комарівська сільська рада)"]
[null,null,null,null,null,null,null,null,null,null,null,null,null,null,null,null,null,null,null,null,null,null,null,null,null,null,null,null,null,null,null,null,null,null,null,null,null,null,null,null,null,null,null,null,null,"Вінницька","Язвинки"]
[null,null,null,null,null,null,null,null,null,null,null,null,null,null,null,null,null,null,null,null,null,null,null,null,null,null,null,null,null,null,null,null,null,null,null,null,null,null,null,null,null,null,null,null,null,"Волинська","Боровуха"]
[null,null,null,null,null,null,null,null,null,null,null,null,null,null,null,null,null,null,null,null,null,null,null,null,null,null,null,null,null,null,null,null,null,null,null,null,null,null,null,null,null,null,null,null,null,"Волинська","Бузаки"]
[null,null,null,null,null,null,null,null,null,null,null,null,null,null,null,null,null,null,null,null,null,null,null,null,null,null,null,null,null,null,null,null,null,null,null,null,null,null,null,null,null,null,null,null,null,"Волинська","Ворчин"]
[null,null,null,null,null,null,null,null,null,null,null,null,null,null,null,null,null,null,null,null,null,null,null,null,null,null,null,null,null,null,null,null,null,null,null,null,null,null,null,null,null,null,null,null,null,"Волинська","Гораймівка"]
[null,null,null,null,null,null,null,null,null,null,null,null,null,null,null,null,null,null,null,null,null,null,null,null,null,null,null,null,null,null,null,null,null,null,null,null,null,null,null,null,null,null,null,null,null,"Волинська","Грузятин"]
[null,null,null,null,null,null,null,null,null,null,null,null,null,null,null,null,null,null,null,null,null,null,null,null,null,null,null,null,null,null,null,null,null,null,null,null,null,null,null,null,null,null,null,null,null,"Волинська","Журавець"]
[null,null,null,null,null,null,null,null,null,null,null,null,null,null,null,null,null,null,null,null,null,null,null,null,null,null,null,null,null,null,null,null,null,null,null,null,null,null,null,null,null,null,null,null,null,"Волинська","Згорани"]
[null,null,null,null,null,null,null,null,null,null,null,null,null,null,null,null,null,null,null,null,null,null,null,null,null,null,null,null,null,null,null,null,null,null,null,null,null,null,null,null,null,null,null,null,null,"Волинська","Коцюри"]
[null,null,null,null,null,null,null,null,null,null,null,null,null,null,null,null,null,null,null,null,null,null,null,null,null,null,null,null,null,null,null,null,null,null,null,null,null,null,null,null,null,null,null,null,null,"Волинська","Кульчин"]
[null,null,null,null,null,null,null,null,null,null,null,null,null,null,null,null,null,null,null,null,null,null,null,null,null,null,null,null,null,null,null,null,null,null,null,null,null,null,null,null,null,null,null,null,null,"Волинська","Малий Порськ"]
[null,null,null,null,null,null,null,null,null,null,null,null,null,null,null,null,null,null,null,null,null,null,null,null,null,null,null,null,null,null,null,null,null,null,null,null,null,null,null,null,null,null,null,null,null,"Волинська","Милуші"]
[null,null,null,null,null,null,null,null,null,null,null,null,null,null,null,null,null,null,null,null,null,null,null,null,null,null,null,null,null,null,null,null,null,null,null,null,null,null,null,null,null,null,null,null,null,"Волинська","Мосир"]
[null,null,null,null,null,null,null,null,null,null,null,null,null,null,null,null,null,null,null,null,null,null,null,null,null,null,null,null,null,null,null,null,null,null,null,null,null,null,null,null,null,null,null,null,null,"Волинська","Оконськ"]
[null,null,null,null,null,null,null,null,null,null,null,null,null,null,null,null,null,null,null,null,null,null,null,null,null,null,null,null,null,null,null,null,null,null,null,null,null,null,null,null,null,null,null,null,null,"Волинська","Переспа"]
[null,null,null,null,null,null,null,null,null,null,null,null,null,null,null,null,null,null,null,null,null,null,null,null,null,null,null,null,null,null,null,null,null,null,null,null,null,null,null,null,null,null,null,null,null,"Волинська","Рованці"]
[null,null,null,null,null,null,null,null,null,null,null,null,null,null,null,null,null,null,null,null,null,null,null,null,null,null,null,null,null,null,null,null,null,null,null,null,null,null,null,null,null,null,null,null,null,"Волинська","Сапогове"]
[null,null,null,null,null,null,null,null,null,null,null,null,null,null,null,null,null,null,null,null,null,null,null,null,null,null,null,null,null,null,null,null,null,null,null,null,null,null,null,null,null,null,null,null,null,"Волинська","Стрільче"]
[null,null,null,null,null,null,null,null,null,null,null,null,null,null,null,null,null,null,null,null,null,null,null,null,null,null,null,null,null,null,null,null,null,null,null,null,null,null,null,null,null,null,null,null,null,"Волинська","Топилище"]
[null,null,null,null,null,null,null,null,null,null,null,null,null,null,null,null,null,null,null,null,null,null,null,null,null,null,null,null,null,null,null,null,null,null,null,null,null,null,null,null,null,null,null,null,null,"Волинська","Хмелів"]
[null,null,null,null,null,null,null,null,null,null,null,null,null,null,null,null,null,null,null,null,null,null,null,null,null,null,null,null,null,null,null,null,null,null,null,null,null,null,null,null,null,null,null,null,null,"Волинська","Щурин"]
[null,null,null,null,null,null,null,null,null,null,null,null,null,null,null,null,null,null,null,null,null,null,null,null,null,null,null,null,null,null,null,null,null,null,null,null,null,null,null,null,null,null,null,null,null,"Дніпропетровська","Андріївка (Миролюбівська)"]
[null,null,null,null,null,null,null,null,null,null,null,null,null,null,null,null,null,null,null,null,null,null,null,null,null,null,null,null,null,null,null,null,null,null,null,null,null,null,null,null,null,null,null,null,null,"Дніпропетровська","Велика Костромка (Великокостромська сільська рада)"]
[null,null,null,null,null,null,null,null,null,null,null,null,null,null,null,null,null,null,null,null,null,null,null,null,null,null,null,null,null,null,null,null,null,null,null,null,null,null,null,null,null,null,null,null,null,"Дніпропетровська","Веселе (Приютська с-р)"]
[null,null,null,null,null,null,null,null,null,null,null,null,null,null,null,null,null,null,null,null,null,null,null,null,null,null,null,null,null,null,null,null,null,null,null,null,null,null,null,null,null,null,null,null,null,"Дніпропетровська","Гвардійське (Гвардійська с-р)"]
[null,null,null,null,null,null,null,null,null,null,null,null,null,null,null,null,null,null,null,null,null,null,null,null,null,null,null,null,null,null,null,null,null,null,null,null,null,null,null,null,null,null,null,null,null,"Дніпропетровська","Грамівка"]
[null,null,null,null,null,null,null,null,null,null,null,null,null,null,null,null,null,null,null,null,null,null,null,null,null,null,null,null,null,null,null,null,null,null,null,null,null,null,null,null,null,null,null,null,null,"Дніпропетровська","Дубове (Царичанська сільська рада)"]
[null,null,null,null,null,null,null,null,null,null,null,null,null,null,null,null,null,null,null,null,null,null,null,null,null,null,null,null,null,null,null,null,null,null,null,null,null,null,null,null,null,null,null,null,null,"Дніпропетровська","Заполички"]
[null,null,null,null,null,null,null,null,null,null,null,null,null,null,null,null,null,null,null,null,null,null,null,null,null,null,null,null,null,null,null,null,null,null,null,null,null,null,null,null,null,null,null,null,null,"Дніпропетровська","Зелений Гай (Брагинівська сільрада)"]
[null,null,null,null,null,null,null,null,null,null,null,null,null,null,null,null,null,null,null,null,null,null,null,null,null,null,null,null,null,null,null,null,null,null,null,null,null,null,null,null,null,null,null,null,null,"Дніпропетровська","Кам'яно - Зубилівка"]
[null,null,null,null,null,null,null,null,null,null,null,null,null,null,null,null,null,null,null,null,null,null,null,null,null,null,null,null,null,null,null,null,null,null,null,null,null,null,null,null,null,null,null,null,null,"Дніпропетровська","Керносівка"]
[null,null,null,null,null,null,null,null,null,null,null,null,null,null,null,null,null,null,null,null,null,null,null,null,null,null,null,null,null,null,null,null,null,null,null,null,null,null,null,null,null,null,null,null,null,"Дніпропетровська","Кременівка (Заплавська)"]
[null,null,null,null,null,null,null,null,null,null,null,null,null,null,null,null,null,null,null,null,null,null,null,null,null,null,null,null,null,null,null,null,null,null,null,null,null,null,null,null,null,null,null,null,null,"Дніпропетровська","Любомирівка (Семенівська сільська рада)"]
[null,null,null,null,null,null,null,null,null,null,null,null,null,null,null,null,null,null,null,null,null,null,null,null,null,null,null,null,null,null,null,null,null,null,null,null,null,null,null,null,null,null,null,null,null,"Дніпропетровська","Мар'ївка (Мар‘ївської)"]
[null,null,null,null,null,null,null,null,null,null,null,null,null,null,null,null,null,null,null,null,null,null,null,null,null,null,null,null,null,null,null,null,null,null,null,null,null,null,null,null,null,null,null,null,null,"Дніпропетровська","Менжинка (Софіївська сільська рада)"]
[null,null,null,null,null,null,null,null,null,null,null,null,null,null,null,null,null,null,null,null,null,null,null,null,null,null,null,null,null,null,null,null,null,null,null,null,null,null,null,null,null,null,null,null,null,"Дніпропетровська","Новий Мир (Кіровська сільська рада)"]
[null,null,null,null,null,null,null,null,null,null,null,null,null,null,null,null,null,null,null,null,null,null,null,null,null,null,null,null,null,null,null,null,null,null,null,null,null,null,null,null,null,null,null,null,null,"Дніпропетровська","Новогурівка (Катернопільська сільська рада)"]
[null,null,null,null,null,null,null,null,null,null,null,null,null,null,null,null,null,null,null,null,null,null,null,null,null,null,null,null,null,null,null,null,null,null,null,null,null,null,null,null,null,null,null,null,null,"Дніпропетровська","Новотерсянське"]
[null,null,null,null,null,null,null,null,null,null,null,null,null,null,null,null,null,null,null,null,null,null,null,null,null,null,null,null,null,null,null,null,null,null,null,null,null,null,null,null,null,null,null,null,null,"Дніпропетровська","Новочорноглазівське"]
[null,null,null,null,null,null,null,null,null,null,null,null,null,null,null,null,null,null,null,null,null,null,null,null,null,null,null,null,null,null,null,null,null,null,null,null,null,null,null,null,null,null,null,null,null,"Дніпропетровська","Орлове"]
[null,null,null,null,null,null,null,null,null,null,null,null,null,null,null,null,null,null,null,null,null,null,null,null,null,null,null,null,null,null,null,null,null,null,null,null,null,null,null,null,null,null,null,null,null,"Дніпропетровська","Поперечне"]
[null,null,null,null,null,null,null,null,null,null,null,null,null,null,null,null,null,null,null,null,null,null,null,null,null,null,null,null,null,null,null,null,null,null,null,null,null,null,null,null,null,null,null,null,null,"Дніпропетровська","Просяна"]
[null,null,null,null,null,null,null,null,null,null,null,null,null,null,null,null,null,null,null,null,null,null,null,null,null,null,null,null,null,null,null,null,null,null,null,null,null,null,null,null,null,null,null,null,null,"Дніпропетровська","Славгород"]
[null,null,null,null,null,null,null,null,null,null,null,null,null,null,null,null,null,null,null,null,null,null,null,null,null,null,null,null,null,null,null,null,null,null,null,null,null,null,null,null,null,null,null,null,null,"Дніпропетровська","Суворівка (Красінська сільська рада)"]
[null,null,null,null,null,null,null,null,null,null,null,null,null,null,null,null,null,null,null,null,null,null,null,null,null,null,null,null,null,null,null,null,null,null,null,null,null,null,null,null,null,null,null,null,null,"Дніпропетровська","Тихий Став (Миколаївська сільська рада)"]
[null,null,null,null,null,null,null,null,null,null,null,null,null,null,null,null,null,null,null,null,null,null,null,null,null,null,null,null,null,null,null,null,null,null,null,null,null,null,null,null,null,null,null,null,null,"Дніпропетровська","Чапаевка (Новопільська сільська рада)"]
[null,null,null,null,null,null,null,null,null,null,null,null,null,null,null,null,null,null,null,null,null,null,null,null,null,null,null,null,null,null,null,null,null,null,null,null,null,null,null,null,null,null,null,null,null,"Дніпропетровська","Червоний Маяк"]
[null,null,null,null,null,null,null,null,null,null,null,null,null,null,null,null,null,null,null,null,null,null,null,null,null,null,null,null,null,null,null,null,null,null,null,null,null,null,null,null,null,null,null,null,null,"Дніпропетровська","Шульгівка (Шульгівська сільська рада)"]
[null,null,null,null,null,null,null,null,null,null,null,null,null,null,null,null,null,null,null,null,null,null,null,null,null,null,null,null,null,null,null,null,null,null,null,null,null,null,null,null,null,null,null,null,null,"Донецька","Ашуркове"]
[null,null,null,null,null,null,null,null,null,null,null,null,null,null,null,null,null,null,null,null,null,null,null,null,null,null,null,null,null,null,null,null,null,null,null,null,null,null,null,null,null,null,null,null,null,"Донецька","Веселе (Краногорівська сільска рада)"]
[null,null,null,null,null,null,null,null,null,null,null,null,null,null,null,null,null,null,null,null,null,null,null,null,null,null,null,null,null,null,null,null,null,null,null,null,null,null,null,null,null,null,null,null,null,"Донецька","Вознесенка (Новоселидівська сільська Рада)"]
[null,null,null,null,null,null,null,null,null,null,null,null,null,null,null,null,null,null,null,null,null,null,null,null,null,null,null,null,null,null,null,null,null,null,null,null,null,null,null,null,null,null,null,null,null,"Донецька","Долинівка (Галицинівська сільська Рада)"]
[null,null,null,null,null,null,null,null,null,null,null,null,null,null,null,null,null,null,null,null,null,null,null,null,null,null,null,null,null,null,null,null,null,null,null,null,null,null,null,null,null,null,null,null,null,"Донецька","Житенко"]
[null,null,null,null,null,null,null,null,null,null,null,null,null,null,null,null,null,null,null,null,null,null,null,null,null,null,null,null,null,null,null,null,null,null,null,null,null,null,null,null,null,null,null,null,null,"Донецька","Золотий Колодязь"]
[null,null,null,null,null,null,null,null,null,null,null,null,null,null,null,null,null,null,null,null,null,null,null,null,null,null,null,null,null,null,null,null,null,null,null,null,null,null,null,null,null,null,null,null,null,"Донецька","Конькове"]
[null,null,null,null,null,null,null,null,null,null,null,null,null,null,null,null,null,null,null,null,null,null,null,null,null,null,null,null,null,null,null,null,null,null,null,null,null,null,null,null,null,null,null,null,null,"Донецька","Красноторка"]
[null,null,null,null,null,null,null,null,null,null,null,null,null,null,null,null,null,null,null,null,null,null,null,null,null,null,null,null,null,null,null,null,null,null,null,null,null,null,null,null,null,null,null,null,null,"Донецька","Менчугове"]
[null,null,null,null,null,null,null,null,null,null,null,null,null,null,null,null,null,null,null,null,null,null,null,null,null,null,null,null,null,null,null,null,null,null,null,null,null,null,null,null,null,null,null,null,null,"Донецька","Мокроєланчик"]
[null,null,null,null,null,null,null,null,null,null,null,null,null,null,null,null,null,null,null,null,null,null,null,null,null,null,null,null,null,null,null,null,null,null,null,null,null,null,null,null,null,null,null,null,null,"Донецька","Новомиколаївка (Оленівська селищна рада)"]
[null,null,null,null,null,null,null,null,null,null,null,null,null,null,null,null,null,null,null,null,null,null,null,null,null,null,null,null,null,null,null,null,null,null,null,null,null,null,null,null,null,null,null,null,null,"Донецька","Новоукраїнка (Богатирська с/р)"]
[null,null,null,null,null,null,null,null,null,null,null,null,null,null,null,null,null,null,null,null,null,null,null,null,null,null,null,null,null,null,null,null,null,null,null,null,null,null,null,null,null,null,null,null,null,"Донецька","Петрівське (Шилівська)"]
[null,null,null,null,null,null,null,null,null,null,null,null,null,null,null,null,null,null,null,null,null,null,null,null,null,null,null,null,null,null,null,null,null,null,null,null,null,null,null,null,null,null,null,null,null,"Донецька","Приморське (Виноградненська сільська рада)"]
[null,null,null,null,null,null,null,null,null,null,null,null,null,null,null,null,null,null,null,null,null,null,null,null,null,null,null,null,null,null,null,null,null,null,null,null,null,null,null,null,null,null,null,null,null,"Донецька","Рибацьке"]
[null,null,null,null,null,null,null,null,null,null,null,null,null,null,null,null,null,null,null,null,null,null,null,null,null,null,null,null,null,null,null,null,null,null,null,null,null,null,null,null,null,null,null,null,null,"Донецька","Сіверськ"]
[null,null,null,null,null,null,null,null,null,null,null,null,null,null,null,null,null,null,null,null,null,null,null,null,null,null,null,null,null,null,null,null,null,null,null,null,null,null,null,null,null,null,null,null,null,"Донецька","Степанівка (Курахівська міська рада)"]
[null,null,null,null,null,null,null,null,null,null,null,null,null,null,null,null,null,null,null,null,null,null,null,null,null,null,null,null,null,null,null,null,null,null,null,null,null,null,null,null,null,null,null,null,null,"Донецька","Черненко"]
[null,null,null,null,null,null,null,null,null,null,null,null,null,null,null,null,null,null,null,null,null,null,null,null,null,null,null,null,null,null,null,null,null,null,null,null,null,null,null,null,null,null,null,null,null,"Донецька","Шуми"]
[null,null,null,null,null,null,null,null,null,null,null,null,null,null,null,null,null,null,null,null,null,null,null,null,null,null,null,null,null,null,null,null,null,null,null,null,null,null,null,null,null,null,null,null,null,"Житомирська","Бистрі"]
[null,null,null,null,null,null,null,null,null,null,null,null,null,null,null,null,null,null,null,null,null,null,null,null,null,null,null,null,null,null,null,null,null,null,null,null,null,null,null,null,null,null,null,null,null,"Житомирська","Борок"]
[null,null,null,null,null,null,null,null,null,null,null,null,null,null,null,null,null,null,null,null,null,null,null,null,null,null,null,null,null,null,null,null,null,null,null,null,null,null,null,null,null,null,null,null,null,"Житомирська","Булдичів"]
[null,null,null,null,null,null,null,null,null,null,null,null,null,null,null,null,null,null,null,null,null,null,null,null,null,null,null,null,null,null,null,null,null,null,null,null,null,null,null,null,null,null,null,null,null,"Житомирська","Веприн"]
[null,null,null,null,null,null,null,null,null,null,null,null,null,null,null,null,null,null,null,null,null,null,null,null,null,null,null,null,null,null,null,null,null,null,null,null,null,null,null,null,null,null,null,null,null,"Житомирська","Возлякове"]
[null,null,null,null,null,null,null,null,null,null,null,null,null,null,null,null,null,null,null,null,null,null,null,null,null,null,null,null,null,null,null,null,null,null,null,null,null,null,null,null,null,null,null,null,null,"Житомирська","Гульськ"]
[null,null,null,null,null,null,null,null,null,null,null,null,null,null,null,null,null,null,null,null,null,null,null,null,null,null,null,null,null,null,null,null,null,null,null,null,null,null,null,null,null,null,null,null,null,"Житомирська","Деревищина"]
[null,null,null,null,null,null,null,null,null,null,null,null,null,null,null,null,null,null,null,null,null,null,null,null,null,null,null,null,null,null,null,null,null,null,null,null,null,null,null,null,null,null,null,null,null,"Житомирська","Заровенка"]
[null,null,null,null,null,null,null,null,null,null,null,null,null,null,null,null,null,null,null,null,null,null,null,null,null,null,null,null,null,null,null,null,null,null,null,null,null,null,null,null,null,null,null,null,null,"Житомирська","Зубковичі"]
[null,null,null,null,null,null,null,null,null,null,null,null,null,null,null,null,null,null,null,null,null,null,null,null,null,null,null,null,null,null,null,null,null,null,null,null,null,null,null,null,null,null,null,null,null,"Житомирська","Кілки"]
[null,null,null,null,null,null,null,null,null,null,null,null,null,null,null,null,null,null,null,null,null,null,null,null,null,null,null,null,null,null,null,null,null,null,null,null,null,null,null,null,null,null,null,null,null,"Житомирська","Кочичине"]
[null,null,null,null,null,null,null,null,null,null,null,null,null,null,null,null,null,null,null,null,null,null,null,null,null,null,null,null,null,null,null,null,null,null,null,null,null,null,null,null,null,null,null,null,null,"Житомирська","Крути"]
[null,null,null,null,null,null,null,null,null,null,null,null,null,null,null,null,null,null,null,null,null,null,null,null,null,null,null,null,null,null,null,null,null,null,null,null,null,null,null,null,null,null,null,null,null,"Житомирська","Мала П'ятигірка"]
[null,null,null,null,null,null,null,null,null,null,null,null,null,null,null,null,null,null,null,null,null,null,null,null,null,null,null,null,null,null,null,null,null,null,null,null,null,null,null,null,null,null,null,null,null,"Житомирська","Малоглумчанка"]
[null,null,null,null,null,null,null,null,null,null,null,null,null,null,null,null,null,null,null,null,null,null,null,null,null,null,null,null,null,null,null,null,null,null,null,null,null,null,null,null,null,null,null,null,null,"Житомирська","Немильня"]
[null,null,null,null,null,null,null,null,null,null,null,null,null,null,null,null,null,null,null,null,null,null,null,null,null,null,null,null,null,null,null,null,null,null,null,null,null,null,null,null,null,null,null,null,null,"Житомирська","Обище"]
[null,null,null,null,null,null,null,null,null,null,null,null,null,null,null,null,null,null,null,null,null,null,null,null,null,null,null,null,null,null,null,null,null,null,null,null,null,null,null,null,null,null,null,null,null,"Житомирська","Острожок"]
[null,null,null,null,null,null,null,null,null,null,null,null,null,null,null,null,null,null,null,null,null,null,null,null,null,null,null,null,null,null,null,null,null,null,null,null,null,null,null,null,null,null,null,null,null,"Житомирська","Першотравенськ"]
[null,null,null,null,null,null,null,null,null,null,null,null,null,null,null,null,null,null,null,null,null,null,null,null,null,null,null,null,null,null,null,null,null,null,null,null,null,null,null,null,null,null,null,null,null,"Житомирська","Розкідайлівка"]
[null,null,null,null,null,null,null,null,null,null,null,null,null,null,null,null,null,null,null,null,null,null,null,null,null,null,null,null,null,null,null,null,null,null,null,null,null,null,null,null,null,null,null,null,null,"Житомирська","Рудня Пошта"]
[null,null,null,null,null,null,null,null,null,null,null,null,null,null,null,null,null,null,null,null,null,null,null,null,null,null,null,null,null,null,null,null,null,null,null,null,null,null,null,null,null,null,null,null,null,"Житомирська","Селезівка"]
[null,null,null,null,null,null,null,null,null,null,null,null,null,null,null,null,null,null,null,null,null,null,null,null,null,null,null,null,null,null,null,null,null,null,null,null,null,null,null,null,null,null,null,null,null,"Житомирська","Старий Кужіль"]
[null,null,null,null,null,null,null,null,null,null,null,null,null,null,null,null,null,null,null,null,null,null,null,null,null,null,null,null,null,null,null,null,null,null,null,null,null,null,null,null,null,null,null,null,null,"Житомирська","Сташки"]
[null,null,null,null,null,null,null,null,null,null,null,null,null,null,null,null,null,null,null,null,null,null,null,null,null,null,null,null,null,null,null,null,null,null,null,null,null,null,null,null,null,null,null,null,null,"Житомирська","Хажин"]
[null,null,null,null,null,null,null,null,null,null,null,null,null,null,null,null,null,null,null,null,null,null,null,null,null,null,null,null,null,null,null,null,null,null,null,null,null,null,null,null,null,null,null,null,null,"Житомирська","Хутір-Мокляки"]
[null,null,null,null,null,null,null,null,null,null,null,null,null,null,null,null,null,null,null,null,null,null,null,null,null,null,null,null,null,null,null,null,null,null,null,null,null,null,null,null,null,null,null,null,null,"Житомирська","Ясопіль"]
[null,null,null,null,null,null,null,null,null,null,null,null,null,null,null,null,null,null,null,null,null,null,null,null,null,null,null,null,null,null,null,null,null,null,null,null,null,null,null,null,null,null,null,null,null,"Закарпатська","Березинка (Лалівська сільська рада)"]
[null,null,null,null,null,null,null,null,null,null,null,null,null,null,null,null,null,null,null,null,null,null,null,null,null,null,null,null,null,null,null,null,null,null,null,null,null,null,null,null,null,null,null,null,null,"Закарпатська","Верхня Грабівниця (Підполозянська сільська рада)"]
[null,null,null,null,null,null,null,null,null,null,null,null,null,null,null,null,null,null,null,null,null,null,null,null,null,null,null,null,null,null,null,null,null,null,null,null,null,null,null,null,null,null,null,null,null,"Закарпатська","Гетен (Попівська сільська рада)"]
[null,null,null,null,null,null,null,null,null,null,null,null,null,null,null,null,null,null,null,null,null,null,null,null,null,null,null,null,null,null,null,null,null,null,null,null,null,null,null,null,null,null,null,null,null,"Закарпатська","Горбок (Доробратівська сільська рада)"]
[null,null,null,null,null,null,null,null,null,null,null,null,null,null,null,null,null,null,null,null,null,null,null,null,null,null,null,null,null,null,null,null,null,null,null,null,null,null,null,null,null,null,null,null,null,"Закарпатська","Завбуч (Тур\"я Пасіка)"]
[null,null,null,null,null,null,null,null,null,null,null,null,null,null,null,null,null,null,null,null,null,null,null,null,null,null,null,null,null,null,null,null,null,null,null,null,null,null,null,null,null,null,null,null,null,"Закарпатська","Ізки (Ізківська сільська рада)"]
[null,null,null,null,null,null,null,null,null,null,null,null,null,null,null,null,null,null,null,null,null,null,null,null,null,null,null,null,null,null,null,null,null,null,null,null,null,null,null,null,null,null,null,null,null,"Закарпатська","Красна (Краснянська сільська рада)"]
[null,null,null,null,null,null,null,null,null,null,null,null,null,null,null,null,null,null,null,null,null,null,null,null,null,null,null,null,null,null,null,null,null,null,null,null,null,null,null,null,null,null,null,null,null,"Закарпатська","Лісковець (Лісковецька сільська рада)"]
[null,null,null,null,null,null,null,null,null,null,null,null,null,null,null,null,null,null,null,null,null,null,null,null,null,null,null,null,null,null,null,null,null,null,null,null,null,null,null,null,null,null,null,null,null,"Закарпатська","Мала Розтока (Дубрівська сільська рада)"]
[null,null,null,null,null,null,null,null,null,null,null,null,null,null,null,null,null,null,null,null,null,null,null,null,null,null,null,null,null,null,null,null,null,null,null,null,null,null,null,null,null,null,null,null,null,"Закарпатська","Оноківці (Оноківська сільська рада)"]
[null,null,null,null,null,null,null,null,null,null,null,null,null,null,null,null,null,null,null,null,null,null,null,null,null,null,null,null,null,null,null,null,null,null,null,null,null,null,null,null,null,null,null,null,null,"Закарпатська","Підчумаль (Вучківська сільська рада)"]
[null,null,null,null,null,null,null,null,null,null,null,null,null,null,null,null,null,null,null,null,null,null,null,null,null,null,null,null,null,null,null,null,null,null,null,null,null,null,null,null,null,null,null,null,null,"Закарпатська","Ряпідь (Березівська сільська рада)"]
[null,null,null,null,null,null,null,null,null,null,null,null,null,null,null,null,null,null,null,null,null,null,null,null,null,null,null,null,null,null,null,null,null,null,null,null,null,null,null,null,null,null,null,null,null,"Закарпатська","Скотарське (Скотарська сільська рада)"]
[null,null,null,null,null,null,null,null,null,null,null,null,null,null,null,null,null,null,null,null,null,null,null,null,null,null,null,null,null,null,null,null,null,null,null,null,null,null,null,null,null,null,null,null,null,"Закарпатська","Тячівка (Тячівська міська рада)"]
[null,null,null,null,null,null,null,null,null,null,null,null,null,null,null,null,null,null,null,null,null,null,null,null,null,null,null,null,null,null,null,null,null,null,null,null,null,null,null,null,null,null,null,null,null,"Закарпатська","Хустець (Копашнівська сільська рада)"]
[null,null,null,null,null,null,null,null,null,null,null,null,null,null,null,null,null,null,null,null,null,null,null,null,null,null,null,null,null,null,null,null,null,null,null,null,null,null,null,null,null,null,null,null,null,"Запорізька","Балабине"]
[null,null,null,null,null,null,null,null,null,null,null,null,null,null,null,null,null,null,null,null,null,null,null,null,null,null,null,null,null,null,null,null,null,null,null,null,null,null,null,null,null,null,null,null,null,"Запорізька","Верхня Терса"]
[null,null,null,null,null,null,null,null,null,null,null,null,null,null,null,null,null,null,null,null,null,null,null,null,null,null,null,null,null,null,null,null,null,null,null,null,null,null,null,null,null,null,null,null,null,"Запорізька","Загірне"]
[null,null,null,null,null,null,null,null,null,null,null,null,null,null,null,null,null,null,null,null,null,null,null,null,null,null,null,null,null,null,null,null,null,null,null,null,null,null,null,null,null,null,null,null,null,"Запорізька","Канівське"]
[null,null,null,null,null,null,null,null,null,null,null,null,null,null,null,null,null,null,null,null,null,null,null,null,null,null,null,null,null,null,null,null,null,null,null,null,null,null,null,null,null,null,null,null,null,"Запорізька","Крижчене"]
[null,null,null,null,null,null,null,null,null,null,null,null,null,null,null,null,null,null,null,null,null,null,null,null,null,null,null,null,null,null,null,null,null,null,null,null,null,null,null,null,null,null,null,null,null,"Запорізька","Новогупалівка"]
[null,null,null,null,null,null,null,null,null,null,null,null,null,null,null,null,null,null,null,null,null,null,null,null,null,null,null,null,null,null,null,null,null,null,null,null,null,null,null,null,null,null,null,null,null,"Запорізька","Першостепанівка"]
[null,null,null,null,null,null,null,null,null,null,null,null,null,null,null,null,null,null,null,null,null,null,null,null,null,null,null,null,null,null,null,null,null,null,null,null,null,null,null,null,null,null,null,null,null,"Запорізька","Розкішнє"]
[null,null,null,null,null,null,null,null,null,null,null,null,null,null,null,null,null,null,null,null,null,null,null,null,null,null,null,null,null,null,null,null,null,null,null,null,null,null,null,null,null,null,null,null,null,"Запорізька","Степанівка Перша"]
[null,null,null,null,null,null,null,null,null,null,null,null,null,null,null,null,null,null,null,null,null,null,null,null,null,null,null,null,null,null,null,null,null,null,null,null,null,null,null,null,null,null,null,null,null,"Івано_Франківська","Бабське"]
[null,null,null,null,null,null,null,null,null,null,null,null,null,null,null,null,null,null,null,null,null,null,null,null,null,null,null,null,null,null,null,null,null,null,null,null,null,null,null,null,null,null,null,null,null,"Івано_Франківська","Більшівці"]
[null,null,null,null,null,null,null,null,null,null,null,null,null,null,null,null,null,null,null,null,null,null,null,null,null,null,null,null,null,null,null,null,null,null,null,null,null,null,null,null,null,null,null,null,null,"Івано_Франківська","Буркут"]
[null,null,null,null,null,null,null,null,null,null,null,null,null,null,null,null,null,null,null,null,null,null,null,null,null,null,null,null,null,null,null,null,null,null,null,null,null,null,null,null,null,null,null,null,null,"Івано_Франківська","Вовчківці"]
[null,null,null,null,null,null,null,null,null,null,null,null,null,null,null,null,null,null,null,null,null,null,null,null,null,null,null,null,null,null,null,null,null,null,null,null,null,null,null,null,null,null,null,null,null,"Івано_Франківська","Григорівська Слобода"]
[null,null,null,null,null,null,null,null,null,null,null,null,null,null,null,null,null,null,null,null,null,null,null,null,null,null,null,null,null,null,null,null,null,null,null,null,null,null,null,null,null,null,null,null,null,"Івано_Франківська","Задністрянське"]
[null,null,null,null,null,null,null,null,null,null,null,null,null,null,null,null,null,null,null,null,null,null,null,null,null,null,null,null,null,null,null,null,null,null,null,null,null,null,null,null,null,null,null,null,null,"Івано_Франківська","Іванкова"]
[null,null,null,null,null,null,null,null,null,null,null,null,null,null,null,null,null,null,null,null,null,null,null,null,null,null,null,null,null,null,null,null,null,null,null,null,null,null,null,null,null,null,null,null,null,"Івано_Франківська","Кубаївка"]
[null,null,null,null,null,null,null,null,null,null,null,null,null,null,null,null,null,null,null,null,null,null,null,null,null,null,null,null,null,null,null,null,null,null,null,null,null,null,null,null,null,null,null,null,null,"Івано_Франківська","Липа"]
[null,null,null,null,null,null,null,null,null,null,null,null,null,null,null,null,null,null,null,null,null,null,null,null,null,null,null,null,null,null,null,null,null,null,null,null,null,null,null,null,null,null,null,null,null,"Івано_Франківська","Назірна"]
[null,null,null,null,null,null,null,null,null,null,null,null,null,null,null,null,null,null,null,null,null,null,null,null,null,null,null,null,null,null,null,null,null,null,null,null,null,null,null,null,null,null,null,null,null,"Івано_Франківська","Олешків"]
[null,null,null,null,null,null,null,null,null,null,null,null,null,null,null,null,null,null,null,null,null,null,null,null,null,null,null,null,null,null,null,null,null,null,null,null,null,null,null,null,null,null,null,null,null,"Івано_Франківська","Перегінське"]
[null,null,null,null,null,null,null,null,null,null,null,null,null,null,null,null,null,null,null,null,null,null,null,null,null,null,null,null,null,null,null,null,null,null,null,null,null,null,null,null,null,null,null,null,null,"Івано_Франківська","Раків"]
[null,null,null,null,null,null,null,null,null,null,null,null,null,null,null,null,null,null,null,null,null,null,null,null,null,null,null,null,null,null,null,null,null,null,null,null,null,null,null,null,null,null,null,null,null,"Івано_Франківська","Рудники"]
[null,null,null,null,null,null,null,null,null,null,null,null,null,null,null,null,null,null,null,null,null,null,null,null,null,null,null,null,null,null,null,null,null,null,null,null,null,null,null,null,null,null,null,null,null,"Івано_Франківська","Стратин"]
[null,null,null,null,null,null,null,null,null,null,null,null,null,null,null,null,null,null,null,null,null,null,null,null,null,null,null,null,null,null,null,null,null,null,null,null,null,null,null,null,null,null,null,null,null,"Івано_Франківська","Трач"]
[null,null,null,null,null,null,null,null,null,null,null,null,null,null,null,null,null,null,null,null,null,null,null,null,null,null,null,null,null,null,null,null,null,null,null,null,null,null,null,null,null,null,null,null,null,"Івано_Франківська","Шевченкове (Залукв'янська)"]
[null,null,null,null,null,null,null,null,null,null,null,null,null,null,null,null,null,null,null,null,null,null,null,null,null,null,null,null,null,null,null,null,null,null,null,null,null,null,null,null,null,null,null,null,null,"Київська","Багрин"]
[null,null,null,null,null,null,null,null,null,null,null,null,null,null,null,null,null,null,null,null,null,null,null,null,null,null,null,null,null,null,null,null,null,null,null,null,null,null,null,null,null,null,null,null,null,"Київська","Вахівка"]
[null,null,null,null,null,null,null,null,null,null,null,null,null,null,null,null,null,null,null,null,null,null,null,null,null,null,null,null,null,null,null,null,null,null,null,null,null,null,null,null,null,null,null,null,null,"Київська","Великі Єрчики"]
[null,null,null,null,null,null,null,null,null,null,null,null,null,null,null,null,null,null,null,null,null,null,null,null,null,null,null,null,null,null,null,null,null,null,null,null,null,null,null,null,null,null,null,null,null,"Київська","Владиславка"]
[null,null,null,null,null,null,null,null,null,null,null,null,null,null,null,null,null,null,null,null,null,null,null,null,null,null,null,null,null,null,null,null,null,null,null,null,null,null,null,null,null,null,null,null,null,"Київська","Гребінки"]
[null,null,null,null,null,null,null,null,null,null,null,null,null,null,null,null,null,null,null,null,null,null,null,null,null,null,null,null,null,null,null,null,null,null,null,null,null,null,null,null,null,null,null,null,null,"Київська","Дем'янці"]
[null,null,null,null,null,null,null,null,null,null,null,null,null,null,null,null,null,null,null,null,null,null,null,null,null,null,null,null,null,null,null,null,null,null,null,null,null,null,null,null,null,null,null,null,null,"Київська","Здорівка"]
[null,null,null,null,null,null,null,null,null,null,null,null,null,null,null,null,null,null,null,null,null,null,null,null,null,null,null,null,null,null,null,null,null,null,null,null,null,null,null,null,null,null,null,null,null,"Київська","Кадомка"]
[null,null,null,null,null,null,null,null,null,null,null,null,null,null,null,null,null,null,null,null,null,null,null,null,null,null,null,null,null,null,null,null,null,null,null,null,null,null,null,null,null,null,null,null,null,"Київська","Креничі"]
[null,null,null,null,null,null,null,null,null,null,null,null,null,null,null,null,null,null,null,null,null,null,null,null,null,null,null,null,null,null,null,null,null,null,null,null,null,null,null,null,null,null,null,null,null,"Київська","Ленінівка"]
[null,null,null,null,null,null,null,null,null,null,null,null,null,null,null,null,null,null,null,null,null,null,null,null,null,null,null,null,null,null,null,null,null,null,null,null,null,null,null,null,null,null,null,null,null,"Київська","Мала Снітинка"]
[null,null,null,null,null,null,null,null,null,null,null,null,null,null,null,null,null,null,null,null,null,null,null,null,null,null,null,null,null,null,null,null,null,null,null,null,null,null,null,null,null,null,null,null,null,"Київська","Микитяни"]
[null,null,null,null,null,null,null,null,null,null,null,null,null,null,null,null,null,null,null,null,null,null,null,null,null,null,null,null,null,null,null,null,null,null,null,null,null,null,null,null,null,null,null,null,null,"Київська","Новий Корогод"]
[null,null,null,null,null,null,null,null,null,null,null,null,null,null,null,null,null,null,null,null,null,null,null,null,null,null,null,null,null,null,null,null,null,null,null,null,null,null,null,null,null,null,null,null,null,"Київська","Пасківщина"]
[null,null,null,null,null,null,null,null,null,null,null,null,null,null,null,null,null,null,null,null,null,null,null,null,null,null,null,null,null,null,null,null,null,null,null,null,null,null,null,null,null,null,null,null,null,"Київська","Плахтянка"]
[null,null,null,null,null,null,null,null,null,null,null,null,null,null,null,null,null,null,null,null,null,null,null,null,null,null,null,null,null,null,null,null,null,null,null,null,null,null,null,null,null,null,null,null,null,"Київська","Рогозів"]
[null,null,null,null,null,null,null,null,null,null,null,null,null,null,null,null,null,null,null,null,null,null,null,null,null,null,null,null,null,null,null,null,null,null,null,null,null,null,null,null,null,null,null,null,null,"Київська","Русанів"]
[null,null,null,null,null,null,null,null,null,null,null,null,null,null,null,null,null,null,null,null,null,null,null,null,null,null,null,null,null,null,null,null,null,null,null,null,null,null,null,null,null,null,null,null,null,"Київська","Степок"]
[null,null,null,null,null,null,null,null,null,null,null,null,null,null,null,null,null,null,null,null,null,null,null,null,null,null,null,null,null,null,null,null,null,null,null,null,null,null,null,null,null,null,null,null,null,"Київська","Толокунь"]
[null,null,null,null,null,null,null,null,null,null,null,null,null,null,null,null,null,null,null,null,null,null,null,null,null,null,null,null,null,null,null,null,null,null,null,null,null,null,null,null,null,null,null,null,null,"Київська","Тростинка"]
[null,null,null,null,null,null,null,null,null,null,null,null,null,null,null,null,null,null,null,null,null,null,null,null,null,null,null,null,null,null,null,null,null,null,null,null,null,null,null,null,null,null,null,null,null,"Київська","Червона Слобода"]
[null,null,null,null,null,null,null,null,null,null,null,null,null,null,null,null,null,null,null,null,null,null,null,null,null,null,null,null,null,null,null,null,null,null,null,null,null,null,null,null,null,null,null,null,null,"Київська","Шамраївка"]
[null,null,null,null,null,null,null,null,null,null,null,null,null,null,null,null,null,null,null,null,null,null,null,null,null,null,null,null,null,null,null,null,null,null,null,null,null,null,null,null,null,null,null,null,null,"Кіровоградська","Братерське"]
[null,null,null,null,null,null,null,null,null,null,null,null,null,null,null,null,null,null,null,null,null,null,null,null,null,null,null,null,null,null,null,null,null,null,null,null,null,null,null,null,null,null,null,null,null,"Кіровоградська","Вершино-Кам'янка"]
[null,null,null,null,null,null,null,null,null,null,null,null,null,null,null,null,null,null,null,null,null,null,null,null,null,null,null,null,null,null,null,null,null,null,null,null,null,null,null,null,null,null,null,null,null,"Кіровоградська","Дорожинка"]
[null,null,null,null,null,null,null,null,null,null,null,null,null,null,null,null,null,null,null,null,null,null,null,null,null,null,null,null,null,null,null,null,null,null,null,null,null,null,null,null,null,null,null,null,null,"Кіровоградська","Калантаїв"]
[null,null,null,null,null,null,null,null,null,null,null,null,null,null,null,null,null,null,null,null,null,null,null,null,null,null,null,null,null,null,null,null,null,null,null,null,null,null,null,null,null,null,null,null,null,"Кіровоградська","Любо-Надеждівка"]
[null,null,null,null,null,null,null,null,null,null,null,null,null,null,null,null,null,null,null,null,null,null,null,null,null,null,null,null,null,null,null,null,null,null,null,null,null,null,null,null,null,null,null,null,null,"Кіровоградська","Миколаївські Сади"]
[null,null,null,null,null,null,null,null,null,null,null,null,null,null,null,null,null,null,null,null,null,null,null,null,null,null,null,null,null,null,null,null,null,null,null,null,null,null,null,null,null,null,null,null,null,"Кіровоградська","Нерубайка"]
[null,null,null,null,null,null,null,null,null,null,null,null,null,null,null,null,null,null,null,null,null,null,null,null,null,null,null,null,null,null,null,null,null,null,null,null,null,null,null,null,null,null,null,null,null,"Кіровоградська","Петрозагір'я"]
[null,null,null,null,null,null,null,null,null,null,null,null,null,null,null,null,null,null,null,null,null,null,null,null,null,null,null,null,null,null,null,null,null,null,null,null,null,null,null,null,null,null,null,null,null,"Кіровоградська","Приютівка"]
[null,null,null,null,null,null,null,null,null,null,null,null,null,null,null,null,null,null,null,null,null,null,null,null,null,null,null,null,null,null,null,null,null,null,null,null,null,null,null,null,null,null,null,null,null,"Кіровоградська","Сугокліївка"]
[null,null,null,null,null,null,null,null,null,null,null,null,null,null,null,null,null,null,null,null,null,null,null,null,null,null,null,null,null,null,null,null,null,null,null,null,null,null,null,null,null,null,null,null,null,"Кіровоградська","Червінка"]
[null,null,null,null,null,null,null,null,null,null,null,null,null,null,null,null,null,null,null,null,null,null,null,null,null,null,null,null,null,null,null,null,null,null,null,null,null,null,null,null,null,null,null,null,null,"Луганська","Бірюкове (Бірюковська селищна рада)"]
[null,null,null,null,null,null,null,null,null,null,null,null,null,null,null,null,null,null,null,null,null,null,null,null,null,null,null,null,null,null,null,null,null,null,null,null,null,null,null,null,null,null,null,null,null,"Луганська","Валуйки"]
[null,null,null,null,null,null,null,null,null,null,null,null,null,null,null,null,null,null,null,null,null,null,null,null,null,null,null,null,null,null,null,null,null,null,null,null,null,null,null,null,null,null,null,null,null,"Луганська","Верхня Покровка"]
[null,null,null,null,null,null,null,null,null,null,null,null,null,null,null,null,null,null,null,null,null,null,null,null,null,null,null,null,null,null,null,null,null,null,null,null,null,null,null,null,null,null,null,null,null,"Луганська","Городнє (Данилівська сільська рада)"]
[null,null,null,null,null,null,null,null,null,null,null,null,null,null,null,null,null,null,null,null,null,null,null,null,null,null,null,null,null,null,null,null,null,null,null,null,null,null,null,null,null,null,null,null,null,"Луганська","Жолобок"]
[null,null,null,null,null,null,null,null,null,null,null,null,null,null,null,null,null,null,null,null,null,null,null,null,null,null,null,null,null,null,null,null,null,null,null,null,null,null,null,null,null,null,null,null,null,"Луганська","Караяшник"]
[null,null,null,null,null,null,null,null,null,null,null,null,null,null,null,null,null,null,null,null,null,null,null,null,null,null,null,null,null,null,null,null,null,null,null,null,null,null,null,null,null,null,null,null,null,"Луганська","Ковпаки"]
[null,null,null,null,null,null,null,null,null,null,null,null,null,null,null,null,null,null,null,null,null,null,null,null,null,null,null,null,null,null,null,null,null,null,null,null,null,null,null,null,null,null,null,null,null,"Луганська","Ленінське (Ленінська селищна рада)"]
[null,null,null,null,null,null,null,null,null,null,null,null,null,null,null,null,null,null,null,null,null,null,null,null,null,null,null,null,null,null,null,null,null,null,null,null,null,null,null,null,null,null,null,null,null,"Луганська","Лозно-Олександрівка"]
[null,null,null,null,null,null,null,null,null,null,null,null,null,null,null,null,null,null,null,null,null,null,null,null,null,null,null,null,null,null,null,null,null,null,null,null,null,null,null,null,null,null,null,null,null,"Луганська","Малохатка"]
[null,null,null,null,null,null,null,null,null,null,null,null,null,null,null,null,null,null,null,null,null,null,null,null,null,null,null,null,null,null,null,null,null,null,null,null,null,null,null,null,null,null,null,null,null,"Луганська","Новозванівка"]
[null,null,null,null,null,null,null,null,null,null,null,null,null,null,null,null,null,null,null,null,null,null,null,null,null,null,null,null,null,null,null,null,null,null,null,null,null,null,null,null,null,null,null,null,null,"Луганська","Новорозсош"]
[null,null,null,null,null,null,null,null,null,null,null,null,null,null,null,null,null,null,null,null,null,null,null,null,null,null,null,null,null,null,null,null,null,null,null,null,null,null,null,null,null,null,null,null,null,"Луганська","Попівка"]
[null,null,null,null,null,null,null,null,null,null,null,null,null,null,null,null,null,null,null,null,null,null,null,null,null,null,null,null,null,null,null,null,null,null,null,null,null,null,null,null,null,null,null,null,null,"Луганська","П'ятигорівка"]
[null,null,null,null,null,null,null,null,null,null,null,null,null,null,null,null,null,null,null,null,null,null,null,null,null,null,null,null,null,null,null,null,null,null,null,null,null,null,null,null,null,null,null,null,null,"Луганська","Софіївський"]
[null,null,null,null,null,null,null,null,null,null,null,null,null,null,null,null,null,null,null,null,null,null,null,null,null,null,null,null,null,null,null,null,null,null,null,null,null,null,null,null,null,null,null,null,null,"Луганська","Тарабани"]
[null,null,null,null,null,null,null,null,null,null,null,null,null,null,null,null,null,null,null,null,null,null,null,null,null,null,null,null,null,null,null,null,null,null,null,null,null,null,null,null,null,null,null,null,null,"Луганська","Червона Поляна"]
[null,null,null,null,null,null,null,null,null,null,null,null,null,null,null,null,null,null,null,null,null,null,null,null,null,null,null,null,null,null,null,null,null,null,null,null,null,null,null,null,null,null,null,null,null,"Луганська","Шипилівка"]
[null,null,null,null,null,null,null,null,null,null,null,null,null,null,null,null,null,null,null,null,null,null,null,null,null,null,null,null,null,null,null,null,null,null,null,null,null,null,null,null,null,null,null,null,null,"Львівська","Биличі"]
[null,null,null,null,null,null,null,null,null,null,null,null,null,null,null,null,null,null,null,null,null,null,null,null,null,null,null,null,null,null,null,null,null,null,null,null,null,null,null,null,null,null,null,null,null,"Львівська","Боброїди"]
[null,null,null,null,null,null,null,null,null,null,null,null,null,null,null,null,null,null,null,null,null,null,null,null,null,null,null,null,null,null,null,null,null,null,null,null,null,null,null,null,null,null,null,null,null,"Львівська","Боршевичі"]
[null,null,null,null,null,null,null,null,null,null,null,null,null,null,null,null,null,null,null,null,null,null,null,null,null,null,null,null,null,null,null,null,null,null,null,null,null,null,null,null,null,null,null,null,null,"Львівська","Великі Грибовичі"]
[null,null,null,null,null,null,null,null,null,null,null,null,null,null,null,null,null,null,null,null,null,null,null,null,null,null,null,null,null,null,null,null,null,null,null,null,null,null,null,null,null,null,null,null,null,"Львівська","Верхній Дорожів"]
[null,null,null,null,null,null,null,null,null,null,null,null,null,null,null,null,null,null,null,null,null,null,null,null,null,null,null,null,null,null,null,null,null,null,null,null,null,null,null,null,null,null,null,null,null,"Львівська","Войславичі"]
[null,null,null,null,null,null,null,null,null,null,null,null,null,null,null,null,null,null,null,null,null,null,null,null,null,null,null,null,null,null,null,null,null,null,null,null,null,null,null,null,null,null,null,null,null,"Львівська","Вороців"]
[null,null,null,null,null,null,null,null,null,null,null,null,null,null,null,null,null,null,null,null,null,null,null,null,null,null,null,null,null,null,null,null,null,null,null,null,null,null,null,null,null,null,null,null,null,"Львівська","Гостинцеве"]
[null,null,null,null,null,null,null,null,null,null,null,null,null,null,null,null,null,null,null,null,null,null,null,null,null,null,null,null,null,null,null,null,null,null,null,null,null,null,null,null,null,null,null,null,null,"Львівська","Грушів"]
[null,null,null,null,null,null,null,null,null,null,null,null,null,null,null,null,null,null,null,null,null,null,null,null,null,null,null,null,null,null,null,null,null,null,null,null,null,null,null,null,null,null,null,null,null,"Львівська","Довголука"]
[null,null,null,null,null,null,null,null,null,null,null,null,null,null,null,null,null,null,null,null,null,null,null,null,null,null,null,null,null,null,null,null,null,null,null,null,null,null,null,null,null,null,null,null,null,"Львівська","Думичі (Погариська сільська рада)"]
[null,null,null,null,null,null,null,null,null,null,null,null,null,null,null,null,null,null,null,null,null,null,null,null,null,null,null,null,null,null,null,null,null,null,null,null,null,null,null,null,null,null,null,null,null,"Львівська","Загатка"]
[null,null,null,null,null,null,null,null,null,null,null,null,null,null,null,null,null,null,null,null,null,null,null,null,null,null,null,null,null,null,null,null,null,null,null,null,null,null,null,null,null,null,null,null,null,"Львівська","Засадки"]
[null,null,null,null,null,null,null,null,null,null,null,null,null,null,null,null,null,null,null,null,null,null,null,null,null,null,null,null,null,null,null,null,null,null,null,null,null,null,null,null,null,null,null,null,null,"Львівська","Зимна Вода"]
[null,null,null,null,null,null,null,null,null,null,null,null,null,null,null,null,null,null,null,null,null,null,null,null,null,null,null,null,null,null,null,null,null,null,null,null,null,null,null,null,null,null,null,null,null,"Львівська","Княже"]
[null,null,null,null,null,null,null,null,null,null,null,null,null,null,null,null,null,null,null,null,null,null,null,null,null,null,null,null,null,null,null,null,null,null,null,null,null,null,null,null,null,null,null,null,null,"Львівська","Конів"]
[null,null,null,null,null,null,null,null,null,null,null,null,null,null,null,null,null,null,null,null,null,null,null,null,null,null,null,null,null,null,null,null,null,null,null,null,null,null,null,null,null,null,null,null,null,"Львівська","Кудирявці"]
[null,null,null,null,null,null,null,null,null,null,null,null,null,null,null,null,null,null,null,null,null,null,null,null,null,null,null,null,null,null,null,null,null,null,null,null,null,null,null,null,null,null,null,null,null,"Львівська","Лавочне"]
[null,null,null,null,null,null,null,null,null,null,null,null,null,null,null,null,null,null,null,null,null,null,null,null,null,null,null,null,null,null,null,null,null,null,null,null,null,null,null,null,null,null,null,null,null,"Львівська","Лімна"]
[null,null,null,null,null,null,null,null,null,null,null,null,null,null,null,null,null,null,null,null,null,null,null,null,null,null,null,null,null,null,null,null,null,null,null,null,null,null,null,null,null,null,null,null,null,"Львівська","Майдан (Рибницька)"]
[null,null,null,null,null,null,null,null,null,null,null,null,null,null,null,null,null,null,null,null,null,null,null,null,null,null,null,null,null,null,null,null,null,null,null,null,null,null,null,null,null,null,null,null,null,"Львівська","Малі Грибовичі"]
[null,null,null,null,null,null,null,null,null,null,null,null,null,null,null,null,null,null,null,null,null,null,null,null,null,null,null,null,null,null,null,null,null,null,null,null,null,null,null,null,null,null,null,null,null,"Львівська","Мокротин"]
[null,null,null,null,null,null,null,null,null,null,null,null,null,null,null,null,null,null,null,null,null,null,null,null,null,null,null,null,null,null,null,null,null,null,null,null,null,null,null,null,null,null,null,null,null,"Львівська","Муроване"]
[null,null,null,null,null,null,null,null,null,null,null,null,null,null,null,null,null,null,null,null,null,null,null,null,null,null,null,null,null,null,null,null,null,null,null,null,null,null,null,null,null,null,null,null,null,"Львівська","Новосілки-Гостинні"]
[null,null,null,null,null,null,null,null,null,null,null,null,null,null,null,null,null,null,null,null,null,null,null,null,null,null,null,null,null,null,null,null,null,null,null,null,null,null,null,null,null,null,null,null,null,"Львівська","Орани"]
[null,null,null,null,null,null,null,null,null,null,null,null,null,null,null,null,null,null,null,null,null,null,null,null,null,null,null,null,null,null,null,null,null,null,null,null,null,null,null,null,null,null,null,null,null,"Львівська","Паликорови"]
[null,null,null,null,null,null,null,null,null,null,null,null,null,null,null,null,null,null,null,null,null,null,null,null,null,null,null,null,null,null,null,null,null,null,null,null,null,null,null,null,null,null,null,null,null,"Львівська","Підтемне"]
[null,null,null,null,null,null,null,null,null,null,null,null,null,null,null,null,null,null,null,null,null,null,null,null,null,null,null,null,null,null,null,null,null,null,null,null,null,null,null,null,null,null,null,null,null,"Львівська","Повергів"]
[null,null,null,null,null,null,null,null,null,null,null,null,null,null,null,null,null,null,null,null,null,null,null,null,null,null,null,null,null,null,null,null,null,null,null,null,null,null,null,null,null,null,null,null,null,"Львівська","Райнова"]
[null,null,null,null,null,null,null,null,null,null,null,null,null,null,null,null,null,null,null,null,null,null,null,null,null,null,null,null,null,null,null,null,null,null,null,null,null,null,null,null,null,null,null,null,null,"Львівська","Ріпчиці (Ріпчицька)"]
[null,null,null,null,null,null,null,null,null,null,null,null,null,null,null,null,null,null,null,null,null,null,null,null,null,null,null,null,null,null,null,null,null,null,null,null,null,null,null,null,null,null,null,null,null,"Львівська","Свидниця"]
[null,null,null,null,null,null,null,null,null,null,null,null,null,null,null,null,null,null,null,null,null,null,null,null,null,null,null,null,null,null,null,null,null,null,null,null,null,null,null,null,null,null,null,null,null,"Львівська","Скварява"]
[null,null,null,null,null,null,null,null,null,null,null,null,null,null,null,null,null,null,null,null,null,null,null,null,null,null,null,null,null,null,null,null,null,null,null,null,null,null,null,null,null,null,null,null,null,"Львівська","Старичі"]
[null,null,null,null,null,null,null,null,null,null,null,null,null,null,null,null,null,null,null,null,null,null,null,null,null,null,null,null,null,null,null,null,null,null,null,null,null,null,null,null,null,null,null,null,null,"Львівська","Стрий"]
[null,null,null,null,null,null,null,null,null,null,null,null,null,null,null,null,null,null,null,null,null,null,null,null,null,null,null,null,null,null,null,null,null,null,null,null,null,null,null,null,null,null,null,null,null,"Львівська","Суходоли"]
[null,null,null,null,null,null,null,null,null,null,null,null,null,null,null,null,null,null,null,null,null,null,null,null,null,null,null,null,null,null,null,null,null,null,null,null,null,null,null,null,null,null,null,null,null,"Львівська","Туринка"]
[null,null,null,null,null,null,null,null,null,null,null,null,null,null,null,null,null,null,null,null,null,null,null,null,null,null,null,null,null,null,null,null,null,null,null,null,null,null,null,null,null,null,null,null,null,"Львівська","Ушковичі"]
[null,null,null,null,null,null,null,null,null,null,null,null,null,null,null,null,null,null,null,null,null,null,null,null,null,null,null,null,null,null,null,null,null,null,null,null,null,null,null,null,null,null,null,null,null,"Львівська","Черкаси"]
[null,null,null,null,null,null,null,null,null,null,null,null,null,null,null,null,null,null,null,null,null,null,null,null,null,null,null,null,null,null,null,null,null,null,null,null,null,null,null,null,null,null,null,null,null,"Львівська","Шпаки"]
[null,null,null,null,null,null,null,null,null,null,null,null,null,null,null,null,null,null,null,null,null,null,null,null,null,null,null,null,null,null,null,null,null,null,null,null,null,null,null,null,null,null,null,null,null,"Миколаївська","Арбузинка"]
[null,null,null,null,null,null,null,null,null,null,null,null,null,null,null,null,null,null,null,null,null,null,null,null,null,null,null,null,null,null,null,null,null,null,null,null,null,null,null,null,null,null,null,null,null,"Миколаївська","Березнегуватське"]
[null,null,null,null,null,null,null,null,null,null,null,null,null,null,null,null,null,null,null,null,null,null,null,null,null,null,null,null,null,null,null,null,null,null,null,null,null,null,null,null,null,null,null,null,null,"Миколаївська","Бузьке"]
[null,null,null,null,null,null,null,null,null,null,null,null,null,null,null,null,null,null,null,null,null,null,null,null,null,null,null,null,null,null,null,null,null,null,null,null,null,null,null,null,null,null,null,null,null,"Миколаївська","Вознесенське (Вознесенська)"]
[null,null,null,null,null,null,null,null,null,null,null,null,null,null,null,null,null,null,null,null,null,null,null,null,null,null,null,null,null,null,null,null,null,null,null,null,null,null,null,null,null,null,null,null,null,"Миколаївська","Григорівка (Великосербулівська)"]
[null,null,null,null,null,null,null,null,null,null,null,null,null,null,null,null,null,null,null,null,null,null,null,null,null,null,null,null,null,null,null,null,null,null,null,null,null,null,null,null,null,null,null,null,null,"Миколаївська","Жовтневе (Акмечетська)"]
[null,null,null,null,null,null,null,null,null,null,null,null,null,null,null,null,null,null,null,null,null,null,null,null,null,null,null,null,null,null,null,null,null,null,null,null,null,null,null,null,null,null,null,null,null,"Миколаївська","Зелене (Зеленівська)"]
[null,null,null,null,null,null,null,null,null,null,null,null,null,null,null,null,null,null,null,null,null,null,null,null,null,null,null,null,null,null,null,null,null,null,null,null,null,null,null,null,null,null,null,null,null,"Миколаївська","Катеринівка (Кашперо-Миколаївська)"]
[null,null,null,null,null,null,null,null,null,null,null,null,null,null,null,null,null,null,null,null,null,null,null,null,null,null,null,null,null,null,null,null,null,null,null,null,null,null,null,null,null,null,null,null,null,"Миколаївська","Козубівка (Козубівська)"]
[null,null,null,null,null,null,null,null,null,null,null,null,null,null,null,null,null,null,null,null,null,null,null,null,null,null,null,null,null,null,null,null,null,null,null,null,null,null,null,null,null,null,null,null,null,"Миколаївська","Лиса Гора"]
[null,null,null,null,null,null,null,null,null,null,null,null,null,null,null,null,null,null,null,null,null,null,null,null,null,null,null,null,null,null,null,null,null,null,null,null,null,null,null,null,null,null,null,null,null,"Миколаївська","Люблине (Ташинська)"]
[null,null,null,null,null,null,null,null,null,null,null,null,null,null,null,null,null,null,null,null,null,null,null,null,null,null,null,null,null,null,null,null,null,null,null,null,null,null,null,null,null,null,null,null,null,"Миколаївська","Мішково-Погорілове (Мішково-Погорілівська)"]
[null,null,null,null,null,null,null,null,null,null,null,null,null,null,null,null,null,null,null,null,null,null,null,null,null,null,null,null,null,null,null,null,null,null,null,null,null,null,null,null,null,null,null,null,null,"Миколаївська","Новий шлях (Горохівська)"]
[null,null,null,null,null,null,null,null,null,null,null,null,null,null,null,null,null,null,null,null,null,null,null,null,null,null,null,null,null,null,null,null,null,null,null,null,null,null,null,null,null,null,null,null,null,"Миколаївська","Новоданилівка (Вільнозапорізька)"]
[null,null,null,null,null,null,null,null,null,null,null,null,null,null,null,null,null,null,null,null,null,null,null,null,null,null,null,null,null,null,null,null,null,null,null,null,null,null,null,null,null,null,null,null,null,"Миколаївська","Новоселівка (Первомайська)"]
[null,null,null,null,null,null,null,null,null,null,null,null,null,null,null,null,null,null,null,null,null,null,null,null,null,null,null,null,null,null,null,null,null,null,null,null,null,null,null,null,null,null,null,null,null,"Миколаївська","Одрадне (Плющівська)"]
[null,null,null,null,null,null,null,null,null,null,null,null,null,null,null,null,null,null,null,null,null,null,null,null,null,null,null,null,null,null,null,null,null,null,null,null,null,null,null,null,null,null,null,null,null,"Миколаївська","Подимове (Кривобалківська)"]
[null,null,null,null,null,null,null,null,null,null,null,null,null,null,null,null,null,null,null,null,null,null,null,null,null,null,null,null,null,null,null,null,null,null,null,null,null,null,null,null,null,null,null,null,null,"Миколаївська","Пришиб (Висунська)"]
[null,null,null,null,null,null,null,null,null,null,null,null,null,null,null,null,null,null,null,null,null,null,null,null,null,null,null,null,null,null,null,null,null,null,null,null,null,null,null,null,null,null,null,null,null,"Миколаївська","Староолексіївка (Ставківська)"]
[null,null,null,null,null,null,null,null,null,null,null,null,null,null,null,null,null,null,null,null,null,null,null,null,null,null,null,null,null,null,null,null,null,null,null,null,null,null,null,null,null,null,null,null,null,"Миколаївська","Ташине (Ташинська)"]
[null,null,null,null,null,null,null,null,null,null,null,null,null,null,null,null,null,null,null,null,null,null,null,null,null,null,null,null,null,null,null,null,null,null,null,null,null,null,null,null,null,null,null,null,null,"Миколаївська","Тузли (Тузлівська)"]
[null,null,null,null,null,null,null,null,null,null,null,null,null,null,null,null,null,null,null,null,null,null,null,null,null,null,null,null,null,null,null,null,null,null,null,null,null,null,null,null,null,null,null,null,null,"Миколаївська","Широкі Криниці (Володимирівська)"]
[null,null,null,null,null,null,null,null,null,null,null,null,null,null,null,null,null,null,null,null,null,null,null,null,null,null,null,null,null,null,null,null,null,null,null,null,null,null,null,null,null,null,null,null,null,"Миколаївська","Явкине (Явкинська)"]
[null,null,null,null,null,null,null,null,null,null,null,null,null,null,null,null,null,null,null,null,null,null,null,null,null,null,null,null,null,null,null,null,null,null,null,null,null,null,null,null,null,null,null,null,null,"Одеська","Балкове"]
[null,null,null,null,null,null,null,null,null,null,null,null,null,null,null,null,null,null,null,null,null,null,null,null,null,null,null,null,null,null,null,null,null,null,null,null,null,null,null,null,null,null,null,null,null,"Одеська","Вакарське"]
[null,null,null,null,null,null,null,null,null,null,null,null,null,null,null,null,null,null,null,null,null,null,null,null,null,null,null,null,null,null,null,null,null,null,null,null,null,null,null,null,null,null,null,null,null,"Одеська","Грибівка"]
[null,null,null,null,null,null,null,null,null,null,null,null,null,null,null,null,null,null,null,null,null,null,null,null,null,null,null,null,null,null,null,null,null,null,null,null,null,null,null,null,null,null,null,null,null,"Одеська","Єлизаветівка (Перемогівська)"]
[null,null,null,null,null,null,null,null,null,null,null,null,null,null,null,null,null,null,null,null,null,null,null,null,null,null,null,null,null,null,null,null,null,null,null,null,null,null,null,null,null,null,null,null,null,"Одеська","Квітка"]
[null,null,null,null,null,null,null,null,null,null,null,null,null,null,null,null,null,null,null,null,null,null,null,null,null,null,null,null,null,null,null,null,null,null,null,null,null,null,null,null,null,null,null,null,null,"Одеська","Котовськ"]
[null,null,null,null,null,null,null,null,null,null,null,null,null,null,null,null,null,null,null,null,null,null,null,null,null,null,null,null,null,null,null,null,null,null,null,null,null,null,null,null,null,null,null,null,null,"Одеська","Лідівка"]
[null,null,null,null,null,null,null,null,null,null,null,null,null,null,null,null,null,null,null,null,null,null,null,null,null,null,null,null,null,null,null,null,null,null,null,null,null,null,null,null,null,null,null,null,null,"Одеська","Монаші"]
[null,null,null,null,null,null,null,null,null,null,null,null,null,null,null,null,null,null,null,null,null,null,null,null,null,null,null,null,null,null,null,null,null,null,null,null,null,null,null,null,null,null,null,null,null,"Одеська","Нова Кульна"]
[null,null,null,null,null,null,null,null,null,null,null,null,null,null,null,null,null,null,null,null,null,null,null,null,null,null,null,null,null,null,null,null,null,null,null,null,null,null,null,null,null,null,null,null,null,"Одеська","Острівне"]
[null,null,null,null,null,null,null,null,null,null,null,null,null,null,null,null,null,null,null,null,null,null,null,null,null,null,null,null,null,null,null,null,null,null,null,null,null,null,null,null,null,null,null,null,null,"Одеська","Познанка Перша"]
[null,null,null,null,null,null,null,null,null,null,null,null,null,null,null,null,null,null,null,null,null,null,null,null,null,null,null,null,null,null,null,null,null,null,null,null,null,null,null,null,null,null,null,null,null,"Одеська","Слов'яносербка"]
[null,null,null,null,null,null,null,null,null,null,null,null,null,null,null,null,null,null,null,null,null,null,null,null,null,null,null,null,null,null,null,null,null,null,null,null,null,null,null,null,null,null,null,null,null,"Одеська","Староконстянтинівка"]
[null,null,null,null,null,null,null,null,null,null,null,null,null,null,null,null,null,null,null,null,null,null,null,null,null,null,null,null,null,null,null,null,null,null,null,null,null,null,null,null,null,null,null,null,null,"Одеська","Чижове"]
[null,null,null,null,null,null,null,null,null,null,null,null,null,null,null,null,null,null,null,null,null,null,null,null,null,null,null,null,null,null,null,null,null,null,null,null,null,null,null,null,null,null,null,null,null,"Одеська","Юркове"]
[null,null,null,null,null,null,null,null,null,null,null,null,null,null,null,null,null,null,null,null,null,null,null,null,null,null,null,null,null,null,null,null,null,null,null,null,null,null,null,null,null,null,null,null,null,"Полтавська","Артелярщина"]
[null,null,null,null,null,null,null,null,null,null,null,null,null,null,null,null,null,null,null,null,null,null,null,null,null,null,null,null,null,null,null,null,null,null,null,null,null,null,null,null,null,null,null,null,null,"Полтавська","Бондури"]
[null,null,null,null,null,null,null,null,null,null,null,null,null,null,null,null,null,null,null,null,null,null,null,null,null,null,null,null,null,null,null,null,null,null,null,null,null,null,null,null,null,null,null,null,null,"Полтавська","Булуки (Черкащани)"]
[null,null,null,null,null,null,null,null,null,null,null,null,null,null,null,null,null,null,null,null,null,null,null,null,null,null,null,null,null,null,null,null,null,null,null,null,null,null,null,null,null,null,null,null,null,"Полтавська","Ветхалівка"]
[null,null,null,null,null,null,null,null,null,null,null,null,null,null,null,null,null,null,null,null,null,null,null,null,null,null,null,null,null,null,null,null,null,null,null,null,null,null,null,null,null,null,null,null,null,"Полтавська","Вишарі"]
[null,null,null,null,null,null,null,null,null,null,null,null,null,null,null,null,null,null,null,null,null,null,null,null,null,null,null,null,null,null,null,null,null,null,null,null,null,null,null,null,null,null,null,null,null,"Полтавська","Гожули"]
[null,null,null,null,null,null,null,null,null,null,null,null,null,null,null,null,null,null,null,null,null,null,null,null,null,null,null,null,null,null,null,null,null,null,null,null,null,null,null,null,null,null,null,null,null,"Полтавська","Грекопавлівка"]
[null,null,null,null,null,null,null,null,null,null,null,null,null,null,null,null,null,null,null,null,null,null,null,null,null,null,null,null,null,null,null,null,null,null,null,null,null,null,null,null,null,null,null,null,null,"Полтавська","Дамаска"]
[null,null,null,null,null,null,null,null,null,null,null,null,null,null,null,null,null,null,null,null,null,null,null,null,null,null,null,null,null,null,null,null,null,null,null,null,null,null,null,null,null,null,null,null,null,"Полтавська","Зайці  Другі"]
[null,null,null,null,null,null,null,null,null,null,null,null,null,null,null,null,null,null,null,null,null,null,null,null,null,null,null,null,null,null,null,null,null,null,null,null,null,null,null,null,null,null,null,null,null,"Полтавська","Іванове Селище"]
[null,null,null,null,null,null,null,null,null,null,null,null,null,null,null,null,null,null,null,null,null,null,null,null,null,null,null,null,null,null,null,null,null,null,null,null,null,null,null,null,null,null,null,null,null,"Полтавська","Клепачі"]
[null,null,null,null,null,null,null,null,null,null,null,null,null,null,null,null,null,null,null,null,null,null,null,null,null,null,null,null,null,null,null,null,null,null,null,null,null,null,null,null,null,null,null,null,null,"Полтавська","Комишня"]
[null,null,null,null,null,null,null,null,null,null,null,null,null,null,null,null,null,null,null,null,null,null,null,null,null,null,null,null,null,null,null,null,null,null,null,null,null,null,null,null,null,null,null,null,null,"Полтавська","Кулиничі"]
[null,null,null,null,null,null,null,null,null,null,null,null,null,null,null,null,null,null,null,null,null,null,null,null,null,null,null,null,null,null,null,null,null,null,null,null,null,null,null,null,null,null,null,null,null,"Полтавська","Лазірки"]
[null,null,null,null,null,null,null,null,null,null,null,null,null,null,null,null,null,null,null,null,null,null,null,null,null,null,null,null,null,null,null,null,null,null,null,null,null,null,null,null,null,null,null,null,null,"Полтавська","Лихопілля"]
[null,null,null,null,null,null,null,null,null,null,null,null,null,null,null,null,null,null,null,null,null,null,null,null,null,null,null,null,null,null,null,null,null,null,null,null,null,null,null,null,null,null,null,null,null,"Полтавська","Малий Кобелячок"]
[null,null,null,null,null,null,null,null,null,null,null,null,null,null,null,null,null,null,null,null,null,null,null,null,null,null,null,null,null,null,null,null,null,null,null,null,null,null,null,null,null,null,null,null,null,"Полтавська","Махнівка"]
[null,null,null,null,null,null,null,null,null,null,null,null,null,null,null,null,null,null,null,null,null,null,null,null,null,null,null,null,null,null,null,null,null,null,null,null,null,null,null,null,null,null,null,null,null,"Полтавська","Нова Диканька"]
[null,null,null,null,null,null,null,null,null,null,null,null,null,null,null,null,null,null,null,null,null,null,null,null,null,null,null,null,null,null,null,null,null,null,null,null,null,null,null,null,null,null,null,null,null,"Полтавська","Нове Остапове"]
[null,null,null,null,null,null,null,null,null,null,null,null,null,null,null,null,null,null,null,null,null,null,null,null,null,null,null,null,null,null,null,null,null,null,null,null,null,null,null,null,null,null,null,null,null,"Полтавська","Паніванівка"]
[null,null,null,null,null,null,null,null,null,null,null,null,null,null,null,null,null,null,null,null,null,null,null,null,null,null,null,null,null,null,null,null,null,null,null,null,null,null,null,null,null,null,null,null,null,"Полтавська","Перекопівка"]
[null,null,null,null,null,null,null,null,null,null,null,null,null,null,null,null,null,null,null,null,null,null,null,null,null,null,null,null,null,null,null,null,null,null,null,null,null,null,null,null,null,null,null,null,null,"Полтавська","Приймівщина"]
[null,null,null,null,null,null,null,null,null,null,null,null,null,null,null,null,null,null,null,null,null,null,null,null,null,null,null,null,null,null,null,null,null,null,null,null,null,null,null,null,null,null,null,null,null,"Полтавська","Радивонівка"]
[null,null,null,null,null,null,null,null,null,null,null,null,null,null,null,null,null,null,null,null,null,null,null,null,null,null,null,null,null,null,null,null,null,null,null,null,null,null,null,null,null,null,null,null,null,"Полтавська","Романи"]
[null,null,null,null,null,null,null,null,null,null,null,null,null,null,null,null,null,null,null,null,null,null,null,null,null,null,null,null,null,null,null,null,null,null,null,null,null,null,null,null,null,null,null,null,null,"Полтавська","Синяківщина"]
[null,null,null,null,null,null,null,null,null,null,null,null,null,null,null,null,null,null,null,null,null,null,null,null,null,null,null,null,null,null,null,null,null,null,null,null,null,null,null,null,null,null,null,null,null,"Полтавська","Смотрики"]
[null,null,null,null,null,null,null,null,null,null,null,null,null,null,null,null,null,null,null,null,null,null,null,null,null,null,null,null,null,null,null,null,null,null,null,null,null,null,null,null,null,null,null,null,null,"Полтавська","Сухинівка"]
[null,null,null,null,null,null,null,null,null,null,null,null,null,null,null,null,null,null,null,null,null,null,null,null,null,null,null,null,null,null,null,null,null,null,null,null,null,null,null,null,null,null,null,null,null,"Полтавська","Тривайли"]
[null,null,null,null,null,null,null,null,null,null,null,null,null,null,null,null,null,null,null,null,null,null,null,null,null,null,null,null,null,null,null,null,null,null,null,null,null,null,null,null,null,null,null,null,null,"Полтавська","Христанівка"]
[null,null,null,null,null,null,null,null,null,null,null,null,null,null,null,null,null,null,null,null,null,null,null,null,null,null,null,null,null,null,null,null,null,null,null,null,null,null,null,null,null,null,null,null,null,"Полтавська","Червоні Луки"]
[null,null,null,null,null,null,null,null,null,null,null,null,null,null,null,null,null,null,null,null,null,null,null,null,null,null,null,null,null,null,null,null,null,null,null,null,null,null,null,null,null,null,null,null,null,"Полтавська","Шмиглі"]
[null,null,null,null,null,null,null,null,null,null,null,null,null,null,null,null,null,null,null,null,null,null,null,null,null,null,null,null,null,null,null,null,null,null,null,null,null,null,null,null,null,null,null,null,null,"Полтавська","Яковенщина Горова"]
[null,null,null,null,null,null,null,null,null,null,null,null,null,null,null,null,null,null,null,null,null,null,null,null,null,null,null,null,null,null,null,null,null,null,null,null,null,null,null,null,null,null,null,null,null,"Рівненська","Балашівка"]
[null,null,null,null,null,null,null,null,null,null,null,null,null,null,null,null,null,null,null,null,null,null,null,null,null,null,null,null,null,null,null,null,null,null,null,null,null,null,null,null,null,null,null,null,null,"Рівненська","Бухарів"]
[null,null,null,null,null,null,null,null,null,null,null,null,null,null,null,null,null,null,null,null,null,null,null,null,null,null,null,null,null,null,null,null,null,null,null,null,null,null,null,null,null,null,null,null,null,"Рівненська","Великі  Телковичі"]
[null,null,null,null,null,null,null,null,null,null,null,null,null,null,null,null,null,null,null,null,null,null,null,null,null,null,null,null,null,null,null,null,null,null,null,null,null,null,null,null,null,null,null,null,null,"Рівненська","Гранівка"]
[null,null,null,null,null,null,null,null,null,null,null,null,null,null,null,null,null,null,null,null,null,null,null,null,null,null,null,null,null,null,null,null,null,null,null,null,null,null,null,null,null,null,null,null,null,"Рівненська","Гусари"]
[null,null,null,null,null,null,null,null,null,null,null,null,null,null,null,null,null,null,null,null,null,null,null,null,null,null,null,null,null,null,null,null,null,null,null,null,null,null,null,null,null,null,null,null,null,"Рівненська","Злазне"]
[null,null,null,null,null,null,null,null,null,null,null,null,null,null,null,null,null,null,null,null,null,null,null,null,null,null,null,null,null,null,null,null,null,null,null,null,null,null,null,null,null,null,null,null,null,"Рівненська","Караєвичі"]
[null,null,null,null,null,null,null,null,null,null,null,null,null,null,null,null,null,null,null,null,null,null,null,null,null,null,null,null,null,null,null,null,null,null,null,null,null,null,null,null,null,null,null,null,null,"Рівненська","Кутянка"]
[null,null,null,null,null,null,null,null,null,null,null,null,null,null,null,null,null,null,null,null,null,null,null,null,null,null,null,null,null,null,null,null,null,null,null,null,null,null,null,null,null,null,null,null,null,"Рівненська","Лючин"]
[null,null,null,null,null,null,null,null,null,null,null,null,null,null,null,null,null,null,null,null,null,null,null,null,null,null,null,null,null,null,null,null,null,null,null,null,null,null,null,null,null,null,null,null,null,"Рівненська","Малі Загірці"]
[null,null,null,null,null,null,null,null,null,null,null,null,null,null,null,null,null,null,null,null,null,null,null,null,null,null,null,null,null,null,null,null,null,null,null,null,null,null,null,null,null,null,null,null,null,"Рівненська","Мушні"]
[null,null,null,null,null,null,null,null,null,null,null,null,null,null,null,null,null,null,null,null,null,null,null,null,null,null,null,null,null,null,null,null,null,null,null,null,null,null,null,null,null,null,null,null,null,"Рівненська","Озліїв"]
[null,null,null,null,null,null,null,null,null,null,null,null,null,null,null,null,null,null,null,null,null,null,null,null,null,null,null,null,null,null,null,null,null,null,null,null,null,null,null,null,null,null,null,null,null,"Рівненська","Посягва"]
[null,null,null,null,null,null,null,null,null,null,null,null,null,null,null,null,null,null,null,null,null,null,null,null,null,null,null,null,null,null,null,null,null,null,null,null,null,null,null,null,null,null,null,null,null,"Рівненська","Рідків"]
[null,null,null,null,null,null,null,null,null,null,null,null,null,null,null,null,null,null,null,null,null,null,null,null,null,null,null,null,null,null,null,null,null,null,null,null,null,null,null,null,null,null,null,null,null,"Рівненська","Старожуків"]
[null,null,null,null,null,null,null,null,null,null,null,null,null,null,null,null,null,null,null,null,null,null,null,null,null,null,null,null,null,null,null,null,null,null,null,null,null,null,null,null,null,null,null,null,null,"Рівненська","Терентіїв"]
[null,null,null,null,null,null,null,null,null,null,null,null,null,null,null,null,null,null,null,null,null,null,null,null,null,null,null,null,null,null,null,null,null,null,null,null,null,null,null,null,null,null,null,null,null,"Рівненська","Шибин"]
[null,null,null,null,null,null,null,null,null,null,null,null,null,null,null,null,null,null,null,null,null,null,null,null,null,null,null,null,null,null,null,null,null,null,null,null,null,null,null,null,null,null,null,null,null,"Севастополь","Камишли"]
[null,null,null,null,null,null,null,null,null,null,null,null,null,null,null,null,null,null,null,null,null,null,null,null,null,null,null,null,null,null,null,null,null,null,null,null,null,null,null,null,null,null,null,null,null,"Сумська","Анютине"]
[null,null,null,null,null,null,null,null,null,null,null,null,null,null,null,null,null,null,null,null,null,null,null,null,null,null,null,null,null,null,null,null,null,null,null,null,null,null,null,null,null,null,null,null,null,"Сумська","Боровенька"]
[null,null,null,null,null,null,null,null,null,null,null,null,null,null,null,null,null,null,null,null,null,null,null,null,null,null,null,null,null,null,null,null,null,null,null,null,null,null,null,null,null,null,null,null,null,"Сумська","Будилка"]
[null,null,null,null,null,null,null,null,null,null,null,null,null,null,null,null,null,null,null,null,null,null,null,null,null,null,null,null,null,null,null,null,null,null,null,null,null,null,null,null,null,null,null,null,null,"Сумська","Вікторинівка"]
[null,null,null,null,null,null,null,null,null,null,null,null,null,null,null,null,null,null,null,null,null,null,null,null,null,null,null,null,null,null,null,null,null,null,null,null,null,null,null,null,null,null,null,null,null,"Сумська","Воронцове"]
[null,null,null,null,null,null,null,null,null,null,null,null,null,null,null,null,null,null,null,null,null,null,null,null,null,null,null,null,null,null,null,null,null,null,null,null,null,null,null,null,null,null,null,null,null,"Сумська","Гирине (Княжичі)"]
[null,null,null,null,null,null,null,null,null,null,null,null,null,null,null,null,null,null,null,null,null,null,null,null,null,null,null,null,null,null,null,null,null,null,null,null,null,null,null,null,null,null,null,null,null,"Сумська","Дич"]
[null,null,null,null,null,null,null,null,null,null,null,null,null,null,null,null,null,null,null,null,null,null,null,null,null,null,null,null,null,null,null,null,null,null,null,null,null,null,null,null,null,null,null,null,null,"Сумська","Духанівка"]
[null,null,null,null,null,null,null,null,null,null,null,null,null,null,null,null,null,null,null,null,null,null,null,null,null,null,null,null,null,null,null,null,null,null,null,null,null,null,null,null,null,null,null,null,null,"Сумська","Карабутове"]
[null,null,null,null,null,null,null,null,null,null,null,null,null,null,null,null,null,null,null,null,null,null,null,null,null,null,null,null,null,null,null,null,null,null,null,null,null,null,null,null,null,null,null,null,null,"Сумська","Клепали"]
[null,null,null,null,null,null,null,null,null,null,null,null,null,null,null,null,null,null,null,null,null,null,null,null,null,null,null,null,null,null,null,null,null,null,null,null,null,null,null,null,null,null,null,null,null,"Сумська","Куданівка (Лебедин)"]
[null,null,null,null,null,null,null,null,null,null,null,null,null,null,null,null,null,null,null,null,null,null,null,null,null,null,null,null,null,null,null,null,null,null,null,null,null,null,null,null,null,null,null,null,null,"Сумська","Ломленка (Мар-Буда)"]
[null,null,null,null,null,null,null,null,null,null,null,null,null,null,null,null,null,null,null,null,null,null,null,null,null,null,null,null,null,null,null,null,null,null,null,null,null,null,null,null,null,null,null,null,null,"Сумська","Маршали"]
[null,null,null,null,null,null,null,null,null,null,null,null,null,null,null,null,null,null,null,null,null,null,null,null,null,null,null,null,null,null,null,null,null,null,null,null,null,null,null,null,null,null,null,null,null,"Сумська","Миронівщина"]
[null,null,null,null,null,null,null,null,null,null,null,null,null,null,null,null,null,null,null,null,null,null,null,null,null,null,null,null,null,null,null,null,null,null,null,null,null,null,null,null,null,null,null,null,null,"Сумська","Нарбутівка"]
[null,null,null,null,null,null,null,null,null,null,null,null,null,null,null,null,null,null,null,null,null,null,null,null,null,null,null,null,null,null,null,null,null,null,null,null,null,null,null,null,null,null,null,null,null,"Сумська","Ополонське"]
[null,null,null,null,null,null,null,null,null,null,null,null,null,null,null,null,null,null,null,null,null,null,null,null,null,null,null,null,null,null,null,null,null,null,null,null,null,null,null,null,null,null,null,null,null,"Сумська","Перетічки"]
[null,null,null,null,null,null,null,null,null,null,null,null,null,null,null,null,null,null,null,null,null,null,null,null,null,null,null,null,null,null,null,null,null,null,null,null,null,null,null,null,null,null,null,null,null,"Сумська","Полошки"]
[null,null,null,null,null,null,null,null,null,null,null,null,null,null,null,null,null,null,null,null,null,null,null,null,null,null,null,null,null,null,null,null,null,null,null,null,null,null,null,null,null,null,null,null,null,"Сумська","Рожковичі"]
[null,null,null,null,null,null,null,null,null,null,null,null,null,null,null,null,null,null,null,null,null,null,null,null,null,null,null,null,null,null,null,null,null,null,null,null,null,null,null,null,null,null,null,null,null,"Сумська","Смоляниківка"]
[null,null,null,null,null,null,null,null,null,null,null,null,null,null,null,null,null,null,null,null,null,null,null,null,null,null,null,null,null,null,null,null,null,null,null,null,null,null,null,null,null,null,null,null,null,"Сумська","Стара Іванівка"]
[null,null,null,null,null,null,null,null,null,null,null,null,null,null,null,null,null,null,null,null,null,null,null,null,null,null,null,null,null,null,null,null,null,null,null,null,null,null,null,null,null,null,null,null,null,"Сумська","Хижки"]
[null,null,null,null,null,null,null,null,null,null,null,null,null,null,null,null,null,null,null,null,null,null,null,null,null,null,null,null,null,null,null,null,null,null,null,null,null,null,null,null,null,null,null,null,null,"Сумська","Чаплищі"]
[null,null,null,null,null,null,null,null,null,null,null,null,null,null,null,null,null,null,null,null,null,null,null,null,null,null,null,null,null,null,null,null,null,null,null,null,null,null,null,null,null,null,null,null,null,"Сумська","Шурове"]
[null,null,null,null,null,null,null,null,null,null,null,null,null,null,null,null,null,null,null,null,null,null,null,null,null,null,null,null,null,null,null,null,null,null,null,null,null,null,null,null,null,null,null,null,null,"Тернопільська","Андруга (Білокриницька сільська рада)"]
[null,null,null,null,null,null,null,null,null,null,null,null,null,null,null,null,null,null,null,null,null,null,null,null,null,null,null,null,null,null,null,null,null,null,null,null,null,null,null,null,null,null,null,null,null,"Тернопільська","Бережанка (Іванківська сільська рада)"]
[null,null,null,null,null,null,null,null,null,null,null,null,null,null,null,null,null,null,null,null,null,null,null,null,null,null,null,null,null,null,null,null,null,null,null,null,null,null,null,null,null,null,null,null,null,"Тернопільська","Буцики (Гримайлівська селищна рада)"]
[null,null,null,null,null,null,null,null,null,null,null,null,null,null,null,null,null,null,null,null,null,null,null,null,null,null,null,null,null,null,null,null,null,null,null,null,null,null,null,null,null,null,null,null,null,"Тернопільська","Великі Бережці (Великобережецька сільська рада)"]
[null,null,null,null,null,null,null,null,null,null,null,null,null,null,null,null,null,null,null,null,null,null,null,null,null,null,null,null,null,null,null,null,null,null,null,null,null,null,null,null,null,null,null,null,null,"Тернопільська","Воробіївка (Висиповецька сільська рада)"]
[null,null,null,null,null,null,null,null,null,null,null,null,null,null,null,null,null,null,null,null,null,null,null,null,null,null,null,null,null,null,null,null,null,null,null,null,null,null,null,null,null,null,null,null,null,"Тернопільська","Гнидава (Коханівська сільська рада)"]
[null,null,null,null,null,null,null,null,null,null,null,null,null,null,null,null,null,null,null,null,null,null,null,null,null,null,null,null,null,null,null,null,null,null,null,null,null,null,null,null,null,null,null,null,null,"Тернопільська","Деренівка (Довгенська сільська рада)"]
[null,null,null,null,null,null,null,null,null,null,null,null,null,null,null,null,null,null,null,null,null,null,null,null,null,null,null,null,null,null,null,null,null,null,null,null,null,null,null,null,null,null,null,null,null,"Тернопільська","Долина (Шульганівська сільська рада)"]
[null,null,null,null,null,null,null,null,null,null,null,null,null,null,null,null,null,null,null,null,null,null,null,null,null,null,null,null,null,null,null,null,null,null,null,null,null,null,null,null,null,null,null,null,null,"Тернопільська","Жолобки (Жолобківська сільська рада)"]
[null,null,null,null,null,null,null,null,null,null,null,null,null,null,null,null,null,null,null,null,null,null,null,null,null,null,null,null,null,null,null,null,null,null,null,null,null,null,null,null,null,null,null,null,null,"Тернопільська","Зелений Гай (Зеленогайська сільська рада)"]
[null,null,null,null,null,null,null,null,null,null,null,null,null,null,null,null,null,null,null,null,null,null,null,null,null,null,null,null,null,null,null,null,null,null,null,null,null,null,null,null,null,null,null,null,null,"Тернопільська","Ігровиця (Ігровицька сільська рада)"]
[null,null,null,null,null,null,null,null,null,null,null,null,null,null,null,null,null,null,null,null,null,null,null,null,null,null,null,null,null,null,null,null,null,null,null,null,null,null,null,null,null,null,null,null,null,"Тернопільська","Коржова (Завадівська сільська рада)"]
[null,null,null,null,null,null,null,null,null,null,null,null,null,null,null,null,null,null,null,null,null,null,null,null,null,null,null,null,null,null,null,null,null,null,null,null,null,null,null,null,null,null,null,null,null,"Тернопільська","Костільники (Костільницька сільська рада)"]
[null,null,null,null,null,null,null,null,null,null,null,null,null,null,null,null,null,null,null,null,null,null,null,null,null,null,null,null,null,null,null,null,null,null,null,null,null,null,null,null,null,null,null,null,null,"Тернопільська","Ліщанці (Ліщанецька сільська рада)"]
[null,null,null,null,null,null,null,null,null,null,null,null,null,null,null,null,null,null,null,null,null,null,null,null,null,null,null,null,null,null,null,null,null,null,null,null,null,null,null,null,null,null,null,null,null,"Тернопільська","Мала  Лука (Малолуцька сільська рада)"]
[null,null,null,null,null,null,null,null,null,null,null,null,null,null,null,null,null,null,null,null,null,null,null,null,null,null,null,null,null,null,null,null,null,null,null,null,null,null,null,null,null,null,null,null,null,"Тернопільська","Млинці (Городищенська сільська рада)"]
[null,null,null,null,null,null,null,null,null,null,null,null,null,null,null,null,null,null,null,null,null,null,null,null,null,null,null,null,null,null,null,null,null,null,null,null,null,null,null,null,null,null,null,null,null,"Тернопільська","Нараїв (Нараївська сільська рада)"]
[null,null,null,null,null,null,null,null,null,null,null,null,null,null,null,null,null,null,null,null,null,null,null,null,null,null,null,null,null,null,null,null,null,null,null,null,null,null,null,null,null,null,null,null,null,"Тернопільська","Нові  Петликівці (Новопетликівська сільська рада)"]
[null,null,null,null,null,null,null,null,null,null,null,null,null,null,null,null,null,null,null,null,null,null,null,null,null,null,null,null,null,null,null,null,null,null,null,null,null,null,null,null,null,null,null,null,null,"Тернопільська","Писарівка (Рекшинська сільська рада)"]
[null,null,null,null,null,null,null,null,null,null,null,null,null,null,null,null,null,null,null,null,null,null,null,null,null,null,null,null,null,null,null,null,null,null,null,null,null,null,null,null,null,null,null,null,null,"Тернопільська","Полівці (Полівецька сільська рада)"]
[null,null,null,null,null,null,null,null,null,null,null,null,null,null,null,null,null,null,null,null,null,null,null,null,null,null,null,null,null,null,null,null,null,null,null,null,null,null,null,null,null,null,null,null,null,"Тернопільська","Рожиськ (Рожиська сільська рада)"]
[null,null,null,null,null,null,null,null,null,null,null,null,null,null,null,null,null,null,null,null,null,null,null,null,null,null,null,null,null,null,null,null,null,null,null,null,null,null,null,null,null,null,null,null,null,"Тернопільська","Сапанів (Сапанівська сільська рада)"]
[null,null,null,null,null,null,null,null,null,null,null,null,null,null,null,null,null,null,null,null,null,null,null,null,null,null,null,null,null,null,null,null,null,null,null,null,null,null,null,null,null,null,null,null,null,"Тернопільська","Стара Брикуля (Хмелівська сільська рада)"]
[null,null,null,null,null,null,null,null,null,null,null,null,null,null,null,null,null,null,null,null,null,null,null,null,null,null,null,null,null,null,null,null,null,null,null,null,null,null,null,null,null,null,null,null,null,"Тернопільська","Стриганці (Рекшинська сільська рада)"]
[null,null,null,null,null,null,null,null,null,null,null,null,null,null,null,null,null,null,null,null,null,null,null,null,null,null,null,null,null,null,null,null,null,null,null,null,null,null,null,null,null,null,null,null,null,"Тернопільська","Тилявка (Тилявська сільська рада)"]
[null,null,null,null,null,null,null,null,null,null,null,null,null,null,null,null,null,null,null,null,null,null,null,null,null,null,null,null,null,null,null,null,null,null,null,null,null,null,null,null,null,null,null,null,null,"Тернопільська","Чернелів-Руський (Чернелево-Руська сільська рада)"]
[null,null,null,null,null,null,null,null,null,null,null,null,null,null,null,null,null,null,null,null,null,null,null,null,null,null,null,null,null,null,null,null,null,null,null,null,null,null,null,null,null,null,null,null,null,"Тернопільська","Шайбівка (Нараївська сільська рада)"]
[null,null,null,null,null,null,null,null,null,null,null,null,null,null,null,null,null,null,null,null,null,null,null,null,null,null,null,null,null,null,null,null,null,null,null,null,null,null,null,null,null,null,null,null,null,"Харківська","Бабаки"]
[null,null,null,null,null,null,null,null,null,null,null,null,null,null,null,null,null,null,null,null,null,null,null,null,null,null,null,null,null,null,null,null,null,null,null,null,null,null,null,null,null,null,null,null,null,"Харківська","Безпалівка (Таранівська сільрада)"]
[null,null,null,null,null,null,null,null,null,null,null,null,null,null,null,null,null,null,null,null,null,null,null,null,null,null,null,null,null,null,null,null,null,null,null,null,null,null,null,null,null,null,null,null,null,"Харківська","Василівка (Грушівська сільрада)"]
[null,null,null,null,null,null,null,null,null,null,null,null,null,null,null,null,null,null,null,null,null,null,null,null,null,null,null,null,null,null,null,null,null,null,null,null,null,null,null,null,null,null,null,null,null,"Харківська","Великий Виселок"]
[null,null,null,null,null,null,null,null,null,null,null,null,null,null,null,null,null,null,null,null,null,null,null,null,null,null,null,null,null,null,null,null,null,null,null,null,null,null,null,null,null,null,null,null,null,"Харківська","Вовчий Яр (Яковенківська сільська рада)"]
[null,null,null,null,null,null,null,null,null,null,null,null,null,null,null,null,null,null,null,null,null,null,null,null,null,null,null,null,null,null,null,null,null,null,null,null,null,null,null,null,null,null,null,null,null,"Харківська","Глазунівка (П’ятигірська сільська рада)"]
[null,null,null,null,null,null,null,null,null,null,null,null,null,null,null,null,null,null,null,null,null,null,null,null,null,null,null,null,null,null,null,null,null,null,null,null,null,null,null,null,null,null,null,null,null,"Харківська","Горького"]
[null,null,null,null,null,null,null,null,null,null,null,null,null,null,null,null,null,null,null,null,null,null,null,null,null,null,null,null,null,null,null,null,null,null,null,null,null,null,null,null,null,null,null,null,null,"Харківська","Дудівка"]
[null,null,null,null,null,null,null,null,null,null,null,null,null,null,null,null,null,null,null,null,null,null,null,null,null,null,null,null,null,null,null,null,null,null,null,null,null,null,null,null,null,null,null,null,null,"Харківська","Заброди"]
[null,null,null,null,null,null,null,null,null,null,null,null,null,null,null,null,null,null,null,null,null,null,null,null,null,null,null,null,null,null,null,null,null,null,null,null,null,null,null,null,null,null,null,null,null,"Харківська","Ізбицьке"]
[null,null,null,null,null,null,null,null,null,null,null,null,null,null,null,null,null,null,null,null,null,null,null,null,null,null,null,null,null,null,null,null,null,null,null,null,null,null,null,null,null,null,null,null,null,"Харківська","Кирилівка"]
[null,null,null,null,null,null,null,null,null,null,null,null,null,null,null,null,null,null,null,null,null,null,null,null,null,null,null,null,null,null,null,null,null,null,null,null,null,null,null,null,null,null,null,null,null,"Харківська","Корсунівка"]
[null,null,null,null,null,null,null,null,null,null,null,null,null,null,null,null,null,null,null,null,null,null,null,null,null,null,null,null,null,null,null,null,null,null,null,null,null,null,null,null,null,null,null,null,null,"Харківська","Крутоярка"]
[null,null,null,null,null,null,null,null,null,null,null,null,null,null,null,null,null,null,null,null,null,null,null,null,null,null,null,null,null,null,null,null,null,null,null,null,null,null,null,null,null,null,null,null,null,"Харківська","Лазуківка"]
[null,null,null,null,null,null,null,null,null,null,null,null,null,null,null,null,null,null,null,null,null,null,null,null,null,null,null,null,null,null,null,null,null,null,null,null,null,null,null,null,null,null,null,null,null,"Харківська","Мануйлове"]
[null,null,null,null,null,null,null,null,null,null,null,null,null,null,null,null,null,null,null,null,null,null,null,null,null,null,null,null,null,null,null,null,null,null,null,null,null,null,null,null,null,null,null,null,null,"Харківська","Миколаївка Перша"]
[null,null,null,null,null,null,null,null,null,null,null,null,null,null,null,null,null,null,null,null,null,null,null,null,null,null,null,null,null,null,null,null,null,null,null,null,null,null,null,null,null,null,null,null,null,"Харківська","Нова Гнилиця"]
[null,null,null,null,null,null,null,null,null,null,null,null,null,null,null,null,null,null,null,null,null,null,null,null,null,null,null,null,null,null,null,null,null,null,null,null,null,null,null,null,null,null,null,null,null,"Харківська","Одрада"]
[null,null,null,null,null,null,null,null,null,null,null,null,null,null,null,null,null,null,null,null,null,null,null,null,null,null,null,null,null,null,null,null,null,null,null,null,null,null,null,null,null,null,null,null,null,"Харківська","Парасковія"]
[null,null,null,null,null,null,null,null,null,null,null,null,null,null,null,null,null,null,null,null,null,null,null,null,null,null,null,null,null,null,null,null,null,null,null,null,null,null,null,null,null,null,null,null,null,"Харківська","Першотравневе (Шарівська сільрада)"]
[null,null,null,null,null,null,null,null,null,null,null,null,null,null,null,null,null,null,null,null,null,null,null,null,null,null,null,null,null,null,null,null,null,null,null,null,null,null,null,null,null,null,null,null,null,"Харківська","П'ятигірське (П’ятигірська сільська рада)"]
[null,null,null,null,null,null,null,null,null,null,null,null,null,null,null,null,null,null,null,null,null,null,null,null,null,null,null,null,null,null,null,null,null,null,null,null,null,null,null,null,null,null,null,null,null,"Харківська","Рибалкіне"]
[null,null,null,null,null,null,null,null,null,null,null,null,null,null,null,null,null,null,null,null,null,null,null,null,null,null,null,null,null,null,null,null,null,null,null,null,null,null,null,null,null,null,null,null,null,"Харківська","Скельки"]
[null,null,null,null,null,null,null,null,null,null,null,null,null,null,null,null,null,null,null,null,null,null,null,null,null,null,null,null,null,null,null,null,null,null,null,null,null,null,null,null,null,null,null,null,null,"Харківська","Софіївка Перша"]
[null,null,null,null,null,null,null,null,null,null,null,null,null,null,null,null,null,null,null,null,null,null,null,null,null,null,null,null,null,null,null,null,null,null,null,null,null,null,null,null,null,null,null,null,null,"Харківська","Старовірівка"]
[null,null,null,null,null,null,null,null,null,null,null,null,null,null,null,null,null,null,null,null,null,null,null,null,null,null,null,null,null,null,null,null,null,null,null,null,null,null,null,null,null,null,null,null,null,"Харківська","Хмарівка"]
[null,null,null,null,null,null,null,null,null,null,null,null,null,null,null,null,null,null,null,null,null,null,null,null,null,null,null,null,null,null,null,null,null,null,null,null,null,null,null,null,null,null,null,null,null,"Харківська","Чепелі"]
[null,null,null,null,null,null,null,null,null,null,null,null,null,null,null,null,null,null,null,null,null,null,null,null,null,null,null,null,null,null,null,null,null,null,null,null,null,null,null,null,null,null,null,null,null,"Харківська","Шийківка"]
[null,null,null,null,null,null,null,null,null,null,null,null,null,null,null,null,null,null,null,null,null,null,null,null,null,null,null,null,null,null,null,null,null,null,null,null,null,null,null,null,null,null,null,null,null,"Харківська","Яремівка"]
[null,null,null,null,null,null,null,null,null,null,null,null,null,null,null,null,null,null,null,null,null,null,null,null,null,null,null,null,null,null,null,null,null,null,null,null,null,null,null,null,null,null,null,null,null,"Херсонська","Гола  Пристань"]
[null,null,null,null,null,null,null,null,null,null,null,null,null,null,null,null,null,null,null,null,null,null,null,null,null,null,null,null,null,null,null,null,null,null,null,null,null,null,null,null,null,null,null,null,null,"Херсонська","Золота  Балка"]
[null,null,null,null,null,null,null,null,null,null,null,null,null,null,null,null,null,null,null,null,null,null,null,null,null,null,null,null,null,null,null,null,null,null,null,null,null,null,null,null,null,null,null,null,null,"Херсонська","Козачі  Лагері"]
[null,null,null,null,null,null,null,null,null,null,null,null,null,null,null,null,null,null,null,null,null,null,null,null,null,null,null,null,null,null,null,null,null,null,null,null,null,null,null,null,null,null,null,null,null,"Херсонська","Нова Праця"]
[null,null,null,null,null,null,null,null,null,null,null,null,null,null,null,null,null,null,null,null,null,null,null,null,null,null,null,null,null,null,null,null,null,null,null,null,null,null,null,null,null,null,null,null,null,"Херсонська","Новоросійське"]
[null,null,null,null,null,null,null,null,null,null,null,null,null,null,null,null,null,null,null,null,null,null,null,null,null,null,null,null,null,null,null,null,null,null,null,null,null,null,null,null,null,null,null,null,null,"Херсонська","Скадовськ"]
[null,null,null,null,null,null,null,null,null,null,null,null,null,null,null,null,null,null,null,null,null,null,null,null,null,null,null,null,null,null,null,null,null,null,null,null,null,null,null,null,null,null,null,null,null,"Херсонська","Таврійське"]
[null,null,null,null,null,null,null,null,null,null,null,null,null,null,null,null,null,null,null,null,null,null,null,null,null,null,null,null,null,null,null,null,null,null,null,null,null,null,null,null,null,null,null,null,null,"Хмельницька","Андрійківці"]
[null,null,null,null,null,null,null,null,null,null,null,null,null,null,null,null,null,null,null,null,null,null,null,null,null,null,null,null,null,null,null,null,null,null,null,null,null,null,null,null,null,null,null,null,null,"Хмельницька","Білево"]
[null,null,null,null,null,null,null,null,null,null,null,null,null,null,null,null,null,null,null,null,null,null,null,null,null,null,null,null,null,null,null,null,null,null,null,null,null,null,null,null,null,null,null,null,null,"Хмельницька","Браїлівка"]
[null,null,null,null,null,null,null,null,null,null,null,null,null,null,null,null,null,null,null,null,null,null,null,null,null,null,null,null,null,null,null,null,null,null,null,null,null,null,null,null,null,null,null,null,null,"Хмельницька","Вереміївка"]
[null,null,null,null,null,null,null,null,null,null,null,null,null,null,null,null,null,null,null,null,null,null,null,null,null,null,null,null,null,null,null,null,null,null,null,null,null,null,null,null,null,null,null,null,null,"Хмельницька","Вівсяники"]
[null,null,null,null,null,null,null,null,null,null,null,null,null,null,null,null,null,null,null,null,null,null,null,null,null,null,null,null,null,null,null,null,null,null,null,null,null,null,null,null,null,null,null,null,null,"Хмельницька","Голосків"]
[null,null,null,null,null,null,null,null,null,null,null,null,null,null,null,null,null,null,null,null,null,null,null,null,null,null,null,null,null,null,null,null,null,null,null,null,null,null,null,null,null,null,null,null,null,"Хмельницька","Гута Яцьковецька"]
[null,null,null,null,null,null,null,null,null,null,null,null,null,null,null,null,null,null,null,null,null,null,null,null,null,null,null,null,null,null,null,null,null,null,null,null,null,null,null,null,null,null,null,null,null,"Хмельницька","Дубовий Гай"]
[null,null,null,null,null,null,null,null,null,null,null,null,null,null,null,null,null,null,null,null,null,null,null,null,null,null,null,null,null,null,null,null,null,null,null,null,null,null,null,null,null,null,null,null,null,"Хмельницька","Забрід"]
[null,null,null,null,null,null,null,null,null,null,null,null,null,null,null,null,null,null,null,null,null,null,null,null,null,null,null,null,null,null,null,null,null,null,null,null,null,null,null,null,null,null,null,null,null,"Хмельницька","Івоненці"]
[null,null,null,null,null,null,null,null,null,null,null,null,null,null,null,null,null,null,null,null,null,null,null,null,null,null,null,null,null,null,null,null,null,null,null,null,null,null,null,null,null,null,null,null,null,"Хмельницька","Караїмівка (Веснянка)"]
[null,null,null,null,null,null,null,null,null,null,null,null,null,null,null,null,null,null,null,null,null,null,null,null,null,null,null,null,null,null,null,null,null,null,null,null,null,null,null,null,null,null,null,null,null,"Хмельницька","Клемашівка"]
[null,null,null,null,null,null,null,null,null,null,null,null,null,null,null,null,null,null,null,null,null,null,null,null,null,null,null,null,null,null,null,null,null,null,null,null,null,null,null,null,null,null,null,null,null,"Хмельницька","Кремінна"]
[null,null,null,null,null,null,null,null,null,null,null,null,null,null,null,null,null,null,null,null,null,null,null,null,null,null,null,null,null,null,null,null,null,null,null,null,null,null,null,null,null,null,null,null,null,"Хмельницька","Кульчини"]
[null,null,null,null,null,null,null,null,null,null,null,null,null,null,null,null,null,null,null,null,null,null,null,null,null,null,null,null,null,null,null,null,null,null,null,null,null,null,null,null,null,null,null,null,null,"Хмельницька","Літки"]
[null,null,null,null,null,null,null,null,null,null,null,null,null,null,null,null,null,null,null,null,null,null,null,null,null,null,null,null,null,null,null,null,null,null,null,null,null,null,null,null,null,null,null,null,null,"Хмельницька","Майдан Карачієвецький"]
[null,null,null,null,null,null,null,null,null,null,null,null,null,null,null,null,null,null,null,null,null,null,null,null,null,null,null,null,null,null,null,null,null,null,null,null,null,null,null,null,null,null,null,null,null,"Хмельницька","Медисівка"]
[null,null,null,null,null,null,null,null,null,null,null,null,null,null,null,null,null,null,null,null,null,null,null,null,null,null,null,null,null,null,null,null,null,null,null,null,null,null,null,null,null,null,null,null,null,"Хмельницька","Михайлючка"]
[null,null,null,null,null,null,null,null,null,null,null,null,null,null,null,null,null,null,null,null,null,null,null,null,null,null,null,null,null,null,null,null,null,null,null,null,null,null,null,null,null,null,null,null,null,"Хмельницька","Мудриголови"]
[null,null,null,null,null,null,null,null,null,null,null,null,null,null,null,null,null,null,null,null,null,null,null,null,null,null,null,null,null,null,null,null,null,null,null,null,null,null,null,null,null,null,null,null,null,"Хмельницька","Орлинці"]
[null,null,null,null,null,null,null,null,null,null,null,null,null,null,null,null,null,null,null,null,null,null,null,null,null,null,null,null,null,null,null,null,null,null,null,null,null,null,null,null,null,null,null,null,null,"Хмельницька","Пашуки (Хоровецька сільська Рада)"]
[null,null,null,null,null,null,null,null,null,null,null,null,null,null,null,null,null,null,null,null,null,null,null,null,null,null,null,null,null,null,null,null,null,null,null,null,null,null,null,null,null,null,null,null,null,"Хмельницька","Постолівка"]
[null,null,null,null,null,null,null,null,null,null,null,null,null,null,null,null,null,null,null,null,null,null,null,null,null,null,null,null,null,null,null,null,null,null,null,null,null,null,null,null,null,null,null,null,null,"Хмельницька","Радівці"]
[null,null,null,null,null,null,null,null,null,null,null,null,null,null,null,null,null,null,null,null,null,null,null,null,null,null,null,null,null,null,null,null,null,null,null,null,null,null,null,null,null,null,null,null,null,"Хмельницька","Семенів"]
[null,null,null,null,null,null,null,null,null,null,null,null,null,null,null,null,null,null,null,null,null,null,null,null,null,null,null,null,null,null,null,null,null,null,null,null,null,null,null,null,null,null,null,null,null,"Хмельницька","Славута"]
[null,null,null,null,null,null,null,null,null,null,null,null,null,null,null,null,null,null,null,null,null,null,null,null,null,null,null,null,null,null,null,null,null,null,null,null,null,null,null,null,null,null,null,null,null,"Хмельницька","Старий Остропіль"]
[null,null,null,null,null,null,null,null,null,null,null,null,null,null,null,null,null,null,null,null,null,null,null,null,null,null,null,null,null,null,null,null,null,null,null,null,null,null,null,null,null,null,null,null,null,"Хмельницька","Теліжинці"]
[null,null,null,null,null,null,null,null,null,null,null,null,null,null,null,null,null,null,null,null,null,null,null,null,null,null,null,null,null,null,null,null,null,null,null,null,null,null,null,null,null,null,null,null,null,"Хмельницька","Трительники"]
[null,null,null,null,null,null,null,null,null,null,null,null,null,null,null,null,null,null,null,null,null,null,null,null,null,null,null,null,null,null,null,null,null,null,null,null,null,null,null,null,null,null,null,null,null,"Хмельницька","Чепелівка"]
[null,null,null,null,null,null,null,null,null,null,null,null,null,null,null,null,null,null,null,null,null,null,null,null,null,null,null,null,null,null,null,null,null,null,null,null,null,null,null,null,null,null,null,null,null,"Хмельницька","Чорнокозинці (Шустовецька сільська рада)"]
[null,null,null,null,null,null,null,null,null,null,null,null,null,null,null,null,null,null,null,null,null,null,null,null,null,null,null,null,null,null,null,null,null,null,null,null,null,null,null,null,null,null,null,null,null,"Черкаська","Бабанка"]
[null,null,null,null,null,null,null,null,null,null,null,null,null,null,null,null,null,null,null,null,null,null,null,null,null,null,null,null,null,null,null,null,null,null,null,null,null,null,null,null,null,null,null,null,null,"Черкаська","Боровиця"]
[null,null,null,null,null,null,null,null,null,null,null,null,null,null,null,null,null,null,null,null,null,null,null,null,null,null,null,null,null,null,null,null,null,null,null,null,null,null,null,null,null,null,null,null,null,"Черкаська","Гельмязів"]
[null,null,null,null,null,null,null,null,null,null,null,null,null,null,null,null,null,null,null,null,null,null,null,null,null,null,null,null,null,null,null,null,null,null,null,null,null,null,null,null,null,null,null,null,null,"Черкаська","Домантове"]
[null,null,null,null,null,null,null,null,null,null,null,null,null,null,null,null,null,null,null,null,null,null,null,null,null,null,null,null,null,null,null,null,null,null,null,null,null,null,null,null,null,null,null,null,null,"Черкаська","Ковтунівка (Остапівська сільська  рада)"]
[null,null,null,null,null,null,null,null,null,null,null,null,null,null,null,null,null,null,null,null,null,null,null,null,null,null,null,null,null,null,null,null,null,null,null,null,null,null,null,null,null,null,null,null,null,"Черкаська","Коробівка"]
[null,null,null,null,null,null,null,null,null,null,null,null,null,null,null,null,null,null,null,null,null,null,null,null,null,null,null,null,null,null,null,null,null,null,null,null,null,null,null,null,null,null,null,null,null,"Черкаська","Межигірка"]
[null,null,null,null,null,null,null,null,null,null,null,null,null,null,null,null,null,null,null,null,null,null,null,null,null,null,null,null,null,null,null,null,null,null,null,null,null,null,null,null,null,null,null,null,null,"Черкаська","Нечаєве"]
[null,null,null,null,null,null,null,null,null,null,null,null,null,null,null,null,null,null,null,null,null,null,null,null,null,null,null,null,null,null,null,null,null,null,null,null,null,null,null,null,null,null,null,null,null,"Черкаська","Петрики"]
[null,null,null,null,null,null,null,null,null,null,null,null,null,null,null,null,null,null,null,null,null,null,null,null,null,null,null,null,null,null,null,null,null,null,null,null,null,null,null,null,null,null,null,null,null,"Черкаська","Санжариха"]
[null,null,null,null,null,null,null,null,null,null,null,null,null,null,null,null,null,null,null,null,null,null,null,null,null,null,null,null,null,null,null,null,null,null,null,null,null,null,null,null,null,null,null,null,null,"Черкаська","Скрипчинці"]
[null,null,null,null,null,null,null,null,null,null,null,null,null,null,null,null,null,null,null,null,null,null,null,null,null,null,null,null,null,null,null,null,null,null,null,null,null,null,null,null,null,null,null,null,null,"Черкаська","Халаїдове"]
[null,null,null,null,null,null,null,null,null,null,null,null,null,null,null,null,null,null,null,null,null,null,null,null,null,null,null,null,null,null,null,null,null,null,null,null,null,null,null,null,null,null,null,null,null,"Черкаська","Чеснопіль"]
[null,null,null,null,null,null,null,null,null,null,null,null,null,null,null,null,null,null,null,null,null,null,null,null,null,null,null,null,null,null,null,null,null,null,null,null,null,null,null,null,null,null,null,null,null,"Чернівецька","Буденець"]
[null,null,null,null,null,null,null,null,null,null,null,null,null,null,null,null,null,null,null,null,null,null,null,null,null,null,null,null,null,null,null,null,null,null,null,null,null,null,null,null,null,null,null,null,null,"Чернівецька","Велика Буда"]
[null,null,null,null,null,null,null,null,null,null,null,null,null,null,null,null,null,null,null,null,null,null,null,null,null,null,null,null,null,null,null,null,null,null,null,null,null,null,null,null,null,null,null,null,null,"Чернівецька","Горбова"]
[null,null,null,null,null,null,null,null,null,null,null,null,null,null,null,null,null,null,null,null,null,null,null,null,null,null,null,null,null,null,null,null,null,null,null,null,null,null,null,null,null,null,null,null,null,"Чернівецька","Корнешти"]
[null,null,null,null,null,null,null,null,null,null,null,null,null,null,null,null,null,null,null,null,null,null,null,null,null,null,null,null,null,null,null,null,null,null,null,null,null,null,null,null,null,null,null,null,null,"Чернівецька","Лукачівка"]
[null,null,null,null,null,null,null,null,null,null,null,null,null,null,null,null,null,null,null,null,null,null,null,null,null,null,null,null,null,null,null,null,null,null,null,null,null,null,null,null,null,null,null,null,null,"Чернівецька","Ошихліби"]
[null,null,null,null,null,null,null,null,null,null,null,null,null,null,null,null,null,null,null,null,null,null,null,null,null,null,null,null,null,null,null,null,null,null,null,null,null,null,null,null,null,null,null,null,null,"Чернівецька","Припруття"]
[null,null,null,null,null,null,null,null,null,null,null,null,null,null,null,null,null,null,null,null,null,null,null,null,null,null,null,null,null,null,null,null,null,null,null,null,null,null,null,null,null,null,null,null,null,"Чернівецька","Хрещатик"]
[null,null,null,null,null,null,null,null,null,null,null,null,null,null,null,null,null,null,null,null,null,null,null,null,null,null,null,null,null,null,null,null,null,null,null,null,null,null,null,null,null,null,null,null,null,"Чернівецька","Ширівці"]
[null,null,null,null,null,null,null,null,null,null,null,null,null,null,null,null,null,null,null,null,null,null,null,null,null,null,null,null,null,null,null,null,null,null,null,null,null,null,null,null,null,null,null,null,null,"Чернігівська","Бережівка"]
[null,null,null,null,null,null,null,null,null,null,null,null,null,null,null,null,null,null,null,null,null,null,null,null,null,null,null,null,null,null,null,null,null,null,null,null,null,null,null,null,null,null,null,null,null,"Чернігівська","Велика Дорога"]
[null,null,null,null,null,null,null,null,null,null,null,null,null,null,null,null,null,null,null,null,null,null,null,null,null,null,null,null,null,null,null,null,null,null,null,null,null,null,null,null,null,null,null,null,null,"Чернігівська","Вильчики"]
[null,null,null,null,null,null,null,null,null,null,null,null,null,null,null,null,null,null,null,null,null,null,null,null,null,null,null,null,null,null,null,null,null,null,null,null,null,null,null,null,null,null,null,null,null,"Чернігівська","Данівка"]
[null,null,null,null,null,null,null,null,null,null,null,null,null,null,null,null,null,null,null,null,null,null,null,null,null,null,null,null,null,null,null,null,null,null,null,null,null,null,null,null,null,null,null,null,null,"Чернігівська","Дробишів"]
[null,null,null,null,null,null,null,null,null,null,null,null,null,null,null,null,null,null,null,null,null,null,null,null,null,null,null,null,null,null,null,null,null,null,null,null,null,null,null,null,null,null,null,null,null,"Чернігівська","Закревське"]
[null,null,null,null,null,null,null,null,null,null,null,null,null,null,null,null,null,null,null,null,null,null,null,null,null,null,null,null,null,null,null,null,null,null,null,null,null,null,null,null,null,null,null,null,null,"Чернігівська","Клипин"]
[null,null,null,null,null,null,null,null,null,null,null,null,null,null,null,null,null,null,null,null,null,null,null,null,null,null,null,null,null,null,null,null,null,null,null,null,null,null,null,null,null,null,null,null,null,"Чернігівська","Кугуки"]
[null,null,null,null,null,null,null,null,null,null,null,null,null,null,null,null,null,null,null,null,null,null,null,null,null,null,null,null,null,null,null,null,null,null,null,null,null,null,null,null,null,null,null,null,null,"Чернігівська","Ладинка"]
[null,null,null,null,null,null,null,null,null,null,null,null,null,null,null,null,null,null,null,null,null,null,null,null,null,null,null,null,null,null,null,null,null,null,null,null,null,null,null,null,null,null,null,null,null,"Чернігівська","Лісконоги"]
[null,null,null,null,null,null,null,null,null,null,null,null,null,null,null,null,null,null,null,null,null,null,null,null,null,null,null,null,null,null,null,null,null,null,null,null,null,null,null,null,null,null,null,null,null,"Чернігівська","Мезин"]
[null,null,null,null,null,null,null,null,null,null,null,null,null,null,null,null,null,null,null,null,null,null,null,null,null,null,null,null,null,null,null,null,null,null,null,null,null,null,null,null,null,null,null,null,null,"Чернігівська","Мурав'ї"]
[null,null,null,null,null,null,null,null,null,null,null,null,null,null,null,null,null,null,null,null,null,null,null,null,null,null,null,null,null,null,null,null,null,null,null,null,null,null,null,null,null,null,null,null,null,"Чернігівська","Остер"]
[null,null,null,null,null,null,null,null,null,null,null,null,null,null,null,null,null,null,null,null,null,null,null,null,null,null,null,null,null,null,null,null,null,null,null,null,null,null,null,null,null,null,null,null,null,"Чернігівська","Пересаж"]
[null,null,null,null,null,null,null,null,null,null,null,null,null,null,null,null,null,null,null,null,null,null,null,null,null,null,null,null,null,null,null,null,null,null,null,null,null,null,null,null,null,null,null,null,null,"Чернігівська","Радуль"]
[null,null,null,null,null,null,null,null,null,null,null,null,null,null,null,null,null,null,null,null,null,null,null,null,null,null,null,null,null,null,null,null,null,null,null,null,null,null,null,null,null,null,null,null,null,"Чернігівська","Роїще"]
[null,null,null,null,null,null,null,null,null,null,null,null,null,null,null,null,null,null,null,null,null,null,null,null,null,null,null,null,null,null,null,null,null,null,null,null,null,null,null,null,null,null,null,null,null,"Чернігівська","Сезьки"]
[null,null,null,null,null,null,null,null,null,null,null,null,null,null,null,null,null,null,null,null,null,null,null,null,null,null,null,null,null,null,null,null,null,null,null,null,null,null,null,null,null,null,null,null,null,"Чернігівська","Степанівське"]
[null,null,null,null,null,null,null,null,null,null,null,null,null,null,null,null,null,null,null,null,null,null,null,null,null,null,null,null,null,null,null,null,null,null,null,null,null,null,null,null,null,null,null,null,null,"Чернігівська","Тамарівка"]
[null,null,null,null,null,null,null,null,null,null,null,null,null,null,null,null,null,null,null,null,null,null,null,null,null,null,null,null,null,null,null,null,null,null,null,null,null,null,null,null,null,null,null,null,null,"Чернігівська","Тараса Шевченка"]
[null,null,null,null,null,null,null,null,null,null,null,null,null,null,null,null,null,null,null,null,null,null,null,null,null,null,null,null,null,null,null,null,null,null,null,null,null,null,null,null,null,null,null,null,null,"Чернігівська","Тарасів"]
[null,null,null,null,null,null,null,null,null,null,null,null,null,null,null,null,null,null,null,null,null,null,null,null,null,null,null,null,null,null,null,null,null,null,null,null,null,null,null,null,null,null,null,null,null,"Чернігівська","Тасуїв"]
[null,null,null,null,null,null,null,null,null,null,null,null,null,null,null,null,null,null,null,null,null,null,null,null,null,null,null,null,null,null,null,null,null,null,null,null,null,null,null,null,null,null,null,null,null,"Чернігівська","Татарівка"]
[null,null,null,null,null,null,null,null,null,null,null,null,null,null,null,null,null,null,null,null,null,null,null,null,null,null,null,null,null,null,null,null,null,null,null,null,null,null,null,null,null,null,null,null,null,"Чернігівська","Тельне"]
[null,null,null,null,null,null,null,null,null,null,null,null,null,null,null,null,null,null,null,null,null,null,null,null,null,null,null,null,null,null,null,null,null,null,null,null,null,null,null,null,null,null,null,null,null,"Чернігівська","Терехівка"]
[null,null,null,null,null,null,null,null,null,null,null,null,null,null,null,null,null,null,null,null,null,null,null,null,null,null,null,null,null,null,null,null,null,null,null,null,null,null,null,null,null,null,null,null,null,"Чернігівська","Терешиха"]
[null,null,null,null,null,null,null,null,null,null,null,null,null,null,null,null,null,null,null,null,null,null,null,null,null,null,null,null,null,null,null,null,null,null,null,null,null,null,null,null,null,null,null,null,null,"Чернігівська","Тертишники"]
[null,null,null,null,null,null,null,null,null,null,null,null,null,null,null,null,null,null,null,null,null,null,null,null,null,null,null,null,null,null,null,null,null,null,null,null,null,null,null,null,null,null,null,null,null,"Чернігівська","Тимоновичі"]
[null,null,null,null,null,null,null,null,null,null,null,null,null,null,null,null,null,null,null,null,null,null,null,null,null,null,null,null,null,null,null,null,null,null,null,null,null,null,null,null,null,null,null,null,null,"Чернігівська","Тиниця"]
[null,null,null,null,null,null,null,null,null,null,null,null,null,null,null,null,null,null,null,null,null,null,null,null,null,null,null,null,null,null,null,null,null,null,null,null,null,null,null,null,null,null,null,null,null,"Чернігівська","Титівка"]
[null,null,null,null,null,null,null,null,null,null,null,null,null,null,null,null,null,null,null,null,null,null,null,null,null,null,null,null,null,null,null,null,null,null,null,null,null,null,null,null,null,null,null,null,null,"Чернігівська","Тихонівське"]
[null,null,null,null,null,null,null,null,null,null,null,null,null,null,null,null,null,null,null,null,null,null,null,null,null,null,null,null,null,null,null,null,null,null,null,null,null,null,null,null,null,null,null,null,null,"Чернігівська","Тихоновичі"]
[null,null,null,null,null,null,null,null,null,null,null,null,null,null,null,null,null,null,null,null,null,null,null,null,null,null,null,null,null,null,null,null,null,null,null,null,null,null,null,null,null,null,null,null,null,"Чернігівська","Товкачівка"]
[null,null,null,null,null,null,null,null,null,null,null,null,null,null,null,null,null,null,null,null,null,null,null,null,null,null,null,null,null,null,null,null,null,null,null,null,null,null,null,null,null,null,null,null,null,"Чернігівська","Товстоліс"]
[null,null,null,null,null,null,null,null,null,null,null,null,null,null,null,null,null,null,null,null,null,null,null,null,null,null,null,null,null,null,null,null,null,null,null,null,null,null,null,null,null,null,null,null,null,"Чернігівська","Тонка"]
[null,null,null,null,null,null,null,null,null,null,null,null,null,null,null,null,null,null,null,null,null,null,null,null,null,null,null,null,null,null,null,null,null,null,null,null,null,null,null,null,null,null,null,null,null,"Чернігівська","Топчіївка"]
[null,null,null,null,null,null,null,null,null,null,null,null,null,null,null,null,null,null,null,null,null,null,null,null,null,null,null,null,null,null,null,null,null,null,null,null,null,null,null,null,null,null,null,null,null,"Чернігівська","Точене"]
[null,null,null,null,null,null,null,null,null,null,null,null,null,null,null,null,null,null,null,null,null,null,null,null,null,null,null,null,null,null,null,null,null,null,null,null,null,null,null,null,null,null,null,null,null,"Чернігівська","Травкине"]
[null,null,null,null,null,null,null,null,null,null,null,null,null,null,null,null,null,null,null,null,null,null,null,null,null,null,null,null,null,null,null,null,null,null,null,null,null,null,null,null,null,null,null,null,null,"Чернігівська","Тужар"]
[null,null,null,null,null,null,null,null,null,null,null,null,null,null,null,null,null,null,null,null,null,null,null,null,null,null,null,null,null,null,null,null,null,null,null,null,null,null,null,null,null,null,null,null,null,"Чернігівська","Тулія"]
[null,null,null,null,null,null,null,null,null,null,null,null,null,null,null,null,null,null,null,null,null,null,null,null,null,null,null,null,null,null,null,null,null,null,null,null,null,null,null,null,null,null,null,null,null,"Чернігівська","Туманська Гута"]
[null,null,null,null,null,null,null,null,null,null,null,null,null,null,null,null,null,null,null,null,null,null,null,null,null,null,null,null,null,null,null,null,null,null,null,null,null,null,null,null,null,null,null,null,null,"Чернігівська","Тупичів"]
[null,null,null,null,null,null,null,null,null,null,null,null,null,null,null,null,null,null,null,null,null,null,null,null,null,null,null,null,null,null,null,null,null,null,null,null,null,null,null,null,null,null,null,null,null,"Чернігівська","Турківка"]
[null,null,null,null,null,null,null,null,null,null,null,null,null,null,null,null,null,null,null,null,null,null,null,null,null,null,null,null,null,null,null,null,null,null,null,null,null,null,null,null,null,null,null,null,null,"Чернігівська","Тютюнниця"]
[null,null,null,null,null,null,null,null,null,null,null,null,null,null,null,null,null,null,null,null,null,null,null,null,null,null,null,null,null,null,null,null,null,null,null,null,null,null,null,null,null,null,null,null,null,"Чернігівська","Убіжичі"]
[null,null,null,null,null,null,null,null,null,null,null,null,null,null,null,null,null,null,null,null,null,null,null,null,null,null,null,null,null,null,null,null,null,null,null,null,null,null,null,null,null,null,null,null,null,"Чернігівська","Уборки"]
[null,null,null,null,null,null,null,null,null,null,null,null,null,null,null,null,null,null,null,null,null,null,null,null,null,null,null,null,null,null,null,null,null,null,null,null,null,null,null,null,null,null,null,null,null,"Чернігівська","Углова Рудня"]
[null,null,null,null,null,null,null,null,null,null,null,null,null,null,null,null,null,null,null,null,null,null,null,null,null,null,null,null,null,null,null,null,null,null,null,null,null,null,null,null,null,null,null,null,null,"Чернігівська","Удайці"]
[null,null,null,null,null,null,null,null,null,null,null,null,null,null,null,null,null,null,null,null,null,null,null,null,null,null,null,null,null,null,null,null,null,null,null,null,null,null,null,null,null,null,null,null,null,"Чернігівська","Узруй"]
[null,null,null,null,null,null,null,null,null,null,null,null,null,null,null,null,null,null,null,null,null,null,null,null,null,null,null,null,null,null,null,null,null,null,null,null,null,null,null,null,null,null,null,null,null,"Чернігівська","Українське (курінська)"]
[null,null,null,null,null,null,null,null,null,null,null,null,null,null,null,null,null,null,null,null,null,null,null,null,null,null,null,null,null,null,null,null,null,null,null,null,null,null,null,null,null,null,null,null,null,"Чернігівська","Унучки"]
[null,null,null,null,null,null,null,null,null,null,null,null,null,null,null,null,null,null,null,null,null,null,null,null,null,null,null,null,null,null,null,null,null,null,null,null,null,null,null,null,null,null,null,null,null,"Чернігівська","Ушівка"]
[null,null,null,null,null,null,null,null,null,null,null,null,null,null,null,null,null,null,null,null,null,null,null,null,null,null,null,null,null,null,null,null,null,null,null,null,null,null,null,null,null,null,null,null,null,"Чернігівська","Фаївка"]
[null,null,null,null,null,null,null,null,null,null,null,null,null,null,null,null,null,null,null,null,null,null,null,null,null,null,null,null,null,null,null,null,null,null,null,null,null,null,null,null,null,null,null,null,null,"Чернігівська","Фастівці"]
[null,null,null,null,null,null,null,null,null,null,null,null,null,null,null,null,null,null,null,null,null,null,null,null,null,null,null,null,null,null,null,null,null,null,null,null,null,null,null,null,null,null,null,null,null,"Чернігівська","Ферубки"]
[null,null,null,null,null,null,null,null,null,null,null,null,null,null,null,null,null,null,null,null,null,null,null,null,null,null,null,null,null,null,null,null,null,null,null,null,null,null,null,null,null,null,null,null,null,"Чернігівська","Феськівка"]
[null,null,null,null,null,null,null,null,null,null,null,null,null,null,null,null,null,null,null,null,null,null,null,null,null,null,null,null,null,null,null,null,null,null,null,null,null,null,null,null,null,null,null,null,null,"Чернігівська","Філонівка"]
[null,null,null,null,null,null,null,null,null,null,null,null,null,null,null,null,null,null,null,null,null,null,null,null,null,null,null,null,null,null,null,null,null,null,null,null,null,null,null,null,null,null,null,null,null,"Чернігівська","Форостовичі"]
[null,null,null,null,null,null,null,null,null,null,null,null,null,null,null,null,null,null,null,null,null,null,null,null,null,null,null,null,null,null,null,null,null,null,null,null,null,null,null,null,null,null,null,null,null,"Чернігівська","Фурсове"]
[null,null,null,null,null,null,null,null,null,null,null,null,null,null,null,null,null,null,null,null,null,null,null,null,null,null,null,null,null,null,null,null,null,null,null,null,null,null,null,null,null,null,null,null,null,"Чернігівська","Хаєнки"]
[null,null,null,null,null,null,null,null,null,null,null,null,null,null,null,null,null,null,null,null,null,null,null,null,null,null,null,null,null,null,null,null,null,null,null,null,null,null,null,null,null,null,null,null,null,"Чернігівська","Хаїха"]
[null,null,null,null,null,null,null,null,null,null,null,null,null,null,null,null,null,null,null,null,null,null,null,null,null,null,null,null,null,null,null,null,null,null,null,null,null,null,null,null,null,null,null,null,null,"Чернігівська","Халимонове"]
[null,null,null,null,null,null,null,null,null,null,null,null,null,null,null,null,null,null,null,null,null,null,null,null,null,null,null,null,null,null,null,null,null,null,null,null,null,null,null,null,null,null,null,null,null,"Чернігівська","Халявин"]
[null,null,null,null,null,null,null,null,null,null,null,null,null,null,null,null,null,null,null,null,null,null,null,null,null,null,null,null,null,null,null,null,null,null,null,null,null,null,null,null,null,null,null,null,null,"Чернігівська","Хатилова Гута"]
[null,null,null,null,null,null,null,null,null,null,null,null,null,null,null,null,null,null,null,null,null,null,null,null,null,null,null,null,null,null,null,null,null,null,null,null,null,null,null,null,null,null,null,null,null,"Чернігівська","Хвилівка"]
[null,null,null,null,null,null,null,null,null,null,null,null,null,null,null,null,null,null,null,null,null,null,null,null,null,null,null,null,null,null,null,null,null,null,null,null,null,null,null,null,null,null,null,null,null,"Чернігівська","Хибалівка"]
[null,null,null,null,null,null,null,null,null,null,null,null,null,null,null,null,null,null,null,null,null,null,null,null,null,null,null,null,null,null,null,null,null,null,null,null,null,null,null,null,null,null,null,null,null,"Чернігівська","Хлоп'яники"]
[null,null,null,null,null,null,null,null,null,null,null,null,null,null,null,null,null,null,null,null,null,null,null,null,null,null,null,null,null,null,null,null,null,null,null,null,null,null,null,null,null,null,null,null,null,"Чернігівська","Хмільниця"]
[null,null,null,null,null,null,null,null,null,null,null,null,null,null,null,null,null,null,null,null,null,null,null,null,null,null,null,null,null,null,null,null,null,null,null,null,null,null,null,null,null,null,null,null,null,"Чернігівська","Ховдіївка"]
[null,null,null,null,null,null,null,null,null,null,null,null,null,null,null,null,null,null,null,null,null,null,null,null,null,null,null,null,null,null,null,null,null,null,null,null,null,null,null,null,null,null,null,null,null,"Чернігівська","Ховми"]
[null,null,null,null,null,null,null,null,null,null,null,null,null,null,null,null,null,null,null,null,null,null,null,null,null,null,null,null,null,null,null,null,null,null,null,null,null,null,null,null,null,null,null,null,null,"Чернігівська","Холми"]
[null,null,null,null,null,null,null,null,null,null,null,null,null,null,null,null,null,null,null,null,null,null,null,null,null,null,null,null,null,null,null,null,null,null,null,null,null,null,null,null,null,null,null,null,null,"Чернігівська","Холявки"]
[null,null,null,null,null,null,null,null,null,null,null,null,null,null,null,null,null,null,null,null,null,null,null,null,null,null,null,null,null,null,null,null,null,null,null,null,null,null,null,null,null,null,null,null,null,"Чернігівська","Хоробичі"]
[null,null,null,null,null,null,null,null,null,null,null,null,null,null,null,null,null,null,null,null,null,null,null,null,null,null,null,null,null,null,null,null,null,null,null,null,null,null,null,null,null,null,null,null,null,"Чернігівська","Хороше Озеро"]
[null,null,null,null,null,null,null,null,null,null,null,null,null,null,null,null,null,null,null,null,null,null,null,null,null,null,null,null,null,null,null,null,null,null,null,null,null,null,null,null,null,null,null,null,null,"Чернігівська","Хотівля"]
[null,null,null,null,null,null,null,null,null,null,null,null,null,null,null,null,null,null,null,null,null,null,null,null,null,null,null,null,null,null,null,null,null,null,null,null,null,null,null,null,null,null,null,null,null,"Чернігівська","Хотіївка"]
[null,null,null,null,null,null,null,null,null,null,null,null,null,null,null,null,null,null,null,null,null,null,null,null,null,null,null,null,null,null,null,null,null,null,null,null,null,null,null,null,null,null,null,null,null,"Чернігівська","Хотуничі"]
[null,null,null,null,null,null,null,null,null,null,null,null,null,null,null,null,null,null,null,null,null,null,null,null,null,null,null,null,null,null,null,null,null,null,null,null,null,null,null,null,null,null,null,null,null,"Чернігівська","Храпате"]
[null,null,null,null,null,null,null,null,null,null,null,null,null,null,null,null,null,null,null,null,null,null,null,null,null,null,null,null,null,null,null,null,null,null,null,null,null,null,null,null,null,null,null,null,null,"Чернігівська","Хрипівка"]
[null,null,null,null,null,null,null,null,null,null,null,null,null,null,null,null,null,null,null,null,null,null,null,null,null,null,null,null,null,null,null,null,null,null,null,null,null,null,null,null,null,null,null,null,null,"Чернігівська","Хрінівка"]
[null,null,null,null,null,null,null,null,null,null,null,null,null,null,null,null,null,null,null,null,null,null,null,null,null,null,null,null,null,null,null,null,null,null,null,null,null,null,null,null,null,null,null,null,null,"Чернігівська","Хукалівка"]
[null,null,null,null,null,null,null,null,null,null,null,null,null,null,null,null,null,null,null,null,null,null,null,null,null,null,null,null,null,null,null,null,null,null,null,null,null,null,null,null,null,null,null,null,null,"Чернігівська","Часнівці"]
[null,null,null,null,null,null,null,null,null,null,null,null,null,null,null,null,null,null,null,null,null,null,null,null,null,null,null,null,null,null,null,null,null,null,null,null,null,null,null,null,null,null,null,null,null,"Чернігівська","Чемер"]
[null,null,null,null,null,null,null,null,null,null,null,null,null,null,null,null,null,null,null,null,null,null,null,null,null,null,null,null,null,null,null,null,null,null,null,null,null,null,null,null,null,null,null,null,null,"Чернігівська","Ченчики"]
[null,null,null,null,null,null,null,null,null,null,null,null,null,null,null,null,null,null,null,null,null,null,null,null,null,null,null,null,null,null,null,null,null,null,null,null,null,null,null,null,null,null,null,null,null,"Чернігівська","Чепелів"]
[null,null,null,null,null,null,null,null,null,null,null,null,null,null,null,null,null,null,null,null,null,null,null,null,null,null,null,null,null,null,null,null,null,null,null,null,null,null,null,null,null,null,null,null,null,"Чернігівська","Червона Буда"]
[null,null,null,null,null,null,null,null,null,null,null,null,null,null,null,null,null,null,null,null,null,null,null,null,null,null,null,null,null,null,null,null,null,null,null,null,null,null,null,null,null,null,null,null,null,"Чернігівська","Червона Гута"]
[null,null,null,null,null,null,null,null,null,null,null,null,null,null,null,null,null,null,null,null,null,null,null,null,null,null,null,null,null,null,null,null,null,null,null,null,null,null,null,null,null,null,null,null,null,"Чернігівська","Червона Україна"]
[null,null,null,null,null,null,null,null,null,null,null,null,null,null,null,null,null,null,null,null,null,null,null,null,null,null,null,null,null,null,null,null,null,null,null,null,null,null,null,null,null,null,null,null,null,"Чернігівська","Червоний Гай"]
[null,null,null,null,null,null,null,null,null,null,null,null,null,null,null,null,null,null,null,null,null,null,null,null,null,null,null,null,null,null,null,null,null,null,null,null,null,null,null,null,null,null,null,null,null,"Чернігівська","Червоний Довжик"]
[null,null,null,null,null,null,null,null,null,null,null,null,null,null,null,null,null,null,null,null,null,null,null,null,null,null,null,null,null,null,null,null,null,null,null,null,null,null,null,null,null,null,null,null,null,"Чернігівська","Червоний Колодязь"]
[null,null,null,null,null,null,null,null,null,null,null,null,null,null,null,null,null,null,null,null,null,null,null,null,null,null,null,null,null,null,null,null,null,null,null,null,null,null,null,null,null,null,null,null,null,"Чернігівська","Червоний Остер"]
[null,null,null,null,null,null,null,null,null,null,null,null,null,null,null,null,null,null,null,null,null,null,null,null,null,null,null,null,null,null,null,null,null,null,null,null,null,null,null,null,null,null,null,null,null,"Чернігівська","Червоний Пахар"]
[null,null,null,null,null,null,null,null,null,null,null,null,null,null,null,null,null,null,null,null,null,null,null,null,null,null,null,null,null,null,null,null,null,null,null,null,null,null,null,null,null,null,null,null,null,"Чернігівська","Червоний Плугатор"]
[null,null,null,null,null,null,null,null,null,null,null,null,null,null,null,null,null,null,null,null,null,null,null,null,null,null,null,null,null,null,null,null,null,null,null,null,null,null,null,null,null,null,null,null,null,"Чернігівська","Червоний Шлях"]
[null,null,null,null,null,null,null,null,null,null,null,null,null,null,null,null,null,null,null,null,null,null,null,null,null,null,null,null,null,null,null,null,null,null,null,null,null,null,null,null,null,null,null,null,null,"Чернігівська","Червоні Гори"]
[null,null,null,null,null,null,null,null,null,null,null,null,null,null,null,null,null,null,null,null,null,null,null,null,null,null,null,null,null,null,null,null,null,null,null,null,null,null,null,null,null,null,null,null,null,"Чернігівська","Червоні Партизани"]
[null,null,null,null,null,null,null,null,null,null,null,null,null,null,null,null,null,null,null,null,null,null,null,null,null,null,null,null,null,null,null,null,null,null,null,null,null,null,null,null,null,null,null,null,null,"Чернігівська","Черецьке"]
[null,null,null,null,null,null,null,null,null,null,null,null,null,null,null,null,null,null,null,null,null,null,null,null,null,null,null,null,null,null,null,null,null,null,null,null,null,null,null,null,null,null,null,null,null,"Чернігівська","Черниш"]
[null,null,null,null,null,null,null,null,null,null,null,null,null,null,null,null,null,null,null,null,null,null,null,null,null,null,null,null,null,null,null,null,null,null,null,null,null,null,null,null,null,null,null,null,null,"Чернігівська","Чернігів"]
[null,null,null,null,null,null,null,null,null,null,null,null,null,null,null,null,null,null,null,null,null,null,null,null,null,null,null,null,null,null,null,null,null,null,null,null,null,null,null,null,null,null,null,null,null,"Чернігівська","Чисті Лужи"]
[null,null,null,null,null,null,null,null,null,null,null,null,null,null,null,null,null,null,null,null,null,null,null,null,null,null,null,null,null,null,null,null,null,null,null,null,null,null,null,null,null,null,null,null,null,"Чернігівська","Чорний Ріг"]
[null,null,null,null,null,null,null,null,null,null,null,null,null,null,null,null,null,null,null,null,null,null,null,null,null,null,null,null,null,null,null,null,null,null,null,null,null,null,null,null,null,null,null,null,null,"Чернігівська","Чорногорці"]
[null,null,null,null,null,null,null,null,null,null,null,null,null,null,null,null,null,null,null,null,null,null,null,null,null,null,null,null,null,null,null,null,null,null,null,null,null,null,null,null,null,null,null,null,null,"Чернігівська","Чорнозем"]
[null,null,null,null,null,null,null,null,null,null,null,null,null,null,null,null,null,null,null,null,null,null,null,null,null,null,null,null,null,null,null,null,null,null,null,null,null,null,null,null,null,null,null,null,null,"Чернігівська","Чорнотичі"]
[null,null,null,null,null,null,null,null,null,null,null,null,null,null,null,null,null,null,null,null,null,null,null,null,null,null,null,null,null,null,null,null,null,null,null,null,null,null,null,null,null,null,null,null,null,"Чернігівська","Чудівка"]
[null,null,null,null,null,null,null,null,null,null,null,null,null,null,null,null,null,null,null,null,null,null,null,null,null,null,null,null,null,null,null,null,null,null,null,null,null,null,null,null,null,null,null,null,null,"Чернігівська","Чулатів"]
[null,null,null,null,null,null,null,null,null,null,null,null,null,null,null,null,null,null,null,null,null,null,null,null,null,null,null,null,null,null,null,null,null,null,null,null,null,null,null,null,null,null,null,null,null,"Чернігівська","Чумак"]
[null,null,null,null,null,null,null,null,null,null,null,null,null,null,null,null,null,null,null,null,null,null,null,null,null,null,null,null,null,null,null,null,null,null,null,null,null,null,null,null,null,null,null,null,null,"Чернігівська","Шабалинів"]
[null,null,null,null,null,null,null,null,null,null,null,null,null,null,null,null,null,null,null,null,null,null,null,null,null,null,null,null,null,null,null,null,null,null,null,null,null,null,null,null,null,null,null,null,null,"Чернігівська","Шаболтасівка"]
[null,null,null,null,null,null,null,null,null,null,null,null,null,null,null,null,null,null,null,null,null,null,null,null,null,null,null,null,null,null,null,null,null,null,null,null,null,null,null,null,null,null,null,null,null,"Чернігівська","Шами"]
[null,null,null,null,null,null,null,null,null,null,null,null,null,null,null,null,null,null,null,null,null,null,null,null,null,null,null,null,null,null,null,null,null,null,null,null,null,null,null,null,null,null,null,null,null,"Чернігівська","Шапіхи"]
[null,null,null,null,null,null,null,null,null,null,null,null,null,null,null,null,null,null,null,null,null,null,null,null,null,null,null,null,null,null,null,null,null,null,null,null,null,null,null,null,null,null,null,null,null,"Чернігівська","Шатура"]
[null,null,null,null,null,null,null,null,null,null,null,null,null,null,null,null,null,null,null,null,null,null,null,null,null,null,null,null,null,null,null,null,null,null,null,null,null,null,null,null,null,null,null,null,null,"Чернігівська","Шведчина"]
[null,null,null,null,null,null,null,null,null,null,null,null,null,null,null,null,null,null,null,null,null,null,null,null,null,null,null,null,null,null,null,null,null,null,null,null,null,null,null,null,null,null,null,null,null,"Чернігівська","Шептаки"]
[null,null,null,null,null,null,null,null,null,null,null,null,null,null,null,null,null,null,null,null,null,null,null,null,null,null,null,null,null,null,null,null,null,null,null,null,null,null,null,null,null,null,null,null,null,"Чернігівська","Шестовиця"]
[null,null,null,null,null,null,null,null,null,null,null,null,null,null,null,null,null,null,null,null,null,null,null,null,null,null,null,null,null,null,null,null,null,null,null,null,null,null,null,null,null,null,null,null,null,"Чернігівська","Шибиринівка"]
[null,null,null,null,null,null,null,null,null,null,null,null,null,null,null,null,null,null,null,null,null,null,null,null,null,null,null,null,null,null,null,null,null,null,null,null,null,null,null,null,null,null,null,null,null,"Чернігівська","Шиловичі"]
[null,null,null,null,null,null,null,null,null,null,null,null,null,null,null,null,null,null,null,null,null,null,null,null,null,null,null,null,null,null,null,null,null,null,null,null,null,null,null,null,null,null,null,null,null,"Чернігівська","Шишка"]
[null,null,null,null,null,null,null,null,null,null,null,null,null,null,null,null,null,null,null,null,null,null,null,null,null,null,null,null,null,null,null,null,null,null,null,null,null,null,null,null,null,null,null,null,null,"Чернігівська","Шкробове"]
[null,null,null,null,null,null,null,null,null,null,null,null,null,null,null,null,null,null,null,null,null,null,null,null,null,null,null,null,null,null,null,null,null,null,null,null,null,null,null,null,null,null,null,null,null,"Чернігівська","Шкуранка"]
[null,null,null,null,null,null,null,null,null,null,null,null,null,null,null,null,null,null,null,null,null,null,null,null,null,null,null,null,null,null,null,null,null,null,null,null,null,null,null,null,null,null,null,null,null,"Чернігівська","Шмаївка"]
[null,null,null,null,null,null,null,null,null,null,null,null,null,null,null,null,null,null,null,null,null,null,null,null,null,null,null,null,null,null,null,null,null,null,null,null,null,null,null,null,null,null,null,null,null,"Чернігівська","Шняківка"]
[null,null,null,null,null,null,null,null,null,null,null,null,null,null,null,null,null,null,null,null,null,null,null,null,null,null,null,null,null,null,null,null,null,null,null,null,null,null,null,null,null,null,null,null,null,"Чернігівська","Шолойки"]
[null,null,null,null,null,null,null,null,null,null,null,null,null,null,null,null,null,null,null,null,null,null,null,null,null,null,null,null,null,null,null,null,null,null,null,null,null,null,null,null,null,null,null,null,null,"Чернігівська","Шпаків"]
[null,null,null,null,null,null,null,null,null,null,null,null,null,null,null,null,null,null,null,null,null,null,null,null,null,null,null,null,null,null,null,null,null,null,null,null,null,null,null,null,null,null,null,null,null,"Чернігівська","Шумани"]
[null,null,null,null,null,null,null,null,null,null,null,null,null,null,null,null,null,null,null,null,null,null,null,null,null,null,null,null,null,null,null,null,null,null,null,null,null,null,null,null,null,null,null,null,null,"Чернігівська","Шумейкине (Матіївська)"]
[null,null,null,null,null,null,null,null,null,null,null,null,null,null,null,null,null,null,null,null,null,null,null,null,null,null,null,null,null,null,null,null,null,null,null,null,null,null,null,null,null,null,null,null,null,"Чернігівська","Шумейків"]
[null,null,null,null,null,null,null,null,null,null,null,null,null,null,null,null,null,null,null,null,null,null,null,null,null,null,null,null,null,null,null,null,null,null,null,null,null,null,null,null,null,null,null,null,null,"Чернігівська","Шумин"]
[null,null,null,null,null,null,null,null,null,null,null,null,null,null,null,null,null,null,null,null,null,null,null,null,null,null,null,null,null,null,null,null,null,null,null,null,null,null,null,null,null,null,null,null,null,"Чернігівська","Щокоть"]
[null,null,null,null,null,null,null,null,null,null,null,null,null,null,null,null,null,null,null,null,null,null,null,null,null,null,null,null,null,null,null,null,null,null,null,null,null,null,null,null,null,null,null,null,null,"Чернігівська","Щорс"]
[null,null,null,null,null,null,null,null,null,null,null,null,null,null,null,null,null,null,null,null,null,null,null,null,null,null,null,null,null,null,null,null,null,null,null,null,null,null,null,null,null,null,null,null,null,"Чернігівська","Щурівка"]
[null,null,null,null,null,null,null,null,null,null,null,null,null,null,null,null,null,null,null,null,null,null,null,null,null,null,null,null,null,null,null,null,null,null,null,null,null,null,null,null,null,null,null,null,null,"Чернігівська","Щуча Гребля"]
[null,null,null,null,null,null,null,null,null,null,null,null,null,null,null,null,null,null,null,null,null,null,null,null,null,null,null,null,null,null,null,null,null,null,null,null,null,null,null,null,null,null,null,null,null,"Чернігівська","Юрківщина"]
[null,null,null,null,null,null,null,null,null,null,null,null,null,null,null,null,null,null,null,null,null,null,null,null,null,null,null,null,null,null,null,null,null,null,null,null,null,null,null,null,null,null,null,null,null,"Чернігівська","Юхнове"]
[null,null,null,null,null,null,null,null,null,null,null,null,null,null,null,null,null,null,null,null,null,null,null,null,null,null,null,null,null,null,null,null,null,null,null,null,null,null,null,null,null,null,null,null,null,"Чернігівська","Яблунівське"]
[null,null,null,null,null,null,null,null,null,null,null,null,null,null,null,null,null,null,null,null,null,null,null,null,null,null,null,null,null,null,null,null,null,null,null,null,null,null,null,null,null,null,null,null,null,"Чернігівська","Ядути"]
[null,null,null,null,null,null,null,null,null,null,null,null,null,null,null,null,null,null,null,null,null,null,null,null,null,null,null,null,null,null,null,null,null,null,null,null,null,null,null,null,null,null,null,null,null,"Чернігівська","Якличі"]
[null,null,null,null,null,null,null,null,null,null,null,null,null,null,null,null,null,null,null,null,null,null,null,null,null,null,null,null,null,null,null,null,null,null,null,null,null,null,null,null,null,null,null,null,null,"Чернігівська","Ямище"]
[null,null,null,null,null,null,null,null,null,null,null,null,null,null,null,null,null,null,null,null,null,null,null,null,null,null,null,null,null,null,null,null,null,null,null,null,null,null,null,null,null,null,null,null,null,"Чернігівська","Ярова Білещина"]
[null,null,null,null,null,null,null,null,null,null,null,null,null,null,null,null,null,null,null,null,null,null,null,null,null,null,null,null,null,null,null,null,null,null,null,null,null,null,null,null,null,null,null,null,null,"Чернігівська","Ясна Зірка"]
[null,null,null,null,null,null,null,null,null,null,null,null,null,null,null,null,null,null,null,null,null,null,null,null,null,null,null,null,null,null,null,null,null,null,null,null,null,null,null,null,null,null,null,null,null,"Чернігівська","Яськове"]
[null,null,null,null,null,null,null,null,null,null,null,null,null,null,null,null,null,null,null,null,null,null,null,null,null,null,null,null,null,null,null,null,null,null,null,null,null,null,null,null,null,null,null,null,null,"Чернігівська","Ященків"]