{"text_format":"1","workbook":"xlsx","n_sheets":5,"sheets":["1.Портфель кредитів","2.Забезпечення","3.ППР","4.журнал торгів","Група_актива"],"not_rendered":{"charts":0,"images":1,"macros":1,"external_links":3,"defined_names":31,"comments":0,"pivot_tables":0},"unopened":[],"bounds":{"document_bytes":16777216,"sheet_cells":100000,"rows_first":2000,"rows_last":500,"rows_between":2000,"halvings":0,"cell_chars":16384,"cell_head_chars":4096},"cells_cut":0,"cells_raw":0,"read":"whole","date_system":"1900"}

{"sheet":"1.Портфель кредитів","index":0,"n_rows":1005,"n_cols":472,"rows_kept":1005,"cut":false,"hidden":false,"merged":[[1,2,4,20]]}
[]
[null,null,"Цей документ був підготовлений Фондом гарантування вкладів фізичних осіб (далі – Фонд) виключно для інформаційних цілей і не повинен вважатися як спонукання до будь-яких дій чи бездіяльності.  Інформація, що міститься в цьому документі, була отримана з/або ґрунтується на джерелах, які вважаються надійними, але не є вичерпною та не може сприйматися як повна або актуальна. Зокрема, але не виключно, станом на дату придбання активів допускаються несуттєві зміни лота, в складі якого продаються такі активи. Під несуттєвими змінами лота слід розуміти такі зміни характеристик активів у складі такого лота, які впливають на його балансову вартість, але не більше ніж на 10 відсотків. Рішення покупця щодо будь-яких дій або бездіяльності повинно ґрунтуватися на власних оцінках та дослідженнях майна (активу/активів), котре реалізується. Фонд не несе відповідальності за рішення покупця та його наслідки, що ґрунтується на інформації, викладеній в даному документі.\n\n«Недійсність (нікчемність), припинення всіх або будь-якого із прав, що складають Майнові права за цим лотом, або неможливість реалізації покупцем будь-якого із Майнових прав, набутих ним за договором купівлі-продажу Майнових прав за цим лотом, не вплине на дійсність договору купівлі-продажу Майнових прав за цим лотом та Покупець погоджується, що Продавець не несе жодної відповідальності за такі наслідки. Банк (продавець) та/або Фонд не відповідає за неотримання покупцем грошових коштів або іншого майна, які покупець очікував отримати від Майнових прав, набуваючи у власність Майнові права за цим лотом. Приймаючи рішення щодо придбання Майнових прав за цим лотом покупець має розуміти (усвідомлювати) характер Майнових прав, що переходять до покупця за цим лотом, та приймати усі ризики, пов’язані із таким переходом, у тому числі ризики того, що покупець у майбутньому не зможе отримати жодних коштів або майна за Майновими правами.»\n\nПокупцем не може бути особа, пов'язана з державою-агресором, відповідно до Постанови Кабінету Міністрів України №187 від 03.03.2022 (зі змінами).\n\nЗвертаємо увагу, що  на період дії воєнного стану на території України  договори посвідчуються нотаріусом, який включений до затвердженого Міністерством юстиції переліку (https://minjust.gov.ua/news/ministry/perelik-notariusiv-yakimi-v-umovah-voennogo-stanu-vchinyayutsya-notarialni-dii-schodo-tsinnogo-mayna). Нотаріальне посвідчення договорів відчуження нерухомого майна на час дії воєнного стану здійснюється нотаріусом, який включений до затвердженого Міністерством юстиції переліку, за місцезнаходженням такого майна. Виключенням є м. Київ та Київська область, де договори відчуження нерухомого майна посвідчуються нотаріусом з м. Києва або Київської обл. за місцезнаходженням такого майна, або місцезнаходженням юридичної особи, або за зареєстрованим місцем проживання фізичної особи - однієї із сторін договору.",null,null,null,null,null,null,null,null,null,null,null,null,null,null,null,null,null,null,null,null,null,null,null,null,null,null,null,null,null,null,null,null,null,null,null,null,null,null,null,null,null,null,null,null,null,null,null,null,null,null,null,null,null,null,null,null,null,null,null,null,null,null,null,null,null,null,null,null,null,null,null,null,null,null,null,null,null,null,null,null,null,null,null,null,null,null,null,null,null,null,null,null,null,null,null,null,null,null,null,null,null,null,null,null,null,null,null,null,null,null,null,null,null,null,null,null,null,null,null,null,null,null,null,null,null,null,null,null,null,null,null,null,null,null,null,null,null,null,null,null,null,null,null,null,null,null,null,null,null,null,null,null,null,null,null,null,null,null,null,null,null,null,null,null,null,null,null,null,null,null,null,null,null,null,null,null,null,null,null,null,null,null,null,null,null,null,null,null,null,null,null,null,null,null,null,null,null,null,null,null,null,null,null,null,null,null,null,null,null,null,null,null,null,null,null,null,null,null,null,null,null,null,null,null,null,null,null,null,null,null,null,null,null,null,null,null,null,null,null,null,null,null,null,null,null,null,null,null,null,null,null,null,null,null,null,null,null,null,null,null,null,null,null,null,null,null,null,null,null,null,null,null,null,null,null,null,null,null,null,null,null,null,null,null,null,null,null,null,null,null,null,null,null,null,null,null,null,null,null,null,null,null,null,null,null,null,null,null,null,null,null,null,null,null,null,null,null,null,null,null,null,null,null,null,null,null,null,null,null,null,null,null,null,null,null,null,null,null,null,null,null,null,null,null,null,null,null,null,null,null,null,null,null,null,null,null,null,null,null,null,null,null,null,null,null,null,null,null,null,null,null,null,null,null,null,null,null,null,null,null,null,null,null,null,null,null,null,null,null,null,null,null,null,null,null,null,null,null,null,null,null,null,null,null,null,null,null,null,null,null,null,null,null,null,null,null,null,null,null,null,null,null,null,null,null,null,null,null,null,null,null,null,null,null,null,null,null,null,null,null,null,null,null,null,null,null,null,null,null,null,null,null,null,null,null,null,null,null,null,null,null,null,null,null,null,null,null,null,"2029-11-09"]
[]
[]
[]
["Звітна дата",":","2024-02-01",null,null,null,null,null,null,null,null,null,null,null,null,null,null,null,null,null,null,null,302993053.79999995,1275130830.6500001,2258897532.6099997,667213955.13,1591683577.48,0]
[null,null,"Загальні дані",null,null,null,null,"Характеристика активу / фактори впливу",null,null,null,null,null,null,null,null,null,null,null,null,null,null,null,"Заборгованість"]
["unicid","#","Банк","МФО банку","Тип боржника ","Область","Статус  Боржника відповідно ЄДР на дату заповнення паспорту","Група активу ","Номер договору","Тип кредиту/активу","Валюта","Відсоткова ставка номінальна","Дата відкриття","Дата закінчення","Відмітка про знаходження  права вимоги  за активом  в  якості забезпечення під рефінансуванням в НБУ, або відмітка про передачу  майна та/або майнових прав в заставу третіх осіб","Наявність договорів ","Кількість днів прострочення оплати боргу на дату заповнення","Сума погашеної заборгованності у поточному році,  грн. екв.","Сума останнього погашення заборгованності, грн. екв.","Дата останнього погашення заборгованності","Суб'єкт оціночної діяльності","Дата оцінки активу","Оціночна вартість, грн. без ПДВ","Заборгованість на дату формування ліквідаційної маси, грн. екв.","Заборгованстіь  на дату заповнення паспорту, грн. екв. 01.02.2024р. (тіло та проценти):","Заборгованість по тілу кредиту на дату заповнення паспорту, грн. екв.","Забаргованність по нарах. % за кредитом на дату заповнення паспорту, грн. екв.","Штрафи та пені, грн. екв."]
["300131__1",1,"Фінанси та кредит","300131","Юридична особа","Львівська","Діюче/ не перебуває в процесі припинення","I - право вимоги","1195-01-07","відновлювальна кредитна лінія","Гривня",0.46,"2007-09-19","2016-05-12","ТАК","Наявні документи кредитної справи",2375,0,177933.18,"2020-11-17","ТОВ \"Кредитне Брокерське Агентство\"","2016-04-01",15286380.029999999,97457709.299999997,295250349.78999996,68815284,226435065.78999999,"згідно умов кредитного договору"]
["300131__2",2,"Фінанси та кредит","300131","Юридична особа","Львівська","Діюче/ не перебуває в процесі припинення","I - право вимоги","1252-08","відновлювальна кредитна лінія","Гривня",0.46,"2008-06-13","2016-06-10","ТАК","Наявні документи кредитної справи",2375,0,250000,"2021-06-29","ТОВ \"Кредитне Брокерське Агентство\"","2016-04-01",37472554.090000004,147200651.80000001,469082817.86000001,108450000,360632817.86000001,"згідно умов кредитного договору"]
["300131__3",3,"Фінанси та кредит","300131","Юридична особа","Львівська","Діюче/ не перебуває в процесі припинення","I - право вимоги","1318-10","Відновлювальна кредитна лінія","Гривня",0.43,"2010-05-21","2016-05-19","НІ","Наявні документи кредитної справи",2375,0,177933.19,"2020-11-17","ТОВ \"Кредитне Брокерське Агентство\"","2016-04-01",14138677.75,90028928.420000002,254411282.85999998,61272576.909999996,193138705.94999999,"згідно умов кредитного договору"]
["300131__4",4,"Фінанси та кредит","300131","Юридична особа","Львівська","Діюче/ не перебуває в процесі припинення","I - право вимоги","1319-10","Відновлювальна кредитна лінія","Гривня",0.19500000000000001,"2010-05-26","2016-05-19","ТАК","Наявні документи кредитної справи",2375,0,177933.18,"2020-11-17","ТОВ \"Кредитне Брокерське Агентство\"","2016-04-01",16376052.43,103695450.25,198017660.50999999,77600000,120417660.51000001,"згідно умов кредитного договору"]
["300131__5",5,"Фінанси та кредит","300131","Юридична особа","Львівська","Діюче/ не перебуває в процесі припинення","I - право вимоги","1320-10","Відновлювальна кредитна лінія","Гривня",0.17,"2010-06-29","2016-06-27","ТАК","Наявні документи кредитної справи",2375,0,177933.18,"2020-11-17","ТОВ \"Кредитне Брокерське Агентство\"","2016-04-01",15896174.960000001,100593870.02,181059046.34999999,76600000,104459046.34999999,"згідно умов кредитного договору"]
["300131__6",6,"Фінанси та кредит","300131","Юридична особа","Львівська","Діюче/ не перебуває в процесі припинення","I - право вимоги","1321м-10","мультивалютна кредитна лінія","Гривня; Доллар США","46,00%;22,00%","2010-06-29","2016-06-27","ТАК","Наявні документи кредитної справи",2375,0,177933.18,"2020-11-17","ТОВ \"Кредитне Брокерське Агентство\"","2016-04-01",14594893.41,92562142.140000001,273681977.48000002,62284870,211397107.47999999,"згідно умов кредитного договору"]
["300131__7",7,"Фінанси та кредит","300131","Юридична особа","Львівська","Діюче/ не перебуває в процесі припинення","I - право вимоги","1440-12","відновлювальна кредитна лінія","Гривня",0.17,"2012-11-15","2015-11-14","ТАК","Частково наявні (договір про внесення змін до договору застави №2816А/1109 від 30.11.2009 наявний лише в елктронному вигляді)",2375,0,177933.18,"2020-11-17","ТОВ \"Кредитне Брокерське Агентство\"","2016-04-01",16519040.300000001,105033409.95,187378982.75999999,77668918.090000004,109710064.67,"згідно умов кредитного договору"]
["300131__8",8,"Фінанси та кредит","300131","Юридична особа","Київ","Діюче/ не перебуває в процесі припинення","I - право вимоги","1253м-08","Невідновлювальна кредитна лінія","Гривня",0.16700000000000001,"2008-06-13","2019-10-01","ТАК","Наявні документи кредитної справи",1583,0,250000,"2021-02-26","ТОВ \"Кредитне Брокерське Агентство\"","2016-04-01",31026142.370000001,121794083.88,102729608.28,42184941.829999998,60544666.450000003,"згідно умов кредитного договору"]
["300131__9",9,"Фінанси та кредит","300131","Юридична особа","Київ","Діюче/ не перебуває в процесі припинення","I - право вимоги","1267м-08","відновлювальна кредитна лінія","Гривня; Доллар США; рос.рубль","11,00%; 10,30%; 8,40%, 21,50%, 22,00%, 23,00%","2008-09-01","2019-10-01","ТАК","Частково наявні документи кредитної справи (відсутній договір застави осн.засобів)",1582,0,24429.91,"2019-10-29","ТОВ \"Кредитне Брокерське Агентство\"","2016-04-01",94387270.239999995,231104246.86000001,79291500,0,79291500,"згідно умов кредитного договору"]
["300131__10",10,"Фінанси та кредит","300131","Юридична особа","Київ","Діюче/ не перебуває в процесі припинення","I - право вимоги","1276м-08","мультивалютна кредитна лінія","Гривня; Доллар США",0.16700000000000001,"2008-12-16","2019-10-01","ТАК","Наявні документи кредитної справи",1583,0,2000000,"2023-12-19","ТОВ \"Кредитне Брокерське Агентство\"","2016-04-01",47295868.219999999,185660338.03,217994306.72,92337364.299999997,125656942.42,"згідно умов кредитного договору"]
["","",null,"",null,null,null,null,null,null,null,null,null,null,null,null,null,null,null,null,null,null,null,null,""]
["","",null,"",null,null,null,null,null,null,null,null,null,null,null,null,null,null,null,null,null,null,null,null,""]
["","",null,"",null,null,null,null,null,null,null,null,null,null,null,null,null,null,null,null,null,null,null,null,""]
["","",null,"",null,null,null,null,null,null,null,null,null,null,null,null,null,null,null,null,null,null,null,null,""]
["","",null,"",null,null,null,null,null,null,null,null,null,null,null,null,null,null,null,null,null,null,null,null,""]
["","",null,"",null,null,null,null,null,null,null,null,null,null,null,null,null,null,null,null,null,null,null,null,""]
["","",null,"",null,null,null,null,null,null,null,null,null,null,null,null,null,null,null,null,null,null,null,null,""]
["","",null,"",null,null,null,null,null,null,null,null,null,null,null,null,null,null,null,null,null,null,null,null,""]
["","",null,"",null,null,null,null,null,null,null,null,null,null,null,null,null,null,null,null,null,null,null,null,""]
["","",null,"",null,null,null,null,null,null,null,null,null,null,null,null,null,null,null,null,null,null,null,null,""]
["","",null,"",null,null,null,null,null,null,null,null,null,null,null,null,null,null,null,null,null,null,null,null,""]
["","",null,"",null,null,null,null,null,null,null,null,null,null,null,null,null,null,null,null,null,null,null,null,""]
["","",null,"",null,null,null,null,null,null,null,null,null,null,null,null,null,null,null,null,null,null,null,null,""]
["","",null,"",null,null,null,null,null,null,null,null,null,null,null,null,null,null,null,null,null,null,null,null,""]
["","",null,"",null,null,null,null,null,null,null,null,null,null,null,null,null,null,null,null,null,null,null,null,""]
["","",null,"",null,null,null,null,null,null,null,null,null,null,null,null,null,null,null,null,null,null,null,null,""]
["","",null,"",null,null,null,null,null,null,null,null,null,null,null,null,null,null,null,null,null,null,null,null,""]
["","",null,"",null,null,null,null,null,null,null,null,null,null,null,null,null,null,null,null,null,null,null,null,""]
["","",null,"",null,null,null,null,null,null,null,null,null,null,null,null,null,null,null,null,null,null,null,null,""]
["","",null,"",null,null,null,null,null,null,null,null,null,null,null,null,null,null,null,null,null,null,null,null,""]
["","",null,"",null,null,null,null,null,null,null,null,null,null,null,null,null,null,null,null,null,null,null,null,""]
["","",null,"",null,null,null,null,null,null,null,null,null,null,null,null,null,null,null,null,null,null,null,null,""]
["","",null,"",null,null,null,null,null,null,null,null,null,null,null,null,null,null,null,null,null,null,null,null,""]
["","",null,"",null,null,null,null,null,null,null,null,null,null,null,null,null,null,null,null,null,null,null,null,""]
["","",null,"",null,null,null,null,null,null,null,null,null,null,null,null,null,null,null,null,null,null,null,null,""]
["","",null,"",null,null,null,null,null,null,null,null,null,null,null,null,null,null,null,null,null,null,null,null,""]
["","",null,"",null,null,null,null,null,null,null,null,null,null,null,null,null,null,null,null,null,null,null,null,""]
["","",null,"",null,null,null,null,null,null,null,null,null,null,null,null,null,null,null,null,null,null,null,null,""]
["","",null,"",null,null,null,null,null,null,null,null,null,null,null,null,null,null,null,null,null,null,null,null,""]
["","",null,"",null,null,null,null,null,null,null,null,null,null,null,null,null,null,null,null,null,null,null,null,""]
["","",null,"",null,null,null,null,null,null,null,null,null,null,null,null,null,null,null,null,null,null,null,null,""]
["","",null,"",null,null,null,null,null,null,null,null,null,null,null,null,null,null,null,null,null,null,null,null,""]
["","",null,"",null,null,null,null,null,null,null,null,null,null,null,null,null,null,null,null,null,null,null,null,""]
["","",null,"",null,null,null,null,null,null,null,null,null,null,null,null,null,null,null,null,null,null,null,null,""]
["","",null,"",null,null,null,null,null,null,null,null,null,null,null,null,null,null,null,null,null,null,null,null,""]
["","",null,"",null,null,null,null,null,null,null,null,null,null,null,null,null,null,null,null,null,null,null,null,""]
["","",null,"",null,null,null,null,null,null,null,null,null,null,null,null,null,null,null,null,null,null,null,null,""]
["","",null,"",null,null,null,null,null,null,null,null,null,null,null,null,null,null,null,null,null,null,null,null,""]
["","",null,"",null,null,null,null,null,null,null,null,null,null,null,null,null,null,null,null,null,null,null,null,""]
["","",null,"",null,null,null,null,null,null,null,null,null,null,null,null,null,null,null,null,null,null,null,null,""]
["","",null,"",null,null,null,null,null,null,null,null,null,null,null,null,null,null,null,null,null,null,null,null,""]
["","",null,"",null,null,null,null,null,null,null,null,null,null,null,null,null,null,null,null,null,null,null,null,""]
["","",null,"",null,null,null,null,null,null,null,null,null,null,null,null,null,null,null,null,null,null,null,null,""]
["","",null,"",null,null,null,null,null,null,null,null,null,null,null,null,null,null,null,null,null,null,null,null,""]
["","",null,"",null,null,null,null,null,null,null,null,null,null,null,null,null,null,null,null,null,null,null,null,""]
["","",null,"",null,null,null,null,null,null,null,null,null,null,null,null,null,null,null,null,null,null,null,null,""]
["","",null,"",null,null,null,null,null,null,null,null,null,null,null,null,null,null,null,null,null,null,null,null,""]
["","",null,"",null,null,null,null,null,null,null,null,null,null,null,null,null,null,null,null,null,null,null,null,""]
["","",null,"",null,null,null,null,null,null,null,null,null,null,null,null,null,null,null,null,null,null,null,null,""]
["","",null,"",null,null,null,null,null,null,null,null,null,null,null,null,null,null,null,null,null,null,null,null,""]
["","",null,"",null,null,null,null,null,null,null,null,null,null,null,null,null,null,null,null,null,null,null,null,""]
["","",null,"",null,null,null,null,null,null,null,null,null,null,null,null,null,null,null,null,null,null,null,null,""]
["","",null,"",null,null,null,null,null,null,null,null,null,null,null,null,null,null,null,null,null,null,null,null,""]
["","",null,"",null,null,null,null,null,null,null,null,null,null,null,null,null,null,null,null,null,null,null,null,""]
["","",null,"",null,null,null,null,null,null,null,null,null,null,null,null,null,null,null,null,null,null,null,null,""]
["","",null,"",null,null,null,null,null,null,null,null,null,null,null,null,null,null,null,null,null,null,null,null,""]
["","",null,"",null,null,null,null,null,null,null,null,null,null,null,null,null,null,null,null,null,null,null,null,""]
["","",null,"",null,null,null,null,null,null,null,null,null,null,null,null,null,null,null,null,null,null,null,null,""]
["","",null,"",null,null,null,null,null,null,null,null,null,null,null,null,null,null,null,null,null,null,null,null,""]
["","",null,"",null,null,null,null,null,null,null,null,null,null,null,null,null,null,null,null,null,null,null,null,""]
["","",null,"",null,null,null,null,null,null,null,null,null,null,null,null,null,null,null,null,null,null,null,null,""]
["","",null,"",null,null,null,null,null,null,null,null,null,null,null,null,null,null,null,null,null,null,null,null,""]
["","",null,"",null,null,null,null,null,null,null,null,null,null,null,null,null,null,null,null,null,null,null,null,""]
["","",null,"",null,null,null,null,null,null,null,null,null,null,null,null,null,null,null,null,null,null,null,null,""]
["","",null,"",null,null,null,null,null,null,null,null,null,null,null,null,null,null,null,null,null,null,null,null,""]
["","",null,"",null,null,null,null,null,null,null,null,null,null,null,null,null,null,null,null,null,null,null,null,""]
["","",null,"",null,null,null,null,null,null,null,null,null,null,null,null,null,null,null,null,null,null,null,null,""]
["","",null,"",null,null,null,null,null,null,null,null,null,null,null,null,null,null,null,null,null,null,null,null,""]
["","",null,"",null,null,null,null,null,null,null,null,null,null,null,null,null,null,null,null,null,null,null,null,""]
["","",null,"",null,null,null,null,null,null,null,null,null,null,null,null,null,null,null,null,null,null,null,null,""]
["","",null,"",null,null,null,null,null,null,null,null,null,null,null,null,null,null,null,null,null,null,null,null,""]
["","",null,"",null,null,null,null,null,null,null,null,null,null,null,null,null,null,null,null,null,null,null,null,""]
["","",null,"",null,null,null,null,null,null,null,null,null,null,null,null,null,null,null,null,null,null,null,null,""]
["","",null,"",null,null,null,null,null,null,null,null,null,null,null,null,null,null,null,null,null,null,null,null,""]
["","",null,"",null,null,null,null,null,null,null,null,null,null,null,null,null,null,null,null,null,null,null,null,""]
["","",null,"",null,null,null,null,null,null,null,null,null,null,null,null,null,null,null,null,null,null,null,null,""]
["","",null,"",null,null,null,null,null,null,null,null,null,null,null,null,null,null,null,null,null,null,null,null,""]
["","",null,"",null,null,null,null,null,null,null,null,null,null,null,null,null,null,null,null,null,null,null,null,""]
["","",null,"",null,null,null,null,null,null,null,null,null,null,null,null,null,null,null,null,null,null,null,null,""]
["","",null,"",null,null,null,null,null,null,null,null,null,null,null,null,null,null,null,null,null,null,null,null,""]
["","",null,"",null,null,null,null,null,null,null,null,null,null,null,null,null,null,null,null,null,null,null,null,""]
["","",null,"",null,null,null,null,null,null,null,null,null,null,null,null,null,null,null,null,null,null,null,null,""]
["","",null,"",null,null,null,null,null,null,null,null,null,null,null,null,null,null,null,null,null,null,null,null,""]
["","",null,"",null,null,null,null,null,null,null,null,null,null,null,null,null,null,null,null,null,null,null,null,""]
["","",null,"",null,null,null,null,null,null,null,null,null,null,null,null,null,null,null,null,null,null,null,null,""]
["","",null,"",null,null,null,null,null,null,null,null,null,null,null,null,null,null,null,null,null,null,null,null,""]
["","",null,"",null,null,null,null,null,null,null,null,null,null,null,null,null,null,null,null,null,null,null,null,""]
["","",null,"",null,null,null,null,null,null,null,null,null,null,null,null,null,null,null,null,null,null,null,null,""]
["","",null,"",null,null,null,null,null,null,null,null,null,null,null,null,null,null,null,null,null,null,null,null,""]
["","",null,"",null,null,null,null,null,null,null,null,null,null,null,null,null,null,null,null,null,null,null,null,""]
["","",null,"",null,null,null,null,null,null,null,null,null,null,null,null,null,null,null,null,null,null,null,null,""]
["","",null,"",null,null,null,null,null,null,null,null,null,null,null,null,null,null,null,null,null,null,null,null,""]
["","",null,"",null,null,null,null,null,null,null,null,null,null,null,null,null,null,null,null,null,null,null,null,""]
["","",null,"",null,null,null,null,null,null,null,null,null,null,null,null,null,null,null,null,null,null,null,null,""]
["","",null,"",null,null,null,null,null,null,null,null,null,null,null,null,null,null,null,null,null,null,null,null,""]
["","",null,"",null,null,null,null,null,null,null,null,null,null,null,null,null,null,null,null,null,null,null,null,""]
["","",null,"",null,null,null,null,null,null,null,null,null,null,null,null,null,null,null,null,null,null,null,null,""]
["","",null,"",null,null,null,null,null,null,null,null,null,null,null,null,null,null,null,null,null,null,null,null,""]
["","",null,"",null,null,null,null,null,null,null,null,null,null,null,null,null,null,null,null,null,null,null,null,""]
["","",null,"",null,null,null,null,null,null,null,null,null,null,null,null,null,null,null,null,null,null,null,null,""]
["","",null,"",null,null,null,null,null,null,null,null,null,null,null,null,null,null,null,null,null,null,null,null,""]
["","",null,"",null,null,null,null,null,null,null,null,null,null,null,null,null,null,null,null,null,null,null,null,""]
["","",null,"",null,null,null,null,null,null,null,null,null,null,null,null,null,null,null,null,null,null,null,null,""]
["","",null,"",null,null,null,null,null,null,null,null,null,null,null,null,null,null,null,null,null,null,null,null,""]
["","",null,"",null,null,null,null,null,null,null,null,null,null,null,null,null,null,null,null,null,null,null,null,""]
["","",null,"",null,null,null,null,null,null,null,null,null,null,null,null,null,null,null,null,null,null,null,null,""]
["","",null,"",null,null,null,null,null,null,null,null,null,null,null,null,null,null,null,null,null,null,null,null,""]
["","",null,"",null,null,null,null,null,null,null,null,null,null,null,null,null,null,null,null,null,null,null,null,""]
["","",null,"",null,null,null,null,null,null,null,null,null,null,null,null,null,null,null,null,null,null,null,null,""]
["","",null,"",null,null,null,null,null,null,null,null,null,null,null,null,null,null,null,null,null,null,null,null,""]
["","",null,"",null,null,null,null,null,null,null,null,null,null,null,null,null,null,null,null,null,null,null,null,""]
["","",null,"",null,null,null,null,null,null,null,null,null,null,null,null,null,null,null,null,null,null,null,null,""]
["","",null,"",null,null,null,null,null,null,null,null,null,null,null,null,null,null,null,null,null,null,null,null,""]
["","",null,"",null,null,null,null,null,null,null,null,null,null,null,null,null,null,null,null,null,null,null,null,""]
["","",null,"",null,null,null,null,null,null,null,null,null,null,null,null,null,null,null,null,null,null,null,null,""]
["","",null,"",null,null,null,null,null,null,null,null,null,null,null,null,null,null,null,null,null,null,null,null,""]
["","",null,"",null,null,null,null,null,null,null,null,null,null,null,null,null,null,null,null,null,null,null,null,""]
["","",null,"",null,null,null,null,null,null,null,null,null,null,null,null,null,null,null,null,null,null,null,null,""]
["","",null,"",null,null,null,null,null,null,null,null,null,null,null,null,null,null,null,null,null,null,null,null,""]
["","",null,"",null,null,null,null,null,null,null,null,null,null,null,null,null,null,null,null,null,null,null,null,""]
["","",null,"",null,null,null,null,null,null,null,null,null,null,null,null,null,null,null,null,null,null,null,null,""]
["","",null,"",null,null,null,null,null,null,null,null,null,null,null,null,null,null,null,null,null,null,null,null,""]
["","",null,"",null,null,null,null,null,null,null,null,null,null,null,null,null,null,null,null,null,null,null,null,""]
["","",null,"",null,null,null,null,null,null,null,null,null,null,null,null,null,null,null,null,null,null,null,null,""]
["","",null,"",null,null,null,null,null,null,null,null,null,null,null,null,null,null,null,null,null,null,null,null,""]
["","",null,"",null,null,null,null,null,null,null,null,null,null,null,null,null,null,null,null,null,null,null,null,""]
["","",null,"",null,null,null,null,null,null,null,null,null,null,null,null,null,null,null,null,null,null,null,null,""]
["","",null,"",null,null,null,null,null,null,null,null,null,null,null,null,null,null,null,null,null,null,null,null,""]
["","",null,"",null,null,null,null,null,null,null,null,null,null,null,null,null,null,null,null,null,null,null,null,""]
["","",null,"",null,null,null,null,null,null,null,null,null,null,null,null,null,null,null,null,null,null,null,null,""]
["","",null,"",null,null,null,null,null,null,null,null,null,null,null,null,null,null,null,null,null,null,null,null,""]
["","",null,"",null,null,null,null,null,null,null,null,null,null,null,null,null,null,null,null,null,null,null,null,""]
["","",null,"",null,null,null,null,null,null,null,null,null,null,null,null,null,null,null,null,null,null,null,null,""]
["","",null,"",null,null,null,null,null,null,null,null,null,null,null,null,null,null,null,null,null,null,null,null,""]
["","",null,"",null,null,null,null,null,null,null,null,null,null,null,null,null,null,null,null,null,null,null,null,""]
["","",null,"",null,null,null,null,null,null,null,null,null,null,null,null,null,null,null,null,null,null,null,null,""]
["","",null,"",null,null,null,null,null,null,null,null,null,null,null,null,null,null,null,null,null,null,null,null,""]
["","",null,"",null,null,null,null,null,null,null,null,null,null,null,null,null,null,null,null,null,null,null,null,""]
["","",null,"",null,null,null,null,null,null,null,null,null,null,null,null,null,null,null,null,null,null,null,null,""]
["","",null,"",null,null,null,null,null,null,null,null,null,null,null,null,null,null,null,null,null,null,null,null,""]
["","",null,"",null,null,null,null,null,null,null,null,null,null,null,null,null,null,null,null,null,null,null,null,""]
["","",null,"",null,null,null,null,null,null,null,null,null,null,null,null,null,null,null,null,null,null,null,null,""]
["","",null,"",null,null,null,null,null,null,null,null,null,null,null,null,null,null,null,null,null,null,null,null,""]
["","",null,"",null,null,null,null,null,null,null,null,null,null,null,null,null,null,null,null,null,null,null,null,""]
["","",null,"",null,null,null,null,null,null,null,null,null,null,null,null,null,null,null,null,null,null,null,null,""]
["","",null,"",null,null,null,null,null,null,null,null,null,null,null,null,null,null,null,null,null,null,null,null,""]
["","",null,"",null,null,null,null,null,null,null,null,null,null,null,null,null,null,null,null,null,null,null,null,""]
["","",null,"",null,null,null,null,null,null,null,null,null,null,null,null,null,null,null,null,null,null,null,null,""]
["","",null,"",null,null,null,null,null,null,null,null,null,null,null,null,null,null,null,null,null,null,null,null,""]
["","",null,"",null,null,null,null,null,null,null,null,null,null,null,null,null,null,null,null,null,null,null,null,""]
["","",null,"",null,null,null,null,null,null,null,null,null,null,null,null,null,null,null,null,null,null,null,null,""]
["","",null,"",null,null,null,null,null,null,null,null,null,null,null,null,null,null,null,null,null,null,null,null,""]
["","",null,"",null,null,null,null,null,null,null,null,null,null,null,null,null,null,null,null,null,null,null,null,""]
["","",null,"",null,null,null,null,null,null,null,null,null,null,null,null,null,null,null,null,null,null,null,null,""]
["","",null,"",null,null,null,null,null,null,null,null,null,null,null,null,null,null,null,null,null,null,null,null,""]
["","",null,"",null,null,null,null,null,null,null,null,null,null,null,null,null,null,null,null,null,null,null,null,""]
["","",null,"",null,null,null,null,null,null,null,null,null,null,null,null,null,null,null,null,null,null,null,null,""]
["","",null,"",null,null,null,null,null,null,null,null,null,null,null,null,null,null,null,null,null,null,null,null,""]
["","",null,"",null,null,null,null,null,null,null,null,null,null,null,null,null,null,null,null,null,null,null,null,""]
["","",null,"",null,null,null,null,null,null,null,null,null,null,null,null,null,null,null,null,null,null,null,null,""]
["","",null,"",null,null,null,null,null,null,null,null,null,null,null,null,null,null,null,null,null,null,null,null,""]
["","",null,"",null,null,null,null,null,null,null,null,null,null,null,null,null,null,null,null,null,null,null,null,""]
["","",null,"",null,null,null,null,null,null,null,null,null,null,null,null,null,null,null,null,null,null,null,null,""]
["","",null,"",null,null,null,null,null,null,null,null,null,null,null,null,null,null,null,null,null,null,null,null,""]
["","",null,"",null,null,null,null,null,null,null,null,null,null,null,null,null,null,null,null,null,null,null,null,""]
["","",null,"",null,null,null,null,null,null,null,null,null,null,null,null,null,null,null,null,null,null,null,null,""]
["","",null,"",null,null,null,null,null,null,null,null,null,null,null,null,null,null,null,null,null,null,null,null,""]
["","",null,"",null,null,null,null,null,null,null,null,null,null,null,null,null,null,null,null,null,null,null,null,""]
["","",null,"",null,null,null,null,null,null,null,null,null,null,null,null,null,null,null,null,null,null,null,null,""]
["","",null,"",null,null,null,null,null,null,null,null,null,null,null,null,null,null,null,null,null,null,null,null,""]
["","",null,"",null,null,null,null,null,null,null,null,null,null,null,null,null,null,null,null,null,null,null,null,""]
["","",null,"",null,null,null,null,null,null,null,null,null,null,null,null,null,null,null,null,null,null,null,null,""]
["","",null,"",null,null,null,null,null,null,null,null,null,null,null,null,null,null,null,null,null,null,null,null,""]
["","",null,"",null,null,null,null,null,null,null,null,null,null,null,null,null,null,null,null,null,null,null,null,""]
["","",null,"",null,null,null,null,null,null,null,null,null,null,null,null,null,null,null,null,null,null,null,null,""]
["","",null,"",null,null,null,null,null,null,null,null,null,null,null,null,null,null,null,null,null,null,null,null,""]
["","",null,"",null,null,null,null,null,null,null,null,null,null,null,null,null,null,null,null,null,null,null,null,""]
["","",null,"",null,null,null,null,null,null,null,null,null,null,null,null,null,null,null,null,null,null,null,null,""]
["","",null,"",null,null,null,null,null,null,null,null,null,null,null,null,null,null,null,null,null,null,null,null,""]
["","",null,"",null,null,null,null,null,null,null,null,null,null,null,null,null,null,null,null,null,null,null,null,""]
["","",null,"",null,null,null,null,null,null,null,null,null,null,null,null,null,null,null,null,null,null,null,null,""]
["","",null,"",null,null,null,null,null,null,null,null,null,null,null,null,null,null,null,null,null,null,null,null,""]
["","",null,"",null,null,null,null,null,null,null,null,null,null,null,null,null,null,null,null,null,null,null,null,""]
["","",null,"",null,null,null,null,null,null,null,null,null,null,null,null,null,null,null,null,null,null,null,null,""]
["","",null,"",null,null,null,null,null,null,null,null,null,null,null,null,null,null,null,null,null,null,null,null,""]
["","",null,"",null,null,null,null,null,null,null,null,null,null,null,null,null,null,null,null,null,null,null,null,""]
["","",null,"",null,null,null,null,null,null,null,null,null,null,null,null,null,null,null,null,null,null,null,null,""]
["","",null,"",null,null,null,null,null,null,null,null,null,null,null,null,null,null,null,null,null,null,null,null,""]
["","",null,"",null,null,null,null,null,null,null,null,null,null,null,null,null,null,null,null,null,null,null,null,""]
["","",null,"",null,null,null,null,null,null,null,null,null,null,null,null,null,null,null,null,null,null,null,null,""]
["","",null,"",null,null,null,null,null,null,null,null,null,null,null,null,null,null,null,null,null,null,null,null,""]
["","",null,"",null,null,null,null,null,null,null,null,null,null,null,null,null,null,null,null,null,null,null,null,""]
["","",null,"",null,null,null,null,null,null,null,null,null,null,null,null,null,null,null,null,null,null,null,null,""]
["","",null,"",null,null,null,null,null,null,null,null,null,null,null,null,null,null,null,null,null,null,null,null,""]
["","",null,"",null,null,null,null,null,null,null,null,null,null,null,null,null,null,null,null,null,null,null,null,""]
["","",null,"",null,null,null,null,null,null,null,null,null,null,null,null,null,null,null,null,null,null,null,null,""]
["","",null,"",null,null,null,null,null,null,null,null,null,null,null,null,null,null,null,null,null,null,null,null,""]
["","",null,"",null,null,null,null,null,null,null,null,null,null,null,null,null,null,null,null,null,null,null,null,""]
["","",null,"",null,null,null,null,null,null,null,null,null,null,null,null,null,null,null,null,null,null,null,null,""]
["","",null,"",null,null,null,null,null,null,null,null,null,null,null,null,null,null,null,null,null,null,null,null,""]
["","",null,"",null,null,null,null,null,null,null,null,null,null,null,null,null,null,null,null,null,null,null,null,""]
["","",null,"",null,null,null,null,null,null,null,null,null,null,null,null,null,null,null,null,null,null,null,null,""]
["","",null,"",null,null,null,null,null,null,null,null,null,null,null,null,null,null,null,null,null,null,null,null,""]
["","",null,"",null,null,null,null,null,null,null,null,null,null,null,null,null,null,null,null,null,null,null,null,""]
["","",null,"",null,null,null,null,null,null,null,null,null,null,null,null,null,null,null,null,null,null,null,null,""]
["","",null,"",null,null,null,null,null,null,null,null,null,null,null,null,null,null,null,null,null,null,null,null,""]
["","",null,"",null,null,null,null,null,null,null,null,null,null,null,null,null,null,null,null,null,null,null,null,""]
["","",null,"",null,null,null,null,null,null,null,null,null,null,null,null,null,null,null,null,null,null,null,null,""]
["","",null,"",null,null,null,null,null,null,null,null,null,null,null,null,null,null,null,null,null,null,null,null,""]
["","",null,"",null,null,null,null,null,null,null,null,null,null,null,null,null,null,null,null,null,null,null,null,""]
["","",null,"",null,null,null,null,null,null,null,null,null,null,null,null,null,null,null,null,null,null,null,null,""]
["","",null,"",null,null,null,null,null,null,null,null,null,null,null,null,null,null,null,null,null,null,null,null,""]
["","",null,"",null,null,null,null,null,null,null,null,null,null,null,null,null,null,null,null,null,null,null,null,""]
["","",null,"",null,null,null,null,null,null,null,null,null,null,null,null,null,null,null,null,null,null,null,null,""]
["","",null,"",null,null,null,null,null,null,null,null,null,null,null,null,null,null,null,null,null,null,null,null,""]
["","",null,"",null,null,null,null,null,null,null,null,null,null,null,null,null,null,null,null,null,null,null,null,""]
["","",null,"",null,null,null,null,null,null,null,null,null,null,null,null,null,null,null,null,null,null,null,null,""]
["","",null,"",null,null,null,null,null,null,null,null,null,null,null,null,null,null,null,null,null,null,null,null,""]
["","",null,"",null,null,null,null,null,null,null,null,null,null,null,null,null,null,null,null,null,null,null,null,""]
["","",null,"",null,null,null,null,null,null,null,null,null,null,null,null,null,null,null,null,null,null,null,null,""]
["","",null,"",null,null,null,null,null,null,null,null,null,null,null,null,null,null,null,null,null,null,null,null,""]
["","",null,"",null,null,null,null,null,null,null,null,null,null,null,null,null,null,null,null,null,null,null,null,""]
["","",null,"",null,null,null,null,null,null,null,null,null,null,null,null,null,null,null,null,null,null,null,null,""]
["","",null,"",null,null,null,null,null,null,null,null,null,null,null,null,null,null,null,null,null,null,null,null,""]
["","",null,"",null,null,null,null,null,null,null,null,null,null,null,null,null,null,null,null,null,null,null,null,""]
["","",null,"",null,null,null,null,null,null,null,null,null,null,null,null,null,null,null,null,null,null,null,null,""]
["","",null,"",null,null,null,null,null,null,null,null,null,null,null,null,null,null,null,null,null,null,null,null,""]
["","",null,"",null,null,null,null,null,null,null,null,null,null,null,null,null,null,null,null,null,null,null,null,""]
["","",null,"",null,null,null,null,null,null,null,null,null,null,null,null,null,null,null,null,null,null,null,null,""]
["","",null,"",null,null,null,null,null,null,null,null,null,null,null,null,null,null,null,null,null,null,null,null,""]
["","",null,"",null,null,null,null,null,null,null,null,null,null,null,null,null,null,null,null,null,null,null,null,""]
["","",null,"",null,null,null,null,null,null,null,null,null,null,null,null,null,null,null,null,null,null,null,null,""]
["","",null,"",null,null,null,null,null,null,null,null,null,null,null,null,null,null,null,null,null,null,null,null,""]
["","",null,"",null,null,null,null,null,null,null,null,null,null,null,null,null,null,null,null,null,null,null,null,""]
["","",null,"",null,null,null,null,null,null,null,null,null,null,null,null,null,null,null,null,null,null,null,null,""]
["","",null,"",null,null,null,null,null,null,null,null,null,null,null,null,null,null,null,null,null,null,null,null,""]
["","",null,"",null,null,null,null,null,null,null,null,null,null,null,null,null,null,null,null,null,null,null,null,""]
["","",null,"",null,null,null,null,null,null,null,null,null,null,null,null,null,null,null,null,null,null,null,null,""]
["","",null,"",null,null,null,null,null,null,null,null,null,null,null,null,null,null,null,null,null,null,null,null,""]
["","",null,"",null,null,null,null,null,null,null,null,null,null,null,null,null,null,null,null,null,null,null,null,""]
["","",null,"",null,null,null,null,null,null,null,null,null,null,null,null,null,null,null,null,null,null,null,null,""]
["","",null,"",null,null,null,null,null,null,null,null,null,null,null,null,null,null,null,null,null,null,null,null,""]
["","",null,"",null,null,null,null,null,null,null,null,null,null,null,null,null,null,null,null,null,null,null,null,""]
["","",null,"",null,null,null,null,null,null,null,null,null,null,null,null,null,null,null,null,null,null,null,null,""]
["","",null,"",null,null,null,null,null,null,null,null,null,null,null,null,null,null,null,null,null,null,null,null,""]
["","",null,"",null,null,null,null,null,null,null,null,null,null,null,null,null,null,null,null,null,null,null,null,""]
["","",null,"",null,null,null,null,null,null,null,null,null,null,null,null,null,null,null,null,null,null,null,null,""]
["","",null,"",null,null,null,null,null,null,null,null,null,null,null,null,null,null,null,null,null,null,null,null,""]
["","",null,"",null,null,null,null,null,null,null,null,null,null,null,null,null,null,null,null,null,null,null,null,""]
["","",null,"",null,null,null,null,null,null,null,null,null,null,null,null,null,null,null,null,null,null,null,null,""]
["","",null,"",null,null,null,null,null,null,null,null,null,null,null,null,null,null,null,null,null,null,null,null,""]
["","",null,"",null,null,null,null,null,null,null,null,null,null,null,null,null,null,null,null,null,null,null,null,""]
["","",null,"",null,null,null,null,null,null,null,null,null,null,null,null,null,null,null,null,null,null,null,null,""]
["","",null,"",null,null,null,null,null,null,null,null,null,null,null,null,null,null,null,null,null,null,null,null,""]
["","",null,"",null,null,null,null,null,null,null,null,null,null,null,null,null,null,null,null,null,null,null,null,""]
["","",null,"",null,null,null,null,null,null,null,null,null,null,null,null,null,null,null,null,null,null,null,null,""]
["","",null,"",null,null,null,null,null,null,null,null,null,null,null,null,null,null,null,null,null,null,null,null,""]
["","",null,"",null,null,null,null,null,null,null,null,null,null,null,null,null,null,null,null,null,null,null,null,""]
["","",null,"",null,null,null,null,null,null,null,null,null,null,null,null,null,null,null,null,null,null,null,null,""]
["","",null,"",null,null,null,null,null,null,null,null,null,null,null,null,null,null,null,null,null,null,null,null,""]
["","",null,"",null,null,null,null,null,null,null,null,null,null,null,null,null,null,null,null,null,null,null,null,""]
["","",null,"",null,null,null,null,null,null,null,null,null,null,null,null,null,null,null,null,null,null,null,null,""]
["","",null,"",null,null,null,null,null,null,null,null,null,null,null,null,null,null,null,null,null,null,null,null,""]
["","",null,"",null,null,null,null,null,null,null,null,null,null,null,null,null,null,null,null,null,null,null,null,""]
["","",null,"",null,null,null,null,null,null,null,null,null,null,null,null,null,null,null,null,null,null,null,null,""]
["","",null,"",null,null,null,null,null,null,null,null,null,null,null,null,null,null,null,null,null,null,null,null,""]
["","",null,"",null,null,null,null,null,null,null,null,null,null,null,null,null,null,null,null,null,null,null,null,""]
["","",null,"",null,null,null,null,null,null,null,null,null,null,null,null,null,null,null,null,null,null,null,null,""]
["","",null,"",null,null,null,null,null,null,null,null,null,null,null,null,null,null,null,null,null,null,null,null,""]
["","",null,"",null,null,null,null,null,null,null,null,null,null,null,null,null,null,null,null,null,null,null,null,""]
["","",null,"",null,null,null,null,null,null,null,null,null,null,null,null,null,null,null,null,null,null,null,null,""]
["","",null,"",null,null,null,null,null,null,null,null,null,null,null,null,null,null,null,null,null,null,null,null,""]
["","",null,"",null,null,null,null,null,null,null,null,null,null,null,null,null,null,null,null,null,null,null,null,""]
["","",null,"",null,null,null,null,null,null,null,null,null,null,null,null,null,null,null,null,null,null,null,null,""]
["","",null,"",null,null,null,null,null,null,null,null,null,null,null,null,null,null,null,null,null,null,null,null,""]
["","",null,"",null,null,null,null,null,null,null,null,null,null,null,null,null,null,null,null,null,null,null,null,""]
["","",null,"",null,null,null,null,null,null,null,null,null,null,null,null,null,null,null,null,null,null,null,null,""]
["","",null,"",null,null,null,null,null,null,null,null,null,null,null,null,null,null,null,null,null,null,null,null,""]
["","",null,"",null,null,null,null,null,null,null,null,null,null,null,null,null,null,null,null,null,null,null,null,""]
["","",null,"",null,null,null,null,null,null,null,null,null,null,null,null,null,null,null,null,null,null,null,null,""]
["","",null,"",null,null,null,null,null,null,null,null,null,null,null,null,null,null,null,null,null,null,null,null,""]
["","",null,"",null,null,null,null,null,null,null,null,null,null,null,null,null,null,null,null,null,null,null,null,""]
["","",null,"",null,null,null,null,null,null,null,null,null,null,null,null,null,null,null,null,null,null,null,null,""]
["","",null,"",null,null,null,null,null,null,null,null,null,null,null,null,null,null,null,null,null,null,null,null,""]
["","",null,"",null,null,null,null,null,null,null,null,null,null,null,null,null,null,null,null,null,null,null,null,""]
["","",null,"",null,null,null,null,null,null,null,null,null,null,null,null,null,null,null,null,null,null,null,null,""]
["","",null,"",null,null,null,null,null,null,null,null,null,null,null,null,null,null,null,null,null,null,null,null,""]
["","",null,"",null,null,null,null,null,null,null,null,null,null,null,null,null,null,null,null,null,null,null,null,""]
["","",null,"",null,null,null,null,null,null,null,null,null,null,null,null,null,null,null,null,null,null,null,null,""]
["","",null,"",null,null,null,null,null,null,null,null,null,null,null,null,null,null,null,null,null,null,null,null,""]
["","",null,"",null,null,null,null,null,null,null,null,null,null,null,null,null,null,null,null,null,null,null,null,""]
["","",null,"",null,null,null,null,null,null,null,null,null,null,null,null,null,null,null,null,null,null,null,null,""]
["","",null,"",null,null,null,null,null,null,null,null,null,null,null,null,null,null,null,null,null,null,null,null,""]
["","",null,"",null,null,null,null,null,null,null,null,null,null,null,null,null,null,null,null,null,null,null,null,""]
["","",null,"",null,null,null,null,null,null,null,null,null,null,null,null,null,null,null,null,null,null,null,null,""]
["","",null,"",null,null,null,null,null,null,null,null,null,null,null,null,null,null,null,null,null,null,null,null,""]
["","",null,"",null,null,null,null,null,null,null,null,null,null,null,null,null,null,null,null,null,null,null,null,""]
["","",null,"",null,null,null,null,null,null,null,null,null,null,null,null,null,null,null,null,null,null,null,null,""]
["","",null,"",null,null,null,null,null,null,null,null,null,null,null,null,null,null,null,null,null,null,null,null,""]
["","",null,"",null,null,null,null,null,null,null,null,null,null,null,null,null,null,null,null,null,null,null,null,""]
["","",null,"",null,null,null,null,null,null,null,null,null,null,null,null,null,null,null,null,null,null,null,null,""]
["","",null,"",null,null,null,null,null,null,null,null,null,null,null,null,null,null,null,null,null,null,null,null,""]
["","",null,"",null,null,null,null,null,null,null,null,null,null,null,null,null,null,null,null,null,null,null,null,""]
["","",null,"",null,null,null,null,null,null,null,null,null,null,null,null,null,null,null,null,null,null,null,null,""]
["","",null,"",null,null,null,null,null,null,null,null,null,null,null,null,null,null,null,null,null,null,null,null,""]
["","",null,"",null,null,null,null,null,null,null,null,null,null,null,null,null,null,null,null,null,null,null,null,""]
["","",null,"",null,null,null,null,null,null,null,null,null,null,null,null,null,null,null,null,null,null,null,null,""]
["","",null,"",null,null,null,null,null,null,null,null,null,null,null,null,null,null,null,null,null,null,null,null,""]
["","",null,"",null,null,null,null,null,null,null,null,null,null,null,null,null,null,null,null,null,null,null,null,""]
["","",null,"",null,null,null,null,null,null,null,null,null,null,null,null,null,null,null,null,null,null,null,null,""]
["","",null,"",null,null,null,null,null,null,null,null,null,null,null,null,null,null,null,null,null,null,null,null,""]
["","",null,"",null,null,null,null,null,null,null,null,null,null,null,null,null,null,null,null,null,null,null,null,""]
["","",null,"",null,null,null,null,null,null,null,null,null,null,null,null,null,null,null,null,null,null,null,null,""]
["","",null,"",null,null,null,null,null,null,null,null,null,null,null,null,null,null,null,null,null,null,null,null,""]
["","",null,"",null,null,null,null,null,null,null,null,null,null,null,null,null,null,null,null,null,null,null,null,""]
["","",null,"",null,null,null,null,null,null,null,null,null,null,null,null,null,null,null,null,null,null,null,null,""]
["","",null,"",null,null,null,null,null,null,null,null,null,null,null,null,null,null,null,null,null,null,null,null,""]
["","",null,"",null,null,null,null,null,null,null,null,null,null,null,null,null,null,null,null,null,null,null,null,""]
["","",null,"",null,null,null,null,null,null,null,null,null,null,null,null,null,null,null,null,null,null,null,null,""]
["","",null,"",null,null,null,null,null,null,null,null,null,null,null,null,null,null,null,null,null,null,null,null,""]
["","",null,"",null,null,null,null,null,null,null,null,null,null,null,null,null,null,null,null,null,null,null,null,""]
["","",null,"",null,null,null,null,null,null,null,null,null,null,null,null,null,null,null,null,null,null,null,null,""]
["","",null,"",null,null,null,null,null,null,null,null,null,null,null,null,null,null,null,null,null,null,null,null,""]
["","",null,"",null,null,null,null,null,null,null,null,null,null,null,null,null,null,null,null,null,null,null,null,""]
["","",null,"",null,null,null,null,null,null,null,null,null,null,null,null,null,null,null,null,null,null,null,null,""]
["","",null,"",null,null,null,null,null,null,null,null,null,null,null,null,null,null,null,null,null,null,null,null,""]
["","",null,"",null,null,null,null,null,null,null,null,null,null,null,null,null,null,null,null,null,null,null,null,""]
["","",null,"",null,null,null,null,null,null,null,null,null,null,null,null,null,null,null,null,null,null,null,null,""]
["","",null,"",null,null,null,null,null,null,null,null,null,null,null,null,null,null,null,null,null,null,null,null,""]
["","",null,"",null,null,null,null,null,null,null,null,null,null,null,null,null,null,null,null,null,null,null,null,""]
["","",null,"",null,null,null,null,null,null,null,null,null,null,null,null,null,null,null,null,null,null,null,null,""]
["","",null,"",null,null,null,null,null,null,null,null,null,null,null,null,null,null,null,null,null,null,null,null,""]
["","",null,"",null,null,null,null,null,null,null,null,null,null,null,null,null,null,null,null,null,null,null,null,""]
["","",null,"",null,null,null,null,null,null,null,null,null,null,null,null,null,null,null,null,null,null,null,null,""]
["","",null,"",null,null,null,null,null,null,null,null,null,null,null,null,null,null,null,null,null,null,null,null,""]
["","",null,"",null,null,null,null,null,null,null,null,null,null,null,null,null,null,null,null,null,null,null,null,""]
["","",null,"",null,null,null,null,null,null,null,null,null,null,null,null,null,null,null,null,null,null,null,null,""]
["","",null,"",null,null,null,null,null,null,null,null,null,null,null,null,null,null,null,null,null,null,null,null,""]
["","",null,"",null,null,null,null,null,null,null,null,null,null,null,null,null,null,null,null,null,null,null,null,""]
["","",null,"",null,null,null,null,null,null,null,null,null,null,null,null,null,null,null,null,null,null,null,null,""]
["","",null,"",null,null,null,null,null,null,null,null,null,null,null,null,null,null,null,null,null,null,null,null,""]
["","",null,"",null,null,null,null,null,null,null,null,null,null,null,null,null,null,null,null,null,null,null,null,""]
["","",null,"",null,null,null,null,null,null,null,null,null,null,null,null,null,null,null,null,null,null,null,null,""]
["","",null,"",null,null,null,null,null,null,null,null,null,null,null,null,null,null,null,null,null,null,null,null,""]
["","",null,"",null,null,null,null,null,null,null,null,null,null,null,null,null,null,null,null,null,null,null,null,""]
["","",null,"",null,null,null,null,null,null,null,null,null,null,null,null,null,null,null,null,null,null,null,null,""]
["","",null,"",null,null,null,null,null,null,null,null,null,null,null,null,null,null,null,null,null,null,null,null,""]
["","",null,"",null,null,null,null,null,null,null,null,null,null,null,null,null,null,null,null,null,null,null,null,""]
["","",null,"",null,null,null,null,null,null,null,null,null,null,null,null,null,null,null,null,null,null,null,null,""]
["","",null,"",null,null,null,null,null,null,null,null,null,null,null,null,null,null,null,null,null,null,null,null,""]
["","",null,"",null,null,null,null,null,null,null,null,null,null,null,null,null,null,null,null,null,null,null,null,""]
["","",null,"",null,null,null,null,null,null,null,null,null,null,null,null,null,null,null,null,null,null,null,null,""]
["","",null,"",null,null,null,null,null,null,null,null,null,null,null,null,null,null,null,null,null,null,null,null,""]
["","",null,"",null,null,null,null,null,null,null,null,null,null,null,null,null,null,null,null,null,null,null,null,""]
["","",null,"",null,null,null,null,null,null,null,null,null,null,null,null,null,null,null,null,null,null,null,null,""]
["","",null,"",null,null,null,null,null,null,null,null,null,null,null,null,null,null,null,null,null,null,null,null,""]
["","",null,"",null,null,null,null,null,null,null,null,null,null,null,null,null,null,null,null,null,null,null,null,""]
["","",null,"",null,null,null,null,null,null,null,null,null,null,null,null,null,null,null,null,null,null,null,null,""]
["","",null,"",null,null,null,null,null,null,null,null,null,null,null,null,null,null,null,null,null,null,null,null,""]
["","",null,"",null,null,null,null,null,null,null,null,null,null,null,null,null,null,null,null,null,null,null,null,""]
["","",null,"",null,null,null,null,null,null,null,null,null,null,null,null,null,null,null,null,null,null,null,null,""]
["","",null,"",null,null,null,null,null,null,null,null,null,null,null,null,null,null,null,null,null,null,null,null,""]
["","",null,"",null,null,null,null,null,null,null,null,null,null,null,null,null,null,null,null,null,null,null,null,""]
["","",null,"",null,null,null,null,null,null,null,null,null,null,null,null,null,null,null,null,null,null,null,null,""]
["","",null,"",null,null,null,null,null,null,null,null,null,null,null,null,null,null,null,null,null,null,null,null,""]
["","",null,"",null,null,null,null,null,null,null,null,null,null,null,null,null,null,null,null,null,null,null,null,""]
["","",null,"",null,null,null,null,null,null,null,null,null,null,null,null,null,null,null,null,null,null,null,null,""]
["","",null,"",null,null,null,null,null,null,null,null,null,null,null,null,null,null,null,null,null,null,null,null,""]
["","",null,"",null,null,null,null,null,null,null,null,null,null,null,null,null,null,null,null,null,null,null,null,""]
["","",null,"",null,null,null,null,null,null,null,null,null,null,null,null,null,null,null,null,null,null,null,null,""]
["","",null,"",null,null,null,null,null,null,null,null,null,null,null,null,null,null,null,null,null,null,null,null,""]
["","",null,"",null,null,null,null,null,null,null,null,null,null,null,null,null,null,null,null,null,null,null,null,""]
["","",null,"",null,null,null,null,null,null,null,null,null,null,null,null,null,null,null,null,null,null,null,null,""]
["","",null,"",null,null,null,null,null,null,null,null,null,null,null,null,null,null,null,null,null,null,null,null,""]
["","",null,"",null,null,null,null,null,null,null,null,null,null,null,null,null,null,null,null,null,null,null,null,""]
["","",null,"",null,null,null,null,null,null,null,null,null,null,null,null,null,null,null,null,null,null,null,null,""]
["","",null,"",null,null,null,null,null,null,null,null,null,null,null,null,null,null,null,null,null,null,null,null,""]
["","",null,"",null,null,null,null,null,null,null,null,null,null,null,null,null,null,null,null,null,null,null,null,""]
["","",null,"",null,null,null,null,null,null,null,null,null,null,null,null,null,null,null,null,null,null,null,null,""]
["","",null,"",null,null,null,null,null,null,null,null,null,null,null,null,null,null,null,null,null,null,null,null,""]
["","",null,"",null,null,null,null,null,null,null,null,null,null,null,null,null,null,null,null,null,null,null,null,""]
["","",null,"",null,null,null,null,null,null,null,null,null,null,null,null,null,null,null,null,null,null,null,null,""]
["","",null,"",null,null,null,null,null,null,null,null,null,null,null,null,null,null,null,null,null,null,null,null,""]
["","",null,"",null,null,null,null,null,null,null,null,null,null,null,null,null,null,null,null,null,null,null,null,""]
["","",null,"",null,null,null,null,null,null,null,null,null,null,null,null,null,null,null,null,null,null,null,null,""]
["","",null,"",null,null,null,null,null,null,null,null,null,null,null,null,null,null,null,null,null,null,null,null,""]
["","",null,"",null,null,null,null,null,null,null,null,null,null,null,null,null,null,null,null,null,null,null,null,""]
["","",null,"",null,null,null,null,null,null,null,null,null,null,null,null,null,null,null,null,null,null,null,null,""]
["","",null,"",null,null,null,null,null,null,null,null,null,null,null,null,null,null,null,null,null,null,null,null,""]
["","",null,"",null,null,null,null,null,null,null,null,null,null,null,null,null,null,null,null,null,null,null,null,""]
["","",null,"",null,null,null,null,null,null,null,null,null,null,null,null,null,null,null,null,null,null,null,null,""]
["","",null,"",null,null,null,null,null,null,null,null,null,null,null,null,null,null,null,null,null,null,null,null,""]
["","",null,"",null,null,null,null,null,null,null,null,null,null,null,null,null,null,null,null,null,null,null,null,""]
["","",null,"",null,null,null,null,null,null,null,null,null,null,null,null,null,null,null,null,null,null,null,null,""]
["","",null,"",null,null,null,null,null,null,null,null,null,null,null,null,null,null,null,null,null,null,null,null,""]
["","",null,"",null,null,null,null,null,null,null,null,null,null,null,null,null,null,null,null,null,null,null,null,""]
["","",null,"",null,null,null,null,null,null,null,null,null,null,null,null,null,null,null,null,null,null,null,null,""]
["","",null,"",null,null,null,null,null,null,null,null,null,null,null,null,null,null,null,null,null,null,null,null,""]
["","",null,"",null,null,null,null,null,null,null,null,null,null,null,null,null,null,null,null,null,null,null,null,""]
["","",null,"",null,null,null,null,null,null,null,null,null,null,null,null,null,null,null,null,null,null,null,null,""]
["","",null,"",null,null,null,null,null,null,null,null,null,null,null,null,null,null,null,null,null,null,null,null,""]
["","",null,"",null,null,null,null,null,null,null,null,null,null,null,null,null,null,null,null,null,null,null,null,""]
["","",null,"",null,null,null,null,null,null,null,null,null,null,null,null,null,null,null,null,null,null,null,null,""]
["","",null,"",null,null,null,null,null,null,null,null,null,null,null,null,null,null,null,null,null,null,null,null,""]
["","",null,"",null,null,null,null,null,null,null,null,null,null,null,null,null,null,null,null,null,null,null,null,""]
["","",null,"",null,null,null,null,null,null,null,null,null,null,null,null,null,null,null,null,null,null,null,null,""]
["","",null,"",null,null,null,null,null,null,null,null,null,null,null,null,null,null,null,null,null,null,null,null,""]
["","",null,"",null,null,null,null,null,null,null,null,null,null,null,null,null,null,null,null,null,null,null,null,""]
["","",null,"",null,null,null,null,null,null,null,null,null,null,null,null,null,null,null,null,null,null,null,null,""]
["","",null,"",null,null,null,null,null,null,null,null,null,null,null,null,null,null,null,null,null,null,null,null,""]
["","",null,"",null,null,null,null,null,null,null,null,null,null,null,null,null,null,null,null,null,null,null,null,""]
["","",null,"",null,null,null,null,null,null,null,null,null,null,null,null,null,null,null,null,null,null,null,null,""]
["","",null,"",null,null,null,null,null,null,null,null,null,null,null,null,null,null,null,null,null,null,null,null,""]
["","",null,"",null,null,null,null,null,null,null,null,null,null,null,null,null,null,null,null,null,null,null,null,""]
["","",null,"",null,null,null,null,null,null,null,null,null,null,null,null,null,null,null,null,null,null,null,null,""]
["","",null,"",null,null,null,null,null,null,null,null,null,null,null,null,null,null,null,null,null,null,null,null,""]
["","",null,"",null,null,null,null,null,null,null,null,null,null,null,null,null,null,null,null,null,null,null,null,""]
["","",null,"",null,null,null,null,null,null,null,null,null,null,null,null,null,null,null,null,null,null,null,null,""]
["","",null,"",null,null,null,null,null,null,null,null,null,null,null,null,null,null,null,null,null,null,null,null,""]
["","",null,"",null,null,null,null,null,null,null,null,null,null,null,null,null,null,null,null,null,null,null,null,""]
["","",null,"",null,null,null,null,null,null,null,null,null,null,null,null,null,null,null,null,null,null,null,null,""]
["","",null,"",null,null,null,null,null,null,null,null,null,null,null,null,null,null,null,null,null,null,null,null,""]
["","",null,"",null,null,null,null,null,null,null,null,null,null,null,null,null,null,null,null,null,null,null,null,""]
["","",null,"",null,null,null,null,null,null,null,null,null,null,null,null,null,null,null,null,null,null,null,null,""]
["","",null,"",null,null,null,null,null,null,null,null,null,null,null,null,null,null,null,null,null,null,null,null,""]
["","",null,"",null,null,null,null,null,null,null,null,null,null,null,null,null,null,null,null,null,null,null,null,""]
["","",null,"",null,null,null,null,null,null,null,null,null,null,null,null,null,null,null,null,null,null,null,null,""]
["","",null,"",null,null,null,null,null,null,null,null,null,null,null,null,null,null,null,null,null,null,null,null,""]
["","",null,"",null,null,null,null,null,null,null,null,null,null,null,null,null,null,null,null,null,null,null,null,""]
["","",null,"",null,null,null,null,null,null,null,null,null,null,null,null,null,null,null,null,null,null,null,null,""]
["","",null,"",null,null,null,null,null,null,null,null,null,null,null,null,null,null,null,null,null,null,null,null,""]
["","",null,"",null,null,null,null,null,null,null,null,null,null,null,null,null,null,null,null,null,null,null,null,""]
["","",null,"",null,null,null,null,null,null,null,null,null,null,null,null,null,null,null,null,null,null,null,null,""]
["","",null,"",null,null,null,null,null,null,null,null,null,null,null,null,null,null,null,null,null,null,null,null,""]
["","",null,"",null,null,null,null,null,null,null,null,null,null,null,null,null,null,null,null,null,null,null,null,""]
["","",null,"",null,null,null,null,null,null,null,null,null,null,null,null,null,null,null,null,null,null,null,null,""]
["","",null,"",null,null,null,null,null,null,null,null,null,null,null,null,null,null,null,null,null,null,null,null,""]
["","",null,"",null,null,null,null,null,null,null,null,null,null,null,null,null,null,null,null,null,null,null,null,""]
["","",null,"",null,null,null,null,null,null,null,null,null,null,null,null,null,null,null,null,null,null,null,null,""]
["","",null,"",null,null,null,null,null,null,null,null,null,null,null,null,null,null,null,null,null,null,null,null,""]
["","",null,"",null,null,null,null,null,null,null,null,null,null,null,null,null,null,null,null,null,null,null,null,""]
["","",null,"",null,null,null,null,null,null,null,null,null,null,null,null,null,null,null,null,null,null,null,null,""]
["","",null,"",null,null,null,null,null,null,null,null,null,null,null,null,null,null,null,null,null,null,null,null,""]
["","",null,"",null,null,null,null,null,null,null,null,null,null,null,null,null,null,null,null,null,null,null,null,""]
["","",null,"",null,null,null,null,null,null,null,null,null,null,null,null,null,null,null,null,null,null,null,null,""]
["","",null,"",null,null,null,null,null,null,null,null,null,null,null,null,null,null,null,null,null,null,null,null,""]
["","",null,"",null,null,null,null,null,null,null,null,null,null,null,null,null,null,null,null,null,null,null,null,""]
["","",null,"",null,null,null,null,null,null,null,null,null,null,null,null,null,null,null,null,null,null,null,null,""]
["","",null,"",null,null,null,null,null,null,null,null,null,null,null,null,null,null,null,null,null,null,null,null,""]
["","",null,"",null,null,null,null,null,null,null,null,null,null,null,null,null,null,null,null,null,null,null,null,""]
["","",null,"",null,null,null,null,null,null,null,null,null,null,null,null,null,null,null,null,null,null,null,null,""]
["","",null,"",null,null,null,null,null,null,null,null,null,null,null,null,null,null,null,null,null,null,null,null,""]
["","",null,"",null,null,null,null,null,null,null,null,null,null,null,null,null,null,null,null,null,null,null,null,""]
["","",null,"",null,null,null,null,null,null,null,null,null,null,null,null,null,null,null,null,null,null,null,null,""]
["","",null,"",null,null,null,null,null,null,null,null,null,null,null,null,null,null,null,null,null,null,null,null,""]
["","",null,"",null,null,null,null,null,null,null,null,null,null,null,null,null,null,null,null,null,null,null,null,""]
["","",null,"",null,null,null,null,null,null,null,null,null,null,null,null,null,null,null,null,null,null,null,null,""]
["","",null,"",null,null,null,null,null,null,null,null,null,null,null,null,null,null,null,null,null,null,null,null,""]
["","",null,"",null,null,null,null,null,null,null,null,null,null,null,null,null,null,null,null,null,null,null,null,""]
["","",null,"",null,null,null,null,null,null,null,null,null,null,null,null,null,null,null,null,null,null,null,null,""]
["","",null,"",null,null,null,null,null,null,null,null,null,null,null,null,null,null,null,null,null,null,null,null,""]
["","",null,"",null,null,null,null,null,null,null,null,null,null,null,null,null,null,null,null,null,null,null,null,""]
["","",null,"",null,null,null,null,null,null,null,null,null,null,null,null,null,null,null,null,null,null,null,null,""]
["","",null,"",null,null,null,null,null,null,null,null,null,null,null,null,null,null,null,null,null,null,null,null,""]
["","",null,"",null,null,null,null,null,null,null,null,null,null,null,null,null,null,null,null,null,null,null,null,""]
["","",null,"",null,null,null,null,null,null,null,null,null,null,null,null,null,null,null,null,null,null,null,null,""]
["","",null,"",null,null,null,null,null,null,null,null,null,null,null,null,null,null,null,null,null,null,null,null,""]
["","",null,"",null,null,null,null,null,null,null,null,null,null,null,null,null,null,null,null,null,null,null,null,""]
["","",null,"",null,null,null,null,null,null,null,null,null,null,null,null,null,null,null,null,null,null,null,null,""]
["","",null,"",null,null,null,null,null,null,null,null,null,null,null,null,null,null,null,null,null,null,null,null,""]
["","",null,"",null,null,null,null,null,null,null,null,null,null,null,null,null,null,null,null,null,null,null,null,""]
["","",null,"",null,null,null,null,null,null,null,null,null,null,null,null,null,null,null,null,null,null,null,null,""]
["","",null,"",null,null,null,null,null,null,null,null,null,null,null,null,null,null,null,null,null,null,null,null,""]
["","",null,"",null,null,null,null,null,null,null,null,null,null,null,null,null,null,null,null,null,null,null,null,""]
["","",null,"",null,null,null,null,null,null,null,null,null,null,null,null,null,null,null,null,null,null,null,null,""]
["","",null,"",null,null,null,null,null,null,null,null,null,null,null,null,null,null,null,null,null,null,null,null,""]
["","",null,"",null,null,null,null,null,null,null,null,null,null,null,null,null,null,null,null,null,null,null,null,""]
["","",null,"",null,null,null,null,null,null,null,null,null,null,null,null,null,null,null,null,null,null,null,null,""]
["","",null,"",null,null,null,null,null,null,null,null,null,null,null,null,null,null,null,null,null,null,null,null,""]
["","",null,"",null,null,null,null,null,null,null,null,null,null,null,null,null,null,null,null,null,null,null,null,""]
["","",null,"",null,null,null,null,null,null,null,null,null,null,null,null,null,null,null,null,null,null,null,null,""]
["","",null,"",null,null,null,null,null,null,null,null,null,null,null,null,null,null,null,null,null,null,null,null,""]
["","",null,"",null,null,null,null,null,null,null,null,null,null,null,null,null,null,null,null,null,null,null,null,""]
["","",null,"",null,null,null,null,null,null,null,null,null,null,null,null,null,null,null,null,null,null,null,null,""]
["","",null,"",null,null,null,null,null,null,null,null,null,null,null,null,null,null,null,null,null,null,null,null,""]
["","",null,"",null,null,null,null,null,null,null,null,null,null,null,null,null,null,null,null,null,null,null,null,""]
["","",null,"",null,null,null,null,null,null,null,null,null,null,null,null,null,null,null,null,null,null,null,null,""]
["","",null,"",null,null,null,null,null,null,null,null,null,null,null,null,null,null,null,null,null,null,null,null,""]
["","",null,"",null,null,null,null,null,null,null,null,null,null,null,null,null,null,null,null,null,null,null,null,""]
["","",null,"",null,null,null,null,null,null,null,null,null,null,null,null,null,null,null,null,null,null,null,null,""]
["","",null,"",null,null,null,null,null,null,null,null,null,null,null,null,null,null,null,null,null,null,null,null,""]
["","",null,"",null,null,null,null,null,null,null,null,null,null,null,null,null,null,null,null,null,null,null,null,""]
["","",null,"",null,null,null,null,null,null,null,null,null,null,null,null,null,null,null,null,null,null,null,null,""]
["","",null,"",null,null,null,null,null,null,null,null,null,null,null,null,null,null,null,null,null,null,null,null,""]
["","",null,"",null,null,null,null,null,null,null,null,null,null,null,null,null,null,null,null,null,null,null,null,""]
["","",null,"",null,null,null,null,null,null,null,null,null,null,null,null,null,null,null,null,null,null,null,null,""]
["","",null,"",null,null,null,null,null,null,null,null,null,null,null,null,null,null,null,null,null,null,null,null,""]
["","",null,"",null,null,null,null,null,null,null,null,null,null,null,null,null,null,null,null,null,null,null,null,""]
["","",null,"",null,null,null,null,null,null,null,null,null,null,null,null,null,null,null,null,null,null,null,null,""]
["","",null,"",null,null,null,null,null,null,null,null,null,null,null,null,null,null,null,null,null,null,null,null,""]
["","",null,"",null,null,null,null,null,null,null,null,null,null,null,null,null,null,null,null,null,null,null,null,""]
["","",null,"",null,null,null,null,null,null,null,null,null,null,null,null,null,null,null,null,null,null,null,null,""]
["","",null,"",null,null,null,null,null,null,null,null,null,null,null,null,null,null,null,null,null,null,null,null,""]
["","",null,"",null,null,null,null,null,null,null,null,null,null,null,null,null,null,null,null,null,null,null,null,""]
["","",null,"",null,null,null,null,null,null,null,null,null,null,null,null,null,null,null,null,null,null,null,null,""]
["","",null,"",null,null,null,null,null,null,null,null,null,null,null,null,null,null,null,null,null,null,null,null,""]
["","",null,"",null,null,null,null,null,null,null,null,null,null,null,null,null,null,null,null,null,null,null,null,""]
["","",null,"",null,null,null,null,null,null,null,null,null,null,null,null,null,null,null,null,null,null,null,null,""]
["","",null,"",null,null,null,null,null,null,null,null,null,null,null,null,null,null,null,null,null,null,null,null,""]
["","",null,"",null,null,null,null,null,null,null,null,null,null,null,null,null,null,null,null,null,null,null,null,""]
["","",null,"",null,null,null,null,null,null,null,null,null,null,null,null,null,null,null,null,null,null,null,null,""]
["","",null,"",null,null,null,null,null,null,null,null,null,null,null,null,null,null,null,null,null,null,null,null,""]
["","",null,"",null,null,null,null,null,null,null,null,null,null,null,null,null,null,null,null,null,null,null,null,""]
["","",null,"",null,null,null,null,null,null,null,null,null,null,null,null,null,null,null,null,null,null,null,null,""]
["","",null,"",null,null,null,null,null,null,null,null,null,null,null,null,null,null,null,null,null,null,null,null,""]
["","",null,"",null,null,null,null,null,null,null,null,null,null,null,null,null,null,null,null,null,null,null,null,""]
["","",null,"",null,null,null,null,null,null,null,null,null,null,null,null,null,null,null,null,null,null,null,null,""]
["","",null,"",null,null,null,null,null,null,null,null,null,null,null,null,null,null,null,null,null,null,null,null,""]
["","",null,"",null,null,null,null,null,null,null,null,null,null,null,null,null,null,null,null,null,null,null,null,""]
["","",null,"",null,null,null,null,null,null,null,null,null,null,null,null,null,null,null,null,null,null,null,null,""]
["","",null,"",null,null,null,null,null,null,null,null,null,null,null,null,null,null,null,null,null,null,null,null,""]
["","",null,"",null,null,null,null,null,null,null,null,null,null,null,null,null,null,null,null,null,null,null,null,""]
["","",null,"",null,null,null,null,null,null,null,null,null,null,null,null,null,null,null,null,null,null,null,null,""]
["","",null,"",null,null,null,null,null,null,null,null,null,null,null,null,null,null,null,null,null,null,null,null,""]
["","",null,"",null,null,null,null,null,null,null,null,null,null,null,null,null,null,null,null,null,null,null,null,""]
["","",null,"",null,null,null,null,null,null,null,null,null,null,null,null,null,null,null,null,null,null,null,null,""]
["","",null,"",null,null,null,null,null,null,null,null,null,null,null,null,null,null,null,null,null,null,null,null,""]
["","",null,"",null,null,null,null,null,null,null,null,null,null,null,null,null,null,null,null,null,null,null,null,""]
["","",null,"",null,null,null,null,null,null,null,null,null,null,null,null,null,null,null,null,null,null,null,null,""]
["","",null,"",null,null,null,null,null,null,null,null,null,null,null,null,null,null,null,null,null,null,null,null,""]
["","",null,"",null,null,null,null,null,null,null,null,null,null,null,null,null,null,null,null,null,null,null,null,""]
["","",null,"",null,null,null,null,null,null,null,null,null,null,null,null,null,null,null,null,null,null,null,null,""]
["","",null,"",null,null,null,null,null,null,null,null,null,null,null,null,null,null,null,null,null,null,null,null,""]
["","",null,"",null,null,null,null,null,null,null,null,null,null,null,null,null,null,null,null,null,null,null,null,""]
["","",null,"",null,null,null,null,null,null,null,null,null,null,null,null,null,null,null,null,null,null,null,null,""]
["","",null,"",null,null,null,null,null,null,null,null,null,null,null,null,null,null,null,null,null,null,null,null,""]
["","",null,"",null,null,null,null,null,null,null,null,null,null,null,null,null,null,null,null,null,null,null,null,""]
["","",null,"",null,null,null,null,null,null,null,null,null,null,null,null,null,null,null,null,null,null,null,null,""]
["","",null,"",null,null,null,null,null,null,null,null,null,null,null,null,null,null,null,null,null,null,null,null,""]
["","",null,"",null,null,null,null,null,null,null,null,null,null,null,null,null,null,null,null,null,null,null,null,""]
["","",null,"",null,null,null,null,null,null,null,null,null,null,null,null,null,null,null,null,null,null,null,null,""]
["","",null,"",null,null,null,null,null,null,null,null,null,null,null,null,null,null,null,null,null,null,null,null,""]
["","",null,"",null,null,null,null,null,null,null,null,null,null,null,null,null,null,null,null,null,null,null,null,""]
["","",null,"",null,null,null,null,null,null,null,null,null,null,null,null,null,null,null,null,null,null,null,null,""]
["","",null,"",null,null,null,null,null,null,null,null,null,null,null,null,null,null,null,null,null,null,null,null,""]
["","",null,"",null,null,null,null,null,null,null,null,null,null,null,null,null,null,null,null,null,null,null,null,""]
["","",null,"",null,null,null,null,null,null,null,null,null,null,null,null,null,null,null,null,null,null,null,null,""]
["","",null,"",null,null,null,null,null,null,null,null,null,null,null,null,null,null,null,null,null,null,null,null,""]
["","",null,"",null,null,null,null,null,null,null,null,null,null,null,null,null,null,null,null,null,null,null,null,""]
["","",null,"",null,null,null,null,null,null,null,null,null,null,null,null,null,null,null,null,null,null,null,null,""]
["","",null,"",null,null,null,null,null,null,null,null,null,null,null,null,null,null,null,null,null,null,null,null,""]
["","",null,"",null,null,null,null,null,null,null,null,null,null,null,null,null,null,null,null,null,null,null,null,""]
["","",null,"",null,null,null,null,null,null,null,null,null,null,null,null,null,null,null,null,null,null,null,null,""]
["","",null,"",null,null,null,null,null,null,null,null,null,null,null,null,null,null,null,null,null,null,null,null,""]
["","",null,"",null,null,null,null,null,null,null,null,null,null,null,null,null,null,null,null,null,null,null,null,""]
["","",null,"",null,null,null,null,null,null,null,null,null,null,null,null,null,null,null,null,null,null,null,null,""]
["","",null,"",null,null,null,null,null,null,null,null,null,null,null,null,null,null,null,null,null,null,null,null,""]
["","",null,"",null,null,null,null,null,null,null,null,null,null,null,null,null,null,null,null,null,null,null,null,""]
["","",null,"",null,null,null,null,null,null,null,null,null,null,null,null,null,null,null,null,null,null,null,null,""]
["","",null,"",null,null,null,null,null,null,null,null,null,null,null,null,null,null,null,null,null,null,null,null,""]
["","",null,"",null,null,null,null,null,null,null,null,null,null,null,null,null,null,null,null,null,null,null,null,""]
["","",null,"",null,null,null,null,null,null,null,null,null,null,null,null,null,null,null,null,null,null,null,null,""]
["","",null,"",null,null,null,null,null,null,null,null,null,null,null,null,null,null,null,null,null,null,null,null,""]
["","",null,"",null,null,null,null,null,null,null,null,null,null,null,null,null,null,null,null,null,null,null,null,""]
["","",null,"",null,null,null,null,null,null,null,null,null,null,null,null,null,null,null,null,null,null,null,null,""]
["","",null,"",null,null,null,null,null,null,null,null,null,null,null,null,null,null,null,null,null,null,null,null,""]
["","",null,"",null,null,null,null,null,null,null,null,null,null,null,null,null,null,null,null,null,null,null,null,""]
["","",null,"",null,null,null,null,null,null,null,null,null,null,null,null,null,null,null,null,null,null,null,null,""]
["","",null,"",null,null,null,null,null,null,null,null,null,null,null,null,null,null,null,null,null,null,null,null,""]
["","",null,"",null,null,null,null,null,null,null,null,null,null,null,null,null,null,null,null,null,null,null,null,""]
["","",null,"",null,null,null,null,null,null,null,null,null,null,null,null,null,null,null,null,null,null,null,null,""]
["","",null,"",null,null,null,null,null,null,null,null,null,null,null,null,null,null,null,null,null,null,null,null,""]
["","",null,"",null,null,null,null,null,null,null,null,null,null,null,null,null,null,null,null,null,null,null,null,""]
["","",null,"",null,null,null,null,null,null,null,null,null,null,null,null,null,null,null,null,null,null,null,null,""]
["","",null,"",null,null,null,null,null,null,null,null,null,null,null,null,null,null,null,null,null,null,null,null,""]
["","",null,"",null,null,null,null,null,null,null,null,null,null,null,null,null,null,null,null,null,null,null,null,""]
["","",null,"",null,null,null,null,null,null,null,null,null,null,null,null,null,null,null,null,null,null,null,null,""]
["","",null,"",null,null,null,null,null,null,null,null,null,null,null,null,null,null,null,null,null,null,null,null,""]
["","",null,"",null,null,null,null,null,null,null,null,null,null,null,null,null,null,null,null,null,null,null,null,""]
["","",null,"",null,null,null,null,null,null,null,null,null,null,null,null,null,null,null,null,null,null,null,null,""]
["","",null,"",null,null,null,null,null,null,null,null,null,null,null,null,null,null,null,null,null,null,null,null,""]
["","",null,"",null,null,null,null,null,null,null,null,null,null,null,null,null,null,null,null,null,null,null,null,""]
["","",null,"",null,null,null,null,null,null,null,null,null,null,null,null,null,null,null,null,null,null,null,null,""]
["","",null,"",null,null,null,null,null,null,null,null,null,null,null,null,null,null,null,null,null,null,null,null,""]
["","",null,"",null,null,null,null,null,null,null,null,null,null,null,null,null,null,null,null,null,null,null,null,""]
["","",null,"",null,null,null,null,null,null,null,null,null,null,null,null,null,null,null,null,null,null,null,null,""]
["","",null,"",null,null,null,null,null,null,null,null,null,null,null,null,null,null,null,null,null,null,null,null,""]
["","",null,"",null,null,null,null,null,null,null,null,null,null,null,null,null,null,null,null,null,null,null,null,""]
["","",null,"",null,null,null,null,null,null,null,null,null,null,null,null,null,null,null,null,null,null,null,null,""]
["","",null,"",null,null,null,null,null,null,null,null,null,null,null,null,null,null,null,null,null,null,null,null,""]
["","",null,"",null,null,null,null,null,null,null,null,null,null,null,null,null,null,null,null,null,null,null,null,""]
["","",null,"",null,null,null,null,null,null,null,null,null,null,null,null,null,null,null,null,null,null,null,null,""]
["","",null,"",null,null,null,null,null,null,null,null,null,null,null,null,null,null,null,null,null,null,null,null,""]
["","",null,"",null,null,null,null,null,null,null,null,null,null,null,null,null,null,null,null,null,null,null,null,""]
["","",null,"",null,null,null,null,null,null,null,null,null,null,null,null,null,null,null,null,null,null,null,null,""]
["","",null,"",null,null,null,null,null,null,null,null,null,null,null,null,null,null,null,null,null,null,null,null,""]
["","",null,"",null,null,null,null,null,null,null,null,null,null,null,null,null,null,null,null,null,null,null,null,""]
["","",null,"",null,null,null,null,null,null,null,null,null,null,null,null,null,null,null,null,null,null,null,null,""]
["","",null,"",null,null,null,null,null,null,null,null,null,null,null,null,null,null,null,null,null,null,null,null,""]
["","",null,"",null,null,null,null,null,null,null,null,null,null,null,null,null,null,null,null,null,null,null,null,""]
["","",null,"",null,null,null,null,null,null,null,null,null,null,null,null,null,null,null,null,null,null,null,null,""]
["","",null,"",null,null,null,null,null,null,null,null,null,null,null,null,null,null,null,null,null,null,null,null,""]
["","",null,"",null,null,null,null,null,null,null,null,null,null,null,null,null,null,null,null,null,null,null,null,""]
["","",null,"",null,null,null,null,null,null,null,null,null,null,null,null,null,null,null,null,null,null,null,null,""]
["","",null,"",null,null,null,null,null,null,null,null,null,null,null,null,null,null,null,null,null,null,null,null,""]
["","",null,"",null,null,null,null,null,null,null,null,null,null,null,null,null,null,null,null,null,null,null,null,""]
["","",null,"",null,null,null,null,null,null,null,null,null,null,null,null,null,null,null,null,null,null,null,null,""]
["","",null,"",null,null,null,null,null,null,null,null,null,null,null,null,null,null,null,null,null,null,null,null,""]
["","",null,"",null,null,null,null,null,null,null,null,null,null,null,null,null,null,null,null,null,null,null,null,""]
["","",null,"",null,null,null,null,null,null,null,null,null,null,null,null,null,null,null,null,null,null,null,null,""]
["","",null,"",null,null,null,null,null,null,null,null,null,null,null,null,null,null,null,null,null,null,null,null,""]
["","",null,"",null,null,null,null,null,null,null,null,null,null,null,null,null,null,null,null,null,null,null,null,""]
["","",null,"",null,null,null,null,null,null,null,null,null,null,null,null,null,null,null,null,null,null,null,null,""]
["","",null,"",null,null,null,null,null,null,null,null,null,null,null,null,null,null,null,null,null,null,null,null,""]
["","",null,"",null,null,null,null,null,null,null,null,null,null,null,null,null,null,null,null,null,null,null,null,""]
["","",null,"",null,null,null,null,null,null,null,null,null,null,null,null,null,null,null,null,null,null,null,null,""]
["","",null,"",null,null,null,null,null,null,null,null,null,null,null,null,null,null,null,null,null,null,null,null,""]
["","",null,"",null,null,null,null,null,null,null,null,null,null,null,null,null,null,null,null,null,null,null,null,""]
["","",null,"",null,null,null,null,null,null,null,null,null,null,null,null,null,null,null,null,null,null,null,null,""]
["","",null,"",null,null,null,null,null,null,null,null,null,null,null,null,null,null,null,null,null,null,null,null,""]
["","",null,"",null,null,null,null,null,null,null,null,null,null,null,null,null,null,null,null,null,null,null,null,""]
["","",null,"",null,null,null,null,null,null,null,null,null,null,null,null,null,null,null,null,null,null,null,null,""]
["","",null,"",null,null,null,null,null,null,null,null,null,null,null,null,null,null,null,null,null,null,null,null,""]
["","",null,"",null,null,null,null,null,null,null,null,null,null,null,null,null,null,null,null,null,null,null,null,""]
["","",null,"",null,null,null,null,null,null,null,null,null,null,null,null,null,null,null,null,null,null,null,null,""]
["","",null,"",null,null,null,null,null,null,null,null,null,null,null,null,null,null,null,null,null,null,null,null,""]
["","",null,"",null,null,null,null,null,null,null,null,null,null,null,null,null,null,null,null,null,null,null,null,""]
["","",null,"",null,null,null,null,null,null,null,null,null,null,null,null,null,null,null,null,null,null,null,null,""]
["","",null,"",null,null,null,null,null,null,null,null,null,null,null,null,null,null,null,null,null,null,null,null,""]
["","",null,"",null,null,null,null,null,null,null,null,null,null,null,null,null,null,null,null,null,null,null,null,""]
["","",null,"",null,null,null,null,null,null,null,null,null,null,null,null,null,null,null,null,null,null,null,null,""]
["","",null,"",null,null,null,null,null,null,null,null,null,null,null,null,null,null,null,null,null,null,null,null,""]
["","",null,"",null,null,null,null,null,null,null,null,null,null,null,null,null,null,null,null,null,null,null,null,""]
["","",null,"",null,null,null,null,null,null,null,null,null,null,null,null,null,null,null,null,null,null,null,null,""]
["","",null,"",null,null,null,null,null,null,null,null,null,null,null,null,null,null,null,null,null,null,null,null,""]
["","",null,"",null,null,null,null,null,null,null,null,null,null,null,null,null,null,null,null,null,null,null,null,""]
["","",null,"",null,null,null,null,null,null,null,null,null,null,null,null,null,null,null,null,null,null,null,null,""]
["","",null,"",null,null,null,null,null,null,null,null,null,null,null,null,null,null,null,null,null,null,null,null,""]
["","",null,"",null,null,null,null,null,null,null,null,null,null,null,null,null,null,null,null,null,null,null,null,""]
["","",null,"",null,null,null,null,null,null,null,null,null,null,null,null,null,null,null,null,null,null,null,null,""]
["","",null,"",null,null,null,null,null,null,null,null,null,null,null,null,null,null,null,null,null,null,null,null,""]
["","",null,"",null,null,null,null,null,null,null,null,null,null,null,null,null,null,null,null,null,null,null,null,""]
["","",null,"",null,null,null,null,null,null,null,null,null,null,null,null,null,null,null,null,null,null,null,null,""]
["","",null,"",null,null,null,null,null,null,null,null,null,null,null,null,null,null,null,null,null,null,null,null,""]
["","",null,"",null,null,null,null,null,null,null,null,null,null,null,null,null,null,null,null,null,null,null,null,""]
["","",null,"",null,null,null,null,null,null,null,null,null,null,null,null,null,null,null,null,null,null,null,null,""]
["","",null,"",null,null,null,null,null,null,null,null,null,null,null,null,null,null,null,null,null,null,null,null,""]
["","",null,"",null,null,null,null,null,null,null,null,null,null,null,null,null,null,null,null,null,null,null,null,""]
["","",null,"",null,null,null,null,null,null,null,null,null,null,null,null,null,null,null,null,null,null,null,null,""]
["","",null,"",null,null,null,null,null,null,null,null,null,null,null,null,null,null,null,null,null,null,null,null,""]
["","",null,"",null,null,null,null,null,null,null,null,null,null,null,null,null,null,null,null,null,null,null,null,""]
["","",null,"",null,null,null,null,null,null,null,null,null,null,null,null,null,null,null,null,null,null,null,null,""]
["","",null,"",null,null,null,null,null,null,null,null,null,null,null,null,null,null,null,null,null,null,null,null,""]
["","",null,"",null,null,null,null,null,null,null,null,null,null,null,null,null,null,null,null,null,null,null,null,""]
["","",null,"",null,null,null,null,null,null,null,null,null,null,null,null,null,null,null,null,null,null,null,null,""]
["","",null,"",null,null,null,null,null,null,null,null,null,null,null,null,null,null,null,null,null,null,null,null,""]
["","",null,"",null,null,null,null,null,null,null,null,null,null,null,null,null,null,null,null,null,null,null,null,""]
["","",null,"",null,null,null,null,null,null,null,null,null,null,null,null,null,null,null,null,null,null,null,null,""]
["","",null,"",null,null,null,null,null,null,null,null,null,null,null,null,null,null,null,null,null,null,null,null,""]
["","",null,"",null,null,null,null,null,null,null,null,null,null,null,null,null,null,null,null,null,null,null,null,""]
["","",null,"",null,null,null,null,null,null,null,null,null,null,null,null,null,null,null,null,null,null,null,null,""]
["","",null,"",null,null,null,null,null,null,null,null,null,null,null,null,null,null,null,null,null,null,null,null,""]
["","",null,"",null,null,null,null,null,null,null,null,null,null,null,null,null,null,null,null,null,null,null,null,""]
["","",null,"",null,null,null,null,null,null,null,null,null,null,null,null,null,null,null,null,null,null,null,null,""]
["","",null,"",null,null,null,null,null,null,null,null,null,null,null,null,null,null,null,null,null,null,null,null,""]
["","",null,"",null,null,null,null,null,null,null,null,null,null,null,null,null,null,null,null,null,null,null,null,""]
["","",null,"",null,null,null,null,null,null,null,null,null,null,null,null,null,null,null,null,null,null,null,null,""]
["","",null,"",null,null,null,null,null,null,null,null,null,null,null,null,null,null,null,null,null,null,null,null,""]
["","",null,"",null,null,null,null,null,null,null,null,null,null,null,null,null,null,null,null,null,null,null,null,""]
["","",null,"",null,null,null,null,null,null,null,null,null,null,null,null,null,null,null,null,null,null,null,null,""]
["","",null,"",null,null,null,null,null,null,null,null,null,null,null,null,null,null,null,null,null,null,null,null,""]
["","",null,"",null,null,null,null,null,null,null,null,null,null,null,null,null,null,null,null,null,null,null,null,""]
["","",null,"",null,null,null,null,null,null,null,null,null,null,null,null,null,null,null,null,null,null,null,null,""]
["","",null,"",null,null,null,null,null,null,null,null,null,null,null,null,null,null,null,null,null,null,null,null,""]
["","",null,"",null,null,null,null,null,null,null,null,null,null,null,null,null,null,null,null,null,null,null,null,""]
["","",null,"",null,null,null,null,null,null,null,null,null,null,null,null,null,null,null,null,null,null,null,null,""]
["","",null,"",null,null,null,null,null,null,null,null,null,null,null,null,null,null,null,null,null,null,null,null,""]
["","",null,"",null,null,null,null,null,null,null,null,null,null,null,null,null,null,null,null,null,null,null,null,""]
["","",null,"",null,null,null,null,null,null,null,null,null,null,null,null,null,null,null,null,null,null,null,null,""]
["","",null,"",null,null,null,null,null,null,null,null,null,null,null,null,null,null,null,null,null,null,null,null,""]
["","",null,"",null,null,null,null,null,null,null,null,null,null,null,null,null,null,null,null,null,null,null,null,""]
["","",null,"",null,null,null,null,null,null,null,null,null,null,null,null,null,null,null,null,null,null,null,null,""]
["","",null,"",null,null,null,null,null,null,null,null,null,null,null,null,null,null,null,null,null,null,null,null,""]
["","",null,"",null,null,null,null,null,null,null,null,null,null,null,null,null,null,null,null,null,null,null,null,""]
["","",null,"",null,null,null,null,null,null,null,null,null,null,null,null,null,null,null,null,null,null,null,null,""]
["","",null,"",null,null,null,null,null,null,null,null,null,null,null,null,null,null,null,null,null,null,null,null,""]
["","",null,"",null,null,null,null,null,null,null,null,null,null,null,null,null,null,null,null,null,null,null,null,""]
["","",null,"",null,null,null,null,null,null,null,null,null,null,null,null,null,null,null,null,null,null,null,null,""]
["","",null,"",null,null,null,null,null,null,null,null,null,null,null,null,null,null,null,null,null,null,null,null,""]
["","",null,"",null,null,null,null,null,null,null,null,null,null,null,null,null,null,null,null,null,null,null,null,""]
["","",null,"",null,null,null,null,null,null,null,null,null,null,null,null,null,null,null,null,null,null,null,null,""]
["","",null,"",null,null,null,null,null,null,null,null,null,null,null,null,null,null,null,null,null,null,null,null,""]
["","",null,"",null,null,null,null,null,null,null,null,null,null,null,null,null,null,null,null,null,null,null,null,""]
["","",null,"",null,null,null,null,null,null,null,null,null,null,null,null,null,null,null,null,null,null,null,null,""]
["","",null,"",null,null,null,null,null,null,null,null,null,null,null,null,null,null,null,null,null,null,null,null,""]
["","",null,"",null,null,null,null,null,null,null,null,null,null,null,null,null,null,null,null,null,null,null,null,""]
["","",null,"",null,null,null,null,null,null,null,null,null,null,null,null,null,null,null,null,null,null,null,null,""]
["","",null,"",null,null,null,null,null,null,null,null,null,null,null,null,null,null,null,null,null,null,null,null,""]
["","",null,"",null,null,null,null,null,null,null,null,null,null,null,null,null,null,null,null,null,null,null,null,""]
["","",null,"",null,null,null,null,null,null,null,null,null,null,null,null,null,null,null,null,null,null,null,null,""]
["","",null,"",null,null,null,null,null,null,null,null,null,null,null,null,null,null,null,null,null,null,null,null,""]
["","",null,"",null,null,null,null,null,null,null,null,null,null,null,null,null,null,null,null,null,null,null,null,""]
["","",null,"",null,null,null,null,null,null,null,null,null,null,null,null,null,null,null,null,null,null,null,null,""]
["","",null,"",null,null,null,null,null,null,null,null,null,null,null,null,null,null,null,null,null,null,null,null,""]
["","",null,"",null,null,null,null,null,null,null,null,null,null,null,null,null,null,null,null,null,null,null,null,""]
["","",null,"",null,null,null,null,null,null,null,null,null,null,null,null,null,null,null,null,null,null,null,null,""]
["","",null,"",null,null,null,null,null,null,null,null,null,null,null,null,null,null,null,null,null,null,null,null,""]
["","",null,"",null,null,null,null,null,null,null,null,null,null,null,null,null,null,null,null,null,null,null,null,""]
["","",null,"",null,null,null,null,null,null,null,null,null,null,null,null,null,null,null,null,null,null,null,null,""]
["","",null,"",null,null,null,null,null,null,null,null,null,null,null,null,null,null,null,null,null,null,null,null,""]
["","",null,"",null,null,null,null,null,null,null,null,null,null,null,null,null,null,null,null,null,null,null,null,""]
["","",null,"",null,null,null,null,null,null,null,null,null,null,null,null,null,null,null,null,null,null,null,null,""]
["","",null,"",null,null,null,null,null,null,null,null,null,null,null,null,null,null,null,null,null,null,null,null,""]
["","",null,"",null,null,null,null,null,null,null,null,null,null,null,null,null,null,null,null,null,null,null,null,""]
["","",null,"",null,null,null,null,null,null,null,null,null,null,null,null,null,null,null,null,null,null,null,null,""]
["","",null,"",null,null,null,null,null,null,null,null,null,null,null,null,null,null,null,null,null,null,null,null,""]
["","",null,"",null,null,null,null,null,null,null,null,null,null,null,null,null,null,null,null,null,null,null,null,""]
["","",null,"",null,null,null,null,null,null,null,null,null,null,null,null,null,null,null,null,null,null,null,null,""]
["","",null,"",null,null,null,null,null,null,null,null,null,null,null,null,null,null,null,null,null,null,null,null,""]
["","",null,"",null,null,null,null,null,null,null,null,null,null,null,null,null,null,null,null,null,null,null,null,""]
["","",null,"",null,null,null,null,null,null,null,null,null,null,null,null,null,null,null,null,null,null,null,null,""]
["","",null,"",null,null,null,null,null,null,null,null,null,null,null,null,null,null,null,null,null,null,null,null,""]
["","",null,"",null,null,null,null,null,null,null,null,null,null,null,null,null,null,null,null,null,null,null,null,""]
["","",null,"",null,null,null,null,null,null,null,null,null,null,null,null,null,null,null,null,null,null,null,null,""]
["","",null,"",null,null,null,null,null,null,null,null,null,null,null,null,null,null,null,null,null,null,null,null,""]
["","",null,"",null,null,null,null,null,null,null,null,null,null,null,null,null,null,null,null,null,null,null,null,""]
["","",null,"",null,null,null,null,null,null,null,null,null,null,null,null,null,null,null,null,null,null,null,null,""]
["","",null,"",null,null,null,null,null,null,null,null,null,null,null,null,null,null,null,null,null,null,null,null,""]
["","",null,"",null,null,null,null,null,null,null,null,null,null,null,null,null,null,null,null,null,null,null,null,""]
["","",null,"",null,null,null,null,null,null,null,null,null,null,null,null,null,null,null,null,null,null,null,null,""]
["","",null,"",null,null,null,null,null,null,null,null,null,null,null,null,null,null,null,null,null,null,null,null,""]
["","",null,"",null,null,null,null,null,null,null,null,null,null,null,null,null,null,null,null,null,null,null,null,""]
["","",null,"",null,null,null,null,null,null,null,null,null,null,null,null,null,null,null,null,null,null,null,null,""]
["","",null,"",null,null,null,null,null,null,null,null,null,null,null,null,null,null,null,null,null,null,null,null,""]
["","",null,"",null,null,null,null,null,null,null,null,null,null,null,null,null,null,null,null,null,null,null,null,""]
["","",null,"",null,null,null,null,null,null,null,null,null,null,null,null,null,null,null,null,null,null,null,null,""]
["","",null,"",null,null,null,null,null,null,null,null,null,null,null,null,null,null,null,null,null,null,null,null,""]
["","",null,"",null,null,null,null,null,null,null,null,null,null,null,null,null,null,null,null,null,null,null,null,""]
["","",null,"",null,null,null,null,null,null,null,null,null,null,null,null,null,null,null,null,null,null,null,null,""]
["","",null,"",null,null,null,null,null,null,null,null,null,null,null,null,null,null,null,null,null,null,null,null,""]
["","",null,"",null,null,null,null,null,null,null,null,null,null,null,null,null,null,null,null,null,null,null,null,""]
["","",null,"",null,null,null,null,null,null,null,null,null,null,null,null,null,null,null,null,null,null,null,null,""]
["","",null,"",null,null,null,null,null,null,null,null,null,null,null,null,null,null,null,null,null,null,null,null,""]
["","",null,"",null,null,null,null,null,null,null,null,null,null,null,null,null,null,null,null,null,null,null,null,""]
["","",null,"",null,null,null,null,null,null,null,null,null,null,null,null,null,null,null,null,null,null,null,null,""]
["","",null,"",null,null,null,null,null,null,null,null,null,null,null,null,null,null,null,null,null,null,null,null,""]
["","",null,"",null,null,null,null,null,null,null,null,null,null,null,null,null,null,null,null,null,null,null,null,""]
["","",null,"",null,null,null,null,null,null,null,null,null,null,null,null,null,null,null,null,null,null,null,null,""]
["","",null,"",null,null,null,null,null,null,null,null,null,null,null,null,null,null,null,null,null,null,null,null,""]
["","",null,"",null,null,null,null,null,null,null,null,null,null,null,null,null,null,null,null,null,null,null,null,""]
["","",null,"",null,null,null,null,null,null,null,null,null,null,null,null,null,null,null,null,null,null,null,null,""]
["","",null,"",null,null,null,null,null,null,null,null,null,null,null,null,null,null,null,null,null,null,null,null,""]
["","",null,"",null,null,null,null,null,null,null,null,null,null,null,null,null,null,null,null,null,null,null,null,""]
["","",null,"",null,null,null,null,null,null,null,null,null,null,null,null,null,null,null,null,null,null,null,null,""]
["","",null,"",null,null,null,null,null,null,null,null,null,null,null,null,null,null,null,null,null,null,null,null,""]
["","",null,"",null,null,null,null,null,null,null,null,null,null,null,null,null,null,null,null,null,null,null,null,""]
["","",null,"",null,null,null,null,null,null,null,null,null,null,null,null,null,null,null,null,null,null,null,null,""]
["","",null,"",null,null,null,null,null,null,null,null,null,null,null,null,null,null,null,null,null,null,null,null,""]
["","",null,"",null,null,null,null,null,null,null,null,null,null,null,null,null,null,null,null,null,null,null,null,""]
["","",null,"",null,null,null,null,null,null,null,null,null,null,null,null,null,null,null,null,null,null,null,null,""]
["","",null,"",null,null,null,null,null,null,null,null,null,null,null,null,null,null,null,null,null,null,null,null,""]
["","",null,"",null,null,null,null,null,null,null,null,null,null,null,null,null,null,null,null,null,null,null,null,""]
["","",null,"",null,null,null,null,null,null,null,null,null,null,null,null,null,null,null,null,null,null,null,null,""]
["","",null,"",null,null,null,null,null,null,null,null,null,null,null,null,null,null,null,null,null,null,null,null,""]
["","",null,"",null,null,null,null,null,null,null,null,null,null,null,null,null,null,null,null,null,null,null,null,""]
["","",null,"",null,null,null,null,null,null,null,null,null,null,null,null,null,null,null,null,null,null,null,null,""]
["","",null,"",null,null,null,null,null,null,null,null,null,null,null,null,null,null,null,null,null,null,null,null,""]
["","",null,"",null,null,null,null,null,null,null,null,null,null,null,null,null,null,null,null,null,null,null,null,""]
["","",null,"",null,null,null,null,null,null,null,null,null,null,null,null,null,null,null,null,null,null,null,null,""]
["","",null,"",null,null,null,null,null,null,null,null,null,null,null,null,null,null,null,null,null,null,null,null,""]
["","",null,"",null,null,null,null,null,null,null,null,null,null,null,null,null,null,null,null,null,null,null,null,""]
["","",null,"",null,null,null,null,null,null,null,null,null,null,null,null,null,null,null,null,null,null,null,null,""]
["","",null,"",null,null,null,null,null,null,null,null,null,null,null,null,null,null,null,null,null,null,null,null,""]
["","",null,"",null,null,null,null,null,null,null,null,null,null,null,null,null,null,null,null,null,null,null,null,""]
["","",null,"",null,null,null,null,null,null,null,null,null,null,null,null,null,null,null,null,null,null,null,null,""]
["","",null,"",null,null,null,null,null,null,null,null,null,null,null,null,null,null,null,null,null,null,null,null,""]
["","",null,"",null,null,null,null,null,null,null,null,null,null,null,null,null,null,null,null,null,null,null,null,""]
["","",null,"",null,null,null,null,null,null,null,null,null,null,null,null,null,null,null,null,null,null,null,null,""]
["","",null,"",null,null,null,null,null,null,null,null,null,null,null,null,null,null,null,null,null,null,null,null,""]
["","",null,"",null,null,null,null,null,null,null,null,null,null,null,null,null,null,null,null,null,null,null,null,""]
["","",null,"",null,null,null,null,null,null,null,null,null,null,null,null,null,null,null,null,null,null,null,null,""]
["","",null,"",null,null,null,null,null,null,null,null,null,null,null,null,null,null,null,null,null,null,null,null,""]
["","",null,"",null,null,null,null,null,null,null,null,null,null,null,null,null,null,null,null,null,null,null,null,""]
["","",null,"",null,null,null,null,null,null,null,null,null,null,null,null,null,null,null,null,null,null,null,null,""]
["","",null,"",null,null,null,null,null,null,null,null,null,null,null,null,null,null,null,null,null,null,null,null,""]
["","",null,"",null,null,null,null,null,null,null,null,null,null,null,null,null,null,null,null,null,null,null,null,""]
["","",null,"",null,null,null,null,null,null,null,null,null,null,null,null,null,null,null,null,null,null,null,null,""]
["","",null,"",null,null,null,null,null,null,null,null,null,null,null,null,null,null,null,null,null,null,null,null,""]
["","",null,"",null,null,null,null,null,null,null,null,null,null,null,null,null,null,null,null,null,null,null,null,""]
["","",null,"",null,null,null,null,null,null,null,null,null,null,null,null,null,null,null,null,null,null,null,null,""]
["","",null,"",null,null,null,null,null,null,null,null,null,null,null,null,null,null,null,null,null,null,null,null,""]
["","",null,"",null,null,null,null,null,null,null,null,null,null,null,null,null,null,null,null,null,null,null,null,""]
["","",null,"",null,null,null,null,null,null,null,null,null,null,null,null,null,null,null,null,null,null,null,null,""]
["","",null,"",null,null,null,null,null,null,null,null,null,null,null,null,null,null,null,null,null,null,null,null,""]
["","",null,"",null,null,null,null,null,null,null,null,null,null,null,null,null,null,null,null,null,null,null,null,""]
["","",null,"",null,null,null,null,null,null,null,null,null,null,null,null,null,null,null,null,null,null,null,null,""]
["","",null,"",null,null,null,null,null,null,null,null,null,null,null,null,null,null,null,null,null,null,null,null,""]
["","",null,"",null,null,null,null,null,null,null,null,null,null,null,null,null,null,null,null,null,null,null,null,""]
["","",null,"",null,null,null,null,null,null,null,null,null,null,null,null,null,null,null,null,null,null,null,null,""]
["","",null,"",null,null,null,null,null,null,null,null,null,null,null,null,null,null,null,null,null,null,null,null,""]
["","",null,"",null,null,null,null,null,null,null,null,null,null,null,null,null,null,null,null,null,null,null,null,""]
["","",null,"",null,null,null,null,null,null,null,null,null,null,null,null,null,null,null,null,null,null,null,null,""]
["","",null,"",null,null,null,null,null,null,null,null,null,null,null,null,null,null,null,null,null,null,null,null,""]
["","",null,"",null,null,null,null,null,null,null,null,null,null,null,null,null,null,null,null,null,null,null,null,""]
["","",null,"",null,null,null,null,null,null,null,null,null,null,null,null,null,null,null,null,null,null,null,null,""]
["","",null,"",null,null,null,null,null,null,null,null,null,null,null,null,null,null,null,null,null,null,null,null,""]
["","",null,"",null,null,null,null,null,null,null,null,null,null,null,null,null,null,null,null,null,null,null,null,""]
["","",null,"",null,null,null,null,null,null,null,null,null,null,null,null,null,null,null,null,null,null,null,null,""]
["","",null,"",null,null,null,null,null,null,null,null,null,null,null,null,null,null,null,null,null,null,null,null,""]
["","",null,"",null,null,null,null,null,null,null,null,null,null,null,null,null,null,null,null,null,null,null,null,""]
["","",null,"",null,null,null,null,null,null,null,null,null,null,null,null,null,null,null,null,null,null,null,null,""]
["","",null,"",null,null,null,null,null,null,null,null,null,null,null,null,null,null,null,null,null,null,null,null,""]
["","",null,"",null,null,null,null,null,null,null,null,null,null,null,null,null,null,null,null,null,null,null,null,""]
["","",null,"",null,null,null,null,null,null,null,null,null,null,null,null,null,null,null,null,null,null,null,null,""]
["","",null,"",null,null,null,null,null,null,null,null,null,null,null,null,null,null,null,null,null,null,null,null,""]
["","",null,"",null,null,null,null,null,null,null,null,null,null,null,null,null,null,null,null,null,null,null,null,""]
["","",null,"",null,null,null,null,null,null,null,null,null,null,null,null,null,null,null,null,null,null,null,null,""]
["","",null,"",null,null,null,null,null,null,null,null,null,null,null,null,null,null,null,null,null,null,null,null,""]
["","",null,"",null,null,null,null,null,null,null,null,null,null,null,null,null,null,null,null,null,null,null,null,""]
["","",null,"",null,null,null,null,null,null,null,null,null,null,null,null,null,null,null,null,null,null,null,null,""]
["","",null,"",null,null,null,null,null,null,null,null,null,null,null,null,null,null,null,null,null,null,null,null,""]
["","",null,"",null,null,null,null,null,null,null,null,null,null,null,null,null,null,null,null,null,null,null,null,""]
["","",null,"",null,null,null,null,null,null,null,null,null,null,null,null,null,null,null,null,null,null,null,null,""]
["","",null,"",null,null,null,null,null,null,null,null,null,null,null,null,null,null,null,null,null,null,null,null,""]
["","",null,"",null,null,null,null,null,null,null,null,null,null,null,null,null,null,null,null,null,null,null,null,""]
["","",null,"",null,null,null,null,null,null,null,null,null,null,null,null,null,null,null,null,null,null,null,null,""]
["","",null,"",null,null,null,null,null,null,null,null,null,null,null,null,null,null,null,null,null,null,null,null,""]
["","",null,"",null,null,null,null,null,null,null,null,null,null,null,null,null,null,null,null,null,null,null,null,""]
["","",null,"",null,null,null,null,null,null,null,null,null,null,null,null,null,null,null,null,null,null,null,null,""]
["","",null,"",null,null,null,null,null,null,null,null,null,null,null,null,null,null,null,null,null,null,null,null,""]
["","",null,"",null,null,null,null,null,null,null,null,null,null,null,null,null,null,null,null,null,null,null,null,""]
["","",null,"",null,null,null,null,null,null,null,null,null,null,null,null,null,null,null,null,null,null,null,null,""]
["","",null,"",null,null,null,null,null,null,null,null,null,null,null,null,null,null,null,null,null,null,null,null,""]
["","",null,"",null,null,null,null,null,null,null,null,null,null,null,null,null,null,null,null,null,null,null,null,""]
["","",null,"",null,null,null,null,null,null,null,null,null,null,null,null,null,null,null,null,null,null,null,null,""]
["","",null,"",null,null,null,null,null,null,null,null,null,null,null,null,null,null,null,null,null,null,null,null,""]
["","",null,"",null,null,null,null,null,null,null,null,null,null,null,null,null,null,null,null,null,null,null,null,""]
["","",null,"",null,null,null,null,null,null,null,null,null,null,null,null,null,null,null,null,null,null,null,null,""]
["","",null,"",null,null,null,null,null,null,null,null,null,null,null,null,null,null,null,null,null,null,null,null,""]
["","",null,"",null,null,null,null,null,null,null,null,null,null,null,null,null,null,null,null,null,null,null,null,""]
["","",null,"",null,null,null,null,null,null,null,null,null,null,null,null,null,null,null,null,null,null,null,null,""]
["","",null,"",null,null,null,null,null,null,null,null,null,null,null,null,null,null,null,null,null,null,null,null,""]
["","",null,"",null,null,null,null,null,null,null,null,null,null,null,null,null,null,null,null,null,null,null,null,""]
["","",null,"",null,null,null,null,null,null,null,null,null,null,null,null,null,null,null,null,null,null,null,null,""]
["","",null,"",null,null,null,null,null,null,null,null,null,null,null,null,null,null,null,null,null,null,null,null,""]
["","",null,"",null,null,null,null,null,null,null,null,null,null,null,null,null,null,null,null,null,null,null,null,""]
["","",null,"",null,null,null,null,null,null,null,null,null,null,null,null,null,null,null,null,null,null,null,null,""]
["","",null,"",null,null,null,null,null,null,null,null,null,null,null,null,null,null,null,null,null,null,null,null,""]
["","",null,"",null,null,null,null,null,null,null,null,null,null,null,null,null,null,null,null,null,null,null,null,""]
["","",null,"",null,null,null,null,null,null,null,null,null,null,null,null,null,null,null,null,null,null,null,null,""]
["","",null,"",null,null,null,null,null,null,null,null,null,null,null,null,null,null,null,null,null,null,null,null,""]
["","",null,"",null,null,null,null,null,null,null,null,null,null,null,null,null,null,null,null,null,null,null,null,""]
["","",null,"",null,null,null,null,null,null,null,null,null,null,null,null,null,null,null,null,null,null,null,null,""]
["","",null,"",null,null,null,null,null,null,null,null,null,null,null,null,null,null,null,null,null,null,null,null,""]
["","",null,"",null,null,null,null,null,null,null,null,null,null,null,null,null,null,null,null,null,null,null,null,""]
["","",null,"",null,null,null,null,null,null,null,null,null,null,null,null,null,null,null,null,null,null,null,null,""]
["","",null,"",null,null,null,null,null,null,null,null,null,null,null,null,null,null,null,null,null,null,null,null,""]
["","",null,"",null,null,null,null,null,null,null,null,null,null,null,null,null,null,null,null,null,null,null,null,""]
["","",null,"",null,null,null,null,null,null,null,null,null,null,null,null,null,null,null,null,null,null,null,null,""]
["","",null,"",null,null,null,null,null,null,null,null,null,null,null,null,null,null,null,null,null,null,null,null,""]
["","",null,"",null,null,null,null,null,null,null,null,null,null,null,null,null,null,null,null,null,null,null,null,""]
["","",null,"",null,null,null,null,null,null,null,null,null,null,null,null,null,null,null,null,null,null,null,null,""]
["","",null,"",null,null,null,null,null,null,null,null,null,null,null,null,null,null,null,null,null,null,null,null,""]
["","",null,"",null,null,null,null,null,null,null,null,null,null,null,null,null,null,null,null,null,null,null,null,""]
["","",null,"",null,null,null,null,null,null,null,null,null,null,null,null,null,null,null,null,null,null,null,null,""]
["","",null,"",null,null,null,null,null,null,null,null,null,null,null,null,null,null,null,null,null,null,null,null,""]
["","",null,"",null,null,null,null,null,null,null,null,null,null,null,null,null,null,null,null,null,null,null,null,""]
["","",null,"",null,null,null,null,null,null,null,null,null,null,null,null,null,null,null,null,null,null,null,null,""]
["","",null,"",null,null,null,null,null,null,null,null,null,null,null,null,null,null,null,null,null,null,null,null,""]
["","",null,"",null,null,null,null,null,null,null,null,null,null,null,null,null,null,null,null,null,null,null,null,""]
["","",null,"",null,null,null,null,null,null,null,null,null,null,null,null,null,null,null,null,null,null,null,null,""]
["","",null,"",null,null,null,null,null,null,null,null,null,null,null,null,null,null,null,null,null,null,null,null,""]
["","",null,"",null,null,null,null,null,null,null,null,null,null,null,null,null,null,null,null,null,null,null,null,""]
["","",null,"",null,null,null,null,null,null,null,null,null,null,null,null,null,null,null,null,null,null,null,null,""]
["","",null,"",null,null,null,null,null,null,null,null,null,null,null,null,null,null,null,null,null,null,null,null,""]
["","",null,"",null,null,null,null,null,null,null,null,null,null,null,null,null,null,null,null,null,null,null,null,""]
["","",null,"",null,null,null,null,null,null,null,null,null,null,null,null,null,null,null,null,null,null,null,null,""]
["","",null,"",null,null,null,null,null,null,null,null,null,null,null,null,null,null,null,null,null,null,null,null,""]
["","",null,"",null,null,null,null,null,null,null,null,null,null,null,null,null,null,null,null,null,null,null,null,""]
["","",null,"",null,null,null,null,null,null,null,null,null,null,null,null,null,null,null,null,null,null,null,null,""]
["","",null,"",null,null,null,null,null,null,null,null,null,null,null,null,null,null,null,null,null,null,null,null,""]
["","",null,"",null,null,null,null,null,null,null,null,null,null,null,null,null,null,null,null,null,null,null,null,""]
["","",null,"",null,null,null,null,null,null,null,null,null,null,null,null,null,null,null,null,null,null,null,null,""]
["","",null,"",null,null,null,null,null,null,null,null,null,null,null,null,null,null,null,null,null,null,null,null,""]
["","",null,"",null,null,null,null,null,null,null,null,null,null,null,null,null,null,null,null,null,null,null,null,""]
["","",null,"",null,null,null,null,null,null,null,null,null,null,null,null,null,null,null,null,null,null,null,null,""]
["","",null,"",null,null,null,null,null,null,null,null,null,null,null,null,null,null,null,null,null,null,null,null,""]
["","",null,"",null,null,null,null,null,null,null,null,null,null,null,null,null,null,null,null,null,null,null,null,""]
["","",null,"",null,null,null,null,null,null,null,null,null,null,null,null,null,null,null,null,null,null,null,null,""]
["","",null,"",null,null,null,null,null,null,null,null,null,null,null,null,null,null,null,null,null,null,null,null,""]
["","",null,"",null,null,null,null,null,null,null,null,null,null,null,null,null,null,null,null,null,null,null,null,""]
["","",null,"",null,null,null,null,null,null,null,null,null,null,null,null,null,null,null,null,null,null,null,null,""]
["","",null,"",null,null,null,null,null,null,null,null,null,null,null,null,null,null,null,null,null,null,null,null,""]
["","",null,"",null,null,null,null,null,null,null,null,null,null,null,null,null,null,null,null,null,null,null,null,""]
["","",null,"",null,null,null,null,null,null,null,null,null,null,null,null,null,null,null,null,null,null,null,null,""]
["","",null,"",null,null,null,null,null,null,null,null,null,null,null,null,null,null,null,null,null,null,null,null,""]
["","",null,"",null,null,null,null,null,null,null,null,null,null,null,null,null,null,null,null,null,null,null,null,""]
["","",null,"",null,null,null,null,null,null,null,null,null,null,null,null,null,null,null,null,null,null,null,null,""]
["","",null,"",null,null,null,null,null,null,null,null,null,null,null,null,null,null,null,null,null,null,null,null,""]
["","",null,"",null,null,null,null,null,null,null,null,null,null,null,null,null,null,null,null,null,null,null,null,""]
["","",null,"",null,null,null,null,null,null,null,null,null,null,null,null,null,null,null,null,null,null,null,null,""]
["","",null,"",null,null,null,null,null,null,null,null,null,null,null,null,null,null,null,null,null,null,null,null,""]
["","",null,"",null,null,null,null,null,null,null,null,null,null,null,null,null,null,null,null,null,null,null,null,""]
["","",null,"",null,null,null,null,null,null,null,null,null,null,null,null,null,null,null,null,null,null,null,null,""]
["","",null,"",null,null,null,null,null,null,null,null,null,null,null,null,null,null,null,null,null,null,null,null,""]
["","",null,"",null,null,null,null,null,null,null,null,null,null,null,null,null,null,null,null,null,null,null,null,""]
["","",null,"",null,null,null,null,null,null,null,null,null,null,null,null,null,null,null,null,null,null,null,null,""]
["","",null,"",null,null,null,null,null,null,null,null,null,null,null,null,null,null,null,null,null,null,null,null,""]
["","",null,"",null,null,null,null,null,null,null,null,null,null,null,null,null,null,null,null,null,null,null,null,""]
["","",null,"",null,null,null,null,null,null,null,null,null,null,null,null,null,null,null,null,null,null,null,null,""]
["","",null,"",null,null,null,null,null,null,null,null,null,null,null,null,null,null,null,null,null,null,null,null,""]
["","",null,"",null,null,null,null,null,null,null,null,null,null,null,null,null,null,null,null,null,null,null,null,""]
["","",null,"",null,null,null,null,null,null,null,null,null,null,null,null,null,null,null,null,null,null,null,null,""]
["","",null,"",null,null,null,null,null,null,null,null,null,null,null,null,null,null,null,null,null,null,null,null,""]
["","",null,"",null,null,null,null,null,null,null,null,null,null,null,null,null,null,null,null,null,null,null,null,""]
["","",null,"",null,null,null,null,null,null,null,null,null,null,null,null,null,null,null,null,null,null,null,null,""]
["","",null,"",null,null,null,null,null,null,null,null,null,null,null,null,null,null,null,null,null,null,null,null,""]
["","",null,"",null,null,null,null,null,null,null,null,null,null,null,null,null,null,null,null,null,null,null,null,""]
["","",null,"",null,null,null,null,null,null,null,null,null,null,null,null,null,null,null,null,null,null,null,null,""]
["","",null,"",null,null,null,null,null,null,null,null,null,null,null,null,null,null,null,null,null,null,null,null,""]
["","",null,"",null,null,null,null,null,null,null,null,null,null,null,null,null,null,null,null,null,null,null,null,""]
["","",null,"",null,null,null,null,null,null,null,null,null,null,null,null,null,null,null,null,null,null,null,null,""]
["","",null,"",null,null,null,null,null,null,null,null,null,null,null,null,null,null,null,null,null,null,null,null,""]
["","",null,"",null,null,null,null,null,null,null,null,null,null,null,null,null,null,null,null,null,null,null,null,""]
["","",null,"",null,null,null,null,null,null,null,null,null,null,null,null,null,null,null,null,null,null,null,null,""]
["","",null,"",null,null,null,null,null,null,null,null,null,null,null,null,null,null,null,null,null,null,null,null,""]
["","",null,"",null,null,null,null,null,null,null,null,null,null,null,null,null,null,null,null,null,null,null,null,""]
["","",null,"",null,null,null,null,null,null,null,null,null,null,null,null,null,null,null,null,null,null,null,null,""]
["","",null,"",null,null,null,null,null,null,null,null,null,null,null,null,null,null,null,null,null,null,null,null,""]
["","",null,"",null,null,null,null,null,null,null,null,null,null,null,null,null,null,null,null,null,null,null,null,""]
["","",null,"",null,null,null,null,null,null,null,null,null,null,null,null,null,null,null,null,null,null,null,null,""]
["","",null,"",null,null,null,null,null,null,null,null,null,null,null,null,null,null,null,null,null,null,null,null,""]
["","",null,"",null,null,null,null,null,null,null,null,null,null,null,null,null,null,null,null,null,null,null,null,""]
["","",null,"",null,null,null,null,null,null,null,null,null,null,null,null,null,null,null,null,null,null,null,null,""]
["","",null,"",null,null,null,null,null,null,null,null,null,null,null,null,null,null,null,null,null,null,null,null,""]
["","",null,"",null,null,null,null,null,null,null,null,null,null,null,null,null,null,null,null,null,null,null,null,""]
["","",null,"",null,null,null,null,null,null,null,null,null,null,null,null,null,null,null,null,null,null,null,null,""]
["","",null,"",null,null,null,null,null,null,null,null,null,null,null,null,null,null,null,null,null,null,null,null,""]
["","",null,"",null,null,null,null,null,null,null,null,null,null,null,null,null,null,null,null,null,null,null,null,""]
["","",null,"",null,null,null,null,null,null,null,null,null,null,null,null,null,null,null,null,null,null,null,null,""]
["","",null,"",null,null,null,null,null,null,null,null,null,null,null,null,null,null,null,null,null,null,null,null,""]
["","",null,"",null,null,null,null,null,null,null,null,null,null,null,null,null,null,null,null,null,null,null,null,""]
["","",null,"",null,null,null,null,null,null,null,null,null,null,null,null,null,null,null,null,null,null,null,null,""]
["","",null,"",null,null,null,null,null,null,null,null,null,null,null,null,null,null,null,null,null,null,null,null,""]
["","",null,"",null,null,null,null,null,null,null,null,null,null,null,null,null,null,null,null,null,null,null,null,""]
["","",null,"",null,null,null,null,null,null,null,null,null,null,null,null,null,null,null,null,null,null,null,null,""]
["","",null,"",null,null,null,null,null,null,null,null,null,null,null,null,null,null,null,null,null,null,null,null,""]
["","",null,"",null,null,null,null,null,null,null,null,null,null,null,null,null,null,null,null,null,null,null,null,""]
["","",null,"",null,null,null,null,null,null,null,null,null,null,null,null,null,null,null,null,null,null,null,null,""]
["","",null,"",null,null,null,null,null,null,null,null,null,null,null,null,null,null,null,null,null,null,null,null,""]
["","",null,"",null,null,null,null,null,null,null,null,null,null,null,null,null,null,null,null,null,null,null,null,""]
["","",null,"",null,null,null,null,null,null,null,null,null,null,null,null,null,null,null,null,null,null,null,null,""]
["","",null,"",null,null,null,null,null,null,null,null,null,null,null,null,null,null,null,null,null,null,null,null,""]
["","",null,"",null,null,null,null,null,null,null,null,null,null,null,null,null,null,null,null,null,null,null,null,""]
["","",null,"",null,null,null,null,null,null,null,null,null,null,null,null,null,null,null,null,null,null,null,null,""]
["","",null,"",null,null,null,null,null,null,null,null,null,null,null,null,null,null,null,null,null,null,null,null,""]
["","",null,"",null,null,null,null,null,null,null,null,null,null,null,null,null,null,null,null,null,null,null,null,""]
["","",null,"",null,null,null,null,null,null,null,null,null,null,null,null,null,null,null,null,null,null,null,null,""]
["","",null,"",null,null,null,null,null,null,null,null,null,null,null,null,null,null,null,null,null,null,null,null,""]
["","",null,"",null,null,null,null,null,null,null,null,null,null,null,null,null,null,null,null,null,null,null,null,""]
["","",null,"",null,null,null,null,null,null,null,null,null,null,null,null,null,null,null,null,null,null,null,null,""]
["","",null,"",null,null,null,null,null,null,null,null,null,null,null,null,null,null,null,null,null,null,null,null,""]
["","",null,"",null,null,null,null,null,null,null,null,null,null,null,null,null,null,null,null,null,null,null,null,""]
["","",null,"",null,null,null,null,null,null,null,null,null,null,null,null,null,null,null,null,null,null,null,null,""]
["","",null,"",null,null,null,null,null,null,null,null,null,null,null,null,null,null,null,null,null,null,null,null,""]
["","",null,"",null,null,null,null,null,null,null,null,null,null,null,null,null,null,null,null,null,null,null,null,""]
["","",null,"",null,null,null,null,null,null,null,null,null,null,null,null,null,null,null,null,null,null,null,null,""]
["","",null,"",null,null,null,null,null,null,null,null,null,null,null,null,null,null,null,null,null,null,null,null,""]
["","",null,"",null,null,null,null,null,null,null,null,null,null,null,null,null,null,null,null,null,null,null,null,""]
["","",null,"",null,null,null,null,null,null,null,null,null,null,null,null,null,null,null,null,null,null,null,null,""]
["","",null,"",null,null,null,null,null,null,null,null,null,null,null,null,null,null,null,null,null,null,null,null,""]
["","",null,"",null,null,null,null,null,null,null,null,null,null,null,null,null,null,null,null,null,null,null,null,""]
["","",null,"",null,null,null,null,null,null,null,null,null,null,null,null,null,null,null,null,null,null,null,null,""]
["","",null,"",null,null,null,null,null,null,null,null,null,null,null,null,null,null,null,null,null,null,null,null,""]
["","",null,"",null,null,null,null,null,null,null,null,null,null,null,null,null,null,null,null,null,null,null,null,""]
["","",null,"",null,null,null,null,null,null,null,null,null,null,null,null,null,null,null,null,null,null,null,null,""]
["","",null,"",null,null,null,null,null,null,null,null,null,null,null,null,null,null,null,null,null,null,null,null,""]
["","",null,"",null,null,null,null,null,null,null,null,null,null,null,null,null,null,null,null,null,null,null,null,""]
["","",null,"",null,null,null,null,null,null,null,null,null,null,null,null,null,null,null,null,null,null,null,null,""]
["","",null,"",null,null,null,null,null,null,null,null,null,null,null,null,null,null,null,null,null,null,null,null,""]
["","",null,"",null,null,null,null,null,null,null,null,null,null,null,null,null,null,null,null,null,null,null,null,""]
["","",null,"",null,null,null,null,null,null,null,null,null,null,null,null,null,null,null,null,null,null,null,null,""]
["","",null,"",null,null,null,null,null,null,null,null,null,null,null,null,null,null,null,null,null,null,null,null,""]
["","",null,"",null,null,null,null,null,null,null,null,null,null,null,null,null,null,null,null,null,null,null,null,""]
["","",null,"",null,null,null,null,null,null,null,null,null,null,null,null,null,null,null,null,null,null,null,null,""]
["","",null,"",null,null,null,null,null,null,null,null,null,null,null,null,null,null,null,null,null,null,null,null,""]
["","",null,"",null,null,null,null,null,null,null,null,null,null,null,null,null,null,null,null,null,null,null,null,""]

{"sheet":"2.Забезпечення","index":1,"n_rows":1088,"n_cols":13,"rows_kept":1088,"cut":false,"hidden":false,"merged":[[0,1,5,11]]}
[null,"Цей документ був підготовлений Фондом гарантування вкладів фізичних осіб (далі – Фонд) виключно для інформаційних цілей і не повинен вважатися як спонукання до будь-яких дій чи бездіяльності.  Інформація, що міститься в цьому документі, була отримана з/або ґрунтується на джерелах, які вважаються надійними, але не є вичерпною та не може сприйматися як повна або актуальна. Зокрема, але не виключно, станом на дату придбання активів допускаються несуттєві зміни лота, в складі якого продаються такі активи. Під несуттєвими змінами лота слід розуміти такі зміни характеристик активів у складі такого лота, які впливають на його балансову вартість, але не більше ніж на 10 відсотків. Рішення покупця щодо будь-яких дій або бездіяльності повинно ґрунтуватися на власних оцінках та дослідженнях майна (активу/активів), котре реалізується. Фонд не несе відповідальності за рішення покупця та його наслідки, що ґрунтується на інформації, викладеній в даному документі.\n\n«Недійсність (нікчемність), припинення всіх або будь-якого із прав, що складають Майнові права за цим лотом, або неможливість реалізації покупцем будь-якого із Майнових прав, набутих ним за договором купівлі-продажу Майнових прав за цим лотом, не вплине на дійсність договору купівлі-продажу Майнових прав за цим лотом та Покупець погоджується, що Продавець не несе жодної відповідальності за такі наслідки. Банк (продавець) та/або Фонд не відповідає за неотримання покупцем грошових коштів або іншого майна, які покупець очікував отримати від Майнових прав, набуваючи у власність Майнові права за цим лотом. Приймаючи рішення щодо придбання Майнових прав за цим лотом покупець має розуміти (усвідомлювати) характер Майнових прав, що переходять до покупця за цим лотом, та приймати усі ризики, пов’язані із таким переходом, у тому числі ризики того, що покупець у майбутньому не зможе отримати жодних коштів або майна за Майновими правами.»\n\nПокупцем не може бути особа, пов'язана з державою-агресором, відповідно до Постанови Кабінету Міністрів України №187 від 03.03.2022 (зі змінами).\n\nЗвертаємо увагу, що  на період дії воєнного стану на території України  договори посвідчуються нотаріусом, який включений до затвердженого Міністерством юстиції переліку (https://minjust.gov.ua/news/ministry/perelik-notariusiv-yakimi-v-umovah-voennogo-stanu-vchinyayutsya-notarialni-dii-schodo-tsinnogo-mayna). Нотаріальне посвідчення договорів відчуження нерухомого майна на час дії воєнного стану здійснюється нотаріусом, який включений до затвердженого Міністерством юстиції переліку, за місцезнаходженням такого майна. Виключенням є м. Київ та Київська область, де договори відчуження нерухомого майна посвідчуються нотаріусом з м. Києва або Київської обл. за місцезнаходженням такого майна, або місцезнаходженням юридичної особи, або за зареєстрованим місцем проживання фізичної особи - однієї із сторін договору."]
[]
[]
[]
[]
[]
[]
[]
["Звітна дата",":",{"$f":"'1.Портфель кредитів'!C6","v":"2024-02-01"}]
["unicid","Colateral_ID","Банк","№ договору","Тип застави","Загальна площа (нерухомість) , кв.м ","Загальна площа (земельні ділянки) ,\n га","Область місцезнаходження застави","Населений пункт (місто/село/селище)","Сума/вартість за договором грн","Реєстрація у держ. Реєстрі (обтяження)\n(так/ні)","Статус заставодавця/фінансового поручителя  відповідно ЄДР на дату заповнення паспорту","Додаткові коментарі про заставу (у випадку наявності в Банку інформації, в т.ч. щодо виведення застави, руйнування, знаходження в розшуку, тощо)"]
["300131__1",{"$f":"IFERROR(#REF!,\"\")","v":""},"Фінанси та Кредит","1195-01-07","цінні папери/ корпоративні права",79028,"шт.","Київ","Київ",16497142.42,"ТАК"," -"]
["300131__1",{"$f":"IFERROR(#REF!,\"\")","v":""},"Фінанси та Кредит","1195-01-07","цінні папери/ корпоративні права",85112,"шт.","Київ","Київ",17767181.07,"ТАК","Діюче"]
["300131__1",{"$f":"IFERROR(#REF!,\"\")","v":""},"Фінанси та Кредит","1195-01-07","цінні папери/ корпоративні права",99000,"шт.","Київ","Київ",53833715.100000001,"ТАК","Діюче"]
["300131__1",{"$f":"IFERROR(#REF!,\"\")","v":""},"Фінанси та Кредит","1195-01-07","цінні папери/ корпоративні права",140419,"шт.","Київ","Київ",29312550.5,"ТАК"," -"]
["300131__1",{"$f":"IFERROR(#REF!,\"\")","v":""},"Фінанси та Кредит","1195-01-07","цінні папери/ корпоративні права",140973,"шт.","Київ","Київ",29428198.329999998,"ТАК","Діюче"]
["300131__1",{"$f":"IFERROR(#REF!,\"\")","v":""},"Фінанси та Кредит","1195-01-07","цінні папери/ корпоративні права",74621,"шт.","Київ","Київ",15577178.52,"ТАК","Діюче"]
["300131__1",{"$f":"IFERROR(#REF!,\"\")","v":""},"Фінанси та Кредит","1195-01-07","цінні папери/ корпоративні права",141185,"шт.","Київ","Київ",29472453.460000001,"ТАК","Діюче"]
["300131__1",{"$f":"IFERROR(#REF!,\"\")","v":""},"Фінанси та Кредит","1195-01-07","цінні папери/ корпоративні права",100000,"шт.","Київ","Київ",20875060,"ТАК"," -"]
["300131__1",{"$f":"IFERROR(#REF!,\"\")","v":""},"Фінанси та Кредит","1195-01-07","цінні папери/ корпоративні права",44970,"шт.","Київ","Київ",9387514.4800000004,"ТАК","Діюче"]
["300131__1",{"$f":"IFERROR(#REF!,\"\")","v":""},"Фінанси та Кредит","1195-01-07","цінні папери/ корпоративні права",12876598,"шт.","Полтавська","Кременчук",309038352,"ТАК","Діюче"]
["300131__1",{"$f":"IFERROR(#REF!,\"\")","v":""},"Фінанси та Кредит","1195-01-07","інші майнові права ",2,"шт.","Київська","Біла Церква",3759884613.4000001,"НІ","Банкрутство"]
["300131__2",{"$f":"IFERROR(#REF!,\"\")","v":""},"Фінанси та Кредит","1252-08","ком. нерухомість",36832.699999999997,"м.кв.","Львівська","Львів",414828446,"ТАК (Відсутня заборона Банку по блоку складських приміщень, площею 2268,1 кв.м (за вказаним об’єктом наявний лише запис про реєстрацію  іпотеки)","Діюче"]
["300131__3",{"$f":"IFERROR(#REF!,\"\")","v":""},"Фінанси та Кредит","1318-10","цінні папери/ корпоративні права",79028,"шт.","Київ","Київ",16497142.42,"ТАК"," -"]
["300131__3",{"$f":"IFERROR(#REF!,\"\")","v":""},"Фінанси та Кредит","1318-10","цінні папери/ корпоративні права",85112,"шт.","Київ","Київ",17767181.07,"ТАК","Діюче"]
["300131__3",{"$f":"IFERROR(#REF!,\"\")","v":""},"Фінанси та Кредит","1318-10","цінні папери/ корпоративні права",99000,"шт.","Київ","Київ",53833715.100000001,"ТАК","Діюче"]
["300131__3",{"$f":"IFERROR(#REF!,\"\")","v":""},"Фінанси та Кредит","1318-10","цінні папери/ корпоративні права",140419,"шт.","Київ","Київ",29312550.5,"ТАК"," -"]
["300131__3",{"$f":"IFERROR(#REF!,\"\")","v":""},"Фінанси та Кредит","1318-10","цінні папери/ корпоративні права",140973,"шт.","Київ","Київ",29428198.329999998,"ТАК","Діюче"]
["300131__3",{"$f":"IFERROR(#REF!,\"\")","v":""},"Фінанси та Кредит","1318-10","цінні папери/ корпоративні права",74621,"шт.","Київ","Київ",15577178.52,"ТАК","Діюче"]
["300131__3",{"$f":"IFERROR(#REF!,\"\")","v":""},"Фінанси та Кредит","1318-10","цінні папери/ корпоративні права",141185,"шт.","Київ","Київ",29472453.460000001,"ТАК","Діюче"]
["300131__3",{"$f":"IFERROR(#REF!,\"\")","v":""},"Фінанси та Кредит","1318-10","цінні папери/ корпоративні права",100000,"шт.","Київ","Київ",20875060,"ТАК"," -"]
["300131__3",{"$f":"IFERROR(#REF!,\"\")","v":""},"Фінанси та Кредит","1318-10","цінні папери/ корпоративні права",44970,"шт.","Київ","Київ",9387514.4800000004,"ТАК","Діюче"]
["300131__3",{"$f":"IFERROR(#REF!,\"\")","v":""},"Фінанси та Кредит","1318-10","цінні папери/ корпоративні права",12876598,"шт.","Полтавська","Кременчук",309038352,"ТАК","Діюче"]
["300131__3",{"$f":"IFERROR(#REF!,\"\")","v":""},"Фінанси та Кредит","1318-10","інші майнові права ",2,"шт.","Київська","Біла Церква",3759884613.4000001,"НІ","Банкрутство"]
["300131__4",{"$f":"IFERROR(#REF!,\"\")","v":""},"Фінанси та Кредит","1319-10","цінні папери/ корпоративні права",79028,"шт.","Київ","Київ",16497142.42,"ТАК"," -"]
["300131__4",{"$f":"IFERROR(#REF!,\"\")","v":""},"Фінанси та Кредит","1319-10","цінні папери/ корпоративні права",85112,"шт.","Київ","Київ",17767181.07,"ТАК","Діюче"]
["300131__4",{"$f":"IFERROR(#REF!,\"\")","v":""},"Фінанси та Кредит","1319-10","цінні папери/ корпоративні права",99000,"шт.","Київ","Київ",53833715.100000001,"ТАК","Діюче"]
["300131__4",{"$f":"IFERROR(#REF!,\"\")","v":""},"Фінанси та Кредит","1319-10","цінні папери/ корпоративні права",140419,"шт.","Київ","Київ",29312550.5,"ТАК"," -"]
["300131__4",{"$f":"IFERROR(#REF!,\"\")","v":""},"Фінанси та Кредит","1319-10","цінні папери/ корпоративні права",140973,"шт.","Київ","Київ",29428198.329999998,"ТАК","Діюче"]
["300131__4",{"$f":"IFERROR(#REF!,\"\")","v":""},"Фінанси та Кредит","1319-10","цінні папери/ корпоративні права",74621,"шт.","Київ","Київ",15577178.52,"ТАК","Діюче"]
["300131__4",{"$f":"IFERROR(#REF!,\"\")","v":""},"Фінанси та Кредит","1319-10","цінні папери/ корпоративні права",141185,"шт.","Київ","Київ",29472453.460000001,"ТАК","Діюче"]
["300131__4",{"$f":"IFERROR(#REF!,\"\")","v":""},"Фінанси та Кредит","1319-10","цінні папери/ корпоративні права",100000,"шт.","Київ","Київ",20875060,"ТАК"," -"]
["300131__4",{"$f":"IFERROR(#REF!,\"\")","v":""},"Фінанси та Кредит","1319-10","цінні папери/ корпоративні права",44970,"шт.","Київ","Київ",9387514.4800000004,"ТАК","Діюче"]
["300131__4",{"$f":"IFERROR(#REF!,\"\")","v":""},"Фінанси та Кредит","1319-10","цінні папери/ корпоративні права",12876598,"шт.","Полтавська","Кременчук",309038352,"ТАК","Діюче"]
["300131__4",{"$f":"IFERROR(#REF!,\"\")","v":""},"Фінанси та Кредит","1319-10","інші майнові права ",2,"шт.","Київська","Біла Церква",3759884613.4000001,"НІ","Банкрутство"]
["300131__5",{"$f":"IFERROR(#REF!,\"\")","v":""},"Фінанси та Кредит","1320-10","цінні папери/ корпоративні права",79028,"шт.","Київ","Київ",16497142.42,"ТАК"," -"]
["300131__5",{"$f":"IFERROR(#REF!,\"\")","v":""},"Фінанси та Кредит","1320-10","цінні папери/ корпоративні права",85112,"шт.","Київ","Київ",17767181.07,"ТАК","Діюче"]
["300131__5",{"$f":"IFERROR(#REF!,\"\")","v":""},"Фінанси та Кредит","1320-10","цінні папери/ корпоративні права",99000,"шт.","Київ","Київ",53833715.100000001,"ТАК","Діюче"]
["300131__5",{"$f":"IFERROR(#REF!,\"\")","v":""},"Фінанси та Кредит","1320-10","цінні папери/ корпоративні права",140419,"шт.","Київ","Київ",29312550.5,"ТАК"," -"]
["300131__5",{"$f":"IFERROR(#REF!,\"\")","v":""},"Фінанси та Кредит","1320-10","цінні папери/ корпоративні права",140973,"шт.","Київ","Київ",29428198.329999998,"ТАК","Діюче"]
["300131__5",{"$f":"IFERROR(#REF!,\"\")","v":""},"Фінанси та Кредит","1320-10","цінні папери/ корпоративні права",74621,"шт.","Київ","Київ",15577178.52,"ТАК","Діюче"]
["300131__5",{"$f":"IFERROR(#REF!,\"\")","v":""},"Фінанси та Кредит","1320-10","цінні папери/ корпоративні права",141185,"шт.","Київ","Київ",29472453.460000001,"ТАК","Діюче"]
["300131__5",{"$f":"IFERROR(#REF!,\"\")","v":""},"Фінанси та Кредит","1320-10","цінні папери/ корпоративні права",100000,"шт.","Київ","Київ",20875060,"ТАК"," -"]
["300131__5",{"$f":"IFERROR(#REF!,\"\")","v":""},"Фінанси та Кредит","1320-10","цінні папери/ корпоративні права",44970,"шт.","Київ","Київ",9387514.4800000004,"ТАК","Діюче"]
["300131__5",{"$f":"IFERROR(#REF!,\"\")","v":""},"Фінанси та Кредит","1320-10","цінні папери/ корпоративні права",12876598,"шт.","Полтавська","Кременчук",309038352,"ТАК","Діюче"]
["300131__5",{"$f":"IFERROR(#REF!,\"\")","v":""},"Фінанси та Кредит","1320-10","інші майнові права ",2,"шт.","Київська","Біла Церква",3759884613.4000001,"НІ","Банкрутство"]
["300131__6",{"$f":"IFERROR(#REF!,\"\")","v":""},"Фінанси та Кредит","1321м-10","цінні папери/ корпоративні права",79028,"шт.","Київ","Київ",16497142.42,"ТАК"," -"]
["300131__6",{"$f":"IFERROR(#REF!,\"\")","v":""},"Фінанси та Кредит","1321м-10","цінні папери/ корпоративні права",85112,"шт.","Київ","Київ",17767181.07,"ТАК","Діюче"]
["300131__6",{"$f":"IFERROR(#REF!,\"\")","v":""},"Фінанси та Кредит","1321м-10","цінні папери/ корпоративні права",99000,"шт.","Київ","Київ",53833715.100000001,"ТАК","Діюче"]
["300131__6",{"$f":"IFERROR(#REF!,\"\")","v":""},"Фінанси та Кредит","1321м-10","цінні папери/ корпоративні права",140419,"шт.","Київ","Київ",29312550.5,"ТАК"," -"]
["300131__6",{"$f":"IFERROR(#REF!,\"\")","v":""},"Фінанси та Кредит","1321м-10","цінні папери/ корпоративні права",140973,"шт.","Київ","Київ",29428198.329999998,"ТАК","Діюче"]
["300131__6",{"$f":"IFERROR(#REF!,\"\")","v":""},"Фінанси та Кредит","1321м-10","цінні папери/ корпоративні права",74621,"шт.","Київ","Київ",15577178.52,"ТАК","Діюче"]
["300131__6",{"$f":"IFERROR(#REF!,\"\")","v":""},"Фінанси та Кредит","1321м-10","цінні папери/ корпоративні права",141185,"шт.","Київ","Київ",29472453.460000001,"ТАК","Діюче"]
["300131__6",{"$f":"IFERROR(#REF!,\"\")","v":""},"Фінанси та Кредит","1321м-10","цінні папери/ корпоративні права",100000,"шт.","Київ","Київ",20875060,"ТАК"," -"]
["300131__6",{"$f":"IFERROR(#REF!,\"\")","v":""},"Фінанси та Кредит","1321м-10","цінні папери/ корпоративні права",44970,"шт.","Київ","Київ",9387514.4800000004,"ТАК","Діюче"]
["300131__6",{"$f":"IFERROR(#REF!,\"\")","v":""},"Фінанси та Кредит","1321м-10","цінні папери/ корпоративні права",12876598,"шт.","Полтавська","Кременчук",309038352,"ТАК","Діюче"]
["300131__6",{"$f":"IFERROR(#REF!,\"\")","v":""},"Фінанси та Кредит","1321м-10","інші майнові права ",2,"шт.","Київська","Біла Церква",3759884613.4000001,"НІ","Банкрутство"]
["300131__7",{"$f":"IFERROR(#REF!,\"\")","v":""},"Фінанси та Кредит","1440-12","цінні папери/ корпоративні права",79028,"шт.","Київ","Київ",16497142.42,"ТАК"," -"]
["300131__7",{"$f":"IFERROR(#REF!,\"\")","v":""},"Фінанси та Кредит","1440-12","цінні папери/ корпоративні права",85112,"шт.","Київ","Київ",17767181.07,"ТАК","Діюче"]
["300131__7",{"$f":"IFERROR(#REF!,\"\")","v":""},"Фінанси та Кредит","1440-12","цінні папери/ корпоративні права",99000,"шт.","Київ","Київ",53833715.100000001,"ТАК","Діюче"]
["300131__7",{"$f":"IFERROR(#REF!,\"\")","v":""},"Фінанси та Кредит","1440-12","цінні папери/ корпоративні права",140419,"шт.","Київ","Київ",29312550.5,"ТАК"," -"]
["300131__7",{"$f":"IFERROR(#REF!,\"\")","v":""},"Фінанси та Кредит","1440-12","цінні папери/ корпоративні права",140973,"шт.","Київ","Київ",29428198.329999998,"ТАК","Діюче"]
["300131__7",{"$f":"IFERROR(#REF!,\"\")","v":""},"Фінанси та Кредит","1440-12","цінні папери/ корпоративні права",74621,"шт.","Київ","Київ",15577178.52,"ТАК","Діюче"]
["300131__7",{"$f":"IFERROR(#REF!,\"\")","v":""},"Фінанси та Кредит","1440-12","цінні папери/ корпоративні права",141185,"шт.","Київ","Київ",29472453.460000001,"ТАК","Діюче"]
["300131__7",{"$f":"IFERROR(#REF!,\"\")","v":""},"Фінанси та Кредит","1440-12","цінні папери/ корпоративні права",100000,"шт.","Київ","Київ",20875060,"НІ"," -"]
["300131__7",{"$f":"IFERROR(#REF!,\"\")","v":""},"Фінанси та Кредит","1440-12","цінні папери/ корпоративні права",44970,"шт.","Київ","Київ",9387514.4800000004,"ТАК","Діюче"]
["300131__7",{"$f":"IFERROR(#REF!,\"\")","v":""},"Фінанси та Кредит","1440-12","цінні папери/ корпоративні права",12876598,"шт.","Полтавська","Кременчук",309038352,"ТАК","Діюче"]
["300131__7",{"$f":"IFERROR(#REF!,\"\")","v":""},"Фінанси та Кредит","1440-12","інші майнові права ",2,"шт.","Київська","Біла Церква",3759884613.4000001,"НІ","Банкрутство"]
["300131__8",{"$f":"IFERROR(#REF!,\"\")","v":""},"Фінанси та Кредит","1253м-08","ком. нерухомість",36832.699999999997,"м.кв.","Львівська","Львів",414828446,"ТАК (Відсутня заборона Банку по блоку складських приміщень, площею 2268,1 кв.м (за вказаним об’єктом наявний лише запис про реєстрацію  іпотеки)","Діюче"]
["300131__9",{"$f":"IFERROR(#REF!,\"\")","v":""},"Фінанси та Кредит","1267м-08","обладнання/устаткування",228,"од.","Київ","Київ",30122000,"ТАК","Діюче"]
["300131__9",{"$f":"IFERROR(#REF!,\"\")","v":""},"Фінанси та Кредит","1267м-08","обладнання/устаткування",75,"од.","Київ","Київ",14702000,"ТАК","Діюче"]
["300131__9",{"$f":"IFERROR(#REF!,\"\")","v":""},"Фінанси та Кредит","1267м-08","цінні папери/ корпоративні права",65440,"шт.","Київ","Київ",3816716.02,"ТАК","Діюче"]
["300131__9",{"$f":"IFERROR(#REF!,\"\")","v":""},"Фінанси та Кредит","1267м-08","обладнання/устаткування",58,"од.","Київ","Київ",14128000,"ТАК","Діюче"]
["300131__9",{"$f":"IFERROR(#REF!,\"\")","v":""},"Фінанси та Кредит","1267м-08","обладнання/устаткування",30,"од.","Київ","Київ",1471000,"ТАК","Діюче"]
["300131__9",{"$f":"IFERROR(#REF!,\"\")","v":""},"Фінанси та Кредит","1267м-08","товари",null,null,"Київ","Київ",40630133.43,"ТАК","Діюче"]
["300131__9",{"$f":"IFERROR(#REF!,\"\")","v":""},"Фінанси та Кредит","1267м-08","ком. нерухомість",2981.7,"м.кв.","Київ","Київ",93029040,"ТАК ","Діюче"]
["300131__9",{"$f":"IFERROR(#REF!,\"\")","v":""},"Фінанси та Кредит","1267м-08","земельні ділянки",13.173500000000001,"га","Київська","Мироцька сільська рада",11131607.5,"ТАК","Діюче"]
["300131__9",{"$f":"IFERROR(#REF!,\"\")","v":""},"Фінанси та Кредит","1267м-08","ком. нерухомість",1704.91,"м.кв.","Київ","Київ",24934308.75,"ТАК ","Діюче"]
["300131__9",{"$f":"IFERROR(#REF!,\"\")","v":""},"Фінанси та Кредит","1267м-08","цінні папери/ корпоративні права",64398,"шт.","Київ","Київ",3755942.51,"так","Діюче"]
["300131__9",{"$f":"IFERROR(#REF!,\"\")","v":""},"Фінанси та Кредит","1267м-08","цінні папери/ корпоративні права",12876598,"шт.","Полтавська","Кременчук",309038352,"ТАК","Діюче"]
["300131__9",{"$f":"IFERROR(#REF!,\"\")","v":""},"Фінанси та Кредит","1267м-08","земельні ділянки",9,"га","Київська","Мироцька сільська рада",8190000,"ТАК","Діюче"]
["300131__9",{"$f":"IFERROR(#REF!,\"\")","v":""},"Фінанси та Кредит","1267м-08","земельні ділянки",1.5,"га","Київська","Мироцька сільська рада",1462500,"ТАК","Діюче"]
["300131__10",{"$f":"IFERROR(#REF!,\"\")","v":""},"Фінанси та Кредит","1276м-08","ком. нерухомість",36832.699999999997,"м.кв.","Львівська","Львів",414828446,"ТАК (Відсутня заборона Банку по блоку складських приміщень, площею 2268,1 кв.м (за вказаним об’єктом наявний лише запис про реєстрацію  іпотеки)","Діюче"]
[null,{"$f":"IFERROR(#REF!,\"\")","v":""},{"$f":"IFERROR(VLOOKUP(A93,'1.Портфель кредитів'!A:AB,3,FALSE),\"\")","v":""},{"$f":"IFERROR(VLOOKUP(A93,'1.Портфель кредитів'!A:AB,14,FALSE),\"\")","v":""}]
[null,{"$f":"IFERROR(#REF!,\"\")","v":""},{"$f":"IFERROR(VLOOKUP(A94,'1.Портфель кредитів'!A:AB,3,FALSE),\"\")","v":""},{"$f":"IFERROR(VLOOKUP(A94,'1.Портфель кредитів'!A:AB,14,FALSE),\"\")","v":""}]
[null,{"$f":"IFERROR(#REF!,\"\")","v":""},{"$f":"IFERROR(VLOOKUP(A95,'1.Портфель кредитів'!A:AB,3,FALSE),\"\")","v":""},{"$f":"IFERROR(VLOOKUP(A95,'1.Портфель кредитів'!A:AB,14,FALSE),\"\")","v":""}]
[null,{"$f":"IFERROR(#REF!,\"\")","v":""},{"$f":"IFERROR(VLOOKUP(A96,'1.Портфель кредитів'!A:AB,3,FALSE),\"\")","v":""},{"$f":"IFERROR(VLOOKUP(A96,'1.Портфель кредитів'!A:AB,14,FALSE),\"\")","v":""}]
[null,{"$f":"IFERROR(#REF!,\"\")","v":""},{"$f":"IFERROR(VLOOKUP(A97,'1.Портфель кредитів'!A:AB,3,FALSE),\"\")","v":""},{"$f":"IFERROR(VLOOKUP(A97,'1.Портфель кредитів'!A:AB,14,FALSE),\"\")","v":""}]
[null,{"$f":"IFERROR(#REF!,\"\")","v":""},{"$f":"IFERROR(VLOOKUP(A98,'1.Портфель кредитів'!A:AB,3,FALSE),\"\")","v":""},{"$f":"IFERROR(VLOOKUP(A98,'1.Портфель кредитів'!A:AB,14,FALSE),\"\")","v":""}]
[null,{"$f":"IFERROR(#REF!,\"\")","v":""},{"$f":"IFERROR(VLOOKUP(A99,'1.Портфель кредитів'!A:AB,3,FALSE),\"\")","v":""},{"$f":"IFERROR(VLOOKUP(A99,'1.Портфель кредитів'!A:AB,14,FALSE),\"\")","v":""}]
[null,{"$f":"IFERROR(#REF!,\"\")","v":""},{"$f":"IFERROR(VLOOKUP(A100,'1.Портфель кредитів'!A:AB,3,FALSE),\"\")","v":""},{"$f":"IFERROR(VLOOKUP(A100,'1.Портфель кредитів'!A:AB,14,FALSE),\"\")","v":""}]
[null,{"$f":"IFERROR(#REF!,\"\")","v":""},{"$f":"IFERROR(VLOOKUP(A101,'1.Портфель кредитів'!A:AB,3,FALSE),\"\")","v":""},{"$f":"IFERROR(VLOOKUP(A101,'1.Портфель кредитів'!A:AB,14,FALSE),\"\")","v":""}]
[null,{"$f":"IFERROR(#REF!,\"\")","v":""},{"$f":"IFERROR(VLOOKUP(A102,'1.Портфель кредитів'!A:AB,3,FALSE),\"\")","v":""},{"$f":"IFERROR(VLOOKUP(A102,'1.Портфель кредитів'!A:AB,14,FALSE),\"\")","v":""}]
[null,{"$f":"IFERROR(#REF!,\"\")","v":""},{"$f":"IFERROR(VLOOKUP(A103,'1.Портфель кредитів'!A:AB,3,FALSE),\"\")","v":""},{"$f":"IFERROR(VLOOKUP(A103,'1.Портфель кредитів'!A:AB,14,FALSE),\"\")","v":""}]
[null,{"$f":"IFERROR(#REF!,\"\")","v":""},{"$f":"IFERROR(VLOOKUP(A104,'1.Портфель кредитів'!A:AB,3,FALSE),\"\")","v":""},{"$f":"IFERROR(VLOOKUP(A104,'1.Портфель кредитів'!A:AB,14,FALSE),\"\")","v":""}]
[null,{"$f":"IFERROR(#REF!,\"\")","v":""},{"$f":"IFERROR(VLOOKUP(A105,'1.Портфель кредитів'!A:AB,3,FALSE),\"\")","v":""},{"$f":"IFERROR(VLOOKUP(A105,'1.Портфель кредитів'!A:AB,14,FALSE),\"\")","v":""}]
[null,{"$f":"IFERROR(#REF!,\"\")","v":""},{"$f":"IFERROR(VLOOKUP(A106,'1.Портфель кредитів'!A:AB,3,FALSE),\"\")","v":""},{"$f":"IFERROR(VLOOKUP(A106,'1.Портфель кредитів'!A:AB,14,FALSE),\"\")","v":""}]
[null,{"$f":"IFERROR(#REF!,\"\")","v":""},{"$f":"IFERROR(VLOOKUP(A107,'1.Портфель кредитів'!A:AB,3,FALSE),\"\")","v":""},{"$f":"IFERROR(VLOOKUP(A107,'1.Портфель кредитів'!A:AB,14,FALSE),\"\")","v":""}]
[null,{"$f":"IFERROR(#REF!,\"\")","v":""},{"$f":"IFERROR(VLOOKUP(A108,'1.Портфель кредитів'!A:AB,3,FALSE),\"\")","v":""},{"$f":"IFERROR(VLOOKUP(A108,'1.Портфель кредитів'!A:AB,14,FALSE),\"\")","v":""}]
[null,{"$f":"IFERROR(#REF!,\"\")","v":""},{"$f":"IFERROR(VLOOKUP(A109,'1.Портфель кредитів'!A:AB,3,FALSE),\"\")","v":""},{"$f":"IFERROR(VLOOKUP(A109,'1.Портфель кредитів'!A:AB,14,FALSE),\"\")","v":""}]
[null,{"$f":"IFERROR(#REF!,\"\")","v":""},{"$f":"IFERROR(VLOOKUP(A110,'1.Портфель кредитів'!A:AB,3,FALSE),\"\")","v":""},{"$f":"IFERROR(VLOOKUP(A110,'1.Портфель кредитів'!A:AB,14,FALSE),\"\")","v":""}]
[null,{"$f":"IFERROR(#REF!,\"\")","v":""},{"$f":"IFERROR(VLOOKUP(A111,'1.Портфель кредитів'!A:AB,3,FALSE),\"\")","v":""},{"$f":"IFERROR(VLOOKUP(A111,'1.Портфель кредитів'!A:AB,14,FALSE),\"\")","v":""}]
[null,{"$f":"IFERROR(#REF!,\"\")","v":""},{"$f":"IFERROR(VLOOKUP(A112,'1.Портфель кредитів'!A:AB,3,FALSE),\"\")","v":""},{"$f":"IFERROR(VLOOKUP(A112,'1.Портфель кредитів'!A:AB,14,FALSE),\"\")","v":""}]
[null,{"$f":"IFERROR(#REF!,\"\")","v":""},{"$f":"IFERROR(VLOOKUP(A113,'1.Портфель кредитів'!A:AB,3,FALSE),\"\")","v":""},{"$f":"IFERROR(VLOOKUP(A113,'1.Портфель кредитів'!A:AB,14,FALSE),\"\")","v":""}]
[null,{"$f":"IFERROR(#REF!,\"\")","v":""},{"$f":"IFERROR(VLOOKUP(A114,'1.Портфель кредитів'!A:AB,3,FALSE),\"\")","v":""},{"$f":"IFERROR(VLOOKUP(A114,'1.Портфель кредитів'!A:AB,14,FALSE),\"\")","v":""}]
[null,{"$f":"IFERROR(#REF!,\"\")","v":""},{"$f":"IFERROR(VLOOKUP(A115,'1.Портфель кредитів'!A:AB,3,FALSE),\"\")","v":""},{"$f":"IFERROR(VLOOKUP(A115,'1.Портфель кредитів'!A:AB,14,FALSE),\"\")","v":""}]
[null,{"$f":"IFERROR(#REF!,\"\")","v":""},{"$f":"IFERROR(VLOOKUP(A116,'1.Портфель кредитів'!A:AB,3,FALSE),\"\")","v":""},{"$f":"IFERROR(VLOOKUP(A116,'1.Портфель кредитів'!A:AB,14,FALSE),\"\")","v":""}]
[null,{"$f":"IFERROR(#REF!,\"\")","v":""},{"$f":"IFERROR(VLOOKUP(A117,'1.Портфель кредитів'!A:AB,3,FALSE),\"\")","v":""},{"$f":"IFERROR(VLOOKUP(A117,'1.Портфель кредитів'!A:AB,14,FALSE),\"\")","v":""}]
[null,{"$f":"IFERROR(#REF!,\"\")","v":""},{"$f":"IFERROR(VLOOKUP(A118,'1.Портфель кредитів'!A:AB,3,FALSE),\"\")","v":""},{"$f":"IFERROR(VLOOKUP(A118,'1.Портфель кредитів'!A:AB,14,FALSE),\"\")","v":""}]
[null,{"$f":"IFERROR(#REF!,\"\")","v":""},{"$f":"IFERROR(VLOOKUP(A119,'1.Портфель кредитів'!A:AB,3,FALSE),\"\")","v":""},{"$f":"IFERROR(VLOOKUP(A119,'1.Портфель кредитів'!A:AB,14,FALSE),\"\")","v":""}]
[null,{"$f":"IFERROR(#REF!,\"\")","v":""},{"$f":"IFERROR(VLOOKUP(A120,'1.Портфель кредитів'!A:AB,3,FALSE),\"\")","v":""},{"$f":"IFERROR(VLOOKUP(A120,'1.Портфель кредитів'!A:AB,14,FALSE),\"\")","v":""}]
[null,{"$f":"IFERROR(#REF!,\"\")","v":""},{"$f":"IFERROR(VLOOKUP(A121,'1.Портфель кредитів'!A:AB,3,FALSE),\"\")","v":""},{"$f":"IFERROR(VLOOKUP(A121,'1.Портфель кредитів'!A:AB,14,FALSE),\"\")","v":""}]
[null,{"$f":"IFERROR(#REF!,\"\")","v":""},{"$f":"IFERROR(VLOOKUP(A122,'1.Портфель кредитів'!A:AB,3,FALSE),\"\")","v":""},{"$f":"IFERROR(VLOOKUP(A122,'1.Портфель кредитів'!A:AB,14,FALSE),\"\")","v":""}]
[null,{"$f":"IFERROR(#REF!,\"\")","v":""},{"$f":"IFERROR(VLOOKUP(A123,'1.Портфель кредитів'!A:AB,3,FALSE),\"\")","v":""},{"$f":"IFERROR(VLOOKUP(A123,'1.Портфель кредитів'!A:AB,14,FALSE),\"\")","v":""}]
[null,{"$f":"IFERROR(#REF!,\"\")","v":""},{"$f":"IFERROR(VLOOKUP(A124,'1.Портфель кредитів'!A:AB,3,FALSE),\"\")","v":""},{"$f":"IFERROR(VLOOKUP(A124,'1.Портфель кредитів'!A:AB,14,FALSE),\"\")","v":""}]
[null,{"$f":"IFERROR(#REF!,\"\")","v":""},{"$f":"IFERROR(VLOOKUP(A125,'1.Портфель кредитів'!A:AB,3,FALSE),\"\")","v":""},{"$f":"IFERROR(VLOOKUP(A125,'1.Портфель кредитів'!A:AB,14,FALSE),\"\")","v":""}]
[null,{"$f":"IFERROR(#REF!,\"\")","v":""},{"$f":"IFERROR(VLOOKUP(A126,'1.Портфель кредитів'!A:AB,3,FALSE),\"\")","v":""},{"$f":"IFERROR(VLOOKUP(A126,'1.Портфель кредитів'!A:AB,14,FALSE),\"\")","v":""}]
[null,{"$f":"IFERROR(#REF!,\"\")","v":""},{"$f":"IFERROR(VLOOKUP(A127,'1.Портфель кредитів'!A:AB,3,FALSE),\"\")","v":""},{"$f":"IFERROR(VLOOKUP(A127,'1.Портфель кредитів'!A:AB,14,FALSE),\"\")","v":""}]
[null,{"$f":"IFERROR(#REF!,\"\")","v":""},{"$f":"IFERROR(VLOOKUP(A128,'1.Портфель кредитів'!A:AB,3,FALSE),\"\")","v":""},{"$f":"IFERROR(VLOOKUP(A128,'1.Портфель кредитів'!A:AB,14,FALSE),\"\")","v":""}]
[null,{"$f":"IFERROR(#REF!,\"\")","v":""},{"$f":"IFERROR(VLOOKUP(A129,'1.Портфель кредитів'!A:AB,3,FALSE),\"\")","v":""},{"$f":"IFERROR(VLOOKUP(A129,'1.Портфель кредитів'!A:AB,14,FALSE),\"\")","v":""}]
[null,{"$f":"IFERROR(#REF!,\"\")","v":""},{"$f":"IFERROR(VLOOKUP(A130,'1.Портфель кредитів'!A:AB,3,FALSE),\"\")","v":""},{"$f":"IFERROR(VLOOKUP(A130,'1.Портфель кредитів'!A:AB,14,FALSE),\"\")","v":""}]
[null,{"$f":"IFERROR(#REF!,\"\")","v":""},{"$f":"IFERROR(VLOOKUP(A131,'1.Портфель кредитів'!A:AB,3,FALSE),\"\")","v":""},{"$f":"IFERROR(VLOOKUP(A131,'1.Портфель кредитів'!A:AB,14,FALSE),\"\")","v":""}]
[null,{"$f":"IFERROR(#REF!,\"\")","v":""},{"$f":"IFERROR(VLOOKUP(A132,'1.Портфель кредитів'!A:AB,3,FALSE),\"\")","v":""},{"$f":"IFERROR(VLOOKUP(A132,'1.Портфель кредитів'!A:AB,14,FALSE),\"\")","v":""}]
[null,{"$f":"IFERROR(#REF!,\"\")","v":""},{"$f":"IFERROR(VLOOKUP(A133,'1.Портфель кредитів'!A:AB,3,FALSE),\"\")","v":""},{"$f":"IFERROR(VLOOKUP(A133,'1.Портфель кредитів'!A:AB,14,FALSE),\"\")","v":""}]
[null,{"$f":"IFERROR(#REF!,\"\")","v":""},{"$f":"IFERROR(VLOOKUP(A134,'1.Портфель кредитів'!A:AB,3,FALSE),\"\")","v":""},{"$f":"IFERROR(VLOOKUP(A134,'1.Портфель кредитів'!A:AB,14,FALSE),\"\")","v":""}]
[null,{"$f":"IFERROR(#REF!,\"\")","v":""},{"$f":"IFERROR(VLOOKUP(A135,'1.Портфель кредитів'!A:AB,3,FALSE),\"\")","v":""},{"$f":"IFERROR(VLOOKUP(A135,'1.Портфель кредитів'!A:AB,14,FALSE),\"\")","v":""}]
[null,{"$f":"IFERROR(#REF!,\"\")","v":""},{"$f":"IFERROR(VLOOKUP(A136,'1.Портфель кредитів'!A:AB,3,FALSE),\"\")","v":""},{"$f":"IFERROR(VLOOKUP(A136,'1.Портфель кредитів'!A:AB,14,FALSE),\"\")","v":""}]
[null,{"$f":"IFERROR(#REF!,\"\")","v":""},{"$f":"IFERROR(VLOOKUP(A137,'1.Портфель кредитів'!A:AB,3,FALSE),\"\")","v":""},{"$f":"IFERROR(VLOOKUP(A137,'1.Портфель кредитів'!A:AB,14,FALSE),\"\")","v":""}]
[null,{"$f":"IFERROR(#REF!,\"\")","v":""},{"$f":"IFERROR(VLOOKUP(A138,'1.Портфель кредитів'!A:AB,3,FALSE),\"\")","v":""},{"$f":"IFERROR(VLOOKUP(A138,'1.Портфель кредитів'!A:AB,14,FALSE),\"\")","v":""}]
[null,{"$f":"IFERROR(#REF!,\"\")","v":""},{"$f":"IFERROR(VLOOKUP(A139,'1.Портфель кредитів'!A:AB,3,FALSE),\"\")","v":""},{"$f":"IFERROR(VLOOKUP(A139,'1.Портфель кредитів'!A:AB,14,FALSE),\"\")","v":""}]
[null,{"$f":"IFERROR(#REF!,\"\")","v":""},{"$f":"IFERROR(VLOOKUP(A140,'1.Портфель кредитів'!A:AB,3,FALSE),\"\")","v":""},{"$f":"IFERROR(VLOOKUP(A140,'1.Портфель кредитів'!A:AB,14,FALSE),\"\")","v":""}]
[null,{"$f":"IFERROR(#REF!,\"\")","v":""},{"$f":"IFERROR(VLOOKUP(A141,'1.Портфель кредитів'!A:AB,3,FALSE),\"\")","v":""},{"$f":"IFERROR(VLOOKUP(A141,'1.Портфель кредитів'!A:AB,14,FALSE),\"\")","v":""}]
[null,{"$f":"IFERROR(#REF!,\"\")","v":""},{"$f":"IFERROR(VLOOKUP(A142,'1.Портфель кредитів'!A:AB,3,FALSE),\"\")","v":""},{"$f":"IFERROR(VLOOKUP(A142,'1.Портфель кредитів'!A:AB,14,FALSE),\"\")","v":""}]
[null,{"$f":"IFERROR(#REF!,\"\")","v":""},{"$f":"IFERROR(VLOOKUP(A143,'1.Портфель кредитів'!A:AB,3,FALSE),\"\")","v":""},{"$f":"IFERROR(VLOOKUP(A143,'1.Портфель кредитів'!A:AB,14,FALSE),\"\")","v":""}]
[null,{"$f":"IFERROR(#REF!,\"\")","v":""},{"$f":"IFERROR(VLOOKUP(A144,'1.Портфель кредитів'!A:AB,3,FALSE),\"\")","v":""},{"$f":"IFERROR(VLOOKUP(A144,'1.Портфель кредитів'!A:AB,14,FALSE),\"\")","v":""}]
[null,{"$f":"IFERROR(#REF!,\"\")","v":""},{"$f":"IFERROR(VLOOKUP(A145,'1.Портфель кредитів'!A:AB,3,FALSE),\"\")","v":""},{"$f":"IFERROR(VLOOKUP(A145,'1.Портфель кредитів'!A:AB,14,FALSE),\"\")","v":""}]
[null,{"$f":"IFERROR(#REF!,\"\")","v":""},{"$f":"IFERROR(VLOOKUP(A146,'1.Портфель кредитів'!A:AB,3,FALSE),\"\")","v":""},{"$f":"IFERROR(VLOOKUP(A146,'1.Портфель кредитів'!A:AB,14,FALSE),\"\")","v":""}]
[null,{"$f":"IFERROR(#REF!,\"\")","v":""},{"$f":"IFERROR(VLOOKUP(A147,'1.Портфель кредитів'!A:AB,3,FALSE),\"\")","v":""},{"$f":"IFERROR(VLOOKUP(A147,'1.Портфель кредитів'!A:AB,14,FALSE),\"\")","v":""}]
[null,{"$f":"IFERROR(#REF!,\"\")","v":""},{"$f":"IFERROR(VLOOKUP(A148,'1.Портфель кредитів'!A:AB,3,FALSE),\"\")","v":""},{"$f":"IFERROR(VLOOKUP(A148,'1.Портфель кредитів'!A:AB,14,FALSE),\"\")","v":""}]
[null,{"$f":"IFERROR(#REF!,\"\")","v":""},{"$f":"IFERROR(VLOOKUP(A149,'1.Портфель кредитів'!A:AB,3,FALSE),\"\")","v":""},{"$f":"IFERROR(VLOOKUP(A149,'1.Портфель кредитів'!A:AB,14,FALSE),\"\")","v":""}]
[null,{"$f":"IFERROR(#REF!,\"\")","v":""},{"$f":"IFERROR(VLOOKUP(A150,'1.Портфель кредитів'!A:AB,3,FALSE),\"\")","v":""},{"$f":"IFERROR(VLOOKUP(A150,'1.Портфель кредитів'!A:AB,14,FALSE),\"\")","v":""}]
[null,{"$f":"IFERROR(#REF!,\"\")","v":""},{"$f":"IFERROR(VLOOKUP(A151,'1.Портфель кредитів'!A:AB,3,FALSE),\"\")","v":""},{"$f":"IFERROR(VLOOKUP(A151,'1.Портфель кредитів'!A:AB,14,FALSE),\"\")","v":""}]
[null,{"$f":"IFERROR(#REF!,\"\")","v":""},{"$f":"IFERROR(VLOOKUP(A152,'1.Портфель кредитів'!A:AB,3,FALSE),\"\")","v":""},{"$f":"IFERROR(VLOOKUP(A152,'1.Портфель кредитів'!A:AB,14,FALSE),\"\")","v":""}]
[null,{"$f":"IFERROR(#REF!,\"\")","v":""},{"$f":"IFERROR(VLOOKUP(A153,'1.Портфель кредитів'!A:AB,3,FALSE),\"\")","v":""},{"$f":"IFERROR(VLOOKUP(A153,'1.Портфель кредитів'!A:AB,14,FALSE),\"\")","v":""}]
[null,{"$f":"IFERROR(#REF!,\"\")","v":""},{"$f":"IFERROR(VLOOKUP(A154,'1.Портфель кредитів'!A:AB,3,FALSE),\"\")","v":""},{"$f":"IFERROR(VLOOKUP(A154,'1.Портфель кредитів'!A:AB,14,FALSE),\"\")","v":""}]
[null,{"$f":"IFERROR(#REF!,\"\")","v":""},{"$f":"IFERROR(VLOOKUP(A155,'1.Портфель кредитів'!A:AB,3,FALSE),\"\")","v":""},{"$f":"IFERROR(VLOOKUP(A155,'1.Портфель кредитів'!A:AB,14,FALSE),\"\")","v":""}]
[null,{"$f":"IFERROR(#REF!,\"\")","v":""},{"$f":"IFERROR(VLOOKUP(A156,'1.Портфель кредитів'!A:AB,3,FALSE),\"\")","v":""},{"$f":"IFERROR(VLOOKUP(A156,'1.Портфель кредитів'!A:AB,14,FALSE),\"\")","v":""}]
[null,{"$f":"IFERROR(#REF!,\"\")","v":""},{"$f":"IFERROR(VLOOKUP(A157,'1.Портфель кредитів'!A:AB,3,FALSE),\"\")","v":""},{"$f":"IFERROR(VLOOKUP(A157,'1.Портфель кредитів'!A:AB,14,FALSE),\"\")","v":""}]
[null,{"$f":"IFERROR(#REF!,\"\")","v":""},{"$f":"IFERROR(VLOOKUP(A158,'1.Портфель кредитів'!A:AB,3,FALSE),\"\")","v":""},{"$f":"IFERROR(VLOOKUP(A158,'1.Портфель кредитів'!A:AB,14,FALSE),\"\")","v":""}]
[null,{"$f":"IFERROR(#REF!,\"\")","v":""},{"$f":"IFERROR(VLOOKUP(A159,'1.Портфель кредитів'!A:AB,3,FALSE),\"\")","v":""},{"$f":"IFERROR(VLOOKUP(A159,'1.Портфель кредитів'!A:AB,14,FALSE),\"\")","v":""}]
[null,{"$f":"IFERROR(#REF!,\"\")","v":""},{"$f":"IFERROR(VLOOKUP(A160,'1.Портфель кредитів'!A:AB,3,FALSE),\"\")","v":""},{"$f":"IFERROR(VLOOKUP(A160,'1.Портфель кредитів'!A:AB,14,FALSE),\"\")","v":""}]
[null,{"$f":"IFERROR(#REF!,\"\")","v":""},{"$f":"IFERROR(VLOOKUP(A161,'1.Портфель кредитів'!A:AB,3,FALSE),\"\")","v":""},{"$f":"IFERROR(VLOOKUP(A161,'1.Портфель кредитів'!A:AB,14,FALSE),\"\")","v":""}]
[null,{"$f":"IFERROR(#REF!,\"\")","v":""},{"$f":"IFERROR(VLOOKUP(A162,'1.Портфель кредитів'!A:AB,3,FALSE),\"\")","v":""},{"$f":"IFERROR(VLOOKUP(A162,'1.Портфель кредитів'!A:AB,14,FALSE),\"\")","v":""}]
[null,{"$f":"IFERROR(#REF!,\"\")","v":""},{"$f":"IFERROR(VLOOKUP(A163,'1.Портфель кредитів'!A:AB,3,FALSE),\"\")","v":""},{"$f":"IFERROR(VLOOKUP(A163,'1.Портфель кредитів'!A:AB,14,FALSE),\"\")","v":""}]
[null,{"$f":"IFERROR(#REF!,\"\")","v":""},{"$f":"IFERROR(VLOOKUP(A164,'1.Портфель кредитів'!A:AB,3,FALSE),\"\")","v":""},{"$f":"IFERROR(VLOOKUP(A164,'1.Портфель кредитів'!A:AB,14,FALSE),\"\")","v":""}]
[null,{"$f":"IFERROR(#REF!,\"\")","v":""},{"$f":"IFERROR(VLOOKUP(A165,'1.Портфель кредитів'!A:AB,3,FALSE),\"\")","v":""},{"$f":"IFERROR(VLOOKUP(A165,'1.Портфель кредитів'!A:AB,14,FALSE),\"\")","v":""}]
[null,{"$f":"IFERROR(#REF!,\"\")","v":""},{"$f":"IFERROR(VLOOKUP(A166,'1.Портфель кредитів'!A:AB,3,FALSE),\"\")","v":""},{"$f":"IFERROR(VLOOKUP(A166,'1.Портфель кредитів'!A:AB,14,FALSE),\"\")","v":""}]
[null,{"$f":"IFERROR(#REF!,\"\")","v":""},{"$f":"IFERROR(VLOOKUP(A167,'1.Портфель кредитів'!A:AB,3,FALSE),\"\")","v":""},{"$f":"IFERROR(VLOOKUP(A167,'1.Портфель кредитів'!A:AB,14,FALSE),\"\")","v":""}]
[null,{"$f":"IFERROR(#REF!,\"\")","v":""},{"$f":"IFERROR(VLOOKUP(A168,'1.Портфель кредитів'!A:AB,3,FALSE),\"\")","v":""},{"$f":"IFERROR(VLOOKUP(A168,'1.Портфель кредитів'!A:AB,14,FALSE),\"\")","v":""}]
[null,{"$f":"IFERROR(#REF!,\"\")","v":""},{"$f":"IFERROR(VLOOKUP(A169,'1.Портфель кредитів'!A:AB,3,FALSE),\"\")","v":""},{"$f":"IFERROR(VLOOKUP(A169,'1.Портфель кредитів'!A:AB,14,FALSE),\"\")","v":""}]
[null,{"$f":"IFERROR(#REF!,\"\")","v":""},{"$f":"IFERROR(VLOOKUP(A170,'1.Портфель кредитів'!A:AB,3,FALSE),\"\")","v":""},{"$f":"IFERROR(VLOOKUP(A170,'1.Портфель кредитів'!A:AB,14,FALSE),\"\")","v":""}]
[null,{"$f":"IFERROR(#REF!,\"\")","v":""},{"$f":"IFERROR(VLOOKUP(A171,'1.Портфель кредитів'!A:AB,3,FALSE),\"\")","v":""},{"$f":"IFERROR(VLOOKUP(A171,'1.Портфель кредитів'!A:AB,14,FALSE),\"\")","v":""}]
[null,{"$f":"IFERROR(#REF!,\"\")","v":""},{"$f":"IFERROR(VLOOKUP(A172,'1.Портфель кредитів'!A:AB,3,FALSE),\"\")","v":""},{"$f":"IFERROR(VLOOKUP(A172,'1.Портфель кредитів'!A:AB,14,FALSE),\"\")","v":""}]
[null,{"$f":"IFERROR(#REF!,\"\")","v":""},{"$f":"IFERROR(VLOOKUP(A173,'1.Портфель кредитів'!A:AB,3,FALSE),\"\")","v":""},{"$f":"IFERROR(VLOOKUP(A173,'1.Портфель кредитів'!A:AB,14,FALSE),\"\")","v":""}]
[null,{"$f":"IFERROR(#REF!,\"\")","v":""},{"$f":"IFERROR(VLOOKUP(A174,'1.Портфель кредитів'!A:AB,3,FALSE),\"\")","v":""},{"$f":"IFERROR(VLOOKUP(A174,'1.Портфель кредитів'!A:AB,14,FALSE),\"\")","v":""}]
[null,{"$f":"IFERROR(#REF!,\"\")","v":""},{"$f":"IFERROR(VLOOKUP(A175,'1.Портфель кредитів'!A:AB,3,FALSE),\"\")","v":""},{"$f":"IFERROR(VLOOKUP(A175,'1.Портфель кредитів'!A:AB,14,FALSE),\"\")","v":""}]
[null,{"$f":"IFERROR(#REF!,\"\")","v":""},{"$f":"IFERROR(VLOOKUP(A176,'1.Портфель кредитів'!A:AB,3,FALSE),\"\")","v":""},{"$f":"IFERROR(VLOOKUP(A176,'1.Портфель кредитів'!A:AB,14,FALSE),\"\")","v":""}]
[null,{"$f":"IFERROR(#REF!,\"\")","v":""},{"$f":"IFERROR(VLOOKUP(A177,'1.Портфель кредитів'!A:AB,3,FALSE),\"\")","v":""},{"$f":"IFERROR(VLOOKUP(A177,'1.Портфель кредитів'!A:AB,14,FALSE),\"\")","v":""}]
[null,{"$f":"IFERROR(#REF!,\"\")","v":""},{"$f":"IFERROR(VLOOKUP(A178,'1.Портфель кредитів'!A:AB,3,FALSE),\"\")","v":""},{"$f":"IFERROR(VLOOKUP(A178,'1.Портфель кредитів'!A:AB,14,FALSE),\"\")","v":""}]
[null,{"$f":"IFERROR(#REF!,\"\")","v":""},{"$f":"IFERROR(VLOOKUP(A179,'1.Портфель кредитів'!A:AB,3,FALSE),\"\")","v":""},{"$f":"IFERROR(VLOOKUP(A179,'1.Портфель кредитів'!A:AB,14,FALSE),\"\")","v":""}]
[null,{"$f":"IFERROR(#REF!,\"\")","v":""},{"$f":"IFERROR(VLOOKUP(A180,'1.Портфель кредитів'!A:AB,3,FALSE),\"\")","v":""},{"$f":"IFERROR(VLOOKUP(A180,'1.Портфель кредитів'!A:AB,14,FALSE),\"\")","v":""}]
[null,{"$f":"IFERROR(#REF!,\"\")","v":""},{"$f":"IFERROR(VLOOKUP(A181,'1.Портфель кредитів'!A:AB,3,FALSE),\"\")","v":""},{"$f":"IFERROR(VLOOKUP(A181,'1.Портфель кредитів'!A:AB,14,FALSE),\"\")","v":""}]
[null,{"$f":"IFERROR(#REF!,\"\")","v":""},{"$f":"IFERROR(VLOOKUP(A182,'1.Портфель кредитів'!A:AB,3,FALSE),\"\")","v":""},{"$f":"IFERROR(VLOOKUP(A182,'1.Портфель кредитів'!A:AB,14,FALSE),\"\")","v":""}]
[null,{"$f":"IFERROR(#REF!,\"\")","v":""},{"$f":"IFERROR(VLOOKUP(A183,'1.Портфель кредитів'!A:AB,3,FALSE),\"\")","v":""},{"$f":"IFERROR(VLOOKUP(A183,'1.Портфель кредитів'!A:AB,14,FALSE),\"\")","v":""}]
[null,{"$f":"IFERROR(#REF!,\"\")","v":""},{"$f":"IFERROR(VLOOKUP(A184,'1.Портфель кредитів'!A:AB,3,FALSE),\"\")","v":""},{"$f":"IFERROR(VLOOKUP(A184,'1.Портфель кредитів'!A:AB,14,FALSE),\"\")","v":""}]
[null,{"$f":"IFERROR(#REF!,\"\")","v":""},{"$f":"IFERROR(VLOOKUP(A185,'1.Портфель кредитів'!A:AB,3,FALSE),\"\")","v":""},{"$f":"IFERROR(VLOOKUP(A185,'1.Портфель кредитів'!A:AB,14,FALSE),\"\")","v":""}]
[null,{"$f":"IFERROR(#REF!,\"\")","v":""},{"$f":"IFERROR(VLOOKUP(A186,'1.Портфель кредитів'!A:AB,3,FALSE),\"\")","v":""},{"$f":"IFERROR(VLOOKUP(A186,'1.Портфель кредитів'!A:AB,14,FALSE),\"\")","v":""}]
[null,{"$f":"IFERROR(#REF!,\"\")","v":""},{"$f":"IFERROR(VLOOKUP(A187,'1.Портфель кредитів'!A:AB,3,FALSE),\"\")","v":""},{"$f":"IFERROR(VLOOKUP(A187,'1.Портфель кредитів'!A:AB,14,FALSE),\"\")","v":""}]
[null,{"$f":"IFERROR(#REF!,\"\")","v":""},{"$f":"IFERROR(VLOOKUP(A188,'1.Портфель кредитів'!A:AB,3,FALSE),\"\")","v":""},{"$f":"IFERROR(VLOOKUP(A188,'1.Портфель кредитів'!A:AB,14,FALSE),\"\")","v":""}]
[null,{"$f":"IFERROR(#REF!,\"\")","v":""},{"$f":"IFERROR(VLOOKUP(A189,'1.Портфель кредитів'!A:AB,3,FALSE),\"\")","v":""},{"$f":"IFERROR(VLOOKUP(A189,'1.Портфель кредитів'!A:AB,14,FALSE),\"\")","v":""}]
[null,{"$f":"IFERROR(#REF!,\"\")","v":""},{"$f":"IFERROR(VLOOKUP(A190,'1.Портфель кредитів'!A:AB,3,FALSE),\"\")","v":""},{"$f":"IFERROR(VLOOKUP(A190,'1.Портфель кредитів'!A:AB,14,FALSE),\"\")","v":""}]
[null,{"$f":"IFERROR(#REF!,\"\")","v":""},{"$f":"IFERROR(VLOOKUP(A191,'1.Портфель кредитів'!A:AB,3,FALSE),\"\")","v":""},{"$f":"IFERROR(VLOOKUP(A191,'1.Портфель кредитів'!A:AB,14,FALSE),\"\")","v":""}]
[null,{"$f":"IFERROR(#REF!,\"\")","v":""},{"$f":"IFERROR(VLOOKUP(A192,'1.Портфель кредитів'!A:AB,3,FALSE),\"\")","v":""},{"$f":"IFERROR(VLOOKUP(A192,'1.Портфель кредитів'!A:AB,14,FALSE),\"\")","v":""}]
[null,{"$f":"IFERROR(#REF!,\"\")","v":""},{"$f":"IFERROR(VLOOKUP(A193,'1.Портфель кредитів'!A:AB,3,FALSE),\"\")","v":""},{"$f":"IFERROR(VLOOKUP(A193,'1.Портфель кредитів'!A:AB,14,FALSE),\"\")","v":""}]
[null,{"$f":"IFERROR(#REF!,\"\")","v":""},{"$f":"IFERROR(VLOOKUP(A194,'1.Портфель кредитів'!A:AB,3,FALSE),\"\")","v":""},{"$f":"IFERROR(VLOOKUP(A194,'1.Портфель кредитів'!A:AB,14,FALSE),\"\")","v":""}]
[null,{"$f":"IFERROR(#REF!,\"\")","v":""},{"$f":"IFERROR(VLOOKUP(A195,'1.Портфель кредитів'!A:AB,3,FALSE),\"\")","v":""},{"$f":"IFERROR(VLOOKUP(A195,'1.Портфель кредитів'!A:AB,14,FALSE),\"\")","v":""}]
[null,{"$f":"IFERROR(#REF!,\"\")","v":""},{"$f":"IFERROR(VLOOKUP(A196,'1.Портфель кредитів'!A:AB,3,FALSE),\"\")","v":""},{"$f":"IFERROR(VLOOKUP(A196,'1.Портфель кредитів'!A:AB,14,FALSE),\"\")","v":""}]
[null,{"$f":"IFERROR(#REF!,\"\")","v":""},{"$f":"IFERROR(VLOOKUP(A197,'1.Портфель кредитів'!A:AB,3,FALSE),\"\")","v":""},{"$f":"IFERROR(VLOOKUP(A197,'1.Портфель кредитів'!A:AB,14,FALSE),\"\")","v":""}]
[null,{"$f":"IFERROR(#REF!,\"\")","v":""},{"$f":"IFERROR(VLOOKUP(A198,'1.Портфель кредитів'!A:AB,3,FALSE),\"\")","v":""},{"$f":"IFERROR(VLOOKUP(A198,'1.Портфель кредитів'!A:AB,14,FALSE),\"\")","v":""}]
[null,{"$f":"IFERROR(#REF!,\"\")","v":""},{"$f":"IFERROR(VLOOKUP(A199,'1.Портфель кредитів'!A:AB,3,FALSE),\"\")","v":""},{"$f":"IFERROR(VLOOKUP(A199,'1.Портфель кредитів'!A:AB,14,FALSE),\"\")","v":""}]
[null,{"$f":"IFERROR(#REF!,\"\")","v":""},{"$f":"IFERROR(VLOOKUP(A200,'1.Портфель кредитів'!A:AB,3,FALSE),\"\")","v":""},{"$f":"IFERROR(VLOOKUP(A200,'1.Портфель кредитів'!A:AB,14,FALSE),\"\")","v":""}]
[null,{"$f":"IFERROR(#REF!,\"\")","v":""},{"$f":"IFERROR(VLOOKUP(A201,'1.Портфель кредитів'!A:AB,3,FALSE),\"\")","v":""},{"$f":"IFERROR(VLOOKUP(A201,'1.Портфель кредитів'!A:AB,14,FALSE),\"\")","v":""}]
[null,{"$f":"IFERROR(#REF!,\"\")","v":""},{"$f":"IFERROR(VLOOKUP(A202,'1.Портфель кредитів'!A:AB,3,FALSE),\"\")","v":""},{"$f":"IFERROR(VLOOKUP(A202,'1.Портфель кредитів'!A:AB,14,FALSE),\"\")","v":""}]
[null,{"$f":"IFERROR(#REF!,\"\")","v":""},{"$f":"IFERROR(VLOOKUP(A203,'1.Портфель кредитів'!A:AB,3,FALSE),\"\")","v":""},{"$f":"IFERROR(VLOOKUP(A203,'1.Портфель кредитів'!A:AB,14,FALSE),\"\")","v":""}]
[null,{"$f":"IFERROR(#REF!,\"\")","v":""},{"$f":"IFERROR(VLOOKUP(A204,'1.Портфель кредитів'!A:AB,3,FALSE),\"\")","v":""},{"$f":"IFERROR(VLOOKUP(A204,'1.Портфель кредитів'!A:AB,14,FALSE),\"\")","v":""}]
[null,{"$f":"IFERROR(#REF!,\"\")","v":""},{"$f":"IFERROR(VLOOKUP(A205,'1.Портфель кредитів'!A:AB,3,FALSE),\"\")","v":""},{"$f":"IFERROR(VLOOKUP(A205,'1.Портфель кредитів'!A:AB,14,FALSE),\"\")","v":""}]
[null,{"$f":"IFERROR(#REF!,\"\")","v":""},{"$f":"IFERROR(VLOOKUP(A206,'1.Портфель кредитів'!A:AB,3,FALSE),\"\")","v":""},{"$f":"IFERROR(VLOOKUP(A206,'1.Портфель кредитів'!A:AB,14,FALSE),\"\")","v":""}]
[null,{"$f":"IFERROR(#REF!,\"\")","v":""},{"$f":"IFERROR(VLOOKUP(A207,'1.Портфель кредитів'!A:AB,3,FALSE),\"\")","v":""},{"$f":"IFERROR(VLOOKUP(A207,'1.Портфель кредитів'!A:AB,14,FALSE),\"\")","v":""}]
[null,{"$f":"IFERROR(#REF!,\"\")","v":""},{"$f":"IFERROR(VLOOKUP(A208,'1.Портфель кредитів'!A:AB,3,FALSE),\"\")","v":""},{"$f":"IFERROR(VLOOKUP(A208,'1.Портфель кредитів'!A:AB,14,FALSE),\"\")","v":""}]
[null,{"$f":"IFERROR(#REF!,\"\")","v":""},{"$f":"IFERROR(VLOOKUP(A209,'1.Портфель кредитів'!A:AB,3,FALSE),\"\")","v":""},{"$f":"IFERROR(VLOOKUP(A209,'1.Портфель кредитів'!A:AB,14,FALSE),\"\")","v":""}]
[null,{"$f":"IFERROR(#REF!,\"\")","v":""},{"$f":"IFERROR(VLOOKUP(A210,'1.Портфель кредитів'!A:AB,3,FALSE),\"\")","v":""},{"$f":"IFERROR(VLOOKUP(A210,'1.Портфель кредитів'!A:AB,14,FALSE),\"\")","v":""}]
[null,{"$f":"IFERROR(#REF!,\"\")","v":""},{"$f":"IFERROR(VLOOKUP(A211,'1.Портфель кредитів'!A:AB,3,FALSE),\"\")","v":""},{"$f":"IFERROR(VLOOKUP(A211,'1.Портфель кредитів'!A:AB,14,FALSE),\"\")","v":""}]
[null,{"$f":"IFERROR(#REF!,\"\")","v":""},{"$f":"IFERROR(VLOOKUP(A212,'1.Портфель кредитів'!A:AB,3,FALSE),\"\")","v":""},{"$f":"IFERROR(VLOOKUP(A212,'1.Портфель кредитів'!A:AB,14,FALSE),\"\")","v":""}]
[null,{"$f":"IFERROR(#REF!,\"\")","v":""},{"$f":"IFERROR(VLOOKUP(A213,'1.Портфель кредитів'!A:AB,3,FALSE),\"\")","v":""},{"$f":"IFERROR(VLOOKUP(A213,'1.Портфель кредитів'!A:AB,14,FALSE),\"\")","v":""}]
[null,{"$f":"IFERROR(#REF!,\"\")","v":""},{"$f":"IFERROR(VLOOKUP(A214,'1.Портфель кредитів'!A:AB,3,FALSE),\"\")","v":""},{"$f":"IFERROR(VLOOKUP(A214,'1.Портфель кредитів'!A:AB,14,FALSE),\"\")","v":""}]
[null,{"$f":"IFERROR(#REF!,\"\")","v":""},{"$f":"IFERROR(VLOOKUP(A215,'1.Портфель кредитів'!A:AB,3,FALSE),\"\")","v":""},{"$f":"IFERROR(VLOOKUP(A215,'1.Портфель кредитів'!A:AB,14,FALSE),\"\")","v":""}]
[null,{"$f":"IFERROR(#REF!,\"\")","v":""},{"$f":"IFERROR(VLOOKUP(A216,'1.Портфель кредитів'!A:AB,3,FALSE),\"\")","v":""},{"$f":"IFERROR(VLOOKUP(A216,'1.Портфель кредитів'!A:AB,14,FALSE),\"\")","v":""}]
[null,{"$f":"IFERROR(#REF!,\"\")","v":""},{"$f":"IFERROR(VLOOKUP(A217,'1.Портфель кредитів'!A:AB,3,FALSE),\"\")","v":""},{"$f":"IFERROR(VLOOKUP(A217,'1.Портфель кредитів'!A:AB,14,FALSE),\"\")","v":""}]
[null,{"$f":"IFERROR(#REF!,\"\")","v":""},{"$f":"IFERROR(VLOOKUP(A218,'1.Портфель кредитів'!A:AB,3,FALSE),\"\")","v":""},{"$f":"IFERROR(VLOOKUP(A218,'1.Портфель кредитів'!A:AB,14,FALSE),\"\")","v":""}]
[null,{"$f":"IFERROR(#REF!,\"\")","v":""},{"$f":"IFERROR(VLOOKUP(A219,'1.Портфель кредитів'!A:AB,3,FALSE),\"\")","v":""},{"$f":"IFERROR(VLOOKUP(A219,'1.Портфель кредитів'!A:AB,14,FALSE),\"\")","v":""}]
[null,{"$f":"IFERROR(#REF!,\"\")","v":""},{"$f":"IFERROR(VLOOKUP(A220,'1.Портфель кредитів'!A:AB,3,FALSE),\"\")","v":""},{"$f":"IFERROR(VLOOKUP(A220,'1.Портфель кредитів'!A:AB,14,FALSE),\"\")","v":""}]
[null,{"$f":"IFERROR(#REF!,\"\")","v":""},{"$f":"IFERROR(VLOOKUP(A221,'1.Портфель кредитів'!A:AB,3,FALSE),\"\")","v":""},{"$f":"IFERROR(VLOOKUP(A221,'1.Портфель кредитів'!A:AB,14,FALSE),\"\")","v":""}]
[null,{"$f":"IFERROR(#REF!,\"\")","v":""},{"$f":"IFERROR(VLOOKUP(A222,'1.Портфель кредитів'!A:AB,3,FALSE),\"\")","v":""},{"$f":"IFERROR(VLOOKUP(A222,'1.Портфель кредитів'!A:AB,14,FALSE),\"\")","v":""}]
[null,{"$f":"IFERROR(#REF!,\"\")","v":""},{"$f":"IFERROR(VLOOKUP(A223,'1.Портфель кредитів'!A:AB,3,FALSE),\"\")","v":""},{"$f":"IFERROR(VLOOKUP(A223,'1.Портфель кредитів'!A:AB,14,FALSE),\"\")","v":""}]
[null,{"$f":"IFERROR(#REF!,\"\")","v":""},{"$f":"IFERROR(VLOOKUP(A224,'1.Портфель кредитів'!A:AB,3,FALSE),\"\")","v":""},{"$f":"IFERROR(VLOOKUP(A224,'1.Портфель кредитів'!A:AB,14,FALSE),\"\")","v":""}]
[null,{"$f":"IFERROR(#REF!,\"\")","v":""},{"$f":"IFERROR(VLOOKUP(A225,'1.Портфель кредитів'!A:AB,3,FALSE),\"\")","v":""},{"$f":"IFERROR(VLOOKUP(A225,'1.Портфель кредитів'!A:AB,14,FALSE),\"\")","v":""}]
[null,{"$f":"IFERROR(#REF!,\"\")","v":""},{"$f":"IFERROR(VLOOKUP(A226,'1.Портфель кредитів'!A:AB,3,FALSE),\"\")","v":""},{"$f":"IFERROR(VLOOKUP(A226,'1.Портфель кредитів'!A:AB,14,FALSE),\"\")","v":""}]
[null,{"$f":"IFERROR(#REF!,\"\")","v":""},{"$f":"IFERROR(VLOOKUP(A227,'1.Портфель кредитів'!A:AB,3,FALSE),\"\")","v":""},{"$f":"IFERROR(VLOOKUP(A227,'1.Портфель кредитів'!A:AB,14,FALSE),\"\")","v":""}]
[null,{"$f":"IFERROR(#REF!,\"\")","v":""},{"$f":"IFERROR(VLOOKUP(A228,'1.Портфель кредитів'!A:AB,3,FALSE),\"\")","v":""},{"$f":"IFERROR(VLOOKUP(A228,'1.Портфель кредитів'!A:AB,14,FALSE),\"\")","v":""}]
[null,{"$f":"IFERROR(#REF!,\"\")","v":""},{"$f":"IFERROR(VLOOKUP(A229,'1.Портфель кредитів'!A:AB,3,FALSE),\"\")","v":""},{"$f":"IFERROR(VLOOKUP(A229,'1.Портфель кредитів'!A:AB,14,FALSE),\"\")","v":""}]
[null,{"$f":"IFERROR(#REF!,\"\")","v":""},{"$f":"IFERROR(VLOOKUP(A230,'1.Портфель кредитів'!A:AB,3,FALSE),\"\")","v":""},{"$f":"IFERROR(VLOOKUP(A230,'1.Портфель кредитів'!A:AB,14,FALSE),\"\")","v":""}]
[null,{"$f":"IFERROR(#REF!,\"\")","v":""},{"$f":"IFERROR(VLOOKUP(A231,'1.Портфель кредитів'!A:AB,3,FALSE),\"\")","v":""},{"$f":"IFERROR(VLOOKUP(A231,'1.Портфель кредитів'!A:AB,14,FALSE),\"\")","v":""}]
[null,{"$f":"IFERROR(#REF!,\"\")","v":""},{"$f":"IFERROR(VLOOKUP(A232,'1.Портфель кредитів'!A:AB,3,FALSE),\"\")","v":""},{"$f":"IFERROR(VLOOKUP(A232,'1.Портфель кредитів'!A:AB,14,FALSE),\"\")","v":""}]
[null,{"$f":"IFERROR(#REF!,\"\")","v":""},{"$f":"IFERROR(VLOOKUP(A233,'1.Портфель кредитів'!A:AB,3,FALSE),\"\")","v":""},{"$f":"IFERROR(VLOOKUP(A233,'1.Портфель кредитів'!A:AB,14,FALSE),\"\")","v":""}]
[null,{"$f":"IFERROR(#REF!,\"\")","v":""},{"$f":"IFERROR(VLOOKUP(A234,'1.Портфель кредитів'!A:AB,3,FALSE),\"\")","v":""},{"$f":"IFERROR(VLOOKUP(A234,'1.Портфель кредитів'!A:AB,14,FALSE),\"\")","v":""}]
[null,{"$f":"IFERROR(#REF!,\"\")","v":""},{"$f":"IFERROR(VLOOKUP(A235,'1.Портфель кредитів'!A:AB,3,FALSE),\"\")","v":""},{"$f":"IFERROR(VLOOKUP(A235,'1.Портфель кредитів'!A:AB,14,FALSE),\"\")","v":""}]
[null,{"$f":"IFERROR(#REF!,\"\")","v":""},{"$f":"IFERROR(VLOOKUP(A236,'1.Портфель кредитів'!A:AB,3,FALSE),\"\")","v":""},{"$f":"IFERROR(VLOOKUP(A236,'1.Портфель кредитів'!A:AB,14,FALSE),\"\")","v":""}]
[null,{"$f":"IFERROR(#REF!,\"\")","v":""},{"$f":"IFERROR(VLOOKUP(A237,'1.Портфель кредитів'!A:AB,3,FALSE),\"\")","v":""},{"$f":"IFERROR(VLOOKUP(A237,'1.Портфель кредитів'!A:AB,14,FALSE),\"\")","v":""}]
[null,{"$f":"IFERROR(#REF!,\"\")","v":""},{"$f":"IFERROR(VLOOKUP(A238,'1.Портфель кредитів'!A:AB,3,FALSE),\"\")","v":""},{"$f":"IFERROR(VLOOKUP(A238,'1.Портфель кредитів'!A:AB,14,FALSE),\"\")","v":""}]
[null,{"$f":"IFERROR(#REF!,\"\")","v":""},{"$f":"IFERROR(VLOOKUP(A239,'1.Портфель кредитів'!A:AB,3,FALSE),\"\")","v":""},{"$f":"IFERROR(VLOOKUP(A239,'1.Портфель кредитів'!A:AB,14,FALSE),\"\")","v":""}]
[null,{"$f":"IFERROR(#REF!,\"\")","v":""},{"$f":"IFERROR(VLOOKUP(A240,'1.Портфель кредитів'!A:AB,3,FALSE),\"\")","v":""},{"$f":"IFERROR(VLOOKUP(A240,'1.Портфель кредитів'!A:AB,14,FALSE),\"\")","v":""}]
[null,{"$f":"IFERROR(#REF!,\"\")","v":""},{"$f":"IFERROR(VLOOKUP(A241,'1.Портфель кредитів'!A:AB,3,FALSE),\"\")","v":""},{"$f":"IFERROR(VLOOKUP(A241,'1.Портфель кредитів'!A:AB,14,FALSE),\"\")","v":""}]
[null,{"$f":"IFERROR(#REF!,\"\")","v":""},{"$f":"IFERROR(VLOOKUP(A242,'1.Портфель кредитів'!A:AB,3,FALSE),\"\")","v":""},{"$f":"IFERROR(VLOOKUP(A242,'1.Портфель кредитів'!A:AB,14,FALSE),\"\")","v":""}]
[null,{"$f":"IFERROR(#REF!,\"\")","v":""},{"$f":"IFERROR(VLOOKUP(A243,'1.Портфель кредитів'!A:AB,3,FALSE),\"\")","v":""},{"$f":"IFERROR(VLOOKUP(A243,'1.Портфель кредитів'!A:AB,14,FALSE),\"\")","v":""}]
[null,{"$f":"IFERROR(#REF!,\"\")","v":""},{"$f":"IFERROR(VLOOKUP(A244,'1.Портфель кредитів'!A:AB,3,FALSE),\"\")","v":""},{"$f":"IFERROR(VLOOKUP(A244,'1.Портфель кредитів'!A:AB,14,FALSE),\"\")","v":""}]
[null,{"$f":"IFERROR(#REF!,\"\")","v":""},{"$f":"IFERROR(VLOOKUP(A245,'1.Портфель кредитів'!A:AB,3,FALSE),\"\")","v":""},{"$f":"IFERROR(VLOOKUP(A245,'1.Портфель кредитів'!A:AB,14,FALSE),\"\")","v":""}]
[null,{"$f":"IFERROR(#REF!,\"\")","v":""},{"$f":"IFERROR(VLOOKUP(A246,'1.Портфель кредитів'!A:AB,3,FALSE),\"\")","v":""},{"$f":"IFERROR(VLOOKUP(A246,'1.Портфель кредитів'!A:AB,14,FALSE),\"\")","v":""}]
[null,{"$f":"IFERROR(#REF!,\"\")","v":""},{"$f":"IFERROR(VLOOKUP(A247,'1.Портфель кредитів'!A:AB,3,FALSE),\"\")","v":""},{"$f":"IFERROR(VLOOKUP(A247,'1.Портфель кредитів'!A:AB,14,FALSE),\"\")","v":""}]
[null,{"$f":"IFERROR(#REF!,\"\")","v":""},{"$f":"IFERROR(VLOOKUP(A248,'1.Портфель кредитів'!A:AB,3,FALSE),\"\")","v":""},{"$f":"IFERROR(VLOOKUP(A248,'1.Портфель кредитів'!A:AB,14,FALSE),\"\")","v":""}]
[null,{"$f":"IFERROR(#REF!,\"\")","v":""},{"$f":"IFERROR(VLOOKUP(A249,'1.Портфель кредитів'!A:AB,3,FALSE),\"\")","v":""},{"$f":"IFERROR(VLOOKUP(A249,'1.Портфель кредитів'!A:AB,14,FALSE),\"\")","v":""}]
[null,{"$f":"IFERROR(#REF!,\"\")","v":""},{"$f":"IFERROR(VLOOKUP(A250,'1.Портфель кредитів'!A:AB,3,FALSE),\"\")","v":""},{"$f":"IFERROR(VLOOKUP(A250,'1.Портфель кредитів'!A:AB,14,FALSE),\"\")","v":""}]
[null,{"$f":"IFERROR(#REF!,\"\")","v":""},{"$f":"IFERROR(VLOOKUP(A251,'1.Портфель кредитів'!A:AB,3,FALSE),\"\")","v":""},{"$f":"IFERROR(VLOOKUP(A251,'1.Портфель кредитів'!A:AB,14,FALSE),\"\")","v":""}]
[null,{"$f":"IFERROR(#REF!,\"\")","v":""},{"$f":"IFERROR(VLOOKUP(A252,'1.Портфель кредитів'!A:AB,3,FALSE),\"\")","v":""},{"$f":"IFERROR(VLOOKUP(A252,'1.Портфель кредитів'!A:AB,14,FALSE),\"\")","v":""}]
[null,{"$f":"IFERROR(#REF!,\"\")","v":""},{"$f":"IFERROR(VLOOKUP(A253,'1.Портфель кредитів'!A:AB,3,FALSE),\"\")","v":""},{"$f":"IFERROR(VLOOKUP(A253,'1.Портфель кредитів'!A:AB,14,FALSE),\"\")","v":""}]
[null,{"$f":"IFERROR(#REF!,\"\")","v":""},{"$f":"IFERROR(VLOOKUP(A254,'1.Портфель кредитів'!A:AB,3,FALSE),\"\")","v":""},{"$f":"IFERROR(VLOOKUP(A254,'1.Портфель кредитів'!A:AB,14,FALSE),\"\")","v":""}]
[null,{"$f":"IFERROR(#REF!,\"\")","v":""},{"$f":"IFERROR(VLOOKUP(A255,'1.Портфель кредитів'!A:AB,3,FALSE),\"\")","v":""},{"$f":"IFERROR(VLOOKUP(A255,'1.Портфель кредитів'!A:AB,14,FALSE),\"\")","v":""}]
[null,{"$f":"IFERROR(#REF!,\"\")","v":""},{"$f":"IFERROR(VLOOKUP(A256,'1.Портфель кредитів'!A:AB,3,FALSE),\"\")","v":""},{"$f":"IFERROR(VLOOKUP(A256,'1.Портфель кредитів'!A:AB,14,FALSE),\"\")","v":""}]
[null,{"$f":"IFERROR(#REF!,\"\")","v":""},{"$f":"IFERROR(VLOOKUP(A257,'1.Портфель кредитів'!A:AB,3,FALSE),\"\")","v":""},{"$f":"IFERROR(VLOOKUP(A257,'1.Портфель кредитів'!A:AB,14,FALSE),\"\")","v":""}]
[null,{"$f":"IFERROR(#REF!,\"\")","v":""},{"$f":"IFERROR(VLOOKUP(A258,'1.Портфель кредитів'!A:AB,3,FALSE),\"\")","v":""},{"$f":"IFERROR(VLOOKUP(A258,'1.Портфель кредитів'!A:AB,14,FALSE),\"\")","v":""}]
[null,{"$f":"IFERROR(#REF!,\"\")","v":""},{"$f":"IFERROR(VLOOKUP(A259,'1.Портфель кредитів'!A:AB,3,FALSE),\"\")","v":""},{"$f":"IFERROR(VLOOKUP(A259,'1.Портфель кредитів'!A:AB,14,FALSE),\"\")","v":""}]
[null,{"$f":"IFERROR(#REF!,\"\")","v":""},{"$f":"IFERROR(VLOOKUP(A260,'1.Портфель кредитів'!A:AB,3,FALSE),\"\")","v":""},{"$f":"IFERROR(VLOOKUP(A260,'1.Портфель кредитів'!A:AB,14,FALSE),\"\")","v":""}]
[null,{"$f":"IFERROR(#REF!,\"\")","v":""},{"$f":"IFERROR(VLOOKUP(A261,'1.Портфель кредитів'!A:AB,3,FALSE),\"\")","v":""},{"$f":"IFERROR(VLOOKUP(A261,'1.Портфель кредитів'!A:AB,14,FALSE),\"\")","v":""}]
[null,{"$f":"IFERROR(#REF!,\"\")","v":""},{"$f":"IFERROR(VLOOKUP(A262,'1.Портфель кредитів'!A:AB,3,FALSE),\"\")","v":""},{"$f":"IFERROR(VLOOKUP(A262,'1.Портфель кредитів'!A:AB,14,FALSE),\"\")","v":""}]
[null,{"$f":"IFERROR(#REF!,\"\")","v":""},{"$f":"IFERROR(VLOOKUP(A263,'1.Портфель кредитів'!A:AB,3,FALSE),\"\")","v":""},{"$f":"IFERROR(VLOOKUP(A263,'1.Портфель кредитів'!A:AB,14,FALSE),\"\")","v":""}]
[null,{"$f":"IFERROR(#REF!,\"\")","v":""},{"$f":"IFERROR(VLOOKUP(A264,'1.Портфель кредитів'!A:AB,3,FALSE),\"\")","v":""},{"$f":"IFERROR(VLOOKUP(A264,'1.Портфель кредитів'!A:AB,14,FALSE),\"\")","v":""}]
[null,{"$f":"IFERROR(#REF!,\"\")","v":""},{"$f":"IFERROR(VLOOKUP(A265,'1.Портфель кредитів'!A:AB,3,FALSE),\"\")","v":""},{"$f":"IFERROR(VLOOKUP(A265,'1.Портфель кредитів'!A:AB,14,FALSE),\"\")","v":""}]
[null,{"$f":"IFERROR(#REF!,\"\")","v":""},{"$f":"IFERROR(VLOOKUP(A266,'1.Портфель кредитів'!A:AB,3,FALSE),\"\")","v":""},{"$f":"IFERROR(VLOOKUP(A266,'1.Портфель кредитів'!A:AB,14,FALSE),\"\")","v":""}]
[null,{"$f":"IFERROR(#REF!,\"\")","v":""},{"$f":"IFERROR(VLOOKUP(A267,'1.Портфель кредитів'!A:AB,3,FALSE),\"\")","v":""},{"$f":"IFERROR(VLOOKUP(A267,'1.Портфель кредитів'!A:AB,14,FALSE),\"\")","v":""}]
[null,{"$f":"IFERROR(#REF!,\"\")","v":""},{"$f":"IFERROR(VLOOKUP(A268,'1.Портфель кредитів'!A:AB,3,FALSE),\"\")","v":""},{"$f":"IFERROR(VLOOKUP(A268,'1.Портфель кредитів'!A:AB,14,FALSE),\"\")","v":""}]
[null,{"$f":"IFERROR(#REF!,\"\")","v":""},{"$f":"IFERROR(VLOOKUP(A269,'1.Портфель кредитів'!A:AB,3,FALSE),\"\")","v":""},{"$f":"IFERROR(VLOOKUP(A269,'1.Портфель кредитів'!A:AB,14,FALSE),\"\")","v":""}]
[null,{"$f":"IFERROR(#REF!,\"\")","v":""},{"$f":"IFERROR(VLOOKUP(A270,'1.Портфель кредитів'!A:AB,3,FALSE),\"\")","v":""},{"$f":"IFERROR(VLOOKUP(A270,'1.Портфель кредитів'!A:AB,14,FALSE),\"\")","v":""}]
[null,{"$f":"IFERROR(#REF!,\"\")","v":""},{"$f":"IFERROR(VLOOKUP(A271,'1.Портфель кредитів'!A:AB,3,FALSE),\"\")","v":""},{"$f":"IFERROR(VLOOKUP(A271,'1.Портфель кредитів'!A:AB,14,FALSE),\"\")","v":""}]
[null,{"$f":"IFERROR(#REF!,\"\")","v":""},{"$f":"IFERROR(VLOOKUP(A272,'1.Портфель кредитів'!A:AB,3,FALSE),\"\")","v":""},{"$f":"IFERROR(VLOOKUP(A272,'1.Портфель кредитів'!A:AB,14,FALSE),\"\")","v":""}]
[null,{"$f":"IFERROR(#REF!,\"\")","v":""},{"$f":"IFERROR(VLOOKUP(A273,'1.Портфель кредитів'!A:AB,3,FALSE),\"\")","v":""},{"$f":"IFERROR(VLOOKUP(A273,'1.Портфель кредитів'!A:AB,14,FALSE),\"\")","v":""}]
[null,{"$f":"IFERROR(#REF!,\"\")","v":""},{"$f":"IFERROR(VLOOKUP(A274,'1.Портфель кредитів'!A:AB,3,FALSE),\"\")","v":""},{"$f":"IFERROR(VLOOKUP(A274,'1.Портфель кредитів'!A:AB,14,FALSE),\"\")","v":""}]
[null,{"$f":"IFERROR(#REF!,\"\")","v":""},{"$f":"IFERROR(VLOOKUP(A275,'1.Портфель кредитів'!A:AB,3,FALSE),\"\")","v":""},{"$f":"IFERROR(VLOOKUP(A275,'1.Портфель кредитів'!A:AB,14,FALSE),\"\")","v":""}]
[null,{"$f":"IFERROR(#REF!,\"\")","v":""},{"$f":"IFERROR(VLOOKUP(A276,'1.Портфель кредитів'!A:AB,3,FALSE),\"\")","v":""},{"$f":"IFERROR(VLOOKUP(A276,'1.Портфель кредитів'!A:AB,14,FALSE),\"\")","v":""}]
[null,{"$f":"IFERROR(#REF!,\"\")","v":""},{"$f":"IFERROR(VLOOKUP(A277,'1.Портфель кредитів'!A:AB,3,FALSE),\"\")","v":""},{"$f":"IFERROR(VLOOKUP(A277,'1.Портфель кредитів'!A:AB,14,FALSE),\"\")","v":""}]
[null,{"$f":"IFERROR(#REF!,\"\")","v":""},{"$f":"IFERROR(VLOOKUP(A278,'1.Портфель кредитів'!A:AB,3,FALSE),\"\")","v":""},{"$f":"IFERROR(VLOOKUP(A278,'1.Портфель кредитів'!A:AB,14,FALSE),\"\")","v":""}]
[null,{"$f":"IFERROR(#REF!,\"\")","v":""},{"$f":"IFERROR(VLOOKUP(A279,'1.Портфель кредитів'!A:AB,3,FALSE),\"\")","v":""},{"$f":"IFERROR(VLOOKUP(A279,'1.Портфель кредитів'!A:AB,14,FALSE),\"\")","v":""}]
[null,{"$f":"IFERROR(#REF!,\"\")","v":""},{"$f":"IFERROR(VLOOKUP(A280,'1.Портфель кредитів'!A:AB,3,FALSE),\"\")","v":""},{"$f":"IFERROR(VLOOKUP(A280,'1.Портфель кредитів'!A:AB,14,FALSE),\"\")","v":""}]
[null,{"$f":"IFERROR(#REF!,\"\")","v":""},{"$f":"IFERROR(VLOOKUP(A281,'1.Портфель кредитів'!A:AB,3,FALSE),\"\")","v":""},{"$f":"IFERROR(VLOOKUP(A281,'1.Портфель кредитів'!A:AB,14,FALSE),\"\")","v":""}]
[null,{"$f":"IFERROR(#REF!,\"\")","v":""},{"$f":"IFERROR(VLOOKUP(A282,'1.Портфель кредитів'!A:AB,3,FALSE),\"\")","v":""},{"$f":"IFERROR(VLOOKUP(A282,'1.Портфель кредитів'!A:AB,14,FALSE),\"\")","v":""}]
[null,{"$f":"IFERROR(#REF!,\"\")","v":""},{"$f":"IFERROR(VLOOKUP(A283,'1.Портфель кредитів'!A:AB,3,FALSE),\"\")","v":""},{"$f":"IFERROR(VLOOKUP(A283,'1.Портфель кредитів'!A:AB,14,FALSE),\"\")","v":""}]
[null,{"$f":"IFERROR(#REF!,\"\")","v":""},{"$f":"IFERROR(VLOOKUP(A284,'1.Портфель кредитів'!A:AB,3,FALSE),\"\")","v":""},{"$f":"IFERROR(VLOOKUP(A284,'1.Портфель кредитів'!A:AB,14,FALSE),\"\")","v":""}]
[null,{"$f":"IFERROR(#REF!,\"\")","v":""},{"$f":"IFERROR(VLOOKUP(A285,'1.Портфель кредитів'!A:AB,3,FALSE),\"\")","v":""},{"$f":"IFERROR(VLOOKUP(A285,'1.Портфель кредитів'!A:AB,14,FALSE),\"\")","v":""}]
[null,{"$f":"IFERROR(#REF!,\"\")","v":""},{"$f":"IFERROR(VLOOKUP(A286,'1.Портфель кредитів'!A:AB,3,FALSE),\"\")","v":""},{"$f":"IFERROR(VLOOKUP(A286,'1.Портфель кредитів'!A:AB,14,FALSE),\"\")","v":""}]
[null,{"$f":"IFERROR(#REF!,\"\")","v":""},{"$f":"IFERROR(VLOOKUP(A287,'1.Портфель кредитів'!A:AB,3,FALSE),\"\")","v":""},{"$f":"IFERROR(VLOOKUP(A287,'1.Портфель кредитів'!A:AB,14,FALSE),\"\")","v":""}]
[null,{"$f":"IFERROR(#REF!,\"\")","v":""},{"$f":"IFERROR(VLOOKUP(A288,'1.Портфель кредитів'!A:AB,3,FALSE),\"\")","v":""},{"$f":"IFERROR(VLOOKUP(A288,'1.Портфель кредитів'!A:AB,14,FALSE),\"\")","v":""}]
[null,{"$f":"IFERROR(#REF!,\"\")","v":""},{"$f":"IFERROR(VLOOKUP(A289,'1.Портфель кредитів'!A:AB,3,FALSE),\"\")","v":""},{"$f":"IFERROR(VLOOKUP(A289,'1.Портфель кредитів'!A:AB,14,FALSE),\"\")","v":""}]
[null,{"$f":"IFERROR(#REF!,\"\")","v":""},{"$f":"IFERROR(VLOOKUP(A290,'1.Портфель кредитів'!A:AB,3,FALSE),\"\")","v":""},{"$f":"IFERROR(VLOOKUP(A290,'1.Портфель кредитів'!A:AB,14,FALSE),\"\")","v":""}]
[null,{"$f":"IFERROR(#REF!,\"\")","v":""},{"$f":"IFERROR(VLOOKUP(A291,'1.Портфель кредитів'!A:AB,3,FALSE),\"\")","v":""},{"$f":"IFERROR(VLOOKUP(A291,'1.Портфель кредитів'!A:AB,14,FALSE),\"\")","v":""}]
[null,{"$f":"IFERROR(#REF!,\"\")","v":""},{"$f":"IFERROR(VLOOKUP(A292,'1.Портфель кредитів'!A:AB,3,FALSE),\"\")","v":""},{"$f":"IFERROR(VLOOKUP(A292,'1.Портфель кредитів'!A:AB,14,FALSE),\"\")","v":""}]
[null,{"$f":"IFERROR(#REF!,\"\")","v":""},{"$f":"IFERROR(VLOOKUP(A293,'1.Портфель кредитів'!A:AB,3,FALSE),\"\")","v":""},{"$f":"IFERROR(VLOOKUP(A293,'1.Портфель кредитів'!A:AB,14,FALSE),\"\")","v":""}]
[null,{"$f":"IFERROR(#REF!,\"\")","v":""},{"$f":"IFERROR(VLOOKUP(A294,'1.Портфель кредитів'!A:AB,3,FALSE),\"\")","v":""},{"$f":"IFERROR(VLOOKUP(A294,'1.Портфель кредитів'!A:AB,14,FALSE),\"\")","v":""}]
[null,{"$f":"IFERROR(#REF!,\"\")","v":""},{"$f":"IFERROR(VLOOKUP(A295,'1.Портфель кредитів'!A:AB,3,FALSE),\"\")","v":""},{"$f":"IFERROR(VLOOKUP(A295,'1.Портфель кредитів'!A:AB,14,FALSE),\"\")","v":""}]
[null,{"$f":"IFERROR(#REF!,\"\")","v":""},{"$f":"IFERROR(VLOOKUP(A296,'1.Портфель кредитів'!A:AB,3,FALSE),\"\")","v":""},{"$f":"IFERROR(VLOOKUP(A296,'1.Портфель кредитів'!A:AB,14,FALSE),\"\")","v":""}]
[null,{"$f":"IFERROR(#REF!,\"\")","v":""},{"$f":"IFERROR(VLOOKUP(A297,'1.Портфель кредитів'!A:AB,3,FALSE),\"\")","v":""},{"$f":"IFERROR(VLOOKUP(A297,'1.Портфель кредитів'!A:AB,14,FALSE),\"\")","v":""}]
[null,{"$f":"IFERROR(#REF!,\"\")","v":""},{"$f":"IFERROR(VLOOKUP(A298,'1.Портфель кредитів'!A:AB,3,FALSE),\"\")","v":""},{"$f":"IFERROR(VLOOKUP(A298,'1.Портфель кредитів'!A:AB,14,FALSE),\"\")","v":""}]
[null,{"$f":"IFERROR(#REF!,\"\")","v":""},{"$f":"IFERROR(VLOOKUP(A299,'1.Портфель кредитів'!A:AB,3,FALSE),\"\")","v":""},{"$f":"IFERROR(VLOOKUP(A299,'1.Портфель кредитів'!A:AB,14,FALSE),\"\")","v":""}]
[null,{"$f":"IFERROR(#REF!,\"\")","v":""},{"$f":"IFERROR(VLOOKUP(A300,'1.Портфель кредитів'!A:AB,3,FALSE),\"\")","v":""},{"$f":"IFERROR(VLOOKUP(A300,'1.Портфель кредитів'!A:AB,14,FALSE),\"\")","v":""}]
[null,{"$f":"IFERROR(#REF!,\"\")","v":""},{"$f":"IFERROR(VLOOKUP(A301,'1.Портфель кредитів'!A:AB,3,FALSE),\"\")","v":""},{"$f":"IFERROR(VLOOKUP(A301,'1.Портфель кредитів'!A:AB,14,FALSE),\"\")","v":""}]
[null,{"$f":"IFERROR(#REF!,\"\")","v":""},{"$f":"IFERROR(VLOOKUP(A302,'1.Портфель кредитів'!A:AB,3,FALSE),\"\")","v":""},{"$f":"IFERROR(VLOOKUP(A302,'1.Портфель кредитів'!A:AB,14,FALSE),\"\")","v":""}]
[null,{"$f":"IFERROR(#REF!,\"\")","v":""},{"$f":"IFERROR(VLOOKUP(A303,'1.Портфель кредитів'!A:AB,3,FALSE),\"\")","v":""},{"$f":"IFERROR(VLOOKUP(A303,'1.Портфель кредитів'!A:AB,14,FALSE),\"\")","v":""}]
[null,{"$f":"IFERROR(#REF!,\"\")","v":""},{"$f":"IFERROR(VLOOKUP(A304,'1.Портфель кредитів'!A:AB,3,FALSE),\"\")","v":""},{"$f":"IFERROR(VLOOKUP(A304,'1.Портфель кредитів'!A:AB,14,FALSE),\"\")","v":""}]
[null,{"$f":"IFERROR(#REF!,\"\")","v":""},{"$f":"IFERROR(VLOOKUP(A305,'1.Портфель кредитів'!A:AB,3,FALSE),\"\")","v":""},{"$f":"IFERROR(VLOOKUP(A305,'1.Портфель кредитів'!A:AB,14,FALSE),\"\")","v":""}]
[null,{"$f":"IFERROR(#REF!,\"\")","v":""},{"$f":"IFERROR(VLOOKUP(A306,'1.Портфель кредитів'!A:AB,3,FALSE),\"\")","v":""},{"$f":"IFERROR(VLOOKUP(A306,'1.Портфель кредитів'!A:AB,14,FALSE),\"\")","v":""}]
[null,{"$f":"IFERROR(#REF!,\"\")","v":""},{"$f":"IFERROR(VLOOKUP(A307,'1.Портфель кредитів'!A:AB,3,FALSE),\"\")","v":""},{"$f":"IFERROR(VLOOKUP(A307,'1.Портфель кредитів'!A:AB,14,FALSE),\"\")","v":""}]
[null,{"$f":"IFERROR(#REF!,\"\")","v":""},{"$f":"IFERROR(VLOOKUP(A308,'1.Портфель кредитів'!A:AB,3,FALSE),\"\")","v":""},{"$f":"IFERROR(VLOOKUP(A308,'1.Портфель кредитів'!A:AB,14,FALSE),\"\")","v":""}]
[null,{"$f":"IFERROR(#REF!,\"\")","v":""},{"$f":"IFERROR(VLOOKUP(A309,'1.Портфель кредитів'!A:AB,3,FALSE),\"\")","v":""},{"$f":"IFERROR(VLOOKUP(A309,'1.Портфель кредитів'!A:AB,14,FALSE),\"\")","v":""}]
[null,{"$f":"IFERROR(#REF!,\"\")","v":""},{"$f":"IFERROR(VLOOKUP(A310,'1.Портфель кредитів'!A:AB,3,FALSE),\"\")","v":""},{"$f":"IFERROR(VLOOKUP(A310,'1.Портфель кредитів'!A:AB,14,FALSE),\"\")","v":""}]
[null,{"$f":"IFERROR(#REF!,\"\")","v":""},{"$f":"IFERROR(VLOOKUP(A311,'1.Портфель кредитів'!A:AB,3,FALSE),\"\")","v":""},{"$f":"IFERROR(VLOOKUP(A311,'1.Портфель кредитів'!A:AB,14,FALSE),\"\")","v":""}]
[null,{"$f":"IFERROR(#REF!,\"\")","v":""},{"$f":"IFERROR(VLOOKUP(A312,'1.Портфель кредитів'!A:AB,3,FALSE),\"\")","v":""},{"$f":"IFERROR(VLOOKUP(A312,'1.Портфель кредитів'!A:AB,14,FALSE),\"\")","v":""}]
[null,{"$f":"IFERROR(#REF!,\"\")","v":""},{"$f":"IFERROR(VLOOKUP(A313,'1.Портфель кредитів'!A:AB,3,FALSE),\"\")","v":""},{"$f":"IFERROR(VLOOKUP(A313,'1.Портфель кредитів'!A:AB,14,FALSE),\"\")","v":""}]
[null,{"$f":"IFERROR(#REF!,\"\")","v":""},{"$f":"IFERROR(VLOOKUP(A314,'1.Портфель кредитів'!A:AB,3,FALSE),\"\")","v":""},{"$f":"IFERROR(VLOOKUP(A314,'1.Портфель кредитів'!A:AB,14,FALSE),\"\")","v":""}]
[null,{"$f":"IFERROR(#REF!,\"\")","v":""},{"$f":"IFERROR(VLOOKUP(A315,'1.Портфель кредитів'!A:AB,3,FALSE),\"\")","v":""},{"$f":"IFERROR(VLOOKUP(A315,'1.Портфель кредитів'!A:AB,14,FALSE),\"\")","v":""}]
[null,{"$f":"IFERROR(#REF!,\"\")","v":""},{"$f":"IFERROR(VLOOKUP(A316,'1.Портфель кредитів'!A:AB,3,FALSE),\"\")","v":""},{"$f":"IFERROR(VLOOKUP(A316,'1.Портфель кредитів'!A:AB,14,FALSE),\"\")","v":""}]
[null,{"$f":"IFERROR(#REF!,\"\")","v":""},{"$f":"IFERROR(VLOOKUP(A317,'1.Портфель кредитів'!A:AB,3,FALSE),\"\")","v":""},{"$f":"IFERROR(VLOOKUP(A317,'1.Портфель кредитів'!A:AB,14,FALSE),\"\")","v":""}]
[null,{"$f":"IFERROR(#REF!,\"\")","v":""},{"$f":"IFERROR(VLOOKUP(A318,'1.Портфель кредитів'!A:AB,3,FALSE),\"\")","v":""},{"$f":"IFERROR(VLOOKUP(A318,'1.Портфель кредитів'!A:AB,14,FALSE),\"\")","v":""}]
[null,{"$f":"IFERROR(#REF!,\"\")","v":""},{"$f":"IFERROR(VLOOKUP(A319,'1.Портфель кредитів'!A:AB,3,FALSE),\"\")","v":""},{"$f":"IFERROR(VLOOKUP(A319,'1.Портфель кредитів'!A:AB,14,FALSE),\"\")","v":""}]
[null,{"$f":"IFERROR(#REF!,\"\")","v":""},{"$f":"IFERROR(VLOOKUP(A320,'1.Портфель кредитів'!A:AB,3,FALSE),\"\")","v":""},{"$f":"IFERROR(VLOOKUP(A320,'1.Портфель кредитів'!A:AB,14,FALSE),\"\")","v":""}]
[null,{"$f":"IFERROR(#REF!,\"\")","v":""},{"$f":"IFERROR(VLOOKUP(A321,'1.Портфель кредитів'!A:AB,3,FALSE),\"\")","v":""},{"$f":"IFERROR(VLOOKUP(A321,'1.Портфель кредитів'!A:AB,14,FALSE),\"\")","v":""}]
[null,{"$f":"IFERROR(#REF!,\"\")","v":""},{"$f":"IFERROR(VLOOKUP(A322,'1.Портфель кредитів'!A:AB,3,FALSE),\"\")","v":""},{"$f":"IFERROR(VLOOKUP(A322,'1.Портфель кредитів'!A:AB,14,FALSE),\"\")","v":""}]
[null,{"$f":"IFERROR(#REF!,\"\")","v":""},{"$f":"IFERROR(VLOOKUP(A323,'1.Портфель кредитів'!A:AB,3,FALSE),\"\")","v":""},{"$f":"IFERROR(VLOOKUP(A323,'1.Портфель кредитів'!A:AB,14,FALSE),\"\")","v":""}]
[null,{"$f":"IFERROR(#REF!,\"\")","v":""},{"$f":"IFERROR(VLOOKUP(A324,'1.Портфель кредитів'!A:AB,3,FALSE),\"\")","v":""},{"$f":"IFERROR(VLOOKUP(A324,'1.Портфель кредитів'!A:AB,14,FALSE),\"\")","v":""}]
[null,{"$f":"IFERROR(#REF!,\"\")","v":""},{"$f":"IFERROR(VLOOKUP(A325,'1.Портфель кредитів'!A:AB,3,FALSE),\"\")","v":""},{"$f":"IFERROR(VLOOKUP(A325,'1.Портфель кредитів'!A:AB,14,FALSE),\"\")","v":""}]
[null,{"$f":"IFERROR(#REF!,\"\")","v":""},{"$f":"IFERROR(VLOOKUP(A326,'1.Портфель кредитів'!A:AB,3,FALSE),\"\")","v":""},{"$f":"IFERROR(VLOOKUP(A326,'1.Портфель кредитів'!A:AB,14,FALSE),\"\")","v":""}]
[null,{"$f":"IFERROR(#REF!,\"\")","v":""},{"$f":"IFERROR(VLOOKUP(A327,'1.Портфель кредитів'!A:AB,3,FALSE),\"\")","v":""},{"$f":"IFERROR(VLOOKUP(A327,'1.Портфель кредитів'!A:AB,14,FALSE),\"\")","v":""}]
[null,{"$f":"IFERROR(#REF!,\"\")","v":""},{"$f":"IFERROR(VLOOKUP(A328,'1.Портфель кредитів'!A:AB,3,FALSE),\"\")","v":""},{"$f":"IFERROR(VLOOKUP(A328,'1.Портфель кредитів'!A:AB,14,FALSE),\"\")","v":""}]
[null,{"$f":"IFERROR(#REF!,\"\")","v":""},{"$f":"IFERROR(VLOOKUP(A329,'1.Портфель кредитів'!A:AB,3,FALSE),\"\")","v":""},{"$f":"IFERROR(VLOOKUP(A329,'1.Портфель кредитів'!A:AB,14,FALSE),\"\")","v":""}]
[null,{"$f":"IFERROR(#REF!,\"\")","v":""},{"$f":"IFERROR(VLOOKUP(A330,'1.Портфель кредитів'!A:AB,3,FALSE),\"\")","v":""},{"$f":"IFERROR(VLOOKUP(A330,'1.Портфель кредитів'!A:AB,14,FALSE),\"\")","v":""}]
[null,{"$f":"IFERROR(#REF!,\"\")","v":""},{"$f":"IFERROR(VLOOKUP(A331,'1.Портфель кредитів'!A:AB,3,FALSE),\"\")","v":""},{"$f":"IFERROR(VLOOKUP(A331,'1.Портфель кредитів'!A:AB,14,FALSE),\"\")","v":""}]
[null,{"$f":"IFERROR(#REF!,\"\")","v":""},{"$f":"IFERROR(VLOOKUP(A332,'1.Портфель кредитів'!A:AB,3,FALSE),\"\")","v":""},{"$f":"IFERROR(VLOOKUP(A332,'1.Портфель кредитів'!A:AB,14,FALSE),\"\")","v":""}]
[null,{"$f":"IFERROR(#REF!,\"\")","v":""},{"$f":"IFERROR(VLOOKUP(A333,'1.Портфель кредитів'!A:AB,3,FALSE),\"\")","v":""},{"$f":"IFERROR(VLOOKUP(A333,'1.Портфель кредитів'!A:AB,14,FALSE),\"\")","v":""}]
[null,{"$f":"IFERROR(#REF!,\"\")","v":""},{"$f":"IFERROR(VLOOKUP(A334,'1.Портфель кредитів'!A:AB,3,FALSE),\"\")","v":""},{"$f":"IFERROR(VLOOKUP(A334,'1.Портфель кредитів'!A:AB,14,FALSE),\"\")","v":""}]
[null,{"$f":"IFERROR(#REF!,\"\")","v":""},{"$f":"IFERROR(VLOOKUP(A335,'1.Портфель кредитів'!A:AB,3,FALSE),\"\")","v":""},{"$f":"IFERROR(VLOOKUP(A335,'1.Портфель кредитів'!A:AB,14,FALSE),\"\")","v":""}]
[null,{"$f":"IFERROR(#REF!,\"\")","v":""},{"$f":"IFERROR(VLOOKUP(A336,'1.Портфель кредитів'!A:AB,3,FALSE),\"\")","v":""},{"$f":"IFERROR(VLOOKUP(A336,'1.Портфель кредитів'!A:AB,14,FALSE),\"\")","v":""}]
[null,{"$f":"IFERROR(#REF!,\"\")","v":""},{"$f":"IFERROR(VLOOKUP(A337,'1.Портфель кредитів'!A:AB,3,FALSE),\"\")","v":""},{"$f":"IFERROR(VLOOKUP(A337,'1.Портфель кредитів'!A:AB,14,FALSE),\"\")","v":""}]
[null,{"$f":"IFERROR(#REF!,\"\")","v":""},{"$f":"IFERROR(VLOOKUP(A338,'1.Портфель кредитів'!A:AB,3,FALSE),\"\")","v":""},{"$f":"IFERROR(VLOOKUP(A338,'1.Портфель кредитів'!A:AB,14,FALSE),\"\")","v":""}]
[null,{"$f":"IFERROR(#REF!,\"\")","v":""},{"$f":"IFERROR(VLOOKUP(A339,'1.Портфель кредитів'!A:AB,3,FALSE),\"\")","v":""},{"$f":"IFERROR(VLOOKUP(A339,'1.Портфель кредитів'!A:AB,14,FALSE),\"\")","v":""}]
[null,{"$f":"IFERROR(#REF!,\"\")","v":""},{"$f":"IFERROR(VLOOKUP(A340,'1.Портфель кредитів'!A:AB,3,FALSE),\"\")","v":""},{"$f":"IFERROR(VLOOKUP(A340,'1.Портфель кредитів'!A:AB,14,FALSE),\"\")","v":""}]
[null,{"$f":"IFERROR(#REF!,\"\")","v":""},{"$f":"IFERROR(VLOOKUP(A341,'1.Портфель кредитів'!A:AB,3,FALSE),\"\")","v":""},{"$f":"IFERROR(VLOOKUP(A341,'1.Портфель кредитів'!A:AB,14,FALSE),\"\")","v":""}]
[null,{"$f":"IFERROR(#REF!,\"\")","v":""},{"$f":"IFERROR(VLOOKUP(A342,'1.Портфель кредитів'!A:AB,3,FALSE),\"\")","v":""},{"$f":"IFERROR(VLOOKUP(A342,'1.Портфель кредитів'!A:AB,14,FALSE),\"\")","v":""}]
[null,{"$f":"IFERROR(#REF!,\"\")","v":""},{"$f":"IFERROR(VLOOKUP(A343,'1.Портфель кредитів'!A:AB,3,FALSE),\"\")","v":""},{"$f":"IFERROR(VLOOKUP(A343,'1.Портфель кредитів'!A:AB,14,FALSE),\"\")","v":""}]
[null,{"$f":"IFERROR(#REF!,\"\")","v":""},{"$f":"IFERROR(VLOOKUP(A344,'1.Портфель кредитів'!A:AB,3,FALSE),\"\")","v":""},{"$f":"IFERROR(VLOOKUP(A344,'1.Портфель кредитів'!A:AB,14,FALSE),\"\")","v":""}]
[null,{"$f":"IFERROR(#REF!,\"\")","v":""},{"$f":"IFERROR(VLOOKUP(A345,'1.Портфель кредитів'!A:AB,3,FALSE),\"\")","v":""},{"$f":"IFERROR(VLOOKUP(A345,'1.Портфель кредитів'!A:AB,14,FALSE),\"\")","v":""}]
[null,{"$f":"IFERROR(#REF!,\"\")","v":""},{"$f":"IFERROR(VLOOKUP(A346,'1.Портфель кредитів'!A:AB,3,FALSE),\"\")","v":""},{"$f":"IFERROR(VLOOKUP(A346,'1.Портфель кредитів'!A:AB,14,FALSE),\"\")","v":""}]
[null,{"$f":"IFERROR(#REF!,\"\")","v":""},{"$f":"IFERROR(VLOOKUP(A347,'1.Портфель кредитів'!A:AB,3,FALSE),\"\")","v":""},{"$f":"IFERROR(VLOOKUP(A347,'1.Портфель кредитів'!A:AB,14,FALSE),\"\")","v":""}]
[null,{"$f":"IFERROR(#REF!,\"\")","v":""},{"$f":"IFERROR(VLOOKUP(A348,'1.Портфель кредитів'!A:AB,3,FALSE),\"\")","v":""},{"$f":"IFERROR(VLOOKUP(A348,'1.Портфель кредитів'!A:AB,14,FALSE),\"\")","v":""}]
[null,{"$f":"IFERROR(#REF!,\"\")","v":""},{"$f":"IFERROR(VLOOKUP(A349,'1.Портфель кредитів'!A:AB,3,FALSE),\"\")","v":""},{"$f":"IFERROR(VLOOKUP(A349,'1.Портфель кредитів'!A:AB,14,FALSE),\"\")","v":""}]
[null,{"$f":"IFERROR(#REF!,\"\")","v":""},{"$f":"IFERROR(VLOOKUP(A350,'1.Портфель кредитів'!A:AB,3,FALSE),\"\")","v":""},{"$f":"IFERROR(VLOOKUP(A350,'1.Портфель кредитів'!A:AB,14,FALSE),\"\")","v":""}]
[null,{"$f":"IFERROR(#REF!,\"\")","v":""},{"$f":"IFERROR(VLOOKUP(A351,'1.Портфель кредитів'!A:AB,3,FALSE),\"\")","v":""},{"$f":"IFERROR(VLOOKUP(A351,'1.Портфель кредитів'!A:AB,14,FALSE),\"\")","v":""}]
[null,{"$f":"IFERROR(#REF!,\"\")","v":""},{"$f":"IFERROR(VLOOKUP(A352,'1.Портфель кредитів'!A:AB,3,FALSE),\"\")","v":""},{"$f":"IFERROR(VLOOKUP(A352,'1.Портфель кредитів'!A:AB,14,FALSE),\"\")","v":""}]
[null,{"$f":"IFERROR(#REF!,\"\")","v":""},{"$f":"IFERROR(VLOOKUP(A353,'1.Портфель кредитів'!A:AB,3,FALSE),\"\")","v":""},{"$f":"IFERROR(VLOOKUP(A353,'1.Портфель кредитів'!A:AB,14,FALSE),\"\")","v":""}]
[null,{"$f":"IFERROR(#REF!,\"\")","v":""},{"$f":"IFERROR(VLOOKUP(A354,'1.Портфель кредитів'!A:AB,3,FALSE),\"\")","v":""},{"$f":"IFERROR(VLOOKUP(A354,'1.Портфель кредитів'!A:AB,14,FALSE),\"\")","v":""}]
[null,{"$f":"IFERROR(#REF!,\"\")","v":""},{"$f":"IFERROR(VLOOKUP(A355,'1.Портфель кредитів'!A:AB,3,FALSE),\"\")","v":""},{"$f":"IFERROR(VLOOKUP(A355,'1.Портфель кредитів'!A:AB,14,FALSE),\"\")","v":""}]
[null,{"$f":"IFERROR(#REF!,\"\")","v":""},{"$f":"IFERROR(VLOOKUP(A356,'1.Портфель кредитів'!A:AB,3,FALSE),\"\")","v":""},{"$f":"IFERROR(VLOOKUP(A356,'1.Портфель кредитів'!A:AB,14,FALSE),\"\")","v":""}]
[null,{"$f":"IFERROR(#REF!,\"\")","v":""},{"$f":"IFERROR(VLOOKUP(A357,'1.Портфель кредитів'!A:AB,3,FALSE),\"\")","v":""},{"$f":"IFERROR(VLOOKUP(A357,'1.Портфель кредитів'!A:AB,14,FALSE),\"\")","v":""}]
[null,{"$f":"IFERROR(#REF!,\"\")","v":""},{"$f":"IFERROR(VLOOKUP(A358,'1.Портфель кредитів'!A:AB,3,FALSE),\"\")","v":""},{"$f":"IFERROR(VLOOKUP(A358,'1.Портфель кредитів'!A:AB,14,FALSE),\"\")","v":""}]
[null,{"$f":"IFERROR(#REF!,\"\")","v":""},{"$f":"IFERROR(VLOOKUP(A359,'1.Портфель кредитів'!A:AB,3,FALSE),\"\")","v":""},{"$f":"IFERROR(VLOOKUP(A359,'1.Портфель кредитів'!A:AB,14,FALSE),\"\")","v":""}]
[null,{"$f":"IFERROR(#REF!,\"\")","v":""},{"$f":"IFERROR(VLOOKUP(A360,'1.Портфель кредитів'!A:AB,3,FALSE),\"\")","v":""},{"$f":"IFERROR(VLOOKUP(A360,'1.Портфель кредитів'!A:AB,14,FALSE),\"\")","v":""}]
[null,{"$f":"IFERROR(#REF!,\"\")","v":""},{"$f":"IFERROR(VLOOKUP(A361,'1.Портфель кредитів'!A:AB,3,FALSE),\"\")","v":""},{"$f":"IFERROR(VLOOKUP(A361,'1.Портфель кредитів'!A:AB,14,FALSE),\"\")","v":""}]
[null,{"$f":"IFERROR(#REF!,\"\")","v":""},{"$f":"IFERROR(VLOOKUP(A362,'1.Портфель кредитів'!A:AB,3,FALSE),\"\")","v":""},{"$f":"IFERROR(VLOOKUP(A362,'1.Портфель кредитів'!A:AB,14,FALSE),\"\")","v":""}]
[null,{"$f":"IFERROR(#REF!,\"\")","v":""},{"$f":"IFERROR(VLOOKUP(A363,'1.Портфель кредитів'!A:AB,3,FALSE),\"\")","v":""},{"$f":"IFERROR(VLOOKUP(A363,'1.Портфель кредитів'!A:AB,14,FALSE),\"\")","v":""}]
[null,{"$f":"IFERROR(#REF!,\"\")","v":""},{"$f":"IFERROR(VLOOKUP(A364,'1.Портфель кредитів'!A:AB,3,FALSE),\"\")","v":""},{"$f":"IFERROR(VLOOKUP(A364,'1.Портфель кредитів'!A:AB,14,FALSE),\"\")","v":""}]
[null,{"$f":"IFERROR(#REF!,\"\")","v":""},{"$f":"IFERROR(VLOOKUP(A365,'1.Портфель кредитів'!A:AB,3,FALSE),\"\")","v":""},{"$f":"IFERROR(VLOOKUP(A365,'1.Портфель кредитів'!A:AB,14,FALSE),\"\")","v":""}]
[null,{"$f":"IFERROR(#REF!,\"\")","v":""},{"$f":"IFERROR(VLOOKUP(A366,'1.Портфель кредитів'!A:AB,3,FALSE),\"\")","v":""},{"$f":"IFERROR(VLOOKUP(A366,'1.Портфель кредитів'!A:AB,14,FALSE),\"\")","v":""}]
[null,{"$f":"IFERROR(#REF!,\"\")","v":""},{"$f":"IFERROR(VLOOKUP(A367,'1.Портфель кредитів'!A:AB,3,FALSE),\"\")","v":""},{"$f":"IFERROR(VLOOKUP(A367,'1.Портфель кредитів'!A:AB,14,FALSE),\"\")","v":""}]
[null,{"$f":"IFERROR(#REF!,\"\")","v":""},{"$f":"IFERROR(VLOOKUP(A368,'1.Портфель кредитів'!A:AB,3,FALSE),\"\")","v":""},{"$f":"IFERROR(VLOOKUP(A368,'1.Портфель кредитів'!A:AB,14,FALSE),\"\")","v":""}]
[null,{"$f":"IFERROR(#REF!,\"\")","v":""},{"$f":"IFERROR(VLOOKUP(A369,'1.Портфель кредитів'!A:AB,3,FALSE),\"\")","v":""},{"$f":"IFERROR(VLOOKUP(A369,'1.Портфель кредитів'!A:AB,14,FALSE),\"\")","v":""}]
[null,{"$f":"IFERROR(#REF!,\"\")","v":""},{"$f":"IFERROR(VLOOKUP(A370,'1.Портфель кредитів'!A:AB,3,FALSE),\"\")","v":""},{"$f":"IFERROR(VLOOKUP(A370,'1.Портфель кредитів'!A:AB,14,FALSE),\"\")","v":""}]
[null,{"$f":"IFERROR(#REF!,\"\")","v":""},{"$f":"IFERROR(VLOOKUP(A371,'1.Портфель кредитів'!A:AB,3,FALSE),\"\")","v":""},{"$f":"IFERROR(VLOOKUP(A371,'1.Портфель кредитів'!A:AB,14,FALSE),\"\")","v":""}]
[null,{"$f":"IFERROR(#REF!,\"\")","v":""},{"$f":"IFERROR(VLOOKUP(A372,'1.Портфель кредитів'!A:AB,3,FALSE),\"\")","v":""},{"$f":"IFERROR(VLOOKUP(A372,'1.Портфель кредитів'!A:AB,14,FALSE),\"\")","v":""}]
[null,{"$f":"IFERROR(#REF!,\"\")","v":""},{"$f":"IFERROR(VLOOKUP(A373,'1.Портфель кредитів'!A:AB,3,FALSE),\"\")","v":""},{"$f":"IFERROR(VLOOKUP(A373,'1.Портфель кредитів'!A:AB,14,FALSE),\"\")","v":""}]
[null,{"$f":"IFERROR(#REF!,\"\")","v":""},{"$f":"IFERROR(VLOOKUP(A374,'1.Портфель кредитів'!A:AB,3,FALSE),\"\")","v":""},{"$f":"IFERROR(VLOOKUP(A374,'1.Портфель кредитів'!A:AB,14,FALSE),\"\")","v":""}]
[null,{"$f":"IFERROR(#REF!,\"\")","v":""},{"$f":"IFERROR(VLOOKUP(A375,'1.Портфель кредитів'!A:AB,3,FALSE),\"\")","v":""},{"$f":"IFERROR(VLOOKUP(A375,'1.Портфель кредитів'!A:AB,14,FALSE),\"\")","v":""}]
[null,{"$f":"IFERROR(#REF!,\"\")","v":""},{"$f":"IFERROR(VLOOKUP(A376,'1.Портфель кредитів'!A:AB,3,FALSE),\"\")","v":""},{"$f":"IFERROR(VLOOKUP(A376,'1.Портфель кредитів'!A:AB,14,FALSE),\"\")","v":""}]
[null,{"$f":"IFERROR(#REF!,\"\")","v":""},{"$f":"IFERROR(VLOOKUP(A377,'1.Портфель кредитів'!A:AB,3,FALSE),\"\")","v":""},{"$f":"IFERROR(VLOOKUP(A377,'1.Портфель кредитів'!A:AB,14,FALSE),\"\")","v":""}]
[null,{"$f":"IFERROR(#REF!,\"\")","v":""},{"$f":"IFERROR(VLOOKUP(A378,'1.Портфель кредитів'!A:AB,3,FALSE),\"\")","v":""},{"$f":"IFERROR(VLOOKUP(A378,'1.Портфель кредитів'!A:AB,14,FALSE),\"\")","v":""}]
[null,{"$f":"IFERROR(#REF!,\"\")","v":""},{"$f":"IFERROR(VLOOKUP(A379,'1.Портфель кредитів'!A:AB,3,FALSE),\"\")","v":""},{"$f":"IFERROR(VLOOKUP(A379,'1.Портфель кредитів'!A:AB,14,FALSE),\"\")","v":""}]
[null,{"$f":"IFERROR(#REF!,\"\")","v":""},{"$f":"IFERROR(VLOOKUP(A380,'1.Портфель кредитів'!A:AB,3,FALSE),\"\")","v":""},{"$f":"IFERROR(VLOOKUP(A380,'1.Портфель кредитів'!A:AB,14,FALSE),\"\")","v":""}]
[null,{"$f":"IFERROR(#REF!,\"\")","v":""},{"$f":"IFERROR(VLOOKUP(A381,'1.Портфель кредитів'!A:AB,3,FALSE),\"\")","v":""},{"$f":"IFERROR(VLOOKUP(A381,'1.Портфель кредитів'!A:AB,14,FALSE),\"\")","v":""}]
[null,{"$f":"IFERROR(#REF!,\"\")","v":""},{"$f":"IFERROR(VLOOKUP(A382,'1.Портфель кредитів'!A:AB,3,FALSE),\"\")","v":""},{"$f":"IFERROR(VLOOKUP(A382,'1.Портфель кредитів'!A:AB,14,FALSE),\"\")","v":""}]
[null,{"$f":"IFERROR(#REF!,\"\")","v":""},{"$f":"IFERROR(VLOOKUP(A383,'1.Портфель кредитів'!A:AB,3,FALSE),\"\")","v":""},{"$f":"IFERROR(VLOOKUP(A383,'1.Портфель кредитів'!A:AB,14,FALSE),\"\")","v":""}]
[null,{"$f":"IFERROR(#REF!,\"\")","v":""},{"$f":"IFERROR(VLOOKUP(A384,'1.Портфель кредитів'!A:AB,3,FALSE),\"\")","v":""},{"$f":"IFERROR(VLOOKUP(A384,'1.Портфель кредитів'!A:AB,14,FALSE),\"\")","v":""}]
[null,{"$f":"IFERROR(#REF!,\"\")","v":""},{"$f":"IFERROR(VLOOKUP(A385,'1.Портфель кредитів'!A:AB,3,FALSE),\"\")","v":""},{"$f":"IFERROR(VLOOKUP(A385,'1.Портфель кредитів'!A:AB,14,FALSE),\"\")","v":""}]
[null,{"$f":"IFERROR(#REF!,\"\")","v":""},{"$f":"IFERROR(VLOOKUP(A386,'1.Портфель кредитів'!A:AB,3,FALSE),\"\")","v":""},{"$f":"IFERROR(VLOOKUP(A386,'1.Портфель кредитів'!A:AB,14,FALSE),\"\")","v":""}]
[null,{"$f":"IFERROR(#REF!,\"\")","v":""},{"$f":"IFERROR(VLOOKUP(A387,'1.Портфель кредитів'!A:AB,3,FALSE),\"\")","v":""},{"$f":"IFERROR(VLOOKUP(A387,'1.Портфель кредитів'!A:AB,14,FALSE),\"\")","v":""}]
[null,{"$f":"IFERROR(#REF!,\"\")","v":""},{"$f":"IFERROR(VLOOKUP(A388,'1.Портфель кредитів'!A:AB,3,FALSE),\"\")","v":""},{"$f":"IFERROR(VLOOKUP(A388,'1.Портфель кредитів'!A:AB,14,FALSE),\"\")","v":""}]
[null,{"$f":"IFERROR(#REF!,\"\")","v":""},{"$f":"IFERROR(VLOOKUP(A389,'1.Портфель кредитів'!A:AB,3,FALSE),\"\")","v":""},{"$f":"IFERROR(VLOOKUP(A389,'1.Портфель кредитів'!A:AB,14,FALSE),\"\")","v":""}]
[null,{"$f":"IFERROR(#REF!,\"\")","v":""},{"$f":"IFERROR(VLOOKUP(A390,'1.Портфель кредитів'!A:AB,3,FALSE),\"\")","v":""},{"$f":"IFERROR(VLOOKUP(A390,'1.Портфель кредитів'!A:AB,14,FALSE),\"\")","v":""}]
[null,{"$f":"IFERROR(#REF!,\"\")","v":""},{"$f":"IFERROR(VLOOKUP(A391,'1.Портфель кредитів'!A:AB,3,FALSE),\"\")","v":""},{"$f":"IFERROR(VLOOKUP(A391,'1.Портфель кредитів'!A:AB,14,FALSE),\"\")","v":""}]
[null,{"$f":"IFERROR(#REF!,\"\")","v":""},{"$f":"IFERROR(VLOOKUP(A392,'1.Портфель кредитів'!A:AB,3,FALSE),\"\")","v":""},{"$f":"IFERROR(VLOOKUP(A392,'1.Портфель кредитів'!A:AB,14,FALSE),\"\")","v":""}]
[null,{"$f":"IFERROR(#REF!,\"\")","v":""},{"$f":"IFERROR(VLOOKUP(A393,'1.Портфель кредитів'!A:AB,3,FALSE),\"\")","v":""},{"$f":"IFERROR(VLOOKUP(A393,'1.Портфель кредитів'!A:AB,14,FALSE),\"\")","v":""}]
[null,{"$f":"IFERROR(#REF!,\"\")","v":""},{"$f":"IFERROR(VLOOKUP(A394,'1.Портфель кредитів'!A:AB,3,FALSE),\"\")","v":""},{"$f":"IFERROR(VLOOKUP(A394,'1.Портфель кредитів'!A:AB,14,FALSE),\"\")","v":""}]
[null,{"$f":"IFERROR(#REF!,\"\")","v":""},{"$f":"IFERROR(VLOOKUP(A395,'1.Портфель кредитів'!A:AB,3,FALSE),\"\")","v":""},{"$f":"IFERROR(VLOOKUP(A395,'1.Портфель кредитів'!A:AB,14,FALSE),\"\")","v":""}]
[null,{"$f":"IFERROR(#REF!,\"\")","v":""},{"$f":"IFERROR(VLOOKUP(A396,'1.Портфель кредитів'!A:AB,3,FALSE),\"\")","v":""},{"$f":"IFERROR(VLOOKUP(A396,'1.Портфель кредитів'!A:AB,14,FALSE),\"\")","v":""}]
[null,{"$f":"IFERROR(#REF!,\"\")","v":""},{"$f":"IFERROR(VLOOKUP(A397,'1.Портфель кредитів'!A:AB,3,FALSE),\"\")","v":""},{"$f":"IFERROR(VLOOKUP(A397,'1.Портфель кредитів'!A:AB,14,FALSE),\"\")","v":""}]
[null,{"$f":"IFERROR(#REF!,\"\")","v":""},{"$f":"IFERROR(VLOOKUP(A398,'1.Портфель кредитів'!A:AB,3,FALSE),\"\")","v":""},{"$f":"IFERROR(VLOOKUP(A398,'1.Портфель кредитів'!A:AB,14,FALSE),\"\")","v":""}]
[null,{"$f":"IFERROR(#REF!,\"\")","v":""},{"$f":"IFERROR(VLOOKUP(A399,'1.Портфель кредитів'!A:AB,3,FALSE),\"\")","v":""},{"$f":"IFERROR(VLOOKUP(A399,'1.Портфель кредитів'!A:AB,14,FALSE),\"\")","v":""}]
[null,{"$f":"IFERROR(#REF!,\"\")","v":""},{"$f":"IFERROR(VLOOKUP(A400,'1.Портфель кредитів'!A:AB,3,FALSE),\"\")","v":""},{"$f":"IFERROR(VLOOKUP(A400,'1.Портфель кредитів'!A:AB,14,FALSE),\"\")","v":""}]
[null,{"$f":"IFERROR(#REF!,\"\")","v":""},{"$f":"IFERROR(VLOOKUP(A401,'1.Портфель кредитів'!A:AB,3,FALSE),\"\")","v":""},{"$f":"IFERROR(VLOOKUP(A401,'1.Портфель кредитів'!A:AB,14,FALSE),\"\")","v":""}]
[null,{"$f":"IFERROR(#REF!,\"\")","v":""},{"$f":"IFERROR(VLOOKUP(A402,'1.Портфель кредитів'!A:AB,3,FALSE),\"\")","v":""},{"$f":"IFERROR(VLOOKUP(A402,'1.Портфель кредитів'!A:AB,14,FALSE),\"\")","v":""}]
[null,{"$f":"IFERROR(#REF!,\"\")","v":""},{"$f":"IFERROR(VLOOKUP(A403,'1.Портфель кредитів'!A:AB,3,FALSE),\"\")","v":""},{"$f":"IFERROR(VLOOKUP(A403,'1.Портфель кредитів'!A:AB,14,FALSE),\"\")","v":""}]
[null,{"$f":"IFERROR(#REF!,\"\")","v":""},{"$f":"IFERROR(VLOOKUP(A404,'1.Портфель кредитів'!A:AB,3,FALSE),\"\")","v":""},{"$f":"IFERROR(VLOOKUP(A404,'1.Портфель кредитів'!A:AB,14,FALSE),\"\")","v":""}]
[null,{"$f":"IFERROR(#REF!,\"\")","v":""},{"$f":"IFERROR(VLOOKUP(A405,'1.Портфель кредитів'!A:AB,3,FALSE),\"\")","v":""},{"$f":"IFERROR(VLOOKUP(A405,'1.Портфель кредитів'!A:AB,14,FALSE),\"\")","v":""}]
[null,{"$f":"IFERROR(#REF!,\"\")","v":""},{"$f":"IFERROR(VLOOKUP(A406,'1.Портфель кредитів'!A:AB,3,FALSE),\"\")","v":""},{"$f":"IFERROR(VLOOKUP(A406,'1.Портфель кредитів'!A:AB,14,FALSE),\"\")","v":""}]
[null,{"$f":"IFERROR(#REF!,\"\")","v":""},{"$f":"IFERROR(VLOOKUP(A407,'1.Портфель кредитів'!A:AB,3,FALSE),\"\")","v":""},{"$f":"IFERROR(VLOOKUP(A407,'1.Портфель кредитів'!A:AB,14,FALSE),\"\")","v":""}]
[null,{"$f":"IFERROR(#REF!,\"\")","v":""},{"$f":"IFERROR(VLOOKUP(A408,'1.Портфель кредитів'!A:AB,3,FALSE),\"\")","v":""},{"$f":"IFERROR(VLOOKUP(A408,'1.Портфель кредитів'!A:AB,14,FALSE),\"\")","v":""}]
[null,{"$f":"IFERROR(#REF!,\"\")","v":""},{"$f":"IFERROR(VLOOKUP(A409,'1.Портфель кредитів'!A:AB,3,FALSE),\"\")","v":""},{"$f":"IFERROR(VLOOKUP(A409,'1.Портфель кредитів'!A:AB,14,FALSE),\"\")","v":""}]
[null,{"$f":"IFERROR(#REF!,\"\")","v":""},{"$f":"IFERROR(VLOOKUP(A410,'1.Портфель кредитів'!A:AB,3,FALSE),\"\")","v":""},{"$f":"IFERROR(VLOOKUP(A410,'1.Портфель кредитів'!A:AB,14,FALSE),\"\")","v":""}]
[null,{"$f":"IFERROR(#REF!,\"\")","v":""},{"$f":"IFERROR(VLOOKUP(A411,'1.Портфель кредитів'!A:AB,3,FALSE),\"\")","v":""},{"$f":"IFERROR(VLOOKUP(A411,'1.Портфель кредитів'!A:AB,14,FALSE),\"\")","v":""}]
[null,{"$f":"IFERROR(#REF!,\"\")","v":""},{"$f":"IFERROR(VLOOKUP(A412,'1.Портфель кредитів'!A:AB,3,FALSE),\"\")","v":""},{"$f":"IFERROR(VLOOKUP(A412,'1.Портфель кредитів'!A:AB,14,FALSE),\"\")","v":""}]
[null,{"$f":"IFERROR(#REF!,\"\")","v":""},{"$f":"IFERROR(VLOOKUP(A413,'1.Портфель кредитів'!A:AB,3,FALSE),\"\")","v":""},{"$f":"IFERROR(VLOOKUP(A413,'1.Портфель кредитів'!A:AB,14,FALSE),\"\")","v":""}]
[null,{"$f":"IFERROR(#REF!,\"\")","v":""},{"$f":"IFERROR(VLOOKUP(A414,'1.Портфель кредитів'!A:AB,3,FALSE),\"\")","v":""},{"$f":"IFERROR(VLOOKUP(A414,'1.Портфель кредитів'!A:AB,14,FALSE),\"\")","v":""}]
[null,{"$f":"IFERROR(#REF!,\"\")","v":""},{"$f":"IFERROR(VLOOKUP(A415,'1.Портфель кредитів'!A:AB,3,FALSE),\"\")","v":""},{"$f":"IFERROR(VLOOKUP(A415,'1.Портфель кредитів'!A:AB,14,FALSE),\"\")","v":""}]
[null,{"$f":"IFERROR(#REF!,\"\")","v":""},{"$f":"IFERROR(VLOOKUP(A416,'1.Портфель кредитів'!A:AB,3,FALSE),\"\")","v":""},{"$f":"IFERROR(VLOOKUP(A416,'1.Портфель кредитів'!A:AB,14,FALSE),\"\")","v":""}]
[null,{"$f":"IFERROR(#REF!,\"\")","v":""},{"$f":"IFERROR(VLOOKUP(A417,'1.Портфель кредитів'!A:AB,3,FALSE),\"\")","v":""},{"$f":"IFERROR(VLOOKUP(A417,'1.Портфель кредитів'!A:AB,14,FALSE),\"\")","v":""}]
[null,{"$f":"IFERROR(#REF!,\"\")","v":""},{"$f":"IFERROR(VLOOKUP(A418,'1.Портфель кредитів'!A:AB,3,FALSE),\"\")","v":""},{"$f":"IFERROR(VLOOKUP(A418,'1.Портфель кредитів'!A:AB,14,FALSE),\"\")","v":""}]
[null,{"$f":"IFERROR(#REF!,\"\")","v":""},{"$f":"IFERROR(VLOOKUP(A419,'1.Портфель кредитів'!A:AB,3,FALSE),\"\")","v":""},{"$f":"IFERROR(VLOOKUP(A419,'1.Портфель кредитів'!A:AB,14,FALSE),\"\")","v":""}]
[null,{"$f":"IFERROR(#REF!,\"\")","v":""},{"$f":"IFERROR(VLOOKUP(A420,'1.Портфель кредитів'!A:AB,3,FALSE),\"\")","v":""},{"$f":"IFERROR(VLOOKUP(A420,'1.Портфель кредитів'!A:AB,14,FALSE),\"\")","v":""}]
[null,{"$f":"IFERROR(#REF!,\"\")","v":""},{"$f":"IFERROR(VLOOKUP(A421,'1.Портфель кредитів'!A:AB,3,FALSE),\"\")","v":""},{"$f":"IFERROR(VLOOKUP(A421,'1.Портфель кредитів'!A:AB,14,FALSE),\"\")","v":""}]
[null,{"$f":"IFERROR(#REF!,\"\")","v":""},{"$f":"IFERROR(VLOOKUP(A422,'1.Портфель кредитів'!A:AB,3,FALSE),\"\")","v":""},{"$f":"IFERROR(VLOOKUP(A422,'1.Портфель кредитів'!A:AB,14,FALSE),\"\")","v":""}]
[null,{"$f":"IFERROR(#REF!,\"\")","v":""},{"$f":"IFERROR(VLOOKUP(A423,'1.Портфель кредитів'!A:AB,3,FALSE),\"\")","v":""},{"$f":"IFERROR(VLOOKUP(A423,'1.Портфель кредитів'!A:AB,14,FALSE),\"\")","v":""}]
[null,{"$f":"IFERROR(#REF!,\"\")","v":""},{"$f":"IFERROR(VLOOKUP(A424,'1.Портфель кредитів'!A:AB,3,FALSE),\"\")","v":""},{"$f":"IFERROR(VLOOKUP(A424,'1.Портфель кредитів'!A:AB,14,FALSE),\"\")","v":""}]
[null,{"$f":"IFERROR(#REF!,\"\")","v":""},{"$f":"IFERROR(VLOOKUP(A425,'1.Портфель кредитів'!A:AB,3,FALSE),\"\")","v":""},{"$f":"IFERROR(VLOOKUP(A425,'1.Портфель кредитів'!A:AB,14,FALSE),\"\")","v":""}]
[null,{"$f":"IFERROR(#REF!,\"\")","v":""},{"$f":"IFERROR(VLOOKUP(A426,'1.Портфель кредитів'!A:AB,3,FALSE),\"\")","v":""},{"$f":"IFERROR(VLOOKUP(A426,'1.Портфель кредитів'!A:AB,14,FALSE),\"\")","v":""}]
[null,{"$f":"IFERROR(#REF!,\"\")","v":""},{"$f":"IFERROR(VLOOKUP(A427,'1.Портфель кредитів'!A:AB,3,FALSE),\"\")","v":""},{"$f":"IFERROR(VLOOKUP(A427,'1.Портфель кредитів'!A:AB,14,FALSE),\"\")","v":""}]
[null,{"$f":"IFERROR(#REF!,\"\")","v":""},{"$f":"IFERROR(VLOOKUP(A428,'1.Портфель кредитів'!A:AB,3,FALSE),\"\")","v":""},{"$f":"IFERROR(VLOOKUP(A428,'1.Портфель кредитів'!A:AB,14,FALSE),\"\")","v":""}]
[null,{"$f":"IFERROR(#REF!,\"\")","v":""},{"$f":"IFERROR(VLOOKUP(A429,'1.Портфель кредитів'!A:AB,3,FALSE),\"\")","v":""},{"$f":"IFERROR(VLOOKUP(A429,'1.Портфель кредитів'!A:AB,14,FALSE),\"\")","v":""}]
[null,{"$f":"IFERROR(#REF!,\"\")","v":""},{"$f":"IFERROR(VLOOKUP(A430,'1.Портфель кредитів'!A:AB,3,FALSE),\"\")","v":""},{"$f":"IFERROR(VLOOKUP(A430,'1.Портфель кредитів'!A:AB,14,FALSE),\"\")","v":""}]
[null,{"$f":"IFERROR(#REF!,\"\")","v":""},{"$f":"IFERROR(VLOOKUP(A431,'1.Портфель кредитів'!A:AB,3,FALSE),\"\")","v":""},{"$f":"IFERROR(VLOOKUP(A431,'1.Портфель кредитів'!A:AB,14,FALSE),\"\")","v":""}]
[null,{"$f":"IFERROR(#REF!,\"\")","v":""},{"$f":"IFERROR(VLOOKUP(A432,'1.Портфель кредитів'!A:AB,3,FALSE),\"\")","v":""},{"$f":"IFERROR(VLOOKUP(A432,'1.Портфель кредитів'!A:AB,14,FALSE),\"\")","v":""}]
[null,{"$f":"IFERROR(#REF!,\"\")","v":""},{"$f":"IFERROR(VLOOKUP(A433,'1.Портфель кредитів'!A:AB,3,FALSE),\"\")","v":""},{"$f":"IFERROR(VLOOKUP(A433,'1.Портфель кредитів'!A:AB,14,FALSE),\"\")","v":""}]
[null,{"$f":"IFERROR(#REF!,\"\")","v":""},{"$f":"IFERROR(VLOOKUP(A434,'1.Портфель кредитів'!A:AB,3,FALSE),\"\")","v":""},{"$f":"IFERROR(VLOOKUP(A434,'1.Портфель кредитів'!A:AB,14,FALSE),\"\")","v":""}]
[null,{"$f":"IFERROR(#REF!,\"\")","v":""},{"$f":"IFERROR(VLOOKUP(A435,'1.Портфель кредитів'!A:AB,3,FALSE),\"\")","v":""},{"$f":"IFERROR(VLOOKUP(A435,'1.Портфель кредитів'!A:AB,14,FALSE),\"\")","v":""}]
[null,{"$f":"IFERROR(#REF!,\"\")","v":""},{"$f":"IFERROR(VLOOKUP(A436,'1.Портфель кредитів'!A:AB,3,FALSE),\"\")","v":""},{"$f":"IFERROR(VLOOKUP(A436,'1.Портфель кредитів'!A:AB,14,FALSE),\"\")","v":""}]
[null,{"$f":"IFERROR(#REF!,\"\")","v":""},{"$f":"IFERROR(VLOOKUP(A437,'1.Портфель кредитів'!A:AB,3,FALSE),\"\")","v":""},{"$f":"IFERROR(VLOOKUP(A437,'1.Портфель кредитів'!A:AB,14,FALSE),\"\")","v":""}]
[null,{"$f":"IFERROR(#REF!,\"\")","v":""},{"$f":"IFERROR(VLOOKUP(A438,'1.Портфель кредитів'!A:AB,3,FALSE),\"\")","v":""},{"$f":"IFERROR(VLOOKUP(A438,'1.Портфель кредитів'!A:AB,14,FALSE),\"\")","v":""}]
[null,{"$f":"IFERROR(#REF!,\"\")","v":""},{"$f":"IFERROR(VLOOKUP(A439,'1.Портфель кредитів'!A:AB,3,FALSE),\"\")","v":""},{"$f":"IFERROR(VLOOKUP(A439,'1.Портфель кредитів'!A:AB,14,FALSE),\"\")","v":""}]
[null,{"$f":"IFERROR(#REF!,\"\")","v":""},{"$f":"IFERROR(VLOOKUP(A440,'1.Портфель кредитів'!A:AB,3,FALSE),\"\")","v":""},{"$f":"IFERROR(VLOOKUP(A440,'1.Портфель кредитів'!A:AB,14,FALSE),\"\")","v":""}]
[null,{"$f":"IFERROR(#REF!,\"\")","v":""},{"$f":"IFERROR(VLOOKUP(A441,'1.Портфель кредитів'!A:AB,3,FALSE),\"\")","v":""},{"$f":"IFERROR(VLOOKUP(A441,'1.Портфель кредитів'!A:AB,14,FALSE),\"\")","v":""}]
[null,{"$f":"IFERROR(#REF!,\"\")","v":""},{"$f":"IFERROR(VLOOKUP(A442,'1.Портфель кредитів'!A:AB,3,FALSE),\"\")","v":""},{"$f":"IFERROR(VLOOKUP(A442,'1.Портфель кредитів'!A:AB,14,FALSE),\"\")","v":""}]
[null,{"$f":"IFERROR(#REF!,\"\")","v":""},{"$f":"IFERROR(VLOOKUP(A443,'1.Портфель кредитів'!A:AB,3,FALSE),\"\")","v":""},{"$f":"IFERROR(VLOOKUP(A443,'1.Портфель кредитів'!A:AB,14,FALSE),\"\")","v":""}]
[null,{"$f":"IFERROR(#REF!,\"\")","v":""},{"$f":"IFERROR(VLOOKUP(A444,'1.Портфель кредитів'!A:AB,3,FALSE),\"\")","v":""},{"$f":"IFERROR(VLOOKUP(A444,'1.Портфель кредитів'!A:AB,14,FALSE),\"\")","v":""}]
[null,{"$f":"IFERROR(#REF!,\"\")","v":""},{"$f":"IFERROR(VLOOKUP(A445,'1.Портфель кредитів'!A:AB,3,FALSE),\"\")","v":""},{"$f":"IFERROR(VLOOKUP(A445,'1.Портфель кредитів'!A:AB,14,FALSE),\"\")","v":""}]
[null,{"$f":"IFERROR(#REF!,\"\")","v":""},{"$f":"IFERROR(VLOOKUP(A446,'1.Портфель кредитів'!A:AB,3,FALSE),\"\")","v":""},{"$f":"IFERROR(VLOOKUP(A446,'1.Портфель кредитів'!A:AB,14,FALSE),\"\")","v":""}]
[null,{"$f":"IFERROR(#REF!,\"\")","v":""},{"$f":"IFERROR(VLOOKUP(A447,'1.Портфель кредитів'!A:AB,3,FALSE),\"\")","v":""},{"$f":"IFERROR(VLOOKUP(A447,'1.Портфель кредитів'!A:AB,14,FALSE),\"\")","v":""}]
[null,{"$f":"IFERROR(#REF!,\"\")","v":""},{"$f":"IFERROR(VLOOKUP(A448,'1.Портфель кредитів'!A:AB,3,FALSE),\"\")","v":""},{"$f":"IFERROR(VLOOKUP(A448,'1.Портфель кредитів'!A:AB,14,FALSE),\"\")","v":""}]
[null,{"$f":"IFERROR(#REF!,\"\")","v":""},{"$f":"IFERROR(VLOOKUP(A449,'1.Портфель кредитів'!A:AB,3,FALSE),\"\")","v":""},{"$f":"IFERROR(VLOOKUP(A449,'1.Портфель кредитів'!A:AB,14,FALSE),\"\")","v":""}]
[null,{"$f":"IFERROR(#REF!,\"\")","v":""},{"$f":"IFERROR(VLOOKUP(A450,'1.Портфель кредитів'!A:AB,3,FALSE),\"\")","v":""},{"$f":"IFERROR(VLOOKUP(A450,'1.Портфель кредитів'!A:AB,14,FALSE),\"\")","v":""}]
[null,{"$f":"IFERROR(#REF!,\"\")","v":""},{"$f":"IFERROR(VLOOKUP(A451,'1.Портфель кредитів'!A:AB,3,FALSE),\"\")","v":""},{"$f":"IFERROR(VLOOKUP(A451,'1.Портфель кредитів'!A:AB,14,FALSE),\"\")","v":""}]
[null,{"$f":"IFERROR(#REF!,\"\")","v":""},{"$f":"IFERROR(VLOOKUP(A452,'1.Портфель кредитів'!A:AB,3,FALSE),\"\")","v":""},{"$f":"IFERROR(VLOOKUP(A452,'1.Портфель кредитів'!A:AB,14,FALSE),\"\")","v":""}]
[null,{"$f":"IFERROR(#REF!,\"\")","v":""},{"$f":"IFERROR(VLOOKUP(A453,'1.Портфель кредитів'!A:AB,3,FALSE),\"\")","v":""},{"$f":"IFERROR(VLOOKUP(A453,'1.Портфель кредитів'!A:AB,14,FALSE),\"\")","v":""}]
[null,{"$f":"IFERROR(#REF!,\"\")","v":""},{"$f":"IFERROR(VLOOKUP(A454,'1.Портфель кредитів'!A:AB,3,FALSE),\"\")","v":""},{"$f":"IFERROR(VLOOKUP(A454,'1.Портфель кредитів'!A:AB,14,FALSE),\"\")","v":""}]
[null,{"$f":"IFERROR(#REF!,\"\")","v":""},{"$f":"IFERROR(VLOOKUP(A455,'1.Портфель кредитів'!A:AB,3,FALSE),\"\")","v":""},{"$f":"IFERROR(VLOOKUP(A455,'1.Портфель кредитів'!A:AB,14,FALSE),\"\")","v":""}]
[null,{"$f":"IFERROR(#REF!,\"\")","v":""},{"$f":"IFERROR(VLOOKUP(A456,'1.Портфель кредитів'!A:AB,3,FALSE),\"\")","v":""},{"$f":"IFERROR(VLOOKUP(A456,'1.Портфель кредитів'!A:AB,14,FALSE),\"\")","v":""}]
[null,{"$f":"IFERROR(#REF!,\"\")","v":""},{"$f":"IFERROR(VLOOKUP(A457,'1.Портфель кредитів'!A:AB,3,FALSE),\"\")","v":""},{"$f":"IFERROR(VLOOKUP(A457,'1.Портфель кредитів'!A:AB,14,FALSE),\"\")","v":""}]
[null,{"$f":"IFERROR(#REF!,\"\")","v":""},{"$f":"IFERROR(VLOOKUP(A458,'1.Портфель кредитів'!A:AB,3,FALSE),\"\")","v":""},{"$f":"IFERROR(VLOOKUP(A458,'1.Портфель кредитів'!A:AB,14,FALSE),\"\")","v":""}]
[null,{"$f":"IFERROR(#REF!,\"\")","v":""},{"$f":"IFERROR(VLOOKUP(A459,'1.Портфель кредитів'!A:AB,3,FALSE),\"\")","v":""},{"$f":"IFERROR(VLOOKUP(A459,'1.Портфель кредитів'!A:AB,14,FALSE),\"\")","v":""}]
[null,{"$f":"IFERROR(#REF!,\"\")","v":""},{"$f":"IFERROR(VLOOKUP(A460,'1.Портфель кредитів'!A:AB,3,FALSE),\"\")","v":""},{"$f":"IFERROR(VLOOKUP(A460,'1.Портфель кредитів'!A:AB,14,FALSE),\"\")","v":""}]
[null,{"$f":"IFERROR(#REF!,\"\")","v":""},{"$f":"IFERROR(VLOOKUP(A461,'1.Портфель кредитів'!A:AB,3,FALSE),\"\")","v":""},{"$f":"IFERROR(VLOOKUP(A461,'1.Портфель кредитів'!A:AB,14,FALSE),\"\")","v":""}]
[null,{"$f":"IFERROR(#REF!,\"\")","v":""},{"$f":"IFERROR(VLOOKUP(A462,'1.Портфель кредитів'!A:AB,3,FALSE),\"\")","v":""},{"$f":"IFERROR(VLOOKUP(A462,'1.Портфель кредитів'!A:AB,14,FALSE),\"\")","v":""}]
[null,{"$f":"IFERROR(#REF!,\"\")","v":""},{"$f":"IFERROR(VLOOKUP(A463,'1.Портфель кредитів'!A:AB,3,FALSE),\"\")","v":""},{"$f":"IFERROR(VLOOKUP(A463,'1.Портфель кредитів'!A:AB,14,FALSE),\"\")","v":""}]
[null,{"$f":"IFERROR(#REF!,\"\")","v":""},{"$f":"IFERROR(VLOOKUP(A464,'1.Портфель кредитів'!A:AB,3,FALSE),\"\")","v":""},{"$f":"IFERROR(VLOOKUP(A464,'1.Портфель кредитів'!A:AB,14,FALSE),\"\")","v":""}]
[null,{"$f":"IFERROR(#REF!,\"\")","v":""},{"$f":"IFERROR(VLOOKUP(A465,'1.Портфель кредитів'!A:AB,3,FALSE),\"\")","v":""},{"$f":"IFERROR(VLOOKUP(A465,'1.Портфель кредитів'!A:AB,14,FALSE),\"\")","v":""}]
[null,{"$f":"IFERROR(#REF!,\"\")","v":""},{"$f":"IFERROR(VLOOKUP(A466,'1.Портфель кредитів'!A:AB,3,FALSE),\"\")","v":""},{"$f":"IFERROR(VLOOKUP(A466,'1.Портфель кредитів'!A:AB,14,FALSE),\"\")","v":""}]
[null,{"$f":"IFERROR(#REF!,\"\")","v":""},{"$f":"IFERROR(VLOOKUP(A467,'1.Портфель кредитів'!A:AB,3,FALSE),\"\")","v":""},{"$f":"IFERROR(VLOOKUP(A467,'1.Портфель кредитів'!A:AB,14,FALSE),\"\")","v":""}]
[null,{"$f":"IFERROR(#REF!,\"\")","v":""},{"$f":"IFERROR(VLOOKUP(A468,'1.Портфель кредитів'!A:AB,3,FALSE),\"\")","v":""},{"$f":"IFERROR(VLOOKUP(A468,'1.Портфель кредитів'!A:AB,14,FALSE),\"\")","v":""}]
[null,{"$f":"IFERROR(#REF!,\"\")","v":""},{"$f":"IFERROR(VLOOKUP(A469,'1.Портфель кредитів'!A:AB,3,FALSE),\"\")","v":""},{"$f":"IFERROR(VLOOKUP(A469,'1.Портфель кредитів'!A:AB,14,FALSE),\"\")","v":""}]
[null,{"$f":"IFERROR(#REF!,\"\")","v":""},{"$f":"IFERROR(VLOOKUP(A470,'1.Портфель кредитів'!A:AB,3,FALSE),\"\")","v":""},{"$f":"IFERROR(VLOOKUP(A470,'1.Портфель кредитів'!A:AB,14,FALSE),\"\")","v":""}]
[null,{"$f":"IFERROR(#REF!,\"\")","v":""},{"$f":"IFERROR(VLOOKUP(A471,'1.Портфель кредитів'!A:AB,3,FALSE),\"\")","v":""},{"$f":"IFERROR(VLOOKUP(A471,'1.Портфель кредитів'!A:AB,14,FALSE),\"\")","v":""}]
[null,{"$f":"IFERROR(#REF!,\"\")","v":""},{"$f":"IFERROR(VLOOKUP(A472,'1.Портфель кредитів'!A:AB,3,FALSE),\"\")","v":""},{"$f":"IFERROR(VLOOKUP(A472,'1.Портфель кредитів'!A:AB,14,FALSE),\"\")","v":""}]
[null,{"$f":"IFERROR(#REF!,\"\")","v":""},{"$f":"IFERROR(VLOOKUP(A473,'1.Портфель кредитів'!A:AB,3,FALSE),\"\")","v":""},{"$f":"IFERROR(VLOOKUP(A473,'1.Портфель кредитів'!A:AB,14,FALSE),\"\")","v":""}]
[null,{"$f":"IFERROR(#REF!,\"\")","v":""},{"$f":"IFERROR(VLOOKUP(A474,'1.Портфель кредитів'!A:AB,3,FALSE),\"\")","v":""},{"$f":"IFERROR(VLOOKUP(A474,'1.Портфель кредитів'!A:AB,14,FALSE),\"\")","v":""}]
[null,{"$f":"IFERROR(#REF!,\"\")","v":""},{"$f":"IFERROR(VLOOKUP(A475,'1.Портфель кредитів'!A:AB,3,FALSE),\"\")","v":""},{"$f":"IFERROR(VLOOKUP(A475,'1.Портфель кредитів'!A:AB,14,FALSE),\"\")","v":""}]
[null,{"$f":"IFERROR(#REF!,\"\")","v":""},{"$f":"IFERROR(VLOOKUP(A476,'1.Портфель кредитів'!A:AB,3,FALSE),\"\")","v":""},{"$f":"IFERROR(VLOOKUP(A476,'1.Портфель кредитів'!A:AB,14,FALSE),\"\")","v":""}]
[null,{"$f":"IFERROR(#REF!,\"\")","v":""},{"$f":"IFERROR(VLOOKUP(A477,'1.Портфель кредитів'!A:AB,3,FALSE),\"\")","v":""},{"$f":"IFERROR(VLOOKUP(A477,'1.Портфель кредитів'!A:AB,14,FALSE),\"\")","v":""}]
[null,{"$f":"IFERROR(#REF!,\"\")","v":""},{"$f":"IFERROR(VLOOKUP(A478,'1.Портфель кредитів'!A:AB,3,FALSE),\"\")","v":""},{"$f":"IFERROR(VLOOKUP(A478,'1.Портфель кредитів'!A:AB,14,FALSE),\"\")","v":""}]
[null,{"$f":"IFERROR(#REF!,\"\")","v":""},{"$f":"IFERROR(VLOOKUP(A479,'1.Портфель кредитів'!A:AB,3,FALSE),\"\")","v":""},{"$f":"IFERROR(VLOOKUP(A479,'1.Портфель кредитів'!A:AB,14,FALSE),\"\")","v":""}]
[null,{"$f":"IFERROR(#REF!,\"\")","v":""},{"$f":"IFERROR(VLOOKUP(A480,'1.Портфель кредитів'!A:AB,3,FALSE),\"\")","v":""},{"$f":"IFERROR(VLOOKUP(A480,'1.Портфель кредитів'!A:AB,14,FALSE),\"\")","v":""}]
[null,{"$f":"IFERROR(#REF!,\"\")","v":""},{"$f":"IFERROR(VLOOKUP(A481,'1.Портфель кредитів'!A:AB,3,FALSE),\"\")","v":""},{"$f":"IFERROR(VLOOKUP(A481,'1.Портфель кредитів'!A:AB,14,FALSE),\"\")","v":""}]
[null,{"$f":"IFERROR(#REF!,\"\")","v":""},{"$f":"IFERROR(VLOOKUP(A482,'1.Портфель кредитів'!A:AB,3,FALSE),\"\")","v":""},{"$f":"IFERROR(VLOOKUP(A482,'1.Портфель кредитів'!A:AB,14,FALSE),\"\")","v":""}]
[null,{"$f":"IFERROR(#REF!,\"\")","v":""},{"$f":"IFERROR(VLOOKUP(A483,'1.Портфель кредитів'!A:AB,3,FALSE),\"\")","v":""},{"$f":"IFERROR(VLOOKUP(A483,'1.Портфель кредитів'!A:AB,14,FALSE),\"\")","v":""}]
[null,{"$f":"IFERROR(#REF!,\"\")","v":""},{"$f":"IFERROR(VLOOKUP(A484,'1.Портфель кредитів'!A:AB,3,FALSE),\"\")","v":""},{"$f":"IFERROR(VLOOKUP(A484,'1.Портфель кредитів'!A:AB,14,FALSE),\"\")","v":""}]
[null,{"$f":"IFERROR(#REF!,\"\")","v":""},{"$f":"IFERROR(VLOOKUP(A485,'1.Портфель кредитів'!A:AB,3,FALSE),\"\")","v":""},{"$f":"IFERROR(VLOOKUP(A485,'1.Портфель кредитів'!A:AB,14,FALSE),\"\")","v":""}]
[null,{"$f":"IFERROR(#REF!,\"\")","v":""},{"$f":"IFERROR(VLOOKUP(A486,'1.Портфель кредитів'!A:AB,3,FALSE),\"\")","v":""},{"$f":"IFERROR(VLOOKUP(A486,'1.Портфель кредитів'!A:AB,14,FALSE),\"\")","v":""}]
[null,{"$f":"IFERROR(#REF!,\"\")","v":""},{"$f":"IFERROR(VLOOKUP(A487,'1.Портфель кредитів'!A:AB,3,FALSE),\"\")","v":""},{"$f":"IFERROR(VLOOKUP(A487,'1.Портфель кредитів'!A:AB,14,FALSE),\"\")","v":""}]
[null,{"$f":"IFERROR(#REF!,\"\")","v":""},{"$f":"IFERROR(VLOOKUP(A488,'1.Портфель кредитів'!A:AB,3,FALSE),\"\")","v":""},{"$f":"IFERROR(VLOOKUP(A488,'1.Портфель кредитів'!A:AB,14,FALSE),\"\")","v":""}]
[null,{"$f":"IFERROR(#REF!,\"\")","v":""},{"$f":"IFERROR(VLOOKUP(A489,'1.Портфель кредитів'!A:AB,3,FALSE),\"\")","v":""},{"$f":"IFERROR(VLOOKUP(A489,'1.Портфель кредитів'!A:AB,14,FALSE),\"\")","v":""}]
[null,{"$f":"IFERROR(#REF!,\"\")","v":""},{"$f":"IFERROR(VLOOKUP(A490,'1.Портфель кредитів'!A:AB,3,FALSE),\"\")","v":""},{"$f":"IFERROR(VLOOKUP(A490,'1.Портфель кредитів'!A:AB,14,FALSE),\"\")","v":""}]
[null,{"$f":"IFERROR(#REF!,\"\")","v":""},{"$f":"IFERROR(VLOOKUP(A491,'1.Портфель кредитів'!A:AB,3,FALSE),\"\")","v":""},{"$f":"IFERROR(VLOOKUP(A491,'1.Портфель кредитів'!A:AB,14,FALSE),\"\")","v":""}]
[null,{"$f":"IFERROR(#REF!,\"\")","v":""},{"$f":"IFERROR(VLOOKUP(A492,'1.Портфель кредитів'!A:AB,3,FALSE),\"\")","v":""},{"$f":"IFERROR(VLOOKUP(A492,'1.Портфель кредитів'!A:AB,14,FALSE),\"\")","v":""}]
[null,{"$f":"IFERROR(#REF!,\"\")","v":""},{"$f":"IFERROR(VLOOKUP(A493,'1.Портфель кредитів'!A:AB,3,FALSE),\"\")","v":""},{"$f":"IFERROR(VLOOKUP(A493,'1.Портфель кредитів'!A:AB,14,FALSE),\"\")","v":""}]
[null,{"$f":"IFERROR(#REF!,\"\")","v":""},{"$f":"IFERROR(VLOOKUP(A494,'1.Портфель кредитів'!A:AB,3,FALSE),\"\")","v":""},{"$f":"IFERROR(VLOOKUP(A494,'1.Портфель кредитів'!A:AB,14,FALSE),\"\")","v":""}]
[null,{"$f":"IFERROR(#REF!,\"\")","v":""},{"$f":"IFERROR(VLOOKUP(A495,'1.Портфель кредитів'!A:AB,3,FALSE),\"\")","v":""},{"$f":"IFERROR(VLOOKUP(A495,'1.Портфель кредитів'!A:AB,14,FALSE),\"\")","v":""}]
[null,{"$f":"IFERROR(#REF!,\"\")","v":""},{"$f":"IFERROR(VLOOKUP(A496,'1.Портфель кредитів'!A:AB,3,FALSE),\"\")","v":""},{"$f":"IFERROR(VLOOKUP(A496,'1.Портфель кредитів'!A:AB,14,FALSE),\"\")","v":""}]
[null,{"$f":"IFERROR(#REF!,\"\")","v":""},{"$f":"IFERROR(VLOOKUP(A497,'1.Портфель кредитів'!A:AB,3,FALSE),\"\")","v":""},{"$f":"IFERROR(VLOOKUP(A497,'1.Портфель кредитів'!A:AB,14,FALSE),\"\")","v":""}]
[null,{"$f":"IFERROR(#REF!,\"\")","v":""},{"$f":"IFERROR(VLOOKUP(A498,'1.Портфель кредитів'!A:AB,3,FALSE),\"\")","v":""},{"$f":"IFERROR(VLOOKUP(A498,'1.Портфель кредитів'!A:AB,14,FALSE),\"\")","v":""}]
[null,{"$f":"IFERROR(#REF!,\"\")","v":""},{"$f":"IFERROR(VLOOKUP(A499,'1.Портфель кредитів'!A:AB,3,FALSE),\"\")","v":""},{"$f":"IFERROR(VLOOKUP(A499,'1.Портфель кредитів'!A:AB,14,FALSE),\"\")","v":""}]
[null,{"$f":"IFERROR(#REF!,\"\")","v":""},{"$f":"IFERROR(VLOOKUP(A500,'1.Портфель кредитів'!A:AB,3,FALSE),\"\")","v":""},{"$f":"IFERROR(VLOOKUP(A500,'1.Портфель кредитів'!A:AB,14,FALSE),\"\")","v":""}]
[null,{"$f":"IFERROR(#REF!,\"\")","v":""},{"$f":"IFERROR(VLOOKUP(A501,'1.Портфель кредитів'!A:AB,3,FALSE),\"\")","v":""},{"$f":"IFERROR(VLOOKUP(A501,'1.Портфель кредитів'!A:AB,14,FALSE),\"\")","v":""}]
[null,{"$f":"IFERROR(#REF!,\"\")","v":""},{"$f":"IFERROR(VLOOKUP(A502,'1.Портфель кредитів'!A:AB,3,FALSE),\"\")","v":""},{"$f":"IFERROR(VLOOKUP(A502,'1.Портфель кредитів'!A:AB,14,FALSE),\"\")","v":""}]
[null,{"$f":"IFERROR(#REF!,\"\")","v":""},{"$f":"IFERROR(VLOOKUP(A503,'1.Портфель кредитів'!A:AB,3,FALSE),\"\")","v":""},{"$f":"IFERROR(VLOOKUP(A503,'1.Портфель кредитів'!A:AB,14,FALSE),\"\")","v":""}]
[null,{"$f":"IFERROR(#REF!,\"\")","v":""},{"$f":"IFERROR(VLOOKUP(A504,'1.Портфель кредитів'!A:AB,3,FALSE),\"\")","v":""},{"$f":"IFERROR(VLOOKUP(A504,'1.Портфель кредитів'!A:AB,14,FALSE),\"\")","v":""}]
[null,{"$f":"IFERROR(#REF!,\"\")","v":""},{"$f":"IFERROR(VLOOKUP(A505,'1.Портфель кредитів'!A:AB,3,FALSE),\"\")","v":""},{"$f":"IFERROR(VLOOKUP(A505,'1.Портфель кредитів'!A:AB,14,FALSE),\"\")","v":""}]
[null,{"$f":"IFERROR(#REF!,\"\")","v":""},{"$f":"IFERROR(VLOOKUP(A506,'1.Портфель кредитів'!A:AB,3,FALSE),\"\")","v":""},{"$f":"IFERROR(VLOOKUP(A506,'1.Портфель кредитів'!A:AB,14,FALSE),\"\")","v":""}]
[null,{"$f":"IFERROR(#REF!,\"\")","v":""},{"$f":"IFERROR(VLOOKUP(A507,'1.Портфель кредитів'!A:AB,3,FALSE),\"\")","v":""},{"$f":"IFERROR(VLOOKUP(A507,'1.Портфель кредитів'!A:AB,14,FALSE),\"\")","v":""}]
[null,{"$f":"IFERROR(#REF!,\"\")","v":""},{"$f":"IFERROR(VLOOKUP(A508,'1.Портфель кредитів'!A:AB,3,FALSE),\"\")","v":""},{"$f":"IFERROR(VLOOKUP(A508,'1.Портфель кредитів'!A:AB,14,FALSE),\"\")","v":""}]
[null,{"$f":"IFERROR(#REF!,\"\")","v":""},{"$f":"IFERROR(VLOOKUP(A509,'1.Портфель кредитів'!A:AB,3,FALSE),\"\")","v":""},{"$f":"IFERROR(VLOOKUP(A509,'1.Портфель кредитів'!A:AB,14,FALSE),\"\")","v":""}]
[null,{"$f":"IFERROR(#REF!,\"\")","v":""},{"$f":"IFERROR(VLOOKUP(A510,'1.Портфель кредитів'!A:AB,3,FALSE),\"\")","v":""},{"$f":"IFERROR(VLOOKUP(A510,'1.Портфель кредитів'!A:AB,14,FALSE),\"\")","v":""}]
[null,{"$f":"IFERROR(#REF!,\"\")","v":""},{"$f":"IFERROR(VLOOKUP(A511,'1.Портфель кредитів'!A:AB,3,FALSE),\"\")","v":""},{"$f":"IFERROR(VLOOKUP(A511,'1.Портфель кредитів'!A:AB,14,FALSE),\"\")","v":""}]
[null,{"$f":"IFERROR(#REF!,\"\")","v":""},{"$f":"IFERROR(VLOOKUP(A512,'1.Портфель кредитів'!A:AB,3,FALSE),\"\")","v":""},{"$f":"IFERROR(VLOOKUP(A512,'1.Портфель кредитів'!A:AB,14,FALSE),\"\")","v":""}]
[null,{"$f":"IFERROR(#REF!,\"\")","v":""},{"$f":"IFERROR(VLOOKUP(A513,'1.Портфель кредитів'!A:AB,3,FALSE),\"\")","v":""},{"$f":"IFERROR(VLOOKUP(A513,'1.Портфель кредитів'!A:AB,14,FALSE),\"\")","v":""}]
[null,{"$f":"IFERROR(#REF!,\"\")","v":""},{"$f":"IFERROR(VLOOKUP(A514,'1.Портфель кредитів'!A:AB,3,FALSE),\"\")","v":""},{"$f":"IFERROR(VLOOKUP(A514,'1.Портфель кредитів'!A:AB,14,FALSE),\"\")","v":""}]
[null,{"$f":"IFERROR(#REF!,\"\")","v":""},{"$f":"IFERROR(VLOOKUP(A515,'1.Портфель кредитів'!A:AB,3,FALSE),\"\")","v":""},{"$f":"IFERROR(VLOOKUP(A515,'1.Портфель кредитів'!A:AB,14,FALSE),\"\")","v":""}]
[null,{"$f":"IFERROR(#REF!,\"\")","v":""},{"$f":"IFERROR(VLOOKUP(A516,'1.Портфель кредитів'!A:AB,3,FALSE),\"\")","v":""},{"$f":"IFERROR(VLOOKUP(A516,'1.Портфель кредитів'!A:AB,14,FALSE),\"\")","v":""}]
[null,{"$f":"IFERROR(#REF!,\"\")","v":""},{"$f":"IFERROR(VLOOKUP(A517,'1.Портфель кредитів'!A:AB,3,FALSE),\"\")","v":""},{"$f":"IFERROR(VLOOKUP(A517,'1.Портфель кредитів'!A:AB,14,FALSE),\"\")","v":""}]
[null,{"$f":"IFERROR(#REF!,\"\")","v":""},{"$f":"IFERROR(VLOOKUP(A518,'1.Портфель кредитів'!A:AB,3,FALSE),\"\")","v":""},{"$f":"IFERROR(VLOOKUP(A518,'1.Портфель кредитів'!A:AB,14,FALSE),\"\")","v":""}]
[null,{"$f":"IFERROR(#REF!,\"\")","v":""},{"$f":"IFERROR(VLOOKUP(A519,'1.Портфель кредитів'!A:AB,3,FALSE),\"\")","v":""},{"$f":"IFERROR(VLOOKUP(A519,'1.Портфель кредитів'!A:AB,14,FALSE),\"\")","v":""}]
[null,{"$f":"IFERROR(#REF!,\"\")","v":""},{"$f":"IFERROR(VLOOKUP(A520,'1.Портфель кредитів'!A:AB,3,FALSE),\"\")","v":""},{"$f":"IFERROR(VLOOKUP(A520,'1.Портфель кредитів'!A:AB,14,FALSE),\"\")","v":""}]
[null,{"$f":"IFERROR(#REF!,\"\")","v":""},{"$f":"IFERROR(VLOOKUP(A521,'1.Портфель кредитів'!A:AB,3,FALSE),\"\")","v":""},{"$f":"IFERROR(VLOOKUP(A521,'1.Портфель кредитів'!A:AB,14,FALSE),\"\")","v":""}]
[null,{"$f":"IFERROR(#REF!,\"\")","v":""},{"$f":"IFERROR(VLOOKUP(A522,'1.Портфель кредитів'!A:AB,3,FALSE),\"\")","v":""},{"$f":"IFERROR(VLOOKUP(A522,'1.Портфель кредитів'!A:AB,14,FALSE),\"\")","v":""}]
[null,{"$f":"IFERROR(#REF!,\"\")","v":""},{"$f":"IFERROR(VLOOKUP(A523,'1.Портфель кредитів'!A:AB,3,FALSE),\"\")","v":""},{"$f":"IFERROR(VLOOKUP(A523,'1.Портфель кредитів'!A:AB,14,FALSE),\"\")","v":""}]
[null,{"$f":"IFERROR(#REF!,\"\")","v":""},{"$f":"IFERROR(VLOOKUP(A524,'1.Портфель кредитів'!A:AB,3,FALSE),\"\")","v":""},{"$f":"IFERROR(VLOOKUP(A524,'1.Портфель кредитів'!A:AB,14,FALSE),\"\")","v":""}]
[null,{"$f":"IFERROR(#REF!,\"\")","v":""},{"$f":"IFERROR(VLOOKUP(A525,'1.Портфель кредитів'!A:AB,3,FALSE),\"\")","v":""},{"$f":"IFERROR(VLOOKUP(A525,'1.Портфель кредитів'!A:AB,14,FALSE),\"\")","v":""}]
[null,{"$f":"IFERROR(#REF!,\"\")","v":""},{"$f":"IFERROR(VLOOKUP(A526,'1.Портфель кредитів'!A:AB,3,FALSE),\"\")","v":""},{"$f":"IFERROR(VLOOKUP(A526,'1.Портфель кредитів'!A:AB,14,FALSE),\"\")","v":""}]
[null,{"$f":"IFERROR(#REF!,\"\")","v":""},{"$f":"IFERROR(VLOOKUP(A527,'1.Портфель кредитів'!A:AB,3,FALSE),\"\")","v":""},{"$f":"IFERROR(VLOOKUP(A527,'1.Портфель кредитів'!A:AB,14,FALSE),\"\")","v":""}]
[null,{"$f":"IFERROR(#REF!,\"\")","v":""},{"$f":"IFERROR(VLOOKUP(A528,'1.Портфель кредитів'!A:AB,3,FALSE),\"\")","v":""},{"$f":"IFERROR(VLOOKUP(A528,'1.Портфель кредитів'!A:AB,14,FALSE),\"\")","v":""}]
[null,{"$f":"IFERROR(#REF!,\"\")","v":""},{"$f":"IFERROR(VLOOKUP(A529,'1.Портфель кредитів'!A:AB,3,FALSE),\"\")","v":""},{"$f":"IFERROR(VLOOKUP(A529,'1.Портфель кредитів'!A:AB,14,FALSE),\"\")","v":""}]
[null,{"$f":"IFERROR(#REF!,\"\")","v":""},{"$f":"IFERROR(VLOOKUP(A530,'1.Портфель кредитів'!A:AB,3,FALSE),\"\")","v":""},{"$f":"IFERROR(VLOOKUP(A530,'1.Портфель кредитів'!A:AB,14,FALSE),\"\")","v":""}]
[null,{"$f":"IFERROR(#REF!,\"\")","v":""},{"$f":"IFERROR(VLOOKUP(A531,'1.Портфель кредитів'!A:AB,3,FALSE),\"\")","v":""},{"$f":"IFERROR(VLOOKUP(A531,'1.Портфель кредитів'!A:AB,14,FALSE),\"\")","v":""}]
[null,{"$f":"IFERROR(#REF!,\"\")","v":""},{"$f":"IFERROR(VLOOKUP(A532,'1.Портфель кредитів'!A:AB,3,FALSE),\"\")","v":""},{"$f":"IFERROR(VLOOKUP(A532,'1.Портфель кредитів'!A:AB,14,FALSE),\"\")","v":""}]
[null,{"$f":"IFERROR(#REF!,\"\")","v":""},{"$f":"IFERROR(VLOOKUP(A533,'1.Портфель кредитів'!A:AB,3,FALSE),\"\")","v":""},{"$f":"IFERROR(VLOOKUP(A533,'1.Портфель кредитів'!A:AB,14,FALSE),\"\")","v":""}]
[null,{"$f":"IFERROR(#REF!,\"\")","v":""},{"$f":"IFERROR(VLOOKUP(A534,'1.Портфель кредитів'!A:AB,3,FALSE),\"\")","v":""},{"$f":"IFERROR(VLOOKUP(A534,'1.Портфель кредитів'!A:AB,14,FALSE),\"\")","v":""}]
[null,{"$f":"IFERROR(#REF!,\"\")","v":""},{"$f":"IFERROR(VLOOKUP(A535,'1.Портфель кредитів'!A:AB,3,FALSE),\"\")","v":""},{"$f":"IFERROR(VLOOKUP(A535,'1.Портфель кредитів'!A:AB,14,FALSE),\"\")","v":""}]
[null,{"$f":"IFERROR(#REF!,\"\")","v":""},{"$f":"IFERROR(VLOOKUP(A536,'1.Портфель кредитів'!A:AB,3,FALSE),\"\")","v":""},{"$f":"IFERROR(VLOOKUP(A536,'1.Портфель кредитів'!A:AB,14,FALSE),\"\")","v":""}]
[null,{"$f":"IFERROR(#REF!,\"\")","v":""},{"$f":"IFERROR(VLOOKUP(A537,'1.Портфель кредитів'!A:AB,3,FALSE),\"\")","v":""},{"$f":"IFERROR(VLOOKUP(A537,'1.Портфель кредитів'!A:AB,14,FALSE),\"\")","v":""}]
[null,{"$f":"IFERROR(#REF!,\"\")","v":""},{"$f":"IFERROR(VLOOKUP(A538,'1.Портфель кредитів'!A:AB,3,FALSE),\"\")","v":""},{"$f":"IFERROR(VLOOKUP(A538,'1.Портфель кредитів'!A:AB,14,FALSE),\"\")","v":""}]
[null,{"$f":"IFERROR(#REF!,\"\")","v":""},{"$f":"IFERROR(VLOOKUP(A539,'1.Портфель кредитів'!A:AB,3,FALSE),\"\")","v":""},{"$f":"IFERROR(VLOOKUP(A539,'1.Портфель кредитів'!A:AB,14,FALSE),\"\")","v":""}]
[null,{"$f":"IFERROR(#REF!,\"\")","v":""},{"$f":"IFERROR(VLOOKUP(A540,'1.Портфель кредитів'!A:AB,3,FALSE),\"\")","v":""},{"$f":"IFERROR(VLOOKUP(A540,'1.Портфель кредитів'!A:AB,14,FALSE),\"\")","v":""}]
[null,{"$f":"IFERROR(#REF!,\"\")","v":""},{"$f":"IFERROR(VLOOKUP(A541,'1.Портфель кредитів'!A:AB,3,FALSE),\"\")","v":""},{"$f":"IFERROR(VLOOKUP(A541,'1.Портфель кредитів'!A:AB,14,FALSE),\"\")","v":""}]
[null,{"$f":"IFERROR(#REF!,\"\")","v":""},{"$f":"IFERROR(VLOOKUP(A542,'1.Портфель кредитів'!A:AB,3,FALSE),\"\")","v":""},{"$f":"IFERROR(VLOOKUP(A542,'1.Портфель кредитів'!A:AB,14,FALSE),\"\")","v":""}]
[null,{"$f":"IFERROR(#REF!,\"\")","v":""},{"$f":"IFERROR(VLOOKUP(A543,'1.Портфель кредитів'!A:AB,3,FALSE),\"\")","v":""},{"$f":"IFERROR(VLOOKUP(A543,'1.Портфель кредитів'!A:AB,14,FALSE),\"\")","v":""}]
[null,{"$f":"IFERROR(#REF!,\"\")","v":""},{"$f":"IFERROR(VLOOKUP(A544,'1.Портфель кредитів'!A:AB,3,FALSE),\"\")","v":""},{"$f":"IFERROR(VLOOKUP(A544,'1.Портфель кредитів'!A:AB,14,FALSE),\"\")","v":""}]
[null,{"$f":"IFERROR(#REF!,\"\")","v":""},{"$f":"IFERROR(VLOOKUP(A545,'1.Портфель кредитів'!A:AB,3,FALSE),\"\")","v":""},{"$f":"IFERROR(VLOOKUP(A545,'1.Портфель кредитів'!A:AB,14,FALSE),\"\")","v":""}]
[null,{"$f":"IFERROR(#REF!,\"\")","v":""},{"$f":"IFERROR(VLOOKUP(A546,'1.Портфель кредитів'!A:AB,3,FALSE),\"\")","v":""},{"$f":"IFERROR(VLOOKUP(A546,'1.Портфель кредитів'!A:AB,14,FALSE),\"\")","v":""}]
[null,{"$f":"IFERROR(#REF!,\"\")","v":""},{"$f":"IFERROR(VLOOKUP(A547,'1.Портфель кредитів'!A:AB,3,FALSE),\"\")","v":""},{"$f":"IFERROR(VLOOKUP(A547,'1.Портфель кредитів'!A:AB,14,FALSE),\"\")","v":""}]
[null,{"$f":"IFERROR(#REF!,\"\")","v":""},{"$f":"IFERROR(VLOOKUP(A548,'1.Портфель кредитів'!A:AB,3,FALSE),\"\")","v":""},{"$f":"IFERROR(VLOOKUP(A548,'1.Портфель кредитів'!A:AB,14,FALSE),\"\")","v":""}]
[null,{"$f":"IFERROR(#REF!,\"\")","v":""},{"$f":"IFERROR(VLOOKUP(A549,'1.Портфель кредитів'!A:AB,3,FALSE),\"\")","v":""},{"$f":"IFERROR(VLOOKUP(A549,'1.Портфель кредитів'!A:AB,14,FALSE),\"\")","v":""}]
[null,{"$f":"IFERROR(#REF!,\"\")","v":""},{"$f":"IFERROR(VLOOKUP(A550,'1.Портфель кредитів'!A:AB,3,FALSE),\"\")","v":""},{"$f":"IFERROR(VLOOKUP(A550,'1.Портфель кредитів'!A:AB,14,FALSE),\"\")","v":""}]
[null,{"$f":"IFERROR(#REF!,\"\")","v":""},{"$f":"IFERROR(VLOOKUP(A551,'1.Портфель кредитів'!A:AB,3,FALSE),\"\")","v":""},{"$f":"IFERROR(VLOOKUP(A551,'1.Портфель кредитів'!A:AB,14,FALSE),\"\")","v":""}]
[null,{"$f":"IFERROR(#REF!,\"\")","v":""},{"$f":"IFERROR(VLOOKUP(A552,'1.Портфель кредитів'!A:AB,3,FALSE),\"\")","v":""},{"$f":"IFERROR(VLOOKUP(A552,'1.Портфель кредитів'!A:AB,14,FALSE),\"\")","v":""}]
[null,{"$f":"IFERROR(#REF!,\"\")","v":""},{"$f":"IFERROR(VLOOKUP(A553,'1.Портфель кредитів'!A:AB,3,FALSE),\"\")","v":""},{"$f":"IFERROR(VLOOKUP(A553,'1.Портфель кредитів'!A:AB,14,FALSE),\"\")","v":""}]
[null,{"$f":"IFERROR(#REF!,\"\")","v":""},{"$f":"IFERROR(VLOOKUP(A554,'1.Портфель кредитів'!A:AB,3,FALSE),\"\")","v":""},{"$f":"IFERROR(VLOOKUP(A554,'1.Портфель кредитів'!A:AB,14,FALSE),\"\")","v":""}]
[null,{"$f":"IFERROR(#REF!,\"\")","v":""},{"$f":"IFERROR(VLOOKUP(A555,'1.Портфель кредитів'!A:AB,3,FALSE),\"\")","v":""},{"$f":"IFERROR(VLOOKUP(A555,'1.Портфель кредитів'!A:AB,14,FALSE),\"\")","v":""}]
[null,{"$f":"IFERROR(#REF!,\"\")","v":""},{"$f":"IFERROR(VLOOKUP(A556,'1.Портфель кредитів'!A:AB,3,FALSE),\"\")","v":""},{"$f":"IFERROR(VLOOKUP(A556,'1.Портфель кредитів'!A:AB,14,FALSE),\"\")","v":""}]
[null,{"$f":"IFERROR(#REF!,\"\")","v":""},{"$f":"IFERROR(VLOOKUP(A557,'1.Портфель кредитів'!A:AB,3,FALSE),\"\")","v":""},{"$f":"IFERROR(VLOOKUP(A557,'1.Портфель кредитів'!A:AB,14,FALSE),\"\")","v":""}]
[null,{"$f":"IFERROR(#REF!,\"\")","v":""},{"$f":"IFERROR(VLOOKUP(A558,'1.Портфель кредитів'!A:AB,3,FALSE),\"\")","v":""},{"$f":"IFERROR(VLOOKUP(A558,'1.Портфель кредитів'!A:AB,14,FALSE),\"\")","v":""}]
[null,{"$f":"IFERROR(#REF!,\"\")","v":""},{"$f":"IFERROR(VLOOKUP(A559,'1.Портфель кредитів'!A:AB,3,FALSE),\"\")","v":""},{"$f":"IFERROR(VLOOKUP(A559,'1.Портфель кредитів'!A:AB,14,FALSE),\"\")","v":""}]
[null,{"$f":"IFERROR(#REF!,\"\")","v":""},{"$f":"IFERROR(VLOOKUP(A560,'1.Портфель кредитів'!A:AB,3,FALSE),\"\")","v":""},{"$f":"IFERROR(VLOOKUP(A560,'1.Портфель кредитів'!A:AB,14,FALSE),\"\")","v":""}]
[null,{"$f":"IFERROR(#REF!,\"\")","v":""},{"$f":"IFERROR(VLOOKUP(A561,'1.Портфель кредитів'!A:AB,3,FALSE),\"\")","v":""},{"$f":"IFERROR(VLOOKUP(A561,'1.Портфель кредитів'!A:AB,14,FALSE),\"\")","v":""}]
[null,{"$f":"IFERROR(#REF!,\"\")","v":""},{"$f":"IFERROR(VLOOKUP(A562,'1.Портфель кредитів'!A:AB,3,FALSE),\"\")","v":""},{"$f":"IFERROR(VLOOKUP(A562,'1.Портфель кредитів'!A:AB,14,FALSE),\"\")","v":""}]
[null,{"$f":"IFERROR(#REF!,\"\")","v":""},{"$f":"IFERROR(VLOOKUP(A563,'1.Портфель кредитів'!A:AB,3,FALSE),\"\")","v":""},{"$f":"IFERROR(VLOOKUP(A563,'1.Портфель кредитів'!A:AB,14,FALSE),\"\")","v":""}]
[null,{"$f":"IFERROR(#REF!,\"\")","v":""},{"$f":"IFERROR(VLOOKUP(A564,'1.Портфель кредитів'!A:AB,3,FALSE),\"\")","v":""},{"$f":"IFERROR(VLOOKUP(A564,'1.Портфель кредитів'!A:AB,14,FALSE),\"\")","v":""}]
[null,{"$f":"IFERROR(#REF!,\"\")","v":""},{"$f":"IFERROR(VLOOKUP(A565,'1.Портфель кредитів'!A:AB,3,FALSE),\"\")","v":""},{"$f":"IFERROR(VLOOKUP(A565,'1.Портфель кредитів'!A:AB,14,FALSE),\"\")","v":""}]
[null,{"$f":"IFERROR(#REF!,\"\")","v":""},{"$f":"IFERROR(VLOOKUP(A566,'1.Портфель кредитів'!A:AB,3,FALSE),\"\")","v":""},{"$f":"IFERROR(VLOOKUP(A566,'1.Портфель кредитів'!A:AB,14,FALSE),\"\")","v":""}]
[null,{"$f":"IFERROR(#REF!,\"\")","v":""},{"$f":"IFERROR(VLOOKUP(A567,'1.Портфель кредитів'!A:AB,3,FALSE),\"\")","v":""},{"$f":"IFERROR(VLOOKUP(A567,'1.Портфель кредитів'!A:AB,14,FALSE),\"\")","v":""}]
[null,{"$f":"IFERROR(#REF!,\"\")","v":""},{"$f":"IFERROR(VLOOKUP(A568,'1.Портфель кредитів'!A:AB,3,FALSE),\"\")","v":""},{"$f":"IFERROR(VLOOKUP(A568,'1.Портфель кредитів'!A:AB,14,FALSE),\"\")","v":""}]
[null,{"$f":"IFERROR(#REF!,\"\")","v":""},{"$f":"IFERROR(VLOOKUP(A569,'1.Портфель кредитів'!A:AB,3,FALSE),\"\")","v":""},{"$f":"IFERROR(VLOOKUP(A569,'1.Портфель кредитів'!A:AB,14,FALSE),\"\")","v":""}]
[null,{"$f":"IFERROR(#REF!,\"\")","v":""},{"$f":"IFERROR(VLOOKUP(A570,'1.Портфель кредитів'!A:AB,3,FALSE),\"\")","v":""},{"$f":"IFERROR(VLOOKUP(A570,'1.Портфель кредитів'!A:AB,14,FALSE),\"\")","v":""}]
[null,{"$f":"IFERROR(#REF!,\"\")","v":""},{"$f":"IFERROR(VLOOKUP(A571,'1.Портфель кредитів'!A:AB,3,FALSE),\"\")","v":""},{"$f":"IFERROR(VLOOKUP(A571,'1.Портфель кредитів'!A:AB,14,FALSE),\"\")","v":""}]
[null,{"$f":"IFERROR(#REF!,\"\")","v":""},{"$f":"IFERROR(VLOOKUP(A572,'1.Портфель кредитів'!A:AB,3,FALSE),\"\")","v":""},{"$f":"IFERROR(VLOOKUP(A572,'1.Портфель кредитів'!A:AB,14,FALSE),\"\")","v":""}]
[null,{"$f":"IFERROR(#REF!,\"\")","v":""},{"$f":"IFERROR(VLOOKUP(A573,'1.Портфель кредитів'!A:AB,3,FALSE),\"\")","v":""},{"$f":"IFERROR(VLOOKUP(A573,'1.Портфель кредитів'!A:AB,14,FALSE),\"\")","v":""}]
[null,{"$f":"IFERROR(#REF!,\"\")","v":""},{"$f":"IFERROR(VLOOKUP(A574,'1.Портфель кредитів'!A:AB,3,FALSE),\"\")","v":""},{"$f":"IFERROR(VLOOKUP(A574,'1.Портфель кредитів'!A:AB,14,FALSE),\"\")","v":""}]
[null,{"$f":"IFERROR(#REF!,\"\")","v":""},{"$f":"IFERROR(VLOOKUP(A575,'1.Портфель кредитів'!A:AB,3,FALSE),\"\")","v":""},{"$f":"IFERROR(VLOOKUP(A575,'1.Портфель кредитів'!A:AB,14,FALSE),\"\")","v":""}]
[null,{"$f":"IFERROR(#REF!,\"\")","v":""},{"$f":"IFERROR(VLOOKUP(A576,'1.Портфель кредитів'!A:AB,3,FALSE),\"\")","v":""},{"$f":"IFERROR(VLOOKUP(A576,'1.Портфель кредитів'!A:AB,14,FALSE),\"\")","v":""}]
[null,{"$f":"IFERROR(#REF!,\"\")","v":""},{"$f":"IFERROR(VLOOKUP(A577,'1.Портфель кредитів'!A:AB,3,FALSE),\"\")","v":""},{"$f":"IFERROR(VLOOKUP(A577,'1.Портфель кредитів'!A:AB,14,FALSE),\"\")","v":""}]
[null,{"$f":"IFERROR(#REF!,\"\")","v":""},{"$f":"IFERROR(VLOOKUP(A578,'1.Портфель кредитів'!A:AB,3,FALSE),\"\")","v":""},{"$f":"IFERROR(VLOOKUP(A578,'1.Портфель кредитів'!A:AB,14,FALSE),\"\")","v":""}]
[null,{"$f":"IFERROR(#REF!,\"\")","v":""},{"$f":"IFERROR(VLOOKUP(A579,'1.Портфель кредитів'!A:AB,3,FALSE),\"\")","v":""},{"$f":"IFERROR(VLOOKUP(A579,'1.Портфель кредитів'!A:AB,14,FALSE),\"\")","v":""}]
[null,{"$f":"IFERROR(#REF!,\"\")","v":""},{"$f":"IFERROR(VLOOKUP(A580,'1.Портфель кредитів'!A:AB,3,FALSE),\"\")","v":""},{"$f":"IFERROR(VLOOKUP(A580,'1.Портфель кредитів'!A:AB,14,FALSE),\"\")","v":""}]
[null,{"$f":"IFERROR(#REF!,\"\")","v":""},{"$f":"IFERROR(VLOOKUP(A581,'1.Портфель кредитів'!A:AB,3,FALSE),\"\")","v":""},{"$f":"IFERROR(VLOOKUP(A581,'1.Портфель кредитів'!A:AB,14,FALSE),\"\")","v":""}]
[null,{"$f":"IFERROR(#REF!,\"\")","v":""},{"$f":"IFERROR(VLOOKUP(A582,'1.Портфель кредитів'!A:AB,3,FALSE),\"\")","v":""},{"$f":"IFERROR(VLOOKUP(A582,'1.Портфель кредитів'!A:AB,14,FALSE),\"\")","v":""}]
[null,{"$f":"IFERROR(#REF!,\"\")","v":""},{"$f":"IFERROR(VLOOKUP(A583,'1.Портфель кредитів'!A:AB,3,FALSE),\"\")","v":""},{"$f":"IFERROR(VLOOKUP(A583,'1.Портфель кредитів'!A:AB,14,FALSE),\"\")","v":""}]
[null,{"$f":"IFERROR(#REF!,\"\")","v":""},{"$f":"IFERROR(VLOOKUP(A584,'1.Портфель кредитів'!A:AB,3,FALSE),\"\")","v":""},{"$f":"IFERROR(VLOOKUP(A584,'1.Портфель кредитів'!A:AB,14,FALSE),\"\")","v":""}]
[null,{"$f":"IFERROR(#REF!,\"\")","v":""},{"$f":"IFERROR(VLOOKUP(A585,'1.Портфель кредитів'!A:AB,3,FALSE),\"\")","v":""},{"$f":"IFERROR(VLOOKUP(A585,'1.Портфель кредитів'!A:AB,14,FALSE),\"\")","v":""}]
[null,{"$f":"IFERROR(#REF!,\"\")","v":""},{"$f":"IFERROR(VLOOKUP(A586,'1.Портфель кредитів'!A:AB,3,FALSE),\"\")","v":""},{"$f":"IFERROR(VLOOKUP(A586,'1.Портфель кредитів'!A:AB,14,FALSE),\"\")","v":""}]
[null,{"$f":"IFERROR(#REF!,\"\")","v":""},{"$f":"IFERROR(VLOOKUP(A587,'1.Портфель кредитів'!A:AB,3,FALSE),\"\")","v":""},{"$f":"IFERROR(VLOOKUP(A587,'1.Портфель кредитів'!A:AB,14,FALSE),\"\")","v":""}]
[null,{"$f":"IFERROR(#REF!,\"\")","v":""},{"$f":"IFERROR(VLOOKUP(A588,'1.Портфель кредитів'!A:AB,3,FALSE),\"\")","v":""},{"$f":"IFERROR(VLOOKUP(A588,'1.Портфель кредитів'!A:AB,14,FALSE),\"\")","v":""}]
[null,{"$f":"IFERROR(#REF!,\"\")","v":""},{"$f":"IFERROR(VLOOKUP(A589,'1.Портфель кредитів'!A:AB,3,FALSE),\"\")","v":""},{"$f":"IFERROR(VLOOKUP(A589,'1.Портфель кредитів'!A:AB,14,FALSE),\"\")","v":""}]
[null,{"$f":"IFERROR(#REF!,\"\")","v":""},{"$f":"IFERROR(VLOOKUP(A590,'1.Портфель кредитів'!A:AB,3,FALSE),\"\")","v":""},{"$f":"IFERROR(VLOOKUP(A590,'1.Портфель кредитів'!A:AB,14,FALSE),\"\")","v":""}]
[null,{"$f":"IFERROR(#REF!,\"\")","v":""},{"$f":"IFERROR(VLOOKUP(A591,'1.Портфель кредитів'!A:AB,3,FALSE),\"\")","v":""},{"$f":"IFERROR(VLOOKUP(A591,'1.Портфель кредитів'!A:AB,14,FALSE),\"\")","v":""}]
[null,{"$f":"IFERROR(#REF!,\"\")","v":""},{"$f":"IFERROR(VLOOKUP(A592,'1.Портфель кредитів'!A:AB,3,FALSE),\"\")","v":""},{"$f":"IFERROR(VLOOKUP(A592,'1.Портфель кредитів'!A:AB,14,FALSE),\"\")","v":""}]
[null,{"$f":"IFERROR(#REF!,\"\")","v":""},{"$f":"IFERROR(VLOOKUP(A593,'1.Портфель кредитів'!A:AB,3,FALSE),\"\")","v":""},{"$f":"IFERROR(VLOOKUP(A593,'1.Портфель кредитів'!A:AB,14,FALSE),\"\")","v":""}]
[null,{"$f":"IFERROR(#REF!,\"\")","v":""},{"$f":"IFERROR(VLOOKUP(A594,'1.Портфель кредитів'!A:AB,3,FALSE),\"\")","v":""},{"$f":"IFERROR(VLOOKUP(A594,'1.Портфель кредитів'!A:AB,14,FALSE),\"\")","v":""}]
[null,{"$f":"IFERROR(#REF!,\"\")","v":""},{"$f":"IFERROR(VLOOKUP(A595,'1.Портфель кредитів'!A:AB,3,FALSE),\"\")","v":""},{"$f":"IFERROR(VLOOKUP(A595,'1.Портфель кредитів'!A:AB,14,FALSE),\"\")","v":""}]
[null,{"$f":"IFERROR(#REF!,\"\")","v":""},{"$f":"IFERROR(VLOOKUP(A596,'1.Портфель кредитів'!A:AB,3,FALSE),\"\")","v":""},{"$f":"IFERROR(VLOOKUP(A596,'1.Портфель кредитів'!A:AB,14,FALSE),\"\")","v":""}]
[null,{"$f":"IFERROR(#REF!,\"\")","v":""},{"$f":"IFERROR(VLOOKUP(A597,'1.Портфель кредитів'!A:AB,3,FALSE),\"\")","v":""},{"$f":"IFERROR(VLOOKUP(A597,'1.Портфель кредитів'!A:AB,14,FALSE),\"\")","v":""}]
[null,{"$f":"IFERROR(#REF!,\"\")","v":""},{"$f":"IFERROR(VLOOKUP(A598,'1.Портфель кредитів'!A:AB,3,FALSE),\"\")","v":""},{"$f":"IFERROR(VLOOKUP(A598,'1.Портфель кредитів'!A:AB,14,FALSE),\"\")","v":""}]
[null,{"$f":"IFERROR(#REF!,\"\")","v":""},{"$f":"IFERROR(VLOOKUP(A599,'1.Портфель кредитів'!A:AB,3,FALSE),\"\")","v":""},{"$f":"IFERROR(VLOOKUP(A599,'1.Портфель кредитів'!A:AB,14,FALSE),\"\")","v":""}]
[null,{"$f":"IFERROR(#REF!,\"\")","v":""},{"$f":"IFERROR(VLOOKUP(A600,'1.Портфель кредитів'!A:AB,3,FALSE),\"\")","v":""},{"$f":"IFERROR(VLOOKUP(A600,'1.Портфель кредитів'!A:AB,14,FALSE),\"\")","v":""}]
[null,{"$f":"IFERROR(#REF!,\"\")","v":""},{"$f":"IFERROR(VLOOKUP(A601,'1.Портфель кредитів'!A:AB,3,FALSE),\"\")","v":""},{"$f":"IFERROR(VLOOKUP(A601,'1.Портфель кредитів'!A:AB,14,FALSE),\"\")","v":""}]
[null,{"$f":"IFERROR(#REF!,\"\")","v":""},{"$f":"IFERROR(VLOOKUP(A602,'1.Портфель кредитів'!A:AB,3,FALSE),\"\")","v":""},{"$f":"IFERROR(VLOOKUP(A602,'1.Портфель кредитів'!A:AB,14,FALSE),\"\")","v":""}]
[null,{"$f":"IFERROR(#REF!,\"\")","v":""},{"$f":"IFERROR(VLOOKUP(A603,'1.Портфель кредитів'!A:AB,3,FALSE),\"\")","v":""},{"$f":"IFERROR(VLOOKUP(A603,'1.Портфель кредитів'!A:AB,14,FALSE),\"\")","v":""}]
[null,{"$f":"IFERROR(#REF!,\"\")","v":""},{"$f":"IFERROR(VLOOKUP(A604,'1.Портфель кредитів'!A:AB,3,FALSE),\"\")","v":""},{"$f":"IFERROR(VLOOKUP(A604,'1.Портфель кредитів'!A:AB,14,FALSE),\"\")","v":""}]
[null,{"$f":"IFERROR(#REF!,\"\")","v":""},{"$f":"IFERROR(VLOOKUP(A605,'1.Портфель кредитів'!A:AB,3,FALSE),\"\")","v":""},{"$f":"IFERROR(VLOOKUP(A605,'1.Портфель кредитів'!A:AB,14,FALSE),\"\")","v":""}]
[null,{"$f":"IFERROR(#REF!,\"\")","v":""},{"$f":"IFERROR(VLOOKUP(A606,'1.Портфель кредитів'!A:AB,3,FALSE),\"\")","v":""},{"$f":"IFERROR(VLOOKUP(A606,'1.Портфель кредитів'!A:AB,14,FALSE),\"\")","v":""}]
[null,{"$f":"IFERROR(#REF!,\"\")","v":""},{"$f":"IFERROR(VLOOKUP(A607,'1.Портфель кредитів'!A:AB,3,FALSE),\"\")","v":""},{"$f":"IFERROR(VLOOKUP(A607,'1.Портфель кредитів'!A:AB,14,FALSE),\"\")","v":""}]
[null,{"$f":"IFERROR(#REF!,\"\")","v":""},{"$f":"IFERROR(VLOOKUP(A608,'1.Портфель кредитів'!A:AB,3,FALSE),\"\")","v":""},{"$f":"IFERROR(VLOOKUP(A608,'1.Портфель кредитів'!A:AB,14,FALSE),\"\")","v":""}]
[null,{"$f":"IFERROR(#REF!,\"\")","v":""},{"$f":"IFERROR(VLOOKUP(A609,'1.Портфель кредитів'!A:AB,3,FALSE),\"\")","v":""},{"$f":"IFERROR(VLOOKUP(A609,'1.Портфель кредитів'!A:AB,14,FALSE),\"\")","v":""}]
[null,{"$f":"IFERROR(#REF!,\"\")","v":""},{"$f":"IFERROR(VLOOKUP(A610,'1.Портфель кредитів'!A:AB,3,FALSE),\"\")","v":""},{"$f":"IFERROR(VLOOKUP(A610,'1.Портфель кредитів'!A:AB,14,FALSE),\"\")","v":""}]
[null,{"$f":"IFERROR(#REF!,\"\")","v":""},{"$f":"IFERROR(VLOOKUP(A611,'1.Портфель кредитів'!A:AB,3,FALSE),\"\")","v":""},{"$f":"IFERROR(VLOOKUP(A611,'1.Портфель кредитів'!A:AB,14,FALSE),\"\")","v":""}]
[null,{"$f":"IFERROR(#REF!,\"\")","v":""},{"$f":"IFERROR(VLOOKUP(A612,'1.Портфель кредитів'!A:AB,3,FALSE),\"\")","v":""},{"$f":"IFERROR(VLOOKUP(A612,'1.Портфель кредитів'!A:AB,14,FALSE),\"\")","v":""}]
[null,{"$f":"IFERROR(#REF!,\"\")","v":""},{"$f":"IFERROR(VLOOKUP(A613,'1.Портфель кредитів'!A:AB,3,FALSE),\"\")","v":""},{"$f":"IFERROR(VLOOKUP(A613,'1.Портфель кредитів'!A:AB,14,FALSE),\"\")","v":""}]
[null,{"$f":"IFERROR(#REF!,\"\")","v":""},{"$f":"IFERROR(VLOOKUP(A614,'1.Портфель кредитів'!A:AB,3,FALSE),\"\")","v":""},{"$f":"IFERROR(VLOOKUP(A614,'1.Портфель кредитів'!A:AB,14,FALSE),\"\")","v":""}]
[null,{"$f":"IFERROR(#REF!,\"\")","v":""},{"$f":"IFERROR(VLOOKUP(A615,'1.Портфель кредитів'!A:AB,3,FALSE),\"\")","v":""},{"$f":"IFERROR(VLOOKUP(A615,'1.Портфель кредитів'!A:AB,14,FALSE),\"\")","v":""}]
[null,{"$f":"IFERROR(#REF!,\"\")","v":""},{"$f":"IFERROR(VLOOKUP(A616,'1.Портфель кредитів'!A:AB,3,FALSE),\"\")","v":""},{"$f":"IFERROR(VLOOKUP(A616,'1.Портфель кредитів'!A:AB,14,FALSE),\"\")","v":""}]
[null,{"$f":"IFERROR(#REF!,\"\")","v":""},{"$f":"IFERROR(VLOOKUP(A617,'1.Портфель кредитів'!A:AB,3,FALSE),\"\")","v":""},{"$f":"IFERROR(VLOOKUP(A617,'1.Портфель кредитів'!A:AB,14,FALSE),\"\")","v":""}]
[null,{"$f":"IFERROR(#REF!,\"\")","v":""},{"$f":"IFERROR(VLOOKUP(A618,'1.Портфель кредитів'!A:AB,3,FALSE),\"\")","v":""},{"$f":"IFERROR(VLOOKUP(A618,'1.Портфель кредитів'!A:AB,14,FALSE),\"\")","v":""}]
[null,{"$f":"IFERROR(#REF!,\"\")","v":""},{"$f":"IFERROR(VLOOKUP(A619,'1.Портфель кредитів'!A:AB,3,FALSE),\"\")","v":""},{"$f":"IFERROR(VLOOKUP(A619,'1.Портфель кредитів'!A:AB,14,FALSE),\"\")","v":""}]
[null,{"$f":"IFERROR(#REF!,\"\")","v":""},{"$f":"IFERROR(VLOOKUP(A620,'1.Портфель кредитів'!A:AB,3,FALSE),\"\")","v":""},{"$f":"IFERROR(VLOOKUP(A620,'1.Портфель кредитів'!A:AB,14,FALSE),\"\")","v":""}]
[null,{"$f":"IFERROR(#REF!,\"\")","v":""},{"$f":"IFERROR(VLOOKUP(A621,'1.Портфель кредитів'!A:AB,3,FALSE),\"\")","v":""},{"$f":"IFERROR(VLOOKUP(A621,'1.Портфель кредитів'!A:AB,14,FALSE),\"\")","v":""}]
[null,{"$f":"IFERROR(#REF!,\"\")","v":""},{"$f":"IFERROR(VLOOKUP(A622,'1.Портфель кредитів'!A:AB,3,FALSE),\"\")","v":""},{"$f":"IFERROR(VLOOKUP(A622,'1.Портфель кредитів'!A:AB,14,FALSE),\"\")","v":""}]
[null,{"$f":"IFERROR(#REF!,\"\")","v":""},{"$f":"IFERROR(VLOOKUP(A623,'1.Портфель кредитів'!A:AB,3,FALSE),\"\")","v":""},{"$f":"IFERROR(VLOOKUP(A623,'1.Портфель кредитів'!A:AB,14,FALSE),\"\")","v":""}]
[null,{"$f":"IFERROR(#REF!,\"\")","v":""},{"$f":"IFERROR(VLOOKUP(A624,'1.Портфель кредитів'!A:AB,3,FALSE),\"\")","v":""},{"$f":"IFERROR(VLOOKUP(A624,'1.Портфель кредитів'!A:AB,14,FALSE),\"\")","v":""}]
[null,{"$f":"IFERROR(#REF!,\"\")","v":""},{"$f":"IFERROR(VLOOKUP(A625,'1.Портфель кредитів'!A:AB,3,FALSE),\"\")","v":""},{"$f":"IFERROR(VLOOKUP(A625,'1.Портфель кредитів'!A:AB,14,FALSE),\"\")","v":""}]
[null,{"$f":"IFERROR(#REF!,\"\")","v":""},{"$f":"IFERROR(VLOOKUP(A626,'1.Портфель кредитів'!A:AB,3,FALSE),\"\")","v":""},{"$f":"IFERROR(VLOOKUP(A626,'1.Портфель кредитів'!A:AB,14,FALSE),\"\")","v":""}]
[null,{"$f":"IFERROR(#REF!,\"\")","v":""},{"$f":"IFERROR(VLOOKUP(A627,'1.Портфель кредитів'!A:AB,3,FALSE),\"\")","v":""},{"$f":"IFERROR(VLOOKUP(A627,'1.Портфель кредитів'!A:AB,14,FALSE),\"\")","v":""}]
[null,{"$f":"IFERROR(#REF!,\"\")","v":""},{"$f":"IFERROR(VLOOKUP(A628,'1.Портфель кредитів'!A:AB,3,FALSE),\"\")","v":""},{"$f":"IFERROR(VLOOKUP(A628,'1.Портфель кредитів'!A:AB,14,FALSE),\"\")","v":""}]
[null,{"$f":"IFERROR(#REF!,\"\")","v":""},{"$f":"IFERROR(VLOOKUP(A629,'1.Портфель кредитів'!A:AB,3,FALSE),\"\")","v":""},{"$f":"IFERROR(VLOOKUP(A629,'1.Портфель кредитів'!A:AB,14,FALSE),\"\")","v":""}]
[null,{"$f":"IFERROR(#REF!,\"\")","v":""},{"$f":"IFERROR(VLOOKUP(A630,'1.Портфель кредитів'!A:AB,3,FALSE),\"\")","v":""},{"$f":"IFERROR(VLOOKUP(A630,'1.Портфель кредитів'!A:AB,14,FALSE),\"\")","v":""}]
[null,{"$f":"IFERROR(#REF!,\"\")","v":""},{"$f":"IFERROR(VLOOKUP(A631,'1.Портфель кредитів'!A:AB,3,FALSE),\"\")","v":""},{"$f":"IFERROR(VLOOKUP(A631,'1.Портфель кредитів'!A:AB,14,FALSE),\"\")","v":""}]
[null,{"$f":"IFERROR(#REF!,\"\")","v":""},{"$f":"IFERROR(VLOOKUP(A632,'1.Портфель кредитів'!A:AB,3,FALSE),\"\")","v":""},{"$f":"IFERROR(VLOOKUP(A632,'1.Портфель кредитів'!A:AB,14,FALSE),\"\")","v":""}]
[null,{"$f":"IFERROR(#REF!,\"\")","v":""},{"$f":"IFERROR(VLOOKUP(A633,'1.Портфель кредитів'!A:AB,3,FALSE),\"\")","v":""},{"$f":"IFERROR(VLOOKUP(A633,'1.Портфель кредитів'!A:AB,14,FALSE),\"\")","v":""}]
[null,{"$f":"IFERROR(#REF!,\"\")","v":""},{"$f":"IFERROR(VLOOKUP(A634,'1.Портфель кредитів'!A:AB,3,FALSE),\"\")","v":""},{"$f":"IFERROR(VLOOKUP(A634,'1.Портфель кредитів'!A:AB,14,FALSE),\"\")","v":""}]
[null,{"$f":"IFERROR(#REF!,\"\")","v":""},{"$f":"IFERROR(VLOOKUP(A635,'1.Портфель кредитів'!A:AB,3,FALSE),\"\")","v":""},{"$f":"IFERROR(VLOOKUP(A635,'1.Портфель кредитів'!A:AB,14,FALSE),\"\")","v":""}]
[null,{"$f":"IFERROR(#REF!,\"\")","v":""},{"$f":"IFERROR(VLOOKUP(A636,'1.Портфель кредитів'!A:AB,3,FALSE),\"\")","v":""},{"$f":"IFERROR(VLOOKUP(A636,'1.Портфель кредитів'!A:AB,14,FALSE),\"\")","v":""}]
[null,{"$f":"IFERROR(#REF!,\"\")","v":""},{"$f":"IFERROR(VLOOKUP(A637,'1.Портфель кредитів'!A:AB,3,FALSE),\"\")","v":""},{"$f":"IFERROR(VLOOKUP(A637,'1.Портфель кредитів'!A:AB,14,FALSE),\"\")","v":""}]
[null,{"$f":"IFERROR(#REF!,\"\")","v":""},{"$f":"IFERROR(VLOOKUP(A638,'1.Портфель кредитів'!A:AB,3,FALSE),\"\")","v":""},{"$f":"IFERROR(VLOOKUP(A638,'1.Портфель кредитів'!A:AB,14,FALSE),\"\")","v":""}]
[null,{"$f":"IFERROR(#REF!,\"\")","v":""},{"$f":"IFERROR(VLOOKUP(A639,'1.Портфель кредитів'!A:AB,3,FALSE),\"\")","v":""},{"$f":"IFERROR(VLOOKUP(A639,'1.Портфель кредитів'!A:AB,14,FALSE),\"\")","v":""}]
[null,{"$f":"IFERROR(#REF!,\"\")","v":""},{"$f":"IFERROR(VLOOKUP(A640,'1.Портфель кредитів'!A:AB,3,FALSE),\"\")","v":""},{"$f":"IFERROR(VLOOKUP(A640,'1.Портфель кредитів'!A:AB,14,FALSE),\"\")","v":""}]
[null,{"$f":"IFERROR(#REF!,\"\")","v":""},{"$f":"IFERROR(VLOOKUP(A641,'1.Портфель кредитів'!A:AB,3,FALSE),\"\")","v":""},{"$f":"IFERROR(VLOOKUP(A641,'1.Портфель кредитів'!A:AB,14,FALSE),\"\")","v":""}]
[null,{"$f":"IFERROR(#REF!,\"\")","v":""},{"$f":"IFERROR(VLOOKUP(A642,'1.Портфель кредитів'!A:AB,3,FALSE),\"\")","v":""},{"$f":"IFERROR(VLOOKUP(A642,'1.Портфель кредитів'!A:AB,14,FALSE),\"\")","v":""}]
[null,{"$f":"IFERROR(#REF!,\"\")","v":""},{"$f":"IFERROR(VLOOKUP(A643,'1.Портфель кредитів'!A:AB,3,FALSE),\"\")","v":""},{"$f":"IFERROR(VLOOKUP(A643,'1.Портфель кредитів'!A:AB,14,FALSE),\"\")","v":""}]
[null,{"$f":"IFERROR(#REF!,\"\")","v":""},{"$f":"IFERROR(VLOOKUP(A644,'1.Портфель кредитів'!A:AB,3,FALSE),\"\")","v":""},{"$f":"IFERROR(VLOOKUP(A644,'1.Портфель кредитів'!A:AB,14,FALSE),\"\")","v":""}]
[null,{"$f":"IFERROR(#REF!,\"\")","v":""},{"$f":"IFERROR(VLOOKUP(A645,'1.Портфель кредитів'!A:AB,3,FALSE),\"\")","v":""},{"$f":"IFERROR(VLOOKUP(A645,'1.Портфель кредитів'!A:AB,14,FALSE),\"\")","v":""}]
[null,{"$f":"IFERROR(#REF!,\"\")","v":""},{"$f":"IFERROR(VLOOKUP(A646,'1.Портфель кредитів'!A:AB,3,FALSE),\"\")","v":""},{"$f":"IFERROR(VLOOKUP(A646,'1.Портфель кредитів'!A:AB,14,FALSE),\"\")","v":""}]
[null,{"$f":"IFERROR(#REF!,\"\")","v":""},{"$f":"IFERROR(VLOOKUP(A647,'1.Портфель кредитів'!A:AB,3,FALSE),\"\")","v":""},{"$f":"IFERROR(VLOOKUP(A647,'1.Портфель кредитів'!A:AB,14,FALSE),\"\")","v":""}]
[null,{"$f":"IFERROR(#REF!,\"\")","v":""},{"$f":"IFERROR(VLOOKUP(A648,'1.Портфель кредитів'!A:AB,3,FALSE),\"\")","v":""},{"$f":"IFERROR(VLOOKUP(A648,'1.Портфель кредитів'!A:AB,14,FALSE),\"\")","v":""}]
[null,{"$f":"IFERROR(#REF!,\"\")","v":""},{"$f":"IFERROR(VLOOKUP(A649,'1.Портфель кредитів'!A:AB,3,FALSE),\"\")","v":""},{"$f":"IFERROR(VLOOKUP(A649,'1.Портфель кредитів'!A:AB,14,FALSE),\"\")","v":""}]
[null,{"$f":"IFERROR(#REF!,\"\")","v":""},{"$f":"IFERROR(VLOOKUP(A650,'1.Портфель кредитів'!A:AB,3,FALSE),\"\")","v":""},{"$f":"IFERROR(VLOOKUP(A650,'1.Портфель кредитів'!A:AB,14,FALSE),\"\")","v":""}]
[null,{"$f":"IFERROR(#REF!,\"\")","v":""},{"$f":"IFERROR(VLOOKUP(A651,'1.Портфель кредитів'!A:AB,3,FALSE),\"\")","v":""},{"$f":"IFERROR(VLOOKUP(A651,'1.Портфель кредитів'!A:AB,14,FALSE),\"\")","v":""}]
[null,{"$f":"IFERROR(#REF!,\"\")","v":""},{"$f":"IFERROR(VLOOKUP(A652,'1.Портфель кредитів'!A:AB,3,FALSE),\"\")","v":""},{"$f":"IFERROR(VLOOKUP(A652,'1.Портфель кредитів'!A:AB,14,FALSE),\"\")","v":""}]
[null,{"$f":"IFERROR(#REF!,\"\")","v":""},{"$f":"IFERROR(VLOOKUP(A653,'1.Портфель кредитів'!A:AB,3,FALSE),\"\")","v":""},{"$f":"IFERROR(VLOOKUP(A653,'1.Портфель кредитів'!A:AB,14,FALSE),\"\")","v":""}]
[null,{"$f":"IFERROR(#REF!,\"\")","v":""},{"$f":"IFERROR(VLOOKUP(A654,'1.Портфель кредитів'!A:AB,3,FALSE),\"\")","v":""},{"$f":"IFERROR(VLOOKUP(A654,'1.Портфель кредитів'!A:AB,14,FALSE),\"\")","v":""}]
[null,{"$f":"IFERROR(#REF!,\"\")","v":""},{"$f":"IFERROR(VLOOKUP(A655,'1.Портфель кредитів'!A:AB,3,FALSE),\"\")","v":""},{"$f":"IFERROR(VLOOKUP(A655,'1.Портфель кредитів'!A:AB,14,FALSE),\"\")","v":""}]
[null,{"$f":"IFERROR(#REF!,\"\")","v":""},{"$f":"IFERROR(VLOOKUP(A656,'1.Портфель кредитів'!A:AB,3,FALSE),\"\")","v":""},{"$f":"IFERROR(VLOOKUP(A656,'1.Портфель кредитів'!A:AB,14,FALSE),\"\")","v":""}]
[null,{"$f":"IFERROR(#REF!,\"\")","v":""},{"$f":"IFERROR(VLOOKUP(A657,'1.Портфель кредитів'!A:AB,3,FALSE),\"\")","v":""},{"$f":"IFERROR(VLOOKUP(A657,'1.Портфель кредитів'!A:AB,14,FALSE),\"\")","v":""}]
[null,{"$f":"IFERROR(#REF!,\"\")","v":""},{"$f":"IFERROR(VLOOKUP(A658,'1.Портфель кредитів'!A:AB,3,FALSE),\"\")","v":""},{"$f":"IFERROR(VLOOKUP(A658,'1.Портфель кредитів'!A:AB,14,FALSE),\"\")","v":""}]
[null,{"$f":"IFERROR(#REF!,\"\")","v":""},{"$f":"IFERROR(VLOOKUP(A659,'1.Портфель кредитів'!A:AB,3,FALSE),\"\")","v":""},{"$f":"IFERROR(VLOOKUP(A659,'1.Портфель кредитів'!A:AB,14,FALSE),\"\")","v":""}]
[null,{"$f":"IFERROR(#REF!,\"\")","v":""},{"$f":"IFERROR(VLOOKUP(A660,'1.Портфель кредитів'!A:AB,3,FALSE),\"\")","v":""},{"$f":"IFERROR(VLOOKUP(A660,'1.Портфель кредитів'!A:AB,14,FALSE),\"\")","v":""}]
[null,{"$f":"IFERROR(#REF!,\"\")","v":""},{"$f":"IFERROR(VLOOKUP(A661,'1.Портфель кредитів'!A:AB,3,FALSE),\"\")","v":""},{"$f":"IFERROR(VLOOKUP(A661,'1.Портфель кредитів'!A:AB,14,FALSE),\"\")","v":""}]
[null,{"$f":"IFERROR(#REF!,\"\")","v":""},{"$f":"IFERROR(VLOOKUP(A662,'1.Портфель кредитів'!A:AB,3,FALSE),\"\")","v":""},{"$f":"IFERROR(VLOOKUP(A662,'1.Портфель кредитів'!A:AB,14,FALSE),\"\")","v":""}]
[null,{"$f":"IFERROR(#REF!,\"\")","v":""},{"$f":"IFERROR(VLOOKUP(A663,'1.Портфель кредитів'!A:AB,3,FALSE),\"\")","v":""},{"$f":"IFERROR(VLOOKUP(A663,'1.Портфель кредитів'!A:AB,14,FALSE),\"\")","v":""}]
[null,{"$f":"IFERROR(#REF!,\"\")","v":""},{"$f":"IFERROR(VLOOKUP(A664,'1.Портфель кредитів'!A:AB,3,FALSE),\"\")","v":""},{"$f":"IFERROR(VLOOKUP(A664,'1.Портфель кредитів'!A:AB,14,FALSE),\"\")","v":""}]
[null,{"$f":"IFERROR(#REF!,\"\")","v":""},{"$f":"IFERROR(VLOOKUP(A665,'1.Портфель кредитів'!A:AB,3,FALSE),\"\")","v":""},{"$f":"IFERROR(VLOOKUP(A665,'1.Портфель кредитів'!A:AB,14,FALSE),\"\")","v":""}]
[null,{"$f":"IFERROR(#REF!,\"\")","v":""},{"$f":"IFERROR(VLOOKUP(A666,'1.Портфель кредитів'!A:AB,3,FALSE),\"\")","v":""},{"$f":"IFERROR(VLOOKUP(A666,'1.Портфель кредитів'!A:AB,14,FALSE),\"\")","v":""}]
[null,{"$f":"IFERROR(#REF!,\"\")","v":""},{"$f":"IFERROR(VLOOKUP(A667,'1.Портфель кредитів'!A:AB,3,FALSE),\"\")","v":""},{"$f":"IFERROR(VLOOKUP(A667,'1.Портфель кредитів'!A:AB,14,FALSE),\"\")","v":""}]
[null,{"$f":"IFERROR(#REF!,\"\")","v":""},{"$f":"IFERROR(VLOOKUP(A668,'1.Портфель кредитів'!A:AB,3,FALSE),\"\")","v":""},{"$f":"IFERROR(VLOOKUP(A668,'1.Портфель кредитів'!A:AB,14,FALSE),\"\")","v":""}]
[null,{"$f":"IFERROR(#REF!,\"\")","v":""},{"$f":"IFERROR(VLOOKUP(A669,'1.Портфель кредитів'!A:AB,3,FALSE),\"\")","v":""},{"$f":"IFERROR(VLOOKUP(A669,'1.Портфель кредитів'!A:AB,14,FALSE),\"\")","v":""}]
[null,{"$f":"IFERROR(#REF!,\"\")","v":""},{"$f":"IFERROR(VLOOKUP(A670,'1.Портфель кредитів'!A:AB,3,FALSE),\"\")","v":""},{"$f":"IFERROR(VLOOKUP(A670,'1.Портфель кредитів'!A:AB,14,FALSE),\"\")","v":""}]
[null,{"$f":"IFERROR(#REF!,\"\")","v":""},{"$f":"IFERROR(VLOOKUP(A671,'1.Портфель кредитів'!A:AB,3,FALSE),\"\")","v":""},{"$f":"IFERROR(VLOOKUP(A671,'1.Портфель кредитів'!A:AB,14,FALSE),\"\")","v":""}]
[null,{"$f":"IFERROR(#REF!,\"\")","v":""},{"$f":"IFERROR(VLOOKUP(A672,'1.Портфель кредитів'!A:AB,3,FALSE),\"\")","v":""},{"$f":"IFERROR(VLOOKUP(A672,'1.Портфель кредитів'!A:AB,14,FALSE),\"\")","v":""}]
[null,{"$f":"IFERROR(#REF!,\"\")","v":""},{"$f":"IFERROR(VLOOKUP(A673,'1.Портфель кредитів'!A:AB,3,FALSE),\"\")","v":""},{"$f":"IFERROR(VLOOKUP(A673,'1.Портфель кредитів'!A:AB,14,FALSE),\"\")","v":""}]
[null,{"$f":"IFERROR(#REF!,\"\")","v":""},{"$f":"IFERROR(VLOOKUP(A674,'1.Портфель кредитів'!A:AB,3,FALSE),\"\")","v":""},{"$f":"IFERROR(VLOOKUP(A674,'1.Портфель кредитів'!A:AB,14,FALSE),\"\")","v":""}]
[null,{"$f":"IFERROR(#REF!,\"\")","v":""},{"$f":"IFERROR(VLOOKUP(A675,'1.Портфель кредитів'!A:AB,3,FALSE),\"\")","v":""},{"$f":"IFERROR(VLOOKUP(A675,'1.Портфель кредитів'!A:AB,14,FALSE),\"\")","v":""}]
[null,{"$f":"IFERROR(#REF!,\"\")","v":""},{"$f":"IFERROR(VLOOKUP(A676,'1.Портфель кредитів'!A:AB,3,FALSE),\"\")","v":""},{"$f":"IFERROR(VLOOKUP(A676,'1.Портфель кредитів'!A:AB,14,FALSE),\"\")","v":""}]
[null,{"$f":"IFERROR(#REF!,\"\")","v":""},{"$f":"IFERROR(VLOOKUP(A677,'1.Портфель кредитів'!A:AB,3,FALSE),\"\")","v":""},{"$f":"IFERROR(VLOOKUP(A677,'1.Портфель кредитів'!A:AB,14,FALSE),\"\")","v":""}]
[null,{"$f":"IFERROR(#REF!,\"\")","v":""},{"$f":"IFERROR(VLOOKUP(A678,'1.Портфель кредитів'!A:AB,3,FALSE),\"\")","v":""},{"$f":"IFERROR(VLOOKUP(A678,'1.Портфель кредитів'!A:AB,14,FALSE),\"\")","v":""}]
[null,{"$f":"IFERROR(#REF!,\"\")","v":""},{"$f":"IFERROR(VLOOKUP(A679,'1.Портфель кредитів'!A:AB,3,FALSE),\"\")","v":""},{"$f":"IFERROR(VLOOKUP(A679,'1.Портфель кредитів'!A:AB,14,FALSE),\"\")","v":""}]
[null,{"$f":"IFERROR(#REF!,\"\")","v":""},{"$f":"IFERROR(VLOOKUP(A680,'1.Портфель кредитів'!A:AB,3,FALSE),\"\")","v":""},{"$f":"IFERROR(VLOOKUP(A680,'1.Портфель кредитів'!A:AB,14,FALSE),\"\")","v":""}]
[null,{"$f":"IFERROR(#REF!,\"\")","v":""},{"$f":"IFERROR(VLOOKUP(A681,'1.Портфель кредитів'!A:AB,3,FALSE),\"\")","v":""},{"$f":"IFERROR(VLOOKUP(A681,'1.Портфель кредитів'!A:AB,14,FALSE),\"\")","v":""}]
[null,{"$f":"IFERROR(#REF!,\"\")","v":""},{"$f":"IFERROR(VLOOKUP(A682,'1.Портфель кредитів'!A:AB,3,FALSE),\"\")","v":""},{"$f":"IFERROR(VLOOKUP(A682,'1.Портфель кредитів'!A:AB,14,FALSE),\"\")","v":""}]
[null,{"$f":"IFERROR(#REF!,\"\")","v":""},{"$f":"IFERROR(VLOOKUP(A683,'1.Портфель кредитів'!A:AB,3,FALSE),\"\")","v":""},{"$f":"IFERROR(VLOOKUP(A683,'1.Портфель кредитів'!A:AB,14,FALSE),\"\")","v":""}]
[null,{"$f":"IFERROR(#REF!,\"\")","v":""},{"$f":"IFERROR(VLOOKUP(A684,'1.Портфель кредитів'!A:AB,3,FALSE),\"\")","v":""},{"$f":"IFERROR(VLOOKUP(A684,'1.Портфель кредитів'!A:AB,14,FALSE),\"\")","v":""}]
[null,{"$f":"IFERROR(#REF!,\"\")","v":""},{"$f":"IFERROR(VLOOKUP(A685,'1.Портфель кредитів'!A:AB,3,FALSE),\"\")","v":""},{"$f":"IFERROR(VLOOKUP(A685,'1.Портфель кредитів'!A:AB,14,FALSE),\"\")","v":""}]
[null,{"$f":"IFERROR(#REF!,\"\")","v":""},{"$f":"IFERROR(VLOOKUP(A686,'1.Портфель кредитів'!A:AB,3,FALSE),\"\")","v":""},{"$f":"IFERROR(VLOOKUP(A686,'1.Портфель кредитів'!A:AB,14,FALSE),\"\")","v":""}]
[null,{"$f":"IFERROR(#REF!,\"\")","v":""},{"$f":"IFERROR(VLOOKUP(A687,'1.Портфель кредитів'!A:AB,3,FALSE),\"\")","v":""},{"$f":"IFERROR(VLOOKUP(A687,'1.Портфель кредитів'!A:AB,14,FALSE),\"\")","v":""}]
[null,{"$f":"IFERROR(#REF!,\"\")","v":""},{"$f":"IFERROR(VLOOKUP(A688,'1.Портфель кредитів'!A:AB,3,FALSE),\"\")","v":""},{"$f":"IFERROR(VLOOKUP(A688,'1.Портфель кредитів'!A:AB,14,FALSE),\"\")","v":""}]
[null,{"$f":"IFERROR(#REF!,\"\")","v":""},{"$f":"IFERROR(VLOOKUP(A689,'1.Портфель кредитів'!A:AB,3,FALSE),\"\")","v":""},{"$f":"IFERROR(VLOOKUP(A689,'1.Портфель кредитів'!A:AB,14,FALSE),\"\")","v":""}]
[null,{"$f":"IFERROR(#REF!,\"\")","v":""},{"$f":"IFERROR(VLOOKUP(A690,'1.Портфель кредитів'!A:AB,3,FALSE),\"\")","v":""},{"$f":"IFERROR(VLOOKUP(A690,'1.Портфель кредитів'!A:AB,14,FALSE),\"\")","v":""}]
[null,{"$f":"IFERROR(#REF!,\"\")","v":""},{"$f":"IFERROR(VLOOKUP(A691,'1.Портфель кредитів'!A:AB,3,FALSE),\"\")","v":""},{"$f":"IFERROR(VLOOKUP(A691,'1.Портфель кредитів'!A:AB,14,FALSE),\"\")","v":""}]
[null,{"$f":"IFERROR(#REF!,\"\")","v":""},{"$f":"IFERROR(VLOOKUP(A692,'1.Портфель кредитів'!A:AB,3,FALSE),\"\")","v":""},{"$f":"IFERROR(VLOOKUP(A692,'1.Портфель кредитів'!A:AB,14,FALSE),\"\")","v":""}]
[null,{"$f":"IFERROR(#REF!,\"\")","v":""},{"$f":"IFERROR(VLOOKUP(A693,'1.Портфель кредитів'!A:AB,3,FALSE),\"\")","v":""},{"$f":"IFERROR(VLOOKUP(A693,'1.Портфель кредитів'!A:AB,14,FALSE),\"\")","v":""}]
[null,{"$f":"IFERROR(#REF!,\"\")","v":""},{"$f":"IFERROR(VLOOKUP(A694,'1.Портфель кредитів'!A:AB,3,FALSE),\"\")","v":""},{"$f":"IFERROR(VLOOKUP(A694,'1.Портфель кредитів'!A:AB,14,FALSE),\"\")","v":""}]
[null,{"$f":"IFERROR(#REF!,\"\")","v":""},{"$f":"IFERROR(VLOOKUP(A695,'1.Портфель кредитів'!A:AB,3,FALSE),\"\")","v":""},{"$f":"IFERROR(VLOOKUP(A695,'1.Портфель кредитів'!A:AB,14,FALSE),\"\")","v":""}]
[null,{"$f":"IFERROR(#REF!,\"\")","v":""},{"$f":"IFERROR(VLOOKUP(A696,'1.Портфель кредитів'!A:AB,3,FALSE),\"\")","v":""},{"$f":"IFERROR(VLOOKUP(A696,'1.Портфель кредитів'!A:AB,14,FALSE),\"\")","v":""}]
[null,{"$f":"IFERROR(#REF!,\"\")","v":""},{"$f":"IFERROR(VLOOKUP(A697,'1.Портфель кредитів'!A:AB,3,FALSE),\"\")","v":""},{"$f":"IFERROR(VLOOKUP(A697,'1.Портфель кредитів'!A:AB,14,FALSE),\"\")","v":""}]
[null,{"$f":"IFERROR(#REF!,\"\")","v":""},{"$f":"IFERROR(VLOOKUP(A698,'1.Портфель кредитів'!A:AB,3,FALSE),\"\")","v":""},{"$f":"IFERROR(VLOOKUP(A698,'1.Портфель кредитів'!A:AB,14,FALSE),\"\")","v":""}]
[null,{"$f":"IFERROR(#REF!,\"\")","v":""},{"$f":"IFERROR(VLOOKUP(A699,'1.Портфель кредитів'!A:AB,3,FALSE),\"\")","v":""},{"$f":"IFERROR(VLOOKUP(A699,'1.Портфель кредитів'!A:AB,14,FALSE),\"\")","v":""}]
[null,{"$f":"IFERROR(#REF!,\"\")","v":""},{"$f":"IFERROR(VLOOKUP(A700,'1.Портфель кредитів'!A:AB,3,FALSE),\"\")","v":""},{"$f":"IFERROR(VLOOKUP(A700,'1.Портфель кредитів'!A:AB,14,FALSE),\"\")","v":""}]
[null,{"$f":"IFERROR(#REF!,\"\")","v":""},{"$f":"IFERROR(VLOOKUP(A701,'1.Портфель кредитів'!A:AB,3,FALSE),\"\")","v":""},{"$f":"IFERROR(VLOOKUP(A701,'1.Портфель кредитів'!A:AB,14,FALSE),\"\")","v":""}]
[null,{"$f":"IFERROR(#REF!,\"\")","v":""},{"$f":"IFERROR(VLOOKUP(A702,'1.Портфель кредитів'!A:AB,3,FALSE),\"\")","v":""},{"$f":"IFERROR(VLOOKUP(A702,'1.Портфель кредитів'!A:AB,14,FALSE),\"\")","v":""}]
[null,{"$f":"IFERROR(#REF!,\"\")","v":""},{"$f":"IFERROR(VLOOKUP(A703,'1.Портфель кредитів'!A:AB,3,FALSE),\"\")","v":""},{"$f":"IFERROR(VLOOKUP(A703,'1.Портфель кредитів'!A:AB,14,FALSE),\"\")","v":""}]
[null,{"$f":"IFERROR(#REF!,\"\")","v":""},{"$f":"IFERROR(VLOOKUP(A704,'1.Портфель кредитів'!A:AB,3,FALSE),\"\")","v":""},{"$f":"IFERROR(VLOOKUP(A704,'1.Портфель кредитів'!A:AB,14,FALSE),\"\")","v":""}]
[null,{"$f":"IFERROR(#REF!,\"\")","v":""},{"$f":"IFERROR(VLOOKUP(A705,'1.Портфель кредитів'!A:AB,3,FALSE),\"\")","v":""},{"$f":"IFERROR(VLOOKUP(A705,'1.Портфель кредитів'!A:AB,14,FALSE),\"\")","v":""}]
[null,{"$f":"IFERROR(#REF!,\"\")","v":""},{"$f":"IFERROR(VLOOKUP(A706,'1.Портфель кредитів'!A:AB,3,FALSE),\"\")","v":""},{"$f":"IFERROR(VLOOKUP(A706,'1.Портфель кредитів'!A:AB,14,FALSE),\"\")","v":""}]
[null,{"$f":"IFERROR(#REF!,\"\")","v":""},{"$f":"IFERROR(VLOOKUP(A707,'1.Портфель кредитів'!A:AB,3,FALSE),\"\")","v":""},{"$f":"IFERROR(VLOOKUP(A707,'1.Портфель кредитів'!A:AB,14,FALSE),\"\")","v":""}]
[null,{"$f":"IFERROR(#REF!,\"\")","v":""},{"$f":"IFERROR(VLOOKUP(A708,'1.Портфель кредитів'!A:AB,3,FALSE),\"\")","v":""},{"$f":"IFERROR(VLOOKUP(A708,'1.Портфель кредитів'!A:AB,14,FALSE),\"\")","v":""}]
[null,{"$f":"IFERROR(#REF!,\"\")","v":""},{"$f":"IFERROR(VLOOKUP(A709,'1.Портфель кредитів'!A:AB,3,FALSE),\"\")","v":""},{"$f":"IFERROR(VLOOKUP(A709,'1.Портфель кредитів'!A:AB,14,FALSE),\"\")","v":""}]
[null,{"$f":"IFERROR(#REF!,\"\")","v":""},{"$f":"IFERROR(VLOOKUP(A710,'1.Портфель кредитів'!A:AB,3,FALSE),\"\")","v":""},{"$f":"IFERROR(VLOOKUP(A710,'1.Портфель кредитів'!A:AB,14,FALSE),\"\")","v":""}]
[null,{"$f":"IFERROR(#REF!,\"\")","v":""},{"$f":"IFERROR(VLOOKUP(A711,'1.Портфель кредитів'!A:AB,3,FALSE),\"\")","v":""},{"$f":"IFERROR(VLOOKUP(A711,'1.Портфель кредитів'!A:AB,14,FALSE),\"\")","v":""}]
[null,{"$f":"IFERROR(#REF!,\"\")","v":""},{"$f":"IFERROR(VLOOKUP(A712,'1.Портфель кредитів'!A:AB,3,FALSE),\"\")","v":""},{"$f":"IFERROR(VLOOKUP(A712,'1.Портфель кредитів'!A:AB,14,FALSE),\"\")","v":""}]
[null,{"$f":"IFERROR(#REF!,\"\")","v":""},{"$f":"IFERROR(VLOOKUP(A713,'1.Портфель кредитів'!A:AB,3,FALSE),\"\")","v":""},{"$f":"IFERROR(VLOOKUP(A713,'1.Портфель кредитів'!A:AB,14,FALSE),\"\")","v":""}]
[null,{"$f":"IFERROR(#REF!,\"\")","v":""},{"$f":"IFERROR(VLOOKUP(A714,'1.Портфель кредитів'!A:AB,3,FALSE),\"\")","v":""},{"$f":"IFERROR(VLOOKUP(A714,'1.Портфель кредитів'!A:AB,14,FALSE),\"\")","v":""}]
[null,{"$f":"IFERROR(#REF!,\"\")","v":""},{"$f":"IFERROR(VLOOKUP(A715,'1.Портфель кредитів'!A:AB,3,FALSE),\"\")","v":""},{"$f":"IFERROR(VLOOKUP(A715,'1.Портфель кредитів'!A:AB,14,FALSE),\"\")","v":""}]
[null,{"$f":"IFERROR(#REF!,\"\")","v":""},{"$f":"IFERROR(VLOOKUP(A716,'1.Портфель кредитів'!A:AB,3,FALSE),\"\")","v":""},{"$f":"IFERROR(VLOOKUP(A716,'1.Портфель кредитів'!A:AB,14,FALSE),\"\")","v":""}]
[null,{"$f":"IFERROR(#REF!,\"\")","v":""},{"$f":"IFERROR(VLOOKUP(A717,'1.Портфель кредитів'!A:AB,3,FALSE),\"\")","v":""},{"$f":"IFERROR(VLOOKUP(A717,'1.Портфель кредитів'!A:AB,14,FALSE),\"\")","v":""}]
[null,{"$f":"IFERROR(#REF!,\"\")","v":""},{"$f":"IFERROR(VLOOKUP(A718,'1.Портфель кредитів'!A:AB,3,FALSE),\"\")","v":""},{"$f":"IFERROR(VLOOKUP(A718,'1.Портфель кредитів'!A:AB,14,FALSE),\"\")","v":""}]
[null,{"$f":"IFERROR(#REF!,\"\")","v":""},{"$f":"IFERROR(VLOOKUP(A719,'1.Портфель кредитів'!A:AB,3,FALSE),\"\")","v":""},{"$f":"IFERROR(VLOOKUP(A719,'1.Портфель кредитів'!A:AB,14,FALSE),\"\")","v":""}]
[null,{"$f":"IFERROR(#REF!,\"\")","v":""},{"$f":"IFERROR(VLOOKUP(A720,'1.Портфель кредитів'!A:AB,3,FALSE),\"\")","v":""},{"$f":"IFERROR(VLOOKUP(A720,'1.Портфель кредитів'!A:AB,14,FALSE),\"\")","v":""}]
[null,{"$f":"IFERROR(#REF!,\"\")","v":""},{"$f":"IFERROR(VLOOKUP(A721,'1.Портфель кредитів'!A:AB,3,FALSE),\"\")","v":""},{"$f":"IFERROR(VLOOKUP(A721,'1.Портфель кредитів'!A:AB,14,FALSE),\"\")","v":""}]
[null,{"$f":"IFERROR(#REF!,\"\")","v":""},{"$f":"IFERROR(VLOOKUP(A722,'1.Портфель кредитів'!A:AB,3,FALSE),\"\")","v":""},{"$f":"IFERROR(VLOOKUP(A722,'1.Портфель кредитів'!A:AB,14,FALSE),\"\")","v":""}]
[null,{"$f":"IFERROR(#REF!,\"\")","v":""},{"$f":"IFERROR(VLOOKUP(A723,'1.Портфель кредитів'!A:AB,3,FALSE),\"\")","v":""},{"$f":"IFERROR(VLOOKUP(A723,'1.Портфель кредитів'!A:AB,14,FALSE),\"\")","v":""}]
[null,{"$f":"IFERROR(#REF!,\"\")","v":""},{"$f":"IFERROR(VLOOKUP(A724,'1.Портфель кредитів'!A:AB,3,FALSE),\"\")","v":""},{"$f":"IFERROR(VLOOKUP(A724,'1.Портфель кредитів'!A:AB,14,FALSE),\"\")","v":""}]
[null,{"$f":"IFERROR(#REF!,\"\")","v":""},{"$f":"IFERROR(VLOOKUP(A725,'1.Портфель кредитів'!A:AB,3,FALSE),\"\")","v":""},{"$f":"IFERROR(VLOOKUP(A725,'1.Портфель кредитів'!A:AB,14,FALSE),\"\")","v":""}]
[null,{"$f":"IFERROR(#REF!,\"\")","v":""},{"$f":"IFERROR(VLOOKUP(A726,'1.Портфель кредитів'!A:AB,3,FALSE),\"\")","v":""},{"$f":"IFERROR(VLOOKUP(A726,'1.Портфель кредитів'!A:AB,14,FALSE),\"\")","v":""}]
[null,{"$f":"IFERROR(#REF!,\"\")","v":""},{"$f":"IFERROR(VLOOKUP(A727,'1.Портфель кредитів'!A:AB,3,FALSE),\"\")","v":""},{"$f":"IFERROR(VLOOKUP(A727,'1.Портфель кредитів'!A:AB,14,FALSE),\"\")","v":""}]
[null,{"$f":"IFERROR(#REF!,\"\")","v":""},{"$f":"IFERROR(VLOOKUP(A728,'1.Портфель кредитів'!A:AB,3,FALSE),\"\")","v":""},{"$f":"IFERROR(VLOOKUP(A728,'1.Портфель кредитів'!A:AB,14,FALSE),\"\")","v":""}]
[null,{"$f":"IFERROR(#REF!,\"\")","v":""},{"$f":"IFERROR(VLOOKUP(A729,'1.Портфель кредитів'!A:AB,3,FALSE),\"\")","v":""},{"$f":"IFERROR(VLOOKUP(A729,'1.Портфель кредитів'!A:AB,14,FALSE),\"\")","v":""}]
[null,{"$f":"IFERROR(#REF!,\"\")","v":""},{"$f":"IFERROR(VLOOKUP(A730,'1.Портфель кредитів'!A:AB,3,FALSE),\"\")","v":""},{"$f":"IFERROR(VLOOKUP(A730,'1.Портфель кредитів'!A:AB,14,FALSE),\"\")","v":""}]
[null,{"$f":"IFERROR(#REF!,\"\")","v":""},{"$f":"IFERROR(VLOOKUP(A731,'1.Портфель кредитів'!A:AB,3,FALSE),\"\")","v":""},{"$f":"IFERROR(VLOOKUP(A731,'1.Портфель кредитів'!A:AB,14,FALSE),\"\")","v":""}]
[null,{"$f":"IFERROR(#REF!,\"\")","v":""},{"$f":"IFERROR(VLOOKUP(A732,'1.Портфель кредитів'!A:AB,3,FALSE),\"\")","v":""},{"$f":"IFERROR(VLOOKUP(A732,'1.Портфель кредитів'!A:AB,14,FALSE),\"\")","v":""}]
[null,{"$f":"IFERROR(#REF!,\"\")","v":""},{"$f":"IFERROR(VLOOKUP(A733,'1.Портфель кредитів'!A:AB,3,FALSE),\"\")","v":""},{"$f":"IFERROR(VLOOKUP(A733,'1.Портфель кредитів'!A:AB,14,FALSE),\"\")","v":""}]
[null,{"$f":"IFERROR(#REF!,\"\")","v":""},{"$f":"IFERROR(VLOOKUP(A734,'1.Портфель кредитів'!A:AB,3,FALSE),\"\")","v":""},{"$f":"IFERROR(VLOOKUP(A734,'1.Портфель кредитів'!A:AB,14,FALSE),\"\")","v":""}]
[null,{"$f":"IFERROR(#REF!,\"\")","v":""},{"$f":"IFERROR(VLOOKUP(A735,'1.Портфель кредитів'!A:AB,3,FALSE),\"\")","v":""},{"$f":"IFERROR(VLOOKUP(A735,'1.Портфель кредитів'!A:AB,14,FALSE),\"\")","v":""}]
[null,{"$f":"IFERROR(#REF!,\"\")","v":""},{"$f":"IFERROR(VLOOKUP(A736,'1.Портфель кредитів'!A:AB,3,FALSE),\"\")","v":""},{"$f":"IFERROR(VLOOKUP(A736,'1.Портфель кредитів'!A:AB,14,FALSE),\"\")","v":""}]
[null,{"$f":"IFERROR(#REF!,\"\")","v":""},{"$f":"IFERROR(VLOOKUP(A737,'1.Портфель кредитів'!A:AB,3,FALSE),\"\")","v":""},{"$f":"IFERROR(VLOOKUP(A737,'1.Портфель кредитів'!A:AB,14,FALSE),\"\")","v":""}]
[null,{"$f":"IFERROR(#REF!,\"\")","v":""},{"$f":"IFERROR(VLOOKUP(A738,'1.Портфель кредитів'!A:AB,3,FALSE),\"\")","v":""},{"$f":"IFERROR(VLOOKUP(A738,'1.Портфель кредитів'!A:AB,14,FALSE),\"\")","v":""}]
[null,{"$f":"IFERROR(#REF!,\"\")","v":""},{"$f":"IFERROR(VLOOKUP(A739,'1.Портфель кредитів'!A:AB,3,FALSE),\"\")","v":""},{"$f":"IFERROR(VLOOKUP(A739,'1.Портфель кредитів'!A:AB,14,FALSE),\"\")","v":""}]
[null,{"$f":"IFERROR(#REF!,\"\")","v":""},{"$f":"IFERROR(VLOOKUP(A740,'1.Портфель кредитів'!A:AB,3,FALSE),\"\")","v":""},{"$f":"IFERROR(VLOOKUP(A740,'1.Портфель кредитів'!A:AB,14,FALSE),\"\")","v":""}]
[null,{"$f":"IFERROR(#REF!,\"\")","v":""},{"$f":"IFERROR(VLOOKUP(A741,'1.Портфель кредитів'!A:AB,3,FALSE),\"\")","v":""},{"$f":"IFERROR(VLOOKUP(A741,'1.Портфель кредитів'!A:AB,14,FALSE),\"\")","v":""}]
[null,{"$f":"IFERROR(#REF!,\"\")","v":""},{"$f":"IFERROR(VLOOKUP(A742,'1.Портфель кредитів'!A:AB,3,FALSE),\"\")","v":""},{"$f":"IFERROR(VLOOKUP(A742,'1.Портфель кредитів'!A:AB,14,FALSE),\"\")","v":""}]
[null,{"$f":"IFERROR(#REF!,\"\")","v":""},{"$f":"IFERROR(VLOOKUP(A743,'1.Портфель кредитів'!A:AB,3,FALSE),\"\")","v":""},{"$f":"IFERROR(VLOOKUP(A743,'1.Портфель кредитів'!A:AB,14,FALSE),\"\")","v":""}]
[null,{"$f":"IFERROR(#REF!,\"\")","v":""},{"$f":"IFERROR(VLOOKUP(A744,'1.Портфель кредитів'!A:AB,3,FALSE),\"\")","v":""},{"$f":"IFERROR(VLOOKUP(A744,'1.Портфель кредитів'!A:AB,14,FALSE),\"\")","v":""}]
[null,{"$f":"IFERROR(#REF!,\"\")","v":""},{"$f":"IFERROR(VLOOKUP(A745,'1.Портфель кредитів'!A:AB,3,FALSE),\"\")","v":""},{"$f":"IFERROR(VLOOKUP(A745,'1.Портфель кредитів'!A:AB,14,FALSE),\"\")","v":""}]
[null,{"$f":"IFERROR(#REF!,\"\")","v":""},{"$f":"IFERROR(VLOOKUP(A746,'1.Портфель кредитів'!A:AB,3,FALSE),\"\")","v":""},{"$f":"IFERROR(VLOOKUP(A746,'1.Портфель кредитів'!A:AB,14,FALSE),\"\")","v":""}]
[null,{"$f":"IFERROR(#REF!,\"\")","v":""},{"$f":"IFERROR(VLOOKUP(A747,'1.Портфель кредитів'!A:AB,3,FALSE),\"\")","v":""},{"$f":"IFERROR(VLOOKUP(A747,'1.Портфель кредитів'!A:AB,14,FALSE),\"\")","v":""}]
[null,{"$f":"IFERROR(#REF!,\"\")","v":""},{"$f":"IFERROR(VLOOKUP(A748,'1.Портфель кредитів'!A:AB,3,FALSE),\"\")","v":""},{"$f":"IFERROR(VLOOKUP(A748,'1.Портфель кредитів'!A:AB,14,FALSE),\"\")","v":""}]
[null,{"$f":"IFERROR(#REF!,\"\")","v":""},{"$f":"IFERROR(VLOOKUP(A749,'1.Портфель кредитів'!A:AB,3,FALSE),\"\")","v":""},{"$f":"IFERROR(VLOOKUP(A749,'1.Портфель кредитів'!A:AB,14,FALSE),\"\")","v":""}]
[null,{"$f":"IFERROR(#REF!,\"\")","v":""},{"$f":"IFERROR(VLOOKUP(A750,'1.Портфель кредитів'!A:AB,3,FALSE),\"\")","v":""},{"$f":"IFERROR(VLOOKUP(A750,'1.Портфель кредитів'!A:AB,14,FALSE),\"\")","v":""}]
[null,{"$f":"IFERROR(#REF!,\"\")","v":""},{"$f":"IFERROR(VLOOKUP(A751,'1.Портфель кредитів'!A:AB,3,FALSE),\"\")","v":""},{"$f":"IFERROR(VLOOKUP(A751,'1.Портфель кредитів'!A:AB,14,FALSE),\"\")","v":""}]
[null,{"$f":"IFERROR(#REF!,\"\")","v":""},{"$f":"IFERROR(VLOOKUP(A752,'1.Портфель кредитів'!A:AB,3,FALSE),\"\")","v":""},{"$f":"IFERROR(VLOOKUP(A752,'1.Портфель кредитів'!A:AB,14,FALSE),\"\")","v":""}]
[null,{"$f":"IFERROR(#REF!,\"\")","v":""},{"$f":"IFERROR(VLOOKUP(A753,'1.Портфель кредитів'!A:AB,3,FALSE),\"\")","v":""},{"$f":"IFERROR(VLOOKUP(A753,'1.Портфель кредитів'!A:AB,14,FALSE),\"\")","v":""}]
[null,{"$f":"IFERROR(#REF!,\"\")","v":""},{"$f":"IFERROR(VLOOKUP(A754,'1.Портфель кредитів'!A:AB,3,FALSE),\"\")","v":""},{"$f":"IFERROR(VLOOKUP(A754,'1.Портфель кредитів'!A:AB,14,FALSE),\"\")","v":""}]
[null,{"$f":"IFERROR(#REF!,\"\")","v":""},{"$f":"IFERROR(VLOOKUP(A755,'1.Портфель кредитів'!A:AB,3,FALSE),\"\")","v":""},{"$f":"IFERROR(VLOOKUP(A755,'1.Портфель кредитів'!A:AB,14,FALSE),\"\")","v":""}]
[null,{"$f":"IFERROR(#REF!,\"\")","v":""},{"$f":"IFERROR(VLOOKUP(A756,'1.Портфель кредитів'!A:AB,3,FALSE),\"\")","v":""},{"$f":"IFERROR(VLOOKUP(A756,'1.Портфель кредитів'!A:AB,14,FALSE),\"\")","v":""}]
[null,{"$f":"IFERROR(#REF!,\"\")","v":""},{"$f":"IFERROR(VLOOKUP(A757,'1.Портфель кредитів'!A:AB,3,FALSE),\"\")","v":""},{"$f":"IFERROR(VLOOKUP(A757,'1.Портфель кредитів'!A:AB,14,FALSE),\"\")","v":""}]
[null,{"$f":"IFERROR(#REF!,\"\")","v":""},{"$f":"IFERROR(VLOOKUP(A758,'1.Портфель кредитів'!A:AB,3,FALSE),\"\")","v":""},{"$f":"IFERROR(VLOOKUP(A758,'1.Портфель кредитів'!A:AB,14,FALSE),\"\")","v":""}]
[null,{"$f":"IFERROR(#REF!,\"\")","v":""},{"$f":"IFERROR(VLOOKUP(A759,'1.Портфель кредитів'!A:AB,3,FALSE),\"\")","v":""},{"$f":"IFERROR(VLOOKUP(A759,'1.Портфель кредитів'!A:AB,14,FALSE),\"\")","v":""}]
[null,{"$f":"IFERROR(#REF!,\"\")","v":""},{"$f":"IFERROR(VLOOKUP(A760,'1.Портфель кредитів'!A:AB,3,FALSE),\"\")","v":""},{"$f":"IFERROR(VLOOKUP(A760,'1.Портфель кредитів'!A:AB,14,FALSE),\"\")","v":""}]
[null,{"$f":"IFERROR(#REF!,\"\")","v":""},{"$f":"IFERROR(VLOOKUP(A761,'1.Портфель кредитів'!A:AB,3,FALSE),\"\")","v":""},{"$f":"IFERROR(VLOOKUP(A761,'1.Портфель кредитів'!A:AB,14,FALSE),\"\")","v":""}]
[null,{"$f":"IFERROR(#REF!,\"\")","v":""},{"$f":"IFERROR(VLOOKUP(A762,'1.Портфель кредитів'!A:AB,3,FALSE),\"\")","v":""},{"$f":"IFERROR(VLOOKUP(A762,'1.Портфель кредитів'!A:AB,14,FALSE),\"\")","v":""}]
[null,{"$f":"IFERROR(#REF!,\"\")","v":""},{"$f":"IFERROR(VLOOKUP(A763,'1.Портфель кредитів'!A:AB,3,FALSE),\"\")","v":""},{"$f":"IFERROR(VLOOKUP(A763,'1.Портфель кредитів'!A:AB,14,FALSE),\"\")","v":""}]
[null,{"$f":"IFERROR(#REF!,\"\")","v":""},{"$f":"IFERROR(VLOOKUP(A764,'1.Портфель кредитів'!A:AB,3,FALSE),\"\")","v":""},{"$f":"IFERROR(VLOOKUP(A764,'1.Портфель кредитів'!A:AB,14,FALSE),\"\")","v":""}]
[null,{"$f":"IFERROR(#REF!,\"\")","v":""},{"$f":"IFERROR(VLOOKUP(A765,'1.Портфель кредитів'!A:AB,3,FALSE),\"\")","v":""},{"$f":"IFERROR(VLOOKUP(A765,'1.Портфель кредитів'!A:AB,14,FALSE),\"\")","v":""}]
[null,{"$f":"IFERROR(#REF!,\"\")","v":""},{"$f":"IFERROR(VLOOKUP(A766,'1.Портфель кредитів'!A:AB,3,FALSE),\"\")","v":""},{"$f":"IFERROR(VLOOKUP(A766,'1.Портфель кредитів'!A:AB,14,FALSE),\"\")","v":""}]
[null,{"$f":"IFERROR(#REF!,\"\")","v":""},{"$f":"IFERROR(VLOOKUP(A767,'1.Портфель кредитів'!A:AB,3,FALSE),\"\")","v":""},{"$f":"IFERROR(VLOOKUP(A767,'1.Портфель кредитів'!A:AB,14,FALSE),\"\")","v":""}]
[null,{"$f":"IFERROR(#REF!,\"\")","v":""},{"$f":"IFERROR(VLOOKUP(A768,'1.Портфель кредитів'!A:AB,3,FALSE),\"\")","v":""},{"$f":"IFERROR(VLOOKUP(A768,'1.Портфель кредитів'!A:AB,14,FALSE),\"\")","v":""}]
[null,{"$f":"IFERROR(#REF!,\"\")","v":""},{"$f":"IFERROR(VLOOKUP(A769,'1.Портфель кредитів'!A:AB,3,FALSE),\"\")","v":""},{"$f":"IFERROR(VLOOKUP(A769,'1.Портфель кредитів'!A:AB,14,FALSE),\"\")","v":""}]
[null,{"$f":"IFERROR(#REF!,\"\")","v":""},{"$f":"IFERROR(VLOOKUP(A770,'1.Портфель кредитів'!A:AB,3,FALSE),\"\")","v":""},{"$f":"IFERROR(VLOOKUP(A770,'1.Портфель кредитів'!A:AB,14,FALSE),\"\")","v":""}]
[null,{"$f":"IFERROR(#REF!,\"\")","v":""},{"$f":"IFERROR(VLOOKUP(A771,'1.Портфель кредитів'!A:AB,3,FALSE),\"\")","v":""},{"$f":"IFERROR(VLOOKUP(A771,'1.Портфель кредитів'!A:AB,14,FALSE),\"\")","v":""}]
[null,{"$f":"IFERROR(#REF!,\"\")","v":""},{"$f":"IFERROR(VLOOKUP(A772,'1.Портфель кредитів'!A:AB,3,FALSE),\"\")","v":""},{"$f":"IFERROR(VLOOKUP(A772,'1.Портфель кредитів'!A:AB,14,FALSE),\"\")","v":""}]
[null,{"$f":"IFERROR(#REF!,\"\")","v":""},{"$f":"IFERROR(VLOOKUP(A773,'1.Портфель кредитів'!A:AB,3,FALSE),\"\")","v":""},{"$f":"IFERROR(VLOOKUP(A773,'1.Портфель кредитів'!A:AB,14,FALSE),\"\")","v":""}]
[null,{"$f":"IFERROR(#REF!,\"\")","v":""},{"$f":"IFERROR(VLOOKUP(A774,'1.Портфель кредитів'!A:AB,3,FALSE),\"\")","v":""},{"$f":"IFERROR(VLOOKUP(A774,'1.Портфель кредитів'!A:AB,14,FALSE),\"\")","v":""}]
[null,{"$f":"IFERROR(#REF!,\"\")","v":""},{"$f":"IFERROR(VLOOKUP(A775,'1.Портфель кредитів'!A:AB,3,FALSE),\"\")","v":""},{"$f":"IFERROR(VLOOKUP(A775,'1.Портфель кредитів'!A:AB,14,FALSE),\"\")","v":""}]
[null,{"$f":"IFERROR(#REF!,\"\")","v":""},{"$f":"IFERROR(VLOOKUP(A776,'1.Портфель кредитів'!A:AB,3,FALSE),\"\")","v":""},{"$f":"IFERROR(VLOOKUP(A776,'1.Портфель кредитів'!A:AB,14,FALSE),\"\")","v":""}]
[null,{"$f":"IFERROR(#REF!,\"\")","v":""},{"$f":"IFERROR(VLOOKUP(A777,'1.Портфель кредитів'!A:AB,3,FALSE),\"\")","v":""},{"$f":"IFERROR(VLOOKUP(A777,'1.Портфель кредитів'!A:AB,14,FALSE),\"\")","v":""}]
[null,{"$f":"IFERROR(#REF!,\"\")","v":""},{"$f":"IFERROR(VLOOKUP(A778,'1.Портфель кредитів'!A:AB,3,FALSE),\"\")","v":""},{"$f":"IFERROR(VLOOKUP(A778,'1.Портфель кредитів'!A:AB,14,FALSE),\"\")","v":""}]
[null,{"$f":"IFERROR(#REF!,\"\")","v":""},{"$f":"IFERROR(VLOOKUP(A779,'1.Портфель кредитів'!A:AB,3,FALSE),\"\")","v":""},{"$f":"IFERROR(VLOOKUP(A779,'1.Портфель кредитів'!A:AB,14,FALSE),\"\")","v":""}]
[null,{"$f":"IFERROR(#REF!,\"\")","v":""},{"$f":"IFERROR(VLOOKUP(A780,'1.Портфель кредитів'!A:AB,3,FALSE),\"\")","v":""},{"$f":"IFERROR(VLOOKUP(A780,'1.Портфель кредитів'!A:AB,14,FALSE),\"\")","v":""}]
[null,{"$f":"IFERROR(#REF!,\"\")","v":""},{"$f":"IFERROR(VLOOKUP(A781,'1.Портфель кредитів'!A:AB,3,FALSE),\"\")","v":""},{"$f":"IFERROR(VLOOKUP(A781,'1.Портфель кредитів'!A:AB,14,FALSE),\"\")","v":""}]
[null,{"$f":"IFERROR(#REF!,\"\")","v":""},{"$f":"IFERROR(VLOOKUP(A782,'1.Портфель кредитів'!A:AB,3,FALSE),\"\")","v":""},{"$f":"IFERROR(VLOOKUP(A782,'1.Портфель кредитів'!A:AB,14,FALSE),\"\")","v":""}]
[null,{"$f":"IFERROR(#REF!,\"\")","v":""},{"$f":"IFERROR(VLOOKUP(A783,'1.Портфель кредитів'!A:AB,3,FALSE),\"\")","v":""},{"$f":"IFERROR(VLOOKUP(A783,'1.Портфель кредитів'!A:AB,14,FALSE),\"\")","v":""}]
[null,{"$f":"IFERROR(#REF!,\"\")","v":""},{"$f":"IFERROR(VLOOKUP(A784,'1.Портфель кредитів'!A:AB,3,FALSE),\"\")","v":""},{"$f":"IFERROR(VLOOKUP(A784,'1.Портфель кредитів'!A:AB,14,FALSE),\"\")","v":""}]
[null,{"$f":"IFERROR(#REF!,\"\")","v":""},{"$f":"IFERROR(VLOOKUP(A785,'1.Портфель кредитів'!A:AB,3,FALSE),\"\")","v":""},{"$f":"IFERROR(VLOOKUP(A785,'1.Портфель кредитів'!A:AB,14,FALSE),\"\")","v":""}]
[null,{"$f":"IFERROR(#REF!,\"\")","v":""},{"$f":"IFERROR(VLOOKUP(A786,'1.Портфель кредитів'!A:AB,3,FALSE),\"\")","v":""},{"$f":"IFERROR(VLOOKUP(A786,'1.Портфель кредитів'!A:AB,14,FALSE),\"\")","v":""}]
[null,{"$f":"IFERROR(#REF!,\"\")","v":""},{"$f":"IFERROR(VLOOKUP(A787,'1.Портфель кредитів'!A:AB,3,FALSE),\"\")","v":""},{"$f":"IFERROR(VLOOKUP(A787,'1.Портфель кредитів'!A:AB,14,FALSE),\"\")","v":""}]
[null,{"$f":"IFERROR(#REF!,\"\")","v":""},{"$f":"IFERROR(VLOOKUP(A788,'1.Портфель кредитів'!A:AB,3,FALSE),\"\")","v":""},{"$f":"IFERROR(VLOOKUP(A788,'1.Портфель кредитів'!A:AB,14,FALSE),\"\")","v":""}]
[null,{"$f":"IFERROR(#REF!,\"\")","v":""},{"$f":"IFERROR(VLOOKUP(A789,'1.Портфель кредитів'!A:AB,3,FALSE),\"\")","v":""},{"$f":"IFERROR(VLOOKUP(A789,'1.Портфель кредитів'!A:AB,14,FALSE),\"\")","v":""}]
[null,{"$f":"IFERROR(#REF!,\"\")","v":""},{"$f":"IFERROR(VLOOKUP(A790,'1.Портфель кредитів'!A:AB,3,FALSE),\"\")","v":""},{"$f":"IFERROR(VLOOKUP(A790,'1.Портфель кредитів'!A:AB,14,FALSE),\"\")","v":""}]
[null,{"$f":"IFERROR(#REF!,\"\")","v":""},{"$f":"IFERROR(VLOOKUP(A791,'1.Портфель кредитів'!A:AB,3,FALSE),\"\")","v":""},{"$f":"IFERROR(VLOOKUP(A791,'1.Портфель кредитів'!A:AB,14,FALSE),\"\")","v":""}]
[null,{"$f":"IFERROR(#REF!,\"\")","v":""},{"$f":"IFERROR(VLOOKUP(A792,'1.Портфель кредитів'!A:AB,3,FALSE),\"\")","v":""},{"$f":"IFERROR(VLOOKUP(A792,'1.Портфель кредитів'!A:AB,14,FALSE),\"\")","v":""}]
[null,{"$f":"IFERROR(#REF!,\"\")","v":""},{"$f":"IFERROR(VLOOKUP(A793,'1.Портфель кредитів'!A:AB,3,FALSE),\"\")","v":""},{"$f":"IFERROR(VLOOKUP(A793,'1.Портфель кредитів'!A:AB,14,FALSE),\"\")","v":""}]
[null,{"$f":"IFERROR(#REF!,\"\")","v":""},{"$f":"IFERROR(VLOOKUP(A794,'1.Портфель кредитів'!A:AB,3,FALSE),\"\")","v":""},{"$f":"IFERROR(VLOOKUP(A794,'1.Портфель кредитів'!A:AB,14,FALSE),\"\")","v":""}]
[null,{"$f":"IFERROR(#REF!,\"\")","v":""},{"$f":"IFERROR(VLOOKUP(A795,'1.Портфель кредитів'!A:AB,3,FALSE),\"\")","v":""},{"$f":"IFERROR(VLOOKUP(A795,'1.Портфель кредитів'!A:AB,14,FALSE),\"\")","v":""}]
[null,{"$f":"IFERROR(#REF!,\"\")","v":""},{"$f":"IFERROR(VLOOKUP(A796,'1.Портфель кредитів'!A:AB,3,FALSE),\"\")","v":""},{"$f":"IFERROR(VLOOKUP(A796,'1.Портфель кредитів'!A:AB,14,FALSE),\"\")","v":""}]
[null,{"$f":"IFERROR(#REF!,\"\")","v":""},{"$f":"IFERROR(VLOOKUP(A797,'1.Портфель кредитів'!A:AB,3,FALSE),\"\")","v":""},{"$f":"IFERROR(VLOOKUP(A797,'1.Портфель кредитів'!A:AB,14,FALSE),\"\")","v":""}]
[null,{"$f":"IFERROR(#REF!,\"\")","v":""},{"$f":"IFERROR(VLOOKUP(A798,'1.Портфель кредитів'!A:AB,3,FALSE),\"\")","v":""},{"$f":"IFERROR(VLOOKUP(A798,'1.Портфель кредитів'!A:AB,14,FALSE),\"\")","v":""}]
[null,{"$f":"IFERROR(#REF!,\"\")","v":""},{"$f":"IFERROR(VLOOKUP(A799,'1.Портфель кредитів'!A:AB,3,FALSE),\"\")","v":""},{"$f":"IFERROR(VLOOKUP(A799,'1.Портфель кредитів'!A:AB,14,FALSE),\"\")","v":""}]
[null,{"$f":"IFERROR(#REF!,\"\")","v":""},{"$f":"IFERROR(VLOOKUP(A800,'1.Портфель кредитів'!A:AB,3,FALSE),\"\")","v":""},{"$f":"IFERROR(VLOOKUP(A800,'1.Портфель кредитів'!A:AB,14,FALSE),\"\")","v":""}]
[null,{"$f":"IFERROR(#REF!,\"\")","v":""},{"$f":"IFERROR(VLOOKUP(A801,'1.Портфель кредитів'!A:AB,3,FALSE),\"\")","v":""},{"$f":"IFERROR(VLOOKUP(A801,'1.Портфель кредитів'!A:AB,14,FALSE),\"\")","v":""}]
[null,{"$f":"IFERROR(#REF!,\"\")","v":""},{"$f":"IFERROR(VLOOKUP(A802,'1.Портфель кредитів'!A:AB,3,FALSE),\"\")","v":""},{"$f":"IFERROR(VLOOKUP(A802,'1.Портфель кредитів'!A:AB,14,FALSE),\"\")","v":""}]
[null,{"$f":"IFERROR(#REF!,\"\")","v":""},{"$f":"IFERROR(VLOOKUP(A803,'1.Портфель кредитів'!A:AB,3,FALSE),\"\")","v":""},{"$f":"IFERROR(VLOOKUP(A803,'1.Портфель кредитів'!A:AB,14,FALSE),\"\")","v":""}]
[null,{"$f":"IFERROR(#REF!,\"\")","v":""},{"$f":"IFERROR(VLOOKUP(A804,'1.Портфель кредитів'!A:AB,3,FALSE),\"\")","v":""},{"$f":"IFERROR(VLOOKUP(A804,'1.Портфель кредитів'!A:AB,14,FALSE),\"\")","v":""}]
[null,{"$f":"IFERROR(#REF!,\"\")","v":""},{"$f":"IFERROR(VLOOKUP(A805,'1.Портфель кредитів'!A:AB,3,FALSE),\"\")","v":""},{"$f":"IFERROR(VLOOKUP(A805,'1.Портфель кредитів'!A:AB,14,FALSE),\"\")","v":""}]
[null,{"$f":"IFERROR(#REF!,\"\")","v":""},{"$f":"IFERROR(VLOOKUP(A806,'1.Портфель кредитів'!A:AB,3,FALSE),\"\")","v":""},{"$f":"IFERROR(VLOOKUP(A806,'1.Портфель кредитів'!A:AB,14,FALSE),\"\")","v":""}]
[null,{"$f":"IFERROR(#REF!,\"\")","v":""},{"$f":"IFERROR(VLOOKUP(A807,'1.Портфель кредитів'!A:AB,3,FALSE),\"\")","v":""},{"$f":"IFERROR(VLOOKUP(A807,'1.Портфель кредитів'!A:AB,14,FALSE),\"\")","v":""}]
[null,{"$f":"IFERROR(#REF!,\"\")","v":""},{"$f":"IFERROR(VLOOKUP(A808,'1.Портфель кредитів'!A:AB,3,FALSE),\"\")","v":""},{"$f":"IFERROR(VLOOKUP(A808,'1.Портфель кредитів'!A:AB,14,FALSE),\"\")","v":""}]
[null,{"$f":"IFERROR(#REF!,\"\")","v":""},{"$f":"IFERROR(VLOOKUP(A809,'1.Портфель кредитів'!A:AB,3,FALSE),\"\")","v":""},{"$f":"IFERROR(VLOOKUP(A809,'1.Портфель кредитів'!A:AB,14,FALSE),\"\")","v":""}]
[null,{"$f":"IFERROR(#REF!,\"\")","v":""},{"$f":"IFERROR(VLOOKUP(A810,'1.Портфель кредитів'!A:AB,3,FALSE),\"\")","v":""},{"$f":"IFERROR(VLOOKUP(A810,'1.Портфель кредитів'!A:AB,14,FALSE),\"\")","v":""}]
[null,{"$f":"IFERROR(#REF!,\"\")","v":""},{"$f":"IFERROR(VLOOKUP(A811,'1.Портфель кредитів'!A:AB,3,FALSE),\"\")","v":""},{"$f":"IFERROR(VLOOKUP(A811,'1.Портфель кредитів'!A:AB,14,FALSE),\"\")","v":""}]
[null,{"$f":"IFERROR(#REF!,\"\")","v":""},{"$f":"IFERROR(VLOOKUP(A812,'1.Портфель кредитів'!A:AB,3,FALSE),\"\")","v":""},{"$f":"IFERROR(VLOOKUP(A812,'1.Портфель кредитів'!A:AB,14,FALSE),\"\")","v":""}]
[null,{"$f":"IFERROR(#REF!,\"\")","v":""},{"$f":"IFERROR(VLOOKUP(A813,'1.Портфель кредитів'!A:AB,3,FALSE),\"\")","v":""},{"$f":"IFERROR(VLOOKUP(A813,'1.Портфель кредитів'!A:AB,14,FALSE),\"\")","v":""}]
[null,{"$f":"IFERROR(#REF!,\"\")","v":""},{"$f":"IFERROR(VLOOKUP(A814,'1.Портфель кредитів'!A:AB,3,FALSE),\"\")","v":""},{"$f":"IFERROR(VLOOKUP(A814,'1.Портфель кредитів'!A:AB,14,FALSE),\"\")","v":""}]
[null,{"$f":"IFERROR(#REF!,\"\")","v":""},{"$f":"IFERROR(VLOOKUP(A815,'1.Портфель кредитів'!A:AB,3,FALSE),\"\")","v":""},{"$f":"IFERROR(VLOOKUP(A815,'1.Портфель кредитів'!A:AB,14,FALSE),\"\")","v":""}]
[null,{"$f":"IFERROR(#REF!,\"\")","v":""},{"$f":"IFERROR(VLOOKUP(A816,'1.Портфель кредитів'!A:AB,3,FALSE),\"\")","v":""},{"$f":"IFERROR(VLOOKUP(A816,'1.Портфель кредитів'!A:AB,14,FALSE),\"\")","v":""}]
[null,{"$f":"IFERROR(#REF!,\"\")","v":""},{"$f":"IFERROR(VLOOKUP(A817,'1.Портфель кредитів'!A:AB,3,FALSE),\"\")","v":""},{"$f":"IFERROR(VLOOKUP(A817,'1.Портфель кредитів'!A:AB,14,FALSE),\"\")","v":""}]
[null,{"$f":"IFERROR(#REF!,\"\")","v":""},{"$f":"IFERROR(VLOOKUP(A818,'1.Портфель кредитів'!A:AB,3,FALSE),\"\")","v":""},{"$f":"IFERROR(VLOOKUP(A818,'1.Портфель кредитів'!A:AB,14,FALSE),\"\")","v":""}]
[null,{"$f":"IFERROR(#REF!,\"\")","v":""},{"$f":"IFERROR(VLOOKUP(A819,'1.Портфель кредитів'!A:AB,3,FALSE),\"\")","v":""},{"$f":"IFERROR(VLOOKUP(A819,'1.Портфель кредитів'!A:AB,14,FALSE),\"\")","v":""}]
[null,{"$f":"IFERROR(#REF!,\"\")","v":""},{"$f":"IFERROR(VLOOKUP(A820,'1.Портфель кредитів'!A:AB,3,FALSE),\"\")","v":""},{"$f":"IFERROR(VLOOKUP(A820,'1.Портфель кредитів'!A:AB,14,FALSE),\"\")","v":""}]
[null,{"$f":"IFERROR(#REF!,\"\")","v":""},{"$f":"IFERROR(VLOOKUP(A821,'1.Портфель кредитів'!A:AB,3,FALSE),\"\")","v":""},{"$f":"IFERROR(VLOOKUP(A821,'1.Портфель кредитів'!A:AB,14,FALSE),\"\")","v":""}]
[null,{"$f":"IFERROR(#REF!,\"\")","v":""},{"$f":"IFERROR(VLOOKUP(A822,'1.Портфель кредитів'!A:AB,3,FALSE),\"\")","v":""},{"$f":"IFERROR(VLOOKUP(A822,'1.Портфель кредитів'!A:AB,14,FALSE),\"\")","v":""}]
[null,{"$f":"IFERROR(#REF!,\"\")","v":""},{"$f":"IFERROR(VLOOKUP(A823,'1.Портфель кредитів'!A:AB,3,FALSE),\"\")","v":""},{"$f":"IFERROR(VLOOKUP(A823,'1.Портфель кредитів'!A:AB,14,FALSE),\"\")","v":""}]
[null,{"$f":"IFERROR(#REF!,\"\")","v":""},{"$f":"IFERROR(VLOOKUP(A824,'1.Портфель кредитів'!A:AB,3,FALSE),\"\")","v":""},{"$f":"IFERROR(VLOOKUP(A824,'1.Портфель кредитів'!A:AB,14,FALSE),\"\")","v":""}]
[null,{"$f":"IFERROR(#REF!,\"\")","v":""},{"$f":"IFERROR(VLOOKUP(A825,'1.Портфель кредитів'!A:AB,3,FALSE),\"\")","v":""},{"$f":"IFERROR(VLOOKUP(A825,'1.Портфель кредитів'!A:AB,14,FALSE),\"\")","v":""}]
[null,{"$f":"IFERROR(#REF!,\"\")","v":""},{"$f":"IFERROR(VLOOKUP(A826,'1.Портфель кредитів'!A:AB,3,FALSE),\"\")","v":""},{"$f":"IFERROR(VLOOKUP(A826,'1.Портфель кредитів'!A:AB,14,FALSE),\"\")","v":""}]
[null,{"$f":"IFERROR(#REF!,\"\")","v":""},{"$f":"IFERROR(VLOOKUP(A827,'1.Портфель кредитів'!A:AB,3,FALSE),\"\")","v":""},{"$f":"IFERROR(VLOOKUP(A827,'1.Портфель кредитів'!A:AB,14,FALSE),\"\")","v":""}]
[null,{"$f":"IFERROR(#REF!,\"\")","v":""},{"$f":"IFERROR(VLOOKUP(A828,'1.Портфель кредитів'!A:AB,3,FALSE),\"\")","v":""},{"$f":"IFERROR(VLOOKUP(A828,'1.Портфель кредитів'!A:AB,14,FALSE),\"\")","v":""}]
[null,{"$f":"IFERROR(#REF!,\"\")","v":""},{"$f":"IFERROR(VLOOKUP(A829,'1.Портфель кредитів'!A:AB,3,FALSE),\"\")","v":""},{"$f":"IFERROR(VLOOKUP(A829,'1.Портфель кредитів'!A:AB,14,FALSE),\"\")","v":""}]
[null,{"$f":"IFERROR(#REF!,\"\")","v":""},{"$f":"IFERROR(VLOOKUP(A830,'1.Портфель кредитів'!A:AB,3,FALSE),\"\")","v":""},{"$f":"IFERROR(VLOOKUP(A830,'1.Портфель кредитів'!A:AB,14,FALSE),\"\")","v":""}]
[null,{"$f":"IFERROR(#REF!,\"\")","v":""},{"$f":"IFERROR(VLOOKUP(A831,'1.Портфель кредитів'!A:AB,3,FALSE),\"\")","v":""},{"$f":"IFERROR(VLOOKUP(A831,'1.Портфель кредитів'!A:AB,14,FALSE),\"\")","v":""}]
[null,{"$f":"IFERROR(#REF!,\"\")","v":""},{"$f":"IFERROR(VLOOKUP(A832,'1.Портфель кредитів'!A:AB,3,FALSE),\"\")","v":""},{"$f":"IFERROR(VLOOKUP(A832,'1.Портфель кредитів'!A:AB,14,FALSE),\"\")","v":""}]
[null,{"$f":"IFERROR(#REF!,\"\")","v":""},{"$f":"IFERROR(VLOOKUP(A833,'1.Портфель кредитів'!A:AB,3,FALSE),\"\")","v":""},{"$f":"IFERROR(VLOOKUP(A833,'1.Портфель кредитів'!A:AB,14,FALSE),\"\")","v":""}]
[null,{"$f":"IFERROR(#REF!,\"\")","v":""},{"$f":"IFERROR(VLOOKUP(A834,'1.Портфель кредитів'!A:AB,3,FALSE),\"\")","v":""},{"$f":"IFERROR(VLOOKUP(A834,'1.Портфель кредитів'!A:AB,14,FALSE),\"\")","v":""}]
[null,{"$f":"IFERROR(#REF!,\"\")","v":""},{"$f":"IFERROR(VLOOKUP(A835,'1.Портфель кредитів'!A:AB,3,FALSE),\"\")","v":""},{"$f":"IFERROR(VLOOKUP(A835,'1.Портфель кредитів'!A:AB,14,FALSE),\"\")","v":""}]
[null,{"$f":"IFERROR(#REF!,\"\")","v":""},{"$f":"IFERROR(VLOOKUP(A836,'1.Портфель кредитів'!A:AB,3,FALSE),\"\")","v":""},{"$f":"IFERROR(VLOOKUP(A836,'1.Портфель кредитів'!A:AB,14,FALSE),\"\")","v":""}]
[null,{"$f":"IFERROR(#REF!,\"\")","v":""},{"$f":"IFERROR(VLOOKUP(A837,'1.Портфель кредитів'!A:AB,3,FALSE),\"\")","v":""},{"$f":"IFERROR(VLOOKUP(A837,'1.Портфель кредитів'!A:AB,14,FALSE),\"\")","v":""}]
[null,{"$f":"IFERROR(#REF!,\"\")","v":""},{"$f":"IFERROR(VLOOKUP(A838,'1.Портфель кредитів'!A:AB,3,FALSE),\"\")","v":""},{"$f":"IFERROR(VLOOKUP(A838,'1.Портфель кредитів'!A:AB,14,FALSE),\"\")","v":""}]
[null,{"$f":"IFERROR(#REF!,\"\")","v":""},{"$f":"IFERROR(VLOOKUP(A839,'1.Портфель кредитів'!A:AB,3,FALSE),\"\")","v":""},{"$f":"IFERROR(VLOOKUP(A839,'1.Портфель кредитів'!A:AB,14,FALSE),\"\")","v":""}]
[null,{"$f":"IFERROR(#REF!,\"\")","v":""},{"$f":"IFERROR(VLOOKUP(A840,'1.Портфель кредитів'!A:AB,3,FALSE),\"\")","v":""},{"$f":"IFERROR(VLOOKUP(A840,'1.Портфель кредитів'!A:AB,14,FALSE),\"\")","v":""}]
[null,{"$f":"IFERROR(#REF!,\"\")","v":""},{"$f":"IFERROR(VLOOKUP(A841,'1.Портфель кредитів'!A:AB,3,FALSE),\"\")","v":""},{"$f":"IFERROR(VLOOKUP(A841,'1.Портфель кредитів'!A:AB,14,FALSE),\"\")","v":""}]
[null,{"$f":"IFERROR(#REF!,\"\")","v":""},{"$f":"IFERROR(VLOOKUP(A842,'1.Портфель кредитів'!A:AB,3,FALSE),\"\")","v":""},{"$f":"IFERROR(VLOOKUP(A842,'1.Портфель кредитів'!A:AB,14,FALSE),\"\")","v":""}]
[null,{"$f":"IFERROR(#REF!,\"\")","v":""},{"$f":"IFERROR(VLOOKUP(A843,'1.Портфель кредитів'!A:AB,3,FALSE),\"\")","v":""},{"$f":"IFERROR(VLOOKUP(A843,'1.Портфель кредитів'!A:AB,14,FALSE),\"\")","v":""}]
[null,{"$f":"IFERROR(#REF!,\"\")","v":""},{"$f":"IFERROR(VLOOKUP(A844,'1.Портфель кредитів'!A:AB,3,FALSE),\"\")","v":""},{"$f":"IFERROR(VLOOKUP(A844,'1.Портфель кредитів'!A:AB,14,FALSE),\"\")","v":""}]
[null,{"$f":"IFERROR(#REF!,\"\")","v":""},{"$f":"IFERROR(VLOOKUP(A845,'1.Портфель кредитів'!A:AB,3,FALSE),\"\")","v":""},{"$f":"IFERROR(VLOOKUP(A845,'1.Портфель кредитів'!A:AB,14,FALSE),\"\")","v":""}]
[null,{"$f":"IFERROR(#REF!,\"\")","v":""},{"$f":"IFERROR(VLOOKUP(A846,'1.Портфель кредитів'!A:AB,3,FALSE),\"\")","v":""},{"$f":"IFERROR(VLOOKUP(A846,'1.Портфель кредитів'!A:AB,14,FALSE),\"\")","v":""}]
[null,{"$f":"IFERROR(#REF!,\"\")","v":""},{"$f":"IFERROR(VLOOKUP(A847,'1.Портфель кредитів'!A:AB,3,FALSE),\"\")","v":""},{"$f":"IFERROR(VLOOKUP(A847,'1.Портфель кредитів'!A:AB,14,FALSE),\"\")","v":""}]
[null,{"$f":"IFERROR(#REF!,\"\")","v":""},{"$f":"IFERROR(VLOOKUP(A848,'1.Портфель кредитів'!A:AB,3,FALSE),\"\")","v":""},{"$f":"IFERROR(VLOOKUP(A848,'1.Портфель кредитів'!A:AB,14,FALSE),\"\")","v":""}]
[null,{"$f":"IFERROR(#REF!,\"\")","v":""},{"$f":"IFERROR(VLOOKUP(A849,'1.Портфель кредитів'!A:AB,3,FALSE),\"\")","v":""},{"$f":"IFERROR(VLOOKUP(A849,'1.Портфель кредитів'!A:AB,14,FALSE),\"\")","v":""}]
[null,{"$f":"IFERROR(#REF!,\"\")","v":""},{"$f":"IFERROR(VLOOKUP(A850,'1.Портфель кредитів'!A:AB,3,FALSE),\"\")","v":""},{"$f":"IFERROR(VLOOKUP(A850,'1.Портфель кредитів'!A:AB,14,FALSE),\"\")","v":""}]
[null,{"$f":"IFERROR(#REF!,\"\")","v":""},{"$f":"IFERROR(VLOOKUP(A851,'1.Портфель кредитів'!A:AB,3,FALSE),\"\")","v":""},{"$f":"IFERROR(VLOOKUP(A851,'1.Портфель кредитів'!A:AB,14,FALSE),\"\")","v":""}]
[null,{"$f":"IFERROR(#REF!,\"\")","v":""},{"$f":"IFERROR(VLOOKUP(A852,'1.Портфель кредитів'!A:AB,3,FALSE),\"\")","v":""},{"$f":"IFERROR(VLOOKUP(A852,'1.Портфель кредитів'!A:AB,14,FALSE),\"\")","v":""}]
[null,{"$f":"IFERROR(#REF!,\"\")","v":""},{"$f":"IFERROR(VLOOKUP(A853,'1.Портфель кредитів'!A:AB,3,FALSE),\"\")","v":""},{"$f":"IFERROR(VLOOKUP(A853,'1.Портфель кредитів'!A:AB,14,FALSE),\"\")","v":""}]
[null,{"$f":"IFERROR(#REF!,\"\")","v":""},{"$f":"IFERROR(VLOOKUP(A854,'1.Портфель кредитів'!A:AB,3,FALSE),\"\")","v":""},{"$f":"IFERROR(VLOOKUP(A854,'1.Портфель кредитів'!A:AB,14,FALSE),\"\")","v":""}]
[null,{"$f":"IFERROR(#REF!,\"\")","v":""},{"$f":"IFERROR(VLOOKUP(A855,'1.Портфель кредитів'!A:AB,3,FALSE),\"\")","v":""},{"$f":"IFERROR(VLOOKUP(A855,'1.Портфель кредитів'!A:AB,14,FALSE),\"\")","v":""}]
[null,{"$f":"IFERROR(#REF!,\"\")","v":""},{"$f":"IFERROR(VLOOKUP(A856,'1.Портфель кредитів'!A:AB,3,FALSE),\"\")","v":""},{"$f":"IFERROR(VLOOKUP(A856,'1.Портфель кредитів'!A:AB,14,FALSE),\"\")","v":""}]
[null,{"$f":"IFERROR(#REF!,\"\")","v":""},{"$f":"IFERROR(VLOOKUP(A857,'1.Портфель кредитів'!A:AB,3,FALSE),\"\")","v":""},{"$f":"IFERROR(VLOOKUP(A857,'1.Портфель кредитів'!A:AB,14,FALSE),\"\")","v":""}]
[null,{"$f":"IFERROR(#REF!,\"\")","v":""},{"$f":"IFERROR(VLOOKUP(A858,'1.Портфель кредитів'!A:AB,3,FALSE),\"\")","v":""},{"$f":"IFERROR(VLOOKUP(A858,'1.Портфель кредитів'!A:AB,14,FALSE),\"\")","v":""}]
[null,{"$f":"IFERROR(#REF!,\"\")","v":""},{"$f":"IFERROR(VLOOKUP(A859,'1.Портфель кредитів'!A:AB,3,FALSE),\"\")","v":""},{"$f":"IFERROR(VLOOKUP(A859,'1.Портфель кредитів'!A:AB,14,FALSE),\"\")","v":""}]
[null,{"$f":"IFERROR(#REF!,\"\")","v":""},{"$f":"IFERROR(VLOOKUP(A860,'1.Портфель кредитів'!A:AB,3,FALSE),\"\")","v":""},{"$f":"IFERROR(VLOOKUP(A860,'1.Портфель кредитів'!A:AB,14,FALSE),\"\")","v":""}]
[null,{"$f":"IFERROR(#REF!,\"\")","v":""},{"$f":"IFERROR(VLOOKUP(A861,'1.Портфель кредитів'!A:AB,3,FALSE),\"\")","v":""},{"$f":"IFERROR(VLOOKUP(A861,'1.Портфель кредитів'!A:AB,14,FALSE),\"\")","v":""}]
[null,{"$f":"IFERROR(#REF!,\"\")","v":""},{"$f":"IFERROR(VLOOKUP(A862,'1.Портфель кредитів'!A:AB,3,FALSE),\"\")","v":""},{"$f":"IFERROR(VLOOKUP(A862,'1.Портфель кредитів'!A:AB,14,FALSE),\"\")","v":""}]
[null,{"$f":"IFERROR(#REF!,\"\")","v":""},{"$f":"IFERROR(VLOOKUP(A863,'1.Портфель кредитів'!A:AB,3,FALSE),\"\")","v":""},{"$f":"IFERROR(VLOOKUP(A863,'1.Портфель кредитів'!A:AB,14,FALSE),\"\")","v":""}]
[null,{"$f":"IFERROR(#REF!,\"\")","v":""},{"$f":"IFERROR(VLOOKUP(A864,'1.Портфель кредитів'!A:AB,3,FALSE),\"\")","v":""},{"$f":"IFERROR(VLOOKUP(A864,'1.Портфель кредитів'!A:AB,14,FALSE),\"\")","v":""}]
[null,{"$f":"IFERROR(#REF!,\"\")","v":""},{"$f":"IFERROR(VLOOKUP(A865,'1.Портфель кредитів'!A:AB,3,FALSE),\"\")","v":""},{"$f":"IFERROR(VLOOKUP(A865,'1.Портфель кредитів'!A:AB,14,FALSE),\"\")","v":""}]
[null,{"$f":"IFERROR(#REF!,\"\")","v":""},{"$f":"IFERROR(VLOOKUP(A866,'1.Портфель кредитів'!A:AB,3,FALSE),\"\")","v":""},{"$f":"IFERROR(VLOOKUP(A866,'1.Портфель кредитів'!A:AB,14,FALSE),\"\")","v":""}]
[null,{"$f":"IFERROR(#REF!,\"\")","v":""},{"$f":"IFERROR(VLOOKUP(A867,'1.Портфель кредитів'!A:AB,3,FALSE),\"\")","v":""},{"$f":"IFERROR(VLOOKUP(A867,'1.Портфель кредитів'!A:AB,14,FALSE),\"\")","v":""}]
[null,{"$f":"IFERROR(#REF!,\"\")","v":""},{"$f":"IFERROR(VLOOKUP(A868,'1.Портфель кредитів'!A:AB,3,FALSE),\"\")","v":""},{"$f":"IFERROR(VLOOKUP(A868,'1.Портфель кредитів'!A:AB,14,FALSE),\"\")","v":""}]
[null,{"$f":"IFERROR(#REF!,\"\")","v":""},{"$f":"IFERROR(VLOOKUP(A869,'1.Портфель кредитів'!A:AB,3,FALSE),\"\")","v":""},{"$f":"IFERROR(VLOOKUP(A869,'1.Портфель кредитів'!A:AB,14,FALSE),\"\")","v":""}]
[null,{"$f":"IFERROR(#REF!,\"\")","v":""},{"$f":"IFERROR(VLOOKUP(A870,'1.Портфель кредитів'!A:AB,3,FALSE),\"\")","v":""},{"$f":"IFERROR(VLOOKUP(A870,'1.Портфель кредитів'!A:AB,14,FALSE),\"\")","v":""}]
[null,{"$f":"IFERROR(#REF!,\"\")","v":""},{"$f":"IFERROR(VLOOKUP(A871,'1.Портфель кредитів'!A:AB,3,FALSE),\"\")","v":""},{"$f":"IFERROR(VLOOKUP(A871,'1.Портфель кредитів'!A:AB,14,FALSE),\"\")","v":""}]
[null,{"$f":"IFERROR(#REF!,\"\")","v":""},{"$f":"IFERROR(VLOOKUP(A872,'1.Портфель кредитів'!A:AB,3,FALSE),\"\")","v":""},{"$f":"IFERROR(VLOOKUP(A872,'1.Портфель кредитів'!A:AB,14,FALSE),\"\")","v":""}]
[null,{"$f":"IFERROR(#REF!,\"\")","v":""},{"$f":"IFERROR(VLOOKUP(A873,'1.Портфель кредитів'!A:AB,3,FALSE),\"\")","v":""},{"$f":"IFERROR(VLOOKUP(A873,'1.Портфель кредитів'!A:AB,14,FALSE),\"\")","v":""}]
[null,{"$f":"IFERROR(#REF!,\"\")","v":""},{"$f":"IFERROR(VLOOKUP(A874,'1.Портфель кредитів'!A:AB,3,FALSE),\"\")","v":""},{"$f":"IFERROR(VLOOKUP(A874,'1.Портфель кредитів'!A:AB,14,FALSE),\"\")","v":""}]
[null,{"$f":"IFERROR(#REF!,\"\")","v":""},{"$f":"IFERROR(VLOOKUP(A875,'1.Портфель кредитів'!A:AB,3,FALSE),\"\")","v":""},{"$f":"IFERROR(VLOOKUP(A875,'1.Портфель кредитів'!A:AB,14,FALSE),\"\")","v":""}]
[null,{"$f":"IFERROR(#REF!,\"\")","v":""},{"$f":"IFERROR(VLOOKUP(A876,'1.Портфель кредитів'!A:AB,3,FALSE),\"\")","v":""},{"$f":"IFERROR(VLOOKUP(A876,'1.Портфель кредитів'!A:AB,14,FALSE),\"\")","v":""}]
[null,{"$f":"IFERROR(#REF!,\"\")","v":""},{"$f":"IFERROR(VLOOKUP(A877,'1.Портфель кредитів'!A:AB,3,FALSE),\"\")","v":""},{"$f":"IFERROR(VLOOKUP(A877,'1.Портфель кредитів'!A:AB,14,FALSE),\"\")","v":""}]
[null,{"$f":"IFERROR(#REF!,\"\")","v":""},{"$f":"IFERROR(VLOOKUP(A878,'1.Портфель кредитів'!A:AB,3,FALSE),\"\")","v":""},{"$f":"IFERROR(VLOOKUP(A878,'1.Портфель кредитів'!A:AB,14,FALSE),\"\")","v":""}]
[null,{"$f":"IFERROR(#REF!,\"\")","v":""},{"$f":"IFERROR(VLOOKUP(A879,'1.Портфель кредитів'!A:AB,3,FALSE),\"\")","v":""},{"$f":"IFERROR(VLOOKUP(A879,'1.Портфель кредитів'!A:AB,14,FALSE),\"\")","v":""}]
[null,{"$f":"IFERROR(#REF!,\"\")","v":""},{"$f":"IFERROR(VLOOKUP(A880,'1.Портфель кредитів'!A:AB,3,FALSE),\"\")","v":""},{"$f":"IFERROR(VLOOKUP(A880,'1.Портфель кредитів'!A:AB,14,FALSE),\"\")","v":""}]
[null,{"$f":"IFERROR(#REF!,\"\")","v":""},{"$f":"IFERROR(VLOOKUP(A881,'1.Портфель кредитів'!A:AB,3,FALSE),\"\")","v":""},{"$f":"IFERROR(VLOOKUP(A881,'1.Портфель кредитів'!A:AB,14,FALSE),\"\")","v":""}]
[null,{"$f":"IFERROR(#REF!,\"\")","v":""},{"$f":"IFERROR(VLOOKUP(A882,'1.Портфель кредитів'!A:AB,3,FALSE),\"\")","v":""},{"$f":"IFERROR(VLOOKUP(A882,'1.Портфель кредитів'!A:AB,14,FALSE),\"\")","v":""}]
[null,{"$f":"IFERROR(#REF!,\"\")","v":""},{"$f":"IFERROR(VLOOKUP(A883,'1.Портфель кредитів'!A:AB,3,FALSE),\"\")","v":""},{"$f":"IFERROR(VLOOKUP(A883,'1.Портфель кредитів'!A:AB,14,FALSE),\"\")","v":""}]
[null,{"$f":"IFERROR(#REF!,\"\")","v":""},{"$f":"IFERROR(VLOOKUP(A884,'1.Портфель кредитів'!A:AB,3,FALSE),\"\")","v":""},{"$f":"IFERROR(VLOOKUP(A884,'1.Портфель кредитів'!A:AB,14,FALSE),\"\")","v":""}]
[null,{"$f":"IFERROR(#REF!,\"\")","v":""},{"$f":"IFERROR(VLOOKUP(A885,'1.Портфель кредитів'!A:AB,3,FALSE),\"\")","v":""},{"$f":"IFERROR(VLOOKUP(A885,'1.Портфель кредитів'!A:AB,14,FALSE),\"\")","v":""}]
[null,{"$f":"IFERROR(#REF!,\"\")","v":""},{"$f":"IFERROR(VLOOKUP(A886,'1.Портфель кредитів'!A:AB,3,FALSE),\"\")","v":""},{"$f":"IFERROR(VLOOKUP(A886,'1.Портфель кредитів'!A:AB,14,FALSE),\"\")","v":""}]
[null,{"$f":"IFERROR(#REF!,\"\")","v":""},{"$f":"IFERROR(VLOOKUP(A887,'1.Портфель кредитів'!A:AB,3,FALSE),\"\")","v":""},{"$f":"IFERROR(VLOOKUP(A887,'1.Портфель кредитів'!A:AB,14,FALSE),\"\")","v":""}]
[null,{"$f":"IFERROR(#REF!,\"\")","v":""},{"$f":"IFERROR(VLOOKUP(A888,'1.Портфель кредитів'!A:AB,3,FALSE),\"\")","v":""},{"$f":"IFERROR(VLOOKUP(A888,'1.Портфель кредитів'!A:AB,14,FALSE),\"\")","v":""}]
[null,{"$f":"IFERROR(#REF!,\"\")","v":""},{"$f":"IFERROR(VLOOKUP(A889,'1.Портфель кредитів'!A:AB,3,FALSE),\"\")","v":""},{"$f":"IFERROR(VLOOKUP(A889,'1.Портфель кредитів'!A:AB,14,FALSE),\"\")","v":""}]
[null,{"$f":"IFERROR(#REF!,\"\")","v":""},{"$f":"IFERROR(VLOOKUP(A890,'1.Портфель кредитів'!A:AB,3,FALSE),\"\")","v":""},{"$f":"IFERROR(VLOOKUP(A890,'1.Портфель кредитів'!A:AB,14,FALSE),\"\")","v":""}]
[null,{"$f":"IFERROR(#REF!,\"\")","v":""},{"$f":"IFERROR(VLOOKUP(A891,'1.Портфель кредитів'!A:AB,3,FALSE),\"\")","v":""},{"$f":"IFERROR(VLOOKUP(A891,'1.Портфель кредитів'!A:AB,14,FALSE),\"\")","v":""}]
[null,{"$f":"IFERROR(#REF!,\"\")","v":""},{"$f":"IFERROR(VLOOKUP(A892,'1.Портфель кредитів'!A:AB,3,FALSE),\"\")","v":""},{"$f":"IFERROR(VLOOKUP(A892,'1.Портфель кредитів'!A:AB,14,FALSE),\"\")","v":""}]
[null,{"$f":"IFERROR(#REF!,\"\")","v":""},{"$f":"IFERROR(VLOOKUP(A893,'1.Портфель кредитів'!A:AB,3,FALSE),\"\")","v":""},{"$f":"IFERROR(VLOOKUP(A893,'1.Портфель кредитів'!A:AB,14,FALSE),\"\")","v":""}]
[null,{"$f":"IFERROR(#REF!,\"\")","v":""},{"$f":"IFERROR(VLOOKUP(A894,'1.Портфель кредитів'!A:AB,3,FALSE),\"\")","v":""},{"$f":"IFERROR(VLOOKUP(A894,'1.Портфель кредитів'!A:AB,14,FALSE),\"\")","v":""}]
[null,{"$f":"IFERROR(#REF!,\"\")","v":""},{"$f":"IFERROR(VLOOKUP(A895,'1.Портфель кредитів'!A:AB,3,FALSE),\"\")","v":""},{"$f":"IFERROR(VLOOKUP(A895,'1.Портфель кредитів'!A:AB,14,FALSE),\"\")","v":""}]
[null,{"$f":"IFERROR(#REF!,\"\")","v":""},{"$f":"IFERROR(VLOOKUP(A896,'1.Портфель кредитів'!A:AB,3,FALSE),\"\")","v":""},{"$f":"IFERROR(VLOOKUP(A896,'1.Портфель кредитів'!A:AB,14,FALSE),\"\")","v":""}]
[null,{"$f":"IFERROR(#REF!,\"\")","v":""},{"$f":"IFERROR(VLOOKUP(A897,'1.Портфель кредитів'!A:AB,3,FALSE),\"\")","v":""},{"$f":"IFERROR(VLOOKUP(A897,'1.Портфель кредитів'!A:AB,14,FALSE),\"\")","v":""}]
[null,{"$f":"IFERROR(#REF!,\"\")","v":""},{"$f":"IFERROR(VLOOKUP(A898,'1.Портфель кредитів'!A:AB,3,FALSE),\"\")","v":""},{"$f":"IFERROR(VLOOKUP(A898,'1.Портфель кредитів'!A:AB,14,FALSE),\"\")","v":""}]
[null,{"$f":"IFERROR(#REF!,\"\")","v":""},{"$f":"IFERROR(VLOOKUP(A899,'1.Портфель кредитів'!A:AB,3,FALSE),\"\")","v":""},{"$f":"IFERROR(VLOOKUP(A899,'1.Портфель кредитів'!A:AB,14,FALSE),\"\")","v":""}]
[null,{"$f":"IFERROR(#REF!,\"\")","v":""},{"$f":"IFERROR(VLOOKUP(A900,'1.Портфель кредитів'!A:AB,3,FALSE),\"\")","v":""},{"$f":"IFERROR(VLOOKUP(A900,'1.Портфель кредитів'!A:AB,14,FALSE),\"\")","v":""}]
[null,{"$f":"IFERROR(#REF!,\"\")","v":""},{"$f":"IFERROR(VLOOKUP(A901,'1.Портфель кредитів'!A:AB,3,FALSE),\"\")","v":""},{"$f":"IFERROR(VLOOKUP(A901,'1.Портфель кредитів'!A:AB,14,FALSE),\"\")","v":""}]
[null,{"$f":"IFERROR(#REF!,\"\")","v":""},{"$f":"IFERROR(VLOOKUP(A902,'1.Портфель кредитів'!A:AB,3,FALSE),\"\")","v":""},{"$f":"IFERROR(VLOOKUP(A902,'1.Портфель кредитів'!A:AB,14,FALSE),\"\")","v":""}]
[null,{"$f":"IFERROR(#REF!,\"\")","v":""},{"$f":"IFERROR(VLOOKUP(A903,'1.Портфель кредитів'!A:AB,3,FALSE),\"\")","v":""},{"$f":"IFERROR(VLOOKUP(A903,'1.Портфель кредитів'!A:AB,14,FALSE),\"\")","v":""}]
[null,{"$f":"IFERROR(#REF!,\"\")","v":""},{"$f":"IFERROR(VLOOKUP(A904,'1.Портфель кредитів'!A:AB,3,FALSE),\"\")","v":""},{"$f":"IFERROR(VLOOKUP(A904,'1.Портфель кредитів'!A:AB,14,FALSE),\"\")","v":""}]
[null,{"$f":"IFERROR(#REF!,\"\")","v":""},{"$f":"IFERROR(VLOOKUP(A905,'1.Портфель кредитів'!A:AB,3,FALSE),\"\")","v":""},{"$f":"IFERROR(VLOOKUP(A905,'1.Портфель кредитів'!A:AB,14,FALSE),\"\")","v":""}]
[null,{"$f":"IFERROR(#REF!,\"\")","v":""},{"$f":"IFERROR(VLOOKUP(A906,'1.Портфель кредитів'!A:AB,3,FALSE),\"\")","v":""},{"$f":"IFERROR(VLOOKUP(A906,'1.Портфель кредитів'!A:AB,14,FALSE),\"\")","v":""}]
[null,{"$f":"IFERROR(#REF!,\"\")","v":""},{"$f":"IFERROR(VLOOKUP(A907,'1.Портфель кредитів'!A:AB,3,FALSE),\"\")","v":""},{"$f":"IFERROR(VLOOKUP(A907,'1.Портфель кредитів'!A:AB,14,FALSE),\"\")","v":""}]
[null,{"$f":"IFERROR(#REF!,\"\")","v":""},{"$f":"IFERROR(VLOOKUP(A908,'1.Портфель кредитів'!A:AB,3,FALSE),\"\")","v":""},{"$f":"IFERROR(VLOOKUP(A908,'1.Портфель кредитів'!A:AB,14,FALSE),\"\")","v":""}]
[null,{"$f":"IFERROR(#REF!,\"\")","v":""},{"$f":"IFERROR(VLOOKUP(A909,'1.Портфель кредитів'!A:AB,3,FALSE),\"\")","v":""},{"$f":"IFERROR(VLOOKUP(A909,'1.Портфель кредитів'!A:AB,14,FALSE),\"\")","v":""}]
[null,{"$f":"IFERROR(#REF!,\"\")","v":""},{"$f":"IFERROR(VLOOKUP(A910,'1.Портфель кредитів'!A:AB,3,FALSE),\"\")","v":""},{"$f":"IFERROR(VLOOKUP(A910,'1.Портфель кредитів'!A:AB,14,FALSE),\"\")","v":""}]
[null,{"$f":"IFERROR(#REF!,\"\")","v":""},{"$f":"IFERROR(VLOOKUP(A911,'1.Портфель кредитів'!A:AB,3,FALSE),\"\")","v":""},{"$f":"IFERROR(VLOOKUP(A911,'1.Портфель кредитів'!A:AB,14,FALSE),\"\")","v":""}]
[null,{"$f":"IFERROR(#REF!,\"\")","v":""},{"$f":"IFERROR(VLOOKUP(A912,'1.Портфель кредитів'!A:AB,3,FALSE),\"\")","v":""},{"$f":"IFERROR(VLOOKUP(A912,'1.Портфель кредитів'!A:AB,14,FALSE),\"\")","v":""}]
[null,{"$f":"IFERROR(#REF!,\"\")","v":""},{"$f":"IFERROR(VLOOKUP(A913,'1.Портфель кредитів'!A:AB,3,FALSE),\"\")","v":""},{"$f":"IFERROR(VLOOKUP(A913,'1.Портфель кредитів'!A:AB,14,FALSE),\"\")","v":""}]
[null,{"$f":"IFERROR(#REF!,\"\")","v":""},{"$f":"IFERROR(VLOOKUP(A914,'1.Портфель кредитів'!A:AB,3,FALSE),\"\")","v":""},{"$f":"IFERROR(VLOOKUP(A914,'1.Портфель кредитів'!A:AB,14,FALSE),\"\")","v":""}]
[null,{"$f":"IFERROR(#REF!,\"\")","v":""},{"$f":"IFERROR(VLOOKUP(A915,'1.Портфель кредитів'!A:AB,3,FALSE),\"\")","v":""},{"$f":"IFERROR(VLOOKUP(A915,'1.Портфель кредитів'!A:AB,14,FALSE),\"\")","v":""}]
[null,{"$f":"IFERROR(#REF!,\"\")","v":""},{"$f":"IFERROR(VLOOKUP(A916,'1.Портфель кредитів'!A:AB,3,FALSE),\"\")","v":""},{"$f":"IFERROR(VLOOKUP(A916,'1.Портфель кредитів'!A:AB,14,FALSE),\"\")","v":""}]
[null,{"$f":"IFERROR(#REF!,\"\")","v":""},{"$f":"IFERROR(VLOOKUP(A917,'1.Портфель кредитів'!A:AB,3,FALSE),\"\")","v":""},{"$f":"IFERROR(VLOOKUP(A917,'1.Портфель кредитів'!A:AB,14,FALSE),\"\")","v":""}]
[null,{"$f":"IFERROR(#REF!,\"\")","v":""},{"$f":"IFERROR(VLOOKUP(A918,'1.Портфель кредитів'!A:AB,3,FALSE),\"\")","v":""},{"$f":"IFERROR(VLOOKUP(A918,'1.Портфель кредитів'!A:AB,14,FALSE),\"\")","v":""}]
[null,{"$f":"IFERROR(#REF!,\"\")","v":""},{"$f":"IFERROR(VLOOKUP(A919,'1.Портфель кредитів'!A:AB,3,FALSE),\"\")","v":""},{"$f":"IFERROR(VLOOKUP(A919,'1.Портфель кредитів'!A:AB,14,FALSE),\"\")","v":""}]
[null,{"$f":"IFERROR(#REF!,\"\")","v":""},{"$f":"IFERROR(VLOOKUP(A920,'1.Портфель кредитів'!A:AB,3,FALSE),\"\")","v":""},{"$f":"IFERROR(VLOOKUP(A920,'1.Портфель кредитів'!A:AB,14,FALSE),\"\")","v":""}]
[null,{"$f":"IFERROR(#REF!,\"\")","v":""},{"$f":"IFERROR(VLOOKUP(A921,'1.Портфель кредитів'!A:AB,3,FALSE),\"\")","v":""},{"$f":"IFERROR(VLOOKUP(A921,'1.Портфель кредитів'!A:AB,14,FALSE),\"\")","v":""}]
[null,{"$f":"IFERROR(#REF!,\"\")","v":""},{"$f":"IFERROR(VLOOKUP(A922,'1.Портфель кредитів'!A:AB,3,FALSE),\"\")","v":""},{"$f":"IFERROR(VLOOKUP(A922,'1.Портфель кредитів'!A:AB,14,FALSE),\"\")","v":""}]
[null,{"$f":"IFERROR(#REF!,\"\")","v":""},{"$f":"IFERROR(VLOOKUP(A923,'1.Портфель кредитів'!A:AB,3,FALSE),\"\")","v":""},{"$f":"IFERROR(VLOOKUP(A923,'1.Портфель кредитів'!A:AB,14,FALSE),\"\")","v":""}]
[null,{"$f":"IFERROR(#REF!,\"\")","v":""},{"$f":"IFERROR(VLOOKUP(A924,'1.Портфель кредитів'!A:AB,3,FALSE),\"\")","v":""},{"$f":"IFERROR(VLOOKUP(A924,'1.Портфель кредитів'!A:AB,14,FALSE),\"\")","v":""}]
[null,{"$f":"IFERROR(#REF!,\"\")","v":""},{"$f":"IFERROR(VLOOKUP(A925,'1.Портфель кредитів'!A:AB,3,FALSE),\"\")","v":""},{"$f":"IFERROR(VLOOKUP(A925,'1.Портфель кредитів'!A:AB,14,FALSE),\"\")","v":""}]
[null,{"$f":"IFERROR(#REF!,\"\")","v":""},{"$f":"IFERROR(VLOOKUP(A926,'1.Портфель кредитів'!A:AB,3,FALSE),\"\")","v":""},{"$f":"IFERROR(VLOOKUP(A926,'1.Портфель кредитів'!A:AB,14,FALSE),\"\")","v":""}]
[null,{"$f":"IFERROR(#REF!,\"\")","v":""},{"$f":"IFERROR(VLOOKUP(A927,'1.Портфель кредитів'!A:AB,3,FALSE),\"\")","v":""},{"$f":"IFERROR(VLOOKUP(A927,'1.Портфель кредитів'!A:AB,14,FALSE),\"\")","v":""}]
[null,{"$f":"IFERROR(#REF!,\"\")","v":""},{"$f":"IFERROR(VLOOKUP(A928,'1.Портфель кредитів'!A:AB,3,FALSE),\"\")","v":""},{"$f":"IFERROR(VLOOKUP(A928,'1.Портфель кредитів'!A:AB,14,FALSE),\"\")","v":""}]
[null,{"$f":"IFERROR(#REF!,\"\")","v":""},{"$f":"IFERROR(VLOOKUP(A929,'1.Портфель кредитів'!A:AB,3,FALSE),\"\")","v":""},{"$f":"IFERROR(VLOOKUP(A929,'1.Портфель кредитів'!A:AB,14,FALSE),\"\")","v":""}]
[null,{"$f":"IFERROR(#REF!,\"\")","v":""},{"$f":"IFERROR(VLOOKUP(A930,'1.Портфель кредитів'!A:AB,3,FALSE),\"\")","v":""},{"$f":"IFERROR(VLOOKUP(A930,'1.Портфель кредитів'!A:AB,14,FALSE),\"\")","v":""}]
[null,{"$f":"IFERROR(#REF!,\"\")","v":""},{"$f":"IFERROR(VLOOKUP(A931,'1.Портфель кредитів'!A:AB,3,FALSE),\"\")","v":""},{"$f":"IFERROR(VLOOKUP(A931,'1.Портфель кредитів'!A:AB,14,FALSE),\"\")","v":""}]
[null,{"$f":"IFERROR(#REF!,\"\")","v":""},{"$f":"IFERROR(VLOOKUP(A932,'1.Портфель кредитів'!A:AB,3,FALSE),\"\")","v":""},{"$f":"IFERROR(VLOOKUP(A932,'1.Портфель кредитів'!A:AB,14,FALSE),\"\")","v":""}]
[null,{"$f":"IFERROR(#REF!,\"\")","v":""},{"$f":"IFERROR(VLOOKUP(A933,'1.Портфель кредитів'!A:AB,3,FALSE),\"\")","v":""},{"$f":"IFERROR(VLOOKUP(A933,'1.Портфель кредитів'!A:AB,14,FALSE),\"\")","v":""}]
[null,{"$f":"IFERROR(#REF!,\"\")","v":""},{"$f":"IFERROR(VLOOKUP(A934,'1.Портфель кредитів'!A:AB,3,FALSE),\"\")","v":""},{"$f":"IFERROR(VLOOKUP(A934,'1.Портфель кредитів'!A:AB,14,FALSE),\"\")","v":""}]
[null,{"$f":"IFERROR(#REF!,\"\")","v":""},{"$f":"IFERROR(VLOOKUP(A935,'1.Портфель кредитів'!A:AB,3,FALSE),\"\")","v":""},{"$f":"IFERROR(VLOOKUP(A935,'1.Портфель кредитів'!A:AB,14,FALSE),\"\")","v":""}]
[null,{"$f":"IFERROR(#REF!,\"\")","v":""},{"$f":"IFERROR(VLOOKUP(A936,'1.Портфель кредитів'!A:AB,3,FALSE),\"\")","v":""},{"$f":"IFERROR(VLOOKUP(A936,'1.Портфель кредитів'!A:AB,14,FALSE),\"\")","v":""}]
[null,{"$f":"IFERROR(#REF!,\"\")","v":""},{"$f":"IFERROR(VLOOKUP(A937,'1.Портфель кредитів'!A:AB,3,FALSE),\"\")","v":""},{"$f":"IFERROR(VLOOKUP(A937,'1.Портфель кредитів'!A:AB,14,FALSE),\"\")","v":""}]
[null,{"$f":"IFERROR(#REF!,\"\")","v":""},{"$f":"IFERROR(VLOOKUP(A938,'1.Портфель кредитів'!A:AB,3,FALSE),\"\")","v":""},{"$f":"IFERROR(VLOOKUP(A938,'1.Портфель кредитів'!A:AB,14,FALSE),\"\")","v":""}]
[null,{"$f":"IFERROR(#REF!,\"\")","v":""},{"$f":"IFERROR(VLOOKUP(A939,'1.Портфель кредитів'!A:AB,3,FALSE),\"\")","v":""},{"$f":"IFERROR(VLOOKUP(A939,'1.Портфель кредитів'!A:AB,14,FALSE),\"\")","v":""}]
[null,{"$f":"IFERROR(#REF!,\"\")","v":""},{"$f":"IFERROR(VLOOKUP(A940,'1.Портфель кредитів'!A:AB,3,FALSE),\"\")","v":""},{"$f":"IFERROR(VLOOKUP(A940,'1.Портфель кредитів'!A:AB,14,FALSE),\"\")","v":""}]
[null,{"$f":"IFERROR(#REF!,\"\")","v":""},{"$f":"IFERROR(VLOOKUP(A941,'1.Портфель кредитів'!A:AB,3,FALSE),\"\")","v":""},{"$f":"IFERROR(VLOOKUP(A941,'1.Портфель кредитів'!A:AB,14,FALSE),\"\")","v":""}]
[null,{"$f":"IFERROR(#REF!,\"\")","v":""},{"$f":"IFERROR(VLOOKUP(A942,'1.Портфель кредитів'!A:AB,3,FALSE),\"\")","v":""},{"$f":"IFERROR(VLOOKUP(A942,'1.Портфель кредитів'!A:AB,14,FALSE),\"\")","v":""}]
[null,{"$f":"IFERROR(#REF!,\"\")","v":""},{"$f":"IFERROR(VLOOKUP(A943,'1.Портфель кредитів'!A:AB,3,FALSE),\"\")","v":""},{"$f":"IFERROR(VLOOKUP(A943,'1.Портфель кредитів'!A:AB,14,FALSE),\"\")","v":""}]
[null,{"$f":"IFERROR(#REF!,\"\")","v":""},{"$f":"IFERROR(VLOOKUP(A944,'1.Портфель кредитів'!A:AB,3,FALSE),\"\")","v":""},{"$f":"IFERROR(VLOOKUP(A944,'1.Портфель кредитів'!A:AB,14,FALSE),\"\")","v":""}]
[null,{"$f":"IFERROR(#REF!,\"\")","v":""},{"$f":"IFERROR(VLOOKUP(A945,'1.Портфель кредитів'!A:AB,3,FALSE),\"\")","v":""},{"$f":"IFERROR(VLOOKUP(A945,'1.Портфель кредитів'!A:AB,14,FALSE),\"\")","v":""}]
[null,{"$f":"IFERROR(#REF!,\"\")","v":""},{"$f":"IFERROR(VLOOKUP(A946,'1.Портфель кредитів'!A:AB,3,FALSE),\"\")","v":""},{"$f":"IFERROR(VLOOKUP(A946,'1.Портфель кредитів'!A:AB,14,FALSE),\"\")","v":""}]
[null,{"$f":"IFERROR(#REF!,\"\")","v":""},{"$f":"IFERROR(VLOOKUP(A947,'1.Портфель кредитів'!A:AB,3,FALSE),\"\")","v":""},{"$f":"IFERROR(VLOOKUP(A947,'1.Портфель кредитів'!A:AB,14,FALSE),\"\")","v":""}]
[null,{"$f":"IFERROR(#REF!,\"\")","v":""},{"$f":"IFERROR(VLOOKUP(A948,'1.Портфель кредитів'!A:AB,3,FALSE),\"\")","v":""},{"$f":"IFERROR(VLOOKUP(A948,'1.Портфель кредитів'!A:AB,14,FALSE),\"\")","v":""}]
[null,{"$f":"IFERROR(#REF!,\"\")","v":""},{"$f":"IFERROR(VLOOKUP(A949,'1.Портфель кредитів'!A:AB,3,FALSE),\"\")","v":""},{"$f":"IFERROR(VLOOKUP(A949,'1.Портфель кредитів'!A:AB,14,FALSE),\"\")","v":""}]
[null,{"$f":"IFERROR(#REF!,\"\")","v":""},{"$f":"IFERROR(VLOOKUP(A950,'1.Портфель кредитів'!A:AB,3,FALSE),\"\")","v":""},{"$f":"IFERROR(VLOOKUP(A950,'1.Портфель кредитів'!A:AB,14,FALSE),\"\")","v":""}]
[null,{"$f":"IFERROR(#REF!,\"\")","v":""},{"$f":"IFERROR(VLOOKUP(A951,'1.Портфель кредитів'!A:AB,3,FALSE),\"\")","v":""},{"$f":"IFERROR(VLOOKUP(A951,'1.Портфель кредитів'!A:AB,14,FALSE),\"\")","v":""}]
[null,{"$f":"IFERROR(#REF!,\"\")","v":""},{"$f":"IFERROR(VLOOKUP(A952,'1.Портфель кредитів'!A:AB,3,FALSE),\"\")","v":""},{"$f":"IFERROR(VLOOKUP(A952,'1.Портфель кредитів'!A:AB,14,FALSE),\"\")","v":""}]
[null,{"$f":"IFERROR(#REF!,\"\")","v":""},{"$f":"IFERROR(VLOOKUP(A953,'1.Портфель кредитів'!A:AB,3,FALSE),\"\")","v":""},{"$f":"IFERROR(VLOOKUP(A953,'1.Портфель кредитів'!A:AB,14,FALSE),\"\")","v":""}]
[null,{"$f":"IFERROR(#REF!,\"\")","v":""},{"$f":"IFERROR(VLOOKUP(A954,'1.Портфель кредитів'!A:AB,3,FALSE),\"\")","v":""},{"$f":"IFERROR(VLOOKUP(A954,'1.Портфель кредитів'!A:AB,14,FALSE),\"\")","v":""}]
[null,{"$f":"IFERROR(#REF!,\"\")","v":""},{"$f":"IFERROR(VLOOKUP(A955,'1.Портфель кредитів'!A:AB,3,FALSE),\"\")","v":""},{"$f":"IFERROR(VLOOKUP(A955,'1.Портфель кредитів'!A:AB,14,FALSE),\"\")","v":""}]
[null,{"$f":"IFERROR(#REF!,\"\")","v":""},{"$f":"IFERROR(VLOOKUP(A956,'1.Портфель кредитів'!A:AB,3,FALSE),\"\")","v":""},{"$f":"IFERROR(VLOOKUP(A956,'1.Портфель кредитів'!A:AB,14,FALSE),\"\")","v":""}]
[null,{"$f":"IFERROR(#REF!,\"\")","v":""},{"$f":"IFERROR(VLOOKUP(A957,'1.Портфель кредитів'!A:AB,3,FALSE),\"\")","v":""},{"$f":"IFERROR(VLOOKUP(A957,'1.Портфель кредитів'!A:AB,14,FALSE),\"\")","v":""}]
[null,{"$f":"IFERROR(#REF!,\"\")","v":""},{"$f":"IFERROR(VLOOKUP(A958,'1.Портфель кредитів'!A:AB,3,FALSE),\"\")","v":""},{"$f":"IFERROR(VLOOKUP(A958,'1.Портфель кредитів'!A:AB,14,FALSE),\"\")","v":""}]
[null,{"$f":"IFERROR(#REF!,\"\")","v":""},{"$f":"IFERROR(VLOOKUP(A959,'1.Портфель кредитів'!A:AB,3,FALSE),\"\")","v":""},{"$f":"IFERROR(VLOOKUP(A959,'1.Портфель кредитів'!A:AB,14,FALSE),\"\")","v":""}]
[null,{"$f":"IFERROR(#REF!,\"\")","v":""},{"$f":"IFERROR(VLOOKUP(A960,'1.Портфель кредитів'!A:AB,3,FALSE),\"\")","v":""},{"$f":"IFERROR(VLOOKUP(A960,'1.Портфель кредитів'!A:AB,14,FALSE),\"\")","v":""}]
[null,{"$f":"IFERROR(#REF!,\"\")","v":""},{"$f":"IFERROR(VLOOKUP(A961,'1.Портфель кредитів'!A:AB,3,FALSE),\"\")","v":""},{"$f":"IFERROR(VLOOKUP(A961,'1.Портфель кредитів'!A:AB,14,FALSE),\"\")","v":""}]
[null,{"$f":"IFERROR(#REF!,\"\")","v":""},{"$f":"IFERROR(VLOOKUP(A962,'1.Портфель кредитів'!A:AB,3,FALSE),\"\")","v":""},{"$f":"IFERROR(VLOOKUP(A962,'1.Портфель кредитів'!A:AB,14,FALSE),\"\")","v":""}]
[null,{"$f":"IFERROR(#REF!,\"\")","v":""},{"$f":"IFERROR(VLOOKUP(A963,'1.Портфель кредитів'!A:AB,3,FALSE),\"\")","v":""},{"$f":"IFERROR(VLOOKUP(A963,'1.Портфель кредитів'!A:AB,14,FALSE),\"\")","v":""}]
[null,{"$f":"IFERROR(#REF!,\"\")","v":""},{"$f":"IFERROR(VLOOKUP(A964,'1.Портфель кредитів'!A:AB,3,FALSE),\"\")","v":""},{"$f":"IFERROR(VLOOKUP(A964,'1.Портфель кредитів'!A:AB,14,FALSE),\"\")","v":""}]
[null,{"$f":"IFERROR(#REF!,\"\")","v":""},{"$f":"IFERROR(VLOOKUP(A965,'1.Портфель кредитів'!A:AB,3,FALSE),\"\")","v":""},{"$f":"IFERROR(VLOOKUP(A965,'1.Портфель кредитів'!A:AB,14,FALSE),\"\")","v":""}]
[null,{"$f":"IFERROR(#REF!,\"\")","v":""},{"$f":"IFERROR(VLOOKUP(A966,'1.Портфель кредитів'!A:AB,3,FALSE),\"\")","v":""},{"$f":"IFERROR(VLOOKUP(A966,'1.Портфель кредитів'!A:AB,14,FALSE),\"\")","v":""}]
[null,{"$f":"IFERROR(#REF!,\"\")","v":""},{"$f":"IFERROR(VLOOKUP(A967,'1.Портфель кредитів'!A:AB,3,FALSE),\"\")","v":""},{"$f":"IFERROR(VLOOKUP(A967,'1.Портфель кредитів'!A:AB,14,FALSE),\"\")","v":""}]
[null,{"$f":"IFERROR(#REF!,\"\")","v":""},{"$f":"IFERROR(VLOOKUP(A968,'1.Портфель кредитів'!A:AB,3,FALSE),\"\")","v":""},{"$f":"IFERROR(VLOOKUP(A968,'1.Портфель кредитів'!A:AB,14,FALSE),\"\")","v":""}]
[null,{"$f":"IFERROR(#REF!,\"\")","v":""},{"$f":"IFERROR(VLOOKUP(A969,'1.Портфель кредитів'!A:AB,3,FALSE),\"\")","v":""},{"$f":"IFERROR(VLOOKUP(A969,'1.Портфель кредитів'!A:AB,14,FALSE),\"\")","v":""}]
[null,{"$f":"IFERROR(#REF!,\"\")","v":""},{"$f":"IFERROR(VLOOKUP(A970,'1.Портфель кредитів'!A:AB,3,FALSE),\"\")","v":""},{"$f":"IFERROR(VLOOKUP(A970,'1.Портфель кредитів'!A:AB,14,FALSE),\"\")","v":""}]
[null,{"$f":"IFERROR(#REF!,\"\")","v":""},{"$f":"IFERROR(VLOOKUP(A971,'1.Портфель кредитів'!A:AB,3,FALSE),\"\")","v":""},{"$f":"IFERROR(VLOOKUP(A971,'1.Портфель кредитів'!A:AB,14,FALSE),\"\")","v":""}]
[null,{"$f":"IFERROR(#REF!,\"\")","v":""},{"$f":"IFERROR(VLOOKUP(A972,'1.Портфель кредитів'!A:AB,3,FALSE),\"\")","v":""},{"$f":"IFERROR(VLOOKUP(A972,'1.Портфель кредитів'!A:AB,14,FALSE),\"\")","v":""}]
[null,{"$f":"IFERROR(#REF!,\"\")","v":""},{"$f":"IFERROR(VLOOKUP(A973,'1.Портфель кредитів'!A:AB,3,FALSE),\"\")","v":""},{"$f":"IFERROR(VLOOKUP(A973,'1.Портфель кредитів'!A:AB,14,FALSE),\"\")","v":""}]
[null,{"$f":"IFERROR(#REF!,\"\")","v":""},{"$f":"IFERROR(VLOOKUP(A974,'1.Портфель кредитів'!A:AB,3,FALSE),\"\")","v":""},{"$f":"IFERROR(VLOOKUP(A974,'1.Портфель кредитів'!A:AB,14,FALSE),\"\")","v":""}]
[null,{"$f":"IFERROR(#REF!,\"\")","v":""},{"$f":"IFERROR(VLOOKUP(A975,'1.Портфель кредитів'!A:AB,3,FALSE),\"\")","v":""},{"$f":"IFERROR(VLOOKUP(A975,'1.Портфель кредитів'!A:AB,14,FALSE),\"\")","v":""}]
[null,{"$f":"IFERROR(#REF!,\"\")","v":""},{"$f":"IFERROR(VLOOKUP(A976,'1.Портфель кредитів'!A:AB,3,FALSE),\"\")","v":""},{"$f":"IFERROR(VLOOKUP(A976,'1.Портфель кредитів'!A:AB,14,FALSE),\"\")","v":""}]
[null,{"$f":"IFERROR(#REF!,\"\")","v":""},{"$f":"IFERROR(VLOOKUP(A977,'1.Портфель кредитів'!A:AB,3,FALSE),\"\")","v":""},{"$f":"IFERROR(VLOOKUP(A977,'1.Портфель кредитів'!A:AB,14,FALSE),\"\")","v":""}]
[null,{"$f":"IFERROR(#REF!,\"\")","v":""},{"$f":"IFERROR(VLOOKUP(A978,'1.Портфель кредитів'!A:AB,3,FALSE),\"\")","v":""},{"$f":"IFERROR(VLOOKUP(A978,'1.Портфель кредитів'!A:AB,14,FALSE),\"\")","v":""}]
[null,{"$f":"IFERROR(#REF!,\"\")","v":""},{"$f":"IFERROR(VLOOKUP(A979,'1.Портфель кредитів'!A:AB,3,FALSE),\"\")","v":""},{"$f":"IFERROR(VLOOKUP(A979,'1.Портфель кредитів'!A:AB,14,FALSE),\"\")","v":""}]
[null,{"$f":"IFERROR(#REF!,\"\")","v":""},{"$f":"IFERROR(VLOOKUP(A980,'1.Портфель кредитів'!A:AB,3,FALSE),\"\")","v":""},{"$f":"IFERROR(VLOOKUP(A980,'1.Портфель кредитів'!A:AB,14,FALSE),\"\")","v":""}]
[null,{"$f":"IFERROR(#REF!,\"\")","v":""},{"$f":"IFERROR(VLOOKUP(A981,'1.Портфель кредитів'!A:AB,3,FALSE),\"\")","v":""},{"$f":"IFERROR(VLOOKUP(A981,'1.Портфель кредитів'!A:AB,14,FALSE),\"\")","v":""}]
[null,{"$f":"IFERROR(#REF!,\"\")","v":""},{"$f":"IFERROR(VLOOKUP(A982,'1.Портфель кредитів'!A:AB,3,FALSE),\"\")","v":""},{"$f":"IFERROR(VLOOKUP(A982,'1.Портфель кредитів'!A:AB,14,FALSE),\"\")","v":""}]
[null,{"$f":"IFERROR(#REF!,\"\")","v":""},{"$f":"IFERROR(VLOOKUP(A983,'1.Портфель кредитів'!A:AB,3,FALSE),\"\")","v":""},{"$f":"IFERROR(VLOOKUP(A983,'1.Портфель кредитів'!A:AB,14,FALSE),\"\")","v":""}]
[null,{"$f":"IFERROR(#REF!,\"\")","v":""},{"$f":"IFERROR(VLOOKUP(A984,'1.Портфель кредитів'!A:AB,3,FALSE),\"\")","v":""},{"$f":"IFERROR(VLOOKUP(A984,'1.Портфель кредитів'!A:AB,14,FALSE),\"\")","v":""}]
[null,{"$f":"IFERROR(#REF!,\"\")","v":""},{"$f":"IFERROR(VLOOKUP(A985,'1.Портфель кредитів'!A:AB,3,FALSE),\"\")","v":""},{"$f":"IFERROR(VLOOKUP(A985,'1.Портфель кредитів'!A:AB,14,FALSE),\"\")","v":""}]
[null,{"$f":"IFERROR(#REF!,\"\")","v":""},{"$f":"IFERROR(VLOOKUP(A986,'1.Портфель кредитів'!A:AB,3,FALSE),\"\")","v":""},{"$f":"IFERROR(VLOOKUP(A986,'1.Портфель кредитів'!A:AB,14,FALSE),\"\")","v":""}]
[null,{"$f":"IFERROR(#REF!,\"\")","v":""},{"$f":"IFERROR(VLOOKUP(A987,'1.Портфель кредитів'!A:AB,3,FALSE),\"\")","v":""},{"$f":"IFERROR(VLOOKUP(A987,'1.Портфель кредитів'!A:AB,14,FALSE),\"\")","v":""}]
[null,{"$f":"IFERROR(#REF!,\"\")","v":""},{"$f":"IFERROR(VLOOKUP(A988,'1.Портфель кредитів'!A:AB,3,FALSE),\"\")","v":""},{"$f":"IFERROR(VLOOKUP(A988,'1.Портфель кредитів'!A:AB,14,FALSE),\"\")","v":""}]
[null,{"$f":"IFERROR(#REF!,\"\")","v":""},{"$f":"IFERROR(VLOOKUP(A989,'1.Портфель кредитів'!A:AB,3,FALSE),\"\")","v":""},{"$f":"IFERROR(VLOOKUP(A989,'1.Портфель кредитів'!A:AB,14,FALSE),\"\")","v":""}]
[null,{"$f":"IFERROR(#REF!,\"\")","v":""},{"$f":"IFERROR(VLOOKUP(A990,'1.Портфель кредитів'!A:AB,3,FALSE),\"\")","v":""},{"$f":"IFERROR(VLOOKUP(A990,'1.Портфель кредитів'!A:AB,14,FALSE),\"\")","v":""}]
[null,{"$f":"IFERROR(#REF!,\"\")","v":""},{"$f":"IFERROR(VLOOKUP(A991,'1.Портфель кредитів'!A:AB,3,FALSE),\"\")","v":""},{"$f":"IFERROR(VLOOKUP(A991,'1.Портфель кредитів'!A:AB,14,FALSE),\"\")","v":""}]
[null,{"$f":"IFERROR(#REF!,\"\")","v":""},{"$f":"IFERROR(VLOOKUP(A992,'1.Портфель кредитів'!A:AB,3,FALSE),\"\")","v":""},{"$f":"IFERROR(VLOOKUP(A992,'1.Портфель кредитів'!A:AB,14,FALSE),\"\")","v":""}]
[null,{"$f":"IFERROR(#REF!,\"\")","v":""},{"$f":"IFERROR(VLOOKUP(A993,'1.Портфель кредитів'!A:AB,3,FALSE),\"\")","v":""},{"$f":"IFERROR(VLOOKUP(A993,'1.Портфель кредитів'!A:AB,14,FALSE),\"\")","v":""}]
[null,{"$f":"IFERROR(#REF!,\"\")","v":""},{"$f":"IFERROR(VLOOKUP(A994,'1.Портфель кредитів'!A:AB,3,FALSE),\"\")","v":""},{"$f":"IFERROR(VLOOKUP(A994,'1.Портфель кредитів'!A:AB,14,FALSE),\"\")","v":""}]
[null,{"$f":"IFERROR(#REF!,\"\")","v":""},{"$f":"IFERROR(VLOOKUP(A995,'1.Портфель кредитів'!A:AB,3,FALSE),\"\")","v":""},{"$f":"IFERROR(VLOOKUP(A995,'1.Портфель кредитів'!A:AB,14,FALSE),\"\")","v":""}]
[null,{"$f":"IFERROR(#REF!,\"\")","v":""},{"$f":"IFERROR(VLOOKUP(A996,'1.Портфель кредитів'!A:AB,3,FALSE),\"\")","v":""},{"$f":"IFERROR(VLOOKUP(A996,'1.Портфель кредитів'!A:AB,14,FALSE),\"\")","v":""}]
[null,{"$f":"IFERROR(#REF!,\"\")","v":""},{"$f":"IFERROR(VLOOKUP(A997,'1.Портфель кредитів'!A:AB,3,FALSE),\"\")","v":""},{"$f":"IFERROR(VLOOKUP(A997,'1.Портфель кредитів'!A:AB,14,FALSE),\"\")","v":""}]
[null,{"$f":"IFERROR(#REF!,\"\")","v":""},{"$f":"IFERROR(VLOOKUP(A998,'1.Портфель кредитів'!A:AB,3,FALSE),\"\")","v":""},{"$f":"IFERROR(VLOOKUP(A998,'1.Портфель кредитів'!A:AB,14,FALSE),\"\")","v":""}]
[null,{"$f":"IFERROR(#REF!,\"\")","v":""},{"$f":"IFERROR(VLOOKUP(A999,'1.Портфель кредитів'!A:AB,3,FALSE),\"\")","v":""},{"$f":"IFERROR(VLOOKUP(A999,'1.Портфель кредитів'!A:AB,14,FALSE),\"\")","v":""}]
[null,{"$f":"IFERROR(#REF!,\"\")","v":""},{"$f":"IFERROR(VLOOKUP(A1000,'1.Портфель кредитів'!A:AB,3,FALSE),\"\")","v":""},{"$f":"IFERROR(VLOOKUP(A1000,'1.Портфель кредитів'!A:AB,14,FALSE),\"\")","v":""}]
[null,{"$f":"IFERROR(#REF!,\"\")","v":""},{"$f":"IFERROR(VLOOKUP(A1001,'1.Портфель кредитів'!A:AB,3,FALSE),\"\")","v":""},{"$f":"IFERROR(VLOOKUP(A1001,'1.Портфель кредитів'!A:AB,14,FALSE),\"\")","v":""}]
[null,{"$f":"IFERROR(#REF!,\"\")","v":""},{"$f":"IFERROR(VLOOKUP(A1002,'1.Портфель кредитів'!A:AB,3,FALSE),\"\")","v":""},{"$f":"IFERROR(VLOOKUP(A1002,'1.Портфель кредитів'!A:AB,14,FALSE),\"\")","v":""}]
[null,{"$f":"IFERROR(#REF!,\"\")","v":""},{"$f":"IFERROR(VLOOKUP(A1003,'1.Портфель кредитів'!A:AB,3,FALSE),\"\")","v":""},{"$f":"IFERROR(VLOOKUP(A1003,'1.Портфель кредитів'!A:AB,14,FALSE),\"\")","v":""}]
[null,{"$f":"IFERROR(#REF!,\"\")","v":""},{"$f":"IFERROR(VLOOKUP(A1004,'1.Портфель кредитів'!A:AB,3,FALSE),\"\")","v":""},{"$f":"IFERROR(VLOOKUP(A1004,'1.Портфель кредитів'!A:AB,14,FALSE),\"\")","v":""}]
[null,{"$f":"IFERROR(#REF!,\"\")","v":""},{"$f":"IFERROR(VLOOKUP(A1005,'1.Портфель кредитів'!A:AB,3,FALSE),\"\")","v":""},{"$f":"IFERROR(VLOOKUP(A1005,'1.Портфель кредитів'!A:AB,14,FALSE),\"\")","v":""}]
[null,{"$f":"IFERROR(#REF!,\"\")","v":""},{"$f":"IFERROR(VLOOKUP(A1006,'1.Портфель кредитів'!A:AB,3,FALSE),\"\")","v":""},{"$f":"IFERROR(VLOOKUP(A1006,'1.Портфель кредитів'!A:AB,14,FALSE),\"\")","v":""}]
[null,{"$f":"IFERROR(#REF!,\"\")","v":""},{"$f":"IFERROR(VLOOKUP(A1007,'1.Портфель кредитів'!A:AB,3,FALSE),\"\")","v":""},{"$f":"IFERROR(VLOOKUP(A1007,'1.Портфель кредитів'!A:AB,14,FALSE),\"\")","v":""}]
[null,{"$f":"IFERROR(#REF!,\"\")","v":""},{"$f":"IFERROR(VLOOKUP(A1008,'1.Портфель кредитів'!A:AB,3,FALSE),\"\")","v":""},{"$f":"IFERROR(VLOOKUP(A1008,'1.Портфель кредитів'!A:AB,14,FALSE),\"\")","v":""}]
[null,{"$f":"IFERROR(#REF!,\"\")","v":""},{"$f":"IFERROR(VLOOKUP(A1009,'1.Портфель кредитів'!A:AB,3,FALSE),\"\")","v":""},{"$f":"IFERROR(VLOOKUP(A1009,'1.Портфель кредитів'!A:AB,14,FALSE),\"\")","v":""}]
[null,{"$f":"IFERROR(#REF!,\"\")","v":""},{"$f":"IFERROR(VLOOKUP(A1010,'1.Портфель кредитів'!A:AB,3,FALSE),\"\")","v":""},{"$f":"IFERROR(VLOOKUP(A1010,'1.Портфель кредитів'!A:AB,14,FALSE),\"\")","v":""}]
[null,{"$f":"IFERROR(#REF!,\"\")","v":""},{"$f":"IFERROR(VLOOKUP(A1011,'1.Портфель кредитів'!A:AB,3,FALSE),\"\")","v":""},{"$f":"IFERROR(VLOOKUP(A1011,'1.Портфель кредитів'!A:AB,14,FALSE),\"\")","v":""}]
[null,{"$f":"IFERROR(#REF!,\"\")","v":""},{"$f":"IFERROR(VLOOKUP(A1012,'1.Портфель кредитів'!A:AB,3,FALSE),\"\")","v":""},{"$f":"IFERROR(VLOOKUP(A1012,'1.Портфель кредитів'!A:AB,14,FALSE),\"\")","v":""}]
[null,{"$f":"IFERROR(#REF!,\"\")","v":""},{"$f":"IFERROR(VLOOKUP(A1013,'1.Портфель кредитів'!A:AB,3,FALSE),\"\")","v":""},{"$f":"IFERROR(VLOOKUP(A1013,'1.Портфель кредитів'!A:AB,14,FALSE),\"\")","v":""}]
[null,{"$f":"IFERROR(#REF!,\"\")","v":""},{"$f":"IFERROR(VLOOKUP(A1014,'1.Портфель кредитів'!A:AB,3,FALSE),\"\")","v":""},{"$f":"IFERROR(VLOOKUP(A1014,'1.Портфель кредитів'!A:AB,14,FALSE),\"\")","v":""}]
[null,{"$f":"IFERROR(#REF!,\"\")","v":""},{"$f":"IFERROR(VLOOKUP(A1015,'1.Портфель кредитів'!A:AB,3,FALSE),\"\")","v":""},{"$f":"IFERROR(VLOOKUP(A1015,'1.Портфель кредитів'!A:AB,14,FALSE),\"\")","v":""}]
[null,{"$f":"IFERROR(#REF!,\"\")","v":""},{"$f":"IFERROR(VLOOKUP(A1016,'1.Портфель кредитів'!A:AB,3,FALSE),\"\")","v":""},{"$f":"IFERROR(VLOOKUP(A1016,'1.Портфель кредитів'!A:AB,14,FALSE),\"\")","v":""}]
[null,{"$f":"IFERROR(#REF!,\"\")","v":""},{"$f":"IFERROR(VLOOKUP(A1017,'1.Портфель кредитів'!A:AB,3,FALSE),\"\")","v":""},{"$f":"IFERROR(VLOOKUP(A1017,'1.Портфель кредитів'!A:AB,14,FALSE),\"\")","v":""}]
[null,{"$f":"IFERROR(#REF!,\"\")","v":""},{"$f":"IFERROR(VLOOKUP(A1018,'1.Портфель кредитів'!A:AB,3,FALSE),\"\")","v":""},{"$f":"IFERROR(VLOOKUP(A1018,'1.Портфель кредитів'!A:AB,14,FALSE),\"\")","v":""}]
[null,{"$f":"IFERROR(#REF!,\"\")","v":""},{"$f":"IFERROR(VLOOKUP(A1019,'1.Портфель кредитів'!A:AB,3,FALSE),\"\")","v":""},{"$f":"IFERROR(VLOOKUP(A1019,'1.Портфель кредитів'!A:AB,14,FALSE),\"\")","v":""}]
[null,{"$f":"IFERROR(#REF!,\"\")","v":""},{"$f":"IFERROR(VLOOKUP(A1020,'1.Портфель кредитів'!A:AB,3,FALSE),\"\")","v":""},{"$f":"IFERROR(VLOOKUP(A1020,'1.Портфель кредитів'!A:AB,14,FALSE),\"\")","v":""}]
[null,{"$f":"IFERROR(#REF!,\"\")","v":""},{"$f":"IFERROR(VLOOKUP(A1021,'1.Портфель кредитів'!A:AB,3,FALSE),\"\")","v":""},{"$f":"IFERROR(VLOOKUP(A1021,'1.Портфель кредитів'!A:AB,14,FALSE),\"\")","v":""}]
[null,{"$f":"IFERROR(#REF!,\"\")","v":""},{"$f":"IFERROR(VLOOKUP(A1022,'1.Портфель кредитів'!A:AB,3,FALSE),\"\")","v":""},{"$f":"IFERROR(VLOOKUP(A1022,'1.Портфель кредитів'!A:AB,14,FALSE),\"\")","v":""}]
[null,{"$f":"IFERROR(#REF!,\"\")","v":""},{"$f":"IFERROR(VLOOKUP(A1023,'1.Портфель кредитів'!A:AB,3,FALSE),\"\")","v":""},{"$f":"IFERROR(VLOOKUP(A1023,'1.Портфель кредитів'!A:AB,14,FALSE),\"\")","v":""}]
[null,{"$f":"IFERROR(#REF!,\"\")","v":""},{"$f":"IFERROR(VLOOKUP(A1024,'1.Портфель кредитів'!A:AB,3,FALSE),\"\")","v":""},{"$f":"IFERROR(VLOOKUP(A1024,'1.Портфель кредитів'!A:AB,14,FALSE),\"\")","v":""}]
[null,{"$f":"IFERROR(#REF!,\"\")","v":""},{"$f":"IFERROR(VLOOKUP(A1025,'1.Портфель кредитів'!A:AB,3,FALSE),\"\")","v":""},{"$f":"IFERROR(VLOOKUP(A1025,'1.Портфель кредитів'!A:AB,14,FALSE),\"\")","v":""}]
[null,{"$f":"IFERROR(#REF!,\"\")","v":""},{"$f":"IFERROR(VLOOKUP(A1026,'1.Портфель кредитів'!A:AB,3,FALSE),\"\")","v":""},{"$f":"IFERROR(VLOOKUP(A1026,'1.Портфель кредитів'!A:AB,14,FALSE),\"\")","v":""}]
[null,{"$f":"IFERROR(#REF!,\"\")","v":""},{"$f":"IFERROR(VLOOKUP(A1027,'1.Портфель кредитів'!A:AB,3,FALSE),\"\")","v":""},{"$f":"IFERROR(VLOOKUP(A1027,'1.Портфель кредитів'!A:AB,14,FALSE),\"\")","v":""}]
[null,{"$f":"IFERROR(#REF!,\"\")","v":""},{"$f":"IFERROR(VLOOKUP(A1028,'1.Портфель кредитів'!A:AB,3,FALSE),\"\")","v":""},{"$f":"IFERROR(VLOOKUP(A1028,'1.Портфель кредитів'!A:AB,14,FALSE),\"\")","v":""}]
[null,{"$f":"IFERROR(#REF!,\"\")","v":""},{"$f":"IFERROR(VLOOKUP(A1029,'1.Портфель кредитів'!A:AB,3,FALSE),\"\")","v":""},{"$f":"IFERROR(VLOOKUP(A1029,'1.Портфель кредитів'!A:AB,14,FALSE),\"\")","v":""}]
[null,{"$f":"IFERROR(#REF!,\"\")","v":""},{"$f":"IFERROR(VLOOKUP(A1030,'1.Портфель кредитів'!A:AB,3,FALSE),\"\")","v":""},{"$f":"IFERROR(VLOOKUP(A1030,'1.Портфель кредитів'!A:AB,14,FALSE),\"\")","v":""}]
[null,{"$f":"IFERROR(#REF!,\"\")","v":""},{"$f":"IFERROR(VLOOKUP(A1031,'1.Портфель кредитів'!A:AB,3,FALSE),\"\")","v":""},{"$f":"IFERROR(VLOOKUP(A1031,'1.Портфель кредитів'!A:AB,14,FALSE),\"\")","v":""}]
[null,{"$f":"IFERROR(#REF!,\"\")","v":""},{"$f":"IFERROR(VLOOKUP(A1032,'1.Портфель кредитів'!A:AB,3,FALSE),\"\")","v":""},{"$f":"IFERROR(VLOOKUP(A1032,'1.Портфель кредитів'!A:AB,14,FALSE),\"\")","v":""}]
[null,{"$f":"IFERROR(#REF!,\"\")","v":""},{"$f":"IFERROR(VLOOKUP(A1033,'1.Портфель кредитів'!A:AB,3,FALSE),\"\")","v":""},{"$f":"IFERROR(VLOOKUP(A1033,'1.Портфель кредитів'!A:AB,14,FALSE),\"\")","v":""}]
[null,{"$f":"IFERROR(#REF!,\"\")","v":""},{"$f":"IFERROR(VLOOKUP(A1034,'1.Портфель кредитів'!A:AB,3,FALSE),\"\")","v":""},{"$f":"IFERROR(VLOOKUP(A1034,'1.Портфель кредитів'!A:AB,14,FALSE),\"\")","v":""}]
[null,{"$f":"IFERROR(#REF!,\"\")","v":""},{"$f":"IFERROR(VLOOKUP(A1035,'1.Портфель кредитів'!A:AB,3,FALSE),\"\")","v":""},{"$f":"IFERROR(VLOOKUP(A1035,'1.Портфель кредитів'!A:AB,14,FALSE),\"\")","v":""}]
[null,{"$f":"IFERROR(#REF!,\"\")","v":""},{"$f":"IFERROR(VLOOKUP(A1036,'1.Портфель кредитів'!A:AB,3,FALSE),\"\")","v":""},{"$f":"IFERROR(VLOOKUP(A1036,'1.Портфель кредитів'!A:AB,14,FALSE),\"\")","v":""}]
[null,{"$f":"IFERROR(#REF!,\"\")","v":""},{"$f":"IFERROR(VLOOKUP(A1037,'1.Портфель кредитів'!A:AB,3,FALSE),\"\")","v":""},{"$f":"IFERROR(VLOOKUP(A1037,'1.Портфель кредитів'!A:AB,14,FALSE),\"\")","v":""}]
[null,{"$f":"IFERROR(#REF!,\"\")","v":""},{"$f":"IFERROR(VLOOKUP(A1038,'1.Портфель кредитів'!A:AB,3,FALSE),\"\")","v":""},{"$f":"IFERROR(VLOOKUP(A1038,'1.Портфель кредитів'!A:AB,14,FALSE),\"\")","v":""}]
[null,{"$f":"IFERROR(#REF!,\"\")","v":""},{"$f":"IFERROR(VLOOKUP(A1039,'1.Портфель кредитів'!A:AB,3,FALSE),\"\")","v":""},{"$f":"IFERROR(VLOOKUP(A1039,'1.Портфель кредитів'!A:AB,14,FALSE),\"\")","v":""}]
[null,{"$f":"IFERROR(#REF!,\"\")","v":""},{"$f":"IFERROR(VLOOKUP(A1040,'1.Портфель кредитів'!A:AB,3,FALSE),\"\")","v":""},{"$f":"IFERROR(VLOOKUP(A1040,'1.Портфель кредитів'!A:AB,14,FALSE),\"\")","v":""}]
[null,{"$f":"IFERROR(#REF!,\"\")","v":""},{"$f":"IFERROR(VLOOKUP(A1041,'1.Портфель кредитів'!A:AB,3,FALSE),\"\")","v":""},{"$f":"IFERROR(VLOOKUP(A1041,'1.Портфель кредитів'!A:AB,14,FALSE),\"\")","v":""}]
[null,{"$f":"IFERROR(#REF!,\"\")","v":""},{"$f":"IFERROR(VLOOKUP(A1042,'1.Портфель кредитів'!A:AB,3,FALSE),\"\")","v":""},{"$f":"IFERROR(VLOOKUP(A1042,'1.Портфель кредитів'!A:AB,14,FALSE),\"\")","v":""}]
[null,{"$f":"IFERROR(#REF!,\"\")","v":""},{"$f":"IFERROR(VLOOKUP(A1043,'1.Портфель кредитів'!A:AB,3,FALSE),\"\")","v":""},{"$f":"IFERROR(VLOOKUP(A1043,'1.Портфель кредитів'!A:AB,14,FALSE),\"\")","v":""}]
[null,{"$f":"IFERROR(#REF!,\"\")","v":""},{"$f":"IFERROR(VLOOKUP(A1044,'1.Портфель кредитів'!A:AB,3,FALSE),\"\")","v":""},{"$f":"IFERROR(VLOOKUP(A1044,'1.Портфель кредитів'!A:AB,14,FALSE),\"\")","v":""}]
[null,{"$f":"IFERROR(#REF!,\"\")","v":""},{"$f":"IFERROR(VLOOKUP(A1045,'1.Портфель кредитів'!A:AB,3,FALSE),\"\")","v":""},{"$f":"IFERROR(VLOOKUP(A1045,'1.Портфель кредитів'!A:AB,14,FALSE),\"\")","v":""}]
[null,{"$f":"IFERROR(#REF!,\"\")","v":""},{"$f":"IFERROR(VLOOKUP(A1046,'1.Портфель кредитів'!A:AB,3,FALSE),\"\")","v":""},{"$f":"IFERROR(VLOOKUP(A1046,'1.Портфель кредитів'!A:AB,14,FALSE),\"\")","v":""}]
[null,{"$f":"IFERROR(#REF!,\"\")","v":""},{"$f":"IFERROR(VLOOKUP(A1047,'1.Портфель кредитів'!A:AB,3,FALSE),\"\")","v":""},{"$f":"IFERROR(VLOOKUP(A1047,'1.Портфель кредитів'!A:AB,14,FALSE),\"\")","v":""}]
[null,{"$f":"IFERROR(#REF!,\"\")","v":""},{"$f":"IFERROR(VLOOKUP(A1048,'1.Портфель кредитів'!A:AB,3,FALSE),\"\")","v":""},{"$f":"IFERROR(VLOOKUP(A1048,'1.Портфель кредитів'!A:AB,14,FALSE),\"\")","v":""}]
[null,{"$f":"IFERROR(#REF!,\"\")","v":""},{"$f":"IFERROR(VLOOKUP(A1049,'1.Портфель кредитів'!A:AB,3,FALSE),\"\")","v":""},{"$f":"IFERROR(VLOOKUP(A1049,'1.Портфель кредитів'!A:AB,14,FALSE),\"\")","v":""}]
[null,{"$f":"IFERROR(#REF!,\"\")","v":""},{"$f":"IFERROR(VLOOKUP(A1050,'1.Портфель кредитів'!A:AB,3,FALSE),\"\")","v":""},{"$f":"IFERROR(VLOOKUP(A1050,'1.Портфель кредитів'!A:AB,14,FALSE),\"\")","v":""}]
[null,{"$f":"IFERROR(#REF!,\"\")","v":""},{"$f":"IFERROR(VLOOKUP(A1051,'1.Портфель кредитів'!A:AB,3,FALSE),\"\")","v":""},{"$f":"IFERROR(VLOOKUP(A1051,'1.Портфель кредитів'!A:AB,14,FALSE),\"\")","v":""}]
[null,{"$f":"IFERROR(#REF!,\"\")","v":""},{"$f":"IFERROR(VLOOKUP(A1052,'1.Портфель кредитів'!A:AB,3,FALSE),\"\")","v":""},{"$f":"IFERROR(VLOOKUP(A1052,'1.Портфель кредитів'!A:AB,14,FALSE),\"\")","v":""}]
[null,{"$f":"IFERROR(#REF!,\"\")","v":""},{"$f":"IFERROR(VLOOKUP(A1053,'1.Портфель кредитів'!A:AB,3,FALSE),\"\")","v":""},{"$f":"IFERROR(VLOOKUP(A1053,'1.Портфель кредитів'!A:AB,14,FALSE),\"\")","v":""}]
[null,{"$f":"IFERROR(#REF!,\"\")","v":""},{"$f":"IFERROR(VLOOKUP(A1054,'1.Портфель кредитів'!A:AB,3,FALSE),\"\")","v":""},{"$f":"IFERROR(VLOOKUP(A1054,'1.Портфель кредитів'!A:AB,14,FALSE),\"\")","v":""}]
[null,{"$f":"IFERROR(#REF!,\"\")","v":""},{"$f":"IFERROR(VLOOKUP(A1055,'1.Портфель кредитів'!A:AB,3,FALSE),\"\")","v":""},{"$f":"IFERROR(VLOOKUP(A1055,'1.Портфель кредитів'!A:AB,14,FALSE),\"\")","v":""}]
[null,{"$f":"IFERROR(#REF!,\"\")","v":""},{"$f":"IFERROR(VLOOKUP(A1056,'1.Портфель кредитів'!A:AB,3,FALSE),\"\")","v":""},{"$f":"IFERROR(VLOOKUP(A1056,'1.Портфель кредитів'!A:AB,14,FALSE),\"\")","v":""}]
[null,{"$f":"IFERROR(#REF!,\"\")","v":""},{"$f":"IFERROR(VLOOKUP(A1057,'1.Портфель кредитів'!A:AB,3,FALSE),\"\")","v":""},{"$f":"IFERROR(VLOOKUP(A1057,'1.Портфель кредитів'!A:AB,14,FALSE),\"\")","v":""}]
[null,{"$f":"IFERROR(#REF!,\"\")","v":""},{"$f":"IFERROR(VLOOKUP(A1058,'1.Портфель кредитів'!A:AB,3,FALSE),\"\")","v":""},{"$f":"IFERROR(VLOOKUP(A1058,'1.Портфель кредитів'!A:AB,14,FALSE),\"\")","v":""}]
[null,{"$f":"IFERROR(#REF!,\"\")","v":""},{"$f":"IFERROR(VLOOKUP(A1059,'1.Портфель кредитів'!A:AB,3,FALSE),\"\")","v":""},{"$f":"IFERROR(VLOOKUP(A1059,'1.Портфель кредитів'!A:AB,14,FALSE),\"\")","v":""}]
[null,{"$f":"IFERROR(#REF!,\"\")","v":""},{"$f":"IFERROR(VLOOKUP(A1060,'1.Портфель кредитів'!A:AB,3,FALSE),\"\")","v":""},{"$f":"IFERROR(VLOOKUP(A1060,'1.Портфель кредитів'!A:AB,14,FALSE),\"\")","v":""}]
[null,{"$f":"IFERROR(#REF!,\"\")","v":""},{"$f":"IFERROR(VLOOKUP(A1061,'1.Портфель кредитів'!A:AB,3,FALSE),\"\")","v":""},{"$f":"IFERROR(VLOOKUP(A1061,'1.Портфель кредитів'!A:AB,14,FALSE),\"\")","v":""}]
[null,{"$f":"IFERROR(#REF!,\"\")","v":""},{"$f":"IFERROR(VLOOKUP(A1062,'1.Портфель кредитів'!A:AB,3,FALSE),\"\")","v":""},{"$f":"IFERROR(VLOOKUP(A1062,'1.Портфель кредитів'!A:AB,14,FALSE),\"\")","v":""}]
[null,{"$f":"IFERROR(#REF!,\"\")","v":""},{"$f":"IFERROR(VLOOKUP(A1063,'1.Портфель кредитів'!A:AB,3,FALSE),\"\")","v":""},{"$f":"IFERROR(VLOOKUP(A1063,'1.Портфель кредитів'!A:AB,14,FALSE),\"\")","v":""}]
[null,{"$f":"IFERROR(#REF!,\"\")","v":""},{"$f":"IFERROR(VLOOKUP(A1064,'1.Портфель кредитів'!A:AB,3,FALSE),\"\")","v":""},{"$f":"IFERROR(VLOOKUP(A1064,'1.Портфель кредитів'!A:AB,14,FALSE),\"\")","v":""}]
[null,{"$f":"IFERROR(#REF!,\"\")","v":""},{"$f":"IFERROR(VLOOKUP(A1065,'1.Портфель кредитів'!A:AB,3,FALSE),\"\")","v":""},{"$f":"IFERROR(VLOOKUP(A1065,'1.Портфель кредитів'!A:AB,14,FALSE),\"\")","v":""}]
[null,{"$f":"IFERROR(#REF!,\"\")","v":""},{"$f":"IFERROR(VLOOKUP(A1066,'1.Портфель кредитів'!A:AB,3,FALSE),\"\")","v":""},{"$f":"IFERROR(VLOOKUP(A1066,'1.Портфель кредитів'!A:AB,14,FALSE),\"\")","v":""}]
[null,{"$f":"IFERROR(#REF!,\"\")","v":""},{"$f":"IFERROR(VLOOKUP(A1067,'1.Портфель кредитів'!A:AB,3,FALSE),\"\")","v":""},{"$f":"IFERROR(VLOOKUP(A1067,'1.Портфель кредитів'!A:AB,14,FALSE),\"\")","v":""}]
[null,{"$f":"IFERROR(#REF!,\"\")","v":""},{"$f":"IFERROR(VLOOKUP(A1068,'1.Портфель кредитів'!A:AB,3,FALSE),\"\")","v":""},{"$f":"IFERROR(VLOOKUP(A1068,'1.Портфель кредитів'!A:AB,14,FALSE),\"\")","v":""}]
[null,{"$f":"IFERROR(#REF!,\"\")","v":""},{"$f":"IFERROR(VLOOKUP(A1069,'1.Портфель кредитів'!A:AB,3,FALSE),\"\")","v":""},{"$f":"IFERROR(VLOOKUP(A1069,'1.Портфель кредитів'!A:AB,14,FALSE),\"\")","v":""}]
[null,{"$f":"IFERROR(#REF!,\"\")","v":""},{"$f":"IFERROR(VLOOKUP(A1070,'1.Портфель кредитів'!A:AB,3,FALSE),\"\")","v":""},{"$f":"IFERROR(VLOOKUP(A1070,'1.Портфель кредитів'!A:AB,14,FALSE),\"\")","v":""}]
[null,{"$f":"IFERROR(#REF!,\"\")","v":""},{"$f":"IFERROR(VLOOKUP(A1071,'1.Портфель кредитів'!A:AB,3,FALSE),\"\")","v":""},{"$f":"IFERROR(VLOOKUP(A1071,'1.Портфель кредитів'!A:AB,14,FALSE),\"\")","v":""}]
[null,{"$f":"IFERROR(#REF!,\"\")","v":""},{"$f":"IFERROR(VLOOKUP(A1072,'1.Портфель кредитів'!A:AB,3,FALSE),\"\")","v":""},{"$f":"IFERROR(VLOOKUP(A1072,'1.Портфель кредитів'!A:AB,14,FALSE),\"\")","v":""}]
[null,{"$f":"IFERROR(#REF!,\"\")","v":""},{"$f":"IFERROR(VLOOKUP(A1073,'1.Портфель кредитів'!A:AB,3,FALSE),\"\")","v":""},{"$f":"IFERROR(VLOOKUP(A1073,'1.Портфель кредитів'!A:AB,14,FALSE),\"\")","v":""}]
[null,{"$f":"IFERROR(#REF!,\"\")","v":""},{"$f":"IFERROR(VLOOKUP(A1074,'1.Портфель кредитів'!A:AB,3,FALSE),\"\")","v":""},{"$f":"IFERROR(VLOOKUP(A1074,'1.Портфель кредитів'!A:AB,14,FALSE),\"\")","v":""}]
[null,{"$f":"IFERROR(#REF!,\"\")","v":""},{"$f":"IFERROR(VLOOKUP(A1075,'1.Портфель кредитів'!A:AB,3,FALSE),\"\")","v":""},{"$f":"IFERROR(VLOOKUP(A1075,'1.Портфель кредитів'!A:AB,14,FALSE),\"\")","v":""}]
[null,{"$f":"IFERROR(#REF!,\"\")","v":""},{"$f":"IFERROR(VLOOKUP(A1076,'1.Портфель кредитів'!A:AB,3,FALSE),\"\")","v":""},{"$f":"IFERROR(VLOOKUP(A1076,'1.Портфель кредитів'!A:AB,14,FALSE),\"\")","v":""}]
[null,{"$f":"IFERROR(#REF!,\"\")","v":""},{"$f":"IFERROR(VLOOKUP(A1077,'1.Портфель кредитів'!A:AB,3,FALSE),\"\")","v":""},{"$f":"IFERROR(VLOOKUP(A1077,'1.Портфель кредитів'!A:AB,14,FALSE),\"\")","v":""}]
[null,{"$f":"IFERROR(#REF!,\"\")","v":""},{"$f":"IFERROR(VLOOKUP(A1078,'1.Портфель кредитів'!A:AB,3,FALSE),\"\")","v":""},{"$f":"IFERROR(VLOOKUP(A1078,'1.Портфель кредитів'!A:AB,14,FALSE),\"\")","v":""}]
[null,{"$f":"IFERROR(#REF!,\"\")","v":""},{"$f":"IFERROR(VLOOKUP(A1079,'1.Портфель кредитів'!A:AB,3,FALSE),\"\")","v":""},{"$f":"IFERROR(VLOOKUP(A1079,'1.Портфель кредитів'!A:AB,14,FALSE),\"\")","v":""}]
[null,{"$f":"IFERROR(#REF!,\"\")","v":""},{"$f":"IFERROR(VLOOKUP(A1080,'1.Портфель кредитів'!A:AB,3,FALSE),\"\")","v":""},{"$f":"IFERROR(VLOOKUP(A1080,'1.Портфель кредитів'!A:AB,14,FALSE),\"\")","v":""}]
[null,{"$f":"IFERROR(#REF!,\"\")","v":""},{"$f":"IFERROR(VLOOKUP(A1081,'1.Портфель кредитів'!A:AB,3,FALSE),\"\")","v":""},{"$f":"IFERROR(VLOOKUP(A1081,'1.Портфель кредитів'!A:AB,14,FALSE),\"\")","v":""}]
[null,{"$f":"IFERROR(#REF!,\"\")","v":""},{"$f":"IFERROR(VLOOKUP(A1082,'1.Портфель кредитів'!A:AB,3,FALSE),\"\")","v":""},{"$f":"IFERROR(VLOOKUP(A1082,'1.Портфель кредитів'!A:AB,14,FALSE),\"\")","v":""}]
[null,{"$f":"IFERROR(#REF!,\"\")","v":""},{"$f":"IFERROR(VLOOKUP(A1083,'1.Портфель кредитів'!A:AB,3,FALSE),\"\")","v":""},{"$f":"IFERROR(VLOOKUP(A1083,'1.Портфель кредитів'!A:AB,14,FALSE),\"\")","v":""}]
[null,{"$f":"IFERROR(#REF!,\"\")","v":""},{"$f":"IFERROR(VLOOKUP(A1084,'1.Портфель кредитів'!A:AB,3,FALSE),\"\")","v":""},{"$f":"IFERROR(VLOOKUP(A1084,'1.Портфель кредитів'!A:AB,14,FALSE),\"\")","v":""}]
[null,{"$f":"IFERROR(#REF!,\"\")","v":""},{"$f":"IFERROR(VLOOKUP(A1085,'1.Портфель кредитів'!A:AB,3,FALSE),\"\")","v":""},{"$f":"IFERROR(VLOOKUP(A1085,'1.Портфель кредитів'!A:AB,14,FALSE),\"\")","v":""}]
[null,{"$f":"IFERROR(#REF!,\"\")","v":""},{"$f":"IFERROR(VLOOKUP(A1086,'1.Портфель кредитів'!A:AB,3,FALSE),\"\")","v":""},{"$f":"IFERROR(VLOOKUP(A1086,'1.Портфель кредитів'!A:AB,14,FALSE),\"\")","v":""}]
[null,{"$f":"IFERROR(#REF!,\"\")","v":""},{"$f":"IFERROR(VLOOKUP(A1087,'1.Портфель кредитів'!A:AB,3,FALSE),\"\")","v":""},{"$f":"IFERROR(VLOOKUP(A1087,'1.Портфель кредитів'!A:AB,14,FALSE),\"\")","v":""}]
[null,{"$f":"IFERROR(#REF!,\"\")","v":""},{"$f":"IFERROR(VLOOKUP(A1088,'1.Портфель кредитів'!A:AB,3,FALSE),\"\")","v":""},{"$f":"IFERROR(VLOOKUP(A1088,'1.Портфель кредитів'!A:AB,14,FALSE),\"\")","v":""}]

{"sheet":"3.ППР","index":2,"n_rows":1566,"n_cols":16,"rows_kept":1566,"cut":false,"hidden":false,"merged":[[0,1,4,14],[6,3,6,6],[6,7,6,9],[6,10,6,14]]}
[null,"Цей документ був підготовлений Фондом гарантування вкладів фізичних осіб (далі – Фонд) виключно для інформаційних цілей і не повинен вважатися як спонукання до будь-яких дій чи бездіяльності.  Інформація, що міститься в цьому документі, була отримана з/або ґрунтується на джерелах, які вважаються надійними, але не є вичерпною та не може сприйматися як повна або актуальна. Зокрема, але не виключно, станом на дату придбання активів допускаються несуттєві зміни лота, в складі якого продаються такі активи. Під несуттєвими змінами лота слід розуміти такі зміни характеристик активів у складі такого лота, які впливають на його балансову вартість, але не більше ніж на 10 відсотків. Рішення покупця щодо будь-яких дій або бездіяльності повинно ґрунтуватися на власних оцінках та дослідженнях майна (активу/активів), котре реалізується. Фонд не несе відповідальності за рішення покупця та його наслідки, що ґрунтується на інформації, викладеній в даному документі.\n\n«Недійсність (нікчемність), припинення всіх або будь-якого із прав, що складають Майнові права за цим лотом, або неможливість реалізації покупцем будь-якого із Майнових прав, набутих ним за договором купівлі-продажу Майнових прав за цим лотом, не вплине на дійсність договору купівлі-продажу Майнових прав за цим лотом та Покупець погоджується, що Продавець не несе жодної відповідальності за такі наслідки. Банк (продавець) та/або Фонд не відповідає за неотримання покупцем грошових коштів або іншого майна, які покупець очікував отримати від Майнових прав, набуваючи у власність Майнові права за цим лотом. Приймаючи рішення щодо придбання Майнових прав за цим лотом покупець має розуміти (усвідомлювати) характер Майнових прав, що переходять до покупця за цим лотом, та приймати усі ризики, пов’язані із таким переходом, у тому числі ризики того, що покупець у майбутньому не зможе отримати жодних коштів або майна за Майновими правами.»\n\nПокупцем не може бути особа, пов'язана з державою-агресором, відповідно до Постанови Кабінету Міністрів України №187 від 03.03.2022 (зі змінами).\n\nЗвертаємо увагу, що  на період дії воєнного стану на території України  договори посвідчуються нотаріусом, який включений до затвердженого Міністерством юстиції переліку (https://minjust.gov.ua/news/ministry/perelik-notariusiv-yakimi-v-umovah-voennogo-stanu-vchinyayutsya-notarialni-dii-schodo-tsinnogo-mayna). Нотаріальне посвідчення договорів відчуження нерухомого майна на час дії воєнного стану здійснюється нотаріусом, який включений до затвердженого Міністерством юстиції переліку, за місцезнаходженням такого майна. Виключенням є м. Київ та Київська область, де договори відчуження нерухомого майна посвідчуються нотаріусом з м. Києва або Київської обл. за місцезнаходженням такого майна, або місцезнаходженням юридичної особи, або за зареєстрованим місцем проживання фізичної особи - однієї із сторін договору."]
[]
[]
[]
[]
[]
["unicid","Банк","№ договору","Розгляд справи у суді",null,null,null,"ДВС",null,null,"Банкрутство",null,null,null,null,"Кримінальне провадження за кредитною угодою"]
[null,null,null,"Предмет спору","Відповідач","Дата надіслання вимоги / претензії","Дати звернення до суду","Дата провадження","Процес (Так/Ні)","Реалізація майна (Так/Ні)","Дата провадження","Банк заявлений як кредитор (Так/Ні)","Банк внесенний в реєстр кредиторів (Так/Ні)","Дата визнання відповідача банкрутом","Дата припинення діяльності внаслідок банкруства"]
["300131__1","Фінанси та Кредит","1195-01-07","внесення змін до КД/стягнення заборгованості/звернення стягнення на заставне майно","Позичальник",null,"2016;2018"," - "," - "," - "," - "," - "," - "," - ","банкрутство майнового поручителя ","ТАК"]
["300131__2","Фінанси та Кредит","1252-08","внесення змін до КД/стягнення заборгованості/звернення стягнення на заставне майно","Позичальник",null,"2016;2018"," - "," - "," - "," - "," - "," - "," - ","банкрутство майнового поручителя ","ТАК"]
["300131__3","Фінанси та Кредит","1318-10","внесення змін до КД/стягнення заборгованості/звернення стягнення на заставне майно","Позичальник",null,"2016;2018"," - "," - "," - "," - "," - "," - "," - ","банкрутство майнового поручителя ","ТАК"]
["300131__4","Фінанси та Кредит","1319-10","внесення змін до КД/стягнення заборгованості/звернення стягнення на заставне майно","Позичальник",null,"2016;2018"," - "," - "," - "," - "," - "," - "," - ","банкрутство майнового поручителя ","ТАК"]
["300131__5","Фінанси та Кредит","1320-10","внесення змін до КД/стягнення заборгованості/звернення стягнення на заставне майно","Позичальник",null,"2016;2018"," - "," - "," - "," - "," - "," - "," - ","банкрутство майнового поручителя ","ТАК"]
["300131__6","Фінанси та Кредит","1321м-10","внесення змін до КД/стягнення заборгованості/звернення стягнення на заставне майно","Позичальник",null,"2016;2018"," - "," - "," - "," - "," - "," - "," - ","банкрутство майнового поручителя ","ТАК"]
["300131__7","Фінанси та Кредит","1440-12","внесення змін до КД/стягнення заборгованості/звернення стягнення на заставне майно","Позичальник",null,"2016;2018"," - "," - "," - "," - "," - "," - "," - ","банкрутство майнового поручителя ","ТАК"]
["300131__8","Фінанси та Кредит","1253м-08","внесення змін до КД, договору іпотеки/стягнення заборгованості","Позичальник",null,"2016;2019"," - "," - "," - "," - "," - "," - "," - "," - ","ТАК"]
["300131__9","Фінанси та Кредит","1267м-08","внесення змін до КД, договору іпотеки/стягнення заборгованості","Позичальник",null,"2016;2019;2020"," - "," - "," - "," - "," - "," - "," - "," - ","ТАК"]
["300131__10","Фінанси та Кредит","1276м-08","внесення змін до КД, договору іпотеки/стягнення заборгованості","Позичальник",null,"2016;2019;2020"," - "," - "," - "," - "," - "," - "," - "," - ","ТАК"]
[null,"","","кримінальне провадження","Банк"]
[null,null,null,"кримінальне провадження","Банк",null,"2020; 2021"]
[null,"","","про визнання за ним права на завершення процедури електронного аукціону проведеного 15.07.2021, результат якого оформлений протоколом електронних торгів","Банк",null,2023]
[null,"","","про визнання протиправним та скасування рішення Виконавчої дирекції Фонду","Банк",null,2021]
[null,"",""]
[null,"",""]
[null,"",""]
[null,"",""]
[null,"",""]
[null,"",""]
[null,"",""]
[null,"",""]
[null,"",""]
[null,"",""]
[null,"",""]
[null,"",""]
[null,"",""]
[null,"",""]
[null,"",""]
[null,"",""]
[null,"",""]
[null,"",""]
[null,"",""]
[null,"",""]
[null,"",""]
[null,"",""]
[null,"",""]
[null,"",""]
[null,"",""]
[null,"",""]
[null,"",""]
[null,"",""]
[null,"",""]
[null,"",""]
[null,"",""]
[null,"",""]
[null,"",""]
[null,"",""]
[null,"",""]
[null,"",""]
[null,"",""]
[null,"",""]
[null,"",""]
[null,"",""]
[null,"",""]
[null,"",""]
[null,"",""]
[null,"",""]
[null,"",""]
[null,"",""]
[null,"",""]
[null,"",""]
[null,"",""]
[null,"",""]
[null,"",""]
[null,"",""]
[null,"",""]
[null,"",""]
[null,"",""]
[null,"",""]
[null,"",""]
[null,"",""]
[null,"",""]
[null,"",""]
[null,"",""]
[null,"",""]
[null,"",""]
[null,"",""]
[null,"",""]
[null,"",""]
[null,"",""]
[null,"",""]
[null,"",""]
[null,"",""]
[null,"",""]
[null,"",""]
[null,"",""]
[null,"",""]
[null,"",""]
[null,"",""]
[null,"",""]
[null,"",""]
[null,"",""]
[null,"",""]
[null,"",""]
[null,"",""]
[null,"",""]
[null,"",""]
[null,"",""]
[null,"",""]
[null,"",""]
[null,"",""]
[null,"",""]
[null,"",""]
[null,"",""]
[null,"",""]
[null,"",""]
[null,"",""]
[null,"",""]
[null,"",""]
[null,"",""]
[null,"",""]
[null,"",""]
[null,"",""]
[null,"",""]
[null,"",""]
[null,"",""]
[null,"",""]
[null,"",""]
[null,"",""]
[null,"",""]
[null,"",""]
[null,"",""]
[null,"",""]
[null,"",""]
[null,"",""]
[null,"",""]
[null,"",""]
[null,"",""]
[null,"",""]
[null,"",""]
[null,"",""]
[null,"",""]
[null,"",""]
[null,"",""]
[null,"",""]
[null,"",""]
[null,"",""]
[null,"",""]
[null,"",""]
[null,"",""]
[null,"",""]
[null,"",""]
[null,"",""]
[null,"",""]
[null,"",""]
[null,"",""]
[null,"",""]
[null,"",""]
[null,"",""]
[null,"",""]
[null,"",""]
[null,"",""]
[null,"",""]
[null,"",""]
[null,"",""]
[null,"",""]
[null,"",""]
[null,"",""]
[null,"",""]
[null,"",""]
[null,"",""]
[null,"",""]
[null,"",""]
[null,"",""]
[null,"",""]
[null,"",""]
[null,"",""]
[null,"",""]
[null,"",""]
[null,"",""]
[null,"",""]
[null,"",""]
[null,"",""]
[null,"",""]
[null,"",""]
[null,"",""]
[null,"",""]
[null,"",""]
[null,"",""]
[null,"",""]
[null,"",""]
[null,"",""]
[null,"",""]
[null,"",""]
[null,"",""]
[null,"",""]
[null,"",""]
[null,"",""]
[null,"",""]
[null,"",""]
[null,"",""]
[null,"",""]
[null,"",""]
[null,"",""]
[null,"",""]
[null,"",""]
[null,"",""]
[null,"",""]
[null,"",""]
[null,"",""]
[null,"",""]
[null,"",""]
[null,"",""]
[null,"",""]
[null,"",""]
[null,"",""]
[null,"",""]
[null,"",""]
[null,"",""]
[null,"",""]
[null,"",""]
[null,"",""]
[null,"",""]
[null,"",""]
[null,"",""]
[null,"",""]
[null,"",""]
[null,"",""]
[null,"",""]
[null,"",""]
[null,"",""]
[null,"",""]
[null,"",""]
[null,"",""]
[null,"",""]
[null,"",""]
[null,"",""]
[null,"",""]
[null,"",""]
[null,"",""]
[null,"",""]
[null,"",""]
[null,"",""]
[null,"",""]
[null,"",""]
[null,"",""]
[null,"",""]
[null,"",""]
[null,"",""]
[null,"",""]
[null,"",""]
[null,"",""]
[null,"",""]
[null,"",""]
[null,"",""]
[null,"",""]
[null,"",""]
[null,"",""]
[null,"",""]
[null,"",""]
[null,"",""]
[null,"",""]
[null,"",""]
[null,"",""]
[null,"",""]
[null,"",""]
[null,"",""]
[null,"",""]
[null,"",""]
[null,"",""]
[null,"",""]
[null,"",""]
[null,"",""]
[null,"",""]
[null,"",""]
[null,"",""]
[null,"",""]
[null,"",""]
[null,"",""]
[null,"",""]
[null,"",""]
[null,"",""]
[null,"",""]
[null,"",""]
[null,"",""]
[null,"",""]
[null,"",""]
[null,"",""]
[null,"",""]
[null,"",""]
[null,"",""]
[null,"",""]
[null,"",""]
[null,"",""]
[null,"",""]
[null,"",""]
[null,"",""]
[null,"",""]
[null,"",""]
[null,"",""]
[null,"",""]
[null,"",""]
[null,"",""]
[null,"",""]
[null,"",""]
[null,"",""]
[null,"",""]
[null,"",""]
[null,"",""]
[null,"",""]
[null,"",""]
[null,"",""]
[null,"",""]
[null,"",""]
[null,"",""]
[null,"",""]
[null,"",""]
[null,"",""]
[null,"",""]
[null,"",""]
[null,"",""]
[null,"",""]
[null,"",""]
[null,"",""]
[null,"",""]
[null,"",""]
[null,"",""]
[null,"",""]
[null,"",""]
[null,"",""]
[null,"",""]
[null,"",""]
[null,"",""]
[null,"",""]
[null,"",""]
[null,"",""]
[null,"",""]
[null,"",""]
[null,"",""]
[null,"",""]
[null,"",""]
[null,"",""]
[null,"",""]
[null,"",""]
[null,"",""]
[null,"",""]
[null,"",""]
[null,"",""]
[null,"",""]
[null,"",""]
[null,"",""]
[null,"",""]
[null,"",""]
[null,"",""]
[null,"",""]
[null,"",""]
[null,"",""]
[null,"",""]
[null,"",""]
[null,"",""]
[null,"",""]
[null,"",""]
[null,"",""]
[null,"",""]
[null,"",""]
[null,"",""]
[null,"",""]
[null,"",""]
[null,"",""]
[null,"",""]
[null,"",""]
[null,"",""]
[null,"",""]
[null,"",""]
[null,"",""]
[null,"",""]
[null,"",""]
[null,"",""]
[null,"",""]
[null,"",""]
[null,"",""]
[null,"",""]
[null,"",""]
[null,"",""]
[null,"",""]
[null,"",""]
[null,"",""]
[null,"",""]
[null,"",""]
[null,"",""]
[null,"",""]
[null,"",""]
[null,"",""]
[null,"",""]
[null,"",""]
[null,"",""]
[null,"",""]
[null,"",""]
[null,"",""]
[null,"",""]
[null,"",""]
[null,"",""]
[null,"",""]
[null,"",""]
[null,"",""]
[null,"",""]
[null,"",""]
[null,"",""]
[null,"",""]
[null,"",""]
[null,"",""]
[null,"",""]
[null,"",""]
[null,"",""]
[null,"",""]
[null,"",""]
[null,"",""]
[null,"",""]
[null,"",""]
[null,"",""]
[null,"",""]
[null,"",""]
[null,"",""]
[null,"",""]
[null,"",""]
[null,"",""]
[null,"",""]
[null,"",""]
[null,"",""]
[null,"",""]
[null,"",""]
[null,"",""]
[null,"",""]
[null,"",""]
[null,"",""]
[null,"",""]
[null,"",""]
[null,"",""]
[null,"",""]
[null,"",""]
[null,"",""]
[null,"",""]
[null,"",""]
[null,"",""]
[null,"",""]
[null,"",""]
[null,"",""]
[null,"",""]
[null,"",""]
[null,"",""]
[null,"",""]
[null,"",""]
[null,"",""]
[null,"",""]
[null,"",""]
[null,"",""]
[null,"",""]
[null,"",""]
[null,"",""]
[null,"",""]
[null,"",""]
[null,"",""]
[null,"",""]
[null,"",""]
[null,"",""]
[null,"",""]
[null,"",""]
[null,"",""]
[null,"",""]
[null,"",""]
[null,"",""]
[null,"",""]
[null,"",""]
[null,"",""]
[null,"",""]
[null,"",""]
[null,"",""]
[null,"",""]
[null,"",""]
[null,"",""]
[null,"",""]
[null,"",""]
[null,"",""]
[null,"",""]
[null,"",""]
[null,"",""]
[null,"",""]
[null,"",""]
[null,"",""]
[null,"",""]
[null,"",""]
[null,"",""]
[null,"",""]
[null,"",""]
[null,"",""]
[null,"",""]
[null,"",""]
[null,"",""]
[null,"",""]
[null,"",""]
[null,"",""]
[null,"",""]
[null,"",""]
[null,"",""]
[null,"",""]
[null,"",""]
[null,"",""]
[null,"",""]
[null,"",""]
[null,"",""]
[null,"",""]
[null,"",""]
[null,"",""]
[null,"",""]
[null,"",""]
[null,"",""]
[null,"",""]
[null,"",""]
[null,"",""]
[null,"",""]
[null,"",""]
[null,"",""]
[null,"",""]
[null,"",""]
[null,"",""]
[null,"",""]
[null,"",""]
[null,"",""]
[null,"",""]
[null,"",""]
[null,"",""]
[null,"",""]
[null,"",""]
[null,"",""]
[null,"",""]
[null,"",""]
[null,"",""]
[null,"",""]
[null,"",""]
[null,"",""]
[null,"",""]
[null,"",""]
[null,"",""]
[null,"",""]
[null,"",""]
[null,"",""]
[null,"",""]
[null,"",""]
[null,"",""]
[null,"",""]
[null,"",""]
[null,"",""]
[null,"",""]
[null,"",""]
[null,"",""]
[null,"",""]
[null,"",""]
[null,"",""]
[null,"",""]
[null,"",""]
[null,"",""]
[null,"",""]
[null,"",""]
[null,"",""]
[null,"",""]
[null,"",""]
[null,"",""]
[null,"",""]
[null,"",""]
[null,"",""]
[null,"",""]
[null,"",""]
[null,"",""]
[null,"",""]
[null,"",""]
[null,"",""]
[null,"",""]
[null,"",""]
[null,"",""]
[null,"",""]
[null,"",""]
[null,"",""]
[null,"",""]
[null,"",""]
[null,"",""]
[null,"",""]
[null,"",""]
[null,"",""]
[null,"",""]
[null,"",""]
[null,"",""]
[null,"",""]
[null,"",""]
[null,"",""]
[null,"",""]
[null,"",""]
[null,"",""]
[null,"",""]
[null,"",""]
[null,"",""]
[null,"",""]
[null,"",""]
[null,"",""]
[null,"",""]
[null,"",""]
[null,"",""]
[null,"",""]
[null,"",""]
[null,"",""]
[null,"",""]
[null,"",""]
[null,"",""]
[null,"",""]
[null,"",""]
[null,"",""]
[null,"",""]
[null,"",""]
[null,"",""]
[null,"",""]
[null,"",""]
[null,"",""]
[null,"",""]
[null,"",""]
[null,"",""]
[null,"",""]
[null,"",""]
[null,"",""]
[null,"",""]
[null,"",""]
[null,"",""]
[null,"",""]
[null,"",""]
[null,"",""]
[null,"",""]
[null,"",""]
[null,"",""]
[null,"",""]
[null,"",""]
[null,"",""]
[null,"",""]
[null,"",""]
[null,"",""]
[null,"",""]
[null,"",""]
[null,"",""]
[null,"",""]
[null,"",""]
[null,"",""]
[null,"",""]
[null,"",""]
[null,"",""]
[null,"",""]
[null,"",""]
[null,"",""]
[null,"",""]
[null,"",""]
[null,"",""]
[null,"",""]
[null,"",""]
[null,"",""]
[null,"",""]
[null,"",""]
[null,"",""]
[null,"",""]
[null,"",""]
[null,"",""]
[null,"",""]
[null,"",""]
[null,"",""]
[null,"",""]
[null,"",""]
[null,"",""]
[null,"",""]
[null,"",""]
[null,"",""]
[null,"",""]
[null,"",""]
[null,"",""]
[null,"",""]
[null,"",""]
[null,"",""]
[null,"",""]
[null,"",""]
[null,"",""]
[null,"",""]
[null,"",""]
[null,"",""]
[null,"",""]
[null,"",""]
[null,"",""]
[null,"",""]
[null,"",""]
[null,"",""]
[null,"",""]
[null,"",""]
[null,"",""]
[null,"",""]
[null,"",""]
[null,"",""]
[null,"",""]
[null,"",""]
[null,"",""]
[null,"",""]
[null,"",""]
[null,"",""]
[null,"",""]
[null,"",""]
[null,"",""]
[null,"",""]
[null,"",""]
[null,"",""]
[null,"",""]
[null,"",""]
[null,"",""]
[null,"",""]
[null,"",""]
[null,"",""]
[null,"",""]
[null,"",""]
[null,"",""]
[null,"",""]
[null,"",""]
[null,"",""]
[null,"",""]
[null,"",""]
[null,"",""]
[null,"",""]
[null,"",""]
[null,"",""]
[null,"",""]
[null,"",""]
[null,"",""]
[null,"",""]
[null,"",""]
[null,"",""]
[null,"",""]
[null,"",""]
[null,"",""]
[null,"",""]
[null,"",""]
[null,"",""]
[null,"",""]
[null,"",""]
[null,"",""]
[null,"",""]
[null,"",""]
[null,"",""]
[null,"",""]
[null,"",""]
[null,"",""]
[null,"",""]
[null,"",""]
[null,"",""]
[null,"",""]
[null,"",""]
[null,"",""]
[null,"",""]
[null,"",""]
[null,"",""]
[null,"",""]
[null,"",""]
[null,"",""]
[null,"",""]
[null,"",""]
[null,"",""]
[null,"",""]
[null,"",""]
[null,"",""]
[null,"",""]
[null,"",""]
[null,"",""]
[null,"",""]
[null,"",""]
[null,"",""]
[null,"",""]
[null,"",""]
[null,"",""]
[null,"",""]
[null,"",""]
[null,"",""]
[null,"",""]
[null,"",""]
[null,"",""]
[null,"",""]
[null,"",""]
[null,"",""]
[null,"",""]
[null,"",""]
[null,"",""]
[null,"",""]
[null,"",""]
[null,"",""]
[null,"",""]
[null,"",""]
[null,"",""]
[null,"",""]
[null,"",""]
[null,"",""]
[null,"",""]
[null,"",""]
[null,"",""]
[null,"",""]
[null,"",""]
[null,"",""]
[null,"",""]
[null,"",""]
[null,"",""]
[null,"",""]
[null,"",""]
[null,"",""]
[null,"",""]
[null,"",""]
[null,"",""]
[null,"",""]
[null,"",""]
[null,"",""]
[null,"",""]
[null,"",""]
[null,"",""]
[null,"",""]
[null,"",""]
[null,"",""]
[null,"",""]
[null,"",""]
[null,"",""]
[null,"",""]
[null,"",""]
[null,"",""]
[null,"",""]
[null,"",""]
[null,"",""]
[null,"",""]
[null,"",""]
[null,"",""]
[null,"",""]
[null,"",""]
[null,"",""]
[null,"",""]
[null,"",""]
[null,"",""]
[null,"",""]
[null,"",""]
[null,"",""]
[null,"",""]
[null,"",""]
[null,"",""]
[null,"",""]
[null,"",""]
[null,"",""]
[null,"",""]
[null,"",""]
[null,"",""]
[null,"",""]
[null,"",""]
[null,"",""]
[null,"",""]
[null,"",""]
[null,"",""]
[null,"",""]
[null,"",""]
[null,"",""]
[null,"",""]
[null,"",""]
[null,"",""]
[null,"",""]
[null,"",""]
[null,"",""]
[null,"",""]
[null,"",""]
[null,"",""]
[null,"",""]
[null,"",""]
[null,"",""]
[null,"",""]
[null,"",""]
[null,"",""]
[null,"",""]
[null,"",""]
[null,"",""]
[null,"",""]
[null,"",""]
[null,"",""]
[null,"",""]
[null,"",""]
[null,"",""]
[null,"",""]
[null,"",""]
[null,"",""]
[null,"",""]
[null,"",""]
[null,"",""]
[null,"",""]
[null,"",""]
[null,"",""]
[null,"",""]
[null,"",""]
[null,"",""]
[null,"",""]
[null,"",""]
[null,"",""]
[null,"",""]
[null,"",""]
[null,"",""]
[null,"",""]
[null,"",""]
[null,"",""]
[null,"",""]
[null,"",""]
[null,"",""]
[null,"",""]
[null,"",""]
[null,"",""]
[null,"",""]
[null,"",""]
[null,"",""]
[null,"",""]
[null,"",""]
[null,"",""]
[null,"",""]
[null,"",""]
[null,"",""]
[null,"",""]
[null,"",""]
[null,"",""]
[null,"",""]
[null,"",""]
[null,"",""]
[null,"",""]
[null,"",""]
[null,"",""]
[null,"",""]
[null,"",""]
[null,"",""]
[null,"",""]
[null,"",""]
[null,"",""]
[null,"",""]
[null,"",""]
[null,"",""]
[null,"",""]
[null,"",""]
[null,"",""]
[null,"",""]
[null,"",""]
[null,"",""]
[null,"",""]
[null,"",""]
[null,"",""]
[null,"",""]
[null,"",""]
[null,"",""]
[null,"",""]
[null,"",""]
[null,"",""]
[null,"",""]
[null,"",""]
[null,"",""]
[null,"",""]
[null,"",""]
[null,"",""]
[null,"",""]
[null,"",""]
[null,"",""]
[null,"",""]
[null,"",""]
[null,"",""]
[null,"",""]
[null,"",""]
[null,"",""]
[null,"",""]
[null,"",""]
[null,"",""]
[null,"",""]
[null,"",""]
[null,"",""]
[null,"",""]
[null,"",""]
[null,"",""]
[null,"",""]
[null,"",""]
[null,"",""]
[null,"",""]
[null,"",""]
[null,"",""]
[null,"",""]
[null,"",""]
[null,"",""]
[null,"",""]
[null,"",""]
[null,"",""]
[null,"",""]
[null,"",""]
[null,"",""]
[null,"",""]
[null,"",""]
[null,"",""]
[null,"",""]
[null,"",""]
[null,"",""]
[null,"",""]
[null,"",""]
[null,"",""]
[null,"",""]
[null,"",""]
[null,"",""]
[null,"",""]
[null,"",""]
[null,"",""]
[null,"",""]
[null,"",""]
[null,"",""]
[null,"",""]
[null,"",""]
[null,"",""]
[null,"",""]
[null,"",""]
[null,"",""]
[null,"",""]
[null,"",""]
[null,"",""]
[null,"",""]
[null,"",""]
[null,"",""]
[null,"",""]
[null,"",""]
[null,"",""]
[null,"",""]
[null,"",""]
[null,"",""]
[null,"",""]
[null,"",""]
[null,"",""]
[null,"",""]
[null,"",""]
[null,"",""]
[null,"",""]
[null,"",""]
[null,"",""]
[null,"",""]
[null,"",""]
[null,"",""]
[null,"",""]
[null,"",""]
[null,"",""]
[null,"",""]
[null,"",""]
[null,"",""]
[null,"",""]
[null,"",""]
[null,"",""]
[null,"",""]
[null,"",""]
[null,"",""]
[null,"",""]
[null,"",""]
[null,"",""]
[null,"",""]
[null,"",""]
[null,"",""]
[null,"",""]
[null,"",""]
[null,"",""]
[null,"",""]
[null,"",""]
[null,"",""]
[null,"",""]
[null,"",""]
[null,"",""]
[null,"",""]
[null,"",""]
[null,"",""]
[null,"",""]
[null,"",""]
[null,"",""]
[null,"",""]
[null,"",""]
[null,"",""]
[null,"",""]
[null,"",""]
[null,"",""]
[null,"",""]
[null,"",""]
[null,"",""]
[null,"",""]
[null,"",""]
[null,"",""]
[null,"",""]
[null,"",""]
[null,"",""]
[null,"",""]
[null,"",""]
[null,"",""]
[null,"",""]
[null,"",""]
[null,"",""]
[null,"",""]
[null,"",""]
[null,"",""]
[null,"",""]
[null,"",""]
[null,"",""]
[null,"",""]
[null,"",""]
[null,"",""]
[null,"",""]
[null,"",""]
[null,"",""]
[null,"",""]
[null,"",""]
[null,"",""]
[null,"",""]
[null,"",""]
[null,"",""]
[null,"",""]
[null,"",""]
[null,"",""]
[null,"",""]
[null,"",""]
[null,"",""]
[null,"",""]
[null,"",""]
[null,"",""]
[null,"",""]
[null,"",""]
[null,"",""]
[null,"",""]
[null,"",""]
[null,"",""]
[null,"",""]
[null,"",""]
[null,"",""]
[null,"",""]
[null,"",""]
[null,"",""]
[null,"",""]
[null,"",""]
[null,"",""]
[null,"",""]
[null,"",""]
[null,"",""]
[null,"",""]
[null,"",""]
[null,"",""]
[null,"",""]
[null,"",""]
[null,"",""]
[null,"",""]
[null,"",""]
[null,"",""]
[null,"",""]
[null,"",""]
[null,"",""]
[null,"",""]
[null,"",""]
[null,"",""]
[null,"",""]
[null,"",""]
[null,"",""]
[null,"",""]
[null,"",""]
[null,"",""]
[null,"",""]
[null,"",""]
[null,"",""]
[null,"",""]
[null,"",""]
[null,"",""]
[null,"",""]
[null,"",""]
[null,"",""]
[null,"",""]
[null,"",""]
[null,"",""]
[null,"",""]
[null,"",""]
[null,"",""]
[null,"",""]
[null,"",""]
[null,"",""]
[null,"",""]
[null,"",""]
[null,"",""]
[null,"",""]
[null,"",""]
[null,"",""]
[null,"",""]
[null,"",""]
[null,"",""]
[null,"",""]
[null,"",""]
[null,"",""]
[null,"",""]
[null,"",""]
[null,"",""]
[null,"",""]
[null,"",""]
[null,"",""]
[null,"",""]
[null,"",""]
[null,"",""]
[null,"",""]
[null,"",""]
[null,"",""]
[null,"",""]
[null,"",""]
[null,"",""]
[null,"",""]
[null,"",""]
[null,"",""]
[null,"",""]
[null,"",""]
[null,"",""]
[null,"",""]
[null,"",""]
[null,"",""]
[null,"",""]
[null,"",""]
[null,"",""]
[null,"",""]
[null,"",""]
[null,"",""]
[null,"",""]
[null,"",""]
[null,"",""]
[null,"",""]
[null,"",""]
[null,"",""]
[null,"",""]
[null,"",""]
[null,"",""]
[null,"",""]
[null,"",""]
[null,"",""]
[null,"",""]
[null,"",""]
[null,"",""]
[null,"",""]
[null,"",""]
[null,"",""]
[null,"",""]
[null,"",""]
[null,"",""]
[null,"",""]
[null,"",""]
[null,"",""]
[null,"",""]
[null,"",""]
[null,"",""]
[null,"",""]
[null,"",""]
[null,"",""]
[null,"",""]
[null,"",""]
[null,"",""]
[null,"",""]
[null,"",""]
[null,"",""]
[null,"",""]
[null,"",""]
[null,"",""]
[null,"",""]
[null,"",""]
[null,"",""]
[null,"",""]
[null,"",""]
[null,"",""]
[null,"",""]
[null,"",""]
[null,"",""]
[null,"",""]
[null,"",""]
[null,"",""]
[null,"",""]
[null,"",""]
[null,"",""]
[null,"",""]
[null,"",""]
[null,"",""]
[null,"",""]
[null,"",""]
[null,"",""]
[null,"",""]
[null,"",""]
[null,"",""]
[null,"",""]
[null,"",""]
[null,"",""]
[null,"",""]
[null,"",""]
[null,"",""]
[null,"",""]
[null,"",""]
[null,"",""]
[null,"",""]
[null,"",""]
[null,"",""]
[null,"",""]
[null,"",""]
[null,"",""]
[null,"",""]
[null,"",""]
[null,"",""]
[null,"",""]
[null,"",""]
[null,"",""]
[null,"",""]
[null,"",""]
[null,"",""]
[null,"",""]
[null,"",""]
[null,"",""]
[null,"",""]
[null,"",""]
[null,"",""]
[null,"",""]
[null,"",""]
[null,"",""]
[null,"",""]
[null,"",""]
[null,"",""]
[null,"",""]
[null,"",""]
[null,"",""]
[null,"",""]
[null,"",""]
[null,"",""]
[null,"",""]
[null,"",""]
[null,"",""]
[null,"",""]
[null,"",""]
[null,"",""]
[null,"",""]
[null,"",""]
[null,"",""]
[null,"",""]
[null,"",""]
[null,"",""]
[null,"",""]
[null,"",""]
[null,"",""]
[null,"",""]
[null,"",""]
[null,"",""]
[null,"",""]
[null,"",""]
[null,"",""]
[null,"",""]
[null,"",""]
[null,"",""]
[null,"",""]
[null,"",""]
[null,"",""]
[null,"",""]
[null,"",""]
[null,"",""]
[null,"",""]
[null,"",""]
[null,"",""]
[null,"",""]
[null,"",""]
[null,"",""]
[null,"",""]
[null,"",""]
[null,"",""]
[null,"",""]
[null,"",""]
[null,"",""]
[null,"",""]
[null,"",""]
[null,"",""]
[null,"",""]
[null,"",""]
[null,"",""]
[null,"",""]
[null,"",""]
[null,"",""]
[null,"",""]
[null,"",""]
[null,"",""]
[null,"",""]
[null,"",""]
[null,"",""]
[null,"",""]
[null,"",""]
[null,"",""]
[null,"",""]
[null,"",""]
[null,"",""]
[null,"",""]
[null,"",""]
[null,"",""]
[null,"",""]
[null,"",""]
[null,"",""]
[null,"",""]
[null,"",""]
[null,"",""]
[null,"",""]
[null,"",""]
[null,"",""]
[null,"",""]
[null,"",""]
[null,"",""]
[null,"",""]
[null,"",""]
[null,"",""]
[null,"",""]
[null,"",""]
[null,"",""]
[null,"",""]
[null,"",""]
[null,"",""]
[null,"",""]
[null,"",""]
[null,"",""]
[null,"",""]
[null,"",""]
[null,"",""]
[null,"",""]
[null,"",""]
[null,"",""]
[null,"",""]
[null,"",""]
[null,"",""]
[null,"",""]
[null,"",""]
[null,"",""]
[null,"",""]
[null,"",""]
[null,"",""]
[null,"",""]
[null,"",""]
[null,"",""]
[null,"",""]
[null,"",""]
[null,"",""]
[null,"",""]
[null,"",""]
[null,"",""]
[null,"",""]
[null,"",""]
[null,"",""]
[null,"",""]
[null,"",""]
[null,"",""]
[null,"",""]
[null,"",""]
[null,"",""]
[null,"",""]
[null,"",""]
[null,"",""]
[null,"",""]
[null,"",""]
[null,"",""]
[null,"",""]
[null,"",""]
[null,"",""]
[null,"",""]
[null,"",""]
[null,"",""]
[null,"",""]
[null,"",""]
[null,"",""]
[null,"",""]
[null,"",""]
[null,"",""]
[null,"",""]
[null,"",""]
[null,"",""]
[null,"",""]
[null,"",""]
[null,"",""]
[null,"",""]
[null,"",""]
[null,"",""]
[null,"",""]
[null,"",""]
[null,"",""]
[null,"",""]
[null,"",""]
[null,"",""]
[null,"",""]
[null,"",""]
[null,"",""]
[null,"",""]
[null,"",""]
[null,"",""]
[null,"",""]
[null,"",""]
[null,"",""]
[null,"",""]
[null,"",""]
[null,"",""]
[null,"",""]
[null,"",""]
[null,"",""]
[null,"",""]
[null,"",""]
[null,"",""]
[null,"",""]
[null,"",""]
[null,"",""]
[null,"",""]
[null,"",""]
[null,"",""]
[null,"",""]
[null,"",""]
[null,"",""]
[null,"",""]
[null,"",""]
[null,"",""]
[null,"",""]
[null,"",""]
[null,"",""]
[null,"",""]
[null,"",""]
[null,"",""]
[null,"",""]
[null,"",""]
[null,"",""]
[null,"",""]
[null,"",""]
[null,"",""]
[null,"",""]
[null,"",""]
[null,"",""]
[null,"",""]
[null,"",""]
[null,"",""]
[null,"",""]
[null,"",""]
[null,"",""]
[null,"",""]
[null,"",""]
[null,"",""]
[null,"",""]
[null,"",""]
[null,"",""]
[null,"",""]
[null,"",""]
[null,"",""]
[null,"",""]
[null,"",""]
[null,"",""]
[null,"",""]
[null,"",""]
[null,"",""]
[null,"",""]
[null,"",""]
[null,"",""]
[null,"",""]
[null,"",""]
[null,"",""]
[null,"",""]
[null,"",""]
[null,"",""]
[null,"",""]
[null,"",""]
[null,"",""]
[null,"",""]
[null,"",""]
[null,"",""]
[null,"",""]
[null,"",""]
[null,"",""]
[null,"",""]

{"sheet":"4.журнал торгів","index":3,"n_rows":1209,"n_cols":8,"rows_kept":1209,"cut":false,"hidden":false,"merged":[[0,1,3,7]]}
[null,"Цей документ був підготовлений Фондом гарантування вкладів фізичних осіб (далі – Фонд) виключно для інформаційних цілей і не повинен вважатися як спонукання до будь-яких дій чи бездіяльності.  Інформація, що міститься в цьому документі, була отримана з/або ґрунтується на джерелах, які вважаються надійними, але не є вичерпною та не може сприйматися як повна або актуальна. Зокрема, але не виключно, станом на дату придбання активів допускаються несуттєві зміни лота, в складі якого продаються такі активи. Під несуттєвими змінами лота слід розуміти такі зміни характеристик активів у складі такого лота, які впливають на його балансову вартість, але не більше ніж на 10 відсотків. Рішення покупця щодо будь-яких дій або бездіяльності повинно ґрунтуватися на власних оцінках та дослідженнях майна (активу/активів), котре реалізується. Фонд не несе відповідальності за рішення покупця та його наслідки, що ґрунтується на інформації, викладеній в даному документі.\n\n«Недійсність (нікчемність), припинення всіх або будь-якого із прав, що складають Майнові права за цим лотом, або неможливість реалізації покупцем будь-якого із Майнових прав, набутих ним за договором купівлі-продажу Майнових прав за цим лотом, не вплине на дійсність договору купівлі-продажу Майнових прав за цим лотом та Покупець погоджується, що Продавець не несе жодної відповідальності за такі наслідки. Банк (продавець) та/або Фонд не відповідає за неотримання покупцем грошових коштів або іншого майна, які покупець очікував отримати від Майнових прав, набуваючи у власність Майнові права за цим лотом. Приймаючи рішення щодо придбання Майнових прав за цим лотом покупець має розуміти (усвідомлювати) характер Майнових прав, що переходять до покупця за цим лотом, та приймати усі ризики, пов’язані із таким переходом, у тому числі ризики того, що покупець у майбутньому не зможе отримати жодних коштів або майна за Майновими правами.»\n\nПокупцем не може бути особа, пов'язана з державою-агресором, відповідно до Постанови Кабінету Міністрів України №187 від 03.03.2022 (зі змінами).\n\nЗвертаємо увагу, що  на період дії воєнного стану на території України  договори посвідчуються нотаріусом, який включений до затвердженого Міністерством юстиції переліку (https://minjust.gov.ua/news/ministry/perelik-notariusiv-yakimi-v-umovah-voennogo-stanu-vchinyayutsya-notarialni-dii-schodo-tsinnogo-mayna). Нотаріальне посвідчення договорів відчуження нерухомого майна на час дії воєнного стану здійснюється нотаріусом, який включений до затвердженого Міністерством юстиції переліку, за місцезнаходженням такого майна. Виключенням є м. Київ та Київська область, де договори відчуження нерухомого майна посвідчуються нотаріусом з м. Києва або Київської обл. за місцезнаходженням такого майна, або місцезнаходженням юридичної особи, або за зареєстрованим місцем проживання фізичної особи - однієї із сторін договору."]
[]
[]
[]
[]
[]
["unicid","Банк","№ Номер договору","Кількість торгів","Початкова вартість реалізації (голландський аукціон)","Мінімальна ціна на останніх торгах (голландський аукціон)","№ лота","Дата проведення останнього аукціону "]
["300131__1","Фінанси та Кредит","1195-01-07",6,289880676.52999997,231904541.22,"GL18N025415","2024-01-22"]
["300131__2","Фінанси та Кредит","1252-08",6,460620438.13,368496350.5,"GL18N025415","2024-01-22"]
["300131__3","Фінанси та Кредит","1318-10",6,249941980.65000001,199953584.52000001,"GL18N025415","2024-01-22"]
["300131__4","Фінанси та Кредит","1319-10",6,195450804.81999999,156360643.86000001,"GL18N025415","2024-01-22"]
["300131__5","Фінанси та Кредит","1320-10",6,178850111.97999999,143080089.58000001,"GL18N025415","2024-01-22"]
["300131__6","Фінанси та Кредит","1321м-10",6,268821874.02999997,215057499.22,"GL18N025415","2024-01-22"]
["300131__7","Фінанси та Кредит","1440-12",6,185139223.71000001,148111378.97,"GL18N025415","2024-01-22"]
["300131__8","Фінанси та Кредит","1253м-08",6,101534577.62,81227662.099999994,"GL18N025415","2024-01-22"]
["300131__9","Фінанси та Кредит","1267м-08",6,94387270.239999995,75509816.189999998,"GL18N025415","2024-01-22"]
["300131__10","Фінанси та Кредит","1276м-08",6,217362068.41999999,173889654.74000001,"GL18N025415","2024-01-22"]
[null,"",""]
[null,"",""]
[null,"",""]
[null,"",""]
[null,"",""]
[null,"",""]
[null,"",""]
[null,"",""]
[null,"",""]
[null,"",""]
[null,"",""]
[null,"",""]
[null,"",""]
[null,"",""]
[null,"",""]
[null,"",""]
[null,"",""]
[null,"",""]
[null,"",""]
[null,"",""]
[null,"",""]
[null,"",""]
[null,"",""]
[null,"",""]
[null,"",""]
[null,"",""]
[null,"",""]
[null,"",""]
[null,"",""]
[null,"",""]
[null,"",""]
[null,"",""]
[null,"",""]
[null,"",""]
[null,"",""]
[null,"",""]
[null,"",""]
[null,"",""]
[null,"",""]
[null,"",""]
[null,"",""]
[null,"",""]
[null,"",""]
[null,"",""]
[null,"",""]
[null,"",""]
[null,"",""]
[null,"",""]
[null,"",""]
[null,"",""]
[null,"",""]
[null,"",""]
[null,"",""]
[null,"",""]
[null,"",""]
[null,"",""]
[null,"",""]
[null,"",""]
[null,"",""]
[null,"",""]
[null,"",""]
[null,"",""]
[null,"",""]
[null,"",""]
[null,"",""]
[null,"",""]
[null,"",""]
[null,"",""]
[null,"",""]
[null,"",""]
[null,"",""]
[null,"",""]
[null,"",""]
[null,"",""]
[null,"",""]
[null,"",""]
[null,"",""]
[null,"",""]
[null,"",""]
[null,"",""]
[null,"",""]
[null,"",""]
[null,"",""]
[null,"",""]
[null,"",""]
[null,"",""]
[null,"",""]
[null,"",""]
[null,"",""]
[null,"",""]
[null,"",""]
[null,"",""]
[null,"",""]
[null,"",""]
[null,"",""]
[null,"",""]
[null,"",""]
[null,"",""]
[null,"",""]
[null,"",""]
[null,"",""]
[null,"",""]
[null,"",""]
[null,"",""]
[null,"",""]
[null,"",""]
[null,"",""]
[null,"",""]
[null,"",""]
[null,"",""]
[null,"",""]
[null,"",""]
[null,"",""]
[null,"",""]
[null,"",""]
[null,"",""]
[null,"",""]
[null,"",""]
[null,"",""]
[null,"",""]
[null,"",""]
[null,"",""]
[null,"",""]
[null,"",""]
[null,"",""]
[null,"",""]
[null,"",""]
[null,"",""]
[null,"",""]
[null,"",""]
[null,"",""]
[null,"",""]
[null,"",""]
[null,"",""]
[null,"",""]
[null,"",""]
[null,"",""]
[null,"",""]
[null,"",""]
[null,"",""]
[null,"",""]
[null,"",""]
[null,"",""]
[null,"",""]
[null,"",""]
[null,"",""]
[null,"",""]
[null,"",""]
[null,"",""]
[null,"",""]
[null,"",""]
[null,"",""]
[null,"",""]
[null,"",""]
[null,"",""]
[null,"",""]
[null,"",""]
[null,"",""]
[null,"",""]
[null,"",""]
[null,"",""]
[null,"",""]
[null,"",""]
[null,"",""]
[null,"",""]
[null,"",""]
[null,"",""]
[null,"",""]
[null,"",""]
[null,"",""]
[null,"",""]
[null,"",""]
[null,"",""]
[null,"",""]
[null,"",""]
[null,"",""]
[null,"",""]
[null,"",""]
[null,"",""]
[null,"",""]
[null,"",""]
[null,"",""]
[null,"",""]
[null,"",""]
[null,"",""]
[null,"",""]
[null,"",""]
[null,"",""]
[null,"",""]
[null,"",""]
[null,"",""]
[null,"",""]
[null,"",""]
[null,"",""]
[null,"",""]
[null,"",""]
[null,"",""]
[null,"",""]
[null,"",""]
[null,"",""]
[null,"",""]
[null,"",""]
[null,"",""]
[null,"",""]
[null,"",""]
[null,"",""]
[null,"",""]
[null,"",""]
[null,"",""]
[null,"",""]
[null,"",""]
[null,"",""]
[null,"",""]
[null,"",""]
[null,"",""]
[null,"",""]
[null,"",""]
[null,"",""]
[null,"",""]
[null,"",""]
[null,"",""]
[null,"",""]
[null,"",""]
[null,"",""]
[null,"",""]
[null,"",""]
[null,"",""]
[null,"",""]
[null,"",""]
[null,"",""]
[null,"",""]
[null,"",""]
[null,"",""]
[null,"",""]
[null,"",""]
[null,"",""]
[null,"",""]
[null,"",""]
[null,"",""]
[null,"",""]
[null,"",""]
[null,"",""]
[null,"",""]
[null,"",""]
[null,"",""]
[null,"",""]
[null,"",""]
[null,"",""]
[null,"",""]
[null,"",""]
[null,"",""]
[null,"",""]
[null,"",""]
[null,"",""]
[null,"",""]
[null,"",""]
[null,"",""]
[null,"",""]
[null,"",""]
[null,"",""]
[null,"",""]
[null,"",""]
[null,"",""]
[null,"",""]
[null,"",""]
[null,"",""]
[null,"",""]
[null,"",""]
[null,"",""]
[null,"",""]
[null,"",""]
[null,"",""]
[null,"",""]
[null,"",""]
[null,"",""]
[null,"",""]
[null,"",""]
[null,"",""]
[null,"",""]
[null,"",""]
[null,"",""]
[null,"",""]
[null,"",""]
[null,"",""]
[null,"",""]
[null,"",""]
[null,"",""]
[null,"",""]
[null,"",""]
[null,"",""]
[null,"",""]
[null,"",""]
[null,"",""]
[null,"",""]
[null,"",""]
[null,"",""]
[null,"",""]
[null,"",""]
[null,"",""]
[null,"",""]
[null,"",""]
[null,"",""]
[null,"",""]
[null,"",""]
[null,"",""]
[null,"",""]
[null,"",""]
[null,"",""]
[null,"",""]
[null,"",""]
[null,"",""]
[null,"",""]
[null,"",""]
[null,"",""]
[null,"",""]
[null,"",""]
[null,"",""]
[null,"",""]
[null,"",""]
[null,"",""]
[null,"",""]
[null,"",""]
[null,"",""]
[null,"",""]
[null,"",""]
[null,"",""]
[null,"",""]
[null,"",""]
[null,"",""]
[null,"",""]
[null,"",""]
[null,"",""]
[null,"",""]
[null,"",""]
[null,"",""]
[null,"",""]
[null,"",""]
[null,"",""]
[null,"",""]
[null,"",""]
[null,"",""]
[null,"",""]
[null,"",""]
[null,"",""]
[null,"",""]
[null,"",""]
[null,"",""]
[null,"",""]
[null,"",""]
[null,"",""]
[null,"",""]
[null,"",""]
[null,"",""]
[null,"",""]
[null,"",""]
[null,"",""]
[null,"",""]
[null,"",""]
[null,"",""]
[null,"",""]
[null,"",""]
[null,"",""]
[null,"",""]
[null,"",""]
[null,"",""]
[null,"",""]
[null,"",""]
[null,"",""]
[null,"",""]
[null,"",""]
[null,"",""]
[null,"",""]
[null,"",""]
[null,"",""]
[null,"",""]
[null,"",""]
[null,"",""]
[null,"",""]
[null,"",""]
[null,"",""]
[null,"",""]
[null,"",""]
[null,"",""]
[null,"",""]
[null,"",""]
[null,"",""]
[null,"",""]
[null,"",""]
[null,"",""]
[null,"",""]
[null,"",""]
[null,"",""]
[null,"",""]
[null,"",""]
[null,"",""]
[null,"",""]
[null,"",""]
[null,"",""]
[null,"",""]
[null,"",""]
[null,"",""]
[null,"",""]
[null,"",""]
[null,"",""]
[null,"",""]
[null,"",""]
[null,"",""]
[null,"",""]
[null,"",""]
[null,"",""]
[null,"",""]
[null,"",""]
[null,"",""]
[null,"",""]
[null,"",""]
[null,"",""]
[null,"",""]
[null,"",""]
[null,"",""]
[null,"",""]
[null,"",""]
[null,"",""]
[null,"",""]
[null,"",""]
[null,"",""]
[null,"",""]
[null,"",""]
[null,"",""]
[null,"",""]
[null,"",""]
[null,"",""]
[null,"",""]
[null,"",""]
[null,"",""]
[null,"",""]
[null,"",""]
[null,"",""]
[null,"",""]
[null,"",""]
[null,"",""]
[null,"",""]
[null,"",""]
[null,"",""]
[null,"",""]
[null,"",""]
[null,"",""]
[null,"",""]
[null,"",""]
[null,"",""]
[null,"",""]
[null,"",""]
[null,"",""]
[null,"",""]
[null,"",""]
[null,"",""]
[null,"",""]
[null,"",""]
[null,"",""]
[null,"",""]
[null,"",""]
[null,"",""]
[null,"",""]
[null,"",""]
[null,"",""]
[null,"",""]
[null,"",""]
[null,"",""]
[null,"",""]
[null,"",""]
[null,"",""]
[null,"",""]
[null,"",""]
[null,"",""]
[null,"",""]
[null,"",""]
[null,"",""]
[null,"",""]
[null,"",""]
[null,"",""]
[null,"",""]
[null,"",""]
[null,"",""]
[null,"",""]
[null,"",""]
[null,"",""]
[null,"",""]
[null,"",""]
[null,"",""]
[null,"",""]
[null,"",""]
[null,"",""]
[null,"",""]
[null,"",""]
[null,"",""]
[null,"",""]
[null,"",""]
[null,"",""]
[null,"",""]
[null,"",""]
[null,"",""]
[null,"",""]
[null,"",""]
[null,"",""]
[null,"",""]
[null,"",""]
[null,"",""]
[null,"",""]
[null,"",""]
[null,"",""]
[null,"",""]
[null,"",""]
[null,"",""]
[null,"",""]
[null,"",""]
[null,"",""]
[null,"",""]
[null,"",""]
[null,"",""]
[null,"",""]
[null,"",""]
[null,"",""]
[null,"",""]
[null,"",""]
[null,"",""]
[null,"",""]
[null,"",""]
[null,"",""]
[null,"",""]
[null,"",""]
[null,"",""]
[null,"",""]
[null,"",""]
[null,"",""]
[null,"",""]
[null,"",""]
[null,"",""]
[null,"",""]
[null,"",""]
[null,"",""]
[null,"",""]
[null,"",""]
[null,"",""]
[null,"",""]
[null,"",""]
[null,"",""]
[null,"",""]
[null,"",""]
[null,"",""]
[null,"",""]
[null,"",""]
[null,"",""]
[null,"",""]
[null,"",""]
[null,"",""]
[null,"",""]
[null,"",""]
[null,"",""]
[null,"",""]
[null,"",""]
[null,"",""]
[null,"",""]
[null,"",""]
[null,"",""]
[null,"",""]
[null,"",""]
[null,"",""]
[null,"",""]
[null,"",""]
[null,"",""]
[null,"",""]
[null,"",""]
[null,"",""]
[null,"",""]
[null,"",""]
[null,"",""]
[null,"",""]
[null,"",""]
[null,"",""]
[null,"",""]
[null,"",""]
[null,"",""]
[null,"",""]
[null,"",""]
[null,"",""]
[null,"",""]
[null,"",""]
[null,"",""]
[null,"",""]
[null,"",""]
[null,"",""]
[null,"",""]
[null,"",""]
[null,"",""]
[null,"",""]
[null,"",""]
[null,"",""]
[null,"",""]
[null,"",""]
[null,"",""]
[null,"",""]
[null,"",""]
[null,"",""]
[null,"",""]
[null,"",""]
[null,"",""]
[null,"",""]
[null,"",""]
[null,"",""]
[null,"",""]
[null,"",""]
[null,"",""]
[null,"",""]
[null,"",""]
[null,"",""]
[null,"",""]
[null,"",""]
[null,"",""]
[null,"",""]
[null,"",""]
[null,"",""]
[null,"",""]
[null,"",""]
[null,"",""]
[null,"",""]
[null,"",""]
[null,"",""]
[null,"",""]
[null,"",""]
[null,"",""]
[null,"",""]
[null,"",""]
[null,"",""]
[null,"",""]
[null,"",""]
[null,"",""]
[null,"",""]
[null,"",""]
[null,"",""]
[null,"",""]
[null,"",""]
[null,"",""]
[null,"",""]
[null,"",""]
[null,"",""]
[null,"",""]
[null,"",""]
[null,"",""]
[null,"",""]
[null,"",""]
[null,"",""]
[null,"",""]
[null,"",""]
[null,"",""]
[null,"",""]
[null,"",""]
[null,"",""]
[null,"",""]
[null,"",""]
[null,"",""]
[null,"",""]
[null,"",""]
[null,"",""]
[null,"",""]
[null,"",""]
[null,"",""]
[null,"",""]
[null,"",""]
[null,"",""]
[null,"",""]
[null,"",""]
[null,"",""]
[null,"",""]
[null,"",""]
[null,"",""]
[null,"",""]
[null,"",""]
[null,"",""]
[null,"",""]
[null,"",""]
[null,"",""]
[null,"",""]
[null,"",""]
[null,"",""]
[null,"",""]
[null,"",""]
[null,"",""]
[null,"",""]
[null,"",""]
[null,"",""]
[null,"",""]
[null,"",""]
[null,"",""]
[null,"",""]
[null,"",""]
[null,"",""]
[null,"",""]
[null,"",""]
[null,"",""]
[null,"",""]
[null,"",""]
[null,"",""]
[null,"",""]
[null,"",""]
[null,"",""]
[null,"",""]
[null,"",""]
[null,"",""]
[null,"",""]
[null,"",""]
[null,"",""]
[null,"",""]
[null,"",""]
[null,"",""]
[null,"",""]
[null,"",""]
[null,"",""]
[null,"",""]
[null,"",""]
[null,"",""]
[null,"",""]
[null,"",""]
[null,"",""]
[null,"",""]
[null,"",""]
[null,"",""]
[null,"",""]
[null,"",""]
[null,"",""]
[null,"",""]
[null,"",""]
[null,"",""]
[null,"",""]
[null,"",""]
[null,"",""]
[null,"",""]
[null,"",""]
[null,"",""]
[null,"",""]
[null,"",""]
[null,"",""]
[null,"",""]
[null,"",""]
[null,"",""]
[null,"",""]
[null,"",""]
[null,"",""]
[null,"",""]
[null,"",""]
[null,"",""]
[null,"",""]
[null,"",""]
[null,"",""]
[null,"",""]
[null,"",""]
[null,"",""]
[null,"",""]
[null,"",""]
[null,"",""]
[null,"",""]
[null,"",""]
[null,"",""]
[null,"",""]
[null,"",""]
[null,"",""]
[null,"",""]
[null,"",""]
[null,"",""]
[null,"",""]
[null,"",""]
[null,"",""]
[null,"",""]
[null,"",""]
[null,"",""]
[null,"",""]
[null,"",""]
[null,"",""]
[null,"",""]
[null,"",""]
[null,"",""]
[null,"",""]
[null,"",""]
[null,"",""]
[null,"",""]
[null,"",""]
[null,"",""]
[null,"",""]
[null,"",""]
[null,"",""]
[null,"",""]
[null,"",""]
[null,"",""]
[null,"",""]
[null,"",""]
[null,"",""]
[null,"",""]
[null,"",""]
[null,"",""]
[null,"",""]
[null,"",""]
[null,"",""]
[null,"",""]
[null,"",""]
[null,"",""]
[null,"",""]
[null,"",""]
[null,"",""]
[null,"",""]
[null,"",""]
[null,"",""]
[null,"",""]
[null,"",""]
[null,"",""]
[null,"",""]
[null,"",""]
[null,"",""]
[null,"",""]
[null,"",""]
[null,"",""]
[null,"",""]
[null,"",""]
[null,"",""]
[null,"",""]
[null,"",""]
[null,"",""]
[null,"",""]
[null,"",""]
[null,"",""]
[null,"",""]
[null,"",""]
[null,"",""]
[null,"",""]
[null,"",""]
[null,"",""]
[null,"",""]
[null,"",""]
[null,"",""]
[null,"",""]
[null,"",""]
[null,"",""]
[null,"",""]
[null,"",""]
[null,"",""]
[null,"",""]
[null,"",""]
[null,"",""]
[null,"",""]
[null,"",""]
[null,"",""]
[null,"",""]
[null,"",""]
[null,"",""]
[null,"",""]
[null,"",""]
[null,"",""]
[null,"",""]
[null,"",""]
[null,"",""]
[null,"",""]
[null,"",""]
[null,"",""]
[null,"",""]
[null,"",""]
[null,"",""]
[null,"",""]
[null,"",""]
[null,"",""]
[null,"",""]
[null,"",""]
[null,"",""]
[null,"",""]
[null,"",""]
[null,"",""]
[null,"",""]
[null,"",""]
[null,"",""]
[null,"",""]
[null,"",""]
[null,"",""]
[null,"",""]
[null,"",""]
[null,"",""]
[null,"",""]
[null,"",""]
[null,"",""]
[null,"",""]
[null,"",""]
[null,"",""]
[null,"",""]
[null,"",""]
[null,"",""]
[null,"",""]
[null,"",""]
[null,"",""]
[null,"",""]
[null,"",""]
[null,"",""]
[null,"",""]
[null,"",""]
[null,"",""]
[null,"",""]
[null,"",""]
[null,"",""]
[null,"",""]
[null,"",""]
[null,"",""]
[null,"",""]
[null,"",""]
[null,"",""]
[null,"",""]
[null,"",""]
[null,"",""]
[null,"",""]
[null,"",""]
[null,"",""]
[null,"",""]
[null,"",""]
[null,"",""]
[null,"",""]
[null,"",""]
[null,"",""]
[null,"",""]
[null,"",""]
[null,"",""]
[null,"",""]
[null,"",""]
[null,"",""]
[null,"",""]
[null,"",""]
[null,"",""]
[null,"",""]
[null,"",""]
[null,"",""]
[null,"",""]
[null,"",""]
[null,"",""]
[null,"",""]
[null,"",""]
[null,"",""]
[null,"",""]
[null,"",""]
[null,"",""]
[null,"",""]
[null,"",""]
[null,"",""]
[null,"",""]
[null,"",""]
[null,"",""]
[null,"",""]
[null,"",""]
[null,"",""]
[null,"",""]
[null,"",""]
[null,"",""]
[null,"",""]
[null,"",""]
[null,"",""]
[null,"",""]
[null,"",""]
[null,"",""]
[null,"",""]
[null,"",""]
[null,"",""]
[null,"",""]
[null,"",""]
[null,"",""]
[null,"",""]
[null,"",""]
[null,"",""]
[null,"",""]
[null,"",""]
[null,"",""]
[null,"",""]
[null,"",""]
[null,"",""]
[null,"",""]
[null,"",""]
[null,"",""]
[null,"",""]
[null,"",""]
[null,"",""]
[null,"",""]
[null,"",""]
[null,"",""]
[null,"",""]
[null,"",""]
[null,"",""]
[null,"",""]
[null,"",""]
[null,"",""]
[null,"",""]
[null,"",""]
[null,"",""]
[null,"",""]
[null,"",""]
[null,"",""]
[null,"",""]
[null,"",""]
[null,"",""]
[null,"",""]
[null,"",""]
[null,"",""]
[null,"",""]
[null,"",""]
[null,"",""]
[null,"",""]
[null,"",""]
[null,"",""]
[null,"",""]
[null,"",""]
[null,"",""]
[null,"",""]
[null,"",""]
[null,"",""]
[null,"",""]
[null,"",""]
[null,"",""]
[null,"",""]
[null,"",""]
[null,"",""]
[null,"",""]
[null,"",""]
[null,"",""]
[null,"",""]
[null,"",""]
[null,"",""]
[null,"",""]
[null,"",""]
[null,"",""]
[null,"",""]
[null,"",""]
[null,"",""]
[null,"",""]
[null,"",""]
[null,"",""]
[null,"",""]
[null,"",""]
[null,"",""]
[null,"",""]
[null,"",""]
[null,"",""]
[null,"",""]
[null,"",""]
[null,"",""]
[null,"",""]
[null,"",""]
[null,"",""]
[null,"",""]
[null,"",""]
[null,"",""]
[null,"",""]
[null,"",""]
[null,"",""]
[null,"",""]
[null,"",""]
[null,"",""]
[null,"",""]
[null,"",""]
[null,"",""]
[null,"",""]
[null,"",""]
[null,"",""]
[null,"",""]
[null,"",""]
[null,"",""]
[null,"",""]
[null,"",""]
[null,"",""]
[null,"",""]
[null,"",""]
[null,"",""]
[null,"",""]
[null,"",""]
[null,"",""]
[null,"",""]
[null,"",""]
[null,"",""]
[null,"",""]
[null,"",""]
[null,"",""]
[null,"",""]
[null,"",""]
[null,"",""]
[null,"",""]
[null,"",""]
[null,"",""]
[null,"",""]
[null,"",""]
[null,"",""]
[null,"",""]
[null,"",""]
[null,"",""]
[null,"",""]
[null,"",""]
[null,"",""]
[null,"",""]
[null,"",""]
[null,"",""]
[null,"",""]
[null,"",""]
[null,"",""]
[null,"",""]
[null,"",""]
[null,"",""]
[null,"",""]
[null,"",""]
[null,"",""]
[null,"",""]
[null,"",""]
[null,"",""]
[null,"",""]
[null,"",""]
[null,"",""]
[null,"",""]
[null,"",""]
[null,"",""]
[null,"",""]
[null,"",""]
[null,"",""]
[null,"",""]
[null,"",""]
[null,"",""]
[null,"",""]
[null,"",""]
[null,"",""]
[null,"",""]
[null,"",""]
[null,"",""]
[null,"",""]
[null,"",""]
[null,"",""]
[null,"",""]
[null,"",""]
[null,"",""]
[null,"",""]
[null,"",""]
[null,"",""]
[null,"",""]
[null,"",""]
[null,"",""]
[null,"",""]
[null,"",""]
[null,"",""]
[null,"",""]
[null,"",""]
[null,"",""]
[null,"",""]
[null,"",""]
[null,"",""]
[null,"",""]
[null,"",""]
[null,"",""]
[null,"",""]
[null,"",""]
[null,"",""]
[null,"",""]
[null,"",""]
[null,"",""]
[null,"",""]
[null,"",""]
[null,"",""]
[null,"",""]
[null,"",""]
[null,"",""]
[null,"",""]
[null,"",""]
[null,"",""]
[null,"",""]
[null,"",""]
[null,"",""]
[null,"",""]
[null,"",""]
[null,"",""]
[null,"",""]
[null,"",""]
[null,"",""]
[null,"",""]
[null,"",""]
[null,"",""]
[null,"",""]
[null,"",""]
[null,"",""]
[null,"",""]
[null,"",""]
[null,"",""]
[null,"",""]
[null,"",""]
[null,"",""]
[null,"",""]
[null,"",""]
[null,"",""]
[null,"",""]
[null,"",""]

{"sheet":"Група_актива","index":4,"n_rows":37,"n_cols":1,"rows_kept":37,"cut":false,"hidden":false,"merged":[]}
["← Назад"]
["1. Предмет продажу для активу, віднесеного до І групи активів, складається з прав вимоги за кредитним договором."]
[]
["2. Предмет продажу для активу, віднесеного до ІІ групи активів, складають наступні майнові права (окремі або в сукупності): "]
["- право оскаржувати, як у судовому, так і в позасудовому порядках припинення, ліквідацію позичальників та/або майнових поручителів (поручителів), які є юридичними особами, їх правонаступників;"]
["- право звернення до державних органів, установ та організацій всіх форм власності в межах прав та повноважень власника майнових прав (прав вимоги);"]
["- право звернення до правонаступників, спадкоємців та органів місцевого самоврядування в межах прав та повноважень власника майнових прав (прав вимоги), якщо позичальником та/або майновим поручителем (поручителем) є фізична особа, в тому числі фізична особа-підприємець; "]
["- права кредитора за майновими правами (правами вимоги) (зокрема, права вимоги застосування наслідків недійсності правочинів, вимоги з отримання коштів від реалізації заставного та іншого майна, вимоги, які випливають з розірвання та/або визнання недійсним договорів та/або визнання нікчемними договорів, права, які випливають із судових справ, в тому числі справ про банкрутство, виконавчих проваджень, в тому числі щодо майна, яке не було реалізоване на торгах та підлягатиме передачі стягувачу в погашення боргу після продажу майнових прав, права, які випливають з мирових угод, договорів з арбітражними керуючими, охоронними організаціями, права участі в колегіальних органах, в тому числі в комітеті кредиторів, право одержати, переважно перед іншими кредиторами майнових поручителів, іпотекодавця, заставодавця, якщо таке переважне право встановлено нормами чинного законодавства України, у порядку, визначеному договорами іпотеки (договорами застави), Законом України «Про іпотеку», Законом України «Про заставу», задоволення всіх своїх вимог (повернення суми основної заборгованості, сплати нарахованих процентів, комісій, можливої неустойки (штраф, пеня), відшкодування збитків, тощо), що випливають з умов кредитних договорів та договорів забезпечення, за рахунок майна, вказаного в таких договорах та додатках до них, тощо), які виникнуть в майбутньому у разі скасування реєстрації припинення/ліквідації боржників (позичальників, майнових поручителів, поручителів, які є юридичними особами); "]
["- право на оскарження будь-яких рішень у відповідності до вимог чинного законодавства України, які стосуються банку та пов’язані з правами вимоги та/або майновими правами до боржників (позичальників, майнових поручителів, поручителів), їх правонаступників, та/або укладеними договорами; "]
[" - право набути у власність гроші та/або майно на підставах, що виникли   за укладеними договорами; "]
["- право отримання грошових коштів/відшкодування від боржників (позичальників, майнових поручителів, поручителів), їх правонаступників за укладеними договорами; "]
["- будь-які інші без виключення права, що пов’язані або випливають із майнових прав (прав вимоги) до боржників (позичальників, майнових поручителів, поручителів), їх правонаступників."]
[]
["3. Предмет продажу для активу, віднесеного до підгрупи ІІІп, складають наступні майнові права (окремі або в сукупності):"]
["- право звернення до державних органів, установ та організацій всіх форм власності в межах прав та повноважень власника прав вимоги, які виникли за укладеними договорами; "]
[" - право набути у власність гроші та/або майно на підставах, що виникли  у зв’язку із укладенням та здійсненням операцій за укладеними договорами; "]
["- право оскаржувати припинення прав вимоги, в тому числі право оскаржувати в судовому порядку припинення (відсутність) прав вимоги; "]
["- права кредитора за правами вимоги (зокрема, права вимоги застосування наслідків недійсності правочинів, вимоги з отримання коштів від реалізації заставного та іншого майна, вимоги, які випливають з розірвання та/або визнання недійсним договорів та/або визнання нікчемними договорів, права, які випливають із судових справ, в тому числі справ про банкрутство, виконавчих проваджень, в тому числі щодо майна, яке не було реалізоване на торгах та підлягатиме передачі стягувачу в погашення боргу після продажу майнових прав, права, які випливають з мирових угод, договорів з арбітражними керуючими, охоронними організаціями, права участі в колегіальних органах, в тому числі в комітеті кредиторів, право одержати, переважно перед іншими кредиторами майнових поручителів, іпотекодавця, заставодавця, якщо таке переважне право встановлено нормами чинного законодавства України, у порядку, визначеному договорами іпотеки (договорами застави), Законом України «Про іпотеку», Законом України «Про заставу», задоволення всіх своїх вимог (повернення суми основної заборгованості, сплати нарахованих процентів, комісій, можливої неустойки (штраф, пеня), відшкодування збитків, тощо), що випливають з умов кредитних договорів та договорів забезпечення, за рахунок майна, вказаного в таких договорах та додатках до них, тощо), які виникнуть в майбутньому у разі скасування рішень про їх припинення або зміну; "]
["-право отримання грошових коштів/відшкодування від боржників (позичальників, майнових поручителів, поручителів), їх правонаступників за укладеними договорами за наслідками здійснених правочинів за укладеними договорами; "]
["- право на оскарження будь-яких рішень у відповідності до вимог чинного законодавства України, які стосуються банку та пов’язані з правами вимоги та/або майновими правами до боржників (позичальників, майнових поручителів, поручителів), їх правонаступників, та/або укладеними договорами; "]
["- право отримання грошових коштів/відшкодування до боржників (позичальників, майнових поручителів, поручителів), їх правонаступників за наслідками зміни або розірвання укладених договорів; "]
["- будь-які інші без виключення права, що пов’язані або випливають із прав вимоги до боржників (позичальників, майнових поручителів, поручителів), їх правонаступників. "]
[]
["4. Предмет продажу для активу, віднесеного до підгрупи ІІІн групи активів, складають наступні майнові права (окремі або в сукупності):"]
["- право звернення до державних органів, установ та організацій всіх форм власності в межах прав та повноважень власника прав вимоги, які виникли за укладеними   договорами; "]
["- право набути у власність гроші та/або майно на підставах, що виникли  у зв’язку із укладенням та здійсненням операцій за укладеними договорами; "]
["- право оскаржувати недійсність прав вимоги, в тому числі право оскаржувати в судовому порядку недійсність прав вимоги; "]
["- права кредитора за правами вимоги (зокрема, права вимоги застосування наслідків недійсності правочинів, вимоги з отримання коштів від реалізації заставного та іншого майна, вимоги, які випливають з розірвання та/або визнання недійсним договорів та/або визнання нікчемними договорів, права, які випливають із судових справ, в тому числі справ про банкрутство, виконавчих проваджень, в тому числі щодо майна, яке не було реалізоване на торгах та підлягатиме передачі стягувачу в погашення боргу після продажу майнових прав, права, які випливають з мирових угод, договорів з арбітражними керуючими, охоронними організаціями, права участі в колегіальних органах, в тому числі в комітеті кредиторів, право одержати, переважно перед іншими кредиторами майнових поручителів, іпотекодавця, заставодавця, якщо таке переважне право встановлено нормами чинного законодавства України, у порядку, визначеному договорами іпотеки (договорами застави), Законом України «Про іпотеку», Законом України «Про заставу», задоволення всіх своїх вимог (повернення суми основної заборгованості, сплати нарахованих процентів, комісій, можливої неустойки (штраф, пеня), відшкодування збитків, тощо), що випливають з умов кредитних договорів та договорів забезпечення, за рахунок майна, вказаного в таких договорах та додатках до них, тощо), які виникнуть в майбутньому у разі скасування рішень про їх недійсність або зміну; "]
[" -право отримання грошових коштів/відшкодування від боржників (позичальників, майнових поручителів, поручителів), їх правонаступників за наслідками недійсності/нікчемності укладених договорів; "]
["- право на оскарження будь-яких рішень у відповідності до вимог чинного законодавства України, які стосуються банку та пов’язані з правами вимоги та/або майновими правами до боржників (позичальників, майнових поручителів, поручителів), їх правонаступників, та/або укладеними договорами; "]
["- право отримання грошових коштів/відшкодування від боржників (позичальників, майнових поручителів, поручителів), їх правонаступників за наслідками зміни або розірвання укладених договорів; "]
["- будь-які інші без виключення права, що пов’язані або випливають із прав вимоги, до боржників (позичальників, майнових поручителів, поручителів), їх правонаступників"]
[]
["«Недійсність (нікчемність), припинення всіх або будь-якого із прав, що складають Майнові права за цим лотом, або неможливість реалізації покупцем будь-якого із Майнових прав, набутих ним за договором купівлі-продажу Майнових прав за цим лотом, не вплине на дійсність договору купівлі-продажу Майнових прав за цим лотом та Покупець погоджується, що Продавець не несе жодної відповідальності за такі наслідки.\nБанк (продавець) та/або Фонд не відповідає за неотримання покупцем грошових коштів або іншого майна, які покупець очікував отримати від Майнових прав, набуваючи у власність Майнові права за цим лотом.\nПриймаючи рішення щодо придбання Майнових прав за цим лотом покупець має розуміти (усвідомлювати) характер Майнових прав, що переходять до покупця за цим лотом, та приймати усі ризики, пов’язані із таким переходом, у тому числі ризики того, що покупець у майбутньому не зможе отримати жодних коштів або майна за Майновими правами.»"]
["Цей документ був підготовлений Фондом гарантування вкладів фізичних осіб (далі – Фонд) виключно для інформаційних цілей і не повинен вважатися як спонукання до будь-яких дій чи бездіяльності.  Інформація, що міститься в цьому документі, була отримана з/або ґрунтується на джерелах, які вважаються надійними, але не є вичерпною та не може сприйматися як повна або актуальна. Рішення покупця щодо будь-яких дій або бездіяльності повинно ґрунтуватися на власних оцінках та дослідженнях майна (активу/активів), котре реалізується. Фонд не несе відповідальності за рішення покупця та його наслідки, що ґрунтується на інформації, викладеній в даному документі."]
["Покупцем не може бути особа, пов'язана з державою-агресором, відповідно до Постанови Кабінету Міністрів України №187 від 03.03.2022 (зі змінами)."]
["Звертаємо увагу, що  на період дії воєнного стану на території України  договори посвідчуються нотаріусом, який включений до затвердженого Міністерством юстиції переліку (https://minjust.gov.ua/news/ministry/perelik-notariusiv-yakimi-v-umovah-voennogo-stanu-vchinyayutsya-notarialni-dii-schodo-tsinnogo-mayna). Нотаріальне посвідчення договорів відчуження нерухомого майна на час дії воєнного стану здійснюється нотаріусом, який включений до затвердженого Міністерством юстиції переліку, за місцезнаходженням такого майна. Виключенням є м. Київ та Київська область, де договори відчуження нерухомого майна посвідчуються нотаріусом з м. Києва або Київської обл. за місцезнаходженням такого майна, або місцезнаходженням юридичної особи, або за зареєстрованим місцем проживання фізичної особи - однієї із сторін договору."]