{"text_format":"1","workbook":"xlsx","n_sheets":6,"sheets":["1.Портфель кредитів","2.Забезпечення","3.ППР","4.журнал торгів","Service_menu","Hidden_Словник"],"not_rendered":{"charts":0,"images":1,"macros":1,"external_links":2,"defined_names":37,"comments":0,"pivot_tables":0},"unopened":[],"bounds":{"document_bytes":16777216,"sheet_cells":100000,"rows_first":2000,"rows_last":500,"rows_between":2000,"halvings":0,"cell_chars":16384,"cell_head_chars":4096},"cells_cut":0,"cells_raw":0,"read":"whole","date_system":"1900"}

{"sheet":"1.Портфель кредитів","index":0,"n_rows":971,"n_cols":477,"rows_kept":971,"cut":false,"hidden":false,"merged":[[0,4,0,6],[1,0,2,3],[4,0,4,3],[13,21,13,24],[1,21,4,23],[6,4,10,24],[13,2,13,6],[13,7,13,20],[12,2,12,4],[31,11,32,11],[33,8,34,8],[33,9,34,9],[33,10,34,10],[33,11,34,11],[31,8,32,8],[31,9,32,9],[31,10,32,10],[25,4,25,12],[27,12,27,13],[21,9,21,12],[24,9,24,12],[21,3,21,6],[26,3,26,11],[23,4,23,10]]}
[]
[]
[]
[]
[]
[]
[null,null,null,null,"Цей документ був підготовлений Фондом гарантування вкладів фізичних осіб (далі – Фонд) виключно для інформаційних цілей і не повинен вважатися як спонукання до будь-яких дій чи бездіяльності. \nІнформація, що міститься в цьому документі, була отримана з/або ґрунтується на джерелах, які вважаються надійними, але не є вичерпною та не може сприйматися як повна або актуальна. Зокрема, але не виключно, станом на дату придбання активів допускаються несуттєві зміни лота, в складі якого продаються такі активи. Під несуттєвими змінами лота слід розуміти такі зміни характеристик активів у складі такого лота, які впливають на його балансову вартість, але не більше ніж на 10 відсотків. Рішення покупця щодо будь-яких дій або бездіяльності повинно ґрунтуватися на власних оцінках та дослідженнях майна (активу/активів), котре реалізується. Фонд не несе відповідальності за рішення покупця та його наслідки, що ґрунтується на інформації, викладеній в даному документі.",null,null,null,null,null,null,null,null,null,null,null,null,null,null,null,null,null,null,null,null,null,null,null,null,null,null,null,null,null,null,null,null,null,null,null,null,null,null,null,null,null,null,null,null,null,null,null,null,null,null,null,null,null,null,null,null,null,null,null,null,null,null,null,null,null,null,null,null,null,null,null,null,null,null,null,null,null,null,null,null,null,null,null,null,null,null,null,null,null,null,null,null,null,null,null,null,null,null,null,null,null,null,null,null,null,null,null,null,null,null,null,null,null,null,null,null,null,null,null,null,null,null,null,null,null,null,null,null,null,null,null,null,null,null,null,null,null,null,null,null,null,null,null,null,null,null,null,null,null,null,null,null,null,null,null,null,null,null,null,null,null,null,null,null,null,null,null,null,null,null,null,null,null,null,null,null,null,null,null,null,null,null,null,null,null,null,null,null,null,null,null,null,null,null,null,null,null,null,null,null,null,null,null,null,null,null,null,null,null,null,null,null,null,null,null,null,null,null,null,null,null,null,null,null,null,null,null,null,null,null,null,null,null,null,null,null,null,null,null,null,null,null,null,null,null,null,null,null,null,null,null,null,null,null,null,null,null,null,null,null,null,null,null,null,null,null,null,null,null,null,null,null,null,null,null,null,null,null,null,null,null,null,null,null,null,null,null,null,null,null,null,null,null,null,null,null,null,null,null,null,null,null,null,null,null,null,null,null,null,null,null,null,null,null,null,null,null,null,null,null,null,null,null,null,null,null,null,null,null,null,null,null,null,null,null,null,null,null,null,null,null,null,null,null,null,null,null,null,null,null,null,null,null,null,null,null,null,null,null,null,null,null,null,null,null,null,null,null,null,null,null,null,null,null,null,null,null,null,null,null,null,null,null,null,null,null,null,null,null,null,null,null,null,null,null,null,null,null,null,null,null,null,null,null,null,null,null,null,null,null,null,null,null,null,null,null,null,null,null,null,null,null,null,null,null,null,null,null,null,null,null,null,null,null,null,null,null,null,null,null,null,null,null,null,null,null,null,null,null,null,null,null,null,null,null,null,null,null,null,null,null,null,null,null,null,null,null,null,null,null,null,"2029-11-09"]
["Обов'язкове внесення всіх можливих даних."]
["Всі грошові значення заповнюються в грн., або еквіваленті по курсу НБУ, станом на звітну дату."]
["Клітинки із випадаючими списками заповнюються шляхом вибору відповідного значення зі списку."]
[]
[]
["Звітна дата",null,"2020-05-01",null,null,null,null,null,null,null,null,null,null,null,null,null,null,null,null,null,null,null,null,null,{"$f":"E13:Y19=SUM(Y16:Y1048576)","v":0}]
[null,null,"Загальні дані",null,null,null,null,"Характеристика активу / фактори впливу",null,null,null,null,null,null,null,null,null,null,null,null,null,"Заборгованість"]
["unicid","#","Банк","МФО банку","Актив","Область реєстрації","Ознака банкрутства/ліквідації (відповідно ЄДР на дату заповнення паспорту)","Група активу\n(1 – права вимоги,\n2 – майнові права,\n3 – майнові права)","Номер кредитного договору","Валюта","Дата відкриття","Дата закінчення","Відмітка про знаходження права об'єкту в якості забезпечення під рефінансуванням в НБУ","Наявність кредитного договору та договору застави","Кількість днів прострочення оплати боргу на дату заповнення","Сума погашеної заборгованності у поточному році","Сума останнього погашення заборгованності, грн. екв.","Дата останнього погашення заборгованності","Суб'єкт оціночної діяльності","Дата оцінки активу","Оціночна вартість, грн. екв.","Заборгованість на дату формування ліквідаційної маси, грн. екв.",{"$f":"\"Заборгованстіь  на дату заповнення паспорту, грн. екв. \"&TEXT(C13,\"dd.mm.yyyy\")&\"р. (тіло та проценти):\"","v":"Заборгованстіь  на дату заповнення паспорту, грн. екв. 01.05.2020р. (тіло та проценти):"},"Заборгованість по тілу кредиту на дату заповнення паспорту, грн. екв.","Забаргованність по нарах. % за кредитом на дату заповнення паспорту, грн. екв."]
[{"$f":"IF(#REF!>\"\",D16&\"_\"&I16&\"_\"&B16,\"\")","v":{"$error":"#REF!"}},1,"Камбіо",{"$f":"IFERROR(VLOOKUP(C16,Hidden_Словник!$A$2:$C$100,3,FALSE),\"\")","v":"380399"},"кредит фіз особи",null,"немає відомостей в ЄДР","І","108ф-2007/840","840","26.12.2007","28.10.2011","ні",null,"0",null,null,null,null,"03.09.2018",2410300,null,{"$f":"X16+Y16","v":17095931.66},17095931.66,0]
[{"$f":"IF(#REF!>\"\",D17&\"_\"&I17&\"_\"&B17,\"\")","v":{"$error":"#REF!"}},2,"Камбіо",{"$f":"IFERROR(VLOOKUP(C17,Hidden_Словник!$A$2:$C$100,3,FALSE),\"\")","v":"380399"},"кредит юр особи","Київська","не перебуває в процесі припинення","ІІІ","005/1-2013/840","840","15.03.2013","30.11.2015","ні",null,"0",null,null,null,null,"03.09.2018",10696760,null,{"$f":"X17+Y17","v":52308299.719999999},31826252,20482047.719999999]
[{"$f":"IF(#REF!>\"\",D18&\"_\"&I18&\"_\"&B18,\"\")","v":{"$error":"#REF!"}},3,"Камбіо",{"$f":"IFERROR(VLOOKUP(C18,Hidden_Словник!$A$2:$C$100,3,FALSE),\"\")","v":"380399"},"кредит юр особи","Київська","не перебуває в процесі припинення","ІІІ","008/1-2013/840","840","24.04.2013","30.11.2015","ні",null,"0",null,null,null,null,"03.09.2018",8511670,null,{"$f":"X18+Y18","v":30594837.670000002},18615660.280000001,11979177.390000001]
[{"$f":"IF(#REF!>\"\",D19&\"_\"&I19&\"_\"&B19,\"\")","v":{"$error":"#REF!"}},4,"Камбіо",{"$f":"IFERROR(VLOOKUP(C19,Hidden_Словник!$A$2:$C$100,3,FALSE),\"\")","v":"380399"},"дебіторська заборг. за цін. паперами","Київська","не перебуває в процесі припинення","-",null,"980",null,null,"ні",null,null,null,null,null,null,null,216105.5,null,33247000]
[null,null,null,{"$f":"IFERROR(VLOOKUP(C20,Hidden_Словник!$A$2:$C$100,3,FALSE),\"\")","v":""}]
[null,null,null,{"$f":"IFERROR(VLOOKUP(C21,Hidden_Словник!$A$2:$C$100,3,FALSE),\"\")","v":""}]
[]
[null,null,null,null,null,null,null,null,null,null,null,null,null,null,null,null,null,null,null,null,null,null,{"$f":"IF(X23+Y23>0,X23+Y23,\"\")","v":""}]
[null,null,null,null,null,null,null,null,null,null,null,null,null,null,null,null,null,null,null,null,null,null,""]
[null,null,null,null,null,null,null,null,null,null,null,null,null,null,null,null,null,null,null,null,null,null,""]
[null,null,null,null,null,null,null,null,null,null,null,null,null,null,null,null,null,null,null,null,null,null,""]
[null,null,null,null,null,null,null,null,null,null,null,null,null,null,null,null,null,null,null,null,null,null,""]
[null,null,null,null,null,null,null,null,null,null,null,null,null,null,null,null,null,null,null,null,null,null,""]
[null,null,null,null,null,null,null,null,null,null,null,null,null,null,null,null,null,null,null,null,null,null,""]
[null,null,null,{"$f":"IFERROR(VLOOKUP(C30,Hidden_Словник!$A$2:$C$100,3,FALSE),\"\")","v":""},null,null,null,null,null,null,null,null,null,null,null,null,null,null,null,null,null,null,""]
[null,null,null,{"$f":"IFERROR(VLOOKUP(C31,Hidden_Словник!$A$2:$C$100,3,FALSE),\"\")","v":""},null,null,null,null,null,null,null,null,null,null,null,null,null,null,null,null,null,null,""]
[null,null,null,{"$f":"IFERROR(VLOOKUP(C32,Hidden_Словник!$A$2:$C$100,3,FALSE),\"\")","v":""},null,null,null,null,null,null,null,null,null,null,null,null,null,null,null,null,null,null,""]
[null,null,null,{"$f":"IFERROR(VLOOKUP(C33,Hidden_Словник!$A$2:$C$100,3,FALSE),\"\")","v":""},null,null,null,null,null,null,null,null,null,null,null,null,null,null,null,null,null,null,""]
[null,null,null,{"$f":"IFERROR(VLOOKUP(C34,Hidden_Словник!$A$2:$C$100,3,FALSE),\"\")","v":""},null,null,null,null,null,null,null,null,null,null,null,null,null,null,null,null,null,null,""]
[null,null,null,{"$f":"IFERROR(VLOOKUP(C35,Hidden_Словник!$A$2:$C$100,3,FALSE),\"\")","v":""},null,null,null,null,null,null,null,null,null,null,null,null,null,null,null,null,null,null,""]
[null,null,null,{"$f":"IFERROR(VLOOKUP(C36,Hidden_Словник!$A$2:$C$100,3,FALSE),\"\")","v":""},null,null,null,null,null,null,null,null,null,null,null,null,null,null,null,null,null,null,""]
[null,null,null,{"$f":"IFERROR(VLOOKUP(C37,Hidden_Словник!$A$2:$C$100,3,FALSE),\"\")","v":""},null,null,null,null,null,null,null,null,null,null,null,null,null,null,null,null,null,null,""]
[null,null,null,{"$f":"IFERROR(VLOOKUP(C38,Hidden_Словник!$A$2:$C$100,3,FALSE),\"\")","v":""},null,null,null,null,null,null,null,null,null,null,null,null,null,null,null,null,null,null,""]
[null,null,null,{"$f":"IFERROR(VLOOKUP(C39,Hidden_Словник!$A$2:$C$100,3,FALSE),\"\")","v":""},null,null,null,null,null,null,null,null,null,null,null,null,null,null,null,null,null,null,""]
[null,null,null,{"$f":"IFERROR(VLOOKUP(C40,Hidden_Словник!$A$2:$C$100,3,FALSE),\"\")","v":""},null,null,null,null,null,null,null,null,null,null,null,null,null,null,null,null,null,null,{"$f":"IF(X40+Y40>0,X40+Y40,\"\")","v":""}]
[null,null,null,{"$f":"IFERROR(VLOOKUP(C41,Hidden_Словник!$A$2:$C$100,3,FALSE),\"\")","v":""},null,null,null,null,null,null,null,null,null,null,null,null,null,null,null,null,null,null,""]
[null,null,null,{"$f":"IFERROR(VLOOKUP(C42,Hidden_Словник!$A$2:$C$100,3,FALSE),\"\")","v":""},null,null,null,null,null,null,null,null,null,null,null,null,null,null,null,null,null,null,""]
[null,null,null,{"$f":"IFERROR(VLOOKUP(C43,Hidden_Словник!$A$2:$C$100,3,FALSE),\"\")","v":""},null,null,null,null,null,null,null,null,null,null,null,null,null,null,null,null,null,null,""]
[null,null,null,{"$f":"IFERROR(VLOOKUP(C44,Hidden_Словник!$A$2:$C$100,3,FALSE),\"\")","v":""},null,null,null,null,null,null,null,null,null,null,null,null,null,null,null,null,null,null,""]
[null,null,null,{"$f":"IFERROR(VLOOKUP(C45,Hidden_Словник!$A$2:$C$100,3,FALSE),\"\")","v":""},null,null,null,null,null,null,null,null,null,null,null,null,null,null,null,null,null,null,""]
[null,null,null,{"$f":"IFERROR(VLOOKUP(C46,Hidden_Словник!$A$2:$C$100,3,FALSE),\"\")","v":""},null,null,null,null,null,null,null,null,null,null,null,null,null,null,null,null,null,null,""]
[null,null,null,{"$f":"IFERROR(VLOOKUP(C47,Hidden_Словник!$A$2:$C$100,3,FALSE),\"\")","v":""},null,null,null,null,null,null,null,null,null,null,null,null,null,null,null,null,null,null,""]
[null,null,null,{"$f":"IFERROR(VLOOKUP(C48,Hidden_Словник!$A$2:$C$100,3,FALSE),\"\")","v":""},null,null,null,null,null,null,null,null,null,null,null,null,null,null,null,null,null,null,""]
[null,null,null,{"$f":"IFERROR(VLOOKUP(C49,Hidden_Словник!$A$2:$C$100,3,FALSE),\"\")","v":""},null,null,null,null,null,null,null,null,null,null,null,null,null,null,null,null,null,null,""]
[null,null,null,{"$f":"IFERROR(VLOOKUP(C50,Hidden_Словник!$A$2:$C$100,3,FALSE),\"\")","v":""},null,null,null,null,null,null,null,null,null,null,null,null,null,null,null,null,null,null,""]
[null,null,null,{"$f":"IFERROR(VLOOKUP(C51,Hidden_Словник!$A$2:$C$100,3,FALSE),\"\")","v":""},null,null,null,null,null,null,null,null,null,null,null,null,null,null,null,null,null,null,""]
[null,null,null,{"$f":"IFERROR(VLOOKUP(C52,Hidden_Словник!$A$2:$C$100,3,FALSE),\"\")","v":""},null,null,null,null,null,null,null,null,null,null,null,null,null,null,null,null,null,null,""]
[null,null,null,{"$f":"IFERROR(VLOOKUP(C53,Hidden_Словник!$A$2:$C$100,3,FALSE),\"\")","v":""},null,null,null,null,null,null,null,null,null,null,null,null,null,null,null,null,null,null,""]
[null,null,null,{"$f":"IFERROR(VLOOKUP(C54,Hidden_Словник!$A$2:$C$100,3,FALSE),\"\")","v":""},null,null,null,null,null,null,null,null,null,null,null,null,null,null,null,null,null,null,""]
[null,null,null,{"$f":"IFERROR(VLOOKUP(C55,Hidden_Словник!$A$2:$C$100,3,FALSE),\"\")","v":""},null,null,null,null,null,null,null,null,null,null,null,null,null,null,null,null,null,null,""]
[null,null,null,{"$f":"IFERROR(VLOOKUP(C56,Hidden_Словник!$A$2:$C$100,3,FALSE),\"\")","v":""},null,null,null,null,null,null,null,null,null,null,null,null,null,null,null,null,null,null,""]
[null,null,null,{"$f":"IFERROR(VLOOKUP(C57,Hidden_Словник!$A$2:$C$100,3,FALSE),\"\")","v":""},null,null,null,null,null,null,null,null,null,null,null,null,null,null,null,null,null,null,""]
[null,null,null,{"$f":"IFERROR(VLOOKUP(C58,Hidden_Словник!$A$2:$C$100,3,FALSE),\"\")","v":""},null,null,null,null,null,null,null,null,null,null,null,null,null,null,null,null,null,null,""]
[null,null,null,{"$f":"IFERROR(VLOOKUP(C59,Hidden_Словник!$A$2:$C$100,3,FALSE),\"\")","v":""},null,null,null,null,null,null,null,null,null,null,null,null,null,null,null,null,null,null,""]
[null,null,null,{"$f":"IFERROR(VLOOKUP(C60,Hidden_Словник!$A$2:$C$100,3,FALSE),\"\")","v":""},null,null,null,null,null,null,null,null,null,null,null,null,null,null,null,null,null,null,""]
[null,null,null,{"$f":"IFERROR(VLOOKUP(C61,Hidden_Словник!$A$2:$C$100,3,FALSE),\"\")","v":""},null,null,null,null,null,null,null,null,null,null,null,null,null,null,null,null,null,null,""]
[null,null,null,{"$f":"IFERROR(VLOOKUP(C62,Hidden_Словник!$A$2:$C$100,3,FALSE),\"\")","v":""},null,null,null,null,null,null,null,null,null,null,null,null,null,null,null,null,null,null,""]
[null,null,null,{"$f":"IFERROR(VLOOKUP(C63,Hidden_Словник!$A$2:$C$100,3,FALSE),\"\")","v":""},null,null,null,null,null,null,null,null,null,null,null,null,null,null,null,null,null,null,""]
[null,null,null,{"$f":"IFERROR(VLOOKUP(C64,Hidden_Словник!$A$2:$C$100,3,FALSE),\"\")","v":""},null,null,null,null,null,null,null,null,null,null,null,null,null,null,null,null,null,null,""]
[null,null,null,{"$f":"IFERROR(VLOOKUP(C65,Hidden_Словник!$A$2:$C$100,3,FALSE),\"\")","v":""},null,null,null,null,null,null,null,null,null,null,null,null,null,null,null,null,null,null,""]
[null,null,null,{"$f":"IFERROR(VLOOKUP(C66,Hidden_Словник!$A$2:$C$100,3,FALSE),\"\")","v":""},null,null,null,null,null,null,null,null,null,null,null,null,null,null,null,null,null,null,""]
[null,null,null,{"$f":"IFERROR(VLOOKUP(C67,Hidden_Словник!$A$2:$C$100,3,FALSE),\"\")","v":""},null,null,null,null,null,null,null,null,null,null,null,null,null,null,null,null,null,null,""]
[null,null,null,{"$f":"IFERROR(VLOOKUP(C68,Hidden_Словник!$A$2:$C$100,3,FALSE),\"\")","v":""},null,null,null,null,null,null,null,null,null,null,null,null,null,null,null,null,null,null,""]
[null,null,null,{"$f":"IFERROR(VLOOKUP(C69,Hidden_Словник!$A$2:$C$100,3,FALSE),\"\")","v":""},null,null,null,null,null,null,null,null,null,null,null,null,null,null,null,null,null,null,""]
[null,null,null,{"$f":"IFERROR(VLOOKUP(C70,Hidden_Словник!$A$2:$C$100,3,FALSE),\"\")","v":""},null,null,null,null,null,null,null,null,null,null,null,null,null,null,null,null,null,null,""]
[null,null,null,{"$f":"IFERROR(VLOOKUP(C71,Hidden_Словник!$A$2:$C$100,3,FALSE),\"\")","v":""},null,null,null,null,null,null,null,null,null,null,null,null,null,null,null,null,null,null,""]
[null,null,null,{"$f":"IFERROR(VLOOKUP(C72,Hidden_Словник!$A$2:$C$100,3,FALSE),\"\")","v":""},null,null,null,null,null,null,null,null,null,null,null,null,null,null,null,null,null,null,""]
[null,null,null,{"$f":"IFERROR(VLOOKUP(C73,Hidden_Словник!$A$2:$C$100,3,FALSE),\"\")","v":""},null,null,null,null,null,null,null,null,null,null,null,null,null,null,null,null,null,null,""]
[null,null,null,{"$f":"IFERROR(VLOOKUP(C74,Hidden_Словник!$A$2:$C$100,3,FALSE),\"\")","v":""},null,null,null,null,null,null,null,null,null,null,null,null,null,null,null,null,null,null,""]
[null,null,null,{"$f":"IFERROR(VLOOKUP(C75,Hidden_Словник!$A$2:$C$100,3,FALSE),\"\")","v":""},null,null,null,null,null,null,null,null,null,null,null,null,null,null,null,null,null,null,""]
[null,null,null,{"$f":"IFERROR(VLOOKUP(C76,Hidden_Словник!$A$2:$C$100,3,FALSE),\"\")","v":""},null,null,null,null,null,null,null,null,null,null,null,null,null,null,null,null,null,null,""]
[null,null,null,{"$f":"IFERROR(VLOOKUP(C77,Hidden_Словник!$A$2:$C$100,3,FALSE),\"\")","v":""},null,null,null,null,null,null,null,null,null,null,null,null,null,null,null,null,null,null,""]
[null,null,null,{"$f":"IFERROR(VLOOKUP(C78,Hidden_Словник!$A$2:$C$100,3,FALSE),\"\")","v":""},null,null,null,null,null,null,null,null,null,null,null,null,null,null,null,null,null,null,""]
[null,null,null,{"$f":"IFERROR(VLOOKUP(C79,Hidden_Словник!$A$2:$C$100,3,FALSE),\"\")","v":""},null,null,null,null,null,null,null,null,null,null,null,null,null,null,null,null,null,null,""]
[null,null,null,{"$f":"IFERROR(VLOOKUP(C80,Hidden_Словник!$A$2:$C$100,3,FALSE),\"\")","v":""},null,null,null,null,null,null,null,null,null,null,null,null,null,null,null,null,null,null,""]
[null,null,null,{"$f":"IFERROR(VLOOKUP(C81,Hidden_Словник!$A$2:$C$100,3,FALSE),\"\")","v":""},null,null,null,null,null,null,null,null,null,null,null,null,null,null,null,null,null,null,""]
[null,null,null,{"$f":"IFERROR(VLOOKUP(C82,Hidden_Словник!$A$2:$C$100,3,FALSE),\"\")","v":""},null,null,null,null,null,null,null,null,null,null,null,null,null,null,null,null,null,null,""]
[null,null,null,{"$f":"IFERROR(VLOOKUP(C83,Hidden_Словник!$A$2:$C$100,3,FALSE),\"\")","v":""},null,null,null,null,null,null,null,null,null,null,null,null,null,null,null,null,null,null,""]
[null,null,null,{"$f":"IFERROR(VLOOKUP(C84,Hidden_Словник!$A$2:$C$100,3,FALSE),\"\")","v":""},null,null,null,null,null,null,null,null,null,null,null,null,null,null,null,null,null,null,""]
[null,null,null,{"$f":"IFERROR(VLOOKUP(C85,Hidden_Словник!$A$2:$C$100,3,FALSE),\"\")","v":""},null,null,null,null,null,null,null,null,null,null,null,null,null,null,null,null,null,null,""]
[null,null,null,{"$f":"IFERROR(VLOOKUP(C86,Hidden_Словник!$A$2:$C$100,3,FALSE),\"\")","v":""},null,null,null,null,null,null,null,null,null,null,null,null,null,null,null,null,null,null,""]
[null,null,null,{"$f":"IFERROR(VLOOKUP(C87,Hidden_Словник!$A$2:$C$100,3,FALSE),\"\")","v":""},null,null,null,null,null,null,null,null,null,null,null,null,null,null,null,null,null,null,""]
[null,null,null,{"$f":"IFERROR(VLOOKUP(C88,Hidden_Словник!$A$2:$C$100,3,FALSE),\"\")","v":""},null,null,null,null,null,null,null,null,null,null,null,null,null,null,null,null,null,null,""]
[null,null,null,{"$f":"IFERROR(VLOOKUP(C89,Hidden_Словник!$A$2:$C$100,3,FALSE),\"\")","v":""},null,null,null,null,null,null,null,null,null,null,null,null,null,null,null,null,null,null,""]
[null,null,null,{"$f":"IFERROR(VLOOKUP(C90,Hidden_Словник!$A$2:$C$100,3,FALSE),\"\")","v":""},null,null,null,null,null,null,null,null,null,null,null,null,null,null,null,null,null,null,""]
[null,null,null,{"$f":"IFERROR(VLOOKUP(C91,Hidden_Словник!$A$2:$C$100,3,FALSE),\"\")","v":""},null,null,null,null,null,null,null,null,null,null,null,null,null,null,null,null,null,null,""]
[null,null,null,{"$f":"IFERROR(VLOOKUP(C92,Hidden_Словник!$A$2:$C$100,3,FALSE),\"\")","v":""},null,null,null,null,null,null,null,null,null,null,null,null,null,null,null,null,null,null,""]
[null,null,null,{"$f":"IFERROR(VLOOKUP(C93,Hidden_Словник!$A$2:$C$100,3,FALSE),\"\")","v":""},null,null,null,null,null,null,null,null,null,null,null,null,null,null,null,null,null,null,""]
[null,null,null,{"$f":"IFERROR(VLOOKUP(C94,Hidden_Словник!$A$2:$C$100,3,FALSE),\"\")","v":""},null,null,null,null,null,null,null,null,null,null,null,null,null,null,null,null,null,null,""]
[null,null,null,{"$f":"IFERROR(VLOOKUP(C95,Hidden_Словник!$A$2:$C$100,3,FALSE),\"\")","v":""},null,null,null,null,null,null,null,null,null,null,null,null,null,null,null,null,null,null,""]
[null,null,null,{"$f":"IFERROR(VLOOKUP(C96,Hidden_Словник!$A$2:$C$100,3,FALSE),\"\")","v":""},null,null,null,null,null,null,null,null,null,null,null,null,null,null,null,null,null,null,""]
[null,null,null,{"$f":"IFERROR(VLOOKUP(C97,Hidden_Словник!$A$2:$C$100,3,FALSE),\"\")","v":""},null,null,null,null,null,null,null,null,null,null,null,null,null,null,null,null,null,null,""]
[null,null,null,{"$f":"IFERROR(VLOOKUP(C98,Hidden_Словник!$A$2:$C$100,3,FALSE),\"\")","v":""},null,null,null,null,null,null,null,null,null,null,null,null,null,null,null,null,null,null,""]
[null,null,null,{"$f":"IFERROR(VLOOKUP(C99,Hidden_Словник!$A$2:$C$100,3,FALSE),\"\")","v":""},null,null,null,null,null,null,null,null,null,null,null,null,null,null,null,null,null,null,""]
[null,null,null,{"$f":"IFERROR(VLOOKUP(C100,Hidden_Словник!$A$2:$C$100,3,FALSE),\"\")","v":""},null,null,null,null,null,null,null,null,null,null,null,null,null,null,null,null,null,null,""]
[null,null,null,{"$f":"IFERROR(VLOOKUP(C101,Hidden_Словник!$A$2:$C$100,3,FALSE),\"\")","v":""},null,null,null,null,null,null,null,null,null,null,null,null,null,null,null,null,null,null,""]
[null,null,null,{"$f":"IFERROR(VLOOKUP(C102,Hidden_Словник!$A$2:$C$100,3,FALSE),\"\")","v":""},null,null,null,null,null,null,null,null,null,null,null,null,null,null,null,null,null,null,""]
[null,null,null,{"$f":"IFERROR(VLOOKUP(C103,Hidden_Словник!$A$2:$C$100,3,FALSE),\"\")","v":""},null,null,null,null,null,null,null,null,null,null,null,null,null,null,null,null,null,null,""]
[null,null,null,{"$f":"IFERROR(VLOOKUP(C104,Hidden_Словник!$A$2:$C$100,3,FALSE),\"\")","v":""},null,null,null,null,null,null,null,null,null,null,null,null,null,null,null,null,null,null,{"$f":"IF(X104+Y104>0,X104+Y104,\"\")","v":""}]
[null,null,null,{"$f":"IFERROR(VLOOKUP(C105,Hidden_Словник!$A$2:$C$100,3,FALSE),\"\")","v":""},null,null,null,null,null,null,null,null,null,null,null,null,null,null,null,null,null,null,""]
[null,null,null,{"$f":"IFERROR(VLOOKUP(C106,Hidden_Словник!$A$2:$C$100,3,FALSE),\"\")","v":""},null,null,null,null,null,null,null,null,null,null,null,null,null,null,null,null,null,null,""]
[null,null,null,{"$f":"IFERROR(VLOOKUP(C107,Hidden_Словник!$A$2:$C$100,3,FALSE),\"\")","v":""},null,null,null,null,null,null,null,null,null,null,null,null,null,null,null,null,null,null,""]
[null,null,null,{"$f":"IFERROR(VLOOKUP(C108,Hidden_Словник!$A$2:$C$100,3,FALSE),\"\")","v":""},null,null,null,null,null,null,null,null,null,null,null,null,null,null,null,null,null,null,""]
[null,null,null,{"$f":"IFERROR(VLOOKUP(C109,Hidden_Словник!$A$2:$C$100,3,FALSE),\"\")","v":""},null,null,null,null,null,null,null,null,null,null,null,null,null,null,null,null,null,null,""]
[null,null,null,{"$f":"IFERROR(VLOOKUP(C110,Hidden_Словник!$A$2:$C$100,3,FALSE),\"\")","v":""},null,null,null,null,null,null,null,null,null,null,null,null,null,null,null,null,null,null,""]
[null,null,null,{"$f":"IFERROR(VLOOKUP(C111,Hidden_Словник!$A$2:$C$100,3,FALSE),\"\")","v":""},null,null,null,null,null,null,null,null,null,null,null,null,null,null,null,null,null,null,""]
[null,null,null,{"$f":"IFERROR(VLOOKUP(C112,Hidden_Словник!$A$2:$C$100,3,FALSE),\"\")","v":""},null,null,null,null,null,null,null,null,null,null,null,null,null,null,null,null,null,null,""]
[null,null,null,{"$f":"IFERROR(VLOOKUP(C113,Hidden_Словник!$A$2:$C$100,3,FALSE),\"\")","v":""},null,null,null,null,null,null,null,null,null,null,null,null,null,null,null,null,null,null,""]
[null,null,null,{"$f":"IFERROR(VLOOKUP(C114,Hidden_Словник!$A$2:$C$100,3,FALSE),\"\")","v":""},null,null,null,null,null,null,null,null,null,null,null,null,null,null,null,null,null,null,""]
[null,null,null,{"$f":"IFERROR(VLOOKUP(C115,Hidden_Словник!$A$2:$C$100,3,FALSE),\"\")","v":""},null,null,null,null,null,null,null,null,null,null,null,null,null,null,null,null,null,null,""]
[null,null,null,{"$f":"IFERROR(VLOOKUP(C116,Hidden_Словник!$A$2:$C$100,3,FALSE),\"\")","v":""},null,null,null,null,null,null,null,null,null,null,null,null,null,null,null,null,null,null,""]
[null,null,null,{"$f":"IFERROR(VLOOKUP(C117,Hidden_Словник!$A$2:$C$100,3,FALSE),\"\")","v":""},null,null,null,null,null,null,null,null,null,null,null,null,null,null,null,null,null,null,""]
[null,null,null,{"$f":"IFERROR(VLOOKUP(C118,Hidden_Словник!$A$2:$C$100,3,FALSE),\"\")","v":""},null,null,null,null,null,null,null,null,null,null,null,null,null,null,null,null,null,null,""]
[null,null,null,{"$f":"IFERROR(VLOOKUP(C119,Hidden_Словник!$A$2:$C$100,3,FALSE),\"\")","v":""},null,null,null,null,null,null,null,null,null,null,null,null,null,null,null,null,null,null,""]
[null,null,null,{"$f":"IFERROR(VLOOKUP(C120,Hidden_Словник!$A$2:$C$100,3,FALSE),\"\")","v":""},null,null,null,null,null,null,null,null,null,null,null,null,null,null,null,null,null,null,""]
[null,null,null,{"$f":"IFERROR(VLOOKUP(C121,Hidden_Словник!$A$2:$C$100,3,FALSE),\"\")","v":""},null,null,null,null,null,null,null,null,null,null,null,null,null,null,null,null,null,null,""]
[null,null,null,{"$f":"IFERROR(VLOOKUP(C122,Hidden_Словник!$A$2:$C$100,3,FALSE),\"\")","v":""},null,null,null,null,null,null,null,null,null,null,null,null,null,null,null,null,null,null,""]
[null,null,null,{"$f":"IFERROR(VLOOKUP(C123,Hidden_Словник!$A$2:$C$100,3,FALSE),\"\")","v":""},null,null,null,null,null,null,null,null,null,null,null,null,null,null,null,null,null,null,""]
[null,null,null,{"$f":"IFERROR(VLOOKUP(C124,Hidden_Словник!$A$2:$C$100,3,FALSE),\"\")","v":""},null,null,null,null,null,null,null,null,null,null,null,null,null,null,null,null,null,null,""]
[null,null,null,{"$f":"IFERROR(VLOOKUP(C125,Hidden_Словник!$A$2:$C$100,3,FALSE),\"\")","v":""},null,null,null,null,null,null,null,null,null,null,null,null,null,null,null,null,null,null,""]
[null,null,null,{"$f":"IFERROR(VLOOKUP(C126,Hidden_Словник!$A$2:$C$100,3,FALSE),\"\")","v":""},null,null,null,null,null,null,null,null,null,null,null,null,null,null,null,null,null,null,""]
[null,null,null,{"$f":"IFERROR(VLOOKUP(C127,Hidden_Словник!$A$2:$C$100,3,FALSE),\"\")","v":""},null,null,null,null,null,null,null,null,null,null,null,null,null,null,null,null,null,null,""]
[null,null,null,{"$f":"IFERROR(VLOOKUP(C128,Hidden_Словник!$A$2:$C$100,3,FALSE),\"\")","v":""},null,null,null,null,null,null,null,null,null,null,null,null,null,null,null,null,null,null,""]
[null,null,null,{"$f":"IFERROR(VLOOKUP(C129,Hidden_Словник!$A$2:$C$100,3,FALSE),\"\")","v":""},null,null,null,null,null,null,null,null,null,null,null,null,null,null,null,null,null,null,""]
[null,null,null,{"$f":"IFERROR(VLOOKUP(C130,Hidden_Словник!$A$2:$C$100,3,FALSE),\"\")","v":""},null,null,null,null,null,null,null,null,null,null,null,null,null,null,null,null,null,null,""]
[null,null,null,{"$f":"IFERROR(VLOOKUP(C131,Hidden_Словник!$A$2:$C$100,3,FALSE),\"\")","v":""},null,null,null,null,null,null,null,null,null,null,null,null,null,null,null,null,null,null,""]
[null,null,null,{"$f":"IFERROR(VLOOKUP(C132,Hidden_Словник!$A$2:$C$100,3,FALSE),\"\")","v":""},null,null,null,null,null,null,null,null,null,null,null,null,null,null,null,null,null,null,""]
[null,null,null,{"$f":"IFERROR(VLOOKUP(C133,Hidden_Словник!$A$2:$C$100,3,FALSE),\"\")","v":""},null,null,null,null,null,null,null,null,null,null,null,null,null,null,null,null,null,null,""]
[null,null,null,{"$f":"IFERROR(VLOOKUP(C134,Hidden_Словник!$A$2:$C$100,3,FALSE),\"\")","v":""},null,null,null,null,null,null,null,null,null,null,null,null,null,null,null,null,null,null,""]
[null,null,null,{"$f":"IFERROR(VLOOKUP(C135,Hidden_Словник!$A$2:$C$100,3,FALSE),\"\")","v":""},null,null,null,null,null,null,null,null,null,null,null,null,null,null,null,null,null,null,""]
[null,null,null,{"$f":"IFERROR(VLOOKUP(C136,Hidden_Словник!$A$2:$C$100,3,FALSE),\"\")","v":""},null,null,null,null,null,null,null,null,null,null,null,null,null,null,null,null,null,null,""]
[null,null,null,{"$f":"IFERROR(VLOOKUP(C137,Hidden_Словник!$A$2:$C$100,3,FALSE),\"\")","v":""},null,null,null,null,null,null,null,null,null,null,null,null,null,null,null,null,null,null,""]
[null,null,null,{"$f":"IFERROR(VLOOKUP(C138,Hidden_Словник!$A$2:$C$100,3,FALSE),\"\")","v":""},null,null,null,null,null,null,null,null,null,null,null,null,null,null,null,null,null,null,""]
[null,null,null,{"$f":"IFERROR(VLOOKUP(C139,Hidden_Словник!$A$2:$C$100,3,FALSE),\"\")","v":""},null,null,null,null,null,null,null,null,null,null,null,null,null,null,null,null,null,null,""]
[null,null,null,{"$f":"IFERROR(VLOOKUP(C140,Hidden_Словник!$A$2:$C$100,3,FALSE),\"\")","v":""},null,null,null,null,null,null,null,null,null,null,null,null,null,null,null,null,null,null,""]
[null,null,null,{"$f":"IFERROR(VLOOKUP(C141,Hidden_Словник!$A$2:$C$100,3,FALSE),\"\")","v":""},null,null,null,null,null,null,null,null,null,null,null,null,null,null,null,null,null,null,""]
[null,null,null,{"$f":"IFERROR(VLOOKUP(C142,Hidden_Словник!$A$2:$C$100,3,FALSE),\"\")","v":""},null,null,null,null,null,null,null,null,null,null,null,null,null,null,null,null,null,null,""]
[null,null,null,{"$f":"IFERROR(VLOOKUP(C143,Hidden_Словник!$A$2:$C$100,3,FALSE),\"\")","v":""},null,null,null,null,null,null,null,null,null,null,null,null,null,null,null,null,null,null,""]
[null,null,null,{"$f":"IFERROR(VLOOKUP(C144,Hidden_Словник!$A$2:$C$100,3,FALSE),\"\")","v":""},null,null,null,null,null,null,null,null,null,null,null,null,null,null,null,null,null,null,""]
[null,null,null,{"$f":"IFERROR(VLOOKUP(C145,Hidden_Словник!$A$2:$C$100,3,FALSE),\"\")","v":""},null,null,null,null,null,null,null,null,null,null,null,null,null,null,null,null,null,null,""]
[null,null,null,{"$f":"IFERROR(VLOOKUP(C146,Hidden_Словник!$A$2:$C$100,3,FALSE),\"\")","v":""},null,null,null,null,null,null,null,null,null,null,null,null,null,null,null,null,null,null,""]
[null,null,null,{"$f":"IFERROR(VLOOKUP(C147,Hidden_Словник!$A$2:$C$100,3,FALSE),\"\")","v":""},null,null,null,null,null,null,null,null,null,null,null,null,null,null,null,null,null,null,""]
[null,null,null,{"$f":"IFERROR(VLOOKUP(C148,Hidden_Словник!$A$2:$C$100,3,FALSE),\"\")","v":""},null,null,null,null,null,null,null,null,null,null,null,null,null,null,null,null,null,null,""]
[null,null,null,{"$f":"IFERROR(VLOOKUP(C149,Hidden_Словник!$A$2:$C$100,3,FALSE),\"\")","v":""},null,null,null,null,null,null,null,null,null,null,null,null,null,null,null,null,null,null,""]
[null,null,null,{"$f":"IFERROR(VLOOKUP(C150,Hidden_Словник!$A$2:$C$100,3,FALSE),\"\")","v":""},null,null,null,null,null,null,null,null,null,null,null,null,null,null,null,null,null,null,""]
[null,null,null,{"$f":"IFERROR(VLOOKUP(C151,Hidden_Словник!$A$2:$C$100,3,FALSE),\"\")","v":""},null,null,null,null,null,null,null,null,null,null,null,null,null,null,null,null,null,null,""]
[null,null,null,{"$f":"IFERROR(VLOOKUP(C152,Hidden_Словник!$A$2:$C$100,3,FALSE),\"\")","v":""},null,null,null,null,null,null,null,null,null,null,null,null,null,null,null,null,null,null,""]
[null,null,null,{"$f":"IFERROR(VLOOKUP(C153,Hidden_Словник!$A$2:$C$100,3,FALSE),\"\")","v":""},null,null,null,null,null,null,null,null,null,null,null,null,null,null,null,null,null,null,""]
[null,null,null,{"$f":"IFERROR(VLOOKUP(C154,Hidden_Словник!$A$2:$C$100,3,FALSE),\"\")","v":""},null,null,null,null,null,null,null,null,null,null,null,null,null,null,null,null,null,null,""]
[null,null,null,{"$f":"IFERROR(VLOOKUP(C155,Hidden_Словник!$A$2:$C$100,3,FALSE),\"\")","v":""},null,null,null,null,null,null,null,null,null,null,null,null,null,null,null,null,null,null,""]
[null,null,null,{"$f":"IFERROR(VLOOKUP(C156,Hidden_Словник!$A$2:$C$100,3,FALSE),\"\")","v":""},null,null,null,null,null,null,null,null,null,null,null,null,null,null,null,null,null,null,""]
[null,null,null,{"$f":"IFERROR(VLOOKUP(C157,Hidden_Словник!$A$2:$C$100,3,FALSE),\"\")","v":""},null,null,null,null,null,null,null,null,null,null,null,null,null,null,null,null,null,null,""]
[null,null,null,{"$f":"IFERROR(VLOOKUP(C158,Hidden_Словник!$A$2:$C$100,3,FALSE),\"\")","v":""},null,null,null,null,null,null,null,null,null,null,null,null,null,null,null,null,null,null,""]
[null,null,null,{"$f":"IFERROR(VLOOKUP(C159,Hidden_Словник!$A$2:$C$100,3,FALSE),\"\")","v":""},null,null,null,null,null,null,null,null,null,null,null,null,null,null,null,null,null,null,""]
[null,null,null,{"$f":"IFERROR(VLOOKUP(C160,Hidden_Словник!$A$2:$C$100,3,FALSE),\"\")","v":""},null,null,null,null,null,null,null,null,null,null,null,null,null,null,null,null,null,null,""]
[null,null,null,{"$f":"IFERROR(VLOOKUP(C161,Hidden_Словник!$A$2:$C$100,3,FALSE),\"\")","v":""},null,null,null,null,null,null,null,null,null,null,null,null,null,null,null,null,null,null,""]
[null,null,null,{"$f":"IFERROR(VLOOKUP(C162,Hidden_Словник!$A$2:$C$100,3,FALSE),\"\")","v":""},null,null,null,null,null,null,null,null,null,null,null,null,null,null,null,null,null,null,""]
[null,null,null,{"$f":"IFERROR(VLOOKUP(C163,Hidden_Словник!$A$2:$C$100,3,FALSE),\"\")","v":""},null,null,null,null,null,null,null,null,null,null,null,null,null,null,null,null,null,null,""]
[null,null,null,{"$f":"IFERROR(VLOOKUP(C164,Hidden_Словник!$A$2:$C$100,3,FALSE),\"\")","v":""},null,null,null,null,null,null,null,null,null,null,null,null,null,null,null,null,null,null,""]
[null,null,null,{"$f":"IFERROR(VLOOKUP(C165,Hidden_Словник!$A$2:$C$100,3,FALSE),\"\")","v":""},null,null,null,null,null,null,null,null,null,null,null,null,null,null,null,null,null,null,""]
[{"$f":"IF(#REF!>\"\",D166&\"_\"&#REF!&\"_\"&B166,\"\")","v":{"$error":"#REF!"}},{"$f":"IF(#REF!=\"\",\"\",COUNTIF(#REF!,\">\"\"\"))","v":{"$error":"#REF!"}},null,{"$f":"IFERROR(VLOOKUP(C166,Hidden_Словник!$A$2:$C$100,3,FALSE),\"\")","v":""},null,null,null,null,null,null,null,null,null,null,null,null,null,null,null,null,null,null,""]
[{"$f":"IF(#REF!>\"\",D167&\"_\"&#REF!&\"_\"&B167,\"\")","v":{"$error":"#REF!"}},{"$f":"IF(#REF!=\"\",\"\",COUNTIF(#REF!,\">\"\"\"))","v":{"$error":"#REF!"}},null,{"$f":"IFERROR(VLOOKUP(C167,Hidden_Словник!$A$2:$C$100,3,FALSE),\"\")","v":""},null,null,null,null,null,null,null,null,null,null,null,null,null,null,null,null,null,null,""]
[{"$f":"IF(#REF!>\"\",D168&\"_\"&#REF!&\"_\"&B168,\"\")","v":{"$error":"#REF!"}},{"$f":"IF(#REF!=\"\",\"\",COUNTIF(#REF!,\">\"\"\"))","v":{"$error":"#REF!"}},null,{"$f":"IFERROR(VLOOKUP(C168,Hidden_Словник!$A$2:$C$100,3,FALSE),\"\")","v":""},null,null,null,null,null,null,null,null,null,null,null,null,null,null,null,null,null,null,{"$f":"IF(X168+Y168>0,X168+Y168,\"\")","v":""}]
[{"$f":"IF(#REF!>\"\",D169&\"_\"&#REF!&\"_\"&B169,\"\")","v":{"$error":"#REF!"}},{"$f":"IF(#REF!=\"\",\"\",COUNTIF(#REF!,\">\"\"\"))","v":{"$error":"#REF!"}},null,{"$f":"IFERROR(VLOOKUP(C169,Hidden_Словник!$A$2:$C$100,3,FALSE),\"\")","v":""},null,null,null,null,null,null,null,null,null,null,null,null,null,null,null,null,null,null,""]
[{"$f":"IF(#REF!>\"\",D170&\"_\"&#REF!&\"_\"&B170,\"\")","v":{"$error":"#REF!"}},{"$f":"IF(#REF!=\"\",\"\",COUNTIF(#REF!,\">\"\"\"))","v":{"$error":"#REF!"}},null,{"$f":"IFERROR(VLOOKUP(C170,Hidden_Словник!$A$2:$C$100,3,FALSE),\"\")","v":""},null,null,null,null,null,null,null,null,null,null,null,null,null,null,null,null,null,null,""]
[{"$f":"IF(#REF!>\"\",D171&\"_\"&#REF!&\"_\"&B171,\"\")","v":{"$error":"#REF!"}},{"$f":"IF(#REF!=\"\",\"\",COUNTIF(#REF!,\">\"\"\"))","v":{"$error":"#REF!"}},null,{"$f":"IFERROR(VLOOKUP(C171,Hidden_Словник!$A$2:$C$100,3,FALSE),\"\")","v":""},null,null,null,null,null,null,null,null,null,null,null,null,null,null,null,null,null,null,""]
[{"$f":"IF(#REF!>\"\",D172&\"_\"&#REF!&\"_\"&B172,\"\")","v":{"$error":"#REF!"}},{"$f":"IF(#REF!=\"\",\"\",COUNTIF(#REF!,\">\"\"\"))","v":{"$error":"#REF!"}},null,{"$f":"IFERROR(VLOOKUP(C172,Hidden_Словник!$A$2:$C$100,3,FALSE),\"\")","v":""},null,null,null,null,null,null,null,null,null,null,null,null,null,null,null,null,null,null,""]
[{"$f":"IF(#REF!>\"\",D173&\"_\"&#REF!&\"_\"&B173,\"\")","v":{"$error":"#REF!"}},{"$f":"IF(#REF!=\"\",\"\",COUNTIF(#REF!,\">\"\"\"))","v":{"$error":"#REF!"}},null,{"$f":"IFERROR(VLOOKUP(C173,Hidden_Словник!$A$2:$C$100,3,FALSE),\"\")","v":""},null,null,null,null,null,null,null,null,null,null,null,null,null,null,null,null,null,null,""]
[{"$f":"IF(#REF!>\"\",D174&\"_\"&#REF!&\"_\"&B174,\"\")","v":{"$error":"#REF!"}},{"$f":"IF(#REF!=\"\",\"\",COUNTIF(#REF!,\">\"\"\"))","v":{"$error":"#REF!"}},null,{"$f":"IFERROR(VLOOKUP(C174,Hidden_Словник!$A$2:$C$100,3,FALSE),\"\")","v":""},null,null,null,null,null,null,null,null,null,null,null,null,null,null,null,null,null,null,""]
[{"$f":"IF(#REF!>\"\",D175&\"_\"&#REF!&\"_\"&B175,\"\")","v":{"$error":"#REF!"}},{"$f":"IF(#REF!=\"\",\"\",COUNTIF(#REF!,\">\"\"\"))","v":{"$error":"#REF!"}},null,{"$f":"IFERROR(VLOOKUP(C175,Hidden_Словник!$A$2:$C$100,3,FALSE),\"\")","v":""},null,null,null,null,null,null,null,null,null,null,null,null,null,null,null,null,null,null,""]
[{"$f":"IF(#REF!>\"\",D176&\"_\"&#REF!&\"_\"&B176,\"\")","v":{"$error":"#REF!"}},{"$f":"IF(#REF!=\"\",\"\",COUNTIF(#REF!,\">\"\"\"))","v":{"$error":"#REF!"}},null,{"$f":"IFERROR(VLOOKUP(C176,Hidden_Словник!$A$2:$C$100,3,FALSE),\"\")","v":""},null,null,null,null,null,null,null,null,null,null,null,null,null,null,null,null,null,null,""]
[{"$f":"IF(#REF!>\"\",D177&\"_\"&#REF!&\"_\"&B177,\"\")","v":{"$error":"#REF!"}},{"$f":"IF(#REF!=\"\",\"\",COUNTIF(#REF!,\">\"\"\"))","v":{"$error":"#REF!"}},null,{"$f":"IFERROR(VLOOKUP(C177,Hidden_Словник!$A$2:$C$100,3,FALSE),\"\")","v":""},null,null,null,null,null,null,null,null,null,null,null,null,null,null,null,null,null,null,""]
[{"$f":"IF(#REF!>\"\",D178&\"_\"&#REF!&\"_\"&B178,\"\")","v":{"$error":"#REF!"}},{"$f":"IF(#REF!=\"\",\"\",COUNTIF(#REF!,\">\"\"\"))","v":{"$error":"#REF!"}},null,{"$f":"IFERROR(VLOOKUP(C178,Hidden_Словник!$A$2:$C$100,3,FALSE),\"\")","v":""},null,null,null,null,null,null,null,null,null,null,null,null,null,null,null,null,null,null,""]
[{"$f":"IF(#REF!>\"\",D179&\"_\"&#REF!&\"_\"&B179,\"\")","v":{"$error":"#REF!"}},{"$f":"IF(#REF!=\"\",\"\",COUNTIF(#REF!,\">\"\"\"))","v":{"$error":"#REF!"}},null,{"$f":"IFERROR(VLOOKUP(C179,Hidden_Словник!$A$2:$C$100,3,FALSE),\"\")","v":""},null,null,null,null,null,null,null,null,null,null,null,null,null,null,null,null,null,null,""]
[{"$f":"IF(#REF!>\"\",D180&\"_\"&#REF!&\"_\"&B180,\"\")","v":{"$error":"#REF!"}},{"$f":"IF(#REF!=\"\",\"\",COUNTIF(#REF!,\">\"\"\"))","v":{"$error":"#REF!"}},null,{"$f":"IFERROR(VLOOKUP(C180,Hidden_Словник!$A$2:$C$100,3,FALSE),\"\")","v":""},null,null,null,null,null,null,null,null,null,null,null,null,null,null,null,null,null,null,""]
[{"$f":"IF(#REF!>\"\",D181&\"_\"&#REF!&\"_\"&B181,\"\")","v":{"$error":"#REF!"}},{"$f":"IF(#REF!=\"\",\"\",COUNTIF(#REF!,\">\"\"\"))","v":{"$error":"#REF!"}},null,{"$f":"IFERROR(VLOOKUP(C181,Hidden_Словник!$A$2:$C$100,3,FALSE),\"\")","v":""},null,null,null,null,null,null,null,null,null,null,null,null,null,null,null,null,null,null,""]
[{"$f":"IF(#REF!>\"\",D182&\"_\"&#REF!&\"_\"&B182,\"\")","v":{"$error":"#REF!"}},{"$f":"IF(#REF!=\"\",\"\",COUNTIF(#REF!,\">\"\"\"))","v":{"$error":"#REF!"}},null,{"$f":"IFERROR(VLOOKUP(C182,Hidden_Словник!$A$2:$C$100,3,FALSE),\"\")","v":""},null,null,null,null,null,null,null,null,null,null,null,null,null,null,null,null,null,null,""]
[{"$f":"IF(#REF!>\"\",D183&\"_\"&#REF!&\"_\"&B183,\"\")","v":{"$error":"#REF!"}},{"$f":"IF(#REF!=\"\",\"\",COUNTIF(#REF!,\">\"\"\"))","v":{"$error":"#REF!"}},null,{"$f":"IFERROR(VLOOKUP(C183,Hidden_Словник!$A$2:$C$100,3,FALSE),\"\")","v":""},null,null,null,null,null,null,null,null,null,null,null,null,null,null,null,null,null,null,""]
[{"$f":"IF(#REF!>\"\",D184&\"_\"&#REF!&\"_\"&B184,\"\")","v":{"$error":"#REF!"}},{"$f":"IF(#REF!=\"\",\"\",COUNTIF(#REF!,\">\"\"\"))","v":{"$error":"#REF!"}},null,{"$f":"IFERROR(VLOOKUP(C184,Hidden_Словник!$A$2:$C$100,3,FALSE),\"\")","v":""},null,null,null,null,null,null,null,null,null,null,null,null,null,null,null,null,null,null,""]
[{"$f":"IF(#REF!>\"\",D185&\"_\"&#REF!&\"_\"&B185,\"\")","v":{"$error":"#REF!"}},{"$f":"IF(#REF!=\"\",\"\",COUNTIF(#REF!,\">\"\"\"))","v":{"$error":"#REF!"}},null,{"$f":"IFERROR(VLOOKUP(C185,Hidden_Словник!$A$2:$C$100,3,FALSE),\"\")","v":""},null,null,null,null,null,null,null,null,null,null,null,null,null,null,null,null,null,null,""]
[{"$f":"IF(#REF!>\"\",D186&\"_\"&#REF!&\"_\"&B186,\"\")","v":{"$error":"#REF!"}},{"$f":"IF(#REF!=\"\",\"\",COUNTIF(#REF!,\">\"\"\"))","v":{"$error":"#REF!"}},null,{"$f":"IFERROR(VLOOKUP(C186,Hidden_Словник!$A$2:$C$100,3,FALSE),\"\")","v":""},null,null,null,null,null,null,null,null,null,null,null,null,null,null,null,null,null,null,""]
[{"$f":"IF(#REF!>\"\",D187&\"_\"&#REF!&\"_\"&B187,\"\")","v":{"$error":"#REF!"}},{"$f":"IF(#REF!=\"\",\"\",COUNTIF(#REF!,\">\"\"\"))","v":{"$error":"#REF!"}},null,{"$f":"IFERROR(VLOOKUP(C187,Hidden_Словник!$A$2:$C$100,3,FALSE),\"\")","v":""},null,null,null,null,null,null,null,null,null,null,null,null,null,null,null,null,null,null,""]
[{"$f":"IF(#REF!>\"\",D188&\"_\"&#REF!&\"_\"&B188,\"\")","v":{"$error":"#REF!"}},{"$f":"IF(#REF!=\"\",\"\",COUNTIF(#REF!,\">\"\"\"))","v":{"$error":"#REF!"}},null,{"$f":"IFERROR(VLOOKUP(C188,Hidden_Словник!$A$2:$C$100,3,FALSE),\"\")","v":""},null,null,null,null,null,null,null,null,null,null,null,null,null,null,null,null,null,null,""]
[{"$f":"IF(#REF!>\"\",D189&\"_\"&#REF!&\"_\"&B189,\"\")","v":{"$error":"#REF!"}},{"$f":"IF(#REF!=\"\",\"\",COUNTIF(#REF!,\">\"\"\"))","v":{"$error":"#REF!"}},null,{"$f":"IFERROR(VLOOKUP(C189,Hidden_Словник!$A$2:$C$100,3,FALSE),\"\")","v":""},null,null,null,null,null,null,null,null,null,null,null,null,null,null,null,null,null,null,""]
[{"$f":"IF(#REF!>\"\",D190&\"_\"&#REF!&\"_\"&B190,\"\")","v":{"$error":"#REF!"}},{"$f":"IF(#REF!=\"\",\"\",COUNTIF(#REF!,\">\"\"\"))","v":{"$error":"#REF!"}},null,{"$f":"IFERROR(VLOOKUP(C190,Hidden_Словник!$A$2:$C$100,3,FALSE),\"\")","v":""},null,null,null,null,null,null,null,null,null,null,null,null,null,null,null,null,null,null,""]
[{"$f":"IF(#REF!>\"\",D191&\"_\"&#REF!&\"_\"&B191,\"\")","v":{"$error":"#REF!"}},{"$f":"IF(#REF!=\"\",\"\",COUNTIF(#REF!,\">\"\"\"))","v":{"$error":"#REF!"}},null,{"$f":"IFERROR(VLOOKUP(C191,Hidden_Словник!$A$2:$C$100,3,FALSE),\"\")","v":""},null,null,null,null,null,null,null,null,null,null,null,null,null,null,null,null,null,null,""]
[{"$f":"IF(#REF!>\"\",D192&\"_\"&#REF!&\"_\"&B192,\"\")","v":{"$error":"#REF!"}},{"$f":"IF(#REF!=\"\",\"\",COUNTIF(#REF!,\">\"\"\"))","v":{"$error":"#REF!"}},null,{"$f":"IFERROR(VLOOKUP(C192,Hidden_Словник!$A$2:$C$100,3,FALSE),\"\")","v":""},null,null,null,null,null,null,null,null,null,null,null,null,null,null,null,null,null,null,""]
[{"$f":"IF(#REF!>\"\",D193&\"_\"&#REF!&\"_\"&B193,\"\")","v":{"$error":"#REF!"}},{"$f":"IF(#REF!=\"\",\"\",COUNTIF(#REF!,\">\"\"\"))","v":{"$error":"#REF!"}},null,{"$f":"IFERROR(VLOOKUP(C193,Hidden_Словник!$A$2:$C$100,3,FALSE),\"\")","v":""},null,null,null,null,null,null,null,null,null,null,null,null,null,null,null,null,null,null,""]
[{"$f":"IF(#REF!>\"\",D194&\"_\"&#REF!&\"_\"&B194,\"\")","v":{"$error":"#REF!"}},{"$f":"IF(#REF!=\"\",\"\",COUNTIF(#REF!,\">\"\"\"))","v":{"$error":"#REF!"}},null,{"$f":"IFERROR(VLOOKUP(C194,Hidden_Словник!$A$2:$C$100,3,FALSE),\"\")","v":""},null,null,null,null,null,null,null,null,null,null,null,null,null,null,null,null,null,null,""]
[{"$f":"IF(#REF!>\"\",D195&\"_\"&#REF!&\"_\"&B195,\"\")","v":{"$error":"#REF!"}},{"$f":"IF(#REF!=\"\",\"\",COUNTIF(#REF!,\">\"\"\"))","v":{"$error":"#REF!"}},null,{"$f":"IFERROR(VLOOKUP(C195,Hidden_Словник!$A$2:$C$100,3,FALSE),\"\")","v":""},null,null,null,null,null,null,null,null,null,null,null,null,null,null,null,null,null,null,""]
[{"$f":"IF(#REF!>\"\",D196&\"_\"&#REF!&\"_\"&B196,\"\")","v":{"$error":"#REF!"}},{"$f":"IF(#REF!=\"\",\"\",COUNTIF(#REF!,\">\"\"\"))","v":{"$error":"#REF!"}},null,{"$f":"IFERROR(VLOOKUP(C196,Hidden_Словник!$A$2:$C$100,3,FALSE),\"\")","v":""},null,null,null,null,null,null,null,null,null,null,null,null,null,null,null,null,null,null,""]
[{"$f":"IF(#REF!>\"\",D197&\"_\"&#REF!&\"_\"&B197,\"\")","v":{"$error":"#REF!"}},{"$f":"IF(#REF!=\"\",\"\",COUNTIF(#REF!,\">\"\"\"))","v":{"$error":"#REF!"}},null,{"$f":"IFERROR(VLOOKUP(C197,Hidden_Словник!$A$2:$C$100,3,FALSE),\"\")","v":""},null,null,null,null,null,null,null,null,null,null,null,null,null,null,null,null,null,null,""]
[{"$f":"IF(#REF!>\"\",D198&\"_\"&#REF!&\"_\"&B198,\"\")","v":{"$error":"#REF!"}},{"$f":"IF(#REF!=\"\",\"\",COUNTIF(#REF!,\">\"\"\"))","v":{"$error":"#REF!"}},null,{"$f":"IFERROR(VLOOKUP(C198,Hidden_Словник!$A$2:$C$100,3,FALSE),\"\")","v":""},null,null,null,null,null,null,null,null,null,null,null,null,null,null,null,null,null,null,""]
[{"$f":"IF(#REF!>\"\",D199&\"_\"&#REF!&\"_\"&B199,\"\")","v":{"$error":"#REF!"}},{"$f":"IF(#REF!=\"\",\"\",COUNTIF(#REF!,\">\"\"\"))","v":{"$error":"#REF!"}},null,{"$f":"IFERROR(VLOOKUP(C199,Hidden_Словник!$A$2:$C$100,3,FALSE),\"\")","v":""},null,null,null,null,null,null,null,null,null,null,null,null,null,null,null,null,null,null,""]
[{"$f":"IF(#REF!>\"\",D200&\"_\"&#REF!&\"_\"&B200,\"\")","v":{"$error":"#REF!"}},{"$f":"IF(#REF!=\"\",\"\",COUNTIF(#REF!,\">\"\"\"))","v":{"$error":"#REF!"}},null,{"$f":"IFERROR(VLOOKUP(C200,Hidden_Словник!$A$2:$C$100,3,FALSE),\"\")","v":""},null,null,null,null,null,null,null,null,null,null,null,null,null,null,null,null,null,null,""]
[{"$f":"IF(#REF!>\"\",D201&\"_\"&#REF!&\"_\"&B201,\"\")","v":{"$error":"#REF!"}},{"$f":"IF(#REF!=\"\",\"\",COUNTIF(#REF!,\">\"\"\"))","v":{"$error":"#REF!"}},null,{"$f":"IFERROR(VLOOKUP(C201,Hidden_Словник!$A$2:$C$100,3,FALSE),\"\")","v":""},null,null,null,null,null,null,null,null,null,null,null,null,null,null,null,null,null,null,""]
[{"$f":"IF(#REF!>\"\",D202&\"_\"&#REF!&\"_\"&B202,\"\")","v":{"$error":"#REF!"}},{"$f":"IF(#REF!=\"\",\"\",COUNTIF(#REF!,\">\"\"\"))","v":{"$error":"#REF!"}},null,{"$f":"IFERROR(VLOOKUP(C202,Hidden_Словник!$A$2:$C$100,3,FALSE),\"\")","v":""},null,null,null,null,null,null,null,null,null,null,null,null,null,null,null,null,null,null,""]
[{"$f":"IF(#REF!>\"\",D203&\"_\"&#REF!&\"_\"&B203,\"\")","v":{"$error":"#REF!"}},{"$f":"IF(#REF!=\"\",\"\",COUNTIF(#REF!,\">\"\"\"))","v":{"$error":"#REF!"}},null,{"$f":"IFERROR(VLOOKUP(C203,Hidden_Словник!$A$2:$C$100,3,FALSE),\"\")","v":""},null,null,null,null,null,null,null,null,null,null,null,null,null,null,null,null,null,null,""]
[{"$f":"IF(#REF!>\"\",D204&\"_\"&#REF!&\"_\"&B204,\"\")","v":{"$error":"#REF!"}},{"$f":"IF(#REF!=\"\",\"\",COUNTIF(#REF!,\">\"\"\"))","v":{"$error":"#REF!"}},null,{"$f":"IFERROR(VLOOKUP(C204,Hidden_Словник!$A$2:$C$100,3,FALSE),\"\")","v":""},null,null,null,null,null,null,null,null,null,null,null,null,null,null,null,null,null,null,""]
[{"$f":"IF(#REF!>\"\",D205&\"_\"&#REF!&\"_\"&B205,\"\")","v":{"$error":"#REF!"}},{"$f":"IF(#REF!=\"\",\"\",COUNTIF(#REF!,\">\"\"\"))","v":{"$error":"#REF!"}},null,{"$f":"IFERROR(VLOOKUP(C205,Hidden_Словник!$A$2:$C$100,3,FALSE),\"\")","v":""},null,null,null,null,null,null,null,null,null,null,null,null,null,null,null,null,null,null,""]
[{"$f":"IF(#REF!>\"\",D206&\"_\"&#REF!&\"_\"&B206,\"\")","v":{"$error":"#REF!"}},{"$f":"IF(#REF!=\"\",\"\",COUNTIF(#REF!,\">\"\"\"))","v":{"$error":"#REF!"}},null,{"$f":"IFERROR(VLOOKUP(C206,Hidden_Словник!$A$2:$C$100,3,FALSE),\"\")","v":""},null,null,null,null,null,null,null,null,null,null,null,null,null,null,null,null,null,null,""]
[{"$f":"IF(#REF!>\"\",D207&\"_\"&#REF!&\"_\"&B207,\"\")","v":{"$error":"#REF!"}},{"$f":"IF(#REF!=\"\",\"\",COUNTIF(#REF!,\">\"\"\"))","v":{"$error":"#REF!"}},null,{"$f":"IFERROR(VLOOKUP(C207,Hidden_Словник!$A$2:$C$100,3,FALSE),\"\")","v":""},null,null,null,null,null,null,null,null,null,null,null,null,null,null,null,null,null,null,""]
[{"$f":"IF(#REF!>\"\",D208&\"_\"&#REF!&\"_\"&B208,\"\")","v":{"$error":"#REF!"}},{"$f":"IF(#REF!=\"\",\"\",COUNTIF(#REF!,\">\"\"\"))","v":{"$error":"#REF!"}},null,{"$f":"IFERROR(VLOOKUP(C208,Hidden_Словник!$A$2:$C$100,3,FALSE),\"\")","v":""},null,null,null,null,null,null,null,null,null,null,null,null,null,null,null,null,null,null,""]
[{"$f":"IF(#REF!>\"\",D209&\"_\"&#REF!&\"_\"&B209,\"\")","v":{"$error":"#REF!"}},{"$f":"IF(#REF!=\"\",\"\",COUNTIF(#REF!,\">\"\"\"))","v":{"$error":"#REF!"}},null,{"$f":"IFERROR(VLOOKUP(C209,Hidden_Словник!$A$2:$C$100,3,FALSE),\"\")","v":""},null,null,null,null,null,null,null,null,null,null,null,null,null,null,null,null,null,null,""]
[{"$f":"IF(#REF!>\"\",D210&\"_\"&#REF!&\"_\"&B210,\"\")","v":{"$error":"#REF!"}},{"$f":"IF(#REF!=\"\",\"\",COUNTIF(#REF!,\">\"\"\"))","v":{"$error":"#REF!"}},null,{"$f":"IFERROR(VLOOKUP(C210,Hidden_Словник!$A$2:$C$100,3,FALSE),\"\")","v":""},null,null,null,null,null,null,null,null,null,null,null,null,null,null,null,null,null,null,""]
[{"$f":"IF(#REF!>\"\",D211&\"_\"&#REF!&\"_\"&B211,\"\")","v":{"$error":"#REF!"}},{"$f":"IF(#REF!=\"\",\"\",COUNTIF(#REF!,\">\"\"\"))","v":{"$error":"#REF!"}},null,{"$f":"IFERROR(VLOOKUP(C211,Hidden_Словник!$A$2:$C$100,3,FALSE),\"\")","v":""},null,null,null,null,null,null,null,null,null,null,null,null,null,null,null,null,null,null,""]
[{"$f":"IF(#REF!>\"\",D212&\"_\"&#REF!&\"_\"&B212,\"\")","v":{"$error":"#REF!"}},{"$f":"IF(#REF!=\"\",\"\",COUNTIF(#REF!,\">\"\"\"))","v":{"$error":"#REF!"}},null,{"$f":"IFERROR(VLOOKUP(C212,Hidden_Словник!$A$2:$C$100,3,FALSE),\"\")","v":""},null,null,null,null,null,null,null,null,null,null,null,null,null,null,null,null,null,null,""]
[{"$f":"IF(#REF!>\"\",D213&\"_\"&#REF!&\"_\"&B213,\"\")","v":{"$error":"#REF!"}},{"$f":"IF(#REF!=\"\",\"\",COUNTIF(#REF!,\">\"\"\"))","v":{"$error":"#REF!"}},null,{"$f":"IFERROR(VLOOKUP(C213,Hidden_Словник!$A$2:$C$100,3,FALSE),\"\")","v":""},null,null,null,null,null,null,null,null,null,null,null,null,null,null,null,null,null,null,""]
[{"$f":"IF(#REF!>\"\",D214&\"_\"&#REF!&\"_\"&B214,\"\")","v":{"$error":"#REF!"}},{"$f":"IF(#REF!=\"\",\"\",COUNTIF(#REF!,\">\"\"\"))","v":{"$error":"#REF!"}},null,{"$f":"IFERROR(VLOOKUP(C214,Hidden_Словник!$A$2:$C$100,3,FALSE),\"\")","v":""},null,null,null,null,null,null,null,null,null,null,null,null,null,null,null,null,null,null,""]
[{"$f":"IF(#REF!>\"\",D215&\"_\"&#REF!&\"_\"&B215,\"\")","v":{"$error":"#REF!"}},{"$f":"IF(#REF!=\"\",\"\",COUNTIF(#REF!,\">\"\"\"))","v":{"$error":"#REF!"}},null,{"$f":"IFERROR(VLOOKUP(C215,Hidden_Словник!$A$2:$C$100,3,FALSE),\"\")","v":""},null,null,null,null,null,null,null,null,null,null,null,null,null,null,null,null,null,null,""]
[{"$f":"IF(#REF!>\"\",D216&\"_\"&#REF!&\"_\"&B216,\"\")","v":{"$error":"#REF!"}},{"$f":"IF(#REF!=\"\",\"\",COUNTIF(#REF!,\">\"\"\"))","v":{"$error":"#REF!"}},null,{"$f":"IFERROR(VLOOKUP(C216,Hidden_Словник!$A$2:$C$100,3,FALSE),\"\")","v":""},null,null,null,null,null,null,null,null,null,null,null,null,null,null,null,null,null,null,""]
[{"$f":"IF(#REF!>\"\",D217&\"_\"&#REF!&\"_\"&B217,\"\")","v":{"$error":"#REF!"}},{"$f":"IF(#REF!=\"\",\"\",COUNTIF(#REF!,\">\"\"\"))","v":{"$error":"#REF!"}},null,{"$f":"IFERROR(VLOOKUP(C217,Hidden_Словник!$A$2:$C$100,3,FALSE),\"\")","v":""},null,null,null,null,null,null,null,null,null,null,null,null,null,null,null,null,null,null,""]
[{"$f":"IF(#REF!>\"\",D218&\"_\"&#REF!&\"_\"&B218,\"\")","v":{"$error":"#REF!"}},{"$f":"IF(#REF!=\"\",\"\",COUNTIF(#REF!,\">\"\"\"))","v":{"$error":"#REF!"}},null,{"$f":"IFERROR(VLOOKUP(C218,Hidden_Словник!$A$2:$C$100,3,FALSE),\"\")","v":""},null,null,null,null,null,null,null,null,null,null,null,null,null,null,null,null,null,null,""]
[{"$f":"IF(#REF!>\"\",D219&\"_\"&#REF!&\"_\"&B219,\"\")","v":{"$error":"#REF!"}},{"$f":"IF(#REF!=\"\",\"\",COUNTIF(#REF!,\">\"\"\"))","v":{"$error":"#REF!"}},null,{"$f":"IFERROR(VLOOKUP(C219,Hidden_Словник!$A$2:$C$100,3,FALSE),\"\")","v":""},null,null,null,null,null,null,null,null,null,null,null,null,null,null,null,null,null,null,""]
[{"$f":"IF(#REF!>\"\",D220&\"_\"&#REF!&\"_\"&B220,\"\")","v":{"$error":"#REF!"}},{"$f":"IF(#REF!=\"\",\"\",COUNTIF(#REF!,\">\"\"\"))","v":{"$error":"#REF!"}},null,{"$f":"IFERROR(VLOOKUP(C220,Hidden_Словник!$A$2:$C$100,3,FALSE),\"\")","v":""},null,null,null,null,null,null,null,null,null,null,null,null,null,null,null,null,null,null,""]
[{"$f":"IF(#REF!>\"\",D221&\"_\"&#REF!&\"_\"&B221,\"\")","v":{"$error":"#REF!"}},{"$f":"IF(#REF!=\"\",\"\",COUNTIF(#REF!,\">\"\"\"))","v":{"$error":"#REF!"}},null,{"$f":"IFERROR(VLOOKUP(C221,Hidden_Словник!$A$2:$C$100,3,FALSE),\"\")","v":""},null,null,null,null,null,null,null,null,null,null,null,null,null,null,null,null,null,null,""]
[{"$f":"IF(#REF!>\"\",D222&\"_\"&#REF!&\"_\"&B222,\"\")","v":{"$error":"#REF!"}},{"$f":"IF(#REF!=\"\",\"\",COUNTIF(#REF!,\">\"\"\"))","v":{"$error":"#REF!"}},null,{"$f":"IFERROR(VLOOKUP(C222,Hidden_Словник!$A$2:$C$100,3,FALSE),\"\")","v":""},null,null,null,null,null,null,null,null,null,null,null,null,null,null,null,null,null,null,""]
[{"$f":"IF(#REF!>\"\",D223&\"_\"&#REF!&\"_\"&B223,\"\")","v":{"$error":"#REF!"}},{"$f":"IF(#REF!=\"\",\"\",COUNTIF(#REF!,\">\"\"\"))","v":{"$error":"#REF!"}},null,{"$f":"IFERROR(VLOOKUP(C223,Hidden_Словник!$A$2:$C$100,3,FALSE),\"\")","v":""},null,null,null,null,null,null,null,null,null,null,null,null,null,null,null,null,null,null,""]
[{"$f":"IF(#REF!>\"\",D224&\"_\"&#REF!&\"_\"&B224,\"\")","v":{"$error":"#REF!"}},{"$f":"IF(#REF!=\"\",\"\",COUNTIF(#REF!,\">\"\"\"))","v":{"$error":"#REF!"}},null,{"$f":"IFERROR(VLOOKUP(C224,Hidden_Словник!$A$2:$C$100,3,FALSE),\"\")","v":""},null,null,null,null,null,null,null,null,null,null,null,null,null,null,null,null,null,null,""]
[{"$f":"IF(#REF!>\"\",D225&\"_\"&#REF!&\"_\"&B225,\"\")","v":{"$error":"#REF!"}},{"$f":"IF(#REF!=\"\",\"\",COUNTIF(#REF!,\">\"\"\"))","v":{"$error":"#REF!"}},null,{"$f":"IFERROR(VLOOKUP(C225,Hidden_Словник!$A$2:$C$100,3,FALSE),\"\")","v":""},null,null,null,null,null,null,null,null,null,null,null,null,null,null,null,null,null,null,""]
[{"$f":"IF(#REF!>\"\",D226&\"_\"&#REF!&\"_\"&B226,\"\")","v":{"$error":"#REF!"}},{"$f":"IF(#REF!=\"\",\"\",COUNTIF(#REF!,\">\"\"\"))","v":{"$error":"#REF!"}},null,{"$f":"IFERROR(VLOOKUP(C226,Hidden_Словник!$A$2:$C$100,3,FALSE),\"\")","v":""},null,null,null,null,null,null,null,null,null,null,null,null,null,null,null,null,null,null,""]
[{"$f":"IF(#REF!>\"\",D227&\"_\"&#REF!&\"_\"&B227,\"\")","v":{"$error":"#REF!"}},{"$f":"IF(#REF!=\"\",\"\",COUNTIF(#REF!,\">\"\"\"))","v":{"$error":"#REF!"}},null,{"$f":"IFERROR(VLOOKUP(C227,Hidden_Словник!$A$2:$C$100,3,FALSE),\"\")","v":""},null,null,null,null,null,null,null,null,null,null,null,null,null,null,null,null,null,null,""]
[{"$f":"IF(#REF!>\"\",D228&\"_\"&#REF!&\"_\"&B228,\"\")","v":{"$error":"#REF!"}},{"$f":"IF(#REF!=\"\",\"\",COUNTIF(#REF!,\">\"\"\"))","v":{"$error":"#REF!"}},null,{"$f":"IFERROR(VLOOKUP(C228,Hidden_Словник!$A$2:$C$100,3,FALSE),\"\")","v":""},null,null,null,null,null,null,null,null,null,null,null,null,null,null,null,null,null,null,""]
[{"$f":"IF(#REF!>\"\",D229&\"_\"&#REF!&\"_\"&B229,\"\")","v":{"$error":"#REF!"}},{"$f":"IF(#REF!=\"\",\"\",COUNTIF(#REF!,\">\"\"\"))","v":{"$error":"#REF!"}},null,{"$f":"IFERROR(VLOOKUP(C229,Hidden_Словник!$A$2:$C$100,3,FALSE),\"\")","v":""},null,null,null,null,null,null,null,null,null,null,null,null,null,null,null,null,null,null,""]
[{"$f":"IF(#REF!>\"\",D230&\"_\"&#REF!&\"_\"&B230,\"\")","v":{"$error":"#REF!"}},{"$f":"IF(#REF!=\"\",\"\",COUNTIF(#REF!,\">\"\"\"))","v":{"$error":"#REF!"}},null,{"$f":"IFERROR(VLOOKUP(C230,Hidden_Словник!$A$2:$C$100,3,FALSE),\"\")","v":""},null,null,null,null,null,null,null,null,null,null,null,null,null,null,null,null,null,null,""]
[{"$f":"IF(#REF!>\"\",D231&\"_\"&#REF!&\"_\"&B231,\"\")","v":{"$error":"#REF!"}},{"$f":"IF(#REF!=\"\",\"\",COUNTIF(#REF!,\">\"\"\"))","v":{"$error":"#REF!"}},null,{"$f":"IFERROR(VLOOKUP(C231,Hidden_Словник!$A$2:$C$100,3,FALSE),\"\")","v":""},null,null,null,null,null,null,null,null,null,null,null,null,null,null,null,null,null,null,""]
[{"$f":"IF(#REF!>\"\",D232&\"_\"&#REF!&\"_\"&B232,\"\")","v":{"$error":"#REF!"}},{"$f":"IF(#REF!=\"\",\"\",COUNTIF(#REF!,\">\"\"\"))","v":{"$error":"#REF!"}},null,{"$f":"IFERROR(VLOOKUP(C232,Hidden_Словник!$A$2:$C$100,3,FALSE),\"\")","v":""},null,null,null,null,null,null,null,null,null,null,null,null,null,null,null,null,null,null,{"$f":"IF(X232+Y232>0,X232+Y232,\"\")","v":""}]
[{"$f":"IF(#REF!>\"\",D233&\"_\"&#REF!&\"_\"&B233,\"\")","v":{"$error":"#REF!"}},{"$f":"IF(#REF!=\"\",\"\",COUNTIF(#REF!,\">\"\"\"))","v":{"$error":"#REF!"}},null,{"$f":"IFERROR(VLOOKUP(C233,Hidden_Словник!$A$2:$C$100,3,FALSE),\"\")","v":""},null,null,null,null,null,null,null,null,null,null,null,null,null,null,null,null,null,null,""]
[{"$f":"IF(#REF!>\"\",D234&\"_\"&#REF!&\"_\"&B234,\"\")","v":{"$error":"#REF!"}},{"$f":"IF(#REF!=\"\",\"\",COUNTIF(#REF!,\">\"\"\"))","v":{"$error":"#REF!"}},null,{"$f":"IFERROR(VLOOKUP(C234,Hidden_Словник!$A$2:$C$100,3,FALSE),\"\")","v":""},null,null,null,null,null,null,null,null,null,null,null,null,null,null,null,null,null,null,""]
[{"$f":"IF(#REF!>\"\",D235&\"_\"&#REF!&\"_\"&B235,\"\")","v":{"$error":"#REF!"}},{"$f":"IF(#REF!=\"\",\"\",COUNTIF(#REF!,\">\"\"\"))","v":{"$error":"#REF!"}},null,{"$f":"IFERROR(VLOOKUP(C235,Hidden_Словник!$A$2:$C$100,3,FALSE),\"\")","v":""},null,null,null,null,null,null,null,null,null,null,null,null,null,null,null,null,null,null,""]
[{"$f":"IF(#REF!>\"\",D236&\"_\"&#REF!&\"_\"&B236,\"\")","v":{"$error":"#REF!"}},{"$f":"IF(#REF!=\"\",\"\",COUNTIF(#REF!,\">\"\"\"))","v":{"$error":"#REF!"}},null,{"$f":"IFERROR(VLOOKUP(C236,Hidden_Словник!$A$2:$C$100,3,FALSE),\"\")","v":""},null,null,null,null,null,null,null,null,null,null,null,null,null,null,null,null,null,null,""]
[{"$f":"IF(#REF!>\"\",D237&\"_\"&#REF!&\"_\"&B237,\"\")","v":{"$error":"#REF!"}},{"$f":"IF(#REF!=\"\",\"\",COUNTIF(#REF!,\">\"\"\"))","v":{"$error":"#REF!"}},null,{"$f":"IFERROR(VLOOKUP(C237,Hidden_Словник!$A$2:$C$100,3,FALSE),\"\")","v":""},null,null,null,null,null,null,null,null,null,null,null,null,null,null,null,null,null,null,""]
[{"$f":"IF(#REF!>\"\",D238&\"_\"&#REF!&\"_\"&B238,\"\")","v":{"$error":"#REF!"}},{"$f":"IF(#REF!=\"\",\"\",COUNTIF(#REF!,\">\"\"\"))","v":{"$error":"#REF!"}},null,{"$f":"IFERROR(VLOOKUP(C238,Hidden_Словник!$A$2:$C$100,3,FALSE),\"\")","v":""},null,null,null,null,null,null,null,null,null,null,null,null,null,null,null,null,null,null,""]
[{"$f":"IF(#REF!>\"\",D239&\"_\"&#REF!&\"_\"&B239,\"\")","v":{"$error":"#REF!"}},{"$f":"IF(#REF!=\"\",\"\",COUNTIF(#REF!,\">\"\"\"))","v":{"$error":"#REF!"}},null,{"$f":"IFERROR(VLOOKUP(C239,Hidden_Словник!$A$2:$C$100,3,FALSE),\"\")","v":""},null,null,null,null,null,null,null,null,null,null,null,null,null,null,null,null,null,null,""]
[{"$f":"IF(#REF!>\"\",D240&\"_\"&#REF!&\"_\"&B240,\"\")","v":{"$error":"#REF!"}},{"$f":"IF(#REF!=\"\",\"\",COUNTIF(#REF!,\">\"\"\"))","v":{"$error":"#REF!"}},null,{"$f":"IFERROR(VLOOKUP(C240,Hidden_Словник!$A$2:$C$100,3,FALSE),\"\")","v":""},null,null,null,null,null,null,null,null,null,null,null,null,null,null,null,null,null,null,""]
[{"$f":"IF(#REF!>\"\",D241&\"_\"&#REF!&\"_\"&B241,\"\")","v":{"$error":"#REF!"}},{"$f":"IF(#REF!=\"\",\"\",COUNTIF(#REF!,\">\"\"\"))","v":{"$error":"#REF!"}},null,{"$f":"IFERROR(VLOOKUP(C241,Hidden_Словник!$A$2:$C$100,3,FALSE),\"\")","v":""},null,null,null,null,null,null,null,null,null,null,null,null,null,null,null,null,null,null,""]
[{"$f":"IF(#REF!>\"\",D242&\"_\"&#REF!&\"_\"&B242,\"\")","v":{"$error":"#REF!"}},{"$f":"IF(#REF!=\"\",\"\",COUNTIF(#REF!,\">\"\"\"))","v":{"$error":"#REF!"}},null,{"$f":"IFERROR(VLOOKUP(C242,Hidden_Словник!$A$2:$C$100,3,FALSE),\"\")","v":""},null,null,null,null,null,null,null,null,null,null,null,null,null,null,null,null,null,null,""]
[{"$f":"IF(#REF!>\"\",D243&\"_\"&#REF!&\"_\"&B243,\"\")","v":{"$error":"#REF!"}},{"$f":"IF(#REF!=\"\",\"\",COUNTIF(#REF!,\">\"\"\"))","v":{"$error":"#REF!"}},null,{"$f":"IFERROR(VLOOKUP(C243,Hidden_Словник!$A$2:$C$100,3,FALSE),\"\")","v":""},null,null,null,null,null,null,null,null,null,null,null,null,null,null,null,null,null,null,""]
[{"$f":"IF(#REF!>\"\",D244&\"_\"&#REF!&\"_\"&B244,\"\")","v":{"$error":"#REF!"}},{"$f":"IF(#REF!=\"\",\"\",COUNTIF(#REF!,\">\"\"\"))","v":{"$error":"#REF!"}},null,{"$f":"IFERROR(VLOOKUP(C244,Hidden_Словник!$A$2:$C$100,3,FALSE),\"\")","v":""},null,null,null,null,null,null,null,null,null,null,null,null,null,null,null,null,null,null,""]
[{"$f":"IF(#REF!>\"\",D245&\"_\"&#REF!&\"_\"&B245,\"\")","v":{"$error":"#REF!"}},{"$f":"IF(#REF!=\"\",\"\",COUNTIF(#REF!,\">\"\"\"))","v":{"$error":"#REF!"}},null,{"$f":"IFERROR(VLOOKUP(C245,Hidden_Словник!$A$2:$C$100,3,FALSE),\"\")","v":""},null,null,null,null,null,null,null,null,null,null,null,null,null,null,null,null,null,null,""]
[{"$f":"IF(#REF!>\"\",D246&\"_\"&#REF!&\"_\"&B246,\"\")","v":{"$error":"#REF!"}},{"$f":"IF(#REF!=\"\",\"\",COUNTIF(#REF!,\">\"\"\"))","v":{"$error":"#REF!"}},null,{"$f":"IFERROR(VLOOKUP(C246,Hidden_Словник!$A$2:$C$100,3,FALSE),\"\")","v":""},null,null,null,null,null,null,null,null,null,null,null,null,null,null,null,null,null,null,""]
[{"$f":"IF(#REF!>\"\",D247&\"_\"&#REF!&\"_\"&B247,\"\")","v":{"$error":"#REF!"}},{"$f":"IF(#REF!=\"\",\"\",COUNTIF(#REF!,\">\"\"\"))","v":{"$error":"#REF!"}},null,{"$f":"IFERROR(VLOOKUP(C247,Hidden_Словник!$A$2:$C$100,3,FALSE),\"\")","v":""},null,null,null,null,null,null,null,null,null,null,null,null,null,null,null,null,null,null,""]
[{"$f":"IF(#REF!>\"\",D248&\"_\"&#REF!&\"_\"&B248,\"\")","v":{"$error":"#REF!"}},{"$f":"IF(#REF!=\"\",\"\",COUNTIF(#REF!,\">\"\"\"))","v":{"$error":"#REF!"}},null,{"$f":"IFERROR(VLOOKUP(C248,Hidden_Словник!$A$2:$C$100,3,FALSE),\"\")","v":""},null,null,null,null,null,null,null,null,null,null,null,null,null,null,null,null,null,null,""]
[{"$f":"IF(#REF!>\"\",D249&\"_\"&#REF!&\"_\"&B249,\"\")","v":{"$error":"#REF!"}},{"$f":"IF(#REF!=\"\",\"\",COUNTIF(#REF!,\">\"\"\"))","v":{"$error":"#REF!"}},null,{"$f":"IFERROR(VLOOKUP(C249,Hidden_Словник!$A$2:$C$100,3,FALSE),\"\")","v":""},null,null,null,null,null,null,null,null,null,null,null,null,null,null,null,null,null,null,""]
[{"$f":"IF(#REF!>\"\",D250&\"_\"&#REF!&\"_\"&B250,\"\")","v":{"$error":"#REF!"}},{"$f":"IF(#REF!=\"\",\"\",COUNTIF(#REF!,\">\"\"\"))","v":{"$error":"#REF!"}},null,{"$f":"IFERROR(VLOOKUP(C250,Hidden_Словник!$A$2:$C$100,3,FALSE),\"\")","v":""},null,null,null,null,null,null,null,null,null,null,null,null,null,null,null,null,null,null,""]
[{"$f":"IF(#REF!>\"\",D251&\"_\"&#REF!&\"_\"&B251,\"\")","v":{"$error":"#REF!"}},{"$f":"IF(#REF!=\"\",\"\",COUNTIF(#REF!,\">\"\"\"))","v":{"$error":"#REF!"}},null,{"$f":"IFERROR(VLOOKUP(C251,Hidden_Словник!$A$2:$C$100,3,FALSE),\"\")","v":""},null,null,null,null,null,null,null,null,null,null,null,null,null,null,null,null,null,null,""]
[{"$f":"IF(#REF!>\"\",D252&\"_\"&#REF!&\"_\"&B252,\"\")","v":{"$error":"#REF!"}},{"$f":"IF(#REF!=\"\",\"\",COUNTIF(#REF!,\">\"\"\"))","v":{"$error":"#REF!"}},null,{"$f":"IFERROR(VLOOKUP(C252,Hidden_Словник!$A$2:$C$100,3,FALSE),\"\")","v":""},null,null,null,null,null,null,null,null,null,null,null,null,null,null,null,null,null,null,""]
[{"$f":"IF(#REF!>\"\",D253&\"_\"&#REF!&\"_\"&B253,\"\")","v":{"$error":"#REF!"}},{"$f":"IF(#REF!=\"\",\"\",COUNTIF(#REF!,\">\"\"\"))","v":{"$error":"#REF!"}},null,{"$f":"IFERROR(VLOOKUP(C253,Hidden_Словник!$A$2:$C$100,3,FALSE),\"\")","v":""},null,null,null,null,null,null,null,null,null,null,null,null,null,null,null,null,null,null,""]
[{"$f":"IF(#REF!>\"\",D254&\"_\"&#REF!&\"_\"&B254,\"\")","v":{"$error":"#REF!"}},{"$f":"IF(#REF!=\"\",\"\",COUNTIF(#REF!,\">\"\"\"))","v":{"$error":"#REF!"}},null,{"$f":"IFERROR(VLOOKUP(C254,Hidden_Словник!$A$2:$C$100,3,FALSE),\"\")","v":""},null,null,null,null,null,null,null,null,null,null,null,null,null,null,null,null,null,null,""]
[{"$f":"IF(#REF!>\"\",D255&\"_\"&#REF!&\"_\"&B255,\"\")","v":{"$error":"#REF!"}},{"$f":"IF(#REF!=\"\",\"\",COUNTIF(#REF!,\">\"\"\"))","v":{"$error":"#REF!"}},null,{"$f":"IFERROR(VLOOKUP(C255,Hidden_Словник!$A$2:$C$100,3,FALSE),\"\")","v":""},null,null,null,null,null,null,null,null,null,null,null,null,null,null,null,null,null,null,""]
[{"$f":"IF(#REF!>\"\",D256&\"_\"&#REF!&\"_\"&B256,\"\")","v":{"$error":"#REF!"}},{"$f":"IF(#REF!=\"\",\"\",COUNTIF(#REF!,\">\"\"\"))","v":{"$error":"#REF!"}},null,{"$f":"IFERROR(VLOOKUP(C256,Hidden_Словник!$A$2:$C$100,3,FALSE),\"\")","v":""},null,null,null,null,null,null,null,null,null,null,null,null,null,null,null,null,null,null,""]
[{"$f":"IF(#REF!>\"\",D257&\"_\"&#REF!&\"_\"&B257,\"\")","v":{"$error":"#REF!"}},{"$f":"IF(#REF!=\"\",\"\",COUNTIF(#REF!,\">\"\"\"))","v":{"$error":"#REF!"}},null,{"$f":"IFERROR(VLOOKUP(C257,Hidden_Словник!$A$2:$C$100,3,FALSE),\"\")","v":""},null,null,null,null,null,null,null,null,null,null,null,null,null,null,null,null,null,null,""]
[{"$f":"IF(#REF!>\"\",D258&\"_\"&#REF!&\"_\"&B258,\"\")","v":{"$error":"#REF!"}},{"$f":"IF(#REF!=\"\",\"\",COUNTIF(#REF!,\">\"\"\"))","v":{"$error":"#REF!"}},null,{"$f":"IFERROR(VLOOKUP(C258,Hidden_Словник!$A$2:$C$100,3,FALSE),\"\")","v":""},null,null,null,null,null,null,null,null,null,null,null,null,null,null,null,null,null,null,""]
[{"$f":"IF(#REF!>\"\",D259&\"_\"&#REF!&\"_\"&B259,\"\")","v":{"$error":"#REF!"}},{"$f":"IF(#REF!=\"\",\"\",COUNTIF(#REF!,\">\"\"\"))","v":{"$error":"#REF!"}},null,{"$f":"IFERROR(VLOOKUP(C259,Hidden_Словник!$A$2:$C$100,3,FALSE),\"\")","v":""},null,null,null,null,null,null,null,null,null,null,null,null,null,null,null,null,null,null,""]
[{"$f":"IF(#REF!>\"\",D260&\"_\"&#REF!&\"_\"&B260,\"\")","v":{"$error":"#REF!"}},{"$f":"IF(#REF!=\"\",\"\",COUNTIF(#REF!,\">\"\"\"))","v":{"$error":"#REF!"}},null,{"$f":"IFERROR(VLOOKUP(C260,Hidden_Словник!$A$2:$C$100,3,FALSE),\"\")","v":""},null,null,null,null,null,null,null,null,null,null,null,null,null,null,null,null,null,null,""]
[{"$f":"IF(#REF!>\"\",D261&\"_\"&#REF!&\"_\"&B261,\"\")","v":{"$error":"#REF!"}},{"$f":"IF(#REF!=\"\",\"\",COUNTIF(#REF!,\">\"\"\"))","v":{"$error":"#REF!"}},null,{"$f":"IFERROR(VLOOKUP(C261,Hidden_Словник!$A$2:$C$100,3,FALSE),\"\")","v":""},null,null,null,null,null,null,null,null,null,null,null,null,null,null,null,null,null,null,""]
[{"$f":"IF(#REF!>\"\",D262&\"_\"&#REF!&\"_\"&B262,\"\")","v":{"$error":"#REF!"}},{"$f":"IF(#REF!=\"\",\"\",COUNTIF(#REF!,\">\"\"\"))","v":{"$error":"#REF!"}},null,{"$f":"IFERROR(VLOOKUP(C262,Hidden_Словник!$A$2:$C$100,3,FALSE),\"\")","v":""},null,null,null,null,null,null,null,null,null,null,null,null,null,null,null,null,null,null,""]
[{"$f":"IF(#REF!>\"\",D263&\"_\"&#REF!&\"_\"&B263,\"\")","v":{"$error":"#REF!"}},{"$f":"IF(#REF!=\"\",\"\",COUNTIF(#REF!,\">\"\"\"))","v":{"$error":"#REF!"}},null,{"$f":"IFERROR(VLOOKUP(C263,Hidden_Словник!$A$2:$C$100,3,FALSE),\"\")","v":""},null,null,null,null,null,null,null,null,null,null,null,null,null,null,null,null,null,null,""]
[{"$f":"IF(#REF!>\"\",D264&\"_\"&#REF!&\"_\"&B264,\"\")","v":{"$error":"#REF!"}},{"$f":"IF(#REF!=\"\",\"\",COUNTIF(#REF!,\">\"\"\"))","v":{"$error":"#REF!"}},null,{"$f":"IFERROR(VLOOKUP(C264,Hidden_Словник!$A$2:$C$100,3,FALSE),\"\")","v":""},null,null,null,null,null,null,null,null,null,null,null,null,null,null,null,null,null,null,""]
[{"$f":"IF(#REF!>\"\",D265&\"_\"&#REF!&\"_\"&B265,\"\")","v":{"$error":"#REF!"}},{"$f":"IF(#REF!=\"\",\"\",COUNTIF(#REF!,\">\"\"\"))","v":{"$error":"#REF!"}},null,{"$f":"IFERROR(VLOOKUP(C265,Hidden_Словник!$A$2:$C$100,3,FALSE),\"\")","v":""},null,null,null,null,null,null,null,null,null,null,null,null,null,null,null,null,null,null,""]
[{"$f":"IF(#REF!>\"\",D266&\"_\"&#REF!&\"_\"&B266,\"\")","v":{"$error":"#REF!"}},{"$f":"IF(#REF!=\"\",\"\",COUNTIF(#REF!,\">\"\"\"))","v":{"$error":"#REF!"}},null,{"$f":"IFERROR(VLOOKUP(C266,Hidden_Словник!$A$2:$C$100,3,FALSE),\"\")","v":""},null,null,null,null,null,null,null,null,null,null,null,null,null,null,null,null,null,null,""]
[{"$f":"IF(#REF!>\"\",D267&\"_\"&#REF!&\"_\"&B267,\"\")","v":{"$error":"#REF!"}},{"$f":"IF(#REF!=\"\",\"\",COUNTIF(#REF!,\">\"\"\"))","v":{"$error":"#REF!"}},null,{"$f":"IFERROR(VLOOKUP(C267,Hidden_Словник!$A$2:$C$100,3,FALSE),\"\")","v":""},null,null,null,null,null,null,null,null,null,null,null,null,null,null,null,null,null,null,""]
[{"$f":"IF(#REF!>\"\",D268&\"_\"&#REF!&\"_\"&B268,\"\")","v":{"$error":"#REF!"}},{"$f":"IF(#REF!=\"\",\"\",COUNTIF(#REF!,\">\"\"\"))","v":{"$error":"#REF!"}},null,{"$f":"IFERROR(VLOOKUP(C268,Hidden_Словник!$A$2:$C$100,3,FALSE),\"\")","v":""},null,null,null,null,null,null,null,null,null,null,null,null,null,null,null,null,null,null,""]
[{"$f":"IF(#REF!>\"\",D269&\"_\"&#REF!&\"_\"&B269,\"\")","v":{"$error":"#REF!"}},{"$f":"IF(#REF!=\"\",\"\",COUNTIF(#REF!,\">\"\"\"))","v":{"$error":"#REF!"}},null,{"$f":"IFERROR(VLOOKUP(C269,Hidden_Словник!$A$2:$C$100,3,FALSE),\"\")","v":""},null,null,null,null,null,null,null,null,null,null,null,null,null,null,null,null,null,null,""]
[{"$f":"IF(#REF!>\"\",D270&\"_\"&#REF!&\"_\"&B270,\"\")","v":{"$error":"#REF!"}},{"$f":"IF(#REF!=\"\",\"\",COUNTIF(#REF!,\">\"\"\"))","v":{"$error":"#REF!"}},null,{"$f":"IFERROR(VLOOKUP(C270,Hidden_Словник!$A$2:$C$100,3,FALSE),\"\")","v":""},null,null,null,null,null,null,null,null,null,null,null,null,null,null,null,null,null,null,""]
[{"$f":"IF(#REF!>\"\",D271&\"_\"&#REF!&\"_\"&B271,\"\")","v":{"$error":"#REF!"}},{"$f":"IF(#REF!=\"\",\"\",COUNTIF(#REF!,\">\"\"\"))","v":{"$error":"#REF!"}},null,{"$f":"IFERROR(VLOOKUP(C271,Hidden_Словник!$A$2:$C$100,3,FALSE),\"\")","v":""},null,null,null,null,null,null,null,null,null,null,null,null,null,null,null,null,null,null,""]
[{"$f":"IF(#REF!>\"\",D272&\"_\"&#REF!&\"_\"&B272,\"\")","v":{"$error":"#REF!"}},{"$f":"IF(#REF!=\"\",\"\",COUNTIF(#REF!,\">\"\"\"))","v":{"$error":"#REF!"}},null,{"$f":"IFERROR(VLOOKUP(C272,Hidden_Словник!$A$2:$C$100,3,FALSE),\"\")","v":""},null,null,null,null,null,null,null,null,null,null,null,null,null,null,null,null,null,null,""]
[{"$f":"IF(#REF!>\"\",D273&\"_\"&#REF!&\"_\"&B273,\"\")","v":{"$error":"#REF!"}},{"$f":"IF(#REF!=\"\",\"\",COUNTIF(#REF!,\">\"\"\"))","v":{"$error":"#REF!"}},null,{"$f":"IFERROR(VLOOKUP(C273,Hidden_Словник!$A$2:$C$100,3,FALSE),\"\")","v":""},null,null,null,null,null,null,null,null,null,null,null,null,null,null,null,null,null,null,""]
[{"$f":"IF(#REF!>\"\",D274&\"_\"&#REF!&\"_\"&B274,\"\")","v":{"$error":"#REF!"}},{"$f":"IF(#REF!=\"\",\"\",COUNTIF(#REF!,\">\"\"\"))","v":{"$error":"#REF!"}},null,{"$f":"IFERROR(VLOOKUP(C274,Hidden_Словник!$A$2:$C$100,3,FALSE),\"\")","v":""},null,null,null,null,null,null,null,null,null,null,null,null,null,null,null,null,null,null,""]
[{"$f":"IF(#REF!>\"\",D275&\"_\"&#REF!&\"_\"&B275,\"\")","v":{"$error":"#REF!"}},{"$f":"IF(#REF!=\"\",\"\",COUNTIF(#REF!,\">\"\"\"))","v":{"$error":"#REF!"}},null,{"$f":"IFERROR(VLOOKUP(C275,Hidden_Словник!$A$2:$C$100,3,FALSE),\"\")","v":""},null,null,null,null,null,null,null,null,null,null,null,null,null,null,null,null,null,null,""]
[{"$f":"IF(#REF!>\"\",D276&\"_\"&#REF!&\"_\"&B276,\"\")","v":{"$error":"#REF!"}},{"$f":"IF(#REF!=\"\",\"\",COUNTIF(#REF!,\">\"\"\"))","v":{"$error":"#REF!"}},null,{"$f":"IFERROR(VLOOKUP(C276,Hidden_Словник!$A$2:$C$100,3,FALSE),\"\")","v":""},null,null,null,null,null,null,null,null,null,null,null,null,null,null,null,null,null,null,""]
[{"$f":"IF(#REF!>\"\",D277&\"_\"&#REF!&\"_\"&B277,\"\")","v":{"$error":"#REF!"}},{"$f":"IF(#REF!=\"\",\"\",COUNTIF(#REF!,\">\"\"\"))","v":{"$error":"#REF!"}},null,{"$f":"IFERROR(VLOOKUP(C277,Hidden_Словник!$A$2:$C$100,3,FALSE),\"\")","v":""},null,null,null,null,null,null,null,null,null,null,null,null,null,null,null,null,null,null,""]
[{"$f":"IF(#REF!>\"\",D278&\"_\"&#REF!&\"_\"&B278,\"\")","v":{"$error":"#REF!"}},{"$f":"IF(#REF!=\"\",\"\",COUNTIF(#REF!,\">\"\"\"))","v":{"$error":"#REF!"}},null,{"$f":"IFERROR(VLOOKUP(C278,Hidden_Словник!$A$2:$C$100,3,FALSE),\"\")","v":""},null,null,null,null,null,null,null,null,null,null,null,null,null,null,null,null,null,null,""]
[{"$f":"IF(#REF!>\"\",D279&\"_\"&#REF!&\"_\"&B279,\"\")","v":{"$error":"#REF!"}},{"$f":"IF(#REF!=\"\",\"\",COUNTIF(#REF!,\">\"\"\"))","v":{"$error":"#REF!"}},null,{"$f":"IFERROR(VLOOKUP(C279,Hidden_Словник!$A$2:$C$100,3,FALSE),\"\")","v":""},null,null,null,null,null,null,null,null,null,null,null,null,null,null,null,null,null,null,""]
[{"$f":"IF(#REF!>\"\",D280&\"_\"&#REF!&\"_\"&B280,\"\")","v":{"$error":"#REF!"}},{"$f":"IF(#REF!=\"\",\"\",COUNTIF(#REF!,\">\"\"\"))","v":{"$error":"#REF!"}},null,{"$f":"IFERROR(VLOOKUP(C280,Hidden_Словник!$A$2:$C$100,3,FALSE),\"\")","v":""},null,null,null,null,null,null,null,null,null,null,null,null,null,null,null,null,null,null,""]
[{"$f":"IF(#REF!>\"\",D281&\"_\"&#REF!&\"_\"&B281,\"\")","v":{"$error":"#REF!"}},{"$f":"IF(#REF!=\"\",\"\",COUNTIF(#REF!,\">\"\"\"))","v":{"$error":"#REF!"}},null,{"$f":"IFERROR(VLOOKUP(C281,Hidden_Словник!$A$2:$C$100,3,FALSE),\"\")","v":""},null,null,null,null,null,null,null,null,null,null,null,null,null,null,null,null,null,null,""]
[{"$f":"IF(#REF!>\"\",D282&\"_\"&#REF!&\"_\"&B282,\"\")","v":{"$error":"#REF!"}},{"$f":"IF(#REF!=\"\",\"\",COUNTIF(#REF!,\">\"\"\"))","v":{"$error":"#REF!"}},null,{"$f":"IFERROR(VLOOKUP(C282,Hidden_Словник!$A$2:$C$100,3,FALSE),\"\")","v":""},null,null,null,null,null,null,null,null,null,null,null,null,null,null,null,null,null,null,""]
[{"$f":"IF(#REF!>\"\",D283&\"_\"&#REF!&\"_\"&B283,\"\")","v":{"$error":"#REF!"}},{"$f":"IF(#REF!=\"\",\"\",COUNTIF(#REF!,\">\"\"\"))","v":{"$error":"#REF!"}},null,{"$f":"IFERROR(VLOOKUP(C283,Hidden_Словник!$A$2:$C$100,3,FALSE),\"\")","v":""},null,null,null,null,null,null,null,null,null,null,null,null,null,null,null,null,null,null,""]
[{"$f":"IF(#REF!>\"\",D284&\"_\"&#REF!&\"_\"&B284,\"\")","v":{"$error":"#REF!"}},{"$f":"IF(#REF!=\"\",\"\",COUNTIF(#REF!,\">\"\"\"))","v":{"$error":"#REF!"}},null,{"$f":"IFERROR(VLOOKUP(C284,Hidden_Словник!$A$2:$C$100,3,FALSE),\"\")","v":""},null,null,null,null,null,null,null,null,null,null,null,null,null,null,null,null,null,null,""]
[{"$f":"IF(#REF!>\"\",D285&\"_\"&#REF!&\"_\"&B285,\"\")","v":{"$error":"#REF!"}},{"$f":"IF(#REF!=\"\",\"\",COUNTIF(#REF!,\">\"\"\"))","v":{"$error":"#REF!"}},null,{"$f":"IFERROR(VLOOKUP(C285,Hidden_Словник!$A$2:$C$100,3,FALSE),\"\")","v":""},null,null,null,null,null,null,null,null,null,null,null,null,null,null,null,null,null,null,""]
[{"$f":"IF(#REF!>\"\",D286&\"_\"&#REF!&\"_\"&B286,\"\")","v":{"$error":"#REF!"}},{"$f":"IF(#REF!=\"\",\"\",COUNTIF(#REF!,\">\"\"\"))","v":{"$error":"#REF!"}},null,{"$f":"IFERROR(VLOOKUP(C286,Hidden_Словник!$A$2:$C$100,3,FALSE),\"\")","v":""},null,null,null,null,null,null,null,null,null,null,null,null,null,null,null,null,null,null,""]
[{"$f":"IF(#REF!>\"\",D287&\"_\"&#REF!&\"_\"&B287,\"\")","v":{"$error":"#REF!"}},{"$f":"IF(#REF!=\"\",\"\",COUNTIF(#REF!,\">\"\"\"))","v":{"$error":"#REF!"}},null,{"$f":"IFERROR(VLOOKUP(C287,Hidden_Словник!$A$2:$C$100,3,FALSE),\"\")","v":""},null,null,null,null,null,null,null,null,null,null,null,null,null,null,null,null,null,null,""]
[{"$f":"IF(#REF!>\"\",D288&\"_\"&#REF!&\"_\"&B288,\"\")","v":{"$error":"#REF!"}},{"$f":"IF(#REF!=\"\",\"\",COUNTIF(#REF!,\">\"\"\"))","v":{"$error":"#REF!"}},null,{"$f":"IFERROR(VLOOKUP(C288,Hidden_Словник!$A$2:$C$100,3,FALSE),\"\")","v":""},null,null,null,null,null,null,null,null,null,null,null,null,null,null,null,null,null,null,""]
[{"$f":"IF(#REF!>\"\",D289&\"_\"&#REF!&\"_\"&B289,\"\")","v":{"$error":"#REF!"}},{"$f":"IF(#REF!=\"\",\"\",COUNTIF(#REF!,\">\"\"\"))","v":{"$error":"#REF!"}},null,{"$f":"IFERROR(VLOOKUP(C289,Hidden_Словник!$A$2:$C$100,3,FALSE),\"\")","v":""},null,null,null,null,null,null,null,null,null,null,null,null,null,null,null,null,null,null,""]
[{"$f":"IF(#REF!>\"\",D290&\"_\"&#REF!&\"_\"&B290,\"\")","v":{"$error":"#REF!"}},{"$f":"IF(#REF!=\"\",\"\",COUNTIF(#REF!,\">\"\"\"))","v":{"$error":"#REF!"}},null,{"$f":"IFERROR(VLOOKUP(C290,Hidden_Словник!$A$2:$C$100,3,FALSE),\"\")","v":""},null,null,null,null,null,null,null,null,null,null,null,null,null,null,null,null,null,null,""]
[{"$f":"IF(#REF!>\"\",D291&\"_\"&#REF!&\"_\"&B291,\"\")","v":{"$error":"#REF!"}},{"$f":"IF(#REF!=\"\",\"\",COUNTIF(#REF!,\">\"\"\"))","v":{"$error":"#REF!"}},null,{"$f":"IFERROR(VLOOKUP(C291,Hidden_Словник!$A$2:$C$100,3,FALSE),\"\")","v":""},null,null,null,null,null,null,null,null,null,null,null,null,null,null,null,null,null,null,""]
[{"$f":"IF(#REF!>\"\",D292&\"_\"&#REF!&\"_\"&B292,\"\")","v":{"$error":"#REF!"}},{"$f":"IF(#REF!=\"\",\"\",COUNTIF(#REF!,\">\"\"\"))","v":{"$error":"#REF!"}},null,{"$f":"IFERROR(VLOOKUP(C292,Hidden_Словник!$A$2:$C$100,3,FALSE),\"\")","v":""},null,null,null,null,null,null,null,null,null,null,null,null,null,null,null,null,null,null,""]
[{"$f":"IF(#REF!>\"\",D293&\"_\"&#REF!&\"_\"&B293,\"\")","v":{"$error":"#REF!"}},{"$f":"IF(#REF!=\"\",\"\",COUNTIF(#REF!,\">\"\"\"))","v":{"$error":"#REF!"}},null,{"$f":"IFERROR(VLOOKUP(C293,Hidden_Словник!$A$2:$C$100,3,FALSE),\"\")","v":""},null,null,null,null,null,null,null,null,null,null,null,null,null,null,null,null,null,null,""]
[{"$f":"IF(#REF!>\"\",D294&\"_\"&#REF!&\"_\"&B294,\"\")","v":{"$error":"#REF!"}},{"$f":"IF(#REF!=\"\",\"\",COUNTIF(#REF!,\">\"\"\"))","v":{"$error":"#REF!"}},null,{"$f":"IFERROR(VLOOKUP(C294,Hidden_Словник!$A$2:$C$100,3,FALSE),\"\")","v":""},null,null,null,null,null,null,null,null,null,null,null,null,null,null,null,null,null,null,""]
[{"$f":"IF(#REF!>\"\",D295&\"_\"&#REF!&\"_\"&B295,\"\")","v":{"$error":"#REF!"}},{"$f":"IF(#REF!=\"\",\"\",COUNTIF(#REF!,\">\"\"\"))","v":{"$error":"#REF!"}},null,{"$f":"IFERROR(VLOOKUP(C295,Hidden_Словник!$A$2:$C$100,3,FALSE),\"\")","v":""},null,null,null,null,null,null,null,null,null,null,null,null,null,null,null,null,null,null,""]
[{"$f":"IF(#REF!>\"\",D296&\"_\"&#REF!&\"_\"&B296,\"\")","v":{"$error":"#REF!"}},{"$f":"IF(#REF!=\"\",\"\",COUNTIF(#REF!,\">\"\"\"))","v":{"$error":"#REF!"}},null,{"$f":"IFERROR(VLOOKUP(C296,Hidden_Словник!$A$2:$C$100,3,FALSE),\"\")","v":""},null,null,null,null,null,null,null,null,null,null,null,null,null,null,null,null,null,null,{"$f":"IF(X296+Y296>0,X296+Y296,\"\")","v":""}]
[{"$f":"IF(#REF!>\"\",D297&\"_\"&#REF!&\"_\"&B297,\"\")","v":{"$error":"#REF!"}},{"$f":"IF(#REF!=\"\",\"\",COUNTIF(#REF!,\">\"\"\"))","v":{"$error":"#REF!"}},null,{"$f":"IFERROR(VLOOKUP(C297,Hidden_Словник!$A$2:$C$100,3,FALSE),\"\")","v":""},null,null,null,null,null,null,null,null,null,null,null,null,null,null,null,null,null,null,""]
[{"$f":"IF(#REF!>\"\",D298&\"_\"&#REF!&\"_\"&B298,\"\")","v":{"$error":"#REF!"}},{"$f":"IF(#REF!=\"\",\"\",COUNTIF(#REF!,\">\"\"\"))","v":{"$error":"#REF!"}},null,{"$f":"IFERROR(VLOOKUP(C298,Hidden_Словник!$A$2:$C$100,3,FALSE),\"\")","v":""},null,null,null,null,null,null,null,null,null,null,null,null,null,null,null,null,null,null,""]
[{"$f":"IF(#REF!>\"\",D299&\"_\"&#REF!&\"_\"&B299,\"\")","v":{"$error":"#REF!"}},{"$f":"IF(#REF!=\"\",\"\",COUNTIF(#REF!,\">\"\"\"))","v":{"$error":"#REF!"}},null,{"$f":"IFERROR(VLOOKUP(C299,Hidden_Словник!$A$2:$C$100,3,FALSE),\"\")","v":""},null,null,null,null,null,null,null,null,null,null,null,null,null,null,null,null,null,null,""]
[{"$f":"IF(#REF!>\"\",D300&\"_\"&#REF!&\"_\"&B300,\"\")","v":{"$error":"#REF!"}},{"$f":"IF(#REF!=\"\",\"\",COUNTIF(#REF!,\">\"\"\"))","v":{"$error":"#REF!"}},null,{"$f":"IFERROR(VLOOKUP(C300,Hidden_Словник!$A$2:$C$100,3,FALSE),\"\")","v":""},null,null,null,null,null,null,null,null,null,null,null,null,null,null,null,null,null,null,""]
[{"$f":"IF(#REF!>\"\",D301&\"_\"&#REF!&\"_\"&B301,\"\")","v":{"$error":"#REF!"}},{"$f":"IF(#REF!=\"\",\"\",COUNTIF(#REF!,\">\"\"\"))","v":{"$error":"#REF!"}},null,{"$f":"IFERROR(VLOOKUP(C301,Hidden_Словник!$A$2:$C$100,3,FALSE),\"\")","v":""},null,null,null,null,null,null,null,null,null,null,null,null,null,null,null,null,null,null,""]
[{"$f":"IF(#REF!>\"\",D302&\"_\"&#REF!&\"_\"&B302,\"\")","v":{"$error":"#REF!"}},{"$f":"IF(#REF!=\"\",\"\",COUNTIF(#REF!,\">\"\"\"))","v":{"$error":"#REF!"}},null,{"$f":"IFERROR(VLOOKUP(C302,Hidden_Словник!$A$2:$C$100,3,FALSE),\"\")","v":""},null,null,null,null,null,null,null,null,null,null,null,null,null,null,null,null,null,null,""]
[{"$f":"IF(#REF!>\"\",D303&\"_\"&#REF!&\"_\"&B303,\"\")","v":{"$error":"#REF!"}},{"$f":"IF(#REF!=\"\",\"\",COUNTIF(#REF!,\">\"\"\"))","v":{"$error":"#REF!"}},null,{"$f":"IFERROR(VLOOKUP(C303,Hidden_Словник!$A$2:$C$100,3,FALSE),\"\")","v":""},null,null,null,null,null,null,null,null,null,null,null,null,null,null,null,null,null,null,""]
[{"$f":"IF(#REF!>\"\",D304&\"_\"&#REF!&\"_\"&B304,\"\")","v":{"$error":"#REF!"}},{"$f":"IF(#REF!=\"\",\"\",COUNTIF(#REF!,\">\"\"\"))","v":{"$error":"#REF!"}},null,{"$f":"IFERROR(VLOOKUP(C304,Hidden_Словник!$A$2:$C$100,3,FALSE),\"\")","v":""},null,null,null,null,null,null,null,null,null,null,null,null,null,null,null,null,null,null,""]
[{"$f":"IF(#REF!>\"\",D305&\"_\"&#REF!&\"_\"&B305,\"\")","v":{"$error":"#REF!"}},{"$f":"IF(#REF!=\"\",\"\",COUNTIF(#REF!,\">\"\"\"))","v":{"$error":"#REF!"}},null,{"$f":"IFERROR(VLOOKUP(C305,Hidden_Словник!$A$2:$C$100,3,FALSE),\"\")","v":""},null,null,null,null,null,null,null,null,null,null,null,null,null,null,null,null,null,null,""]
[{"$f":"IF(#REF!>\"\",D306&\"_\"&#REF!&\"_\"&B306,\"\")","v":{"$error":"#REF!"}},{"$f":"IF(#REF!=\"\",\"\",COUNTIF(#REF!,\">\"\"\"))","v":{"$error":"#REF!"}},null,{"$f":"IFERROR(VLOOKUP(C306,Hidden_Словник!$A$2:$C$100,3,FALSE),\"\")","v":""},null,null,null,null,null,null,null,null,null,null,null,null,null,null,null,null,null,null,""]
[{"$f":"IF(#REF!>\"\",D307&\"_\"&#REF!&\"_\"&B307,\"\")","v":{"$error":"#REF!"}},{"$f":"IF(#REF!=\"\",\"\",COUNTIF(#REF!,\">\"\"\"))","v":{"$error":"#REF!"}},null,{"$f":"IFERROR(VLOOKUP(C307,Hidden_Словник!$A$2:$C$100,3,FALSE),\"\")","v":""},null,null,null,null,null,null,null,null,null,null,null,null,null,null,null,null,null,null,""]
[{"$f":"IF(#REF!>\"\",D308&\"_\"&#REF!&\"_\"&B308,\"\")","v":{"$error":"#REF!"}},{"$f":"IF(#REF!=\"\",\"\",COUNTIF(#REF!,\">\"\"\"))","v":{"$error":"#REF!"}},null,{"$f":"IFERROR(VLOOKUP(C308,Hidden_Словник!$A$2:$C$100,3,FALSE),\"\")","v":""},null,null,null,null,null,null,null,null,null,null,null,null,null,null,null,null,null,null,""]
[{"$f":"IF(#REF!>\"\",D309&\"_\"&#REF!&\"_\"&B309,\"\")","v":{"$error":"#REF!"}},{"$f":"IF(#REF!=\"\",\"\",COUNTIF(#REF!,\">\"\"\"))","v":{"$error":"#REF!"}},null,{"$f":"IFERROR(VLOOKUP(C309,Hidden_Словник!$A$2:$C$100,3,FALSE),\"\")","v":""},null,null,null,null,null,null,null,null,null,null,null,null,null,null,null,null,null,null,""]
[{"$f":"IF(#REF!>\"\",D310&\"_\"&#REF!&\"_\"&B310,\"\")","v":{"$error":"#REF!"}},{"$f":"IF(#REF!=\"\",\"\",COUNTIF(#REF!,\">\"\"\"))","v":{"$error":"#REF!"}},null,{"$f":"IFERROR(VLOOKUP(C310,Hidden_Словник!$A$2:$C$100,3,FALSE),\"\")","v":""},null,null,null,null,null,null,null,null,null,null,null,null,null,null,null,null,null,null,""]
[{"$f":"IF(#REF!>\"\",D311&\"_\"&#REF!&\"_\"&B311,\"\")","v":{"$error":"#REF!"}},{"$f":"IF(#REF!=\"\",\"\",COUNTIF(#REF!,\">\"\"\"))","v":{"$error":"#REF!"}},null,{"$f":"IFERROR(VLOOKUP(C311,Hidden_Словник!$A$2:$C$100,3,FALSE),\"\")","v":""},null,null,null,null,null,null,null,null,null,null,null,null,null,null,null,null,null,null,""]
[{"$f":"IF(#REF!>\"\",D312&\"_\"&#REF!&\"_\"&B312,\"\")","v":{"$error":"#REF!"}},{"$f":"IF(#REF!=\"\",\"\",COUNTIF(#REF!,\">\"\"\"))","v":{"$error":"#REF!"}},null,{"$f":"IFERROR(VLOOKUP(C312,Hidden_Словник!$A$2:$C$100,3,FALSE),\"\")","v":""},null,null,null,null,null,null,null,null,null,null,null,null,null,null,null,null,null,null,""]
[{"$f":"IF(#REF!>\"\",D313&\"_\"&#REF!&\"_\"&B313,\"\")","v":{"$error":"#REF!"}},{"$f":"IF(#REF!=\"\",\"\",COUNTIF(#REF!,\">\"\"\"))","v":{"$error":"#REF!"}},null,{"$f":"IFERROR(VLOOKUP(C313,Hidden_Словник!$A$2:$C$100,3,FALSE),\"\")","v":""},null,null,null,null,null,null,null,null,null,null,null,null,null,null,null,null,null,null,""]
[{"$f":"IF(#REF!>\"\",D314&\"_\"&#REF!&\"_\"&B314,\"\")","v":{"$error":"#REF!"}},{"$f":"IF(#REF!=\"\",\"\",COUNTIF(#REF!,\">\"\"\"))","v":{"$error":"#REF!"}},null,{"$f":"IFERROR(VLOOKUP(C314,Hidden_Словник!$A$2:$C$100,3,FALSE),\"\")","v":""},null,null,null,null,null,null,null,null,null,null,null,null,null,null,null,null,null,null,""]
[{"$f":"IF(#REF!>\"\",D315&\"_\"&#REF!&\"_\"&B315,\"\")","v":{"$error":"#REF!"}},{"$f":"IF(#REF!=\"\",\"\",COUNTIF(#REF!,\">\"\"\"))","v":{"$error":"#REF!"}},null,{"$f":"IFERROR(VLOOKUP(C315,Hidden_Словник!$A$2:$C$100,3,FALSE),\"\")","v":""},null,null,null,null,null,null,null,null,null,null,null,null,null,null,null,null,null,null,""]
[{"$f":"IF(#REF!>\"\",D316&\"_\"&#REF!&\"_\"&B316,\"\")","v":{"$error":"#REF!"}},{"$f":"IF(#REF!=\"\",\"\",COUNTIF(#REF!,\">\"\"\"))","v":{"$error":"#REF!"}},null,{"$f":"IFERROR(VLOOKUP(C316,Hidden_Словник!$A$2:$C$100,3,FALSE),\"\")","v":""},null,null,null,null,null,null,null,null,null,null,null,null,null,null,null,null,null,null,""]
[{"$f":"IF(#REF!>\"\",D317&\"_\"&#REF!&\"_\"&B317,\"\")","v":{"$error":"#REF!"}},{"$f":"IF(#REF!=\"\",\"\",COUNTIF(#REF!,\">\"\"\"))","v":{"$error":"#REF!"}},null,{"$f":"IFERROR(VLOOKUP(C317,Hidden_Словник!$A$2:$C$100,3,FALSE),\"\")","v":""},null,null,null,null,null,null,null,null,null,null,null,null,null,null,null,null,null,null,""]
[{"$f":"IF(#REF!>\"\",D318&\"_\"&#REF!&\"_\"&B318,\"\")","v":{"$error":"#REF!"}},{"$f":"IF(#REF!=\"\",\"\",COUNTIF(#REF!,\">\"\"\"))","v":{"$error":"#REF!"}},null,{"$f":"IFERROR(VLOOKUP(C318,Hidden_Словник!$A$2:$C$100,3,FALSE),\"\")","v":""},null,null,null,null,null,null,null,null,null,null,null,null,null,null,null,null,null,null,""]
[{"$f":"IF(#REF!>\"\",D319&\"_\"&#REF!&\"_\"&B319,\"\")","v":{"$error":"#REF!"}},{"$f":"IF(#REF!=\"\",\"\",COUNTIF(#REF!,\">\"\"\"))","v":{"$error":"#REF!"}},null,{"$f":"IFERROR(VLOOKUP(C319,Hidden_Словник!$A$2:$C$100,3,FALSE),\"\")","v":""},null,null,null,null,null,null,null,null,null,null,null,null,null,null,null,null,null,null,""]
[{"$f":"IF(#REF!>\"\",D320&\"_\"&#REF!&\"_\"&B320,\"\")","v":{"$error":"#REF!"}},{"$f":"IF(#REF!=\"\",\"\",COUNTIF(#REF!,\">\"\"\"))","v":{"$error":"#REF!"}},null,{"$f":"IFERROR(VLOOKUP(C320,Hidden_Словник!$A$2:$C$100,3,FALSE),\"\")","v":""},null,null,null,null,null,null,null,null,null,null,null,null,null,null,null,null,null,null,""]
[{"$f":"IF(#REF!>\"\",D321&\"_\"&#REF!&\"_\"&B321,\"\")","v":{"$error":"#REF!"}},{"$f":"IF(#REF!=\"\",\"\",COUNTIF(#REF!,\">\"\"\"))","v":{"$error":"#REF!"}},null,{"$f":"IFERROR(VLOOKUP(C321,Hidden_Словник!$A$2:$C$100,3,FALSE),\"\")","v":""},null,null,null,null,null,null,null,null,null,null,null,null,null,null,null,null,null,null,""]
[{"$f":"IF(#REF!>\"\",D322&\"_\"&#REF!&\"_\"&B322,\"\")","v":{"$error":"#REF!"}},{"$f":"IF(#REF!=\"\",\"\",COUNTIF(#REF!,\">\"\"\"))","v":{"$error":"#REF!"}},null,{"$f":"IFERROR(VLOOKUP(C322,Hidden_Словник!$A$2:$C$100,3,FALSE),\"\")","v":""},null,null,null,null,null,null,null,null,null,null,null,null,null,null,null,null,null,null,""]
[{"$f":"IF(#REF!>\"\",D323&\"_\"&#REF!&\"_\"&B323,\"\")","v":{"$error":"#REF!"}},{"$f":"IF(#REF!=\"\",\"\",COUNTIF(#REF!,\">\"\"\"))","v":{"$error":"#REF!"}},null,{"$f":"IFERROR(VLOOKUP(C323,Hidden_Словник!$A$2:$C$100,3,FALSE),\"\")","v":""},null,null,null,null,null,null,null,null,null,null,null,null,null,null,null,null,null,null,""]
[{"$f":"IF(#REF!>\"\",D324&\"_\"&#REF!&\"_\"&B324,\"\")","v":{"$error":"#REF!"}},{"$f":"IF(#REF!=\"\",\"\",COUNTIF(#REF!,\">\"\"\"))","v":{"$error":"#REF!"}},null,{"$f":"IFERROR(VLOOKUP(C324,Hidden_Словник!$A$2:$C$100,3,FALSE),\"\")","v":""},null,null,null,null,null,null,null,null,null,null,null,null,null,null,null,null,null,null,""]
[{"$f":"IF(#REF!>\"\",D325&\"_\"&#REF!&\"_\"&B325,\"\")","v":{"$error":"#REF!"}},{"$f":"IF(#REF!=\"\",\"\",COUNTIF(#REF!,\">\"\"\"))","v":{"$error":"#REF!"}},null,{"$f":"IFERROR(VLOOKUP(C325,Hidden_Словник!$A$2:$C$100,3,FALSE),\"\")","v":""},null,null,null,null,null,null,null,null,null,null,null,null,null,null,null,null,null,null,""]
[{"$f":"IF(#REF!>\"\",D326&\"_\"&#REF!&\"_\"&B326,\"\")","v":{"$error":"#REF!"}},{"$f":"IF(#REF!=\"\",\"\",COUNTIF(#REF!,\">\"\"\"))","v":{"$error":"#REF!"}},null,{"$f":"IFERROR(VLOOKUP(C326,Hidden_Словник!$A$2:$C$100,3,FALSE),\"\")","v":""},null,null,null,null,null,null,null,null,null,null,null,null,null,null,null,null,null,null,""]
[{"$f":"IF(#REF!>\"\",D327&\"_\"&#REF!&\"_\"&B327,\"\")","v":{"$error":"#REF!"}},{"$f":"IF(#REF!=\"\",\"\",COUNTIF(#REF!,\">\"\"\"))","v":{"$error":"#REF!"}},null,{"$f":"IFERROR(VLOOKUP(C327,Hidden_Словник!$A$2:$C$100,3,FALSE),\"\")","v":""},null,null,null,null,null,null,null,null,null,null,null,null,null,null,null,null,null,null,""]
[{"$f":"IF(#REF!>\"\",D328&\"_\"&#REF!&\"_\"&B328,\"\")","v":{"$error":"#REF!"}},{"$f":"IF(#REF!=\"\",\"\",COUNTIF(#REF!,\">\"\"\"))","v":{"$error":"#REF!"}},null,{"$f":"IFERROR(VLOOKUP(C328,Hidden_Словник!$A$2:$C$100,3,FALSE),\"\")","v":""},null,null,null,null,null,null,null,null,null,null,null,null,null,null,null,null,null,null,""]
[{"$f":"IF(#REF!>\"\",D329&\"_\"&#REF!&\"_\"&B329,\"\")","v":{"$error":"#REF!"}},{"$f":"IF(#REF!=\"\",\"\",COUNTIF(#REF!,\">\"\"\"))","v":{"$error":"#REF!"}},null,{"$f":"IFERROR(VLOOKUP(C329,Hidden_Словник!$A$2:$C$100,3,FALSE),\"\")","v":""},null,null,null,null,null,null,null,null,null,null,null,null,null,null,null,null,null,null,""]
[{"$f":"IF(#REF!>\"\",D330&\"_\"&#REF!&\"_\"&B330,\"\")","v":{"$error":"#REF!"}},{"$f":"IF(#REF!=\"\",\"\",COUNTIF(#REF!,\">\"\"\"))","v":{"$error":"#REF!"}},null,{"$f":"IFERROR(VLOOKUP(C330,Hidden_Словник!$A$2:$C$100,3,FALSE),\"\")","v":""},null,null,null,null,null,null,null,null,null,null,null,null,null,null,null,null,null,null,""]
[{"$f":"IF(#REF!>\"\",D331&\"_\"&#REF!&\"_\"&B331,\"\")","v":{"$error":"#REF!"}},{"$f":"IF(#REF!=\"\",\"\",COUNTIF(#REF!,\">\"\"\"))","v":{"$error":"#REF!"}},null,{"$f":"IFERROR(VLOOKUP(C331,Hidden_Словник!$A$2:$C$100,3,FALSE),\"\")","v":""},null,null,null,null,null,null,null,null,null,null,null,null,null,null,null,null,null,null,""]
[{"$f":"IF(#REF!>\"\",D332&\"_\"&#REF!&\"_\"&B332,\"\")","v":{"$error":"#REF!"}},{"$f":"IF(#REF!=\"\",\"\",COUNTIF(#REF!,\">\"\"\"))","v":{"$error":"#REF!"}},null,{"$f":"IFERROR(VLOOKUP(C332,Hidden_Словник!$A$2:$C$100,3,FALSE),\"\")","v":""},null,null,null,null,null,null,null,null,null,null,null,null,null,null,null,null,null,null,""]
[{"$f":"IF(#REF!>\"\",D333&\"_\"&#REF!&\"_\"&B333,\"\")","v":{"$error":"#REF!"}},{"$f":"IF(#REF!=\"\",\"\",COUNTIF(#REF!,\">\"\"\"))","v":{"$error":"#REF!"}},null,{"$f":"IFERROR(VLOOKUP(C333,Hidden_Словник!$A$2:$C$100,3,FALSE),\"\")","v":""},null,null,null,null,null,null,null,null,null,null,null,null,null,null,null,null,null,null,""]
[{"$f":"IF(#REF!>\"\",D334&\"_\"&#REF!&\"_\"&B334,\"\")","v":{"$error":"#REF!"}},{"$f":"IF(#REF!=\"\",\"\",COUNTIF(#REF!,\">\"\"\"))","v":{"$error":"#REF!"}},null,{"$f":"IFERROR(VLOOKUP(C334,Hidden_Словник!$A$2:$C$100,3,FALSE),\"\")","v":""},null,null,null,null,null,null,null,null,null,null,null,null,null,null,null,null,null,null,""]
[{"$f":"IF(#REF!>\"\",D335&\"_\"&#REF!&\"_\"&B335,\"\")","v":{"$error":"#REF!"}},{"$f":"IF(#REF!=\"\",\"\",COUNTIF(#REF!,\">\"\"\"))","v":{"$error":"#REF!"}},null,{"$f":"IFERROR(VLOOKUP(C335,Hidden_Словник!$A$2:$C$100,3,FALSE),\"\")","v":""},null,null,null,null,null,null,null,null,null,null,null,null,null,null,null,null,null,null,""]
[{"$f":"IF(#REF!>\"\",D336&\"_\"&#REF!&\"_\"&B336,\"\")","v":{"$error":"#REF!"}},{"$f":"IF(#REF!=\"\",\"\",COUNTIF(#REF!,\">\"\"\"))","v":{"$error":"#REF!"}},null,{"$f":"IFERROR(VLOOKUP(C336,Hidden_Словник!$A$2:$C$100,3,FALSE),\"\")","v":""},null,null,null,null,null,null,null,null,null,null,null,null,null,null,null,null,null,null,""]
[{"$f":"IF(#REF!>\"\",D337&\"_\"&#REF!&\"_\"&B337,\"\")","v":{"$error":"#REF!"}},{"$f":"IF(#REF!=\"\",\"\",COUNTIF(#REF!,\">\"\"\"))","v":{"$error":"#REF!"}},null,{"$f":"IFERROR(VLOOKUP(C337,Hidden_Словник!$A$2:$C$100,3,FALSE),\"\")","v":""},null,null,null,null,null,null,null,null,null,null,null,null,null,null,null,null,null,null,""]
[{"$f":"IF(#REF!>\"\",D338&\"_\"&#REF!&\"_\"&B338,\"\")","v":{"$error":"#REF!"}},{"$f":"IF(#REF!=\"\",\"\",COUNTIF(#REF!,\">\"\"\"))","v":{"$error":"#REF!"}},null,{"$f":"IFERROR(VLOOKUP(C338,Hidden_Словник!$A$2:$C$100,3,FALSE),\"\")","v":""},null,null,null,null,null,null,null,null,null,null,null,null,null,null,null,null,null,null,""]
[{"$f":"IF(#REF!>\"\",D339&\"_\"&#REF!&\"_\"&B339,\"\")","v":{"$error":"#REF!"}},{"$f":"IF(#REF!=\"\",\"\",COUNTIF(#REF!,\">\"\"\"))","v":{"$error":"#REF!"}},null,{"$f":"IFERROR(VLOOKUP(C339,Hidden_Словник!$A$2:$C$100,3,FALSE),\"\")","v":""},null,null,null,null,null,null,null,null,null,null,null,null,null,null,null,null,null,null,""]
[{"$f":"IF(#REF!>\"\",D340&\"_\"&#REF!&\"_\"&B340,\"\")","v":{"$error":"#REF!"}},{"$f":"IF(#REF!=\"\",\"\",COUNTIF(#REF!,\">\"\"\"))","v":{"$error":"#REF!"}},null,{"$f":"IFERROR(VLOOKUP(C340,Hidden_Словник!$A$2:$C$100,3,FALSE),\"\")","v":""},null,null,null,null,null,null,null,null,null,null,null,null,null,null,null,null,null,null,""]
[{"$f":"IF(#REF!>\"\",D341&\"_\"&#REF!&\"_\"&B341,\"\")","v":{"$error":"#REF!"}},{"$f":"IF(#REF!=\"\",\"\",COUNTIF(#REF!,\">\"\"\"))","v":{"$error":"#REF!"}},null,{"$f":"IFERROR(VLOOKUP(C341,Hidden_Словник!$A$2:$C$100,3,FALSE),\"\")","v":""},null,null,null,null,null,null,null,null,null,null,null,null,null,null,null,null,null,null,""]
[{"$f":"IF(#REF!>\"\",D342&\"_\"&#REF!&\"_\"&B342,\"\")","v":{"$error":"#REF!"}},{"$f":"IF(#REF!=\"\",\"\",COUNTIF(#REF!,\">\"\"\"))","v":{"$error":"#REF!"}},null,{"$f":"IFERROR(VLOOKUP(C342,Hidden_Словник!$A$2:$C$100,3,FALSE),\"\")","v":""},null,null,null,null,null,null,null,null,null,null,null,null,null,null,null,null,null,null,""]
[{"$f":"IF(#REF!>\"\",D343&\"_\"&#REF!&\"_\"&B343,\"\")","v":{"$error":"#REF!"}},{"$f":"IF(#REF!=\"\",\"\",COUNTIF(#REF!,\">\"\"\"))","v":{"$error":"#REF!"}},null,{"$f":"IFERROR(VLOOKUP(C343,Hidden_Словник!$A$2:$C$100,3,FALSE),\"\")","v":""},null,null,null,null,null,null,null,null,null,null,null,null,null,null,null,null,null,null,""]
[{"$f":"IF(#REF!>\"\",D344&\"_\"&#REF!&\"_\"&B344,\"\")","v":{"$error":"#REF!"}},{"$f":"IF(#REF!=\"\",\"\",COUNTIF(#REF!,\">\"\"\"))","v":{"$error":"#REF!"}},null,{"$f":"IFERROR(VLOOKUP(C344,Hidden_Словник!$A$2:$C$100,3,FALSE),\"\")","v":""},null,null,null,null,null,null,null,null,null,null,null,null,null,null,null,null,null,null,""]
[{"$f":"IF(#REF!>\"\",D345&\"_\"&#REF!&\"_\"&B345,\"\")","v":{"$error":"#REF!"}},{"$f":"IF(#REF!=\"\",\"\",COUNTIF(#REF!,\">\"\"\"))","v":{"$error":"#REF!"}},null,{"$f":"IFERROR(VLOOKUP(C345,Hidden_Словник!$A$2:$C$100,3,FALSE),\"\")","v":""},null,null,null,null,null,null,null,null,null,null,null,null,null,null,null,null,null,null,""]
[{"$f":"IF(#REF!>\"\",D346&\"_\"&#REF!&\"_\"&B346,\"\")","v":{"$error":"#REF!"}},{"$f":"IF(#REF!=\"\",\"\",COUNTIF(#REF!,\">\"\"\"))","v":{"$error":"#REF!"}},null,{"$f":"IFERROR(VLOOKUP(C346,Hidden_Словник!$A$2:$C$100,3,FALSE),\"\")","v":""},null,null,null,null,null,null,null,null,null,null,null,null,null,null,null,null,null,null,""]
[{"$f":"IF(#REF!>\"\",D347&\"_\"&#REF!&\"_\"&B347,\"\")","v":{"$error":"#REF!"}},{"$f":"IF(#REF!=\"\",\"\",COUNTIF(#REF!,\">\"\"\"))","v":{"$error":"#REF!"}},null,{"$f":"IFERROR(VLOOKUP(C347,Hidden_Словник!$A$2:$C$100,3,FALSE),\"\")","v":""},null,null,null,null,null,null,null,null,null,null,null,null,null,null,null,null,null,null,""]
[{"$f":"IF(#REF!>\"\",D348&\"_\"&#REF!&\"_\"&B348,\"\")","v":{"$error":"#REF!"}},{"$f":"IF(#REF!=\"\",\"\",COUNTIF(#REF!,\">\"\"\"))","v":{"$error":"#REF!"}},null,{"$f":"IFERROR(VLOOKUP(C348,Hidden_Словник!$A$2:$C$100,3,FALSE),\"\")","v":""},null,null,null,null,null,null,null,null,null,null,null,null,null,null,null,null,null,null,""]
[{"$f":"IF(#REF!>\"\",D349&\"_\"&#REF!&\"_\"&B349,\"\")","v":{"$error":"#REF!"}},{"$f":"IF(#REF!=\"\",\"\",COUNTIF(#REF!,\">\"\"\"))","v":{"$error":"#REF!"}},null,{"$f":"IFERROR(VLOOKUP(C349,Hidden_Словник!$A$2:$C$100,3,FALSE),\"\")","v":""},null,null,null,null,null,null,null,null,null,null,null,null,null,null,null,null,null,null,""]
[{"$f":"IF(#REF!>\"\",D350&\"_\"&#REF!&\"_\"&B350,\"\")","v":{"$error":"#REF!"}},{"$f":"IF(#REF!=\"\",\"\",COUNTIF(#REF!,\">\"\"\"))","v":{"$error":"#REF!"}},null,{"$f":"IFERROR(VLOOKUP(C350,Hidden_Словник!$A$2:$C$100,3,FALSE),\"\")","v":""},null,null,null,null,null,null,null,null,null,null,null,null,null,null,null,null,null,null,""]
[{"$f":"IF(#REF!>\"\",D351&\"_\"&#REF!&\"_\"&B351,\"\")","v":{"$error":"#REF!"}},{"$f":"IF(#REF!=\"\",\"\",COUNTIF(#REF!,\">\"\"\"))","v":{"$error":"#REF!"}},null,{"$f":"IFERROR(VLOOKUP(C351,Hidden_Словник!$A$2:$C$100,3,FALSE),\"\")","v":""},null,null,null,null,null,null,null,null,null,null,null,null,null,null,null,null,null,null,""]
[{"$f":"IF(#REF!>\"\",D352&\"_\"&#REF!&\"_\"&B352,\"\")","v":{"$error":"#REF!"}},{"$f":"IF(#REF!=\"\",\"\",COUNTIF(#REF!,\">\"\"\"))","v":{"$error":"#REF!"}},null,{"$f":"IFERROR(VLOOKUP(C352,Hidden_Словник!$A$2:$C$100,3,FALSE),\"\")","v":""},null,null,null,null,null,null,null,null,null,null,null,null,null,null,null,null,null,null,""]
[{"$f":"IF(#REF!>\"\",D353&\"_\"&#REF!&\"_\"&B353,\"\")","v":{"$error":"#REF!"}},{"$f":"IF(#REF!=\"\",\"\",COUNTIF(#REF!,\">\"\"\"))","v":{"$error":"#REF!"}},null,{"$f":"IFERROR(VLOOKUP(C353,Hidden_Словник!$A$2:$C$100,3,FALSE),\"\")","v":""},null,null,null,null,null,null,null,null,null,null,null,null,null,null,null,null,null,null,""]
[{"$f":"IF(#REF!>\"\",D354&\"_\"&#REF!&\"_\"&B354,\"\")","v":{"$error":"#REF!"}},{"$f":"IF(#REF!=\"\",\"\",COUNTIF(#REF!,\">\"\"\"))","v":{"$error":"#REF!"}},null,{"$f":"IFERROR(VLOOKUP(C354,Hidden_Словник!$A$2:$C$100,3,FALSE),\"\")","v":""},null,null,null,null,null,null,null,null,null,null,null,null,null,null,null,null,null,null,""]
[{"$f":"IF(#REF!>\"\",D355&\"_\"&#REF!&\"_\"&B355,\"\")","v":{"$error":"#REF!"}},{"$f":"IF(#REF!=\"\",\"\",COUNTIF(#REF!,\">\"\"\"))","v":{"$error":"#REF!"}},null,{"$f":"IFERROR(VLOOKUP(C355,Hidden_Словник!$A$2:$C$100,3,FALSE),\"\")","v":""},null,null,null,null,null,null,null,null,null,null,null,null,null,null,null,null,null,null,""]
[{"$f":"IF(#REF!>\"\",D356&\"_\"&#REF!&\"_\"&B356,\"\")","v":{"$error":"#REF!"}},{"$f":"IF(#REF!=\"\",\"\",COUNTIF(#REF!,\">\"\"\"))","v":{"$error":"#REF!"}},null,{"$f":"IFERROR(VLOOKUP(C356,Hidden_Словник!$A$2:$C$100,3,FALSE),\"\")","v":""},null,null,null,null,null,null,null,null,null,null,null,null,null,null,null,null,null,null,""]
[{"$f":"IF(#REF!>\"\",D357&\"_\"&#REF!&\"_\"&B357,\"\")","v":{"$error":"#REF!"}},{"$f":"IF(#REF!=\"\",\"\",COUNTIF(#REF!,\">\"\"\"))","v":{"$error":"#REF!"}},null,{"$f":"IFERROR(VLOOKUP(C357,Hidden_Словник!$A$2:$C$100,3,FALSE),\"\")","v":""},null,null,null,null,null,null,null,null,null,null,null,null,null,null,null,null,null,null,""]
[{"$f":"IF(#REF!>\"\",D358&\"_\"&#REF!&\"_\"&B358,\"\")","v":{"$error":"#REF!"}},{"$f":"IF(#REF!=\"\",\"\",COUNTIF(#REF!,\">\"\"\"))","v":{"$error":"#REF!"}},null,{"$f":"IFERROR(VLOOKUP(C358,Hidden_Словник!$A$2:$C$100,3,FALSE),\"\")","v":""},null,null,null,null,null,null,null,null,null,null,null,null,null,null,null,null,null,null,""]
[{"$f":"IF(#REF!>\"\",D359&\"_\"&#REF!&\"_\"&B359,\"\")","v":{"$error":"#REF!"}},{"$f":"IF(#REF!=\"\",\"\",COUNTIF(#REF!,\">\"\"\"))","v":{"$error":"#REF!"}},null,{"$f":"IFERROR(VLOOKUP(C359,Hidden_Словник!$A$2:$C$100,3,FALSE),\"\")","v":""},null,null,null,null,null,null,null,null,null,null,null,null,null,null,null,null,null,null,""]
[{"$f":"IF(#REF!>\"\",D360&\"_\"&#REF!&\"_\"&B360,\"\")","v":{"$error":"#REF!"}},{"$f":"IF(#REF!=\"\",\"\",COUNTIF(#REF!,\">\"\"\"))","v":{"$error":"#REF!"}},null,{"$f":"IFERROR(VLOOKUP(C360,Hidden_Словник!$A$2:$C$100,3,FALSE),\"\")","v":""},null,null,null,null,null,null,null,null,null,null,null,null,null,null,null,null,null,null,{"$f":"IF(X360+Y360>0,X360+Y360,\"\")","v":""}]
[{"$f":"IF(#REF!>\"\",D361&\"_\"&#REF!&\"_\"&B361,\"\")","v":{"$error":"#REF!"}},{"$f":"IF(#REF!=\"\",\"\",COUNTIF(#REF!,\">\"\"\"))","v":{"$error":"#REF!"}},null,{"$f":"IFERROR(VLOOKUP(C361,Hidden_Словник!$A$2:$C$100,3,FALSE),\"\")","v":""},null,null,null,null,null,null,null,null,null,null,null,null,null,null,null,null,null,null,""]
[{"$f":"IF(#REF!>\"\",D362&\"_\"&#REF!&\"_\"&B362,\"\")","v":{"$error":"#REF!"}},{"$f":"IF(#REF!=\"\",\"\",COUNTIF(#REF!,\">\"\"\"))","v":{"$error":"#REF!"}},null,{"$f":"IFERROR(VLOOKUP(C362,Hidden_Словник!$A$2:$C$100,3,FALSE),\"\")","v":""},null,null,null,null,null,null,null,null,null,null,null,null,null,null,null,null,null,null,""]
[{"$f":"IF(#REF!>\"\",D363&\"_\"&#REF!&\"_\"&B363,\"\")","v":{"$error":"#REF!"}},{"$f":"IF(#REF!=\"\",\"\",COUNTIF(#REF!,\">\"\"\"))","v":{"$error":"#REF!"}},null,{"$f":"IFERROR(VLOOKUP(C363,Hidden_Словник!$A$2:$C$100,3,FALSE),\"\")","v":""},null,null,null,null,null,null,null,null,null,null,null,null,null,null,null,null,null,null,""]
[{"$f":"IF(#REF!>\"\",D364&\"_\"&#REF!&\"_\"&B364,\"\")","v":{"$error":"#REF!"}},{"$f":"IF(#REF!=\"\",\"\",COUNTIF(#REF!,\">\"\"\"))","v":{"$error":"#REF!"}},null,{"$f":"IFERROR(VLOOKUP(C364,Hidden_Словник!$A$2:$C$100,3,FALSE),\"\")","v":""},null,null,null,null,null,null,null,null,null,null,null,null,null,null,null,null,null,null,""]
[{"$f":"IF(#REF!>\"\",D365&\"_\"&#REF!&\"_\"&B365,\"\")","v":{"$error":"#REF!"}},{"$f":"IF(#REF!=\"\",\"\",COUNTIF(#REF!,\">\"\"\"))","v":{"$error":"#REF!"}},null,{"$f":"IFERROR(VLOOKUP(C365,Hidden_Словник!$A$2:$C$100,3,FALSE),\"\")","v":""},null,null,null,null,null,null,null,null,null,null,null,null,null,null,null,null,null,null,""]
[{"$f":"IF(#REF!>\"\",D366&\"_\"&#REF!&\"_\"&B366,\"\")","v":{"$error":"#REF!"}},{"$f":"IF(#REF!=\"\",\"\",COUNTIF(#REF!,\">\"\"\"))","v":{"$error":"#REF!"}},null,{"$f":"IFERROR(VLOOKUP(C366,Hidden_Словник!$A$2:$C$100,3,FALSE),\"\")","v":""},null,null,null,null,null,null,null,null,null,null,null,null,null,null,null,null,null,null,""]
[{"$f":"IF(#REF!>\"\",D367&\"_\"&#REF!&\"_\"&B367,\"\")","v":{"$error":"#REF!"}},{"$f":"IF(#REF!=\"\",\"\",COUNTIF(#REF!,\">\"\"\"))","v":{"$error":"#REF!"}},null,{"$f":"IFERROR(VLOOKUP(C367,Hidden_Словник!$A$2:$C$100,3,FALSE),\"\")","v":""},null,null,null,null,null,null,null,null,null,null,null,null,null,null,null,null,null,null,""]
[{"$f":"IF(#REF!>\"\",D368&\"_\"&#REF!&\"_\"&B368,\"\")","v":{"$error":"#REF!"}},{"$f":"IF(#REF!=\"\",\"\",COUNTIF(#REF!,\">\"\"\"))","v":{"$error":"#REF!"}},null,{"$f":"IFERROR(VLOOKUP(C368,Hidden_Словник!$A$2:$C$100,3,FALSE),\"\")","v":""},null,null,null,null,null,null,null,null,null,null,null,null,null,null,null,null,null,null,""]
[{"$f":"IF(#REF!>\"\",D369&\"_\"&#REF!&\"_\"&B369,\"\")","v":{"$error":"#REF!"}},{"$f":"IF(#REF!=\"\",\"\",COUNTIF(#REF!,\">\"\"\"))","v":{"$error":"#REF!"}},null,{"$f":"IFERROR(VLOOKUP(C369,Hidden_Словник!$A$2:$C$100,3,FALSE),\"\")","v":""},null,null,null,null,null,null,null,null,null,null,null,null,null,null,null,null,null,null,""]
[{"$f":"IF(#REF!>\"\",D370&\"_\"&#REF!&\"_\"&B370,\"\")","v":{"$error":"#REF!"}},{"$f":"IF(#REF!=\"\",\"\",COUNTIF(#REF!,\">\"\"\"))","v":{"$error":"#REF!"}},null,{"$f":"IFERROR(VLOOKUP(C370,Hidden_Словник!$A$2:$C$100,3,FALSE),\"\")","v":""},null,null,null,null,null,null,null,null,null,null,null,null,null,null,null,null,null,null,""]
[{"$f":"IF(#REF!>\"\",D371&\"_\"&#REF!&\"_\"&B371,\"\")","v":{"$error":"#REF!"}},{"$f":"IF(#REF!=\"\",\"\",COUNTIF(#REF!,\">\"\"\"))","v":{"$error":"#REF!"}},null,{"$f":"IFERROR(VLOOKUP(C371,Hidden_Словник!$A$2:$C$100,3,FALSE),\"\")","v":""},null,null,null,null,null,null,null,null,null,null,null,null,null,null,null,null,null,null,""]
[{"$f":"IF(#REF!>\"\",D372&\"_\"&#REF!&\"_\"&B372,\"\")","v":{"$error":"#REF!"}},{"$f":"IF(#REF!=\"\",\"\",COUNTIF(#REF!,\">\"\"\"))","v":{"$error":"#REF!"}},null,{"$f":"IFERROR(VLOOKUP(C372,Hidden_Словник!$A$2:$C$100,3,FALSE),\"\")","v":""},null,null,null,null,null,null,null,null,null,null,null,null,null,null,null,null,null,null,""]
[{"$f":"IF(#REF!>\"\",D373&\"_\"&#REF!&\"_\"&B373,\"\")","v":{"$error":"#REF!"}},{"$f":"IF(#REF!=\"\",\"\",COUNTIF(#REF!,\">\"\"\"))","v":{"$error":"#REF!"}},null,{"$f":"IFERROR(VLOOKUP(C373,Hidden_Словник!$A$2:$C$100,3,FALSE),\"\")","v":""},null,null,null,null,null,null,null,null,null,null,null,null,null,null,null,null,null,null,""]
[{"$f":"IF(#REF!>\"\",D374&\"_\"&#REF!&\"_\"&B374,\"\")","v":{"$error":"#REF!"}},{"$f":"IF(#REF!=\"\",\"\",COUNTIF(#REF!,\">\"\"\"))","v":{"$error":"#REF!"}},null,{"$f":"IFERROR(VLOOKUP(C374,Hidden_Словник!$A$2:$C$100,3,FALSE),\"\")","v":""},null,null,null,null,null,null,null,null,null,null,null,null,null,null,null,null,null,null,""]
[{"$f":"IF(#REF!>\"\",D375&\"_\"&#REF!&\"_\"&B375,\"\")","v":{"$error":"#REF!"}},{"$f":"IF(#REF!=\"\",\"\",COUNTIF(#REF!,\">\"\"\"))","v":{"$error":"#REF!"}},null,{"$f":"IFERROR(VLOOKUP(C375,Hidden_Словник!$A$2:$C$100,3,FALSE),\"\")","v":""},null,null,null,null,null,null,null,null,null,null,null,null,null,null,null,null,null,null,""]
[{"$f":"IF(#REF!>\"\",D376&\"_\"&#REF!&\"_\"&B376,\"\")","v":{"$error":"#REF!"}},{"$f":"IF(#REF!=\"\",\"\",COUNTIF(#REF!,\">\"\"\"))","v":{"$error":"#REF!"}},null,{"$f":"IFERROR(VLOOKUP(C376,Hidden_Словник!$A$2:$C$100,3,FALSE),\"\")","v":""},null,null,null,null,null,null,null,null,null,null,null,null,null,null,null,null,null,null,""]
[{"$f":"IF(#REF!>\"\",D377&\"_\"&#REF!&\"_\"&B377,\"\")","v":{"$error":"#REF!"}},{"$f":"IF(#REF!=\"\",\"\",COUNTIF(#REF!,\">\"\"\"))","v":{"$error":"#REF!"}},null,{"$f":"IFERROR(VLOOKUP(C377,Hidden_Словник!$A$2:$C$100,3,FALSE),\"\")","v":""},null,null,null,null,null,null,null,null,null,null,null,null,null,null,null,null,null,null,""]
[{"$f":"IF(#REF!>\"\",D378&\"_\"&#REF!&\"_\"&B378,\"\")","v":{"$error":"#REF!"}},{"$f":"IF(#REF!=\"\",\"\",COUNTIF(#REF!,\">\"\"\"))","v":{"$error":"#REF!"}},null,{"$f":"IFERROR(VLOOKUP(C378,Hidden_Словник!$A$2:$C$100,3,FALSE),\"\")","v":""},null,null,null,null,null,null,null,null,null,null,null,null,null,null,null,null,null,null,""]
[{"$f":"IF(#REF!>\"\",D379&\"_\"&#REF!&\"_\"&B379,\"\")","v":{"$error":"#REF!"}},{"$f":"IF(#REF!=\"\",\"\",COUNTIF(#REF!,\">\"\"\"))","v":{"$error":"#REF!"}},null,{"$f":"IFERROR(VLOOKUP(C379,Hidden_Словник!$A$2:$C$100,3,FALSE),\"\")","v":""},null,null,null,null,null,null,null,null,null,null,null,null,null,null,null,null,null,null,""]
[{"$f":"IF(#REF!>\"\",D380&\"_\"&#REF!&\"_\"&B380,\"\")","v":{"$error":"#REF!"}},{"$f":"IF(#REF!=\"\",\"\",COUNTIF(#REF!,\">\"\"\"))","v":{"$error":"#REF!"}},null,{"$f":"IFERROR(VLOOKUP(C380,Hidden_Словник!$A$2:$C$100,3,FALSE),\"\")","v":""},null,null,null,null,null,null,null,null,null,null,null,null,null,null,null,null,null,null,""]
[{"$f":"IF(#REF!>\"\",D381&\"_\"&#REF!&\"_\"&B381,\"\")","v":{"$error":"#REF!"}},{"$f":"IF(#REF!=\"\",\"\",COUNTIF(#REF!,\">\"\"\"))","v":{"$error":"#REF!"}},null,{"$f":"IFERROR(VLOOKUP(C381,Hidden_Словник!$A$2:$C$100,3,FALSE),\"\")","v":""},null,null,null,null,null,null,null,null,null,null,null,null,null,null,null,null,null,null,""]
[{"$f":"IF(#REF!>\"\",D382&\"_\"&#REF!&\"_\"&B382,\"\")","v":{"$error":"#REF!"}},{"$f":"IF(#REF!=\"\",\"\",COUNTIF(#REF!,\">\"\"\"))","v":{"$error":"#REF!"}},null,{"$f":"IFERROR(VLOOKUP(C382,Hidden_Словник!$A$2:$C$100,3,FALSE),\"\")","v":""},null,null,null,null,null,null,null,null,null,null,null,null,null,null,null,null,null,null,""]
[{"$f":"IF(#REF!>\"\",D383&\"_\"&#REF!&\"_\"&B383,\"\")","v":{"$error":"#REF!"}},{"$f":"IF(#REF!=\"\",\"\",COUNTIF(#REF!,\">\"\"\"))","v":{"$error":"#REF!"}},null,{"$f":"IFERROR(VLOOKUP(C383,Hidden_Словник!$A$2:$C$100,3,FALSE),\"\")","v":""},null,null,null,null,null,null,null,null,null,null,null,null,null,null,null,null,null,null,""]
[{"$f":"IF(#REF!>\"\",D384&\"_\"&#REF!&\"_\"&B384,\"\")","v":{"$error":"#REF!"}},{"$f":"IF(#REF!=\"\",\"\",COUNTIF(#REF!,\">\"\"\"))","v":{"$error":"#REF!"}},null,{"$f":"IFERROR(VLOOKUP(C384,Hidden_Словник!$A$2:$C$100,3,FALSE),\"\")","v":""},null,null,null,null,null,null,null,null,null,null,null,null,null,null,null,null,null,null,""]
[{"$f":"IF(#REF!>\"\",D385&\"_\"&#REF!&\"_\"&B385,\"\")","v":{"$error":"#REF!"}},{"$f":"IF(#REF!=\"\",\"\",COUNTIF(#REF!,\">\"\"\"))","v":{"$error":"#REF!"}},null,{"$f":"IFERROR(VLOOKUP(C385,Hidden_Словник!$A$2:$C$100,3,FALSE),\"\")","v":""},null,null,null,null,null,null,null,null,null,null,null,null,null,null,null,null,null,null,""]
[{"$f":"IF(#REF!>\"\",D386&\"_\"&#REF!&\"_\"&B386,\"\")","v":{"$error":"#REF!"}},{"$f":"IF(#REF!=\"\",\"\",COUNTIF(#REF!,\">\"\"\"))","v":{"$error":"#REF!"}},null,{"$f":"IFERROR(VLOOKUP(C386,Hidden_Словник!$A$2:$C$100,3,FALSE),\"\")","v":""},null,null,null,null,null,null,null,null,null,null,null,null,null,null,null,null,null,null,""]
[{"$f":"IF(#REF!>\"\",D387&\"_\"&#REF!&\"_\"&B387,\"\")","v":{"$error":"#REF!"}},{"$f":"IF(#REF!=\"\",\"\",COUNTIF(#REF!,\">\"\"\"))","v":{"$error":"#REF!"}},null,{"$f":"IFERROR(VLOOKUP(C387,Hidden_Словник!$A$2:$C$100,3,FALSE),\"\")","v":""},null,null,null,null,null,null,null,null,null,null,null,null,null,null,null,null,null,null,""]
[{"$f":"IF(#REF!>\"\",D388&\"_\"&#REF!&\"_\"&B388,\"\")","v":{"$error":"#REF!"}},{"$f":"IF(#REF!=\"\",\"\",COUNTIF(#REF!,\">\"\"\"))","v":{"$error":"#REF!"}},null,{"$f":"IFERROR(VLOOKUP(C388,Hidden_Словник!$A$2:$C$100,3,FALSE),\"\")","v":""},null,null,null,null,null,null,null,null,null,null,null,null,null,null,null,null,null,null,""]
[{"$f":"IF(#REF!>\"\",D389&\"_\"&#REF!&\"_\"&B389,\"\")","v":{"$error":"#REF!"}},{"$f":"IF(#REF!=\"\",\"\",COUNTIF(#REF!,\">\"\"\"))","v":{"$error":"#REF!"}},null,{"$f":"IFERROR(VLOOKUP(C389,Hidden_Словник!$A$2:$C$100,3,FALSE),\"\")","v":""},null,null,null,null,null,null,null,null,null,null,null,null,null,null,null,null,null,null,""]
[{"$f":"IF(#REF!>\"\",D390&\"_\"&#REF!&\"_\"&B390,\"\")","v":{"$error":"#REF!"}},{"$f":"IF(#REF!=\"\",\"\",COUNTIF(#REF!,\">\"\"\"))","v":{"$error":"#REF!"}},null,{"$f":"IFERROR(VLOOKUP(C390,Hidden_Словник!$A$2:$C$100,3,FALSE),\"\")","v":""},null,null,null,null,null,null,null,null,null,null,null,null,null,null,null,null,null,null,""]
[{"$f":"IF(#REF!>\"\",D391&\"_\"&#REF!&\"_\"&B391,\"\")","v":{"$error":"#REF!"}},{"$f":"IF(#REF!=\"\",\"\",COUNTIF(#REF!,\">\"\"\"))","v":{"$error":"#REF!"}},null,{"$f":"IFERROR(VLOOKUP(C391,Hidden_Словник!$A$2:$C$100,3,FALSE),\"\")","v":""},null,null,null,null,null,null,null,null,null,null,null,null,null,null,null,null,null,null,""]
[{"$f":"IF(#REF!>\"\",D392&\"_\"&#REF!&\"_\"&B392,\"\")","v":{"$error":"#REF!"}},{"$f":"IF(#REF!=\"\",\"\",COUNTIF(#REF!,\">\"\"\"))","v":{"$error":"#REF!"}},null,{"$f":"IFERROR(VLOOKUP(C392,Hidden_Словник!$A$2:$C$100,3,FALSE),\"\")","v":""},null,null,null,null,null,null,null,null,null,null,null,null,null,null,null,null,null,null,""]
[{"$f":"IF(#REF!>\"\",D393&\"_\"&#REF!&\"_\"&B393,\"\")","v":{"$error":"#REF!"}},{"$f":"IF(#REF!=\"\",\"\",COUNTIF(#REF!,\">\"\"\"))","v":{"$error":"#REF!"}},null,{"$f":"IFERROR(VLOOKUP(C393,Hidden_Словник!$A$2:$C$100,3,FALSE),\"\")","v":""},null,null,null,null,null,null,null,null,null,null,null,null,null,null,null,null,null,null,""]
[{"$f":"IF(#REF!>\"\",D394&\"_\"&#REF!&\"_\"&B394,\"\")","v":{"$error":"#REF!"}},{"$f":"IF(#REF!=\"\",\"\",COUNTIF(#REF!,\">\"\"\"))","v":{"$error":"#REF!"}},null,{"$f":"IFERROR(VLOOKUP(C394,Hidden_Словник!$A$2:$C$100,3,FALSE),\"\")","v":""},null,null,null,null,null,null,null,null,null,null,null,null,null,null,null,null,null,null,""]
[{"$f":"IF(#REF!>\"\",D395&\"_\"&#REF!&\"_\"&B395,\"\")","v":{"$error":"#REF!"}},{"$f":"IF(#REF!=\"\",\"\",COUNTIF(#REF!,\">\"\"\"))","v":{"$error":"#REF!"}},null,{"$f":"IFERROR(VLOOKUP(C395,Hidden_Словник!$A$2:$C$100,3,FALSE),\"\")","v":""},null,null,null,null,null,null,null,null,null,null,null,null,null,null,null,null,null,null,""]
[{"$f":"IF(#REF!>\"\",D396&\"_\"&#REF!&\"_\"&B396,\"\")","v":{"$error":"#REF!"}},{"$f":"IF(#REF!=\"\",\"\",COUNTIF(#REF!,\">\"\"\"))","v":{"$error":"#REF!"}},null,{"$f":"IFERROR(VLOOKUP(C396,Hidden_Словник!$A$2:$C$100,3,FALSE),\"\")","v":""},null,null,null,null,null,null,null,null,null,null,null,null,null,null,null,null,null,null,""]
[{"$f":"IF(#REF!>\"\",D397&\"_\"&#REF!&\"_\"&B397,\"\")","v":{"$error":"#REF!"}},{"$f":"IF(#REF!=\"\",\"\",COUNTIF(#REF!,\">\"\"\"))","v":{"$error":"#REF!"}},null,{"$f":"IFERROR(VLOOKUP(C397,Hidden_Словник!$A$2:$C$100,3,FALSE),\"\")","v":""},null,null,null,null,null,null,null,null,null,null,null,null,null,null,null,null,null,null,""]
[{"$f":"IF(#REF!>\"\",D398&\"_\"&#REF!&\"_\"&B398,\"\")","v":{"$error":"#REF!"}},{"$f":"IF(#REF!=\"\",\"\",COUNTIF(#REF!,\">\"\"\"))","v":{"$error":"#REF!"}},null,{"$f":"IFERROR(VLOOKUP(C398,Hidden_Словник!$A$2:$C$100,3,FALSE),\"\")","v":""},null,null,null,null,null,null,null,null,null,null,null,null,null,null,null,null,null,null,""]
[{"$f":"IF(#REF!>\"\",D399&\"_\"&#REF!&\"_\"&B399,\"\")","v":{"$error":"#REF!"}},{"$f":"IF(#REF!=\"\",\"\",COUNTIF(#REF!,\">\"\"\"))","v":{"$error":"#REF!"}},null,{"$f":"IFERROR(VLOOKUP(C399,Hidden_Словник!$A$2:$C$100,3,FALSE),\"\")","v":""},null,null,null,null,null,null,null,null,null,null,null,null,null,null,null,null,null,null,""]
[{"$f":"IF(#REF!>\"\",D400&\"_\"&#REF!&\"_\"&B400,\"\")","v":{"$error":"#REF!"}},{"$f":"IF(#REF!=\"\",\"\",COUNTIF(#REF!,\">\"\"\"))","v":{"$error":"#REF!"}},null,{"$f":"IFERROR(VLOOKUP(C400,Hidden_Словник!$A$2:$C$100,3,FALSE),\"\")","v":""},null,null,null,null,null,null,null,null,null,null,null,null,null,null,null,null,null,null,""]
[{"$f":"IF(#REF!>\"\",D401&\"_\"&#REF!&\"_\"&B401,\"\")","v":{"$error":"#REF!"}},{"$f":"IF(#REF!=\"\",\"\",COUNTIF(#REF!,\">\"\"\"))","v":{"$error":"#REF!"}},null,{"$f":"IFERROR(VLOOKUP(C401,Hidden_Словник!$A$2:$C$100,3,FALSE),\"\")","v":""},null,null,null,null,null,null,null,null,null,null,null,null,null,null,null,null,null,null,""]
[{"$f":"IF(#REF!>\"\",D402&\"_\"&#REF!&\"_\"&B402,\"\")","v":{"$error":"#REF!"}},{"$f":"IF(#REF!=\"\",\"\",COUNTIF(#REF!,\">\"\"\"))","v":{"$error":"#REF!"}},null,{"$f":"IFERROR(VLOOKUP(C402,Hidden_Словник!$A$2:$C$100,3,FALSE),\"\")","v":""},null,null,null,null,null,null,null,null,null,null,null,null,null,null,null,null,null,null,""]
[{"$f":"IF(#REF!>\"\",D403&\"_\"&#REF!&\"_\"&B403,\"\")","v":{"$error":"#REF!"}},{"$f":"IF(#REF!=\"\",\"\",COUNTIF(#REF!,\">\"\"\"))","v":{"$error":"#REF!"}},null,{"$f":"IFERROR(VLOOKUP(C403,Hidden_Словник!$A$2:$C$100,3,FALSE),\"\")","v":""},null,null,null,null,null,null,null,null,null,null,null,null,null,null,null,null,null,null,""]
[{"$f":"IF(#REF!>\"\",D404&\"_\"&#REF!&\"_\"&B404,\"\")","v":{"$error":"#REF!"}},{"$f":"IF(#REF!=\"\",\"\",COUNTIF(#REF!,\">\"\"\"))","v":{"$error":"#REF!"}},null,{"$f":"IFERROR(VLOOKUP(C404,Hidden_Словник!$A$2:$C$100,3,FALSE),\"\")","v":""},null,null,null,null,null,null,null,null,null,null,null,null,null,null,null,null,null,null,""]
[{"$f":"IF(#REF!>\"\",D405&\"_\"&#REF!&\"_\"&B405,\"\")","v":{"$error":"#REF!"}},{"$f":"IF(#REF!=\"\",\"\",COUNTIF(#REF!,\">\"\"\"))","v":{"$error":"#REF!"}},null,{"$f":"IFERROR(VLOOKUP(C405,Hidden_Словник!$A$2:$C$100,3,FALSE),\"\")","v":""},null,null,null,null,null,null,null,null,null,null,null,null,null,null,null,null,null,null,""]
[{"$f":"IF(#REF!>\"\",D406&\"_\"&#REF!&\"_\"&B406,\"\")","v":{"$error":"#REF!"}},{"$f":"IF(#REF!=\"\",\"\",COUNTIF(#REF!,\">\"\"\"))","v":{"$error":"#REF!"}},null,{"$f":"IFERROR(VLOOKUP(C406,Hidden_Словник!$A$2:$C$100,3,FALSE),\"\")","v":""},null,null,null,null,null,null,null,null,null,null,null,null,null,null,null,null,null,null,""]
[{"$f":"IF(#REF!>\"\",D407&\"_\"&#REF!&\"_\"&B407,\"\")","v":{"$error":"#REF!"}},{"$f":"IF(#REF!=\"\",\"\",COUNTIF(#REF!,\">\"\"\"))","v":{"$error":"#REF!"}},null,{"$f":"IFERROR(VLOOKUP(C407,Hidden_Словник!$A$2:$C$100,3,FALSE),\"\")","v":""},null,null,null,null,null,null,null,null,null,null,null,null,null,null,null,null,null,null,""]
[{"$f":"IF(#REF!>\"\",D408&\"_\"&#REF!&\"_\"&B408,\"\")","v":{"$error":"#REF!"}},{"$f":"IF(#REF!=\"\",\"\",COUNTIF(#REF!,\">\"\"\"))","v":{"$error":"#REF!"}},null,{"$f":"IFERROR(VLOOKUP(C408,Hidden_Словник!$A$2:$C$100,3,FALSE),\"\")","v":""},null,null,null,null,null,null,null,null,null,null,null,null,null,null,null,null,null,null,""]
[{"$f":"IF(#REF!>\"\",D409&\"_\"&#REF!&\"_\"&B409,\"\")","v":{"$error":"#REF!"}},{"$f":"IF(#REF!=\"\",\"\",COUNTIF(#REF!,\">\"\"\"))","v":{"$error":"#REF!"}},null,{"$f":"IFERROR(VLOOKUP(C409,Hidden_Словник!$A$2:$C$100,3,FALSE),\"\")","v":""},null,null,null,null,null,null,null,null,null,null,null,null,null,null,null,null,null,null,""]
[{"$f":"IF(#REF!>\"\",D410&\"_\"&#REF!&\"_\"&B410,\"\")","v":{"$error":"#REF!"}},{"$f":"IF(#REF!=\"\",\"\",COUNTIF(#REF!,\">\"\"\"))","v":{"$error":"#REF!"}},null,{"$f":"IFERROR(VLOOKUP(C410,Hidden_Словник!$A$2:$C$100,3,FALSE),\"\")","v":""},null,null,null,null,null,null,null,null,null,null,null,null,null,null,null,null,null,null,""]
[{"$f":"IF(#REF!>\"\",D411&\"_\"&#REF!&\"_\"&B411,\"\")","v":{"$error":"#REF!"}},{"$f":"IF(#REF!=\"\",\"\",COUNTIF(#REF!,\">\"\"\"))","v":{"$error":"#REF!"}},null,{"$f":"IFERROR(VLOOKUP(C411,Hidden_Словник!$A$2:$C$100,3,FALSE),\"\")","v":""},null,null,null,null,null,null,null,null,null,null,null,null,null,null,null,null,null,null,""]
[{"$f":"IF(#REF!>\"\",D412&\"_\"&#REF!&\"_\"&B412,\"\")","v":{"$error":"#REF!"}},{"$f":"IF(#REF!=\"\",\"\",COUNTIF(#REF!,\">\"\"\"))","v":{"$error":"#REF!"}},null,{"$f":"IFERROR(VLOOKUP(C412,Hidden_Словник!$A$2:$C$100,3,FALSE),\"\")","v":""},null,null,null,null,null,null,null,null,null,null,null,null,null,null,null,null,null,null,""]
[{"$f":"IF(#REF!>\"\",D413&\"_\"&#REF!&\"_\"&B413,\"\")","v":{"$error":"#REF!"}},{"$f":"IF(#REF!=\"\",\"\",COUNTIF(#REF!,\">\"\"\"))","v":{"$error":"#REF!"}},null,{"$f":"IFERROR(VLOOKUP(C413,Hidden_Словник!$A$2:$C$100,3,FALSE),\"\")","v":""},null,null,null,null,null,null,null,null,null,null,null,null,null,null,null,null,null,null,""]
[{"$f":"IF(#REF!>\"\",D414&\"_\"&#REF!&\"_\"&B414,\"\")","v":{"$error":"#REF!"}},{"$f":"IF(#REF!=\"\",\"\",COUNTIF(#REF!,\">\"\"\"))","v":{"$error":"#REF!"}},null,{"$f":"IFERROR(VLOOKUP(C414,Hidden_Словник!$A$2:$C$100,3,FALSE),\"\")","v":""},null,null,null,null,null,null,null,null,null,null,null,null,null,null,null,null,null,null,""]
[{"$f":"IF(#REF!>\"\",D415&\"_\"&#REF!&\"_\"&B415,\"\")","v":{"$error":"#REF!"}},{"$f":"IF(#REF!=\"\",\"\",COUNTIF(#REF!,\">\"\"\"))","v":{"$error":"#REF!"}},null,{"$f":"IFERROR(VLOOKUP(C415,Hidden_Словник!$A$2:$C$100,3,FALSE),\"\")","v":""},null,null,null,null,null,null,null,null,null,null,null,null,null,null,null,null,null,null,""]
[{"$f":"IF(#REF!>\"\",D416&\"_\"&#REF!&\"_\"&B416,\"\")","v":{"$error":"#REF!"}},{"$f":"IF(#REF!=\"\",\"\",COUNTIF(#REF!,\">\"\"\"))","v":{"$error":"#REF!"}},null,{"$f":"IFERROR(VLOOKUP(C416,Hidden_Словник!$A$2:$C$100,3,FALSE),\"\")","v":""},null,null,null,null,null,null,null,null,null,null,null,null,null,null,null,null,null,null,""]
[{"$f":"IF(#REF!>\"\",D417&\"_\"&#REF!&\"_\"&B417,\"\")","v":{"$error":"#REF!"}},{"$f":"IF(#REF!=\"\",\"\",COUNTIF(#REF!,\">\"\"\"))","v":{"$error":"#REF!"}},null,{"$f":"IFERROR(VLOOKUP(C417,Hidden_Словник!$A$2:$C$100,3,FALSE),\"\")","v":""},null,null,null,null,null,null,null,null,null,null,null,null,null,null,null,null,null,null,""]
[{"$f":"IF(#REF!>\"\",D418&\"_\"&#REF!&\"_\"&B418,\"\")","v":{"$error":"#REF!"}},{"$f":"IF(#REF!=\"\",\"\",COUNTIF(#REF!,\">\"\"\"))","v":{"$error":"#REF!"}},null,{"$f":"IFERROR(VLOOKUP(C418,Hidden_Словник!$A$2:$C$100,3,FALSE),\"\")","v":""},null,null,null,null,null,null,null,null,null,null,null,null,null,null,null,null,null,null,""]
[{"$f":"IF(#REF!>\"\",D419&\"_\"&#REF!&\"_\"&B419,\"\")","v":{"$error":"#REF!"}},{"$f":"IF(#REF!=\"\",\"\",COUNTIF(#REF!,\">\"\"\"))","v":{"$error":"#REF!"}},null,{"$f":"IFERROR(VLOOKUP(C419,Hidden_Словник!$A$2:$C$100,3,FALSE),\"\")","v":""},null,null,null,null,null,null,null,null,null,null,null,null,null,null,null,null,null,null,""]
[{"$f":"IF(#REF!>\"\",D420&\"_\"&#REF!&\"_\"&B420,\"\")","v":{"$error":"#REF!"}},{"$f":"IF(#REF!=\"\",\"\",COUNTIF(#REF!,\">\"\"\"))","v":{"$error":"#REF!"}},null,{"$f":"IFERROR(VLOOKUP(C420,Hidden_Словник!$A$2:$C$100,3,FALSE),\"\")","v":""},null,null,null,null,null,null,null,null,null,null,null,null,null,null,null,null,null,null,""]
[{"$f":"IF(#REF!>\"\",D421&\"_\"&#REF!&\"_\"&B421,\"\")","v":{"$error":"#REF!"}},{"$f":"IF(#REF!=\"\",\"\",COUNTIF(#REF!,\">\"\"\"))","v":{"$error":"#REF!"}},null,{"$f":"IFERROR(VLOOKUP(C421,Hidden_Словник!$A$2:$C$100,3,FALSE),\"\")","v":""},null,null,null,null,null,null,null,null,null,null,null,null,null,null,null,null,null,null,""]
[{"$f":"IF(#REF!>\"\",D422&\"_\"&#REF!&\"_\"&B422,\"\")","v":{"$error":"#REF!"}},{"$f":"IF(#REF!=\"\",\"\",COUNTIF(#REF!,\">\"\"\"))","v":{"$error":"#REF!"}},null,{"$f":"IFERROR(VLOOKUP(C422,Hidden_Словник!$A$2:$C$100,3,FALSE),\"\")","v":""},null,null,null,null,null,null,null,null,null,null,null,null,null,null,null,null,null,null,""]
[{"$f":"IF(#REF!>\"\",D423&\"_\"&#REF!&\"_\"&B423,\"\")","v":{"$error":"#REF!"}},{"$f":"IF(#REF!=\"\",\"\",COUNTIF(#REF!,\">\"\"\"))","v":{"$error":"#REF!"}},null,{"$f":"IFERROR(VLOOKUP(C423,Hidden_Словник!$A$2:$C$100,3,FALSE),\"\")","v":""},null,null,null,null,null,null,null,null,null,null,null,null,null,null,null,null,null,null,""]
[{"$f":"IF(#REF!>\"\",D424&\"_\"&#REF!&\"_\"&B424,\"\")","v":{"$error":"#REF!"}},{"$f":"IF(#REF!=\"\",\"\",COUNTIF(#REF!,\">\"\"\"))","v":{"$error":"#REF!"}},null,{"$f":"IFERROR(VLOOKUP(C424,Hidden_Словник!$A$2:$C$100,3,FALSE),\"\")","v":""},null,null,null,null,null,null,null,null,null,null,null,null,null,null,null,null,null,null,{"$f":"IF(X424+Y424>0,X424+Y424,\"\")","v":""}]
[{"$f":"IF(#REF!>\"\",D425&\"_\"&#REF!&\"_\"&B425,\"\")","v":{"$error":"#REF!"}},{"$f":"IF(#REF!=\"\",\"\",COUNTIF(#REF!,\">\"\"\"))","v":{"$error":"#REF!"}},null,{"$f":"IFERROR(VLOOKUP(C425,Hidden_Словник!$A$2:$C$100,3,FALSE),\"\")","v":""},null,null,null,null,null,null,null,null,null,null,null,null,null,null,null,null,null,null,""]
[{"$f":"IF(#REF!>\"\",D426&\"_\"&#REF!&\"_\"&B426,\"\")","v":{"$error":"#REF!"}},{"$f":"IF(#REF!=\"\",\"\",COUNTIF(#REF!,\">\"\"\"))","v":{"$error":"#REF!"}},null,{"$f":"IFERROR(VLOOKUP(C426,Hidden_Словник!$A$2:$C$100,3,FALSE),\"\")","v":""},null,null,null,null,null,null,null,null,null,null,null,null,null,null,null,null,null,null,""]
[{"$f":"IF(#REF!>\"\",D427&\"_\"&#REF!&\"_\"&B427,\"\")","v":{"$error":"#REF!"}},{"$f":"IF(#REF!=\"\",\"\",COUNTIF(#REF!,\">\"\"\"))","v":{"$error":"#REF!"}},null,{"$f":"IFERROR(VLOOKUP(C427,Hidden_Словник!$A$2:$C$100,3,FALSE),\"\")","v":""},null,null,null,null,null,null,null,null,null,null,null,null,null,null,null,null,null,null,""]
[{"$f":"IF(#REF!>\"\",D428&\"_\"&#REF!&\"_\"&B428,\"\")","v":{"$error":"#REF!"}},{"$f":"IF(#REF!=\"\",\"\",COUNTIF(#REF!,\">\"\"\"))","v":{"$error":"#REF!"}},null,{"$f":"IFERROR(VLOOKUP(C428,Hidden_Словник!$A$2:$C$100,3,FALSE),\"\")","v":""},null,null,null,null,null,null,null,null,null,null,null,null,null,null,null,null,null,null,""]
[{"$f":"IF(#REF!>\"\",D429&\"_\"&#REF!&\"_\"&B429,\"\")","v":{"$error":"#REF!"}},{"$f":"IF(#REF!=\"\",\"\",COUNTIF(#REF!,\">\"\"\"))","v":{"$error":"#REF!"}},null,{"$f":"IFERROR(VLOOKUP(C429,Hidden_Словник!$A$2:$C$100,3,FALSE),\"\")","v":""},null,null,null,null,null,null,null,null,null,null,null,null,null,null,null,null,null,null,""]
[{"$f":"IF(#REF!>\"\",D430&\"_\"&#REF!&\"_\"&B430,\"\")","v":{"$error":"#REF!"}},{"$f":"IF(#REF!=\"\",\"\",COUNTIF(#REF!,\">\"\"\"))","v":{"$error":"#REF!"}},null,{"$f":"IFERROR(VLOOKUP(C430,Hidden_Словник!$A$2:$C$100,3,FALSE),\"\")","v":""},null,null,null,null,null,null,null,null,null,null,null,null,null,null,null,null,null,null,""]
[{"$f":"IF(#REF!>\"\",D431&\"_\"&#REF!&\"_\"&B431,\"\")","v":{"$error":"#REF!"}},{"$f":"IF(#REF!=\"\",\"\",COUNTIF(#REF!,\">\"\"\"))","v":{"$error":"#REF!"}},null,{"$f":"IFERROR(VLOOKUP(C431,Hidden_Словник!$A$2:$C$100,3,FALSE),\"\")","v":""},null,null,null,null,null,null,null,null,null,null,null,null,null,null,null,null,null,null,""]
[{"$f":"IF(#REF!>\"\",D432&\"_\"&#REF!&\"_\"&B432,\"\")","v":{"$error":"#REF!"}},{"$f":"IF(#REF!=\"\",\"\",COUNTIF(#REF!,\">\"\"\"))","v":{"$error":"#REF!"}},null,{"$f":"IFERROR(VLOOKUP(C432,Hidden_Словник!$A$2:$C$100,3,FALSE),\"\")","v":""},null,null,null,null,null,null,null,null,null,null,null,null,null,null,null,null,null,null,""]
[{"$f":"IF(#REF!>\"\",D433&\"_\"&#REF!&\"_\"&B433,\"\")","v":{"$error":"#REF!"}},{"$f":"IF(#REF!=\"\",\"\",COUNTIF(#REF!,\">\"\"\"))","v":{"$error":"#REF!"}},null,{"$f":"IFERROR(VLOOKUP(C433,Hidden_Словник!$A$2:$C$100,3,FALSE),\"\")","v":""},null,null,null,null,null,null,null,null,null,null,null,null,null,null,null,null,null,null,""]
[{"$f":"IF(#REF!>\"\",D434&\"_\"&#REF!&\"_\"&B434,\"\")","v":{"$error":"#REF!"}},{"$f":"IF(#REF!=\"\",\"\",COUNTIF(#REF!,\">\"\"\"))","v":{"$error":"#REF!"}},null,{"$f":"IFERROR(VLOOKUP(C434,Hidden_Словник!$A$2:$C$100,3,FALSE),\"\")","v":""},null,null,null,null,null,null,null,null,null,null,null,null,null,null,null,null,null,null,""]
[{"$f":"IF(#REF!>\"\",D435&\"_\"&#REF!&\"_\"&B435,\"\")","v":{"$error":"#REF!"}},{"$f":"IF(#REF!=\"\",\"\",COUNTIF(#REF!,\">\"\"\"))","v":{"$error":"#REF!"}},null,{"$f":"IFERROR(VLOOKUP(C435,Hidden_Словник!$A$2:$C$100,3,FALSE),\"\")","v":""},null,null,null,null,null,null,null,null,null,null,null,null,null,null,null,null,null,null,""]
[{"$f":"IF(#REF!>\"\",D436&\"_\"&#REF!&\"_\"&B436,\"\")","v":{"$error":"#REF!"}},{"$f":"IF(#REF!=\"\",\"\",COUNTIF(#REF!,\">\"\"\"))","v":{"$error":"#REF!"}},null,{"$f":"IFERROR(VLOOKUP(C436,Hidden_Словник!$A$2:$C$100,3,FALSE),\"\")","v":""},null,null,null,null,null,null,null,null,null,null,null,null,null,null,null,null,null,null,""]
[{"$f":"IF(#REF!>\"\",D437&\"_\"&#REF!&\"_\"&B437,\"\")","v":{"$error":"#REF!"}},{"$f":"IF(#REF!=\"\",\"\",COUNTIF(#REF!,\">\"\"\"))","v":{"$error":"#REF!"}},null,{"$f":"IFERROR(VLOOKUP(C437,Hidden_Словник!$A$2:$C$100,3,FALSE),\"\")","v":""},null,null,null,null,null,null,null,null,null,null,null,null,null,null,null,null,null,null,""]
[{"$f":"IF(#REF!>\"\",D438&\"_\"&#REF!&\"_\"&B438,\"\")","v":{"$error":"#REF!"}},{"$f":"IF(#REF!=\"\",\"\",COUNTIF(#REF!,\">\"\"\"))","v":{"$error":"#REF!"}},null,{"$f":"IFERROR(VLOOKUP(C438,Hidden_Словник!$A$2:$C$100,3,FALSE),\"\")","v":""},null,null,null,null,null,null,null,null,null,null,null,null,null,null,null,null,null,null,""]
[{"$f":"IF(#REF!>\"\",D439&\"_\"&#REF!&\"_\"&B439,\"\")","v":{"$error":"#REF!"}},{"$f":"IF(#REF!=\"\",\"\",COUNTIF(#REF!,\">\"\"\"))","v":{"$error":"#REF!"}},null,{"$f":"IFERROR(VLOOKUP(C439,Hidden_Словник!$A$2:$C$100,3,FALSE),\"\")","v":""},null,null,null,null,null,null,null,null,null,null,null,null,null,null,null,null,null,null,""]
[{"$f":"IF(#REF!>\"\",D440&\"_\"&#REF!&\"_\"&B440,\"\")","v":{"$error":"#REF!"}},{"$f":"IF(#REF!=\"\",\"\",COUNTIF(#REF!,\">\"\"\"))","v":{"$error":"#REF!"}},null,{"$f":"IFERROR(VLOOKUP(C440,Hidden_Словник!$A$2:$C$100,3,FALSE),\"\")","v":""},null,null,null,null,null,null,null,null,null,null,null,null,null,null,null,null,null,null,""]
[{"$f":"IF(#REF!>\"\",D441&\"_\"&#REF!&\"_\"&B441,\"\")","v":{"$error":"#REF!"}},{"$f":"IF(#REF!=\"\",\"\",COUNTIF(#REF!,\">\"\"\"))","v":{"$error":"#REF!"}},null,{"$f":"IFERROR(VLOOKUP(C441,Hidden_Словник!$A$2:$C$100,3,FALSE),\"\")","v":""},null,null,null,null,null,null,null,null,null,null,null,null,null,null,null,null,null,null,""]
[{"$f":"IF(#REF!>\"\",D442&\"_\"&#REF!&\"_\"&B442,\"\")","v":{"$error":"#REF!"}},{"$f":"IF(#REF!=\"\",\"\",COUNTIF(#REF!,\">\"\"\"))","v":{"$error":"#REF!"}},null,{"$f":"IFERROR(VLOOKUP(C442,Hidden_Словник!$A$2:$C$100,3,FALSE),\"\")","v":""},null,null,null,null,null,null,null,null,null,null,null,null,null,null,null,null,null,null,""]
[{"$f":"IF(#REF!>\"\",D443&\"_\"&#REF!&\"_\"&B443,\"\")","v":{"$error":"#REF!"}},{"$f":"IF(#REF!=\"\",\"\",COUNTIF(#REF!,\">\"\"\"))","v":{"$error":"#REF!"}},null,{"$f":"IFERROR(VLOOKUP(C443,Hidden_Словник!$A$2:$C$100,3,FALSE),\"\")","v":""},null,null,null,null,null,null,null,null,null,null,null,null,null,null,null,null,null,null,""]
[{"$f":"IF(#REF!>\"\",D444&\"_\"&#REF!&\"_\"&B444,\"\")","v":{"$error":"#REF!"}},{"$f":"IF(#REF!=\"\",\"\",COUNTIF(#REF!,\">\"\"\"))","v":{"$error":"#REF!"}},null,{"$f":"IFERROR(VLOOKUP(C444,Hidden_Словник!$A$2:$C$100,3,FALSE),\"\")","v":""},null,null,null,null,null,null,null,null,null,null,null,null,null,null,null,null,null,null,""]
[{"$f":"IF(#REF!>\"\",D445&\"_\"&#REF!&\"_\"&B445,\"\")","v":{"$error":"#REF!"}},{"$f":"IF(#REF!=\"\",\"\",COUNTIF(#REF!,\">\"\"\"))","v":{"$error":"#REF!"}},null,{"$f":"IFERROR(VLOOKUP(C445,Hidden_Словник!$A$2:$C$100,3,FALSE),\"\")","v":""},null,null,null,null,null,null,null,null,null,null,null,null,null,null,null,null,null,null,""]
[{"$f":"IF(#REF!>\"\",D446&\"_\"&#REF!&\"_\"&B446,\"\")","v":{"$error":"#REF!"}},{"$f":"IF(#REF!=\"\",\"\",COUNTIF(#REF!,\">\"\"\"))","v":{"$error":"#REF!"}},null,{"$f":"IFERROR(VLOOKUP(C446,Hidden_Словник!$A$2:$C$100,3,FALSE),\"\")","v":""},null,null,null,null,null,null,null,null,null,null,null,null,null,null,null,null,null,null,""]
[{"$f":"IF(#REF!>\"\",D447&\"_\"&#REF!&\"_\"&B447,\"\")","v":{"$error":"#REF!"}},{"$f":"IF(#REF!=\"\",\"\",COUNTIF(#REF!,\">\"\"\"))","v":{"$error":"#REF!"}},null,{"$f":"IFERROR(VLOOKUP(C447,Hidden_Словник!$A$2:$C$100,3,FALSE),\"\")","v":""},null,null,null,null,null,null,null,null,null,null,null,null,null,null,null,null,null,null,""]
[{"$f":"IF(#REF!>\"\",D448&\"_\"&#REF!&\"_\"&B448,\"\")","v":{"$error":"#REF!"}},{"$f":"IF(#REF!=\"\",\"\",COUNTIF(#REF!,\">\"\"\"))","v":{"$error":"#REF!"}},null,{"$f":"IFERROR(VLOOKUP(C448,Hidden_Словник!$A$2:$C$100,3,FALSE),\"\")","v":""},null,null,null,null,null,null,null,null,null,null,null,null,null,null,null,null,null,null,""]
[{"$f":"IF(#REF!>\"\",D449&\"_\"&#REF!&\"_\"&B449,\"\")","v":{"$error":"#REF!"}},{"$f":"IF(#REF!=\"\",\"\",COUNTIF(#REF!,\">\"\"\"))","v":{"$error":"#REF!"}},null,{"$f":"IFERROR(VLOOKUP(C449,Hidden_Словник!$A$2:$C$100,3,FALSE),\"\")","v":""},null,null,null,null,null,null,null,null,null,null,null,null,null,null,null,null,null,null,""]
[{"$f":"IF(#REF!>\"\",D450&\"_\"&#REF!&\"_\"&B450,\"\")","v":{"$error":"#REF!"}},{"$f":"IF(#REF!=\"\",\"\",COUNTIF(#REF!,\">\"\"\"))","v":{"$error":"#REF!"}},null,{"$f":"IFERROR(VLOOKUP(C450,Hidden_Словник!$A$2:$C$100,3,FALSE),\"\")","v":""},null,null,null,null,null,null,null,null,null,null,null,null,null,null,null,null,null,null,""]
[{"$f":"IF(#REF!>\"\",D451&\"_\"&#REF!&\"_\"&B451,\"\")","v":{"$error":"#REF!"}},{"$f":"IF(#REF!=\"\",\"\",COUNTIF(#REF!,\">\"\"\"))","v":{"$error":"#REF!"}},null,{"$f":"IFERROR(VLOOKUP(C451,Hidden_Словник!$A$2:$C$100,3,FALSE),\"\")","v":""},null,null,null,null,null,null,null,null,null,null,null,null,null,null,null,null,null,null,""]
[{"$f":"IF(#REF!>\"\",D452&\"_\"&#REF!&\"_\"&B452,\"\")","v":{"$error":"#REF!"}},{"$f":"IF(#REF!=\"\",\"\",COUNTIF(#REF!,\">\"\"\"))","v":{"$error":"#REF!"}},null,{"$f":"IFERROR(VLOOKUP(C452,Hidden_Словник!$A$2:$C$100,3,FALSE),\"\")","v":""},null,null,null,null,null,null,null,null,null,null,null,null,null,null,null,null,null,null,""]
[{"$f":"IF(#REF!>\"\",D453&\"_\"&#REF!&\"_\"&B453,\"\")","v":{"$error":"#REF!"}},{"$f":"IF(#REF!=\"\",\"\",COUNTIF(#REF!,\">\"\"\"))","v":{"$error":"#REF!"}},null,{"$f":"IFERROR(VLOOKUP(C453,Hidden_Словник!$A$2:$C$100,3,FALSE),\"\")","v":""},null,null,null,null,null,null,null,null,null,null,null,null,null,null,null,null,null,null,""]
[{"$f":"IF(#REF!>\"\",D454&\"_\"&#REF!&\"_\"&B454,\"\")","v":{"$error":"#REF!"}},{"$f":"IF(#REF!=\"\",\"\",COUNTIF(#REF!,\">\"\"\"))","v":{"$error":"#REF!"}},null,{"$f":"IFERROR(VLOOKUP(C454,Hidden_Словник!$A$2:$C$100,3,FALSE),\"\")","v":""},null,null,null,null,null,null,null,null,null,null,null,null,null,null,null,null,null,null,""]
[{"$f":"IF(#REF!>\"\",D455&\"_\"&#REF!&\"_\"&B455,\"\")","v":{"$error":"#REF!"}},{"$f":"IF(#REF!=\"\",\"\",COUNTIF(#REF!,\">\"\"\"))","v":{"$error":"#REF!"}},null,{"$f":"IFERROR(VLOOKUP(C455,Hidden_Словник!$A$2:$C$100,3,FALSE),\"\")","v":""},null,null,null,null,null,null,null,null,null,null,null,null,null,null,null,null,null,null,""]
[{"$f":"IF(#REF!>\"\",D456&\"_\"&#REF!&\"_\"&B456,\"\")","v":{"$error":"#REF!"}},{"$f":"IF(#REF!=\"\",\"\",COUNTIF(#REF!,\">\"\"\"))","v":{"$error":"#REF!"}},null,{"$f":"IFERROR(VLOOKUP(C456,Hidden_Словник!$A$2:$C$100,3,FALSE),\"\")","v":""},null,null,null,null,null,null,null,null,null,null,null,null,null,null,null,null,null,null,""]
[{"$f":"IF(#REF!>\"\",D457&\"_\"&#REF!&\"_\"&B457,\"\")","v":{"$error":"#REF!"}},{"$f":"IF(#REF!=\"\",\"\",COUNTIF(#REF!,\">\"\"\"))","v":{"$error":"#REF!"}},null,{"$f":"IFERROR(VLOOKUP(C457,Hidden_Словник!$A$2:$C$100,3,FALSE),\"\")","v":""},null,null,null,null,null,null,null,null,null,null,null,null,null,null,null,null,null,null,""]
[{"$f":"IF(#REF!>\"\",D458&\"_\"&#REF!&\"_\"&B458,\"\")","v":{"$error":"#REF!"}},{"$f":"IF(#REF!=\"\",\"\",COUNTIF(#REF!,\">\"\"\"))","v":{"$error":"#REF!"}},null,{"$f":"IFERROR(VLOOKUP(C458,Hidden_Словник!$A$2:$C$100,3,FALSE),\"\")","v":""},null,null,null,null,null,null,null,null,null,null,null,null,null,null,null,null,null,null,""]
[{"$f":"IF(#REF!>\"\",D459&\"_\"&#REF!&\"_\"&B459,\"\")","v":{"$error":"#REF!"}},{"$f":"IF(#REF!=\"\",\"\",COUNTIF(#REF!,\">\"\"\"))","v":{"$error":"#REF!"}},null,{"$f":"IFERROR(VLOOKUP(C459,Hidden_Словник!$A$2:$C$100,3,FALSE),\"\")","v":""},null,null,null,null,null,null,null,null,null,null,null,null,null,null,null,null,null,null,""]
[{"$f":"IF(#REF!>\"\",D460&\"_\"&#REF!&\"_\"&B460,\"\")","v":{"$error":"#REF!"}},{"$f":"IF(#REF!=\"\",\"\",COUNTIF(#REF!,\">\"\"\"))","v":{"$error":"#REF!"}},null,{"$f":"IFERROR(VLOOKUP(C460,Hidden_Словник!$A$2:$C$100,3,FALSE),\"\")","v":""},null,null,null,null,null,null,null,null,null,null,null,null,null,null,null,null,null,null,""]
[{"$f":"IF(#REF!>\"\",D461&\"_\"&#REF!&\"_\"&B461,\"\")","v":{"$error":"#REF!"}},{"$f":"IF(#REF!=\"\",\"\",COUNTIF(#REF!,\">\"\"\"))","v":{"$error":"#REF!"}},null,{"$f":"IFERROR(VLOOKUP(C461,Hidden_Словник!$A$2:$C$100,3,FALSE),\"\")","v":""},null,null,null,null,null,null,null,null,null,null,null,null,null,null,null,null,null,null,""]
[{"$f":"IF(#REF!>\"\",D462&\"_\"&#REF!&\"_\"&B462,\"\")","v":{"$error":"#REF!"}},{"$f":"IF(#REF!=\"\",\"\",COUNTIF(#REF!,\">\"\"\"))","v":{"$error":"#REF!"}},null,{"$f":"IFERROR(VLOOKUP(C462,Hidden_Словник!$A$2:$C$100,3,FALSE),\"\")","v":""},null,null,null,null,null,null,null,null,null,null,null,null,null,null,null,null,null,null,""]
[{"$f":"IF(#REF!>\"\",D463&\"_\"&#REF!&\"_\"&B463,\"\")","v":{"$error":"#REF!"}},{"$f":"IF(#REF!=\"\",\"\",COUNTIF(#REF!,\">\"\"\"))","v":{"$error":"#REF!"}},null,{"$f":"IFERROR(VLOOKUP(C463,Hidden_Словник!$A$2:$C$100,3,FALSE),\"\")","v":""},null,null,null,null,null,null,null,null,null,null,null,null,null,null,null,null,null,null,""]
[{"$f":"IF(#REF!>\"\",D464&\"_\"&#REF!&\"_\"&B464,\"\")","v":{"$error":"#REF!"}},{"$f":"IF(#REF!=\"\",\"\",COUNTIF(#REF!,\">\"\"\"))","v":{"$error":"#REF!"}},null,{"$f":"IFERROR(VLOOKUP(C464,Hidden_Словник!$A$2:$C$100,3,FALSE),\"\")","v":""},null,null,null,null,null,null,null,null,null,null,null,null,null,null,null,null,null,null,""]
[{"$f":"IF(#REF!>\"\",D465&\"_\"&#REF!&\"_\"&B465,\"\")","v":{"$error":"#REF!"}},{"$f":"IF(#REF!=\"\",\"\",COUNTIF(#REF!,\">\"\"\"))","v":{"$error":"#REF!"}},null,{"$f":"IFERROR(VLOOKUP(C465,Hidden_Словник!$A$2:$C$100,3,FALSE),\"\")","v":""},null,null,null,null,null,null,null,null,null,null,null,null,null,null,null,null,null,null,""]
[{"$f":"IF(#REF!>\"\",D466&\"_\"&#REF!&\"_\"&B466,\"\")","v":{"$error":"#REF!"}},{"$f":"IF(#REF!=\"\",\"\",COUNTIF(#REF!,\">\"\"\"))","v":{"$error":"#REF!"}},null,{"$f":"IFERROR(VLOOKUP(C466,Hidden_Словник!$A$2:$C$100,3,FALSE),\"\")","v":""},null,null,null,null,null,null,null,null,null,null,null,null,null,null,null,null,null,null,""]
[{"$f":"IF(#REF!>\"\",D467&\"_\"&#REF!&\"_\"&B467,\"\")","v":{"$error":"#REF!"}},{"$f":"IF(#REF!=\"\",\"\",COUNTIF(#REF!,\">\"\"\"))","v":{"$error":"#REF!"}},null,{"$f":"IFERROR(VLOOKUP(C467,Hidden_Словник!$A$2:$C$100,3,FALSE),\"\")","v":""},null,null,null,null,null,null,null,null,null,null,null,null,null,null,null,null,null,null,""]
[{"$f":"IF(#REF!>\"\",D468&\"_\"&#REF!&\"_\"&B468,\"\")","v":{"$error":"#REF!"}},{"$f":"IF(#REF!=\"\",\"\",COUNTIF(#REF!,\">\"\"\"))","v":{"$error":"#REF!"}},null,{"$f":"IFERROR(VLOOKUP(C468,Hidden_Словник!$A$2:$C$100,3,FALSE),\"\")","v":""},null,null,null,null,null,null,null,null,null,null,null,null,null,null,null,null,null,null,""]
[{"$f":"IF(#REF!>\"\",D469&\"_\"&#REF!&\"_\"&B469,\"\")","v":{"$error":"#REF!"}},{"$f":"IF(#REF!=\"\",\"\",COUNTIF(#REF!,\">\"\"\"))","v":{"$error":"#REF!"}},null,{"$f":"IFERROR(VLOOKUP(C469,Hidden_Словник!$A$2:$C$100,3,FALSE),\"\")","v":""},null,null,null,null,null,null,null,null,null,null,null,null,null,null,null,null,null,null,""]
[{"$f":"IF(#REF!>\"\",D470&\"_\"&#REF!&\"_\"&B470,\"\")","v":{"$error":"#REF!"}},{"$f":"IF(#REF!=\"\",\"\",COUNTIF(#REF!,\">\"\"\"))","v":{"$error":"#REF!"}},null,{"$f":"IFERROR(VLOOKUP(C470,Hidden_Словник!$A$2:$C$100,3,FALSE),\"\")","v":""},null,null,null,null,null,null,null,null,null,null,null,null,null,null,null,null,null,null,""]
[{"$f":"IF(#REF!>\"\",D471&\"_\"&#REF!&\"_\"&B471,\"\")","v":{"$error":"#REF!"}},{"$f":"IF(#REF!=\"\",\"\",COUNTIF(#REF!,\">\"\"\"))","v":{"$error":"#REF!"}},null,{"$f":"IFERROR(VLOOKUP(C471,Hidden_Словник!$A$2:$C$100,3,FALSE),\"\")","v":""},null,null,null,null,null,null,null,null,null,null,null,null,null,null,null,null,null,null,""]
[{"$f":"IF(#REF!>\"\",D472&\"_\"&#REF!&\"_\"&B472,\"\")","v":{"$error":"#REF!"}},{"$f":"IF(#REF!=\"\",\"\",COUNTIF(#REF!,\">\"\"\"))","v":{"$error":"#REF!"}},null,{"$f":"IFERROR(VLOOKUP(C472,Hidden_Словник!$A$2:$C$100,3,FALSE),\"\")","v":""},null,null,null,null,null,null,null,null,null,null,null,null,null,null,null,null,null,null,""]
[{"$f":"IF(#REF!>\"\",D473&\"_\"&#REF!&\"_\"&B473,\"\")","v":{"$error":"#REF!"}},{"$f":"IF(#REF!=\"\",\"\",COUNTIF(#REF!,\">\"\"\"))","v":{"$error":"#REF!"}},null,{"$f":"IFERROR(VLOOKUP(C473,Hidden_Словник!$A$2:$C$100,3,FALSE),\"\")","v":""},null,null,null,null,null,null,null,null,null,null,null,null,null,null,null,null,null,null,""]
[{"$f":"IF(#REF!>\"\",D474&\"_\"&#REF!&\"_\"&B474,\"\")","v":{"$error":"#REF!"}},{"$f":"IF(#REF!=\"\",\"\",COUNTIF(#REF!,\">\"\"\"))","v":{"$error":"#REF!"}},null,{"$f":"IFERROR(VLOOKUP(C474,Hidden_Словник!$A$2:$C$100,3,FALSE),\"\")","v":""},null,null,null,null,null,null,null,null,null,null,null,null,null,null,null,null,null,null,""]
[{"$f":"IF(#REF!>\"\",D475&\"_\"&#REF!&\"_\"&B475,\"\")","v":{"$error":"#REF!"}},{"$f":"IF(#REF!=\"\",\"\",COUNTIF(#REF!,\">\"\"\"))","v":{"$error":"#REF!"}},null,{"$f":"IFERROR(VLOOKUP(C475,Hidden_Словник!$A$2:$C$100,3,FALSE),\"\")","v":""},null,null,null,null,null,null,null,null,null,null,null,null,null,null,null,null,null,null,""]
[{"$f":"IF(#REF!>\"\",D476&\"_\"&#REF!&\"_\"&B476,\"\")","v":{"$error":"#REF!"}},{"$f":"IF(#REF!=\"\",\"\",COUNTIF(#REF!,\">\"\"\"))","v":{"$error":"#REF!"}},null,{"$f":"IFERROR(VLOOKUP(C476,Hidden_Словник!$A$2:$C$100,3,FALSE),\"\")","v":""},null,null,null,null,null,null,null,null,null,null,null,null,null,null,null,null,null,null,""]
[{"$f":"IF(#REF!>\"\",D477&\"_\"&#REF!&\"_\"&B477,\"\")","v":{"$error":"#REF!"}},{"$f":"IF(#REF!=\"\",\"\",COUNTIF(#REF!,\">\"\"\"))","v":{"$error":"#REF!"}},null,{"$f":"IFERROR(VLOOKUP(C477,Hidden_Словник!$A$2:$C$100,3,FALSE),\"\")","v":""},null,null,null,null,null,null,null,null,null,null,null,null,null,null,null,null,null,null,""]
[{"$f":"IF(#REF!>\"\",D478&\"_\"&#REF!&\"_\"&B478,\"\")","v":{"$error":"#REF!"}},{"$f":"IF(#REF!=\"\",\"\",COUNTIF(#REF!,\">\"\"\"))","v":{"$error":"#REF!"}},null,{"$f":"IFERROR(VLOOKUP(C478,Hidden_Словник!$A$2:$C$100,3,FALSE),\"\")","v":""},null,null,null,null,null,null,null,null,null,null,null,null,null,null,null,null,null,null,""]
[{"$f":"IF(#REF!>\"\",D479&\"_\"&#REF!&\"_\"&B479,\"\")","v":{"$error":"#REF!"}},{"$f":"IF(#REF!=\"\",\"\",COUNTIF(#REF!,\">\"\"\"))","v":{"$error":"#REF!"}},null,{"$f":"IFERROR(VLOOKUP(C479,Hidden_Словник!$A$2:$C$100,3,FALSE),\"\")","v":""},null,null,null,null,null,null,null,null,null,null,null,null,null,null,null,null,null,null,""]
[{"$f":"IF(#REF!>\"\",D480&\"_\"&#REF!&\"_\"&B480,\"\")","v":{"$error":"#REF!"}},{"$f":"IF(#REF!=\"\",\"\",COUNTIF(#REF!,\">\"\"\"))","v":{"$error":"#REF!"}},null,{"$f":"IFERROR(VLOOKUP(C480,Hidden_Словник!$A$2:$C$100,3,FALSE),\"\")","v":""},null,null,null,null,null,null,null,null,null,null,null,null,null,null,null,null,null,null,""]
[{"$f":"IF(#REF!>\"\",D481&\"_\"&#REF!&\"_\"&B481,\"\")","v":{"$error":"#REF!"}},{"$f":"IF(#REF!=\"\",\"\",COUNTIF(#REF!,\">\"\"\"))","v":{"$error":"#REF!"}},null,{"$f":"IFERROR(VLOOKUP(C481,Hidden_Словник!$A$2:$C$100,3,FALSE),\"\")","v":""},null,null,null,null,null,null,null,null,null,null,null,null,null,null,null,null,null,null,""]
[{"$f":"IF(#REF!>\"\",D482&\"_\"&#REF!&\"_\"&B482,\"\")","v":{"$error":"#REF!"}},{"$f":"IF(#REF!=\"\",\"\",COUNTIF(#REF!,\">\"\"\"))","v":{"$error":"#REF!"}},null,{"$f":"IFERROR(VLOOKUP(C482,Hidden_Словник!$A$2:$C$100,3,FALSE),\"\")","v":""},null,null,null,null,null,null,null,null,null,null,null,null,null,null,null,null,null,null,""]
[{"$f":"IF(#REF!>\"\",D483&\"_\"&#REF!&\"_\"&B483,\"\")","v":{"$error":"#REF!"}},{"$f":"IF(#REF!=\"\",\"\",COUNTIF(#REF!,\">\"\"\"))","v":{"$error":"#REF!"}},null,{"$f":"IFERROR(VLOOKUP(C483,Hidden_Словник!$A$2:$C$100,3,FALSE),\"\")","v":""},null,null,null,null,null,null,null,null,null,null,null,null,null,null,null,null,null,null,""]
[{"$f":"IF(#REF!>\"\",D484&\"_\"&#REF!&\"_\"&B484,\"\")","v":{"$error":"#REF!"}},{"$f":"IF(#REF!=\"\",\"\",COUNTIF(#REF!,\">\"\"\"))","v":{"$error":"#REF!"}},null,{"$f":"IFERROR(VLOOKUP(C484,Hidden_Словник!$A$2:$C$100,3,FALSE),\"\")","v":""},null,null,null,null,null,null,null,null,null,null,null,null,null,null,null,null,null,null,""]
[{"$f":"IF(#REF!>\"\",D485&\"_\"&#REF!&\"_\"&B485,\"\")","v":{"$error":"#REF!"}},{"$f":"IF(#REF!=\"\",\"\",COUNTIF(#REF!,\">\"\"\"))","v":{"$error":"#REF!"}},null,{"$f":"IFERROR(VLOOKUP(C485,Hidden_Словник!$A$2:$C$100,3,FALSE),\"\")","v":""},null,null,null,null,null,null,null,null,null,null,null,null,null,null,null,null,null,null,""]
[{"$f":"IF(#REF!>\"\",D486&\"_\"&#REF!&\"_\"&B486,\"\")","v":{"$error":"#REF!"}},{"$f":"IF(#REF!=\"\",\"\",COUNTIF(#REF!,\">\"\"\"))","v":{"$error":"#REF!"}},null,{"$f":"IFERROR(VLOOKUP(C486,Hidden_Словник!$A$2:$C$100,3,FALSE),\"\")","v":""},null,null,null,null,null,null,null,null,null,null,null,null,null,null,null,null,null,null,""]
[{"$f":"IF(#REF!>\"\",D487&\"_\"&#REF!&\"_\"&B487,\"\")","v":{"$error":"#REF!"}},{"$f":"IF(#REF!=\"\",\"\",COUNTIF(#REF!,\">\"\"\"))","v":{"$error":"#REF!"}},null,{"$f":"IFERROR(VLOOKUP(C487,Hidden_Словник!$A$2:$C$100,3,FALSE),\"\")","v":""},null,null,null,null,null,null,null,null,null,null,null,null,null,null,null,null,null,null,""]
[{"$f":"IF(#REF!>\"\",D488&\"_\"&#REF!&\"_\"&B488,\"\")","v":{"$error":"#REF!"}},{"$f":"IF(#REF!=\"\",\"\",COUNTIF(#REF!,\">\"\"\"))","v":{"$error":"#REF!"}},null,{"$f":"IFERROR(VLOOKUP(C488,Hidden_Словник!$A$2:$C$100,3,FALSE),\"\")","v":""},null,null,null,null,null,null,null,null,null,null,null,null,null,null,null,null,null,null,{"$f":"IF(X488+Y488>0,X488+Y488,\"\")","v":""}]
[{"$f":"IF(#REF!>\"\",D489&\"_\"&#REF!&\"_\"&B489,\"\")","v":{"$error":"#REF!"}},{"$f":"IF(#REF!=\"\",\"\",COUNTIF(#REF!,\">\"\"\"))","v":{"$error":"#REF!"}},null,{"$f":"IFERROR(VLOOKUP(C489,Hidden_Словник!$A$2:$C$100,3,FALSE),\"\")","v":""},null,null,null,null,null,null,null,null,null,null,null,null,null,null,null,null,null,null,""]
[{"$f":"IF(#REF!>\"\",D490&\"_\"&#REF!&\"_\"&B490,\"\")","v":{"$error":"#REF!"}},{"$f":"IF(#REF!=\"\",\"\",COUNTIF(#REF!,\">\"\"\"))","v":{"$error":"#REF!"}},null,{"$f":"IFERROR(VLOOKUP(C490,Hidden_Словник!$A$2:$C$100,3,FALSE),\"\")","v":""},null,null,null,null,null,null,null,null,null,null,null,null,null,null,null,null,null,null,""]
[{"$f":"IF(#REF!>\"\",D491&\"_\"&#REF!&\"_\"&B491,\"\")","v":{"$error":"#REF!"}},{"$f":"IF(#REF!=\"\",\"\",COUNTIF(#REF!,\">\"\"\"))","v":{"$error":"#REF!"}},null,{"$f":"IFERROR(VLOOKUP(C491,Hidden_Словник!$A$2:$C$100,3,FALSE),\"\")","v":""},null,null,null,null,null,null,null,null,null,null,null,null,null,null,null,null,null,null,""]
[{"$f":"IF(#REF!>\"\",D492&\"_\"&#REF!&\"_\"&B492,\"\")","v":{"$error":"#REF!"}},{"$f":"IF(#REF!=\"\",\"\",COUNTIF(#REF!,\">\"\"\"))","v":{"$error":"#REF!"}},null,{"$f":"IFERROR(VLOOKUP(C492,Hidden_Словник!$A$2:$C$100,3,FALSE),\"\")","v":""},null,null,null,null,null,null,null,null,null,null,null,null,null,null,null,null,null,null,""]
[{"$f":"IF(#REF!>\"\",D493&\"_\"&#REF!&\"_\"&B493,\"\")","v":{"$error":"#REF!"}},{"$f":"IF(#REF!=\"\",\"\",COUNTIF(#REF!,\">\"\"\"))","v":{"$error":"#REF!"}},null,{"$f":"IFERROR(VLOOKUP(C493,Hidden_Словник!$A$2:$C$100,3,FALSE),\"\")","v":""},null,null,null,null,null,null,null,null,null,null,null,null,null,null,null,null,null,null,""]
[{"$f":"IF(#REF!>\"\",D494&\"_\"&#REF!&\"_\"&B494,\"\")","v":{"$error":"#REF!"}},{"$f":"IF(#REF!=\"\",\"\",COUNTIF(#REF!,\">\"\"\"))","v":{"$error":"#REF!"}},null,{"$f":"IFERROR(VLOOKUP(C494,Hidden_Словник!$A$2:$C$100,3,FALSE),\"\")","v":""},null,null,null,null,null,null,null,null,null,null,null,null,null,null,null,null,null,null,""]
[{"$f":"IF(#REF!>\"\",D495&\"_\"&#REF!&\"_\"&B495,\"\")","v":{"$error":"#REF!"}},{"$f":"IF(#REF!=\"\",\"\",COUNTIF(#REF!,\">\"\"\"))","v":{"$error":"#REF!"}},null,{"$f":"IFERROR(VLOOKUP(C495,Hidden_Словник!$A$2:$C$100,3,FALSE),\"\")","v":""},null,null,null,null,null,null,null,null,null,null,null,null,null,null,null,null,null,null,""]
[{"$f":"IF(#REF!>\"\",D496&\"_\"&#REF!&\"_\"&B496,\"\")","v":{"$error":"#REF!"}},{"$f":"IF(#REF!=\"\",\"\",COUNTIF(#REF!,\">\"\"\"))","v":{"$error":"#REF!"}},null,{"$f":"IFERROR(VLOOKUP(C496,Hidden_Словник!$A$2:$C$100,3,FALSE),\"\")","v":""},null,null,null,null,null,null,null,null,null,null,null,null,null,null,null,null,null,null,""]
[{"$f":"IF(#REF!>\"\",D497&\"_\"&#REF!&\"_\"&B497,\"\")","v":{"$error":"#REF!"}},{"$f":"IF(#REF!=\"\",\"\",COUNTIF(#REF!,\">\"\"\"))","v":{"$error":"#REF!"}},null,{"$f":"IFERROR(VLOOKUP(C497,Hidden_Словник!$A$2:$C$100,3,FALSE),\"\")","v":""},null,null,null,null,null,null,null,null,null,null,null,null,null,null,null,null,null,null,""]
[{"$f":"IF(#REF!>\"\",D498&\"_\"&#REF!&\"_\"&B498,\"\")","v":{"$error":"#REF!"}},{"$f":"IF(#REF!=\"\",\"\",COUNTIF(#REF!,\">\"\"\"))","v":{"$error":"#REF!"}},null,{"$f":"IFERROR(VLOOKUP(C498,Hidden_Словник!$A$2:$C$100,3,FALSE),\"\")","v":""},null,null,null,null,null,null,null,null,null,null,null,null,null,null,null,null,null,null,""]
[{"$f":"IF(#REF!>\"\",D499&\"_\"&#REF!&\"_\"&B499,\"\")","v":{"$error":"#REF!"}},{"$f":"IF(#REF!=\"\",\"\",COUNTIF(#REF!,\">\"\"\"))","v":{"$error":"#REF!"}},null,{"$f":"IFERROR(VLOOKUP(C499,Hidden_Словник!$A$2:$C$100,3,FALSE),\"\")","v":""},null,null,null,null,null,null,null,null,null,null,null,null,null,null,null,null,null,null,""]
[{"$f":"IF(#REF!>\"\",D500&\"_\"&#REF!&\"_\"&B500,\"\")","v":{"$error":"#REF!"}},{"$f":"IF(#REF!=\"\",\"\",COUNTIF(#REF!,\">\"\"\"))","v":{"$error":"#REF!"}},null,{"$f":"IFERROR(VLOOKUP(C500,Hidden_Словник!$A$2:$C$100,3,FALSE),\"\")","v":""},null,null,null,null,null,null,null,null,null,null,null,null,null,null,null,null,null,null,""]
[{"$f":"IF(#REF!>\"\",D501&\"_\"&#REF!&\"_\"&B501,\"\")","v":{"$error":"#REF!"}},{"$f":"IF(#REF!=\"\",\"\",COUNTIF(#REF!,\">\"\"\"))","v":{"$error":"#REF!"}},null,{"$f":"IFERROR(VLOOKUP(C501,Hidden_Словник!$A$2:$C$100,3,FALSE),\"\")","v":""},null,null,null,null,null,null,null,null,null,null,null,null,null,null,null,null,null,null,""]
[{"$f":"IF(#REF!>\"\",D502&\"_\"&#REF!&\"_\"&B502,\"\")","v":{"$error":"#REF!"}},{"$f":"IF(#REF!=\"\",\"\",COUNTIF(#REF!,\">\"\"\"))","v":{"$error":"#REF!"}},null,{"$f":"IFERROR(VLOOKUP(C502,Hidden_Словник!$A$2:$C$100,3,FALSE),\"\")","v":""},null,null,null,null,null,null,null,null,null,null,null,null,null,null,null,null,null,null,""]
[{"$f":"IF(#REF!>\"\",D503&\"_\"&#REF!&\"_\"&B503,\"\")","v":{"$error":"#REF!"}},{"$f":"IF(#REF!=\"\",\"\",COUNTIF(#REF!,\">\"\"\"))","v":{"$error":"#REF!"}},null,{"$f":"IFERROR(VLOOKUP(C503,Hidden_Словник!$A$2:$C$100,3,FALSE),\"\")","v":""},null,null,null,null,null,null,null,null,null,null,null,null,null,null,null,null,null,null,""]
[{"$f":"IF(#REF!>\"\",D504&\"_\"&#REF!&\"_\"&B504,\"\")","v":{"$error":"#REF!"}},{"$f":"IF(#REF!=\"\",\"\",COUNTIF(#REF!,\">\"\"\"))","v":{"$error":"#REF!"}},null,{"$f":"IFERROR(VLOOKUP(C504,Hidden_Словник!$A$2:$C$100,3,FALSE),\"\")","v":""},null,null,null,null,null,null,null,null,null,null,null,null,null,null,null,null,null,null,""]
[{"$f":"IF(#REF!>\"\",D505&\"_\"&#REF!&\"_\"&B505,\"\")","v":{"$error":"#REF!"}},{"$f":"IF(#REF!=\"\",\"\",COUNTIF(#REF!,\">\"\"\"))","v":{"$error":"#REF!"}},null,{"$f":"IFERROR(VLOOKUP(C505,Hidden_Словник!$A$2:$C$100,3,FALSE),\"\")","v":""},null,null,null,null,null,null,null,null,null,null,null,null,null,null,null,null,null,null,""]
[{"$f":"IF(#REF!>\"\",D506&\"_\"&#REF!&\"_\"&B506,\"\")","v":{"$error":"#REF!"}},{"$f":"IF(#REF!=\"\",\"\",COUNTIF(#REF!,\">\"\"\"))","v":{"$error":"#REF!"}},null,{"$f":"IFERROR(VLOOKUP(C506,Hidden_Словник!$A$2:$C$100,3,FALSE),\"\")","v":""},null,null,null,null,null,null,null,null,null,null,null,null,null,null,null,null,null,null,""]
[{"$f":"IF(#REF!>\"\",D507&\"_\"&#REF!&\"_\"&B507,\"\")","v":{"$error":"#REF!"}},{"$f":"IF(#REF!=\"\",\"\",COUNTIF(#REF!,\">\"\"\"))","v":{"$error":"#REF!"}},null,{"$f":"IFERROR(VLOOKUP(C507,Hidden_Словник!$A$2:$C$100,3,FALSE),\"\")","v":""},null,null,null,null,null,null,null,null,null,null,null,null,null,null,null,null,null,null,""]
[{"$f":"IF(#REF!>\"\",D508&\"_\"&#REF!&\"_\"&B508,\"\")","v":{"$error":"#REF!"}},{"$f":"IF(#REF!=\"\",\"\",COUNTIF(#REF!,\">\"\"\"))","v":{"$error":"#REF!"}},null,{"$f":"IFERROR(VLOOKUP(C508,Hidden_Словник!$A$2:$C$100,3,FALSE),\"\")","v":""},null,null,null,null,null,null,null,null,null,null,null,null,null,null,null,null,null,null,""]
[{"$f":"IF(#REF!>\"\",D509&\"_\"&#REF!&\"_\"&B509,\"\")","v":{"$error":"#REF!"}},{"$f":"IF(#REF!=\"\",\"\",COUNTIF(#REF!,\">\"\"\"))","v":{"$error":"#REF!"}},null,{"$f":"IFERROR(VLOOKUP(C509,Hidden_Словник!$A$2:$C$100,3,FALSE),\"\")","v":""},null,null,null,null,null,null,null,null,null,null,null,null,null,null,null,null,null,null,""]
[{"$f":"IF(#REF!>\"\",D510&\"_\"&#REF!&\"_\"&B510,\"\")","v":{"$error":"#REF!"}},{"$f":"IF(#REF!=\"\",\"\",COUNTIF(#REF!,\">\"\"\"))","v":{"$error":"#REF!"}},null,{"$f":"IFERROR(VLOOKUP(C510,Hidden_Словник!$A$2:$C$100,3,FALSE),\"\")","v":""},null,null,null,null,null,null,null,null,null,null,null,null,null,null,null,null,null,null,""]
[{"$f":"IF(#REF!>\"\",D511&\"_\"&#REF!&\"_\"&B511,\"\")","v":{"$error":"#REF!"}},{"$f":"IF(#REF!=\"\",\"\",COUNTIF(#REF!,\">\"\"\"))","v":{"$error":"#REF!"}},null,{"$f":"IFERROR(VLOOKUP(C511,Hidden_Словник!$A$2:$C$100,3,FALSE),\"\")","v":""},null,null,null,null,null,null,null,null,null,null,null,null,null,null,null,null,null,null,""]
[{"$f":"IF(#REF!>\"\",D512&\"_\"&#REF!&\"_\"&B512,\"\")","v":{"$error":"#REF!"}},{"$f":"IF(#REF!=\"\",\"\",COUNTIF(#REF!,\">\"\"\"))","v":{"$error":"#REF!"}},null,{"$f":"IFERROR(VLOOKUP(C512,Hidden_Словник!$A$2:$C$100,3,FALSE),\"\")","v":""},null,null,null,null,null,null,null,null,null,null,null,null,null,null,null,null,null,null,""]
[{"$f":"IF(#REF!>\"\",D513&\"_\"&#REF!&\"_\"&B513,\"\")","v":{"$error":"#REF!"}},{"$f":"IF(#REF!=\"\",\"\",COUNTIF(#REF!,\">\"\"\"))","v":{"$error":"#REF!"}},null,{"$f":"IFERROR(VLOOKUP(C513,Hidden_Словник!$A$2:$C$100,3,FALSE),\"\")","v":""},null,null,null,null,null,null,null,null,null,null,null,null,null,null,null,null,null,null,""]
[{"$f":"IF(#REF!>\"\",D514&\"_\"&#REF!&\"_\"&B514,\"\")","v":{"$error":"#REF!"}},{"$f":"IF(#REF!=\"\",\"\",COUNTIF(#REF!,\">\"\"\"))","v":{"$error":"#REF!"}},null,{"$f":"IFERROR(VLOOKUP(C514,Hidden_Словник!$A$2:$C$100,3,FALSE),\"\")","v":""},null,null,null,null,null,null,null,null,null,null,null,null,null,null,null,null,null,null,""]
[{"$f":"IF(#REF!>\"\",D515&\"_\"&#REF!&\"_\"&B515,\"\")","v":{"$error":"#REF!"}},{"$f":"IF(#REF!=\"\",\"\",COUNTIF(#REF!,\">\"\"\"))","v":{"$error":"#REF!"}},null,{"$f":"IFERROR(VLOOKUP(C515,Hidden_Словник!$A$2:$C$100,3,FALSE),\"\")","v":""},null,null,null,null,null,null,null,null,null,null,null,null,null,null,null,null,null,null,""]
[{"$f":"IF(#REF!>\"\",D516&\"_\"&#REF!&\"_\"&B516,\"\")","v":{"$error":"#REF!"}},{"$f":"IF(#REF!=\"\",\"\",COUNTIF(#REF!,\">\"\"\"))","v":{"$error":"#REF!"}},null,{"$f":"IFERROR(VLOOKUP(C516,Hidden_Словник!$A$2:$C$100,3,FALSE),\"\")","v":""},null,null,null,null,null,null,null,null,null,null,null,null,null,null,null,null,null,null,""]
[{"$f":"IF(#REF!>\"\",D517&\"_\"&#REF!&\"_\"&B517,\"\")","v":{"$error":"#REF!"}},{"$f":"IF(#REF!=\"\",\"\",COUNTIF(#REF!,\">\"\"\"))","v":{"$error":"#REF!"}},null,{"$f":"IFERROR(VLOOKUP(C517,Hidden_Словник!$A$2:$C$100,3,FALSE),\"\")","v":""},null,null,null,null,null,null,null,null,null,null,null,null,null,null,null,null,null,null,""]
[{"$f":"IF(#REF!>\"\",D518&\"_\"&#REF!&\"_\"&B518,\"\")","v":{"$error":"#REF!"}},{"$f":"IF(#REF!=\"\",\"\",COUNTIF(#REF!,\">\"\"\"))","v":{"$error":"#REF!"}},null,{"$f":"IFERROR(VLOOKUP(C518,Hidden_Словник!$A$2:$C$100,3,FALSE),\"\")","v":""},null,null,null,null,null,null,null,null,null,null,null,null,null,null,null,null,null,null,""]
[{"$f":"IF(#REF!>\"\",D519&\"_\"&#REF!&\"_\"&B519,\"\")","v":{"$error":"#REF!"}},{"$f":"IF(#REF!=\"\",\"\",COUNTIF(#REF!,\">\"\"\"))","v":{"$error":"#REF!"}},null,{"$f":"IFERROR(VLOOKUP(C519,Hidden_Словник!$A$2:$C$100,3,FALSE),\"\")","v":""},null,null,null,null,null,null,null,null,null,null,null,null,null,null,null,null,null,null,""]
[{"$f":"IF(#REF!>\"\",D520&\"_\"&#REF!&\"_\"&B520,\"\")","v":{"$error":"#REF!"}},{"$f":"IF(#REF!=\"\",\"\",COUNTIF(#REF!,\">\"\"\"))","v":{"$error":"#REF!"}},null,{"$f":"IFERROR(VLOOKUP(C520,Hidden_Словник!$A$2:$C$100,3,FALSE),\"\")","v":""},null,null,null,null,null,null,null,null,null,null,null,null,null,null,null,null,null,null,""]
[{"$f":"IF(#REF!>\"\",D521&\"_\"&#REF!&\"_\"&B521,\"\")","v":{"$error":"#REF!"}},{"$f":"IF(#REF!=\"\",\"\",COUNTIF(#REF!,\">\"\"\"))","v":{"$error":"#REF!"}},null,{"$f":"IFERROR(VLOOKUP(C521,Hidden_Словник!$A$2:$C$100,3,FALSE),\"\")","v":""},null,null,null,null,null,null,null,null,null,null,null,null,null,null,null,null,null,null,""]
[{"$f":"IF(#REF!>\"\",D522&\"_\"&#REF!&\"_\"&B522,\"\")","v":{"$error":"#REF!"}},{"$f":"IF(#REF!=\"\",\"\",COUNTIF(#REF!,\">\"\"\"))","v":{"$error":"#REF!"}},null,{"$f":"IFERROR(VLOOKUP(C522,Hidden_Словник!$A$2:$C$100,3,FALSE),\"\")","v":""},null,null,null,null,null,null,null,null,null,null,null,null,null,null,null,null,null,null,""]
[{"$f":"IF(#REF!>\"\",D523&\"_\"&#REF!&\"_\"&B523,\"\")","v":{"$error":"#REF!"}},{"$f":"IF(#REF!=\"\",\"\",COUNTIF(#REF!,\">\"\"\"))","v":{"$error":"#REF!"}},null,{"$f":"IFERROR(VLOOKUP(C523,Hidden_Словник!$A$2:$C$100,3,FALSE),\"\")","v":""},null,null,null,null,null,null,null,null,null,null,null,null,null,null,null,null,null,null,""]
[{"$f":"IF(#REF!>\"\",D524&\"_\"&#REF!&\"_\"&B524,\"\")","v":{"$error":"#REF!"}},{"$f":"IF(#REF!=\"\",\"\",COUNTIF(#REF!,\">\"\"\"))","v":{"$error":"#REF!"}},null,{"$f":"IFERROR(VLOOKUP(C524,Hidden_Словник!$A$2:$C$100,3,FALSE),\"\")","v":""},null,null,null,null,null,null,null,null,null,null,null,null,null,null,null,null,null,null,""]
[{"$f":"IF(#REF!>\"\",D525&\"_\"&#REF!&\"_\"&B525,\"\")","v":{"$error":"#REF!"}},{"$f":"IF(#REF!=\"\",\"\",COUNTIF(#REF!,\">\"\"\"))","v":{"$error":"#REF!"}},null,{"$f":"IFERROR(VLOOKUP(C525,Hidden_Словник!$A$2:$C$100,3,FALSE),\"\")","v":""},null,null,null,null,null,null,null,null,null,null,null,null,null,null,null,null,null,null,""]
[{"$f":"IF(#REF!>\"\",D526&\"_\"&#REF!&\"_\"&B526,\"\")","v":{"$error":"#REF!"}},{"$f":"IF(#REF!=\"\",\"\",COUNTIF(#REF!,\">\"\"\"))","v":{"$error":"#REF!"}},null,{"$f":"IFERROR(VLOOKUP(C526,Hidden_Словник!$A$2:$C$100,3,FALSE),\"\")","v":""},null,null,null,null,null,null,null,null,null,null,null,null,null,null,null,null,null,null,""]
[{"$f":"IF(#REF!>\"\",D527&\"_\"&#REF!&\"_\"&B527,\"\")","v":{"$error":"#REF!"}},{"$f":"IF(#REF!=\"\",\"\",COUNTIF(#REF!,\">\"\"\"))","v":{"$error":"#REF!"}},null,{"$f":"IFERROR(VLOOKUP(C527,Hidden_Словник!$A$2:$C$100,3,FALSE),\"\")","v":""},null,null,null,null,null,null,null,null,null,null,null,null,null,null,null,null,null,null,""]
[{"$f":"IF(#REF!>\"\",D528&\"_\"&#REF!&\"_\"&B528,\"\")","v":{"$error":"#REF!"}},{"$f":"IF(#REF!=\"\",\"\",COUNTIF(#REF!,\">\"\"\"))","v":{"$error":"#REF!"}},null,{"$f":"IFERROR(VLOOKUP(C528,Hidden_Словник!$A$2:$C$100,3,FALSE),\"\")","v":""},null,null,null,null,null,null,null,null,null,null,null,null,null,null,null,null,null,null,""]
[{"$f":"IF(#REF!>\"\",D529&\"_\"&#REF!&\"_\"&B529,\"\")","v":{"$error":"#REF!"}},{"$f":"IF(#REF!=\"\",\"\",COUNTIF(#REF!,\">\"\"\"))","v":{"$error":"#REF!"}},null,{"$f":"IFERROR(VLOOKUP(C529,Hidden_Словник!$A$2:$C$100,3,FALSE),\"\")","v":""},null,null,null,null,null,null,null,null,null,null,null,null,null,null,null,null,null,null,""]
[{"$f":"IF(#REF!>\"\",D530&\"_\"&#REF!&\"_\"&B530,\"\")","v":{"$error":"#REF!"}},{"$f":"IF(#REF!=\"\",\"\",COUNTIF(#REF!,\">\"\"\"))","v":{"$error":"#REF!"}},null,{"$f":"IFERROR(VLOOKUP(C530,Hidden_Словник!$A$2:$C$100,3,FALSE),\"\")","v":""},null,null,null,null,null,null,null,null,null,null,null,null,null,null,null,null,null,null,""]
[{"$f":"IF(#REF!>\"\",D531&\"_\"&#REF!&\"_\"&B531,\"\")","v":{"$error":"#REF!"}},{"$f":"IF(#REF!=\"\",\"\",COUNTIF(#REF!,\">\"\"\"))","v":{"$error":"#REF!"}},null,{"$f":"IFERROR(VLOOKUP(C531,Hidden_Словник!$A$2:$C$100,3,FALSE),\"\")","v":""},null,null,null,null,null,null,null,null,null,null,null,null,null,null,null,null,null,null,""]
[{"$f":"IF(#REF!>\"\",D532&\"_\"&#REF!&\"_\"&B532,\"\")","v":{"$error":"#REF!"}},{"$f":"IF(#REF!=\"\",\"\",COUNTIF(#REF!,\">\"\"\"))","v":{"$error":"#REF!"}},null,{"$f":"IFERROR(VLOOKUP(C532,Hidden_Словник!$A$2:$C$100,3,FALSE),\"\")","v":""},null,null,null,null,null,null,null,null,null,null,null,null,null,null,null,null,null,null,""]
[{"$f":"IF(#REF!>\"\",D533&\"_\"&#REF!&\"_\"&B533,\"\")","v":{"$error":"#REF!"}},{"$f":"IF(#REF!=\"\",\"\",COUNTIF(#REF!,\">\"\"\"))","v":{"$error":"#REF!"}},null,{"$f":"IFERROR(VLOOKUP(C533,Hidden_Словник!$A$2:$C$100,3,FALSE),\"\")","v":""},null,null,null,null,null,null,null,null,null,null,null,null,null,null,null,null,null,null,""]
[{"$f":"IF(#REF!>\"\",D534&\"_\"&#REF!&\"_\"&B534,\"\")","v":{"$error":"#REF!"}},{"$f":"IF(#REF!=\"\",\"\",COUNTIF(#REF!,\">\"\"\"))","v":{"$error":"#REF!"}},null,{"$f":"IFERROR(VLOOKUP(C534,Hidden_Словник!$A$2:$C$100,3,FALSE),\"\")","v":""},null,null,null,null,null,null,null,null,null,null,null,null,null,null,null,null,null,null,""]
[{"$f":"IF(#REF!>\"\",D535&\"_\"&#REF!&\"_\"&B535,\"\")","v":{"$error":"#REF!"}},{"$f":"IF(#REF!=\"\",\"\",COUNTIF(#REF!,\">\"\"\"))","v":{"$error":"#REF!"}},null,{"$f":"IFERROR(VLOOKUP(C535,Hidden_Словник!$A$2:$C$100,3,FALSE),\"\")","v":""},null,null,null,null,null,null,null,null,null,null,null,null,null,null,null,null,null,null,""]
[{"$f":"IF(#REF!>\"\",D536&\"_\"&#REF!&\"_\"&B536,\"\")","v":{"$error":"#REF!"}},{"$f":"IF(#REF!=\"\",\"\",COUNTIF(#REF!,\">\"\"\"))","v":{"$error":"#REF!"}},null,{"$f":"IFERROR(VLOOKUP(C536,Hidden_Словник!$A$2:$C$100,3,FALSE),\"\")","v":""},null,null,null,null,null,null,null,null,null,null,null,null,null,null,null,null,null,null,""]
[{"$f":"IF(#REF!>\"\",D537&\"_\"&#REF!&\"_\"&B537,\"\")","v":{"$error":"#REF!"}},{"$f":"IF(#REF!=\"\",\"\",COUNTIF(#REF!,\">\"\"\"))","v":{"$error":"#REF!"}},null,{"$f":"IFERROR(VLOOKUP(C537,Hidden_Словник!$A$2:$C$100,3,FALSE),\"\")","v":""},null,null,null,null,null,null,null,null,null,null,null,null,null,null,null,null,null,null,""]
[{"$f":"IF(#REF!>\"\",D538&\"_\"&#REF!&\"_\"&B538,\"\")","v":{"$error":"#REF!"}},{"$f":"IF(#REF!=\"\",\"\",COUNTIF(#REF!,\">\"\"\"))","v":{"$error":"#REF!"}},null,{"$f":"IFERROR(VLOOKUP(C538,Hidden_Словник!$A$2:$C$100,3,FALSE),\"\")","v":""},null,null,null,null,null,null,null,null,null,null,null,null,null,null,null,null,null,null,""]
[{"$f":"IF(#REF!>\"\",D539&\"_\"&#REF!&\"_\"&B539,\"\")","v":{"$error":"#REF!"}},{"$f":"IF(#REF!=\"\",\"\",COUNTIF(#REF!,\">\"\"\"))","v":{"$error":"#REF!"}},null,{"$f":"IFERROR(VLOOKUP(C539,Hidden_Словник!$A$2:$C$100,3,FALSE),\"\")","v":""},null,null,null,null,null,null,null,null,null,null,null,null,null,null,null,null,null,null,""]
[{"$f":"IF(#REF!>\"\",D540&\"_\"&#REF!&\"_\"&B540,\"\")","v":{"$error":"#REF!"}},{"$f":"IF(#REF!=\"\",\"\",COUNTIF(#REF!,\">\"\"\"))","v":{"$error":"#REF!"}},null,{"$f":"IFERROR(VLOOKUP(C540,Hidden_Словник!$A$2:$C$100,3,FALSE),\"\")","v":""},null,null,null,null,null,null,null,null,null,null,null,null,null,null,null,null,null,null,""]
[{"$f":"IF(#REF!>\"\",D541&\"_\"&#REF!&\"_\"&B541,\"\")","v":{"$error":"#REF!"}},{"$f":"IF(#REF!=\"\",\"\",COUNTIF(#REF!,\">\"\"\"))","v":{"$error":"#REF!"}},null,{"$f":"IFERROR(VLOOKUP(C541,Hidden_Словник!$A$2:$C$100,3,FALSE),\"\")","v":""},null,null,null,null,null,null,null,null,null,null,null,null,null,null,null,null,null,null,""]
[{"$f":"IF(#REF!>\"\",D542&\"_\"&#REF!&\"_\"&B542,\"\")","v":{"$error":"#REF!"}},{"$f":"IF(#REF!=\"\",\"\",COUNTIF(#REF!,\">\"\"\"))","v":{"$error":"#REF!"}},null,{"$f":"IFERROR(VLOOKUP(C542,Hidden_Словник!$A$2:$C$100,3,FALSE),\"\")","v":""},null,null,null,null,null,null,null,null,null,null,null,null,null,null,null,null,null,null,""]
[{"$f":"IF(#REF!>\"\",D543&\"_\"&#REF!&\"_\"&B543,\"\")","v":{"$error":"#REF!"}},{"$f":"IF(#REF!=\"\",\"\",COUNTIF(#REF!,\">\"\"\"))","v":{"$error":"#REF!"}},null,{"$f":"IFERROR(VLOOKUP(C543,Hidden_Словник!$A$2:$C$100,3,FALSE),\"\")","v":""},null,null,null,null,null,null,null,null,null,null,null,null,null,null,null,null,null,null,""]
[{"$f":"IF(#REF!>\"\",D544&\"_\"&#REF!&\"_\"&B544,\"\")","v":{"$error":"#REF!"}},{"$f":"IF(#REF!=\"\",\"\",COUNTIF(#REF!,\">\"\"\"))","v":{"$error":"#REF!"}},null,{"$f":"IFERROR(VLOOKUP(C544,Hidden_Словник!$A$2:$C$100,3,FALSE),\"\")","v":""},null,null,null,null,null,null,null,null,null,null,null,null,null,null,null,null,null,null,""]
[{"$f":"IF(#REF!>\"\",D545&\"_\"&#REF!&\"_\"&B545,\"\")","v":{"$error":"#REF!"}},{"$f":"IF(#REF!=\"\",\"\",COUNTIF(#REF!,\">\"\"\"))","v":{"$error":"#REF!"}},null,{"$f":"IFERROR(VLOOKUP(C545,Hidden_Словник!$A$2:$C$100,3,FALSE),\"\")","v":""},null,null,null,null,null,null,null,null,null,null,null,null,null,null,null,null,null,null,""]
[{"$f":"IF(#REF!>\"\",D546&\"_\"&#REF!&\"_\"&B546,\"\")","v":{"$error":"#REF!"}},{"$f":"IF(#REF!=\"\",\"\",COUNTIF(#REF!,\">\"\"\"))","v":{"$error":"#REF!"}},null,{"$f":"IFERROR(VLOOKUP(C546,Hidden_Словник!$A$2:$C$100,3,FALSE),\"\")","v":""},null,null,null,null,null,null,null,null,null,null,null,null,null,null,null,null,null,null,""]
[{"$f":"IF(#REF!>\"\",D547&\"_\"&#REF!&\"_\"&B547,\"\")","v":{"$error":"#REF!"}},{"$f":"IF(#REF!=\"\",\"\",COUNTIF(#REF!,\">\"\"\"))","v":{"$error":"#REF!"}},null,{"$f":"IFERROR(VLOOKUP(C547,Hidden_Словник!$A$2:$C$100,3,FALSE),\"\")","v":""},null,null,null,null,null,null,null,null,null,null,null,null,null,null,null,null,null,null,""]
[{"$f":"IF(#REF!>\"\",D548&\"_\"&#REF!&\"_\"&B548,\"\")","v":{"$error":"#REF!"}},{"$f":"IF(#REF!=\"\",\"\",COUNTIF(#REF!,\">\"\"\"))","v":{"$error":"#REF!"}},null,{"$f":"IFERROR(VLOOKUP(C548,Hidden_Словник!$A$2:$C$100,3,FALSE),\"\")","v":""},null,null,null,null,null,null,null,null,null,null,null,null,null,null,null,null,null,null,""]
[{"$f":"IF(#REF!>\"\",D549&\"_\"&#REF!&\"_\"&B549,\"\")","v":{"$error":"#REF!"}},{"$f":"IF(#REF!=\"\",\"\",COUNTIF(#REF!,\">\"\"\"))","v":{"$error":"#REF!"}},null,{"$f":"IFERROR(VLOOKUP(C549,Hidden_Словник!$A$2:$C$100,3,FALSE),\"\")","v":""},null,null,null,null,null,null,null,null,null,null,null,null,null,null,null,null,null,null,""]
[{"$f":"IF(#REF!>\"\",D550&\"_\"&#REF!&\"_\"&B550,\"\")","v":{"$error":"#REF!"}},{"$f":"IF(#REF!=\"\",\"\",COUNTIF(#REF!,\">\"\"\"))","v":{"$error":"#REF!"}},null,{"$f":"IFERROR(VLOOKUP(C550,Hidden_Словник!$A$2:$C$100,3,FALSE),\"\")","v":""},null,null,null,null,null,null,null,null,null,null,null,null,null,null,null,null,null,null,""]
[{"$f":"IF(#REF!>\"\",D551&\"_\"&#REF!&\"_\"&B551,\"\")","v":{"$error":"#REF!"}},{"$f":"IF(#REF!=\"\",\"\",COUNTIF(#REF!,\">\"\"\"))","v":{"$error":"#REF!"}},null,{"$f":"IFERROR(VLOOKUP(C551,Hidden_Словник!$A$2:$C$100,3,FALSE),\"\")","v":""},null,null,null,null,null,null,null,null,null,null,null,null,null,null,null,null,null,null,""]
[{"$f":"IF(#REF!>\"\",D552&\"_\"&#REF!&\"_\"&B552,\"\")","v":{"$error":"#REF!"}},{"$f":"IF(#REF!=\"\",\"\",COUNTIF(#REF!,\">\"\"\"))","v":{"$error":"#REF!"}},null,{"$f":"IFERROR(VLOOKUP(C552,Hidden_Словник!$A$2:$C$100,3,FALSE),\"\")","v":""},null,null,null,null,null,null,null,null,null,null,null,null,null,null,null,null,null,null,{"$f":"IF(X552+Y552>0,X552+Y552,\"\")","v":""}]
[{"$f":"IF(#REF!>\"\",D553&\"_\"&#REF!&\"_\"&B553,\"\")","v":{"$error":"#REF!"}},{"$f":"IF(#REF!=\"\",\"\",COUNTIF(#REF!,\">\"\"\"))","v":{"$error":"#REF!"}},null,{"$f":"IFERROR(VLOOKUP(C553,Hidden_Словник!$A$2:$C$100,3,FALSE),\"\")","v":""},null,null,null,null,null,null,null,null,null,null,null,null,null,null,null,null,null,null,""]
[{"$f":"IF(#REF!>\"\",D554&\"_\"&#REF!&\"_\"&B554,\"\")","v":{"$error":"#REF!"}},{"$f":"IF(#REF!=\"\",\"\",COUNTIF(#REF!,\">\"\"\"))","v":{"$error":"#REF!"}},null,{"$f":"IFERROR(VLOOKUP(C554,Hidden_Словник!$A$2:$C$100,3,FALSE),\"\")","v":""},null,null,null,null,null,null,null,null,null,null,null,null,null,null,null,null,null,null,""]
[{"$f":"IF(#REF!>\"\",D555&\"_\"&#REF!&\"_\"&B555,\"\")","v":{"$error":"#REF!"}},{"$f":"IF(#REF!=\"\",\"\",COUNTIF(#REF!,\">\"\"\"))","v":{"$error":"#REF!"}},null,{"$f":"IFERROR(VLOOKUP(C555,Hidden_Словник!$A$2:$C$100,3,FALSE),\"\")","v":""},null,null,null,null,null,null,null,null,null,null,null,null,null,null,null,null,null,null,""]
[{"$f":"IF(#REF!>\"\",D556&\"_\"&#REF!&\"_\"&B556,\"\")","v":{"$error":"#REF!"}},{"$f":"IF(#REF!=\"\",\"\",COUNTIF(#REF!,\">\"\"\"))","v":{"$error":"#REF!"}},null,{"$f":"IFERROR(VLOOKUP(C556,Hidden_Словник!$A$2:$C$100,3,FALSE),\"\")","v":""},null,null,null,null,null,null,null,null,null,null,null,null,null,null,null,null,null,null,""]
[{"$f":"IF(#REF!>\"\",D557&\"_\"&#REF!&\"_\"&B557,\"\")","v":{"$error":"#REF!"}},{"$f":"IF(#REF!=\"\",\"\",COUNTIF(#REF!,\">\"\"\"))","v":{"$error":"#REF!"}},null,{"$f":"IFERROR(VLOOKUP(C557,Hidden_Словник!$A$2:$C$100,3,FALSE),\"\")","v":""},null,null,null,null,null,null,null,null,null,null,null,null,null,null,null,null,null,null,""]
[{"$f":"IF(#REF!>\"\",D558&\"_\"&#REF!&\"_\"&B558,\"\")","v":{"$error":"#REF!"}},{"$f":"IF(#REF!=\"\",\"\",COUNTIF(#REF!,\">\"\"\"))","v":{"$error":"#REF!"}},null,{"$f":"IFERROR(VLOOKUP(C558,Hidden_Словник!$A$2:$C$100,3,FALSE),\"\")","v":""},null,null,null,null,null,null,null,null,null,null,null,null,null,null,null,null,null,null,""]
[{"$f":"IF(#REF!>\"\",D559&\"_\"&#REF!&\"_\"&B559,\"\")","v":{"$error":"#REF!"}},{"$f":"IF(#REF!=\"\",\"\",COUNTIF(#REF!,\">\"\"\"))","v":{"$error":"#REF!"}},null,{"$f":"IFERROR(VLOOKUP(C559,Hidden_Словник!$A$2:$C$100,3,FALSE),\"\")","v":""},null,null,null,null,null,null,null,null,null,null,null,null,null,null,null,null,null,null,""]
[{"$f":"IF(#REF!>\"\",D560&\"_\"&#REF!&\"_\"&B560,\"\")","v":{"$error":"#REF!"}},{"$f":"IF(#REF!=\"\",\"\",COUNTIF(#REF!,\">\"\"\"))","v":{"$error":"#REF!"}},null,{"$f":"IFERROR(VLOOKUP(C560,Hidden_Словник!$A$2:$C$100,3,FALSE),\"\")","v":""},null,null,null,null,null,null,null,null,null,null,null,null,null,null,null,null,null,null,""]
[{"$f":"IF(#REF!>\"\",D561&\"_\"&#REF!&\"_\"&B561,\"\")","v":{"$error":"#REF!"}},{"$f":"IF(#REF!=\"\",\"\",COUNTIF(#REF!,\">\"\"\"))","v":{"$error":"#REF!"}},null,{"$f":"IFERROR(VLOOKUP(C561,Hidden_Словник!$A$2:$C$100,3,FALSE),\"\")","v":""},null,null,null,null,null,null,null,null,null,null,null,null,null,null,null,null,null,null,""]
[{"$f":"IF(#REF!>\"\",D562&\"_\"&#REF!&\"_\"&B562,\"\")","v":{"$error":"#REF!"}},{"$f":"IF(#REF!=\"\",\"\",COUNTIF(#REF!,\">\"\"\"))","v":{"$error":"#REF!"}},null,{"$f":"IFERROR(VLOOKUP(C562,Hidden_Словник!$A$2:$C$100,3,FALSE),\"\")","v":""},null,null,null,null,null,null,null,null,null,null,null,null,null,null,null,null,null,null,""]
[{"$f":"IF(#REF!>\"\",D563&\"_\"&#REF!&\"_\"&B563,\"\")","v":{"$error":"#REF!"}},{"$f":"IF(#REF!=\"\",\"\",COUNTIF(#REF!,\">\"\"\"))","v":{"$error":"#REF!"}},null,{"$f":"IFERROR(VLOOKUP(C563,Hidden_Словник!$A$2:$C$100,3,FALSE),\"\")","v":""},null,null,null,null,null,null,null,null,null,null,null,null,null,null,null,null,null,null,""]
[{"$f":"IF(#REF!>\"\",D564&\"_\"&#REF!&\"_\"&B564,\"\")","v":{"$error":"#REF!"}},{"$f":"IF(#REF!=\"\",\"\",COUNTIF(#REF!,\">\"\"\"))","v":{"$error":"#REF!"}},null,{"$f":"IFERROR(VLOOKUP(C564,Hidden_Словник!$A$2:$C$100,3,FALSE),\"\")","v":""},null,null,null,null,null,null,null,null,null,null,null,null,null,null,null,null,null,null,""]
[{"$f":"IF(#REF!>\"\",D565&\"_\"&#REF!&\"_\"&B565,\"\")","v":{"$error":"#REF!"}},{"$f":"IF(#REF!=\"\",\"\",COUNTIF(#REF!,\">\"\"\"))","v":{"$error":"#REF!"}},null,{"$f":"IFERROR(VLOOKUP(C565,Hidden_Словник!$A$2:$C$100,3,FALSE),\"\")","v":""},null,null,null,null,null,null,null,null,null,null,null,null,null,null,null,null,null,null,""]
[{"$f":"IF(#REF!>\"\",D566&\"_\"&#REF!&\"_\"&B566,\"\")","v":{"$error":"#REF!"}},{"$f":"IF(#REF!=\"\",\"\",COUNTIF(#REF!,\">\"\"\"))","v":{"$error":"#REF!"}},null,{"$f":"IFERROR(VLOOKUP(C566,Hidden_Словник!$A$2:$C$100,3,FALSE),\"\")","v":""},null,null,null,null,null,null,null,null,null,null,null,null,null,null,null,null,null,null,""]
[{"$f":"IF(#REF!>\"\",D567&\"_\"&#REF!&\"_\"&B567,\"\")","v":{"$error":"#REF!"}},{"$f":"IF(#REF!=\"\",\"\",COUNTIF(#REF!,\">\"\"\"))","v":{"$error":"#REF!"}},null,{"$f":"IFERROR(VLOOKUP(C567,Hidden_Словник!$A$2:$C$100,3,FALSE),\"\")","v":""},null,null,null,null,null,null,null,null,null,null,null,null,null,null,null,null,null,null,""]
[{"$f":"IF(#REF!>\"\",D568&\"_\"&#REF!&\"_\"&B568,\"\")","v":{"$error":"#REF!"}},{"$f":"IF(#REF!=\"\",\"\",COUNTIF(#REF!,\">\"\"\"))","v":{"$error":"#REF!"}},null,{"$f":"IFERROR(VLOOKUP(C568,Hidden_Словник!$A$2:$C$100,3,FALSE),\"\")","v":""},null,null,null,null,null,null,null,null,null,null,null,null,null,null,null,null,null,null,""]
[{"$f":"IF(#REF!>\"\",D569&\"_\"&#REF!&\"_\"&B569,\"\")","v":{"$error":"#REF!"}},{"$f":"IF(#REF!=\"\",\"\",COUNTIF(#REF!,\">\"\"\"))","v":{"$error":"#REF!"}},null,{"$f":"IFERROR(VLOOKUP(C569,Hidden_Словник!$A$2:$C$100,3,FALSE),\"\")","v":""},null,null,null,null,null,null,null,null,null,null,null,null,null,null,null,null,null,null,""]
[{"$f":"IF(#REF!>\"\",D570&\"_\"&#REF!&\"_\"&B570,\"\")","v":{"$error":"#REF!"}},{"$f":"IF(#REF!=\"\",\"\",COUNTIF(#REF!,\">\"\"\"))","v":{"$error":"#REF!"}},null,{"$f":"IFERROR(VLOOKUP(C570,Hidden_Словник!$A$2:$C$100,3,FALSE),\"\")","v":""},null,null,null,null,null,null,null,null,null,null,null,null,null,null,null,null,null,null,""]
[{"$f":"IF(#REF!>\"\",D571&\"_\"&#REF!&\"_\"&B571,\"\")","v":{"$error":"#REF!"}},{"$f":"IF(#REF!=\"\",\"\",COUNTIF(#REF!,\">\"\"\"))","v":{"$error":"#REF!"}},null,{"$f":"IFERROR(VLOOKUP(C571,Hidden_Словник!$A$2:$C$100,3,FALSE),\"\")","v":""},null,null,null,null,null,null,null,null,null,null,null,null,null,null,null,null,null,null,""]
[{"$f":"IF(#REF!>\"\",D572&\"_\"&#REF!&\"_\"&B572,\"\")","v":{"$error":"#REF!"}},{"$f":"IF(#REF!=\"\",\"\",COUNTIF(#REF!,\">\"\"\"))","v":{"$error":"#REF!"}},null,{"$f":"IFERROR(VLOOKUP(C572,Hidden_Словник!$A$2:$C$100,3,FALSE),\"\")","v":""},null,null,null,null,null,null,null,null,null,null,null,null,null,null,null,null,null,null,""]
[{"$f":"IF(#REF!>\"\",D573&\"_\"&#REF!&\"_\"&B573,\"\")","v":{"$error":"#REF!"}},{"$f":"IF(#REF!=\"\",\"\",COUNTIF(#REF!,\">\"\"\"))","v":{"$error":"#REF!"}},null,{"$f":"IFERROR(VLOOKUP(C573,Hidden_Словник!$A$2:$C$100,3,FALSE),\"\")","v":""},null,null,null,null,null,null,null,null,null,null,null,null,null,null,null,null,null,null,""]
[{"$f":"IF(#REF!>\"\",D574&\"_\"&#REF!&\"_\"&B574,\"\")","v":{"$error":"#REF!"}},{"$f":"IF(#REF!=\"\",\"\",COUNTIF(#REF!,\">\"\"\"))","v":{"$error":"#REF!"}},null,{"$f":"IFERROR(VLOOKUP(C574,Hidden_Словник!$A$2:$C$100,3,FALSE),\"\")","v":""},null,null,null,null,null,null,null,null,null,null,null,null,null,null,null,null,null,null,""]
[{"$f":"IF(#REF!>\"\",D575&\"_\"&#REF!&\"_\"&B575,\"\")","v":{"$error":"#REF!"}},{"$f":"IF(#REF!=\"\",\"\",COUNTIF(#REF!,\">\"\"\"))","v":{"$error":"#REF!"}},null,{"$f":"IFERROR(VLOOKUP(C575,Hidden_Словник!$A$2:$C$100,3,FALSE),\"\")","v":""},null,null,null,null,null,null,null,null,null,null,null,null,null,null,null,null,null,null,""]
[{"$f":"IF(#REF!>\"\",D576&\"_\"&#REF!&\"_\"&B576,\"\")","v":{"$error":"#REF!"}},{"$f":"IF(#REF!=\"\",\"\",COUNTIF(#REF!,\">\"\"\"))","v":{"$error":"#REF!"}},null,{"$f":"IFERROR(VLOOKUP(C576,Hidden_Словник!$A$2:$C$100,3,FALSE),\"\")","v":""},null,null,null,null,null,null,null,null,null,null,null,null,null,null,null,null,null,null,""]
[{"$f":"IF(#REF!>\"\",D577&\"_\"&#REF!&\"_\"&B577,\"\")","v":{"$error":"#REF!"}},{"$f":"IF(#REF!=\"\",\"\",COUNTIF(#REF!,\">\"\"\"))","v":{"$error":"#REF!"}},null,{"$f":"IFERROR(VLOOKUP(C577,Hidden_Словник!$A$2:$C$100,3,FALSE),\"\")","v":""},null,null,null,null,null,null,null,null,null,null,null,null,null,null,null,null,null,null,""]
[{"$f":"IF(#REF!>\"\",D578&\"_\"&#REF!&\"_\"&B578,\"\")","v":{"$error":"#REF!"}},{"$f":"IF(#REF!=\"\",\"\",COUNTIF(#REF!,\">\"\"\"))","v":{"$error":"#REF!"}},null,{"$f":"IFERROR(VLOOKUP(C578,Hidden_Словник!$A$2:$C$100,3,FALSE),\"\")","v":""},null,null,null,null,null,null,null,null,null,null,null,null,null,null,null,null,null,null,""]
[{"$f":"IF(#REF!>\"\",D579&\"_\"&#REF!&\"_\"&B579,\"\")","v":{"$error":"#REF!"}},{"$f":"IF(#REF!=\"\",\"\",COUNTIF(#REF!,\">\"\"\"))","v":{"$error":"#REF!"}},null,{"$f":"IFERROR(VLOOKUP(C579,Hidden_Словник!$A$2:$C$100,3,FALSE),\"\")","v":""},null,null,null,null,null,null,null,null,null,null,null,null,null,null,null,null,null,null,""]
[{"$f":"IF(#REF!>\"\",D580&\"_\"&#REF!&\"_\"&B580,\"\")","v":{"$error":"#REF!"}},{"$f":"IF(#REF!=\"\",\"\",COUNTIF(#REF!,\">\"\"\"))","v":{"$error":"#REF!"}},null,{"$f":"IFERROR(VLOOKUP(C580,Hidden_Словник!$A$2:$C$100,3,FALSE),\"\")","v":""},null,null,null,null,null,null,null,null,null,null,null,null,null,null,null,null,null,null,""]
[{"$f":"IF(#REF!>\"\",D581&\"_\"&#REF!&\"_\"&B581,\"\")","v":{"$error":"#REF!"}},{"$f":"IF(#REF!=\"\",\"\",COUNTIF(#REF!,\">\"\"\"))","v":{"$error":"#REF!"}},null,{"$f":"IFERROR(VLOOKUP(C581,Hidden_Словник!$A$2:$C$100,3,FALSE),\"\")","v":""},null,null,null,null,null,null,null,null,null,null,null,null,null,null,null,null,null,null,""]
[{"$f":"IF(#REF!>\"\",D582&\"_\"&#REF!&\"_\"&B582,\"\")","v":{"$error":"#REF!"}},{"$f":"IF(#REF!=\"\",\"\",COUNTIF(#REF!,\">\"\"\"))","v":{"$error":"#REF!"}},null,{"$f":"IFERROR(VLOOKUP(C582,Hidden_Словник!$A$2:$C$100,3,FALSE),\"\")","v":""},null,null,null,null,null,null,null,null,null,null,null,null,null,null,null,null,null,null,""]
[{"$f":"IF(#REF!>\"\",D583&\"_\"&#REF!&\"_\"&B583,\"\")","v":{"$error":"#REF!"}},{"$f":"IF(#REF!=\"\",\"\",COUNTIF(#REF!,\">\"\"\"))","v":{"$error":"#REF!"}},null,{"$f":"IFERROR(VLOOKUP(C583,Hidden_Словник!$A$2:$C$100,3,FALSE),\"\")","v":""},null,null,null,null,null,null,null,null,null,null,null,null,null,null,null,null,null,null,""]
[{"$f":"IF(#REF!>\"\",D584&\"_\"&#REF!&\"_\"&B584,\"\")","v":{"$error":"#REF!"}},{"$f":"IF(#REF!=\"\",\"\",COUNTIF(#REF!,\">\"\"\"))","v":{"$error":"#REF!"}},null,{"$f":"IFERROR(VLOOKUP(C584,Hidden_Словник!$A$2:$C$100,3,FALSE),\"\")","v":""},null,null,null,null,null,null,null,null,null,null,null,null,null,null,null,null,null,null,""]
[{"$f":"IF(#REF!>\"\",D585&\"_\"&#REF!&\"_\"&B585,\"\")","v":{"$error":"#REF!"}},{"$f":"IF(#REF!=\"\",\"\",COUNTIF(#REF!,\">\"\"\"))","v":{"$error":"#REF!"}},null,{"$f":"IFERROR(VLOOKUP(C585,Hidden_Словник!$A$2:$C$100,3,FALSE),\"\")","v":""},null,null,null,null,null,null,null,null,null,null,null,null,null,null,null,null,null,null,""]
[{"$f":"IF(#REF!>\"\",D586&\"_\"&#REF!&\"_\"&B586,\"\")","v":{"$error":"#REF!"}},{"$f":"IF(#REF!=\"\",\"\",COUNTIF(#REF!,\">\"\"\"))","v":{"$error":"#REF!"}},null,{"$f":"IFERROR(VLOOKUP(C586,Hidden_Словник!$A$2:$C$100,3,FALSE),\"\")","v":""},null,null,null,null,null,null,null,null,null,null,null,null,null,null,null,null,null,null,""]
[{"$f":"IF(#REF!>\"\",D587&\"_\"&#REF!&\"_\"&B587,\"\")","v":{"$error":"#REF!"}},{"$f":"IF(#REF!=\"\",\"\",COUNTIF(#REF!,\">\"\"\"))","v":{"$error":"#REF!"}},null,{"$f":"IFERROR(VLOOKUP(C587,Hidden_Словник!$A$2:$C$100,3,FALSE),\"\")","v":""},null,null,null,null,null,null,null,null,null,null,null,null,null,null,null,null,null,null,""]
[{"$f":"IF(#REF!>\"\",D588&\"_\"&#REF!&\"_\"&B588,\"\")","v":{"$error":"#REF!"}},{"$f":"IF(#REF!=\"\",\"\",COUNTIF(#REF!,\">\"\"\"))","v":{"$error":"#REF!"}},null,{"$f":"IFERROR(VLOOKUP(C588,Hidden_Словник!$A$2:$C$100,3,FALSE),\"\")","v":""},null,null,null,null,null,null,null,null,null,null,null,null,null,null,null,null,null,null,""]
[{"$f":"IF(#REF!>\"\",D589&\"_\"&#REF!&\"_\"&B589,\"\")","v":{"$error":"#REF!"}},{"$f":"IF(#REF!=\"\",\"\",COUNTIF(#REF!,\">\"\"\"))","v":{"$error":"#REF!"}},null,{"$f":"IFERROR(VLOOKUP(C589,Hidden_Словник!$A$2:$C$100,3,FALSE),\"\")","v":""},null,null,null,null,null,null,null,null,null,null,null,null,null,null,null,null,null,null,""]
[{"$f":"IF(#REF!>\"\",D590&\"_\"&#REF!&\"_\"&B590,\"\")","v":{"$error":"#REF!"}},{"$f":"IF(#REF!=\"\",\"\",COUNTIF(#REF!,\">\"\"\"))","v":{"$error":"#REF!"}},null,{"$f":"IFERROR(VLOOKUP(C590,Hidden_Словник!$A$2:$C$100,3,FALSE),\"\")","v":""},null,null,null,null,null,null,null,null,null,null,null,null,null,null,null,null,null,null,""]
[{"$f":"IF(#REF!>\"\",D591&\"_\"&#REF!&\"_\"&B591,\"\")","v":{"$error":"#REF!"}},{"$f":"IF(#REF!=\"\",\"\",COUNTIF(#REF!,\">\"\"\"))","v":{"$error":"#REF!"}},null,{"$f":"IFERROR(VLOOKUP(C591,Hidden_Словник!$A$2:$C$100,3,FALSE),\"\")","v":""},null,null,null,null,null,null,null,null,null,null,null,null,null,null,null,null,null,null,""]
[{"$f":"IF(#REF!>\"\",D592&\"_\"&#REF!&\"_\"&B592,\"\")","v":{"$error":"#REF!"}},{"$f":"IF(#REF!=\"\",\"\",COUNTIF(#REF!,\">\"\"\"))","v":{"$error":"#REF!"}},null,{"$f":"IFERROR(VLOOKUP(C592,Hidden_Словник!$A$2:$C$100,3,FALSE),\"\")","v":""},null,null,null,null,null,null,null,null,null,null,null,null,null,null,null,null,null,null,""]
[{"$f":"IF(#REF!>\"\",D593&\"_\"&#REF!&\"_\"&B593,\"\")","v":{"$error":"#REF!"}},{"$f":"IF(#REF!=\"\",\"\",COUNTIF(#REF!,\">\"\"\"))","v":{"$error":"#REF!"}},null,{"$f":"IFERROR(VLOOKUP(C593,Hidden_Словник!$A$2:$C$100,3,FALSE),\"\")","v":""},null,null,null,null,null,null,null,null,null,null,null,null,null,null,null,null,null,null,""]
[{"$f":"IF(#REF!>\"\",D594&\"_\"&#REF!&\"_\"&B594,\"\")","v":{"$error":"#REF!"}},{"$f":"IF(#REF!=\"\",\"\",COUNTIF(#REF!,\">\"\"\"))","v":{"$error":"#REF!"}},null,{"$f":"IFERROR(VLOOKUP(C594,Hidden_Словник!$A$2:$C$100,3,FALSE),\"\")","v":""},null,null,null,null,null,null,null,null,null,null,null,null,null,null,null,null,null,null,""]
[{"$f":"IF(#REF!>\"\",D595&\"_\"&#REF!&\"_\"&B595,\"\")","v":{"$error":"#REF!"}},{"$f":"IF(#REF!=\"\",\"\",COUNTIF(#REF!,\">\"\"\"))","v":{"$error":"#REF!"}},null,{"$f":"IFERROR(VLOOKUP(C595,Hidden_Словник!$A$2:$C$100,3,FALSE),\"\")","v":""},null,null,null,null,null,null,null,null,null,null,null,null,null,null,null,null,null,null,""]
[{"$f":"IF(#REF!>\"\",D596&\"_\"&#REF!&\"_\"&B596,\"\")","v":{"$error":"#REF!"}},{"$f":"IF(#REF!=\"\",\"\",COUNTIF(#REF!,\">\"\"\"))","v":{"$error":"#REF!"}},null,{"$f":"IFERROR(VLOOKUP(C596,Hidden_Словник!$A$2:$C$100,3,FALSE),\"\")","v":""},null,null,null,null,null,null,null,null,null,null,null,null,null,null,null,null,null,null,""]
[{"$f":"IF(#REF!>\"\",D597&\"_\"&#REF!&\"_\"&B597,\"\")","v":{"$error":"#REF!"}},{"$f":"IF(#REF!=\"\",\"\",COUNTIF(#REF!,\">\"\"\"))","v":{"$error":"#REF!"}},null,{"$f":"IFERROR(VLOOKUP(C597,Hidden_Словник!$A$2:$C$100,3,FALSE),\"\")","v":""},null,null,null,null,null,null,null,null,null,null,null,null,null,null,null,null,null,null,""]
[{"$f":"IF(#REF!>\"\",D598&\"_\"&#REF!&\"_\"&B598,\"\")","v":{"$error":"#REF!"}},{"$f":"IF(#REF!=\"\",\"\",COUNTIF(#REF!,\">\"\"\"))","v":{"$error":"#REF!"}},null,{"$f":"IFERROR(VLOOKUP(C598,Hidden_Словник!$A$2:$C$100,3,FALSE),\"\")","v":""},null,null,null,null,null,null,null,null,null,null,null,null,null,null,null,null,null,null,""]
[{"$f":"IF(#REF!>\"\",D599&\"_\"&#REF!&\"_\"&B599,\"\")","v":{"$error":"#REF!"}},{"$f":"IF(#REF!=\"\",\"\",COUNTIF(#REF!,\">\"\"\"))","v":{"$error":"#REF!"}},null,{"$f":"IFERROR(VLOOKUP(C599,Hidden_Словник!$A$2:$C$100,3,FALSE),\"\")","v":""},null,null,null,null,null,null,null,null,null,null,null,null,null,null,null,null,null,null,""]
[{"$f":"IF(#REF!>\"\",D600&\"_\"&#REF!&\"_\"&B600,\"\")","v":{"$error":"#REF!"}},{"$f":"IF(#REF!=\"\",\"\",COUNTIF(#REF!,\">\"\"\"))","v":{"$error":"#REF!"}},null,{"$f":"IFERROR(VLOOKUP(C600,Hidden_Словник!$A$2:$C$100,3,FALSE),\"\")","v":""},null,null,null,null,null,null,null,null,null,null,null,null,null,null,null,null,null,null,""]
[{"$f":"IF(#REF!>\"\",D601&\"_\"&#REF!&\"_\"&B601,\"\")","v":{"$error":"#REF!"}},{"$f":"IF(#REF!=\"\",\"\",COUNTIF(#REF!,\">\"\"\"))","v":{"$error":"#REF!"}},null,{"$f":"IFERROR(VLOOKUP(C601,Hidden_Словник!$A$2:$C$100,3,FALSE),\"\")","v":""},null,null,null,null,null,null,null,null,null,null,null,null,null,null,null,null,null,null,""]
[{"$f":"IF(#REF!>\"\",D602&\"_\"&#REF!&\"_\"&B602,\"\")","v":{"$error":"#REF!"}},{"$f":"IF(#REF!=\"\",\"\",COUNTIF(#REF!,\">\"\"\"))","v":{"$error":"#REF!"}},null,{"$f":"IFERROR(VLOOKUP(C602,Hidden_Словник!$A$2:$C$100,3,FALSE),\"\")","v":""},null,null,null,null,null,null,null,null,null,null,null,null,null,null,null,null,null,null,""]
[{"$f":"IF(#REF!>\"\",D603&\"_\"&#REF!&\"_\"&B603,\"\")","v":{"$error":"#REF!"}},{"$f":"IF(#REF!=\"\",\"\",COUNTIF(#REF!,\">\"\"\"))","v":{"$error":"#REF!"}},null,{"$f":"IFERROR(VLOOKUP(C603,Hidden_Словник!$A$2:$C$100,3,FALSE),\"\")","v":""},null,null,null,null,null,null,null,null,null,null,null,null,null,null,null,null,null,null,""]
[{"$f":"IF(#REF!>\"\",D604&\"_\"&#REF!&\"_\"&B604,\"\")","v":{"$error":"#REF!"}},{"$f":"IF(#REF!=\"\",\"\",COUNTIF(#REF!,\">\"\"\"))","v":{"$error":"#REF!"}},null,{"$f":"IFERROR(VLOOKUP(C604,Hidden_Словник!$A$2:$C$100,3,FALSE),\"\")","v":""},null,null,null,null,null,null,null,null,null,null,null,null,null,null,null,null,null,null,""]
[{"$f":"IF(#REF!>\"\",D605&\"_\"&#REF!&\"_\"&B605,\"\")","v":{"$error":"#REF!"}},{"$f":"IF(#REF!=\"\",\"\",COUNTIF(#REF!,\">\"\"\"))","v":{"$error":"#REF!"}},null,{"$f":"IFERROR(VLOOKUP(C605,Hidden_Словник!$A$2:$C$100,3,FALSE),\"\")","v":""},null,null,null,null,null,null,null,null,null,null,null,null,null,null,null,null,null,null,""]
[{"$f":"IF(#REF!>\"\",D606&\"_\"&#REF!&\"_\"&B606,\"\")","v":{"$error":"#REF!"}},{"$f":"IF(#REF!=\"\",\"\",COUNTIF(#REF!,\">\"\"\"))","v":{"$error":"#REF!"}},null,{"$f":"IFERROR(VLOOKUP(C606,Hidden_Словник!$A$2:$C$100,3,FALSE),\"\")","v":""},null,null,null,null,null,null,null,null,null,null,null,null,null,null,null,null,null,null,""]
[{"$f":"IF(#REF!>\"\",D607&\"_\"&#REF!&\"_\"&B607,\"\")","v":{"$error":"#REF!"}},{"$f":"IF(#REF!=\"\",\"\",COUNTIF(#REF!,\">\"\"\"))","v":{"$error":"#REF!"}},null,{"$f":"IFERROR(VLOOKUP(C607,Hidden_Словник!$A$2:$C$100,3,FALSE),\"\")","v":""},null,null,null,null,null,null,null,null,null,null,null,null,null,null,null,null,null,null,""]
[{"$f":"IF(#REF!>\"\",D608&\"_\"&#REF!&\"_\"&B608,\"\")","v":{"$error":"#REF!"}},{"$f":"IF(#REF!=\"\",\"\",COUNTIF(#REF!,\">\"\"\"))","v":{"$error":"#REF!"}},null,{"$f":"IFERROR(VLOOKUP(C608,Hidden_Словник!$A$2:$C$100,3,FALSE),\"\")","v":""},null,null,null,null,null,null,null,null,null,null,null,null,null,null,null,null,null,null,""]
[{"$f":"IF(#REF!>\"\",D609&\"_\"&#REF!&\"_\"&B609,\"\")","v":{"$error":"#REF!"}},{"$f":"IF(#REF!=\"\",\"\",COUNTIF(#REF!,\">\"\"\"))","v":{"$error":"#REF!"}},null,{"$f":"IFERROR(VLOOKUP(C609,Hidden_Словник!$A$2:$C$100,3,FALSE),\"\")","v":""},null,null,null,null,null,null,null,null,null,null,null,null,null,null,null,null,null,null,""]
[{"$f":"IF(#REF!>\"\",D610&\"_\"&#REF!&\"_\"&B610,\"\")","v":{"$error":"#REF!"}},{"$f":"IF(#REF!=\"\",\"\",COUNTIF(#REF!,\">\"\"\"))","v":{"$error":"#REF!"}},null,{"$f":"IFERROR(VLOOKUP(C610,Hidden_Словник!$A$2:$C$100,3,FALSE),\"\")","v":""},null,null,null,null,null,null,null,null,null,null,null,null,null,null,null,null,null,null,""]
[{"$f":"IF(#REF!>\"\",D611&\"_\"&#REF!&\"_\"&B611,\"\")","v":{"$error":"#REF!"}},{"$f":"IF(#REF!=\"\",\"\",COUNTIF(#REF!,\">\"\"\"))","v":{"$error":"#REF!"}},null,{"$f":"IFERROR(VLOOKUP(C611,Hidden_Словник!$A$2:$C$100,3,FALSE),\"\")","v":""},null,null,null,null,null,null,null,null,null,null,null,null,null,null,null,null,null,null,""]
[{"$f":"IF(#REF!>\"\",D612&\"_\"&#REF!&\"_\"&B612,\"\")","v":{"$error":"#REF!"}},{"$f":"IF(#REF!=\"\",\"\",COUNTIF(#REF!,\">\"\"\"))","v":{"$error":"#REF!"}},null,{"$f":"IFERROR(VLOOKUP(C612,Hidden_Словник!$A$2:$C$100,3,FALSE),\"\")","v":""},null,null,null,null,null,null,null,null,null,null,null,null,null,null,null,null,null,null,""]
[{"$f":"IF(#REF!>\"\",D613&\"_\"&#REF!&\"_\"&B613,\"\")","v":{"$error":"#REF!"}},{"$f":"IF(#REF!=\"\",\"\",COUNTIF(#REF!,\">\"\"\"))","v":{"$error":"#REF!"}},null,{"$f":"IFERROR(VLOOKUP(C613,Hidden_Словник!$A$2:$C$100,3,FALSE),\"\")","v":""},null,null,null,null,null,null,null,null,null,null,null,null,null,null,null,null,null,null,""]
[{"$f":"IF(#REF!>\"\",D614&\"_\"&#REF!&\"_\"&B614,\"\")","v":{"$error":"#REF!"}},{"$f":"IF(#REF!=\"\",\"\",COUNTIF(#REF!,\">\"\"\"))","v":{"$error":"#REF!"}},null,{"$f":"IFERROR(VLOOKUP(C614,Hidden_Словник!$A$2:$C$100,3,FALSE),\"\")","v":""},null,null,null,null,null,null,null,null,null,null,null,null,null,null,null,null,null,null,""]
[{"$f":"IF(#REF!>\"\",D615&\"_\"&#REF!&\"_\"&B615,\"\")","v":{"$error":"#REF!"}},{"$f":"IF(#REF!=\"\",\"\",COUNTIF(#REF!,\">\"\"\"))","v":{"$error":"#REF!"}},null,{"$f":"IFERROR(VLOOKUP(C615,Hidden_Словник!$A$2:$C$100,3,FALSE),\"\")","v":""},null,null,null,null,null,null,null,null,null,null,null,null,null,null,null,null,null,null,""]
[{"$f":"IF(#REF!>\"\",D616&\"_\"&#REF!&\"_\"&B616,\"\")","v":{"$error":"#REF!"}},{"$f":"IF(#REF!=\"\",\"\",COUNTIF(#REF!,\">\"\"\"))","v":{"$error":"#REF!"}},null,{"$f":"IFERROR(VLOOKUP(C616,Hidden_Словник!$A$2:$C$100,3,FALSE),\"\")","v":""},null,null,null,null,null,null,null,null,null,null,null,null,null,null,null,null,null,null,{"$f":"IF(X616+Y616>0,X616+Y616,\"\")","v":""}]
[{"$f":"IF(#REF!>\"\",D617&\"_\"&#REF!&\"_\"&B617,\"\")","v":{"$error":"#REF!"}},{"$f":"IF(#REF!=\"\",\"\",COUNTIF(#REF!,\">\"\"\"))","v":{"$error":"#REF!"}},null,{"$f":"IFERROR(VLOOKUP(C617,Hidden_Словник!$A$2:$C$100,3,FALSE),\"\")","v":""},null,null,null,null,null,null,null,null,null,null,null,null,null,null,null,null,null,null,""]
[{"$f":"IF(#REF!>\"\",D618&\"_\"&#REF!&\"_\"&B618,\"\")","v":{"$error":"#REF!"}},{"$f":"IF(#REF!=\"\",\"\",COUNTIF(#REF!,\">\"\"\"))","v":{"$error":"#REF!"}},null,{"$f":"IFERROR(VLOOKUP(C618,Hidden_Словник!$A$2:$C$100,3,FALSE),\"\")","v":""},null,null,null,null,null,null,null,null,null,null,null,null,null,null,null,null,null,null,""]
[{"$f":"IF(#REF!>\"\",D619&\"_\"&#REF!&\"_\"&B619,\"\")","v":{"$error":"#REF!"}},{"$f":"IF(#REF!=\"\",\"\",COUNTIF(#REF!,\">\"\"\"))","v":{"$error":"#REF!"}},null,{"$f":"IFERROR(VLOOKUP(C619,Hidden_Словник!$A$2:$C$100,3,FALSE),\"\")","v":""},null,null,null,null,null,null,null,null,null,null,null,null,null,null,null,null,null,null,""]
[{"$f":"IF(#REF!>\"\",D620&\"_\"&#REF!&\"_\"&B620,\"\")","v":{"$error":"#REF!"}},{"$f":"IF(#REF!=\"\",\"\",COUNTIF(#REF!,\">\"\"\"))","v":{"$error":"#REF!"}},null,{"$f":"IFERROR(VLOOKUP(C620,Hidden_Словник!$A$2:$C$100,3,FALSE),\"\")","v":""},null,null,null,null,null,null,null,null,null,null,null,null,null,null,null,null,null,null,""]
[{"$f":"IF(#REF!>\"\",D621&\"_\"&#REF!&\"_\"&B621,\"\")","v":{"$error":"#REF!"}},{"$f":"IF(#REF!=\"\",\"\",COUNTIF(#REF!,\">\"\"\"))","v":{"$error":"#REF!"}},null,{"$f":"IFERROR(VLOOKUP(C621,Hidden_Словник!$A$2:$C$100,3,FALSE),\"\")","v":""},null,null,null,null,null,null,null,null,null,null,null,null,null,null,null,null,null,null,""]
[{"$f":"IF(#REF!>\"\",D622&\"_\"&#REF!&\"_\"&B622,\"\")","v":{"$error":"#REF!"}},{"$f":"IF(#REF!=\"\",\"\",COUNTIF(#REF!,\">\"\"\"))","v":{"$error":"#REF!"}},null,{"$f":"IFERROR(VLOOKUP(C622,Hidden_Словник!$A$2:$C$100,3,FALSE),\"\")","v":""},null,null,null,null,null,null,null,null,null,null,null,null,null,null,null,null,null,null,""]
[{"$f":"IF(#REF!>\"\",D623&\"_\"&#REF!&\"_\"&B623,\"\")","v":{"$error":"#REF!"}},{"$f":"IF(#REF!=\"\",\"\",COUNTIF(#REF!,\">\"\"\"))","v":{"$error":"#REF!"}},null,{"$f":"IFERROR(VLOOKUP(C623,Hidden_Словник!$A$2:$C$100,3,FALSE),\"\")","v":""},null,null,null,null,null,null,null,null,null,null,null,null,null,null,null,null,null,null,""]
[{"$f":"IF(#REF!>\"\",D624&\"_\"&#REF!&\"_\"&B624,\"\")","v":{"$error":"#REF!"}},{"$f":"IF(#REF!=\"\",\"\",COUNTIF(#REF!,\">\"\"\"))","v":{"$error":"#REF!"}},null,{"$f":"IFERROR(VLOOKUP(C624,Hidden_Словник!$A$2:$C$100,3,FALSE),\"\")","v":""},null,null,null,null,null,null,null,null,null,null,null,null,null,null,null,null,null,null,""]
[{"$f":"IF(#REF!>\"\",D625&\"_\"&#REF!&\"_\"&B625,\"\")","v":{"$error":"#REF!"}},{"$f":"IF(#REF!=\"\",\"\",COUNTIF(#REF!,\">\"\"\"))","v":{"$error":"#REF!"}},null,{"$f":"IFERROR(VLOOKUP(C625,Hidden_Словник!$A$2:$C$100,3,FALSE),\"\")","v":""},null,null,null,null,null,null,null,null,null,null,null,null,null,null,null,null,null,null,""]
[{"$f":"IF(#REF!>\"\",D626&\"_\"&#REF!&\"_\"&B626,\"\")","v":{"$error":"#REF!"}},{"$f":"IF(#REF!=\"\",\"\",COUNTIF(#REF!,\">\"\"\"))","v":{"$error":"#REF!"}},null,{"$f":"IFERROR(VLOOKUP(C626,Hidden_Словник!$A$2:$C$100,3,FALSE),\"\")","v":""},null,null,null,null,null,null,null,null,null,null,null,null,null,null,null,null,null,null,""]
[{"$f":"IF(#REF!>\"\",D627&\"_\"&#REF!&\"_\"&B627,\"\")","v":{"$error":"#REF!"}},{"$f":"IF(#REF!=\"\",\"\",COUNTIF(#REF!,\">\"\"\"))","v":{"$error":"#REF!"}},null,{"$f":"IFERROR(VLOOKUP(C627,Hidden_Словник!$A$2:$C$100,3,FALSE),\"\")","v":""},null,null,null,null,null,null,null,null,null,null,null,null,null,null,null,null,null,null,""]
[{"$f":"IF(#REF!>\"\",D628&\"_\"&#REF!&\"_\"&B628,\"\")","v":{"$error":"#REF!"}},{"$f":"IF(#REF!=\"\",\"\",COUNTIF(#REF!,\">\"\"\"))","v":{"$error":"#REF!"}},null,{"$f":"IFERROR(VLOOKUP(C628,Hidden_Словник!$A$2:$C$100,3,FALSE),\"\")","v":""},null,null,null,null,null,null,null,null,null,null,null,null,null,null,null,null,null,null,""]
[{"$f":"IF(#REF!>\"\",D629&\"_\"&#REF!&\"_\"&B629,\"\")","v":{"$error":"#REF!"}},{"$f":"IF(#REF!=\"\",\"\",COUNTIF(#REF!,\">\"\"\"))","v":{"$error":"#REF!"}},null,{"$f":"IFERROR(VLOOKUP(C629,Hidden_Словник!$A$2:$C$100,3,FALSE),\"\")","v":""},null,null,null,null,null,null,null,null,null,null,null,null,null,null,null,null,null,null,""]
[{"$f":"IF(#REF!>\"\",D630&\"_\"&#REF!&\"_\"&B630,\"\")","v":{"$error":"#REF!"}},{"$f":"IF(#REF!=\"\",\"\",COUNTIF(#REF!,\">\"\"\"))","v":{"$error":"#REF!"}},null,{"$f":"IFERROR(VLOOKUP(C630,Hidden_Словник!$A$2:$C$100,3,FALSE),\"\")","v":""},null,null,null,null,null,null,null,null,null,null,null,null,null,null,null,null,null,null,""]
[{"$f":"IF(#REF!>\"\",D631&\"_\"&#REF!&\"_\"&B631,\"\")","v":{"$error":"#REF!"}},{"$f":"IF(#REF!=\"\",\"\",COUNTIF(#REF!,\">\"\"\"))","v":{"$error":"#REF!"}},null,{"$f":"IFERROR(VLOOKUP(C631,Hidden_Словник!$A$2:$C$100,3,FALSE),\"\")","v":""},null,null,null,null,null,null,null,null,null,null,null,null,null,null,null,null,null,null,""]
[{"$f":"IF(#REF!>\"\",D632&\"_\"&#REF!&\"_\"&B632,\"\")","v":{"$error":"#REF!"}},{"$f":"IF(#REF!=\"\",\"\",COUNTIF(#REF!,\">\"\"\"))","v":{"$error":"#REF!"}},null,{"$f":"IFERROR(VLOOKUP(C632,Hidden_Словник!$A$2:$C$100,3,FALSE),\"\")","v":""},null,null,null,null,null,null,null,null,null,null,null,null,null,null,null,null,null,null,""]
[{"$f":"IF(#REF!>\"\",D633&\"_\"&#REF!&\"_\"&B633,\"\")","v":{"$error":"#REF!"}},{"$f":"IF(#REF!=\"\",\"\",COUNTIF(#REF!,\">\"\"\"))","v":{"$error":"#REF!"}},null,{"$f":"IFERROR(VLOOKUP(C633,Hidden_Словник!$A$2:$C$100,3,FALSE),\"\")","v":""},null,null,null,null,null,null,null,null,null,null,null,null,null,null,null,null,null,null,""]
[{"$f":"IF(#REF!>\"\",D634&\"_\"&#REF!&\"_\"&B634,\"\")","v":{"$error":"#REF!"}},{"$f":"IF(#REF!=\"\",\"\",COUNTIF(#REF!,\">\"\"\"))","v":{"$error":"#REF!"}},null,{"$f":"IFERROR(VLOOKUP(C634,Hidden_Словник!$A$2:$C$100,3,FALSE),\"\")","v":""},null,null,null,null,null,null,null,null,null,null,null,null,null,null,null,null,null,null,""]
[{"$f":"IF(#REF!>\"\",D635&\"_\"&#REF!&\"_\"&B635,\"\")","v":{"$error":"#REF!"}},{"$f":"IF(#REF!=\"\",\"\",COUNTIF(#REF!,\">\"\"\"))","v":{"$error":"#REF!"}},null,{"$f":"IFERROR(VLOOKUP(C635,Hidden_Словник!$A$2:$C$100,3,FALSE),\"\")","v":""},null,null,null,null,null,null,null,null,null,null,null,null,null,null,null,null,null,null,""]
[{"$f":"IF(#REF!>\"\",D636&\"_\"&#REF!&\"_\"&B636,\"\")","v":{"$error":"#REF!"}},{"$f":"IF(#REF!=\"\",\"\",COUNTIF(#REF!,\">\"\"\"))","v":{"$error":"#REF!"}},null,{"$f":"IFERROR(VLOOKUP(C636,Hidden_Словник!$A$2:$C$100,3,FALSE),\"\")","v":""},null,null,null,null,null,null,null,null,null,null,null,null,null,null,null,null,null,null,""]
[{"$f":"IF(#REF!>\"\",D637&\"_\"&#REF!&\"_\"&B637,\"\")","v":{"$error":"#REF!"}},{"$f":"IF(#REF!=\"\",\"\",COUNTIF(#REF!,\">\"\"\"))","v":{"$error":"#REF!"}},null,{"$f":"IFERROR(VLOOKUP(C637,Hidden_Словник!$A$2:$C$100,3,FALSE),\"\")","v":""},null,null,null,null,null,null,null,null,null,null,null,null,null,null,null,null,null,null,""]
[{"$f":"IF(#REF!>\"\",D638&\"_\"&#REF!&\"_\"&B638,\"\")","v":{"$error":"#REF!"}},{"$f":"IF(#REF!=\"\",\"\",COUNTIF(#REF!,\">\"\"\"))","v":{"$error":"#REF!"}},null,{"$f":"IFERROR(VLOOKUP(C638,Hidden_Словник!$A$2:$C$100,3,FALSE),\"\")","v":""},null,null,null,null,null,null,null,null,null,null,null,null,null,null,null,null,null,null,""]
[{"$f":"IF(#REF!>\"\",D639&\"_\"&#REF!&\"_\"&B639,\"\")","v":{"$error":"#REF!"}},{"$f":"IF(#REF!=\"\",\"\",COUNTIF(#REF!,\">\"\"\"))","v":{"$error":"#REF!"}},null,{"$f":"IFERROR(VLOOKUP(C639,Hidden_Словник!$A$2:$C$100,3,FALSE),\"\")","v":""},null,null,null,null,null,null,null,null,null,null,null,null,null,null,null,null,null,null,""]
[{"$f":"IF(#REF!>\"\",D640&\"_\"&#REF!&\"_\"&B640,\"\")","v":{"$error":"#REF!"}},{"$f":"IF(#REF!=\"\",\"\",COUNTIF(#REF!,\">\"\"\"))","v":{"$error":"#REF!"}},null,{"$f":"IFERROR(VLOOKUP(C640,Hidden_Словник!$A$2:$C$100,3,FALSE),\"\")","v":""},null,null,null,null,null,null,null,null,null,null,null,null,null,null,null,null,null,null,""]
[{"$f":"IF(#REF!>\"\",D641&\"_\"&#REF!&\"_\"&B641,\"\")","v":{"$error":"#REF!"}},{"$f":"IF(#REF!=\"\",\"\",COUNTIF(#REF!,\">\"\"\"))","v":{"$error":"#REF!"}},null,{"$f":"IFERROR(VLOOKUP(C641,Hidden_Словник!$A$2:$C$100,3,FALSE),\"\")","v":""},null,null,null,null,null,null,null,null,null,null,null,null,null,null,null,null,null,null,""]
[{"$f":"IF(#REF!>\"\",D642&\"_\"&#REF!&\"_\"&B642,\"\")","v":{"$error":"#REF!"}},{"$f":"IF(#REF!=\"\",\"\",COUNTIF(#REF!,\">\"\"\"))","v":{"$error":"#REF!"}},null,{"$f":"IFERROR(VLOOKUP(C642,Hidden_Словник!$A$2:$C$100,3,FALSE),\"\")","v":""},null,null,null,null,null,null,null,null,null,null,null,null,null,null,null,null,null,null,""]
[{"$f":"IF(#REF!>\"\",D643&\"_\"&#REF!&\"_\"&B643,\"\")","v":{"$error":"#REF!"}},{"$f":"IF(#REF!=\"\",\"\",COUNTIF(#REF!,\">\"\"\"))","v":{"$error":"#REF!"}},null,{"$f":"IFERROR(VLOOKUP(C643,Hidden_Словник!$A$2:$C$100,3,FALSE),\"\")","v":""},null,null,null,null,null,null,null,null,null,null,null,null,null,null,null,null,null,null,""]
[{"$f":"IF(#REF!>\"\",D644&\"_\"&#REF!&\"_\"&B644,\"\")","v":{"$error":"#REF!"}},{"$f":"IF(#REF!=\"\",\"\",COUNTIF(#REF!,\">\"\"\"))","v":{"$error":"#REF!"}},null,{"$f":"IFERROR(VLOOKUP(C644,Hidden_Словник!$A$2:$C$100,3,FALSE),\"\")","v":""},null,null,null,null,null,null,null,null,null,null,null,null,null,null,null,null,null,null,""]
[{"$f":"IF(#REF!>\"\",D645&\"_\"&#REF!&\"_\"&B645,\"\")","v":{"$error":"#REF!"}},{"$f":"IF(#REF!=\"\",\"\",COUNTIF(#REF!,\">\"\"\"))","v":{"$error":"#REF!"}},null,{"$f":"IFERROR(VLOOKUP(C645,Hidden_Словник!$A$2:$C$100,3,FALSE),\"\")","v":""},null,null,null,null,null,null,null,null,null,null,null,null,null,null,null,null,null,null,""]
[{"$f":"IF(#REF!>\"\",D646&\"_\"&#REF!&\"_\"&B646,\"\")","v":{"$error":"#REF!"}},{"$f":"IF(#REF!=\"\",\"\",COUNTIF(#REF!,\">\"\"\"))","v":{"$error":"#REF!"}},null,{"$f":"IFERROR(VLOOKUP(C646,Hidden_Словник!$A$2:$C$100,3,FALSE),\"\")","v":""},null,null,null,null,null,null,null,null,null,null,null,null,null,null,null,null,null,null,""]
[{"$f":"IF(#REF!>\"\",D647&\"_\"&#REF!&\"_\"&B647,\"\")","v":{"$error":"#REF!"}},{"$f":"IF(#REF!=\"\",\"\",COUNTIF(#REF!,\">\"\"\"))","v":{"$error":"#REF!"}},null,{"$f":"IFERROR(VLOOKUP(C647,Hidden_Словник!$A$2:$C$100,3,FALSE),\"\")","v":""},null,null,null,null,null,null,null,null,null,null,null,null,null,null,null,null,null,null,""]
[{"$f":"IF(#REF!>\"\",D648&\"_\"&#REF!&\"_\"&B648,\"\")","v":{"$error":"#REF!"}},{"$f":"IF(#REF!=\"\",\"\",COUNTIF(#REF!,\">\"\"\"))","v":{"$error":"#REF!"}},null,{"$f":"IFERROR(VLOOKUP(C648,Hidden_Словник!$A$2:$C$100,3,FALSE),\"\")","v":""},null,null,null,null,null,null,null,null,null,null,null,null,null,null,null,null,null,null,""]
[{"$f":"IF(#REF!>\"\",D649&\"_\"&#REF!&\"_\"&B649,\"\")","v":{"$error":"#REF!"}},{"$f":"IF(#REF!=\"\",\"\",COUNTIF(#REF!,\">\"\"\"))","v":{"$error":"#REF!"}},null,{"$f":"IFERROR(VLOOKUP(C649,Hidden_Словник!$A$2:$C$100,3,FALSE),\"\")","v":""},null,null,null,null,null,null,null,null,null,null,null,null,null,null,null,null,null,null,""]
[{"$f":"IF(#REF!>\"\",D650&\"_\"&#REF!&\"_\"&B650,\"\")","v":{"$error":"#REF!"}},{"$f":"IF(#REF!=\"\",\"\",COUNTIF(#REF!,\">\"\"\"))","v":{"$error":"#REF!"}},null,{"$f":"IFERROR(VLOOKUP(C650,Hidden_Словник!$A$2:$C$100,3,FALSE),\"\")","v":""},null,null,null,null,null,null,null,null,null,null,null,null,null,null,null,null,null,null,""]
[{"$f":"IF(#REF!>\"\",D651&\"_\"&#REF!&\"_\"&B651,\"\")","v":{"$error":"#REF!"}},{"$f":"IF(#REF!=\"\",\"\",COUNTIF(#REF!,\">\"\"\"))","v":{"$error":"#REF!"}},null,{"$f":"IFERROR(VLOOKUP(C651,Hidden_Словник!$A$2:$C$100,3,FALSE),\"\")","v":""},null,null,null,null,null,null,null,null,null,null,null,null,null,null,null,null,null,null,""]
[{"$f":"IF(#REF!>\"\",D652&\"_\"&#REF!&\"_\"&B652,\"\")","v":{"$error":"#REF!"}},{"$f":"IF(#REF!=\"\",\"\",COUNTIF(#REF!,\">\"\"\"))","v":{"$error":"#REF!"}},null,{"$f":"IFERROR(VLOOKUP(C652,Hidden_Словник!$A$2:$C$100,3,FALSE),\"\")","v":""},null,null,null,null,null,null,null,null,null,null,null,null,null,null,null,null,null,null,""]
[{"$f":"IF(#REF!>\"\",D653&\"_\"&#REF!&\"_\"&B653,\"\")","v":{"$error":"#REF!"}},{"$f":"IF(#REF!=\"\",\"\",COUNTIF(#REF!,\">\"\"\"))","v":{"$error":"#REF!"}},null,{"$f":"IFERROR(VLOOKUP(C653,Hidden_Словник!$A$2:$C$100,3,FALSE),\"\")","v":""},null,null,null,null,null,null,null,null,null,null,null,null,null,null,null,null,null,null,""]
[{"$f":"IF(#REF!>\"\",D654&\"_\"&#REF!&\"_\"&B654,\"\")","v":{"$error":"#REF!"}},{"$f":"IF(#REF!=\"\",\"\",COUNTIF(#REF!,\">\"\"\"))","v":{"$error":"#REF!"}},null,{"$f":"IFERROR(VLOOKUP(C654,Hidden_Словник!$A$2:$C$100,3,FALSE),\"\")","v":""},null,null,null,null,null,null,null,null,null,null,null,null,null,null,null,null,null,null,""]
[{"$f":"IF(#REF!>\"\",D655&\"_\"&#REF!&\"_\"&B655,\"\")","v":{"$error":"#REF!"}},{"$f":"IF(#REF!=\"\",\"\",COUNTIF(#REF!,\">\"\"\"))","v":{"$error":"#REF!"}},null,{"$f":"IFERROR(VLOOKUP(C655,Hidden_Словник!$A$2:$C$100,3,FALSE),\"\")","v":""},null,null,null,null,null,null,null,null,null,null,null,null,null,null,null,null,null,null,""]
[{"$f":"IF(#REF!>\"\",D656&\"_\"&#REF!&\"_\"&B656,\"\")","v":{"$error":"#REF!"}},{"$f":"IF(#REF!=\"\",\"\",COUNTIF(#REF!,\">\"\"\"))","v":{"$error":"#REF!"}},null,{"$f":"IFERROR(VLOOKUP(C656,Hidden_Словник!$A$2:$C$100,3,FALSE),\"\")","v":""},null,null,null,null,null,null,null,null,null,null,null,null,null,null,null,null,null,null,""]
[{"$f":"IF(#REF!>\"\",D657&\"_\"&#REF!&\"_\"&B657,\"\")","v":{"$error":"#REF!"}},{"$f":"IF(#REF!=\"\",\"\",COUNTIF(#REF!,\">\"\"\"))","v":{"$error":"#REF!"}},null,{"$f":"IFERROR(VLOOKUP(C657,Hidden_Словник!$A$2:$C$100,3,FALSE),\"\")","v":""},null,null,null,null,null,null,null,null,null,null,null,null,null,null,null,null,null,null,""]
[{"$f":"IF(#REF!>\"\",D658&\"_\"&#REF!&\"_\"&B658,\"\")","v":{"$error":"#REF!"}},{"$f":"IF(#REF!=\"\",\"\",COUNTIF(#REF!,\">\"\"\"))","v":{"$error":"#REF!"}},null,{"$f":"IFERROR(VLOOKUP(C658,Hidden_Словник!$A$2:$C$100,3,FALSE),\"\")","v":""},null,null,null,null,null,null,null,null,null,null,null,null,null,null,null,null,null,null,""]
[{"$f":"IF(#REF!>\"\",D659&\"_\"&#REF!&\"_\"&B659,\"\")","v":{"$error":"#REF!"}},{"$f":"IF(#REF!=\"\",\"\",COUNTIF(#REF!,\">\"\"\"))","v":{"$error":"#REF!"}},null,{"$f":"IFERROR(VLOOKUP(C659,Hidden_Словник!$A$2:$C$100,3,FALSE),\"\")","v":""},null,null,null,null,null,null,null,null,null,null,null,null,null,null,null,null,null,null,""]
[{"$f":"IF(#REF!>\"\",D660&\"_\"&#REF!&\"_\"&B660,\"\")","v":{"$error":"#REF!"}},{"$f":"IF(#REF!=\"\",\"\",COUNTIF(#REF!,\">\"\"\"))","v":{"$error":"#REF!"}},null,{"$f":"IFERROR(VLOOKUP(C660,Hidden_Словник!$A$2:$C$100,3,FALSE),\"\")","v":""},null,null,null,null,null,null,null,null,null,null,null,null,null,null,null,null,null,null,""]
[{"$f":"IF(#REF!>\"\",D661&\"_\"&#REF!&\"_\"&B661,\"\")","v":{"$error":"#REF!"}},{"$f":"IF(#REF!=\"\",\"\",COUNTIF(#REF!,\">\"\"\"))","v":{"$error":"#REF!"}},null,{"$f":"IFERROR(VLOOKUP(C661,Hidden_Словник!$A$2:$C$100,3,FALSE),\"\")","v":""},null,null,null,null,null,null,null,null,null,null,null,null,null,null,null,null,null,null,""]
[{"$f":"IF(#REF!>\"\",D662&\"_\"&#REF!&\"_\"&B662,\"\")","v":{"$error":"#REF!"}},{"$f":"IF(#REF!=\"\",\"\",COUNTIF(#REF!,\">\"\"\"))","v":{"$error":"#REF!"}},null,{"$f":"IFERROR(VLOOKUP(C662,Hidden_Словник!$A$2:$C$100,3,FALSE),\"\")","v":""},null,null,null,null,null,null,null,null,null,null,null,null,null,null,null,null,null,null,""]
[{"$f":"IF(#REF!>\"\",D663&\"_\"&#REF!&\"_\"&B663,\"\")","v":{"$error":"#REF!"}},{"$f":"IF(#REF!=\"\",\"\",COUNTIF(#REF!,\">\"\"\"))","v":{"$error":"#REF!"}},null,{"$f":"IFERROR(VLOOKUP(C663,Hidden_Словник!$A$2:$C$100,3,FALSE),\"\")","v":""},null,null,null,null,null,null,null,null,null,null,null,null,null,null,null,null,null,null,""]
[{"$f":"IF(#REF!>\"\",D664&\"_\"&#REF!&\"_\"&B664,\"\")","v":{"$error":"#REF!"}},{"$f":"IF(#REF!=\"\",\"\",COUNTIF(#REF!,\">\"\"\"))","v":{"$error":"#REF!"}},null,{"$f":"IFERROR(VLOOKUP(C664,Hidden_Словник!$A$2:$C$100,3,FALSE),\"\")","v":""},null,null,null,null,null,null,null,null,null,null,null,null,null,null,null,null,null,null,""]
[{"$f":"IF(#REF!>\"\",D665&\"_\"&#REF!&\"_\"&B665,\"\")","v":{"$error":"#REF!"}},{"$f":"IF(#REF!=\"\",\"\",COUNTIF(#REF!,\">\"\"\"))","v":{"$error":"#REF!"}},null,{"$f":"IFERROR(VLOOKUP(C665,Hidden_Словник!$A$2:$C$100,3,FALSE),\"\")","v":""},null,null,null,null,null,null,null,null,null,null,null,null,null,null,null,null,null,null,""]
[{"$f":"IF(#REF!>\"\",D666&\"_\"&#REF!&\"_\"&B666,\"\")","v":{"$error":"#REF!"}},{"$f":"IF(#REF!=\"\",\"\",COUNTIF(#REF!,\">\"\"\"))","v":{"$error":"#REF!"}},null,{"$f":"IFERROR(VLOOKUP(C666,Hidden_Словник!$A$2:$C$100,3,FALSE),\"\")","v":""},null,null,null,null,null,null,null,null,null,null,null,null,null,null,null,null,null,null,""]
[{"$f":"IF(#REF!>\"\",D667&\"_\"&#REF!&\"_\"&B667,\"\")","v":{"$error":"#REF!"}},{"$f":"IF(#REF!=\"\",\"\",COUNTIF(#REF!,\">\"\"\"))","v":{"$error":"#REF!"}},null,{"$f":"IFERROR(VLOOKUP(C667,Hidden_Словник!$A$2:$C$100,3,FALSE),\"\")","v":""},null,null,null,null,null,null,null,null,null,null,null,null,null,null,null,null,null,null,""]
[{"$f":"IF(#REF!>\"\",D668&\"_\"&#REF!&\"_\"&B668,\"\")","v":{"$error":"#REF!"}},{"$f":"IF(#REF!=\"\",\"\",COUNTIF(#REF!,\">\"\"\"))","v":{"$error":"#REF!"}},null,{"$f":"IFERROR(VLOOKUP(C668,Hidden_Словник!$A$2:$C$100,3,FALSE),\"\")","v":""},null,null,null,null,null,null,null,null,null,null,null,null,null,null,null,null,null,null,""]
[{"$f":"IF(#REF!>\"\",D669&\"_\"&#REF!&\"_\"&B669,\"\")","v":{"$error":"#REF!"}},{"$f":"IF(#REF!=\"\",\"\",COUNTIF(#REF!,\">\"\"\"))","v":{"$error":"#REF!"}},null,{"$f":"IFERROR(VLOOKUP(C669,Hidden_Словник!$A$2:$C$100,3,FALSE),\"\")","v":""},null,null,null,null,null,null,null,null,null,null,null,null,null,null,null,null,null,null,""]
[{"$f":"IF(#REF!>\"\",D670&\"_\"&#REF!&\"_\"&B670,\"\")","v":{"$error":"#REF!"}},{"$f":"IF(#REF!=\"\",\"\",COUNTIF(#REF!,\">\"\"\"))","v":{"$error":"#REF!"}},null,{"$f":"IFERROR(VLOOKUP(C670,Hidden_Словник!$A$2:$C$100,3,FALSE),\"\")","v":""},null,null,null,null,null,null,null,null,null,null,null,null,null,null,null,null,null,null,""]
[{"$f":"IF(#REF!>\"\",D671&\"_\"&#REF!&\"_\"&B671,\"\")","v":{"$error":"#REF!"}},{"$f":"IF(#REF!=\"\",\"\",COUNTIF(#REF!,\">\"\"\"))","v":{"$error":"#REF!"}},null,{"$f":"IFERROR(VLOOKUP(C671,Hidden_Словник!$A$2:$C$100,3,FALSE),\"\")","v":""},null,null,null,null,null,null,null,null,null,null,null,null,null,null,null,null,null,null,""]
[{"$f":"IF(#REF!>\"\",D672&\"_\"&#REF!&\"_\"&B672,\"\")","v":{"$error":"#REF!"}},{"$f":"IF(#REF!=\"\",\"\",COUNTIF(#REF!,\">\"\"\"))","v":{"$error":"#REF!"}},null,{"$f":"IFERROR(VLOOKUP(C672,Hidden_Словник!$A$2:$C$100,3,FALSE),\"\")","v":""},null,null,null,null,null,null,null,null,null,null,null,null,null,null,null,null,null,null,""]
[{"$f":"IF(#REF!>\"\",D673&\"_\"&#REF!&\"_\"&B673,\"\")","v":{"$error":"#REF!"}},{"$f":"IF(#REF!=\"\",\"\",COUNTIF(#REF!,\">\"\"\"))","v":{"$error":"#REF!"}},null,{"$f":"IFERROR(VLOOKUP(C673,Hidden_Словник!$A$2:$C$100,3,FALSE),\"\")","v":""},null,null,null,null,null,null,null,null,null,null,null,null,null,null,null,null,null,null,""]
[{"$f":"IF(#REF!>\"\",D674&\"_\"&#REF!&\"_\"&B674,\"\")","v":{"$error":"#REF!"}},{"$f":"IF(#REF!=\"\",\"\",COUNTIF(#REF!,\">\"\"\"))","v":{"$error":"#REF!"}},null,{"$f":"IFERROR(VLOOKUP(C674,Hidden_Словник!$A$2:$C$100,3,FALSE),\"\")","v":""},null,null,null,null,null,null,null,null,null,null,null,null,null,null,null,null,null,null,""]
[{"$f":"IF(#REF!>\"\",D675&\"_\"&#REF!&\"_\"&B675,\"\")","v":{"$error":"#REF!"}},{"$f":"IF(#REF!=\"\",\"\",COUNTIF(#REF!,\">\"\"\"))","v":{"$error":"#REF!"}},null,{"$f":"IFERROR(VLOOKUP(C675,Hidden_Словник!$A$2:$C$100,3,FALSE),\"\")","v":""},null,null,null,null,null,null,null,null,null,null,null,null,null,null,null,null,null,null,""]
[{"$f":"IF(#REF!>\"\",D676&\"_\"&#REF!&\"_\"&B676,\"\")","v":{"$error":"#REF!"}},{"$f":"IF(#REF!=\"\",\"\",COUNTIF(#REF!,\">\"\"\"))","v":{"$error":"#REF!"}},null,{"$f":"IFERROR(VLOOKUP(C676,Hidden_Словник!$A$2:$C$100,3,FALSE),\"\")","v":""},null,null,null,null,null,null,null,null,null,null,null,null,null,null,null,null,null,null,""]
[{"$f":"IF(#REF!>\"\",D677&\"_\"&#REF!&\"_\"&B677,\"\")","v":{"$error":"#REF!"}},{"$f":"IF(#REF!=\"\",\"\",COUNTIF(#REF!,\">\"\"\"))","v":{"$error":"#REF!"}},null,{"$f":"IFERROR(VLOOKUP(C677,Hidden_Словник!$A$2:$C$100,3,FALSE),\"\")","v":""},null,null,null,null,null,null,null,null,null,null,null,null,null,null,null,null,null,null,""]
[{"$f":"IF(#REF!>\"\",D678&\"_\"&#REF!&\"_\"&B678,\"\")","v":{"$error":"#REF!"}},{"$f":"IF(#REF!=\"\",\"\",COUNTIF(#REF!,\">\"\"\"))","v":{"$error":"#REF!"}},null,{"$f":"IFERROR(VLOOKUP(C678,Hidden_Словник!$A$2:$C$100,3,FALSE),\"\")","v":""},null,null,null,null,null,null,null,null,null,null,null,null,null,null,null,null,null,null,""]
[{"$f":"IF(#REF!>\"\",D679&\"_\"&#REF!&\"_\"&B679,\"\")","v":{"$error":"#REF!"}},{"$f":"IF(#REF!=\"\",\"\",COUNTIF(#REF!,\">\"\"\"))","v":{"$error":"#REF!"}},null,{"$f":"IFERROR(VLOOKUP(C679,Hidden_Словник!$A$2:$C$100,3,FALSE),\"\")","v":""},null,null,null,null,null,null,null,null,null,null,null,null,null,null,null,null,null,null,""]
[{"$f":"IF(#REF!>\"\",D680&\"_\"&#REF!&\"_\"&B680,\"\")","v":{"$error":"#REF!"}},{"$f":"IF(#REF!=\"\",\"\",COUNTIF(#REF!,\">\"\"\"))","v":{"$error":"#REF!"}},null,{"$f":"IFERROR(VLOOKUP(C680,Hidden_Словник!$A$2:$C$100,3,FALSE),\"\")","v":""},null,null,null,null,null,null,null,null,null,null,null,null,null,null,null,null,null,null,{"$f":"IF(X680+Y680>0,X680+Y680,\"\")","v":""}]
[{"$f":"IF(#REF!>\"\",D681&\"_\"&#REF!&\"_\"&B681,\"\")","v":{"$error":"#REF!"}},{"$f":"IF(#REF!=\"\",\"\",COUNTIF(#REF!,\">\"\"\"))","v":{"$error":"#REF!"}},null,{"$f":"IFERROR(VLOOKUP(C681,Hidden_Словник!$A$2:$C$100,3,FALSE),\"\")","v":""},null,null,null,null,null,null,null,null,null,null,null,null,null,null,null,null,null,null,""]
[{"$f":"IF(#REF!>\"\",D682&\"_\"&#REF!&\"_\"&B682,\"\")","v":{"$error":"#REF!"}},{"$f":"IF(#REF!=\"\",\"\",COUNTIF(#REF!,\">\"\"\"))","v":{"$error":"#REF!"}},null,{"$f":"IFERROR(VLOOKUP(C682,Hidden_Словник!$A$2:$C$100,3,FALSE),\"\")","v":""},null,null,null,null,null,null,null,null,null,null,null,null,null,null,null,null,null,null,""]
[{"$f":"IF(#REF!>\"\",D683&\"_\"&#REF!&\"_\"&B683,\"\")","v":{"$error":"#REF!"}},{"$f":"IF(#REF!=\"\",\"\",COUNTIF(#REF!,\">\"\"\"))","v":{"$error":"#REF!"}},null,{"$f":"IFERROR(VLOOKUP(C683,Hidden_Словник!$A$2:$C$100,3,FALSE),\"\")","v":""},null,null,null,null,null,null,null,null,null,null,null,null,null,null,null,null,null,null,""]
[{"$f":"IF(#REF!>\"\",D684&\"_\"&#REF!&\"_\"&B684,\"\")","v":{"$error":"#REF!"}},{"$f":"IF(#REF!=\"\",\"\",COUNTIF(#REF!,\">\"\"\"))","v":{"$error":"#REF!"}},null,{"$f":"IFERROR(VLOOKUP(C684,Hidden_Словник!$A$2:$C$100,3,FALSE),\"\")","v":""},null,null,null,null,null,null,null,null,null,null,null,null,null,null,null,null,null,null,""]
[{"$f":"IF(#REF!>\"\",D685&\"_\"&#REF!&\"_\"&B685,\"\")","v":{"$error":"#REF!"}},{"$f":"IF(#REF!=\"\",\"\",COUNTIF(#REF!,\">\"\"\"))","v":{"$error":"#REF!"}},null,{"$f":"IFERROR(VLOOKUP(C685,Hidden_Словник!$A$2:$C$100,3,FALSE),\"\")","v":""},null,null,null,null,null,null,null,null,null,null,null,null,null,null,null,null,null,null,""]
[{"$f":"IF(#REF!>\"\",D686&\"_\"&#REF!&\"_\"&B686,\"\")","v":{"$error":"#REF!"}},{"$f":"IF(#REF!=\"\",\"\",COUNTIF(#REF!,\">\"\"\"))","v":{"$error":"#REF!"}},null,{"$f":"IFERROR(VLOOKUP(C686,Hidden_Словник!$A$2:$C$100,3,FALSE),\"\")","v":""},null,null,null,null,null,null,null,null,null,null,null,null,null,null,null,null,null,null,""]
[{"$f":"IF(#REF!>\"\",D687&\"_\"&#REF!&\"_\"&B687,\"\")","v":{"$error":"#REF!"}},{"$f":"IF(#REF!=\"\",\"\",COUNTIF(#REF!,\">\"\"\"))","v":{"$error":"#REF!"}},null,{"$f":"IFERROR(VLOOKUP(C687,Hidden_Словник!$A$2:$C$100,3,FALSE),\"\")","v":""},null,null,null,null,null,null,null,null,null,null,null,null,null,null,null,null,null,null,""]
[{"$f":"IF(#REF!>\"\",D688&\"_\"&#REF!&\"_\"&B688,\"\")","v":{"$error":"#REF!"}},{"$f":"IF(#REF!=\"\",\"\",COUNTIF(#REF!,\">\"\"\"))","v":{"$error":"#REF!"}},null,{"$f":"IFERROR(VLOOKUP(C688,Hidden_Словник!$A$2:$C$100,3,FALSE),\"\")","v":""},null,null,null,null,null,null,null,null,null,null,null,null,null,null,null,null,null,null,""]
[{"$f":"IF(#REF!>\"\",D689&\"_\"&#REF!&\"_\"&B689,\"\")","v":{"$error":"#REF!"}},{"$f":"IF(#REF!=\"\",\"\",COUNTIF(#REF!,\">\"\"\"))","v":{"$error":"#REF!"}},null,{"$f":"IFERROR(VLOOKUP(C689,Hidden_Словник!$A$2:$C$100,3,FALSE),\"\")","v":""},null,null,null,null,null,null,null,null,null,null,null,null,null,null,null,null,null,null,""]
[{"$f":"IF(#REF!>\"\",D690&\"_\"&#REF!&\"_\"&B690,\"\")","v":{"$error":"#REF!"}},{"$f":"IF(#REF!=\"\",\"\",COUNTIF(#REF!,\">\"\"\"))","v":{"$error":"#REF!"}},null,{"$f":"IFERROR(VLOOKUP(C690,Hidden_Словник!$A$2:$C$100,3,FALSE),\"\")","v":""},null,null,null,null,null,null,null,null,null,null,null,null,null,null,null,null,null,null,""]
[{"$f":"IF(#REF!>\"\",D691&\"_\"&#REF!&\"_\"&B691,\"\")","v":{"$error":"#REF!"}},{"$f":"IF(#REF!=\"\",\"\",COUNTIF(#REF!,\">\"\"\"))","v":{"$error":"#REF!"}},null,{"$f":"IFERROR(VLOOKUP(C691,Hidden_Словник!$A$2:$C$100,3,FALSE),\"\")","v":""},null,null,null,null,null,null,null,null,null,null,null,null,null,null,null,null,null,null,""]
[{"$f":"IF(#REF!>\"\",D692&\"_\"&#REF!&\"_\"&B692,\"\")","v":{"$error":"#REF!"}},{"$f":"IF(#REF!=\"\",\"\",COUNTIF(#REF!,\">\"\"\"))","v":{"$error":"#REF!"}},null,{"$f":"IFERROR(VLOOKUP(C692,Hidden_Словник!$A$2:$C$100,3,FALSE),\"\")","v":""},null,null,null,null,null,null,null,null,null,null,null,null,null,null,null,null,null,null,""]
[{"$f":"IF(#REF!>\"\",D693&\"_\"&#REF!&\"_\"&B693,\"\")","v":{"$error":"#REF!"}},{"$f":"IF(#REF!=\"\",\"\",COUNTIF(#REF!,\">\"\"\"))","v":{"$error":"#REF!"}},null,{"$f":"IFERROR(VLOOKUP(C693,Hidden_Словник!$A$2:$C$100,3,FALSE),\"\")","v":""},null,null,null,null,null,null,null,null,null,null,null,null,null,null,null,null,null,null,""]
[{"$f":"IF(#REF!>\"\",D694&\"_\"&#REF!&\"_\"&B694,\"\")","v":{"$error":"#REF!"}},{"$f":"IF(#REF!=\"\",\"\",COUNTIF(#REF!,\">\"\"\"))","v":{"$error":"#REF!"}},null,{"$f":"IFERROR(VLOOKUP(C694,Hidden_Словник!$A$2:$C$100,3,FALSE),\"\")","v":""},null,null,null,null,null,null,null,null,null,null,null,null,null,null,null,null,null,null,""]
[{"$f":"IF(#REF!>\"\",D695&\"_\"&#REF!&\"_\"&B695,\"\")","v":{"$error":"#REF!"}},{"$f":"IF(#REF!=\"\",\"\",COUNTIF(#REF!,\">\"\"\"))","v":{"$error":"#REF!"}},null,{"$f":"IFERROR(VLOOKUP(C695,Hidden_Словник!$A$2:$C$100,3,FALSE),\"\")","v":""},null,null,null,null,null,null,null,null,null,null,null,null,null,null,null,null,null,null,""]
[{"$f":"IF(#REF!>\"\",D696&\"_\"&#REF!&\"_\"&B696,\"\")","v":{"$error":"#REF!"}},{"$f":"IF(#REF!=\"\",\"\",COUNTIF(#REF!,\">\"\"\"))","v":{"$error":"#REF!"}},null,{"$f":"IFERROR(VLOOKUP(C696,Hidden_Словник!$A$2:$C$100,3,FALSE),\"\")","v":""},null,null,null,null,null,null,null,null,null,null,null,null,null,null,null,null,null,null,""]
[{"$f":"IF(#REF!>\"\",D697&\"_\"&#REF!&\"_\"&B697,\"\")","v":{"$error":"#REF!"}},{"$f":"IF(#REF!=\"\",\"\",COUNTIF(#REF!,\">\"\"\"))","v":{"$error":"#REF!"}},null,{"$f":"IFERROR(VLOOKUP(C697,Hidden_Словник!$A$2:$C$100,3,FALSE),\"\")","v":""},null,null,null,null,null,null,null,null,null,null,null,null,null,null,null,null,null,null,""]
[{"$f":"IF(#REF!>\"\",D698&\"_\"&#REF!&\"_\"&B698,\"\")","v":{"$error":"#REF!"}},{"$f":"IF(#REF!=\"\",\"\",COUNTIF(#REF!,\">\"\"\"))","v":{"$error":"#REF!"}},null,{"$f":"IFERROR(VLOOKUP(C698,Hidden_Словник!$A$2:$C$100,3,FALSE),\"\")","v":""},null,null,null,null,null,null,null,null,null,null,null,null,null,null,null,null,null,null,""]
[{"$f":"IF(#REF!>\"\",D699&\"_\"&#REF!&\"_\"&B699,\"\")","v":{"$error":"#REF!"}},{"$f":"IF(#REF!=\"\",\"\",COUNTIF(#REF!,\">\"\"\"))","v":{"$error":"#REF!"}},null,{"$f":"IFERROR(VLOOKUP(C699,Hidden_Словник!$A$2:$C$100,3,FALSE),\"\")","v":""},null,null,null,null,null,null,null,null,null,null,null,null,null,null,null,null,null,null,""]
[{"$f":"IF(#REF!>\"\",D700&\"_\"&#REF!&\"_\"&B700,\"\")","v":{"$error":"#REF!"}},{"$f":"IF(#REF!=\"\",\"\",COUNTIF(#REF!,\">\"\"\"))","v":{"$error":"#REF!"}},null,{"$f":"IFERROR(VLOOKUP(C700,Hidden_Словник!$A$2:$C$100,3,FALSE),\"\")","v":""},null,null,null,null,null,null,null,null,null,null,null,null,null,null,null,null,null,null,""]
[{"$f":"IF(#REF!>\"\",D701&\"_\"&#REF!&\"_\"&B701,\"\")","v":{"$error":"#REF!"}},{"$f":"IF(#REF!=\"\",\"\",COUNTIF(#REF!,\">\"\"\"))","v":{"$error":"#REF!"}},null,{"$f":"IFERROR(VLOOKUP(C701,Hidden_Словник!$A$2:$C$100,3,FALSE),\"\")","v":""},null,null,null,null,null,null,null,null,null,null,null,null,null,null,null,null,null,null,""]
[{"$f":"IF(#REF!>\"\",D702&\"_\"&#REF!&\"_\"&B702,\"\")","v":{"$error":"#REF!"}},{"$f":"IF(#REF!=\"\",\"\",COUNTIF(#REF!,\">\"\"\"))","v":{"$error":"#REF!"}},null,{"$f":"IFERROR(VLOOKUP(C702,Hidden_Словник!$A$2:$C$100,3,FALSE),\"\")","v":""},null,null,null,null,null,null,null,null,null,null,null,null,null,null,null,null,null,null,""]
[{"$f":"IF(#REF!>\"\",D703&\"_\"&#REF!&\"_\"&B703,\"\")","v":{"$error":"#REF!"}},{"$f":"IF(#REF!=\"\",\"\",COUNTIF(#REF!,\">\"\"\"))","v":{"$error":"#REF!"}},null,{"$f":"IFERROR(VLOOKUP(C703,Hidden_Словник!$A$2:$C$100,3,FALSE),\"\")","v":""},null,null,null,null,null,null,null,null,null,null,null,null,null,null,null,null,null,null,""]
[{"$f":"IF(#REF!>\"\",D704&\"_\"&#REF!&\"_\"&B704,\"\")","v":{"$error":"#REF!"}},{"$f":"IF(#REF!=\"\",\"\",COUNTIF(#REF!,\">\"\"\"))","v":{"$error":"#REF!"}},null,{"$f":"IFERROR(VLOOKUP(C704,Hidden_Словник!$A$2:$C$100,3,FALSE),\"\")","v":""},null,null,null,null,null,null,null,null,null,null,null,null,null,null,null,null,null,null,""]
[{"$f":"IF(#REF!>\"\",D705&\"_\"&#REF!&\"_\"&B705,\"\")","v":{"$error":"#REF!"}},{"$f":"IF(#REF!=\"\",\"\",COUNTIF(#REF!,\">\"\"\"))","v":{"$error":"#REF!"}},null,{"$f":"IFERROR(VLOOKUP(C705,Hidden_Словник!$A$2:$C$100,3,FALSE),\"\")","v":""},null,null,null,null,null,null,null,null,null,null,null,null,null,null,null,null,null,null,""]
[{"$f":"IF(#REF!>\"\",D706&\"_\"&#REF!&\"_\"&B706,\"\")","v":{"$error":"#REF!"}},{"$f":"IF(#REF!=\"\",\"\",COUNTIF(#REF!,\">\"\"\"))","v":{"$error":"#REF!"}},null,{"$f":"IFERROR(VLOOKUP(C706,Hidden_Словник!$A$2:$C$100,3,FALSE),\"\")","v":""},null,null,null,null,null,null,null,null,null,null,null,null,null,null,null,null,null,null,""]
[{"$f":"IF(#REF!>\"\",D707&\"_\"&#REF!&\"_\"&B707,\"\")","v":{"$error":"#REF!"}},{"$f":"IF(#REF!=\"\",\"\",COUNTIF(#REF!,\">\"\"\"))","v":{"$error":"#REF!"}},null,{"$f":"IFERROR(VLOOKUP(C707,Hidden_Словник!$A$2:$C$100,3,FALSE),\"\")","v":""},null,null,null,null,null,null,null,null,null,null,null,null,null,null,null,null,null,null,""]
[{"$f":"IF(#REF!>\"\",D708&\"_\"&#REF!&\"_\"&B708,\"\")","v":{"$error":"#REF!"}},{"$f":"IF(#REF!=\"\",\"\",COUNTIF(#REF!,\">\"\"\"))","v":{"$error":"#REF!"}},null,{"$f":"IFERROR(VLOOKUP(C708,Hidden_Словник!$A$2:$C$100,3,FALSE),\"\")","v":""},null,null,null,null,null,null,null,null,null,null,null,null,null,null,null,null,null,null,""]
[{"$f":"IF(#REF!>\"\",D709&\"_\"&#REF!&\"_\"&B709,\"\")","v":{"$error":"#REF!"}},{"$f":"IF(#REF!=\"\",\"\",COUNTIF(#REF!,\">\"\"\"))","v":{"$error":"#REF!"}},null,{"$f":"IFERROR(VLOOKUP(C709,Hidden_Словник!$A$2:$C$100,3,FALSE),\"\")","v":""},null,null,null,null,null,null,null,null,null,null,null,null,null,null,null,null,null,null,""]
[{"$f":"IF(#REF!>\"\",D710&\"_\"&#REF!&\"_\"&B710,\"\")","v":{"$error":"#REF!"}},{"$f":"IF(#REF!=\"\",\"\",COUNTIF(#REF!,\">\"\"\"))","v":{"$error":"#REF!"}},null,{"$f":"IFERROR(VLOOKUP(C710,Hidden_Словник!$A$2:$C$100,3,FALSE),\"\")","v":""},null,null,null,null,null,null,null,null,null,null,null,null,null,null,null,null,null,null,""]
[{"$f":"IF(#REF!>\"\",D711&\"_\"&#REF!&\"_\"&B711,\"\")","v":{"$error":"#REF!"}},{"$f":"IF(#REF!=\"\",\"\",COUNTIF(#REF!,\">\"\"\"))","v":{"$error":"#REF!"}},null,{"$f":"IFERROR(VLOOKUP(C711,Hidden_Словник!$A$2:$C$100,3,FALSE),\"\")","v":""},null,null,null,null,null,null,null,null,null,null,null,null,null,null,null,null,null,null,""]
[{"$f":"IF(#REF!>\"\",D712&\"_\"&#REF!&\"_\"&B712,\"\")","v":{"$error":"#REF!"}},{"$f":"IF(#REF!=\"\",\"\",COUNTIF(#REF!,\">\"\"\"))","v":{"$error":"#REF!"}},null,{"$f":"IFERROR(VLOOKUP(C712,Hidden_Словник!$A$2:$C$100,3,FALSE),\"\")","v":""},null,null,null,null,null,null,null,null,null,null,null,null,null,null,null,null,null,null,""]
[{"$f":"IF(#REF!>\"\",D713&\"_\"&#REF!&\"_\"&B713,\"\")","v":{"$error":"#REF!"}},{"$f":"IF(#REF!=\"\",\"\",COUNTIF(#REF!,\">\"\"\"))","v":{"$error":"#REF!"}},null,{"$f":"IFERROR(VLOOKUP(C713,Hidden_Словник!$A$2:$C$100,3,FALSE),\"\")","v":""},null,null,null,null,null,null,null,null,null,null,null,null,null,null,null,null,null,null,""]
[{"$f":"IF(#REF!>\"\",D714&\"_\"&#REF!&\"_\"&B714,\"\")","v":{"$error":"#REF!"}},{"$f":"IF(#REF!=\"\",\"\",COUNTIF(#REF!,\">\"\"\"))","v":{"$error":"#REF!"}},null,{"$f":"IFERROR(VLOOKUP(C714,Hidden_Словник!$A$2:$C$100,3,FALSE),\"\")","v":""},null,null,null,null,null,null,null,null,null,null,null,null,null,null,null,null,null,null,""]
[{"$f":"IF(#REF!>\"\",D715&\"_\"&#REF!&\"_\"&B715,\"\")","v":{"$error":"#REF!"}},{"$f":"IF(#REF!=\"\",\"\",COUNTIF(#REF!,\">\"\"\"))","v":{"$error":"#REF!"}},null,{"$f":"IFERROR(VLOOKUP(C715,Hidden_Словник!$A$2:$C$100,3,FALSE),\"\")","v":""},null,null,null,null,null,null,null,null,null,null,null,null,null,null,null,null,null,null,""]
[{"$f":"IF(#REF!>\"\",D716&\"_\"&#REF!&\"_\"&B716,\"\")","v":{"$error":"#REF!"}},{"$f":"IF(#REF!=\"\",\"\",COUNTIF(#REF!,\">\"\"\"))","v":{"$error":"#REF!"}},null,{"$f":"IFERROR(VLOOKUP(C716,Hidden_Словник!$A$2:$C$100,3,FALSE),\"\")","v":""},null,null,null,null,null,null,null,null,null,null,null,null,null,null,null,null,null,null,""]
[{"$f":"IF(#REF!>\"\",D717&\"_\"&#REF!&\"_\"&B717,\"\")","v":{"$error":"#REF!"}},{"$f":"IF(#REF!=\"\",\"\",COUNTIF(#REF!,\">\"\"\"))","v":{"$error":"#REF!"}},null,{"$f":"IFERROR(VLOOKUP(C717,Hidden_Словник!$A$2:$C$100,3,FALSE),\"\")","v":""},null,null,null,null,null,null,null,null,null,null,null,null,null,null,null,null,null,null,""]
[{"$f":"IF(#REF!>\"\",D718&\"_\"&#REF!&\"_\"&B718,\"\")","v":{"$error":"#REF!"}},{"$f":"IF(#REF!=\"\",\"\",COUNTIF(#REF!,\">\"\"\"))","v":{"$error":"#REF!"}},null,{"$f":"IFERROR(VLOOKUP(C718,Hidden_Словник!$A$2:$C$100,3,FALSE),\"\")","v":""},null,null,null,null,null,null,null,null,null,null,null,null,null,null,null,null,null,null,""]
[{"$f":"IF(#REF!>\"\",D719&\"_\"&#REF!&\"_\"&B719,\"\")","v":{"$error":"#REF!"}},{"$f":"IF(#REF!=\"\",\"\",COUNTIF(#REF!,\">\"\"\"))","v":{"$error":"#REF!"}},null,{"$f":"IFERROR(VLOOKUP(C719,Hidden_Словник!$A$2:$C$100,3,FALSE),\"\")","v":""},null,null,null,null,null,null,null,null,null,null,null,null,null,null,null,null,null,null,""]
[{"$f":"IF(#REF!>\"\",D720&\"_\"&#REF!&\"_\"&B720,\"\")","v":{"$error":"#REF!"}},{"$f":"IF(#REF!=\"\",\"\",COUNTIF(#REF!,\">\"\"\"))","v":{"$error":"#REF!"}},null,{"$f":"IFERROR(VLOOKUP(C720,Hidden_Словник!$A$2:$C$100,3,FALSE),\"\")","v":""},null,null,null,null,null,null,null,null,null,null,null,null,null,null,null,null,null,null,""]
[{"$f":"IF(#REF!>\"\",D721&\"_\"&#REF!&\"_\"&B721,\"\")","v":{"$error":"#REF!"}},{"$f":"IF(#REF!=\"\",\"\",COUNTIF(#REF!,\">\"\"\"))","v":{"$error":"#REF!"}},null,{"$f":"IFERROR(VLOOKUP(C721,Hidden_Словник!$A$2:$C$100,3,FALSE),\"\")","v":""},null,null,null,null,null,null,null,null,null,null,null,null,null,null,null,null,null,null,""]
[{"$f":"IF(#REF!>\"\",D722&\"_\"&#REF!&\"_\"&B722,\"\")","v":{"$error":"#REF!"}},{"$f":"IF(#REF!=\"\",\"\",COUNTIF(#REF!,\">\"\"\"))","v":{"$error":"#REF!"}},null,{"$f":"IFERROR(VLOOKUP(C722,Hidden_Словник!$A$2:$C$100,3,FALSE),\"\")","v":""},null,null,null,null,null,null,null,null,null,null,null,null,null,null,null,null,null,null,""]
[{"$f":"IF(#REF!>\"\",D723&\"_\"&#REF!&\"_\"&B723,\"\")","v":{"$error":"#REF!"}},{"$f":"IF(#REF!=\"\",\"\",COUNTIF(#REF!,\">\"\"\"))","v":{"$error":"#REF!"}},null,{"$f":"IFERROR(VLOOKUP(C723,Hidden_Словник!$A$2:$C$100,3,FALSE),\"\")","v":""},null,null,null,null,null,null,null,null,null,null,null,null,null,null,null,null,null,null,""]
[{"$f":"IF(#REF!>\"\",D724&\"_\"&#REF!&\"_\"&B724,\"\")","v":{"$error":"#REF!"}},{"$f":"IF(#REF!=\"\",\"\",COUNTIF(#REF!,\">\"\"\"))","v":{"$error":"#REF!"}},null,{"$f":"IFERROR(VLOOKUP(C724,Hidden_Словник!$A$2:$C$100,3,FALSE),\"\")","v":""},null,null,null,null,null,null,null,null,null,null,null,null,null,null,null,null,null,null,""]
[{"$f":"IF(#REF!>\"\",D725&\"_\"&#REF!&\"_\"&B725,\"\")","v":{"$error":"#REF!"}},{"$f":"IF(#REF!=\"\",\"\",COUNTIF(#REF!,\">\"\"\"))","v":{"$error":"#REF!"}},null,{"$f":"IFERROR(VLOOKUP(C725,Hidden_Словник!$A$2:$C$100,3,FALSE),\"\")","v":""},null,null,null,null,null,null,null,null,null,null,null,null,null,null,null,null,null,null,""]
[{"$f":"IF(#REF!>\"\",D726&\"_\"&#REF!&\"_\"&B726,\"\")","v":{"$error":"#REF!"}},{"$f":"IF(#REF!=\"\",\"\",COUNTIF(#REF!,\">\"\"\"))","v":{"$error":"#REF!"}},null,{"$f":"IFERROR(VLOOKUP(C726,Hidden_Словник!$A$2:$C$100,3,FALSE),\"\")","v":""},null,null,null,null,null,null,null,null,null,null,null,null,null,null,null,null,null,null,""]
[{"$f":"IF(#REF!>\"\",D727&\"_\"&#REF!&\"_\"&B727,\"\")","v":{"$error":"#REF!"}},{"$f":"IF(#REF!=\"\",\"\",COUNTIF(#REF!,\">\"\"\"))","v":{"$error":"#REF!"}},null,{"$f":"IFERROR(VLOOKUP(C727,Hidden_Словник!$A$2:$C$100,3,FALSE),\"\")","v":""},null,null,null,null,null,null,null,null,null,null,null,null,null,null,null,null,null,null,""]
[{"$f":"IF(#REF!>\"\",D728&\"_\"&#REF!&\"_\"&B728,\"\")","v":{"$error":"#REF!"}},{"$f":"IF(#REF!=\"\",\"\",COUNTIF(#REF!,\">\"\"\"))","v":{"$error":"#REF!"}},null,{"$f":"IFERROR(VLOOKUP(C728,Hidden_Словник!$A$2:$C$100,3,FALSE),\"\")","v":""},null,null,null,null,null,null,null,null,null,null,null,null,null,null,null,null,null,null,""]
[{"$f":"IF(#REF!>\"\",D729&\"_\"&#REF!&\"_\"&B729,\"\")","v":{"$error":"#REF!"}},{"$f":"IF(#REF!=\"\",\"\",COUNTIF(#REF!,\">\"\"\"))","v":{"$error":"#REF!"}},null,{"$f":"IFERROR(VLOOKUP(C729,Hidden_Словник!$A$2:$C$100,3,FALSE),\"\")","v":""},null,null,null,null,null,null,null,null,null,null,null,null,null,null,null,null,null,null,""]
[{"$f":"IF(#REF!>\"\",D730&\"_\"&#REF!&\"_\"&B730,\"\")","v":{"$error":"#REF!"}},{"$f":"IF(#REF!=\"\",\"\",COUNTIF(#REF!,\">\"\"\"))","v":{"$error":"#REF!"}},null,{"$f":"IFERROR(VLOOKUP(C730,Hidden_Словник!$A$2:$C$100,3,FALSE),\"\")","v":""},null,null,null,null,null,null,null,null,null,null,null,null,null,null,null,null,null,null,""]
[{"$f":"IF(#REF!>\"\",D731&\"_\"&#REF!&\"_\"&B731,\"\")","v":{"$error":"#REF!"}},{"$f":"IF(#REF!=\"\",\"\",COUNTIF(#REF!,\">\"\"\"))","v":{"$error":"#REF!"}},null,{"$f":"IFERROR(VLOOKUP(C731,Hidden_Словник!$A$2:$C$100,3,FALSE),\"\")","v":""},null,null,null,null,null,null,null,null,null,null,null,null,null,null,null,null,null,null,""]
[{"$f":"IF(#REF!>\"\",D732&\"_\"&#REF!&\"_\"&B732,\"\")","v":{"$error":"#REF!"}},{"$f":"IF(#REF!=\"\",\"\",COUNTIF(#REF!,\">\"\"\"))","v":{"$error":"#REF!"}},null,{"$f":"IFERROR(VLOOKUP(C732,Hidden_Словник!$A$2:$C$100,3,FALSE),\"\")","v":""},null,null,null,null,null,null,null,null,null,null,null,null,null,null,null,null,null,null,""]
[{"$f":"IF(#REF!>\"\",D733&\"_\"&#REF!&\"_\"&B733,\"\")","v":{"$error":"#REF!"}},{"$f":"IF(#REF!=\"\",\"\",COUNTIF(#REF!,\">\"\"\"))","v":{"$error":"#REF!"}},null,{"$f":"IFERROR(VLOOKUP(C733,Hidden_Словник!$A$2:$C$100,3,FALSE),\"\")","v":""},null,null,null,null,null,null,null,null,null,null,null,null,null,null,null,null,null,null,""]
[{"$f":"IF(#REF!>\"\",D734&\"_\"&#REF!&\"_\"&B734,\"\")","v":{"$error":"#REF!"}},{"$f":"IF(#REF!=\"\",\"\",COUNTIF(#REF!,\">\"\"\"))","v":{"$error":"#REF!"}},null,{"$f":"IFERROR(VLOOKUP(C734,Hidden_Словник!$A$2:$C$100,3,FALSE),\"\")","v":""},null,null,null,null,null,null,null,null,null,null,null,null,null,null,null,null,null,null,""]
[{"$f":"IF(#REF!>\"\",D735&\"_\"&#REF!&\"_\"&B735,\"\")","v":{"$error":"#REF!"}},{"$f":"IF(#REF!=\"\",\"\",COUNTIF(#REF!,\">\"\"\"))","v":{"$error":"#REF!"}},null,{"$f":"IFERROR(VLOOKUP(C735,Hidden_Словник!$A$2:$C$100,3,FALSE),\"\")","v":""},null,null,null,null,null,null,null,null,null,null,null,null,null,null,null,null,null,null,""]
[{"$f":"IF(#REF!>\"\",D736&\"_\"&#REF!&\"_\"&B736,\"\")","v":{"$error":"#REF!"}},{"$f":"IF(#REF!=\"\",\"\",COUNTIF(#REF!,\">\"\"\"))","v":{"$error":"#REF!"}},null,{"$f":"IFERROR(VLOOKUP(C736,Hidden_Словник!$A$2:$C$100,3,FALSE),\"\")","v":""},null,null,null,null,null,null,null,null,null,null,null,null,null,null,null,null,null,null,""]
[{"$f":"IF(#REF!>\"\",D737&\"_\"&#REF!&\"_\"&B737,\"\")","v":{"$error":"#REF!"}},{"$f":"IF(#REF!=\"\",\"\",COUNTIF(#REF!,\">\"\"\"))","v":{"$error":"#REF!"}},null,{"$f":"IFERROR(VLOOKUP(C737,Hidden_Словник!$A$2:$C$100,3,FALSE),\"\")","v":""},null,null,null,null,null,null,null,null,null,null,null,null,null,null,null,null,null,null,""]
[{"$f":"IF(#REF!>\"\",D738&\"_\"&#REF!&\"_\"&B738,\"\")","v":{"$error":"#REF!"}},{"$f":"IF(#REF!=\"\",\"\",COUNTIF(#REF!,\">\"\"\"))","v":{"$error":"#REF!"}},null,{"$f":"IFERROR(VLOOKUP(C738,Hidden_Словник!$A$2:$C$100,3,FALSE),\"\")","v":""},null,null,null,null,null,null,null,null,null,null,null,null,null,null,null,null,null,null,""]
[{"$f":"IF(#REF!>\"\",D739&\"_\"&#REF!&\"_\"&B739,\"\")","v":{"$error":"#REF!"}},{"$f":"IF(#REF!=\"\",\"\",COUNTIF(#REF!,\">\"\"\"))","v":{"$error":"#REF!"}},null,{"$f":"IFERROR(VLOOKUP(C739,Hidden_Словник!$A$2:$C$100,3,FALSE),\"\")","v":""},null,null,null,null,null,null,null,null,null,null,null,null,null,null,null,null,null,null,""]
[{"$f":"IF(#REF!>\"\",D740&\"_\"&#REF!&\"_\"&B740,\"\")","v":{"$error":"#REF!"}},{"$f":"IF(#REF!=\"\",\"\",COUNTIF(#REF!,\">\"\"\"))","v":{"$error":"#REF!"}},null,{"$f":"IFERROR(VLOOKUP(C740,Hidden_Словник!$A$2:$C$100,3,FALSE),\"\")","v":""},null,null,null,null,null,null,null,null,null,null,null,null,null,null,null,null,null,null,""]
[{"$f":"IF(#REF!>\"\",D741&\"_\"&#REF!&\"_\"&B741,\"\")","v":{"$error":"#REF!"}},{"$f":"IF(#REF!=\"\",\"\",COUNTIF(#REF!,\">\"\"\"))","v":{"$error":"#REF!"}},null,{"$f":"IFERROR(VLOOKUP(C741,Hidden_Словник!$A$2:$C$100,3,FALSE),\"\")","v":""},null,null,null,null,null,null,null,null,null,null,null,null,null,null,null,null,null,null,""]
[{"$f":"IF(#REF!>\"\",D742&\"_\"&#REF!&\"_\"&B742,\"\")","v":{"$error":"#REF!"}},{"$f":"IF(#REF!=\"\",\"\",COUNTIF(#REF!,\">\"\"\"))","v":{"$error":"#REF!"}},null,{"$f":"IFERROR(VLOOKUP(C742,Hidden_Словник!$A$2:$C$100,3,FALSE),\"\")","v":""},null,null,null,null,null,null,null,null,null,null,null,null,null,null,null,null,null,null,""]
[{"$f":"IF(#REF!>\"\",D743&\"_\"&#REF!&\"_\"&B743,\"\")","v":{"$error":"#REF!"}},{"$f":"IF(#REF!=\"\",\"\",COUNTIF(#REF!,\">\"\"\"))","v":{"$error":"#REF!"}},null,{"$f":"IFERROR(VLOOKUP(C743,Hidden_Словник!$A$2:$C$100,3,FALSE),\"\")","v":""},null,null,null,null,null,null,null,null,null,null,null,null,null,null,null,null,null,null,""]
[{"$f":"IF(#REF!>\"\",D744&\"_\"&#REF!&\"_\"&B744,\"\")","v":{"$error":"#REF!"}},{"$f":"IF(#REF!=\"\",\"\",COUNTIF(#REF!,\">\"\"\"))","v":{"$error":"#REF!"}},null,{"$f":"IFERROR(VLOOKUP(C744,Hidden_Словник!$A$2:$C$100,3,FALSE),\"\")","v":""},null,null,null,null,null,null,null,null,null,null,null,null,null,null,null,null,null,null,{"$f":"IF(X744+Y744>0,X744+Y744,\"\")","v":""}]
[{"$f":"IF(#REF!>\"\",D745&\"_\"&#REF!&\"_\"&B745,\"\")","v":{"$error":"#REF!"}},{"$f":"IF(#REF!=\"\",\"\",COUNTIF(#REF!,\">\"\"\"))","v":{"$error":"#REF!"}},null,{"$f":"IFERROR(VLOOKUP(C745,Hidden_Словник!$A$2:$C$100,3,FALSE),\"\")","v":""},null,null,null,null,null,null,null,null,null,null,null,null,null,null,null,null,null,null,""]
[{"$f":"IF(#REF!>\"\",D746&\"_\"&#REF!&\"_\"&B746,\"\")","v":{"$error":"#REF!"}},{"$f":"IF(#REF!=\"\",\"\",COUNTIF(#REF!,\">\"\"\"))","v":{"$error":"#REF!"}},null,{"$f":"IFERROR(VLOOKUP(C746,Hidden_Словник!$A$2:$C$100,3,FALSE),\"\")","v":""},null,null,null,null,null,null,null,null,null,null,null,null,null,null,null,null,null,null,""]
[{"$f":"IF(#REF!>\"\",D747&\"_\"&#REF!&\"_\"&B747,\"\")","v":{"$error":"#REF!"}},{"$f":"IF(#REF!=\"\",\"\",COUNTIF(#REF!,\">\"\"\"))","v":{"$error":"#REF!"}},null,{"$f":"IFERROR(VLOOKUP(C747,Hidden_Словник!$A$2:$C$100,3,FALSE),\"\")","v":""},null,null,null,null,null,null,null,null,null,null,null,null,null,null,null,null,null,null,""]
[{"$f":"IF(#REF!>\"\",D748&\"_\"&#REF!&\"_\"&B748,\"\")","v":{"$error":"#REF!"}},{"$f":"IF(#REF!=\"\",\"\",COUNTIF(#REF!,\">\"\"\"))","v":{"$error":"#REF!"}},null,{"$f":"IFERROR(VLOOKUP(C748,Hidden_Словник!$A$2:$C$100,3,FALSE),\"\")","v":""},null,null,null,null,null,null,null,null,null,null,null,null,null,null,null,null,null,null,""]
[{"$f":"IF(#REF!>\"\",D749&\"_\"&#REF!&\"_\"&B749,\"\")","v":{"$error":"#REF!"}},{"$f":"IF(#REF!=\"\",\"\",COUNTIF(#REF!,\">\"\"\"))","v":{"$error":"#REF!"}},null,{"$f":"IFERROR(VLOOKUP(C749,Hidden_Словник!$A$2:$C$100,3,FALSE),\"\")","v":""},null,null,null,null,null,null,null,null,null,null,null,null,null,null,null,null,null,null,""]
[{"$f":"IF(#REF!>\"\",D750&\"_\"&#REF!&\"_\"&B750,\"\")","v":{"$error":"#REF!"}},{"$f":"IF(#REF!=\"\",\"\",COUNTIF(#REF!,\">\"\"\"))","v":{"$error":"#REF!"}},null,{"$f":"IFERROR(VLOOKUP(C750,Hidden_Словник!$A$2:$C$100,3,FALSE),\"\")","v":""},null,null,null,null,null,null,null,null,null,null,null,null,null,null,null,null,null,null,""]
[{"$f":"IF(#REF!>\"\",D751&\"_\"&#REF!&\"_\"&B751,\"\")","v":{"$error":"#REF!"}},{"$f":"IF(#REF!=\"\",\"\",COUNTIF(#REF!,\">\"\"\"))","v":{"$error":"#REF!"}},null,{"$f":"IFERROR(VLOOKUP(C751,Hidden_Словник!$A$2:$C$100,3,FALSE),\"\")","v":""},null,null,null,null,null,null,null,null,null,null,null,null,null,null,null,null,null,null,""]
[{"$f":"IF(#REF!>\"\",D752&\"_\"&#REF!&\"_\"&B752,\"\")","v":{"$error":"#REF!"}},{"$f":"IF(#REF!=\"\",\"\",COUNTIF(#REF!,\">\"\"\"))","v":{"$error":"#REF!"}},null,{"$f":"IFERROR(VLOOKUP(C752,Hidden_Словник!$A$2:$C$100,3,FALSE),\"\")","v":""},null,null,null,null,null,null,null,null,null,null,null,null,null,null,null,null,null,null,""]
[{"$f":"IF(#REF!>\"\",D753&\"_\"&#REF!&\"_\"&B753,\"\")","v":{"$error":"#REF!"}},{"$f":"IF(#REF!=\"\",\"\",COUNTIF(#REF!,\">\"\"\"))","v":{"$error":"#REF!"}},null,{"$f":"IFERROR(VLOOKUP(C753,Hidden_Словник!$A$2:$C$100,3,FALSE),\"\")","v":""},null,null,null,null,null,null,null,null,null,null,null,null,null,null,null,null,null,null,""]
[{"$f":"IF(#REF!>\"\",D754&\"_\"&#REF!&\"_\"&B754,\"\")","v":{"$error":"#REF!"}},{"$f":"IF(#REF!=\"\",\"\",COUNTIF(#REF!,\">\"\"\"))","v":{"$error":"#REF!"}},null,{"$f":"IFERROR(VLOOKUP(C754,Hidden_Словник!$A$2:$C$100,3,FALSE),\"\")","v":""},null,null,null,null,null,null,null,null,null,null,null,null,null,null,null,null,null,null,""]
[{"$f":"IF(#REF!>\"\",D755&\"_\"&#REF!&\"_\"&B755,\"\")","v":{"$error":"#REF!"}},{"$f":"IF(#REF!=\"\",\"\",COUNTIF(#REF!,\">\"\"\"))","v":{"$error":"#REF!"}},null,{"$f":"IFERROR(VLOOKUP(C755,Hidden_Словник!$A$2:$C$100,3,FALSE),\"\")","v":""},null,null,null,null,null,null,null,null,null,null,null,null,null,null,null,null,null,null,""]
[{"$f":"IF(#REF!>\"\",D756&\"_\"&#REF!&\"_\"&B756,\"\")","v":{"$error":"#REF!"}},{"$f":"IF(#REF!=\"\",\"\",COUNTIF(#REF!,\">\"\"\"))","v":{"$error":"#REF!"}},null,{"$f":"IFERROR(VLOOKUP(C756,Hidden_Словник!$A$2:$C$100,3,FALSE),\"\")","v":""},null,null,null,null,null,null,null,null,null,null,null,null,null,null,null,null,null,null,""]
[{"$f":"IF(#REF!>\"\",D757&\"_\"&#REF!&\"_\"&B757,\"\")","v":{"$error":"#REF!"}},{"$f":"IF(#REF!=\"\",\"\",COUNTIF(#REF!,\">\"\"\"))","v":{"$error":"#REF!"}},null,{"$f":"IFERROR(VLOOKUP(C757,Hidden_Словник!$A$2:$C$100,3,FALSE),\"\")","v":""},null,null,null,null,null,null,null,null,null,null,null,null,null,null,null,null,null,null,""]
[{"$f":"IF(#REF!>\"\",D758&\"_\"&#REF!&\"_\"&B758,\"\")","v":{"$error":"#REF!"}},{"$f":"IF(#REF!=\"\",\"\",COUNTIF(#REF!,\">\"\"\"))","v":{"$error":"#REF!"}},null,{"$f":"IFERROR(VLOOKUP(C758,Hidden_Словник!$A$2:$C$100,3,FALSE),\"\")","v":""},null,null,null,null,null,null,null,null,null,null,null,null,null,null,null,null,null,null,""]
[{"$f":"IF(#REF!>\"\",D759&\"_\"&#REF!&\"_\"&B759,\"\")","v":{"$error":"#REF!"}},{"$f":"IF(#REF!=\"\",\"\",COUNTIF(#REF!,\">\"\"\"))","v":{"$error":"#REF!"}},null,{"$f":"IFERROR(VLOOKUP(C759,Hidden_Словник!$A$2:$C$100,3,FALSE),\"\")","v":""},null,null,null,null,null,null,null,null,null,null,null,null,null,null,null,null,null,null,""]
[{"$f":"IF(#REF!>\"\",D760&\"_\"&#REF!&\"_\"&B760,\"\")","v":{"$error":"#REF!"}},{"$f":"IF(#REF!=\"\",\"\",COUNTIF(#REF!,\">\"\"\"))","v":{"$error":"#REF!"}},null,{"$f":"IFERROR(VLOOKUP(C760,Hidden_Словник!$A$2:$C$100,3,FALSE),\"\")","v":""},null,null,null,null,null,null,null,null,null,null,null,null,null,null,null,null,null,null,""]
[{"$f":"IF(#REF!>\"\",D761&\"_\"&#REF!&\"_\"&B761,\"\")","v":{"$error":"#REF!"}},{"$f":"IF(#REF!=\"\",\"\",COUNTIF(#REF!,\">\"\"\"))","v":{"$error":"#REF!"}},null,{"$f":"IFERROR(VLOOKUP(C761,Hidden_Словник!$A$2:$C$100,3,FALSE),\"\")","v":""},null,null,null,null,null,null,null,null,null,null,null,null,null,null,null,null,null,null,""]
[{"$f":"IF(#REF!>\"\",D762&\"_\"&#REF!&\"_\"&B762,\"\")","v":{"$error":"#REF!"}},{"$f":"IF(#REF!=\"\",\"\",COUNTIF(#REF!,\">\"\"\"))","v":{"$error":"#REF!"}},null,{"$f":"IFERROR(VLOOKUP(C762,Hidden_Словник!$A$2:$C$100,3,FALSE),\"\")","v":""},null,null,null,null,null,null,null,null,null,null,null,null,null,null,null,null,null,null,""]
[{"$f":"IF(#REF!>\"\",D763&\"_\"&#REF!&\"_\"&B763,\"\")","v":{"$error":"#REF!"}},{"$f":"IF(#REF!=\"\",\"\",COUNTIF(#REF!,\">\"\"\"))","v":{"$error":"#REF!"}},null,{"$f":"IFERROR(VLOOKUP(C763,Hidden_Словник!$A$2:$C$100,3,FALSE),\"\")","v":""},null,null,null,null,null,null,null,null,null,null,null,null,null,null,null,null,null,null,""]
[{"$f":"IF(#REF!>\"\",D764&\"_\"&#REF!&\"_\"&B764,\"\")","v":{"$error":"#REF!"}},{"$f":"IF(#REF!=\"\",\"\",COUNTIF(#REF!,\">\"\"\"))","v":{"$error":"#REF!"}},null,{"$f":"IFERROR(VLOOKUP(C764,Hidden_Словник!$A$2:$C$100,3,FALSE),\"\")","v":""},null,null,null,null,null,null,null,null,null,null,null,null,null,null,null,null,null,null,""]
[{"$f":"IF(#REF!>\"\",D765&\"_\"&#REF!&\"_\"&B765,\"\")","v":{"$error":"#REF!"}},{"$f":"IF(#REF!=\"\",\"\",COUNTIF(#REF!,\">\"\"\"))","v":{"$error":"#REF!"}},null,{"$f":"IFERROR(VLOOKUP(C765,Hidden_Словник!$A$2:$C$100,3,FALSE),\"\")","v":""},null,null,null,null,null,null,null,null,null,null,null,null,null,null,null,null,null,null,""]
[{"$f":"IF(#REF!>\"\",D766&\"_\"&#REF!&\"_\"&B766,\"\")","v":{"$error":"#REF!"}},{"$f":"IF(#REF!=\"\",\"\",COUNTIF(#REF!,\">\"\"\"))","v":{"$error":"#REF!"}},null,{"$f":"IFERROR(VLOOKUP(C766,Hidden_Словник!$A$2:$C$100,3,FALSE),\"\")","v":""},null,null,null,null,null,null,null,null,null,null,null,null,null,null,null,null,null,null,""]
[{"$f":"IF(#REF!>\"\",D767&\"_\"&#REF!&\"_\"&B767,\"\")","v":{"$error":"#REF!"}},{"$f":"IF(#REF!=\"\",\"\",COUNTIF(#REF!,\">\"\"\"))","v":{"$error":"#REF!"}},null,{"$f":"IFERROR(VLOOKUP(C767,Hidden_Словник!$A$2:$C$100,3,FALSE),\"\")","v":""},null,null,null,null,null,null,null,null,null,null,null,null,null,null,null,null,null,null,""]
[{"$f":"IF(#REF!>\"\",D768&\"_\"&#REF!&\"_\"&B768,\"\")","v":{"$error":"#REF!"}},{"$f":"IF(#REF!=\"\",\"\",COUNTIF(#REF!,\">\"\"\"))","v":{"$error":"#REF!"}},null,{"$f":"IFERROR(VLOOKUP(C768,Hidden_Словник!$A$2:$C$100,3,FALSE),\"\")","v":""},null,null,null,null,null,null,null,null,null,null,null,null,null,null,null,null,null,null,""]
[{"$f":"IF(#REF!>\"\",D769&\"_\"&#REF!&\"_\"&B769,\"\")","v":{"$error":"#REF!"}},{"$f":"IF(#REF!=\"\",\"\",COUNTIF(#REF!,\">\"\"\"))","v":{"$error":"#REF!"}},null,{"$f":"IFERROR(VLOOKUP(C769,Hidden_Словник!$A$2:$C$100,3,FALSE),\"\")","v":""},null,null,null,null,null,null,null,null,null,null,null,null,null,null,null,null,null,null,""]
[{"$f":"IF(#REF!>\"\",D770&\"_\"&#REF!&\"_\"&B770,\"\")","v":{"$error":"#REF!"}},{"$f":"IF(#REF!=\"\",\"\",COUNTIF(#REF!,\">\"\"\"))","v":{"$error":"#REF!"}},null,{"$f":"IFERROR(VLOOKUP(C770,Hidden_Словник!$A$2:$C$100,3,FALSE),\"\")","v":""},null,null,null,null,null,null,null,null,null,null,null,null,null,null,null,null,null,null,""]
[{"$f":"IF(#REF!>\"\",D771&\"_\"&#REF!&\"_\"&B771,\"\")","v":{"$error":"#REF!"}},{"$f":"IF(#REF!=\"\",\"\",COUNTIF(#REF!,\">\"\"\"))","v":{"$error":"#REF!"}},null,{"$f":"IFERROR(VLOOKUP(C771,Hidden_Словник!$A$2:$C$100,3,FALSE),\"\")","v":""},null,null,null,null,null,null,null,null,null,null,null,null,null,null,null,null,null,null,""]
[{"$f":"IF(#REF!>\"\",D772&\"_\"&#REF!&\"_\"&B772,\"\")","v":{"$error":"#REF!"}},{"$f":"IF(#REF!=\"\",\"\",COUNTIF(#REF!,\">\"\"\"))","v":{"$error":"#REF!"}},null,{"$f":"IFERROR(VLOOKUP(C772,Hidden_Словник!$A$2:$C$100,3,FALSE),\"\")","v":""},null,null,null,null,null,null,null,null,null,null,null,null,null,null,null,null,null,null,""]
[{"$f":"IF(#REF!>\"\",D773&\"_\"&#REF!&\"_\"&B773,\"\")","v":{"$error":"#REF!"}},{"$f":"IF(#REF!=\"\",\"\",COUNTIF(#REF!,\">\"\"\"))","v":{"$error":"#REF!"}},null,{"$f":"IFERROR(VLOOKUP(C773,Hidden_Словник!$A$2:$C$100,3,FALSE),\"\")","v":""},null,null,null,null,null,null,null,null,null,null,null,null,null,null,null,null,null,null,""]
[{"$f":"IF(#REF!>\"\",D774&\"_\"&#REF!&\"_\"&B774,\"\")","v":{"$error":"#REF!"}},{"$f":"IF(#REF!=\"\",\"\",COUNTIF(#REF!,\">\"\"\"))","v":{"$error":"#REF!"}},null,{"$f":"IFERROR(VLOOKUP(C774,Hidden_Словник!$A$2:$C$100,3,FALSE),\"\")","v":""},null,null,null,null,null,null,null,null,null,null,null,null,null,null,null,null,null,null,""]
[{"$f":"IF(#REF!>\"\",D775&\"_\"&#REF!&\"_\"&B775,\"\")","v":{"$error":"#REF!"}},{"$f":"IF(#REF!=\"\",\"\",COUNTIF(#REF!,\">\"\"\"))","v":{"$error":"#REF!"}},null,{"$f":"IFERROR(VLOOKUP(C775,Hidden_Словник!$A$2:$C$100,3,FALSE),\"\")","v":""},null,null,null,null,null,null,null,null,null,null,null,null,null,null,null,null,null,null,""]
[{"$f":"IF(#REF!>\"\",D776&\"_\"&#REF!&\"_\"&B776,\"\")","v":{"$error":"#REF!"}},{"$f":"IF(#REF!=\"\",\"\",COUNTIF(#REF!,\">\"\"\"))","v":{"$error":"#REF!"}},null,{"$f":"IFERROR(VLOOKUP(C776,Hidden_Словник!$A$2:$C$100,3,FALSE),\"\")","v":""},null,null,null,null,null,null,null,null,null,null,null,null,null,null,null,null,null,null,""]
[{"$f":"IF(#REF!>\"\",D777&\"_\"&#REF!&\"_\"&B777,\"\")","v":{"$error":"#REF!"}},{"$f":"IF(#REF!=\"\",\"\",COUNTIF(#REF!,\">\"\"\"))","v":{"$error":"#REF!"}},null,{"$f":"IFERROR(VLOOKUP(C777,Hidden_Словник!$A$2:$C$100,3,FALSE),\"\")","v":""},null,null,null,null,null,null,null,null,null,null,null,null,null,null,null,null,null,null,""]
[{"$f":"IF(#REF!>\"\",D778&\"_\"&#REF!&\"_\"&B778,\"\")","v":{"$error":"#REF!"}},{"$f":"IF(#REF!=\"\",\"\",COUNTIF(#REF!,\">\"\"\"))","v":{"$error":"#REF!"}},null,{"$f":"IFERROR(VLOOKUP(C778,Hidden_Словник!$A$2:$C$100,3,FALSE),\"\")","v":""},null,null,null,null,null,null,null,null,null,null,null,null,null,null,null,null,null,null,""]
[{"$f":"IF(#REF!>\"\",D779&\"_\"&#REF!&\"_\"&B779,\"\")","v":{"$error":"#REF!"}},{"$f":"IF(#REF!=\"\",\"\",COUNTIF(#REF!,\">\"\"\"))","v":{"$error":"#REF!"}},null,{"$f":"IFERROR(VLOOKUP(C779,Hidden_Словник!$A$2:$C$100,3,FALSE),\"\")","v":""},null,null,null,null,null,null,null,null,null,null,null,null,null,null,null,null,null,null,""]
[{"$f":"IF(#REF!>\"\",D780&\"_\"&#REF!&\"_\"&B780,\"\")","v":{"$error":"#REF!"}},{"$f":"IF(#REF!=\"\",\"\",COUNTIF(#REF!,\">\"\"\"))","v":{"$error":"#REF!"}},null,{"$f":"IFERROR(VLOOKUP(C780,Hidden_Словник!$A$2:$C$100,3,FALSE),\"\")","v":""},null,null,null,null,null,null,null,null,null,null,null,null,null,null,null,null,null,null,""]
[{"$f":"IF(#REF!>\"\",D781&\"_\"&#REF!&\"_\"&B781,\"\")","v":{"$error":"#REF!"}},{"$f":"IF(#REF!=\"\",\"\",COUNTIF(#REF!,\">\"\"\"))","v":{"$error":"#REF!"}},null,{"$f":"IFERROR(VLOOKUP(C781,Hidden_Словник!$A$2:$C$100,3,FALSE),\"\")","v":""},null,null,null,null,null,null,null,null,null,null,null,null,null,null,null,null,null,null,""]
[{"$f":"IF(#REF!>\"\",D782&\"_\"&#REF!&\"_\"&B782,\"\")","v":{"$error":"#REF!"}},{"$f":"IF(#REF!=\"\",\"\",COUNTIF(#REF!,\">\"\"\"))","v":{"$error":"#REF!"}},null,{"$f":"IFERROR(VLOOKUP(C782,Hidden_Словник!$A$2:$C$100,3,FALSE),\"\")","v":""},null,null,null,null,null,null,null,null,null,null,null,null,null,null,null,null,null,null,""]
[{"$f":"IF(#REF!>\"\",D783&\"_\"&#REF!&\"_\"&B783,\"\")","v":{"$error":"#REF!"}},{"$f":"IF(#REF!=\"\",\"\",COUNTIF(#REF!,\">\"\"\"))","v":{"$error":"#REF!"}},null,{"$f":"IFERROR(VLOOKUP(C783,Hidden_Словник!$A$2:$C$100,3,FALSE),\"\")","v":""},null,null,null,null,null,null,null,null,null,null,null,null,null,null,null,null,null,null,""]
[{"$f":"IF(#REF!>\"\",D784&\"_\"&#REF!&\"_\"&B784,\"\")","v":{"$error":"#REF!"}},{"$f":"IF(#REF!=\"\",\"\",COUNTIF(#REF!,\">\"\"\"))","v":{"$error":"#REF!"}},null,{"$f":"IFERROR(VLOOKUP(C784,Hidden_Словник!$A$2:$C$100,3,FALSE),\"\")","v":""},null,null,null,null,null,null,null,null,null,null,null,null,null,null,null,null,null,null,""]
[{"$f":"IF(#REF!>\"\",D785&\"_\"&#REF!&\"_\"&B785,\"\")","v":{"$error":"#REF!"}},{"$f":"IF(#REF!=\"\",\"\",COUNTIF(#REF!,\">\"\"\"))","v":{"$error":"#REF!"}},null,{"$f":"IFERROR(VLOOKUP(C785,Hidden_Словник!$A$2:$C$100,3,FALSE),\"\")","v":""},null,null,null,null,null,null,null,null,null,null,null,null,null,null,null,null,null,null,""]
[{"$f":"IF(#REF!>\"\",D786&\"_\"&#REF!&\"_\"&B786,\"\")","v":{"$error":"#REF!"}},{"$f":"IF(#REF!=\"\",\"\",COUNTIF(#REF!,\">\"\"\"))","v":{"$error":"#REF!"}},null,{"$f":"IFERROR(VLOOKUP(C786,Hidden_Словник!$A$2:$C$100,3,FALSE),\"\")","v":""},null,null,null,null,null,null,null,null,null,null,null,null,null,null,null,null,null,null,""]
[{"$f":"IF(#REF!>\"\",D787&\"_\"&#REF!&\"_\"&B787,\"\")","v":{"$error":"#REF!"}},{"$f":"IF(#REF!=\"\",\"\",COUNTIF(#REF!,\">\"\"\"))","v":{"$error":"#REF!"}},null,{"$f":"IFERROR(VLOOKUP(C787,Hidden_Словник!$A$2:$C$100,3,FALSE),\"\")","v":""},null,null,null,null,null,null,null,null,null,null,null,null,null,null,null,null,null,null,""]
[{"$f":"IF(#REF!>\"\",D788&\"_\"&#REF!&\"_\"&B788,\"\")","v":{"$error":"#REF!"}},{"$f":"IF(#REF!=\"\",\"\",COUNTIF(#REF!,\">\"\"\"))","v":{"$error":"#REF!"}},null,{"$f":"IFERROR(VLOOKUP(C788,Hidden_Словник!$A$2:$C$100,3,FALSE),\"\")","v":""},null,null,null,null,null,null,null,null,null,null,null,null,null,null,null,null,null,null,""]
[{"$f":"IF(#REF!>\"\",D789&\"_\"&#REF!&\"_\"&B789,\"\")","v":{"$error":"#REF!"}},{"$f":"IF(#REF!=\"\",\"\",COUNTIF(#REF!,\">\"\"\"))","v":{"$error":"#REF!"}},null,{"$f":"IFERROR(VLOOKUP(C789,Hidden_Словник!$A$2:$C$100,3,FALSE),\"\")","v":""},null,null,null,null,null,null,null,null,null,null,null,null,null,null,null,null,null,null,""]
[{"$f":"IF(#REF!>\"\",D790&\"_\"&#REF!&\"_\"&B790,\"\")","v":{"$error":"#REF!"}},{"$f":"IF(#REF!=\"\",\"\",COUNTIF(#REF!,\">\"\"\"))","v":{"$error":"#REF!"}},null,{"$f":"IFERROR(VLOOKUP(C790,Hidden_Словник!$A$2:$C$100,3,FALSE),\"\")","v":""},null,null,null,null,null,null,null,null,null,null,null,null,null,null,null,null,null,null,""]
[{"$f":"IF(#REF!>\"\",D791&\"_\"&#REF!&\"_\"&B791,\"\")","v":{"$error":"#REF!"}},{"$f":"IF(#REF!=\"\",\"\",COUNTIF(#REF!,\">\"\"\"))","v":{"$error":"#REF!"}},null,{"$f":"IFERROR(VLOOKUP(C791,Hidden_Словник!$A$2:$C$100,3,FALSE),\"\")","v":""},null,null,null,null,null,null,null,null,null,null,null,null,null,null,null,null,null,null,""]
[{"$f":"IF(#REF!>\"\",D792&\"_\"&#REF!&\"_\"&B792,\"\")","v":{"$error":"#REF!"}},{"$f":"IF(#REF!=\"\",\"\",COUNTIF(#REF!,\">\"\"\"))","v":{"$error":"#REF!"}},null,{"$f":"IFERROR(VLOOKUP(C792,Hidden_Словник!$A$2:$C$100,3,FALSE),\"\")","v":""},null,null,null,null,null,null,null,null,null,null,null,null,null,null,null,null,null,null,""]
[{"$f":"IF(#REF!>\"\",D793&\"_\"&#REF!&\"_\"&B793,\"\")","v":{"$error":"#REF!"}},{"$f":"IF(#REF!=\"\",\"\",COUNTIF(#REF!,\">\"\"\"))","v":{"$error":"#REF!"}},null,{"$f":"IFERROR(VLOOKUP(C793,Hidden_Словник!$A$2:$C$100,3,FALSE),\"\")","v":""},null,null,null,null,null,null,null,null,null,null,null,null,null,null,null,null,null,null,""]
[{"$f":"IF(#REF!>\"\",D794&\"_\"&#REF!&\"_\"&B794,\"\")","v":{"$error":"#REF!"}},{"$f":"IF(#REF!=\"\",\"\",COUNTIF(#REF!,\">\"\"\"))","v":{"$error":"#REF!"}},null,{"$f":"IFERROR(VLOOKUP(C794,Hidden_Словник!$A$2:$C$100,3,FALSE),\"\")","v":""},null,null,null,null,null,null,null,null,null,null,null,null,null,null,null,null,null,null,""]
[{"$f":"IF(#REF!>\"\",D795&\"_\"&#REF!&\"_\"&B795,\"\")","v":{"$error":"#REF!"}},{"$f":"IF(#REF!=\"\",\"\",COUNTIF(#REF!,\">\"\"\"))","v":{"$error":"#REF!"}},null,{"$f":"IFERROR(VLOOKUP(C795,Hidden_Словник!$A$2:$C$100,3,FALSE),\"\")","v":""},null,null,null,null,null,null,null,null,null,null,null,null,null,null,null,null,null,null,""]
[{"$f":"IF(#REF!>\"\",D796&\"_\"&#REF!&\"_\"&B796,\"\")","v":{"$error":"#REF!"}},{"$f":"IF(#REF!=\"\",\"\",COUNTIF(#REF!,\">\"\"\"))","v":{"$error":"#REF!"}},null,{"$f":"IFERROR(VLOOKUP(C796,Hidden_Словник!$A$2:$C$100,3,FALSE),\"\")","v":""},null,null,null,null,null,null,null,null,null,null,null,null,null,null,null,null,null,null,""]
[{"$f":"IF(#REF!>\"\",D797&\"_\"&#REF!&\"_\"&B797,\"\")","v":{"$error":"#REF!"}},{"$f":"IF(#REF!=\"\",\"\",COUNTIF(#REF!,\">\"\"\"))","v":{"$error":"#REF!"}},null,{"$f":"IFERROR(VLOOKUP(C797,Hidden_Словник!$A$2:$C$100,3,FALSE),\"\")","v":""},null,null,null,null,null,null,null,null,null,null,null,null,null,null,null,null,null,null,""]
[{"$f":"IF(#REF!>\"\",D798&\"_\"&#REF!&\"_\"&B798,\"\")","v":{"$error":"#REF!"}},{"$f":"IF(#REF!=\"\",\"\",COUNTIF(#REF!,\">\"\"\"))","v":{"$error":"#REF!"}},null,{"$f":"IFERROR(VLOOKUP(C798,Hidden_Словник!$A$2:$C$100,3,FALSE),\"\")","v":""},null,null,null,null,null,null,null,null,null,null,null,null,null,null,null,null,null,null,""]
[{"$f":"IF(#REF!>\"\",D799&\"_\"&#REF!&\"_\"&B799,\"\")","v":{"$error":"#REF!"}},{"$f":"IF(#REF!=\"\",\"\",COUNTIF(#REF!,\">\"\"\"))","v":{"$error":"#REF!"}},null,{"$f":"IFERROR(VLOOKUP(C799,Hidden_Словник!$A$2:$C$100,3,FALSE),\"\")","v":""},null,null,null,null,null,null,null,null,null,null,null,null,null,null,null,null,null,null,""]
[{"$f":"IF(#REF!>\"\",D800&\"_\"&#REF!&\"_\"&B800,\"\")","v":{"$error":"#REF!"}},{"$f":"IF(#REF!=\"\",\"\",COUNTIF(#REF!,\">\"\"\"))","v":{"$error":"#REF!"}},null,{"$f":"IFERROR(VLOOKUP(C800,Hidden_Словник!$A$2:$C$100,3,FALSE),\"\")","v":""},null,null,null,null,null,null,null,null,null,null,null,null,null,null,null,null,null,null,""]
[{"$f":"IF(#REF!>\"\",D801&\"_\"&#REF!&\"_\"&B801,\"\")","v":{"$error":"#REF!"}},{"$f":"IF(#REF!=\"\",\"\",COUNTIF(#REF!,\">\"\"\"))","v":{"$error":"#REF!"}},null,{"$f":"IFERROR(VLOOKUP(C801,Hidden_Словник!$A$2:$C$100,3,FALSE),\"\")","v":""},null,null,null,null,null,null,null,null,null,null,null,null,null,null,null,null,null,null,""]
[{"$f":"IF(#REF!>\"\",D802&\"_\"&#REF!&\"_\"&B802,\"\")","v":{"$error":"#REF!"}},{"$f":"IF(#REF!=\"\",\"\",COUNTIF(#REF!,\">\"\"\"))","v":{"$error":"#REF!"}},null,{"$f":"IFERROR(VLOOKUP(C802,Hidden_Словник!$A$2:$C$100,3,FALSE),\"\")","v":""},null,null,null,null,null,null,null,null,null,null,null,null,null,null,null,null,null,null,""]
[{"$f":"IF(#REF!>\"\",D803&\"_\"&#REF!&\"_\"&B803,\"\")","v":{"$error":"#REF!"}},{"$f":"IF(#REF!=\"\",\"\",COUNTIF(#REF!,\">\"\"\"))","v":{"$error":"#REF!"}},null,{"$f":"IFERROR(VLOOKUP(C803,Hidden_Словник!$A$2:$C$100,3,FALSE),\"\")","v":""},null,null,null,null,null,null,null,null,null,null,null,null,null,null,null,null,null,null,""]
[{"$f":"IF(#REF!>\"\",D804&\"_\"&#REF!&\"_\"&B804,\"\")","v":{"$error":"#REF!"}},{"$f":"IF(#REF!=\"\",\"\",COUNTIF(#REF!,\">\"\"\"))","v":{"$error":"#REF!"}},null,{"$f":"IFERROR(VLOOKUP(C804,Hidden_Словник!$A$2:$C$100,3,FALSE),\"\")","v":""},null,null,null,null,null,null,null,null,null,null,null,null,null,null,null,null,null,null,""]
[{"$f":"IF(#REF!>\"\",D805&\"_\"&#REF!&\"_\"&B805,\"\")","v":{"$error":"#REF!"}},{"$f":"IF(#REF!=\"\",\"\",COUNTIF(#REF!,\">\"\"\"))","v":{"$error":"#REF!"}},null,{"$f":"IFERROR(VLOOKUP(C805,Hidden_Словник!$A$2:$C$100,3,FALSE),\"\")","v":""},null,null,null,null,null,null,null,null,null,null,null,null,null,null,null,null,null,null,""]
[{"$f":"IF(#REF!>\"\",D806&\"_\"&#REF!&\"_\"&B806,\"\")","v":{"$error":"#REF!"}},{"$f":"IF(#REF!=\"\",\"\",COUNTIF(#REF!,\">\"\"\"))","v":{"$error":"#REF!"}},null,{"$f":"IFERROR(VLOOKUP(C806,Hidden_Словник!$A$2:$C$100,3,FALSE),\"\")","v":""},null,null,null,null,null,null,null,null,null,null,null,null,null,null,null,null,null,null,""]
[{"$f":"IF(#REF!>\"\",D807&\"_\"&#REF!&\"_\"&B807,\"\")","v":{"$error":"#REF!"}},{"$f":"IF(#REF!=\"\",\"\",COUNTIF(#REF!,\">\"\"\"))","v":{"$error":"#REF!"}},null,{"$f":"IFERROR(VLOOKUP(C807,Hidden_Словник!$A$2:$C$100,3,FALSE),\"\")","v":""},null,null,null,null,null,null,null,null,null,null,null,null,null,null,null,null,null,null,""]
[{"$f":"IF(#REF!>\"\",D808&\"_\"&#REF!&\"_\"&B808,\"\")","v":{"$error":"#REF!"}},{"$f":"IF(#REF!=\"\",\"\",COUNTIF(#REF!,\">\"\"\"))","v":{"$error":"#REF!"}},null,{"$f":"IFERROR(VLOOKUP(C808,Hidden_Словник!$A$2:$C$100,3,FALSE),\"\")","v":""},null,null,null,null,null,null,null,null,null,null,null,null,null,null,null,null,null,null,{"$f":"IF(X808+Y808>0,X808+Y808,\"\")","v":""}]
[{"$f":"IF(#REF!>\"\",D809&\"_\"&#REF!&\"_\"&B809,\"\")","v":{"$error":"#REF!"}},{"$f":"IF(#REF!=\"\",\"\",COUNTIF(#REF!,\">\"\"\"))","v":{"$error":"#REF!"}},null,{"$f":"IFERROR(VLOOKUP(C809,Hidden_Словник!$A$2:$C$100,3,FALSE),\"\")","v":""},null,null,null,null,null,null,null,null,null,null,null,null,null,null,null,null,null,null,""]
[{"$f":"IF(#REF!>\"\",D810&\"_\"&#REF!&\"_\"&B810,\"\")","v":{"$error":"#REF!"}},{"$f":"IF(#REF!=\"\",\"\",COUNTIF(#REF!,\">\"\"\"))","v":{"$error":"#REF!"}},null,{"$f":"IFERROR(VLOOKUP(C810,Hidden_Словник!$A$2:$C$100,3,FALSE),\"\")","v":""},null,null,null,null,null,null,null,null,null,null,null,null,null,null,null,null,null,null,""]
[{"$f":"IF(#REF!>\"\",D811&\"_\"&#REF!&\"_\"&B811,\"\")","v":{"$error":"#REF!"}},{"$f":"IF(#REF!=\"\",\"\",COUNTIF(#REF!,\">\"\"\"))","v":{"$error":"#REF!"}},null,{"$f":"IFERROR(VLOOKUP(C811,Hidden_Словник!$A$2:$C$100,3,FALSE),\"\")","v":""},null,null,null,null,null,null,null,null,null,null,null,null,null,null,null,null,null,null,""]
[{"$f":"IF(#REF!>\"\",D812&\"_\"&#REF!&\"_\"&B812,\"\")","v":{"$error":"#REF!"}},{"$f":"IF(#REF!=\"\",\"\",COUNTIF(#REF!,\">\"\"\"))","v":{"$error":"#REF!"}},null,{"$f":"IFERROR(VLOOKUP(C812,Hidden_Словник!$A$2:$C$100,3,FALSE),\"\")","v":""},null,null,null,null,null,null,null,null,null,null,null,null,null,null,null,null,null,null,""]
[{"$f":"IF(#REF!>\"\",D813&\"_\"&#REF!&\"_\"&B813,\"\")","v":{"$error":"#REF!"}},{"$f":"IF(#REF!=\"\",\"\",COUNTIF(#REF!,\">\"\"\"))","v":{"$error":"#REF!"}},null,{"$f":"IFERROR(VLOOKUP(C813,Hidden_Словник!$A$2:$C$100,3,FALSE),\"\")","v":""},null,null,null,null,null,null,null,null,null,null,null,null,null,null,null,null,null,null,""]
[{"$f":"IF(#REF!>\"\",D814&\"_\"&#REF!&\"_\"&B814,\"\")","v":{"$error":"#REF!"}},{"$f":"IF(#REF!=\"\",\"\",COUNTIF(#REF!,\">\"\"\"))","v":{"$error":"#REF!"}},null,{"$f":"IFERROR(VLOOKUP(C814,Hidden_Словник!$A$2:$C$100,3,FALSE),\"\")","v":""},null,null,null,null,null,null,null,null,null,null,null,null,null,null,null,null,null,null,""]
[{"$f":"IF(#REF!>\"\",D815&\"_\"&#REF!&\"_\"&B815,\"\")","v":{"$error":"#REF!"}},{"$f":"IF(#REF!=\"\",\"\",COUNTIF(#REF!,\">\"\"\"))","v":{"$error":"#REF!"}},null,{"$f":"IFERROR(VLOOKUP(C815,Hidden_Словник!$A$2:$C$100,3,FALSE),\"\")","v":""},null,null,null,null,null,null,null,null,null,null,null,null,null,null,null,null,null,null,""]
[{"$f":"IF(#REF!>\"\",D816&\"_\"&#REF!&\"_\"&B816,\"\")","v":{"$error":"#REF!"}},{"$f":"IF(#REF!=\"\",\"\",COUNTIF(#REF!,\">\"\"\"))","v":{"$error":"#REF!"}},null,{"$f":"IFERROR(VLOOKUP(C816,Hidden_Словник!$A$2:$C$100,3,FALSE),\"\")","v":""},null,null,null,null,null,null,null,null,null,null,null,null,null,null,null,null,null,null,""]
[{"$f":"IF(#REF!>\"\",D817&\"_\"&#REF!&\"_\"&B817,\"\")","v":{"$error":"#REF!"}},{"$f":"IF(#REF!=\"\",\"\",COUNTIF(#REF!,\">\"\"\"))","v":{"$error":"#REF!"}},null,{"$f":"IFERROR(VLOOKUP(C817,Hidden_Словник!$A$2:$C$100,3,FALSE),\"\")","v":""},null,null,null,null,null,null,null,null,null,null,null,null,null,null,null,null,null,null,""]
[{"$f":"IF(#REF!>\"\",D818&\"_\"&#REF!&\"_\"&B818,\"\")","v":{"$error":"#REF!"}},{"$f":"IF(#REF!=\"\",\"\",COUNTIF(#REF!,\">\"\"\"))","v":{"$error":"#REF!"}},null,{"$f":"IFERROR(VLOOKUP(C818,Hidden_Словник!$A$2:$C$100,3,FALSE),\"\")","v":""},null,null,null,null,null,null,null,null,null,null,null,null,null,null,null,null,null,null,""]
[{"$f":"IF(#REF!>\"\",D819&\"_\"&#REF!&\"_\"&B819,\"\")","v":{"$error":"#REF!"}},{"$f":"IF(#REF!=\"\",\"\",COUNTIF(#REF!,\">\"\"\"))","v":{"$error":"#REF!"}},null,{"$f":"IFERROR(VLOOKUP(C819,Hidden_Словник!$A$2:$C$100,3,FALSE),\"\")","v":""},null,null,null,null,null,null,null,null,null,null,null,null,null,null,null,null,null,null,""]
[{"$f":"IF(#REF!>\"\",D820&\"_\"&#REF!&\"_\"&B820,\"\")","v":{"$error":"#REF!"}},{"$f":"IF(#REF!=\"\",\"\",COUNTIF(#REF!,\">\"\"\"))","v":{"$error":"#REF!"}},null,{"$f":"IFERROR(VLOOKUP(C820,Hidden_Словник!$A$2:$C$100,3,FALSE),\"\")","v":""},null,null,null,null,null,null,null,null,null,null,null,null,null,null,null,null,null,null,""]
[{"$f":"IF(#REF!>\"\",D821&\"_\"&#REF!&\"_\"&B821,\"\")","v":{"$error":"#REF!"}},{"$f":"IF(#REF!=\"\",\"\",COUNTIF(#REF!,\">\"\"\"))","v":{"$error":"#REF!"}},null,{"$f":"IFERROR(VLOOKUP(C821,Hidden_Словник!$A$2:$C$100,3,FALSE),\"\")","v":""},null,null,null,null,null,null,null,null,null,null,null,null,null,null,null,null,null,null,""]
[{"$f":"IF(#REF!>\"\",D822&\"_\"&#REF!&\"_\"&B822,\"\")","v":{"$error":"#REF!"}},{"$f":"IF(#REF!=\"\",\"\",COUNTIF(#REF!,\">\"\"\"))","v":{"$error":"#REF!"}},null,{"$f":"IFERROR(VLOOKUP(C822,Hidden_Словник!$A$2:$C$100,3,FALSE),\"\")","v":""},null,null,null,null,null,null,null,null,null,null,null,null,null,null,null,null,null,null,""]
[{"$f":"IF(#REF!>\"\",D823&\"_\"&#REF!&\"_\"&B823,\"\")","v":{"$error":"#REF!"}},{"$f":"IF(#REF!=\"\",\"\",COUNTIF(#REF!,\">\"\"\"))","v":{"$error":"#REF!"}},null,{"$f":"IFERROR(VLOOKUP(C823,Hidden_Словник!$A$2:$C$100,3,FALSE),\"\")","v":""},null,null,null,null,null,null,null,null,null,null,null,null,null,null,null,null,null,null,""]
[{"$f":"IF(#REF!>\"\",D824&\"_\"&#REF!&\"_\"&B824,\"\")","v":{"$error":"#REF!"}},{"$f":"IF(#REF!=\"\",\"\",COUNTIF(#REF!,\">\"\"\"))","v":{"$error":"#REF!"}},null,{"$f":"IFERROR(VLOOKUP(C824,Hidden_Словник!$A$2:$C$100,3,FALSE),\"\")","v":""},null,null,null,null,null,null,null,null,null,null,null,null,null,null,null,null,null,null,""]
[{"$f":"IF(#REF!>\"\",D825&\"_\"&#REF!&\"_\"&B825,\"\")","v":{"$error":"#REF!"}},{"$f":"IF(#REF!=\"\",\"\",COUNTIF(#REF!,\">\"\"\"))","v":{"$error":"#REF!"}},null,{"$f":"IFERROR(VLOOKUP(C825,Hidden_Словник!$A$2:$C$100,3,FALSE),\"\")","v":""},null,null,null,null,null,null,null,null,null,null,null,null,null,null,null,null,null,null,""]
[{"$f":"IF(#REF!>\"\",D826&\"_\"&#REF!&\"_\"&B826,\"\")","v":{"$error":"#REF!"}},{"$f":"IF(#REF!=\"\",\"\",COUNTIF(#REF!,\">\"\"\"))","v":{"$error":"#REF!"}},null,{"$f":"IFERROR(VLOOKUP(C826,Hidden_Словник!$A$2:$C$100,3,FALSE),\"\")","v":""},null,null,null,null,null,null,null,null,null,null,null,null,null,null,null,null,null,null,""]
[{"$f":"IF(#REF!>\"\",D827&\"_\"&#REF!&\"_\"&B827,\"\")","v":{"$error":"#REF!"}},{"$f":"IF(#REF!=\"\",\"\",COUNTIF(#REF!,\">\"\"\"))","v":{"$error":"#REF!"}},null,{"$f":"IFERROR(VLOOKUP(C827,Hidden_Словник!$A$2:$C$100,3,FALSE),\"\")","v":""},null,null,null,null,null,null,null,null,null,null,null,null,null,null,null,null,null,null,""]
[{"$f":"IF(#REF!>\"\",D828&\"_\"&#REF!&\"_\"&B828,\"\")","v":{"$error":"#REF!"}},{"$f":"IF(#REF!=\"\",\"\",COUNTIF(#REF!,\">\"\"\"))","v":{"$error":"#REF!"}},null,{"$f":"IFERROR(VLOOKUP(C828,Hidden_Словник!$A$2:$C$100,3,FALSE),\"\")","v":""},null,null,null,null,null,null,null,null,null,null,null,null,null,null,null,null,null,null,""]
[{"$f":"IF(#REF!>\"\",D829&\"_\"&#REF!&\"_\"&B829,\"\")","v":{"$error":"#REF!"}},{"$f":"IF(#REF!=\"\",\"\",COUNTIF(#REF!,\">\"\"\"))","v":{"$error":"#REF!"}},null,{"$f":"IFERROR(VLOOKUP(C829,Hidden_Словник!$A$2:$C$100,3,FALSE),\"\")","v":""},null,null,null,null,null,null,null,null,null,null,null,null,null,null,null,null,null,null,""]
[{"$f":"IF(#REF!>\"\",D830&\"_\"&#REF!&\"_\"&B830,\"\")","v":{"$error":"#REF!"}},{"$f":"IF(#REF!=\"\",\"\",COUNTIF(#REF!,\">\"\"\"))","v":{"$error":"#REF!"}},null,{"$f":"IFERROR(VLOOKUP(C830,Hidden_Словник!$A$2:$C$100,3,FALSE),\"\")","v":""},null,null,null,null,null,null,null,null,null,null,null,null,null,null,null,null,null,null,""]
[{"$f":"IF(#REF!>\"\",D831&\"_\"&#REF!&\"_\"&B831,\"\")","v":{"$error":"#REF!"}},{"$f":"IF(#REF!=\"\",\"\",COUNTIF(#REF!,\">\"\"\"))","v":{"$error":"#REF!"}},null,{"$f":"IFERROR(VLOOKUP(C831,Hidden_Словник!$A$2:$C$100,3,FALSE),\"\")","v":""},null,null,null,null,null,null,null,null,null,null,null,null,null,null,null,null,null,null,""]
[{"$f":"IF(#REF!>\"\",D832&\"_\"&#REF!&\"_\"&B832,\"\")","v":{"$error":"#REF!"}},{"$f":"IF(#REF!=\"\",\"\",COUNTIF(#REF!,\">\"\"\"))","v":{"$error":"#REF!"}},null,{"$f":"IFERROR(VLOOKUP(C832,Hidden_Словник!$A$2:$C$100,3,FALSE),\"\")","v":""},null,null,null,null,null,null,null,null,null,null,null,null,null,null,null,null,null,null,""]
[{"$f":"IF(#REF!>\"\",D833&\"_\"&#REF!&\"_\"&B833,\"\")","v":{"$error":"#REF!"}},{"$f":"IF(#REF!=\"\",\"\",COUNTIF(#REF!,\">\"\"\"))","v":{"$error":"#REF!"}},null,{"$f":"IFERROR(VLOOKUP(C833,Hidden_Словник!$A$2:$C$100,3,FALSE),\"\")","v":""},null,null,null,null,null,null,null,null,null,null,null,null,null,null,null,null,null,null,""]
[{"$f":"IF(#REF!>\"\",D834&\"_\"&#REF!&\"_\"&B834,\"\")","v":{"$error":"#REF!"}},{"$f":"IF(#REF!=\"\",\"\",COUNTIF(#REF!,\">\"\"\"))","v":{"$error":"#REF!"}},null,{"$f":"IFERROR(VLOOKUP(C834,Hidden_Словник!$A$2:$C$100,3,FALSE),\"\")","v":""},null,null,null,null,null,null,null,null,null,null,null,null,null,null,null,null,null,null,""]
[{"$f":"IF(#REF!>\"\",D835&\"_\"&#REF!&\"_\"&B835,\"\")","v":{"$error":"#REF!"}},{"$f":"IF(#REF!=\"\",\"\",COUNTIF(#REF!,\">\"\"\"))","v":{"$error":"#REF!"}},null,{"$f":"IFERROR(VLOOKUP(C835,Hidden_Словник!$A$2:$C$100,3,FALSE),\"\")","v":""},null,null,null,null,null,null,null,null,null,null,null,null,null,null,null,null,null,null,""]
[{"$f":"IF(#REF!>\"\",D836&\"_\"&#REF!&\"_\"&B836,\"\")","v":{"$error":"#REF!"}},{"$f":"IF(#REF!=\"\",\"\",COUNTIF(#REF!,\">\"\"\"))","v":{"$error":"#REF!"}},null,{"$f":"IFERROR(VLOOKUP(C836,Hidden_Словник!$A$2:$C$100,3,FALSE),\"\")","v":""},null,null,null,null,null,null,null,null,null,null,null,null,null,null,null,null,null,null,""]
[{"$f":"IF(#REF!>\"\",D837&\"_\"&#REF!&\"_\"&B837,\"\")","v":{"$error":"#REF!"}},{"$f":"IF(#REF!=\"\",\"\",COUNTIF(#REF!,\">\"\"\"))","v":{"$error":"#REF!"}},null,{"$f":"IFERROR(VLOOKUP(C837,Hidden_Словник!$A$2:$C$100,3,FALSE),\"\")","v":""},null,null,null,null,null,null,null,null,null,null,null,null,null,null,null,null,null,null,""]
[{"$f":"IF(#REF!>\"\",D838&\"_\"&#REF!&\"_\"&B838,\"\")","v":{"$error":"#REF!"}},{"$f":"IF(#REF!=\"\",\"\",COUNTIF(#REF!,\">\"\"\"))","v":{"$error":"#REF!"}},null,{"$f":"IFERROR(VLOOKUP(C838,Hidden_Словник!$A$2:$C$100,3,FALSE),\"\")","v":""},null,null,null,null,null,null,null,null,null,null,null,null,null,null,null,null,null,null,""]
[{"$f":"IF(#REF!>\"\",D839&\"_\"&#REF!&\"_\"&B839,\"\")","v":{"$error":"#REF!"}},{"$f":"IF(#REF!=\"\",\"\",COUNTIF(#REF!,\">\"\"\"))","v":{"$error":"#REF!"}},null,{"$f":"IFERROR(VLOOKUP(C839,Hidden_Словник!$A$2:$C$100,3,FALSE),\"\")","v":""},null,null,null,null,null,null,null,null,null,null,null,null,null,null,null,null,null,null,""]
[{"$f":"IF(#REF!>\"\",D840&\"_\"&#REF!&\"_\"&B840,\"\")","v":{"$error":"#REF!"}},{"$f":"IF(#REF!=\"\",\"\",COUNTIF(#REF!,\">\"\"\"))","v":{"$error":"#REF!"}},null,{"$f":"IFERROR(VLOOKUP(C840,Hidden_Словник!$A$2:$C$100,3,FALSE),\"\")","v":""},null,null,null,null,null,null,null,null,null,null,null,null,null,null,null,null,null,null,""]
[{"$f":"IF(#REF!>\"\",D841&\"_\"&#REF!&\"_\"&B841,\"\")","v":{"$error":"#REF!"}},{"$f":"IF(#REF!=\"\",\"\",COUNTIF(#REF!,\">\"\"\"))","v":{"$error":"#REF!"}},null,{"$f":"IFERROR(VLOOKUP(C841,Hidden_Словник!$A$2:$C$100,3,FALSE),\"\")","v":""},null,null,null,null,null,null,null,null,null,null,null,null,null,null,null,null,null,null,""]
[{"$f":"IF(#REF!>\"\",D842&\"_\"&#REF!&\"_\"&B842,\"\")","v":{"$error":"#REF!"}},{"$f":"IF(#REF!=\"\",\"\",COUNTIF(#REF!,\">\"\"\"))","v":{"$error":"#REF!"}},null,{"$f":"IFERROR(VLOOKUP(C842,Hidden_Словник!$A$2:$C$100,3,FALSE),\"\")","v":""},null,null,null,null,null,null,null,null,null,null,null,null,null,null,null,null,null,null,""]
[{"$f":"IF(#REF!>\"\",D843&\"_\"&#REF!&\"_\"&B843,\"\")","v":{"$error":"#REF!"}},{"$f":"IF(#REF!=\"\",\"\",COUNTIF(#REF!,\">\"\"\"))","v":{"$error":"#REF!"}},null,{"$f":"IFERROR(VLOOKUP(C843,Hidden_Словник!$A$2:$C$100,3,FALSE),\"\")","v":""},null,null,null,null,null,null,null,null,null,null,null,null,null,null,null,null,null,null,""]
[{"$f":"IF(#REF!>\"\",D844&\"_\"&#REF!&\"_\"&B844,\"\")","v":{"$error":"#REF!"}},{"$f":"IF(#REF!=\"\",\"\",COUNTIF(#REF!,\">\"\"\"))","v":{"$error":"#REF!"}},null,{"$f":"IFERROR(VLOOKUP(C844,Hidden_Словник!$A$2:$C$100,3,FALSE),\"\")","v":""},null,null,null,null,null,null,null,null,null,null,null,null,null,null,null,null,null,null,""]
[{"$f":"IF(#REF!>\"\",D845&\"_\"&#REF!&\"_\"&B845,\"\")","v":{"$error":"#REF!"}},{"$f":"IF(#REF!=\"\",\"\",COUNTIF(#REF!,\">\"\"\"))","v":{"$error":"#REF!"}},null,{"$f":"IFERROR(VLOOKUP(C845,Hidden_Словник!$A$2:$C$100,3,FALSE),\"\")","v":""},null,null,null,null,null,null,null,null,null,null,null,null,null,null,null,null,null,null,""]
[{"$f":"IF(#REF!>\"\",D846&\"_\"&#REF!&\"_\"&B846,\"\")","v":{"$error":"#REF!"}},{"$f":"IF(#REF!=\"\",\"\",COUNTIF(#REF!,\">\"\"\"))","v":{"$error":"#REF!"}},null,{"$f":"IFERROR(VLOOKUP(C846,Hidden_Словник!$A$2:$C$100,3,FALSE),\"\")","v":""},null,null,null,null,null,null,null,null,null,null,null,null,null,null,null,null,null,null,""]
[{"$f":"IF(#REF!>\"\",D847&\"_\"&#REF!&\"_\"&B847,\"\")","v":{"$error":"#REF!"}},{"$f":"IF(#REF!=\"\",\"\",COUNTIF(#REF!,\">\"\"\"))","v":{"$error":"#REF!"}},null,{"$f":"IFERROR(VLOOKUP(C847,Hidden_Словник!$A$2:$C$100,3,FALSE),\"\")","v":""},null,null,null,null,null,null,null,null,null,null,null,null,null,null,null,null,null,null,""]
[{"$f":"IF(#REF!>\"\",D848&\"_\"&#REF!&\"_\"&B848,\"\")","v":{"$error":"#REF!"}},{"$f":"IF(#REF!=\"\",\"\",COUNTIF(#REF!,\">\"\"\"))","v":{"$error":"#REF!"}},null,{"$f":"IFERROR(VLOOKUP(C848,Hidden_Словник!$A$2:$C$100,3,FALSE),\"\")","v":""},null,null,null,null,null,null,null,null,null,null,null,null,null,null,null,null,null,null,""]
[{"$f":"IF(#REF!>\"\",D849&\"_\"&#REF!&\"_\"&B849,\"\")","v":{"$error":"#REF!"}},{"$f":"IF(#REF!=\"\",\"\",COUNTIF(#REF!,\">\"\"\"))","v":{"$error":"#REF!"}},null,{"$f":"IFERROR(VLOOKUP(C849,Hidden_Словник!$A$2:$C$100,3,FALSE),\"\")","v":""},null,null,null,null,null,null,null,null,null,null,null,null,null,null,null,null,null,null,""]
[{"$f":"IF(#REF!>\"\",D850&\"_\"&#REF!&\"_\"&B850,\"\")","v":{"$error":"#REF!"}},{"$f":"IF(#REF!=\"\",\"\",COUNTIF(#REF!,\">\"\"\"))","v":{"$error":"#REF!"}},null,{"$f":"IFERROR(VLOOKUP(C850,Hidden_Словник!$A$2:$C$100,3,FALSE),\"\")","v":""},null,null,null,null,null,null,null,null,null,null,null,null,null,null,null,null,null,null,""]
[{"$f":"IF(#REF!>\"\",D851&\"_\"&#REF!&\"_\"&B851,\"\")","v":{"$error":"#REF!"}},{"$f":"IF(#REF!=\"\",\"\",COUNTIF(#REF!,\">\"\"\"))","v":{"$error":"#REF!"}},null,{"$f":"IFERROR(VLOOKUP(C851,Hidden_Словник!$A$2:$C$100,3,FALSE),\"\")","v":""},null,null,null,null,null,null,null,null,null,null,null,null,null,null,null,null,null,null,""]
[{"$f":"IF(#REF!>\"\",D852&\"_\"&#REF!&\"_\"&B852,\"\")","v":{"$error":"#REF!"}},{"$f":"IF(#REF!=\"\",\"\",COUNTIF(#REF!,\">\"\"\"))","v":{"$error":"#REF!"}},null,{"$f":"IFERROR(VLOOKUP(C852,Hidden_Словник!$A$2:$C$100,3,FALSE),\"\")","v":""},null,null,null,null,null,null,null,null,null,null,null,null,null,null,null,null,null,null,""]
[{"$f":"IF(#REF!>\"\",D853&\"_\"&#REF!&\"_\"&B853,\"\")","v":{"$error":"#REF!"}},{"$f":"IF(#REF!=\"\",\"\",COUNTIF(#REF!,\">\"\"\"))","v":{"$error":"#REF!"}},null,{"$f":"IFERROR(VLOOKUP(C853,Hidden_Словник!$A$2:$C$100,3,FALSE),\"\")","v":""},null,null,null,null,null,null,null,null,null,null,null,null,null,null,null,null,null,null,""]
[{"$f":"IF(#REF!>\"\",D854&\"_\"&#REF!&\"_\"&B854,\"\")","v":{"$error":"#REF!"}},{"$f":"IF(#REF!=\"\",\"\",COUNTIF(#REF!,\">\"\"\"))","v":{"$error":"#REF!"}},null,{"$f":"IFERROR(VLOOKUP(C854,Hidden_Словник!$A$2:$C$100,3,FALSE),\"\")","v":""},null,null,null,null,null,null,null,null,null,null,null,null,null,null,null,null,null,null,""]
[{"$f":"IF(#REF!>\"\",D855&\"_\"&#REF!&\"_\"&B855,\"\")","v":{"$error":"#REF!"}},{"$f":"IF(#REF!=\"\",\"\",COUNTIF(#REF!,\">\"\"\"))","v":{"$error":"#REF!"}},null,{"$f":"IFERROR(VLOOKUP(C855,Hidden_Словник!$A$2:$C$100,3,FALSE),\"\")","v":""},null,null,null,null,null,null,null,null,null,null,null,null,null,null,null,null,null,null,""]
[{"$f":"IF(#REF!>\"\",D856&\"_\"&#REF!&\"_\"&B856,\"\")","v":{"$error":"#REF!"}},{"$f":"IF(#REF!=\"\",\"\",COUNTIF(#REF!,\">\"\"\"))","v":{"$error":"#REF!"}},null,{"$f":"IFERROR(VLOOKUP(C856,Hidden_Словник!$A$2:$C$100,3,FALSE),\"\")","v":""},null,null,null,null,null,null,null,null,null,null,null,null,null,null,null,null,null,null,""]
[{"$f":"IF(#REF!>\"\",D857&\"_\"&#REF!&\"_\"&B857,\"\")","v":{"$error":"#REF!"}},{"$f":"IF(#REF!=\"\",\"\",COUNTIF(#REF!,\">\"\"\"))","v":{"$error":"#REF!"}},null,{"$f":"IFERROR(VLOOKUP(C857,Hidden_Словник!$A$2:$C$100,3,FALSE),\"\")","v":""},null,null,null,null,null,null,null,null,null,null,null,null,null,null,null,null,null,null,""]
[{"$f":"IF(#REF!>\"\",D858&\"_\"&#REF!&\"_\"&B858,\"\")","v":{"$error":"#REF!"}},{"$f":"IF(#REF!=\"\",\"\",COUNTIF(#REF!,\">\"\"\"))","v":{"$error":"#REF!"}},null,{"$f":"IFERROR(VLOOKUP(C858,Hidden_Словник!$A$2:$C$100,3,FALSE),\"\")","v":""},null,null,null,null,null,null,null,null,null,null,null,null,null,null,null,null,null,null,""]
[{"$f":"IF(#REF!>\"\",D859&\"_\"&#REF!&\"_\"&B859,\"\")","v":{"$error":"#REF!"}},{"$f":"IF(#REF!=\"\",\"\",COUNTIF(#REF!,\">\"\"\"))","v":{"$error":"#REF!"}},null,{"$f":"IFERROR(VLOOKUP(C859,Hidden_Словник!$A$2:$C$100,3,FALSE),\"\")","v":""},null,null,null,null,null,null,null,null,null,null,null,null,null,null,null,null,null,null,""]
[{"$f":"IF(#REF!>\"\",D860&\"_\"&#REF!&\"_\"&B860,\"\")","v":{"$error":"#REF!"}},{"$f":"IF(#REF!=\"\",\"\",COUNTIF(#REF!,\">\"\"\"))","v":{"$error":"#REF!"}},null,{"$f":"IFERROR(VLOOKUP(C860,Hidden_Словник!$A$2:$C$100,3,FALSE),\"\")","v":""},null,null,null,null,null,null,null,null,null,null,null,null,null,null,null,null,null,null,""]
[{"$f":"IF(#REF!>\"\",D861&\"_\"&#REF!&\"_\"&B861,\"\")","v":{"$error":"#REF!"}},{"$f":"IF(#REF!=\"\",\"\",COUNTIF(#REF!,\">\"\"\"))","v":{"$error":"#REF!"}},null,{"$f":"IFERROR(VLOOKUP(C861,Hidden_Словник!$A$2:$C$100,3,FALSE),\"\")","v":""},null,null,null,null,null,null,null,null,null,null,null,null,null,null,null,null,null,null,""]
[{"$f":"IF(#REF!>\"\",D862&\"_\"&#REF!&\"_\"&B862,\"\")","v":{"$error":"#REF!"}},{"$f":"IF(#REF!=\"\",\"\",COUNTIF(#REF!,\">\"\"\"))","v":{"$error":"#REF!"}},null,{"$f":"IFERROR(VLOOKUP(C862,Hidden_Словник!$A$2:$C$100,3,FALSE),\"\")","v":""},null,null,null,null,null,null,null,null,null,null,null,null,null,null,null,null,null,null,""]
[{"$f":"IF(#REF!>\"\",D863&\"_\"&#REF!&\"_\"&B863,\"\")","v":{"$error":"#REF!"}},{"$f":"IF(#REF!=\"\",\"\",COUNTIF(#REF!,\">\"\"\"))","v":{"$error":"#REF!"}},null,{"$f":"IFERROR(VLOOKUP(C863,Hidden_Словник!$A$2:$C$100,3,FALSE),\"\")","v":""},null,null,null,null,null,null,null,null,null,null,null,null,null,null,null,null,null,null,""]
[{"$f":"IF(#REF!>\"\",D864&\"_\"&#REF!&\"_\"&B864,\"\")","v":{"$error":"#REF!"}},{"$f":"IF(#REF!=\"\",\"\",COUNTIF(#REF!,\">\"\"\"))","v":{"$error":"#REF!"}},null,{"$f":"IFERROR(VLOOKUP(C864,Hidden_Словник!$A$2:$C$100,3,FALSE),\"\")","v":""},null,null,null,null,null,null,null,null,null,null,null,null,null,null,null,null,null,null,""]
[{"$f":"IF(#REF!>\"\",D865&\"_\"&#REF!&\"_\"&B865,\"\")","v":{"$error":"#REF!"}},{"$f":"IF(#REF!=\"\",\"\",COUNTIF(#REF!,\">\"\"\"))","v":{"$error":"#REF!"}},null,{"$f":"IFERROR(VLOOKUP(C865,Hidden_Словник!$A$2:$C$100,3,FALSE),\"\")","v":""},null,null,null,null,null,null,null,null,null,null,null,null,null,null,null,null,null,null,""]
[{"$f":"IF(#REF!>\"\",D866&\"_\"&#REF!&\"_\"&B866,\"\")","v":{"$error":"#REF!"}},{"$f":"IF(#REF!=\"\",\"\",COUNTIF(#REF!,\">\"\"\"))","v":{"$error":"#REF!"}},null,{"$f":"IFERROR(VLOOKUP(C866,Hidden_Словник!$A$2:$C$100,3,FALSE),\"\")","v":""},null,null,null,null,null,null,null,null,null,null,null,null,null,null,null,null,null,null,""]
[{"$f":"IF(#REF!>\"\",D867&\"_\"&#REF!&\"_\"&B867,\"\")","v":{"$error":"#REF!"}},{"$f":"IF(#REF!=\"\",\"\",COUNTIF(#REF!,\">\"\"\"))","v":{"$error":"#REF!"}},null,{"$f":"IFERROR(VLOOKUP(C867,Hidden_Словник!$A$2:$C$100,3,FALSE),\"\")","v":""},null,null,null,null,null,null,null,null,null,null,null,null,null,null,null,null,null,null,""]
[{"$f":"IF(#REF!>\"\",D868&\"_\"&#REF!&\"_\"&B868,\"\")","v":{"$error":"#REF!"}},{"$f":"IF(#REF!=\"\",\"\",COUNTIF(#REF!,\">\"\"\"))","v":{"$error":"#REF!"}},null,{"$f":"IFERROR(VLOOKUP(C868,Hidden_Словник!$A$2:$C$100,3,FALSE),\"\")","v":""},null,null,null,null,null,null,null,null,null,null,null,null,null,null,null,null,null,null,""]
[{"$f":"IF(#REF!>\"\",D869&\"_\"&#REF!&\"_\"&B869,\"\")","v":{"$error":"#REF!"}},{"$f":"IF(#REF!=\"\",\"\",COUNTIF(#REF!,\">\"\"\"))","v":{"$error":"#REF!"}},null,{"$f":"IFERROR(VLOOKUP(C869,Hidden_Словник!$A$2:$C$100,3,FALSE),\"\")","v":""},null,null,null,null,null,null,null,null,null,null,null,null,null,null,null,null,null,null,""]
[{"$f":"IF(#REF!>\"\",D870&\"_\"&#REF!&\"_\"&B870,\"\")","v":{"$error":"#REF!"}},{"$f":"IF(#REF!=\"\",\"\",COUNTIF(#REF!,\">\"\"\"))","v":{"$error":"#REF!"}},null,{"$f":"IFERROR(VLOOKUP(C870,Hidden_Словник!$A$2:$C$100,3,FALSE),\"\")","v":""},null,null,null,null,null,null,null,null,null,null,null,null,null,null,null,null,null,null,""]
[{"$f":"IF(#REF!>\"\",D871&\"_\"&#REF!&\"_\"&B871,\"\")","v":{"$error":"#REF!"}},{"$f":"IF(#REF!=\"\",\"\",COUNTIF(#REF!,\">\"\"\"))","v":{"$error":"#REF!"}},null,{"$f":"IFERROR(VLOOKUP(C871,Hidden_Словник!$A$2:$C$100,3,FALSE),\"\")","v":""},null,null,null,null,null,null,null,null,null,null,null,null,null,null,null,null,null,null,""]
[{"$f":"IF(#REF!>\"\",D872&\"_\"&#REF!&\"_\"&B872,\"\")","v":{"$error":"#REF!"}},{"$f":"IF(#REF!=\"\",\"\",COUNTIF(#REF!,\">\"\"\"))","v":{"$error":"#REF!"}},null,{"$f":"IFERROR(VLOOKUP(C872,Hidden_Словник!$A$2:$C$100,3,FALSE),\"\")","v":""},null,null,null,null,null,null,null,null,null,null,null,null,null,null,null,null,null,null,{"$f":"IF(X872+Y872>0,X872+Y872,\"\")","v":""}]
[{"$f":"IF(#REF!>\"\",D873&\"_\"&#REF!&\"_\"&B873,\"\")","v":{"$error":"#REF!"}},{"$f":"IF(#REF!=\"\",\"\",COUNTIF(#REF!,\">\"\"\"))","v":{"$error":"#REF!"}},null,{"$f":"IFERROR(VLOOKUP(C873,Hidden_Словник!$A$2:$C$100,3,FALSE),\"\")","v":""},null,null,null,null,null,null,null,null,null,null,null,null,null,null,null,null,null,null,""]
[{"$f":"IF(#REF!>\"\",D874&\"_\"&#REF!&\"_\"&B874,\"\")","v":{"$error":"#REF!"}},{"$f":"IF(#REF!=\"\",\"\",COUNTIF(#REF!,\">\"\"\"))","v":{"$error":"#REF!"}},null,{"$f":"IFERROR(VLOOKUP(C874,Hidden_Словник!$A$2:$C$100,3,FALSE),\"\")","v":""},null,null,null,null,null,null,null,null,null,null,null,null,null,null,null,null,null,null,""]
[{"$f":"IF(#REF!>\"\",D875&\"_\"&#REF!&\"_\"&B875,\"\")","v":{"$error":"#REF!"}},{"$f":"IF(#REF!=\"\",\"\",COUNTIF(#REF!,\">\"\"\"))","v":{"$error":"#REF!"}},null,{"$f":"IFERROR(VLOOKUP(C875,Hidden_Словник!$A$2:$C$100,3,FALSE),\"\")","v":""},null,null,null,null,null,null,null,null,null,null,null,null,null,null,null,null,null,null,""]
[{"$f":"IF(#REF!>\"\",D876&\"_\"&#REF!&\"_\"&B876,\"\")","v":{"$error":"#REF!"}},{"$f":"IF(#REF!=\"\",\"\",COUNTIF(#REF!,\">\"\"\"))","v":{"$error":"#REF!"}},null,{"$f":"IFERROR(VLOOKUP(C876,Hidden_Словник!$A$2:$C$100,3,FALSE),\"\")","v":""},null,null,null,null,null,null,null,null,null,null,null,null,null,null,null,null,null,null,""]
[{"$f":"IF(#REF!>\"\",D877&\"_\"&#REF!&\"_\"&B877,\"\")","v":{"$error":"#REF!"}},{"$f":"IF(#REF!=\"\",\"\",COUNTIF(#REF!,\">\"\"\"))","v":{"$error":"#REF!"}},null,{"$f":"IFERROR(VLOOKUP(C877,Hidden_Словник!$A$2:$C$100,3,FALSE),\"\")","v":""},null,null,null,null,null,null,null,null,null,null,null,null,null,null,null,null,null,null,""]
[{"$f":"IF(#REF!>\"\",D878&\"_\"&#REF!&\"_\"&B878,\"\")","v":{"$error":"#REF!"}},{"$f":"IF(#REF!=\"\",\"\",COUNTIF(#REF!,\">\"\"\"))","v":{"$error":"#REF!"}},null,{"$f":"IFERROR(VLOOKUP(C878,Hidden_Словник!$A$2:$C$100,3,FALSE),\"\")","v":""},null,null,null,null,null,null,null,null,null,null,null,null,null,null,null,null,null,null,""]
[{"$f":"IF(#REF!>\"\",D879&\"_\"&#REF!&\"_\"&B879,\"\")","v":{"$error":"#REF!"}},{"$f":"IF(#REF!=\"\",\"\",COUNTIF(#REF!,\">\"\"\"))","v":{"$error":"#REF!"}},null,{"$f":"IFERROR(VLOOKUP(C879,Hidden_Словник!$A$2:$C$100,3,FALSE),\"\")","v":""},null,null,null,null,null,null,null,null,null,null,null,null,null,null,null,null,null,null,""]
[{"$f":"IF(#REF!>\"\",D880&\"_\"&#REF!&\"_\"&B880,\"\")","v":{"$error":"#REF!"}},{"$f":"IF(#REF!=\"\",\"\",COUNTIF(#REF!,\">\"\"\"))","v":{"$error":"#REF!"}},null,{"$f":"IFERROR(VLOOKUP(C880,Hidden_Словник!$A$2:$C$100,3,FALSE),\"\")","v":""},null,null,null,null,null,null,null,null,null,null,null,null,null,null,null,null,null,null,""]
[{"$f":"IF(#REF!>\"\",D881&\"_\"&#REF!&\"_\"&B881,\"\")","v":{"$error":"#REF!"}},{"$f":"IF(#REF!=\"\",\"\",COUNTIF(#REF!,\">\"\"\"))","v":{"$error":"#REF!"}},null,{"$f":"IFERROR(VLOOKUP(C881,Hidden_Словник!$A$2:$C$100,3,FALSE),\"\")","v":""},null,null,null,null,null,null,null,null,null,null,null,null,null,null,null,null,null,null,""]
[{"$f":"IF(#REF!>\"\",D882&\"_\"&#REF!&\"_\"&B882,\"\")","v":{"$error":"#REF!"}},{"$f":"IF(#REF!=\"\",\"\",COUNTIF(#REF!,\">\"\"\"))","v":{"$error":"#REF!"}},null,{"$f":"IFERROR(VLOOKUP(C882,Hidden_Словник!$A$2:$C$100,3,FALSE),\"\")","v":""},null,null,null,null,null,null,null,null,null,null,null,null,null,null,null,null,null,null,""]
[{"$f":"IF(#REF!>\"\",D883&\"_\"&#REF!&\"_\"&B883,\"\")","v":{"$error":"#REF!"}},{"$f":"IF(#REF!=\"\",\"\",COUNTIF(#REF!,\">\"\"\"))","v":{"$error":"#REF!"}},null,{"$f":"IFERROR(VLOOKUP(C883,Hidden_Словник!$A$2:$C$100,3,FALSE),\"\")","v":""},null,null,null,null,null,null,null,null,null,null,null,null,null,null,null,null,null,null,""]
[{"$f":"IF(#REF!>\"\",D884&\"_\"&#REF!&\"_\"&B884,\"\")","v":{"$error":"#REF!"}},{"$f":"IF(#REF!=\"\",\"\",COUNTIF(#REF!,\">\"\"\"))","v":{"$error":"#REF!"}},null,{"$f":"IFERROR(VLOOKUP(C884,Hidden_Словник!$A$2:$C$100,3,FALSE),\"\")","v":""},null,null,null,null,null,null,null,null,null,null,null,null,null,null,null,null,null,null,""]
[{"$f":"IF(#REF!>\"\",D885&\"_\"&#REF!&\"_\"&B885,\"\")","v":{"$error":"#REF!"}},{"$f":"IF(#REF!=\"\",\"\",COUNTIF(#REF!,\">\"\"\"))","v":{"$error":"#REF!"}},null,{"$f":"IFERROR(VLOOKUP(C885,Hidden_Словник!$A$2:$C$100,3,FALSE),\"\")","v":""},null,null,null,null,null,null,null,null,null,null,null,null,null,null,null,null,null,null,""]
[{"$f":"IF(#REF!>\"\",D886&\"_\"&#REF!&\"_\"&B886,\"\")","v":{"$error":"#REF!"}},{"$f":"IF(#REF!=\"\",\"\",COUNTIF(#REF!,\">\"\"\"))","v":{"$error":"#REF!"}},null,{"$f":"IFERROR(VLOOKUP(C886,Hidden_Словник!$A$2:$C$100,3,FALSE),\"\")","v":""},null,null,null,null,null,null,null,null,null,null,null,null,null,null,null,null,null,null,""]
[{"$f":"IF(#REF!>\"\",D887&\"_\"&#REF!&\"_\"&B887,\"\")","v":{"$error":"#REF!"}},{"$f":"IF(#REF!=\"\",\"\",COUNTIF(#REF!,\">\"\"\"))","v":{"$error":"#REF!"}},null,{"$f":"IFERROR(VLOOKUP(C887,Hidden_Словник!$A$2:$C$100,3,FALSE),\"\")","v":""},null,null,null,null,null,null,null,null,null,null,null,null,null,null,null,null,null,null,""]
[{"$f":"IF(#REF!>\"\",D888&\"_\"&#REF!&\"_\"&B888,\"\")","v":{"$error":"#REF!"}},{"$f":"IF(#REF!=\"\",\"\",COUNTIF(#REF!,\">\"\"\"))","v":{"$error":"#REF!"}},null,{"$f":"IFERROR(VLOOKUP(C888,Hidden_Словник!$A$2:$C$100,3,FALSE),\"\")","v":""},null,null,null,null,null,null,null,null,null,null,null,null,null,null,null,null,null,null,""]
[{"$f":"IF(#REF!>\"\",D889&\"_\"&#REF!&\"_\"&B889,\"\")","v":{"$error":"#REF!"}},{"$f":"IF(#REF!=\"\",\"\",COUNTIF(#REF!,\">\"\"\"))","v":{"$error":"#REF!"}},null,{"$f":"IFERROR(VLOOKUP(C889,Hidden_Словник!$A$2:$C$100,3,FALSE),\"\")","v":""},null,null,null,null,null,null,null,null,null,null,null,null,null,null,null,null,null,null,""]
[{"$f":"IF(#REF!>\"\",D890&\"_\"&#REF!&\"_\"&B890,\"\")","v":{"$error":"#REF!"}},{"$f":"IF(#REF!=\"\",\"\",COUNTIF(#REF!,\">\"\"\"))","v":{"$error":"#REF!"}},null,{"$f":"IFERROR(VLOOKUP(C890,Hidden_Словник!$A$2:$C$100,3,FALSE),\"\")","v":""},null,null,null,null,null,null,null,null,null,null,null,null,null,null,null,null,null,null,""]
[{"$f":"IF(#REF!>\"\",D891&\"_\"&#REF!&\"_\"&B891,\"\")","v":{"$error":"#REF!"}},{"$f":"IF(#REF!=\"\",\"\",COUNTIF(#REF!,\">\"\"\"))","v":{"$error":"#REF!"}},null,{"$f":"IFERROR(VLOOKUP(C891,Hidden_Словник!$A$2:$C$100,3,FALSE),\"\")","v":""},null,null,null,null,null,null,null,null,null,null,null,null,null,null,null,null,null,null,""]
[{"$f":"IF(#REF!>\"\",D892&\"_\"&#REF!&\"_\"&B892,\"\")","v":{"$error":"#REF!"}},{"$f":"IF(#REF!=\"\",\"\",COUNTIF(#REF!,\">\"\"\"))","v":{"$error":"#REF!"}},null,{"$f":"IFERROR(VLOOKUP(C892,Hidden_Словник!$A$2:$C$100,3,FALSE),\"\")","v":""},null,null,null,null,null,null,null,null,null,null,null,null,null,null,null,null,null,null,""]
[{"$f":"IF(#REF!>\"\",D893&\"_\"&#REF!&\"_\"&B893,\"\")","v":{"$error":"#REF!"}},{"$f":"IF(#REF!=\"\",\"\",COUNTIF(#REF!,\">\"\"\"))","v":{"$error":"#REF!"}},null,{"$f":"IFERROR(VLOOKUP(C893,Hidden_Словник!$A$2:$C$100,3,FALSE),\"\")","v":""},null,null,null,null,null,null,null,null,null,null,null,null,null,null,null,null,null,null,""]
[{"$f":"IF(#REF!>\"\",D894&\"_\"&#REF!&\"_\"&B894,\"\")","v":{"$error":"#REF!"}},{"$f":"IF(#REF!=\"\",\"\",COUNTIF(#REF!,\">\"\"\"))","v":{"$error":"#REF!"}},null,{"$f":"IFERROR(VLOOKUP(C894,Hidden_Словник!$A$2:$C$100,3,FALSE),\"\")","v":""},null,null,null,null,null,null,null,null,null,null,null,null,null,null,null,null,null,null,""]
[{"$f":"IF(#REF!>\"\",D895&\"_\"&#REF!&\"_\"&B895,\"\")","v":{"$error":"#REF!"}},{"$f":"IF(#REF!=\"\",\"\",COUNTIF(#REF!,\">\"\"\"))","v":{"$error":"#REF!"}},null,{"$f":"IFERROR(VLOOKUP(C895,Hidden_Словник!$A$2:$C$100,3,FALSE),\"\")","v":""},null,null,null,null,null,null,null,null,null,null,null,null,null,null,null,null,null,null,""]
[{"$f":"IF(#REF!>\"\",D896&\"_\"&#REF!&\"_\"&B896,\"\")","v":{"$error":"#REF!"}},{"$f":"IF(#REF!=\"\",\"\",COUNTIF(#REF!,\">\"\"\"))","v":{"$error":"#REF!"}},null,{"$f":"IFERROR(VLOOKUP(C896,Hidden_Словник!$A$2:$C$100,3,FALSE),\"\")","v":""},null,null,null,null,null,null,null,null,null,null,null,null,null,null,null,null,null,null,""]
[{"$f":"IF(#REF!>\"\",D897&\"_\"&#REF!&\"_\"&B897,\"\")","v":{"$error":"#REF!"}},{"$f":"IF(#REF!=\"\",\"\",COUNTIF(#REF!,\">\"\"\"))","v":{"$error":"#REF!"}},null,{"$f":"IFERROR(VLOOKUP(C897,Hidden_Словник!$A$2:$C$100,3,FALSE),\"\")","v":""},null,null,null,null,null,null,null,null,null,null,null,null,null,null,null,null,null,null,""]
[{"$f":"IF(#REF!>\"\",D898&\"_\"&#REF!&\"_\"&B898,\"\")","v":{"$error":"#REF!"}},{"$f":"IF(#REF!=\"\",\"\",COUNTIF(#REF!,\">\"\"\"))","v":{"$error":"#REF!"}},null,{"$f":"IFERROR(VLOOKUP(C898,Hidden_Словник!$A$2:$C$100,3,FALSE),\"\")","v":""},null,null,null,null,null,null,null,null,null,null,null,null,null,null,null,null,null,null,""]
[{"$f":"IF(#REF!>\"\",D899&\"_\"&#REF!&\"_\"&B899,\"\")","v":{"$error":"#REF!"}},{"$f":"IF(#REF!=\"\",\"\",COUNTIF(#REF!,\">\"\"\"))","v":{"$error":"#REF!"}},null,{"$f":"IFERROR(VLOOKUP(C899,Hidden_Словник!$A$2:$C$100,3,FALSE),\"\")","v":""},null,null,null,null,null,null,null,null,null,null,null,null,null,null,null,null,null,null,""]
[{"$f":"IF(#REF!>\"\",D900&\"_\"&#REF!&\"_\"&B900,\"\")","v":{"$error":"#REF!"}},{"$f":"IF(#REF!=\"\",\"\",COUNTIF(#REF!,\">\"\"\"))","v":{"$error":"#REF!"}},null,{"$f":"IFERROR(VLOOKUP(C900,Hidden_Словник!$A$2:$C$100,3,FALSE),\"\")","v":""},null,null,null,null,null,null,null,null,null,null,null,null,null,null,null,null,null,null,""]
[{"$f":"IF(#REF!>\"\",D901&\"_\"&#REF!&\"_\"&B901,\"\")","v":{"$error":"#REF!"}},{"$f":"IF(#REF!=\"\",\"\",COUNTIF(#REF!,\">\"\"\"))","v":{"$error":"#REF!"}},null,{"$f":"IFERROR(VLOOKUP(C901,Hidden_Словник!$A$2:$C$100,3,FALSE),\"\")","v":""},null,null,null,null,null,null,null,null,null,null,null,null,null,null,null,null,null,null,""]
[{"$f":"IF(#REF!>\"\",D902&\"_\"&#REF!&\"_\"&B902,\"\")","v":{"$error":"#REF!"}},{"$f":"IF(#REF!=\"\",\"\",COUNTIF(#REF!,\">\"\"\"))","v":{"$error":"#REF!"}},null,{"$f":"IFERROR(VLOOKUP(C902,Hidden_Словник!$A$2:$C$100,3,FALSE),\"\")","v":""},null,null,null,null,null,null,null,null,null,null,null,null,null,null,null,null,null,null,""]
[{"$f":"IF(#REF!>\"\",D903&\"_\"&#REF!&\"_\"&B903,\"\")","v":{"$error":"#REF!"}},{"$f":"IF(#REF!=\"\",\"\",COUNTIF(#REF!,\">\"\"\"))","v":{"$error":"#REF!"}},null,{"$f":"IFERROR(VLOOKUP(C903,Hidden_Словник!$A$2:$C$100,3,FALSE),\"\")","v":""},null,null,null,null,null,null,null,null,null,null,null,null,null,null,null,null,null,null,""]
[{"$f":"IF(#REF!>\"\",D904&\"_\"&#REF!&\"_\"&B904,\"\")","v":{"$error":"#REF!"}},{"$f":"IF(#REF!=\"\",\"\",COUNTIF(#REF!,\">\"\"\"))","v":{"$error":"#REF!"}},null,{"$f":"IFERROR(VLOOKUP(C904,Hidden_Словник!$A$2:$C$100,3,FALSE),\"\")","v":""},null,null,null,null,null,null,null,null,null,null,null,null,null,null,null,null,null,null,""]
[{"$f":"IF(#REF!>\"\",D905&\"_\"&#REF!&\"_\"&B905,\"\")","v":{"$error":"#REF!"}},{"$f":"IF(#REF!=\"\",\"\",COUNTIF(#REF!,\">\"\"\"))","v":{"$error":"#REF!"}},null,{"$f":"IFERROR(VLOOKUP(C905,Hidden_Словник!$A$2:$C$100,3,FALSE),\"\")","v":""},null,null,null,null,null,null,null,null,null,null,null,null,null,null,null,null,null,null,""]
[{"$f":"IF(#REF!>\"\",D906&\"_\"&#REF!&\"_\"&B906,\"\")","v":{"$error":"#REF!"}},{"$f":"IF(#REF!=\"\",\"\",COUNTIF(#REF!,\">\"\"\"))","v":{"$error":"#REF!"}},null,{"$f":"IFERROR(VLOOKUP(C906,Hidden_Словник!$A$2:$C$100,3,FALSE),\"\")","v":""},null,null,null,null,null,null,null,null,null,null,null,null,null,null,null,null,null,null,""]
[{"$f":"IF(#REF!>\"\",D907&\"_\"&#REF!&\"_\"&B907,\"\")","v":{"$error":"#REF!"}},{"$f":"IF(#REF!=\"\",\"\",COUNTIF(#REF!,\">\"\"\"))","v":{"$error":"#REF!"}},null,{"$f":"IFERROR(VLOOKUP(C907,Hidden_Словник!$A$2:$C$100,3,FALSE),\"\")","v":""},null,null,null,null,null,null,null,null,null,null,null,null,null,null,null,null,null,null,""]
[{"$f":"IF(#REF!>\"\",D908&\"_\"&#REF!&\"_\"&B908,\"\")","v":{"$error":"#REF!"}},{"$f":"IF(#REF!=\"\",\"\",COUNTIF(#REF!,\">\"\"\"))","v":{"$error":"#REF!"}},null,{"$f":"IFERROR(VLOOKUP(C908,Hidden_Словник!$A$2:$C$100,3,FALSE),\"\")","v":""},null,null,null,null,null,null,null,null,null,null,null,null,null,null,null,null,null,null,""]
[{"$f":"IF(#REF!>\"\",D909&\"_\"&#REF!&\"_\"&B909,\"\")","v":{"$error":"#REF!"}},{"$f":"IF(#REF!=\"\",\"\",COUNTIF(#REF!,\">\"\"\"))","v":{"$error":"#REF!"}},null,{"$f":"IFERROR(VLOOKUP(C909,Hidden_Словник!$A$2:$C$100,3,FALSE),\"\")","v":""},null,null,null,null,null,null,null,null,null,null,null,null,null,null,null,null,null,null,""]
[{"$f":"IF(#REF!>\"\",D910&\"_\"&#REF!&\"_\"&B910,\"\")","v":{"$error":"#REF!"}},{"$f":"IF(#REF!=\"\",\"\",COUNTIF(#REF!,\">\"\"\"))","v":{"$error":"#REF!"}},null,{"$f":"IFERROR(VLOOKUP(C910,Hidden_Словник!$A$2:$C$100,3,FALSE),\"\")","v":""},null,null,null,null,null,null,null,null,null,null,null,null,null,null,null,null,null,null,""]
[{"$f":"IF(#REF!>\"\",D911&\"_\"&#REF!&\"_\"&B911,\"\")","v":{"$error":"#REF!"}},{"$f":"IF(#REF!=\"\",\"\",COUNTIF(#REF!,\">\"\"\"))","v":{"$error":"#REF!"}},null,{"$f":"IFERROR(VLOOKUP(C911,Hidden_Словник!$A$2:$C$100,3,FALSE),\"\")","v":""},null,null,null,null,null,null,null,null,null,null,null,null,null,null,null,null,null,null,""]
[{"$f":"IF(#REF!>\"\",D912&\"_\"&#REF!&\"_\"&B912,\"\")","v":{"$error":"#REF!"}},{"$f":"IF(#REF!=\"\",\"\",COUNTIF(#REF!,\">\"\"\"))","v":{"$error":"#REF!"}},null,{"$f":"IFERROR(VLOOKUP(C912,Hidden_Словник!$A$2:$C$100,3,FALSE),\"\")","v":""},null,null,null,null,null,null,null,null,null,null,null,null,null,null,null,null,null,null,""]
[{"$f":"IF(#REF!>\"\",D913&\"_\"&#REF!&\"_\"&B913,\"\")","v":{"$error":"#REF!"}},{"$f":"IF(#REF!=\"\",\"\",COUNTIF(#REF!,\">\"\"\"))","v":{"$error":"#REF!"}},null,{"$f":"IFERROR(VLOOKUP(C913,Hidden_Словник!$A$2:$C$100,3,FALSE),\"\")","v":""},null,null,null,null,null,null,null,null,null,null,null,null,null,null,null,null,null,null,""]
[{"$f":"IF(#REF!>\"\",D914&\"_\"&#REF!&\"_\"&B914,\"\")","v":{"$error":"#REF!"}},{"$f":"IF(#REF!=\"\",\"\",COUNTIF(#REF!,\">\"\"\"))","v":{"$error":"#REF!"}},null,{"$f":"IFERROR(VLOOKUP(C914,Hidden_Словник!$A$2:$C$100,3,FALSE),\"\")","v":""},null,null,null,null,null,null,null,null,null,null,null,null,null,null,null,null,null,null,""]
[{"$f":"IF(#REF!>\"\",D915&\"_\"&#REF!&\"_\"&B915,\"\")","v":{"$error":"#REF!"}},{"$f":"IF(#REF!=\"\",\"\",COUNTIF(#REF!,\">\"\"\"))","v":{"$error":"#REF!"}},null,{"$f":"IFERROR(VLOOKUP(C915,Hidden_Словник!$A$2:$C$100,3,FALSE),\"\")","v":""},null,null,null,null,null,null,null,null,null,null,null,null,null,null,null,null,null,null,""]
[{"$f":"IF(#REF!>\"\",D916&\"_\"&#REF!&\"_\"&B916,\"\")","v":{"$error":"#REF!"}},{"$f":"IF(#REF!=\"\",\"\",COUNTIF(#REF!,\">\"\"\"))","v":{"$error":"#REF!"}},null,{"$f":"IFERROR(VLOOKUP(C916,Hidden_Словник!$A$2:$C$100,3,FALSE),\"\")","v":""},null,null,null,null,null,null,null,null,null,null,null,null,null,null,null,null,null,null,""]
[{"$f":"IF(#REF!>\"\",D917&\"_\"&#REF!&\"_\"&B917,\"\")","v":{"$error":"#REF!"}},{"$f":"IF(#REF!=\"\",\"\",COUNTIF(#REF!,\">\"\"\"))","v":{"$error":"#REF!"}},null,{"$f":"IFERROR(VLOOKUP(C917,Hidden_Словник!$A$2:$C$100,3,FALSE),\"\")","v":""},null,null,null,null,null,null,null,null,null,null,null,null,null,null,null,null,null,null,""]
[{"$f":"IF(#REF!>\"\",D918&\"_\"&#REF!&\"_\"&B918,\"\")","v":{"$error":"#REF!"}},{"$f":"IF(#REF!=\"\",\"\",COUNTIF(#REF!,\">\"\"\"))","v":{"$error":"#REF!"}},null,{"$f":"IFERROR(VLOOKUP(C918,Hidden_Словник!$A$2:$C$100,3,FALSE),\"\")","v":""},null,null,null,null,null,null,null,null,null,null,null,null,null,null,null,null,null,null,""]
[{"$f":"IF(#REF!>\"\",D919&\"_\"&#REF!&\"_\"&B919,\"\")","v":{"$error":"#REF!"}},{"$f":"IF(#REF!=\"\",\"\",COUNTIF(#REF!,\">\"\"\"))","v":{"$error":"#REF!"}},null,{"$f":"IFERROR(VLOOKUP(C919,Hidden_Словник!$A$2:$C$100,3,FALSE),\"\")","v":""},null,null,null,null,null,null,null,null,null,null,null,null,null,null,null,null,null,null,""]
[{"$f":"IF(#REF!>\"\",D920&\"_\"&#REF!&\"_\"&B920,\"\")","v":{"$error":"#REF!"}},{"$f":"IF(#REF!=\"\",\"\",COUNTIF(#REF!,\">\"\"\"))","v":{"$error":"#REF!"}},null,{"$f":"IFERROR(VLOOKUP(C920,Hidden_Словник!$A$2:$C$100,3,FALSE),\"\")","v":""},null,null,null,null,null,null,null,null,null,null,null,null,null,null,null,null,null,null,""]
[{"$f":"IF(#REF!>\"\",D921&\"_\"&#REF!&\"_\"&B921,\"\")","v":{"$error":"#REF!"}},{"$f":"IF(#REF!=\"\",\"\",COUNTIF(#REF!,\">\"\"\"))","v":{"$error":"#REF!"}},null,{"$f":"IFERROR(VLOOKUP(C921,Hidden_Словник!$A$2:$C$100,3,FALSE),\"\")","v":""},null,null,null,null,null,null,null,null,null,null,null,null,null,null,null,null,null,null,""]
[{"$f":"IF(#REF!>\"\",D922&\"_\"&#REF!&\"_\"&B922,\"\")","v":{"$error":"#REF!"}},{"$f":"IF(#REF!=\"\",\"\",COUNTIF(#REF!,\">\"\"\"))","v":{"$error":"#REF!"}},null,{"$f":"IFERROR(VLOOKUP(C922,Hidden_Словник!$A$2:$C$100,3,FALSE),\"\")","v":""},null,null,null,null,null,null,null,null,null,null,null,null,null,null,null,null,null,null,""]
[{"$f":"IF(#REF!>\"\",D923&\"_\"&#REF!&\"_\"&B923,\"\")","v":{"$error":"#REF!"}},{"$f":"IF(#REF!=\"\",\"\",COUNTIF(#REF!,\">\"\"\"))","v":{"$error":"#REF!"}},null,{"$f":"IFERROR(VLOOKUP(C923,Hidden_Словник!$A$2:$C$100,3,FALSE),\"\")","v":""},null,null,null,null,null,null,null,null,null,null,null,null,null,null,null,null,null,null,""]
[{"$f":"IF(#REF!>\"\",D924&\"_\"&#REF!&\"_\"&B924,\"\")","v":{"$error":"#REF!"}},{"$f":"IF(#REF!=\"\",\"\",COUNTIF(#REF!,\">\"\"\"))","v":{"$error":"#REF!"}},null,{"$f":"IFERROR(VLOOKUP(C924,Hidden_Словник!$A$2:$C$100,3,FALSE),\"\")","v":""},null,null,null,null,null,null,null,null,null,null,null,null,null,null,null,null,null,null,""]
[{"$f":"IF(#REF!>\"\",D925&\"_\"&#REF!&\"_\"&B925,\"\")","v":{"$error":"#REF!"}},{"$f":"IF(#REF!=\"\",\"\",COUNTIF(#REF!,\">\"\"\"))","v":{"$error":"#REF!"}},null,{"$f":"IFERROR(VLOOKUP(C925,Hidden_Словник!$A$2:$C$100,3,FALSE),\"\")","v":""},null,null,null,null,null,null,null,null,null,null,null,null,null,null,null,null,null,null,""]
[{"$f":"IF(#REF!>\"\",D926&\"_\"&#REF!&\"_\"&B926,\"\")","v":{"$error":"#REF!"}},{"$f":"IF(#REF!=\"\",\"\",COUNTIF(#REF!,\">\"\"\"))","v":{"$error":"#REF!"}},null,{"$f":"IFERROR(VLOOKUP(C926,Hidden_Словник!$A$2:$C$100,3,FALSE),\"\")","v":""},null,null,null,null,null,null,null,null,null,null,null,null,null,null,null,null,null,null,""]
[{"$f":"IF(#REF!>\"\",D927&\"_\"&#REF!&\"_\"&B927,\"\")","v":{"$error":"#REF!"}},{"$f":"IF(#REF!=\"\",\"\",COUNTIF(#REF!,\">\"\"\"))","v":{"$error":"#REF!"}},null,{"$f":"IFERROR(VLOOKUP(C927,Hidden_Словник!$A$2:$C$100,3,FALSE),\"\")","v":""},null,null,null,null,null,null,null,null,null,null,null,null,null,null,null,null,null,null,""]
[{"$f":"IF(#REF!>\"\",D928&\"_\"&#REF!&\"_\"&B928,\"\")","v":{"$error":"#REF!"}},{"$f":"IF(#REF!=\"\",\"\",COUNTIF(#REF!,\">\"\"\"))","v":{"$error":"#REF!"}},null,{"$f":"IFERROR(VLOOKUP(C928,Hidden_Словник!$A$2:$C$100,3,FALSE),\"\")","v":""},null,null,null,null,null,null,null,null,null,null,null,null,null,null,null,null,null,null,""]
[{"$f":"IF(#REF!>\"\",D929&\"_\"&#REF!&\"_\"&B929,\"\")","v":{"$error":"#REF!"}},{"$f":"IF(#REF!=\"\",\"\",COUNTIF(#REF!,\">\"\"\"))","v":{"$error":"#REF!"}},null,{"$f":"IFERROR(VLOOKUP(C929,Hidden_Словник!$A$2:$C$100,3,FALSE),\"\")","v":""},null,null,null,null,null,null,null,null,null,null,null,null,null,null,null,null,null,null,""]
[{"$f":"IF(#REF!>\"\",D930&\"_\"&#REF!&\"_\"&B930,\"\")","v":{"$error":"#REF!"}},{"$f":"IF(#REF!=\"\",\"\",COUNTIF(#REF!,\">\"\"\"))","v":{"$error":"#REF!"}},null,{"$f":"IFERROR(VLOOKUP(C930,Hidden_Словник!$A$2:$C$100,3,FALSE),\"\")","v":""},null,null,null,null,null,null,null,null,null,null,null,null,null,null,null,null,null,null,""]
[{"$f":"IF(#REF!>\"\",D931&\"_\"&#REF!&\"_\"&B931,\"\")","v":{"$error":"#REF!"}},{"$f":"IF(#REF!=\"\",\"\",COUNTIF(#REF!,\">\"\"\"))","v":{"$error":"#REF!"}},null,{"$f":"IFERROR(VLOOKUP(C931,Hidden_Словник!$A$2:$C$100,3,FALSE),\"\")","v":""},null,null,null,null,null,null,null,null,null,null,null,null,null,null,null,null,null,null,""]
[{"$f":"IF(#REF!>\"\",D932&\"_\"&#REF!&\"_\"&B932,\"\")","v":{"$error":"#REF!"}},{"$f":"IF(#REF!=\"\",\"\",COUNTIF(#REF!,\">\"\"\"))","v":{"$error":"#REF!"}},null,{"$f":"IFERROR(VLOOKUP(C932,Hidden_Словник!$A$2:$C$100,3,FALSE),\"\")","v":""},null,null,null,null,null,null,null,null,null,null,null,null,null,null,null,null,null,null,""]
[{"$f":"IF(#REF!>\"\",D933&\"_\"&#REF!&\"_\"&B933,\"\")","v":{"$error":"#REF!"}},{"$f":"IF(#REF!=\"\",\"\",COUNTIF(#REF!,\">\"\"\"))","v":{"$error":"#REF!"}},null,{"$f":"IFERROR(VLOOKUP(C933,Hidden_Словник!$A$2:$C$100,3,FALSE),\"\")","v":""},null,null,null,null,null,null,null,null,null,null,null,null,null,null,null,null,null,null,""]
[{"$f":"IF(#REF!>\"\",D934&\"_\"&#REF!&\"_\"&B934,\"\")","v":{"$error":"#REF!"}},{"$f":"IF(#REF!=\"\",\"\",COUNTIF(#REF!,\">\"\"\"))","v":{"$error":"#REF!"}},null,{"$f":"IFERROR(VLOOKUP(C934,Hidden_Словник!$A$2:$C$100,3,FALSE),\"\")","v":""},null,null,null,null,null,null,null,null,null,null,null,null,null,null,null,null,null,null,""]
[{"$f":"IF(#REF!>\"\",D935&\"_\"&#REF!&\"_\"&B935,\"\")","v":{"$error":"#REF!"}},{"$f":"IF(#REF!=\"\",\"\",COUNTIF(#REF!,\">\"\"\"))","v":{"$error":"#REF!"}},null,{"$f":"IFERROR(VLOOKUP(C935,Hidden_Словник!$A$2:$C$100,3,FALSE),\"\")","v":""},null,null,null,null,null,null,null,null,null,null,null,null,null,null,null,null,null,null,""]
[{"$f":"IF(#REF!>\"\",D936&\"_\"&#REF!&\"_\"&B936,\"\")","v":{"$error":"#REF!"}},{"$f":"IF(#REF!=\"\",\"\",COUNTIF(#REF!,\">\"\"\"))","v":{"$error":"#REF!"}},null,{"$f":"IFERROR(VLOOKUP(C936,Hidden_Словник!$A$2:$C$100,3,FALSE),\"\")","v":""},null,null,null,null,null,null,null,null,null,null,null,null,null,null,null,null,null,null,{"$f":"IF(X936+Y936>0,X936+Y936,\"\")","v":""}]
[{"$f":"IF(#REF!>\"\",D937&\"_\"&#REF!&\"_\"&B937,\"\")","v":{"$error":"#REF!"}},{"$f":"IF(#REF!=\"\",\"\",COUNTIF(#REF!,\">\"\"\"))","v":{"$error":"#REF!"}},null,{"$f":"IFERROR(VLOOKUP(C937,Hidden_Словник!$A$2:$C$100,3,FALSE),\"\")","v":""},null,null,null,null,null,null,null,null,null,null,null,null,null,null,null,null,null,null,""]
[{"$f":"IF(#REF!>\"\",D938&\"_\"&#REF!&\"_\"&B938,\"\")","v":{"$error":"#REF!"}},{"$f":"IF(#REF!=\"\",\"\",COUNTIF(#REF!,\">\"\"\"))","v":{"$error":"#REF!"}},null,{"$f":"IFERROR(VLOOKUP(C938,Hidden_Словник!$A$2:$C$100,3,FALSE),\"\")","v":""},null,null,null,null,null,null,null,null,null,null,null,null,null,null,null,null,null,null,""]
[{"$f":"IF(#REF!>\"\",D939&\"_\"&#REF!&\"_\"&B939,\"\")","v":{"$error":"#REF!"}},{"$f":"IF(#REF!=\"\",\"\",COUNTIF(#REF!,\">\"\"\"))","v":{"$error":"#REF!"}},null,{"$f":"IFERROR(VLOOKUP(C939,Hidden_Словник!$A$2:$C$100,3,FALSE),\"\")","v":""},null,null,null,null,null,null,null,null,null,null,null,null,null,null,null,null,null,null,""]
[{"$f":"IF(#REF!>\"\",D940&\"_\"&#REF!&\"_\"&B940,\"\")","v":{"$error":"#REF!"}},{"$f":"IF(#REF!=\"\",\"\",COUNTIF(#REF!,\">\"\"\"))","v":{"$error":"#REF!"}},null,{"$f":"IFERROR(VLOOKUP(C940,Hidden_Словник!$A$2:$C$100,3,FALSE),\"\")","v":""},null,null,null,null,null,null,null,null,null,null,null,null,null,null,null,null,null,null,""]
[{"$f":"IF(#REF!>\"\",D941&\"_\"&#REF!&\"_\"&B941,\"\")","v":{"$error":"#REF!"}},{"$f":"IF(#REF!=\"\",\"\",COUNTIF(#REF!,\">\"\"\"))","v":{"$error":"#REF!"}},null,{"$f":"IFERROR(VLOOKUP(C941,Hidden_Словник!$A$2:$C$100,3,FALSE),\"\")","v":""},null,null,null,null,null,null,null,null,null,null,null,null,null,null,null,null,null,null,""]
[{"$f":"IF(#REF!>\"\",D942&\"_\"&#REF!&\"_\"&B942,\"\")","v":{"$error":"#REF!"}},{"$f":"IF(#REF!=\"\",\"\",COUNTIF(#REF!,\">\"\"\"))","v":{"$error":"#REF!"}},null,{"$f":"IFERROR(VLOOKUP(C942,Hidden_Словник!$A$2:$C$100,3,FALSE),\"\")","v":""},null,null,null,null,null,null,null,null,null,null,null,null,null,null,null,null,null,null,""]
[{"$f":"IF(#REF!>\"\",D943&\"_\"&#REF!&\"_\"&B943,\"\")","v":{"$error":"#REF!"}},{"$f":"IF(#REF!=\"\",\"\",COUNTIF(#REF!,\">\"\"\"))","v":{"$error":"#REF!"}},null,{"$f":"IFERROR(VLOOKUP(C943,Hidden_Словник!$A$2:$C$100,3,FALSE),\"\")","v":""},null,null,null,null,null,null,null,null,null,null,null,null,null,null,null,null,null,null,""]
[{"$f":"IF(#REF!>\"\",D944&\"_\"&#REF!&\"_\"&B944,\"\")","v":{"$error":"#REF!"}},{"$f":"IF(#REF!=\"\",\"\",COUNTIF(#REF!,\">\"\"\"))","v":{"$error":"#REF!"}},null,{"$f":"IFERROR(VLOOKUP(C944,Hidden_Словник!$A$2:$C$100,3,FALSE),\"\")","v":""},null,null,null,null,null,null,null,null,null,null,null,null,null,null,null,null,null,null,""]
[{"$f":"IF(#REF!>\"\",D945&\"_\"&#REF!&\"_\"&B945,\"\")","v":{"$error":"#REF!"}},{"$f":"IF(#REF!=\"\",\"\",COUNTIF(#REF!,\">\"\"\"))","v":{"$error":"#REF!"}},null,{"$f":"IFERROR(VLOOKUP(C945,Hidden_Словник!$A$2:$C$100,3,FALSE),\"\")","v":""},null,null,null,null,null,null,null,null,null,null,null,null,null,null,null,null,null,null,""]
[{"$f":"IF(#REF!>\"\",D946&\"_\"&#REF!&\"_\"&B946,\"\")","v":{"$error":"#REF!"}},{"$f":"IF(#REF!=\"\",\"\",COUNTIF(#REF!,\">\"\"\"))","v":{"$error":"#REF!"}},null,{"$f":"IFERROR(VLOOKUP(C946,Hidden_Словник!$A$2:$C$100,3,FALSE),\"\")","v":""},null,null,null,null,null,null,null,null,null,null,null,null,null,null,null,null,null,null,""]
[{"$f":"IF(#REF!>\"\",D947&\"_\"&#REF!&\"_\"&B947,\"\")","v":{"$error":"#REF!"}},{"$f":"IF(#REF!=\"\",\"\",COUNTIF(#REF!,\">\"\"\"))","v":{"$error":"#REF!"}},null,{"$f":"IFERROR(VLOOKUP(C947,Hidden_Словник!$A$2:$C$100,3,FALSE),\"\")","v":""},null,null,null,null,null,null,null,null,null,null,null,null,null,null,null,null,null,null,""]
[{"$f":"IF(#REF!>\"\",D948&\"_\"&#REF!&\"_\"&B948,\"\")","v":{"$error":"#REF!"}},{"$f":"IF(#REF!=\"\",\"\",COUNTIF(#REF!,\">\"\"\"))","v":{"$error":"#REF!"}},null,{"$f":"IFERROR(VLOOKUP(C948,Hidden_Словник!$A$2:$C$100,3,FALSE),\"\")","v":""},null,null,null,null,null,null,null,null,null,null,null,null,null,null,null,null,null,null,""]
[{"$f":"IF(#REF!>\"\",D949&\"_\"&#REF!&\"_\"&B949,\"\")","v":{"$error":"#REF!"}},{"$f":"IF(#REF!=\"\",\"\",COUNTIF(#REF!,\">\"\"\"))","v":{"$error":"#REF!"}},null,{"$f":"IFERROR(VLOOKUP(C949,Hidden_Словник!$A$2:$C$100,3,FALSE),\"\")","v":""},null,null,null,null,null,null,null,null,null,null,null,null,null,null,null,null,null,null,""]
[{"$f":"IF(#REF!>\"\",D950&\"_\"&#REF!&\"_\"&B950,\"\")","v":{"$error":"#REF!"}},{"$f":"IF(#REF!=\"\",\"\",COUNTIF(#REF!,\">\"\"\"))","v":{"$error":"#REF!"}},null,{"$f":"IFERROR(VLOOKUP(C950,Hidden_Словник!$A$2:$C$100,3,FALSE),\"\")","v":""},null,null,null,null,null,null,null,null,null,null,null,null,null,null,null,null,null,null,""]
[{"$f":"IF(#REF!>\"\",D951&\"_\"&#REF!&\"_\"&B951,\"\")","v":{"$error":"#REF!"}},{"$f":"IF(#REF!=\"\",\"\",COUNTIF(#REF!,\">\"\"\"))","v":{"$error":"#REF!"}},null,{"$f":"IFERROR(VLOOKUP(C951,Hidden_Словник!$A$2:$C$100,3,FALSE),\"\")","v":""},null,null,null,null,null,null,null,null,null,null,null,null,null,null,null,null,null,null,""]
[{"$f":"IF(#REF!>\"\",D952&\"_\"&#REF!&\"_\"&B952,\"\")","v":{"$error":"#REF!"}},{"$f":"IF(#REF!=\"\",\"\",COUNTIF(#REF!,\">\"\"\"))","v":{"$error":"#REF!"}},null,{"$f":"IFERROR(VLOOKUP(C952,Hidden_Словник!$A$2:$C$100,3,FALSE),\"\")","v":""},null,null,null,null,null,null,null,null,null,null,null,null,null,null,null,null,null,null,""]
[{"$f":"IF(#REF!>\"\",D953&\"_\"&#REF!&\"_\"&B953,\"\")","v":{"$error":"#REF!"}},{"$f":"IF(#REF!=\"\",\"\",COUNTIF(#REF!,\">\"\"\"))","v":{"$error":"#REF!"}},null,{"$f":"IFERROR(VLOOKUP(C953,Hidden_Словник!$A$2:$C$100,3,FALSE),\"\")","v":""},null,null,null,null,null,null,null,null,null,null,null,null,null,null,null,null,null,null,""]
[{"$f":"IF(#REF!>\"\",D954&\"_\"&#REF!&\"_\"&B954,\"\")","v":{"$error":"#REF!"}},{"$f":"IF(#REF!=\"\",\"\",COUNTIF(#REF!,\">\"\"\"))","v":{"$error":"#REF!"}},null,{"$f":"IFERROR(VLOOKUP(C954,Hidden_Словник!$A$2:$C$100,3,FALSE),\"\")","v":""},null,null,null,null,null,null,null,null,null,null,null,null,null,null,null,null,null,null,""]
[{"$f":"IF(#REF!>\"\",D955&\"_\"&#REF!&\"_\"&B955,\"\")","v":{"$error":"#REF!"}},{"$f":"IF(#REF!=\"\",\"\",COUNTIF(#REF!,\">\"\"\"))","v":{"$error":"#REF!"}},null,{"$f":"IFERROR(VLOOKUP(C955,Hidden_Словник!$A$2:$C$100,3,FALSE),\"\")","v":""},null,null,null,null,null,null,null,null,null,null,null,null,null,null,null,null,null,null,""]
[{"$f":"IF(#REF!>\"\",D956&\"_\"&#REF!&\"_\"&B956,\"\")","v":{"$error":"#REF!"}},{"$f":"IF(#REF!=\"\",\"\",COUNTIF(#REF!,\">\"\"\"))","v":{"$error":"#REF!"}},null,{"$f":"IFERROR(VLOOKUP(C956,Hidden_Словник!$A$2:$C$100,3,FALSE),\"\")","v":""},null,null,null,null,null,null,null,null,null,null,null,null,null,null,null,null,null,null,""]
[{"$f":"IF(#REF!>\"\",D957&\"_\"&#REF!&\"_\"&B957,\"\")","v":{"$error":"#REF!"}},{"$f":"IF(#REF!=\"\",\"\",COUNTIF(#REF!,\">\"\"\"))","v":{"$error":"#REF!"}},null,{"$f":"IFERROR(VLOOKUP(C957,Hidden_Словник!$A$2:$C$100,3,FALSE),\"\")","v":""},null,null,null,null,null,null,null,null,null,null,null,null,null,null,null,null,null,null,""]
[{"$f":"IF(#REF!>\"\",D958&\"_\"&#REF!&\"_\"&B958,\"\")","v":{"$error":"#REF!"}},{"$f":"IF(#REF!=\"\",\"\",COUNTIF(#REF!,\">\"\"\"))","v":{"$error":"#REF!"}},null,{"$f":"IFERROR(VLOOKUP(C958,Hidden_Словник!$A$2:$C$100,3,FALSE),\"\")","v":""},null,null,null,null,null,null,null,null,null,null,null,null,null,null,null,null,null,null,""]
[{"$f":"IF(#REF!>\"\",D959&\"_\"&#REF!&\"_\"&B959,\"\")","v":{"$error":"#REF!"}},{"$f":"IF(#REF!=\"\",\"\",COUNTIF(#REF!,\">\"\"\"))","v":{"$error":"#REF!"}},null,{"$f":"IFERROR(VLOOKUP(C959,Hidden_Словник!$A$2:$C$100,3,FALSE),\"\")","v":""},null,null,null,null,null,null,null,null,null,null,null,null,null,null,null,null,null,null,""]
[{"$f":"IF(#REF!>\"\",D960&\"_\"&#REF!&\"_\"&B960,\"\")","v":{"$error":"#REF!"}},{"$f":"IF(#REF!=\"\",\"\",COUNTIF(#REF!,\">\"\"\"))","v":{"$error":"#REF!"}},null,{"$f":"IFERROR(VLOOKUP(C960,Hidden_Словник!$A$2:$C$100,3,FALSE),\"\")","v":""},null,null,null,null,null,null,null,null,null,null,null,null,null,null,null,null,null,null,""]
[{"$f":"IF(#REF!>\"\",D961&\"_\"&#REF!&\"_\"&B961,\"\")","v":{"$error":"#REF!"}},{"$f":"IF(#REF!=\"\",\"\",COUNTIF(#REF!,\">\"\"\"))","v":{"$error":"#REF!"}},null,{"$f":"IFERROR(VLOOKUP(C961,Hidden_Словник!$A$2:$C$100,3,FALSE),\"\")","v":""},null,null,null,null,null,null,null,null,null,null,null,null,null,null,null,null,null,null,""]
[{"$f":"IF(#REF!>\"\",D962&\"_\"&#REF!&\"_\"&B962,\"\")","v":{"$error":"#REF!"}},{"$f":"IF(#REF!=\"\",\"\",COUNTIF(#REF!,\">\"\"\"))","v":{"$error":"#REF!"}},null,{"$f":"IFERROR(VLOOKUP(C962,Hidden_Словник!$A$2:$C$100,3,FALSE),\"\")","v":""},null,null,null,null,null,null,null,null,null,null,null,null,null,null,null,null,null,null,""]
[{"$f":"IF(#REF!>\"\",D963&\"_\"&#REF!&\"_\"&B963,\"\")","v":{"$error":"#REF!"}},{"$f":"IF(#REF!=\"\",\"\",COUNTIF(#REF!,\">\"\"\"))","v":{"$error":"#REF!"}},null,{"$f":"IFERROR(VLOOKUP(C963,Hidden_Словник!$A$2:$C$100,3,FALSE),\"\")","v":""},null,null,null,null,null,null,null,null,null,null,null,null,null,null,null,null,null,null,""]
[{"$f":"IF(#REF!>\"\",D964&\"_\"&#REF!&\"_\"&B964,\"\")","v":{"$error":"#REF!"}},{"$f":"IF(#REF!=\"\",\"\",COUNTIF(#REF!,\">\"\"\"))","v":{"$error":"#REF!"}},null,{"$f":"IFERROR(VLOOKUP(C964,Hidden_Словник!$A$2:$C$100,3,FALSE),\"\")","v":""},null,null,null,null,null,null,null,null,null,null,null,null,null,null,null,null,null,null,""]
[{"$f":"IF(#REF!>\"\",D965&\"_\"&#REF!&\"_\"&B965,\"\")","v":{"$error":"#REF!"}},{"$f":"IF(#REF!=\"\",\"\",COUNTIF(#REF!,\">\"\"\"))","v":{"$error":"#REF!"}},null,{"$f":"IFERROR(VLOOKUP(C965,Hidden_Словник!$A$2:$C$100,3,FALSE),\"\")","v":""},null,null,null,null,null,null,null,null,null,null,null,null,null,null,null,null,null,null,""]
[{"$f":"IF(#REF!>\"\",D966&\"_\"&#REF!&\"_\"&B966,\"\")","v":{"$error":"#REF!"}},{"$f":"IF(#REF!=\"\",\"\",COUNTIF(#REF!,\">\"\"\"))","v":{"$error":"#REF!"}},null,{"$f":"IFERROR(VLOOKUP(C966,Hidden_Словник!$A$2:$C$100,3,FALSE),\"\")","v":""},null,null,null,null,null,null,null,null,null,null,null,null,null,null,null,null,null,null,""]
[{"$f":"IF(#REF!>\"\",D967&\"_\"&#REF!&\"_\"&B967,\"\")","v":{"$error":"#REF!"}},{"$f":"IF(#REF!=\"\",\"\",COUNTIF(#REF!,\">\"\"\"))","v":{"$error":"#REF!"}},null,{"$f":"IFERROR(VLOOKUP(C967,Hidden_Словник!$A$2:$C$100,3,FALSE),\"\")","v":""},null,null,null,null,null,null,null,null,null,null,null,null,null,null,null,null,null,null,""]
[{"$f":"IF(#REF!>\"\",D968&\"_\"&#REF!&\"_\"&B968,\"\")","v":{"$error":"#REF!"}},{"$f":"IF(#REF!=\"\",\"\",COUNTIF(#REF!,\">\"\"\"))","v":{"$error":"#REF!"}},null,{"$f":"IFERROR(VLOOKUP(C968,Hidden_Словник!$A$2:$C$100,3,FALSE),\"\")","v":""},null,null,null,null,null,null,null,null,null,null,null,null,null,null,null,null,null,null,""]
[{"$f":"IF(#REF!>\"\",D969&\"_\"&#REF!&\"_\"&B969,\"\")","v":{"$error":"#REF!"}},{"$f":"IF(#REF!=\"\",\"\",COUNTIF(#REF!,\">\"\"\"))","v":{"$error":"#REF!"}},null,{"$f":"IFERROR(VLOOKUP(C969,Hidden_Словник!$A$2:$C$100,3,FALSE),\"\")","v":""},null,null,null,null,null,null,null,null,null,null,null,null,null,null,null,null,null,null,""]
[{"$f":"IF(#REF!>\"\",D970&\"_\"&#REF!&\"_\"&B970,\"\")","v":{"$error":"#REF!"}},{"$f":"IF(#REF!=\"\",\"\",COUNTIF(#REF!,\">\"\"\"))","v":{"$error":"#REF!"}},null,{"$f":"IFERROR(VLOOKUP(C970,Hidden_Словник!$A$2:$C$100,3,FALSE),\"\")","v":""},null,null,null,null,null,null,null,null,null,null,null,null,null,null,null,null,null,null,""]
[{"$f":"IF(#REF!>\"\",D971&\"_\"&#REF!&\"_\"&B971,\"\")","v":{"$error":"#REF!"}},{"$f":"IF(#REF!=\"\",\"\",COUNTIF(#REF!,\">\"\"\"))","v":{"$error":"#REF!"}},null,{"$f":"IFERROR(VLOOKUP(C971,Hidden_Словник!$A$2:$C$100,3,FALSE),\"\")","v":""},null,null,null,null,null,null,null,null,null,null,null,null,null,null,null,null,null,null,""]

{"sheet":"2.Забезпечення","index":1,"n_rows":1010,"n_cols":26,"rows_kept":1010,"cut":false,"hidden":false,"merged":[[20,4,20,5],[22,4,22,10],[3,5,7,12]]}
["Рекомендації щодо заповнення паспорту:"]
["Банк заповнює всі стовпчики, що не мають заливки, станом на звітну дату."]
["Клітинки із блакитною заливкою запонюються автоматично."]
["Обов'язкове запвнення всіх можливих даних.",null,null,null,null,"Цей документ був підготовлений Фондом гарантування вкладів фізичних осіб (далі – Фонд) виключно для інформаційних цілей і не повинен вважатися як спонукання до будь-яких дій чи бездіяльності. \nІнформація, що міститься в цьому документі, була отримана з/або ґрунтується на джерелах, які вважаються надійними, але не є вичерпною та не може сприйматися як повна або актуальна. Зокрема, але не виключно, станом на дату придбання активів допускаються несуттєві зміни лота, в складі якого продаються такі активи. Під несуттєвими змінами лота слід розуміти такі зміни характеристик активів у складі такого лота, які впливають на його балансову вартість, але не більше ніж на 10 відсотків. Рішення покупця щодо будь-яких дій або бездіяльності повинно ґрунтуватися на власних оцінках та дослідженнях майна (активу/активів), котре реалізується. Фонд не несе відповідальності за рішення покупця та його наслідки, що ґрунтується на інформації, викладеній в даному документі."]
["Всі значення заповнюються в грн. еквіваленті, по курсу НБУ, станом на дату заповнення"]
["При заповненні інформації по забезпеченню - обов'язково необхідно зазначити unicid кредита, що покривається цим забезпеченням."]
["У випадку, якщо забезпечення є перехресним по різним кредитам, рядок такого забезпечення необхідно продублювати із зазначенням unicid кожного такого кредиту."]
["У випадку, якщо за кредитом наявні декілька позицій забезпечення, кожна така позиція заповнюється окремим рядком із зазначенням однакового unicid"]
["Вартість за договором - повна вартість забезпечення (навіть якщо забезпечення є перехресним) у гривневому еквіваленті відповідно курсу НБУ, станом на звітну дату, відповідно до останнього підписаного договору (договір застави, іпотеки, тощо… або додаткова угода)"]
["У випадку, якщо одним договором та однією сумою в забезпечення прийнято декілька позицій, іх необхідно вносити одним рядком. Місцерозташування та інші якісні показники, якщо вони відрізняються за позиціями такого списку, заповнюються за тим значенням що має найбільшу частку в структурі вартості."]
[]
["Звітна дата:",null,{"$f":"'1.Портфель кредитів'!C13","v":"2020-05-01"}]
["unicid","Colateral_ID","Банк","Група Позичальників","№ кред. Дог","Тип застави","Кількість застави","(га, м2, шт., тощо)","Область знаходження застави","Населений пункт (місто/село/смт.)","Сума/вартість за договором (грн.екв.)","Реєстрація у держ. Реєстрі (обтяження)\n(так/ні)","Додаткові коментарі про заставу (у випадку наявності в Банку інформації, в т.ч. щодо виведення застави, руйнування, знаходження в розшуку, тощо)","Балансова вартість кредиту","Загальна балансова вартість по кейсу, що покривається забезпеченням","Пропорційна вартість забезпечення",null,null,null,null,null,"МФО банка","Балансова вартість забезпечення"]
[null,{"$f":"IFERROR(Z14,\"\")","v":0},"Камбіо",{"$f":"IFERROR(VLOOKUP(#REF!,'1.Портфель кредитів'!A:Z,7,FALSE),\"\")","v":""},"108ф-2007/840","фінансова порука",null,null,null,null,17192700,null,null,{"$f":"IFERROR(VLOOKUP(A14,'1.Портфель кредитів'!A:Z,30,FALSE),\"\")","v":""},{"$f":"SUMIF(B:B,B14,N:N)","v":0},{"$f":"N14/O14","v":{"$error":"#VALUE!"}},null,null,null,null,null,{"$f":"VLOOKUP(#REF!,Hidden_Словник!$A$2:C$81,3,FALSE)","v":{"$error":"#REF!"}},{"$f":"ROUNDUP(#REF!,0)","v":{"$error":"#REF!"}}]
[null,0,"Камбіо",{"$f":"IFERROR(VLOOKUP(#REF!,'1.Портфель кредитів'!A:Z,7,FALSE),\"\")","v":""},"005/1-2013/840","Нерухомість комерційного призначення",171.4,"кв.м. ","Київська","м. Київ",4197820,"НІ"," Іпотека та обтяження на користь ПАТ \"БАНК КАМБІО\" не зареєстровані, об'єкт нерухомого майна обятжено іпотекою на користь третіх осіб.",{"$f":"IFERROR(VLOOKUP(A15,'1.Портфель кредитів'!A:Z,30,FALSE),\"\")","v":""},{"$f":"SUMIF(B:B,B15,N:N)","v":0},{"$error":"#VALUE!"},null,null,null,null,null,{"$f":"VLOOKUP(#REF!,Hidden_Словник!$A$2:C$81,3,FALSE)","v":{"$error":"#REF!"}},{"$f":"ROUNDUP(#REF!,0)","v":{"$error":"#REF!"}}]
[null,null,"Камбіо",null,"005/1-2013/840","Нерухомість комерційного призначення",234.3,"кв.м. ","Київська","м. Київ",5738329,"НІ"," Іпотека та обтяження на користь ПАТ \"БАНК КАМБІО\" не зареєстровані, об'єкт нерухомого майна обятжено іпотекою на користь третіх осіб."]
[null,null,"Камбіо",null,"005/1-2013/840","Нерухомість комерційного призначення",396.6,"кв.м. ","Київська","м. Київ",9713287,"НІ"," Іпотека та обтяження на користь ПАТ \"БАНК КАМБІО\" не зареєстровані, об'єкт нерухомого майна обятжено іпотекою на користь третіх осіб."]
[null,0,"Камбіо",{"$f":"IFERROR(VLOOKUP(#REF!,'1.Портфель кредитів'!A:Z,7,FALSE),\"\")","v":""},"008/1-2013/840","Нерухомість комерційного призначення",664.6,"кв.м. ","Київська","м. Київ",16276964,"НІ"," Іпотека та обтяження на користь ПАТ \"БАНК КАМБІО\" не зареєстровані, об'єкт нерухомого майна обятжено іпотекою на користь третіх осіб.",{"$f":"IFERROR(VLOOKUP(A18,'1.Портфель кредитів'!A:Z,30,FALSE),\"\")","v":""},{"$f":"SUMIF(B:B,B18,N:N)","v":0},{"$error":"#VALUE!"},null,null,null,null,null,{"$f":"VLOOKUP(#REF!,Hidden_Словник!$A$2:C$81,3,FALSE)","v":{"$error":"#REF!"}},{"$f":"ROUNDUP(#REF!,0)","v":{"$error":"#REF!"}}]
[null,{"$f":"IFERROR(Z19,\"\")","v":0},{"$f":"IFERROR(VLOOKUP(A19,'1.Портфель кредитів'!A:Z,3,FALSE),\"\")","v":""},{"$f":"IFERROR(VLOOKUP(A19,'1.Портфель кредитів'!A:Z,7,FALSE),\"\")","v":""},{"$f":"IFERROR(VLOOKUP(A19,'1.Портфель кредитів'!A:Z,14,FALSE),\"\")","v":""},null,null,null,null,null,null,null,null,{"$f":"IFERROR(VLOOKUP(A19,'1.Портфель кредитів'!A:Z,30,FALSE),\"\")","v":""},{"$f":"SUMIF(B:B,B19,N:N)","v":0},{"$f":"N19/O19","v":{"$error":"#VALUE!"}},null,null,null,null,null,{"$f":"VLOOKUP(C19,Hidden_Словник!$A$2:C$81,3,FALSE)","v":{"$error":"#N/A"}},{"$f":"ROUNDUP(K19,0)","v":0}]
[null,0,{"$f":"IFERROR(VLOOKUP(A20,'1.Портфель кредитів'!A:Z,3,FALSE),\"\")","v":""},{"$f":"IFERROR(VLOOKUP(A20,'1.Портфель кредитів'!A:Z,7,FALSE),\"\")","v":""},null,null,null,null,null,null,null,null,null,null,null,{"$f":"VLOOKUP(D20,[2]Hidden_Словник!$A$2:F$81,3,FALSE)","v":{"$error":"#N/A"}},{"$f":"ROUNDUP(J20,0)","v":0},{"$f":"VLOOKUP(E20,[2]Hidden_Словник!$W$2:$X$13,2,FALSE)","v":{"$error":"#N/A"}},{"$f":"#REF!","v":{"$error":"#REF!"}},{"$f":"P20&\"_\"&Q20&R20&S20","v":{"$error":"#N/A"}},null,{"$f":"VLOOKUP(C20,Hidden_Словник!$A$2:C$81,3,FALSE)","v":{"$error":"#N/A"}},0]
[null,0,{"$f":"IFERROR(VLOOKUP(A21,'1.Портфель кредитів'!A:Z,3,FALSE),\"\")","v":""},{"$f":"IFERROR(VLOOKUP(A21,'1.Портфель кредитів'!A:Z,7,FALSE),\"\")","v":""},null,null,null,null,null,null,null,null,null,null,null,{"$f":"VLOOKUP(D21,[2]Hidden_Словник!$A$2:F$81,3,FALSE)","v":{"$error":"#N/A"}},{"$f":"ROUNDUP(J21,0)","v":0},{"$f":"VLOOKUP(E21,[2]Hidden_Словник!$W$2:$X$13,2,FALSE)","v":{"$error":"#N/A"}},{"$f":"#REF!","v":{"$error":"#REF!"}},{"$error":"#N/A"},null,{"$f":"VLOOKUP(C21,Hidden_Словник!$A$2:C$81,3,FALSE)","v":{"$error":"#N/A"}},0]
[null,0,{"$f":"IFERROR(VLOOKUP(A22,'1.Портфель кредитів'!A:Z,3,FALSE),\"\")","v":""},{"$f":"IFERROR(VLOOKUP(A22,'1.Портфель кредитів'!A:Z,7,FALSE),\"\")","v":""},null,null,null,null,null,null,null,null,null,null,null,{"$f":"VLOOKUP(D22,[2]Hidden_Словник!$A$2:F$81,3,FALSE)","v":{"$error":"#N/A"}},{"$f":"ROUNDUP(J22,0)","v":0},{"$f":"VLOOKUP(#REF!,[2]Hidden_Словник!$W$2:$X$13,2,FALSE)","v":{"$error":"#REF!"}},{"$f":"#REF!","v":{"$error":"#REF!"}},{"$error":"#N/A"},null,{"$f":"VLOOKUP(C22,Hidden_Словник!$A$2:C$81,3,FALSE)","v":{"$error":"#N/A"}},0]
[null,0,{"$f":"IFERROR(VLOOKUP(A23,'1.Портфель кредитів'!A:Z,3,FALSE),\"\")","v":""},{"$f":"IFERROR(VLOOKUP(A23,'1.Портфель кредитів'!A:Z,7,FALSE),\"\")","v":""},null,null,null,null,null,null,null,null,null,{"$f":"IFERROR(VLOOKUP(A23,'1.Портфель кредитів'!A:Z,30,FALSE),\"\")","v":""},{"$f":"SUMIF(B:B,B23,N:N)","v":0},{"$error":"#VALUE!"},null,null,null,null,null,{"$f":"VLOOKUP(C23,Hidden_Словник!$A$2:C$81,3,FALSE)","v":{"$error":"#N/A"}},0]
[null,0,{"$f":"IFERROR(VLOOKUP(A24,'1.Портфель кредитів'!A:Z,3,FALSE),\"\")","v":""},{"$f":"IFERROR(VLOOKUP(A24,'1.Портфель кредитів'!A:Z,7,FALSE),\"\")","v":""},null,null,null,null,null,null,null,null,null,{"$f":"IFERROR(VLOOKUP(A24,'1.Портфель кредитів'!A:Z,30,FALSE),\"\")","v":""},0,{"$error":"#VALUE!"},null,null,null,null,null,{"$f":"VLOOKUP(C24,Hidden_Словник!$A$2:C$81,3,FALSE)","v":{"$error":"#N/A"}},0]
[null,0,{"$f":"IFERROR(VLOOKUP(A25,'1.Портфель кредитів'!A:Z,3,FALSE),\"\")","v":""},{"$f":"IFERROR(VLOOKUP(A25,'1.Портфель кредитів'!A:Z,7,FALSE),\"\")","v":""},null,null,null,null,null,null,null,null,null,{"$f":"IFERROR(VLOOKUP(A25,'1.Портфель кредитів'!A:Z,30,FALSE),\"\")","v":""},0,{"$error":"#VALUE!"},null,null,null,null,null,{"$f":"VLOOKUP(C25,Hidden_Словник!$A$2:C$81,3,FALSE)","v":{"$error":"#N/A"}},0]
[null,0,{"$f":"IFERROR(VLOOKUP(A26,'1.Портфель кредитів'!A:Z,3,FALSE),\"\")","v":""},{"$f":"IFERROR(VLOOKUP(A26,'1.Портфель кредитів'!A:Z,7,FALSE),\"\")","v":""},{"$f":"IFERROR(VLOOKUP(A26,'1.Портфель кредитів'!A:Z,14,FALSE),\"\")","v":""},null,null,null,null,null,null,null,null,{"$f":"IFERROR(VLOOKUP(A26,'1.Портфель кредитів'!A:Z,30,FALSE),\"\")","v":""},0,{"$error":"#VALUE!"},null,null,null,null,null,{"$f":"VLOOKUP(C26,Hidden_Словник!$A$2:C$81,3,FALSE)","v":{"$error":"#N/A"}},0]
[null,0,{"$f":"IFERROR(VLOOKUP(A27,'1.Портфель кредитів'!A:Z,3,FALSE),\"\")","v":""},{"$f":"IFERROR(VLOOKUP(A27,'1.Портфель кредитів'!A:Z,7,FALSE),\"\")","v":""},{"$f":"IFERROR(VLOOKUP(A27,'1.Портфель кредитів'!A:Z,14,FALSE),\"\")","v":""},null,null,null,null,null,null,null,null,{"$f":"IFERROR(VLOOKUP(A27,'1.Портфель кредитів'!A:Z,30,FALSE),\"\")","v":""},0,{"$error":"#VALUE!"},null,null,null,null,null,{"$f":"VLOOKUP(C27,Hidden_Словник!$A$2:C$81,3,FALSE)","v":{"$error":"#N/A"}},0]
[null,0,{"$f":"IFERROR(VLOOKUP(A28,'1.Портфель кредитів'!A:Z,3,FALSE),\"\")","v":""},{"$f":"IFERROR(VLOOKUP(A28,'1.Портфель кредитів'!A:Z,7,FALSE),\"\")","v":""},{"$f":"IFERROR(VLOOKUP(A28,'1.Портфель кредитів'!A:Z,14,FALSE),\"\")","v":""},null,null,null,null,null,null,null,null,{"$f":"IFERROR(VLOOKUP(A28,'1.Портфель кредитів'!A:Z,30,FALSE),\"\")","v":""},0,{"$error":"#VALUE!"},null,null,null,null,null,{"$f":"VLOOKUP(C28,Hidden_Словник!$A$2:C$81,3,FALSE)","v":{"$error":"#N/A"}},0]
[null,0,{"$f":"IFERROR(VLOOKUP(A29,'1.Портфель кредитів'!A:Z,3,FALSE),\"\")","v":""},{"$f":"IFERROR(VLOOKUP(A29,'1.Портфель кредитів'!A:Z,7,FALSE),\"\")","v":""},{"$f":"IFERROR(VLOOKUP(A29,'1.Портфель кредитів'!A:Z,14,FALSE),\"\")","v":""},null,null,null,null,null,null,null,null,{"$f":"IFERROR(VLOOKUP(A29,'1.Портфель кредитів'!A:Z,30,FALSE),\"\")","v":""},0,{"$error":"#VALUE!"},null,null,null,null,null,{"$f":"VLOOKUP(C29,Hidden_Словник!$A$2:C$81,3,FALSE)","v":{"$error":"#N/A"}},0]
[null,0,{"$f":"IFERROR(VLOOKUP(A30,'1.Портфель кредитів'!A:Z,3,FALSE),\"\")","v":""},{"$f":"IFERROR(VLOOKUP(A30,'1.Портфель кредитів'!A:Z,7,FALSE),\"\")","v":""},{"$f":"IFERROR(VLOOKUP(A30,'1.Портфель кредитів'!A:Z,14,FALSE),\"\")","v":""},null,null,null,null,null,null,null,null,{"$f":"IFERROR(VLOOKUP(A30,'1.Портфель кредитів'!A:Z,30,FALSE),\"\")","v":""},0,{"$error":"#VALUE!"},null,null,null,null,null,{"$f":"VLOOKUP(C30,Hidden_Словник!$A$2:C$81,3,FALSE)","v":{"$error":"#N/A"}},0]
[null,0,{"$f":"IFERROR(VLOOKUP(A31,'1.Портфель кредитів'!A:Z,3,FALSE),\"\")","v":""},{"$f":"IFERROR(VLOOKUP(A31,'1.Портфель кредитів'!A:Z,7,FALSE),\"\")","v":""},{"$f":"IFERROR(VLOOKUP(A31,'1.Портфель кредитів'!A:Z,14,FALSE),\"\")","v":""},null,null,null,null,null,null,null,null,{"$f":"IFERROR(VLOOKUP(A31,'1.Портфель кредитів'!A:Z,30,FALSE),\"\")","v":""},0,{"$error":"#VALUE!"},null,null,null,null,null,{"$f":"VLOOKUP(C31,Hidden_Словник!$A$2:C$81,3,FALSE)","v":{"$error":"#N/A"}},0]
[null,0,{"$f":"IFERROR(VLOOKUP(A32,'1.Портфель кредитів'!A:Z,3,FALSE),\"\")","v":""},{"$f":"IFERROR(VLOOKUP(A32,'1.Портфель кредитів'!A:Z,7,FALSE),\"\")","v":""},{"$f":"IFERROR(VLOOKUP(A32,'1.Портфель кредитів'!A:Z,14,FALSE),\"\")","v":""},null,null,null,null,null,null,null,null,{"$f":"IFERROR(VLOOKUP(A32,'1.Портфель кредитів'!A:Z,30,FALSE),\"\")","v":""},0,{"$error":"#VALUE!"},null,null,null,null,null,{"$f":"VLOOKUP(C32,Hidden_Словник!$A$2:C$81,3,FALSE)","v":{"$error":"#N/A"}},0]
[null,0,{"$f":"IFERROR(VLOOKUP(A33,'1.Портфель кредитів'!A:Z,3,FALSE),\"\")","v":""},{"$f":"IFERROR(VLOOKUP(A33,'1.Портфель кредитів'!A:Z,7,FALSE),\"\")","v":""},{"$f":"IFERROR(VLOOKUP(A33,'1.Портфель кредитів'!A:Z,14,FALSE),\"\")","v":""},null,null,null,null,null,null,null,null,{"$f":"IFERROR(VLOOKUP(A33,'1.Портфель кредитів'!A:Z,30,FALSE),\"\")","v":""},0,{"$error":"#VALUE!"},null,null,null,null,null,{"$f":"VLOOKUP(C33,Hidden_Словник!$A$2:C$81,3,FALSE)","v":{"$error":"#N/A"}},0]
[null,0,{"$f":"IFERROR(VLOOKUP(A34,'1.Портфель кредитів'!A:Z,3,FALSE),\"\")","v":""},{"$f":"IFERROR(VLOOKUP(A34,'1.Портфель кредитів'!A:Z,7,FALSE),\"\")","v":""},{"$f":"IFERROR(VLOOKUP(A34,'1.Портфель кредитів'!A:Z,14,FALSE),\"\")","v":""},null,null,null,null,null,null,null,null,{"$f":"IFERROR(VLOOKUP(A34,'1.Портфель кредитів'!A:Z,30,FALSE),\"\")","v":""},0,{"$error":"#VALUE!"},null,null,null,null,null,{"$f":"VLOOKUP(C34,Hidden_Словник!$A$2:C$81,3,FALSE)","v":{"$error":"#N/A"}},0]
[null,0,{"$f":"IFERROR(VLOOKUP(A35,'1.Портфель кредитів'!A:Z,3,FALSE),\"\")","v":""},{"$f":"IFERROR(VLOOKUP(A35,'1.Портфель кредитів'!A:Z,7,FALSE),\"\")","v":""},{"$f":"IFERROR(VLOOKUP(A35,'1.Портфель кредитів'!A:Z,14,FALSE),\"\")","v":""},null,null,null,null,null,null,null,null,{"$f":"IFERROR(VLOOKUP(A35,'1.Портфель кредитів'!A:Z,30,FALSE),\"\")","v":""},0,{"$error":"#VALUE!"},null,null,null,null,null,{"$f":"VLOOKUP(C35,Hidden_Словник!$A$2:C$81,3,FALSE)","v":{"$error":"#N/A"}},0]
[null,0,{"$f":"IFERROR(VLOOKUP(A36,'1.Портфель кредитів'!A:Z,3,FALSE),\"\")","v":""},{"$f":"IFERROR(VLOOKUP(A36,'1.Портфель кредитів'!A:Z,7,FALSE),\"\")","v":""},{"$f":"IFERROR(VLOOKUP(A36,'1.Портфель кредитів'!A:Z,14,FALSE),\"\")","v":""},null,null,null,null,null,null,null,null,{"$f":"IFERROR(VLOOKUP(A36,'1.Портфель кредитів'!A:Z,30,FALSE),\"\")","v":""},0,{"$error":"#VALUE!"},null,null,null,null,null,{"$f":"VLOOKUP(C36,Hidden_Словник!$A$2:C$81,3,FALSE)","v":{"$error":"#N/A"}},0]
[null,0,{"$f":"IFERROR(VLOOKUP(A37,'1.Портфель кредитів'!A:Z,3,FALSE),\"\")","v":""},{"$f":"IFERROR(VLOOKUP(A37,'1.Портфель кредитів'!A:Z,7,FALSE),\"\")","v":""},{"$f":"IFERROR(VLOOKUP(A37,'1.Портфель кредитів'!A:Z,14,FALSE),\"\")","v":""},null,null,null,null,null,null,null,null,{"$f":"IFERROR(VLOOKUP(A37,'1.Портфель кредитів'!A:Z,30,FALSE),\"\")","v":""},0,{"$error":"#VALUE!"},null,null,null,null,null,{"$f":"VLOOKUP(C37,Hidden_Словник!$A$2:C$81,3,FALSE)","v":{"$error":"#N/A"}},0]
[null,0,{"$f":"IFERROR(VLOOKUP(A38,'1.Портфель кредитів'!A:Z,3,FALSE),\"\")","v":""},{"$f":"IFERROR(VLOOKUP(A38,'1.Портфель кредитів'!A:Z,7,FALSE),\"\")","v":""},{"$f":"IFERROR(VLOOKUP(A38,'1.Портфель кредитів'!A:Z,14,FALSE),\"\")","v":""},null,null,null,null,null,null,null,null,{"$f":"IFERROR(VLOOKUP(A38,'1.Портфель кредитів'!A:Z,30,FALSE),\"\")","v":""},0,{"$f":"N38/O38","v":{"$error":"#VALUE!"}},null,null,null,null,null,{"$f":"VLOOKUP(C38,Hidden_Словник!$A$2:C$81,3,FALSE)","v":{"$error":"#N/A"}},0]
[null,0,{"$f":"IFERROR(VLOOKUP(A39,'1.Портфель кредитів'!A:Z,3,FALSE),\"\")","v":""},{"$f":"IFERROR(VLOOKUP(A39,'1.Портфель кредитів'!A:Z,7,FALSE),\"\")","v":""},{"$f":"IFERROR(VLOOKUP(A39,'1.Портфель кредитів'!A:Z,14,FALSE),\"\")","v":""},null,null,null,null,null,null,null,null,{"$f":"IFERROR(VLOOKUP(A39,'1.Портфель кредитів'!A:Z,30,FALSE),\"\")","v":""},0,{"$error":"#VALUE!"},null,null,null,null,null,{"$f":"VLOOKUP(C39,Hidden_Словник!$A$2:C$81,3,FALSE)","v":{"$error":"#N/A"}},0]
[null,0,{"$f":"IFERROR(VLOOKUP(A40,'1.Портфель кредитів'!A:Z,3,FALSE),\"\")","v":""},{"$f":"IFERROR(VLOOKUP(A40,'1.Портфель кредитів'!A:Z,7,FALSE),\"\")","v":""},{"$f":"IFERROR(VLOOKUP(A40,'1.Портфель кредитів'!A:Z,14,FALSE),\"\")","v":""},null,null,null,null,null,null,null,null,{"$f":"IFERROR(VLOOKUP(A40,'1.Портфель кредитів'!A:Z,30,FALSE),\"\")","v":""},0,{"$error":"#VALUE!"},null,null,null,null,null,{"$f":"VLOOKUP(C40,Hidden_Словник!$A$2:C$81,3,FALSE)","v":{"$error":"#N/A"}},0,{"$f":"VLOOKUP(F40,Hidden_Словник!$W$2:$X$13,2,FALSE)","v":{"$error":"#N/A"}}]
[null,0,{"$f":"IFERROR(VLOOKUP(A41,'1.Портфель кредитів'!A:Z,3,FALSE),\"\")","v":""},{"$f":"IFERROR(VLOOKUP(A41,'1.Портфель кредитів'!A:Z,7,FALSE),\"\")","v":""},{"$f":"IFERROR(VLOOKUP(A41,'1.Портфель кредитів'!A:Z,14,FALSE),\"\")","v":""},null,null,null,null,null,null,null,null,{"$f":"IFERROR(VLOOKUP(A41,'1.Портфель кредитів'!A:Z,30,FALSE),\"\")","v":""},0,{"$error":"#VALUE!"},null,null,null,null,null,{"$f":"VLOOKUP(C41,Hidden_Словник!$A$2:C$81,3,FALSE)","v":{"$error":"#N/A"}},0,{"$f":"VLOOKUP(F41,Hidden_Словник!$W$2:$X$13,2,FALSE)","v":{"$error":"#N/A"}}]
[null,0,{"$f":"IFERROR(VLOOKUP(A42,'1.Портфель кредитів'!A:Z,3,FALSE),\"\")","v":""},{"$f":"IFERROR(VLOOKUP(A42,'1.Портфель кредитів'!A:Z,7,FALSE),\"\")","v":""},{"$f":"IFERROR(VLOOKUP(A42,'1.Портфель кредитів'!A:Z,14,FALSE),\"\")","v":""},null,null,null,null,null,null,null,null,{"$f":"IFERROR(VLOOKUP(A42,'1.Портфель кредитів'!A:Z,30,FALSE),\"\")","v":""},0,{"$error":"#VALUE!"},null,null,null,null,null,{"$f":"VLOOKUP(C42,Hidden_Словник!$A$2:C$81,3,FALSE)","v":{"$error":"#N/A"}},0,{"$f":"VLOOKUP(F42,Hidden_Словник!$W$2:$X$13,2,FALSE)","v":{"$error":"#N/A"}}]
[null,0,{"$f":"IFERROR(VLOOKUP(A43,'1.Портфель кредитів'!A:Z,3,FALSE),\"\")","v":""},{"$f":"IFERROR(VLOOKUP(A43,'1.Портфель кредитів'!A:Z,7,FALSE),\"\")","v":""},{"$f":"IFERROR(VLOOKUP(A43,'1.Портфель кредитів'!A:Z,14,FALSE),\"\")","v":""},null,null,null,null,null,null,null,null,{"$f":"IFERROR(VLOOKUP(A43,'1.Портфель кредитів'!A:Z,30,FALSE),\"\")","v":""},0,{"$error":"#VALUE!"},null,null,null,null,null,{"$f":"VLOOKUP(C43,Hidden_Словник!$A$2:C$81,3,FALSE)","v":{"$error":"#N/A"}},0,{"$f":"VLOOKUP(F43,Hidden_Словник!$W$2:$X$13,2,FALSE)","v":{"$error":"#N/A"}}]
[null,0,{"$f":"IFERROR(VLOOKUP(A44,'1.Портфель кредитів'!A:Z,3,FALSE),\"\")","v":""},{"$f":"IFERROR(VLOOKUP(A44,'1.Портфель кредитів'!A:Z,7,FALSE),\"\")","v":""},{"$f":"IFERROR(VLOOKUP(A44,'1.Портфель кредитів'!A:Z,14,FALSE),\"\")","v":""},null,null,null,null,null,null,null,null,{"$f":"IFERROR(VLOOKUP(A44,'1.Портфель кредитів'!A:Z,30,FALSE),\"\")","v":""},0,{"$error":"#VALUE!"},null,null,null,null,null,{"$f":"VLOOKUP(C44,Hidden_Словник!$A$2:C$81,3,FALSE)","v":{"$error":"#N/A"}},0,{"$f":"VLOOKUP(F44,Hidden_Словник!$W$2:$X$13,2,FALSE)","v":{"$error":"#N/A"}}]
[null,0,{"$f":"IFERROR(VLOOKUP(A45,'1.Портфель кредитів'!A:Z,3,FALSE),\"\")","v":""},{"$f":"IFERROR(VLOOKUP(A45,'1.Портфель кредитів'!A:Z,7,FALSE),\"\")","v":""},{"$f":"IFERROR(VLOOKUP(A45,'1.Портфель кредитів'!A:Z,14,FALSE),\"\")","v":""},null,null,null,null,null,null,null,null,{"$f":"IFERROR(VLOOKUP(A45,'1.Портфель кредитів'!A:Z,30,FALSE),\"\")","v":""},0,{"$error":"#VALUE!"},null,null,null,null,null,{"$f":"VLOOKUP(C45,Hidden_Словник!$A$2:C$81,3,FALSE)","v":{"$error":"#N/A"}},0,{"$f":"VLOOKUP(F45,Hidden_Словник!$W$2:$X$13,2,FALSE)","v":{"$error":"#N/A"}}]
[null,0,{"$f":"IFERROR(VLOOKUP(A46,'1.Портфель кредитів'!A:Z,3,FALSE),\"\")","v":""},{"$f":"IFERROR(VLOOKUP(A46,'1.Портфель кредитів'!A:Z,7,FALSE),\"\")","v":""},{"$f":"IFERROR(VLOOKUP(A46,'1.Портфель кредитів'!A:Z,14,FALSE),\"\")","v":""},null,null,null,null,null,null,null,null,{"$f":"IFERROR(VLOOKUP(A46,'1.Портфель кредитів'!A:Z,30,FALSE),\"\")","v":""},0,{"$error":"#VALUE!"},null,null,null,null,null,{"$f":"VLOOKUP(C46,Hidden_Словник!$A$2:C$81,3,FALSE)","v":{"$error":"#N/A"}},0,{"$f":"VLOOKUP(F46,Hidden_Словник!$W$2:$X$13,2,FALSE)","v":{"$error":"#N/A"}}]
[null,0,{"$f":"IFERROR(VLOOKUP(A47,'1.Портфель кредитів'!A:Z,3,FALSE),\"\")","v":""},{"$f":"IFERROR(VLOOKUP(A47,'1.Портфель кредитів'!A:Z,7,FALSE),\"\")","v":""},{"$f":"IFERROR(VLOOKUP(A47,'1.Портфель кредитів'!A:Z,14,FALSE),\"\")","v":""},null,null,null,null,null,null,null,null,{"$f":"IFERROR(VLOOKUP(A47,'1.Портфель кредитів'!A:Z,30,FALSE),\"\")","v":""},0,{"$error":"#VALUE!"},null,null,null,null,null,{"$f":"VLOOKUP(C47,Hidden_Словник!$A$2:C$81,3,FALSE)","v":{"$error":"#N/A"}},0,{"$f":"VLOOKUP(F47,Hidden_Словник!$W$2:$X$13,2,FALSE)","v":{"$error":"#N/A"}}]
[null,0,{"$f":"IFERROR(VLOOKUP(A48,'1.Портфель кредитів'!A:Z,3,FALSE),\"\")","v":""},{"$f":"IFERROR(VLOOKUP(A48,'1.Портфель кредитів'!A:Z,7,FALSE),\"\")","v":""},{"$f":"IFERROR(VLOOKUP(A48,'1.Портфель кредитів'!A:Z,14,FALSE),\"\")","v":""},null,null,null,null,null,null,null,null,{"$f":"IFERROR(VLOOKUP(A48,'1.Портфель кредитів'!A:Z,30,FALSE),\"\")","v":""},0,{"$error":"#VALUE!"},null,null,null,null,null,{"$f":"VLOOKUP(C48,Hidden_Словник!$A$2:C$81,3,FALSE)","v":{"$error":"#N/A"}},0,{"$f":"VLOOKUP(F48,Hidden_Словник!$W$2:$X$13,2,FALSE)","v":{"$error":"#N/A"}}]
[null,0,{"$f":"IFERROR(VLOOKUP(A49,'1.Портфель кредитів'!A:Z,3,FALSE),\"\")","v":""},{"$f":"IFERROR(VLOOKUP(A49,'1.Портфель кредитів'!A:Z,7,FALSE),\"\")","v":""},{"$f":"IFERROR(VLOOKUP(A49,'1.Портфель кредитів'!A:Z,14,FALSE),\"\")","v":""},null,null,null,null,null,null,null,null,{"$f":"IFERROR(VLOOKUP(A49,'1.Портфель кредитів'!A:Z,30,FALSE),\"\")","v":""},0,{"$error":"#VALUE!"},null,null,null,null,null,{"$f":"VLOOKUP(C49,Hidden_Словник!$A$2:C$81,3,FALSE)","v":{"$error":"#N/A"}},0,{"$f":"VLOOKUP(F49,Hidden_Словник!$W$2:$X$13,2,FALSE)","v":{"$error":"#N/A"}}]
[null,0,{"$f":"IFERROR(VLOOKUP(A50,'1.Портфель кредитів'!A:Z,3,FALSE),\"\")","v":""},{"$f":"IFERROR(VLOOKUP(A50,'1.Портфель кредитів'!A:Z,7,FALSE),\"\")","v":""},{"$f":"IFERROR(VLOOKUP(A50,'1.Портфель кредитів'!A:Z,14,FALSE),\"\")","v":""},null,null,null,null,null,null,null,null,{"$f":"IFERROR(VLOOKUP(A50,'1.Портфель кредитів'!A:Z,30,FALSE),\"\")","v":""},0,{"$error":"#VALUE!"},null,null,null,null,null,{"$f":"VLOOKUP(C50,Hidden_Словник!$A$2:C$81,3,FALSE)","v":{"$error":"#N/A"}},0,{"$f":"VLOOKUP(F50,Hidden_Словник!$W$2:$X$13,2,FALSE)","v":{"$error":"#N/A"}}]
[null,0,{"$f":"IFERROR(VLOOKUP(A51,'1.Портфель кредитів'!A:Z,3,FALSE),\"\")","v":""},{"$f":"IFERROR(VLOOKUP(A51,'1.Портфель кредитів'!A:Z,7,FALSE),\"\")","v":""},{"$f":"IFERROR(VLOOKUP(A51,'1.Портфель кредитів'!A:Z,14,FALSE),\"\")","v":""},null,null,null,null,null,null,null,null,{"$f":"IFERROR(VLOOKUP(A51,'1.Портфель кредитів'!A:Z,30,FALSE),\"\")","v":""},0,{"$error":"#VALUE!"},null,null,null,null,null,{"$f":"VLOOKUP(C51,Hidden_Словник!$A$2:C$81,3,FALSE)","v":{"$error":"#N/A"}},0,{"$f":"VLOOKUP(F51,Hidden_Словник!$W$2:$X$13,2,FALSE)","v":{"$error":"#N/A"}}]
[null,0,{"$f":"IFERROR(VLOOKUP(A52,'1.Портфель кредитів'!A:Z,3,FALSE),\"\")","v":""},{"$f":"IFERROR(VLOOKUP(A52,'1.Портфель кредитів'!A:Z,7,FALSE),\"\")","v":""},{"$f":"IFERROR(VLOOKUP(A52,'1.Портфель кредитів'!A:Z,14,FALSE),\"\")","v":""},null,null,null,null,null,null,null,null,{"$f":"IFERROR(VLOOKUP(A52,'1.Портфель кредитів'!A:Z,30,FALSE),\"\")","v":""},0,{"$error":"#VALUE!"},null,null,null,null,null,{"$f":"VLOOKUP(C52,Hidden_Словник!$A$2:C$81,3,FALSE)","v":{"$error":"#N/A"}},0,{"$f":"VLOOKUP(F52,Hidden_Словник!$W$2:$X$13,2,FALSE)","v":{"$error":"#N/A"}}]
[null,0,{"$f":"IFERROR(VLOOKUP(A53,'1.Портфель кредитів'!A:Z,3,FALSE),\"\")","v":""},{"$f":"IFERROR(VLOOKUP(A53,'1.Портфель кредитів'!A:Z,7,FALSE),\"\")","v":""},{"$f":"IFERROR(VLOOKUP(A53,'1.Портфель кредитів'!A:Z,14,FALSE),\"\")","v":""},null,null,null,null,null,null,null,null,{"$f":"IFERROR(VLOOKUP(A53,'1.Портфель кредитів'!A:Z,30,FALSE),\"\")","v":""},0,{"$error":"#VALUE!"},null,null,null,null,null,{"$f":"VLOOKUP(C53,Hidden_Словник!$A$2:C$81,3,FALSE)","v":{"$error":"#N/A"}},0,{"$f":"VLOOKUP(F53,Hidden_Словник!$W$2:$X$13,2,FALSE)","v":{"$error":"#N/A"}}]
[null,0,{"$f":"IFERROR(VLOOKUP(A54,'1.Портфель кредитів'!A:Z,3,FALSE),\"\")","v":""},{"$f":"IFERROR(VLOOKUP(A54,'1.Портфель кредитів'!A:Z,7,FALSE),\"\")","v":""},{"$f":"IFERROR(VLOOKUP(A54,'1.Портфель кредитів'!A:Z,14,FALSE),\"\")","v":""},null,null,null,null,null,null,null,null,{"$f":"IFERROR(VLOOKUP(A54,'1.Портфель кредитів'!A:Z,30,FALSE),\"\")","v":""},0,{"$error":"#VALUE!"},null,null,null,null,null,{"$f":"VLOOKUP(C54,Hidden_Словник!$A$2:C$81,3,FALSE)","v":{"$error":"#N/A"}},0,{"$f":"VLOOKUP(F54,Hidden_Словник!$W$2:$X$13,2,FALSE)","v":{"$error":"#N/A"}}]
[null,"",{"$f":"IFERROR(VLOOKUP(A55,'1.Портфель кредитів'!A:Z,3,FALSE),\"\")","v":""},{"$f":"IFERROR(VLOOKUP(A55,'1.Портфель кредитів'!A:Z,7,FALSE),\"\")","v":""},{"$f":"IFERROR(VLOOKUP(A55,'1.Портфель кредитів'!A:Z,14,FALSE),\"\")","v":""},null,null,null,null,null,null,null,null,{"$f":"IFERROR(VLOOKUP(A55,'1.Портфель кредитів'!A:Z,30,FALSE),\"\")","v":""},0,{"$error":"#VALUE!"},null,null,null,null,null,{"$f":"VLOOKUP(C55,Hidden_Словник!$A$2:C$81,3,FALSE)","v":{"$error":"#N/A"}},0,{"$f":"VLOOKUP(F55,Hidden_Словник!$W$2:$X$13,2,FALSE)","v":{"$error":"#N/A"}},{"$f":"#REF!","v":{"$error":"#REF!"}},{"$f":"V55&\"_\"&W55&X55&Y55","v":{"$error":"#N/A"}}]
[null,"",{"$f":"IFERROR(VLOOKUP(A56,'1.Портфель кредитів'!A:Z,3,FALSE),\"\")","v":""},{"$f":"IFERROR(VLOOKUP(A56,'1.Портфель кредитів'!A:Z,7,FALSE),\"\")","v":""},{"$f":"IFERROR(VLOOKUP(A56,'1.Портфель кредитів'!A:Z,14,FALSE),\"\")","v":""},null,null,null,null,null,null,null,null,{"$f":"IFERROR(VLOOKUP(A56,'1.Портфель кредитів'!A:Z,30,FALSE),\"\")","v":""},0,{"$error":"#VALUE!"},null,null,null,null,null,{"$f":"VLOOKUP(C56,Hidden_Словник!$A$2:C$81,3,FALSE)","v":{"$error":"#N/A"}},0,{"$f":"VLOOKUP(F56,Hidden_Словник!$W$2:$X$13,2,FALSE)","v":{"$error":"#N/A"}},{"$f":"#REF!","v":{"$error":"#REF!"}},{"$error":"#N/A"}]
[null,"",{"$f":"IFERROR(VLOOKUP(A57,'1.Портфель кредитів'!A:Z,3,FALSE),\"\")","v":""},{"$f":"IFERROR(VLOOKUP(A57,'1.Портфель кредитів'!A:Z,7,FALSE),\"\")","v":""},{"$f":"IFERROR(VLOOKUP(A57,'1.Портфель кредитів'!A:Z,14,FALSE),\"\")","v":""},null,null,null,null,null,null,null,null,{"$f":"IFERROR(VLOOKUP(A57,'1.Портфель кредитів'!A:Z,30,FALSE),\"\")","v":""},0,{"$error":"#VALUE!"},null,null,null,null,null,{"$f":"VLOOKUP(C57,Hidden_Словник!$A$2:C$81,3,FALSE)","v":{"$error":"#N/A"}},0,{"$f":"VLOOKUP(F57,Hidden_Словник!$W$2:$X$13,2,FALSE)","v":{"$error":"#N/A"}},{"$f":"#REF!","v":{"$error":"#REF!"}},{"$error":"#N/A"}]
[null,"",{"$f":"IFERROR(VLOOKUP(A58,'1.Портфель кредитів'!A:Z,3,FALSE),\"\")","v":""},{"$f":"IFERROR(VLOOKUP(A58,'1.Портфель кредитів'!A:Z,7,FALSE),\"\")","v":""},{"$f":"IFERROR(VLOOKUP(A58,'1.Портфель кредитів'!A:Z,14,FALSE),\"\")","v":""},null,null,null,null,null,null,null,null,{"$f":"IFERROR(VLOOKUP(A58,'1.Портфель кредитів'!A:Z,30,FALSE),\"\")","v":""},0,{"$error":"#VALUE!"},null,null,null,null,null,{"$f":"VLOOKUP(C58,Hidden_Словник!$A$2:C$81,3,FALSE)","v":{"$error":"#N/A"}},0,{"$f":"VLOOKUP(F58,Hidden_Словник!$W$2:$X$13,2,FALSE)","v":{"$error":"#N/A"}},{"$f":"#REF!","v":{"$error":"#REF!"}},{"$error":"#N/A"}]
[null,"",{"$f":"IFERROR(VLOOKUP(A59,'1.Портфель кредитів'!A:Z,3,FALSE),\"\")","v":""},{"$f":"IFERROR(VLOOKUP(A59,'1.Портфель кредитів'!A:Z,7,FALSE),\"\")","v":""},{"$f":"IFERROR(VLOOKUP(A59,'1.Портфель кредитів'!A:Z,14,FALSE),\"\")","v":""},null,null,null,null,null,null,null,null,{"$f":"IFERROR(VLOOKUP(A59,'1.Портфель кредитів'!A:Z,30,FALSE),\"\")","v":""},0,{"$error":"#VALUE!"},null,null,null,null,null,{"$f":"VLOOKUP(C59,Hidden_Словник!$A$2:C$81,3,FALSE)","v":{"$error":"#N/A"}},0,{"$f":"VLOOKUP(F59,Hidden_Словник!$W$2:$X$13,2,FALSE)","v":{"$error":"#N/A"}},{"$f":"#REF!","v":{"$error":"#REF!"}},{"$error":"#N/A"}]
[null,"",{"$f":"IFERROR(VLOOKUP(A60,'1.Портфель кредитів'!A:Z,3,FALSE),\"\")","v":""},{"$f":"IFERROR(VLOOKUP(A60,'1.Портфель кредитів'!A:Z,7,FALSE),\"\")","v":""},{"$f":"IFERROR(VLOOKUP(A60,'1.Портфель кредитів'!A:Z,14,FALSE),\"\")","v":""},null,null,null,null,null,null,null,null,{"$f":"IFERROR(VLOOKUP(A60,'1.Портфель кредитів'!A:Z,30,FALSE),\"\")","v":""},0,{"$error":"#VALUE!"},null,null,null,null,null,{"$f":"VLOOKUP(C60,Hidden_Словник!$A$2:C$81,3,FALSE)","v":{"$error":"#N/A"}},0,{"$f":"VLOOKUP(F60,Hidden_Словник!$W$2:$X$13,2,FALSE)","v":{"$error":"#N/A"}},{"$f":"#REF!","v":{"$error":"#REF!"}},{"$error":"#N/A"}]
[null,"",{"$f":"IFERROR(VLOOKUP(A61,'1.Портфель кредитів'!A:Z,3,FALSE),\"\")","v":""},{"$f":"IFERROR(VLOOKUP(A61,'1.Портфель кредитів'!A:Z,7,FALSE),\"\")","v":""},{"$f":"IFERROR(VLOOKUP(A61,'1.Портфель кредитів'!A:Z,14,FALSE),\"\")","v":""},null,null,null,null,null,null,null,null,{"$f":"IFERROR(VLOOKUP(A61,'1.Портфель кредитів'!A:Z,30,FALSE),\"\")","v":""},0,{"$error":"#VALUE!"},null,null,null,null,null,{"$f":"VLOOKUP(C61,Hidden_Словник!$A$2:C$81,3,FALSE)","v":{"$error":"#N/A"}},0,{"$f":"VLOOKUP(F61,Hidden_Словник!$W$2:$X$13,2,FALSE)","v":{"$error":"#N/A"}},{"$f":"#REF!","v":{"$error":"#REF!"}},{"$error":"#N/A"}]
[null,{"$f":"IFERROR(Z62,\"\")","v":""},{"$f":"IFERROR(VLOOKUP(A62,'1.Портфель кредитів'!A:Z,3,FALSE),\"\")","v":""},{"$f":"IFERROR(VLOOKUP(A62,'1.Портфель кредитів'!A:Z,7,FALSE),\"\")","v":""},{"$f":"IFERROR(VLOOKUP(A62,'1.Портфель кредитів'!A:Z,14,FALSE),\"\")","v":""},null,null,null,null,null,null,null,null,{"$f":"IFERROR(VLOOKUP(A62,'1.Портфель кредитів'!A:Z,30,FALSE),\"\")","v":""},0,{"$error":"#VALUE!"},null,null,null,null,null,{"$f":"VLOOKUP(C62,Hidden_Словник!$A$2:C$81,3,FALSE)","v":{"$error":"#N/A"}},0,{"$f":"VLOOKUP(F62,Hidden_Словник!$W$2:$X$13,2,FALSE)","v":{"$error":"#N/A"}},{"$f":"#REF!","v":{"$error":"#REF!"}},{"$f":"V62&\"_\"&W62&X62&Y62","v":{"$error":"#N/A"}}]
[null,"",{"$f":"IFERROR(VLOOKUP(A63,'1.Портфель кредитів'!A:Z,3,FALSE),\"\")","v":""},{"$f":"IFERROR(VLOOKUP(A63,'1.Портфель кредитів'!A:Z,7,FALSE),\"\")","v":""},{"$f":"IFERROR(VLOOKUP(A63,'1.Портфель кредитів'!A:Z,14,FALSE),\"\")","v":""},null,null,null,null,null,null,null,null,{"$f":"IFERROR(VLOOKUP(A63,'1.Портфель кредитів'!A:Z,30,FALSE),\"\")","v":""},0,{"$error":"#VALUE!"},null,null,null,null,null,{"$f":"VLOOKUP(C63,Hidden_Словник!$A$2:C$81,3,FALSE)","v":{"$error":"#N/A"}},0,{"$f":"VLOOKUP(F63,Hidden_Словник!$W$2:$X$13,2,FALSE)","v":{"$error":"#N/A"}},{"$f":"#REF!","v":{"$error":"#REF!"}},{"$error":"#N/A"}]
[null,"",{"$f":"IFERROR(VLOOKUP(A64,'1.Портфель кредитів'!A:Z,3,FALSE),\"\")","v":""},{"$f":"IFERROR(VLOOKUP(A64,'1.Портфель кредитів'!A:Z,7,FALSE),\"\")","v":""},{"$f":"IFERROR(VLOOKUP(A64,'1.Портфель кредитів'!A:Z,14,FALSE),\"\")","v":""},null,null,null,null,null,null,null,null,{"$f":"IFERROR(VLOOKUP(A64,'1.Портфель кредитів'!A:Z,30,FALSE),\"\")","v":""},0,{"$error":"#VALUE!"},null,null,null,null,null,{"$f":"VLOOKUP(C64,Hidden_Словник!$A$2:C$81,3,FALSE)","v":{"$error":"#N/A"}},0,{"$f":"VLOOKUP(F64,Hidden_Словник!$W$2:$X$13,2,FALSE)","v":{"$error":"#N/A"}},{"$f":"#REF!","v":{"$error":"#REF!"}},{"$error":"#N/A"}]
[null,"",{"$f":"IFERROR(VLOOKUP(A65,'1.Портфель кредитів'!A:Z,3,FALSE),\"\")","v":""},{"$f":"IFERROR(VLOOKUP(A65,'1.Портфель кредитів'!A:Z,7,FALSE),\"\")","v":""},{"$f":"IFERROR(VLOOKUP(A65,'1.Портфель кредитів'!A:Z,14,FALSE),\"\")","v":""},null,null,null,null,null,null,null,null,{"$f":"IFERROR(VLOOKUP(A65,'1.Портфель кредитів'!A:Z,30,FALSE),\"\")","v":""},0,{"$error":"#VALUE!"},null,null,null,null,null,{"$f":"VLOOKUP(C65,Hidden_Словник!$A$2:C$81,3,FALSE)","v":{"$error":"#N/A"}},0,{"$f":"VLOOKUP(F65,Hidden_Словник!$W$2:$X$13,2,FALSE)","v":{"$error":"#N/A"}},{"$f":"#REF!","v":{"$error":"#REF!"}},{"$error":"#N/A"}]
[null,"",{"$f":"IFERROR(VLOOKUP(A66,'1.Портфель кредитів'!A:Z,3,FALSE),\"\")","v":""},{"$f":"IFERROR(VLOOKUP(A66,'1.Портфель кредитів'!A:Z,7,FALSE),\"\")","v":""},{"$f":"IFERROR(VLOOKUP(A66,'1.Портфель кредитів'!A:Z,14,FALSE),\"\")","v":""},null,null,null,null,null,null,null,null,{"$f":"IFERROR(VLOOKUP(A66,'1.Портфель кредитів'!A:Z,30,FALSE),\"\")","v":""},0,{"$error":"#VALUE!"},null,null,null,null,null,{"$f":"VLOOKUP(C66,Hidden_Словник!$A$2:C$81,3,FALSE)","v":{"$error":"#N/A"}},0,{"$f":"VLOOKUP(F66,Hidden_Словник!$W$2:$X$13,2,FALSE)","v":{"$error":"#N/A"}},{"$f":"#REF!","v":{"$error":"#REF!"}},{"$error":"#N/A"}]
[null,"",{"$f":"IFERROR(VLOOKUP(A67,'1.Портфель кредитів'!A:Z,3,FALSE),\"\")","v":""},{"$f":"IFERROR(VLOOKUP(A67,'1.Портфель кредитів'!A:Z,7,FALSE),\"\")","v":""},{"$f":"IFERROR(VLOOKUP(A67,'1.Портфель кредитів'!A:Z,14,FALSE),\"\")","v":""},null,null,null,null,null,null,null,null,{"$f":"IFERROR(VLOOKUP(A67,'1.Портфель кредитів'!A:Z,30,FALSE),\"\")","v":""},0,{"$error":"#VALUE!"},null,null,null,null,null,{"$f":"VLOOKUP(C67,Hidden_Словник!$A$2:C$81,3,FALSE)","v":{"$error":"#N/A"}},0,{"$f":"VLOOKUP(F67,Hidden_Словник!$W$2:$X$13,2,FALSE)","v":{"$error":"#N/A"}},{"$f":"#REF!","v":{"$error":"#REF!"}},{"$error":"#N/A"}]
[null,"",{"$f":"IFERROR(VLOOKUP(A68,'1.Портфель кредитів'!A:Z,3,FALSE),\"\")","v":""},{"$f":"IFERROR(VLOOKUP(A68,'1.Портфель кредитів'!A:Z,7,FALSE),\"\")","v":""},{"$f":"IFERROR(VLOOKUP(A68,'1.Портфель кредитів'!A:Z,14,FALSE),\"\")","v":""},null,null,null,null,null,null,null,null,{"$f":"IFERROR(VLOOKUP(A68,'1.Портфель кредитів'!A:Z,30,FALSE),\"\")","v":""},0,{"$error":"#VALUE!"},null,null,null,null,null,{"$f":"VLOOKUP(C68,Hidden_Словник!$A$2:C$81,3,FALSE)","v":{"$error":"#N/A"}},0,{"$f":"VLOOKUP(F68,Hidden_Словник!$W$2:$X$13,2,FALSE)","v":{"$error":"#N/A"}},{"$f":"#REF!","v":{"$error":"#REF!"}},{"$error":"#N/A"}]
[null,"",{"$f":"IFERROR(VLOOKUP(A69,'1.Портфель кредитів'!A:Z,3,FALSE),\"\")","v":""},{"$f":"IFERROR(VLOOKUP(A69,'1.Портфель кредитів'!A:Z,7,FALSE),\"\")","v":""},{"$f":"IFERROR(VLOOKUP(A69,'1.Портфель кредитів'!A:Z,14,FALSE),\"\")","v":""},null,null,null,null,null,null,null,null,{"$f":"IFERROR(VLOOKUP(A69,'1.Портфель кредитів'!A:Z,30,FALSE),\"\")","v":""},0,{"$error":"#VALUE!"},null,null,null,null,null,{"$f":"VLOOKUP(C69,Hidden_Словник!$A$2:C$81,3,FALSE)","v":{"$error":"#N/A"}},0,{"$f":"VLOOKUP(F69,Hidden_Словник!$W$2:$X$13,2,FALSE)","v":{"$error":"#N/A"}},{"$f":"#REF!","v":{"$error":"#REF!"}},{"$error":"#N/A"}]
[null,"",{"$f":"IFERROR(VLOOKUP(A70,'1.Портфель кредитів'!A:Z,3,FALSE),\"\")","v":""},{"$f":"IFERROR(VLOOKUP(A70,'1.Портфель кредитів'!A:Z,7,FALSE),\"\")","v":""},{"$f":"IFERROR(VLOOKUP(A70,'1.Портфель кредитів'!A:Z,14,FALSE),\"\")","v":""},null,null,null,null,null,null,null,null,{"$f":"IFERROR(VLOOKUP(A70,'1.Портфель кредитів'!A:Z,30,FALSE),\"\")","v":""},0,{"$error":"#VALUE!"},null,null,null,null,null,{"$f":"VLOOKUP(C70,Hidden_Словник!$A$2:C$81,3,FALSE)","v":{"$error":"#N/A"}},0,{"$f":"VLOOKUP(F70,Hidden_Словник!$W$2:$X$13,2,FALSE)","v":{"$error":"#N/A"}},{"$f":"#REF!","v":{"$error":"#REF!"}},{"$error":"#N/A"}]
[null,"",{"$f":"IFERROR(VLOOKUP(A71,'1.Портфель кредитів'!A:Z,3,FALSE),\"\")","v":""},{"$f":"IFERROR(VLOOKUP(A71,'1.Портфель кредитів'!A:Z,7,FALSE),\"\")","v":""},{"$f":"IFERROR(VLOOKUP(A71,'1.Портфель кредитів'!A:Z,14,FALSE),\"\")","v":""},null,null,null,null,null,null,null,null,{"$f":"IFERROR(VLOOKUP(A71,'1.Портфель кредитів'!A:Z,30,FALSE),\"\")","v":""},0,{"$error":"#VALUE!"},null,null,null,null,null,{"$f":"VLOOKUP(C71,Hidden_Словник!$A$2:C$81,3,FALSE)","v":{"$error":"#N/A"}},0,{"$f":"VLOOKUP(F71,Hidden_Словник!$W$2:$X$13,2,FALSE)","v":{"$error":"#N/A"}},{"$f":"#REF!","v":{"$error":"#REF!"}},{"$error":"#N/A"}]
[null,"",{"$f":"IFERROR(VLOOKUP(A72,'1.Портфель кредитів'!A:Z,3,FALSE),\"\")","v":""},{"$f":"IFERROR(VLOOKUP(A72,'1.Портфель кредитів'!A:Z,7,FALSE),\"\")","v":""},{"$f":"IFERROR(VLOOKUP(A72,'1.Портфель кредитів'!A:Z,14,FALSE),\"\")","v":""},null,null,null,null,null,null,null,null,{"$f":"IFERROR(VLOOKUP(A72,'1.Портфель кредитів'!A:Z,30,FALSE),\"\")","v":""},0,{"$error":"#VALUE!"},null,null,null,null,null,{"$f":"VLOOKUP(C72,Hidden_Словник!$A$2:C$81,3,FALSE)","v":{"$error":"#N/A"}},0,{"$f":"VLOOKUP(F72,Hidden_Словник!$W$2:$X$13,2,FALSE)","v":{"$error":"#N/A"}},{"$f":"#REF!","v":{"$error":"#REF!"}},{"$error":"#N/A"}]
[null,"",{"$f":"IFERROR(VLOOKUP(A73,'1.Портфель кредитів'!A:Z,3,FALSE),\"\")","v":""},{"$f":"IFERROR(VLOOKUP(A73,'1.Портфель кредитів'!A:Z,7,FALSE),\"\")","v":""},{"$f":"IFERROR(VLOOKUP(A73,'1.Портфель кредитів'!A:Z,14,FALSE),\"\")","v":""},null,null,null,null,null,null,null,null,{"$f":"IFERROR(VLOOKUP(A73,'1.Портфель кредитів'!A:Z,30,FALSE),\"\")","v":""},0,{"$error":"#VALUE!"},null,null,null,null,null,{"$f":"VLOOKUP(C73,Hidden_Словник!$A$2:C$81,3,FALSE)","v":{"$error":"#N/A"}},0,{"$f":"VLOOKUP(F73,Hidden_Словник!$W$2:$X$13,2,FALSE)","v":{"$error":"#N/A"}},{"$f":"#REF!","v":{"$error":"#REF!"}},{"$error":"#N/A"}]
[null,"",{"$f":"IFERROR(VLOOKUP(A74,'1.Портфель кредитів'!A:Z,3,FALSE),\"\")","v":""},{"$f":"IFERROR(VLOOKUP(A74,'1.Портфель кредитів'!A:Z,7,FALSE),\"\")","v":""},{"$f":"IFERROR(VLOOKUP(A74,'1.Портфель кредитів'!A:Z,14,FALSE),\"\")","v":""},null,null,null,null,null,null,null,null,{"$f":"IFERROR(VLOOKUP(A74,'1.Портфель кредитів'!A:Z,30,FALSE),\"\")","v":""},0,{"$error":"#VALUE!"},null,null,null,null,null,{"$f":"VLOOKUP(C74,Hidden_Словник!$A$2:C$81,3,FALSE)","v":{"$error":"#N/A"}},0,{"$f":"VLOOKUP(F74,Hidden_Словник!$W$2:$X$13,2,FALSE)","v":{"$error":"#N/A"}},{"$f":"#REF!","v":{"$error":"#REF!"}},{"$error":"#N/A"}]
[null,"",{"$f":"IFERROR(VLOOKUP(A75,'1.Портфель кредитів'!A:Z,3,FALSE),\"\")","v":""},{"$f":"IFERROR(VLOOKUP(A75,'1.Портфель кредитів'!A:Z,7,FALSE),\"\")","v":""},{"$f":"IFERROR(VLOOKUP(A75,'1.Портфель кредитів'!A:Z,14,FALSE),\"\")","v":""},null,null,null,null,null,null,null,null,{"$f":"IFERROR(VLOOKUP(A75,'1.Портфель кредитів'!A:Z,30,FALSE),\"\")","v":""},0,{"$error":"#VALUE!"},null,null,null,null,null,{"$f":"VLOOKUP(C75,Hidden_Словник!$A$2:C$81,3,FALSE)","v":{"$error":"#N/A"}},0,{"$f":"VLOOKUP(F75,Hidden_Словник!$W$2:$X$13,2,FALSE)","v":{"$error":"#N/A"}},{"$f":"#REF!","v":{"$error":"#REF!"}},{"$error":"#N/A"}]
[null,"",{"$f":"IFERROR(VLOOKUP(A76,'1.Портфель кредитів'!A:Z,3,FALSE),\"\")","v":""},{"$f":"IFERROR(VLOOKUP(A76,'1.Портфель кредитів'!A:Z,7,FALSE),\"\")","v":""},{"$f":"IFERROR(VLOOKUP(A76,'1.Портфель кредитів'!A:Z,14,FALSE),\"\")","v":""},null,null,null,null,null,null,null,null,{"$f":"IFERROR(VLOOKUP(A76,'1.Портфель кредитів'!A:Z,30,FALSE),\"\")","v":""},0,{"$error":"#VALUE!"},null,null,null,null,null,{"$f":"VLOOKUP(C76,Hidden_Словник!$A$2:C$81,3,FALSE)","v":{"$error":"#N/A"}},0,{"$f":"VLOOKUP(F76,Hidden_Словник!$W$2:$X$13,2,FALSE)","v":{"$error":"#N/A"}},{"$f":"#REF!","v":{"$error":"#REF!"}},{"$error":"#N/A"}]
[null,"",{"$f":"IFERROR(VLOOKUP(A77,'1.Портфель кредитів'!A:Z,3,FALSE),\"\")","v":""},{"$f":"IFERROR(VLOOKUP(A77,'1.Портфель кредитів'!A:Z,7,FALSE),\"\")","v":""},{"$f":"IFERROR(VLOOKUP(A77,'1.Портфель кредитів'!A:Z,14,FALSE),\"\")","v":""},null,null,null,null,null,null,null,null,{"$f":"IFERROR(VLOOKUP(A77,'1.Портфель кредитів'!A:Z,30,FALSE),\"\")","v":""},0,{"$error":"#VALUE!"},null,null,null,null,null,{"$f":"VLOOKUP(C77,Hidden_Словник!$A$2:C$81,3,FALSE)","v":{"$error":"#N/A"}},0,{"$f":"VLOOKUP(F77,Hidden_Словник!$W$2:$X$13,2,FALSE)","v":{"$error":"#N/A"}},{"$f":"#REF!","v":{"$error":"#REF!"}},{"$error":"#N/A"}]
[null,"",{"$f":"IFERROR(VLOOKUP(A78,'1.Портфель кредитів'!A:Z,3,FALSE),\"\")","v":""},{"$f":"IFERROR(VLOOKUP(A78,'1.Портфель кредитів'!A:Z,7,FALSE),\"\")","v":""},{"$f":"IFERROR(VLOOKUP(A78,'1.Портфель кредитів'!A:Z,14,FALSE),\"\")","v":""},null,null,null,null,null,null,null,null,{"$f":"IFERROR(VLOOKUP(A78,'1.Портфель кредитів'!A:Z,30,FALSE),\"\")","v":""},0,{"$error":"#VALUE!"},null,null,null,null,null,{"$f":"VLOOKUP(C78,Hidden_Словник!$A$2:C$81,3,FALSE)","v":{"$error":"#N/A"}},0,{"$f":"VLOOKUP(F78,Hidden_Словник!$W$2:$X$13,2,FALSE)","v":{"$error":"#N/A"}},{"$f":"#REF!","v":{"$error":"#REF!"}},{"$error":"#N/A"}]
[null,"",{"$f":"IFERROR(VLOOKUP(A79,'1.Портфель кредитів'!A:Z,3,FALSE),\"\")","v":""},{"$f":"IFERROR(VLOOKUP(A79,'1.Портфель кредитів'!A:Z,7,FALSE),\"\")","v":""},{"$f":"IFERROR(VLOOKUP(A79,'1.Портфель кредитів'!A:Z,14,FALSE),\"\")","v":""},null,null,null,null,null,null,null,null,{"$f":"IFERROR(VLOOKUP(A79,'1.Портфель кредитів'!A:Z,30,FALSE),\"\")","v":""},0,{"$error":"#VALUE!"},null,null,null,null,null,{"$f":"VLOOKUP(C79,Hidden_Словник!$A$2:C$81,3,FALSE)","v":{"$error":"#N/A"}},0,{"$f":"VLOOKUP(F79,Hidden_Словник!$W$2:$X$13,2,FALSE)","v":{"$error":"#N/A"}},{"$f":"#REF!","v":{"$error":"#REF!"}},{"$error":"#N/A"}]
[null,"",{"$f":"IFERROR(VLOOKUP(A80,'1.Портфель кредитів'!A:Z,3,FALSE),\"\")","v":""},{"$f":"IFERROR(VLOOKUP(A80,'1.Портфель кредитів'!A:Z,7,FALSE),\"\")","v":""},{"$f":"IFERROR(VLOOKUP(A80,'1.Портфель кредитів'!A:Z,14,FALSE),\"\")","v":""},null,null,null,null,null,null,null,null,{"$f":"IFERROR(VLOOKUP(A80,'1.Портфель кредитів'!A:Z,30,FALSE),\"\")","v":""},0,{"$error":"#VALUE!"},null,null,null,null,null,{"$f":"VLOOKUP(C80,Hidden_Словник!$A$2:C$81,3,FALSE)","v":{"$error":"#N/A"}},0,{"$f":"VLOOKUP(F80,Hidden_Словник!$W$2:$X$13,2,FALSE)","v":{"$error":"#N/A"}},{"$f":"#REF!","v":{"$error":"#REF!"}},{"$error":"#N/A"}]
[null,"",{"$f":"IFERROR(VLOOKUP(A81,'1.Портфель кредитів'!A:Z,3,FALSE),\"\")","v":""},{"$f":"IFERROR(VLOOKUP(A81,'1.Портфель кредитів'!A:Z,7,FALSE),\"\")","v":""},{"$f":"IFERROR(VLOOKUP(A81,'1.Портфель кредитів'!A:Z,14,FALSE),\"\")","v":""},null,null,null,null,null,null,null,null,{"$f":"IFERROR(VLOOKUP(A81,'1.Портфель кредитів'!A:Z,30,FALSE),\"\")","v":""},0,{"$error":"#VALUE!"},null,null,null,null,null,{"$f":"VLOOKUP(C81,Hidden_Словник!$A$2:C$81,3,FALSE)","v":{"$error":"#N/A"}},0,{"$f":"VLOOKUP(F81,Hidden_Словник!$W$2:$X$13,2,FALSE)","v":{"$error":"#N/A"}},{"$f":"#REF!","v":{"$error":"#REF!"}},{"$error":"#N/A"}]
[null,"",{"$f":"IFERROR(VLOOKUP(A82,'1.Портфель кредитів'!A:Z,3,FALSE),\"\")","v":""},{"$f":"IFERROR(VLOOKUP(A82,'1.Портфель кредитів'!A:Z,7,FALSE),\"\")","v":""},{"$f":"IFERROR(VLOOKUP(A82,'1.Портфель кредитів'!A:Z,14,FALSE),\"\")","v":""},null,null,null,null,null,null,null,null,{"$f":"IFERROR(VLOOKUP(A82,'1.Портфель кредитів'!A:Z,30,FALSE),\"\")","v":""},0,{"$error":"#VALUE!"},null,null,null,null,null,{"$f":"VLOOKUP(C82,Hidden_Словник!$A$2:C$81,3,FALSE)","v":{"$error":"#N/A"}},0,{"$f":"VLOOKUP(F82,Hidden_Словник!$W$2:$X$13,2,FALSE)","v":{"$error":"#N/A"}},{"$f":"#REF!","v":{"$error":"#REF!"}},{"$error":"#N/A"}]
[null,"",{"$f":"IFERROR(VLOOKUP(A83,'1.Портфель кредитів'!A:Z,3,FALSE),\"\")","v":""},{"$f":"IFERROR(VLOOKUP(A83,'1.Портфель кредитів'!A:Z,7,FALSE),\"\")","v":""},{"$f":"IFERROR(VLOOKUP(A83,'1.Портфель кредитів'!A:Z,14,FALSE),\"\")","v":""},null,null,null,null,null,null,null,null,{"$f":"IFERROR(VLOOKUP(A83,'1.Портфель кредитів'!A:Z,30,FALSE),\"\")","v":""},0,{"$error":"#VALUE!"},null,null,null,null,null,{"$f":"VLOOKUP(C83,Hidden_Словник!$A$2:C$81,3,FALSE)","v":{"$error":"#N/A"}},{"$f":"ROUNDUP(K83,0)","v":0},{"$f":"VLOOKUP(F83,Hidden_Словник!$W$2:$X$13,2,FALSE)","v":{"$error":"#N/A"}},{"$f":"#REF!","v":{"$error":"#REF!"}},{"$error":"#N/A"}]
[null,"",{"$f":"IFERROR(VLOOKUP(A84,'1.Портфель кредитів'!A:Z,3,FALSE),\"\")","v":""},{"$f":"IFERROR(VLOOKUP(A84,'1.Портфель кредитів'!A:Z,7,FALSE),\"\")","v":""},{"$f":"IFERROR(VLOOKUP(A84,'1.Портфель кредитів'!A:Z,14,FALSE),\"\")","v":""},null,null,null,null,null,null,null,null,{"$f":"IFERROR(VLOOKUP(A84,'1.Портфель кредитів'!A:Z,30,FALSE),\"\")","v":""},0,{"$error":"#VALUE!"},null,null,null,null,null,{"$f":"VLOOKUP(C84,Hidden_Словник!$A$2:C$81,3,FALSE)","v":{"$error":"#N/A"}},0,{"$f":"VLOOKUP(F84,Hidden_Словник!$W$2:$X$13,2,FALSE)","v":{"$error":"#N/A"}},{"$f":"#REF!","v":{"$error":"#REF!"}},{"$error":"#N/A"}]
[null,"",{"$f":"IFERROR(VLOOKUP(A85,'1.Портфель кредитів'!A:Z,3,FALSE),\"\")","v":""},{"$f":"IFERROR(VLOOKUP(A85,'1.Портфель кредитів'!A:Z,7,FALSE),\"\")","v":""},{"$f":"IFERROR(VLOOKUP(A85,'1.Портфель кредитів'!A:Z,14,FALSE),\"\")","v":""},null,null,null,null,null,null,null,null,{"$f":"IFERROR(VLOOKUP(A85,'1.Портфель кредитів'!A:Z,30,FALSE),\"\")","v":""},0,{"$error":"#VALUE!"},null,null,null,null,null,{"$f":"VLOOKUP(C85,Hidden_Словник!$A$2:C$81,3,FALSE)","v":{"$error":"#N/A"}},0,{"$f":"VLOOKUP(F85,Hidden_Словник!$W$2:$X$13,2,FALSE)","v":{"$error":"#N/A"}},{"$f":"#REF!","v":{"$error":"#REF!"}},{"$error":"#N/A"}]
[null,"",{"$f":"IFERROR(VLOOKUP(A86,'1.Портфель кредитів'!A:Z,3,FALSE),\"\")","v":""},{"$f":"IFERROR(VLOOKUP(A86,'1.Портфель кредитів'!A:Z,7,FALSE),\"\")","v":""},{"$f":"IFERROR(VLOOKUP(A86,'1.Портфель кредитів'!A:Z,14,FALSE),\"\")","v":""},null,null,null,null,null,null,null,null,{"$f":"IFERROR(VLOOKUP(A86,'1.Портфель кредитів'!A:Z,30,FALSE),\"\")","v":""},0,{"$error":"#VALUE!"},null,null,null,null,null,{"$f":"VLOOKUP(C86,Hidden_Словник!$A$2:C$81,3,FALSE)","v":{"$error":"#N/A"}},0,{"$f":"VLOOKUP(F86,Hidden_Словник!$W$2:$X$13,2,FALSE)","v":{"$error":"#N/A"}},{"$f":"#REF!","v":{"$error":"#REF!"}},{"$error":"#N/A"}]
[null,"",{"$f":"IFERROR(VLOOKUP(A87,'1.Портфель кредитів'!A:Z,3,FALSE),\"\")","v":""},{"$f":"IFERROR(VLOOKUP(A87,'1.Портфель кредитів'!A:Z,7,FALSE),\"\")","v":""},{"$f":"IFERROR(VLOOKUP(A87,'1.Портфель кредитів'!A:Z,14,FALSE),\"\")","v":""},null,null,null,null,null,null,null,null,{"$f":"IFERROR(VLOOKUP(A87,'1.Портфель кредитів'!A:Z,30,FALSE),\"\")","v":""},{"$f":"SUMIF(B:B,B87,N:N)","v":0},{"$error":"#VALUE!"},null,null,null,null,null,{"$f":"VLOOKUP(C87,Hidden_Словник!$A$2:C$81,3,FALSE)","v":{"$error":"#N/A"}},0,{"$f":"VLOOKUP(F87,Hidden_Словник!$W$2:$X$13,2,FALSE)","v":{"$error":"#N/A"}},{"$f":"#REF!","v":{"$error":"#REF!"}},{"$error":"#N/A"}]
[null,"",{"$f":"IFERROR(VLOOKUP(A88,'1.Портфель кредитів'!A:Z,3,FALSE),\"\")","v":""},{"$f":"IFERROR(VLOOKUP(A88,'1.Портфель кредитів'!A:Z,7,FALSE),\"\")","v":""},{"$f":"IFERROR(VLOOKUP(A88,'1.Портфель кредитів'!A:Z,14,FALSE),\"\")","v":""},null,null,null,null,null,null,null,null,{"$f":"IFERROR(VLOOKUP(A88,'1.Портфель кредитів'!A:Z,30,FALSE),\"\")","v":""},0,{"$error":"#VALUE!"},null,null,null,null,null,{"$f":"VLOOKUP(C88,Hidden_Словник!$A$2:C$81,3,FALSE)","v":{"$error":"#N/A"}},0,{"$f":"VLOOKUP(F88,Hidden_Словник!$W$2:$X$13,2,FALSE)","v":{"$error":"#N/A"}},{"$f":"#REF!","v":{"$error":"#REF!"}},{"$error":"#N/A"}]
[null,"",{"$f":"IFERROR(VLOOKUP(A89,'1.Портфель кредитів'!A:Z,3,FALSE),\"\")","v":""},{"$f":"IFERROR(VLOOKUP(A89,'1.Портфель кредитів'!A:Z,7,FALSE),\"\")","v":""},{"$f":"IFERROR(VLOOKUP(A89,'1.Портфель кредитів'!A:Z,14,FALSE),\"\")","v":""},null,null,null,null,null,null,null,null,{"$f":"IFERROR(VLOOKUP(A89,'1.Портфель кредитів'!A:Z,30,FALSE),\"\")","v":""},0,{"$error":"#VALUE!"},null,null,null,null,null,{"$f":"VLOOKUP(C89,Hidden_Словник!$A$2:C$81,3,FALSE)","v":{"$error":"#N/A"}},0,{"$f":"VLOOKUP(F89,Hidden_Словник!$W$2:$X$13,2,FALSE)","v":{"$error":"#N/A"}},{"$f":"#REF!","v":{"$error":"#REF!"}},{"$error":"#N/A"}]
[null,"",{"$f":"IFERROR(VLOOKUP(A90,'1.Портфель кредитів'!A:Z,3,FALSE),\"\")","v":""},{"$f":"IFERROR(VLOOKUP(A90,'1.Портфель кредитів'!A:Z,7,FALSE),\"\")","v":""},{"$f":"IFERROR(VLOOKUP(A90,'1.Портфель кредитів'!A:Z,14,FALSE),\"\")","v":""},null,null,null,null,null,null,null,null,{"$f":"IFERROR(VLOOKUP(A90,'1.Портфель кредитів'!A:Z,30,FALSE),\"\")","v":""},0,{"$error":"#VALUE!"},null,null,null,null,null,{"$f":"VLOOKUP(C90,Hidden_Словник!$A$2:C$81,3,FALSE)","v":{"$error":"#N/A"}},0,{"$f":"VLOOKUP(F90,Hidden_Словник!$W$2:$X$13,2,FALSE)","v":{"$error":"#N/A"}},{"$f":"#REF!","v":{"$error":"#REF!"}},{"$error":"#N/A"}]
[null,"",{"$f":"IFERROR(VLOOKUP(A91,'1.Портфель кредитів'!A:Z,3,FALSE),\"\")","v":""},{"$f":"IFERROR(VLOOKUP(A91,'1.Портфель кредитів'!A:Z,7,FALSE),\"\")","v":""},{"$f":"IFERROR(VLOOKUP(A91,'1.Портфель кредитів'!A:Z,14,FALSE),\"\")","v":""},null,null,null,null,null,null,null,null,{"$f":"IFERROR(VLOOKUP(A91,'1.Портфель кредитів'!A:Z,30,FALSE),\"\")","v":""},0,{"$error":"#VALUE!"},null,null,null,null,null,{"$f":"VLOOKUP(C91,Hidden_Словник!$A$2:C$81,3,FALSE)","v":{"$error":"#N/A"}},0,{"$f":"VLOOKUP(F91,Hidden_Словник!$W$2:$X$13,2,FALSE)","v":{"$error":"#N/A"}},{"$f":"#REF!","v":{"$error":"#REF!"}},{"$error":"#N/A"}]
[null,"",{"$f":"IFERROR(VLOOKUP(A92,'1.Портфель кредитів'!A:Z,3,FALSE),\"\")","v":""},{"$f":"IFERROR(VLOOKUP(A92,'1.Портфель кредитів'!A:Z,7,FALSE),\"\")","v":""},{"$f":"IFERROR(VLOOKUP(A92,'1.Портфель кредитів'!A:Z,14,FALSE),\"\")","v":""},null,null,null,null,null,null,null,null,{"$f":"IFERROR(VLOOKUP(A92,'1.Портфель кредитів'!A:Z,30,FALSE),\"\")","v":""},0,{"$error":"#VALUE!"},null,null,null,null,null,{"$f":"VLOOKUP(C92,Hidden_Словник!$A$2:C$81,3,FALSE)","v":{"$error":"#N/A"}},0,{"$f":"VLOOKUP(F92,Hidden_Словник!$W$2:$X$13,2,FALSE)","v":{"$error":"#N/A"}},{"$f":"#REF!","v":{"$error":"#REF!"}},{"$error":"#N/A"}]
[null,"",{"$f":"IFERROR(VLOOKUP(A93,'1.Портфель кредитів'!A:Z,3,FALSE),\"\")","v":""},{"$f":"IFERROR(VLOOKUP(A93,'1.Портфель кредитів'!A:Z,7,FALSE),\"\")","v":""},{"$f":"IFERROR(VLOOKUP(A93,'1.Портфель кредитів'!A:Z,14,FALSE),\"\")","v":""},null,null,null,null,null,null,null,null,{"$f":"IFERROR(VLOOKUP(A93,'1.Портфель кредитів'!A:Z,30,FALSE),\"\")","v":""},0,{"$error":"#VALUE!"},null,null,null,null,null,{"$f":"VLOOKUP(C93,Hidden_Словник!$A$2:C$81,3,FALSE)","v":{"$error":"#N/A"}},0,{"$f":"VLOOKUP(F93,Hidden_Словник!$W$2:$X$13,2,FALSE)","v":{"$error":"#N/A"}},{"$f":"#REF!","v":{"$error":"#REF!"}},{"$error":"#N/A"}]
[null,"",{"$f":"IFERROR(VLOOKUP(A94,'1.Портфель кредитів'!A:Z,3,FALSE),\"\")","v":""},{"$f":"IFERROR(VLOOKUP(A94,'1.Портфель кредитів'!A:Z,7,FALSE),\"\")","v":""},{"$f":"IFERROR(VLOOKUP(A94,'1.Портфель кредитів'!A:Z,14,FALSE),\"\")","v":""},null,null,null,null,null,null,null,null,{"$f":"IFERROR(VLOOKUP(A94,'1.Портфель кредитів'!A:Z,30,FALSE),\"\")","v":""},0,{"$error":"#VALUE!"},null,null,null,null,null,{"$f":"VLOOKUP(C94,Hidden_Словник!$A$2:C$81,3,FALSE)","v":{"$error":"#N/A"}},0,{"$f":"VLOOKUP(F94,Hidden_Словник!$W$2:$X$13,2,FALSE)","v":{"$error":"#N/A"}},{"$f":"#REF!","v":{"$error":"#REF!"}},{"$error":"#N/A"}]
[null,"",{"$f":"IFERROR(VLOOKUP(A95,'1.Портфель кредитів'!A:Z,3,FALSE),\"\")","v":""},{"$f":"IFERROR(VLOOKUP(A95,'1.Портфель кредитів'!A:Z,7,FALSE),\"\")","v":""},{"$f":"IFERROR(VLOOKUP(A95,'1.Портфель кредитів'!A:Z,14,FALSE),\"\")","v":""},null,null,null,null,null,null,null,null,{"$f":"IFERROR(VLOOKUP(A95,'1.Портфель кредитів'!A:Z,30,FALSE),\"\")","v":""},0,{"$error":"#VALUE!"},null,null,null,null,null,{"$f":"VLOOKUP(C95,Hidden_Словник!$A$2:C$81,3,FALSE)","v":{"$error":"#N/A"}},0,{"$f":"VLOOKUP(F95,Hidden_Словник!$W$2:$X$13,2,FALSE)","v":{"$error":"#N/A"}},{"$f":"#REF!","v":{"$error":"#REF!"}},{"$error":"#N/A"}]
[null,"",{"$f":"IFERROR(VLOOKUP(A96,'1.Портфель кредитів'!A:Z,3,FALSE),\"\")","v":""},{"$f":"IFERROR(VLOOKUP(A96,'1.Портфель кредитів'!A:Z,7,FALSE),\"\")","v":""},{"$f":"IFERROR(VLOOKUP(A96,'1.Портфель кредитів'!A:Z,14,FALSE),\"\")","v":""},null,null,null,null,null,null,null,null,{"$f":"IFERROR(VLOOKUP(A96,'1.Портфель кредитів'!A:Z,30,FALSE),\"\")","v":""},0,{"$error":"#VALUE!"},null,null,null,null,null,{"$f":"VLOOKUP(C96,Hidden_Словник!$A$2:C$81,3,FALSE)","v":{"$error":"#N/A"}},0,{"$f":"VLOOKUP(F96,Hidden_Словник!$W$2:$X$13,2,FALSE)","v":{"$error":"#N/A"}},{"$f":"#REF!","v":{"$error":"#REF!"}},{"$error":"#N/A"}]
[null,"",{"$f":"IFERROR(VLOOKUP(A97,'1.Портфель кредитів'!A:Z,3,FALSE),\"\")","v":""},{"$f":"IFERROR(VLOOKUP(A97,'1.Портфель кредитів'!A:Z,7,FALSE),\"\")","v":""},{"$f":"IFERROR(VLOOKUP(A97,'1.Портфель кредитів'!A:Z,14,FALSE),\"\")","v":""},null,null,null,null,null,null,null,null,{"$f":"IFERROR(VLOOKUP(A97,'1.Портфель кредитів'!A:Z,30,FALSE),\"\")","v":""},0,{"$error":"#VALUE!"},null,null,null,null,null,{"$f":"VLOOKUP(C97,Hidden_Словник!$A$2:C$81,3,FALSE)","v":{"$error":"#N/A"}},0,{"$f":"VLOOKUP(F97,Hidden_Словник!$W$2:$X$13,2,FALSE)","v":{"$error":"#N/A"}},{"$f":"#REF!","v":{"$error":"#REF!"}},{"$error":"#N/A"}]
[null,"",{"$f":"IFERROR(VLOOKUP(A98,'1.Портфель кредитів'!A:Z,3,FALSE),\"\")","v":""},{"$f":"IFERROR(VLOOKUP(A98,'1.Портфель кредитів'!A:Z,7,FALSE),\"\")","v":""},{"$f":"IFERROR(VLOOKUP(A98,'1.Портфель кредитів'!A:Z,14,FALSE),\"\")","v":""},null,null,null,null,null,null,null,null,{"$f":"IFERROR(VLOOKUP(A98,'1.Портфель кредитів'!A:Z,30,FALSE),\"\")","v":""},0,{"$error":"#VALUE!"},null,null,null,null,null,{"$f":"VLOOKUP(C98,Hidden_Словник!$A$2:C$81,3,FALSE)","v":{"$error":"#N/A"}},0,{"$f":"VLOOKUP(F98,Hidden_Словник!$W$2:$X$13,2,FALSE)","v":{"$error":"#N/A"}},{"$f":"#REF!","v":{"$error":"#REF!"}},{"$error":"#N/A"}]
[null,"",{"$f":"IFERROR(VLOOKUP(A99,'1.Портфель кредитів'!A:Z,3,FALSE),\"\")","v":""},{"$f":"IFERROR(VLOOKUP(A99,'1.Портфель кредитів'!A:Z,7,FALSE),\"\")","v":""},{"$f":"IFERROR(VLOOKUP(A99,'1.Портфель кредитів'!A:Z,14,FALSE),\"\")","v":""},null,null,null,null,null,null,null,null,{"$f":"IFERROR(VLOOKUP(A99,'1.Портфель кредитів'!A:Z,30,FALSE),\"\")","v":""},0,{"$error":"#VALUE!"},null,null,null,null,null,{"$f":"VLOOKUP(C99,Hidden_Словник!$A$2:C$81,3,FALSE)","v":{"$error":"#N/A"}},0,{"$f":"VLOOKUP(F99,Hidden_Словник!$W$2:$X$13,2,FALSE)","v":{"$error":"#N/A"}},{"$f":"#REF!","v":{"$error":"#REF!"}},{"$error":"#N/A"}]
[null,"",{"$f":"IFERROR(VLOOKUP(A100,'1.Портфель кредитів'!A:Z,3,FALSE),\"\")","v":""},{"$f":"IFERROR(VLOOKUP(A100,'1.Портфель кредитів'!A:Z,7,FALSE),\"\")","v":""},{"$f":"IFERROR(VLOOKUP(A100,'1.Портфель кредитів'!A:Z,14,FALSE),\"\")","v":""},null,null,null,null,null,null,null,null,{"$f":"IFERROR(VLOOKUP(A100,'1.Портфель кредитів'!A:Z,30,FALSE),\"\")","v":""},0,{"$error":"#VALUE!"},null,null,null,null,null,{"$f":"VLOOKUP(C100,Hidden_Словник!$A$2:C$81,3,FALSE)","v":{"$error":"#N/A"}},0,{"$f":"VLOOKUP(F100,Hidden_Словник!$W$2:$X$13,2,FALSE)","v":{"$error":"#N/A"}},{"$f":"#REF!","v":{"$error":"#REF!"}},{"$error":"#N/A"}]
[null,"",{"$f":"IFERROR(VLOOKUP(A101,'1.Портфель кредитів'!A:Z,3,FALSE),\"\")","v":""},{"$f":"IFERROR(VLOOKUP(A101,'1.Портфель кредитів'!A:Z,7,FALSE),\"\")","v":""},{"$f":"IFERROR(VLOOKUP(A101,'1.Портфель кредитів'!A:Z,14,FALSE),\"\")","v":""},null,null,null,null,null,null,null,null,{"$f":"IFERROR(VLOOKUP(A101,'1.Портфель кредитів'!A:Z,30,FALSE),\"\")","v":""},0,{"$error":"#VALUE!"},null,null,null,null,null,{"$f":"VLOOKUP(C101,Hidden_Словник!$A$2:C$81,3,FALSE)","v":{"$error":"#N/A"}},0,{"$f":"VLOOKUP(F101,Hidden_Словник!$W$2:$X$13,2,FALSE)","v":{"$error":"#N/A"}},{"$f":"#REF!","v":{"$error":"#REF!"}},{"$error":"#N/A"}]
[null,"",{"$f":"IFERROR(VLOOKUP(A102,'1.Портфель кредитів'!A:Z,3,FALSE),\"\")","v":""},{"$f":"IFERROR(VLOOKUP(A102,'1.Портфель кредитів'!A:Z,7,FALSE),\"\")","v":""},{"$f":"IFERROR(VLOOKUP(A102,'1.Портфель кредитів'!A:Z,14,FALSE),\"\")","v":""},null,null,null,null,null,null,null,null,{"$f":"IFERROR(VLOOKUP(A102,'1.Портфель кредитів'!A:Z,30,FALSE),\"\")","v":""},0,{"$f":"N102/O102","v":{"$error":"#VALUE!"}},null,null,null,null,null,{"$f":"VLOOKUP(C102,Hidden_Словник!$A$2:C$81,3,FALSE)","v":{"$error":"#N/A"}},0,{"$f":"VLOOKUP(F102,Hidden_Словник!$W$2:$X$13,2,FALSE)","v":{"$error":"#N/A"}},{"$f":"#REF!","v":{"$error":"#REF!"}},{"$error":"#N/A"}]
[null,"",{"$f":"IFERROR(VLOOKUP(A103,'1.Портфель кредитів'!A:Z,3,FALSE),\"\")","v":""},{"$f":"IFERROR(VLOOKUP(A103,'1.Портфель кредитів'!A:Z,7,FALSE),\"\")","v":""},{"$f":"IFERROR(VLOOKUP(A103,'1.Портфель кредитів'!A:Z,14,FALSE),\"\")","v":""},null,null,null,null,null,null,null,null,{"$f":"IFERROR(VLOOKUP(A103,'1.Портфель кредитів'!A:Z,30,FALSE),\"\")","v":""},0,{"$error":"#VALUE!"},null,null,null,null,null,{"$f":"VLOOKUP(C103,Hidden_Словник!$A$2:C$81,3,FALSE)","v":{"$error":"#N/A"}},0,{"$f":"VLOOKUP(F103,Hidden_Словник!$W$2:$X$13,2,FALSE)","v":{"$error":"#N/A"}},{"$f":"#REF!","v":{"$error":"#REF!"}},{"$error":"#N/A"}]
[null,"",{"$f":"IFERROR(VLOOKUP(A104,'1.Портфель кредитів'!A:Z,3,FALSE),\"\")","v":""},{"$f":"IFERROR(VLOOKUP(A104,'1.Портфель кредитів'!A:Z,7,FALSE),\"\")","v":""},{"$f":"IFERROR(VLOOKUP(A104,'1.Портфель кредитів'!A:Z,14,FALSE),\"\")","v":""},null,null,null,null,null,null,null,null,{"$f":"IFERROR(VLOOKUP(A104,'1.Портфель кредитів'!A:Z,30,FALSE),\"\")","v":""},0,{"$error":"#VALUE!"},null,null,null,null,null,{"$f":"VLOOKUP(C104,Hidden_Словник!$A$2:C$81,3,FALSE)","v":{"$error":"#N/A"}},0,{"$f":"VLOOKUP(F104,Hidden_Словник!$W$2:$X$13,2,FALSE)","v":{"$error":"#N/A"}},{"$f":"#REF!","v":{"$error":"#REF!"}},{"$error":"#N/A"}]
[null,"",{"$f":"IFERROR(VLOOKUP(A105,'1.Портфель кредитів'!A:Z,3,FALSE),\"\")","v":""},{"$f":"IFERROR(VLOOKUP(A105,'1.Портфель кредитів'!A:Z,7,FALSE),\"\")","v":""},{"$f":"IFERROR(VLOOKUP(A105,'1.Портфель кредитів'!A:Z,14,FALSE),\"\")","v":""},null,null,null,null,null,null,null,null,{"$f":"IFERROR(VLOOKUP(A105,'1.Портфель кредитів'!A:Z,30,FALSE),\"\")","v":""},0,{"$error":"#VALUE!"},null,null,null,null,null,{"$f":"VLOOKUP(C105,Hidden_Словник!$A$2:C$81,3,FALSE)","v":{"$error":"#N/A"}},0,{"$f":"VLOOKUP(F105,Hidden_Словник!$W$2:$X$13,2,FALSE)","v":{"$error":"#N/A"}},{"$f":"#REF!","v":{"$error":"#REF!"}},{"$error":"#N/A"}]
[null,"",{"$f":"IFERROR(VLOOKUP(A106,'1.Портфель кредитів'!A:Z,3,FALSE),\"\")","v":""},{"$f":"IFERROR(VLOOKUP(A106,'1.Портфель кредитів'!A:Z,7,FALSE),\"\")","v":""},{"$f":"IFERROR(VLOOKUP(A106,'1.Портфель кредитів'!A:Z,14,FALSE),\"\")","v":""},null,null,null,null,null,null,null,null,{"$f":"IFERROR(VLOOKUP(A106,'1.Портфель кредитів'!A:Z,30,FALSE),\"\")","v":""},0,{"$error":"#VALUE!"},null,null,null,null,null,{"$f":"VLOOKUP(C106,Hidden_Словник!$A$2:C$81,3,FALSE)","v":{"$error":"#N/A"}},0,{"$f":"VLOOKUP(F106,Hidden_Словник!$W$2:$X$13,2,FALSE)","v":{"$error":"#N/A"}},{"$f":"#REF!","v":{"$error":"#REF!"}},{"$error":"#N/A"}]
[null,"",{"$f":"IFERROR(VLOOKUP(A107,'1.Портфель кредитів'!A:Z,3,FALSE),\"\")","v":""},{"$f":"IFERROR(VLOOKUP(A107,'1.Портфель кредитів'!A:Z,7,FALSE),\"\")","v":""},{"$f":"IFERROR(VLOOKUP(A107,'1.Портфель кредитів'!A:Z,14,FALSE),\"\")","v":""},null,null,null,null,null,null,null,null,{"$f":"IFERROR(VLOOKUP(A107,'1.Портфель кредитів'!A:Z,30,FALSE),\"\")","v":""},0,{"$error":"#VALUE!"},null,null,null,null,null,{"$f":"VLOOKUP(C107,Hidden_Словник!$A$2:C$81,3,FALSE)","v":{"$error":"#N/A"}},0,{"$f":"VLOOKUP(F107,Hidden_Словник!$W$2:$X$13,2,FALSE)","v":{"$error":"#N/A"}},{"$f":"#REF!","v":{"$error":"#REF!"}},{"$error":"#N/A"}]
[null,"",{"$f":"IFERROR(VLOOKUP(A108,'1.Портфель кредитів'!A:Z,3,FALSE),\"\")","v":""},{"$f":"IFERROR(VLOOKUP(A108,'1.Портфель кредитів'!A:Z,7,FALSE),\"\")","v":""},{"$f":"IFERROR(VLOOKUP(A108,'1.Портфель кредитів'!A:Z,14,FALSE),\"\")","v":""},null,null,null,null,null,null,null,null,{"$f":"IFERROR(VLOOKUP(A108,'1.Портфель кредитів'!A:Z,30,FALSE),\"\")","v":""},0,{"$error":"#VALUE!"},null,null,null,null,null,{"$f":"VLOOKUP(C108,Hidden_Словник!$A$2:C$81,3,FALSE)","v":{"$error":"#N/A"}},0,{"$f":"VLOOKUP(F108,Hidden_Словник!$W$2:$X$13,2,FALSE)","v":{"$error":"#N/A"}},{"$f":"#REF!","v":{"$error":"#REF!"}},{"$error":"#N/A"}]
[null,"",{"$f":"IFERROR(VLOOKUP(A109,'1.Портфель кредитів'!A:Z,3,FALSE),\"\")","v":""},{"$f":"IFERROR(VLOOKUP(A109,'1.Портфель кредитів'!A:Z,7,FALSE),\"\")","v":""},{"$f":"IFERROR(VLOOKUP(A109,'1.Портфель кредитів'!A:Z,14,FALSE),\"\")","v":""},null,null,null,null,null,null,null,null,{"$f":"IFERROR(VLOOKUP(A109,'1.Портфель кредитів'!A:Z,30,FALSE),\"\")","v":""},0,{"$error":"#VALUE!"},null,null,null,null,null,{"$f":"VLOOKUP(C109,Hidden_Словник!$A$2:C$81,3,FALSE)","v":{"$error":"#N/A"}},0,{"$f":"VLOOKUP(F109,Hidden_Словник!$W$2:$X$13,2,FALSE)","v":{"$error":"#N/A"}},{"$f":"#REF!","v":{"$error":"#REF!"}},{"$error":"#N/A"}]
[null,"",{"$f":"IFERROR(VLOOKUP(A110,'1.Портфель кредитів'!A:Z,3,FALSE),\"\")","v":""},{"$f":"IFERROR(VLOOKUP(A110,'1.Портфель кредитів'!A:Z,7,FALSE),\"\")","v":""},{"$f":"IFERROR(VLOOKUP(A110,'1.Портфель кредитів'!A:Z,14,FALSE),\"\")","v":""},null,null,null,null,null,null,null,null,{"$f":"IFERROR(VLOOKUP(A110,'1.Портфель кредитів'!A:Z,30,FALSE),\"\")","v":""},0,{"$error":"#VALUE!"},null,null,null,null,null,{"$f":"VLOOKUP(C110,Hidden_Словник!$A$2:C$81,3,FALSE)","v":{"$error":"#N/A"}},0,{"$f":"VLOOKUP(F110,Hidden_Словник!$W$2:$X$13,2,FALSE)","v":{"$error":"#N/A"}},{"$f":"#REF!","v":{"$error":"#REF!"}},{"$error":"#N/A"}]
[null,"",{"$f":"IFERROR(VLOOKUP(A111,'1.Портфель кредитів'!A:Z,3,FALSE),\"\")","v":""},{"$f":"IFERROR(VLOOKUP(A111,'1.Портфель кредитів'!A:Z,7,FALSE),\"\")","v":""},{"$f":"IFERROR(VLOOKUP(A111,'1.Портфель кредитів'!A:Z,14,FALSE),\"\")","v":""},null,null,null,null,null,null,null,null,{"$f":"IFERROR(VLOOKUP(A111,'1.Портфель кредитів'!A:Z,30,FALSE),\"\")","v":""},0,{"$error":"#VALUE!"},null,null,null,null,null,{"$f":"VLOOKUP(C111,Hidden_Словник!$A$2:C$81,3,FALSE)","v":{"$error":"#N/A"}},0,{"$f":"VLOOKUP(F111,Hidden_Словник!$W$2:$X$13,2,FALSE)","v":{"$error":"#N/A"}},{"$f":"#REF!","v":{"$error":"#REF!"}},{"$error":"#N/A"}]
[null,"",{"$f":"IFERROR(VLOOKUP(A112,'1.Портфель кредитів'!A:Z,3,FALSE),\"\")","v":""},{"$f":"IFERROR(VLOOKUP(A112,'1.Портфель кредитів'!A:Z,7,FALSE),\"\")","v":""},{"$f":"IFERROR(VLOOKUP(A112,'1.Портфель кредитів'!A:Z,14,FALSE),\"\")","v":""},null,null,null,null,null,null,null,null,{"$f":"IFERROR(VLOOKUP(A112,'1.Портфель кредитів'!A:Z,30,FALSE),\"\")","v":""},0,{"$error":"#VALUE!"},null,null,null,null,null,{"$f":"VLOOKUP(C112,Hidden_Словник!$A$2:C$81,3,FALSE)","v":{"$error":"#N/A"}},0,{"$f":"VLOOKUP(F112,Hidden_Словник!$W$2:$X$13,2,FALSE)","v":{"$error":"#N/A"}},{"$f":"#REF!","v":{"$error":"#REF!"}},{"$error":"#N/A"}]
[null,"",{"$f":"IFERROR(VLOOKUP(A113,'1.Портфель кредитів'!A:Z,3,FALSE),\"\")","v":""},{"$f":"IFERROR(VLOOKUP(A113,'1.Портфель кредитів'!A:Z,7,FALSE),\"\")","v":""},{"$f":"IFERROR(VLOOKUP(A113,'1.Портфель кредитів'!A:Z,14,FALSE),\"\")","v":""},null,null,null,null,null,null,null,null,{"$f":"IFERROR(VLOOKUP(A113,'1.Портфель кредитів'!A:Z,30,FALSE),\"\")","v":""},0,{"$error":"#VALUE!"},null,null,null,null,null,{"$f":"VLOOKUP(C113,Hidden_Словник!$A$2:C$81,3,FALSE)","v":{"$error":"#N/A"}},0,{"$f":"VLOOKUP(F113,Hidden_Словник!$W$2:$X$13,2,FALSE)","v":{"$error":"#N/A"}},{"$f":"#REF!","v":{"$error":"#REF!"}},{"$error":"#N/A"}]
[null,"",{"$f":"IFERROR(VLOOKUP(A114,'1.Портфель кредитів'!A:Z,3,FALSE),\"\")","v":""},{"$f":"IFERROR(VLOOKUP(A114,'1.Портфель кредитів'!A:Z,7,FALSE),\"\")","v":""},{"$f":"IFERROR(VLOOKUP(A114,'1.Портфель кредитів'!A:Z,14,FALSE),\"\")","v":""},null,null,null,null,null,null,null,null,{"$f":"IFERROR(VLOOKUP(A114,'1.Портфель кредитів'!A:Z,30,FALSE),\"\")","v":""},0,{"$error":"#VALUE!"},null,null,null,null,null,{"$f":"VLOOKUP(C114,Hidden_Словник!$A$2:C$81,3,FALSE)","v":{"$error":"#N/A"}},0,{"$f":"VLOOKUP(F114,Hidden_Словник!$W$2:$X$13,2,FALSE)","v":{"$error":"#N/A"}},{"$f":"#REF!","v":{"$error":"#REF!"}},{"$error":"#N/A"}]
[null,"",{"$f":"IFERROR(VLOOKUP(A115,'1.Портфель кредитів'!A:Z,3,FALSE),\"\")","v":""},{"$f":"IFERROR(VLOOKUP(A115,'1.Портфель кредитів'!A:Z,7,FALSE),\"\")","v":""},{"$f":"IFERROR(VLOOKUP(A115,'1.Портфель кредитів'!A:Z,14,FALSE),\"\")","v":""},null,null,null,null,null,null,null,null,{"$f":"IFERROR(VLOOKUP(A115,'1.Портфель кредитів'!A:Z,30,FALSE),\"\")","v":""},0,{"$error":"#VALUE!"},null,null,null,null,null,{"$f":"VLOOKUP(C115,Hidden_Словник!$A$2:C$81,3,FALSE)","v":{"$error":"#N/A"}},0,{"$f":"VLOOKUP(F115,Hidden_Словник!$W$2:$X$13,2,FALSE)","v":{"$error":"#N/A"}},{"$f":"#REF!","v":{"$error":"#REF!"}},{"$error":"#N/A"}]
[null,"",{"$f":"IFERROR(VLOOKUP(A116,'1.Портфель кредитів'!A:Z,3,FALSE),\"\")","v":""},{"$f":"IFERROR(VLOOKUP(A116,'1.Портфель кредитів'!A:Z,7,FALSE),\"\")","v":""},{"$f":"IFERROR(VLOOKUP(A116,'1.Портфель кредитів'!A:Z,14,FALSE),\"\")","v":""},null,null,null,null,null,null,null,null,{"$f":"IFERROR(VLOOKUP(A116,'1.Портфель кредитів'!A:Z,30,FALSE),\"\")","v":""},0,{"$error":"#VALUE!"},null,null,null,null,null,{"$f":"VLOOKUP(C116,Hidden_Словник!$A$2:C$81,3,FALSE)","v":{"$error":"#N/A"}},0,{"$f":"VLOOKUP(F116,Hidden_Словник!$W$2:$X$13,2,FALSE)","v":{"$error":"#N/A"}},{"$f":"#REF!","v":{"$error":"#REF!"}},{"$error":"#N/A"}]
[null,"",{"$f":"IFERROR(VLOOKUP(A117,'1.Портфель кредитів'!A:Z,3,FALSE),\"\")","v":""},{"$f":"IFERROR(VLOOKUP(A117,'1.Портфель кредитів'!A:Z,7,FALSE),\"\")","v":""},{"$f":"IFERROR(VLOOKUP(A117,'1.Портфель кредитів'!A:Z,14,FALSE),\"\")","v":""},null,null,null,null,null,null,null,null,{"$f":"IFERROR(VLOOKUP(A117,'1.Портфель кредитів'!A:Z,30,FALSE),\"\")","v":""},0,{"$error":"#VALUE!"},null,null,null,null,null,{"$f":"VLOOKUP(C117,Hidden_Словник!$A$2:C$81,3,FALSE)","v":{"$error":"#N/A"}},0,{"$f":"VLOOKUP(F117,Hidden_Словник!$W$2:$X$13,2,FALSE)","v":{"$error":"#N/A"}},{"$f":"#REF!","v":{"$error":"#REF!"}},{"$error":"#N/A"}]
[null,"",{"$f":"IFERROR(VLOOKUP(A118,'1.Портфель кредитів'!A:Z,3,FALSE),\"\")","v":""},{"$f":"IFERROR(VLOOKUP(A118,'1.Портфель кредитів'!A:Z,7,FALSE),\"\")","v":""},{"$f":"IFERROR(VLOOKUP(A118,'1.Портфель кредитів'!A:Z,14,FALSE),\"\")","v":""},null,null,null,null,null,null,null,null,{"$f":"IFERROR(VLOOKUP(A118,'1.Портфель кредитів'!A:Z,30,FALSE),\"\")","v":""},0,{"$error":"#VALUE!"},null,null,null,null,null,{"$f":"VLOOKUP(C118,Hidden_Словник!$A$2:C$81,3,FALSE)","v":{"$error":"#N/A"}},0,{"$f":"VLOOKUP(F118,Hidden_Словник!$W$2:$X$13,2,FALSE)","v":{"$error":"#N/A"}},{"$f":"#REF!","v":{"$error":"#REF!"}},{"$error":"#N/A"}]
[null,"",{"$f":"IFERROR(VLOOKUP(A119,'1.Портфель кредитів'!A:Z,3,FALSE),\"\")","v":""},{"$f":"IFERROR(VLOOKUP(A119,'1.Портфель кредитів'!A:Z,7,FALSE),\"\")","v":""},{"$f":"IFERROR(VLOOKUP(A119,'1.Портфель кредитів'!A:Z,14,FALSE),\"\")","v":""},null,null,null,null,null,null,null,null,{"$f":"IFERROR(VLOOKUP(A119,'1.Портфель кредитів'!A:Z,30,FALSE),\"\")","v":""},0,{"$error":"#VALUE!"},null,null,null,null,null,{"$f":"VLOOKUP(C119,Hidden_Словник!$A$2:C$81,3,FALSE)","v":{"$error":"#N/A"}},0,{"$f":"VLOOKUP(F119,Hidden_Словник!$W$2:$X$13,2,FALSE)","v":{"$error":"#N/A"}},{"$f":"#REF!","v":{"$error":"#REF!"}},{"$error":"#N/A"}]
[null,"",{"$f":"IFERROR(VLOOKUP(A120,'1.Портфель кредитів'!A:Z,3,FALSE),\"\")","v":""},{"$f":"IFERROR(VLOOKUP(A120,'1.Портфель кредитів'!A:Z,7,FALSE),\"\")","v":""},{"$f":"IFERROR(VLOOKUP(A120,'1.Портфель кредитів'!A:Z,14,FALSE),\"\")","v":""},null,null,null,null,null,null,null,null,{"$f":"IFERROR(VLOOKUP(A120,'1.Портфель кредитів'!A:Z,30,FALSE),\"\")","v":""},0,{"$error":"#VALUE!"},null,null,null,null,null,{"$f":"VLOOKUP(C120,Hidden_Словник!$A$2:C$81,3,FALSE)","v":{"$error":"#N/A"}},0,{"$f":"VLOOKUP(F120,Hidden_Словник!$W$2:$X$13,2,FALSE)","v":{"$error":"#N/A"}},{"$f":"#REF!","v":{"$error":"#REF!"}},{"$error":"#N/A"}]
[null,"",{"$f":"IFERROR(VLOOKUP(A121,'1.Портфель кредитів'!A:Z,3,FALSE),\"\")","v":""},{"$f":"IFERROR(VLOOKUP(A121,'1.Портфель кредитів'!A:Z,7,FALSE),\"\")","v":""},{"$f":"IFERROR(VLOOKUP(A121,'1.Портфель кредитів'!A:Z,14,FALSE),\"\")","v":""},null,null,null,null,null,null,null,null,{"$f":"IFERROR(VLOOKUP(A121,'1.Портфель кредитів'!A:Z,30,FALSE),\"\")","v":""},0,{"$error":"#VALUE!"},null,null,null,null,null,{"$f":"VLOOKUP(C121,Hidden_Словник!$A$2:C$81,3,FALSE)","v":{"$error":"#N/A"}},0,{"$f":"VLOOKUP(F121,Hidden_Словник!$W$2:$X$13,2,FALSE)","v":{"$error":"#N/A"}},{"$f":"#REF!","v":{"$error":"#REF!"}},{"$error":"#N/A"}]
[null,"",{"$f":"IFERROR(VLOOKUP(A122,'1.Портфель кредитів'!A:Z,3,FALSE),\"\")","v":""},{"$f":"IFERROR(VLOOKUP(A122,'1.Портфель кредитів'!A:Z,7,FALSE),\"\")","v":""},{"$f":"IFERROR(VLOOKUP(A122,'1.Портфель кредитів'!A:Z,14,FALSE),\"\")","v":""},null,null,null,null,null,null,null,null,{"$f":"IFERROR(VLOOKUP(A122,'1.Портфель кредитів'!A:Z,30,FALSE),\"\")","v":""},0,{"$error":"#VALUE!"},null,null,null,null,null,{"$f":"VLOOKUP(C122,Hidden_Словник!$A$2:C$81,3,FALSE)","v":{"$error":"#N/A"}},0,{"$f":"VLOOKUP(F122,Hidden_Словник!$W$2:$X$13,2,FALSE)","v":{"$error":"#N/A"}},{"$f":"#REF!","v":{"$error":"#REF!"}},{"$error":"#N/A"}]
[null,"",{"$f":"IFERROR(VLOOKUP(A123,'1.Портфель кредитів'!A:Z,3,FALSE),\"\")","v":""},{"$f":"IFERROR(VLOOKUP(A123,'1.Портфель кредитів'!A:Z,7,FALSE),\"\")","v":""},{"$f":"IFERROR(VLOOKUP(A123,'1.Портфель кредитів'!A:Z,14,FALSE),\"\")","v":""},null,null,null,null,null,null,null,null,{"$f":"IFERROR(VLOOKUP(A123,'1.Портфель кредитів'!A:Z,30,FALSE),\"\")","v":""},0,{"$error":"#VALUE!"},null,null,null,null,null,{"$f":"VLOOKUP(C123,Hidden_Словник!$A$2:C$81,3,FALSE)","v":{"$error":"#N/A"}},0,{"$f":"VLOOKUP(F123,Hidden_Словник!$W$2:$X$13,2,FALSE)","v":{"$error":"#N/A"}},{"$f":"#REF!","v":{"$error":"#REF!"}},{"$error":"#N/A"}]
[null,"",{"$f":"IFERROR(VLOOKUP(A124,'1.Портфель кредитів'!A:Z,3,FALSE),\"\")","v":""},{"$f":"IFERROR(VLOOKUP(A124,'1.Портфель кредитів'!A:Z,7,FALSE),\"\")","v":""},{"$f":"IFERROR(VLOOKUP(A124,'1.Портфель кредитів'!A:Z,14,FALSE),\"\")","v":""},null,null,null,null,null,null,null,null,{"$f":"IFERROR(VLOOKUP(A124,'1.Портфель кредитів'!A:Z,30,FALSE),\"\")","v":""},0,{"$error":"#VALUE!"},null,null,null,null,null,{"$f":"VLOOKUP(C124,Hidden_Словник!$A$2:C$81,3,FALSE)","v":{"$error":"#N/A"}},0,{"$f":"VLOOKUP(F124,Hidden_Словник!$W$2:$X$13,2,FALSE)","v":{"$error":"#N/A"}},{"$f":"#REF!","v":{"$error":"#REF!"}},{"$error":"#N/A"}]
[null,"",{"$f":"IFERROR(VLOOKUP(A125,'1.Портфель кредитів'!A:Z,3,FALSE),\"\")","v":""},{"$f":"IFERROR(VLOOKUP(A125,'1.Портфель кредитів'!A:Z,7,FALSE),\"\")","v":""},{"$f":"IFERROR(VLOOKUP(A125,'1.Портфель кредитів'!A:Z,14,FALSE),\"\")","v":""},null,null,null,null,null,null,null,null,{"$f":"IFERROR(VLOOKUP(A125,'1.Портфель кредитів'!A:Z,30,FALSE),\"\")","v":""},0,{"$error":"#VALUE!"},null,null,null,null,null,{"$f":"VLOOKUP(C125,Hidden_Словник!$A$2:C$81,3,FALSE)","v":{"$error":"#N/A"}},0,{"$f":"VLOOKUP(F125,Hidden_Словник!$W$2:$X$13,2,FALSE)","v":{"$error":"#N/A"}},{"$f":"#REF!","v":{"$error":"#REF!"}},{"$error":"#N/A"}]
[null,{"$f":"IFERROR(Z126,\"\")","v":""},{"$f":"IFERROR(VLOOKUP(A126,'1.Портфель кредитів'!A:Z,3,FALSE),\"\")","v":""},{"$f":"IFERROR(VLOOKUP(A126,'1.Портфель кредитів'!A:Z,7,FALSE),\"\")","v":""},{"$f":"IFERROR(VLOOKUP(A126,'1.Портфель кредитів'!A:Z,14,FALSE),\"\")","v":""},null,null,null,null,null,null,null,null,{"$f":"IFERROR(VLOOKUP(A126,'1.Портфель кредитів'!A:Z,30,FALSE),\"\")","v":""},0,{"$error":"#VALUE!"},null,null,null,null,null,{"$f":"VLOOKUP(C126,Hidden_Словник!$A$2:C$81,3,FALSE)","v":{"$error":"#N/A"}},0,{"$f":"VLOOKUP(F126,Hidden_Словник!$W$2:$X$13,2,FALSE)","v":{"$error":"#N/A"}},{"$f":"#REF!","v":{"$error":"#REF!"}},{"$f":"V126&\"_\"&W126&X126&Y126","v":{"$error":"#N/A"}}]
[null,"",{"$f":"IFERROR(VLOOKUP(A127,'1.Портфель кредитів'!A:Z,3,FALSE),\"\")","v":""},{"$f":"IFERROR(VLOOKUP(A127,'1.Портфель кредитів'!A:Z,7,FALSE),\"\")","v":""},{"$f":"IFERROR(VLOOKUP(A127,'1.Портфель кредитів'!A:Z,14,FALSE),\"\")","v":""},null,null,null,null,null,null,null,null,{"$f":"IFERROR(VLOOKUP(A127,'1.Портфель кредитів'!A:Z,30,FALSE),\"\")","v":""},0,{"$error":"#VALUE!"},null,null,null,null,null,{"$f":"VLOOKUP(C127,Hidden_Словник!$A$2:C$81,3,FALSE)","v":{"$error":"#N/A"}},0,{"$f":"VLOOKUP(F127,Hidden_Словник!$W$2:$X$13,2,FALSE)","v":{"$error":"#N/A"}},{"$f":"#REF!","v":{"$error":"#REF!"}},{"$error":"#N/A"}]
[null,"",{"$f":"IFERROR(VLOOKUP(A128,'1.Портфель кредитів'!A:Z,3,FALSE),\"\")","v":""},{"$f":"IFERROR(VLOOKUP(A128,'1.Портфель кредитів'!A:Z,7,FALSE),\"\")","v":""},{"$f":"IFERROR(VLOOKUP(A128,'1.Портфель кредитів'!A:Z,14,FALSE),\"\")","v":""},null,null,null,null,null,null,null,null,{"$f":"IFERROR(VLOOKUP(A128,'1.Портфель кредитів'!A:Z,30,FALSE),\"\")","v":""},0,{"$error":"#VALUE!"},null,null,null,null,null,{"$f":"VLOOKUP(C128,Hidden_Словник!$A$2:C$81,3,FALSE)","v":{"$error":"#N/A"}},0,{"$f":"VLOOKUP(F128,Hidden_Словник!$W$2:$X$13,2,FALSE)","v":{"$error":"#N/A"}},{"$f":"#REF!","v":{"$error":"#REF!"}},{"$error":"#N/A"}]
[null,"",{"$f":"IFERROR(VLOOKUP(A129,'1.Портфель кредитів'!A:Z,3,FALSE),\"\")","v":""},{"$f":"IFERROR(VLOOKUP(A129,'1.Портфель кредитів'!A:Z,7,FALSE),\"\")","v":""},{"$f":"IFERROR(VLOOKUP(A129,'1.Портфель кредитів'!A:Z,14,FALSE),\"\")","v":""},null,null,null,null,null,null,null,null,{"$f":"IFERROR(VLOOKUP(A129,'1.Портфель кредитів'!A:Z,30,FALSE),\"\")","v":""},0,{"$error":"#VALUE!"},null,null,null,null,null,{"$f":"VLOOKUP(C129,Hidden_Словник!$A$2:C$81,3,FALSE)","v":{"$error":"#N/A"}},0,{"$f":"VLOOKUP(F129,Hidden_Словник!$W$2:$X$13,2,FALSE)","v":{"$error":"#N/A"}},{"$f":"#REF!","v":{"$error":"#REF!"}},{"$error":"#N/A"}]
[null,"",{"$f":"IFERROR(VLOOKUP(A130,'1.Портфель кредитів'!A:Z,3,FALSE),\"\")","v":""},{"$f":"IFERROR(VLOOKUP(A130,'1.Портфель кредитів'!A:Z,7,FALSE),\"\")","v":""},{"$f":"IFERROR(VLOOKUP(A130,'1.Портфель кредитів'!A:Z,14,FALSE),\"\")","v":""},null,null,null,null,null,null,null,null,{"$f":"IFERROR(VLOOKUP(A130,'1.Портфель кредитів'!A:Z,30,FALSE),\"\")","v":""},0,{"$error":"#VALUE!"},null,null,null,null,null,{"$f":"VLOOKUP(C130,Hidden_Словник!$A$2:C$81,3,FALSE)","v":{"$error":"#N/A"}},0,{"$f":"VLOOKUP(F130,Hidden_Словник!$W$2:$X$13,2,FALSE)","v":{"$error":"#N/A"}},{"$f":"#REF!","v":{"$error":"#REF!"}},{"$error":"#N/A"}]
[null,"",{"$f":"IFERROR(VLOOKUP(A131,'1.Портфель кредитів'!A:Z,3,FALSE),\"\")","v":""},{"$f":"IFERROR(VLOOKUP(A131,'1.Портфель кредитів'!A:Z,7,FALSE),\"\")","v":""},{"$f":"IFERROR(VLOOKUP(A131,'1.Портфель кредитів'!A:Z,14,FALSE),\"\")","v":""},null,null,null,null,null,null,null,null,{"$f":"IFERROR(VLOOKUP(A131,'1.Портфель кредитів'!A:Z,30,FALSE),\"\")","v":""},0,{"$error":"#VALUE!"},null,null,null,null,null,{"$f":"VLOOKUP(C131,Hidden_Словник!$A$2:C$81,3,FALSE)","v":{"$error":"#N/A"}},0,{"$f":"VLOOKUP(F131,Hidden_Словник!$W$2:$X$13,2,FALSE)","v":{"$error":"#N/A"}},{"$f":"#REF!","v":{"$error":"#REF!"}},{"$error":"#N/A"}]
[null,"",{"$f":"IFERROR(VLOOKUP(A132,'1.Портфель кредитів'!A:Z,3,FALSE),\"\")","v":""},{"$f":"IFERROR(VLOOKUP(A132,'1.Портфель кредитів'!A:Z,7,FALSE),\"\")","v":""},{"$f":"IFERROR(VLOOKUP(A132,'1.Портфель кредитів'!A:Z,14,FALSE),\"\")","v":""},null,null,null,null,null,null,null,null,{"$f":"IFERROR(VLOOKUP(A132,'1.Портфель кредитів'!A:Z,30,FALSE),\"\")","v":""},0,{"$error":"#VALUE!"},null,null,null,null,null,{"$f":"VLOOKUP(C132,Hidden_Словник!$A$2:C$81,3,FALSE)","v":{"$error":"#N/A"}},0,{"$f":"VLOOKUP(F132,Hidden_Словник!$W$2:$X$13,2,FALSE)","v":{"$error":"#N/A"}},{"$f":"#REF!","v":{"$error":"#REF!"}},{"$error":"#N/A"}]
[null,"",{"$f":"IFERROR(VLOOKUP(A133,'1.Портфель кредитів'!A:Z,3,FALSE),\"\")","v":""},{"$f":"IFERROR(VLOOKUP(A133,'1.Портфель кредитів'!A:Z,7,FALSE),\"\")","v":""},{"$f":"IFERROR(VLOOKUP(A133,'1.Портфель кредитів'!A:Z,14,FALSE),\"\")","v":""},null,null,null,null,null,null,null,null,{"$f":"IFERROR(VLOOKUP(A133,'1.Портфель кредитів'!A:Z,30,FALSE),\"\")","v":""},0,{"$error":"#VALUE!"},null,null,null,null,null,{"$f":"VLOOKUP(C133,Hidden_Словник!$A$2:C$81,3,FALSE)","v":{"$error":"#N/A"}},0,{"$f":"VLOOKUP(F133,Hidden_Словник!$W$2:$X$13,2,FALSE)","v":{"$error":"#N/A"}},{"$f":"#REF!","v":{"$error":"#REF!"}},{"$error":"#N/A"}]
[null,"",{"$f":"IFERROR(VLOOKUP(A134,'1.Портфель кредитів'!A:Z,3,FALSE),\"\")","v":""},{"$f":"IFERROR(VLOOKUP(A134,'1.Портфель кредитів'!A:Z,7,FALSE),\"\")","v":""},{"$f":"IFERROR(VLOOKUP(A134,'1.Портфель кредитів'!A:Z,14,FALSE),\"\")","v":""},null,null,null,null,null,null,null,null,{"$f":"IFERROR(VLOOKUP(A134,'1.Портфель кредитів'!A:Z,30,FALSE),\"\")","v":""},0,{"$error":"#VALUE!"},null,null,null,null,null,{"$f":"VLOOKUP(C134,Hidden_Словник!$A$2:C$81,3,FALSE)","v":{"$error":"#N/A"}},0,{"$f":"VLOOKUP(F134,Hidden_Словник!$W$2:$X$13,2,FALSE)","v":{"$error":"#N/A"}},{"$f":"#REF!","v":{"$error":"#REF!"}},{"$error":"#N/A"}]
[null,"",{"$f":"IFERROR(VLOOKUP(A135,'1.Портфель кредитів'!A:Z,3,FALSE),\"\")","v":""},{"$f":"IFERROR(VLOOKUP(A135,'1.Портфель кредитів'!A:Z,7,FALSE),\"\")","v":""},{"$f":"IFERROR(VLOOKUP(A135,'1.Портфель кредитів'!A:Z,14,FALSE),\"\")","v":""},null,null,null,null,null,null,null,null,{"$f":"IFERROR(VLOOKUP(A135,'1.Портфель кредитів'!A:Z,30,FALSE),\"\")","v":""},0,{"$error":"#VALUE!"},null,null,null,null,null,{"$f":"VLOOKUP(C135,Hidden_Словник!$A$2:C$81,3,FALSE)","v":{"$error":"#N/A"}},0,{"$f":"VLOOKUP(F135,Hidden_Словник!$W$2:$X$13,2,FALSE)","v":{"$error":"#N/A"}},{"$f":"#REF!","v":{"$error":"#REF!"}},{"$error":"#N/A"}]
[null,"",{"$f":"IFERROR(VLOOKUP(A136,'1.Портфель кредитів'!A:Z,3,FALSE),\"\")","v":""},{"$f":"IFERROR(VLOOKUP(A136,'1.Портфель кредитів'!A:Z,7,FALSE),\"\")","v":""},{"$f":"IFERROR(VLOOKUP(A136,'1.Портфель кредитів'!A:Z,14,FALSE),\"\")","v":""},null,null,null,null,null,null,null,null,{"$f":"IFERROR(VLOOKUP(A136,'1.Портфель кредитів'!A:Z,30,FALSE),\"\")","v":""},0,{"$error":"#VALUE!"},null,null,null,null,null,{"$f":"VLOOKUP(C136,Hidden_Словник!$A$2:C$81,3,FALSE)","v":{"$error":"#N/A"}},0,{"$f":"VLOOKUP(F136,Hidden_Словник!$W$2:$X$13,2,FALSE)","v":{"$error":"#N/A"}},{"$f":"#REF!","v":{"$error":"#REF!"}},{"$error":"#N/A"}]
[null,"",{"$f":"IFERROR(VLOOKUP(A137,'1.Портфель кредитів'!A:Z,3,FALSE),\"\")","v":""},{"$f":"IFERROR(VLOOKUP(A137,'1.Портфель кредитів'!A:Z,7,FALSE),\"\")","v":""},{"$f":"IFERROR(VLOOKUP(A137,'1.Портфель кредитів'!A:Z,14,FALSE),\"\")","v":""},null,null,null,null,null,null,null,null,{"$f":"IFERROR(VLOOKUP(A137,'1.Портфель кредитів'!A:Z,30,FALSE),\"\")","v":""},0,{"$error":"#VALUE!"},null,null,null,null,null,{"$f":"VLOOKUP(C137,Hidden_Словник!$A$2:C$81,3,FALSE)","v":{"$error":"#N/A"}},0,{"$f":"VLOOKUP(F137,Hidden_Словник!$W$2:$X$13,2,FALSE)","v":{"$error":"#N/A"}},{"$f":"#REF!","v":{"$error":"#REF!"}},{"$error":"#N/A"}]
[null,"",{"$f":"IFERROR(VLOOKUP(A138,'1.Портфель кредитів'!A:Z,3,FALSE),\"\")","v":""},{"$f":"IFERROR(VLOOKUP(A138,'1.Портфель кредитів'!A:Z,7,FALSE),\"\")","v":""},{"$f":"IFERROR(VLOOKUP(A138,'1.Портфель кредитів'!A:Z,14,FALSE),\"\")","v":""},null,null,null,null,null,null,null,null,{"$f":"IFERROR(VLOOKUP(A138,'1.Портфель кредитів'!A:Z,30,FALSE),\"\")","v":""},0,{"$error":"#VALUE!"},null,null,null,null,null,{"$f":"VLOOKUP(C138,Hidden_Словник!$A$2:C$81,3,FALSE)","v":{"$error":"#N/A"}},0,{"$f":"VLOOKUP(F138,Hidden_Словник!$W$2:$X$13,2,FALSE)","v":{"$error":"#N/A"}},{"$f":"#REF!","v":{"$error":"#REF!"}},{"$error":"#N/A"}]
[null,"",{"$f":"IFERROR(VLOOKUP(A139,'1.Портфель кредитів'!A:Z,3,FALSE),\"\")","v":""},{"$f":"IFERROR(VLOOKUP(A139,'1.Портфель кредитів'!A:Z,7,FALSE),\"\")","v":""},{"$f":"IFERROR(VLOOKUP(A139,'1.Портфель кредитів'!A:Z,14,FALSE),\"\")","v":""},null,null,null,null,null,null,null,null,{"$f":"IFERROR(VLOOKUP(A139,'1.Портфель кредитів'!A:Z,30,FALSE),\"\")","v":""},0,{"$error":"#VALUE!"},null,null,null,null,null,{"$f":"VLOOKUP(C139,Hidden_Словник!$A$2:C$81,3,FALSE)","v":{"$error":"#N/A"}},0,{"$f":"VLOOKUP(F139,Hidden_Словник!$W$2:$X$13,2,FALSE)","v":{"$error":"#N/A"}},{"$f":"#REF!","v":{"$error":"#REF!"}},{"$error":"#N/A"}]
[null,"",{"$f":"IFERROR(VLOOKUP(A140,'1.Портфель кредитів'!A:Z,3,FALSE),\"\")","v":""},{"$f":"IFERROR(VLOOKUP(A140,'1.Портфель кредитів'!A:Z,7,FALSE),\"\")","v":""},{"$f":"IFERROR(VLOOKUP(A140,'1.Портфель кредитів'!A:Z,14,FALSE),\"\")","v":""},null,null,null,null,null,null,null,null,{"$f":"IFERROR(VLOOKUP(A140,'1.Портфель кредитів'!A:Z,30,FALSE),\"\")","v":""},0,{"$error":"#VALUE!"},null,null,null,null,null,{"$f":"VLOOKUP(C140,Hidden_Словник!$A$2:C$81,3,FALSE)","v":{"$error":"#N/A"}},0,{"$f":"VLOOKUP(F140,Hidden_Словник!$W$2:$X$13,2,FALSE)","v":{"$error":"#N/A"}},{"$f":"#REF!","v":{"$error":"#REF!"}},{"$error":"#N/A"}]
[null,"",{"$f":"IFERROR(VLOOKUP(A141,'1.Портфель кредитів'!A:Z,3,FALSE),\"\")","v":""},{"$f":"IFERROR(VLOOKUP(A141,'1.Портфель кредитів'!A:Z,7,FALSE),\"\")","v":""},{"$f":"IFERROR(VLOOKUP(A141,'1.Портфель кредитів'!A:Z,14,FALSE),\"\")","v":""},null,null,null,null,null,null,null,null,{"$f":"IFERROR(VLOOKUP(A141,'1.Портфель кредитів'!A:Z,30,FALSE),\"\")","v":""},0,{"$error":"#VALUE!"},null,null,null,null,null,{"$f":"VLOOKUP(C141,Hidden_Словник!$A$2:C$81,3,FALSE)","v":{"$error":"#N/A"}},0,{"$f":"VLOOKUP(F141,Hidden_Словник!$W$2:$X$13,2,FALSE)","v":{"$error":"#N/A"}},{"$f":"#REF!","v":{"$error":"#REF!"}},{"$error":"#N/A"}]
[null,"",{"$f":"IFERROR(VLOOKUP(A142,'1.Портфель кредитів'!A:Z,3,FALSE),\"\")","v":""},{"$f":"IFERROR(VLOOKUP(A142,'1.Портфель кредитів'!A:Z,7,FALSE),\"\")","v":""},{"$f":"IFERROR(VLOOKUP(A142,'1.Портфель кредитів'!A:Z,14,FALSE),\"\")","v":""},null,null,null,null,null,null,null,null,{"$f":"IFERROR(VLOOKUP(A142,'1.Портфель кредитів'!A:Z,30,FALSE),\"\")","v":""},0,{"$error":"#VALUE!"},null,null,null,null,null,{"$f":"VLOOKUP(C142,Hidden_Словник!$A$2:C$81,3,FALSE)","v":{"$error":"#N/A"}},0,{"$f":"VLOOKUP(F142,Hidden_Словник!$W$2:$X$13,2,FALSE)","v":{"$error":"#N/A"}},{"$f":"#REF!","v":{"$error":"#REF!"}},{"$error":"#N/A"}]
[null,"",{"$f":"IFERROR(VLOOKUP(A143,'1.Портфель кредитів'!A:Z,3,FALSE),\"\")","v":""},{"$f":"IFERROR(VLOOKUP(A143,'1.Портфель кредитів'!A:Z,7,FALSE),\"\")","v":""},{"$f":"IFERROR(VLOOKUP(A143,'1.Портфель кредитів'!A:Z,14,FALSE),\"\")","v":""},null,null,null,null,null,null,null,null,{"$f":"IFERROR(VLOOKUP(A143,'1.Портфель кредитів'!A:Z,30,FALSE),\"\")","v":""},0,{"$error":"#VALUE!"},null,null,null,null,null,{"$f":"VLOOKUP(C143,Hidden_Словник!$A$2:C$81,3,FALSE)","v":{"$error":"#N/A"}},0,{"$f":"VLOOKUP(F143,Hidden_Словник!$W$2:$X$13,2,FALSE)","v":{"$error":"#N/A"}},{"$f":"#REF!","v":{"$error":"#REF!"}},{"$error":"#N/A"}]
[null,"",{"$f":"IFERROR(VLOOKUP(A144,'1.Портфель кредитів'!A:Z,3,FALSE),\"\")","v":""},{"$f":"IFERROR(VLOOKUP(A144,'1.Портфель кредитів'!A:Z,7,FALSE),\"\")","v":""},{"$f":"IFERROR(VLOOKUP(A144,'1.Портфель кредитів'!A:Z,14,FALSE),\"\")","v":""},null,null,null,null,null,null,null,null,{"$f":"IFERROR(VLOOKUP(A144,'1.Портфель кредитів'!A:Z,30,FALSE),\"\")","v":""},0,{"$error":"#VALUE!"},null,null,null,null,null,{"$f":"VLOOKUP(C144,Hidden_Словник!$A$2:C$81,3,FALSE)","v":{"$error":"#N/A"}},0,{"$f":"VLOOKUP(F144,Hidden_Словник!$W$2:$X$13,2,FALSE)","v":{"$error":"#N/A"}},{"$f":"#REF!","v":{"$error":"#REF!"}},{"$error":"#N/A"}]
[null,"",{"$f":"IFERROR(VLOOKUP(A145,'1.Портфель кредитів'!A:Z,3,FALSE),\"\")","v":""},{"$f":"IFERROR(VLOOKUP(A145,'1.Портфель кредитів'!A:Z,7,FALSE),\"\")","v":""},{"$f":"IFERROR(VLOOKUP(A145,'1.Портфель кредитів'!A:Z,14,FALSE),\"\")","v":""},null,null,null,null,null,null,null,null,{"$f":"IFERROR(VLOOKUP(A145,'1.Портфель кредитів'!A:Z,30,FALSE),\"\")","v":""},0,{"$error":"#VALUE!"},null,null,null,null,null,{"$f":"VLOOKUP(C145,Hidden_Словник!$A$2:C$81,3,FALSE)","v":{"$error":"#N/A"}},0,{"$f":"VLOOKUP(F145,Hidden_Словник!$W$2:$X$13,2,FALSE)","v":{"$error":"#N/A"}},{"$f":"#REF!","v":{"$error":"#REF!"}},{"$error":"#N/A"}]
[null,"",{"$f":"IFERROR(VLOOKUP(A146,'1.Портфель кредитів'!A:Z,3,FALSE),\"\")","v":""},{"$f":"IFERROR(VLOOKUP(A146,'1.Портфель кредитів'!A:Z,7,FALSE),\"\")","v":""},{"$f":"IFERROR(VLOOKUP(A146,'1.Портфель кредитів'!A:Z,14,FALSE),\"\")","v":""},null,null,null,null,null,null,null,null,{"$f":"IFERROR(VLOOKUP(A146,'1.Портфель кредитів'!A:Z,30,FALSE),\"\")","v":""},0,{"$error":"#VALUE!"},null,null,null,null,null,{"$f":"VLOOKUP(C146,Hidden_Словник!$A$2:C$81,3,FALSE)","v":{"$error":"#N/A"}},0,{"$f":"VLOOKUP(F146,Hidden_Словник!$W$2:$X$13,2,FALSE)","v":{"$error":"#N/A"}},{"$f":"#REF!","v":{"$error":"#REF!"}},{"$error":"#N/A"}]
[null,"",{"$f":"IFERROR(VLOOKUP(A147,'1.Портфель кредитів'!A:Z,3,FALSE),\"\")","v":""},{"$f":"IFERROR(VLOOKUP(A147,'1.Портфель кредитів'!A:Z,7,FALSE),\"\")","v":""},{"$f":"IFERROR(VLOOKUP(A147,'1.Портфель кредитів'!A:Z,14,FALSE),\"\")","v":""},null,null,null,null,null,null,null,null,{"$f":"IFERROR(VLOOKUP(A147,'1.Портфель кредитів'!A:Z,30,FALSE),\"\")","v":""},0,{"$error":"#VALUE!"},null,null,null,null,null,{"$f":"VLOOKUP(C147,Hidden_Словник!$A$2:C$81,3,FALSE)","v":{"$error":"#N/A"}},{"$f":"ROUNDUP(K147,0)","v":0},{"$f":"VLOOKUP(F147,Hidden_Словник!$W$2:$X$13,2,FALSE)","v":{"$error":"#N/A"}},{"$f":"#REF!","v":{"$error":"#REF!"}},{"$error":"#N/A"}]
[null,"",{"$f":"IFERROR(VLOOKUP(A148,'1.Портфель кредитів'!A:Z,3,FALSE),\"\")","v":""},{"$f":"IFERROR(VLOOKUP(A148,'1.Портфель кредитів'!A:Z,7,FALSE),\"\")","v":""},{"$f":"IFERROR(VLOOKUP(A148,'1.Портфель кредитів'!A:Z,14,FALSE),\"\")","v":""},null,null,null,null,null,null,null,null,{"$f":"IFERROR(VLOOKUP(A148,'1.Портфель кредитів'!A:Z,30,FALSE),\"\")","v":""},0,{"$error":"#VALUE!"},null,null,null,null,null,{"$f":"VLOOKUP(C148,Hidden_Словник!$A$2:C$81,3,FALSE)","v":{"$error":"#N/A"}},0,{"$f":"VLOOKUP(F148,Hidden_Словник!$W$2:$X$13,2,FALSE)","v":{"$error":"#N/A"}},{"$f":"#REF!","v":{"$error":"#REF!"}},{"$error":"#N/A"}]
[null,"",{"$f":"IFERROR(VLOOKUP(A149,'1.Портфель кредитів'!A:Z,3,FALSE),\"\")","v":""},{"$f":"IFERROR(VLOOKUP(A149,'1.Портфель кредитів'!A:Z,7,FALSE),\"\")","v":""},{"$f":"IFERROR(VLOOKUP(A149,'1.Портфель кредитів'!A:Z,14,FALSE),\"\")","v":""},null,null,null,null,null,null,null,null,{"$f":"IFERROR(VLOOKUP(A149,'1.Портфель кредитів'!A:Z,30,FALSE),\"\")","v":""},0,{"$error":"#VALUE!"},null,null,null,null,null,{"$f":"VLOOKUP(C149,Hidden_Словник!$A$2:C$81,3,FALSE)","v":{"$error":"#N/A"}},0,{"$f":"VLOOKUP(F149,Hidden_Словник!$W$2:$X$13,2,FALSE)","v":{"$error":"#N/A"}},{"$f":"#REF!","v":{"$error":"#REF!"}},{"$error":"#N/A"}]
[null,"",{"$f":"IFERROR(VLOOKUP(A150,'1.Портфель кредитів'!A:Z,3,FALSE),\"\")","v":""},{"$f":"IFERROR(VLOOKUP(A150,'1.Портфель кредитів'!A:Z,7,FALSE),\"\")","v":""},{"$f":"IFERROR(VLOOKUP(A150,'1.Портфель кредитів'!A:Z,14,FALSE),\"\")","v":""},null,null,null,null,null,null,null,null,{"$f":"IFERROR(VLOOKUP(A150,'1.Портфель кредитів'!A:Z,30,FALSE),\"\")","v":""},0,{"$error":"#VALUE!"},null,null,null,null,null,{"$f":"VLOOKUP(C150,Hidden_Словник!$A$2:C$81,3,FALSE)","v":{"$error":"#N/A"}},0,{"$f":"VLOOKUP(F150,Hidden_Словник!$W$2:$X$13,2,FALSE)","v":{"$error":"#N/A"}},{"$f":"#REF!","v":{"$error":"#REF!"}},{"$error":"#N/A"}]
[null,"",{"$f":"IFERROR(VLOOKUP(A151,'1.Портфель кредитів'!A:Z,3,FALSE),\"\")","v":""},{"$f":"IFERROR(VLOOKUP(A151,'1.Портфель кредитів'!A:Z,7,FALSE),\"\")","v":""},{"$f":"IFERROR(VLOOKUP(A151,'1.Портфель кредитів'!A:Z,14,FALSE),\"\")","v":""},null,null,null,null,null,null,null,null,{"$f":"IFERROR(VLOOKUP(A151,'1.Портфель кредитів'!A:Z,30,FALSE),\"\")","v":""},{"$f":"SUMIF(B:B,B151,N:N)","v":0},{"$error":"#VALUE!"},null,null,null,null,null,{"$f":"VLOOKUP(C151,Hidden_Словник!$A$2:C$81,3,FALSE)","v":{"$error":"#N/A"}},0,{"$f":"VLOOKUP(F151,Hidden_Словник!$W$2:$X$13,2,FALSE)","v":{"$error":"#N/A"}},{"$f":"#REF!","v":{"$error":"#REF!"}},{"$error":"#N/A"}]
[null,"",{"$f":"IFERROR(VLOOKUP(A152,'1.Портфель кредитів'!A:Z,3,FALSE),\"\")","v":""},{"$f":"IFERROR(VLOOKUP(A152,'1.Портфель кредитів'!A:Z,7,FALSE),\"\")","v":""},{"$f":"IFERROR(VLOOKUP(A152,'1.Портфель кредитів'!A:Z,14,FALSE),\"\")","v":""},null,null,null,null,null,null,null,null,{"$f":"IFERROR(VLOOKUP(A152,'1.Портфель кредитів'!A:Z,30,FALSE),\"\")","v":""},0,{"$error":"#VALUE!"},null,null,null,null,null,{"$f":"VLOOKUP(C152,Hidden_Словник!$A$2:C$81,3,FALSE)","v":{"$error":"#N/A"}},0,{"$f":"VLOOKUP(F152,Hidden_Словник!$W$2:$X$13,2,FALSE)","v":{"$error":"#N/A"}},{"$f":"#REF!","v":{"$error":"#REF!"}},{"$error":"#N/A"}]
[null,"",{"$f":"IFERROR(VLOOKUP(A153,'1.Портфель кредитів'!A:Z,3,FALSE),\"\")","v":""},{"$f":"IFERROR(VLOOKUP(A153,'1.Портфель кредитів'!A:Z,7,FALSE),\"\")","v":""},{"$f":"IFERROR(VLOOKUP(A153,'1.Портфель кредитів'!A:Z,14,FALSE),\"\")","v":""},null,null,null,null,null,null,null,null,{"$f":"IFERROR(VLOOKUP(A153,'1.Портфель кредитів'!A:Z,30,FALSE),\"\")","v":""},0,{"$error":"#VALUE!"},null,null,null,null,null,{"$f":"VLOOKUP(C153,Hidden_Словник!$A$2:C$81,3,FALSE)","v":{"$error":"#N/A"}},0,{"$f":"VLOOKUP(F153,Hidden_Словник!$W$2:$X$13,2,FALSE)","v":{"$error":"#N/A"}},{"$f":"#REF!","v":{"$error":"#REF!"}},{"$error":"#N/A"}]
[null,"",{"$f":"IFERROR(VLOOKUP(A154,'1.Портфель кредитів'!A:Z,3,FALSE),\"\")","v":""},{"$f":"IFERROR(VLOOKUP(A154,'1.Портфель кредитів'!A:Z,7,FALSE),\"\")","v":""},{"$f":"IFERROR(VLOOKUP(A154,'1.Портфель кредитів'!A:Z,14,FALSE),\"\")","v":""},null,null,null,null,null,null,null,null,{"$f":"IFERROR(VLOOKUP(A154,'1.Портфель кредитів'!A:Z,30,FALSE),\"\")","v":""},0,{"$error":"#VALUE!"},null,null,null,null,null,{"$f":"VLOOKUP(C154,Hidden_Словник!$A$2:C$81,3,FALSE)","v":{"$error":"#N/A"}},0,{"$f":"VLOOKUP(F154,Hidden_Словник!$W$2:$X$13,2,FALSE)","v":{"$error":"#N/A"}},{"$f":"#REF!","v":{"$error":"#REF!"}},{"$error":"#N/A"}]
[null,"",{"$f":"IFERROR(VLOOKUP(A155,'1.Портфель кредитів'!A:Z,3,FALSE),\"\")","v":""},{"$f":"IFERROR(VLOOKUP(A155,'1.Портфель кредитів'!A:Z,7,FALSE),\"\")","v":""},{"$f":"IFERROR(VLOOKUP(A155,'1.Портфель кредитів'!A:Z,14,FALSE),\"\")","v":""},null,null,null,null,null,null,null,null,{"$f":"IFERROR(VLOOKUP(A155,'1.Портфель кредитів'!A:Z,30,FALSE),\"\")","v":""},0,{"$error":"#VALUE!"},null,null,null,null,null,{"$f":"VLOOKUP(C155,Hidden_Словник!$A$2:C$81,3,FALSE)","v":{"$error":"#N/A"}},0,{"$f":"VLOOKUP(F155,Hidden_Словник!$W$2:$X$13,2,FALSE)","v":{"$error":"#N/A"}},{"$f":"#REF!","v":{"$error":"#REF!"}},{"$error":"#N/A"}]
[null,"",{"$f":"IFERROR(VLOOKUP(A156,'1.Портфель кредитів'!A:Z,3,FALSE),\"\")","v":""},{"$f":"IFERROR(VLOOKUP(A156,'1.Портфель кредитів'!A:Z,7,FALSE),\"\")","v":""},{"$f":"IFERROR(VLOOKUP(A156,'1.Портфель кредитів'!A:Z,14,FALSE),\"\")","v":""},null,null,null,null,null,null,null,null,{"$f":"IFERROR(VLOOKUP(A156,'1.Портфель кредитів'!A:Z,30,FALSE),\"\")","v":""},0,{"$error":"#VALUE!"},null,null,null,null,null,{"$f":"VLOOKUP(C156,Hidden_Словник!$A$2:C$81,3,FALSE)","v":{"$error":"#N/A"}},0,{"$f":"VLOOKUP(F156,Hidden_Словник!$W$2:$X$13,2,FALSE)","v":{"$error":"#N/A"}},{"$f":"#REF!","v":{"$error":"#REF!"}},{"$error":"#N/A"}]
[null,"",{"$f":"IFERROR(VLOOKUP(A157,'1.Портфель кредитів'!A:Z,3,FALSE),\"\")","v":""},{"$f":"IFERROR(VLOOKUP(A157,'1.Портфель кредитів'!A:Z,7,FALSE),\"\")","v":""},{"$f":"IFERROR(VLOOKUP(A157,'1.Портфель кредитів'!A:Z,14,FALSE),\"\")","v":""},null,null,null,null,null,null,null,null,{"$f":"IFERROR(VLOOKUP(A157,'1.Портфель кредитів'!A:Z,30,FALSE),\"\")","v":""},0,{"$error":"#VALUE!"},null,null,null,null,null,{"$f":"VLOOKUP(C157,Hidden_Словник!$A$2:C$81,3,FALSE)","v":{"$error":"#N/A"}},0,{"$f":"VLOOKUP(F157,Hidden_Словник!$W$2:$X$13,2,FALSE)","v":{"$error":"#N/A"}},{"$f":"#REF!","v":{"$error":"#REF!"}},{"$error":"#N/A"}]
[null,"",{"$f":"IFERROR(VLOOKUP(A158,'1.Портфель кредитів'!A:Z,3,FALSE),\"\")","v":""},{"$f":"IFERROR(VLOOKUP(A158,'1.Портфель кредитів'!A:Z,7,FALSE),\"\")","v":""},{"$f":"IFERROR(VLOOKUP(A158,'1.Портфель кредитів'!A:Z,14,FALSE),\"\")","v":""},null,null,null,null,null,null,null,null,{"$f":"IFERROR(VLOOKUP(A158,'1.Портфель кредитів'!A:Z,30,FALSE),\"\")","v":""},0,{"$error":"#VALUE!"},null,null,null,null,null,{"$f":"VLOOKUP(C158,Hidden_Словник!$A$2:C$81,3,FALSE)","v":{"$error":"#N/A"}},0,{"$f":"VLOOKUP(F158,Hidden_Словник!$W$2:$X$13,2,FALSE)","v":{"$error":"#N/A"}},{"$f":"#REF!","v":{"$error":"#REF!"}},{"$error":"#N/A"}]
[null,"",{"$f":"IFERROR(VLOOKUP(A159,'1.Портфель кредитів'!A:Z,3,FALSE),\"\")","v":""},{"$f":"IFERROR(VLOOKUP(A159,'1.Портфель кредитів'!A:Z,7,FALSE),\"\")","v":""},{"$f":"IFERROR(VLOOKUP(A159,'1.Портфель кредитів'!A:Z,14,FALSE),\"\")","v":""},null,null,null,null,null,null,null,null,{"$f":"IFERROR(VLOOKUP(A159,'1.Портфель кредитів'!A:Z,30,FALSE),\"\")","v":""},0,{"$error":"#VALUE!"},null,null,null,null,null,{"$f":"VLOOKUP(C159,Hidden_Словник!$A$2:C$81,3,FALSE)","v":{"$error":"#N/A"}},0,{"$f":"VLOOKUP(F159,Hidden_Словник!$W$2:$X$13,2,FALSE)","v":{"$error":"#N/A"}},{"$f":"#REF!","v":{"$error":"#REF!"}},{"$error":"#N/A"}]
[null,"",{"$f":"IFERROR(VLOOKUP(A160,'1.Портфель кредитів'!A:Z,3,FALSE),\"\")","v":""},{"$f":"IFERROR(VLOOKUP(A160,'1.Портфель кредитів'!A:Z,7,FALSE),\"\")","v":""},{"$f":"IFERROR(VLOOKUP(A160,'1.Портфель кредитів'!A:Z,14,FALSE),\"\")","v":""},null,null,null,null,null,null,null,null,{"$f":"IFERROR(VLOOKUP(A160,'1.Портфель кредитів'!A:Z,30,FALSE),\"\")","v":""},0,{"$error":"#VALUE!"},null,null,null,null,null,{"$f":"VLOOKUP(C160,Hidden_Словник!$A$2:C$81,3,FALSE)","v":{"$error":"#N/A"}},0,{"$f":"VLOOKUP(F160,Hidden_Словник!$W$2:$X$13,2,FALSE)","v":{"$error":"#N/A"}},{"$f":"#REF!","v":{"$error":"#REF!"}},{"$error":"#N/A"}]
[null,"",{"$f":"IFERROR(VLOOKUP(A161,'1.Портфель кредитів'!A:Z,3,FALSE),\"\")","v":""},{"$f":"IFERROR(VLOOKUP(A161,'1.Портфель кредитів'!A:Z,7,FALSE),\"\")","v":""},{"$f":"IFERROR(VLOOKUP(A161,'1.Портфель кредитів'!A:Z,14,FALSE),\"\")","v":""},null,null,null,null,null,null,null,null,{"$f":"IFERROR(VLOOKUP(A161,'1.Портфель кредитів'!A:Z,30,FALSE),\"\")","v":""},0,{"$error":"#VALUE!"},null,null,null,null,null,{"$f":"VLOOKUP(C161,Hidden_Словник!$A$2:C$81,3,FALSE)","v":{"$error":"#N/A"}},0,{"$f":"VLOOKUP(F161,Hidden_Словник!$W$2:$X$13,2,FALSE)","v":{"$error":"#N/A"}},{"$f":"#REF!","v":{"$error":"#REF!"}},{"$error":"#N/A"}]
[null,"",{"$f":"IFERROR(VLOOKUP(A162,'1.Портфель кредитів'!A:Z,3,FALSE),\"\")","v":""},{"$f":"IFERROR(VLOOKUP(A162,'1.Портфель кредитів'!A:Z,7,FALSE),\"\")","v":""},{"$f":"IFERROR(VLOOKUP(A162,'1.Портфель кредитів'!A:Z,14,FALSE),\"\")","v":""},null,null,null,null,null,null,null,null,{"$f":"IFERROR(VLOOKUP(A162,'1.Портфель кредитів'!A:Z,30,FALSE),\"\")","v":""},0,{"$error":"#VALUE!"},null,null,null,null,null,{"$f":"VLOOKUP(C162,Hidden_Словник!$A$2:C$81,3,FALSE)","v":{"$error":"#N/A"}},0,{"$f":"VLOOKUP(F162,Hidden_Словник!$W$2:$X$13,2,FALSE)","v":{"$error":"#N/A"}},{"$f":"#REF!","v":{"$error":"#REF!"}},{"$error":"#N/A"}]
[null,"",{"$f":"IFERROR(VLOOKUP(A163,'1.Портфель кредитів'!A:Z,3,FALSE),\"\")","v":""},{"$f":"IFERROR(VLOOKUP(A163,'1.Портфель кредитів'!A:Z,7,FALSE),\"\")","v":""},{"$f":"IFERROR(VLOOKUP(A163,'1.Портфель кредитів'!A:Z,14,FALSE),\"\")","v":""},null,null,null,null,null,null,null,null,{"$f":"IFERROR(VLOOKUP(A163,'1.Портфель кредитів'!A:Z,30,FALSE),\"\")","v":""},0,{"$error":"#VALUE!"},null,null,null,null,null,{"$f":"VLOOKUP(C163,Hidden_Словник!$A$2:C$81,3,FALSE)","v":{"$error":"#N/A"}},0,{"$f":"VLOOKUP(F163,Hidden_Словник!$W$2:$X$13,2,FALSE)","v":{"$error":"#N/A"}},{"$f":"#REF!","v":{"$error":"#REF!"}},{"$error":"#N/A"}]
[null,"",{"$f":"IFERROR(VLOOKUP(A164,'1.Портфель кредитів'!A:Z,3,FALSE),\"\")","v":""},{"$f":"IFERROR(VLOOKUP(A164,'1.Портфель кредитів'!A:Z,7,FALSE),\"\")","v":""},{"$f":"IFERROR(VLOOKUP(A164,'1.Портфель кредитів'!A:Z,14,FALSE),\"\")","v":""},null,null,null,null,null,null,null,null,{"$f":"IFERROR(VLOOKUP(A164,'1.Портфель кредитів'!A:Z,30,FALSE),\"\")","v":""},0,{"$error":"#VALUE!"},null,null,null,null,null,{"$f":"VLOOKUP(C164,Hidden_Словник!$A$2:C$81,3,FALSE)","v":{"$error":"#N/A"}},0,{"$f":"VLOOKUP(F164,Hidden_Словник!$W$2:$X$13,2,FALSE)","v":{"$error":"#N/A"}},{"$f":"#REF!","v":{"$error":"#REF!"}},{"$error":"#N/A"}]
[null,"",{"$f":"IFERROR(VLOOKUP(A165,'1.Портфель кредитів'!A:Z,3,FALSE),\"\")","v":""},{"$f":"IFERROR(VLOOKUP(A165,'1.Портфель кредитів'!A:Z,7,FALSE),\"\")","v":""},{"$f":"IFERROR(VLOOKUP(A165,'1.Портфель кредитів'!A:Z,14,FALSE),\"\")","v":""},null,null,null,null,null,null,null,null,{"$f":"IFERROR(VLOOKUP(A165,'1.Портфель кредитів'!A:Z,30,FALSE),\"\")","v":""},0,{"$error":"#VALUE!"},null,null,null,null,null,{"$f":"VLOOKUP(C165,Hidden_Словник!$A$2:C$81,3,FALSE)","v":{"$error":"#N/A"}},0,{"$f":"VLOOKUP(F165,Hidden_Словник!$W$2:$X$13,2,FALSE)","v":{"$error":"#N/A"}},{"$f":"#REF!","v":{"$error":"#REF!"}},{"$error":"#N/A"}]
[null,"",{"$f":"IFERROR(VLOOKUP(A166,'1.Портфель кредитів'!A:Z,3,FALSE),\"\")","v":""},{"$f":"IFERROR(VLOOKUP(A166,'1.Портфель кредитів'!A:Z,7,FALSE),\"\")","v":""},{"$f":"IFERROR(VLOOKUP(A166,'1.Портфель кредитів'!A:Z,14,FALSE),\"\")","v":""},null,null,null,null,null,null,null,null,{"$f":"IFERROR(VLOOKUP(A166,'1.Портфель кредитів'!A:Z,30,FALSE),\"\")","v":""},0,{"$f":"N166/O166","v":{"$error":"#VALUE!"}},null,null,null,null,null,{"$f":"VLOOKUP(C166,Hidden_Словник!$A$2:C$81,3,FALSE)","v":{"$error":"#N/A"}},0,{"$f":"VLOOKUP(F166,Hidden_Словник!$W$2:$X$13,2,FALSE)","v":{"$error":"#N/A"}},{"$f":"#REF!","v":{"$error":"#REF!"}},{"$error":"#N/A"}]
[null,"",{"$f":"IFERROR(VLOOKUP(A167,'1.Портфель кредитів'!A:Z,3,FALSE),\"\")","v":""},{"$f":"IFERROR(VLOOKUP(A167,'1.Портфель кредитів'!A:Z,7,FALSE),\"\")","v":""},{"$f":"IFERROR(VLOOKUP(A167,'1.Портфель кредитів'!A:Z,14,FALSE),\"\")","v":""},null,null,null,null,null,null,null,null,{"$f":"IFERROR(VLOOKUP(A167,'1.Портфель кредитів'!A:Z,30,FALSE),\"\")","v":""},0,{"$error":"#VALUE!"},null,null,null,null,null,{"$f":"VLOOKUP(C167,Hidden_Словник!$A$2:C$81,3,FALSE)","v":{"$error":"#N/A"}},0,{"$f":"VLOOKUP(F167,Hidden_Словник!$W$2:$X$13,2,FALSE)","v":{"$error":"#N/A"}},{"$f":"#REF!","v":{"$error":"#REF!"}},{"$error":"#N/A"}]
[null,"",{"$f":"IFERROR(VLOOKUP(A168,'1.Портфель кредитів'!A:Z,3,FALSE),\"\")","v":""},{"$f":"IFERROR(VLOOKUP(A168,'1.Портфель кредитів'!A:Z,7,FALSE),\"\")","v":""},{"$f":"IFERROR(VLOOKUP(A168,'1.Портфель кредитів'!A:Z,14,FALSE),\"\")","v":""},null,null,null,null,null,null,null,null,{"$f":"IFERROR(VLOOKUP(A168,'1.Портфель кредитів'!A:Z,30,FALSE),\"\")","v":""},0,{"$error":"#VALUE!"},null,null,null,null,null,{"$f":"VLOOKUP(C168,Hidden_Словник!$A$2:C$81,3,FALSE)","v":{"$error":"#N/A"}},0,{"$f":"VLOOKUP(F168,Hidden_Словник!$W$2:$X$13,2,FALSE)","v":{"$error":"#N/A"}},{"$f":"#REF!","v":{"$error":"#REF!"}},{"$error":"#N/A"}]
[null,"",{"$f":"IFERROR(VLOOKUP(A169,'1.Портфель кредитів'!A:Z,3,FALSE),\"\")","v":""},{"$f":"IFERROR(VLOOKUP(A169,'1.Портфель кредитів'!A:Z,7,FALSE),\"\")","v":""},{"$f":"IFERROR(VLOOKUP(A169,'1.Портфель кредитів'!A:Z,14,FALSE),\"\")","v":""},null,null,null,null,null,null,null,null,{"$f":"IFERROR(VLOOKUP(A169,'1.Портфель кредитів'!A:Z,30,FALSE),\"\")","v":""},0,{"$error":"#VALUE!"},null,null,null,null,null,{"$f":"VLOOKUP(C169,Hidden_Словник!$A$2:C$81,3,FALSE)","v":{"$error":"#N/A"}},0,{"$f":"VLOOKUP(F169,Hidden_Словник!$W$2:$X$13,2,FALSE)","v":{"$error":"#N/A"}},{"$f":"#REF!","v":{"$error":"#REF!"}},{"$error":"#N/A"}]
[null,"",{"$f":"IFERROR(VLOOKUP(A170,'1.Портфель кредитів'!A:Z,3,FALSE),\"\")","v":""},{"$f":"IFERROR(VLOOKUP(A170,'1.Портфель кредитів'!A:Z,7,FALSE),\"\")","v":""},{"$f":"IFERROR(VLOOKUP(A170,'1.Портфель кредитів'!A:Z,14,FALSE),\"\")","v":""},null,null,null,null,null,null,null,null,{"$f":"IFERROR(VLOOKUP(A170,'1.Портфель кредитів'!A:Z,30,FALSE),\"\")","v":""},0,{"$error":"#VALUE!"},null,null,null,null,null,{"$f":"VLOOKUP(C170,Hidden_Словник!$A$2:C$81,3,FALSE)","v":{"$error":"#N/A"}},0,{"$f":"VLOOKUP(F170,Hidden_Словник!$W$2:$X$13,2,FALSE)","v":{"$error":"#N/A"}},{"$f":"#REF!","v":{"$error":"#REF!"}},{"$error":"#N/A"}]
[null,"",{"$f":"IFERROR(VLOOKUP(A171,'1.Портфель кредитів'!A:Z,3,FALSE),\"\")","v":""},{"$f":"IFERROR(VLOOKUP(A171,'1.Портфель кредитів'!A:Z,7,FALSE),\"\")","v":""},{"$f":"IFERROR(VLOOKUP(A171,'1.Портфель кредитів'!A:Z,14,FALSE),\"\")","v":""},null,null,null,null,null,null,null,null,{"$f":"IFERROR(VLOOKUP(A171,'1.Портфель кредитів'!A:Z,30,FALSE),\"\")","v":""},0,{"$error":"#VALUE!"},null,null,null,null,null,{"$f":"VLOOKUP(C171,Hidden_Словник!$A$2:C$81,3,FALSE)","v":{"$error":"#N/A"}},0,{"$f":"VLOOKUP(F171,Hidden_Словник!$W$2:$X$13,2,FALSE)","v":{"$error":"#N/A"}},{"$f":"#REF!","v":{"$error":"#REF!"}},{"$error":"#N/A"}]
[null,"",{"$f":"IFERROR(VLOOKUP(A172,'1.Портфель кредитів'!A:Z,3,FALSE),\"\")","v":""},{"$f":"IFERROR(VLOOKUP(A172,'1.Портфель кредитів'!A:Z,7,FALSE),\"\")","v":""},{"$f":"IFERROR(VLOOKUP(A172,'1.Портфель кредитів'!A:Z,14,FALSE),\"\")","v":""},null,null,null,null,null,null,null,null,{"$f":"IFERROR(VLOOKUP(A172,'1.Портфель кредитів'!A:Z,30,FALSE),\"\")","v":""},0,{"$error":"#VALUE!"},null,null,null,null,null,{"$f":"VLOOKUP(C172,Hidden_Словник!$A$2:C$81,3,FALSE)","v":{"$error":"#N/A"}},0,{"$f":"VLOOKUP(F172,Hidden_Словник!$W$2:$X$13,2,FALSE)","v":{"$error":"#N/A"}},{"$f":"#REF!","v":{"$error":"#REF!"}},{"$error":"#N/A"}]
[null,"",{"$f":"IFERROR(VLOOKUP(A173,'1.Портфель кредитів'!A:Z,3,FALSE),\"\")","v":""},{"$f":"IFERROR(VLOOKUP(A173,'1.Портфель кредитів'!A:Z,7,FALSE),\"\")","v":""},{"$f":"IFERROR(VLOOKUP(A173,'1.Портфель кредитів'!A:Z,14,FALSE),\"\")","v":""},null,null,null,null,null,null,null,null,{"$f":"IFERROR(VLOOKUP(A173,'1.Портфель кредитів'!A:Z,30,FALSE),\"\")","v":""},0,{"$error":"#VALUE!"},null,null,null,null,null,{"$f":"VLOOKUP(C173,Hidden_Словник!$A$2:C$81,3,FALSE)","v":{"$error":"#N/A"}},0,{"$f":"VLOOKUP(F173,Hidden_Словник!$W$2:$X$13,2,FALSE)","v":{"$error":"#N/A"}},{"$f":"#REF!","v":{"$error":"#REF!"}},{"$error":"#N/A"}]
[null,"",{"$f":"IFERROR(VLOOKUP(A174,'1.Портфель кредитів'!A:Z,3,FALSE),\"\")","v":""},{"$f":"IFERROR(VLOOKUP(A174,'1.Портфель кредитів'!A:Z,7,FALSE),\"\")","v":""},{"$f":"IFERROR(VLOOKUP(A174,'1.Портфель кредитів'!A:Z,14,FALSE),\"\")","v":""},null,null,null,null,null,null,null,null,{"$f":"IFERROR(VLOOKUP(A174,'1.Портфель кредитів'!A:Z,30,FALSE),\"\")","v":""},0,{"$error":"#VALUE!"},null,null,null,null,null,{"$f":"VLOOKUP(C174,Hidden_Словник!$A$2:C$81,3,FALSE)","v":{"$error":"#N/A"}},0,{"$f":"VLOOKUP(F174,Hidden_Словник!$W$2:$X$13,2,FALSE)","v":{"$error":"#N/A"}},{"$f":"#REF!","v":{"$error":"#REF!"}},{"$error":"#N/A"}]
[null,"",{"$f":"IFERROR(VLOOKUP(A175,'1.Портфель кредитів'!A:Z,3,FALSE),\"\")","v":""},{"$f":"IFERROR(VLOOKUP(A175,'1.Портфель кредитів'!A:Z,7,FALSE),\"\")","v":""},{"$f":"IFERROR(VLOOKUP(A175,'1.Портфель кредитів'!A:Z,14,FALSE),\"\")","v":""},null,null,null,null,null,null,null,null,{"$f":"IFERROR(VLOOKUP(A175,'1.Портфель кредитів'!A:Z,30,FALSE),\"\")","v":""},0,{"$error":"#VALUE!"},null,null,null,null,null,{"$f":"VLOOKUP(C175,Hidden_Словник!$A$2:C$81,3,FALSE)","v":{"$error":"#N/A"}},0,{"$f":"VLOOKUP(F175,Hidden_Словник!$W$2:$X$13,2,FALSE)","v":{"$error":"#N/A"}},{"$f":"#REF!","v":{"$error":"#REF!"}},{"$error":"#N/A"}]
[null,"",{"$f":"IFERROR(VLOOKUP(A176,'1.Портфель кредитів'!A:Z,3,FALSE),\"\")","v":""},{"$f":"IFERROR(VLOOKUP(A176,'1.Портфель кредитів'!A:Z,7,FALSE),\"\")","v":""},{"$f":"IFERROR(VLOOKUP(A176,'1.Портфель кредитів'!A:Z,14,FALSE),\"\")","v":""},null,null,null,null,null,null,null,null,{"$f":"IFERROR(VLOOKUP(A176,'1.Портфель кредитів'!A:Z,30,FALSE),\"\")","v":""},0,{"$error":"#VALUE!"},null,null,null,null,null,{"$f":"VLOOKUP(C176,Hidden_Словник!$A$2:C$81,3,FALSE)","v":{"$error":"#N/A"}},0,{"$f":"VLOOKUP(F176,Hidden_Словник!$W$2:$X$13,2,FALSE)","v":{"$error":"#N/A"}},{"$f":"#REF!","v":{"$error":"#REF!"}},{"$error":"#N/A"}]
[null,"",{"$f":"IFERROR(VLOOKUP(A177,'1.Портфель кредитів'!A:Z,3,FALSE),\"\")","v":""},{"$f":"IFERROR(VLOOKUP(A177,'1.Портфель кредитів'!A:Z,7,FALSE),\"\")","v":""},{"$f":"IFERROR(VLOOKUP(A177,'1.Портфель кредитів'!A:Z,14,FALSE),\"\")","v":""},null,null,null,null,null,null,null,null,{"$f":"IFERROR(VLOOKUP(A177,'1.Портфель кредитів'!A:Z,30,FALSE),\"\")","v":""},0,{"$error":"#VALUE!"},null,null,null,null,null,{"$f":"VLOOKUP(C177,Hidden_Словник!$A$2:C$81,3,FALSE)","v":{"$error":"#N/A"}},0,{"$f":"VLOOKUP(F177,Hidden_Словник!$W$2:$X$13,2,FALSE)","v":{"$error":"#N/A"}},{"$f":"#REF!","v":{"$error":"#REF!"}},{"$error":"#N/A"}]
[null,"",{"$f":"IFERROR(VLOOKUP(A178,'1.Портфель кредитів'!A:Z,3,FALSE),\"\")","v":""},{"$f":"IFERROR(VLOOKUP(A178,'1.Портфель кредитів'!A:Z,7,FALSE),\"\")","v":""},{"$f":"IFERROR(VLOOKUP(A178,'1.Портфель кредитів'!A:Z,14,FALSE),\"\")","v":""},null,null,null,null,null,null,null,null,{"$f":"IFERROR(VLOOKUP(A178,'1.Портфель кредитів'!A:Z,30,FALSE),\"\")","v":""},0,{"$error":"#VALUE!"},null,null,null,null,null,{"$f":"VLOOKUP(C178,Hidden_Словник!$A$2:C$81,3,FALSE)","v":{"$error":"#N/A"}},0,{"$f":"VLOOKUP(F178,Hidden_Словник!$W$2:$X$13,2,FALSE)","v":{"$error":"#N/A"}},{"$f":"#REF!","v":{"$error":"#REF!"}},{"$error":"#N/A"}]
[null,"",{"$f":"IFERROR(VLOOKUP(A179,'1.Портфель кредитів'!A:Z,3,FALSE),\"\")","v":""},{"$f":"IFERROR(VLOOKUP(A179,'1.Портфель кредитів'!A:Z,7,FALSE),\"\")","v":""},{"$f":"IFERROR(VLOOKUP(A179,'1.Портфель кредитів'!A:Z,14,FALSE),\"\")","v":""},null,null,null,null,null,null,null,null,{"$f":"IFERROR(VLOOKUP(A179,'1.Портфель кредитів'!A:Z,30,FALSE),\"\")","v":""},0,{"$error":"#VALUE!"},null,null,null,null,null,{"$f":"VLOOKUP(C179,Hidden_Словник!$A$2:C$81,3,FALSE)","v":{"$error":"#N/A"}},0,{"$f":"VLOOKUP(F179,Hidden_Словник!$W$2:$X$13,2,FALSE)","v":{"$error":"#N/A"}},{"$f":"#REF!","v":{"$error":"#REF!"}},{"$error":"#N/A"}]
[null,"",{"$f":"IFERROR(VLOOKUP(A180,'1.Портфель кредитів'!A:Z,3,FALSE),\"\")","v":""},{"$f":"IFERROR(VLOOKUP(A180,'1.Портфель кредитів'!A:Z,7,FALSE),\"\")","v":""},{"$f":"IFERROR(VLOOKUP(A180,'1.Портфель кредитів'!A:Z,14,FALSE),\"\")","v":""},null,null,null,null,null,null,null,null,{"$f":"IFERROR(VLOOKUP(A180,'1.Портфель кредитів'!A:Z,30,FALSE),\"\")","v":""},0,{"$error":"#VALUE!"},null,null,null,null,null,{"$f":"VLOOKUP(C180,Hidden_Словник!$A$2:C$81,3,FALSE)","v":{"$error":"#N/A"}},0,{"$f":"VLOOKUP(F180,Hidden_Словник!$W$2:$X$13,2,FALSE)","v":{"$error":"#N/A"}},{"$f":"#REF!","v":{"$error":"#REF!"}},{"$error":"#N/A"}]
[null,"",{"$f":"IFERROR(VLOOKUP(A181,'1.Портфель кредитів'!A:Z,3,FALSE),\"\")","v":""},{"$f":"IFERROR(VLOOKUP(A181,'1.Портфель кредитів'!A:Z,7,FALSE),\"\")","v":""},{"$f":"IFERROR(VLOOKUP(A181,'1.Портфель кредитів'!A:Z,14,FALSE),\"\")","v":""},null,null,null,null,null,null,null,null,{"$f":"IFERROR(VLOOKUP(A181,'1.Портфель кредитів'!A:Z,30,FALSE),\"\")","v":""},0,{"$error":"#VALUE!"},null,null,null,null,null,{"$f":"VLOOKUP(C181,Hidden_Словник!$A$2:C$81,3,FALSE)","v":{"$error":"#N/A"}},0,{"$f":"VLOOKUP(F181,Hidden_Словник!$W$2:$X$13,2,FALSE)","v":{"$error":"#N/A"}},{"$f":"#REF!","v":{"$error":"#REF!"}},{"$error":"#N/A"}]
[null,"",{"$f":"IFERROR(VLOOKUP(A182,'1.Портфель кредитів'!A:Z,3,FALSE),\"\")","v":""},{"$f":"IFERROR(VLOOKUP(A182,'1.Портфель кредитів'!A:Z,7,FALSE),\"\")","v":""},{"$f":"IFERROR(VLOOKUP(A182,'1.Портфель кредитів'!A:Z,14,FALSE),\"\")","v":""},null,null,null,null,null,null,null,null,{"$f":"IFERROR(VLOOKUP(A182,'1.Портфель кредитів'!A:Z,30,FALSE),\"\")","v":""},0,{"$error":"#VALUE!"},null,null,null,null,null,{"$f":"VLOOKUP(C182,Hidden_Словник!$A$2:C$81,3,FALSE)","v":{"$error":"#N/A"}},0,{"$f":"VLOOKUP(F182,Hidden_Словник!$W$2:$X$13,2,FALSE)","v":{"$error":"#N/A"}},{"$f":"#REF!","v":{"$error":"#REF!"}},{"$error":"#N/A"}]
[null,"",{"$f":"IFERROR(VLOOKUP(A183,'1.Портфель кредитів'!A:Z,3,FALSE),\"\")","v":""},{"$f":"IFERROR(VLOOKUP(A183,'1.Портфель кредитів'!A:Z,7,FALSE),\"\")","v":""},{"$f":"IFERROR(VLOOKUP(A183,'1.Портфель кредитів'!A:Z,14,FALSE),\"\")","v":""},null,null,null,null,null,null,null,null,{"$f":"IFERROR(VLOOKUP(A183,'1.Портфель кредитів'!A:Z,30,FALSE),\"\")","v":""},0,{"$error":"#VALUE!"},null,null,null,null,null,{"$f":"VLOOKUP(C183,Hidden_Словник!$A$2:C$81,3,FALSE)","v":{"$error":"#N/A"}},0,{"$f":"VLOOKUP(F183,Hidden_Словник!$W$2:$X$13,2,FALSE)","v":{"$error":"#N/A"}},{"$f":"#REF!","v":{"$error":"#REF!"}},{"$error":"#N/A"}]
[null,"",{"$f":"IFERROR(VLOOKUP(A184,'1.Портфель кредитів'!A:Z,3,FALSE),\"\")","v":""},{"$f":"IFERROR(VLOOKUP(A184,'1.Портфель кредитів'!A:Z,7,FALSE),\"\")","v":""},{"$f":"IFERROR(VLOOKUP(A184,'1.Портфель кредитів'!A:Z,14,FALSE),\"\")","v":""},null,null,null,null,null,null,null,null,{"$f":"IFERROR(VLOOKUP(A184,'1.Портфель кредитів'!A:Z,30,FALSE),\"\")","v":""},0,{"$error":"#VALUE!"},null,null,null,null,null,{"$f":"VLOOKUP(C184,Hidden_Словник!$A$2:C$81,3,FALSE)","v":{"$error":"#N/A"}},0,{"$f":"VLOOKUP(F184,Hidden_Словник!$W$2:$X$13,2,FALSE)","v":{"$error":"#N/A"}},{"$f":"#REF!","v":{"$error":"#REF!"}},{"$error":"#N/A"}]
[null,"",{"$f":"IFERROR(VLOOKUP(A185,'1.Портфель кредитів'!A:Z,3,FALSE),\"\")","v":""},{"$f":"IFERROR(VLOOKUP(A185,'1.Портфель кредитів'!A:Z,7,FALSE),\"\")","v":""},{"$f":"IFERROR(VLOOKUP(A185,'1.Портфель кредитів'!A:Z,14,FALSE),\"\")","v":""},null,null,null,null,null,null,null,null,{"$f":"IFERROR(VLOOKUP(A185,'1.Портфель кредитів'!A:Z,30,FALSE),\"\")","v":""},0,{"$error":"#VALUE!"},null,null,null,null,null,{"$f":"VLOOKUP(C185,Hidden_Словник!$A$2:C$81,3,FALSE)","v":{"$error":"#N/A"}},0,{"$f":"VLOOKUP(F185,Hidden_Словник!$W$2:$X$13,2,FALSE)","v":{"$error":"#N/A"}},{"$f":"#REF!","v":{"$error":"#REF!"}},{"$error":"#N/A"}]
[null,"",{"$f":"IFERROR(VLOOKUP(A186,'1.Портфель кредитів'!A:Z,3,FALSE),\"\")","v":""},{"$f":"IFERROR(VLOOKUP(A186,'1.Портфель кредитів'!A:Z,7,FALSE),\"\")","v":""},{"$f":"IFERROR(VLOOKUP(A186,'1.Портфель кредитів'!A:Z,14,FALSE),\"\")","v":""},null,null,null,null,null,null,null,null,{"$f":"IFERROR(VLOOKUP(A186,'1.Портфель кредитів'!A:Z,30,FALSE),\"\")","v":""},0,{"$error":"#VALUE!"},null,null,null,null,null,{"$f":"VLOOKUP(C186,Hidden_Словник!$A$2:C$81,3,FALSE)","v":{"$error":"#N/A"}},0,{"$f":"VLOOKUP(F186,Hidden_Словник!$W$2:$X$13,2,FALSE)","v":{"$error":"#N/A"}},{"$f":"#REF!","v":{"$error":"#REF!"}},{"$error":"#N/A"}]
[null,"",{"$f":"IFERROR(VLOOKUP(A187,'1.Портфель кредитів'!A:Z,3,FALSE),\"\")","v":""},{"$f":"IFERROR(VLOOKUP(A187,'1.Портфель кредитів'!A:Z,7,FALSE),\"\")","v":""},{"$f":"IFERROR(VLOOKUP(A187,'1.Портфель кредитів'!A:Z,14,FALSE),\"\")","v":""},null,null,null,null,null,null,null,null,{"$f":"IFERROR(VLOOKUP(A187,'1.Портфель кредитів'!A:Z,30,FALSE),\"\")","v":""},0,{"$error":"#VALUE!"},null,null,null,null,null,{"$f":"VLOOKUP(C187,Hidden_Словник!$A$2:C$81,3,FALSE)","v":{"$error":"#N/A"}},0,{"$f":"VLOOKUP(F187,Hidden_Словник!$W$2:$X$13,2,FALSE)","v":{"$error":"#N/A"}},{"$f":"#REF!","v":{"$error":"#REF!"}},{"$error":"#N/A"}]
[null,"",{"$f":"IFERROR(VLOOKUP(A188,'1.Портфель кредитів'!A:Z,3,FALSE),\"\")","v":""},{"$f":"IFERROR(VLOOKUP(A188,'1.Портфель кредитів'!A:Z,7,FALSE),\"\")","v":""},{"$f":"IFERROR(VLOOKUP(A188,'1.Портфель кредитів'!A:Z,14,FALSE),\"\")","v":""},null,null,null,null,null,null,null,null,{"$f":"IFERROR(VLOOKUP(A188,'1.Портфель кредитів'!A:Z,30,FALSE),\"\")","v":""},0,{"$error":"#VALUE!"},null,null,null,null,null,{"$f":"VLOOKUP(C188,Hidden_Словник!$A$2:C$81,3,FALSE)","v":{"$error":"#N/A"}},0,{"$f":"VLOOKUP(F188,Hidden_Словник!$W$2:$X$13,2,FALSE)","v":{"$error":"#N/A"}},{"$f":"#REF!","v":{"$error":"#REF!"}},{"$error":"#N/A"}]
[null,"",{"$f":"IFERROR(VLOOKUP(A189,'1.Портфель кредитів'!A:Z,3,FALSE),\"\")","v":""},{"$f":"IFERROR(VLOOKUP(A189,'1.Портфель кредитів'!A:Z,7,FALSE),\"\")","v":""},{"$f":"IFERROR(VLOOKUP(A189,'1.Портфель кредитів'!A:Z,14,FALSE),\"\")","v":""},null,null,null,null,null,null,null,null,{"$f":"IFERROR(VLOOKUP(A189,'1.Портфель кредитів'!A:Z,30,FALSE),\"\")","v":""},0,{"$error":"#VALUE!"},null,null,null,null,null,{"$f":"VLOOKUP(C189,Hidden_Словник!$A$2:C$81,3,FALSE)","v":{"$error":"#N/A"}},0,{"$f":"VLOOKUP(F189,Hidden_Словник!$W$2:$X$13,2,FALSE)","v":{"$error":"#N/A"}},{"$f":"#REF!","v":{"$error":"#REF!"}},{"$error":"#N/A"}]
[null,{"$f":"IFERROR(Z190,\"\")","v":""},{"$f":"IFERROR(VLOOKUP(A190,'1.Портфель кредитів'!A:Z,3,FALSE),\"\")","v":""},{"$f":"IFERROR(VLOOKUP(A190,'1.Портфель кредитів'!A:Z,7,FALSE),\"\")","v":""},{"$f":"IFERROR(VLOOKUP(A190,'1.Портфель кредитів'!A:Z,14,FALSE),\"\")","v":""},null,null,null,null,null,null,null,null,{"$f":"IFERROR(VLOOKUP(A190,'1.Портфель кредитів'!A:Z,30,FALSE),\"\")","v":""},0,{"$error":"#VALUE!"},null,null,null,null,null,{"$f":"VLOOKUP(C190,Hidden_Словник!$A$2:C$81,3,FALSE)","v":{"$error":"#N/A"}},0,{"$f":"VLOOKUP(F190,Hidden_Словник!$W$2:$X$13,2,FALSE)","v":{"$error":"#N/A"}},{"$f":"#REF!","v":{"$error":"#REF!"}},{"$f":"V190&\"_\"&W190&X190&Y190","v":{"$error":"#N/A"}}]
[null,"",{"$f":"IFERROR(VLOOKUP(A191,'1.Портфель кредитів'!A:Z,3,FALSE),\"\")","v":""},{"$f":"IFERROR(VLOOKUP(A191,'1.Портфель кредитів'!A:Z,7,FALSE),\"\")","v":""},{"$f":"IFERROR(VLOOKUP(A191,'1.Портфель кредитів'!A:Z,14,FALSE),\"\")","v":""},null,null,null,null,null,null,null,null,{"$f":"IFERROR(VLOOKUP(A191,'1.Портфель кредитів'!A:Z,30,FALSE),\"\")","v":""},0,{"$error":"#VALUE!"},null,null,null,null,null,{"$f":"VLOOKUP(C191,Hidden_Словник!$A$2:C$81,3,FALSE)","v":{"$error":"#N/A"}},0,{"$f":"VLOOKUP(F191,Hidden_Словник!$W$2:$X$13,2,FALSE)","v":{"$error":"#N/A"}},{"$f":"#REF!","v":{"$error":"#REF!"}},{"$error":"#N/A"}]
[null,"",{"$f":"IFERROR(VLOOKUP(A192,'1.Портфель кредитів'!A:Z,3,FALSE),\"\")","v":""},{"$f":"IFERROR(VLOOKUP(A192,'1.Портфель кредитів'!A:Z,7,FALSE),\"\")","v":""},{"$f":"IFERROR(VLOOKUP(A192,'1.Портфель кредитів'!A:Z,14,FALSE),\"\")","v":""},null,null,null,null,null,null,null,null,{"$f":"IFERROR(VLOOKUP(A192,'1.Портфель кредитів'!A:Z,30,FALSE),\"\")","v":""},0,{"$error":"#VALUE!"},null,null,null,null,null,{"$f":"VLOOKUP(C192,Hidden_Словник!$A$2:C$81,3,FALSE)","v":{"$error":"#N/A"}},0,{"$f":"VLOOKUP(F192,Hidden_Словник!$W$2:$X$13,2,FALSE)","v":{"$error":"#N/A"}},{"$f":"#REF!","v":{"$error":"#REF!"}},{"$error":"#N/A"}]
[null,"",{"$f":"IFERROR(VLOOKUP(A193,'1.Портфель кредитів'!A:Z,3,FALSE),\"\")","v":""},{"$f":"IFERROR(VLOOKUP(A193,'1.Портфель кредитів'!A:Z,7,FALSE),\"\")","v":""},{"$f":"IFERROR(VLOOKUP(A193,'1.Портфель кредитів'!A:Z,14,FALSE),\"\")","v":""},null,null,null,null,null,null,null,null,{"$f":"IFERROR(VLOOKUP(A193,'1.Портфель кредитів'!A:Z,30,FALSE),\"\")","v":""},0,{"$error":"#VALUE!"},null,null,null,null,null,{"$f":"VLOOKUP(C193,Hidden_Словник!$A$2:C$81,3,FALSE)","v":{"$error":"#N/A"}},0,{"$f":"VLOOKUP(F193,Hidden_Словник!$W$2:$X$13,2,FALSE)","v":{"$error":"#N/A"}},{"$f":"#REF!","v":{"$error":"#REF!"}},{"$error":"#N/A"}]
[null,"",{"$f":"IFERROR(VLOOKUP(A194,'1.Портфель кредитів'!A:Z,3,FALSE),\"\")","v":""},{"$f":"IFERROR(VLOOKUP(A194,'1.Портфель кредитів'!A:Z,7,FALSE),\"\")","v":""},{"$f":"IFERROR(VLOOKUP(A194,'1.Портфель кредитів'!A:Z,14,FALSE),\"\")","v":""},null,null,null,null,null,null,null,null,{"$f":"IFERROR(VLOOKUP(A194,'1.Портфель кредитів'!A:Z,30,FALSE),\"\")","v":""},0,{"$error":"#VALUE!"},null,null,null,null,null,{"$f":"VLOOKUP(C194,Hidden_Словник!$A$2:C$81,3,FALSE)","v":{"$error":"#N/A"}},0,{"$f":"VLOOKUP(F194,Hidden_Словник!$W$2:$X$13,2,FALSE)","v":{"$error":"#N/A"}},{"$f":"#REF!","v":{"$error":"#REF!"}},{"$error":"#N/A"}]
[null,"",{"$f":"IFERROR(VLOOKUP(A195,'1.Портфель кредитів'!A:Z,3,FALSE),\"\")","v":""},{"$f":"IFERROR(VLOOKUP(A195,'1.Портфель кредитів'!A:Z,7,FALSE),\"\")","v":""},{"$f":"IFERROR(VLOOKUP(A195,'1.Портфель кредитів'!A:Z,14,FALSE),\"\")","v":""},null,null,null,null,null,null,null,null,{"$f":"IFERROR(VLOOKUP(A195,'1.Портфель кредитів'!A:Z,30,FALSE),\"\")","v":""},0,{"$error":"#VALUE!"},null,null,null,null,null,{"$f":"VLOOKUP(C195,Hidden_Словник!$A$2:C$81,3,FALSE)","v":{"$error":"#N/A"}},0,{"$f":"VLOOKUP(F195,Hidden_Словник!$W$2:$X$13,2,FALSE)","v":{"$error":"#N/A"}},{"$f":"#REF!","v":{"$error":"#REF!"}},{"$error":"#N/A"}]
[null,"",{"$f":"IFERROR(VLOOKUP(A196,'1.Портфель кредитів'!A:Z,3,FALSE),\"\")","v":""},{"$f":"IFERROR(VLOOKUP(A196,'1.Портфель кредитів'!A:Z,7,FALSE),\"\")","v":""},{"$f":"IFERROR(VLOOKUP(A196,'1.Портфель кредитів'!A:Z,14,FALSE),\"\")","v":""},null,null,null,null,null,null,null,null,{"$f":"IFERROR(VLOOKUP(A196,'1.Портфель кредитів'!A:Z,30,FALSE),\"\")","v":""},0,{"$error":"#VALUE!"},null,null,null,null,null,{"$f":"VLOOKUP(C196,Hidden_Словник!$A$2:C$81,3,FALSE)","v":{"$error":"#N/A"}},0,{"$f":"VLOOKUP(F196,Hidden_Словник!$W$2:$X$13,2,FALSE)","v":{"$error":"#N/A"}},{"$f":"#REF!","v":{"$error":"#REF!"}},{"$error":"#N/A"}]
[null,"",{"$f":"IFERROR(VLOOKUP(A197,'1.Портфель кредитів'!A:Z,3,FALSE),\"\")","v":""},{"$f":"IFERROR(VLOOKUP(A197,'1.Портфель кредитів'!A:Z,7,FALSE),\"\")","v":""},{"$f":"IFERROR(VLOOKUP(A197,'1.Портфель кредитів'!A:Z,14,FALSE),\"\")","v":""},null,null,null,null,null,null,null,null,{"$f":"IFERROR(VLOOKUP(A197,'1.Портфель кредитів'!A:Z,30,FALSE),\"\")","v":""},0,{"$error":"#VALUE!"},null,null,null,null,null,{"$f":"VLOOKUP(C197,Hidden_Словник!$A$2:C$81,3,FALSE)","v":{"$error":"#N/A"}},0,{"$f":"VLOOKUP(F197,Hidden_Словник!$W$2:$X$13,2,FALSE)","v":{"$error":"#N/A"}},{"$f":"#REF!","v":{"$error":"#REF!"}},{"$error":"#N/A"}]
[null,"",{"$f":"IFERROR(VLOOKUP(A198,'1.Портфель кредитів'!A:Z,3,FALSE),\"\")","v":""},{"$f":"IFERROR(VLOOKUP(A198,'1.Портфель кредитів'!A:Z,7,FALSE),\"\")","v":""},{"$f":"IFERROR(VLOOKUP(A198,'1.Портфель кредитів'!A:Z,14,FALSE),\"\")","v":""},null,null,null,null,null,null,null,null,{"$f":"IFERROR(VLOOKUP(A198,'1.Портфель кредитів'!A:Z,30,FALSE),\"\")","v":""},0,{"$error":"#VALUE!"},null,null,null,null,null,{"$f":"VLOOKUP(C198,Hidden_Словник!$A$2:C$81,3,FALSE)","v":{"$error":"#N/A"}},0,{"$f":"VLOOKUP(F198,Hidden_Словник!$W$2:$X$13,2,FALSE)","v":{"$error":"#N/A"}},{"$f":"#REF!","v":{"$error":"#REF!"}},{"$error":"#N/A"}]
[null,"",{"$f":"IFERROR(VLOOKUP(A199,'1.Портфель кредитів'!A:Z,3,FALSE),\"\")","v":""},{"$f":"IFERROR(VLOOKUP(A199,'1.Портфель кредитів'!A:Z,7,FALSE),\"\")","v":""},{"$f":"IFERROR(VLOOKUP(A199,'1.Портфель кредитів'!A:Z,14,FALSE),\"\")","v":""},null,null,null,null,null,null,null,null,{"$f":"IFERROR(VLOOKUP(A199,'1.Портфель кредитів'!A:Z,30,FALSE),\"\")","v":""},0,{"$error":"#VALUE!"},null,null,null,null,null,{"$f":"VLOOKUP(C199,Hidden_Словник!$A$2:C$81,3,FALSE)","v":{"$error":"#N/A"}},0,{"$f":"VLOOKUP(F199,Hidden_Словник!$W$2:$X$13,2,FALSE)","v":{"$error":"#N/A"}},{"$f":"#REF!","v":{"$error":"#REF!"}},{"$error":"#N/A"}]
[null,"",{"$f":"IFERROR(VLOOKUP(A200,'1.Портфель кредитів'!A:Z,3,FALSE),\"\")","v":""},{"$f":"IFERROR(VLOOKUP(A200,'1.Портфель кредитів'!A:Z,7,FALSE),\"\")","v":""},{"$f":"IFERROR(VLOOKUP(A200,'1.Портфель кредитів'!A:Z,14,FALSE),\"\")","v":""},null,null,null,null,null,null,null,null,{"$f":"IFERROR(VLOOKUP(A200,'1.Портфель кредитів'!A:Z,30,FALSE),\"\")","v":""},0,{"$error":"#VALUE!"},null,null,null,null,null,{"$f":"VLOOKUP(C200,Hidden_Словник!$A$2:C$81,3,FALSE)","v":{"$error":"#N/A"}},0,{"$f":"VLOOKUP(F200,Hidden_Словник!$W$2:$X$13,2,FALSE)","v":{"$error":"#N/A"}},{"$f":"#REF!","v":{"$error":"#REF!"}},{"$error":"#N/A"}]
[null,"",{"$f":"IFERROR(VLOOKUP(A201,'1.Портфель кредитів'!A:Z,3,FALSE),\"\")","v":""},{"$f":"IFERROR(VLOOKUP(A201,'1.Портфель кредитів'!A:Z,7,FALSE),\"\")","v":""},{"$f":"IFERROR(VLOOKUP(A201,'1.Портфель кредитів'!A:Z,14,FALSE),\"\")","v":""},null,null,null,null,null,null,null,null,{"$f":"IFERROR(VLOOKUP(A201,'1.Портфель кредитів'!A:Z,30,FALSE),\"\")","v":""},0,{"$error":"#VALUE!"},null,null,null,null,null,{"$f":"VLOOKUP(C201,Hidden_Словник!$A$2:C$81,3,FALSE)","v":{"$error":"#N/A"}},0,{"$f":"VLOOKUP(F201,Hidden_Словник!$W$2:$X$13,2,FALSE)","v":{"$error":"#N/A"}},{"$f":"#REF!","v":{"$error":"#REF!"}},{"$error":"#N/A"}]
[null,"",{"$f":"IFERROR(VLOOKUP(A202,'1.Портфель кредитів'!A:Z,3,FALSE),\"\")","v":""},{"$f":"IFERROR(VLOOKUP(A202,'1.Портфель кредитів'!A:Z,7,FALSE),\"\")","v":""},{"$f":"IFERROR(VLOOKUP(A202,'1.Портфель кредитів'!A:Z,14,FALSE),\"\")","v":""},null,null,null,null,null,null,null,null,{"$f":"IFERROR(VLOOKUP(A202,'1.Портфель кредитів'!A:Z,30,FALSE),\"\")","v":""},0,{"$error":"#VALUE!"},null,null,null,null,null,{"$f":"VLOOKUP(C202,Hidden_Словник!$A$2:C$81,3,FALSE)","v":{"$error":"#N/A"}},0,{"$f":"VLOOKUP(F202,Hidden_Словник!$W$2:$X$13,2,FALSE)","v":{"$error":"#N/A"}},{"$f":"#REF!","v":{"$error":"#REF!"}},{"$error":"#N/A"}]
[null,"",{"$f":"IFERROR(VLOOKUP(A203,'1.Портфель кредитів'!A:Z,3,FALSE),\"\")","v":""},{"$f":"IFERROR(VLOOKUP(A203,'1.Портфель кредитів'!A:Z,7,FALSE),\"\")","v":""},{"$f":"IFERROR(VLOOKUP(A203,'1.Портфель кредитів'!A:Z,14,FALSE),\"\")","v":""},null,null,null,null,null,null,null,null,{"$f":"IFERROR(VLOOKUP(A203,'1.Портфель кредитів'!A:Z,30,FALSE),\"\")","v":""},0,{"$error":"#VALUE!"},null,null,null,null,null,{"$f":"VLOOKUP(C203,Hidden_Словник!$A$2:C$81,3,FALSE)","v":{"$error":"#N/A"}},0,{"$f":"VLOOKUP(F203,Hidden_Словник!$W$2:$X$13,2,FALSE)","v":{"$error":"#N/A"}},{"$f":"#REF!","v":{"$error":"#REF!"}},{"$error":"#N/A"}]
[null,"",{"$f":"IFERROR(VLOOKUP(A204,'1.Портфель кредитів'!A:Z,3,FALSE),\"\")","v":""},{"$f":"IFERROR(VLOOKUP(A204,'1.Портфель кредитів'!A:Z,7,FALSE),\"\")","v":""},{"$f":"IFERROR(VLOOKUP(A204,'1.Портфель кредитів'!A:Z,14,FALSE),\"\")","v":""},null,null,null,null,null,null,null,null,{"$f":"IFERROR(VLOOKUP(A204,'1.Портфель кредитів'!A:Z,30,FALSE),\"\")","v":""},0,{"$error":"#VALUE!"},null,null,null,null,null,{"$f":"VLOOKUP(C204,Hidden_Словник!$A$2:C$81,3,FALSE)","v":{"$error":"#N/A"}},0,{"$f":"VLOOKUP(F204,Hidden_Словник!$W$2:$X$13,2,FALSE)","v":{"$error":"#N/A"}},{"$f":"#REF!","v":{"$error":"#REF!"}},{"$error":"#N/A"}]
[null,"",{"$f":"IFERROR(VLOOKUP(A205,'1.Портфель кредитів'!A:Z,3,FALSE),\"\")","v":""},{"$f":"IFERROR(VLOOKUP(A205,'1.Портфель кредитів'!A:Z,7,FALSE),\"\")","v":""},{"$f":"IFERROR(VLOOKUP(A205,'1.Портфель кредитів'!A:Z,14,FALSE),\"\")","v":""},null,null,null,null,null,null,null,null,{"$f":"IFERROR(VLOOKUP(A205,'1.Портфель кредитів'!A:Z,30,FALSE),\"\")","v":""},0,{"$error":"#VALUE!"},null,null,null,null,null,{"$f":"VLOOKUP(C205,Hidden_Словник!$A$2:C$81,3,FALSE)","v":{"$error":"#N/A"}},0,{"$f":"VLOOKUP(F205,Hidden_Словник!$W$2:$X$13,2,FALSE)","v":{"$error":"#N/A"}},{"$f":"#REF!","v":{"$error":"#REF!"}},{"$error":"#N/A"}]
[null,"",{"$f":"IFERROR(VLOOKUP(A206,'1.Портфель кредитів'!A:Z,3,FALSE),\"\")","v":""},{"$f":"IFERROR(VLOOKUP(A206,'1.Портфель кредитів'!A:Z,7,FALSE),\"\")","v":""},{"$f":"IFERROR(VLOOKUP(A206,'1.Портфель кредитів'!A:Z,14,FALSE),\"\")","v":""},null,null,null,null,null,null,null,null,{"$f":"IFERROR(VLOOKUP(A206,'1.Портфель кредитів'!A:Z,30,FALSE),\"\")","v":""},0,{"$error":"#VALUE!"},null,null,null,null,null,{"$f":"VLOOKUP(C206,Hidden_Словник!$A$2:C$81,3,FALSE)","v":{"$error":"#N/A"}},0,{"$f":"VLOOKUP(F206,Hidden_Словник!$W$2:$X$13,2,FALSE)","v":{"$error":"#N/A"}},{"$f":"#REF!","v":{"$error":"#REF!"}},{"$error":"#N/A"}]
[null,"",{"$f":"IFERROR(VLOOKUP(A207,'1.Портфель кредитів'!A:Z,3,FALSE),\"\")","v":""},{"$f":"IFERROR(VLOOKUP(A207,'1.Портфель кредитів'!A:Z,7,FALSE),\"\")","v":""},{"$f":"IFERROR(VLOOKUP(A207,'1.Портфель кредитів'!A:Z,14,FALSE),\"\")","v":""},null,null,null,null,null,null,null,null,{"$f":"IFERROR(VLOOKUP(A207,'1.Портфель кредитів'!A:Z,30,FALSE),\"\")","v":""},0,{"$error":"#VALUE!"},null,null,null,null,null,{"$f":"VLOOKUP(C207,Hidden_Словник!$A$2:C$81,3,FALSE)","v":{"$error":"#N/A"}},0,{"$f":"VLOOKUP(F207,Hidden_Словник!$W$2:$X$13,2,FALSE)","v":{"$error":"#N/A"}},{"$f":"#REF!","v":{"$error":"#REF!"}},{"$error":"#N/A"}]
[null,"",{"$f":"IFERROR(VLOOKUP(A208,'1.Портфель кредитів'!A:Z,3,FALSE),\"\")","v":""},{"$f":"IFERROR(VLOOKUP(A208,'1.Портфель кредитів'!A:Z,7,FALSE),\"\")","v":""},{"$f":"IFERROR(VLOOKUP(A208,'1.Портфель кредитів'!A:Z,14,FALSE),\"\")","v":""},null,null,null,null,null,null,null,null,{"$f":"IFERROR(VLOOKUP(A208,'1.Портфель кредитів'!A:Z,30,FALSE),\"\")","v":""},0,{"$error":"#VALUE!"},null,null,null,null,null,{"$f":"VLOOKUP(C208,Hidden_Словник!$A$2:C$81,3,FALSE)","v":{"$error":"#N/A"}},0,{"$f":"VLOOKUP(F208,Hidden_Словник!$W$2:$X$13,2,FALSE)","v":{"$error":"#N/A"}},{"$f":"#REF!","v":{"$error":"#REF!"}},{"$error":"#N/A"}]
[null,"",{"$f":"IFERROR(VLOOKUP(A209,'1.Портфель кредитів'!A:Z,3,FALSE),\"\")","v":""},{"$f":"IFERROR(VLOOKUP(A209,'1.Портфель кредитів'!A:Z,7,FALSE),\"\")","v":""},{"$f":"IFERROR(VLOOKUP(A209,'1.Портфель кредитів'!A:Z,14,FALSE),\"\")","v":""},null,null,null,null,null,null,null,null,{"$f":"IFERROR(VLOOKUP(A209,'1.Портфель кредитів'!A:Z,30,FALSE),\"\")","v":""},0,{"$error":"#VALUE!"},null,null,null,null,null,{"$f":"VLOOKUP(C209,Hidden_Словник!$A$2:C$81,3,FALSE)","v":{"$error":"#N/A"}},0,{"$f":"VLOOKUP(F209,Hidden_Словник!$W$2:$X$13,2,FALSE)","v":{"$error":"#N/A"}},{"$f":"#REF!","v":{"$error":"#REF!"}},{"$error":"#N/A"}]
[null,"",{"$f":"IFERROR(VLOOKUP(A210,'1.Портфель кредитів'!A:Z,3,FALSE),\"\")","v":""},{"$f":"IFERROR(VLOOKUP(A210,'1.Портфель кредитів'!A:Z,7,FALSE),\"\")","v":""},{"$f":"IFERROR(VLOOKUP(A210,'1.Портфель кредитів'!A:Z,14,FALSE),\"\")","v":""},null,null,null,null,null,null,null,null,{"$f":"IFERROR(VLOOKUP(A210,'1.Портфель кредитів'!A:Z,30,FALSE),\"\")","v":""},0,{"$error":"#VALUE!"},null,null,null,null,null,{"$f":"VLOOKUP(C210,Hidden_Словник!$A$2:C$81,3,FALSE)","v":{"$error":"#N/A"}},0,{"$f":"VLOOKUP(F210,Hidden_Словник!$W$2:$X$13,2,FALSE)","v":{"$error":"#N/A"}},{"$f":"#REF!","v":{"$error":"#REF!"}},{"$error":"#N/A"}]
[null,"",{"$f":"IFERROR(VLOOKUP(A211,'1.Портфель кредитів'!A:Z,3,FALSE),\"\")","v":""},{"$f":"IFERROR(VLOOKUP(A211,'1.Портфель кредитів'!A:Z,7,FALSE),\"\")","v":""},{"$f":"IFERROR(VLOOKUP(A211,'1.Портфель кредитів'!A:Z,14,FALSE),\"\")","v":""},null,null,null,null,null,null,null,null,{"$f":"IFERROR(VLOOKUP(A211,'1.Портфель кредитів'!A:Z,30,FALSE),\"\")","v":""},0,{"$error":"#VALUE!"},null,null,null,null,null,{"$f":"VLOOKUP(C211,Hidden_Словник!$A$2:C$81,3,FALSE)","v":{"$error":"#N/A"}},{"$f":"ROUNDUP(K211,0)","v":0},{"$f":"VLOOKUP(F211,Hidden_Словник!$W$2:$X$13,2,FALSE)","v":{"$error":"#N/A"}},{"$f":"#REF!","v":{"$error":"#REF!"}},{"$error":"#N/A"}]
[null,"",{"$f":"IFERROR(VLOOKUP(A212,'1.Портфель кредитів'!A:Z,3,FALSE),\"\")","v":""},{"$f":"IFERROR(VLOOKUP(A212,'1.Портфель кредитів'!A:Z,7,FALSE),\"\")","v":""},{"$f":"IFERROR(VLOOKUP(A212,'1.Портфель кредитів'!A:Z,14,FALSE),\"\")","v":""},null,null,null,null,null,null,null,null,{"$f":"IFERROR(VLOOKUP(A212,'1.Портфель кредитів'!A:Z,30,FALSE),\"\")","v":""},0,{"$error":"#VALUE!"},null,null,null,null,null,{"$f":"VLOOKUP(C212,Hidden_Словник!$A$2:C$81,3,FALSE)","v":{"$error":"#N/A"}},0,{"$f":"VLOOKUP(F212,Hidden_Словник!$W$2:$X$13,2,FALSE)","v":{"$error":"#N/A"}},{"$f":"#REF!","v":{"$error":"#REF!"}},{"$error":"#N/A"}]
[null,"",{"$f":"IFERROR(VLOOKUP(A213,'1.Портфель кредитів'!A:Z,3,FALSE),\"\")","v":""},{"$f":"IFERROR(VLOOKUP(A213,'1.Портфель кредитів'!A:Z,7,FALSE),\"\")","v":""},{"$f":"IFERROR(VLOOKUP(A213,'1.Портфель кредитів'!A:Z,14,FALSE),\"\")","v":""},null,null,null,null,null,null,null,null,{"$f":"IFERROR(VLOOKUP(A213,'1.Портфель кредитів'!A:Z,30,FALSE),\"\")","v":""},0,{"$error":"#VALUE!"},null,null,null,null,null,{"$f":"VLOOKUP(C213,Hidden_Словник!$A$2:C$81,3,FALSE)","v":{"$error":"#N/A"}},0,{"$f":"VLOOKUP(F213,Hidden_Словник!$W$2:$X$13,2,FALSE)","v":{"$error":"#N/A"}},{"$f":"#REF!","v":{"$error":"#REF!"}},{"$error":"#N/A"}]
[null,"",{"$f":"IFERROR(VLOOKUP(A214,'1.Портфель кредитів'!A:Z,3,FALSE),\"\")","v":""},{"$f":"IFERROR(VLOOKUP(A214,'1.Портфель кредитів'!A:Z,7,FALSE),\"\")","v":""},{"$f":"IFERROR(VLOOKUP(A214,'1.Портфель кредитів'!A:Z,14,FALSE),\"\")","v":""},null,null,null,null,null,null,null,null,{"$f":"IFERROR(VLOOKUP(A214,'1.Портфель кредитів'!A:Z,30,FALSE),\"\")","v":""},0,{"$error":"#VALUE!"},null,null,null,null,null,{"$f":"VLOOKUP(C214,Hidden_Словник!$A$2:C$81,3,FALSE)","v":{"$error":"#N/A"}},0,{"$f":"VLOOKUP(F214,Hidden_Словник!$W$2:$X$13,2,FALSE)","v":{"$error":"#N/A"}},{"$f":"#REF!","v":{"$error":"#REF!"}},{"$error":"#N/A"}]
[null,"",{"$f":"IFERROR(VLOOKUP(A215,'1.Портфель кредитів'!A:Z,3,FALSE),\"\")","v":""},{"$f":"IFERROR(VLOOKUP(A215,'1.Портфель кредитів'!A:Z,7,FALSE),\"\")","v":""},{"$f":"IFERROR(VLOOKUP(A215,'1.Портфель кредитів'!A:Z,14,FALSE),\"\")","v":""},null,null,null,null,null,null,null,null,{"$f":"IFERROR(VLOOKUP(A215,'1.Портфель кредитів'!A:Z,30,FALSE),\"\")","v":""},{"$f":"SUMIF(B:B,B215,N:N)","v":0},{"$error":"#VALUE!"},null,null,null,null,null,{"$f":"VLOOKUP(C215,Hidden_Словник!$A$2:C$81,3,FALSE)","v":{"$error":"#N/A"}},0,{"$f":"VLOOKUP(F215,Hidden_Словник!$W$2:$X$13,2,FALSE)","v":{"$error":"#N/A"}},{"$f":"#REF!","v":{"$error":"#REF!"}},{"$error":"#N/A"}]
[null,"",{"$f":"IFERROR(VLOOKUP(A216,'1.Портфель кредитів'!A:Z,3,FALSE),\"\")","v":""},{"$f":"IFERROR(VLOOKUP(A216,'1.Портфель кредитів'!A:Z,7,FALSE),\"\")","v":""},{"$f":"IFERROR(VLOOKUP(A216,'1.Портфель кредитів'!A:Z,14,FALSE),\"\")","v":""},null,null,null,null,null,null,null,null,{"$f":"IFERROR(VLOOKUP(A216,'1.Портфель кредитів'!A:Z,30,FALSE),\"\")","v":""},0,{"$error":"#VALUE!"},null,null,null,null,null,{"$f":"VLOOKUP(C216,Hidden_Словник!$A$2:C$81,3,FALSE)","v":{"$error":"#N/A"}},0,{"$f":"VLOOKUP(F216,Hidden_Словник!$W$2:$X$13,2,FALSE)","v":{"$error":"#N/A"}},{"$f":"#REF!","v":{"$error":"#REF!"}},{"$error":"#N/A"}]
[null,"",{"$f":"IFERROR(VLOOKUP(A217,'1.Портфель кредитів'!A:Z,3,FALSE),\"\")","v":""},{"$f":"IFERROR(VLOOKUP(A217,'1.Портфель кредитів'!A:Z,7,FALSE),\"\")","v":""},{"$f":"IFERROR(VLOOKUP(A217,'1.Портфель кредитів'!A:Z,14,FALSE),\"\")","v":""},null,null,null,null,null,null,null,null,{"$f":"IFERROR(VLOOKUP(A217,'1.Портфель кредитів'!A:Z,30,FALSE),\"\")","v":""},0,{"$error":"#VALUE!"},null,null,null,null,null,{"$f":"VLOOKUP(C217,Hidden_Словник!$A$2:C$81,3,FALSE)","v":{"$error":"#N/A"}},0,{"$f":"VLOOKUP(F217,Hidden_Словник!$W$2:$X$13,2,FALSE)","v":{"$error":"#N/A"}},{"$f":"#REF!","v":{"$error":"#REF!"}},{"$error":"#N/A"}]
[null,"",{"$f":"IFERROR(VLOOKUP(A218,'1.Портфель кредитів'!A:Z,3,FALSE),\"\")","v":""},{"$f":"IFERROR(VLOOKUP(A218,'1.Портфель кредитів'!A:Z,7,FALSE),\"\")","v":""},{"$f":"IFERROR(VLOOKUP(A218,'1.Портфель кредитів'!A:Z,14,FALSE),\"\")","v":""},null,null,null,null,null,null,null,null,{"$f":"IFERROR(VLOOKUP(A218,'1.Портфель кредитів'!A:Z,30,FALSE),\"\")","v":""},0,{"$error":"#VALUE!"},null,null,null,null,null,{"$f":"VLOOKUP(C218,Hidden_Словник!$A$2:C$81,3,FALSE)","v":{"$error":"#N/A"}},0,{"$f":"VLOOKUP(F218,Hidden_Словник!$W$2:$X$13,2,FALSE)","v":{"$error":"#N/A"}},{"$f":"#REF!","v":{"$error":"#REF!"}},{"$error":"#N/A"}]
[null,"",{"$f":"IFERROR(VLOOKUP(A219,'1.Портфель кредитів'!A:Z,3,FALSE),\"\")","v":""},{"$f":"IFERROR(VLOOKUP(A219,'1.Портфель кредитів'!A:Z,7,FALSE),\"\")","v":""},{"$f":"IFERROR(VLOOKUP(A219,'1.Портфель кредитів'!A:Z,14,FALSE),\"\")","v":""},null,null,null,null,null,null,null,null,{"$f":"IFERROR(VLOOKUP(A219,'1.Портфель кредитів'!A:Z,30,FALSE),\"\")","v":""},0,{"$error":"#VALUE!"},null,null,null,null,null,{"$f":"VLOOKUP(C219,Hidden_Словник!$A$2:C$81,3,FALSE)","v":{"$error":"#N/A"}},0,{"$f":"VLOOKUP(F219,Hidden_Словник!$W$2:$X$13,2,FALSE)","v":{"$error":"#N/A"}},{"$f":"#REF!","v":{"$error":"#REF!"}},{"$error":"#N/A"}]
[null,"",{"$f":"IFERROR(VLOOKUP(A220,'1.Портфель кредитів'!A:Z,3,FALSE),\"\")","v":""},{"$f":"IFERROR(VLOOKUP(A220,'1.Портфель кредитів'!A:Z,7,FALSE),\"\")","v":""},{"$f":"IFERROR(VLOOKUP(A220,'1.Портфель кредитів'!A:Z,14,FALSE),\"\")","v":""},null,null,null,null,null,null,null,null,{"$f":"IFERROR(VLOOKUP(A220,'1.Портфель кредитів'!A:Z,30,FALSE),\"\")","v":""},0,{"$error":"#VALUE!"},null,null,null,null,null,{"$f":"VLOOKUP(C220,Hidden_Словник!$A$2:C$81,3,FALSE)","v":{"$error":"#N/A"}},0,{"$f":"VLOOKUP(F220,Hidden_Словник!$W$2:$X$13,2,FALSE)","v":{"$error":"#N/A"}},{"$f":"#REF!","v":{"$error":"#REF!"}},{"$error":"#N/A"}]
[null,"",{"$f":"IFERROR(VLOOKUP(A221,'1.Портфель кредитів'!A:Z,3,FALSE),\"\")","v":""},{"$f":"IFERROR(VLOOKUP(A221,'1.Портфель кредитів'!A:Z,7,FALSE),\"\")","v":""},{"$f":"IFERROR(VLOOKUP(A221,'1.Портфель кредитів'!A:Z,14,FALSE),\"\")","v":""},null,null,null,null,null,null,null,null,{"$f":"IFERROR(VLOOKUP(A221,'1.Портфель кредитів'!A:Z,30,FALSE),\"\")","v":""},0,{"$error":"#VALUE!"},null,null,null,null,null,{"$f":"VLOOKUP(C221,Hidden_Словник!$A$2:C$81,3,FALSE)","v":{"$error":"#N/A"}},0,{"$f":"VLOOKUP(F221,Hidden_Словник!$W$2:$X$13,2,FALSE)","v":{"$error":"#N/A"}},{"$f":"#REF!","v":{"$error":"#REF!"}},{"$error":"#N/A"}]
[null,"",{"$f":"IFERROR(VLOOKUP(A222,'1.Портфель кредитів'!A:Z,3,FALSE),\"\")","v":""},{"$f":"IFERROR(VLOOKUP(A222,'1.Портфель кредитів'!A:Z,7,FALSE),\"\")","v":""},{"$f":"IFERROR(VLOOKUP(A222,'1.Портфель кредитів'!A:Z,14,FALSE),\"\")","v":""},null,null,null,null,null,null,null,null,{"$f":"IFERROR(VLOOKUP(A222,'1.Портфель кредитів'!A:Z,30,FALSE),\"\")","v":""},0,{"$error":"#VALUE!"},null,null,null,null,null,{"$f":"VLOOKUP(C222,Hidden_Словник!$A$2:C$81,3,FALSE)","v":{"$error":"#N/A"}},0,{"$f":"VLOOKUP(F222,Hidden_Словник!$W$2:$X$13,2,FALSE)","v":{"$error":"#N/A"}},{"$f":"#REF!","v":{"$error":"#REF!"}},{"$error":"#N/A"}]
[null,"",{"$f":"IFERROR(VLOOKUP(A223,'1.Портфель кредитів'!A:Z,3,FALSE),\"\")","v":""},{"$f":"IFERROR(VLOOKUP(A223,'1.Портфель кредитів'!A:Z,7,FALSE),\"\")","v":""},{"$f":"IFERROR(VLOOKUP(A223,'1.Портфель кредитів'!A:Z,14,FALSE),\"\")","v":""},null,null,null,null,null,null,null,null,{"$f":"IFERROR(VLOOKUP(A223,'1.Портфель кредитів'!A:Z,30,FALSE),\"\")","v":""},0,{"$error":"#VALUE!"},null,null,null,null,null,{"$f":"VLOOKUP(C223,Hidden_Словник!$A$2:C$81,3,FALSE)","v":{"$error":"#N/A"}},0,{"$f":"VLOOKUP(F223,Hidden_Словник!$W$2:$X$13,2,FALSE)","v":{"$error":"#N/A"}},{"$f":"#REF!","v":{"$error":"#REF!"}},{"$error":"#N/A"}]
[null,"",{"$f":"IFERROR(VLOOKUP(A224,'1.Портфель кредитів'!A:Z,3,FALSE),\"\")","v":""},{"$f":"IFERROR(VLOOKUP(A224,'1.Портфель кредитів'!A:Z,7,FALSE),\"\")","v":""},{"$f":"IFERROR(VLOOKUP(A224,'1.Портфель кредитів'!A:Z,14,FALSE),\"\")","v":""},null,null,null,null,null,null,null,null,{"$f":"IFERROR(VLOOKUP(A224,'1.Портфель кредитів'!A:Z,30,FALSE),\"\")","v":""},0,{"$error":"#VALUE!"},null,null,null,null,null,{"$f":"VLOOKUP(C224,Hidden_Словник!$A$2:C$81,3,FALSE)","v":{"$error":"#N/A"}},0,{"$f":"VLOOKUP(F224,Hidden_Словник!$W$2:$X$13,2,FALSE)","v":{"$error":"#N/A"}},{"$f":"#REF!","v":{"$error":"#REF!"}},{"$error":"#N/A"}]
[null,"",{"$f":"IFERROR(VLOOKUP(A225,'1.Портфель кредитів'!A:Z,3,FALSE),\"\")","v":""},{"$f":"IFERROR(VLOOKUP(A225,'1.Портфель кредитів'!A:Z,7,FALSE),\"\")","v":""},{"$f":"IFERROR(VLOOKUP(A225,'1.Портфель кредитів'!A:Z,14,FALSE),\"\")","v":""},null,null,null,null,null,null,null,null,{"$f":"IFERROR(VLOOKUP(A225,'1.Портфель кредитів'!A:Z,30,FALSE),\"\")","v":""},0,{"$error":"#VALUE!"},null,null,null,null,null,{"$f":"VLOOKUP(C225,Hidden_Словник!$A$2:C$81,3,FALSE)","v":{"$error":"#N/A"}},0,{"$f":"VLOOKUP(F225,Hidden_Словник!$W$2:$X$13,2,FALSE)","v":{"$error":"#N/A"}},{"$f":"#REF!","v":{"$error":"#REF!"}},{"$error":"#N/A"}]
[null,"",{"$f":"IFERROR(VLOOKUP(A226,'1.Портфель кредитів'!A:Z,3,FALSE),\"\")","v":""},{"$f":"IFERROR(VLOOKUP(A226,'1.Портфель кредитів'!A:Z,7,FALSE),\"\")","v":""},{"$f":"IFERROR(VLOOKUP(A226,'1.Портфель кредитів'!A:Z,14,FALSE),\"\")","v":""},null,null,null,null,null,null,null,null,{"$f":"IFERROR(VLOOKUP(A226,'1.Портфель кредитів'!A:Z,30,FALSE),\"\")","v":""},0,{"$error":"#VALUE!"},null,null,null,null,null,{"$f":"VLOOKUP(C226,Hidden_Словник!$A$2:C$81,3,FALSE)","v":{"$error":"#N/A"}},0,{"$f":"VLOOKUP(F226,Hidden_Словник!$W$2:$X$13,2,FALSE)","v":{"$error":"#N/A"}},{"$f":"#REF!","v":{"$error":"#REF!"}},{"$error":"#N/A"}]
[null,"",{"$f":"IFERROR(VLOOKUP(A227,'1.Портфель кредитів'!A:Z,3,FALSE),\"\")","v":""},{"$f":"IFERROR(VLOOKUP(A227,'1.Портфель кредитів'!A:Z,7,FALSE),\"\")","v":""},{"$f":"IFERROR(VLOOKUP(A227,'1.Портфель кредитів'!A:Z,14,FALSE),\"\")","v":""},null,null,null,null,null,null,null,null,{"$f":"IFERROR(VLOOKUP(A227,'1.Портфель кредитів'!A:Z,30,FALSE),\"\")","v":""},0,{"$error":"#VALUE!"},null,null,null,null,null,{"$f":"VLOOKUP(C227,Hidden_Словник!$A$2:C$81,3,FALSE)","v":{"$error":"#N/A"}},0,{"$f":"VLOOKUP(F227,Hidden_Словник!$W$2:$X$13,2,FALSE)","v":{"$error":"#N/A"}},{"$f":"#REF!","v":{"$error":"#REF!"}},{"$error":"#N/A"}]
[null,"",{"$f":"IFERROR(VLOOKUP(A228,'1.Портфель кредитів'!A:Z,3,FALSE),\"\")","v":""},{"$f":"IFERROR(VLOOKUP(A228,'1.Портфель кредитів'!A:Z,7,FALSE),\"\")","v":""},{"$f":"IFERROR(VLOOKUP(A228,'1.Портфель кредитів'!A:Z,14,FALSE),\"\")","v":""},null,null,null,null,null,null,null,null,{"$f":"IFERROR(VLOOKUP(A228,'1.Портфель кредитів'!A:Z,30,FALSE),\"\")","v":""},0,{"$error":"#VALUE!"},null,null,null,null,null,{"$f":"VLOOKUP(C228,Hidden_Словник!$A$2:C$81,3,FALSE)","v":{"$error":"#N/A"}},0,{"$f":"VLOOKUP(F228,Hidden_Словник!$W$2:$X$13,2,FALSE)","v":{"$error":"#N/A"}},{"$f":"#REF!","v":{"$error":"#REF!"}},{"$error":"#N/A"}]
[null,"",{"$f":"IFERROR(VLOOKUP(A229,'1.Портфель кредитів'!A:Z,3,FALSE),\"\")","v":""},{"$f":"IFERROR(VLOOKUP(A229,'1.Портфель кредитів'!A:Z,7,FALSE),\"\")","v":""},{"$f":"IFERROR(VLOOKUP(A229,'1.Портфель кредитів'!A:Z,14,FALSE),\"\")","v":""},null,null,null,null,null,null,null,null,{"$f":"IFERROR(VLOOKUP(A229,'1.Портфель кредитів'!A:Z,30,FALSE),\"\")","v":""},0,{"$error":"#VALUE!"},null,null,null,null,null,{"$f":"VLOOKUP(C229,Hidden_Словник!$A$2:C$81,3,FALSE)","v":{"$error":"#N/A"}},0,{"$f":"VLOOKUP(F229,Hidden_Словник!$W$2:$X$13,2,FALSE)","v":{"$error":"#N/A"}},{"$f":"#REF!","v":{"$error":"#REF!"}},{"$error":"#N/A"}]
[null,"",{"$f":"IFERROR(VLOOKUP(A230,'1.Портфель кредитів'!A:Z,3,FALSE),\"\")","v":""},{"$f":"IFERROR(VLOOKUP(A230,'1.Портфель кредитів'!A:Z,7,FALSE),\"\")","v":""},{"$f":"IFERROR(VLOOKUP(A230,'1.Портфель кредитів'!A:Z,14,FALSE),\"\")","v":""},null,null,null,null,null,null,null,null,{"$f":"IFERROR(VLOOKUP(A230,'1.Портфель кредитів'!A:Z,30,FALSE),\"\")","v":""},0,{"$f":"N230/O230","v":{"$error":"#VALUE!"}},null,null,null,null,null,{"$f":"VLOOKUP(C230,Hidden_Словник!$A$2:C$81,3,FALSE)","v":{"$error":"#N/A"}},0,{"$f":"VLOOKUP(F230,Hidden_Словник!$W$2:$X$13,2,FALSE)","v":{"$error":"#N/A"}},{"$f":"#REF!","v":{"$error":"#REF!"}},{"$error":"#N/A"}]
[null,"",{"$f":"IFERROR(VLOOKUP(A231,'1.Портфель кредитів'!A:Z,3,FALSE),\"\")","v":""},{"$f":"IFERROR(VLOOKUP(A231,'1.Портфель кредитів'!A:Z,7,FALSE),\"\")","v":""},{"$f":"IFERROR(VLOOKUP(A231,'1.Портфель кредитів'!A:Z,14,FALSE),\"\")","v":""},null,null,null,null,null,null,null,null,{"$f":"IFERROR(VLOOKUP(A231,'1.Портфель кредитів'!A:Z,30,FALSE),\"\")","v":""},0,{"$error":"#VALUE!"},null,null,null,null,null,{"$f":"VLOOKUP(C231,Hidden_Словник!$A$2:C$81,3,FALSE)","v":{"$error":"#N/A"}},0,{"$f":"VLOOKUP(F231,Hidden_Словник!$W$2:$X$13,2,FALSE)","v":{"$error":"#N/A"}},{"$f":"#REF!","v":{"$error":"#REF!"}},{"$error":"#N/A"}]
[null,"",{"$f":"IFERROR(VLOOKUP(A232,'1.Портфель кредитів'!A:Z,3,FALSE),\"\")","v":""},{"$f":"IFERROR(VLOOKUP(A232,'1.Портфель кредитів'!A:Z,7,FALSE),\"\")","v":""},{"$f":"IFERROR(VLOOKUP(A232,'1.Портфель кредитів'!A:Z,14,FALSE),\"\")","v":""},null,null,null,null,null,null,null,null,{"$f":"IFERROR(VLOOKUP(A232,'1.Портфель кредитів'!A:Z,30,FALSE),\"\")","v":""},0,{"$error":"#VALUE!"},null,null,null,null,null,{"$f":"VLOOKUP(C232,Hidden_Словник!$A$2:C$81,3,FALSE)","v":{"$error":"#N/A"}},0,{"$f":"VLOOKUP(F232,Hidden_Словник!$W$2:$X$13,2,FALSE)","v":{"$error":"#N/A"}},{"$f":"#REF!","v":{"$error":"#REF!"}},{"$error":"#N/A"}]
[null,"",{"$f":"IFERROR(VLOOKUP(A233,'1.Портфель кредитів'!A:Z,3,FALSE),\"\")","v":""},{"$f":"IFERROR(VLOOKUP(A233,'1.Портфель кредитів'!A:Z,7,FALSE),\"\")","v":""},{"$f":"IFERROR(VLOOKUP(A233,'1.Портфель кредитів'!A:Z,14,FALSE),\"\")","v":""},null,null,null,null,null,null,null,null,{"$f":"IFERROR(VLOOKUP(A233,'1.Портфель кредитів'!A:Z,30,FALSE),\"\")","v":""},0,{"$error":"#VALUE!"},null,null,null,null,null,{"$f":"VLOOKUP(C233,Hidden_Словник!$A$2:C$81,3,FALSE)","v":{"$error":"#N/A"}},0,{"$f":"VLOOKUP(F233,Hidden_Словник!$W$2:$X$13,2,FALSE)","v":{"$error":"#N/A"}},{"$f":"#REF!","v":{"$error":"#REF!"}},{"$error":"#N/A"}]
[null,"",{"$f":"IFERROR(VLOOKUP(A234,'1.Портфель кредитів'!A:Z,3,FALSE),\"\")","v":""},{"$f":"IFERROR(VLOOKUP(A234,'1.Портфель кредитів'!A:Z,7,FALSE),\"\")","v":""},{"$f":"IFERROR(VLOOKUP(A234,'1.Портфель кредитів'!A:Z,14,FALSE),\"\")","v":""},null,null,null,null,null,null,null,null,{"$f":"IFERROR(VLOOKUP(A234,'1.Портфель кредитів'!A:Z,30,FALSE),\"\")","v":""},0,{"$error":"#VALUE!"},null,null,null,null,null,{"$f":"VLOOKUP(C234,Hidden_Словник!$A$2:C$81,3,FALSE)","v":{"$error":"#N/A"}},0,{"$f":"VLOOKUP(F234,Hidden_Словник!$W$2:$X$13,2,FALSE)","v":{"$error":"#N/A"}},{"$f":"#REF!","v":{"$error":"#REF!"}},{"$error":"#N/A"}]
[null,"",{"$f":"IFERROR(VLOOKUP(A235,'1.Портфель кредитів'!A:Z,3,FALSE),\"\")","v":""},{"$f":"IFERROR(VLOOKUP(A235,'1.Портфель кредитів'!A:Z,7,FALSE),\"\")","v":""},{"$f":"IFERROR(VLOOKUP(A235,'1.Портфель кредитів'!A:Z,14,FALSE),\"\")","v":""},null,null,null,null,null,null,null,null,{"$f":"IFERROR(VLOOKUP(A235,'1.Портфель кредитів'!A:Z,30,FALSE),\"\")","v":""},0,{"$error":"#VALUE!"},null,null,null,null,null,{"$f":"VLOOKUP(C235,Hidden_Словник!$A$2:C$81,3,FALSE)","v":{"$error":"#N/A"}},0,{"$f":"VLOOKUP(F235,Hidden_Словник!$W$2:$X$13,2,FALSE)","v":{"$error":"#N/A"}},{"$f":"#REF!","v":{"$error":"#REF!"}},{"$error":"#N/A"}]
[null,"",{"$f":"IFERROR(VLOOKUP(A236,'1.Портфель кредитів'!A:Z,3,FALSE),\"\")","v":""},{"$f":"IFERROR(VLOOKUP(A236,'1.Портфель кредитів'!A:Z,7,FALSE),\"\")","v":""},{"$f":"IFERROR(VLOOKUP(A236,'1.Портфель кредитів'!A:Z,14,FALSE),\"\")","v":""},null,null,null,null,null,null,null,null,{"$f":"IFERROR(VLOOKUP(A236,'1.Портфель кредитів'!A:Z,30,FALSE),\"\")","v":""},0,{"$error":"#VALUE!"},null,null,null,null,null,{"$f":"VLOOKUP(C236,Hidden_Словник!$A$2:C$81,3,FALSE)","v":{"$error":"#N/A"}},0,{"$f":"VLOOKUP(F236,Hidden_Словник!$W$2:$X$13,2,FALSE)","v":{"$error":"#N/A"}},{"$f":"#REF!","v":{"$error":"#REF!"}},{"$error":"#N/A"}]
[null,"",{"$f":"IFERROR(VLOOKUP(A237,'1.Портфель кредитів'!A:Z,3,FALSE),\"\")","v":""},{"$f":"IFERROR(VLOOKUP(A237,'1.Портфель кредитів'!A:Z,7,FALSE),\"\")","v":""},{"$f":"IFERROR(VLOOKUP(A237,'1.Портфель кредитів'!A:Z,14,FALSE),\"\")","v":""},null,null,null,null,null,null,null,null,{"$f":"IFERROR(VLOOKUP(A237,'1.Портфель кредитів'!A:Z,30,FALSE),\"\")","v":""},0,{"$error":"#VALUE!"},null,null,null,null,null,{"$f":"VLOOKUP(C237,Hidden_Словник!$A$2:C$81,3,FALSE)","v":{"$error":"#N/A"}},0,{"$f":"VLOOKUP(F237,Hidden_Словник!$W$2:$X$13,2,FALSE)","v":{"$error":"#N/A"}},{"$f":"#REF!","v":{"$error":"#REF!"}},{"$error":"#N/A"}]
[null,"",{"$f":"IFERROR(VLOOKUP(A238,'1.Портфель кредитів'!A:Z,3,FALSE),\"\")","v":""},{"$f":"IFERROR(VLOOKUP(A238,'1.Портфель кредитів'!A:Z,7,FALSE),\"\")","v":""},{"$f":"IFERROR(VLOOKUP(A238,'1.Портфель кредитів'!A:Z,14,FALSE),\"\")","v":""},null,null,null,null,null,null,null,null,{"$f":"IFERROR(VLOOKUP(A238,'1.Портфель кредитів'!A:Z,30,FALSE),\"\")","v":""},0,{"$error":"#VALUE!"},null,null,null,null,null,{"$f":"VLOOKUP(C238,Hidden_Словник!$A$2:C$81,3,FALSE)","v":{"$error":"#N/A"}},0,{"$f":"VLOOKUP(F238,Hidden_Словник!$W$2:$X$13,2,FALSE)","v":{"$error":"#N/A"}},{"$f":"#REF!","v":{"$error":"#REF!"}},{"$error":"#N/A"}]
[null,"",{"$f":"IFERROR(VLOOKUP(A239,'1.Портфель кредитів'!A:Z,3,FALSE),\"\")","v":""},{"$f":"IFERROR(VLOOKUP(A239,'1.Портфель кредитів'!A:Z,7,FALSE),\"\")","v":""},{"$f":"IFERROR(VLOOKUP(A239,'1.Портфель кредитів'!A:Z,14,FALSE),\"\")","v":""},null,null,null,null,null,null,null,null,{"$f":"IFERROR(VLOOKUP(A239,'1.Портфель кредитів'!A:Z,30,FALSE),\"\")","v":""},0,{"$error":"#VALUE!"},null,null,null,null,null,{"$f":"VLOOKUP(C239,Hidden_Словник!$A$2:C$81,3,FALSE)","v":{"$error":"#N/A"}},0,{"$f":"VLOOKUP(F239,Hidden_Словник!$W$2:$X$13,2,FALSE)","v":{"$error":"#N/A"}},{"$f":"#REF!","v":{"$error":"#REF!"}},{"$error":"#N/A"}]
[null,"",{"$f":"IFERROR(VLOOKUP(A240,'1.Портфель кредитів'!A:Z,3,FALSE),\"\")","v":""},{"$f":"IFERROR(VLOOKUP(A240,'1.Портфель кредитів'!A:Z,7,FALSE),\"\")","v":""},{"$f":"IFERROR(VLOOKUP(A240,'1.Портфель кредитів'!A:Z,14,FALSE),\"\")","v":""},null,null,null,null,null,null,null,null,{"$f":"IFERROR(VLOOKUP(A240,'1.Портфель кредитів'!A:Z,30,FALSE),\"\")","v":""},0,{"$error":"#VALUE!"},null,null,null,null,null,{"$f":"VLOOKUP(C240,Hidden_Словник!$A$2:C$81,3,FALSE)","v":{"$error":"#N/A"}},0,{"$f":"VLOOKUP(F240,Hidden_Словник!$W$2:$X$13,2,FALSE)","v":{"$error":"#N/A"}},{"$f":"#REF!","v":{"$error":"#REF!"}},{"$error":"#N/A"}]
[null,"",{"$f":"IFERROR(VLOOKUP(A241,'1.Портфель кредитів'!A:Z,3,FALSE),\"\")","v":""},{"$f":"IFERROR(VLOOKUP(A241,'1.Портфель кредитів'!A:Z,7,FALSE),\"\")","v":""},{"$f":"IFERROR(VLOOKUP(A241,'1.Портфель кредитів'!A:Z,14,FALSE),\"\")","v":""},null,null,null,null,null,null,null,null,{"$f":"IFERROR(VLOOKUP(A241,'1.Портфель кредитів'!A:Z,30,FALSE),\"\")","v":""},0,{"$error":"#VALUE!"},null,null,null,null,null,{"$f":"VLOOKUP(C241,Hidden_Словник!$A$2:C$81,3,FALSE)","v":{"$error":"#N/A"}},0,{"$f":"VLOOKUP(F241,Hidden_Словник!$W$2:$X$13,2,FALSE)","v":{"$error":"#N/A"}},{"$f":"#REF!","v":{"$error":"#REF!"}},{"$error":"#N/A"}]
[null,"",{"$f":"IFERROR(VLOOKUP(A242,'1.Портфель кредитів'!A:Z,3,FALSE),\"\")","v":""},{"$f":"IFERROR(VLOOKUP(A242,'1.Портфель кредитів'!A:Z,7,FALSE),\"\")","v":""},{"$f":"IFERROR(VLOOKUP(A242,'1.Портфель кредитів'!A:Z,14,FALSE),\"\")","v":""},null,null,null,null,null,null,null,null,{"$f":"IFERROR(VLOOKUP(A242,'1.Портфель кредитів'!A:Z,30,FALSE),\"\")","v":""},0,{"$error":"#VALUE!"},null,null,null,null,null,{"$f":"VLOOKUP(C242,Hidden_Словник!$A$2:C$81,3,FALSE)","v":{"$error":"#N/A"}},0,{"$f":"VLOOKUP(F242,Hidden_Словник!$W$2:$X$13,2,FALSE)","v":{"$error":"#N/A"}},{"$f":"#REF!","v":{"$error":"#REF!"}},{"$error":"#N/A"}]
[null,"",{"$f":"IFERROR(VLOOKUP(A243,'1.Портфель кредитів'!A:Z,3,FALSE),\"\")","v":""},{"$f":"IFERROR(VLOOKUP(A243,'1.Портфель кредитів'!A:Z,7,FALSE),\"\")","v":""},{"$f":"IFERROR(VLOOKUP(A243,'1.Портфель кредитів'!A:Z,14,FALSE),\"\")","v":""},null,null,null,null,null,null,null,null,{"$f":"IFERROR(VLOOKUP(A243,'1.Портфель кредитів'!A:Z,30,FALSE),\"\")","v":""},0,{"$error":"#VALUE!"},null,null,null,null,null,{"$f":"VLOOKUP(C243,Hidden_Словник!$A$2:C$81,3,FALSE)","v":{"$error":"#N/A"}},0,{"$f":"VLOOKUP(F243,Hidden_Словник!$W$2:$X$13,2,FALSE)","v":{"$error":"#N/A"}},{"$f":"#REF!","v":{"$error":"#REF!"}},{"$error":"#N/A"}]
[null,"",{"$f":"IFERROR(VLOOKUP(A244,'1.Портфель кредитів'!A:Z,3,FALSE),\"\")","v":""},{"$f":"IFERROR(VLOOKUP(A244,'1.Портфель кредитів'!A:Z,7,FALSE),\"\")","v":""},{"$f":"IFERROR(VLOOKUP(A244,'1.Портфель кредитів'!A:Z,14,FALSE),\"\")","v":""},null,null,null,null,null,null,null,null,{"$f":"IFERROR(VLOOKUP(A244,'1.Портфель кредитів'!A:Z,30,FALSE),\"\")","v":""},0,{"$error":"#VALUE!"},null,null,null,null,null,{"$f":"VLOOKUP(C244,Hidden_Словник!$A$2:C$81,3,FALSE)","v":{"$error":"#N/A"}},0,{"$f":"VLOOKUP(F244,Hidden_Словник!$W$2:$X$13,2,FALSE)","v":{"$error":"#N/A"}},{"$f":"#REF!","v":{"$error":"#REF!"}},{"$error":"#N/A"}]
[null,"",{"$f":"IFERROR(VLOOKUP(A245,'1.Портфель кредитів'!A:Z,3,FALSE),\"\")","v":""},{"$f":"IFERROR(VLOOKUP(A245,'1.Портфель кредитів'!A:Z,7,FALSE),\"\")","v":""},{"$f":"IFERROR(VLOOKUP(A245,'1.Портфель кредитів'!A:Z,14,FALSE),\"\")","v":""},null,null,null,null,null,null,null,null,{"$f":"IFERROR(VLOOKUP(A245,'1.Портфель кредитів'!A:Z,30,FALSE),\"\")","v":""},0,{"$error":"#VALUE!"},null,null,null,null,null,{"$f":"VLOOKUP(C245,Hidden_Словник!$A$2:C$81,3,FALSE)","v":{"$error":"#N/A"}},0,{"$f":"VLOOKUP(F245,Hidden_Словник!$W$2:$X$13,2,FALSE)","v":{"$error":"#N/A"}},{"$f":"#REF!","v":{"$error":"#REF!"}},{"$error":"#N/A"}]
[null,"",{"$f":"IFERROR(VLOOKUP(A246,'1.Портфель кредитів'!A:Z,3,FALSE),\"\")","v":""},{"$f":"IFERROR(VLOOKUP(A246,'1.Портфель кредитів'!A:Z,7,FALSE),\"\")","v":""},{"$f":"IFERROR(VLOOKUP(A246,'1.Портфель кредитів'!A:Z,14,FALSE),\"\")","v":""},null,null,null,null,null,null,null,null,{"$f":"IFERROR(VLOOKUP(A246,'1.Портфель кредитів'!A:Z,30,FALSE),\"\")","v":""},0,{"$error":"#VALUE!"},null,null,null,null,null,{"$f":"VLOOKUP(C246,Hidden_Словник!$A$2:C$81,3,FALSE)","v":{"$error":"#N/A"}},0,{"$f":"VLOOKUP(F246,Hidden_Словник!$W$2:$X$13,2,FALSE)","v":{"$error":"#N/A"}},{"$f":"#REF!","v":{"$error":"#REF!"}},{"$error":"#N/A"}]
[null,"",{"$f":"IFERROR(VLOOKUP(A247,'1.Портфель кредитів'!A:Z,3,FALSE),\"\")","v":""},{"$f":"IFERROR(VLOOKUP(A247,'1.Портфель кредитів'!A:Z,7,FALSE),\"\")","v":""},{"$f":"IFERROR(VLOOKUP(A247,'1.Портфель кредитів'!A:Z,14,FALSE),\"\")","v":""},null,null,null,null,null,null,null,null,{"$f":"IFERROR(VLOOKUP(A247,'1.Портфель кредитів'!A:Z,30,FALSE),\"\")","v":""},0,{"$error":"#VALUE!"},null,null,null,null,null,{"$f":"VLOOKUP(C247,Hidden_Словник!$A$2:C$81,3,FALSE)","v":{"$error":"#N/A"}},0,{"$f":"VLOOKUP(F247,Hidden_Словник!$W$2:$X$13,2,FALSE)","v":{"$error":"#N/A"}},{"$f":"#REF!","v":{"$error":"#REF!"}},{"$error":"#N/A"}]
[null,"",{"$f":"IFERROR(VLOOKUP(A248,'1.Портфель кредитів'!A:Z,3,FALSE),\"\")","v":""},{"$f":"IFERROR(VLOOKUP(A248,'1.Портфель кредитів'!A:Z,7,FALSE),\"\")","v":""},{"$f":"IFERROR(VLOOKUP(A248,'1.Портфель кредитів'!A:Z,14,FALSE),\"\")","v":""},null,null,null,null,null,null,null,null,{"$f":"IFERROR(VLOOKUP(A248,'1.Портфель кредитів'!A:Z,30,FALSE),\"\")","v":""},0,{"$error":"#VALUE!"},null,null,null,null,null,{"$f":"VLOOKUP(C248,Hidden_Словник!$A$2:C$81,3,FALSE)","v":{"$error":"#N/A"}},0,{"$f":"VLOOKUP(F248,Hidden_Словник!$W$2:$X$13,2,FALSE)","v":{"$error":"#N/A"}},{"$f":"#REF!","v":{"$error":"#REF!"}},{"$error":"#N/A"}]
[null,"",{"$f":"IFERROR(VLOOKUP(A249,'1.Портфель кредитів'!A:Z,3,FALSE),\"\")","v":""},{"$f":"IFERROR(VLOOKUP(A249,'1.Портфель кредитів'!A:Z,7,FALSE),\"\")","v":""},{"$f":"IFERROR(VLOOKUP(A249,'1.Портфель кредитів'!A:Z,14,FALSE),\"\")","v":""},null,null,null,null,null,null,null,null,{"$f":"IFERROR(VLOOKUP(A249,'1.Портфель кредитів'!A:Z,30,FALSE),\"\")","v":""},0,{"$error":"#VALUE!"},null,null,null,null,null,{"$f":"VLOOKUP(C249,Hidden_Словник!$A$2:C$81,3,FALSE)","v":{"$error":"#N/A"}},0,{"$f":"VLOOKUP(F249,Hidden_Словник!$W$2:$X$13,2,FALSE)","v":{"$error":"#N/A"}},{"$f":"#REF!","v":{"$error":"#REF!"}},{"$error":"#N/A"}]
[null,"",{"$f":"IFERROR(VLOOKUP(A250,'1.Портфель кредитів'!A:Z,3,FALSE),\"\")","v":""},{"$f":"IFERROR(VLOOKUP(A250,'1.Портфель кредитів'!A:Z,7,FALSE),\"\")","v":""},{"$f":"IFERROR(VLOOKUP(A250,'1.Портфель кредитів'!A:Z,14,FALSE),\"\")","v":""},null,null,null,null,null,null,null,null,{"$f":"IFERROR(VLOOKUP(A250,'1.Портфель кредитів'!A:Z,30,FALSE),\"\")","v":""},0,{"$error":"#VALUE!"},null,null,null,null,null,{"$f":"VLOOKUP(C250,Hidden_Словник!$A$2:C$81,3,FALSE)","v":{"$error":"#N/A"}},0,{"$f":"VLOOKUP(F250,Hidden_Словник!$W$2:$X$13,2,FALSE)","v":{"$error":"#N/A"}},{"$f":"#REF!","v":{"$error":"#REF!"}},{"$error":"#N/A"}]
[null,"",{"$f":"IFERROR(VLOOKUP(A251,'1.Портфель кредитів'!A:Z,3,FALSE),\"\")","v":""},{"$f":"IFERROR(VLOOKUP(A251,'1.Портфель кредитів'!A:Z,7,FALSE),\"\")","v":""},{"$f":"IFERROR(VLOOKUP(A251,'1.Портфель кредитів'!A:Z,14,FALSE),\"\")","v":""},null,null,null,null,null,null,null,null,{"$f":"IFERROR(VLOOKUP(A251,'1.Портфель кредитів'!A:Z,30,FALSE),\"\")","v":""},0,{"$error":"#VALUE!"},null,null,null,null,null,{"$f":"VLOOKUP(C251,Hidden_Словник!$A$2:C$81,3,FALSE)","v":{"$error":"#N/A"}},0,{"$f":"VLOOKUP(F251,Hidden_Словник!$W$2:$X$13,2,FALSE)","v":{"$error":"#N/A"}},{"$f":"#REF!","v":{"$error":"#REF!"}},{"$error":"#N/A"}]
[null,"",{"$f":"IFERROR(VLOOKUP(A252,'1.Портфель кредитів'!A:Z,3,FALSE),\"\")","v":""},{"$f":"IFERROR(VLOOKUP(A252,'1.Портфель кредитів'!A:Z,7,FALSE),\"\")","v":""},{"$f":"IFERROR(VLOOKUP(A252,'1.Портфель кредитів'!A:Z,14,FALSE),\"\")","v":""},null,null,null,null,null,null,null,null,{"$f":"IFERROR(VLOOKUP(A252,'1.Портфель кредитів'!A:Z,30,FALSE),\"\")","v":""},0,{"$error":"#VALUE!"},null,null,null,null,null,{"$f":"VLOOKUP(C252,Hidden_Словник!$A$2:C$81,3,FALSE)","v":{"$error":"#N/A"}},0,{"$f":"VLOOKUP(F252,Hidden_Словник!$W$2:$X$13,2,FALSE)","v":{"$error":"#N/A"}},{"$f":"#REF!","v":{"$error":"#REF!"}},{"$error":"#N/A"}]
[null,"",{"$f":"IFERROR(VLOOKUP(A253,'1.Портфель кредитів'!A:Z,3,FALSE),\"\")","v":""},{"$f":"IFERROR(VLOOKUP(A253,'1.Портфель кредитів'!A:Z,7,FALSE),\"\")","v":""},{"$f":"IFERROR(VLOOKUP(A253,'1.Портфель кредитів'!A:Z,14,FALSE),\"\")","v":""},null,null,null,null,null,null,null,null,{"$f":"IFERROR(VLOOKUP(A253,'1.Портфель кредитів'!A:Z,30,FALSE),\"\")","v":""},0,{"$error":"#VALUE!"},null,null,null,null,null,{"$f":"VLOOKUP(C253,Hidden_Словник!$A$2:C$81,3,FALSE)","v":{"$error":"#N/A"}},0,{"$f":"VLOOKUP(F253,Hidden_Словник!$W$2:$X$13,2,FALSE)","v":{"$error":"#N/A"}},{"$f":"#REF!","v":{"$error":"#REF!"}},{"$error":"#N/A"}]
[null,{"$f":"IFERROR(Z254,\"\")","v":""},{"$f":"IFERROR(VLOOKUP(A254,'1.Портфель кредитів'!A:Z,3,FALSE),\"\")","v":""},{"$f":"IFERROR(VLOOKUP(A254,'1.Портфель кредитів'!A:Z,7,FALSE),\"\")","v":""},{"$f":"IFERROR(VLOOKUP(A254,'1.Портфель кредитів'!A:Z,14,FALSE),\"\")","v":""},null,null,null,null,null,null,null,null,{"$f":"IFERROR(VLOOKUP(A254,'1.Портфель кредитів'!A:Z,30,FALSE),\"\")","v":""},0,{"$error":"#VALUE!"},null,null,null,null,null,{"$f":"VLOOKUP(C254,Hidden_Словник!$A$2:C$81,3,FALSE)","v":{"$error":"#N/A"}},0,{"$f":"VLOOKUP(F254,Hidden_Словник!$W$2:$X$13,2,FALSE)","v":{"$error":"#N/A"}},{"$f":"#REF!","v":{"$error":"#REF!"}},{"$f":"V254&\"_\"&W254&X254&Y254","v":{"$error":"#N/A"}}]
[null,"",{"$f":"IFERROR(VLOOKUP(A255,'1.Портфель кредитів'!A:Z,3,FALSE),\"\")","v":""},{"$f":"IFERROR(VLOOKUP(A255,'1.Портфель кредитів'!A:Z,7,FALSE),\"\")","v":""},{"$f":"IFERROR(VLOOKUP(A255,'1.Портфель кредитів'!A:Z,14,FALSE),\"\")","v":""},null,null,null,null,null,null,null,null,{"$f":"IFERROR(VLOOKUP(A255,'1.Портфель кредитів'!A:Z,30,FALSE),\"\")","v":""},0,{"$error":"#VALUE!"},null,null,null,null,null,{"$f":"VLOOKUP(C255,Hidden_Словник!$A$2:C$81,3,FALSE)","v":{"$error":"#N/A"}},0,{"$f":"VLOOKUP(F255,Hidden_Словник!$W$2:$X$13,2,FALSE)","v":{"$error":"#N/A"}},{"$f":"#REF!","v":{"$error":"#REF!"}},{"$error":"#N/A"}]
[null,"",{"$f":"IFERROR(VLOOKUP(A256,'1.Портфель кредитів'!A:Z,3,FALSE),\"\")","v":""},{"$f":"IFERROR(VLOOKUP(A256,'1.Портфель кредитів'!A:Z,7,FALSE),\"\")","v":""},{"$f":"IFERROR(VLOOKUP(A256,'1.Портфель кредитів'!A:Z,14,FALSE),\"\")","v":""},null,null,null,null,null,null,null,null,{"$f":"IFERROR(VLOOKUP(A256,'1.Портфель кредитів'!A:Z,30,FALSE),\"\")","v":""},0,{"$error":"#VALUE!"},null,null,null,null,null,{"$f":"VLOOKUP(C256,Hidden_Словник!$A$2:C$81,3,FALSE)","v":{"$error":"#N/A"}},0,{"$f":"VLOOKUP(F256,Hidden_Словник!$W$2:$X$13,2,FALSE)","v":{"$error":"#N/A"}},{"$f":"#REF!","v":{"$error":"#REF!"}},{"$error":"#N/A"}]
[null,"",{"$f":"IFERROR(VLOOKUP(A257,'1.Портфель кредитів'!A:Z,3,FALSE),\"\")","v":""},{"$f":"IFERROR(VLOOKUP(A257,'1.Портфель кредитів'!A:Z,7,FALSE),\"\")","v":""},{"$f":"IFERROR(VLOOKUP(A257,'1.Портфель кредитів'!A:Z,14,FALSE),\"\")","v":""},null,null,null,null,null,null,null,null,{"$f":"IFERROR(VLOOKUP(A257,'1.Портфель кредитів'!A:Z,30,FALSE),\"\")","v":""},0,{"$error":"#VALUE!"},null,null,null,null,null,{"$f":"VLOOKUP(C257,Hidden_Словник!$A$2:C$81,3,FALSE)","v":{"$error":"#N/A"}},0,{"$f":"VLOOKUP(F257,Hidden_Словник!$W$2:$X$13,2,FALSE)","v":{"$error":"#N/A"}},{"$f":"#REF!","v":{"$error":"#REF!"}},{"$error":"#N/A"}]
[null,"",{"$f":"IFERROR(VLOOKUP(A258,'1.Портфель кредитів'!A:Z,3,FALSE),\"\")","v":""},{"$f":"IFERROR(VLOOKUP(A258,'1.Портфель кредитів'!A:Z,7,FALSE),\"\")","v":""},{"$f":"IFERROR(VLOOKUP(A258,'1.Портфель кредитів'!A:Z,14,FALSE),\"\")","v":""},null,null,null,null,null,null,null,null,{"$f":"IFERROR(VLOOKUP(A258,'1.Портфель кредитів'!A:Z,30,FALSE),\"\")","v":""},0,{"$error":"#VALUE!"},null,null,null,null,null,{"$f":"VLOOKUP(C258,Hidden_Словник!$A$2:C$81,3,FALSE)","v":{"$error":"#N/A"}},0,{"$f":"VLOOKUP(F258,Hidden_Словник!$W$2:$X$13,2,FALSE)","v":{"$error":"#N/A"}},{"$f":"#REF!","v":{"$error":"#REF!"}},{"$error":"#N/A"}]
[null,"",{"$f":"IFERROR(VLOOKUP(A259,'1.Портфель кредитів'!A:Z,3,FALSE),\"\")","v":""},{"$f":"IFERROR(VLOOKUP(A259,'1.Портфель кредитів'!A:Z,7,FALSE),\"\")","v":""},{"$f":"IFERROR(VLOOKUP(A259,'1.Портфель кредитів'!A:Z,14,FALSE),\"\")","v":""},null,null,null,null,null,null,null,null,{"$f":"IFERROR(VLOOKUP(A259,'1.Портфель кредитів'!A:Z,30,FALSE),\"\")","v":""},0,{"$error":"#VALUE!"},null,null,null,null,null,{"$f":"VLOOKUP(C259,Hidden_Словник!$A$2:C$81,3,FALSE)","v":{"$error":"#N/A"}},0,{"$f":"VLOOKUP(F259,Hidden_Словник!$W$2:$X$13,2,FALSE)","v":{"$error":"#N/A"}},{"$f":"#REF!","v":{"$error":"#REF!"}},{"$error":"#N/A"}]
[null,"",{"$f":"IFERROR(VLOOKUP(A260,'1.Портфель кредитів'!A:Z,3,FALSE),\"\")","v":""},{"$f":"IFERROR(VLOOKUP(A260,'1.Портфель кредитів'!A:Z,7,FALSE),\"\")","v":""},{"$f":"IFERROR(VLOOKUP(A260,'1.Портфель кредитів'!A:Z,14,FALSE),\"\")","v":""},null,null,null,null,null,null,null,null,{"$f":"IFERROR(VLOOKUP(A260,'1.Портфель кредитів'!A:Z,30,FALSE),\"\")","v":""},0,{"$error":"#VALUE!"},null,null,null,null,null,{"$f":"VLOOKUP(C260,Hidden_Словник!$A$2:C$81,3,FALSE)","v":{"$error":"#N/A"}},0,{"$f":"VLOOKUP(F260,Hidden_Словник!$W$2:$X$13,2,FALSE)","v":{"$error":"#N/A"}},{"$f":"#REF!","v":{"$error":"#REF!"}},{"$error":"#N/A"}]
[null,"",{"$f":"IFERROR(VLOOKUP(A261,'1.Портфель кредитів'!A:Z,3,FALSE),\"\")","v":""},{"$f":"IFERROR(VLOOKUP(A261,'1.Портфель кредитів'!A:Z,7,FALSE),\"\")","v":""},{"$f":"IFERROR(VLOOKUP(A261,'1.Портфель кредитів'!A:Z,14,FALSE),\"\")","v":""},null,null,null,null,null,null,null,null,{"$f":"IFERROR(VLOOKUP(A261,'1.Портфель кредитів'!A:Z,30,FALSE),\"\")","v":""},0,{"$error":"#VALUE!"},null,null,null,null,null,{"$f":"VLOOKUP(C261,Hidden_Словник!$A$2:C$81,3,FALSE)","v":{"$error":"#N/A"}},0,{"$f":"VLOOKUP(F261,Hidden_Словник!$W$2:$X$13,2,FALSE)","v":{"$error":"#N/A"}},{"$f":"#REF!","v":{"$error":"#REF!"}},{"$error":"#N/A"}]
[null,"",{"$f":"IFERROR(VLOOKUP(A262,'1.Портфель кредитів'!A:Z,3,FALSE),\"\")","v":""},{"$f":"IFERROR(VLOOKUP(A262,'1.Портфель кредитів'!A:Z,7,FALSE),\"\")","v":""},{"$f":"IFERROR(VLOOKUP(A262,'1.Портфель кредитів'!A:Z,14,FALSE),\"\")","v":""},null,null,null,null,null,null,null,null,{"$f":"IFERROR(VLOOKUP(A262,'1.Портфель кредитів'!A:Z,30,FALSE),\"\")","v":""},0,{"$error":"#VALUE!"},null,null,null,null,null,{"$f":"VLOOKUP(C262,Hidden_Словник!$A$2:C$81,3,FALSE)","v":{"$error":"#N/A"}},0,{"$f":"VLOOKUP(F262,Hidden_Словник!$W$2:$X$13,2,FALSE)","v":{"$error":"#N/A"}},{"$f":"#REF!","v":{"$error":"#REF!"}},{"$error":"#N/A"}]
[null,"",{"$f":"IFERROR(VLOOKUP(A263,'1.Портфель кредитів'!A:Z,3,FALSE),\"\")","v":""},{"$f":"IFERROR(VLOOKUP(A263,'1.Портфель кредитів'!A:Z,7,FALSE),\"\")","v":""},{"$f":"IFERROR(VLOOKUP(A263,'1.Портфель кредитів'!A:Z,14,FALSE),\"\")","v":""},null,null,null,null,null,null,null,null,{"$f":"IFERROR(VLOOKUP(A263,'1.Портфель кредитів'!A:Z,30,FALSE),\"\")","v":""},0,{"$error":"#VALUE!"},null,null,null,null,null,{"$f":"VLOOKUP(C263,Hidden_Словник!$A$2:C$81,3,FALSE)","v":{"$error":"#N/A"}},0,{"$f":"VLOOKUP(F263,Hidden_Словник!$W$2:$X$13,2,FALSE)","v":{"$error":"#N/A"}},{"$f":"#REF!","v":{"$error":"#REF!"}},{"$error":"#N/A"}]
[null,"",{"$f":"IFERROR(VLOOKUP(A264,'1.Портфель кредитів'!A:Z,3,FALSE),\"\")","v":""},{"$f":"IFERROR(VLOOKUP(A264,'1.Портфель кредитів'!A:Z,7,FALSE),\"\")","v":""},{"$f":"IFERROR(VLOOKUP(A264,'1.Портфель кредитів'!A:Z,14,FALSE),\"\")","v":""},null,null,null,null,null,null,null,null,{"$f":"IFERROR(VLOOKUP(A264,'1.Портфель кредитів'!A:Z,30,FALSE),\"\")","v":""},0,{"$error":"#VALUE!"},null,null,null,null,null,{"$f":"VLOOKUP(C264,Hidden_Словник!$A$2:C$81,3,FALSE)","v":{"$error":"#N/A"}},0,{"$f":"VLOOKUP(F264,Hidden_Словник!$W$2:$X$13,2,FALSE)","v":{"$error":"#N/A"}},{"$f":"#REF!","v":{"$error":"#REF!"}},{"$error":"#N/A"}]
[null,"",{"$f":"IFERROR(VLOOKUP(A265,'1.Портфель кредитів'!A:Z,3,FALSE),\"\")","v":""},{"$f":"IFERROR(VLOOKUP(A265,'1.Портфель кредитів'!A:Z,7,FALSE),\"\")","v":""},{"$f":"IFERROR(VLOOKUP(A265,'1.Портфель кредитів'!A:Z,14,FALSE),\"\")","v":""},null,null,null,null,null,null,null,null,{"$f":"IFERROR(VLOOKUP(A265,'1.Портфель кредитів'!A:Z,30,FALSE),\"\")","v":""},0,{"$error":"#VALUE!"},null,null,null,null,null,{"$f":"VLOOKUP(C265,Hidden_Словник!$A$2:C$81,3,FALSE)","v":{"$error":"#N/A"}},0,{"$f":"VLOOKUP(F265,Hidden_Словник!$W$2:$X$13,2,FALSE)","v":{"$error":"#N/A"}},{"$f":"#REF!","v":{"$error":"#REF!"}},{"$error":"#N/A"}]
[null,"",{"$f":"IFERROR(VLOOKUP(A266,'1.Портфель кредитів'!A:Z,3,FALSE),\"\")","v":""},{"$f":"IFERROR(VLOOKUP(A266,'1.Портфель кредитів'!A:Z,7,FALSE),\"\")","v":""},{"$f":"IFERROR(VLOOKUP(A266,'1.Портфель кредитів'!A:Z,14,FALSE),\"\")","v":""},null,null,null,null,null,null,null,null,{"$f":"IFERROR(VLOOKUP(A266,'1.Портфель кредитів'!A:Z,30,FALSE),\"\")","v":""},0,{"$error":"#VALUE!"},null,null,null,null,null,{"$f":"VLOOKUP(C266,Hidden_Словник!$A$2:C$81,3,FALSE)","v":{"$error":"#N/A"}},0,{"$f":"VLOOKUP(F266,Hidden_Словник!$W$2:$X$13,2,FALSE)","v":{"$error":"#N/A"}},{"$f":"#REF!","v":{"$error":"#REF!"}},{"$error":"#N/A"}]
[null,"",{"$f":"IFERROR(VLOOKUP(A267,'1.Портфель кредитів'!A:Z,3,FALSE),\"\")","v":""},{"$f":"IFERROR(VLOOKUP(A267,'1.Портфель кредитів'!A:Z,7,FALSE),\"\")","v":""},{"$f":"IFERROR(VLOOKUP(A267,'1.Портфель кредитів'!A:Z,14,FALSE),\"\")","v":""},null,null,null,null,null,null,null,null,{"$f":"IFERROR(VLOOKUP(A267,'1.Портфель кредитів'!A:Z,30,FALSE),\"\")","v":""},0,{"$error":"#VALUE!"},null,null,null,null,null,{"$f":"VLOOKUP(C267,Hidden_Словник!$A$2:C$81,3,FALSE)","v":{"$error":"#N/A"}},0,{"$f":"VLOOKUP(F267,Hidden_Словник!$W$2:$X$13,2,FALSE)","v":{"$error":"#N/A"}},{"$f":"#REF!","v":{"$error":"#REF!"}},{"$error":"#N/A"}]
[null,"",{"$f":"IFERROR(VLOOKUP(A268,'1.Портфель кредитів'!A:Z,3,FALSE),\"\")","v":""},{"$f":"IFERROR(VLOOKUP(A268,'1.Портфель кредитів'!A:Z,7,FALSE),\"\")","v":""},{"$f":"IFERROR(VLOOKUP(A268,'1.Портфель кредитів'!A:Z,14,FALSE),\"\")","v":""},null,null,null,null,null,null,null,null,{"$f":"IFERROR(VLOOKUP(A268,'1.Портфель кредитів'!A:Z,30,FALSE),\"\")","v":""},0,{"$error":"#VALUE!"},null,null,null,null,null,{"$f":"VLOOKUP(C268,Hidden_Словник!$A$2:C$81,3,FALSE)","v":{"$error":"#N/A"}},0,{"$f":"VLOOKUP(F268,Hidden_Словник!$W$2:$X$13,2,FALSE)","v":{"$error":"#N/A"}},{"$f":"#REF!","v":{"$error":"#REF!"}},{"$error":"#N/A"}]
[null,"",{"$f":"IFERROR(VLOOKUP(A269,'1.Портфель кредитів'!A:Z,3,FALSE),\"\")","v":""},{"$f":"IFERROR(VLOOKUP(A269,'1.Портфель кредитів'!A:Z,7,FALSE),\"\")","v":""},{"$f":"IFERROR(VLOOKUP(A269,'1.Портфель кредитів'!A:Z,14,FALSE),\"\")","v":""},null,null,null,null,null,null,null,null,{"$f":"IFERROR(VLOOKUP(A269,'1.Портфель кредитів'!A:Z,30,FALSE),\"\")","v":""},0,{"$error":"#VALUE!"},null,null,null,null,null,{"$f":"VLOOKUP(C269,Hidden_Словник!$A$2:C$81,3,FALSE)","v":{"$error":"#N/A"}},0,{"$f":"VLOOKUP(F269,Hidden_Словник!$W$2:$X$13,2,FALSE)","v":{"$error":"#N/A"}},{"$f":"#REF!","v":{"$error":"#REF!"}},{"$error":"#N/A"}]
[null,"",{"$f":"IFERROR(VLOOKUP(A270,'1.Портфель кредитів'!A:Z,3,FALSE),\"\")","v":""},{"$f":"IFERROR(VLOOKUP(A270,'1.Портфель кредитів'!A:Z,7,FALSE),\"\")","v":""},{"$f":"IFERROR(VLOOKUP(A270,'1.Портфель кредитів'!A:Z,14,FALSE),\"\")","v":""},null,null,null,null,null,null,null,null,{"$f":"IFERROR(VLOOKUP(A270,'1.Портфель кредитів'!A:Z,30,FALSE),\"\")","v":""},0,{"$error":"#VALUE!"},null,null,null,null,null,{"$f":"VLOOKUP(C270,Hidden_Словник!$A$2:C$81,3,FALSE)","v":{"$error":"#N/A"}},0,{"$f":"VLOOKUP(F270,Hidden_Словник!$W$2:$X$13,2,FALSE)","v":{"$error":"#N/A"}},{"$f":"#REF!","v":{"$error":"#REF!"}},{"$error":"#N/A"}]
[null,"",{"$f":"IFERROR(VLOOKUP(A271,'1.Портфель кредитів'!A:Z,3,FALSE),\"\")","v":""},{"$f":"IFERROR(VLOOKUP(A271,'1.Портфель кредитів'!A:Z,7,FALSE),\"\")","v":""},{"$f":"IFERROR(VLOOKUP(A271,'1.Портфель кредитів'!A:Z,14,FALSE),\"\")","v":""},null,null,null,null,null,null,null,null,{"$f":"IFERROR(VLOOKUP(A271,'1.Портфель кредитів'!A:Z,30,FALSE),\"\")","v":""},0,{"$error":"#VALUE!"},null,null,null,null,null,{"$f":"VLOOKUP(C271,Hidden_Словник!$A$2:C$81,3,FALSE)","v":{"$error":"#N/A"}},0,{"$f":"VLOOKUP(F271,Hidden_Словник!$W$2:$X$13,2,FALSE)","v":{"$error":"#N/A"}},{"$f":"#REF!","v":{"$error":"#REF!"}},{"$error":"#N/A"}]
[null,"",{"$f":"IFERROR(VLOOKUP(A272,'1.Портфель кредитів'!A:Z,3,FALSE),\"\")","v":""},{"$f":"IFERROR(VLOOKUP(A272,'1.Портфель кредитів'!A:Z,7,FALSE),\"\")","v":""},{"$f":"IFERROR(VLOOKUP(A272,'1.Портфель кредитів'!A:Z,14,FALSE),\"\")","v":""},null,null,null,null,null,null,null,null,{"$f":"IFERROR(VLOOKUP(A272,'1.Портфель кредитів'!A:Z,30,FALSE),\"\")","v":""},0,{"$error":"#VALUE!"},null,null,null,null,null,{"$f":"VLOOKUP(C272,Hidden_Словник!$A$2:C$81,3,FALSE)","v":{"$error":"#N/A"}},0,{"$f":"VLOOKUP(F272,Hidden_Словник!$W$2:$X$13,2,FALSE)","v":{"$error":"#N/A"}},{"$f":"#REF!","v":{"$error":"#REF!"}},{"$error":"#N/A"}]
[null,"",{"$f":"IFERROR(VLOOKUP(A273,'1.Портфель кредитів'!A:Z,3,FALSE),\"\")","v":""},{"$f":"IFERROR(VLOOKUP(A273,'1.Портфель кредитів'!A:Z,7,FALSE),\"\")","v":""},{"$f":"IFERROR(VLOOKUP(A273,'1.Портфель кредитів'!A:Z,14,FALSE),\"\")","v":""},null,null,null,null,null,null,null,null,{"$f":"IFERROR(VLOOKUP(A273,'1.Портфель кредитів'!A:Z,30,FALSE),\"\")","v":""},0,{"$error":"#VALUE!"},null,null,null,null,null,{"$f":"VLOOKUP(C273,Hidden_Словник!$A$2:C$81,3,FALSE)","v":{"$error":"#N/A"}},0,{"$f":"VLOOKUP(F273,Hidden_Словник!$W$2:$X$13,2,FALSE)","v":{"$error":"#N/A"}},{"$f":"#REF!","v":{"$error":"#REF!"}},{"$error":"#N/A"}]
[null,"",{"$f":"IFERROR(VLOOKUP(A274,'1.Портфель кредитів'!A:Z,3,FALSE),\"\")","v":""},{"$f":"IFERROR(VLOOKUP(A274,'1.Портфель кредитів'!A:Z,7,FALSE),\"\")","v":""},{"$f":"IFERROR(VLOOKUP(A274,'1.Портфель кредитів'!A:Z,14,FALSE),\"\")","v":""},null,null,null,null,null,null,null,null,{"$f":"IFERROR(VLOOKUP(A274,'1.Портфель кредитів'!A:Z,30,FALSE),\"\")","v":""},0,{"$error":"#VALUE!"},null,null,null,null,null,{"$f":"VLOOKUP(C274,Hidden_Словник!$A$2:C$81,3,FALSE)","v":{"$error":"#N/A"}},0,{"$f":"VLOOKUP(F274,Hidden_Словник!$W$2:$X$13,2,FALSE)","v":{"$error":"#N/A"}},{"$f":"#REF!","v":{"$error":"#REF!"}},{"$error":"#N/A"}]
[null,"",{"$f":"IFERROR(VLOOKUP(A275,'1.Портфель кредитів'!A:Z,3,FALSE),\"\")","v":""},{"$f":"IFERROR(VLOOKUP(A275,'1.Портфель кредитів'!A:Z,7,FALSE),\"\")","v":""},{"$f":"IFERROR(VLOOKUP(A275,'1.Портфель кредитів'!A:Z,14,FALSE),\"\")","v":""},null,null,null,null,null,null,null,null,{"$f":"IFERROR(VLOOKUP(A275,'1.Портфель кредитів'!A:Z,30,FALSE),\"\")","v":""},0,{"$error":"#VALUE!"},null,null,null,null,null,{"$f":"VLOOKUP(C275,Hidden_Словник!$A$2:C$81,3,FALSE)","v":{"$error":"#N/A"}},{"$f":"ROUNDUP(K275,0)","v":0},{"$f":"VLOOKUP(F275,Hidden_Словник!$W$2:$X$13,2,FALSE)","v":{"$error":"#N/A"}},{"$f":"#REF!","v":{"$error":"#REF!"}},{"$error":"#N/A"}]
[null,"",{"$f":"IFERROR(VLOOKUP(A276,'1.Портфель кредитів'!A:Z,3,FALSE),\"\")","v":""},{"$f":"IFERROR(VLOOKUP(A276,'1.Портфель кредитів'!A:Z,7,FALSE),\"\")","v":""},{"$f":"IFERROR(VLOOKUP(A276,'1.Портфель кредитів'!A:Z,14,FALSE),\"\")","v":""},null,null,null,null,null,null,null,null,{"$f":"IFERROR(VLOOKUP(A276,'1.Портфель кредитів'!A:Z,30,FALSE),\"\")","v":""},0,{"$error":"#VALUE!"},null,null,null,null,null,{"$f":"VLOOKUP(C276,Hidden_Словник!$A$2:C$81,3,FALSE)","v":{"$error":"#N/A"}},0,{"$f":"VLOOKUP(F276,Hidden_Словник!$W$2:$X$13,2,FALSE)","v":{"$error":"#N/A"}},{"$f":"#REF!","v":{"$error":"#REF!"}},{"$error":"#N/A"}]
[null,"",{"$f":"IFERROR(VLOOKUP(A277,'1.Портфель кредитів'!A:Z,3,FALSE),\"\")","v":""},{"$f":"IFERROR(VLOOKUP(A277,'1.Портфель кредитів'!A:Z,7,FALSE),\"\")","v":""},{"$f":"IFERROR(VLOOKUP(A277,'1.Портфель кредитів'!A:Z,14,FALSE),\"\")","v":""},null,null,null,null,null,null,null,null,{"$f":"IFERROR(VLOOKUP(A277,'1.Портфель кредитів'!A:Z,30,FALSE),\"\")","v":""},0,{"$error":"#VALUE!"},null,null,null,null,null,{"$f":"VLOOKUP(C277,Hidden_Словник!$A$2:C$81,3,FALSE)","v":{"$error":"#N/A"}},0,{"$f":"VLOOKUP(F277,Hidden_Словник!$W$2:$X$13,2,FALSE)","v":{"$error":"#N/A"}},{"$f":"#REF!","v":{"$error":"#REF!"}},{"$error":"#N/A"}]
[null,"",{"$f":"IFERROR(VLOOKUP(A278,'1.Портфель кредитів'!A:Z,3,FALSE),\"\")","v":""},{"$f":"IFERROR(VLOOKUP(A278,'1.Портфель кредитів'!A:Z,7,FALSE),\"\")","v":""},{"$f":"IFERROR(VLOOKUP(A278,'1.Портфель кредитів'!A:Z,14,FALSE),\"\")","v":""},null,null,null,null,null,null,null,null,{"$f":"IFERROR(VLOOKUP(A278,'1.Портфель кредитів'!A:Z,30,FALSE),\"\")","v":""},0,{"$error":"#VALUE!"},null,null,null,null,null,{"$f":"VLOOKUP(C278,Hidden_Словник!$A$2:C$81,3,FALSE)","v":{"$error":"#N/A"}},0,{"$f":"VLOOKUP(F278,Hidden_Словник!$W$2:$X$13,2,FALSE)","v":{"$error":"#N/A"}},{"$f":"#REF!","v":{"$error":"#REF!"}},{"$error":"#N/A"}]
[null,"",{"$f":"IFERROR(VLOOKUP(A279,'1.Портфель кредитів'!A:Z,3,FALSE),\"\")","v":""},{"$f":"IFERROR(VLOOKUP(A279,'1.Портфель кредитів'!A:Z,7,FALSE),\"\")","v":""},{"$f":"IFERROR(VLOOKUP(A279,'1.Портфель кредитів'!A:Z,14,FALSE),\"\")","v":""},null,null,null,null,null,null,null,null,{"$f":"IFERROR(VLOOKUP(A279,'1.Портфель кредитів'!A:Z,30,FALSE),\"\")","v":""},{"$f":"SUMIF(B:B,B279,N:N)","v":0},{"$error":"#VALUE!"},null,null,null,null,null,{"$f":"VLOOKUP(C279,Hidden_Словник!$A$2:C$81,3,FALSE)","v":{"$error":"#N/A"}},0,{"$f":"VLOOKUP(F279,Hidden_Словник!$W$2:$X$13,2,FALSE)","v":{"$error":"#N/A"}},{"$f":"#REF!","v":{"$error":"#REF!"}},{"$error":"#N/A"}]
[null,"",{"$f":"IFERROR(VLOOKUP(A280,'1.Портфель кредитів'!A:Z,3,FALSE),\"\")","v":""},{"$f":"IFERROR(VLOOKUP(A280,'1.Портфель кредитів'!A:Z,7,FALSE),\"\")","v":""},{"$f":"IFERROR(VLOOKUP(A280,'1.Портфель кредитів'!A:Z,14,FALSE),\"\")","v":""},null,null,null,null,null,null,null,null,{"$f":"IFERROR(VLOOKUP(A280,'1.Портфель кредитів'!A:Z,30,FALSE),\"\")","v":""},0,{"$error":"#VALUE!"},null,null,null,null,null,{"$f":"VLOOKUP(C280,Hidden_Словник!$A$2:C$81,3,FALSE)","v":{"$error":"#N/A"}},0,{"$f":"VLOOKUP(F280,Hidden_Словник!$W$2:$X$13,2,FALSE)","v":{"$error":"#N/A"}},{"$f":"#REF!","v":{"$error":"#REF!"}},{"$error":"#N/A"}]
[null,"",{"$f":"IFERROR(VLOOKUP(A281,'1.Портфель кредитів'!A:Z,3,FALSE),\"\")","v":""},{"$f":"IFERROR(VLOOKUP(A281,'1.Портфель кредитів'!A:Z,7,FALSE),\"\")","v":""},{"$f":"IFERROR(VLOOKUP(A281,'1.Портфель кредитів'!A:Z,14,FALSE),\"\")","v":""},null,null,null,null,null,null,null,null,{"$f":"IFERROR(VLOOKUP(A281,'1.Портфель кредитів'!A:Z,30,FALSE),\"\")","v":""},0,{"$error":"#VALUE!"},null,null,null,null,null,{"$f":"VLOOKUP(C281,Hidden_Словник!$A$2:C$81,3,FALSE)","v":{"$error":"#N/A"}},0,{"$f":"VLOOKUP(F281,Hidden_Словник!$W$2:$X$13,2,FALSE)","v":{"$error":"#N/A"}},{"$f":"#REF!","v":{"$error":"#REF!"}},{"$error":"#N/A"}]
[null,"",{"$f":"IFERROR(VLOOKUP(A282,'1.Портфель кредитів'!A:Z,3,FALSE),\"\")","v":""},{"$f":"IFERROR(VLOOKUP(A282,'1.Портфель кредитів'!A:Z,7,FALSE),\"\")","v":""},{"$f":"IFERROR(VLOOKUP(A282,'1.Портфель кредитів'!A:Z,14,FALSE),\"\")","v":""},null,null,null,null,null,null,null,null,{"$f":"IFERROR(VLOOKUP(A282,'1.Портфель кредитів'!A:Z,30,FALSE),\"\")","v":""},0,{"$error":"#VALUE!"},null,null,null,null,null,{"$f":"VLOOKUP(C282,Hidden_Словник!$A$2:C$81,3,FALSE)","v":{"$error":"#N/A"}},0,{"$f":"VLOOKUP(F282,Hidden_Словник!$W$2:$X$13,2,FALSE)","v":{"$error":"#N/A"}},{"$f":"#REF!","v":{"$error":"#REF!"}},{"$error":"#N/A"}]
[null,"",{"$f":"IFERROR(VLOOKUP(A283,'1.Портфель кредитів'!A:Z,3,FALSE),\"\")","v":""},{"$f":"IFERROR(VLOOKUP(A283,'1.Портфель кредитів'!A:Z,7,FALSE),\"\")","v":""},{"$f":"IFERROR(VLOOKUP(A283,'1.Портфель кредитів'!A:Z,14,FALSE),\"\")","v":""},null,null,null,null,null,null,null,null,{"$f":"IFERROR(VLOOKUP(A283,'1.Портфель кредитів'!A:Z,30,FALSE),\"\")","v":""},0,{"$error":"#VALUE!"},null,null,null,null,null,{"$f":"VLOOKUP(C283,Hidden_Словник!$A$2:C$81,3,FALSE)","v":{"$error":"#N/A"}},0,{"$f":"VLOOKUP(F283,Hidden_Словник!$W$2:$X$13,2,FALSE)","v":{"$error":"#N/A"}},{"$f":"#REF!","v":{"$error":"#REF!"}},{"$error":"#N/A"}]
[null,"",{"$f":"IFERROR(VLOOKUP(A284,'1.Портфель кредитів'!A:Z,3,FALSE),\"\")","v":""},{"$f":"IFERROR(VLOOKUP(A284,'1.Портфель кредитів'!A:Z,7,FALSE),\"\")","v":""},{"$f":"IFERROR(VLOOKUP(A284,'1.Портфель кредитів'!A:Z,14,FALSE),\"\")","v":""},null,null,null,null,null,null,null,null,{"$f":"IFERROR(VLOOKUP(A284,'1.Портфель кредитів'!A:Z,30,FALSE),\"\")","v":""},0,{"$error":"#VALUE!"},null,null,null,null,null,{"$f":"VLOOKUP(C284,Hidden_Словник!$A$2:C$81,3,FALSE)","v":{"$error":"#N/A"}},0,{"$f":"VLOOKUP(F284,Hidden_Словник!$W$2:$X$13,2,FALSE)","v":{"$error":"#N/A"}},{"$f":"#REF!","v":{"$error":"#REF!"}},{"$error":"#N/A"}]
[null,"",{"$f":"IFERROR(VLOOKUP(A285,'1.Портфель кредитів'!A:Z,3,FALSE),\"\")","v":""},{"$f":"IFERROR(VLOOKUP(A285,'1.Портфель кредитів'!A:Z,7,FALSE),\"\")","v":""},{"$f":"IFERROR(VLOOKUP(A285,'1.Портфель кредитів'!A:Z,14,FALSE),\"\")","v":""},null,null,null,null,null,null,null,null,{"$f":"IFERROR(VLOOKUP(A285,'1.Портфель кредитів'!A:Z,30,FALSE),\"\")","v":""},0,{"$error":"#VALUE!"},null,null,null,null,null,{"$f":"VLOOKUP(C285,Hidden_Словник!$A$2:C$81,3,FALSE)","v":{"$error":"#N/A"}},0,{"$f":"VLOOKUP(F285,Hidden_Словник!$W$2:$X$13,2,FALSE)","v":{"$error":"#N/A"}},{"$f":"#REF!","v":{"$error":"#REF!"}},{"$error":"#N/A"}]
[null,"",{"$f":"IFERROR(VLOOKUP(A286,'1.Портфель кредитів'!A:Z,3,FALSE),\"\")","v":""},{"$f":"IFERROR(VLOOKUP(A286,'1.Портфель кредитів'!A:Z,7,FALSE),\"\")","v":""},{"$f":"IFERROR(VLOOKUP(A286,'1.Портфель кредитів'!A:Z,14,FALSE),\"\")","v":""},null,null,null,null,null,null,null,null,{"$f":"IFERROR(VLOOKUP(A286,'1.Портфель кредитів'!A:Z,30,FALSE),\"\")","v":""},0,{"$error":"#VALUE!"},null,null,null,null,null,{"$f":"VLOOKUP(C286,Hidden_Словник!$A$2:C$81,3,FALSE)","v":{"$error":"#N/A"}},0,{"$f":"VLOOKUP(F286,Hidden_Словник!$W$2:$X$13,2,FALSE)","v":{"$error":"#N/A"}},{"$f":"#REF!","v":{"$error":"#REF!"}},{"$error":"#N/A"}]
[null,"",{"$f":"IFERROR(VLOOKUP(A287,'1.Портфель кредитів'!A:Z,3,FALSE),\"\")","v":""},{"$f":"IFERROR(VLOOKUP(A287,'1.Портфель кредитів'!A:Z,7,FALSE),\"\")","v":""},{"$f":"IFERROR(VLOOKUP(A287,'1.Портфель кредитів'!A:Z,14,FALSE),\"\")","v":""},null,null,null,null,null,null,null,null,{"$f":"IFERROR(VLOOKUP(A287,'1.Портфель кредитів'!A:Z,30,FALSE),\"\")","v":""},0,{"$error":"#VALUE!"},null,null,null,null,null,{"$f":"VLOOKUP(C287,Hidden_Словник!$A$2:C$81,3,FALSE)","v":{"$error":"#N/A"}},0,{"$f":"VLOOKUP(F287,Hidden_Словник!$W$2:$X$13,2,FALSE)","v":{"$error":"#N/A"}},{"$f":"#REF!","v":{"$error":"#REF!"}},{"$error":"#N/A"}]
[null,"",{"$f":"IFERROR(VLOOKUP(A288,'1.Портфель кредитів'!A:Z,3,FALSE),\"\")","v":""},{"$f":"IFERROR(VLOOKUP(A288,'1.Портфель кредитів'!A:Z,7,FALSE),\"\")","v":""},{"$f":"IFERROR(VLOOKUP(A288,'1.Портфель кредитів'!A:Z,14,FALSE),\"\")","v":""},null,null,null,null,null,null,null,null,{"$f":"IFERROR(VLOOKUP(A288,'1.Портфель кредитів'!A:Z,30,FALSE),\"\")","v":""},0,{"$error":"#VALUE!"},null,null,null,null,null,{"$f":"VLOOKUP(C288,Hidden_Словник!$A$2:C$81,3,FALSE)","v":{"$error":"#N/A"}},0,{"$f":"VLOOKUP(F288,Hidden_Словник!$W$2:$X$13,2,FALSE)","v":{"$error":"#N/A"}},{"$f":"#REF!","v":{"$error":"#REF!"}},{"$error":"#N/A"}]
[null,"",{"$f":"IFERROR(VLOOKUP(A289,'1.Портфель кредитів'!A:Z,3,FALSE),\"\")","v":""},{"$f":"IFERROR(VLOOKUP(A289,'1.Портфель кредитів'!A:Z,7,FALSE),\"\")","v":""},{"$f":"IFERROR(VLOOKUP(A289,'1.Портфель кредитів'!A:Z,14,FALSE),\"\")","v":""},null,null,null,null,null,null,null,null,{"$f":"IFERROR(VLOOKUP(A289,'1.Портфель кредитів'!A:Z,30,FALSE),\"\")","v":""},0,{"$error":"#VALUE!"},null,null,null,null,null,{"$f":"VLOOKUP(C289,Hidden_Словник!$A$2:C$81,3,FALSE)","v":{"$error":"#N/A"}},0,{"$f":"VLOOKUP(F289,Hidden_Словник!$W$2:$X$13,2,FALSE)","v":{"$error":"#N/A"}},{"$f":"#REF!","v":{"$error":"#REF!"}},{"$error":"#N/A"}]
[null,"",{"$f":"IFERROR(VLOOKUP(A290,'1.Портфель кредитів'!A:Z,3,FALSE),\"\")","v":""},{"$f":"IFERROR(VLOOKUP(A290,'1.Портфель кредитів'!A:Z,7,FALSE),\"\")","v":""},{"$f":"IFERROR(VLOOKUP(A290,'1.Портфель кредитів'!A:Z,14,FALSE),\"\")","v":""},null,null,null,null,null,null,null,null,{"$f":"IFERROR(VLOOKUP(A290,'1.Портфель кредитів'!A:Z,30,FALSE),\"\")","v":""},0,{"$error":"#VALUE!"},null,null,null,null,null,{"$f":"VLOOKUP(C290,Hidden_Словник!$A$2:C$81,3,FALSE)","v":{"$error":"#N/A"}},0,{"$f":"VLOOKUP(F290,Hidden_Словник!$W$2:$X$13,2,FALSE)","v":{"$error":"#N/A"}},{"$f":"#REF!","v":{"$error":"#REF!"}},{"$error":"#N/A"}]
[null,"",{"$f":"IFERROR(VLOOKUP(A291,'1.Портфель кредитів'!A:Z,3,FALSE),\"\")","v":""},{"$f":"IFERROR(VLOOKUP(A291,'1.Портфель кредитів'!A:Z,7,FALSE),\"\")","v":""},{"$f":"IFERROR(VLOOKUP(A291,'1.Портфель кредитів'!A:Z,14,FALSE),\"\")","v":""},null,null,null,null,null,null,null,null,{"$f":"IFERROR(VLOOKUP(A291,'1.Портфель кредитів'!A:Z,30,FALSE),\"\")","v":""},0,{"$error":"#VALUE!"},null,null,null,null,null,{"$f":"VLOOKUP(C291,Hidden_Словник!$A$2:C$81,3,FALSE)","v":{"$error":"#N/A"}},0,{"$f":"VLOOKUP(F291,Hidden_Словник!$W$2:$X$13,2,FALSE)","v":{"$error":"#N/A"}},{"$f":"#REF!","v":{"$error":"#REF!"}},{"$error":"#N/A"}]
[null,"",{"$f":"IFERROR(VLOOKUP(A292,'1.Портфель кредитів'!A:Z,3,FALSE),\"\")","v":""},{"$f":"IFERROR(VLOOKUP(A292,'1.Портфель кредитів'!A:Z,7,FALSE),\"\")","v":""},{"$f":"IFERROR(VLOOKUP(A292,'1.Портфель кредитів'!A:Z,14,FALSE),\"\")","v":""},null,null,null,null,null,null,null,null,{"$f":"IFERROR(VLOOKUP(A292,'1.Портфель кредитів'!A:Z,30,FALSE),\"\")","v":""},0,{"$error":"#VALUE!"},null,null,null,null,null,{"$f":"VLOOKUP(C292,Hidden_Словник!$A$2:C$81,3,FALSE)","v":{"$error":"#N/A"}},0,{"$f":"VLOOKUP(F292,Hidden_Словник!$W$2:$X$13,2,FALSE)","v":{"$error":"#N/A"}},{"$f":"#REF!","v":{"$error":"#REF!"}},{"$error":"#N/A"}]
[null,"",{"$f":"IFERROR(VLOOKUP(A293,'1.Портфель кредитів'!A:Z,3,FALSE),\"\")","v":""},{"$f":"IFERROR(VLOOKUP(A293,'1.Портфель кредитів'!A:Z,7,FALSE),\"\")","v":""},{"$f":"IFERROR(VLOOKUP(A293,'1.Портфель кредитів'!A:Z,14,FALSE),\"\")","v":""},null,null,null,null,null,null,null,null,{"$f":"IFERROR(VLOOKUP(A293,'1.Портфель кредитів'!A:Z,30,FALSE),\"\")","v":""},0,{"$error":"#VALUE!"},null,null,null,null,null,{"$f":"VLOOKUP(C293,Hidden_Словник!$A$2:C$81,3,FALSE)","v":{"$error":"#N/A"}},0,{"$f":"VLOOKUP(F293,Hidden_Словник!$W$2:$X$13,2,FALSE)","v":{"$error":"#N/A"}},{"$f":"#REF!","v":{"$error":"#REF!"}},{"$error":"#N/A"}]
[null,"",{"$f":"IFERROR(VLOOKUP(A294,'1.Портфель кредитів'!A:Z,3,FALSE),\"\")","v":""},{"$f":"IFERROR(VLOOKUP(A294,'1.Портфель кредитів'!A:Z,7,FALSE),\"\")","v":""},{"$f":"IFERROR(VLOOKUP(A294,'1.Портфель кредитів'!A:Z,14,FALSE),\"\")","v":""},null,null,null,null,null,null,null,null,{"$f":"IFERROR(VLOOKUP(A294,'1.Портфель кредитів'!A:Z,30,FALSE),\"\")","v":""},0,{"$f":"N294/O294","v":{"$error":"#VALUE!"}},null,null,null,null,null,{"$f":"VLOOKUP(C294,Hidden_Словник!$A$2:C$81,3,FALSE)","v":{"$error":"#N/A"}},0,{"$f":"VLOOKUP(F294,Hidden_Словник!$W$2:$X$13,2,FALSE)","v":{"$error":"#N/A"}},{"$f":"#REF!","v":{"$error":"#REF!"}},{"$error":"#N/A"}]
[null,"",{"$f":"IFERROR(VLOOKUP(A295,'1.Портфель кредитів'!A:Z,3,FALSE),\"\")","v":""},{"$f":"IFERROR(VLOOKUP(A295,'1.Портфель кредитів'!A:Z,7,FALSE),\"\")","v":""},{"$f":"IFERROR(VLOOKUP(A295,'1.Портфель кредитів'!A:Z,14,FALSE),\"\")","v":""},null,null,null,null,null,null,null,null,{"$f":"IFERROR(VLOOKUP(A295,'1.Портфель кредитів'!A:Z,30,FALSE),\"\")","v":""},0,{"$error":"#VALUE!"},null,null,null,null,null,{"$f":"VLOOKUP(C295,Hidden_Словник!$A$2:C$81,3,FALSE)","v":{"$error":"#N/A"}},0,{"$f":"VLOOKUP(F295,Hidden_Словник!$W$2:$X$13,2,FALSE)","v":{"$error":"#N/A"}},{"$f":"#REF!","v":{"$error":"#REF!"}},{"$error":"#N/A"}]
[null,"",{"$f":"IFERROR(VLOOKUP(A296,'1.Портфель кредитів'!A:Z,3,FALSE),\"\")","v":""},{"$f":"IFERROR(VLOOKUP(A296,'1.Портфель кредитів'!A:Z,7,FALSE),\"\")","v":""},{"$f":"IFERROR(VLOOKUP(A296,'1.Портфель кредитів'!A:Z,14,FALSE),\"\")","v":""},null,null,null,null,null,null,null,null,{"$f":"IFERROR(VLOOKUP(A296,'1.Портфель кредитів'!A:Z,30,FALSE),\"\")","v":""},0,{"$error":"#VALUE!"},null,null,null,null,null,{"$f":"VLOOKUP(C296,Hidden_Словник!$A$2:C$81,3,FALSE)","v":{"$error":"#N/A"}},0,{"$f":"VLOOKUP(F296,Hidden_Словник!$W$2:$X$13,2,FALSE)","v":{"$error":"#N/A"}},{"$f":"#REF!","v":{"$error":"#REF!"}},{"$error":"#N/A"}]
[null,"",{"$f":"IFERROR(VLOOKUP(A297,'1.Портфель кредитів'!A:Z,3,FALSE),\"\")","v":""},{"$f":"IFERROR(VLOOKUP(A297,'1.Портфель кредитів'!A:Z,7,FALSE),\"\")","v":""},{"$f":"IFERROR(VLOOKUP(A297,'1.Портфель кредитів'!A:Z,14,FALSE),\"\")","v":""},null,null,null,null,null,null,null,null,{"$f":"IFERROR(VLOOKUP(A297,'1.Портфель кредитів'!A:Z,30,FALSE),\"\")","v":""},0,{"$error":"#VALUE!"},null,null,null,null,null,{"$f":"VLOOKUP(C297,Hidden_Словник!$A$2:C$81,3,FALSE)","v":{"$error":"#N/A"}},0,{"$f":"VLOOKUP(F297,Hidden_Словник!$W$2:$X$13,2,FALSE)","v":{"$error":"#N/A"}},{"$f":"#REF!","v":{"$error":"#REF!"}},{"$error":"#N/A"}]
[null,"",{"$f":"IFERROR(VLOOKUP(A298,'1.Портфель кредитів'!A:Z,3,FALSE),\"\")","v":""},{"$f":"IFERROR(VLOOKUP(A298,'1.Портфель кредитів'!A:Z,7,FALSE),\"\")","v":""},{"$f":"IFERROR(VLOOKUP(A298,'1.Портфель кредитів'!A:Z,14,FALSE),\"\")","v":""},null,null,null,null,null,null,null,null,{"$f":"IFERROR(VLOOKUP(A298,'1.Портфель кредитів'!A:Z,30,FALSE),\"\")","v":""},0,{"$error":"#VALUE!"},null,null,null,null,null,{"$f":"VLOOKUP(C298,Hidden_Словник!$A$2:C$81,3,FALSE)","v":{"$error":"#N/A"}},0,{"$f":"VLOOKUP(F298,Hidden_Словник!$W$2:$X$13,2,FALSE)","v":{"$error":"#N/A"}},{"$f":"#REF!","v":{"$error":"#REF!"}},{"$error":"#N/A"}]
[null,"",{"$f":"IFERROR(VLOOKUP(A299,'1.Портфель кредитів'!A:Z,3,FALSE),\"\")","v":""},{"$f":"IFERROR(VLOOKUP(A299,'1.Портфель кредитів'!A:Z,7,FALSE),\"\")","v":""},{"$f":"IFERROR(VLOOKUP(A299,'1.Портфель кредитів'!A:Z,14,FALSE),\"\")","v":""},null,null,null,null,null,null,null,null,{"$f":"IFERROR(VLOOKUP(A299,'1.Портфель кредитів'!A:Z,30,FALSE),\"\")","v":""},0,{"$error":"#VALUE!"},null,null,null,null,null,{"$f":"VLOOKUP(C299,Hidden_Словник!$A$2:C$81,3,FALSE)","v":{"$error":"#N/A"}},0,{"$f":"VLOOKUP(F299,Hidden_Словник!$W$2:$X$13,2,FALSE)","v":{"$error":"#N/A"}},{"$f":"#REF!","v":{"$error":"#REF!"}},{"$error":"#N/A"}]
[null,"",{"$f":"IFERROR(VLOOKUP(A300,'1.Портфель кредитів'!A:Z,3,FALSE),\"\")","v":""},{"$f":"IFERROR(VLOOKUP(A300,'1.Портфель кредитів'!A:Z,7,FALSE),\"\")","v":""},{"$f":"IFERROR(VLOOKUP(A300,'1.Портфель кредитів'!A:Z,14,FALSE),\"\")","v":""},null,null,null,null,null,null,null,null,{"$f":"IFERROR(VLOOKUP(A300,'1.Портфель кредитів'!A:Z,30,FALSE),\"\")","v":""},0,{"$error":"#VALUE!"},null,null,null,null,null,{"$f":"VLOOKUP(C300,Hidden_Словник!$A$2:C$81,3,FALSE)","v":{"$error":"#N/A"}},0,{"$f":"VLOOKUP(F300,Hidden_Словник!$W$2:$X$13,2,FALSE)","v":{"$error":"#N/A"}},{"$f":"#REF!","v":{"$error":"#REF!"}},{"$error":"#N/A"}]
[null,"",{"$f":"IFERROR(VLOOKUP(A301,'1.Портфель кредитів'!A:Z,3,FALSE),\"\")","v":""},{"$f":"IFERROR(VLOOKUP(A301,'1.Портфель кредитів'!A:Z,7,FALSE),\"\")","v":""},{"$f":"IFERROR(VLOOKUP(A301,'1.Портфель кредитів'!A:Z,14,FALSE),\"\")","v":""},null,null,null,null,null,null,null,null,{"$f":"IFERROR(VLOOKUP(A301,'1.Портфель кредитів'!A:Z,30,FALSE),\"\")","v":""},0,{"$error":"#VALUE!"},null,null,null,null,null,{"$f":"VLOOKUP(C301,Hidden_Словник!$A$2:C$81,3,FALSE)","v":{"$error":"#N/A"}},0,{"$f":"VLOOKUP(F301,Hidden_Словник!$W$2:$X$13,2,FALSE)","v":{"$error":"#N/A"}},{"$f":"#REF!","v":{"$error":"#REF!"}},{"$error":"#N/A"}]
[null,"",{"$f":"IFERROR(VLOOKUP(A302,'1.Портфель кредитів'!A:Z,3,FALSE),\"\")","v":""},{"$f":"IFERROR(VLOOKUP(A302,'1.Портфель кредитів'!A:Z,7,FALSE),\"\")","v":""},{"$f":"IFERROR(VLOOKUP(A302,'1.Портфель кредитів'!A:Z,14,FALSE),\"\")","v":""},null,null,null,null,null,null,null,null,{"$f":"IFERROR(VLOOKUP(A302,'1.Портфель кредитів'!A:Z,30,FALSE),\"\")","v":""},0,{"$error":"#VALUE!"},null,null,null,null,null,{"$f":"VLOOKUP(C302,Hidden_Словник!$A$2:C$81,3,FALSE)","v":{"$error":"#N/A"}},0,{"$f":"VLOOKUP(F302,Hidden_Словник!$W$2:$X$13,2,FALSE)","v":{"$error":"#N/A"}},{"$f":"#REF!","v":{"$error":"#REF!"}},{"$error":"#N/A"}]
[null,"",{"$f":"IFERROR(VLOOKUP(A303,'1.Портфель кредитів'!A:Z,3,FALSE),\"\")","v":""},{"$f":"IFERROR(VLOOKUP(A303,'1.Портфель кредитів'!A:Z,7,FALSE),\"\")","v":""},{"$f":"IFERROR(VLOOKUP(A303,'1.Портфель кредитів'!A:Z,14,FALSE),\"\")","v":""},null,null,null,null,null,null,null,null,{"$f":"IFERROR(VLOOKUP(A303,'1.Портфель кредитів'!A:Z,30,FALSE),\"\")","v":""},0,{"$error":"#VALUE!"},null,null,null,null,null,{"$f":"VLOOKUP(C303,Hidden_Словник!$A$2:C$81,3,FALSE)","v":{"$error":"#N/A"}},0,{"$f":"VLOOKUP(F303,Hidden_Словник!$W$2:$X$13,2,FALSE)","v":{"$error":"#N/A"}},{"$f":"#REF!","v":{"$error":"#REF!"}},{"$error":"#N/A"}]
[null,"",{"$f":"IFERROR(VLOOKUP(A304,'1.Портфель кредитів'!A:Z,3,FALSE),\"\")","v":""},{"$f":"IFERROR(VLOOKUP(A304,'1.Портфель кредитів'!A:Z,7,FALSE),\"\")","v":""},{"$f":"IFERROR(VLOOKUP(A304,'1.Портфель кредитів'!A:Z,14,FALSE),\"\")","v":""},null,null,null,null,null,null,null,null,{"$f":"IFERROR(VLOOKUP(A304,'1.Портфель кредитів'!A:Z,30,FALSE),\"\")","v":""},0,{"$error":"#VALUE!"},null,null,null,null,null,{"$f":"VLOOKUP(C304,Hidden_Словник!$A$2:C$81,3,FALSE)","v":{"$error":"#N/A"}},0,{"$f":"VLOOKUP(F304,Hidden_Словник!$W$2:$X$13,2,FALSE)","v":{"$error":"#N/A"}},{"$f":"#REF!","v":{"$error":"#REF!"}},{"$error":"#N/A"}]
[null,"",{"$f":"IFERROR(VLOOKUP(A305,'1.Портфель кредитів'!A:Z,3,FALSE),\"\")","v":""},{"$f":"IFERROR(VLOOKUP(A305,'1.Портфель кредитів'!A:Z,7,FALSE),\"\")","v":""},{"$f":"IFERROR(VLOOKUP(A305,'1.Портфель кредитів'!A:Z,14,FALSE),\"\")","v":""},null,null,null,null,null,null,null,null,{"$f":"IFERROR(VLOOKUP(A305,'1.Портфель кредитів'!A:Z,30,FALSE),\"\")","v":""},0,{"$error":"#VALUE!"},null,null,null,null,null,{"$f":"VLOOKUP(C305,Hidden_Словник!$A$2:C$81,3,FALSE)","v":{"$error":"#N/A"}},0,{"$f":"VLOOKUP(F305,Hidden_Словник!$W$2:$X$13,2,FALSE)","v":{"$error":"#N/A"}},{"$f":"#REF!","v":{"$error":"#REF!"}},{"$error":"#N/A"}]
[null,"",{"$f":"IFERROR(VLOOKUP(A306,'1.Портфель кредитів'!A:Z,3,FALSE),\"\")","v":""},{"$f":"IFERROR(VLOOKUP(A306,'1.Портфель кредитів'!A:Z,7,FALSE),\"\")","v":""},{"$f":"IFERROR(VLOOKUP(A306,'1.Портфель кредитів'!A:Z,14,FALSE),\"\")","v":""},null,null,null,null,null,null,null,null,{"$f":"IFERROR(VLOOKUP(A306,'1.Портфель кредитів'!A:Z,30,FALSE),\"\")","v":""},0,{"$error":"#VALUE!"},null,null,null,null,null,{"$f":"VLOOKUP(C306,Hidden_Словник!$A$2:C$81,3,FALSE)","v":{"$error":"#N/A"}},0,{"$f":"VLOOKUP(F306,Hidden_Словник!$W$2:$X$13,2,FALSE)","v":{"$error":"#N/A"}},{"$f":"#REF!","v":{"$error":"#REF!"}},{"$error":"#N/A"}]
[null,"",{"$f":"IFERROR(VLOOKUP(A307,'1.Портфель кредитів'!A:Z,3,FALSE),\"\")","v":""},{"$f":"IFERROR(VLOOKUP(A307,'1.Портфель кредитів'!A:Z,7,FALSE),\"\")","v":""},{"$f":"IFERROR(VLOOKUP(A307,'1.Портфель кредитів'!A:Z,14,FALSE),\"\")","v":""},null,null,null,null,null,null,null,null,{"$f":"IFERROR(VLOOKUP(A307,'1.Портфель кредитів'!A:Z,30,FALSE),\"\")","v":""},0,{"$error":"#VALUE!"},null,null,null,null,null,{"$f":"VLOOKUP(C307,Hidden_Словник!$A$2:C$81,3,FALSE)","v":{"$error":"#N/A"}},0,{"$f":"VLOOKUP(F307,Hidden_Словник!$W$2:$X$13,2,FALSE)","v":{"$error":"#N/A"}},{"$f":"#REF!","v":{"$error":"#REF!"}},{"$error":"#N/A"}]
[null,"",{"$f":"IFERROR(VLOOKUP(A308,'1.Портфель кредитів'!A:Z,3,FALSE),\"\")","v":""},{"$f":"IFERROR(VLOOKUP(A308,'1.Портфель кредитів'!A:Z,7,FALSE),\"\")","v":""},{"$f":"IFERROR(VLOOKUP(A308,'1.Портфель кредитів'!A:Z,14,FALSE),\"\")","v":""},null,null,null,null,null,null,null,null,{"$f":"IFERROR(VLOOKUP(A308,'1.Портфель кредитів'!A:Z,30,FALSE),\"\")","v":""},0,{"$error":"#VALUE!"},null,null,null,null,null,{"$f":"VLOOKUP(C308,Hidden_Словник!$A$2:C$81,3,FALSE)","v":{"$error":"#N/A"}},0,{"$f":"VLOOKUP(F308,Hidden_Словник!$W$2:$X$13,2,FALSE)","v":{"$error":"#N/A"}},{"$f":"#REF!","v":{"$error":"#REF!"}},{"$error":"#N/A"}]
[null,"",{"$f":"IFERROR(VLOOKUP(A309,'1.Портфель кредитів'!A:Z,3,FALSE),\"\")","v":""},{"$f":"IFERROR(VLOOKUP(A309,'1.Портфель кредитів'!A:Z,7,FALSE),\"\")","v":""},{"$f":"IFERROR(VLOOKUP(A309,'1.Портфель кредитів'!A:Z,14,FALSE),\"\")","v":""},null,null,null,null,null,null,null,null,{"$f":"IFERROR(VLOOKUP(A309,'1.Портфель кредитів'!A:Z,30,FALSE),\"\")","v":""},0,{"$error":"#VALUE!"},null,null,null,null,null,{"$f":"VLOOKUP(C309,Hidden_Словник!$A$2:C$81,3,FALSE)","v":{"$error":"#N/A"}},0,{"$f":"VLOOKUP(F309,Hidden_Словник!$W$2:$X$13,2,FALSE)","v":{"$error":"#N/A"}},{"$f":"#REF!","v":{"$error":"#REF!"}},{"$error":"#N/A"}]
[null,"",{"$f":"IFERROR(VLOOKUP(A310,'1.Портфель кредитів'!A:Z,3,FALSE),\"\")","v":""},{"$f":"IFERROR(VLOOKUP(A310,'1.Портфель кредитів'!A:Z,7,FALSE),\"\")","v":""},{"$f":"IFERROR(VLOOKUP(A310,'1.Портфель кредитів'!A:Z,14,FALSE),\"\")","v":""},null,null,null,null,null,null,null,null,{"$f":"IFERROR(VLOOKUP(A310,'1.Портфель кредитів'!A:Z,30,FALSE),\"\")","v":""},0,{"$error":"#VALUE!"},null,null,null,null,null,{"$f":"VLOOKUP(C310,Hidden_Словник!$A$2:C$81,3,FALSE)","v":{"$error":"#N/A"}},0,{"$f":"VLOOKUP(F310,Hidden_Словник!$W$2:$X$13,2,FALSE)","v":{"$error":"#N/A"}},{"$f":"#REF!","v":{"$error":"#REF!"}},{"$error":"#N/A"}]
[null,"",{"$f":"IFERROR(VLOOKUP(A311,'1.Портфель кредитів'!A:Z,3,FALSE),\"\")","v":""},{"$f":"IFERROR(VLOOKUP(A311,'1.Портфель кредитів'!A:Z,7,FALSE),\"\")","v":""},{"$f":"IFERROR(VLOOKUP(A311,'1.Портфель кредитів'!A:Z,14,FALSE),\"\")","v":""},null,null,null,null,null,null,null,null,{"$f":"IFERROR(VLOOKUP(A311,'1.Портфель кредитів'!A:Z,30,FALSE),\"\")","v":""},0,{"$error":"#VALUE!"},null,null,null,null,null,{"$f":"VLOOKUP(C311,Hidden_Словник!$A$2:C$81,3,FALSE)","v":{"$error":"#N/A"}},0,{"$f":"VLOOKUP(F311,Hidden_Словник!$W$2:$X$13,2,FALSE)","v":{"$error":"#N/A"}},{"$f":"#REF!","v":{"$error":"#REF!"}},{"$error":"#N/A"}]
[null,"",{"$f":"IFERROR(VLOOKUP(A312,'1.Портфель кредитів'!A:Z,3,FALSE),\"\")","v":""},{"$f":"IFERROR(VLOOKUP(A312,'1.Портфель кредитів'!A:Z,7,FALSE),\"\")","v":""},{"$f":"IFERROR(VLOOKUP(A312,'1.Портфель кредитів'!A:Z,14,FALSE),\"\")","v":""},null,null,null,null,null,null,null,null,{"$f":"IFERROR(VLOOKUP(A312,'1.Портфель кредитів'!A:Z,30,FALSE),\"\")","v":""},0,{"$error":"#VALUE!"},null,null,null,null,null,{"$f":"VLOOKUP(C312,Hidden_Словник!$A$2:C$81,3,FALSE)","v":{"$error":"#N/A"}},0,{"$f":"VLOOKUP(F312,Hidden_Словник!$W$2:$X$13,2,FALSE)","v":{"$error":"#N/A"}},{"$f":"#REF!","v":{"$error":"#REF!"}},{"$error":"#N/A"}]
[null,"",{"$f":"IFERROR(VLOOKUP(A313,'1.Портфель кредитів'!A:Z,3,FALSE),\"\")","v":""},{"$f":"IFERROR(VLOOKUP(A313,'1.Портфель кредитів'!A:Z,7,FALSE),\"\")","v":""},{"$f":"IFERROR(VLOOKUP(A313,'1.Портфель кредитів'!A:Z,14,FALSE),\"\")","v":""},null,null,null,null,null,null,null,null,{"$f":"IFERROR(VLOOKUP(A313,'1.Портфель кредитів'!A:Z,30,FALSE),\"\")","v":""},0,{"$error":"#VALUE!"},null,null,null,null,null,{"$f":"VLOOKUP(C313,Hidden_Словник!$A$2:C$81,3,FALSE)","v":{"$error":"#N/A"}},0,{"$f":"VLOOKUP(F313,Hidden_Словник!$W$2:$X$13,2,FALSE)","v":{"$error":"#N/A"}},{"$f":"#REF!","v":{"$error":"#REF!"}},{"$error":"#N/A"}]
[null,"",{"$f":"IFERROR(VLOOKUP(A314,'1.Портфель кредитів'!A:Z,3,FALSE),\"\")","v":""},{"$f":"IFERROR(VLOOKUP(A314,'1.Портфель кредитів'!A:Z,7,FALSE),\"\")","v":""},{"$f":"IFERROR(VLOOKUP(A314,'1.Портфель кредитів'!A:Z,14,FALSE),\"\")","v":""},null,null,null,null,null,null,null,null,{"$f":"IFERROR(VLOOKUP(A314,'1.Портфель кредитів'!A:Z,30,FALSE),\"\")","v":""},0,{"$error":"#VALUE!"},null,null,null,null,null,{"$f":"VLOOKUP(C314,Hidden_Словник!$A$2:C$81,3,FALSE)","v":{"$error":"#N/A"}},0,{"$f":"VLOOKUP(F314,Hidden_Словник!$W$2:$X$13,2,FALSE)","v":{"$error":"#N/A"}},{"$f":"#REF!","v":{"$error":"#REF!"}},{"$error":"#N/A"}]
[null,"",{"$f":"IFERROR(VLOOKUP(A315,'1.Портфель кредитів'!A:Z,3,FALSE),\"\")","v":""},{"$f":"IFERROR(VLOOKUP(A315,'1.Портфель кредитів'!A:Z,7,FALSE),\"\")","v":""},{"$f":"IFERROR(VLOOKUP(A315,'1.Портфель кредитів'!A:Z,14,FALSE),\"\")","v":""},null,null,null,null,null,null,null,null,{"$f":"IFERROR(VLOOKUP(A315,'1.Портфель кредитів'!A:Z,30,FALSE),\"\")","v":""},0,{"$error":"#VALUE!"},null,null,null,null,null,{"$f":"VLOOKUP(C315,Hidden_Словник!$A$2:C$81,3,FALSE)","v":{"$error":"#N/A"}},0,{"$f":"VLOOKUP(F315,Hidden_Словник!$W$2:$X$13,2,FALSE)","v":{"$error":"#N/A"}},{"$f":"#REF!","v":{"$error":"#REF!"}},{"$error":"#N/A"}]
[null,"",{"$f":"IFERROR(VLOOKUP(A316,'1.Портфель кредитів'!A:Z,3,FALSE),\"\")","v":""},{"$f":"IFERROR(VLOOKUP(A316,'1.Портфель кредитів'!A:Z,7,FALSE),\"\")","v":""},{"$f":"IFERROR(VLOOKUP(A316,'1.Портфель кредитів'!A:Z,14,FALSE),\"\")","v":""},null,null,null,null,null,null,null,null,{"$f":"IFERROR(VLOOKUP(A316,'1.Портфель кредитів'!A:Z,30,FALSE),\"\")","v":""},0,{"$error":"#VALUE!"},null,null,null,null,null,{"$f":"VLOOKUP(C316,Hidden_Словник!$A$2:C$81,3,FALSE)","v":{"$error":"#N/A"}},0,{"$f":"VLOOKUP(F316,Hidden_Словник!$W$2:$X$13,2,FALSE)","v":{"$error":"#N/A"}},{"$f":"#REF!","v":{"$error":"#REF!"}},{"$error":"#N/A"}]
[null,"",{"$f":"IFERROR(VLOOKUP(A317,'1.Портфель кредитів'!A:Z,3,FALSE),\"\")","v":""},{"$f":"IFERROR(VLOOKUP(A317,'1.Портфель кредитів'!A:Z,7,FALSE),\"\")","v":""},{"$f":"IFERROR(VLOOKUP(A317,'1.Портфель кредитів'!A:Z,14,FALSE),\"\")","v":""},null,null,null,null,null,null,null,null,{"$f":"IFERROR(VLOOKUP(A317,'1.Портфель кредитів'!A:Z,30,FALSE),\"\")","v":""},0,{"$error":"#VALUE!"},null,null,null,null,null,{"$f":"VLOOKUP(C317,Hidden_Словник!$A$2:C$81,3,FALSE)","v":{"$error":"#N/A"}},0,{"$f":"VLOOKUP(F317,Hidden_Словник!$W$2:$X$13,2,FALSE)","v":{"$error":"#N/A"}},{"$f":"#REF!","v":{"$error":"#REF!"}},{"$error":"#N/A"}]
[null,{"$f":"IFERROR(Z318,\"\")","v":""},{"$f":"IFERROR(VLOOKUP(A318,'1.Портфель кредитів'!A:Z,3,FALSE),\"\")","v":""},{"$f":"IFERROR(VLOOKUP(A318,'1.Портфель кредитів'!A:Z,7,FALSE),\"\")","v":""},{"$f":"IFERROR(VLOOKUP(A318,'1.Портфель кредитів'!A:Z,14,FALSE),\"\")","v":""},null,null,null,null,null,null,null,null,{"$f":"IFERROR(VLOOKUP(A318,'1.Портфель кредитів'!A:Z,30,FALSE),\"\")","v":""},0,{"$error":"#VALUE!"},null,null,null,null,null,{"$f":"VLOOKUP(C318,Hidden_Словник!$A$2:C$81,3,FALSE)","v":{"$error":"#N/A"}},0,{"$f":"VLOOKUP(F318,Hidden_Словник!$W$2:$X$13,2,FALSE)","v":{"$error":"#N/A"}},{"$f":"#REF!","v":{"$error":"#REF!"}},{"$f":"V318&\"_\"&W318&X318&Y318","v":{"$error":"#N/A"}}]
[null,"",{"$f":"IFERROR(VLOOKUP(A319,'1.Портфель кредитів'!A:Z,3,FALSE),\"\")","v":""},{"$f":"IFERROR(VLOOKUP(A319,'1.Портфель кредитів'!A:Z,7,FALSE),\"\")","v":""},{"$f":"IFERROR(VLOOKUP(A319,'1.Портфель кредитів'!A:Z,14,FALSE),\"\")","v":""},null,null,null,null,null,null,null,null,{"$f":"IFERROR(VLOOKUP(A319,'1.Портфель кредитів'!A:Z,30,FALSE),\"\")","v":""},0,{"$error":"#VALUE!"},null,null,null,null,null,{"$f":"VLOOKUP(C319,Hidden_Словник!$A$2:C$81,3,FALSE)","v":{"$error":"#N/A"}},0,{"$f":"VLOOKUP(F319,Hidden_Словник!$W$2:$X$13,2,FALSE)","v":{"$error":"#N/A"}},{"$f":"#REF!","v":{"$error":"#REF!"}},{"$error":"#N/A"}]
[null,"",{"$f":"IFERROR(VLOOKUP(A320,'1.Портфель кредитів'!A:Z,3,FALSE),\"\")","v":""},{"$f":"IFERROR(VLOOKUP(A320,'1.Портфель кредитів'!A:Z,7,FALSE),\"\")","v":""},{"$f":"IFERROR(VLOOKUP(A320,'1.Портфель кредитів'!A:Z,14,FALSE),\"\")","v":""},null,null,null,null,null,null,null,null,{"$f":"IFERROR(VLOOKUP(A320,'1.Портфель кредитів'!A:Z,30,FALSE),\"\")","v":""},0,{"$error":"#VALUE!"},null,null,null,null,null,{"$f":"VLOOKUP(C320,Hidden_Словник!$A$2:C$81,3,FALSE)","v":{"$error":"#N/A"}},0,{"$f":"VLOOKUP(F320,Hidden_Словник!$W$2:$X$13,2,FALSE)","v":{"$error":"#N/A"}},{"$f":"#REF!","v":{"$error":"#REF!"}},{"$error":"#N/A"}]
[null,"",{"$f":"IFERROR(VLOOKUP(A321,'1.Портфель кредитів'!A:Z,3,FALSE),\"\")","v":""},{"$f":"IFERROR(VLOOKUP(A321,'1.Портфель кредитів'!A:Z,7,FALSE),\"\")","v":""},{"$f":"IFERROR(VLOOKUP(A321,'1.Портфель кредитів'!A:Z,14,FALSE),\"\")","v":""},null,null,null,null,null,null,null,null,{"$f":"IFERROR(VLOOKUP(A321,'1.Портфель кредитів'!A:Z,30,FALSE),\"\")","v":""},0,{"$error":"#VALUE!"},null,null,null,null,null,{"$f":"VLOOKUP(C321,Hidden_Словник!$A$2:C$81,3,FALSE)","v":{"$error":"#N/A"}},0,{"$f":"VLOOKUP(F321,Hidden_Словник!$W$2:$X$13,2,FALSE)","v":{"$error":"#N/A"}},{"$f":"#REF!","v":{"$error":"#REF!"}},{"$error":"#N/A"}]
[null,"",{"$f":"IFERROR(VLOOKUP(A322,'1.Портфель кредитів'!A:Z,3,FALSE),\"\")","v":""},{"$f":"IFERROR(VLOOKUP(A322,'1.Портфель кредитів'!A:Z,7,FALSE),\"\")","v":""},{"$f":"IFERROR(VLOOKUP(A322,'1.Портфель кредитів'!A:Z,14,FALSE),\"\")","v":""},null,null,null,null,null,null,null,null,{"$f":"IFERROR(VLOOKUP(A322,'1.Портфель кредитів'!A:Z,30,FALSE),\"\")","v":""},0,{"$error":"#VALUE!"},null,null,null,null,null,{"$f":"VLOOKUP(C322,Hidden_Словник!$A$2:C$81,3,FALSE)","v":{"$error":"#N/A"}},0,{"$f":"VLOOKUP(F322,Hidden_Словник!$W$2:$X$13,2,FALSE)","v":{"$error":"#N/A"}},{"$f":"#REF!","v":{"$error":"#REF!"}},{"$error":"#N/A"}]
[null,"",{"$f":"IFERROR(VLOOKUP(A323,'1.Портфель кредитів'!A:Z,3,FALSE),\"\")","v":""},{"$f":"IFERROR(VLOOKUP(A323,'1.Портфель кредитів'!A:Z,7,FALSE),\"\")","v":""},{"$f":"IFERROR(VLOOKUP(A323,'1.Портфель кредитів'!A:Z,14,FALSE),\"\")","v":""},null,null,null,null,null,null,null,null,{"$f":"IFERROR(VLOOKUP(A323,'1.Портфель кредитів'!A:Z,30,FALSE),\"\")","v":""},0,{"$error":"#VALUE!"},null,null,null,null,null,{"$f":"VLOOKUP(C323,Hidden_Словник!$A$2:C$81,3,FALSE)","v":{"$error":"#N/A"}},0,{"$f":"VLOOKUP(F323,Hidden_Словник!$W$2:$X$13,2,FALSE)","v":{"$error":"#N/A"}},{"$f":"#REF!","v":{"$error":"#REF!"}},{"$error":"#N/A"}]
[null,"",{"$f":"IFERROR(VLOOKUP(A324,'1.Портфель кредитів'!A:Z,3,FALSE),\"\")","v":""},{"$f":"IFERROR(VLOOKUP(A324,'1.Портфель кредитів'!A:Z,7,FALSE),\"\")","v":""},{"$f":"IFERROR(VLOOKUP(A324,'1.Портфель кредитів'!A:Z,14,FALSE),\"\")","v":""},null,null,null,null,null,null,null,null,{"$f":"IFERROR(VLOOKUP(A324,'1.Портфель кредитів'!A:Z,30,FALSE),\"\")","v":""},0,{"$error":"#VALUE!"},null,null,null,null,null,{"$f":"VLOOKUP(C324,Hidden_Словник!$A$2:C$81,3,FALSE)","v":{"$error":"#N/A"}},0,{"$f":"VLOOKUP(F324,Hidden_Словник!$W$2:$X$13,2,FALSE)","v":{"$error":"#N/A"}},{"$f":"#REF!","v":{"$error":"#REF!"}},{"$error":"#N/A"}]
[null,"",{"$f":"IFERROR(VLOOKUP(A325,'1.Портфель кредитів'!A:Z,3,FALSE),\"\")","v":""},{"$f":"IFERROR(VLOOKUP(A325,'1.Портфель кредитів'!A:Z,7,FALSE),\"\")","v":""},{"$f":"IFERROR(VLOOKUP(A325,'1.Портфель кредитів'!A:Z,14,FALSE),\"\")","v":""},null,null,null,null,null,null,null,null,{"$f":"IFERROR(VLOOKUP(A325,'1.Портфель кредитів'!A:Z,30,FALSE),\"\")","v":""},0,{"$error":"#VALUE!"},null,null,null,null,null,{"$f":"VLOOKUP(C325,Hidden_Словник!$A$2:C$81,3,FALSE)","v":{"$error":"#N/A"}},0,{"$f":"VLOOKUP(F325,Hidden_Словник!$W$2:$X$13,2,FALSE)","v":{"$error":"#N/A"}},{"$f":"#REF!","v":{"$error":"#REF!"}},{"$error":"#N/A"}]
[null,"",{"$f":"IFERROR(VLOOKUP(A326,'1.Портфель кредитів'!A:Z,3,FALSE),\"\")","v":""},{"$f":"IFERROR(VLOOKUP(A326,'1.Портфель кредитів'!A:Z,7,FALSE),\"\")","v":""},{"$f":"IFERROR(VLOOKUP(A326,'1.Портфель кредитів'!A:Z,14,FALSE),\"\")","v":""},null,null,null,null,null,null,null,null,{"$f":"IFERROR(VLOOKUP(A326,'1.Портфель кредитів'!A:Z,30,FALSE),\"\")","v":""},0,{"$error":"#VALUE!"},null,null,null,null,null,{"$f":"VLOOKUP(C326,Hidden_Словник!$A$2:C$81,3,FALSE)","v":{"$error":"#N/A"}},0,{"$f":"VLOOKUP(F326,Hidden_Словник!$W$2:$X$13,2,FALSE)","v":{"$error":"#N/A"}},{"$f":"#REF!","v":{"$error":"#REF!"}},{"$error":"#N/A"}]
[null,"",{"$f":"IFERROR(VLOOKUP(A327,'1.Портфель кредитів'!A:Z,3,FALSE),\"\")","v":""},{"$f":"IFERROR(VLOOKUP(A327,'1.Портфель кредитів'!A:Z,7,FALSE),\"\")","v":""},{"$f":"IFERROR(VLOOKUP(A327,'1.Портфель кредитів'!A:Z,14,FALSE),\"\")","v":""},null,null,null,null,null,null,null,null,{"$f":"IFERROR(VLOOKUP(A327,'1.Портфель кредитів'!A:Z,30,FALSE),\"\")","v":""},0,{"$error":"#VALUE!"},null,null,null,null,null,{"$f":"VLOOKUP(C327,Hidden_Словник!$A$2:C$81,3,FALSE)","v":{"$error":"#N/A"}},0,{"$f":"VLOOKUP(F327,Hidden_Словник!$W$2:$X$13,2,FALSE)","v":{"$error":"#N/A"}},{"$f":"#REF!","v":{"$error":"#REF!"}},{"$error":"#N/A"}]
[null,"",{"$f":"IFERROR(VLOOKUP(A328,'1.Портфель кредитів'!A:Z,3,FALSE),\"\")","v":""},{"$f":"IFERROR(VLOOKUP(A328,'1.Портфель кредитів'!A:Z,7,FALSE),\"\")","v":""},{"$f":"IFERROR(VLOOKUP(A328,'1.Портфель кредитів'!A:Z,14,FALSE),\"\")","v":""},null,null,null,null,null,null,null,null,{"$f":"IFERROR(VLOOKUP(A328,'1.Портфель кредитів'!A:Z,30,FALSE),\"\")","v":""},0,{"$error":"#VALUE!"},null,null,null,null,null,{"$f":"VLOOKUP(C328,Hidden_Словник!$A$2:C$81,3,FALSE)","v":{"$error":"#N/A"}},0,{"$f":"VLOOKUP(F328,Hidden_Словник!$W$2:$X$13,2,FALSE)","v":{"$error":"#N/A"}},{"$f":"#REF!","v":{"$error":"#REF!"}},{"$error":"#N/A"}]
[null,"",{"$f":"IFERROR(VLOOKUP(A329,'1.Портфель кредитів'!A:Z,3,FALSE),\"\")","v":""},{"$f":"IFERROR(VLOOKUP(A329,'1.Портфель кредитів'!A:Z,7,FALSE),\"\")","v":""},{"$f":"IFERROR(VLOOKUP(A329,'1.Портфель кредитів'!A:Z,14,FALSE),\"\")","v":""},null,null,null,null,null,null,null,null,{"$f":"IFERROR(VLOOKUP(A329,'1.Портфель кредитів'!A:Z,30,FALSE),\"\")","v":""},0,{"$error":"#VALUE!"},null,null,null,null,null,{"$f":"VLOOKUP(C329,Hidden_Словник!$A$2:C$81,3,FALSE)","v":{"$error":"#N/A"}},0,{"$f":"VLOOKUP(F329,Hidden_Словник!$W$2:$X$13,2,FALSE)","v":{"$error":"#N/A"}},{"$f":"#REF!","v":{"$error":"#REF!"}},{"$error":"#N/A"}]
[null,"",{"$f":"IFERROR(VLOOKUP(A330,'1.Портфель кредитів'!A:Z,3,FALSE),\"\")","v":""},{"$f":"IFERROR(VLOOKUP(A330,'1.Портфель кредитів'!A:Z,7,FALSE),\"\")","v":""},{"$f":"IFERROR(VLOOKUP(A330,'1.Портфель кредитів'!A:Z,14,FALSE),\"\")","v":""},null,null,null,null,null,null,null,null,{"$f":"IFERROR(VLOOKUP(A330,'1.Портфель кредитів'!A:Z,30,FALSE),\"\")","v":""},0,{"$error":"#VALUE!"},null,null,null,null,null,{"$f":"VLOOKUP(C330,Hidden_Словник!$A$2:C$81,3,FALSE)","v":{"$error":"#N/A"}},0,{"$f":"VLOOKUP(F330,Hidden_Словник!$W$2:$X$13,2,FALSE)","v":{"$error":"#N/A"}},{"$f":"#REF!","v":{"$error":"#REF!"}},{"$error":"#N/A"}]
[null,"",{"$f":"IFERROR(VLOOKUP(A331,'1.Портфель кредитів'!A:Z,3,FALSE),\"\")","v":""},{"$f":"IFERROR(VLOOKUP(A331,'1.Портфель кредитів'!A:Z,7,FALSE),\"\")","v":""},{"$f":"IFERROR(VLOOKUP(A331,'1.Портфель кредитів'!A:Z,14,FALSE),\"\")","v":""},null,null,null,null,null,null,null,null,{"$f":"IFERROR(VLOOKUP(A331,'1.Портфель кредитів'!A:Z,30,FALSE),\"\")","v":""},0,{"$error":"#VALUE!"},null,null,null,null,null,{"$f":"VLOOKUP(C331,Hidden_Словник!$A$2:C$81,3,FALSE)","v":{"$error":"#N/A"}},0,{"$f":"VLOOKUP(F331,Hidden_Словник!$W$2:$X$13,2,FALSE)","v":{"$error":"#N/A"}},{"$f":"#REF!","v":{"$error":"#REF!"}},{"$error":"#N/A"}]
[null,"",{"$f":"IFERROR(VLOOKUP(A332,'1.Портфель кредитів'!A:Z,3,FALSE),\"\")","v":""},{"$f":"IFERROR(VLOOKUP(A332,'1.Портфель кредитів'!A:Z,7,FALSE),\"\")","v":""},{"$f":"IFERROR(VLOOKUP(A332,'1.Портфель кредитів'!A:Z,14,FALSE),\"\")","v":""},null,null,null,null,null,null,null,null,{"$f":"IFERROR(VLOOKUP(A332,'1.Портфель кредитів'!A:Z,30,FALSE),\"\")","v":""},0,{"$error":"#VALUE!"},null,null,null,null,null,{"$f":"VLOOKUP(C332,Hidden_Словник!$A$2:C$81,3,FALSE)","v":{"$error":"#N/A"}},0,{"$f":"VLOOKUP(F332,Hidden_Словник!$W$2:$X$13,2,FALSE)","v":{"$error":"#N/A"}},{"$f":"#REF!","v":{"$error":"#REF!"}},{"$error":"#N/A"}]
[null,"",{"$f":"IFERROR(VLOOKUP(A333,'1.Портфель кредитів'!A:Z,3,FALSE),\"\")","v":""},{"$f":"IFERROR(VLOOKUP(A333,'1.Портфель кредитів'!A:Z,7,FALSE),\"\")","v":""},{"$f":"IFERROR(VLOOKUP(A333,'1.Портфель кредитів'!A:Z,14,FALSE),\"\")","v":""},null,null,null,null,null,null,null,null,{"$f":"IFERROR(VLOOKUP(A333,'1.Портфель кредитів'!A:Z,30,FALSE),\"\")","v":""},0,{"$error":"#VALUE!"},null,null,null,null,null,{"$f":"VLOOKUP(C333,Hidden_Словник!$A$2:C$81,3,FALSE)","v":{"$error":"#N/A"}},0,{"$f":"VLOOKUP(F333,Hidden_Словник!$W$2:$X$13,2,FALSE)","v":{"$error":"#N/A"}},{"$f":"#REF!","v":{"$error":"#REF!"}},{"$error":"#N/A"}]
[null,"",{"$f":"IFERROR(VLOOKUP(A334,'1.Портфель кредитів'!A:Z,3,FALSE),\"\")","v":""},{"$f":"IFERROR(VLOOKUP(A334,'1.Портфель кредитів'!A:Z,7,FALSE),\"\")","v":""},{"$f":"IFERROR(VLOOKUP(A334,'1.Портфель кредитів'!A:Z,14,FALSE),\"\")","v":""},null,null,null,null,null,null,null,null,{"$f":"IFERROR(VLOOKUP(A334,'1.Портфель кредитів'!A:Z,30,FALSE),\"\")","v":""},0,{"$error":"#VALUE!"},null,null,null,null,null,{"$f":"VLOOKUP(C334,Hidden_Словник!$A$2:C$81,3,FALSE)","v":{"$error":"#N/A"}},0,{"$f":"VLOOKUP(F334,Hidden_Словник!$W$2:$X$13,2,FALSE)","v":{"$error":"#N/A"}},{"$f":"#REF!","v":{"$error":"#REF!"}},{"$error":"#N/A"}]
[null,"",{"$f":"IFERROR(VLOOKUP(A335,'1.Портфель кредитів'!A:Z,3,FALSE),\"\")","v":""},{"$f":"IFERROR(VLOOKUP(A335,'1.Портфель кредитів'!A:Z,7,FALSE),\"\")","v":""},{"$f":"IFERROR(VLOOKUP(A335,'1.Портфель кредитів'!A:Z,14,FALSE),\"\")","v":""},null,null,null,null,null,null,null,null,{"$f":"IFERROR(VLOOKUP(A335,'1.Портфель кредитів'!A:Z,30,FALSE),\"\")","v":""},0,{"$error":"#VALUE!"},null,null,null,null,null,{"$f":"VLOOKUP(C335,Hidden_Словник!$A$2:C$81,3,FALSE)","v":{"$error":"#N/A"}},0,{"$f":"VLOOKUP(F335,Hidden_Словник!$W$2:$X$13,2,FALSE)","v":{"$error":"#N/A"}},{"$f":"#REF!","v":{"$error":"#REF!"}},{"$error":"#N/A"}]
[null,"",{"$f":"IFERROR(VLOOKUP(A336,'1.Портфель кредитів'!A:Z,3,FALSE),\"\")","v":""},{"$f":"IFERROR(VLOOKUP(A336,'1.Портфель кредитів'!A:Z,7,FALSE),\"\")","v":""},{"$f":"IFERROR(VLOOKUP(A336,'1.Портфель кредитів'!A:Z,14,FALSE),\"\")","v":""},null,null,null,null,null,null,null,null,{"$f":"IFERROR(VLOOKUP(A336,'1.Портфель кредитів'!A:Z,30,FALSE),\"\")","v":""},0,{"$error":"#VALUE!"},null,null,null,null,null,{"$f":"VLOOKUP(C336,Hidden_Словник!$A$2:C$81,3,FALSE)","v":{"$error":"#N/A"}},0,{"$f":"VLOOKUP(F336,Hidden_Словник!$W$2:$X$13,2,FALSE)","v":{"$error":"#N/A"}},{"$f":"#REF!","v":{"$error":"#REF!"}},{"$error":"#N/A"}]
[null,"",{"$f":"IFERROR(VLOOKUP(A337,'1.Портфель кредитів'!A:Z,3,FALSE),\"\")","v":""},{"$f":"IFERROR(VLOOKUP(A337,'1.Портфель кредитів'!A:Z,7,FALSE),\"\")","v":""},{"$f":"IFERROR(VLOOKUP(A337,'1.Портфель кредитів'!A:Z,14,FALSE),\"\")","v":""},null,null,null,null,null,null,null,null,{"$f":"IFERROR(VLOOKUP(A337,'1.Портфель кредитів'!A:Z,30,FALSE),\"\")","v":""},0,{"$error":"#VALUE!"},null,null,null,null,null,{"$f":"VLOOKUP(C337,Hidden_Словник!$A$2:C$81,3,FALSE)","v":{"$error":"#N/A"}},0,{"$f":"VLOOKUP(F337,Hidden_Словник!$W$2:$X$13,2,FALSE)","v":{"$error":"#N/A"}},{"$f":"#REF!","v":{"$error":"#REF!"}},{"$error":"#N/A"}]
[null,"",{"$f":"IFERROR(VLOOKUP(A338,'1.Портфель кредитів'!A:Z,3,FALSE),\"\")","v":""},{"$f":"IFERROR(VLOOKUP(A338,'1.Портфель кредитів'!A:Z,7,FALSE),\"\")","v":""},{"$f":"IFERROR(VLOOKUP(A338,'1.Портфель кредитів'!A:Z,14,FALSE),\"\")","v":""},null,null,null,null,null,null,null,null,{"$f":"IFERROR(VLOOKUP(A338,'1.Портфель кредитів'!A:Z,30,FALSE),\"\")","v":""},0,{"$error":"#VALUE!"},null,null,null,null,null,{"$f":"VLOOKUP(C338,Hidden_Словник!$A$2:C$81,3,FALSE)","v":{"$error":"#N/A"}},0,{"$f":"VLOOKUP(F338,Hidden_Словник!$W$2:$X$13,2,FALSE)","v":{"$error":"#N/A"}},{"$f":"#REF!","v":{"$error":"#REF!"}},{"$error":"#N/A"}]
[null,"",{"$f":"IFERROR(VLOOKUP(A339,'1.Портфель кредитів'!A:Z,3,FALSE),\"\")","v":""},{"$f":"IFERROR(VLOOKUP(A339,'1.Портфель кредитів'!A:Z,7,FALSE),\"\")","v":""},{"$f":"IFERROR(VLOOKUP(A339,'1.Портфель кредитів'!A:Z,14,FALSE),\"\")","v":""},null,null,null,null,null,null,null,null,{"$f":"IFERROR(VLOOKUP(A339,'1.Портфель кредитів'!A:Z,30,FALSE),\"\")","v":""},0,{"$error":"#VALUE!"},null,null,null,null,null,{"$f":"VLOOKUP(C339,Hidden_Словник!$A$2:C$81,3,FALSE)","v":{"$error":"#N/A"}},{"$f":"ROUNDUP(K339,0)","v":0},{"$f":"VLOOKUP(F339,Hidden_Словник!$W$2:$X$13,2,FALSE)","v":{"$error":"#N/A"}},{"$f":"#REF!","v":{"$error":"#REF!"}},{"$error":"#N/A"}]
[null,"",{"$f":"IFERROR(VLOOKUP(A340,'1.Портфель кредитів'!A:Z,3,FALSE),\"\")","v":""},{"$f":"IFERROR(VLOOKUP(A340,'1.Портфель кредитів'!A:Z,7,FALSE),\"\")","v":""},{"$f":"IFERROR(VLOOKUP(A340,'1.Портфель кредитів'!A:Z,14,FALSE),\"\")","v":""},null,null,null,null,null,null,null,null,{"$f":"IFERROR(VLOOKUP(A340,'1.Портфель кредитів'!A:Z,30,FALSE),\"\")","v":""},0,{"$error":"#VALUE!"},null,null,null,null,null,{"$f":"VLOOKUP(C340,Hidden_Словник!$A$2:C$81,3,FALSE)","v":{"$error":"#N/A"}},0,{"$f":"VLOOKUP(F340,Hidden_Словник!$W$2:$X$13,2,FALSE)","v":{"$error":"#N/A"}},{"$f":"#REF!","v":{"$error":"#REF!"}},{"$error":"#N/A"}]
[null,"",{"$f":"IFERROR(VLOOKUP(A341,'1.Портфель кредитів'!A:Z,3,FALSE),\"\")","v":""},{"$f":"IFERROR(VLOOKUP(A341,'1.Портфель кредитів'!A:Z,7,FALSE),\"\")","v":""},{"$f":"IFERROR(VLOOKUP(A341,'1.Портфель кредитів'!A:Z,14,FALSE),\"\")","v":""},null,null,null,null,null,null,null,null,{"$f":"IFERROR(VLOOKUP(A341,'1.Портфель кредитів'!A:Z,30,FALSE),\"\")","v":""},0,{"$error":"#VALUE!"},null,null,null,null,null,{"$f":"VLOOKUP(C341,Hidden_Словник!$A$2:C$81,3,FALSE)","v":{"$error":"#N/A"}},0,{"$f":"VLOOKUP(F341,Hidden_Словник!$W$2:$X$13,2,FALSE)","v":{"$error":"#N/A"}},{"$f":"#REF!","v":{"$error":"#REF!"}},{"$error":"#N/A"}]
[null,"",{"$f":"IFERROR(VLOOKUP(A342,'1.Портфель кредитів'!A:Z,3,FALSE),\"\")","v":""},{"$f":"IFERROR(VLOOKUP(A342,'1.Портфель кредитів'!A:Z,7,FALSE),\"\")","v":""},{"$f":"IFERROR(VLOOKUP(A342,'1.Портфель кредитів'!A:Z,14,FALSE),\"\")","v":""},null,null,null,null,null,null,null,null,{"$f":"IFERROR(VLOOKUP(A342,'1.Портфель кредитів'!A:Z,30,FALSE),\"\")","v":""},0,{"$error":"#VALUE!"},null,null,null,null,null,{"$f":"VLOOKUP(C342,Hidden_Словник!$A$2:C$81,3,FALSE)","v":{"$error":"#N/A"}},0,{"$f":"VLOOKUP(F342,Hidden_Словник!$W$2:$X$13,2,FALSE)","v":{"$error":"#N/A"}},{"$f":"#REF!","v":{"$error":"#REF!"}},{"$error":"#N/A"}]
[null,"",{"$f":"IFERROR(VLOOKUP(A343,'1.Портфель кредитів'!A:Z,3,FALSE),\"\")","v":""},{"$f":"IFERROR(VLOOKUP(A343,'1.Портфель кредитів'!A:Z,7,FALSE),\"\")","v":""},{"$f":"IFERROR(VLOOKUP(A343,'1.Портфель кредитів'!A:Z,14,FALSE),\"\")","v":""},null,null,null,null,null,null,null,null,{"$f":"IFERROR(VLOOKUP(A343,'1.Портфель кредитів'!A:Z,30,FALSE),\"\")","v":""},{"$f":"SUMIF(B:B,B343,N:N)","v":0},{"$error":"#VALUE!"},null,null,null,null,null,{"$f":"VLOOKUP(C343,Hidden_Словник!$A$2:C$81,3,FALSE)","v":{"$error":"#N/A"}},0,{"$f":"VLOOKUP(F343,Hidden_Словник!$W$2:$X$13,2,FALSE)","v":{"$error":"#N/A"}},{"$f":"#REF!","v":{"$error":"#REF!"}},{"$error":"#N/A"}]
[null,"",{"$f":"IFERROR(VLOOKUP(A344,'1.Портфель кредитів'!A:Z,3,FALSE),\"\")","v":""},{"$f":"IFERROR(VLOOKUP(A344,'1.Портфель кредитів'!A:Z,7,FALSE),\"\")","v":""},{"$f":"IFERROR(VLOOKUP(A344,'1.Портфель кредитів'!A:Z,14,FALSE),\"\")","v":""},null,null,null,null,null,null,null,null,{"$f":"IFERROR(VLOOKUP(A344,'1.Портфель кредитів'!A:Z,30,FALSE),\"\")","v":""},0,{"$error":"#VALUE!"},null,null,null,null,null,{"$f":"VLOOKUP(C344,Hidden_Словник!$A$2:C$81,3,FALSE)","v":{"$error":"#N/A"}},0,{"$f":"VLOOKUP(F344,Hidden_Словник!$W$2:$X$13,2,FALSE)","v":{"$error":"#N/A"}},{"$f":"#REF!","v":{"$error":"#REF!"}},{"$error":"#N/A"}]
[null,"",{"$f":"IFERROR(VLOOKUP(A345,'1.Портфель кредитів'!A:Z,3,FALSE),\"\")","v":""},{"$f":"IFERROR(VLOOKUP(A345,'1.Портфель кредитів'!A:Z,7,FALSE),\"\")","v":""},{"$f":"IFERROR(VLOOKUP(A345,'1.Портфель кредитів'!A:Z,14,FALSE),\"\")","v":""},null,null,null,null,null,null,null,null,{"$f":"IFERROR(VLOOKUP(A345,'1.Портфель кредитів'!A:Z,30,FALSE),\"\")","v":""},0,{"$error":"#VALUE!"},null,null,null,null,null,{"$f":"VLOOKUP(C345,Hidden_Словник!$A$2:C$81,3,FALSE)","v":{"$error":"#N/A"}},0,{"$f":"VLOOKUP(F345,Hidden_Словник!$W$2:$X$13,2,FALSE)","v":{"$error":"#N/A"}},{"$f":"#REF!","v":{"$error":"#REF!"}},{"$error":"#N/A"}]
[null,"",{"$f":"IFERROR(VLOOKUP(A346,'1.Портфель кредитів'!A:Z,3,FALSE),\"\")","v":""},{"$f":"IFERROR(VLOOKUP(A346,'1.Портфель кредитів'!A:Z,7,FALSE),\"\")","v":""},{"$f":"IFERROR(VLOOKUP(A346,'1.Портфель кредитів'!A:Z,14,FALSE),\"\")","v":""},null,null,null,null,null,null,null,null,{"$f":"IFERROR(VLOOKUP(A346,'1.Портфель кредитів'!A:Z,30,FALSE),\"\")","v":""},0,{"$error":"#VALUE!"},null,null,null,null,null,{"$f":"VLOOKUP(C346,Hidden_Словник!$A$2:C$81,3,FALSE)","v":{"$error":"#N/A"}},0,{"$f":"VLOOKUP(F346,Hidden_Словник!$W$2:$X$13,2,FALSE)","v":{"$error":"#N/A"}},{"$f":"#REF!","v":{"$error":"#REF!"}},{"$error":"#N/A"}]
[null,"",{"$f":"IFERROR(VLOOKUP(A347,'1.Портфель кредитів'!A:Z,3,FALSE),\"\")","v":""},{"$f":"IFERROR(VLOOKUP(A347,'1.Портфель кредитів'!A:Z,7,FALSE),\"\")","v":""},{"$f":"IFERROR(VLOOKUP(A347,'1.Портфель кредитів'!A:Z,14,FALSE),\"\")","v":""},null,null,null,null,null,null,null,null,{"$f":"IFERROR(VLOOKUP(A347,'1.Портфель кредитів'!A:Z,30,FALSE),\"\")","v":""},0,{"$error":"#VALUE!"},null,null,null,null,null,{"$f":"VLOOKUP(C347,Hidden_Словник!$A$2:C$81,3,FALSE)","v":{"$error":"#N/A"}},0,{"$f":"VLOOKUP(F347,Hidden_Словник!$W$2:$X$13,2,FALSE)","v":{"$error":"#N/A"}},{"$f":"#REF!","v":{"$error":"#REF!"}},{"$error":"#N/A"}]
[null,"",{"$f":"IFERROR(VLOOKUP(A348,'1.Портфель кредитів'!A:Z,3,FALSE),\"\")","v":""},{"$f":"IFERROR(VLOOKUP(A348,'1.Портфель кредитів'!A:Z,7,FALSE),\"\")","v":""},{"$f":"IFERROR(VLOOKUP(A348,'1.Портфель кредитів'!A:Z,14,FALSE),\"\")","v":""},null,null,null,null,null,null,null,null,{"$f":"IFERROR(VLOOKUP(A348,'1.Портфель кредитів'!A:Z,30,FALSE),\"\")","v":""},0,{"$error":"#VALUE!"},null,null,null,null,null,{"$f":"VLOOKUP(C348,Hidden_Словник!$A$2:C$81,3,FALSE)","v":{"$error":"#N/A"}},0,{"$f":"VLOOKUP(F348,Hidden_Словник!$W$2:$X$13,2,FALSE)","v":{"$error":"#N/A"}},{"$f":"#REF!","v":{"$error":"#REF!"}},{"$error":"#N/A"}]
[null,"",{"$f":"IFERROR(VLOOKUP(A349,'1.Портфель кредитів'!A:Z,3,FALSE),\"\")","v":""},{"$f":"IFERROR(VLOOKUP(A349,'1.Портфель кредитів'!A:Z,7,FALSE),\"\")","v":""},{"$f":"IFERROR(VLOOKUP(A349,'1.Портфель кредитів'!A:Z,14,FALSE),\"\")","v":""},null,null,null,null,null,null,null,null,{"$f":"IFERROR(VLOOKUP(A349,'1.Портфель кредитів'!A:Z,30,FALSE),\"\")","v":""},0,{"$error":"#VALUE!"},null,null,null,null,null,{"$f":"VLOOKUP(C349,Hidden_Словник!$A$2:C$81,3,FALSE)","v":{"$error":"#N/A"}},0,{"$f":"VLOOKUP(F349,Hidden_Словник!$W$2:$X$13,2,FALSE)","v":{"$error":"#N/A"}},{"$f":"#REF!","v":{"$error":"#REF!"}},{"$error":"#N/A"}]
[null,"",{"$f":"IFERROR(VLOOKUP(A350,'1.Портфель кредитів'!A:Z,3,FALSE),\"\")","v":""},{"$f":"IFERROR(VLOOKUP(A350,'1.Портфель кредитів'!A:Z,7,FALSE),\"\")","v":""},{"$f":"IFERROR(VLOOKUP(A350,'1.Портфель кредитів'!A:Z,14,FALSE),\"\")","v":""},null,null,null,null,null,null,null,null,{"$f":"IFERROR(VLOOKUP(A350,'1.Портфель кредитів'!A:Z,30,FALSE),\"\")","v":""},0,{"$error":"#VALUE!"},null,null,null,null,null,{"$f":"VLOOKUP(C350,Hidden_Словник!$A$2:C$81,3,FALSE)","v":{"$error":"#N/A"}},0,{"$f":"VLOOKUP(F350,Hidden_Словник!$W$2:$X$13,2,FALSE)","v":{"$error":"#N/A"}},{"$f":"#REF!","v":{"$error":"#REF!"}},{"$error":"#N/A"}]
[null,"",{"$f":"IFERROR(VLOOKUP(A351,'1.Портфель кредитів'!A:Z,3,FALSE),\"\")","v":""},{"$f":"IFERROR(VLOOKUP(A351,'1.Портфель кредитів'!A:Z,7,FALSE),\"\")","v":""},{"$f":"IFERROR(VLOOKUP(A351,'1.Портфель кредитів'!A:Z,14,FALSE),\"\")","v":""},null,null,null,null,null,null,null,null,{"$f":"IFERROR(VLOOKUP(A351,'1.Портфель кредитів'!A:Z,30,FALSE),\"\")","v":""},0,{"$error":"#VALUE!"},null,null,null,null,null,{"$f":"VLOOKUP(C351,Hidden_Словник!$A$2:C$81,3,FALSE)","v":{"$error":"#N/A"}},0,{"$f":"VLOOKUP(F351,Hidden_Словник!$W$2:$X$13,2,FALSE)","v":{"$error":"#N/A"}},{"$f":"#REF!","v":{"$error":"#REF!"}},{"$error":"#N/A"}]
[null,"",{"$f":"IFERROR(VLOOKUP(A352,'1.Портфель кредитів'!A:Z,3,FALSE),\"\")","v":""},{"$f":"IFERROR(VLOOKUP(A352,'1.Портфель кредитів'!A:Z,7,FALSE),\"\")","v":""},{"$f":"IFERROR(VLOOKUP(A352,'1.Портфель кредитів'!A:Z,14,FALSE),\"\")","v":""},null,null,null,null,null,null,null,null,{"$f":"IFERROR(VLOOKUP(A352,'1.Портфель кредитів'!A:Z,30,FALSE),\"\")","v":""},0,{"$error":"#VALUE!"},null,null,null,null,null,{"$f":"VLOOKUP(C352,Hidden_Словник!$A$2:C$81,3,FALSE)","v":{"$error":"#N/A"}},0,{"$f":"VLOOKUP(F352,Hidden_Словник!$W$2:$X$13,2,FALSE)","v":{"$error":"#N/A"}},{"$f":"#REF!","v":{"$error":"#REF!"}},{"$error":"#N/A"}]
[null,"",{"$f":"IFERROR(VLOOKUP(A353,'1.Портфель кредитів'!A:Z,3,FALSE),\"\")","v":""},{"$f":"IFERROR(VLOOKUP(A353,'1.Портфель кредитів'!A:Z,7,FALSE),\"\")","v":""},{"$f":"IFERROR(VLOOKUP(A353,'1.Портфель кредитів'!A:Z,14,FALSE),\"\")","v":""},null,null,null,null,null,null,null,null,{"$f":"IFERROR(VLOOKUP(A353,'1.Портфель кредитів'!A:Z,30,FALSE),\"\")","v":""},0,{"$error":"#VALUE!"},null,null,null,null,null,{"$f":"VLOOKUP(C353,Hidden_Словник!$A$2:C$81,3,FALSE)","v":{"$error":"#N/A"}},0,{"$f":"VLOOKUP(F353,Hidden_Словник!$W$2:$X$13,2,FALSE)","v":{"$error":"#N/A"}},{"$f":"#REF!","v":{"$error":"#REF!"}},{"$error":"#N/A"}]
[null,"",{"$f":"IFERROR(VLOOKUP(A354,'1.Портфель кредитів'!A:Z,3,FALSE),\"\")","v":""},{"$f":"IFERROR(VLOOKUP(A354,'1.Портфель кредитів'!A:Z,7,FALSE),\"\")","v":""},{"$f":"IFERROR(VLOOKUP(A354,'1.Портфель кредитів'!A:Z,14,FALSE),\"\")","v":""},null,null,null,null,null,null,null,null,{"$f":"IFERROR(VLOOKUP(A354,'1.Портфель кредитів'!A:Z,30,FALSE),\"\")","v":""},0,{"$error":"#VALUE!"},null,null,null,null,null,{"$f":"VLOOKUP(C354,Hidden_Словник!$A$2:C$81,3,FALSE)","v":{"$error":"#N/A"}},0,{"$f":"VLOOKUP(F354,Hidden_Словник!$W$2:$X$13,2,FALSE)","v":{"$error":"#N/A"}},{"$f":"#REF!","v":{"$error":"#REF!"}},{"$error":"#N/A"}]
[null,"",{"$f":"IFERROR(VLOOKUP(A355,'1.Портфель кредитів'!A:Z,3,FALSE),\"\")","v":""},{"$f":"IFERROR(VLOOKUP(A355,'1.Портфель кредитів'!A:Z,7,FALSE),\"\")","v":""},{"$f":"IFERROR(VLOOKUP(A355,'1.Портфель кредитів'!A:Z,14,FALSE),\"\")","v":""},null,null,null,null,null,null,null,null,{"$f":"IFERROR(VLOOKUP(A355,'1.Портфель кредитів'!A:Z,30,FALSE),\"\")","v":""},0,{"$error":"#VALUE!"},null,null,null,null,null,{"$f":"VLOOKUP(C355,Hidden_Словник!$A$2:C$81,3,FALSE)","v":{"$error":"#N/A"}},0,{"$f":"VLOOKUP(F355,Hidden_Словник!$W$2:$X$13,2,FALSE)","v":{"$error":"#N/A"}},{"$f":"#REF!","v":{"$error":"#REF!"}},{"$error":"#N/A"}]
[null,"",{"$f":"IFERROR(VLOOKUP(A356,'1.Портфель кредитів'!A:Z,3,FALSE),\"\")","v":""},{"$f":"IFERROR(VLOOKUP(A356,'1.Портфель кредитів'!A:Z,7,FALSE),\"\")","v":""},{"$f":"IFERROR(VLOOKUP(A356,'1.Портфель кредитів'!A:Z,14,FALSE),\"\")","v":""},null,null,null,null,null,null,null,null,{"$f":"IFERROR(VLOOKUP(A356,'1.Портфель кредитів'!A:Z,30,FALSE),\"\")","v":""},0,{"$error":"#VALUE!"},null,null,null,null,null,{"$f":"VLOOKUP(C356,Hidden_Словник!$A$2:C$81,3,FALSE)","v":{"$error":"#N/A"}},0,{"$f":"VLOOKUP(F356,Hidden_Словник!$W$2:$X$13,2,FALSE)","v":{"$error":"#N/A"}},{"$f":"#REF!","v":{"$error":"#REF!"}},{"$error":"#N/A"}]
[null,"",{"$f":"IFERROR(VLOOKUP(A357,'1.Портфель кредитів'!A:Z,3,FALSE),\"\")","v":""},{"$f":"IFERROR(VLOOKUP(A357,'1.Портфель кредитів'!A:Z,7,FALSE),\"\")","v":""},{"$f":"IFERROR(VLOOKUP(A357,'1.Портфель кредитів'!A:Z,14,FALSE),\"\")","v":""},null,null,null,null,null,null,null,null,{"$f":"IFERROR(VLOOKUP(A357,'1.Портфель кредитів'!A:Z,30,FALSE),\"\")","v":""},0,{"$error":"#VALUE!"},null,null,null,null,null,{"$f":"VLOOKUP(C357,Hidden_Словник!$A$2:C$81,3,FALSE)","v":{"$error":"#N/A"}},0,{"$f":"VLOOKUP(F357,Hidden_Словник!$W$2:$X$13,2,FALSE)","v":{"$error":"#N/A"}},{"$f":"#REF!","v":{"$error":"#REF!"}},{"$error":"#N/A"}]
[null,"",{"$f":"IFERROR(VLOOKUP(A358,'1.Портфель кредитів'!A:Z,3,FALSE),\"\")","v":""},{"$f":"IFERROR(VLOOKUP(A358,'1.Портфель кредитів'!A:Z,7,FALSE),\"\")","v":""},{"$f":"IFERROR(VLOOKUP(A358,'1.Портфель кредитів'!A:Z,14,FALSE),\"\")","v":""},null,null,null,null,null,null,null,null,{"$f":"IFERROR(VLOOKUP(A358,'1.Портфель кредитів'!A:Z,30,FALSE),\"\")","v":""},0,{"$f":"N358/O358","v":{"$error":"#VALUE!"}},null,null,null,null,null,{"$f":"VLOOKUP(C358,Hidden_Словник!$A$2:C$81,3,FALSE)","v":{"$error":"#N/A"}},0,{"$f":"VLOOKUP(F358,Hidden_Словник!$W$2:$X$13,2,FALSE)","v":{"$error":"#N/A"}},{"$f":"#REF!","v":{"$error":"#REF!"}},{"$error":"#N/A"}]
[null,"",{"$f":"IFERROR(VLOOKUP(A359,'1.Портфель кредитів'!A:Z,3,FALSE),\"\")","v":""},{"$f":"IFERROR(VLOOKUP(A359,'1.Портфель кредитів'!A:Z,7,FALSE),\"\")","v":""},{"$f":"IFERROR(VLOOKUP(A359,'1.Портфель кредитів'!A:Z,14,FALSE),\"\")","v":""},null,null,null,null,null,null,null,null,{"$f":"IFERROR(VLOOKUP(A359,'1.Портфель кредитів'!A:Z,30,FALSE),\"\")","v":""},0,{"$error":"#VALUE!"},null,null,null,null,null,{"$f":"VLOOKUP(C359,Hidden_Словник!$A$2:C$81,3,FALSE)","v":{"$error":"#N/A"}},0,{"$f":"VLOOKUP(F359,Hidden_Словник!$W$2:$X$13,2,FALSE)","v":{"$error":"#N/A"}},{"$f":"#REF!","v":{"$error":"#REF!"}},{"$error":"#N/A"}]
[null,"",{"$f":"IFERROR(VLOOKUP(A360,'1.Портфель кредитів'!A:Z,3,FALSE),\"\")","v":""},{"$f":"IFERROR(VLOOKUP(A360,'1.Портфель кредитів'!A:Z,7,FALSE),\"\")","v":""},{"$f":"IFERROR(VLOOKUP(A360,'1.Портфель кредитів'!A:Z,14,FALSE),\"\")","v":""},null,null,null,null,null,null,null,null,{"$f":"IFERROR(VLOOKUP(A360,'1.Портфель кредитів'!A:Z,30,FALSE),\"\")","v":""},0,{"$error":"#VALUE!"},null,null,null,null,null,{"$f":"VLOOKUP(C360,Hidden_Словник!$A$2:C$81,3,FALSE)","v":{"$error":"#N/A"}},0,{"$f":"VLOOKUP(F360,Hidden_Словник!$W$2:$X$13,2,FALSE)","v":{"$error":"#N/A"}},{"$f":"#REF!","v":{"$error":"#REF!"}},{"$error":"#N/A"}]
[null,"",{"$f":"IFERROR(VLOOKUP(A361,'1.Портфель кредитів'!A:Z,3,FALSE),\"\")","v":""},{"$f":"IFERROR(VLOOKUP(A361,'1.Портфель кредитів'!A:Z,7,FALSE),\"\")","v":""},{"$f":"IFERROR(VLOOKUP(A361,'1.Портфель кредитів'!A:Z,14,FALSE),\"\")","v":""},null,null,null,null,null,null,null,null,{"$f":"IFERROR(VLOOKUP(A361,'1.Портфель кредитів'!A:Z,30,FALSE),\"\")","v":""},0,{"$error":"#VALUE!"},null,null,null,null,null,{"$f":"VLOOKUP(C361,Hidden_Словник!$A$2:C$81,3,FALSE)","v":{"$error":"#N/A"}},0,{"$f":"VLOOKUP(F361,Hidden_Словник!$W$2:$X$13,2,FALSE)","v":{"$error":"#N/A"}},{"$f":"#REF!","v":{"$error":"#REF!"}},{"$error":"#N/A"}]
[null,"",{"$f":"IFERROR(VLOOKUP(A362,'1.Портфель кредитів'!A:Z,3,FALSE),\"\")","v":""},{"$f":"IFERROR(VLOOKUP(A362,'1.Портфель кредитів'!A:Z,7,FALSE),\"\")","v":""},{"$f":"IFERROR(VLOOKUP(A362,'1.Портфель кредитів'!A:Z,14,FALSE),\"\")","v":""},null,null,null,null,null,null,null,null,{"$f":"IFERROR(VLOOKUP(A362,'1.Портфель кредитів'!A:Z,30,FALSE),\"\")","v":""},0,{"$error":"#VALUE!"},null,null,null,null,null,{"$f":"VLOOKUP(C362,Hidden_Словник!$A$2:C$81,3,FALSE)","v":{"$error":"#N/A"}},0,{"$f":"VLOOKUP(F362,Hidden_Словник!$W$2:$X$13,2,FALSE)","v":{"$error":"#N/A"}},{"$f":"#REF!","v":{"$error":"#REF!"}},{"$error":"#N/A"}]
[null,"",{"$f":"IFERROR(VLOOKUP(A363,'1.Портфель кредитів'!A:Z,3,FALSE),\"\")","v":""},{"$f":"IFERROR(VLOOKUP(A363,'1.Портфель кредитів'!A:Z,7,FALSE),\"\")","v":""},{"$f":"IFERROR(VLOOKUP(A363,'1.Портфель кредитів'!A:Z,14,FALSE),\"\")","v":""},null,null,null,null,null,null,null,null,{"$f":"IFERROR(VLOOKUP(A363,'1.Портфель кредитів'!A:Z,30,FALSE),\"\")","v":""},0,{"$error":"#VALUE!"},null,null,null,null,null,{"$f":"VLOOKUP(C363,Hidden_Словник!$A$2:C$81,3,FALSE)","v":{"$error":"#N/A"}},0,{"$f":"VLOOKUP(F363,Hidden_Словник!$W$2:$X$13,2,FALSE)","v":{"$error":"#N/A"}},{"$f":"#REF!","v":{"$error":"#REF!"}},{"$error":"#N/A"}]
[null,"",{"$f":"IFERROR(VLOOKUP(A364,'1.Портфель кредитів'!A:Z,3,FALSE),\"\")","v":""},{"$f":"IFERROR(VLOOKUP(A364,'1.Портфель кредитів'!A:Z,7,FALSE),\"\")","v":""},{"$f":"IFERROR(VLOOKUP(A364,'1.Портфель кредитів'!A:Z,14,FALSE),\"\")","v":""},null,null,null,null,null,null,null,null,{"$f":"IFERROR(VLOOKUP(A364,'1.Портфель кредитів'!A:Z,30,FALSE),\"\")","v":""},0,{"$error":"#VALUE!"},null,null,null,null,null,{"$f":"VLOOKUP(C364,Hidden_Словник!$A$2:C$81,3,FALSE)","v":{"$error":"#N/A"}},0,{"$f":"VLOOKUP(F364,Hidden_Словник!$W$2:$X$13,2,FALSE)","v":{"$error":"#N/A"}},{"$f":"#REF!","v":{"$error":"#REF!"}},{"$error":"#N/A"}]
[null,"",{"$f":"IFERROR(VLOOKUP(A365,'1.Портфель кредитів'!A:Z,3,FALSE),\"\")","v":""},{"$f":"IFERROR(VLOOKUP(A365,'1.Портфель кредитів'!A:Z,7,FALSE),\"\")","v":""},{"$f":"IFERROR(VLOOKUP(A365,'1.Портфель кредитів'!A:Z,14,FALSE),\"\")","v":""},null,null,null,null,null,null,null,null,{"$f":"IFERROR(VLOOKUP(A365,'1.Портфель кредитів'!A:Z,30,FALSE),\"\")","v":""},0,{"$error":"#VALUE!"},null,null,null,null,null,{"$f":"VLOOKUP(C365,Hidden_Словник!$A$2:C$81,3,FALSE)","v":{"$error":"#N/A"}},0,{"$f":"VLOOKUP(F365,Hidden_Словник!$W$2:$X$13,2,FALSE)","v":{"$error":"#N/A"}},{"$f":"#REF!","v":{"$error":"#REF!"}},{"$error":"#N/A"}]
[null,"",{"$f":"IFERROR(VLOOKUP(A366,'1.Портфель кредитів'!A:Z,3,FALSE),\"\")","v":""},{"$f":"IFERROR(VLOOKUP(A366,'1.Портфель кредитів'!A:Z,7,FALSE),\"\")","v":""},{"$f":"IFERROR(VLOOKUP(A366,'1.Портфель кредитів'!A:Z,14,FALSE),\"\")","v":""},null,null,null,null,null,null,null,null,{"$f":"IFERROR(VLOOKUP(A366,'1.Портфель кредитів'!A:Z,30,FALSE),\"\")","v":""},0,{"$error":"#VALUE!"},null,null,null,null,null,{"$f":"VLOOKUP(C366,Hidden_Словник!$A$2:C$81,3,FALSE)","v":{"$error":"#N/A"}},0,{"$f":"VLOOKUP(F366,Hidden_Словник!$W$2:$X$13,2,FALSE)","v":{"$error":"#N/A"}},{"$f":"#REF!","v":{"$error":"#REF!"}},{"$error":"#N/A"}]
[null,"",{"$f":"IFERROR(VLOOKUP(A367,'1.Портфель кредитів'!A:Z,3,FALSE),\"\")","v":""},{"$f":"IFERROR(VLOOKUP(A367,'1.Портфель кредитів'!A:Z,7,FALSE),\"\")","v":""},{"$f":"IFERROR(VLOOKUP(A367,'1.Портфель кредитів'!A:Z,14,FALSE),\"\")","v":""},null,null,null,null,null,null,null,null,{"$f":"IFERROR(VLOOKUP(A367,'1.Портфель кредитів'!A:Z,30,FALSE),\"\")","v":""},0,{"$error":"#VALUE!"},null,null,null,null,null,{"$f":"VLOOKUP(C367,Hidden_Словник!$A$2:C$81,3,FALSE)","v":{"$error":"#N/A"}},0,{"$f":"VLOOKUP(F367,Hidden_Словник!$W$2:$X$13,2,FALSE)","v":{"$error":"#N/A"}},{"$f":"#REF!","v":{"$error":"#REF!"}},{"$error":"#N/A"}]
[null,"",{"$f":"IFERROR(VLOOKUP(A368,'1.Портфель кредитів'!A:Z,3,FALSE),\"\")","v":""},{"$f":"IFERROR(VLOOKUP(A368,'1.Портфель кредитів'!A:Z,7,FALSE),\"\")","v":""},{"$f":"IFERROR(VLOOKUP(A368,'1.Портфель кредитів'!A:Z,14,FALSE),\"\")","v":""},null,null,null,null,null,null,null,null,{"$f":"IFERROR(VLOOKUP(A368,'1.Портфель кредитів'!A:Z,30,FALSE),\"\")","v":""},0,{"$error":"#VALUE!"},null,null,null,null,null,{"$f":"VLOOKUP(C368,Hidden_Словник!$A$2:C$81,3,FALSE)","v":{"$error":"#N/A"}},0,{"$f":"VLOOKUP(F368,Hidden_Словник!$W$2:$X$13,2,FALSE)","v":{"$error":"#N/A"}},{"$f":"#REF!","v":{"$error":"#REF!"}},{"$error":"#N/A"}]
[null,"",{"$f":"IFERROR(VLOOKUP(A369,'1.Портфель кредитів'!A:Z,3,FALSE),\"\")","v":""},{"$f":"IFERROR(VLOOKUP(A369,'1.Портфель кредитів'!A:Z,7,FALSE),\"\")","v":""},{"$f":"IFERROR(VLOOKUP(A369,'1.Портфель кредитів'!A:Z,14,FALSE),\"\")","v":""},null,null,null,null,null,null,null,null,{"$f":"IFERROR(VLOOKUP(A369,'1.Портфель кредитів'!A:Z,30,FALSE),\"\")","v":""},0,{"$error":"#VALUE!"},null,null,null,null,null,{"$f":"VLOOKUP(C369,Hidden_Словник!$A$2:C$81,3,FALSE)","v":{"$error":"#N/A"}},0,{"$f":"VLOOKUP(F369,Hidden_Словник!$W$2:$X$13,2,FALSE)","v":{"$error":"#N/A"}},{"$f":"#REF!","v":{"$error":"#REF!"}},{"$error":"#N/A"}]
[null,"",{"$f":"IFERROR(VLOOKUP(A370,'1.Портфель кредитів'!A:Z,3,FALSE),\"\")","v":""},{"$f":"IFERROR(VLOOKUP(A370,'1.Портфель кредитів'!A:Z,7,FALSE),\"\")","v":""},{"$f":"IFERROR(VLOOKUP(A370,'1.Портфель кредитів'!A:Z,14,FALSE),\"\")","v":""},null,null,null,null,null,null,null,null,{"$f":"IFERROR(VLOOKUP(A370,'1.Портфель кредитів'!A:Z,30,FALSE),\"\")","v":""},0,{"$error":"#VALUE!"},null,null,null,null,null,{"$f":"VLOOKUP(C370,Hidden_Словник!$A$2:C$81,3,FALSE)","v":{"$error":"#N/A"}},0,{"$f":"VLOOKUP(F370,Hidden_Словник!$W$2:$X$13,2,FALSE)","v":{"$error":"#N/A"}},{"$f":"#REF!","v":{"$error":"#REF!"}},{"$error":"#N/A"}]
[null,"",{"$f":"IFERROR(VLOOKUP(A371,'1.Портфель кредитів'!A:Z,3,FALSE),\"\")","v":""},{"$f":"IFERROR(VLOOKUP(A371,'1.Портфель кредитів'!A:Z,7,FALSE),\"\")","v":""},{"$f":"IFERROR(VLOOKUP(A371,'1.Портфель кредитів'!A:Z,14,FALSE),\"\")","v":""},null,null,null,null,null,null,null,null,{"$f":"IFERROR(VLOOKUP(A371,'1.Портфель кредитів'!A:Z,30,FALSE),\"\")","v":""},0,{"$error":"#VALUE!"},null,null,null,null,null,{"$f":"VLOOKUP(C371,Hidden_Словник!$A$2:C$81,3,FALSE)","v":{"$error":"#N/A"}},0,{"$f":"VLOOKUP(F371,Hidden_Словник!$W$2:$X$13,2,FALSE)","v":{"$error":"#N/A"}},{"$f":"#REF!","v":{"$error":"#REF!"}},{"$error":"#N/A"}]
[null,"",{"$f":"IFERROR(VLOOKUP(A372,'1.Портфель кредитів'!A:Z,3,FALSE),\"\")","v":""},{"$f":"IFERROR(VLOOKUP(A372,'1.Портфель кредитів'!A:Z,7,FALSE),\"\")","v":""},{"$f":"IFERROR(VLOOKUP(A372,'1.Портфель кредитів'!A:Z,14,FALSE),\"\")","v":""},null,null,null,null,null,null,null,null,{"$f":"IFERROR(VLOOKUP(A372,'1.Портфель кредитів'!A:Z,30,FALSE),\"\")","v":""},0,{"$error":"#VALUE!"},null,null,null,null,null,{"$f":"VLOOKUP(C372,Hidden_Словник!$A$2:C$81,3,FALSE)","v":{"$error":"#N/A"}},0,{"$f":"VLOOKUP(F372,Hidden_Словник!$W$2:$X$13,2,FALSE)","v":{"$error":"#N/A"}},{"$f":"#REF!","v":{"$error":"#REF!"}},{"$error":"#N/A"}]
[null,"",{"$f":"IFERROR(VLOOKUP(A373,'1.Портфель кредитів'!A:Z,3,FALSE),\"\")","v":""},{"$f":"IFERROR(VLOOKUP(A373,'1.Портфель кредитів'!A:Z,7,FALSE),\"\")","v":""},{"$f":"IFERROR(VLOOKUP(A373,'1.Портфель кредитів'!A:Z,14,FALSE),\"\")","v":""},null,null,null,null,null,null,null,null,{"$f":"IFERROR(VLOOKUP(A373,'1.Портфель кредитів'!A:Z,30,FALSE),\"\")","v":""},0,{"$error":"#VALUE!"},null,null,null,null,null,{"$f":"VLOOKUP(C373,Hidden_Словник!$A$2:C$81,3,FALSE)","v":{"$error":"#N/A"}},0,{"$f":"VLOOKUP(F373,Hidden_Словник!$W$2:$X$13,2,FALSE)","v":{"$error":"#N/A"}},{"$f":"#REF!","v":{"$error":"#REF!"}},{"$error":"#N/A"}]
[null,"",{"$f":"IFERROR(VLOOKUP(A374,'1.Портфель кредитів'!A:Z,3,FALSE),\"\")","v":""},{"$f":"IFERROR(VLOOKUP(A374,'1.Портфель кредитів'!A:Z,7,FALSE),\"\")","v":""},{"$f":"IFERROR(VLOOKUP(A374,'1.Портфель кредитів'!A:Z,14,FALSE),\"\")","v":""},null,null,null,null,null,null,null,null,{"$f":"IFERROR(VLOOKUP(A374,'1.Портфель кредитів'!A:Z,30,FALSE),\"\")","v":""},0,{"$error":"#VALUE!"},null,null,null,null,null,{"$f":"VLOOKUP(C374,Hidden_Словник!$A$2:C$81,3,FALSE)","v":{"$error":"#N/A"}},0,{"$f":"VLOOKUP(F374,Hidden_Словник!$W$2:$X$13,2,FALSE)","v":{"$error":"#N/A"}},{"$f":"#REF!","v":{"$error":"#REF!"}},{"$error":"#N/A"}]
[null,"",{"$f":"IFERROR(VLOOKUP(A375,'1.Портфель кредитів'!A:Z,3,FALSE),\"\")","v":""},{"$f":"IFERROR(VLOOKUP(A375,'1.Портфель кредитів'!A:Z,7,FALSE),\"\")","v":""},{"$f":"IFERROR(VLOOKUP(A375,'1.Портфель кредитів'!A:Z,14,FALSE),\"\")","v":""},null,null,null,null,null,null,null,null,{"$f":"IFERROR(VLOOKUP(A375,'1.Портфель кредитів'!A:Z,30,FALSE),\"\")","v":""},0,{"$error":"#VALUE!"},null,null,null,null,null,{"$f":"VLOOKUP(C375,Hidden_Словник!$A$2:C$81,3,FALSE)","v":{"$error":"#N/A"}},0,{"$f":"VLOOKUP(F375,Hidden_Словник!$W$2:$X$13,2,FALSE)","v":{"$error":"#N/A"}},{"$f":"#REF!","v":{"$error":"#REF!"}},{"$error":"#N/A"}]
[null,"",{"$f":"IFERROR(VLOOKUP(A376,'1.Портфель кредитів'!A:Z,3,FALSE),\"\")","v":""},{"$f":"IFERROR(VLOOKUP(A376,'1.Портфель кредитів'!A:Z,7,FALSE),\"\")","v":""},{"$f":"IFERROR(VLOOKUP(A376,'1.Портфель кредитів'!A:Z,14,FALSE),\"\")","v":""},null,null,null,null,null,null,null,null,{"$f":"IFERROR(VLOOKUP(A376,'1.Портфель кредитів'!A:Z,30,FALSE),\"\")","v":""},0,{"$error":"#VALUE!"},null,null,null,null,null,{"$f":"VLOOKUP(C376,Hidden_Словник!$A$2:C$81,3,FALSE)","v":{"$error":"#N/A"}},0,{"$f":"VLOOKUP(F376,Hidden_Словник!$W$2:$X$13,2,FALSE)","v":{"$error":"#N/A"}},{"$f":"#REF!","v":{"$error":"#REF!"}},{"$error":"#N/A"}]
[null,"",{"$f":"IFERROR(VLOOKUP(A377,'1.Портфель кредитів'!A:Z,3,FALSE),\"\")","v":""},{"$f":"IFERROR(VLOOKUP(A377,'1.Портфель кредитів'!A:Z,7,FALSE),\"\")","v":""},{"$f":"IFERROR(VLOOKUP(A377,'1.Портфель кредитів'!A:Z,14,FALSE),\"\")","v":""},null,null,null,null,null,null,null,null,{"$f":"IFERROR(VLOOKUP(A377,'1.Портфель кредитів'!A:Z,30,FALSE),\"\")","v":""},0,{"$error":"#VALUE!"},null,null,null,null,null,{"$f":"VLOOKUP(C377,Hidden_Словник!$A$2:C$81,3,FALSE)","v":{"$error":"#N/A"}},0,{"$f":"VLOOKUP(F377,Hidden_Словник!$W$2:$X$13,2,FALSE)","v":{"$error":"#N/A"}},{"$f":"#REF!","v":{"$error":"#REF!"}},{"$error":"#N/A"}]
[null,"",{"$f":"IFERROR(VLOOKUP(A378,'1.Портфель кредитів'!A:Z,3,FALSE),\"\")","v":""},{"$f":"IFERROR(VLOOKUP(A378,'1.Портфель кредитів'!A:Z,7,FALSE),\"\")","v":""},{"$f":"IFERROR(VLOOKUP(A378,'1.Портфель кредитів'!A:Z,14,FALSE),\"\")","v":""},null,null,null,null,null,null,null,null,{"$f":"IFERROR(VLOOKUP(A378,'1.Портфель кредитів'!A:Z,30,FALSE),\"\")","v":""},0,{"$error":"#VALUE!"},null,null,null,null,null,{"$f":"VLOOKUP(C378,Hidden_Словник!$A$2:C$81,3,FALSE)","v":{"$error":"#N/A"}},0,{"$f":"VLOOKUP(F378,Hidden_Словник!$W$2:$X$13,2,FALSE)","v":{"$error":"#N/A"}},{"$f":"#REF!","v":{"$error":"#REF!"}},{"$error":"#N/A"}]
[null,"",{"$f":"IFERROR(VLOOKUP(A379,'1.Портфель кредитів'!A:Z,3,FALSE),\"\")","v":""},{"$f":"IFERROR(VLOOKUP(A379,'1.Портфель кредитів'!A:Z,7,FALSE),\"\")","v":""},{"$f":"IFERROR(VLOOKUP(A379,'1.Портфель кредитів'!A:Z,14,FALSE),\"\")","v":""},null,null,null,null,null,null,null,null,{"$f":"IFERROR(VLOOKUP(A379,'1.Портфель кредитів'!A:Z,30,FALSE),\"\")","v":""},0,{"$error":"#VALUE!"},null,null,null,null,null,{"$f":"VLOOKUP(C379,Hidden_Словник!$A$2:C$81,3,FALSE)","v":{"$error":"#N/A"}},0,{"$f":"VLOOKUP(F379,Hidden_Словник!$W$2:$X$13,2,FALSE)","v":{"$error":"#N/A"}},{"$f":"#REF!","v":{"$error":"#REF!"}},{"$error":"#N/A"}]
[null,"",{"$f":"IFERROR(VLOOKUP(A380,'1.Портфель кредитів'!A:Z,3,FALSE),\"\")","v":""},{"$f":"IFERROR(VLOOKUP(A380,'1.Портфель кредитів'!A:Z,7,FALSE),\"\")","v":""},{"$f":"IFERROR(VLOOKUP(A380,'1.Портфель кредитів'!A:Z,14,FALSE),\"\")","v":""},null,null,null,null,null,null,null,null,{"$f":"IFERROR(VLOOKUP(A380,'1.Портфель кредитів'!A:Z,30,FALSE),\"\")","v":""},0,{"$error":"#VALUE!"},null,null,null,null,null,{"$f":"VLOOKUP(C380,Hidden_Словник!$A$2:C$81,3,FALSE)","v":{"$error":"#N/A"}},0,{"$f":"VLOOKUP(F380,Hidden_Словник!$W$2:$X$13,2,FALSE)","v":{"$error":"#N/A"}},{"$f":"#REF!","v":{"$error":"#REF!"}},{"$error":"#N/A"}]
[null,"",{"$f":"IFERROR(VLOOKUP(A381,'1.Портфель кредитів'!A:Z,3,FALSE),\"\")","v":""},{"$f":"IFERROR(VLOOKUP(A381,'1.Портфель кредитів'!A:Z,7,FALSE),\"\")","v":""},{"$f":"IFERROR(VLOOKUP(A381,'1.Портфель кредитів'!A:Z,14,FALSE),\"\")","v":""},null,null,null,null,null,null,null,null,{"$f":"IFERROR(VLOOKUP(A381,'1.Портфель кредитів'!A:Z,30,FALSE),\"\")","v":""},0,{"$error":"#VALUE!"},null,null,null,null,null,{"$f":"VLOOKUP(C381,Hidden_Словник!$A$2:C$81,3,FALSE)","v":{"$error":"#N/A"}},0,{"$f":"VLOOKUP(F381,Hidden_Словник!$W$2:$X$13,2,FALSE)","v":{"$error":"#N/A"}},{"$f":"#REF!","v":{"$error":"#REF!"}},{"$error":"#N/A"}]
[null,{"$f":"IFERROR(Z382,\"\")","v":""},{"$f":"IFERROR(VLOOKUP(A382,'1.Портфель кредитів'!A:Z,3,FALSE),\"\")","v":""},{"$f":"IFERROR(VLOOKUP(A382,'1.Портфель кредитів'!A:Z,7,FALSE),\"\")","v":""},{"$f":"IFERROR(VLOOKUP(A382,'1.Портфель кредитів'!A:Z,14,FALSE),\"\")","v":""},null,null,null,null,null,null,null,null,{"$f":"IFERROR(VLOOKUP(A382,'1.Портфель кредитів'!A:Z,30,FALSE),\"\")","v":""},0,{"$error":"#VALUE!"},null,null,null,null,null,{"$f":"VLOOKUP(C382,Hidden_Словник!$A$2:C$81,3,FALSE)","v":{"$error":"#N/A"}},0,{"$f":"VLOOKUP(F382,Hidden_Словник!$W$2:$X$13,2,FALSE)","v":{"$error":"#N/A"}},{"$f":"#REF!","v":{"$error":"#REF!"}},{"$f":"V382&\"_\"&W382&X382&Y382","v":{"$error":"#N/A"}}]
[null,"",{"$f":"IFERROR(VLOOKUP(A383,'1.Портфель кредитів'!A:Z,3,FALSE),\"\")","v":""},{"$f":"IFERROR(VLOOKUP(A383,'1.Портфель кредитів'!A:Z,7,FALSE),\"\")","v":""},{"$f":"IFERROR(VLOOKUP(A383,'1.Портфель кредитів'!A:Z,14,FALSE),\"\")","v":""},null,null,null,null,null,null,null,null,{"$f":"IFERROR(VLOOKUP(A383,'1.Портфель кредитів'!A:Z,30,FALSE),\"\")","v":""},0,{"$error":"#VALUE!"},null,null,null,null,null,{"$f":"VLOOKUP(C383,Hidden_Словник!$A$2:C$81,3,FALSE)","v":{"$error":"#N/A"}},0,{"$f":"VLOOKUP(F383,Hidden_Словник!$W$2:$X$13,2,FALSE)","v":{"$error":"#N/A"}},{"$f":"#REF!","v":{"$error":"#REF!"}},{"$error":"#N/A"}]
[null,"",{"$f":"IFERROR(VLOOKUP(A384,'1.Портфель кредитів'!A:Z,3,FALSE),\"\")","v":""},{"$f":"IFERROR(VLOOKUP(A384,'1.Портфель кредитів'!A:Z,7,FALSE),\"\")","v":""},{"$f":"IFERROR(VLOOKUP(A384,'1.Портфель кредитів'!A:Z,14,FALSE),\"\")","v":""},null,null,null,null,null,null,null,null,{"$f":"IFERROR(VLOOKUP(A384,'1.Портфель кредитів'!A:Z,30,FALSE),\"\")","v":""},0,{"$error":"#VALUE!"},null,null,null,null,null,{"$f":"VLOOKUP(C384,Hidden_Словник!$A$2:C$81,3,FALSE)","v":{"$error":"#N/A"}},0,{"$f":"VLOOKUP(F384,Hidden_Словник!$W$2:$X$13,2,FALSE)","v":{"$error":"#N/A"}},{"$f":"#REF!","v":{"$error":"#REF!"}},{"$error":"#N/A"}]
[null,"",{"$f":"IFERROR(VLOOKUP(A385,'1.Портфель кредитів'!A:Z,3,FALSE),\"\")","v":""},{"$f":"IFERROR(VLOOKUP(A385,'1.Портфель кредитів'!A:Z,7,FALSE),\"\")","v":""},{"$f":"IFERROR(VLOOKUP(A385,'1.Портфель кредитів'!A:Z,14,FALSE),\"\")","v":""},null,null,null,null,null,null,null,null,{"$f":"IFERROR(VLOOKUP(A385,'1.Портфель кредитів'!A:Z,30,FALSE),\"\")","v":""},0,{"$error":"#VALUE!"},null,null,null,null,null,{"$f":"VLOOKUP(C385,Hidden_Словник!$A$2:C$81,3,FALSE)","v":{"$error":"#N/A"}},0,{"$f":"VLOOKUP(F385,Hidden_Словник!$W$2:$X$13,2,FALSE)","v":{"$error":"#N/A"}},{"$f":"#REF!","v":{"$error":"#REF!"}},{"$error":"#N/A"}]
[null,"",{"$f":"IFERROR(VLOOKUP(A386,'1.Портфель кредитів'!A:Z,3,FALSE),\"\")","v":""},{"$f":"IFERROR(VLOOKUP(A386,'1.Портфель кредитів'!A:Z,7,FALSE),\"\")","v":""},{"$f":"IFERROR(VLOOKUP(A386,'1.Портфель кредитів'!A:Z,14,FALSE),\"\")","v":""},null,null,null,null,null,null,null,null,{"$f":"IFERROR(VLOOKUP(A386,'1.Портфель кредитів'!A:Z,30,FALSE),\"\")","v":""},0,{"$error":"#VALUE!"},null,null,null,null,null,{"$f":"VLOOKUP(C386,Hidden_Словник!$A$2:C$81,3,FALSE)","v":{"$error":"#N/A"}},0,{"$f":"VLOOKUP(F386,Hidden_Словник!$W$2:$X$13,2,FALSE)","v":{"$error":"#N/A"}},{"$f":"#REF!","v":{"$error":"#REF!"}},{"$error":"#N/A"}]
[null,"",{"$f":"IFERROR(VLOOKUP(A387,'1.Портфель кредитів'!A:Z,3,FALSE),\"\")","v":""},{"$f":"IFERROR(VLOOKUP(A387,'1.Портфель кредитів'!A:Z,7,FALSE),\"\")","v":""},{"$f":"IFERROR(VLOOKUP(A387,'1.Портфель кредитів'!A:Z,14,FALSE),\"\")","v":""},null,null,null,null,null,null,null,null,{"$f":"IFERROR(VLOOKUP(A387,'1.Портфель кредитів'!A:Z,30,FALSE),\"\")","v":""},0,{"$error":"#VALUE!"},null,null,null,null,null,{"$f":"VLOOKUP(C387,Hidden_Словник!$A$2:C$81,3,FALSE)","v":{"$error":"#N/A"}},0,{"$f":"VLOOKUP(F387,Hidden_Словник!$W$2:$X$13,2,FALSE)","v":{"$error":"#N/A"}},{"$f":"#REF!","v":{"$error":"#REF!"}},{"$error":"#N/A"}]
[null,"",{"$f":"IFERROR(VLOOKUP(A388,'1.Портфель кредитів'!A:Z,3,FALSE),\"\")","v":""},{"$f":"IFERROR(VLOOKUP(A388,'1.Портфель кредитів'!A:Z,7,FALSE),\"\")","v":""},{"$f":"IFERROR(VLOOKUP(A388,'1.Портфель кредитів'!A:Z,14,FALSE),\"\")","v":""},null,null,null,null,null,null,null,null,{"$f":"IFERROR(VLOOKUP(A388,'1.Портфель кредитів'!A:Z,30,FALSE),\"\")","v":""},0,{"$error":"#VALUE!"},null,null,null,null,null,{"$f":"VLOOKUP(C388,Hidden_Словник!$A$2:C$81,3,FALSE)","v":{"$error":"#N/A"}},0,{"$f":"VLOOKUP(F388,Hidden_Словник!$W$2:$X$13,2,FALSE)","v":{"$error":"#N/A"}},{"$f":"#REF!","v":{"$error":"#REF!"}},{"$error":"#N/A"}]
[null,"",{"$f":"IFERROR(VLOOKUP(A389,'1.Портфель кредитів'!A:Z,3,FALSE),\"\")","v":""},{"$f":"IFERROR(VLOOKUP(A389,'1.Портфель кредитів'!A:Z,7,FALSE),\"\")","v":""},{"$f":"IFERROR(VLOOKUP(A389,'1.Портфель кредитів'!A:Z,14,FALSE),\"\")","v":""},null,null,null,null,null,null,null,null,{"$f":"IFERROR(VLOOKUP(A389,'1.Портфель кредитів'!A:Z,30,FALSE),\"\")","v":""},0,{"$error":"#VALUE!"},null,null,null,null,null,{"$f":"VLOOKUP(C389,Hidden_Словник!$A$2:C$81,3,FALSE)","v":{"$error":"#N/A"}},0,{"$f":"VLOOKUP(F389,Hidden_Словник!$W$2:$X$13,2,FALSE)","v":{"$error":"#N/A"}},{"$f":"#REF!","v":{"$error":"#REF!"}},{"$error":"#N/A"}]
[null,"",{"$f":"IFERROR(VLOOKUP(A390,'1.Портфель кредитів'!A:Z,3,FALSE),\"\")","v":""},{"$f":"IFERROR(VLOOKUP(A390,'1.Портфель кредитів'!A:Z,7,FALSE),\"\")","v":""},{"$f":"IFERROR(VLOOKUP(A390,'1.Портфель кредитів'!A:Z,14,FALSE),\"\")","v":""},null,null,null,null,null,null,null,null,{"$f":"IFERROR(VLOOKUP(A390,'1.Портфель кредитів'!A:Z,30,FALSE),\"\")","v":""},0,{"$error":"#VALUE!"},null,null,null,null,null,{"$f":"VLOOKUP(C390,Hidden_Словник!$A$2:C$81,3,FALSE)","v":{"$error":"#N/A"}},0,{"$f":"VLOOKUP(F390,Hidden_Словник!$W$2:$X$13,2,FALSE)","v":{"$error":"#N/A"}},{"$f":"#REF!","v":{"$error":"#REF!"}},{"$error":"#N/A"}]
[null,"",{"$f":"IFERROR(VLOOKUP(A391,'1.Портфель кредитів'!A:Z,3,FALSE),\"\")","v":""},{"$f":"IFERROR(VLOOKUP(A391,'1.Портфель кредитів'!A:Z,7,FALSE),\"\")","v":""},{"$f":"IFERROR(VLOOKUP(A391,'1.Портфель кредитів'!A:Z,14,FALSE),\"\")","v":""},null,null,null,null,null,null,null,null,{"$f":"IFERROR(VLOOKUP(A391,'1.Портфель кредитів'!A:Z,30,FALSE),\"\")","v":""},0,{"$error":"#VALUE!"},null,null,null,null,null,{"$f":"VLOOKUP(C391,Hidden_Словник!$A$2:C$81,3,FALSE)","v":{"$error":"#N/A"}},0,{"$f":"VLOOKUP(F391,Hidden_Словник!$W$2:$X$13,2,FALSE)","v":{"$error":"#N/A"}},{"$f":"#REF!","v":{"$error":"#REF!"}},{"$error":"#N/A"}]
[null,"",{"$f":"IFERROR(VLOOKUP(A392,'1.Портфель кредитів'!A:Z,3,FALSE),\"\")","v":""},{"$f":"IFERROR(VLOOKUP(A392,'1.Портфель кредитів'!A:Z,7,FALSE),\"\")","v":""},{"$f":"IFERROR(VLOOKUP(A392,'1.Портфель кредитів'!A:Z,14,FALSE),\"\")","v":""},null,null,null,null,null,null,null,null,{"$f":"IFERROR(VLOOKUP(A392,'1.Портфель кредитів'!A:Z,30,FALSE),\"\")","v":""},0,{"$error":"#VALUE!"},null,null,null,null,null,{"$f":"VLOOKUP(C392,Hidden_Словник!$A$2:C$81,3,FALSE)","v":{"$error":"#N/A"}},0,{"$f":"VLOOKUP(F392,Hidden_Словник!$W$2:$X$13,2,FALSE)","v":{"$error":"#N/A"}},{"$f":"#REF!","v":{"$error":"#REF!"}},{"$error":"#N/A"}]
[null,"",{"$f":"IFERROR(VLOOKUP(A393,'1.Портфель кредитів'!A:Z,3,FALSE),\"\")","v":""},{"$f":"IFERROR(VLOOKUP(A393,'1.Портфель кредитів'!A:Z,7,FALSE),\"\")","v":""},{"$f":"IFERROR(VLOOKUP(A393,'1.Портфель кредитів'!A:Z,14,FALSE),\"\")","v":""},null,null,null,null,null,null,null,null,{"$f":"IFERROR(VLOOKUP(A393,'1.Портфель кредитів'!A:Z,30,FALSE),\"\")","v":""},0,{"$error":"#VALUE!"},null,null,null,null,null,{"$f":"VLOOKUP(C393,Hidden_Словник!$A$2:C$81,3,FALSE)","v":{"$error":"#N/A"}},0,{"$f":"VLOOKUP(F393,Hidden_Словник!$W$2:$X$13,2,FALSE)","v":{"$error":"#N/A"}},{"$f":"#REF!","v":{"$error":"#REF!"}},{"$error":"#N/A"}]
[null,"",{"$f":"IFERROR(VLOOKUP(A394,'1.Портфель кредитів'!A:Z,3,FALSE),\"\")","v":""},{"$f":"IFERROR(VLOOKUP(A394,'1.Портфель кредитів'!A:Z,7,FALSE),\"\")","v":""},{"$f":"IFERROR(VLOOKUP(A394,'1.Портфель кредитів'!A:Z,14,FALSE),\"\")","v":""},null,null,null,null,null,null,null,null,{"$f":"IFERROR(VLOOKUP(A394,'1.Портфель кредитів'!A:Z,30,FALSE),\"\")","v":""},0,{"$error":"#VALUE!"},null,null,null,null,null,{"$f":"VLOOKUP(C394,Hidden_Словник!$A$2:C$81,3,FALSE)","v":{"$error":"#N/A"}},0,{"$f":"VLOOKUP(F394,Hidden_Словник!$W$2:$X$13,2,FALSE)","v":{"$error":"#N/A"}},{"$f":"#REF!","v":{"$error":"#REF!"}},{"$error":"#N/A"}]
[null,"",{"$f":"IFERROR(VLOOKUP(A395,'1.Портфель кредитів'!A:Z,3,FALSE),\"\")","v":""},{"$f":"IFERROR(VLOOKUP(A395,'1.Портфель кредитів'!A:Z,7,FALSE),\"\")","v":""},{"$f":"IFERROR(VLOOKUP(A395,'1.Портфель кредитів'!A:Z,14,FALSE),\"\")","v":""},null,null,null,null,null,null,null,null,{"$f":"IFERROR(VLOOKUP(A395,'1.Портфель кредитів'!A:Z,30,FALSE),\"\")","v":""},0,{"$error":"#VALUE!"},null,null,null,null,null,{"$f":"VLOOKUP(C395,Hidden_Словник!$A$2:C$81,3,FALSE)","v":{"$error":"#N/A"}},0,{"$f":"VLOOKUP(F395,Hidden_Словник!$W$2:$X$13,2,FALSE)","v":{"$error":"#N/A"}},{"$f":"#REF!","v":{"$error":"#REF!"}},{"$error":"#N/A"}]
[null,"",{"$f":"IFERROR(VLOOKUP(A396,'1.Портфель кредитів'!A:Z,3,FALSE),\"\")","v":""},{"$f":"IFERROR(VLOOKUP(A396,'1.Портфель кредитів'!A:Z,7,FALSE),\"\")","v":""},{"$f":"IFERROR(VLOOKUP(A396,'1.Портфель кредитів'!A:Z,14,FALSE),\"\")","v":""},null,null,null,null,null,null,null,null,{"$f":"IFERROR(VLOOKUP(A396,'1.Портфель кредитів'!A:Z,30,FALSE),\"\")","v":""},0,{"$error":"#VALUE!"},null,null,null,null,null,{"$f":"VLOOKUP(C396,Hidden_Словник!$A$2:C$81,3,FALSE)","v":{"$error":"#N/A"}},0,{"$f":"VLOOKUP(F396,Hidden_Словник!$W$2:$X$13,2,FALSE)","v":{"$error":"#N/A"}},{"$f":"#REF!","v":{"$error":"#REF!"}},{"$error":"#N/A"}]
[null,"",{"$f":"IFERROR(VLOOKUP(A397,'1.Портфель кредитів'!A:Z,3,FALSE),\"\")","v":""},{"$f":"IFERROR(VLOOKUP(A397,'1.Портфель кредитів'!A:Z,7,FALSE),\"\")","v":""},{"$f":"IFERROR(VLOOKUP(A397,'1.Портфель кредитів'!A:Z,14,FALSE),\"\")","v":""},null,null,null,null,null,null,null,null,{"$f":"IFERROR(VLOOKUP(A397,'1.Портфель кредитів'!A:Z,30,FALSE),\"\")","v":""},0,{"$error":"#VALUE!"},null,null,null,null,null,{"$f":"VLOOKUP(C397,Hidden_Словник!$A$2:C$81,3,FALSE)","v":{"$error":"#N/A"}},0,{"$f":"VLOOKUP(F397,Hidden_Словник!$W$2:$X$13,2,FALSE)","v":{"$error":"#N/A"}},{"$f":"#REF!","v":{"$error":"#REF!"}},{"$error":"#N/A"}]
[null,"",{"$f":"IFERROR(VLOOKUP(A398,'1.Портфель кредитів'!A:Z,3,FALSE),\"\")","v":""},{"$f":"IFERROR(VLOOKUP(A398,'1.Портфель кредитів'!A:Z,7,FALSE),\"\")","v":""},{"$f":"IFERROR(VLOOKUP(A398,'1.Портфель кредитів'!A:Z,14,FALSE),\"\")","v":""},null,null,null,null,null,null,null,null,{"$f":"IFERROR(VLOOKUP(A398,'1.Портфель кредитів'!A:Z,30,FALSE),\"\")","v":""},0,{"$error":"#VALUE!"},null,null,null,null,null,{"$f":"VLOOKUP(C398,Hidden_Словник!$A$2:C$81,3,FALSE)","v":{"$error":"#N/A"}},0,{"$f":"VLOOKUP(F398,Hidden_Словник!$W$2:$X$13,2,FALSE)","v":{"$error":"#N/A"}},{"$f":"#REF!","v":{"$error":"#REF!"}},{"$error":"#N/A"}]
[null,"",{"$f":"IFERROR(VLOOKUP(A399,'1.Портфель кредитів'!A:Z,3,FALSE),\"\")","v":""},{"$f":"IFERROR(VLOOKUP(A399,'1.Портфель кредитів'!A:Z,7,FALSE),\"\")","v":""},{"$f":"IFERROR(VLOOKUP(A399,'1.Портфель кредитів'!A:Z,14,FALSE),\"\")","v":""},null,null,null,null,null,null,null,null,{"$f":"IFERROR(VLOOKUP(A399,'1.Портфель кредитів'!A:Z,30,FALSE),\"\")","v":""},0,{"$error":"#VALUE!"},null,null,null,null,null,{"$f":"VLOOKUP(C399,Hidden_Словник!$A$2:C$81,3,FALSE)","v":{"$error":"#N/A"}},0,{"$f":"VLOOKUP(F399,Hidden_Словник!$W$2:$X$13,2,FALSE)","v":{"$error":"#N/A"}},{"$f":"#REF!","v":{"$error":"#REF!"}},{"$error":"#N/A"}]
[null,"",{"$f":"IFERROR(VLOOKUP(A400,'1.Портфель кредитів'!A:Z,3,FALSE),\"\")","v":""},{"$f":"IFERROR(VLOOKUP(A400,'1.Портфель кредитів'!A:Z,7,FALSE),\"\")","v":""},{"$f":"IFERROR(VLOOKUP(A400,'1.Портфель кредитів'!A:Z,14,FALSE),\"\")","v":""},null,null,null,null,null,null,null,null,{"$f":"IFERROR(VLOOKUP(A400,'1.Портфель кредитів'!A:Z,30,FALSE),\"\")","v":""},0,{"$error":"#VALUE!"},null,null,null,null,null,{"$f":"VLOOKUP(C400,Hidden_Словник!$A$2:C$81,3,FALSE)","v":{"$error":"#N/A"}},0,{"$f":"VLOOKUP(F400,Hidden_Словник!$W$2:$X$13,2,FALSE)","v":{"$error":"#N/A"}},{"$f":"#REF!","v":{"$error":"#REF!"}},{"$error":"#N/A"}]
[null,"",{"$f":"IFERROR(VLOOKUP(A401,'1.Портфель кредитів'!A:Z,3,FALSE),\"\")","v":""},{"$f":"IFERROR(VLOOKUP(A401,'1.Портфель кредитів'!A:Z,7,FALSE),\"\")","v":""},{"$f":"IFERROR(VLOOKUP(A401,'1.Портфель кредитів'!A:Z,14,FALSE),\"\")","v":""},null,null,null,null,null,null,null,null,{"$f":"IFERROR(VLOOKUP(A401,'1.Портфель кредитів'!A:Z,30,FALSE),\"\")","v":""},0,{"$error":"#VALUE!"},null,null,null,null,null,{"$f":"VLOOKUP(C401,Hidden_Словник!$A$2:C$81,3,FALSE)","v":{"$error":"#N/A"}},0,{"$f":"VLOOKUP(F401,Hidden_Словник!$W$2:$X$13,2,FALSE)","v":{"$error":"#N/A"}},{"$f":"#REF!","v":{"$error":"#REF!"}},{"$error":"#N/A"}]
[null,"",{"$f":"IFERROR(VLOOKUP(A402,'1.Портфель кредитів'!A:Z,3,FALSE),\"\")","v":""},{"$f":"IFERROR(VLOOKUP(A402,'1.Портфель кредитів'!A:Z,7,FALSE),\"\")","v":""},{"$f":"IFERROR(VLOOKUP(A402,'1.Портфель кредитів'!A:Z,14,FALSE),\"\")","v":""},null,null,null,null,null,null,null,null,{"$f":"IFERROR(VLOOKUP(A402,'1.Портфель кредитів'!A:Z,30,FALSE),\"\")","v":""},0,{"$error":"#VALUE!"},null,null,null,null,null,{"$f":"VLOOKUP(C402,Hidden_Словник!$A$2:C$81,3,FALSE)","v":{"$error":"#N/A"}},0,{"$f":"VLOOKUP(F402,Hidden_Словник!$W$2:$X$13,2,FALSE)","v":{"$error":"#N/A"}},{"$f":"#REF!","v":{"$error":"#REF!"}},{"$error":"#N/A"}]
[null,"",{"$f":"IFERROR(VLOOKUP(A403,'1.Портфель кредитів'!A:Z,3,FALSE),\"\")","v":""},{"$f":"IFERROR(VLOOKUP(A403,'1.Портфель кредитів'!A:Z,7,FALSE),\"\")","v":""},{"$f":"IFERROR(VLOOKUP(A403,'1.Портфель кредитів'!A:Z,14,FALSE),\"\")","v":""},null,null,null,null,null,null,null,null,{"$f":"IFERROR(VLOOKUP(A403,'1.Портфель кредитів'!A:Z,30,FALSE),\"\")","v":""},0,{"$error":"#VALUE!"},null,null,null,null,null,{"$f":"VLOOKUP(C403,Hidden_Словник!$A$2:C$81,3,FALSE)","v":{"$error":"#N/A"}},{"$f":"ROUNDUP(K403,0)","v":0},{"$f":"VLOOKUP(F403,Hidden_Словник!$W$2:$X$13,2,FALSE)","v":{"$error":"#N/A"}},{"$f":"#REF!","v":{"$error":"#REF!"}},{"$error":"#N/A"}]
[null,"",{"$f":"IFERROR(VLOOKUP(A404,'1.Портфель кредитів'!A:Z,3,FALSE),\"\")","v":""},{"$f":"IFERROR(VLOOKUP(A404,'1.Портфель кредитів'!A:Z,7,FALSE),\"\")","v":""},{"$f":"IFERROR(VLOOKUP(A404,'1.Портфель кредитів'!A:Z,14,FALSE),\"\")","v":""},null,null,null,null,null,null,null,null,{"$f":"IFERROR(VLOOKUP(A404,'1.Портфель кредитів'!A:Z,30,FALSE),\"\")","v":""},0,{"$error":"#VALUE!"},null,null,null,null,null,{"$f":"VLOOKUP(C404,Hidden_Словник!$A$2:C$81,3,FALSE)","v":{"$error":"#N/A"}},0,{"$f":"VLOOKUP(F404,Hidden_Словник!$W$2:$X$13,2,FALSE)","v":{"$error":"#N/A"}},{"$f":"#REF!","v":{"$error":"#REF!"}},{"$error":"#N/A"}]
[null,"",{"$f":"IFERROR(VLOOKUP(A405,'1.Портфель кредитів'!A:Z,3,FALSE),\"\")","v":""},{"$f":"IFERROR(VLOOKUP(A405,'1.Портфель кредитів'!A:Z,7,FALSE),\"\")","v":""},{"$f":"IFERROR(VLOOKUP(A405,'1.Портфель кредитів'!A:Z,14,FALSE),\"\")","v":""},null,null,null,null,null,null,null,null,{"$f":"IFERROR(VLOOKUP(A405,'1.Портфель кредитів'!A:Z,30,FALSE),\"\")","v":""},0,{"$error":"#VALUE!"},null,null,null,null,null,{"$f":"VLOOKUP(C405,Hidden_Словник!$A$2:C$81,3,FALSE)","v":{"$error":"#N/A"}},0,{"$f":"VLOOKUP(F405,Hidden_Словник!$W$2:$X$13,2,FALSE)","v":{"$error":"#N/A"}},{"$f":"#REF!","v":{"$error":"#REF!"}},{"$error":"#N/A"}]
[null,"",{"$f":"IFERROR(VLOOKUP(A406,'1.Портфель кредитів'!A:Z,3,FALSE),\"\")","v":""},{"$f":"IFERROR(VLOOKUP(A406,'1.Портфель кредитів'!A:Z,7,FALSE),\"\")","v":""},{"$f":"IFERROR(VLOOKUP(A406,'1.Портфель кредитів'!A:Z,14,FALSE),\"\")","v":""},null,null,null,null,null,null,null,null,{"$f":"IFERROR(VLOOKUP(A406,'1.Портфель кредитів'!A:Z,30,FALSE),\"\")","v":""},0,{"$error":"#VALUE!"},null,null,null,null,null,{"$f":"VLOOKUP(C406,Hidden_Словник!$A$2:C$81,3,FALSE)","v":{"$error":"#N/A"}},0,{"$f":"VLOOKUP(F406,Hidden_Словник!$W$2:$X$13,2,FALSE)","v":{"$error":"#N/A"}},{"$f":"#REF!","v":{"$error":"#REF!"}},{"$error":"#N/A"}]
[null,"",{"$f":"IFERROR(VLOOKUP(A407,'1.Портфель кредитів'!A:Z,3,FALSE),\"\")","v":""},{"$f":"IFERROR(VLOOKUP(A407,'1.Портфель кредитів'!A:Z,7,FALSE),\"\")","v":""},{"$f":"IFERROR(VLOOKUP(A407,'1.Портфель кредитів'!A:Z,14,FALSE),\"\")","v":""},null,null,null,null,null,null,null,null,{"$f":"IFERROR(VLOOKUP(A407,'1.Портфель кредитів'!A:Z,30,FALSE),\"\")","v":""},{"$f":"SUMIF(B:B,B407,N:N)","v":0},{"$error":"#VALUE!"},null,null,null,null,null,{"$f":"VLOOKUP(C407,Hidden_Словник!$A$2:C$81,3,FALSE)","v":{"$error":"#N/A"}},0,{"$f":"VLOOKUP(F407,Hidden_Словник!$W$2:$X$13,2,FALSE)","v":{"$error":"#N/A"}},{"$f":"#REF!","v":{"$error":"#REF!"}},{"$error":"#N/A"}]
[null,"",{"$f":"IFERROR(VLOOKUP(A408,'1.Портфель кредитів'!A:Z,3,FALSE),\"\")","v":""},{"$f":"IFERROR(VLOOKUP(A408,'1.Портфель кредитів'!A:Z,7,FALSE),\"\")","v":""},{"$f":"IFERROR(VLOOKUP(A408,'1.Портфель кредитів'!A:Z,14,FALSE),\"\")","v":""},null,null,null,null,null,null,null,null,{"$f":"IFERROR(VLOOKUP(A408,'1.Портфель кредитів'!A:Z,30,FALSE),\"\")","v":""},0,{"$error":"#VALUE!"},null,null,null,null,null,{"$f":"VLOOKUP(C408,Hidden_Словник!$A$2:C$81,3,FALSE)","v":{"$error":"#N/A"}},0,{"$f":"VLOOKUP(F408,Hidden_Словник!$W$2:$X$13,2,FALSE)","v":{"$error":"#N/A"}},{"$f":"#REF!","v":{"$error":"#REF!"}},{"$error":"#N/A"}]
[null,"",{"$f":"IFERROR(VLOOKUP(A409,'1.Портфель кредитів'!A:Z,3,FALSE),\"\")","v":""},{"$f":"IFERROR(VLOOKUP(A409,'1.Портфель кредитів'!A:Z,7,FALSE),\"\")","v":""},{"$f":"IFERROR(VLOOKUP(A409,'1.Портфель кредитів'!A:Z,14,FALSE),\"\")","v":""},null,null,null,null,null,null,null,null,{"$f":"IFERROR(VLOOKUP(A409,'1.Портфель кредитів'!A:Z,30,FALSE),\"\")","v":""},0,{"$error":"#VALUE!"},null,null,null,null,null,{"$f":"VLOOKUP(C409,Hidden_Словник!$A$2:C$81,3,FALSE)","v":{"$error":"#N/A"}},0,{"$f":"VLOOKUP(F409,Hidden_Словник!$W$2:$X$13,2,FALSE)","v":{"$error":"#N/A"}},{"$f":"#REF!","v":{"$error":"#REF!"}},{"$error":"#N/A"}]
[null,"",{"$f":"IFERROR(VLOOKUP(A410,'1.Портфель кредитів'!A:Z,3,FALSE),\"\")","v":""},{"$f":"IFERROR(VLOOKUP(A410,'1.Портфель кредитів'!A:Z,7,FALSE),\"\")","v":""},{"$f":"IFERROR(VLOOKUP(A410,'1.Портфель кредитів'!A:Z,14,FALSE),\"\")","v":""},null,null,null,null,null,null,null,null,{"$f":"IFERROR(VLOOKUP(A410,'1.Портфель кредитів'!A:Z,30,FALSE),\"\")","v":""},0,{"$error":"#VALUE!"},null,null,null,null,null,{"$f":"VLOOKUP(C410,Hidden_Словник!$A$2:C$81,3,FALSE)","v":{"$error":"#N/A"}},0,{"$f":"VLOOKUP(F410,Hidden_Словник!$W$2:$X$13,2,FALSE)","v":{"$error":"#N/A"}},{"$f":"#REF!","v":{"$error":"#REF!"}},{"$error":"#N/A"}]
[null,"",{"$f":"IFERROR(VLOOKUP(A411,'1.Портфель кредитів'!A:Z,3,FALSE),\"\")","v":""},{"$f":"IFERROR(VLOOKUP(A411,'1.Портфель кредитів'!A:Z,7,FALSE),\"\")","v":""},{"$f":"IFERROR(VLOOKUP(A411,'1.Портфель кредитів'!A:Z,14,FALSE),\"\")","v":""},null,null,null,null,null,null,null,null,{"$f":"IFERROR(VLOOKUP(A411,'1.Портфель кредитів'!A:Z,30,FALSE),\"\")","v":""},0,{"$error":"#VALUE!"},null,null,null,null,null,{"$f":"VLOOKUP(C411,Hidden_Словник!$A$2:C$81,3,FALSE)","v":{"$error":"#N/A"}},0,{"$f":"VLOOKUP(F411,Hidden_Словник!$W$2:$X$13,2,FALSE)","v":{"$error":"#N/A"}},{"$f":"#REF!","v":{"$error":"#REF!"}},{"$error":"#N/A"}]
[null,"",{"$f":"IFERROR(VLOOKUP(A412,'1.Портфель кредитів'!A:Z,3,FALSE),\"\")","v":""},{"$f":"IFERROR(VLOOKUP(A412,'1.Портфель кредитів'!A:Z,7,FALSE),\"\")","v":""},{"$f":"IFERROR(VLOOKUP(A412,'1.Портфель кредитів'!A:Z,14,FALSE),\"\")","v":""},null,null,null,null,null,null,null,null,{"$f":"IFERROR(VLOOKUP(A412,'1.Портфель кредитів'!A:Z,30,FALSE),\"\")","v":""},0,{"$error":"#VALUE!"},null,null,null,null,null,{"$f":"VLOOKUP(C412,Hidden_Словник!$A$2:C$81,3,FALSE)","v":{"$error":"#N/A"}},0,{"$f":"VLOOKUP(F412,Hidden_Словник!$W$2:$X$13,2,FALSE)","v":{"$error":"#N/A"}},{"$f":"#REF!","v":{"$error":"#REF!"}},{"$error":"#N/A"}]
[null,"",{"$f":"IFERROR(VLOOKUP(A413,'1.Портфель кредитів'!A:Z,3,FALSE),\"\")","v":""},{"$f":"IFERROR(VLOOKUP(A413,'1.Портфель кредитів'!A:Z,7,FALSE),\"\")","v":""},{"$f":"IFERROR(VLOOKUP(A413,'1.Портфель кредитів'!A:Z,14,FALSE),\"\")","v":""},null,null,null,null,null,null,null,null,{"$f":"IFERROR(VLOOKUP(A413,'1.Портфель кредитів'!A:Z,30,FALSE),\"\")","v":""},0,{"$error":"#VALUE!"},null,null,null,null,null,{"$f":"VLOOKUP(C413,Hidden_Словник!$A$2:C$81,3,FALSE)","v":{"$error":"#N/A"}},0,{"$f":"VLOOKUP(F413,Hidden_Словник!$W$2:$X$13,2,FALSE)","v":{"$error":"#N/A"}},{"$f":"#REF!","v":{"$error":"#REF!"}},{"$error":"#N/A"}]
[null,"",{"$f":"IFERROR(VLOOKUP(A414,'1.Портфель кредитів'!A:Z,3,FALSE),\"\")","v":""},{"$f":"IFERROR(VLOOKUP(A414,'1.Портфель кредитів'!A:Z,7,FALSE),\"\")","v":""},{"$f":"IFERROR(VLOOKUP(A414,'1.Портфель кредитів'!A:Z,14,FALSE),\"\")","v":""},null,null,null,null,null,null,null,null,{"$f":"IFERROR(VLOOKUP(A414,'1.Портфель кредитів'!A:Z,30,FALSE),\"\")","v":""},0,{"$error":"#VALUE!"},null,null,null,null,null,{"$f":"VLOOKUP(C414,Hidden_Словник!$A$2:C$81,3,FALSE)","v":{"$error":"#N/A"}},0,{"$f":"VLOOKUP(F414,Hidden_Словник!$W$2:$X$13,2,FALSE)","v":{"$error":"#N/A"}},{"$f":"#REF!","v":{"$error":"#REF!"}},{"$error":"#N/A"}]
[null,"",{"$f":"IFERROR(VLOOKUP(A415,'1.Портфель кредитів'!A:Z,3,FALSE),\"\")","v":""},{"$f":"IFERROR(VLOOKUP(A415,'1.Портфель кредитів'!A:Z,7,FALSE),\"\")","v":""},{"$f":"IFERROR(VLOOKUP(A415,'1.Портфель кредитів'!A:Z,14,FALSE),\"\")","v":""},null,null,null,null,null,null,null,null,{"$f":"IFERROR(VLOOKUP(A415,'1.Портфель кредитів'!A:Z,30,FALSE),\"\")","v":""},0,{"$error":"#VALUE!"},null,null,null,null,null,{"$f":"VLOOKUP(C415,Hidden_Словник!$A$2:C$81,3,FALSE)","v":{"$error":"#N/A"}},0,{"$f":"VLOOKUP(F415,Hidden_Словник!$W$2:$X$13,2,FALSE)","v":{"$error":"#N/A"}},{"$f":"#REF!","v":{"$error":"#REF!"}},{"$error":"#N/A"}]
[null,"",{"$f":"IFERROR(VLOOKUP(A416,'1.Портфель кредитів'!A:Z,3,FALSE),\"\")","v":""},{"$f":"IFERROR(VLOOKUP(A416,'1.Портфель кредитів'!A:Z,7,FALSE),\"\")","v":""},{"$f":"IFERROR(VLOOKUP(A416,'1.Портфель кредитів'!A:Z,14,FALSE),\"\")","v":""},null,null,null,null,null,null,null,null,{"$f":"IFERROR(VLOOKUP(A416,'1.Портфель кредитів'!A:Z,30,FALSE),\"\")","v":""},0,{"$error":"#VALUE!"},null,null,null,null,null,{"$f":"VLOOKUP(C416,Hidden_Словник!$A$2:C$81,3,FALSE)","v":{"$error":"#N/A"}},0,{"$f":"VLOOKUP(F416,Hidden_Словник!$W$2:$X$13,2,FALSE)","v":{"$error":"#N/A"}},{"$f":"#REF!","v":{"$error":"#REF!"}},{"$error":"#N/A"}]
[null,"",{"$f":"IFERROR(VLOOKUP(A417,'1.Портфель кредитів'!A:Z,3,FALSE),\"\")","v":""},{"$f":"IFERROR(VLOOKUP(A417,'1.Портфель кредитів'!A:Z,7,FALSE),\"\")","v":""},{"$f":"IFERROR(VLOOKUP(A417,'1.Портфель кредитів'!A:Z,14,FALSE),\"\")","v":""},null,null,null,null,null,null,null,null,{"$f":"IFERROR(VLOOKUP(A417,'1.Портфель кредитів'!A:Z,30,FALSE),\"\")","v":""},0,{"$error":"#VALUE!"},null,null,null,null,null,{"$f":"VLOOKUP(C417,Hidden_Словник!$A$2:C$81,3,FALSE)","v":{"$error":"#N/A"}},0,{"$f":"VLOOKUP(F417,Hidden_Словник!$W$2:$X$13,2,FALSE)","v":{"$error":"#N/A"}},{"$f":"#REF!","v":{"$error":"#REF!"}},{"$error":"#N/A"}]
[null,"",{"$f":"IFERROR(VLOOKUP(A418,'1.Портфель кредитів'!A:Z,3,FALSE),\"\")","v":""},{"$f":"IFERROR(VLOOKUP(A418,'1.Портфель кредитів'!A:Z,7,FALSE),\"\")","v":""},{"$f":"IFERROR(VLOOKUP(A418,'1.Портфель кредитів'!A:Z,14,FALSE),\"\")","v":""},null,null,null,null,null,null,null,null,{"$f":"IFERROR(VLOOKUP(A418,'1.Портфель кредитів'!A:Z,30,FALSE),\"\")","v":""},0,{"$error":"#VALUE!"},null,null,null,null,null,{"$f":"VLOOKUP(C418,Hidden_Словник!$A$2:C$81,3,FALSE)","v":{"$error":"#N/A"}},0,{"$f":"VLOOKUP(F418,Hidden_Словник!$W$2:$X$13,2,FALSE)","v":{"$error":"#N/A"}},{"$f":"#REF!","v":{"$error":"#REF!"}},{"$error":"#N/A"}]
[null,"",{"$f":"IFERROR(VLOOKUP(A419,'1.Портфель кредитів'!A:Z,3,FALSE),\"\")","v":""},{"$f":"IFERROR(VLOOKUP(A419,'1.Портфель кредитів'!A:Z,7,FALSE),\"\")","v":""},{"$f":"IFERROR(VLOOKUP(A419,'1.Портфель кредитів'!A:Z,14,FALSE),\"\")","v":""},null,null,null,null,null,null,null,null,{"$f":"IFERROR(VLOOKUP(A419,'1.Портфель кредитів'!A:Z,30,FALSE),\"\")","v":""},0,{"$error":"#VALUE!"},null,null,null,null,null,{"$f":"VLOOKUP(C419,Hidden_Словник!$A$2:C$81,3,FALSE)","v":{"$error":"#N/A"}},0,{"$f":"VLOOKUP(F419,Hidden_Словник!$W$2:$X$13,2,FALSE)","v":{"$error":"#N/A"}},{"$f":"#REF!","v":{"$error":"#REF!"}},{"$error":"#N/A"}]
[null,"",{"$f":"IFERROR(VLOOKUP(A420,'1.Портфель кредитів'!A:Z,3,FALSE),\"\")","v":""},{"$f":"IFERROR(VLOOKUP(A420,'1.Портфель кредитів'!A:Z,7,FALSE),\"\")","v":""},{"$f":"IFERROR(VLOOKUP(A420,'1.Портфель кредитів'!A:Z,14,FALSE),\"\")","v":""},null,null,null,null,null,null,null,null,{"$f":"IFERROR(VLOOKUP(A420,'1.Портфель кредитів'!A:Z,30,FALSE),\"\")","v":""},0,{"$error":"#VALUE!"},null,null,null,null,null,{"$f":"VLOOKUP(C420,Hidden_Словник!$A$2:C$81,3,FALSE)","v":{"$error":"#N/A"}},0,{"$f":"VLOOKUP(F420,Hidden_Словник!$W$2:$X$13,2,FALSE)","v":{"$error":"#N/A"}},{"$f":"#REF!","v":{"$error":"#REF!"}},{"$error":"#N/A"}]
[null,"",{"$f":"IFERROR(VLOOKUP(A421,'1.Портфель кредитів'!A:Z,3,FALSE),\"\")","v":""},{"$f":"IFERROR(VLOOKUP(A421,'1.Портфель кредитів'!A:Z,7,FALSE),\"\")","v":""},{"$f":"IFERROR(VLOOKUP(A421,'1.Портфель кредитів'!A:Z,14,FALSE),\"\")","v":""},null,null,null,null,null,null,null,null,{"$f":"IFERROR(VLOOKUP(A421,'1.Портфель кредитів'!A:Z,30,FALSE),\"\")","v":""},0,{"$error":"#VALUE!"},null,null,null,null,null,{"$f":"VLOOKUP(C421,Hidden_Словник!$A$2:C$81,3,FALSE)","v":{"$error":"#N/A"}},0,{"$f":"VLOOKUP(F421,Hidden_Словник!$W$2:$X$13,2,FALSE)","v":{"$error":"#N/A"}},{"$f":"#REF!","v":{"$error":"#REF!"}},{"$error":"#N/A"}]
[null,"",{"$f":"IFERROR(VLOOKUP(A422,'1.Портфель кредитів'!A:Z,3,FALSE),\"\")","v":""},{"$f":"IFERROR(VLOOKUP(A422,'1.Портфель кредитів'!A:Z,7,FALSE),\"\")","v":""},{"$f":"IFERROR(VLOOKUP(A422,'1.Портфель кредитів'!A:Z,14,FALSE),\"\")","v":""},null,null,null,null,null,null,null,null,{"$f":"IFERROR(VLOOKUP(A422,'1.Портфель кредитів'!A:Z,30,FALSE),\"\")","v":""},0,{"$f":"N422/O422","v":{"$error":"#VALUE!"}},null,null,null,null,null,{"$f":"VLOOKUP(C422,Hidden_Словник!$A$2:C$81,3,FALSE)","v":{"$error":"#N/A"}},0,{"$f":"VLOOKUP(F422,Hidden_Словник!$W$2:$X$13,2,FALSE)","v":{"$error":"#N/A"}},{"$f":"#REF!","v":{"$error":"#REF!"}},{"$error":"#N/A"}]
[null,"",{"$f":"IFERROR(VLOOKUP(A423,'1.Портфель кредитів'!A:Z,3,FALSE),\"\")","v":""},{"$f":"IFERROR(VLOOKUP(A423,'1.Портфель кредитів'!A:Z,7,FALSE),\"\")","v":""},{"$f":"IFERROR(VLOOKUP(A423,'1.Портфель кредитів'!A:Z,14,FALSE),\"\")","v":""},null,null,null,null,null,null,null,null,{"$f":"IFERROR(VLOOKUP(A423,'1.Портфель кредитів'!A:Z,30,FALSE),\"\")","v":""},0,{"$error":"#VALUE!"},null,null,null,null,null,{"$f":"VLOOKUP(C423,Hidden_Словник!$A$2:C$81,3,FALSE)","v":{"$error":"#N/A"}},0,{"$f":"VLOOKUP(F423,Hidden_Словник!$W$2:$X$13,2,FALSE)","v":{"$error":"#N/A"}},{"$f":"#REF!","v":{"$error":"#REF!"}},{"$error":"#N/A"}]
[null,"",{"$f":"IFERROR(VLOOKUP(A424,'1.Портфель кредитів'!A:Z,3,FALSE),\"\")","v":""},{"$f":"IFERROR(VLOOKUP(A424,'1.Портфель кредитів'!A:Z,7,FALSE),\"\")","v":""},{"$f":"IFERROR(VLOOKUP(A424,'1.Портфель кредитів'!A:Z,14,FALSE),\"\")","v":""},null,null,null,null,null,null,null,null,{"$f":"IFERROR(VLOOKUP(A424,'1.Портфель кредитів'!A:Z,30,FALSE),\"\")","v":""},0,{"$error":"#VALUE!"},null,null,null,null,null,{"$f":"VLOOKUP(C424,Hidden_Словник!$A$2:C$81,3,FALSE)","v":{"$error":"#N/A"}},0,{"$f":"VLOOKUP(F424,Hidden_Словник!$W$2:$X$13,2,FALSE)","v":{"$error":"#N/A"}},{"$f":"#REF!","v":{"$error":"#REF!"}},{"$error":"#N/A"}]
[null,"",{"$f":"IFERROR(VLOOKUP(A425,'1.Портфель кредитів'!A:Z,3,FALSE),\"\")","v":""},{"$f":"IFERROR(VLOOKUP(A425,'1.Портфель кредитів'!A:Z,7,FALSE),\"\")","v":""},{"$f":"IFERROR(VLOOKUP(A425,'1.Портфель кредитів'!A:Z,14,FALSE),\"\")","v":""},null,null,null,null,null,null,null,null,{"$f":"IFERROR(VLOOKUP(A425,'1.Портфель кредитів'!A:Z,30,FALSE),\"\")","v":""},0,{"$error":"#VALUE!"},null,null,null,null,null,{"$f":"VLOOKUP(C425,Hidden_Словник!$A$2:C$81,3,FALSE)","v":{"$error":"#N/A"}},0,{"$f":"VLOOKUP(F425,Hidden_Словник!$W$2:$X$13,2,FALSE)","v":{"$error":"#N/A"}},{"$f":"#REF!","v":{"$error":"#REF!"}},{"$error":"#N/A"}]
[null,"",{"$f":"IFERROR(VLOOKUP(A426,'1.Портфель кредитів'!A:Z,3,FALSE),\"\")","v":""},{"$f":"IFERROR(VLOOKUP(A426,'1.Портфель кредитів'!A:Z,7,FALSE),\"\")","v":""},{"$f":"IFERROR(VLOOKUP(A426,'1.Портфель кредитів'!A:Z,14,FALSE),\"\")","v":""},null,null,null,null,null,null,null,null,{"$f":"IFERROR(VLOOKUP(A426,'1.Портфель кредитів'!A:Z,30,FALSE),\"\")","v":""},0,{"$error":"#VALUE!"},null,null,null,null,null,{"$f":"VLOOKUP(C426,Hidden_Словник!$A$2:C$81,3,FALSE)","v":{"$error":"#N/A"}},0,{"$f":"VLOOKUP(F426,Hidden_Словник!$W$2:$X$13,2,FALSE)","v":{"$error":"#N/A"}},{"$f":"#REF!","v":{"$error":"#REF!"}},{"$error":"#N/A"}]
[null,"",{"$f":"IFERROR(VLOOKUP(A427,'1.Портфель кредитів'!A:Z,3,FALSE),\"\")","v":""},{"$f":"IFERROR(VLOOKUP(A427,'1.Портфель кредитів'!A:Z,7,FALSE),\"\")","v":""},{"$f":"IFERROR(VLOOKUP(A427,'1.Портфель кредитів'!A:Z,14,FALSE),\"\")","v":""},null,null,null,null,null,null,null,null,{"$f":"IFERROR(VLOOKUP(A427,'1.Портфель кредитів'!A:Z,30,FALSE),\"\")","v":""},0,{"$error":"#VALUE!"},null,null,null,null,null,{"$f":"VLOOKUP(C427,Hidden_Словник!$A$2:C$81,3,FALSE)","v":{"$error":"#N/A"}},0,{"$f":"VLOOKUP(F427,Hidden_Словник!$W$2:$X$13,2,FALSE)","v":{"$error":"#N/A"}},{"$f":"#REF!","v":{"$error":"#REF!"}},{"$error":"#N/A"}]
[null,"",{"$f":"IFERROR(VLOOKUP(A428,'1.Портфель кредитів'!A:Z,3,FALSE),\"\")","v":""},{"$f":"IFERROR(VLOOKUP(A428,'1.Портфель кредитів'!A:Z,7,FALSE),\"\")","v":""},{"$f":"IFERROR(VLOOKUP(A428,'1.Портфель кредитів'!A:Z,14,FALSE),\"\")","v":""},null,null,null,null,null,null,null,null,{"$f":"IFERROR(VLOOKUP(A428,'1.Портфель кредитів'!A:Z,30,FALSE),\"\")","v":""},0,{"$error":"#VALUE!"},null,null,null,null,null,{"$f":"VLOOKUP(C428,Hidden_Словник!$A$2:C$81,3,FALSE)","v":{"$error":"#N/A"}},0,{"$f":"VLOOKUP(F428,Hidden_Словник!$W$2:$X$13,2,FALSE)","v":{"$error":"#N/A"}},{"$f":"#REF!","v":{"$error":"#REF!"}},{"$error":"#N/A"}]
[null,"",{"$f":"IFERROR(VLOOKUP(A429,'1.Портфель кредитів'!A:Z,3,FALSE),\"\")","v":""},{"$f":"IFERROR(VLOOKUP(A429,'1.Портфель кредитів'!A:Z,7,FALSE),\"\")","v":""},{"$f":"IFERROR(VLOOKUP(A429,'1.Портфель кредитів'!A:Z,14,FALSE),\"\")","v":""},null,null,null,null,null,null,null,null,{"$f":"IFERROR(VLOOKUP(A429,'1.Портфель кредитів'!A:Z,30,FALSE),\"\")","v":""},0,{"$error":"#VALUE!"},null,null,null,null,null,{"$f":"VLOOKUP(C429,Hidden_Словник!$A$2:C$81,3,FALSE)","v":{"$error":"#N/A"}},0,{"$f":"VLOOKUP(F429,Hidden_Словник!$W$2:$X$13,2,FALSE)","v":{"$error":"#N/A"}},{"$f":"#REF!","v":{"$error":"#REF!"}},{"$error":"#N/A"}]
[null,"",{"$f":"IFERROR(VLOOKUP(A430,'1.Портфель кредитів'!A:Z,3,FALSE),\"\")","v":""},{"$f":"IFERROR(VLOOKUP(A430,'1.Портфель кредитів'!A:Z,7,FALSE),\"\")","v":""},{"$f":"IFERROR(VLOOKUP(A430,'1.Портфель кредитів'!A:Z,14,FALSE),\"\")","v":""},null,null,null,null,null,null,null,null,{"$f":"IFERROR(VLOOKUP(A430,'1.Портфель кредитів'!A:Z,30,FALSE),\"\")","v":""},0,{"$error":"#VALUE!"},null,null,null,null,null,{"$f":"VLOOKUP(C430,Hidden_Словник!$A$2:C$81,3,FALSE)","v":{"$error":"#N/A"}},0,{"$f":"VLOOKUP(F430,Hidden_Словник!$W$2:$X$13,2,FALSE)","v":{"$error":"#N/A"}},{"$f":"#REF!","v":{"$error":"#REF!"}},{"$error":"#N/A"}]
[null,"",{"$f":"IFERROR(VLOOKUP(A431,'1.Портфель кредитів'!A:Z,3,FALSE),\"\")","v":""},{"$f":"IFERROR(VLOOKUP(A431,'1.Портфель кредитів'!A:Z,7,FALSE),\"\")","v":""},{"$f":"IFERROR(VLOOKUP(A431,'1.Портфель кредитів'!A:Z,14,FALSE),\"\")","v":""},null,null,null,null,null,null,null,null,{"$f":"IFERROR(VLOOKUP(A431,'1.Портфель кредитів'!A:Z,30,FALSE),\"\")","v":""},0,{"$error":"#VALUE!"},null,null,null,null,null,{"$f":"VLOOKUP(C431,Hidden_Словник!$A$2:C$81,3,FALSE)","v":{"$error":"#N/A"}},0,{"$f":"VLOOKUP(F431,Hidden_Словник!$W$2:$X$13,2,FALSE)","v":{"$error":"#N/A"}},{"$f":"#REF!","v":{"$error":"#REF!"}},{"$error":"#N/A"}]
[null,"",{"$f":"IFERROR(VLOOKUP(A432,'1.Портфель кредитів'!A:Z,3,FALSE),\"\")","v":""},{"$f":"IFERROR(VLOOKUP(A432,'1.Портфель кредитів'!A:Z,7,FALSE),\"\")","v":""},{"$f":"IFERROR(VLOOKUP(A432,'1.Портфель кредитів'!A:Z,14,FALSE),\"\")","v":""},null,null,null,null,null,null,null,null,{"$f":"IFERROR(VLOOKUP(A432,'1.Портфель кредитів'!A:Z,30,FALSE),\"\")","v":""},0,{"$error":"#VALUE!"},null,null,null,null,null,{"$f":"VLOOKUP(C432,Hidden_Словник!$A$2:C$81,3,FALSE)","v":{"$error":"#N/A"}},0,{"$f":"VLOOKUP(F432,Hidden_Словник!$W$2:$X$13,2,FALSE)","v":{"$error":"#N/A"}},{"$f":"#REF!","v":{"$error":"#REF!"}},{"$error":"#N/A"}]
[null,"",{"$f":"IFERROR(VLOOKUP(A433,'1.Портфель кредитів'!A:Z,3,FALSE),\"\")","v":""},{"$f":"IFERROR(VLOOKUP(A433,'1.Портфель кредитів'!A:Z,7,FALSE),\"\")","v":""},{"$f":"IFERROR(VLOOKUP(A433,'1.Портфель кредитів'!A:Z,14,FALSE),\"\")","v":""},null,null,null,null,null,null,null,null,{"$f":"IFERROR(VLOOKUP(A433,'1.Портфель кредитів'!A:Z,30,FALSE),\"\")","v":""},0,{"$error":"#VALUE!"},null,null,null,null,null,{"$f":"VLOOKUP(C433,Hidden_Словник!$A$2:C$81,3,FALSE)","v":{"$error":"#N/A"}},0,{"$f":"VLOOKUP(F433,Hidden_Словник!$W$2:$X$13,2,FALSE)","v":{"$error":"#N/A"}},{"$f":"#REF!","v":{"$error":"#REF!"}},{"$error":"#N/A"}]
[null,"",{"$f":"IFERROR(VLOOKUP(A434,'1.Портфель кредитів'!A:Z,3,FALSE),\"\")","v":""},{"$f":"IFERROR(VLOOKUP(A434,'1.Портфель кредитів'!A:Z,7,FALSE),\"\")","v":""},{"$f":"IFERROR(VLOOKUP(A434,'1.Портфель кредитів'!A:Z,14,FALSE),\"\")","v":""},null,null,null,null,null,null,null,null,{"$f":"IFERROR(VLOOKUP(A434,'1.Портфель кредитів'!A:Z,30,FALSE),\"\")","v":""},0,{"$error":"#VALUE!"},null,null,null,null,null,{"$f":"VLOOKUP(C434,Hidden_Словник!$A$2:C$81,3,FALSE)","v":{"$error":"#N/A"}},0,{"$f":"VLOOKUP(F434,Hidden_Словник!$W$2:$X$13,2,FALSE)","v":{"$error":"#N/A"}},{"$f":"#REF!","v":{"$error":"#REF!"}},{"$error":"#N/A"}]
[null,"",{"$f":"IFERROR(VLOOKUP(A435,'1.Портфель кредитів'!A:Z,3,FALSE),\"\")","v":""},{"$f":"IFERROR(VLOOKUP(A435,'1.Портфель кредитів'!A:Z,7,FALSE),\"\")","v":""},{"$f":"IFERROR(VLOOKUP(A435,'1.Портфель кредитів'!A:Z,14,FALSE),\"\")","v":""},null,null,null,null,null,null,null,null,{"$f":"IFERROR(VLOOKUP(A435,'1.Портфель кредитів'!A:Z,30,FALSE),\"\")","v":""},0,{"$error":"#VALUE!"},null,null,null,null,null,{"$f":"VLOOKUP(C435,Hidden_Словник!$A$2:C$81,3,FALSE)","v":{"$error":"#N/A"}},0,{"$f":"VLOOKUP(F435,Hidden_Словник!$W$2:$X$13,2,FALSE)","v":{"$error":"#N/A"}},{"$f":"#REF!","v":{"$error":"#REF!"}},{"$error":"#N/A"}]
[null,"",{"$f":"IFERROR(VLOOKUP(A436,'1.Портфель кредитів'!A:Z,3,FALSE),\"\")","v":""},{"$f":"IFERROR(VLOOKUP(A436,'1.Портфель кредитів'!A:Z,7,FALSE),\"\")","v":""},{"$f":"IFERROR(VLOOKUP(A436,'1.Портфель кредитів'!A:Z,14,FALSE),\"\")","v":""},null,null,null,null,null,null,null,null,{"$f":"IFERROR(VLOOKUP(A436,'1.Портфель кредитів'!A:Z,30,FALSE),\"\")","v":""},0,{"$error":"#VALUE!"},null,null,null,null,null,{"$f":"VLOOKUP(C436,Hidden_Словник!$A$2:C$81,3,FALSE)","v":{"$error":"#N/A"}},0,{"$f":"VLOOKUP(F436,Hidden_Словник!$W$2:$X$13,2,FALSE)","v":{"$error":"#N/A"}},{"$f":"#REF!","v":{"$error":"#REF!"}},{"$error":"#N/A"}]
[null,"",{"$f":"IFERROR(VLOOKUP(A437,'1.Портфель кредитів'!A:Z,3,FALSE),\"\")","v":""},{"$f":"IFERROR(VLOOKUP(A437,'1.Портфель кредитів'!A:Z,7,FALSE),\"\")","v":""},{"$f":"IFERROR(VLOOKUP(A437,'1.Портфель кредитів'!A:Z,14,FALSE),\"\")","v":""},null,null,null,null,null,null,null,null,{"$f":"IFERROR(VLOOKUP(A437,'1.Портфель кредитів'!A:Z,30,FALSE),\"\")","v":""},0,{"$error":"#VALUE!"},null,null,null,null,null,{"$f":"VLOOKUP(C437,Hidden_Словник!$A$2:C$81,3,FALSE)","v":{"$error":"#N/A"}},0,{"$f":"VLOOKUP(F437,Hidden_Словник!$W$2:$X$13,2,FALSE)","v":{"$error":"#N/A"}},{"$f":"#REF!","v":{"$error":"#REF!"}},{"$error":"#N/A"}]
[null,"",{"$f":"IFERROR(VLOOKUP(A438,'1.Портфель кредитів'!A:Z,3,FALSE),\"\")","v":""},{"$f":"IFERROR(VLOOKUP(A438,'1.Портфель кредитів'!A:Z,7,FALSE),\"\")","v":""},{"$f":"IFERROR(VLOOKUP(A438,'1.Портфель кредитів'!A:Z,14,FALSE),\"\")","v":""},null,null,null,null,null,null,null,null,{"$f":"IFERROR(VLOOKUP(A438,'1.Портфель кредитів'!A:Z,30,FALSE),\"\")","v":""},0,{"$error":"#VALUE!"},null,null,null,null,null,{"$f":"VLOOKUP(C438,Hidden_Словник!$A$2:C$81,3,FALSE)","v":{"$error":"#N/A"}},0,{"$f":"VLOOKUP(F438,Hidden_Словник!$W$2:$X$13,2,FALSE)","v":{"$error":"#N/A"}},{"$f":"#REF!","v":{"$error":"#REF!"}},{"$error":"#N/A"}]
[null,"",{"$f":"IFERROR(VLOOKUP(A439,'1.Портфель кредитів'!A:Z,3,FALSE),\"\")","v":""},{"$f":"IFERROR(VLOOKUP(A439,'1.Портфель кредитів'!A:Z,7,FALSE),\"\")","v":""},{"$f":"IFERROR(VLOOKUP(A439,'1.Портфель кредитів'!A:Z,14,FALSE),\"\")","v":""},null,null,null,null,null,null,null,null,{"$f":"IFERROR(VLOOKUP(A439,'1.Портфель кредитів'!A:Z,30,FALSE),\"\")","v":""},0,{"$error":"#VALUE!"},null,null,null,null,null,{"$f":"VLOOKUP(C439,Hidden_Словник!$A$2:C$81,3,FALSE)","v":{"$error":"#N/A"}},0,{"$f":"VLOOKUP(F439,Hidden_Словник!$W$2:$X$13,2,FALSE)","v":{"$error":"#N/A"}},{"$f":"#REF!","v":{"$error":"#REF!"}},{"$error":"#N/A"}]
[null,"",{"$f":"IFERROR(VLOOKUP(A440,'1.Портфель кредитів'!A:Z,3,FALSE),\"\")","v":""},{"$f":"IFERROR(VLOOKUP(A440,'1.Портфель кредитів'!A:Z,7,FALSE),\"\")","v":""},{"$f":"IFERROR(VLOOKUP(A440,'1.Портфель кредитів'!A:Z,14,FALSE),\"\")","v":""},null,null,null,null,null,null,null,null,{"$f":"IFERROR(VLOOKUP(A440,'1.Портфель кредитів'!A:Z,30,FALSE),\"\")","v":""},0,{"$error":"#VALUE!"},null,null,null,null,null,{"$f":"VLOOKUP(C440,Hidden_Словник!$A$2:C$81,3,FALSE)","v":{"$error":"#N/A"}},0,{"$f":"VLOOKUP(F440,Hidden_Словник!$W$2:$X$13,2,FALSE)","v":{"$error":"#N/A"}},{"$f":"#REF!","v":{"$error":"#REF!"}},{"$error":"#N/A"}]
[null,"",{"$f":"IFERROR(VLOOKUP(A441,'1.Портфель кредитів'!A:Z,3,FALSE),\"\")","v":""},{"$f":"IFERROR(VLOOKUP(A441,'1.Портфель кредитів'!A:Z,7,FALSE),\"\")","v":""},{"$f":"IFERROR(VLOOKUP(A441,'1.Портфель кредитів'!A:Z,14,FALSE),\"\")","v":""},null,null,null,null,null,null,null,null,{"$f":"IFERROR(VLOOKUP(A441,'1.Портфель кредитів'!A:Z,30,FALSE),\"\")","v":""},0,{"$error":"#VALUE!"},null,null,null,null,null,{"$f":"VLOOKUP(C441,Hidden_Словник!$A$2:C$81,3,FALSE)","v":{"$error":"#N/A"}},0,{"$f":"VLOOKUP(F441,Hidden_Словник!$W$2:$X$13,2,FALSE)","v":{"$error":"#N/A"}},{"$f":"#REF!","v":{"$error":"#REF!"}},{"$error":"#N/A"}]
[null,"",{"$f":"IFERROR(VLOOKUP(A442,'1.Портфель кредитів'!A:Z,3,FALSE),\"\")","v":""},{"$f":"IFERROR(VLOOKUP(A442,'1.Портфель кредитів'!A:Z,7,FALSE),\"\")","v":""},{"$f":"IFERROR(VLOOKUP(A442,'1.Портфель кредитів'!A:Z,14,FALSE),\"\")","v":""},null,null,null,null,null,null,null,null,{"$f":"IFERROR(VLOOKUP(A442,'1.Портфель кредитів'!A:Z,30,FALSE),\"\")","v":""},0,{"$error":"#VALUE!"},null,null,null,null,null,{"$f":"VLOOKUP(C442,Hidden_Словник!$A$2:C$81,3,FALSE)","v":{"$error":"#N/A"}},0,{"$f":"VLOOKUP(F442,Hidden_Словник!$W$2:$X$13,2,FALSE)","v":{"$error":"#N/A"}},{"$f":"#REF!","v":{"$error":"#REF!"}},{"$error":"#N/A"}]
[null,"",{"$f":"IFERROR(VLOOKUP(A443,'1.Портфель кредитів'!A:Z,3,FALSE),\"\")","v":""},{"$f":"IFERROR(VLOOKUP(A443,'1.Портфель кредитів'!A:Z,7,FALSE),\"\")","v":""},{"$f":"IFERROR(VLOOKUP(A443,'1.Портфель кредитів'!A:Z,14,FALSE),\"\")","v":""},null,null,null,null,null,null,null,null,{"$f":"IFERROR(VLOOKUP(A443,'1.Портфель кредитів'!A:Z,30,FALSE),\"\")","v":""},0,{"$error":"#VALUE!"},null,null,null,null,null,{"$f":"VLOOKUP(C443,Hidden_Словник!$A$2:C$81,3,FALSE)","v":{"$error":"#N/A"}},0,{"$f":"VLOOKUP(F443,Hidden_Словник!$W$2:$X$13,2,FALSE)","v":{"$error":"#N/A"}},{"$f":"#REF!","v":{"$error":"#REF!"}},{"$error":"#N/A"}]
[null,"",{"$f":"IFERROR(VLOOKUP(A444,'1.Портфель кредитів'!A:Z,3,FALSE),\"\")","v":""},{"$f":"IFERROR(VLOOKUP(A444,'1.Портфель кредитів'!A:Z,7,FALSE),\"\")","v":""},{"$f":"IFERROR(VLOOKUP(A444,'1.Портфель кредитів'!A:Z,14,FALSE),\"\")","v":""},null,null,null,null,null,null,null,null,{"$f":"IFERROR(VLOOKUP(A444,'1.Портфель кредитів'!A:Z,30,FALSE),\"\")","v":""},0,{"$error":"#VALUE!"},null,null,null,null,null,{"$f":"VLOOKUP(C444,Hidden_Словник!$A$2:C$81,3,FALSE)","v":{"$error":"#N/A"}},0,{"$f":"VLOOKUP(F444,Hidden_Словник!$W$2:$X$13,2,FALSE)","v":{"$error":"#N/A"}},{"$f":"#REF!","v":{"$error":"#REF!"}},{"$error":"#N/A"}]
[null,"",{"$f":"IFERROR(VLOOKUP(A445,'1.Портфель кредитів'!A:Z,3,FALSE),\"\")","v":""},{"$f":"IFERROR(VLOOKUP(A445,'1.Портфель кредитів'!A:Z,7,FALSE),\"\")","v":""},{"$f":"IFERROR(VLOOKUP(A445,'1.Портфель кредитів'!A:Z,14,FALSE),\"\")","v":""},null,null,null,null,null,null,null,null,{"$f":"IFERROR(VLOOKUP(A445,'1.Портфель кредитів'!A:Z,30,FALSE),\"\")","v":""},0,{"$error":"#VALUE!"},null,null,null,null,null,{"$f":"VLOOKUP(C445,Hidden_Словник!$A$2:C$81,3,FALSE)","v":{"$error":"#N/A"}},0,{"$f":"VLOOKUP(F445,Hidden_Словник!$W$2:$X$13,2,FALSE)","v":{"$error":"#N/A"}},{"$f":"#REF!","v":{"$error":"#REF!"}},{"$error":"#N/A"}]
[null,{"$f":"IFERROR(Z446,\"\")","v":""},{"$f":"IFERROR(VLOOKUP(A446,'1.Портфель кредитів'!A:Z,3,FALSE),\"\")","v":""},{"$f":"IFERROR(VLOOKUP(A446,'1.Портфель кредитів'!A:Z,7,FALSE),\"\")","v":""},{"$f":"IFERROR(VLOOKUP(A446,'1.Портфель кредитів'!A:Z,14,FALSE),\"\")","v":""},null,null,null,null,null,null,null,null,{"$f":"IFERROR(VLOOKUP(A446,'1.Портфель кредитів'!A:Z,30,FALSE),\"\")","v":""},0,{"$error":"#VALUE!"},null,null,null,null,null,{"$f":"VLOOKUP(C446,Hidden_Словник!$A$2:C$81,3,FALSE)","v":{"$error":"#N/A"}},0,{"$f":"VLOOKUP(F446,Hidden_Словник!$W$2:$X$13,2,FALSE)","v":{"$error":"#N/A"}},{"$f":"#REF!","v":{"$error":"#REF!"}},{"$f":"V446&\"_\"&W446&X446&Y446","v":{"$error":"#N/A"}}]
[null,"",{"$f":"IFERROR(VLOOKUP(A447,'1.Портфель кредитів'!A:Z,3,FALSE),\"\")","v":""},{"$f":"IFERROR(VLOOKUP(A447,'1.Портфель кредитів'!A:Z,7,FALSE),\"\")","v":""},{"$f":"IFERROR(VLOOKUP(A447,'1.Портфель кредитів'!A:Z,14,FALSE),\"\")","v":""},null,null,null,null,null,null,null,null,{"$f":"IFERROR(VLOOKUP(A447,'1.Портфель кредитів'!A:Z,30,FALSE),\"\")","v":""},0,{"$error":"#VALUE!"},null,null,null,null,null,{"$f":"VLOOKUP(C447,Hidden_Словник!$A$2:C$81,3,FALSE)","v":{"$error":"#N/A"}},0,{"$f":"VLOOKUP(F447,Hidden_Словник!$W$2:$X$13,2,FALSE)","v":{"$error":"#N/A"}},{"$f":"#REF!","v":{"$error":"#REF!"}},{"$error":"#N/A"}]
[null,"",{"$f":"IFERROR(VLOOKUP(A448,'1.Портфель кредитів'!A:Z,3,FALSE),\"\")","v":""},{"$f":"IFERROR(VLOOKUP(A448,'1.Портфель кредитів'!A:Z,7,FALSE),\"\")","v":""},{"$f":"IFERROR(VLOOKUP(A448,'1.Портфель кредитів'!A:Z,14,FALSE),\"\")","v":""},null,null,null,null,null,null,null,null,{"$f":"IFERROR(VLOOKUP(A448,'1.Портфель кредитів'!A:Z,30,FALSE),\"\")","v":""},0,{"$error":"#VALUE!"},null,null,null,null,null,{"$f":"VLOOKUP(C448,Hidden_Словник!$A$2:C$81,3,FALSE)","v":{"$error":"#N/A"}},0,{"$f":"VLOOKUP(F448,Hidden_Словник!$W$2:$X$13,2,FALSE)","v":{"$error":"#N/A"}},{"$f":"#REF!","v":{"$error":"#REF!"}},{"$error":"#N/A"}]
[null,"",{"$f":"IFERROR(VLOOKUP(A449,'1.Портфель кредитів'!A:Z,3,FALSE),\"\")","v":""},{"$f":"IFERROR(VLOOKUP(A449,'1.Портфель кредитів'!A:Z,7,FALSE),\"\")","v":""},{"$f":"IFERROR(VLOOKUP(A449,'1.Портфель кредитів'!A:Z,14,FALSE),\"\")","v":""},null,null,null,null,null,null,null,null,{"$f":"IFERROR(VLOOKUP(A449,'1.Портфель кредитів'!A:Z,30,FALSE),\"\")","v":""},0,{"$error":"#VALUE!"},null,null,null,null,null,{"$f":"VLOOKUP(C449,Hidden_Словник!$A$2:C$81,3,FALSE)","v":{"$error":"#N/A"}},0,{"$f":"VLOOKUP(F449,Hidden_Словник!$W$2:$X$13,2,FALSE)","v":{"$error":"#N/A"}},{"$f":"#REF!","v":{"$error":"#REF!"}},{"$error":"#N/A"}]
[null,"",{"$f":"IFERROR(VLOOKUP(A450,'1.Портфель кредитів'!A:Z,3,FALSE),\"\")","v":""},{"$f":"IFERROR(VLOOKUP(A450,'1.Портфель кредитів'!A:Z,7,FALSE),\"\")","v":""},{"$f":"IFERROR(VLOOKUP(A450,'1.Портфель кредитів'!A:Z,14,FALSE),\"\")","v":""},null,null,null,null,null,null,null,null,{"$f":"IFERROR(VLOOKUP(A450,'1.Портфель кредитів'!A:Z,30,FALSE),\"\")","v":""},0,{"$error":"#VALUE!"},null,null,null,null,null,{"$f":"VLOOKUP(C450,Hidden_Словник!$A$2:C$81,3,FALSE)","v":{"$error":"#N/A"}},0,{"$f":"VLOOKUP(F450,Hidden_Словник!$W$2:$X$13,2,FALSE)","v":{"$error":"#N/A"}},{"$f":"#REF!","v":{"$error":"#REF!"}},{"$error":"#N/A"}]
[null,"",{"$f":"IFERROR(VLOOKUP(A451,'1.Портфель кредитів'!A:Z,3,FALSE),\"\")","v":""},{"$f":"IFERROR(VLOOKUP(A451,'1.Портфель кредитів'!A:Z,7,FALSE),\"\")","v":""},{"$f":"IFERROR(VLOOKUP(A451,'1.Портфель кредитів'!A:Z,14,FALSE),\"\")","v":""},null,null,null,null,null,null,null,null,{"$f":"IFERROR(VLOOKUP(A451,'1.Портфель кредитів'!A:Z,30,FALSE),\"\")","v":""},0,{"$error":"#VALUE!"},null,null,null,null,null,{"$f":"VLOOKUP(C451,Hidden_Словник!$A$2:C$81,3,FALSE)","v":{"$error":"#N/A"}},0,{"$f":"VLOOKUP(F451,Hidden_Словник!$W$2:$X$13,2,FALSE)","v":{"$error":"#N/A"}},{"$f":"#REF!","v":{"$error":"#REF!"}},{"$error":"#N/A"}]
[null,"",{"$f":"IFERROR(VLOOKUP(A452,'1.Портфель кредитів'!A:Z,3,FALSE),\"\")","v":""},{"$f":"IFERROR(VLOOKUP(A452,'1.Портфель кредитів'!A:Z,7,FALSE),\"\")","v":""},{"$f":"IFERROR(VLOOKUP(A452,'1.Портфель кредитів'!A:Z,14,FALSE),\"\")","v":""},null,null,null,null,null,null,null,null,{"$f":"IFERROR(VLOOKUP(A452,'1.Портфель кредитів'!A:Z,30,FALSE),\"\")","v":""},0,{"$error":"#VALUE!"},null,null,null,null,null,{"$f":"VLOOKUP(C452,Hidden_Словник!$A$2:C$81,3,FALSE)","v":{"$error":"#N/A"}},0,{"$f":"VLOOKUP(F452,Hidden_Словник!$W$2:$X$13,2,FALSE)","v":{"$error":"#N/A"}},{"$f":"#REF!","v":{"$error":"#REF!"}},{"$error":"#N/A"}]
[null,"",{"$f":"IFERROR(VLOOKUP(A453,'1.Портфель кредитів'!A:Z,3,FALSE),\"\")","v":""},{"$f":"IFERROR(VLOOKUP(A453,'1.Портфель кредитів'!A:Z,7,FALSE),\"\")","v":""},{"$f":"IFERROR(VLOOKUP(A453,'1.Портфель кредитів'!A:Z,14,FALSE),\"\")","v":""},null,null,null,null,null,null,null,null,{"$f":"IFERROR(VLOOKUP(A453,'1.Портфель кредитів'!A:Z,30,FALSE),\"\")","v":""},0,{"$error":"#VALUE!"},null,null,null,null,null,{"$f":"VLOOKUP(C453,Hidden_Словник!$A$2:C$81,3,FALSE)","v":{"$error":"#N/A"}},0,{"$f":"VLOOKUP(F453,Hidden_Словник!$W$2:$X$13,2,FALSE)","v":{"$error":"#N/A"}},{"$f":"#REF!","v":{"$error":"#REF!"}},{"$error":"#N/A"}]
[null,"",{"$f":"IFERROR(VLOOKUP(A454,'1.Портфель кредитів'!A:Z,3,FALSE),\"\")","v":""},{"$f":"IFERROR(VLOOKUP(A454,'1.Портфель кредитів'!A:Z,7,FALSE),\"\")","v":""},{"$f":"IFERROR(VLOOKUP(A454,'1.Портфель кредитів'!A:Z,14,FALSE),\"\")","v":""},null,null,null,null,null,null,null,null,{"$f":"IFERROR(VLOOKUP(A454,'1.Портфель кредитів'!A:Z,30,FALSE),\"\")","v":""},0,{"$error":"#VALUE!"},null,null,null,null,null,{"$f":"VLOOKUP(C454,Hidden_Словник!$A$2:C$81,3,FALSE)","v":{"$error":"#N/A"}},0,{"$f":"VLOOKUP(F454,Hidden_Словник!$W$2:$X$13,2,FALSE)","v":{"$error":"#N/A"}},{"$f":"#REF!","v":{"$error":"#REF!"}},{"$error":"#N/A"}]
[null,"",{"$f":"IFERROR(VLOOKUP(A455,'1.Портфель кредитів'!A:Z,3,FALSE),\"\")","v":""},{"$f":"IFERROR(VLOOKUP(A455,'1.Портфель кредитів'!A:Z,7,FALSE),\"\")","v":""},{"$f":"IFERROR(VLOOKUP(A455,'1.Портфель кредитів'!A:Z,14,FALSE),\"\")","v":""},null,null,null,null,null,null,null,null,{"$f":"IFERROR(VLOOKUP(A455,'1.Портфель кредитів'!A:Z,30,FALSE),\"\")","v":""},0,{"$error":"#VALUE!"},null,null,null,null,null,{"$f":"VLOOKUP(C455,Hidden_Словник!$A$2:C$81,3,FALSE)","v":{"$error":"#N/A"}},0,{"$f":"VLOOKUP(F455,Hidden_Словник!$W$2:$X$13,2,FALSE)","v":{"$error":"#N/A"}},{"$f":"#REF!","v":{"$error":"#REF!"}},{"$error":"#N/A"}]
[null,"",{"$f":"IFERROR(VLOOKUP(A456,'1.Портфель кредитів'!A:Z,3,FALSE),\"\")","v":""},{"$f":"IFERROR(VLOOKUP(A456,'1.Портфель кредитів'!A:Z,7,FALSE),\"\")","v":""},{"$f":"IFERROR(VLOOKUP(A456,'1.Портфель кредитів'!A:Z,14,FALSE),\"\")","v":""},null,null,null,null,null,null,null,null,{"$f":"IFERROR(VLOOKUP(A456,'1.Портфель кредитів'!A:Z,30,FALSE),\"\")","v":""},0,{"$error":"#VALUE!"},null,null,null,null,null,{"$f":"VLOOKUP(C456,Hidden_Словник!$A$2:C$81,3,FALSE)","v":{"$error":"#N/A"}},0,{"$f":"VLOOKUP(F456,Hidden_Словник!$W$2:$X$13,2,FALSE)","v":{"$error":"#N/A"}},{"$f":"#REF!","v":{"$error":"#REF!"}},{"$error":"#N/A"}]
[null,"",{"$f":"IFERROR(VLOOKUP(A457,'1.Портфель кредитів'!A:Z,3,FALSE),\"\")","v":""},{"$f":"IFERROR(VLOOKUP(A457,'1.Портфель кредитів'!A:Z,7,FALSE),\"\")","v":""},{"$f":"IFERROR(VLOOKUP(A457,'1.Портфель кредитів'!A:Z,14,FALSE),\"\")","v":""},null,null,null,null,null,null,null,null,{"$f":"IFERROR(VLOOKUP(A457,'1.Портфель кредитів'!A:Z,30,FALSE),\"\")","v":""},0,{"$error":"#VALUE!"},null,null,null,null,null,{"$f":"VLOOKUP(C457,Hidden_Словник!$A$2:C$81,3,FALSE)","v":{"$error":"#N/A"}},0,{"$f":"VLOOKUP(F457,Hidden_Словник!$W$2:$X$13,2,FALSE)","v":{"$error":"#N/A"}},{"$f":"#REF!","v":{"$error":"#REF!"}},{"$error":"#N/A"}]
[null,"",{"$f":"IFERROR(VLOOKUP(A458,'1.Портфель кредитів'!A:Z,3,FALSE),\"\")","v":""},{"$f":"IFERROR(VLOOKUP(A458,'1.Портфель кредитів'!A:Z,7,FALSE),\"\")","v":""},{"$f":"IFERROR(VLOOKUP(A458,'1.Портфель кредитів'!A:Z,14,FALSE),\"\")","v":""},null,null,null,null,null,null,null,null,{"$f":"IFERROR(VLOOKUP(A458,'1.Портфель кредитів'!A:Z,30,FALSE),\"\")","v":""},0,{"$error":"#VALUE!"},null,null,null,null,null,{"$f":"VLOOKUP(C458,Hidden_Словник!$A$2:C$81,3,FALSE)","v":{"$error":"#N/A"}},0,{"$f":"VLOOKUP(F458,Hidden_Словник!$W$2:$X$13,2,FALSE)","v":{"$error":"#N/A"}},{"$f":"#REF!","v":{"$error":"#REF!"}},{"$error":"#N/A"}]
[null,"",{"$f":"IFERROR(VLOOKUP(A459,'1.Портфель кредитів'!A:Z,3,FALSE),\"\")","v":""},{"$f":"IFERROR(VLOOKUP(A459,'1.Портфель кредитів'!A:Z,7,FALSE),\"\")","v":""},{"$f":"IFERROR(VLOOKUP(A459,'1.Портфель кредитів'!A:Z,14,FALSE),\"\")","v":""},null,null,null,null,null,null,null,null,{"$f":"IFERROR(VLOOKUP(A459,'1.Портфель кредитів'!A:Z,30,FALSE),\"\")","v":""},0,{"$error":"#VALUE!"},null,null,null,null,null,{"$f":"VLOOKUP(C459,Hidden_Словник!$A$2:C$81,3,FALSE)","v":{"$error":"#N/A"}},0,{"$f":"VLOOKUP(F459,Hidden_Словник!$W$2:$X$13,2,FALSE)","v":{"$error":"#N/A"}},{"$f":"#REF!","v":{"$error":"#REF!"}},{"$error":"#N/A"}]
[null,"",{"$f":"IFERROR(VLOOKUP(A460,'1.Портфель кредитів'!A:Z,3,FALSE),\"\")","v":""},{"$f":"IFERROR(VLOOKUP(A460,'1.Портфель кредитів'!A:Z,7,FALSE),\"\")","v":""},{"$f":"IFERROR(VLOOKUP(A460,'1.Портфель кредитів'!A:Z,14,FALSE),\"\")","v":""},null,null,null,null,null,null,null,null,{"$f":"IFERROR(VLOOKUP(A460,'1.Портфель кредитів'!A:Z,30,FALSE),\"\")","v":""},0,{"$error":"#VALUE!"},null,null,null,null,null,{"$f":"VLOOKUP(C460,Hidden_Словник!$A$2:C$81,3,FALSE)","v":{"$error":"#N/A"}},0,{"$f":"VLOOKUP(F460,Hidden_Словник!$W$2:$X$13,2,FALSE)","v":{"$error":"#N/A"}},{"$f":"#REF!","v":{"$error":"#REF!"}},{"$error":"#N/A"}]
[null,"",{"$f":"IFERROR(VLOOKUP(A461,'1.Портфель кредитів'!A:Z,3,FALSE),\"\")","v":""},{"$f":"IFERROR(VLOOKUP(A461,'1.Портфель кредитів'!A:Z,7,FALSE),\"\")","v":""},{"$f":"IFERROR(VLOOKUP(A461,'1.Портфель кредитів'!A:Z,14,FALSE),\"\")","v":""},null,null,null,null,null,null,null,null,{"$f":"IFERROR(VLOOKUP(A461,'1.Портфель кредитів'!A:Z,30,FALSE),\"\")","v":""},0,{"$error":"#VALUE!"},null,null,null,null,null,{"$f":"VLOOKUP(C461,Hidden_Словник!$A$2:C$81,3,FALSE)","v":{"$error":"#N/A"}},0,{"$f":"VLOOKUP(F461,Hidden_Словник!$W$2:$X$13,2,FALSE)","v":{"$error":"#N/A"}},{"$f":"#REF!","v":{"$error":"#REF!"}},{"$error":"#N/A"}]
[null,"",{"$f":"IFERROR(VLOOKUP(A462,'1.Портфель кредитів'!A:Z,3,FALSE),\"\")","v":""},{"$f":"IFERROR(VLOOKUP(A462,'1.Портфель кредитів'!A:Z,7,FALSE),\"\")","v":""},{"$f":"IFERROR(VLOOKUP(A462,'1.Портфель кредитів'!A:Z,14,FALSE),\"\")","v":""},null,null,null,null,null,null,null,null,{"$f":"IFERROR(VLOOKUP(A462,'1.Портфель кредитів'!A:Z,30,FALSE),\"\")","v":""},0,{"$error":"#VALUE!"},null,null,null,null,null,{"$f":"VLOOKUP(C462,Hidden_Словник!$A$2:C$81,3,FALSE)","v":{"$error":"#N/A"}},0,{"$f":"VLOOKUP(F462,Hidden_Словник!$W$2:$X$13,2,FALSE)","v":{"$error":"#N/A"}},{"$f":"#REF!","v":{"$error":"#REF!"}},{"$error":"#N/A"}]
[null,"",{"$f":"IFERROR(VLOOKUP(A463,'1.Портфель кредитів'!A:Z,3,FALSE),\"\")","v":""},{"$f":"IFERROR(VLOOKUP(A463,'1.Портфель кредитів'!A:Z,7,FALSE),\"\")","v":""},{"$f":"IFERROR(VLOOKUP(A463,'1.Портфель кредитів'!A:Z,14,FALSE),\"\")","v":""},null,null,null,null,null,null,null,null,{"$f":"IFERROR(VLOOKUP(A463,'1.Портфель кредитів'!A:Z,30,FALSE),\"\")","v":""},0,{"$error":"#VALUE!"},null,null,null,null,null,{"$f":"VLOOKUP(C463,Hidden_Словник!$A$2:C$81,3,FALSE)","v":{"$error":"#N/A"}},0,{"$f":"VLOOKUP(F463,Hidden_Словник!$W$2:$X$13,2,FALSE)","v":{"$error":"#N/A"}},{"$f":"#REF!","v":{"$error":"#REF!"}},{"$error":"#N/A"}]
[null,"",{"$f":"IFERROR(VLOOKUP(A464,'1.Портфель кредитів'!A:Z,3,FALSE),\"\")","v":""},{"$f":"IFERROR(VLOOKUP(A464,'1.Портфель кредитів'!A:Z,7,FALSE),\"\")","v":""},{"$f":"IFERROR(VLOOKUP(A464,'1.Портфель кредитів'!A:Z,14,FALSE),\"\")","v":""},null,null,null,null,null,null,null,null,{"$f":"IFERROR(VLOOKUP(A464,'1.Портфель кредитів'!A:Z,30,FALSE),\"\")","v":""},0,{"$error":"#VALUE!"},null,null,null,null,null,{"$f":"VLOOKUP(C464,Hidden_Словник!$A$2:C$81,3,FALSE)","v":{"$error":"#N/A"}},0,{"$f":"VLOOKUP(F464,Hidden_Словник!$W$2:$X$13,2,FALSE)","v":{"$error":"#N/A"}},{"$f":"#REF!","v":{"$error":"#REF!"}},{"$error":"#N/A"}]
[null,"",{"$f":"IFERROR(VLOOKUP(A465,'1.Портфель кредитів'!A:Z,3,FALSE),\"\")","v":""},{"$f":"IFERROR(VLOOKUP(A465,'1.Портфель кредитів'!A:Z,7,FALSE),\"\")","v":""},{"$f":"IFERROR(VLOOKUP(A465,'1.Портфель кредитів'!A:Z,14,FALSE),\"\")","v":""},null,null,null,null,null,null,null,null,{"$f":"IFERROR(VLOOKUP(A465,'1.Портфель кредитів'!A:Z,30,FALSE),\"\")","v":""},0,{"$error":"#VALUE!"},null,null,null,null,null,{"$f":"VLOOKUP(C465,Hidden_Словник!$A$2:C$81,3,FALSE)","v":{"$error":"#N/A"}},0,{"$f":"VLOOKUP(F465,Hidden_Словник!$W$2:$X$13,2,FALSE)","v":{"$error":"#N/A"}},{"$f":"#REF!","v":{"$error":"#REF!"}},{"$error":"#N/A"}]
[null,"",{"$f":"IFERROR(VLOOKUP(A466,'1.Портфель кредитів'!A:Z,3,FALSE),\"\")","v":""},{"$f":"IFERROR(VLOOKUP(A466,'1.Портфель кредитів'!A:Z,7,FALSE),\"\")","v":""},{"$f":"IFERROR(VLOOKUP(A466,'1.Портфель кредитів'!A:Z,14,FALSE),\"\")","v":""},null,null,null,null,null,null,null,null,{"$f":"IFERROR(VLOOKUP(A466,'1.Портфель кредитів'!A:Z,30,FALSE),\"\")","v":""},0,{"$error":"#VALUE!"},null,null,null,null,null,{"$f":"VLOOKUP(C466,Hidden_Словник!$A$2:C$81,3,FALSE)","v":{"$error":"#N/A"}},0,{"$f":"VLOOKUP(F466,Hidden_Словник!$W$2:$X$13,2,FALSE)","v":{"$error":"#N/A"}},{"$f":"#REF!","v":{"$error":"#REF!"}},{"$error":"#N/A"}]
[null,"",{"$f":"IFERROR(VLOOKUP(A467,'1.Портфель кредитів'!A:Z,3,FALSE),\"\")","v":""},{"$f":"IFERROR(VLOOKUP(A467,'1.Портфель кредитів'!A:Z,7,FALSE),\"\")","v":""},{"$f":"IFERROR(VLOOKUP(A467,'1.Портфель кредитів'!A:Z,14,FALSE),\"\")","v":""},null,null,null,null,null,null,null,null,{"$f":"IFERROR(VLOOKUP(A467,'1.Портфель кредитів'!A:Z,30,FALSE),\"\")","v":""},0,{"$error":"#VALUE!"},null,null,null,null,null,{"$f":"VLOOKUP(C467,Hidden_Словник!$A$2:C$81,3,FALSE)","v":{"$error":"#N/A"}},{"$f":"ROUNDUP(K467,0)","v":0},{"$f":"VLOOKUP(F467,Hidden_Словник!$W$2:$X$13,2,FALSE)","v":{"$error":"#N/A"}},{"$f":"#REF!","v":{"$error":"#REF!"}},{"$error":"#N/A"}]
[null,"",{"$f":"IFERROR(VLOOKUP(A468,'1.Портфель кредитів'!A:Z,3,FALSE),\"\")","v":""},{"$f":"IFERROR(VLOOKUP(A468,'1.Портфель кредитів'!A:Z,7,FALSE),\"\")","v":""},{"$f":"IFERROR(VLOOKUP(A468,'1.Портфель кредитів'!A:Z,14,FALSE),\"\")","v":""},null,null,null,null,null,null,null,null,{"$f":"IFERROR(VLOOKUP(A468,'1.Портфель кредитів'!A:Z,30,FALSE),\"\")","v":""},0,{"$error":"#VALUE!"},null,null,null,null,null,{"$f":"VLOOKUP(C468,Hidden_Словник!$A$2:C$81,3,FALSE)","v":{"$error":"#N/A"}},0,{"$f":"VLOOKUP(F468,Hidden_Словник!$W$2:$X$13,2,FALSE)","v":{"$error":"#N/A"}},{"$f":"#REF!","v":{"$error":"#REF!"}},{"$error":"#N/A"}]
[null,"",{"$f":"IFERROR(VLOOKUP(A469,'1.Портфель кредитів'!A:Z,3,FALSE),\"\")","v":""},{"$f":"IFERROR(VLOOKUP(A469,'1.Портфель кредитів'!A:Z,7,FALSE),\"\")","v":""},{"$f":"IFERROR(VLOOKUP(A469,'1.Портфель кредитів'!A:Z,14,FALSE),\"\")","v":""},null,null,null,null,null,null,null,null,{"$f":"IFERROR(VLOOKUP(A469,'1.Портфель кредитів'!A:Z,30,FALSE),\"\")","v":""},0,{"$error":"#VALUE!"},null,null,null,null,null,{"$f":"VLOOKUP(C469,Hidden_Словник!$A$2:C$81,3,FALSE)","v":{"$error":"#N/A"}},0,{"$f":"VLOOKUP(F469,Hidden_Словник!$W$2:$X$13,2,FALSE)","v":{"$error":"#N/A"}},{"$f":"#REF!","v":{"$error":"#REF!"}},{"$error":"#N/A"}]
[null,"",{"$f":"IFERROR(VLOOKUP(A470,'1.Портфель кредитів'!A:Z,3,FALSE),\"\")","v":""},{"$f":"IFERROR(VLOOKUP(A470,'1.Портфель кредитів'!A:Z,7,FALSE),\"\")","v":""},{"$f":"IFERROR(VLOOKUP(A470,'1.Портфель кредитів'!A:Z,14,FALSE),\"\")","v":""},null,null,null,null,null,null,null,null,{"$f":"IFERROR(VLOOKUP(A470,'1.Портфель кредитів'!A:Z,30,FALSE),\"\")","v":""},0,{"$error":"#VALUE!"},null,null,null,null,null,{"$f":"VLOOKUP(C470,Hidden_Словник!$A$2:C$81,3,FALSE)","v":{"$error":"#N/A"}},0,{"$f":"VLOOKUP(F470,Hidden_Словник!$W$2:$X$13,2,FALSE)","v":{"$error":"#N/A"}},{"$f":"#REF!","v":{"$error":"#REF!"}},{"$error":"#N/A"}]
[null,"",{"$f":"IFERROR(VLOOKUP(A471,'1.Портфель кредитів'!A:Z,3,FALSE),\"\")","v":""},{"$f":"IFERROR(VLOOKUP(A471,'1.Портфель кредитів'!A:Z,7,FALSE),\"\")","v":""},{"$f":"IFERROR(VLOOKUP(A471,'1.Портфель кредитів'!A:Z,14,FALSE),\"\")","v":""},null,null,null,null,null,null,null,null,{"$f":"IFERROR(VLOOKUP(A471,'1.Портфель кредитів'!A:Z,30,FALSE),\"\")","v":""},{"$f":"SUMIF(B:B,B471,N:N)","v":0},{"$error":"#VALUE!"},null,null,null,null,null,{"$f":"VLOOKUP(C471,Hidden_Словник!$A$2:C$81,3,FALSE)","v":{"$error":"#N/A"}},0,{"$f":"VLOOKUP(F471,Hidden_Словник!$W$2:$X$13,2,FALSE)","v":{"$error":"#N/A"}},{"$f":"#REF!","v":{"$error":"#REF!"}},{"$error":"#N/A"}]
[null,"",{"$f":"IFERROR(VLOOKUP(A472,'1.Портфель кредитів'!A:Z,3,FALSE),\"\")","v":""},{"$f":"IFERROR(VLOOKUP(A472,'1.Портфель кредитів'!A:Z,7,FALSE),\"\")","v":""},{"$f":"IFERROR(VLOOKUP(A472,'1.Портфель кредитів'!A:Z,14,FALSE),\"\")","v":""},null,null,null,null,null,null,null,null,{"$f":"IFERROR(VLOOKUP(A472,'1.Портфель кредитів'!A:Z,30,FALSE),\"\")","v":""},0,{"$error":"#VALUE!"},null,null,null,null,null,{"$f":"VLOOKUP(C472,Hidden_Словник!$A$2:C$81,3,FALSE)","v":{"$error":"#N/A"}},0,{"$f":"VLOOKUP(F472,Hidden_Словник!$W$2:$X$13,2,FALSE)","v":{"$error":"#N/A"}},{"$f":"#REF!","v":{"$error":"#REF!"}},{"$error":"#N/A"}]
[null,"",{"$f":"IFERROR(VLOOKUP(A473,'1.Портфель кредитів'!A:Z,3,FALSE),\"\")","v":""},{"$f":"IFERROR(VLOOKUP(A473,'1.Портфель кредитів'!A:Z,7,FALSE),\"\")","v":""},{"$f":"IFERROR(VLOOKUP(A473,'1.Портфель кредитів'!A:Z,14,FALSE),\"\")","v":""},null,null,null,null,null,null,null,null,{"$f":"IFERROR(VLOOKUP(A473,'1.Портфель кредитів'!A:Z,30,FALSE),\"\")","v":""},0,{"$error":"#VALUE!"},null,null,null,null,null,{"$f":"VLOOKUP(C473,Hidden_Словник!$A$2:C$81,3,FALSE)","v":{"$error":"#N/A"}},0,{"$f":"VLOOKUP(F473,Hidden_Словник!$W$2:$X$13,2,FALSE)","v":{"$error":"#N/A"}},{"$f":"#REF!","v":{"$error":"#REF!"}},{"$error":"#N/A"}]
[null,"",{"$f":"IFERROR(VLOOKUP(A474,'1.Портфель кредитів'!A:Z,3,FALSE),\"\")","v":""},{"$f":"IFERROR(VLOOKUP(A474,'1.Портфель кредитів'!A:Z,7,FALSE),\"\")","v":""},{"$f":"IFERROR(VLOOKUP(A474,'1.Портфель кредитів'!A:Z,14,FALSE),\"\")","v":""},null,null,null,null,null,null,null,null,{"$f":"IFERROR(VLOOKUP(A474,'1.Портфель кредитів'!A:Z,30,FALSE),\"\")","v":""},0,{"$error":"#VALUE!"},null,null,null,null,null,{"$f":"VLOOKUP(C474,Hidden_Словник!$A$2:C$81,3,FALSE)","v":{"$error":"#N/A"}},0,{"$f":"VLOOKUP(F474,Hidden_Словник!$W$2:$X$13,2,FALSE)","v":{"$error":"#N/A"}},{"$f":"#REF!","v":{"$error":"#REF!"}},{"$error":"#N/A"}]
[null,"",{"$f":"IFERROR(VLOOKUP(A475,'1.Портфель кредитів'!A:Z,3,FALSE),\"\")","v":""},{"$f":"IFERROR(VLOOKUP(A475,'1.Портфель кредитів'!A:Z,7,FALSE),\"\")","v":""},{"$f":"IFERROR(VLOOKUP(A475,'1.Портфель кредитів'!A:Z,14,FALSE),\"\")","v":""},null,null,null,null,null,null,null,null,{"$f":"IFERROR(VLOOKUP(A475,'1.Портфель кредитів'!A:Z,30,FALSE),\"\")","v":""},0,{"$error":"#VALUE!"},null,null,null,null,null,{"$f":"VLOOKUP(C475,Hidden_Словник!$A$2:C$81,3,FALSE)","v":{"$error":"#N/A"}},0,{"$f":"VLOOKUP(F475,Hidden_Словник!$W$2:$X$13,2,FALSE)","v":{"$error":"#N/A"}},{"$f":"#REF!","v":{"$error":"#REF!"}},{"$error":"#N/A"}]
[null,"",{"$f":"IFERROR(VLOOKUP(A476,'1.Портфель кредитів'!A:Z,3,FALSE),\"\")","v":""},{"$f":"IFERROR(VLOOKUP(A476,'1.Портфель кредитів'!A:Z,7,FALSE),\"\")","v":""},{"$f":"IFERROR(VLOOKUP(A476,'1.Портфель кредитів'!A:Z,14,FALSE),\"\")","v":""},null,null,null,null,null,null,null,null,{"$f":"IFERROR(VLOOKUP(A476,'1.Портфель кредитів'!A:Z,30,FALSE),\"\")","v":""},0,{"$error":"#VALUE!"},null,null,null,null,null,{"$f":"VLOOKUP(C476,Hidden_Словник!$A$2:C$81,3,FALSE)","v":{"$error":"#N/A"}},0,{"$f":"VLOOKUP(F476,Hidden_Словник!$W$2:$X$13,2,FALSE)","v":{"$error":"#N/A"}},{"$f":"#REF!","v":{"$error":"#REF!"}},{"$error":"#N/A"}]
[null,"",{"$f":"IFERROR(VLOOKUP(A477,'1.Портфель кредитів'!A:Z,3,FALSE),\"\")","v":""},{"$f":"IFERROR(VLOOKUP(A477,'1.Портфель кредитів'!A:Z,7,FALSE),\"\")","v":""},{"$f":"IFERROR(VLOOKUP(A477,'1.Портфель кредитів'!A:Z,14,FALSE),\"\")","v":""},null,null,null,null,null,null,null,null,{"$f":"IFERROR(VLOOKUP(A477,'1.Портфель кредитів'!A:Z,30,FALSE),\"\")","v":""},0,{"$error":"#VALUE!"},null,null,null,null,null,{"$f":"VLOOKUP(C477,Hidden_Словник!$A$2:C$81,3,FALSE)","v":{"$error":"#N/A"}},0,{"$f":"VLOOKUP(F477,Hidden_Словник!$W$2:$X$13,2,FALSE)","v":{"$error":"#N/A"}},{"$f":"#REF!","v":{"$error":"#REF!"}},{"$error":"#N/A"}]
[null,"",{"$f":"IFERROR(VLOOKUP(A478,'1.Портфель кредитів'!A:Z,3,FALSE),\"\")","v":""},{"$f":"IFERROR(VLOOKUP(A478,'1.Портфель кредитів'!A:Z,7,FALSE),\"\")","v":""},{"$f":"IFERROR(VLOOKUP(A478,'1.Портфель кредитів'!A:Z,14,FALSE),\"\")","v":""},null,null,null,null,null,null,null,null,{"$f":"IFERROR(VLOOKUP(A478,'1.Портфель кредитів'!A:Z,30,FALSE),\"\")","v":""},0,{"$error":"#VALUE!"},null,null,null,null,null,{"$f":"VLOOKUP(C478,Hidden_Словник!$A$2:C$81,3,FALSE)","v":{"$error":"#N/A"}},0,{"$f":"VLOOKUP(F478,Hidden_Словник!$W$2:$X$13,2,FALSE)","v":{"$error":"#N/A"}},{"$f":"#REF!","v":{"$error":"#REF!"}},{"$error":"#N/A"}]
[null,"",{"$f":"IFERROR(VLOOKUP(A479,'1.Портфель кредитів'!A:Z,3,FALSE),\"\")","v":""},{"$f":"IFERROR(VLOOKUP(A479,'1.Портфель кредитів'!A:Z,7,FALSE),\"\")","v":""},{"$f":"IFERROR(VLOOKUP(A479,'1.Портфель кредитів'!A:Z,14,FALSE),\"\")","v":""},null,null,null,null,null,null,null,null,{"$f":"IFERROR(VLOOKUP(A479,'1.Портфель кредитів'!A:Z,30,FALSE),\"\")","v":""},0,{"$error":"#VALUE!"},null,null,null,null,null,{"$f":"VLOOKUP(C479,Hidden_Словник!$A$2:C$81,3,FALSE)","v":{"$error":"#N/A"}},0,{"$f":"VLOOKUP(F479,Hidden_Словник!$W$2:$X$13,2,FALSE)","v":{"$error":"#N/A"}},{"$f":"#REF!","v":{"$error":"#REF!"}},{"$error":"#N/A"}]
[null,"",{"$f":"IFERROR(VLOOKUP(A480,'1.Портфель кредитів'!A:Z,3,FALSE),\"\")","v":""},{"$f":"IFERROR(VLOOKUP(A480,'1.Портфель кредитів'!A:Z,7,FALSE),\"\")","v":""},{"$f":"IFERROR(VLOOKUP(A480,'1.Портфель кредитів'!A:Z,14,FALSE),\"\")","v":""},null,null,null,null,null,null,null,null,{"$f":"IFERROR(VLOOKUP(A480,'1.Портфель кредитів'!A:Z,30,FALSE),\"\")","v":""},0,{"$error":"#VALUE!"},null,null,null,null,null,{"$f":"VLOOKUP(C480,Hidden_Словник!$A$2:C$81,3,FALSE)","v":{"$error":"#N/A"}},0,{"$f":"VLOOKUP(F480,Hidden_Словник!$W$2:$X$13,2,FALSE)","v":{"$error":"#N/A"}},{"$f":"#REF!","v":{"$error":"#REF!"}},{"$error":"#N/A"}]
[null,"",{"$f":"IFERROR(VLOOKUP(A481,'1.Портфель кредитів'!A:Z,3,FALSE),\"\")","v":""},{"$f":"IFERROR(VLOOKUP(A481,'1.Портфель кредитів'!A:Z,7,FALSE),\"\")","v":""},{"$f":"IFERROR(VLOOKUP(A481,'1.Портфель кредитів'!A:Z,14,FALSE),\"\")","v":""},null,null,null,null,null,null,null,null,{"$f":"IFERROR(VLOOKUP(A481,'1.Портфель кредитів'!A:Z,30,FALSE),\"\")","v":""},0,{"$error":"#VALUE!"},null,null,null,null,null,{"$f":"VLOOKUP(C481,Hidden_Словник!$A$2:C$81,3,FALSE)","v":{"$error":"#N/A"}},0,{"$f":"VLOOKUP(F481,Hidden_Словник!$W$2:$X$13,2,FALSE)","v":{"$error":"#N/A"}},{"$f":"#REF!","v":{"$error":"#REF!"}},{"$error":"#N/A"}]
[null,"",{"$f":"IFERROR(VLOOKUP(A482,'1.Портфель кредитів'!A:Z,3,FALSE),\"\")","v":""},{"$f":"IFERROR(VLOOKUP(A482,'1.Портфель кредитів'!A:Z,7,FALSE),\"\")","v":""},{"$f":"IFERROR(VLOOKUP(A482,'1.Портфель кредитів'!A:Z,14,FALSE),\"\")","v":""},null,null,null,null,null,null,null,null,{"$f":"IFERROR(VLOOKUP(A482,'1.Портфель кредитів'!A:Z,30,FALSE),\"\")","v":""},0,{"$error":"#VALUE!"},null,null,null,null,null,{"$f":"VLOOKUP(C482,Hidden_Словник!$A$2:C$81,3,FALSE)","v":{"$error":"#N/A"}},0,{"$f":"VLOOKUP(F482,Hidden_Словник!$W$2:$X$13,2,FALSE)","v":{"$error":"#N/A"}},{"$f":"#REF!","v":{"$error":"#REF!"}},{"$error":"#N/A"}]
[null,"",{"$f":"IFERROR(VLOOKUP(A483,'1.Портфель кредитів'!A:Z,3,FALSE),\"\")","v":""},{"$f":"IFERROR(VLOOKUP(A483,'1.Портфель кредитів'!A:Z,7,FALSE),\"\")","v":""},{"$f":"IFERROR(VLOOKUP(A483,'1.Портфель кредитів'!A:Z,14,FALSE),\"\")","v":""},null,null,null,null,null,null,null,null,{"$f":"IFERROR(VLOOKUP(A483,'1.Портфель кредитів'!A:Z,30,FALSE),\"\")","v":""},0,{"$error":"#VALUE!"},null,null,null,null,null,{"$f":"VLOOKUP(C483,Hidden_Словник!$A$2:C$81,3,FALSE)","v":{"$error":"#N/A"}},0,{"$f":"VLOOKUP(F483,Hidden_Словник!$W$2:$X$13,2,FALSE)","v":{"$error":"#N/A"}},{"$f":"#REF!","v":{"$error":"#REF!"}},{"$error":"#N/A"}]
[null,"",{"$f":"IFERROR(VLOOKUP(A484,'1.Портфель кредитів'!A:Z,3,FALSE),\"\")","v":""},{"$f":"IFERROR(VLOOKUP(A484,'1.Портфель кредитів'!A:Z,7,FALSE),\"\")","v":""},{"$f":"IFERROR(VLOOKUP(A484,'1.Портфель кредитів'!A:Z,14,FALSE),\"\")","v":""},null,null,null,null,null,null,null,null,{"$f":"IFERROR(VLOOKUP(A484,'1.Портфель кредитів'!A:Z,30,FALSE),\"\")","v":""},0,{"$error":"#VALUE!"},null,null,null,null,null,{"$f":"VLOOKUP(C484,Hidden_Словник!$A$2:C$81,3,FALSE)","v":{"$error":"#N/A"}},0,{"$f":"VLOOKUP(F484,Hidden_Словник!$W$2:$X$13,2,FALSE)","v":{"$error":"#N/A"}},{"$f":"#REF!","v":{"$error":"#REF!"}},{"$error":"#N/A"}]
[null,"",{"$f":"IFERROR(VLOOKUP(A485,'1.Портфель кредитів'!A:Z,3,FALSE),\"\")","v":""},{"$f":"IFERROR(VLOOKUP(A485,'1.Портфель кредитів'!A:Z,7,FALSE),\"\")","v":""},{"$f":"IFERROR(VLOOKUP(A485,'1.Портфель кредитів'!A:Z,14,FALSE),\"\")","v":""},null,null,null,null,null,null,null,null,{"$f":"IFERROR(VLOOKUP(A485,'1.Портфель кредитів'!A:Z,30,FALSE),\"\")","v":""},0,{"$error":"#VALUE!"},null,null,null,null,null,{"$f":"VLOOKUP(C485,Hidden_Словник!$A$2:C$81,3,FALSE)","v":{"$error":"#N/A"}},0,{"$f":"VLOOKUP(F485,Hidden_Словник!$W$2:$X$13,2,FALSE)","v":{"$error":"#N/A"}},{"$f":"#REF!","v":{"$error":"#REF!"}},{"$error":"#N/A"}]
[null,"",{"$f":"IFERROR(VLOOKUP(A486,'1.Портфель кредитів'!A:Z,3,FALSE),\"\")","v":""},{"$f":"IFERROR(VLOOKUP(A486,'1.Портфель кредитів'!A:Z,7,FALSE),\"\")","v":""},{"$f":"IFERROR(VLOOKUP(A486,'1.Портфель кредитів'!A:Z,14,FALSE),\"\")","v":""},null,null,null,null,null,null,null,null,{"$f":"IFERROR(VLOOKUP(A486,'1.Портфель кредитів'!A:Z,30,FALSE),\"\")","v":""},0,{"$f":"N486/O486","v":{"$error":"#VALUE!"}},null,null,null,null,null,{"$f":"VLOOKUP(C486,Hidden_Словник!$A$2:C$81,3,FALSE)","v":{"$error":"#N/A"}},0,{"$f":"VLOOKUP(F486,Hidden_Словник!$W$2:$X$13,2,FALSE)","v":{"$error":"#N/A"}},{"$f":"#REF!","v":{"$error":"#REF!"}},{"$error":"#N/A"}]
[null,"",{"$f":"IFERROR(VLOOKUP(A487,'1.Портфель кредитів'!A:Z,3,FALSE),\"\")","v":""},{"$f":"IFERROR(VLOOKUP(A487,'1.Портфель кредитів'!A:Z,7,FALSE),\"\")","v":""},{"$f":"IFERROR(VLOOKUP(A487,'1.Портфель кредитів'!A:Z,14,FALSE),\"\")","v":""},null,null,null,null,null,null,null,null,{"$f":"IFERROR(VLOOKUP(A487,'1.Портфель кредитів'!A:Z,30,FALSE),\"\")","v":""},0,{"$error":"#VALUE!"},null,null,null,null,null,{"$f":"VLOOKUP(C487,Hidden_Словник!$A$2:C$81,3,FALSE)","v":{"$error":"#N/A"}},0,{"$f":"VLOOKUP(F487,Hidden_Словник!$W$2:$X$13,2,FALSE)","v":{"$error":"#N/A"}},{"$f":"#REF!","v":{"$error":"#REF!"}},{"$error":"#N/A"}]
[null,"",{"$f":"IFERROR(VLOOKUP(A488,'1.Портфель кредитів'!A:Z,3,FALSE),\"\")","v":""},{"$f":"IFERROR(VLOOKUP(A488,'1.Портфель кредитів'!A:Z,7,FALSE),\"\")","v":""},{"$f":"IFERROR(VLOOKUP(A488,'1.Портфель кредитів'!A:Z,14,FALSE),\"\")","v":""},null,null,null,null,null,null,null,null,{"$f":"IFERROR(VLOOKUP(A488,'1.Портфель кредитів'!A:Z,30,FALSE),\"\")","v":""},0,{"$error":"#VALUE!"},null,null,null,null,null,{"$f":"VLOOKUP(C488,Hidden_Словник!$A$2:C$81,3,FALSE)","v":{"$error":"#N/A"}},0,{"$f":"VLOOKUP(F488,Hidden_Словник!$W$2:$X$13,2,FALSE)","v":{"$error":"#N/A"}},{"$f":"#REF!","v":{"$error":"#REF!"}},{"$error":"#N/A"}]
[null,"",{"$f":"IFERROR(VLOOKUP(A489,'1.Портфель кредитів'!A:Z,3,FALSE),\"\")","v":""},{"$f":"IFERROR(VLOOKUP(A489,'1.Портфель кредитів'!A:Z,7,FALSE),\"\")","v":""},{"$f":"IFERROR(VLOOKUP(A489,'1.Портфель кредитів'!A:Z,14,FALSE),\"\")","v":""},null,null,null,null,null,null,null,null,{"$f":"IFERROR(VLOOKUP(A489,'1.Портфель кредитів'!A:Z,30,FALSE),\"\")","v":""},0,{"$error":"#VALUE!"},null,null,null,null,null,{"$f":"VLOOKUP(C489,Hidden_Словник!$A$2:C$81,3,FALSE)","v":{"$error":"#N/A"}},0,{"$f":"VLOOKUP(F489,Hidden_Словник!$W$2:$X$13,2,FALSE)","v":{"$error":"#N/A"}},{"$f":"#REF!","v":{"$error":"#REF!"}},{"$error":"#N/A"}]
[null,"",{"$f":"IFERROR(VLOOKUP(A490,'1.Портфель кредитів'!A:Z,3,FALSE),\"\")","v":""},{"$f":"IFERROR(VLOOKUP(A490,'1.Портфель кредитів'!A:Z,7,FALSE),\"\")","v":""},{"$f":"IFERROR(VLOOKUP(A490,'1.Портфель кредитів'!A:Z,14,FALSE),\"\")","v":""},null,null,null,null,null,null,null,null,{"$f":"IFERROR(VLOOKUP(A490,'1.Портфель кредитів'!A:Z,30,FALSE),\"\")","v":""},0,{"$error":"#VALUE!"},null,null,null,null,null,{"$f":"VLOOKUP(C490,Hidden_Словник!$A$2:C$81,3,FALSE)","v":{"$error":"#N/A"}},0,{"$f":"VLOOKUP(F490,Hidden_Словник!$W$2:$X$13,2,FALSE)","v":{"$error":"#N/A"}},{"$f":"#REF!","v":{"$error":"#REF!"}},{"$error":"#N/A"}]
[null,"",{"$f":"IFERROR(VLOOKUP(A491,'1.Портфель кредитів'!A:Z,3,FALSE),\"\")","v":""},{"$f":"IFERROR(VLOOKUP(A491,'1.Портфель кредитів'!A:Z,7,FALSE),\"\")","v":""},{"$f":"IFERROR(VLOOKUP(A491,'1.Портфель кредитів'!A:Z,14,FALSE),\"\")","v":""},null,null,null,null,null,null,null,null,{"$f":"IFERROR(VLOOKUP(A491,'1.Портфель кредитів'!A:Z,30,FALSE),\"\")","v":""},0,{"$error":"#VALUE!"},null,null,null,null,null,{"$f":"VLOOKUP(C491,Hidden_Словник!$A$2:C$81,3,FALSE)","v":{"$error":"#N/A"}},0,{"$f":"VLOOKUP(F491,Hidden_Словник!$W$2:$X$13,2,FALSE)","v":{"$error":"#N/A"}},{"$f":"#REF!","v":{"$error":"#REF!"}},{"$error":"#N/A"}]
[null,"",{"$f":"IFERROR(VLOOKUP(A492,'1.Портфель кредитів'!A:Z,3,FALSE),\"\")","v":""},{"$f":"IFERROR(VLOOKUP(A492,'1.Портфель кредитів'!A:Z,7,FALSE),\"\")","v":""},{"$f":"IFERROR(VLOOKUP(A492,'1.Портфель кредитів'!A:Z,14,FALSE),\"\")","v":""},null,null,null,null,null,null,null,null,{"$f":"IFERROR(VLOOKUP(A492,'1.Портфель кредитів'!A:Z,30,FALSE),\"\")","v":""},0,{"$error":"#VALUE!"},null,null,null,null,null,{"$f":"VLOOKUP(C492,Hidden_Словник!$A$2:C$81,3,FALSE)","v":{"$error":"#N/A"}},0,{"$f":"VLOOKUP(F492,Hidden_Словник!$W$2:$X$13,2,FALSE)","v":{"$error":"#N/A"}},{"$f":"#REF!","v":{"$error":"#REF!"}},{"$error":"#N/A"}]
[null,"",{"$f":"IFERROR(VLOOKUP(A493,'1.Портфель кредитів'!A:Z,3,FALSE),\"\")","v":""},{"$f":"IFERROR(VLOOKUP(A493,'1.Портфель кредитів'!A:Z,7,FALSE),\"\")","v":""},{"$f":"IFERROR(VLOOKUP(A493,'1.Портфель кредитів'!A:Z,14,FALSE),\"\")","v":""},null,null,null,null,null,null,null,null,{"$f":"IFERROR(VLOOKUP(A493,'1.Портфель кредитів'!A:Z,30,FALSE),\"\")","v":""},0,{"$error":"#VALUE!"},null,null,null,null,null,{"$f":"VLOOKUP(C493,Hidden_Словник!$A$2:C$81,3,FALSE)","v":{"$error":"#N/A"}},0,{"$f":"VLOOKUP(F493,Hidden_Словник!$W$2:$X$13,2,FALSE)","v":{"$error":"#N/A"}},{"$f":"#REF!","v":{"$error":"#REF!"}},{"$error":"#N/A"}]
[null,"",{"$f":"IFERROR(VLOOKUP(A494,'1.Портфель кредитів'!A:Z,3,FALSE),\"\")","v":""},{"$f":"IFERROR(VLOOKUP(A494,'1.Портфель кредитів'!A:Z,7,FALSE),\"\")","v":""},{"$f":"IFERROR(VLOOKUP(A494,'1.Портфель кредитів'!A:Z,14,FALSE),\"\")","v":""},null,null,null,null,null,null,null,null,{"$f":"IFERROR(VLOOKUP(A494,'1.Портфель кредитів'!A:Z,30,FALSE),\"\")","v":""},0,{"$error":"#VALUE!"},null,null,null,null,null,{"$f":"VLOOKUP(C494,Hidden_Словник!$A$2:C$81,3,FALSE)","v":{"$error":"#N/A"}},0,{"$f":"VLOOKUP(F494,Hidden_Словник!$W$2:$X$13,2,FALSE)","v":{"$error":"#N/A"}},{"$f":"#REF!","v":{"$error":"#REF!"}},{"$error":"#N/A"}]
[null,"",{"$f":"IFERROR(VLOOKUP(A495,'1.Портфель кредитів'!A:Z,3,FALSE),\"\")","v":""},{"$f":"IFERROR(VLOOKUP(A495,'1.Портфель кредитів'!A:Z,7,FALSE),\"\")","v":""},{"$f":"IFERROR(VLOOKUP(A495,'1.Портфель кредитів'!A:Z,14,FALSE),\"\")","v":""},null,null,null,null,null,null,null,null,{"$f":"IFERROR(VLOOKUP(A495,'1.Портфель кредитів'!A:Z,30,FALSE),\"\")","v":""},0,{"$error":"#VALUE!"},null,null,null,null,null,{"$f":"VLOOKUP(C495,Hidden_Словник!$A$2:C$81,3,FALSE)","v":{"$error":"#N/A"}},0,{"$f":"VLOOKUP(F495,Hidden_Словник!$W$2:$X$13,2,FALSE)","v":{"$error":"#N/A"}},{"$f":"#REF!","v":{"$error":"#REF!"}},{"$error":"#N/A"}]
[null,"",{"$f":"IFERROR(VLOOKUP(A496,'1.Портфель кредитів'!A:Z,3,FALSE),\"\")","v":""},{"$f":"IFERROR(VLOOKUP(A496,'1.Портфель кредитів'!A:Z,7,FALSE),\"\")","v":""},{"$f":"IFERROR(VLOOKUP(A496,'1.Портфель кредитів'!A:Z,14,FALSE),\"\")","v":""},null,null,null,null,null,null,null,null,{"$f":"IFERROR(VLOOKUP(A496,'1.Портфель кредитів'!A:Z,30,FALSE),\"\")","v":""},0,{"$error":"#VALUE!"},null,null,null,null,null,{"$f":"VLOOKUP(C496,Hidden_Словник!$A$2:C$81,3,FALSE)","v":{"$error":"#N/A"}},0,{"$f":"VLOOKUP(F496,Hidden_Словник!$W$2:$X$13,2,FALSE)","v":{"$error":"#N/A"}},{"$f":"#REF!","v":{"$error":"#REF!"}},{"$error":"#N/A"}]
[null,"",{"$f":"IFERROR(VLOOKUP(A497,'1.Портфель кредитів'!A:Z,3,FALSE),\"\")","v":""},{"$f":"IFERROR(VLOOKUP(A497,'1.Портфель кредитів'!A:Z,7,FALSE),\"\")","v":""},{"$f":"IFERROR(VLOOKUP(A497,'1.Портфель кредитів'!A:Z,14,FALSE),\"\")","v":""},null,null,null,null,null,null,null,null,{"$f":"IFERROR(VLOOKUP(A497,'1.Портфель кредитів'!A:Z,30,FALSE),\"\")","v":""},0,{"$error":"#VALUE!"},null,null,null,null,null,{"$f":"VLOOKUP(C497,Hidden_Словник!$A$2:C$81,3,FALSE)","v":{"$error":"#N/A"}},0,{"$f":"VLOOKUP(F497,Hidden_Словник!$W$2:$X$13,2,FALSE)","v":{"$error":"#N/A"}},{"$f":"#REF!","v":{"$error":"#REF!"}},{"$error":"#N/A"}]
[null,"",{"$f":"IFERROR(VLOOKUP(A498,'1.Портфель кредитів'!A:Z,3,FALSE),\"\")","v":""},{"$f":"IFERROR(VLOOKUP(A498,'1.Портфель кредитів'!A:Z,7,FALSE),\"\")","v":""},{"$f":"IFERROR(VLOOKUP(A498,'1.Портфель кредитів'!A:Z,14,FALSE),\"\")","v":""},null,null,null,null,null,null,null,null,{"$f":"IFERROR(VLOOKUP(A498,'1.Портфель кредитів'!A:Z,30,FALSE),\"\")","v":""},0,{"$error":"#VALUE!"},null,null,null,null,null,{"$f":"VLOOKUP(C498,Hidden_Словник!$A$2:C$81,3,FALSE)","v":{"$error":"#N/A"}},0,{"$f":"VLOOKUP(F498,Hidden_Словник!$W$2:$X$13,2,FALSE)","v":{"$error":"#N/A"}},{"$f":"#REF!","v":{"$error":"#REF!"}},{"$error":"#N/A"}]
[null,"",{"$f":"IFERROR(VLOOKUP(A499,'1.Портфель кредитів'!A:Z,3,FALSE),\"\")","v":""},{"$f":"IFERROR(VLOOKUP(A499,'1.Портфель кредитів'!A:Z,7,FALSE),\"\")","v":""},{"$f":"IFERROR(VLOOKUP(A499,'1.Портфель кредитів'!A:Z,14,FALSE),\"\")","v":""},null,null,null,null,null,null,null,null,{"$f":"IFERROR(VLOOKUP(A499,'1.Портфель кредитів'!A:Z,30,FALSE),\"\")","v":""},0,{"$error":"#VALUE!"},null,null,null,null,null,{"$f":"VLOOKUP(C499,Hidden_Словник!$A$2:C$81,3,FALSE)","v":{"$error":"#N/A"}},0,{"$f":"VLOOKUP(F499,Hidden_Словник!$W$2:$X$13,2,FALSE)","v":{"$error":"#N/A"}},{"$f":"#REF!","v":{"$error":"#REF!"}},{"$error":"#N/A"}]
[null,"",{"$f":"IFERROR(VLOOKUP(A500,'1.Портфель кредитів'!A:Z,3,FALSE),\"\")","v":""},{"$f":"IFERROR(VLOOKUP(A500,'1.Портфель кредитів'!A:Z,7,FALSE),\"\")","v":""},{"$f":"IFERROR(VLOOKUP(A500,'1.Портфель кредитів'!A:Z,14,FALSE),\"\")","v":""},null,null,null,null,null,null,null,null,{"$f":"IFERROR(VLOOKUP(A500,'1.Портфель кредитів'!A:Z,30,FALSE),\"\")","v":""},0,{"$error":"#VALUE!"},null,null,null,null,null,{"$f":"VLOOKUP(C500,Hidden_Словник!$A$2:C$81,3,FALSE)","v":{"$error":"#N/A"}},0,{"$f":"VLOOKUP(F500,Hidden_Словник!$W$2:$X$13,2,FALSE)","v":{"$error":"#N/A"}},{"$f":"#REF!","v":{"$error":"#REF!"}},{"$error":"#N/A"}]
[null,"",{"$f":"IFERROR(VLOOKUP(A501,'1.Портфель кредитів'!A:Z,3,FALSE),\"\")","v":""},{"$f":"IFERROR(VLOOKUP(A501,'1.Портфель кредитів'!A:Z,7,FALSE),\"\")","v":""},{"$f":"IFERROR(VLOOKUP(A501,'1.Портфель кредитів'!A:Z,14,FALSE),\"\")","v":""},null,null,null,null,null,null,null,null,{"$f":"IFERROR(VLOOKUP(A501,'1.Портфель кредитів'!A:Z,30,FALSE),\"\")","v":""},0,{"$error":"#VALUE!"},null,null,null,null,null,{"$f":"VLOOKUP(C501,Hidden_Словник!$A$2:C$81,3,FALSE)","v":{"$error":"#N/A"}},0,{"$f":"VLOOKUP(F501,Hidden_Словник!$W$2:$X$13,2,FALSE)","v":{"$error":"#N/A"}},{"$f":"#REF!","v":{"$error":"#REF!"}},{"$error":"#N/A"}]
[null,"",{"$f":"IFERROR(VLOOKUP(A502,'1.Портфель кредитів'!A:Z,3,FALSE),\"\")","v":""},{"$f":"IFERROR(VLOOKUP(A502,'1.Портфель кредитів'!A:Z,7,FALSE),\"\")","v":""},{"$f":"IFERROR(VLOOKUP(A502,'1.Портфель кредитів'!A:Z,14,FALSE),\"\")","v":""},null,null,null,null,null,null,null,null,{"$f":"IFERROR(VLOOKUP(A502,'1.Портфель кредитів'!A:Z,30,FALSE),\"\")","v":""},0,{"$error":"#VALUE!"},null,null,null,null,null,{"$f":"VLOOKUP(C502,Hidden_Словник!$A$2:C$81,3,FALSE)","v":{"$error":"#N/A"}},0,{"$f":"VLOOKUP(F502,Hidden_Словник!$W$2:$X$13,2,FALSE)","v":{"$error":"#N/A"}},{"$f":"#REF!","v":{"$error":"#REF!"}},{"$error":"#N/A"}]
[null,"",{"$f":"IFERROR(VLOOKUP(A503,'1.Портфель кредитів'!A:Z,3,FALSE),\"\")","v":""},{"$f":"IFERROR(VLOOKUP(A503,'1.Портфель кредитів'!A:Z,7,FALSE),\"\")","v":""},{"$f":"IFERROR(VLOOKUP(A503,'1.Портфель кредитів'!A:Z,14,FALSE),\"\")","v":""},null,null,null,null,null,null,null,null,{"$f":"IFERROR(VLOOKUP(A503,'1.Портфель кредитів'!A:Z,30,FALSE),\"\")","v":""},0,{"$error":"#VALUE!"},null,null,null,null,null,{"$f":"VLOOKUP(C503,Hidden_Словник!$A$2:C$81,3,FALSE)","v":{"$error":"#N/A"}},0,{"$f":"VLOOKUP(F503,Hidden_Словник!$W$2:$X$13,2,FALSE)","v":{"$error":"#N/A"}},{"$f":"#REF!","v":{"$error":"#REF!"}},{"$error":"#N/A"}]
[null,"",{"$f":"IFERROR(VLOOKUP(A504,'1.Портфель кредитів'!A:Z,3,FALSE),\"\")","v":""},{"$f":"IFERROR(VLOOKUP(A504,'1.Портфель кредитів'!A:Z,7,FALSE),\"\")","v":""},{"$f":"IFERROR(VLOOKUP(A504,'1.Портфель кредитів'!A:Z,14,FALSE),\"\")","v":""},null,null,null,null,null,null,null,null,{"$f":"IFERROR(VLOOKUP(A504,'1.Портфель кредитів'!A:Z,30,FALSE),\"\")","v":""},0,{"$error":"#VALUE!"},null,null,null,null,null,{"$f":"VLOOKUP(C504,Hidden_Словник!$A$2:C$81,3,FALSE)","v":{"$error":"#N/A"}},0,{"$f":"VLOOKUP(F504,Hidden_Словник!$W$2:$X$13,2,FALSE)","v":{"$error":"#N/A"}},{"$f":"#REF!","v":{"$error":"#REF!"}},{"$error":"#N/A"}]
[null,"",{"$f":"IFERROR(VLOOKUP(A505,'1.Портфель кредитів'!A:Z,3,FALSE),\"\")","v":""},{"$f":"IFERROR(VLOOKUP(A505,'1.Портфель кредитів'!A:Z,7,FALSE),\"\")","v":""},{"$f":"IFERROR(VLOOKUP(A505,'1.Портфель кредитів'!A:Z,14,FALSE),\"\")","v":""},null,null,null,null,null,null,null,null,{"$f":"IFERROR(VLOOKUP(A505,'1.Портфель кредитів'!A:Z,30,FALSE),\"\")","v":""},0,{"$error":"#VALUE!"},null,null,null,null,null,{"$f":"VLOOKUP(C505,Hidden_Словник!$A$2:C$81,3,FALSE)","v":{"$error":"#N/A"}},0,{"$f":"VLOOKUP(F505,Hidden_Словник!$W$2:$X$13,2,FALSE)","v":{"$error":"#N/A"}},{"$f":"#REF!","v":{"$error":"#REF!"}},{"$error":"#N/A"}]
[null,"",{"$f":"IFERROR(VLOOKUP(A506,'1.Портфель кредитів'!A:Z,3,FALSE),\"\")","v":""},{"$f":"IFERROR(VLOOKUP(A506,'1.Портфель кредитів'!A:Z,7,FALSE),\"\")","v":""},{"$f":"IFERROR(VLOOKUP(A506,'1.Портфель кредитів'!A:Z,14,FALSE),\"\")","v":""},null,null,null,null,null,null,null,null,{"$f":"IFERROR(VLOOKUP(A506,'1.Портфель кредитів'!A:Z,30,FALSE),\"\")","v":""},0,{"$error":"#VALUE!"},null,null,null,null,null,{"$f":"VLOOKUP(C506,Hidden_Словник!$A$2:C$81,3,FALSE)","v":{"$error":"#N/A"}},0,{"$f":"VLOOKUP(F506,Hidden_Словник!$W$2:$X$13,2,FALSE)","v":{"$error":"#N/A"}},{"$f":"#REF!","v":{"$error":"#REF!"}},{"$error":"#N/A"}]
[null,"",{"$f":"IFERROR(VLOOKUP(A507,'1.Портфель кредитів'!A:Z,3,FALSE),\"\")","v":""},{"$f":"IFERROR(VLOOKUP(A507,'1.Портфель кредитів'!A:Z,7,FALSE),\"\")","v":""},{"$f":"IFERROR(VLOOKUP(A507,'1.Портфель кредитів'!A:Z,14,FALSE),\"\")","v":""},null,null,null,null,null,null,null,null,{"$f":"IFERROR(VLOOKUP(A507,'1.Портфель кредитів'!A:Z,30,FALSE),\"\")","v":""},0,{"$error":"#VALUE!"},null,null,null,null,null,{"$f":"VLOOKUP(C507,Hidden_Словник!$A$2:C$81,3,FALSE)","v":{"$error":"#N/A"}},0,{"$f":"VLOOKUP(F507,Hidden_Словник!$W$2:$X$13,2,FALSE)","v":{"$error":"#N/A"}},{"$f":"#REF!","v":{"$error":"#REF!"}},{"$error":"#N/A"}]
[null,"",{"$f":"IFERROR(VLOOKUP(A508,'1.Портфель кредитів'!A:Z,3,FALSE),\"\")","v":""},{"$f":"IFERROR(VLOOKUP(A508,'1.Портфель кредитів'!A:Z,7,FALSE),\"\")","v":""},{"$f":"IFERROR(VLOOKUP(A508,'1.Портфель кредитів'!A:Z,14,FALSE),\"\")","v":""},null,null,null,null,null,null,null,null,{"$f":"IFERROR(VLOOKUP(A508,'1.Портфель кредитів'!A:Z,30,FALSE),\"\")","v":""},0,{"$error":"#VALUE!"},null,null,null,null,null,{"$f":"VLOOKUP(C508,Hidden_Словник!$A$2:C$81,3,FALSE)","v":{"$error":"#N/A"}},0,{"$f":"VLOOKUP(F508,Hidden_Словник!$W$2:$X$13,2,FALSE)","v":{"$error":"#N/A"}},{"$f":"#REF!","v":{"$error":"#REF!"}},{"$error":"#N/A"}]
[null,"",{"$f":"IFERROR(VLOOKUP(A509,'1.Портфель кредитів'!A:Z,3,FALSE),\"\")","v":""},{"$f":"IFERROR(VLOOKUP(A509,'1.Портфель кредитів'!A:Z,7,FALSE),\"\")","v":""},{"$f":"IFERROR(VLOOKUP(A509,'1.Портфель кредитів'!A:Z,14,FALSE),\"\")","v":""},null,null,null,null,null,null,null,null,{"$f":"IFERROR(VLOOKUP(A509,'1.Портфель кредитів'!A:Z,30,FALSE),\"\")","v":""},0,{"$error":"#VALUE!"},null,null,null,null,null,{"$f":"VLOOKUP(C509,Hidden_Словник!$A$2:C$81,3,FALSE)","v":{"$error":"#N/A"}},0,{"$f":"VLOOKUP(F509,Hidden_Словник!$W$2:$X$13,2,FALSE)","v":{"$error":"#N/A"}},{"$f":"#REF!","v":{"$error":"#REF!"}},{"$error":"#N/A"}]
[null,{"$f":"IFERROR(Z510,\"\")","v":""},{"$f":"IFERROR(VLOOKUP(A510,'1.Портфель кредитів'!A:Z,3,FALSE),\"\")","v":""},{"$f":"IFERROR(VLOOKUP(A510,'1.Портфель кредитів'!A:Z,7,FALSE),\"\")","v":""},{"$f":"IFERROR(VLOOKUP(A510,'1.Портфель кредитів'!A:Z,14,FALSE),\"\")","v":""},null,null,null,null,null,null,null,null,{"$f":"IFERROR(VLOOKUP(A510,'1.Портфель кредитів'!A:Z,30,FALSE),\"\")","v":""},0,{"$error":"#VALUE!"},null,null,null,null,null,{"$f":"VLOOKUP(C510,Hidden_Словник!$A$2:C$81,3,FALSE)","v":{"$error":"#N/A"}},0,{"$f":"VLOOKUP(F510,Hidden_Словник!$W$2:$X$13,2,FALSE)","v":{"$error":"#N/A"}},{"$f":"#REF!","v":{"$error":"#REF!"}},{"$f":"V510&\"_\"&W510&X510&Y510","v":{"$error":"#N/A"}}]
[null,"",{"$f":"IFERROR(VLOOKUP(A511,'1.Портфель кредитів'!A:Z,3,FALSE),\"\")","v":""},{"$f":"IFERROR(VLOOKUP(A511,'1.Портфель кредитів'!A:Z,7,FALSE),\"\")","v":""},{"$f":"IFERROR(VLOOKUP(A511,'1.Портфель кредитів'!A:Z,14,FALSE),\"\")","v":""},null,null,null,null,null,null,null,null,{"$f":"IFERROR(VLOOKUP(A511,'1.Портфель кредитів'!A:Z,30,FALSE),\"\")","v":""},0,{"$error":"#VALUE!"},null,null,null,null,null,{"$f":"VLOOKUP(C511,Hidden_Словник!$A$2:C$81,3,FALSE)","v":{"$error":"#N/A"}},0,{"$f":"VLOOKUP(F511,Hidden_Словник!$W$2:$X$13,2,FALSE)","v":{"$error":"#N/A"}},{"$f":"#REF!","v":{"$error":"#REF!"}},{"$error":"#N/A"}]
[null,"",{"$f":"IFERROR(VLOOKUP(A512,'1.Портфель кредитів'!A:Z,3,FALSE),\"\")","v":""},{"$f":"IFERROR(VLOOKUP(A512,'1.Портфель кредитів'!A:Z,7,FALSE),\"\")","v":""},{"$f":"IFERROR(VLOOKUP(A512,'1.Портфель кредитів'!A:Z,14,FALSE),\"\")","v":""},null,null,null,null,null,null,null,null,{"$f":"IFERROR(VLOOKUP(A512,'1.Портфель кредитів'!A:Z,30,FALSE),\"\")","v":""},0,{"$error":"#VALUE!"},null,null,null,null,null,{"$f":"VLOOKUP(C512,Hidden_Словник!$A$2:C$81,3,FALSE)","v":{"$error":"#N/A"}},0,{"$f":"VLOOKUP(F512,Hidden_Словник!$W$2:$X$13,2,FALSE)","v":{"$error":"#N/A"}},{"$f":"#REF!","v":{"$error":"#REF!"}},{"$error":"#N/A"}]
[null,"",{"$f":"IFERROR(VLOOKUP(A513,'1.Портфель кредитів'!A:Z,3,FALSE),\"\")","v":""},{"$f":"IFERROR(VLOOKUP(A513,'1.Портфель кредитів'!A:Z,7,FALSE),\"\")","v":""},{"$f":"IFERROR(VLOOKUP(A513,'1.Портфель кредитів'!A:Z,14,FALSE),\"\")","v":""},null,null,null,null,null,null,null,null,{"$f":"IFERROR(VLOOKUP(A513,'1.Портфель кредитів'!A:Z,30,FALSE),\"\")","v":""},0,{"$error":"#VALUE!"},null,null,null,null,null,{"$f":"VLOOKUP(C513,Hidden_Словник!$A$2:C$81,3,FALSE)","v":{"$error":"#N/A"}},0,{"$f":"VLOOKUP(F513,Hidden_Словник!$W$2:$X$13,2,FALSE)","v":{"$error":"#N/A"}},{"$f":"#REF!","v":{"$error":"#REF!"}},{"$error":"#N/A"}]
[null,"",{"$f":"IFERROR(VLOOKUP(A514,'1.Портфель кредитів'!A:Z,3,FALSE),\"\")","v":""},{"$f":"IFERROR(VLOOKUP(A514,'1.Портфель кредитів'!A:Z,7,FALSE),\"\")","v":""},{"$f":"IFERROR(VLOOKUP(A514,'1.Портфель кредитів'!A:Z,14,FALSE),\"\")","v":""},null,null,null,null,null,null,null,null,{"$f":"IFERROR(VLOOKUP(A514,'1.Портфель кредитів'!A:Z,30,FALSE),\"\")","v":""},0,{"$error":"#VALUE!"},null,null,null,null,null,{"$f":"VLOOKUP(C514,Hidden_Словник!$A$2:C$81,3,FALSE)","v":{"$error":"#N/A"}},0,{"$f":"VLOOKUP(F514,Hidden_Словник!$W$2:$X$13,2,FALSE)","v":{"$error":"#N/A"}},{"$f":"#REF!","v":{"$error":"#REF!"}},{"$error":"#N/A"}]
[null,"",{"$f":"IFERROR(VLOOKUP(A515,'1.Портфель кредитів'!A:Z,3,FALSE),\"\")","v":""},{"$f":"IFERROR(VLOOKUP(A515,'1.Портфель кредитів'!A:Z,7,FALSE),\"\")","v":""},{"$f":"IFERROR(VLOOKUP(A515,'1.Портфель кредитів'!A:Z,14,FALSE),\"\")","v":""},null,null,null,null,null,null,null,null,{"$f":"IFERROR(VLOOKUP(A515,'1.Портфель кредитів'!A:Z,30,FALSE),\"\")","v":""},0,{"$error":"#VALUE!"},null,null,null,null,null,{"$f":"VLOOKUP(C515,Hidden_Словник!$A$2:C$81,3,FALSE)","v":{"$error":"#N/A"}},0,{"$f":"VLOOKUP(F515,Hidden_Словник!$W$2:$X$13,2,FALSE)","v":{"$error":"#N/A"}},{"$f":"#REF!","v":{"$error":"#REF!"}},{"$error":"#N/A"}]
[null,"",{"$f":"IFERROR(VLOOKUP(A516,'1.Портфель кредитів'!A:Z,3,FALSE),\"\")","v":""},{"$f":"IFERROR(VLOOKUP(A516,'1.Портфель кредитів'!A:Z,7,FALSE),\"\")","v":""},{"$f":"IFERROR(VLOOKUP(A516,'1.Портфель кредитів'!A:Z,14,FALSE),\"\")","v":""},null,null,null,null,null,null,null,null,{"$f":"IFERROR(VLOOKUP(A516,'1.Портфель кредитів'!A:Z,30,FALSE),\"\")","v":""},0,{"$error":"#VALUE!"},null,null,null,null,null,{"$f":"VLOOKUP(C516,Hidden_Словник!$A$2:C$81,3,FALSE)","v":{"$error":"#N/A"}},0,{"$f":"VLOOKUP(F516,Hidden_Словник!$W$2:$X$13,2,FALSE)","v":{"$error":"#N/A"}},{"$f":"#REF!","v":{"$error":"#REF!"}},{"$error":"#N/A"}]
[null,"",{"$f":"IFERROR(VLOOKUP(A517,'1.Портфель кредитів'!A:Z,3,FALSE),\"\")","v":""},{"$f":"IFERROR(VLOOKUP(A517,'1.Портфель кредитів'!A:Z,7,FALSE),\"\")","v":""},{"$f":"IFERROR(VLOOKUP(A517,'1.Портфель кредитів'!A:Z,14,FALSE),\"\")","v":""},null,null,null,null,null,null,null,null,{"$f":"IFERROR(VLOOKUP(A517,'1.Портфель кредитів'!A:Z,30,FALSE),\"\")","v":""},0,{"$error":"#VALUE!"},null,null,null,null,null,{"$f":"VLOOKUP(C517,Hidden_Словник!$A$2:C$81,3,FALSE)","v":{"$error":"#N/A"}},0,{"$f":"VLOOKUP(F517,Hidden_Словник!$W$2:$X$13,2,FALSE)","v":{"$error":"#N/A"}},{"$f":"#REF!","v":{"$error":"#REF!"}},{"$error":"#N/A"}]
[null,"",{"$f":"IFERROR(VLOOKUP(A518,'1.Портфель кредитів'!A:Z,3,FALSE),\"\")","v":""},{"$f":"IFERROR(VLOOKUP(A518,'1.Портфель кредитів'!A:Z,7,FALSE),\"\")","v":""},{"$f":"IFERROR(VLOOKUP(A518,'1.Портфель кредитів'!A:Z,14,FALSE),\"\")","v":""},null,null,null,null,null,null,null,null,{"$f":"IFERROR(VLOOKUP(A518,'1.Портфель кредитів'!A:Z,30,FALSE),\"\")","v":""},0,{"$error":"#VALUE!"},null,null,null,null,null,{"$f":"VLOOKUP(C518,Hidden_Словник!$A$2:C$81,3,FALSE)","v":{"$error":"#N/A"}},0,{"$f":"VLOOKUP(F518,Hidden_Словник!$W$2:$X$13,2,FALSE)","v":{"$error":"#N/A"}},{"$f":"#REF!","v":{"$error":"#REF!"}},{"$error":"#N/A"}]
[null,"",{"$f":"IFERROR(VLOOKUP(A519,'1.Портфель кредитів'!A:Z,3,FALSE),\"\")","v":""},{"$f":"IFERROR(VLOOKUP(A519,'1.Портфель кредитів'!A:Z,7,FALSE),\"\")","v":""},{"$f":"IFERROR(VLOOKUP(A519,'1.Портфель кредитів'!A:Z,14,FALSE),\"\")","v":""},null,null,null,null,null,null,null,null,{"$f":"IFERROR(VLOOKUP(A519,'1.Портфель кредитів'!A:Z,30,FALSE),\"\")","v":""},0,{"$error":"#VALUE!"},null,null,null,null,null,{"$f":"VLOOKUP(C519,Hidden_Словник!$A$2:C$81,3,FALSE)","v":{"$error":"#N/A"}},0,{"$f":"VLOOKUP(F519,Hidden_Словник!$W$2:$X$13,2,FALSE)","v":{"$error":"#N/A"}},{"$f":"#REF!","v":{"$error":"#REF!"}},{"$error":"#N/A"}]
[null,"",{"$f":"IFERROR(VLOOKUP(A520,'1.Портфель кредитів'!A:Z,3,FALSE),\"\")","v":""},{"$f":"IFERROR(VLOOKUP(A520,'1.Портфель кредитів'!A:Z,7,FALSE),\"\")","v":""},{"$f":"IFERROR(VLOOKUP(A520,'1.Портфель кредитів'!A:Z,14,FALSE),\"\")","v":""},null,null,null,null,null,null,null,null,{"$f":"IFERROR(VLOOKUP(A520,'1.Портфель кредитів'!A:Z,30,FALSE),\"\")","v":""},0,{"$error":"#VALUE!"},null,null,null,null,null,{"$f":"VLOOKUP(C520,Hidden_Словник!$A$2:C$81,3,FALSE)","v":{"$error":"#N/A"}},0,{"$f":"VLOOKUP(F520,Hidden_Словник!$W$2:$X$13,2,FALSE)","v":{"$error":"#N/A"}},{"$f":"#REF!","v":{"$error":"#REF!"}},{"$error":"#N/A"}]
[null,"",{"$f":"IFERROR(VLOOKUP(A521,'1.Портфель кредитів'!A:Z,3,FALSE),\"\")","v":""},{"$f":"IFERROR(VLOOKUP(A521,'1.Портфель кредитів'!A:Z,7,FALSE),\"\")","v":""},{"$f":"IFERROR(VLOOKUP(A521,'1.Портфель кредитів'!A:Z,14,FALSE),\"\")","v":""},null,null,null,null,null,null,null,null,{"$f":"IFERROR(VLOOKUP(A521,'1.Портфель кредитів'!A:Z,30,FALSE),\"\")","v":""},0,{"$error":"#VALUE!"},null,null,null,null,null,{"$f":"VLOOKUP(C521,Hidden_Словник!$A$2:C$81,3,FALSE)","v":{"$error":"#N/A"}},0,{"$f":"VLOOKUP(F521,Hidden_Словник!$W$2:$X$13,2,FALSE)","v":{"$error":"#N/A"}},{"$f":"#REF!","v":{"$error":"#REF!"}},{"$error":"#N/A"}]
[null,"",{"$f":"IFERROR(VLOOKUP(A522,'1.Портфель кредитів'!A:Z,3,FALSE),\"\")","v":""},{"$f":"IFERROR(VLOOKUP(A522,'1.Портфель кредитів'!A:Z,7,FALSE),\"\")","v":""},{"$f":"IFERROR(VLOOKUP(A522,'1.Портфель кредитів'!A:Z,14,FALSE),\"\")","v":""},null,null,null,null,null,null,null,null,{"$f":"IFERROR(VLOOKUP(A522,'1.Портфель кредитів'!A:Z,30,FALSE),\"\")","v":""},0,{"$error":"#VALUE!"},null,null,null,null,null,{"$f":"VLOOKUP(C522,Hidden_Словник!$A$2:C$81,3,FALSE)","v":{"$error":"#N/A"}},0,{"$f":"VLOOKUP(F522,Hidden_Словник!$W$2:$X$13,2,FALSE)","v":{"$error":"#N/A"}},{"$f":"#REF!","v":{"$error":"#REF!"}},{"$error":"#N/A"}]
[null,"",{"$f":"IFERROR(VLOOKUP(A523,'1.Портфель кредитів'!A:Z,3,FALSE),\"\")","v":""},{"$f":"IFERROR(VLOOKUP(A523,'1.Портфель кредитів'!A:Z,7,FALSE),\"\")","v":""},{"$f":"IFERROR(VLOOKUP(A523,'1.Портфель кредитів'!A:Z,14,FALSE),\"\")","v":""},null,null,null,null,null,null,null,null,{"$f":"IFERROR(VLOOKUP(A523,'1.Портфель кредитів'!A:Z,30,FALSE),\"\")","v":""},0,{"$error":"#VALUE!"},null,null,null,null,null,{"$f":"VLOOKUP(C523,Hidden_Словник!$A$2:C$81,3,FALSE)","v":{"$error":"#N/A"}},0,{"$f":"VLOOKUP(F523,Hidden_Словник!$W$2:$X$13,2,FALSE)","v":{"$error":"#N/A"}},{"$f":"#REF!","v":{"$error":"#REF!"}},{"$error":"#N/A"}]
[null,"",{"$f":"IFERROR(VLOOKUP(A524,'1.Портфель кредитів'!A:Z,3,FALSE),\"\")","v":""},{"$f":"IFERROR(VLOOKUP(A524,'1.Портфель кредитів'!A:Z,7,FALSE),\"\")","v":""},{"$f":"IFERROR(VLOOKUP(A524,'1.Портфель кредитів'!A:Z,14,FALSE),\"\")","v":""},null,null,null,null,null,null,null,null,{"$f":"IFERROR(VLOOKUP(A524,'1.Портфель кредитів'!A:Z,30,FALSE),\"\")","v":""},0,{"$error":"#VALUE!"},null,null,null,null,null,{"$f":"VLOOKUP(C524,Hidden_Словник!$A$2:C$81,3,FALSE)","v":{"$error":"#N/A"}},0,{"$f":"VLOOKUP(F524,Hidden_Словник!$W$2:$X$13,2,FALSE)","v":{"$error":"#N/A"}},{"$f":"#REF!","v":{"$error":"#REF!"}},{"$error":"#N/A"}]
[null,"",{"$f":"IFERROR(VLOOKUP(A525,'1.Портфель кредитів'!A:Z,3,FALSE),\"\")","v":""},{"$f":"IFERROR(VLOOKUP(A525,'1.Портфель кредитів'!A:Z,7,FALSE),\"\")","v":""},{"$f":"IFERROR(VLOOKUP(A525,'1.Портфель кредитів'!A:Z,14,FALSE),\"\")","v":""},null,null,null,null,null,null,null,null,{"$f":"IFERROR(VLOOKUP(A525,'1.Портфель кредитів'!A:Z,30,FALSE),\"\")","v":""},0,{"$error":"#VALUE!"},null,null,null,null,null,{"$f":"VLOOKUP(C525,Hidden_Словник!$A$2:C$81,3,FALSE)","v":{"$error":"#N/A"}},0,{"$f":"VLOOKUP(F525,Hidden_Словник!$W$2:$X$13,2,FALSE)","v":{"$error":"#N/A"}},{"$f":"#REF!","v":{"$error":"#REF!"}},{"$error":"#N/A"}]
[null,"",{"$f":"IFERROR(VLOOKUP(A526,'1.Портфель кредитів'!A:Z,3,FALSE),\"\")","v":""},{"$f":"IFERROR(VLOOKUP(A526,'1.Портфель кредитів'!A:Z,7,FALSE),\"\")","v":""},{"$f":"IFERROR(VLOOKUP(A526,'1.Портфель кредитів'!A:Z,14,FALSE),\"\")","v":""},null,null,null,null,null,null,null,null,{"$f":"IFERROR(VLOOKUP(A526,'1.Портфель кредитів'!A:Z,30,FALSE),\"\")","v":""},0,{"$error":"#VALUE!"},null,null,null,null,null,{"$f":"VLOOKUP(C526,Hidden_Словник!$A$2:C$81,3,FALSE)","v":{"$error":"#N/A"}},0,{"$f":"VLOOKUP(F526,Hidden_Словник!$W$2:$X$13,2,FALSE)","v":{"$error":"#N/A"}},{"$f":"#REF!","v":{"$error":"#REF!"}},{"$error":"#N/A"}]
[null,"",{"$f":"IFERROR(VLOOKUP(A527,'1.Портфель кредитів'!A:Z,3,FALSE),\"\")","v":""},{"$f":"IFERROR(VLOOKUP(A527,'1.Портфель кредитів'!A:Z,7,FALSE),\"\")","v":""},{"$f":"IFERROR(VLOOKUP(A527,'1.Портфель кредитів'!A:Z,14,FALSE),\"\")","v":""},null,null,null,null,null,null,null,null,{"$f":"IFERROR(VLOOKUP(A527,'1.Портфель кредитів'!A:Z,30,FALSE),\"\")","v":""},0,{"$error":"#VALUE!"},null,null,null,null,null,{"$f":"VLOOKUP(C527,Hidden_Словник!$A$2:C$81,3,FALSE)","v":{"$error":"#N/A"}},0,{"$f":"VLOOKUP(F527,Hidden_Словник!$W$2:$X$13,2,FALSE)","v":{"$error":"#N/A"}},{"$f":"#REF!","v":{"$error":"#REF!"}},{"$error":"#N/A"}]
[null,"",{"$f":"IFERROR(VLOOKUP(A528,'1.Портфель кредитів'!A:Z,3,FALSE),\"\")","v":""},{"$f":"IFERROR(VLOOKUP(A528,'1.Портфель кредитів'!A:Z,7,FALSE),\"\")","v":""},{"$f":"IFERROR(VLOOKUP(A528,'1.Портфель кредитів'!A:Z,14,FALSE),\"\")","v":""},null,null,null,null,null,null,null,null,{"$f":"IFERROR(VLOOKUP(A528,'1.Портфель кредитів'!A:Z,30,FALSE),\"\")","v":""},0,{"$error":"#VALUE!"},null,null,null,null,null,{"$f":"VLOOKUP(C528,Hidden_Словник!$A$2:C$81,3,FALSE)","v":{"$error":"#N/A"}},0,{"$f":"VLOOKUP(F528,Hidden_Словник!$W$2:$X$13,2,FALSE)","v":{"$error":"#N/A"}},{"$f":"#REF!","v":{"$error":"#REF!"}},{"$error":"#N/A"}]
[null,"",{"$f":"IFERROR(VLOOKUP(A529,'1.Портфель кредитів'!A:Z,3,FALSE),\"\")","v":""},{"$f":"IFERROR(VLOOKUP(A529,'1.Портфель кредитів'!A:Z,7,FALSE),\"\")","v":""},{"$f":"IFERROR(VLOOKUP(A529,'1.Портфель кредитів'!A:Z,14,FALSE),\"\")","v":""},null,null,null,null,null,null,null,null,{"$f":"IFERROR(VLOOKUP(A529,'1.Портфель кредитів'!A:Z,30,FALSE),\"\")","v":""},0,{"$error":"#VALUE!"},null,null,null,null,null,{"$f":"VLOOKUP(C529,Hidden_Словник!$A$2:C$81,3,FALSE)","v":{"$error":"#N/A"}},0,{"$f":"VLOOKUP(F529,Hidden_Словник!$W$2:$X$13,2,FALSE)","v":{"$error":"#N/A"}},{"$f":"#REF!","v":{"$error":"#REF!"}},{"$error":"#N/A"}]
[null,"",{"$f":"IFERROR(VLOOKUP(A530,'1.Портфель кредитів'!A:Z,3,FALSE),\"\")","v":""},{"$f":"IFERROR(VLOOKUP(A530,'1.Портфель кредитів'!A:Z,7,FALSE),\"\")","v":""},{"$f":"IFERROR(VLOOKUP(A530,'1.Портфель кредитів'!A:Z,14,FALSE),\"\")","v":""},null,null,null,null,null,null,null,null,{"$f":"IFERROR(VLOOKUP(A530,'1.Портфель кредитів'!A:Z,30,FALSE),\"\")","v":""},0,{"$error":"#VALUE!"},null,null,null,null,null,{"$f":"VLOOKUP(C530,Hidden_Словник!$A$2:C$81,3,FALSE)","v":{"$error":"#N/A"}},0,{"$f":"VLOOKUP(F530,Hidden_Словник!$W$2:$X$13,2,FALSE)","v":{"$error":"#N/A"}},{"$f":"#REF!","v":{"$error":"#REF!"}},{"$error":"#N/A"}]
[null,"",{"$f":"IFERROR(VLOOKUP(A531,'1.Портфель кредитів'!A:Z,3,FALSE),\"\")","v":""},{"$f":"IFERROR(VLOOKUP(A531,'1.Портфель кредитів'!A:Z,7,FALSE),\"\")","v":""},{"$f":"IFERROR(VLOOKUP(A531,'1.Портфель кредитів'!A:Z,14,FALSE),\"\")","v":""},null,null,null,null,null,null,null,null,{"$f":"IFERROR(VLOOKUP(A531,'1.Портфель кредитів'!A:Z,30,FALSE),\"\")","v":""},0,{"$error":"#VALUE!"},null,null,null,null,null,{"$f":"VLOOKUP(C531,Hidden_Словник!$A$2:C$81,3,FALSE)","v":{"$error":"#N/A"}},{"$f":"ROUNDUP(K531,0)","v":0},{"$f":"VLOOKUP(F531,Hidden_Словник!$W$2:$X$13,2,FALSE)","v":{"$error":"#N/A"}},{"$f":"#REF!","v":{"$error":"#REF!"}},{"$error":"#N/A"}]
[null,"",{"$f":"IFERROR(VLOOKUP(A532,'1.Портфель кредитів'!A:Z,3,FALSE),\"\")","v":""},{"$f":"IFERROR(VLOOKUP(A532,'1.Портфель кредитів'!A:Z,7,FALSE),\"\")","v":""},{"$f":"IFERROR(VLOOKUP(A532,'1.Портфель кредитів'!A:Z,14,FALSE),\"\")","v":""},null,null,null,null,null,null,null,null,{"$f":"IFERROR(VLOOKUP(A532,'1.Портфель кредитів'!A:Z,30,FALSE),\"\")","v":""},0,{"$error":"#VALUE!"},null,null,null,null,null,{"$f":"VLOOKUP(C532,Hidden_Словник!$A$2:C$81,3,FALSE)","v":{"$error":"#N/A"}},0,{"$f":"VLOOKUP(F532,Hidden_Словник!$W$2:$X$13,2,FALSE)","v":{"$error":"#N/A"}},{"$f":"#REF!","v":{"$error":"#REF!"}},{"$error":"#N/A"}]
[null,"",{"$f":"IFERROR(VLOOKUP(A533,'1.Портфель кредитів'!A:Z,3,FALSE),\"\")","v":""},{"$f":"IFERROR(VLOOKUP(A533,'1.Портфель кредитів'!A:Z,7,FALSE),\"\")","v":""},{"$f":"IFERROR(VLOOKUP(A533,'1.Портфель кредитів'!A:Z,14,FALSE),\"\")","v":""},null,null,null,null,null,null,null,null,{"$f":"IFERROR(VLOOKUP(A533,'1.Портфель кредитів'!A:Z,30,FALSE),\"\")","v":""},0,{"$error":"#VALUE!"},null,null,null,null,null,{"$f":"VLOOKUP(C533,Hidden_Словник!$A$2:C$81,3,FALSE)","v":{"$error":"#N/A"}},0,{"$f":"VLOOKUP(F533,Hidden_Словник!$W$2:$X$13,2,FALSE)","v":{"$error":"#N/A"}},{"$f":"#REF!","v":{"$error":"#REF!"}},{"$error":"#N/A"}]
[null,"",{"$f":"IFERROR(VLOOKUP(A534,'1.Портфель кредитів'!A:Z,3,FALSE),\"\")","v":""},{"$f":"IFERROR(VLOOKUP(A534,'1.Портфель кредитів'!A:Z,7,FALSE),\"\")","v":""},{"$f":"IFERROR(VLOOKUP(A534,'1.Портфель кредитів'!A:Z,14,FALSE),\"\")","v":""},null,null,null,null,null,null,null,null,{"$f":"IFERROR(VLOOKUP(A534,'1.Портфель кредитів'!A:Z,30,FALSE),\"\")","v":""},0,{"$error":"#VALUE!"},null,null,null,null,null,{"$f":"VLOOKUP(C534,Hidden_Словник!$A$2:C$81,3,FALSE)","v":{"$error":"#N/A"}},0,{"$f":"VLOOKUP(F534,Hidden_Словник!$W$2:$X$13,2,FALSE)","v":{"$error":"#N/A"}},{"$f":"#REF!","v":{"$error":"#REF!"}},{"$error":"#N/A"}]
[null,"",{"$f":"IFERROR(VLOOKUP(A535,'1.Портфель кредитів'!A:Z,3,FALSE),\"\")","v":""},{"$f":"IFERROR(VLOOKUP(A535,'1.Портфель кредитів'!A:Z,7,FALSE),\"\")","v":""},{"$f":"IFERROR(VLOOKUP(A535,'1.Портфель кредитів'!A:Z,14,FALSE),\"\")","v":""},null,null,null,null,null,null,null,null,{"$f":"IFERROR(VLOOKUP(A535,'1.Портфель кредитів'!A:Z,30,FALSE),\"\")","v":""},{"$f":"SUMIF(B:B,B535,N:N)","v":0},{"$error":"#VALUE!"},null,null,null,null,null,{"$f":"VLOOKUP(C535,Hidden_Словник!$A$2:C$81,3,FALSE)","v":{"$error":"#N/A"}},0,{"$f":"VLOOKUP(F535,Hidden_Словник!$W$2:$X$13,2,FALSE)","v":{"$error":"#N/A"}},{"$f":"#REF!","v":{"$error":"#REF!"}},{"$error":"#N/A"}]
[null,"",{"$f":"IFERROR(VLOOKUP(A536,'1.Портфель кредитів'!A:Z,3,FALSE),\"\")","v":""},{"$f":"IFERROR(VLOOKUP(A536,'1.Портфель кредитів'!A:Z,7,FALSE),\"\")","v":""},{"$f":"IFERROR(VLOOKUP(A536,'1.Портфель кредитів'!A:Z,14,FALSE),\"\")","v":""},null,null,null,null,null,null,null,null,{"$f":"IFERROR(VLOOKUP(A536,'1.Портфель кредитів'!A:Z,30,FALSE),\"\")","v":""},0,{"$error":"#VALUE!"},null,null,null,null,null,{"$f":"VLOOKUP(C536,Hidden_Словник!$A$2:C$81,3,FALSE)","v":{"$error":"#N/A"}},0,{"$f":"VLOOKUP(F536,Hidden_Словник!$W$2:$X$13,2,FALSE)","v":{"$error":"#N/A"}},{"$f":"#REF!","v":{"$error":"#REF!"}},{"$error":"#N/A"}]
[null,"",{"$f":"IFERROR(VLOOKUP(A537,'1.Портфель кредитів'!A:Z,3,FALSE),\"\")","v":""},{"$f":"IFERROR(VLOOKUP(A537,'1.Портфель кредитів'!A:Z,7,FALSE),\"\")","v":""},{"$f":"IFERROR(VLOOKUP(A537,'1.Портфель кредитів'!A:Z,14,FALSE),\"\")","v":""},null,null,null,null,null,null,null,null,{"$f":"IFERROR(VLOOKUP(A537,'1.Портфель кредитів'!A:Z,30,FALSE),\"\")","v":""},0,{"$error":"#VALUE!"},null,null,null,null,null,{"$f":"VLOOKUP(C537,Hidden_Словник!$A$2:C$81,3,FALSE)","v":{"$error":"#N/A"}},0,{"$f":"VLOOKUP(F537,Hidden_Словник!$W$2:$X$13,2,FALSE)","v":{"$error":"#N/A"}},{"$f":"#REF!","v":{"$error":"#REF!"}},{"$error":"#N/A"}]
[null,"",{"$f":"IFERROR(VLOOKUP(A538,'1.Портфель кредитів'!A:Z,3,FALSE),\"\")","v":""},{"$f":"IFERROR(VLOOKUP(A538,'1.Портфель кредитів'!A:Z,7,FALSE),\"\")","v":""},{"$f":"IFERROR(VLOOKUP(A538,'1.Портфель кредитів'!A:Z,14,FALSE),\"\")","v":""},null,null,null,null,null,null,null,null,{"$f":"IFERROR(VLOOKUP(A538,'1.Портфель кредитів'!A:Z,30,FALSE),\"\")","v":""},0,{"$error":"#VALUE!"},null,null,null,null,null,{"$f":"VLOOKUP(C538,Hidden_Словник!$A$2:C$81,3,FALSE)","v":{"$error":"#N/A"}},0,{"$f":"VLOOKUP(F538,Hidden_Словник!$W$2:$X$13,2,FALSE)","v":{"$error":"#N/A"}},{"$f":"#REF!","v":{"$error":"#REF!"}},{"$error":"#N/A"}]
[null,"",{"$f":"IFERROR(VLOOKUP(A539,'1.Портфель кредитів'!A:Z,3,FALSE),\"\")","v":""},{"$f":"IFERROR(VLOOKUP(A539,'1.Портфель кредитів'!A:Z,7,FALSE),\"\")","v":""},{"$f":"IFERROR(VLOOKUP(A539,'1.Портфель кредитів'!A:Z,14,FALSE),\"\")","v":""},null,null,null,null,null,null,null,null,{"$f":"IFERROR(VLOOKUP(A539,'1.Портфель кредитів'!A:Z,30,FALSE),\"\")","v":""},0,{"$error":"#VALUE!"},null,null,null,null,null,{"$f":"VLOOKUP(C539,Hidden_Словник!$A$2:C$81,3,FALSE)","v":{"$error":"#N/A"}},0,{"$f":"VLOOKUP(F539,Hidden_Словник!$W$2:$X$13,2,FALSE)","v":{"$error":"#N/A"}},{"$f":"#REF!","v":{"$error":"#REF!"}},{"$error":"#N/A"}]
[null,"",{"$f":"IFERROR(VLOOKUP(A540,'1.Портфель кредитів'!A:Z,3,FALSE),\"\")","v":""},{"$f":"IFERROR(VLOOKUP(A540,'1.Портфель кредитів'!A:Z,7,FALSE),\"\")","v":""},{"$f":"IFERROR(VLOOKUP(A540,'1.Портфель кредитів'!A:Z,14,FALSE),\"\")","v":""},null,null,null,null,null,null,null,null,{"$f":"IFERROR(VLOOKUP(A540,'1.Портфель кредитів'!A:Z,30,FALSE),\"\")","v":""},0,{"$error":"#VALUE!"},null,null,null,null,null,{"$f":"VLOOKUP(C540,Hidden_Словник!$A$2:C$81,3,FALSE)","v":{"$error":"#N/A"}},0,{"$f":"VLOOKUP(F540,Hidden_Словник!$W$2:$X$13,2,FALSE)","v":{"$error":"#N/A"}},{"$f":"#REF!","v":{"$error":"#REF!"}},{"$error":"#N/A"}]
[null,"",{"$f":"IFERROR(VLOOKUP(A541,'1.Портфель кредитів'!A:Z,3,FALSE),\"\")","v":""},{"$f":"IFERROR(VLOOKUP(A541,'1.Портфель кредитів'!A:Z,7,FALSE),\"\")","v":""},{"$f":"IFERROR(VLOOKUP(A541,'1.Портфель кредитів'!A:Z,14,FALSE),\"\")","v":""},null,null,null,null,null,null,null,null,{"$f":"IFERROR(VLOOKUP(A541,'1.Портфель кредитів'!A:Z,30,FALSE),\"\")","v":""},0,{"$error":"#VALUE!"},null,null,null,null,null,{"$f":"VLOOKUP(C541,Hidden_Словник!$A$2:C$81,3,FALSE)","v":{"$error":"#N/A"}},0,{"$f":"VLOOKUP(F541,Hidden_Словник!$W$2:$X$13,2,FALSE)","v":{"$error":"#N/A"}},{"$f":"#REF!","v":{"$error":"#REF!"}},{"$error":"#N/A"}]
[null,"",{"$f":"IFERROR(VLOOKUP(A542,'1.Портфель кредитів'!A:Z,3,FALSE),\"\")","v":""},{"$f":"IFERROR(VLOOKUP(A542,'1.Портфель кредитів'!A:Z,7,FALSE),\"\")","v":""},{"$f":"IFERROR(VLOOKUP(A542,'1.Портфель кредитів'!A:Z,14,FALSE),\"\")","v":""},null,null,null,null,null,null,null,null,{"$f":"IFERROR(VLOOKUP(A542,'1.Портфель кредитів'!A:Z,30,FALSE),\"\")","v":""},0,{"$error":"#VALUE!"},null,null,null,null,null,{"$f":"VLOOKUP(C542,Hidden_Словник!$A$2:C$81,3,FALSE)","v":{"$error":"#N/A"}},0,{"$f":"VLOOKUP(F542,Hidden_Словник!$W$2:$X$13,2,FALSE)","v":{"$error":"#N/A"}},{"$f":"#REF!","v":{"$error":"#REF!"}},{"$error":"#N/A"}]
[null,"",{"$f":"IFERROR(VLOOKUP(A543,'1.Портфель кредитів'!A:Z,3,FALSE),\"\")","v":""},{"$f":"IFERROR(VLOOKUP(A543,'1.Портфель кредитів'!A:Z,7,FALSE),\"\")","v":""},{"$f":"IFERROR(VLOOKUP(A543,'1.Портфель кредитів'!A:Z,14,FALSE),\"\")","v":""},null,null,null,null,null,null,null,null,{"$f":"IFERROR(VLOOKUP(A543,'1.Портфель кредитів'!A:Z,30,FALSE),\"\")","v":""},0,{"$error":"#VALUE!"},null,null,null,null,null,{"$f":"VLOOKUP(C543,Hidden_Словник!$A$2:C$81,3,FALSE)","v":{"$error":"#N/A"}},0,{"$f":"VLOOKUP(F543,Hidden_Словник!$W$2:$X$13,2,FALSE)","v":{"$error":"#N/A"}},{"$f":"#REF!","v":{"$error":"#REF!"}},{"$error":"#N/A"}]
[null,"",{"$f":"IFERROR(VLOOKUP(A544,'1.Портфель кредитів'!A:Z,3,FALSE),\"\")","v":""},{"$f":"IFERROR(VLOOKUP(A544,'1.Портфель кредитів'!A:Z,7,FALSE),\"\")","v":""},{"$f":"IFERROR(VLOOKUP(A544,'1.Портфель кредитів'!A:Z,14,FALSE),\"\")","v":""},null,null,null,null,null,null,null,null,{"$f":"IFERROR(VLOOKUP(A544,'1.Портфель кредитів'!A:Z,30,FALSE),\"\")","v":""},0,{"$error":"#VALUE!"},null,null,null,null,null,{"$f":"VLOOKUP(C544,Hidden_Словник!$A$2:C$81,3,FALSE)","v":{"$error":"#N/A"}},0,{"$f":"VLOOKUP(F544,Hidden_Словник!$W$2:$X$13,2,FALSE)","v":{"$error":"#N/A"}},{"$f":"#REF!","v":{"$error":"#REF!"}},{"$error":"#N/A"}]
[null,"",{"$f":"IFERROR(VLOOKUP(A545,'1.Портфель кредитів'!A:Z,3,FALSE),\"\")","v":""},{"$f":"IFERROR(VLOOKUP(A545,'1.Портфель кредитів'!A:Z,7,FALSE),\"\")","v":""},{"$f":"IFERROR(VLOOKUP(A545,'1.Портфель кредитів'!A:Z,14,FALSE),\"\")","v":""},null,null,null,null,null,null,null,null,{"$f":"IFERROR(VLOOKUP(A545,'1.Портфель кредитів'!A:Z,30,FALSE),\"\")","v":""},0,{"$error":"#VALUE!"},null,null,null,null,null,{"$f":"VLOOKUP(C545,Hidden_Словник!$A$2:C$81,3,FALSE)","v":{"$error":"#N/A"}},0,{"$f":"VLOOKUP(F545,Hidden_Словник!$W$2:$X$13,2,FALSE)","v":{"$error":"#N/A"}},{"$f":"#REF!","v":{"$error":"#REF!"}},{"$error":"#N/A"}]
[null,"",{"$f":"IFERROR(VLOOKUP(A546,'1.Портфель кредитів'!A:Z,3,FALSE),\"\")","v":""},{"$f":"IFERROR(VLOOKUP(A546,'1.Портфель кредитів'!A:Z,7,FALSE),\"\")","v":""},{"$f":"IFERROR(VLOOKUP(A546,'1.Портфель кредитів'!A:Z,14,FALSE),\"\")","v":""},null,null,null,null,null,null,null,null,{"$f":"IFERROR(VLOOKUP(A546,'1.Портфель кредитів'!A:Z,30,FALSE),\"\")","v":""},0,{"$error":"#VALUE!"},null,null,null,null,null,{"$f":"VLOOKUP(C546,Hidden_Словник!$A$2:C$81,3,FALSE)","v":{"$error":"#N/A"}},0,{"$f":"VLOOKUP(F546,Hidden_Словник!$W$2:$X$13,2,FALSE)","v":{"$error":"#N/A"}},{"$f":"#REF!","v":{"$error":"#REF!"}},{"$error":"#N/A"}]
[null,"",{"$f":"IFERROR(VLOOKUP(A547,'1.Портфель кредитів'!A:Z,3,FALSE),\"\")","v":""},{"$f":"IFERROR(VLOOKUP(A547,'1.Портфель кредитів'!A:Z,7,FALSE),\"\")","v":""},{"$f":"IFERROR(VLOOKUP(A547,'1.Портфель кредитів'!A:Z,14,FALSE),\"\")","v":""},null,null,null,null,null,null,null,null,{"$f":"IFERROR(VLOOKUP(A547,'1.Портфель кредитів'!A:Z,30,FALSE),\"\")","v":""},0,{"$error":"#VALUE!"},null,null,null,null,null,{"$f":"VLOOKUP(C547,Hidden_Словник!$A$2:C$81,3,FALSE)","v":{"$error":"#N/A"}},0,{"$f":"VLOOKUP(F547,Hidden_Словник!$W$2:$X$13,2,FALSE)","v":{"$error":"#N/A"}},{"$f":"#REF!","v":{"$error":"#REF!"}},{"$error":"#N/A"}]
[null,"",{"$f":"IFERROR(VLOOKUP(A548,'1.Портфель кредитів'!A:Z,3,FALSE),\"\")","v":""},{"$f":"IFERROR(VLOOKUP(A548,'1.Портфель кредитів'!A:Z,7,FALSE),\"\")","v":""},{"$f":"IFERROR(VLOOKUP(A548,'1.Портфель кредитів'!A:Z,14,FALSE),\"\")","v":""},null,null,null,null,null,null,null,null,{"$f":"IFERROR(VLOOKUP(A548,'1.Портфель кредитів'!A:Z,30,FALSE),\"\")","v":""},0,{"$error":"#VALUE!"},null,null,null,null,null,{"$f":"VLOOKUP(C548,Hidden_Словник!$A$2:C$81,3,FALSE)","v":{"$error":"#N/A"}},0,{"$f":"VLOOKUP(F548,Hidden_Словник!$W$2:$X$13,2,FALSE)","v":{"$error":"#N/A"}},{"$f":"#REF!","v":{"$error":"#REF!"}},{"$error":"#N/A"}]
[null,"",{"$f":"IFERROR(VLOOKUP(A549,'1.Портфель кредитів'!A:Z,3,FALSE),\"\")","v":""},{"$f":"IFERROR(VLOOKUP(A549,'1.Портфель кредитів'!A:Z,7,FALSE),\"\")","v":""},{"$f":"IFERROR(VLOOKUP(A549,'1.Портфель кредитів'!A:Z,14,FALSE),\"\")","v":""},null,null,null,null,null,null,null,null,{"$f":"IFERROR(VLOOKUP(A549,'1.Портфель кредитів'!A:Z,30,FALSE),\"\")","v":""},0,{"$error":"#VALUE!"},null,null,null,null,null,{"$f":"VLOOKUP(C549,Hidden_Словник!$A$2:C$81,3,FALSE)","v":{"$error":"#N/A"}},0,{"$f":"VLOOKUP(F549,Hidden_Словник!$W$2:$X$13,2,FALSE)","v":{"$error":"#N/A"}},{"$f":"#REF!","v":{"$error":"#REF!"}},{"$error":"#N/A"}]
[null,"",{"$f":"IFERROR(VLOOKUP(A550,'1.Портфель кредитів'!A:Z,3,FALSE),\"\")","v":""},{"$f":"IFERROR(VLOOKUP(A550,'1.Портфель кредитів'!A:Z,7,FALSE),\"\")","v":""},{"$f":"IFERROR(VLOOKUP(A550,'1.Портфель кредитів'!A:Z,14,FALSE),\"\")","v":""},null,null,null,null,null,null,null,null,{"$f":"IFERROR(VLOOKUP(A550,'1.Портфель кредитів'!A:Z,30,FALSE),\"\")","v":""},0,{"$f":"N550/O550","v":{"$error":"#VALUE!"}},null,null,null,null,null,{"$f":"VLOOKUP(C550,Hidden_Словник!$A$2:C$81,3,FALSE)","v":{"$error":"#N/A"}},0,{"$f":"VLOOKUP(F550,Hidden_Словник!$W$2:$X$13,2,FALSE)","v":{"$error":"#N/A"}},{"$f":"#REF!","v":{"$error":"#REF!"}},{"$error":"#N/A"}]
[null,"",{"$f":"IFERROR(VLOOKUP(A551,'1.Портфель кредитів'!A:Z,3,FALSE),\"\")","v":""},{"$f":"IFERROR(VLOOKUP(A551,'1.Портфель кредитів'!A:Z,7,FALSE),\"\")","v":""},{"$f":"IFERROR(VLOOKUP(A551,'1.Портфель кредитів'!A:Z,14,FALSE),\"\")","v":""},null,null,null,null,null,null,null,null,{"$f":"IFERROR(VLOOKUP(A551,'1.Портфель кредитів'!A:Z,30,FALSE),\"\")","v":""},0,{"$error":"#VALUE!"},null,null,null,null,null,{"$f":"VLOOKUP(C551,Hidden_Словник!$A$2:C$81,3,FALSE)","v":{"$error":"#N/A"}},0,{"$f":"VLOOKUP(F551,Hidden_Словник!$W$2:$X$13,2,FALSE)","v":{"$error":"#N/A"}},{"$f":"#REF!","v":{"$error":"#REF!"}},{"$error":"#N/A"}]
[null,"",{"$f":"IFERROR(VLOOKUP(A552,'1.Портфель кредитів'!A:Z,3,FALSE),\"\")","v":""},{"$f":"IFERROR(VLOOKUP(A552,'1.Портфель кредитів'!A:Z,7,FALSE),\"\")","v":""},{"$f":"IFERROR(VLOOKUP(A552,'1.Портфель кредитів'!A:Z,14,FALSE),\"\")","v":""},null,null,null,null,null,null,null,null,{"$f":"IFERROR(VLOOKUP(A552,'1.Портфель кредитів'!A:Z,30,FALSE),\"\")","v":""},0,{"$error":"#VALUE!"},null,null,null,null,null,{"$f":"VLOOKUP(C552,Hidden_Словник!$A$2:C$81,3,FALSE)","v":{"$error":"#N/A"}},0,{"$f":"VLOOKUP(F552,Hidden_Словник!$W$2:$X$13,2,FALSE)","v":{"$error":"#N/A"}},{"$f":"#REF!","v":{"$error":"#REF!"}},{"$error":"#N/A"}]
[null,"",{"$f":"IFERROR(VLOOKUP(A553,'1.Портфель кредитів'!A:Z,3,FALSE),\"\")","v":""},{"$f":"IFERROR(VLOOKUP(A553,'1.Портфель кредитів'!A:Z,7,FALSE),\"\")","v":""},{"$f":"IFERROR(VLOOKUP(A553,'1.Портфель кредитів'!A:Z,14,FALSE),\"\")","v":""},null,null,null,null,null,null,null,null,{"$f":"IFERROR(VLOOKUP(A553,'1.Портфель кредитів'!A:Z,30,FALSE),\"\")","v":""},0,{"$error":"#VALUE!"},null,null,null,null,null,{"$f":"VLOOKUP(C553,Hidden_Словник!$A$2:C$81,3,FALSE)","v":{"$error":"#N/A"}},0,{"$f":"VLOOKUP(F553,Hidden_Словник!$W$2:$X$13,2,FALSE)","v":{"$error":"#N/A"}},{"$f":"#REF!","v":{"$error":"#REF!"}},{"$error":"#N/A"}]
[null,"",{"$f":"IFERROR(VLOOKUP(A554,'1.Портфель кредитів'!A:Z,3,FALSE),\"\")","v":""},{"$f":"IFERROR(VLOOKUP(A554,'1.Портфель кредитів'!A:Z,7,FALSE),\"\")","v":""},{"$f":"IFERROR(VLOOKUP(A554,'1.Портфель кредитів'!A:Z,14,FALSE),\"\")","v":""},null,null,null,null,null,null,null,null,{"$f":"IFERROR(VLOOKUP(A554,'1.Портфель кредитів'!A:Z,30,FALSE),\"\")","v":""},0,{"$error":"#VALUE!"},null,null,null,null,null,{"$f":"VLOOKUP(C554,Hidden_Словник!$A$2:C$81,3,FALSE)","v":{"$error":"#N/A"}},0,{"$f":"VLOOKUP(F554,Hidden_Словник!$W$2:$X$13,2,FALSE)","v":{"$error":"#N/A"}},{"$f":"#REF!","v":{"$error":"#REF!"}},{"$error":"#N/A"}]
[null,"",{"$f":"IFERROR(VLOOKUP(A555,'1.Портфель кредитів'!A:Z,3,FALSE),\"\")","v":""},{"$f":"IFERROR(VLOOKUP(A555,'1.Портфель кредитів'!A:Z,7,FALSE),\"\")","v":""},{"$f":"IFERROR(VLOOKUP(A555,'1.Портфель кредитів'!A:Z,14,FALSE),\"\")","v":""},null,null,null,null,null,null,null,null,{"$f":"IFERROR(VLOOKUP(A555,'1.Портфель кредитів'!A:Z,30,FALSE),\"\")","v":""},0,{"$error":"#VALUE!"},null,null,null,null,null,{"$f":"VLOOKUP(C555,Hidden_Словник!$A$2:C$81,3,FALSE)","v":{"$error":"#N/A"}},0,{"$f":"VLOOKUP(F555,Hidden_Словник!$W$2:$X$13,2,FALSE)","v":{"$error":"#N/A"}},{"$f":"#REF!","v":{"$error":"#REF!"}},{"$error":"#N/A"}]
[null,"",{"$f":"IFERROR(VLOOKUP(A556,'1.Портфель кредитів'!A:Z,3,FALSE),\"\")","v":""},{"$f":"IFERROR(VLOOKUP(A556,'1.Портфель кредитів'!A:Z,7,FALSE),\"\")","v":""},{"$f":"IFERROR(VLOOKUP(A556,'1.Портфель кредитів'!A:Z,14,FALSE),\"\")","v":""},null,null,null,null,null,null,null,null,{"$f":"IFERROR(VLOOKUP(A556,'1.Портфель кредитів'!A:Z,30,FALSE),\"\")","v":""},0,{"$error":"#VALUE!"},null,null,null,null,null,{"$f":"VLOOKUP(C556,Hidden_Словник!$A$2:C$81,3,FALSE)","v":{"$error":"#N/A"}},0,{"$f":"VLOOKUP(F556,Hidden_Словник!$W$2:$X$13,2,FALSE)","v":{"$error":"#N/A"}},{"$f":"#REF!","v":{"$error":"#REF!"}},{"$error":"#N/A"}]
[null,"",{"$f":"IFERROR(VLOOKUP(A557,'1.Портфель кредитів'!A:Z,3,FALSE),\"\")","v":""},{"$f":"IFERROR(VLOOKUP(A557,'1.Портфель кредитів'!A:Z,7,FALSE),\"\")","v":""},{"$f":"IFERROR(VLOOKUP(A557,'1.Портфель кредитів'!A:Z,14,FALSE),\"\")","v":""},null,null,null,null,null,null,null,null,{"$f":"IFERROR(VLOOKUP(A557,'1.Портфель кредитів'!A:Z,30,FALSE),\"\")","v":""},0,{"$error":"#VALUE!"},null,null,null,null,null,{"$f":"VLOOKUP(C557,Hidden_Словник!$A$2:C$81,3,FALSE)","v":{"$error":"#N/A"}},0,{"$f":"VLOOKUP(F557,Hidden_Словник!$W$2:$X$13,2,FALSE)","v":{"$error":"#N/A"}},{"$f":"#REF!","v":{"$error":"#REF!"}},{"$error":"#N/A"}]
[null,"",{"$f":"IFERROR(VLOOKUP(A558,'1.Портфель кредитів'!A:Z,3,FALSE),\"\")","v":""},{"$f":"IFERROR(VLOOKUP(A558,'1.Портфель кредитів'!A:Z,7,FALSE),\"\")","v":""},{"$f":"IFERROR(VLOOKUP(A558,'1.Портфель кредитів'!A:Z,14,FALSE),\"\")","v":""},null,null,null,null,null,null,null,null,{"$f":"IFERROR(VLOOKUP(A558,'1.Портфель кредитів'!A:Z,30,FALSE),\"\")","v":""},0,{"$error":"#VALUE!"},null,null,null,null,null,{"$f":"VLOOKUP(C558,Hidden_Словник!$A$2:C$81,3,FALSE)","v":{"$error":"#N/A"}},0,{"$f":"VLOOKUP(F558,Hidden_Словник!$W$2:$X$13,2,FALSE)","v":{"$error":"#N/A"}},{"$f":"#REF!","v":{"$error":"#REF!"}},{"$error":"#N/A"}]
[null,"",{"$f":"IFERROR(VLOOKUP(A559,'1.Портфель кредитів'!A:Z,3,FALSE),\"\")","v":""},{"$f":"IFERROR(VLOOKUP(A559,'1.Портфель кредитів'!A:Z,7,FALSE),\"\")","v":""},{"$f":"IFERROR(VLOOKUP(A559,'1.Портфель кредитів'!A:Z,14,FALSE),\"\")","v":""},null,null,null,null,null,null,null,null,{"$f":"IFERROR(VLOOKUP(A559,'1.Портфель кредитів'!A:Z,30,FALSE),\"\")","v":""},0,{"$error":"#VALUE!"},null,null,null,null,null,{"$f":"VLOOKUP(C559,Hidden_Словник!$A$2:C$81,3,FALSE)","v":{"$error":"#N/A"}},0,{"$f":"VLOOKUP(F559,Hidden_Словник!$W$2:$X$13,2,FALSE)","v":{"$error":"#N/A"}},{"$f":"#REF!","v":{"$error":"#REF!"}},{"$error":"#N/A"}]
[null,"",{"$f":"IFERROR(VLOOKUP(A560,'1.Портфель кредитів'!A:Z,3,FALSE),\"\")","v":""},{"$f":"IFERROR(VLOOKUP(A560,'1.Портфель кредитів'!A:Z,7,FALSE),\"\")","v":""},{"$f":"IFERROR(VLOOKUP(A560,'1.Портфель кредитів'!A:Z,14,FALSE),\"\")","v":""},null,null,null,null,null,null,null,null,{"$f":"IFERROR(VLOOKUP(A560,'1.Портфель кредитів'!A:Z,30,FALSE),\"\")","v":""},0,{"$error":"#VALUE!"},null,null,null,null,null,{"$f":"VLOOKUP(C560,Hidden_Словник!$A$2:C$81,3,FALSE)","v":{"$error":"#N/A"}},0,{"$f":"VLOOKUP(F560,Hidden_Словник!$W$2:$X$13,2,FALSE)","v":{"$error":"#N/A"}},{"$f":"#REF!","v":{"$error":"#REF!"}},{"$error":"#N/A"}]
[null,"",{"$f":"IFERROR(VLOOKUP(A561,'1.Портфель кредитів'!A:Z,3,FALSE),\"\")","v":""},{"$f":"IFERROR(VLOOKUP(A561,'1.Портфель кредитів'!A:Z,7,FALSE),\"\")","v":""},{"$f":"IFERROR(VLOOKUP(A561,'1.Портфель кредитів'!A:Z,14,FALSE),\"\")","v":""},null,null,null,null,null,null,null,null,{"$f":"IFERROR(VLOOKUP(A561,'1.Портфель кредитів'!A:Z,30,FALSE),\"\")","v":""},0,{"$error":"#VALUE!"},null,null,null,null,null,{"$f":"VLOOKUP(C561,Hidden_Словник!$A$2:C$81,3,FALSE)","v":{"$error":"#N/A"}},0,{"$f":"VLOOKUP(F561,Hidden_Словник!$W$2:$X$13,2,FALSE)","v":{"$error":"#N/A"}},{"$f":"#REF!","v":{"$error":"#REF!"}},{"$error":"#N/A"}]
[null,"",{"$f":"IFERROR(VLOOKUP(A562,'1.Портфель кредитів'!A:Z,3,FALSE),\"\")","v":""},{"$f":"IFERROR(VLOOKUP(A562,'1.Портфель кредитів'!A:Z,7,FALSE),\"\")","v":""},{"$f":"IFERROR(VLOOKUP(A562,'1.Портфель кредитів'!A:Z,14,FALSE),\"\")","v":""},null,null,null,null,null,null,null,null,{"$f":"IFERROR(VLOOKUP(A562,'1.Портфель кредитів'!A:Z,30,FALSE),\"\")","v":""},0,{"$error":"#VALUE!"},null,null,null,null,null,{"$f":"VLOOKUP(C562,Hidden_Словник!$A$2:C$81,3,FALSE)","v":{"$error":"#N/A"}},0,{"$f":"VLOOKUP(F562,Hidden_Словник!$W$2:$X$13,2,FALSE)","v":{"$error":"#N/A"}},{"$f":"#REF!","v":{"$error":"#REF!"}},{"$error":"#N/A"}]
[null,"",{"$f":"IFERROR(VLOOKUP(A563,'1.Портфель кредитів'!A:Z,3,FALSE),\"\")","v":""},{"$f":"IFERROR(VLOOKUP(A563,'1.Портфель кредитів'!A:Z,7,FALSE),\"\")","v":""},{"$f":"IFERROR(VLOOKUP(A563,'1.Портфель кредитів'!A:Z,14,FALSE),\"\")","v":""},null,null,null,null,null,null,null,null,{"$f":"IFERROR(VLOOKUP(A563,'1.Портфель кредитів'!A:Z,30,FALSE),\"\")","v":""},0,{"$error":"#VALUE!"},null,null,null,null,null,{"$f":"VLOOKUP(C563,Hidden_Словник!$A$2:C$81,3,FALSE)","v":{"$error":"#N/A"}},0,{"$f":"VLOOKUP(F563,Hidden_Словник!$W$2:$X$13,2,FALSE)","v":{"$error":"#N/A"}},{"$f":"#REF!","v":{"$error":"#REF!"}},{"$error":"#N/A"}]
[null,"",{"$f":"IFERROR(VLOOKUP(A564,'1.Портфель кредитів'!A:Z,3,FALSE),\"\")","v":""},{"$f":"IFERROR(VLOOKUP(A564,'1.Портфель кредитів'!A:Z,7,FALSE),\"\")","v":""},{"$f":"IFERROR(VLOOKUP(A564,'1.Портфель кредитів'!A:Z,14,FALSE),\"\")","v":""},null,null,null,null,null,null,null,null,{"$f":"IFERROR(VLOOKUP(A564,'1.Портфель кредитів'!A:Z,30,FALSE),\"\")","v":""},0,{"$error":"#VALUE!"},null,null,null,null,null,{"$f":"VLOOKUP(C564,Hidden_Словник!$A$2:C$81,3,FALSE)","v":{"$error":"#N/A"}},0,{"$f":"VLOOKUP(F564,Hidden_Словник!$W$2:$X$13,2,FALSE)","v":{"$error":"#N/A"}},{"$f":"#REF!","v":{"$error":"#REF!"}},{"$error":"#N/A"}]
[null,"",{"$f":"IFERROR(VLOOKUP(A565,'1.Портфель кредитів'!A:Z,3,FALSE),\"\")","v":""},{"$f":"IFERROR(VLOOKUP(A565,'1.Портфель кредитів'!A:Z,7,FALSE),\"\")","v":""},{"$f":"IFERROR(VLOOKUP(A565,'1.Портфель кредитів'!A:Z,14,FALSE),\"\")","v":""},null,null,null,null,null,null,null,null,{"$f":"IFERROR(VLOOKUP(A565,'1.Портфель кредитів'!A:Z,30,FALSE),\"\")","v":""},0,{"$error":"#VALUE!"},null,null,null,null,null,{"$f":"VLOOKUP(C565,Hidden_Словник!$A$2:C$81,3,FALSE)","v":{"$error":"#N/A"}},0,{"$f":"VLOOKUP(F565,Hidden_Словник!$W$2:$X$13,2,FALSE)","v":{"$error":"#N/A"}},{"$f":"#REF!","v":{"$error":"#REF!"}},{"$error":"#N/A"}]
[null,"",{"$f":"IFERROR(VLOOKUP(A566,'1.Портфель кредитів'!A:Z,3,FALSE),\"\")","v":""},{"$f":"IFERROR(VLOOKUP(A566,'1.Портфель кредитів'!A:Z,7,FALSE),\"\")","v":""},{"$f":"IFERROR(VLOOKUP(A566,'1.Портфель кредитів'!A:Z,14,FALSE),\"\")","v":""},null,null,null,null,null,null,null,null,{"$f":"IFERROR(VLOOKUP(A566,'1.Портфель кредитів'!A:Z,30,FALSE),\"\")","v":""},0,{"$error":"#VALUE!"},null,null,null,null,null,{"$f":"VLOOKUP(C566,Hidden_Словник!$A$2:C$81,3,FALSE)","v":{"$error":"#N/A"}},0,{"$f":"VLOOKUP(F566,Hidden_Словник!$W$2:$X$13,2,FALSE)","v":{"$error":"#N/A"}},{"$f":"#REF!","v":{"$error":"#REF!"}},{"$error":"#N/A"}]
[null,"",{"$f":"IFERROR(VLOOKUP(A567,'1.Портфель кредитів'!A:Z,3,FALSE),\"\")","v":""},{"$f":"IFERROR(VLOOKUP(A567,'1.Портфель кредитів'!A:Z,7,FALSE),\"\")","v":""},{"$f":"IFERROR(VLOOKUP(A567,'1.Портфель кредитів'!A:Z,14,FALSE),\"\")","v":""},null,null,null,null,null,null,null,null,{"$f":"IFERROR(VLOOKUP(A567,'1.Портфель кредитів'!A:Z,30,FALSE),\"\")","v":""},0,{"$error":"#VALUE!"},null,null,null,null,null,{"$f":"VLOOKUP(C567,Hidden_Словник!$A$2:C$81,3,FALSE)","v":{"$error":"#N/A"}},0,{"$f":"VLOOKUP(F567,Hidden_Словник!$W$2:$X$13,2,FALSE)","v":{"$error":"#N/A"}},{"$f":"#REF!","v":{"$error":"#REF!"}},{"$error":"#N/A"}]
[null,"",{"$f":"IFERROR(VLOOKUP(A568,'1.Портфель кредитів'!A:Z,3,FALSE),\"\")","v":""},{"$f":"IFERROR(VLOOKUP(A568,'1.Портфель кредитів'!A:Z,7,FALSE),\"\")","v":""},{"$f":"IFERROR(VLOOKUP(A568,'1.Портфель кредитів'!A:Z,14,FALSE),\"\")","v":""},null,null,null,null,null,null,null,null,{"$f":"IFERROR(VLOOKUP(A568,'1.Портфель кредитів'!A:Z,30,FALSE),\"\")","v":""},0,{"$error":"#VALUE!"},null,null,null,null,null,{"$f":"VLOOKUP(C568,Hidden_Словник!$A$2:C$81,3,FALSE)","v":{"$error":"#N/A"}},0,{"$f":"VLOOKUP(F568,Hidden_Словник!$W$2:$X$13,2,FALSE)","v":{"$error":"#N/A"}},{"$f":"#REF!","v":{"$error":"#REF!"}},{"$error":"#N/A"}]
[null,"",{"$f":"IFERROR(VLOOKUP(A569,'1.Портфель кредитів'!A:Z,3,FALSE),\"\")","v":""},{"$f":"IFERROR(VLOOKUP(A569,'1.Портфель кредитів'!A:Z,7,FALSE),\"\")","v":""},{"$f":"IFERROR(VLOOKUP(A569,'1.Портфель кредитів'!A:Z,14,FALSE),\"\")","v":""},null,null,null,null,null,null,null,null,{"$f":"IFERROR(VLOOKUP(A569,'1.Портфель кредитів'!A:Z,30,FALSE),\"\")","v":""},0,{"$error":"#VALUE!"},null,null,null,null,null,{"$f":"VLOOKUP(C569,Hidden_Словник!$A$2:C$81,3,FALSE)","v":{"$error":"#N/A"}},0,{"$f":"VLOOKUP(F569,Hidden_Словник!$W$2:$X$13,2,FALSE)","v":{"$error":"#N/A"}},{"$f":"#REF!","v":{"$error":"#REF!"}},{"$error":"#N/A"}]
[null,"",{"$f":"IFERROR(VLOOKUP(A570,'1.Портфель кредитів'!A:Z,3,FALSE),\"\")","v":""},{"$f":"IFERROR(VLOOKUP(A570,'1.Портфель кредитів'!A:Z,7,FALSE),\"\")","v":""},{"$f":"IFERROR(VLOOKUP(A570,'1.Портфель кредитів'!A:Z,14,FALSE),\"\")","v":""},null,null,null,null,null,null,null,null,{"$f":"IFERROR(VLOOKUP(A570,'1.Портфель кредитів'!A:Z,30,FALSE),\"\")","v":""},0,{"$error":"#VALUE!"},null,null,null,null,null,{"$f":"VLOOKUP(C570,Hidden_Словник!$A$2:C$81,3,FALSE)","v":{"$error":"#N/A"}},0,{"$f":"VLOOKUP(F570,Hidden_Словник!$W$2:$X$13,2,FALSE)","v":{"$error":"#N/A"}},{"$f":"#REF!","v":{"$error":"#REF!"}},{"$error":"#N/A"}]
[null,"",{"$f":"IFERROR(VLOOKUP(A571,'1.Портфель кредитів'!A:Z,3,FALSE),\"\")","v":""},{"$f":"IFERROR(VLOOKUP(A571,'1.Портфель кредитів'!A:Z,7,FALSE),\"\")","v":""},{"$f":"IFERROR(VLOOKUP(A571,'1.Портфель кредитів'!A:Z,14,FALSE),\"\")","v":""},null,null,null,null,null,null,null,null,{"$f":"IFERROR(VLOOKUP(A571,'1.Портфель кредитів'!A:Z,30,FALSE),\"\")","v":""},0,{"$error":"#VALUE!"},null,null,null,null,null,{"$f":"VLOOKUP(C571,Hidden_Словник!$A$2:C$81,3,FALSE)","v":{"$error":"#N/A"}},0,{"$f":"VLOOKUP(F571,Hidden_Словник!$W$2:$X$13,2,FALSE)","v":{"$error":"#N/A"}},{"$f":"#REF!","v":{"$error":"#REF!"}},{"$error":"#N/A"}]
[null,"",{"$f":"IFERROR(VLOOKUP(A572,'1.Портфель кредитів'!A:Z,3,FALSE),\"\")","v":""},{"$f":"IFERROR(VLOOKUP(A572,'1.Портфель кредитів'!A:Z,7,FALSE),\"\")","v":""},{"$f":"IFERROR(VLOOKUP(A572,'1.Портфель кредитів'!A:Z,14,FALSE),\"\")","v":""},null,null,null,null,null,null,null,null,{"$f":"IFERROR(VLOOKUP(A572,'1.Портфель кредитів'!A:Z,30,FALSE),\"\")","v":""},0,{"$error":"#VALUE!"},null,null,null,null,null,{"$f":"VLOOKUP(C572,Hidden_Словник!$A$2:C$81,3,FALSE)","v":{"$error":"#N/A"}},0,{"$f":"VLOOKUP(F572,Hidden_Словник!$W$2:$X$13,2,FALSE)","v":{"$error":"#N/A"}},{"$f":"#REF!","v":{"$error":"#REF!"}},{"$error":"#N/A"}]
[null,"",{"$f":"IFERROR(VLOOKUP(A573,'1.Портфель кредитів'!A:Z,3,FALSE),\"\")","v":""},{"$f":"IFERROR(VLOOKUP(A573,'1.Портфель кредитів'!A:Z,7,FALSE),\"\")","v":""},{"$f":"IFERROR(VLOOKUP(A573,'1.Портфель кредитів'!A:Z,14,FALSE),\"\")","v":""},null,null,null,null,null,null,null,null,{"$f":"IFERROR(VLOOKUP(A573,'1.Портфель кредитів'!A:Z,30,FALSE),\"\")","v":""},0,{"$error":"#VALUE!"},null,null,null,null,null,{"$f":"VLOOKUP(C573,Hidden_Словник!$A$2:C$81,3,FALSE)","v":{"$error":"#N/A"}},0,{"$f":"VLOOKUP(F573,Hidden_Словник!$W$2:$X$13,2,FALSE)","v":{"$error":"#N/A"}},{"$f":"#REF!","v":{"$error":"#REF!"}},{"$error":"#N/A"}]
[null,{"$f":"IFERROR(Z574,\"\")","v":""},{"$f":"IFERROR(VLOOKUP(A574,'1.Портфель кредитів'!A:Z,3,FALSE),\"\")","v":""},{"$f":"IFERROR(VLOOKUP(A574,'1.Портфель кредитів'!A:Z,7,FALSE),\"\")","v":""},{"$f":"IFERROR(VLOOKUP(A574,'1.Портфель кредитів'!A:Z,14,FALSE),\"\")","v":""},null,null,null,null,null,null,null,null,{"$f":"IFERROR(VLOOKUP(A574,'1.Портфель кредитів'!A:Z,30,FALSE),\"\")","v":""},0,{"$error":"#VALUE!"},null,null,null,null,null,{"$f":"VLOOKUP(C574,Hidden_Словник!$A$2:C$81,3,FALSE)","v":{"$error":"#N/A"}},0,{"$f":"VLOOKUP(F574,Hidden_Словник!$W$2:$X$13,2,FALSE)","v":{"$error":"#N/A"}},{"$f":"#REF!","v":{"$error":"#REF!"}},{"$f":"V574&\"_\"&W574&X574&Y574","v":{"$error":"#N/A"}}]
[null,"",{"$f":"IFERROR(VLOOKUP(A575,'1.Портфель кредитів'!A:Z,3,FALSE),\"\")","v":""},{"$f":"IFERROR(VLOOKUP(A575,'1.Портфель кредитів'!A:Z,7,FALSE),\"\")","v":""},{"$f":"IFERROR(VLOOKUP(A575,'1.Портфель кредитів'!A:Z,14,FALSE),\"\")","v":""},null,null,null,null,null,null,null,null,{"$f":"IFERROR(VLOOKUP(A575,'1.Портфель кредитів'!A:Z,30,FALSE),\"\")","v":""},0,{"$error":"#VALUE!"},null,null,null,null,null,{"$f":"VLOOKUP(C575,Hidden_Словник!$A$2:C$81,3,FALSE)","v":{"$error":"#N/A"}},0,{"$f":"VLOOKUP(F575,Hidden_Словник!$W$2:$X$13,2,FALSE)","v":{"$error":"#N/A"}},{"$f":"#REF!","v":{"$error":"#REF!"}},{"$error":"#N/A"}]
[null,"",{"$f":"IFERROR(VLOOKUP(A576,'1.Портфель кредитів'!A:Z,3,FALSE),\"\")","v":""},{"$f":"IFERROR(VLOOKUP(A576,'1.Портфель кредитів'!A:Z,7,FALSE),\"\")","v":""},{"$f":"IFERROR(VLOOKUP(A576,'1.Портфель кредитів'!A:Z,14,FALSE),\"\")","v":""},null,null,null,null,null,null,null,null,{"$f":"IFERROR(VLOOKUP(A576,'1.Портфель кредитів'!A:Z,30,FALSE),\"\")","v":""},0,{"$error":"#VALUE!"},null,null,null,null,null,{"$f":"VLOOKUP(C576,Hidden_Словник!$A$2:C$81,3,FALSE)","v":{"$error":"#N/A"}},0,{"$f":"VLOOKUP(F576,Hidden_Словник!$W$2:$X$13,2,FALSE)","v":{"$error":"#N/A"}},{"$f":"#REF!","v":{"$error":"#REF!"}},{"$error":"#N/A"}]
[null,"",{"$f":"IFERROR(VLOOKUP(A577,'1.Портфель кредитів'!A:Z,3,FALSE),\"\")","v":""},{"$f":"IFERROR(VLOOKUP(A577,'1.Портфель кредитів'!A:Z,7,FALSE),\"\")","v":""},{"$f":"IFERROR(VLOOKUP(A577,'1.Портфель кредитів'!A:Z,14,FALSE),\"\")","v":""},null,null,null,null,null,null,null,null,{"$f":"IFERROR(VLOOKUP(A577,'1.Портфель кредитів'!A:Z,30,FALSE),\"\")","v":""},0,{"$error":"#VALUE!"},null,null,null,null,null,{"$f":"VLOOKUP(C577,Hidden_Словник!$A$2:C$81,3,FALSE)","v":{"$error":"#N/A"}},0,{"$f":"VLOOKUP(F577,Hidden_Словник!$W$2:$X$13,2,FALSE)","v":{"$error":"#N/A"}},{"$f":"#REF!","v":{"$error":"#REF!"}},{"$error":"#N/A"}]
[null,"",{"$f":"IFERROR(VLOOKUP(A578,'1.Портфель кредитів'!A:Z,3,FALSE),\"\")","v":""},{"$f":"IFERROR(VLOOKUP(A578,'1.Портфель кредитів'!A:Z,7,FALSE),\"\")","v":""},{"$f":"IFERROR(VLOOKUP(A578,'1.Портфель кредитів'!A:Z,14,FALSE),\"\")","v":""},null,null,null,null,null,null,null,null,{"$f":"IFERROR(VLOOKUP(A578,'1.Портфель кредитів'!A:Z,30,FALSE),\"\")","v":""},0,{"$error":"#VALUE!"},null,null,null,null,null,{"$f":"VLOOKUP(C578,Hidden_Словник!$A$2:C$81,3,FALSE)","v":{"$error":"#N/A"}},0,{"$f":"VLOOKUP(F578,Hidden_Словник!$W$2:$X$13,2,FALSE)","v":{"$error":"#N/A"}},{"$f":"#REF!","v":{"$error":"#REF!"}},{"$error":"#N/A"}]
[null,"",{"$f":"IFERROR(VLOOKUP(A579,'1.Портфель кредитів'!A:Z,3,FALSE),\"\")","v":""},{"$f":"IFERROR(VLOOKUP(A579,'1.Портфель кредитів'!A:Z,7,FALSE),\"\")","v":""},{"$f":"IFERROR(VLOOKUP(A579,'1.Портфель кредитів'!A:Z,14,FALSE),\"\")","v":""},null,null,null,null,null,null,null,null,{"$f":"IFERROR(VLOOKUP(A579,'1.Портфель кредитів'!A:Z,30,FALSE),\"\")","v":""},0,{"$error":"#VALUE!"},null,null,null,null,null,{"$f":"VLOOKUP(C579,Hidden_Словник!$A$2:C$81,3,FALSE)","v":{"$error":"#N/A"}},0,{"$f":"VLOOKUP(F579,Hidden_Словник!$W$2:$X$13,2,FALSE)","v":{"$error":"#N/A"}},{"$f":"#REF!","v":{"$error":"#REF!"}},{"$error":"#N/A"}]
[null,"",{"$f":"IFERROR(VLOOKUP(A580,'1.Портфель кредитів'!A:Z,3,FALSE),\"\")","v":""},{"$f":"IFERROR(VLOOKUP(A580,'1.Портфель кредитів'!A:Z,7,FALSE),\"\")","v":""},{"$f":"IFERROR(VLOOKUP(A580,'1.Портфель кредитів'!A:Z,14,FALSE),\"\")","v":""},null,null,null,null,null,null,null,null,{"$f":"IFERROR(VLOOKUP(A580,'1.Портфель кредитів'!A:Z,30,FALSE),\"\")","v":""},0,{"$error":"#VALUE!"},null,null,null,null,null,{"$f":"VLOOKUP(C580,Hidden_Словник!$A$2:C$81,3,FALSE)","v":{"$error":"#N/A"}},0,{"$f":"VLOOKUP(F580,Hidden_Словник!$W$2:$X$13,2,FALSE)","v":{"$error":"#N/A"}},{"$f":"#REF!","v":{"$error":"#REF!"}},{"$error":"#N/A"}]
[null,"",{"$f":"IFERROR(VLOOKUP(A581,'1.Портфель кредитів'!A:Z,3,FALSE),\"\")","v":""},{"$f":"IFERROR(VLOOKUP(A581,'1.Портфель кредитів'!A:Z,7,FALSE),\"\")","v":""},{"$f":"IFERROR(VLOOKUP(A581,'1.Портфель кредитів'!A:Z,14,FALSE),\"\")","v":""},null,null,null,null,null,null,null,null,{"$f":"IFERROR(VLOOKUP(A581,'1.Портфель кредитів'!A:Z,30,FALSE),\"\")","v":""},0,{"$error":"#VALUE!"},null,null,null,null,null,{"$f":"VLOOKUP(C581,Hidden_Словник!$A$2:C$81,3,FALSE)","v":{"$error":"#N/A"}},0,{"$f":"VLOOKUP(F581,Hidden_Словник!$W$2:$X$13,2,FALSE)","v":{"$error":"#N/A"}},{"$f":"#REF!","v":{"$error":"#REF!"}},{"$error":"#N/A"}]
[null,"",{"$f":"IFERROR(VLOOKUP(A582,'1.Портфель кредитів'!A:Z,3,FALSE),\"\")","v":""},{"$f":"IFERROR(VLOOKUP(A582,'1.Портфель кредитів'!A:Z,7,FALSE),\"\")","v":""},{"$f":"IFERROR(VLOOKUP(A582,'1.Портфель кредитів'!A:Z,14,FALSE),\"\")","v":""},null,null,null,null,null,null,null,null,{"$f":"IFERROR(VLOOKUP(A582,'1.Портфель кредитів'!A:Z,30,FALSE),\"\")","v":""},0,{"$error":"#VALUE!"},null,null,null,null,null,{"$f":"VLOOKUP(C582,Hidden_Словник!$A$2:C$81,3,FALSE)","v":{"$error":"#N/A"}},0,{"$f":"VLOOKUP(F582,Hidden_Словник!$W$2:$X$13,2,FALSE)","v":{"$error":"#N/A"}},{"$f":"#REF!","v":{"$error":"#REF!"}},{"$error":"#N/A"}]
[null,"",{"$f":"IFERROR(VLOOKUP(A583,'1.Портфель кредитів'!A:Z,3,FALSE),\"\")","v":""},{"$f":"IFERROR(VLOOKUP(A583,'1.Портфель кредитів'!A:Z,7,FALSE),\"\")","v":""},{"$f":"IFERROR(VLOOKUP(A583,'1.Портфель кредитів'!A:Z,14,FALSE),\"\")","v":""},null,null,null,null,null,null,null,null,{"$f":"IFERROR(VLOOKUP(A583,'1.Портфель кредитів'!A:Z,30,FALSE),\"\")","v":""},0,{"$error":"#VALUE!"},null,null,null,null,null,{"$f":"VLOOKUP(C583,Hidden_Словник!$A$2:C$81,3,FALSE)","v":{"$error":"#N/A"}},0,{"$f":"VLOOKUP(F583,Hidden_Словник!$W$2:$X$13,2,FALSE)","v":{"$error":"#N/A"}},{"$f":"#REF!","v":{"$error":"#REF!"}},{"$error":"#N/A"}]
[null,"",{"$f":"IFERROR(VLOOKUP(A584,'1.Портфель кредитів'!A:Z,3,FALSE),\"\")","v":""},{"$f":"IFERROR(VLOOKUP(A584,'1.Портфель кредитів'!A:Z,7,FALSE),\"\")","v":""},{"$f":"IFERROR(VLOOKUP(A584,'1.Портфель кредитів'!A:Z,14,FALSE),\"\")","v":""},null,null,null,null,null,null,null,null,{"$f":"IFERROR(VLOOKUP(A584,'1.Портфель кредитів'!A:Z,30,FALSE),\"\")","v":""},0,{"$error":"#VALUE!"},null,null,null,null,null,{"$f":"VLOOKUP(C584,Hidden_Словник!$A$2:C$81,3,FALSE)","v":{"$error":"#N/A"}},0,{"$f":"VLOOKUP(F584,Hidden_Словник!$W$2:$X$13,2,FALSE)","v":{"$error":"#N/A"}},{"$f":"#REF!","v":{"$error":"#REF!"}},{"$error":"#N/A"}]
[null,"",{"$f":"IFERROR(VLOOKUP(A585,'1.Портфель кредитів'!A:Z,3,FALSE),\"\")","v":""},{"$f":"IFERROR(VLOOKUP(A585,'1.Портфель кредитів'!A:Z,7,FALSE),\"\")","v":""},{"$f":"IFERROR(VLOOKUP(A585,'1.Портфель кредитів'!A:Z,14,FALSE),\"\")","v":""},null,null,null,null,null,null,null,null,{"$f":"IFERROR(VLOOKUP(A585,'1.Портфель кредитів'!A:Z,30,FALSE),\"\")","v":""},0,{"$error":"#VALUE!"},null,null,null,null,null,{"$f":"VLOOKUP(C585,Hidden_Словник!$A$2:C$81,3,FALSE)","v":{"$error":"#N/A"}},0,{"$f":"VLOOKUP(F585,Hidden_Словник!$W$2:$X$13,2,FALSE)","v":{"$error":"#N/A"}},{"$f":"#REF!","v":{"$error":"#REF!"}},{"$error":"#N/A"}]
[null,"",{"$f":"IFERROR(VLOOKUP(A586,'1.Портфель кредитів'!A:Z,3,FALSE),\"\")","v":""},{"$f":"IFERROR(VLOOKUP(A586,'1.Портфель кредитів'!A:Z,7,FALSE),\"\")","v":""},{"$f":"IFERROR(VLOOKUP(A586,'1.Портфель кредитів'!A:Z,14,FALSE),\"\")","v":""},null,null,null,null,null,null,null,null,{"$f":"IFERROR(VLOOKUP(A586,'1.Портфель кредитів'!A:Z,30,FALSE),\"\")","v":""},0,{"$error":"#VALUE!"},null,null,null,null,null,{"$f":"VLOOKUP(C586,Hidden_Словник!$A$2:C$81,3,FALSE)","v":{"$error":"#N/A"}},0,{"$f":"VLOOKUP(F586,Hidden_Словник!$W$2:$X$13,2,FALSE)","v":{"$error":"#N/A"}},{"$f":"#REF!","v":{"$error":"#REF!"}},{"$error":"#N/A"}]
[null,"",{"$f":"IFERROR(VLOOKUP(A587,'1.Портфель кредитів'!A:Z,3,FALSE),\"\")","v":""},{"$f":"IFERROR(VLOOKUP(A587,'1.Портфель кредитів'!A:Z,7,FALSE),\"\")","v":""},{"$f":"IFERROR(VLOOKUP(A587,'1.Портфель кредитів'!A:Z,14,FALSE),\"\")","v":""},null,null,null,null,null,null,null,null,{"$f":"IFERROR(VLOOKUP(A587,'1.Портфель кредитів'!A:Z,30,FALSE),\"\")","v":""},0,{"$error":"#VALUE!"},null,null,null,null,null,{"$f":"VLOOKUP(C587,Hidden_Словник!$A$2:C$81,3,FALSE)","v":{"$error":"#N/A"}},0,{"$f":"VLOOKUP(F587,Hidden_Словник!$W$2:$X$13,2,FALSE)","v":{"$error":"#N/A"}},{"$f":"#REF!","v":{"$error":"#REF!"}},{"$error":"#N/A"}]
[null,"",{"$f":"IFERROR(VLOOKUP(A588,'1.Портфель кредитів'!A:Z,3,FALSE),\"\")","v":""},{"$f":"IFERROR(VLOOKUP(A588,'1.Портфель кредитів'!A:Z,7,FALSE),\"\")","v":""},{"$f":"IFERROR(VLOOKUP(A588,'1.Портфель кредитів'!A:Z,14,FALSE),\"\")","v":""},null,null,null,null,null,null,null,null,{"$f":"IFERROR(VLOOKUP(A588,'1.Портфель кредитів'!A:Z,30,FALSE),\"\")","v":""},0,{"$error":"#VALUE!"},null,null,null,null,null,{"$f":"VLOOKUP(C588,Hidden_Словник!$A$2:C$81,3,FALSE)","v":{"$error":"#N/A"}},0,{"$f":"VLOOKUP(F588,Hidden_Словник!$W$2:$X$13,2,FALSE)","v":{"$error":"#N/A"}},{"$f":"#REF!","v":{"$error":"#REF!"}},{"$error":"#N/A"}]
[null,"",{"$f":"IFERROR(VLOOKUP(A589,'1.Портфель кредитів'!A:Z,3,FALSE),\"\")","v":""},{"$f":"IFERROR(VLOOKUP(A589,'1.Портфель кредитів'!A:Z,7,FALSE),\"\")","v":""},{"$f":"IFERROR(VLOOKUP(A589,'1.Портфель кредитів'!A:Z,14,FALSE),\"\")","v":""},null,null,null,null,null,null,null,null,{"$f":"IFERROR(VLOOKUP(A589,'1.Портфель кредитів'!A:Z,30,FALSE),\"\")","v":""},0,{"$error":"#VALUE!"},null,null,null,null,null,{"$f":"VLOOKUP(C589,Hidden_Словник!$A$2:C$81,3,FALSE)","v":{"$error":"#N/A"}},0,{"$f":"VLOOKUP(F589,Hidden_Словник!$W$2:$X$13,2,FALSE)","v":{"$error":"#N/A"}},{"$f":"#REF!","v":{"$error":"#REF!"}},{"$error":"#N/A"}]
[null,"",{"$f":"IFERROR(VLOOKUP(A590,'1.Портфель кредитів'!A:Z,3,FALSE),\"\")","v":""},{"$f":"IFERROR(VLOOKUP(A590,'1.Портфель кредитів'!A:Z,7,FALSE),\"\")","v":""},{"$f":"IFERROR(VLOOKUP(A590,'1.Портфель кредитів'!A:Z,14,FALSE),\"\")","v":""},null,null,null,null,null,null,null,null,{"$f":"IFERROR(VLOOKUP(A590,'1.Портфель кредитів'!A:Z,30,FALSE),\"\")","v":""},0,{"$error":"#VALUE!"},null,null,null,null,null,{"$f":"VLOOKUP(C590,Hidden_Словник!$A$2:C$81,3,FALSE)","v":{"$error":"#N/A"}},0,{"$f":"VLOOKUP(F590,Hidden_Словник!$W$2:$X$13,2,FALSE)","v":{"$error":"#N/A"}},{"$f":"#REF!","v":{"$error":"#REF!"}},{"$error":"#N/A"}]
[null,"",{"$f":"IFERROR(VLOOKUP(A591,'1.Портфель кредитів'!A:Z,3,FALSE),\"\")","v":""},{"$f":"IFERROR(VLOOKUP(A591,'1.Портфель кредитів'!A:Z,7,FALSE),\"\")","v":""},{"$f":"IFERROR(VLOOKUP(A591,'1.Портфель кредитів'!A:Z,14,FALSE),\"\")","v":""},null,null,null,null,null,null,null,null,{"$f":"IFERROR(VLOOKUP(A591,'1.Портфель кредитів'!A:Z,30,FALSE),\"\")","v":""},0,{"$error":"#VALUE!"},null,null,null,null,null,{"$f":"VLOOKUP(C591,Hidden_Словник!$A$2:C$81,3,FALSE)","v":{"$error":"#N/A"}},0,{"$f":"VLOOKUP(F591,Hidden_Словник!$W$2:$X$13,2,FALSE)","v":{"$error":"#N/A"}},{"$f":"#REF!","v":{"$error":"#REF!"}},{"$error":"#N/A"}]
[null,"",{"$f":"IFERROR(VLOOKUP(A592,'1.Портфель кредитів'!A:Z,3,FALSE),\"\")","v":""},{"$f":"IFERROR(VLOOKUP(A592,'1.Портфель кредитів'!A:Z,7,FALSE),\"\")","v":""},{"$f":"IFERROR(VLOOKUP(A592,'1.Портфель кредитів'!A:Z,14,FALSE),\"\")","v":""},null,null,null,null,null,null,null,null,{"$f":"IFERROR(VLOOKUP(A592,'1.Портфель кредитів'!A:Z,30,FALSE),\"\")","v":""},0,{"$error":"#VALUE!"},null,null,null,null,null,{"$f":"VLOOKUP(C592,Hidden_Словник!$A$2:C$81,3,FALSE)","v":{"$error":"#N/A"}},0,{"$f":"VLOOKUP(F592,Hidden_Словник!$W$2:$X$13,2,FALSE)","v":{"$error":"#N/A"}},{"$f":"#REF!","v":{"$error":"#REF!"}},{"$error":"#N/A"}]
[null,"",{"$f":"IFERROR(VLOOKUP(A593,'1.Портфель кредитів'!A:Z,3,FALSE),\"\")","v":""},{"$f":"IFERROR(VLOOKUP(A593,'1.Портфель кредитів'!A:Z,7,FALSE),\"\")","v":""},{"$f":"IFERROR(VLOOKUP(A593,'1.Портфель кредитів'!A:Z,14,FALSE),\"\")","v":""},null,null,null,null,null,null,null,null,{"$f":"IFERROR(VLOOKUP(A593,'1.Портфель кредитів'!A:Z,30,FALSE),\"\")","v":""},0,{"$error":"#VALUE!"},null,null,null,null,null,{"$f":"VLOOKUP(C593,Hidden_Словник!$A$2:C$81,3,FALSE)","v":{"$error":"#N/A"}},0,{"$f":"VLOOKUP(F593,Hidden_Словник!$W$2:$X$13,2,FALSE)","v":{"$error":"#N/A"}},{"$f":"#REF!","v":{"$error":"#REF!"}},{"$error":"#N/A"}]
[null,"",{"$f":"IFERROR(VLOOKUP(A594,'1.Портфель кредитів'!A:Z,3,FALSE),\"\")","v":""},{"$f":"IFERROR(VLOOKUP(A594,'1.Портфель кредитів'!A:Z,7,FALSE),\"\")","v":""},{"$f":"IFERROR(VLOOKUP(A594,'1.Портфель кредитів'!A:Z,14,FALSE),\"\")","v":""},null,null,null,null,null,null,null,null,{"$f":"IFERROR(VLOOKUP(A594,'1.Портфель кредитів'!A:Z,30,FALSE),\"\")","v":""},0,{"$error":"#VALUE!"},null,null,null,null,null,{"$f":"VLOOKUP(C594,Hidden_Словник!$A$2:C$81,3,FALSE)","v":{"$error":"#N/A"}},0,{"$f":"VLOOKUP(F594,Hidden_Словник!$W$2:$X$13,2,FALSE)","v":{"$error":"#N/A"}},{"$f":"#REF!","v":{"$error":"#REF!"}},{"$error":"#N/A"}]
[null,"",{"$f":"IFERROR(VLOOKUP(A595,'1.Портфель кредитів'!A:Z,3,FALSE),\"\")","v":""},{"$f":"IFERROR(VLOOKUP(A595,'1.Портфель кредитів'!A:Z,7,FALSE),\"\")","v":""},{"$f":"IFERROR(VLOOKUP(A595,'1.Портфель кредитів'!A:Z,14,FALSE),\"\")","v":""},null,null,null,null,null,null,null,null,{"$f":"IFERROR(VLOOKUP(A595,'1.Портфель кредитів'!A:Z,30,FALSE),\"\")","v":""},0,{"$error":"#VALUE!"},null,null,null,null,null,{"$f":"VLOOKUP(C595,Hidden_Словник!$A$2:C$81,3,FALSE)","v":{"$error":"#N/A"}},{"$f":"ROUNDUP(K595,0)","v":0},{"$f":"VLOOKUP(F595,Hidden_Словник!$W$2:$X$13,2,FALSE)","v":{"$error":"#N/A"}},{"$f":"#REF!","v":{"$error":"#REF!"}},{"$error":"#N/A"}]
[null,"",{"$f":"IFERROR(VLOOKUP(A596,'1.Портфель кредитів'!A:Z,3,FALSE),\"\")","v":""},{"$f":"IFERROR(VLOOKUP(A596,'1.Портфель кредитів'!A:Z,7,FALSE),\"\")","v":""},{"$f":"IFERROR(VLOOKUP(A596,'1.Портфель кредитів'!A:Z,14,FALSE),\"\")","v":""},null,null,null,null,null,null,null,null,{"$f":"IFERROR(VLOOKUP(A596,'1.Портфель кредитів'!A:Z,30,FALSE),\"\")","v":""},0,{"$error":"#VALUE!"},null,null,null,null,null,{"$f":"VLOOKUP(C596,Hidden_Словник!$A$2:C$81,3,FALSE)","v":{"$error":"#N/A"}},0,{"$f":"VLOOKUP(F596,Hidden_Словник!$W$2:$X$13,2,FALSE)","v":{"$error":"#N/A"}},{"$f":"#REF!","v":{"$error":"#REF!"}},{"$error":"#N/A"}]
[null,"",{"$f":"IFERROR(VLOOKUP(A597,'1.Портфель кредитів'!A:Z,3,FALSE),\"\")","v":""},{"$f":"IFERROR(VLOOKUP(A597,'1.Портфель кредитів'!A:Z,7,FALSE),\"\")","v":""},{"$f":"IFERROR(VLOOKUP(A597,'1.Портфель кредитів'!A:Z,14,FALSE),\"\")","v":""},null,null,null,null,null,null,null,null,{"$f":"IFERROR(VLOOKUP(A597,'1.Портфель кредитів'!A:Z,30,FALSE),\"\")","v":""},0,{"$error":"#VALUE!"},null,null,null,null,null,{"$f":"VLOOKUP(C597,Hidden_Словник!$A$2:C$81,3,FALSE)","v":{"$error":"#N/A"}},0,{"$f":"VLOOKUP(F597,Hidden_Словник!$W$2:$X$13,2,FALSE)","v":{"$error":"#N/A"}},{"$f":"#REF!","v":{"$error":"#REF!"}},{"$error":"#N/A"}]
[null,"",{"$f":"IFERROR(VLOOKUP(A598,'1.Портфель кредитів'!A:Z,3,FALSE),\"\")","v":""},{"$f":"IFERROR(VLOOKUP(A598,'1.Портфель кредитів'!A:Z,7,FALSE),\"\")","v":""},{"$f":"IFERROR(VLOOKUP(A598,'1.Портфель кредитів'!A:Z,14,FALSE),\"\")","v":""},null,null,null,null,null,null,null,null,{"$f":"IFERROR(VLOOKUP(A598,'1.Портфель кредитів'!A:Z,30,FALSE),\"\")","v":""},0,{"$error":"#VALUE!"},null,null,null,null,null,{"$f":"VLOOKUP(C598,Hidden_Словник!$A$2:C$81,3,FALSE)","v":{"$error":"#N/A"}},0,{"$f":"VLOOKUP(F598,Hidden_Словник!$W$2:$X$13,2,FALSE)","v":{"$error":"#N/A"}},{"$f":"#REF!","v":{"$error":"#REF!"}},{"$error":"#N/A"}]
[null,"",{"$f":"IFERROR(VLOOKUP(A599,'1.Портфель кредитів'!A:Z,3,FALSE),\"\")","v":""},{"$f":"IFERROR(VLOOKUP(A599,'1.Портфель кредитів'!A:Z,7,FALSE),\"\")","v":""},{"$f":"IFERROR(VLOOKUP(A599,'1.Портфель кредитів'!A:Z,14,FALSE),\"\")","v":""},null,null,null,null,null,null,null,null,{"$f":"IFERROR(VLOOKUP(A599,'1.Портфель кредитів'!A:Z,30,FALSE),\"\")","v":""},{"$f":"SUMIF(B:B,B599,N:N)","v":0},{"$error":"#VALUE!"},null,null,null,null,null,{"$f":"VLOOKUP(C599,Hidden_Словник!$A$2:C$81,3,FALSE)","v":{"$error":"#N/A"}},0,{"$f":"VLOOKUP(F599,Hidden_Словник!$W$2:$X$13,2,FALSE)","v":{"$error":"#N/A"}},{"$f":"#REF!","v":{"$error":"#REF!"}},{"$error":"#N/A"}]
[null,"",{"$f":"IFERROR(VLOOKUP(A600,'1.Портфель кредитів'!A:Z,3,FALSE),\"\")","v":""},{"$f":"IFERROR(VLOOKUP(A600,'1.Портфель кредитів'!A:Z,7,FALSE),\"\")","v":""},{"$f":"IFERROR(VLOOKUP(A600,'1.Портфель кредитів'!A:Z,14,FALSE),\"\")","v":""},null,null,null,null,null,null,null,null,{"$f":"IFERROR(VLOOKUP(A600,'1.Портфель кредитів'!A:Z,30,FALSE),\"\")","v":""},0,{"$error":"#VALUE!"},null,null,null,null,null,{"$f":"VLOOKUP(C600,Hidden_Словник!$A$2:C$81,3,FALSE)","v":{"$error":"#N/A"}},0,{"$f":"VLOOKUP(F600,Hidden_Словник!$W$2:$X$13,2,FALSE)","v":{"$error":"#N/A"}},{"$f":"#REF!","v":{"$error":"#REF!"}},{"$error":"#N/A"}]
[null,"",{"$f":"IFERROR(VLOOKUP(A601,'1.Портфель кредитів'!A:Z,3,FALSE),\"\")","v":""},{"$f":"IFERROR(VLOOKUP(A601,'1.Портфель кредитів'!A:Z,7,FALSE),\"\")","v":""},{"$f":"IFERROR(VLOOKUP(A601,'1.Портфель кредитів'!A:Z,14,FALSE),\"\")","v":""},null,null,null,null,null,null,null,null,{"$f":"IFERROR(VLOOKUP(A601,'1.Портфель кредитів'!A:Z,30,FALSE),\"\")","v":""},0,{"$error":"#VALUE!"},null,null,null,null,null,{"$f":"VLOOKUP(C601,Hidden_Словник!$A$2:C$81,3,FALSE)","v":{"$error":"#N/A"}},0,{"$f":"VLOOKUP(F601,Hidden_Словник!$W$2:$X$13,2,FALSE)","v":{"$error":"#N/A"}},{"$f":"#REF!","v":{"$error":"#REF!"}},{"$error":"#N/A"}]
[null,"",{"$f":"IFERROR(VLOOKUP(A602,'1.Портфель кредитів'!A:Z,3,FALSE),\"\")","v":""},{"$f":"IFERROR(VLOOKUP(A602,'1.Портфель кредитів'!A:Z,7,FALSE),\"\")","v":""},{"$f":"IFERROR(VLOOKUP(A602,'1.Портфель кредитів'!A:Z,14,FALSE),\"\")","v":""},null,null,null,null,null,null,null,null,{"$f":"IFERROR(VLOOKUP(A602,'1.Портфель кредитів'!A:Z,30,FALSE),\"\")","v":""},0,{"$error":"#VALUE!"},null,null,null,null,null,{"$f":"VLOOKUP(C602,Hidden_Словник!$A$2:C$81,3,FALSE)","v":{"$error":"#N/A"}},0,{"$f":"VLOOKUP(F602,Hidden_Словник!$W$2:$X$13,2,FALSE)","v":{"$error":"#N/A"}},{"$f":"#REF!","v":{"$error":"#REF!"}},{"$error":"#N/A"}]
[null,"",{"$f":"IFERROR(VLOOKUP(A603,'1.Портфель кредитів'!A:Z,3,FALSE),\"\")","v":""},{"$f":"IFERROR(VLOOKUP(A603,'1.Портфель кредитів'!A:Z,7,FALSE),\"\")","v":""},{"$f":"IFERROR(VLOOKUP(A603,'1.Портфель кредитів'!A:Z,14,FALSE),\"\")","v":""},null,null,null,null,null,null,null,null,{"$f":"IFERROR(VLOOKUP(A603,'1.Портфель кредитів'!A:Z,30,FALSE),\"\")","v":""},0,{"$error":"#VALUE!"},null,null,null,null,null,{"$f":"VLOOKUP(C603,Hidden_Словник!$A$2:C$81,3,FALSE)","v":{"$error":"#N/A"}},0,{"$f":"VLOOKUP(F603,Hidden_Словник!$W$2:$X$13,2,FALSE)","v":{"$error":"#N/A"}},{"$f":"#REF!","v":{"$error":"#REF!"}},{"$error":"#N/A"}]
[null,"",{"$f":"IFERROR(VLOOKUP(A604,'1.Портфель кредитів'!A:Z,3,FALSE),\"\")","v":""},{"$f":"IFERROR(VLOOKUP(A604,'1.Портфель кредитів'!A:Z,7,FALSE),\"\")","v":""},{"$f":"IFERROR(VLOOKUP(A604,'1.Портфель кредитів'!A:Z,14,FALSE),\"\")","v":""},null,null,null,null,null,null,null,null,{"$f":"IFERROR(VLOOKUP(A604,'1.Портфель кредитів'!A:Z,30,FALSE),\"\")","v":""},0,{"$error":"#VALUE!"},null,null,null,null,null,{"$f":"VLOOKUP(C604,Hidden_Словник!$A$2:C$81,3,FALSE)","v":{"$error":"#N/A"}},0,{"$f":"VLOOKUP(F604,Hidden_Словник!$W$2:$X$13,2,FALSE)","v":{"$error":"#N/A"}},{"$f":"#REF!","v":{"$error":"#REF!"}},{"$error":"#N/A"}]
[null,"",{"$f":"IFERROR(VLOOKUP(A605,'1.Портфель кредитів'!A:Z,3,FALSE),\"\")","v":""},{"$f":"IFERROR(VLOOKUP(A605,'1.Портфель кредитів'!A:Z,7,FALSE),\"\")","v":""},{"$f":"IFERROR(VLOOKUP(A605,'1.Портфель кредитів'!A:Z,14,FALSE),\"\")","v":""},null,null,null,null,null,null,null,null,{"$f":"IFERROR(VLOOKUP(A605,'1.Портфель кредитів'!A:Z,30,FALSE),\"\")","v":""},0,{"$error":"#VALUE!"},null,null,null,null,null,{"$f":"VLOOKUP(C605,Hidden_Словник!$A$2:C$81,3,FALSE)","v":{"$error":"#N/A"}},0,{"$f":"VLOOKUP(F605,Hidden_Словник!$W$2:$X$13,2,FALSE)","v":{"$error":"#N/A"}},{"$f":"#REF!","v":{"$error":"#REF!"}},{"$error":"#N/A"}]
[null,"",{"$f":"IFERROR(VLOOKUP(A606,'1.Портфель кредитів'!A:Z,3,FALSE),\"\")","v":""},{"$f":"IFERROR(VLOOKUP(A606,'1.Портфель кредитів'!A:Z,7,FALSE),\"\")","v":""},{"$f":"IFERROR(VLOOKUP(A606,'1.Портфель кредитів'!A:Z,14,FALSE),\"\")","v":""},null,null,null,null,null,null,null,null,{"$f":"IFERROR(VLOOKUP(A606,'1.Портфель кредитів'!A:Z,30,FALSE),\"\")","v":""},0,{"$error":"#VALUE!"},null,null,null,null,null,{"$f":"VLOOKUP(C606,Hidden_Словник!$A$2:C$81,3,FALSE)","v":{"$error":"#N/A"}},0,{"$f":"VLOOKUP(F606,Hidden_Словник!$W$2:$X$13,2,FALSE)","v":{"$error":"#N/A"}},{"$f":"#REF!","v":{"$error":"#REF!"}},{"$error":"#N/A"}]
[null,"",{"$f":"IFERROR(VLOOKUP(A607,'1.Портфель кредитів'!A:Z,3,FALSE),\"\")","v":""},{"$f":"IFERROR(VLOOKUP(A607,'1.Портфель кредитів'!A:Z,7,FALSE),\"\")","v":""},{"$f":"IFERROR(VLOOKUP(A607,'1.Портфель кредитів'!A:Z,14,FALSE),\"\")","v":""},null,null,null,null,null,null,null,null,{"$f":"IFERROR(VLOOKUP(A607,'1.Портфель кредитів'!A:Z,30,FALSE),\"\")","v":""},0,{"$error":"#VALUE!"},null,null,null,null,null,{"$f":"VLOOKUP(C607,Hidden_Словник!$A$2:C$81,3,FALSE)","v":{"$error":"#N/A"}},0,{"$f":"VLOOKUP(F607,Hidden_Словник!$W$2:$X$13,2,FALSE)","v":{"$error":"#N/A"}},{"$f":"#REF!","v":{"$error":"#REF!"}},{"$error":"#N/A"}]
[null,"",{"$f":"IFERROR(VLOOKUP(A608,'1.Портфель кредитів'!A:Z,3,FALSE),\"\")","v":""},{"$f":"IFERROR(VLOOKUP(A608,'1.Портфель кредитів'!A:Z,7,FALSE),\"\")","v":""},{"$f":"IFERROR(VLOOKUP(A608,'1.Портфель кредитів'!A:Z,14,FALSE),\"\")","v":""},null,null,null,null,null,null,null,null,{"$f":"IFERROR(VLOOKUP(A608,'1.Портфель кредитів'!A:Z,30,FALSE),\"\")","v":""},0,{"$error":"#VALUE!"},null,null,null,null,null,{"$f":"VLOOKUP(C608,Hidden_Словник!$A$2:C$81,3,FALSE)","v":{"$error":"#N/A"}},0,{"$f":"VLOOKUP(F608,Hidden_Словник!$W$2:$X$13,2,FALSE)","v":{"$error":"#N/A"}},{"$f":"#REF!","v":{"$error":"#REF!"}},{"$error":"#N/A"}]
[null,"",{"$f":"IFERROR(VLOOKUP(A609,'1.Портфель кредитів'!A:Z,3,FALSE),\"\")","v":""},{"$f":"IFERROR(VLOOKUP(A609,'1.Портфель кредитів'!A:Z,7,FALSE),\"\")","v":""},{"$f":"IFERROR(VLOOKUP(A609,'1.Портфель кредитів'!A:Z,14,FALSE),\"\")","v":""},null,null,null,null,null,null,null,null,{"$f":"IFERROR(VLOOKUP(A609,'1.Портфель кредитів'!A:Z,30,FALSE),\"\")","v":""},0,{"$error":"#VALUE!"},null,null,null,null,null,{"$f":"VLOOKUP(C609,Hidden_Словник!$A$2:C$81,3,FALSE)","v":{"$error":"#N/A"}},0,{"$f":"VLOOKUP(F609,Hidden_Словник!$W$2:$X$13,2,FALSE)","v":{"$error":"#N/A"}},{"$f":"#REF!","v":{"$error":"#REF!"}},{"$error":"#N/A"}]
[null,"",{"$f":"IFERROR(VLOOKUP(A610,'1.Портфель кредитів'!A:Z,3,FALSE),\"\")","v":""},{"$f":"IFERROR(VLOOKUP(A610,'1.Портфель кредитів'!A:Z,7,FALSE),\"\")","v":""},{"$f":"IFERROR(VLOOKUP(A610,'1.Портфель кредитів'!A:Z,14,FALSE),\"\")","v":""},null,null,null,null,null,null,null,null,{"$f":"IFERROR(VLOOKUP(A610,'1.Портфель кредитів'!A:Z,30,FALSE),\"\")","v":""},0,{"$error":"#VALUE!"},null,null,null,null,null,{"$f":"VLOOKUP(C610,Hidden_Словник!$A$2:C$81,3,FALSE)","v":{"$error":"#N/A"}},0,{"$f":"VLOOKUP(F610,Hidden_Словник!$W$2:$X$13,2,FALSE)","v":{"$error":"#N/A"}},{"$f":"#REF!","v":{"$error":"#REF!"}},{"$error":"#N/A"}]
[null,"",{"$f":"IFERROR(VLOOKUP(A611,'1.Портфель кредитів'!A:Z,3,FALSE),\"\")","v":""},{"$f":"IFERROR(VLOOKUP(A611,'1.Портфель кредитів'!A:Z,7,FALSE),\"\")","v":""},{"$f":"IFERROR(VLOOKUP(A611,'1.Портфель кредитів'!A:Z,14,FALSE),\"\")","v":""},null,null,null,null,null,null,null,null,{"$f":"IFERROR(VLOOKUP(A611,'1.Портфель кредитів'!A:Z,30,FALSE),\"\")","v":""},0,{"$error":"#VALUE!"},null,null,null,null,null,{"$f":"VLOOKUP(C611,Hidden_Словник!$A$2:C$81,3,FALSE)","v":{"$error":"#N/A"}},0,{"$f":"VLOOKUP(F611,Hidden_Словник!$W$2:$X$13,2,FALSE)","v":{"$error":"#N/A"}},{"$f":"#REF!","v":{"$error":"#REF!"}},{"$error":"#N/A"}]
[null,"",{"$f":"IFERROR(VLOOKUP(A612,'1.Портфель кредитів'!A:Z,3,FALSE),\"\")","v":""},{"$f":"IFERROR(VLOOKUP(A612,'1.Портфель кредитів'!A:Z,7,FALSE),\"\")","v":""},{"$f":"IFERROR(VLOOKUP(A612,'1.Портфель кредитів'!A:Z,14,FALSE),\"\")","v":""},null,null,null,null,null,null,null,null,{"$f":"IFERROR(VLOOKUP(A612,'1.Портфель кредитів'!A:Z,30,FALSE),\"\")","v":""},0,{"$error":"#VALUE!"},null,null,null,null,null,{"$f":"VLOOKUP(C612,Hidden_Словник!$A$2:C$81,3,FALSE)","v":{"$error":"#N/A"}},0,{"$f":"VLOOKUP(F612,Hidden_Словник!$W$2:$X$13,2,FALSE)","v":{"$error":"#N/A"}},{"$f":"#REF!","v":{"$error":"#REF!"}},{"$error":"#N/A"}]
[null,"",{"$f":"IFERROR(VLOOKUP(A613,'1.Портфель кредитів'!A:Z,3,FALSE),\"\")","v":""},{"$f":"IFERROR(VLOOKUP(A613,'1.Портфель кредитів'!A:Z,7,FALSE),\"\")","v":""},{"$f":"IFERROR(VLOOKUP(A613,'1.Портфель кредитів'!A:Z,14,FALSE),\"\")","v":""},null,null,null,null,null,null,null,null,{"$f":"IFERROR(VLOOKUP(A613,'1.Портфель кредитів'!A:Z,30,FALSE),\"\")","v":""},0,{"$error":"#VALUE!"},null,null,null,null,null,{"$f":"VLOOKUP(C613,Hidden_Словник!$A$2:C$81,3,FALSE)","v":{"$error":"#N/A"}},0,{"$f":"VLOOKUP(F613,Hidden_Словник!$W$2:$X$13,2,FALSE)","v":{"$error":"#N/A"}},{"$f":"#REF!","v":{"$error":"#REF!"}},{"$error":"#N/A"}]
[null,"",{"$f":"IFERROR(VLOOKUP(A614,'1.Портфель кредитів'!A:Z,3,FALSE),\"\")","v":""},{"$f":"IFERROR(VLOOKUP(A614,'1.Портфель кредитів'!A:Z,7,FALSE),\"\")","v":""},{"$f":"IFERROR(VLOOKUP(A614,'1.Портфель кредитів'!A:Z,14,FALSE),\"\")","v":""},null,null,null,null,null,null,null,null,{"$f":"IFERROR(VLOOKUP(A614,'1.Портфель кредитів'!A:Z,30,FALSE),\"\")","v":""},0,{"$f":"N614/O614","v":{"$error":"#VALUE!"}},null,null,null,null,null,{"$f":"VLOOKUP(C614,Hidden_Словник!$A$2:C$81,3,FALSE)","v":{"$error":"#N/A"}},0,{"$f":"VLOOKUP(F614,Hidden_Словник!$W$2:$X$13,2,FALSE)","v":{"$error":"#N/A"}},{"$f":"#REF!","v":{"$error":"#REF!"}},{"$error":"#N/A"}]
[null,"",{"$f":"IFERROR(VLOOKUP(A615,'1.Портфель кредитів'!A:Z,3,FALSE),\"\")","v":""},{"$f":"IFERROR(VLOOKUP(A615,'1.Портфель кредитів'!A:Z,7,FALSE),\"\")","v":""},{"$f":"IFERROR(VLOOKUP(A615,'1.Портфель кредитів'!A:Z,14,FALSE),\"\")","v":""},null,null,null,null,null,null,null,null,{"$f":"IFERROR(VLOOKUP(A615,'1.Портфель кредитів'!A:Z,30,FALSE),\"\")","v":""},0,{"$error":"#VALUE!"},null,null,null,null,null,{"$f":"VLOOKUP(C615,Hidden_Словник!$A$2:C$81,3,FALSE)","v":{"$error":"#N/A"}},0,{"$f":"VLOOKUP(F615,Hidden_Словник!$W$2:$X$13,2,FALSE)","v":{"$error":"#N/A"}},{"$f":"#REF!","v":{"$error":"#REF!"}},{"$error":"#N/A"}]
[null,"",{"$f":"IFERROR(VLOOKUP(A616,'1.Портфель кредитів'!A:Z,3,FALSE),\"\")","v":""},{"$f":"IFERROR(VLOOKUP(A616,'1.Портфель кредитів'!A:Z,7,FALSE),\"\")","v":""},{"$f":"IFERROR(VLOOKUP(A616,'1.Портфель кредитів'!A:Z,14,FALSE),\"\")","v":""},null,null,null,null,null,null,null,null,{"$f":"IFERROR(VLOOKUP(A616,'1.Портфель кредитів'!A:Z,30,FALSE),\"\")","v":""},0,{"$error":"#VALUE!"},null,null,null,null,null,{"$f":"VLOOKUP(C616,Hidden_Словник!$A$2:C$81,3,FALSE)","v":{"$error":"#N/A"}},0,{"$f":"VLOOKUP(F616,Hidden_Словник!$W$2:$X$13,2,FALSE)","v":{"$error":"#N/A"}},{"$f":"#REF!","v":{"$error":"#REF!"}},{"$error":"#N/A"}]
[null,"",{"$f":"IFERROR(VLOOKUP(A617,'1.Портфель кредитів'!A:Z,3,FALSE),\"\")","v":""},{"$f":"IFERROR(VLOOKUP(A617,'1.Портфель кредитів'!A:Z,7,FALSE),\"\")","v":""},{"$f":"IFERROR(VLOOKUP(A617,'1.Портфель кредитів'!A:Z,14,FALSE),\"\")","v":""},null,null,null,null,null,null,null,null,{"$f":"IFERROR(VLOOKUP(A617,'1.Портфель кредитів'!A:Z,30,FALSE),\"\")","v":""},0,{"$error":"#VALUE!"},null,null,null,null,null,{"$f":"VLOOKUP(C617,Hidden_Словник!$A$2:C$81,3,FALSE)","v":{"$error":"#N/A"}},0,{"$f":"VLOOKUP(F617,Hidden_Словник!$W$2:$X$13,2,FALSE)","v":{"$error":"#N/A"}},{"$f":"#REF!","v":{"$error":"#REF!"}},{"$error":"#N/A"}]
[null,"",{"$f":"IFERROR(VLOOKUP(A618,'1.Портфель кредитів'!A:Z,3,FALSE),\"\")","v":""},{"$f":"IFERROR(VLOOKUP(A618,'1.Портфель кредитів'!A:Z,7,FALSE),\"\")","v":""},{"$f":"IFERROR(VLOOKUP(A618,'1.Портфель кредитів'!A:Z,14,FALSE),\"\")","v":""},null,null,null,null,null,null,null,null,{"$f":"IFERROR(VLOOKUP(A618,'1.Портфель кредитів'!A:Z,30,FALSE),\"\")","v":""},0,{"$error":"#VALUE!"},null,null,null,null,null,{"$f":"VLOOKUP(C618,Hidden_Словник!$A$2:C$81,3,FALSE)","v":{"$error":"#N/A"}},0,{"$f":"VLOOKUP(F618,Hidden_Словник!$W$2:$X$13,2,FALSE)","v":{"$error":"#N/A"}},{"$f":"#REF!","v":{"$error":"#REF!"}},{"$error":"#N/A"}]
[null,"",{"$f":"IFERROR(VLOOKUP(A619,'1.Портфель кредитів'!A:Z,3,FALSE),\"\")","v":""},{"$f":"IFERROR(VLOOKUP(A619,'1.Портфель кредитів'!A:Z,7,FALSE),\"\")","v":""},{"$f":"IFERROR(VLOOKUP(A619,'1.Портфель кредитів'!A:Z,14,FALSE),\"\")","v":""},null,null,null,null,null,null,null,null,{"$f":"IFERROR(VLOOKUP(A619,'1.Портфель кредитів'!A:Z,30,FALSE),\"\")","v":""},0,{"$error":"#VALUE!"},null,null,null,null,null,{"$f":"VLOOKUP(C619,Hidden_Словник!$A$2:C$81,3,FALSE)","v":{"$error":"#N/A"}},0,{"$f":"VLOOKUP(F619,Hidden_Словник!$W$2:$X$13,2,FALSE)","v":{"$error":"#N/A"}},{"$f":"#REF!","v":{"$error":"#REF!"}},{"$error":"#N/A"}]
[null,"",{"$f":"IFERROR(VLOOKUP(A620,'1.Портфель кредитів'!A:Z,3,FALSE),\"\")","v":""},{"$f":"IFERROR(VLOOKUP(A620,'1.Портфель кредитів'!A:Z,7,FALSE),\"\")","v":""},{"$f":"IFERROR(VLOOKUP(A620,'1.Портфель кредитів'!A:Z,14,FALSE),\"\")","v":""},null,null,null,null,null,null,null,null,{"$f":"IFERROR(VLOOKUP(A620,'1.Портфель кредитів'!A:Z,30,FALSE),\"\")","v":""},0,{"$error":"#VALUE!"},null,null,null,null,null,{"$f":"VLOOKUP(C620,Hidden_Словник!$A$2:C$81,3,FALSE)","v":{"$error":"#N/A"}},0,{"$f":"VLOOKUP(F620,Hidden_Словник!$W$2:$X$13,2,FALSE)","v":{"$error":"#N/A"}},{"$f":"#REF!","v":{"$error":"#REF!"}},{"$error":"#N/A"}]
[null,"",{"$f":"IFERROR(VLOOKUP(A621,'1.Портфель кредитів'!A:Z,3,FALSE),\"\")","v":""},{"$f":"IFERROR(VLOOKUP(A621,'1.Портфель кредитів'!A:Z,7,FALSE),\"\")","v":""},{"$f":"IFERROR(VLOOKUP(A621,'1.Портфель кредитів'!A:Z,14,FALSE),\"\")","v":""},null,null,null,null,null,null,null,null,{"$f":"IFERROR(VLOOKUP(A621,'1.Портфель кредитів'!A:Z,30,FALSE),\"\")","v":""},0,{"$error":"#VALUE!"},null,null,null,null,null,{"$f":"VLOOKUP(C621,Hidden_Словник!$A$2:C$81,3,FALSE)","v":{"$error":"#N/A"}},0,{"$f":"VLOOKUP(F621,Hidden_Словник!$W$2:$X$13,2,FALSE)","v":{"$error":"#N/A"}},{"$f":"#REF!","v":{"$error":"#REF!"}},{"$error":"#N/A"}]
[null,"",{"$f":"IFERROR(VLOOKUP(A622,'1.Портфель кредитів'!A:Z,3,FALSE),\"\")","v":""},{"$f":"IFERROR(VLOOKUP(A622,'1.Портфель кредитів'!A:Z,7,FALSE),\"\")","v":""},{"$f":"IFERROR(VLOOKUP(A622,'1.Портфель кредитів'!A:Z,14,FALSE),\"\")","v":""},null,null,null,null,null,null,null,null,{"$f":"IFERROR(VLOOKUP(A622,'1.Портфель кредитів'!A:Z,30,FALSE),\"\")","v":""},0,{"$error":"#VALUE!"},null,null,null,null,null,{"$f":"VLOOKUP(C622,Hidden_Словник!$A$2:C$81,3,FALSE)","v":{"$error":"#N/A"}},0,{"$f":"VLOOKUP(F622,Hidden_Словник!$W$2:$X$13,2,FALSE)","v":{"$error":"#N/A"}},{"$f":"#REF!","v":{"$error":"#REF!"}},{"$error":"#N/A"}]
[null,"",{"$f":"IFERROR(VLOOKUP(A623,'1.Портфель кредитів'!A:Z,3,FALSE),\"\")","v":""},{"$f":"IFERROR(VLOOKUP(A623,'1.Портфель кредитів'!A:Z,7,FALSE),\"\")","v":""},{"$f":"IFERROR(VLOOKUP(A623,'1.Портфель кредитів'!A:Z,14,FALSE),\"\")","v":""},null,null,null,null,null,null,null,null,{"$f":"IFERROR(VLOOKUP(A623,'1.Портфель кредитів'!A:Z,30,FALSE),\"\")","v":""},0,{"$error":"#VALUE!"},null,null,null,null,null,{"$f":"VLOOKUP(C623,Hidden_Словник!$A$2:C$81,3,FALSE)","v":{"$error":"#N/A"}},0,{"$f":"VLOOKUP(F623,Hidden_Словник!$W$2:$X$13,2,FALSE)","v":{"$error":"#N/A"}},{"$f":"#REF!","v":{"$error":"#REF!"}},{"$error":"#N/A"}]
[null,"",{"$f":"IFERROR(VLOOKUP(A624,'1.Портфель кредитів'!A:Z,3,FALSE),\"\")","v":""},{"$f":"IFERROR(VLOOKUP(A624,'1.Портфель кредитів'!A:Z,7,FALSE),\"\")","v":""},{"$f":"IFERROR(VLOOKUP(A624,'1.Портфель кредитів'!A:Z,14,FALSE),\"\")","v":""},null,null,null,null,null,null,null,null,{"$f":"IFERROR(VLOOKUP(A624,'1.Портфель кредитів'!A:Z,30,FALSE),\"\")","v":""},0,{"$error":"#VALUE!"},null,null,null,null,null,{"$f":"VLOOKUP(C624,Hidden_Словник!$A$2:C$81,3,FALSE)","v":{"$error":"#N/A"}},0,{"$f":"VLOOKUP(F624,Hidden_Словник!$W$2:$X$13,2,FALSE)","v":{"$error":"#N/A"}},{"$f":"#REF!","v":{"$error":"#REF!"}},{"$error":"#N/A"}]
[null,"",{"$f":"IFERROR(VLOOKUP(A625,'1.Портфель кредитів'!A:Z,3,FALSE),\"\")","v":""},{"$f":"IFERROR(VLOOKUP(A625,'1.Портфель кредитів'!A:Z,7,FALSE),\"\")","v":""},{"$f":"IFERROR(VLOOKUP(A625,'1.Портфель кредитів'!A:Z,14,FALSE),\"\")","v":""},null,null,null,null,null,null,null,null,{"$f":"IFERROR(VLOOKUP(A625,'1.Портфель кредитів'!A:Z,30,FALSE),\"\")","v":""},0,{"$error":"#VALUE!"},null,null,null,null,null,{"$f":"VLOOKUP(C625,Hidden_Словник!$A$2:C$81,3,FALSE)","v":{"$error":"#N/A"}},0,{"$f":"VLOOKUP(F625,Hidden_Словник!$W$2:$X$13,2,FALSE)","v":{"$error":"#N/A"}},{"$f":"#REF!","v":{"$error":"#REF!"}},{"$error":"#N/A"}]
[null,"",{"$f":"IFERROR(VLOOKUP(A626,'1.Портфель кредитів'!A:Z,3,FALSE),\"\")","v":""},{"$f":"IFERROR(VLOOKUP(A626,'1.Портфель кредитів'!A:Z,7,FALSE),\"\")","v":""},{"$f":"IFERROR(VLOOKUP(A626,'1.Портфель кредитів'!A:Z,14,FALSE),\"\")","v":""},null,null,null,null,null,null,null,null,{"$f":"IFERROR(VLOOKUP(A626,'1.Портфель кредитів'!A:Z,30,FALSE),\"\")","v":""},0,{"$error":"#VALUE!"},null,null,null,null,null,{"$f":"VLOOKUP(C626,Hidden_Словник!$A$2:C$81,3,FALSE)","v":{"$error":"#N/A"}},0,{"$f":"VLOOKUP(F626,Hidden_Словник!$W$2:$X$13,2,FALSE)","v":{"$error":"#N/A"}},{"$f":"#REF!","v":{"$error":"#REF!"}},{"$error":"#N/A"}]
[null,"",{"$f":"IFERROR(VLOOKUP(A627,'1.Портфель кредитів'!A:Z,3,FALSE),\"\")","v":""},{"$f":"IFERROR(VLOOKUP(A627,'1.Портфель кредитів'!A:Z,7,FALSE),\"\")","v":""},{"$f":"IFERROR(VLOOKUP(A627,'1.Портфель кредитів'!A:Z,14,FALSE),\"\")","v":""},null,null,null,null,null,null,null,null,{"$f":"IFERROR(VLOOKUP(A627,'1.Портфель кредитів'!A:Z,30,FALSE),\"\")","v":""},0,{"$error":"#VALUE!"},null,null,null,null,null,{"$f":"VLOOKUP(C627,Hidden_Словник!$A$2:C$81,3,FALSE)","v":{"$error":"#N/A"}},0,{"$f":"VLOOKUP(F627,Hidden_Словник!$W$2:$X$13,2,FALSE)","v":{"$error":"#N/A"}},{"$f":"#REF!","v":{"$error":"#REF!"}},{"$error":"#N/A"}]
[null,"",{"$f":"IFERROR(VLOOKUP(A628,'1.Портфель кредитів'!A:Z,3,FALSE),\"\")","v":""},{"$f":"IFERROR(VLOOKUP(A628,'1.Портфель кредитів'!A:Z,7,FALSE),\"\")","v":""},{"$f":"IFERROR(VLOOKUP(A628,'1.Портфель кредитів'!A:Z,14,FALSE),\"\")","v":""},null,null,null,null,null,null,null,null,{"$f":"IFERROR(VLOOKUP(A628,'1.Портфель кредитів'!A:Z,30,FALSE),\"\")","v":""},0,{"$error":"#VALUE!"},null,null,null,null,null,{"$f":"VLOOKUP(C628,Hidden_Словник!$A$2:C$81,3,FALSE)","v":{"$error":"#N/A"}},0,{"$f":"VLOOKUP(F628,Hidden_Словник!$W$2:$X$13,2,FALSE)","v":{"$error":"#N/A"}},{"$f":"#REF!","v":{"$error":"#REF!"}},{"$error":"#N/A"}]
[null,"",{"$f":"IFERROR(VLOOKUP(A629,'1.Портфель кредитів'!A:Z,3,FALSE),\"\")","v":""},{"$f":"IFERROR(VLOOKUP(A629,'1.Портфель кредитів'!A:Z,7,FALSE),\"\")","v":""},{"$f":"IFERROR(VLOOKUP(A629,'1.Портфель кредитів'!A:Z,14,FALSE),\"\")","v":""},null,null,null,null,null,null,null,null,{"$f":"IFERROR(VLOOKUP(A629,'1.Портфель кредитів'!A:Z,30,FALSE),\"\")","v":""},0,{"$error":"#VALUE!"},null,null,null,null,null,{"$f":"VLOOKUP(C629,Hidden_Словник!$A$2:C$81,3,FALSE)","v":{"$error":"#N/A"}},0,{"$f":"VLOOKUP(F629,Hidden_Словник!$W$2:$X$13,2,FALSE)","v":{"$error":"#N/A"}},{"$f":"#REF!","v":{"$error":"#REF!"}},{"$error":"#N/A"}]
[null,"",{"$f":"IFERROR(VLOOKUP(A630,'1.Портфель кредитів'!A:Z,3,FALSE),\"\")","v":""},{"$f":"IFERROR(VLOOKUP(A630,'1.Портфель кредитів'!A:Z,7,FALSE),\"\")","v":""},{"$f":"IFERROR(VLOOKUP(A630,'1.Портфель кредитів'!A:Z,14,FALSE),\"\")","v":""},null,null,null,null,null,null,null,null,{"$f":"IFERROR(VLOOKUP(A630,'1.Портфель кредитів'!A:Z,30,FALSE),\"\")","v":""},0,{"$error":"#VALUE!"},null,null,null,null,null,{"$f":"VLOOKUP(C630,Hidden_Словник!$A$2:C$81,3,FALSE)","v":{"$error":"#N/A"}},0,{"$f":"VLOOKUP(F630,Hidden_Словник!$W$2:$X$13,2,FALSE)","v":{"$error":"#N/A"}},{"$f":"#REF!","v":{"$error":"#REF!"}},{"$error":"#N/A"}]
[null,"",{"$f":"IFERROR(VLOOKUP(A631,'1.Портфель кредитів'!A:Z,3,FALSE),\"\")","v":""},{"$f":"IFERROR(VLOOKUP(A631,'1.Портфель кредитів'!A:Z,7,FALSE),\"\")","v":""},{"$f":"IFERROR(VLOOKUP(A631,'1.Портфель кредитів'!A:Z,14,FALSE),\"\")","v":""},null,null,null,null,null,null,null,null,{"$f":"IFERROR(VLOOKUP(A631,'1.Портфель кредитів'!A:Z,30,FALSE),\"\")","v":""},0,{"$error":"#VALUE!"},null,null,null,null,null,{"$f":"VLOOKUP(C631,Hidden_Словник!$A$2:C$81,3,FALSE)","v":{"$error":"#N/A"}},0,{"$f":"VLOOKUP(F631,Hidden_Словник!$W$2:$X$13,2,FALSE)","v":{"$error":"#N/A"}},{"$f":"#REF!","v":{"$error":"#REF!"}},{"$error":"#N/A"}]
[null,"",{"$f":"IFERROR(VLOOKUP(A632,'1.Портфель кредитів'!A:Z,3,FALSE),\"\")","v":""},{"$f":"IFERROR(VLOOKUP(A632,'1.Портфель кредитів'!A:Z,7,FALSE),\"\")","v":""},{"$f":"IFERROR(VLOOKUP(A632,'1.Портфель кредитів'!A:Z,14,FALSE),\"\")","v":""},null,null,null,null,null,null,null,null,{"$f":"IFERROR(VLOOKUP(A632,'1.Портфель кредитів'!A:Z,30,FALSE),\"\")","v":""},0,{"$error":"#VALUE!"},null,null,null,null,null,{"$f":"VLOOKUP(C632,Hidden_Словник!$A$2:C$81,3,FALSE)","v":{"$error":"#N/A"}},0,{"$f":"VLOOKUP(F632,Hidden_Словник!$W$2:$X$13,2,FALSE)","v":{"$error":"#N/A"}},{"$f":"#REF!","v":{"$error":"#REF!"}},{"$error":"#N/A"}]
[null,"",{"$f":"IFERROR(VLOOKUP(A633,'1.Портфель кредитів'!A:Z,3,FALSE),\"\")","v":""},{"$f":"IFERROR(VLOOKUP(A633,'1.Портфель кредитів'!A:Z,7,FALSE),\"\")","v":""},{"$f":"IFERROR(VLOOKUP(A633,'1.Портфель кредитів'!A:Z,14,FALSE),\"\")","v":""},null,null,null,null,null,null,null,null,{"$f":"IFERROR(VLOOKUP(A633,'1.Портфель кредитів'!A:Z,30,FALSE),\"\")","v":""},0,{"$error":"#VALUE!"},null,null,null,null,null,{"$f":"VLOOKUP(C633,Hidden_Словник!$A$2:C$81,3,FALSE)","v":{"$error":"#N/A"}},0,{"$f":"VLOOKUP(F633,Hidden_Словник!$W$2:$X$13,2,FALSE)","v":{"$error":"#N/A"}},{"$f":"#REF!","v":{"$error":"#REF!"}},{"$error":"#N/A"}]
[null,"",{"$f":"IFERROR(VLOOKUP(A634,'1.Портфель кредитів'!A:Z,3,FALSE),\"\")","v":""},{"$f":"IFERROR(VLOOKUP(A634,'1.Портфель кредитів'!A:Z,7,FALSE),\"\")","v":""},{"$f":"IFERROR(VLOOKUP(A634,'1.Портфель кредитів'!A:Z,14,FALSE),\"\")","v":""},null,null,null,null,null,null,null,null,{"$f":"IFERROR(VLOOKUP(A634,'1.Портфель кредитів'!A:Z,30,FALSE),\"\")","v":""},0,{"$error":"#VALUE!"},null,null,null,null,null,{"$f":"VLOOKUP(C634,Hidden_Словник!$A$2:C$81,3,FALSE)","v":{"$error":"#N/A"}},0,{"$f":"VLOOKUP(F634,Hidden_Словник!$W$2:$X$13,2,FALSE)","v":{"$error":"#N/A"}},{"$f":"#REF!","v":{"$error":"#REF!"}},{"$error":"#N/A"}]
[null,"",{"$f":"IFERROR(VLOOKUP(A635,'1.Портфель кредитів'!A:Z,3,FALSE),\"\")","v":""},{"$f":"IFERROR(VLOOKUP(A635,'1.Портфель кредитів'!A:Z,7,FALSE),\"\")","v":""},{"$f":"IFERROR(VLOOKUP(A635,'1.Портфель кредитів'!A:Z,14,FALSE),\"\")","v":""},null,null,null,null,null,null,null,null,{"$f":"IFERROR(VLOOKUP(A635,'1.Портфель кредитів'!A:Z,30,FALSE),\"\")","v":""},0,{"$error":"#VALUE!"},null,null,null,null,null,{"$f":"VLOOKUP(C635,Hidden_Словник!$A$2:C$81,3,FALSE)","v":{"$error":"#N/A"}},0,{"$f":"VLOOKUP(F635,Hidden_Словник!$W$2:$X$13,2,FALSE)","v":{"$error":"#N/A"}},{"$f":"#REF!","v":{"$error":"#REF!"}},{"$error":"#N/A"}]
[null,"",{"$f":"IFERROR(VLOOKUP(A636,'1.Портфель кредитів'!A:Z,3,FALSE),\"\")","v":""},{"$f":"IFERROR(VLOOKUP(A636,'1.Портфель кредитів'!A:Z,7,FALSE),\"\")","v":""},{"$f":"IFERROR(VLOOKUP(A636,'1.Портфель кредитів'!A:Z,14,FALSE),\"\")","v":""},null,null,null,null,null,null,null,null,{"$f":"IFERROR(VLOOKUP(A636,'1.Портфель кредитів'!A:Z,30,FALSE),\"\")","v":""},0,{"$error":"#VALUE!"},null,null,null,null,null,{"$f":"VLOOKUP(C636,Hidden_Словник!$A$2:C$81,3,FALSE)","v":{"$error":"#N/A"}},0,{"$f":"VLOOKUP(F636,Hidden_Словник!$W$2:$X$13,2,FALSE)","v":{"$error":"#N/A"}},{"$f":"#REF!","v":{"$error":"#REF!"}},{"$error":"#N/A"}]
[null,"",{"$f":"IFERROR(VLOOKUP(A637,'1.Портфель кредитів'!A:Z,3,FALSE),\"\")","v":""},{"$f":"IFERROR(VLOOKUP(A637,'1.Портфель кредитів'!A:Z,7,FALSE),\"\")","v":""},{"$f":"IFERROR(VLOOKUP(A637,'1.Портфель кредитів'!A:Z,14,FALSE),\"\")","v":""},null,null,null,null,null,null,null,null,{"$f":"IFERROR(VLOOKUP(A637,'1.Портфель кредитів'!A:Z,30,FALSE),\"\")","v":""},0,{"$error":"#VALUE!"},null,null,null,null,null,{"$f":"VLOOKUP(C637,Hidden_Словник!$A$2:C$81,3,FALSE)","v":{"$error":"#N/A"}},0,{"$f":"VLOOKUP(F637,Hidden_Словник!$W$2:$X$13,2,FALSE)","v":{"$error":"#N/A"}},{"$f":"#REF!","v":{"$error":"#REF!"}},{"$error":"#N/A"}]
[null,{"$f":"IFERROR(Z638,\"\")","v":""},{"$f":"IFERROR(VLOOKUP(A638,'1.Портфель кредитів'!A:Z,3,FALSE),\"\")","v":""},{"$f":"IFERROR(VLOOKUP(A638,'1.Портфель кредитів'!A:Z,7,FALSE),\"\")","v":""},{"$f":"IFERROR(VLOOKUP(A638,'1.Портфель кредитів'!A:Z,14,FALSE),\"\")","v":""},null,null,null,null,null,null,null,null,{"$f":"IFERROR(VLOOKUP(A638,'1.Портфель кредитів'!A:Z,30,FALSE),\"\")","v":""},0,{"$error":"#VALUE!"},null,null,null,null,null,{"$f":"VLOOKUP(C638,Hidden_Словник!$A$2:C$81,3,FALSE)","v":{"$error":"#N/A"}},0,{"$f":"VLOOKUP(F638,Hidden_Словник!$W$2:$X$13,2,FALSE)","v":{"$error":"#N/A"}},{"$f":"#REF!","v":{"$error":"#REF!"}},{"$f":"V638&\"_\"&W638&X638&Y638","v":{"$error":"#N/A"}}]
[null,"",{"$f":"IFERROR(VLOOKUP(A639,'1.Портфель кредитів'!A:Z,3,FALSE),\"\")","v":""},{"$f":"IFERROR(VLOOKUP(A639,'1.Портфель кредитів'!A:Z,7,FALSE),\"\")","v":""},{"$f":"IFERROR(VLOOKUP(A639,'1.Портфель кредитів'!A:Z,14,FALSE),\"\")","v":""},null,null,null,null,null,null,null,null,{"$f":"IFERROR(VLOOKUP(A639,'1.Портфель кредитів'!A:Z,30,FALSE),\"\")","v":""},0,{"$error":"#VALUE!"},null,null,null,null,null,{"$f":"VLOOKUP(C639,Hidden_Словник!$A$2:C$81,3,FALSE)","v":{"$error":"#N/A"}},0,{"$f":"VLOOKUP(F639,Hidden_Словник!$W$2:$X$13,2,FALSE)","v":{"$error":"#N/A"}},{"$f":"#REF!","v":{"$error":"#REF!"}},{"$error":"#N/A"}]
[null,"",{"$f":"IFERROR(VLOOKUP(A640,'1.Портфель кредитів'!A:Z,3,FALSE),\"\")","v":""},{"$f":"IFERROR(VLOOKUP(A640,'1.Портфель кредитів'!A:Z,7,FALSE),\"\")","v":""},{"$f":"IFERROR(VLOOKUP(A640,'1.Портфель кредитів'!A:Z,14,FALSE),\"\")","v":""},null,null,null,null,null,null,null,null,{"$f":"IFERROR(VLOOKUP(A640,'1.Портфель кредитів'!A:Z,30,FALSE),\"\")","v":""},0,{"$error":"#VALUE!"},null,null,null,null,null,{"$f":"VLOOKUP(C640,Hidden_Словник!$A$2:C$81,3,FALSE)","v":{"$error":"#N/A"}},0,{"$f":"VLOOKUP(F640,Hidden_Словник!$W$2:$X$13,2,FALSE)","v":{"$error":"#N/A"}},{"$f":"#REF!","v":{"$error":"#REF!"}},{"$error":"#N/A"}]
[null,"",{"$f":"IFERROR(VLOOKUP(A641,'1.Портфель кредитів'!A:Z,3,FALSE),\"\")","v":""},{"$f":"IFERROR(VLOOKUP(A641,'1.Портфель кредитів'!A:Z,7,FALSE),\"\")","v":""},{"$f":"IFERROR(VLOOKUP(A641,'1.Портфель кредитів'!A:Z,14,FALSE),\"\")","v":""},null,null,null,null,null,null,null,null,{"$f":"IFERROR(VLOOKUP(A641,'1.Портфель кредитів'!A:Z,30,FALSE),\"\")","v":""},0,{"$error":"#VALUE!"},null,null,null,null,null,{"$f":"VLOOKUP(C641,Hidden_Словник!$A$2:C$81,3,FALSE)","v":{"$error":"#N/A"}},0,{"$f":"VLOOKUP(F641,Hidden_Словник!$W$2:$X$13,2,FALSE)","v":{"$error":"#N/A"}},{"$f":"#REF!","v":{"$error":"#REF!"}},{"$error":"#N/A"}]
[null,"",{"$f":"IFERROR(VLOOKUP(A642,'1.Портфель кредитів'!A:Z,3,FALSE),\"\")","v":""},{"$f":"IFERROR(VLOOKUP(A642,'1.Портфель кредитів'!A:Z,7,FALSE),\"\")","v":""},{"$f":"IFERROR(VLOOKUP(A642,'1.Портфель кредитів'!A:Z,14,FALSE),\"\")","v":""},null,null,null,null,null,null,null,null,{"$f":"IFERROR(VLOOKUP(A642,'1.Портфель кредитів'!A:Z,30,FALSE),\"\")","v":""},0,{"$error":"#VALUE!"},null,null,null,null,null,{"$f":"VLOOKUP(C642,Hidden_Словник!$A$2:C$81,3,FALSE)","v":{"$error":"#N/A"}},0,{"$f":"VLOOKUP(F642,Hidden_Словник!$W$2:$X$13,2,FALSE)","v":{"$error":"#N/A"}},{"$f":"#REF!","v":{"$error":"#REF!"}},{"$error":"#N/A"}]
[null,"",{"$f":"IFERROR(VLOOKUP(A643,'1.Портфель кредитів'!A:Z,3,FALSE),\"\")","v":""},{"$f":"IFERROR(VLOOKUP(A643,'1.Портфель кредитів'!A:Z,7,FALSE),\"\")","v":""},{"$f":"IFERROR(VLOOKUP(A643,'1.Портфель кредитів'!A:Z,14,FALSE),\"\")","v":""},null,null,null,null,null,null,null,null,{"$f":"IFERROR(VLOOKUP(A643,'1.Портфель кредитів'!A:Z,30,FALSE),\"\")","v":""},0,{"$error":"#VALUE!"},null,null,null,null,null,{"$f":"VLOOKUP(C643,Hidden_Словник!$A$2:C$81,3,FALSE)","v":{"$error":"#N/A"}},0,{"$f":"VLOOKUP(F643,Hidden_Словник!$W$2:$X$13,2,FALSE)","v":{"$error":"#N/A"}},{"$f":"#REF!","v":{"$error":"#REF!"}},{"$error":"#N/A"}]
[null,"",{"$f":"IFERROR(VLOOKUP(A644,'1.Портфель кредитів'!A:Z,3,FALSE),\"\")","v":""},{"$f":"IFERROR(VLOOKUP(A644,'1.Портфель кредитів'!A:Z,7,FALSE),\"\")","v":""},{"$f":"IFERROR(VLOOKUP(A644,'1.Портфель кредитів'!A:Z,14,FALSE),\"\")","v":""},null,null,null,null,null,null,null,null,{"$f":"IFERROR(VLOOKUP(A644,'1.Портфель кредитів'!A:Z,30,FALSE),\"\")","v":""},0,{"$error":"#VALUE!"},null,null,null,null,null,{"$f":"VLOOKUP(C644,Hidden_Словник!$A$2:C$81,3,FALSE)","v":{"$error":"#N/A"}},0,{"$f":"VLOOKUP(F644,Hidden_Словник!$W$2:$X$13,2,FALSE)","v":{"$error":"#N/A"}},{"$f":"#REF!","v":{"$error":"#REF!"}},{"$error":"#N/A"}]
[null,"",{"$f":"IFERROR(VLOOKUP(A645,'1.Портфель кредитів'!A:Z,3,FALSE),\"\")","v":""},{"$f":"IFERROR(VLOOKUP(A645,'1.Портфель кредитів'!A:Z,7,FALSE),\"\")","v":""},{"$f":"IFERROR(VLOOKUP(A645,'1.Портфель кредитів'!A:Z,14,FALSE),\"\")","v":""},null,null,null,null,null,null,null,null,{"$f":"IFERROR(VLOOKUP(A645,'1.Портфель кредитів'!A:Z,30,FALSE),\"\")","v":""},0,{"$error":"#VALUE!"},null,null,null,null,null,{"$f":"VLOOKUP(C645,Hidden_Словник!$A$2:C$81,3,FALSE)","v":{"$error":"#N/A"}},0,{"$f":"VLOOKUP(F645,Hidden_Словник!$W$2:$X$13,2,FALSE)","v":{"$error":"#N/A"}},{"$f":"#REF!","v":{"$error":"#REF!"}},{"$error":"#N/A"}]
[null,"",{"$f":"IFERROR(VLOOKUP(A646,'1.Портфель кредитів'!A:Z,3,FALSE),\"\")","v":""},{"$f":"IFERROR(VLOOKUP(A646,'1.Портфель кредитів'!A:Z,7,FALSE),\"\")","v":""},{"$f":"IFERROR(VLOOKUP(A646,'1.Портфель кредитів'!A:Z,14,FALSE),\"\")","v":""},null,null,null,null,null,null,null,null,{"$f":"IFERROR(VLOOKUP(A646,'1.Портфель кредитів'!A:Z,30,FALSE),\"\")","v":""},0,{"$error":"#VALUE!"},null,null,null,null,null,{"$f":"VLOOKUP(C646,Hidden_Словник!$A$2:C$81,3,FALSE)","v":{"$error":"#N/A"}},0,{"$f":"VLOOKUP(F646,Hidden_Словник!$W$2:$X$13,2,FALSE)","v":{"$error":"#N/A"}},{"$f":"#REF!","v":{"$error":"#REF!"}},{"$error":"#N/A"}]
[null,"",{"$f":"IFERROR(VLOOKUP(A647,'1.Портфель кредитів'!A:Z,3,FALSE),\"\")","v":""},{"$f":"IFERROR(VLOOKUP(A647,'1.Портфель кредитів'!A:Z,7,FALSE),\"\")","v":""},{"$f":"IFERROR(VLOOKUP(A647,'1.Портфель кредитів'!A:Z,14,FALSE),\"\")","v":""},null,null,null,null,null,null,null,null,{"$f":"IFERROR(VLOOKUP(A647,'1.Портфель кредитів'!A:Z,30,FALSE),\"\")","v":""},0,{"$error":"#VALUE!"},null,null,null,null,null,{"$f":"VLOOKUP(C647,Hidden_Словник!$A$2:C$81,3,FALSE)","v":{"$error":"#N/A"}},0,{"$f":"VLOOKUP(F647,Hidden_Словник!$W$2:$X$13,2,FALSE)","v":{"$error":"#N/A"}},{"$f":"#REF!","v":{"$error":"#REF!"}},{"$error":"#N/A"}]
[null,"",{"$f":"IFERROR(VLOOKUP(A648,'1.Портфель кредитів'!A:Z,3,FALSE),\"\")","v":""},{"$f":"IFERROR(VLOOKUP(A648,'1.Портфель кредитів'!A:Z,7,FALSE),\"\")","v":""},{"$f":"IFERROR(VLOOKUP(A648,'1.Портфель кредитів'!A:Z,14,FALSE),\"\")","v":""},null,null,null,null,null,null,null,null,{"$f":"IFERROR(VLOOKUP(A648,'1.Портфель кредитів'!A:Z,30,FALSE),\"\")","v":""},0,{"$error":"#VALUE!"},null,null,null,null,null,{"$f":"VLOOKUP(C648,Hidden_Словник!$A$2:C$81,3,FALSE)","v":{"$error":"#N/A"}},0,{"$f":"VLOOKUP(F648,Hidden_Словник!$W$2:$X$13,2,FALSE)","v":{"$error":"#N/A"}},{"$f":"#REF!","v":{"$error":"#REF!"}},{"$error":"#N/A"}]
[null,"",{"$f":"IFERROR(VLOOKUP(A649,'1.Портфель кредитів'!A:Z,3,FALSE),\"\")","v":""},{"$f":"IFERROR(VLOOKUP(A649,'1.Портфель кредитів'!A:Z,7,FALSE),\"\")","v":""},{"$f":"IFERROR(VLOOKUP(A649,'1.Портфель кредитів'!A:Z,14,FALSE),\"\")","v":""},null,null,null,null,null,null,null,null,{"$f":"IFERROR(VLOOKUP(A649,'1.Портфель кредитів'!A:Z,30,FALSE),\"\")","v":""},0,{"$error":"#VALUE!"},null,null,null,null,null,{"$f":"VLOOKUP(C649,Hidden_Словник!$A$2:C$81,3,FALSE)","v":{"$error":"#N/A"}},0,{"$f":"VLOOKUP(F649,Hidden_Словник!$W$2:$X$13,2,FALSE)","v":{"$error":"#N/A"}},{"$f":"#REF!","v":{"$error":"#REF!"}},{"$error":"#N/A"}]
[null,"",{"$f":"IFERROR(VLOOKUP(A650,'1.Портфель кредитів'!A:Z,3,FALSE),\"\")","v":""},{"$f":"IFERROR(VLOOKUP(A650,'1.Портфель кредитів'!A:Z,7,FALSE),\"\")","v":""},{"$f":"IFERROR(VLOOKUP(A650,'1.Портфель кредитів'!A:Z,14,FALSE),\"\")","v":""},null,null,null,null,null,null,null,null,{"$f":"IFERROR(VLOOKUP(A650,'1.Портфель кредитів'!A:Z,30,FALSE),\"\")","v":""},0,{"$error":"#VALUE!"},null,null,null,null,null,{"$f":"VLOOKUP(C650,Hidden_Словник!$A$2:C$81,3,FALSE)","v":{"$error":"#N/A"}},0,{"$f":"VLOOKUP(F650,Hidden_Словник!$W$2:$X$13,2,FALSE)","v":{"$error":"#N/A"}},{"$f":"#REF!","v":{"$error":"#REF!"}},{"$error":"#N/A"}]
[null,"",{"$f":"IFERROR(VLOOKUP(A651,'1.Портфель кредитів'!A:Z,3,FALSE),\"\")","v":""},{"$f":"IFERROR(VLOOKUP(A651,'1.Портфель кредитів'!A:Z,7,FALSE),\"\")","v":""},{"$f":"IFERROR(VLOOKUP(A651,'1.Портфель кредитів'!A:Z,14,FALSE),\"\")","v":""},null,null,null,null,null,null,null,null,{"$f":"IFERROR(VLOOKUP(A651,'1.Портфель кредитів'!A:Z,30,FALSE),\"\")","v":""},0,{"$error":"#VALUE!"},null,null,null,null,null,{"$f":"VLOOKUP(C651,Hidden_Словник!$A$2:C$81,3,FALSE)","v":{"$error":"#N/A"}},0,{"$f":"VLOOKUP(F651,Hidden_Словник!$W$2:$X$13,2,FALSE)","v":{"$error":"#N/A"}},{"$f":"#REF!","v":{"$error":"#REF!"}},{"$error":"#N/A"}]
[null,"",{"$f":"IFERROR(VLOOKUP(A652,'1.Портфель кредитів'!A:Z,3,FALSE),\"\")","v":""},{"$f":"IFERROR(VLOOKUP(A652,'1.Портфель кредитів'!A:Z,7,FALSE),\"\")","v":""},{"$f":"IFERROR(VLOOKUP(A652,'1.Портфель кредитів'!A:Z,14,FALSE),\"\")","v":""},null,null,null,null,null,null,null,null,{"$f":"IFERROR(VLOOKUP(A652,'1.Портфель кредитів'!A:Z,30,FALSE),\"\")","v":""},0,{"$error":"#VALUE!"},null,null,null,null,null,{"$f":"VLOOKUP(C652,Hidden_Словник!$A$2:C$81,3,FALSE)","v":{"$error":"#N/A"}},0,{"$f":"VLOOKUP(F652,Hidden_Словник!$W$2:$X$13,2,FALSE)","v":{"$error":"#N/A"}},{"$f":"#REF!","v":{"$error":"#REF!"}},{"$error":"#N/A"}]
[null,"",{"$f":"IFERROR(VLOOKUP(A653,'1.Портфель кредитів'!A:Z,3,FALSE),\"\")","v":""},{"$f":"IFERROR(VLOOKUP(A653,'1.Портфель кредитів'!A:Z,7,FALSE),\"\")","v":""},{"$f":"IFERROR(VLOOKUP(A653,'1.Портфель кредитів'!A:Z,14,FALSE),\"\")","v":""},null,null,null,null,null,null,null,null,{"$f":"IFERROR(VLOOKUP(A653,'1.Портфель кредитів'!A:Z,30,FALSE),\"\")","v":""},0,{"$error":"#VALUE!"},null,null,null,null,null,{"$f":"VLOOKUP(C653,Hidden_Словник!$A$2:C$81,3,FALSE)","v":{"$error":"#N/A"}},0,{"$f":"VLOOKUP(F653,Hidden_Словник!$W$2:$X$13,2,FALSE)","v":{"$error":"#N/A"}},{"$f":"#REF!","v":{"$error":"#REF!"}},{"$error":"#N/A"}]
[null,"",{"$f":"IFERROR(VLOOKUP(A654,'1.Портфель кредитів'!A:Z,3,FALSE),\"\")","v":""},{"$f":"IFERROR(VLOOKUP(A654,'1.Портфель кредитів'!A:Z,7,FALSE),\"\")","v":""},{"$f":"IFERROR(VLOOKUP(A654,'1.Портфель кредитів'!A:Z,14,FALSE),\"\")","v":""},null,null,null,null,null,null,null,null,{"$f":"IFERROR(VLOOKUP(A654,'1.Портфель кредитів'!A:Z,30,FALSE),\"\")","v":""},0,{"$error":"#VALUE!"},null,null,null,null,null,{"$f":"VLOOKUP(C654,Hidden_Словник!$A$2:C$81,3,FALSE)","v":{"$error":"#N/A"}},0,{"$f":"VLOOKUP(F654,Hidden_Словник!$W$2:$X$13,2,FALSE)","v":{"$error":"#N/A"}},{"$f":"#REF!","v":{"$error":"#REF!"}},{"$error":"#N/A"}]
[null,"",{"$f":"IFERROR(VLOOKUP(A655,'1.Портфель кредитів'!A:Z,3,FALSE),\"\")","v":""},{"$f":"IFERROR(VLOOKUP(A655,'1.Портфель кредитів'!A:Z,7,FALSE),\"\")","v":""},{"$f":"IFERROR(VLOOKUP(A655,'1.Портфель кредитів'!A:Z,14,FALSE),\"\")","v":""},null,null,null,null,null,null,null,null,{"$f":"IFERROR(VLOOKUP(A655,'1.Портфель кредитів'!A:Z,30,FALSE),\"\")","v":""},0,{"$error":"#VALUE!"},null,null,null,null,null,{"$f":"VLOOKUP(C655,Hidden_Словник!$A$2:C$81,3,FALSE)","v":{"$error":"#N/A"}},0,{"$f":"VLOOKUP(F655,Hidden_Словник!$W$2:$X$13,2,FALSE)","v":{"$error":"#N/A"}},{"$f":"#REF!","v":{"$error":"#REF!"}},{"$error":"#N/A"}]
[null,"",{"$f":"IFERROR(VLOOKUP(A656,'1.Портфель кредитів'!A:Z,3,FALSE),\"\")","v":""},{"$f":"IFERROR(VLOOKUP(A656,'1.Портфель кредитів'!A:Z,7,FALSE),\"\")","v":""},{"$f":"IFERROR(VLOOKUP(A656,'1.Портфель кредитів'!A:Z,14,FALSE),\"\")","v":""},null,null,null,null,null,null,null,null,{"$f":"IFERROR(VLOOKUP(A656,'1.Портфель кредитів'!A:Z,30,FALSE),\"\")","v":""},0,{"$error":"#VALUE!"},null,null,null,null,null,{"$f":"VLOOKUP(C656,Hidden_Словник!$A$2:C$81,3,FALSE)","v":{"$error":"#N/A"}},0,{"$f":"VLOOKUP(F656,Hidden_Словник!$W$2:$X$13,2,FALSE)","v":{"$error":"#N/A"}},{"$f":"#REF!","v":{"$error":"#REF!"}},{"$error":"#N/A"}]
[null,"",{"$f":"IFERROR(VLOOKUP(A657,'1.Портфель кредитів'!A:Z,3,FALSE),\"\")","v":""},{"$f":"IFERROR(VLOOKUP(A657,'1.Портфель кредитів'!A:Z,7,FALSE),\"\")","v":""},{"$f":"IFERROR(VLOOKUP(A657,'1.Портфель кредитів'!A:Z,14,FALSE),\"\")","v":""},null,null,null,null,null,null,null,null,{"$f":"IFERROR(VLOOKUP(A657,'1.Портфель кредитів'!A:Z,30,FALSE),\"\")","v":""},0,{"$error":"#VALUE!"},null,null,null,null,null,{"$f":"VLOOKUP(C657,Hidden_Словник!$A$2:C$81,3,FALSE)","v":{"$error":"#N/A"}},0,{"$f":"VLOOKUP(F657,Hidden_Словник!$W$2:$X$13,2,FALSE)","v":{"$error":"#N/A"}},{"$f":"#REF!","v":{"$error":"#REF!"}},{"$error":"#N/A"}]
[null,"",{"$f":"IFERROR(VLOOKUP(A658,'1.Портфель кредитів'!A:Z,3,FALSE),\"\")","v":""},{"$f":"IFERROR(VLOOKUP(A658,'1.Портфель кредитів'!A:Z,7,FALSE),\"\")","v":""},{"$f":"IFERROR(VLOOKUP(A658,'1.Портфель кредитів'!A:Z,14,FALSE),\"\")","v":""},null,null,null,null,null,null,null,null,{"$f":"IFERROR(VLOOKUP(A658,'1.Портфель кредитів'!A:Z,30,FALSE),\"\")","v":""},0,{"$error":"#VALUE!"},null,null,null,null,null,{"$f":"VLOOKUP(C658,Hidden_Словник!$A$2:C$81,3,FALSE)","v":{"$error":"#N/A"}},0,{"$f":"VLOOKUP(F658,Hidden_Словник!$W$2:$X$13,2,FALSE)","v":{"$error":"#N/A"}},{"$f":"#REF!","v":{"$error":"#REF!"}},{"$error":"#N/A"}]
[null,"",{"$f":"IFERROR(VLOOKUP(A659,'1.Портфель кредитів'!A:Z,3,FALSE),\"\")","v":""},{"$f":"IFERROR(VLOOKUP(A659,'1.Портфель кредитів'!A:Z,7,FALSE),\"\")","v":""},{"$f":"IFERROR(VLOOKUP(A659,'1.Портфель кредитів'!A:Z,14,FALSE),\"\")","v":""},null,null,null,null,null,null,null,null,{"$f":"IFERROR(VLOOKUP(A659,'1.Портфель кредитів'!A:Z,30,FALSE),\"\")","v":""},0,{"$error":"#VALUE!"},null,null,null,null,null,{"$f":"VLOOKUP(C659,Hidden_Словник!$A$2:C$81,3,FALSE)","v":{"$error":"#N/A"}},{"$f":"ROUNDUP(K659,0)","v":0},{"$f":"VLOOKUP(F659,Hidden_Словник!$W$2:$X$13,2,FALSE)","v":{"$error":"#N/A"}},{"$f":"#REF!","v":{"$error":"#REF!"}},{"$error":"#N/A"}]
[null,"",{"$f":"IFERROR(VLOOKUP(A660,'1.Портфель кредитів'!A:Z,3,FALSE),\"\")","v":""},{"$f":"IFERROR(VLOOKUP(A660,'1.Портфель кредитів'!A:Z,7,FALSE),\"\")","v":""},{"$f":"IFERROR(VLOOKUP(A660,'1.Портфель кредитів'!A:Z,14,FALSE),\"\")","v":""},null,null,null,null,null,null,null,null,{"$f":"IFERROR(VLOOKUP(A660,'1.Портфель кредитів'!A:Z,30,FALSE),\"\")","v":""},0,{"$error":"#VALUE!"},null,null,null,null,null,{"$f":"VLOOKUP(C660,Hidden_Словник!$A$2:C$81,3,FALSE)","v":{"$error":"#N/A"}},0,{"$f":"VLOOKUP(F660,Hidden_Словник!$W$2:$X$13,2,FALSE)","v":{"$error":"#N/A"}},{"$f":"#REF!","v":{"$error":"#REF!"}},{"$error":"#N/A"}]
[null,"",{"$f":"IFERROR(VLOOKUP(A661,'1.Портфель кредитів'!A:Z,3,FALSE),\"\")","v":""},{"$f":"IFERROR(VLOOKUP(A661,'1.Портфель кредитів'!A:Z,7,FALSE),\"\")","v":""},{"$f":"IFERROR(VLOOKUP(A661,'1.Портфель кредитів'!A:Z,14,FALSE),\"\")","v":""},null,null,null,null,null,null,null,null,{"$f":"IFERROR(VLOOKUP(A661,'1.Портфель кредитів'!A:Z,30,FALSE),\"\")","v":""},0,{"$error":"#VALUE!"},null,null,null,null,null,{"$f":"VLOOKUP(C661,Hidden_Словник!$A$2:C$81,3,FALSE)","v":{"$error":"#N/A"}},0,{"$f":"VLOOKUP(F661,Hidden_Словник!$W$2:$X$13,2,FALSE)","v":{"$error":"#N/A"}},{"$f":"#REF!","v":{"$error":"#REF!"}},{"$error":"#N/A"}]
[null,"",{"$f":"IFERROR(VLOOKUP(A662,'1.Портфель кредитів'!A:Z,3,FALSE),\"\")","v":""},{"$f":"IFERROR(VLOOKUP(A662,'1.Портфель кредитів'!A:Z,7,FALSE),\"\")","v":""},{"$f":"IFERROR(VLOOKUP(A662,'1.Портфель кредитів'!A:Z,14,FALSE),\"\")","v":""},null,null,null,null,null,null,null,null,{"$f":"IFERROR(VLOOKUP(A662,'1.Портфель кредитів'!A:Z,30,FALSE),\"\")","v":""},0,{"$error":"#VALUE!"},null,null,null,null,null,{"$f":"VLOOKUP(C662,Hidden_Словник!$A$2:C$81,3,FALSE)","v":{"$error":"#N/A"}},0,{"$f":"VLOOKUP(F662,Hidden_Словник!$W$2:$X$13,2,FALSE)","v":{"$error":"#N/A"}},{"$f":"#REF!","v":{"$error":"#REF!"}},{"$error":"#N/A"}]
[null,"",{"$f":"IFERROR(VLOOKUP(A663,'1.Портфель кредитів'!A:Z,3,FALSE),\"\")","v":""},{"$f":"IFERROR(VLOOKUP(A663,'1.Портфель кредитів'!A:Z,7,FALSE),\"\")","v":""},{"$f":"IFERROR(VLOOKUP(A663,'1.Портфель кредитів'!A:Z,14,FALSE),\"\")","v":""},null,null,null,null,null,null,null,null,{"$f":"IFERROR(VLOOKUP(A663,'1.Портфель кредитів'!A:Z,30,FALSE),\"\")","v":""},{"$f":"SUMIF(B:B,B663,N:N)","v":0},{"$error":"#VALUE!"},null,null,null,null,null,{"$f":"VLOOKUP(C663,Hidden_Словник!$A$2:C$81,3,FALSE)","v":{"$error":"#N/A"}},0,{"$f":"VLOOKUP(F663,Hidden_Словник!$W$2:$X$13,2,FALSE)","v":{"$error":"#N/A"}},{"$f":"#REF!","v":{"$error":"#REF!"}},{"$error":"#N/A"}]
[null,"",{"$f":"IFERROR(VLOOKUP(A664,'1.Портфель кредитів'!A:Z,3,FALSE),\"\")","v":""},{"$f":"IFERROR(VLOOKUP(A664,'1.Портфель кредитів'!A:Z,7,FALSE),\"\")","v":""},{"$f":"IFERROR(VLOOKUP(A664,'1.Портфель кредитів'!A:Z,14,FALSE),\"\")","v":""},null,null,null,null,null,null,null,null,{"$f":"IFERROR(VLOOKUP(A664,'1.Портфель кредитів'!A:Z,30,FALSE),\"\")","v":""},0,{"$error":"#VALUE!"},null,null,null,null,null,{"$f":"VLOOKUP(C664,Hidden_Словник!$A$2:C$81,3,FALSE)","v":{"$error":"#N/A"}},0,{"$f":"VLOOKUP(F664,Hidden_Словник!$W$2:$X$13,2,FALSE)","v":{"$error":"#N/A"}},{"$f":"#REF!","v":{"$error":"#REF!"}},{"$error":"#N/A"}]
[null,"",{"$f":"IFERROR(VLOOKUP(A665,'1.Портфель кредитів'!A:Z,3,FALSE),\"\")","v":""},{"$f":"IFERROR(VLOOKUP(A665,'1.Портфель кредитів'!A:Z,7,FALSE),\"\")","v":""},{"$f":"IFERROR(VLOOKUP(A665,'1.Портфель кредитів'!A:Z,14,FALSE),\"\")","v":""},null,null,null,null,null,null,null,null,{"$f":"IFERROR(VLOOKUP(A665,'1.Портфель кредитів'!A:Z,30,FALSE),\"\")","v":""},0,{"$error":"#VALUE!"},null,null,null,null,null,{"$f":"VLOOKUP(C665,Hidden_Словник!$A$2:C$81,3,FALSE)","v":{"$error":"#N/A"}},0,{"$f":"VLOOKUP(F665,Hidden_Словник!$W$2:$X$13,2,FALSE)","v":{"$error":"#N/A"}},{"$f":"#REF!","v":{"$error":"#REF!"}},{"$error":"#N/A"}]
[null,"",{"$f":"IFERROR(VLOOKUP(A666,'1.Портфель кредитів'!A:Z,3,FALSE),\"\")","v":""},{"$f":"IFERROR(VLOOKUP(A666,'1.Портфель кредитів'!A:Z,7,FALSE),\"\")","v":""},{"$f":"IFERROR(VLOOKUP(A666,'1.Портфель кредитів'!A:Z,14,FALSE),\"\")","v":""},null,null,null,null,null,null,null,null,{"$f":"IFERROR(VLOOKUP(A666,'1.Портфель кредитів'!A:Z,30,FALSE),\"\")","v":""},0,{"$error":"#VALUE!"},null,null,null,null,null,{"$f":"VLOOKUP(C666,Hidden_Словник!$A$2:C$81,3,FALSE)","v":{"$error":"#N/A"}},0,{"$f":"VLOOKUP(F666,Hidden_Словник!$W$2:$X$13,2,FALSE)","v":{"$error":"#N/A"}},{"$f":"#REF!","v":{"$error":"#REF!"}},{"$error":"#N/A"}]
[null,"",{"$f":"IFERROR(VLOOKUP(A667,'1.Портфель кредитів'!A:Z,3,FALSE),\"\")","v":""},{"$f":"IFERROR(VLOOKUP(A667,'1.Портфель кредитів'!A:Z,7,FALSE),\"\")","v":""},{"$f":"IFERROR(VLOOKUP(A667,'1.Портфель кредитів'!A:Z,14,FALSE),\"\")","v":""},null,null,null,null,null,null,null,null,{"$f":"IFERROR(VLOOKUP(A667,'1.Портфель кредитів'!A:Z,30,FALSE),\"\")","v":""},0,{"$error":"#VALUE!"},null,null,null,null,null,{"$f":"VLOOKUP(C667,Hidden_Словник!$A$2:C$81,3,FALSE)","v":{"$error":"#N/A"}},0,{"$f":"VLOOKUP(F667,Hidden_Словник!$W$2:$X$13,2,FALSE)","v":{"$error":"#N/A"}},{"$f":"#REF!","v":{"$error":"#REF!"}},{"$error":"#N/A"}]
[null,"",{"$f":"IFERROR(VLOOKUP(A668,'1.Портфель кредитів'!A:Z,3,FALSE),\"\")","v":""},{"$f":"IFERROR(VLOOKUP(A668,'1.Портфель кредитів'!A:Z,7,FALSE),\"\")","v":""},{"$f":"IFERROR(VLOOKUP(A668,'1.Портфель кредитів'!A:Z,14,FALSE),\"\")","v":""},null,null,null,null,null,null,null,null,{"$f":"IFERROR(VLOOKUP(A668,'1.Портфель кредитів'!A:Z,30,FALSE),\"\")","v":""},0,{"$error":"#VALUE!"},null,null,null,null,null,{"$f":"VLOOKUP(C668,Hidden_Словник!$A$2:C$81,3,FALSE)","v":{"$error":"#N/A"}},0,{"$f":"VLOOKUP(F668,Hidden_Словник!$W$2:$X$13,2,FALSE)","v":{"$error":"#N/A"}},{"$f":"#REF!","v":{"$error":"#REF!"}},{"$error":"#N/A"}]
[null,"",{"$f":"IFERROR(VLOOKUP(A669,'1.Портфель кредитів'!A:Z,3,FALSE),\"\")","v":""},{"$f":"IFERROR(VLOOKUP(A669,'1.Портфель кредитів'!A:Z,7,FALSE),\"\")","v":""},{"$f":"IFERROR(VLOOKUP(A669,'1.Портфель кредитів'!A:Z,14,FALSE),\"\")","v":""},null,null,null,null,null,null,null,null,{"$f":"IFERROR(VLOOKUP(A669,'1.Портфель кредитів'!A:Z,30,FALSE),\"\")","v":""},0,{"$error":"#VALUE!"},null,null,null,null,null,{"$f":"VLOOKUP(C669,Hidden_Словник!$A$2:C$81,3,FALSE)","v":{"$error":"#N/A"}},0,{"$f":"VLOOKUP(F669,Hidden_Словник!$W$2:$X$13,2,FALSE)","v":{"$error":"#N/A"}},{"$f":"#REF!","v":{"$error":"#REF!"}},{"$error":"#N/A"}]
[null,"",{"$f":"IFERROR(VLOOKUP(A670,'1.Портфель кредитів'!A:Z,3,FALSE),\"\")","v":""},{"$f":"IFERROR(VLOOKUP(A670,'1.Портфель кредитів'!A:Z,7,FALSE),\"\")","v":""},{"$f":"IFERROR(VLOOKUP(A670,'1.Портфель кредитів'!A:Z,14,FALSE),\"\")","v":""},null,null,null,null,null,null,null,null,{"$f":"IFERROR(VLOOKUP(A670,'1.Портфель кредитів'!A:Z,30,FALSE),\"\")","v":""},0,{"$error":"#VALUE!"},null,null,null,null,null,{"$f":"VLOOKUP(C670,Hidden_Словник!$A$2:C$81,3,FALSE)","v":{"$error":"#N/A"}},0,{"$f":"VLOOKUP(F670,Hidden_Словник!$W$2:$X$13,2,FALSE)","v":{"$error":"#N/A"}},{"$f":"#REF!","v":{"$error":"#REF!"}},{"$error":"#N/A"}]
[null,"",{"$f":"IFERROR(VLOOKUP(A671,'1.Портфель кредитів'!A:Z,3,FALSE),\"\")","v":""},{"$f":"IFERROR(VLOOKUP(A671,'1.Портфель кредитів'!A:Z,7,FALSE),\"\")","v":""},{"$f":"IFERROR(VLOOKUP(A671,'1.Портфель кредитів'!A:Z,14,FALSE),\"\")","v":""},null,null,null,null,null,null,null,null,{"$f":"IFERROR(VLOOKUP(A671,'1.Портфель кредитів'!A:Z,30,FALSE),\"\")","v":""},0,{"$error":"#VALUE!"},null,null,null,null,null,{"$f":"VLOOKUP(C671,Hidden_Словник!$A$2:C$81,3,FALSE)","v":{"$error":"#N/A"}},0,{"$f":"VLOOKUP(F671,Hidden_Словник!$W$2:$X$13,2,FALSE)","v":{"$error":"#N/A"}},{"$f":"#REF!","v":{"$error":"#REF!"}},{"$error":"#N/A"}]
[null,"",{"$f":"IFERROR(VLOOKUP(A672,'1.Портфель кредитів'!A:Z,3,FALSE),\"\")","v":""},{"$f":"IFERROR(VLOOKUP(A672,'1.Портфель кредитів'!A:Z,7,FALSE),\"\")","v":""},{"$f":"IFERROR(VLOOKUP(A672,'1.Портфель кредитів'!A:Z,14,FALSE),\"\")","v":""},null,null,null,null,null,null,null,null,{"$f":"IFERROR(VLOOKUP(A672,'1.Портфель кредитів'!A:Z,30,FALSE),\"\")","v":""},0,{"$error":"#VALUE!"},null,null,null,null,null,{"$f":"VLOOKUP(C672,Hidden_Словник!$A$2:C$81,3,FALSE)","v":{"$error":"#N/A"}},0,{"$f":"VLOOKUP(F672,Hidden_Словник!$W$2:$X$13,2,FALSE)","v":{"$error":"#N/A"}},{"$f":"#REF!","v":{"$error":"#REF!"}},{"$error":"#N/A"}]
[null,"",{"$f":"IFERROR(VLOOKUP(A673,'1.Портфель кредитів'!A:Z,3,FALSE),\"\")","v":""},{"$f":"IFERROR(VLOOKUP(A673,'1.Портфель кредитів'!A:Z,7,FALSE),\"\")","v":""},{"$f":"IFERROR(VLOOKUP(A673,'1.Портфель кредитів'!A:Z,14,FALSE),\"\")","v":""},null,null,null,null,null,null,null,null,{"$f":"IFERROR(VLOOKUP(A673,'1.Портфель кредитів'!A:Z,30,FALSE),\"\")","v":""},0,{"$error":"#VALUE!"},null,null,null,null,null,{"$f":"VLOOKUP(C673,Hidden_Словник!$A$2:C$81,3,FALSE)","v":{"$error":"#N/A"}},0,{"$f":"VLOOKUP(F673,Hidden_Словник!$W$2:$X$13,2,FALSE)","v":{"$error":"#N/A"}},{"$f":"#REF!","v":{"$error":"#REF!"}},{"$error":"#N/A"}]
[null,"",{"$f":"IFERROR(VLOOKUP(A674,'1.Портфель кредитів'!A:Z,3,FALSE),\"\")","v":""},{"$f":"IFERROR(VLOOKUP(A674,'1.Портфель кредитів'!A:Z,7,FALSE),\"\")","v":""},{"$f":"IFERROR(VLOOKUP(A674,'1.Портфель кредитів'!A:Z,14,FALSE),\"\")","v":""},null,null,null,null,null,null,null,null,{"$f":"IFERROR(VLOOKUP(A674,'1.Портфель кредитів'!A:Z,30,FALSE),\"\")","v":""},0,{"$error":"#VALUE!"},null,null,null,null,null,{"$f":"VLOOKUP(C674,Hidden_Словник!$A$2:C$81,3,FALSE)","v":{"$error":"#N/A"}},0,{"$f":"VLOOKUP(F674,Hidden_Словник!$W$2:$X$13,2,FALSE)","v":{"$error":"#N/A"}},{"$f":"#REF!","v":{"$error":"#REF!"}},{"$error":"#N/A"}]
[null,"",{"$f":"IFERROR(VLOOKUP(A675,'1.Портфель кредитів'!A:Z,3,FALSE),\"\")","v":""},{"$f":"IFERROR(VLOOKUP(A675,'1.Портфель кредитів'!A:Z,7,FALSE),\"\")","v":""},{"$f":"IFERROR(VLOOKUP(A675,'1.Портфель кредитів'!A:Z,14,FALSE),\"\")","v":""},null,null,null,null,null,null,null,null,{"$f":"IFERROR(VLOOKUP(A675,'1.Портфель кредитів'!A:Z,30,FALSE),\"\")","v":""},0,{"$error":"#VALUE!"},null,null,null,null,null,{"$f":"VLOOKUP(C675,Hidden_Словник!$A$2:C$81,3,FALSE)","v":{"$error":"#N/A"}},0,{"$f":"VLOOKUP(F675,Hidden_Словник!$W$2:$X$13,2,FALSE)","v":{"$error":"#N/A"}},{"$f":"#REF!","v":{"$error":"#REF!"}},{"$error":"#N/A"}]
[null,"",{"$f":"IFERROR(VLOOKUP(A676,'1.Портфель кредитів'!A:Z,3,FALSE),\"\")","v":""},{"$f":"IFERROR(VLOOKUP(A676,'1.Портфель кредитів'!A:Z,7,FALSE),\"\")","v":""},{"$f":"IFERROR(VLOOKUP(A676,'1.Портфель кредитів'!A:Z,14,FALSE),\"\")","v":""},null,null,null,null,null,null,null,null,{"$f":"IFERROR(VLOOKUP(A676,'1.Портфель кредитів'!A:Z,30,FALSE),\"\")","v":""},0,{"$error":"#VALUE!"},null,null,null,null,null,{"$f":"VLOOKUP(C676,Hidden_Словник!$A$2:C$81,3,FALSE)","v":{"$error":"#N/A"}},0,{"$f":"VLOOKUP(F676,Hidden_Словник!$W$2:$X$13,2,FALSE)","v":{"$error":"#N/A"}},{"$f":"#REF!","v":{"$error":"#REF!"}},{"$error":"#N/A"}]
[null,"",{"$f":"IFERROR(VLOOKUP(A677,'1.Портфель кредитів'!A:Z,3,FALSE),\"\")","v":""},{"$f":"IFERROR(VLOOKUP(A677,'1.Портфель кредитів'!A:Z,7,FALSE),\"\")","v":""},{"$f":"IFERROR(VLOOKUP(A677,'1.Портфель кредитів'!A:Z,14,FALSE),\"\")","v":""},null,null,null,null,null,null,null,null,{"$f":"IFERROR(VLOOKUP(A677,'1.Портфель кредитів'!A:Z,30,FALSE),\"\")","v":""},0,{"$error":"#VALUE!"},null,null,null,null,null,{"$f":"VLOOKUP(C677,Hidden_Словник!$A$2:C$81,3,FALSE)","v":{"$error":"#N/A"}},0,{"$f":"VLOOKUP(F677,Hidden_Словник!$W$2:$X$13,2,FALSE)","v":{"$error":"#N/A"}},{"$f":"#REF!","v":{"$error":"#REF!"}},{"$error":"#N/A"}]
[null,"",{"$f":"IFERROR(VLOOKUP(A678,'1.Портфель кредитів'!A:Z,3,FALSE),\"\")","v":""},{"$f":"IFERROR(VLOOKUP(A678,'1.Портфель кредитів'!A:Z,7,FALSE),\"\")","v":""},{"$f":"IFERROR(VLOOKUP(A678,'1.Портфель кредитів'!A:Z,14,FALSE),\"\")","v":""},null,null,null,null,null,null,null,null,{"$f":"IFERROR(VLOOKUP(A678,'1.Портфель кредитів'!A:Z,30,FALSE),\"\")","v":""},0,{"$f":"N678/O678","v":{"$error":"#VALUE!"}},null,null,null,null,null,{"$f":"VLOOKUP(C678,Hidden_Словник!$A$2:C$81,3,FALSE)","v":{"$error":"#N/A"}},0,{"$f":"VLOOKUP(F678,Hidden_Словник!$W$2:$X$13,2,FALSE)","v":{"$error":"#N/A"}},{"$f":"#REF!","v":{"$error":"#REF!"}},{"$error":"#N/A"}]
[null,"",{"$f":"IFERROR(VLOOKUP(A679,'1.Портфель кредитів'!A:Z,3,FALSE),\"\")","v":""},{"$f":"IFERROR(VLOOKUP(A679,'1.Портфель кредитів'!A:Z,7,FALSE),\"\")","v":""},{"$f":"IFERROR(VLOOKUP(A679,'1.Портфель кредитів'!A:Z,14,FALSE),\"\")","v":""},null,null,null,null,null,null,null,null,{"$f":"IFERROR(VLOOKUP(A679,'1.Портфель кредитів'!A:Z,30,FALSE),\"\")","v":""},0,{"$error":"#VALUE!"},null,null,null,null,null,{"$f":"VLOOKUP(C679,Hidden_Словник!$A$2:C$81,3,FALSE)","v":{"$error":"#N/A"}},0,{"$f":"VLOOKUP(F679,Hidden_Словник!$W$2:$X$13,2,FALSE)","v":{"$error":"#N/A"}},{"$f":"#REF!","v":{"$error":"#REF!"}},{"$error":"#N/A"}]
[null,"",{"$f":"IFERROR(VLOOKUP(A680,'1.Портфель кредитів'!A:Z,3,FALSE),\"\")","v":""},{"$f":"IFERROR(VLOOKUP(A680,'1.Портфель кредитів'!A:Z,7,FALSE),\"\")","v":""},{"$f":"IFERROR(VLOOKUP(A680,'1.Портфель кредитів'!A:Z,14,FALSE),\"\")","v":""},null,null,null,null,null,null,null,null,{"$f":"IFERROR(VLOOKUP(A680,'1.Портфель кредитів'!A:Z,30,FALSE),\"\")","v":""},0,{"$error":"#VALUE!"},null,null,null,null,null,{"$f":"VLOOKUP(C680,Hidden_Словник!$A$2:C$81,3,FALSE)","v":{"$error":"#N/A"}},0,{"$f":"VLOOKUP(F680,Hidden_Словник!$W$2:$X$13,2,FALSE)","v":{"$error":"#N/A"}},{"$f":"#REF!","v":{"$error":"#REF!"}},{"$error":"#N/A"}]
[null,"",{"$f":"IFERROR(VLOOKUP(A681,'1.Портфель кредитів'!A:Z,3,FALSE),\"\")","v":""},{"$f":"IFERROR(VLOOKUP(A681,'1.Портфель кредитів'!A:Z,7,FALSE),\"\")","v":""},{"$f":"IFERROR(VLOOKUP(A681,'1.Портфель кредитів'!A:Z,14,FALSE),\"\")","v":""},null,null,null,null,null,null,null,null,{"$f":"IFERROR(VLOOKUP(A681,'1.Портфель кредитів'!A:Z,30,FALSE),\"\")","v":""},0,{"$error":"#VALUE!"},null,null,null,null,null,{"$f":"VLOOKUP(C681,Hidden_Словник!$A$2:C$81,3,FALSE)","v":{"$error":"#N/A"}},0,{"$f":"VLOOKUP(F681,Hidden_Словник!$W$2:$X$13,2,FALSE)","v":{"$error":"#N/A"}},{"$f":"#REF!","v":{"$error":"#REF!"}},{"$error":"#N/A"}]
[null,"",{"$f":"IFERROR(VLOOKUP(A682,'1.Портфель кредитів'!A:Z,3,FALSE),\"\")","v":""},{"$f":"IFERROR(VLOOKUP(A682,'1.Портфель кредитів'!A:Z,7,FALSE),\"\")","v":""},{"$f":"IFERROR(VLOOKUP(A682,'1.Портфель кредитів'!A:Z,14,FALSE),\"\")","v":""},null,null,null,null,null,null,null,null,{"$f":"IFERROR(VLOOKUP(A682,'1.Портфель кредитів'!A:Z,30,FALSE),\"\")","v":""},0,{"$error":"#VALUE!"},null,null,null,null,null,{"$f":"VLOOKUP(C682,Hidden_Словник!$A$2:C$81,3,FALSE)","v":{"$error":"#N/A"}},0,{"$f":"VLOOKUP(F682,Hidden_Словник!$W$2:$X$13,2,FALSE)","v":{"$error":"#N/A"}},{"$f":"#REF!","v":{"$error":"#REF!"}},{"$error":"#N/A"}]
[null,"",{"$f":"IFERROR(VLOOKUP(A683,'1.Портфель кредитів'!A:Z,3,FALSE),\"\")","v":""},{"$f":"IFERROR(VLOOKUP(A683,'1.Портфель кредитів'!A:Z,7,FALSE),\"\")","v":""},{"$f":"IFERROR(VLOOKUP(A683,'1.Портфель кредитів'!A:Z,14,FALSE),\"\")","v":""},null,null,null,null,null,null,null,null,{"$f":"IFERROR(VLOOKUP(A683,'1.Портфель кредитів'!A:Z,30,FALSE),\"\")","v":""},0,{"$error":"#VALUE!"},null,null,null,null,null,{"$f":"VLOOKUP(C683,Hidden_Словник!$A$2:C$81,3,FALSE)","v":{"$error":"#N/A"}},0,{"$f":"VLOOKUP(F683,Hidden_Словник!$W$2:$X$13,2,FALSE)","v":{"$error":"#N/A"}},{"$f":"#REF!","v":{"$error":"#REF!"}},{"$error":"#N/A"}]
[null,"",{"$f":"IFERROR(VLOOKUP(A684,'1.Портфель кредитів'!A:Z,3,FALSE),\"\")","v":""},{"$f":"IFERROR(VLOOKUP(A684,'1.Портфель кредитів'!A:Z,7,FALSE),\"\")","v":""},{"$f":"IFERROR(VLOOKUP(A684,'1.Портфель кредитів'!A:Z,14,FALSE),\"\")","v":""},null,null,null,null,null,null,null,null,{"$f":"IFERROR(VLOOKUP(A684,'1.Портфель кредитів'!A:Z,30,FALSE),\"\")","v":""},0,{"$error":"#VALUE!"},null,null,null,null,null,{"$f":"VLOOKUP(C684,Hidden_Словник!$A$2:C$81,3,FALSE)","v":{"$error":"#N/A"}},0,{"$f":"VLOOKUP(F684,Hidden_Словник!$W$2:$X$13,2,FALSE)","v":{"$error":"#N/A"}},{"$f":"#REF!","v":{"$error":"#REF!"}},{"$error":"#N/A"}]
[null,"",{"$f":"IFERROR(VLOOKUP(A685,'1.Портфель кредитів'!A:Z,3,FALSE),\"\")","v":""},{"$f":"IFERROR(VLOOKUP(A685,'1.Портфель кредитів'!A:Z,7,FALSE),\"\")","v":""},{"$f":"IFERROR(VLOOKUP(A685,'1.Портфель кредитів'!A:Z,14,FALSE),\"\")","v":""},null,null,null,null,null,null,null,null,{"$f":"IFERROR(VLOOKUP(A685,'1.Портфель кредитів'!A:Z,30,FALSE),\"\")","v":""},0,{"$error":"#VALUE!"},null,null,null,null,null,{"$f":"VLOOKUP(C685,Hidden_Словник!$A$2:C$81,3,FALSE)","v":{"$error":"#N/A"}},0,{"$f":"VLOOKUP(F685,Hidden_Словник!$W$2:$X$13,2,FALSE)","v":{"$error":"#N/A"}},{"$f":"#REF!","v":{"$error":"#REF!"}},{"$error":"#N/A"}]
[null,"",{"$f":"IFERROR(VLOOKUP(A686,'1.Портфель кредитів'!A:Z,3,FALSE),\"\")","v":""},{"$f":"IFERROR(VLOOKUP(A686,'1.Портфель кредитів'!A:Z,7,FALSE),\"\")","v":""},{"$f":"IFERROR(VLOOKUP(A686,'1.Портфель кредитів'!A:Z,14,FALSE),\"\")","v":""},null,null,null,null,null,null,null,null,{"$f":"IFERROR(VLOOKUP(A686,'1.Портфель кредитів'!A:Z,30,FALSE),\"\")","v":""},0,{"$error":"#VALUE!"},null,null,null,null,null,{"$f":"VLOOKUP(C686,Hidden_Словник!$A$2:C$81,3,FALSE)","v":{"$error":"#N/A"}},0,{"$f":"VLOOKUP(F686,Hidden_Словник!$W$2:$X$13,2,FALSE)","v":{"$error":"#N/A"}},{"$f":"#REF!","v":{"$error":"#REF!"}},{"$error":"#N/A"}]
[null,"",{"$f":"IFERROR(VLOOKUP(A687,'1.Портфель кредитів'!A:Z,3,FALSE),\"\")","v":""},{"$f":"IFERROR(VLOOKUP(A687,'1.Портфель кредитів'!A:Z,7,FALSE),\"\")","v":""},{"$f":"IFERROR(VLOOKUP(A687,'1.Портфель кредитів'!A:Z,14,FALSE),\"\")","v":""},null,null,null,null,null,null,null,null,{"$f":"IFERROR(VLOOKUP(A687,'1.Портфель кредитів'!A:Z,30,FALSE),\"\")","v":""},0,{"$error":"#VALUE!"},null,null,null,null,null,{"$f":"VLOOKUP(C687,Hidden_Словник!$A$2:C$81,3,FALSE)","v":{"$error":"#N/A"}},0,{"$f":"VLOOKUP(F687,Hidden_Словник!$W$2:$X$13,2,FALSE)","v":{"$error":"#N/A"}},{"$f":"#REF!","v":{"$error":"#REF!"}},{"$error":"#N/A"}]
[null,"",{"$f":"IFERROR(VLOOKUP(A688,'1.Портфель кредитів'!A:Z,3,FALSE),\"\")","v":""},{"$f":"IFERROR(VLOOKUP(A688,'1.Портфель кредитів'!A:Z,7,FALSE),\"\")","v":""},{"$f":"IFERROR(VLOOKUP(A688,'1.Портфель кредитів'!A:Z,14,FALSE),\"\")","v":""},null,null,null,null,null,null,null,null,{"$f":"IFERROR(VLOOKUP(A688,'1.Портфель кредитів'!A:Z,30,FALSE),\"\")","v":""},0,{"$error":"#VALUE!"},null,null,null,null,null,{"$f":"VLOOKUP(C688,Hidden_Словник!$A$2:C$81,3,FALSE)","v":{"$error":"#N/A"}},0,{"$f":"VLOOKUP(F688,Hidden_Словник!$W$2:$X$13,2,FALSE)","v":{"$error":"#N/A"}},{"$f":"#REF!","v":{"$error":"#REF!"}},{"$error":"#N/A"}]
[null,"",{"$f":"IFERROR(VLOOKUP(A689,'1.Портфель кредитів'!A:Z,3,FALSE),\"\")","v":""},{"$f":"IFERROR(VLOOKUP(A689,'1.Портфель кредитів'!A:Z,7,FALSE),\"\")","v":""},{"$f":"IFERROR(VLOOKUP(A689,'1.Портфель кредитів'!A:Z,14,FALSE),\"\")","v":""},null,null,null,null,null,null,null,null,{"$f":"IFERROR(VLOOKUP(A689,'1.Портфель кредитів'!A:Z,30,FALSE),\"\")","v":""},0,{"$error":"#VALUE!"},null,null,null,null,null,{"$f":"VLOOKUP(C689,Hidden_Словник!$A$2:C$81,3,FALSE)","v":{"$error":"#N/A"}},0,{"$f":"VLOOKUP(F689,Hidden_Словник!$W$2:$X$13,2,FALSE)","v":{"$error":"#N/A"}},{"$f":"#REF!","v":{"$error":"#REF!"}},{"$error":"#N/A"}]
[null,"",{"$f":"IFERROR(VLOOKUP(A690,'1.Портфель кредитів'!A:Z,3,FALSE),\"\")","v":""},{"$f":"IFERROR(VLOOKUP(A690,'1.Портфель кредитів'!A:Z,7,FALSE),\"\")","v":""},{"$f":"IFERROR(VLOOKUP(A690,'1.Портфель кредитів'!A:Z,14,FALSE),\"\")","v":""},null,null,null,null,null,null,null,null,{"$f":"IFERROR(VLOOKUP(A690,'1.Портфель кредитів'!A:Z,30,FALSE),\"\")","v":""},0,{"$error":"#VALUE!"},null,null,null,null,null,{"$f":"VLOOKUP(C690,Hidden_Словник!$A$2:C$81,3,FALSE)","v":{"$error":"#N/A"}},0,{"$f":"VLOOKUP(F690,Hidden_Словник!$W$2:$X$13,2,FALSE)","v":{"$error":"#N/A"}},{"$f":"#REF!","v":{"$error":"#REF!"}},{"$error":"#N/A"}]
[null,"",{"$f":"IFERROR(VLOOKUP(A691,'1.Портфель кредитів'!A:Z,3,FALSE),\"\")","v":""},{"$f":"IFERROR(VLOOKUP(A691,'1.Портфель кредитів'!A:Z,7,FALSE),\"\")","v":""},{"$f":"IFERROR(VLOOKUP(A691,'1.Портфель кредитів'!A:Z,14,FALSE),\"\")","v":""},null,null,null,null,null,null,null,null,{"$f":"IFERROR(VLOOKUP(A691,'1.Портфель кредитів'!A:Z,30,FALSE),\"\")","v":""},0,{"$error":"#VALUE!"},null,null,null,null,null,{"$f":"VLOOKUP(C691,Hidden_Словник!$A$2:C$81,3,FALSE)","v":{"$error":"#N/A"}},0,{"$f":"VLOOKUP(F691,Hidden_Словник!$W$2:$X$13,2,FALSE)","v":{"$error":"#N/A"}},{"$f":"#REF!","v":{"$error":"#REF!"}},{"$error":"#N/A"}]
[null,"",{"$f":"IFERROR(VLOOKUP(A692,'1.Портфель кредитів'!A:Z,3,FALSE),\"\")","v":""},{"$f":"IFERROR(VLOOKUP(A692,'1.Портфель кредитів'!A:Z,7,FALSE),\"\")","v":""},{"$f":"IFERROR(VLOOKUP(A692,'1.Портфель кредитів'!A:Z,14,FALSE),\"\")","v":""},null,null,null,null,null,null,null,null,{"$f":"IFERROR(VLOOKUP(A692,'1.Портфель кредитів'!A:Z,30,FALSE),\"\")","v":""},0,{"$error":"#VALUE!"},null,null,null,null,null,{"$f":"VLOOKUP(C692,Hidden_Словник!$A$2:C$81,3,FALSE)","v":{"$error":"#N/A"}},0,{"$f":"VLOOKUP(F692,Hidden_Словник!$W$2:$X$13,2,FALSE)","v":{"$error":"#N/A"}},{"$f":"#REF!","v":{"$error":"#REF!"}},{"$error":"#N/A"}]
[null,"",{"$f":"IFERROR(VLOOKUP(A693,'1.Портфель кредитів'!A:Z,3,FALSE),\"\")","v":""},{"$f":"IFERROR(VLOOKUP(A693,'1.Портфель кредитів'!A:Z,7,FALSE),\"\")","v":""},{"$f":"IFERROR(VLOOKUP(A693,'1.Портфель кредитів'!A:Z,14,FALSE),\"\")","v":""},null,null,null,null,null,null,null,null,{"$f":"IFERROR(VLOOKUP(A693,'1.Портфель кредитів'!A:Z,30,FALSE),\"\")","v":""},0,{"$error":"#VALUE!"},null,null,null,null,null,{"$f":"VLOOKUP(C693,Hidden_Словник!$A$2:C$81,3,FALSE)","v":{"$error":"#N/A"}},0,{"$f":"VLOOKUP(F693,Hidden_Словник!$W$2:$X$13,2,FALSE)","v":{"$error":"#N/A"}},{"$f":"#REF!","v":{"$error":"#REF!"}},{"$error":"#N/A"}]
[null,"",{"$f":"IFERROR(VLOOKUP(A694,'1.Портфель кредитів'!A:Z,3,FALSE),\"\")","v":""},{"$f":"IFERROR(VLOOKUP(A694,'1.Портфель кредитів'!A:Z,7,FALSE),\"\")","v":""},{"$f":"IFERROR(VLOOKUP(A694,'1.Портфель кредитів'!A:Z,14,FALSE),\"\")","v":""},null,null,null,null,null,null,null,null,{"$f":"IFERROR(VLOOKUP(A694,'1.Портфель кредитів'!A:Z,30,FALSE),\"\")","v":""},0,{"$error":"#VALUE!"},null,null,null,null,null,{"$f":"VLOOKUP(C694,Hidden_Словник!$A$2:C$81,3,FALSE)","v":{"$error":"#N/A"}},0,{"$f":"VLOOKUP(F694,Hidden_Словник!$W$2:$X$13,2,FALSE)","v":{"$error":"#N/A"}},{"$f":"#REF!","v":{"$error":"#REF!"}},{"$error":"#N/A"}]
[null,"",{"$f":"IFERROR(VLOOKUP(A695,'1.Портфель кредитів'!A:Z,3,FALSE),\"\")","v":""},{"$f":"IFERROR(VLOOKUP(A695,'1.Портфель кредитів'!A:Z,7,FALSE),\"\")","v":""},{"$f":"IFERROR(VLOOKUP(A695,'1.Портфель кредитів'!A:Z,14,FALSE),\"\")","v":""},null,null,null,null,null,null,null,null,{"$f":"IFERROR(VLOOKUP(A695,'1.Портфель кредитів'!A:Z,30,FALSE),\"\")","v":""},0,{"$error":"#VALUE!"},null,null,null,null,null,{"$f":"VLOOKUP(C695,Hidden_Словник!$A$2:C$81,3,FALSE)","v":{"$error":"#N/A"}},0,{"$f":"VLOOKUP(F695,Hidden_Словник!$W$2:$X$13,2,FALSE)","v":{"$error":"#N/A"}},{"$f":"#REF!","v":{"$error":"#REF!"}},{"$error":"#N/A"}]
[null,"",{"$f":"IFERROR(VLOOKUP(A696,'1.Портфель кредитів'!A:Z,3,FALSE),\"\")","v":""},{"$f":"IFERROR(VLOOKUP(A696,'1.Портфель кредитів'!A:Z,7,FALSE),\"\")","v":""},{"$f":"IFERROR(VLOOKUP(A696,'1.Портфель кредитів'!A:Z,14,FALSE),\"\")","v":""},null,null,null,null,null,null,null,null,{"$f":"IFERROR(VLOOKUP(A696,'1.Портфель кредитів'!A:Z,30,FALSE),\"\")","v":""},0,{"$error":"#VALUE!"},null,null,null,null,null,{"$f":"VLOOKUP(C696,Hidden_Словник!$A$2:C$81,3,FALSE)","v":{"$error":"#N/A"}},0,{"$f":"VLOOKUP(F696,Hidden_Словник!$W$2:$X$13,2,FALSE)","v":{"$error":"#N/A"}},{"$f":"#REF!","v":{"$error":"#REF!"}},{"$error":"#N/A"}]
[null,"",{"$f":"IFERROR(VLOOKUP(A697,'1.Портфель кредитів'!A:Z,3,FALSE),\"\")","v":""},{"$f":"IFERROR(VLOOKUP(A697,'1.Портфель кредитів'!A:Z,7,FALSE),\"\")","v":""},{"$f":"IFERROR(VLOOKUP(A697,'1.Портфель кредитів'!A:Z,14,FALSE),\"\")","v":""},null,null,null,null,null,null,null,null,{"$f":"IFERROR(VLOOKUP(A697,'1.Портфель кредитів'!A:Z,30,FALSE),\"\")","v":""},0,{"$error":"#VALUE!"},null,null,null,null,null,{"$f":"VLOOKUP(C697,Hidden_Словник!$A$2:C$81,3,FALSE)","v":{"$error":"#N/A"}},0,{"$f":"VLOOKUP(F697,Hidden_Словник!$W$2:$X$13,2,FALSE)","v":{"$error":"#N/A"}},{"$f":"#REF!","v":{"$error":"#REF!"}},{"$error":"#N/A"}]
[null,"",{"$f":"IFERROR(VLOOKUP(A698,'1.Портфель кредитів'!A:Z,3,FALSE),\"\")","v":""},{"$f":"IFERROR(VLOOKUP(A698,'1.Портфель кредитів'!A:Z,7,FALSE),\"\")","v":""},{"$f":"IFERROR(VLOOKUP(A698,'1.Портфель кредитів'!A:Z,14,FALSE),\"\")","v":""},null,null,null,null,null,null,null,null,{"$f":"IFERROR(VLOOKUP(A698,'1.Портфель кредитів'!A:Z,30,FALSE),\"\")","v":""},0,{"$error":"#VALUE!"},null,null,null,null,null,{"$f":"VLOOKUP(C698,Hidden_Словник!$A$2:C$81,3,FALSE)","v":{"$error":"#N/A"}},0,{"$f":"VLOOKUP(F698,Hidden_Словник!$W$2:$X$13,2,FALSE)","v":{"$error":"#N/A"}},{"$f":"#REF!","v":{"$error":"#REF!"}},{"$error":"#N/A"}]
[null,"",{"$f":"IFERROR(VLOOKUP(A699,'1.Портфель кредитів'!A:Z,3,FALSE),\"\")","v":""},{"$f":"IFERROR(VLOOKUP(A699,'1.Портфель кредитів'!A:Z,7,FALSE),\"\")","v":""},{"$f":"IFERROR(VLOOKUP(A699,'1.Портфель кредитів'!A:Z,14,FALSE),\"\")","v":""},null,null,null,null,null,null,null,null,{"$f":"IFERROR(VLOOKUP(A699,'1.Портфель кредитів'!A:Z,30,FALSE),\"\")","v":""},0,{"$error":"#VALUE!"},null,null,null,null,null,{"$f":"VLOOKUP(C699,Hidden_Словник!$A$2:C$81,3,FALSE)","v":{"$error":"#N/A"}},0,{"$f":"VLOOKUP(F699,Hidden_Словник!$W$2:$X$13,2,FALSE)","v":{"$error":"#N/A"}},{"$f":"#REF!","v":{"$error":"#REF!"}},{"$error":"#N/A"}]
[null,"",{"$f":"IFERROR(VLOOKUP(A700,'1.Портфель кредитів'!A:Z,3,FALSE),\"\")","v":""},{"$f":"IFERROR(VLOOKUP(A700,'1.Портфель кредитів'!A:Z,7,FALSE),\"\")","v":""},{"$f":"IFERROR(VLOOKUP(A700,'1.Портфель кредитів'!A:Z,14,FALSE),\"\")","v":""},null,null,null,null,null,null,null,null,{"$f":"IFERROR(VLOOKUP(A700,'1.Портфель кредитів'!A:Z,30,FALSE),\"\")","v":""},0,{"$error":"#VALUE!"},null,null,null,null,null,{"$f":"VLOOKUP(C700,Hidden_Словник!$A$2:C$81,3,FALSE)","v":{"$error":"#N/A"}},0,{"$f":"VLOOKUP(F700,Hidden_Словник!$W$2:$X$13,2,FALSE)","v":{"$error":"#N/A"}},{"$f":"#REF!","v":{"$error":"#REF!"}},{"$error":"#N/A"}]
[null,"",{"$f":"IFERROR(VLOOKUP(A701,'1.Портфель кредитів'!A:Z,3,FALSE),\"\")","v":""},{"$f":"IFERROR(VLOOKUP(A701,'1.Портфель кредитів'!A:Z,7,FALSE),\"\")","v":""},{"$f":"IFERROR(VLOOKUP(A701,'1.Портфель кредитів'!A:Z,14,FALSE),\"\")","v":""},null,null,null,null,null,null,null,null,{"$f":"IFERROR(VLOOKUP(A701,'1.Портфель кредитів'!A:Z,30,FALSE),\"\")","v":""},0,{"$error":"#VALUE!"},null,null,null,null,null,{"$f":"VLOOKUP(C701,Hidden_Словник!$A$2:C$81,3,FALSE)","v":{"$error":"#N/A"}},0,{"$f":"VLOOKUP(F701,Hidden_Словник!$W$2:$X$13,2,FALSE)","v":{"$error":"#N/A"}},{"$f":"#REF!","v":{"$error":"#REF!"}},{"$error":"#N/A"}]
[null,{"$f":"IFERROR(Z702,\"\")","v":""},{"$f":"IFERROR(VLOOKUP(A702,'1.Портфель кредитів'!A:Z,3,FALSE),\"\")","v":""},{"$f":"IFERROR(VLOOKUP(A702,'1.Портфель кредитів'!A:Z,7,FALSE),\"\")","v":""},{"$f":"IFERROR(VLOOKUP(A702,'1.Портфель кредитів'!A:Z,14,FALSE),\"\")","v":""},null,null,null,null,null,null,null,null,{"$f":"IFERROR(VLOOKUP(A702,'1.Портфель кредитів'!A:Z,30,FALSE),\"\")","v":""},0,{"$error":"#VALUE!"},null,null,null,null,null,{"$f":"VLOOKUP(C702,Hidden_Словник!$A$2:C$81,3,FALSE)","v":{"$error":"#N/A"}},0,{"$f":"VLOOKUP(F702,Hidden_Словник!$W$2:$X$13,2,FALSE)","v":{"$error":"#N/A"}},{"$f":"#REF!","v":{"$error":"#REF!"}},{"$f":"V702&\"_\"&W702&X702&Y702","v":{"$error":"#N/A"}}]
[null,"",{"$f":"IFERROR(VLOOKUP(A703,'1.Портфель кредитів'!A:Z,3,FALSE),\"\")","v":""},{"$f":"IFERROR(VLOOKUP(A703,'1.Портфель кредитів'!A:Z,7,FALSE),\"\")","v":""},{"$f":"IFERROR(VLOOKUP(A703,'1.Портфель кредитів'!A:Z,14,FALSE),\"\")","v":""},null,null,null,null,null,null,null,null,{"$f":"IFERROR(VLOOKUP(A703,'1.Портфель кредитів'!A:Z,30,FALSE),\"\")","v":""},0,{"$error":"#VALUE!"},null,null,null,null,null,{"$f":"VLOOKUP(C703,Hidden_Словник!$A$2:C$81,3,FALSE)","v":{"$error":"#N/A"}},0,{"$f":"VLOOKUP(F703,Hidden_Словник!$W$2:$X$13,2,FALSE)","v":{"$error":"#N/A"}},{"$f":"#REF!","v":{"$error":"#REF!"}},{"$error":"#N/A"}]
[null,"",{"$f":"IFERROR(VLOOKUP(A704,'1.Портфель кредитів'!A:Z,3,FALSE),\"\")","v":""},{"$f":"IFERROR(VLOOKUP(A704,'1.Портфель кредитів'!A:Z,7,FALSE),\"\")","v":""},{"$f":"IFERROR(VLOOKUP(A704,'1.Портфель кредитів'!A:Z,14,FALSE),\"\")","v":""},null,null,null,null,null,null,null,null,{"$f":"IFERROR(VLOOKUP(A704,'1.Портфель кредитів'!A:Z,30,FALSE),\"\")","v":""},0,{"$error":"#VALUE!"},null,null,null,null,null,{"$f":"VLOOKUP(C704,Hidden_Словник!$A$2:C$81,3,FALSE)","v":{"$error":"#N/A"}},0,{"$f":"VLOOKUP(F704,Hidden_Словник!$W$2:$X$13,2,FALSE)","v":{"$error":"#N/A"}},{"$f":"#REF!","v":{"$error":"#REF!"}},{"$error":"#N/A"}]
[null,"",{"$f":"IFERROR(VLOOKUP(A705,'1.Портфель кредитів'!A:Z,3,FALSE),\"\")","v":""},{"$f":"IFERROR(VLOOKUP(A705,'1.Портфель кредитів'!A:Z,7,FALSE),\"\")","v":""},{"$f":"IFERROR(VLOOKUP(A705,'1.Портфель кредитів'!A:Z,14,FALSE),\"\")","v":""},null,null,null,null,null,null,null,null,{"$f":"IFERROR(VLOOKUP(A705,'1.Портфель кредитів'!A:Z,30,FALSE),\"\")","v":""},0,{"$error":"#VALUE!"},null,null,null,null,null,{"$f":"VLOOKUP(C705,Hidden_Словник!$A$2:C$81,3,FALSE)","v":{"$error":"#N/A"}},0,{"$f":"VLOOKUP(F705,Hidden_Словник!$W$2:$X$13,2,FALSE)","v":{"$error":"#N/A"}},{"$f":"#REF!","v":{"$error":"#REF!"}},{"$error":"#N/A"}]
[null,"",{"$f":"IFERROR(VLOOKUP(A706,'1.Портфель кредитів'!A:Z,3,FALSE),\"\")","v":""},{"$f":"IFERROR(VLOOKUP(A706,'1.Портфель кредитів'!A:Z,7,FALSE),\"\")","v":""},{"$f":"IFERROR(VLOOKUP(A706,'1.Портфель кредитів'!A:Z,14,FALSE),\"\")","v":""},null,null,null,null,null,null,null,null,{"$f":"IFERROR(VLOOKUP(A706,'1.Портфель кредитів'!A:Z,30,FALSE),\"\")","v":""},0,{"$error":"#VALUE!"},null,null,null,null,null,{"$f":"VLOOKUP(C706,Hidden_Словник!$A$2:C$81,3,FALSE)","v":{"$error":"#N/A"}},0,{"$f":"VLOOKUP(F706,Hidden_Словник!$W$2:$X$13,2,FALSE)","v":{"$error":"#N/A"}},{"$f":"#REF!","v":{"$error":"#REF!"}},{"$error":"#N/A"}]
[null,"",{"$f":"IFERROR(VLOOKUP(A707,'1.Портфель кредитів'!A:Z,3,FALSE),\"\")","v":""},{"$f":"IFERROR(VLOOKUP(A707,'1.Портфель кредитів'!A:Z,7,FALSE),\"\")","v":""},{"$f":"IFERROR(VLOOKUP(A707,'1.Портфель кредитів'!A:Z,14,FALSE),\"\")","v":""},null,null,null,null,null,null,null,null,{"$f":"IFERROR(VLOOKUP(A707,'1.Портфель кредитів'!A:Z,30,FALSE),\"\")","v":""},0,{"$error":"#VALUE!"},null,null,null,null,null,{"$f":"VLOOKUP(C707,Hidden_Словник!$A$2:C$81,3,FALSE)","v":{"$error":"#N/A"}},0,{"$f":"VLOOKUP(F707,Hidden_Словник!$W$2:$X$13,2,FALSE)","v":{"$error":"#N/A"}},{"$f":"#REF!","v":{"$error":"#REF!"}},{"$error":"#N/A"}]
[null,"",{"$f":"IFERROR(VLOOKUP(A708,'1.Портфель кредитів'!A:Z,3,FALSE),\"\")","v":""},{"$f":"IFERROR(VLOOKUP(A708,'1.Портфель кредитів'!A:Z,7,FALSE),\"\")","v":""},{"$f":"IFERROR(VLOOKUP(A708,'1.Портфель кредитів'!A:Z,14,FALSE),\"\")","v":""},null,null,null,null,null,null,null,null,{"$f":"IFERROR(VLOOKUP(A708,'1.Портфель кредитів'!A:Z,30,FALSE),\"\")","v":""},0,{"$error":"#VALUE!"},null,null,null,null,null,{"$f":"VLOOKUP(C708,Hidden_Словник!$A$2:C$81,3,FALSE)","v":{"$error":"#N/A"}},0,{"$f":"VLOOKUP(F708,Hidden_Словник!$W$2:$X$13,2,FALSE)","v":{"$error":"#N/A"}},{"$f":"#REF!","v":{"$error":"#REF!"}},{"$error":"#N/A"}]
[null,"",{"$f":"IFERROR(VLOOKUP(A709,'1.Портфель кредитів'!A:Z,3,FALSE),\"\")","v":""},{"$f":"IFERROR(VLOOKUP(A709,'1.Портфель кредитів'!A:Z,7,FALSE),\"\")","v":""},{"$f":"IFERROR(VLOOKUP(A709,'1.Портфель кредитів'!A:Z,14,FALSE),\"\")","v":""},null,null,null,null,null,null,null,null,{"$f":"IFERROR(VLOOKUP(A709,'1.Портфель кредитів'!A:Z,30,FALSE),\"\")","v":""},0,{"$error":"#VALUE!"},null,null,null,null,null,{"$f":"VLOOKUP(C709,Hidden_Словник!$A$2:C$81,3,FALSE)","v":{"$error":"#N/A"}},0,{"$f":"VLOOKUP(F709,Hidden_Словник!$W$2:$X$13,2,FALSE)","v":{"$error":"#N/A"}},{"$f":"#REF!","v":{"$error":"#REF!"}},{"$error":"#N/A"}]
[null,"",{"$f":"IFERROR(VLOOKUP(A710,'1.Портфель кредитів'!A:Z,3,FALSE),\"\")","v":""},{"$f":"IFERROR(VLOOKUP(A710,'1.Портфель кредитів'!A:Z,7,FALSE),\"\")","v":""},{"$f":"IFERROR(VLOOKUP(A710,'1.Портфель кредитів'!A:Z,14,FALSE),\"\")","v":""},null,null,null,null,null,null,null,null,{"$f":"IFERROR(VLOOKUP(A710,'1.Портфель кредитів'!A:Z,30,FALSE),\"\")","v":""},0,{"$error":"#VALUE!"},null,null,null,null,null,{"$f":"VLOOKUP(C710,Hidden_Словник!$A$2:C$81,3,FALSE)","v":{"$error":"#N/A"}},0,{"$f":"VLOOKUP(F710,Hidden_Словник!$W$2:$X$13,2,FALSE)","v":{"$error":"#N/A"}},{"$f":"#REF!","v":{"$error":"#REF!"}},{"$error":"#N/A"}]
[null,"",{"$f":"IFERROR(VLOOKUP(A711,'1.Портфель кредитів'!A:Z,3,FALSE),\"\")","v":""},{"$f":"IFERROR(VLOOKUP(A711,'1.Портфель кредитів'!A:Z,7,FALSE),\"\")","v":""},{"$f":"IFERROR(VLOOKUP(A711,'1.Портфель кредитів'!A:Z,14,FALSE),\"\")","v":""},null,null,null,null,null,null,null,null,{"$f":"IFERROR(VLOOKUP(A711,'1.Портфель кредитів'!A:Z,30,FALSE),\"\")","v":""},0,{"$error":"#VALUE!"},null,null,null,null,null,{"$f":"VLOOKUP(C711,Hidden_Словник!$A$2:C$81,3,FALSE)","v":{"$error":"#N/A"}},0,{"$f":"VLOOKUP(F711,Hidden_Словник!$W$2:$X$13,2,FALSE)","v":{"$error":"#N/A"}},{"$f":"#REF!","v":{"$error":"#REF!"}},{"$error":"#N/A"}]
[null,"",{"$f":"IFERROR(VLOOKUP(A712,'1.Портфель кредитів'!A:Z,3,FALSE),\"\")","v":""},{"$f":"IFERROR(VLOOKUP(A712,'1.Портфель кредитів'!A:Z,7,FALSE),\"\")","v":""},{"$f":"IFERROR(VLOOKUP(A712,'1.Портфель кредитів'!A:Z,14,FALSE),\"\")","v":""},null,null,null,null,null,null,null,null,{"$f":"IFERROR(VLOOKUP(A712,'1.Портфель кредитів'!A:Z,30,FALSE),\"\")","v":""},0,{"$error":"#VALUE!"},null,null,null,null,null,{"$f":"VLOOKUP(C712,Hidden_Словник!$A$2:C$81,3,FALSE)","v":{"$error":"#N/A"}},0,{"$f":"VLOOKUP(F712,Hidden_Словник!$W$2:$X$13,2,FALSE)","v":{"$error":"#N/A"}},{"$f":"#REF!","v":{"$error":"#REF!"}},{"$error":"#N/A"}]
[null,"",{"$f":"IFERROR(VLOOKUP(A713,'1.Портфель кредитів'!A:Z,3,FALSE),\"\")","v":""},{"$f":"IFERROR(VLOOKUP(A713,'1.Портфель кредитів'!A:Z,7,FALSE),\"\")","v":""},{"$f":"IFERROR(VLOOKUP(A713,'1.Портфель кредитів'!A:Z,14,FALSE),\"\")","v":""},null,null,null,null,null,null,null,null,{"$f":"IFERROR(VLOOKUP(A713,'1.Портфель кредитів'!A:Z,30,FALSE),\"\")","v":""},0,{"$error":"#VALUE!"},null,null,null,null,null,{"$f":"VLOOKUP(C713,Hidden_Словник!$A$2:C$81,3,FALSE)","v":{"$error":"#N/A"}},0,{"$f":"VLOOKUP(F713,Hidden_Словник!$W$2:$X$13,2,FALSE)","v":{"$error":"#N/A"}},{"$f":"#REF!","v":{"$error":"#REF!"}},{"$error":"#N/A"}]
[null,"",{"$f":"IFERROR(VLOOKUP(A714,'1.Портфель кредитів'!A:Z,3,FALSE),\"\")","v":""},{"$f":"IFERROR(VLOOKUP(A714,'1.Портфель кредитів'!A:Z,7,FALSE),\"\")","v":""},{"$f":"IFERROR(VLOOKUP(A714,'1.Портфель кредитів'!A:Z,14,FALSE),\"\")","v":""},null,null,null,null,null,null,null,null,{"$f":"IFERROR(VLOOKUP(A714,'1.Портфель кредитів'!A:Z,30,FALSE),\"\")","v":""},0,{"$error":"#VALUE!"},null,null,null,null,null,{"$f":"VLOOKUP(C714,Hidden_Словник!$A$2:C$81,3,FALSE)","v":{"$error":"#N/A"}},0,{"$f":"VLOOKUP(F714,Hidden_Словник!$W$2:$X$13,2,FALSE)","v":{"$error":"#N/A"}},{"$f":"#REF!","v":{"$error":"#REF!"}},{"$error":"#N/A"}]
[null,"",{"$f":"IFERROR(VLOOKUP(A715,'1.Портфель кредитів'!A:Z,3,FALSE),\"\")","v":""},{"$f":"IFERROR(VLOOKUP(A715,'1.Портфель кредитів'!A:Z,7,FALSE),\"\")","v":""},{"$f":"IFERROR(VLOOKUP(A715,'1.Портфель кредитів'!A:Z,14,FALSE),\"\")","v":""},null,null,null,null,null,null,null,null,{"$f":"IFERROR(VLOOKUP(A715,'1.Портфель кредитів'!A:Z,30,FALSE),\"\")","v":""},0,{"$error":"#VALUE!"},null,null,null,null,null,{"$f":"VLOOKUP(C715,Hidden_Словник!$A$2:C$81,3,FALSE)","v":{"$error":"#N/A"}},0,{"$f":"VLOOKUP(F715,Hidden_Словник!$W$2:$X$13,2,FALSE)","v":{"$error":"#N/A"}},{"$f":"#REF!","v":{"$error":"#REF!"}},{"$error":"#N/A"}]
[null,"",{"$f":"IFERROR(VLOOKUP(A716,'1.Портфель кредитів'!A:Z,3,FALSE),\"\")","v":""},{"$f":"IFERROR(VLOOKUP(A716,'1.Портфель кредитів'!A:Z,7,FALSE),\"\")","v":""},{"$f":"IFERROR(VLOOKUP(A716,'1.Портфель кредитів'!A:Z,14,FALSE),\"\")","v":""},null,null,null,null,null,null,null,null,{"$f":"IFERROR(VLOOKUP(A716,'1.Портфель кредитів'!A:Z,30,FALSE),\"\")","v":""},0,{"$error":"#VALUE!"},null,null,null,null,null,{"$f":"VLOOKUP(C716,Hidden_Словник!$A$2:C$81,3,FALSE)","v":{"$error":"#N/A"}},0,{"$f":"VLOOKUP(F716,Hidden_Словник!$W$2:$X$13,2,FALSE)","v":{"$error":"#N/A"}},{"$f":"#REF!","v":{"$error":"#REF!"}},{"$error":"#N/A"}]
[null,"",{"$f":"IFERROR(VLOOKUP(A717,'1.Портфель кредитів'!A:Z,3,FALSE),\"\")","v":""},{"$f":"IFERROR(VLOOKUP(A717,'1.Портфель кредитів'!A:Z,7,FALSE),\"\")","v":""},{"$f":"IFERROR(VLOOKUP(A717,'1.Портфель кредитів'!A:Z,14,FALSE),\"\")","v":""},null,null,null,null,null,null,null,null,{"$f":"IFERROR(VLOOKUP(A717,'1.Портфель кредитів'!A:Z,30,FALSE),\"\")","v":""},0,{"$error":"#VALUE!"},null,null,null,null,null,{"$f":"VLOOKUP(C717,Hidden_Словник!$A$2:C$81,3,FALSE)","v":{"$error":"#N/A"}},0,{"$f":"VLOOKUP(F717,Hidden_Словник!$W$2:$X$13,2,FALSE)","v":{"$error":"#N/A"}},{"$f":"#REF!","v":{"$error":"#REF!"}},{"$error":"#N/A"}]
[null,"",{"$f":"IFERROR(VLOOKUP(A718,'1.Портфель кредитів'!A:Z,3,FALSE),\"\")","v":""},{"$f":"IFERROR(VLOOKUP(A718,'1.Портфель кредитів'!A:Z,7,FALSE),\"\")","v":""},{"$f":"IFERROR(VLOOKUP(A718,'1.Портфель кредитів'!A:Z,14,FALSE),\"\")","v":""},null,null,null,null,null,null,null,null,{"$f":"IFERROR(VLOOKUP(A718,'1.Портфель кредитів'!A:Z,30,FALSE),\"\")","v":""},0,{"$error":"#VALUE!"},null,null,null,null,null,{"$f":"VLOOKUP(C718,Hidden_Словник!$A$2:C$81,3,FALSE)","v":{"$error":"#N/A"}},0,{"$f":"VLOOKUP(F718,Hidden_Словник!$W$2:$X$13,2,FALSE)","v":{"$error":"#N/A"}},{"$f":"#REF!","v":{"$error":"#REF!"}},{"$error":"#N/A"}]
[null,"",{"$f":"IFERROR(VLOOKUP(A719,'1.Портфель кредитів'!A:Z,3,FALSE),\"\")","v":""},{"$f":"IFERROR(VLOOKUP(A719,'1.Портфель кредитів'!A:Z,7,FALSE),\"\")","v":""},{"$f":"IFERROR(VLOOKUP(A719,'1.Портфель кредитів'!A:Z,14,FALSE),\"\")","v":""},null,null,null,null,null,null,null,null,{"$f":"IFERROR(VLOOKUP(A719,'1.Портфель кредитів'!A:Z,30,FALSE),\"\")","v":""},0,{"$error":"#VALUE!"},null,null,null,null,null,{"$f":"VLOOKUP(C719,Hidden_Словник!$A$2:C$81,3,FALSE)","v":{"$error":"#N/A"}},0,{"$f":"VLOOKUP(F719,Hidden_Словник!$W$2:$X$13,2,FALSE)","v":{"$error":"#N/A"}},{"$f":"#REF!","v":{"$error":"#REF!"}},{"$error":"#N/A"}]
[null,"",{"$f":"IFERROR(VLOOKUP(A720,'1.Портфель кредитів'!A:Z,3,FALSE),\"\")","v":""},{"$f":"IFERROR(VLOOKUP(A720,'1.Портфель кредитів'!A:Z,7,FALSE),\"\")","v":""},{"$f":"IFERROR(VLOOKUP(A720,'1.Портфель кредитів'!A:Z,14,FALSE),\"\")","v":""},null,null,null,null,null,null,null,null,{"$f":"IFERROR(VLOOKUP(A720,'1.Портфель кредитів'!A:Z,30,FALSE),\"\")","v":""},0,{"$error":"#VALUE!"},null,null,null,null,null,{"$f":"VLOOKUP(C720,Hidden_Словник!$A$2:C$81,3,FALSE)","v":{"$error":"#N/A"}},0,{"$f":"VLOOKUP(F720,Hidden_Словник!$W$2:$X$13,2,FALSE)","v":{"$error":"#N/A"}},{"$f":"#REF!","v":{"$error":"#REF!"}},{"$error":"#N/A"}]
[null,"",{"$f":"IFERROR(VLOOKUP(A721,'1.Портфель кредитів'!A:Z,3,FALSE),\"\")","v":""},{"$f":"IFERROR(VLOOKUP(A721,'1.Портфель кредитів'!A:Z,7,FALSE),\"\")","v":""},{"$f":"IFERROR(VLOOKUP(A721,'1.Портфель кредитів'!A:Z,14,FALSE),\"\")","v":""},null,null,null,null,null,null,null,null,{"$f":"IFERROR(VLOOKUP(A721,'1.Портфель кредитів'!A:Z,30,FALSE),\"\")","v":""},0,{"$error":"#VALUE!"},null,null,null,null,null,{"$f":"VLOOKUP(C721,Hidden_Словник!$A$2:C$81,3,FALSE)","v":{"$error":"#N/A"}},0,{"$f":"VLOOKUP(F721,Hidden_Словник!$W$2:$X$13,2,FALSE)","v":{"$error":"#N/A"}},{"$f":"#REF!","v":{"$error":"#REF!"}},{"$error":"#N/A"}]
[null,"",{"$f":"IFERROR(VLOOKUP(A722,'1.Портфель кредитів'!A:Z,3,FALSE),\"\")","v":""},{"$f":"IFERROR(VLOOKUP(A722,'1.Портфель кредитів'!A:Z,7,FALSE),\"\")","v":""},{"$f":"IFERROR(VLOOKUP(A722,'1.Портфель кредитів'!A:Z,14,FALSE),\"\")","v":""},null,null,null,null,null,null,null,null,{"$f":"IFERROR(VLOOKUP(A722,'1.Портфель кредитів'!A:Z,30,FALSE),\"\")","v":""},0,{"$error":"#VALUE!"},null,null,null,null,null,{"$f":"VLOOKUP(C722,Hidden_Словник!$A$2:C$81,3,FALSE)","v":{"$error":"#N/A"}},0,{"$f":"VLOOKUP(F722,Hidden_Словник!$W$2:$X$13,2,FALSE)","v":{"$error":"#N/A"}},{"$f":"#REF!","v":{"$error":"#REF!"}},{"$error":"#N/A"}]
[null,"",{"$f":"IFERROR(VLOOKUP(A723,'1.Портфель кредитів'!A:Z,3,FALSE),\"\")","v":""},{"$f":"IFERROR(VLOOKUP(A723,'1.Портфель кредитів'!A:Z,7,FALSE),\"\")","v":""},{"$f":"IFERROR(VLOOKUP(A723,'1.Портфель кредитів'!A:Z,14,FALSE),\"\")","v":""},null,null,null,null,null,null,null,null,{"$f":"IFERROR(VLOOKUP(A723,'1.Портфель кредитів'!A:Z,30,FALSE),\"\")","v":""},0,{"$error":"#VALUE!"},null,null,null,null,null,{"$f":"VLOOKUP(C723,Hidden_Словник!$A$2:C$81,3,FALSE)","v":{"$error":"#N/A"}},{"$f":"ROUNDUP(K723,0)","v":0},{"$f":"VLOOKUP(F723,Hidden_Словник!$W$2:$X$13,2,FALSE)","v":{"$error":"#N/A"}},{"$f":"#REF!","v":{"$error":"#REF!"}},{"$error":"#N/A"}]
[null,"",{"$f":"IFERROR(VLOOKUP(A724,'1.Портфель кредитів'!A:Z,3,FALSE),\"\")","v":""},{"$f":"IFERROR(VLOOKUP(A724,'1.Портфель кредитів'!A:Z,7,FALSE),\"\")","v":""},{"$f":"IFERROR(VLOOKUP(A724,'1.Портфель кредитів'!A:Z,14,FALSE),\"\")","v":""},null,null,null,null,null,null,null,null,{"$f":"IFERROR(VLOOKUP(A724,'1.Портфель кредитів'!A:Z,30,FALSE),\"\")","v":""},0,{"$error":"#VALUE!"},null,null,null,null,null,{"$f":"VLOOKUP(C724,Hidden_Словник!$A$2:C$81,3,FALSE)","v":{"$error":"#N/A"}},0,{"$f":"VLOOKUP(F724,Hidden_Словник!$W$2:$X$13,2,FALSE)","v":{"$error":"#N/A"}},{"$f":"#REF!","v":{"$error":"#REF!"}},{"$error":"#N/A"}]
[null,"",{"$f":"IFERROR(VLOOKUP(A725,'1.Портфель кредитів'!A:Z,3,FALSE),\"\")","v":""},{"$f":"IFERROR(VLOOKUP(A725,'1.Портфель кредитів'!A:Z,7,FALSE),\"\")","v":""},{"$f":"IFERROR(VLOOKUP(A725,'1.Портфель кредитів'!A:Z,14,FALSE),\"\")","v":""},null,null,null,null,null,null,null,null,{"$f":"IFERROR(VLOOKUP(A725,'1.Портфель кредитів'!A:Z,30,FALSE),\"\")","v":""},0,{"$error":"#VALUE!"},null,null,null,null,null,{"$f":"VLOOKUP(C725,Hidden_Словник!$A$2:C$81,3,FALSE)","v":{"$error":"#N/A"}},0,{"$f":"VLOOKUP(F725,Hidden_Словник!$W$2:$X$13,2,FALSE)","v":{"$error":"#N/A"}},{"$f":"#REF!","v":{"$error":"#REF!"}},{"$error":"#N/A"}]
[null,"",{"$f":"IFERROR(VLOOKUP(A726,'1.Портфель кредитів'!A:Z,3,FALSE),\"\")","v":""},{"$f":"IFERROR(VLOOKUP(A726,'1.Портфель кредитів'!A:Z,7,FALSE),\"\")","v":""},{"$f":"IFERROR(VLOOKUP(A726,'1.Портфель кредитів'!A:Z,14,FALSE),\"\")","v":""},null,null,null,null,null,null,null,null,{"$f":"IFERROR(VLOOKUP(A726,'1.Портфель кредитів'!A:Z,30,FALSE),\"\")","v":""},0,{"$error":"#VALUE!"},null,null,null,null,null,{"$f":"VLOOKUP(C726,Hidden_Словник!$A$2:C$81,3,FALSE)","v":{"$error":"#N/A"}},0,{"$f":"VLOOKUP(F726,Hidden_Словник!$W$2:$X$13,2,FALSE)","v":{"$error":"#N/A"}},{"$f":"#REF!","v":{"$error":"#REF!"}},{"$error":"#N/A"}]
[null,"",{"$f":"IFERROR(VLOOKUP(A727,'1.Портфель кредитів'!A:Z,3,FALSE),\"\")","v":""},{"$f":"IFERROR(VLOOKUP(A727,'1.Портфель кредитів'!A:Z,7,FALSE),\"\")","v":""},{"$f":"IFERROR(VLOOKUP(A727,'1.Портфель кредитів'!A:Z,14,FALSE),\"\")","v":""},null,null,null,null,null,null,null,null,{"$f":"IFERROR(VLOOKUP(A727,'1.Портфель кредитів'!A:Z,30,FALSE),\"\")","v":""},{"$f":"SUMIF(B:B,B727,N:N)","v":0},{"$error":"#VALUE!"},null,null,null,null,null,{"$f":"VLOOKUP(C727,Hidden_Словник!$A$2:C$81,3,FALSE)","v":{"$error":"#N/A"}},0,{"$f":"VLOOKUP(F727,Hidden_Словник!$W$2:$X$13,2,FALSE)","v":{"$error":"#N/A"}},{"$f":"#REF!","v":{"$error":"#REF!"}},{"$error":"#N/A"}]
[null,"",{"$f":"IFERROR(VLOOKUP(A728,'1.Портфель кредитів'!A:Z,3,FALSE),\"\")","v":""},{"$f":"IFERROR(VLOOKUP(A728,'1.Портфель кредитів'!A:Z,7,FALSE),\"\")","v":""},{"$f":"IFERROR(VLOOKUP(A728,'1.Портфель кредитів'!A:Z,14,FALSE),\"\")","v":""},null,null,null,null,null,null,null,null,{"$f":"IFERROR(VLOOKUP(A728,'1.Портфель кредитів'!A:Z,30,FALSE),\"\")","v":""},0,{"$error":"#VALUE!"},null,null,null,null,null,{"$f":"VLOOKUP(C728,Hidden_Словник!$A$2:C$81,3,FALSE)","v":{"$error":"#N/A"}},0,{"$f":"VLOOKUP(F728,Hidden_Словник!$W$2:$X$13,2,FALSE)","v":{"$error":"#N/A"}},{"$f":"#REF!","v":{"$error":"#REF!"}},{"$error":"#N/A"}]
[null,"",{"$f":"IFERROR(VLOOKUP(A729,'1.Портфель кредитів'!A:Z,3,FALSE),\"\")","v":""},{"$f":"IFERROR(VLOOKUP(A729,'1.Портфель кредитів'!A:Z,7,FALSE),\"\")","v":""},{"$f":"IFERROR(VLOOKUP(A729,'1.Портфель кредитів'!A:Z,14,FALSE),\"\")","v":""},null,null,null,null,null,null,null,null,{"$f":"IFERROR(VLOOKUP(A729,'1.Портфель кредитів'!A:Z,30,FALSE),\"\")","v":""},0,{"$error":"#VALUE!"},null,null,null,null,null,{"$f":"VLOOKUP(C729,Hidden_Словник!$A$2:C$81,3,FALSE)","v":{"$error":"#N/A"}},0,{"$f":"VLOOKUP(F729,Hidden_Словник!$W$2:$X$13,2,FALSE)","v":{"$error":"#N/A"}},{"$f":"#REF!","v":{"$error":"#REF!"}},{"$error":"#N/A"}]
[null,"",{"$f":"IFERROR(VLOOKUP(A730,'1.Портфель кредитів'!A:Z,3,FALSE),\"\")","v":""},{"$f":"IFERROR(VLOOKUP(A730,'1.Портфель кредитів'!A:Z,7,FALSE),\"\")","v":""},{"$f":"IFERROR(VLOOKUP(A730,'1.Портфель кредитів'!A:Z,14,FALSE),\"\")","v":""},null,null,null,null,null,null,null,null,{"$f":"IFERROR(VLOOKUP(A730,'1.Портфель кредитів'!A:Z,30,FALSE),\"\")","v":""},0,{"$error":"#VALUE!"},null,null,null,null,null,{"$f":"VLOOKUP(C730,Hidden_Словник!$A$2:C$81,3,FALSE)","v":{"$error":"#N/A"}},0,{"$f":"VLOOKUP(F730,Hidden_Словник!$W$2:$X$13,2,FALSE)","v":{"$error":"#N/A"}},{"$f":"#REF!","v":{"$error":"#REF!"}},{"$error":"#N/A"}]
[null,"",{"$f":"IFERROR(VLOOKUP(A731,'1.Портфель кредитів'!A:Z,3,FALSE),\"\")","v":""},{"$f":"IFERROR(VLOOKUP(A731,'1.Портфель кредитів'!A:Z,7,FALSE),\"\")","v":""},{"$f":"IFERROR(VLOOKUP(A731,'1.Портфель кредитів'!A:Z,14,FALSE),\"\")","v":""},null,null,null,null,null,null,null,null,{"$f":"IFERROR(VLOOKUP(A731,'1.Портфель кредитів'!A:Z,30,FALSE),\"\")","v":""},0,{"$error":"#VALUE!"},null,null,null,null,null,{"$f":"VLOOKUP(C731,Hidden_Словник!$A$2:C$81,3,FALSE)","v":{"$error":"#N/A"}},0,{"$f":"VLOOKUP(F731,Hidden_Словник!$W$2:$X$13,2,FALSE)","v":{"$error":"#N/A"}},{"$f":"#REF!","v":{"$error":"#REF!"}},{"$error":"#N/A"}]
[null,"",{"$f":"IFERROR(VLOOKUP(A732,'1.Портфель кредитів'!A:Z,3,FALSE),\"\")","v":""},{"$f":"IFERROR(VLOOKUP(A732,'1.Портфель кредитів'!A:Z,7,FALSE),\"\")","v":""},{"$f":"IFERROR(VLOOKUP(A732,'1.Портфель кредитів'!A:Z,14,FALSE),\"\")","v":""},null,null,null,null,null,null,null,null,{"$f":"IFERROR(VLOOKUP(A732,'1.Портфель кредитів'!A:Z,30,FALSE),\"\")","v":""},0,{"$error":"#VALUE!"},null,null,null,null,null,{"$f":"VLOOKUP(C732,Hidden_Словник!$A$2:C$81,3,FALSE)","v":{"$error":"#N/A"}},0,{"$f":"VLOOKUP(F732,Hidden_Словник!$W$2:$X$13,2,FALSE)","v":{"$error":"#N/A"}},{"$f":"#REF!","v":{"$error":"#REF!"}},{"$error":"#N/A"}]
[null,"",{"$f":"IFERROR(VLOOKUP(A733,'1.Портфель кредитів'!A:Z,3,FALSE),\"\")","v":""},{"$f":"IFERROR(VLOOKUP(A733,'1.Портфель кредитів'!A:Z,7,FALSE),\"\")","v":""},{"$f":"IFERROR(VLOOKUP(A733,'1.Портфель кредитів'!A:Z,14,FALSE),\"\")","v":""},null,null,null,null,null,null,null,null,{"$f":"IFERROR(VLOOKUP(A733,'1.Портфель кредитів'!A:Z,30,FALSE),\"\")","v":""},0,{"$error":"#VALUE!"},null,null,null,null,null,{"$f":"VLOOKUP(C733,Hidden_Словник!$A$2:C$81,3,FALSE)","v":{"$error":"#N/A"}},0,{"$f":"VLOOKUP(F733,Hidden_Словник!$W$2:$X$13,2,FALSE)","v":{"$error":"#N/A"}},{"$f":"#REF!","v":{"$error":"#REF!"}},{"$error":"#N/A"}]
[null,"",{"$f":"IFERROR(VLOOKUP(A734,'1.Портфель кредитів'!A:Z,3,FALSE),\"\")","v":""},{"$f":"IFERROR(VLOOKUP(A734,'1.Портфель кредитів'!A:Z,7,FALSE),\"\")","v":""},{"$f":"IFERROR(VLOOKUP(A734,'1.Портфель кредитів'!A:Z,14,FALSE),\"\")","v":""},null,null,null,null,null,null,null,null,{"$f":"IFERROR(VLOOKUP(A734,'1.Портфель кредитів'!A:Z,30,FALSE),\"\")","v":""},0,{"$error":"#VALUE!"},null,null,null,null,null,{"$f":"VLOOKUP(C734,Hidden_Словник!$A$2:C$81,3,FALSE)","v":{"$error":"#N/A"}},0,{"$f":"VLOOKUP(F734,Hidden_Словник!$W$2:$X$13,2,FALSE)","v":{"$error":"#N/A"}},{"$f":"#REF!","v":{"$error":"#REF!"}},{"$error":"#N/A"}]
[null,"",{"$f":"IFERROR(VLOOKUP(A735,'1.Портфель кредитів'!A:Z,3,FALSE),\"\")","v":""},{"$f":"IFERROR(VLOOKUP(A735,'1.Портфель кредитів'!A:Z,7,FALSE),\"\")","v":""},{"$f":"IFERROR(VLOOKUP(A735,'1.Портфель кредитів'!A:Z,14,FALSE),\"\")","v":""},null,null,null,null,null,null,null,null,{"$f":"IFERROR(VLOOKUP(A735,'1.Портфель кредитів'!A:Z,30,FALSE),\"\")","v":""},0,{"$error":"#VALUE!"},null,null,null,null,null,{"$f":"VLOOKUP(C735,Hidden_Словник!$A$2:C$81,3,FALSE)","v":{"$error":"#N/A"}},0,{"$f":"VLOOKUP(F735,Hidden_Словник!$W$2:$X$13,2,FALSE)","v":{"$error":"#N/A"}},{"$f":"#REF!","v":{"$error":"#REF!"}},{"$error":"#N/A"}]
[null,"",{"$f":"IFERROR(VLOOKUP(A736,'1.Портфель кредитів'!A:Z,3,FALSE),\"\")","v":""},{"$f":"IFERROR(VLOOKUP(A736,'1.Портфель кредитів'!A:Z,7,FALSE),\"\")","v":""},{"$f":"IFERROR(VLOOKUP(A736,'1.Портфель кредитів'!A:Z,14,FALSE),\"\")","v":""},null,null,null,null,null,null,null,null,{"$f":"IFERROR(VLOOKUP(A736,'1.Портфель кредитів'!A:Z,30,FALSE),\"\")","v":""},0,{"$error":"#VALUE!"},null,null,null,null,null,{"$f":"VLOOKUP(C736,Hidden_Словник!$A$2:C$81,3,FALSE)","v":{"$error":"#N/A"}},0,{"$f":"VLOOKUP(F736,Hidden_Словник!$W$2:$X$13,2,FALSE)","v":{"$error":"#N/A"}},{"$f":"#REF!","v":{"$error":"#REF!"}},{"$error":"#N/A"}]
[null,"",{"$f":"IFERROR(VLOOKUP(A737,'1.Портфель кредитів'!A:Z,3,FALSE),\"\")","v":""},{"$f":"IFERROR(VLOOKUP(A737,'1.Портфель кредитів'!A:Z,7,FALSE),\"\")","v":""},{"$f":"IFERROR(VLOOKUP(A737,'1.Портфель кредитів'!A:Z,14,FALSE),\"\")","v":""},null,null,null,null,null,null,null,null,{"$f":"IFERROR(VLOOKUP(A737,'1.Портфель кредитів'!A:Z,30,FALSE),\"\")","v":""},0,{"$error":"#VALUE!"},null,null,null,null,null,{"$f":"VLOOKUP(C737,Hidden_Словник!$A$2:C$81,3,FALSE)","v":{"$error":"#N/A"}},0,{"$f":"VLOOKUP(F737,Hidden_Словник!$W$2:$X$13,2,FALSE)","v":{"$error":"#N/A"}},{"$f":"#REF!","v":{"$error":"#REF!"}},{"$error":"#N/A"}]
[null,"",{"$f":"IFERROR(VLOOKUP(A738,'1.Портфель кредитів'!A:Z,3,FALSE),\"\")","v":""},{"$f":"IFERROR(VLOOKUP(A738,'1.Портфель кредитів'!A:Z,7,FALSE),\"\")","v":""},{"$f":"IFERROR(VLOOKUP(A738,'1.Портфель кредитів'!A:Z,14,FALSE),\"\")","v":""},null,null,null,null,null,null,null,null,{"$f":"IFERROR(VLOOKUP(A738,'1.Портфель кредитів'!A:Z,30,FALSE),\"\")","v":""},0,{"$error":"#VALUE!"},null,null,null,null,null,{"$f":"VLOOKUP(C738,Hidden_Словник!$A$2:C$81,3,FALSE)","v":{"$error":"#N/A"}},0,{"$f":"VLOOKUP(F738,Hidden_Словник!$W$2:$X$13,2,FALSE)","v":{"$error":"#N/A"}},{"$f":"#REF!","v":{"$error":"#REF!"}},{"$error":"#N/A"}]
[null,"",{"$f":"IFERROR(VLOOKUP(A739,'1.Портфель кредитів'!A:Z,3,FALSE),\"\")","v":""},{"$f":"IFERROR(VLOOKUP(A739,'1.Портфель кредитів'!A:Z,7,FALSE),\"\")","v":""},{"$f":"IFERROR(VLOOKUP(A739,'1.Портфель кредитів'!A:Z,14,FALSE),\"\")","v":""},null,null,null,null,null,null,null,null,{"$f":"IFERROR(VLOOKUP(A739,'1.Портфель кредитів'!A:Z,30,FALSE),\"\")","v":""},0,{"$error":"#VALUE!"},null,null,null,null,null,{"$f":"VLOOKUP(C739,Hidden_Словник!$A$2:C$81,3,FALSE)","v":{"$error":"#N/A"}},0,{"$f":"VLOOKUP(F739,Hidden_Словник!$W$2:$X$13,2,FALSE)","v":{"$error":"#N/A"}},{"$f":"#REF!","v":{"$error":"#REF!"}},{"$error":"#N/A"}]
[null,"",{"$f":"IFERROR(VLOOKUP(A740,'1.Портфель кредитів'!A:Z,3,FALSE),\"\")","v":""},{"$f":"IFERROR(VLOOKUP(A740,'1.Портфель кредитів'!A:Z,7,FALSE),\"\")","v":""},{"$f":"IFERROR(VLOOKUP(A740,'1.Портфель кредитів'!A:Z,14,FALSE),\"\")","v":""},null,null,null,null,null,null,null,null,{"$f":"IFERROR(VLOOKUP(A740,'1.Портфель кредитів'!A:Z,30,FALSE),\"\")","v":""},0,{"$error":"#VALUE!"},null,null,null,null,null,{"$f":"VLOOKUP(C740,Hidden_Словник!$A$2:C$81,3,FALSE)","v":{"$error":"#N/A"}},0,{"$f":"VLOOKUP(F740,Hidden_Словник!$W$2:$X$13,2,FALSE)","v":{"$error":"#N/A"}},{"$f":"#REF!","v":{"$error":"#REF!"}},{"$error":"#N/A"}]
[null,"",{"$f":"IFERROR(VLOOKUP(A741,'1.Портфель кредитів'!A:Z,3,FALSE),\"\")","v":""},{"$f":"IFERROR(VLOOKUP(A741,'1.Портфель кредитів'!A:Z,7,FALSE),\"\")","v":""},{"$f":"IFERROR(VLOOKUP(A741,'1.Портфель кредитів'!A:Z,14,FALSE),\"\")","v":""},null,null,null,null,null,null,null,null,{"$f":"IFERROR(VLOOKUP(A741,'1.Портфель кредитів'!A:Z,30,FALSE),\"\")","v":""},0,{"$error":"#VALUE!"},null,null,null,null,null,{"$f":"VLOOKUP(C741,Hidden_Словник!$A$2:C$81,3,FALSE)","v":{"$error":"#N/A"}},0,{"$f":"VLOOKUP(F741,Hidden_Словник!$W$2:$X$13,2,FALSE)","v":{"$error":"#N/A"}},{"$f":"#REF!","v":{"$error":"#REF!"}},{"$error":"#N/A"}]
[null,"",{"$f":"IFERROR(VLOOKUP(A742,'1.Портфель кредитів'!A:Z,3,FALSE),\"\")","v":""},{"$f":"IFERROR(VLOOKUP(A742,'1.Портфель кредитів'!A:Z,7,FALSE),\"\")","v":""},{"$f":"IFERROR(VLOOKUP(A742,'1.Портфель кредитів'!A:Z,14,FALSE),\"\")","v":""},null,null,null,null,null,null,null,null,{"$f":"IFERROR(VLOOKUP(A742,'1.Портфель кредитів'!A:Z,30,FALSE),\"\")","v":""},0,{"$f":"N742/O742","v":{"$error":"#VALUE!"}},null,null,null,null,null,{"$f":"VLOOKUP(C742,Hidden_Словник!$A$2:C$81,3,FALSE)","v":{"$error":"#N/A"}},0,{"$f":"VLOOKUP(F742,Hidden_Словник!$W$2:$X$13,2,FALSE)","v":{"$error":"#N/A"}},{"$f":"#REF!","v":{"$error":"#REF!"}},{"$error":"#N/A"}]
[null,"",{"$f":"IFERROR(VLOOKUP(A743,'1.Портфель кредитів'!A:Z,3,FALSE),\"\")","v":""},{"$f":"IFERROR(VLOOKUP(A743,'1.Портфель кредитів'!A:Z,7,FALSE),\"\")","v":""},{"$f":"IFERROR(VLOOKUP(A743,'1.Портфель кредитів'!A:Z,14,FALSE),\"\")","v":""},null,null,null,null,null,null,null,null,{"$f":"IFERROR(VLOOKUP(A743,'1.Портфель кредитів'!A:Z,30,FALSE),\"\")","v":""},0,{"$error":"#VALUE!"},null,null,null,null,null,{"$f":"VLOOKUP(C743,Hidden_Словник!$A$2:C$81,3,FALSE)","v":{"$error":"#N/A"}},0,{"$f":"VLOOKUP(F743,Hidden_Словник!$W$2:$X$13,2,FALSE)","v":{"$error":"#N/A"}},{"$f":"#REF!","v":{"$error":"#REF!"}},{"$error":"#N/A"}]
[null,"",{"$f":"IFERROR(VLOOKUP(A744,'1.Портфель кредитів'!A:Z,3,FALSE),\"\")","v":""},{"$f":"IFERROR(VLOOKUP(A744,'1.Портфель кредитів'!A:Z,7,FALSE),\"\")","v":""},{"$f":"IFERROR(VLOOKUP(A744,'1.Портфель кредитів'!A:Z,14,FALSE),\"\")","v":""},null,null,null,null,null,null,null,null,{"$f":"IFERROR(VLOOKUP(A744,'1.Портфель кредитів'!A:Z,30,FALSE),\"\")","v":""},0,{"$error":"#VALUE!"},null,null,null,null,null,{"$f":"VLOOKUP(C744,Hidden_Словник!$A$2:C$81,3,FALSE)","v":{"$error":"#N/A"}},0,{"$f":"VLOOKUP(F744,Hidden_Словник!$W$2:$X$13,2,FALSE)","v":{"$error":"#N/A"}},{"$f":"#REF!","v":{"$error":"#REF!"}},{"$error":"#N/A"}]
[null,"",{"$f":"IFERROR(VLOOKUP(A745,'1.Портфель кредитів'!A:Z,3,FALSE),\"\")","v":""},{"$f":"IFERROR(VLOOKUP(A745,'1.Портфель кредитів'!A:Z,7,FALSE),\"\")","v":""},{"$f":"IFERROR(VLOOKUP(A745,'1.Портфель кредитів'!A:Z,14,FALSE),\"\")","v":""},null,null,null,null,null,null,null,null,{"$f":"IFERROR(VLOOKUP(A745,'1.Портфель кредитів'!A:Z,30,FALSE),\"\")","v":""},0,{"$error":"#VALUE!"},null,null,null,null,null,{"$f":"VLOOKUP(C745,Hidden_Словник!$A$2:C$81,3,FALSE)","v":{"$error":"#N/A"}},0,{"$f":"VLOOKUP(F745,Hidden_Словник!$W$2:$X$13,2,FALSE)","v":{"$error":"#N/A"}},{"$f":"#REF!","v":{"$error":"#REF!"}},{"$error":"#N/A"}]
[null,"",{"$f":"IFERROR(VLOOKUP(A746,'1.Портфель кредитів'!A:Z,3,FALSE),\"\")","v":""},{"$f":"IFERROR(VLOOKUP(A746,'1.Портфель кредитів'!A:Z,7,FALSE),\"\")","v":""},{"$f":"IFERROR(VLOOKUP(A746,'1.Портфель кредитів'!A:Z,14,FALSE),\"\")","v":""},null,null,null,null,null,null,null,null,{"$f":"IFERROR(VLOOKUP(A746,'1.Портфель кредитів'!A:Z,30,FALSE),\"\")","v":""},0,{"$error":"#VALUE!"},null,null,null,null,null,{"$f":"VLOOKUP(C746,Hidden_Словник!$A$2:C$81,3,FALSE)","v":{"$error":"#N/A"}},0,{"$f":"VLOOKUP(F746,Hidden_Словник!$W$2:$X$13,2,FALSE)","v":{"$error":"#N/A"}},{"$f":"#REF!","v":{"$error":"#REF!"}},{"$error":"#N/A"}]
[null,"",{"$f":"IFERROR(VLOOKUP(A747,'1.Портфель кредитів'!A:Z,3,FALSE),\"\")","v":""},{"$f":"IFERROR(VLOOKUP(A747,'1.Портфель кредитів'!A:Z,7,FALSE),\"\")","v":""},{"$f":"IFERROR(VLOOKUP(A747,'1.Портфель кредитів'!A:Z,14,FALSE),\"\")","v":""},null,null,null,null,null,null,null,null,{"$f":"IFERROR(VLOOKUP(A747,'1.Портфель кредитів'!A:Z,30,FALSE),\"\")","v":""},0,{"$error":"#VALUE!"},null,null,null,null,null,{"$f":"VLOOKUP(C747,Hidden_Словник!$A$2:C$81,3,FALSE)","v":{"$error":"#N/A"}},0,{"$f":"VLOOKUP(F747,Hidden_Словник!$W$2:$X$13,2,FALSE)","v":{"$error":"#N/A"}},{"$f":"#REF!","v":{"$error":"#REF!"}},{"$error":"#N/A"}]
[null,"",{"$f":"IFERROR(VLOOKUP(A748,'1.Портфель кредитів'!A:Z,3,FALSE),\"\")","v":""},{"$f":"IFERROR(VLOOKUP(A748,'1.Портфель кредитів'!A:Z,7,FALSE),\"\")","v":""},{"$f":"IFERROR(VLOOKUP(A748,'1.Портфель кредитів'!A:Z,14,FALSE),\"\")","v":""},null,null,null,null,null,null,null,null,{"$f":"IFERROR(VLOOKUP(A748,'1.Портфель кредитів'!A:Z,30,FALSE),\"\")","v":""},0,{"$error":"#VALUE!"},null,null,null,null,null,{"$f":"VLOOKUP(C748,Hidden_Словник!$A$2:C$81,3,FALSE)","v":{"$error":"#N/A"}},0,{"$f":"VLOOKUP(F748,Hidden_Словник!$W$2:$X$13,2,FALSE)","v":{"$error":"#N/A"}},{"$f":"#REF!","v":{"$error":"#REF!"}},{"$error":"#N/A"}]
[null,"",{"$f":"IFERROR(VLOOKUP(A749,'1.Портфель кредитів'!A:Z,3,FALSE),\"\")","v":""},{"$f":"IFERROR(VLOOKUP(A749,'1.Портфель кредитів'!A:Z,7,FALSE),\"\")","v":""},{"$f":"IFERROR(VLOOKUP(A749,'1.Портфель кредитів'!A:Z,14,FALSE),\"\")","v":""},null,null,null,null,null,null,null,null,{"$f":"IFERROR(VLOOKUP(A749,'1.Портфель кредитів'!A:Z,30,FALSE),\"\")","v":""},0,{"$error":"#VALUE!"},null,null,null,null,null,{"$f":"VLOOKUP(C749,Hidden_Словник!$A$2:C$81,3,FALSE)","v":{"$error":"#N/A"}},0,{"$f":"VLOOKUP(F749,Hidden_Словник!$W$2:$X$13,2,FALSE)","v":{"$error":"#N/A"}},{"$f":"#REF!","v":{"$error":"#REF!"}},{"$error":"#N/A"}]
[null,"",{"$f":"IFERROR(VLOOKUP(A750,'1.Портфель кредитів'!A:Z,3,FALSE),\"\")","v":""},{"$f":"IFERROR(VLOOKUP(A750,'1.Портфель кредитів'!A:Z,7,FALSE),\"\")","v":""},{"$f":"IFERROR(VLOOKUP(A750,'1.Портфель кредитів'!A:Z,14,FALSE),\"\")","v":""},null,null,null,null,null,null,null,null,{"$f":"IFERROR(VLOOKUP(A750,'1.Портфель кредитів'!A:Z,30,FALSE),\"\")","v":""},0,{"$error":"#VALUE!"},null,null,null,null,null,{"$f":"VLOOKUP(C750,Hidden_Словник!$A$2:C$81,3,FALSE)","v":{"$error":"#N/A"}},0,{"$f":"VLOOKUP(F750,Hidden_Словник!$W$2:$X$13,2,FALSE)","v":{"$error":"#N/A"}},{"$f":"#REF!","v":{"$error":"#REF!"}},{"$error":"#N/A"}]
[null,"",{"$f":"IFERROR(VLOOKUP(A751,'1.Портфель кредитів'!A:Z,3,FALSE),\"\")","v":""},{"$f":"IFERROR(VLOOKUP(A751,'1.Портфель кредитів'!A:Z,7,FALSE),\"\")","v":""},{"$f":"IFERROR(VLOOKUP(A751,'1.Портфель кредитів'!A:Z,14,FALSE),\"\")","v":""},null,null,null,null,null,null,null,null,{"$f":"IFERROR(VLOOKUP(A751,'1.Портфель кредитів'!A:Z,30,FALSE),\"\")","v":""},0,{"$error":"#VALUE!"},null,null,null,null,null,{"$f":"VLOOKUP(C751,Hidden_Словник!$A$2:C$81,3,FALSE)","v":{"$error":"#N/A"}},0,{"$f":"VLOOKUP(F751,Hidden_Словник!$W$2:$X$13,2,FALSE)","v":{"$error":"#N/A"}},{"$f":"#REF!","v":{"$error":"#REF!"}},{"$error":"#N/A"}]
[null,"",{"$f":"IFERROR(VLOOKUP(A752,'1.Портфель кредитів'!A:Z,3,FALSE),\"\")","v":""},{"$f":"IFERROR(VLOOKUP(A752,'1.Портфель кредитів'!A:Z,7,FALSE),\"\")","v":""},{"$f":"IFERROR(VLOOKUP(A752,'1.Портфель кредитів'!A:Z,14,FALSE),\"\")","v":""},null,null,null,null,null,null,null,null,{"$f":"IFERROR(VLOOKUP(A752,'1.Портфель кредитів'!A:Z,30,FALSE),\"\")","v":""},0,{"$error":"#VALUE!"},null,null,null,null,null,{"$f":"VLOOKUP(C752,Hidden_Словник!$A$2:C$81,3,FALSE)","v":{"$error":"#N/A"}},0,{"$f":"VLOOKUP(F752,Hidden_Словник!$W$2:$X$13,2,FALSE)","v":{"$error":"#N/A"}},{"$f":"#REF!","v":{"$error":"#REF!"}},{"$error":"#N/A"}]
[null,"",{"$f":"IFERROR(VLOOKUP(A753,'1.Портфель кредитів'!A:Z,3,FALSE),\"\")","v":""},{"$f":"IFERROR(VLOOKUP(A753,'1.Портфель кредитів'!A:Z,7,FALSE),\"\")","v":""},{"$f":"IFERROR(VLOOKUP(A753,'1.Портфель кредитів'!A:Z,14,FALSE),\"\")","v":""},null,null,null,null,null,null,null,null,{"$f":"IFERROR(VLOOKUP(A753,'1.Портфель кредитів'!A:Z,30,FALSE),\"\")","v":""},0,{"$error":"#VALUE!"},null,null,null,null,null,{"$f":"VLOOKUP(C753,Hidden_Словник!$A$2:C$81,3,FALSE)","v":{"$error":"#N/A"}},0,{"$f":"VLOOKUP(F753,Hidden_Словник!$W$2:$X$13,2,FALSE)","v":{"$error":"#N/A"}},{"$f":"#REF!","v":{"$error":"#REF!"}},{"$error":"#N/A"}]
[null,"",{"$f":"IFERROR(VLOOKUP(A754,'1.Портфель кредитів'!A:Z,3,FALSE),\"\")","v":""},{"$f":"IFERROR(VLOOKUP(A754,'1.Портфель кредитів'!A:Z,7,FALSE),\"\")","v":""},{"$f":"IFERROR(VLOOKUP(A754,'1.Портфель кредитів'!A:Z,14,FALSE),\"\")","v":""},null,null,null,null,null,null,null,null,{"$f":"IFERROR(VLOOKUP(A754,'1.Портфель кредитів'!A:Z,30,FALSE),\"\")","v":""},0,{"$error":"#VALUE!"},null,null,null,null,null,{"$f":"VLOOKUP(C754,Hidden_Словник!$A$2:C$81,3,FALSE)","v":{"$error":"#N/A"}},0,{"$f":"VLOOKUP(F754,Hidden_Словник!$W$2:$X$13,2,FALSE)","v":{"$error":"#N/A"}},{"$f":"#REF!","v":{"$error":"#REF!"}},{"$error":"#N/A"}]
[null,"",{"$f":"IFERROR(VLOOKUP(A755,'1.Портфель кредитів'!A:Z,3,FALSE),\"\")","v":""},{"$f":"IFERROR(VLOOKUP(A755,'1.Портфель кредитів'!A:Z,7,FALSE),\"\")","v":""},{"$f":"IFERROR(VLOOKUP(A755,'1.Портфель кредитів'!A:Z,14,FALSE),\"\")","v":""},null,null,null,null,null,null,null,null,{"$f":"IFERROR(VLOOKUP(A755,'1.Портфель кредитів'!A:Z,30,FALSE),\"\")","v":""},0,{"$error":"#VALUE!"},null,null,null,null,null,{"$f":"VLOOKUP(C755,Hidden_Словник!$A$2:C$81,3,FALSE)","v":{"$error":"#N/A"}},0,{"$f":"VLOOKUP(F755,Hidden_Словник!$W$2:$X$13,2,FALSE)","v":{"$error":"#N/A"}},{"$f":"#REF!","v":{"$error":"#REF!"}},{"$error":"#N/A"}]
[null,"",{"$f":"IFERROR(VLOOKUP(A756,'1.Портфель кредитів'!A:Z,3,FALSE),\"\")","v":""},{"$f":"IFERROR(VLOOKUP(A756,'1.Портфель кредитів'!A:Z,7,FALSE),\"\")","v":""},{"$f":"IFERROR(VLOOKUP(A756,'1.Портфель кредитів'!A:Z,14,FALSE),\"\")","v":""},null,null,null,null,null,null,null,null,{"$f":"IFERROR(VLOOKUP(A756,'1.Портфель кредитів'!A:Z,30,FALSE),\"\")","v":""},0,{"$error":"#VALUE!"},null,null,null,null,null,{"$f":"VLOOKUP(C756,Hidden_Словник!$A$2:C$81,3,FALSE)","v":{"$error":"#N/A"}},0,{"$f":"VLOOKUP(F756,Hidden_Словник!$W$2:$X$13,2,FALSE)","v":{"$error":"#N/A"}},{"$f":"#REF!","v":{"$error":"#REF!"}},{"$error":"#N/A"}]
[null,"",{"$f":"IFERROR(VLOOKUP(A757,'1.Портфель кредитів'!A:Z,3,FALSE),\"\")","v":""},{"$f":"IFERROR(VLOOKUP(A757,'1.Портфель кредитів'!A:Z,7,FALSE),\"\")","v":""},{"$f":"IFERROR(VLOOKUP(A757,'1.Портфель кредитів'!A:Z,14,FALSE),\"\")","v":""},null,null,null,null,null,null,null,null,{"$f":"IFERROR(VLOOKUP(A757,'1.Портфель кредитів'!A:Z,30,FALSE),\"\")","v":""},0,{"$error":"#VALUE!"},null,null,null,null,null,{"$f":"VLOOKUP(C757,Hidden_Словник!$A$2:C$81,3,FALSE)","v":{"$error":"#N/A"}},0,{"$f":"VLOOKUP(F757,Hidden_Словник!$W$2:$X$13,2,FALSE)","v":{"$error":"#N/A"}},{"$f":"#REF!","v":{"$error":"#REF!"}},{"$error":"#N/A"}]
[null,"",{"$f":"IFERROR(VLOOKUP(A758,'1.Портфель кредитів'!A:Z,3,FALSE),\"\")","v":""},{"$f":"IFERROR(VLOOKUP(A758,'1.Портфель кредитів'!A:Z,7,FALSE),\"\")","v":""},{"$f":"IFERROR(VLOOKUP(A758,'1.Портфель кредитів'!A:Z,14,FALSE),\"\")","v":""},null,null,null,null,null,null,null,null,{"$f":"IFERROR(VLOOKUP(A758,'1.Портфель кредитів'!A:Z,30,FALSE),\"\")","v":""},0,{"$error":"#VALUE!"},null,null,null,null,null,{"$f":"VLOOKUP(C758,Hidden_Словник!$A$2:C$81,3,FALSE)","v":{"$error":"#N/A"}},0,{"$f":"VLOOKUP(F758,Hidden_Словник!$W$2:$X$13,2,FALSE)","v":{"$error":"#N/A"}},{"$f":"#REF!","v":{"$error":"#REF!"}},{"$error":"#N/A"}]
[null,"",{"$f":"IFERROR(VLOOKUP(A759,'1.Портфель кредитів'!A:Z,3,FALSE),\"\")","v":""},{"$f":"IFERROR(VLOOKUP(A759,'1.Портфель кредитів'!A:Z,7,FALSE),\"\")","v":""},{"$f":"IFERROR(VLOOKUP(A759,'1.Портфель кредитів'!A:Z,14,FALSE),\"\")","v":""},null,null,null,null,null,null,null,null,{"$f":"IFERROR(VLOOKUP(A759,'1.Портфель кредитів'!A:Z,30,FALSE),\"\")","v":""},0,{"$error":"#VALUE!"},null,null,null,null,null,{"$f":"VLOOKUP(C759,Hidden_Словник!$A$2:C$81,3,FALSE)","v":{"$error":"#N/A"}},0,{"$f":"VLOOKUP(F759,Hidden_Словник!$W$2:$X$13,2,FALSE)","v":{"$error":"#N/A"}},{"$f":"#REF!","v":{"$error":"#REF!"}},{"$error":"#N/A"}]
[null,"",{"$f":"IFERROR(VLOOKUP(A760,'1.Портфель кредитів'!A:Z,3,FALSE),\"\")","v":""},{"$f":"IFERROR(VLOOKUP(A760,'1.Портфель кредитів'!A:Z,7,FALSE),\"\")","v":""},{"$f":"IFERROR(VLOOKUP(A760,'1.Портфель кредитів'!A:Z,14,FALSE),\"\")","v":""},null,null,null,null,null,null,null,null,{"$f":"IFERROR(VLOOKUP(A760,'1.Портфель кредитів'!A:Z,30,FALSE),\"\")","v":""},0,{"$error":"#VALUE!"},null,null,null,null,null,{"$f":"VLOOKUP(C760,Hidden_Словник!$A$2:C$81,3,FALSE)","v":{"$error":"#N/A"}},0,{"$f":"VLOOKUP(F760,Hidden_Словник!$W$2:$X$13,2,FALSE)","v":{"$error":"#N/A"}},{"$f":"#REF!","v":{"$error":"#REF!"}},{"$error":"#N/A"}]
[null,"",{"$f":"IFERROR(VLOOKUP(A761,'1.Портфель кредитів'!A:Z,3,FALSE),\"\")","v":""},{"$f":"IFERROR(VLOOKUP(A761,'1.Портфель кредитів'!A:Z,7,FALSE),\"\")","v":""},{"$f":"IFERROR(VLOOKUP(A761,'1.Портфель кредитів'!A:Z,14,FALSE),\"\")","v":""},null,null,null,null,null,null,null,null,{"$f":"IFERROR(VLOOKUP(A761,'1.Портфель кредитів'!A:Z,30,FALSE),\"\")","v":""},0,{"$error":"#VALUE!"},null,null,null,null,null,{"$f":"VLOOKUP(C761,Hidden_Словник!$A$2:C$81,3,FALSE)","v":{"$error":"#N/A"}},0,{"$f":"VLOOKUP(F761,Hidden_Словник!$W$2:$X$13,2,FALSE)","v":{"$error":"#N/A"}},{"$f":"#REF!","v":{"$error":"#REF!"}},{"$error":"#N/A"}]
[null,"",{"$f":"IFERROR(VLOOKUP(A762,'1.Портфель кредитів'!A:Z,3,FALSE),\"\")","v":""},{"$f":"IFERROR(VLOOKUP(A762,'1.Портфель кредитів'!A:Z,7,FALSE),\"\")","v":""},{"$f":"IFERROR(VLOOKUP(A762,'1.Портфель кредитів'!A:Z,14,FALSE),\"\")","v":""},null,null,null,null,null,null,null,null,{"$f":"IFERROR(VLOOKUP(A762,'1.Портфель кредитів'!A:Z,30,FALSE),\"\")","v":""},0,{"$error":"#VALUE!"},null,null,null,null,null,{"$f":"VLOOKUP(C762,Hidden_Словник!$A$2:C$81,3,FALSE)","v":{"$error":"#N/A"}},0,{"$f":"VLOOKUP(F762,Hidden_Словник!$W$2:$X$13,2,FALSE)","v":{"$error":"#N/A"}},{"$f":"#REF!","v":{"$error":"#REF!"}},{"$error":"#N/A"}]
[null,"",{"$f":"IFERROR(VLOOKUP(A763,'1.Портфель кредитів'!A:Z,3,FALSE),\"\")","v":""},{"$f":"IFERROR(VLOOKUP(A763,'1.Портфель кредитів'!A:Z,7,FALSE),\"\")","v":""},{"$f":"IFERROR(VLOOKUP(A763,'1.Портфель кредитів'!A:Z,14,FALSE),\"\")","v":""},null,null,null,null,null,null,null,null,{"$f":"IFERROR(VLOOKUP(A763,'1.Портфель кредитів'!A:Z,30,FALSE),\"\")","v":""},0,{"$error":"#VALUE!"},null,null,null,null,null,{"$f":"VLOOKUP(C763,Hidden_Словник!$A$2:C$81,3,FALSE)","v":{"$error":"#N/A"}},0,{"$f":"VLOOKUP(F763,Hidden_Словник!$W$2:$X$13,2,FALSE)","v":{"$error":"#N/A"}},{"$f":"#REF!","v":{"$error":"#REF!"}},{"$error":"#N/A"}]
[null,"",{"$f":"IFERROR(VLOOKUP(A764,'1.Портфель кредитів'!A:Z,3,FALSE),\"\")","v":""},{"$f":"IFERROR(VLOOKUP(A764,'1.Портфель кредитів'!A:Z,7,FALSE),\"\")","v":""},{"$f":"IFERROR(VLOOKUP(A764,'1.Портфель кредитів'!A:Z,14,FALSE),\"\")","v":""},null,null,null,null,null,null,null,null,{"$f":"IFERROR(VLOOKUP(A764,'1.Портфель кредитів'!A:Z,30,FALSE),\"\")","v":""},0,{"$error":"#VALUE!"},null,null,null,null,null,{"$f":"VLOOKUP(C764,Hidden_Словник!$A$2:C$81,3,FALSE)","v":{"$error":"#N/A"}},0,{"$f":"VLOOKUP(F764,Hidden_Словник!$W$2:$X$13,2,FALSE)","v":{"$error":"#N/A"}},{"$f":"#REF!","v":{"$error":"#REF!"}},{"$error":"#N/A"}]
[null,"",{"$f":"IFERROR(VLOOKUP(A765,'1.Портфель кредитів'!A:Z,3,FALSE),\"\")","v":""},{"$f":"IFERROR(VLOOKUP(A765,'1.Портфель кредитів'!A:Z,7,FALSE),\"\")","v":""},{"$f":"IFERROR(VLOOKUP(A765,'1.Портфель кредитів'!A:Z,14,FALSE),\"\")","v":""},null,null,null,null,null,null,null,null,{"$f":"IFERROR(VLOOKUP(A765,'1.Портфель кредитів'!A:Z,30,FALSE),\"\")","v":""},0,{"$error":"#VALUE!"},null,null,null,null,null,{"$f":"VLOOKUP(C765,Hidden_Словник!$A$2:C$81,3,FALSE)","v":{"$error":"#N/A"}},0,{"$f":"VLOOKUP(F765,Hidden_Словник!$W$2:$X$13,2,FALSE)","v":{"$error":"#N/A"}},{"$f":"#REF!","v":{"$error":"#REF!"}},{"$error":"#N/A"}]
[null,{"$f":"IFERROR(Z766,\"\")","v":""},{"$f":"IFERROR(VLOOKUP(A766,'1.Портфель кредитів'!A:Z,3,FALSE),\"\")","v":""},{"$f":"IFERROR(VLOOKUP(A766,'1.Портфель кредитів'!A:Z,7,FALSE),\"\")","v":""},{"$f":"IFERROR(VLOOKUP(A766,'1.Портфель кредитів'!A:Z,14,FALSE),\"\")","v":""},null,null,null,null,null,null,null,null,{"$f":"IFERROR(VLOOKUP(A766,'1.Портфель кредитів'!A:Z,30,FALSE),\"\")","v":""},0,{"$error":"#VALUE!"},null,null,null,null,null,{"$f":"VLOOKUP(C766,Hidden_Словник!$A$2:C$81,3,FALSE)","v":{"$error":"#N/A"}},0,{"$f":"VLOOKUP(F766,Hidden_Словник!$W$2:$X$13,2,FALSE)","v":{"$error":"#N/A"}},{"$f":"#REF!","v":{"$error":"#REF!"}},{"$f":"V766&\"_\"&W766&X766&Y766","v":{"$error":"#N/A"}}]
[null,"",{"$f":"IFERROR(VLOOKUP(A767,'1.Портфель кредитів'!A:Z,3,FALSE),\"\")","v":""},{"$f":"IFERROR(VLOOKUP(A767,'1.Портфель кредитів'!A:Z,7,FALSE),\"\")","v":""},{"$f":"IFERROR(VLOOKUP(A767,'1.Портфель кредитів'!A:Z,14,FALSE),\"\")","v":""},null,null,null,null,null,null,null,null,{"$f":"IFERROR(VLOOKUP(A767,'1.Портфель кредитів'!A:Z,30,FALSE),\"\")","v":""},0,{"$error":"#VALUE!"},null,null,null,null,null,{"$f":"VLOOKUP(C767,Hidden_Словник!$A$2:C$81,3,FALSE)","v":{"$error":"#N/A"}},0,{"$f":"VLOOKUP(F767,Hidden_Словник!$W$2:$X$13,2,FALSE)","v":{"$error":"#N/A"}},{"$f":"#REF!","v":{"$error":"#REF!"}},{"$error":"#N/A"}]
[null,"",{"$f":"IFERROR(VLOOKUP(A768,'1.Портфель кредитів'!A:Z,3,FALSE),\"\")","v":""},{"$f":"IFERROR(VLOOKUP(A768,'1.Портфель кредитів'!A:Z,7,FALSE),\"\")","v":""},{"$f":"IFERROR(VLOOKUP(A768,'1.Портфель кредитів'!A:Z,14,FALSE),\"\")","v":""},null,null,null,null,null,null,null,null,{"$f":"IFERROR(VLOOKUP(A768,'1.Портфель кредитів'!A:Z,30,FALSE),\"\")","v":""},0,{"$error":"#VALUE!"},null,null,null,null,null,{"$f":"VLOOKUP(C768,Hidden_Словник!$A$2:C$81,3,FALSE)","v":{"$error":"#N/A"}},0,{"$f":"VLOOKUP(F768,Hidden_Словник!$W$2:$X$13,2,FALSE)","v":{"$error":"#N/A"}},{"$f":"#REF!","v":{"$error":"#REF!"}},{"$error":"#N/A"}]
[null,"",{"$f":"IFERROR(VLOOKUP(A769,'1.Портфель кредитів'!A:Z,3,FALSE),\"\")","v":""},{"$f":"IFERROR(VLOOKUP(A769,'1.Портфель кредитів'!A:Z,7,FALSE),\"\")","v":""},{"$f":"IFERROR(VLOOKUP(A769,'1.Портфель кредитів'!A:Z,14,FALSE),\"\")","v":""},null,null,null,null,null,null,null,null,{"$f":"IFERROR(VLOOKUP(A769,'1.Портфель кредитів'!A:Z,30,FALSE),\"\")","v":""},0,{"$error":"#VALUE!"},null,null,null,null,null,{"$f":"VLOOKUP(C769,Hidden_Словник!$A$2:C$81,3,FALSE)","v":{"$error":"#N/A"}},0,{"$f":"VLOOKUP(F769,Hidden_Словник!$W$2:$X$13,2,FALSE)","v":{"$error":"#N/A"}},{"$f":"#REF!","v":{"$error":"#REF!"}},{"$error":"#N/A"}]
[null,"",{"$f":"IFERROR(VLOOKUP(A770,'1.Портфель кредитів'!A:Z,3,FALSE),\"\")","v":""},{"$f":"IFERROR(VLOOKUP(A770,'1.Портфель кредитів'!A:Z,7,FALSE),\"\")","v":""},{"$f":"IFERROR(VLOOKUP(A770,'1.Портфель кредитів'!A:Z,14,FALSE),\"\")","v":""},null,null,null,null,null,null,null,null,{"$f":"IFERROR(VLOOKUP(A770,'1.Портфель кредитів'!A:Z,30,FALSE),\"\")","v":""},0,{"$error":"#VALUE!"},null,null,null,null,null,{"$f":"VLOOKUP(C770,Hidden_Словник!$A$2:C$81,3,FALSE)","v":{"$error":"#N/A"}},0,{"$f":"VLOOKUP(F770,Hidden_Словник!$W$2:$X$13,2,FALSE)","v":{"$error":"#N/A"}},{"$f":"#REF!","v":{"$error":"#REF!"}},{"$error":"#N/A"}]
[null,"",{"$f":"IFERROR(VLOOKUP(A771,'1.Портфель кредитів'!A:Z,3,FALSE),\"\")","v":""},{"$f":"IFERROR(VLOOKUP(A771,'1.Портфель кредитів'!A:Z,7,FALSE),\"\")","v":""},{"$f":"IFERROR(VLOOKUP(A771,'1.Портфель кредитів'!A:Z,14,FALSE),\"\")","v":""},null,null,null,null,null,null,null,null,{"$f":"IFERROR(VLOOKUP(A771,'1.Портфель кредитів'!A:Z,30,FALSE),\"\")","v":""},0,{"$error":"#VALUE!"},null,null,null,null,null,{"$f":"VLOOKUP(C771,Hidden_Словник!$A$2:C$81,3,FALSE)","v":{"$error":"#N/A"}},0,{"$f":"VLOOKUP(F771,Hidden_Словник!$W$2:$X$13,2,FALSE)","v":{"$error":"#N/A"}},{"$f":"#REF!","v":{"$error":"#REF!"}},{"$error":"#N/A"}]
[null,"",{"$f":"IFERROR(VLOOKUP(A772,'1.Портфель кредитів'!A:Z,3,FALSE),\"\")","v":""},{"$f":"IFERROR(VLOOKUP(A772,'1.Портфель кредитів'!A:Z,7,FALSE),\"\")","v":""},{"$f":"IFERROR(VLOOKUP(A772,'1.Портфель кредитів'!A:Z,14,FALSE),\"\")","v":""},null,null,null,null,null,null,null,null,{"$f":"IFERROR(VLOOKUP(A772,'1.Портфель кредитів'!A:Z,30,FALSE),\"\")","v":""},0,{"$error":"#VALUE!"},null,null,null,null,null,{"$f":"VLOOKUP(C772,Hidden_Словник!$A$2:C$81,3,FALSE)","v":{"$error":"#N/A"}},0,{"$f":"VLOOKUP(F772,Hidden_Словник!$W$2:$X$13,2,FALSE)","v":{"$error":"#N/A"}},{"$f":"#REF!","v":{"$error":"#REF!"}},{"$error":"#N/A"}]
[null,"",{"$f":"IFERROR(VLOOKUP(A773,'1.Портфель кредитів'!A:Z,3,FALSE),\"\")","v":""},{"$f":"IFERROR(VLOOKUP(A773,'1.Портфель кредитів'!A:Z,7,FALSE),\"\")","v":""},{"$f":"IFERROR(VLOOKUP(A773,'1.Портфель кредитів'!A:Z,14,FALSE),\"\")","v":""},null,null,null,null,null,null,null,null,{"$f":"IFERROR(VLOOKUP(A773,'1.Портфель кредитів'!A:Z,30,FALSE),\"\")","v":""},0,{"$error":"#VALUE!"},null,null,null,null,null,{"$f":"VLOOKUP(C773,Hidden_Словник!$A$2:C$81,3,FALSE)","v":{"$error":"#N/A"}},0,{"$f":"VLOOKUP(F773,Hidden_Словник!$W$2:$X$13,2,FALSE)","v":{"$error":"#N/A"}},{"$f":"#REF!","v":{"$error":"#REF!"}},{"$error":"#N/A"}]
[null,"",{"$f":"IFERROR(VLOOKUP(A774,'1.Портфель кредитів'!A:Z,3,FALSE),\"\")","v":""},{"$f":"IFERROR(VLOOKUP(A774,'1.Портфель кредитів'!A:Z,7,FALSE),\"\")","v":""},{"$f":"IFERROR(VLOOKUP(A774,'1.Портфель кредитів'!A:Z,14,FALSE),\"\")","v":""},null,null,null,null,null,null,null,null,{"$f":"IFERROR(VLOOKUP(A774,'1.Портфель кредитів'!A:Z,30,FALSE),\"\")","v":""},0,{"$error":"#VALUE!"},null,null,null,null,null,{"$f":"VLOOKUP(C774,Hidden_Словник!$A$2:C$81,3,FALSE)","v":{"$error":"#N/A"}},0,{"$f":"VLOOKUP(F774,Hidden_Словник!$W$2:$X$13,2,FALSE)","v":{"$error":"#N/A"}},{"$f":"#REF!","v":{"$error":"#REF!"}},{"$error":"#N/A"}]
[null,"",{"$f":"IFERROR(VLOOKUP(A775,'1.Портфель кредитів'!A:Z,3,FALSE),\"\")","v":""},{"$f":"IFERROR(VLOOKUP(A775,'1.Портфель кредитів'!A:Z,7,FALSE),\"\")","v":""},{"$f":"IFERROR(VLOOKUP(A775,'1.Портфель кредитів'!A:Z,14,FALSE),\"\")","v":""},null,null,null,null,null,null,null,null,{"$f":"IFERROR(VLOOKUP(A775,'1.Портфель кредитів'!A:Z,30,FALSE),\"\")","v":""},0,{"$error":"#VALUE!"},null,null,null,null,null,{"$f":"VLOOKUP(C775,Hidden_Словник!$A$2:C$81,3,FALSE)","v":{"$error":"#N/A"}},0,{"$f":"VLOOKUP(F775,Hidden_Словник!$W$2:$X$13,2,FALSE)","v":{"$error":"#N/A"}},{"$f":"#REF!","v":{"$error":"#REF!"}},{"$error":"#N/A"}]
[null,"",{"$f":"IFERROR(VLOOKUP(A776,'1.Портфель кредитів'!A:Z,3,FALSE),\"\")","v":""},{"$f":"IFERROR(VLOOKUP(A776,'1.Портфель кредитів'!A:Z,7,FALSE),\"\")","v":""},{"$f":"IFERROR(VLOOKUP(A776,'1.Портфель кредитів'!A:Z,14,FALSE),\"\")","v":""},null,null,null,null,null,null,null,null,{"$f":"IFERROR(VLOOKUP(A776,'1.Портфель кредитів'!A:Z,30,FALSE),\"\")","v":""},0,{"$error":"#VALUE!"},null,null,null,null,null,{"$f":"VLOOKUP(C776,Hidden_Словник!$A$2:C$81,3,FALSE)","v":{"$error":"#N/A"}},0,{"$f":"VLOOKUP(F776,Hidden_Словник!$W$2:$X$13,2,FALSE)","v":{"$error":"#N/A"}},{"$f":"#REF!","v":{"$error":"#REF!"}},{"$error":"#N/A"}]
[null,"",{"$f":"IFERROR(VLOOKUP(A777,'1.Портфель кредитів'!A:Z,3,FALSE),\"\")","v":""},{"$f":"IFERROR(VLOOKUP(A777,'1.Портфель кредитів'!A:Z,7,FALSE),\"\")","v":""},{"$f":"IFERROR(VLOOKUP(A777,'1.Портфель кредитів'!A:Z,14,FALSE),\"\")","v":""},null,null,null,null,null,null,null,null,{"$f":"IFERROR(VLOOKUP(A777,'1.Портфель кредитів'!A:Z,30,FALSE),\"\")","v":""},0,{"$error":"#VALUE!"},null,null,null,null,null,{"$f":"VLOOKUP(C777,Hidden_Словник!$A$2:C$81,3,FALSE)","v":{"$error":"#N/A"}},0,{"$f":"VLOOKUP(F777,Hidden_Словник!$W$2:$X$13,2,FALSE)","v":{"$error":"#N/A"}},{"$f":"#REF!","v":{"$error":"#REF!"}},{"$error":"#N/A"}]
[null,"",{"$f":"IFERROR(VLOOKUP(A778,'1.Портфель кредитів'!A:Z,3,FALSE),\"\")","v":""},{"$f":"IFERROR(VLOOKUP(A778,'1.Портфель кредитів'!A:Z,7,FALSE),\"\")","v":""},{"$f":"IFERROR(VLOOKUP(A778,'1.Портфель кредитів'!A:Z,14,FALSE),\"\")","v":""},null,null,null,null,null,null,null,null,{"$f":"IFERROR(VLOOKUP(A778,'1.Портфель кредитів'!A:Z,30,FALSE),\"\")","v":""},0,{"$error":"#VALUE!"},null,null,null,null,null,{"$f":"VLOOKUP(C778,Hidden_Словник!$A$2:C$81,3,FALSE)","v":{"$error":"#N/A"}},0,{"$f":"VLOOKUP(F778,Hidden_Словник!$W$2:$X$13,2,FALSE)","v":{"$error":"#N/A"}},{"$f":"#REF!","v":{"$error":"#REF!"}},{"$error":"#N/A"}]
[null,"",{"$f":"IFERROR(VLOOKUP(A779,'1.Портфель кредитів'!A:Z,3,FALSE),\"\")","v":""},{"$f":"IFERROR(VLOOKUP(A779,'1.Портфель кредитів'!A:Z,7,FALSE),\"\")","v":""},{"$f":"IFERROR(VLOOKUP(A779,'1.Портфель кредитів'!A:Z,14,FALSE),\"\")","v":""},null,null,null,null,null,null,null,null,{"$f":"IFERROR(VLOOKUP(A779,'1.Портфель кредитів'!A:Z,30,FALSE),\"\")","v":""},0,{"$error":"#VALUE!"},null,null,null,null,null,{"$f":"VLOOKUP(C779,Hidden_Словник!$A$2:C$81,3,FALSE)","v":{"$error":"#N/A"}},0,{"$f":"VLOOKUP(F779,Hidden_Словник!$W$2:$X$13,2,FALSE)","v":{"$error":"#N/A"}},{"$f":"#REF!","v":{"$error":"#REF!"}},{"$error":"#N/A"}]
[null,"",{"$f":"IFERROR(VLOOKUP(A780,'1.Портфель кредитів'!A:Z,3,FALSE),\"\")","v":""},{"$f":"IFERROR(VLOOKUP(A780,'1.Портфель кредитів'!A:Z,7,FALSE),\"\")","v":""},{"$f":"IFERROR(VLOOKUP(A780,'1.Портфель кредитів'!A:Z,14,FALSE),\"\")","v":""},null,null,null,null,null,null,null,null,{"$f":"IFERROR(VLOOKUP(A780,'1.Портфель кредитів'!A:Z,30,FALSE),\"\")","v":""},0,{"$error":"#VALUE!"},null,null,null,null,null,{"$f":"VLOOKUP(C780,Hidden_Словник!$A$2:C$81,3,FALSE)","v":{"$error":"#N/A"}},0,{"$f":"VLOOKUP(F780,Hidden_Словник!$W$2:$X$13,2,FALSE)","v":{"$error":"#N/A"}},{"$f":"#REF!","v":{"$error":"#REF!"}},{"$error":"#N/A"}]
[null,"",{"$f":"IFERROR(VLOOKUP(A781,'1.Портфель кредитів'!A:Z,3,FALSE),\"\")","v":""},{"$f":"IFERROR(VLOOKUP(A781,'1.Портфель кредитів'!A:Z,7,FALSE),\"\")","v":""},{"$f":"IFERROR(VLOOKUP(A781,'1.Портфель кредитів'!A:Z,14,FALSE),\"\")","v":""},null,null,null,null,null,null,null,null,{"$f":"IFERROR(VLOOKUP(A781,'1.Портфель кредитів'!A:Z,30,FALSE),\"\")","v":""},0,{"$error":"#VALUE!"},null,null,null,null,null,{"$f":"VLOOKUP(C781,Hidden_Словник!$A$2:C$81,3,FALSE)","v":{"$error":"#N/A"}},0,{"$f":"VLOOKUP(F781,Hidden_Словник!$W$2:$X$13,2,FALSE)","v":{"$error":"#N/A"}},{"$f":"#REF!","v":{"$error":"#REF!"}},{"$error":"#N/A"}]
[null,"",{"$f":"IFERROR(VLOOKUP(A782,'1.Портфель кредитів'!A:Z,3,FALSE),\"\")","v":""},{"$f":"IFERROR(VLOOKUP(A782,'1.Портфель кредитів'!A:Z,7,FALSE),\"\")","v":""},{"$f":"IFERROR(VLOOKUP(A782,'1.Портфель кредитів'!A:Z,14,FALSE),\"\")","v":""},null,null,null,null,null,null,null,null,{"$f":"IFERROR(VLOOKUP(A782,'1.Портфель кредитів'!A:Z,30,FALSE),\"\")","v":""},0,{"$error":"#VALUE!"},null,null,null,null,null,{"$f":"VLOOKUP(C782,Hidden_Словник!$A$2:C$81,3,FALSE)","v":{"$error":"#N/A"}},0,{"$f":"VLOOKUP(F782,Hidden_Словник!$W$2:$X$13,2,FALSE)","v":{"$error":"#N/A"}},{"$f":"#REF!","v":{"$error":"#REF!"}},{"$error":"#N/A"}]
[null,"",{"$f":"IFERROR(VLOOKUP(A783,'1.Портфель кредитів'!A:Z,3,FALSE),\"\")","v":""},{"$f":"IFERROR(VLOOKUP(A783,'1.Портфель кредитів'!A:Z,7,FALSE),\"\")","v":""},{"$f":"IFERROR(VLOOKUP(A783,'1.Портфель кредитів'!A:Z,14,FALSE),\"\")","v":""},null,null,null,null,null,null,null,null,{"$f":"IFERROR(VLOOKUP(A783,'1.Портфель кредитів'!A:Z,30,FALSE),\"\")","v":""},0,{"$error":"#VALUE!"},null,null,null,null,null,{"$f":"VLOOKUP(C783,Hidden_Словник!$A$2:C$81,3,FALSE)","v":{"$error":"#N/A"}},0,{"$f":"VLOOKUP(F783,Hidden_Словник!$W$2:$X$13,2,FALSE)","v":{"$error":"#N/A"}},{"$f":"#REF!","v":{"$error":"#REF!"}},{"$error":"#N/A"}]
[null,"",{"$f":"IFERROR(VLOOKUP(A784,'1.Портфель кредитів'!A:Z,3,FALSE),\"\")","v":""},{"$f":"IFERROR(VLOOKUP(A784,'1.Портфель кредитів'!A:Z,7,FALSE),\"\")","v":""},{"$f":"IFERROR(VLOOKUP(A784,'1.Портфель кредитів'!A:Z,14,FALSE),\"\")","v":""},null,null,null,null,null,null,null,null,{"$f":"IFERROR(VLOOKUP(A784,'1.Портфель кредитів'!A:Z,30,FALSE),\"\")","v":""},0,{"$error":"#VALUE!"},null,null,null,null,null,{"$f":"VLOOKUP(C784,Hidden_Словник!$A$2:C$81,3,FALSE)","v":{"$error":"#N/A"}},0,{"$f":"VLOOKUP(F784,Hidden_Словник!$W$2:$X$13,2,FALSE)","v":{"$error":"#N/A"}},{"$f":"#REF!","v":{"$error":"#REF!"}},{"$error":"#N/A"}]
[null,"",{"$f":"IFERROR(VLOOKUP(A785,'1.Портфель кредитів'!A:Z,3,FALSE),\"\")","v":""},{"$f":"IFERROR(VLOOKUP(A785,'1.Портфель кредитів'!A:Z,7,FALSE),\"\")","v":""},{"$f":"IFERROR(VLOOKUP(A785,'1.Портфель кредитів'!A:Z,14,FALSE),\"\")","v":""},null,null,null,null,null,null,null,null,{"$f":"IFERROR(VLOOKUP(A785,'1.Портфель кредитів'!A:Z,30,FALSE),\"\")","v":""},0,{"$error":"#VALUE!"},null,null,null,null,null,{"$f":"VLOOKUP(C785,Hidden_Словник!$A$2:C$81,3,FALSE)","v":{"$error":"#N/A"}},0,{"$f":"VLOOKUP(F785,Hidden_Словник!$W$2:$X$13,2,FALSE)","v":{"$error":"#N/A"}},{"$f":"#REF!","v":{"$error":"#REF!"}},{"$error":"#N/A"}]
[null,"",{"$f":"IFERROR(VLOOKUP(A786,'1.Портфель кредитів'!A:Z,3,FALSE),\"\")","v":""},{"$f":"IFERROR(VLOOKUP(A786,'1.Портфель кредитів'!A:Z,7,FALSE),\"\")","v":""},{"$f":"IFERROR(VLOOKUP(A786,'1.Портфель кредитів'!A:Z,14,FALSE),\"\")","v":""},null,null,null,null,null,null,null,null,{"$f":"IFERROR(VLOOKUP(A786,'1.Портфель кредитів'!A:Z,30,FALSE),\"\")","v":""},0,{"$error":"#VALUE!"},null,null,null,null,null,{"$f":"VLOOKUP(C786,Hidden_Словник!$A$2:C$81,3,FALSE)","v":{"$error":"#N/A"}},0,{"$f":"VLOOKUP(F786,Hidden_Словник!$W$2:$X$13,2,FALSE)","v":{"$error":"#N/A"}},{"$f":"#REF!","v":{"$error":"#REF!"}},{"$error":"#N/A"}]
[null,"",{"$f":"IFERROR(VLOOKUP(A787,'1.Портфель кредитів'!A:Z,3,FALSE),\"\")","v":""},{"$f":"IFERROR(VLOOKUP(A787,'1.Портфель кредитів'!A:Z,7,FALSE),\"\")","v":""},{"$f":"IFERROR(VLOOKUP(A787,'1.Портфель кредитів'!A:Z,14,FALSE),\"\")","v":""},null,null,null,null,null,null,null,null,{"$f":"IFERROR(VLOOKUP(A787,'1.Портфель кредитів'!A:Z,30,FALSE),\"\")","v":""},0,{"$error":"#VALUE!"},null,null,null,null,null,{"$f":"VLOOKUP(C787,Hidden_Словник!$A$2:C$81,3,FALSE)","v":{"$error":"#N/A"}},{"$f":"ROUNDUP(K787,0)","v":0},{"$f":"VLOOKUP(F787,Hidden_Словник!$W$2:$X$13,2,FALSE)","v":{"$error":"#N/A"}},{"$f":"#REF!","v":{"$error":"#REF!"}},{"$error":"#N/A"}]
[null,"",{"$f":"IFERROR(VLOOKUP(A788,'1.Портфель кредитів'!A:Z,3,FALSE),\"\")","v":""},{"$f":"IFERROR(VLOOKUP(A788,'1.Портфель кредитів'!A:Z,7,FALSE),\"\")","v":""},{"$f":"IFERROR(VLOOKUP(A788,'1.Портфель кредитів'!A:Z,14,FALSE),\"\")","v":""},null,null,null,null,null,null,null,null,{"$f":"IFERROR(VLOOKUP(A788,'1.Портфель кредитів'!A:Z,30,FALSE),\"\")","v":""},0,{"$error":"#VALUE!"},null,null,null,null,null,{"$f":"VLOOKUP(C788,Hidden_Словник!$A$2:C$81,3,FALSE)","v":{"$error":"#N/A"}},0,{"$f":"VLOOKUP(F788,Hidden_Словник!$W$2:$X$13,2,FALSE)","v":{"$error":"#N/A"}},{"$f":"#REF!","v":{"$error":"#REF!"}},{"$error":"#N/A"}]
[null,"",{"$f":"IFERROR(VLOOKUP(A789,'1.Портфель кредитів'!A:Z,3,FALSE),\"\")","v":""},{"$f":"IFERROR(VLOOKUP(A789,'1.Портфель кредитів'!A:Z,7,FALSE),\"\")","v":""},{"$f":"IFERROR(VLOOKUP(A789,'1.Портфель кредитів'!A:Z,14,FALSE),\"\")","v":""},null,null,null,null,null,null,null,null,{"$f":"IFERROR(VLOOKUP(A789,'1.Портфель кредитів'!A:Z,30,FALSE),\"\")","v":""},0,{"$error":"#VALUE!"},null,null,null,null,null,{"$f":"VLOOKUP(C789,Hidden_Словник!$A$2:C$81,3,FALSE)","v":{"$error":"#N/A"}},0,{"$f":"VLOOKUP(F789,Hidden_Словник!$W$2:$X$13,2,FALSE)","v":{"$error":"#N/A"}},{"$f":"#REF!","v":{"$error":"#REF!"}},{"$error":"#N/A"}]
[null,"",{"$f":"IFERROR(VLOOKUP(A790,'1.Портфель кредитів'!A:Z,3,FALSE),\"\")","v":""},{"$f":"IFERROR(VLOOKUP(A790,'1.Портфель кредитів'!A:Z,7,FALSE),\"\")","v":""},{"$f":"IFERROR(VLOOKUP(A790,'1.Портфель кредитів'!A:Z,14,FALSE),\"\")","v":""},null,null,null,null,null,null,null,null,{"$f":"IFERROR(VLOOKUP(A790,'1.Портфель кредитів'!A:Z,30,FALSE),\"\")","v":""},0,{"$error":"#VALUE!"},null,null,null,null,null,{"$f":"VLOOKUP(C790,Hidden_Словник!$A$2:C$81,3,FALSE)","v":{"$error":"#N/A"}},0,{"$f":"VLOOKUP(F790,Hidden_Словник!$W$2:$X$13,2,FALSE)","v":{"$error":"#N/A"}},{"$f":"#REF!","v":{"$error":"#REF!"}},{"$error":"#N/A"}]
[null,"",{"$f":"IFERROR(VLOOKUP(A791,'1.Портфель кредитів'!A:Z,3,FALSE),\"\")","v":""},{"$f":"IFERROR(VLOOKUP(A791,'1.Портфель кредитів'!A:Z,7,FALSE),\"\")","v":""},{"$f":"IFERROR(VLOOKUP(A791,'1.Портфель кредитів'!A:Z,14,FALSE),\"\")","v":""},null,null,null,null,null,null,null,null,{"$f":"IFERROR(VLOOKUP(A791,'1.Портфель кредитів'!A:Z,30,FALSE),\"\")","v":""},{"$f":"SUMIF(B:B,B791,N:N)","v":0},{"$error":"#VALUE!"},null,null,null,null,null,{"$f":"VLOOKUP(C791,Hidden_Словник!$A$2:C$81,3,FALSE)","v":{"$error":"#N/A"}},0,{"$f":"VLOOKUP(F791,Hidden_Словник!$W$2:$X$13,2,FALSE)","v":{"$error":"#N/A"}},{"$f":"#REF!","v":{"$error":"#REF!"}},{"$error":"#N/A"}]
[null,"",{"$f":"IFERROR(VLOOKUP(A792,'1.Портфель кредитів'!A:Z,3,FALSE),\"\")","v":""},{"$f":"IFERROR(VLOOKUP(A792,'1.Портфель кредитів'!A:Z,7,FALSE),\"\")","v":""},{"$f":"IFERROR(VLOOKUP(A792,'1.Портфель кредитів'!A:Z,14,FALSE),\"\")","v":""},null,null,null,null,null,null,null,null,{"$f":"IFERROR(VLOOKUP(A792,'1.Портфель кредитів'!A:Z,30,FALSE),\"\")","v":""},0,{"$error":"#VALUE!"},null,null,null,null,null,{"$f":"VLOOKUP(C792,Hidden_Словник!$A$2:C$81,3,FALSE)","v":{"$error":"#N/A"}},0,{"$f":"VLOOKUP(F792,Hidden_Словник!$W$2:$X$13,2,FALSE)","v":{"$error":"#N/A"}},{"$f":"#REF!","v":{"$error":"#REF!"}},{"$error":"#N/A"}]
[null,"",{"$f":"IFERROR(VLOOKUP(A793,'1.Портфель кредитів'!A:Z,3,FALSE),\"\")","v":""},{"$f":"IFERROR(VLOOKUP(A793,'1.Портфель кредитів'!A:Z,7,FALSE),\"\")","v":""},{"$f":"IFERROR(VLOOKUP(A793,'1.Портфель кредитів'!A:Z,14,FALSE),\"\")","v":""},null,null,null,null,null,null,null,null,{"$f":"IFERROR(VLOOKUP(A793,'1.Портфель кредитів'!A:Z,30,FALSE),\"\")","v":""},0,{"$error":"#VALUE!"},null,null,null,null,null,{"$f":"VLOOKUP(C793,Hidden_Словник!$A$2:C$81,3,FALSE)","v":{"$error":"#N/A"}},0,{"$f":"VLOOKUP(F793,Hidden_Словник!$W$2:$X$13,2,FALSE)","v":{"$error":"#N/A"}},{"$f":"#REF!","v":{"$error":"#REF!"}},{"$error":"#N/A"}]
[null,"",{"$f":"IFERROR(VLOOKUP(A794,'1.Портфель кредитів'!A:Z,3,FALSE),\"\")","v":""},{"$f":"IFERROR(VLOOKUP(A794,'1.Портфель кредитів'!A:Z,7,FALSE),\"\")","v":""},{"$f":"IFERROR(VLOOKUP(A794,'1.Портфель кредитів'!A:Z,14,FALSE),\"\")","v":""},null,null,null,null,null,null,null,null,{"$f":"IFERROR(VLOOKUP(A794,'1.Портфель кредитів'!A:Z,30,FALSE),\"\")","v":""},0,{"$error":"#VALUE!"},null,null,null,null,null,{"$f":"VLOOKUP(C794,Hidden_Словник!$A$2:C$81,3,FALSE)","v":{"$error":"#N/A"}},0,{"$f":"VLOOKUP(F794,Hidden_Словник!$W$2:$X$13,2,FALSE)","v":{"$error":"#N/A"}},{"$f":"#REF!","v":{"$error":"#REF!"}},{"$error":"#N/A"}]
[null,"",{"$f":"IFERROR(VLOOKUP(A795,'1.Портфель кредитів'!A:Z,3,FALSE),\"\")","v":""},{"$f":"IFERROR(VLOOKUP(A795,'1.Портфель кредитів'!A:Z,7,FALSE),\"\")","v":""},{"$f":"IFERROR(VLOOKUP(A795,'1.Портфель кредитів'!A:Z,14,FALSE),\"\")","v":""},null,null,null,null,null,null,null,null,{"$f":"IFERROR(VLOOKUP(A795,'1.Портфель кредитів'!A:Z,30,FALSE),\"\")","v":""},0,{"$error":"#VALUE!"},null,null,null,null,null,{"$f":"VLOOKUP(C795,Hidden_Словник!$A$2:C$81,3,FALSE)","v":{"$error":"#N/A"}},0,{"$f":"VLOOKUP(F795,Hidden_Словник!$W$2:$X$13,2,FALSE)","v":{"$error":"#N/A"}},{"$f":"#REF!","v":{"$error":"#REF!"}},{"$error":"#N/A"}]
[null,"",{"$f":"IFERROR(VLOOKUP(A796,'1.Портфель кредитів'!A:Z,3,FALSE),\"\")","v":""},{"$f":"IFERROR(VLOOKUP(A796,'1.Портфель кредитів'!A:Z,7,FALSE),\"\")","v":""},{"$f":"IFERROR(VLOOKUP(A796,'1.Портфель кредитів'!A:Z,14,FALSE),\"\")","v":""},null,null,null,null,null,null,null,null,{"$f":"IFERROR(VLOOKUP(A796,'1.Портфель кредитів'!A:Z,30,FALSE),\"\")","v":""},0,{"$error":"#VALUE!"},null,null,null,null,null,{"$f":"VLOOKUP(C796,Hidden_Словник!$A$2:C$81,3,FALSE)","v":{"$error":"#N/A"}},0,{"$f":"VLOOKUP(F796,Hidden_Словник!$W$2:$X$13,2,FALSE)","v":{"$error":"#N/A"}},{"$f":"#REF!","v":{"$error":"#REF!"}},{"$error":"#N/A"}]
[null,"",{"$f":"IFERROR(VLOOKUP(A797,'1.Портфель кредитів'!A:Z,3,FALSE),\"\")","v":""},{"$f":"IFERROR(VLOOKUP(A797,'1.Портфель кредитів'!A:Z,7,FALSE),\"\")","v":""},{"$f":"IFERROR(VLOOKUP(A797,'1.Портфель кредитів'!A:Z,14,FALSE),\"\")","v":""},null,null,null,null,null,null,null,null,{"$f":"IFERROR(VLOOKUP(A797,'1.Портфель кредитів'!A:Z,30,FALSE),\"\")","v":""},0,{"$error":"#VALUE!"},null,null,null,null,null,{"$f":"VLOOKUP(C797,Hidden_Словник!$A$2:C$81,3,FALSE)","v":{"$error":"#N/A"}},0,{"$f":"VLOOKUP(F797,Hidden_Словник!$W$2:$X$13,2,FALSE)","v":{"$error":"#N/A"}},{"$f":"#REF!","v":{"$error":"#REF!"}},{"$error":"#N/A"}]
[null,"",{"$f":"IFERROR(VLOOKUP(A798,'1.Портфель кредитів'!A:Z,3,FALSE),\"\")","v":""},{"$f":"IFERROR(VLOOKUP(A798,'1.Портфель кредитів'!A:Z,7,FALSE),\"\")","v":""},{"$f":"IFERROR(VLOOKUP(A798,'1.Портфель кредитів'!A:Z,14,FALSE),\"\")","v":""},null,null,null,null,null,null,null,null,{"$f":"IFERROR(VLOOKUP(A798,'1.Портфель кредитів'!A:Z,30,FALSE),\"\")","v":""},0,{"$error":"#VALUE!"},null,null,null,null,null,{"$f":"VLOOKUP(C798,Hidden_Словник!$A$2:C$81,3,FALSE)","v":{"$error":"#N/A"}},0,{"$f":"VLOOKUP(F798,Hidden_Словник!$W$2:$X$13,2,FALSE)","v":{"$error":"#N/A"}},{"$f":"#REF!","v":{"$error":"#REF!"}},{"$error":"#N/A"}]
[null,"",{"$f":"IFERROR(VLOOKUP(A799,'1.Портфель кредитів'!A:Z,3,FALSE),\"\")","v":""},{"$f":"IFERROR(VLOOKUP(A799,'1.Портфель кредитів'!A:Z,7,FALSE),\"\")","v":""},{"$f":"IFERROR(VLOOKUP(A799,'1.Портфель кредитів'!A:Z,14,FALSE),\"\")","v":""},null,null,null,null,null,null,null,null,{"$f":"IFERROR(VLOOKUP(A799,'1.Портфель кредитів'!A:Z,30,FALSE),\"\")","v":""},0,{"$error":"#VALUE!"},null,null,null,null,null,{"$f":"VLOOKUP(C799,Hidden_Словник!$A$2:C$81,3,FALSE)","v":{"$error":"#N/A"}},0,{"$f":"VLOOKUP(F799,Hidden_Словник!$W$2:$X$13,2,FALSE)","v":{"$error":"#N/A"}},{"$f":"#REF!","v":{"$error":"#REF!"}},{"$error":"#N/A"}]
[null,"",{"$f":"IFERROR(VLOOKUP(A800,'1.Портфель кредитів'!A:Z,3,FALSE),\"\")","v":""},{"$f":"IFERROR(VLOOKUP(A800,'1.Портфель кредитів'!A:Z,7,FALSE),\"\")","v":""},{"$f":"IFERROR(VLOOKUP(A800,'1.Портфель кредитів'!A:Z,14,FALSE),\"\")","v":""},null,null,null,null,null,null,null,null,{"$f":"IFERROR(VLOOKUP(A800,'1.Портфель кредитів'!A:Z,30,FALSE),\"\")","v":""},0,{"$error":"#VALUE!"},null,null,null,null,null,{"$f":"VLOOKUP(C800,Hidden_Словник!$A$2:C$81,3,FALSE)","v":{"$error":"#N/A"}},0,{"$f":"VLOOKUP(F800,Hidden_Словник!$W$2:$X$13,2,FALSE)","v":{"$error":"#N/A"}},{"$f":"#REF!","v":{"$error":"#REF!"}},{"$error":"#N/A"}]
[null,"",{"$f":"IFERROR(VLOOKUP(A801,'1.Портфель кредитів'!A:Z,3,FALSE),\"\")","v":""},{"$f":"IFERROR(VLOOKUP(A801,'1.Портфель кредитів'!A:Z,7,FALSE),\"\")","v":""},{"$f":"IFERROR(VLOOKUP(A801,'1.Портфель кредитів'!A:Z,14,FALSE),\"\")","v":""},null,null,null,null,null,null,null,null,{"$f":"IFERROR(VLOOKUP(A801,'1.Портфель кредитів'!A:Z,30,FALSE),\"\")","v":""},0,{"$error":"#VALUE!"},null,null,null,null,null,{"$f":"VLOOKUP(C801,Hidden_Словник!$A$2:C$81,3,FALSE)","v":{"$error":"#N/A"}},0,{"$f":"VLOOKUP(F801,Hidden_Словник!$W$2:$X$13,2,FALSE)","v":{"$error":"#N/A"}},{"$f":"#REF!","v":{"$error":"#REF!"}},{"$error":"#N/A"}]
[null,"",{"$f":"IFERROR(VLOOKUP(A802,'1.Портфель кредитів'!A:Z,3,FALSE),\"\")","v":""},{"$f":"IFERROR(VLOOKUP(A802,'1.Портфель кредитів'!A:Z,7,FALSE),\"\")","v":""},{"$f":"IFERROR(VLOOKUP(A802,'1.Портфель кредитів'!A:Z,14,FALSE),\"\")","v":""},null,null,null,null,null,null,null,null,{"$f":"IFERROR(VLOOKUP(A802,'1.Портфель кредитів'!A:Z,30,FALSE),\"\")","v":""},0,{"$error":"#VALUE!"},null,null,null,null,null,{"$f":"VLOOKUP(C802,Hidden_Словник!$A$2:C$81,3,FALSE)","v":{"$error":"#N/A"}},0,{"$f":"VLOOKUP(F802,Hidden_Словник!$W$2:$X$13,2,FALSE)","v":{"$error":"#N/A"}},{"$f":"#REF!","v":{"$error":"#REF!"}},{"$error":"#N/A"}]
[null,"",{"$f":"IFERROR(VLOOKUP(A803,'1.Портфель кредитів'!A:Z,3,FALSE),\"\")","v":""},{"$f":"IFERROR(VLOOKUP(A803,'1.Портфель кредитів'!A:Z,7,FALSE),\"\")","v":""},{"$f":"IFERROR(VLOOKUP(A803,'1.Портфель кредитів'!A:Z,14,FALSE),\"\")","v":""},null,null,null,null,null,null,null,null,{"$f":"IFERROR(VLOOKUP(A803,'1.Портфель кредитів'!A:Z,30,FALSE),\"\")","v":""},0,{"$error":"#VALUE!"},null,null,null,null,null,{"$f":"VLOOKUP(C803,Hidden_Словник!$A$2:C$81,3,FALSE)","v":{"$error":"#N/A"}},0,{"$f":"VLOOKUP(F803,Hidden_Словник!$W$2:$X$13,2,FALSE)","v":{"$error":"#N/A"}},{"$f":"#REF!","v":{"$error":"#REF!"}},{"$error":"#N/A"}]
[null,"",{"$f":"IFERROR(VLOOKUP(A804,'1.Портфель кредитів'!A:Z,3,FALSE),\"\")","v":""},{"$f":"IFERROR(VLOOKUP(A804,'1.Портфель кредитів'!A:Z,7,FALSE),\"\")","v":""},{"$f":"IFERROR(VLOOKUP(A804,'1.Портфель кредитів'!A:Z,14,FALSE),\"\")","v":""},null,null,null,null,null,null,null,null,{"$f":"IFERROR(VLOOKUP(A804,'1.Портфель кредитів'!A:Z,30,FALSE),\"\")","v":""},0,{"$error":"#VALUE!"},null,null,null,null,null,{"$f":"VLOOKUP(C804,Hidden_Словник!$A$2:C$81,3,FALSE)","v":{"$error":"#N/A"}},0,{"$f":"VLOOKUP(F804,Hidden_Словник!$W$2:$X$13,2,FALSE)","v":{"$error":"#N/A"}},{"$f":"#REF!","v":{"$error":"#REF!"}},{"$error":"#N/A"}]
[null,"",{"$f":"IFERROR(VLOOKUP(A805,'1.Портфель кредитів'!A:Z,3,FALSE),\"\")","v":""},{"$f":"IFERROR(VLOOKUP(A805,'1.Портфель кредитів'!A:Z,7,FALSE),\"\")","v":""},{"$f":"IFERROR(VLOOKUP(A805,'1.Портфель кредитів'!A:Z,14,FALSE),\"\")","v":""},null,null,null,null,null,null,null,null,{"$f":"IFERROR(VLOOKUP(A805,'1.Портфель кредитів'!A:Z,30,FALSE),\"\")","v":""},0,{"$error":"#VALUE!"},null,null,null,null,null,{"$f":"VLOOKUP(C805,Hidden_Словник!$A$2:C$81,3,FALSE)","v":{"$error":"#N/A"}},0,{"$f":"VLOOKUP(F805,Hidden_Словник!$W$2:$X$13,2,FALSE)","v":{"$error":"#N/A"}},{"$f":"#REF!","v":{"$error":"#REF!"}},{"$error":"#N/A"}]
[null,"",{"$f":"IFERROR(VLOOKUP(A806,'1.Портфель кредитів'!A:Z,3,FALSE),\"\")","v":""},{"$f":"IFERROR(VLOOKUP(A806,'1.Портфель кредитів'!A:Z,7,FALSE),\"\")","v":""},{"$f":"IFERROR(VLOOKUP(A806,'1.Портфель кредитів'!A:Z,14,FALSE),\"\")","v":""},null,null,null,null,null,null,null,null,{"$f":"IFERROR(VLOOKUP(A806,'1.Портфель кредитів'!A:Z,30,FALSE),\"\")","v":""},0,{"$f":"N806/O806","v":{"$error":"#VALUE!"}},null,null,null,null,null,{"$f":"VLOOKUP(C806,Hidden_Словник!$A$2:C$81,3,FALSE)","v":{"$error":"#N/A"}},0,{"$f":"VLOOKUP(F806,Hidden_Словник!$W$2:$X$13,2,FALSE)","v":{"$error":"#N/A"}},{"$f":"#REF!","v":{"$error":"#REF!"}},{"$error":"#N/A"}]
[null,"",{"$f":"IFERROR(VLOOKUP(A807,'1.Портфель кредитів'!A:Z,3,FALSE),\"\")","v":""},{"$f":"IFERROR(VLOOKUP(A807,'1.Портфель кредитів'!A:Z,7,FALSE),\"\")","v":""},{"$f":"IFERROR(VLOOKUP(A807,'1.Портфель кредитів'!A:Z,14,FALSE),\"\")","v":""},null,null,null,null,null,null,null,null,{"$f":"IFERROR(VLOOKUP(A807,'1.Портфель кредитів'!A:Z,30,FALSE),\"\")","v":""},0,{"$error":"#VALUE!"},null,null,null,null,null,{"$f":"VLOOKUP(C807,Hidden_Словник!$A$2:C$81,3,FALSE)","v":{"$error":"#N/A"}},0,{"$f":"VLOOKUP(F807,Hidden_Словник!$W$2:$X$13,2,FALSE)","v":{"$error":"#N/A"}},{"$f":"#REF!","v":{"$error":"#REF!"}},{"$error":"#N/A"}]
[null,"",{"$f":"IFERROR(VLOOKUP(A808,'1.Портфель кредитів'!A:Z,3,FALSE),\"\")","v":""},{"$f":"IFERROR(VLOOKUP(A808,'1.Портфель кредитів'!A:Z,7,FALSE),\"\")","v":""},{"$f":"IFERROR(VLOOKUP(A808,'1.Портфель кредитів'!A:Z,14,FALSE),\"\")","v":""},null,null,null,null,null,null,null,null,{"$f":"IFERROR(VLOOKUP(A808,'1.Портфель кредитів'!A:Z,30,FALSE),\"\")","v":""},0,{"$error":"#VALUE!"},null,null,null,null,null,{"$f":"VLOOKUP(C808,Hidden_Словник!$A$2:C$81,3,FALSE)","v":{"$error":"#N/A"}},0,{"$f":"VLOOKUP(F808,Hidden_Словник!$W$2:$X$13,2,FALSE)","v":{"$error":"#N/A"}},{"$f":"#REF!","v":{"$error":"#REF!"}},{"$error":"#N/A"}]
[null,"",{"$f":"IFERROR(VLOOKUP(A809,'1.Портфель кредитів'!A:Z,3,FALSE),\"\")","v":""},{"$f":"IFERROR(VLOOKUP(A809,'1.Портфель кредитів'!A:Z,7,FALSE),\"\")","v":""},{"$f":"IFERROR(VLOOKUP(A809,'1.Портфель кредитів'!A:Z,14,FALSE),\"\")","v":""},null,null,null,null,null,null,null,null,{"$f":"IFERROR(VLOOKUP(A809,'1.Портфель кредитів'!A:Z,30,FALSE),\"\")","v":""},0,{"$error":"#VALUE!"},null,null,null,null,null,{"$f":"VLOOKUP(C809,Hidden_Словник!$A$2:C$81,3,FALSE)","v":{"$error":"#N/A"}},0,{"$f":"VLOOKUP(F809,Hidden_Словник!$W$2:$X$13,2,FALSE)","v":{"$error":"#N/A"}},{"$f":"#REF!","v":{"$error":"#REF!"}},{"$error":"#N/A"}]
[null,"",{"$f":"IFERROR(VLOOKUP(A810,'1.Портфель кредитів'!A:Z,3,FALSE),\"\")","v":""},{"$f":"IFERROR(VLOOKUP(A810,'1.Портфель кредитів'!A:Z,7,FALSE),\"\")","v":""},{"$f":"IFERROR(VLOOKUP(A810,'1.Портфель кредитів'!A:Z,14,FALSE),\"\")","v":""},null,null,null,null,null,null,null,null,{"$f":"IFERROR(VLOOKUP(A810,'1.Портфель кредитів'!A:Z,30,FALSE),\"\")","v":""},0,{"$error":"#VALUE!"},null,null,null,null,null,{"$f":"VLOOKUP(C810,Hidden_Словник!$A$2:C$81,3,FALSE)","v":{"$error":"#N/A"}},0,{"$f":"VLOOKUP(F810,Hidden_Словник!$W$2:$X$13,2,FALSE)","v":{"$error":"#N/A"}},{"$f":"#REF!","v":{"$error":"#REF!"}},{"$error":"#N/A"}]
[null,"",{"$f":"IFERROR(VLOOKUP(A811,'1.Портфель кредитів'!A:Z,3,FALSE),\"\")","v":""},{"$f":"IFERROR(VLOOKUP(A811,'1.Портфель кредитів'!A:Z,7,FALSE),\"\")","v":""},{"$f":"IFERROR(VLOOKUP(A811,'1.Портфель кредитів'!A:Z,14,FALSE),\"\")","v":""},null,null,null,null,null,null,null,null,{"$f":"IFERROR(VLOOKUP(A811,'1.Портфель кредитів'!A:Z,30,FALSE),\"\")","v":""},0,{"$error":"#VALUE!"},null,null,null,null,null,{"$f":"VLOOKUP(C811,Hidden_Словник!$A$2:C$81,3,FALSE)","v":{"$error":"#N/A"}},0,{"$f":"VLOOKUP(F811,Hidden_Словник!$W$2:$X$13,2,FALSE)","v":{"$error":"#N/A"}},{"$f":"#REF!","v":{"$error":"#REF!"}},{"$error":"#N/A"}]
[null,"",{"$f":"IFERROR(VLOOKUP(A812,'1.Портфель кредитів'!A:Z,3,FALSE),\"\")","v":""},{"$f":"IFERROR(VLOOKUP(A812,'1.Портфель кредитів'!A:Z,7,FALSE),\"\")","v":""},{"$f":"IFERROR(VLOOKUP(A812,'1.Портфель кредитів'!A:Z,14,FALSE),\"\")","v":""},null,null,null,null,null,null,null,null,{"$f":"IFERROR(VLOOKUP(A812,'1.Портфель кредитів'!A:Z,30,FALSE),\"\")","v":""},0,{"$error":"#VALUE!"},null,null,null,null,null,{"$f":"VLOOKUP(C812,Hidden_Словник!$A$2:C$81,3,FALSE)","v":{"$error":"#N/A"}},0,{"$f":"VLOOKUP(F812,Hidden_Словник!$W$2:$X$13,2,FALSE)","v":{"$error":"#N/A"}},{"$f":"#REF!","v":{"$error":"#REF!"}},{"$error":"#N/A"}]
[null,"",{"$f":"IFERROR(VLOOKUP(A813,'1.Портфель кредитів'!A:Z,3,FALSE),\"\")","v":""},{"$f":"IFERROR(VLOOKUP(A813,'1.Портфель кредитів'!A:Z,7,FALSE),\"\")","v":""},{"$f":"IFERROR(VLOOKUP(A813,'1.Портфель кредитів'!A:Z,14,FALSE),\"\")","v":""},null,null,null,null,null,null,null,null,{"$f":"IFERROR(VLOOKUP(A813,'1.Портфель кредитів'!A:Z,30,FALSE),\"\")","v":""},0,{"$error":"#VALUE!"},null,null,null,null,null,{"$f":"VLOOKUP(C813,Hidden_Словник!$A$2:C$81,3,FALSE)","v":{"$error":"#N/A"}},0,{"$f":"VLOOKUP(F813,Hidden_Словник!$W$2:$X$13,2,FALSE)","v":{"$error":"#N/A"}},{"$f":"#REF!","v":{"$error":"#REF!"}},{"$error":"#N/A"}]
[null,"",{"$f":"IFERROR(VLOOKUP(A814,'1.Портфель кредитів'!A:Z,3,FALSE),\"\")","v":""},{"$f":"IFERROR(VLOOKUP(A814,'1.Портфель кредитів'!A:Z,7,FALSE),\"\")","v":""},{"$f":"IFERROR(VLOOKUP(A814,'1.Портфель кредитів'!A:Z,14,FALSE),\"\")","v":""},null,null,null,null,null,null,null,null,{"$f":"IFERROR(VLOOKUP(A814,'1.Портфель кредитів'!A:Z,30,FALSE),\"\")","v":""},0,{"$error":"#VALUE!"},null,null,null,null,null,{"$f":"VLOOKUP(C814,Hidden_Словник!$A$2:C$81,3,FALSE)","v":{"$error":"#N/A"}},0,{"$f":"VLOOKUP(F814,Hidden_Словник!$W$2:$X$13,2,FALSE)","v":{"$error":"#N/A"}},{"$f":"#REF!","v":{"$error":"#REF!"}},{"$error":"#N/A"}]
[null,"",{"$f":"IFERROR(VLOOKUP(A815,'1.Портфель кредитів'!A:Z,3,FALSE),\"\")","v":""},{"$f":"IFERROR(VLOOKUP(A815,'1.Портфель кредитів'!A:Z,7,FALSE),\"\")","v":""},{"$f":"IFERROR(VLOOKUP(A815,'1.Портфель кредитів'!A:Z,14,FALSE),\"\")","v":""},null,null,null,null,null,null,null,null,{"$f":"IFERROR(VLOOKUP(A815,'1.Портфель кредитів'!A:Z,30,FALSE),\"\")","v":""},0,{"$error":"#VALUE!"},null,null,null,null,null,{"$f":"VLOOKUP(C815,Hidden_Словник!$A$2:C$81,3,FALSE)","v":{"$error":"#N/A"}},0,{"$f":"VLOOKUP(F815,Hidden_Словник!$W$2:$X$13,2,FALSE)","v":{"$error":"#N/A"}},{"$f":"#REF!","v":{"$error":"#REF!"}},{"$error":"#N/A"}]
[null,"",{"$f":"IFERROR(VLOOKUP(A816,'1.Портфель кредитів'!A:Z,3,FALSE),\"\")","v":""},{"$f":"IFERROR(VLOOKUP(A816,'1.Портфель кредитів'!A:Z,7,FALSE),\"\")","v":""},{"$f":"IFERROR(VLOOKUP(A816,'1.Портфель кредитів'!A:Z,14,FALSE),\"\")","v":""},null,null,null,null,null,null,null,null,{"$f":"IFERROR(VLOOKUP(A816,'1.Портфель кредитів'!A:Z,30,FALSE),\"\")","v":""},0,{"$error":"#VALUE!"},null,null,null,null,null,{"$f":"VLOOKUP(C816,Hidden_Словник!$A$2:C$81,3,FALSE)","v":{"$error":"#N/A"}},0,{"$f":"VLOOKUP(F816,Hidden_Словник!$W$2:$X$13,2,FALSE)","v":{"$error":"#N/A"}},{"$f":"#REF!","v":{"$error":"#REF!"}},{"$error":"#N/A"}]
[null,"",{"$f":"IFERROR(VLOOKUP(A817,'1.Портфель кредитів'!A:Z,3,FALSE),\"\")","v":""},{"$f":"IFERROR(VLOOKUP(A817,'1.Портфель кредитів'!A:Z,7,FALSE),\"\")","v":""},{"$f":"IFERROR(VLOOKUP(A817,'1.Портфель кредитів'!A:Z,14,FALSE),\"\")","v":""},null,null,null,null,null,null,null,null,{"$f":"IFERROR(VLOOKUP(A817,'1.Портфель кредитів'!A:Z,30,FALSE),\"\")","v":""},0,{"$error":"#VALUE!"},null,null,null,null,null,{"$f":"VLOOKUP(C817,Hidden_Словник!$A$2:C$81,3,FALSE)","v":{"$error":"#N/A"}},0,{"$f":"VLOOKUP(F817,Hidden_Словник!$W$2:$X$13,2,FALSE)","v":{"$error":"#N/A"}},{"$f":"#REF!","v":{"$error":"#REF!"}},{"$error":"#N/A"}]
[null,"",{"$f":"IFERROR(VLOOKUP(A818,'1.Портфель кредитів'!A:Z,3,FALSE),\"\")","v":""},{"$f":"IFERROR(VLOOKUP(A818,'1.Портфель кредитів'!A:Z,7,FALSE),\"\")","v":""},{"$f":"IFERROR(VLOOKUP(A818,'1.Портфель кредитів'!A:Z,14,FALSE),\"\")","v":""},null,null,null,null,null,null,null,null,{"$f":"IFERROR(VLOOKUP(A818,'1.Портфель кредитів'!A:Z,30,FALSE),\"\")","v":""},0,{"$error":"#VALUE!"},null,null,null,null,null,{"$f":"VLOOKUP(C818,Hidden_Словник!$A$2:C$81,3,FALSE)","v":{"$error":"#N/A"}},0,{"$f":"VLOOKUP(F818,Hidden_Словник!$W$2:$X$13,2,FALSE)","v":{"$error":"#N/A"}},{"$f":"#REF!","v":{"$error":"#REF!"}},{"$error":"#N/A"}]
[null,"",{"$f":"IFERROR(VLOOKUP(A819,'1.Портфель кредитів'!A:Z,3,FALSE),\"\")","v":""},{"$f":"IFERROR(VLOOKUP(A819,'1.Портфель кредитів'!A:Z,7,FALSE),\"\")","v":""},{"$f":"IFERROR(VLOOKUP(A819,'1.Портфель кредитів'!A:Z,14,FALSE),\"\")","v":""},null,null,null,null,null,null,null,null,{"$f":"IFERROR(VLOOKUP(A819,'1.Портфель кредитів'!A:Z,30,FALSE),\"\")","v":""},0,{"$error":"#VALUE!"},null,null,null,null,null,{"$f":"VLOOKUP(C819,Hidden_Словник!$A$2:C$81,3,FALSE)","v":{"$error":"#N/A"}},0,{"$f":"VLOOKUP(F819,Hidden_Словник!$W$2:$X$13,2,FALSE)","v":{"$error":"#N/A"}},{"$f":"#REF!","v":{"$error":"#REF!"}},{"$error":"#N/A"}]
[null,"",{"$f":"IFERROR(VLOOKUP(A820,'1.Портфель кредитів'!A:Z,3,FALSE),\"\")","v":""},{"$f":"IFERROR(VLOOKUP(A820,'1.Портфель кредитів'!A:Z,7,FALSE),\"\")","v":""},{"$f":"IFERROR(VLOOKUP(A820,'1.Портфель кредитів'!A:Z,14,FALSE),\"\")","v":""},null,null,null,null,null,null,null,null,{"$f":"IFERROR(VLOOKUP(A820,'1.Портфель кредитів'!A:Z,30,FALSE),\"\")","v":""},0,{"$error":"#VALUE!"},null,null,null,null,null,{"$f":"VLOOKUP(C820,Hidden_Словник!$A$2:C$81,3,FALSE)","v":{"$error":"#N/A"}},0,{"$f":"VLOOKUP(F820,Hidden_Словник!$W$2:$X$13,2,FALSE)","v":{"$error":"#N/A"}},{"$f":"#REF!","v":{"$error":"#REF!"}},{"$error":"#N/A"}]
[null,"",{"$f":"IFERROR(VLOOKUP(A821,'1.Портфель кредитів'!A:Z,3,FALSE),\"\")","v":""},{"$f":"IFERROR(VLOOKUP(A821,'1.Портфель кредитів'!A:Z,7,FALSE),\"\")","v":""},{"$f":"IFERROR(VLOOKUP(A821,'1.Портфель кредитів'!A:Z,14,FALSE),\"\")","v":""},null,null,null,null,null,null,null,null,{"$f":"IFERROR(VLOOKUP(A821,'1.Портфель кредитів'!A:Z,30,FALSE),\"\")","v":""},0,{"$error":"#VALUE!"},null,null,null,null,null,{"$f":"VLOOKUP(C821,Hidden_Словник!$A$2:C$81,3,FALSE)","v":{"$error":"#N/A"}},0,{"$f":"VLOOKUP(F821,Hidden_Словник!$W$2:$X$13,2,FALSE)","v":{"$error":"#N/A"}},{"$f":"#REF!","v":{"$error":"#REF!"}},{"$error":"#N/A"}]
[null,"",{"$f":"IFERROR(VLOOKUP(A822,'1.Портфель кредитів'!A:Z,3,FALSE),\"\")","v":""},{"$f":"IFERROR(VLOOKUP(A822,'1.Портфель кредитів'!A:Z,7,FALSE),\"\")","v":""},{"$f":"IFERROR(VLOOKUP(A822,'1.Портфель кредитів'!A:Z,14,FALSE),\"\")","v":""},null,null,null,null,null,null,null,null,{"$f":"IFERROR(VLOOKUP(A822,'1.Портфель кредитів'!A:Z,30,FALSE),\"\")","v":""},0,{"$error":"#VALUE!"},null,null,null,null,null,{"$f":"VLOOKUP(C822,Hidden_Словник!$A$2:C$81,3,FALSE)","v":{"$error":"#N/A"}},0,{"$f":"VLOOKUP(F822,Hidden_Словник!$W$2:$X$13,2,FALSE)","v":{"$error":"#N/A"}},{"$f":"#REF!","v":{"$error":"#REF!"}},{"$error":"#N/A"}]
[null,"",{"$f":"IFERROR(VLOOKUP(A823,'1.Портфель кредитів'!A:Z,3,FALSE),\"\")","v":""},{"$f":"IFERROR(VLOOKUP(A823,'1.Портфель кредитів'!A:Z,7,FALSE),\"\")","v":""},{"$f":"IFERROR(VLOOKUP(A823,'1.Портфель кредитів'!A:Z,14,FALSE),\"\")","v":""},null,null,null,null,null,null,null,null,{"$f":"IFERROR(VLOOKUP(A823,'1.Портфель кредитів'!A:Z,30,FALSE),\"\")","v":""},0,{"$error":"#VALUE!"},null,null,null,null,null,{"$f":"VLOOKUP(C823,Hidden_Словник!$A$2:C$81,3,FALSE)","v":{"$error":"#N/A"}},0,{"$f":"VLOOKUP(F823,Hidden_Словник!$W$2:$X$13,2,FALSE)","v":{"$error":"#N/A"}},{"$f":"#REF!","v":{"$error":"#REF!"}},{"$error":"#N/A"}]
[null,"",{"$f":"IFERROR(VLOOKUP(A824,'1.Портфель кредитів'!A:Z,3,FALSE),\"\")","v":""},{"$f":"IFERROR(VLOOKUP(A824,'1.Портфель кредитів'!A:Z,7,FALSE),\"\")","v":""},{"$f":"IFERROR(VLOOKUP(A824,'1.Портфель кредитів'!A:Z,14,FALSE),\"\")","v":""},null,null,null,null,null,null,null,null,{"$f":"IFERROR(VLOOKUP(A824,'1.Портфель кредитів'!A:Z,30,FALSE),\"\")","v":""},0,{"$error":"#VALUE!"},null,null,null,null,null,{"$f":"VLOOKUP(C824,Hidden_Словник!$A$2:C$81,3,FALSE)","v":{"$error":"#N/A"}},0,{"$f":"VLOOKUP(F824,Hidden_Словник!$W$2:$X$13,2,FALSE)","v":{"$error":"#N/A"}},{"$f":"#REF!","v":{"$error":"#REF!"}},{"$error":"#N/A"}]
[null,"",{"$f":"IFERROR(VLOOKUP(A825,'1.Портфель кредитів'!A:Z,3,FALSE),\"\")","v":""},{"$f":"IFERROR(VLOOKUP(A825,'1.Портфель кредитів'!A:Z,7,FALSE),\"\")","v":""},{"$f":"IFERROR(VLOOKUP(A825,'1.Портфель кредитів'!A:Z,14,FALSE),\"\")","v":""},null,null,null,null,null,null,null,null,{"$f":"IFERROR(VLOOKUP(A825,'1.Портфель кредитів'!A:Z,30,FALSE),\"\")","v":""},0,{"$error":"#VALUE!"},null,null,null,null,null,{"$f":"VLOOKUP(C825,Hidden_Словник!$A$2:C$81,3,FALSE)","v":{"$error":"#N/A"}},0,{"$f":"VLOOKUP(F825,Hidden_Словник!$W$2:$X$13,2,FALSE)","v":{"$error":"#N/A"}},{"$f":"#REF!","v":{"$error":"#REF!"}},{"$error":"#N/A"}]
[null,"",{"$f":"IFERROR(VLOOKUP(A826,'1.Портфель кредитів'!A:Z,3,FALSE),\"\")","v":""},{"$f":"IFERROR(VLOOKUP(A826,'1.Портфель кредитів'!A:Z,7,FALSE),\"\")","v":""},{"$f":"IFERROR(VLOOKUP(A826,'1.Портфель кредитів'!A:Z,14,FALSE),\"\")","v":""},null,null,null,null,null,null,null,null,{"$f":"IFERROR(VLOOKUP(A826,'1.Портфель кредитів'!A:Z,30,FALSE),\"\")","v":""},0,{"$error":"#VALUE!"},null,null,null,null,null,{"$f":"VLOOKUP(C826,Hidden_Словник!$A$2:C$81,3,FALSE)","v":{"$error":"#N/A"}},0,{"$f":"VLOOKUP(F826,Hidden_Словник!$W$2:$X$13,2,FALSE)","v":{"$error":"#N/A"}},{"$f":"#REF!","v":{"$error":"#REF!"}},{"$error":"#N/A"}]
[null,"",{"$f":"IFERROR(VLOOKUP(A827,'1.Портфель кредитів'!A:Z,3,FALSE),\"\")","v":""},{"$f":"IFERROR(VLOOKUP(A827,'1.Портфель кредитів'!A:Z,7,FALSE),\"\")","v":""},{"$f":"IFERROR(VLOOKUP(A827,'1.Портфель кредитів'!A:Z,14,FALSE),\"\")","v":""},null,null,null,null,null,null,null,null,{"$f":"IFERROR(VLOOKUP(A827,'1.Портфель кредитів'!A:Z,30,FALSE),\"\")","v":""},0,{"$error":"#VALUE!"},null,null,null,null,null,{"$f":"VLOOKUP(C827,Hidden_Словник!$A$2:C$81,3,FALSE)","v":{"$error":"#N/A"}},0,{"$f":"VLOOKUP(F827,Hidden_Словник!$W$2:$X$13,2,FALSE)","v":{"$error":"#N/A"}},{"$f":"#REF!","v":{"$error":"#REF!"}},{"$error":"#N/A"}]
[null,"",{"$f":"IFERROR(VLOOKUP(A828,'1.Портфель кредитів'!A:Z,3,FALSE),\"\")","v":""},{"$f":"IFERROR(VLOOKUP(A828,'1.Портфель кредитів'!A:Z,7,FALSE),\"\")","v":""},{"$f":"IFERROR(VLOOKUP(A828,'1.Портфель кредитів'!A:Z,14,FALSE),\"\")","v":""},null,null,null,null,null,null,null,null,{"$f":"IFERROR(VLOOKUP(A828,'1.Портфель кредитів'!A:Z,30,FALSE),\"\")","v":""},0,{"$error":"#VALUE!"},null,null,null,null,null,{"$f":"VLOOKUP(C828,Hidden_Словник!$A$2:C$81,3,FALSE)","v":{"$error":"#N/A"}},0,{"$f":"VLOOKUP(F828,Hidden_Словник!$W$2:$X$13,2,FALSE)","v":{"$error":"#N/A"}},{"$f":"#REF!","v":{"$error":"#REF!"}},{"$error":"#N/A"}]
[null,"",{"$f":"IFERROR(VLOOKUP(A829,'1.Портфель кредитів'!A:Z,3,FALSE),\"\")","v":""},{"$f":"IFERROR(VLOOKUP(A829,'1.Портфель кредитів'!A:Z,7,FALSE),\"\")","v":""},{"$f":"IFERROR(VLOOKUP(A829,'1.Портфель кредитів'!A:Z,14,FALSE),\"\")","v":""},null,null,null,null,null,null,null,null,{"$f":"IFERROR(VLOOKUP(A829,'1.Портфель кредитів'!A:Z,30,FALSE),\"\")","v":""},0,{"$error":"#VALUE!"},null,null,null,null,null,{"$f":"VLOOKUP(C829,Hidden_Словник!$A$2:C$81,3,FALSE)","v":{"$error":"#N/A"}},0,{"$f":"VLOOKUP(F829,Hidden_Словник!$W$2:$X$13,2,FALSE)","v":{"$error":"#N/A"}},{"$f":"#REF!","v":{"$error":"#REF!"}},{"$error":"#N/A"}]
[null,{"$f":"IFERROR(Z830,\"\")","v":""},{"$f":"IFERROR(VLOOKUP(A830,'1.Портфель кредитів'!A:Z,3,FALSE),\"\")","v":""},{"$f":"IFERROR(VLOOKUP(A830,'1.Портфель кредитів'!A:Z,7,FALSE),\"\")","v":""},{"$f":"IFERROR(VLOOKUP(A830,'1.Портфель кредитів'!A:Z,14,FALSE),\"\")","v":""},null,null,null,null,null,null,null,null,{"$f":"IFERROR(VLOOKUP(A830,'1.Портфель кредитів'!A:Z,30,FALSE),\"\")","v":""},0,{"$error":"#VALUE!"},null,null,null,null,null,{"$f":"VLOOKUP(C830,Hidden_Словник!$A$2:C$81,3,FALSE)","v":{"$error":"#N/A"}},0,{"$f":"VLOOKUP(F830,Hidden_Словник!$W$2:$X$13,2,FALSE)","v":{"$error":"#N/A"}},{"$f":"#REF!","v":{"$error":"#REF!"}},{"$f":"V830&\"_\"&W830&X830&Y830","v":{"$error":"#N/A"}}]
[null,"",{"$f":"IFERROR(VLOOKUP(A831,'1.Портфель кредитів'!A:Z,3,FALSE),\"\")","v":""},{"$f":"IFERROR(VLOOKUP(A831,'1.Портфель кредитів'!A:Z,7,FALSE),\"\")","v":""},{"$f":"IFERROR(VLOOKUP(A831,'1.Портфель кредитів'!A:Z,14,FALSE),\"\")","v":""},null,null,null,null,null,null,null,null,{"$f":"IFERROR(VLOOKUP(A831,'1.Портфель кредитів'!A:Z,30,FALSE),\"\")","v":""},0,{"$error":"#VALUE!"},null,null,null,null,null,{"$f":"VLOOKUP(C831,Hidden_Словник!$A$2:C$81,3,FALSE)","v":{"$error":"#N/A"}},0,{"$f":"VLOOKUP(F831,Hidden_Словник!$W$2:$X$13,2,FALSE)","v":{"$error":"#N/A"}},{"$f":"#REF!","v":{"$error":"#REF!"}},{"$error":"#N/A"}]
[null,"",{"$f":"IFERROR(VLOOKUP(A832,'1.Портфель кредитів'!A:Z,3,FALSE),\"\")","v":""},{"$f":"IFERROR(VLOOKUP(A832,'1.Портфель кредитів'!A:Z,7,FALSE),\"\")","v":""},{"$f":"IFERROR(VLOOKUP(A832,'1.Портфель кредитів'!A:Z,14,FALSE),\"\")","v":""},null,null,null,null,null,null,null,null,{"$f":"IFERROR(VLOOKUP(A832,'1.Портфель кредитів'!A:Z,30,FALSE),\"\")","v":""},0,{"$error":"#VALUE!"},null,null,null,null,null,{"$f":"VLOOKUP(C832,Hidden_Словник!$A$2:C$81,3,FALSE)","v":{"$error":"#N/A"}},0,{"$f":"VLOOKUP(F832,Hidden_Словник!$W$2:$X$13,2,FALSE)","v":{"$error":"#N/A"}},{"$f":"#REF!","v":{"$error":"#REF!"}},{"$error":"#N/A"}]
[null,"",{"$f":"IFERROR(VLOOKUP(A833,'1.Портфель кредитів'!A:Z,3,FALSE),\"\")","v":""},{"$f":"IFERROR(VLOOKUP(A833,'1.Портфель кредитів'!A:Z,7,FALSE),\"\")","v":""},{"$f":"IFERROR(VLOOKUP(A833,'1.Портфель кредитів'!A:Z,14,FALSE),\"\")","v":""},null,null,null,null,null,null,null,null,{"$f":"IFERROR(VLOOKUP(A833,'1.Портфель кредитів'!A:Z,30,FALSE),\"\")","v":""},0,{"$error":"#VALUE!"},null,null,null,null,null,{"$f":"VLOOKUP(C833,Hidden_Словник!$A$2:C$81,3,FALSE)","v":{"$error":"#N/A"}},0,{"$f":"VLOOKUP(F833,Hidden_Словник!$W$2:$X$13,2,FALSE)","v":{"$error":"#N/A"}},{"$f":"#REF!","v":{"$error":"#REF!"}},{"$error":"#N/A"}]
[null,"",{"$f":"IFERROR(VLOOKUP(A834,'1.Портфель кредитів'!A:Z,3,FALSE),\"\")","v":""},{"$f":"IFERROR(VLOOKUP(A834,'1.Портфель кредитів'!A:Z,7,FALSE),\"\")","v":""},{"$f":"IFERROR(VLOOKUP(A834,'1.Портфель кредитів'!A:Z,14,FALSE),\"\")","v":""},null,null,null,null,null,null,null,null,{"$f":"IFERROR(VLOOKUP(A834,'1.Портфель кредитів'!A:Z,30,FALSE),\"\")","v":""},0,{"$error":"#VALUE!"},null,null,null,null,null,{"$f":"VLOOKUP(C834,Hidden_Словник!$A$2:C$81,3,FALSE)","v":{"$error":"#N/A"}},0,{"$f":"VLOOKUP(F834,Hidden_Словник!$W$2:$X$13,2,FALSE)","v":{"$error":"#N/A"}},{"$f":"#REF!","v":{"$error":"#REF!"}},{"$error":"#N/A"}]
[null,"",{"$f":"IFERROR(VLOOKUP(A835,'1.Портфель кредитів'!A:Z,3,FALSE),\"\")","v":""},{"$f":"IFERROR(VLOOKUP(A835,'1.Портфель кредитів'!A:Z,7,FALSE),\"\")","v":""},{"$f":"IFERROR(VLOOKUP(A835,'1.Портфель кредитів'!A:Z,14,FALSE),\"\")","v":""},null,null,null,null,null,null,null,null,{"$f":"IFERROR(VLOOKUP(A835,'1.Портфель кредитів'!A:Z,30,FALSE),\"\")","v":""},0,{"$error":"#VALUE!"},null,null,null,null,null,{"$f":"VLOOKUP(C835,Hidden_Словник!$A$2:C$81,3,FALSE)","v":{"$error":"#N/A"}},0,{"$f":"VLOOKUP(F835,Hidden_Словник!$W$2:$X$13,2,FALSE)","v":{"$error":"#N/A"}},{"$f":"#REF!","v":{"$error":"#REF!"}},{"$error":"#N/A"}]
[null,"",{"$f":"IFERROR(VLOOKUP(A836,'1.Портфель кредитів'!A:Z,3,FALSE),\"\")","v":""},{"$f":"IFERROR(VLOOKUP(A836,'1.Портфель кредитів'!A:Z,7,FALSE),\"\")","v":""},{"$f":"IFERROR(VLOOKUP(A836,'1.Портфель кредитів'!A:Z,14,FALSE),\"\")","v":""},null,null,null,null,null,null,null,null,{"$f":"IFERROR(VLOOKUP(A836,'1.Портфель кредитів'!A:Z,30,FALSE),\"\")","v":""},0,{"$error":"#VALUE!"},null,null,null,null,null,{"$f":"VLOOKUP(C836,Hidden_Словник!$A$2:C$81,3,FALSE)","v":{"$error":"#N/A"}},0,{"$f":"VLOOKUP(F836,Hidden_Словник!$W$2:$X$13,2,FALSE)","v":{"$error":"#N/A"}},{"$f":"#REF!","v":{"$error":"#REF!"}},{"$error":"#N/A"}]
[null,"",{"$f":"IFERROR(VLOOKUP(A837,'1.Портфель кредитів'!A:Z,3,FALSE),\"\")","v":""},{"$f":"IFERROR(VLOOKUP(A837,'1.Портфель кредитів'!A:Z,7,FALSE),\"\")","v":""},{"$f":"IFERROR(VLOOKUP(A837,'1.Портфель кредитів'!A:Z,14,FALSE),\"\")","v":""},null,null,null,null,null,null,null,null,{"$f":"IFERROR(VLOOKUP(A837,'1.Портфель кредитів'!A:Z,30,FALSE),\"\")","v":""},0,{"$error":"#VALUE!"},null,null,null,null,null,{"$f":"VLOOKUP(C837,Hidden_Словник!$A$2:C$81,3,FALSE)","v":{"$error":"#N/A"}},0,{"$f":"VLOOKUP(F837,Hidden_Словник!$W$2:$X$13,2,FALSE)","v":{"$error":"#N/A"}},{"$f":"#REF!","v":{"$error":"#REF!"}},{"$error":"#N/A"}]
[null,"",{"$f":"IFERROR(VLOOKUP(A838,'1.Портфель кредитів'!A:Z,3,FALSE),\"\")","v":""},{"$f":"IFERROR(VLOOKUP(A838,'1.Портфель кредитів'!A:Z,7,FALSE),\"\")","v":""},{"$f":"IFERROR(VLOOKUP(A838,'1.Портфель кредитів'!A:Z,14,FALSE),\"\")","v":""},null,null,null,null,null,null,null,null,{"$f":"IFERROR(VLOOKUP(A838,'1.Портфель кредитів'!A:Z,30,FALSE),\"\")","v":""},0,{"$error":"#VALUE!"},null,null,null,null,null,{"$f":"VLOOKUP(C838,Hidden_Словник!$A$2:C$81,3,FALSE)","v":{"$error":"#N/A"}},0,{"$f":"VLOOKUP(F838,Hidden_Словник!$W$2:$X$13,2,FALSE)","v":{"$error":"#N/A"}},{"$f":"#REF!","v":{"$error":"#REF!"}},{"$error":"#N/A"}]
[null,"",{"$f":"IFERROR(VLOOKUP(A839,'1.Портфель кредитів'!A:Z,3,FALSE),\"\")","v":""},{"$f":"IFERROR(VLOOKUP(A839,'1.Портфель кредитів'!A:Z,7,FALSE),\"\")","v":""},{"$f":"IFERROR(VLOOKUP(A839,'1.Портфель кредитів'!A:Z,14,FALSE),\"\")","v":""},null,null,null,null,null,null,null,null,{"$f":"IFERROR(VLOOKUP(A839,'1.Портфель кредитів'!A:Z,30,FALSE),\"\")","v":""},0,{"$error":"#VALUE!"},null,null,null,null,null,{"$f":"VLOOKUP(C839,Hidden_Словник!$A$2:C$81,3,FALSE)","v":{"$error":"#N/A"}},0,{"$f":"VLOOKUP(F839,Hidden_Словник!$W$2:$X$13,2,FALSE)","v":{"$error":"#N/A"}},{"$f":"#REF!","v":{"$error":"#REF!"}},{"$error":"#N/A"}]
[null,"",{"$f":"IFERROR(VLOOKUP(A840,'1.Портфель кредитів'!A:Z,3,FALSE),\"\")","v":""},{"$f":"IFERROR(VLOOKUP(A840,'1.Портфель кредитів'!A:Z,7,FALSE),\"\")","v":""},{"$f":"IFERROR(VLOOKUP(A840,'1.Портфель кредитів'!A:Z,14,FALSE),\"\")","v":""},null,null,null,null,null,null,null,null,{"$f":"IFERROR(VLOOKUP(A840,'1.Портфель кредитів'!A:Z,30,FALSE),\"\")","v":""},0,{"$error":"#VALUE!"},null,null,null,null,null,{"$f":"VLOOKUP(C840,Hidden_Словник!$A$2:C$81,3,FALSE)","v":{"$error":"#N/A"}},0,{"$f":"VLOOKUP(F840,Hidden_Словник!$W$2:$X$13,2,FALSE)","v":{"$error":"#N/A"}},{"$f":"#REF!","v":{"$error":"#REF!"}},{"$error":"#N/A"}]
[null,"",{"$f":"IFERROR(VLOOKUP(A841,'1.Портфель кредитів'!A:Z,3,FALSE),\"\")","v":""},{"$f":"IFERROR(VLOOKUP(A841,'1.Портфель кредитів'!A:Z,7,FALSE),\"\")","v":""},{"$f":"IFERROR(VLOOKUP(A841,'1.Портфель кредитів'!A:Z,14,FALSE),\"\")","v":""},null,null,null,null,null,null,null,null,{"$f":"IFERROR(VLOOKUP(A841,'1.Портфель кредитів'!A:Z,30,FALSE),\"\")","v":""},0,{"$error":"#VALUE!"},null,null,null,null,null,{"$f":"VLOOKUP(C841,Hidden_Словник!$A$2:C$81,3,FALSE)","v":{"$error":"#N/A"}},0,{"$f":"VLOOKUP(F841,Hidden_Словник!$W$2:$X$13,2,FALSE)","v":{"$error":"#N/A"}},{"$f":"#REF!","v":{"$error":"#REF!"}},{"$error":"#N/A"}]
[null,"",{"$f":"IFERROR(VLOOKUP(A842,'1.Портфель кредитів'!A:Z,3,FALSE),\"\")","v":""},{"$f":"IFERROR(VLOOKUP(A842,'1.Портфель кредитів'!A:Z,7,FALSE),\"\")","v":""},{"$f":"IFERROR(VLOOKUP(A842,'1.Портфель кредитів'!A:Z,14,FALSE),\"\")","v":""},null,null,null,null,null,null,null,null,{"$f":"IFERROR(VLOOKUP(A842,'1.Портфель кредитів'!A:Z,30,FALSE),\"\")","v":""},0,{"$error":"#VALUE!"},null,null,null,null,null,{"$f":"VLOOKUP(C842,Hidden_Словник!$A$2:C$81,3,FALSE)","v":{"$error":"#N/A"}},0,{"$f":"VLOOKUP(F842,Hidden_Словник!$W$2:$X$13,2,FALSE)","v":{"$error":"#N/A"}},{"$f":"#REF!","v":{"$error":"#REF!"}},{"$error":"#N/A"}]
[null,"",{"$f":"IFERROR(VLOOKUP(A843,'1.Портфель кредитів'!A:Z,3,FALSE),\"\")","v":""},{"$f":"IFERROR(VLOOKUP(A843,'1.Портфель кредитів'!A:Z,7,FALSE),\"\")","v":""},{"$f":"IFERROR(VLOOKUP(A843,'1.Портфель кредитів'!A:Z,14,FALSE),\"\")","v":""},null,null,null,null,null,null,null,null,{"$f":"IFERROR(VLOOKUP(A843,'1.Портфель кредитів'!A:Z,30,FALSE),\"\")","v":""},0,{"$error":"#VALUE!"},null,null,null,null,null,{"$f":"VLOOKUP(C843,Hidden_Словник!$A$2:C$81,3,FALSE)","v":{"$error":"#N/A"}},0,{"$f":"VLOOKUP(F843,Hidden_Словник!$W$2:$X$13,2,FALSE)","v":{"$error":"#N/A"}},{"$f":"#REF!","v":{"$error":"#REF!"}},{"$error":"#N/A"}]
[null,"",{"$f":"IFERROR(VLOOKUP(A844,'1.Портфель кредитів'!A:Z,3,FALSE),\"\")","v":""},{"$f":"IFERROR(VLOOKUP(A844,'1.Портфель кредитів'!A:Z,7,FALSE),\"\")","v":""},{"$f":"IFERROR(VLOOKUP(A844,'1.Портфель кредитів'!A:Z,14,FALSE),\"\")","v":""},null,null,null,null,null,null,null,null,{"$f":"IFERROR(VLOOKUP(A844,'1.Портфель кредитів'!A:Z,30,FALSE),\"\")","v":""},0,{"$error":"#VALUE!"},null,null,null,null,null,{"$f":"VLOOKUP(C844,Hidden_Словник!$A$2:C$81,3,FALSE)","v":{"$error":"#N/A"}},0,{"$f":"VLOOKUP(F844,Hidden_Словник!$W$2:$X$13,2,FALSE)","v":{"$error":"#N/A"}},{"$f":"#REF!","v":{"$error":"#REF!"}},{"$error":"#N/A"}]
[null,"",{"$f":"IFERROR(VLOOKUP(A845,'1.Портфель кредитів'!A:Z,3,FALSE),\"\")","v":""},{"$f":"IFERROR(VLOOKUP(A845,'1.Портфель кредитів'!A:Z,7,FALSE),\"\")","v":""},{"$f":"IFERROR(VLOOKUP(A845,'1.Портфель кредитів'!A:Z,14,FALSE),\"\")","v":""},null,null,null,null,null,null,null,null,{"$f":"IFERROR(VLOOKUP(A845,'1.Портфель кредитів'!A:Z,30,FALSE),\"\")","v":""},0,{"$error":"#VALUE!"},null,null,null,null,null,{"$f":"VLOOKUP(C845,Hidden_Словник!$A$2:C$81,3,FALSE)","v":{"$error":"#N/A"}},0,{"$f":"VLOOKUP(F845,Hidden_Словник!$W$2:$X$13,2,FALSE)","v":{"$error":"#N/A"}},{"$f":"#REF!","v":{"$error":"#REF!"}},{"$error":"#N/A"}]
[null,"",{"$f":"IFERROR(VLOOKUP(A846,'1.Портфель кредитів'!A:Z,3,FALSE),\"\")","v":""},{"$f":"IFERROR(VLOOKUP(A846,'1.Портфель кредитів'!A:Z,7,FALSE),\"\")","v":""},{"$f":"IFERROR(VLOOKUP(A846,'1.Портфель кредитів'!A:Z,14,FALSE),\"\")","v":""},null,null,null,null,null,null,null,null,{"$f":"IFERROR(VLOOKUP(A846,'1.Портфель кредитів'!A:Z,30,FALSE),\"\")","v":""},0,{"$error":"#VALUE!"},null,null,null,null,null,{"$f":"VLOOKUP(C846,Hidden_Словник!$A$2:C$81,3,FALSE)","v":{"$error":"#N/A"}},0,{"$f":"VLOOKUP(F846,Hidden_Словник!$W$2:$X$13,2,FALSE)","v":{"$error":"#N/A"}},{"$f":"#REF!","v":{"$error":"#REF!"}},{"$error":"#N/A"}]
[null,"",{"$f":"IFERROR(VLOOKUP(A847,'1.Портфель кредитів'!A:Z,3,FALSE),\"\")","v":""},{"$f":"IFERROR(VLOOKUP(A847,'1.Портфель кредитів'!A:Z,7,FALSE),\"\")","v":""},{"$f":"IFERROR(VLOOKUP(A847,'1.Портфель кредитів'!A:Z,14,FALSE),\"\")","v":""},null,null,null,null,null,null,null,null,{"$f":"IFERROR(VLOOKUP(A847,'1.Портфель кредитів'!A:Z,30,FALSE),\"\")","v":""},0,{"$error":"#VALUE!"},null,null,null,null,null,{"$f":"VLOOKUP(C847,Hidden_Словник!$A$2:C$81,3,FALSE)","v":{"$error":"#N/A"}},0,{"$f":"VLOOKUP(F847,Hidden_Словник!$W$2:$X$13,2,FALSE)","v":{"$error":"#N/A"}},{"$f":"#REF!","v":{"$error":"#REF!"}},{"$error":"#N/A"}]
[null,"",{"$f":"IFERROR(VLOOKUP(A848,'1.Портфель кредитів'!A:Z,3,FALSE),\"\")","v":""},{"$f":"IFERROR(VLOOKUP(A848,'1.Портфель кредитів'!A:Z,7,FALSE),\"\")","v":""},{"$f":"IFERROR(VLOOKUP(A848,'1.Портфель кредитів'!A:Z,14,FALSE),\"\")","v":""},null,null,null,null,null,null,null,null,{"$f":"IFERROR(VLOOKUP(A848,'1.Портфель кредитів'!A:Z,30,FALSE),\"\")","v":""},0,{"$error":"#VALUE!"},null,null,null,null,null,{"$f":"VLOOKUP(C848,Hidden_Словник!$A$2:C$81,3,FALSE)","v":{"$error":"#N/A"}},0,{"$f":"VLOOKUP(F848,Hidden_Словник!$W$2:$X$13,2,FALSE)","v":{"$error":"#N/A"}},{"$f":"#REF!","v":{"$error":"#REF!"}},{"$error":"#N/A"}]
[null,"",{"$f":"IFERROR(VLOOKUP(A849,'1.Портфель кредитів'!A:Z,3,FALSE),\"\")","v":""},{"$f":"IFERROR(VLOOKUP(A849,'1.Портфель кредитів'!A:Z,7,FALSE),\"\")","v":""},{"$f":"IFERROR(VLOOKUP(A849,'1.Портфель кредитів'!A:Z,14,FALSE),\"\")","v":""},null,null,null,null,null,null,null,null,{"$f":"IFERROR(VLOOKUP(A849,'1.Портфель кредитів'!A:Z,30,FALSE),\"\")","v":""},0,{"$error":"#VALUE!"},null,null,null,null,null,{"$f":"VLOOKUP(C849,Hidden_Словник!$A$2:C$81,3,FALSE)","v":{"$error":"#N/A"}},0,{"$f":"VLOOKUP(F849,Hidden_Словник!$W$2:$X$13,2,FALSE)","v":{"$error":"#N/A"}},{"$f":"#REF!","v":{"$error":"#REF!"}},{"$error":"#N/A"}]
[null,"",{"$f":"IFERROR(VLOOKUP(A850,'1.Портфель кредитів'!A:Z,3,FALSE),\"\")","v":""},{"$f":"IFERROR(VLOOKUP(A850,'1.Портфель кредитів'!A:Z,7,FALSE),\"\")","v":""},{"$f":"IFERROR(VLOOKUP(A850,'1.Портфель кредитів'!A:Z,14,FALSE),\"\")","v":""},null,null,null,null,null,null,null,null,{"$f":"IFERROR(VLOOKUP(A850,'1.Портфель кредитів'!A:Z,30,FALSE),\"\")","v":""},0,{"$error":"#VALUE!"},null,null,null,null,null,{"$f":"VLOOKUP(C850,Hidden_Словник!$A$2:C$81,3,FALSE)","v":{"$error":"#N/A"}},0,{"$f":"VLOOKUP(F850,Hidden_Словник!$W$2:$X$13,2,FALSE)","v":{"$error":"#N/A"}},{"$f":"#REF!","v":{"$error":"#REF!"}},{"$error":"#N/A"}]
[null,"",{"$f":"IFERROR(VLOOKUP(A851,'1.Портфель кредитів'!A:Z,3,FALSE),\"\")","v":""},{"$f":"IFERROR(VLOOKUP(A851,'1.Портфель кредитів'!A:Z,7,FALSE),\"\")","v":""},{"$f":"IFERROR(VLOOKUP(A851,'1.Портфель кредитів'!A:Z,14,FALSE),\"\")","v":""},null,null,null,null,null,null,null,null,{"$f":"IFERROR(VLOOKUP(A851,'1.Портфель кредитів'!A:Z,30,FALSE),\"\")","v":""},0,{"$error":"#VALUE!"},null,null,null,null,null,{"$f":"VLOOKUP(C851,Hidden_Словник!$A$2:C$81,3,FALSE)","v":{"$error":"#N/A"}},{"$f":"ROUNDUP(K851,0)","v":0},{"$f":"VLOOKUP(F851,Hidden_Словник!$W$2:$X$13,2,FALSE)","v":{"$error":"#N/A"}},{"$f":"#REF!","v":{"$error":"#REF!"}},{"$error":"#N/A"}]
[null,"",{"$f":"IFERROR(VLOOKUP(A852,'1.Портфель кредитів'!A:Z,3,FALSE),\"\")","v":""},{"$f":"IFERROR(VLOOKUP(A852,'1.Портфель кредитів'!A:Z,7,FALSE),\"\")","v":""},{"$f":"IFERROR(VLOOKUP(A852,'1.Портфель кредитів'!A:Z,14,FALSE),\"\")","v":""},null,null,null,null,null,null,null,null,{"$f":"IFERROR(VLOOKUP(A852,'1.Портфель кредитів'!A:Z,30,FALSE),\"\")","v":""},0,{"$error":"#VALUE!"},null,null,null,null,null,{"$f":"VLOOKUP(C852,Hidden_Словник!$A$2:C$81,3,FALSE)","v":{"$error":"#N/A"}},0,{"$f":"VLOOKUP(F852,Hidden_Словник!$W$2:$X$13,2,FALSE)","v":{"$error":"#N/A"}},{"$f":"#REF!","v":{"$error":"#REF!"}},{"$error":"#N/A"}]
[null,"",{"$f":"IFERROR(VLOOKUP(A853,'1.Портфель кредитів'!A:Z,3,FALSE),\"\")","v":""},{"$f":"IFERROR(VLOOKUP(A853,'1.Портфель кредитів'!A:Z,7,FALSE),\"\")","v":""},{"$f":"IFERROR(VLOOKUP(A853,'1.Портфель кредитів'!A:Z,14,FALSE),\"\")","v":""},null,null,null,null,null,null,null,null,{"$f":"IFERROR(VLOOKUP(A853,'1.Портфель кредитів'!A:Z,30,FALSE),\"\")","v":""},0,{"$error":"#VALUE!"},null,null,null,null,null,{"$f":"VLOOKUP(C853,Hidden_Словник!$A$2:C$81,3,FALSE)","v":{"$error":"#N/A"}},0,{"$f":"VLOOKUP(F853,Hidden_Словник!$W$2:$X$13,2,FALSE)","v":{"$error":"#N/A"}},{"$f":"#REF!","v":{"$error":"#REF!"}},{"$error":"#N/A"}]
[null,"",{"$f":"IFERROR(VLOOKUP(A854,'1.Портфель кредитів'!A:Z,3,FALSE),\"\")","v":""},{"$f":"IFERROR(VLOOKUP(A854,'1.Портфель кредитів'!A:Z,7,FALSE),\"\")","v":""},{"$f":"IFERROR(VLOOKUP(A854,'1.Портфель кредитів'!A:Z,14,FALSE),\"\")","v":""},null,null,null,null,null,null,null,null,{"$f":"IFERROR(VLOOKUP(A854,'1.Портфель кредитів'!A:Z,30,FALSE),\"\")","v":""},0,{"$error":"#VALUE!"},null,null,null,null,null,{"$f":"VLOOKUP(C854,Hidden_Словник!$A$2:C$81,3,FALSE)","v":{"$error":"#N/A"}},0,{"$f":"VLOOKUP(F854,Hidden_Словник!$W$2:$X$13,2,FALSE)","v":{"$error":"#N/A"}},{"$f":"#REF!","v":{"$error":"#REF!"}},{"$error":"#N/A"}]
[null,"",{"$f":"IFERROR(VLOOKUP(A855,'1.Портфель кредитів'!A:Z,3,FALSE),\"\")","v":""},{"$f":"IFERROR(VLOOKUP(A855,'1.Портфель кредитів'!A:Z,7,FALSE),\"\")","v":""},{"$f":"IFERROR(VLOOKUP(A855,'1.Портфель кредитів'!A:Z,14,FALSE),\"\")","v":""},null,null,null,null,null,null,null,null,{"$f":"IFERROR(VLOOKUP(A855,'1.Портфель кредитів'!A:Z,30,FALSE),\"\")","v":""},{"$f":"SUMIF(B:B,B855,N:N)","v":0},{"$error":"#VALUE!"},null,null,null,null,null,{"$f":"VLOOKUP(C855,Hidden_Словник!$A$2:C$81,3,FALSE)","v":{"$error":"#N/A"}},0,{"$f":"VLOOKUP(F855,Hidden_Словник!$W$2:$X$13,2,FALSE)","v":{"$error":"#N/A"}},{"$f":"#REF!","v":{"$error":"#REF!"}},{"$error":"#N/A"}]
[null,"",{"$f":"IFERROR(VLOOKUP(A856,'1.Портфель кредитів'!A:Z,3,FALSE),\"\")","v":""},{"$f":"IFERROR(VLOOKUP(A856,'1.Портфель кредитів'!A:Z,7,FALSE),\"\")","v":""},{"$f":"IFERROR(VLOOKUP(A856,'1.Портфель кредитів'!A:Z,14,FALSE),\"\")","v":""},null,null,null,null,null,null,null,null,{"$f":"IFERROR(VLOOKUP(A856,'1.Портфель кредитів'!A:Z,30,FALSE),\"\")","v":""},0,{"$error":"#VALUE!"},null,null,null,null,null,{"$f":"VLOOKUP(C856,Hidden_Словник!$A$2:C$81,3,FALSE)","v":{"$error":"#N/A"}},0,{"$f":"VLOOKUP(F856,Hidden_Словник!$W$2:$X$13,2,FALSE)","v":{"$error":"#N/A"}},{"$f":"#REF!","v":{"$error":"#REF!"}},{"$error":"#N/A"}]
[null,"",{"$f":"IFERROR(VLOOKUP(A857,'1.Портфель кредитів'!A:Z,3,FALSE),\"\")","v":""},{"$f":"IFERROR(VLOOKUP(A857,'1.Портфель кредитів'!A:Z,7,FALSE),\"\")","v":""},{"$f":"IFERROR(VLOOKUP(A857,'1.Портфель кредитів'!A:Z,14,FALSE),\"\")","v":""},null,null,null,null,null,null,null,null,{"$f":"IFERROR(VLOOKUP(A857,'1.Портфель кредитів'!A:Z,30,FALSE),\"\")","v":""},0,{"$error":"#VALUE!"},null,null,null,null,null,{"$f":"VLOOKUP(C857,Hidden_Словник!$A$2:C$81,3,FALSE)","v":{"$error":"#N/A"}},0,{"$f":"VLOOKUP(F857,Hidden_Словник!$W$2:$X$13,2,FALSE)","v":{"$error":"#N/A"}},{"$f":"#REF!","v":{"$error":"#REF!"}},{"$error":"#N/A"}]
[null,"",{"$f":"IFERROR(VLOOKUP(A858,'1.Портфель кредитів'!A:Z,3,FALSE),\"\")","v":""},{"$f":"IFERROR(VLOOKUP(A858,'1.Портфель кредитів'!A:Z,7,FALSE),\"\")","v":""},{"$f":"IFERROR(VLOOKUP(A858,'1.Портфель кредитів'!A:Z,14,FALSE),\"\")","v":""},null,null,null,null,null,null,null,null,{"$f":"IFERROR(VLOOKUP(A858,'1.Портфель кредитів'!A:Z,30,FALSE),\"\")","v":""},0,{"$error":"#VALUE!"},null,null,null,null,null,{"$f":"VLOOKUP(C858,Hidden_Словник!$A$2:C$81,3,FALSE)","v":{"$error":"#N/A"}},0,{"$f":"VLOOKUP(F858,Hidden_Словник!$W$2:$X$13,2,FALSE)","v":{"$error":"#N/A"}},{"$f":"#REF!","v":{"$error":"#REF!"}},{"$error":"#N/A"}]
[null,"",{"$f":"IFERROR(VLOOKUP(A859,'1.Портфель кредитів'!A:Z,3,FALSE),\"\")","v":""},{"$f":"IFERROR(VLOOKUP(A859,'1.Портфель кредитів'!A:Z,7,FALSE),\"\")","v":""},{"$f":"IFERROR(VLOOKUP(A859,'1.Портфель кредитів'!A:Z,14,FALSE),\"\")","v":""},null,null,null,null,null,null,null,null,{"$f":"IFERROR(VLOOKUP(A859,'1.Портфель кредитів'!A:Z,30,FALSE),\"\")","v":""},0,{"$error":"#VALUE!"},null,null,null,null,null,{"$f":"VLOOKUP(C859,Hidden_Словник!$A$2:C$81,3,FALSE)","v":{"$error":"#N/A"}},0,{"$f":"VLOOKUP(F859,Hidden_Словник!$W$2:$X$13,2,FALSE)","v":{"$error":"#N/A"}},{"$f":"#REF!","v":{"$error":"#REF!"}},{"$error":"#N/A"}]
[null,"",{"$f":"IFERROR(VLOOKUP(A860,'1.Портфель кредитів'!A:Z,3,FALSE),\"\")","v":""},{"$f":"IFERROR(VLOOKUP(A860,'1.Портфель кредитів'!A:Z,7,FALSE),\"\")","v":""},{"$f":"IFERROR(VLOOKUP(A860,'1.Портфель кредитів'!A:Z,14,FALSE),\"\")","v":""},null,null,null,null,null,null,null,null,{"$f":"IFERROR(VLOOKUP(A860,'1.Портфель кредитів'!A:Z,30,FALSE),\"\")","v":""},0,{"$error":"#VALUE!"},null,null,null,null,null,{"$f":"VLOOKUP(C860,Hidden_Словник!$A$2:C$81,3,FALSE)","v":{"$error":"#N/A"}},0,{"$f":"VLOOKUP(F860,Hidden_Словник!$W$2:$X$13,2,FALSE)","v":{"$error":"#N/A"}},{"$f":"#REF!","v":{"$error":"#REF!"}},{"$error":"#N/A"}]
[null,"",{"$f":"IFERROR(VLOOKUP(A861,'1.Портфель кредитів'!A:Z,3,FALSE),\"\")","v":""},{"$f":"IFERROR(VLOOKUP(A861,'1.Портфель кредитів'!A:Z,7,FALSE),\"\")","v":""},{"$f":"IFERROR(VLOOKUP(A861,'1.Портфель кредитів'!A:Z,14,FALSE),\"\")","v":""},null,null,null,null,null,null,null,null,{"$f":"IFERROR(VLOOKUP(A861,'1.Портфель кредитів'!A:Z,30,FALSE),\"\")","v":""},0,{"$error":"#VALUE!"},null,null,null,null,null,{"$f":"VLOOKUP(C861,Hidden_Словник!$A$2:C$81,3,FALSE)","v":{"$error":"#N/A"}},0,{"$f":"VLOOKUP(F861,Hidden_Словник!$W$2:$X$13,2,FALSE)","v":{"$error":"#N/A"}},{"$f":"#REF!","v":{"$error":"#REF!"}},{"$error":"#N/A"}]
[null,"",{"$f":"IFERROR(VLOOKUP(A862,'1.Портфель кредитів'!A:Z,3,FALSE),\"\")","v":""},{"$f":"IFERROR(VLOOKUP(A862,'1.Портфель кредитів'!A:Z,7,FALSE),\"\")","v":""},{"$f":"IFERROR(VLOOKUP(A862,'1.Портфель кредитів'!A:Z,14,FALSE),\"\")","v":""},null,null,null,null,null,null,null,null,{"$f":"IFERROR(VLOOKUP(A862,'1.Портфель кредитів'!A:Z,30,FALSE),\"\")","v":""},0,{"$error":"#VALUE!"},null,null,null,null,null,{"$f":"VLOOKUP(C862,Hidden_Словник!$A$2:C$81,3,FALSE)","v":{"$error":"#N/A"}},0,{"$f":"VLOOKUP(F862,Hidden_Словник!$W$2:$X$13,2,FALSE)","v":{"$error":"#N/A"}},{"$f":"#REF!","v":{"$error":"#REF!"}},{"$error":"#N/A"}]
[null,"",{"$f":"IFERROR(VLOOKUP(A863,'1.Портфель кредитів'!A:Z,3,FALSE),\"\")","v":""},{"$f":"IFERROR(VLOOKUP(A863,'1.Портфель кредитів'!A:Z,7,FALSE),\"\")","v":""},{"$f":"IFERROR(VLOOKUP(A863,'1.Портфель кредитів'!A:Z,14,FALSE),\"\")","v":""},null,null,null,null,null,null,null,null,{"$f":"IFERROR(VLOOKUP(A863,'1.Портфель кредитів'!A:Z,30,FALSE),\"\")","v":""},0,{"$error":"#VALUE!"},null,null,null,null,null,{"$f":"VLOOKUP(C863,Hidden_Словник!$A$2:C$81,3,FALSE)","v":{"$error":"#N/A"}},0,{"$f":"VLOOKUP(F863,Hidden_Словник!$W$2:$X$13,2,FALSE)","v":{"$error":"#N/A"}},{"$f":"#REF!","v":{"$error":"#REF!"}},{"$error":"#N/A"}]
[null,"",{"$f":"IFERROR(VLOOKUP(A864,'1.Портфель кредитів'!A:Z,3,FALSE),\"\")","v":""},{"$f":"IFERROR(VLOOKUP(A864,'1.Портфель кредитів'!A:Z,7,FALSE),\"\")","v":""},{"$f":"IFERROR(VLOOKUP(A864,'1.Портфель кредитів'!A:Z,14,FALSE),\"\")","v":""},null,null,null,null,null,null,null,null,{"$f":"IFERROR(VLOOKUP(A864,'1.Портфель кредитів'!A:Z,30,FALSE),\"\")","v":""},0,{"$error":"#VALUE!"},null,null,null,null,null,{"$f":"VLOOKUP(C864,Hidden_Словник!$A$2:C$81,3,FALSE)","v":{"$error":"#N/A"}},0,{"$f":"VLOOKUP(F864,Hidden_Словник!$W$2:$X$13,2,FALSE)","v":{"$error":"#N/A"}},{"$f":"#REF!","v":{"$error":"#REF!"}},{"$error":"#N/A"}]
[null,"",{"$f":"IFERROR(VLOOKUP(A865,'1.Портфель кредитів'!A:Z,3,FALSE),\"\")","v":""},{"$f":"IFERROR(VLOOKUP(A865,'1.Портфель кредитів'!A:Z,7,FALSE),\"\")","v":""},{"$f":"IFERROR(VLOOKUP(A865,'1.Портфель кредитів'!A:Z,14,FALSE),\"\")","v":""},null,null,null,null,null,null,null,null,{"$f":"IFERROR(VLOOKUP(A865,'1.Портфель кредитів'!A:Z,30,FALSE),\"\")","v":""},0,{"$error":"#VALUE!"},null,null,null,null,null,{"$f":"VLOOKUP(C865,Hidden_Словник!$A$2:C$81,3,FALSE)","v":{"$error":"#N/A"}},0,{"$f":"VLOOKUP(F865,Hidden_Словник!$W$2:$X$13,2,FALSE)","v":{"$error":"#N/A"}},{"$f":"#REF!","v":{"$error":"#REF!"}},{"$error":"#N/A"}]
[null,"",{"$f":"IFERROR(VLOOKUP(A866,'1.Портфель кредитів'!A:Z,3,FALSE),\"\")","v":""},{"$f":"IFERROR(VLOOKUP(A866,'1.Портфель кредитів'!A:Z,7,FALSE),\"\")","v":""},{"$f":"IFERROR(VLOOKUP(A866,'1.Портфель кредитів'!A:Z,14,FALSE),\"\")","v":""},null,null,null,null,null,null,null,null,{"$f":"IFERROR(VLOOKUP(A866,'1.Портфель кредитів'!A:Z,30,FALSE),\"\")","v":""},0,{"$error":"#VALUE!"},null,null,null,null,null,{"$f":"VLOOKUP(C866,Hidden_Словник!$A$2:C$81,3,FALSE)","v":{"$error":"#N/A"}},0,{"$f":"VLOOKUP(F866,Hidden_Словник!$W$2:$X$13,2,FALSE)","v":{"$error":"#N/A"}},{"$f":"#REF!","v":{"$error":"#REF!"}},{"$error":"#N/A"}]
[null,"",{"$f":"IFERROR(VLOOKUP(A867,'1.Портфель кредитів'!A:Z,3,FALSE),\"\")","v":""},{"$f":"IFERROR(VLOOKUP(A867,'1.Портфель кредитів'!A:Z,7,FALSE),\"\")","v":""},{"$f":"IFERROR(VLOOKUP(A867,'1.Портфель кредитів'!A:Z,14,FALSE),\"\")","v":""},null,null,null,null,null,null,null,null,{"$f":"IFERROR(VLOOKUP(A867,'1.Портфель кредитів'!A:Z,30,FALSE),\"\")","v":""},0,{"$error":"#VALUE!"},null,null,null,null,null,{"$f":"VLOOKUP(C867,Hidden_Словник!$A$2:C$81,3,FALSE)","v":{"$error":"#N/A"}},0,{"$f":"VLOOKUP(F867,Hidden_Словник!$W$2:$X$13,2,FALSE)","v":{"$error":"#N/A"}},{"$f":"#REF!","v":{"$error":"#REF!"}},{"$error":"#N/A"}]
[null,"",{"$f":"IFERROR(VLOOKUP(A868,'1.Портфель кредитів'!A:Z,3,FALSE),\"\")","v":""},{"$f":"IFERROR(VLOOKUP(A868,'1.Портфель кредитів'!A:Z,7,FALSE),\"\")","v":""},{"$f":"IFERROR(VLOOKUP(A868,'1.Портфель кредитів'!A:Z,14,FALSE),\"\")","v":""},null,null,null,null,null,null,null,null,{"$f":"IFERROR(VLOOKUP(A868,'1.Портфель кредитів'!A:Z,30,FALSE),\"\")","v":""},0,{"$error":"#VALUE!"},null,null,null,null,null,{"$f":"VLOOKUP(C868,Hidden_Словник!$A$2:C$81,3,FALSE)","v":{"$error":"#N/A"}},0,{"$f":"VLOOKUP(F868,Hidden_Словник!$W$2:$X$13,2,FALSE)","v":{"$error":"#N/A"}},{"$f":"#REF!","v":{"$error":"#REF!"}},{"$error":"#N/A"}]
[null,"",{"$f":"IFERROR(VLOOKUP(A869,'1.Портфель кредитів'!A:Z,3,FALSE),\"\")","v":""},{"$f":"IFERROR(VLOOKUP(A869,'1.Портфель кредитів'!A:Z,7,FALSE),\"\")","v":""},{"$f":"IFERROR(VLOOKUP(A869,'1.Портфель кредитів'!A:Z,14,FALSE),\"\")","v":""},null,null,null,null,null,null,null,null,{"$f":"IFERROR(VLOOKUP(A869,'1.Портфель кредитів'!A:Z,30,FALSE),\"\")","v":""},0,{"$error":"#VALUE!"},null,null,null,null,null,{"$f":"VLOOKUP(C869,Hidden_Словник!$A$2:C$81,3,FALSE)","v":{"$error":"#N/A"}},0,{"$f":"VLOOKUP(F869,Hidden_Словник!$W$2:$X$13,2,FALSE)","v":{"$error":"#N/A"}},{"$f":"#REF!","v":{"$error":"#REF!"}},{"$error":"#N/A"}]
[null,"",{"$f":"IFERROR(VLOOKUP(A870,'1.Портфель кредитів'!A:Z,3,FALSE),\"\")","v":""},{"$f":"IFERROR(VLOOKUP(A870,'1.Портфель кредитів'!A:Z,7,FALSE),\"\")","v":""},{"$f":"IFERROR(VLOOKUP(A870,'1.Портфель кредитів'!A:Z,14,FALSE),\"\")","v":""},null,null,null,null,null,null,null,null,{"$f":"IFERROR(VLOOKUP(A870,'1.Портфель кредитів'!A:Z,30,FALSE),\"\")","v":""},0,{"$f":"N870/O870","v":{"$error":"#VALUE!"}},null,null,null,null,null,{"$f":"VLOOKUP(C870,Hidden_Словник!$A$2:C$81,3,FALSE)","v":{"$error":"#N/A"}},0,{"$f":"VLOOKUP(F870,Hidden_Словник!$W$2:$X$13,2,FALSE)","v":{"$error":"#N/A"}},{"$f":"#REF!","v":{"$error":"#REF!"}},{"$error":"#N/A"}]
[null,"",{"$f":"IFERROR(VLOOKUP(A871,'1.Портфель кредитів'!A:Z,3,FALSE),\"\")","v":""},{"$f":"IFERROR(VLOOKUP(A871,'1.Портфель кредитів'!A:Z,7,FALSE),\"\")","v":""},{"$f":"IFERROR(VLOOKUP(A871,'1.Портфель кредитів'!A:Z,14,FALSE),\"\")","v":""},null,null,null,null,null,null,null,null,{"$f":"IFERROR(VLOOKUP(A871,'1.Портфель кредитів'!A:Z,30,FALSE),\"\")","v":""},0,{"$error":"#VALUE!"},null,null,null,null,null,{"$f":"VLOOKUP(C871,Hidden_Словник!$A$2:C$81,3,FALSE)","v":{"$error":"#N/A"}},0,{"$f":"VLOOKUP(F871,Hidden_Словник!$W$2:$X$13,2,FALSE)","v":{"$error":"#N/A"}},{"$f":"#REF!","v":{"$error":"#REF!"}},{"$error":"#N/A"}]
[null,"",{"$f":"IFERROR(VLOOKUP(A872,'1.Портфель кредитів'!A:Z,3,FALSE),\"\")","v":""},{"$f":"IFERROR(VLOOKUP(A872,'1.Портфель кредитів'!A:Z,7,FALSE),\"\")","v":""},{"$f":"IFERROR(VLOOKUP(A872,'1.Портфель кредитів'!A:Z,14,FALSE),\"\")","v":""},null,null,null,null,null,null,null,null,{"$f":"IFERROR(VLOOKUP(A872,'1.Портфель кредитів'!A:Z,30,FALSE),\"\")","v":""},0,{"$error":"#VALUE!"},null,null,null,null,null,{"$f":"VLOOKUP(C872,Hidden_Словник!$A$2:C$81,3,FALSE)","v":{"$error":"#N/A"}},0,{"$f":"VLOOKUP(F872,Hidden_Словник!$W$2:$X$13,2,FALSE)","v":{"$error":"#N/A"}},{"$f":"#REF!","v":{"$error":"#REF!"}},{"$error":"#N/A"}]
[null,"",{"$f":"IFERROR(VLOOKUP(A873,'1.Портфель кредитів'!A:Z,3,FALSE),\"\")","v":""},{"$f":"IFERROR(VLOOKUP(A873,'1.Портфель кредитів'!A:Z,7,FALSE),\"\")","v":""},{"$f":"IFERROR(VLOOKUP(A873,'1.Портфель кредитів'!A:Z,14,FALSE),\"\")","v":""},null,null,null,null,null,null,null,null,{"$f":"IFERROR(VLOOKUP(A873,'1.Портфель кредитів'!A:Z,30,FALSE),\"\")","v":""},0,{"$error":"#VALUE!"},null,null,null,null,null,{"$f":"VLOOKUP(C873,Hidden_Словник!$A$2:C$81,3,FALSE)","v":{"$error":"#N/A"}},0,{"$f":"VLOOKUP(F873,Hidden_Словник!$W$2:$X$13,2,FALSE)","v":{"$error":"#N/A"}},{"$f":"#REF!","v":{"$error":"#REF!"}},{"$error":"#N/A"}]
[null,"",{"$f":"IFERROR(VLOOKUP(A874,'1.Портфель кредитів'!A:Z,3,FALSE),\"\")","v":""},{"$f":"IFERROR(VLOOKUP(A874,'1.Портфель кредитів'!A:Z,7,FALSE),\"\")","v":""},{"$f":"IFERROR(VLOOKUP(A874,'1.Портфель кредитів'!A:Z,14,FALSE),\"\")","v":""},null,null,null,null,null,null,null,null,{"$f":"IFERROR(VLOOKUP(A874,'1.Портфель кредитів'!A:Z,30,FALSE),\"\")","v":""},0,{"$error":"#VALUE!"},null,null,null,null,null,{"$f":"VLOOKUP(C874,Hidden_Словник!$A$2:C$81,3,FALSE)","v":{"$error":"#N/A"}},0,{"$f":"VLOOKUP(F874,Hidden_Словник!$W$2:$X$13,2,FALSE)","v":{"$error":"#N/A"}},{"$f":"#REF!","v":{"$error":"#REF!"}},{"$error":"#N/A"}]
[null,"",{"$f":"IFERROR(VLOOKUP(A875,'1.Портфель кредитів'!A:Z,3,FALSE),\"\")","v":""},{"$f":"IFERROR(VLOOKUP(A875,'1.Портфель кредитів'!A:Z,7,FALSE),\"\")","v":""},{"$f":"IFERROR(VLOOKUP(A875,'1.Портфель кредитів'!A:Z,14,FALSE),\"\")","v":""},null,null,null,null,null,null,null,null,{"$f":"IFERROR(VLOOKUP(A875,'1.Портфель кредитів'!A:Z,30,FALSE),\"\")","v":""},0,{"$error":"#VALUE!"},null,null,null,null,null,{"$f":"VLOOKUP(C875,Hidden_Словник!$A$2:C$81,3,FALSE)","v":{"$error":"#N/A"}},0,{"$f":"VLOOKUP(F875,Hidden_Словник!$W$2:$X$13,2,FALSE)","v":{"$error":"#N/A"}},{"$f":"#REF!","v":{"$error":"#REF!"}},{"$error":"#N/A"}]
[null,"",{"$f":"IFERROR(VLOOKUP(A876,'1.Портфель кредитів'!A:Z,3,FALSE),\"\")","v":""},{"$f":"IFERROR(VLOOKUP(A876,'1.Портфель кредитів'!A:Z,7,FALSE),\"\")","v":""},{"$f":"IFERROR(VLOOKUP(A876,'1.Портфель кредитів'!A:Z,14,FALSE),\"\")","v":""},null,null,null,null,null,null,null,null,{"$f":"IFERROR(VLOOKUP(A876,'1.Портфель кредитів'!A:Z,30,FALSE),\"\")","v":""},0,{"$error":"#VALUE!"},null,null,null,null,null,{"$f":"VLOOKUP(C876,Hidden_Словник!$A$2:C$81,3,FALSE)","v":{"$error":"#N/A"}},0,{"$f":"VLOOKUP(F876,Hidden_Словник!$W$2:$X$13,2,FALSE)","v":{"$error":"#N/A"}},{"$f":"#REF!","v":{"$error":"#REF!"}},{"$error":"#N/A"}]
[null,"",{"$f":"IFERROR(VLOOKUP(A877,'1.Портфель кредитів'!A:Z,3,FALSE),\"\")","v":""},{"$f":"IFERROR(VLOOKUP(A877,'1.Портфель кредитів'!A:Z,7,FALSE),\"\")","v":""},{"$f":"IFERROR(VLOOKUP(A877,'1.Портфель кредитів'!A:Z,14,FALSE),\"\")","v":""},null,null,null,null,null,null,null,null,{"$f":"IFERROR(VLOOKUP(A877,'1.Портфель кредитів'!A:Z,30,FALSE),\"\")","v":""},0,{"$error":"#VALUE!"},null,null,null,null,null,{"$f":"VLOOKUP(C877,Hidden_Словник!$A$2:C$81,3,FALSE)","v":{"$error":"#N/A"}},0,{"$f":"VLOOKUP(F877,Hidden_Словник!$W$2:$X$13,2,FALSE)","v":{"$error":"#N/A"}},{"$f":"#REF!","v":{"$error":"#REF!"}},{"$error":"#N/A"}]
[null,"",{"$f":"IFERROR(VLOOKUP(A878,'1.Портфель кредитів'!A:Z,3,FALSE),\"\")","v":""},{"$f":"IFERROR(VLOOKUP(A878,'1.Портфель кредитів'!A:Z,7,FALSE),\"\")","v":""},{"$f":"IFERROR(VLOOKUP(A878,'1.Портфель кредитів'!A:Z,14,FALSE),\"\")","v":""},null,null,null,null,null,null,null,null,{"$f":"IFERROR(VLOOKUP(A878,'1.Портфель кредитів'!A:Z,30,FALSE),\"\")","v":""},0,{"$error":"#VALUE!"},null,null,null,null,null,{"$f":"VLOOKUP(C878,Hidden_Словник!$A$2:C$81,3,FALSE)","v":{"$error":"#N/A"}},0,{"$f":"VLOOKUP(F878,Hidden_Словник!$W$2:$X$13,2,FALSE)","v":{"$error":"#N/A"}},{"$f":"#REF!","v":{"$error":"#REF!"}},{"$error":"#N/A"}]
[null,"",{"$f":"IFERROR(VLOOKUP(A879,'1.Портфель кредитів'!A:Z,3,FALSE),\"\")","v":""},{"$f":"IFERROR(VLOOKUP(A879,'1.Портфель кредитів'!A:Z,7,FALSE),\"\")","v":""},{"$f":"IFERROR(VLOOKUP(A879,'1.Портфель кредитів'!A:Z,14,FALSE),\"\")","v":""},null,null,null,null,null,null,null,null,{"$f":"IFERROR(VLOOKUP(A879,'1.Портфель кредитів'!A:Z,30,FALSE),\"\")","v":""},0,{"$error":"#VALUE!"},null,null,null,null,null,{"$f":"VLOOKUP(C879,Hidden_Словник!$A$2:C$81,3,FALSE)","v":{"$error":"#N/A"}},0,{"$f":"VLOOKUP(F879,Hidden_Словник!$W$2:$X$13,2,FALSE)","v":{"$error":"#N/A"}},{"$f":"#REF!","v":{"$error":"#REF!"}},{"$error":"#N/A"}]
[null,"",{"$f":"IFERROR(VLOOKUP(A880,'1.Портфель кредитів'!A:Z,3,FALSE),\"\")","v":""},{"$f":"IFERROR(VLOOKUP(A880,'1.Портфель кредитів'!A:Z,7,FALSE),\"\")","v":""},{"$f":"IFERROR(VLOOKUP(A880,'1.Портфель кредитів'!A:Z,14,FALSE),\"\")","v":""},null,null,null,null,null,null,null,null,{"$f":"IFERROR(VLOOKUP(A880,'1.Портфель кредитів'!A:Z,30,FALSE),\"\")","v":""},0,{"$error":"#VALUE!"},null,null,null,null,null,{"$f":"VLOOKUP(C880,Hidden_Словник!$A$2:C$81,3,FALSE)","v":{"$error":"#N/A"}},0,{"$f":"VLOOKUP(F880,Hidden_Словник!$W$2:$X$13,2,FALSE)","v":{"$error":"#N/A"}},{"$f":"#REF!","v":{"$error":"#REF!"}},{"$error":"#N/A"}]
[null,"",{"$f":"IFERROR(VLOOKUP(A881,'1.Портфель кредитів'!A:Z,3,FALSE),\"\")","v":""},{"$f":"IFERROR(VLOOKUP(A881,'1.Портфель кредитів'!A:Z,7,FALSE),\"\")","v":""},{"$f":"IFERROR(VLOOKUP(A881,'1.Портфель кредитів'!A:Z,14,FALSE),\"\")","v":""},null,null,null,null,null,null,null,null,{"$f":"IFERROR(VLOOKUP(A881,'1.Портфель кредитів'!A:Z,30,FALSE),\"\")","v":""},0,{"$error":"#VALUE!"},null,null,null,null,null,{"$f":"VLOOKUP(C881,Hidden_Словник!$A$2:C$81,3,FALSE)","v":{"$error":"#N/A"}},0,{"$f":"VLOOKUP(F881,Hidden_Словник!$W$2:$X$13,2,FALSE)","v":{"$error":"#N/A"}},{"$f":"#REF!","v":{"$error":"#REF!"}},{"$error":"#N/A"}]
[null,"",{"$f":"IFERROR(VLOOKUP(A882,'1.Портфель кредитів'!A:Z,3,FALSE),\"\")","v":""},{"$f":"IFERROR(VLOOKUP(A882,'1.Портфель кредитів'!A:Z,7,FALSE),\"\")","v":""},{"$f":"IFERROR(VLOOKUP(A882,'1.Портфель кредитів'!A:Z,14,FALSE),\"\")","v":""},null,null,null,null,null,null,null,null,{"$f":"IFERROR(VLOOKUP(A882,'1.Портфель кредитів'!A:Z,30,FALSE),\"\")","v":""},0,{"$error":"#VALUE!"},null,null,null,null,null,{"$f":"VLOOKUP(C882,Hidden_Словник!$A$2:C$81,3,FALSE)","v":{"$error":"#N/A"}},0,{"$f":"VLOOKUP(F882,Hidden_Словник!$W$2:$X$13,2,FALSE)","v":{"$error":"#N/A"}},{"$f":"#REF!","v":{"$error":"#REF!"}},{"$error":"#N/A"}]
[null,"",{"$f":"IFERROR(VLOOKUP(A883,'1.Портфель кредитів'!A:Z,3,FALSE),\"\")","v":""},{"$f":"IFERROR(VLOOKUP(A883,'1.Портфель кредитів'!A:Z,7,FALSE),\"\")","v":""},{"$f":"IFERROR(VLOOKUP(A883,'1.Портфель кредитів'!A:Z,14,FALSE),\"\")","v":""},null,null,null,null,null,null,null,null,{"$f":"IFERROR(VLOOKUP(A883,'1.Портфель кредитів'!A:Z,30,FALSE),\"\")","v":""},0,{"$error":"#VALUE!"},null,null,null,null,null,{"$f":"VLOOKUP(C883,Hidden_Словник!$A$2:C$81,3,FALSE)","v":{"$error":"#N/A"}},0,{"$f":"VLOOKUP(F883,Hidden_Словник!$W$2:$X$13,2,FALSE)","v":{"$error":"#N/A"}},{"$f":"#REF!","v":{"$error":"#REF!"}},{"$error":"#N/A"}]
[null,"",{"$f":"IFERROR(VLOOKUP(A884,'1.Портфель кредитів'!A:Z,3,FALSE),\"\")","v":""},{"$f":"IFERROR(VLOOKUP(A884,'1.Портфель кредитів'!A:Z,7,FALSE),\"\")","v":""},{"$f":"IFERROR(VLOOKUP(A884,'1.Портфель кредитів'!A:Z,14,FALSE),\"\")","v":""},null,null,null,null,null,null,null,null,{"$f":"IFERROR(VLOOKUP(A884,'1.Портфель кредитів'!A:Z,30,FALSE),\"\")","v":""},0,{"$error":"#VALUE!"},null,null,null,null,null,{"$f":"VLOOKUP(C884,Hidden_Словник!$A$2:C$81,3,FALSE)","v":{"$error":"#N/A"}},0,{"$f":"VLOOKUP(F884,Hidden_Словник!$W$2:$X$13,2,FALSE)","v":{"$error":"#N/A"}},{"$f":"#REF!","v":{"$error":"#REF!"}},{"$error":"#N/A"}]
[null,"",{"$f":"IFERROR(VLOOKUP(A885,'1.Портфель кредитів'!A:Z,3,FALSE),\"\")","v":""},{"$f":"IFERROR(VLOOKUP(A885,'1.Портфель кредитів'!A:Z,7,FALSE),\"\")","v":""},{"$f":"IFERROR(VLOOKUP(A885,'1.Портфель кредитів'!A:Z,14,FALSE),\"\")","v":""},null,null,null,null,null,null,null,null,{"$f":"IFERROR(VLOOKUP(A885,'1.Портфель кредитів'!A:Z,30,FALSE),\"\")","v":""},0,{"$error":"#VALUE!"},null,null,null,null,null,{"$f":"VLOOKUP(C885,Hidden_Словник!$A$2:C$81,3,FALSE)","v":{"$error":"#N/A"}},0,{"$f":"VLOOKUP(F885,Hidden_Словник!$W$2:$X$13,2,FALSE)","v":{"$error":"#N/A"}},{"$f":"#REF!","v":{"$error":"#REF!"}},{"$error":"#N/A"}]
[null,"",{"$f":"IFERROR(VLOOKUP(A886,'1.Портфель кредитів'!A:Z,3,FALSE),\"\")","v":""},{"$f":"IFERROR(VLOOKUP(A886,'1.Портфель кредитів'!A:Z,7,FALSE),\"\")","v":""},{"$f":"IFERROR(VLOOKUP(A886,'1.Портфель кредитів'!A:Z,14,FALSE),\"\")","v":""},null,null,null,null,null,null,null,null,{"$f":"IFERROR(VLOOKUP(A886,'1.Портфель кредитів'!A:Z,30,FALSE),\"\")","v":""},0,{"$error":"#VALUE!"},null,null,null,null,null,{"$f":"VLOOKUP(C886,Hidden_Словник!$A$2:C$81,3,FALSE)","v":{"$error":"#N/A"}},0,{"$f":"VLOOKUP(F886,Hidden_Словник!$W$2:$X$13,2,FALSE)","v":{"$error":"#N/A"}},{"$f":"#REF!","v":{"$error":"#REF!"}},{"$error":"#N/A"}]
[null,"",{"$f":"IFERROR(VLOOKUP(A887,'1.Портфель кредитів'!A:Z,3,FALSE),\"\")","v":""},{"$f":"IFERROR(VLOOKUP(A887,'1.Портфель кредитів'!A:Z,7,FALSE),\"\")","v":""},{"$f":"IFERROR(VLOOKUP(A887,'1.Портфель кредитів'!A:Z,14,FALSE),\"\")","v":""},null,null,null,null,null,null,null,null,{"$f":"IFERROR(VLOOKUP(A887,'1.Портфель кредитів'!A:Z,30,FALSE),\"\")","v":""},0,{"$error":"#VALUE!"},null,null,null,null,null,{"$f":"VLOOKUP(C887,Hidden_Словник!$A$2:C$81,3,FALSE)","v":{"$error":"#N/A"}},0,{"$f":"VLOOKUP(F887,Hidden_Словник!$W$2:$X$13,2,FALSE)","v":{"$error":"#N/A"}},{"$f":"#REF!","v":{"$error":"#REF!"}},{"$error":"#N/A"}]
[null,"",{"$f":"IFERROR(VLOOKUP(A888,'1.Портфель кредитів'!A:Z,3,FALSE),\"\")","v":""},{"$f":"IFERROR(VLOOKUP(A888,'1.Портфель кредитів'!A:Z,7,FALSE),\"\")","v":""},{"$f":"IFERROR(VLOOKUP(A888,'1.Портфель кредитів'!A:Z,14,FALSE),\"\")","v":""},null,null,null,null,null,null,null,null,{"$f":"IFERROR(VLOOKUP(A888,'1.Портфель кредитів'!A:Z,30,FALSE),\"\")","v":""},0,{"$error":"#VALUE!"},null,null,null,null,null,{"$f":"VLOOKUP(C888,Hidden_Словник!$A$2:C$81,3,FALSE)","v":{"$error":"#N/A"}},0,{"$f":"VLOOKUP(F888,Hidden_Словник!$W$2:$X$13,2,FALSE)","v":{"$error":"#N/A"}},{"$f":"#REF!","v":{"$error":"#REF!"}},{"$error":"#N/A"}]
[null,"",{"$f":"IFERROR(VLOOKUP(A889,'1.Портфель кредитів'!A:Z,3,FALSE),\"\")","v":""},{"$f":"IFERROR(VLOOKUP(A889,'1.Портфель кредитів'!A:Z,7,FALSE),\"\")","v":""},{"$f":"IFERROR(VLOOKUP(A889,'1.Портфель кредитів'!A:Z,14,FALSE),\"\")","v":""},null,null,null,null,null,null,null,null,{"$f":"IFERROR(VLOOKUP(A889,'1.Портфель кредитів'!A:Z,30,FALSE),\"\")","v":""},0,{"$error":"#VALUE!"},null,null,null,null,null,{"$f":"VLOOKUP(C889,Hidden_Словник!$A$2:C$81,3,FALSE)","v":{"$error":"#N/A"}},0,{"$f":"VLOOKUP(F889,Hidden_Словник!$W$2:$X$13,2,FALSE)","v":{"$error":"#N/A"}},{"$f":"#REF!","v":{"$error":"#REF!"}},{"$error":"#N/A"}]
[null,"",{"$f":"IFERROR(VLOOKUP(A890,'1.Портфель кредитів'!A:Z,3,FALSE),\"\")","v":""},{"$f":"IFERROR(VLOOKUP(A890,'1.Портфель кредитів'!A:Z,7,FALSE),\"\")","v":""},{"$f":"IFERROR(VLOOKUP(A890,'1.Портфель кредитів'!A:Z,14,FALSE),\"\")","v":""},null,null,null,null,null,null,null,null,{"$f":"IFERROR(VLOOKUP(A890,'1.Портфель кредитів'!A:Z,30,FALSE),\"\")","v":""},0,{"$error":"#VALUE!"},null,null,null,null,null,{"$f":"VLOOKUP(C890,Hidden_Словник!$A$2:C$81,3,FALSE)","v":{"$error":"#N/A"}},0,{"$f":"VLOOKUP(F890,Hidden_Словник!$W$2:$X$13,2,FALSE)","v":{"$error":"#N/A"}},{"$f":"#REF!","v":{"$error":"#REF!"}},{"$error":"#N/A"}]
[null,"",{"$f":"IFERROR(VLOOKUP(A891,'1.Портфель кредитів'!A:Z,3,FALSE),\"\")","v":""},{"$f":"IFERROR(VLOOKUP(A891,'1.Портфель кредитів'!A:Z,7,FALSE),\"\")","v":""},{"$f":"IFERROR(VLOOKUP(A891,'1.Портфель кредитів'!A:Z,14,FALSE),\"\")","v":""},null,null,null,null,null,null,null,null,{"$f":"IFERROR(VLOOKUP(A891,'1.Портфель кредитів'!A:Z,30,FALSE),\"\")","v":""},0,{"$error":"#VALUE!"},null,null,null,null,null,{"$f":"VLOOKUP(C891,Hidden_Словник!$A$2:C$81,3,FALSE)","v":{"$error":"#N/A"}},0,{"$f":"VLOOKUP(F891,Hidden_Словник!$W$2:$X$13,2,FALSE)","v":{"$error":"#N/A"}},{"$f":"#REF!","v":{"$error":"#REF!"}},{"$error":"#N/A"}]
[null,"",{"$f":"IFERROR(VLOOKUP(A892,'1.Портфель кредитів'!A:Z,3,FALSE),\"\")","v":""},{"$f":"IFERROR(VLOOKUP(A892,'1.Портфель кредитів'!A:Z,7,FALSE),\"\")","v":""},{"$f":"IFERROR(VLOOKUP(A892,'1.Портфель кредитів'!A:Z,14,FALSE),\"\")","v":""},null,null,null,null,null,null,null,null,{"$f":"IFERROR(VLOOKUP(A892,'1.Портфель кредитів'!A:Z,30,FALSE),\"\")","v":""},0,{"$error":"#VALUE!"},null,null,null,null,null,{"$f":"VLOOKUP(C892,Hidden_Словник!$A$2:C$81,3,FALSE)","v":{"$error":"#N/A"}},0,{"$f":"VLOOKUP(F892,Hidden_Словник!$W$2:$X$13,2,FALSE)","v":{"$error":"#N/A"}},{"$f":"#REF!","v":{"$error":"#REF!"}},{"$error":"#N/A"}]
[null,"",{"$f":"IFERROR(VLOOKUP(A893,'1.Портфель кредитів'!A:Z,3,FALSE),\"\")","v":""},{"$f":"IFERROR(VLOOKUP(A893,'1.Портфель кредитів'!A:Z,7,FALSE),\"\")","v":""},{"$f":"IFERROR(VLOOKUP(A893,'1.Портфель кредитів'!A:Z,14,FALSE),\"\")","v":""},null,null,null,null,null,null,null,null,{"$f":"IFERROR(VLOOKUP(A893,'1.Портфель кредитів'!A:Z,30,FALSE),\"\")","v":""},0,{"$error":"#VALUE!"},null,null,null,null,null,{"$f":"VLOOKUP(C893,Hidden_Словник!$A$2:C$81,3,FALSE)","v":{"$error":"#N/A"}},0,{"$f":"VLOOKUP(F893,Hidden_Словник!$W$2:$X$13,2,FALSE)","v":{"$error":"#N/A"}},{"$f":"#REF!","v":{"$error":"#REF!"}},{"$error":"#N/A"}]
[null,{"$f":"IFERROR(Z894,\"\")","v":""},{"$f":"IFERROR(VLOOKUP(A894,'1.Портфель кредитів'!A:Z,3,FALSE),\"\")","v":""},{"$f":"IFERROR(VLOOKUP(A894,'1.Портфель кредитів'!A:Z,7,FALSE),\"\")","v":""},{"$f":"IFERROR(VLOOKUP(A894,'1.Портфель кредитів'!A:Z,14,FALSE),\"\")","v":""},null,null,null,null,null,null,null,null,{"$f":"IFERROR(VLOOKUP(A894,'1.Портфель кредитів'!A:Z,30,FALSE),\"\")","v":""},0,{"$error":"#VALUE!"},null,null,null,null,null,{"$f":"VLOOKUP(C894,Hidden_Словник!$A$2:C$81,3,FALSE)","v":{"$error":"#N/A"}},0,{"$f":"VLOOKUP(F894,Hidden_Словник!$W$2:$X$13,2,FALSE)","v":{"$error":"#N/A"}},{"$f":"#REF!","v":{"$error":"#REF!"}},{"$f":"V894&\"_\"&W894&X894&Y894","v":{"$error":"#N/A"}}]
[null,"",{"$f":"IFERROR(VLOOKUP(A895,'1.Портфель кредитів'!A:Z,3,FALSE),\"\")","v":""},{"$f":"IFERROR(VLOOKUP(A895,'1.Портфель кредитів'!A:Z,7,FALSE),\"\")","v":""},{"$f":"IFERROR(VLOOKUP(A895,'1.Портфель кредитів'!A:Z,14,FALSE),\"\")","v":""},null,null,null,null,null,null,null,null,{"$f":"IFERROR(VLOOKUP(A895,'1.Портфель кредитів'!A:Z,30,FALSE),\"\")","v":""},0,{"$error":"#VALUE!"},null,null,null,null,null,{"$f":"VLOOKUP(C895,Hidden_Словник!$A$2:C$81,3,FALSE)","v":{"$error":"#N/A"}},0,{"$f":"VLOOKUP(F895,Hidden_Словник!$W$2:$X$13,2,FALSE)","v":{"$error":"#N/A"}},{"$f":"#REF!","v":{"$error":"#REF!"}},{"$error":"#N/A"}]
[null,"",{"$f":"IFERROR(VLOOKUP(A896,'1.Портфель кредитів'!A:Z,3,FALSE),\"\")","v":""},{"$f":"IFERROR(VLOOKUP(A896,'1.Портфель кредитів'!A:Z,7,FALSE),\"\")","v":""},{"$f":"IFERROR(VLOOKUP(A896,'1.Портфель кредитів'!A:Z,14,FALSE),\"\")","v":""},null,null,null,null,null,null,null,null,{"$f":"IFERROR(VLOOKUP(A896,'1.Портфель кредитів'!A:Z,30,FALSE),\"\")","v":""},0,{"$error":"#VALUE!"},null,null,null,null,null,{"$f":"VLOOKUP(C896,Hidden_Словник!$A$2:C$81,3,FALSE)","v":{"$error":"#N/A"}},0,{"$f":"VLOOKUP(F896,Hidden_Словник!$W$2:$X$13,2,FALSE)","v":{"$error":"#N/A"}},{"$f":"#REF!","v":{"$error":"#REF!"}},{"$error":"#N/A"}]
[null,"",{"$f":"IFERROR(VLOOKUP(A897,'1.Портфель кредитів'!A:Z,3,FALSE),\"\")","v":""},{"$f":"IFERROR(VLOOKUP(A897,'1.Портфель кредитів'!A:Z,7,FALSE),\"\")","v":""},{"$f":"IFERROR(VLOOKUP(A897,'1.Портфель кредитів'!A:Z,14,FALSE),\"\")","v":""},null,null,null,null,null,null,null,null,{"$f":"IFERROR(VLOOKUP(A897,'1.Портфель кредитів'!A:Z,30,FALSE),\"\")","v":""},0,{"$error":"#VALUE!"},null,null,null,null,null,{"$f":"VLOOKUP(C897,Hidden_Словник!$A$2:C$81,3,FALSE)","v":{"$error":"#N/A"}},0,{"$f":"VLOOKUP(F897,Hidden_Словник!$W$2:$X$13,2,FALSE)","v":{"$error":"#N/A"}},{"$f":"#REF!","v":{"$error":"#REF!"}},{"$error":"#N/A"}]
[null,"",{"$f":"IFERROR(VLOOKUP(A898,'1.Портфель кредитів'!A:Z,3,FALSE),\"\")","v":""},{"$f":"IFERROR(VLOOKUP(A898,'1.Портфель кредитів'!A:Z,7,FALSE),\"\")","v":""},{"$f":"IFERROR(VLOOKUP(A898,'1.Портфель кредитів'!A:Z,14,FALSE),\"\")","v":""},null,null,null,null,null,null,null,null,{"$f":"IFERROR(VLOOKUP(A898,'1.Портфель кредитів'!A:Z,30,FALSE),\"\")","v":""},0,{"$error":"#VALUE!"},null,null,null,null,null,{"$f":"VLOOKUP(C898,Hidden_Словник!$A$2:C$81,3,FALSE)","v":{"$error":"#N/A"}},0,{"$f":"VLOOKUP(F898,Hidden_Словник!$W$2:$X$13,2,FALSE)","v":{"$error":"#N/A"}},{"$f":"#REF!","v":{"$error":"#REF!"}},{"$error":"#N/A"}]
[null,"",{"$f":"IFERROR(VLOOKUP(A899,'1.Портфель кредитів'!A:Z,3,FALSE),\"\")","v":""},{"$f":"IFERROR(VLOOKUP(A899,'1.Портфель кредитів'!A:Z,7,FALSE),\"\")","v":""},{"$f":"IFERROR(VLOOKUP(A899,'1.Портфель кредитів'!A:Z,14,FALSE),\"\")","v":""},null,null,null,null,null,null,null,null,{"$f":"IFERROR(VLOOKUP(A899,'1.Портфель кредитів'!A:Z,30,FALSE),\"\")","v":""},0,{"$error":"#VALUE!"},null,null,null,null,null,{"$f":"VLOOKUP(C899,Hidden_Словник!$A$2:C$81,3,FALSE)","v":{"$error":"#N/A"}},0,{"$f":"VLOOKUP(F899,Hidden_Словник!$W$2:$X$13,2,FALSE)","v":{"$error":"#N/A"}},{"$f":"#REF!","v":{"$error":"#REF!"}},{"$error":"#N/A"}]
[null,"",{"$f":"IFERROR(VLOOKUP(A900,'1.Портфель кредитів'!A:Z,3,FALSE),\"\")","v":""},{"$f":"IFERROR(VLOOKUP(A900,'1.Портфель кредитів'!A:Z,7,FALSE),\"\")","v":""},{"$f":"IFERROR(VLOOKUP(A900,'1.Портфель кредитів'!A:Z,14,FALSE),\"\")","v":""},null,null,null,null,null,null,null,null,{"$f":"IFERROR(VLOOKUP(A900,'1.Портфель кредитів'!A:Z,30,FALSE),\"\")","v":""},0,{"$error":"#VALUE!"},null,null,null,null,null,{"$f":"VLOOKUP(C900,Hidden_Словник!$A$2:C$81,3,FALSE)","v":{"$error":"#N/A"}},0,{"$f":"VLOOKUP(F900,Hidden_Словник!$W$2:$X$13,2,FALSE)","v":{"$error":"#N/A"}},{"$f":"#REF!","v":{"$error":"#REF!"}},{"$error":"#N/A"}]
[null,"",{"$f":"IFERROR(VLOOKUP(A901,'1.Портфель кредитів'!A:Z,3,FALSE),\"\")","v":""},{"$f":"IFERROR(VLOOKUP(A901,'1.Портфель кредитів'!A:Z,7,FALSE),\"\")","v":""},{"$f":"IFERROR(VLOOKUP(A901,'1.Портфель кредитів'!A:Z,14,FALSE),\"\")","v":""},null,null,null,null,null,null,null,null,{"$f":"IFERROR(VLOOKUP(A901,'1.Портфель кредитів'!A:Z,30,FALSE),\"\")","v":""},0,{"$error":"#VALUE!"},null,null,null,null,null,{"$f":"VLOOKUP(C901,Hidden_Словник!$A$2:C$81,3,FALSE)","v":{"$error":"#N/A"}},0,{"$f":"VLOOKUP(F901,Hidden_Словник!$W$2:$X$13,2,FALSE)","v":{"$error":"#N/A"}},{"$f":"#REF!","v":{"$error":"#REF!"}},{"$error":"#N/A"}]
[null,"",{"$f":"IFERROR(VLOOKUP(A902,'1.Портфель кредитів'!A:Z,3,FALSE),\"\")","v":""},{"$f":"IFERROR(VLOOKUP(A902,'1.Портфель кредитів'!A:Z,7,FALSE),\"\")","v":""},{"$f":"IFERROR(VLOOKUP(A902,'1.Портфель кредитів'!A:Z,14,FALSE),\"\")","v":""},null,null,null,null,null,null,null,null,{"$f":"IFERROR(VLOOKUP(A902,'1.Портфель кредитів'!A:Z,30,FALSE),\"\")","v":""},0,{"$error":"#VALUE!"},null,null,null,null,null,{"$f":"VLOOKUP(C902,Hidden_Словник!$A$2:C$81,3,FALSE)","v":{"$error":"#N/A"}},0,{"$f":"VLOOKUP(F902,Hidden_Словник!$W$2:$X$13,2,FALSE)","v":{"$error":"#N/A"}},{"$f":"#REF!","v":{"$error":"#REF!"}},{"$error":"#N/A"}]
[null,"",{"$f":"IFERROR(VLOOKUP(A903,'1.Портфель кредитів'!A:Z,3,FALSE),\"\")","v":""},{"$f":"IFERROR(VLOOKUP(A903,'1.Портфель кредитів'!A:Z,7,FALSE),\"\")","v":""},{"$f":"IFERROR(VLOOKUP(A903,'1.Портфель кредитів'!A:Z,14,FALSE),\"\")","v":""},null,null,null,null,null,null,null,null,{"$f":"IFERROR(VLOOKUP(A903,'1.Портфель кредитів'!A:Z,30,FALSE),\"\")","v":""},0,{"$error":"#VALUE!"},null,null,null,null,null,{"$f":"VLOOKUP(C903,Hidden_Словник!$A$2:C$81,3,FALSE)","v":{"$error":"#N/A"}},0,{"$f":"VLOOKUP(F903,Hidden_Словник!$W$2:$X$13,2,FALSE)","v":{"$error":"#N/A"}},{"$f":"#REF!","v":{"$error":"#REF!"}},{"$error":"#N/A"}]
[null,"",{"$f":"IFERROR(VLOOKUP(A904,'1.Портфель кредитів'!A:Z,3,FALSE),\"\")","v":""},{"$f":"IFERROR(VLOOKUP(A904,'1.Портфель кредитів'!A:Z,7,FALSE),\"\")","v":""},{"$f":"IFERROR(VLOOKUP(A904,'1.Портфель кредитів'!A:Z,14,FALSE),\"\")","v":""},null,null,null,null,null,null,null,null,{"$f":"IFERROR(VLOOKUP(A904,'1.Портфель кредитів'!A:Z,30,FALSE),\"\")","v":""},0,{"$error":"#VALUE!"},null,null,null,null,null,{"$f":"VLOOKUP(C904,Hidden_Словник!$A$2:C$81,3,FALSE)","v":{"$error":"#N/A"}},0,{"$f":"VLOOKUP(F904,Hidden_Словник!$W$2:$X$13,2,FALSE)","v":{"$error":"#N/A"}},{"$f":"#REF!","v":{"$error":"#REF!"}},{"$error":"#N/A"}]
[null,"",{"$f":"IFERROR(VLOOKUP(A905,'1.Портфель кредитів'!A:Z,3,FALSE),\"\")","v":""},{"$f":"IFERROR(VLOOKUP(A905,'1.Портфель кредитів'!A:Z,7,FALSE),\"\")","v":""},{"$f":"IFERROR(VLOOKUP(A905,'1.Портфель кредитів'!A:Z,14,FALSE),\"\")","v":""},null,null,null,null,null,null,null,null,{"$f":"IFERROR(VLOOKUP(A905,'1.Портфель кредитів'!A:Z,30,FALSE),\"\")","v":""},0,{"$error":"#VALUE!"},null,null,null,null,null,{"$f":"VLOOKUP(C905,Hidden_Словник!$A$2:C$81,3,FALSE)","v":{"$error":"#N/A"}},0,{"$f":"VLOOKUP(F905,Hidden_Словник!$W$2:$X$13,2,FALSE)","v":{"$error":"#N/A"}},{"$f":"#REF!","v":{"$error":"#REF!"}},{"$error":"#N/A"}]
[null,"",{"$f":"IFERROR(VLOOKUP(A906,'1.Портфель кредитів'!A:Z,3,FALSE),\"\")","v":""},{"$f":"IFERROR(VLOOKUP(A906,'1.Портфель кредитів'!A:Z,7,FALSE),\"\")","v":""},{"$f":"IFERROR(VLOOKUP(A906,'1.Портфель кредитів'!A:Z,14,FALSE),\"\")","v":""},null,null,null,null,null,null,null,null,{"$f":"IFERROR(VLOOKUP(A906,'1.Портфель кредитів'!A:Z,30,FALSE),\"\")","v":""},0,{"$error":"#VALUE!"},null,null,null,null,null,{"$f":"VLOOKUP(C906,Hidden_Словник!$A$2:C$81,3,FALSE)","v":{"$error":"#N/A"}},0,{"$f":"VLOOKUP(F906,Hidden_Словник!$W$2:$X$13,2,FALSE)","v":{"$error":"#N/A"}},{"$f":"#REF!","v":{"$error":"#REF!"}},{"$error":"#N/A"}]
[null,"",{"$f":"IFERROR(VLOOKUP(A907,'1.Портфель кредитів'!A:Z,3,FALSE),\"\")","v":""},{"$f":"IFERROR(VLOOKUP(A907,'1.Портфель кредитів'!A:Z,7,FALSE),\"\")","v":""},{"$f":"IFERROR(VLOOKUP(A907,'1.Портфель кредитів'!A:Z,14,FALSE),\"\")","v":""},null,null,null,null,null,null,null,null,{"$f":"IFERROR(VLOOKUP(A907,'1.Портфель кредитів'!A:Z,30,FALSE),\"\")","v":""},0,{"$error":"#VALUE!"},null,null,null,null,null,{"$f":"VLOOKUP(C907,Hidden_Словник!$A$2:C$81,3,FALSE)","v":{"$error":"#N/A"}},0,{"$f":"VLOOKUP(F907,Hidden_Словник!$W$2:$X$13,2,FALSE)","v":{"$error":"#N/A"}},{"$f":"#REF!","v":{"$error":"#REF!"}},{"$error":"#N/A"}]
[null,"",{"$f":"IFERROR(VLOOKUP(A908,'1.Портфель кредитів'!A:Z,3,FALSE),\"\")","v":""},{"$f":"IFERROR(VLOOKUP(A908,'1.Портфель кредитів'!A:Z,7,FALSE),\"\")","v":""},{"$f":"IFERROR(VLOOKUP(A908,'1.Портфель кредитів'!A:Z,14,FALSE),\"\")","v":""},null,null,null,null,null,null,null,null,{"$f":"IFERROR(VLOOKUP(A908,'1.Портфель кредитів'!A:Z,30,FALSE),\"\")","v":""},0,{"$error":"#VALUE!"},null,null,null,null,null,{"$f":"VLOOKUP(C908,Hidden_Словник!$A$2:C$81,3,FALSE)","v":{"$error":"#N/A"}},0,{"$f":"VLOOKUP(F908,Hidden_Словник!$W$2:$X$13,2,FALSE)","v":{"$error":"#N/A"}},{"$f":"#REF!","v":{"$error":"#REF!"}},{"$error":"#N/A"}]
[null,"",{"$f":"IFERROR(VLOOKUP(A909,'1.Портфель кредитів'!A:Z,3,FALSE),\"\")","v":""},{"$f":"IFERROR(VLOOKUP(A909,'1.Портфель кредитів'!A:Z,7,FALSE),\"\")","v":""},{"$f":"IFERROR(VLOOKUP(A909,'1.Портфель кредитів'!A:Z,14,FALSE),\"\")","v":""},null,null,null,null,null,null,null,null,{"$f":"IFERROR(VLOOKUP(A909,'1.Портфель кредитів'!A:Z,30,FALSE),\"\")","v":""},0,{"$error":"#VALUE!"},null,null,null,null,null,{"$f":"VLOOKUP(C909,Hidden_Словник!$A$2:C$81,3,FALSE)","v":{"$error":"#N/A"}},0,{"$f":"VLOOKUP(F909,Hidden_Словник!$W$2:$X$13,2,FALSE)","v":{"$error":"#N/A"}},{"$f":"#REF!","v":{"$error":"#REF!"}},{"$error":"#N/A"}]
[null,"",{"$f":"IFERROR(VLOOKUP(A910,'1.Портфель кредитів'!A:Z,3,FALSE),\"\")","v":""},{"$f":"IFERROR(VLOOKUP(A910,'1.Портфель кредитів'!A:Z,7,FALSE),\"\")","v":""},{"$f":"IFERROR(VLOOKUP(A910,'1.Портфель кредитів'!A:Z,14,FALSE),\"\")","v":""},null,null,null,null,null,null,null,null,{"$f":"IFERROR(VLOOKUP(A910,'1.Портфель кредитів'!A:Z,30,FALSE),\"\")","v":""},0,{"$error":"#VALUE!"},null,null,null,null,null,{"$f":"VLOOKUP(C910,Hidden_Словник!$A$2:C$81,3,FALSE)","v":{"$error":"#N/A"}},0,{"$f":"VLOOKUP(F910,Hidden_Словник!$W$2:$X$13,2,FALSE)","v":{"$error":"#N/A"}},{"$f":"#REF!","v":{"$error":"#REF!"}},{"$error":"#N/A"}]
[null,"",{"$f":"IFERROR(VLOOKUP(A911,'1.Портфель кредитів'!A:Z,3,FALSE),\"\")","v":""},{"$f":"IFERROR(VLOOKUP(A911,'1.Портфель кредитів'!A:Z,7,FALSE),\"\")","v":""},{"$f":"IFERROR(VLOOKUP(A911,'1.Портфель кредитів'!A:Z,14,FALSE),\"\")","v":""},null,null,null,null,null,null,null,null,{"$f":"IFERROR(VLOOKUP(A911,'1.Портфель кредитів'!A:Z,30,FALSE),\"\")","v":""},0,{"$error":"#VALUE!"},null,null,null,null,null,{"$f":"VLOOKUP(C911,Hidden_Словник!$A$2:C$81,3,FALSE)","v":{"$error":"#N/A"}},0,{"$f":"VLOOKUP(F911,Hidden_Словник!$W$2:$X$13,2,FALSE)","v":{"$error":"#N/A"}},{"$f":"#REF!","v":{"$error":"#REF!"}},{"$error":"#N/A"}]
[null,"",{"$f":"IFERROR(VLOOKUP(A912,'1.Портфель кредитів'!A:Z,3,FALSE),\"\")","v":""},{"$f":"IFERROR(VLOOKUP(A912,'1.Портфель кредитів'!A:Z,7,FALSE),\"\")","v":""},{"$f":"IFERROR(VLOOKUP(A912,'1.Портфель кредитів'!A:Z,14,FALSE),\"\")","v":""},null,null,null,null,null,null,null,null,{"$f":"IFERROR(VLOOKUP(A912,'1.Портфель кредитів'!A:Z,30,FALSE),\"\")","v":""},0,{"$error":"#VALUE!"},null,null,null,null,null,{"$f":"VLOOKUP(C912,Hidden_Словник!$A$2:C$81,3,FALSE)","v":{"$error":"#N/A"}},0,{"$f":"VLOOKUP(F912,Hidden_Словник!$W$2:$X$13,2,FALSE)","v":{"$error":"#N/A"}},{"$f":"#REF!","v":{"$error":"#REF!"}},{"$error":"#N/A"}]
[null,"",{"$f":"IFERROR(VLOOKUP(A913,'1.Портфель кредитів'!A:Z,3,FALSE),\"\")","v":""},{"$f":"IFERROR(VLOOKUP(A913,'1.Портфель кредитів'!A:Z,7,FALSE),\"\")","v":""},{"$f":"IFERROR(VLOOKUP(A913,'1.Портфель кредитів'!A:Z,14,FALSE),\"\")","v":""},null,null,null,null,null,null,null,null,{"$f":"IFERROR(VLOOKUP(A913,'1.Портфель кредитів'!A:Z,30,FALSE),\"\")","v":""},0,{"$error":"#VALUE!"},null,null,null,null,null,{"$f":"VLOOKUP(C913,Hidden_Словник!$A$2:C$81,3,FALSE)","v":{"$error":"#N/A"}},0,{"$f":"VLOOKUP(F913,Hidden_Словник!$W$2:$X$13,2,FALSE)","v":{"$error":"#N/A"}},{"$f":"#REF!","v":{"$error":"#REF!"}},{"$error":"#N/A"}]
[null,"",{"$f":"IFERROR(VLOOKUP(A914,'1.Портфель кредитів'!A:Z,3,FALSE),\"\")","v":""},{"$f":"IFERROR(VLOOKUP(A914,'1.Портфель кредитів'!A:Z,7,FALSE),\"\")","v":""},{"$f":"IFERROR(VLOOKUP(A914,'1.Портфель кредитів'!A:Z,14,FALSE),\"\")","v":""},null,null,null,null,null,null,null,null,{"$f":"IFERROR(VLOOKUP(A914,'1.Портфель кредитів'!A:Z,30,FALSE),\"\")","v":""},0,{"$error":"#VALUE!"},null,null,null,null,null,{"$f":"VLOOKUP(C914,Hidden_Словник!$A$2:C$81,3,FALSE)","v":{"$error":"#N/A"}},0,{"$f":"VLOOKUP(F914,Hidden_Словник!$W$2:$X$13,2,FALSE)","v":{"$error":"#N/A"}},{"$f":"#REF!","v":{"$error":"#REF!"}},{"$error":"#N/A"}]
[null,"",{"$f":"IFERROR(VLOOKUP(A915,'1.Портфель кредитів'!A:Z,3,FALSE),\"\")","v":""},{"$f":"IFERROR(VLOOKUP(A915,'1.Портфель кредитів'!A:Z,7,FALSE),\"\")","v":""},{"$f":"IFERROR(VLOOKUP(A915,'1.Портфель кредитів'!A:Z,14,FALSE),\"\")","v":""},null,null,null,null,null,null,null,null,{"$f":"IFERROR(VLOOKUP(A915,'1.Портфель кредитів'!A:Z,30,FALSE),\"\")","v":""},0,{"$error":"#VALUE!"},null,null,null,null,null,{"$f":"VLOOKUP(C915,Hidden_Словник!$A$2:C$81,3,FALSE)","v":{"$error":"#N/A"}},{"$f":"ROUNDUP(K915,0)","v":0},{"$f":"VLOOKUP(F915,Hidden_Словник!$W$2:$X$13,2,FALSE)","v":{"$error":"#N/A"}},{"$f":"#REF!","v":{"$error":"#REF!"}},{"$error":"#N/A"}]
[null,"",{"$f":"IFERROR(VLOOKUP(A916,'1.Портфель кредитів'!A:Z,3,FALSE),\"\")","v":""},{"$f":"IFERROR(VLOOKUP(A916,'1.Портфель кредитів'!A:Z,7,FALSE),\"\")","v":""},{"$f":"IFERROR(VLOOKUP(A916,'1.Портфель кредитів'!A:Z,14,FALSE),\"\")","v":""},null,null,null,null,null,null,null,null,{"$f":"IFERROR(VLOOKUP(A916,'1.Портфель кредитів'!A:Z,30,FALSE),\"\")","v":""},0,{"$error":"#VALUE!"},null,null,null,null,null,{"$f":"VLOOKUP(C916,Hidden_Словник!$A$2:C$81,3,FALSE)","v":{"$error":"#N/A"}},0,{"$f":"VLOOKUP(F916,Hidden_Словник!$W$2:$X$13,2,FALSE)","v":{"$error":"#N/A"}},{"$f":"#REF!","v":{"$error":"#REF!"}},{"$error":"#N/A"}]
[null,"",{"$f":"IFERROR(VLOOKUP(A917,'1.Портфель кредитів'!A:Z,3,FALSE),\"\")","v":""},{"$f":"IFERROR(VLOOKUP(A917,'1.Портфель кредитів'!A:Z,7,FALSE),\"\")","v":""},{"$f":"IFERROR(VLOOKUP(A917,'1.Портфель кредитів'!A:Z,14,FALSE),\"\")","v":""},null,null,null,null,null,null,null,null,{"$f":"IFERROR(VLOOKUP(A917,'1.Портфель кредитів'!A:Z,30,FALSE),\"\")","v":""},0,{"$error":"#VALUE!"},null,null,null,null,null,{"$f":"VLOOKUP(C917,Hidden_Словник!$A$2:C$81,3,FALSE)","v":{"$error":"#N/A"}},0,{"$f":"VLOOKUP(F917,Hidden_Словник!$W$2:$X$13,2,FALSE)","v":{"$error":"#N/A"}},{"$f":"#REF!","v":{"$error":"#REF!"}},{"$error":"#N/A"}]
[null,"",{"$f":"IFERROR(VLOOKUP(A918,'1.Портфель кредитів'!A:Z,3,FALSE),\"\")","v":""},{"$f":"IFERROR(VLOOKUP(A918,'1.Портфель кредитів'!A:Z,7,FALSE),\"\")","v":""},{"$f":"IFERROR(VLOOKUP(A918,'1.Портфель кредитів'!A:Z,14,FALSE),\"\")","v":""},null,null,null,null,null,null,null,null,{"$f":"IFERROR(VLOOKUP(A918,'1.Портфель кредитів'!A:Z,30,FALSE),\"\")","v":""},0,{"$error":"#VALUE!"},null,null,null,null,null,{"$f":"VLOOKUP(C918,Hidden_Словник!$A$2:C$81,3,FALSE)","v":{"$error":"#N/A"}},0,{"$f":"VLOOKUP(F918,Hidden_Словник!$W$2:$X$13,2,FALSE)","v":{"$error":"#N/A"}},{"$f":"#REF!","v":{"$error":"#REF!"}},{"$error":"#N/A"}]
[null,"",{"$f":"IFERROR(VLOOKUP(A919,'1.Портфель кредитів'!A:Z,3,FALSE),\"\")","v":""},{"$f":"IFERROR(VLOOKUP(A919,'1.Портфель кредитів'!A:Z,7,FALSE),\"\")","v":""},{"$f":"IFERROR(VLOOKUP(A919,'1.Портфель кредитів'!A:Z,14,FALSE),\"\")","v":""},null,null,null,null,null,null,null,null,{"$f":"IFERROR(VLOOKUP(A919,'1.Портфель кредитів'!A:Z,30,FALSE),\"\")","v":""},{"$f":"SUMIF(B:B,B919,N:N)","v":0},{"$error":"#VALUE!"},null,null,null,null,null,{"$f":"VLOOKUP(C919,Hidden_Словник!$A$2:C$81,3,FALSE)","v":{"$error":"#N/A"}},0,{"$f":"VLOOKUP(F919,Hidden_Словник!$W$2:$X$13,2,FALSE)","v":{"$error":"#N/A"}},{"$f":"#REF!","v":{"$error":"#REF!"}},{"$error":"#N/A"}]
[null,"",{"$f":"IFERROR(VLOOKUP(A920,'1.Портфель кредитів'!A:Z,3,FALSE),\"\")","v":""},{"$f":"IFERROR(VLOOKUP(A920,'1.Портфель кредитів'!A:Z,7,FALSE),\"\")","v":""},{"$f":"IFERROR(VLOOKUP(A920,'1.Портфель кредитів'!A:Z,14,FALSE),\"\")","v":""},null,null,null,null,null,null,null,null,{"$f":"IFERROR(VLOOKUP(A920,'1.Портфель кредитів'!A:Z,30,FALSE),\"\")","v":""},0,{"$error":"#VALUE!"},null,null,null,null,null,{"$f":"VLOOKUP(C920,Hidden_Словник!$A$2:C$81,3,FALSE)","v":{"$error":"#N/A"}},0,{"$f":"VLOOKUP(F920,Hidden_Словник!$W$2:$X$13,2,FALSE)","v":{"$error":"#N/A"}},{"$f":"#REF!","v":{"$error":"#REF!"}},{"$error":"#N/A"}]
[null,"",{"$f":"IFERROR(VLOOKUP(A921,'1.Портфель кредитів'!A:Z,3,FALSE),\"\")","v":""},{"$f":"IFERROR(VLOOKUP(A921,'1.Портфель кредитів'!A:Z,7,FALSE),\"\")","v":""},{"$f":"IFERROR(VLOOKUP(A921,'1.Портфель кредитів'!A:Z,14,FALSE),\"\")","v":""},null,null,null,null,null,null,null,null,{"$f":"IFERROR(VLOOKUP(A921,'1.Портфель кредитів'!A:Z,30,FALSE),\"\")","v":""},0,{"$error":"#VALUE!"},null,null,null,null,null,{"$f":"VLOOKUP(C921,Hidden_Словник!$A$2:C$81,3,FALSE)","v":{"$error":"#N/A"}},0,{"$f":"VLOOKUP(F921,Hidden_Словник!$W$2:$X$13,2,FALSE)","v":{"$error":"#N/A"}},{"$f":"#REF!","v":{"$error":"#REF!"}},{"$error":"#N/A"}]
[null,"",{"$f":"IFERROR(VLOOKUP(A922,'1.Портфель кредитів'!A:Z,3,FALSE),\"\")","v":""},{"$f":"IFERROR(VLOOKUP(A922,'1.Портфель кредитів'!A:Z,7,FALSE),\"\")","v":""},{"$f":"IFERROR(VLOOKUP(A922,'1.Портфель кредитів'!A:Z,14,FALSE),\"\")","v":""},null,null,null,null,null,null,null,null,{"$f":"IFERROR(VLOOKUP(A922,'1.Портфель кредитів'!A:Z,30,FALSE),\"\")","v":""},0,{"$error":"#VALUE!"},null,null,null,null,null,{"$f":"VLOOKUP(C922,Hidden_Словник!$A$2:C$81,3,FALSE)","v":{"$error":"#N/A"}},0,{"$f":"VLOOKUP(F922,Hidden_Словник!$W$2:$X$13,2,FALSE)","v":{"$error":"#N/A"}},{"$f":"#REF!","v":{"$error":"#REF!"}},{"$error":"#N/A"}]
[null,"",{"$f":"IFERROR(VLOOKUP(A923,'1.Портфель кредитів'!A:Z,3,FALSE),\"\")","v":""},{"$f":"IFERROR(VLOOKUP(A923,'1.Портфель кредитів'!A:Z,7,FALSE),\"\")","v":""},{"$f":"IFERROR(VLOOKUP(A923,'1.Портфель кредитів'!A:Z,14,FALSE),\"\")","v":""},null,null,null,null,null,null,null,null,{"$f":"IFERROR(VLOOKUP(A923,'1.Портфель кредитів'!A:Z,30,FALSE),\"\")","v":""},0,{"$error":"#VALUE!"},null,null,null,null,null,{"$f":"VLOOKUP(C923,Hidden_Словник!$A$2:C$81,3,FALSE)","v":{"$error":"#N/A"}},0,{"$f":"VLOOKUP(F923,Hidden_Словник!$W$2:$X$13,2,FALSE)","v":{"$error":"#N/A"}},{"$f":"#REF!","v":{"$error":"#REF!"}},{"$error":"#N/A"}]
[null,"",{"$f":"IFERROR(VLOOKUP(A924,'1.Портфель кредитів'!A:Z,3,FALSE),\"\")","v":""},{"$f":"IFERROR(VLOOKUP(A924,'1.Портфель кредитів'!A:Z,7,FALSE),\"\")","v":""},{"$f":"IFERROR(VLOOKUP(A924,'1.Портфель кредитів'!A:Z,14,FALSE),\"\")","v":""},null,null,null,null,null,null,null,null,{"$f":"IFERROR(VLOOKUP(A924,'1.Портфель кредитів'!A:Z,30,FALSE),\"\")","v":""},0,{"$error":"#VALUE!"},null,null,null,null,null,{"$f":"VLOOKUP(C924,Hidden_Словник!$A$2:C$81,3,FALSE)","v":{"$error":"#N/A"}},0,{"$f":"VLOOKUP(F924,Hidden_Словник!$W$2:$X$13,2,FALSE)","v":{"$error":"#N/A"}},{"$f":"#REF!","v":{"$error":"#REF!"}},{"$error":"#N/A"}]
[null,"",{"$f":"IFERROR(VLOOKUP(A925,'1.Портфель кредитів'!A:Z,3,FALSE),\"\")","v":""},{"$f":"IFERROR(VLOOKUP(A925,'1.Портфель кредитів'!A:Z,7,FALSE),\"\")","v":""},{"$f":"IFERROR(VLOOKUP(A925,'1.Портфель кредитів'!A:Z,14,FALSE),\"\")","v":""},null,null,null,null,null,null,null,null,{"$f":"IFERROR(VLOOKUP(A925,'1.Портфель кредитів'!A:Z,30,FALSE),\"\")","v":""},0,{"$error":"#VALUE!"},null,null,null,null,null,{"$f":"VLOOKUP(C925,Hidden_Словник!$A$2:C$81,3,FALSE)","v":{"$error":"#N/A"}},0,{"$f":"VLOOKUP(F925,Hidden_Словник!$W$2:$X$13,2,FALSE)","v":{"$error":"#N/A"}},{"$f":"#REF!","v":{"$error":"#REF!"}},{"$error":"#N/A"}]
[null,"",{"$f":"IFERROR(VLOOKUP(A926,'1.Портфель кредитів'!A:Z,3,FALSE),\"\")","v":""},{"$f":"IFERROR(VLOOKUP(A926,'1.Портфель кредитів'!A:Z,7,FALSE),\"\")","v":""},{"$f":"IFERROR(VLOOKUP(A926,'1.Портфель кредитів'!A:Z,14,FALSE),\"\")","v":""},null,null,null,null,null,null,null,null,{"$f":"IFERROR(VLOOKUP(A926,'1.Портфель кредитів'!A:Z,30,FALSE),\"\")","v":""},0,{"$error":"#VALUE!"},null,null,null,null,null,{"$f":"VLOOKUP(C926,Hidden_Словник!$A$2:C$81,3,FALSE)","v":{"$error":"#N/A"}},0,{"$f":"VLOOKUP(F926,Hidden_Словник!$W$2:$X$13,2,FALSE)","v":{"$error":"#N/A"}},{"$f":"#REF!","v":{"$error":"#REF!"}},{"$error":"#N/A"}]
[null,"",{"$f":"IFERROR(VLOOKUP(A927,'1.Портфель кредитів'!A:Z,3,FALSE),\"\")","v":""},{"$f":"IFERROR(VLOOKUP(A927,'1.Портфель кредитів'!A:Z,7,FALSE),\"\")","v":""},{"$f":"IFERROR(VLOOKUP(A927,'1.Портфель кредитів'!A:Z,14,FALSE),\"\")","v":""},null,null,null,null,null,null,null,null,{"$f":"IFERROR(VLOOKUP(A927,'1.Портфель кредитів'!A:Z,30,FALSE),\"\")","v":""},0,{"$error":"#VALUE!"},null,null,null,null,null,{"$f":"VLOOKUP(C927,Hidden_Словник!$A$2:C$81,3,FALSE)","v":{"$error":"#N/A"}},0,{"$f":"VLOOKUP(F927,Hidden_Словник!$W$2:$X$13,2,FALSE)","v":{"$error":"#N/A"}},{"$f":"#REF!","v":{"$error":"#REF!"}},{"$error":"#N/A"}]
[null,"",{"$f":"IFERROR(VLOOKUP(A928,'1.Портфель кредитів'!A:Z,3,FALSE),\"\")","v":""},{"$f":"IFERROR(VLOOKUP(A928,'1.Портфель кредитів'!A:Z,7,FALSE),\"\")","v":""},{"$f":"IFERROR(VLOOKUP(A928,'1.Портфель кредитів'!A:Z,14,FALSE),\"\")","v":""},null,null,null,null,null,null,null,null,{"$f":"IFERROR(VLOOKUP(A928,'1.Портфель кредитів'!A:Z,30,FALSE),\"\")","v":""},0,{"$error":"#VALUE!"},null,null,null,null,null,{"$f":"VLOOKUP(C928,Hidden_Словник!$A$2:C$81,3,FALSE)","v":{"$error":"#N/A"}},0,{"$f":"VLOOKUP(F928,Hidden_Словник!$W$2:$X$13,2,FALSE)","v":{"$error":"#N/A"}},{"$f":"#REF!","v":{"$error":"#REF!"}},{"$error":"#N/A"}]
[null,"",{"$f":"IFERROR(VLOOKUP(A929,'1.Портфель кредитів'!A:Z,3,FALSE),\"\")","v":""},{"$f":"IFERROR(VLOOKUP(A929,'1.Портфель кредитів'!A:Z,7,FALSE),\"\")","v":""},{"$f":"IFERROR(VLOOKUP(A929,'1.Портфель кредитів'!A:Z,14,FALSE),\"\")","v":""},null,null,null,null,null,null,null,null,{"$f":"IFERROR(VLOOKUP(A929,'1.Портфель кредитів'!A:Z,30,FALSE),\"\")","v":""},0,{"$error":"#VALUE!"},null,null,null,null,null,{"$f":"VLOOKUP(C929,Hidden_Словник!$A$2:C$81,3,FALSE)","v":{"$error":"#N/A"}},0,{"$f":"VLOOKUP(F929,Hidden_Словник!$W$2:$X$13,2,FALSE)","v":{"$error":"#N/A"}},{"$f":"#REF!","v":{"$error":"#REF!"}},{"$error":"#N/A"}]
[null,"",{"$f":"IFERROR(VLOOKUP(A930,'1.Портфель кредитів'!A:Z,3,FALSE),\"\")","v":""},{"$f":"IFERROR(VLOOKUP(A930,'1.Портфель кредитів'!A:Z,7,FALSE),\"\")","v":""},{"$f":"IFERROR(VLOOKUP(A930,'1.Портфель кредитів'!A:Z,14,FALSE),\"\")","v":""},null,null,null,null,null,null,null,null,{"$f":"IFERROR(VLOOKUP(A930,'1.Портфель кредитів'!A:Z,30,FALSE),\"\")","v":""},0,{"$error":"#VALUE!"},null,null,null,null,null,{"$f":"VLOOKUP(C930,Hidden_Словник!$A$2:C$81,3,FALSE)","v":{"$error":"#N/A"}},0,{"$f":"VLOOKUP(F930,Hidden_Словник!$W$2:$X$13,2,FALSE)","v":{"$error":"#N/A"}},{"$f":"#REF!","v":{"$error":"#REF!"}},{"$error":"#N/A"}]
[null,"",{"$f":"IFERROR(VLOOKUP(A931,'1.Портфель кредитів'!A:Z,3,FALSE),\"\")","v":""},{"$f":"IFERROR(VLOOKUP(A931,'1.Портфель кредитів'!A:Z,7,FALSE),\"\")","v":""},{"$f":"IFERROR(VLOOKUP(A931,'1.Портфель кредитів'!A:Z,14,FALSE),\"\")","v":""},null,null,null,null,null,null,null,null,{"$f":"IFERROR(VLOOKUP(A931,'1.Портфель кредитів'!A:Z,30,FALSE),\"\")","v":""},0,{"$error":"#VALUE!"},null,null,null,null,null,{"$f":"VLOOKUP(C931,Hidden_Словник!$A$2:C$81,3,FALSE)","v":{"$error":"#N/A"}},0,{"$f":"VLOOKUP(F931,Hidden_Словник!$W$2:$X$13,2,FALSE)","v":{"$error":"#N/A"}},{"$f":"#REF!","v":{"$error":"#REF!"}},{"$error":"#N/A"}]
[null,"",{"$f":"IFERROR(VLOOKUP(A932,'1.Портфель кредитів'!A:Z,3,FALSE),\"\")","v":""},{"$f":"IFERROR(VLOOKUP(A932,'1.Портфель кредитів'!A:Z,7,FALSE),\"\")","v":""},{"$f":"IFERROR(VLOOKUP(A932,'1.Портфель кредитів'!A:Z,14,FALSE),\"\")","v":""},null,null,null,null,null,null,null,null,{"$f":"IFERROR(VLOOKUP(A932,'1.Портфель кредитів'!A:Z,30,FALSE),\"\")","v":""},0,{"$error":"#VALUE!"},null,null,null,null,null,{"$f":"VLOOKUP(C932,Hidden_Словник!$A$2:C$81,3,FALSE)","v":{"$error":"#N/A"}},0,{"$f":"VLOOKUP(F932,Hidden_Словник!$W$2:$X$13,2,FALSE)","v":{"$error":"#N/A"}},{"$f":"#REF!","v":{"$error":"#REF!"}},{"$error":"#N/A"}]
[null,"",{"$f":"IFERROR(VLOOKUP(A933,'1.Портфель кредитів'!A:Z,3,FALSE),\"\")","v":""},{"$f":"IFERROR(VLOOKUP(A933,'1.Портфель кредитів'!A:Z,7,FALSE),\"\")","v":""},{"$f":"IFERROR(VLOOKUP(A933,'1.Портфель кредитів'!A:Z,14,FALSE),\"\")","v":""},null,null,null,null,null,null,null,null,{"$f":"IFERROR(VLOOKUP(A933,'1.Портфель кредитів'!A:Z,30,FALSE),\"\")","v":""},0,{"$error":"#VALUE!"},null,null,null,null,null,{"$f":"VLOOKUP(C933,Hidden_Словник!$A$2:C$81,3,FALSE)","v":{"$error":"#N/A"}},0,{"$f":"VLOOKUP(F933,Hidden_Словник!$W$2:$X$13,2,FALSE)","v":{"$error":"#N/A"}},{"$f":"#REF!","v":{"$error":"#REF!"}},{"$error":"#N/A"}]
[null,"",{"$f":"IFERROR(VLOOKUP(A934,'1.Портфель кредитів'!A:Z,3,FALSE),\"\")","v":""},{"$f":"IFERROR(VLOOKUP(A934,'1.Портфель кредитів'!A:Z,7,FALSE),\"\")","v":""},{"$f":"IFERROR(VLOOKUP(A934,'1.Портфель кредитів'!A:Z,14,FALSE),\"\")","v":""},null,null,null,null,null,null,null,null,{"$f":"IFERROR(VLOOKUP(A934,'1.Портфель кредитів'!A:Z,30,FALSE),\"\")","v":""},0,{"$f":"N934/O934","v":{"$error":"#VALUE!"}},null,null,null,null,null,{"$f":"VLOOKUP(C934,Hidden_Словник!$A$2:C$81,3,FALSE)","v":{"$error":"#N/A"}},0,{"$f":"VLOOKUP(F934,Hidden_Словник!$W$2:$X$13,2,FALSE)","v":{"$error":"#N/A"}},{"$f":"#REF!","v":{"$error":"#REF!"}},{"$error":"#N/A"}]
[null,"",{"$f":"IFERROR(VLOOKUP(A935,'1.Портфель кредитів'!A:Z,3,FALSE),\"\")","v":""},{"$f":"IFERROR(VLOOKUP(A935,'1.Портфель кредитів'!A:Z,7,FALSE),\"\")","v":""},{"$f":"IFERROR(VLOOKUP(A935,'1.Портфель кредитів'!A:Z,14,FALSE),\"\")","v":""},null,null,null,null,null,null,null,null,{"$f":"IFERROR(VLOOKUP(A935,'1.Портфель кредитів'!A:Z,30,FALSE),\"\")","v":""},0,{"$error":"#VALUE!"},null,null,null,null,null,{"$f":"VLOOKUP(C935,Hidden_Словник!$A$2:C$81,3,FALSE)","v":{"$error":"#N/A"}},0,{"$f":"VLOOKUP(F935,Hidden_Словник!$W$2:$X$13,2,FALSE)","v":{"$error":"#N/A"}},{"$f":"#REF!","v":{"$error":"#REF!"}},{"$error":"#N/A"}]
[null,"",{"$f":"IFERROR(VLOOKUP(A936,'1.Портфель кредитів'!A:Z,3,FALSE),\"\")","v":""},{"$f":"IFERROR(VLOOKUP(A936,'1.Портфель кредитів'!A:Z,7,FALSE),\"\")","v":""},{"$f":"IFERROR(VLOOKUP(A936,'1.Портфель кредитів'!A:Z,14,FALSE),\"\")","v":""},null,null,null,null,null,null,null,null,{"$f":"IFERROR(VLOOKUP(A936,'1.Портфель кредитів'!A:Z,30,FALSE),\"\")","v":""},0,{"$error":"#VALUE!"},null,null,null,null,null,{"$f":"VLOOKUP(C936,Hidden_Словник!$A$2:C$81,3,FALSE)","v":{"$error":"#N/A"}},0,{"$f":"VLOOKUP(F936,Hidden_Словник!$W$2:$X$13,2,FALSE)","v":{"$error":"#N/A"}},{"$f":"#REF!","v":{"$error":"#REF!"}},{"$error":"#N/A"}]
[null,"",{"$f":"IFERROR(VLOOKUP(A937,'1.Портфель кредитів'!A:Z,3,FALSE),\"\")","v":""},{"$f":"IFERROR(VLOOKUP(A937,'1.Портфель кредитів'!A:Z,7,FALSE),\"\")","v":""},{"$f":"IFERROR(VLOOKUP(A937,'1.Портфель кредитів'!A:Z,14,FALSE),\"\")","v":""},null,null,null,null,null,null,null,null,{"$f":"IFERROR(VLOOKUP(A937,'1.Портфель кредитів'!A:Z,30,FALSE),\"\")","v":""},0,{"$error":"#VALUE!"},null,null,null,null,null,{"$f":"VLOOKUP(C937,Hidden_Словник!$A$2:C$81,3,FALSE)","v":{"$error":"#N/A"}},0,{"$f":"VLOOKUP(F937,Hidden_Словник!$W$2:$X$13,2,FALSE)","v":{"$error":"#N/A"}},{"$f":"#REF!","v":{"$error":"#REF!"}},{"$error":"#N/A"}]
[null,"",{"$f":"IFERROR(VLOOKUP(A938,'1.Портфель кредитів'!A:Z,3,FALSE),\"\")","v":""},{"$f":"IFERROR(VLOOKUP(A938,'1.Портфель кредитів'!A:Z,7,FALSE),\"\")","v":""},{"$f":"IFERROR(VLOOKUP(A938,'1.Портфель кредитів'!A:Z,14,FALSE),\"\")","v":""},null,null,null,null,null,null,null,null,{"$f":"IFERROR(VLOOKUP(A938,'1.Портфель кредитів'!A:Z,30,FALSE),\"\")","v":""},0,{"$error":"#VALUE!"},null,null,null,null,null,{"$f":"VLOOKUP(C938,Hidden_Словник!$A$2:C$81,3,FALSE)","v":{"$error":"#N/A"}},0,{"$f":"VLOOKUP(F938,Hidden_Словник!$W$2:$X$13,2,FALSE)","v":{"$error":"#N/A"}},{"$f":"#REF!","v":{"$error":"#REF!"}},{"$error":"#N/A"}]
[null,"",{"$f":"IFERROR(VLOOKUP(A939,'1.Портфель кредитів'!A:Z,3,FALSE),\"\")","v":""},{"$f":"IFERROR(VLOOKUP(A939,'1.Портфель кредитів'!A:Z,7,FALSE),\"\")","v":""},{"$f":"IFERROR(VLOOKUP(A939,'1.Портфель кредитів'!A:Z,14,FALSE),\"\")","v":""},null,null,null,null,null,null,null,null,{"$f":"IFERROR(VLOOKUP(A939,'1.Портфель кредитів'!A:Z,30,FALSE),\"\")","v":""},0,{"$error":"#VALUE!"},null,null,null,null,null,{"$f":"VLOOKUP(C939,Hidden_Словник!$A$2:C$81,3,FALSE)","v":{"$error":"#N/A"}},0,{"$f":"VLOOKUP(F939,Hidden_Словник!$W$2:$X$13,2,FALSE)","v":{"$error":"#N/A"}},{"$f":"#REF!","v":{"$error":"#REF!"}},{"$error":"#N/A"}]
[null,"",{"$f":"IFERROR(VLOOKUP(A940,'1.Портфель кредитів'!A:Z,3,FALSE),\"\")","v":""},{"$f":"IFERROR(VLOOKUP(A940,'1.Портфель кредитів'!A:Z,7,FALSE),\"\")","v":""},{"$f":"IFERROR(VLOOKUP(A940,'1.Портфель кредитів'!A:Z,14,FALSE),\"\")","v":""},null,null,null,null,null,null,null,null,{"$f":"IFERROR(VLOOKUP(A940,'1.Портфель кредитів'!A:Z,30,FALSE),\"\")","v":""},0,{"$error":"#VALUE!"},null,null,null,null,null,{"$f":"VLOOKUP(C940,Hidden_Словник!$A$2:C$81,3,FALSE)","v":{"$error":"#N/A"}},0,{"$f":"VLOOKUP(F940,Hidden_Словник!$W$2:$X$13,2,FALSE)","v":{"$error":"#N/A"}},{"$f":"#REF!","v":{"$error":"#REF!"}},{"$error":"#N/A"}]
[null,"",{"$f":"IFERROR(VLOOKUP(A941,'1.Портфель кредитів'!A:Z,3,FALSE),\"\")","v":""},{"$f":"IFERROR(VLOOKUP(A941,'1.Портфель кредитів'!A:Z,7,FALSE),\"\")","v":""},{"$f":"IFERROR(VLOOKUP(A941,'1.Портфель кредитів'!A:Z,14,FALSE),\"\")","v":""},null,null,null,null,null,null,null,null,{"$f":"IFERROR(VLOOKUP(A941,'1.Портфель кредитів'!A:Z,30,FALSE),\"\")","v":""},0,{"$error":"#VALUE!"},null,null,null,null,null,{"$f":"VLOOKUP(C941,Hidden_Словник!$A$2:C$81,3,FALSE)","v":{"$error":"#N/A"}},0,{"$f":"VLOOKUP(F941,Hidden_Словник!$W$2:$X$13,2,FALSE)","v":{"$error":"#N/A"}},{"$f":"#REF!","v":{"$error":"#REF!"}},{"$error":"#N/A"}]
[null,"",{"$f":"IFERROR(VLOOKUP(A942,'1.Портфель кредитів'!A:Z,3,FALSE),\"\")","v":""},{"$f":"IFERROR(VLOOKUP(A942,'1.Портфель кредитів'!A:Z,7,FALSE),\"\")","v":""},{"$f":"IFERROR(VLOOKUP(A942,'1.Портфель кредитів'!A:Z,14,FALSE),\"\")","v":""},null,null,null,null,null,null,null,null,{"$f":"IFERROR(VLOOKUP(A942,'1.Портфель кредитів'!A:Z,30,FALSE),\"\")","v":""},0,{"$error":"#VALUE!"},null,null,null,null,null,{"$f":"VLOOKUP(C942,Hidden_Словник!$A$2:C$81,3,FALSE)","v":{"$error":"#N/A"}},0,{"$f":"VLOOKUP(F942,Hidden_Словник!$W$2:$X$13,2,FALSE)","v":{"$error":"#N/A"}},{"$f":"#REF!","v":{"$error":"#REF!"}},{"$error":"#N/A"}]
[null,"",{"$f":"IFERROR(VLOOKUP(A943,'1.Портфель кредитів'!A:Z,3,FALSE),\"\")","v":""},{"$f":"IFERROR(VLOOKUP(A943,'1.Портфель кредитів'!A:Z,7,FALSE),\"\")","v":""},{"$f":"IFERROR(VLOOKUP(A943,'1.Портфель кредитів'!A:Z,14,FALSE),\"\")","v":""},null,null,null,null,null,null,null,null,{"$f":"IFERROR(VLOOKUP(A943,'1.Портфель кредитів'!A:Z,30,FALSE),\"\")","v":""},0,{"$error":"#VALUE!"},null,null,null,null,null,{"$f":"VLOOKUP(C943,Hidden_Словник!$A$2:C$81,3,FALSE)","v":{"$error":"#N/A"}},0,{"$f":"VLOOKUP(F943,Hidden_Словник!$W$2:$X$13,2,FALSE)","v":{"$error":"#N/A"}},{"$f":"#REF!","v":{"$error":"#REF!"}},{"$error":"#N/A"}]
[null,"",{"$f":"IFERROR(VLOOKUP(A944,'1.Портфель кредитів'!A:Z,3,FALSE),\"\")","v":""},{"$f":"IFERROR(VLOOKUP(A944,'1.Портфель кредитів'!A:Z,7,FALSE),\"\")","v":""},{"$f":"IFERROR(VLOOKUP(A944,'1.Портфель кредитів'!A:Z,14,FALSE),\"\")","v":""},null,null,null,null,null,null,null,null,{"$f":"IFERROR(VLOOKUP(A944,'1.Портфель кредитів'!A:Z,30,FALSE),\"\")","v":""},0,{"$error":"#VALUE!"},null,null,null,null,null,{"$f":"VLOOKUP(C944,Hidden_Словник!$A$2:C$81,3,FALSE)","v":{"$error":"#N/A"}},0,{"$f":"VLOOKUP(F944,Hidden_Словник!$W$2:$X$13,2,FALSE)","v":{"$error":"#N/A"}},{"$f":"#REF!","v":{"$error":"#REF!"}},{"$error":"#N/A"}]
[null,"",{"$f":"IFERROR(VLOOKUP(A945,'1.Портфель кредитів'!A:Z,3,FALSE),\"\")","v":""},{"$f":"IFERROR(VLOOKUP(A945,'1.Портфель кредитів'!A:Z,7,FALSE),\"\")","v":""},{"$f":"IFERROR(VLOOKUP(A945,'1.Портфель кредитів'!A:Z,14,FALSE),\"\")","v":""},null,null,null,null,null,null,null,null,{"$f":"IFERROR(VLOOKUP(A945,'1.Портфель кредитів'!A:Z,30,FALSE),\"\")","v":""},0,{"$error":"#VALUE!"},null,null,null,null,null,{"$f":"VLOOKUP(C945,Hidden_Словник!$A$2:C$81,3,FALSE)","v":{"$error":"#N/A"}},0,{"$f":"VLOOKUP(F945,Hidden_Словник!$W$2:$X$13,2,FALSE)","v":{"$error":"#N/A"}},{"$f":"#REF!","v":{"$error":"#REF!"}},{"$error":"#N/A"}]
[null,"",{"$f":"IFERROR(VLOOKUP(A946,'1.Портфель кредитів'!A:Z,3,FALSE),\"\")","v":""},{"$f":"IFERROR(VLOOKUP(A946,'1.Портфель кредитів'!A:Z,7,FALSE),\"\")","v":""},{"$f":"IFERROR(VLOOKUP(A946,'1.Портфель кредитів'!A:Z,14,FALSE),\"\")","v":""},null,null,null,null,null,null,null,null,{"$f":"IFERROR(VLOOKUP(A946,'1.Портфель кредитів'!A:Z,30,FALSE),\"\")","v":""},0,{"$error":"#VALUE!"},null,null,null,null,null,{"$f":"VLOOKUP(C946,Hidden_Словник!$A$2:C$81,3,FALSE)","v":{"$error":"#N/A"}},0,{"$f":"VLOOKUP(F946,Hidden_Словник!$W$2:$X$13,2,FALSE)","v":{"$error":"#N/A"}},{"$f":"#REF!","v":{"$error":"#REF!"}},{"$error":"#N/A"}]
[null,"",{"$f":"IFERROR(VLOOKUP(A947,'1.Портфель кредитів'!A:Z,3,FALSE),\"\")","v":""},{"$f":"IFERROR(VLOOKUP(A947,'1.Портфель кредитів'!A:Z,7,FALSE),\"\")","v":""},{"$f":"IFERROR(VLOOKUP(A947,'1.Портфель кредитів'!A:Z,14,FALSE),\"\")","v":""},null,null,null,null,null,null,null,null,{"$f":"IFERROR(VLOOKUP(A947,'1.Портфель кредитів'!A:Z,30,FALSE),\"\")","v":""},0,{"$error":"#VALUE!"},null,null,null,null,null,{"$f":"VLOOKUP(C947,Hidden_Словник!$A$2:C$81,3,FALSE)","v":{"$error":"#N/A"}},0,{"$f":"VLOOKUP(F947,Hidden_Словник!$W$2:$X$13,2,FALSE)","v":{"$error":"#N/A"}},{"$f":"#REF!","v":{"$error":"#REF!"}},{"$error":"#N/A"}]
[null,"",{"$f":"IFERROR(VLOOKUP(A948,'1.Портфель кредитів'!A:Z,3,FALSE),\"\")","v":""},{"$f":"IFERROR(VLOOKUP(A948,'1.Портфель кредитів'!A:Z,7,FALSE),\"\")","v":""},{"$f":"IFERROR(VLOOKUP(A948,'1.Портфель кредитів'!A:Z,14,FALSE),\"\")","v":""},null,null,null,null,null,null,null,null,{"$f":"IFERROR(VLOOKUP(A948,'1.Портфель кредитів'!A:Z,30,FALSE),\"\")","v":""},0,{"$error":"#VALUE!"},null,null,null,null,null,{"$f":"VLOOKUP(C948,Hidden_Словник!$A$2:C$81,3,FALSE)","v":{"$error":"#N/A"}},0,{"$f":"VLOOKUP(F948,Hidden_Словник!$W$2:$X$13,2,FALSE)","v":{"$error":"#N/A"}},{"$f":"#REF!","v":{"$error":"#REF!"}},{"$error":"#N/A"}]
[null,"",{"$f":"IFERROR(VLOOKUP(A949,'1.Портфель кредитів'!A:Z,3,FALSE),\"\")","v":""},{"$f":"IFERROR(VLOOKUP(A949,'1.Портфель кредитів'!A:Z,7,FALSE),\"\")","v":""},{"$f":"IFERROR(VLOOKUP(A949,'1.Портфель кредитів'!A:Z,14,FALSE),\"\")","v":""},null,null,null,null,null,null,null,null,{"$f":"IFERROR(VLOOKUP(A949,'1.Портфель кредитів'!A:Z,30,FALSE),\"\")","v":""},0,{"$error":"#VALUE!"},null,null,null,null,null,{"$f":"VLOOKUP(C949,Hidden_Словник!$A$2:C$81,3,FALSE)","v":{"$error":"#N/A"}},0,{"$f":"VLOOKUP(F949,Hidden_Словник!$W$2:$X$13,2,FALSE)","v":{"$error":"#N/A"}},{"$f":"#REF!","v":{"$error":"#REF!"}},{"$error":"#N/A"}]
[null,"",{"$f":"IFERROR(VLOOKUP(A950,'1.Портфель кредитів'!A:Z,3,FALSE),\"\")","v":""},{"$f":"IFERROR(VLOOKUP(A950,'1.Портфель кредитів'!A:Z,7,FALSE),\"\")","v":""},{"$f":"IFERROR(VLOOKUP(A950,'1.Портфель кредитів'!A:Z,14,FALSE),\"\")","v":""},null,null,null,null,null,null,null,null,{"$f":"IFERROR(VLOOKUP(A950,'1.Портфель кредитів'!A:Z,30,FALSE),\"\")","v":""},0,{"$error":"#VALUE!"},null,null,null,null,null,{"$f":"VLOOKUP(C950,Hidden_Словник!$A$2:C$81,3,FALSE)","v":{"$error":"#N/A"}},0,{"$f":"VLOOKUP(F950,Hidden_Словник!$W$2:$X$13,2,FALSE)","v":{"$error":"#N/A"}},{"$f":"#REF!","v":{"$error":"#REF!"}},{"$error":"#N/A"}]
[null,"",{"$f":"IFERROR(VLOOKUP(A951,'1.Портфель кредитів'!A:Z,3,FALSE),\"\")","v":""},{"$f":"IFERROR(VLOOKUP(A951,'1.Портфель кредитів'!A:Z,7,FALSE),\"\")","v":""},{"$f":"IFERROR(VLOOKUP(A951,'1.Портфель кредитів'!A:Z,14,FALSE),\"\")","v":""},null,null,null,null,null,null,null,null,{"$f":"IFERROR(VLOOKUP(A951,'1.Портфель кредитів'!A:Z,30,FALSE),\"\")","v":""},0,{"$error":"#VALUE!"},null,null,null,null,null,{"$f":"VLOOKUP(C951,Hidden_Словник!$A$2:C$81,3,FALSE)","v":{"$error":"#N/A"}},0,{"$f":"VLOOKUP(F951,Hidden_Словник!$W$2:$X$13,2,FALSE)","v":{"$error":"#N/A"}},{"$f":"#REF!","v":{"$error":"#REF!"}},{"$error":"#N/A"}]
[null,"",{"$f":"IFERROR(VLOOKUP(A952,'1.Портфель кредитів'!A:Z,3,FALSE),\"\")","v":""},{"$f":"IFERROR(VLOOKUP(A952,'1.Портфель кредитів'!A:Z,7,FALSE),\"\")","v":""},{"$f":"IFERROR(VLOOKUP(A952,'1.Портфель кредитів'!A:Z,14,FALSE),\"\")","v":""},null,null,null,null,null,null,null,null,{"$f":"IFERROR(VLOOKUP(A952,'1.Портфель кредитів'!A:Z,30,FALSE),\"\")","v":""},0,{"$error":"#VALUE!"},null,null,null,null,null,{"$f":"VLOOKUP(C952,Hidden_Словник!$A$2:C$81,3,FALSE)","v":{"$error":"#N/A"}},0,{"$f":"VLOOKUP(F952,Hidden_Словник!$W$2:$X$13,2,FALSE)","v":{"$error":"#N/A"}},{"$f":"#REF!","v":{"$error":"#REF!"}},{"$error":"#N/A"}]
[null,"",{"$f":"IFERROR(VLOOKUP(A953,'1.Портфель кредитів'!A:Z,3,FALSE),\"\")","v":""},{"$f":"IFERROR(VLOOKUP(A953,'1.Портфель кредитів'!A:Z,7,FALSE),\"\")","v":""},{"$f":"IFERROR(VLOOKUP(A953,'1.Портфель кредитів'!A:Z,14,FALSE),\"\")","v":""},null,null,null,null,null,null,null,null,{"$f":"IFERROR(VLOOKUP(A953,'1.Портфель кредитів'!A:Z,30,FALSE),\"\")","v":""},0,{"$error":"#VALUE!"},null,null,null,null,null,{"$f":"VLOOKUP(C953,Hidden_Словник!$A$2:C$81,3,FALSE)","v":{"$error":"#N/A"}},0,{"$f":"VLOOKUP(F953,Hidden_Словник!$W$2:$X$13,2,FALSE)","v":{"$error":"#N/A"}},{"$f":"#REF!","v":{"$error":"#REF!"}},{"$error":"#N/A"}]
[null,"",{"$f":"IFERROR(VLOOKUP(A954,'1.Портфель кредитів'!A:Z,3,FALSE),\"\")","v":""},{"$f":"IFERROR(VLOOKUP(A954,'1.Портфель кредитів'!A:Z,7,FALSE),\"\")","v":""},{"$f":"IFERROR(VLOOKUP(A954,'1.Портфель кредитів'!A:Z,14,FALSE),\"\")","v":""},null,null,null,null,null,null,null,null,{"$f":"IFERROR(VLOOKUP(A954,'1.Портфель кредитів'!A:Z,30,FALSE),\"\")","v":""},0,{"$error":"#VALUE!"},null,null,null,null,null,{"$f":"VLOOKUP(C954,Hidden_Словник!$A$2:C$81,3,FALSE)","v":{"$error":"#N/A"}},0,{"$f":"VLOOKUP(F954,Hidden_Словник!$W$2:$X$13,2,FALSE)","v":{"$error":"#N/A"}},{"$f":"#REF!","v":{"$error":"#REF!"}},{"$error":"#N/A"}]
[null,"",{"$f":"IFERROR(VLOOKUP(A955,'1.Портфель кредитів'!A:Z,3,FALSE),\"\")","v":""},{"$f":"IFERROR(VLOOKUP(A955,'1.Портфель кредитів'!A:Z,7,FALSE),\"\")","v":""},{"$f":"IFERROR(VLOOKUP(A955,'1.Портфель кредитів'!A:Z,14,FALSE),\"\")","v":""},null,null,null,null,null,null,null,null,{"$f":"IFERROR(VLOOKUP(A955,'1.Портфель кредитів'!A:Z,30,FALSE),\"\")","v":""},0,{"$error":"#VALUE!"},null,null,null,null,null,{"$f":"VLOOKUP(C955,Hidden_Словник!$A$2:C$81,3,FALSE)","v":{"$error":"#N/A"}},0,{"$f":"VLOOKUP(F955,Hidden_Словник!$W$2:$X$13,2,FALSE)","v":{"$error":"#N/A"}},{"$f":"#REF!","v":{"$error":"#REF!"}},{"$error":"#N/A"}]
[null,"",{"$f":"IFERROR(VLOOKUP(A956,'1.Портфель кредитів'!A:Z,3,FALSE),\"\")","v":""},{"$f":"IFERROR(VLOOKUP(A956,'1.Портфель кредитів'!A:Z,7,FALSE),\"\")","v":""},{"$f":"IFERROR(VLOOKUP(A956,'1.Портфель кредитів'!A:Z,14,FALSE),\"\")","v":""},null,null,null,null,null,null,null,null,{"$f":"IFERROR(VLOOKUP(A956,'1.Портфель кредитів'!A:Z,30,FALSE),\"\")","v":""},0,{"$error":"#VALUE!"},null,null,null,null,null,{"$f":"VLOOKUP(C956,Hidden_Словник!$A$2:C$81,3,FALSE)","v":{"$error":"#N/A"}},0,{"$f":"VLOOKUP(F956,Hidden_Словник!$W$2:$X$13,2,FALSE)","v":{"$error":"#N/A"}},{"$f":"#REF!","v":{"$error":"#REF!"}},{"$error":"#N/A"}]
[null,"",{"$f":"IFERROR(VLOOKUP(A957,'1.Портфель кредитів'!A:Z,3,FALSE),\"\")","v":""},{"$f":"IFERROR(VLOOKUP(A957,'1.Портфель кредитів'!A:Z,7,FALSE),\"\")","v":""},{"$f":"IFERROR(VLOOKUP(A957,'1.Портфель кредитів'!A:Z,14,FALSE),\"\")","v":""},null,null,null,null,null,null,null,null,{"$f":"IFERROR(VLOOKUP(A957,'1.Портфель кредитів'!A:Z,30,FALSE),\"\")","v":""},0,{"$error":"#VALUE!"},null,null,null,null,null,{"$f":"VLOOKUP(C957,Hidden_Словник!$A$2:C$81,3,FALSE)","v":{"$error":"#N/A"}},0,{"$f":"VLOOKUP(F957,Hidden_Словник!$W$2:$X$13,2,FALSE)","v":{"$error":"#N/A"}},{"$f":"#REF!","v":{"$error":"#REF!"}},{"$error":"#N/A"}]
[null,{"$f":"IFERROR(Z958,\"\")","v":""},{"$f":"IFERROR(VLOOKUP(A958,'1.Портфель кредитів'!A:Z,3,FALSE),\"\")","v":""},{"$f":"IFERROR(VLOOKUP(A958,'1.Портфель кредитів'!A:Z,7,FALSE),\"\")","v":""},{"$f":"IFERROR(VLOOKUP(A958,'1.Портфель кредитів'!A:Z,14,FALSE),\"\")","v":""},null,null,null,null,null,null,null,null,{"$f":"IFERROR(VLOOKUP(A958,'1.Портфель кредитів'!A:Z,30,FALSE),\"\")","v":""},0,{"$error":"#VALUE!"},null,null,null,null,null,{"$f":"VLOOKUP(C958,Hidden_Словник!$A$2:C$81,3,FALSE)","v":{"$error":"#N/A"}},0,{"$f":"VLOOKUP(F958,Hidden_Словник!$W$2:$X$13,2,FALSE)","v":{"$error":"#N/A"}},{"$f":"#REF!","v":{"$error":"#REF!"}},{"$f":"V958&\"_\"&W958&X958&Y958","v":{"$error":"#N/A"}}]
[null,"",{"$f":"IFERROR(VLOOKUP(A959,'1.Портфель кредитів'!A:Z,3,FALSE),\"\")","v":""},{"$f":"IFERROR(VLOOKUP(A959,'1.Портфель кредитів'!A:Z,7,FALSE),\"\")","v":""},{"$f":"IFERROR(VLOOKUP(A959,'1.Портфель кредитів'!A:Z,14,FALSE),\"\")","v":""},null,null,null,null,null,null,null,null,{"$f":"IFERROR(VLOOKUP(A959,'1.Портфель кредитів'!A:Z,30,FALSE),\"\")","v":""},0,{"$error":"#VALUE!"},null,null,null,null,null,{"$f":"VLOOKUP(C959,Hidden_Словник!$A$2:C$81,3,FALSE)","v":{"$error":"#N/A"}},0,{"$f":"VLOOKUP(F959,Hidden_Словник!$W$2:$X$13,2,FALSE)","v":{"$error":"#N/A"}},{"$f":"#REF!","v":{"$error":"#REF!"}},{"$error":"#N/A"}]
[null,"",{"$f":"IFERROR(VLOOKUP(A960,'1.Портфель кредитів'!A:Z,3,FALSE),\"\")","v":""},{"$f":"IFERROR(VLOOKUP(A960,'1.Портфель кредитів'!A:Z,7,FALSE),\"\")","v":""},{"$f":"IFERROR(VLOOKUP(A960,'1.Портфель кредитів'!A:Z,14,FALSE),\"\")","v":""},null,null,null,null,null,null,null,null,{"$f":"IFERROR(VLOOKUP(A960,'1.Портфель кредитів'!A:Z,30,FALSE),\"\")","v":""},0,{"$error":"#VALUE!"},null,null,null,null,null,{"$f":"VLOOKUP(C960,Hidden_Словник!$A$2:C$81,3,FALSE)","v":{"$error":"#N/A"}},0,{"$f":"VLOOKUP(F960,Hidden_Словник!$W$2:$X$13,2,FALSE)","v":{"$error":"#N/A"}},{"$f":"#REF!","v":{"$error":"#REF!"}},{"$error":"#N/A"}]
[null,"",{"$f":"IFERROR(VLOOKUP(A961,'1.Портфель кредитів'!A:Z,3,FALSE),\"\")","v":""},{"$f":"IFERROR(VLOOKUP(A961,'1.Портфель кредитів'!A:Z,7,FALSE),\"\")","v":""},{"$f":"IFERROR(VLOOKUP(A961,'1.Портфель кредитів'!A:Z,14,FALSE),\"\")","v":""},null,null,null,null,null,null,null,null,{"$f":"IFERROR(VLOOKUP(A961,'1.Портфель кредитів'!A:Z,30,FALSE),\"\")","v":""},0,{"$error":"#VALUE!"},null,null,null,null,null,{"$f":"VLOOKUP(C961,Hidden_Словник!$A$2:C$81,3,FALSE)","v":{"$error":"#N/A"}},0,{"$f":"VLOOKUP(F961,Hidden_Словник!$W$2:$X$13,2,FALSE)","v":{"$error":"#N/A"}},{"$f":"#REF!","v":{"$error":"#REF!"}},{"$error":"#N/A"}]
[null,"",{"$f":"IFERROR(VLOOKUP(A962,'1.Портфель кредитів'!A:Z,3,FALSE),\"\")","v":""},{"$f":"IFERROR(VLOOKUP(A962,'1.Портфель кредитів'!A:Z,7,FALSE),\"\")","v":""},{"$f":"IFERROR(VLOOKUP(A962,'1.Портфель кредитів'!A:Z,14,FALSE),\"\")","v":""},null,null,null,null,null,null,null,null,{"$f":"IFERROR(VLOOKUP(A962,'1.Портфель кредитів'!A:Z,30,FALSE),\"\")","v":""},0,{"$error":"#VALUE!"},null,null,null,null,null,{"$f":"VLOOKUP(C962,Hidden_Словник!$A$2:C$81,3,FALSE)","v":{"$error":"#N/A"}},0,{"$f":"VLOOKUP(F962,Hidden_Словник!$W$2:$X$13,2,FALSE)","v":{"$error":"#N/A"}},{"$f":"#REF!","v":{"$error":"#REF!"}},{"$error":"#N/A"}]
[null,"",{"$f":"IFERROR(VLOOKUP(A963,'1.Портфель кредитів'!A:Z,3,FALSE),\"\")","v":""},{"$f":"IFERROR(VLOOKUP(A963,'1.Портфель кредитів'!A:Z,7,FALSE),\"\")","v":""},{"$f":"IFERROR(VLOOKUP(A963,'1.Портфель кредитів'!A:Z,14,FALSE),\"\")","v":""},null,null,null,null,null,null,null,null,{"$f":"IFERROR(VLOOKUP(A963,'1.Портфель кредитів'!A:Z,30,FALSE),\"\")","v":""},0,{"$error":"#VALUE!"},null,null,null,null,null,{"$f":"VLOOKUP(C963,Hidden_Словник!$A$2:C$81,3,FALSE)","v":{"$error":"#N/A"}},0,{"$f":"VLOOKUP(F963,Hidden_Словник!$W$2:$X$13,2,FALSE)","v":{"$error":"#N/A"}},{"$f":"#REF!","v":{"$error":"#REF!"}},{"$error":"#N/A"}]
[null,"",{"$f":"IFERROR(VLOOKUP(A964,'1.Портфель кредитів'!A:Z,3,FALSE),\"\")","v":""},{"$f":"IFERROR(VLOOKUP(A964,'1.Портфель кредитів'!A:Z,7,FALSE),\"\")","v":""},{"$f":"IFERROR(VLOOKUP(A964,'1.Портфель кредитів'!A:Z,14,FALSE),\"\")","v":""},null,null,null,null,null,null,null,null,{"$f":"IFERROR(VLOOKUP(A964,'1.Портфель кредитів'!A:Z,30,FALSE),\"\")","v":""},0,{"$error":"#VALUE!"},null,null,null,null,null,{"$f":"VLOOKUP(C964,Hidden_Словник!$A$2:C$81,3,FALSE)","v":{"$error":"#N/A"}},0,{"$f":"VLOOKUP(F964,Hidden_Словник!$W$2:$X$13,2,FALSE)","v":{"$error":"#N/A"}},{"$f":"#REF!","v":{"$error":"#REF!"}},{"$error":"#N/A"}]
[null,"",{"$f":"IFERROR(VLOOKUP(A965,'1.Портфель кредитів'!A:Z,3,FALSE),\"\")","v":""},{"$f":"IFERROR(VLOOKUP(A965,'1.Портфель кредитів'!A:Z,7,FALSE),\"\")","v":""},{"$f":"IFERROR(VLOOKUP(A965,'1.Портфель кредитів'!A:Z,14,FALSE),\"\")","v":""},null,null,null,null,null,null,null,null,{"$f":"IFERROR(VLOOKUP(A965,'1.Портфель кредитів'!A:Z,30,FALSE),\"\")","v":""},0,{"$error":"#VALUE!"},null,null,null,null,null,{"$f":"VLOOKUP(C965,Hidden_Словник!$A$2:C$81,3,FALSE)","v":{"$error":"#N/A"}},0,{"$f":"VLOOKUP(F965,Hidden_Словник!$W$2:$X$13,2,FALSE)","v":{"$error":"#N/A"}},{"$f":"#REF!","v":{"$error":"#REF!"}},{"$error":"#N/A"}]
[null,"",{"$f":"IFERROR(VLOOKUP(A966,'1.Портфель кредитів'!A:Z,3,FALSE),\"\")","v":""},{"$f":"IFERROR(VLOOKUP(A966,'1.Портфель кредитів'!A:Z,7,FALSE),\"\")","v":""},{"$f":"IFERROR(VLOOKUP(A966,'1.Портфель кредитів'!A:Z,14,FALSE),\"\")","v":""},null,null,null,null,null,null,null,null,{"$f":"IFERROR(VLOOKUP(A966,'1.Портфель кредитів'!A:Z,30,FALSE),\"\")","v":""},0,{"$error":"#VALUE!"},null,null,null,null,null,{"$f":"VLOOKUP(C966,Hidden_Словник!$A$2:C$81,3,FALSE)","v":{"$error":"#N/A"}},0,{"$f":"VLOOKUP(F966,Hidden_Словник!$W$2:$X$13,2,FALSE)","v":{"$error":"#N/A"}},{"$f":"#REF!","v":{"$error":"#REF!"}},{"$error":"#N/A"}]
[null,"",{"$f":"IFERROR(VLOOKUP(A967,'1.Портфель кредитів'!A:Z,3,FALSE),\"\")","v":""},{"$f":"IFERROR(VLOOKUP(A967,'1.Портфель кредитів'!A:Z,7,FALSE),\"\")","v":""},{"$f":"IFERROR(VLOOKUP(A967,'1.Портфель кредитів'!A:Z,14,FALSE),\"\")","v":""},null,null,null,null,null,null,null,null,{"$f":"IFERROR(VLOOKUP(A967,'1.Портфель кредитів'!A:Z,30,FALSE),\"\")","v":""},0,{"$error":"#VALUE!"},null,null,null,null,null,{"$f":"VLOOKUP(C967,Hidden_Словник!$A$2:C$81,3,FALSE)","v":{"$error":"#N/A"}},0,{"$f":"VLOOKUP(F967,Hidden_Словник!$W$2:$X$13,2,FALSE)","v":{"$error":"#N/A"}},{"$f":"#REF!","v":{"$error":"#REF!"}},{"$error":"#N/A"}]
[null,"",{"$f":"IFERROR(VLOOKUP(A968,'1.Портфель кредитів'!A:Z,3,FALSE),\"\")","v":""},{"$f":"IFERROR(VLOOKUP(A968,'1.Портфель кредитів'!A:Z,7,FALSE),\"\")","v":""},{"$f":"IFERROR(VLOOKUP(A968,'1.Портфель кредитів'!A:Z,14,FALSE),\"\")","v":""},null,null,null,null,null,null,null,null,{"$f":"IFERROR(VLOOKUP(A968,'1.Портфель кредитів'!A:Z,30,FALSE),\"\")","v":""},0,{"$error":"#VALUE!"},null,null,null,null,null,{"$f":"VLOOKUP(C968,Hidden_Словник!$A$2:C$81,3,FALSE)","v":{"$error":"#N/A"}},0,{"$f":"VLOOKUP(F968,Hidden_Словник!$W$2:$X$13,2,FALSE)","v":{"$error":"#N/A"}},{"$f":"#REF!","v":{"$error":"#REF!"}},{"$error":"#N/A"}]
[null,"",{"$f":"IFERROR(VLOOKUP(A969,'1.Портфель кредитів'!A:Z,3,FALSE),\"\")","v":""},{"$f":"IFERROR(VLOOKUP(A969,'1.Портфель кредитів'!A:Z,7,FALSE),\"\")","v":""},{"$f":"IFERROR(VLOOKUP(A969,'1.Портфель кредитів'!A:Z,14,FALSE),\"\")","v":""},null,null,null,null,null,null,null,null,{"$f":"IFERROR(VLOOKUP(A969,'1.Портфель кредитів'!A:Z,30,FALSE),\"\")","v":""},0,{"$error":"#VALUE!"},null,null,null,null,null,{"$f":"VLOOKUP(C969,Hidden_Словник!$A$2:C$81,3,FALSE)","v":{"$error":"#N/A"}},0,{"$f":"VLOOKUP(F969,Hidden_Словник!$W$2:$X$13,2,FALSE)","v":{"$error":"#N/A"}},{"$f":"#REF!","v":{"$error":"#REF!"}},{"$error":"#N/A"}]
[null,"",{"$f":"IFERROR(VLOOKUP(A970,'1.Портфель кредитів'!A:Z,3,FALSE),\"\")","v":""},{"$f":"IFERROR(VLOOKUP(A970,'1.Портфель кредитів'!A:Z,7,FALSE),\"\")","v":""},{"$f":"IFERROR(VLOOKUP(A970,'1.Портфель кредитів'!A:Z,14,FALSE),\"\")","v":""},null,null,null,null,null,null,null,null,{"$f":"IFERROR(VLOOKUP(A970,'1.Портфель кредитів'!A:Z,30,FALSE),\"\")","v":""},0,{"$error":"#VALUE!"},null,null,null,null,null,{"$f":"VLOOKUP(C970,Hidden_Словник!$A$2:C$81,3,FALSE)","v":{"$error":"#N/A"}},0,{"$f":"VLOOKUP(F970,Hidden_Словник!$W$2:$X$13,2,FALSE)","v":{"$error":"#N/A"}},{"$f":"#REF!","v":{"$error":"#REF!"}},{"$error":"#N/A"}]
[null,"",{"$f":"IFERROR(VLOOKUP(A971,'1.Портфель кредитів'!A:Z,3,FALSE),\"\")","v":""},{"$f":"IFERROR(VLOOKUP(A971,'1.Портфель кредитів'!A:Z,7,FALSE),\"\")","v":""},{"$f":"IFERROR(VLOOKUP(A971,'1.Портфель кредитів'!A:Z,14,FALSE),\"\")","v":""},null,null,null,null,null,null,null,null,{"$f":"IFERROR(VLOOKUP(A971,'1.Портфель кредитів'!A:Z,30,FALSE),\"\")","v":""},0,{"$error":"#VALUE!"},null,null,null,null,null,{"$f":"VLOOKUP(C971,Hidden_Словник!$A$2:C$81,3,FALSE)","v":{"$error":"#N/A"}},0,{"$f":"VLOOKUP(F971,Hidden_Словник!$W$2:$X$13,2,FALSE)","v":{"$error":"#N/A"}},{"$f":"#REF!","v":{"$error":"#REF!"}},{"$error":"#N/A"}]
[null,"",{"$f":"IFERROR(VLOOKUP(A972,'1.Портфель кредитів'!A:Z,3,FALSE),\"\")","v":""},{"$f":"IFERROR(VLOOKUP(A972,'1.Портфель кредитів'!A:Z,7,FALSE),\"\")","v":""},{"$f":"IFERROR(VLOOKUP(A972,'1.Портфель кредитів'!A:Z,14,FALSE),\"\")","v":""},null,null,null,null,null,null,null,null,{"$f":"IFERROR(VLOOKUP(A972,'1.Портфель кредитів'!A:Z,30,FALSE),\"\")","v":""},0,{"$error":"#VALUE!"},null,null,null,null,null,{"$f":"VLOOKUP(C972,Hidden_Словник!$A$2:C$81,3,FALSE)","v":{"$error":"#N/A"}},0,{"$f":"VLOOKUP(F972,Hidden_Словник!$W$2:$X$13,2,FALSE)","v":{"$error":"#N/A"}},{"$f":"#REF!","v":{"$error":"#REF!"}},{"$error":"#N/A"}]
[null,"",{"$f":"IFERROR(VLOOKUP(A973,'1.Портфель кредитів'!A:Z,3,FALSE),\"\")","v":""},{"$f":"IFERROR(VLOOKUP(A973,'1.Портфель кредитів'!A:Z,7,FALSE),\"\")","v":""},{"$f":"IFERROR(VLOOKUP(A973,'1.Портфель кредитів'!A:Z,14,FALSE),\"\")","v":""},null,null,null,null,null,null,null,null,{"$f":"IFERROR(VLOOKUP(A973,'1.Портфель кредитів'!A:Z,30,FALSE),\"\")","v":""},0,{"$error":"#VALUE!"},null,null,null,null,null,{"$f":"VLOOKUP(C973,Hidden_Словник!$A$2:C$81,3,FALSE)","v":{"$error":"#N/A"}},0,{"$f":"VLOOKUP(F973,Hidden_Словник!$W$2:$X$13,2,FALSE)","v":{"$error":"#N/A"}},{"$f":"#REF!","v":{"$error":"#REF!"}},{"$error":"#N/A"}]
[null,"",{"$f":"IFERROR(VLOOKUP(A974,'1.Портфель кредитів'!A:Z,3,FALSE),\"\")","v":""},{"$f":"IFERROR(VLOOKUP(A974,'1.Портфель кредитів'!A:Z,7,FALSE),\"\")","v":""},{"$f":"IFERROR(VLOOKUP(A974,'1.Портфель кредитів'!A:Z,14,FALSE),\"\")","v":""},null,null,null,null,null,null,null,null,{"$f":"IFERROR(VLOOKUP(A974,'1.Портфель кредитів'!A:Z,30,FALSE),\"\")","v":""},0,{"$error":"#VALUE!"},null,null,null,null,null,{"$f":"VLOOKUP(C974,Hidden_Словник!$A$2:C$81,3,FALSE)","v":{"$error":"#N/A"}},0,{"$f":"VLOOKUP(F974,Hidden_Словник!$W$2:$X$13,2,FALSE)","v":{"$error":"#N/A"}},{"$f":"#REF!","v":{"$error":"#REF!"}},{"$error":"#N/A"}]
[null,"",{"$f":"IFERROR(VLOOKUP(A975,'1.Портфель кредитів'!A:Z,3,FALSE),\"\")","v":""},{"$f":"IFERROR(VLOOKUP(A975,'1.Портфель кредитів'!A:Z,7,FALSE),\"\")","v":""},{"$f":"IFERROR(VLOOKUP(A975,'1.Портфель кредитів'!A:Z,14,FALSE),\"\")","v":""},null,null,null,null,null,null,null,null,{"$f":"IFERROR(VLOOKUP(A975,'1.Портфель кредитів'!A:Z,30,FALSE),\"\")","v":""},0,{"$error":"#VALUE!"},null,null,null,null,null,{"$f":"VLOOKUP(C975,Hidden_Словник!$A$2:C$81,3,FALSE)","v":{"$error":"#N/A"}},0,{"$f":"VLOOKUP(F975,Hidden_Словник!$W$2:$X$13,2,FALSE)","v":{"$error":"#N/A"}},{"$f":"#REF!","v":{"$error":"#REF!"}},{"$error":"#N/A"}]
[null,"",{"$f":"IFERROR(VLOOKUP(A976,'1.Портфель кредитів'!A:Z,3,FALSE),\"\")","v":""},{"$f":"IFERROR(VLOOKUP(A976,'1.Портфель кредитів'!A:Z,7,FALSE),\"\")","v":""},{"$f":"IFERROR(VLOOKUP(A976,'1.Портфель кредитів'!A:Z,14,FALSE),\"\")","v":""},null,null,null,null,null,null,null,null,{"$f":"IFERROR(VLOOKUP(A976,'1.Портфель кредитів'!A:Z,30,FALSE),\"\")","v":""},0,{"$error":"#VALUE!"},null,null,null,null,null,{"$f":"VLOOKUP(C976,Hidden_Словник!$A$2:C$81,3,FALSE)","v":{"$error":"#N/A"}},0,{"$f":"VLOOKUP(F976,Hidden_Словник!$W$2:$X$13,2,FALSE)","v":{"$error":"#N/A"}},{"$f":"#REF!","v":{"$error":"#REF!"}},{"$error":"#N/A"}]
[null,"",{"$f":"IFERROR(VLOOKUP(A977,'1.Портфель кредитів'!A:Z,3,FALSE),\"\")","v":""},{"$f":"IFERROR(VLOOKUP(A977,'1.Портфель кредитів'!A:Z,7,FALSE),\"\")","v":""},{"$f":"IFERROR(VLOOKUP(A977,'1.Портфель кредитів'!A:Z,14,FALSE),\"\")","v":""},null,null,null,null,null,null,null,null,{"$f":"IFERROR(VLOOKUP(A977,'1.Портфель кредитів'!A:Z,30,FALSE),\"\")","v":""},0,{"$error":"#VALUE!"},null,null,null,null,null,{"$f":"VLOOKUP(C977,Hidden_Словник!$A$2:C$81,3,FALSE)","v":{"$error":"#N/A"}},0,{"$f":"VLOOKUP(F977,Hidden_Словник!$W$2:$X$13,2,FALSE)","v":{"$error":"#N/A"}},{"$f":"#REF!","v":{"$error":"#REF!"}},{"$error":"#N/A"}]
[null,"",{"$f":"IFERROR(VLOOKUP(A978,'1.Портфель кредитів'!A:Z,3,FALSE),\"\")","v":""},{"$f":"IFERROR(VLOOKUP(A978,'1.Портфель кредитів'!A:Z,7,FALSE),\"\")","v":""},{"$f":"IFERROR(VLOOKUP(A978,'1.Портфель кредитів'!A:Z,14,FALSE),\"\")","v":""},null,null,null,null,null,null,null,null,{"$f":"IFERROR(VLOOKUP(A978,'1.Портфель кредитів'!A:Z,30,FALSE),\"\")","v":""},0,{"$error":"#VALUE!"},null,null,null,null,null,{"$f":"VLOOKUP(C978,Hidden_Словник!$A$2:C$81,3,FALSE)","v":{"$error":"#N/A"}},0,{"$f":"VLOOKUP(F978,Hidden_Словник!$W$2:$X$13,2,FALSE)","v":{"$error":"#N/A"}},{"$f":"#REF!","v":{"$error":"#REF!"}},{"$error":"#N/A"}]
[null,"",{"$f":"IFERROR(VLOOKUP(A979,'1.Портфель кредитів'!A:Z,3,FALSE),\"\")","v":""},{"$f":"IFERROR(VLOOKUP(A979,'1.Портфель кредитів'!A:Z,7,FALSE),\"\")","v":""},{"$f":"IFERROR(VLOOKUP(A979,'1.Портфель кредитів'!A:Z,14,FALSE),\"\")","v":""},null,null,null,null,null,null,null,null,{"$f":"IFERROR(VLOOKUP(A979,'1.Портфель кредитів'!A:Z,30,FALSE),\"\")","v":""},0,{"$error":"#VALUE!"},null,null,null,null,null,{"$f":"VLOOKUP(C979,Hidden_Словник!$A$2:C$81,3,FALSE)","v":{"$error":"#N/A"}},{"$f":"ROUNDUP(K979,0)","v":0},{"$f":"VLOOKUP(F979,Hidden_Словник!$W$2:$X$13,2,FALSE)","v":{"$error":"#N/A"}},{"$f":"#REF!","v":{"$error":"#REF!"}},{"$error":"#N/A"}]
[null,"",{"$f":"IFERROR(VLOOKUP(A980,'1.Портфель кредитів'!A:Z,3,FALSE),\"\")","v":""},{"$f":"IFERROR(VLOOKUP(A980,'1.Портфель кредитів'!A:Z,7,FALSE),\"\")","v":""},{"$f":"IFERROR(VLOOKUP(A980,'1.Портфель кредитів'!A:Z,14,FALSE),\"\")","v":""},null,null,null,null,null,null,null,null,{"$f":"IFERROR(VLOOKUP(A980,'1.Портфель кредитів'!A:Z,30,FALSE),\"\")","v":""},0,{"$error":"#VALUE!"},null,null,null,null,null,{"$f":"VLOOKUP(C980,Hidden_Словник!$A$2:C$81,3,FALSE)","v":{"$error":"#N/A"}},0,{"$f":"VLOOKUP(F980,Hidden_Словник!$W$2:$X$13,2,FALSE)","v":{"$error":"#N/A"}},{"$f":"#REF!","v":{"$error":"#REF!"}},{"$error":"#N/A"}]
[null,"",{"$f":"IFERROR(VLOOKUP(A981,'1.Портфель кредитів'!A:Z,3,FALSE),\"\")","v":""},{"$f":"IFERROR(VLOOKUP(A981,'1.Портфель кредитів'!A:Z,7,FALSE),\"\")","v":""},{"$f":"IFERROR(VLOOKUP(A981,'1.Портфель кредитів'!A:Z,14,FALSE),\"\")","v":""},null,null,null,null,null,null,null,null,{"$f":"IFERROR(VLOOKUP(A981,'1.Портфель кредитів'!A:Z,30,FALSE),\"\")","v":""},0,{"$error":"#VALUE!"},null,null,null,null,null,{"$f":"VLOOKUP(C981,Hidden_Словник!$A$2:C$81,3,FALSE)","v":{"$error":"#N/A"}},0,{"$f":"VLOOKUP(F981,Hidden_Словник!$W$2:$X$13,2,FALSE)","v":{"$error":"#N/A"}},{"$f":"#REF!","v":{"$error":"#REF!"}},{"$error":"#N/A"}]
[null,"",{"$f":"IFERROR(VLOOKUP(A982,'1.Портфель кредитів'!A:Z,3,FALSE),\"\")","v":""},{"$f":"IFERROR(VLOOKUP(A982,'1.Портфель кредитів'!A:Z,7,FALSE),\"\")","v":""},{"$f":"IFERROR(VLOOKUP(A982,'1.Портфель кредитів'!A:Z,14,FALSE),\"\")","v":""},null,null,null,null,null,null,null,null,{"$f":"IFERROR(VLOOKUP(A982,'1.Портфель кредитів'!A:Z,30,FALSE),\"\")","v":""},0,{"$error":"#VALUE!"},null,null,null,null,null,{"$f":"VLOOKUP(C982,Hidden_Словник!$A$2:C$81,3,FALSE)","v":{"$error":"#N/A"}},0,{"$f":"VLOOKUP(F982,Hidden_Словник!$W$2:$X$13,2,FALSE)","v":{"$error":"#N/A"}},{"$f":"#REF!","v":{"$error":"#REF!"}},{"$error":"#N/A"}]
[null,"",{"$f":"IFERROR(VLOOKUP(A983,'1.Портфель кредитів'!A:Z,3,FALSE),\"\")","v":""},{"$f":"IFERROR(VLOOKUP(A983,'1.Портфель кредитів'!A:Z,7,FALSE),\"\")","v":""},{"$f":"IFERROR(VLOOKUP(A983,'1.Портфель кредитів'!A:Z,14,FALSE),\"\")","v":""},null,null,null,null,null,null,null,null,{"$f":"IFERROR(VLOOKUP(A983,'1.Портфель кредитів'!A:Z,30,FALSE),\"\")","v":""},{"$f":"SUMIF(B:B,B983,N:N)","v":0},{"$error":"#VALUE!"},null,null,null,null,null,{"$f":"VLOOKUP(C983,Hidden_Словник!$A$2:C$81,3,FALSE)","v":{"$error":"#N/A"}},0,{"$f":"VLOOKUP(F983,Hidden_Словник!$W$2:$X$13,2,FALSE)","v":{"$error":"#N/A"}},{"$f":"#REF!","v":{"$error":"#REF!"}},{"$error":"#N/A"}]
[null,"",{"$f":"IFERROR(VLOOKUP(A984,'1.Портфель кредитів'!A:Z,3,FALSE),\"\")","v":""},{"$f":"IFERROR(VLOOKUP(A984,'1.Портфель кредитів'!A:Z,7,FALSE),\"\")","v":""},{"$f":"IFERROR(VLOOKUP(A984,'1.Портфель кредитів'!A:Z,14,FALSE),\"\")","v":""},null,null,null,null,null,null,null,null,{"$f":"IFERROR(VLOOKUP(A984,'1.Портфель кредитів'!A:Z,30,FALSE),\"\")","v":""},0,{"$error":"#VALUE!"},null,null,null,null,null,{"$f":"VLOOKUP(C984,Hidden_Словник!$A$2:C$81,3,FALSE)","v":{"$error":"#N/A"}},0,{"$f":"VLOOKUP(F984,Hidden_Словник!$W$2:$X$13,2,FALSE)","v":{"$error":"#N/A"}},{"$f":"#REF!","v":{"$error":"#REF!"}},{"$error":"#N/A"}]
[null,"",{"$f":"IFERROR(VLOOKUP(A985,'1.Портфель кредитів'!A:Z,3,FALSE),\"\")","v":""},{"$f":"IFERROR(VLOOKUP(A985,'1.Портфель кредитів'!A:Z,7,FALSE),\"\")","v":""},{"$f":"IFERROR(VLOOKUP(A985,'1.Портфель кредитів'!A:Z,14,FALSE),\"\")","v":""},null,null,null,null,null,null,null,null,{"$f":"IFERROR(VLOOKUP(A985,'1.Портфель кредитів'!A:Z,30,FALSE),\"\")","v":""},0,{"$error":"#VALUE!"},null,null,null,null,null,{"$f":"VLOOKUP(C985,Hidden_Словник!$A$2:C$81,3,FALSE)","v":{"$error":"#N/A"}},0,{"$f":"VLOOKUP(F985,Hidden_Словник!$W$2:$X$13,2,FALSE)","v":{"$error":"#N/A"}},{"$f":"#REF!","v":{"$error":"#REF!"}},{"$error":"#N/A"}]
[null,"",{"$f":"IFERROR(VLOOKUP(A986,'1.Портфель кредитів'!A:Z,3,FALSE),\"\")","v":""},{"$f":"IFERROR(VLOOKUP(A986,'1.Портфель кредитів'!A:Z,7,FALSE),\"\")","v":""},{"$f":"IFERROR(VLOOKUP(A986,'1.Портфель кредитів'!A:Z,14,FALSE),\"\")","v":""},null,null,null,null,null,null,null,null,{"$f":"IFERROR(VLOOKUP(A986,'1.Портфель кредитів'!A:Z,30,FALSE),\"\")","v":""},0,{"$error":"#VALUE!"},null,null,null,null,null,{"$f":"VLOOKUP(C986,Hidden_Словник!$A$2:C$81,3,FALSE)","v":{"$error":"#N/A"}},0,{"$f":"VLOOKUP(F986,Hidden_Словник!$W$2:$X$13,2,FALSE)","v":{"$error":"#N/A"}},{"$f":"#REF!","v":{"$error":"#REF!"}},{"$error":"#N/A"}]
[null,"",{"$f":"IFERROR(VLOOKUP(A987,'1.Портфель кредитів'!A:Z,3,FALSE),\"\")","v":""},{"$f":"IFERROR(VLOOKUP(A987,'1.Портфель кредитів'!A:Z,7,FALSE),\"\")","v":""},{"$f":"IFERROR(VLOOKUP(A987,'1.Портфель кредитів'!A:Z,14,FALSE),\"\")","v":""},null,null,null,null,null,null,null,null,{"$f":"IFERROR(VLOOKUP(A987,'1.Портфель кредитів'!A:Z,30,FALSE),\"\")","v":""},0,{"$error":"#VALUE!"},null,null,null,null,null,{"$f":"VLOOKUP(C987,Hidden_Словник!$A$2:C$81,3,FALSE)","v":{"$error":"#N/A"}},0,{"$f":"VLOOKUP(F987,Hidden_Словник!$W$2:$X$13,2,FALSE)","v":{"$error":"#N/A"}},{"$f":"#REF!","v":{"$error":"#REF!"}},{"$error":"#N/A"}]
[null,"",{"$f":"IFERROR(VLOOKUP(A988,'1.Портфель кредитів'!A:Z,3,FALSE),\"\")","v":""},{"$f":"IFERROR(VLOOKUP(A988,'1.Портфель кредитів'!A:Z,7,FALSE),\"\")","v":""},{"$f":"IFERROR(VLOOKUP(A988,'1.Портфель кредитів'!A:Z,14,FALSE),\"\")","v":""},null,null,null,null,null,null,null,null,{"$f":"IFERROR(VLOOKUP(A988,'1.Портфель кредитів'!A:Z,30,FALSE),\"\")","v":""},0,{"$error":"#VALUE!"},null,null,null,null,null,{"$f":"VLOOKUP(C988,Hidden_Словник!$A$2:C$81,3,FALSE)","v":{"$error":"#N/A"}},0,{"$f":"VLOOKUP(F988,Hidden_Словник!$W$2:$X$13,2,FALSE)","v":{"$error":"#N/A"}},{"$f":"#REF!","v":{"$error":"#REF!"}},{"$error":"#N/A"}]
[null,"",{"$f":"IFERROR(VLOOKUP(A989,'1.Портфель кредитів'!A:Z,3,FALSE),\"\")","v":""},{"$f":"IFERROR(VLOOKUP(A989,'1.Портфель кредитів'!A:Z,7,FALSE),\"\")","v":""},{"$f":"IFERROR(VLOOKUP(A989,'1.Портфель кредитів'!A:Z,14,FALSE),\"\")","v":""},null,null,null,null,null,null,null,null,{"$f":"IFERROR(VLOOKUP(A989,'1.Портфель кредитів'!A:Z,30,FALSE),\"\")","v":""},0,{"$error":"#VALUE!"},null,null,null,null,null,{"$f":"VLOOKUP(C989,Hidden_Словник!$A$2:C$81,3,FALSE)","v":{"$error":"#N/A"}},0,{"$f":"VLOOKUP(F989,Hidden_Словник!$W$2:$X$13,2,FALSE)","v":{"$error":"#N/A"}},{"$f":"#REF!","v":{"$error":"#REF!"}},{"$error":"#N/A"}]
[null,"",{"$f":"IFERROR(VLOOKUP(A990,'1.Портфель кредитів'!A:Z,3,FALSE),\"\")","v":""},{"$f":"IFERROR(VLOOKUP(A990,'1.Портфель кредитів'!A:Z,7,FALSE),\"\")","v":""},{"$f":"IFERROR(VLOOKUP(A990,'1.Портфель кредитів'!A:Z,14,FALSE),\"\")","v":""},null,null,null,null,null,null,null,null,{"$f":"IFERROR(VLOOKUP(A990,'1.Портфель кредитів'!A:Z,30,FALSE),\"\")","v":""},0,{"$error":"#VALUE!"},null,null,null,null,null,{"$f":"VLOOKUP(C990,Hidden_Словник!$A$2:C$81,3,FALSE)","v":{"$error":"#N/A"}},0,{"$f":"VLOOKUP(F990,Hidden_Словник!$W$2:$X$13,2,FALSE)","v":{"$error":"#N/A"}},{"$f":"#REF!","v":{"$error":"#REF!"}},{"$error":"#N/A"}]
[null,"",{"$f":"IFERROR(VLOOKUP(A991,'1.Портфель кредитів'!A:Z,3,FALSE),\"\")","v":""},{"$f":"IFERROR(VLOOKUP(A991,'1.Портфель кредитів'!A:Z,7,FALSE),\"\")","v":""},{"$f":"IFERROR(VLOOKUP(A991,'1.Портфель кредитів'!A:Z,14,FALSE),\"\")","v":""},null,null,null,null,null,null,null,null,{"$f":"IFERROR(VLOOKUP(A991,'1.Портфель кредитів'!A:Z,30,FALSE),\"\")","v":""},0,{"$error":"#VALUE!"},null,null,null,null,null,{"$f":"VLOOKUP(C991,Hidden_Словник!$A$2:C$81,3,FALSE)","v":{"$error":"#N/A"}},0,{"$f":"VLOOKUP(F991,Hidden_Словник!$W$2:$X$13,2,FALSE)","v":{"$error":"#N/A"}},{"$f":"#REF!","v":{"$error":"#REF!"}},{"$error":"#N/A"}]
[null,"",{"$f":"IFERROR(VLOOKUP(A992,'1.Портфель кредитів'!A:Z,3,FALSE),\"\")","v":""},{"$f":"IFERROR(VLOOKUP(A992,'1.Портфель кредитів'!A:Z,7,FALSE),\"\")","v":""},{"$f":"IFERROR(VLOOKUP(A992,'1.Портфель кредитів'!A:Z,14,FALSE),\"\")","v":""},null,null,null,null,null,null,null,null,{"$f":"IFERROR(VLOOKUP(A992,'1.Портфель кредитів'!A:Z,30,FALSE),\"\")","v":""},0,{"$error":"#VALUE!"},null,null,null,null,null,{"$f":"VLOOKUP(C992,Hidden_Словник!$A$2:C$81,3,FALSE)","v":{"$error":"#N/A"}},0,{"$f":"VLOOKUP(F992,Hidden_Словник!$W$2:$X$13,2,FALSE)","v":{"$error":"#N/A"}},{"$f":"#REF!","v":{"$error":"#REF!"}},{"$error":"#N/A"}]
[null,"",{"$f":"IFERROR(VLOOKUP(A993,'1.Портфель кредитів'!A:Z,3,FALSE),\"\")","v":""},{"$f":"IFERROR(VLOOKUP(A993,'1.Портфель кредитів'!A:Z,7,FALSE),\"\")","v":""},{"$f":"IFERROR(VLOOKUP(A993,'1.Портфель кредитів'!A:Z,14,FALSE),\"\")","v":""},null,null,null,null,null,null,null,null,{"$f":"IFERROR(VLOOKUP(A993,'1.Портфель кредитів'!A:Z,30,FALSE),\"\")","v":""},0,{"$error":"#VALUE!"},null,null,null,null,null,{"$f":"VLOOKUP(C993,Hidden_Словник!$A$2:C$81,3,FALSE)","v":{"$error":"#N/A"}},0,{"$f":"VLOOKUP(F993,Hidden_Словник!$W$2:$X$13,2,FALSE)","v":{"$error":"#N/A"}},{"$f":"#REF!","v":{"$error":"#REF!"}},{"$error":"#N/A"}]
[null,"",{"$f":"IFERROR(VLOOKUP(A994,'1.Портфель кредитів'!A:Z,3,FALSE),\"\")","v":""},{"$f":"IFERROR(VLOOKUP(A994,'1.Портфель кредитів'!A:Z,7,FALSE),\"\")","v":""},{"$f":"IFERROR(VLOOKUP(A994,'1.Портфель кредитів'!A:Z,14,FALSE),\"\")","v":""},null,null,null,null,null,null,null,null,{"$f":"IFERROR(VLOOKUP(A994,'1.Портфель кредитів'!A:Z,30,FALSE),\"\")","v":""},0,{"$error":"#VALUE!"},null,null,null,null,null,{"$f":"VLOOKUP(C994,Hidden_Словник!$A$2:C$81,3,FALSE)","v":{"$error":"#N/A"}},0,{"$f":"VLOOKUP(F994,Hidden_Словник!$W$2:$X$13,2,FALSE)","v":{"$error":"#N/A"}},{"$f":"#REF!","v":{"$error":"#REF!"}},{"$error":"#N/A"}]
[null,"",{"$f":"IFERROR(VLOOKUP(A995,'1.Портфель кредитів'!A:Z,3,FALSE),\"\")","v":""},{"$f":"IFERROR(VLOOKUP(A995,'1.Портфель кредитів'!A:Z,7,FALSE),\"\")","v":""},{"$f":"IFERROR(VLOOKUP(A995,'1.Портфель кредитів'!A:Z,14,FALSE),\"\")","v":""},null,null,null,null,null,null,null,null,{"$f":"IFERROR(VLOOKUP(A995,'1.Портфель кредитів'!A:Z,30,FALSE),\"\")","v":""},0,{"$error":"#VALUE!"},null,null,null,null,null,{"$f":"VLOOKUP(C995,Hidden_Словник!$A$2:C$81,3,FALSE)","v":{"$error":"#N/A"}},0,{"$f":"VLOOKUP(F995,Hidden_Словник!$W$2:$X$13,2,FALSE)","v":{"$error":"#N/A"}},{"$f":"#REF!","v":{"$error":"#REF!"}},{"$error":"#N/A"}]
[null,"",{"$f":"IFERROR(VLOOKUP(A996,'1.Портфель кредитів'!A:Z,3,FALSE),\"\")","v":""},{"$f":"IFERROR(VLOOKUP(A996,'1.Портфель кредитів'!A:Z,7,FALSE),\"\")","v":""},{"$f":"IFERROR(VLOOKUP(A996,'1.Портфель кредитів'!A:Z,14,FALSE),\"\")","v":""},null,null,null,null,null,null,null,null,{"$f":"IFERROR(VLOOKUP(A996,'1.Портфель кредитів'!A:Z,30,FALSE),\"\")","v":""},0,{"$error":"#VALUE!"},null,null,null,null,null,{"$f":"VLOOKUP(C996,Hidden_Словник!$A$2:C$81,3,FALSE)","v":{"$error":"#N/A"}},0,{"$f":"VLOOKUP(F996,Hidden_Словник!$W$2:$X$13,2,FALSE)","v":{"$error":"#N/A"}},{"$f":"#REF!","v":{"$error":"#REF!"}},{"$error":"#N/A"}]
[null,"",{"$f":"IFERROR(VLOOKUP(A997,'1.Портфель кредитів'!A:Z,3,FALSE),\"\")","v":""},{"$f":"IFERROR(VLOOKUP(A997,'1.Портфель кредитів'!A:Z,7,FALSE),\"\")","v":""},{"$f":"IFERROR(VLOOKUP(A997,'1.Портфель кредитів'!A:Z,14,FALSE),\"\")","v":""},null,null,null,null,null,null,null,null,{"$f":"IFERROR(VLOOKUP(A997,'1.Портфель кредитів'!A:Z,30,FALSE),\"\")","v":""},0,{"$error":"#VALUE!"},null,null,null,null,null,{"$f":"VLOOKUP(C997,Hidden_Словник!$A$2:C$81,3,FALSE)","v":{"$error":"#N/A"}},0,{"$f":"VLOOKUP(F997,Hidden_Словник!$W$2:$X$13,2,FALSE)","v":{"$error":"#N/A"}},{"$f":"#REF!","v":{"$error":"#REF!"}},{"$error":"#N/A"}]
[null,"",{"$f":"IFERROR(VLOOKUP(A998,'1.Портфель кредитів'!A:Z,3,FALSE),\"\")","v":""},{"$f":"IFERROR(VLOOKUP(A998,'1.Портфель кредитів'!A:Z,7,FALSE),\"\")","v":""},{"$f":"IFERROR(VLOOKUP(A998,'1.Портфель кредитів'!A:Z,14,FALSE),\"\")","v":""},null,null,null,null,null,null,null,null,{"$f":"IFERROR(VLOOKUP(A998,'1.Портфель кредитів'!A:Z,30,FALSE),\"\")","v":""},0,{"$f":"N998/O998","v":{"$error":"#VALUE!"}},null,null,null,null,null,{"$f":"VLOOKUP(C998,Hidden_Словник!$A$2:C$81,3,FALSE)","v":{"$error":"#N/A"}},0,{"$f":"VLOOKUP(F998,Hidden_Словник!$W$2:$X$13,2,FALSE)","v":{"$error":"#N/A"}},{"$f":"#REF!","v":{"$error":"#REF!"}},{"$error":"#N/A"}]
[null,"",{"$f":"IFERROR(VLOOKUP(A999,'1.Портфель кредитів'!A:Z,3,FALSE),\"\")","v":""},{"$f":"IFERROR(VLOOKUP(A999,'1.Портфель кредитів'!A:Z,7,FALSE),\"\")","v":""},{"$f":"IFERROR(VLOOKUP(A999,'1.Портфель кредитів'!A:Z,14,FALSE),\"\")","v":""},null,null,null,null,null,null,null,null,{"$f":"IFERROR(VLOOKUP(A999,'1.Портфель кредитів'!A:Z,30,FALSE),\"\")","v":""},0,{"$error":"#VALUE!"},null,null,null,null,null,{"$f":"VLOOKUP(C999,Hidden_Словник!$A$2:C$81,3,FALSE)","v":{"$error":"#N/A"}},0,{"$f":"VLOOKUP(F999,Hidden_Словник!$W$2:$X$13,2,FALSE)","v":{"$error":"#N/A"}},{"$f":"#REF!","v":{"$error":"#REF!"}},{"$error":"#N/A"}]
[null,"",{"$f":"IFERROR(VLOOKUP(A1000,'1.Портфель кредитів'!A:Z,3,FALSE),\"\")","v":""},{"$f":"IFERROR(VLOOKUP(A1000,'1.Портфель кредитів'!A:Z,7,FALSE),\"\")","v":""},{"$f":"IFERROR(VLOOKUP(A1000,'1.Портфель кредитів'!A:Z,14,FALSE),\"\")","v":""},null,null,null,null,null,null,null,null,{"$f":"IFERROR(VLOOKUP(A1000,'1.Портфель кредитів'!A:Z,30,FALSE),\"\")","v":""},0,{"$error":"#VALUE!"},null,null,null,null,null,{"$f":"VLOOKUP(C1000,Hidden_Словник!$A$2:C$81,3,FALSE)","v":{"$error":"#N/A"}},0,{"$f":"VLOOKUP(F1000,Hidden_Словник!$W$2:$X$13,2,FALSE)","v":{"$error":"#N/A"}},{"$f":"#REF!","v":{"$error":"#REF!"}},{"$error":"#N/A"}]
[null,"",{"$f":"IFERROR(VLOOKUP(A1001,'1.Портфель кредитів'!A:Z,3,FALSE),\"\")","v":""},{"$f":"IFERROR(VLOOKUP(A1001,'1.Портфель кредитів'!A:Z,7,FALSE),\"\")","v":""},{"$f":"IFERROR(VLOOKUP(A1001,'1.Портфель кредитів'!A:Z,14,FALSE),\"\")","v":""},null,null,null,null,null,null,null,null,{"$f":"IFERROR(VLOOKUP(A1001,'1.Портфель кредитів'!A:Z,30,FALSE),\"\")","v":""},0,{"$error":"#VALUE!"},null,null,null,null,null,{"$f":"VLOOKUP(C1001,Hidden_Словник!$A$2:C$81,3,FALSE)","v":{"$error":"#N/A"}},0,{"$f":"VLOOKUP(F1001,Hidden_Словник!$W$2:$X$13,2,FALSE)","v":{"$error":"#N/A"}},{"$f":"#REF!","v":{"$error":"#REF!"}},{"$error":"#N/A"}]
[null,"",{"$f":"IFERROR(VLOOKUP(A1002,'1.Портфель кредитів'!A:Z,3,FALSE),\"\")","v":""},{"$f":"IFERROR(VLOOKUP(A1002,'1.Портфель кредитів'!A:Z,7,FALSE),\"\")","v":""},{"$f":"IFERROR(VLOOKUP(A1002,'1.Портфель кредитів'!A:Z,14,FALSE),\"\")","v":""},null,null,null,null,null,null,null,null,{"$f":"IFERROR(VLOOKUP(A1002,'1.Портфель кредитів'!A:Z,30,FALSE),\"\")","v":""},0,{"$error":"#VALUE!"},null,null,null,null,null,{"$f":"VLOOKUP(C1002,Hidden_Словник!$A$2:C$81,3,FALSE)","v":{"$error":"#N/A"}},0,{"$f":"VLOOKUP(F1002,Hidden_Словник!$W$2:$X$13,2,FALSE)","v":{"$error":"#N/A"}},{"$f":"#REF!","v":{"$error":"#REF!"}},{"$error":"#N/A"}]
[null,"",{"$f":"IFERROR(VLOOKUP(A1003,'1.Портфель кредитів'!A:Z,3,FALSE),\"\")","v":""},{"$f":"IFERROR(VLOOKUP(A1003,'1.Портфель кредитів'!A:Z,7,FALSE),\"\")","v":""},{"$f":"IFERROR(VLOOKUP(A1003,'1.Портфель кредитів'!A:Z,14,FALSE),\"\")","v":""},null,null,null,null,null,null,null,null,{"$f":"IFERROR(VLOOKUP(A1003,'1.Портфель кредитів'!A:Z,30,FALSE),\"\")","v":""},0,{"$error":"#VALUE!"},null,null,null,null,null,{"$f":"VLOOKUP(C1003,Hidden_Словник!$A$2:C$81,3,FALSE)","v":{"$error":"#N/A"}},0,{"$f":"VLOOKUP(F1003,Hidden_Словник!$W$2:$X$13,2,FALSE)","v":{"$error":"#N/A"}},{"$f":"#REF!","v":{"$error":"#REF!"}},{"$error":"#N/A"}]
[null,"",{"$f":"IFERROR(VLOOKUP(A1004,'1.Портфель кредитів'!A:Z,3,FALSE),\"\")","v":""},{"$f":"IFERROR(VLOOKUP(A1004,'1.Портфель кредитів'!A:Z,7,FALSE),\"\")","v":""},{"$f":"IFERROR(VLOOKUP(A1004,'1.Портфель кредитів'!A:Z,14,FALSE),\"\")","v":""},null,null,null,null,null,null,null,null,{"$f":"IFERROR(VLOOKUP(A1004,'1.Портфель кредитів'!A:Z,30,FALSE),\"\")","v":""},0,{"$error":"#VALUE!"},null,null,null,null,null,{"$f":"VLOOKUP(C1004,Hidden_Словник!$A$2:C$81,3,FALSE)","v":{"$error":"#N/A"}},0,{"$f":"VLOOKUP(F1004,Hidden_Словник!$W$2:$X$13,2,FALSE)","v":{"$error":"#N/A"}},{"$f":"#REF!","v":{"$error":"#REF!"}},{"$error":"#N/A"}]
[null,"",{"$f":"IFERROR(VLOOKUP(A1005,'1.Портфель кредитів'!A:Z,3,FALSE),\"\")","v":""},{"$f":"IFERROR(VLOOKUP(A1005,'1.Портфель кредитів'!A:Z,7,FALSE),\"\")","v":""},{"$f":"IFERROR(VLOOKUP(A1005,'1.Портфель кредитів'!A:Z,14,FALSE),\"\")","v":""},null,null,null,null,null,null,null,null,{"$f":"IFERROR(VLOOKUP(A1005,'1.Портфель кредитів'!A:Z,30,FALSE),\"\")","v":""},0,{"$error":"#VALUE!"},null,null,null,null,null,{"$f":"VLOOKUP(C1005,Hidden_Словник!$A$2:C$81,3,FALSE)","v":{"$error":"#N/A"}},0,{"$f":"VLOOKUP(F1005,Hidden_Словник!$W$2:$X$13,2,FALSE)","v":{"$error":"#N/A"}},{"$f":"#REF!","v":{"$error":"#REF!"}},{"$error":"#N/A"}]
[null,"",{"$f":"IFERROR(VLOOKUP(A1006,'1.Портфель кредитів'!A:Z,3,FALSE),\"\")","v":""},{"$f":"IFERROR(VLOOKUP(A1006,'1.Портфель кредитів'!A:Z,7,FALSE),\"\")","v":""},{"$f":"IFERROR(VLOOKUP(A1006,'1.Портфель кредитів'!A:Z,14,FALSE),\"\")","v":""},null,null,null,null,null,null,null,null,{"$f":"IFERROR(VLOOKUP(A1006,'1.Портфель кредитів'!A:Z,30,FALSE),\"\")","v":""},0,{"$error":"#VALUE!"},null,null,null,null,null,{"$f":"VLOOKUP(C1006,Hidden_Словник!$A$2:C$81,3,FALSE)","v":{"$error":"#N/A"}},0,{"$f":"VLOOKUP(F1006,Hidden_Словник!$W$2:$X$13,2,FALSE)","v":{"$error":"#N/A"}},{"$f":"#REF!","v":{"$error":"#REF!"}},{"$error":"#N/A"}]
[null,"",{"$f":"IFERROR(VLOOKUP(A1007,'1.Портфель кредитів'!A:Z,3,FALSE),\"\")","v":""},{"$f":"IFERROR(VLOOKUP(A1007,'1.Портфель кредитів'!A:Z,7,FALSE),\"\")","v":""},{"$f":"IFERROR(VLOOKUP(A1007,'1.Портфель кредитів'!A:Z,14,FALSE),\"\")","v":""},null,null,null,null,null,null,null,null,{"$f":"IFERROR(VLOOKUP(A1007,'1.Портфель кредитів'!A:Z,30,FALSE),\"\")","v":""},0,{"$error":"#VALUE!"},null,null,null,null,null,{"$f":"VLOOKUP(C1007,Hidden_Словник!$A$2:C$81,3,FALSE)","v":{"$error":"#N/A"}},0,{"$f":"VLOOKUP(F1007,Hidden_Словник!$W$2:$X$13,2,FALSE)","v":{"$error":"#N/A"}},{"$f":"#REF!","v":{"$error":"#REF!"}},{"$error":"#N/A"}]
[null,"",{"$f":"IFERROR(VLOOKUP(A1008,'1.Портфель кредитів'!A:Z,3,FALSE),\"\")","v":""},{"$f":"IFERROR(VLOOKUP(A1008,'1.Портфель кредитів'!A:Z,7,FALSE),\"\")","v":""},{"$f":"IFERROR(VLOOKUP(A1008,'1.Портфель кредитів'!A:Z,14,FALSE),\"\")","v":""},null,null,null,null,null,null,null,null,{"$f":"IFERROR(VLOOKUP(A1008,'1.Портфель кредитів'!A:Z,30,FALSE),\"\")","v":""},0,{"$error":"#VALUE!"},null,null,null,null,null,{"$f":"VLOOKUP(C1008,Hidden_Словник!$A$2:C$81,3,FALSE)","v":{"$error":"#N/A"}},0,{"$f":"VLOOKUP(F1008,Hidden_Словник!$W$2:$X$13,2,FALSE)","v":{"$error":"#N/A"}},{"$f":"#REF!","v":{"$error":"#REF!"}},{"$error":"#N/A"}]
[null,"",{"$f":"IFERROR(VLOOKUP(A1009,'1.Портфель кредитів'!A:Z,3,FALSE),\"\")","v":""},{"$f":"IFERROR(VLOOKUP(A1009,'1.Портфель кредитів'!A:Z,7,FALSE),\"\")","v":""},{"$f":"IFERROR(VLOOKUP(A1009,'1.Портфель кредитів'!A:Z,14,FALSE),\"\")","v":""},null,null,null,null,null,null,null,null,{"$f":"IFERROR(VLOOKUP(A1009,'1.Портфель кредитів'!A:Z,30,FALSE),\"\")","v":""},0,{"$error":"#VALUE!"},null,null,null,null,null,{"$f":"VLOOKUP(C1009,Hidden_Словник!$A$2:C$81,3,FALSE)","v":{"$error":"#N/A"}},0,{"$f":"VLOOKUP(F1009,Hidden_Словник!$W$2:$X$13,2,FALSE)","v":{"$error":"#N/A"}},{"$f":"#REF!","v":{"$error":"#REF!"}},{"$error":"#N/A"}]
[null,"",{"$f":"IFERROR(VLOOKUP(A1010,'1.Портфель кредитів'!A:Z,3,FALSE),\"\")","v":""},{"$f":"IFERROR(VLOOKUP(A1010,'1.Портфель кредитів'!A:Z,7,FALSE),\"\")","v":""},{"$f":"IFERROR(VLOOKUP(A1010,'1.Портфель кредитів'!A:Z,14,FALSE),\"\")","v":""},null,null,null,null,null,null,null,null,{"$f":"IFERROR(VLOOKUP(A1010,'1.Портфель кредитів'!A:Z,30,FALSE),\"\")","v":""},0,{"$error":"#VALUE!"},null,null,null,null,null,{"$f":"VLOOKUP(C1010,Hidden_Словник!$A$2:C$81,3,FALSE)","v":{"$error":"#N/A"}},0,{"$f":"VLOOKUP(F1010,Hidden_Словник!$W$2:$X$13,2,FALSE)","v":{"$error":"#N/A"}},{"$f":"#REF!","v":{"$error":"#REF!"}},{"$error":"#N/A"}]

{"sheet":"3.ППР","index":2,"n_rows":1519,"n_cols":18,"rows_kept":1519,"cut":false,"hidden":false,"merged":[[6,17,7,17],[6,8,6,10],[6,4,6,7],[6,11,6,16],[0,4,4,16],[9,10,9,12],[9,14,9,15],[11,10,11,11],[11,14,11,15],[6,0,7,0],[6,3,7,3],[6,1,7,1],[6,2,7,2]]}
["Рекомендації щодо заповнення паспорту:",null,null,null,"Цей документ був підготовлений Фондом гарантування вкладів фізичних осіб (далі – Фонд) виключно для інформаційних цілей і не повинен вважатися як спонукання до будь-яких дій чи бездіяльності. \nІнформація, що міститься в цьому документі, була отримана з/або ґрунтується на джерелах, які вважаються надійними, але не є вичерпною та не може сприйматися як повна або актуальна. Зокрема, але не виключно, станом на дату придбання активів допускаються несуттєві зміни лота, в складі якого продаються такі активи. Під несуттєвими змінами лота слід розуміти такі зміни характеристик активів у складі такого лота, які впливають на його балансову вартість, але не більше ніж на 10 відсотків. Рішення покупця щодо будь-яких дій або бездіяльності повинно ґрунтуватися на власних оцінках та дослідженнях майна (активу/активів), котре реалізується. Фонд не несе відповідальності за рішення покупця та його наслідки, що ґрунтується на інформації, викладеній в даному документі."]
["Банк заповнює всі стовпчики, що не мають заливки, станом на звітну дату."]
["Клітинки із блакитною заливкою запонюються автоматично."]
["Обов'язкове запвнення всіх можливих даних."]
[]
[]
["unicid","Банк","Група Позичальників","№ кред. Дог","Розгляд справи у суді",null,null,null,"ДВС",null,null,"Банкрутство",null,null,null,null,null,"Кримінальне провадження за кредитною угодою\n(Так/Ні)"]
[null,null,null,null,"Предмет спору","Відповідач (позичальник/поручитель)","Дата надіслання вимоги / претензії","Дати звернення до суду","Дата провадження","Процесс (Так/Ні)","Реалізація майна (Так/Ні)","Дата провадження","Банк заявлений як кредитор (Так/Ні)","Банк внесенний в реєстр кредиторів (Так/Ні)","Дата визнання позичальника банкрутом","Дата визнання підприємства ліквідованим","Банкрутство фінансового поручителя"]
[null,"Камбіо",{"$f":"IFERROR(VLOOKUP(A9,'1.Портфель кредитів'!A:Z,7,FALSE),\"\")","v":""},"108ф-2007/840","1. про визнання зобов'язань припиненими, скасування реєстраційних дій \n2. звернення стягнення на предмет іпотеки "]
[null,"Камбіо",{"$f":"IFERROR(VLOOKUP(#REF!,'1.Портфель кредитів'!A:Z,7,FALSE),\"\")","v":""},"008/1-2013/840","1. про зобов’язання вчинити дії. \n2. про визнання зобов’язання припиненим, визнання відсутнім права."]
[null,"Камбіо","Камбіо","005/1-2013/840","1. про зобов’язання вчинити дії. \n2. про забезпечення позову до подачі позову (заборона щодо електронних торгів). \n3. про визнання зобов’язання припиненим та визнання відсутнім права"]
[null,{"$f":"IFERROR(VLOOKUP(A12,'1.Портфель кредитів'!A:Z,3,FALSE),\"\")","v":""},{"$f":"IFERROR(VLOOKUP(A12,'1.Портфель кредитів'!A:Z,7,FALSE),\"\")","v":""}]
[null,{"$f":"IFERROR(VLOOKUP(A13,'1.Портфель кредитів'!A:Z,3,FALSE),\"\")","v":""},{"$f":"IFERROR(VLOOKUP(A13,'1.Портфель кредитів'!A:Z,7,FALSE),\"\")","v":""}]
[null,{"$f":"IFERROR(VLOOKUP(A14,'1.Портфель кредитів'!A:Z,3,FALSE),\"\")","v":""},{"$f":"IFERROR(VLOOKUP(A14,'1.Портфель кредитів'!A:Z,7,FALSE),\"\")","v":""}]
[null,{"$f":"IFERROR(VLOOKUP(A15,'1.Портфель кредитів'!A:Z,3,FALSE),\"\")","v":""},{"$f":"IFERROR(VLOOKUP(A15,'1.Портфель кредитів'!A:Z,7,FALSE),\"\")","v":""},{"$f":"IFERROR(VLOOKUP(A15,'1.Портфель кредитів'!A:Z,14,FALSE),\"\")","v":""}]
[null,{"$f":"IFERROR(VLOOKUP(A16,'1.Портфель кредитів'!A:Z,3,FALSE),\"\")","v":""},{"$f":"IFERROR(VLOOKUP(A16,'1.Портфель кредитів'!A:Z,7,FALSE),\"\")","v":""},{"$f":"IFERROR(VLOOKUP(A16,'1.Портфель кредитів'!A:Z,14,FALSE),\"\")","v":""}]
[null,{"$f":"IFERROR(VLOOKUP(A17,'1.Портфель кредитів'!A:Z,3,FALSE),\"\")","v":""},{"$f":"IFERROR(VLOOKUP(A17,'1.Портфель кредитів'!A:Z,7,FALSE),\"\")","v":""},{"$f":"IFERROR(VLOOKUP(A17,'1.Портфель кредитів'!A:Z,14,FALSE),\"\")","v":""}]
[null,{"$f":"IFERROR(VLOOKUP(A18,'1.Портфель кредитів'!A:Z,3,FALSE),\"\")","v":""},{"$f":"IFERROR(VLOOKUP(A18,'1.Портфель кредитів'!A:Z,7,FALSE),\"\")","v":""},{"$f":"IFERROR(VLOOKUP(A18,'1.Портфель кредитів'!A:Z,14,FALSE),\"\")","v":""}]
[null,{"$f":"IFERROR(VLOOKUP(A19,'1.Портфель кредитів'!A:Z,3,FALSE),\"\")","v":""},{"$f":"IFERROR(VLOOKUP(A19,'1.Портфель кредитів'!A:Z,7,FALSE),\"\")","v":""},{"$f":"IFERROR(VLOOKUP(A19,'1.Портфель кредитів'!A:Z,14,FALSE),\"\")","v":""}]
[null,{"$f":"IFERROR(VLOOKUP(A20,'1.Портфель кредитів'!A:Z,3,FALSE),\"\")","v":""},{"$f":"IFERROR(VLOOKUP(A20,'1.Портфель кредитів'!A:Z,7,FALSE),\"\")","v":""},{"$f":"IFERROR(VLOOKUP(A20,'1.Портфель кредитів'!A:Z,14,FALSE),\"\")","v":""}]
[null,{"$f":"IFERROR(VLOOKUP(A21,'1.Портфель кредитів'!A:Z,3,FALSE),\"\")","v":""},{"$f":"IFERROR(VLOOKUP(A21,'1.Портфель кредитів'!A:Z,7,FALSE),\"\")","v":""},{"$f":"IFERROR(VLOOKUP(A21,'1.Портфель кредитів'!A:Z,14,FALSE),\"\")","v":""}]
[null,{"$f":"IFERROR(VLOOKUP(A22,'1.Портфель кредитів'!A:Z,3,FALSE),\"\")","v":""},{"$f":"IFERROR(VLOOKUP(A22,'1.Портфель кредитів'!A:Z,7,FALSE),\"\")","v":""},{"$f":"IFERROR(VLOOKUP(A22,'1.Портфель кредитів'!A:Z,14,FALSE),\"\")","v":""}]
[null,{"$f":"IFERROR(VLOOKUP(A23,'1.Портфель кредитів'!A:Z,3,FALSE),\"\")","v":""},{"$f":"IFERROR(VLOOKUP(A23,'1.Портфель кредитів'!A:Z,7,FALSE),\"\")","v":""},{"$f":"IFERROR(VLOOKUP(A23,'1.Портфель кредитів'!A:Z,14,FALSE),\"\")","v":""}]
[null,{"$f":"IFERROR(VLOOKUP(A24,'1.Портфель кредитів'!A:Z,3,FALSE),\"\")","v":""},{"$f":"IFERROR(VLOOKUP(A24,'1.Портфель кредитів'!A:Z,7,FALSE),\"\")","v":""},{"$f":"IFERROR(VLOOKUP(A24,'1.Портфель кредитів'!A:Z,14,FALSE),\"\")","v":""}]
[null,{"$f":"IFERROR(VLOOKUP(A25,'1.Портфель кредитів'!A:Z,3,FALSE),\"\")","v":""},{"$f":"IFERROR(VLOOKUP(A25,'1.Портфель кредитів'!A:Z,7,FALSE),\"\")","v":""},{"$f":"IFERROR(VLOOKUP(A25,'1.Портфель кредитів'!A:Z,14,FALSE),\"\")","v":""}]
[null,{"$f":"IFERROR(VLOOKUP(A26,'1.Портфель кредитів'!A:Z,3,FALSE),\"\")","v":""},{"$f":"IFERROR(VLOOKUP(A26,'1.Портфель кредитів'!A:Z,7,FALSE),\"\")","v":""},{"$f":"IFERROR(VLOOKUP(A26,'1.Портфель кредитів'!A:Z,14,FALSE),\"\")","v":""}]
[null,{"$f":"IFERROR(VLOOKUP(A27,'1.Портфель кредитів'!A:Z,3,FALSE),\"\")","v":""},{"$f":"IFERROR(VLOOKUP(A27,'1.Портфель кредитів'!A:Z,7,FALSE),\"\")","v":""},{"$f":"IFERROR(VLOOKUP(A27,'1.Портфель кредитів'!A:Z,14,FALSE),\"\")","v":""}]
[null,{"$f":"IFERROR(VLOOKUP(A28,'1.Портфель кредитів'!A:Z,3,FALSE),\"\")","v":""},{"$f":"IFERROR(VLOOKUP(A28,'1.Портфель кредитів'!A:Z,7,FALSE),\"\")","v":""},{"$f":"IFERROR(VLOOKUP(A28,'1.Портфель кредитів'!A:Z,14,FALSE),\"\")","v":""}]
[null,{"$f":"IFERROR(VLOOKUP(A29,'1.Портфель кредитів'!A:Z,3,FALSE),\"\")","v":""},{"$f":"IFERROR(VLOOKUP(A29,'1.Портфель кредитів'!A:Z,7,FALSE),\"\")","v":""},{"$f":"IFERROR(VLOOKUP(A29,'1.Портфель кредитів'!A:Z,14,FALSE),\"\")","v":""}]
[null,{"$f":"IFERROR(VLOOKUP(A30,'1.Портфель кредитів'!A:Z,3,FALSE),\"\")","v":""},{"$f":"IFERROR(VLOOKUP(A30,'1.Портфель кредитів'!A:Z,7,FALSE),\"\")","v":""},{"$f":"IFERROR(VLOOKUP(A30,'1.Портфель кредитів'!A:Z,14,FALSE),\"\")","v":""}]
[null,{"$f":"IFERROR(VLOOKUP(A31,'1.Портфель кредитів'!A:Z,3,FALSE),\"\")","v":""},{"$f":"IFERROR(VLOOKUP(A31,'1.Портфель кредитів'!A:Z,7,FALSE),\"\")","v":""},{"$f":"IFERROR(VLOOKUP(A31,'1.Портфель кредитів'!A:Z,14,FALSE),\"\")","v":""}]
[null,{"$f":"IFERROR(VLOOKUP(A32,'1.Портфель кредитів'!A:Z,3,FALSE),\"\")","v":""},{"$f":"IFERROR(VLOOKUP(A32,'1.Портфель кредитів'!A:Z,7,FALSE),\"\")","v":""},{"$f":"IFERROR(VLOOKUP(A32,'1.Портфель кредитів'!A:Z,14,FALSE),\"\")","v":""}]
[null,{"$f":"IFERROR(VLOOKUP(A33,'1.Портфель кредитів'!A:Z,3,FALSE),\"\")","v":""},{"$f":"IFERROR(VLOOKUP(A33,'1.Портфель кредитів'!A:Z,7,FALSE),\"\")","v":""},{"$f":"IFERROR(VLOOKUP(A33,'1.Портфель кредитів'!A:Z,14,FALSE),\"\")","v":""}]
[null,{"$f":"IFERROR(VLOOKUP(A34,'1.Портфель кредитів'!A:Z,3,FALSE),\"\")","v":""},{"$f":"IFERROR(VLOOKUP(A34,'1.Портфель кредитів'!A:Z,7,FALSE),\"\")","v":""},{"$f":"IFERROR(VLOOKUP(A34,'1.Портфель кредитів'!A:Z,14,FALSE),\"\")","v":""}]
[null,{"$f":"IFERROR(VLOOKUP(A35,'1.Портфель кредитів'!A:Z,3,FALSE),\"\")","v":""},{"$f":"IFERROR(VLOOKUP(A35,'1.Портфель кредитів'!A:Z,7,FALSE),\"\")","v":""},{"$f":"IFERROR(VLOOKUP(A35,'1.Портфель кредитів'!A:Z,14,FALSE),\"\")","v":""}]
[null,{"$f":"IFERROR(VLOOKUP(A36,'1.Портфель кредитів'!A:Z,3,FALSE),\"\")","v":""},{"$f":"IFERROR(VLOOKUP(A36,'1.Портфель кредитів'!A:Z,7,FALSE),\"\")","v":""},{"$f":"IFERROR(VLOOKUP(A36,'1.Портфель кредитів'!A:Z,14,FALSE),\"\")","v":""}]
[null,{"$f":"IFERROR(VLOOKUP(A37,'1.Портфель кредитів'!A:Z,3,FALSE),\"\")","v":""},{"$f":"IFERROR(VLOOKUP(A37,'1.Портфель кредитів'!A:Z,7,FALSE),\"\")","v":""},{"$f":"IFERROR(VLOOKUP(A37,'1.Портфель кредитів'!A:Z,14,FALSE),\"\")","v":""}]
[null,{"$f":"IFERROR(VLOOKUP(A38,'1.Портфель кредитів'!A:Z,3,FALSE),\"\")","v":""},{"$f":"IFERROR(VLOOKUP(A38,'1.Портфель кредитів'!A:Z,7,FALSE),\"\")","v":""},{"$f":"IFERROR(VLOOKUP(A38,'1.Портфель кредитів'!A:Z,14,FALSE),\"\")","v":""}]
[null,{"$f":"IFERROR(VLOOKUP(A39,'1.Портфель кредитів'!A:Z,3,FALSE),\"\")","v":""},{"$f":"IFERROR(VLOOKUP(A39,'1.Портфель кредитів'!A:Z,7,FALSE),\"\")","v":""},{"$f":"IFERROR(VLOOKUP(A39,'1.Портфель кредитів'!A:Z,14,FALSE),\"\")","v":""}]
[null,{"$f":"IFERROR(VLOOKUP(A40,'1.Портфель кредитів'!A:Z,3,FALSE),\"\")","v":""},{"$f":"IFERROR(VLOOKUP(A40,'1.Портфель кредитів'!A:Z,7,FALSE),\"\")","v":""},{"$f":"IFERROR(VLOOKUP(A40,'1.Портфель кредитів'!A:Z,14,FALSE),\"\")","v":""}]
[null,{"$f":"IFERROR(VLOOKUP(A41,'1.Портфель кредитів'!A:Z,3,FALSE),\"\")","v":""},{"$f":"IFERROR(VLOOKUP(A41,'1.Портфель кредитів'!A:Z,7,FALSE),\"\")","v":""},{"$f":"IFERROR(VLOOKUP(A41,'1.Портфель кредитів'!A:Z,14,FALSE),\"\")","v":""}]
[null,{"$f":"IFERROR(VLOOKUP(A42,'1.Портфель кредитів'!A:Z,3,FALSE),\"\")","v":""},{"$f":"IFERROR(VLOOKUP(A42,'1.Портфель кредитів'!A:Z,7,FALSE),\"\")","v":""},{"$f":"IFERROR(VLOOKUP(A42,'1.Портфель кредитів'!A:Z,14,FALSE),\"\")","v":""}]
[null,{"$f":"IFERROR(VLOOKUP(A43,'1.Портфель кредитів'!A:Z,3,FALSE),\"\")","v":""},{"$f":"IFERROR(VLOOKUP(A43,'1.Портфель кредитів'!A:Z,7,FALSE),\"\")","v":""},{"$f":"IFERROR(VLOOKUP(A43,'1.Портфель кредитів'!A:Z,14,FALSE),\"\")","v":""}]
[null,{"$f":"IFERROR(VLOOKUP(A44,'1.Портфель кредитів'!A:Z,3,FALSE),\"\")","v":""},{"$f":"IFERROR(VLOOKUP(A44,'1.Портфель кредитів'!A:Z,7,FALSE),\"\")","v":""},{"$f":"IFERROR(VLOOKUP(A44,'1.Портфель кредитів'!A:Z,14,FALSE),\"\")","v":""}]
[null,{"$f":"IFERROR(VLOOKUP(A45,'1.Портфель кредитів'!A:Z,3,FALSE),\"\")","v":""},{"$f":"IFERROR(VLOOKUP(A45,'1.Портфель кредитів'!A:Z,7,FALSE),\"\")","v":""},{"$f":"IFERROR(VLOOKUP(A45,'1.Портфель кредитів'!A:Z,14,FALSE),\"\")","v":""}]
[null,{"$f":"IFERROR(VLOOKUP(A46,'1.Портфель кредитів'!A:Z,3,FALSE),\"\")","v":""},{"$f":"IFERROR(VLOOKUP(A46,'1.Портфель кредитів'!A:Z,7,FALSE),\"\")","v":""},{"$f":"IFERROR(VLOOKUP(A46,'1.Портфель кредитів'!A:Z,14,FALSE),\"\")","v":""}]
[null,{"$f":"IFERROR(VLOOKUP(A47,'1.Портфель кредитів'!A:Z,3,FALSE),\"\")","v":""},{"$f":"IFERROR(VLOOKUP(A47,'1.Портфель кредитів'!A:Z,7,FALSE),\"\")","v":""},{"$f":"IFERROR(VLOOKUP(A47,'1.Портфель кредитів'!A:Z,14,FALSE),\"\")","v":""}]
[null,{"$f":"IFERROR(VLOOKUP(A48,'1.Портфель кредитів'!A:Z,3,FALSE),\"\")","v":""},{"$f":"IFERROR(VLOOKUP(A48,'1.Портфель кредитів'!A:Z,7,FALSE),\"\")","v":""},{"$f":"IFERROR(VLOOKUP(A48,'1.Портфель кредитів'!A:Z,14,FALSE),\"\")","v":""}]
[null,{"$f":"IFERROR(VLOOKUP(A49,'1.Портфель кредитів'!A:Z,3,FALSE),\"\")","v":""},{"$f":"IFERROR(VLOOKUP(A49,'1.Портфель кредитів'!A:Z,7,FALSE),\"\")","v":""},{"$f":"IFERROR(VLOOKUP(A49,'1.Портфель кредитів'!A:Z,14,FALSE),\"\")","v":""}]
[null,{"$f":"IFERROR(VLOOKUP(A50,'1.Портфель кредитів'!A:Z,3,FALSE),\"\")","v":""},{"$f":"IFERROR(VLOOKUP(A50,'1.Портфель кредитів'!A:Z,7,FALSE),\"\")","v":""},{"$f":"IFERROR(VLOOKUP(A50,'1.Портфель кредитів'!A:Z,14,FALSE),\"\")","v":""}]
[null,{"$f":"IFERROR(VLOOKUP(A51,'1.Портфель кредитів'!A:Z,3,FALSE),\"\")","v":""},{"$f":"IFERROR(VLOOKUP(A51,'1.Портфель кредитів'!A:Z,7,FALSE),\"\")","v":""},{"$f":"IFERROR(VLOOKUP(A51,'1.Портфель кредитів'!A:Z,14,FALSE),\"\")","v":""}]
[null,{"$f":"IFERROR(VLOOKUP(A52,'1.Портфель кредитів'!A:Z,3,FALSE),\"\")","v":""},{"$f":"IFERROR(VLOOKUP(A52,'1.Портфель кредитів'!A:Z,7,FALSE),\"\")","v":""},{"$f":"IFERROR(VLOOKUP(A52,'1.Портфель кредитів'!A:Z,14,FALSE),\"\")","v":""}]
[null,{"$f":"IFERROR(VLOOKUP(A53,'1.Портфель кредитів'!A:Z,3,FALSE),\"\")","v":""},{"$f":"IFERROR(VLOOKUP(A53,'1.Портфель кредитів'!A:Z,7,FALSE),\"\")","v":""},{"$f":"IFERROR(VLOOKUP(A53,'1.Портфель кредитів'!A:Z,14,FALSE),\"\")","v":""}]
[null,{"$f":"IFERROR(VLOOKUP(A54,'1.Портфель кредитів'!A:Z,3,FALSE),\"\")","v":""},{"$f":"IFERROR(VLOOKUP(A54,'1.Портфель кредитів'!A:Z,7,FALSE),\"\")","v":""},{"$f":"IFERROR(VLOOKUP(A54,'1.Портфель кредитів'!A:Z,14,FALSE),\"\")","v":""}]
[null,{"$f":"IFERROR(VLOOKUP(A55,'1.Портфель кредитів'!A:Z,3,FALSE),\"\")","v":""},{"$f":"IFERROR(VLOOKUP(A55,'1.Портфель кредитів'!A:Z,7,FALSE),\"\")","v":""},{"$f":"IFERROR(VLOOKUP(A55,'1.Портфель кредитів'!A:Z,14,FALSE),\"\")","v":""}]
[null,{"$f":"IFERROR(VLOOKUP(A56,'1.Портфель кредитів'!A:Z,3,FALSE),\"\")","v":""},{"$f":"IFERROR(VLOOKUP(A56,'1.Портфель кредитів'!A:Z,7,FALSE),\"\")","v":""},{"$f":"IFERROR(VLOOKUP(A56,'1.Портфель кредитів'!A:Z,14,FALSE),\"\")","v":""}]
[null,{"$f":"IFERROR(VLOOKUP(A57,'1.Портфель кредитів'!A:Z,3,FALSE),\"\")","v":""},{"$f":"IFERROR(VLOOKUP(A57,'1.Портфель кредитів'!A:Z,7,FALSE),\"\")","v":""},{"$f":"IFERROR(VLOOKUP(A57,'1.Портфель кредитів'!A:Z,14,FALSE),\"\")","v":""}]
[null,{"$f":"IFERROR(VLOOKUP(A58,'1.Портфель кредитів'!A:Z,3,FALSE),\"\")","v":""},{"$f":"IFERROR(VLOOKUP(A58,'1.Портфель кредитів'!A:Z,7,FALSE),\"\")","v":""},{"$f":"IFERROR(VLOOKUP(A58,'1.Портфель кредитів'!A:Z,14,FALSE),\"\")","v":""}]
[null,{"$f":"IFERROR(VLOOKUP(A59,'1.Портфель кредитів'!A:Z,3,FALSE),\"\")","v":""},{"$f":"IFERROR(VLOOKUP(A59,'1.Портфель кредитів'!A:Z,7,FALSE),\"\")","v":""},{"$f":"IFERROR(VLOOKUP(A59,'1.Портфель кредитів'!A:Z,14,FALSE),\"\")","v":""}]
[null,{"$f":"IFERROR(VLOOKUP(A60,'1.Портфель кредитів'!A:Z,3,FALSE),\"\")","v":""},{"$f":"IFERROR(VLOOKUP(A60,'1.Портфель кредитів'!A:Z,7,FALSE),\"\")","v":""},{"$f":"IFERROR(VLOOKUP(A60,'1.Портфель кредитів'!A:Z,14,FALSE),\"\")","v":""}]
[null,{"$f":"IFERROR(VLOOKUP(A61,'1.Портфель кредитів'!A:Z,3,FALSE),\"\")","v":""},{"$f":"IFERROR(VLOOKUP(A61,'1.Портфель кредитів'!A:Z,7,FALSE),\"\")","v":""},{"$f":"IFERROR(VLOOKUP(A61,'1.Портфель кредитів'!A:Z,14,FALSE),\"\")","v":""}]
[null,{"$f":"IFERROR(VLOOKUP(A62,'1.Портфель кредитів'!A:Z,3,FALSE),\"\")","v":""},{"$f":"IFERROR(VLOOKUP(A62,'1.Портфель кредитів'!A:Z,7,FALSE),\"\")","v":""},{"$f":"IFERROR(VLOOKUP(A62,'1.Портфель кредитів'!A:Z,14,FALSE),\"\")","v":""}]
[null,{"$f":"IFERROR(VLOOKUP(A63,'1.Портфель кредитів'!A:Z,3,FALSE),\"\")","v":""},{"$f":"IFERROR(VLOOKUP(A63,'1.Портфель кредитів'!A:Z,7,FALSE),\"\")","v":""},{"$f":"IFERROR(VLOOKUP(A63,'1.Портфель кредитів'!A:Z,14,FALSE),\"\")","v":""}]
[null,{"$f":"IFERROR(VLOOKUP(A64,'1.Портфель кредитів'!A:Z,3,FALSE),\"\")","v":""},{"$f":"IFERROR(VLOOKUP(A64,'1.Портфель кредитів'!A:Z,7,FALSE),\"\")","v":""},{"$f":"IFERROR(VLOOKUP(A64,'1.Портфель кредитів'!A:Z,14,FALSE),\"\")","v":""}]
[null,{"$f":"IFERROR(VLOOKUP(A65,'1.Портфель кредитів'!A:Z,3,FALSE),\"\")","v":""},{"$f":"IFERROR(VLOOKUP(A65,'1.Портфель кредитів'!A:Z,7,FALSE),\"\")","v":""},{"$f":"IFERROR(VLOOKUP(A65,'1.Портфель кредитів'!A:Z,14,FALSE),\"\")","v":""}]
[null,{"$f":"IFERROR(VLOOKUP(A66,'1.Портфель кредитів'!A:Z,3,FALSE),\"\")","v":""},{"$f":"IFERROR(VLOOKUP(A66,'1.Портфель кредитів'!A:Z,7,FALSE),\"\")","v":""},{"$f":"IFERROR(VLOOKUP(A66,'1.Портфель кредитів'!A:Z,14,FALSE),\"\")","v":""}]
[null,{"$f":"IFERROR(VLOOKUP(A67,'1.Портфель кредитів'!A:Z,3,FALSE),\"\")","v":""},{"$f":"IFERROR(VLOOKUP(A67,'1.Портфель кредитів'!A:Z,7,FALSE),\"\")","v":""},{"$f":"IFERROR(VLOOKUP(A67,'1.Портфель кредитів'!A:Z,14,FALSE),\"\")","v":""}]
[null,{"$f":"IFERROR(VLOOKUP(A68,'1.Портфель кредитів'!A:Z,3,FALSE),\"\")","v":""},{"$f":"IFERROR(VLOOKUP(A68,'1.Портфель кредитів'!A:Z,7,FALSE),\"\")","v":""},{"$f":"IFERROR(VLOOKUP(A68,'1.Портфель кредитів'!A:Z,14,FALSE),\"\")","v":""}]
[null,{"$f":"IFERROR(VLOOKUP(A69,'1.Портфель кредитів'!A:Z,3,FALSE),\"\")","v":""},{"$f":"IFERROR(VLOOKUP(A69,'1.Портфель кредитів'!A:Z,7,FALSE),\"\")","v":""},{"$f":"IFERROR(VLOOKUP(A69,'1.Портфель кредитів'!A:Z,14,FALSE),\"\")","v":""}]
[null,{"$f":"IFERROR(VLOOKUP(A70,'1.Портфель кредитів'!A:Z,3,FALSE),\"\")","v":""},{"$f":"IFERROR(VLOOKUP(A70,'1.Портфель кредитів'!A:Z,7,FALSE),\"\")","v":""},{"$f":"IFERROR(VLOOKUP(A70,'1.Портфель кредитів'!A:Z,14,FALSE),\"\")","v":""}]
[null,{"$f":"IFERROR(VLOOKUP(A71,'1.Портфель кредитів'!A:Z,3,FALSE),\"\")","v":""},{"$f":"IFERROR(VLOOKUP(A71,'1.Портфель кредитів'!A:Z,7,FALSE),\"\")","v":""},{"$f":"IFERROR(VLOOKUP(A71,'1.Портфель кредитів'!A:Z,14,FALSE),\"\")","v":""}]
[null,{"$f":"IFERROR(VLOOKUP(A72,'1.Портфель кредитів'!A:Z,3,FALSE),\"\")","v":""},{"$f":"IFERROR(VLOOKUP(A72,'1.Портфель кредитів'!A:Z,7,FALSE),\"\")","v":""},{"$f":"IFERROR(VLOOKUP(A72,'1.Портфель кредитів'!A:Z,14,FALSE),\"\")","v":""}]
[null,{"$f":"IFERROR(VLOOKUP(A73,'1.Портфель кредитів'!A:Z,3,FALSE),\"\")","v":""},{"$f":"IFERROR(VLOOKUP(A73,'1.Портфель кредитів'!A:Z,7,FALSE),\"\")","v":""},{"$f":"IFERROR(VLOOKUP(A73,'1.Портфель кредитів'!A:Z,14,FALSE),\"\")","v":""}]
[null,{"$f":"IFERROR(VLOOKUP(A74,'1.Портфель кредитів'!A:Z,3,FALSE),\"\")","v":""},{"$f":"IFERROR(VLOOKUP(A74,'1.Портфель кредитів'!A:Z,7,FALSE),\"\")","v":""},{"$f":"IFERROR(VLOOKUP(A74,'1.Портфель кредитів'!A:Z,14,FALSE),\"\")","v":""}]
[null,{"$f":"IFERROR(VLOOKUP(A75,'1.Портфель кредитів'!A:Z,3,FALSE),\"\")","v":""},{"$f":"IFERROR(VLOOKUP(A75,'1.Портфель кредитів'!A:Z,7,FALSE),\"\")","v":""},{"$f":"IFERROR(VLOOKUP(A75,'1.Портфель кредитів'!A:Z,14,FALSE),\"\")","v":""}]
[null,{"$f":"IFERROR(VLOOKUP(A76,'1.Портфель кредитів'!A:Z,3,FALSE),\"\")","v":""},{"$f":"IFERROR(VLOOKUP(A76,'1.Портфель кредитів'!A:Z,7,FALSE),\"\")","v":""},{"$f":"IFERROR(VLOOKUP(A76,'1.Портфель кредитів'!A:Z,14,FALSE),\"\")","v":""}]
[null,{"$f":"IFERROR(VLOOKUP(A77,'1.Портфель кредитів'!A:Z,3,FALSE),\"\")","v":""},{"$f":"IFERROR(VLOOKUP(A77,'1.Портфель кредитів'!A:Z,7,FALSE),\"\")","v":""},{"$f":"IFERROR(VLOOKUP(A77,'1.Портфель кредитів'!A:Z,14,FALSE),\"\")","v":""}]
[null,{"$f":"IFERROR(VLOOKUP(A78,'1.Портфель кредитів'!A:Z,3,FALSE),\"\")","v":""},{"$f":"IFERROR(VLOOKUP(A78,'1.Портфель кредитів'!A:Z,7,FALSE),\"\")","v":""},{"$f":"IFERROR(VLOOKUP(A78,'1.Портфель кредитів'!A:Z,14,FALSE),\"\")","v":""}]
[null,{"$f":"IFERROR(VLOOKUP(A79,'1.Портфель кредитів'!A:Z,3,FALSE),\"\")","v":""},{"$f":"IFERROR(VLOOKUP(A79,'1.Портфель кредитів'!A:Z,7,FALSE),\"\")","v":""},{"$f":"IFERROR(VLOOKUP(A79,'1.Портфель кредитів'!A:Z,14,FALSE),\"\")","v":""}]
[null,{"$f":"IFERROR(VLOOKUP(A80,'1.Портфель кредитів'!A:Z,3,FALSE),\"\")","v":""},{"$f":"IFERROR(VLOOKUP(A80,'1.Портфель кредитів'!A:Z,7,FALSE),\"\")","v":""},{"$f":"IFERROR(VLOOKUP(A80,'1.Портфель кредитів'!A:Z,14,FALSE),\"\")","v":""}]
[null,{"$f":"IFERROR(VLOOKUP(A81,'1.Портфель кредитів'!A:Z,3,FALSE),\"\")","v":""},{"$f":"IFERROR(VLOOKUP(A81,'1.Портфель кредитів'!A:Z,7,FALSE),\"\")","v":""},{"$f":"IFERROR(VLOOKUP(A81,'1.Портфель кредитів'!A:Z,14,FALSE),\"\")","v":""}]
[null,{"$f":"IFERROR(VLOOKUP(A82,'1.Портфель кредитів'!A:Z,3,FALSE),\"\")","v":""},{"$f":"IFERROR(VLOOKUP(A82,'1.Портфель кредитів'!A:Z,7,FALSE),\"\")","v":""},{"$f":"IFERROR(VLOOKUP(A82,'1.Портфель кредитів'!A:Z,14,FALSE),\"\")","v":""}]
[null,{"$f":"IFERROR(VLOOKUP(A83,'1.Портфель кредитів'!A:Z,3,FALSE),\"\")","v":""},{"$f":"IFERROR(VLOOKUP(A83,'1.Портфель кредитів'!A:Z,7,FALSE),\"\")","v":""},{"$f":"IFERROR(VLOOKUP(A83,'1.Портфель кредитів'!A:Z,14,FALSE),\"\")","v":""}]
[null,{"$f":"IFERROR(VLOOKUP(A84,'1.Портфель кредитів'!A:Z,3,FALSE),\"\")","v":""},{"$f":"IFERROR(VLOOKUP(A84,'1.Портфель кредитів'!A:Z,7,FALSE),\"\")","v":""},{"$f":"IFERROR(VLOOKUP(A84,'1.Портфель кредитів'!A:Z,14,FALSE),\"\")","v":""}]
[null,{"$f":"IFERROR(VLOOKUP(A85,'1.Портфель кредитів'!A:Z,3,FALSE),\"\")","v":""},{"$f":"IFERROR(VLOOKUP(A85,'1.Портфель кредитів'!A:Z,7,FALSE),\"\")","v":""},{"$f":"IFERROR(VLOOKUP(A85,'1.Портфель кредитів'!A:Z,14,FALSE),\"\")","v":""}]
[null,{"$f":"IFERROR(VLOOKUP(A86,'1.Портфель кредитів'!A:Z,3,FALSE),\"\")","v":""},{"$f":"IFERROR(VLOOKUP(A86,'1.Портфель кредитів'!A:Z,7,FALSE),\"\")","v":""},{"$f":"IFERROR(VLOOKUP(A86,'1.Портфель кредитів'!A:Z,14,FALSE),\"\")","v":""}]
[null,{"$f":"IFERROR(VLOOKUP(A87,'1.Портфель кредитів'!A:Z,3,FALSE),\"\")","v":""},{"$f":"IFERROR(VLOOKUP(A87,'1.Портфель кредитів'!A:Z,7,FALSE),\"\")","v":""},{"$f":"IFERROR(VLOOKUP(A87,'1.Портфель кредитів'!A:Z,14,FALSE),\"\")","v":""}]
[null,{"$f":"IFERROR(VLOOKUP(A88,'1.Портфель кредитів'!A:Z,3,FALSE),\"\")","v":""},{"$f":"IFERROR(VLOOKUP(A88,'1.Портфель кредитів'!A:Z,7,FALSE),\"\")","v":""},{"$f":"IFERROR(VLOOKUP(A88,'1.Портфель кредитів'!A:Z,14,FALSE),\"\")","v":""}]
[null,{"$f":"IFERROR(VLOOKUP(A89,'1.Портфель кредитів'!A:Z,3,FALSE),\"\")","v":""},{"$f":"IFERROR(VLOOKUP(A89,'1.Портфель кредитів'!A:Z,7,FALSE),\"\")","v":""},{"$f":"IFERROR(VLOOKUP(A89,'1.Портфель кредитів'!A:Z,14,FALSE),\"\")","v":""}]
[null,{"$f":"IFERROR(VLOOKUP(A90,'1.Портфель кредитів'!A:Z,3,FALSE),\"\")","v":""},{"$f":"IFERROR(VLOOKUP(A90,'1.Портфель кредитів'!A:Z,7,FALSE),\"\")","v":""},{"$f":"IFERROR(VLOOKUP(A90,'1.Портфель кредитів'!A:Z,14,FALSE),\"\")","v":""}]
[null,{"$f":"IFERROR(VLOOKUP(A91,'1.Портфель кредитів'!A:Z,3,FALSE),\"\")","v":""},{"$f":"IFERROR(VLOOKUP(A91,'1.Портфель кредитів'!A:Z,7,FALSE),\"\")","v":""},{"$f":"IFERROR(VLOOKUP(A91,'1.Портфель кредитів'!A:Z,14,FALSE),\"\")","v":""}]
[null,{"$f":"IFERROR(VLOOKUP(A92,'1.Портфель кредитів'!A:Z,3,FALSE),\"\")","v":""},{"$f":"IFERROR(VLOOKUP(A92,'1.Портфель кредитів'!A:Z,7,FALSE),\"\")","v":""},{"$f":"IFERROR(VLOOKUP(A92,'1.Портфель кредитів'!A:Z,14,FALSE),\"\")","v":""}]
[null,{"$f":"IFERROR(VLOOKUP(A93,'1.Портфель кредитів'!A:Z,3,FALSE),\"\")","v":""},{"$f":"IFERROR(VLOOKUP(A93,'1.Портфель кредитів'!A:Z,7,FALSE),\"\")","v":""},{"$f":"IFERROR(VLOOKUP(A93,'1.Портфель кредитів'!A:Z,14,FALSE),\"\")","v":""}]
[null,{"$f":"IFERROR(VLOOKUP(A94,'1.Портфель кредитів'!A:Z,3,FALSE),\"\")","v":""},{"$f":"IFERROR(VLOOKUP(A94,'1.Портфель кредитів'!A:Z,7,FALSE),\"\")","v":""},{"$f":"IFERROR(VLOOKUP(A94,'1.Портфель кредитів'!A:Z,14,FALSE),\"\")","v":""}]
[null,{"$f":"IFERROR(VLOOKUP(A95,'1.Портфель кредитів'!A:Z,3,FALSE),\"\")","v":""},{"$f":"IFERROR(VLOOKUP(A95,'1.Портфель кредитів'!A:Z,7,FALSE),\"\")","v":""},{"$f":"IFERROR(VLOOKUP(A95,'1.Портфель кредитів'!A:Z,14,FALSE),\"\")","v":""}]
[null,{"$f":"IFERROR(VLOOKUP(A96,'1.Портфель кредитів'!A:Z,3,FALSE),\"\")","v":""},{"$f":"IFERROR(VLOOKUP(A96,'1.Портфель кредитів'!A:Z,7,FALSE),\"\")","v":""},{"$f":"IFERROR(VLOOKUP(A96,'1.Портфель кредитів'!A:Z,14,FALSE),\"\")","v":""}]
[null,{"$f":"IFERROR(VLOOKUP(A97,'1.Портфель кредитів'!A:Z,3,FALSE),\"\")","v":""},{"$f":"IFERROR(VLOOKUP(A97,'1.Портфель кредитів'!A:Z,7,FALSE),\"\")","v":""},{"$f":"IFERROR(VLOOKUP(A97,'1.Портфель кредитів'!A:Z,14,FALSE),\"\")","v":""}]
[null,{"$f":"IFERROR(VLOOKUP(A98,'1.Портфель кредитів'!A:Z,3,FALSE),\"\")","v":""},{"$f":"IFERROR(VLOOKUP(A98,'1.Портфель кредитів'!A:Z,7,FALSE),\"\")","v":""},{"$f":"IFERROR(VLOOKUP(A98,'1.Портфель кредитів'!A:Z,14,FALSE),\"\")","v":""}]
[null,{"$f":"IFERROR(VLOOKUP(A99,'1.Портфель кредитів'!A:Z,3,FALSE),\"\")","v":""},{"$f":"IFERROR(VLOOKUP(A99,'1.Портфель кредитів'!A:Z,7,FALSE),\"\")","v":""},{"$f":"IFERROR(VLOOKUP(A99,'1.Портфель кредитів'!A:Z,14,FALSE),\"\")","v":""}]
[null,{"$f":"IFERROR(VLOOKUP(A100,'1.Портфель кредитів'!A:Z,3,FALSE),\"\")","v":""},{"$f":"IFERROR(VLOOKUP(A100,'1.Портфель кредитів'!A:Z,7,FALSE),\"\")","v":""},{"$f":"IFERROR(VLOOKUP(A100,'1.Портфель кредитів'!A:Z,14,FALSE),\"\")","v":""}]
[null,{"$f":"IFERROR(VLOOKUP(A101,'1.Портфель кредитів'!A:Z,3,FALSE),\"\")","v":""},{"$f":"IFERROR(VLOOKUP(A101,'1.Портфель кредитів'!A:Z,7,FALSE),\"\")","v":""},{"$f":"IFERROR(VLOOKUP(A101,'1.Портфель кредитів'!A:Z,14,FALSE),\"\")","v":""}]
[null,{"$f":"IFERROR(VLOOKUP(A102,'1.Портфель кредитів'!A:Z,3,FALSE),\"\")","v":""},{"$f":"IFERROR(VLOOKUP(A102,'1.Портфель кредитів'!A:Z,7,FALSE),\"\")","v":""},{"$f":"IFERROR(VLOOKUP(A102,'1.Портфель кредитів'!A:Z,14,FALSE),\"\")","v":""}]
[null,{"$f":"IFERROR(VLOOKUP(A103,'1.Портфель кредитів'!A:Z,3,FALSE),\"\")","v":""},{"$f":"IFERROR(VLOOKUP(A103,'1.Портфель кредитів'!A:Z,7,FALSE),\"\")","v":""},{"$f":"IFERROR(VLOOKUP(A103,'1.Портфель кредитів'!A:Z,14,FALSE),\"\")","v":""}]
[null,{"$f":"IFERROR(VLOOKUP(A104,'1.Портфель кредитів'!A:Z,3,FALSE),\"\")","v":""},{"$f":"IFERROR(VLOOKUP(A104,'1.Портфель кредитів'!A:Z,7,FALSE),\"\")","v":""},{"$f":"IFERROR(VLOOKUP(A104,'1.Портфель кредитів'!A:Z,14,FALSE),\"\")","v":""}]
[null,{"$f":"IFERROR(VLOOKUP(A105,'1.Портфель кредитів'!A:Z,3,FALSE),\"\")","v":""},{"$f":"IFERROR(VLOOKUP(A105,'1.Портфель кредитів'!A:Z,7,FALSE),\"\")","v":""},{"$f":"IFERROR(VLOOKUP(A105,'1.Портфель кредитів'!A:Z,14,FALSE),\"\")","v":""}]
[null,{"$f":"IFERROR(VLOOKUP(A106,'1.Портфель кредитів'!A:Z,3,FALSE),\"\")","v":""},{"$f":"IFERROR(VLOOKUP(A106,'1.Портфель кредитів'!A:Z,7,FALSE),\"\")","v":""},{"$f":"IFERROR(VLOOKUP(A106,'1.Портфель кредитів'!A:Z,14,FALSE),\"\")","v":""}]
[null,{"$f":"IFERROR(VLOOKUP(A107,'1.Портфель кредитів'!A:Z,3,FALSE),\"\")","v":""},{"$f":"IFERROR(VLOOKUP(A107,'1.Портфель кредитів'!A:Z,7,FALSE),\"\")","v":""},{"$f":"IFERROR(VLOOKUP(A107,'1.Портфель кредитів'!A:Z,14,FALSE),\"\")","v":""}]
[null,{"$f":"IFERROR(VLOOKUP(A108,'1.Портфель кредитів'!A:Z,3,FALSE),\"\")","v":""},{"$f":"IFERROR(VLOOKUP(A108,'1.Портфель кредитів'!A:Z,7,FALSE),\"\")","v":""},{"$f":"IFERROR(VLOOKUP(A108,'1.Портфель кредитів'!A:Z,14,FALSE),\"\")","v":""}]
[null,{"$f":"IFERROR(VLOOKUP(A109,'1.Портфель кредитів'!A:Z,3,FALSE),\"\")","v":""},{"$f":"IFERROR(VLOOKUP(A109,'1.Портфель кредитів'!A:Z,7,FALSE),\"\")","v":""},{"$f":"IFERROR(VLOOKUP(A109,'1.Портфель кредитів'!A:Z,14,FALSE),\"\")","v":""}]
[null,{"$f":"IFERROR(VLOOKUP(A110,'1.Портфель кредитів'!A:Z,3,FALSE),\"\")","v":""},{"$f":"IFERROR(VLOOKUP(A110,'1.Портфель кредитів'!A:Z,7,FALSE),\"\")","v":""},{"$f":"IFERROR(VLOOKUP(A110,'1.Портфель кредитів'!A:Z,14,FALSE),\"\")","v":""}]
[null,{"$f":"IFERROR(VLOOKUP(A111,'1.Портфель кредитів'!A:Z,3,FALSE),\"\")","v":""},{"$f":"IFERROR(VLOOKUP(A111,'1.Портфель кредитів'!A:Z,7,FALSE),\"\")","v":""},{"$f":"IFERROR(VLOOKUP(A111,'1.Портфель кредитів'!A:Z,14,FALSE),\"\")","v":""}]
[null,{"$f":"IFERROR(VLOOKUP(A112,'1.Портфель кредитів'!A:Z,3,FALSE),\"\")","v":""},{"$f":"IFERROR(VLOOKUP(A112,'1.Портфель кредитів'!A:Z,7,FALSE),\"\")","v":""},{"$f":"IFERROR(VLOOKUP(A112,'1.Портфель кредитів'!A:Z,14,FALSE),\"\")","v":""}]
[null,{"$f":"IFERROR(VLOOKUP(A113,'1.Портфель кредитів'!A:Z,3,FALSE),\"\")","v":""},{"$f":"IFERROR(VLOOKUP(A113,'1.Портфель кредитів'!A:Z,7,FALSE),\"\")","v":""},{"$f":"IFERROR(VLOOKUP(A113,'1.Портфель кредитів'!A:Z,14,FALSE),\"\")","v":""}]
[null,{"$f":"IFERROR(VLOOKUP(A114,'1.Портфель кредитів'!A:Z,3,FALSE),\"\")","v":""},{"$f":"IFERROR(VLOOKUP(A114,'1.Портфель кредитів'!A:Z,7,FALSE),\"\")","v":""},{"$f":"IFERROR(VLOOKUP(A114,'1.Портфель кредитів'!A:Z,14,FALSE),\"\")","v":""}]
[null,{"$f":"IFERROR(VLOOKUP(A115,'1.Портфель кредитів'!A:Z,3,FALSE),\"\")","v":""},{"$f":"IFERROR(VLOOKUP(A115,'1.Портфель кредитів'!A:Z,7,FALSE),\"\")","v":""},{"$f":"IFERROR(VLOOKUP(A115,'1.Портфель кредитів'!A:Z,14,FALSE),\"\")","v":""}]
[null,{"$f":"IFERROR(VLOOKUP(A116,'1.Портфель кредитів'!A:Z,3,FALSE),\"\")","v":""},{"$f":"IFERROR(VLOOKUP(A116,'1.Портфель кредитів'!A:Z,7,FALSE),\"\")","v":""},{"$f":"IFERROR(VLOOKUP(A116,'1.Портфель кредитів'!A:Z,14,FALSE),\"\")","v":""}]
[null,{"$f":"IFERROR(VLOOKUP(A117,'1.Портфель кредитів'!A:Z,3,FALSE),\"\")","v":""},{"$f":"IFERROR(VLOOKUP(A117,'1.Портфель кредитів'!A:Z,7,FALSE),\"\")","v":""},{"$f":"IFERROR(VLOOKUP(A117,'1.Портфель кредитів'!A:Z,14,FALSE),\"\")","v":""}]
[null,{"$f":"IFERROR(VLOOKUP(A118,'1.Портфель кредитів'!A:Z,3,FALSE),\"\")","v":""},{"$f":"IFERROR(VLOOKUP(A118,'1.Портфель кредитів'!A:Z,7,FALSE),\"\")","v":""},{"$f":"IFERROR(VLOOKUP(A118,'1.Портфель кредитів'!A:Z,14,FALSE),\"\")","v":""}]
[null,{"$f":"IFERROR(VLOOKUP(A119,'1.Портфель кредитів'!A:Z,3,FALSE),\"\")","v":""},{"$f":"IFERROR(VLOOKUP(A119,'1.Портфель кредитів'!A:Z,7,FALSE),\"\")","v":""},{"$f":"IFERROR(VLOOKUP(A119,'1.Портфель кредитів'!A:Z,14,FALSE),\"\")","v":""}]
[null,{"$f":"IFERROR(VLOOKUP(A120,'1.Портфель кредитів'!A:Z,3,FALSE),\"\")","v":""},{"$f":"IFERROR(VLOOKUP(A120,'1.Портфель кредитів'!A:Z,7,FALSE),\"\")","v":""},{"$f":"IFERROR(VLOOKUP(A120,'1.Портфель кредитів'!A:Z,14,FALSE),\"\")","v":""}]
[null,{"$f":"IFERROR(VLOOKUP(A121,'1.Портфель кредитів'!A:Z,3,FALSE),\"\")","v":""},{"$f":"IFERROR(VLOOKUP(A121,'1.Портфель кредитів'!A:Z,7,FALSE),\"\")","v":""},{"$f":"IFERROR(VLOOKUP(A121,'1.Портфель кредитів'!A:Z,14,FALSE),\"\")","v":""}]
[null,{"$f":"IFERROR(VLOOKUP(A122,'1.Портфель кредитів'!A:Z,3,FALSE),\"\")","v":""},{"$f":"IFERROR(VLOOKUP(A122,'1.Портфель кредитів'!A:Z,7,FALSE),\"\")","v":""},{"$f":"IFERROR(VLOOKUP(A122,'1.Портфель кредитів'!A:Z,14,FALSE),\"\")","v":""}]
[null,{"$f":"IFERROR(VLOOKUP(A123,'1.Портфель кредитів'!A:Z,3,FALSE),\"\")","v":""},{"$f":"IFERROR(VLOOKUP(A123,'1.Портфель кредитів'!A:Z,7,FALSE),\"\")","v":""},{"$f":"IFERROR(VLOOKUP(A123,'1.Портфель кредитів'!A:Z,14,FALSE),\"\")","v":""}]
[null,{"$f":"IFERROR(VLOOKUP(A124,'1.Портфель кредитів'!A:Z,3,FALSE),\"\")","v":""},{"$f":"IFERROR(VLOOKUP(A124,'1.Портфель кредитів'!A:Z,7,FALSE),\"\")","v":""},{"$f":"IFERROR(VLOOKUP(A124,'1.Портфель кредитів'!A:Z,14,FALSE),\"\")","v":""}]
[null,{"$f":"IFERROR(VLOOKUP(A125,'1.Портфель кредитів'!A:Z,3,FALSE),\"\")","v":""},{"$f":"IFERROR(VLOOKUP(A125,'1.Портфель кредитів'!A:Z,7,FALSE),\"\")","v":""},{"$f":"IFERROR(VLOOKUP(A125,'1.Портфель кредитів'!A:Z,14,FALSE),\"\")","v":""}]
[null,{"$f":"IFERROR(VLOOKUP(A126,'1.Портфель кредитів'!A:Z,3,FALSE),\"\")","v":""},{"$f":"IFERROR(VLOOKUP(A126,'1.Портфель кредитів'!A:Z,7,FALSE),\"\")","v":""},{"$f":"IFERROR(VLOOKUP(A126,'1.Портфель кредитів'!A:Z,14,FALSE),\"\")","v":""}]
[null,{"$f":"IFERROR(VLOOKUP(A127,'1.Портфель кредитів'!A:Z,3,FALSE),\"\")","v":""},{"$f":"IFERROR(VLOOKUP(A127,'1.Портфель кредитів'!A:Z,7,FALSE),\"\")","v":""},{"$f":"IFERROR(VLOOKUP(A127,'1.Портфель кредитів'!A:Z,14,FALSE),\"\")","v":""}]
[null,{"$f":"IFERROR(VLOOKUP(A128,'1.Портфель кредитів'!A:Z,3,FALSE),\"\")","v":""},{"$f":"IFERROR(VLOOKUP(A128,'1.Портфель кредитів'!A:Z,7,FALSE),\"\")","v":""},{"$f":"IFERROR(VLOOKUP(A128,'1.Портфель кредитів'!A:Z,14,FALSE),\"\")","v":""}]
[null,{"$f":"IFERROR(VLOOKUP(A129,'1.Портфель кредитів'!A:Z,3,FALSE),\"\")","v":""},{"$f":"IFERROR(VLOOKUP(A129,'1.Портфель кредитів'!A:Z,7,FALSE),\"\")","v":""},{"$f":"IFERROR(VLOOKUP(A129,'1.Портфель кредитів'!A:Z,14,FALSE),\"\")","v":""}]
[null,{"$f":"IFERROR(VLOOKUP(A130,'1.Портфель кредитів'!A:Z,3,FALSE),\"\")","v":""},{"$f":"IFERROR(VLOOKUP(A130,'1.Портфель кредитів'!A:Z,7,FALSE),\"\")","v":""},{"$f":"IFERROR(VLOOKUP(A130,'1.Портфель кредитів'!A:Z,14,FALSE),\"\")","v":""}]
[null,{"$f":"IFERROR(VLOOKUP(A131,'1.Портфель кредитів'!A:Z,3,FALSE),\"\")","v":""},{"$f":"IFERROR(VLOOKUP(A131,'1.Портфель кредитів'!A:Z,7,FALSE),\"\")","v":""},{"$f":"IFERROR(VLOOKUP(A131,'1.Портфель кредитів'!A:Z,14,FALSE),\"\")","v":""}]
[null,{"$f":"IFERROR(VLOOKUP(A132,'1.Портфель кредитів'!A:Z,3,FALSE),\"\")","v":""},{"$f":"IFERROR(VLOOKUP(A132,'1.Портфель кредитів'!A:Z,7,FALSE),\"\")","v":""},{"$f":"IFERROR(VLOOKUP(A132,'1.Портфель кредитів'!A:Z,14,FALSE),\"\")","v":""}]
[null,{"$f":"IFERROR(VLOOKUP(A133,'1.Портфель кредитів'!A:Z,3,FALSE),\"\")","v":""},{"$f":"IFERROR(VLOOKUP(A133,'1.Портфель кредитів'!A:Z,7,FALSE),\"\")","v":""},{"$f":"IFERROR(VLOOKUP(A133,'1.Портфель кредитів'!A:Z,14,FALSE),\"\")","v":""}]
[null,{"$f":"IFERROR(VLOOKUP(A134,'1.Портфель кредитів'!A:Z,3,FALSE),\"\")","v":""},{"$f":"IFERROR(VLOOKUP(A134,'1.Портфель кредитів'!A:Z,7,FALSE),\"\")","v":""},{"$f":"IFERROR(VLOOKUP(A134,'1.Портфель кредитів'!A:Z,14,FALSE),\"\")","v":""}]
[null,{"$f":"IFERROR(VLOOKUP(A135,'1.Портфель кредитів'!A:Z,3,FALSE),\"\")","v":""},{"$f":"IFERROR(VLOOKUP(A135,'1.Портфель кредитів'!A:Z,7,FALSE),\"\")","v":""},{"$f":"IFERROR(VLOOKUP(A135,'1.Портфель кредитів'!A:Z,14,FALSE),\"\")","v":""}]
[null,{"$f":"IFERROR(VLOOKUP(A136,'1.Портфель кредитів'!A:Z,3,FALSE),\"\")","v":""},{"$f":"IFERROR(VLOOKUP(A136,'1.Портфель кредитів'!A:Z,7,FALSE),\"\")","v":""},{"$f":"IFERROR(VLOOKUP(A136,'1.Портфель кредитів'!A:Z,14,FALSE),\"\")","v":""}]
[null,{"$f":"IFERROR(VLOOKUP(A137,'1.Портфель кредитів'!A:Z,3,FALSE),\"\")","v":""},{"$f":"IFERROR(VLOOKUP(A137,'1.Портфель кредитів'!A:Z,7,FALSE),\"\")","v":""},{"$f":"IFERROR(VLOOKUP(A137,'1.Портфель кредитів'!A:Z,14,FALSE),\"\")","v":""}]
[null,{"$f":"IFERROR(VLOOKUP(A138,'1.Портфель кредитів'!A:Z,3,FALSE),\"\")","v":""},{"$f":"IFERROR(VLOOKUP(A138,'1.Портфель кредитів'!A:Z,7,FALSE),\"\")","v":""},{"$f":"IFERROR(VLOOKUP(A138,'1.Портфель кредитів'!A:Z,14,FALSE),\"\")","v":""}]
[null,{"$f":"IFERROR(VLOOKUP(A139,'1.Портфель кредитів'!A:Z,3,FALSE),\"\")","v":""},{"$f":"IFERROR(VLOOKUP(A139,'1.Портфель кредитів'!A:Z,7,FALSE),\"\")","v":""},{"$f":"IFERROR(VLOOKUP(A139,'1.Портфель кредитів'!A:Z,14,FALSE),\"\")","v":""}]
[null,{"$f":"IFERROR(VLOOKUP(A140,'1.Портфель кредитів'!A:Z,3,FALSE),\"\")","v":""},{"$f":"IFERROR(VLOOKUP(A140,'1.Портфель кредитів'!A:Z,7,FALSE),\"\")","v":""},{"$f":"IFERROR(VLOOKUP(A140,'1.Портфель кредитів'!A:Z,14,FALSE),\"\")","v":""}]
[null,{"$f":"IFERROR(VLOOKUP(A141,'1.Портфель кредитів'!A:Z,3,FALSE),\"\")","v":""},{"$f":"IFERROR(VLOOKUP(A141,'1.Портфель кредитів'!A:Z,7,FALSE),\"\")","v":""},{"$f":"IFERROR(VLOOKUP(A141,'1.Портфель кредитів'!A:Z,14,FALSE),\"\")","v":""}]
[null,{"$f":"IFERROR(VLOOKUP(A142,'1.Портфель кредитів'!A:Z,3,FALSE),\"\")","v":""},{"$f":"IFERROR(VLOOKUP(A142,'1.Портфель кредитів'!A:Z,7,FALSE),\"\")","v":""},{"$f":"IFERROR(VLOOKUP(A142,'1.Портфель кредитів'!A:Z,14,FALSE),\"\")","v":""}]
[null,{"$f":"IFERROR(VLOOKUP(A143,'1.Портфель кредитів'!A:Z,3,FALSE),\"\")","v":""},{"$f":"IFERROR(VLOOKUP(A143,'1.Портфель кредитів'!A:Z,7,FALSE),\"\")","v":""},{"$f":"IFERROR(VLOOKUP(A143,'1.Портфель кредитів'!A:Z,14,FALSE),\"\")","v":""}]
[null,{"$f":"IFERROR(VLOOKUP(A144,'1.Портфель кредитів'!A:Z,3,FALSE),\"\")","v":""},{"$f":"IFERROR(VLOOKUP(A144,'1.Портфель кредитів'!A:Z,7,FALSE),\"\")","v":""},{"$f":"IFERROR(VLOOKUP(A144,'1.Портфель кредитів'!A:Z,14,FALSE),\"\")","v":""}]
[null,{"$f":"IFERROR(VLOOKUP(A145,'1.Портфель кредитів'!A:Z,3,FALSE),\"\")","v":""},{"$f":"IFERROR(VLOOKUP(A145,'1.Портфель кредитів'!A:Z,7,FALSE),\"\")","v":""},{"$f":"IFERROR(VLOOKUP(A145,'1.Портфель кредитів'!A:Z,14,FALSE),\"\")","v":""}]
[null,{"$f":"IFERROR(VLOOKUP(A146,'1.Портфель кредитів'!A:Z,3,FALSE),\"\")","v":""},{"$f":"IFERROR(VLOOKUP(A146,'1.Портфель кредитів'!A:Z,7,FALSE),\"\")","v":""},{"$f":"IFERROR(VLOOKUP(A146,'1.Портфель кредитів'!A:Z,14,FALSE),\"\")","v":""}]
[null,{"$f":"IFERROR(VLOOKUP(A147,'1.Портфель кредитів'!A:Z,3,FALSE),\"\")","v":""},{"$f":"IFERROR(VLOOKUP(A147,'1.Портфель кредитів'!A:Z,7,FALSE),\"\")","v":""},{"$f":"IFERROR(VLOOKUP(A147,'1.Портфель кредитів'!A:Z,14,FALSE),\"\")","v":""}]
[null,{"$f":"IFERROR(VLOOKUP(A148,'1.Портфель кредитів'!A:Z,3,FALSE),\"\")","v":""},{"$f":"IFERROR(VLOOKUP(A148,'1.Портфель кредитів'!A:Z,7,FALSE),\"\")","v":""},{"$f":"IFERROR(VLOOKUP(A148,'1.Портфель кредитів'!A:Z,14,FALSE),\"\")","v":""}]
[null,{"$f":"IFERROR(VLOOKUP(A149,'1.Портфель кредитів'!A:Z,3,FALSE),\"\")","v":""},{"$f":"IFERROR(VLOOKUP(A149,'1.Портфель кредитів'!A:Z,7,FALSE),\"\")","v":""},{"$f":"IFERROR(VLOOKUP(A149,'1.Портфель кредитів'!A:Z,14,FALSE),\"\")","v":""}]
[null,{"$f":"IFERROR(VLOOKUP(A150,'1.Портфель кредитів'!A:Z,3,FALSE),\"\")","v":""},{"$f":"IFERROR(VLOOKUP(A150,'1.Портфель кредитів'!A:Z,7,FALSE),\"\")","v":""},{"$f":"IFERROR(VLOOKUP(A150,'1.Портфель кредитів'!A:Z,14,FALSE),\"\")","v":""}]
[null,{"$f":"IFERROR(VLOOKUP(A151,'1.Портфель кредитів'!A:Z,3,FALSE),\"\")","v":""},{"$f":"IFERROR(VLOOKUP(A151,'1.Портфель кредитів'!A:Z,7,FALSE),\"\")","v":""},{"$f":"IFERROR(VLOOKUP(A151,'1.Портфель кредитів'!A:Z,14,FALSE),\"\")","v":""}]
[null,{"$f":"IFERROR(VLOOKUP(A152,'1.Портфель кредитів'!A:Z,3,FALSE),\"\")","v":""},{"$f":"IFERROR(VLOOKUP(A152,'1.Портфель кредитів'!A:Z,7,FALSE),\"\")","v":""},{"$f":"IFERROR(VLOOKUP(A152,'1.Портфель кредитів'!A:Z,14,FALSE),\"\")","v":""}]
[null,{"$f":"IFERROR(VLOOKUP(A153,'1.Портфель кредитів'!A:Z,3,FALSE),\"\")","v":""},{"$f":"IFERROR(VLOOKUP(A153,'1.Портфель кредитів'!A:Z,7,FALSE),\"\")","v":""},{"$f":"IFERROR(VLOOKUP(A153,'1.Портфель кредитів'!A:Z,14,FALSE),\"\")","v":""}]
[null,{"$f":"IFERROR(VLOOKUP(A154,'1.Портфель кредитів'!A:Z,3,FALSE),\"\")","v":""},{"$f":"IFERROR(VLOOKUP(A154,'1.Портфель кредитів'!A:Z,7,FALSE),\"\")","v":""},{"$f":"IFERROR(VLOOKUP(A154,'1.Портфель кредитів'!A:Z,14,FALSE),\"\")","v":""}]
[null,{"$f":"IFERROR(VLOOKUP(A155,'1.Портфель кредитів'!A:Z,3,FALSE),\"\")","v":""},{"$f":"IFERROR(VLOOKUP(A155,'1.Портфель кредитів'!A:Z,7,FALSE),\"\")","v":""},{"$f":"IFERROR(VLOOKUP(A155,'1.Портфель кредитів'!A:Z,14,FALSE),\"\")","v":""}]
[null,{"$f":"IFERROR(VLOOKUP(A156,'1.Портфель кредитів'!A:Z,3,FALSE),\"\")","v":""},{"$f":"IFERROR(VLOOKUP(A156,'1.Портфель кредитів'!A:Z,7,FALSE),\"\")","v":""},{"$f":"IFERROR(VLOOKUP(A156,'1.Портфель кредитів'!A:Z,14,FALSE),\"\")","v":""}]
[null,{"$f":"IFERROR(VLOOKUP(A157,'1.Портфель кредитів'!A:Z,3,FALSE),\"\")","v":""},{"$f":"IFERROR(VLOOKUP(A157,'1.Портфель кредитів'!A:Z,7,FALSE),\"\")","v":""},{"$f":"IFERROR(VLOOKUP(A157,'1.Портфель кредитів'!A:Z,14,FALSE),\"\")","v":""}]
[null,{"$f":"IFERROR(VLOOKUP(A158,'1.Портфель кредитів'!A:Z,3,FALSE),\"\")","v":""},{"$f":"IFERROR(VLOOKUP(A158,'1.Портфель кредитів'!A:Z,7,FALSE),\"\")","v":""},{"$f":"IFERROR(VLOOKUP(A158,'1.Портфель кредитів'!A:Z,14,FALSE),\"\")","v":""}]
[null,{"$f":"IFERROR(VLOOKUP(A159,'1.Портфель кредитів'!A:Z,3,FALSE),\"\")","v":""},{"$f":"IFERROR(VLOOKUP(A159,'1.Портфель кредитів'!A:Z,7,FALSE),\"\")","v":""},{"$f":"IFERROR(VLOOKUP(A159,'1.Портфель кредитів'!A:Z,14,FALSE),\"\")","v":""}]
[null,{"$f":"IFERROR(VLOOKUP(A160,'1.Портфель кредитів'!A:Z,3,FALSE),\"\")","v":""},{"$f":"IFERROR(VLOOKUP(A160,'1.Портфель кредитів'!A:Z,7,FALSE),\"\")","v":""},{"$f":"IFERROR(VLOOKUP(A160,'1.Портфель кредитів'!A:Z,14,FALSE),\"\")","v":""}]
[null,{"$f":"IFERROR(VLOOKUP(A161,'1.Портфель кредитів'!A:Z,3,FALSE),\"\")","v":""},{"$f":"IFERROR(VLOOKUP(A161,'1.Портфель кредитів'!A:Z,7,FALSE),\"\")","v":""},{"$f":"IFERROR(VLOOKUP(A161,'1.Портфель кредитів'!A:Z,14,FALSE),\"\")","v":""}]
[null,{"$f":"IFERROR(VLOOKUP(A162,'1.Портфель кредитів'!A:Z,3,FALSE),\"\")","v":""},{"$f":"IFERROR(VLOOKUP(A162,'1.Портфель кредитів'!A:Z,7,FALSE),\"\")","v":""},{"$f":"IFERROR(VLOOKUP(A162,'1.Портфель кредитів'!A:Z,14,FALSE),\"\")","v":""}]
[null,{"$f":"IFERROR(VLOOKUP(A163,'1.Портфель кредитів'!A:Z,3,FALSE),\"\")","v":""},{"$f":"IFERROR(VLOOKUP(A163,'1.Портфель кредитів'!A:Z,7,FALSE),\"\")","v":""},{"$f":"IFERROR(VLOOKUP(A163,'1.Портфель кредитів'!A:Z,14,FALSE),\"\")","v":""}]
[null,{"$f":"IFERROR(VLOOKUP(A164,'1.Портфель кредитів'!A:Z,3,FALSE),\"\")","v":""},{"$f":"IFERROR(VLOOKUP(A164,'1.Портфель кредитів'!A:Z,7,FALSE),\"\")","v":""},{"$f":"IFERROR(VLOOKUP(A164,'1.Портфель кредитів'!A:Z,14,FALSE),\"\")","v":""}]
[null,{"$f":"IFERROR(VLOOKUP(A165,'1.Портфель кредитів'!A:Z,3,FALSE),\"\")","v":""},{"$f":"IFERROR(VLOOKUP(A165,'1.Портфель кредитів'!A:Z,7,FALSE),\"\")","v":""},{"$f":"IFERROR(VLOOKUP(A165,'1.Портфель кредитів'!A:Z,14,FALSE),\"\")","v":""}]
[null,{"$f":"IFERROR(VLOOKUP(A166,'1.Портфель кредитів'!A:Z,3,FALSE),\"\")","v":""},{"$f":"IFERROR(VLOOKUP(A166,'1.Портфель кредитів'!A:Z,7,FALSE),\"\")","v":""},{"$f":"IFERROR(VLOOKUP(A166,'1.Портфель кредитів'!A:Z,14,FALSE),\"\")","v":""}]
[null,{"$f":"IFERROR(VLOOKUP(A167,'1.Портфель кредитів'!A:Z,3,FALSE),\"\")","v":""},{"$f":"IFERROR(VLOOKUP(A167,'1.Портфель кредитів'!A:Z,7,FALSE),\"\")","v":""},{"$f":"IFERROR(VLOOKUP(A167,'1.Портфель кредитів'!A:Z,14,FALSE),\"\")","v":""}]
[null,{"$f":"IFERROR(VLOOKUP(A168,'1.Портфель кредитів'!A:Z,3,FALSE),\"\")","v":""},{"$f":"IFERROR(VLOOKUP(A168,'1.Портфель кредитів'!A:Z,7,FALSE),\"\")","v":""},{"$f":"IFERROR(VLOOKUP(A168,'1.Портфель кредитів'!A:Z,14,FALSE),\"\")","v":""}]
[null,{"$f":"IFERROR(VLOOKUP(A169,'1.Портфель кредитів'!A:Z,3,FALSE),\"\")","v":""},{"$f":"IFERROR(VLOOKUP(A169,'1.Портфель кредитів'!A:Z,7,FALSE),\"\")","v":""},{"$f":"IFERROR(VLOOKUP(A169,'1.Портфель кредитів'!A:Z,14,FALSE),\"\")","v":""}]
[null,{"$f":"IFERROR(VLOOKUP(A170,'1.Портфель кредитів'!A:Z,3,FALSE),\"\")","v":""},{"$f":"IFERROR(VLOOKUP(A170,'1.Портфель кредитів'!A:Z,7,FALSE),\"\")","v":""},{"$f":"IFERROR(VLOOKUP(A170,'1.Портфель кредитів'!A:Z,14,FALSE),\"\")","v":""}]
[null,{"$f":"IFERROR(VLOOKUP(A171,'1.Портфель кредитів'!A:Z,3,FALSE),\"\")","v":""},{"$f":"IFERROR(VLOOKUP(A171,'1.Портфель кредитів'!A:Z,7,FALSE),\"\")","v":""},{"$f":"IFERROR(VLOOKUP(A171,'1.Портфель кредитів'!A:Z,14,FALSE),\"\")","v":""}]
[null,{"$f":"IFERROR(VLOOKUP(A172,'1.Портфель кредитів'!A:Z,3,FALSE),\"\")","v":""},{"$f":"IFERROR(VLOOKUP(A172,'1.Портфель кредитів'!A:Z,7,FALSE),\"\")","v":""},{"$f":"IFERROR(VLOOKUP(A172,'1.Портфель кредитів'!A:Z,14,FALSE),\"\")","v":""}]
[null,{"$f":"IFERROR(VLOOKUP(A173,'1.Портфель кредитів'!A:Z,3,FALSE),\"\")","v":""},{"$f":"IFERROR(VLOOKUP(A173,'1.Портфель кредитів'!A:Z,7,FALSE),\"\")","v":""},{"$f":"IFERROR(VLOOKUP(A173,'1.Портфель кредитів'!A:Z,14,FALSE),\"\")","v":""}]
[null,{"$f":"IFERROR(VLOOKUP(A174,'1.Портфель кредитів'!A:Z,3,FALSE),\"\")","v":""},{"$f":"IFERROR(VLOOKUP(A174,'1.Портфель кредитів'!A:Z,7,FALSE),\"\")","v":""},{"$f":"IFERROR(VLOOKUP(A174,'1.Портфель кредитів'!A:Z,14,FALSE),\"\")","v":""}]
[null,{"$f":"IFERROR(VLOOKUP(A175,'1.Портфель кредитів'!A:Z,3,FALSE),\"\")","v":""},{"$f":"IFERROR(VLOOKUP(A175,'1.Портфель кредитів'!A:Z,7,FALSE),\"\")","v":""},{"$f":"IFERROR(VLOOKUP(A175,'1.Портфель кредитів'!A:Z,14,FALSE),\"\")","v":""}]
[null,{"$f":"IFERROR(VLOOKUP(A176,'1.Портфель кредитів'!A:Z,3,FALSE),\"\")","v":""},{"$f":"IFERROR(VLOOKUP(A176,'1.Портфель кредитів'!A:Z,7,FALSE),\"\")","v":""},{"$f":"IFERROR(VLOOKUP(A176,'1.Портфель кредитів'!A:Z,14,FALSE),\"\")","v":""}]
[null,{"$f":"IFERROR(VLOOKUP(A177,'1.Портфель кредитів'!A:Z,3,FALSE),\"\")","v":""},{"$f":"IFERROR(VLOOKUP(A177,'1.Портфель кредитів'!A:Z,7,FALSE),\"\")","v":""},{"$f":"IFERROR(VLOOKUP(A177,'1.Портфель кредитів'!A:Z,14,FALSE),\"\")","v":""}]
[null,{"$f":"IFERROR(VLOOKUP(A178,'1.Портфель кредитів'!A:Z,3,FALSE),\"\")","v":""},{"$f":"IFERROR(VLOOKUP(A178,'1.Портфель кредитів'!A:Z,7,FALSE),\"\")","v":""},{"$f":"IFERROR(VLOOKUP(A178,'1.Портфель кредитів'!A:Z,14,FALSE),\"\")","v":""}]
[null,{"$f":"IFERROR(VLOOKUP(A179,'1.Портфель кредитів'!A:Z,3,FALSE),\"\")","v":""},{"$f":"IFERROR(VLOOKUP(A179,'1.Портфель кредитів'!A:Z,7,FALSE),\"\")","v":""},{"$f":"IFERROR(VLOOKUP(A179,'1.Портфель кредитів'!A:Z,14,FALSE),\"\")","v":""}]
[null,{"$f":"IFERROR(VLOOKUP(A180,'1.Портфель кредитів'!A:Z,3,FALSE),\"\")","v":""},{"$f":"IFERROR(VLOOKUP(A180,'1.Портфель кредитів'!A:Z,7,FALSE),\"\")","v":""},{"$f":"IFERROR(VLOOKUP(A180,'1.Портфель кредитів'!A:Z,14,FALSE),\"\")","v":""}]
[null,{"$f":"IFERROR(VLOOKUP(A181,'1.Портфель кредитів'!A:Z,3,FALSE),\"\")","v":""},{"$f":"IFERROR(VLOOKUP(A181,'1.Портфель кредитів'!A:Z,7,FALSE),\"\")","v":""},{"$f":"IFERROR(VLOOKUP(A181,'1.Портфель кредитів'!A:Z,14,FALSE),\"\")","v":""}]
[null,{"$f":"IFERROR(VLOOKUP(A182,'1.Портфель кредитів'!A:Z,3,FALSE),\"\")","v":""},{"$f":"IFERROR(VLOOKUP(A182,'1.Портфель кредитів'!A:Z,7,FALSE),\"\")","v":""},{"$f":"IFERROR(VLOOKUP(A182,'1.Портфель кредитів'!A:Z,14,FALSE),\"\")","v":""}]
[null,{"$f":"IFERROR(VLOOKUP(A183,'1.Портфель кредитів'!A:Z,3,FALSE),\"\")","v":""},{"$f":"IFERROR(VLOOKUP(A183,'1.Портфель кредитів'!A:Z,7,FALSE),\"\")","v":""},{"$f":"IFERROR(VLOOKUP(A183,'1.Портфель кредитів'!A:Z,14,FALSE),\"\")","v":""}]
[null,{"$f":"IFERROR(VLOOKUP(A184,'1.Портфель кредитів'!A:Z,3,FALSE),\"\")","v":""},{"$f":"IFERROR(VLOOKUP(A184,'1.Портфель кредитів'!A:Z,7,FALSE),\"\")","v":""},{"$f":"IFERROR(VLOOKUP(A184,'1.Портфель кредитів'!A:Z,14,FALSE),\"\")","v":""}]
[null,{"$f":"IFERROR(VLOOKUP(A185,'1.Портфель кредитів'!A:Z,3,FALSE),\"\")","v":""},{"$f":"IFERROR(VLOOKUP(A185,'1.Портфель кредитів'!A:Z,7,FALSE),\"\")","v":""},{"$f":"IFERROR(VLOOKUP(A185,'1.Портфель кредитів'!A:Z,14,FALSE),\"\")","v":""}]
[null,{"$f":"IFERROR(VLOOKUP(A186,'1.Портфель кредитів'!A:Z,3,FALSE),\"\")","v":""},{"$f":"IFERROR(VLOOKUP(A186,'1.Портфель кредитів'!A:Z,7,FALSE),\"\")","v":""},{"$f":"IFERROR(VLOOKUP(A186,'1.Портфель кредитів'!A:Z,14,FALSE),\"\")","v":""}]
[null,{"$f":"IFERROR(VLOOKUP(A187,'1.Портфель кредитів'!A:Z,3,FALSE),\"\")","v":""},{"$f":"IFERROR(VLOOKUP(A187,'1.Портфель кредитів'!A:Z,7,FALSE),\"\")","v":""},{"$f":"IFERROR(VLOOKUP(A187,'1.Портфель кредитів'!A:Z,14,FALSE),\"\")","v":""}]
[null,{"$f":"IFERROR(VLOOKUP(A188,'1.Портфель кредитів'!A:Z,3,FALSE),\"\")","v":""},{"$f":"IFERROR(VLOOKUP(A188,'1.Портфель кредитів'!A:Z,7,FALSE),\"\")","v":""},{"$f":"IFERROR(VLOOKUP(A188,'1.Портфель кредитів'!A:Z,14,FALSE),\"\")","v":""}]
[null,{"$f":"IFERROR(VLOOKUP(A189,'1.Портфель кредитів'!A:Z,3,FALSE),\"\")","v":""},{"$f":"IFERROR(VLOOKUP(A189,'1.Портфель кредитів'!A:Z,7,FALSE),\"\")","v":""},{"$f":"IFERROR(VLOOKUP(A189,'1.Портфель кредитів'!A:Z,14,FALSE),\"\")","v":""}]
[null,{"$f":"IFERROR(VLOOKUP(A190,'1.Портфель кредитів'!A:Z,3,FALSE),\"\")","v":""},{"$f":"IFERROR(VLOOKUP(A190,'1.Портфель кредитів'!A:Z,7,FALSE),\"\")","v":""},{"$f":"IFERROR(VLOOKUP(A190,'1.Портфель кредитів'!A:Z,14,FALSE),\"\")","v":""}]
[null,{"$f":"IFERROR(VLOOKUP(A191,'1.Портфель кредитів'!A:Z,3,FALSE),\"\")","v":""},{"$f":"IFERROR(VLOOKUP(A191,'1.Портфель кредитів'!A:Z,7,FALSE),\"\")","v":""},{"$f":"IFERROR(VLOOKUP(A191,'1.Портфель кредитів'!A:Z,14,FALSE),\"\")","v":""}]
[null,{"$f":"IFERROR(VLOOKUP(A192,'1.Портфель кредитів'!A:Z,3,FALSE),\"\")","v":""},{"$f":"IFERROR(VLOOKUP(A192,'1.Портфель кредитів'!A:Z,7,FALSE),\"\")","v":""},{"$f":"IFERROR(VLOOKUP(A192,'1.Портфель кредитів'!A:Z,14,FALSE),\"\")","v":""}]
[null,{"$f":"IFERROR(VLOOKUP(A193,'1.Портфель кредитів'!A:Z,3,FALSE),\"\")","v":""},{"$f":"IFERROR(VLOOKUP(A193,'1.Портфель кредитів'!A:Z,7,FALSE),\"\")","v":""},{"$f":"IFERROR(VLOOKUP(A193,'1.Портфель кредитів'!A:Z,14,FALSE),\"\")","v":""}]
[null,{"$f":"IFERROR(VLOOKUP(A194,'1.Портфель кредитів'!A:Z,3,FALSE),\"\")","v":""},{"$f":"IFERROR(VLOOKUP(A194,'1.Портфель кредитів'!A:Z,7,FALSE),\"\")","v":""},{"$f":"IFERROR(VLOOKUP(A194,'1.Портфель кредитів'!A:Z,14,FALSE),\"\")","v":""}]
[null,{"$f":"IFERROR(VLOOKUP(A195,'1.Портфель кредитів'!A:Z,3,FALSE),\"\")","v":""},{"$f":"IFERROR(VLOOKUP(A195,'1.Портфель кредитів'!A:Z,7,FALSE),\"\")","v":""},{"$f":"IFERROR(VLOOKUP(A195,'1.Портфель кредитів'!A:Z,14,FALSE),\"\")","v":""}]
[null,{"$f":"IFERROR(VLOOKUP(A196,'1.Портфель кредитів'!A:Z,3,FALSE),\"\")","v":""},{"$f":"IFERROR(VLOOKUP(A196,'1.Портфель кредитів'!A:Z,7,FALSE),\"\")","v":""},{"$f":"IFERROR(VLOOKUP(A196,'1.Портфель кредитів'!A:Z,14,FALSE),\"\")","v":""}]
[null,{"$f":"IFERROR(VLOOKUP(A197,'1.Портфель кредитів'!A:Z,3,FALSE),\"\")","v":""},{"$f":"IFERROR(VLOOKUP(A197,'1.Портфель кредитів'!A:Z,7,FALSE),\"\")","v":""},{"$f":"IFERROR(VLOOKUP(A197,'1.Портфель кредитів'!A:Z,14,FALSE),\"\")","v":""}]
[null,{"$f":"IFERROR(VLOOKUP(A198,'1.Портфель кредитів'!A:Z,3,FALSE),\"\")","v":""},{"$f":"IFERROR(VLOOKUP(A198,'1.Портфель кредитів'!A:Z,7,FALSE),\"\")","v":""},{"$f":"IFERROR(VLOOKUP(A198,'1.Портфель кредитів'!A:Z,14,FALSE),\"\")","v":""}]
[null,{"$f":"IFERROR(VLOOKUP(A199,'1.Портфель кредитів'!A:Z,3,FALSE),\"\")","v":""},{"$f":"IFERROR(VLOOKUP(A199,'1.Портфель кредитів'!A:Z,7,FALSE),\"\")","v":""},{"$f":"IFERROR(VLOOKUP(A199,'1.Портфель кредитів'!A:Z,14,FALSE),\"\")","v":""}]
[null,{"$f":"IFERROR(VLOOKUP(A200,'1.Портфель кредитів'!A:Z,3,FALSE),\"\")","v":""},{"$f":"IFERROR(VLOOKUP(A200,'1.Портфель кредитів'!A:Z,7,FALSE),\"\")","v":""},{"$f":"IFERROR(VLOOKUP(A200,'1.Портфель кредитів'!A:Z,14,FALSE),\"\")","v":""}]
[null,{"$f":"IFERROR(VLOOKUP(A201,'1.Портфель кредитів'!A:Z,3,FALSE),\"\")","v":""},{"$f":"IFERROR(VLOOKUP(A201,'1.Портфель кредитів'!A:Z,7,FALSE),\"\")","v":""},{"$f":"IFERROR(VLOOKUP(A201,'1.Портфель кредитів'!A:Z,14,FALSE),\"\")","v":""}]
[null,{"$f":"IFERROR(VLOOKUP(A202,'1.Портфель кредитів'!A:Z,3,FALSE),\"\")","v":""},{"$f":"IFERROR(VLOOKUP(A202,'1.Портфель кредитів'!A:Z,7,FALSE),\"\")","v":""},{"$f":"IFERROR(VLOOKUP(A202,'1.Портфель кредитів'!A:Z,14,FALSE),\"\")","v":""}]
[null,{"$f":"IFERROR(VLOOKUP(A203,'1.Портфель кредитів'!A:Z,3,FALSE),\"\")","v":""},{"$f":"IFERROR(VLOOKUP(A203,'1.Портфель кредитів'!A:Z,7,FALSE),\"\")","v":""},{"$f":"IFERROR(VLOOKUP(A203,'1.Портфель кредитів'!A:Z,14,FALSE),\"\")","v":""}]
[null,{"$f":"IFERROR(VLOOKUP(A204,'1.Портфель кредитів'!A:Z,3,FALSE),\"\")","v":""},{"$f":"IFERROR(VLOOKUP(A204,'1.Портфель кредитів'!A:Z,7,FALSE),\"\")","v":""},{"$f":"IFERROR(VLOOKUP(A204,'1.Портфель кредитів'!A:Z,14,FALSE),\"\")","v":""}]
[null,{"$f":"IFERROR(VLOOKUP(A205,'1.Портфель кредитів'!A:Z,3,FALSE),\"\")","v":""},{"$f":"IFERROR(VLOOKUP(A205,'1.Портфель кредитів'!A:Z,7,FALSE),\"\")","v":""},{"$f":"IFERROR(VLOOKUP(A205,'1.Портфель кредитів'!A:Z,14,FALSE),\"\")","v":""}]
[null,{"$f":"IFERROR(VLOOKUP(A206,'1.Портфель кредитів'!A:Z,3,FALSE),\"\")","v":""},{"$f":"IFERROR(VLOOKUP(A206,'1.Портфель кредитів'!A:Z,7,FALSE),\"\")","v":""},{"$f":"IFERROR(VLOOKUP(A206,'1.Портфель кредитів'!A:Z,14,FALSE),\"\")","v":""}]
[null,{"$f":"IFERROR(VLOOKUP(A207,'1.Портфель кредитів'!A:Z,3,FALSE),\"\")","v":""},{"$f":"IFERROR(VLOOKUP(A207,'1.Портфель кредитів'!A:Z,7,FALSE),\"\")","v":""},{"$f":"IFERROR(VLOOKUP(A207,'1.Портфель кредитів'!A:Z,14,FALSE),\"\")","v":""}]
[null,{"$f":"IFERROR(VLOOKUP(A208,'1.Портфель кредитів'!A:Z,3,FALSE),\"\")","v":""},{"$f":"IFERROR(VLOOKUP(A208,'1.Портфель кредитів'!A:Z,7,FALSE),\"\")","v":""},{"$f":"IFERROR(VLOOKUP(A208,'1.Портфель кредитів'!A:Z,14,FALSE),\"\")","v":""}]
[null,{"$f":"IFERROR(VLOOKUP(A209,'1.Портфель кредитів'!A:Z,3,FALSE),\"\")","v":""},{"$f":"IFERROR(VLOOKUP(A209,'1.Портфель кредитів'!A:Z,7,FALSE),\"\")","v":""},{"$f":"IFERROR(VLOOKUP(A209,'1.Портфель кредитів'!A:Z,14,FALSE),\"\")","v":""}]
[null,{"$f":"IFERROR(VLOOKUP(A210,'1.Портфель кредитів'!A:Z,3,FALSE),\"\")","v":""},{"$f":"IFERROR(VLOOKUP(A210,'1.Портфель кредитів'!A:Z,7,FALSE),\"\")","v":""},{"$f":"IFERROR(VLOOKUP(A210,'1.Портфель кредитів'!A:Z,14,FALSE),\"\")","v":""}]
[null,{"$f":"IFERROR(VLOOKUP(A211,'1.Портфель кредитів'!A:Z,3,FALSE),\"\")","v":""},{"$f":"IFERROR(VLOOKUP(A211,'1.Портфель кредитів'!A:Z,7,FALSE),\"\")","v":""},{"$f":"IFERROR(VLOOKUP(A211,'1.Портфель кредитів'!A:Z,14,FALSE),\"\")","v":""}]
[null,{"$f":"IFERROR(VLOOKUP(A212,'1.Портфель кредитів'!A:Z,3,FALSE),\"\")","v":""},{"$f":"IFERROR(VLOOKUP(A212,'1.Портфель кредитів'!A:Z,7,FALSE),\"\")","v":""},{"$f":"IFERROR(VLOOKUP(A212,'1.Портфель кредитів'!A:Z,14,FALSE),\"\")","v":""}]
[null,{"$f":"IFERROR(VLOOKUP(A213,'1.Портфель кредитів'!A:Z,3,FALSE),\"\")","v":""},{"$f":"IFERROR(VLOOKUP(A213,'1.Портфель кредитів'!A:Z,7,FALSE),\"\")","v":""},{"$f":"IFERROR(VLOOKUP(A213,'1.Портфель кредитів'!A:Z,14,FALSE),\"\")","v":""}]
[null,{"$f":"IFERROR(VLOOKUP(A214,'1.Портфель кредитів'!A:Z,3,FALSE),\"\")","v":""},{"$f":"IFERROR(VLOOKUP(A214,'1.Портфель кредитів'!A:Z,7,FALSE),\"\")","v":""},{"$f":"IFERROR(VLOOKUP(A214,'1.Портфель кредитів'!A:Z,14,FALSE),\"\")","v":""}]
[null,{"$f":"IFERROR(VLOOKUP(A215,'1.Портфель кредитів'!A:Z,3,FALSE),\"\")","v":""},{"$f":"IFERROR(VLOOKUP(A215,'1.Портфель кредитів'!A:Z,7,FALSE),\"\")","v":""},{"$f":"IFERROR(VLOOKUP(A215,'1.Портфель кредитів'!A:Z,14,FALSE),\"\")","v":""}]
[null,{"$f":"IFERROR(VLOOKUP(A216,'1.Портфель кредитів'!A:Z,3,FALSE),\"\")","v":""},{"$f":"IFERROR(VLOOKUP(A216,'1.Портфель кредитів'!A:Z,7,FALSE),\"\")","v":""},{"$f":"IFERROR(VLOOKUP(A216,'1.Портфель кредитів'!A:Z,14,FALSE),\"\")","v":""}]
[null,{"$f":"IFERROR(VLOOKUP(A217,'1.Портфель кредитів'!A:Z,3,FALSE),\"\")","v":""},{"$f":"IFERROR(VLOOKUP(A217,'1.Портфель кредитів'!A:Z,7,FALSE),\"\")","v":""},{"$f":"IFERROR(VLOOKUP(A217,'1.Портфель кредитів'!A:Z,14,FALSE),\"\")","v":""}]
[null,{"$f":"IFERROR(VLOOKUP(A218,'1.Портфель кредитів'!A:Z,3,FALSE),\"\")","v":""},{"$f":"IFERROR(VLOOKUP(A218,'1.Портфель кредитів'!A:Z,7,FALSE),\"\")","v":""},{"$f":"IFERROR(VLOOKUP(A218,'1.Портфель кредитів'!A:Z,14,FALSE),\"\")","v":""}]
[null,{"$f":"IFERROR(VLOOKUP(A219,'1.Портфель кредитів'!A:Z,3,FALSE),\"\")","v":""},{"$f":"IFERROR(VLOOKUP(A219,'1.Портфель кредитів'!A:Z,7,FALSE),\"\")","v":""},{"$f":"IFERROR(VLOOKUP(A219,'1.Портфель кредитів'!A:Z,14,FALSE),\"\")","v":""}]
[null,{"$f":"IFERROR(VLOOKUP(A220,'1.Портфель кредитів'!A:Z,3,FALSE),\"\")","v":""},{"$f":"IFERROR(VLOOKUP(A220,'1.Портфель кредитів'!A:Z,7,FALSE),\"\")","v":""},{"$f":"IFERROR(VLOOKUP(A220,'1.Портфель кредитів'!A:Z,14,FALSE),\"\")","v":""}]
[null,{"$f":"IFERROR(VLOOKUP(A221,'1.Портфель кредитів'!A:Z,3,FALSE),\"\")","v":""},{"$f":"IFERROR(VLOOKUP(A221,'1.Портфель кредитів'!A:Z,7,FALSE),\"\")","v":""},{"$f":"IFERROR(VLOOKUP(A221,'1.Портфель кредитів'!A:Z,14,FALSE),\"\")","v":""}]
[null,{"$f":"IFERROR(VLOOKUP(A222,'1.Портфель кредитів'!A:Z,3,FALSE),\"\")","v":""},{"$f":"IFERROR(VLOOKUP(A222,'1.Портфель кредитів'!A:Z,7,FALSE),\"\")","v":""},{"$f":"IFERROR(VLOOKUP(A222,'1.Портфель кредитів'!A:Z,14,FALSE),\"\")","v":""}]
[null,{"$f":"IFERROR(VLOOKUP(A223,'1.Портфель кредитів'!A:Z,3,FALSE),\"\")","v":""},{"$f":"IFERROR(VLOOKUP(A223,'1.Портфель кредитів'!A:Z,7,FALSE),\"\")","v":""},{"$f":"IFERROR(VLOOKUP(A223,'1.Портфель кредитів'!A:Z,14,FALSE),\"\")","v":""}]
[null,{"$f":"IFERROR(VLOOKUP(A224,'1.Портфель кредитів'!A:Z,3,FALSE),\"\")","v":""},{"$f":"IFERROR(VLOOKUP(A224,'1.Портфель кредитів'!A:Z,7,FALSE),\"\")","v":""},{"$f":"IFERROR(VLOOKUP(A224,'1.Портфель кредитів'!A:Z,14,FALSE),\"\")","v":""}]
[null,{"$f":"IFERROR(VLOOKUP(A225,'1.Портфель кредитів'!A:Z,3,FALSE),\"\")","v":""},{"$f":"IFERROR(VLOOKUP(A225,'1.Портфель кредитів'!A:Z,7,FALSE),\"\")","v":""},{"$f":"IFERROR(VLOOKUP(A225,'1.Портфель кредитів'!A:Z,14,FALSE),\"\")","v":""}]
[null,{"$f":"IFERROR(VLOOKUP(A226,'1.Портфель кредитів'!A:Z,3,FALSE),\"\")","v":""},{"$f":"IFERROR(VLOOKUP(A226,'1.Портфель кредитів'!A:Z,7,FALSE),\"\")","v":""},{"$f":"IFERROR(VLOOKUP(A226,'1.Портфель кредитів'!A:Z,14,FALSE),\"\")","v":""}]
[null,{"$f":"IFERROR(VLOOKUP(A227,'1.Портфель кредитів'!A:Z,3,FALSE),\"\")","v":""},{"$f":"IFERROR(VLOOKUP(A227,'1.Портфель кредитів'!A:Z,7,FALSE),\"\")","v":""},{"$f":"IFERROR(VLOOKUP(A227,'1.Портфель кредитів'!A:Z,14,FALSE),\"\")","v":""}]
[null,{"$f":"IFERROR(VLOOKUP(A228,'1.Портфель кредитів'!A:Z,3,FALSE),\"\")","v":""},{"$f":"IFERROR(VLOOKUP(A228,'1.Портфель кредитів'!A:Z,7,FALSE),\"\")","v":""},{"$f":"IFERROR(VLOOKUP(A228,'1.Портфель кредитів'!A:Z,14,FALSE),\"\")","v":""}]
[null,{"$f":"IFERROR(VLOOKUP(A229,'1.Портфель кредитів'!A:Z,3,FALSE),\"\")","v":""},{"$f":"IFERROR(VLOOKUP(A229,'1.Портфель кредитів'!A:Z,7,FALSE),\"\")","v":""},{"$f":"IFERROR(VLOOKUP(A229,'1.Портфель кредитів'!A:Z,14,FALSE),\"\")","v":""}]
[null,{"$f":"IFERROR(VLOOKUP(A230,'1.Портфель кредитів'!A:Z,3,FALSE),\"\")","v":""},{"$f":"IFERROR(VLOOKUP(A230,'1.Портфель кредитів'!A:Z,7,FALSE),\"\")","v":""},{"$f":"IFERROR(VLOOKUP(A230,'1.Портфель кредитів'!A:Z,14,FALSE),\"\")","v":""}]
[null,{"$f":"IFERROR(VLOOKUP(A231,'1.Портфель кредитів'!A:Z,3,FALSE),\"\")","v":""},{"$f":"IFERROR(VLOOKUP(A231,'1.Портфель кредитів'!A:Z,7,FALSE),\"\")","v":""},{"$f":"IFERROR(VLOOKUP(A231,'1.Портфель кредитів'!A:Z,14,FALSE),\"\")","v":""}]
[null,{"$f":"IFERROR(VLOOKUP(A232,'1.Портфель кредитів'!A:Z,3,FALSE),\"\")","v":""},{"$f":"IFERROR(VLOOKUP(A232,'1.Портфель кредитів'!A:Z,7,FALSE),\"\")","v":""},{"$f":"IFERROR(VLOOKUP(A232,'1.Портфель кредитів'!A:Z,14,FALSE),\"\")","v":""}]
[null,{"$f":"IFERROR(VLOOKUP(A233,'1.Портфель кредитів'!A:Z,3,FALSE),\"\")","v":""},{"$f":"IFERROR(VLOOKUP(A233,'1.Портфель кредитів'!A:Z,7,FALSE),\"\")","v":""},{"$f":"IFERROR(VLOOKUP(A233,'1.Портфель кредитів'!A:Z,14,FALSE),\"\")","v":""}]
[null,{"$f":"IFERROR(VLOOKUP(A234,'1.Портфель кредитів'!A:Z,3,FALSE),\"\")","v":""},{"$f":"IFERROR(VLOOKUP(A234,'1.Портфель кредитів'!A:Z,7,FALSE),\"\")","v":""},{"$f":"IFERROR(VLOOKUP(A234,'1.Портфель кредитів'!A:Z,14,FALSE),\"\")","v":""}]
[null,{"$f":"IFERROR(VLOOKUP(A235,'1.Портфель кредитів'!A:Z,3,FALSE),\"\")","v":""},{"$f":"IFERROR(VLOOKUP(A235,'1.Портфель кредитів'!A:Z,7,FALSE),\"\")","v":""},{"$f":"IFERROR(VLOOKUP(A235,'1.Портфель кредитів'!A:Z,14,FALSE),\"\")","v":""}]
[null,{"$f":"IFERROR(VLOOKUP(A236,'1.Портфель кредитів'!A:Z,3,FALSE),\"\")","v":""},{"$f":"IFERROR(VLOOKUP(A236,'1.Портфель кредитів'!A:Z,7,FALSE),\"\")","v":""},{"$f":"IFERROR(VLOOKUP(A236,'1.Портфель кредитів'!A:Z,14,FALSE),\"\")","v":""}]
[null,{"$f":"IFERROR(VLOOKUP(A237,'1.Портфель кредитів'!A:Z,3,FALSE),\"\")","v":""},{"$f":"IFERROR(VLOOKUP(A237,'1.Портфель кредитів'!A:Z,7,FALSE),\"\")","v":""},{"$f":"IFERROR(VLOOKUP(A237,'1.Портфель кредитів'!A:Z,14,FALSE),\"\")","v":""}]
[null,{"$f":"IFERROR(VLOOKUP(A238,'1.Портфель кредитів'!A:Z,3,FALSE),\"\")","v":""},{"$f":"IFERROR(VLOOKUP(A238,'1.Портфель кредитів'!A:Z,7,FALSE),\"\")","v":""},{"$f":"IFERROR(VLOOKUP(A238,'1.Портфель кредитів'!A:Z,14,FALSE),\"\")","v":""}]
[null,{"$f":"IFERROR(VLOOKUP(A239,'1.Портфель кредитів'!A:Z,3,FALSE),\"\")","v":""},{"$f":"IFERROR(VLOOKUP(A239,'1.Портфель кредитів'!A:Z,7,FALSE),\"\")","v":""},{"$f":"IFERROR(VLOOKUP(A239,'1.Портфель кредитів'!A:Z,14,FALSE),\"\")","v":""}]
[null,{"$f":"IFERROR(VLOOKUP(A240,'1.Портфель кредитів'!A:Z,3,FALSE),\"\")","v":""},{"$f":"IFERROR(VLOOKUP(A240,'1.Портфель кредитів'!A:Z,7,FALSE),\"\")","v":""},{"$f":"IFERROR(VLOOKUP(A240,'1.Портфель кредитів'!A:Z,14,FALSE),\"\")","v":""}]
[null,{"$f":"IFERROR(VLOOKUP(A241,'1.Портфель кредитів'!A:Z,3,FALSE),\"\")","v":""},{"$f":"IFERROR(VLOOKUP(A241,'1.Портфель кредитів'!A:Z,7,FALSE),\"\")","v":""},{"$f":"IFERROR(VLOOKUP(A241,'1.Портфель кредитів'!A:Z,14,FALSE),\"\")","v":""}]
[null,{"$f":"IFERROR(VLOOKUP(A242,'1.Портфель кредитів'!A:Z,3,FALSE),\"\")","v":""},{"$f":"IFERROR(VLOOKUP(A242,'1.Портфель кредитів'!A:Z,7,FALSE),\"\")","v":""},{"$f":"IFERROR(VLOOKUP(A242,'1.Портфель кредитів'!A:Z,14,FALSE),\"\")","v":""}]
[null,{"$f":"IFERROR(VLOOKUP(A243,'1.Портфель кредитів'!A:Z,3,FALSE),\"\")","v":""},{"$f":"IFERROR(VLOOKUP(A243,'1.Портфель кредитів'!A:Z,7,FALSE),\"\")","v":""},{"$f":"IFERROR(VLOOKUP(A243,'1.Портфель кредитів'!A:Z,14,FALSE),\"\")","v":""}]
[null,{"$f":"IFERROR(VLOOKUP(A244,'1.Портфель кредитів'!A:Z,3,FALSE),\"\")","v":""},{"$f":"IFERROR(VLOOKUP(A244,'1.Портфель кредитів'!A:Z,7,FALSE),\"\")","v":""},{"$f":"IFERROR(VLOOKUP(A244,'1.Портфель кредитів'!A:Z,14,FALSE),\"\")","v":""}]
[null,{"$f":"IFERROR(VLOOKUP(A245,'1.Портфель кредитів'!A:Z,3,FALSE),\"\")","v":""},{"$f":"IFERROR(VLOOKUP(A245,'1.Портфель кредитів'!A:Z,7,FALSE),\"\")","v":""},{"$f":"IFERROR(VLOOKUP(A245,'1.Портфель кредитів'!A:Z,14,FALSE),\"\")","v":""}]
[null,{"$f":"IFERROR(VLOOKUP(A246,'1.Портфель кредитів'!A:Z,3,FALSE),\"\")","v":""},{"$f":"IFERROR(VLOOKUP(A246,'1.Портфель кредитів'!A:Z,7,FALSE),\"\")","v":""},{"$f":"IFERROR(VLOOKUP(A246,'1.Портфель кредитів'!A:Z,14,FALSE),\"\")","v":""}]
[null,{"$f":"IFERROR(VLOOKUP(A247,'1.Портфель кредитів'!A:Z,3,FALSE),\"\")","v":""},{"$f":"IFERROR(VLOOKUP(A247,'1.Портфель кредитів'!A:Z,7,FALSE),\"\")","v":""},{"$f":"IFERROR(VLOOKUP(A247,'1.Портфель кредитів'!A:Z,14,FALSE),\"\")","v":""}]
[null,{"$f":"IFERROR(VLOOKUP(A248,'1.Портфель кредитів'!A:Z,3,FALSE),\"\")","v":""},{"$f":"IFERROR(VLOOKUP(A248,'1.Портфель кредитів'!A:Z,7,FALSE),\"\")","v":""},{"$f":"IFERROR(VLOOKUP(A248,'1.Портфель кредитів'!A:Z,14,FALSE),\"\")","v":""}]
[null,{"$f":"IFERROR(VLOOKUP(A249,'1.Портфель кредитів'!A:Z,3,FALSE),\"\")","v":""},{"$f":"IFERROR(VLOOKUP(A249,'1.Портфель кредитів'!A:Z,7,FALSE),\"\")","v":""},{"$f":"IFERROR(VLOOKUP(A249,'1.Портфель кредитів'!A:Z,14,FALSE),\"\")","v":""}]
[null,{"$f":"IFERROR(VLOOKUP(A250,'1.Портфель кредитів'!A:Z,3,FALSE),\"\")","v":""},{"$f":"IFERROR(VLOOKUP(A250,'1.Портфель кредитів'!A:Z,7,FALSE),\"\")","v":""},{"$f":"IFERROR(VLOOKUP(A250,'1.Портфель кредитів'!A:Z,14,FALSE),\"\")","v":""}]
[null,{"$f":"IFERROR(VLOOKUP(A251,'1.Портфель кредитів'!A:Z,3,FALSE),\"\")","v":""},{"$f":"IFERROR(VLOOKUP(A251,'1.Портфель кредитів'!A:Z,7,FALSE),\"\")","v":""},{"$f":"IFERROR(VLOOKUP(A251,'1.Портфель кредитів'!A:Z,14,FALSE),\"\")","v":""}]
[null,{"$f":"IFERROR(VLOOKUP(A252,'1.Портфель кредитів'!A:Z,3,FALSE),\"\")","v":""},{"$f":"IFERROR(VLOOKUP(A252,'1.Портфель кредитів'!A:Z,7,FALSE),\"\")","v":""},{"$f":"IFERROR(VLOOKUP(A252,'1.Портфель кредитів'!A:Z,14,FALSE),\"\")","v":""}]
[null,{"$f":"IFERROR(VLOOKUP(A253,'1.Портфель кредитів'!A:Z,3,FALSE),\"\")","v":""},{"$f":"IFERROR(VLOOKUP(A253,'1.Портфель кредитів'!A:Z,7,FALSE),\"\")","v":""},{"$f":"IFERROR(VLOOKUP(A253,'1.Портфель кредитів'!A:Z,14,FALSE),\"\")","v":""}]
[null,{"$f":"IFERROR(VLOOKUP(A254,'1.Портфель кредитів'!A:Z,3,FALSE),\"\")","v":""},{"$f":"IFERROR(VLOOKUP(A254,'1.Портфель кредитів'!A:Z,7,FALSE),\"\")","v":""},{"$f":"IFERROR(VLOOKUP(A254,'1.Портфель кредитів'!A:Z,14,FALSE),\"\")","v":""}]
[null,{"$f":"IFERROR(VLOOKUP(A255,'1.Портфель кредитів'!A:Z,3,FALSE),\"\")","v":""},{"$f":"IFERROR(VLOOKUP(A255,'1.Портфель кредитів'!A:Z,7,FALSE),\"\")","v":""},{"$f":"IFERROR(VLOOKUP(A255,'1.Портфель кредитів'!A:Z,14,FALSE),\"\")","v":""}]
[null,{"$f":"IFERROR(VLOOKUP(A256,'1.Портфель кредитів'!A:Z,3,FALSE),\"\")","v":""},{"$f":"IFERROR(VLOOKUP(A256,'1.Портфель кредитів'!A:Z,7,FALSE),\"\")","v":""},{"$f":"IFERROR(VLOOKUP(A256,'1.Портфель кредитів'!A:Z,14,FALSE),\"\")","v":""}]
[null,{"$f":"IFERROR(VLOOKUP(A257,'1.Портфель кредитів'!A:Z,3,FALSE),\"\")","v":""},{"$f":"IFERROR(VLOOKUP(A257,'1.Портфель кредитів'!A:Z,7,FALSE),\"\")","v":""},{"$f":"IFERROR(VLOOKUP(A257,'1.Портфель кредитів'!A:Z,14,FALSE),\"\")","v":""}]
[null,{"$f":"IFERROR(VLOOKUP(A258,'1.Портфель кредитів'!A:Z,3,FALSE),\"\")","v":""},{"$f":"IFERROR(VLOOKUP(A258,'1.Портфель кредитів'!A:Z,7,FALSE),\"\")","v":""},{"$f":"IFERROR(VLOOKUP(A258,'1.Портфель кредитів'!A:Z,14,FALSE),\"\")","v":""}]
[null,{"$f":"IFERROR(VLOOKUP(A259,'1.Портфель кредитів'!A:Z,3,FALSE),\"\")","v":""},{"$f":"IFERROR(VLOOKUP(A259,'1.Портфель кредитів'!A:Z,7,FALSE),\"\")","v":""},{"$f":"IFERROR(VLOOKUP(A259,'1.Портфель кредитів'!A:Z,14,FALSE),\"\")","v":""}]
[null,{"$f":"IFERROR(VLOOKUP(A260,'1.Портфель кредитів'!A:Z,3,FALSE),\"\")","v":""},{"$f":"IFERROR(VLOOKUP(A260,'1.Портфель кредитів'!A:Z,7,FALSE),\"\")","v":""},{"$f":"IFERROR(VLOOKUP(A260,'1.Портфель кредитів'!A:Z,14,FALSE),\"\")","v":""}]
[null,{"$f":"IFERROR(VLOOKUP(A261,'1.Портфель кредитів'!A:Z,3,FALSE),\"\")","v":""},{"$f":"IFERROR(VLOOKUP(A261,'1.Портфель кредитів'!A:Z,7,FALSE),\"\")","v":""},{"$f":"IFERROR(VLOOKUP(A261,'1.Портфель кредитів'!A:Z,14,FALSE),\"\")","v":""}]
[null,{"$f":"IFERROR(VLOOKUP(A262,'1.Портфель кредитів'!A:Z,3,FALSE),\"\")","v":""},{"$f":"IFERROR(VLOOKUP(A262,'1.Портфель кредитів'!A:Z,7,FALSE),\"\")","v":""},{"$f":"IFERROR(VLOOKUP(A262,'1.Портфель кредитів'!A:Z,14,FALSE),\"\")","v":""}]
[null,{"$f":"IFERROR(VLOOKUP(A263,'1.Портфель кредитів'!A:Z,3,FALSE),\"\")","v":""},{"$f":"IFERROR(VLOOKUP(A263,'1.Портфель кредитів'!A:Z,7,FALSE),\"\")","v":""},{"$f":"IFERROR(VLOOKUP(A263,'1.Портфель кредитів'!A:Z,14,FALSE),\"\")","v":""}]
[null,{"$f":"IFERROR(VLOOKUP(A264,'1.Портфель кредитів'!A:Z,3,FALSE),\"\")","v":""},{"$f":"IFERROR(VLOOKUP(A264,'1.Портфель кредитів'!A:Z,7,FALSE),\"\")","v":""},{"$f":"IFERROR(VLOOKUP(A264,'1.Портфель кредитів'!A:Z,14,FALSE),\"\")","v":""}]
[null,{"$f":"IFERROR(VLOOKUP(A265,'1.Портфель кредитів'!A:Z,3,FALSE),\"\")","v":""},{"$f":"IFERROR(VLOOKUP(A265,'1.Портфель кредитів'!A:Z,7,FALSE),\"\")","v":""},{"$f":"IFERROR(VLOOKUP(A265,'1.Портфель кредитів'!A:Z,14,FALSE),\"\")","v":""}]
[null,{"$f":"IFERROR(VLOOKUP(A266,'1.Портфель кредитів'!A:Z,3,FALSE),\"\")","v":""},{"$f":"IFERROR(VLOOKUP(A266,'1.Портфель кредитів'!A:Z,7,FALSE),\"\")","v":""},{"$f":"IFERROR(VLOOKUP(A266,'1.Портфель кредитів'!A:Z,14,FALSE),\"\")","v":""}]
[null,{"$f":"IFERROR(VLOOKUP(A267,'1.Портфель кредитів'!A:Z,3,FALSE),\"\")","v":""},{"$f":"IFERROR(VLOOKUP(A267,'1.Портфель кредитів'!A:Z,7,FALSE),\"\")","v":""},{"$f":"IFERROR(VLOOKUP(A267,'1.Портфель кредитів'!A:Z,14,FALSE),\"\")","v":""}]
[null,{"$f":"IFERROR(VLOOKUP(A268,'1.Портфель кредитів'!A:Z,3,FALSE),\"\")","v":""},{"$f":"IFERROR(VLOOKUP(A268,'1.Портфель кредитів'!A:Z,7,FALSE),\"\")","v":""},{"$f":"IFERROR(VLOOKUP(A268,'1.Портфель кредитів'!A:Z,14,FALSE),\"\")","v":""}]
[null,{"$f":"IFERROR(VLOOKUP(A269,'1.Портфель кредитів'!A:Z,3,FALSE),\"\")","v":""},{"$f":"IFERROR(VLOOKUP(A269,'1.Портфель кредитів'!A:Z,7,FALSE),\"\")","v":""},{"$f":"IFERROR(VLOOKUP(A269,'1.Портфель кредитів'!A:Z,14,FALSE),\"\")","v":""}]
[null,{"$f":"IFERROR(VLOOKUP(A270,'1.Портфель кредитів'!A:Z,3,FALSE),\"\")","v":""},{"$f":"IFERROR(VLOOKUP(A270,'1.Портфель кредитів'!A:Z,7,FALSE),\"\")","v":""},{"$f":"IFERROR(VLOOKUP(A270,'1.Портфель кредитів'!A:Z,14,FALSE),\"\")","v":""}]
[null,{"$f":"IFERROR(VLOOKUP(A271,'1.Портфель кредитів'!A:Z,3,FALSE),\"\")","v":""},{"$f":"IFERROR(VLOOKUP(A271,'1.Портфель кредитів'!A:Z,7,FALSE),\"\")","v":""},{"$f":"IFERROR(VLOOKUP(A271,'1.Портфель кредитів'!A:Z,14,FALSE),\"\")","v":""}]
[null,{"$f":"IFERROR(VLOOKUP(A272,'1.Портфель кредитів'!A:Z,3,FALSE),\"\")","v":""},{"$f":"IFERROR(VLOOKUP(A272,'1.Портфель кредитів'!A:Z,7,FALSE),\"\")","v":""},{"$f":"IFERROR(VLOOKUP(A272,'1.Портфель кредитів'!A:Z,14,FALSE),\"\")","v":""}]
[null,{"$f":"IFERROR(VLOOKUP(A273,'1.Портфель кредитів'!A:Z,3,FALSE),\"\")","v":""},{"$f":"IFERROR(VLOOKUP(A273,'1.Портфель кредитів'!A:Z,7,FALSE),\"\")","v":""},{"$f":"IFERROR(VLOOKUP(A273,'1.Портфель кредитів'!A:Z,14,FALSE),\"\")","v":""}]
[null,{"$f":"IFERROR(VLOOKUP(A274,'1.Портфель кредитів'!A:Z,3,FALSE),\"\")","v":""},{"$f":"IFERROR(VLOOKUP(A274,'1.Портфель кредитів'!A:Z,7,FALSE),\"\")","v":""},{"$f":"IFERROR(VLOOKUP(A274,'1.Портфель кредитів'!A:Z,14,FALSE),\"\")","v":""}]
[null,{"$f":"IFERROR(VLOOKUP(A275,'1.Портфель кредитів'!A:Z,3,FALSE),\"\")","v":""},{"$f":"IFERROR(VLOOKUP(A275,'1.Портфель кредитів'!A:Z,7,FALSE),\"\")","v":""},{"$f":"IFERROR(VLOOKUP(A275,'1.Портфель кредитів'!A:Z,14,FALSE),\"\")","v":""}]
[null,{"$f":"IFERROR(VLOOKUP(A276,'1.Портфель кредитів'!A:Z,3,FALSE),\"\")","v":""},{"$f":"IFERROR(VLOOKUP(A276,'1.Портфель кредитів'!A:Z,7,FALSE),\"\")","v":""},{"$f":"IFERROR(VLOOKUP(A276,'1.Портфель кредитів'!A:Z,14,FALSE),\"\")","v":""}]
[null,{"$f":"IFERROR(VLOOKUP(A277,'1.Портфель кредитів'!A:Z,3,FALSE),\"\")","v":""},{"$f":"IFERROR(VLOOKUP(A277,'1.Портфель кредитів'!A:Z,7,FALSE),\"\")","v":""},{"$f":"IFERROR(VLOOKUP(A277,'1.Портфель кредитів'!A:Z,14,FALSE),\"\")","v":""}]
[null,{"$f":"IFERROR(VLOOKUP(A278,'1.Портфель кредитів'!A:Z,3,FALSE),\"\")","v":""},{"$f":"IFERROR(VLOOKUP(A278,'1.Портфель кредитів'!A:Z,7,FALSE),\"\")","v":""},{"$f":"IFERROR(VLOOKUP(A278,'1.Портфель кредитів'!A:Z,14,FALSE),\"\")","v":""}]
[null,{"$f":"IFERROR(VLOOKUP(A279,'1.Портфель кредитів'!A:Z,3,FALSE),\"\")","v":""},{"$f":"IFERROR(VLOOKUP(A279,'1.Портфель кредитів'!A:Z,7,FALSE),\"\")","v":""},{"$f":"IFERROR(VLOOKUP(A279,'1.Портфель кредитів'!A:Z,14,FALSE),\"\")","v":""}]
[null,{"$f":"IFERROR(VLOOKUP(A280,'1.Портфель кредитів'!A:Z,3,FALSE),\"\")","v":""},{"$f":"IFERROR(VLOOKUP(A280,'1.Портфель кредитів'!A:Z,7,FALSE),\"\")","v":""},{"$f":"IFERROR(VLOOKUP(A280,'1.Портфель кредитів'!A:Z,14,FALSE),\"\")","v":""}]
[null,{"$f":"IFERROR(VLOOKUP(A281,'1.Портфель кредитів'!A:Z,3,FALSE),\"\")","v":""},{"$f":"IFERROR(VLOOKUP(A281,'1.Портфель кредитів'!A:Z,7,FALSE),\"\")","v":""},{"$f":"IFERROR(VLOOKUP(A281,'1.Портфель кредитів'!A:Z,14,FALSE),\"\")","v":""}]
[null,{"$f":"IFERROR(VLOOKUP(A282,'1.Портфель кредитів'!A:Z,3,FALSE),\"\")","v":""},{"$f":"IFERROR(VLOOKUP(A282,'1.Портфель кредитів'!A:Z,7,FALSE),\"\")","v":""},{"$f":"IFERROR(VLOOKUP(A282,'1.Портфель кредитів'!A:Z,14,FALSE),\"\")","v":""}]
[null,{"$f":"IFERROR(VLOOKUP(A283,'1.Портфель кредитів'!A:Z,3,FALSE),\"\")","v":""},{"$f":"IFERROR(VLOOKUP(A283,'1.Портфель кредитів'!A:Z,7,FALSE),\"\")","v":""},{"$f":"IFERROR(VLOOKUP(A283,'1.Портфель кредитів'!A:Z,14,FALSE),\"\")","v":""}]
[null,{"$f":"IFERROR(VLOOKUP(A284,'1.Портфель кредитів'!A:Z,3,FALSE),\"\")","v":""},{"$f":"IFERROR(VLOOKUP(A284,'1.Портфель кредитів'!A:Z,7,FALSE),\"\")","v":""},{"$f":"IFERROR(VLOOKUP(A284,'1.Портфель кредитів'!A:Z,14,FALSE),\"\")","v":""}]
[null,{"$f":"IFERROR(VLOOKUP(A285,'1.Портфель кредитів'!A:Z,3,FALSE),\"\")","v":""},{"$f":"IFERROR(VLOOKUP(A285,'1.Портфель кредитів'!A:Z,7,FALSE),\"\")","v":""},{"$f":"IFERROR(VLOOKUP(A285,'1.Портфель кредитів'!A:Z,14,FALSE),\"\")","v":""}]
[null,{"$f":"IFERROR(VLOOKUP(A286,'1.Портфель кредитів'!A:Z,3,FALSE),\"\")","v":""},{"$f":"IFERROR(VLOOKUP(A286,'1.Портфель кредитів'!A:Z,7,FALSE),\"\")","v":""},{"$f":"IFERROR(VLOOKUP(A286,'1.Портфель кредитів'!A:Z,14,FALSE),\"\")","v":""}]
[null,{"$f":"IFERROR(VLOOKUP(A287,'1.Портфель кредитів'!A:Z,3,FALSE),\"\")","v":""},{"$f":"IFERROR(VLOOKUP(A287,'1.Портфель кредитів'!A:Z,7,FALSE),\"\")","v":""},{"$f":"IFERROR(VLOOKUP(A287,'1.Портфель кредитів'!A:Z,14,FALSE),\"\")","v":""}]
[null,{"$f":"IFERROR(VLOOKUP(A288,'1.Портфель кредитів'!A:Z,3,FALSE),\"\")","v":""},{"$f":"IFERROR(VLOOKUP(A288,'1.Портфель кредитів'!A:Z,7,FALSE),\"\")","v":""},{"$f":"IFERROR(VLOOKUP(A288,'1.Портфель кредитів'!A:Z,14,FALSE),\"\")","v":""}]
[null,{"$f":"IFERROR(VLOOKUP(A289,'1.Портфель кредитів'!A:Z,3,FALSE),\"\")","v":""},{"$f":"IFERROR(VLOOKUP(A289,'1.Портфель кредитів'!A:Z,7,FALSE),\"\")","v":""},{"$f":"IFERROR(VLOOKUP(A289,'1.Портфель кредитів'!A:Z,14,FALSE),\"\")","v":""}]
[null,{"$f":"IFERROR(VLOOKUP(A290,'1.Портфель кредитів'!A:Z,3,FALSE),\"\")","v":""},{"$f":"IFERROR(VLOOKUP(A290,'1.Портфель кредитів'!A:Z,7,FALSE),\"\")","v":""},{"$f":"IFERROR(VLOOKUP(A290,'1.Портфель кредитів'!A:Z,14,FALSE),\"\")","v":""}]
[null,{"$f":"IFERROR(VLOOKUP(A291,'1.Портфель кредитів'!A:Z,3,FALSE),\"\")","v":""},{"$f":"IFERROR(VLOOKUP(A291,'1.Портфель кредитів'!A:Z,7,FALSE),\"\")","v":""},{"$f":"IFERROR(VLOOKUP(A291,'1.Портфель кредитів'!A:Z,14,FALSE),\"\")","v":""}]
[null,{"$f":"IFERROR(VLOOKUP(A292,'1.Портфель кредитів'!A:Z,3,FALSE),\"\")","v":""},{"$f":"IFERROR(VLOOKUP(A292,'1.Портфель кредитів'!A:Z,7,FALSE),\"\")","v":""},{"$f":"IFERROR(VLOOKUP(A292,'1.Портфель кредитів'!A:Z,14,FALSE),\"\")","v":""}]
[null,{"$f":"IFERROR(VLOOKUP(A293,'1.Портфель кредитів'!A:Z,3,FALSE),\"\")","v":""},{"$f":"IFERROR(VLOOKUP(A293,'1.Портфель кредитів'!A:Z,7,FALSE),\"\")","v":""},{"$f":"IFERROR(VLOOKUP(A293,'1.Портфель кредитів'!A:Z,14,FALSE),\"\")","v":""}]
[null,{"$f":"IFERROR(VLOOKUP(A294,'1.Портфель кредитів'!A:Z,3,FALSE),\"\")","v":""},{"$f":"IFERROR(VLOOKUP(A294,'1.Портфель кредитів'!A:Z,7,FALSE),\"\")","v":""},{"$f":"IFERROR(VLOOKUP(A294,'1.Портфель кредитів'!A:Z,14,FALSE),\"\")","v":""}]
[null,{"$f":"IFERROR(VLOOKUP(A295,'1.Портфель кредитів'!A:Z,3,FALSE),\"\")","v":""},{"$f":"IFERROR(VLOOKUP(A295,'1.Портфель кредитів'!A:Z,7,FALSE),\"\")","v":""},{"$f":"IFERROR(VLOOKUP(A295,'1.Портфель кредитів'!A:Z,14,FALSE),\"\")","v":""}]
[null,{"$f":"IFERROR(VLOOKUP(A296,'1.Портфель кредитів'!A:Z,3,FALSE),\"\")","v":""},{"$f":"IFERROR(VLOOKUP(A296,'1.Портфель кредитів'!A:Z,7,FALSE),\"\")","v":""},{"$f":"IFERROR(VLOOKUP(A296,'1.Портфель кредитів'!A:Z,14,FALSE),\"\")","v":""}]
[null,{"$f":"IFERROR(VLOOKUP(A297,'1.Портфель кредитів'!A:Z,3,FALSE),\"\")","v":""},{"$f":"IFERROR(VLOOKUP(A297,'1.Портфель кредитів'!A:Z,7,FALSE),\"\")","v":""},{"$f":"IFERROR(VLOOKUP(A297,'1.Портфель кредитів'!A:Z,14,FALSE),\"\")","v":""}]
[null,{"$f":"IFERROR(VLOOKUP(A298,'1.Портфель кредитів'!A:Z,3,FALSE),\"\")","v":""},{"$f":"IFERROR(VLOOKUP(A298,'1.Портфель кредитів'!A:Z,7,FALSE),\"\")","v":""},{"$f":"IFERROR(VLOOKUP(A298,'1.Портфель кредитів'!A:Z,14,FALSE),\"\")","v":""}]
[null,{"$f":"IFERROR(VLOOKUP(A299,'1.Портфель кредитів'!A:Z,3,FALSE),\"\")","v":""},{"$f":"IFERROR(VLOOKUP(A299,'1.Портфель кредитів'!A:Z,7,FALSE),\"\")","v":""},{"$f":"IFERROR(VLOOKUP(A299,'1.Портфель кредитів'!A:Z,14,FALSE),\"\")","v":""}]
[null,{"$f":"IFERROR(VLOOKUP(A300,'1.Портфель кредитів'!A:Z,3,FALSE),\"\")","v":""},{"$f":"IFERROR(VLOOKUP(A300,'1.Портфель кредитів'!A:Z,7,FALSE),\"\")","v":""},{"$f":"IFERROR(VLOOKUP(A300,'1.Портфель кредитів'!A:Z,14,FALSE),\"\")","v":""}]
[null,{"$f":"IFERROR(VLOOKUP(A301,'1.Портфель кредитів'!A:Z,3,FALSE),\"\")","v":""},{"$f":"IFERROR(VLOOKUP(A301,'1.Портфель кредитів'!A:Z,7,FALSE),\"\")","v":""},{"$f":"IFERROR(VLOOKUP(A301,'1.Портфель кредитів'!A:Z,14,FALSE),\"\")","v":""}]
[null,{"$f":"IFERROR(VLOOKUP(A302,'1.Портфель кредитів'!A:Z,3,FALSE),\"\")","v":""},{"$f":"IFERROR(VLOOKUP(A302,'1.Портфель кредитів'!A:Z,7,FALSE),\"\")","v":""},{"$f":"IFERROR(VLOOKUP(A302,'1.Портфель кредитів'!A:Z,14,FALSE),\"\")","v":""}]
[null,{"$f":"IFERROR(VLOOKUP(A303,'1.Портфель кредитів'!A:Z,3,FALSE),\"\")","v":""},{"$f":"IFERROR(VLOOKUP(A303,'1.Портфель кредитів'!A:Z,7,FALSE),\"\")","v":""},{"$f":"IFERROR(VLOOKUP(A303,'1.Портфель кредитів'!A:Z,14,FALSE),\"\")","v":""}]
[null,{"$f":"IFERROR(VLOOKUP(A304,'1.Портфель кредитів'!A:Z,3,FALSE),\"\")","v":""},{"$f":"IFERROR(VLOOKUP(A304,'1.Портфель кредитів'!A:Z,7,FALSE),\"\")","v":""},{"$f":"IFERROR(VLOOKUP(A304,'1.Портфель кредитів'!A:Z,14,FALSE),\"\")","v":""}]
[null,{"$f":"IFERROR(VLOOKUP(A305,'1.Портфель кредитів'!A:Z,3,FALSE),\"\")","v":""},{"$f":"IFERROR(VLOOKUP(A305,'1.Портфель кредитів'!A:Z,7,FALSE),\"\")","v":""},{"$f":"IFERROR(VLOOKUP(A305,'1.Портфель кредитів'!A:Z,14,FALSE),\"\")","v":""}]
[null,{"$f":"IFERROR(VLOOKUP(A306,'1.Портфель кредитів'!A:Z,3,FALSE),\"\")","v":""},{"$f":"IFERROR(VLOOKUP(A306,'1.Портфель кредитів'!A:Z,7,FALSE),\"\")","v":""},{"$f":"IFERROR(VLOOKUP(A306,'1.Портфель кредитів'!A:Z,14,FALSE),\"\")","v":""}]
[null,{"$f":"IFERROR(VLOOKUP(A307,'1.Портфель кредитів'!A:Z,3,FALSE),\"\")","v":""},{"$f":"IFERROR(VLOOKUP(A307,'1.Портфель кредитів'!A:Z,7,FALSE),\"\")","v":""},{"$f":"IFERROR(VLOOKUP(A307,'1.Портфель кредитів'!A:Z,14,FALSE),\"\")","v":""}]
[null,{"$f":"IFERROR(VLOOKUP(A308,'1.Портфель кредитів'!A:Z,3,FALSE),\"\")","v":""},{"$f":"IFERROR(VLOOKUP(A308,'1.Портфель кредитів'!A:Z,7,FALSE),\"\")","v":""},{"$f":"IFERROR(VLOOKUP(A308,'1.Портфель кредитів'!A:Z,14,FALSE),\"\")","v":""}]
[null,{"$f":"IFERROR(VLOOKUP(A309,'1.Портфель кредитів'!A:Z,3,FALSE),\"\")","v":""},{"$f":"IFERROR(VLOOKUP(A309,'1.Портфель кредитів'!A:Z,7,FALSE),\"\")","v":""},{"$f":"IFERROR(VLOOKUP(A309,'1.Портфель кредитів'!A:Z,14,FALSE),\"\")","v":""}]
[null,{"$f":"IFERROR(VLOOKUP(A310,'1.Портфель кредитів'!A:Z,3,FALSE),\"\")","v":""},{"$f":"IFERROR(VLOOKUP(A310,'1.Портфель кредитів'!A:Z,7,FALSE),\"\")","v":""},{"$f":"IFERROR(VLOOKUP(A310,'1.Портфель кредитів'!A:Z,14,FALSE),\"\")","v":""}]
[null,{"$f":"IFERROR(VLOOKUP(A311,'1.Портфель кредитів'!A:Z,3,FALSE),\"\")","v":""},{"$f":"IFERROR(VLOOKUP(A311,'1.Портфель кредитів'!A:Z,7,FALSE),\"\")","v":""},{"$f":"IFERROR(VLOOKUP(A311,'1.Портфель кредитів'!A:Z,14,FALSE),\"\")","v":""}]
[null,{"$f":"IFERROR(VLOOKUP(A312,'1.Портфель кредитів'!A:Z,3,FALSE),\"\")","v":""},{"$f":"IFERROR(VLOOKUP(A312,'1.Портфель кредитів'!A:Z,7,FALSE),\"\")","v":""},{"$f":"IFERROR(VLOOKUP(A312,'1.Портфель кредитів'!A:Z,14,FALSE),\"\")","v":""}]
[null,{"$f":"IFERROR(VLOOKUP(A313,'1.Портфель кредитів'!A:Z,3,FALSE),\"\")","v":""},{"$f":"IFERROR(VLOOKUP(A313,'1.Портфель кредитів'!A:Z,7,FALSE),\"\")","v":""},{"$f":"IFERROR(VLOOKUP(A313,'1.Портфель кредитів'!A:Z,14,FALSE),\"\")","v":""}]
[null,{"$f":"IFERROR(VLOOKUP(A314,'1.Портфель кредитів'!A:Z,3,FALSE),\"\")","v":""},{"$f":"IFERROR(VLOOKUP(A314,'1.Портфель кредитів'!A:Z,7,FALSE),\"\")","v":""},{"$f":"IFERROR(VLOOKUP(A314,'1.Портфель кредитів'!A:Z,14,FALSE),\"\")","v":""}]
[null,{"$f":"IFERROR(VLOOKUP(A315,'1.Портфель кредитів'!A:Z,3,FALSE),\"\")","v":""},{"$f":"IFERROR(VLOOKUP(A315,'1.Портфель кредитів'!A:Z,7,FALSE),\"\")","v":""},{"$f":"IFERROR(VLOOKUP(A315,'1.Портфель кредитів'!A:Z,14,FALSE),\"\")","v":""}]
[null,{"$f":"IFERROR(VLOOKUP(A316,'1.Портфель кредитів'!A:Z,3,FALSE),\"\")","v":""},{"$f":"IFERROR(VLOOKUP(A316,'1.Портфель кредитів'!A:Z,7,FALSE),\"\")","v":""},{"$f":"IFERROR(VLOOKUP(A316,'1.Портфель кредитів'!A:Z,14,FALSE),\"\")","v":""}]
[null,{"$f":"IFERROR(VLOOKUP(A317,'1.Портфель кредитів'!A:Z,3,FALSE),\"\")","v":""},{"$f":"IFERROR(VLOOKUP(A317,'1.Портфель кредитів'!A:Z,7,FALSE),\"\")","v":""},{"$f":"IFERROR(VLOOKUP(A317,'1.Портфель кредитів'!A:Z,14,FALSE),\"\")","v":""}]
[null,{"$f":"IFERROR(VLOOKUP(A318,'1.Портфель кредитів'!A:Z,3,FALSE),\"\")","v":""},{"$f":"IFERROR(VLOOKUP(A318,'1.Портфель кредитів'!A:Z,7,FALSE),\"\")","v":""},{"$f":"IFERROR(VLOOKUP(A318,'1.Портфель кредитів'!A:Z,14,FALSE),\"\")","v":""}]
[null,{"$f":"IFERROR(VLOOKUP(A319,'1.Портфель кредитів'!A:Z,3,FALSE),\"\")","v":""},{"$f":"IFERROR(VLOOKUP(A319,'1.Портфель кредитів'!A:Z,7,FALSE),\"\")","v":""},{"$f":"IFERROR(VLOOKUP(A319,'1.Портфель кредитів'!A:Z,14,FALSE),\"\")","v":""}]
[null,{"$f":"IFERROR(VLOOKUP(A320,'1.Портфель кредитів'!A:Z,3,FALSE),\"\")","v":""},{"$f":"IFERROR(VLOOKUP(A320,'1.Портфель кредитів'!A:Z,7,FALSE),\"\")","v":""},{"$f":"IFERROR(VLOOKUP(A320,'1.Портфель кредитів'!A:Z,14,FALSE),\"\")","v":""}]
[null,{"$f":"IFERROR(VLOOKUP(A321,'1.Портфель кредитів'!A:Z,3,FALSE),\"\")","v":""},{"$f":"IFERROR(VLOOKUP(A321,'1.Портфель кредитів'!A:Z,7,FALSE),\"\")","v":""},{"$f":"IFERROR(VLOOKUP(A321,'1.Портфель кредитів'!A:Z,14,FALSE),\"\")","v":""}]
[null,{"$f":"IFERROR(VLOOKUP(A322,'1.Портфель кредитів'!A:Z,3,FALSE),\"\")","v":""},{"$f":"IFERROR(VLOOKUP(A322,'1.Портфель кредитів'!A:Z,7,FALSE),\"\")","v":""},{"$f":"IFERROR(VLOOKUP(A322,'1.Портфель кредитів'!A:Z,14,FALSE),\"\")","v":""}]
[null,{"$f":"IFERROR(VLOOKUP(A323,'1.Портфель кредитів'!A:Z,3,FALSE),\"\")","v":""},{"$f":"IFERROR(VLOOKUP(A323,'1.Портфель кредитів'!A:Z,7,FALSE),\"\")","v":""},{"$f":"IFERROR(VLOOKUP(A323,'1.Портфель кредитів'!A:Z,14,FALSE),\"\")","v":""}]
[null,{"$f":"IFERROR(VLOOKUP(A324,'1.Портфель кредитів'!A:Z,3,FALSE),\"\")","v":""},{"$f":"IFERROR(VLOOKUP(A324,'1.Портфель кредитів'!A:Z,7,FALSE),\"\")","v":""},{"$f":"IFERROR(VLOOKUP(A324,'1.Портфель кредитів'!A:Z,14,FALSE),\"\")","v":""}]
[null,{"$f":"IFERROR(VLOOKUP(A325,'1.Портфель кредитів'!A:Z,3,FALSE),\"\")","v":""},{"$f":"IFERROR(VLOOKUP(A325,'1.Портфель кредитів'!A:Z,7,FALSE),\"\")","v":""},{"$f":"IFERROR(VLOOKUP(A325,'1.Портфель кредитів'!A:Z,14,FALSE),\"\")","v":""}]
[null,{"$f":"IFERROR(VLOOKUP(A326,'1.Портфель кредитів'!A:Z,3,FALSE),\"\")","v":""},{"$f":"IFERROR(VLOOKUP(A326,'1.Портфель кредитів'!A:Z,7,FALSE),\"\")","v":""},{"$f":"IFERROR(VLOOKUP(A326,'1.Портфель кредитів'!A:Z,14,FALSE),\"\")","v":""}]
[null,{"$f":"IFERROR(VLOOKUP(A327,'1.Портфель кредитів'!A:Z,3,FALSE),\"\")","v":""},{"$f":"IFERROR(VLOOKUP(A327,'1.Портфель кредитів'!A:Z,7,FALSE),\"\")","v":""},{"$f":"IFERROR(VLOOKUP(A327,'1.Портфель кредитів'!A:Z,14,FALSE),\"\")","v":""}]
[null,{"$f":"IFERROR(VLOOKUP(A328,'1.Портфель кредитів'!A:Z,3,FALSE),\"\")","v":""},{"$f":"IFERROR(VLOOKUP(A328,'1.Портфель кредитів'!A:Z,7,FALSE),\"\")","v":""},{"$f":"IFERROR(VLOOKUP(A328,'1.Портфель кредитів'!A:Z,14,FALSE),\"\")","v":""}]
[null,{"$f":"IFERROR(VLOOKUP(A329,'1.Портфель кредитів'!A:Z,3,FALSE),\"\")","v":""},{"$f":"IFERROR(VLOOKUP(A329,'1.Портфель кредитів'!A:Z,7,FALSE),\"\")","v":""},{"$f":"IFERROR(VLOOKUP(A329,'1.Портфель кредитів'!A:Z,14,FALSE),\"\")","v":""}]
[null,{"$f":"IFERROR(VLOOKUP(A330,'1.Портфель кредитів'!A:Z,3,FALSE),\"\")","v":""},{"$f":"IFERROR(VLOOKUP(A330,'1.Портфель кредитів'!A:Z,7,FALSE),\"\")","v":""},{"$f":"IFERROR(VLOOKUP(A330,'1.Портфель кредитів'!A:Z,14,FALSE),\"\")","v":""}]
[null,{"$f":"IFERROR(VLOOKUP(A331,'1.Портфель кредитів'!A:Z,3,FALSE),\"\")","v":""},{"$f":"IFERROR(VLOOKUP(A331,'1.Портфель кредитів'!A:Z,7,FALSE),\"\")","v":""},{"$f":"IFERROR(VLOOKUP(A331,'1.Портфель кредитів'!A:Z,14,FALSE),\"\")","v":""}]
[null,{"$f":"IFERROR(VLOOKUP(A332,'1.Портфель кредитів'!A:Z,3,FALSE),\"\")","v":""},{"$f":"IFERROR(VLOOKUP(A332,'1.Портфель кредитів'!A:Z,7,FALSE),\"\")","v":""},{"$f":"IFERROR(VLOOKUP(A332,'1.Портфель кредитів'!A:Z,14,FALSE),\"\")","v":""}]
[null,{"$f":"IFERROR(VLOOKUP(A333,'1.Портфель кредитів'!A:Z,3,FALSE),\"\")","v":""},{"$f":"IFERROR(VLOOKUP(A333,'1.Портфель кредитів'!A:Z,7,FALSE),\"\")","v":""},{"$f":"IFERROR(VLOOKUP(A333,'1.Портфель кредитів'!A:Z,14,FALSE),\"\")","v":""}]
[null,{"$f":"IFERROR(VLOOKUP(A334,'1.Портфель кредитів'!A:Z,3,FALSE),\"\")","v":""},{"$f":"IFERROR(VLOOKUP(A334,'1.Портфель кредитів'!A:Z,7,FALSE),\"\")","v":""},{"$f":"IFERROR(VLOOKUP(A334,'1.Портфель кредитів'!A:Z,14,FALSE),\"\")","v":""}]
[null,{"$f":"IFERROR(VLOOKUP(A335,'1.Портфель кредитів'!A:Z,3,FALSE),\"\")","v":""},{"$f":"IFERROR(VLOOKUP(A335,'1.Портфель кредитів'!A:Z,7,FALSE),\"\")","v":""},{"$f":"IFERROR(VLOOKUP(A335,'1.Портфель кредитів'!A:Z,14,FALSE),\"\")","v":""}]
[null,{"$f":"IFERROR(VLOOKUP(A336,'1.Портфель кредитів'!A:Z,3,FALSE),\"\")","v":""},{"$f":"IFERROR(VLOOKUP(A336,'1.Портфель кредитів'!A:Z,7,FALSE),\"\")","v":""},{"$f":"IFERROR(VLOOKUP(A336,'1.Портфель кредитів'!A:Z,14,FALSE),\"\")","v":""}]
[null,{"$f":"IFERROR(VLOOKUP(A337,'1.Портфель кредитів'!A:Z,3,FALSE),\"\")","v":""},{"$f":"IFERROR(VLOOKUP(A337,'1.Портфель кредитів'!A:Z,7,FALSE),\"\")","v":""},{"$f":"IFERROR(VLOOKUP(A337,'1.Портфель кредитів'!A:Z,14,FALSE),\"\")","v":""}]
[null,{"$f":"IFERROR(VLOOKUP(A338,'1.Портфель кредитів'!A:Z,3,FALSE),\"\")","v":""},{"$f":"IFERROR(VLOOKUP(A338,'1.Портфель кредитів'!A:Z,7,FALSE),\"\")","v":""},{"$f":"IFERROR(VLOOKUP(A338,'1.Портфель кредитів'!A:Z,14,FALSE),\"\")","v":""}]
[null,{"$f":"IFERROR(VLOOKUP(A339,'1.Портфель кредитів'!A:Z,3,FALSE),\"\")","v":""},{"$f":"IFERROR(VLOOKUP(A339,'1.Портфель кредитів'!A:Z,7,FALSE),\"\")","v":""},{"$f":"IFERROR(VLOOKUP(A339,'1.Портфель кредитів'!A:Z,14,FALSE),\"\")","v":""}]
[null,{"$f":"IFERROR(VLOOKUP(A340,'1.Портфель кредитів'!A:Z,3,FALSE),\"\")","v":""},{"$f":"IFERROR(VLOOKUP(A340,'1.Портфель кредитів'!A:Z,7,FALSE),\"\")","v":""},{"$f":"IFERROR(VLOOKUP(A340,'1.Портфель кредитів'!A:Z,14,FALSE),\"\")","v":""}]
[null,{"$f":"IFERROR(VLOOKUP(A341,'1.Портфель кредитів'!A:Z,3,FALSE),\"\")","v":""},{"$f":"IFERROR(VLOOKUP(A341,'1.Портфель кредитів'!A:Z,7,FALSE),\"\")","v":""},{"$f":"IFERROR(VLOOKUP(A341,'1.Портфель кредитів'!A:Z,14,FALSE),\"\")","v":""}]
[null,{"$f":"IFERROR(VLOOKUP(A342,'1.Портфель кредитів'!A:Z,3,FALSE),\"\")","v":""},{"$f":"IFERROR(VLOOKUP(A342,'1.Портфель кредитів'!A:Z,7,FALSE),\"\")","v":""},{"$f":"IFERROR(VLOOKUP(A342,'1.Портфель кредитів'!A:Z,14,FALSE),\"\")","v":""}]
[null,{"$f":"IFERROR(VLOOKUP(A343,'1.Портфель кредитів'!A:Z,3,FALSE),\"\")","v":""},{"$f":"IFERROR(VLOOKUP(A343,'1.Портфель кредитів'!A:Z,7,FALSE),\"\")","v":""},{"$f":"IFERROR(VLOOKUP(A343,'1.Портфель кредитів'!A:Z,14,FALSE),\"\")","v":""}]
[null,{"$f":"IFERROR(VLOOKUP(A344,'1.Портфель кредитів'!A:Z,3,FALSE),\"\")","v":""},{"$f":"IFERROR(VLOOKUP(A344,'1.Портфель кредитів'!A:Z,7,FALSE),\"\")","v":""},{"$f":"IFERROR(VLOOKUP(A344,'1.Портфель кредитів'!A:Z,14,FALSE),\"\")","v":""}]
[null,{"$f":"IFERROR(VLOOKUP(A345,'1.Портфель кредитів'!A:Z,3,FALSE),\"\")","v":""},{"$f":"IFERROR(VLOOKUP(A345,'1.Портфель кредитів'!A:Z,7,FALSE),\"\")","v":""},{"$f":"IFERROR(VLOOKUP(A345,'1.Портфель кредитів'!A:Z,14,FALSE),\"\")","v":""}]
[null,{"$f":"IFERROR(VLOOKUP(A346,'1.Портфель кредитів'!A:Z,3,FALSE),\"\")","v":""},{"$f":"IFERROR(VLOOKUP(A346,'1.Портфель кредитів'!A:Z,7,FALSE),\"\")","v":""},{"$f":"IFERROR(VLOOKUP(A346,'1.Портфель кредитів'!A:Z,14,FALSE),\"\")","v":""}]
[null,{"$f":"IFERROR(VLOOKUP(A347,'1.Портфель кредитів'!A:Z,3,FALSE),\"\")","v":""},{"$f":"IFERROR(VLOOKUP(A347,'1.Портфель кредитів'!A:Z,7,FALSE),\"\")","v":""},{"$f":"IFERROR(VLOOKUP(A347,'1.Портфель кредитів'!A:Z,14,FALSE),\"\")","v":""}]
[null,{"$f":"IFERROR(VLOOKUP(A348,'1.Портфель кредитів'!A:Z,3,FALSE),\"\")","v":""},{"$f":"IFERROR(VLOOKUP(A348,'1.Портфель кредитів'!A:Z,7,FALSE),\"\")","v":""},{"$f":"IFERROR(VLOOKUP(A348,'1.Портфель кредитів'!A:Z,14,FALSE),\"\")","v":""}]
[null,{"$f":"IFERROR(VLOOKUP(A349,'1.Портфель кредитів'!A:Z,3,FALSE),\"\")","v":""},{"$f":"IFERROR(VLOOKUP(A349,'1.Портфель кредитів'!A:Z,7,FALSE),\"\")","v":""},{"$f":"IFERROR(VLOOKUP(A349,'1.Портфель кредитів'!A:Z,14,FALSE),\"\")","v":""}]
[null,{"$f":"IFERROR(VLOOKUP(A350,'1.Портфель кредитів'!A:Z,3,FALSE),\"\")","v":""},{"$f":"IFERROR(VLOOKUP(A350,'1.Портфель кредитів'!A:Z,7,FALSE),\"\")","v":""},{"$f":"IFERROR(VLOOKUP(A350,'1.Портфель кредитів'!A:Z,14,FALSE),\"\")","v":""}]
[null,{"$f":"IFERROR(VLOOKUP(A351,'1.Портфель кредитів'!A:Z,3,FALSE),\"\")","v":""},{"$f":"IFERROR(VLOOKUP(A351,'1.Портфель кредитів'!A:Z,7,FALSE),\"\")","v":""},{"$f":"IFERROR(VLOOKUP(A351,'1.Портфель кредитів'!A:Z,14,FALSE),\"\")","v":""}]
[null,{"$f":"IFERROR(VLOOKUP(A352,'1.Портфель кредитів'!A:Z,3,FALSE),\"\")","v":""},{"$f":"IFERROR(VLOOKUP(A352,'1.Портфель кредитів'!A:Z,7,FALSE),\"\")","v":""},{"$f":"IFERROR(VLOOKUP(A352,'1.Портфель кредитів'!A:Z,14,FALSE),\"\")","v":""}]
[null,{"$f":"IFERROR(VLOOKUP(A353,'1.Портфель кредитів'!A:Z,3,FALSE),\"\")","v":""},{"$f":"IFERROR(VLOOKUP(A353,'1.Портфель кредитів'!A:Z,7,FALSE),\"\")","v":""},{"$f":"IFERROR(VLOOKUP(A353,'1.Портфель кредитів'!A:Z,14,FALSE),\"\")","v":""}]
[null,{"$f":"IFERROR(VLOOKUP(A354,'1.Портфель кредитів'!A:Z,3,FALSE),\"\")","v":""},{"$f":"IFERROR(VLOOKUP(A354,'1.Портфель кредитів'!A:Z,7,FALSE),\"\")","v":""},{"$f":"IFERROR(VLOOKUP(A354,'1.Портфель кредитів'!A:Z,14,FALSE),\"\")","v":""}]
[null,{"$f":"IFERROR(VLOOKUP(A355,'1.Портфель кредитів'!A:Z,3,FALSE),\"\")","v":""},{"$f":"IFERROR(VLOOKUP(A355,'1.Портфель кредитів'!A:Z,7,FALSE),\"\")","v":""},{"$f":"IFERROR(VLOOKUP(A355,'1.Портфель кредитів'!A:Z,14,FALSE),\"\")","v":""}]
[null,{"$f":"IFERROR(VLOOKUP(A356,'1.Портфель кредитів'!A:Z,3,FALSE),\"\")","v":""},{"$f":"IFERROR(VLOOKUP(A356,'1.Портфель кредитів'!A:Z,7,FALSE),\"\")","v":""},{"$f":"IFERROR(VLOOKUP(A356,'1.Портфель кредитів'!A:Z,14,FALSE),\"\")","v":""}]
[null,{"$f":"IFERROR(VLOOKUP(A357,'1.Портфель кредитів'!A:Z,3,FALSE),\"\")","v":""},{"$f":"IFERROR(VLOOKUP(A357,'1.Портфель кредитів'!A:Z,7,FALSE),\"\")","v":""},{"$f":"IFERROR(VLOOKUP(A357,'1.Портфель кредитів'!A:Z,14,FALSE),\"\")","v":""}]
[null,{"$f":"IFERROR(VLOOKUP(A358,'1.Портфель кредитів'!A:Z,3,FALSE),\"\")","v":""},{"$f":"IFERROR(VLOOKUP(A358,'1.Портфель кредитів'!A:Z,7,FALSE),\"\")","v":""},{"$f":"IFERROR(VLOOKUP(A358,'1.Портфель кредитів'!A:Z,14,FALSE),\"\")","v":""}]
[null,{"$f":"IFERROR(VLOOKUP(A359,'1.Портфель кредитів'!A:Z,3,FALSE),\"\")","v":""},{"$f":"IFERROR(VLOOKUP(A359,'1.Портфель кредитів'!A:Z,7,FALSE),\"\")","v":""},{"$f":"IFERROR(VLOOKUP(A359,'1.Портфель кредитів'!A:Z,14,FALSE),\"\")","v":""}]
[null,{"$f":"IFERROR(VLOOKUP(A360,'1.Портфель кредитів'!A:Z,3,FALSE),\"\")","v":""},{"$f":"IFERROR(VLOOKUP(A360,'1.Портфель кредитів'!A:Z,7,FALSE),\"\")","v":""},{"$f":"IFERROR(VLOOKUP(A360,'1.Портфель кредитів'!A:Z,14,FALSE),\"\")","v":""}]
[null,{"$f":"IFERROR(VLOOKUP(A361,'1.Портфель кредитів'!A:Z,3,FALSE),\"\")","v":""},{"$f":"IFERROR(VLOOKUP(A361,'1.Портфель кредитів'!A:Z,7,FALSE),\"\")","v":""},{"$f":"IFERROR(VLOOKUP(A361,'1.Портфель кредитів'!A:Z,14,FALSE),\"\")","v":""}]
[null,{"$f":"IFERROR(VLOOKUP(A362,'1.Портфель кредитів'!A:Z,3,FALSE),\"\")","v":""},{"$f":"IFERROR(VLOOKUP(A362,'1.Портфель кредитів'!A:Z,7,FALSE),\"\")","v":""},{"$f":"IFERROR(VLOOKUP(A362,'1.Портфель кредитів'!A:Z,14,FALSE),\"\")","v":""}]
[null,{"$f":"IFERROR(VLOOKUP(A363,'1.Портфель кредитів'!A:Z,3,FALSE),\"\")","v":""},{"$f":"IFERROR(VLOOKUP(A363,'1.Портфель кредитів'!A:Z,7,FALSE),\"\")","v":""},{"$f":"IFERROR(VLOOKUP(A363,'1.Портфель кредитів'!A:Z,14,FALSE),\"\")","v":""}]
[null,{"$f":"IFERROR(VLOOKUP(A364,'1.Портфель кредитів'!A:Z,3,FALSE),\"\")","v":""},{"$f":"IFERROR(VLOOKUP(A364,'1.Портфель кредитів'!A:Z,7,FALSE),\"\")","v":""},{"$f":"IFERROR(VLOOKUP(A364,'1.Портфель кредитів'!A:Z,14,FALSE),\"\")","v":""}]
[null,{"$f":"IFERROR(VLOOKUP(A365,'1.Портфель кредитів'!A:Z,3,FALSE),\"\")","v":""},{"$f":"IFERROR(VLOOKUP(A365,'1.Портфель кредитів'!A:Z,7,FALSE),\"\")","v":""},{"$f":"IFERROR(VLOOKUP(A365,'1.Портфель кредитів'!A:Z,14,FALSE),\"\")","v":""}]
[null,{"$f":"IFERROR(VLOOKUP(A366,'1.Портфель кредитів'!A:Z,3,FALSE),\"\")","v":""},{"$f":"IFERROR(VLOOKUP(A366,'1.Портфель кредитів'!A:Z,7,FALSE),\"\")","v":""},{"$f":"IFERROR(VLOOKUP(A366,'1.Портфель кредитів'!A:Z,14,FALSE),\"\")","v":""}]
[null,{"$f":"IFERROR(VLOOKUP(A367,'1.Портфель кредитів'!A:Z,3,FALSE),\"\")","v":""},{"$f":"IFERROR(VLOOKUP(A367,'1.Портфель кредитів'!A:Z,7,FALSE),\"\")","v":""},{"$f":"IFERROR(VLOOKUP(A367,'1.Портфель кредитів'!A:Z,14,FALSE),\"\")","v":""}]
[null,{"$f":"IFERROR(VLOOKUP(A368,'1.Портфель кредитів'!A:Z,3,FALSE),\"\")","v":""},{"$f":"IFERROR(VLOOKUP(A368,'1.Портфель кредитів'!A:Z,7,FALSE),\"\")","v":""},{"$f":"IFERROR(VLOOKUP(A368,'1.Портфель кредитів'!A:Z,14,FALSE),\"\")","v":""}]
[null,{"$f":"IFERROR(VLOOKUP(A369,'1.Портфель кредитів'!A:Z,3,FALSE),\"\")","v":""},{"$f":"IFERROR(VLOOKUP(A369,'1.Портфель кредитів'!A:Z,7,FALSE),\"\")","v":""},{"$f":"IFERROR(VLOOKUP(A369,'1.Портфель кредитів'!A:Z,14,FALSE),\"\")","v":""}]
[null,{"$f":"IFERROR(VLOOKUP(A370,'1.Портфель кредитів'!A:Z,3,FALSE),\"\")","v":""},{"$f":"IFERROR(VLOOKUP(A370,'1.Портфель кредитів'!A:Z,7,FALSE),\"\")","v":""},{"$f":"IFERROR(VLOOKUP(A370,'1.Портфель кредитів'!A:Z,14,FALSE),\"\")","v":""}]
[null,{"$f":"IFERROR(VLOOKUP(A371,'1.Портфель кредитів'!A:Z,3,FALSE),\"\")","v":""},{"$f":"IFERROR(VLOOKUP(A371,'1.Портфель кредитів'!A:Z,7,FALSE),\"\")","v":""},{"$f":"IFERROR(VLOOKUP(A371,'1.Портфель кредитів'!A:Z,14,FALSE),\"\")","v":""}]
[null,{"$f":"IFERROR(VLOOKUP(A372,'1.Портфель кредитів'!A:Z,3,FALSE),\"\")","v":""},{"$f":"IFERROR(VLOOKUP(A372,'1.Портфель кредитів'!A:Z,7,FALSE),\"\")","v":""},{"$f":"IFERROR(VLOOKUP(A372,'1.Портфель кредитів'!A:Z,14,FALSE),\"\")","v":""}]
[null,{"$f":"IFERROR(VLOOKUP(A373,'1.Портфель кредитів'!A:Z,3,FALSE),\"\")","v":""},{"$f":"IFERROR(VLOOKUP(A373,'1.Портфель кредитів'!A:Z,7,FALSE),\"\")","v":""},{"$f":"IFERROR(VLOOKUP(A373,'1.Портфель кредитів'!A:Z,14,FALSE),\"\")","v":""}]
[null,{"$f":"IFERROR(VLOOKUP(A374,'1.Портфель кредитів'!A:Z,3,FALSE),\"\")","v":""},{"$f":"IFERROR(VLOOKUP(A374,'1.Портфель кредитів'!A:Z,7,FALSE),\"\")","v":""},{"$f":"IFERROR(VLOOKUP(A374,'1.Портфель кредитів'!A:Z,14,FALSE),\"\")","v":""}]
[null,{"$f":"IFERROR(VLOOKUP(A375,'1.Портфель кредитів'!A:Z,3,FALSE),\"\")","v":""},{"$f":"IFERROR(VLOOKUP(A375,'1.Портфель кредитів'!A:Z,7,FALSE),\"\")","v":""},{"$f":"IFERROR(VLOOKUP(A375,'1.Портфель кредитів'!A:Z,14,FALSE),\"\")","v":""}]
[null,{"$f":"IFERROR(VLOOKUP(A376,'1.Портфель кредитів'!A:Z,3,FALSE),\"\")","v":""},{"$f":"IFERROR(VLOOKUP(A376,'1.Портфель кредитів'!A:Z,7,FALSE),\"\")","v":""},{"$f":"IFERROR(VLOOKUP(A376,'1.Портфель кредитів'!A:Z,14,FALSE),\"\")","v":""}]
[null,{"$f":"IFERROR(VLOOKUP(A377,'1.Портфель кредитів'!A:Z,3,FALSE),\"\")","v":""},{"$f":"IFERROR(VLOOKUP(A377,'1.Портфель кредитів'!A:Z,7,FALSE),\"\")","v":""},{"$f":"IFERROR(VLOOKUP(A377,'1.Портфель кредитів'!A:Z,14,FALSE),\"\")","v":""}]
[null,{"$f":"IFERROR(VLOOKUP(A378,'1.Портфель кредитів'!A:Z,3,FALSE),\"\")","v":""},{"$f":"IFERROR(VLOOKUP(A378,'1.Портфель кредитів'!A:Z,7,FALSE),\"\")","v":""},{"$f":"IFERROR(VLOOKUP(A378,'1.Портфель кредитів'!A:Z,14,FALSE),\"\")","v":""}]
[null,{"$f":"IFERROR(VLOOKUP(A379,'1.Портфель кредитів'!A:Z,3,FALSE),\"\")","v":""},{"$f":"IFERROR(VLOOKUP(A379,'1.Портфель кредитів'!A:Z,7,FALSE),\"\")","v":""},{"$f":"IFERROR(VLOOKUP(A379,'1.Портфель кредитів'!A:Z,14,FALSE),\"\")","v":""}]
[null,{"$f":"IFERROR(VLOOKUP(A380,'1.Портфель кредитів'!A:Z,3,FALSE),\"\")","v":""},{"$f":"IFERROR(VLOOKUP(A380,'1.Портфель кредитів'!A:Z,7,FALSE),\"\")","v":""},{"$f":"IFERROR(VLOOKUP(A380,'1.Портфель кредитів'!A:Z,14,FALSE),\"\")","v":""}]
[null,{"$f":"IFERROR(VLOOKUP(A381,'1.Портфель кредитів'!A:Z,3,FALSE),\"\")","v":""},{"$f":"IFERROR(VLOOKUP(A381,'1.Портфель кредитів'!A:Z,7,FALSE),\"\")","v":""},{"$f":"IFERROR(VLOOKUP(A381,'1.Портфель кредитів'!A:Z,14,FALSE),\"\")","v":""}]
[null,{"$f":"IFERROR(VLOOKUP(A382,'1.Портфель кредитів'!A:Z,3,FALSE),\"\")","v":""},{"$f":"IFERROR(VLOOKUP(A382,'1.Портфель кредитів'!A:Z,7,FALSE),\"\")","v":""},{"$f":"IFERROR(VLOOKUP(A382,'1.Портфель кредитів'!A:Z,14,FALSE),\"\")","v":""}]
[null,{"$f":"IFERROR(VLOOKUP(A383,'1.Портфель кредитів'!A:Z,3,FALSE),\"\")","v":""},{"$f":"IFERROR(VLOOKUP(A383,'1.Портфель кредитів'!A:Z,7,FALSE),\"\")","v":""},{"$f":"IFERROR(VLOOKUP(A383,'1.Портфель кредитів'!A:Z,14,FALSE),\"\")","v":""}]
[null,{"$f":"IFERROR(VLOOKUP(A384,'1.Портфель кредитів'!A:Z,3,FALSE),\"\")","v":""},{"$f":"IFERROR(VLOOKUP(A384,'1.Портфель кредитів'!A:Z,7,FALSE),\"\")","v":""},{"$f":"IFERROR(VLOOKUP(A384,'1.Портфель кредитів'!A:Z,14,FALSE),\"\")","v":""}]
[null,{"$f":"IFERROR(VLOOKUP(A385,'1.Портфель кредитів'!A:Z,3,FALSE),\"\")","v":""},{"$f":"IFERROR(VLOOKUP(A385,'1.Портфель кредитів'!A:Z,7,FALSE),\"\")","v":""},{"$f":"IFERROR(VLOOKUP(A385,'1.Портфель кредитів'!A:Z,14,FALSE),\"\")","v":""}]
[null,{"$f":"IFERROR(VLOOKUP(A386,'1.Портфель кредитів'!A:Z,3,FALSE),\"\")","v":""},{"$f":"IFERROR(VLOOKUP(A386,'1.Портфель кредитів'!A:Z,7,FALSE),\"\")","v":""},{"$f":"IFERROR(VLOOKUP(A386,'1.Портфель кредитів'!A:Z,14,FALSE),\"\")","v":""}]
[null,{"$f":"IFERROR(VLOOKUP(A387,'1.Портфель кредитів'!A:Z,3,FALSE),\"\")","v":""},{"$f":"IFERROR(VLOOKUP(A387,'1.Портфель кредитів'!A:Z,7,FALSE),\"\")","v":""},{"$f":"IFERROR(VLOOKUP(A387,'1.Портфель кредитів'!A:Z,14,FALSE),\"\")","v":""}]
[null,{"$f":"IFERROR(VLOOKUP(A388,'1.Портфель кредитів'!A:Z,3,FALSE),\"\")","v":""},{"$f":"IFERROR(VLOOKUP(A388,'1.Портфель кредитів'!A:Z,7,FALSE),\"\")","v":""},{"$f":"IFERROR(VLOOKUP(A388,'1.Портфель кредитів'!A:Z,14,FALSE),\"\")","v":""}]
[null,{"$f":"IFERROR(VLOOKUP(A389,'1.Портфель кредитів'!A:Z,3,FALSE),\"\")","v":""},{"$f":"IFERROR(VLOOKUP(A389,'1.Портфель кредитів'!A:Z,7,FALSE),\"\")","v":""},{"$f":"IFERROR(VLOOKUP(A389,'1.Портфель кредитів'!A:Z,14,FALSE),\"\")","v":""}]
[null,{"$f":"IFERROR(VLOOKUP(A390,'1.Портфель кредитів'!A:Z,3,FALSE),\"\")","v":""},{"$f":"IFERROR(VLOOKUP(A390,'1.Портфель кредитів'!A:Z,7,FALSE),\"\")","v":""},{"$f":"IFERROR(VLOOKUP(A390,'1.Портфель кредитів'!A:Z,14,FALSE),\"\")","v":""}]
[null,{"$f":"IFERROR(VLOOKUP(A391,'1.Портфель кредитів'!A:Z,3,FALSE),\"\")","v":""},{"$f":"IFERROR(VLOOKUP(A391,'1.Портфель кредитів'!A:Z,7,FALSE),\"\")","v":""},{"$f":"IFERROR(VLOOKUP(A391,'1.Портфель кредитів'!A:Z,14,FALSE),\"\")","v":""}]
[null,{"$f":"IFERROR(VLOOKUP(A392,'1.Портфель кредитів'!A:Z,3,FALSE),\"\")","v":""},{"$f":"IFERROR(VLOOKUP(A392,'1.Портфель кредитів'!A:Z,7,FALSE),\"\")","v":""},{"$f":"IFERROR(VLOOKUP(A392,'1.Портфель кредитів'!A:Z,14,FALSE),\"\")","v":""}]
[null,{"$f":"IFERROR(VLOOKUP(A393,'1.Портфель кредитів'!A:Z,3,FALSE),\"\")","v":""},{"$f":"IFERROR(VLOOKUP(A393,'1.Портфель кредитів'!A:Z,7,FALSE),\"\")","v":""},{"$f":"IFERROR(VLOOKUP(A393,'1.Портфель кредитів'!A:Z,14,FALSE),\"\")","v":""}]
[null,{"$f":"IFERROR(VLOOKUP(A394,'1.Портфель кредитів'!A:Z,3,FALSE),\"\")","v":""},{"$f":"IFERROR(VLOOKUP(A394,'1.Портфель кредитів'!A:Z,7,FALSE),\"\")","v":""},{"$f":"IFERROR(VLOOKUP(A394,'1.Портфель кредитів'!A:Z,14,FALSE),\"\")","v":""}]
[null,{"$f":"IFERROR(VLOOKUP(A395,'1.Портфель кредитів'!A:Z,3,FALSE),\"\")","v":""},{"$f":"IFERROR(VLOOKUP(A395,'1.Портфель кредитів'!A:Z,7,FALSE),\"\")","v":""},{"$f":"IFERROR(VLOOKUP(A395,'1.Портфель кредитів'!A:Z,14,FALSE),\"\")","v":""}]
[null,{"$f":"IFERROR(VLOOKUP(A396,'1.Портфель кредитів'!A:Z,3,FALSE),\"\")","v":""},{"$f":"IFERROR(VLOOKUP(A396,'1.Портфель кредитів'!A:Z,7,FALSE),\"\")","v":""},{"$f":"IFERROR(VLOOKUP(A396,'1.Портфель кредитів'!A:Z,14,FALSE),\"\")","v":""}]
[null,{"$f":"IFERROR(VLOOKUP(A397,'1.Портфель кредитів'!A:Z,3,FALSE),\"\")","v":""},{"$f":"IFERROR(VLOOKUP(A397,'1.Портфель кредитів'!A:Z,7,FALSE),\"\")","v":""},{"$f":"IFERROR(VLOOKUP(A397,'1.Портфель кредитів'!A:Z,14,FALSE),\"\")","v":""}]
[null,{"$f":"IFERROR(VLOOKUP(A398,'1.Портфель кредитів'!A:Z,3,FALSE),\"\")","v":""},{"$f":"IFERROR(VLOOKUP(A398,'1.Портфель кредитів'!A:Z,7,FALSE),\"\")","v":""},{"$f":"IFERROR(VLOOKUP(A398,'1.Портфель кредитів'!A:Z,14,FALSE),\"\")","v":""}]
[null,{"$f":"IFERROR(VLOOKUP(A399,'1.Портфель кредитів'!A:Z,3,FALSE),\"\")","v":""},{"$f":"IFERROR(VLOOKUP(A399,'1.Портфель кредитів'!A:Z,7,FALSE),\"\")","v":""},{"$f":"IFERROR(VLOOKUP(A399,'1.Портфель кредитів'!A:Z,14,FALSE),\"\")","v":""}]
[null,{"$f":"IFERROR(VLOOKUP(A400,'1.Портфель кредитів'!A:Z,3,FALSE),\"\")","v":""},{"$f":"IFERROR(VLOOKUP(A400,'1.Портфель кредитів'!A:Z,7,FALSE),\"\")","v":""},{"$f":"IFERROR(VLOOKUP(A400,'1.Портфель кредитів'!A:Z,14,FALSE),\"\")","v":""}]
[null,{"$f":"IFERROR(VLOOKUP(A401,'1.Портфель кредитів'!A:Z,3,FALSE),\"\")","v":""},{"$f":"IFERROR(VLOOKUP(A401,'1.Портфель кредитів'!A:Z,7,FALSE),\"\")","v":""},{"$f":"IFERROR(VLOOKUP(A401,'1.Портфель кредитів'!A:Z,14,FALSE),\"\")","v":""}]
[null,{"$f":"IFERROR(VLOOKUP(A402,'1.Портфель кредитів'!A:Z,3,FALSE),\"\")","v":""},{"$f":"IFERROR(VLOOKUP(A402,'1.Портфель кредитів'!A:Z,7,FALSE),\"\")","v":""},{"$f":"IFERROR(VLOOKUP(A402,'1.Портфель кредитів'!A:Z,14,FALSE),\"\")","v":""}]
[null,{"$f":"IFERROR(VLOOKUP(A403,'1.Портфель кредитів'!A:Z,3,FALSE),\"\")","v":""},{"$f":"IFERROR(VLOOKUP(A403,'1.Портфель кредитів'!A:Z,7,FALSE),\"\")","v":""},{"$f":"IFERROR(VLOOKUP(A403,'1.Портфель кредитів'!A:Z,14,FALSE),\"\")","v":""}]
[null,{"$f":"IFERROR(VLOOKUP(A404,'1.Портфель кредитів'!A:Z,3,FALSE),\"\")","v":""},{"$f":"IFERROR(VLOOKUP(A404,'1.Портфель кредитів'!A:Z,7,FALSE),\"\")","v":""},{"$f":"IFERROR(VLOOKUP(A404,'1.Портфель кредитів'!A:Z,14,FALSE),\"\")","v":""}]
[null,{"$f":"IFERROR(VLOOKUP(A405,'1.Портфель кредитів'!A:Z,3,FALSE),\"\")","v":""},{"$f":"IFERROR(VLOOKUP(A405,'1.Портфель кредитів'!A:Z,7,FALSE),\"\")","v":""},{"$f":"IFERROR(VLOOKUP(A405,'1.Портфель кредитів'!A:Z,14,FALSE),\"\")","v":""}]
[null,{"$f":"IFERROR(VLOOKUP(A406,'1.Портфель кредитів'!A:Z,3,FALSE),\"\")","v":""},{"$f":"IFERROR(VLOOKUP(A406,'1.Портфель кредитів'!A:Z,7,FALSE),\"\")","v":""},{"$f":"IFERROR(VLOOKUP(A406,'1.Портфель кредитів'!A:Z,14,FALSE),\"\")","v":""}]
[null,{"$f":"IFERROR(VLOOKUP(A407,'1.Портфель кредитів'!A:Z,3,FALSE),\"\")","v":""},{"$f":"IFERROR(VLOOKUP(A407,'1.Портфель кредитів'!A:Z,7,FALSE),\"\")","v":""},{"$f":"IFERROR(VLOOKUP(A407,'1.Портфель кредитів'!A:Z,14,FALSE),\"\")","v":""}]
[null,{"$f":"IFERROR(VLOOKUP(A408,'1.Портфель кредитів'!A:Z,3,FALSE),\"\")","v":""},{"$f":"IFERROR(VLOOKUP(A408,'1.Портфель кредитів'!A:Z,7,FALSE),\"\")","v":""},{"$f":"IFERROR(VLOOKUP(A408,'1.Портфель кредитів'!A:Z,14,FALSE),\"\")","v":""}]
[null,{"$f":"IFERROR(VLOOKUP(A409,'1.Портфель кредитів'!A:Z,3,FALSE),\"\")","v":""},{"$f":"IFERROR(VLOOKUP(A409,'1.Портфель кредитів'!A:Z,7,FALSE),\"\")","v":""},{"$f":"IFERROR(VLOOKUP(A409,'1.Портфель кредитів'!A:Z,14,FALSE),\"\")","v":""}]
[null,{"$f":"IFERROR(VLOOKUP(A410,'1.Портфель кредитів'!A:Z,3,FALSE),\"\")","v":""},{"$f":"IFERROR(VLOOKUP(A410,'1.Портфель кредитів'!A:Z,7,FALSE),\"\")","v":""},{"$f":"IFERROR(VLOOKUP(A410,'1.Портфель кредитів'!A:Z,14,FALSE),\"\")","v":""}]
[null,{"$f":"IFERROR(VLOOKUP(A411,'1.Портфель кредитів'!A:Z,3,FALSE),\"\")","v":""},{"$f":"IFERROR(VLOOKUP(A411,'1.Портфель кредитів'!A:Z,7,FALSE),\"\")","v":""},{"$f":"IFERROR(VLOOKUP(A411,'1.Портфель кредитів'!A:Z,14,FALSE),\"\")","v":""}]
[null,{"$f":"IFERROR(VLOOKUP(A412,'1.Портфель кредитів'!A:Z,3,FALSE),\"\")","v":""},{"$f":"IFERROR(VLOOKUP(A412,'1.Портфель кредитів'!A:Z,7,FALSE),\"\")","v":""},{"$f":"IFERROR(VLOOKUP(A412,'1.Портфель кредитів'!A:Z,14,FALSE),\"\")","v":""}]
[null,{"$f":"IFERROR(VLOOKUP(A413,'1.Портфель кредитів'!A:Z,3,FALSE),\"\")","v":""},{"$f":"IFERROR(VLOOKUP(A413,'1.Портфель кредитів'!A:Z,7,FALSE),\"\")","v":""},{"$f":"IFERROR(VLOOKUP(A413,'1.Портфель кредитів'!A:Z,14,FALSE),\"\")","v":""}]
[null,{"$f":"IFERROR(VLOOKUP(A414,'1.Портфель кредитів'!A:Z,3,FALSE),\"\")","v":""},{"$f":"IFERROR(VLOOKUP(A414,'1.Портфель кредитів'!A:Z,7,FALSE),\"\")","v":""},{"$f":"IFERROR(VLOOKUP(A414,'1.Портфель кредитів'!A:Z,14,FALSE),\"\")","v":""}]
[null,{"$f":"IFERROR(VLOOKUP(A415,'1.Портфель кредитів'!A:Z,3,FALSE),\"\")","v":""},{"$f":"IFERROR(VLOOKUP(A415,'1.Портфель кредитів'!A:Z,7,FALSE),\"\")","v":""},{"$f":"IFERROR(VLOOKUP(A415,'1.Портфель кредитів'!A:Z,14,FALSE),\"\")","v":""}]
[null,{"$f":"IFERROR(VLOOKUP(A416,'1.Портфель кредитів'!A:Z,3,FALSE),\"\")","v":""},{"$f":"IFERROR(VLOOKUP(A416,'1.Портфель кредитів'!A:Z,7,FALSE),\"\")","v":""},{"$f":"IFERROR(VLOOKUP(A416,'1.Портфель кредитів'!A:Z,14,FALSE),\"\")","v":""}]
[null,{"$f":"IFERROR(VLOOKUP(A417,'1.Портфель кредитів'!A:Z,3,FALSE),\"\")","v":""},{"$f":"IFERROR(VLOOKUP(A417,'1.Портфель кредитів'!A:Z,7,FALSE),\"\")","v":""},{"$f":"IFERROR(VLOOKUP(A417,'1.Портфель кредитів'!A:Z,14,FALSE),\"\")","v":""}]
[null,{"$f":"IFERROR(VLOOKUP(A418,'1.Портфель кредитів'!A:Z,3,FALSE),\"\")","v":""},{"$f":"IFERROR(VLOOKUP(A418,'1.Портфель кредитів'!A:Z,7,FALSE),\"\")","v":""},{"$f":"IFERROR(VLOOKUP(A418,'1.Портфель кредитів'!A:Z,14,FALSE),\"\")","v":""}]
[null,{"$f":"IFERROR(VLOOKUP(A419,'1.Портфель кредитів'!A:Z,3,FALSE),\"\")","v":""},{"$f":"IFERROR(VLOOKUP(A419,'1.Портфель кредитів'!A:Z,7,FALSE),\"\")","v":""},{"$f":"IFERROR(VLOOKUP(A419,'1.Портфель кредитів'!A:Z,14,FALSE),\"\")","v":""}]
[null,{"$f":"IFERROR(VLOOKUP(A420,'1.Портфель кредитів'!A:Z,3,FALSE),\"\")","v":""},{"$f":"IFERROR(VLOOKUP(A420,'1.Портфель кредитів'!A:Z,7,FALSE),\"\")","v":""},{"$f":"IFERROR(VLOOKUP(A420,'1.Портфель кредитів'!A:Z,14,FALSE),\"\")","v":""}]
[null,{"$f":"IFERROR(VLOOKUP(A421,'1.Портфель кредитів'!A:Z,3,FALSE),\"\")","v":""},{"$f":"IFERROR(VLOOKUP(A421,'1.Портфель кредитів'!A:Z,7,FALSE),\"\")","v":""},{"$f":"IFERROR(VLOOKUP(A421,'1.Портфель кредитів'!A:Z,14,FALSE),\"\")","v":""}]
[null,{"$f":"IFERROR(VLOOKUP(A422,'1.Портфель кредитів'!A:Z,3,FALSE),\"\")","v":""},{"$f":"IFERROR(VLOOKUP(A422,'1.Портфель кредитів'!A:Z,7,FALSE),\"\")","v":""},{"$f":"IFERROR(VLOOKUP(A422,'1.Портфель кредитів'!A:Z,14,FALSE),\"\")","v":""}]
[null,{"$f":"IFERROR(VLOOKUP(A423,'1.Портфель кредитів'!A:Z,3,FALSE),\"\")","v":""},{"$f":"IFERROR(VLOOKUP(A423,'1.Портфель кредитів'!A:Z,7,FALSE),\"\")","v":""},{"$f":"IFERROR(VLOOKUP(A423,'1.Портфель кредитів'!A:Z,14,FALSE),\"\")","v":""}]
[null,{"$f":"IFERROR(VLOOKUP(A424,'1.Портфель кредитів'!A:Z,3,FALSE),\"\")","v":""},{"$f":"IFERROR(VLOOKUP(A424,'1.Портфель кредитів'!A:Z,7,FALSE),\"\")","v":""},{"$f":"IFERROR(VLOOKUP(A424,'1.Портфель кредитів'!A:Z,14,FALSE),\"\")","v":""}]
[null,{"$f":"IFERROR(VLOOKUP(A425,'1.Портфель кредитів'!A:Z,3,FALSE),\"\")","v":""},{"$f":"IFERROR(VLOOKUP(A425,'1.Портфель кредитів'!A:Z,7,FALSE),\"\")","v":""},{"$f":"IFERROR(VLOOKUP(A425,'1.Портфель кредитів'!A:Z,14,FALSE),\"\")","v":""}]
[null,{"$f":"IFERROR(VLOOKUP(A426,'1.Портфель кредитів'!A:Z,3,FALSE),\"\")","v":""},{"$f":"IFERROR(VLOOKUP(A426,'1.Портфель кредитів'!A:Z,7,FALSE),\"\")","v":""},{"$f":"IFERROR(VLOOKUP(A426,'1.Портфель кредитів'!A:Z,14,FALSE),\"\")","v":""}]
[null,{"$f":"IFERROR(VLOOKUP(A427,'1.Портфель кредитів'!A:Z,3,FALSE),\"\")","v":""},{"$f":"IFERROR(VLOOKUP(A427,'1.Портфель кредитів'!A:Z,7,FALSE),\"\")","v":""},{"$f":"IFERROR(VLOOKUP(A427,'1.Портфель кредитів'!A:Z,14,FALSE),\"\")","v":""}]
[null,{"$f":"IFERROR(VLOOKUP(A428,'1.Портфель кредитів'!A:Z,3,FALSE),\"\")","v":""},{"$f":"IFERROR(VLOOKUP(A428,'1.Портфель кредитів'!A:Z,7,FALSE),\"\")","v":""},{"$f":"IFERROR(VLOOKUP(A428,'1.Портфель кредитів'!A:Z,14,FALSE),\"\")","v":""}]
[null,{"$f":"IFERROR(VLOOKUP(A429,'1.Портфель кредитів'!A:Z,3,FALSE),\"\")","v":""},{"$f":"IFERROR(VLOOKUP(A429,'1.Портфель кредитів'!A:Z,7,FALSE),\"\")","v":""},{"$f":"IFERROR(VLOOKUP(A429,'1.Портфель кредитів'!A:Z,14,FALSE),\"\")","v":""}]
[null,{"$f":"IFERROR(VLOOKUP(A430,'1.Портфель кредитів'!A:Z,3,FALSE),\"\")","v":""},{"$f":"IFERROR(VLOOKUP(A430,'1.Портфель кредитів'!A:Z,7,FALSE),\"\")","v":""},{"$f":"IFERROR(VLOOKUP(A430,'1.Портфель кредитів'!A:Z,14,FALSE),\"\")","v":""}]
[null,{"$f":"IFERROR(VLOOKUP(A431,'1.Портфель кредитів'!A:Z,3,FALSE),\"\")","v":""},{"$f":"IFERROR(VLOOKUP(A431,'1.Портфель кредитів'!A:Z,7,FALSE),\"\")","v":""},{"$f":"IFERROR(VLOOKUP(A431,'1.Портфель кредитів'!A:Z,14,FALSE),\"\")","v":""}]
[null,{"$f":"IFERROR(VLOOKUP(A432,'1.Портфель кредитів'!A:Z,3,FALSE),\"\")","v":""},{"$f":"IFERROR(VLOOKUP(A432,'1.Портфель кредитів'!A:Z,7,FALSE),\"\")","v":""},{"$f":"IFERROR(VLOOKUP(A432,'1.Портфель кредитів'!A:Z,14,FALSE),\"\")","v":""}]
[null,{"$f":"IFERROR(VLOOKUP(A433,'1.Портфель кредитів'!A:Z,3,FALSE),\"\")","v":""},{"$f":"IFERROR(VLOOKUP(A433,'1.Портфель кредитів'!A:Z,7,FALSE),\"\")","v":""},{"$f":"IFERROR(VLOOKUP(A433,'1.Портфель кредитів'!A:Z,14,FALSE),\"\")","v":""}]
[null,{"$f":"IFERROR(VLOOKUP(A434,'1.Портфель кредитів'!A:Z,3,FALSE),\"\")","v":""},{"$f":"IFERROR(VLOOKUP(A434,'1.Портфель кредитів'!A:Z,7,FALSE),\"\")","v":""},{"$f":"IFERROR(VLOOKUP(A434,'1.Портфель кредитів'!A:Z,14,FALSE),\"\")","v":""}]
[null,{"$f":"IFERROR(VLOOKUP(A435,'1.Портфель кредитів'!A:Z,3,FALSE),\"\")","v":""},{"$f":"IFERROR(VLOOKUP(A435,'1.Портфель кредитів'!A:Z,7,FALSE),\"\")","v":""},{"$f":"IFERROR(VLOOKUP(A435,'1.Портфель кредитів'!A:Z,14,FALSE),\"\")","v":""}]
[null,{"$f":"IFERROR(VLOOKUP(A436,'1.Портфель кредитів'!A:Z,3,FALSE),\"\")","v":""},{"$f":"IFERROR(VLOOKUP(A436,'1.Портфель кредитів'!A:Z,7,FALSE),\"\")","v":""},{"$f":"IFERROR(VLOOKUP(A436,'1.Портфель кредитів'!A:Z,14,FALSE),\"\")","v":""}]
[null,{"$f":"IFERROR(VLOOKUP(A437,'1.Портфель кредитів'!A:Z,3,FALSE),\"\")","v":""},{"$f":"IFERROR(VLOOKUP(A437,'1.Портфель кредитів'!A:Z,7,FALSE),\"\")","v":""},{"$f":"IFERROR(VLOOKUP(A437,'1.Портфель кредитів'!A:Z,14,FALSE),\"\")","v":""}]
[null,{"$f":"IFERROR(VLOOKUP(A438,'1.Портфель кредитів'!A:Z,3,FALSE),\"\")","v":""},{"$f":"IFERROR(VLOOKUP(A438,'1.Портфель кредитів'!A:Z,7,FALSE),\"\")","v":""},{"$f":"IFERROR(VLOOKUP(A438,'1.Портфель кредитів'!A:Z,14,FALSE),\"\")","v":""}]
[null,{"$f":"IFERROR(VLOOKUP(A439,'1.Портфель кредитів'!A:Z,3,FALSE),\"\")","v":""},{"$f":"IFERROR(VLOOKUP(A439,'1.Портфель кредитів'!A:Z,7,FALSE),\"\")","v":""},{"$f":"IFERROR(VLOOKUP(A439,'1.Портфель кредитів'!A:Z,14,FALSE),\"\")","v":""}]
[null,{"$f":"IFERROR(VLOOKUP(A440,'1.Портфель кредитів'!A:Z,3,FALSE),\"\")","v":""},{"$f":"IFERROR(VLOOKUP(A440,'1.Портфель кредитів'!A:Z,7,FALSE),\"\")","v":""},{"$f":"IFERROR(VLOOKUP(A440,'1.Портфель кредитів'!A:Z,14,FALSE),\"\")","v":""}]
[null,{"$f":"IFERROR(VLOOKUP(A441,'1.Портфель кредитів'!A:Z,3,FALSE),\"\")","v":""},{"$f":"IFERROR(VLOOKUP(A441,'1.Портфель кредитів'!A:Z,7,FALSE),\"\")","v":""},{"$f":"IFERROR(VLOOKUP(A441,'1.Портфель кредитів'!A:Z,14,FALSE),\"\")","v":""}]
[null,{"$f":"IFERROR(VLOOKUP(A442,'1.Портфель кредитів'!A:Z,3,FALSE),\"\")","v":""},{"$f":"IFERROR(VLOOKUP(A442,'1.Портфель кредитів'!A:Z,7,FALSE),\"\")","v":""},{"$f":"IFERROR(VLOOKUP(A442,'1.Портфель кредитів'!A:Z,14,FALSE),\"\")","v":""}]
[null,{"$f":"IFERROR(VLOOKUP(A443,'1.Портфель кредитів'!A:Z,3,FALSE),\"\")","v":""},{"$f":"IFERROR(VLOOKUP(A443,'1.Портфель кредитів'!A:Z,7,FALSE),\"\")","v":""},{"$f":"IFERROR(VLOOKUP(A443,'1.Портфель кредитів'!A:Z,14,FALSE),\"\")","v":""}]
[null,{"$f":"IFERROR(VLOOKUP(A444,'1.Портфель кредитів'!A:Z,3,FALSE),\"\")","v":""},{"$f":"IFERROR(VLOOKUP(A444,'1.Портфель кредитів'!A:Z,7,FALSE),\"\")","v":""},{"$f":"IFERROR(VLOOKUP(A444,'1.Портфель кредитів'!A:Z,14,FALSE),\"\")","v":""}]
[null,{"$f":"IFERROR(VLOOKUP(A445,'1.Портфель кредитів'!A:Z,3,FALSE),\"\")","v":""},{"$f":"IFERROR(VLOOKUP(A445,'1.Портфель кредитів'!A:Z,7,FALSE),\"\")","v":""},{"$f":"IFERROR(VLOOKUP(A445,'1.Портфель кредитів'!A:Z,14,FALSE),\"\")","v":""}]
[null,{"$f":"IFERROR(VLOOKUP(A446,'1.Портфель кредитів'!A:Z,3,FALSE),\"\")","v":""},{"$f":"IFERROR(VLOOKUP(A446,'1.Портфель кредитів'!A:Z,7,FALSE),\"\")","v":""},{"$f":"IFERROR(VLOOKUP(A446,'1.Портфель кредитів'!A:Z,14,FALSE),\"\")","v":""}]
[null,{"$f":"IFERROR(VLOOKUP(A447,'1.Портфель кредитів'!A:Z,3,FALSE),\"\")","v":""},{"$f":"IFERROR(VLOOKUP(A447,'1.Портфель кредитів'!A:Z,7,FALSE),\"\")","v":""},{"$f":"IFERROR(VLOOKUP(A447,'1.Портфель кредитів'!A:Z,14,FALSE),\"\")","v":""}]
[null,{"$f":"IFERROR(VLOOKUP(A448,'1.Портфель кредитів'!A:Z,3,FALSE),\"\")","v":""},{"$f":"IFERROR(VLOOKUP(A448,'1.Портфель кредитів'!A:Z,7,FALSE),\"\")","v":""},{"$f":"IFERROR(VLOOKUP(A448,'1.Портфель кредитів'!A:Z,14,FALSE),\"\")","v":""}]
[null,{"$f":"IFERROR(VLOOKUP(A449,'1.Портфель кредитів'!A:Z,3,FALSE),\"\")","v":""},{"$f":"IFERROR(VLOOKUP(A449,'1.Портфель кредитів'!A:Z,7,FALSE),\"\")","v":""},{"$f":"IFERROR(VLOOKUP(A449,'1.Портфель кредитів'!A:Z,14,FALSE),\"\")","v":""}]
[null,{"$f":"IFERROR(VLOOKUP(A450,'1.Портфель кредитів'!A:Z,3,FALSE),\"\")","v":""},{"$f":"IFERROR(VLOOKUP(A450,'1.Портфель кредитів'!A:Z,7,FALSE),\"\")","v":""},{"$f":"IFERROR(VLOOKUP(A450,'1.Портфель кредитів'!A:Z,14,FALSE),\"\")","v":""}]
[null,{"$f":"IFERROR(VLOOKUP(A451,'1.Портфель кредитів'!A:Z,3,FALSE),\"\")","v":""},{"$f":"IFERROR(VLOOKUP(A451,'1.Портфель кредитів'!A:Z,7,FALSE),\"\")","v":""},{"$f":"IFERROR(VLOOKUP(A451,'1.Портфель кредитів'!A:Z,14,FALSE),\"\")","v":""}]
[null,{"$f":"IFERROR(VLOOKUP(A452,'1.Портфель кредитів'!A:Z,3,FALSE),\"\")","v":""},{"$f":"IFERROR(VLOOKUP(A452,'1.Портфель кредитів'!A:Z,7,FALSE),\"\")","v":""},{"$f":"IFERROR(VLOOKUP(A452,'1.Портфель кредитів'!A:Z,14,FALSE),\"\")","v":""}]
[null,{"$f":"IFERROR(VLOOKUP(A453,'1.Портфель кредитів'!A:Z,3,FALSE),\"\")","v":""},{"$f":"IFERROR(VLOOKUP(A453,'1.Портфель кредитів'!A:Z,7,FALSE),\"\")","v":""},{"$f":"IFERROR(VLOOKUP(A453,'1.Портфель кредитів'!A:Z,14,FALSE),\"\")","v":""}]
[null,{"$f":"IFERROR(VLOOKUP(A454,'1.Портфель кредитів'!A:Z,3,FALSE),\"\")","v":""},{"$f":"IFERROR(VLOOKUP(A454,'1.Портфель кредитів'!A:Z,7,FALSE),\"\")","v":""},{"$f":"IFERROR(VLOOKUP(A454,'1.Портфель кредитів'!A:Z,14,FALSE),\"\")","v":""}]
[null,{"$f":"IFERROR(VLOOKUP(A455,'1.Портфель кредитів'!A:Z,3,FALSE),\"\")","v":""},{"$f":"IFERROR(VLOOKUP(A455,'1.Портфель кредитів'!A:Z,7,FALSE),\"\")","v":""},{"$f":"IFERROR(VLOOKUP(A455,'1.Портфель кредитів'!A:Z,14,FALSE),\"\")","v":""}]
[null,{"$f":"IFERROR(VLOOKUP(A456,'1.Портфель кредитів'!A:Z,3,FALSE),\"\")","v":""},{"$f":"IFERROR(VLOOKUP(A456,'1.Портфель кредитів'!A:Z,7,FALSE),\"\")","v":""},{"$f":"IFERROR(VLOOKUP(A456,'1.Портфель кредитів'!A:Z,14,FALSE),\"\")","v":""}]
[null,{"$f":"IFERROR(VLOOKUP(A457,'1.Портфель кредитів'!A:Z,3,FALSE),\"\")","v":""},{"$f":"IFERROR(VLOOKUP(A457,'1.Портфель кредитів'!A:Z,7,FALSE),\"\")","v":""},{"$f":"IFERROR(VLOOKUP(A457,'1.Портфель кредитів'!A:Z,14,FALSE),\"\")","v":""}]
[null,{"$f":"IFERROR(VLOOKUP(A458,'1.Портфель кредитів'!A:Z,3,FALSE),\"\")","v":""},{"$f":"IFERROR(VLOOKUP(A458,'1.Портфель кредитів'!A:Z,7,FALSE),\"\")","v":""},{"$f":"IFERROR(VLOOKUP(A458,'1.Портфель кредитів'!A:Z,14,FALSE),\"\")","v":""}]
[null,{"$f":"IFERROR(VLOOKUP(A459,'1.Портфель кредитів'!A:Z,3,FALSE),\"\")","v":""},{"$f":"IFERROR(VLOOKUP(A459,'1.Портфель кредитів'!A:Z,7,FALSE),\"\")","v":""},{"$f":"IFERROR(VLOOKUP(A459,'1.Портфель кредитів'!A:Z,14,FALSE),\"\")","v":""}]
[null,{"$f":"IFERROR(VLOOKUP(A460,'1.Портфель кредитів'!A:Z,3,FALSE),\"\")","v":""},{"$f":"IFERROR(VLOOKUP(A460,'1.Портфель кредитів'!A:Z,7,FALSE),\"\")","v":""},{"$f":"IFERROR(VLOOKUP(A460,'1.Портфель кредитів'!A:Z,14,FALSE),\"\")","v":""}]
[null,{"$f":"IFERROR(VLOOKUP(A461,'1.Портфель кредитів'!A:Z,3,FALSE),\"\")","v":""},{"$f":"IFERROR(VLOOKUP(A461,'1.Портфель кредитів'!A:Z,7,FALSE),\"\")","v":""},{"$f":"IFERROR(VLOOKUP(A461,'1.Портфель кредитів'!A:Z,14,FALSE),\"\")","v":""}]
[null,{"$f":"IFERROR(VLOOKUP(A462,'1.Портфель кредитів'!A:Z,3,FALSE),\"\")","v":""},{"$f":"IFERROR(VLOOKUP(A462,'1.Портфель кредитів'!A:Z,7,FALSE),\"\")","v":""},{"$f":"IFERROR(VLOOKUP(A462,'1.Портфель кредитів'!A:Z,14,FALSE),\"\")","v":""}]
[null,{"$f":"IFERROR(VLOOKUP(A463,'1.Портфель кредитів'!A:Z,3,FALSE),\"\")","v":""},{"$f":"IFERROR(VLOOKUP(A463,'1.Портфель кредитів'!A:Z,7,FALSE),\"\")","v":""},{"$f":"IFERROR(VLOOKUP(A463,'1.Портфель кредитів'!A:Z,14,FALSE),\"\")","v":""}]
[null,{"$f":"IFERROR(VLOOKUP(A464,'1.Портфель кредитів'!A:Z,3,FALSE),\"\")","v":""},{"$f":"IFERROR(VLOOKUP(A464,'1.Портфель кредитів'!A:Z,7,FALSE),\"\")","v":""},{"$f":"IFERROR(VLOOKUP(A464,'1.Портфель кредитів'!A:Z,14,FALSE),\"\")","v":""}]
[null,{"$f":"IFERROR(VLOOKUP(A465,'1.Портфель кредитів'!A:Z,3,FALSE),\"\")","v":""},{"$f":"IFERROR(VLOOKUP(A465,'1.Портфель кредитів'!A:Z,7,FALSE),\"\")","v":""},{"$f":"IFERROR(VLOOKUP(A465,'1.Портфель кредитів'!A:Z,14,FALSE),\"\")","v":""}]
[null,{"$f":"IFERROR(VLOOKUP(A466,'1.Портфель кредитів'!A:Z,3,FALSE),\"\")","v":""},{"$f":"IFERROR(VLOOKUP(A466,'1.Портфель кредитів'!A:Z,7,FALSE),\"\")","v":""},{"$f":"IFERROR(VLOOKUP(A466,'1.Портфель кредитів'!A:Z,14,FALSE),\"\")","v":""}]
[null,{"$f":"IFERROR(VLOOKUP(A467,'1.Портфель кредитів'!A:Z,3,FALSE),\"\")","v":""},{"$f":"IFERROR(VLOOKUP(A467,'1.Портфель кредитів'!A:Z,7,FALSE),\"\")","v":""},{"$f":"IFERROR(VLOOKUP(A467,'1.Портфель кредитів'!A:Z,14,FALSE),\"\")","v":""}]
[null,{"$f":"IFERROR(VLOOKUP(A468,'1.Портфель кредитів'!A:Z,3,FALSE),\"\")","v":""},{"$f":"IFERROR(VLOOKUP(A468,'1.Портфель кредитів'!A:Z,7,FALSE),\"\")","v":""},{"$f":"IFERROR(VLOOKUP(A468,'1.Портфель кредитів'!A:Z,14,FALSE),\"\")","v":""}]
[null,{"$f":"IFERROR(VLOOKUP(A469,'1.Портфель кредитів'!A:Z,3,FALSE),\"\")","v":""},{"$f":"IFERROR(VLOOKUP(A469,'1.Портфель кредитів'!A:Z,7,FALSE),\"\")","v":""},{"$f":"IFERROR(VLOOKUP(A469,'1.Портфель кредитів'!A:Z,14,FALSE),\"\")","v":""}]
[null,{"$f":"IFERROR(VLOOKUP(A470,'1.Портфель кредитів'!A:Z,3,FALSE),\"\")","v":""},{"$f":"IFERROR(VLOOKUP(A470,'1.Портфель кредитів'!A:Z,7,FALSE),\"\")","v":""},{"$f":"IFERROR(VLOOKUP(A470,'1.Портфель кредитів'!A:Z,14,FALSE),\"\")","v":""}]
[null,{"$f":"IFERROR(VLOOKUP(A471,'1.Портфель кредитів'!A:Z,3,FALSE),\"\")","v":""},{"$f":"IFERROR(VLOOKUP(A471,'1.Портфель кредитів'!A:Z,7,FALSE),\"\")","v":""},{"$f":"IFERROR(VLOOKUP(A471,'1.Портфель кредитів'!A:Z,14,FALSE),\"\")","v":""}]
[null,{"$f":"IFERROR(VLOOKUP(A472,'1.Портфель кредитів'!A:Z,3,FALSE),\"\")","v":""},{"$f":"IFERROR(VLOOKUP(A472,'1.Портфель кредитів'!A:Z,7,FALSE),\"\")","v":""},{"$f":"IFERROR(VLOOKUP(A472,'1.Портфель кредитів'!A:Z,14,FALSE),\"\")","v":""}]
[null,{"$f":"IFERROR(VLOOKUP(A473,'1.Портфель кредитів'!A:Z,3,FALSE),\"\")","v":""},{"$f":"IFERROR(VLOOKUP(A473,'1.Портфель кредитів'!A:Z,7,FALSE),\"\")","v":""},{"$f":"IFERROR(VLOOKUP(A473,'1.Портфель кредитів'!A:Z,14,FALSE),\"\")","v":""}]
[null,{"$f":"IFERROR(VLOOKUP(A474,'1.Портфель кредитів'!A:Z,3,FALSE),\"\")","v":""},{"$f":"IFERROR(VLOOKUP(A474,'1.Портфель кредитів'!A:Z,7,FALSE),\"\")","v":""},{"$f":"IFERROR(VLOOKUP(A474,'1.Портфель кредитів'!A:Z,14,FALSE),\"\")","v":""}]
[null,{"$f":"IFERROR(VLOOKUP(A475,'1.Портфель кредитів'!A:Z,3,FALSE),\"\")","v":""},{"$f":"IFERROR(VLOOKUP(A475,'1.Портфель кредитів'!A:Z,7,FALSE),\"\")","v":""},{"$f":"IFERROR(VLOOKUP(A475,'1.Портфель кредитів'!A:Z,14,FALSE),\"\")","v":""}]
[null,{"$f":"IFERROR(VLOOKUP(A476,'1.Портфель кредитів'!A:Z,3,FALSE),\"\")","v":""},{"$f":"IFERROR(VLOOKUP(A476,'1.Портфель кредитів'!A:Z,7,FALSE),\"\")","v":""},{"$f":"IFERROR(VLOOKUP(A476,'1.Портфель кредитів'!A:Z,14,FALSE),\"\")","v":""}]
[null,{"$f":"IFERROR(VLOOKUP(A477,'1.Портфель кредитів'!A:Z,3,FALSE),\"\")","v":""},{"$f":"IFERROR(VLOOKUP(A477,'1.Портфель кредитів'!A:Z,7,FALSE),\"\")","v":""},{"$f":"IFERROR(VLOOKUP(A477,'1.Портфель кредитів'!A:Z,14,FALSE),\"\")","v":""}]
[null,{"$f":"IFERROR(VLOOKUP(A478,'1.Портфель кредитів'!A:Z,3,FALSE),\"\")","v":""},{"$f":"IFERROR(VLOOKUP(A478,'1.Портфель кредитів'!A:Z,7,FALSE),\"\")","v":""},{"$f":"IFERROR(VLOOKUP(A478,'1.Портфель кредитів'!A:Z,14,FALSE),\"\")","v":""}]
[null,{"$f":"IFERROR(VLOOKUP(A479,'1.Портфель кредитів'!A:Z,3,FALSE),\"\")","v":""},{"$f":"IFERROR(VLOOKUP(A479,'1.Портфель кредитів'!A:Z,7,FALSE),\"\")","v":""},{"$f":"IFERROR(VLOOKUP(A479,'1.Портфель кредитів'!A:Z,14,FALSE),\"\")","v":""}]
[null,{"$f":"IFERROR(VLOOKUP(A480,'1.Портфель кредитів'!A:Z,3,FALSE),\"\")","v":""},{"$f":"IFERROR(VLOOKUP(A480,'1.Портфель кредитів'!A:Z,7,FALSE),\"\")","v":""},{"$f":"IFERROR(VLOOKUP(A480,'1.Портфель кредитів'!A:Z,14,FALSE),\"\")","v":""}]
[null,{"$f":"IFERROR(VLOOKUP(A481,'1.Портфель кредитів'!A:Z,3,FALSE),\"\")","v":""},{"$f":"IFERROR(VLOOKUP(A481,'1.Портфель кредитів'!A:Z,7,FALSE),\"\")","v":""},{"$f":"IFERROR(VLOOKUP(A481,'1.Портфель кредитів'!A:Z,14,FALSE),\"\")","v":""}]
[null,{"$f":"IFERROR(VLOOKUP(A482,'1.Портфель кредитів'!A:Z,3,FALSE),\"\")","v":""},{"$f":"IFERROR(VLOOKUP(A482,'1.Портфель кредитів'!A:Z,7,FALSE),\"\")","v":""},{"$f":"IFERROR(VLOOKUP(A482,'1.Портфель кредитів'!A:Z,14,FALSE),\"\")","v":""}]
[null,{"$f":"IFERROR(VLOOKUP(A483,'1.Портфель кредитів'!A:Z,3,FALSE),\"\")","v":""},{"$f":"IFERROR(VLOOKUP(A483,'1.Портфель кредитів'!A:Z,7,FALSE),\"\")","v":""},{"$f":"IFERROR(VLOOKUP(A483,'1.Портфель кредитів'!A:Z,14,FALSE),\"\")","v":""}]
[null,{"$f":"IFERROR(VLOOKUP(A484,'1.Портфель кредитів'!A:Z,3,FALSE),\"\")","v":""},{"$f":"IFERROR(VLOOKUP(A484,'1.Портфель кредитів'!A:Z,7,FALSE),\"\")","v":""},{"$f":"IFERROR(VLOOKUP(A484,'1.Портфель кредитів'!A:Z,14,FALSE),\"\")","v":""}]
[null,{"$f":"IFERROR(VLOOKUP(A485,'1.Портфель кредитів'!A:Z,3,FALSE),\"\")","v":""},{"$f":"IFERROR(VLOOKUP(A485,'1.Портфель кредитів'!A:Z,7,FALSE),\"\")","v":""},{"$f":"IFERROR(VLOOKUP(A485,'1.Портфель кредитів'!A:Z,14,FALSE),\"\")","v":""}]
[null,{"$f":"IFERROR(VLOOKUP(A486,'1.Портфель кредитів'!A:Z,3,FALSE),\"\")","v":""},{"$f":"IFERROR(VLOOKUP(A486,'1.Портфель кредитів'!A:Z,7,FALSE),\"\")","v":""},{"$f":"IFERROR(VLOOKUP(A486,'1.Портфель кредитів'!A:Z,14,FALSE),\"\")","v":""}]
[null,{"$f":"IFERROR(VLOOKUP(A487,'1.Портфель кредитів'!A:Z,3,FALSE),\"\")","v":""},{"$f":"IFERROR(VLOOKUP(A487,'1.Портфель кредитів'!A:Z,7,FALSE),\"\")","v":""},{"$f":"IFERROR(VLOOKUP(A487,'1.Портфель кредитів'!A:Z,14,FALSE),\"\")","v":""}]
[null,{"$f":"IFERROR(VLOOKUP(A488,'1.Портфель кредитів'!A:Z,3,FALSE),\"\")","v":""},{"$f":"IFERROR(VLOOKUP(A488,'1.Портфель кредитів'!A:Z,7,FALSE),\"\")","v":""},{"$f":"IFERROR(VLOOKUP(A488,'1.Портфель кредитів'!A:Z,14,FALSE),\"\")","v":""}]
[null,{"$f":"IFERROR(VLOOKUP(A489,'1.Портфель кредитів'!A:Z,3,FALSE),\"\")","v":""},{"$f":"IFERROR(VLOOKUP(A489,'1.Портфель кредитів'!A:Z,7,FALSE),\"\")","v":""},{"$f":"IFERROR(VLOOKUP(A489,'1.Портфель кредитів'!A:Z,14,FALSE),\"\")","v":""}]
[null,{"$f":"IFERROR(VLOOKUP(A490,'1.Портфель кредитів'!A:Z,3,FALSE),\"\")","v":""},{"$f":"IFERROR(VLOOKUP(A490,'1.Портфель кредитів'!A:Z,7,FALSE),\"\")","v":""},{"$f":"IFERROR(VLOOKUP(A490,'1.Портфель кредитів'!A:Z,14,FALSE),\"\")","v":""}]
[null,{"$f":"IFERROR(VLOOKUP(A491,'1.Портфель кредитів'!A:Z,3,FALSE),\"\")","v":""},{"$f":"IFERROR(VLOOKUP(A491,'1.Портфель кредитів'!A:Z,7,FALSE),\"\")","v":""},{"$f":"IFERROR(VLOOKUP(A491,'1.Портфель кредитів'!A:Z,14,FALSE),\"\")","v":""}]
[null,{"$f":"IFERROR(VLOOKUP(A492,'1.Портфель кредитів'!A:Z,3,FALSE),\"\")","v":""},{"$f":"IFERROR(VLOOKUP(A492,'1.Портфель кредитів'!A:Z,7,FALSE),\"\")","v":""},{"$f":"IFERROR(VLOOKUP(A492,'1.Портфель кредитів'!A:Z,14,FALSE),\"\")","v":""}]
[null,{"$f":"IFERROR(VLOOKUP(A493,'1.Портфель кредитів'!A:Z,3,FALSE),\"\")","v":""},{"$f":"IFERROR(VLOOKUP(A493,'1.Портфель кредитів'!A:Z,7,FALSE),\"\")","v":""},{"$f":"IFERROR(VLOOKUP(A493,'1.Портфель кредитів'!A:Z,14,FALSE),\"\")","v":""}]
[null,{"$f":"IFERROR(VLOOKUP(A494,'1.Портфель кредитів'!A:Z,3,FALSE),\"\")","v":""},{"$f":"IFERROR(VLOOKUP(A494,'1.Портфель кредитів'!A:Z,7,FALSE),\"\")","v":""},{"$f":"IFERROR(VLOOKUP(A494,'1.Портфель кредитів'!A:Z,14,FALSE),\"\")","v":""}]
[null,{"$f":"IFERROR(VLOOKUP(A495,'1.Портфель кредитів'!A:Z,3,FALSE),\"\")","v":""},{"$f":"IFERROR(VLOOKUP(A495,'1.Портфель кредитів'!A:Z,7,FALSE),\"\")","v":""},{"$f":"IFERROR(VLOOKUP(A495,'1.Портфель кредитів'!A:Z,14,FALSE),\"\")","v":""}]
[null,{"$f":"IFERROR(VLOOKUP(A496,'1.Портфель кредитів'!A:Z,3,FALSE),\"\")","v":""},{"$f":"IFERROR(VLOOKUP(A496,'1.Портфель кредитів'!A:Z,7,FALSE),\"\")","v":""},{"$f":"IFERROR(VLOOKUP(A496,'1.Портфель кредитів'!A:Z,14,FALSE),\"\")","v":""}]
[null,{"$f":"IFERROR(VLOOKUP(A497,'1.Портфель кредитів'!A:Z,3,FALSE),\"\")","v":""},{"$f":"IFERROR(VLOOKUP(A497,'1.Портфель кредитів'!A:Z,7,FALSE),\"\")","v":""},{"$f":"IFERROR(VLOOKUP(A497,'1.Портфель кредитів'!A:Z,14,FALSE),\"\")","v":""}]
[null,{"$f":"IFERROR(VLOOKUP(A498,'1.Портфель кредитів'!A:Z,3,FALSE),\"\")","v":""},{"$f":"IFERROR(VLOOKUP(A498,'1.Портфель кредитів'!A:Z,7,FALSE),\"\")","v":""},{"$f":"IFERROR(VLOOKUP(A498,'1.Портфель кредитів'!A:Z,14,FALSE),\"\")","v":""}]
[null,{"$f":"IFERROR(VLOOKUP(A499,'1.Портфель кредитів'!A:Z,3,FALSE),\"\")","v":""},{"$f":"IFERROR(VLOOKUP(A499,'1.Портфель кредитів'!A:Z,7,FALSE),\"\")","v":""},{"$f":"IFERROR(VLOOKUP(A499,'1.Портфель кредитів'!A:Z,14,FALSE),\"\")","v":""}]
[null,{"$f":"IFERROR(VLOOKUP(A500,'1.Портфель кредитів'!A:Z,3,FALSE),\"\")","v":""},{"$f":"IFERROR(VLOOKUP(A500,'1.Портфель кредитів'!A:Z,7,FALSE),\"\")","v":""},{"$f":"IFERROR(VLOOKUP(A500,'1.Портфель кредитів'!A:Z,14,FALSE),\"\")","v":""}]
[null,{"$f":"IFERROR(VLOOKUP(A501,'1.Портфель кредитів'!A:Z,3,FALSE),\"\")","v":""},{"$f":"IFERROR(VLOOKUP(A501,'1.Портфель кредитів'!A:Z,7,FALSE),\"\")","v":""},{"$f":"IFERROR(VLOOKUP(A501,'1.Портфель кредитів'!A:Z,14,FALSE),\"\")","v":""}]
[null,{"$f":"IFERROR(VLOOKUP(A502,'1.Портфель кредитів'!A:Z,3,FALSE),\"\")","v":""},{"$f":"IFERROR(VLOOKUP(A502,'1.Портфель кредитів'!A:Z,7,FALSE),\"\")","v":""},{"$f":"IFERROR(VLOOKUP(A502,'1.Портфель кредитів'!A:Z,14,FALSE),\"\")","v":""}]
[null,{"$f":"IFERROR(VLOOKUP(A503,'1.Портфель кредитів'!A:Z,3,FALSE),\"\")","v":""},{"$f":"IFERROR(VLOOKUP(A503,'1.Портфель кредитів'!A:Z,7,FALSE),\"\")","v":""},{"$f":"IFERROR(VLOOKUP(A503,'1.Портфель кредитів'!A:Z,14,FALSE),\"\")","v":""}]
[null,{"$f":"IFERROR(VLOOKUP(A504,'1.Портфель кредитів'!A:Z,3,FALSE),\"\")","v":""},{"$f":"IFERROR(VLOOKUP(A504,'1.Портфель кредитів'!A:Z,7,FALSE),\"\")","v":""},{"$f":"IFERROR(VLOOKUP(A504,'1.Портфель кредитів'!A:Z,14,FALSE),\"\")","v":""}]
[null,{"$f":"IFERROR(VLOOKUP(A505,'1.Портфель кредитів'!A:Z,3,FALSE),\"\")","v":""},{"$f":"IFERROR(VLOOKUP(A505,'1.Портфель кредитів'!A:Z,7,FALSE),\"\")","v":""},{"$f":"IFERROR(VLOOKUP(A505,'1.Портфель кредитів'!A:Z,14,FALSE),\"\")","v":""}]
[null,{"$f":"IFERROR(VLOOKUP(A506,'1.Портфель кредитів'!A:Z,3,FALSE),\"\")","v":""},{"$f":"IFERROR(VLOOKUP(A506,'1.Портфель кредитів'!A:Z,7,FALSE),\"\")","v":""},{"$f":"IFERROR(VLOOKUP(A506,'1.Портфель кредитів'!A:Z,14,FALSE),\"\")","v":""}]
[null,{"$f":"IFERROR(VLOOKUP(A507,'1.Портфель кредитів'!A:Z,3,FALSE),\"\")","v":""},{"$f":"IFERROR(VLOOKUP(A507,'1.Портфель кредитів'!A:Z,7,FALSE),\"\")","v":""},{"$f":"IFERROR(VLOOKUP(A507,'1.Портфель кредитів'!A:Z,14,FALSE),\"\")","v":""}]
[null,{"$f":"IFERROR(VLOOKUP(A508,'1.Портфель кредитів'!A:Z,3,FALSE),\"\")","v":""},{"$f":"IFERROR(VLOOKUP(A508,'1.Портфель кредитів'!A:Z,7,FALSE),\"\")","v":""},{"$f":"IFERROR(VLOOKUP(A508,'1.Портфель кредитів'!A:Z,14,FALSE),\"\")","v":""}]
[null,{"$f":"IFERROR(VLOOKUP(A509,'1.Портфель кредитів'!A:Z,3,FALSE),\"\")","v":""},{"$f":"IFERROR(VLOOKUP(A509,'1.Портфель кредитів'!A:Z,7,FALSE),\"\")","v":""},{"$f":"IFERROR(VLOOKUP(A509,'1.Портфель кредитів'!A:Z,14,FALSE),\"\")","v":""}]
[null,{"$f":"IFERROR(VLOOKUP(A510,'1.Портфель кредитів'!A:Z,3,FALSE),\"\")","v":""},{"$f":"IFERROR(VLOOKUP(A510,'1.Портфель кредитів'!A:Z,7,FALSE),\"\")","v":""},{"$f":"IFERROR(VLOOKUP(A510,'1.Портфель кредитів'!A:Z,14,FALSE),\"\")","v":""}]
[null,{"$f":"IFERROR(VLOOKUP(A511,'1.Портфель кредитів'!A:Z,3,FALSE),\"\")","v":""},{"$f":"IFERROR(VLOOKUP(A511,'1.Портфель кредитів'!A:Z,7,FALSE),\"\")","v":""},{"$f":"IFERROR(VLOOKUP(A511,'1.Портфель кредитів'!A:Z,14,FALSE),\"\")","v":""}]
[null,{"$f":"IFERROR(VLOOKUP(A512,'1.Портфель кредитів'!A:Z,3,FALSE),\"\")","v":""},{"$f":"IFERROR(VLOOKUP(A512,'1.Портфель кредитів'!A:Z,7,FALSE),\"\")","v":""},{"$f":"IFERROR(VLOOKUP(A512,'1.Портфель кредитів'!A:Z,14,FALSE),\"\")","v":""}]
[null,{"$f":"IFERROR(VLOOKUP(A513,'1.Портфель кредитів'!A:Z,3,FALSE),\"\")","v":""},{"$f":"IFERROR(VLOOKUP(A513,'1.Портфель кредитів'!A:Z,7,FALSE),\"\")","v":""},{"$f":"IFERROR(VLOOKUP(A513,'1.Портфель кредитів'!A:Z,14,FALSE),\"\")","v":""}]
[null,{"$f":"IFERROR(VLOOKUP(A514,'1.Портфель кредитів'!A:Z,3,FALSE),\"\")","v":""},{"$f":"IFERROR(VLOOKUP(A514,'1.Портфель кредитів'!A:Z,7,FALSE),\"\")","v":""},{"$f":"IFERROR(VLOOKUP(A514,'1.Портфель кредитів'!A:Z,14,FALSE),\"\")","v":""}]
[null,{"$f":"IFERROR(VLOOKUP(A515,'1.Портфель кредитів'!A:Z,3,FALSE),\"\")","v":""},{"$f":"IFERROR(VLOOKUP(A515,'1.Портфель кредитів'!A:Z,7,FALSE),\"\")","v":""},{"$f":"IFERROR(VLOOKUP(A515,'1.Портфель кредитів'!A:Z,14,FALSE),\"\")","v":""}]
[null,{"$f":"IFERROR(VLOOKUP(A516,'1.Портфель кредитів'!A:Z,3,FALSE),\"\")","v":""},{"$f":"IFERROR(VLOOKUP(A516,'1.Портфель кредитів'!A:Z,7,FALSE),\"\")","v":""},{"$f":"IFERROR(VLOOKUP(A516,'1.Портфель кредитів'!A:Z,14,FALSE),\"\")","v":""}]
[null,{"$f":"IFERROR(VLOOKUP(A517,'1.Портфель кредитів'!A:Z,3,FALSE),\"\")","v":""},{"$f":"IFERROR(VLOOKUP(A517,'1.Портфель кредитів'!A:Z,7,FALSE),\"\")","v":""},{"$f":"IFERROR(VLOOKUP(A517,'1.Портфель кредитів'!A:Z,14,FALSE),\"\")","v":""}]
[null,{"$f":"IFERROR(VLOOKUP(A518,'1.Портфель кредитів'!A:Z,3,FALSE),\"\")","v":""},{"$f":"IFERROR(VLOOKUP(A518,'1.Портфель кредитів'!A:Z,7,FALSE),\"\")","v":""},{"$f":"IFERROR(VLOOKUP(A518,'1.Портфель кредитів'!A:Z,14,FALSE),\"\")","v":""}]
[null,{"$f":"IFERROR(VLOOKUP(A519,'1.Портфель кредитів'!A:Z,3,FALSE),\"\")","v":""},{"$f":"IFERROR(VLOOKUP(A519,'1.Портфель кредитів'!A:Z,7,FALSE),\"\")","v":""},{"$f":"IFERROR(VLOOKUP(A519,'1.Портфель кредитів'!A:Z,14,FALSE),\"\")","v":""}]
[null,{"$f":"IFERROR(VLOOKUP(A520,'1.Портфель кредитів'!A:Z,3,FALSE),\"\")","v":""},{"$f":"IFERROR(VLOOKUP(A520,'1.Портфель кредитів'!A:Z,7,FALSE),\"\")","v":""},{"$f":"IFERROR(VLOOKUP(A520,'1.Портфель кредитів'!A:Z,14,FALSE),\"\")","v":""}]
[null,{"$f":"IFERROR(VLOOKUP(A521,'1.Портфель кредитів'!A:Z,3,FALSE),\"\")","v":""},{"$f":"IFERROR(VLOOKUP(A521,'1.Портфель кредитів'!A:Z,7,FALSE),\"\")","v":""},{"$f":"IFERROR(VLOOKUP(A521,'1.Портфель кредитів'!A:Z,14,FALSE),\"\")","v":""}]
[null,{"$f":"IFERROR(VLOOKUP(A522,'1.Портфель кредитів'!A:Z,3,FALSE),\"\")","v":""},{"$f":"IFERROR(VLOOKUP(A522,'1.Портфель кредитів'!A:Z,7,FALSE),\"\")","v":""},{"$f":"IFERROR(VLOOKUP(A522,'1.Портфель кредитів'!A:Z,14,FALSE),\"\")","v":""}]
[null,{"$f":"IFERROR(VLOOKUP(A523,'1.Портфель кредитів'!A:Z,3,FALSE),\"\")","v":""},{"$f":"IFERROR(VLOOKUP(A523,'1.Портфель кредитів'!A:Z,7,FALSE),\"\")","v":""},{"$f":"IFERROR(VLOOKUP(A523,'1.Портфель кредитів'!A:Z,14,FALSE),\"\")","v":""}]
[null,{"$f":"IFERROR(VLOOKUP(A524,'1.Портфель кредитів'!A:Z,3,FALSE),\"\")","v":""},{"$f":"IFERROR(VLOOKUP(A524,'1.Портфель кредитів'!A:Z,7,FALSE),\"\")","v":""},{"$f":"IFERROR(VLOOKUP(A524,'1.Портфель кредитів'!A:Z,14,FALSE),\"\")","v":""}]
[null,{"$f":"IFERROR(VLOOKUP(A525,'1.Портфель кредитів'!A:Z,3,FALSE),\"\")","v":""},{"$f":"IFERROR(VLOOKUP(A525,'1.Портфель кредитів'!A:Z,7,FALSE),\"\")","v":""},{"$f":"IFERROR(VLOOKUP(A525,'1.Портфель кредитів'!A:Z,14,FALSE),\"\")","v":""}]
[null,{"$f":"IFERROR(VLOOKUP(A526,'1.Портфель кредитів'!A:Z,3,FALSE),\"\")","v":""},{"$f":"IFERROR(VLOOKUP(A526,'1.Портфель кредитів'!A:Z,7,FALSE),\"\")","v":""},{"$f":"IFERROR(VLOOKUP(A526,'1.Портфель кредитів'!A:Z,14,FALSE),\"\")","v":""}]
[null,{"$f":"IFERROR(VLOOKUP(A527,'1.Портфель кредитів'!A:Z,3,FALSE),\"\")","v":""},{"$f":"IFERROR(VLOOKUP(A527,'1.Портфель кредитів'!A:Z,7,FALSE),\"\")","v":""},{"$f":"IFERROR(VLOOKUP(A527,'1.Портфель кредитів'!A:Z,14,FALSE),\"\")","v":""}]
[null,{"$f":"IFERROR(VLOOKUP(A528,'1.Портфель кредитів'!A:Z,3,FALSE),\"\")","v":""},{"$f":"IFERROR(VLOOKUP(A528,'1.Портфель кредитів'!A:Z,7,FALSE),\"\")","v":""},{"$f":"IFERROR(VLOOKUP(A528,'1.Портфель кредитів'!A:Z,14,FALSE),\"\")","v":""}]
[null,{"$f":"IFERROR(VLOOKUP(A529,'1.Портфель кредитів'!A:Z,3,FALSE),\"\")","v":""},{"$f":"IFERROR(VLOOKUP(A529,'1.Портфель кредитів'!A:Z,7,FALSE),\"\")","v":""},{"$f":"IFERROR(VLOOKUP(A529,'1.Портфель кредитів'!A:Z,14,FALSE),\"\")","v":""}]
[null,{"$f":"IFERROR(VLOOKUP(A530,'1.Портфель кредитів'!A:Z,3,FALSE),\"\")","v":""},{"$f":"IFERROR(VLOOKUP(A530,'1.Портфель кредитів'!A:Z,7,FALSE),\"\")","v":""},{"$f":"IFERROR(VLOOKUP(A530,'1.Портфель кредитів'!A:Z,14,FALSE),\"\")","v":""}]
[null,{"$f":"IFERROR(VLOOKUP(A531,'1.Портфель кредитів'!A:Z,3,FALSE),\"\")","v":""},{"$f":"IFERROR(VLOOKUP(A531,'1.Портфель кредитів'!A:Z,7,FALSE),\"\")","v":""},{"$f":"IFERROR(VLOOKUP(A531,'1.Портфель кредитів'!A:Z,14,FALSE),\"\")","v":""}]
[null,{"$f":"IFERROR(VLOOKUP(A532,'1.Портфель кредитів'!A:Z,3,FALSE),\"\")","v":""},{"$f":"IFERROR(VLOOKUP(A532,'1.Портфель кредитів'!A:Z,7,FALSE),\"\")","v":""},{"$f":"IFERROR(VLOOKUP(A532,'1.Портфель кредитів'!A:Z,14,FALSE),\"\")","v":""}]
[null,{"$f":"IFERROR(VLOOKUP(A533,'1.Портфель кредитів'!A:Z,3,FALSE),\"\")","v":""},{"$f":"IFERROR(VLOOKUP(A533,'1.Портфель кредитів'!A:Z,7,FALSE),\"\")","v":""},{"$f":"IFERROR(VLOOKUP(A533,'1.Портфель кредитів'!A:Z,14,FALSE),\"\")","v":""}]
[null,{"$f":"IFERROR(VLOOKUP(A534,'1.Портфель кредитів'!A:Z,3,FALSE),\"\")","v":""},{"$f":"IFERROR(VLOOKUP(A534,'1.Портфель кредитів'!A:Z,7,FALSE),\"\")","v":""},{"$f":"IFERROR(VLOOKUP(A534,'1.Портфель кредитів'!A:Z,14,FALSE),\"\")","v":""}]
[null,{"$f":"IFERROR(VLOOKUP(A535,'1.Портфель кредитів'!A:Z,3,FALSE),\"\")","v":""},{"$f":"IFERROR(VLOOKUP(A535,'1.Портфель кредитів'!A:Z,7,FALSE),\"\")","v":""},{"$f":"IFERROR(VLOOKUP(A535,'1.Портфель кредитів'!A:Z,14,FALSE),\"\")","v":""}]
[null,{"$f":"IFERROR(VLOOKUP(A536,'1.Портфель кредитів'!A:Z,3,FALSE),\"\")","v":""},{"$f":"IFERROR(VLOOKUP(A536,'1.Портфель кредитів'!A:Z,7,FALSE),\"\")","v":""},{"$f":"IFERROR(VLOOKUP(A536,'1.Портфель кредитів'!A:Z,14,FALSE),\"\")","v":""}]
[null,{"$f":"IFERROR(VLOOKUP(A537,'1.Портфель кредитів'!A:Z,3,FALSE),\"\")","v":""},{"$f":"IFERROR(VLOOKUP(A537,'1.Портфель кредитів'!A:Z,7,FALSE),\"\")","v":""},{"$f":"IFERROR(VLOOKUP(A537,'1.Портфель кредитів'!A:Z,14,FALSE),\"\")","v":""}]
[null,{"$f":"IFERROR(VLOOKUP(A538,'1.Портфель кредитів'!A:Z,3,FALSE),\"\")","v":""},{"$f":"IFERROR(VLOOKUP(A538,'1.Портфель кредитів'!A:Z,7,FALSE),\"\")","v":""},{"$f":"IFERROR(VLOOKUP(A538,'1.Портфель кредитів'!A:Z,14,FALSE),\"\")","v":""}]
[null,{"$f":"IFERROR(VLOOKUP(A539,'1.Портфель кредитів'!A:Z,3,FALSE),\"\")","v":""},{"$f":"IFERROR(VLOOKUP(A539,'1.Портфель кредитів'!A:Z,7,FALSE),\"\")","v":""},{"$f":"IFERROR(VLOOKUP(A539,'1.Портфель кредитів'!A:Z,14,FALSE),\"\")","v":""}]
[null,{"$f":"IFERROR(VLOOKUP(A540,'1.Портфель кредитів'!A:Z,3,FALSE),\"\")","v":""},{"$f":"IFERROR(VLOOKUP(A540,'1.Портфель кредитів'!A:Z,7,FALSE),\"\")","v":""},{"$f":"IFERROR(VLOOKUP(A540,'1.Портфель кредитів'!A:Z,14,FALSE),\"\")","v":""}]
[null,{"$f":"IFERROR(VLOOKUP(A541,'1.Портфель кредитів'!A:Z,3,FALSE),\"\")","v":""},{"$f":"IFERROR(VLOOKUP(A541,'1.Портфель кредитів'!A:Z,7,FALSE),\"\")","v":""},{"$f":"IFERROR(VLOOKUP(A541,'1.Портфель кредитів'!A:Z,14,FALSE),\"\")","v":""}]
[null,{"$f":"IFERROR(VLOOKUP(A542,'1.Портфель кредитів'!A:Z,3,FALSE),\"\")","v":""},{"$f":"IFERROR(VLOOKUP(A542,'1.Портфель кредитів'!A:Z,7,FALSE),\"\")","v":""},{"$f":"IFERROR(VLOOKUP(A542,'1.Портфель кредитів'!A:Z,14,FALSE),\"\")","v":""}]
[null,{"$f":"IFERROR(VLOOKUP(A543,'1.Портфель кредитів'!A:Z,3,FALSE),\"\")","v":""},{"$f":"IFERROR(VLOOKUP(A543,'1.Портфель кредитів'!A:Z,7,FALSE),\"\")","v":""},{"$f":"IFERROR(VLOOKUP(A543,'1.Портфель кредитів'!A:Z,14,FALSE),\"\")","v":""}]
[null,{"$f":"IFERROR(VLOOKUP(A544,'1.Портфель кредитів'!A:Z,3,FALSE),\"\")","v":""},{"$f":"IFERROR(VLOOKUP(A544,'1.Портфель кредитів'!A:Z,7,FALSE),\"\")","v":""},{"$f":"IFERROR(VLOOKUP(A544,'1.Портфель кредитів'!A:Z,14,FALSE),\"\")","v":""}]
[null,{"$f":"IFERROR(VLOOKUP(A545,'1.Портфель кредитів'!A:Z,3,FALSE),\"\")","v":""},{"$f":"IFERROR(VLOOKUP(A545,'1.Портфель кредитів'!A:Z,7,FALSE),\"\")","v":""},{"$f":"IFERROR(VLOOKUP(A545,'1.Портфель кредитів'!A:Z,14,FALSE),\"\")","v":""}]
[null,{"$f":"IFERROR(VLOOKUP(A546,'1.Портфель кредитів'!A:Z,3,FALSE),\"\")","v":""},{"$f":"IFERROR(VLOOKUP(A546,'1.Портфель кредитів'!A:Z,7,FALSE),\"\")","v":""},{"$f":"IFERROR(VLOOKUP(A546,'1.Портфель кредитів'!A:Z,14,FALSE),\"\")","v":""}]
[null,{"$f":"IFERROR(VLOOKUP(A547,'1.Портфель кредитів'!A:Z,3,FALSE),\"\")","v":""},{"$f":"IFERROR(VLOOKUP(A547,'1.Портфель кредитів'!A:Z,7,FALSE),\"\")","v":""},{"$f":"IFERROR(VLOOKUP(A547,'1.Портфель кредитів'!A:Z,14,FALSE),\"\")","v":""}]
[null,{"$f":"IFERROR(VLOOKUP(A548,'1.Портфель кредитів'!A:Z,3,FALSE),\"\")","v":""},{"$f":"IFERROR(VLOOKUP(A548,'1.Портфель кредитів'!A:Z,7,FALSE),\"\")","v":""},{"$f":"IFERROR(VLOOKUP(A548,'1.Портфель кредитів'!A:Z,14,FALSE),\"\")","v":""}]
[null,{"$f":"IFERROR(VLOOKUP(A549,'1.Портфель кредитів'!A:Z,3,FALSE),\"\")","v":""},{"$f":"IFERROR(VLOOKUP(A549,'1.Портфель кредитів'!A:Z,7,FALSE),\"\")","v":""},{"$f":"IFERROR(VLOOKUP(A549,'1.Портфель кредитів'!A:Z,14,FALSE),\"\")","v":""}]
[null,{"$f":"IFERROR(VLOOKUP(A550,'1.Портфель кредитів'!A:Z,3,FALSE),\"\")","v":""},{"$f":"IFERROR(VLOOKUP(A550,'1.Портфель кредитів'!A:Z,7,FALSE),\"\")","v":""},{"$f":"IFERROR(VLOOKUP(A550,'1.Портфель кредитів'!A:Z,14,FALSE),\"\")","v":""}]
[null,{"$f":"IFERROR(VLOOKUP(A551,'1.Портфель кредитів'!A:Z,3,FALSE),\"\")","v":""},{"$f":"IFERROR(VLOOKUP(A551,'1.Портфель кредитів'!A:Z,7,FALSE),\"\")","v":""},{"$f":"IFERROR(VLOOKUP(A551,'1.Портфель кредитів'!A:Z,14,FALSE),\"\")","v":""}]
[null,{"$f":"IFERROR(VLOOKUP(A552,'1.Портфель кредитів'!A:Z,3,FALSE),\"\")","v":""},{"$f":"IFERROR(VLOOKUP(A552,'1.Портфель кредитів'!A:Z,7,FALSE),\"\")","v":""},{"$f":"IFERROR(VLOOKUP(A552,'1.Портфель кредитів'!A:Z,14,FALSE),\"\")","v":""}]
[null,{"$f":"IFERROR(VLOOKUP(A553,'1.Портфель кредитів'!A:Z,3,FALSE),\"\")","v":""},{"$f":"IFERROR(VLOOKUP(A553,'1.Портфель кредитів'!A:Z,7,FALSE),\"\")","v":""},{"$f":"IFERROR(VLOOKUP(A553,'1.Портфель кредитів'!A:Z,14,FALSE),\"\")","v":""}]
[null,{"$f":"IFERROR(VLOOKUP(A554,'1.Портфель кредитів'!A:Z,3,FALSE),\"\")","v":""},{"$f":"IFERROR(VLOOKUP(A554,'1.Портфель кредитів'!A:Z,7,FALSE),\"\")","v":""},{"$f":"IFERROR(VLOOKUP(A554,'1.Портфель кредитів'!A:Z,14,FALSE),\"\")","v":""}]
[null,{"$f":"IFERROR(VLOOKUP(A555,'1.Портфель кредитів'!A:Z,3,FALSE),\"\")","v":""},{"$f":"IFERROR(VLOOKUP(A555,'1.Портфель кредитів'!A:Z,7,FALSE),\"\")","v":""},{"$f":"IFERROR(VLOOKUP(A555,'1.Портфель кредитів'!A:Z,14,FALSE),\"\")","v":""}]
[null,{"$f":"IFERROR(VLOOKUP(A556,'1.Портфель кредитів'!A:Z,3,FALSE),\"\")","v":""},{"$f":"IFERROR(VLOOKUP(A556,'1.Портфель кредитів'!A:Z,7,FALSE),\"\")","v":""},{"$f":"IFERROR(VLOOKUP(A556,'1.Портфель кредитів'!A:Z,14,FALSE),\"\")","v":""}]
[null,{"$f":"IFERROR(VLOOKUP(A557,'1.Портфель кредитів'!A:Z,3,FALSE),\"\")","v":""},{"$f":"IFERROR(VLOOKUP(A557,'1.Портфель кредитів'!A:Z,7,FALSE),\"\")","v":""},{"$f":"IFERROR(VLOOKUP(A557,'1.Портфель кредитів'!A:Z,14,FALSE),\"\")","v":""}]
[null,{"$f":"IFERROR(VLOOKUP(A558,'1.Портфель кредитів'!A:Z,3,FALSE),\"\")","v":""},{"$f":"IFERROR(VLOOKUP(A558,'1.Портфель кредитів'!A:Z,7,FALSE),\"\")","v":""},{"$f":"IFERROR(VLOOKUP(A558,'1.Портфель кредитів'!A:Z,14,FALSE),\"\")","v":""}]
[null,{"$f":"IFERROR(VLOOKUP(A559,'1.Портфель кредитів'!A:Z,3,FALSE),\"\")","v":""},{"$f":"IFERROR(VLOOKUP(A559,'1.Портфель кредитів'!A:Z,7,FALSE),\"\")","v":""},{"$f":"IFERROR(VLOOKUP(A559,'1.Портфель кредитів'!A:Z,14,FALSE),\"\")","v":""}]
[null,{"$f":"IFERROR(VLOOKUP(A560,'1.Портфель кредитів'!A:Z,3,FALSE),\"\")","v":""},{"$f":"IFERROR(VLOOKUP(A560,'1.Портфель кредитів'!A:Z,7,FALSE),\"\")","v":""},{"$f":"IFERROR(VLOOKUP(A560,'1.Портфель кредитів'!A:Z,14,FALSE),\"\")","v":""}]
[null,{"$f":"IFERROR(VLOOKUP(A561,'1.Портфель кредитів'!A:Z,3,FALSE),\"\")","v":""},{"$f":"IFERROR(VLOOKUP(A561,'1.Портфель кредитів'!A:Z,7,FALSE),\"\")","v":""},{"$f":"IFERROR(VLOOKUP(A561,'1.Портфель кредитів'!A:Z,14,FALSE),\"\")","v":""}]
[null,{"$f":"IFERROR(VLOOKUP(A562,'1.Портфель кредитів'!A:Z,3,FALSE),\"\")","v":""},{"$f":"IFERROR(VLOOKUP(A562,'1.Портфель кредитів'!A:Z,7,FALSE),\"\")","v":""},{"$f":"IFERROR(VLOOKUP(A562,'1.Портфель кредитів'!A:Z,14,FALSE),\"\")","v":""}]
[null,{"$f":"IFERROR(VLOOKUP(A563,'1.Портфель кредитів'!A:Z,3,FALSE),\"\")","v":""},{"$f":"IFERROR(VLOOKUP(A563,'1.Портфель кредитів'!A:Z,7,FALSE),\"\")","v":""},{"$f":"IFERROR(VLOOKUP(A563,'1.Портфель кредитів'!A:Z,14,FALSE),\"\")","v":""}]
[null,{"$f":"IFERROR(VLOOKUP(A564,'1.Портфель кредитів'!A:Z,3,FALSE),\"\")","v":""},{"$f":"IFERROR(VLOOKUP(A564,'1.Портфель кредитів'!A:Z,7,FALSE),\"\")","v":""},{"$f":"IFERROR(VLOOKUP(A564,'1.Портфель кредитів'!A:Z,14,FALSE),\"\")","v":""}]
[null,{"$f":"IFERROR(VLOOKUP(A565,'1.Портфель кредитів'!A:Z,3,FALSE),\"\")","v":""},{"$f":"IFERROR(VLOOKUP(A565,'1.Портфель кредитів'!A:Z,7,FALSE),\"\")","v":""},{"$f":"IFERROR(VLOOKUP(A565,'1.Портфель кредитів'!A:Z,14,FALSE),\"\")","v":""}]
[null,{"$f":"IFERROR(VLOOKUP(A566,'1.Портфель кредитів'!A:Z,3,FALSE),\"\")","v":""},{"$f":"IFERROR(VLOOKUP(A566,'1.Портфель кредитів'!A:Z,7,FALSE),\"\")","v":""},{"$f":"IFERROR(VLOOKUP(A566,'1.Портфель кредитів'!A:Z,14,FALSE),\"\")","v":""}]
[null,{"$f":"IFERROR(VLOOKUP(A567,'1.Портфель кредитів'!A:Z,3,FALSE),\"\")","v":""},{"$f":"IFERROR(VLOOKUP(A567,'1.Портфель кредитів'!A:Z,7,FALSE),\"\")","v":""},{"$f":"IFERROR(VLOOKUP(A567,'1.Портфель кредитів'!A:Z,14,FALSE),\"\")","v":""}]
[null,{"$f":"IFERROR(VLOOKUP(A568,'1.Портфель кредитів'!A:Z,3,FALSE),\"\")","v":""},{"$f":"IFERROR(VLOOKUP(A568,'1.Портфель кредитів'!A:Z,7,FALSE),\"\")","v":""},{"$f":"IFERROR(VLOOKUP(A568,'1.Портфель кредитів'!A:Z,14,FALSE),\"\")","v":""}]
[null,{"$f":"IFERROR(VLOOKUP(A569,'1.Портфель кредитів'!A:Z,3,FALSE),\"\")","v":""},{"$f":"IFERROR(VLOOKUP(A569,'1.Портфель кредитів'!A:Z,7,FALSE),\"\")","v":""},{"$f":"IFERROR(VLOOKUP(A569,'1.Портфель кредитів'!A:Z,14,FALSE),\"\")","v":""}]
[null,{"$f":"IFERROR(VLOOKUP(A570,'1.Портфель кредитів'!A:Z,3,FALSE),\"\")","v":""},{"$f":"IFERROR(VLOOKUP(A570,'1.Портфель кредитів'!A:Z,7,FALSE),\"\")","v":""},{"$f":"IFERROR(VLOOKUP(A570,'1.Портфель кредитів'!A:Z,14,FALSE),\"\")","v":""}]
[null,{"$f":"IFERROR(VLOOKUP(A571,'1.Портфель кредитів'!A:Z,3,FALSE),\"\")","v":""},{"$f":"IFERROR(VLOOKUP(A571,'1.Портфель кредитів'!A:Z,7,FALSE),\"\")","v":""},{"$f":"IFERROR(VLOOKUP(A571,'1.Портфель кредитів'!A:Z,14,FALSE),\"\")","v":""}]
[null,{"$f":"IFERROR(VLOOKUP(A572,'1.Портфель кредитів'!A:Z,3,FALSE),\"\")","v":""},{"$f":"IFERROR(VLOOKUP(A572,'1.Портфель кредитів'!A:Z,7,FALSE),\"\")","v":""},{"$f":"IFERROR(VLOOKUP(A572,'1.Портфель кредитів'!A:Z,14,FALSE),\"\")","v":""}]
[null,{"$f":"IFERROR(VLOOKUP(A573,'1.Портфель кредитів'!A:Z,3,FALSE),\"\")","v":""},{"$f":"IFERROR(VLOOKUP(A573,'1.Портфель кредитів'!A:Z,7,FALSE),\"\")","v":""},{"$f":"IFERROR(VLOOKUP(A573,'1.Портфель кредитів'!A:Z,14,FALSE),\"\")","v":""}]
[null,{"$f":"IFERROR(VLOOKUP(A574,'1.Портфель кредитів'!A:Z,3,FALSE),\"\")","v":""},{"$f":"IFERROR(VLOOKUP(A574,'1.Портфель кредитів'!A:Z,7,FALSE),\"\")","v":""},{"$f":"IFERROR(VLOOKUP(A574,'1.Портфель кредитів'!A:Z,14,FALSE),\"\")","v":""}]
[null,{"$f":"IFERROR(VLOOKUP(A575,'1.Портфель кредитів'!A:Z,3,FALSE),\"\")","v":""},{"$f":"IFERROR(VLOOKUP(A575,'1.Портфель кредитів'!A:Z,7,FALSE),\"\")","v":""},{"$f":"IFERROR(VLOOKUP(A575,'1.Портфель кредитів'!A:Z,14,FALSE),\"\")","v":""}]
[null,{"$f":"IFERROR(VLOOKUP(A576,'1.Портфель кредитів'!A:Z,3,FALSE),\"\")","v":""},{"$f":"IFERROR(VLOOKUP(A576,'1.Портфель кредитів'!A:Z,7,FALSE),\"\")","v":""},{"$f":"IFERROR(VLOOKUP(A576,'1.Портфель кредитів'!A:Z,14,FALSE),\"\")","v":""}]
[null,{"$f":"IFERROR(VLOOKUP(A577,'1.Портфель кредитів'!A:Z,3,FALSE),\"\")","v":""},{"$f":"IFERROR(VLOOKUP(A577,'1.Портфель кредитів'!A:Z,7,FALSE),\"\")","v":""},{"$f":"IFERROR(VLOOKUP(A577,'1.Портфель кредитів'!A:Z,14,FALSE),\"\")","v":""}]
[null,{"$f":"IFERROR(VLOOKUP(A578,'1.Портфель кредитів'!A:Z,3,FALSE),\"\")","v":""},{"$f":"IFERROR(VLOOKUP(A578,'1.Портфель кредитів'!A:Z,7,FALSE),\"\")","v":""},{"$f":"IFERROR(VLOOKUP(A578,'1.Портфель кредитів'!A:Z,14,FALSE),\"\")","v":""}]
[null,{"$f":"IFERROR(VLOOKUP(A579,'1.Портфель кредитів'!A:Z,3,FALSE),\"\")","v":""},{"$f":"IFERROR(VLOOKUP(A579,'1.Портфель кредитів'!A:Z,7,FALSE),\"\")","v":""},{"$f":"IFERROR(VLOOKUP(A579,'1.Портфель кредитів'!A:Z,14,FALSE),\"\")","v":""}]
[null,{"$f":"IFERROR(VLOOKUP(A580,'1.Портфель кредитів'!A:Z,3,FALSE),\"\")","v":""},{"$f":"IFERROR(VLOOKUP(A580,'1.Портфель кредитів'!A:Z,7,FALSE),\"\")","v":""},{"$f":"IFERROR(VLOOKUP(A580,'1.Портфель кредитів'!A:Z,14,FALSE),\"\")","v":""}]
[null,{"$f":"IFERROR(VLOOKUP(A581,'1.Портфель кредитів'!A:Z,3,FALSE),\"\")","v":""},{"$f":"IFERROR(VLOOKUP(A581,'1.Портфель кредитів'!A:Z,7,FALSE),\"\")","v":""},{"$f":"IFERROR(VLOOKUP(A581,'1.Портфель кредитів'!A:Z,14,FALSE),\"\")","v":""}]
[null,{"$f":"IFERROR(VLOOKUP(A582,'1.Портфель кредитів'!A:Z,3,FALSE),\"\")","v":""},{"$f":"IFERROR(VLOOKUP(A582,'1.Портфель кредитів'!A:Z,7,FALSE),\"\")","v":""},{"$f":"IFERROR(VLOOKUP(A582,'1.Портфель кредитів'!A:Z,14,FALSE),\"\")","v":""}]
[null,{"$f":"IFERROR(VLOOKUP(A583,'1.Портфель кредитів'!A:Z,3,FALSE),\"\")","v":""},{"$f":"IFERROR(VLOOKUP(A583,'1.Портфель кредитів'!A:Z,7,FALSE),\"\")","v":""},{"$f":"IFERROR(VLOOKUP(A583,'1.Портфель кредитів'!A:Z,14,FALSE),\"\")","v":""}]
[null,{"$f":"IFERROR(VLOOKUP(A584,'1.Портфель кредитів'!A:Z,3,FALSE),\"\")","v":""},{"$f":"IFERROR(VLOOKUP(A584,'1.Портфель кредитів'!A:Z,7,FALSE),\"\")","v":""},{"$f":"IFERROR(VLOOKUP(A584,'1.Портфель кредитів'!A:Z,14,FALSE),\"\")","v":""}]
[null,{"$f":"IFERROR(VLOOKUP(A585,'1.Портфель кредитів'!A:Z,3,FALSE),\"\")","v":""},{"$f":"IFERROR(VLOOKUP(A585,'1.Портфель кредитів'!A:Z,7,FALSE),\"\")","v":""},{"$f":"IFERROR(VLOOKUP(A585,'1.Портфель кредитів'!A:Z,14,FALSE),\"\")","v":""}]
[null,{"$f":"IFERROR(VLOOKUP(A586,'1.Портфель кредитів'!A:Z,3,FALSE),\"\")","v":""},{"$f":"IFERROR(VLOOKUP(A586,'1.Портфель кредитів'!A:Z,7,FALSE),\"\")","v":""},{"$f":"IFERROR(VLOOKUP(A586,'1.Портфель кредитів'!A:Z,14,FALSE),\"\")","v":""}]
[null,{"$f":"IFERROR(VLOOKUP(A587,'1.Портфель кредитів'!A:Z,3,FALSE),\"\")","v":""},{"$f":"IFERROR(VLOOKUP(A587,'1.Портфель кредитів'!A:Z,7,FALSE),\"\")","v":""},{"$f":"IFERROR(VLOOKUP(A587,'1.Портфель кредитів'!A:Z,14,FALSE),\"\")","v":""}]
[null,{"$f":"IFERROR(VLOOKUP(A588,'1.Портфель кредитів'!A:Z,3,FALSE),\"\")","v":""},{"$f":"IFERROR(VLOOKUP(A588,'1.Портфель кредитів'!A:Z,7,FALSE),\"\")","v":""},{"$f":"IFERROR(VLOOKUP(A588,'1.Портфель кредитів'!A:Z,14,FALSE),\"\")","v":""}]
[null,{"$f":"IFERROR(VLOOKUP(A589,'1.Портфель кредитів'!A:Z,3,FALSE),\"\")","v":""},{"$f":"IFERROR(VLOOKUP(A589,'1.Портфель кредитів'!A:Z,7,FALSE),\"\")","v":""},{"$f":"IFERROR(VLOOKUP(A589,'1.Портфель кредитів'!A:Z,14,FALSE),\"\")","v":""}]
[null,{"$f":"IFERROR(VLOOKUP(A590,'1.Портфель кредитів'!A:Z,3,FALSE),\"\")","v":""},{"$f":"IFERROR(VLOOKUP(A590,'1.Портфель кредитів'!A:Z,7,FALSE),\"\")","v":""},{"$f":"IFERROR(VLOOKUP(A590,'1.Портфель кредитів'!A:Z,14,FALSE),\"\")","v":""}]
[null,{"$f":"IFERROR(VLOOKUP(A591,'1.Портфель кредитів'!A:Z,3,FALSE),\"\")","v":""},{"$f":"IFERROR(VLOOKUP(A591,'1.Портфель кредитів'!A:Z,7,FALSE),\"\")","v":""},{"$f":"IFERROR(VLOOKUP(A591,'1.Портфель кредитів'!A:Z,14,FALSE),\"\")","v":""}]
[null,{"$f":"IFERROR(VLOOKUP(A592,'1.Портфель кредитів'!A:Z,3,FALSE),\"\")","v":""},{"$f":"IFERROR(VLOOKUP(A592,'1.Портфель кредитів'!A:Z,7,FALSE),\"\")","v":""},{"$f":"IFERROR(VLOOKUP(A592,'1.Портфель кредитів'!A:Z,14,FALSE),\"\")","v":""}]
[null,{"$f":"IFERROR(VLOOKUP(A593,'1.Портфель кредитів'!A:Z,3,FALSE),\"\")","v":""},{"$f":"IFERROR(VLOOKUP(A593,'1.Портфель кредитів'!A:Z,7,FALSE),\"\")","v":""},{"$f":"IFERROR(VLOOKUP(A593,'1.Портфель кредитів'!A:Z,14,FALSE),\"\")","v":""}]
[null,{"$f":"IFERROR(VLOOKUP(A594,'1.Портфель кредитів'!A:Z,3,FALSE),\"\")","v":""},{"$f":"IFERROR(VLOOKUP(A594,'1.Портфель кредитів'!A:Z,7,FALSE),\"\")","v":""},{"$f":"IFERROR(VLOOKUP(A594,'1.Портфель кредитів'!A:Z,14,FALSE),\"\")","v":""}]
[null,{"$f":"IFERROR(VLOOKUP(A595,'1.Портфель кредитів'!A:Z,3,FALSE),\"\")","v":""},{"$f":"IFERROR(VLOOKUP(A595,'1.Портфель кредитів'!A:Z,7,FALSE),\"\")","v":""},{"$f":"IFERROR(VLOOKUP(A595,'1.Портфель кредитів'!A:Z,14,FALSE),\"\")","v":""}]
[null,{"$f":"IFERROR(VLOOKUP(A596,'1.Портфель кредитів'!A:Z,3,FALSE),\"\")","v":""},{"$f":"IFERROR(VLOOKUP(A596,'1.Портфель кредитів'!A:Z,7,FALSE),\"\")","v":""},{"$f":"IFERROR(VLOOKUP(A596,'1.Портфель кредитів'!A:Z,14,FALSE),\"\")","v":""}]
[null,{"$f":"IFERROR(VLOOKUP(A597,'1.Портфель кредитів'!A:Z,3,FALSE),\"\")","v":""},{"$f":"IFERROR(VLOOKUP(A597,'1.Портфель кредитів'!A:Z,7,FALSE),\"\")","v":""},{"$f":"IFERROR(VLOOKUP(A597,'1.Портфель кредитів'!A:Z,14,FALSE),\"\")","v":""}]
[null,{"$f":"IFERROR(VLOOKUP(A598,'1.Портфель кредитів'!A:Z,3,FALSE),\"\")","v":""},{"$f":"IFERROR(VLOOKUP(A598,'1.Портфель кредитів'!A:Z,7,FALSE),\"\")","v":""},{"$f":"IFERROR(VLOOKUP(A598,'1.Портфель кредитів'!A:Z,14,FALSE),\"\")","v":""}]
[null,{"$f":"IFERROR(VLOOKUP(A599,'1.Портфель кредитів'!A:Z,3,FALSE),\"\")","v":""},{"$f":"IFERROR(VLOOKUP(A599,'1.Портфель кредитів'!A:Z,7,FALSE),\"\")","v":""},{"$f":"IFERROR(VLOOKUP(A599,'1.Портфель кредитів'!A:Z,14,FALSE),\"\")","v":""}]
[null,{"$f":"IFERROR(VLOOKUP(A600,'1.Портфель кредитів'!A:Z,3,FALSE),\"\")","v":""},{"$f":"IFERROR(VLOOKUP(A600,'1.Портфель кредитів'!A:Z,7,FALSE),\"\")","v":""},{"$f":"IFERROR(VLOOKUP(A600,'1.Портфель кредитів'!A:Z,14,FALSE),\"\")","v":""}]
[null,{"$f":"IFERROR(VLOOKUP(A601,'1.Портфель кредитів'!A:Z,3,FALSE),\"\")","v":""},{"$f":"IFERROR(VLOOKUP(A601,'1.Портфель кредитів'!A:Z,7,FALSE),\"\")","v":""},{"$f":"IFERROR(VLOOKUP(A601,'1.Портфель кредитів'!A:Z,14,FALSE),\"\")","v":""}]
[null,{"$f":"IFERROR(VLOOKUP(A602,'1.Портфель кредитів'!A:Z,3,FALSE),\"\")","v":""},{"$f":"IFERROR(VLOOKUP(A602,'1.Портфель кредитів'!A:Z,7,FALSE),\"\")","v":""},{"$f":"IFERROR(VLOOKUP(A602,'1.Портфель кредитів'!A:Z,14,FALSE),\"\")","v":""}]
[null,{"$f":"IFERROR(VLOOKUP(A603,'1.Портфель кредитів'!A:Z,3,FALSE),\"\")","v":""},{"$f":"IFERROR(VLOOKUP(A603,'1.Портфель кредитів'!A:Z,7,FALSE),\"\")","v":""},{"$f":"IFERROR(VLOOKUP(A603,'1.Портфель кредитів'!A:Z,14,FALSE),\"\")","v":""}]
[null,{"$f":"IFERROR(VLOOKUP(A604,'1.Портфель кредитів'!A:Z,3,FALSE),\"\")","v":""},{"$f":"IFERROR(VLOOKUP(A604,'1.Портфель кредитів'!A:Z,7,FALSE),\"\")","v":""},{"$f":"IFERROR(VLOOKUP(A604,'1.Портфель кредитів'!A:Z,14,FALSE),\"\")","v":""}]
[null,{"$f":"IFERROR(VLOOKUP(A605,'1.Портфель кредитів'!A:Z,3,FALSE),\"\")","v":""},{"$f":"IFERROR(VLOOKUP(A605,'1.Портфель кредитів'!A:Z,7,FALSE),\"\")","v":""},{"$f":"IFERROR(VLOOKUP(A605,'1.Портфель кредитів'!A:Z,14,FALSE),\"\")","v":""}]
[null,{"$f":"IFERROR(VLOOKUP(A606,'1.Портфель кредитів'!A:Z,3,FALSE),\"\")","v":""},{"$f":"IFERROR(VLOOKUP(A606,'1.Портфель кредитів'!A:Z,7,FALSE),\"\")","v":""},{"$f":"IFERROR(VLOOKUP(A606,'1.Портфель кредитів'!A:Z,14,FALSE),\"\")","v":""}]
[null,{"$f":"IFERROR(VLOOKUP(A607,'1.Портфель кредитів'!A:Z,3,FALSE),\"\")","v":""},{"$f":"IFERROR(VLOOKUP(A607,'1.Портфель кредитів'!A:Z,7,FALSE),\"\")","v":""},{"$f":"IFERROR(VLOOKUP(A607,'1.Портфель кредитів'!A:Z,14,FALSE),\"\")","v":""}]
[null,{"$f":"IFERROR(VLOOKUP(A608,'1.Портфель кредитів'!A:Z,3,FALSE),\"\")","v":""},{"$f":"IFERROR(VLOOKUP(A608,'1.Портфель кредитів'!A:Z,7,FALSE),\"\")","v":""},{"$f":"IFERROR(VLOOKUP(A608,'1.Портфель кредитів'!A:Z,14,FALSE),\"\")","v":""}]
[null,{"$f":"IFERROR(VLOOKUP(A609,'1.Портфель кредитів'!A:Z,3,FALSE),\"\")","v":""},{"$f":"IFERROR(VLOOKUP(A609,'1.Портфель кредитів'!A:Z,7,FALSE),\"\")","v":""},{"$f":"IFERROR(VLOOKUP(A609,'1.Портфель кредитів'!A:Z,14,FALSE),\"\")","v":""}]
[null,{"$f":"IFERROR(VLOOKUP(A610,'1.Портфель кредитів'!A:Z,3,FALSE),\"\")","v":""},{"$f":"IFERROR(VLOOKUP(A610,'1.Портфель кредитів'!A:Z,7,FALSE),\"\")","v":""},{"$f":"IFERROR(VLOOKUP(A610,'1.Портфель кредитів'!A:Z,14,FALSE),\"\")","v":""}]
[null,{"$f":"IFERROR(VLOOKUP(A611,'1.Портфель кредитів'!A:Z,3,FALSE),\"\")","v":""},{"$f":"IFERROR(VLOOKUP(A611,'1.Портфель кредитів'!A:Z,7,FALSE),\"\")","v":""},{"$f":"IFERROR(VLOOKUP(A611,'1.Портфель кредитів'!A:Z,14,FALSE),\"\")","v":""}]
[null,{"$f":"IFERROR(VLOOKUP(A612,'1.Портфель кредитів'!A:Z,3,FALSE),\"\")","v":""},{"$f":"IFERROR(VLOOKUP(A612,'1.Портфель кредитів'!A:Z,7,FALSE),\"\")","v":""},{"$f":"IFERROR(VLOOKUP(A612,'1.Портфель кредитів'!A:Z,14,FALSE),\"\")","v":""}]
[null,{"$f":"IFERROR(VLOOKUP(A613,'1.Портфель кредитів'!A:Z,3,FALSE),\"\")","v":""},{"$f":"IFERROR(VLOOKUP(A613,'1.Портфель кредитів'!A:Z,7,FALSE),\"\")","v":""},{"$f":"IFERROR(VLOOKUP(A613,'1.Портфель кредитів'!A:Z,14,FALSE),\"\")","v":""}]
[null,{"$f":"IFERROR(VLOOKUP(A614,'1.Портфель кредитів'!A:Z,3,FALSE),\"\")","v":""},{"$f":"IFERROR(VLOOKUP(A614,'1.Портфель кредитів'!A:Z,7,FALSE),\"\")","v":""},{"$f":"IFERROR(VLOOKUP(A614,'1.Портфель кредитів'!A:Z,14,FALSE),\"\")","v":""}]
[null,{"$f":"IFERROR(VLOOKUP(A615,'1.Портфель кредитів'!A:Z,3,FALSE),\"\")","v":""},{"$f":"IFERROR(VLOOKUP(A615,'1.Портфель кредитів'!A:Z,7,FALSE),\"\")","v":""},{"$f":"IFERROR(VLOOKUP(A615,'1.Портфель кредитів'!A:Z,14,FALSE),\"\")","v":""}]
[null,{"$f":"IFERROR(VLOOKUP(A616,'1.Портфель кредитів'!A:Z,3,FALSE),\"\")","v":""},{"$f":"IFERROR(VLOOKUP(A616,'1.Портфель кредитів'!A:Z,7,FALSE),\"\")","v":""},{"$f":"IFERROR(VLOOKUP(A616,'1.Портфель кредитів'!A:Z,14,FALSE),\"\")","v":""}]
[null,{"$f":"IFERROR(VLOOKUP(A617,'1.Портфель кредитів'!A:Z,3,FALSE),\"\")","v":""},{"$f":"IFERROR(VLOOKUP(A617,'1.Портфель кредитів'!A:Z,7,FALSE),\"\")","v":""},{"$f":"IFERROR(VLOOKUP(A617,'1.Портфель кредитів'!A:Z,14,FALSE),\"\")","v":""}]
[null,{"$f":"IFERROR(VLOOKUP(A618,'1.Портфель кредитів'!A:Z,3,FALSE),\"\")","v":""},{"$f":"IFERROR(VLOOKUP(A618,'1.Портфель кредитів'!A:Z,7,FALSE),\"\")","v":""},{"$f":"IFERROR(VLOOKUP(A618,'1.Портфель кредитів'!A:Z,14,FALSE),\"\")","v":""}]
[null,{"$f":"IFERROR(VLOOKUP(A619,'1.Портфель кредитів'!A:Z,3,FALSE),\"\")","v":""},{"$f":"IFERROR(VLOOKUP(A619,'1.Портфель кредитів'!A:Z,7,FALSE),\"\")","v":""},{"$f":"IFERROR(VLOOKUP(A619,'1.Портфель кредитів'!A:Z,14,FALSE),\"\")","v":""}]
[null,{"$f":"IFERROR(VLOOKUP(A620,'1.Портфель кредитів'!A:Z,3,FALSE),\"\")","v":""},{"$f":"IFERROR(VLOOKUP(A620,'1.Портфель кредитів'!A:Z,7,FALSE),\"\")","v":""},{"$f":"IFERROR(VLOOKUP(A620,'1.Портфель кредитів'!A:Z,14,FALSE),\"\")","v":""}]
[null,{"$f":"IFERROR(VLOOKUP(A621,'1.Портфель кредитів'!A:Z,3,FALSE),\"\")","v":""},{"$f":"IFERROR(VLOOKUP(A621,'1.Портфель кредитів'!A:Z,7,FALSE),\"\")","v":""},{"$f":"IFERROR(VLOOKUP(A621,'1.Портфель кредитів'!A:Z,14,FALSE),\"\")","v":""}]
[null,{"$f":"IFERROR(VLOOKUP(A622,'1.Портфель кредитів'!A:Z,3,FALSE),\"\")","v":""},{"$f":"IFERROR(VLOOKUP(A622,'1.Портфель кредитів'!A:Z,7,FALSE),\"\")","v":""},{"$f":"IFERROR(VLOOKUP(A622,'1.Портфель кредитів'!A:Z,14,FALSE),\"\")","v":""}]
[null,{"$f":"IFERROR(VLOOKUP(A623,'1.Портфель кредитів'!A:Z,3,FALSE),\"\")","v":""},{"$f":"IFERROR(VLOOKUP(A623,'1.Портфель кредитів'!A:Z,7,FALSE),\"\")","v":""},{"$f":"IFERROR(VLOOKUP(A623,'1.Портфель кредитів'!A:Z,14,FALSE),\"\")","v":""}]
[null,{"$f":"IFERROR(VLOOKUP(A624,'1.Портфель кредитів'!A:Z,3,FALSE),\"\")","v":""},{"$f":"IFERROR(VLOOKUP(A624,'1.Портфель кредитів'!A:Z,7,FALSE),\"\")","v":""},{"$f":"IFERROR(VLOOKUP(A624,'1.Портфель кредитів'!A:Z,14,FALSE),\"\")","v":""}]
[null,{"$f":"IFERROR(VLOOKUP(A625,'1.Портфель кредитів'!A:Z,3,FALSE),\"\")","v":""},{"$f":"IFERROR(VLOOKUP(A625,'1.Портфель кредитів'!A:Z,7,FALSE),\"\")","v":""},{"$f":"IFERROR(VLOOKUP(A625,'1.Портфель кредитів'!A:Z,14,FALSE),\"\")","v":""}]
[null,{"$f":"IFERROR(VLOOKUP(A626,'1.Портфель кредитів'!A:Z,3,FALSE),\"\")","v":""},{"$f":"IFERROR(VLOOKUP(A626,'1.Портфель кредитів'!A:Z,7,FALSE),\"\")","v":""},{"$f":"IFERROR(VLOOKUP(A626,'1.Портфель кредитів'!A:Z,14,FALSE),\"\")","v":""}]
[null,{"$f":"IFERROR(VLOOKUP(A627,'1.Портфель кредитів'!A:Z,3,FALSE),\"\")","v":""},{"$f":"IFERROR(VLOOKUP(A627,'1.Портфель кредитів'!A:Z,7,FALSE),\"\")","v":""},{"$f":"IFERROR(VLOOKUP(A627,'1.Портфель кредитів'!A:Z,14,FALSE),\"\")","v":""}]
[null,{"$f":"IFERROR(VLOOKUP(A628,'1.Портфель кредитів'!A:Z,3,FALSE),\"\")","v":""},{"$f":"IFERROR(VLOOKUP(A628,'1.Портфель кредитів'!A:Z,7,FALSE),\"\")","v":""},{"$f":"IFERROR(VLOOKUP(A628,'1.Портфель кредитів'!A:Z,14,FALSE),\"\")","v":""}]
[null,{"$f":"IFERROR(VLOOKUP(A629,'1.Портфель кредитів'!A:Z,3,FALSE),\"\")","v":""},{"$f":"IFERROR(VLOOKUP(A629,'1.Портфель кредитів'!A:Z,7,FALSE),\"\")","v":""},{"$f":"IFERROR(VLOOKUP(A629,'1.Портфель кредитів'!A:Z,14,FALSE),\"\")","v":""}]
[null,{"$f":"IFERROR(VLOOKUP(A630,'1.Портфель кредитів'!A:Z,3,FALSE),\"\")","v":""},{"$f":"IFERROR(VLOOKUP(A630,'1.Портфель кредитів'!A:Z,7,FALSE),\"\")","v":""},{"$f":"IFERROR(VLOOKUP(A630,'1.Портфель кредитів'!A:Z,14,FALSE),\"\")","v":""}]
[null,{"$f":"IFERROR(VLOOKUP(A631,'1.Портфель кредитів'!A:Z,3,FALSE),\"\")","v":""},{"$f":"IFERROR(VLOOKUP(A631,'1.Портфель кредитів'!A:Z,7,FALSE),\"\")","v":""},{"$f":"IFERROR(VLOOKUP(A631,'1.Портфель кредитів'!A:Z,14,FALSE),\"\")","v":""}]
[null,{"$f":"IFERROR(VLOOKUP(A632,'1.Портфель кредитів'!A:Z,3,FALSE),\"\")","v":""},{"$f":"IFERROR(VLOOKUP(A632,'1.Портфель кредитів'!A:Z,7,FALSE),\"\")","v":""},{"$f":"IFERROR(VLOOKUP(A632,'1.Портфель кредитів'!A:Z,14,FALSE),\"\")","v":""}]
[null,{"$f":"IFERROR(VLOOKUP(A633,'1.Портфель кредитів'!A:Z,3,FALSE),\"\")","v":""},{"$f":"IFERROR(VLOOKUP(A633,'1.Портфель кредитів'!A:Z,7,FALSE),\"\")","v":""},{"$f":"IFERROR(VLOOKUP(A633,'1.Портфель кредитів'!A:Z,14,FALSE),\"\")","v":""}]
[null,{"$f":"IFERROR(VLOOKUP(A634,'1.Портфель кредитів'!A:Z,3,FALSE),\"\")","v":""},{"$f":"IFERROR(VLOOKUP(A634,'1.Портфель кредитів'!A:Z,7,FALSE),\"\")","v":""},{"$f":"IFERROR(VLOOKUP(A634,'1.Портфель кредитів'!A:Z,14,FALSE),\"\")","v":""}]
[null,{"$f":"IFERROR(VLOOKUP(A635,'1.Портфель кредитів'!A:Z,3,FALSE),\"\")","v":""},{"$f":"IFERROR(VLOOKUP(A635,'1.Портфель кредитів'!A:Z,7,FALSE),\"\")","v":""},{"$f":"IFERROR(VLOOKUP(A635,'1.Портфель кредитів'!A:Z,14,FALSE),\"\")","v":""}]
[null,{"$f":"IFERROR(VLOOKUP(A636,'1.Портфель кредитів'!A:Z,3,FALSE),\"\")","v":""},{"$f":"IFERROR(VLOOKUP(A636,'1.Портфель кредитів'!A:Z,7,FALSE),\"\")","v":""},{"$f":"IFERROR(VLOOKUP(A636,'1.Портфель кредитів'!A:Z,14,FALSE),\"\")","v":""}]
[null,{"$f":"IFERROR(VLOOKUP(A637,'1.Портфель кредитів'!A:Z,3,FALSE),\"\")","v":""},{"$f":"IFERROR(VLOOKUP(A637,'1.Портфель кредитів'!A:Z,7,FALSE),\"\")","v":""},{"$f":"IFERROR(VLOOKUP(A637,'1.Портфель кредитів'!A:Z,14,FALSE),\"\")","v":""}]
[null,{"$f":"IFERROR(VLOOKUP(A638,'1.Портфель кредитів'!A:Z,3,FALSE),\"\")","v":""},{"$f":"IFERROR(VLOOKUP(A638,'1.Портфель кредитів'!A:Z,7,FALSE),\"\")","v":""},{"$f":"IFERROR(VLOOKUP(A638,'1.Портфель кредитів'!A:Z,14,FALSE),\"\")","v":""}]
[null,{"$f":"IFERROR(VLOOKUP(A639,'1.Портфель кредитів'!A:Z,3,FALSE),\"\")","v":""},{"$f":"IFERROR(VLOOKUP(A639,'1.Портфель кредитів'!A:Z,7,FALSE),\"\")","v":""},{"$f":"IFERROR(VLOOKUP(A639,'1.Портфель кредитів'!A:Z,14,FALSE),\"\")","v":""}]
[null,{"$f":"IFERROR(VLOOKUP(A640,'1.Портфель кредитів'!A:Z,3,FALSE),\"\")","v":""},{"$f":"IFERROR(VLOOKUP(A640,'1.Портфель кредитів'!A:Z,7,FALSE),\"\")","v":""},{"$f":"IFERROR(VLOOKUP(A640,'1.Портфель кредитів'!A:Z,14,FALSE),\"\")","v":""}]
[null,{"$f":"IFERROR(VLOOKUP(A641,'1.Портфель кредитів'!A:Z,3,FALSE),\"\")","v":""},{"$f":"IFERROR(VLOOKUP(A641,'1.Портфель кредитів'!A:Z,7,FALSE),\"\")","v":""},{"$f":"IFERROR(VLOOKUP(A641,'1.Портфель кредитів'!A:Z,14,FALSE),\"\")","v":""}]
[null,{"$f":"IFERROR(VLOOKUP(A642,'1.Портфель кредитів'!A:Z,3,FALSE),\"\")","v":""},{"$f":"IFERROR(VLOOKUP(A642,'1.Портфель кредитів'!A:Z,7,FALSE),\"\")","v":""},{"$f":"IFERROR(VLOOKUP(A642,'1.Портфель кредитів'!A:Z,14,FALSE),\"\")","v":""}]
[null,{"$f":"IFERROR(VLOOKUP(A643,'1.Портфель кредитів'!A:Z,3,FALSE),\"\")","v":""},{"$f":"IFERROR(VLOOKUP(A643,'1.Портфель кредитів'!A:Z,7,FALSE),\"\")","v":""},{"$f":"IFERROR(VLOOKUP(A643,'1.Портфель кредитів'!A:Z,14,FALSE),\"\")","v":""}]
[null,{"$f":"IFERROR(VLOOKUP(A644,'1.Портфель кредитів'!A:Z,3,FALSE),\"\")","v":""},{"$f":"IFERROR(VLOOKUP(A644,'1.Портфель кредитів'!A:Z,7,FALSE),\"\")","v":""},{"$f":"IFERROR(VLOOKUP(A644,'1.Портфель кредитів'!A:Z,14,FALSE),\"\")","v":""}]
[null,{"$f":"IFERROR(VLOOKUP(A645,'1.Портфель кредитів'!A:Z,3,FALSE),\"\")","v":""},{"$f":"IFERROR(VLOOKUP(A645,'1.Портфель кредитів'!A:Z,7,FALSE),\"\")","v":""},{"$f":"IFERROR(VLOOKUP(A645,'1.Портфель кредитів'!A:Z,14,FALSE),\"\")","v":""}]
[null,{"$f":"IFERROR(VLOOKUP(A646,'1.Портфель кредитів'!A:Z,3,FALSE),\"\")","v":""},{"$f":"IFERROR(VLOOKUP(A646,'1.Портфель кредитів'!A:Z,7,FALSE),\"\")","v":""},{"$f":"IFERROR(VLOOKUP(A646,'1.Портфель кредитів'!A:Z,14,FALSE),\"\")","v":""}]
[null,{"$f":"IFERROR(VLOOKUP(A647,'1.Портфель кредитів'!A:Z,3,FALSE),\"\")","v":""},{"$f":"IFERROR(VLOOKUP(A647,'1.Портфель кредитів'!A:Z,7,FALSE),\"\")","v":""},{"$f":"IFERROR(VLOOKUP(A647,'1.Портфель кредитів'!A:Z,14,FALSE),\"\")","v":""}]
[null,{"$f":"IFERROR(VLOOKUP(A648,'1.Портфель кредитів'!A:Z,3,FALSE),\"\")","v":""},{"$f":"IFERROR(VLOOKUP(A648,'1.Портфель кредитів'!A:Z,7,FALSE),\"\")","v":""},{"$f":"IFERROR(VLOOKUP(A648,'1.Портфель кредитів'!A:Z,14,FALSE),\"\")","v":""}]
[null,{"$f":"IFERROR(VLOOKUP(A649,'1.Портфель кредитів'!A:Z,3,FALSE),\"\")","v":""},{"$f":"IFERROR(VLOOKUP(A649,'1.Портфель кредитів'!A:Z,7,FALSE),\"\")","v":""},{"$f":"IFERROR(VLOOKUP(A649,'1.Портфель кредитів'!A:Z,14,FALSE),\"\")","v":""}]
[null,{"$f":"IFERROR(VLOOKUP(A650,'1.Портфель кредитів'!A:Z,3,FALSE),\"\")","v":""},{"$f":"IFERROR(VLOOKUP(A650,'1.Портфель кредитів'!A:Z,7,FALSE),\"\")","v":""},{"$f":"IFERROR(VLOOKUP(A650,'1.Портфель кредитів'!A:Z,14,FALSE),\"\")","v":""}]
[null,{"$f":"IFERROR(VLOOKUP(A651,'1.Портфель кредитів'!A:Z,3,FALSE),\"\")","v":""},{"$f":"IFERROR(VLOOKUP(A651,'1.Портфель кредитів'!A:Z,7,FALSE),\"\")","v":""},{"$f":"IFERROR(VLOOKUP(A651,'1.Портфель кредитів'!A:Z,14,FALSE),\"\")","v":""}]
[null,{"$f":"IFERROR(VLOOKUP(A652,'1.Портфель кредитів'!A:Z,3,FALSE),\"\")","v":""},{"$f":"IFERROR(VLOOKUP(A652,'1.Портфель кредитів'!A:Z,7,FALSE),\"\")","v":""},{"$f":"IFERROR(VLOOKUP(A652,'1.Портфель кредитів'!A:Z,14,FALSE),\"\")","v":""}]
[null,{"$f":"IFERROR(VLOOKUP(A653,'1.Портфель кредитів'!A:Z,3,FALSE),\"\")","v":""},{"$f":"IFERROR(VLOOKUP(A653,'1.Портфель кредитів'!A:Z,7,FALSE),\"\")","v":""},{"$f":"IFERROR(VLOOKUP(A653,'1.Портфель кредитів'!A:Z,14,FALSE),\"\")","v":""}]
[null,{"$f":"IFERROR(VLOOKUP(A654,'1.Портфель кредитів'!A:Z,3,FALSE),\"\")","v":""},{"$f":"IFERROR(VLOOKUP(A654,'1.Портфель кредитів'!A:Z,7,FALSE),\"\")","v":""},{"$f":"IFERROR(VLOOKUP(A654,'1.Портфель кредитів'!A:Z,14,FALSE),\"\")","v":""}]
[null,{"$f":"IFERROR(VLOOKUP(A655,'1.Портфель кредитів'!A:Z,3,FALSE),\"\")","v":""},{"$f":"IFERROR(VLOOKUP(A655,'1.Портфель кредитів'!A:Z,7,FALSE),\"\")","v":""},{"$f":"IFERROR(VLOOKUP(A655,'1.Портфель кредитів'!A:Z,14,FALSE),\"\")","v":""}]
[null,{"$f":"IFERROR(VLOOKUP(A656,'1.Портфель кредитів'!A:Z,3,FALSE),\"\")","v":""},{"$f":"IFERROR(VLOOKUP(A656,'1.Портфель кредитів'!A:Z,7,FALSE),\"\")","v":""},{"$f":"IFERROR(VLOOKUP(A656,'1.Портфель кредитів'!A:Z,14,FALSE),\"\")","v":""}]
[null,{"$f":"IFERROR(VLOOKUP(A657,'1.Портфель кредитів'!A:Z,3,FALSE),\"\")","v":""},{"$f":"IFERROR(VLOOKUP(A657,'1.Портфель кредитів'!A:Z,7,FALSE),\"\")","v":""},{"$f":"IFERROR(VLOOKUP(A657,'1.Портфель кредитів'!A:Z,14,FALSE),\"\")","v":""}]
[null,{"$f":"IFERROR(VLOOKUP(A658,'1.Портфель кредитів'!A:Z,3,FALSE),\"\")","v":""},{"$f":"IFERROR(VLOOKUP(A658,'1.Портфель кредитів'!A:Z,7,FALSE),\"\")","v":""},{"$f":"IFERROR(VLOOKUP(A658,'1.Портфель кредитів'!A:Z,14,FALSE),\"\")","v":""}]
[null,{"$f":"IFERROR(VLOOKUP(A659,'1.Портфель кредитів'!A:Z,3,FALSE),\"\")","v":""},{"$f":"IFERROR(VLOOKUP(A659,'1.Портфель кредитів'!A:Z,7,FALSE),\"\")","v":""},{"$f":"IFERROR(VLOOKUP(A659,'1.Портфель кредитів'!A:Z,14,FALSE),\"\")","v":""}]
[null,{"$f":"IFERROR(VLOOKUP(A660,'1.Портфель кредитів'!A:Z,3,FALSE),\"\")","v":""},{"$f":"IFERROR(VLOOKUP(A660,'1.Портфель кредитів'!A:Z,7,FALSE),\"\")","v":""},{"$f":"IFERROR(VLOOKUP(A660,'1.Портфель кредитів'!A:Z,14,FALSE),\"\")","v":""}]
[null,{"$f":"IFERROR(VLOOKUP(A661,'1.Портфель кредитів'!A:Z,3,FALSE),\"\")","v":""},{"$f":"IFERROR(VLOOKUP(A661,'1.Портфель кредитів'!A:Z,7,FALSE),\"\")","v":""},{"$f":"IFERROR(VLOOKUP(A661,'1.Портфель кредитів'!A:Z,14,FALSE),\"\")","v":""}]
[null,{"$f":"IFERROR(VLOOKUP(A662,'1.Портфель кредитів'!A:Z,3,FALSE),\"\")","v":""},{"$f":"IFERROR(VLOOKUP(A662,'1.Портфель кредитів'!A:Z,7,FALSE),\"\")","v":""},{"$f":"IFERROR(VLOOKUP(A662,'1.Портфель кредитів'!A:Z,14,FALSE),\"\")","v":""}]
[null,{"$f":"IFERROR(VLOOKUP(A663,'1.Портфель кредитів'!A:Z,3,FALSE),\"\")","v":""},{"$f":"IFERROR(VLOOKUP(A663,'1.Портфель кредитів'!A:Z,7,FALSE),\"\")","v":""},{"$f":"IFERROR(VLOOKUP(A663,'1.Портфель кредитів'!A:Z,14,FALSE),\"\")","v":""}]
[null,{"$f":"IFERROR(VLOOKUP(A664,'1.Портфель кредитів'!A:Z,3,FALSE),\"\")","v":""},{"$f":"IFERROR(VLOOKUP(A664,'1.Портфель кредитів'!A:Z,7,FALSE),\"\")","v":""},{"$f":"IFERROR(VLOOKUP(A664,'1.Портфель кредитів'!A:Z,14,FALSE),\"\")","v":""}]
[null,{"$f":"IFERROR(VLOOKUP(A665,'1.Портфель кредитів'!A:Z,3,FALSE),\"\")","v":""},{"$f":"IFERROR(VLOOKUP(A665,'1.Портфель кредитів'!A:Z,7,FALSE),\"\")","v":""},{"$f":"IFERROR(VLOOKUP(A665,'1.Портфель кредитів'!A:Z,14,FALSE),\"\")","v":""}]
[null,{"$f":"IFERROR(VLOOKUP(A666,'1.Портфель кредитів'!A:Z,3,FALSE),\"\")","v":""},{"$f":"IFERROR(VLOOKUP(A666,'1.Портфель кредитів'!A:Z,7,FALSE),\"\")","v":""},{"$f":"IFERROR(VLOOKUP(A666,'1.Портфель кредитів'!A:Z,14,FALSE),\"\")","v":""}]
[null,{"$f":"IFERROR(VLOOKUP(A667,'1.Портфель кредитів'!A:Z,3,FALSE),\"\")","v":""},{"$f":"IFERROR(VLOOKUP(A667,'1.Портфель кредитів'!A:Z,7,FALSE),\"\")","v":""},{"$f":"IFERROR(VLOOKUP(A667,'1.Портфель кредитів'!A:Z,14,FALSE),\"\")","v":""}]
[null,{"$f":"IFERROR(VLOOKUP(A668,'1.Портфель кредитів'!A:Z,3,FALSE),\"\")","v":""},{"$f":"IFERROR(VLOOKUP(A668,'1.Портфель кредитів'!A:Z,7,FALSE),\"\")","v":""},{"$f":"IFERROR(VLOOKUP(A668,'1.Портфель кредитів'!A:Z,14,FALSE),\"\")","v":""}]
[null,{"$f":"IFERROR(VLOOKUP(A669,'1.Портфель кредитів'!A:Z,3,FALSE),\"\")","v":""},{"$f":"IFERROR(VLOOKUP(A669,'1.Портфель кредитів'!A:Z,7,FALSE),\"\")","v":""},{"$f":"IFERROR(VLOOKUP(A669,'1.Портфель кредитів'!A:Z,14,FALSE),\"\")","v":""}]
[null,{"$f":"IFERROR(VLOOKUP(A670,'1.Портфель кредитів'!A:Z,3,FALSE),\"\")","v":""},{"$f":"IFERROR(VLOOKUP(A670,'1.Портфель кредитів'!A:Z,7,FALSE),\"\")","v":""},{"$f":"IFERROR(VLOOKUP(A670,'1.Портфель кредитів'!A:Z,14,FALSE),\"\")","v":""}]
[null,{"$f":"IFERROR(VLOOKUP(A671,'1.Портфель кредитів'!A:Z,3,FALSE),\"\")","v":""},{"$f":"IFERROR(VLOOKUP(A671,'1.Портфель кредитів'!A:Z,7,FALSE),\"\")","v":""},{"$f":"IFERROR(VLOOKUP(A671,'1.Портфель кредитів'!A:Z,14,FALSE),\"\")","v":""}]
[null,{"$f":"IFERROR(VLOOKUP(A672,'1.Портфель кредитів'!A:Z,3,FALSE),\"\")","v":""},{"$f":"IFERROR(VLOOKUP(A672,'1.Портфель кредитів'!A:Z,7,FALSE),\"\")","v":""},{"$f":"IFERROR(VLOOKUP(A672,'1.Портфель кредитів'!A:Z,14,FALSE),\"\")","v":""}]
[null,{"$f":"IFERROR(VLOOKUP(A673,'1.Портфель кредитів'!A:Z,3,FALSE),\"\")","v":""},{"$f":"IFERROR(VLOOKUP(A673,'1.Портфель кредитів'!A:Z,7,FALSE),\"\")","v":""},{"$f":"IFERROR(VLOOKUP(A673,'1.Портфель кредитів'!A:Z,14,FALSE),\"\")","v":""}]
[null,{"$f":"IFERROR(VLOOKUP(A674,'1.Портфель кредитів'!A:Z,3,FALSE),\"\")","v":""},{"$f":"IFERROR(VLOOKUP(A674,'1.Портфель кредитів'!A:Z,7,FALSE),\"\")","v":""},{"$f":"IFERROR(VLOOKUP(A674,'1.Портфель кредитів'!A:Z,14,FALSE),\"\")","v":""}]
[null,{"$f":"IFERROR(VLOOKUP(A675,'1.Портфель кредитів'!A:Z,3,FALSE),\"\")","v":""},{"$f":"IFERROR(VLOOKUP(A675,'1.Портфель кредитів'!A:Z,7,FALSE),\"\")","v":""},{"$f":"IFERROR(VLOOKUP(A675,'1.Портфель кредитів'!A:Z,14,FALSE),\"\")","v":""}]
[null,{"$f":"IFERROR(VLOOKUP(A676,'1.Портфель кредитів'!A:Z,3,FALSE),\"\")","v":""},{"$f":"IFERROR(VLOOKUP(A676,'1.Портфель кредитів'!A:Z,7,FALSE),\"\")","v":""},{"$f":"IFERROR(VLOOKUP(A676,'1.Портфель кредитів'!A:Z,14,FALSE),\"\")","v":""}]
[null,{"$f":"IFERROR(VLOOKUP(A677,'1.Портфель кредитів'!A:Z,3,FALSE),\"\")","v":""},{"$f":"IFERROR(VLOOKUP(A677,'1.Портфель кредитів'!A:Z,7,FALSE),\"\")","v":""},{"$f":"IFERROR(VLOOKUP(A677,'1.Портфель кредитів'!A:Z,14,FALSE),\"\")","v":""}]
[null,{"$f":"IFERROR(VLOOKUP(A678,'1.Портфель кредитів'!A:Z,3,FALSE),\"\")","v":""},{"$f":"IFERROR(VLOOKUP(A678,'1.Портфель кредитів'!A:Z,7,FALSE),\"\")","v":""},{"$f":"IFERROR(VLOOKUP(A678,'1.Портфель кредитів'!A:Z,14,FALSE),\"\")","v":""}]
[null,{"$f":"IFERROR(VLOOKUP(A679,'1.Портфель кредитів'!A:Z,3,FALSE),\"\")","v":""},{"$f":"IFERROR(VLOOKUP(A679,'1.Портфель кредитів'!A:Z,7,FALSE),\"\")","v":""},{"$f":"IFERROR(VLOOKUP(A679,'1.Портфель кредитів'!A:Z,14,FALSE),\"\")","v":""}]
[null,{"$f":"IFERROR(VLOOKUP(A680,'1.Портфель кредитів'!A:Z,3,FALSE),\"\")","v":""},{"$f":"IFERROR(VLOOKUP(A680,'1.Портфель кредитів'!A:Z,7,FALSE),\"\")","v":""},{"$f":"IFERROR(VLOOKUP(A680,'1.Портфель кредитів'!A:Z,14,FALSE),\"\")","v":""}]
[null,{"$f":"IFERROR(VLOOKUP(A681,'1.Портфель кредитів'!A:Z,3,FALSE),\"\")","v":""},{"$f":"IFERROR(VLOOKUP(A681,'1.Портфель кредитів'!A:Z,7,FALSE),\"\")","v":""},{"$f":"IFERROR(VLOOKUP(A681,'1.Портфель кредитів'!A:Z,14,FALSE),\"\")","v":""}]
[null,{"$f":"IFERROR(VLOOKUP(A682,'1.Портфель кредитів'!A:Z,3,FALSE),\"\")","v":""},{"$f":"IFERROR(VLOOKUP(A682,'1.Портфель кредитів'!A:Z,7,FALSE),\"\")","v":""},{"$f":"IFERROR(VLOOKUP(A682,'1.Портфель кредитів'!A:Z,14,FALSE),\"\")","v":""}]
[null,{"$f":"IFERROR(VLOOKUP(A683,'1.Портфель кредитів'!A:Z,3,FALSE),\"\")","v":""},{"$f":"IFERROR(VLOOKUP(A683,'1.Портфель кредитів'!A:Z,7,FALSE),\"\")","v":""},{"$f":"IFERROR(VLOOKUP(A683,'1.Портфель кредитів'!A:Z,14,FALSE),\"\")","v":""}]
[null,{"$f":"IFERROR(VLOOKUP(A684,'1.Портфель кредитів'!A:Z,3,FALSE),\"\")","v":""},{"$f":"IFERROR(VLOOKUP(A684,'1.Портфель кредитів'!A:Z,7,FALSE),\"\")","v":""},{"$f":"IFERROR(VLOOKUP(A684,'1.Портфель кредитів'!A:Z,14,FALSE),\"\")","v":""}]
[null,{"$f":"IFERROR(VLOOKUP(A685,'1.Портфель кредитів'!A:Z,3,FALSE),\"\")","v":""},{"$f":"IFERROR(VLOOKUP(A685,'1.Портфель кредитів'!A:Z,7,FALSE),\"\")","v":""},{"$f":"IFERROR(VLOOKUP(A685,'1.Портфель кредитів'!A:Z,14,FALSE),\"\")","v":""}]
[null,{"$f":"IFERROR(VLOOKUP(A686,'1.Портфель кредитів'!A:Z,3,FALSE),\"\")","v":""},{"$f":"IFERROR(VLOOKUP(A686,'1.Портфель кредитів'!A:Z,7,FALSE),\"\")","v":""},{"$f":"IFERROR(VLOOKUP(A686,'1.Портфель кредитів'!A:Z,14,FALSE),\"\")","v":""}]
[null,{"$f":"IFERROR(VLOOKUP(A687,'1.Портфель кредитів'!A:Z,3,FALSE),\"\")","v":""},{"$f":"IFERROR(VLOOKUP(A687,'1.Портфель кредитів'!A:Z,7,FALSE),\"\")","v":""},{"$f":"IFERROR(VLOOKUP(A687,'1.Портфель кредитів'!A:Z,14,FALSE),\"\")","v":""}]
[null,{"$f":"IFERROR(VLOOKUP(A688,'1.Портфель кредитів'!A:Z,3,FALSE),\"\")","v":""},{"$f":"IFERROR(VLOOKUP(A688,'1.Портфель кредитів'!A:Z,7,FALSE),\"\")","v":""},{"$f":"IFERROR(VLOOKUP(A688,'1.Портфель кредитів'!A:Z,14,FALSE),\"\")","v":""}]
[null,{"$f":"IFERROR(VLOOKUP(A689,'1.Портфель кредитів'!A:Z,3,FALSE),\"\")","v":""},{"$f":"IFERROR(VLOOKUP(A689,'1.Портфель кредитів'!A:Z,7,FALSE),\"\")","v":""},{"$f":"IFERROR(VLOOKUP(A689,'1.Портфель кредитів'!A:Z,14,FALSE),\"\")","v":""}]
[null,{"$f":"IFERROR(VLOOKUP(A690,'1.Портфель кредитів'!A:Z,3,FALSE),\"\")","v":""},{"$f":"IFERROR(VLOOKUP(A690,'1.Портфель кредитів'!A:Z,7,FALSE),\"\")","v":""},{"$f":"IFERROR(VLOOKUP(A690,'1.Портфель кредитів'!A:Z,14,FALSE),\"\")","v":""}]
[null,{"$f":"IFERROR(VLOOKUP(A691,'1.Портфель кредитів'!A:Z,3,FALSE),\"\")","v":""},{"$f":"IFERROR(VLOOKUP(A691,'1.Портфель кредитів'!A:Z,7,FALSE),\"\")","v":""},{"$f":"IFERROR(VLOOKUP(A691,'1.Портфель кредитів'!A:Z,14,FALSE),\"\")","v":""}]
[null,{"$f":"IFERROR(VLOOKUP(A692,'1.Портфель кредитів'!A:Z,3,FALSE),\"\")","v":""},{"$f":"IFERROR(VLOOKUP(A692,'1.Портфель кредитів'!A:Z,7,FALSE),\"\")","v":""},{"$f":"IFERROR(VLOOKUP(A692,'1.Портфель кредитів'!A:Z,14,FALSE),\"\")","v":""}]
[null,{"$f":"IFERROR(VLOOKUP(A693,'1.Портфель кредитів'!A:Z,3,FALSE),\"\")","v":""},{"$f":"IFERROR(VLOOKUP(A693,'1.Портфель кредитів'!A:Z,7,FALSE),\"\")","v":""},{"$f":"IFERROR(VLOOKUP(A693,'1.Портфель кредитів'!A:Z,14,FALSE),\"\")","v":""}]
[null,{"$f":"IFERROR(VLOOKUP(A694,'1.Портфель кредитів'!A:Z,3,FALSE),\"\")","v":""},{"$f":"IFERROR(VLOOKUP(A694,'1.Портфель кредитів'!A:Z,7,FALSE),\"\")","v":""},{"$f":"IFERROR(VLOOKUP(A694,'1.Портфель кредитів'!A:Z,14,FALSE),\"\")","v":""}]
[null,{"$f":"IFERROR(VLOOKUP(A695,'1.Портфель кредитів'!A:Z,3,FALSE),\"\")","v":""},{"$f":"IFERROR(VLOOKUP(A695,'1.Портфель кредитів'!A:Z,7,FALSE),\"\")","v":""},{"$f":"IFERROR(VLOOKUP(A695,'1.Портфель кредитів'!A:Z,14,FALSE),\"\")","v":""}]
[null,{"$f":"IFERROR(VLOOKUP(A696,'1.Портфель кредитів'!A:Z,3,FALSE),\"\")","v":""},{"$f":"IFERROR(VLOOKUP(A696,'1.Портфель кредитів'!A:Z,7,FALSE),\"\")","v":""},{"$f":"IFERROR(VLOOKUP(A696,'1.Портфель кредитів'!A:Z,14,FALSE),\"\")","v":""}]
[null,{"$f":"IFERROR(VLOOKUP(A697,'1.Портфель кредитів'!A:Z,3,FALSE),\"\")","v":""},{"$f":"IFERROR(VLOOKUP(A697,'1.Портфель кредитів'!A:Z,7,FALSE),\"\")","v":""},{"$f":"IFERROR(VLOOKUP(A697,'1.Портфель кредитів'!A:Z,14,FALSE),\"\")","v":""}]
[null,{"$f":"IFERROR(VLOOKUP(A698,'1.Портфель кредитів'!A:Z,3,FALSE),\"\")","v":""},{"$f":"IFERROR(VLOOKUP(A698,'1.Портфель кредитів'!A:Z,7,FALSE),\"\")","v":""},{"$f":"IFERROR(VLOOKUP(A698,'1.Портфель кредитів'!A:Z,14,FALSE),\"\")","v":""}]
[null,{"$f":"IFERROR(VLOOKUP(A699,'1.Портфель кредитів'!A:Z,3,FALSE),\"\")","v":""},{"$f":"IFERROR(VLOOKUP(A699,'1.Портфель кредитів'!A:Z,7,FALSE),\"\")","v":""},{"$f":"IFERROR(VLOOKUP(A699,'1.Портфель кредитів'!A:Z,14,FALSE),\"\")","v":""}]
[null,{"$f":"IFERROR(VLOOKUP(A700,'1.Портфель кредитів'!A:Z,3,FALSE),\"\")","v":""},{"$f":"IFERROR(VLOOKUP(A700,'1.Портфель кредитів'!A:Z,7,FALSE),\"\")","v":""},{"$f":"IFERROR(VLOOKUP(A700,'1.Портфель кредитів'!A:Z,14,FALSE),\"\")","v":""}]
[null,{"$f":"IFERROR(VLOOKUP(A701,'1.Портфель кредитів'!A:Z,3,FALSE),\"\")","v":""},{"$f":"IFERROR(VLOOKUP(A701,'1.Портфель кредитів'!A:Z,7,FALSE),\"\")","v":""},{"$f":"IFERROR(VLOOKUP(A701,'1.Портфель кредитів'!A:Z,14,FALSE),\"\")","v":""}]
[null,{"$f":"IFERROR(VLOOKUP(A702,'1.Портфель кредитів'!A:Z,3,FALSE),\"\")","v":""},{"$f":"IFERROR(VLOOKUP(A702,'1.Портфель кредитів'!A:Z,7,FALSE),\"\")","v":""},{"$f":"IFERROR(VLOOKUP(A702,'1.Портфель кредитів'!A:Z,14,FALSE),\"\")","v":""}]
[null,{"$f":"IFERROR(VLOOKUP(A703,'1.Портфель кредитів'!A:Z,3,FALSE),\"\")","v":""},{"$f":"IFERROR(VLOOKUP(A703,'1.Портфель кредитів'!A:Z,7,FALSE),\"\")","v":""},{"$f":"IFERROR(VLOOKUP(A703,'1.Портфель кредитів'!A:Z,14,FALSE),\"\")","v":""}]
[null,{"$f":"IFERROR(VLOOKUP(A704,'1.Портфель кредитів'!A:Z,3,FALSE),\"\")","v":""},{"$f":"IFERROR(VLOOKUP(A704,'1.Портфель кредитів'!A:Z,7,FALSE),\"\")","v":""},{"$f":"IFERROR(VLOOKUP(A704,'1.Портфель кредитів'!A:Z,14,FALSE),\"\")","v":""}]
[null,{"$f":"IFERROR(VLOOKUP(A705,'1.Портфель кредитів'!A:Z,3,FALSE),\"\")","v":""},{"$f":"IFERROR(VLOOKUP(A705,'1.Портфель кредитів'!A:Z,7,FALSE),\"\")","v":""},{"$f":"IFERROR(VLOOKUP(A705,'1.Портфель кредитів'!A:Z,14,FALSE),\"\")","v":""}]
[null,{"$f":"IFERROR(VLOOKUP(A706,'1.Портфель кредитів'!A:Z,3,FALSE),\"\")","v":""},{"$f":"IFERROR(VLOOKUP(A706,'1.Портфель кредитів'!A:Z,7,FALSE),\"\")","v":""},{"$f":"IFERROR(VLOOKUP(A706,'1.Портфель кредитів'!A:Z,14,FALSE),\"\")","v":""}]
[null,{"$f":"IFERROR(VLOOKUP(A707,'1.Портфель кредитів'!A:Z,3,FALSE),\"\")","v":""},{"$f":"IFERROR(VLOOKUP(A707,'1.Портфель кредитів'!A:Z,7,FALSE),\"\")","v":""},{"$f":"IFERROR(VLOOKUP(A707,'1.Портфель кредитів'!A:Z,14,FALSE),\"\")","v":""}]
[null,{"$f":"IFERROR(VLOOKUP(A708,'1.Портфель кредитів'!A:Z,3,FALSE),\"\")","v":""},{"$f":"IFERROR(VLOOKUP(A708,'1.Портфель кредитів'!A:Z,7,FALSE),\"\")","v":""},{"$f":"IFERROR(VLOOKUP(A708,'1.Портфель кредитів'!A:Z,14,FALSE),\"\")","v":""}]
[null,{"$f":"IFERROR(VLOOKUP(A709,'1.Портфель кредитів'!A:Z,3,FALSE),\"\")","v":""},{"$f":"IFERROR(VLOOKUP(A709,'1.Портфель кредитів'!A:Z,7,FALSE),\"\")","v":""},{"$f":"IFERROR(VLOOKUP(A709,'1.Портфель кредитів'!A:Z,14,FALSE),\"\")","v":""}]
[null,{"$f":"IFERROR(VLOOKUP(A710,'1.Портфель кредитів'!A:Z,3,FALSE),\"\")","v":""},{"$f":"IFERROR(VLOOKUP(A710,'1.Портфель кредитів'!A:Z,7,FALSE),\"\")","v":""},{"$f":"IFERROR(VLOOKUP(A710,'1.Портфель кредитів'!A:Z,14,FALSE),\"\")","v":""}]
[null,{"$f":"IFERROR(VLOOKUP(A711,'1.Портфель кредитів'!A:Z,3,FALSE),\"\")","v":""},{"$f":"IFERROR(VLOOKUP(A711,'1.Портфель кредитів'!A:Z,7,FALSE),\"\")","v":""},{"$f":"IFERROR(VLOOKUP(A711,'1.Портфель кредитів'!A:Z,14,FALSE),\"\")","v":""}]
[null,{"$f":"IFERROR(VLOOKUP(A712,'1.Портфель кредитів'!A:Z,3,FALSE),\"\")","v":""},{"$f":"IFERROR(VLOOKUP(A712,'1.Портфель кредитів'!A:Z,7,FALSE),\"\")","v":""},{"$f":"IFERROR(VLOOKUP(A712,'1.Портфель кредитів'!A:Z,14,FALSE),\"\")","v":""}]
[null,{"$f":"IFERROR(VLOOKUP(A713,'1.Портфель кредитів'!A:Z,3,FALSE),\"\")","v":""},{"$f":"IFERROR(VLOOKUP(A713,'1.Портфель кредитів'!A:Z,7,FALSE),\"\")","v":""},{"$f":"IFERROR(VLOOKUP(A713,'1.Портфель кредитів'!A:Z,14,FALSE),\"\")","v":""}]
[null,{"$f":"IFERROR(VLOOKUP(A714,'1.Портфель кредитів'!A:Z,3,FALSE),\"\")","v":""},{"$f":"IFERROR(VLOOKUP(A714,'1.Портфель кредитів'!A:Z,7,FALSE),\"\")","v":""},{"$f":"IFERROR(VLOOKUP(A714,'1.Портфель кредитів'!A:Z,14,FALSE),\"\")","v":""}]
[null,{"$f":"IFERROR(VLOOKUP(A715,'1.Портфель кредитів'!A:Z,3,FALSE),\"\")","v":""},{"$f":"IFERROR(VLOOKUP(A715,'1.Портфель кредитів'!A:Z,7,FALSE),\"\")","v":""},{"$f":"IFERROR(VLOOKUP(A715,'1.Портфель кредитів'!A:Z,14,FALSE),\"\")","v":""}]
[null,{"$f":"IFERROR(VLOOKUP(A716,'1.Портфель кредитів'!A:Z,3,FALSE),\"\")","v":""},{"$f":"IFERROR(VLOOKUP(A716,'1.Портфель кредитів'!A:Z,7,FALSE),\"\")","v":""},{"$f":"IFERROR(VLOOKUP(A716,'1.Портфель кредитів'!A:Z,14,FALSE),\"\")","v":""}]
[null,{"$f":"IFERROR(VLOOKUP(A717,'1.Портфель кредитів'!A:Z,3,FALSE),\"\")","v":""},{"$f":"IFERROR(VLOOKUP(A717,'1.Портфель кредитів'!A:Z,7,FALSE),\"\")","v":""},{"$f":"IFERROR(VLOOKUP(A717,'1.Портфель кредитів'!A:Z,14,FALSE),\"\")","v":""}]
[null,{"$f":"IFERROR(VLOOKUP(A718,'1.Портфель кредитів'!A:Z,3,FALSE),\"\")","v":""},{"$f":"IFERROR(VLOOKUP(A718,'1.Портфель кредитів'!A:Z,7,FALSE),\"\")","v":""},{"$f":"IFERROR(VLOOKUP(A718,'1.Портфель кредитів'!A:Z,14,FALSE),\"\")","v":""}]
[null,{"$f":"IFERROR(VLOOKUP(A719,'1.Портфель кредитів'!A:Z,3,FALSE),\"\")","v":""},{"$f":"IFERROR(VLOOKUP(A719,'1.Портфель кредитів'!A:Z,7,FALSE),\"\")","v":""},{"$f":"IFERROR(VLOOKUP(A719,'1.Портфель кредитів'!A:Z,14,FALSE),\"\")","v":""}]
[null,{"$f":"IFERROR(VLOOKUP(A720,'1.Портфель кредитів'!A:Z,3,FALSE),\"\")","v":""},{"$f":"IFERROR(VLOOKUP(A720,'1.Портфель кредитів'!A:Z,7,FALSE),\"\")","v":""},{"$f":"IFERROR(VLOOKUP(A720,'1.Портфель кредитів'!A:Z,14,FALSE),\"\")","v":""}]
[null,{"$f":"IFERROR(VLOOKUP(A721,'1.Портфель кредитів'!A:Z,3,FALSE),\"\")","v":""},{"$f":"IFERROR(VLOOKUP(A721,'1.Портфель кредитів'!A:Z,7,FALSE),\"\")","v":""},{"$f":"IFERROR(VLOOKUP(A721,'1.Портфель кредитів'!A:Z,14,FALSE),\"\")","v":""}]
[null,{"$f":"IFERROR(VLOOKUP(A722,'1.Портфель кредитів'!A:Z,3,FALSE),\"\")","v":""},{"$f":"IFERROR(VLOOKUP(A722,'1.Портфель кредитів'!A:Z,7,FALSE),\"\")","v":""},{"$f":"IFERROR(VLOOKUP(A722,'1.Портфель кредитів'!A:Z,14,FALSE),\"\")","v":""}]
[null,{"$f":"IFERROR(VLOOKUP(A723,'1.Портфель кредитів'!A:Z,3,FALSE),\"\")","v":""},{"$f":"IFERROR(VLOOKUP(A723,'1.Портфель кредитів'!A:Z,7,FALSE),\"\")","v":""},{"$f":"IFERROR(VLOOKUP(A723,'1.Портфель кредитів'!A:Z,14,FALSE),\"\")","v":""}]
[null,{"$f":"IFERROR(VLOOKUP(A724,'1.Портфель кредитів'!A:Z,3,FALSE),\"\")","v":""},{"$f":"IFERROR(VLOOKUP(A724,'1.Портфель кредитів'!A:Z,7,FALSE),\"\")","v":""},{"$f":"IFERROR(VLOOKUP(A724,'1.Портфель кредитів'!A:Z,14,FALSE),\"\")","v":""}]
[null,{"$f":"IFERROR(VLOOKUP(A725,'1.Портфель кредитів'!A:Z,3,FALSE),\"\")","v":""},{"$f":"IFERROR(VLOOKUP(A725,'1.Портфель кредитів'!A:Z,7,FALSE),\"\")","v":""},{"$f":"IFERROR(VLOOKUP(A725,'1.Портфель кредитів'!A:Z,14,FALSE),\"\")","v":""}]
[null,{"$f":"IFERROR(VLOOKUP(A726,'1.Портфель кредитів'!A:Z,3,FALSE),\"\")","v":""},{"$f":"IFERROR(VLOOKUP(A726,'1.Портфель кредитів'!A:Z,7,FALSE),\"\")","v":""},{"$f":"IFERROR(VLOOKUP(A726,'1.Портфель кредитів'!A:Z,14,FALSE),\"\")","v":""}]
[null,{"$f":"IFERROR(VLOOKUP(A727,'1.Портфель кредитів'!A:Z,3,FALSE),\"\")","v":""},{"$f":"IFERROR(VLOOKUP(A727,'1.Портфель кредитів'!A:Z,7,FALSE),\"\")","v":""},{"$f":"IFERROR(VLOOKUP(A727,'1.Портфель кредитів'!A:Z,14,FALSE),\"\")","v":""}]
[null,{"$f":"IFERROR(VLOOKUP(A728,'1.Портфель кредитів'!A:Z,3,FALSE),\"\")","v":""},{"$f":"IFERROR(VLOOKUP(A728,'1.Портфель кредитів'!A:Z,7,FALSE),\"\")","v":""},{"$f":"IFERROR(VLOOKUP(A728,'1.Портфель кредитів'!A:Z,14,FALSE),\"\")","v":""}]
[null,{"$f":"IFERROR(VLOOKUP(A729,'1.Портфель кредитів'!A:Z,3,FALSE),\"\")","v":""},{"$f":"IFERROR(VLOOKUP(A729,'1.Портфель кредитів'!A:Z,7,FALSE),\"\")","v":""},{"$f":"IFERROR(VLOOKUP(A729,'1.Портфель кредитів'!A:Z,14,FALSE),\"\")","v":""}]
[null,{"$f":"IFERROR(VLOOKUP(A730,'1.Портфель кредитів'!A:Z,3,FALSE),\"\")","v":""},{"$f":"IFERROR(VLOOKUP(A730,'1.Портфель кредитів'!A:Z,7,FALSE),\"\")","v":""},{"$f":"IFERROR(VLOOKUP(A730,'1.Портфель кредитів'!A:Z,14,FALSE),\"\")","v":""}]
[null,{"$f":"IFERROR(VLOOKUP(A731,'1.Портфель кредитів'!A:Z,3,FALSE),\"\")","v":""},{"$f":"IFERROR(VLOOKUP(A731,'1.Портфель кредитів'!A:Z,7,FALSE),\"\")","v":""},{"$f":"IFERROR(VLOOKUP(A731,'1.Портфель кредитів'!A:Z,14,FALSE),\"\")","v":""}]
[null,{"$f":"IFERROR(VLOOKUP(A732,'1.Портфель кредитів'!A:Z,3,FALSE),\"\")","v":""},{"$f":"IFERROR(VLOOKUP(A732,'1.Портфель кредитів'!A:Z,7,FALSE),\"\")","v":""},{"$f":"IFERROR(VLOOKUP(A732,'1.Портфель кредитів'!A:Z,14,FALSE),\"\")","v":""}]
[null,{"$f":"IFERROR(VLOOKUP(A733,'1.Портфель кредитів'!A:Z,3,FALSE),\"\")","v":""},{"$f":"IFERROR(VLOOKUP(A733,'1.Портфель кредитів'!A:Z,7,FALSE),\"\")","v":""},{"$f":"IFERROR(VLOOKUP(A733,'1.Портфель кредитів'!A:Z,14,FALSE),\"\")","v":""}]
[null,{"$f":"IFERROR(VLOOKUP(A734,'1.Портфель кредитів'!A:Z,3,FALSE),\"\")","v":""},{"$f":"IFERROR(VLOOKUP(A734,'1.Портфель кредитів'!A:Z,7,FALSE),\"\")","v":""},{"$f":"IFERROR(VLOOKUP(A734,'1.Портфель кредитів'!A:Z,14,FALSE),\"\")","v":""}]
[null,{"$f":"IFERROR(VLOOKUP(A735,'1.Портфель кредитів'!A:Z,3,FALSE),\"\")","v":""},{"$f":"IFERROR(VLOOKUP(A735,'1.Портфель кредитів'!A:Z,7,FALSE),\"\")","v":""},{"$f":"IFERROR(VLOOKUP(A735,'1.Портфель кредитів'!A:Z,14,FALSE),\"\")","v":""}]
[null,{"$f":"IFERROR(VLOOKUP(A736,'1.Портфель кредитів'!A:Z,3,FALSE),\"\")","v":""},{"$f":"IFERROR(VLOOKUP(A736,'1.Портфель кредитів'!A:Z,7,FALSE),\"\")","v":""},{"$f":"IFERROR(VLOOKUP(A736,'1.Портфель кредитів'!A:Z,14,FALSE),\"\")","v":""}]
[null,{"$f":"IFERROR(VLOOKUP(A737,'1.Портфель кредитів'!A:Z,3,FALSE),\"\")","v":""},{"$f":"IFERROR(VLOOKUP(A737,'1.Портфель кредитів'!A:Z,7,FALSE),\"\")","v":""},{"$f":"IFERROR(VLOOKUP(A737,'1.Портфель кредитів'!A:Z,14,FALSE),\"\")","v":""}]
[null,{"$f":"IFERROR(VLOOKUP(A738,'1.Портфель кредитів'!A:Z,3,FALSE),\"\")","v":""},{"$f":"IFERROR(VLOOKUP(A738,'1.Портфель кредитів'!A:Z,7,FALSE),\"\")","v":""},{"$f":"IFERROR(VLOOKUP(A738,'1.Портфель кредитів'!A:Z,14,FALSE),\"\")","v":""}]
[null,{"$f":"IFERROR(VLOOKUP(A739,'1.Портфель кредитів'!A:Z,3,FALSE),\"\")","v":""},{"$f":"IFERROR(VLOOKUP(A739,'1.Портфель кредитів'!A:Z,7,FALSE),\"\")","v":""},{"$f":"IFERROR(VLOOKUP(A739,'1.Портфель кредитів'!A:Z,14,FALSE),\"\")","v":""}]
[null,{"$f":"IFERROR(VLOOKUP(A740,'1.Портфель кредитів'!A:Z,3,FALSE),\"\")","v":""},{"$f":"IFERROR(VLOOKUP(A740,'1.Портфель кредитів'!A:Z,7,FALSE),\"\")","v":""},{"$f":"IFERROR(VLOOKUP(A740,'1.Портфель кредитів'!A:Z,14,FALSE),\"\")","v":""}]
[null,{"$f":"IFERROR(VLOOKUP(A741,'1.Портфель кредитів'!A:Z,3,FALSE),\"\")","v":""},{"$f":"IFERROR(VLOOKUP(A741,'1.Портфель кредитів'!A:Z,7,FALSE),\"\")","v":""},{"$f":"IFERROR(VLOOKUP(A741,'1.Портфель кредитів'!A:Z,14,FALSE),\"\")","v":""}]
[null,{"$f":"IFERROR(VLOOKUP(A742,'1.Портфель кредитів'!A:Z,3,FALSE),\"\")","v":""},{"$f":"IFERROR(VLOOKUP(A742,'1.Портфель кредитів'!A:Z,7,FALSE),\"\")","v":""},{"$f":"IFERROR(VLOOKUP(A742,'1.Портфель кредитів'!A:Z,14,FALSE),\"\")","v":""}]
[null,{"$f":"IFERROR(VLOOKUP(A743,'1.Портфель кредитів'!A:Z,3,FALSE),\"\")","v":""},{"$f":"IFERROR(VLOOKUP(A743,'1.Портфель кредитів'!A:Z,7,FALSE),\"\")","v":""},{"$f":"IFERROR(VLOOKUP(A743,'1.Портфель кредитів'!A:Z,14,FALSE),\"\")","v":""}]
[null,{"$f":"IFERROR(VLOOKUP(A744,'1.Портфель кредитів'!A:Z,3,FALSE),\"\")","v":""},{"$f":"IFERROR(VLOOKUP(A744,'1.Портфель кредитів'!A:Z,7,FALSE),\"\")","v":""},{"$f":"IFERROR(VLOOKUP(A744,'1.Портфель кредитів'!A:Z,14,FALSE),\"\")","v":""}]
[null,{"$f":"IFERROR(VLOOKUP(A745,'1.Портфель кредитів'!A:Z,3,FALSE),\"\")","v":""},{"$f":"IFERROR(VLOOKUP(A745,'1.Портфель кредитів'!A:Z,7,FALSE),\"\")","v":""},{"$f":"IFERROR(VLOOKUP(A745,'1.Портфель кредитів'!A:Z,14,FALSE),\"\")","v":""}]
[null,{"$f":"IFERROR(VLOOKUP(A746,'1.Портфель кредитів'!A:Z,3,FALSE),\"\")","v":""},{"$f":"IFERROR(VLOOKUP(A746,'1.Портфель кредитів'!A:Z,7,FALSE),\"\")","v":""},{"$f":"IFERROR(VLOOKUP(A746,'1.Портфель кредитів'!A:Z,14,FALSE),\"\")","v":""}]
[null,{"$f":"IFERROR(VLOOKUP(A747,'1.Портфель кредитів'!A:Z,3,FALSE),\"\")","v":""},{"$f":"IFERROR(VLOOKUP(A747,'1.Портфель кредитів'!A:Z,7,FALSE),\"\")","v":""},{"$f":"IFERROR(VLOOKUP(A747,'1.Портфель кредитів'!A:Z,14,FALSE),\"\")","v":""}]
[null,{"$f":"IFERROR(VLOOKUP(A748,'1.Портфель кредитів'!A:Z,3,FALSE),\"\")","v":""},{"$f":"IFERROR(VLOOKUP(A748,'1.Портфель кредитів'!A:Z,7,FALSE),\"\")","v":""},{"$f":"IFERROR(VLOOKUP(A748,'1.Портфель кредитів'!A:Z,14,FALSE),\"\")","v":""}]
[null,{"$f":"IFERROR(VLOOKUP(A749,'1.Портфель кредитів'!A:Z,3,FALSE),\"\")","v":""},{"$f":"IFERROR(VLOOKUP(A749,'1.Портфель кредитів'!A:Z,7,FALSE),\"\")","v":""},{"$f":"IFERROR(VLOOKUP(A749,'1.Портфель кредитів'!A:Z,14,FALSE),\"\")","v":""}]
[null,{"$f":"IFERROR(VLOOKUP(A750,'1.Портфель кредитів'!A:Z,3,FALSE),\"\")","v":""},{"$f":"IFERROR(VLOOKUP(A750,'1.Портфель кредитів'!A:Z,7,FALSE),\"\")","v":""},{"$f":"IFERROR(VLOOKUP(A750,'1.Портфель кредитів'!A:Z,14,FALSE),\"\")","v":""}]
[null,{"$f":"IFERROR(VLOOKUP(A751,'1.Портфель кредитів'!A:Z,3,FALSE),\"\")","v":""},{"$f":"IFERROR(VLOOKUP(A751,'1.Портфель кредитів'!A:Z,7,FALSE),\"\")","v":""},{"$f":"IFERROR(VLOOKUP(A751,'1.Портфель кредитів'!A:Z,14,FALSE),\"\")","v":""}]
[null,{"$f":"IFERROR(VLOOKUP(A752,'1.Портфель кредитів'!A:Z,3,FALSE),\"\")","v":""},{"$f":"IFERROR(VLOOKUP(A752,'1.Портфель кредитів'!A:Z,7,FALSE),\"\")","v":""},{"$f":"IFERROR(VLOOKUP(A752,'1.Портфель кредитів'!A:Z,14,FALSE),\"\")","v":""}]
[null,{"$f":"IFERROR(VLOOKUP(A753,'1.Портфель кредитів'!A:Z,3,FALSE),\"\")","v":""},{"$f":"IFERROR(VLOOKUP(A753,'1.Портфель кредитів'!A:Z,7,FALSE),\"\")","v":""},{"$f":"IFERROR(VLOOKUP(A753,'1.Портфель кредитів'!A:Z,14,FALSE),\"\")","v":""}]
[null,{"$f":"IFERROR(VLOOKUP(A754,'1.Портфель кредитів'!A:Z,3,FALSE),\"\")","v":""},{"$f":"IFERROR(VLOOKUP(A754,'1.Портфель кредитів'!A:Z,7,FALSE),\"\")","v":""},{"$f":"IFERROR(VLOOKUP(A754,'1.Портфель кредитів'!A:Z,14,FALSE),\"\")","v":""}]
[null,{"$f":"IFERROR(VLOOKUP(A755,'1.Портфель кредитів'!A:Z,3,FALSE),\"\")","v":""},{"$f":"IFERROR(VLOOKUP(A755,'1.Портфель кредитів'!A:Z,7,FALSE),\"\")","v":""},{"$f":"IFERROR(VLOOKUP(A755,'1.Портфель кредитів'!A:Z,14,FALSE),\"\")","v":""}]
[null,{"$f":"IFERROR(VLOOKUP(A756,'1.Портфель кредитів'!A:Z,3,FALSE),\"\")","v":""},{"$f":"IFERROR(VLOOKUP(A756,'1.Портфель кредитів'!A:Z,7,FALSE),\"\")","v":""},{"$f":"IFERROR(VLOOKUP(A756,'1.Портфель кредитів'!A:Z,14,FALSE),\"\")","v":""}]
[null,{"$f":"IFERROR(VLOOKUP(A757,'1.Портфель кредитів'!A:Z,3,FALSE),\"\")","v":""},{"$f":"IFERROR(VLOOKUP(A757,'1.Портфель кредитів'!A:Z,7,FALSE),\"\")","v":""},{"$f":"IFERROR(VLOOKUP(A757,'1.Портфель кредитів'!A:Z,14,FALSE),\"\")","v":""}]
[null,{"$f":"IFERROR(VLOOKUP(A758,'1.Портфель кредитів'!A:Z,3,FALSE),\"\")","v":""},{"$f":"IFERROR(VLOOKUP(A758,'1.Портфель кредитів'!A:Z,7,FALSE),\"\")","v":""},{"$f":"IFERROR(VLOOKUP(A758,'1.Портфель кредитів'!A:Z,14,FALSE),\"\")","v":""}]
[null,{"$f":"IFERROR(VLOOKUP(A759,'1.Портфель кредитів'!A:Z,3,FALSE),\"\")","v":""},{"$f":"IFERROR(VLOOKUP(A759,'1.Портфель кредитів'!A:Z,7,FALSE),\"\")","v":""},{"$f":"IFERROR(VLOOKUP(A759,'1.Портфель кредитів'!A:Z,14,FALSE),\"\")","v":""}]
[null,{"$f":"IFERROR(VLOOKUP(A760,'1.Портфель кредитів'!A:Z,3,FALSE),\"\")","v":""},{"$f":"IFERROR(VLOOKUP(A760,'1.Портфель кредитів'!A:Z,7,FALSE),\"\")","v":""},{"$f":"IFERROR(VLOOKUP(A760,'1.Портфель кредитів'!A:Z,14,FALSE),\"\")","v":""}]
[null,{"$f":"IFERROR(VLOOKUP(A761,'1.Портфель кредитів'!A:Z,3,FALSE),\"\")","v":""},{"$f":"IFERROR(VLOOKUP(A761,'1.Портфель кредитів'!A:Z,7,FALSE),\"\")","v":""},{"$f":"IFERROR(VLOOKUP(A761,'1.Портфель кредитів'!A:Z,14,FALSE),\"\")","v":""}]
[null,{"$f":"IFERROR(VLOOKUP(A762,'1.Портфель кредитів'!A:Z,3,FALSE),\"\")","v":""},{"$f":"IFERROR(VLOOKUP(A762,'1.Портфель кредитів'!A:Z,7,FALSE),\"\")","v":""},{"$f":"IFERROR(VLOOKUP(A762,'1.Портфель кредитів'!A:Z,14,FALSE),\"\")","v":""}]
[null,{"$f":"IFERROR(VLOOKUP(A763,'1.Портфель кредитів'!A:Z,3,FALSE),\"\")","v":""},{"$f":"IFERROR(VLOOKUP(A763,'1.Портфель кредитів'!A:Z,7,FALSE),\"\")","v":""},{"$f":"IFERROR(VLOOKUP(A763,'1.Портфель кредитів'!A:Z,14,FALSE),\"\")","v":""}]
[null,{"$f":"IFERROR(VLOOKUP(A764,'1.Портфель кредитів'!A:Z,3,FALSE),\"\")","v":""},{"$f":"IFERROR(VLOOKUP(A764,'1.Портфель кредитів'!A:Z,7,FALSE),\"\")","v":""},{"$f":"IFERROR(VLOOKUP(A764,'1.Портфель кредитів'!A:Z,14,FALSE),\"\")","v":""}]
[null,{"$f":"IFERROR(VLOOKUP(A765,'1.Портфель кредитів'!A:Z,3,FALSE),\"\")","v":""},{"$f":"IFERROR(VLOOKUP(A765,'1.Портфель кредитів'!A:Z,7,FALSE),\"\")","v":""},{"$f":"IFERROR(VLOOKUP(A765,'1.Портфель кредитів'!A:Z,14,FALSE),\"\")","v":""}]
[null,{"$f":"IFERROR(VLOOKUP(A766,'1.Портфель кредитів'!A:Z,3,FALSE),\"\")","v":""},{"$f":"IFERROR(VLOOKUP(A766,'1.Портфель кредитів'!A:Z,7,FALSE),\"\")","v":""},{"$f":"IFERROR(VLOOKUP(A766,'1.Портфель кредитів'!A:Z,14,FALSE),\"\")","v":""}]
[null,{"$f":"IFERROR(VLOOKUP(A767,'1.Портфель кредитів'!A:Z,3,FALSE),\"\")","v":""},{"$f":"IFERROR(VLOOKUP(A767,'1.Портфель кредитів'!A:Z,7,FALSE),\"\")","v":""},{"$f":"IFERROR(VLOOKUP(A767,'1.Портфель кредитів'!A:Z,14,FALSE),\"\")","v":""}]
[null,{"$f":"IFERROR(VLOOKUP(A768,'1.Портфель кредитів'!A:Z,3,FALSE),\"\")","v":""},{"$f":"IFERROR(VLOOKUP(A768,'1.Портфель кредитів'!A:Z,7,FALSE),\"\")","v":""},{"$f":"IFERROR(VLOOKUP(A768,'1.Портфель кредитів'!A:Z,14,FALSE),\"\")","v":""}]
[null,{"$f":"IFERROR(VLOOKUP(A769,'1.Портфель кредитів'!A:Z,3,FALSE),\"\")","v":""},{"$f":"IFERROR(VLOOKUP(A769,'1.Портфель кредитів'!A:Z,7,FALSE),\"\")","v":""},{"$f":"IFERROR(VLOOKUP(A769,'1.Портфель кредитів'!A:Z,14,FALSE),\"\")","v":""}]
[null,{"$f":"IFERROR(VLOOKUP(A770,'1.Портфель кредитів'!A:Z,3,FALSE),\"\")","v":""},{"$f":"IFERROR(VLOOKUP(A770,'1.Портфель кредитів'!A:Z,7,FALSE),\"\")","v":""},{"$f":"IFERROR(VLOOKUP(A770,'1.Портфель кредитів'!A:Z,14,FALSE),\"\")","v":""}]
[null,{"$f":"IFERROR(VLOOKUP(A771,'1.Портфель кредитів'!A:Z,3,FALSE),\"\")","v":""},{"$f":"IFERROR(VLOOKUP(A771,'1.Портфель кредитів'!A:Z,7,FALSE),\"\")","v":""},{"$f":"IFERROR(VLOOKUP(A771,'1.Портфель кредитів'!A:Z,14,FALSE),\"\")","v":""}]
[null,{"$f":"IFERROR(VLOOKUP(A772,'1.Портфель кредитів'!A:Z,3,FALSE),\"\")","v":""},{"$f":"IFERROR(VLOOKUP(A772,'1.Портфель кредитів'!A:Z,7,FALSE),\"\")","v":""},{"$f":"IFERROR(VLOOKUP(A772,'1.Портфель кредитів'!A:Z,14,FALSE),\"\")","v":""}]
[null,{"$f":"IFERROR(VLOOKUP(A773,'1.Портфель кредитів'!A:Z,3,FALSE),\"\")","v":""},{"$f":"IFERROR(VLOOKUP(A773,'1.Портфель кредитів'!A:Z,7,FALSE),\"\")","v":""},{"$f":"IFERROR(VLOOKUP(A773,'1.Портфель кредитів'!A:Z,14,FALSE),\"\")","v":""}]
[null,{"$f":"IFERROR(VLOOKUP(A774,'1.Портфель кредитів'!A:Z,3,FALSE),\"\")","v":""},{"$f":"IFERROR(VLOOKUP(A774,'1.Портфель кредитів'!A:Z,7,FALSE),\"\")","v":""},{"$f":"IFERROR(VLOOKUP(A774,'1.Портфель кредитів'!A:Z,14,FALSE),\"\")","v":""}]
[null,{"$f":"IFERROR(VLOOKUP(A775,'1.Портфель кредитів'!A:Z,3,FALSE),\"\")","v":""},{"$f":"IFERROR(VLOOKUP(A775,'1.Портфель кредитів'!A:Z,7,FALSE),\"\")","v":""},{"$f":"IFERROR(VLOOKUP(A775,'1.Портфель кредитів'!A:Z,14,FALSE),\"\")","v":""}]
[null,{"$f":"IFERROR(VLOOKUP(A776,'1.Портфель кредитів'!A:Z,3,FALSE),\"\")","v":""},{"$f":"IFERROR(VLOOKUP(A776,'1.Портфель кредитів'!A:Z,7,FALSE),\"\")","v":""},{"$f":"IFERROR(VLOOKUP(A776,'1.Портфель кредитів'!A:Z,14,FALSE),\"\")","v":""}]
[null,{"$f":"IFERROR(VLOOKUP(A777,'1.Портфель кредитів'!A:Z,3,FALSE),\"\")","v":""},{"$f":"IFERROR(VLOOKUP(A777,'1.Портфель кредитів'!A:Z,7,FALSE),\"\")","v":""},{"$f":"IFERROR(VLOOKUP(A777,'1.Портфель кредитів'!A:Z,14,FALSE),\"\")","v":""}]
[null,{"$f":"IFERROR(VLOOKUP(A778,'1.Портфель кредитів'!A:Z,3,FALSE),\"\")","v":""},{"$f":"IFERROR(VLOOKUP(A778,'1.Портфель кредитів'!A:Z,7,FALSE),\"\")","v":""},{"$f":"IFERROR(VLOOKUP(A778,'1.Портфель кредитів'!A:Z,14,FALSE),\"\")","v":""}]
[null,{"$f":"IFERROR(VLOOKUP(A779,'1.Портфель кредитів'!A:Z,3,FALSE),\"\")","v":""},{"$f":"IFERROR(VLOOKUP(A779,'1.Портфель кредитів'!A:Z,7,FALSE),\"\")","v":""},{"$f":"IFERROR(VLOOKUP(A779,'1.Портфель кредитів'!A:Z,14,FALSE),\"\")","v":""}]
[null,{"$f":"IFERROR(VLOOKUP(A780,'1.Портфель кредитів'!A:Z,3,FALSE),\"\")","v":""},{"$f":"IFERROR(VLOOKUP(A780,'1.Портфель кредитів'!A:Z,7,FALSE),\"\")","v":""},{"$f":"IFERROR(VLOOKUP(A780,'1.Портфель кредитів'!A:Z,14,FALSE),\"\")","v":""}]
[null,{"$f":"IFERROR(VLOOKUP(A781,'1.Портфель кредитів'!A:Z,3,FALSE),\"\")","v":""},{"$f":"IFERROR(VLOOKUP(A781,'1.Портфель кредитів'!A:Z,7,FALSE),\"\")","v":""},{"$f":"IFERROR(VLOOKUP(A781,'1.Портфель кредитів'!A:Z,14,FALSE),\"\")","v":""}]
[null,{"$f":"IFERROR(VLOOKUP(A782,'1.Портфель кредитів'!A:Z,3,FALSE),\"\")","v":""},{"$f":"IFERROR(VLOOKUP(A782,'1.Портфель кредитів'!A:Z,7,FALSE),\"\")","v":""},{"$f":"IFERROR(VLOOKUP(A782,'1.Портфель кредитів'!A:Z,14,FALSE),\"\")","v":""}]
[null,{"$f":"IFERROR(VLOOKUP(A783,'1.Портфель кредитів'!A:Z,3,FALSE),\"\")","v":""},{"$f":"IFERROR(VLOOKUP(A783,'1.Портфель кредитів'!A:Z,7,FALSE),\"\")","v":""},{"$f":"IFERROR(VLOOKUP(A783,'1.Портфель кредитів'!A:Z,14,FALSE),\"\")","v":""}]
[null,{"$f":"IFERROR(VLOOKUP(A784,'1.Портфель кредитів'!A:Z,3,FALSE),\"\")","v":""},{"$f":"IFERROR(VLOOKUP(A784,'1.Портфель кредитів'!A:Z,7,FALSE),\"\")","v":""},{"$f":"IFERROR(VLOOKUP(A784,'1.Портфель кредитів'!A:Z,14,FALSE),\"\")","v":""}]
[null,{"$f":"IFERROR(VLOOKUP(A785,'1.Портфель кредитів'!A:Z,3,FALSE),\"\")","v":""},{"$f":"IFERROR(VLOOKUP(A785,'1.Портфель кредитів'!A:Z,7,FALSE),\"\")","v":""},{"$f":"IFERROR(VLOOKUP(A785,'1.Портфель кредитів'!A:Z,14,FALSE),\"\")","v":""}]
[null,{"$f":"IFERROR(VLOOKUP(A786,'1.Портфель кредитів'!A:Z,3,FALSE),\"\")","v":""},{"$f":"IFERROR(VLOOKUP(A786,'1.Портфель кредитів'!A:Z,7,FALSE),\"\")","v":""},{"$f":"IFERROR(VLOOKUP(A786,'1.Портфель кредитів'!A:Z,14,FALSE),\"\")","v":""}]
[null,{"$f":"IFERROR(VLOOKUP(A787,'1.Портфель кредитів'!A:Z,3,FALSE),\"\")","v":""},{"$f":"IFERROR(VLOOKUP(A787,'1.Портфель кредитів'!A:Z,7,FALSE),\"\")","v":""},{"$f":"IFERROR(VLOOKUP(A787,'1.Портфель кредитів'!A:Z,14,FALSE),\"\")","v":""}]
[null,{"$f":"IFERROR(VLOOKUP(A788,'1.Портфель кредитів'!A:Z,3,FALSE),\"\")","v":""},{"$f":"IFERROR(VLOOKUP(A788,'1.Портфель кредитів'!A:Z,7,FALSE),\"\")","v":""},{"$f":"IFERROR(VLOOKUP(A788,'1.Портфель кредитів'!A:Z,14,FALSE),\"\")","v":""}]
[null,{"$f":"IFERROR(VLOOKUP(A789,'1.Портфель кредитів'!A:Z,3,FALSE),\"\")","v":""},{"$f":"IFERROR(VLOOKUP(A789,'1.Портфель кредитів'!A:Z,7,FALSE),\"\")","v":""},{"$f":"IFERROR(VLOOKUP(A789,'1.Портфель кредитів'!A:Z,14,FALSE),\"\")","v":""}]
[null,{"$f":"IFERROR(VLOOKUP(A790,'1.Портфель кредитів'!A:Z,3,FALSE),\"\")","v":""},{"$f":"IFERROR(VLOOKUP(A790,'1.Портфель кредитів'!A:Z,7,FALSE),\"\")","v":""},{"$f":"IFERROR(VLOOKUP(A790,'1.Портфель кредитів'!A:Z,14,FALSE),\"\")","v":""}]
[null,{"$f":"IFERROR(VLOOKUP(A791,'1.Портфель кредитів'!A:Z,3,FALSE),\"\")","v":""},{"$f":"IFERROR(VLOOKUP(A791,'1.Портфель кредитів'!A:Z,7,FALSE),\"\")","v":""},{"$f":"IFERROR(VLOOKUP(A791,'1.Портфель кредитів'!A:Z,14,FALSE),\"\")","v":""}]
[null,{"$f":"IFERROR(VLOOKUP(A792,'1.Портфель кредитів'!A:Z,3,FALSE),\"\")","v":""},{"$f":"IFERROR(VLOOKUP(A792,'1.Портфель кредитів'!A:Z,7,FALSE),\"\")","v":""},{"$f":"IFERROR(VLOOKUP(A792,'1.Портфель кредитів'!A:Z,14,FALSE),\"\")","v":""}]
[null,{"$f":"IFERROR(VLOOKUP(A793,'1.Портфель кредитів'!A:Z,3,FALSE),\"\")","v":""},{"$f":"IFERROR(VLOOKUP(A793,'1.Портфель кредитів'!A:Z,7,FALSE),\"\")","v":""},{"$f":"IFERROR(VLOOKUP(A793,'1.Портфель кредитів'!A:Z,14,FALSE),\"\")","v":""}]
[null,{"$f":"IFERROR(VLOOKUP(A794,'1.Портфель кредитів'!A:Z,3,FALSE),\"\")","v":""},{"$f":"IFERROR(VLOOKUP(A794,'1.Портфель кредитів'!A:Z,7,FALSE),\"\")","v":""},{"$f":"IFERROR(VLOOKUP(A794,'1.Портфель кредитів'!A:Z,14,FALSE),\"\")","v":""}]
[null,{"$f":"IFERROR(VLOOKUP(A795,'1.Портфель кредитів'!A:Z,3,FALSE),\"\")","v":""},{"$f":"IFERROR(VLOOKUP(A795,'1.Портфель кредитів'!A:Z,7,FALSE),\"\")","v":""},{"$f":"IFERROR(VLOOKUP(A795,'1.Портфель кредитів'!A:Z,14,FALSE),\"\")","v":""}]
[null,{"$f":"IFERROR(VLOOKUP(A796,'1.Портфель кредитів'!A:Z,3,FALSE),\"\")","v":""},{"$f":"IFERROR(VLOOKUP(A796,'1.Портфель кредитів'!A:Z,7,FALSE),\"\")","v":""},{"$f":"IFERROR(VLOOKUP(A796,'1.Портфель кредитів'!A:Z,14,FALSE),\"\")","v":""}]
[null,{"$f":"IFERROR(VLOOKUP(A797,'1.Портфель кредитів'!A:Z,3,FALSE),\"\")","v":""},{"$f":"IFERROR(VLOOKUP(A797,'1.Портфель кредитів'!A:Z,7,FALSE),\"\")","v":""},{"$f":"IFERROR(VLOOKUP(A797,'1.Портфель кредитів'!A:Z,14,FALSE),\"\")","v":""}]
[null,{"$f":"IFERROR(VLOOKUP(A798,'1.Портфель кредитів'!A:Z,3,FALSE),\"\")","v":""},{"$f":"IFERROR(VLOOKUP(A798,'1.Портфель кредитів'!A:Z,7,FALSE),\"\")","v":""},{"$f":"IFERROR(VLOOKUP(A798,'1.Портфель кредитів'!A:Z,14,FALSE),\"\")","v":""}]
[null,{"$f":"IFERROR(VLOOKUP(A799,'1.Портфель кредитів'!A:Z,3,FALSE),\"\")","v":""},{"$f":"IFERROR(VLOOKUP(A799,'1.Портфель кредитів'!A:Z,7,FALSE),\"\")","v":""},{"$f":"IFERROR(VLOOKUP(A799,'1.Портфель кредитів'!A:Z,14,FALSE),\"\")","v":""}]
[null,{"$f":"IFERROR(VLOOKUP(A800,'1.Портфель кредитів'!A:Z,3,FALSE),\"\")","v":""},{"$f":"IFERROR(VLOOKUP(A800,'1.Портфель кредитів'!A:Z,7,FALSE),\"\")","v":""},{"$f":"IFERROR(VLOOKUP(A800,'1.Портфель кредитів'!A:Z,14,FALSE),\"\")","v":""}]
[null,{"$f":"IFERROR(VLOOKUP(A801,'1.Портфель кредитів'!A:Z,3,FALSE),\"\")","v":""},{"$f":"IFERROR(VLOOKUP(A801,'1.Портфель кредитів'!A:Z,7,FALSE),\"\")","v":""},{"$f":"IFERROR(VLOOKUP(A801,'1.Портфель кредитів'!A:Z,14,FALSE),\"\")","v":""}]
[null,{"$f":"IFERROR(VLOOKUP(A802,'1.Портфель кредитів'!A:Z,3,FALSE),\"\")","v":""},{"$f":"IFERROR(VLOOKUP(A802,'1.Портфель кредитів'!A:Z,7,FALSE),\"\")","v":""},{"$f":"IFERROR(VLOOKUP(A802,'1.Портфель кредитів'!A:Z,14,FALSE),\"\")","v":""}]
[null,{"$f":"IFERROR(VLOOKUP(A803,'1.Портфель кредитів'!A:Z,3,FALSE),\"\")","v":""},{"$f":"IFERROR(VLOOKUP(A803,'1.Портфель кредитів'!A:Z,7,FALSE),\"\")","v":""},{"$f":"IFERROR(VLOOKUP(A803,'1.Портфель кредитів'!A:Z,14,FALSE),\"\")","v":""}]
[null,{"$f":"IFERROR(VLOOKUP(A804,'1.Портфель кредитів'!A:Z,3,FALSE),\"\")","v":""},{"$f":"IFERROR(VLOOKUP(A804,'1.Портфель кредитів'!A:Z,7,FALSE),\"\")","v":""},{"$f":"IFERROR(VLOOKUP(A804,'1.Портфель кредитів'!A:Z,14,FALSE),\"\")","v":""}]
[null,{"$f":"IFERROR(VLOOKUP(A805,'1.Портфель кредитів'!A:Z,3,FALSE),\"\")","v":""},{"$f":"IFERROR(VLOOKUP(A805,'1.Портфель кредитів'!A:Z,7,FALSE),\"\")","v":""},{"$f":"IFERROR(VLOOKUP(A805,'1.Портфель кредитів'!A:Z,14,FALSE),\"\")","v":""}]
[null,{"$f":"IFERROR(VLOOKUP(A806,'1.Портфель кредитів'!A:Z,3,FALSE),\"\")","v":""},{"$f":"IFERROR(VLOOKUP(A806,'1.Портфель кредитів'!A:Z,7,FALSE),\"\")","v":""},{"$f":"IFERROR(VLOOKUP(A806,'1.Портфель кредитів'!A:Z,14,FALSE),\"\")","v":""}]
[null,{"$f":"IFERROR(VLOOKUP(A807,'1.Портфель кредитів'!A:Z,3,FALSE),\"\")","v":""},{"$f":"IFERROR(VLOOKUP(A807,'1.Портфель кредитів'!A:Z,7,FALSE),\"\")","v":""},{"$f":"IFERROR(VLOOKUP(A807,'1.Портфель кредитів'!A:Z,14,FALSE),\"\")","v":""}]
[null,{"$f":"IFERROR(VLOOKUP(A808,'1.Портфель кредитів'!A:Z,3,FALSE),\"\")","v":""},{"$f":"IFERROR(VLOOKUP(A808,'1.Портфель кредитів'!A:Z,7,FALSE),\"\")","v":""},{"$f":"IFERROR(VLOOKUP(A808,'1.Портфель кредитів'!A:Z,14,FALSE),\"\")","v":""}]
[null,{"$f":"IFERROR(VLOOKUP(A809,'1.Портфель кредитів'!A:Z,3,FALSE),\"\")","v":""},{"$f":"IFERROR(VLOOKUP(A809,'1.Портфель кредитів'!A:Z,7,FALSE),\"\")","v":""},{"$f":"IFERROR(VLOOKUP(A809,'1.Портфель кредитів'!A:Z,14,FALSE),\"\")","v":""}]
[null,{"$f":"IFERROR(VLOOKUP(A810,'1.Портфель кредитів'!A:Z,3,FALSE),\"\")","v":""},{"$f":"IFERROR(VLOOKUP(A810,'1.Портфель кредитів'!A:Z,7,FALSE),\"\")","v":""},{"$f":"IFERROR(VLOOKUP(A810,'1.Портфель кредитів'!A:Z,14,FALSE),\"\")","v":""}]
[null,{"$f":"IFERROR(VLOOKUP(A811,'1.Портфель кредитів'!A:Z,3,FALSE),\"\")","v":""},{"$f":"IFERROR(VLOOKUP(A811,'1.Портфель кредитів'!A:Z,7,FALSE),\"\")","v":""},{"$f":"IFERROR(VLOOKUP(A811,'1.Портфель кредитів'!A:Z,14,FALSE),\"\")","v":""}]
[null,{"$f":"IFERROR(VLOOKUP(A812,'1.Портфель кредитів'!A:Z,3,FALSE),\"\")","v":""},{"$f":"IFERROR(VLOOKUP(A812,'1.Портфель кредитів'!A:Z,7,FALSE),\"\")","v":""},{"$f":"IFERROR(VLOOKUP(A812,'1.Портфель кредитів'!A:Z,14,FALSE),\"\")","v":""}]
[null,{"$f":"IFERROR(VLOOKUP(A813,'1.Портфель кредитів'!A:Z,3,FALSE),\"\")","v":""},{"$f":"IFERROR(VLOOKUP(A813,'1.Портфель кредитів'!A:Z,7,FALSE),\"\")","v":""},{"$f":"IFERROR(VLOOKUP(A813,'1.Портфель кредитів'!A:Z,14,FALSE),\"\")","v":""}]
[null,{"$f":"IFERROR(VLOOKUP(A814,'1.Портфель кредитів'!A:Z,3,FALSE),\"\")","v":""},{"$f":"IFERROR(VLOOKUP(A814,'1.Портфель кредитів'!A:Z,7,FALSE),\"\")","v":""},{"$f":"IFERROR(VLOOKUP(A814,'1.Портфель кредитів'!A:Z,14,FALSE),\"\")","v":""}]
[null,{"$f":"IFERROR(VLOOKUP(A815,'1.Портфель кредитів'!A:Z,3,FALSE),\"\")","v":""},{"$f":"IFERROR(VLOOKUP(A815,'1.Портфель кредитів'!A:Z,7,FALSE),\"\")","v":""},{"$f":"IFERROR(VLOOKUP(A815,'1.Портфель кредитів'!A:Z,14,FALSE),\"\")","v":""}]
[null,{"$f":"IFERROR(VLOOKUP(A816,'1.Портфель кредитів'!A:Z,3,FALSE),\"\")","v":""},{"$f":"IFERROR(VLOOKUP(A816,'1.Портфель кредитів'!A:Z,7,FALSE),\"\")","v":""},{"$f":"IFERROR(VLOOKUP(A816,'1.Портфель кредитів'!A:Z,14,FALSE),\"\")","v":""}]
[null,{"$f":"IFERROR(VLOOKUP(A817,'1.Портфель кредитів'!A:Z,3,FALSE),\"\")","v":""},{"$f":"IFERROR(VLOOKUP(A817,'1.Портфель кредитів'!A:Z,7,FALSE),\"\")","v":""},{"$f":"IFERROR(VLOOKUP(A817,'1.Портфель кредитів'!A:Z,14,FALSE),\"\")","v":""}]
[null,{"$f":"IFERROR(VLOOKUP(A818,'1.Портфель кредитів'!A:Z,3,FALSE),\"\")","v":""},{"$f":"IFERROR(VLOOKUP(A818,'1.Портфель кредитів'!A:Z,7,FALSE),\"\")","v":""},{"$f":"IFERROR(VLOOKUP(A818,'1.Портфель кредитів'!A:Z,14,FALSE),\"\")","v":""}]
[null,{"$f":"IFERROR(VLOOKUP(A819,'1.Портфель кредитів'!A:Z,3,FALSE),\"\")","v":""},{"$f":"IFERROR(VLOOKUP(A819,'1.Портфель кредитів'!A:Z,7,FALSE),\"\")","v":""},{"$f":"IFERROR(VLOOKUP(A819,'1.Портфель кредитів'!A:Z,14,FALSE),\"\")","v":""}]
[null,{"$f":"IFERROR(VLOOKUP(A820,'1.Портфель кредитів'!A:Z,3,FALSE),\"\")","v":""},{"$f":"IFERROR(VLOOKUP(A820,'1.Портфель кредитів'!A:Z,7,FALSE),\"\")","v":""},{"$f":"IFERROR(VLOOKUP(A820,'1.Портфель кредитів'!A:Z,14,FALSE),\"\")","v":""}]
[null,{"$f":"IFERROR(VLOOKUP(A821,'1.Портфель кредитів'!A:Z,3,FALSE),\"\")","v":""},{"$f":"IFERROR(VLOOKUP(A821,'1.Портфель кредитів'!A:Z,7,FALSE),\"\")","v":""},{"$f":"IFERROR(VLOOKUP(A821,'1.Портфель кредитів'!A:Z,14,FALSE),\"\")","v":""}]
[null,{"$f":"IFERROR(VLOOKUP(A822,'1.Портфель кредитів'!A:Z,3,FALSE),\"\")","v":""},{"$f":"IFERROR(VLOOKUP(A822,'1.Портфель кредитів'!A:Z,7,FALSE),\"\")","v":""},{"$f":"IFERROR(VLOOKUP(A822,'1.Портфель кредитів'!A:Z,14,FALSE),\"\")","v":""}]
[null,{"$f":"IFERROR(VLOOKUP(A823,'1.Портфель кредитів'!A:Z,3,FALSE),\"\")","v":""},{"$f":"IFERROR(VLOOKUP(A823,'1.Портфель кредитів'!A:Z,7,FALSE),\"\")","v":""},{"$f":"IFERROR(VLOOKUP(A823,'1.Портфель кредитів'!A:Z,14,FALSE),\"\")","v":""}]
[null,{"$f":"IFERROR(VLOOKUP(A824,'1.Портфель кредитів'!A:Z,3,FALSE),\"\")","v":""},{"$f":"IFERROR(VLOOKUP(A824,'1.Портфель кредитів'!A:Z,7,FALSE),\"\")","v":""},{"$f":"IFERROR(VLOOKUP(A824,'1.Портфель кредитів'!A:Z,14,FALSE),\"\")","v":""}]
[null,{"$f":"IFERROR(VLOOKUP(A825,'1.Портфель кредитів'!A:Z,3,FALSE),\"\")","v":""},{"$f":"IFERROR(VLOOKUP(A825,'1.Портфель кредитів'!A:Z,7,FALSE),\"\")","v":""},{"$f":"IFERROR(VLOOKUP(A825,'1.Портфель кредитів'!A:Z,14,FALSE),\"\")","v":""}]
[null,{"$f":"IFERROR(VLOOKUP(A826,'1.Портфель кредитів'!A:Z,3,FALSE),\"\")","v":""},{"$f":"IFERROR(VLOOKUP(A826,'1.Портфель кредитів'!A:Z,7,FALSE),\"\")","v":""},{"$f":"IFERROR(VLOOKUP(A826,'1.Портфель кредитів'!A:Z,14,FALSE),\"\")","v":""}]
[null,{"$f":"IFERROR(VLOOKUP(A827,'1.Портфель кредитів'!A:Z,3,FALSE),\"\")","v":""},{"$f":"IFERROR(VLOOKUP(A827,'1.Портфель кредитів'!A:Z,7,FALSE),\"\")","v":""},{"$f":"IFERROR(VLOOKUP(A827,'1.Портфель кредитів'!A:Z,14,FALSE),\"\")","v":""}]
[null,{"$f":"IFERROR(VLOOKUP(A828,'1.Портфель кредитів'!A:Z,3,FALSE),\"\")","v":""},{"$f":"IFERROR(VLOOKUP(A828,'1.Портфель кредитів'!A:Z,7,FALSE),\"\")","v":""},{"$f":"IFERROR(VLOOKUP(A828,'1.Портфель кредитів'!A:Z,14,FALSE),\"\")","v":""}]
[null,{"$f":"IFERROR(VLOOKUP(A829,'1.Портфель кредитів'!A:Z,3,FALSE),\"\")","v":""},{"$f":"IFERROR(VLOOKUP(A829,'1.Портфель кредитів'!A:Z,7,FALSE),\"\")","v":""},{"$f":"IFERROR(VLOOKUP(A829,'1.Портфель кредитів'!A:Z,14,FALSE),\"\")","v":""}]
[null,{"$f":"IFERROR(VLOOKUP(A830,'1.Портфель кредитів'!A:Z,3,FALSE),\"\")","v":""},{"$f":"IFERROR(VLOOKUP(A830,'1.Портфель кредитів'!A:Z,7,FALSE),\"\")","v":""},{"$f":"IFERROR(VLOOKUP(A830,'1.Портфель кредитів'!A:Z,14,FALSE),\"\")","v":""}]
[null,{"$f":"IFERROR(VLOOKUP(A831,'1.Портфель кредитів'!A:Z,3,FALSE),\"\")","v":""},{"$f":"IFERROR(VLOOKUP(A831,'1.Портфель кредитів'!A:Z,7,FALSE),\"\")","v":""},{"$f":"IFERROR(VLOOKUP(A831,'1.Портфель кредитів'!A:Z,14,FALSE),\"\")","v":""}]
[null,{"$f":"IFERROR(VLOOKUP(A832,'1.Портфель кредитів'!A:Z,3,FALSE),\"\")","v":""},{"$f":"IFERROR(VLOOKUP(A832,'1.Портфель кредитів'!A:Z,7,FALSE),\"\")","v":""},{"$f":"IFERROR(VLOOKUP(A832,'1.Портфель кредитів'!A:Z,14,FALSE),\"\")","v":""}]
[null,{"$f":"IFERROR(VLOOKUP(A833,'1.Портфель кредитів'!A:Z,3,FALSE),\"\")","v":""},{"$f":"IFERROR(VLOOKUP(A833,'1.Портфель кредитів'!A:Z,7,FALSE),\"\")","v":""},{"$f":"IFERROR(VLOOKUP(A833,'1.Портфель кредитів'!A:Z,14,FALSE),\"\")","v":""}]
[null,{"$f":"IFERROR(VLOOKUP(A834,'1.Портфель кредитів'!A:Z,3,FALSE),\"\")","v":""},{"$f":"IFERROR(VLOOKUP(A834,'1.Портфель кредитів'!A:Z,7,FALSE),\"\")","v":""},{"$f":"IFERROR(VLOOKUP(A834,'1.Портфель кредитів'!A:Z,14,FALSE),\"\")","v":""}]
[null,{"$f":"IFERROR(VLOOKUP(A835,'1.Портфель кредитів'!A:Z,3,FALSE),\"\")","v":""},{"$f":"IFERROR(VLOOKUP(A835,'1.Портфель кредитів'!A:Z,7,FALSE),\"\")","v":""},{"$f":"IFERROR(VLOOKUP(A835,'1.Портфель кредитів'!A:Z,14,FALSE),\"\")","v":""}]
[null,{"$f":"IFERROR(VLOOKUP(A836,'1.Портфель кредитів'!A:Z,3,FALSE),\"\")","v":""},{"$f":"IFERROR(VLOOKUP(A836,'1.Портфель кредитів'!A:Z,7,FALSE),\"\")","v":""},{"$f":"IFERROR(VLOOKUP(A836,'1.Портфель кредитів'!A:Z,14,FALSE),\"\")","v":""}]
[null,{"$f":"IFERROR(VLOOKUP(A837,'1.Портфель кредитів'!A:Z,3,FALSE),\"\")","v":""},{"$f":"IFERROR(VLOOKUP(A837,'1.Портфель кредитів'!A:Z,7,FALSE),\"\")","v":""},{"$f":"IFERROR(VLOOKUP(A837,'1.Портфель кредитів'!A:Z,14,FALSE),\"\")","v":""}]
[null,{"$f":"IFERROR(VLOOKUP(A838,'1.Портфель кредитів'!A:Z,3,FALSE),\"\")","v":""},{"$f":"IFERROR(VLOOKUP(A838,'1.Портфель кредитів'!A:Z,7,FALSE),\"\")","v":""},{"$f":"IFERROR(VLOOKUP(A838,'1.Портфель кредитів'!A:Z,14,FALSE),\"\")","v":""}]
[null,{"$f":"IFERROR(VLOOKUP(A839,'1.Портфель кредитів'!A:Z,3,FALSE),\"\")","v":""},{"$f":"IFERROR(VLOOKUP(A839,'1.Портфель кредитів'!A:Z,7,FALSE),\"\")","v":""},{"$f":"IFERROR(VLOOKUP(A839,'1.Портфель кредитів'!A:Z,14,FALSE),\"\")","v":""}]
[null,{"$f":"IFERROR(VLOOKUP(A840,'1.Портфель кредитів'!A:Z,3,FALSE),\"\")","v":""},{"$f":"IFERROR(VLOOKUP(A840,'1.Портфель кредитів'!A:Z,7,FALSE),\"\")","v":""},{"$f":"IFERROR(VLOOKUP(A840,'1.Портфель кредитів'!A:Z,14,FALSE),\"\")","v":""}]
[null,{"$f":"IFERROR(VLOOKUP(A841,'1.Портфель кредитів'!A:Z,3,FALSE),\"\")","v":""},{"$f":"IFERROR(VLOOKUP(A841,'1.Портфель кредитів'!A:Z,7,FALSE),\"\")","v":""},{"$f":"IFERROR(VLOOKUP(A841,'1.Портфель кредитів'!A:Z,14,FALSE),\"\")","v":""}]
[null,{"$f":"IFERROR(VLOOKUP(A842,'1.Портфель кредитів'!A:Z,3,FALSE),\"\")","v":""},{"$f":"IFERROR(VLOOKUP(A842,'1.Портфель кредитів'!A:Z,7,FALSE),\"\")","v":""},{"$f":"IFERROR(VLOOKUP(A842,'1.Портфель кредитів'!A:Z,14,FALSE),\"\")","v":""}]
[null,{"$f":"IFERROR(VLOOKUP(A843,'1.Портфель кредитів'!A:Z,3,FALSE),\"\")","v":""},{"$f":"IFERROR(VLOOKUP(A843,'1.Портфель кредитів'!A:Z,7,FALSE),\"\")","v":""},{"$f":"IFERROR(VLOOKUP(A843,'1.Портфель кредитів'!A:Z,14,FALSE),\"\")","v":""}]
[null,{"$f":"IFERROR(VLOOKUP(A844,'1.Портфель кредитів'!A:Z,3,FALSE),\"\")","v":""},{"$f":"IFERROR(VLOOKUP(A844,'1.Портфель кредитів'!A:Z,7,FALSE),\"\")","v":""},{"$f":"IFERROR(VLOOKUP(A844,'1.Портфель кредитів'!A:Z,14,FALSE),\"\")","v":""}]
[null,{"$f":"IFERROR(VLOOKUP(A845,'1.Портфель кредитів'!A:Z,3,FALSE),\"\")","v":""},{"$f":"IFERROR(VLOOKUP(A845,'1.Портфель кредитів'!A:Z,7,FALSE),\"\")","v":""},{"$f":"IFERROR(VLOOKUP(A845,'1.Портфель кредитів'!A:Z,14,FALSE),\"\")","v":""}]
[null,{"$f":"IFERROR(VLOOKUP(A846,'1.Портфель кредитів'!A:Z,3,FALSE),\"\")","v":""},{"$f":"IFERROR(VLOOKUP(A846,'1.Портфель кредитів'!A:Z,7,FALSE),\"\")","v":""},{"$f":"IFERROR(VLOOKUP(A846,'1.Портфель кредитів'!A:Z,14,FALSE),\"\")","v":""}]
[null,{"$f":"IFERROR(VLOOKUP(A847,'1.Портфель кредитів'!A:Z,3,FALSE),\"\")","v":""},{"$f":"IFERROR(VLOOKUP(A847,'1.Портфель кредитів'!A:Z,7,FALSE),\"\")","v":""},{"$f":"IFERROR(VLOOKUP(A847,'1.Портфель кредитів'!A:Z,14,FALSE),\"\")","v":""}]
[null,{"$f":"IFERROR(VLOOKUP(A848,'1.Портфель кредитів'!A:Z,3,FALSE),\"\")","v":""},{"$f":"IFERROR(VLOOKUP(A848,'1.Портфель кредитів'!A:Z,7,FALSE),\"\")","v":""},{"$f":"IFERROR(VLOOKUP(A848,'1.Портфель кредитів'!A:Z,14,FALSE),\"\")","v":""}]
[null,{"$f":"IFERROR(VLOOKUP(A849,'1.Портфель кредитів'!A:Z,3,FALSE),\"\")","v":""},{"$f":"IFERROR(VLOOKUP(A849,'1.Портфель кредитів'!A:Z,7,FALSE),\"\")","v":""},{"$f":"IFERROR(VLOOKUP(A849,'1.Портфель кредитів'!A:Z,14,FALSE),\"\")","v":""}]
[null,{"$f":"IFERROR(VLOOKUP(A850,'1.Портфель кредитів'!A:Z,3,FALSE),\"\")","v":""},{"$f":"IFERROR(VLOOKUP(A850,'1.Портфель кредитів'!A:Z,7,FALSE),\"\")","v":""},{"$f":"IFERROR(VLOOKUP(A850,'1.Портфель кредитів'!A:Z,14,FALSE),\"\")","v":""}]
[null,{"$f":"IFERROR(VLOOKUP(A851,'1.Портфель кредитів'!A:Z,3,FALSE),\"\")","v":""},{"$f":"IFERROR(VLOOKUP(A851,'1.Портфель кредитів'!A:Z,7,FALSE),\"\")","v":""},{"$f":"IFERROR(VLOOKUP(A851,'1.Портфель кредитів'!A:Z,14,FALSE),\"\")","v":""}]
[null,{"$f":"IFERROR(VLOOKUP(A852,'1.Портфель кредитів'!A:Z,3,FALSE),\"\")","v":""},{"$f":"IFERROR(VLOOKUP(A852,'1.Портфель кредитів'!A:Z,7,FALSE),\"\")","v":""},{"$f":"IFERROR(VLOOKUP(A852,'1.Портфель кредитів'!A:Z,14,FALSE),\"\")","v":""}]
[null,{"$f":"IFERROR(VLOOKUP(A853,'1.Портфель кредитів'!A:Z,3,FALSE),\"\")","v":""},{"$f":"IFERROR(VLOOKUP(A853,'1.Портфель кредитів'!A:Z,7,FALSE),\"\")","v":""},{"$f":"IFERROR(VLOOKUP(A853,'1.Портфель кредитів'!A:Z,14,FALSE),\"\")","v":""}]
[null,{"$f":"IFERROR(VLOOKUP(A854,'1.Портфель кредитів'!A:Z,3,FALSE),\"\")","v":""},{"$f":"IFERROR(VLOOKUP(A854,'1.Портфель кредитів'!A:Z,7,FALSE),\"\")","v":""},{"$f":"IFERROR(VLOOKUP(A854,'1.Портфель кредитів'!A:Z,14,FALSE),\"\")","v":""}]
[null,{"$f":"IFERROR(VLOOKUP(A855,'1.Портфель кредитів'!A:Z,3,FALSE),\"\")","v":""},{"$f":"IFERROR(VLOOKUP(A855,'1.Портфель кредитів'!A:Z,7,FALSE),\"\")","v":""},{"$f":"IFERROR(VLOOKUP(A855,'1.Портфель кредитів'!A:Z,14,FALSE),\"\")","v":""}]
[null,{"$f":"IFERROR(VLOOKUP(A856,'1.Портфель кредитів'!A:Z,3,FALSE),\"\")","v":""},{"$f":"IFERROR(VLOOKUP(A856,'1.Портфель кредитів'!A:Z,7,FALSE),\"\")","v":""},{"$f":"IFERROR(VLOOKUP(A856,'1.Портфель кредитів'!A:Z,14,FALSE),\"\")","v":""}]
[null,{"$f":"IFERROR(VLOOKUP(A857,'1.Портфель кредитів'!A:Z,3,FALSE),\"\")","v":""},{"$f":"IFERROR(VLOOKUP(A857,'1.Портфель кредитів'!A:Z,7,FALSE),\"\")","v":""},{"$f":"IFERROR(VLOOKUP(A857,'1.Портфель кредитів'!A:Z,14,FALSE),\"\")","v":""}]
[null,{"$f":"IFERROR(VLOOKUP(A858,'1.Портфель кредитів'!A:Z,3,FALSE),\"\")","v":""},{"$f":"IFERROR(VLOOKUP(A858,'1.Портфель кредитів'!A:Z,7,FALSE),\"\")","v":""},{"$f":"IFERROR(VLOOKUP(A858,'1.Портфель кредитів'!A:Z,14,FALSE),\"\")","v":""}]
[null,{"$f":"IFERROR(VLOOKUP(A859,'1.Портфель кредитів'!A:Z,3,FALSE),\"\")","v":""},{"$f":"IFERROR(VLOOKUP(A859,'1.Портфель кредитів'!A:Z,7,FALSE),\"\")","v":""},{"$f":"IFERROR(VLOOKUP(A859,'1.Портфель кредитів'!A:Z,14,FALSE),\"\")","v":""}]
[null,{"$f":"IFERROR(VLOOKUP(A860,'1.Портфель кредитів'!A:Z,3,FALSE),\"\")","v":""},{"$f":"IFERROR(VLOOKUP(A860,'1.Портфель кредитів'!A:Z,7,FALSE),\"\")","v":""},{"$f":"IFERROR(VLOOKUP(A860,'1.Портфель кредитів'!A:Z,14,FALSE),\"\")","v":""}]
[null,{"$f":"IFERROR(VLOOKUP(A861,'1.Портфель кредитів'!A:Z,3,FALSE),\"\")","v":""},{"$f":"IFERROR(VLOOKUP(A861,'1.Портфель кредитів'!A:Z,7,FALSE),\"\")","v":""},{"$f":"IFERROR(VLOOKUP(A861,'1.Портфель кредитів'!A:Z,14,FALSE),\"\")","v":""}]
[null,{"$f":"IFERROR(VLOOKUP(A862,'1.Портфель кредитів'!A:Z,3,FALSE),\"\")","v":""},{"$f":"IFERROR(VLOOKUP(A862,'1.Портфель кредитів'!A:Z,7,FALSE),\"\")","v":""},{"$f":"IFERROR(VLOOKUP(A862,'1.Портфель кредитів'!A:Z,14,FALSE),\"\")","v":""}]
[null,{"$f":"IFERROR(VLOOKUP(A863,'1.Портфель кредитів'!A:Z,3,FALSE),\"\")","v":""},{"$f":"IFERROR(VLOOKUP(A863,'1.Портфель кредитів'!A:Z,7,FALSE),\"\")","v":""},{"$f":"IFERROR(VLOOKUP(A863,'1.Портфель кредитів'!A:Z,14,FALSE),\"\")","v":""}]
[null,{"$f":"IFERROR(VLOOKUP(A864,'1.Портфель кредитів'!A:Z,3,FALSE),\"\")","v":""},{"$f":"IFERROR(VLOOKUP(A864,'1.Портфель кредитів'!A:Z,7,FALSE),\"\")","v":""},{"$f":"IFERROR(VLOOKUP(A864,'1.Портфель кредитів'!A:Z,14,FALSE),\"\")","v":""}]
[null,{"$f":"IFERROR(VLOOKUP(A865,'1.Портфель кредитів'!A:Z,3,FALSE),\"\")","v":""},{"$f":"IFERROR(VLOOKUP(A865,'1.Портфель кредитів'!A:Z,7,FALSE),\"\")","v":""},{"$f":"IFERROR(VLOOKUP(A865,'1.Портфель кредитів'!A:Z,14,FALSE),\"\")","v":""}]
[null,{"$f":"IFERROR(VLOOKUP(A866,'1.Портфель кредитів'!A:Z,3,FALSE),\"\")","v":""},{"$f":"IFERROR(VLOOKUP(A866,'1.Портфель кредитів'!A:Z,7,FALSE),\"\")","v":""},{"$f":"IFERROR(VLOOKUP(A866,'1.Портфель кредитів'!A:Z,14,FALSE),\"\")","v":""}]
[null,{"$f":"IFERROR(VLOOKUP(A867,'1.Портфель кредитів'!A:Z,3,FALSE),\"\")","v":""},{"$f":"IFERROR(VLOOKUP(A867,'1.Портфель кредитів'!A:Z,7,FALSE),\"\")","v":""},{"$f":"IFERROR(VLOOKUP(A867,'1.Портфель кредитів'!A:Z,14,FALSE),\"\")","v":""}]
[null,{"$f":"IFERROR(VLOOKUP(A868,'1.Портфель кредитів'!A:Z,3,FALSE),\"\")","v":""},{"$f":"IFERROR(VLOOKUP(A868,'1.Портфель кредитів'!A:Z,7,FALSE),\"\")","v":""},{"$f":"IFERROR(VLOOKUP(A868,'1.Портфель кредитів'!A:Z,14,FALSE),\"\")","v":""}]
[null,{"$f":"IFERROR(VLOOKUP(A869,'1.Портфель кредитів'!A:Z,3,FALSE),\"\")","v":""},{"$f":"IFERROR(VLOOKUP(A869,'1.Портфель кредитів'!A:Z,7,FALSE),\"\")","v":""},{"$f":"IFERROR(VLOOKUP(A869,'1.Портфель кредитів'!A:Z,14,FALSE),\"\")","v":""}]
[null,{"$f":"IFERROR(VLOOKUP(A870,'1.Портфель кредитів'!A:Z,3,FALSE),\"\")","v":""},{"$f":"IFERROR(VLOOKUP(A870,'1.Портфель кредитів'!A:Z,7,FALSE),\"\")","v":""},{"$f":"IFERROR(VLOOKUP(A870,'1.Портфель кредитів'!A:Z,14,FALSE),\"\")","v":""}]
[null,{"$f":"IFERROR(VLOOKUP(A871,'1.Портфель кредитів'!A:Z,3,FALSE),\"\")","v":""},{"$f":"IFERROR(VLOOKUP(A871,'1.Портфель кредитів'!A:Z,7,FALSE),\"\")","v":""},{"$f":"IFERROR(VLOOKUP(A871,'1.Портфель кредитів'!A:Z,14,FALSE),\"\")","v":""}]
[null,{"$f":"IFERROR(VLOOKUP(A872,'1.Портфель кредитів'!A:Z,3,FALSE),\"\")","v":""},{"$f":"IFERROR(VLOOKUP(A872,'1.Портфель кредитів'!A:Z,7,FALSE),\"\")","v":""},{"$f":"IFERROR(VLOOKUP(A872,'1.Портфель кредитів'!A:Z,14,FALSE),\"\")","v":""}]
[null,{"$f":"IFERROR(VLOOKUP(A873,'1.Портфель кредитів'!A:Z,3,FALSE),\"\")","v":""},{"$f":"IFERROR(VLOOKUP(A873,'1.Портфель кредитів'!A:Z,7,FALSE),\"\")","v":""},{"$f":"IFERROR(VLOOKUP(A873,'1.Портфель кредитів'!A:Z,14,FALSE),\"\")","v":""}]
[null,{"$f":"IFERROR(VLOOKUP(A874,'1.Портфель кредитів'!A:Z,3,FALSE),\"\")","v":""},{"$f":"IFERROR(VLOOKUP(A874,'1.Портфель кредитів'!A:Z,7,FALSE),\"\")","v":""},{"$f":"IFERROR(VLOOKUP(A874,'1.Портфель кредитів'!A:Z,14,FALSE),\"\")","v":""}]
[null,{"$f":"IFERROR(VLOOKUP(A875,'1.Портфель кредитів'!A:Z,3,FALSE),\"\")","v":""},{"$f":"IFERROR(VLOOKUP(A875,'1.Портфель кредитів'!A:Z,7,FALSE),\"\")","v":""},{"$f":"IFERROR(VLOOKUP(A875,'1.Портфель кредитів'!A:Z,14,FALSE),\"\")","v":""}]
[null,{"$f":"IFERROR(VLOOKUP(A876,'1.Портфель кредитів'!A:Z,3,FALSE),\"\")","v":""},{"$f":"IFERROR(VLOOKUP(A876,'1.Портфель кредитів'!A:Z,7,FALSE),\"\")","v":""},{"$f":"IFERROR(VLOOKUP(A876,'1.Портфель кредитів'!A:Z,14,FALSE),\"\")","v":""}]
[null,{"$f":"IFERROR(VLOOKUP(A877,'1.Портфель кредитів'!A:Z,3,FALSE),\"\")","v":""},{"$f":"IFERROR(VLOOKUP(A877,'1.Портфель кредитів'!A:Z,7,FALSE),\"\")","v":""},{"$f":"IFERROR(VLOOKUP(A877,'1.Портфель кредитів'!A:Z,14,FALSE),\"\")","v":""}]
[null,{"$f":"IFERROR(VLOOKUP(A878,'1.Портфель кредитів'!A:Z,3,FALSE),\"\")","v":""},{"$f":"IFERROR(VLOOKUP(A878,'1.Портфель кредитів'!A:Z,7,FALSE),\"\")","v":""},{"$f":"IFERROR(VLOOKUP(A878,'1.Портфель кредитів'!A:Z,14,FALSE),\"\")","v":""}]
[null,{"$f":"IFERROR(VLOOKUP(A879,'1.Портфель кредитів'!A:Z,3,FALSE),\"\")","v":""},{"$f":"IFERROR(VLOOKUP(A879,'1.Портфель кредитів'!A:Z,7,FALSE),\"\")","v":""},{"$f":"IFERROR(VLOOKUP(A879,'1.Портфель кредитів'!A:Z,14,FALSE),\"\")","v":""}]
[null,{"$f":"IFERROR(VLOOKUP(A880,'1.Портфель кредитів'!A:Z,3,FALSE),\"\")","v":""},{"$f":"IFERROR(VLOOKUP(A880,'1.Портфель кредитів'!A:Z,7,FALSE),\"\")","v":""},{"$f":"IFERROR(VLOOKUP(A880,'1.Портфель кредитів'!A:Z,14,FALSE),\"\")","v":""}]
[null,{"$f":"IFERROR(VLOOKUP(A881,'1.Портфель кредитів'!A:Z,3,FALSE),\"\")","v":""},{"$f":"IFERROR(VLOOKUP(A881,'1.Портфель кредитів'!A:Z,7,FALSE),\"\")","v":""},{"$f":"IFERROR(VLOOKUP(A881,'1.Портфель кредитів'!A:Z,14,FALSE),\"\")","v":""}]
[null,{"$f":"IFERROR(VLOOKUP(A882,'1.Портфель кредитів'!A:Z,3,FALSE),\"\")","v":""},{"$f":"IFERROR(VLOOKUP(A882,'1.Портфель кредитів'!A:Z,7,FALSE),\"\")","v":""},{"$f":"IFERROR(VLOOKUP(A882,'1.Портфель кредитів'!A:Z,14,FALSE),\"\")","v":""}]
[null,{"$f":"IFERROR(VLOOKUP(A883,'1.Портфель кредитів'!A:Z,3,FALSE),\"\")","v":""},{"$f":"IFERROR(VLOOKUP(A883,'1.Портфель кредитів'!A:Z,7,FALSE),\"\")","v":""},{"$f":"IFERROR(VLOOKUP(A883,'1.Портфель кредитів'!A:Z,14,FALSE),\"\")","v":""}]
[null,{"$f":"IFERROR(VLOOKUP(A884,'1.Портфель кредитів'!A:Z,3,FALSE),\"\")","v":""},{"$f":"IFERROR(VLOOKUP(A884,'1.Портфель кредитів'!A:Z,7,FALSE),\"\")","v":""},{"$f":"IFERROR(VLOOKUP(A884,'1.Портфель кредитів'!A:Z,14,FALSE),\"\")","v":""}]
[null,{"$f":"IFERROR(VLOOKUP(A885,'1.Портфель кредитів'!A:Z,3,FALSE),\"\")","v":""},{"$f":"IFERROR(VLOOKUP(A885,'1.Портфель кредитів'!A:Z,7,FALSE),\"\")","v":""},{"$f":"IFERROR(VLOOKUP(A885,'1.Портфель кредитів'!A:Z,14,FALSE),\"\")","v":""}]
[null,{"$f":"IFERROR(VLOOKUP(A886,'1.Портфель кредитів'!A:Z,3,FALSE),\"\")","v":""},{"$f":"IFERROR(VLOOKUP(A886,'1.Портфель кредитів'!A:Z,7,FALSE),\"\")","v":""},{"$f":"IFERROR(VLOOKUP(A886,'1.Портфель кредитів'!A:Z,14,FALSE),\"\")","v":""}]
[null,{"$f":"IFERROR(VLOOKUP(A887,'1.Портфель кредитів'!A:Z,3,FALSE),\"\")","v":""},{"$f":"IFERROR(VLOOKUP(A887,'1.Портфель кредитів'!A:Z,7,FALSE),\"\")","v":""},{"$f":"IFERROR(VLOOKUP(A887,'1.Портфель кредитів'!A:Z,14,FALSE),\"\")","v":""}]
[null,{"$f":"IFERROR(VLOOKUP(A888,'1.Портфель кредитів'!A:Z,3,FALSE),\"\")","v":""},{"$f":"IFERROR(VLOOKUP(A888,'1.Портфель кредитів'!A:Z,7,FALSE),\"\")","v":""},{"$f":"IFERROR(VLOOKUP(A888,'1.Портфель кредитів'!A:Z,14,FALSE),\"\")","v":""}]
[null,{"$f":"IFERROR(VLOOKUP(A889,'1.Портфель кредитів'!A:Z,3,FALSE),\"\")","v":""},{"$f":"IFERROR(VLOOKUP(A889,'1.Портфель кредитів'!A:Z,7,FALSE),\"\")","v":""},{"$f":"IFERROR(VLOOKUP(A889,'1.Портфель кредитів'!A:Z,14,FALSE),\"\")","v":""}]
[null,{"$f":"IFERROR(VLOOKUP(A890,'1.Портфель кредитів'!A:Z,3,FALSE),\"\")","v":""},{"$f":"IFERROR(VLOOKUP(A890,'1.Портфель кредитів'!A:Z,7,FALSE),\"\")","v":""},{"$f":"IFERROR(VLOOKUP(A890,'1.Портфель кредитів'!A:Z,14,FALSE),\"\")","v":""}]
[null,{"$f":"IFERROR(VLOOKUP(A891,'1.Портфель кредитів'!A:Z,3,FALSE),\"\")","v":""},{"$f":"IFERROR(VLOOKUP(A891,'1.Портфель кредитів'!A:Z,7,FALSE),\"\")","v":""},{"$f":"IFERROR(VLOOKUP(A891,'1.Портфель кредитів'!A:Z,14,FALSE),\"\")","v":""}]
[null,{"$f":"IFERROR(VLOOKUP(A892,'1.Портфель кредитів'!A:Z,3,FALSE),\"\")","v":""},{"$f":"IFERROR(VLOOKUP(A892,'1.Портфель кредитів'!A:Z,7,FALSE),\"\")","v":""},{"$f":"IFERROR(VLOOKUP(A892,'1.Портфель кредитів'!A:Z,14,FALSE),\"\")","v":""}]
[null,{"$f":"IFERROR(VLOOKUP(A893,'1.Портфель кредитів'!A:Z,3,FALSE),\"\")","v":""},{"$f":"IFERROR(VLOOKUP(A893,'1.Портфель кредитів'!A:Z,7,FALSE),\"\")","v":""},{"$f":"IFERROR(VLOOKUP(A893,'1.Портфель кредитів'!A:Z,14,FALSE),\"\")","v":""}]
[null,{"$f":"IFERROR(VLOOKUP(A894,'1.Портфель кредитів'!A:Z,3,FALSE),\"\")","v":""},{"$f":"IFERROR(VLOOKUP(A894,'1.Портфель кредитів'!A:Z,7,FALSE),\"\")","v":""},{"$f":"IFERROR(VLOOKUP(A894,'1.Портфель кредитів'!A:Z,14,FALSE),\"\")","v":""}]
[null,{"$f":"IFERROR(VLOOKUP(A895,'1.Портфель кредитів'!A:Z,3,FALSE),\"\")","v":""},{"$f":"IFERROR(VLOOKUP(A895,'1.Портфель кредитів'!A:Z,7,FALSE),\"\")","v":""},{"$f":"IFERROR(VLOOKUP(A895,'1.Портфель кредитів'!A:Z,14,FALSE),\"\")","v":""}]
[null,{"$f":"IFERROR(VLOOKUP(A896,'1.Портфель кредитів'!A:Z,3,FALSE),\"\")","v":""},{"$f":"IFERROR(VLOOKUP(A896,'1.Портфель кредитів'!A:Z,7,FALSE),\"\")","v":""},{"$f":"IFERROR(VLOOKUP(A896,'1.Портфель кредитів'!A:Z,14,FALSE),\"\")","v":""}]
[null,{"$f":"IFERROR(VLOOKUP(A897,'1.Портфель кредитів'!A:Z,3,FALSE),\"\")","v":""},{"$f":"IFERROR(VLOOKUP(A897,'1.Портфель кредитів'!A:Z,7,FALSE),\"\")","v":""},{"$f":"IFERROR(VLOOKUP(A897,'1.Портфель кредитів'!A:Z,14,FALSE),\"\")","v":""}]
[null,{"$f":"IFERROR(VLOOKUP(A898,'1.Портфель кредитів'!A:Z,3,FALSE),\"\")","v":""},{"$f":"IFERROR(VLOOKUP(A898,'1.Портфель кредитів'!A:Z,7,FALSE),\"\")","v":""},{"$f":"IFERROR(VLOOKUP(A898,'1.Портфель кредитів'!A:Z,14,FALSE),\"\")","v":""}]
[null,{"$f":"IFERROR(VLOOKUP(A899,'1.Портфель кредитів'!A:Z,3,FALSE),\"\")","v":""},{"$f":"IFERROR(VLOOKUP(A899,'1.Портфель кредитів'!A:Z,7,FALSE),\"\")","v":""},{"$f":"IFERROR(VLOOKUP(A899,'1.Портфель кредитів'!A:Z,14,FALSE),\"\")","v":""}]
[null,{"$f":"IFERROR(VLOOKUP(A900,'1.Портфель кредитів'!A:Z,3,FALSE),\"\")","v":""},{"$f":"IFERROR(VLOOKUP(A900,'1.Портфель кредитів'!A:Z,7,FALSE),\"\")","v":""},{"$f":"IFERROR(VLOOKUP(A900,'1.Портфель кредитів'!A:Z,14,FALSE),\"\")","v":""}]
[null,{"$f":"IFERROR(VLOOKUP(A901,'1.Портфель кредитів'!A:Z,3,FALSE),\"\")","v":""},{"$f":"IFERROR(VLOOKUP(A901,'1.Портфель кредитів'!A:Z,7,FALSE),\"\")","v":""},{"$f":"IFERROR(VLOOKUP(A901,'1.Портфель кредитів'!A:Z,14,FALSE),\"\")","v":""}]
[null,{"$f":"IFERROR(VLOOKUP(A902,'1.Портфель кредитів'!A:Z,3,FALSE),\"\")","v":""},{"$f":"IFERROR(VLOOKUP(A902,'1.Портфель кредитів'!A:Z,7,FALSE),\"\")","v":""},{"$f":"IFERROR(VLOOKUP(A902,'1.Портфель кредитів'!A:Z,14,FALSE),\"\")","v":""}]
[null,{"$f":"IFERROR(VLOOKUP(A903,'1.Портфель кредитів'!A:Z,3,FALSE),\"\")","v":""},{"$f":"IFERROR(VLOOKUP(A903,'1.Портфель кредитів'!A:Z,7,FALSE),\"\")","v":""},{"$f":"IFERROR(VLOOKUP(A903,'1.Портфель кредитів'!A:Z,14,FALSE),\"\")","v":""}]
[null,{"$f":"IFERROR(VLOOKUP(A904,'1.Портфель кредитів'!A:Z,3,FALSE),\"\")","v":""},{"$f":"IFERROR(VLOOKUP(A904,'1.Портфель кредитів'!A:Z,7,FALSE),\"\")","v":""},{"$f":"IFERROR(VLOOKUP(A904,'1.Портфель кредитів'!A:Z,14,FALSE),\"\")","v":""}]
[null,{"$f":"IFERROR(VLOOKUP(A905,'1.Портфель кредитів'!A:Z,3,FALSE),\"\")","v":""},{"$f":"IFERROR(VLOOKUP(A905,'1.Портфель кредитів'!A:Z,7,FALSE),\"\")","v":""},{"$f":"IFERROR(VLOOKUP(A905,'1.Портфель кредитів'!A:Z,14,FALSE),\"\")","v":""}]
[null,{"$f":"IFERROR(VLOOKUP(A906,'1.Портфель кредитів'!A:Z,3,FALSE),\"\")","v":""},{"$f":"IFERROR(VLOOKUP(A906,'1.Портфель кредитів'!A:Z,7,FALSE),\"\")","v":""},{"$f":"IFERROR(VLOOKUP(A906,'1.Портфель кредитів'!A:Z,14,FALSE),\"\")","v":""}]
[null,{"$f":"IFERROR(VLOOKUP(A907,'1.Портфель кредитів'!A:Z,3,FALSE),\"\")","v":""},{"$f":"IFERROR(VLOOKUP(A907,'1.Портфель кредитів'!A:Z,7,FALSE),\"\")","v":""},{"$f":"IFERROR(VLOOKUP(A907,'1.Портфель кредитів'!A:Z,14,FALSE),\"\")","v":""}]
[null,{"$f":"IFERROR(VLOOKUP(A908,'1.Портфель кредитів'!A:Z,3,FALSE),\"\")","v":""},{"$f":"IFERROR(VLOOKUP(A908,'1.Портфель кредитів'!A:Z,7,FALSE),\"\")","v":""},{"$f":"IFERROR(VLOOKUP(A908,'1.Портфель кредитів'!A:Z,14,FALSE),\"\")","v":""}]
[null,{"$f":"IFERROR(VLOOKUP(A909,'1.Портфель кредитів'!A:Z,3,FALSE),\"\")","v":""},{"$f":"IFERROR(VLOOKUP(A909,'1.Портфель кредитів'!A:Z,7,FALSE),\"\")","v":""},{"$f":"IFERROR(VLOOKUP(A909,'1.Портфель кредитів'!A:Z,14,FALSE),\"\")","v":""}]
[null,{"$f":"IFERROR(VLOOKUP(A910,'1.Портфель кредитів'!A:Z,3,FALSE),\"\")","v":""},{"$f":"IFERROR(VLOOKUP(A910,'1.Портфель кредитів'!A:Z,7,FALSE),\"\")","v":""},{"$f":"IFERROR(VLOOKUP(A910,'1.Портфель кредитів'!A:Z,14,FALSE),\"\")","v":""}]
[null,{"$f":"IFERROR(VLOOKUP(A911,'1.Портфель кредитів'!A:Z,3,FALSE),\"\")","v":""},{"$f":"IFERROR(VLOOKUP(A911,'1.Портфель кредитів'!A:Z,7,FALSE),\"\")","v":""},{"$f":"IFERROR(VLOOKUP(A911,'1.Портфель кредитів'!A:Z,14,FALSE),\"\")","v":""}]
[null,{"$f":"IFERROR(VLOOKUP(A912,'1.Портфель кредитів'!A:Z,3,FALSE),\"\")","v":""},{"$f":"IFERROR(VLOOKUP(A912,'1.Портфель кредитів'!A:Z,7,FALSE),\"\")","v":""},{"$f":"IFERROR(VLOOKUP(A912,'1.Портфель кредитів'!A:Z,14,FALSE),\"\")","v":""}]
[null,{"$f":"IFERROR(VLOOKUP(A913,'1.Портфель кредитів'!A:Z,3,FALSE),\"\")","v":""},{"$f":"IFERROR(VLOOKUP(A913,'1.Портфель кредитів'!A:Z,7,FALSE),\"\")","v":""},{"$f":"IFERROR(VLOOKUP(A913,'1.Портфель кредитів'!A:Z,14,FALSE),\"\")","v":""}]
[null,{"$f":"IFERROR(VLOOKUP(A914,'1.Портфель кредитів'!A:Z,3,FALSE),\"\")","v":""},{"$f":"IFERROR(VLOOKUP(A914,'1.Портфель кредитів'!A:Z,7,FALSE),\"\")","v":""},{"$f":"IFERROR(VLOOKUP(A914,'1.Портфель кредитів'!A:Z,14,FALSE),\"\")","v":""}]
[null,{"$f":"IFERROR(VLOOKUP(A915,'1.Портфель кредитів'!A:Z,3,FALSE),\"\")","v":""},{"$f":"IFERROR(VLOOKUP(A915,'1.Портфель кредитів'!A:Z,7,FALSE),\"\")","v":""},{"$f":"IFERROR(VLOOKUP(A915,'1.Портфель кредитів'!A:Z,14,FALSE),\"\")","v":""}]
[null,{"$f":"IFERROR(VLOOKUP(A916,'1.Портфель кредитів'!A:Z,3,FALSE),\"\")","v":""},{"$f":"IFERROR(VLOOKUP(A916,'1.Портфель кредитів'!A:Z,7,FALSE),\"\")","v":""},{"$f":"IFERROR(VLOOKUP(A916,'1.Портфель кредитів'!A:Z,14,FALSE),\"\")","v":""}]
[null,{"$f":"IFERROR(VLOOKUP(A917,'1.Портфель кредитів'!A:Z,3,FALSE),\"\")","v":""},{"$f":"IFERROR(VLOOKUP(A917,'1.Портфель кредитів'!A:Z,7,FALSE),\"\")","v":""},{"$f":"IFERROR(VLOOKUP(A917,'1.Портфель кредитів'!A:Z,14,FALSE),\"\")","v":""}]
[null,{"$f":"IFERROR(VLOOKUP(A918,'1.Портфель кредитів'!A:Z,3,FALSE),\"\")","v":""},{"$f":"IFERROR(VLOOKUP(A918,'1.Портфель кредитів'!A:Z,7,FALSE),\"\")","v":""},{"$f":"IFERROR(VLOOKUP(A918,'1.Портфель кредитів'!A:Z,14,FALSE),\"\")","v":""}]
[null,{"$f":"IFERROR(VLOOKUP(A919,'1.Портфель кредитів'!A:Z,3,FALSE),\"\")","v":""},{"$f":"IFERROR(VLOOKUP(A919,'1.Портфель кредитів'!A:Z,7,FALSE),\"\")","v":""},{"$f":"IFERROR(VLOOKUP(A919,'1.Портфель кредитів'!A:Z,14,FALSE),\"\")","v":""}]
[null,{"$f":"IFERROR(VLOOKUP(A920,'1.Портфель кредитів'!A:Z,3,FALSE),\"\")","v":""},{"$f":"IFERROR(VLOOKUP(A920,'1.Портфель кредитів'!A:Z,7,FALSE),\"\")","v":""},{"$f":"IFERROR(VLOOKUP(A920,'1.Портфель кредитів'!A:Z,14,FALSE),\"\")","v":""}]
[null,{"$f":"IFERROR(VLOOKUP(A921,'1.Портфель кредитів'!A:Z,3,FALSE),\"\")","v":""},{"$f":"IFERROR(VLOOKUP(A921,'1.Портфель кредитів'!A:Z,7,FALSE),\"\")","v":""},{"$f":"IFERROR(VLOOKUP(A921,'1.Портфель кредитів'!A:Z,14,FALSE),\"\")","v":""}]
[null,{"$f":"IFERROR(VLOOKUP(A922,'1.Портфель кредитів'!A:Z,3,FALSE),\"\")","v":""},{"$f":"IFERROR(VLOOKUP(A922,'1.Портфель кредитів'!A:Z,7,FALSE),\"\")","v":""},{"$f":"IFERROR(VLOOKUP(A922,'1.Портфель кредитів'!A:Z,14,FALSE),\"\")","v":""}]
[null,{"$f":"IFERROR(VLOOKUP(A923,'1.Портфель кредитів'!A:Z,3,FALSE),\"\")","v":""},{"$f":"IFERROR(VLOOKUP(A923,'1.Портфель кредитів'!A:Z,7,FALSE),\"\")","v":""},{"$f":"IFERROR(VLOOKUP(A923,'1.Портфель кредитів'!A:Z,14,FALSE),\"\")","v":""}]
[null,{"$f":"IFERROR(VLOOKUP(A924,'1.Портфель кредитів'!A:Z,3,FALSE),\"\")","v":""},{"$f":"IFERROR(VLOOKUP(A924,'1.Портфель кредитів'!A:Z,7,FALSE),\"\")","v":""},{"$f":"IFERROR(VLOOKUP(A924,'1.Портфель кредитів'!A:Z,14,FALSE),\"\")","v":""}]
[null,{"$f":"IFERROR(VLOOKUP(A925,'1.Портфель кредитів'!A:Z,3,FALSE),\"\")","v":""},{"$f":"IFERROR(VLOOKUP(A925,'1.Портфель кредитів'!A:Z,7,FALSE),\"\")","v":""},{"$f":"IFERROR(VLOOKUP(A925,'1.Портфель кредитів'!A:Z,14,FALSE),\"\")","v":""}]
[null,{"$f":"IFERROR(VLOOKUP(A926,'1.Портфель кредитів'!A:Z,3,FALSE),\"\")","v":""},{"$f":"IFERROR(VLOOKUP(A926,'1.Портфель кредитів'!A:Z,7,FALSE),\"\")","v":""},{"$f":"IFERROR(VLOOKUP(A926,'1.Портфель кредитів'!A:Z,14,FALSE),\"\")","v":""}]
[null,{"$f":"IFERROR(VLOOKUP(A927,'1.Портфель кредитів'!A:Z,3,FALSE),\"\")","v":""},{"$f":"IFERROR(VLOOKUP(A927,'1.Портфель кредитів'!A:Z,7,FALSE),\"\")","v":""},{"$f":"IFERROR(VLOOKUP(A927,'1.Портфель кредитів'!A:Z,14,FALSE),\"\")","v":""}]
[null,{"$f":"IFERROR(VLOOKUP(A928,'1.Портфель кредитів'!A:Z,3,FALSE),\"\")","v":""},{"$f":"IFERROR(VLOOKUP(A928,'1.Портфель кредитів'!A:Z,7,FALSE),\"\")","v":""},{"$f":"IFERROR(VLOOKUP(A928,'1.Портфель кредитів'!A:Z,14,FALSE),\"\")","v":""}]
[null,{"$f":"IFERROR(VLOOKUP(A929,'1.Портфель кредитів'!A:Z,3,FALSE),\"\")","v":""},{"$f":"IFERROR(VLOOKUP(A929,'1.Портфель кредитів'!A:Z,7,FALSE),\"\")","v":""},{"$f":"IFERROR(VLOOKUP(A929,'1.Портфель кредитів'!A:Z,14,FALSE),\"\")","v":""}]
[null,{"$f":"IFERROR(VLOOKUP(A930,'1.Портфель кредитів'!A:Z,3,FALSE),\"\")","v":""},{"$f":"IFERROR(VLOOKUP(A930,'1.Портфель кредитів'!A:Z,7,FALSE),\"\")","v":""},{"$f":"IFERROR(VLOOKUP(A930,'1.Портфель кредитів'!A:Z,14,FALSE),\"\")","v":""}]
[null,{"$f":"IFERROR(VLOOKUP(A931,'1.Портфель кредитів'!A:Z,3,FALSE),\"\")","v":""},{"$f":"IFERROR(VLOOKUP(A931,'1.Портфель кредитів'!A:Z,7,FALSE),\"\")","v":""},{"$f":"IFERROR(VLOOKUP(A931,'1.Портфель кредитів'!A:Z,14,FALSE),\"\")","v":""}]
[null,{"$f":"IFERROR(VLOOKUP(A932,'1.Портфель кредитів'!A:Z,3,FALSE),\"\")","v":""},{"$f":"IFERROR(VLOOKUP(A932,'1.Портфель кредитів'!A:Z,7,FALSE),\"\")","v":""},{"$f":"IFERROR(VLOOKUP(A932,'1.Портфель кредитів'!A:Z,14,FALSE),\"\")","v":""}]
[null,{"$f":"IFERROR(VLOOKUP(A933,'1.Портфель кредитів'!A:Z,3,FALSE),\"\")","v":""},{"$f":"IFERROR(VLOOKUP(A933,'1.Портфель кредитів'!A:Z,7,FALSE),\"\")","v":""},{"$f":"IFERROR(VLOOKUP(A933,'1.Портфель кредитів'!A:Z,14,FALSE),\"\")","v":""}]
[null,{"$f":"IFERROR(VLOOKUP(A934,'1.Портфель кредитів'!A:Z,3,FALSE),\"\")","v":""},{"$f":"IFERROR(VLOOKUP(A934,'1.Портфель кредитів'!A:Z,7,FALSE),\"\")","v":""},{"$f":"IFERROR(VLOOKUP(A934,'1.Портфель кредитів'!A:Z,14,FALSE),\"\")","v":""}]
[null,{"$f":"IFERROR(VLOOKUP(A935,'1.Портфель кредитів'!A:Z,3,FALSE),\"\")","v":""},{"$f":"IFERROR(VLOOKUP(A935,'1.Портфель кредитів'!A:Z,7,FALSE),\"\")","v":""},{"$f":"IFERROR(VLOOKUP(A935,'1.Портфель кредитів'!A:Z,14,FALSE),\"\")","v":""}]
[null,{"$f":"IFERROR(VLOOKUP(A936,'1.Портфель кредитів'!A:Z,3,FALSE),\"\")","v":""},{"$f":"IFERROR(VLOOKUP(A936,'1.Портфель кредитів'!A:Z,7,FALSE),\"\")","v":""},{"$f":"IFERROR(VLOOKUP(A936,'1.Портфель кредитів'!A:Z,14,FALSE),\"\")","v":""}]
[null,{"$f":"IFERROR(VLOOKUP(A937,'1.Портфель кредитів'!A:Z,3,FALSE),\"\")","v":""},{"$f":"IFERROR(VLOOKUP(A937,'1.Портфель кредитів'!A:Z,7,FALSE),\"\")","v":""},{"$f":"IFERROR(VLOOKUP(A937,'1.Портфель кредитів'!A:Z,14,FALSE),\"\")","v":""}]
[null,{"$f":"IFERROR(VLOOKUP(A938,'1.Портфель кредитів'!A:Z,3,FALSE),\"\")","v":""},{"$f":"IFERROR(VLOOKUP(A938,'1.Портфель кредитів'!A:Z,7,FALSE),\"\")","v":""},{"$f":"IFERROR(VLOOKUP(A938,'1.Портфель кредитів'!A:Z,14,FALSE),\"\")","v":""}]
[null,{"$f":"IFERROR(VLOOKUP(A939,'1.Портфель кредитів'!A:Z,3,FALSE),\"\")","v":""},{"$f":"IFERROR(VLOOKUP(A939,'1.Портфель кредитів'!A:Z,7,FALSE),\"\")","v":""},{"$f":"IFERROR(VLOOKUP(A939,'1.Портфель кредитів'!A:Z,14,FALSE),\"\")","v":""}]
[null,{"$f":"IFERROR(VLOOKUP(A940,'1.Портфель кредитів'!A:Z,3,FALSE),\"\")","v":""},{"$f":"IFERROR(VLOOKUP(A940,'1.Портфель кредитів'!A:Z,7,FALSE),\"\")","v":""},{"$f":"IFERROR(VLOOKUP(A940,'1.Портфель кредитів'!A:Z,14,FALSE),\"\")","v":""}]
[null,{"$f":"IFERROR(VLOOKUP(A941,'1.Портфель кредитів'!A:Z,3,FALSE),\"\")","v":""},{"$f":"IFERROR(VLOOKUP(A941,'1.Портфель кредитів'!A:Z,7,FALSE),\"\")","v":""},{"$f":"IFERROR(VLOOKUP(A941,'1.Портфель кредитів'!A:Z,14,FALSE),\"\")","v":""}]
[null,{"$f":"IFERROR(VLOOKUP(A942,'1.Портфель кредитів'!A:Z,3,FALSE),\"\")","v":""},{"$f":"IFERROR(VLOOKUP(A942,'1.Портфель кредитів'!A:Z,7,FALSE),\"\")","v":""},{"$f":"IFERROR(VLOOKUP(A942,'1.Портфель кредитів'!A:Z,14,FALSE),\"\")","v":""}]
[null,{"$f":"IFERROR(VLOOKUP(A943,'1.Портфель кредитів'!A:Z,3,FALSE),\"\")","v":""},{"$f":"IFERROR(VLOOKUP(A943,'1.Портфель кредитів'!A:Z,7,FALSE),\"\")","v":""},{"$f":"IFERROR(VLOOKUP(A943,'1.Портфель кредитів'!A:Z,14,FALSE),\"\")","v":""}]
[null,{"$f":"IFERROR(VLOOKUP(A944,'1.Портфель кредитів'!A:Z,3,FALSE),\"\")","v":""},{"$f":"IFERROR(VLOOKUP(A944,'1.Портфель кредитів'!A:Z,7,FALSE),\"\")","v":""},{"$f":"IFERROR(VLOOKUP(A944,'1.Портфель кредитів'!A:Z,14,FALSE),\"\")","v":""}]
[null,{"$f":"IFERROR(VLOOKUP(A945,'1.Портфель кредитів'!A:Z,3,FALSE),\"\")","v":""},{"$f":"IFERROR(VLOOKUP(A945,'1.Портфель кредитів'!A:Z,7,FALSE),\"\")","v":""},{"$f":"IFERROR(VLOOKUP(A945,'1.Портфель кредитів'!A:Z,14,FALSE),\"\")","v":""}]
[null,{"$f":"IFERROR(VLOOKUP(A946,'1.Портфель кредитів'!A:Z,3,FALSE),\"\")","v":""},{"$f":"IFERROR(VLOOKUP(A946,'1.Портфель кредитів'!A:Z,7,FALSE),\"\")","v":""},{"$f":"IFERROR(VLOOKUP(A946,'1.Портфель кредитів'!A:Z,14,FALSE),\"\")","v":""}]
[null,{"$f":"IFERROR(VLOOKUP(A947,'1.Портфель кредитів'!A:Z,3,FALSE),\"\")","v":""},{"$f":"IFERROR(VLOOKUP(A947,'1.Портфель кредитів'!A:Z,7,FALSE),\"\")","v":""},{"$f":"IFERROR(VLOOKUP(A947,'1.Портфель кредитів'!A:Z,14,FALSE),\"\")","v":""}]
[null,{"$f":"IFERROR(VLOOKUP(A948,'1.Портфель кредитів'!A:Z,3,FALSE),\"\")","v":""},{"$f":"IFERROR(VLOOKUP(A948,'1.Портфель кредитів'!A:Z,7,FALSE),\"\")","v":""},{"$f":"IFERROR(VLOOKUP(A948,'1.Портфель кредитів'!A:Z,14,FALSE),\"\")","v":""}]
[null,{"$f":"IFERROR(VLOOKUP(A949,'1.Портфель кредитів'!A:Z,3,FALSE),\"\")","v":""},{"$f":"IFERROR(VLOOKUP(A949,'1.Портфель кредитів'!A:Z,7,FALSE),\"\")","v":""},{"$f":"IFERROR(VLOOKUP(A949,'1.Портфель кредитів'!A:Z,14,FALSE),\"\")","v":""}]
[null,{"$f":"IFERROR(VLOOKUP(A950,'1.Портфель кредитів'!A:Z,3,FALSE),\"\")","v":""},{"$f":"IFERROR(VLOOKUP(A950,'1.Портфель кредитів'!A:Z,7,FALSE),\"\")","v":""},{"$f":"IFERROR(VLOOKUP(A950,'1.Портфель кредитів'!A:Z,14,FALSE),\"\")","v":""}]
[null,{"$f":"IFERROR(VLOOKUP(A951,'1.Портфель кредитів'!A:Z,3,FALSE),\"\")","v":""},{"$f":"IFERROR(VLOOKUP(A951,'1.Портфель кредитів'!A:Z,7,FALSE),\"\")","v":""},{"$f":"IFERROR(VLOOKUP(A951,'1.Портфель кредитів'!A:Z,14,FALSE),\"\")","v":""}]
[null,{"$f":"IFERROR(VLOOKUP(A952,'1.Портфель кредитів'!A:Z,3,FALSE),\"\")","v":""},{"$f":"IFERROR(VLOOKUP(A952,'1.Портфель кредитів'!A:Z,7,FALSE),\"\")","v":""},{"$f":"IFERROR(VLOOKUP(A952,'1.Портфель кредитів'!A:Z,14,FALSE),\"\")","v":""}]
[null,{"$f":"IFERROR(VLOOKUP(A953,'1.Портфель кредитів'!A:Z,3,FALSE),\"\")","v":""},{"$f":"IFERROR(VLOOKUP(A953,'1.Портфель кредитів'!A:Z,7,FALSE),\"\")","v":""},{"$f":"IFERROR(VLOOKUP(A953,'1.Портфель кредитів'!A:Z,14,FALSE),\"\")","v":""}]
[null,{"$f":"IFERROR(VLOOKUP(A954,'1.Портфель кредитів'!A:Z,3,FALSE),\"\")","v":""},{"$f":"IFERROR(VLOOKUP(A954,'1.Портфель кредитів'!A:Z,7,FALSE),\"\")","v":""},{"$f":"IFERROR(VLOOKUP(A954,'1.Портфель кредитів'!A:Z,14,FALSE),\"\")","v":""}]
[null,{"$f":"IFERROR(VLOOKUP(A955,'1.Портфель кредитів'!A:Z,3,FALSE),\"\")","v":""},{"$f":"IFERROR(VLOOKUP(A955,'1.Портфель кредитів'!A:Z,7,FALSE),\"\")","v":""},{"$f":"IFERROR(VLOOKUP(A955,'1.Портфель кредитів'!A:Z,14,FALSE),\"\")","v":""}]
[null,{"$f":"IFERROR(VLOOKUP(A956,'1.Портфель кредитів'!A:Z,3,FALSE),\"\")","v":""},{"$f":"IFERROR(VLOOKUP(A956,'1.Портфель кредитів'!A:Z,7,FALSE),\"\")","v":""},{"$f":"IFERROR(VLOOKUP(A956,'1.Портфель кредитів'!A:Z,14,FALSE),\"\")","v":""}]
[null,{"$f":"IFERROR(VLOOKUP(A957,'1.Портфель кредитів'!A:Z,3,FALSE),\"\")","v":""},{"$f":"IFERROR(VLOOKUP(A957,'1.Портфель кредитів'!A:Z,7,FALSE),\"\")","v":""},{"$f":"IFERROR(VLOOKUP(A957,'1.Портфель кредитів'!A:Z,14,FALSE),\"\")","v":""}]
[null,{"$f":"IFERROR(VLOOKUP(A958,'1.Портфель кредитів'!A:Z,3,FALSE),\"\")","v":""},{"$f":"IFERROR(VLOOKUP(A958,'1.Портфель кредитів'!A:Z,7,FALSE),\"\")","v":""},{"$f":"IFERROR(VLOOKUP(A958,'1.Портфель кредитів'!A:Z,14,FALSE),\"\")","v":""}]
[null,{"$f":"IFERROR(VLOOKUP(A959,'1.Портфель кредитів'!A:Z,3,FALSE),\"\")","v":""},{"$f":"IFERROR(VLOOKUP(A959,'1.Портфель кредитів'!A:Z,7,FALSE),\"\")","v":""},{"$f":"IFERROR(VLOOKUP(A959,'1.Портфель кредитів'!A:Z,14,FALSE),\"\")","v":""}]
[null,{"$f":"IFERROR(VLOOKUP(A960,'1.Портфель кредитів'!A:Z,3,FALSE),\"\")","v":""},{"$f":"IFERROR(VLOOKUP(A960,'1.Портфель кредитів'!A:Z,7,FALSE),\"\")","v":""},{"$f":"IFERROR(VLOOKUP(A960,'1.Портфель кредитів'!A:Z,14,FALSE),\"\")","v":""}]
[null,{"$f":"IFERROR(VLOOKUP(A961,'1.Портфель кредитів'!A:Z,3,FALSE),\"\")","v":""},{"$f":"IFERROR(VLOOKUP(A961,'1.Портфель кредитів'!A:Z,7,FALSE),\"\")","v":""},{"$f":"IFERROR(VLOOKUP(A961,'1.Портфель кредитів'!A:Z,14,FALSE),\"\")","v":""}]
[null,{"$f":"IFERROR(VLOOKUP(A962,'1.Портфель кредитів'!A:Z,3,FALSE),\"\")","v":""},{"$f":"IFERROR(VLOOKUP(A962,'1.Портфель кредитів'!A:Z,7,FALSE),\"\")","v":""},{"$f":"IFERROR(VLOOKUP(A962,'1.Портфель кредитів'!A:Z,14,FALSE),\"\")","v":""}]
[null,{"$f":"IFERROR(VLOOKUP(A963,'1.Портфель кредитів'!A:Z,3,FALSE),\"\")","v":""},{"$f":"IFERROR(VLOOKUP(A963,'1.Портфель кредитів'!A:Z,7,FALSE),\"\")","v":""},{"$f":"IFERROR(VLOOKUP(A963,'1.Портфель кредитів'!A:Z,14,FALSE),\"\")","v":""}]
[null,{"$f":"IFERROR(VLOOKUP(A964,'1.Портфель кредитів'!A:Z,3,FALSE),\"\")","v":""},{"$f":"IFERROR(VLOOKUP(A964,'1.Портфель кредитів'!A:Z,7,FALSE),\"\")","v":""},{"$f":"IFERROR(VLOOKUP(A964,'1.Портфель кредитів'!A:Z,14,FALSE),\"\")","v":""}]
[null,{"$f":"IFERROR(VLOOKUP(A965,'1.Портфель кредитів'!A:Z,3,FALSE),\"\")","v":""},{"$f":"IFERROR(VLOOKUP(A965,'1.Портфель кредитів'!A:Z,7,FALSE),\"\")","v":""},{"$f":"IFERROR(VLOOKUP(A965,'1.Портфель кредитів'!A:Z,14,FALSE),\"\")","v":""}]
[null,{"$f":"IFERROR(VLOOKUP(A966,'1.Портфель кредитів'!A:Z,3,FALSE),\"\")","v":""},{"$f":"IFERROR(VLOOKUP(A966,'1.Портфель кредитів'!A:Z,7,FALSE),\"\")","v":""},{"$f":"IFERROR(VLOOKUP(A966,'1.Портфель кредитів'!A:Z,14,FALSE),\"\")","v":""}]
[null,{"$f":"IFERROR(VLOOKUP(A967,'1.Портфель кредитів'!A:Z,3,FALSE),\"\")","v":""},{"$f":"IFERROR(VLOOKUP(A967,'1.Портфель кредитів'!A:Z,7,FALSE),\"\")","v":""},{"$f":"IFERROR(VLOOKUP(A967,'1.Портфель кредитів'!A:Z,14,FALSE),\"\")","v":""}]
[null,{"$f":"IFERROR(VLOOKUP(A968,'1.Портфель кредитів'!A:Z,3,FALSE),\"\")","v":""},{"$f":"IFERROR(VLOOKUP(A968,'1.Портфель кредитів'!A:Z,7,FALSE),\"\")","v":""},{"$f":"IFERROR(VLOOKUP(A968,'1.Портфель кредитів'!A:Z,14,FALSE),\"\")","v":""}]
[null,{"$f":"IFERROR(VLOOKUP(A969,'1.Портфель кредитів'!A:Z,3,FALSE),\"\")","v":""},{"$f":"IFERROR(VLOOKUP(A969,'1.Портфель кредитів'!A:Z,7,FALSE),\"\")","v":""},{"$f":"IFERROR(VLOOKUP(A969,'1.Портфель кредитів'!A:Z,14,FALSE),\"\")","v":""}]
[null,{"$f":"IFERROR(VLOOKUP(A970,'1.Портфель кредитів'!A:Z,3,FALSE),\"\")","v":""},{"$f":"IFERROR(VLOOKUP(A970,'1.Портфель кредитів'!A:Z,7,FALSE),\"\")","v":""},{"$f":"IFERROR(VLOOKUP(A970,'1.Портфель кредитів'!A:Z,14,FALSE),\"\")","v":""}]
[null,{"$f":"IFERROR(VLOOKUP(A971,'1.Портфель кредитів'!A:Z,3,FALSE),\"\")","v":""},{"$f":"IFERROR(VLOOKUP(A971,'1.Портфель кредитів'!A:Z,7,FALSE),\"\")","v":""},{"$f":"IFERROR(VLOOKUP(A971,'1.Портфель кредитів'!A:Z,14,FALSE),\"\")","v":""}]
[null,{"$f":"IFERROR(VLOOKUP(A972,'1.Портфель кредитів'!A:Z,3,FALSE),\"\")","v":""},{"$f":"IFERROR(VLOOKUP(A972,'1.Портфель кредитів'!A:Z,7,FALSE),\"\")","v":""},{"$f":"IFERROR(VLOOKUP(A972,'1.Портфель кредитів'!A:Z,14,FALSE),\"\")","v":""}]
[null,{"$f":"IFERROR(VLOOKUP(A973,'1.Портфель кредитів'!A:Z,3,FALSE),\"\")","v":""},{"$f":"IFERROR(VLOOKUP(A973,'1.Портфель кредитів'!A:Z,7,FALSE),\"\")","v":""},{"$f":"IFERROR(VLOOKUP(A973,'1.Портфель кредитів'!A:Z,14,FALSE),\"\")","v":""}]
[null,{"$f":"IFERROR(VLOOKUP(A974,'1.Портфель кредитів'!A:Z,3,FALSE),\"\")","v":""},{"$f":"IFERROR(VLOOKUP(A974,'1.Портфель кредитів'!A:Z,7,FALSE),\"\")","v":""},{"$f":"IFERROR(VLOOKUP(A974,'1.Портфель кредитів'!A:Z,14,FALSE),\"\")","v":""}]
[null,{"$f":"IFERROR(VLOOKUP(A975,'1.Портфель кредитів'!A:Z,3,FALSE),\"\")","v":""},{"$f":"IFERROR(VLOOKUP(A975,'1.Портфель кредитів'!A:Z,7,FALSE),\"\")","v":""},{"$f":"IFERROR(VLOOKUP(A975,'1.Портфель кредитів'!A:Z,14,FALSE),\"\")","v":""}]
[null,{"$f":"IFERROR(VLOOKUP(A976,'1.Портфель кредитів'!A:Z,3,FALSE),\"\")","v":""},{"$f":"IFERROR(VLOOKUP(A976,'1.Портфель кредитів'!A:Z,7,FALSE),\"\")","v":""},{"$f":"IFERROR(VLOOKUP(A976,'1.Портфель кредитів'!A:Z,14,FALSE),\"\")","v":""}]
[null,{"$f":"IFERROR(VLOOKUP(A977,'1.Портфель кредитів'!A:Z,3,FALSE),\"\")","v":""},{"$f":"IFERROR(VLOOKUP(A977,'1.Портфель кредитів'!A:Z,7,FALSE),\"\")","v":""},{"$f":"IFERROR(VLOOKUP(A977,'1.Портфель кредитів'!A:Z,14,FALSE),\"\")","v":""}]
[null,{"$f":"IFERROR(VLOOKUP(A978,'1.Портфель кредитів'!A:Z,3,FALSE),\"\")","v":""},{"$f":"IFERROR(VLOOKUP(A978,'1.Портфель кредитів'!A:Z,7,FALSE),\"\")","v":""},{"$f":"IFERROR(VLOOKUP(A978,'1.Портфель кредитів'!A:Z,14,FALSE),\"\")","v":""}]
[null,{"$f":"IFERROR(VLOOKUP(A979,'1.Портфель кредитів'!A:Z,3,FALSE),\"\")","v":""},{"$f":"IFERROR(VLOOKUP(A979,'1.Портфель кредитів'!A:Z,7,FALSE),\"\")","v":""},{"$f":"IFERROR(VLOOKUP(A979,'1.Портфель кредитів'!A:Z,14,FALSE),\"\")","v":""}]
[null,{"$f":"IFERROR(VLOOKUP(A980,'1.Портфель кредитів'!A:Z,3,FALSE),\"\")","v":""},{"$f":"IFERROR(VLOOKUP(A980,'1.Портфель кредитів'!A:Z,7,FALSE),\"\")","v":""},{"$f":"IFERROR(VLOOKUP(A980,'1.Портфель кредитів'!A:Z,14,FALSE),\"\")","v":""}]
[null,{"$f":"IFERROR(VLOOKUP(A981,'1.Портфель кредитів'!A:Z,3,FALSE),\"\")","v":""},{"$f":"IFERROR(VLOOKUP(A981,'1.Портфель кредитів'!A:Z,7,FALSE),\"\")","v":""},{"$f":"IFERROR(VLOOKUP(A981,'1.Портфель кредитів'!A:Z,14,FALSE),\"\")","v":""}]
[null,{"$f":"IFERROR(VLOOKUP(A982,'1.Портфель кредитів'!A:Z,3,FALSE),\"\")","v":""},{"$f":"IFERROR(VLOOKUP(A982,'1.Портфель кредитів'!A:Z,7,FALSE),\"\")","v":""},{"$f":"IFERROR(VLOOKUP(A982,'1.Портфель кредитів'!A:Z,14,FALSE),\"\")","v":""}]
[null,{"$f":"IFERROR(VLOOKUP(A983,'1.Портфель кредитів'!A:Z,3,FALSE),\"\")","v":""},{"$f":"IFERROR(VLOOKUP(A983,'1.Портфель кредитів'!A:Z,7,FALSE),\"\")","v":""},{"$f":"IFERROR(VLOOKUP(A983,'1.Портфель кредитів'!A:Z,14,FALSE),\"\")","v":""}]
[null,{"$f":"IFERROR(VLOOKUP(A984,'1.Портфель кредитів'!A:Z,3,FALSE),\"\")","v":""},{"$f":"IFERROR(VLOOKUP(A984,'1.Портфель кредитів'!A:Z,7,FALSE),\"\")","v":""},{"$f":"IFERROR(VLOOKUP(A984,'1.Портфель кредитів'!A:Z,14,FALSE),\"\")","v":""}]
[null,{"$f":"IFERROR(VLOOKUP(A985,'1.Портфель кредитів'!A:Z,3,FALSE),\"\")","v":""},{"$f":"IFERROR(VLOOKUP(A985,'1.Портфель кредитів'!A:Z,7,FALSE),\"\")","v":""},{"$f":"IFERROR(VLOOKUP(A985,'1.Портфель кредитів'!A:Z,14,FALSE),\"\")","v":""}]
[null,{"$f":"IFERROR(VLOOKUP(A986,'1.Портфель кредитів'!A:Z,3,FALSE),\"\")","v":""},{"$f":"IFERROR(VLOOKUP(A986,'1.Портфель кредитів'!A:Z,7,FALSE),\"\")","v":""},{"$f":"IFERROR(VLOOKUP(A986,'1.Портфель кредитів'!A:Z,14,FALSE),\"\")","v":""}]
[null,{"$f":"IFERROR(VLOOKUP(A987,'1.Портфель кредитів'!A:Z,3,FALSE),\"\")","v":""},{"$f":"IFERROR(VLOOKUP(A987,'1.Портфель кредитів'!A:Z,7,FALSE),\"\")","v":""},{"$f":"IFERROR(VLOOKUP(A987,'1.Портфель кредитів'!A:Z,14,FALSE),\"\")","v":""}]
[null,{"$f":"IFERROR(VLOOKUP(A988,'1.Портфель кредитів'!A:Z,3,FALSE),\"\")","v":""},{"$f":"IFERROR(VLOOKUP(A988,'1.Портфель кредитів'!A:Z,7,FALSE),\"\")","v":""},{"$f":"IFERROR(VLOOKUP(A988,'1.Портфель кредитів'!A:Z,14,FALSE),\"\")","v":""}]
[null,{"$f":"IFERROR(VLOOKUP(A989,'1.Портфель кредитів'!A:Z,3,FALSE),\"\")","v":""},{"$f":"IFERROR(VLOOKUP(A989,'1.Портфель кредитів'!A:Z,7,FALSE),\"\")","v":""},{"$f":"IFERROR(VLOOKUP(A989,'1.Портфель кредитів'!A:Z,14,FALSE),\"\")","v":""}]
[null,{"$f":"IFERROR(VLOOKUP(A990,'1.Портфель кредитів'!A:Z,3,FALSE),\"\")","v":""},{"$f":"IFERROR(VLOOKUP(A990,'1.Портфель кредитів'!A:Z,7,FALSE),\"\")","v":""},{"$f":"IFERROR(VLOOKUP(A990,'1.Портфель кредитів'!A:Z,14,FALSE),\"\")","v":""}]
[null,{"$f":"IFERROR(VLOOKUP(A991,'1.Портфель кредитів'!A:Z,3,FALSE),\"\")","v":""},{"$f":"IFERROR(VLOOKUP(A991,'1.Портфель кредитів'!A:Z,7,FALSE),\"\")","v":""},{"$f":"IFERROR(VLOOKUP(A991,'1.Портфель кредитів'!A:Z,14,FALSE),\"\")","v":""}]
[null,{"$f":"IFERROR(VLOOKUP(A992,'1.Портфель кредитів'!A:Z,3,FALSE),\"\")","v":""},{"$f":"IFERROR(VLOOKUP(A992,'1.Портфель кредитів'!A:Z,7,FALSE),\"\")","v":""},{"$f":"IFERROR(VLOOKUP(A992,'1.Портфель кредитів'!A:Z,14,FALSE),\"\")","v":""}]
[null,{"$f":"IFERROR(VLOOKUP(A993,'1.Портфель кредитів'!A:Z,3,FALSE),\"\")","v":""},{"$f":"IFERROR(VLOOKUP(A993,'1.Портфель кредитів'!A:Z,7,FALSE),\"\")","v":""},{"$f":"IFERROR(VLOOKUP(A993,'1.Портфель кредитів'!A:Z,14,FALSE),\"\")","v":""}]
[null,{"$f":"IFERROR(VLOOKUP(A994,'1.Портфель кредитів'!A:Z,3,FALSE),\"\")","v":""},{"$f":"IFERROR(VLOOKUP(A994,'1.Портфель кредитів'!A:Z,7,FALSE),\"\")","v":""},{"$f":"IFERROR(VLOOKUP(A994,'1.Портфель кредитів'!A:Z,14,FALSE),\"\")","v":""}]
[null,{"$f":"IFERROR(VLOOKUP(A995,'1.Портфель кредитів'!A:Z,3,FALSE),\"\")","v":""},{"$f":"IFERROR(VLOOKUP(A995,'1.Портфель кредитів'!A:Z,7,FALSE),\"\")","v":""},{"$f":"IFERROR(VLOOKUP(A995,'1.Портфель кредитів'!A:Z,14,FALSE),\"\")","v":""}]
[null,{"$f":"IFERROR(VLOOKUP(A996,'1.Портфель кредитів'!A:Z,3,FALSE),\"\")","v":""},{"$f":"IFERROR(VLOOKUP(A996,'1.Портфель кредитів'!A:Z,7,FALSE),\"\")","v":""},{"$f":"IFERROR(VLOOKUP(A996,'1.Портфель кредитів'!A:Z,14,FALSE),\"\")","v":""}]
[null,{"$f":"IFERROR(VLOOKUP(A997,'1.Портфель кредитів'!A:Z,3,FALSE),\"\")","v":""},{"$f":"IFERROR(VLOOKUP(A997,'1.Портфель кредитів'!A:Z,7,FALSE),\"\")","v":""},{"$f":"IFERROR(VLOOKUP(A997,'1.Портфель кредитів'!A:Z,14,FALSE),\"\")","v":""}]
[null,{"$f":"IFERROR(VLOOKUP(A998,'1.Портфель кредитів'!A:Z,3,FALSE),\"\")","v":""},{"$f":"IFERROR(VLOOKUP(A998,'1.Портфель кредитів'!A:Z,7,FALSE),\"\")","v":""},{"$f":"IFERROR(VLOOKUP(A998,'1.Портфель кредитів'!A:Z,14,FALSE),\"\")","v":""}]
[null,{"$f":"IFERROR(VLOOKUP(A999,'1.Портфель кредитів'!A:Z,3,FALSE),\"\")","v":""},{"$f":"IFERROR(VLOOKUP(A999,'1.Портфель кредитів'!A:Z,7,FALSE),\"\")","v":""},{"$f":"IFERROR(VLOOKUP(A999,'1.Портфель кредитів'!A:Z,14,FALSE),\"\")","v":""}]
[null,{"$f":"IFERROR(VLOOKUP(A1000,'1.Портфель кредитів'!A:Z,3,FALSE),\"\")","v":""},{"$f":"IFERROR(VLOOKUP(A1000,'1.Портфель кредитів'!A:Z,7,FALSE),\"\")","v":""},{"$f":"IFERROR(VLOOKUP(A1000,'1.Портфель кредитів'!A:Z,14,FALSE),\"\")","v":""}]
[null,{"$f":"IFERROR(VLOOKUP(A1001,'1.Портфель кредитів'!A:Z,3,FALSE),\"\")","v":""},{"$f":"IFERROR(VLOOKUP(A1001,'1.Портфель кредитів'!A:Z,7,FALSE),\"\")","v":""},{"$f":"IFERROR(VLOOKUP(A1001,'1.Портфель кредитів'!A:Z,14,FALSE),\"\")","v":""}]
[null,{"$f":"IFERROR(VLOOKUP(A1002,'1.Портфель кредитів'!A:Z,3,FALSE),\"\")","v":""},{"$f":"IFERROR(VLOOKUP(A1002,'1.Портфель кредитів'!A:Z,7,FALSE),\"\")","v":""},{"$f":"IFERROR(VLOOKUP(A1002,'1.Портфель кредитів'!A:Z,14,FALSE),\"\")","v":""}]
[null,{"$f":"IFERROR(VLOOKUP(A1003,'1.Портфель кредитів'!A:Z,3,FALSE),\"\")","v":""},{"$f":"IFERROR(VLOOKUP(A1003,'1.Портфель кредитів'!A:Z,7,FALSE),\"\")","v":""},{"$f":"IFERROR(VLOOKUP(A1003,'1.Портфель кредитів'!A:Z,14,FALSE),\"\")","v":""}]
[null,{"$f":"IFERROR(VLOOKUP(A1004,'1.Портфель кредитів'!A:Z,3,FALSE),\"\")","v":""},{"$f":"IFERROR(VLOOKUP(A1004,'1.Портфель кредитів'!A:Z,7,FALSE),\"\")","v":""},{"$f":"IFERROR(VLOOKUP(A1004,'1.Портфель кредитів'!A:Z,14,FALSE),\"\")","v":""}]
[null,{"$f":"IFERROR(VLOOKUP(A1005,'1.Портфель кредитів'!A:Z,3,FALSE),\"\")","v":""},{"$f":"IFERROR(VLOOKUP(A1005,'1.Портфель кредитів'!A:Z,7,FALSE),\"\")","v":""},{"$f":"IFERROR(VLOOKUP(A1005,'1.Портфель кредитів'!A:Z,14,FALSE),\"\")","v":""}]
[null,{"$f":"IFERROR(VLOOKUP(A1006,'1.Портфель кредитів'!A:Z,3,FALSE),\"\")","v":""},{"$f":"IFERROR(VLOOKUP(A1006,'1.Портфель кредитів'!A:Z,7,FALSE),\"\")","v":""},{"$f":"IFERROR(VLOOKUP(A1006,'1.Портфель кредитів'!A:Z,14,FALSE),\"\")","v":""}]
[null,{"$f":"IFERROR(VLOOKUP(A1007,'1.Портфель кредитів'!A:Z,3,FALSE),\"\")","v":""},{"$f":"IFERROR(VLOOKUP(A1007,'1.Портфель кредитів'!A:Z,7,FALSE),\"\")","v":""},{"$f":"IFERROR(VLOOKUP(A1007,'1.Портфель кредитів'!A:Z,14,FALSE),\"\")","v":""}]
[null,{"$f":"IFERROR(VLOOKUP(A1008,'1.Портфель кредитів'!A:Z,3,FALSE),\"\")","v":""},{"$f":"IFERROR(VLOOKUP(A1008,'1.Портфель кредитів'!A:Z,7,FALSE),\"\")","v":""},{"$f":"IFERROR(VLOOKUP(A1008,'1.Портфель кредитів'!A:Z,14,FALSE),\"\")","v":""}]
[null,{"$f":"IFERROR(VLOOKUP(A1009,'1.Портфель кредитів'!A:Z,3,FALSE),\"\")","v":""},{"$f":"IFERROR(VLOOKUP(A1009,'1.Портфель кредитів'!A:Z,7,FALSE),\"\")","v":""},{"$f":"IFERROR(VLOOKUP(A1009,'1.Портфель кредитів'!A:Z,14,FALSE),\"\")","v":""}]
[null,{"$f":"IFERROR(VLOOKUP(A1010,'1.Портфель кредитів'!A:Z,3,FALSE),\"\")","v":""},{"$f":"IFERROR(VLOOKUP(A1010,'1.Портфель кредитів'!A:Z,7,FALSE),\"\")","v":""},{"$f":"IFERROR(VLOOKUP(A1010,'1.Портфель кредитів'!A:Z,14,FALSE),\"\")","v":""}]
[null,{"$f":"IFERROR(VLOOKUP(A1011,'1.Портфель кредитів'!A:Z,3,FALSE),\"\")","v":""},{"$f":"IFERROR(VLOOKUP(A1011,'1.Портфель кредитів'!A:Z,7,FALSE),\"\")","v":""},{"$f":"IFERROR(VLOOKUP(A1011,'1.Портфель кредитів'!A:Z,14,FALSE),\"\")","v":""}]
[null,{"$f":"IFERROR(VLOOKUP(A1012,'1.Портфель кредитів'!A:Z,3,FALSE),\"\")","v":""},{"$f":"IFERROR(VLOOKUP(A1012,'1.Портфель кредитів'!A:Z,7,FALSE),\"\")","v":""},{"$f":"IFERROR(VLOOKUP(A1012,'1.Портфель кредитів'!A:Z,14,FALSE),\"\")","v":""}]
[null,{"$f":"IFERROR(VLOOKUP(A1013,'1.Портфель кредитів'!A:Z,3,FALSE),\"\")","v":""},{"$f":"IFERROR(VLOOKUP(A1013,'1.Портфель кредитів'!A:Z,7,FALSE),\"\")","v":""},{"$f":"IFERROR(VLOOKUP(A1013,'1.Портфель кредитів'!A:Z,14,FALSE),\"\")","v":""}]
[null,{"$f":"IFERROR(VLOOKUP(A1014,'1.Портфель кредитів'!A:Z,3,FALSE),\"\")","v":""},{"$f":"IFERROR(VLOOKUP(A1014,'1.Портфель кредитів'!A:Z,7,FALSE),\"\")","v":""},{"$f":"IFERROR(VLOOKUP(A1014,'1.Портфель кредитів'!A:Z,14,FALSE),\"\")","v":""}]
[null,{"$f":"IFERROR(VLOOKUP(A1015,'1.Портфель кредитів'!A:Z,3,FALSE),\"\")","v":""},{"$f":"IFERROR(VLOOKUP(A1015,'1.Портфель кредитів'!A:Z,7,FALSE),\"\")","v":""},{"$f":"IFERROR(VLOOKUP(A1015,'1.Портфель кредитів'!A:Z,14,FALSE),\"\")","v":""}]
[null,{"$f":"IFERROR(VLOOKUP(A1016,'1.Портфель кредитів'!A:Z,3,FALSE),\"\")","v":""},{"$f":"IFERROR(VLOOKUP(A1016,'1.Портфель кредитів'!A:Z,7,FALSE),\"\")","v":""},{"$f":"IFERROR(VLOOKUP(A1016,'1.Портфель кредитів'!A:Z,14,FALSE),\"\")","v":""}]
[null,{"$f":"IFERROR(VLOOKUP(A1017,'1.Портфель кредитів'!A:Z,3,FALSE),\"\")","v":""},{"$f":"IFERROR(VLOOKUP(A1017,'1.Портфель кредитів'!A:Z,7,FALSE),\"\")","v":""},{"$f":"IFERROR(VLOOKUP(A1017,'1.Портфель кредитів'!A:Z,14,FALSE),\"\")","v":""}]
[null,{"$f":"IFERROR(VLOOKUP(A1018,'1.Портфель кредитів'!A:Z,3,FALSE),\"\")","v":""},{"$f":"IFERROR(VLOOKUP(A1018,'1.Портфель кредитів'!A:Z,7,FALSE),\"\")","v":""},{"$f":"IFERROR(VLOOKUP(A1018,'1.Портфель кредитів'!A:Z,14,FALSE),\"\")","v":""}]
[null,{"$f":"IFERROR(VLOOKUP(A1019,'1.Портфель кредитів'!A:Z,3,FALSE),\"\")","v":""},{"$f":"IFERROR(VLOOKUP(A1019,'1.Портфель кредитів'!A:Z,7,FALSE),\"\")","v":""},{"$f":"IFERROR(VLOOKUP(A1019,'1.Портфель кредитів'!A:Z,14,FALSE),\"\")","v":""}]
[null,{"$f":"IFERROR(VLOOKUP(A1020,'1.Портфель кредитів'!A:Z,3,FALSE),\"\")","v":""},{"$f":"IFERROR(VLOOKUP(A1020,'1.Портфель кредитів'!A:Z,7,FALSE),\"\")","v":""},{"$f":"IFERROR(VLOOKUP(A1020,'1.Портфель кредитів'!A:Z,14,FALSE),\"\")","v":""}]
[null,{"$f":"IFERROR(VLOOKUP(A1021,'1.Портфель кредитів'!A:Z,3,FALSE),\"\")","v":""},{"$f":"IFERROR(VLOOKUP(A1021,'1.Портфель кредитів'!A:Z,7,FALSE),\"\")","v":""},{"$f":"IFERROR(VLOOKUP(A1021,'1.Портфель кредитів'!A:Z,14,FALSE),\"\")","v":""}]
[null,{"$f":"IFERROR(VLOOKUP(A1022,'1.Портфель кредитів'!A:Z,3,FALSE),\"\")","v":""},{"$f":"IFERROR(VLOOKUP(A1022,'1.Портфель кредитів'!A:Z,7,FALSE),\"\")","v":""},{"$f":"IFERROR(VLOOKUP(A1022,'1.Портфель кредитів'!A:Z,14,FALSE),\"\")","v":""}]
[null,{"$f":"IFERROR(VLOOKUP(A1023,'1.Портфель кредитів'!A:Z,3,FALSE),\"\")","v":""},{"$f":"IFERROR(VLOOKUP(A1023,'1.Портфель кредитів'!A:Z,7,FALSE),\"\")","v":""},{"$f":"IFERROR(VLOOKUP(A1023,'1.Портфель кредитів'!A:Z,14,FALSE),\"\")","v":""}]
[null,{"$f":"IFERROR(VLOOKUP(A1024,'1.Портфель кредитів'!A:Z,3,FALSE),\"\")","v":""},{"$f":"IFERROR(VLOOKUP(A1024,'1.Портфель кредитів'!A:Z,7,FALSE),\"\")","v":""},{"$f":"IFERROR(VLOOKUP(A1024,'1.Портфель кредитів'!A:Z,14,FALSE),\"\")","v":""}]
[null,{"$f":"IFERROR(VLOOKUP(A1025,'1.Портфель кредитів'!A:Z,3,FALSE),\"\")","v":""},{"$f":"IFERROR(VLOOKUP(A1025,'1.Портфель кредитів'!A:Z,7,FALSE),\"\")","v":""},{"$f":"IFERROR(VLOOKUP(A1025,'1.Портфель кредитів'!A:Z,14,FALSE),\"\")","v":""}]
[null,{"$f":"IFERROR(VLOOKUP(A1026,'1.Портфель кредитів'!A:Z,3,FALSE),\"\")","v":""},{"$f":"IFERROR(VLOOKUP(A1026,'1.Портфель кредитів'!A:Z,7,FALSE),\"\")","v":""},{"$f":"IFERROR(VLOOKUP(A1026,'1.Портфель кредитів'!A:Z,14,FALSE),\"\")","v":""}]
[null,{"$f":"IFERROR(VLOOKUP(A1027,'1.Портфель кредитів'!A:Z,3,FALSE),\"\")","v":""},{"$f":"IFERROR(VLOOKUP(A1027,'1.Портфель кредитів'!A:Z,7,FALSE),\"\")","v":""},{"$f":"IFERROR(VLOOKUP(A1027,'1.Портфель кредитів'!A:Z,14,FALSE),\"\")","v":""}]
[null,{"$f":"IFERROR(VLOOKUP(A1028,'1.Портфель кредитів'!A:Z,3,FALSE),\"\")","v":""},{"$f":"IFERROR(VLOOKUP(A1028,'1.Портфель кредитів'!A:Z,7,FALSE),\"\")","v":""},{"$f":"IFERROR(VLOOKUP(A1028,'1.Портфель кредитів'!A:Z,14,FALSE),\"\")","v":""}]
[null,{"$f":"IFERROR(VLOOKUP(A1029,'1.Портфель кредитів'!A:Z,3,FALSE),\"\")","v":""},{"$f":"IFERROR(VLOOKUP(A1029,'1.Портфель кредитів'!A:Z,7,FALSE),\"\")","v":""},{"$f":"IFERROR(VLOOKUP(A1029,'1.Портфель кредитів'!A:Z,14,FALSE),\"\")","v":""}]
[null,{"$f":"IFERROR(VLOOKUP(A1030,'1.Портфель кредитів'!A:Z,3,FALSE),\"\")","v":""},{"$f":"IFERROR(VLOOKUP(A1030,'1.Портфель кредитів'!A:Z,7,FALSE),\"\")","v":""},{"$f":"IFERROR(VLOOKUP(A1030,'1.Портфель кредитів'!A:Z,14,FALSE),\"\")","v":""}]
[null,{"$f":"IFERROR(VLOOKUP(A1031,'1.Портфель кредитів'!A:Z,3,FALSE),\"\")","v":""},{"$f":"IFERROR(VLOOKUP(A1031,'1.Портфель кредитів'!A:Z,7,FALSE),\"\")","v":""},{"$f":"IFERROR(VLOOKUP(A1031,'1.Портфель кредитів'!A:Z,14,FALSE),\"\")","v":""}]
[null,{"$f":"IFERROR(VLOOKUP(A1032,'1.Портфель кредитів'!A:Z,3,FALSE),\"\")","v":""},{"$f":"IFERROR(VLOOKUP(A1032,'1.Портфель кредитів'!A:Z,7,FALSE),\"\")","v":""},{"$f":"IFERROR(VLOOKUP(A1032,'1.Портфель кредитів'!A:Z,14,FALSE),\"\")","v":""}]
[null,{"$f":"IFERROR(VLOOKUP(A1033,'1.Портфель кредитів'!A:Z,3,FALSE),\"\")","v":""},{"$f":"IFERROR(VLOOKUP(A1033,'1.Портфель кредитів'!A:Z,7,FALSE),\"\")","v":""},{"$f":"IFERROR(VLOOKUP(A1033,'1.Портфель кредитів'!A:Z,14,FALSE),\"\")","v":""}]
[null,{"$f":"IFERROR(VLOOKUP(A1034,'1.Портфель кредитів'!A:Z,3,FALSE),\"\")","v":""},{"$f":"IFERROR(VLOOKUP(A1034,'1.Портфель кредитів'!A:Z,7,FALSE),\"\")","v":""},{"$f":"IFERROR(VLOOKUP(A1034,'1.Портфель кредитів'!A:Z,14,FALSE),\"\")","v":""}]
[null,{"$f":"IFERROR(VLOOKUP(A1035,'1.Портфель кредитів'!A:Z,3,FALSE),\"\")","v":""},{"$f":"IFERROR(VLOOKUP(A1035,'1.Портфель кредитів'!A:Z,7,FALSE),\"\")","v":""},{"$f":"IFERROR(VLOOKUP(A1035,'1.Портфель кредитів'!A:Z,14,FALSE),\"\")","v":""}]
[null,{"$f":"IFERROR(VLOOKUP(A1036,'1.Портфель кредитів'!A:Z,3,FALSE),\"\")","v":""},{"$f":"IFERROR(VLOOKUP(A1036,'1.Портфель кредитів'!A:Z,7,FALSE),\"\")","v":""},{"$f":"IFERROR(VLOOKUP(A1036,'1.Портфель кредитів'!A:Z,14,FALSE),\"\")","v":""}]
[null,{"$f":"IFERROR(VLOOKUP(A1037,'1.Портфель кредитів'!A:Z,3,FALSE),\"\")","v":""},{"$f":"IFERROR(VLOOKUP(A1037,'1.Портфель кредитів'!A:Z,7,FALSE),\"\")","v":""},{"$f":"IFERROR(VLOOKUP(A1037,'1.Портфель кредитів'!A:Z,14,FALSE),\"\")","v":""}]
[null,{"$f":"IFERROR(VLOOKUP(A1038,'1.Портфель кредитів'!A:Z,3,FALSE),\"\")","v":""},{"$f":"IFERROR(VLOOKUP(A1038,'1.Портфель кредитів'!A:Z,7,FALSE),\"\")","v":""},{"$f":"IFERROR(VLOOKUP(A1038,'1.Портфель кредитів'!A:Z,14,FALSE),\"\")","v":""}]
[null,{"$f":"IFERROR(VLOOKUP(A1039,'1.Портфель кредитів'!A:Z,3,FALSE),\"\")","v":""},{"$f":"IFERROR(VLOOKUP(A1039,'1.Портфель кредитів'!A:Z,7,FALSE),\"\")","v":""},{"$f":"IFERROR(VLOOKUP(A1039,'1.Портфель кредитів'!A:Z,14,FALSE),\"\")","v":""}]
[null,{"$f":"IFERROR(VLOOKUP(A1040,'1.Портфель кредитів'!A:Z,3,FALSE),\"\")","v":""},{"$f":"IFERROR(VLOOKUP(A1040,'1.Портфель кредитів'!A:Z,7,FALSE),\"\")","v":""},{"$f":"IFERROR(VLOOKUP(A1040,'1.Портфель кредитів'!A:Z,14,FALSE),\"\")","v":""}]
[null,{"$f":"IFERROR(VLOOKUP(A1041,'1.Портфель кредитів'!A:Z,3,FALSE),\"\")","v":""},{"$f":"IFERROR(VLOOKUP(A1041,'1.Портфель кредитів'!A:Z,7,FALSE),\"\")","v":""},{"$f":"IFERROR(VLOOKUP(A1041,'1.Портфель кредитів'!A:Z,14,FALSE),\"\")","v":""}]
[null,{"$f":"IFERROR(VLOOKUP(A1042,'1.Портфель кредитів'!A:Z,3,FALSE),\"\")","v":""},{"$f":"IFERROR(VLOOKUP(A1042,'1.Портфель кредитів'!A:Z,7,FALSE),\"\")","v":""},{"$f":"IFERROR(VLOOKUP(A1042,'1.Портфель кредитів'!A:Z,14,FALSE),\"\")","v":""}]
[null,{"$f":"IFERROR(VLOOKUP(A1043,'1.Портфель кредитів'!A:Z,3,FALSE),\"\")","v":""},{"$f":"IFERROR(VLOOKUP(A1043,'1.Портфель кредитів'!A:Z,7,FALSE),\"\")","v":""},{"$f":"IFERROR(VLOOKUP(A1043,'1.Портфель кредитів'!A:Z,14,FALSE),\"\")","v":""}]
[null,{"$f":"IFERROR(VLOOKUP(A1044,'1.Портфель кредитів'!A:Z,3,FALSE),\"\")","v":""},{"$f":"IFERROR(VLOOKUP(A1044,'1.Портфель кредитів'!A:Z,7,FALSE),\"\")","v":""},{"$f":"IFERROR(VLOOKUP(A1044,'1.Портфель кредитів'!A:Z,14,FALSE),\"\")","v":""}]
[null,{"$f":"IFERROR(VLOOKUP(A1045,'1.Портфель кредитів'!A:Z,3,FALSE),\"\")","v":""},{"$f":"IFERROR(VLOOKUP(A1045,'1.Портфель кредитів'!A:Z,7,FALSE),\"\")","v":""},{"$f":"IFERROR(VLOOKUP(A1045,'1.Портфель кредитів'!A:Z,14,FALSE),\"\")","v":""}]
[null,{"$f":"IFERROR(VLOOKUP(A1046,'1.Портфель кредитів'!A:Z,3,FALSE),\"\")","v":""},{"$f":"IFERROR(VLOOKUP(A1046,'1.Портфель кредитів'!A:Z,7,FALSE),\"\")","v":""},{"$f":"IFERROR(VLOOKUP(A1046,'1.Портфель кредитів'!A:Z,14,FALSE),\"\")","v":""}]
[null,{"$f":"IFERROR(VLOOKUP(A1047,'1.Портфель кредитів'!A:Z,3,FALSE),\"\")","v":""},{"$f":"IFERROR(VLOOKUP(A1047,'1.Портфель кредитів'!A:Z,7,FALSE),\"\")","v":""},{"$f":"IFERROR(VLOOKUP(A1047,'1.Портфель кредитів'!A:Z,14,FALSE),\"\")","v":""}]
[null,{"$f":"IFERROR(VLOOKUP(A1048,'1.Портфель кредитів'!A:Z,3,FALSE),\"\")","v":""},{"$f":"IFERROR(VLOOKUP(A1048,'1.Портфель кредитів'!A:Z,7,FALSE),\"\")","v":""},{"$f":"IFERROR(VLOOKUP(A1048,'1.Портфель кредитів'!A:Z,14,FALSE),\"\")","v":""}]
[null,{"$f":"IFERROR(VLOOKUP(A1049,'1.Портфель кредитів'!A:Z,3,FALSE),\"\")","v":""},{"$f":"IFERROR(VLOOKUP(A1049,'1.Портфель кредитів'!A:Z,7,FALSE),\"\")","v":""},{"$f":"IFERROR(VLOOKUP(A1049,'1.Портфель кредитів'!A:Z,14,FALSE),\"\")","v":""}]
[null,{"$f":"IFERROR(VLOOKUP(A1050,'1.Портфель кредитів'!A:Z,3,FALSE),\"\")","v":""},{"$f":"IFERROR(VLOOKUP(A1050,'1.Портфель кредитів'!A:Z,7,FALSE),\"\")","v":""},{"$f":"IFERROR(VLOOKUP(A1050,'1.Портфель кредитів'!A:Z,14,FALSE),\"\")","v":""}]
[null,{"$f":"IFERROR(VLOOKUP(A1051,'1.Портфель кредитів'!A:Z,3,FALSE),\"\")","v":""},{"$f":"IFERROR(VLOOKUP(A1051,'1.Портфель кредитів'!A:Z,7,FALSE),\"\")","v":""},{"$f":"IFERROR(VLOOKUP(A1051,'1.Портфель кредитів'!A:Z,14,FALSE),\"\")","v":""}]
[null,{"$f":"IFERROR(VLOOKUP(A1052,'1.Портфель кредитів'!A:Z,3,FALSE),\"\")","v":""},{"$f":"IFERROR(VLOOKUP(A1052,'1.Портфель кредитів'!A:Z,7,FALSE),\"\")","v":""},{"$f":"IFERROR(VLOOKUP(A1052,'1.Портфель кредитів'!A:Z,14,FALSE),\"\")","v":""}]
[null,{"$f":"IFERROR(VLOOKUP(A1053,'1.Портфель кредитів'!A:Z,3,FALSE),\"\")","v":""},{"$f":"IFERROR(VLOOKUP(A1053,'1.Портфель кредитів'!A:Z,7,FALSE),\"\")","v":""},{"$f":"IFERROR(VLOOKUP(A1053,'1.Портфель кредитів'!A:Z,14,FALSE),\"\")","v":""}]
[null,{"$f":"IFERROR(VLOOKUP(A1054,'1.Портфель кредитів'!A:Z,3,FALSE),\"\")","v":""},{"$f":"IFERROR(VLOOKUP(A1054,'1.Портфель кредитів'!A:Z,7,FALSE),\"\")","v":""},{"$f":"IFERROR(VLOOKUP(A1054,'1.Портфель кредитів'!A:Z,14,FALSE),\"\")","v":""}]
[null,{"$f":"IFERROR(VLOOKUP(A1055,'1.Портфель кредитів'!A:Z,3,FALSE),\"\")","v":""},{"$f":"IFERROR(VLOOKUP(A1055,'1.Портфель кредитів'!A:Z,7,FALSE),\"\")","v":""},{"$f":"IFERROR(VLOOKUP(A1055,'1.Портфель кредитів'!A:Z,14,FALSE),\"\")","v":""}]
[null,{"$f":"IFERROR(VLOOKUP(A1056,'1.Портфель кредитів'!A:Z,3,FALSE),\"\")","v":""},{"$f":"IFERROR(VLOOKUP(A1056,'1.Портфель кредитів'!A:Z,7,FALSE),\"\")","v":""},{"$f":"IFERROR(VLOOKUP(A1056,'1.Портфель кредитів'!A:Z,14,FALSE),\"\")","v":""}]
[null,{"$f":"IFERROR(VLOOKUP(A1057,'1.Портфель кредитів'!A:Z,3,FALSE),\"\")","v":""},{"$f":"IFERROR(VLOOKUP(A1057,'1.Портфель кредитів'!A:Z,7,FALSE),\"\")","v":""},{"$f":"IFERROR(VLOOKUP(A1057,'1.Портфель кредитів'!A:Z,14,FALSE),\"\")","v":""}]
[null,{"$f":"IFERROR(VLOOKUP(A1058,'1.Портфель кредитів'!A:Z,3,FALSE),\"\")","v":""},{"$f":"IFERROR(VLOOKUP(A1058,'1.Портфель кредитів'!A:Z,7,FALSE),\"\")","v":""},{"$f":"IFERROR(VLOOKUP(A1058,'1.Портфель кредитів'!A:Z,14,FALSE),\"\")","v":""}]
[null,{"$f":"IFERROR(VLOOKUP(A1059,'1.Портфель кредитів'!A:Z,3,FALSE),\"\")","v":""},{"$f":"IFERROR(VLOOKUP(A1059,'1.Портфель кредитів'!A:Z,7,FALSE),\"\")","v":""},{"$f":"IFERROR(VLOOKUP(A1059,'1.Портфель кредитів'!A:Z,14,FALSE),\"\")","v":""}]
[null,{"$f":"IFERROR(VLOOKUP(A1060,'1.Портфель кредитів'!A:Z,3,FALSE),\"\")","v":""},{"$f":"IFERROR(VLOOKUP(A1060,'1.Портфель кредитів'!A:Z,7,FALSE),\"\")","v":""},{"$f":"IFERROR(VLOOKUP(A1060,'1.Портфель кредитів'!A:Z,14,FALSE),\"\")","v":""}]
[null,{"$f":"IFERROR(VLOOKUP(A1061,'1.Портфель кредитів'!A:Z,3,FALSE),\"\")","v":""},{"$f":"IFERROR(VLOOKUP(A1061,'1.Портфель кредитів'!A:Z,7,FALSE),\"\")","v":""},{"$f":"IFERROR(VLOOKUP(A1061,'1.Портфель кредитів'!A:Z,14,FALSE),\"\")","v":""}]
[null,{"$f":"IFERROR(VLOOKUP(A1062,'1.Портфель кредитів'!A:Z,3,FALSE),\"\")","v":""},{"$f":"IFERROR(VLOOKUP(A1062,'1.Портфель кредитів'!A:Z,7,FALSE),\"\")","v":""},{"$f":"IFERROR(VLOOKUP(A1062,'1.Портфель кредитів'!A:Z,14,FALSE),\"\")","v":""}]
[null,{"$f":"IFERROR(VLOOKUP(A1063,'1.Портфель кредитів'!A:Z,3,FALSE),\"\")","v":""},{"$f":"IFERROR(VLOOKUP(A1063,'1.Портфель кредитів'!A:Z,7,FALSE),\"\")","v":""},{"$f":"IFERROR(VLOOKUP(A1063,'1.Портфель кредитів'!A:Z,14,FALSE),\"\")","v":""}]
[null,{"$f":"IFERROR(VLOOKUP(A1064,'1.Портфель кредитів'!A:Z,3,FALSE),\"\")","v":""},{"$f":"IFERROR(VLOOKUP(A1064,'1.Портфель кредитів'!A:Z,7,FALSE),\"\")","v":""},{"$f":"IFERROR(VLOOKUP(A1064,'1.Портфель кредитів'!A:Z,14,FALSE),\"\")","v":""}]
[null,{"$f":"IFERROR(VLOOKUP(A1065,'1.Портфель кредитів'!A:Z,3,FALSE),\"\")","v":""},{"$f":"IFERROR(VLOOKUP(A1065,'1.Портфель кредитів'!A:Z,7,FALSE),\"\")","v":""},{"$f":"IFERROR(VLOOKUP(A1065,'1.Портфель кредитів'!A:Z,14,FALSE),\"\")","v":""}]
[null,{"$f":"IFERROR(VLOOKUP(A1066,'1.Портфель кредитів'!A:Z,3,FALSE),\"\")","v":""},{"$f":"IFERROR(VLOOKUP(A1066,'1.Портфель кредитів'!A:Z,7,FALSE),\"\")","v":""},{"$f":"IFERROR(VLOOKUP(A1066,'1.Портфель кредитів'!A:Z,14,FALSE),\"\")","v":""}]
[null,{"$f":"IFERROR(VLOOKUP(A1067,'1.Портфель кредитів'!A:Z,3,FALSE),\"\")","v":""},{"$f":"IFERROR(VLOOKUP(A1067,'1.Портфель кредитів'!A:Z,7,FALSE),\"\")","v":""},{"$f":"IFERROR(VLOOKUP(A1067,'1.Портфель кредитів'!A:Z,14,FALSE),\"\")","v":""}]
[null,{"$f":"IFERROR(VLOOKUP(A1068,'1.Портфель кредитів'!A:Z,3,FALSE),\"\")","v":""},{"$f":"IFERROR(VLOOKUP(A1068,'1.Портфель кредитів'!A:Z,7,FALSE),\"\")","v":""},{"$f":"IFERROR(VLOOKUP(A1068,'1.Портфель кредитів'!A:Z,14,FALSE),\"\")","v":""}]
[null,{"$f":"IFERROR(VLOOKUP(A1069,'1.Портфель кредитів'!A:Z,3,FALSE),\"\")","v":""},{"$f":"IFERROR(VLOOKUP(A1069,'1.Портфель кредитів'!A:Z,7,FALSE),\"\")","v":""},{"$f":"IFERROR(VLOOKUP(A1069,'1.Портфель кредитів'!A:Z,14,FALSE),\"\")","v":""}]
[null,{"$f":"IFERROR(VLOOKUP(A1070,'1.Портфель кредитів'!A:Z,3,FALSE),\"\")","v":""},{"$f":"IFERROR(VLOOKUP(A1070,'1.Портфель кредитів'!A:Z,7,FALSE),\"\")","v":""},{"$f":"IFERROR(VLOOKUP(A1070,'1.Портфель кредитів'!A:Z,14,FALSE),\"\")","v":""}]
[null,{"$f":"IFERROR(VLOOKUP(A1071,'1.Портфель кредитів'!A:Z,3,FALSE),\"\")","v":""},{"$f":"IFERROR(VLOOKUP(A1071,'1.Портфель кредитів'!A:Z,7,FALSE),\"\")","v":""},{"$f":"IFERROR(VLOOKUP(A1071,'1.Портфель кредитів'!A:Z,14,FALSE),\"\")","v":""}]
[null,{"$f":"IFERROR(VLOOKUP(A1072,'1.Портфель кредитів'!A:Z,3,FALSE),\"\")","v":""},{"$f":"IFERROR(VLOOKUP(A1072,'1.Портфель кредитів'!A:Z,7,FALSE),\"\")","v":""},{"$f":"IFERROR(VLOOKUP(A1072,'1.Портфель кредитів'!A:Z,14,FALSE),\"\")","v":""}]
[null,{"$f":"IFERROR(VLOOKUP(A1073,'1.Портфель кредитів'!A:Z,3,FALSE),\"\")","v":""},{"$f":"IFERROR(VLOOKUP(A1073,'1.Портфель кредитів'!A:Z,7,FALSE),\"\")","v":""},{"$f":"IFERROR(VLOOKUP(A1073,'1.Портфель кредитів'!A:Z,14,FALSE),\"\")","v":""}]
[null,{"$f":"IFERROR(VLOOKUP(A1074,'1.Портфель кредитів'!A:Z,3,FALSE),\"\")","v":""},{"$f":"IFERROR(VLOOKUP(A1074,'1.Портфель кредитів'!A:Z,7,FALSE),\"\")","v":""},{"$f":"IFERROR(VLOOKUP(A1074,'1.Портфель кредитів'!A:Z,14,FALSE),\"\")","v":""}]
[null,{"$f":"IFERROR(VLOOKUP(A1075,'1.Портфель кредитів'!A:Z,3,FALSE),\"\")","v":""},{"$f":"IFERROR(VLOOKUP(A1075,'1.Портфель кредитів'!A:Z,7,FALSE),\"\")","v":""},{"$f":"IFERROR(VLOOKUP(A1075,'1.Портфель кредитів'!A:Z,14,FALSE),\"\")","v":""}]
[null,{"$f":"IFERROR(VLOOKUP(A1076,'1.Портфель кредитів'!A:Z,3,FALSE),\"\")","v":""},{"$f":"IFERROR(VLOOKUP(A1076,'1.Портфель кредитів'!A:Z,7,FALSE),\"\")","v":""},{"$f":"IFERROR(VLOOKUP(A1076,'1.Портфель кредитів'!A:Z,14,FALSE),\"\")","v":""}]
[null,{"$f":"IFERROR(VLOOKUP(A1077,'1.Портфель кредитів'!A:Z,3,FALSE),\"\")","v":""},{"$f":"IFERROR(VLOOKUP(A1077,'1.Портфель кредитів'!A:Z,7,FALSE),\"\")","v":""},{"$f":"IFERROR(VLOOKUP(A1077,'1.Портфель кредитів'!A:Z,14,FALSE),\"\")","v":""}]
[null,{"$f":"IFERROR(VLOOKUP(A1078,'1.Портфель кредитів'!A:Z,3,FALSE),\"\")","v":""},{"$f":"IFERROR(VLOOKUP(A1078,'1.Портфель кредитів'!A:Z,7,FALSE),\"\")","v":""},{"$f":"IFERROR(VLOOKUP(A1078,'1.Портфель кредитів'!A:Z,14,FALSE),\"\")","v":""}]
[null,{"$f":"IFERROR(VLOOKUP(A1079,'1.Портфель кредитів'!A:Z,3,FALSE),\"\")","v":""},{"$f":"IFERROR(VLOOKUP(A1079,'1.Портфель кредитів'!A:Z,7,FALSE),\"\")","v":""},{"$f":"IFERROR(VLOOKUP(A1079,'1.Портфель кредитів'!A:Z,14,FALSE),\"\")","v":""}]
[null,{"$f":"IFERROR(VLOOKUP(A1080,'1.Портфель кредитів'!A:Z,3,FALSE),\"\")","v":""},{"$f":"IFERROR(VLOOKUP(A1080,'1.Портфель кредитів'!A:Z,7,FALSE),\"\")","v":""},{"$f":"IFERROR(VLOOKUP(A1080,'1.Портфель кредитів'!A:Z,14,FALSE),\"\")","v":""}]
[null,{"$f":"IFERROR(VLOOKUP(A1081,'1.Портфель кредитів'!A:Z,3,FALSE),\"\")","v":""},{"$f":"IFERROR(VLOOKUP(A1081,'1.Портфель кредитів'!A:Z,7,FALSE),\"\")","v":""},{"$f":"IFERROR(VLOOKUP(A1081,'1.Портфель кредитів'!A:Z,14,FALSE),\"\")","v":""}]
[null,{"$f":"IFERROR(VLOOKUP(A1082,'1.Портфель кредитів'!A:Z,3,FALSE),\"\")","v":""},{"$f":"IFERROR(VLOOKUP(A1082,'1.Портфель кредитів'!A:Z,7,FALSE),\"\")","v":""},{"$f":"IFERROR(VLOOKUP(A1082,'1.Портфель кредитів'!A:Z,14,FALSE),\"\")","v":""}]
[null,{"$f":"IFERROR(VLOOKUP(A1083,'1.Портфель кредитів'!A:Z,3,FALSE),\"\")","v":""},{"$f":"IFERROR(VLOOKUP(A1083,'1.Портфель кредитів'!A:Z,7,FALSE),\"\")","v":""},{"$f":"IFERROR(VLOOKUP(A1083,'1.Портфель кредитів'!A:Z,14,FALSE),\"\")","v":""}]
[null,{"$f":"IFERROR(VLOOKUP(A1084,'1.Портфель кредитів'!A:Z,3,FALSE),\"\")","v":""},{"$f":"IFERROR(VLOOKUP(A1084,'1.Портфель кредитів'!A:Z,7,FALSE),\"\")","v":""},{"$f":"IFERROR(VLOOKUP(A1084,'1.Портфель кредитів'!A:Z,14,FALSE),\"\")","v":""}]
[null,{"$f":"IFERROR(VLOOKUP(A1085,'1.Портфель кредитів'!A:Z,3,FALSE),\"\")","v":""},{"$f":"IFERROR(VLOOKUP(A1085,'1.Портфель кредитів'!A:Z,7,FALSE),\"\")","v":""},{"$f":"IFERROR(VLOOKUP(A1085,'1.Портфель кредитів'!A:Z,14,FALSE),\"\")","v":""}]
[null,{"$f":"IFERROR(VLOOKUP(A1086,'1.Портфель кредитів'!A:Z,3,FALSE),\"\")","v":""},{"$f":"IFERROR(VLOOKUP(A1086,'1.Портфель кредитів'!A:Z,7,FALSE),\"\")","v":""},{"$f":"IFERROR(VLOOKUP(A1086,'1.Портфель кредитів'!A:Z,14,FALSE),\"\")","v":""}]
[null,{"$f":"IFERROR(VLOOKUP(A1087,'1.Портфель кредитів'!A:Z,3,FALSE),\"\")","v":""},{"$f":"IFERROR(VLOOKUP(A1087,'1.Портфель кредитів'!A:Z,7,FALSE),\"\")","v":""},{"$f":"IFERROR(VLOOKUP(A1087,'1.Портфель кредитів'!A:Z,14,FALSE),\"\")","v":""}]
[null,{"$f":"IFERROR(VLOOKUP(A1088,'1.Портфель кредитів'!A:Z,3,FALSE),\"\")","v":""},{"$f":"IFERROR(VLOOKUP(A1088,'1.Портфель кредитів'!A:Z,7,FALSE),\"\")","v":""},{"$f":"IFERROR(VLOOKUP(A1088,'1.Портфель кредитів'!A:Z,14,FALSE),\"\")","v":""}]
[null,{"$f":"IFERROR(VLOOKUP(A1089,'1.Портфель кредитів'!A:Z,3,FALSE),\"\")","v":""},{"$f":"IFERROR(VLOOKUP(A1089,'1.Портфель кредитів'!A:Z,7,FALSE),\"\")","v":""},{"$f":"IFERROR(VLOOKUP(A1089,'1.Портфель кредитів'!A:Z,14,FALSE),\"\")","v":""}]
[null,{"$f":"IFERROR(VLOOKUP(A1090,'1.Портфель кредитів'!A:Z,3,FALSE),\"\")","v":""},{"$f":"IFERROR(VLOOKUP(A1090,'1.Портфель кредитів'!A:Z,7,FALSE),\"\")","v":""},{"$f":"IFERROR(VLOOKUP(A1090,'1.Портфель кредитів'!A:Z,14,FALSE),\"\")","v":""}]
[null,{"$f":"IFERROR(VLOOKUP(A1091,'1.Портфель кредитів'!A:Z,3,FALSE),\"\")","v":""},{"$f":"IFERROR(VLOOKUP(A1091,'1.Портфель кредитів'!A:Z,7,FALSE),\"\")","v":""},{"$f":"IFERROR(VLOOKUP(A1091,'1.Портфель кредитів'!A:Z,14,FALSE),\"\")","v":""}]
[null,{"$f":"IFERROR(VLOOKUP(A1092,'1.Портфель кредитів'!A:Z,3,FALSE),\"\")","v":""},{"$f":"IFERROR(VLOOKUP(A1092,'1.Портфель кредитів'!A:Z,7,FALSE),\"\")","v":""},{"$f":"IFERROR(VLOOKUP(A1092,'1.Портфель кредитів'!A:Z,14,FALSE),\"\")","v":""}]
[null,{"$f":"IFERROR(VLOOKUP(A1093,'1.Портфель кредитів'!A:Z,3,FALSE),\"\")","v":""},{"$f":"IFERROR(VLOOKUP(A1093,'1.Портфель кредитів'!A:Z,7,FALSE),\"\")","v":""},{"$f":"IFERROR(VLOOKUP(A1093,'1.Портфель кредитів'!A:Z,14,FALSE),\"\")","v":""}]
[null,{"$f":"IFERROR(VLOOKUP(A1094,'1.Портфель кредитів'!A:Z,3,FALSE),\"\")","v":""},{"$f":"IFERROR(VLOOKUP(A1094,'1.Портфель кредитів'!A:Z,7,FALSE),\"\")","v":""},{"$f":"IFERROR(VLOOKUP(A1094,'1.Портфель кредитів'!A:Z,14,FALSE),\"\")","v":""}]
[null,{"$f":"IFERROR(VLOOKUP(A1095,'1.Портфель кредитів'!A:Z,3,FALSE),\"\")","v":""},{"$f":"IFERROR(VLOOKUP(A1095,'1.Портфель кредитів'!A:Z,7,FALSE),\"\")","v":""},{"$f":"IFERROR(VLOOKUP(A1095,'1.Портфель кредитів'!A:Z,14,FALSE),\"\")","v":""}]
[null,{"$f":"IFERROR(VLOOKUP(A1096,'1.Портфель кредитів'!A:Z,3,FALSE),\"\")","v":""},{"$f":"IFERROR(VLOOKUP(A1096,'1.Портфель кредитів'!A:Z,7,FALSE),\"\")","v":""},{"$f":"IFERROR(VLOOKUP(A1096,'1.Портфель кредитів'!A:Z,14,FALSE),\"\")","v":""}]
[null,{"$f":"IFERROR(VLOOKUP(A1097,'1.Портфель кредитів'!A:Z,3,FALSE),\"\")","v":""},{"$f":"IFERROR(VLOOKUP(A1097,'1.Портфель кредитів'!A:Z,7,FALSE),\"\")","v":""},{"$f":"IFERROR(VLOOKUP(A1097,'1.Портфель кредитів'!A:Z,14,FALSE),\"\")","v":""}]
[null,{"$f":"IFERROR(VLOOKUP(A1098,'1.Портфель кредитів'!A:Z,3,FALSE),\"\")","v":""},{"$f":"IFERROR(VLOOKUP(A1098,'1.Портфель кредитів'!A:Z,7,FALSE),\"\")","v":""},{"$f":"IFERROR(VLOOKUP(A1098,'1.Портфель кредитів'!A:Z,14,FALSE),\"\")","v":""}]
[null,{"$f":"IFERROR(VLOOKUP(A1099,'1.Портфель кредитів'!A:Z,3,FALSE),\"\")","v":""},{"$f":"IFERROR(VLOOKUP(A1099,'1.Портфель кредитів'!A:Z,7,FALSE),\"\")","v":""},{"$f":"IFERROR(VLOOKUP(A1099,'1.Портфель кредитів'!A:Z,14,FALSE),\"\")","v":""}]
[null,{"$f":"IFERROR(VLOOKUP(A1100,'1.Портфель кредитів'!A:Z,3,FALSE),\"\")","v":""},{"$f":"IFERROR(VLOOKUP(A1100,'1.Портфель кредитів'!A:Z,7,FALSE),\"\")","v":""},{"$f":"IFERROR(VLOOKUP(A1100,'1.Портфель кредитів'!A:Z,14,FALSE),\"\")","v":""}]
[null,{"$f":"IFERROR(VLOOKUP(A1101,'1.Портфель кредитів'!A:Z,3,FALSE),\"\")","v":""},{"$f":"IFERROR(VLOOKUP(A1101,'1.Портфель кредитів'!A:Z,7,FALSE),\"\")","v":""},{"$f":"IFERROR(VLOOKUP(A1101,'1.Портфель кредитів'!A:Z,14,FALSE),\"\")","v":""}]
[null,{"$f":"IFERROR(VLOOKUP(A1102,'1.Портфель кредитів'!A:Z,3,FALSE),\"\")","v":""},{"$f":"IFERROR(VLOOKUP(A1102,'1.Портфель кредитів'!A:Z,7,FALSE),\"\")","v":""},{"$f":"IFERROR(VLOOKUP(A1102,'1.Портфель кредитів'!A:Z,14,FALSE),\"\")","v":""}]
[null,{"$f":"IFERROR(VLOOKUP(A1103,'1.Портфель кредитів'!A:Z,3,FALSE),\"\")","v":""},{"$f":"IFERROR(VLOOKUP(A1103,'1.Портфель кредитів'!A:Z,7,FALSE),\"\")","v":""},{"$f":"IFERROR(VLOOKUP(A1103,'1.Портфель кредитів'!A:Z,14,FALSE),\"\")","v":""}]
[null,{"$f":"IFERROR(VLOOKUP(A1104,'1.Портфель кредитів'!A:Z,3,FALSE),\"\")","v":""},{"$f":"IFERROR(VLOOKUP(A1104,'1.Портфель кредитів'!A:Z,7,FALSE),\"\")","v":""},{"$f":"IFERROR(VLOOKUP(A1104,'1.Портфель кредитів'!A:Z,14,FALSE),\"\")","v":""}]
[null,{"$f":"IFERROR(VLOOKUP(A1105,'1.Портфель кредитів'!A:Z,3,FALSE),\"\")","v":""},{"$f":"IFERROR(VLOOKUP(A1105,'1.Портфель кредитів'!A:Z,7,FALSE),\"\")","v":""},{"$f":"IFERROR(VLOOKUP(A1105,'1.Портфель кредитів'!A:Z,14,FALSE),\"\")","v":""}]
[null,{"$f":"IFERROR(VLOOKUP(A1106,'1.Портфель кредитів'!A:Z,3,FALSE),\"\")","v":""},{"$f":"IFERROR(VLOOKUP(A1106,'1.Портфель кредитів'!A:Z,7,FALSE),\"\")","v":""},{"$f":"IFERROR(VLOOKUP(A1106,'1.Портфель кредитів'!A:Z,14,FALSE),\"\")","v":""}]
[null,{"$f":"IFERROR(VLOOKUP(A1107,'1.Портфель кредитів'!A:Z,3,FALSE),\"\")","v":""},{"$f":"IFERROR(VLOOKUP(A1107,'1.Портфель кредитів'!A:Z,7,FALSE),\"\")","v":""},{"$f":"IFERROR(VLOOKUP(A1107,'1.Портфель кредитів'!A:Z,14,FALSE),\"\")","v":""}]
[null,{"$f":"IFERROR(VLOOKUP(A1108,'1.Портфель кредитів'!A:Z,3,FALSE),\"\")","v":""},{"$f":"IFERROR(VLOOKUP(A1108,'1.Портфель кредитів'!A:Z,7,FALSE),\"\")","v":""},{"$f":"IFERROR(VLOOKUP(A1108,'1.Портфель кредитів'!A:Z,14,FALSE),\"\")","v":""}]
[null,{"$f":"IFERROR(VLOOKUP(A1109,'1.Портфель кредитів'!A:Z,3,FALSE),\"\")","v":""},{"$f":"IFERROR(VLOOKUP(A1109,'1.Портфель кредитів'!A:Z,7,FALSE),\"\")","v":""},{"$f":"IFERROR(VLOOKUP(A1109,'1.Портфель кредитів'!A:Z,14,FALSE),\"\")","v":""}]
[null,{"$f":"IFERROR(VLOOKUP(A1110,'1.Портфель кредитів'!A:Z,3,FALSE),\"\")","v":""},{"$f":"IFERROR(VLOOKUP(A1110,'1.Портфель кредитів'!A:Z,7,FALSE),\"\")","v":""},{"$f":"IFERROR(VLOOKUP(A1110,'1.Портфель кредитів'!A:Z,14,FALSE),\"\")","v":""}]
[null,{"$f":"IFERROR(VLOOKUP(A1111,'1.Портфель кредитів'!A:Z,3,FALSE),\"\")","v":""},{"$f":"IFERROR(VLOOKUP(A1111,'1.Портфель кредитів'!A:Z,7,FALSE),\"\")","v":""},{"$f":"IFERROR(VLOOKUP(A1111,'1.Портфель кредитів'!A:Z,14,FALSE),\"\")","v":""}]
[null,{"$f":"IFERROR(VLOOKUP(A1112,'1.Портфель кредитів'!A:Z,3,FALSE),\"\")","v":""},{"$f":"IFERROR(VLOOKUP(A1112,'1.Портфель кредитів'!A:Z,7,FALSE),\"\")","v":""},{"$f":"IFERROR(VLOOKUP(A1112,'1.Портфель кредитів'!A:Z,14,FALSE),\"\")","v":""}]
[null,{"$f":"IFERROR(VLOOKUP(A1113,'1.Портфель кредитів'!A:Z,3,FALSE),\"\")","v":""},{"$f":"IFERROR(VLOOKUP(A1113,'1.Портфель кредитів'!A:Z,7,FALSE),\"\")","v":""},{"$f":"IFERROR(VLOOKUP(A1113,'1.Портфель кредитів'!A:Z,14,FALSE),\"\")","v":""}]
[null,{"$f":"IFERROR(VLOOKUP(A1114,'1.Портфель кредитів'!A:Z,3,FALSE),\"\")","v":""},{"$f":"IFERROR(VLOOKUP(A1114,'1.Портфель кредитів'!A:Z,7,FALSE),\"\")","v":""},{"$f":"IFERROR(VLOOKUP(A1114,'1.Портфель кредитів'!A:Z,14,FALSE),\"\")","v":""}]
[null,{"$f":"IFERROR(VLOOKUP(A1115,'1.Портфель кредитів'!A:Z,3,FALSE),\"\")","v":""},{"$f":"IFERROR(VLOOKUP(A1115,'1.Портфель кредитів'!A:Z,7,FALSE),\"\")","v":""},{"$f":"IFERROR(VLOOKUP(A1115,'1.Портфель кредитів'!A:Z,14,FALSE),\"\")","v":""}]
[null,{"$f":"IFERROR(VLOOKUP(A1116,'1.Портфель кредитів'!A:Z,3,FALSE),\"\")","v":""},{"$f":"IFERROR(VLOOKUP(A1116,'1.Портфель кредитів'!A:Z,7,FALSE),\"\")","v":""},{"$f":"IFERROR(VLOOKUP(A1116,'1.Портфель кредитів'!A:Z,14,FALSE),\"\")","v":""}]
[null,{"$f":"IFERROR(VLOOKUP(A1117,'1.Портфель кредитів'!A:Z,3,FALSE),\"\")","v":""},{"$f":"IFERROR(VLOOKUP(A1117,'1.Портфель кредитів'!A:Z,7,FALSE),\"\")","v":""},{"$f":"IFERROR(VLOOKUP(A1117,'1.Портфель кредитів'!A:Z,14,FALSE),\"\")","v":""}]
[null,{"$f":"IFERROR(VLOOKUP(A1118,'1.Портфель кредитів'!A:Z,3,FALSE),\"\")","v":""},{"$f":"IFERROR(VLOOKUP(A1118,'1.Портфель кредитів'!A:Z,7,FALSE),\"\")","v":""},{"$f":"IFERROR(VLOOKUP(A1118,'1.Портфель кредитів'!A:Z,14,FALSE),\"\")","v":""}]
[null,{"$f":"IFERROR(VLOOKUP(A1119,'1.Портфель кредитів'!A:Z,3,FALSE),\"\")","v":""},{"$f":"IFERROR(VLOOKUP(A1119,'1.Портфель кредитів'!A:Z,7,FALSE),\"\")","v":""},{"$f":"IFERROR(VLOOKUP(A1119,'1.Портфель кредитів'!A:Z,14,FALSE),\"\")","v":""}]
[null,{"$f":"IFERROR(VLOOKUP(A1120,'1.Портфель кредитів'!A:Z,3,FALSE),\"\")","v":""},{"$f":"IFERROR(VLOOKUP(A1120,'1.Портфель кредитів'!A:Z,7,FALSE),\"\")","v":""},{"$f":"IFERROR(VLOOKUP(A1120,'1.Портфель кредитів'!A:Z,14,FALSE),\"\")","v":""}]
[null,{"$f":"IFERROR(VLOOKUP(A1121,'1.Портфель кредитів'!A:Z,3,FALSE),\"\")","v":""},{"$f":"IFERROR(VLOOKUP(A1121,'1.Портфель кредитів'!A:Z,7,FALSE),\"\")","v":""},{"$f":"IFERROR(VLOOKUP(A1121,'1.Портфель кредитів'!A:Z,14,FALSE),\"\")","v":""}]
[null,{"$f":"IFERROR(VLOOKUP(A1122,'1.Портфель кредитів'!A:Z,3,FALSE),\"\")","v":""},{"$f":"IFERROR(VLOOKUP(A1122,'1.Портфель кредитів'!A:Z,7,FALSE),\"\")","v":""},{"$f":"IFERROR(VLOOKUP(A1122,'1.Портфель кредитів'!A:Z,14,FALSE),\"\")","v":""}]
[null,{"$f":"IFERROR(VLOOKUP(A1123,'1.Портфель кредитів'!A:Z,3,FALSE),\"\")","v":""},{"$f":"IFERROR(VLOOKUP(A1123,'1.Портфель кредитів'!A:Z,7,FALSE),\"\")","v":""},{"$f":"IFERROR(VLOOKUP(A1123,'1.Портфель кредитів'!A:Z,14,FALSE),\"\")","v":""}]
[null,{"$f":"IFERROR(VLOOKUP(A1124,'1.Портфель кредитів'!A:Z,3,FALSE),\"\")","v":""},{"$f":"IFERROR(VLOOKUP(A1124,'1.Портфель кредитів'!A:Z,7,FALSE),\"\")","v":""},{"$f":"IFERROR(VLOOKUP(A1124,'1.Портфель кредитів'!A:Z,14,FALSE),\"\")","v":""}]
[null,{"$f":"IFERROR(VLOOKUP(A1125,'1.Портфель кредитів'!A:Z,3,FALSE),\"\")","v":""},{"$f":"IFERROR(VLOOKUP(A1125,'1.Портфель кредитів'!A:Z,7,FALSE),\"\")","v":""},{"$f":"IFERROR(VLOOKUP(A1125,'1.Портфель кредитів'!A:Z,14,FALSE),\"\")","v":""}]
[null,{"$f":"IFERROR(VLOOKUP(A1126,'1.Портфель кредитів'!A:Z,3,FALSE),\"\")","v":""},{"$f":"IFERROR(VLOOKUP(A1126,'1.Портфель кредитів'!A:Z,7,FALSE),\"\")","v":""},{"$f":"IFERROR(VLOOKUP(A1126,'1.Портфель кредитів'!A:Z,14,FALSE),\"\")","v":""}]
[null,{"$f":"IFERROR(VLOOKUP(A1127,'1.Портфель кредитів'!A:Z,3,FALSE),\"\")","v":""},{"$f":"IFERROR(VLOOKUP(A1127,'1.Портфель кредитів'!A:Z,7,FALSE),\"\")","v":""},{"$f":"IFERROR(VLOOKUP(A1127,'1.Портфель кредитів'!A:Z,14,FALSE),\"\")","v":""}]
[null,{"$f":"IFERROR(VLOOKUP(A1128,'1.Портфель кредитів'!A:Z,3,FALSE),\"\")","v":""},{"$f":"IFERROR(VLOOKUP(A1128,'1.Портфель кредитів'!A:Z,7,FALSE),\"\")","v":""},{"$f":"IFERROR(VLOOKUP(A1128,'1.Портфель кредитів'!A:Z,14,FALSE),\"\")","v":""}]
[null,{"$f":"IFERROR(VLOOKUP(A1129,'1.Портфель кредитів'!A:Z,3,FALSE),\"\")","v":""},{"$f":"IFERROR(VLOOKUP(A1129,'1.Портфель кредитів'!A:Z,7,FALSE),\"\")","v":""},{"$f":"IFERROR(VLOOKUP(A1129,'1.Портфель кредитів'!A:Z,14,FALSE),\"\")","v":""}]
[null,{"$f":"IFERROR(VLOOKUP(A1130,'1.Портфель кредитів'!A:Z,3,FALSE),\"\")","v":""},{"$f":"IFERROR(VLOOKUP(A1130,'1.Портфель кредитів'!A:Z,7,FALSE),\"\")","v":""},{"$f":"IFERROR(VLOOKUP(A1130,'1.Портфель кредитів'!A:Z,14,FALSE),\"\")","v":""}]
[null,{"$f":"IFERROR(VLOOKUP(A1131,'1.Портфель кредитів'!A:Z,3,FALSE),\"\")","v":""},{"$f":"IFERROR(VLOOKUP(A1131,'1.Портфель кредитів'!A:Z,7,FALSE),\"\")","v":""},{"$f":"IFERROR(VLOOKUP(A1131,'1.Портфель кредитів'!A:Z,14,FALSE),\"\")","v":""}]
[null,{"$f":"IFERROR(VLOOKUP(A1132,'1.Портфель кредитів'!A:Z,3,FALSE),\"\")","v":""},{"$f":"IFERROR(VLOOKUP(A1132,'1.Портфель кредитів'!A:Z,7,FALSE),\"\")","v":""},{"$f":"IFERROR(VLOOKUP(A1132,'1.Портфель кредитів'!A:Z,14,FALSE),\"\")","v":""}]
[null,{"$f":"IFERROR(VLOOKUP(A1133,'1.Портфель кредитів'!A:Z,3,FALSE),\"\")","v":""},{"$f":"IFERROR(VLOOKUP(A1133,'1.Портфель кредитів'!A:Z,7,FALSE),\"\")","v":""},{"$f":"IFERROR(VLOOKUP(A1133,'1.Портфель кредитів'!A:Z,14,FALSE),\"\")","v":""}]
[null,{"$f":"IFERROR(VLOOKUP(A1134,'1.Портфель кредитів'!A:Z,3,FALSE),\"\")","v":""},{"$f":"IFERROR(VLOOKUP(A1134,'1.Портфель кредитів'!A:Z,7,FALSE),\"\")","v":""},{"$f":"IFERROR(VLOOKUP(A1134,'1.Портфель кредитів'!A:Z,14,FALSE),\"\")","v":""}]
[null,{"$f":"IFERROR(VLOOKUP(A1135,'1.Портфель кредитів'!A:Z,3,FALSE),\"\")","v":""},{"$f":"IFERROR(VLOOKUP(A1135,'1.Портфель кредитів'!A:Z,7,FALSE),\"\")","v":""},{"$f":"IFERROR(VLOOKUP(A1135,'1.Портфель кредитів'!A:Z,14,FALSE),\"\")","v":""}]
[null,{"$f":"IFERROR(VLOOKUP(A1136,'1.Портфель кредитів'!A:Z,3,FALSE),\"\")","v":""},{"$f":"IFERROR(VLOOKUP(A1136,'1.Портфель кредитів'!A:Z,7,FALSE),\"\")","v":""},{"$f":"IFERROR(VLOOKUP(A1136,'1.Портфель кредитів'!A:Z,14,FALSE),\"\")","v":""}]
[null,{"$f":"IFERROR(VLOOKUP(A1137,'1.Портфель кредитів'!A:Z,3,FALSE),\"\")","v":""},{"$f":"IFERROR(VLOOKUP(A1137,'1.Портфель кредитів'!A:Z,7,FALSE),\"\")","v":""},{"$f":"IFERROR(VLOOKUP(A1137,'1.Портфель кредитів'!A:Z,14,FALSE),\"\")","v":""}]
[null,{"$f":"IFERROR(VLOOKUP(A1138,'1.Портфель кредитів'!A:Z,3,FALSE),\"\")","v":""},{"$f":"IFERROR(VLOOKUP(A1138,'1.Портфель кредитів'!A:Z,7,FALSE),\"\")","v":""},{"$f":"IFERROR(VLOOKUP(A1138,'1.Портфель кредитів'!A:Z,14,FALSE),\"\")","v":""}]
[null,{"$f":"IFERROR(VLOOKUP(A1139,'1.Портфель кредитів'!A:Z,3,FALSE),\"\")","v":""},{"$f":"IFERROR(VLOOKUP(A1139,'1.Портфель кредитів'!A:Z,7,FALSE),\"\")","v":""},{"$f":"IFERROR(VLOOKUP(A1139,'1.Портфель кредитів'!A:Z,14,FALSE),\"\")","v":""}]
[null,{"$f":"IFERROR(VLOOKUP(A1140,'1.Портфель кредитів'!A:Z,3,FALSE),\"\")","v":""},{"$f":"IFERROR(VLOOKUP(A1140,'1.Портфель кредитів'!A:Z,7,FALSE),\"\")","v":""},{"$f":"IFERROR(VLOOKUP(A1140,'1.Портфель кредитів'!A:Z,14,FALSE),\"\")","v":""}]
[null,{"$f":"IFERROR(VLOOKUP(A1141,'1.Портфель кредитів'!A:Z,3,FALSE),\"\")","v":""},{"$f":"IFERROR(VLOOKUP(A1141,'1.Портфель кредитів'!A:Z,7,FALSE),\"\")","v":""},{"$f":"IFERROR(VLOOKUP(A1141,'1.Портфель кредитів'!A:Z,14,FALSE),\"\")","v":""}]
[null,{"$f":"IFERROR(VLOOKUP(A1142,'1.Портфель кредитів'!A:Z,3,FALSE),\"\")","v":""},{"$f":"IFERROR(VLOOKUP(A1142,'1.Портфель кредитів'!A:Z,7,FALSE),\"\")","v":""},{"$f":"IFERROR(VLOOKUP(A1142,'1.Портфель кредитів'!A:Z,14,FALSE),\"\")","v":""}]
[null,{"$f":"IFERROR(VLOOKUP(A1143,'1.Портфель кредитів'!A:Z,3,FALSE),\"\")","v":""},{"$f":"IFERROR(VLOOKUP(A1143,'1.Портфель кредитів'!A:Z,7,FALSE),\"\")","v":""},{"$f":"IFERROR(VLOOKUP(A1143,'1.Портфель кредитів'!A:Z,14,FALSE),\"\")","v":""}]
[null,{"$f":"IFERROR(VLOOKUP(A1144,'1.Портфель кредитів'!A:Z,3,FALSE),\"\")","v":""},{"$f":"IFERROR(VLOOKUP(A1144,'1.Портфель кредитів'!A:Z,7,FALSE),\"\")","v":""},{"$f":"IFERROR(VLOOKUP(A1144,'1.Портфель кредитів'!A:Z,14,FALSE),\"\")","v":""}]
[null,{"$f":"IFERROR(VLOOKUP(A1145,'1.Портфель кредитів'!A:Z,3,FALSE),\"\")","v":""},{"$f":"IFERROR(VLOOKUP(A1145,'1.Портфель кредитів'!A:Z,7,FALSE),\"\")","v":""},{"$f":"IFERROR(VLOOKUP(A1145,'1.Портфель кредитів'!A:Z,14,FALSE),\"\")","v":""}]
[null,{"$f":"IFERROR(VLOOKUP(A1146,'1.Портфель кредитів'!A:Z,3,FALSE),\"\")","v":""},{"$f":"IFERROR(VLOOKUP(A1146,'1.Портфель кредитів'!A:Z,7,FALSE),\"\")","v":""},{"$f":"IFERROR(VLOOKUP(A1146,'1.Портфель кредитів'!A:Z,14,FALSE),\"\")","v":""}]
[null,{"$f":"IFERROR(VLOOKUP(A1147,'1.Портфель кредитів'!A:Z,3,FALSE),\"\")","v":""},{"$f":"IFERROR(VLOOKUP(A1147,'1.Портфель кредитів'!A:Z,7,FALSE),\"\")","v":""},{"$f":"IFERROR(VLOOKUP(A1147,'1.Портфель кредитів'!A:Z,14,FALSE),\"\")","v":""}]
[null,{"$f":"IFERROR(VLOOKUP(A1148,'1.Портфель кредитів'!A:Z,3,FALSE),\"\")","v":""},{"$f":"IFERROR(VLOOKUP(A1148,'1.Портфель кредитів'!A:Z,7,FALSE),\"\")","v":""},{"$f":"IFERROR(VLOOKUP(A1148,'1.Портфель кредитів'!A:Z,14,FALSE),\"\")","v":""}]
[null,{"$f":"IFERROR(VLOOKUP(A1149,'1.Портфель кредитів'!A:Z,3,FALSE),\"\")","v":""},{"$f":"IFERROR(VLOOKUP(A1149,'1.Портфель кредитів'!A:Z,7,FALSE),\"\")","v":""},{"$f":"IFERROR(VLOOKUP(A1149,'1.Портфель кредитів'!A:Z,14,FALSE),\"\")","v":""}]
[null,{"$f":"IFERROR(VLOOKUP(A1150,'1.Портфель кредитів'!A:Z,3,FALSE),\"\")","v":""},{"$f":"IFERROR(VLOOKUP(A1150,'1.Портфель кредитів'!A:Z,7,FALSE),\"\")","v":""},{"$f":"IFERROR(VLOOKUP(A1150,'1.Портфель кредитів'!A:Z,14,FALSE),\"\")","v":""}]
[null,{"$f":"IFERROR(VLOOKUP(A1151,'1.Портфель кредитів'!A:Z,3,FALSE),\"\")","v":""},{"$f":"IFERROR(VLOOKUP(A1151,'1.Портфель кредитів'!A:Z,7,FALSE),\"\")","v":""},{"$f":"IFERROR(VLOOKUP(A1151,'1.Портфель кредитів'!A:Z,14,FALSE),\"\")","v":""}]
[null,{"$f":"IFERROR(VLOOKUP(A1152,'1.Портфель кредитів'!A:Z,3,FALSE),\"\")","v":""},{"$f":"IFERROR(VLOOKUP(A1152,'1.Портфель кредитів'!A:Z,7,FALSE),\"\")","v":""},{"$f":"IFERROR(VLOOKUP(A1152,'1.Портфель кредитів'!A:Z,14,FALSE),\"\")","v":""}]
[null,{"$f":"IFERROR(VLOOKUP(A1153,'1.Портфель кредитів'!A:Z,3,FALSE),\"\")","v":""},{"$f":"IFERROR(VLOOKUP(A1153,'1.Портфель кредитів'!A:Z,7,FALSE),\"\")","v":""},{"$f":"IFERROR(VLOOKUP(A1153,'1.Портфель кредитів'!A:Z,14,FALSE),\"\")","v":""}]
[null,{"$f":"IFERROR(VLOOKUP(A1154,'1.Портфель кредитів'!A:Z,3,FALSE),\"\")","v":""},{"$f":"IFERROR(VLOOKUP(A1154,'1.Портфель кредитів'!A:Z,7,FALSE),\"\")","v":""},{"$f":"IFERROR(VLOOKUP(A1154,'1.Портфель кредитів'!A:Z,14,FALSE),\"\")","v":""}]
[null,{"$f":"IFERROR(VLOOKUP(A1155,'1.Портфель кредитів'!A:Z,3,FALSE),\"\")","v":""},{"$f":"IFERROR(VLOOKUP(A1155,'1.Портфель кредитів'!A:Z,7,FALSE),\"\")","v":""},{"$f":"IFERROR(VLOOKUP(A1155,'1.Портфель кредитів'!A:Z,14,FALSE),\"\")","v":""}]
[null,{"$f":"IFERROR(VLOOKUP(A1156,'1.Портфель кредитів'!A:Z,3,FALSE),\"\")","v":""},{"$f":"IFERROR(VLOOKUP(A1156,'1.Портфель кредитів'!A:Z,7,FALSE),\"\")","v":""},{"$f":"IFERROR(VLOOKUP(A1156,'1.Портфель кредитів'!A:Z,14,FALSE),\"\")","v":""}]
[null,{"$f":"IFERROR(VLOOKUP(A1157,'1.Портфель кредитів'!A:Z,3,FALSE),\"\")","v":""},{"$f":"IFERROR(VLOOKUP(A1157,'1.Портфель кредитів'!A:Z,7,FALSE),\"\")","v":""},{"$f":"IFERROR(VLOOKUP(A1157,'1.Портфель кредитів'!A:Z,14,FALSE),\"\")","v":""}]
[null,{"$f":"IFERROR(VLOOKUP(A1158,'1.Портфель кредитів'!A:Z,3,FALSE),\"\")","v":""},{"$f":"IFERROR(VLOOKUP(A1158,'1.Портфель кредитів'!A:Z,7,FALSE),\"\")","v":""},{"$f":"IFERROR(VLOOKUP(A1158,'1.Портфель кредитів'!A:Z,14,FALSE),\"\")","v":""}]
[null,{"$f":"IFERROR(VLOOKUP(A1159,'1.Портфель кредитів'!A:Z,3,FALSE),\"\")","v":""},{"$f":"IFERROR(VLOOKUP(A1159,'1.Портфель кредитів'!A:Z,7,FALSE),\"\")","v":""},{"$f":"IFERROR(VLOOKUP(A1159,'1.Портфель кредитів'!A:Z,14,FALSE),\"\")","v":""}]
[null,{"$f":"IFERROR(VLOOKUP(A1160,'1.Портфель кредитів'!A:Z,3,FALSE),\"\")","v":""},{"$f":"IFERROR(VLOOKUP(A1160,'1.Портфель кредитів'!A:Z,7,FALSE),\"\")","v":""},{"$f":"IFERROR(VLOOKUP(A1160,'1.Портфель кредитів'!A:Z,14,FALSE),\"\")","v":""}]
[null,{"$f":"IFERROR(VLOOKUP(A1161,'1.Портфель кредитів'!A:Z,3,FALSE),\"\")","v":""},{"$f":"IFERROR(VLOOKUP(A1161,'1.Портфель кредитів'!A:Z,7,FALSE),\"\")","v":""},{"$f":"IFERROR(VLOOKUP(A1161,'1.Портфель кредитів'!A:Z,14,FALSE),\"\")","v":""}]
[null,{"$f":"IFERROR(VLOOKUP(A1162,'1.Портфель кредитів'!A:Z,3,FALSE),\"\")","v":""},{"$f":"IFERROR(VLOOKUP(A1162,'1.Портфель кредитів'!A:Z,7,FALSE),\"\")","v":""},{"$f":"IFERROR(VLOOKUP(A1162,'1.Портфель кредитів'!A:Z,14,FALSE),\"\")","v":""}]
[null,{"$f":"IFERROR(VLOOKUP(A1163,'1.Портфель кредитів'!A:Z,3,FALSE),\"\")","v":""},{"$f":"IFERROR(VLOOKUP(A1163,'1.Портфель кредитів'!A:Z,7,FALSE),\"\")","v":""},{"$f":"IFERROR(VLOOKUP(A1163,'1.Портфель кредитів'!A:Z,14,FALSE),\"\")","v":""}]
[null,{"$f":"IFERROR(VLOOKUP(A1164,'1.Портфель кредитів'!A:Z,3,FALSE),\"\")","v":""},{"$f":"IFERROR(VLOOKUP(A1164,'1.Портфель кредитів'!A:Z,7,FALSE),\"\")","v":""},{"$f":"IFERROR(VLOOKUP(A1164,'1.Портфель кредитів'!A:Z,14,FALSE),\"\")","v":""}]
[null,{"$f":"IFERROR(VLOOKUP(A1165,'1.Портфель кредитів'!A:Z,3,FALSE),\"\")","v":""},{"$f":"IFERROR(VLOOKUP(A1165,'1.Портфель кредитів'!A:Z,7,FALSE),\"\")","v":""},{"$f":"IFERROR(VLOOKUP(A1165,'1.Портфель кредитів'!A:Z,14,FALSE),\"\")","v":""}]
[null,{"$f":"IFERROR(VLOOKUP(A1166,'1.Портфель кредитів'!A:Z,3,FALSE),\"\")","v":""},{"$f":"IFERROR(VLOOKUP(A1166,'1.Портфель кредитів'!A:Z,7,FALSE),\"\")","v":""},{"$f":"IFERROR(VLOOKUP(A1166,'1.Портфель кредитів'!A:Z,14,FALSE),\"\")","v":""}]
[null,{"$f":"IFERROR(VLOOKUP(A1167,'1.Портфель кредитів'!A:Z,3,FALSE),\"\")","v":""},{"$f":"IFERROR(VLOOKUP(A1167,'1.Портфель кредитів'!A:Z,7,FALSE),\"\")","v":""},{"$f":"IFERROR(VLOOKUP(A1167,'1.Портфель кредитів'!A:Z,14,FALSE),\"\")","v":""}]
[null,{"$f":"IFERROR(VLOOKUP(A1168,'1.Портфель кредитів'!A:Z,3,FALSE),\"\")","v":""},{"$f":"IFERROR(VLOOKUP(A1168,'1.Портфель кредитів'!A:Z,7,FALSE),\"\")","v":""},{"$f":"IFERROR(VLOOKUP(A1168,'1.Портфель кредитів'!A:Z,14,FALSE),\"\")","v":""}]
[null,{"$f":"IFERROR(VLOOKUP(A1169,'1.Портфель кредитів'!A:Z,3,FALSE),\"\")","v":""},{"$f":"IFERROR(VLOOKUP(A1169,'1.Портфель кредитів'!A:Z,7,FALSE),\"\")","v":""},{"$f":"IFERROR(VLOOKUP(A1169,'1.Портфель кредитів'!A:Z,14,FALSE),\"\")","v":""}]
[null,{"$f":"IFERROR(VLOOKUP(A1170,'1.Портфель кредитів'!A:Z,3,FALSE),\"\")","v":""},{"$f":"IFERROR(VLOOKUP(A1170,'1.Портфель кредитів'!A:Z,7,FALSE),\"\")","v":""},{"$f":"IFERROR(VLOOKUP(A1170,'1.Портфель кредитів'!A:Z,14,FALSE),\"\")","v":""}]
[null,{"$f":"IFERROR(VLOOKUP(A1171,'1.Портфель кредитів'!A:Z,3,FALSE),\"\")","v":""},{"$f":"IFERROR(VLOOKUP(A1171,'1.Портфель кредитів'!A:Z,7,FALSE),\"\")","v":""},{"$f":"IFERROR(VLOOKUP(A1171,'1.Портфель кредитів'!A:Z,14,FALSE),\"\")","v":""}]
[null,{"$f":"IFERROR(VLOOKUP(A1172,'1.Портфель кредитів'!A:Z,3,FALSE),\"\")","v":""},{"$f":"IFERROR(VLOOKUP(A1172,'1.Портфель кредитів'!A:Z,7,FALSE),\"\")","v":""},{"$f":"IFERROR(VLOOKUP(A1172,'1.Портфель кредитів'!A:Z,14,FALSE),\"\")","v":""}]
[null,{"$f":"IFERROR(VLOOKUP(A1173,'1.Портфель кредитів'!A:Z,3,FALSE),\"\")","v":""},{"$f":"IFERROR(VLOOKUP(A1173,'1.Портфель кредитів'!A:Z,7,FALSE),\"\")","v":""},{"$f":"IFERROR(VLOOKUP(A1173,'1.Портфель кредитів'!A:Z,14,FALSE),\"\")","v":""}]
[null,{"$f":"IFERROR(VLOOKUP(A1174,'1.Портфель кредитів'!A:Z,3,FALSE),\"\")","v":""},{"$f":"IFERROR(VLOOKUP(A1174,'1.Портфель кредитів'!A:Z,7,FALSE),\"\")","v":""},{"$f":"IFERROR(VLOOKUP(A1174,'1.Портфель кредитів'!A:Z,14,FALSE),\"\")","v":""}]
[null,{"$f":"IFERROR(VLOOKUP(A1175,'1.Портфель кредитів'!A:Z,3,FALSE),\"\")","v":""},{"$f":"IFERROR(VLOOKUP(A1175,'1.Портфель кредитів'!A:Z,7,FALSE),\"\")","v":""},{"$f":"IFERROR(VLOOKUP(A1175,'1.Портфель кредитів'!A:Z,14,FALSE),\"\")","v":""}]
[null,{"$f":"IFERROR(VLOOKUP(A1176,'1.Портфель кредитів'!A:Z,3,FALSE),\"\")","v":""},{"$f":"IFERROR(VLOOKUP(A1176,'1.Портфель кредитів'!A:Z,7,FALSE),\"\")","v":""},{"$f":"IFERROR(VLOOKUP(A1176,'1.Портфель кредитів'!A:Z,14,FALSE),\"\")","v":""}]
[null,{"$f":"IFERROR(VLOOKUP(A1177,'1.Портфель кредитів'!A:Z,3,FALSE),\"\")","v":""},{"$f":"IFERROR(VLOOKUP(A1177,'1.Портфель кредитів'!A:Z,7,FALSE),\"\")","v":""},{"$f":"IFERROR(VLOOKUP(A1177,'1.Портфель кредитів'!A:Z,14,FALSE),\"\")","v":""}]
[null,{"$f":"IFERROR(VLOOKUP(A1178,'1.Портфель кредитів'!A:Z,3,FALSE),\"\")","v":""},{"$f":"IFERROR(VLOOKUP(A1178,'1.Портфель кредитів'!A:Z,7,FALSE),\"\")","v":""},{"$f":"IFERROR(VLOOKUP(A1178,'1.Портфель кредитів'!A:Z,14,FALSE),\"\")","v":""}]
[null,{"$f":"IFERROR(VLOOKUP(A1179,'1.Портфель кредитів'!A:Z,3,FALSE),\"\")","v":""},{"$f":"IFERROR(VLOOKUP(A1179,'1.Портфель кредитів'!A:Z,7,FALSE),\"\")","v":""},{"$f":"IFERROR(VLOOKUP(A1179,'1.Портфель кредитів'!A:Z,14,FALSE),\"\")","v":""}]
[null,{"$f":"IFERROR(VLOOKUP(A1180,'1.Портфель кредитів'!A:Z,3,FALSE),\"\")","v":""},{"$f":"IFERROR(VLOOKUP(A1180,'1.Портфель кредитів'!A:Z,7,FALSE),\"\")","v":""},{"$f":"IFERROR(VLOOKUP(A1180,'1.Портфель кредитів'!A:Z,14,FALSE),\"\")","v":""}]
[null,{"$f":"IFERROR(VLOOKUP(A1181,'1.Портфель кредитів'!A:Z,3,FALSE),\"\")","v":""},{"$f":"IFERROR(VLOOKUP(A1181,'1.Портфель кредитів'!A:Z,7,FALSE),\"\")","v":""},{"$f":"IFERROR(VLOOKUP(A1181,'1.Портфель кредитів'!A:Z,14,FALSE),\"\")","v":""}]
[null,{"$f":"IFERROR(VLOOKUP(A1182,'1.Портфель кредитів'!A:Z,3,FALSE),\"\")","v":""},{"$f":"IFERROR(VLOOKUP(A1182,'1.Портфель кредитів'!A:Z,7,FALSE),\"\")","v":""},{"$f":"IFERROR(VLOOKUP(A1182,'1.Портфель кредитів'!A:Z,14,FALSE),\"\")","v":""}]
[null,{"$f":"IFERROR(VLOOKUP(A1183,'1.Портфель кредитів'!A:Z,3,FALSE),\"\")","v":""},{"$f":"IFERROR(VLOOKUP(A1183,'1.Портфель кредитів'!A:Z,7,FALSE),\"\")","v":""},{"$f":"IFERROR(VLOOKUP(A1183,'1.Портфель кредитів'!A:Z,14,FALSE),\"\")","v":""}]
[null,{"$f":"IFERROR(VLOOKUP(A1184,'1.Портфель кредитів'!A:Z,3,FALSE),\"\")","v":""},{"$f":"IFERROR(VLOOKUP(A1184,'1.Портфель кредитів'!A:Z,7,FALSE),\"\")","v":""},{"$f":"IFERROR(VLOOKUP(A1184,'1.Портфель кредитів'!A:Z,14,FALSE),\"\")","v":""}]
[null,{"$f":"IFERROR(VLOOKUP(A1185,'1.Портфель кредитів'!A:Z,3,FALSE),\"\")","v":""},{"$f":"IFERROR(VLOOKUP(A1185,'1.Портфель кредитів'!A:Z,7,FALSE),\"\")","v":""},{"$f":"IFERROR(VLOOKUP(A1185,'1.Портфель кредитів'!A:Z,14,FALSE),\"\")","v":""}]
[null,{"$f":"IFERROR(VLOOKUP(A1186,'1.Портфель кредитів'!A:Z,3,FALSE),\"\")","v":""},{"$f":"IFERROR(VLOOKUP(A1186,'1.Портфель кредитів'!A:Z,7,FALSE),\"\")","v":""},{"$f":"IFERROR(VLOOKUP(A1186,'1.Портфель кредитів'!A:Z,14,FALSE),\"\")","v":""}]
[null,{"$f":"IFERROR(VLOOKUP(A1187,'1.Портфель кредитів'!A:Z,3,FALSE),\"\")","v":""},{"$f":"IFERROR(VLOOKUP(A1187,'1.Портфель кредитів'!A:Z,7,FALSE),\"\")","v":""},{"$f":"IFERROR(VLOOKUP(A1187,'1.Портфель кредитів'!A:Z,14,FALSE),\"\")","v":""}]
[null,{"$f":"IFERROR(VLOOKUP(A1188,'1.Портфель кредитів'!A:Z,3,FALSE),\"\")","v":""},{"$f":"IFERROR(VLOOKUP(A1188,'1.Портфель кредитів'!A:Z,7,FALSE),\"\")","v":""},{"$f":"IFERROR(VLOOKUP(A1188,'1.Портфель кредитів'!A:Z,14,FALSE),\"\")","v":""}]
[null,{"$f":"IFERROR(VLOOKUP(A1189,'1.Портфель кредитів'!A:Z,3,FALSE),\"\")","v":""},{"$f":"IFERROR(VLOOKUP(A1189,'1.Портфель кредитів'!A:Z,7,FALSE),\"\")","v":""},{"$f":"IFERROR(VLOOKUP(A1189,'1.Портфель кредитів'!A:Z,14,FALSE),\"\")","v":""}]
[null,{"$f":"IFERROR(VLOOKUP(A1190,'1.Портфель кредитів'!A:Z,3,FALSE),\"\")","v":""},{"$f":"IFERROR(VLOOKUP(A1190,'1.Портфель кредитів'!A:Z,7,FALSE),\"\")","v":""},{"$f":"IFERROR(VLOOKUP(A1190,'1.Портфель кредитів'!A:Z,14,FALSE),\"\")","v":""}]
[null,{"$f":"IFERROR(VLOOKUP(A1191,'1.Портфель кредитів'!A:Z,3,FALSE),\"\")","v":""},{"$f":"IFERROR(VLOOKUP(A1191,'1.Портфель кредитів'!A:Z,7,FALSE),\"\")","v":""},{"$f":"IFERROR(VLOOKUP(A1191,'1.Портфель кредитів'!A:Z,14,FALSE),\"\")","v":""}]
[null,{"$f":"IFERROR(VLOOKUP(A1192,'1.Портфель кредитів'!A:Z,3,FALSE),\"\")","v":""},{"$f":"IFERROR(VLOOKUP(A1192,'1.Портфель кредитів'!A:Z,7,FALSE),\"\")","v":""},{"$f":"IFERROR(VLOOKUP(A1192,'1.Портфель кредитів'!A:Z,14,FALSE),\"\")","v":""}]
[null,{"$f":"IFERROR(VLOOKUP(A1193,'1.Портфель кредитів'!A:Z,3,FALSE),\"\")","v":""},{"$f":"IFERROR(VLOOKUP(A1193,'1.Портфель кредитів'!A:Z,7,FALSE),\"\")","v":""},{"$f":"IFERROR(VLOOKUP(A1193,'1.Портфель кредитів'!A:Z,14,FALSE),\"\")","v":""}]
[null,{"$f":"IFERROR(VLOOKUP(A1194,'1.Портфель кредитів'!A:Z,3,FALSE),\"\")","v":""},{"$f":"IFERROR(VLOOKUP(A1194,'1.Портфель кредитів'!A:Z,7,FALSE),\"\")","v":""},{"$f":"IFERROR(VLOOKUP(A1194,'1.Портфель кредитів'!A:Z,14,FALSE),\"\")","v":""}]
[null,{"$f":"IFERROR(VLOOKUP(A1195,'1.Портфель кредитів'!A:Z,3,FALSE),\"\")","v":""},{"$f":"IFERROR(VLOOKUP(A1195,'1.Портфель кредитів'!A:Z,7,FALSE),\"\")","v":""},{"$f":"IFERROR(VLOOKUP(A1195,'1.Портфель кредитів'!A:Z,14,FALSE),\"\")","v":""}]
[null,{"$f":"IFERROR(VLOOKUP(A1196,'1.Портфель кредитів'!A:Z,3,FALSE),\"\")","v":""},{"$f":"IFERROR(VLOOKUP(A1196,'1.Портфель кредитів'!A:Z,7,FALSE),\"\")","v":""},{"$f":"IFERROR(VLOOKUP(A1196,'1.Портфель кредитів'!A:Z,14,FALSE),\"\")","v":""}]
[null,{"$f":"IFERROR(VLOOKUP(A1197,'1.Портфель кредитів'!A:Z,3,FALSE),\"\")","v":""},{"$f":"IFERROR(VLOOKUP(A1197,'1.Портфель кредитів'!A:Z,7,FALSE),\"\")","v":""},{"$f":"IFERROR(VLOOKUP(A1197,'1.Портфель кредитів'!A:Z,14,FALSE),\"\")","v":""}]
[null,{"$f":"IFERROR(VLOOKUP(A1198,'1.Портфель кредитів'!A:Z,3,FALSE),\"\")","v":""},{"$f":"IFERROR(VLOOKUP(A1198,'1.Портфель кредитів'!A:Z,7,FALSE),\"\")","v":""},{"$f":"IFERROR(VLOOKUP(A1198,'1.Портфель кредитів'!A:Z,14,FALSE),\"\")","v":""}]
[null,{"$f":"IFERROR(VLOOKUP(A1199,'1.Портфель кредитів'!A:Z,3,FALSE),\"\")","v":""},{"$f":"IFERROR(VLOOKUP(A1199,'1.Портфель кредитів'!A:Z,7,FALSE),\"\")","v":""},{"$f":"IFERROR(VLOOKUP(A1199,'1.Портфель кредитів'!A:Z,14,FALSE),\"\")","v":""}]
[null,{"$f":"IFERROR(VLOOKUP(A1200,'1.Портфель кредитів'!A:Z,3,FALSE),\"\")","v":""},{"$f":"IFERROR(VLOOKUP(A1200,'1.Портфель кредитів'!A:Z,7,FALSE),\"\")","v":""},{"$f":"IFERROR(VLOOKUP(A1200,'1.Портфель кредитів'!A:Z,14,FALSE),\"\")","v":""}]
[null,{"$f":"IFERROR(VLOOKUP(A1201,'1.Портфель кредитів'!A:Z,3,FALSE),\"\")","v":""},{"$f":"IFERROR(VLOOKUP(A1201,'1.Портфель кредитів'!A:Z,7,FALSE),\"\")","v":""},{"$f":"IFERROR(VLOOKUP(A1201,'1.Портфель кредитів'!A:Z,14,FALSE),\"\")","v":""}]
[null,{"$f":"IFERROR(VLOOKUP(A1202,'1.Портфель кредитів'!A:Z,3,FALSE),\"\")","v":""},{"$f":"IFERROR(VLOOKUP(A1202,'1.Портфель кредитів'!A:Z,7,FALSE),\"\")","v":""},{"$f":"IFERROR(VLOOKUP(A1202,'1.Портфель кредитів'!A:Z,14,FALSE),\"\")","v":""}]
[null,{"$f":"IFERROR(VLOOKUP(A1203,'1.Портфель кредитів'!A:Z,3,FALSE),\"\")","v":""},{"$f":"IFERROR(VLOOKUP(A1203,'1.Портфель кредитів'!A:Z,7,FALSE),\"\")","v":""},{"$f":"IFERROR(VLOOKUP(A1203,'1.Портфель кредитів'!A:Z,14,FALSE),\"\")","v":""}]
[null,{"$f":"IFERROR(VLOOKUP(A1204,'1.Портфель кредитів'!A:Z,3,FALSE),\"\")","v":""},{"$f":"IFERROR(VLOOKUP(A1204,'1.Портфель кредитів'!A:Z,7,FALSE),\"\")","v":""},{"$f":"IFERROR(VLOOKUP(A1204,'1.Портфель кредитів'!A:Z,14,FALSE),\"\")","v":""}]
[null,{"$f":"IFERROR(VLOOKUP(A1205,'1.Портфель кредитів'!A:Z,3,FALSE),\"\")","v":""},{"$f":"IFERROR(VLOOKUP(A1205,'1.Портфель кредитів'!A:Z,7,FALSE),\"\")","v":""},{"$f":"IFERROR(VLOOKUP(A1205,'1.Портфель кредитів'!A:Z,14,FALSE),\"\")","v":""}]
[null,{"$f":"IFERROR(VLOOKUP(A1206,'1.Портфель кредитів'!A:Z,3,FALSE),\"\")","v":""},{"$f":"IFERROR(VLOOKUP(A1206,'1.Портфель кредитів'!A:Z,7,FALSE),\"\")","v":""},{"$f":"IFERROR(VLOOKUP(A1206,'1.Портфель кредитів'!A:Z,14,FALSE),\"\")","v":""}]
[null,{"$f":"IFERROR(VLOOKUP(A1207,'1.Портфель кредитів'!A:Z,3,FALSE),\"\")","v":""},{"$f":"IFERROR(VLOOKUP(A1207,'1.Портфель кредитів'!A:Z,7,FALSE),\"\")","v":""},{"$f":"IFERROR(VLOOKUP(A1207,'1.Портфель кредитів'!A:Z,14,FALSE),\"\")","v":""}]
[null,{"$f":"IFERROR(VLOOKUP(A1208,'1.Портфель кредитів'!A:Z,3,FALSE),\"\")","v":""},{"$f":"IFERROR(VLOOKUP(A1208,'1.Портфель кредитів'!A:Z,7,FALSE),\"\")","v":""},{"$f":"IFERROR(VLOOKUP(A1208,'1.Портфель кредитів'!A:Z,14,FALSE),\"\")","v":""}]
[null,{"$f":"IFERROR(VLOOKUP(A1209,'1.Портфель кредитів'!A:Z,3,FALSE),\"\")","v":""},{"$f":"IFERROR(VLOOKUP(A1209,'1.Портфель кредитів'!A:Z,7,FALSE),\"\")","v":""},{"$f":"IFERROR(VLOOKUP(A1209,'1.Портфель кредитів'!A:Z,14,FALSE),\"\")","v":""}]
[null,{"$f":"IFERROR(VLOOKUP(A1210,'1.Портфель кредитів'!A:Z,3,FALSE),\"\")","v":""},{"$f":"IFERROR(VLOOKUP(A1210,'1.Портфель кредитів'!A:Z,7,FALSE),\"\")","v":""},{"$f":"IFERROR(VLOOKUP(A1210,'1.Портфель кредитів'!A:Z,14,FALSE),\"\")","v":""}]
[null,{"$f":"IFERROR(VLOOKUP(A1211,'1.Портфель кредитів'!A:Z,3,FALSE),\"\")","v":""},{"$f":"IFERROR(VLOOKUP(A1211,'1.Портфель кредитів'!A:Z,7,FALSE),\"\")","v":""},{"$f":"IFERROR(VLOOKUP(A1211,'1.Портфель кредитів'!A:Z,14,FALSE),\"\")","v":""}]
[null,{"$f":"IFERROR(VLOOKUP(A1212,'1.Портфель кредитів'!A:Z,3,FALSE),\"\")","v":""},{"$f":"IFERROR(VLOOKUP(A1212,'1.Портфель кредитів'!A:Z,7,FALSE),\"\")","v":""},{"$f":"IFERROR(VLOOKUP(A1212,'1.Портфель кредитів'!A:Z,14,FALSE),\"\")","v":""}]
[null,{"$f":"IFERROR(VLOOKUP(A1213,'1.Портфель кредитів'!A:Z,3,FALSE),\"\")","v":""},{"$f":"IFERROR(VLOOKUP(A1213,'1.Портфель кредитів'!A:Z,7,FALSE),\"\")","v":""},{"$f":"IFERROR(VLOOKUP(A1213,'1.Портфель кредитів'!A:Z,14,FALSE),\"\")","v":""}]
[null,{"$f":"IFERROR(VLOOKUP(A1214,'1.Портфель кредитів'!A:Z,3,FALSE),\"\")","v":""},{"$f":"IFERROR(VLOOKUP(A1214,'1.Портфель кредитів'!A:Z,7,FALSE),\"\")","v":""},{"$f":"IFERROR(VLOOKUP(A1214,'1.Портфель кредитів'!A:Z,14,FALSE),\"\")","v":""}]
[null,{"$f":"IFERROR(VLOOKUP(A1215,'1.Портфель кредитів'!A:Z,3,FALSE),\"\")","v":""},{"$f":"IFERROR(VLOOKUP(A1215,'1.Портфель кредитів'!A:Z,7,FALSE),\"\")","v":""},{"$f":"IFERROR(VLOOKUP(A1215,'1.Портфель кредитів'!A:Z,14,FALSE),\"\")","v":""}]
[null,{"$f":"IFERROR(VLOOKUP(A1216,'1.Портфель кредитів'!A:Z,3,FALSE),\"\")","v":""},{"$f":"IFERROR(VLOOKUP(A1216,'1.Портфель кредитів'!A:Z,7,FALSE),\"\")","v":""},{"$f":"IFERROR(VLOOKUP(A1216,'1.Портфель кредитів'!A:Z,14,FALSE),\"\")","v":""}]
[null,{"$f":"IFERROR(VLOOKUP(A1217,'1.Портфель кредитів'!A:Z,3,FALSE),\"\")","v":""},{"$f":"IFERROR(VLOOKUP(A1217,'1.Портфель кредитів'!A:Z,7,FALSE),\"\")","v":""},{"$f":"IFERROR(VLOOKUP(A1217,'1.Портфель кредитів'!A:Z,14,FALSE),\"\")","v":""}]
[null,{"$f":"IFERROR(VLOOKUP(A1218,'1.Портфель кредитів'!A:Z,3,FALSE),\"\")","v":""},{"$f":"IFERROR(VLOOKUP(A1218,'1.Портфель кредитів'!A:Z,7,FALSE),\"\")","v":""},{"$f":"IFERROR(VLOOKUP(A1218,'1.Портфель кредитів'!A:Z,14,FALSE),\"\")","v":""}]
[null,{"$f":"IFERROR(VLOOKUP(A1219,'1.Портфель кредитів'!A:Z,3,FALSE),\"\")","v":""},{"$f":"IFERROR(VLOOKUP(A1219,'1.Портфель кредитів'!A:Z,7,FALSE),\"\")","v":""},{"$f":"IFERROR(VLOOKUP(A1219,'1.Портфель кредитів'!A:Z,14,FALSE),\"\")","v":""}]
[null,{"$f":"IFERROR(VLOOKUP(A1220,'1.Портфель кредитів'!A:Z,3,FALSE),\"\")","v":""},{"$f":"IFERROR(VLOOKUP(A1220,'1.Портфель кредитів'!A:Z,7,FALSE),\"\")","v":""},{"$f":"IFERROR(VLOOKUP(A1220,'1.Портфель кредитів'!A:Z,14,FALSE),\"\")","v":""}]
[null,{"$f":"IFERROR(VLOOKUP(A1221,'1.Портфель кредитів'!A:Z,3,FALSE),\"\")","v":""},{"$f":"IFERROR(VLOOKUP(A1221,'1.Портфель кредитів'!A:Z,7,FALSE),\"\")","v":""},{"$f":"IFERROR(VLOOKUP(A1221,'1.Портфель кредитів'!A:Z,14,FALSE),\"\")","v":""}]
[null,{"$f":"IFERROR(VLOOKUP(A1222,'1.Портфель кредитів'!A:Z,3,FALSE),\"\")","v":""},{"$f":"IFERROR(VLOOKUP(A1222,'1.Портфель кредитів'!A:Z,7,FALSE),\"\")","v":""},{"$f":"IFERROR(VLOOKUP(A1222,'1.Портфель кредитів'!A:Z,14,FALSE),\"\")","v":""}]
[null,{"$f":"IFERROR(VLOOKUP(A1223,'1.Портфель кредитів'!A:Z,3,FALSE),\"\")","v":""},{"$f":"IFERROR(VLOOKUP(A1223,'1.Портфель кредитів'!A:Z,7,FALSE),\"\")","v":""},{"$f":"IFERROR(VLOOKUP(A1223,'1.Портфель кредитів'!A:Z,14,FALSE),\"\")","v":""}]
[null,{"$f":"IFERROR(VLOOKUP(A1224,'1.Портфель кредитів'!A:Z,3,FALSE),\"\")","v":""},{"$f":"IFERROR(VLOOKUP(A1224,'1.Портфель кредитів'!A:Z,7,FALSE),\"\")","v":""},{"$f":"IFERROR(VLOOKUP(A1224,'1.Портфель кредитів'!A:Z,14,FALSE),\"\")","v":""}]
[null,{"$f":"IFERROR(VLOOKUP(A1225,'1.Портфель кредитів'!A:Z,3,FALSE),\"\")","v":""},{"$f":"IFERROR(VLOOKUP(A1225,'1.Портфель кредитів'!A:Z,7,FALSE),\"\")","v":""},{"$f":"IFERROR(VLOOKUP(A1225,'1.Портфель кредитів'!A:Z,14,FALSE),\"\")","v":""}]
[null,{"$f":"IFERROR(VLOOKUP(A1226,'1.Портфель кредитів'!A:Z,3,FALSE),\"\")","v":""},{"$f":"IFERROR(VLOOKUP(A1226,'1.Портфель кредитів'!A:Z,7,FALSE),\"\")","v":""},{"$f":"IFERROR(VLOOKUP(A1226,'1.Портфель кредитів'!A:Z,14,FALSE),\"\")","v":""}]
[null,{"$f":"IFERROR(VLOOKUP(A1227,'1.Портфель кредитів'!A:Z,3,FALSE),\"\")","v":""},{"$f":"IFERROR(VLOOKUP(A1227,'1.Портфель кредитів'!A:Z,7,FALSE),\"\")","v":""},{"$f":"IFERROR(VLOOKUP(A1227,'1.Портфель кредитів'!A:Z,14,FALSE),\"\")","v":""}]
[null,{"$f":"IFERROR(VLOOKUP(A1228,'1.Портфель кредитів'!A:Z,3,FALSE),\"\")","v":""},{"$f":"IFERROR(VLOOKUP(A1228,'1.Портфель кредитів'!A:Z,7,FALSE),\"\")","v":""},{"$f":"IFERROR(VLOOKUP(A1228,'1.Портфель кредитів'!A:Z,14,FALSE),\"\")","v":""}]
[null,{"$f":"IFERROR(VLOOKUP(A1229,'1.Портфель кредитів'!A:Z,3,FALSE),\"\")","v":""},{"$f":"IFERROR(VLOOKUP(A1229,'1.Портфель кредитів'!A:Z,7,FALSE),\"\")","v":""},{"$f":"IFERROR(VLOOKUP(A1229,'1.Портфель кредитів'!A:Z,14,FALSE),\"\")","v":""}]
[null,{"$f":"IFERROR(VLOOKUP(A1230,'1.Портфель кредитів'!A:Z,3,FALSE),\"\")","v":""},{"$f":"IFERROR(VLOOKUP(A1230,'1.Портфель кредитів'!A:Z,7,FALSE),\"\")","v":""},{"$f":"IFERROR(VLOOKUP(A1230,'1.Портфель кредитів'!A:Z,14,FALSE),\"\")","v":""}]
[null,{"$f":"IFERROR(VLOOKUP(A1231,'1.Портфель кредитів'!A:Z,3,FALSE),\"\")","v":""},{"$f":"IFERROR(VLOOKUP(A1231,'1.Портфель кредитів'!A:Z,7,FALSE),\"\")","v":""},{"$f":"IFERROR(VLOOKUP(A1231,'1.Портфель кредитів'!A:Z,14,FALSE),\"\")","v":""}]
[null,{"$f":"IFERROR(VLOOKUP(A1232,'1.Портфель кредитів'!A:Z,3,FALSE),\"\")","v":""},{"$f":"IFERROR(VLOOKUP(A1232,'1.Портфель кредитів'!A:Z,7,FALSE),\"\")","v":""},{"$f":"IFERROR(VLOOKUP(A1232,'1.Портфель кредитів'!A:Z,14,FALSE),\"\")","v":""}]
[null,{"$f":"IFERROR(VLOOKUP(A1233,'1.Портфель кредитів'!A:Z,3,FALSE),\"\")","v":""},{"$f":"IFERROR(VLOOKUP(A1233,'1.Портфель кредитів'!A:Z,7,FALSE),\"\")","v":""},{"$f":"IFERROR(VLOOKUP(A1233,'1.Портфель кредитів'!A:Z,14,FALSE),\"\")","v":""}]
[null,{"$f":"IFERROR(VLOOKUP(A1234,'1.Портфель кредитів'!A:Z,3,FALSE),\"\")","v":""},{"$f":"IFERROR(VLOOKUP(A1234,'1.Портфель кредитів'!A:Z,7,FALSE),\"\")","v":""},{"$f":"IFERROR(VLOOKUP(A1234,'1.Портфель кредитів'!A:Z,14,FALSE),\"\")","v":""}]
[null,{"$f":"IFERROR(VLOOKUP(A1235,'1.Портфель кредитів'!A:Z,3,FALSE),\"\")","v":""},{"$f":"IFERROR(VLOOKUP(A1235,'1.Портфель кредитів'!A:Z,7,FALSE),\"\")","v":""},{"$f":"IFERROR(VLOOKUP(A1235,'1.Портфель кредитів'!A:Z,14,FALSE),\"\")","v":""}]
[null,{"$f":"IFERROR(VLOOKUP(A1236,'1.Портфель кредитів'!A:Z,3,FALSE),\"\")","v":""},{"$f":"IFERROR(VLOOKUP(A1236,'1.Портфель кредитів'!A:Z,7,FALSE),\"\")","v":""},{"$f":"IFERROR(VLOOKUP(A1236,'1.Портфель кредитів'!A:Z,14,FALSE),\"\")","v":""}]
[null,{"$f":"IFERROR(VLOOKUP(A1237,'1.Портфель кредитів'!A:Z,3,FALSE),\"\")","v":""},{"$f":"IFERROR(VLOOKUP(A1237,'1.Портфель кредитів'!A:Z,7,FALSE),\"\")","v":""},{"$f":"IFERROR(VLOOKUP(A1237,'1.Портфель кредитів'!A:Z,14,FALSE),\"\")","v":""}]
[null,{"$f":"IFERROR(VLOOKUP(A1238,'1.Портфель кредитів'!A:Z,3,FALSE),\"\")","v":""},{"$f":"IFERROR(VLOOKUP(A1238,'1.Портфель кредитів'!A:Z,7,FALSE),\"\")","v":""},{"$f":"IFERROR(VLOOKUP(A1238,'1.Портфель кредитів'!A:Z,14,FALSE),\"\")","v":""}]
[null,{"$f":"IFERROR(VLOOKUP(A1239,'1.Портфель кредитів'!A:Z,3,FALSE),\"\")","v":""},{"$f":"IFERROR(VLOOKUP(A1239,'1.Портфель кредитів'!A:Z,7,FALSE),\"\")","v":""},{"$f":"IFERROR(VLOOKUP(A1239,'1.Портфель кредитів'!A:Z,14,FALSE),\"\")","v":""}]
[null,{"$f":"IFERROR(VLOOKUP(A1240,'1.Портфель кредитів'!A:Z,3,FALSE),\"\")","v":""},{"$f":"IFERROR(VLOOKUP(A1240,'1.Портфель кредитів'!A:Z,7,FALSE),\"\")","v":""},{"$f":"IFERROR(VLOOKUP(A1240,'1.Портфель кредитів'!A:Z,14,FALSE),\"\")","v":""}]
[null,{"$f":"IFERROR(VLOOKUP(A1241,'1.Портфель кредитів'!A:Z,3,FALSE),\"\")","v":""},{"$f":"IFERROR(VLOOKUP(A1241,'1.Портфель кредитів'!A:Z,7,FALSE),\"\")","v":""},{"$f":"IFERROR(VLOOKUP(A1241,'1.Портфель кредитів'!A:Z,14,FALSE),\"\")","v":""}]
[null,{"$f":"IFERROR(VLOOKUP(A1242,'1.Портфель кредитів'!A:Z,3,FALSE),\"\")","v":""},{"$f":"IFERROR(VLOOKUP(A1242,'1.Портфель кредитів'!A:Z,7,FALSE),\"\")","v":""},{"$f":"IFERROR(VLOOKUP(A1242,'1.Портфель кредитів'!A:Z,14,FALSE),\"\")","v":""}]
[null,{"$f":"IFERROR(VLOOKUP(A1243,'1.Портфель кредитів'!A:Z,3,FALSE),\"\")","v":""},{"$f":"IFERROR(VLOOKUP(A1243,'1.Портфель кредитів'!A:Z,7,FALSE),\"\")","v":""},{"$f":"IFERROR(VLOOKUP(A1243,'1.Портфель кредитів'!A:Z,14,FALSE),\"\")","v":""}]
[null,{"$f":"IFERROR(VLOOKUP(A1244,'1.Портфель кредитів'!A:Z,3,FALSE),\"\")","v":""},{"$f":"IFERROR(VLOOKUP(A1244,'1.Портфель кредитів'!A:Z,7,FALSE),\"\")","v":""},{"$f":"IFERROR(VLOOKUP(A1244,'1.Портфель кредитів'!A:Z,14,FALSE),\"\")","v":""}]
[null,{"$f":"IFERROR(VLOOKUP(A1245,'1.Портфель кредитів'!A:Z,3,FALSE),\"\")","v":""},{"$f":"IFERROR(VLOOKUP(A1245,'1.Портфель кредитів'!A:Z,7,FALSE),\"\")","v":""},{"$f":"IFERROR(VLOOKUP(A1245,'1.Портфель кредитів'!A:Z,14,FALSE),\"\")","v":""}]
[null,{"$f":"IFERROR(VLOOKUP(A1246,'1.Портфель кредитів'!A:Z,3,FALSE),\"\")","v":""},{"$f":"IFERROR(VLOOKUP(A1246,'1.Портфель кредитів'!A:Z,7,FALSE),\"\")","v":""},{"$f":"IFERROR(VLOOKUP(A1246,'1.Портфель кредитів'!A:Z,14,FALSE),\"\")","v":""}]
[null,{"$f":"IFERROR(VLOOKUP(A1247,'1.Портфель кредитів'!A:Z,3,FALSE),\"\")","v":""},{"$f":"IFERROR(VLOOKUP(A1247,'1.Портфель кредитів'!A:Z,7,FALSE),\"\")","v":""},{"$f":"IFERROR(VLOOKUP(A1247,'1.Портфель кредитів'!A:Z,14,FALSE),\"\")","v":""}]
[null,{"$f":"IFERROR(VLOOKUP(A1248,'1.Портфель кредитів'!A:Z,3,FALSE),\"\")","v":""},{"$f":"IFERROR(VLOOKUP(A1248,'1.Портфель кредитів'!A:Z,7,FALSE),\"\")","v":""},{"$f":"IFERROR(VLOOKUP(A1248,'1.Портфель кредитів'!A:Z,14,FALSE),\"\")","v":""}]
[null,{"$f":"IFERROR(VLOOKUP(A1249,'1.Портфель кредитів'!A:Z,3,FALSE),\"\")","v":""},{"$f":"IFERROR(VLOOKUP(A1249,'1.Портфель кредитів'!A:Z,7,FALSE),\"\")","v":""},{"$f":"IFERROR(VLOOKUP(A1249,'1.Портфель кредитів'!A:Z,14,FALSE),\"\")","v":""}]
[null,{"$f":"IFERROR(VLOOKUP(A1250,'1.Портфель кредитів'!A:Z,3,FALSE),\"\")","v":""},{"$f":"IFERROR(VLOOKUP(A1250,'1.Портфель кредитів'!A:Z,7,FALSE),\"\")","v":""},{"$f":"IFERROR(VLOOKUP(A1250,'1.Портфель кредитів'!A:Z,14,FALSE),\"\")","v":""}]
[null,{"$f":"IFERROR(VLOOKUP(A1251,'1.Портфель кредитів'!A:Z,3,FALSE),\"\")","v":""},{"$f":"IFERROR(VLOOKUP(A1251,'1.Портфель кредитів'!A:Z,7,FALSE),\"\")","v":""},{"$f":"IFERROR(VLOOKUP(A1251,'1.Портфель кредитів'!A:Z,14,FALSE),\"\")","v":""}]
[null,{"$f":"IFERROR(VLOOKUP(A1252,'1.Портфель кредитів'!A:Z,3,FALSE),\"\")","v":""},{"$f":"IFERROR(VLOOKUP(A1252,'1.Портфель кредитів'!A:Z,7,FALSE),\"\")","v":""},{"$f":"IFERROR(VLOOKUP(A1252,'1.Портфель кредитів'!A:Z,14,FALSE),\"\")","v":""}]
[null,{"$f":"IFERROR(VLOOKUP(A1253,'1.Портфель кредитів'!A:Z,3,FALSE),\"\")","v":""},{"$f":"IFERROR(VLOOKUP(A1253,'1.Портфель кредитів'!A:Z,7,FALSE),\"\")","v":""},{"$f":"IFERROR(VLOOKUP(A1253,'1.Портфель кредитів'!A:Z,14,FALSE),\"\")","v":""}]
[null,{"$f":"IFERROR(VLOOKUP(A1254,'1.Портфель кредитів'!A:Z,3,FALSE),\"\")","v":""},{"$f":"IFERROR(VLOOKUP(A1254,'1.Портфель кредитів'!A:Z,7,FALSE),\"\")","v":""},{"$f":"IFERROR(VLOOKUP(A1254,'1.Портфель кредитів'!A:Z,14,FALSE),\"\")","v":""}]
[null,{"$f":"IFERROR(VLOOKUP(A1255,'1.Портфель кредитів'!A:Z,3,FALSE),\"\")","v":""},{"$f":"IFERROR(VLOOKUP(A1255,'1.Портфель кредитів'!A:Z,7,FALSE),\"\")","v":""},{"$f":"IFERROR(VLOOKUP(A1255,'1.Портфель кредитів'!A:Z,14,FALSE),\"\")","v":""}]
[null,{"$f":"IFERROR(VLOOKUP(A1256,'1.Портфель кредитів'!A:Z,3,FALSE),\"\")","v":""},{"$f":"IFERROR(VLOOKUP(A1256,'1.Портфель кредитів'!A:Z,7,FALSE),\"\")","v":""},{"$f":"IFERROR(VLOOKUP(A1256,'1.Портфель кредитів'!A:Z,14,FALSE),\"\")","v":""}]
[null,{"$f":"IFERROR(VLOOKUP(A1257,'1.Портфель кредитів'!A:Z,3,FALSE),\"\")","v":""},{"$f":"IFERROR(VLOOKUP(A1257,'1.Портфель кредитів'!A:Z,7,FALSE),\"\")","v":""},{"$f":"IFERROR(VLOOKUP(A1257,'1.Портфель кредитів'!A:Z,14,FALSE),\"\")","v":""}]
[null,{"$f":"IFERROR(VLOOKUP(A1258,'1.Портфель кредитів'!A:Z,3,FALSE),\"\")","v":""},{"$f":"IFERROR(VLOOKUP(A1258,'1.Портфель кредитів'!A:Z,7,FALSE),\"\")","v":""},{"$f":"IFERROR(VLOOKUP(A1258,'1.Портфель кредитів'!A:Z,14,FALSE),\"\")","v":""}]
[null,{"$f":"IFERROR(VLOOKUP(A1259,'1.Портфель кредитів'!A:Z,3,FALSE),\"\")","v":""},{"$f":"IFERROR(VLOOKUP(A1259,'1.Портфель кредитів'!A:Z,7,FALSE),\"\")","v":""},{"$f":"IFERROR(VLOOKUP(A1259,'1.Портфель кредитів'!A:Z,14,FALSE),\"\")","v":""}]
[null,{"$f":"IFERROR(VLOOKUP(A1260,'1.Портфель кредитів'!A:Z,3,FALSE),\"\")","v":""},{"$f":"IFERROR(VLOOKUP(A1260,'1.Портфель кредитів'!A:Z,7,FALSE),\"\")","v":""},{"$f":"IFERROR(VLOOKUP(A1260,'1.Портфель кредитів'!A:Z,14,FALSE),\"\")","v":""}]
[null,{"$f":"IFERROR(VLOOKUP(A1261,'1.Портфель кредитів'!A:Z,3,FALSE),\"\")","v":""},{"$f":"IFERROR(VLOOKUP(A1261,'1.Портфель кредитів'!A:Z,7,FALSE),\"\")","v":""},{"$f":"IFERROR(VLOOKUP(A1261,'1.Портфель кредитів'!A:Z,14,FALSE),\"\")","v":""}]
[null,{"$f":"IFERROR(VLOOKUP(A1262,'1.Портфель кредитів'!A:Z,3,FALSE),\"\")","v":""},{"$f":"IFERROR(VLOOKUP(A1262,'1.Портфель кредитів'!A:Z,7,FALSE),\"\")","v":""},{"$f":"IFERROR(VLOOKUP(A1262,'1.Портфель кредитів'!A:Z,14,FALSE),\"\")","v":""}]
[null,{"$f":"IFERROR(VLOOKUP(A1263,'1.Портфель кредитів'!A:Z,3,FALSE),\"\")","v":""},{"$f":"IFERROR(VLOOKUP(A1263,'1.Портфель кредитів'!A:Z,7,FALSE),\"\")","v":""},{"$f":"IFERROR(VLOOKUP(A1263,'1.Портфель кредитів'!A:Z,14,FALSE),\"\")","v":""}]
[null,{"$f":"IFERROR(VLOOKUP(A1264,'1.Портфель кредитів'!A:Z,3,FALSE),\"\")","v":""},{"$f":"IFERROR(VLOOKUP(A1264,'1.Портфель кредитів'!A:Z,7,FALSE),\"\")","v":""},{"$f":"IFERROR(VLOOKUP(A1264,'1.Портфель кредитів'!A:Z,14,FALSE),\"\")","v":""}]
[null,{"$f":"IFERROR(VLOOKUP(A1265,'1.Портфель кредитів'!A:Z,3,FALSE),\"\")","v":""},{"$f":"IFERROR(VLOOKUP(A1265,'1.Портфель кредитів'!A:Z,7,FALSE),\"\")","v":""},{"$f":"IFERROR(VLOOKUP(A1265,'1.Портфель кредитів'!A:Z,14,FALSE),\"\")","v":""}]
[null,{"$f":"IFERROR(VLOOKUP(A1266,'1.Портфель кредитів'!A:Z,3,FALSE),\"\")","v":""},{"$f":"IFERROR(VLOOKUP(A1266,'1.Портфель кредитів'!A:Z,7,FALSE),\"\")","v":""},{"$f":"IFERROR(VLOOKUP(A1266,'1.Портфель кредитів'!A:Z,14,FALSE),\"\")","v":""}]
[null,{"$f":"IFERROR(VLOOKUP(A1267,'1.Портфель кредитів'!A:Z,3,FALSE),\"\")","v":""},{"$f":"IFERROR(VLOOKUP(A1267,'1.Портфель кредитів'!A:Z,7,FALSE),\"\")","v":""},{"$f":"IFERROR(VLOOKUP(A1267,'1.Портфель кредитів'!A:Z,14,FALSE),\"\")","v":""}]
[null,{"$f":"IFERROR(VLOOKUP(A1268,'1.Портфель кредитів'!A:Z,3,FALSE),\"\")","v":""},{"$f":"IFERROR(VLOOKUP(A1268,'1.Портфель кредитів'!A:Z,7,FALSE),\"\")","v":""},{"$f":"IFERROR(VLOOKUP(A1268,'1.Портфель кредитів'!A:Z,14,FALSE),\"\")","v":""}]
[null,{"$f":"IFERROR(VLOOKUP(A1269,'1.Портфель кредитів'!A:Z,3,FALSE),\"\")","v":""},{"$f":"IFERROR(VLOOKUP(A1269,'1.Портфель кредитів'!A:Z,7,FALSE),\"\")","v":""},{"$f":"IFERROR(VLOOKUP(A1269,'1.Портфель кредитів'!A:Z,14,FALSE),\"\")","v":""}]
[null,{"$f":"IFERROR(VLOOKUP(A1270,'1.Портфель кредитів'!A:Z,3,FALSE),\"\")","v":""},{"$f":"IFERROR(VLOOKUP(A1270,'1.Портфель кредитів'!A:Z,7,FALSE),\"\")","v":""},{"$f":"IFERROR(VLOOKUP(A1270,'1.Портфель кредитів'!A:Z,14,FALSE),\"\")","v":""}]
[null,{"$f":"IFERROR(VLOOKUP(A1271,'1.Портфель кредитів'!A:Z,3,FALSE),\"\")","v":""},{"$f":"IFERROR(VLOOKUP(A1271,'1.Портфель кредитів'!A:Z,7,FALSE),\"\")","v":""},{"$f":"IFERROR(VLOOKUP(A1271,'1.Портфель кредитів'!A:Z,14,FALSE),\"\")","v":""}]
[null,{"$f":"IFERROR(VLOOKUP(A1272,'1.Портфель кредитів'!A:Z,3,FALSE),\"\")","v":""},{"$f":"IFERROR(VLOOKUP(A1272,'1.Портфель кредитів'!A:Z,7,FALSE),\"\")","v":""},{"$f":"IFERROR(VLOOKUP(A1272,'1.Портфель кредитів'!A:Z,14,FALSE),\"\")","v":""}]
[null,{"$f":"IFERROR(VLOOKUP(A1273,'1.Портфель кредитів'!A:Z,3,FALSE),\"\")","v":""},{"$f":"IFERROR(VLOOKUP(A1273,'1.Портфель кредитів'!A:Z,7,FALSE),\"\")","v":""},{"$f":"IFERROR(VLOOKUP(A1273,'1.Портфель кредитів'!A:Z,14,FALSE),\"\")","v":""}]
[null,{"$f":"IFERROR(VLOOKUP(A1274,'1.Портфель кредитів'!A:Z,3,FALSE),\"\")","v":""},{"$f":"IFERROR(VLOOKUP(A1274,'1.Портфель кредитів'!A:Z,7,FALSE),\"\")","v":""},{"$f":"IFERROR(VLOOKUP(A1274,'1.Портфель кредитів'!A:Z,14,FALSE),\"\")","v":""}]
[null,{"$f":"IFERROR(VLOOKUP(A1275,'1.Портфель кредитів'!A:Z,3,FALSE),\"\")","v":""},{"$f":"IFERROR(VLOOKUP(A1275,'1.Портфель кредитів'!A:Z,7,FALSE),\"\")","v":""},{"$f":"IFERROR(VLOOKUP(A1275,'1.Портфель кредитів'!A:Z,14,FALSE),\"\")","v":""}]
[null,{"$f":"IFERROR(VLOOKUP(A1276,'1.Портфель кредитів'!A:Z,3,FALSE),\"\")","v":""},{"$f":"IFERROR(VLOOKUP(A1276,'1.Портфель кредитів'!A:Z,7,FALSE),\"\")","v":""},{"$f":"IFERROR(VLOOKUP(A1276,'1.Портфель кредитів'!A:Z,14,FALSE),\"\")","v":""}]
[null,{"$f":"IFERROR(VLOOKUP(A1277,'1.Портфель кредитів'!A:Z,3,FALSE),\"\")","v":""},{"$f":"IFERROR(VLOOKUP(A1277,'1.Портфель кредитів'!A:Z,7,FALSE),\"\")","v":""},{"$f":"IFERROR(VLOOKUP(A1277,'1.Портфель кредитів'!A:Z,14,FALSE),\"\")","v":""}]
[null,{"$f":"IFERROR(VLOOKUP(A1278,'1.Портфель кредитів'!A:Z,3,FALSE),\"\")","v":""},{"$f":"IFERROR(VLOOKUP(A1278,'1.Портфель кредитів'!A:Z,7,FALSE),\"\")","v":""},{"$f":"IFERROR(VLOOKUP(A1278,'1.Портфель кредитів'!A:Z,14,FALSE),\"\")","v":""}]
[null,{"$f":"IFERROR(VLOOKUP(A1279,'1.Портфель кредитів'!A:Z,3,FALSE),\"\")","v":""},{"$f":"IFERROR(VLOOKUP(A1279,'1.Портфель кредитів'!A:Z,7,FALSE),\"\")","v":""},{"$f":"IFERROR(VLOOKUP(A1279,'1.Портфель кредитів'!A:Z,14,FALSE),\"\")","v":""}]
[null,{"$f":"IFERROR(VLOOKUP(A1280,'1.Портфель кредитів'!A:Z,3,FALSE),\"\")","v":""},{"$f":"IFERROR(VLOOKUP(A1280,'1.Портфель кредитів'!A:Z,7,FALSE),\"\")","v":""},{"$f":"IFERROR(VLOOKUP(A1280,'1.Портфель кредитів'!A:Z,14,FALSE),\"\")","v":""}]
[null,{"$f":"IFERROR(VLOOKUP(A1281,'1.Портфель кредитів'!A:Z,3,FALSE),\"\")","v":""},{"$f":"IFERROR(VLOOKUP(A1281,'1.Портфель кредитів'!A:Z,7,FALSE),\"\")","v":""},{"$f":"IFERROR(VLOOKUP(A1281,'1.Портфель кредитів'!A:Z,14,FALSE),\"\")","v":""}]
[null,{"$f":"IFERROR(VLOOKUP(A1282,'1.Портфель кредитів'!A:Z,3,FALSE),\"\")","v":""},{"$f":"IFERROR(VLOOKUP(A1282,'1.Портфель кредитів'!A:Z,7,FALSE),\"\")","v":""},{"$f":"IFERROR(VLOOKUP(A1282,'1.Портфель кредитів'!A:Z,14,FALSE),\"\")","v":""}]
[null,{"$f":"IFERROR(VLOOKUP(A1283,'1.Портфель кредитів'!A:Z,3,FALSE),\"\")","v":""},{"$f":"IFERROR(VLOOKUP(A1283,'1.Портфель кредитів'!A:Z,7,FALSE),\"\")","v":""},{"$f":"IFERROR(VLOOKUP(A1283,'1.Портфель кредитів'!A:Z,14,FALSE),\"\")","v":""}]
[null,{"$f":"IFERROR(VLOOKUP(A1284,'1.Портфель кредитів'!A:Z,3,FALSE),\"\")","v":""},{"$f":"IFERROR(VLOOKUP(A1284,'1.Портфель кредитів'!A:Z,7,FALSE),\"\")","v":""},{"$f":"IFERROR(VLOOKUP(A1284,'1.Портфель кредитів'!A:Z,14,FALSE),\"\")","v":""}]
[null,{"$f":"IFERROR(VLOOKUP(A1285,'1.Портфель кредитів'!A:Z,3,FALSE),\"\")","v":""},{"$f":"IFERROR(VLOOKUP(A1285,'1.Портфель кредитів'!A:Z,7,FALSE),\"\")","v":""},{"$f":"IFERROR(VLOOKUP(A1285,'1.Портфель кредитів'!A:Z,14,FALSE),\"\")","v":""}]
[null,{"$f":"IFERROR(VLOOKUP(A1286,'1.Портфель кредитів'!A:Z,3,FALSE),\"\")","v":""},{"$f":"IFERROR(VLOOKUP(A1286,'1.Портфель кредитів'!A:Z,7,FALSE),\"\")","v":""},{"$f":"IFERROR(VLOOKUP(A1286,'1.Портфель кредитів'!A:Z,14,FALSE),\"\")","v":""}]
[null,{"$f":"IFERROR(VLOOKUP(A1287,'1.Портфель кредитів'!A:Z,3,FALSE),\"\")","v":""},{"$f":"IFERROR(VLOOKUP(A1287,'1.Портфель кредитів'!A:Z,7,FALSE),\"\")","v":""},{"$f":"IFERROR(VLOOKUP(A1287,'1.Портфель кредитів'!A:Z,14,FALSE),\"\")","v":""}]
[null,{"$f":"IFERROR(VLOOKUP(A1288,'1.Портфель кредитів'!A:Z,3,FALSE),\"\")","v":""},{"$f":"IFERROR(VLOOKUP(A1288,'1.Портфель кредитів'!A:Z,7,FALSE),\"\")","v":""},{"$f":"IFERROR(VLOOKUP(A1288,'1.Портфель кредитів'!A:Z,14,FALSE),\"\")","v":""}]
[null,{"$f":"IFERROR(VLOOKUP(A1289,'1.Портфель кредитів'!A:Z,3,FALSE),\"\")","v":""},{"$f":"IFERROR(VLOOKUP(A1289,'1.Портфель кредитів'!A:Z,7,FALSE),\"\")","v":""},{"$f":"IFERROR(VLOOKUP(A1289,'1.Портфель кредитів'!A:Z,14,FALSE),\"\")","v":""}]
[null,{"$f":"IFERROR(VLOOKUP(A1290,'1.Портфель кредитів'!A:Z,3,FALSE),\"\")","v":""},{"$f":"IFERROR(VLOOKUP(A1290,'1.Портфель кредитів'!A:Z,7,FALSE),\"\")","v":""},{"$f":"IFERROR(VLOOKUP(A1290,'1.Портфель кредитів'!A:Z,14,FALSE),\"\")","v":""}]
[null,{"$f":"IFERROR(VLOOKUP(A1291,'1.Портфель кредитів'!A:Z,3,FALSE),\"\")","v":""},{"$f":"IFERROR(VLOOKUP(A1291,'1.Портфель кредитів'!A:Z,7,FALSE),\"\")","v":""},{"$f":"IFERROR(VLOOKUP(A1291,'1.Портфель кредитів'!A:Z,14,FALSE),\"\")","v":""}]
[null,{"$f":"IFERROR(VLOOKUP(A1292,'1.Портфель кредитів'!A:Z,3,FALSE),\"\")","v":""},{"$f":"IFERROR(VLOOKUP(A1292,'1.Портфель кредитів'!A:Z,7,FALSE),\"\")","v":""},{"$f":"IFERROR(VLOOKUP(A1292,'1.Портфель кредитів'!A:Z,14,FALSE),\"\")","v":""}]
[null,{"$f":"IFERROR(VLOOKUP(A1293,'1.Портфель кредитів'!A:Z,3,FALSE),\"\")","v":""},{"$f":"IFERROR(VLOOKUP(A1293,'1.Портфель кредитів'!A:Z,7,FALSE),\"\")","v":""},{"$f":"IFERROR(VLOOKUP(A1293,'1.Портфель кредитів'!A:Z,14,FALSE),\"\")","v":""}]
[null,{"$f":"IFERROR(VLOOKUP(A1294,'1.Портфель кредитів'!A:Z,3,FALSE),\"\")","v":""},{"$f":"IFERROR(VLOOKUP(A1294,'1.Портфель кредитів'!A:Z,7,FALSE),\"\")","v":""},{"$f":"IFERROR(VLOOKUP(A1294,'1.Портфель кредитів'!A:Z,14,FALSE),\"\")","v":""}]
[null,{"$f":"IFERROR(VLOOKUP(A1295,'1.Портфель кредитів'!A:Z,3,FALSE),\"\")","v":""},{"$f":"IFERROR(VLOOKUP(A1295,'1.Портфель кредитів'!A:Z,7,FALSE),\"\")","v":""},{"$f":"IFERROR(VLOOKUP(A1295,'1.Портфель кредитів'!A:Z,14,FALSE),\"\")","v":""}]
[null,{"$f":"IFERROR(VLOOKUP(A1296,'1.Портфель кредитів'!A:Z,3,FALSE),\"\")","v":""},{"$f":"IFERROR(VLOOKUP(A1296,'1.Портфель кредитів'!A:Z,7,FALSE),\"\")","v":""},{"$f":"IFERROR(VLOOKUP(A1296,'1.Портфель кредитів'!A:Z,14,FALSE),\"\")","v":""}]
[null,{"$f":"IFERROR(VLOOKUP(A1297,'1.Портфель кредитів'!A:Z,3,FALSE),\"\")","v":""},{"$f":"IFERROR(VLOOKUP(A1297,'1.Портфель кредитів'!A:Z,7,FALSE),\"\")","v":""},{"$f":"IFERROR(VLOOKUP(A1297,'1.Портфель кредитів'!A:Z,14,FALSE),\"\")","v":""}]
[null,{"$f":"IFERROR(VLOOKUP(A1298,'1.Портфель кредитів'!A:Z,3,FALSE),\"\")","v":""},{"$f":"IFERROR(VLOOKUP(A1298,'1.Портфель кредитів'!A:Z,7,FALSE),\"\")","v":""},{"$f":"IFERROR(VLOOKUP(A1298,'1.Портфель кредитів'!A:Z,14,FALSE),\"\")","v":""}]
[null,{"$f":"IFERROR(VLOOKUP(A1299,'1.Портфель кредитів'!A:Z,3,FALSE),\"\")","v":""},{"$f":"IFERROR(VLOOKUP(A1299,'1.Портфель кредитів'!A:Z,7,FALSE),\"\")","v":""},{"$f":"IFERROR(VLOOKUP(A1299,'1.Портфель кредитів'!A:Z,14,FALSE),\"\")","v":""}]
[null,{"$f":"IFERROR(VLOOKUP(A1300,'1.Портфель кредитів'!A:Z,3,FALSE),\"\")","v":""},{"$f":"IFERROR(VLOOKUP(A1300,'1.Портфель кредитів'!A:Z,7,FALSE),\"\")","v":""},{"$f":"IFERROR(VLOOKUP(A1300,'1.Портфель кредитів'!A:Z,14,FALSE),\"\")","v":""}]
[null,{"$f":"IFERROR(VLOOKUP(A1301,'1.Портфель кредитів'!A:Z,3,FALSE),\"\")","v":""},{"$f":"IFERROR(VLOOKUP(A1301,'1.Портфель кредитів'!A:Z,7,FALSE),\"\")","v":""},{"$f":"IFERROR(VLOOKUP(A1301,'1.Портфель кредитів'!A:Z,14,FALSE),\"\")","v":""}]
[null,{"$f":"IFERROR(VLOOKUP(A1302,'1.Портфель кредитів'!A:Z,3,FALSE),\"\")","v":""},{"$f":"IFERROR(VLOOKUP(A1302,'1.Портфель кредитів'!A:Z,7,FALSE),\"\")","v":""},{"$f":"IFERROR(VLOOKUP(A1302,'1.Портфель кредитів'!A:Z,14,FALSE),\"\")","v":""}]
[null,{"$f":"IFERROR(VLOOKUP(A1303,'1.Портфель кредитів'!A:Z,3,FALSE),\"\")","v":""},{"$f":"IFERROR(VLOOKUP(A1303,'1.Портфель кредитів'!A:Z,7,FALSE),\"\")","v":""},{"$f":"IFERROR(VLOOKUP(A1303,'1.Портфель кредитів'!A:Z,14,FALSE),\"\")","v":""}]
[null,{"$f":"IFERROR(VLOOKUP(A1304,'1.Портфель кредитів'!A:Z,3,FALSE),\"\")","v":""},{"$f":"IFERROR(VLOOKUP(A1304,'1.Портфель кредитів'!A:Z,7,FALSE),\"\")","v":""},{"$f":"IFERROR(VLOOKUP(A1304,'1.Портфель кредитів'!A:Z,14,FALSE),\"\")","v":""}]
[null,{"$f":"IFERROR(VLOOKUP(A1305,'1.Портфель кредитів'!A:Z,3,FALSE),\"\")","v":""},{"$f":"IFERROR(VLOOKUP(A1305,'1.Портфель кредитів'!A:Z,7,FALSE),\"\")","v":""},{"$f":"IFERROR(VLOOKUP(A1305,'1.Портфель кредитів'!A:Z,14,FALSE),\"\")","v":""}]
[null,{"$f":"IFERROR(VLOOKUP(A1306,'1.Портфель кредитів'!A:Z,3,FALSE),\"\")","v":""},{"$f":"IFERROR(VLOOKUP(A1306,'1.Портфель кредитів'!A:Z,7,FALSE),\"\")","v":""},{"$f":"IFERROR(VLOOKUP(A1306,'1.Портфель кредитів'!A:Z,14,FALSE),\"\")","v":""}]
[null,{"$f":"IFERROR(VLOOKUP(A1307,'1.Портфель кредитів'!A:Z,3,FALSE),\"\")","v":""},{"$f":"IFERROR(VLOOKUP(A1307,'1.Портфель кредитів'!A:Z,7,FALSE),\"\")","v":""},{"$f":"IFERROR(VLOOKUP(A1307,'1.Портфель кредитів'!A:Z,14,FALSE),\"\")","v":""}]
[null,{"$f":"IFERROR(VLOOKUP(A1308,'1.Портфель кредитів'!A:Z,3,FALSE),\"\")","v":""},{"$f":"IFERROR(VLOOKUP(A1308,'1.Портфель кредитів'!A:Z,7,FALSE),\"\")","v":""},{"$f":"IFERROR(VLOOKUP(A1308,'1.Портфель кредитів'!A:Z,14,FALSE),\"\")","v":""}]
[null,{"$f":"IFERROR(VLOOKUP(A1309,'1.Портфель кредитів'!A:Z,3,FALSE),\"\")","v":""},{"$f":"IFERROR(VLOOKUP(A1309,'1.Портфель кредитів'!A:Z,7,FALSE),\"\")","v":""},{"$f":"IFERROR(VLOOKUP(A1309,'1.Портфель кредитів'!A:Z,14,FALSE),\"\")","v":""}]
[null,{"$f":"IFERROR(VLOOKUP(A1310,'1.Портфель кредитів'!A:Z,3,FALSE),\"\")","v":""},{"$f":"IFERROR(VLOOKUP(A1310,'1.Портфель кредитів'!A:Z,7,FALSE),\"\")","v":""},{"$f":"IFERROR(VLOOKUP(A1310,'1.Портфель кредитів'!A:Z,14,FALSE),\"\")","v":""}]
[null,{"$f":"IFERROR(VLOOKUP(A1311,'1.Портфель кредитів'!A:Z,3,FALSE),\"\")","v":""},{"$f":"IFERROR(VLOOKUP(A1311,'1.Портфель кредитів'!A:Z,7,FALSE),\"\")","v":""},{"$f":"IFERROR(VLOOKUP(A1311,'1.Портфель кредитів'!A:Z,14,FALSE),\"\")","v":""}]
[null,{"$f":"IFERROR(VLOOKUP(A1312,'1.Портфель кредитів'!A:Z,3,FALSE),\"\")","v":""},{"$f":"IFERROR(VLOOKUP(A1312,'1.Портфель кредитів'!A:Z,7,FALSE),\"\")","v":""},{"$f":"IFERROR(VLOOKUP(A1312,'1.Портфель кредитів'!A:Z,14,FALSE),\"\")","v":""}]
[null,{"$f":"IFERROR(VLOOKUP(A1313,'1.Портфель кредитів'!A:Z,3,FALSE),\"\")","v":""},{"$f":"IFERROR(VLOOKUP(A1313,'1.Портфель кредитів'!A:Z,7,FALSE),\"\")","v":""},{"$f":"IFERROR(VLOOKUP(A1313,'1.Портфель кредитів'!A:Z,14,FALSE),\"\")","v":""}]
[null,{"$f":"IFERROR(VLOOKUP(A1314,'1.Портфель кредитів'!A:Z,3,FALSE),\"\")","v":""},{"$f":"IFERROR(VLOOKUP(A1314,'1.Портфель кредитів'!A:Z,7,FALSE),\"\")","v":""},{"$f":"IFERROR(VLOOKUP(A1314,'1.Портфель кредитів'!A:Z,14,FALSE),\"\")","v":""}]
[null,{"$f":"IFERROR(VLOOKUP(A1315,'1.Портфель кредитів'!A:Z,3,FALSE),\"\")","v":""},{"$f":"IFERROR(VLOOKUP(A1315,'1.Портфель кредитів'!A:Z,7,FALSE),\"\")","v":""},{"$f":"IFERROR(VLOOKUP(A1315,'1.Портфель кредитів'!A:Z,14,FALSE),\"\")","v":""}]
[null,{"$f":"IFERROR(VLOOKUP(A1316,'1.Портфель кредитів'!A:Z,3,FALSE),\"\")","v":""},{"$f":"IFERROR(VLOOKUP(A1316,'1.Портфель кредитів'!A:Z,7,FALSE),\"\")","v":""},{"$f":"IFERROR(VLOOKUP(A1316,'1.Портфель кредитів'!A:Z,14,FALSE),\"\")","v":""}]
[null,{"$f":"IFERROR(VLOOKUP(A1317,'1.Портфель кредитів'!A:Z,3,FALSE),\"\")","v":""},{"$f":"IFERROR(VLOOKUP(A1317,'1.Портфель кредитів'!A:Z,7,FALSE),\"\")","v":""},{"$f":"IFERROR(VLOOKUP(A1317,'1.Портфель кредитів'!A:Z,14,FALSE),\"\")","v":""}]
[null,{"$f":"IFERROR(VLOOKUP(A1318,'1.Портфель кредитів'!A:Z,3,FALSE),\"\")","v":""},{"$f":"IFERROR(VLOOKUP(A1318,'1.Портфель кредитів'!A:Z,7,FALSE),\"\")","v":""},{"$f":"IFERROR(VLOOKUP(A1318,'1.Портфель кредитів'!A:Z,14,FALSE),\"\")","v":""}]
[null,{"$f":"IFERROR(VLOOKUP(A1319,'1.Портфель кредитів'!A:Z,3,FALSE),\"\")","v":""},{"$f":"IFERROR(VLOOKUP(A1319,'1.Портфель кредитів'!A:Z,7,FALSE),\"\")","v":""},{"$f":"IFERROR(VLOOKUP(A1319,'1.Портфель кредитів'!A:Z,14,FALSE),\"\")","v":""}]
[null,{"$f":"IFERROR(VLOOKUP(A1320,'1.Портфель кредитів'!A:Z,3,FALSE),\"\")","v":""},{"$f":"IFERROR(VLOOKUP(A1320,'1.Портфель кредитів'!A:Z,7,FALSE),\"\")","v":""},{"$f":"IFERROR(VLOOKUP(A1320,'1.Портфель кредитів'!A:Z,14,FALSE),\"\")","v":""}]
[null,{"$f":"IFERROR(VLOOKUP(A1321,'1.Портфель кредитів'!A:Z,3,FALSE),\"\")","v":""},{"$f":"IFERROR(VLOOKUP(A1321,'1.Портфель кредитів'!A:Z,7,FALSE),\"\")","v":""},{"$f":"IFERROR(VLOOKUP(A1321,'1.Портфель кредитів'!A:Z,14,FALSE),\"\")","v":""}]
[null,{"$f":"IFERROR(VLOOKUP(A1322,'1.Портфель кредитів'!A:Z,3,FALSE),\"\")","v":""},{"$f":"IFERROR(VLOOKUP(A1322,'1.Портфель кредитів'!A:Z,7,FALSE),\"\")","v":""},{"$f":"IFERROR(VLOOKUP(A1322,'1.Портфель кредитів'!A:Z,14,FALSE),\"\")","v":""}]
[null,{"$f":"IFERROR(VLOOKUP(A1323,'1.Портфель кредитів'!A:Z,3,FALSE),\"\")","v":""},{"$f":"IFERROR(VLOOKUP(A1323,'1.Портфель кредитів'!A:Z,7,FALSE),\"\")","v":""},{"$f":"IFERROR(VLOOKUP(A1323,'1.Портфель кредитів'!A:Z,14,FALSE),\"\")","v":""}]
[null,{"$f":"IFERROR(VLOOKUP(A1324,'1.Портфель кредитів'!A:Z,3,FALSE),\"\")","v":""},{"$f":"IFERROR(VLOOKUP(A1324,'1.Портфель кредитів'!A:Z,7,FALSE),\"\")","v":""},{"$f":"IFERROR(VLOOKUP(A1324,'1.Портфель кредитів'!A:Z,14,FALSE),\"\")","v":""}]
[null,{"$f":"IFERROR(VLOOKUP(A1325,'1.Портфель кредитів'!A:Z,3,FALSE),\"\")","v":""},{"$f":"IFERROR(VLOOKUP(A1325,'1.Портфель кредитів'!A:Z,7,FALSE),\"\")","v":""},{"$f":"IFERROR(VLOOKUP(A1325,'1.Портфель кредитів'!A:Z,14,FALSE),\"\")","v":""}]
[null,{"$f":"IFERROR(VLOOKUP(A1326,'1.Портфель кредитів'!A:Z,3,FALSE),\"\")","v":""},{"$f":"IFERROR(VLOOKUP(A1326,'1.Портфель кредитів'!A:Z,7,FALSE),\"\")","v":""},{"$f":"IFERROR(VLOOKUP(A1326,'1.Портфель кредитів'!A:Z,14,FALSE),\"\")","v":""}]
[null,{"$f":"IFERROR(VLOOKUP(A1327,'1.Портфель кредитів'!A:Z,3,FALSE),\"\")","v":""},{"$f":"IFERROR(VLOOKUP(A1327,'1.Портфель кредитів'!A:Z,7,FALSE),\"\")","v":""},{"$f":"IFERROR(VLOOKUP(A1327,'1.Портфель кредитів'!A:Z,14,FALSE),\"\")","v":""}]
[null,{"$f":"IFERROR(VLOOKUP(A1328,'1.Портфель кредитів'!A:Z,3,FALSE),\"\")","v":""},{"$f":"IFERROR(VLOOKUP(A1328,'1.Портфель кредитів'!A:Z,7,FALSE),\"\")","v":""},{"$f":"IFERROR(VLOOKUP(A1328,'1.Портфель кредитів'!A:Z,14,FALSE),\"\")","v":""}]
[null,{"$f":"IFERROR(VLOOKUP(A1329,'1.Портфель кредитів'!A:Z,3,FALSE),\"\")","v":""},{"$f":"IFERROR(VLOOKUP(A1329,'1.Портфель кредитів'!A:Z,7,FALSE),\"\")","v":""},{"$f":"IFERROR(VLOOKUP(A1329,'1.Портфель кредитів'!A:Z,14,FALSE),\"\")","v":""}]
[null,{"$f":"IFERROR(VLOOKUP(A1330,'1.Портфель кредитів'!A:Z,3,FALSE),\"\")","v":""},{"$f":"IFERROR(VLOOKUP(A1330,'1.Портфель кредитів'!A:Z,7,FALSE),\"\")","v":""},{"$f":"IFERROR(VLOOKUP(A1330,'1.Портфель кредитів'!A:Z,14,FALSE),\"\")","v":""}]
[null,{"$f":"IFERROR(VLOOKUP(A1331,'1.Портфель кредитів'!A:Z,3,FALSE),\"\")","v":""},{"$f":"IFERROR(VLOOKUP(A1331,'1.Портфель кредитів'!A:Z,7,FALSE),\"\")","v":""},{"$f":"IFERROR(VLOOKUP(A1331,'1.Портфель кредитів'!A:Z,14,FALSE),\"\")","v":""}]
[null,{"$f":"IFERROR(VLOOKUP(A1332,'1.Портфель кредитів'!A:Z,3,FALSE),\"\")","v":""},{"$f":"IFERROR(VLOOKUP(A1332,'1.Портфель кредитів'!A:Z,7,FALSE),\"\")","v":""},{"$f":"IFERROR(VLOOKUP(A1332,'1.Портфель кредитів'!A:Z,14,FALSE),\"\")","v":""}]
[null,{"$f":"IFERROR(VLOOKUP(A1333,'1.Портфель кредитів'!A:Z,3,FALSE),\"\")","v":""},{"$f":"IFERROR(VLOOKUP(A1333,'1.Портфель кредитів'!A:Z,7,FALSE),\"\")","v":""},{"$f":"IFERROR(VLOOKUP(A1333,'1.Портфель кредитів'!A:Z,14,FALSE),\"\")","v":""}]
[null,{"$f":"IFERROR(VLOOKUP(A1334,'1.Портфель кредитів'!A:Z,3,FALSE),\"\")","v":""},{"$f":"IFERROR(VLOOKUP(A1334,'1.Портфель кредитів'!A:Z,7,FALSE),\"\")","v":""},{"$f":"IFERROR(VLOOKUP(A1334,'1.Портфель кредитів'!A:Z,14,FALSE),\"\")","v":""}]
[null,{"$f":"IFERROR(VLOOKUP(A1335,'1.Портфель кредитів'!A:Z,3,FALSE),\"\")","v":""},{"$f":"IFERROR(VLOOKUP(A1335,'1.Портфель кредитів'!A:Z,7,FALSE),\"\")","v":""},{"$f":"IFERROR(VLOOKUP(A1335,'1.Портфель кредитів'!A:Z,14,FALSE),\"\")","v":""}]
[null,{"$f":"IFERROR(VLOOKUP(A1336,'1.Портфель кредитів'!A:Z,3,FALSE),\"\")","v":""},{"$f":"IFERROR(VLOOKUP(A1336,'1.Портфель кредитів'!A:Z,7,FALSE),\"\")","v":""},{"$f":"IFERROR(VLOOKUP(A1336,'1.Портфель кредитів'!A:Z,14,FALSE),\"\")","v":""}]
[null,{"$f":"IFERROR(VLOOKUP(A1337,'1.Портфель кредитів'!A:Z,3,FALSE),\"\")","v":""},{"$f":"IFERROR(VLOOKUP(A1337,'1.Портфель кредитів'!A:Z,7,FALSE),\"\")","v":""},{"$f":"IFERROR(VLOOKUP(A1337,'1.Портфель кредитів'!A:Z,14,FALSE),\"\")","v":""}]
[null,{"$f":"IFERROR(VLOOKUP(A1338,'1.Портфель кредитів'!A:Z,3,FALSE),\"\")","v":""},{"$f":"IFERROR(VLOOKUP(A1338,'1.Портфель кредитів'!A:Z,7,FALSE),\"\")","v":""},{"$f":"IFERROR(VLOOKUP(A1338,'1.Портфель кредитів'!A:Z,14,FALSE),\"\")","v":""}]
[null,{"$f":"IFERROR(VLOOKUP(A1339,'1.Портфель кредитів'!A:Z,3,FALSE),\"\")","v":""},{"$f":"IFERROR(VLOOKUP(A1339,'1.Портфель кредитів'!A:Z,7,FALSE),\"\")","v":""},{"$f":"IFERROR(VLOOKUP(A1339,'1.Портфель кредитів'!A:Z,14,FALSE),\"\")","v":""}]
[null,{"$f":"IFERROR(VLOOKUP(A1340,'1.Портфель кредитів'!A:Z,3,FALSE),\"\")","v":""},{"$f":"IFERROR(VLOOKUP(A1340,'1.Портфель кредитів'!A:Z,7,FALSE),\"\")","v":""},{"$f":"IFERROR(VLOOKUP(A1340,'1.Портфель кредитів'!A:Z,14,FALSE),\"\")","v":""}]
[null,{"$f":"IFERROR(VLOOKUP(A1341,'1.Портфель кредитів'!A:Z,3,FALSE),\"\")","v":""},{"$f":"IFERROR(VLOOKUP(A1341,'1.Портфель кредитів'!A:Z,7,FALSE),\"\")","v":""},{"$f":"IFERROR(VLOOKUP(A1341,'1.Портфель кредитів'!A:Z,14,FALSE),\"\")","v":""}]
[null,{"$f":"IFERROR(VLOOKUP(A1342,'1.Портфель кредитів'!A:Z,3,FALSE),\"\")","v":""},{"$f":"IFERROR(VLOOKUP(A1342,'1.Портфель кредитів'!A:Z,7,FALSE),\"\")","v":""},{"$f":"IFERROR(VLOOKUP(A1342,'1.Портфель кредитів'!A:Z,14,FALSE),\"\")","v":""}]
[null,{"$f":"IFERROR(VLOOKUP(A1343,'1.Портфель кредитів'!A:Z,3,FALSE),\"\")","v":""},{"$f":"IFERROR(VLOOKUP(A1343,'1.Портфель кредитів'!A:Z,7,FALSE),\"\")","v":""},{"$f":"IFERROR(VLOOKUP(A1343,'1.Портфель кредитів'!A:Z,14,FALSE),\"\")","v":""}]
[null,{"$f":"IFERROR(VLOOKUP(A1344,'1.Портфель кредитів'!A:Z,3,FALSE),\"\")","v":""},{"$f":"IFERROR(VLOOKUP(A1344,'1.Портфель кредитів'!A:Z,7,FALSE),\"\")","v":""},{"$f":"IFERROR(VLOOKUP(A1344,'1.Портфель кредитів'!A:Z,14,FALSE),\"\")","v":""}]
[null,{"$f":"IFERROR(VLOOKUP(A1345,'1.Портфель кредитів'!A:Z,3,FALSE),\"\")","v":""},{"$f":"IFERROR(VLOOKUP(A1345,'1.Портфель кредитів'!A:Z,7,FALSE),\"\")","v":""},{"$f":"IFERROR(VLOOKUP(A1345,'1.Портфель кредитів'!A:Z,14,FALSE),\"\")","v":""}]
[null,{"$f":"IFERROR(VLOOKUP(A1346,'1.Портфель кредитів'!A:Z,3,FALSE),\"\")","v":""},{"$f":"IFERROR(VLOOKUP(A1346,'1.Портфель кредитів'!A:Z,7,FALSE),\"\")","v":""},{"$f":"IFERROR(VLOOKUP(A1346,'1.Портфель кредитів'!A:Z,14,FALSE),\"\")","v":""}]
[null,{"$f":"IFERROR(VLOOKUP(A1347,'1.Портфель кредитів'!A:Z,3,FALSE),\"\")","v":""},{"$f":"IFERROR(VLOOKUP(A1347,'1.Портфель кредитів'!A:Z,7,FALSE),\"\")","v":""},{"$f":"IFERROR(VLOOKUP(A1347,'1.Портфель кредитів'!A:Z,14,FALSE),\"\")","v":""}]
[null,{"$f":"IFERROR(VLOOKUP(A1348,'1.Портфель кредитів'!A:Z,3,FALSE),\"\")","v":""},{"$f":"IFERROR(VLOOKUP(A1348,'1.Портфель кредитів'!A:Z,7,FALSE),\"\")","v":""},{"$f":"IFERROR(VLOOKUP(A1348,'1.Портфель кредитів'!A:Z,14,FALSE),\"\")","v":""}]
[null,{"$f":"IFERROR(VLOOKUP(A1349,'1.Портфель кредитів'!A:Z,3,FALSE),\"\")","v":""},{"$f":"IFERROR(VLOOKUP(A1349,'1.Портфель кредитів'!A:Z,7,FALSE),\"\")","v":""},{"$f":"IFERROR(VLOOKUP(A1349,'1.Портфель кредитів'!A:Z,14,FALSE),\"\")","v":""}]
[null,{"$f":"IFERROR(VLOOKUP(A1350,'1.Портфель кредитів'!A:Z,3,FALSE),\"\")","v":""},{"$f":"IFERROR(VLOOKUP(A1350,'1.Портфель кредитів'!A:Z,7,FALSE),\"\")","v":""},{"$f":"IFERROR(VLOOKUP(A1350,'1.Портфель кредитів'!A:Z,14,FALSE),\"\")","v":""}]
[null,{"$f":"IFERROR(VLOOKUP(A1351,'1.Портфель кредитів'!A:Z,3,FALSE),\"\")","v":""},{"$f":"IFERROR(VLOOKUP(A1351,'1.Портфель кредитів'!A:Z,7,FALSE),\"\")","v":""},{"$f":"IFERROR(VLOOKUP(A1351,'1.Портфель кредитів'!A:Z,14,FALSE),\"\")","v":""}]
[null,{"$f":"IFERROR(VLOOKUP(A1352,'1.Портфель кредитів'!A:Z,3,FALSE),\"\")","v":""},{"$f":"IFERROR(VLOOKUP(A1352,'1.Портфель кредитів'!A:Z,7,FALSE),\"\")","v":""},{"$f":"IFERROR(VLOOKUP(A1352,'1.Портфель кредитів'!A:Z,14,FALSE),\"\")","v":""}]
[null,{"$f":"IFERROR(VLOOKUP(A1353,'1.Портфель кредитів'!A:Z,3,FALSE),\"\")","v":""},{"$f":"IFERROR(VLOOKUP(A1353,'1.Портфель кредитів'!A:Z,7,FALSE),\"\")","v":""},{"$f":"IFERROR(VLOOKUP(A1353,'1.Портфель кредитів'!A:Z,14,FALSE),\"\")","v":""}]
[null,{"$f":"IFERROR(VLOOKUP(A1354,'1.Портфель кредитів'!A:Z,3,FALSE),\"\")","v":""},{"$f":"IFERROR(VLOOKUP(A1354,'1.Портфель кредитів'!A:Z,7,FALSE),\"\")","v":""},{"$f":"IFERROR(VLOOKUP(A1354,'1.Портфель кредитів'!A:Z,14,FALSE),\"\")","v":""}]
[null,{"$f":"IFERROR(VLOOKUP(A1355,'1.Портфель кредитів'!A:Z,3,FALSE),\"\")","v":""},{"$f":"IFERROR(VLOOKUP(A1355,'1.Портфель кредитів'!A:Z,7,FALSE),\"\")","v":""},{"$f":"IFERROR(VLOOKUP(A1355,'1.Портфель кредитів'!A:Z,14,FALSE),\"\")","v":""}]
[null,{"$f":"IFERROR(VLOOKUP(A1356,'1.Портфель кредитів'!A:Z,3,FALSE),\"\")","v":""},{"$f":"IFERROR(VLOOKUP(A1356,'1.Портфель кредитів'!A:Z,7,FALSE),\"\")","v":""},{"$f":"IFERROR(VLOOKUP(A1356,'1.Портфель кредитів'!A:Z,14,FALSE),\"\")","v":""}]
[null,{"$f":"IFERROR(VLOOKUP(A1357,'1.Портфель кредитів'!A:Z,3,FALSE),\"\")","v":""},{"$f":"IFERROR(VLOOKUP(A1357,'1.Портфель кредитів'!A:Z,7,FALSE),\"\")","v":""},{"$f":"IFERROR(VLOOKUP(A1357,'1.Портфель кредитів'!A:Z,14,FALSE),\"\")","v":""}]
[null,{"$f":"IFERROR(VLOOKUP(A1358,'1.Портфель кредитів'!A:Z,3,FALSE),\"\")","v":""},{"$f":"IFERROR(VLOOKUP(A1358,'1.Портфель кредитів'!A:Z,7,FALSE),\"\")","v":""},{"$f":"IFERROR(VLOOKUP(A1358,'1.Портфель кредитів'!A:Z,14,FALSE),\"\")","v":""}]
[null,{"$f":"IFERROR(VLOOKUP(A1359,'1.Портфель кредитів'!A:Z,3,FALSE),\"\")","v":""},{"$f":"IFERROR(VLOOKUP(A1359,'1.Портфель кредитів'!A:Z,7,FALSE),\"\")","v":""},{"$f":"IFERROR(VLOOKUP(A1359,'1.Портфель кредитів'!A:Z,14,FALSE),\"\")","v":""}]
[null,{"$f":"IFERROR(VLOOKUP(A1360,'1.Портфель кредитів'!A:Z,3,FALSE),\"\")","v":""},{"$f":"IFERROR(VLOOKUP(A1360,'1.Портфель кредитів'!A:Z,7,FALSE),\"\")","v":""},{"$f":"IFERROR(VLOOKUP(A1360,'1.Портфель кредитів'!A:Z,14,FALSE),\"\")","v":""}]
[null,{"$f":"IFERROR(VLOOKUP(A1361,'1.Портфель кредитів'!A:Z,3,FALSE),\"\")","v":""},{"$f":"IFERROR(VLOOKUP(A1361,'1.Портфель кредитів'!A:Z,7,FALSE),\"\")","v":""},{"$f":"IFERROR(VLOOKUP(A1361,'1.Портфель кредитів'!A:Z,14,FALSE),\"\")","v":""}]
[null,{"$f":"IFERROR(VLOOKUP(A1362,'1.Портфель кредитів'!A:Z,3,FALSE),\"\")","v":""},{"$f":"IFERROR(VLOOKUP(A1362,'1.Портфель кредитів'!A:Z,7,FALSE),\"\")","v":""},{"$f":"IFERROR(VLOOKUP(A1362,'1.Портфель кредитів'!A:Z,14,FALSE),\"\")","v":""}]
[null,{"$f":"IFERROR(VLOOKUP(A1363,'1.Портфель кредитів'!A:Z,3,FALSE),\"\")","v":""},{"$f":"IFERROR(VLOOKUP(A1363,'1.Портфель кредитів'!A:Z,7,FALSE),\"\")","v":""},{"$f":"IFERROR(VLOOKUP(A1363,'1.Портфель кредитів'!A:Z,14,FALSE),\"\")","v":""}]
[null,{"$f":"IFERROR(VLOOKUP(A1364,'1.Портфель кредитів'!A:Z,3,FALSE),\"\")","v":""},{"$f":"IFERROR(VLOOKUP(A1364,'1.Портфель кредитів'!A:Z,7,FALSE),\"\")","v":""},{"$f":"IFERROR(VLOOKUP(A1364,'1.Портфель кредитів'!A:Z,14,FALSE),\"\")","v":""}]
[null,{"$f":"IFERROR(VLOOKUP(A1365,'1.Портфель кредитів'!A:Z,3,FALSE),\"\")","v":""},{"$f":"IFERROR(VLOOKUP(A1365,'1.Портфель кредитів'!A:Z,7,FALSE),\"\")","v":""},{"$f":"IFERROR(VLOOKUP(A1365,'1.Портфель кредитів'!A:Z,14,FALSE),\"\")","v":""}]
[null,{"$f":"IFERROR(VLOOKUP(A1366,'1.Портфель кредитів'!A:Z,3,FALSE),\"\")","v":""},{"$f":"IFERROR(VLOOKUP(A1366,'1.Портфель кредитів'!A:Z,7,FALSE),\"\")","v":""},{"$f":"IFERROR(VLOOKUP(A1366,'1.Портфель кредитів'!A:Z,14,FALSE),\"\")","v":""}]
[null,{"$f":"IFERROR(VLOOKUP(A1367,'1.Портфель кредитів'!A:Z,3,FALSE),\"\")","v":""},{"$f":"IFERROR(VLOOKUP(A1367,'1.Портфель кредитів'!A:Z,7,FALSE),\"\")","v":""},{"$f":"IFERROR(VLOOKUP(A1367,'1.Портфель кредитів'!A:Z,14,FALSE),\"\")","v":""}]
[null,{"$f":"IFERROR(VLOOKUP(A1368,'1.Портфель кредитів'!A:Z,3,FALSE),\"\")","v":""},{"$f":"IFERROR(VLOOKUP(A1368,'1.Портфель кредитів'!A:Z,7,FALSE),\"\")","v":""},{"$f":"IFERROR(VLOOKUP(A1368,'1.Портфель кредитів'!A:Z,14,FALSE),\"\")","v":""}]
[null,{"$f":"IFERROR(VLOOKUP(A1369,'1.Портфель кредитів'!A:Z,3,FALSE),\"\")","v":""},{"$f":"IFERROR(VLOOKUP(A1369,'1.Портфель кредитів'!A:Z,7,FALSE),\"\")","v":""},{"$f":"IFERROR(VLOOKUP(A1369,'1.Портфель кредитів'!A:Z,14,FALSE),\"\")","v":""}]
[null,{"$f":"IFERROR(VLOOKUP(A1370,'1.Портфель кредитів'!A:Z,3,FALSE),\"\")","v":""},{"$f":"IFERROR(VLOOKUP(A1370,'1.Портфель кредитів'!A:Z,7,FALSE),\"\")","v":""},{"$f":"IFERROR(VLOOKUP(A1370,'1.Портфель кредитів'!A:Z,14,FALSE),\"\")","v":""}]
[null,{"$f":"IFERROR(VLOOKUP(A1371,'1.Портфель кредитів'!A:Z,3,FALSE),\"\")","v":""},{"$f":"IFERROR(VLOOKUP(A1371,'1.Портфель кредитів'!A:Z,7,FALSE),\"\")","v":""},{"$f":"IFERROR(VLOOKUP(A1371,'1.Портфель кредитів'!A:Z,14,FALSE),\"\")","v":""}]
[null,{"$f":"IFERROR(VLOOKUP(A1372,'1.Портфель кредитів'!A:Z,3,FALSE),\"\")","v":""},{"$f":"IFERROR(VLOOKUP(A1372,'1.Портфель кредитів'!A:Z,7,FALSE),\"\")","v":""},{"$f":"IFERROR(VLOOKUP(A1372,'1.Портфель кредитів'!A:Z,14,FALSE),\"\")","v":""}]
[null,{"$f":"IFERROR(VLOOKUP(A1373,'1.Портфель кредитів'!A:Z,3,FALSE),\"\")","v":""},{"$f":"IFERROR(VLOOKUP(A1373,'1.Портфель кредитів'!A:Z,7,FALSE),\"\")","v":""},{"$f":"IFERROR(VLOOKUP(A1373,'1.Портфель кредитів'!A:Z,14,FALSE),\"\")","v":""}]
[null,{"$f":"IFERROR(VLOOKUP(A1374,'1.Портфель кредитів'!A:Z,3,FALSE),\"\")","v":""},{"$f":"IFERROR(VLOOKUP(A1374,'1.Портфель кредитів'!A:Z,7,FALSE),\"\")","v":""},{"$f":"IFERROR(VLOOKUP(A1374,'1.Портфель кредитів'!A:Z,14,FALSE),\"\")","v":""}]
[null,{"$f":"IFERROR(VLOOKUP(A1375,'1.Портфель кредитів'!A:Z,3,FALSE),\"\")","v":""},{"$f":"IFERROR(VLOOKUP(A1375,'1.Портфель кредитів'!A:Z,7,FALSE),\"\")","v":""},{"$f":"IFERROR(VLOOKUP(A1375,'1.Портфель кредитів'!A:Z,14,FALSE),\"\")","v":""}]
[null,{"$f":"IFERROR(VLOOKUP(A1376,'1.Портфель кредитів'!A:Z,3,FALSE),\"\")","v":""},{"$f":"IFERROR(VLOOKUP(A1376,'1.Портфель кредитів'!A:Z,7,FALSE),\"\")","v":""},{"$f":"IFERROR(VLOOKUP(A1376,'1.Портфель кредитів'!A:Z,14,FALSE),\"\")","v":""}]
[null,{"$f":"IFERROR(VLOOKUP(A1377,'1.Портфель кредитів'!A:Z,3,FALSE),\"\")","v":""},{"$f":"IFERROR(VLOOKUP(A1377,'1.Портфель кредитів'!A:Z,7,FALSE),\"\")","v":""},{"$f":"IFERROR(VLOOKUP(A1377,'1.Портфель кредитів'!A:Z,14,FALSE),\"\")","v":""}]
[null,{"$f":"IFERROR(VLOOKUP(A1378,'1.Портфель кредитів'!A:Z,3,FALSE),\"\")","v":""},{"$f":"IFERROR(VLOOKUP(A1378,'1.Портфель кредитів'!A:Z,7,FALSE),\"\")","v":""},{"$f":"IFERROR(VLOOKUP(A1378,'1.Портфель кредитів'!A:Z,14,FALSE),\"\")","v":""}]
[null,{"$f":"IFERROR(VLOOKUP(A1379,'1.Портфель кредитів'!A:Z,3,FALSE),\"\")","v":""},{"$f":"IFERROR(VLOOKUP(A1379,'1.Портфель кредитів'!A:Z,7,FALSE),\"\")","v":""},{"$f":"IFERROR(VLOOKUP(A1379,'1.Портфель кредитів'!A:Z,14,FALSE),\"\")","v":""}]
[null,{"$f":"IFERROR(VLOOKUP(A1380,'1.Портфель кредитів'!A:Z,3,FALSE),\"\")","v":""},{"$f":"IFERROR(VLOOKUP(A1380,'1.Портфель кредитів'!A:Z,7,FALSE),\"\")","v":""},{"$f":"IFERROR(VLOOKUP(A1380,'1.Портфель кредитів'!A:Z,14,FALSE),\"\")","v":""}]
[null,{"$f":"IFERROR(VLOOKUP(A1381,'1.Портфель кредитів'!A:Z,3,FALSE),\"\")","v":""},{"$f":"IFERROR(VLOOKUP(A1381,'1.Портфель кредитів'!A:Z,7,FALSE),\"\")","v":""},{"$f":"IFERROR(VLOOKUP(A1381,'1.Портфель кредитів'!A:Z,14,FALSE),\"\")","v":""}]
[null,{"$f":"IFERROR(VLOOKUP(A1382,'1.Портфель кредитів'!A:Z,3,FALSE),\"\")","v":""},{"$f":"IFERROR(VLOOKUP(A1382,'1.Портфель кредитів'!A:Z,7,FALSE),\"\")","v":""},{"$f":"IFERROR(VLOOKUP(A1382,'1.Портфель кредитів'!A:Z,14,FALSE),\"\")","v":""}]
[null,{"$f":"IFERROR(VLOOKUP(A1383,'1.Портфель кредитів'!A:Z,3,FALSE),\"\")","v":""},{"$f":"IFERROR(VLOOKUP(A1383,'1.Портфель кредитів'!A:Z,7,FALSE),\"\")","v":""},{"$f":"IFERROR(VLOOKUP(A1383,'1.Портфель кредитів'!A:Z,14,FALSE),\"\")","v":""}]
[null,{"$f":"IFERROR(VLOOKUP(A1384,'1.Портфель кредитів'!A:Z,3,FALSE),\"\")","v":""},{"$f":"IFERROR(VLOOKUP(A1384,'1.Портфель кредитів'!A:Z,7,FALSE),\"\")","v":""},{"$f":"IFERROR(VLOOKUP(A1384,'1.Портфель кредитів'!A:Z,14,FALSE),\"\")","v":""}]
[null,{"$f":"IFERROR(VLOOKUP(A1385,'1.Портфель кредитів'!A:Z,3,FALSE),\"\")","v":""},{"$f":"IFERROR(VLOOKUP(A1385,'1.Портфель кредитів'!A:Z,7,FALSE),\"\")","v":""},{"$f":"IFERROR(VLOOKUP(A1385,'1.Портфель кредитів'!A:Z,14,FALSE),\"\")","v":""}]
[null,{"$f":"IFERROR(VLOOKUP(A1386,'1.Портфель кредитів'!A:Z,3,FALSE),\"\")","v":""},{"$f":"IFERROR(VLOOKUP(A1386,'1.Портфель кредитів'!A:Z,7,FALSE),\"\")","v":""},{"$f":"IFERROR(VLOOKUP(A1386,'1.Портфель кредитів'!A:Z,14,FALSE),\"\")","v":""}]
[null,{"$f":"IFERROR(VLOOKUP(A1387,'1.Портфель кредитів'!A:Z,3,FALSE),\"\")","v":""},{"$f":"IFERROR(VLOOKUP(A1387,'1.Портфель кредитів'!A:Z,7,FALSE),\"\")","v":""},{"$f":"IFERROR(VLOOKUP(A1387,'1.Портфель кредитів'!A:Z,14,FALSE),\"\")","v":""}]
[null,{"$f":"IFERROR(VLOOKUP(A1388,'1.Портфель кредитів'!A:Z,3,FALSE),\"\")","v":""},{"$f":"IFERROR(VLOOKUP(A1388,'1.Портфель кредитів'!A:Z,7,FALSE),\"\")","v":""},{"$f":"IFERROR(VLOOKUP(A1388,'1.Портфель кредитів'!A:Z,14,FALSE),\"\")","v":""}]
[null,{"$f":"IFERROR(VLOOKUP(A1389,'1.Портфель кредитів'!A:Z,3,FALSE),\"\")","v":""},{"$f":"IFERROR(VLOOKUP(A1389,'1.Портфель кредитів'!A:Z,7,FALSE),\"\")","v":""},{"$f":"IFERROR(VLOOKUP(A1389,'1.Портфель кредитів'!A:Z,14,FALSE),\"\")","v":""}]
[null,{"$f":"IFERROR(VLOOKUP(A1390,'1.Портфель кредитів'!A:Z,3,FALSE),\"\")","v":""},{"$f":"IFERROR(VLOOKUP(A1390,'1.Портфель кредитів'!A:Z,7,FALSE),\"\")","v":""},{"$f":"IFERROR(VLOOKUP(A1390,'1.Портфель кредитів'!A:Z,14,FALSE),\"\")","v":""}]
[null,{"$f":"IFERROR(VLOOKUP(A1391,'1.Портфель кредитів'!A:Z,3,FALSE),\"\")","v":""},{"$f":"IFERROR(VLOOKUP(A1391,'1.Портфель кредитів'!A:Z,7,FALSE),\"\")","v":""},{"$f":"IFERROR(VLOOKUP(A1391,'1.Портфель кредитів'!A:Z,14,FALSE),\"\")","v":""}]
[null,{"$f":"IFERROR(VLOOKUP(A1392,'1.Портфель кредитів'!A:Z,3,FALSE),\"\")","v":""},{"$f":"IFERROR(VLOOKUP(A1392,'1.Портфель кредитів'!A:Z,7,FALSE),\"\")","v":""},{"$f":"IFERROR(VLOOKUP(A1392,'1.Портфель кредитів'!A:Z,14,FALSE),\"\")","v":""}]
[null,{"$f":"IFERROR(VLOOKUP(A1393,'1.Портфель кредитів'!A:Z,3,FALSE),\"\")","v":""},{"$f":"IFERROR(VLOOKUP(A1393,'1.Портфель кредитів'!A:Z,7,FALSE),\"\")","v":""},{"$f":"IFERROR(VLOOKUP(A1393,'1.Портфель кредитів'!A:Z,14,FALSE),\"\")","v":""}]
[null,{"$f":"IFERROR(VLOOKUP(A1394,'1.Портфель кредитів'!A:Z,3,FALSE),\"\")","v":""},{"$f":"IFERROR(VLOOKUP(A1394,'1.Портфель кредитів'!A:Z,7,FALSE),\"\")","v":""},{"$f":"IFERROR(VLOOKUP(A1394,'1.Портфель кредитів'!A:Z,14,FALSE),\"\")","v":""}]
[null,{"$f":"IFERROR(VLOOKUP(A1395,'1.Портфель кредитів'!A:Z,3,FALSE),\"\")","v":""},{"$f":"IFERROR(VLOOKUP(A1395,'1.Портфель кредитів'!A:Z,7,FALSE),\"\")","v":""},{"$f":"IFERROR(VLOOKUP(A1395,'1.Портфель кредитів'!A:Z,14,FALSE),\"\")","v":""}]
[null,{"$f":"IFERROR(VLOOKUP(A1396,'1.Портфель кредитів'!A:Z,3,FALSE),\"\")","v":""},{"$f":"IFERROR(VLOOKUP(A1396,'1.Портфель кредитів'!A:Z,7,FALSE),\"\")","v":""},{"$f":"IFERROR(VLOOKUP(A1396,'1.Портфель кредитів'!A:Z,14,FALSE),\"\")","v":""}]
[null,{"$f":"IFERROR(VLOOKUP(A1397,'1.Портфель кредитів'!A:Z,3,FALSE),\"\")","v":""},{"$f":"IFERROR(VLOOKUP(A1397,'1.Портфель кредитів'!A:Z,7,FALSE),\"\")","v":""},{"$f":"IFERROR(VLOOKUP(A1397,'1.Портфель кредитів'!A:Z,14,FALSE),\"\")","v":""}]
[null,{"$f":"IFERROR(VLOOKUP(A1398,'1.Портфель кредитів'!A:Z,3,FALSE),\"\")","v":""},{"$f":"IFERROR(VLOOKUP(A1398,'1.Портфель кредитів'!A:Z,7,FALSE),\"\")","v":""},{"$f":"IFERROR(VLOOKUP(A1398,'1.Портфель кредитів'!A:Z,14,FALSE),\"\")","v":""}]
[null,{"$f":"IFERROR(VLOOKUP(A1399,'1.Портфель кредитів'!A:Z,3,FALSE),\"\")","v":""},{"$f":"IFERROR(VLOOKUP(A1399,'1.Портфель кредитів'!A:Z,7,FALSE),\"\")","v":""},{"$f":"IFERROR(VLOOKUP(A1399,'1.Портфель кредитів'!A:Z,14,FALSE),\"\")","v":""}]
[null,{"$f":"IFERROR(VLOOKUP(A1400,'1.Портфель кредитів'!A:Z,3,FALSE),\"\")","v":""},{"$f":"IFERROR(VLOOKUP(A1400,'1.Портфель кредитів'!A:Z,7,FALSE),\"\")","v":""},{"$f":"IFERROR(VLOOKUP(A1400,'1.Портфель кредитів'!A:Z,14,FALSE),\"\")","v":""}]
[null,{"$f":"IFERROR(VLOOKUP(A1401,'1.Портфель кредитів'!A:Z,3,FALSE),\"\")","v":""},{"$f":"IFERROR(VLOOKUP(A1401,'1.Портфель кредитів'!A:Z,7,FALSE),\"\")","v":""},{"$f":"IFERROR(VLOOKUP(A1401,'1.Портфель кредитів'!A:Z,14,FALSE),\"\")","v":""}]
[null,{"$f":"IFERROR(VLOOKUP(A1402,'1.Портфель кредитів'!A:Z,3,FALSE),\"\")","v":""},{"$f":"IFERROR(VLOOKUP(A1402,'1.Портфель кредитів'!A:Z,7,FALSE),\"\")","v":""},{"$f":"IFERROR(VLOOKUP(A1402,'1.Портфель кредитів'!A:Z,14,FALSE),\"\")","v":""}]
[null,{"$f":"IFERROR(VLOOKUP(A1403,'1.Портфель кредитів'!A:Z,3,FALSE),\"\")","v":""},{"$f":"IFERROR(VLOOKUP(A1403,'1.Портфель кредитів'!A:Z,7,FALSE),\"\")","v":""},{"$f":"IFERROR(VLOOKUP(A1403,'1.Портфель кредитів'!A:Z,14,FALSE),\"\")","v":""}]
[null,{"$f":"IFERROR(VLOOKUP(A1404,'1.Портфель кредитів'!A:Z,3,FALSE),\"\")","v":""},{"$f":"IFERROR(VLOOKUP(A1404,'1.Портфель кредитів'!A:Z,7,FALSE),\"\")","v":""},{"$f":"IFERROR(VLOOKUP(A1404,'1.Портфель кредитів'!A:Z,14,FALSE),\"\")","v":""}]
[null,{"$f":"IFERROR(VLOOKUP(A1405,'1.Портфель кредитів'!A:Z,3,FALSE),\"\")","v":""},{"$f":"IFERROR(VLOOKUP(A1405,'1.Портфель кредитів'!A:Z,7,FALSE),\"\")","v":""},{"$f":"IFERROR(VLOOKUP(A1405,'1.Портфель кредитів'!A:Z,14,FALSE),\"\")","v":""}]
[null,{"$f":"IFERROR(VLOOKUP(A1406,'1.Портфель кредитів'!A:Z,3,FALSE),\"\")","v":""},{"$f":"IFERROR(VLOOKUP(A1406,'1.Портфель кредитів'!A:Z,7,FALSE),\"\")","v":""},{"$f":"IFERROR(VLOOKUP(A1406,'1.Портфель кредитів'!A:Z,14,FALSE),\"\")","v":""}]
[null,{"$f":"IFERROR(VLOOKUP(A1407,'1.Портфель кредитів'!A:Z,3,FALSE),\"\")","v":""},{"$f":"IFERROR(VLOOKUP(A1407,'1.Портфель кредитів'!A:Z,7,FALSE),\"\")","v":""},{"$f":"IFERROR(VLOOKUP(A1407,'1.Портфель кредитів'!A:Z,14,FALSE),\"\")","v":""}]
[null,{"$f":"IFERROR(VLOOKUP(A1408,'1.Портфель кредитів'!A:Z,3,FALSE),\"\")","v":""},{"$f":"IFERROR(VLOOKUP(A1408,'1.Портфель кредитів'!A:Z,7,FALSE),\"\")","v":""},{"$f":"IFERROR(VLOOKUP(A1408,'1.Портфель кредитів'!A:Z,14,FALSE),\"\")","v":""}]
[null,{"$f":"IFERROR(VLOOKUP(A1409,'1.Портфель кредитів'!A:Z,3,FALSE),\"\")","v":""},{"$f":"IFERROR(VLOOKUP(A1409,'1.Портфель кредитів'!A:Z,7,FALSE),\"\")","v":""},{"$f":"IFERROR(VLOOKUP(A1409,'1.Портфель кредитів'!A:Z,14,FALSE),\"\")","v":""}]
[null,{"$f":"IFERROR(VLOOKUP(A1410,'1.Портфель кредитів'!A:Z,3,FALSE),\"\")","v":""},{"$f":"IFERROR(VLOOKUP(A1410,'1.Портфель кредитів'!A:Z,7,FALSE),\"\")","v":""},{"$f":"IFERROR(VLOOKUP(A1410,'1.Портфель кредитів'!A:Z,14,FALSE),\"\")","v":""}]
[null,{"$f":"IFERROR(VLOOKUP(A1411,'1.Портфель кредитів'!A:Z,3,FALSE),\"\")","v":""},{"$f":"IFERROR(VLOOKUP(A1411,'1.Портфель кредитів'!A:Z,7,FALSE),\"\")","v":""},{"$f":"IFERROR(VLOOKUP(A1411,'1.Портфель кредитів'!A:Z,14,FALSE),\"\")","v":""}]
[null,{"$f":"IFERROR(VLOOKUP(A1412,'1.Портфель кредитів'!A:Z,3,FALSE),\"\")","v":""},{"$f":"IFERROR(VLOOKUP(A1412,'1.Портфель кредитів'!A:Z,7,FALSE),\"\")","v":""},{"$f":"IFERROR(VLOOKUP(A1412,'1.Портфель кредитів'!A:Z,14,FALSE),\"\")","v":""}]
[null,{"$f":"IFERROR(VLOOKUP(A1413,'1.Портфель кредитів'!A:Z,3,FALSE),\"\")","v":""},{"$f":"IFERROR(VLOOKUP(A1413,'1.Портфель кредитів'!A:Z,7,FALSE),\"\")","v":""},{"$f":"IFERROR(VLOOKUP(A1413,'1.Портфель кредитів'!A:Z,14,FALSE),\"\")","v":""}]
[null,{"$f":"IFERROR(VLOOKUP(A1414,'1.Портфель кредитів'!A:Z,3,FALSE),\"\")","v":""},{"$f":"IFERROR(VLOOKUP(A1414,'1.Портфель кредитів'!A:Z,7,FALSE),\"\")","v":""},{"$f":"IFERROR(VLOOKUP(A1414,'1.Портфель кредитів'!A:Z,14,FALSE),\"\")","v":""}]
[null,{"$f":"IFERROR(VLOOKUP(A1415,'1.Портфель кредитів'!A:Z,3,FALSE),\"\")","v":""},{"$f":"IFERROR(VLOOKUP(A1415,'1.Портфель кредитів'!A:Z,7,FALSE),\"\")","v":""},{"$f":"IFERROR(VLOOKUP(A1415,'1.Портфель кредитів'!A:Z,14,FALSE),\"\")","v":""}]
[null,{"$f":"IFERROR(VLOOKUP(A1416,'1.Портфель кредитів'!A:Z,3,FALSE),\"\")","v":""},{"$f":"IFERROR(VLOOKUP(A1416,'1.Портфель кредитів'!A:Z,7,FALSE),\"\")","v":""},{"$f":"IFERROR(VLOOKUP(A1416,'1.Портфель кредитів'!A:Z,14,FALSE),\"\")","v":""}]
[null,{"$f":"IFERROR(VLOOKUP(A1417,'1.Портфель кредитів'!A:Z,3,FALSE),\"\")","v":""},{"$f":"IFERROR(VLOOKUP(A1417,'1.Портфель кредитів'!A:Z,7,FALSE),\"\")","v":""},{"$f":"IFERROR(VLOOKUP(A1417,'1.Портфель кредитів'!A:Z,14,FALSE),\"\")","v":""}]
[null,{"$f":"IFERROR(VLOOKUP(A1418,'1.Портфель кредитів'!A:Z,3,FALSE),\"\")","v":""},{"$f":"IFERROR(VLOOKUP(A1418,'1.Портфель кредитів'!A:Z,7,FALSE),\"\")","v":""},{"$f":"IFERROR(VLOOKUP(A1418,'1.Портфель кредитів'!A:Z,14,FALSE),\"\")","v":""}]
[null,{"$f":"IFERROR(VLOOKUP(A1419,'1.Портфель кредитів'!A:Z,3,FALSE),\"\")","v":""},{"$f":"IFERROR(VLOOKUP(A1419,'1.Портфель кредитів'!A:Z,7,FALSE),\"\")","v":""},{"$f":"IFERROR(VLOOKUP(A1419,'1.Портфель кредитів'!A:Z,14,FALSE),\"\")","v":""}]
[null,{"$f":"IFERROR(VLOOKUP(A1420,'1.Портфель кредитів'!A:Z,3,FALSE),\"\")","v":""},{"$f":"IFERROR(VLOOKUP(A1420,'1.Портфель кредитів'!A:Z,7,FALSE),\"\")","v":""},{"$f":"IFERROR(VLOOKUP(A1420,'1.Портфель кредитів'!A:Z,14,FALSE),\"\")","v":""}]
[null,{"$f":"IFERROR(VLOOKUP(A1421,'1.Портфель кредитів'!A:Z,3,FALSE),\"\")","v":""},{"$f":"IFERROR(VLOOKUP(A1421,'1.Портфель кредитів'!A:Z,7,FALSE),\"\")","v":""},{"$f":"IFERROR(VLOOKUP(A1421,'1.Портфель кредитів'!A:Z,14,FALSE),\"\")","v":""}]
[null,{"$f":"IFERROR(VLOOKUP(A1422,'1.Портфель кредитів'!A:Z,3,FALSE),\"\")","v":""},{"$f":"IFERROR(VLOOKUP(A1422,'1.Портфель кредитів'!A:Z,7,FALSE),\"\")","v":""},{"$f":"IFERROR(VLOOKUP(A1422,'1.Портфель кредитів'!A:Z,14,FALSE),\"\")","v":""}]
[null,{"$f":"IFERROR(VLOOKUP(A1423,'1.Портфель кредитів'!A:Z,3,FALSE),\"\")","v":""},{"$f":"IFERROR(VLOOKUP(A1423,'1.Портфель кредитів'!A:Z,7,FALSE),\"\")","v":""},{"$f":"IFERROR(VLOOKUP(A1423,'1.Портфель кредитів'!A:Z,14,FALSE),\"\")","v":""}]
[null,{"$f":"IFERROR(VLOOKUP(A1424,'1.Портфель кредитів'!A:Z,3,FALSE),\"\")","v":""},{"$f":"IFERROR(VLOOKUP(A1424,'1.Портфель кредитів'!A:Z,7,FALSE),\"\")","v":""},{"$f":"IFERROR(VLOOKUP(A1424,'1.Портфель кредитів'!A:Z,14,FALSE),\"\")","v":""}]
[null,{"$f":"IFERROR(VLOOKUP(A1425,'1.Портфель кредитів'!A:Z,3,FALSE),\"\")","v":""},{"$f":"IFERROR(VLOOKUP(A1425,'1.Портфель кредитів'!A:Z,7,FALSE),\"\")","v":""},{"$f":"IFERROR(VLOOKUP(A1425,'1.Портфель кредитів'!A:Z,14,FALSE),\"\")","v":""}]
[null,{"$f":"IFERROR(VLOOKUP(A1426,'1.Портфель кредитів'!A:Z,3,FALSE),\"\")","v":""},{"$f":"IFERROR(VLOOKUP(A1426,'1.Портфель кредитів'!A:Z,7,FALSE),\"\")","v":""},{"$f":"IFERROR(VLOOKUP(A1426,'1.Портфель кредитів'!A:Z,14,FALSE),\"\")","v":""}]
[null,{"$f":"IFERROR(VLOOKUP(A1427,'1.Портфель кредитів'!A:Z,3,FALSE),\"\")","v":""},{"$f":"IFERROR(VLOOKUP(A1427,'1.Портфель кредитів'!A:Z,7,FALSE),\"\")","v":""},{"$f":"IFERROR(VLOOKUP(A1427,'1.Портфель кредитів'!A:Z,14,FALSE),\"\")","v":""}]
[null,{"$f":"IFERROR(VLOOKUP(A1428,'1.Портфель кредитів'!A:Z,3,FALSE),\"\")","v":""},{"$f":"IFERROR(VLOOKUP(A1428,'1.Портфель кредитів'!A:Z,7,FALSE),\"\")","v":""},{"$f":"IFERROR(VLOOKUP(A1428,'1.Портфель кредитів'!A:Z,14,FALSE),\"\")","v":""}]
[null,{"$f":"IFERROR(VLOOKUP(A1429,'1.Портфель кредитів'!A:Z,3,FALSE),\"\")","v":""},{"$f":"IFERROR(VLOOKUP(A1429,'1.Портфель кредитів'!A:Z,7,FALSE),\"\")","v":""},{"$f":"IFERROR(VLOOKUP(A1429,'1.Портфель кредитів'!A:Z,14,FALSE),\"\")","v":""}]
[null,{"$f":"IFERROR(VLOOKUP(A1430,'1.Портфель кредитів'!A:Z,3,FALSE),\"\")","v":""},{"$f":"IFERROR(VLOOKUP(A1430,'1.Портфель кредитів'!A:Z,7,FALSE),\"\")","v":""},{"$f":"IFERROR(VLOOKUP(A1430,'1.Портфель кредитів'!A:Z,14,FALSE),\"\")","v":""}]
[null,{"$f":"IFERROR(VLOOKUP(A1431,'1.Портфель кредитів'!A:Z,3,FALSE),\"\")","v":""},{"$f":"IFERROR(VLOOKUP(A1431,'1.Портфель кредитів'!A:Z,7,FALSE),\"\")","v":""},{"$f":"IFERROR(VLOOKUP(A1431,'1.Портфель кредитів'!A:Z,14,FALSE),\"\")","v":""}]
[null,{"$f":"IFERROR(VLOOKUP(A1432,'1.Портфель кредитів'!A:Z,3,FALSE),\"\")","v":""},{"$f":"IFERROR(VLOOKUP(A1432,'1.Портфель кредитів'!A:Z,7,FALSE),\"\")","v":""},{"$f":"IFERROR(VLOOKUP(A1432,'1.Портфель кредитів'!A:Z,14,FALSE),\"\")","v":""}]
[null,{"$f":"IFERROR(VLOOKUP(A1433,'1.Портфель кредитів'!A:Z,3,FALSE),\"\")","v":""},{"$f":"IFERROR(VLOOKUP(A1433,'1.Портфель кредитів'!A:Z,7,FALSE),\"\")","v":""},{"$f":"IFERROR(VLOOKUP(A1433,'1.Портфель кредитів'!A:Z,14,FALSE),\"\")","v":""}]
[null,{"$f":"IFERROR(VLOOKUP(A1434,'1.Портфель кредитів'!A:Z,3,FALSE),\"\")","v":""},{"$f":"IFERROR(VLOOKUP(A1434,'1.Портфель кредитів'!A:Z,7,FALSE),\"\")","v":""},{"$f":"IFERROR(VLOOKUP(A1434,'1.Портфель кредитів'!A:Z,14,FALSE),\"\")","v":""}]
[null,{"$f":"IFERROR(VLOOKUP(A1435,'1.Портфель кредитів'!A:Z,3,FALSE),\"\")","v":""},{"$f":"IFERROR(VLOOKUP(A1435,'1.Портфель кредитів'!A:Z,7,FALSE),\"\")","v":""},{"$f":"IFERROR(VLOOKUP(A1435,'1.Портфель кредитів'!A:Z,14,FALSE),\"\")","v":""}]
[null,{"$f":"IFERROR(VLOOKUP(A1436,'1.Портфель кредитів'!A:Z,3,FALSE),\"\")","v":""},{"$f":"IFERROR(VLOOKUP(A1436,'1.Портфель кредитів'!A:Z,7,FALSE),\"\")","v":""},{"$f":"IFERROR(VLOOKUP(A1436,'1.Портфель кредитів'!A:Z,14,FALSE),\"\")","v":""}]
[null,{"$f":"IFERROR(VLOOKUP(A1437,'1.Портфель кредитів'!A:Z,3,FALSE),\"\")","v":""},{"$f":"IFERROR(VLOOKUP(A1437,'1.Портфель кредитів'!A:Z,7,FALSE),\"\")","v":""},{"$f":"IFERROR(VLOOKUP(A1437,'1.Портфель кредитів'!A:Z,14,FALSE),\"\")","v":""}]
[null,{"$f":"IFERROR(VLOOKUP(A1438,'1.Портфель кредитів'!A:Z,3,FALSE),\"\")","v":""},{"$f":"IFERROR(VLOOKUP(A1438,'1.Портфель кредитів'!A:Z,7,FALSE),\"\")","v":""},{"$f":"IFERROR(VLOOKUP(A1438,'1.Портфель кредитів'!A:Z,14,FALSE),\"\")","v":""}]
[null,{"$f":"IFERROR(VLOOKUP(A1439,'1.Портфель кредитів'!A:Z,3,FALSE),\"\")","v":""},{"$f":"IFERROR(VLOOKUP(A1439,'1.Портфель кредитів'!A:Z,7,FALSE),\"\")","v":""},{"$f":"IFERROR(VLOOKUP(A1439,'1.Портфель кредитів'!A:Z,14,FALSE),\"\")","v":""}]
[null,{"$f":"IFERROR(VLOOKUP(A1440,'1.Портфель кредитів'!A:Z,3,FALSE),\"\")","v":""},{"$f":"IFERROR(VLOOKUP(A1440,'1.Портфель кредитів'!A:Z,7,FALSE),\"\")","v":""},{"$f":"IFERROR(VLOOKUP(A1440,'1.Портфель кредитів'!A:Z,14,FALSE),\"\")","v":""}]
[null,{"$f":"IFERROR(VLOOKUP(A1441,'1.Портфель кредитів'!A:Z,3,FALSE),\"\")","v":""},{"$f":"IFERROR(VLOOKUP(A1441,'1.Портфель кредитів'!A:Z,7,FALSE),\"\")","v":""},{"$f":"IFERROR(VLOOKUP(A1441,'1.Портфель кредитів'!A:Z,14,FALSE),\"\")","v":""}]
[null,{"$f":"IFERROR(VLOOKUP(A1442,'1.Портфель кредитів'!A:Z,3,FALSE),\"\")","v":""},{"$f":"IFERROR(VLOOKUP(A1442,'1.Портфель кредитів'!A:Z,7,FALSE),\"\")","v":""},{"$f":"IFERROR(VLOOKUP(A1442,'1.Портфель кредитів'!A:Z,14,FALSE),\"\")","v":""}]
[null,{"$f":"IFERROR(VLOOKUP(A1443,'1.Портфель кредитів'!A:Z,3,FALSE),\"\")","v":""},{"$f":"IFERROR(VLOOKUP(A1443,'1.Портфель кредитів'!A:Z,7,FALSE),\"\")","v":""},{"$f":"IFERROR(VLOOKUP(A1443,'1.Портфель кредитів'!A:Z,14,FALSE),\"\")","v":""}]
[null,{"$f":"IFERROR(VLOOKUP(A1444,'1.Портфель кредитів'!A:Z,3,FALSE),\"\")","v":""},{"$f":"IFERROR(VLOOKUP(A1444,'1.Портфель кредитів'!A:Z,7,FALSE),\"\")","v":""},{"$f":"IFERROR(VLOOKUP(A1444,'1.Портфель кредитів'!A:Z,14,FALSE),\"\")","v":""}]
[null,{"$f":"IFERROR(VLOOKUP(A1445,'1.Портфель кредитів'!A:Z,3,FALSE),\"\")","v":""},{"$f":"IFERROR(VLOOKUP(A1445,'1.Портфель кредитів'!A:Z,7,FALSE),\"\")","v":""},{"$f":"IFERROR(VLOOKUP(A1445,'1.Портфель кредитів'!A:Z,14,FALSE),\"\")","v":""}]
[null,{"$f":"IFERROR(VLOOKUP(A1446,'1.Портфель кредитів'!A:Z,3,FALSE),\"\")","v":""},{"$f":"IFERROR(VLOOKUP(A1446,'1.Портфель кредитів'!A:Z,7,FALSE),\"\")","v":""},{"$f":"IFERROR(VLOOKUP(A1446,'1.Портфель кредитів'!A:Z,14,FALSE),\"\")","v":""}]
[null,{"$f":"IFERROR(VLOOKUP(A1447,'1.Портфель кредитів'!A:Z,3,FALSE),\"\")","v":""},{"$f":"IFERROR(VLOOKUP(A1447,'1.Портфель кредитів'!A:Z,7,FALSE),\"\")","v":""},{"$f":"IFERROR(VLOOKUP(A1447,'1.Портфель кредитів'!A:Z,14,FALSE),\"\")","v":""}]
[null,{"$f":"IFERROR(VLOOKUP(A1448,'1.Портфель кредитів'!A:Z,3,FALSE),\"\")","v":""},{"$f":"IFERROR(VLOOKUP(A1448,'1.Портфель кредитів'!A:Z,7,FALSE),\"\")","v":""},{"$f":"IFERROR(VLOOKUP(A1448,'1.Портфель кредитів'!A:Z,14,FALSE),\"\")","v":""}]
[null,{"$f":"IFERROR(VLOOKUP(A1449,'1.Портфель кредитів'!A:Z,3,FALSE),\"\")","v":""},{"$f":"IFERROR(VLOOKUP(A1449,'1.Портфель кредитів'!A:Z,7,FALSE),\"\")","v":""},{"$f":"IFERROR(VLOOKUP(A1449,'1.Портфель кредитів'!A:Z,14,FALSE),\"\")","v":""}]
[null,{"$f":"IFERROR(VLOOKUP(A1450,'1.Портфель кредитів'!A:Z,3,FALSE),\"\")","v":""},{"$f":"IFERROR(VLOOKUP(A1450,'1.Портфель кредитів'!A:Z,7,FALSE),\"\")","v":""},{"$f":"IFERROR(VLOOKUP(A1450,'1.Портфель кредитів'!A:Z,14,FALSE),\"\")","v":""}]
[null,{"$f":"IFERROR(VLOOKUP(A1451,'1.Портфель кредитів'!A:Z,3,FALSE),\"\")","v":""},{"$f":"IFERROR(VLOOKUP(A1451,'1.Портфель кредитів'!A:Z,7,FALSE),\"\")","v":""},{"$f":"IFERROR(VLOOKUP(A1451,'1.Портфель кредитів'!A:Z,14,FALSE),\"\")","v":""}]
[null,{"$f":"IFERROR(VLOOKUP(A1452,'1.Портфель кредитів'!A:Z,3,FALSE),\"\")","v":""},{"$f":"IFERROR(VLOOKUP(A1452,'1.Портфель кредитів'!A:Z,7,FALSE),\"\")","v":""},{"$f":"IFERROR(VLOOKUP(A1452,'1.Портфель кредитів'!A:Z,14,FALSE),\"\")","v":""}]
[null,{"$f":"IFERROR(VLOOKUP(A1453,'1.Портфель кредитів'!A:Z,3,FALSE),\"\")","v":""},{"$f":"IFERROR(VLOOKUP(A1453,'1.Портфель кредитів'!A:Z,7,FALSE),\"\")","v":""},{"$f":"IFERROR(VLOOKUP(A1453,'1.Портфель кредитів'!A:Z,14,FALSE),\"\")","v":""}]
[null,{"$f":"IFERROR(VLOOKUP(A1454,'1.Портфель кредитів'!A:Z,3,FALSE),\"\")","v":""},{"$f":"IFERROR(VLOOKUP(A1454,'1.Портфель кредитів'!A:Z,7,FALSE),\"\")","v":""},{"$f":"IFERROR(VLOOKUP(A1454,'1.Портфель кредитів'!A:Z,14,FALSE),\"\")","v":""}]
[null,{"$f":"IFERROR(VLOOKUP(A1455,'1.Портфель кредитів'!A:Z,3,FALSE),\"\")","v":""},{"$f":"IFERROR(VLOOKUP(A1455,'1.Портфель кредитів'!A:Z,7,FALSE),\"\")","v":""},{"$f":"IFERROR(VLOOKUP(A1455,'1.Портфель кредитів'!A:Z,14,FALSE),\"\")","v":""}]
[null,{"$f":"IFERROR(VLOOKUP(A1456,'1.Портфель кредитів'!A:Z,3,FALSE),\"\")","v":""},{"$f":"IFERROR(VLOOKUP(A1456,'1.Портфель кредитів'!A:Z,7,FALSE),\"\")","v":""},{"$f":"IFERROR(VLOOKUP(A1456,'1.Портфель кредитів'!A:Z,14,FALSE),\"\")","v":""}]
[null,{"$f":"IFERROR(VLOOKUP(A1457,'1.Портфель кредитів'!A:Z,3,FALSE),\"\")","v":""},{"$f":"IFERROR(VLOOKUP(A1457,'1.Портфель кредитів'!A:Z,7,FALSE),\"\")","v":""},{"$f":"IFERROR(VLOOKUP(A1457,'1.Портфель кредитів'!A:Z,14,FALSE),\"\")","v":""}]
[null,{"$f":"IFERROR(VLOOKUP(A1458,'1.Портфель кредитів'!A:Z,3,FALSE),\"\")","v":""},{"$f":"IFERROR(VLOOKUP(A1458,'1.Портфель кредитів'!A:Z,7,FALSE),\"\")","v":""},{"$f":"IFERROR(VLOOKUP(A1458,'1.Портфель кредитів'!A:Z,14,FALSE),\"\")","v":""}]
[null,{"$f":"IFERROR(VLOOKUP(A1459,'1.Портфель кредитів'!A:Z,3,FALSE),\"\")","v":""},{"$f":"IFERROR(VLOOKUP(A1459,'1.Портфель кредитів'!A:Z,7,FALSE),\"\")","v":""},{"$f":"IFERROR(VLOOKUP(A1459,'1.Портфель кредитів'!A:Z,14,FALSE),\"\")","v":""}]
[null,{"$f":"IFERROR(VLOOKUP(A1460,'1.Портфель кредитів'!A:Z,3,FALSE),\"\")","v":""},{"$f":"IFERROR(VLOOKUP(A1460,'1.Портфель кредитів'!A:Z,7,FALSE),\"\")","v":""},{"$f":"IFERROR(VLOOKUP(A1460,'1.Портфель кредитів'!A:Z,14,FALSE),\"\")","v":""}]
[null,{"$f":"IFERROR(VLOOKUP(A1461,'1.Портфель кредитів'!A:Z,3,FALSE),\"\")","v":""},{"$f":"IFERROR(VLOOKUP(A1461,'1.Портфель кредитів'!A:Z,7,FALSE),\"\")","v":""},{"$f":"IFERROR(VLOOKUP(A1461,'1.Портфель кредитів'!A:Z,14,FALSE),\"\")","v":""}]
[null,{"$f":"IFERROR(VLOOKUP(A1462,'1.Портфель кредитів'!A:Z,3,FALSE),\"\")","v":""},{"$f":"IFERROR(VLOOKUP(A1462,'1.Портфель кредитів'!A:Z,7,FALSE),\"\")","v":""},{"$f":"IFERROR(VLOOKUP(A1462,'1.Портфель кредитів'!A:Z,14,FALSE),\"\")","v":""}]
[null,{"$f":"IFERROR(VLOOKUP(A1463,'1.Портфель кредитів'!A:Z,3,FALSE),\"\")","v":""},{"$f":"IFERROR(VLOOKUP(A1463,'1.Портфель кредитів'!A:Z,7,FALSE),\"\")","v":""},{"$f":"IFERROR(VLOOKUP(A1463,'1.Портфель кредитів'!A:Z,14,FALSE),\"\")","v":""}]
[null,{"$f":"IFERROR(VLOOKUP(A1464,'1.Портфель кредитів'!A:Z,3,FALSE),\"\")","v":""},{"$f":"IFERROR(VLOOKUP(A1464,'1.Портфель кредитів'!A:Z,7,FALSE),\"\")","v":""},{"$f":"IFERROR(VLOOKUP(A1464,'1.Портфель кредитів'!A:Z,14,FALSE),\"\")","v":""}]
[null,{"$f":"IFERROR(VLOOKUP(A1465,'1.Портфель кредитів'!A:Z,3,FALSE),\"\")","v":""},{"$f":"IFERROR(VLOOKUP(A1465,'1.Портфель кредитів'!A:Z,7,FALSE),\"\")","v":""},{"$f":"IFERROR(VLOOKUP(A1465,'1.Портфель кредитів'!A:Z,14,FALSE),\"\")","v":""}]
[null,{"$f":"IFERROR(VLOOKUP(A1466,'1.Портфель кредитів'!A:Z,3,FALSE),\"\")","v":""},{"$f":"IFERROR(VLOOKUP(A1466,'1.Портфель кредитів'!A:Z,7,FALSE),\"\")","v":""},{"$f":"IFERROR(VLOOKUP(A1466,'1.Портфель кредитів'!A:Z,14,FALSE),\"\")","v":""}]
[null,{"$f":"IFERROR(VLOOKUP(A1467,'1.Портфель кредитів'!A:Z,3,FALSE),\"\")","v":""},{"$f":"IFERROR(VLOOKUP(A1467,'1.Портфель кредитів'!A:Z,7,FALSE),\"\")","v":""},{"$f":"IFERROR(VLOOKUP(A1467,'1.Портфель кредитів'!A:Z,14,FALSE),\"\")","v":""}]
[null,{"$f":"IFERROR(VLOOKUP(A1468,'1.Портфель кредитів'!A:Z,3,FALSE),\"\")","v":""},{"$f":"IFERROR(VLOOKUP(A1468,'1.Портфель кредитів'!A:Z,7,FALSE),\"\")","v":""},{"$f":"IFERROR(VLOOKUP(A1468,'1.Портфель кредитів'!A:Z,14,FALSE),\"\")","v":""}]
[null,{"$f":"IFERROR(VLOOKUP(A1469,'1.Портфель кредитів'!A:Z,3,FALSE),\"\")","v":""},{"$f":"IFERROR(VLOOKUP(A1469,'1.Портфель кредитів'!A:Z,7,FALSE),\"\")","v":""},{"$f":"IFERROR(VLOOKUP(A1469,'1.Портфель кредитів'!A:Z,14,FALSE),\"\")","v":""}]
[null,{"$f":"IFERROR(VLOOKUP(A1470,'1.Портфель кредитів'!A:Z,3,FALSE),\"\")","v":""},{"$f":"IFERROR(VLOOKUP(A1470,'1.Портфель кредитів'!A:Z,7,FALSE),\"\")","v":""},{"$f":"IFERROR(VLOOKUP(A1470,'1.Портфель кредитів'!A:Z,14,FALSE),\"\")","v":""}]
[null,{"$f":"IFERROR(VLOOKUP(A1471,'1.Портфель кредитів'!A:Z,3,FALSE),\"\")","v":""},{"$f":"IFERROR(VLOOKUP(A1471,'1.Портфель кредитів'!A:Z,7,FALSE),\"\")","v":""},{"$f":"IFERROR(VLOOKUP(A1471,'1.Портфель кредитів'!A:Z,14,FALSE),\"\")","v":""}]
[null,{"$f":"IFERROR(VLOOKUP(A1472,'1.Портфель кредитів'!A:Z,3,FALSE),\"\")","v":""},{"$f":"IFERROR(VLOOKUP(A1472,'1.Портфель кредитів'!A:Z,7,FALSE),\"\")","v":""},{"$f":"IFERROR(VLOOKUP(A1472,'1.Портфель кредитів'!A:Z,14,FALSE),\"\")","v":""}]
[null,{"$f":"IFERROR(VLOOKUP(A1473,'1.Портфель кредитів'!A:Z,3,FALSE),\"\")","v":""},{"$f":"IFERROR(VLOOKUP(A1473,'1.Портфель кредитів'!A:Z,7,FALSE),\"\")","v":""},{"$f":"IFERROR(VLOOKUP(A1473,'1.Портфель кредитів'!A:Z,14,FALSE),\"\")","v":""}]
[null,{"$f":"IFERROR(VLOOKUP(A1474,'1.Портфель кредитів'!A:Z,3,FALSE),\"\")","v":""},{"$f":"IFERROR(VLOOKUP(A1474,'1.Портфель кредитів'!A:Z,7,FALSE),\"\")","v":""},{"$f":"IFERROR(VLOOKUP(A1474,'1.Портфель кредитів'!A:Z,14,FALSE),\"\")","v":""}]
[null,{"$f":"IFERROR(VLOOKUP(A1475,'1.Портфель кредитів'!A:Z,3,FALSE),\"\")","v":""},{"$f":"IFERROR(VLOOKUP(A1475,'1.Портфель кредитів'!A:Z,7,FALSE),\"\")","v":""},{"$f":"IFERROR(VLOOKUP(A1475,'1.Портфель кредитів'!A:Z,14,FALSE),\"\")","v":""}]
[null,{"$f":"IFERROR(VLOOKUP(A1476,'1.Портфель кредитів'!A:Z,3,FALSE),\"\")","v":""},{"$f":"IFERROR(VLOOKUP(A1476,'1.Портфель кредитів'!A:Z,7,FALSE),\"\")","v":""},{"$f":"IFERROR(VLOOKUP(A1476,'1.Портфель кредитів'!A:Z,14,FALSE),\"\")","v":""}]
[null,{"$f":"IFERROR(VLOOKUP(A1477,'1.Портфель кредитів'!A:Z,3,FALSE),\"\")","v":""},{"$f":"IFERROR(VLOOKUP(A1477,'1.Портфель кредитів'!A:Z,7,FALSE),\"\")","v":""},{"$f":"IFERROR(VLOOKUP(A1477,'1.Портфель кредитів'!A:Z,14,FALSE),\"\")","v":""}]
[null,{"$f":"IFERROR(VLOOKUP(A1478,'1.Портфель кредитів'!A:Z,3,FALSE),\"\")","v":""},{"$f":"IFERROR(VLOOKUP(A1478,'1.Портфель кредитів'!A:Z,7,FALSE),\"\")","v":""},{"$f":"IFERROR(VLOOKUP(A1478,'1.Портфель кредитів'!A:Z,14,FALSE),\"\")","v":""}]
[null,{"$f":"IFERROR(VLOOKUP(A1479,'1.Портфель кредитів'!A:Z,3,FALSE),\"\")","v":""},{"$f":"IFERROR(VLOOKUP(A1479,'1.Портфель кредитів'!A:Z,7,FALSE),\"\")","v":""},{"$f":"IFERROR(VLOOKUP(A1479,'1.Портфель кредитів'!A:Z,14,FALSE),\"\")","v":""}]
[null,{"$f":"IFERROR(VLOOKUP(A1480,'1.Портфель кредитів'!A:Z,3,FALSE),\"\")","v":""},{"$f":"IFERROR(VLOOKUP(A1480,'1.Портфель кредитів'!A:Z,7,FALSE),\"\")","v":""},{"$f":"IFERROR(VLOOKUP(A1480,'1.Портфель кредитів'!A:Z,14,FALSE),\"\")","v":""}]
[null,{"$f":"IFERROR(VLOOKUP(A1481,'1.Портфель кредитів'!A:Z,3,FALSE),\"\")","v":""},{"$f":"IFERROR(VLOOKUP(A1481,'1.Портфель кредитів'!A:Z,7,FALSE),\"\")","v":""},{"$f":"IFERROR(VLOOKUP(A1481,'1.Портфель кредитів'!A:Z,14,FALSE),\"\")","v":""}]
[null,{"$f":"IFERROR(VLOOKUP(A1482,'1.Портфель кредитів'!A:Z,3,FALSE),\"\")","v":""},{"$f":"IFERROR(VLOOKUP(A1482,'1.Портфель кредитів'!A:Z,7,FALSE),\"\")","v":""},{"$f":"IFERROR(VLOOKUP(A1482,'1.Портфель кредитів'!A:Z,14,FALSE),\"\")","v":""}]
[null,{"$f":"IFERROR(VLOOKUP(A1483,'1.Портфель кредитів'!A:Z,3,FALSE),\"\")","v":""},{"$f":"IFERROR(VLOOKUP(A1483,'1.Портфель кредитів'!A:Z,7,FALSE),\"\")","v":""},{"$f":"IFERROR(VLOOKUP(A1483,'1.Портфель кредитів'!A:Z,14,FALSE),\"\")","v":""}]
[null,{"$f":"IFERROR(VLOOKUP(A1484,'1.Портфель кредитів'!A:Z,3,FALSE),\"\")","v":""},{"$f":"IFERROR(VLOOKUP(A1484,'1.Портфель кредитів'!A:Z,7,FALSE),\"\")","v":""},{"$f":"IFERROR(VLOOKUP(A1484,'1.Портфель кредитів'!A:Z,14,FALSE),\"\")","v":""}]
[null,{"$f":"IFERROR(VLOOKUP(A1485,'1.Портфель кредитів'!A:Z,3,FALSE),\"\")","v":""},{"$f":"IFERROR(VLOOKUP(A1485,'1.Портфель кредитів'!A:Z,7,FALSE),\"\")","v":""},{"$f":"IFERROR(VLOOKUP(A1485,'1.Портфель кредитів'!A:Z,14,FALSE),\"\")","v":""}]
[null,{"$f":"IFERROR(VLOOKUP(A1486,'1.Портфель кредитів'!A:Z,3,FALSE),\"\")","v":""},{"$f":"IFERROR(VLOOKUP(A1486,'1.Портфель кредитів'!A:Z,7,FALSE),\"\")","v":""},{"$f":"IFERROR(VLOOKUP(A1486,'1.Портфель кредитів'!A:Z,14,FALSE),\"\")","v":""}]
[null,{"$f":"IFERROR(VLOOKUP(A1487,'1.Портфель кредитів'!A:Z,3,FALSE),\"\")","v":""},{"$f":"IFERROR(VLOOKUP(A1487,'1.Портфель кредитів'!A:Z,7,FALSE),\"\")","v":""},{"$f":"IFERROR(VLOOKUP(A1487,'1.Портфель кредитів'!A:Z,14,FALSE),\"\")","v":""}]
[null,{"$f":"IFERROR(VLOOKUP(A1488,'1.Портфель кредитів'!A:Z,3,FALSE),\"\")","v":""},{"$f":"IFERROR(VLOOKUP(A1488,'1.Портфель кредитів'!A:Z,7,FALSE),\"\")","v":""},{"$f":"IFERROR(VLOOKUP(A1488,'1.Портфель кредитів'!A:Z,14,FALSE),\"\")","v":""}]
[null,{"$f":"IFERROR(VLOOKUP(A1489,'1.Портфель кредитів'!A:Z,3,FALSE),\"\")","v":""},{"$f":"IFERROR(VLOOKUP(A1489,'1.Портфель кредитів'!A:Z,7,FALSE),\"\")","v":""},{"$f":"IFERROR(VLOOKUP(A1489,'1.Портфель кредитів'!A:Z,14,FALSE),\"\")","v":""}]
[null,{"$f":"IFERROR(VLOOKUP(A1490,'1.Портфель кредитів'!A:Z,3,FALSE),\"\")","v":""},{"$f":"IFERROR(VLOOKUP(A1490,'1.Портфель кредитів'!A:Z,7,FALSE),\"\")","v":""},{"$f":"IFERROR(VLOOKUP(A1490,'1.Портфель кредитів'!A:Z,14,FALSE),\"\")","v":""}]
[null,{"$f":"IFERROR(VLOOKUP(A1491,'1.Портфель кредитів'!A:Z,3,FALSE),\"\")","v":""},{"$f":"IFERROR(VLOOKUP(A1491,'1.Портфель кредитів'!A:Z,7,FALSE),\"\")","v":""},{"$f":"IFERROR(VLOOKUP(A1491,'1.Портфель кредитів'!A:Z,14,FALSE),\"\")","v":""}]
[null,{"$f":"IFERROR(VLOOKUP(A1492,'1.Портфель кредитів'!A:Z,3,FALSE),\"\")","v":""},{"$f":"IFERROR(VLOOKUP(A1492,'1.Портфель кредитів'!A:Z,7,FALSE),\"\")","v":""},{"$f":"IFERROR(VLOOKUP(A1492,'1.Портфель кредитів'!A:Z,14,FALSE),\"\")","v":""}]
[null,{"$f":"IFERROR(VLOOKUP(A1493,'1.Портфель кредитів'!A:Z,3,FALSE),\"\")","v":""},{"$f":"IFERROR(VLOOKUP(A1493,'1.Портфель кредитів'!A:Z,7,FALSE),\"\")","v":""},{"$f":"IFERROR(VLOOKUP(A1493,'1.Портфель кредитів'!A:Z,14,FALSE),\"\")","v":""}]
[null,{"$f":"IFERROR(VLOOKUP(A1494,'1.Портфель кредитів'!A:Z,3,FALSE),\"\")","v":""},{"$f":"IFERROR(VLOOKUP(A1494,'1.Портфель кредитів'!A:Z,7,FALSE),\"\")","v":""},{"$f":"IFERROR(VLOOKUP(A1494,'1.Портфель кредитів'!A:Z,14,FALSE),\"\")","v":""}]
[null,{"$f":"IFERROR(VLOOKUP(A1495,'1.Портфель кредитів'!A:Z,3,FALSE),\"\")","v":""},{"$f":"IFERROR(VLOOKUP(A1495,'1.Портфель кредитів'!A:Z,7,FALSE),\"\")","v":""},{"$f":"IFERROR(VLOOKUP(A1495,'1.Портфель кредитів'!A:Z,14,FALSE),\"\")","v":""}]
[null,{"$f":"IFERROR(VLOOKUP(A1496,'1.Портфель кредитів'!A:Z,3,FALSE),\"\")","v":""},{"$f":"IFERROR(VLOOKUP(A1496,'1.Портфель кредитів'!A:Z,7,FALSE),\"\")","v":""},{"$f":"IFERROR(VLOOKUP(A1496,'1.Портфель кредитів'!A:Z,14,FALSE),\"\")","v":""}]
[null,{"$f":"IFERROR(VLOOKUP(A1497,'1.Портфель кредитів'!A:Z,3,FALSE),\"\")","v":""},{"$f":"IFERROR(VLOOKUP(A1497,'1.Портфель кредитів'!A:Z,7,FALSE),\"\")","v":""},{"$f":"IFERROR(VLOOKUP(A1497,'1.Портфель кредитів'!A:Z,14,FALSE),\"\")","v":""}]
[null,{"$f":"IFERROR(VLOOKUP(A1498,'1.Портфель кредитів'!A:Z,3,FALSE),\"\")","v":""},{"$f":"IFERROR(VLOOKUP(A1498,'1.Портфель кредитів'!A:Z,7,FALSE),\"\")","v":""},{"$f":"IFERROR(VLOOKUP(A1498,'1.Портфель кредитів'!A:Z,14,FALSE),\"\")","v":""}]
[null,{"$f":"IFERROR(VLOOKUP(A1499,'1.Портфель кредитів'!A:Z,3,FALSE),\"\")","v":""},{"$f":"IFERROR(VLOOKUP(A1499,'1.Портфель кредитів'!A:Z,7,FALSE),\"\")","v":""},{"$f":"IFERROR(VLOOKUP(A1499,'1.Портфель кредитів'!A:Z,14,FALSE),\"\")","v":""}]
[null,{"$f":"IFERROR(VLOOKUP(A1500,'1.Портфель кредитів'!A:Z,3,FALSE),\"\")","v":""},{"$f":"IFERROR(VLOOKUP(A1500,'1.Портфель кредитів'!A:Z,7,FALSE),\"\")","v":""},{"$f":"IFERROR(VLOOKUP(A1500,'1.Портфель кредитів'!A:Z,14,FALSE),\"\")","v":""}]
[null,{"$f":"IFERROR(VLOOKUP(A1501,'1.Портфель кредитів'!A:Z,3,FALSE),\"\")","v":""},{"$f":"IFERROR(VLOOKUP(A1501,'1.Портфель кредитів'!A:Z,7,FALSE),\"\")","v":""},{"$f":"IFERROR(VLOOKUP(A1501,'1.Портфель кредитів'!A:Z,14,FALSE),\"\")","v":""}]
[null,{"$f":"IFERROR(VLOOKUP(A1502,'1.Портфель кредитів'!A:Z,3,FALSE),\"\")","v":""},{"$f":"IFERROR(VLOOKUP(A1502,'1.Портфель кредитів'!A:Z,7,FALSE),\"\")","v":""},{"$f":"IFERROR(VLOOKUP(A1502,'1.Портфель кредитів'!A:Z,14,FALSE),\"\")","v":""}]
[null,{"$f":"IFERROR(VLOOKUP(A1503,'1.Портфель кредитів'!A:Z,3,FALSE),\"\")","v":""},{"$f":"IFERROR(VLOOKUP(A1503,'1.Портфель кредитів'!A:Z,7,FALSE),\"\")","v":""},{"$f":"IFERROR(VLOOKUP(A1503,'1.Портфель кредитів'!A:Z,14,FALSE),\"\")","v":""}]
[null,{"$f":"IFERROR(VLOOKUP(A1504,'1.Портфель кредитів'!A:Z,3,FALSE),\"\")","v":""},{"$f":"IFERROR(VLOOKUP(A1504,'1.Портфель кредитів'!A:Z,7,FALSE),\"\")","v":""},{"$f":"IFERROR(VLOOKUP(A1504,'1.Портфель кредитів'!A:Z,14,FALSE),\"\")","v":""}]
[null,{"$f":"IFERROR(VLOOKUP(A1505,'1.Портфель кредитів'!A:Z,3,FALSE),\"\")","v":""},{"$f":"IFERROR(VLOOKUP(A1505,'1.Портфель кредитів'!A:Z,7,FALSE),\"\")","v":""},{"$f":"IFERROR(VLOOKUP(A1505,'1.Портфель кредитів'!A:Z,14,FALSE),\"\")","v":""}]
[null,{"$f":"IFERROR(VLOOKUP(A1506,'1.Портфель кредитів'!A:Z,3,FALSE),\"\")","v":""},{"$f":"IFERROR(VLOOKUP(A1506,'1.Портфель кредитів'!A:Z,7,FALSE),\"\")","v":""},{"$f":"IFERROR(VLOOKUP(A1506,'1.Портфель кредитів'!A:Z,14,FALSE),\"\")","v":""}]
[null,{"$f":"IFERROR(VLOOKUP(A1507,'1.Портфель кредитів'!A:Z,3,FALSE),\"\")","v":""},{"$f":"IFERROR(VLOOKUP(A1507,'1.Портфель кредитів'!A:Z,7,FALSE),\"\")","v":""},{"$f":"IFERROR(VLOOKUP(A1507,'1.Портфель кредитів'!A:Z,14,FALSE),\"\")","v":""}]
[null,{"$f":"IFERROR(VLOOKUP(A1508,'1.Портфель кредитів'!A:Z,3,FALSE),\"\")","v":""},{"$f":"IFERROR(VLOOKUP(A1508,'1.Портфель кредитів'!A:Z,7,FALSE),\"\")","v":""},{"$f":"IFERROR(VLOOKUP(A1508,'1.Портфель кредитів'!A:Z,14,FALSE),\"\")","v":""}]
[null,{"$f":"IFERROR(VLOOKUP(A1509,'1.Портфель кредитів'!A:Z,3,FALSE),\"\")","v":""},{"$f":"IFERROR(VLOOKUP(A1509,'1.Портфель кредитів'!A:Z,7,FALSE),\"\")","v":""},{"$f":"IFERROR(VLOOKUP(A1509,'1.Портфель кредитів'!A:Z,14,FALSE),\"\")","v":""}]
[null,{"$f":"IFERROR(VLOOKUP(A1510,'1.Портфель кредитів'!A:Z,3,FALSE),\"\")","v":""},{"$f":"IFERROR(VLOOKUP(A1510,'1.Портфель кредитів'!A:Z,7,FALSE),\"\")","v":""},{"$f":"IFERROR(VLOOKUP(A1510,'1.Портфель кредитів'!A:Z,14,FALSE),\"\")","v":""}]
[null,{"$f":"IFERROR(VLOOKUP(A1511,'1.Портфель кредитів'!A:Z,3,FALSE),\"\")","v":""},{"$f":"IFERROR(VLOOKUP(A1511,'1.Портфель кредитів'!A:Z,7,FALSE),\"\")","v":""},{"$f":"IFERROR(VLOOKUP(A1511,'1.Портфель кредитів'!A:Z,14,FALSE),\"\")","v":""}]
[null,{"$f":"IFERROR(VLOOKUP(A1512,'1.Портфель кредитів'!A:Z,3,FALSE),\"\")","v":""},{"$f":"IFERROR(VLOOKUP(A1512,'1.Портфель кредитів'!A:Z,7,FALSE),\"\")","v":""},{"$f":"IFERROR(VLOOKUP(A1512,'1.Портфель кредитів'!A:Z,14,FALSE),\"\")","v":""}]
[null,{"$f":"IFERROR(VLOOKUP(A1513,'1.Портфель кредитів'!A:Z,3,FALSE),\"\")","v":""},{"$f":"IFERROR(VLOOKUP(A1513,'1.Портфель кредитів'!A:Z,7,FALSE),\"\")","v":""},{"$f":"IFERROR(VLOOKUP(A1513,'1.Портфель кредитів'!A:Z,14,FALSE),\"\")","v":""}]
[null,{"$f":"IFERROR(VLOOKUP(A1514,'1.Портфель кредитів'!A:Z,3,FALSE),\"\")","v":""},{"$f":"IFERROR(VLOOKUP(A1514,'1.Портфель кредитів'!A:Z,7,FALSE),\"\")","v":""},{"$f":"IFERROR(VLOOKUP(A1514,'1.Портфель кредитів'!A:Z,14,FALSE),\"\")","v":""}]
[null,{"$f":"IFERROR(VLOOKUP(A1515,'1.Портфель кредитів'!A:Z,3,FALSE),\"\")","v":""},{"$f":"IFERROR(VLOOKUP(A1515,'1.Портфель кредитів'!A:Z,7,FALSE),\"\")","v":""},{"$f":"IFERROR(VLOOKUP(A1515,'1.Портфель кредитів'!A:Z,14,FALSE),\"\")","v":""}]
[null,{"$f":"IFERROR(VLOOKUP(A1516,'1.Портфель кредитів'!A:Z,3,FALSE),\"\")","v":""},{"$f":"IFERROR(VLOOKUP(A1516,'1.Портфель кредитів'!A:Z,7,FALSE),\"\")","v":""},{"$f":"IFERROR(VLOOKUP(A1516,'1.Портфель кредитів'!A:Z,14,FALSE),\"\")","v":""}]
[null,{"$f":"IFERROR(VLOOKUP(A1517,'1.Портфель кредитів'!A:Z,3,FALSE),\"\")","v":""},{"$f":"IFERROR(VLOOKUP(A1517,'1.Портфель кредитів'!A:Z,7,FALSE),\"\")","v":""},{"$f":"IFERROR(VLOOKUP(A1517,'1.Портфель кредитів'!A:Z,14,FALSE),\"\")","v":""}]
[null,{"$f":"IFERROR(VLOOKUP(A1518,'1.Портфель кредитів'!A:Z,3,FALSE),\"\")","v":""},{"$f":"IFERROR(VLOOKUP(A1518,'1.Портфель кредитів'!A:Z,7,FALSE),\"\")","v":""},{"$f":"IFERROR(VLOOKUP(A1518,'1.Портфель кредитів'!A:Z,14,FALSE),\"\")","v":""}]
[null,{"$f":"IFERROR(VLOOKUP(A1519,'1.Портфель кредитів'!A:Z,3,FALSE),\"\")","v":""},{"$f":"IFERROR(VLOOKUP(A1519,'1.Портфель кредитів'!A:Z,7,FALSE),\"\")","v":""},{"$f":"IFERROR(VLOOKUP(A1519,'1.Портфель кредитів'!A:Z,14,FALSE),\"\")","v":""}]

{"sheet":"4.журнал торгів","index":3,"n_rows":1131,"n_cols":9,"rows_kept":1131,"cut":false,"hidden":false,"merged":[[13,6,13,8],[14,3,14,4],[0,3,4,8]]}
["Рекомендації щодо заповнення паспорту:",null,null,"Цей документ був підготовлений Фондом гарантування вкладів фізичних осіб (далі – Фонд) виключно для інформаційних цілей і не повинен вважатися як спонукання до будь-яких дій чи бездіяльності. \nІнформація, що міститься в цьому документі, була отримана з/або ґрунтується на джерелах, які вважаються надійними, але не є вичерпною та не може сприйматися як повна або актуальна. Зокрема, але не виключно, станом на дату придбання активів допускаються несуттєві зміни лота, в складі якого продаються такі активи. Під несуттєвими змінами лота слід розуміти такі зміни характеристик активів у складі такого лота, які впливають на його балансову вартість, але не більше ніж на 10 відсотків. Рішення покупця щодо будь-яких дій або бездіяльності повинно ґрунтуватися на власних оцінках та дослідженнях майна (активу/активів), котре реалізується. Фонд не несе відповідальності за рішення покупця та його наслідки, що ґрунтується на інформації, викладеній в даному документі."]
["Банк заповнює всі стовпчики, що не мають заливки, станом на звітну дату."]
["Клітинки із блакитною заливкою запонюються автоматично."]
["Обов'язкове запвнення всіх можливих даних."]
["№ лота вказується на відповідно до останніх торгів"]
[]
["unicid","Банк","Група Позичальників","№ кред. Дог","Кількість торгів","Початкова вартість реалізації (голландський аукціон)","Мінімальна ціна на останніх торгах (голландський аукціон)","№ лота","Дата проведення останнього аукціону "]
[null,"Камбіо",{"$f":"IFERROR(VLOOKUP(A8,'1.Портфель кредитів'!A:Z,7,FALSE),\"\")","v":""},"108ф-2007/840",2,17271740.600000001,34543.480000000003,"GL16N817048","2020-02-25"]
[null,"Камбіо",{"$f":"IFERROR(VLOOKUP(A9,'1.Портфель кредитів'!A:Z,7,FALSE),\"\")","v":""},"005/1-2013/840",5,46724761.520000003,3737.98,"GL16N817048","2020-02-25"]
[null,"Камбіо",{"$f":"IFERROR(VLOOKUP(A10,'1.Портфель кредитів'!A:Z,7,FALSE),\"\")","v":""},"008/1-2013/840",5,27329010.949999999,2186.3200000000002,"GL16N817048","2020-02-25"]
[null,"Камбіо",{"$f":"IFERROR(VLOOKUP(A11,'1.Портфель кредитів'!A:Z,7,FALSE),\"\")","v":""},"деб. заборг. за цін. паперами",5,33247000,2659.76,"GL16N817048","2020-02-25"]
[null,{"$f":"IFERROR(VLOOKUP(A12,'1.Портфель кредитів'!A:Z,3,FALSE),\"\")","v":""},{"$f":"IFERROR(VLOOKUP(A12,'1.Портфель кредитів'!A:Z,7,FALSE),\"\")","v":""}]
[null,{"$f":"IFERROR(VLOOKUP(A13,'1.Портфель кредитів'!A:Z,3,FALSE),\"\")","v":""},{"$f":"IFERROR(VLOOKUP(A13,'1.Портфель кредитів'!A:Z,7,FALSE),\"\")","v":""}]
[]
[]
[null,{"$f":"IFERROR(VLOOKUP(A16,'1.Портфель кредитів'!A:Z,3,FALSE),\"\")","v":""},{"$f":"IFERROR(VLOOKUP(A16,'1.Портфель кредитів'!A:Z,7,FALSE),\"\")","v":""}]
[null,{"$f":"IFERROR(VLOOKUP(A17,'1.Портфель кредитів'!A:Z,3,FALSE),\"\")","v":""},{"$f":"IFERROR(VLOOKUP(A17,'1.Портфель кредитів'!A:Z,7,FALSE),\"\")","v":""}]
[null,{"$f":"IFERROR(VLOOKUP(A18,'1.Портфель кредитів'!A:Z,3,FALSE),\"\")","v":""},{"$f":"IFERROR(VLOOKUP(A18,'1.Портфель кредитів'!A:Z,7,FALSE),\"\")","v":""}]
[null,{"$f":"IFERROR(VLOOKUP(A19,'1.Портфель кредитів'!A:Z,3,FALSE),\"\")","v":""},{"$f":"IFERROR(VLOOKUP(A19,'1.Портфель кредитів'!A:Z,7,FALSE),\"\")","v":""}]
[null,{"$f":"IFERROR(VLOOKUP(A20,'1.Портфель кредитів'!A:Z,3,FALSE),\"\")","v":""},{"$f":"IFERROR(VLOOKUP(A20,'1.Портфель кредитів'!A:Z,7,FALSE),\"\")","v":""}]
[null,{"$f":"IFERROR(VLOOKUP(A21,'1.Портфель кредитів'!A:Z,3,FALSE),\"\")","v":""},{"$f":"IFERROR(VLOOKUP(A21,'1.Портфель кредитів'!A:Z,7,FALSE),\"\")","v":""},{"$f":"IFERROR(VLOOKUP(A21,'1.Портфель кредитів'!A:Z,14,FALSE),\"\")","v":""},null,null,null,{"$f":"IFERROR(VLOOKUP(A21,'1.Портфель кредитів'!A:Z,30,FALSE),\"\")","v":""}]
[null,{"$f":"IFERROR(VLOOKUP(A22,'1.Портфель кредитів'!A:Z,3,FALSE),\"\")","v":""},{"$f":"IFERROR(VLOOKUP(A22,'1.Портфель кредитів'!A:Z,7,FALSE),\"\")","v":""},{"$f":"IFERROR(VLOOKUP(A22,'1.Портфель кредитів'!A:Z,14,FALSE),\"\")","v":""},null,null,null,{"$f":"IFERROR(VLOOKUP(A22,'1.Портфель кредитів'!A:Z,30,FALSE),\"\")","v":""}]
[null,{"$f":"IFERROR(VLOOKUP(A23,'1.Портфель кредитів'!A:Z,3,FALSE),\"\")","v":""},{"$f":"IFERROR(VLOOKUP(A23,'1.Портфель кредитів'!A:Z,7,FALSE),\"\")","v":""},{"$f":"IFERROR(VLOOKUP(A23,'1.Портфель кредитів'!A:Z,14,FALSE),\"\")","v":""}]
[null,{"$f":"IFERROR(VLOOKUP(A24,'1.Портфель кредитів'!A:Z,3,FALSE),\"\")","v":""},{"$f":"IFERROR(VLOOKUP(A24,'1.Портфель кредитів'!A:Z,7,FALSE),\"\")","v":""},{"$f":"IFERROR(VLOOKUP(A24,'1.Портфель кредитів'!A:Z,14,FALSE),\"\")","v":""}]
[null,{"$f":"IFERROR(VLOOKUP(A25,'1.Портфель кредитів'!A:Z,3,FALSE),\"\")","v":""},{"$f":"IFERROR(VLOOKUP(A25,'1.Портфель кредитів'!A:Z,7,FALSE),\"\")","v":""},{"$f":"IFERROR(VLOOKUP(A25,'1.Портфель кредитів'!A:Z,14,FALSE),\"\")","v":""}]
[null,{"$f":"IFERROR(VLOOKUP(A26,'1.Портфель кредитів'!A:Z,3,FALSE),\"\")","v":""},{"$f":"IFERROR(VLOOKUP(A26,'1.Портфель кредитів'!A:Z,7,FALSE),\"\")","v":""},{"$f":"IFERROR(VLOOKUP(A26,'1.Портфель кредитів'!A:Z,14,FALSE),\"\")","v":""}]
[null,{"$f":"IFERROR(VLOOKUP(A27,'1.Портфель кредитів'!A:Z,3,FALSE),\"\")","v":""},{"$f":"IFERROR(VLOOKUP(A27,'1.Портфель кредитів'!A:Z,7,FALSE),\"\")","v":""},{"$f":"IFERROR(VLOOKUP(A27,'1.Портфель кредитів'!A:Z,14,FALSE),\"\")","v":""}]
[null,{"$f":"IFERROR(VLOOKUP(A28,'1.Портфель кредитів'!A:Z,3,FALSE),\"\")","v":""},{"$f":"IFERROR(VLOOKUP(A28,'1.Портфель кредитів'!A:Z,7,FALSE),\"\")","v":""},{"$f":"IFERROR(VLOOKUP(A28,'1.Портфель кредитів'!A:Z,14,FALSE),\"\")","v":""}]
[null,{"$f":"IFERROR(VLOOKUP(A29,'1.Портфель кредитів'!A:Z,3,FALSE),\"\")","v":""},{"$f":"IFERROR(VLOOKUP(A29,'1.Портфель кредитів'!A:Z,7,FALSE),\"\")","v":""},{"$f":"IFERROR(VLOOKUP(A29,'1.Портфель кредитів'!A:Z,14,FALSE),\"\")","v":""}]
[null,{"$f":"IFERROR(VLOOKUP(A30,'1.Портфель кредитів'!A:Z,3,FALSE),\"\")","v":""},{"$f":"IFERROR(VLOOKUP(A30,'1.Портфель кредитів'!A:Z,7,FALSE),\"\")","v":""},{"$f":"IFERROR(VLOOKUP(A30,'1.Портфель кредитів'!A:Z,14,FALSE),\"\")","v":""}]
[null,{"$f":"IFERROR(VLOOKUP(A31,'1.Портфель кредитів'!A:Z,3,FALSE),\"\")","v":""},{"$f":"IFERROR(VLOOKUP(A31,'1.Портфель кредитів'!A:Z,7,FALSE),\"\")","v":""},{"$f":"IFERROR(VLOOKUP(A31,'1.Портфель кредитів'!A:Z,14,FALSE),\"\")","v":""}]
[null,{"$f":"IFERROR(VLOOKUP(A32,'1.Портфель кредитів'!A:Z,3,FALSE),\"\")","v":""},{"$f":"IFERROR(VLOOKUP(A32,'1.Портфель кредитів'!A:Z,7,FALSE),\"\")","v":""},{"$f":"IFERROR(VLOOKUP(A32,'1.Портфель кредитів'!A:Z,14,FALSE),\"\")","v":""}]
[null,{"$f":"IFERROR(VLOOKUP(A33,'1.Портфель кредитів'!A:Z,3,FALSE),\"\")","v":""},{"$f":"IFERROR(VLOOKUP(A33,'1.Портфель кредитів'!A:Z,7,FALSE),\"\")","v":""},{"$f":"IFERROR(VLOOKUP(A33,'1.Портфель кредитів'!A:Z,14,FALSE),\"\")","v":""}]
[null,{"$f":"IFERROR(VLOOKUP(A34,'1.Портфель кредитів'!A:Z,3,FALSE),\"\")","v":""},{"$f":"IFERROR(VLOOKUP(A34,'1.Портфель кредитів'!A:Z,7,FALSE),\"\")","v":""},{"$f":"IFERROR(VLOOKUP(A34,'1.Портфель кредитів'!A:Z,14,FALSE),\"\")","v":""}]
[null,{"$f":"IFERROR(VLOOKUP(A35,'1.Портфель кредитів'!A:Z,3,FALSE),\"\")","v":""},{"$f":"IFERROR(VLOOKUP(A35,'1.Портфель кредитів'!A:Z,7,FALSE),\"\")","v":""},{"$f":"IFERROR(VLOOKUP(A35,'1.Портфель кредитів'!A:Z,14,FALSE),\"\")","v":""}]
[null,{"$f":"IFERROR(VLOOKUP(A36,'1.Портфель кредитів'!A:Z,3,FALSE),\"\")","v":""},{"$f":"IFERROR(VLOOKUP(A36,'1.Портфель кредитів'!A:Z,7,FALSE),\"\")","v":""},{"$f":"IFERROR(VLOOKUP(A36,'1.Портфель кредитів'!A:Z,14,FALSE),\"\")","v":""}]
[null,{"$f":"IFERROR(VLOOKUP(A37,'1.Портфель кредитів'!A:Z,3,FALSE),\"\")","v":""},{"$f":"IFERROR(VLOOKUP(A37,'1.Портфель кредитів'!A:Z,7,FALSE),\"\")","v":""},{"$f":"IFERROR(VLOOKUP(A37,'1.Портфель кредитів'!A:Z,14,FALSE),\"\")","v":""}]
[null,{"$f":"IFERROR(VLOOKUP(A38,'1.Портфель кредитів'!A:Z,3,FALSE),\"\")","v":""},{"$f":"IFERROR(VLOOKUP(A38,'1.Портфель кредитів'!A:Z,7,FALSE),\"\")","v":""},{"$f":"IFERROR(VLOOKUP(A38,'1.Портфель кредитів'!A:Z,14,FALSE),\"\")","v":""}]
[null,{"$f":"IFERROR(VLOOKUP(A39,'1.Портфель кредитів'!A:Z,3,FALSE),\"\")","v":""},{"$f":"IFERROR(VLOOKUP(A39,'1.Портфель кредитів'!A:Z,7,FALSE),\"\")","v":""},{"$f":"IFERROR(VLOOKUP(A39,'1.Портфель кредитів'!A:Z,14,FALSE),\"\")","v":""}]
[null,{"$f":"IFERROR(VLOOKUP(A40,'1.Портфель кредитів'!A:Z,3,FALSE),\"\")","v":""},{"$f":"IFERROR(VLOOKUP(A40,'1.Портфель кредитів'!A:Z,7,FALSE),\"\")","v":""},{"$f":"IFERROR(VLOOKUP(A40,'1.Портфель кредитів'!A:Z,14,FALSE),\"\")","v":""}]
[null,{"$f":"IFERROR(VLOOKUP(A41,'1.Портфель кредитів'!A:Z,3,FALSE),\"\")","v":""},{"$f":"IFERROR(VLOOKUP(A41,'1.Портфель кредитів'!A:Z,7,FALSE),\"\")","v":""},{"$f":"IFERROR(VLOOKUP(A41,'1.Портфель кредитів'!A:Z,14,FALSE),\"\")","v":""}]
[null,{"$f":"IFERROR(VLOOKUP(A42,'1.Портфель кредитів'!A:Z,3,FALSE),\"\")","v":""},{"$f":"IFERROR(VLOOKUP(A42,'1.Портфель кредитів'!A:Z,7,FALSE),\"\")","v":""},{"$f":"IFERROR(VLOOKUP(A42,'1.Портфель кредитів'!A:Z,14,FALSE),\"\")","v":""}]
[null,{"$f":"IFERROR(VLOOKUP(A43,'1.Портфель кредитів'!A:Z,3,FALSE),\"\")","v":""},{"$f":"IFERROR(VLOOKUP(A43,'1.Портфель кредитів'!A:Z,7,FALSE),\"\")","v":""},{"$f":"IFERROR(VLOOKUP(A43,'1.Портфель кредитів'!A:Z,14,FALSE),\"\")","v":""}]
[null,{"$f":"IFERROR(VLOOKUP(A44,'1.Портфель кредитів'!A:Z,3,FALSE),\"\")","v":""},{"$f":"IFERROR(VLOOKUP(A44,'1.Портфель кредитів'!A:Z,7,FALSE),\"\")","v":""},{"$f":"IFERROR(VLOOKUP(A44,'1.Портфель кредитів'!A:Z,14,FALSE),\"\")","v":""}]
[null,{"$f":"IFERROR(VLOOKUP(A45,'1.Портфель кредитів'!A:Z,3,FALSE),\"\")","v":""},{"$f":"IFERROR(VLOOKUP(A45,'1.Портфель кредитів'!A:Z,7,FALSE),\"\")","v":""},{"$f":"IFERROR(VLOOKUP(A45,'1.Портфель кредитів'!A:Z,14,FALSE),\"\")","v":""}]
[null,{"$f":"IFERROR(VLOOKUP(A46,'1.Портфель кредитів'!A:Z,3,FALSE),\"\")","v":""},{"$f":"IFERROR(VLOOKUP(A46,'1.Портфель кредитів'!A:Z,7,FALSE),\"\")","v":""},{"$f":"IFERROR(VLOOKUP(A46,'1.Портфель кредитів'!A:Z,14,FALSE),\"\")","v":""}]
[null,{"$f":"IFERROR(VLOOKUP(A47,'1.Портфель кредитів'!A:Z,3,FALSE),\"\")","v":""},{"$f":"IFERROR(VLOOKUP(A47,'1.Портфель кредитів'!A:Z,7,FALSE),\"\")","v":""},{"$f":"IFERROR(VLOOKUP(A47,'1.Портфель кредитів'!A:Z,14,FALSE),\"\")","v":""}]
[null,{"$f":"IFERROR(VLOOKUP(A48,'1.Портфель кредитів'!A:Z,3,FALSE),\"\")","v":""},{"$f":"IFERROR(VLOOKUP(A48,'1.Портфель кредитів'!A:Z,7,FALSE),\"\")","v":""},{"$f":"IFERROR(VLOOKUP(A48,'1.Портфель кредитів'!A:Z,14,FALSE),\"\")","v":""}]
[null,{"$f":"IFERROR(VLOOKUP(A49,'1.Портфель кредитів'!A:Z,3,FALSE),\"\")","v":""},{"$f":"IFERROR(VLOOKUP(A49,'1.Портфель кредитів'!A:Z,7,FALSE),\"\")","v":""},{"$f":"IFERROR(VLOOKUP(A49,'1.Портфель кредитів'!A:Z,14,FALSE),\"\")","v":""}]
[null,{"$f":"IFERROR(VLOOKUP(A50,'1.Портфель кредитів'!A:Z,3,FALSE),\"\")","v":""},{"$f":"IFERROR(VLOOKUP(A50,'1.Портфель кредитів'!A:Z,7,FALSE),\"\")","v":""},{"$f":"IFERROR(VLOOKUP(A50,'1.Портфель кредитів'!A:Z,14,FALSE),\"\")","v":""}]
[null,{"$f":"IFERROR(VLOOKUP(A51,'1.Портфель кредитів'!A:Z,3,FALSE),\"\")","v":""},{"$f":"IFERROR(VLOOKUP(A51,'1.Портфель кредитів'!A:Z,7,FALSE),\"\")","v":""},{"$f":"IFERROR(VLOOKUP(A51,'1.Портфель кредитів'!A:Z,14,FALSE),\"\")","v":""}]
[null,{"$f":"IFERROR(VLOOKUP(A52,'1.Портфель кредитів'!A:Z,3,FALSE),\"\")","v":""},{"$f":"IFERROR(VLOOKUP(A52,'1.Портфель кредитів'!A:Z,7,FALSE),\"\")","v":""},{"$f":"IFERROR(VLOOKUP(A52,'1.Портфель кредитів'!A:Z,14,FALSE),\"\")","v":""}]
[null,{"$f":"IFERROR(VLOOKUP(A53,'1.Портфель кредитів'!A:Z,3,FALSE),\"\")","v":""},{"$f":"IFERROR(VLOOKUP(A53,'1.Портфель кредитів'!A:Z,7,FALSE),\"\")","v":""},{"$f":"IFERROR(VLOOKUP(A53,'1.Портфель кредитів'!A:Z,14,FALSE),\"\")","v":""}]
[null,{"$f":"IFERROR(VLOOKUP(A54,'1.Портфель кредитів'!A:Z,3,FALSE),\"\")","v":""},{"$f":"IFERROR(VLOOKUP(A54,'1.Портфель кредитів'!A:Z,7,FALSE),\"\")","v":""},{"$f":"IFERROR(VLOOKUP(A54,'1.Портфель кредитів'!A:Z,14,FALSE),\"\")","v":""}]
[null,{"$f":"IFERROR(VLOOKUP(A55,'1.Портфель кредитів'!A:Z,3,FALSE),\"\")","v":""},{"$f":"IFERROR(VLOOKUP(A55,'1.Портфель кредитів'!A:Z,7,FALSE),\"\")","v":""},{"$f":"IFERROR(VLOOKUP(A55,'1.Портфель кредитів'!A:Z,14,FALSE),\"\")","v":""}]
[null,{"$f":"IFERROR(VLOOKUP(A56,'1.Портфель кредитів'!A:Z,3,FALSE),\"\")","v":""},{"$f":"IFERROR(VLOOKUP(A56,'1.Портфель кредитів'!A:Z,7,FALSE),\"\")","v":""},{"$f":"IFERROR(VLOOKUP(A56,'1.Портфель кредитів'!A:Z,14,FALSE),\"\")","v":""}]
[null,{"$f":"IFERROR(VLOOKUP(A57,'1.Портфель кредитів'!A:Z,3,FALSE),\"\")","v":""},{"$f":"IFERROR(VLOOKUP(A57,'1.Портфель кредитів'!A:Z,7,FALSE),\"\")","v":""},{"$f":"IFERROR(VLOOKUP(A57,'1.Портфель кредитів'!A:Z,14,FALSE),\"\")","v":""}]
[null,{"$f":"IFERROR(VLOOKUP(A58,'1.Портфель кредитів'!A:Z,3,FALSE),\"\")","v":""},{"$f":"IFERROR(VLOOKUP(A58,'1.Портфель кредитів'!A:Z,7,FALSE),\"\")","v":""},{"$f":"IFERROR(VLOOKUP(A58,'1.Портфель кредитів'!A:Z,14,FALSE),\"\")","v":""}]
[null,{"$f":"IFERROR(VLOOKUP(A59,'1.Портфель кредитів'!A:Z,3,FALSE),\"\")","v":""},{"$f":"IFERROR(VLOOKUP(A59,'1.Портфель кредитів'!A:Z,7,FALSE),\"\")","v":""},{"$f":"IFERROR(VLOOKUP(A59,'1.Портфель кредитів'!A:Z,14,FALSE),\"\")","v":""}]
[null,{"$f":"IFERROR(VLOOKUP(A60,'1.Портфель кредитів'!A:Z,3,FALSE),\"\")","v":""},{"$f":"IFERROR(VLOOKUP(A60,'1.Портфель кредитів'!A:Z,7,FALSE),\"\")","v":""},{"$f":"IFERROR(VLOOKUP(A60,'1.Портфель кредитів'!A:Z,14,FALSE),\"\")","v":""}]
[null,{"$f":"IFERROR(VLOOKUP(A61,'1.Портфель кредитів'!A:Z,3,FALSE),\"\")","v":""},{"$f":"IFERROR(VLOOKUP(A61,'1.Портфель кредитів'!A:Z,7,FALSE),\"\")","v":""},{"$f":"IFERROR(VLOOKUP(A61,'1.Портфель кредитів'!A:Z,14,FALSE),\"\")","v":""}]
[null,{"$f":"IFERROR(VLOOKUP(A62,'1.Портфель кредитів'!A:Z,3,FALSE),\"\")","v":""},{"$f":"IFERROR(VLOOKUP(A62,'1.Портфель кредитів'!A:Z,7,FALSE),\"\")","v":""},{"$f":"IFERROR(VLOOKUP(A62,'1.Портфель кредитів'!A:Z,14,FALSE),\"\")","v":""}]
[null,{"$f":"IFERROR(VLOOKUP(A63,'1.Портфель кредитів'!A:Z,3,FALSE),\"\")","v":""},{"$f":"IFERROR(VLOOKUP(A63,'1.Портфель кредитів'!A:Z,7,FALSE),\"\")","v":""},{"$f":"IFERROR(VLOOKUP(A63,'1.Портфель кредитів'!A:Z,14,FALSE),\"\")","v":""}]
[null,{"$f":"IFERROR(VLOOKUP(A64,'1.Портфель кредитів'!A:Z,3,FALSE),\"\")","v":""},{"$f":"IFERROR(VLOOKUP(A64,'1.Портфель кредитів'!A:Z,7,FALSE),\"\")","v":""},{"$f":"IFERROR(VLOOKUP(A64,'1.Портфель кредитів'!A:Z,14,FALSE),\"\")","v":""}]
[null,{"$f":"IFERROR(VLOOKUP(A65,'1.Портфель кредитів'!A:Z,3,FALSE),\"\")","v":""},{"$f":"IFERROR(VLOOKUP(A65,'1.Портфель кредитів'!A:Z,7,FALSE),\"\")","v":""},{"$f":"IFERROR(VLOOKUP(A65,'1.Портфель кредитів'!A:Z,14,FALSE),\"\")","v":""}]
[null,{"$f":"IFERROR(VLOOKUP(A66,'1.Портфель кредитів'!A:Z,3,FALSE),\"\")","v":""},{"$f":"IFERROR(VLOOKUP(A66,'1.Портфель кредитів'!A:Z,7,FALSE),\"\")","v":""},{"$f":"IFERROR(VLOOKUP(A66,'1.Портфель кредитів'!A:Z,14,FALSE),\"\")","v":""}]
[null,{"$f":"IFERROR(VLOOKUP(A67,'1.Портфель кредитів'!A:Z,3,FALSE),\"\")","v":""},{"$f":"IFERROR(VLOOKUP(A67,'1.Портфель кредитів'!A:Z,7,FALSE),\"\")","v":""},{"$f":"IFERROR(VLOOKUP(A67,'1.Портфель кредитів'!A:Z,14,FALSE),\"\")","v":""}]
[null,{"$f":"IFERROR(VLOOKUP(A68,'1.Портфель кредитів'!A:Z,3,FALSE),\"\")","v":""},{"$f":"IFERROR(VLOOKUP(A68,'1.Портфель кредитів'!A:Z,7,FALSE),\"\")","v":""},{"$f":"IFERROR(VLOOKUP(A68,'1.Портфель кредитів'!A:Z,14,FALSE),\"\")","v":""}]
[null,{"$f":"IFERROR(VLOOKUP(A69,'1.Портфель кредитів'!A:Z,3,FALSE),\"\")","v":""},{"$f":"IFERROR(VLOOKUP(A69,'1.Портфель кредитів'!A:Z,7,FALSE),\"\")","v":""},{"$f":"IFERROR(VLOOKUP(A69,'1.Портфель кредитів'!A:Z,14,FALSE),\"\")","v":""}]
[null,{"$f":"IFERROR(VLOOKUP(A70,'1.Портфель кредитів'!A:Z,3,FALSE),\"\")","v":""},{"$f":"IFERROR(VLOOKUP(A70,'1.Портфель кредитів'!A:Z,7,FALSE),\"\")","v":""},{"$f":"IFERROR(VLOOKUP(A70,'1.Портфель кредитів'!A:Z,14,FALSE),\"\")","v":""}]
[null,{"$f":"IFERROR(VLOOKUP(A71,'1.Портфель кредитів'!A:Z,3,FALSE),\"\")","v":""},{"$f":"IFERROR(VLOOKUP(A71,'1.Портфель кредитів'!A:Z,7,FALSE),\"\")","v":""},{"$f":"IFERROR(VLOOKUP(A71,'1.Портфель кредитів'!A:Z,14,FALSE),\"\")","v":""}]
[null,{"$f":"IFERROR(VLOOKUP(A72,'1.Портфель кредитів'!A:Z,3,FALSE),\"\")","v":""},{"$f":"IFERROR(VLOOKUP(A72,'1.Портфель кредитів'!A:Z,7,FALSE),\"\")","v":""},{"$f":"IFERROR(VLOOKUP(A72,'1.Портфель кредитів'!A:Z,14,FALSE),\"\")","v":""}]
[null,{"$f":"IFERROR(VLOOKUP(A73,'1.Портфель кредитів'!A:Z,3,FALSE),\"\")","v":""},{"$f":"IFERROR(VLOOKUP(A73,'1.Портфель кредитів'!A:Z,7,FALSE),\"\")","v":""},{"$f":"IFERROR(VLOOKUP(A73,'1.Портфель кредитів'!A:Z,14,FALSE),\"\")","v":""}]
[null,{"$f":"IFERROR(VLOOKUP(A74,'1.Портфель кредитів'!A:Z,3,FALSE),\"\")","v":""},{"$f":"IFERROR(VLOOKUP(A74,'1.Портфель кредитів'!A:Z,7,FALSE),\"\")","v":""},{"$f":"IFERROR(VLOOKUP(A74,'1.Портфель кредитів'!A:Z,14,FALSE),\"\")","v":""}]
[null,{"$f":"IFERROR(VLOOKUP(A75,'1.Портфель кредитів'!A:Z,3,FALSE),\"\")","v":""},{"$f":"IFERROR(VLOOKUP(A75,'1.Портфель кредитів'!A:Z,7,FALSE),\"\")","v":""},{"$f":"IFERROR(VLOOKUP(A75,'1.Портфель кредитів'!A:Z,14,FALSE),\"\")","v":""}]
[null,{"$f":"IFERROR(VLOOKUP(A76,'1.Портфель кредитів'!A:Z,3,FALSE),\"\")","v":""},{"$f":"IFERROR(VLOOKUP(A76,'1.Портфель кредитів'!A:Z,7,FALSE),\"\")","v":""},{"$f":"IFERROR(VLOOKUP(A76,'1.Портфель кредитів'!A:Z,14,FALSE),\"\")","v":""}]
[null,{"$f":"IFERROR(VLOOKUP(A77,'1.Портфель кредитів'!A:Z,3,FALSE),\"\")","v":""},{"$f":"IFERROR(VLOOKUP(A77,'1.Портфель кредитів'!A:Z,7,FALSE),\"\")","v":""},{"$f":"IFERROR(VLOOKUP(A77,'1.Портфель кредитів'!A:Z,14,FALSE),\"\")","v":""}]
[null,{"$f":"IFERROR(VLOOKUP(A78,'1.Портфель кредитів'!A:Z,3,FALSE),\"\")","v":""},{"$f":"IFERROR(VLOOKUP(A78,'1.Портфель кредитів'!A:Z,7,FALSE),\"\")","v":""},{"$f":"IFERROR(VLOOKUP(A78,'1.Портфель кредитів'!A:Z,14,FALSE),\"\")","v":""}]
[null,{"$f":"IFERROR(VLOOKUP(A79,'1.Портфель кредитів'!A:Z,3,FALSE),\"\")","v":""},{"$f":"IFERROR(VLOOKUP(A79,'1.Портфель кредитів'!A:Z,7,FALSE),\"\")","v":""},{"$f":"IFERROR(VLOOKUP(A79,'1.Портфель кредитів'!A:Z,14,FALSE),\"\")","v":""}]
[null,{"$f":"IFERROR(VLOOKUP(A80,'1.Портфель кредитів'!A:Z,3,FALSE),\"\")","v":""},{"$f":"IFERROR(VLOOKUP(A80,'1.Портфель кредитів'!A:Z,7,FALSE),\"\")","v":""},{"$f":"IFERROR(VLOOKUP(A80,'1.Портфель кредитів'!A:Z,14,FALSE),\"\")","v":""}]
[null,{"$f":"IFERROR(VLOOKUP(A81,'1.Портфель кредитів'!A:Z,3,FALSE),\"\")","v":""},{"$f":"IFERROR(VLOOKUP(A81,'1.Портфель кредитів'!A:Z,7,FALSE),\"\")","v":""},{"$f":"IFERROR(VLOOKUP(A81,'1.Портфель кредитів'!A:Z,14,FALSE),\"\")","v":""}]
[null,{"$f":"IFERROR(VLOOKUP(A82,'1.Портфель кредитів'!A:Z,3,FALSE),\"\")","v":""},{"$f":"IFERROR(VLOOKUP(A82,'1.Портфель кредитів'!A:Z,7,FALSE),\"\")","v":""},{"$f":"IFERROR(VLOOKUP(A82,'1.Портфель кредитів'!A:Z,14,FALSE),\"\")","v":""}]
[null,{"$f":"IFERROR(VLOOKUP(A83,'1.Портфель кредитів'!A:Z,3,FALSE),\"\")","v":""},{"$f":"IFERROR(VLOOKUP(A83,'1.Портфель кредитів'!A:Z,7,FALSE),\"\")","v":""},{"$f":"IFERROR(VLOOKUP(A83,'1.Портфель кредитів'!A:Z,14,FALSE),\"\")","v":""}]
[null,{"$f":"IFERROR(VLOOKUP(A84,'1.Портфель кредитів'!A:Z,3,FALSE),\"\")","v":""},{"$f":"IFERROR(VLOOKUP(A84,'1.Портфель кредитів'!A:Z,7,FALSE),\"\")","v":""},{"$f":"IFERROR(VLOOKUP(A84,'1.Портфель кредитів'!A:Z,14,FALSE),\"\")","v":""}]
[null,{"$f":"IFERROR(VLOOKUP(A85,'1.Портфель кредитів'!A:Z,3,FALSE),\"\")","v":""},{"$f":"IFERROR(VLOOKUP(A85,'1.Портфель кредитів'!A:Z,7,FALSE),\"\")","v":""},{"$f":"IFERROR(VLOOKUP(A85,'1.Портфель кредитів'!A:Z,14,FALSE),\"\")","v":""}]
[null,{"$f":"IFERROR(VLOOKUP(A86,'1.Портфель кредитів'!A:Z,3,FALSE),\"\")","v":""},{"$f":"IFERROR(VLOOKUP(A86,'1.Портфель кредитів'!A:Z,7,FALSE),\"\")","v":""},{"$f":"IFERROR(VLOOKUP(A86,'1.Портфель кредитів'!A:Z,14,FALSE),\"\")","v":""}]
[null,{"$f":"IFERROR(VLOOKUP(A87,'1.Портфель кредитів'!A:Z,3,FALSE),\"\")","v":""},{"$f":"IFERROR(VLOOKUP(A87,'1.Портфель кредитів'!A:Z,7,FALSE),\"\")","v":""},{"$f":"IFERROR(VLOOKUP(A87,'1.Портфель кредитів'!A:Z,14,FALSE),\"\")","v":""}]
[null,{"$f":"IFERROR(VLOOKUP(A88,'1.Портфель кредитів'!A:Z,3,FALSE),\"\")","v":""},{"$f":"IFERROR(VLOOKUP(A88,'1.Портфель кредитів'!A:Z,7,FALSE),\"\")","v":""},{"$f":"IFERROR(VLOOKUP(A88,'1.Портфель кредитів'!A:Z,14,FALSE),\"\")","v":""}]
[null,{"$f":"IFERROR(VLOOKUP(A89,'1.Портфель кредитів'!A:Z,3,FALSE),\"\")","v":""},{"$f":"IFERROR(VLOOKUP(A89,'1.Портфель кредитів'!A:Z,7,FALSE),\"\")","v":""},{"$f":"IFERROR(VLOOKUP(A89,'1.Портфель кредитів'!A:Z,14,FALSE),\"\")","v":""}]
[null,{"$f":"IFERROR(VLOOKUP(A90,'1.Портфель кредитів'!A:Z,3,FALSE),\"\")","v":""},{"$f":"IFERROR(VLOOKUP(A90,'1.Портфель кредитів'!A:Z,7,FALSE),\"\")","v":""},{"$f":"IFERROR(VLOOKUP(A90,'1.Портфель кредитів'!A:Z,14,FALSE),\"\")","v":""}]
[null,{"$f":"IFERROR(VLOOKUP(A91,'1.Портфель кредитів'!A:Z,3,FALSE),\"\")","v":""},{"$f":"IFERROR(VLOOKUP(A91,'1.Портфель кредитів'!A:Z,7,FALSE),\"\")","v":""},{"$f":"IFERROR(VLOOKUP(A91,'1.Портфель кредитів'!A:Z,14,FALSE),\"\")","v":""}]
[null,{"$f":"IFERROR(VLOOKUP(A92,'1.Портфель кредитів'!A:Z,3,FALSE),\"\")","v":""},{"$f":"IFERROR(VLOOKUP(A92,'1.Портфель кредитів'!A:Z,7,FALSE),\"\")","v":""},{"$f":"IFERROR(VLOOKUP(A92,'1.Портфель кредитів'!A:Z,14,FALSE),\"\")","v":""}]
[null,{"$f":"IFERROR(VLOOKUP(A93,'1.Портфель кредитів'!A:Z,3,FALSE),\"\")","v":""},{"$f":"IFERROR(VLOOKUP(A93,'1.Портфель кредитів'!A:Z,7,FALSE),\"\")","v":""},{"$f":"IFERROR(VLOOKUP(A93,'1.Портфель кредитів'!A:Z,14,FALSE),\"\")","v":""}]
[null,{"$f":"IFERROR(VLOOKUP(A94,'1.Портфель кредитів'!A:Z,3,FALSE),\"\")","v":""},{"$f":"IFERROR(VLOOKUP(A94,'1.Портфель кредитів'!A:Z,7,FALSE),\"\")","v":""},{"$f":"IFERROR(VLOOKUP(A94,'1.Портфель кредитів'!A:Z,14,FALSE),\"\")","v":""}]
[null,{"$f":"IFERROR(VLOOKUP(A95,'1.Портфель кредитів'!A:Z,3,FALSE),\"\")","v":""},{"$f":"IFERROR(VLOOKUP(A95,'1.Портфель кредитів'!A:Z,7,FALSE),\"\")","v":""},{"$f":"IFERROR(VLOOKUP(A95,'1.Портфель кредитів'!A:Z,14,FALSE),\"\")","v":""}]
[null,{"$f":"IFERROR(VLOOKUP(A96,'1.Портфель кредитів'!A:Z,3,FALSE),\"\")","v":""},{"$f":"IFERROR(VLOOKUP(A96,'1.Портфель кредитів'!A:Z,7,FALSE),\"\")","v":""},{"$f":"IFERROR(VLOOKUP(A96,'1.Портфель кредитів'!A:Z,14,FALSE),\"\")","v":""}]
[null,{"$f":"IFERROR(VLOOKUP(A97,'1.Портфель кредитів'!A:Z,3,FALSE),\"\")","v":""},{"$f":"IFERROR(VLOOKUP(A97,'1.Портфель кредитів'!A:Z,7,FALSE),\"\")","v":""},{"$f":"IFERROR(VLOOKUP(A97,'1.Портфель кредитів'!A:Z,14,FALSE),\"\")","v":""}]
[null,{"$f":"IFERROR(VLOOKUP(A98,'1.Портфель кредитів'!A:Z,3,FALSE),\"\")","v":""},{"$f":"IFERROR(VLOOKUP(A98,'1.Портфель кредитів'!A:Z,7,FALSE),\"\")","v":""},{"$f":"IFERROR(VLOOKUP(A98,'1.Портфель кредитів'!A:Z,14,FALSE),\"\")","v":""}]
[null,{"$f":"IFERROR(VLOOKUP(A99,'1.Портфель кредитів'!A:Z,3,FALSE),\"\")","v":""},{"$f":"IFERROR(VLOOKUP(A99,'1.Портфель кредитів'!A:Z,7,FALSE),\"\")","v":""},{"$f":"IFERROR(VLOOKUP(A99,'1.Портфель кредитів'!A:Z,14,FALSE),\"\")","v":""}]
[null,{"$f":"IFERROR(VLOOKUP(A100,'1.Портфель кредитів'!A:Z,3,FALSE),\"\")","v":""},{"$f":"IFERROR(VLOOKUP(A100,'1.Портфель кредитів'!A:Z,7,FALSE),\"\")","v":""},{"$f":"IFERROR(VLOOKUP(A100,'1.Портфель кредитів'!A:Z,14,FALSE),\"\")","v":""}]
[null,{"$f":"IFERROR(VLOOKUP(A101,'1.Портфель кредитів'!A:Z,3,FALSE),\"\")","v":""},{"$f":"IFERROR(VLOOKUP(A101,'1.Портфель кредитів'!A:Z,7,FALSE),\"\")","v":""},{"$f":"IFERROR(VLOOKUP(A101,'1.Портфель кредитів'!A:Z,14,FALSE),\"\")","v":""}]
[null,{"$f":"IFERROR(VLOOKUP(A102,'1.Портфель кредитів'!A:Z,3,FALSE),\"\")","v":""},{"$f":"IFERROR(VLOOKUP(A102,'1.Портфель кредитів'!A:Z,7,FALSE),\"\")","v":""},{"$f":"IFERROR(VLOOKUP(A102,'1.Портфель кредитів'!A:Z,14,FALSE),\"\")","v":""}]
[null,{"$f":"IFERROR(VLOOKUP(A103,'1.Портфель кредитів'!A:Z,3,FALSE),\"\")","v":""},{"$f":"IFERROR(VLOOKUP(A103,'1.Портфель кредитів'!A:Z,7,FALSE),\"\")","v":""},{"$f":"IFERROR(VLOOKUP(A103,'1.Портфель кредитів'!A:Z,14,FALSE),\"\")","v":""}]
[null,{"$f":"IFERROR(VLOOKUP(A104,'1.Портфель кредитів'!A:Z,3,FALSE),\"\")","v":""},{"$f":"IFERROR(VLOOKUP(A104,'1.Портфель кредитів'!A:Z,7,FALSE),\"\")","v":""},{"$f":"IFERROR(VLOOKUP(A104,'1.Портфель кредитів'!A:Z,14,FALSE),\"\")","v":""}]
[null,{"$f":"IFERROR(VLOOKUP(A105,'1.Портфель кредитів'!A:Z,3,FALSE),\"\")","v":""},{"$f":"IFERROR(VLOOKUP(A105,'1.Портфель кредитів'!A:Z,7,FALSE),\"\")","v":""},{"$f":"IFERROR(VLOOKUP(A105,'1.Портфель кредитів'!A:Z,14,FALSE),\"\")","v":""}]
[null,{"$f":"IFERROR(VLOOKUP(A106,'1.Портфель кредитів'!A:Z,3,FALSE),\"\")","v":""},{"$f":"IFERROR(VLOOKUP(A106,'1.Портфель кредитів'!A:Z,7,FALSE),\"\")","v":""},{"$f":"IFERROR(VLOOKUP(A106,'1.Портфель кредитів'!A:Z,14,FALSE),\"\")","v":""}]
[null,{"$f":"IFERROR(VLOOKUP(A107,'1.Портфель кредитів'!A:Z,3,FALSE),\"\")","v":""},{"$f":"IFERROR(VLOOKUP(A107,'1.Портфель кредитів'!A:Z,7,FALSE),\"\")","v":""},{"$f":"IFERROR(VLOOKUP(A107,'1.Портфель кредитів'!A:Z,14,FALSE),\"\")","v":""}]
[null,{"$f":"IFERROR(VLOOKUP(A108,'1.Портфель кредитів'!A:Z,3,FALSE),\"\")","v":""},{"$f":"IFERROR(VLOOKUP(A108,'1.Портфель кредитів'!A:Z,7,FALSE),\"\")","v":""},{"$f":"IFERROR(VLOOKUP(A108,'1.Портфель кредитів'!A:Z,14,FALSE),\"\")","v":""}]
[null,{"$f":"IFERROR(VLOOKUP(A109,'1.Портфель кредитів'!A:Z,3,FALSE),\"\")","v":""},{"$f":"IFERROR(VLOOKUP(A109,'1.Портфель кредитів'!A:Z,7,FALSE),\"\")","v":""},{"$f":"IFERROR(VLOOKUP(A109,'1.Портфель кредитів'!A:Z,14,FALSE),\"\")","v":""}]
[null,{"$f":"IFERROR(VLOOKUP(A110,'1.Портфель кредитів'!A:Z,3,FALSE),\"\")","v":""},{"$f":"IFERROR(VLOOKUP(A110,'1.Портфель кредитів'!A:Z,7,FALSE),\"\")","v":""},{"$f":"IFERROR(VLOOKUP(A110,'1.Портфель кредитів'!A:Z,14,FALSE),\"\")","v":""}]
[null,{"$f":"IFERROR(VLOOKUP(A111,'1.Портфель кредитів'!A:Z,3,FALSE),\"\")","v":""},{"$f":"IFERROR(VLOOKUP(A111,'1.Портфель кредитів'!A:Z,7,FALSE),\"\")","v":""},{"$f":"IFERROR(VLOOKUP(A111,'1.Портфель кредитів'!A:Z,14,FALSE),\"\")","v":""}]
[null,{"$f":"IFERROR(VLOOKUP(A112,'1.Портфель кредитів'!A:Z,3,FALSE),\"\")","v":""},{"$f":"IFERROR(VLOOKUP(A112,'1.Портфель кредитів'!A:Z,7,FALSE),\"\")","v":""},{"$f":"IFERROR(VLOOKUP(A112,'1.Портфель кредитів'!A:Z,14,FALSE),\"\")","v":""}]
[null,{"$f":"IFERROR(VLOOKUP(A113,'1.Портфель кредитів'!A:Z,3,FALSE),\"\")","v":""},{"$f":"IFERROR(VLOOKUP(A113,'1.Портфель кредитів'!A:Z,7,FALSE),\"\")","v":""},{"$f":"IFERROR(VLOOKUP(A113,'1.Портфель кредитів'!A:Z,14,FALSE),\"\")","v":""}]
[null,{"$f":"IFERROR(VLOOKUP(A114,'1.Портфель кредитів'!A:Z,3,FALSE),\"\")","v":""},{"$f":"IFERROR(VLOOKUP(A114,'1.Портфель кредитів'!A:Z,7,FALSE),\"\")","v":""},{"$f":"IFERROR(VLOOKUP(A114,'1.Портфель кредитів'!A:Z,14,FALSE),\"\")","v":""}]
[null,{"$f":"IFERROR(VLOOKUP(A115,'1.Портфель кредитів'!A:Z,3,FALSE),\"\")","v":""},{"$f":"IFERROR(VLOOKUP(A115,'1.Портфель кредитів'!A:Z,7,FALSE),\"\")","v":""},{"$f":"IFERROR(VLOOKUP(A115,'1.Портфель кредитів'!A:Z,14,FALSE),\"\")","v":""}]
[null,{"$f":"IFERROR(VLOOKUP(A116,'1.Портфель кредитів'!A:Z,3,FALSE),\"\")","v":""},{"$f":"IFERROR(VLOOKUP(A116,'1.Портфель кредитів'!A:Z,7,FALSE),\"\")","v":""},{"$f":"IFERROR(VLOOKUP(A116,'1.Портфель кредитів'!A:Z,14,FALSE),\"\")","v":""}]
[null,{"$f":"IFERROR(VLOOKUP(A117,'1.Портфель кредитів'!A:Z,3,FALSE),\"\")","v":""},{"$f":"IFERROR(VLOOKUP(A117,'1.Портфель кредитів'!A:Z,7,FALSE),\"\")","v":""},{"$f":"IFERROR(VLOOKUP(A117,'1.Портфель кредитів'!A:Z,14,FALSE),\"\")","v":""}]
[null,{"$f":"IFERROR(VLOOKUP(A118,'1.Портфель кредитів'!A:Z,3,FALSE),\"\")","v":""},{"$f":"IFERROR(VLOOKUP(A118,'1.Портфель кредитів'!A:Z,7,FALSE),\"\")","v":""},{"$f":"IFERROR(VLOOKUP(A118,'1.Портфель кредитів'!A:Z,14,FALSE),\"\")","v":""}]
[null,{"$f":"IFERROR(VLOOKUP(A119,'1.Портфель кредитів'!A:Z,3,FALSE),\"\")","v":""},{"$f":"IFERROR(VLOOKUP(A119,'1.Портфель кредитів'!A:Z,7,FALSE),\"\")","v":""},{"$f":"IFERROR(VLOOKUP(A119,'1.Портфель кредитів'!A:Z,14,FALSE),\"\")","v":""}]
[null,{"$f":"IFERROR(VLOOKUP(A120,'1.Портфель кредитів'!A:Z,3,FALSE),\"\")","v":""},{"$f":"IFERROR(VLOOKUP(A120,'1.Портфель кредитів'!A:Z,7,FALSE),\"\")","v":""},{"$f":"IFERROR(VLOOKUP(A120,'1.Портфель кредитів'!A:Z,14,FALSE),\"\")","v":""}]
[null,{"$f":"IFERROR(VLOOKUP(A121,'1.Портфель кредитів'!A:Z,3,FALSE),\"\")","v":""},{"$f":"IFERROR(VLOOKUP(A121,'1.Портфель кредитів'!A:Z,7,FALSE),\"\")","v":""},{"$f":"IFERROR(VLOOKUP(A121,'1.Портфель кредитів'!A:Z,14,FALSE),\"\")","v":""}]
[null,{"$f":"IFERROR(VLOOKUP(A122,'1.Портфель кредитів'!A:Z,3,FALSE),\"\")","v":""},{"$f":"IFERROR(VLOOKUP(A122,'1.Портфель кредитів'!A:Z,7,FALSE),\"\")","v":""},{"$f":"IFERROR(VLOOKUP(A122,'1.Портфель кредитів'!A:Z,14,FALSE),\"\")","v":""}]
[null,{"$f":"IFERROR(VLOOKUP(A123,'1.Портфель кредитів'!A:Z,3,FALSE),\"\")","v":""},{"$f":"IFERROR(VLOOKUP(A123,'1.Портфель кредитів'!A:Z,7,FALSE),\"\")","v":""},{"$f":"IFERROR(VLOOKUP(A123,'1.Портфель кредитів'!A:Z,14,FALSE),\"\")","v":""}]
[null,{"$f":"IFERROR(VLOOKUP(A124,'1.Портфель кредитів'!A:Z,3,FALSE),\"\")","v":""},{"$f":"IFERROR(VLOOKUP(A124,'1.Портфель кредитів'!A:Z,7,FALSE),\"\")","v":""},{"$f":"IFERROR(VLOOKUP(A124,'1.Портфель кредитів'!A:Z,14,FALSE),\"\")","v":""}]
[null,{"$f":"IFERROR(VLOOKUP(A125,'1.Портфель кредитів'!A:Z,3,FALSE),\"\")","v":""},{"$f":"IFERROR(VLOOKUP(A125,'1.Портфель кредитів'!A:Z,7,FALSE),\"\")","v":""},{"$f":"IFERROR(VLOOKUP(A125,'1.Портфель кредитів'!A:Z,14,FALSE),\"\")","v":""}]
[null,{"$f":"IFERROR(VLOOKUP(A126,'1.Портфель кредитів'!A:Z,3,FALSE),\"\")","v":""},{"$f":"IFERROR(VLOOKUP(A126,'1.Портфель кредитів'!A:Z,7,FALSE),\"\")","v":""},{"$f":"IFERROR(VLOOKUP(A126,'1.Портфель кредитів'!A:Z,14,FALSE),\"\")","v":""}]
[null,{"$f":"IFERROR(VLOOKUP(A127,'1.Портфель кредитів'!A:Z,3,FALSE),\"\")","v":""},{"$f":"IFERROR(VLOOKUP(A127,'1.Портфель кредитів'!A:Z,7,FALSE),\"\")","v":""},{"$f":"IFERROR(VLOOKUP(A127,'1.Портфель кредитів'!A:Z,14,FALSE),\"\")","v":""}]
[null,{"$f":"IFERROR(VLOOKUP(A128,'1.Портфель кредитів'!A:Z,3,FALSE),\"\")","v":""},{"$f":"IFERROR(VLOOKUP(A128,'1.Портфель кредитів'!A:Z,7,FALSE),\"\")","v":""},{"$f":"IFERROR(VLOOKUP(A128,'1.Портфель кредитів'!A:Z,14,FALSE),\"\")","v":""}]
[null,{"$f":"IFERROR(VLOOKUP(A129,'1.Портфель кредитів'!A:Z,3,FALSE),\"\")","v":""},{"$f":"IFERROR(VLOOKUP(A129,'1.Портфель кредитів'!A:Z,7,FALSE),\"\")","v":""},{"$f":"IFERROR(VLOOKUP(A129,'1.Портфель кредитів'!A:Z,14,FALSE),\"\")","v":""}]
[null,{"$f":"IFERROR(VLOOKUP(A130,'1.Портфель кредитів'!A:Z,3,FALSE),\"\")","v":""},{"$f":"IFERROR(VLOOKUP(A130,'1.Портфель кредитів'!A:Z,7,FALSE),\"\")","v":""},{"$f":"IFERROR(VLOOKUP(A130,'1.Портфель кредитів'!A:Z,14,FALSE),\"\")","v":""}]
[null,{"$f":"IFERROR(VLOOKUP(A131,'1.Портфель кредитів'!A:Z,3,FALSE),\"\")","v":""},{"$f":"IFERROR(VLOOKUP(A131,'1.Портфель кредитів'!A:Z,7,FALSE),\"\")","v":""},{"$f":"IFERROR(VLOOKUP(A131,'1.Портфель кредитів'!A:Z,14,FALSE),\"\")","v":""}]
[null,{"$f":"IFERROR(VLOOKUP(A132,'1.Портфель кредитів'!A:Z,3,FALSE),\"\")","v":""},{"$f":"IFERROR(VLOOKUP(A132,'1.Портфель кредитів'!A:Z,7,FALSE),\"\")","v":""},{"$f":"IFERROR(VLOOKUP(A132,'1.Портфель кредитів'!A:Z,14,FALSE),\"\")","v":""}]
[null,{"$f":"IFERROR(VLOOKUP(A133,'1.Портфель кредитів'!A:Z,3,FALSE),\"\")","v":""},{"$f":"IFERROR(VLOOKUP(A133,'1.Портфель кредитів'!A:Z,7,FALSE),\"\")","v":""},{"$f":"IFERROR(VLOOKUP(A133,'1.Портфель кредитів'!A:Z,14,FALSE),\"\")","v":""}]
[null,{"$f":"IFERROR(VLOOKUP(A134,'1.Портфель кредитів'!A:Z,3,FALSE),\"\")","v":""},{"$f":"IFERROR(VLOOKUP(A134,'1.Портфель кредитів'!A:Z,7,FALSE),\"\")","v":""},{"$f":"IFERROR(VLOOKUP(A134,'1.Портфель кредитів'!A:Z,14,FALSE),\"\")","v":""}]
[null,{"$f":"IFERROR(VLOOKUP(A135,'1.Портфель кредитів'!A:Z,3,FALSE),\"\")","v":""},{"$f":"IFERROR(VLOOKUP(A135,'1.Портфель кредитів'!A:Z,7,FALSE),\"\")","v":""},{"$f":"IFERROR(VLOOKUP(A135,'1.Портфель кредитів'!A:Z,14,FALSE),\"\")","v":""}]
[null,{"$f":"IFERROR(VLOOKUP(A136,'1.Портфель кредитів'!A:Z,3,FALSE),\"\")","v":""},{"$f":"IFERROR(VLOOKUP(A136,'1.Портфель кредитів'!A:Z,7,FALSE),\"\")","v":""},{"$f":"IFERROR(VLOOKUP(A136,'1.Портфель кредитів'!A:Z,14,FALSE),\"\")","v":""}]
[null,{"$f":"IFERROR(VLOOKUP(A137,'1.Портфель кредитів'!A:Z,3,FALSE),\"\")","v":""},{"$f":"IFERROR(VLOOKUP(A137,'1.Портфель кредитів'!A:Z,7,FALSE),\"\")","v":""},{"$f":"IFERROR(VLOOKUP(A137,'1.Портфель кредитів'!A:Z,14,FALSE),\"\")","v":""}]
[null,{"$f":"IFERROR(VLOOKUP(A138,'1.Портфель кредитів'!A:Z,3,FALSE),\"\")","v":""},{"$f":"IFERROR(VLOOKUP(A138,'1.Портфель кредитів'!A:Z,7,FALSE),\"\")","v":""},{"$f":"IFERROR(VLOOKUP(A138,'1.Портфель кредитів'!A:Z,14,FALSE),\"\")","v":""}]
[null,{"$f":"IFERROR(VLOOKUP(A139,'1.Портфель кредитів'!A:Z,3,FALSE),\"\")","v":""},{"$f":"IFERROR(VLOOKUP(A139,'1.Портфель кредитів'!A:Z,7,FALSE),\"\")","v":""},{"$f":"IFERROR(VLOOKUP(A139,'1.Портфель кредитів'!A:Z,14,FALSE),\"\")","v":""}]
[null,{"$f":"IFERROR(VLOOKUP(A140,'1.Портфель кредитів'!A:Z,3,FALSE),\"\")","v":""},{"$f":"IFERROR(VLOOKUP(A140,'1.Портфель кредитів'!A:Z,7,FALSE),\"\")","v":""},{"$f":"IFERROR(VLOOKUP(A140,'1.Портфель кредитів'!A:Z,14,FALSE),\"\")","v":""}]
[null,{"$f":"IFERROR(VLOOKUP(A141,'1.Портфель кредитів'!A:Z,3,FALSE),\"\")","v":""},{"$f":"IFERROR(VLOOKUP(A141,'1.Портфель кредитів'!A:Z,7,FALSE),\"\")","v":""},{"$f":"IFERROR(VLOOKUP(A141,'1.Портфель кредитів'!A:Z,14,FALSE),\"\")","v":""}]
[null,{"$f":"IFERROR(VLOOKUP(A142,'1.Портфель кредитів'!A:Z,3,FALSE),\"\")","v":""},{"$f":"IFERROR(VLOOKUP(A142,'1.Портфель кредитів'!A:Z,7,FALSE),\"\")","v":""},{"$f":"IFERROR(VLOOKUP(A142,'1.Портфель кредитів'!A:Z,14,FALSE),\"\")","v":""}]
[null,{"$f":"IFERROR(VLOOKUP(A143,'1.Портфель кредитів'!A:Z,3,FALSE),\"\")","v":""},{"$f":"IFERROR(VLOOKUP(A143,'1.Портфель кредитів'!A:Z,7,FALSE),\"\")","v":""},{"$f":"IFERROR(VLOOKUP(A143,'1.Портфель кредитів'!A:Z,14,FALSE),\"\")","v":""}]
[null,{"$f":"IFERROR(VLOOKUP(A144,'1.Портфель кредитів'!A:Z,3,FALSE),\"\")","v":""},{"$f":"IFERROR(VLOOKUP(A144,'1.Портфель кредитів'!A:Z,7,FALSE),\"\")","v":""},{"$f":"IFERROR(VLOOKUP(A144,'1.Портфель кредитів'!A:Z,14,FALSE),\"\")","v":""}]
[null,{"$f":"IFERROR(VLOOKUP(A145,'1.Портфель кредитів'!A:Z,3,FALSE),\"\")","v":""},{"$f":"IFERROR(VLOOKUP(A145,'1.Портфель кредитів'!A:Z,7,FALSE),\"\")","v":""},{"$f":"IFERROR(VLOOKUP(A145,'1.Портфель кредитів'!A:Z,14,FALSE),\"\")","v":""}]
[null,{"$f":"IFERROR(VLOOKUP(A146,'1.Портфель кредитів'!A:Z,3,FALSE),\"\")","v":""},{"$f":"IFERROR(VLOOKUP(A146,'1.Портфель кредитів'!A:Z,7,FALSE),\"\")","v":""},{"$f":"IFERROR(VLOOKUP(A146,'1.Портфель кредитів'!A:Z,14,FALSE),\"\")","v":""}]
[null,{"$f":"IFERROR(VLOOKUP(A147,'1.Портфель кредитів'!A:Z,3,FALSE),\"\")","v":""},{"$f":"IFERROR(VLOOKUP(A147,'1.Портфель кредитів'!A:Z,7,FALSE),\"\")","v":""},{"$f":"IFERROR(VLOOKUP(A147,'1.Портфель кредитів'!A:Z,14,FALSE),\"\")","v":""}]
[null,{"$f":"IFERROR(VLOOKUP(A148,'1.Портфель кредитів'!A:Z,3,FALSE),\"\")","v":""},{"$f":"IFERROR(VLOOKUP(A148,'1.Портфель кредитів'!A:Z,7,FALSE),\"\")","v":""},{"$f":"IFERROR(VLOOKUP(A148,'1.Портфель кредитів'!A:Z,14,FALSE),\"\")","v":""}]
[null,{"$f":"IFERROR(VLOOKUP(A149,'1.Портфель кредитів'!A:Z,3,FALSE),\"\")","v":""},{"$f":"IFERROR(VLOOKUP(A149,'1.Портфель кредитів'!A:Z,7,FALSE),\"\")","v":""},{"$f":"IFERROR(VLOOKUP(A149,'1.Портфель кредитів'!A:Z,14,FALSE),\"\")","v":""}]
[null,{"$f":"IFERROR(VLOOKUP(A150,'1.Портфель кредитів'!A:Z,3,FALSE),\"\")","v":""},{"$f":"IFERROR(VLOOKUP(A150,'1.Портфель кредитів'!A:Z,7,FALSE),\"\")","v":""},{"$f":"IFERROR(VLOOKUP(A150,'1.Портфель кредитів'!A:Z,14,FALSE),\"\")","v":""}]
[null,{"$f":"IFERROR(VLOOKUP(A151,'1.Портфель кредитів'!A:Z,3,FALSE),\"\")","v":""},{"$f":"IFERROR(VLOOKUP(A151,'1.Портфель кредитів'!A:Z,7,FALSE),\"\")","v":""},{"$f":"IFERROR(VLOOKUP(A151,'1.Портфель кредитів'!A:Z,14,FALSE),\"\")","v":""}]
[null,{"$f":"IFERROR(VLOOKUP(A152,'1.Портфель кредитів'!A:Z,3,FALSE),\"\")","v":""},{"$f":"IFERROR(VLOOKUP(A152,'1.Портфель кредитів'!A:Z,7,FALSE),\"\")","v":""},{"$f":"IFERROR(VLOOKUP(A152,'1.Портфель кредитів'!A:Z,14,FALSE),\"\")","v":""}]
[null,{"$f":"IFERROR(VLOOKUP(A153,'1.Портфель кредитів'!A:Z,3,FALSE),\"\")","v":""},{"$f":"IFERROR(VLOOKUP(A153,'1.Портфель кредитів'!A:Z,7,FALSE),\"\")","v":""},{"$f":"IFERROR(VLOOKUP(A153,'1.Портфель кредитів'!A:Z,14,FALSE),\"\")","v":""}]
[null,{"$f":"IFERROR(VLOOKUP(A154,'1.Портфель кредитів'!A:Z,3,FALSE),\"\")","v":""},{"$f":"IFERROR(VLOOKUP(A154,'1.Портфель кредитів'!A:Z,7,FALSE),\"\")","v":""},{"$f":"IFERROR(VLOOKUP(A154,'1.Портфель кредитів'!A:Z,14,FALSE),\"\")","v":""}]
[null,{"$f":"IFERROR(VLOOKUP(A155,'1.Портфель кредитів'!A:Z,3,FALSE),\"\")","v":""},{"$f":"IFERROR(VLOOKUP(A155,'1.Портфель кредитів'!A:Z,7,FALSE),\"\")","v":""},{"$f":"IFERROR(VLOOKUP(A155,'1.Портфель кредитів'!A:Z,14,FALSE),\"\")","v":""}]
[null,{"$f":"IFERROR(VLOOKUP(A156,'1.Портфель кредитів'!A:Z,3,FALSE),\"\")","v":""},{"$f":"IFERROR(VLOOKUP(A156,'1.Портфель кредитів'!A:Z,7,FALSE),\"\")","v":""},{"$f":"IFERROR(VLOOKUP(A156,'1.Портфель кредитів'!A:Z,14,FALSE),\"\")","v":""}]
[null,{"$f":"IFERROR(VLOOKUP(A157,'1.Портфель кредитів'!A:Z,3,FALSE),\"\")","v":""},{"$f":"IFERROR(VLOOKUP(A157,'1.Портфель кредитів'!A:Z,7,FALSE),\"\")","v":""},{"$f":"IFERROR(VLOOKUP(A157,'1.Портфель кредитів'!A:Z,14,FALSE),\"\")","v":""}]
[null,{"$f":"IFERROR(VLOOKUP(A158,'1.Портфель кредитів'!A:Z,3,FALSE),\"\")","v":""},{"$f":"IFERROR(VLOOKUP(A158,'1.Портфель кредитів'!A:Z,7,FALSE),\"\")","v":""},{"$f":"IFERROR(VLOOKUP(A158,'1.Портфель кредитів'!A:Z,14,FALSE),\"\")","v":""}]
[null,{"$f":"IFERROR(VLOOKUP(A159,'1.Портфель кредитів'!A:Z,3,FALSE),\"\")","v":""},{"$f":"IFERROR(VLOOKUP(A159,'1.Портфель кредитів'!A:Z,7,FALSE),\"\")","v":""},{"$f":"IFERROR(VLOOKUP(A159,'1.Портфель кредитів'!A:Z,14,FALSE),\"\")","v":""}]
[null,{"$f":"IFERROR(VLOOKUP(A160,'1.Портфель кредитів'!A:Z,3,FALSE),\"\")","v":""},{"$f":"IFERROR(VLOOKUP(A160,'1.Портфель кредитів'!A:Z,7,FALSE),\"\")","v":""},{"$f":"IFERROR(VLOOKUP(A160,'1.Портфель кредитів'!A:Z,14,FALSE),\"\")","v":""}]
[null,{"$f":"IFERROR(VLOOKUP(A161,'1.Портфель кредитів'!A:Z,3,FALSE),\"\")","v":""},{"$f":"IFERROR(VLOOKUP(A161,'1.Портфель кредитів'!A:Z,7,FALSE),\"\")","v":""},{"$f":"IFERROR(VLOOKUP(A161,'1.Портфель кредитів'!A:Z,14,FALSE),\"\")","v":""}]
[null,{"$f":"IFERROR(VLOOKUP(A162,'1.Портфель кредитів'!A:Z,3,FALSE),\"\")","v":""},{"$f":"IFERROR(VLOOKUP(A162,'1.Портфель кредитів'!A:Z,7,FALSE),\"\")","v":""},{"$f":"IFERROR(VLOOKUP(A162,'1.Портфель кредитів'!A:Z,14,FALSE),\"\")","v":""}]
[null,{"$f":"IFERROR(VLOOKUP(A163,'1.Портфель кредитів'!A:Z,3,FALSE),\"\")","v":""},{"$f":"IFERROR(VLOOKUP(A163,'1.Портфель кредитів'!A:Z,7,FALSE),\"\")","v":""},{"$f":"IFERROR(VLOOKUP(A163,'1.Портфель кредитів'!A:Z,14,FALSE),\"\")","v":""}]
[null,{"$f":"IFERROR(VLOOKUP(A164,'1.Портфель кредитів'!A:Z,3,FALSE),\"\")","v":""},{"$f":"IFERROR(VLOOKUP(A164,'1.Портфель кредитів'!A:Z,7,FALSE),\"\")","v":""},{"$f":"IFERROR(VLOOKUP(A164,'1.Портфель кредитів'!A:Z,14,FALSE),\"\")","v":""}]
[null,{"$f":"IFERROR(VLOOKUP(A165,'1.Портфель кредитів'!A:Z,3,FALSE),\"\")","v":""},{"$f":"IFERROR(VLOOKUP(A165,'1.Портфель кредитів'!A:Z,7,FALSE),\"\")","v":""},{"$f":"IFERROR(VLOOKUP(A165,'1.Портфель кредитів'!A:Z,14,FALSE),\"\")","v":""}]
[null,{"$f":"IFERROR(VLOOKUP(A166,'1.Портфель кредитів'!A:Z,3,FALSE),\"\")","v":""},{"$f":"IFERROR(VLOOKUP(A166,'1.Портфель кредитів'!A:Z,7,FALSE),\"\")","v":""},{"$f":"IFERROR(VLOOKUP(A166,'1.Портфель кредитів'!A:Z,14,FALSE),\"\")","v":""}]
[null,{"$f":"IFERROR(VLOOKUP(A167,'1.Портфель кредитів'!A:Z,3,FALSE),\"\")","v":""},{"$f":"IFERROR(VLOOKUP(A167,'1.Портфель кредитів'!A:Z,7,FALSE),\"\")","v":""},{"$f":"IFERROR(VLOOKUP(A167,'1.Портфель кредитів'!A:Z,14,FALSE),\"\")","v":""}]
[null,{"$f":"IFERROR(VLOOKUP(A168,'1.Портфель кредитів'!A:Z,3,FALSE),\"\")","v":""},{"$f":"IFERROR(VLOOKUP(A168,'1.Портфель кредитів'!A:Z,7,FALSE),\"\")","v":""},{"$f":"IFERROR(VLOOKUP(A168,'1.Портфель кредитів'!A:Z,14,FALSE),\"\")","v":""}]
[null,{"$f":"IFERROR(VLOOKUP(A169,'1.Портфель кредитів'!A:Z,3,FALSE),\"\")","v":""},{"$f":"IFERROR(VLOOKUP(A169,'1.Портфель кредитів'!A:Z,7,FALSE),\"\")","v":""},{"$f":"IFERROR(VLOOKUP(A169,'1.Портфель кредитів'!A:Z,14,FALSE),\"\")","v":""}]
[null,{"$f":"IFERROR(VLOOKUP(A170,'1.Портфель кредитів'!A:Z,3,FALSE),\"\")","v":""},{"$f":"IFERROR(VLOOKUP(A170,'1.Портфель кредитів'!A:Z,7,FALSE),\"\")","v":""},{"$f":"IFERROR(VLOOKUP(A170,'1.Портфель кредитів'!A:Z,14,FALSE),\"\")","v":""}]
[null,{"$f":"IFERROR(VLOOKUP(A171,'1.Портфель кредитів'!A:Z,3,FALSE),\"\")","v":""},{"$f":"IFERROR(VLOOKUP(A171,'1.Портфель кредитів'!A:Z,7,FALSE),\"\")","v":""},{"$f":"IFERROR(VLOOKUP(A171,'1.Портфель кредитів'!A:Z,14,FALSE),\"\")","v":""}]
[null,{"$f":"IFERROR(VLOOKUP(A172,'1.Портфель кредитів'!A:Z,3,FALSE),\"\")","v":""},{"$f":"IFERROR(VLOOKUP(A172,'1.Портфель кредитів'!A:Z,7,FALSE),\"\")","v":""},{"$f":"IFERROR(VLOOKUP(A172,'1.Портфель кредитів'!A:Z,14,FALSE),\"\")","v":""}]
[null,{"$f":"IFERROR(VLOOKUP(A173,'1.Портфель кредитів'!A:Z,3,FALSE),\"\")","v":""},{"$f":"IFERROR(VLOOKUP(A173,'1.Портфель кредитів'!A:Z,7,FALSE),\"\")","v":""},{"$f":"IFERROR(VLOOKUP(A173,'1.Портфель кредитів'!A:Z,14,FALSE),\"\")","v":""}]
[null,{"$f":"IFERROR(VLOOKUP(A174,'1.Портфель кредитів'!A:Z,3,FALSE),\"\")","v":""},{"$f":"IFERROR(VLOOKUP(A174,'1.Портфель кредитів'!A:Z,7,FALSE),\"\")","v":""},{"$f":"IFERROR(VLOOKUP(A174,'1.Портфель кредитів'!A:Z,14,FALSE),\"\")","v":""}]
[null,{"$f":"IFERROR(VLOOKUP(A175,'1.Портфель кредитів'!A:Z,3,FALSE),\"\")","v":""},{"$f":"IFERROR(VLOOKUP(A175,'1.Портфель кредитів'!A:Z,7,FALSE),\"\")","v":""},{"$f":"IFERROR(VLOOKUP(A175,'1.Портфель кредитів'!A:Z,14,FALSE),\"\")","v":""}]
[null,{"$f":"IFERROR(VLOOKUP(A176,'1.Портфель кредитів'!A:Z,3,FALSE),\"\")","v":""},{"$f":"IFERROR(VLOOKUP(A176,'1.Портфель кредитів'!A:Z,7,FALSE),\"\")","v":""},{"$f":"IFERROR(VLOOKUP(A176,'1.Портфель кредитів'!A:Z,14,FALSE),\"\")","v":""}]
[null,{"$f":"IFERROR(VLOOKUP(A177,'1.Портфель кредитів'!A:Z,3,FALSE),\"\")","v":""},{"$f":"IFERROR(VLOOKUP(A177,'1.Портфель кредитів'!A:Z,7,FALSE),\"\")","v":""},{"$f":"IFERROR(VLOOKUP(A177,'1.Портфель кредитів'!A:Z,14,FALSE),\"\")","v":""}]
[null,{"$f":"IFERROR(VLOOKUP(A178,'1.Портфель кредитів'!A:Z,3,FALSE),\"\")","v":""},{"$f":"IFERROR(VLOOKUP(A178,'1.Портфель кредитів'!A:Z,7,FALSE),\"\")","v":""},{"$f":"IFERROR(VLOOKUP(A178,'1.Портфель кредитів'!A:Z,14,FALSE),\"\")","v":""}]
[null,{"$f":"IFERROR(VLOOKUP(A179,'1.Портфель кредитів'!A:Z,3,FALSE),\"\")","v":""},{"$f":"IFERROR(VLOOKUP(A179,'1.Портфель кредитів'!A:Z,7,FALSE),\"\")","v":""},{"$f":"IFERROR(VLOOKUP(A179,'1.Портфель кредитів'!A:Z,14,FALSE),\"\")","v":""}]
[null,{"$f":"IFERROR(VLOOKUP(A180,'1.Портфель кредитів'!A:Z,3,FALSE),\"\")","v":""},{"$f":"IFERROR(VLOOKUP(A180,'1.Портфель кредитів'!A:Z,7,FALSE),\"\")","v":""},{"$f":"IFERROR(VLOOKUP(A180,'1.Портфель кредитів'!A:Z,14,FALSE),\"\")","v":""}]
[null,{"$f":"IFERROR(VLOOKUP(A181,'1.Портфель кредитів'!A:Z,3,FALSE),\"\")","v":""},{"$f":"IFERROR(VLOOKUP(A181,'1.Портфель кредитів'!A:Z,7,FALSE),\"\")","v":""},{"$f":"IFERROR(VLOOKUP(A181,'1.Портфель кредитів'!A:Z,14,FALSE),\"\")","v":""}]
[null,{"$f":"IFERROR(VLOOKUP(A182,'1.Портфель кредитів'!A:Z,3,FALSE),\"\")","v":""},{"$f":"IFERROR(VLOOKUP(A182,'1.Портфель кредитів'!A:Z,7,FALSE),\"\")","v":""},{"$f":"IFERROR(VLOOKUP(A182,'1.Портфель кредитів'!A:Z,14,FALSE),\"\")","v":""}]
[null,{"$f":"IFERROR(VLOOKUP(A183,'1.Портфель кредитів'!A:Z,3,FALSE),\"\")","v":""},{"$f":"IFERROR(VLOOKUP(A183,'1.Портфель кредитів'!A:Z,7,FALSE),\"\")","v":""},{"$f":"IFERROR(VLOOKUP(A183,'1.Портфель кредитів'!A:Z,14,FALSE),\"\")","v":""}]
[null,{"$f":"IFERROR(VLOOKUP(A184,'1.Портфель кредитів'!A:Z,3,FALSE),\"\")","v":""},{"$f":"IFERROR(VLOOKUP(A184,'1.Портфель кредитів'!A:Z,7,FALSE),\"\")","v":""},{"$f":"IFERROR(VLOOKUP(A184,'1.Портфель кредитів'!A:Z,14,FALSE),\"\")","v":""}]
[null,{"$f":"IFERROR(VLOOKUP(A185,'1.Портфель кредитів'!A:Z,3,FALSE),\"\")","v":""},{"$f":"IFERROR(VLOOKUP(A185,'1.Портфель кредитів'!A:Z,7,FALSE),\"\")","v":""},{"$f":"IFERROR(VLOOKUP(A185,'1.Портфель кредитів'!A:Z,14,FALSE),\"\")","v":""}]
[null,{"$f":"IFERROR(VLOOKUP(A186,'1.Портфель кредитів'!A:Z,3,FALSE),\"\")","v":""},{"$f":"IFERROR(VLOOKUP(A186,'1.Портфель кредитів'!A:Z,7,FALSE),\"\")","v":""},{"$f":"IFERROR(VLOOKUP(A186,'1.Портфель кредитів'!A:Z,14,FALSE),\"\")","v":""}]
[null,{"$f":"IFERROR(VLOOKUP(A187,'1.Портфель кредитів'!A:Z,3,FALSE),\"\")","v":""},{"$f":"IFERROR(VLOOKUP(A187,'1.Портфель кредитів'!A:Z,7,FALSE),\"\")","v":""},{"$f":"IFERROR(VLOOKUP(A187,'1.Портфель кредитів'!A:Z,14,FALSE),\"\")","v":""}]
[null,{"$f":"IFERROR(VLOOKUP(A188,'1.Портфель кредитів'!A:Z,3,FALSE),\"\")","v":""},{"$f":"IFERROR(VLOOKUP(A188,'1.Портфель кредитів'!A:Z,7,FALSE),\"\")","v":""},{"$f":"IFERROR(VLOOKUP(A188,'1.Портфель кредитів'!A:Z,14,FALSE),\"\")","v":""}]
[null,{"$f":"IFERROR(VLOOKUP(A189,'1.Портфель кредитів'!A:Z,3,FALSE),\"\")","v":""},{"$f":"IFERROR(VLOOKUP(A189,'1.Портфель кредитів'!A:Z,7,FALSE),\"\")","v":""},{"$f":"IFERROR(VLOOKUP(A189,'1.Портфель кредитів'!A:Z,14,FALSE),\"\")","v":""}]
[null,{"$f":"IFERROR(VLOOKUP(A190,'1.Портфель кредитів'!A:Z,3,FALSE),\"\")","v":""},{"$f":"IFERROR(VLOOKUP(A190,'1.Портфель кредитів'!A:Z,7,FALSE),\"\")","v":""},{"$f":"IFERROR(VLOOKUP(A190,'1.Портфель кредитів'!A:Z,14,FALSE),\"\")","v":""}]
[null,{"$f":"IFERROR(VLOOKUP(A191,'1.Портфель кредитів'!A:Z,3,FALSE),\"\")","v":""},{"$f":"IFERROR(VLOOKUP(A191,'1.Портфель кредитів'!A:Z,7,FALSE),\"\")","v":""},{"$f":"IFERROR(VLOOKUP(A191,'1.Портфель кредитів'!A:Z,14,FALSE),\"\")","v":""}]
[null,{"$f":"IFERROR(VLOOKUP(A192,'1.Портфель кредитів'!A:Z,3,FALSE),\"\")","v":""},{"$f":"IFERROR(VLOOKUP(A192,'1.Портфель кредитів'!A:Z,7,FALSE),\"\")","v":""},{"$f":"IFERROR(VLOOKUP(A192,'1.Портфель кредитів'!A:Z,14,FALSE),\"\")","v":""}]
[null,{"$f":"IFERROR(VLOOKUP(A193,'1.Портфель кредитів'!A:Z,3,FALSE),\"\")","v":""},{"$f":"IFERROR(VLOOKUP(A193,'1.Портфель кредитів'!A:Z,7,FALSE),\"\")","v":""},{"$f":"IFERROR(VLOOKUP(A193,'1.Портфель кредитів'!A:Z,14,FALSE),\"\")","v":""}]
[null,{"$f":"IFERROR(VLOOKUP(A194,'1.Портфель кредитів'!A:Z,3,FALSE),\"\")","v":""},{"$f":"IFERROR(VLOOKUP(A194,'1.Портфель кредитів'!A:Z,7,FALSE),\"\")","v":""},{"$f":"IFERROR(VLOOKUP(A194,'1.Портфель кредитів'!A:Z,14,FALSE),\"\")","v":""}]
[null,{"$f":"IFERROR(VLOOKUP(A195,'1.Портфель кредитів'!A:Z,3,FALSE),\"\")","v":""},{"$f":"IFERROR(VLOOKUP(A195,'1.Портфель кредитів'!A:Z,7,FALSE),\"\")","v":""},{"$f":"IFERROR(VLOOKUP(A195,'1.Портфель кредитів'!A:Z,14,FALSE),\"\")","v":""}]
[null,{"$f":"IFERROR(VLOOKUP(A196,'1.Портфель кредитів'!A:Z,3,FALSE),\"\")","v":""},{"$f":"IFERROR(VLOOKUP(A196,'1.Портфель кредитів'!A:Z,7,FALSE),\"\")","v":""},{"$f":"IFERROR(VLOOKUP(A196,'1.Портфель кредитів'!A:Z,14,FALSE),\"\")","v":""}]
[null,{"$f":"IFERROR(VLOOKUP(A197,'1.Портфель кредитів'!A:Z,3,FALSE),\"\")","v":""},{"$f":"IFERROR(VLOOKUP(A197,'1.Портфель кредитів'!A:Z,7,FALSE),\"\")","v":""},{"$f":"IFERROR(VLOOKUP(A197,'1.Портфель кредитів'!A:Z,14,FALSE),\"\")","v":""}]
[null,{"$f":"IFERROR(VLOOKUP(A198,'1.Портфель кредитів'!A:Z,3,FALSE),\"\")","v":""},{"$f":"IFERROR(VLOOKUP(A198,'1.Портфель кредитів'!A:Z,7,FALSE),\"\")","v":""},{"$f":"IFERROR(VLOOKUP(A198,'1.Портфель кредитів'!A:Z,14,FALSE),\"\")","v":""}]
[null,{"$f":"IFERROR(VLOOKUP(A199,'1.Портфель кредитів'!A:Z,3,FALSE),\"\")","v":""},{"$f":"IFERROR(VLOOKUP(A199,'1.Портфель кредитів'!A:Z,7,FALSE),\"\")","v":""},{"$f":"IFERROR(VLOOKUP(A199,'1.Портфель кредитів'!A:Z,14,FALSE),\"\")","v":""}]
[null,{"$f":"IFERROR(VLOOKUP(A200,'1.Портфель кредитів'!A:Z,3,FALSE),\"\")","v":""},{"$f":"IFERROR(VLOOKUP(A200,'1.Портфель кредитів'!A:Z,7,FALSE),\"\")","v":""},{"$f":"IFERROR(VLOOKUP(A200,'1.Портфель кредитів'!A:Z,14,FALSE),\"\")","v":""}]
[null,{"$f":"IFERROR(VLOOKUP(A201,'1.Портфель кредитів'!A:Z,3,FALSE),\"\")","v":""},{"$f":"IFERROR(VLOOKUP(A201,'1.Портфель кредитів'!A:Z,7,FALSE),\"\")","v":""},{"$f":"IFERROR(VLOOKUP(A201,'1.Портфель кредитів'!A:Z,14,FALSE),\"\")","v":""}]
[null,{"$f":"IFERROR(VLOOKUP(A202,'1.Портфель кредитів'!A:Z,3,FALSE),\"\")","v":""},{"$f":"IFERROR(VLOOKUP(A202,'1.Портфель кредитів'!A:Z,7,FALSE),\"\")","v":""},{"$f":"IFERROR(VLOOKUP(A202,'1.Портфель кредитів'!A:Z,14,FALSE),\"\")","v":""}]
[null,{"$f":"IFERROR(VLOOKUP(A203,'1.Портфель кредитів'!A:Z,3,FALSE),\"\")","v":""},{"$f":"IFERROR(VLOOKUP(A203,'1.Портфель кредитів'!A:Z,7,FALSE),\"\")","v":""},{"$f":"IFERROR(VLOOKUP(A203,'1.Портфель кредитів'!A:Z,14,FALSE),\"\")","v":""}]
[null,{"$f":"IFERROR(VLOOKUP(A204,'1.Портфель кредитів'!A:Z,3,FALSE),\"\")","v":""},{"$f":"IFERROR(VLOOKUP(A204,'1.Портфель кредитів'!A:Z,7,FALSE),\"\")","v":""},{"$f":"IFERROR(VLOOKUP(A204,'1.Портфель кредитів'!A:Z,14,FALSE),\"\")","v":""}]
[null,{"$f":"IFERROR(VLOOKUP(A205,'1.Портфель кредитів'!A:Z,3,FALSE),\"\")","v":""},{"$f":"IFERROR(VLOOKUP(A205,'1.Портфель кредитів'!A:Z,7,FALSE),\"\")","v":""},{"$f":"IFERROR(VLOOKUP(A205,'1.Портфель кредитів'!A:Z,14,FALSE),\"\")","v":""}]
[null,{"$f":"IFERROR(VLOOKUP(A206,'1.Портфель кредитів'!A:Z,3,FALSE),\"\")","v":""},{"$f":"IFERROR(VLOOKUP(A206,'1.Портфель кредитів'!A:Z,7,FALSE),\"\")","v":""},{"$f":"IFERROR(VLOOKUP(A206,'1.Портфель кредитів'!A:Z,14,FALSE),\"\")","v":""}]
[null,{"$f":"IFERROR(VLOOKUP(A207,'1.Портфель кредитів'!A:Z,3,FALSE),\"\")","v":""},{"$f":"IFERROR(VLOOKUP(A207,'1.Портфель кредитів'!A:Z,7,FALSE),\"\")","v":""},{"$f":"IFERROR(VLOOKUP(A207,'1.Портфель кредитів'!A:Z,14,FALSE),\"\")","v":""}]
[null,{"$f":"IFERROR(VLOOKUP(A208,'1.Портфель кредитів'!A:Z,3,FALSE),\"\")","v":""},{"$f":"IFERROR(VLOOKUP(A208,'1.Портфель кредитів'!A:Z,7,FALSE),\"\")","v":""},{"$f":"IFERROR(VLOOKUP(A208,'1.Портфель кредитів'!A:Z,14,FALSE),\"\")","v":""}]
[null,{"$f":"IFERROR(VLOOKUP(A209,'1.Портфель кредитів'!A:Z,3,FALSE),\"\")","v":""},{"$f":"IFERROR(VLOOKUP(A209,'1.Портфель кредитів'!A:Z,7,FALSE),\"\")","v":""},{"$f":"IFERROR(VLOOKUP(A209,'1.Портфель кредитів'!A:Z,14,FALSE),\"\")","v":""}]
[null,{"$f":"IFERROR(VLOOKUP(A210,'1.Портфель кредитів'!A:Z,3,FALSE),\"\")","v":""},{"$f":"IFERROR(VLOOKUP(A210,'1.Портфель кредитів'!A:Z,7,FALSE),\"\")","v":""},{"$f":"IFERROR(VLOOKUP(A210,'1.Портфель кредитів'!A:Z,14,FALSE),\"\")","v":""}]
[null,{"$f":"IFERROR(VLOOKUP(A211,'1.Портфель кредитів'!A:Z,3,FALSE),\"\")","v":""},{"$f":"IFERROR(VLOOKUP(A211,'1.Портфель кредитів'!A:Z,7,FALSE),\"\")","v":""},{"$f":"IFERROR(VLOOKUP(A211,'1.Портфель кредитів'!A:Z,14,FALSE),\"\")","v":""}]
[null,{"$f":"IFERROR(VLOOKUP(A212,'1.Портфель кредитів'!A:Z,3,FALSE),\"\")","v":""},{"$f":"IFERROR(VLOOKUP(A212,'1.Портфель кредитів'!A:Z,7,FALSE),\"\")","v":""},{"$f":"IFERROR(VLOOKUP(A212,'1.Портфель кредитів'!A:Z,14,FALSE),\"\")","v":""}]
[null,{"$f":"IFERROR(VLOOKUP(A213,'1.Портфель кредитів'!A:Z,3,FALSE),\"\")","v":""},{"$f":"IFERROR(VLOOKUP(A213,'1.Портфель кредитів'!A:Z,7,FALSE),\"\")","v":""},{"$f":"IFERROR(VLOOKUP(A213,'1.Портфель кредитів'!A:Z,14,FALSE),\"\")","v":""}]
[null,{"$f":"IFERROR(VLOOKUP(A214,'1.Портфель кредитів'!A:Z,3,FALSE),\"\")","v":""},{"$f":"IFERROR(VLOOKUP(A214,'1.Портфель кредитів'!A:Z,7,FALSE),\"\")","v":""},{"$f":"IFERROR(VLOOKUP(A214,'1.Портфель кредитів'!A:Z,14,FALSE),\"\")","v":""}]
[null,{"$f":"IFERROR(VLOOKUP(A215,'1.Портфель кредитів'!A:Z,3,FALSE),\"\")","v":""},{"$f":"IFERROR(VLOOKUP(A215,'1.Портфель кредитів'!A:Z,7,FALSE),\"\")","v":""},{"$f":"IFERROR(VLOOKUP(A215,'1.Портфель кредитів'!A:Z,14,FALSE),\"\")","v":""}]
[null,{"$f":"IFERROR(VLOOKUP(A216,'1.Портфель кредитів'!A:Z,3,FALSE),\"\")","v":""},{"$f":"IFERROR(VLOOKUP(A216,'1.Портфель кредитів'!A:Z,7,FALSE),\"\")","v":""},{"$f":"IFERROR(VLOOKUP(A216,'1.Портфель кредитів'!A:Z,14,FALSE),\"\")","v":""}]
[null,{"$f":"IFERROR(VLOOKUP(A217,'1.Портфель кредитів'!A:Z,3,FALSE),\"\")","v":""},{"$f":"IFERROR(VLOOKUP(A217,'1.Портфель кредитів'!A:Z,7,FALSE),\"\")","v":""},{"$f":"IFERROR(VLOOKUP(A217,'1.Портфель кредитів'!A:Z,14,FALSE),\"\")","v":""}]
[null,{"$f":"IFERROR(VLOOKUP(A218,'1.Портфель кредитів'!A:Z,3,FALSE),\"\")","v":""},{"$f":"IFERROR(VLOOKUP(A218,'1.Портфель кредитів'!A:Z,7,FALSE),\"\")","v":""},{"$f":"IFERROR(VLOOKUP(A218,'1.Портфель кредитів'!A:Z,14,FALSE),\"\")","v":""}]
[null,{"$f":"IFERROR(VLOOKUP(A219,'1.Портфель кредитів'!A:Z,3,FALSE),\"\")","v":""},{"$f":"IFERROR(VLOOKUP(A219,'1.Портфель кредитів'!A:Z,7,FALSE),\"\")","v":""},{"$f":"IFERROR(VLOOKUP(A219,'1.Портфель кредитів'!A:Z,14,FALSE),\"\")","v":""}]
[null,{"$f":"IFERROR(VLOOKUP(A220,'1.Портфель кредитів'!A:Z,3,FALSE),\"\")","v":""},{"$f":"IFERROR(VLOOKUP(A220,'1.Портфель кредитів'!A:Z,7,FALSE),\"\")","v":""},{"$f":"IFERROR(VLOOKUP(A220,'1.Портфель кредитів'!A:Z,14,FALSE),\"\")","v":""}]
[null,{"$f":"IFERROR(VLOOKUP(A221,'1.Портфель кредитів'!A:Z,3,FALSE),\"\")","v":""},{"$f":"IFERROR(VLOOKUP(A221,'1.Портфель кредитів'!A:Z,7,FALSE),\"\")","v":""},{"$f":"IFERROR(VLOOKUP(A221,'1.Портфель кредитів'!A:Z,14,FALSE),\"\")","v":""}]
[null,{"$f":"IFERROR(VLOOKUP(A222,'1.Портфель кредитів'!A:Z,3,FALSE),\"\")","v":""},{"$f":"IFERROR(VLOOKUP(A222,'1.Портфель кредитів'!A:Z,7,FALSE),\"\")","v":""},{"$f":"IFERROR(VLOOKUP(A222,'1.Портфель кредитів'!A:Z,14,FALSE),\"\")","v":""}]
[null,{"$f":"IFERROR(VLOOKUP(A223,'1.Портфель кредитів'!A:Z,3,FALSE),\"\")","v":""},{"$f":"IFERROR(VLOOKUP(A223,'1.Портфель кредитів'!A:Z,7,FALSE),\"\")","v":""},{"$f":"IFERROR(VLOOKUP(A223,'1.Портфель кредитів'!A:Z,14,FALSE),\"\")","v":""}]
[null,{"$f":"IFERROR(VLOOKUP(A224,'1.Портфель кредитів'!A:Z,3,FALSE),\"\")","v":""},{"$f":"IFERROR(VLOOKUP(A224,'1.Портфель кредитів'!A:Z,7,FALSE),\"\")","v":""},{"$f":"IFERROR(VLOOKUP(A224,'1.Портфель кредитів'!A:Z,14,FALSE),\"\")","v":""}]
[null,{"$f":"IFERROR(VLOOKUP(A225,'1.Портфель кредитів'!A:Z,3,FALSE),\"\")","v":""},{"$f":"IFERROR(VLOOKUP(A225,'1.Портфель кредитів'!A:Z,7,FALSE),\"\")","v":""},{"$f":"IFERROR(VLOOKUP(A225,'1.Портфель кредитів'!A:Z,14,FALSE),\"\")","v":""}]
[null,{"$f":"IFERROR(VLOOKUP(A226,'1.Портфель кредитів'!A:Z,3,FALSE),\"\")","v":""},{"$f":"IFERROR(VLOOKUP(A226,'1.Портфель кредитів'!A:Z,7,FALSE),\"\")","v":""},{"$f":"IFERROR(VLOOKUP(A226,'1.Портфель кредитів'!A:Z,14,FALSE),\"\")","v":""}]
[null,{"$f":"IFERROR(VLOOKUP(A227,'1.Портфель кредитів'!A:Z,3,FALSE),\"\")","v":""},{"$f":"IFERROR(VLOOKUP(A227,'1.Портфель кредитів'!A:Z,7,FALSE),\"\")","v":""},{"$f":"IFERROR(VLOOKUP(A227,'1.Портфель кредитів'!A:Z,14,FALSE),\"\")","v":""}]
[null,{"$f":"IFERROR(VLOOKUP(A228,'1.Портфель кредитів'!A:Z,3,FALSE),\"\")","v":""},{"$f":"IFERROR(VLOOKUP(A228,'1.Портфель кредитів'!A:Z,7,FALSE),\"\")","v":""},{"$f":"IFERROR(VLOOKUP(A228,'1.Портфель кредитів'!A:Z,14,FALSE),\"\")","v":""}]
[null,{"$f":"IFERROR(VLOOKUP(A229,'1.Портфель кредитів'!A:Z,3,FALSE),\"\")","v":""},{"$f":"IFERROR(VLOOKUP(A229,'1.Портфель кредитів'!A:Z,7,FALSE),\"\")","v":""},{"$f":"IFERROR(VLOOKUP(A229,'1.Портфель кредитів'!A:Z,14,FALSE),\"\")","v":""}]
[null,{"$f":"IFERROR(VLOOKUP(A230,'1.Портфель кредитів'!A:Z,3,FALSE),\"\")","v":""},{"$f":"IFERROR(VLOOKUP(A230,'1.Портфель кредитів'!A:Z,7,FALSE),\"\")","v":""},{"$f":"IFERROR(VLOOKUP(A230,'1.Портфель кредитів'!A:Z,14,FALSE),\"\")","v":""}]
[null,{"$f":"IFERROR(VLOOKUP(A231,'1.Портфель кредитів'!A:Z,3,FALSE),\"\")","v":""},{"$f":"IFERROR(VLOOKUP(A231,'1.Портфель кредитів'!A:Z,7,FALSE),\"\")","v":""},{"$f":"IFERROR(VLOOKUP(A231,'1.Портфель кредитів'!A:Z,14,FALSE),\"\")","v":""}]
[null,{"$f":"IFERROR(VLOOKUP(A232,'1.Портфель кредитів'!A:Z,3,FALSE),\"\")","v":""},{"$f":"IFERROR(VLOOKUP(A232,'1.Портфель кредитів'!A:Z,7,FALSE),\"\")","v":""},{"$f":"IFERROR(VLOOKUP(A232,'1.Портфель кредитів'!A:Z,14,FALSE),\"\")","v":""}]
[null,{"$f":"IFERROR(VLOOKUP(A233,'1.Портфель кредитів'!A:Z,3,FALSE),\"\")","v":""},{"$f":"IFERROR(VLOOKUP(A233,'1.Портфель кредитів'!A:Z,7,FALSE),\"\")","v":""},{"$f":"IFERROR(VLOOKUP(A233,'1.Портфель кредитів'!A:Z,14,FALSE),\"\")","v":""}]
[null,{"$f":"IFERROR(VLOOKUP(A234,'1.Портфель кредитів'!A:Z,3,FALSE),\"\")","v":""},{"$f":"IFERROR(VLOOKUP(A234,'1.Портфель кредитів'!A:Z,7,FALSE),\"\")","v":""},{"$f":"IFERROR(VLOOKUP(A234,'1.Портфель кредитів'!A:Z,14,FALSE),\"\")","v":""}]
[null,{"$f":"IFERROR(VLOOKUP(A235,'1.Портфель кредитів'!A:Z,3,FALSE),\"\")","v":""},{"$f":"IFERROR(VLOOKUP(A235,'1.Портфель кредитів'!A:Z,7,FALSE),\"\")","v":""},{"$f":"IFERROR(VLOOKUP(A235,'1.Портфель кредитів'!A:Z,14,FALSE),\"\")","v":""}]
[null,{"$f":"IFERROR(VLOOKUP(A236,'1.Портфель кредитів'!A:Z,3,FALSE),\"\")","v":""},{"$f":"IFERROR(VLOOKUP(A236,'1.Портфель кредитів'!A:Z,7,FALSE),\"\")","v":""},{"$f":"IFERROR(VLOOKUP(A236,'1.Портфель кредитів'!A:Z,14,FALSE),\"\")","v":""}]
[null,{"$f":"IFERROR(VLOOKUP(A237,'1.Портфель кредитів'!A:Z,3,FALSE),\"\")","v":""},{"$f":"IFERROR(VLOOKUP(A237,'1.Портфель кредитів'!A:Z,7,FALSE),\"\")","v":""},{"$f":"IFERROR(VLOOKUP(A237,'1.Портфель кредитів'!A:Z,14,FALSE),\"\")","v":""}]
[null,{"$f":"IFERROR(VLOOKUP(A238,'1.Портфель кредитів'!A:Z,3,FALSE),\"\")","v":""},{"$f":"IFERROR(VLOOKUP(A238,'1.Портфель кредитів'!A:Z,7,FALSE),\"\")","v":""},{"$f":"IFERROR(VLOOKUP(A238,'1.Портфель кредитів'!A:Z,14,FALSE),\"\")","v":""}]
[null,{"$f":"IFERROR(VLOOKUP(A239,'1.Портфель кредитів'!A:Z,3,FALSE),\"\")","v":""},{"$f":"IFERROR(VLOOKUP(A239,'1.Портфель кредитів'!A:Z,7,FALSE),\"\")","v":""},{"$f":"IFERROR(VLOOKUP(A239,'1.Портфель кредитів'!A:Z,14,FALSE),\"\")","v":""}]
[null,{"$f":"IFERROR(VLOOKUP(A240,'1.Портфель кредитів'!A:Z,3,FALSE),\"\")","v":""},{"$f":"IFERROR(VLOOKUP(A240,'1.Портфель кредитів'!A:Z,7,FALSE),\"\")","v":""},{"$f":"IFERROR(VLOOKUP(A240,'1.Портфель кредитів'!A:Z,14,FALSE),\"\")","v":""}]
[null,{"$f":"IFERROR(VLOOKUP(A241,'1.Портфель кредитів'!A:Z,3,FALSE),\"\")","v":""},{"$f":"IFERROR(VLOOKUP(A241,'1.Портфель кредитів'!A:Z,7,FALSE),\"\")","v":""},{"$f":"IFERROR(VLOOKUP(A241,'1.Портфель кредитів'!A:Z,14,FALSE),\"\")","v":""}]
[null,{"$f":"IFERROR(VLOOKUP(A242,'1.Портфель кредитів'!A:Z,3,FALSE),\"\")","v":""},{"$f":"IFERROR(VLOOKUP(A242,'1.Портфель кредитів'!A:Z,7,FALSE),\"\")","v":""},{"$f":"IFERROR(VLOOKUP(A242,'1.Портфель кредитів'!A:Z,14,FALSE),\"\")","v":""}]
[null,{"$f":"IFERROR(VLOOKUP(A243,'1.Портфель кредитів'!A:Z,3,FALSE),\"\")","v":""},{"$f":"IFERROR(VLOOKUP(A243,'1.Портфель кредитів'!A:Z,7,FALSE),\"\")","v":""},{"$f":"IFERROR(VLOOKUP(A243,'1.Портфель кредитів'!A:Z,14,FALSE),\"\")","v":""}]
[null,{"$f":"IFERROR(VLOOKUP(A244,'1.Портфель кредитів'!A:Z,3,FALSE),\"\")","v":""},{"$f":"IFERROR(VLOOKUP(A244,'1.Портфель кредитів'!A:Z,7,FALSE),\"\")","v":""},{"$f":"IFERROR(VLOOKUP(A244,'1.Портфель кредитів'!A:Z,14,FALSE),\"\")","v":""}]
[null,{"$f":"IFERROR(VLOOKUP(A245,'1.Портфель кредитів'!A:Z,3,FALSE),\"\")","v":""},{"$f":"IFERROR(VLOOKUP(A245,'1.Портфель кредитів'!A:Z,7,FALSE),\"\")","v":""},{"$f":"IFERROR(VLOOKUP(A245,'1.Портфель кредитів'!A:Z,14,FALSE),\"\")","v":""}]
[null,{"$f":"IFERROR(VLOOKUP(A246,'1.Портфель кредитів'!A:Z,3,FALSE),\"\")","v":""},{"$f":"IFERROR(VLOOKUP(A246,'1.Портфель кредитів'!A:Z,7,FALSE),\"\")","v":""},{"$f":"IFERROR(VLOOKUP(A246,'1.Портфель кредитів'!A:Z,14,FALSE),\"\")","v":""}]
[null,{"$f":"IFERROR(VLOOKUP(A247,'1.Портфель кредитів'!A:Z,3,FALSE),\"\")","v":""},{"$f":"IFERROR(VLOOKUP(A247,'1.Портфель кредитів'!A:Z,7,FALSE),\"\")","v":""},{"$f":"IFERROR(VLOOKUP(A247,'1.Портфель кредитів'!A:Z,14,FALSE),\"\")","v":""}]
[null,{"$f":"IFERROR(VLOOKUP(A248,'1.Портфель кредитів'!A:Z,3,FALSE),\"\")","v":""},{"$f":"IFERROR(VLOOKUP(A248,'1.Портфель кредитів'!A:Z,7,FALSE),\"\")","v":""},{"$f":"IFERROR(VLOOKUP(A248,'1.Портфель кредитів'!A:Z,14,FALSE),\"\")","v":""}]
[null,{"$f":"IFERROR(VLOOKUP(A249,'1.Портфель кредитів'!A:Z,3,FALSE),\"\")","v":""},{"$f":"IFERROR(VLOOKUP(A249,'1.Портфель кредитів'!A:Z,7,FALSE),\"\")","v":""},{"$f":"IFERROR(VLOOKUP(A249,'1.Портфель кредитів'!A:Z,14,FALSE),\"\")","v":""}]
[null,{"$f":"IFERROR(VLOOKUP(A250,'1.Портфель кредитів'!A:Z,3,FALSE),\"\")","v":""},{"$f":"IFERROR(VLOOKUP(A250,'1.Портфель кредитів'!A:Z,7,FALSE),\"\")","v":""},{"$f":"IFERROR(VLOOKUP(A250,'1.Портфель кредитів'!A:Z,14,FALSE),\"\")","v":""}]
[null,{"$f":"IFERROR(VLOOKUP(A251,'1.Портфель кредитів'!A:Z,3,FALSE),\"\")","v":""},{"$f":"IFERROR(VLOOKUP(A251,'1.Портфель кредитів'!A:Z,7,FALSE),\"\")","v":""},{"$f":"IFERROR(VLOOKUP(A251,'1.Портфель кредитів'!A:Z,14,FALSE),\"\")","v":""}]
[null,{"$f":"IFERROR(VLOOKUP(A252,'1.Портфель кредитів'!A:Z,3,FALSE),\"\")","v":""},{"$f":"IFERROR(VLOOKUP(A252,'1.Портфель кредитів'!A:Z,7,FALSE),\"\")","v":""},{"$f":"IFERROR(VLOOKUP(A252,'1.Портфель кредитів'!A:Z,14,FALSE),\"\")","v":""}]
[null,{"$f":"IFERROR(VLOOKUP(A253,'1.Портфель кредитів'!A:Z,3,FALSE),\"\")","v":""},{"$f":"IFERROR(VLOOKUP(A253,'1.Портфель кредитів'!A:Z,7,FALSE),\"\")","v":""},{"$f":"IFERROR(VLOOKUP(A253,'1.Портфель кредитів'!A:Z,14,FALSE),\"\")","v":""}]
[null,{"$f":"IFERROR(VLOOKUP(A254,'1.Портфель кредитів'!A:Z,3,FALSE),\"\")","v":""},{"$f":"IFERROR(VLOOKUP(A254,'1.Портфель кредитів'!A:Z,7,FALSE),\"\")","v":""},{"$f":"IFERROR(VLOOKUP(A254,'1.Портфель кредитів'!A:Z,14,FALSE),\"\")","v":""}]
[null,{"$f":"IFERROR(VLOOKUP(A255,'1.Портфель кредитів'!A:Z,3,FALSE),\"\")","v":""},{"$f":"IFERROR(VLOOKUP(A255,'1.Портфель кредитів'!A:Z,7,FALSE),\"\")","v":""},{"$f":"IFERROR(VLOOKUP(A255,'1.Портфель кредитів'!A:Z,14,FALSE),\"\")","v":""}]
[null,{"$f":"IFERROR(VLOOKUP(A256,'1.Портфель кредитів'!A:Z,3,FALSE),\"\")","v":""},{"$f":"IFERROR(VLOOKUP(A256,'1.Портфель кредитів'!A:Z,7,FALSE),\"\")","v":""},{"$f":"IFERROR(VLOOKUP(A256,'1.Портфель кредитів'!A:Z,14,FALSE),\"\")","v":""}]
[null,{"$f":"IFERROR(VLOOKUP(A257,'1.Портфель кредитів'!A:Z,3,FALSE),\"\")","v":""},{"$f":"IFERROR(VLOOKUP(A257,'1.Портфель кредитів'!A:Z,7,FALSE),\"\")","v":""},{"$f":"IFERROR(VLOOKUP(A257,'1.Портфель кредитів'!A:Z,14,FALSE),\"\")","v":""}]
[null,{"$f":"IFERROR(VLOOKUP(A258,'1.Портфель кредитів'!A:Z,3,FALSE),\"\")","v":""},{"$f":"IFERROR(VLOOKUP(A258,'1.Портфель кредитів'!A:Z,7,FALSE),\"\")","v":""},{"$f":"IFERROR(VLOOKUP(A258,'1.Портфель кредитів'!A:Z,14,FALSE),\"\")","v":""}]
[null,{"$f":"IFERROR(VLOOKUP(A259,'1.Портфель кредитів'!A:Z,3,FALSE),\"\")","v":""},{"$f":"IFERROR(VLOOKUP(A259,'1.Портфель кредитів'!A:Z,7,FALSE),\"\")","v":""},{"$f":"IFERROR(VLOOKUP(A259,'1.Портфель кредитів'!A:Z,14,FALSE),\"\")","v":""}]
[null,{"$f":"IFERROR(VLOOKUP(A260,'1.Портфель кредитів'!A:Z,3,FALSE),\"\")","v":""},{"$f":"IFERROR(VLOOKUP(A260,'1.Портфель кредитів'!A:Z,7,FALSE),\"\")","v":""},{"$f":"IFERROR(VLOOKUP(A260,'1.Портфель кредитів'!A:Z,14,FALSE),\"\")","v":""}]
[null,{"$f":"IFERROR(VLOOKUP(A261,'1.Портфель кредитів'!A:Z,3,FALSE),\"\")","v":""},{"$f":"IFERROR(VLOOKUP(A261,'1.Портфель кредитів'!A:Z,7,FALSE),\"\")","v":""},{"$f":"IFERROR(VLOOKUP(A261,'1.Портфель кредитів'!A:Z,14,FALSE),\"\")","v":""}]
[null,{"$f":"IFERROR(VLOOKUP(A262,'1.Портфель кредитів'!A:Z,3,FALSE),\"\")","v":""},{"$f":"IFERROR(VLOOKUP(A262,'1.Портфель кредитів'!A:Z,7,FALSE),\"\")","v":""},{"$f":"IFERROR(VLOOKUP(A262,'1.Портфель кредитів'!A:Z,14,FALSE),\"\")","v":""}]
[null,{"$f":"IFERROR(VLOOKUP(A263,'1.Портфель кредитів'!A:Z,3,FALSE),\"\")","v":""},{"$f":"IFERROR(VLOOKUP(A263,'1.Портфель кредитів'!A:Z,7,FALSE),\"\")","v":""},{"$f":"IFERROR(VLOOKUP(A263,'1.Портфель кредитів'!A:Z,14,FALSE),\"\")","v":""}]
[null,{"$f":"IFERROR(VLOOKUP(A264,'1.Портфель кредитів'!A:Z,3,FALSE),\"\")","v":""},{"$f":"IFERROR(VLOOKUP(A264,'1.Портфель кредитів'!A:Z,7,FALSE),\"\")","v":""},{"$f":"IFERROR(VLOOKUP(A264,'1.Портфель кредитів'!A:Z,14,FALSE),\"\")","v":""}]
[null,{"$f":"IFERROR(VLOOKUP(A265,'1.Портфель кредитів'!A:Z,3,FALSE),\"\")","v":""},{"$f":"IFERROR(VLOOKUP(A265,'1.Портфель кредитів'!A:Z,7,FALSE),\"\")","v":""},{"$f":"IFERROR(VLOOKUP(A265,'1.Портфель кредитів'!A:Z,14,FALSE),\"\")","v":""}]
[null,{"$f":"IFERROR(VLOOKUP(A266,'1.Портфель кредитів'!A:Z,3,FALSE),\"\")","v":""},{"$f":"IFERROR(VLOOKUP(A266,'1.Портфель кредитів'!A:Z,7,FALSE),\"\")","v":""},{"$f":"IFERROR(VLOOKUP(A266,'1.Портфель кредитів'!A:Z,14,FALSE),\"\")","v":""}]
[null,{"$f":"IFERROR(VLOOKUP(A267,'1.Портфель кредитів'!A:Z,3,FALSE),\"\")","v":""},{"$f":"IFERROR(VLOOKUP(A267,'1.Портфель кредитів'!A:Z,7,FALSE),\"\")","v":""},{"$f":"IFERROR(VLOOKUP(A267,'1.Портфель кредитів'!A:Z,14,FALSE),\"\")","v":""}]
[null,{"$f":"IFERROR(VLOOKUP(A268,'1.Портфель кредитів'!A:Z,3,FALSE),\"\")","v":""},{"$f":"IFERROR(VLOOKUP(A268,'1.Портфель кредитів'!A:Z,7,FALSE),\"\")","v":""},{"$f":"IFERROR(VLOOKUP(A268,'1.Портфель кредитів'!A:Z,14,FALSE),\"\")","v":""}]
[null,{"$f":"IFERROR(VLOOKUP(A269,'1.Портфель кредитів'!A:Z,3,FALSE),\"\")","v":""},{"$f":"IFERROR(VLOOKUP(A269,'1.Портфель кредитів'!A:Z,7,FALSE),\"\")","v":""},{"$f":"IFERROR(VLOOKUP(A269,'1.Портфель кредитів'!A:Z,14,FALSE),\"\")","v":""}]
[null,{"$f":"IFERROR(VLOOKUP(A270,'1.Портфель кредитів'!A:Z,3,FALSE),\"\")","v":""},{"$f":"IFERROR(VLOOKUP(A270,'1.Портфель кредитів'!A:Z,7,FALSE),\"\")","v":""},{"$f":"IFERROR(VLOOKUP(A270,'1.Портфель кредитів'!A:Z,14,FALSE),\"\")","v":""}]
[null,{"$f":"IFERROR(VLOOKUP(A271,'1.Портфель кредитів'!A:Z,3,FALSE),\"\")","v":""},{"$f":"IFERROR(VLOOKUP(A271,'1.Портфель кредитів'!A:Z,7,FALSE),\"\")","v":""},{"$f":"IFERROR(VLOOKUP(A271,'1.Портфель кредитів'!A:Z,14,FALSE),\"\")","v":""}]
[null,{"$f":"IFERROR(VLOOKUP(A272,'1.Портфель кредитів'!A:Z,3,FALSE),\"\")","v":""},{"$f":"IFERROR(VLOOKUP(A272,'1.Портфель кредитів'!A:Z,7,FALSE),\"\")","v":""},{"$f":"IFERROR(VLOOKUP(A272,'1.Портфель кредитів'!A:Z,14,FALSE),\"\")","v":""}]
[null,{"$f":"IFERROR(VLOOKUP(A273,'1.Портфель кредитів'!A:Z,3,FALSE),\"\")","v":""},{"$f":"IFERROR(VLOOKUP(A273,'1.Портфель кредитів'!A:Z,7,FALSE),\"\")","v":""},{"$f":"IFERROR(VLOOKUP(A273,'1.Портфель кредитів'!A:Z,14,FALSE),\"\")","v":""}]
[null,{"$f":"IFERROR(VLOOKUP(A274,'1.Портфель кредитів'!A:Z,3,FALSE),\"\")","v":""},{"$f":"IFERROR(VLOOKUP(A274,'1.Портфель кредитів'!A:Z,7,FALSE),\"\")","v":""},{"$f":"IFERROR(VLOOKUP(A274,'1.Портфель кредитів'!A:Z,14,FALSE),\"\")","v":""}]
[null,{"$f":"IFERROR(VLOOKUP(A275,'1.Портфель кредитів'!A:Z,3,FALSE),\"\")","v":""},{"$f":"IFERROR(VLOOKUP(A275,'1.Портфель кредитів'!A:Z,7,FALSE),\"\")","v":""},{"$f":"IFERROR(VLOOKUP(A275,'1.Портфель кредитів'!A:Z,14,FALSE),\"\")","v":""}]
[null,{"$f":"IFERROR(VLOOKUP(A276,'1.Портфель кредитів'!A:Z,3,FALSE),\"\")","v":""},{"$f":"IFERROR(VLOOKUP(A276,'1.Портфель кредитів'!A:Z,7,FALSE),\"\")","v":""},{"$f":"IFERROR(VLOOKUP(A276,'1.Портфель кредитів'!A:Z,14,FALSE),\"\")","v":""}]
[null,{"$f":"IFERROR(VLOOKUP(A277,'1.Портфель кредитів'!A:Z,3,FALSE),\"\")","v":""},{"$f":"IFERROR(VLOOKUP(A277,'1.Портфель кредитів'!A:Z,7,FALSE),\"\")","v":""},{"$f":"IFERROR(VLOOKUP(A277,'1.Портфель кредитів'!A:Z,14,FALSE),\"\")","v":""}]
[null,{"$f":"IFERROR(VLOOKUP(A278,'1.Портфель кредитів'!A:Z,3,FALSE),\"\")","v":""},{"$f":"IFERROR(VLOOKUP(A278,'1.Портфель кредитів'!A:Z,7,FALSE),\"\")","v":""},{"$f":"IFERROR(VLOOKUP(A278,'1.Портфель кредитів'!A:Z,14,FALSE),\"\")","v":""}]
[null,{"$f":"IFERROR(VLOOKUP(A279,'1.Портфель кредитів'!A:Z,3,FALSE),\"\")","v":""},{"$f":"IFERROR(VLOOKUP(A279,'1.Портфель кредитів'!A:Z,7,FALSE),\"\")","v":""},{"$f":"IFERROR(VLOOKUP(A279,'1.Портфель кредитів'!A:Z,14,FALSE),\"\")","v":""}]
[null,{"$f":"IFERROR(VLOOKUP(A280,'1.Портфель кредитів'!A:Z,3,FALSE),\"\")","v":""},{"$f":"IFERROR(VLOOKUP(A280,'1.Портфель кредитів'!A:Z,7,FALSE),\"\")","v":""},{"$f":"IFERROR(VLOOKUP(A280,'1.Портфель кредитів'!A:Z,14,FALSE),\"\")","v":""}]
[null,{"$f":"IFERROR(VLOOKUP(A281,'1.Портфель кредитів'!A:Z,3,FALSE),\"\")","v":""},{"$f":"IFERROR(VLOOKUP(A281,'1.Портфель кредитів'!A:Z,7,FALSE),\"\")","v":""},{"$f":"IFERROR(VLOOKUP(A281,'1.Портфель кредитів'!A:Z,14,FALSE),\"\")","v":""}]
[null,{"$f":"IFERROR(VLOOKUP(A282,'1.Портфель кредитів'!A:Z,3,FALSE),\"\")","v":""},{"$f":"IFERROR(VLOOKUP(A282,'1.Портфель кредитів'!A:Z,7,FALSE),\"\")","v":""},{"$f":"IFERROR(VLOOKUP(A282,'1.Портфель кредитів'!A:Z,14,FALSE),\"\")","v":""}]
[null,{"$f":"IFERROR(VLOOKUP(A283,'1.Портфель кредитів'!A:Z,3,FALSE),\"\")","v":""},{"$f":"IFERROR(VLOOKUP(A283,'1.Портфель кредитів'!A:Z,7,FALSE),\"\")","v":""},{"$f":"IFERROR(VLOOKUP(A283,'1.Портфель кредитів'!A:Z,14,FALSE),\"\")","v":""}]
[null,{"$f":"IFERROR(VLOOKUP(A284,'1.Портфель кредитів'!A:Z,3,FALSE),\"\")","v":""},{"$f":"IFERROR(VLOOKUP(A284,'1.Портфель кредитів'!A:Z,7,FALSE),\"\")","v":""},{"$f":"IFERROR(VLOOKUP(A284,'1.Портфель кредитів'!A:Z,14,FALSE),\"\")","v":""}]
[null,{"$f":"IFERROR(VLOOKUP(A285,'1.Портфель кредитів'!A:Z,3,FALSE),\"\")","v":""},{"$f":"IFERROR(VLOOKUP(A285,'1.Портфель кредитів'!A:Z,7,FALSE),\"\")","v":""},{"$f":"IFERROR(VLOOKUP(A285,'1.Портфель кредитів'!A:Z,14,FALSE),\"\")","v":""}]
[null,{"$f":"IFERROR(VLOOKUP(A286,'1.Портфель кредитів'!A:Z,3,FALSE),\"\")","v":""},{"$f":"IFERROR(VLOOKUP(A286,'1.Портфель кредитів'!A:Z,7,FALSE),\"\")","v":""},{"$f":"IFERROR(VLOOKUP(A286,'1.Портфель кредитів'!A:Z,14,FALSE),\"\")","v":""}]
[null,{"$f":"IFERROR(VLOOKUP(A287,'1.Портфель кредитів'!A:Z,3,FALSE),\"\")","v":""},{"$f":"IFERROR(VLOOKUP(A287,'1.Портфель кредитів'!A:Z,7,FALSE),\"\")","v":""},{"$f":"IFERROR(VLOOKUP(A287,'1.Портфель кредитів'!A:Z,14,FALSE),\"\")","v":""}]
[null,{"$f":"IFERROR(VLOOKUP(A288,'1.Портфель кредитів'!A:Z,3,FALSE),\"\")","v":""},{"$f":"IFERROR(VLOOKUP(A288,'1.Портфель кредитів'!A:Z,7,FALSE),\"\")","v":""},{"$f":"IFERROR(VLOOKUP(A288,'1.Портфель кредитів'!A:Z,14,FALSE),\"\")","v":""}]
[null,{"$f":"IFERROR(VLOOKUP(A289,'1.Портфель кредитів'!A:Z,3,FALSE),\"\")","v":""},{"$f":"IFERROR(VLOOKUP(A289,'1.Портфель кредитів'!A:Z,7,FALSE),\"\")","v":""},{"$f":"IFERROR(VLOOKUP(A289,'1.Портфель кредитів'!A:Z,14,FALSE),\"\")","v":""}]
[null,{"$f":"IFERROR(VLOOKUP(A290,'1.Портфель кредитів'!A:Z,3,FALSE),\"\")","v":""},{"$f":"IFERROR(VLOOKUP(A290,'1.Портфель кредитів'!A:Z,7,FALSE),\"\")","v":""},{"$f":"IFERROR(VLOOKUP(A290,'1.Портфель кредитів'!A:Z,14,FALSE),\"\")","v":""}]
[null,{"$f":"IFERROR(VLOOKUP(A291,'1.Портфель кредитів'!A:Z,3,FALSE),\"\")","v":""},{"$f":"IFERROR(VLOOKUP(A291,'1.Портфель кредитів'!A:Z,7,FALSE),\"\")","v":""},{"$f":"IFERROR(VLOOKUP(A291,'1.Портфель кредитів'!A:Z,14,FALSE),\"\")","v":""}]
[null,{"$f":"IFERROR(VLOOKUP(A292,'1.Портфель кредитів'!A:Z,3,FALSE),\"\")","v":""},{"$f":"IFERROR(VLOOKUP(A292,'1.Портфель кредитів'!A:Z,7,FALSE),\"\")","v":""},{"$f":"IFERROR(VLOOKUP(A292,'1.Портфель кредитів'!A:Z,14,FALSE),\"\")","v":""}]
[null,{"$f":"IFERROR(VLOOKUP(A293,'1.Портфель кредитів'!A:Z,3,FALSE),\"\")","v":""},{"$f":"IFERROR(VLOOKUP(A293,'1.Портфель кредитів'!A:Z,7,FALSE),\"\")","v":""},{"$f":"IFERROR(VLOOKUP(A293,'1.Портфель кредитів'!A:Z,14,FALSE),\"\")","v":""}]
[null,{"$f":"IFERROR(VLOOKUP(A294,'1.Портфель кредитів'!A:Z,3,FALSE),\"\")","v":""},{"$f":"IFERROR(VLOOKUP(A294,'1.Портфель кредитів'!A:Z,7,FALSE),\"\")","v":""},{"$f":"IFERROR(VLOOKUP(A294,'1.Портфель кредитів'!A:Z,14,FALSE),\"\")","v":""}]
[null,{"$f":"IFERROR(VLOOKUP(A295,'1.Портфель кредитів'!A:Z,3,FALSE),\"\")","v":""},{"$f":"IFERROR(VLOOKUP(A295,'1.Портфель кредитів'!A:Z,7,FALSE),\"\")","v":""},{"$f":"IFERROR(VLOOKUP(A295,'1.Портфель кредитів'!A:Z,14,FALSE),\"\")","v":""}]
[null,{"$f":"IFERROR(VLOOKUP(A296,'1.Портфель кредитів'!A:Z,3,FALSE),\"\")","v":""},{"$f":"IFERROR(VLOOKUP(A296,'1.Портфель кредитів'!A:Z,7,FALSE),\"\")","v":""},{"$f":"IFERROR(VLOOKUP(A296,'1.Портфель кредитів'!A:Z,14,FALSE),\"\")","v":""}]
[null,{"$f":"IFERROR(VLOOKUP(A297,'1.Портфель кредитів'!A:Z,3,FALSE),\"\")","v":""},{"$f":"IFERROR(VLOOKUP(A297,'1.Портфель кредитів'!A:Z,7,FALSE),\"\")","v":""},{"$f":"IFERROR(VLOOKUP(A297,'1.Портфель кредитів'!A:Z,14,FALSE),\"\")","v":""}]
[null,{"$f":"IFERROR(VLOOKUP(A298,'1.Портфель кредитів'!A:Z,3,FALSE),\"\")","v":""},{"$f":"IFERROR(VLOOKUP(A298,'1.Портфель кредитів'!A:Z,7,FALSE),\"\")","v":""},{"$f":"IFERROR(VLOOKUP(A298,'1.Портфель кредитів'!A:Z,14,FALSE),\"\")","v":""}]
[null,{"$f":"IFERROR(VLOOKUP(A299,'1.Портфель кредитів'!A:Z,3,FALSE),\"\")","v":""},{"$f":"IFERROR(VLOOKUP(A299,'1.Портфель кредитів'!A:Z,7,FALSE),\"\")","v":""},{"$f":"IFERROR(VLOOKUP(A299,'1.Портфель кредитів'!A:Z,14,FALSE),\"\")","v":""}]
[null,{"$f":"IFERROR(VLOOKUP(A300,'1.Портфель кредитів'!A:Z,3,FALSE),\"\")","v":""},{"$f":"IFERROR(VLOOKUP(A300,'1.Портфель кредитів'!A:Z,7,FALSE),\"\")","v":""},{"$f":"IFERROR(VLOOKUP(A300,'1.Портфель кредитів'!A:Z,14,FALSE),\"\")","v":""}]
[null,{"$f":"IFERROR(VLOOKUP(A301,'1.Портфель кредитів'!A:Z,3,FALSE),\"\")","v":""},{"$f":"IFERROR(VLOOKUP(A301,'1.Портфель кредитів'!A:Z,7,FALSE),\"\")","v":""},{"$f":"IFERROR(VLOOKUP(A301,'1.Портфель кредитів'!A:Z,14,FALSE),\"\")","v":""}]
[null,{"$f":"IFERROR(VLOOKUP(A302,'1.Портфель кредитів'!A:Z,3,FALSE),\"\")","v":""},{"$f":"IFERROR(VLOOKUP(A302,'1.Портфель кредитів'!A:Z,7,FALSE),\"\")","v":""},{"$f":"IFERROR(VLOOKUP(A302,'1.Портфель кредитів'!A:Z,14,FALSE),\"\")","v":""}]
[null,{"$f":"IFERROR(VLOOKUP(A303,'1.Портфель кредитів'!A:Z,3,FALSE),\"\")","v":""},{"$f":"IFERROR(VLOOKUP(A303,'1.Портфель кредитів'!A:Z,7,FALSE),\"\")","v":""},{"$f":"IFERROR(VLOOKUP(A303,'1.Портфель кредитів'!A:Z,14,FALSE),\"\")","v":""}]
[null,{"$f":"IFERROR(VLOOKUP(A304,'1.Портфель кредитів'!A:Z,3,FALSE),\"\")","v":""},{"$f":"IFERROR(VLOOKUP(A304,'1.Портфель кредитів'!A:Z,7,FALSE),\"\")","v":""},{"$f":"IFERROR(VLOOKUP(A304,'1.Портфель кредитів'!A:Z,14,FALSE),\"\")","v":""}]
[null,{"$f":"IFERROR(VLOOKUP(A305,'1.Портфель кредитів'!A:Z,3,FALSE),\"\")","v":""},{"$f":"IFERROR(VLOOKUP(A305,'1.Портфель кредитів'!A:Z,7,FALSE),\"\")","v":""},{"$f":"IFERROR(VLOOKUP(A305,'1.Портфель кредитів'!A:Z,14,FALSE),\"\")","v":""}]
[null,{"$f":"IFERROR(VLOOKUP(A306,'1.Портфель кредитів'!A:Z,3,FALSE),\"\")","v":""},{"$f":"IFERROR(VLOOKUP(A306,'1.Портфель кредитів'!A:Z,7,FALSE),\"\")","v":""},{"$f":"IFERROR(VLOOKUP(A306,'1.Портфель кредитів'!A:Z,14,FALSE),\"\")","v":""}]
[null,{"$f":"IFERROR(VLOOKUP(A307,'1.Портфель кредитів'!A:Z,3,FALSE),\"\")","v":""},{"$f":"IFERROR(VLOOKUP(A307,'1.Портфель кредитів'!A:Z,7,FALSE),\"\")","v":""},{"$f":"IFERROR(VLOOKUP(A307,'1.Портфель кредитів'!A:Z,14,FALSE),\"\")","v":""}]
[null,{"$f":"IFERROR(VLOOKUP(A308,'1.Портфель кредитів'!A:Z,3,FALSE),\"\")","v":""},{"$f":"IFERROR(VLOOKUP(A308,'1.Портфель кредитів'!A:Z,7,FALSE),\"\")","v":""},{"$f":"IFERROR(VLOOKUP(A308,'1.Портфель кредитів'!A:Z,14,FALSE),\"\")","v":""}]
[null,{"$f":"IFERROR(VLOOKUP(A309,'1.Портфель кредитів'!A:Z,3,FALSE),\"\")","v":""},{"$f":"IFERROR(VLOOKUP(A309,'1.Портфель кредитів'!A:Z,7,FALSE),\"\")","v":""},{"$f":"IFERROR(VLOOKUP(A309,'1.Портфель кредитів'!A:Z,14,FALSE),\"\")","v":""}]
[null,{"$f":"IFERROR(VLOOKUP(A310,'1.Портфель кредитів'!A:Z,3,FALSE),\"\")","v":""},{"$f":"IFERROR(VLOOKUP(A310,'1.Портфель кредитів'!A:Z,7,FALSE),\"\")","v":""},{"$f":"IFERROR(VLOOKUP(A310,'1.Портфель кредитів'!A:Z,14,FALSE),\"\")","v":""}]
[null,{"$f":"IFERROR(VLOOKUP(A311,'1.Портфель кредитів'!A:Z,3,FALSE),\"\")","v":""},{"$f":"IFERROR(VLOOKUP(A311,'1.Портфель кредитів'!A:Z,7,FALSE),\"\")","v":""},{"$f":"IFERROR(VLOOKUP(A311,'1.Портфель кредитів'!A:Z,14,FALSE),\"\")","v":""}]
[null,{"$f":"IFERROR(VLOOKUP(A312,'1.Портфель кредитів'!A:Z,3,FALSE),\"\")","v":""},{"$f":"IFERROR(VLOOKUP(A312,'1.Портфель кредитів'!A:Z,7,FALSE),\"\")","v":""},{"$f":"IFERROR(VLOOKUP(A312,'1.Портфель кредитів'!A:Z,14,FALSE),\"\")","v":""}]
[null,{"$f":"IFERROR(VLOOKUP(A313,'1.Портфель кредитів'!A:Z,3,FALSE),\"\")","v":""},{"$f":"IFERROR(VLOOKUP(A313,'1.Портфель кредитів'!A:Z,7,FALSE),\"\")","v":""},{"$f":"IFERROR(VLOOKUP(A313,'1.Портфель кредитів'!A:Z,14,FALSE),\"\")","v":""}]
[null,{"$f":"IFERROR(VLOOKUP(A314,'1.Портфель кредитів'!A:Z,3,FALSE),\"\")","v":""},{"$f":"IFERROR(VLOOKUP(A314,'1.Портфель кредитів'!A:Z,7,FALSE),\"\")","v":""},{"$f":"IFERROR(VLOOKUP(A314,'1.Портфель кредитів'!A:Z,14,FALSE),\"\")","v":""}]
[null,{"$f":"IFERROR(VLOOKUP(A315,'1.Портфель кредитів'!A:Z,3,FALSE),\"\")","v":""},{"$f":"IFERROR(VLOOKUP(A315,'1.Портфель кредитів'!A:Z,7,FALSE),\"\")","v":""},{"$f":"IFERROR(VLOOKUP(A315,'1.Портфель кредитів'!A:Z,14,FALSE),\"\")","v":""}]
[null,{"$f":"IFERROR(VLOOKUP(A316,'1.Портфель кредитів'!A:Z,3,FALSE),\"\")","v":""},{"$f":"IFERROR(VLOOKUP(A316,'1.Портфель кредитів'!A:Z,7,FALSE),\"\")","v":""},{"$f":"IFERROR(VLOOKUP(A316,'1.Портфель кредитів'!A:Z,14,FALSE),\"\")","v":""}]
[null,{"$f":"IFERROR(VLOOKUP(A317,'1.Портфель кредитів'!A:Z,3,FALSE),\"\")","v":""},{"$f":"IFERROR(VLOOKUP(A317,'1.Портфель кредитів'!A:Z,7,FALSE),\"\")","v":""},{"$f":"IFERROR(VLOOKUP(A317,'1.Портфель кредитів'!A:Z,14,FALSE),\"\")","v":""}]
[null,{"$f":"IFERROR(VLOOKUP(A318,'1.Портфель кредитів'!A:Z,3,FALSE),\"\")","v":""},{"$f":"IFERROR(VLOOKUP(A318,'1.Портфель кредитів'!A:Z,7,FALSE),\"\")","v":""},{"$f":"IFERROR(VLOOKUP(A318,'1.Портфель кредитів'!A:Z,14,FALSE),\"\")","v":""}]
[null,{"$f":"IFERROR(VLOOKUP(A319,'1.Портфель кредитів'!A:Z,3,FALSE),\"\")","v":""},{"$f":"IFERROR(VLOOKUP(A319,'1.Портфель кредитів'!A:Z,7,FALSE),\"\")","v":""},{"$f":"IFERROR(VLOOKUP(A319,'1.Портфель кредитів'!A:Z,14,FALSE),\"\")","v":""}]
[null,{"$f":"IFERROR(VLOOKUP(A320,'1.Портфель кредитів'!A:Z,3,FALSE),\"\")","v":""},{"$f":"IFERROR(VLOOKUP(A320,'1.Портфель кредитів'!A:Z,7,FALSE),\"\")","v":""},{"$f":"IFERROR(VLOOKUP(A320,'1.Портфель кредитів'!A:Z,14,FALSE),\"\")","v":""}]
[null,{"$f":"IFERROR(VLOOKUP(A321,'1.Портфель кредитів'!A:Z,3,FALSE),\"\")","v":""},{"$f":"IFERROR(VLOOKUP(A321,'1.Портфель кредитів'!A:Z,7,FALSE),\"\")","v":""},{"$f":"IFERROR(VLOOKUP(A321,'1.Портфель кредитів'!A:Z,14,FALSE),\"\")","v":""}]
[null,{"$f":"IFERROR(VLOOKUP(A322,'1.Портфель кредитів'!A:Z,3,FALSE),\"\")","v":""},{"$f":"IFERROR(VLOOKUP(A322,'1.Портфель кредитів'!A:Z,7,FALSE),\"\")","v":""},{"$f":"IFERROR(VLOOKUP(A322,'1.Портфель кредитів'!A:Z,14,FALSE),\"\")","v":""}]
[null,{"$f":"IFERROR(VLOOKUP(A323,'1.Портфель кредитів'!A:Z,3,FALSE),\"\")","v":""},{"$f":"IFERROR(VLOOKUP(A323,'1.Портфель кредитів'!A:Z,7,FALSE),\"\")","v":""},{"$f":"IFERROR(VLOOKUP(A323,'1.Портфель кредитів'!A:Z,14,FALSE),\"\")","v":""}]
[null,{"$f":"IFERROR(VLOOKUP(A324,'1.Портфель кредитів'!A:Z,3,FALSE),\"\")","v":""},{"$f":"IFERROR(VLOOKUP(A324,'1.Портфель кредитів'!A:Z,7,FALSE),\"\")","v":""},{"$f":"IFERROR(VLOOKUP(A324,'1.Портфель кредитів'!A:Z,14,FALSE),\"\")","v":""}]
[null,{"$f":"IFERROR(VLOOKUP(A325,'1.Портфель кредитів'!A:Z,3,FALSE),\"\")","v":""},{"$f":"IFERROR(VLOOKUP(A325,'1.Портфель кредитів'!A:Z,7,FALSE),\"\")","v":""},{"$f":"IFERROR(VLOOKUP(A325,'1.Портфель кредитів'!A:Z,14,FALSE),\"\")","v":""}]
[null,{"$f":"IFERROR(VLOOKUP(A326,'1.Портфель кредитів'!A:Z,3,FALSE),\"\")","v":""},{"$f":"IFERROR(VLOOKUP(A326,'1.Портфель кредитів'!A:Z,7,FALSE),\"\")","v":""},{"$f":"IFERROR(VLOOKUP(A326,'1.Портфель кредитів'!A:Z,14,FALSE),\"\")","v":""}]
[null,{"$f":"IFERROR(VLOOKUP(A327,'1.Портфель кредитів'!A:Z,3,FALSE),\"\")","v":""},{"$f":"IFERROR(VLOOKUP(A327,'1.Портфель кредитів'!A:Z,7,FALSE),\"\")","v":""},{"$f":"IFERROR(VLOOKUP(A327,'1.Портфель кредитів'!A:Z,14,FALSE),\"\")","v":""}]
[null,{"$f":"IFERROR(VLOOKUP(A328,'1.Портфель кредитів'!A:Z,3,FALSE),\"\")","v":""},{"$f":"IFERROR(VLOOKUP(A328,'1.Портфель кредитів'!A:Z,7,FALSE),\"\")","v":""},{"$f":"IFERROR(VLOOKUP(A328,'1.Портфель кредитів'!A:Z,14,FALSE),\"\")","v":""}]
[null,{"$f":"IFERROR(VLOOKUP(A329,'1.Портфель кредитів'!A:Z,3,FALSE),\"\")","v":""},{"$f":"IFERROR(VLOOKUP(A329,'1.Портфель кредитів'!A:Z,7,FALSE),\"\")","v":""},{"$f":"IFERROR(VLOOKUP(A329,'1.Портфель кредитів'!A:Z,14,FALSE),\"\")","v":""}]
[null,{"$f":"IFERROR(VLOOKUP(A330,'1.Портфель кредитів'!A:Z,3,FALSE),\"\")","v":""},{"$f":"IFERROR(VLOOKUP(A330,'1.Портфель кредитів'!A:Z,7,FALSE),\"\")","v":""},{"$f":"IFERROR(VLOOKUP(A330,'1.Портфель кредитів'!A:Z,14,FALSE),\"\")","v":""}]
[null,{"$f":"IFERROR(VLOOKUP(A331,'1.Портфель кредитів'!A:Z,3,FALSE),\"\")","v":""},{"$f":"IFERROR(VLOOKUP(A331,'1.Портфель кредитів'!A:Z,7,FALSE),\"\")","v":""},{"$f":"IFERROR(VLOOKUP(A331,'1.Портфель кредитів'!A:Z,14,FALSE),\"\")","v":""}]
[null,{"$f":"IFERROR(VLOOKUP(A332,'1.Портфель кредитів'!A:Z,3,FALSE),\"\")","v":""},{"$f":"IFERROR(VLOOKUP(A332,'1.Портфель кредитів'!A:Z,7,FALSE),\"\")","v":""},{"$f":"IFERROR(VLOOKUP(A332,'1.Портфель кредитів'!A:Z,14,FALSE),\"\")","v":""}]
[null,{"$f":"IFERROR(VLOOKUP(A333,'1.Портфель кредитів'!A:Z,3,FALSE),\"\")","v":""},{"$f":"IFERROR(VLOOKUP(A333,'1.Портфель кредитів'!A:Z,7,FALSE),\"\")","v":""},{"$f":"IFERROR(VLOOKUP(A333,'1.Портфель кредитів'!A:Z,14,FALSE),\"\")","v":""}]
[null,{"$f":"IFERROR(VLOOKUP(A334,'1.Портфель кредитів'!A:Z,3,FALSE),\"\")","v":""},{"$f":"IFERROR(VLOOKUP(A334,'1.Портфель кредитів'!A:Z,7,FALSE),\"\")","v":""},{"$f":"IFERROR(VLOOKUP(A334,'1.Портфель кредитів'!A:Z,14,FALSE),\"\")","v":""}]
[null,{"$f":"IFERROR(VLOOKUP(A335,'1.Портфель кредитів'!A:Z,3,FALSE),\"\")","v":""},{"$f":"IFERROR(VLOOKUP(A335,'1.Портфель кредитів'!A:Z,7,FALSE),\"\")","v":""},{"$f":"IFERROR(VLOOKUP(A335,'1.Портфель кредитів'!A:Z,14,FALSE),\"\")","v":""}]
[null,{"$f":"IFERROR(VLOOKUP(A336,'1.Портфель кредитів'!A:Z,3,FALSE),\"\")","v":""},{"$f":"IFERROR(VLOOKUP(A336,'1.Портфель кредитів'!A:Z,7,FALSE),\"\")","v":""},{"$f":"IFERROR(VLOOKUP(A336,'1.Портфель кредитів'!A:Z,14,FALSE),\"\")","v":""}]
[null,{"$f":"IFERROR(VLOOKUP(A337,'1.Портфель кредитів'!A:Z,3,FALSE),\"\")","v":""},{"$f":"IFERROR(VLOOKUP(A337,'1.Портфель кредитів'!A:Z,7,FALSE),\"\")","v":""},{"$f":"IFERROR(VLOOKUP(A337,'1.Портфель кредитів'!A:Z,14,FALSE),\"\")","v":""}]
[null,{"$f":"IFERROR(VLOOKUP(A338,'1.Портфель кредитів'!A:Z,3,FALSE),\"\")","v":""},{"$f":"IFERROR(VLOOKUP(A338,'1.Портфель кредитів'!A:Z,7,FALSE),\"\")","v":""},{"$f":"IFERROR(VLOOKUP(A338,'1.Портфель кредитів'!A:Z,14,FALSE),\"\")","v":""}]
[null,{"$f":"IFERROR(VLOOKUP(A339,'1.Портфель кредитів'!A:Z,3,FALSE),\"\")","v":""},{"$f":"IFERROR(VLOOKUP(A339,'1.Портфель кредитів'!A:Z,7,FALSE),\"\")","v":""},{"$f":"IFERROR(VLOOKUP(A339,'1.Портфель кредитів'!A:Z,14,FALSE),\"\")","v":""}]
[null,{"$f":"IFERROR(VLOOKUP(A340,'1.Портфель кредитів'!A:Z,3,FALSE),\"\")","v":""},{"$f":"IFERROR(VLOOKUP(A340,'1.Портфель кредитів'!A:Z,7,FALSE),\"\")","v":""},{"$f":"IFERROR(VLOOKUP(A340,'1.Портфель кредитів'!A:Z,14,FALSE),\"\")","v":""}]
[null,{"$f":"IFERROR(VLOOKUP(A341,'1.Портфель кредитів'!A:Z,3,FALSE),\"\")","v":""},{"$f":"IFERROR(VLOOKUP(A341,'1.Портфель кредитів'!A:Z,7,FALSE),\"\")","v":""},{"$f":"IFERROR(VLOOKUP(A341,'1.Портфель кредитів'!A:Z,14,FALSE),\"\")","v":""}]
[null,{"$f":"IFERROR(VLOOKUP(A342,'1.Портфель кредитів'!A:Z,3,FALSE),\"\")","v":""},{"$f":"IFERROR(VLOOKUP(A342,'1.Портфель кредитів'!A:Z,7,FALSE),\"\")","v":""},{"$f":"IFERROR(VLOOKUP(A342,'1.Портфель кредитів'!A:Z,14,FALSE),\"\")","v":""}]
[null,{"$f":"IFERROR(VLOOKUP(A343,'1.Портфель кредитів'!A:Z,3,FALSE),\"\")","v":""},{"$f":"IFERROR(VLOOKUP(A343,'1.Портфель кредитів'!A:Z,7,FALSE),\"\")","v":""},{"$f":"IFERROR(VLOOKUP(A343,'1.Портфель кредитів'!A:Z,14,FALSE),\"\")","v":""}]
[null,{"$f":"IFERROR(VLOOKUP(A344,'1.Портфель кредитів'!A:Z,3,FALSE),\"\")","v":""},{"$f":"IFERROR(VLOOKUP(A344,'1.Портфель кредитів'!A:Z,7,FALSE),\"\")","v":""},{"$f":"IFERROR(VLOOKUP(A344,'1.Портфель кредитів'!A:Z,14,FALSE),\"\")","v":""}]
[null,{"$f":"IFERROR(VLOOKUP(A345,'1.Портфель кредитів'!A:Z,3,FALSE),\"\")","v":""},{"$f":"IFERROR(VLOOKUP(A345,'1.Портфель кредитів'!A:Z,7,FALSE),\"\")","v":""},{"$f":"IFERROR(VLOOKUP(A345,'1.Портфель кредитів'!A:Z,14,FALSE),\"\")","v":""}]
[null,{"$f":"IFERROR(VLOOKUP(A346,'1.Портфель кредитів'!A:Z,3,FALSE),\"\")","v":""},{"$f":"IFERROR(VLOOKUP(A346,'1.Портфель кредитів'!A:Z,7,FALSE),\"\")","v":""},{"$f":"IFERROR(VLOOKUP(A346,'1.Портфель кредитів'!A:Z,14,FALSE),\"\")","v":""}]
[null,{"$f":"IFERROR(VLOOKUP(A347,'1.Портфель кредитів'!A:Z,3,FALSE),\"\")","v":""},{"$f":"IFERROR(VLOOKUP(A347,'1.Портфель кредитів'!A:Z,7,FALSE),\"\")","v":""},{"$f":"IFERROR(VLOOKUP(A347,'1.Портфель кредитів'!A:Z,14,FALSE),\"\")","v":""}]
[null,{"$f":"IFERROR(VLOOKUP(A348,'1.Портфель кредитів'!A:Z,3,FALSE),\"\")","v":""},{"$f":"IFERROR(VLOOKUP(A348,'1.Портфель кредитів'!A:Z,7,FALSE),\"\")","v":""},{"$f":"IFERROR(VLOOKUP(A348,'1.Портфель кредитів'!A:Z,14,FALSE),\"\")","v":""}]
[null,{"$f":"IFERROR(VLOOKUP(A349,'1.Портфель кредитів'!A:Z,3,FALSE),\"\")","v":""},{"$f":"IFERROR(VLOOKUP(A349,'1.Портфель кредитів'!A:Z,7,FALSE),\"\")","v":""},{"$f":"IFERROR(VLOOKUP(A349,'1.Портфель кредитів'!A:Z,14,FALSE),\"\")","v":""}]
[null,{"$f":"IFERROR(VLOOKUP(A350,'1.Портфель кредитів'!A:Z,3,FALSE),\"\")","v":""},{"$f":"IFERROR(VLOOKUP(A350,'1.Портфель кредитів'!A:Z,7,FALSE),\"\")","v":""},{"$f":"IFERROR(VLOOKUP(A350,'1.Портфель кредитів'!A:Z,14,FALSE),\"\")","v":""}]
[null,{"$f":"IFERROR(VLOOKUP(A351,'1.Портфель кредитів'!A:Z,3,FALSE),\"\")","v":""},{"$f":"IFERROR(VLOOKUP(A351,'1.Портфель кредитів'!A:Z,7,FALSE),\"\")","v":""},{"$f":"IFERROR(VLOOKUP(A351,'1.Портфель кредитів'!A:Z,14,FALSE),\"\")","v":""}]
[null,{"$f":"IFERROR(VLOOKUP(A352,'1.Портфель кредитів'!A:Z,3,FALSE),\"\")","v":""},{"$f":"IFERROR(VLOOKUP(A352,'1.Портфель кредитів'!A:Z,7,FALSE),\"\")","v":""},{"$f":"IFERROR(VLOOKUP(A352,'1.Портфель кредитів'!A:Z,14,FALSE),\"\")","v":""}]
[null,{"$f":"IFERROR(VLOOKUP(A353,'1.Портфель кредитів'!A:Z,3,FALSE),\"\")","v":""},{"$f":"IFERROR(VLOOKUP(A353,'1.Портфель кредитів'!A:Z,7,FALSE),\"\")","v":""},{"$f":"IFERROR(VLOOKUP(A353,'1.Портфель кредитів'!A:Z,14,FALSE),\"\")","v":""}]
[null,{"$f":"IFERROR(VLOOKUP(A354,'1.Портфель кредитів'!A:Z,3,FALSE),\"\")","v":""},{"$f":"IFERROR(VLOOKUP(A354,'1.Портфель кредитів'!A:Z,7,FALSE),\"\")","v":""},{"$f":"IFERROR(VLOOKUP(A354,'1.Портфель кредитів'!A:Z,14,FALSE),\"\")","v":""}]
[null,{"$f":"IFERROR(VLOOKUP(A355,'1.Портфель кредитів'!A:Z,3,FALSE),\"\")","v":""},{"$f":"IFERROR(VLOOKUP(A355,'1.Портфель кредитів'!A:Z,7,FALSE),\"\")","v":""},{"$f":"IFERROR(VLOOKUP(A355,'1.Портфель кредитів'!A:Z,14,FALSE),\"\")","v":""}]
[null,{"$f":"IFERROR(VLOOKUP(A356,'1.Портфель кредитів'!A:Z,3,FALSE),\"\")","v":""},{"$f":"IFERROR(VLOOKUP(A356,'1.Портфель кредитів'!A:Z,7,FALSE),\"\")","v":""},{"$f":"IFERROR(VLOOKUP(A356,'1.Портфель кредитів'!A:Z,14,FALSE),\"\")","v":""}]
[null,{"$f":"IFERROR(VLOOKUP(A357,'1.Портфель кредитів'!A:Z,3,FALSE),\"\")","v":""},{"$f":"IFERROR(VLOOKUP(A357,'1.Портфель кредитів'!A:Z,7,FALSE),\"\")","v":""},{"$f":"IFERROR(VLOOKUP(A357,'1.Портфель кредитів'!A:Z,14,FALSE),\"\")","v":""}]
[null,{"$f":"IFERROR(VLOOKUP(A358,'1.Портфель кредитів'!A:Z,3,FALSE),\"\")","v":""},{"$f":"IFERROR(VLOOKUP(A358,'1.Портфель кредитів'!A:Z,7,FALSE),\"\")","v":""},{"$f":"IFERROR(VLOOKUP(A358,'1.Портфель кредитів'!A:Z,14,FALSE),\"\")","v":""}]
[null,{"$f":"IFERROR(VLOOKUP(A359,'1.Портфель кредитів'!A:Z,3,FALSE),\"\")","v":""},{"$f":"IFERROR(VLOOKUP(A359,'1.Портфель кредитів'!A:Z,7,FALSE),\"\")","v":""},{"$f":"IFERROR(VLOOKUP(A359,'1.Портфель кредитів'!A:Z,14,FALSE),\"\")","v":""}]
[null,{"$f":"IFERROR(VLOOKUP(A360,'1.Портфель кредитів'!A:Z,3,FALSE),\"\")","v":""},{"$f":"IFERROR(VLOOKUP(A360,'1.Портфель кредитів'!A:Z,7,FALSE),\"\")","v":""},{"$f":"IFERROR(VLOOKUP(A360,'1.Портфель кредитів'!A:Z,14,FALSE),\"\")","v":""}]
[null,{"$f":"IFERROR(VLOOKUP(A361,'1.Портфель кредитів'!A:Z,3,FALSE),\"\")","v":""},{"$f":"IFERROR(VLOOKUP(A361,'1.Портфель кредитів'!A:Z,7,FALSE),\"\")","v":""},{"$f":"IFERROR(VLOOKUP(A361,'1.Портфель кредитів'!A:Z,14,FALSE),\"\")","v":""}]
[null,{"$f":"IFERROR(VLOOKUP(A362,'1.Портфель кредитів'!A:Z,3,FALSE),\"\")","v":""},{"$f":"IFERROR(VLOOKUP(A362,'1.Портфель кредитів'!A:Z,7,FALSE),\"\")","v":""},{"$f":"IFERROR(VLOOKUP(A362,'1.Портфель кредитів'!A:Z,14,FALSE),\"\")","v":""}]
[null,{"$f":"IFERROR(VLOOKUP(A363,'1.Портфель кредитів'!A:Z,3,FALSE),\"\")","v":""},{"$f":"IFERROR(VLOOKUP(A363,'1.Портфель кредитів'!A:Z,7,FALSE),\"\")","v":""},{"$f":"IFERROR(VLOOKUP(A363,'1.Портфель кредитів'!A:Z,14,FALSE),\"\")","v":""}]
[null,{"$f":"IFERROR(VLOOKUP(A364,'1.Портфель кредитів'!A:Z,3,FALSE),\"\")","v":""},{"$f":"IFERROR(VLOOKUP(A364,'1.Портфель кредитів'!A:Z,7,FALSE),\"\")","v":""},{"$f":"IFERROR(VLOOKUP(A364,'1.Портфель кредитів'!A:Z,14,FALSE),\"\")","v":""}]
[null,{"$f":"IFERROR(VLOOKUP(A365,'1.Портфель кредитів'!A:Z,3,FALSE),\"\")","v":""},{"$f":"IFERROR(VLOOKUP(A365,'1.Портфель кредитів'!A:Z,7,FALSE),\"\")","v":""},{"$f":"IFERROR(VLOOKUP(A365,'1.Портфель кредитів'!A:Z,14,FALSE),\"\")","v":""}]
[null,{"$f":"IFERROR(VLOOKUP(A366,'1.Портфель кредитів'!A:Z,3,FALSE),\"\")","v":""},{"$f":"IFERROR(VLOOKUP(A366,'1.Портфель кредитів'!A:Z,7,FALSE),\"\")","v":""},{"$f":"IFERROR(VLOOKUP(A366,'1.Портфель кредитів'!A:Z,14,FALSE),\"\")","v":""}]
[null,{"$f":"IFERROR(VLOOKUP(A367,'1.Портфель кредитів'!A:Z,3,FALSE),\"\")","v":""},{"$f":"IFERROR(VLOOKUP(A367,'1.Портфель кредитів'!A:Z,7,FALSE),\"\")","v":""},{"$f":"IFERROR(VLOOKUP(A367,'1.Портфель кредитів'!A:Z,14,FALSE),\"\")","v":""}]
[null,{"$f":"IFERROR(VLOOKUP(A368,'1.Портфель кредитів'!A:Z,3,FALSE),\"\")","v":""},{"$f":"IFERROR(VLOOKUP(A368,'1.Портфель кредитів'!A:Z,7,FALSE),\"\")","v":""},{"$f":"IFERROR(VLOOKUP(A368,'1.Портфель кредитів'!A:Z,14,FALSE),\"\")","v":""}]
[null,{"$f":"IFERROR(VLOOKUP(A369,'1.Портфель кредитів'!A:Z,3,FALSE),\"\")","v":""},{"$f":"IFERROR(VLOOKUP(A369,'1.Портфель кредитів'!A:Z,7,FALSE),\"\")","v":""},{"$f":"IFERROR(VLOOKUP(A369,'1.Портфель кредитів'!A:Z,14,FALSE),\"\")","v":""}]
[null,{"$f":"IFERROR(VLOOKUP(A370,'1.Портфель кредитів'!A:Z,3,FALSE),\"\")","v":""},{"$f":"IFERROR(VLOOKUP(A370,'1.Портфель кредитів'!A:Z,7,FALSE),\"\")","v":""},{"$f":"IFERROR(VLOOKUP(A370,'1.Портфель кредитів'!A:Z,14,FALSE),\"\")","v":""}]
[null,{"$f":"IFERROR(VLOOKUP(A371,'1.Портфель кредитів'!A:Z,3,FALSE),\"\")","v":""},{"$f":"IFERROR(VLOOKUP(A371,'1.Портфель кредитів'!A:Z,7,FALSE),\"\")","v":""},{"$f":"IFERROR(VLOOKUP(A371,'1.Портфель кредитів'!A:Z,14,FALSE),\"\")","v":""}]
[null,{"$f":"IFERROR(VLOOKUP(A372,'1.Портфель кредитів'!A:Z,3,FALSE),\"\")","v":""},{"$f":"IFERROR(VLOOKUP(A372,'1.Портфель кредитів'!A:Z,7,FALSE),\"\")","v":""},{"$f":"IFERROR(VLOOKUP(A372,'1.Портфель кредитів'!A:Z,14,FALSE),\"\")","v":""}]
[null,{"$f":"IFERROR(VLOOKUP(A373,'1.Портфель кредитів'!A:Z,3,FALSE),\"\")","v":""},{"$f":"IFERROR(VLOOKUP(A373,'1.Портфель кредитів'!A:Z,7,FALSE),\"\")","v":""},{"$f":"IFERROR(VLOOKUP(A373,'1.Портфель кредитів'!A:Z,14,FALSE),\"\")","v":""}]
[null,{"$f":"IFERROR(VLOOKUP(A374,'1.Портфель кредитів'!A:Z,3,FALSE),\"\")","v":""},{"$f":"IFERROR(VLOOKUP(A374,'1.Портфель кредитів'!A:Z,7,FALSE),\"\")","v":""},{"$f":"IFERROR(VLOOKUP(A374,'1.Портфель кредитів'!A:Z,14,FALSE),\"\")","v":""}]
[null,{"$f":"IFERROR(VLOOKUP(A375,'1.Портфель кредитів'!A:Z,3,FALSE),\"\")","v":""},{"$f":"IFERROR(VLOOKUP(A375,'1.Портфель кредитів'!A:Z,7,FALSE),\"\")","v":""},{"$f":"IFERROR(VLOOKUP(A375,'1.Портфель кредитів'!A:Z,14,FALSE),\"\")","v":""}]
[null,{"$f":"IFERROR(VLOOKUP(A376,'1.Портфель кредитів'!A:Z,3,FALSE),\"\")","v":""},{"$f":"IFERROR(VLOOKUP(A376,'1.Портфель кредитів'!A:Z,7,FALSE),\"\")","v":""},{"$f":"IFERROR(VLOOKUP(A376,'1.Портфель кредитів'!A:Z,14,FALSE),\"\")","v":""}]
[null,{"$f":"IFERROR(VLOOKUP(A377,'1.Портфель кредитів'!A:Z,3,FALSE),\"\")","v":""},{"$f":"IFERROR(VLOOKUP(A377,'1.Портфель кредитів'!A:Z,7,FALSE),\"\")","v":""},{"$f":"IFERROR(VLOOKUP(A377,'1.Портфель кредитів'!A:Z,14,FALSE),\"\")","v":""}]
[null,{"$f":"IFERROR(VLOOKUP(A378,'1.Портфель кредитів'!A:Z,3,FALSE),\"\")","v":""},{"$f":"IFERROR(VLOOKUP(A378,'1.Портфель кредитів'!A:Z,7,FALSE),\"\")","v":""},{"$f":"IFERROR(VLOOKUP(A378,'1.Портфель кредитів'!A:Z,14,FALSE),\"\")","v":""}]
[null,{"$f":"IFERROR(VLOOKUP(A379,'1.Портфель кредитів'!A:Z,3,FALSE),\"\")","v":""},{"$f":"IFERROR(VLOOKUP(A379,'1.Портфель кредитів'!A:Z,7,FALSE),\"\")","v":""},{"$f":"IFERROR(VLOOKUP(A379,'1.Портфель кредитів'!A:Z,14,FALSE),\"\")","v":""}]
[null,{"$f":"IFERROR(VLOOKUP(A380,'1.Портфель кредитів'!A:Z,3,FALSE),\"\")","v":""},{"$f":"IFERROR(VLOOKUP(A380,'1.Портфель кредитів'!A:Z,7,FALSE),\"\")","v":""},{"$f":"IFERROR(VLOOKUP(A380,'1.Портфель кредитів'!A:Z,14,FALSE),\"\")","v":""}]
[null,{"$f":"IFERROR(VLOOKUP(A381,'1.Портфель кредитів'!A:Z,3,FALSE),\"\")","v":""},{"$f":"IFERROR(VLOOKUP(A381,'1.Портфель кредитів'!A:Z,7,FALSE),\"\")","v":""},{"$f":"IFERROR(VLOOKUP(A381,'1.Портфель кредитів'!A:Z,14,FALSE),\"\")","v":""}]
[null,{"$f":"IFERROR(VLOOKUP(A382,'1.Портфель кредитів'!A:Z,3,FALSE),\"\")","v":""},{"$f":"IFERROR(VLOOKUP(A382,'1.Портфель кредитів'!A:Z,7,FALSE),\"\")","v":""},{"$f":"IFERROR(VLOOKUP(A382,'1.Портфель кредитів'!A:Z,14,FALSE),\"\")","v":""}]
[null,{"$f":"IFERROR(VLOOKUP(A383,'1.Портфель кредитів'!A:Z,3,FALSE),\"\")","v":""},{"$f":"IFERROR(VLOOKUP(A383,'1.Портфель кредитів'!A:Z,7,FALSE),\"\")","v":""},{"$f":"IFERROR(VLOOKUP(A383,'1.Портфель кредитів'!A:Z,14,FALSE),\"\")","v":""}]
[null,{"$f":"IFERROR(VLOOKUP(A384,'1.Портфель кредитів'!A:Z,3,FALSE),\"\")","v":""},{"$f":"IFERROR(VLOOKUP(A384,'1.Портфель кредитів'!A:Z,7,FALSE),\"\")","v":""},{"$f":"IFERROR(VLOOKUP(A384,'1.Портфель кредитів'!A:Z,14,FALSE),\"\")","v":""}]
[null,{"$f":"IFERROR(VLOOKUP(A385,'1.Портфель кредитів'!A:Z,3,FALSE),\"\")","v":""},{"$f":"IFERROR(VLOOKUP(A385,'1.Портфель кредитів'!A:Z,7,FALSE),\"\")","v":""},{"$f":"IFERROR(VLOOKUP(A385,'1.Портфель кредитів'!A:Z,14,FALSE),\"\")","v":""}]
[null,{"$f":"IFERROR(VLOOKUP(A386,'1.Портфель кредитів'!A:Z,3,FALSE),\"\")","v":""},{"$f":"IFERROR(VLOOKUP(A386,'1.Портфель кредитів'!A:Z,7,FALSE),\"\")","v":""},{"$f":"IFERROR(VLOOKUP(A386,'1.Портфель кредитів'!A:Z,14,FALSE),\"\")","v":""}]
[null,{"$f":"IFERROR(VLOOKUP(A387,'1.Портфель кредитів'!A:Z,3,FALSE),\"\")","v":""},{"$f":"IFERROR(VLOOKUP(A387,'1.Портфель кредитів'!A:Z,7,FALSE),\"\")","v":""},{"$f":"IFERROR(VLOOKUP(A387,'1.Портфель кредитів'!A:Z,14,FALSE),\"\")","v":""}]
[null,{"$f":"IFERROR(VLOOKUP(A388,'1.Портфель кредитів'!A:Z,3,FALSE),\"\")","v":""},{"$f":"IFERROR(VLOOKUP(A388,'1.Портфель кредитів'!A:Z,7,FALSE),\"\")","v":""},{"$f":"IFERROR(VLOOKUP(A388,'1.Портфель кредитів'!A:Z,14,FALSE),\"\")","v":""}]
[null,{"$f":"IFERROR(VLOOKUP(A389,'1.Портфель кредитів'!A:Z,3,FALSE),\"\")","v":""},{"$f":"IFERROR(VLOOKUP(A389,'1.Портфель кредитів'!A:Z,7,FALSE),\"\")","v":""},{"$f":"IFERROR(VLOOKUP(A389,'1.Портфель кредитів'!A:Z,14,FALSE),\"\")","v":""}]
[null,{"$f":"IFERROR(VLOOKUP(A390,'1.Портфель кредитів'!A:Z,3,FALSE),\"\")","v":""},{"$f":"IFERROR(VLOOKUP(A390,'1.Портфель кредитів'!A:Z,7,FALSE),\"\")","v":""},{"$f":"IFERROR(VLOOKUP(A390,'1.Портфель кредитів'!A:Z,14,FALSE),\"\")","v":""}]
[null,{"$f":"IFERROR(VLOOKUP(A391,'1.Портфель кредитів'!A:Z,3,FALSE),\"\")","v":""},{"$f":"IFERROR(VLOOKUP(A391,'1.Портфель кредитів'!A:Z,7,FALSE),\"\")","v":""},{"$f":"IFERROR(VLOOKUP(A391,'1.Портфель кредитів'!A:Z,14,FALSE),\"\")","v":""}]
[null,{"$f":"IFERROR(VLOOKUP(A392,'1.Портфель кредитів'!A:Z,3,FALSE),\"\")","v":""},{"$f":"IFERROR(VLOOKUP(A392,'1.Портфель кредитів'!A:Z,7,FALSE),\"\")","v":""},{"$f":"IFERROR(VLOOKUP(A392,'1.Портфель кредитів'!A:Z,14,FALSE),\"\")","v":""}]
[null,{"$f":"IFERROR(VLOOKUP(A393,'1.Портфель кредитів'!A:Z,3,FALSE),\"\")","v":""},{"$f":"IFERROR(VLOOKUP(A393,'1.Портфель кредитів'!A:Z,7,FALSE),\"\")","v":""},{"$f":"IFERROR(VLOOKUP(A393,'1.Портфель кредитів'!A:Z,14,FALSE),\"\")","v":""}]
[null,{"$f":"IFERROR(VLOOKUP(A394,'1.Портфель кредитів'!A:Z,3,FALSE),\"\")","v":""},{"$f":"IFERROR(VLOOKUP(A394,'1.Портфель кредитів'!A:Z,7,FALSE),\"\")","v":""},{"$f":"IFERROR(VLOOKUP(A394,'1.Портфель кредитів'!A:Z,14,FALSE),\"\")","v":""}]
[null,{"$f":"IFERROR(VLOOKUP(A395,'1.Портфель кредитів'!A:Z,3,FALSE),\"\")","v":""},{"$f":"IFERROR(VLOOKUP(A395,'1.Портфель кредитів'!A:Z,7,FALSE),\"\")","v":""},{"$f":"IFERROR(VLOOKUP(A395,'1.Портфель кредитів'!A:Z,14,FALSE),\"\")","v":""}]
[null,{"$f":"IFERROR(VLOOKUP(A396,'1.Портфель кредитів'!A:Z,3,FALSE),\"\")","v":""},{"$f":"IFERROR(VLOOKUP(A396,'1.Портфель кредитів'!A:Z,7,FALSE),\"\")","v":""},{"$f":"IFERROR(VLOOKUP(A396,'1.Портфель кредитів'!A:Z,14,FALSE),\"\")","v":""}]
[null,{"$f":"IFERROR(VLOOKUP(A397,'1.Портфель кредитів'!A:Z,3,FALSE),\"\")","v":""},{"$f":"IFERROR(VLOOKUP(A397,'1.Портфель кредитів'!A:Z,7,FALSE),\"\")","v":""},{"$f":"IFERROR(VLOOKUP(A397,'1.Портфель кредитів'!A:Z,14,FALSE),\"\")","v":""}]
[null,{"$f":"IFERROR(VLOOKUP(A398,'1.Портфель кредитів'!A:Z,3,FALSE),\"\")","v":""},{"$f":"IFERROR(VLOOKUP(A398,'1.Портфель кредитів'!A:Z,7,FALSE),\"\")","v":""},{"$f":"IFERROR(VLOOKUP(A398,'1.Портфель кредитів'!A:Z,14,FALSE),\"\")","v":""}]
[null,{"$f":"IFERROR(VLOOKUP(A399,'1.Портфель кредитів'!A:Z,3,FALSE),\"\")","v":""},{"$f":"IFERROR(VLOOKUP(A399,'1.Портфель кредитів'!A:Z,7,FALSE),\"\")","v":""},{"$f":"IFERROR(VLOOKUP(A399,'1.Портфель кредитів'!A:Z,14,FALSE),\"\")","v":""}]
[null,{"$f":"IFERROR(VLOOKUP(A400,'1.Портфель кредитів'!A:Z,3,FALSE),\"\")","v":""},{"$f":"IFERROR(VLOOKUP(A400,'1.Портфель кредитів'!A:Z,7,FALSE),\"\")","v":""},{"$f":"IFERROR(VLOOKUP(A400,'1.Портфель кредитів'!A:Z,14,FALSE),\"\")","v":""}]
[null,{"$f":"IFERROR(VLOOKUP(A401,'1.Портфель кредитів'!A:Z,3,FALSE),\"\")","v":""},{"$f":"IFERROR(VLOOKUP(A401,'1.Портфель кредитів'!A:Z,7,FALSE),\"\")","v":""},{"$f":"IFERROR(VLOOKUP(A401,'1.Портфель кредитів'!A:Z,14,FALSE),\"\")","v":""}]
[null,{"$f":"IFERROR(VLOOKUP(A402,'1.Портфель кредитів'!A:Z,3,FALSE),\"\")","v":""},{"$f":"IFERROR(VLOOKUP(A402,'1.Портфель кредитів'!A:Z,7,FALSE),\"\")","v":""},{"$f":"IFERROR(VLOOKUP(A402,'1.Портфель кредитів'!A:Z,14,FALSE),\"\")","v":""}]
[null,{"$f":"IFERROR(VLOOKUP(A403,'1.Портфель кредитів'!A:Z,3,FALSE),\"\")","v":""},{"$f":"IFERROR(VLOOKUP(A403,'1.Портфель кредитів'!A:Z,7,FALSE),\"\")","v":""},{"$f":"IFERROR(VLOOKUP(A403,'1.Портфель кредитів'!A:Z,14,FALSE),\"\")","v":""}]
[null,{"$f":"IFERROR(VLOOKUP(A404,'1.Портфель кредитів'!A:Z,3,FALSE),\"\")","v":""},{"$f":"IFERROR(VLOOKUP(A404,'1.Портфель кредитів'!A:Z,7,FALSE),\"\")","v":""},{"$f":"IFERROR(VLOOKUP(A404,'1.Портфель кредитів'!A:Z,14,FALSE),\"\")","v":""}]
[null,{"$f":"IFERROR(VLOOKUP(A405,'1.Портфель кредитів'!A:Z,3,FALSE),\"\")","v":""},{"$f":"IFERROR(VLOOKUP(A405,'1.Портфель кредитів'!A:Z,7,FALSE),\"\")","v":""},{"$f":"IFERROR(VLOOKUP(A405,'1.Портфель кредитів'!A:Z,14,FALSE),\"\")","v":""}]
[null,{"$f":"IFERROR(VLOOKUP(A406,'1.Портфель кредитів'!A:Z,3,FALSE),\"\")","v":""},{"$f":"IFERROR(VLOOKUP(A406,'1.Портфель кредитів'!A:Z,7,FALSE),\"\")","v":""},{"$f":"IFERROR(VLOOKUP(A406,'1.Портфель кредитів'!A:Z,14,FALSE),\"\")","v":""}]
[null,{"$f":"IFERROR(VLOOKUP(A407,'1.Портфель кредитів'!A:Z,3,FALSE),\"\")","v":""},{"$f":"IFERROR(VLOOKUP(A407,'1.Портфель кредитів'!A:Z,7,FALSE),\"\")","v":""},{"$f":"IFERROR(VLOOKUP(A407,'1.Портфель кредитів'!A:Z,14,FALSE),\"\")","v":""}]
[null,{"$f":"IFERROR(VLOOKUP(A408,'1.Портфель кредитів'!A:Z,3,FALSE),\"\")","v":""},{"$f":"IFERROR(VLOOKUP(A408,'1.Портфель кредитів'!A:Z,7,FALSE),\"\")","v":""},{"$f":"IFERROR(VLOOKUP(A408,'1.Портфель кредитів'!A:Z,14,FALSE),\"\")","v":""}]
[null,{"$f":"IFERROR(VLOOKUP(A409,'1.Портфель кредитів'!A:Z,3,FALSE),\"\")","v":""},{"$f":"IFERROR(VLOOKUP(A409,'1.Портфель кредитів'!A:Z,7,FALSE),\"\")","v":""},{"$f":"IFERROR(VLOOKUP(A409,'1.Портфель кредитів'!A:Z,14,FALSE),\"\")","v":""}]
[null,{"$f":"IFERROR(VLOOKUP(A410,'1.Портфель кредитів'!A:Z,3,FALSE),\"\")","v":""},{"$f":"IFERROR(VLOOKUP(A410,'1.Портфель кредитів'!A:Z,7,FALSE),\"\")","v":""},{"$f":"IFERROR(VLOOKUP(A410,'1.Портфель кредитів'!A:Z,14,FALSE),\"\")","v":""}]
[null,{"$f":"IFERROR(VLOOKUP(A411,'1.Портфель кредитів'!A:Z,3,FALSE),\"\")","v":""},{"$f":"IFERROR(VLOOKUP(A411,'1.Портфель кредитів'!A:Z,7,FALSE),\"\")","v":""},{"$f":"IFERROR(VLOOKUP(A411,'1.Портфель кредитів'!A:Z,14,FALSE),\"\")","v":""}]
[null,{"$f":"IFERROR(VLOOKUP(A412,'1.Портфель кредитів'!A:Z,3,FALSE),\"\")","v":""},{"$f":"IFERROR(VLOOKUP(A412,'1.Портфель кредитів'!A:Z,7,FALSE),\"\")","v":""},{"$f":"IFERROR(VLOOKUP(A412,'1.Портфель кредитів'!A:Z,14,FALSE),\"\")","v":""}]
[null,{"$f":"IFERROR(VLOOKUP(A413,'1.Портфель кредитів'!A:Z,3,FALSE),\"\")","v":""},{"$f":"IFERROR(VLOOKUP(A413,'1.Портфель кредитів'!A:Z,7,FALSE),\"\")","v":""},{"$f":"IFERROR(VLOOKUP(A413,'1.Портфель кредитів'!A:Z,14,FALSE),\"\")","v":""}]
[null,{"$f":"IFERROR(VLOOKUP(A414,'1.Портфель кредитів'!A:Z,3,FALSE),\"\")","v":""},{"$f":"IFERROR(VLOOKUP(A414,'1.Портфель кредитів'!A:Z,7,FALSE),\"\")","v":""},{"$f":"IFERROR(VLOOKUP(A414,'1.Портфель кредитів'!A:Z,14,FALSE),\"\")","v":""}]
[null,{"$f":"IFERROR(VLOOKUP(A415,'1.Портфель кредитів'!A:Z,3,FALSE),\"\")","v":""},{"$f":"IFERROR(VLOOKUP(A415,'1.Портфель кредитів'!A:Z,7,FALSE),\"\")","v":""},{"$f":"IFERROR(VLOOKUP(A415,'1.Портфель кредитів'!A:Z,14,FALSE),\"\")","v":""}]
[null,{"$f":"IFERROR(VLOOKUP(A416,'1.Портфель кредитів'!A:Z,3,FALSE),\"\")","v":""},{"$f":"IFERROR(VLOOKUP(A416,'1.Портфель кредитів'!A:Z,7,FALSE),\"\")","v":""},{"$f":"IFERROR(VLOOKUP(A416,'1.Портфель кредитів'!A:Z,14,FALSE),\"\")","v":""}]
[null,{"$f":"IFERROR(VLOOKUP(A417,'1.Портфель кредитів'!A:Z,3,FALSE),\"\")","v":""},{"$f":"IFERROR(VLOOKUP(A417,'1.Портфель кредитів'!A:Z,7,FALSE),\"\")","v":""},{"$f":"IFERROR(VLOOKUP(A417,'1.Портфель кредитів'!A:Z,14,FALSE),\"\")","v":""}]
[null,{"$f":"IFERROR(VLOOKUP(A418,'1.Портфель кредитів'!A:Z,3,FALSE),\"\")","v":""},{"$f":"IFERROR(VLOOKUP(A418,'1.Портфель кредитів'!A:Z,7,FALSE),\"\")","v":""},{"$f":"IFERROR(VLOOKUP(A418,'1.Портфель кредитів'!A:Z,14,FALSE),\"\")","v":""}]
[null,{"$f":"IFERROR(VLOOKUP(A419,'1.Портфель кредитів'!A:Z,3,FALSE),\"\")","v":""},{"$f":"IFERROR(VLOOKUP(A419,'1.Портфель кредитів'!A:Z,7,FALSE),\"\")","v":""},{"$f":"IFERROR(VLOOKUP(A419,'1.Портфель кредитів'!A:Z,14,FALSE),\"\")","v":""}]
[null,{"$f":"IFERROR(VLOOKUP(A420,'1.Портфель кредитів'!A:Z,3,FALSE),\"\")","v":""},{"$f":"IFERROR(VLOOKUP(A420,'1.Портфель кредитів'!A:Z,7,FALSE),\"\")","v":""},{"$f":"IFERROR(VLOOKUP(A420,'1.Портфель кредитів'!A:Z,14,FALSE),\"\")","v":""}]
[null,{"$f":"IFERROR(VLOOKUP(A421,'1.Портфель кредитів'!A:Z,3,FALSE),\"\")","v":""},{"$f":"IFERROR(VLOOKUP(A421,'1.Портфель кредитів'!A:Z,7,FALSE),\"\")","v":""},{"$f":"IFERROR(VLOOKUP(A421,'1.Портфель кредитів'!A:Z,14,FALSE),\"\")","v":""}]
[null,{"$f":"IFERROR(VLOOKUP(A422,'1.Портфель кредитів'!A:Z,3,FALSE),\"\")","v":""},{"$f":"IFERROR(VLOOKUP(A422,'1.Портфель кредитів'!A:Z,7,FALSE),\"\")","v":""},{"$f":"IFERROR(VLOOKUP(A422,'1.Портфель кредитів'!A:Z,14,FALSE),\"\")","v":""}]
[null,{"$f":"IFERROR(VLOOKUP(A423,'1.Портфель кредитів'!A:Z,3,FALSE),\"\")","v":""},{"$f":"IFERROR(VLOOKUP(A423,'1.Портфель кредитів'!A:Z,7,FALSE),\"\")","v":""},{"$f":"IFERROR(VLOOKUP(A423,'1.Портфель кредитів'!A:Z,14,FALSE),\"\")","v":""}]
[null,{"$f":"IFERROR(VLOOKUP(A424,'1.Портфель кредитів'!A:Z,3,FALSE),\"\")","v":""},{"$f":"IFERROR(VLOOKUP(A424,'1.Портфель кредитів'!A:Z,7,FALSE),\"\")","v":""},{"$f":"IFERROR(VLOOKUP(A424,'1.Портфель кредитів'!A:Z,14,FALSE),\"\")","v":""}]
[null,{"$f":"IFERROR(VLOOKUP(A425,'1.Портфель кредитів'!A:Z,3,FALSE),\"\")","v":""},{"$f":"IFERROR(VLOOKUP(A425,'1.Портфель кредитів'!A:Z,7,FALSE),\"\")","v":""},{"$f":"IFERROR(VLOOKUP(A425,'1.Портфель кредитів'!A:Z,14,FALSE),\"\")","v":""}]
[null,{"$f":"IFERROR(VLOOKUP(A426,'1.Портфель кредитів'!A:Z,3,FALSE),\"\")","v":""},{"$f":"IFERROR(VLOOKUP(A426,'1.Портфель кредитів'!A:Z,7,FALSE),\"\")","v":""},{"$f":"IFERROR(VLOOKUP(A426,'1.Портфель кредитів'!A:Z,14,FALSE),\"\")","v":""}]
[null,{"$f":"IFERROR(VLOOKUP(A427,'1.Портфель кредитів'!A:Z,3,FALSE),\"\")","v":""},{"$f":"IFERROR(VLOOKUP(A427,'1.Портфель кредитів'!A:Z,7,FALSE),\"\")","v":""},{"$f":"IFERROR(VLOOKUP(A427,'1.Портфель кредитів'!A:Z,14,FALSE),\"\")","v":""}]
[null,{"$f":"IFERROR(VLOOKUP(A428,'1.Портфель кредитів'!A:Z,3,FALSE),\"\")","v":""},{"$f":"IFERROR(VLOOKUP(A428,'1.Портфель кредитів'!A:Z,7,FALSE),\"\")","v":""},{"$f":"IFERROR(VLOOKUP(A428,'1.Портфель кредитів'!A:Z,14,FALSE),\"\")","v":""}]
[null,{"$f":"IFERROR(VLOOKUP(A429,'1.Портфель кредитів'!A:Z,3,FALSE),\"\")","v":""},{"$f":"IFERROR(VLOOKUP(A429,'1.Портфель кредитів'!A:Z,7,FALSE),\"\")","v":""},{"$f":"IFERROR(VLOOKUP(A429,'1.Портфель кредитів'!A:Z,14,FALSE),\"\")","v":""}]
[null,{"$f":"IFERROR(VLOOKUP(A430,'1.Портфель кредитів'!A:Z,3,FALSE),\"\")","v":""},{"$f":"IFERROR(VLOOKUP(A430,'1.Портфель кредитів'!A:Z,7,FALSE),\"\")","v":""},{"$f":"IFERROR(VLOOKUP(A430,'1.Портфель кредитів'!A:Z,14,FALSE),\"\")","v":""}]
[null,{"$f":"IFERROR(VLOOKUP(A431,'1.Портфель кредитів'!A:Z,3,FALSE),\"\")","v":""},{"$f":"IFERROR(VLOOKUP(A431,'1.Портфель кредитів'!A:Z,7,FALSE),\"\")","v":""},{"$f":"IFERROR(VLOOKUP(A431,'1.Портфель кредитів'!A:Z,14,FALSE),\"\")","v":""}]
[null,{"$f":"IFERROR(VLOOKUP(A432,'1.Портфель кредитів'!A:Z,3,FALSE),\"\")","v":""},{"$f":"IFERROR(VLOOKUP(A432,'1.Портфель кредитів'!A:Z,7,FALSE),\"\")","v":""},{"$f":"IFERROR(VLOOKUP(A432,'1.Портфель кредитів'!A:Z,14,FALSE),\"\")","v":""}]
[null,{"$f":"IFERROR(VLOOKUP(A433,'1.Портфель кредитів'!A:Z,3,FALSE),\"\")","v":""},{"$f":"IFERROR(VLOOKUP(A433,'1.Портфель кредитів'!A:Z,7,FALSE),\"\")","v":""},{"$f":"IFERROR(VLOOKUP(A433,'1.Портфель кредитів'!A:Z,14,FALSE),\"\")","v":""}]
[null,{"$f":"IFERROR(VLOOKUP(A434,'1.Портфель кредитів'!A:Z,3,FALSE),\"\")","v":""},{"$f":"IFERROR(VLOOKUP(A434,'1.Портфель кредитів'!A:Z,7,FALSE),\"\")","v":""},{"$f":"IFERROR(VLOOKUP(A434,'1.Портфель кредитів'!A:Z,14,FALSE),\"\")","v":""}]
[null,{"$f":"IFERROR(VLOOKUP(A435,'1.Портфель кредитів'!A:Z,3,FALSE),\"\")","v":""},{"$f":"IFERROR(VLOOKUP(A435,'1.Портфель кредитів'!A:Z,7,FALSE),\"\")","v":""},{"$f":"IFERROR(VLOOKUP(A435,'1.Портфель кредитів'!A:Z,14,FALSE),\"\")","v":""}]
[null,{"$f":"IFERROR(VLOOKUP(A436,'1.Портфель кредитів'!A:Z,3,FALSE),\"\")","v":""},{"$f":"IFERROR(VLOOKUP(A436,'1.Портфель кредитів'!A:Z,7,FALSE),\"\")","v":""},{"$f":"IFERROR(VLOOKUP(A436,'1.Портфель кредитів'!A:Z,14,FALSE),\"\")","v":""}]
[null,{"$f":"IFERROR(VLOOKUP(A437,'1.Портфель кредитів'!A:Z,3,FALSE),\"\")","v":""},{"$f":"IFERROR(VLOOKUP(A437,'1.Портфель кредитів'!A:Z,7,FALSE),\"\")","v":""},{"$f":"IFERROR(VLOOKUP(A437,'1.Портфель кредитів'!A:Z,14,FALSE),\"\")","v":""}]
[null,{"$f":"IFERROR(VLOOKUP(A438,'1.Портфель кредитів'!A:Z,3,FALSE),\"\")","v":""},{"$f":"IFERROR(VLOOKUP(A438,'1.Портфель кредитів'!A:Z,7,FALSE),\"\")","v":""},{"$f":"IFERROR(VLOOKUP(A438,'1.Портфель кредитів'!A:Z,14,FALSE),\"\")","v":""}]
[null,{"$f":"IFERROR(VLOOKUP(A439,'1.Портфель кредитів'!A:Z,3,FALSE),\"\")","v":""},{"$f":"IFERROR(VLOOKUP(A439,'1.Портфель кредитів'!A:Z,7,FALSE),\"\")","v":""},{"$f":"IFERROR(VLOOKUP(A439,'1.Портфель кредитів'!A:Z,14,FALSE),\"\")","v":""}]
[null,{"$f":"IFERROR(VLOOKUP(A440,'1.Портфель кредитів'!A:Z,3,FALSE),\"\")","v":""},{"$f":"IFERROR(VLOOKUP(A440,'1.Портфель кредитів'!A:Z,7,FALSE),\"\")","v":""},{"$f":"IFERROR(VLOOKUP(A440,'1.Портфель кредитів'!A:Z,14,FALSE),\"\")","v":""}]
[null,{"$f":"IFERROR(VLOOKUP(A441,'1.Портфель кредитів'!A:Z,3,FALSE),\"\")","v":""},{"$f":"IFERROR(VLOOKUP(A441,'1.Портфель кредитів'!A:Z,7,FALSE),\"\")","v":""},{"$f":"IFERROR(VLOOKUP(A441,'1.Портфель кредитів'!A:Z,14,FALSE),\"\")","v":""}]
[null,{"$f":"IFERROR(VLOOKUP(A442,'1.Портфель кредитів'!A:Z,3,FALSE),\"\")","v":""},{"$f":"IFERROR(VLOOKUP(A442,'1.Портфель кредитів'!A:Z,7,FALSE),\"\")","v":""},{"$f":"IFERROR(VLOOKUP(A442,'1.Портфель кредитів'!A:Z,14,FALSE),\"\")","v":""}]
[null,{"$f":"IFERROR(VLOOKUP(A443,'1.Портфель кредитів'!A:Z,3,FALSE),\"\")","v":""},{"$f":"IFERROR(VLOOKUP(A443,'1.Портфель кредитів'!A:Z,7,FALSE),\"\")","v":""},{"$f":"IFERROR(VLOOKUP(A443,'1.Портфель кредитів'!A:Z,14,FALSE),\"\")","v":""}]
[null,{"$f":"IFERROR(VLOOKUP(A444,'1.Портфель кредитів'!A:Z,3,FALSE),\"\")","v":""},{"$f":"IFERROR(VLOOKUP(A444,'1.Портфель кредитів'!A:Z,7,FALSE),\"\")","v":""},{"$f":"IFERROR(VLOOKUP(A444,'1.Портфель кредитів'!A:Z,14,FALSE),\"\")","v":""}]
[null,{"$f":"IFERROR(VLOOKUP(A445,'1.Портфель кредитів'!A:Z,3,FALSE),\"\")","v":""},{"$f":"IFERROR(VLOOKUP(A445,'1.Портфель кредитів'!A:Z,7,FALSE),\"\")","v":""},{"$f":"IFERROR(VLOOKUP(A445,'1.Портфель кредитів'!A:Z,14,FALSE),\"\")","v":""}]
[null,{"$f":"IFERROR(VLOOKUP(A446,'1.Портфель кредитів'!A:Z,3,FALSE),\"\")","v":""},{"$f":"IFERROR(VLOOKUP(A446,'1.Портфель кредитів'!A:Z,7,FALSE),\"\")","v":""},{"$f":"IFERROR(VLOOKUP(A446,'1.Портфель кредитів'!A:Z,14,FALSE),\"\")","v":""}]
[null,{"$f":"IFERROR(VLOOKUP(A447,'1.Портфель кредитів'!A:Z,3,FALSE),\"\")","v":""},{"$f":"IFERROR(VLOOKUP(A447,'1.Портфель кредитів'!A:Z,7,FALSE),\"\")","v":""},{"$f":"IFERROR(VLOOKUP(A447,'1.Портфель кредитів'!A:Z,14,FALSE),\"\")","v":""}]
[null,{"$f":"IFERROR(VLOOKUP(A448,'1.Портфель кредитів'!A:Z,3,FALSE),\"\")","v":""},{"$f":"IFERROR(VLOOKUP(A448,'1.Портфель кредитів'!A:Z,7,FALSE),\"\")","v":""},{"$f":"IFERROR(VLOOKUP(A448,'1.Портфель кредитів'!A:Z,14,FALSE),\"\")","v":""}]
[null,{"$f":"IFERROR(VLOOKUP(A449,'1.Портфель кредитів'!A:Z,3,FALSE),\"\")","v":""},{"$f":"IFERROR(VLOOKUP(A449,'1.Портфель кредитів'!A:Z,7,FALSE),\"\")","v":""},{"$f":"IFERROR(VLOOKUP(A449,'1.Портфель кредитів'!A:Z,14,FALSE),\"\")","v":""}]
[null,{"$f":"IFERROR(VLOOKUP(A450,'1.Портфель кредитів'!A:Z,3,FALSE),\"\")","v":""},{"$f":"IFERROR(VLOOKUP(A450,'1.Портфель кредитів'!A:Z,7,FALSE),\"\")","v":""},{"$f":"IFERROR(VLOOKUP(A450,'1.Портфель кредитів'!A:Z,14,FALSE),\"\")","v":""}]
[null,{"$f":"IFERROR(VLOOKUP(A451,'1.Портфель кредитів'!A:Z,3,FALSE),\"\")","v":""},{"$f":"IFERROR(VLOOKUP(A451,'1.Портфель кредитів'!A:Z,7,FALSE),\"\")","v":""},{"$f":"IFERROR(VLOOKUP(A451,'1.Портфель кредитів'!A:Z,14,FALSE),\"\")","v":""}]
[null,{"$f":"IFERROR(VLOOKUP(A452,'1.Портфель кредитів'!A:Z,3,FALSE),\"\")","v":""},{"$f":"IFERROR(VLOOKUP(A452,'1.Портфель кредитів'!A:Z,7,FALSE),\"\")","v":""},{"$f":"IFERROR(VLOOKUP(A452,'1.Портфель кредитів'!A:Z,14,FALSE),\"\")","v":""}]
[null,{"$f":"IFERROR(VLOOKUP(A453,'1.Портфель кредитів'!A:Z,3,FALSE),\"\")","v":""},{"$f":"IFERROR(VLOOKUP(A453,'1.Портфель кредитів'!A:Z,7,FALSE),\"\")","v":""},{"$f":"IFERROR(VLOOKUP(A453,'1.Портфель кредитів'!A:Z,14,FALSE),\"\")","v":""}]
[null,{"$f":"IFERROR(VLOOKUP(A454,'1.Портфель кредитів'!A:Z,3,FALSE),\"\")","v":""},{"$f":"IFERROR(VLOOKUP(A454,'1.Портфель кредитів'!A:Z,7,FALSE),\"\")","v":""},{"$f":"IFERROR(VLOOKUP(A454,'1.Портфель кредитів'!A:Z,14,FALSE),\"\")","v":""}]
[null,{"$f":"IFERROR(VLOOKUP(A455,'1.Портфель кредитів'!A:Z,3,FALSE),\"\")","v":""},{"$f":"IFERROR(VLOOKUP(A455,'1.Портфель кредитів'!A:Z,7,FALSE),\"\")","v":""},{"$f":"IFERROR(VLOOKUP(A455,'1.Портфель кредитів'!A:Z,14,FALSE),\"\")","v":""}]
[null,{"$f":"IFERROR(VLOOKUP(A456,'1.Портфель кредитів'!A:Z,3,FALSE),\"\")","v":""},{"$f":"IFERROR(VLOOKUP(A456,'1.Портфель кредитів'!A:Z,7,FALSE),\"\")","v":""},{"$f":"IFERROR(VLOOKUP(A456,'1.Портфель кредитів'!A:Z,14,FALSE),\"\")","v":""}]
[null,{"$f":"IFERROR(VLOOKUP(A457,'1.Портфель кредитів'!A:Z,3,FALSE),\"\")","v":""},{"$f":"IFERROR(VLOOKUP(A457,'1.Портфель кредитів'!A:Z,7,FALSE),\"\")","v":""},{"$f":"IFERROR(VLOOKUP(A457,'1.Портфель кредитів'!A:Z,14,FALSE),\"\")","v":""}]
[null,{"$f":"IFERROR(VLOOKUP(A458,'1.Портфель кредитів'!A:Z,3,FALSE),\"\")","v":""},{"$f":"IFERROR(VLOOKUP(A458,'1.Портфель кредитів'!A:Z,7,FALSE),\"\")","v":""},{"$f":"IFERROR(VLOOKUP(A458,'1.Портфель кредитів'!A:Z,14,FALSE),\"\")","v":""}]
[null,{"$f":"IFERROR(VLOOKUP(A459,'1.Портфель кредитів'!A:Z,3,FALSE),\"\")","v":""},{"$f":"IFERROR(VLOOKUP(A459,'1.Портфель кредитів'!A:Z,7,FALSE),\"\")","v":""},{"$f":"IFERROR(VLOOKUP(A459,'1.Портфель кредитів'!A:Z,14,FALSE),\"\")","v":""}]
[null,{"$f":"IFERROR(VLOOKUP(A460,'1.Портфель кредитів'!A:Z,3,FALSE),\"\")","v":""},{"$f":"IFERROR(VLOOKUP(A460,'1.Портфель кредитів'!A:Z,7,FALSE),\"\")","v":""},{"$f":"IFERROR(VLOOKUP(A460,'1.Портфель кредитів'!A:Z,14,FALSE),\"\")","v":""}]
[null,{"$f":"IFERROR(VLOOKUP(A461,'1.Портфель кредитів'!A:Z,3,FALSE),\"\")","v":""},{"$f":"IFERROR(VLOOKUP(A461,'1.Портфель кредитів'!A:Z,7,FALSE),\"\")","v":""},{"$f":"IFERROR(VLOOKUP(A461,'1.Портфель кредитів'!A:Z,14,FALSE),\"\")","v":""}]
[null,{"$f":"IFERROR(VLOOKUP(A462,'1.Портфель кредитів'!A:Z,3,FALSE),\"\")","v":""},{"$f":"IFERROR(VLOOKUP(A462,'1.Портфель кредитів'!A:Z,7,FALSE),\"\")","v":""},{"$f":"IFERROR(VLOOKUP(A462,'1.Портфель кредитів'!A:Z,14,FALSE),\"\")","v":""}]
[null,{"$f":"IFERROR(VLOOKUP(A463,'1.Портфель кредитів'!A:Z,3,FALSE),\"\")","v":""},{"$f":"IFERROR(VLOOKUP(A463,'1.Портфель кредитів'!A:Z,7,FALSE),\"\")","v":""},{"$f":"IFERROR(VLOOKUP(A463,'1.Портфель кредитів'!A:Z,14,FALSE),\"\")","v":""}]
[null,{"$f":"IFERROR(VLOOKUP(A464,'1.Портфель кредитів'!A:Z,3,FALSE),\"\")","v":""},{"$f":"IFERROR(VLOOKUP(A464,'1.Портфель кредитів'!A:Z,7,FALSE),\"\")","v":""},{"$f":"IFERROR(VLOOKUP(A464,'1.Портфель кредитів'!A:Z,14,FALSE),\"\")","v":""}]
[null,{"$f":"IFERROR(VLOOKUP(A465,'1.Портфель кредитів'!A:Z,3,FALSE),\"\")","v":""},{"$f":"IFERROR(VLOOKUP(A465,'1.Портфель кредитів'!A:Z,7,FALSE),\"\")","v":""},{"$f":"IFERROR(VLOOKUP(A465,'1.Портфель кредитів'!A:Z,14,FALSE),\"\")","v":""}]
[null,{"$f":"IFERROR(VLOOKUP(A466,'1.Портфель кредитів'!A:Z,3,FALSE),\"\")","v":""},{"$f":"IFERROR(VLOOKUP(A466,'1.Портфель кредитів'!A:Z,7,FALSE),\"\")","v":""},{"$f":"IFERROR(VLOOKUP(A466,'1.Портфель кредитів'!A:Z,14,FALSE),\"\")","v":""}]
[null,{"$f":"IFERROR(VLOOKUP(A467,'1.Портфель кредитів'!A:Z,3,FALSE),\"\")","v":""},{"$f":"IFERROR(VLOOKUP(A467,'1.Портфель кредитів'!A:Z,7,FALSE),\"\")","v":""},{"$f":"IFERROR(VLOOKUP(A467,'1.Портфель кредитів'!A:Z,14,FALSE),\"\")","v":""}]
[null,{"$f":"IFERROR(VLOOKUP(A468,'1.Портфель кредитів'!A:Z,3,FALSE),\"\")","v":""},{"$f":"IFERROR(VLOOKUP(A468,'1.Портфель кредитів'!A:Z,7,FALSE),\"\")","v":""},{"$f":"IFERROR(VLOOKUP(A468,'1.Портфель кредитів'!A:Z,14,FALSE),\"\")","v":""}]
[null,{"$f":"IFERROR(VLOOKUP(A469,'1.Портфель кредитів'!A:Z,3,FALSE),\"\")","v":""},{"$f":"IFERROR(VLOOKUP(A469,'1.Портфель кредитів'!A:Z,7,FALSE),\"\")","v":""},{"$f":"IFERROR(VLOOKUP(A469,'1.Портфель кредитів'!A:Z,14,FALSE),\"\")","v":""}]
[null,{"$f":"IFERROR(VLOOKUP(A470,'1.Портфель кредитів'!A:Z,3,FALSE),\"\")","v":""},{"$f":"IFERROR(VLOOKUP(A470,'1.Портфель кредитів'!A:Z,7,FALSE),\"\")","v":""},{"$f":"IFERROR(VLOOKUP(A470,'1.Портфель кредитів'!A:Z,14,FALSE),\"\")","v":""}]
[null,{"$f":"IFERROR(VLOOKUP(A471,'1.Портфель кредитів'!A:Z,3,FALSE),\"\")","v":""},{"$f":"IFERROR(VLOOKUP(A471,'1.Портфель кредитів'!A:Z,7,FALSE),\"\")","v":""},{"$f":"IFERROR(VLOOKUP(A471,'1.Портфель кредитів'!A:Z,14,FALSE),\"\")","v":""}]
[null,{"$f":"IFERROR(VLOOKUP(A472,'1.Портфель кредитів'!A:Z,3,FALSE),\"\")","v":""},{"$f":"IFERROR(VLOOKUP(A472,'1.Портфель кредитів'!A:Z,7,FALSE),\"\")","v":""},{"$f":"IFERROR(VLOOKUP(A472,'1.Портфель кредитів'!A:Z,14,FALSE),\"\")","v":""}]
[null,{"$f":"IFERROR(VLOOKUP(A473,'1.Портфель кредитів'!A:Z,3,FALSE),\"\")","v":""},{"$f":"IFERROR(VLOOKUP(A473,'1.Портфель кредитів'!A:Z,7,FALSE),\"\")","v":""},{"$f":"IFERROR(VLOOKUP(A473,'1.Портфель кредитів'!A:Z,14,FALSE),\"\")","v":""}]
[null,{"$f":"IFERROR(VLOOKUP(A474,'1.Портфель кредитів'!A:Z,3,FALSE),\"\")","v":""},{"$f":"IFERROR(VLOOKUP(A474,'1.Портфель кредитів'!A:Z,7,FALSE),\"\")","v":""},{"$f":"IFERROR(VLOOKUP(A474,'1.Портфель кредитів'!A:Z,14,FALSE),\"\")","v":""}]
[null,{"$f":"IFERROR(VLOOKUP(A475,'1.Портфель кредитів'!A:Z,3,FALSE),\"\")","v":""},{"$f":"IFERROR(VLOOKUP(A475,'1.Портфель кредитів'!A:Z,7,FALSE),\"\")","v":""},{"$f":"IFERROR(VLOOKUP(A475,'1.Портфель кредитів'!A:Z,14,FALSE),\"\")","v":""}]
[null,{"$f":"IFERROR(VLOOKUP(A476,'1.Портфель кредитів'!A:Z,3,FALSE),\"\")","v":""},{"$f":"IFERROR(VLOOKUP(A476,'1.Портфель кредитів'!A:Z,7,FALSE),\"\")","v":""},{"$f":"IFERROR(VLOOKUP(A476,'1.Портфель кредитів'!A:Z,14,FALSE),\"\")","v":""}]
[null,{"$f":"IFERROR(VLOOKUP(A477,'1.Портфель кредитів'!A:Z,3,FALSE),\"\")","v":""},{"$f":"IFERROR(VLOOKUP(A477,'1.Портфель кредитів'!A:Z,7,FALSE),\"\")","v":""},{"$f":"IFERROR(VLOOKUP(A477,'1.Портфель кредитів'!A:Z,14,FALSE),\"\")","v":""}]
[null,{"$f":"IFERROR(VLOOKUP(A478,'1.Портфель кредитів'!A:Z,3,FALSE),\"\")","v":""},{"$f":"IFERROR(VLOOKUP(A478,'1.Портфель кредитів'!A:Z,7,FALSE),\"\")","v":""},{"$f":"IFERROR(VLOOKUP(A478,'1.Портфель кредитів'!A:Z,14,FALSE),\"\")","v":""}]
[null,{"$f":"IFERROR(VLOOKUP(A479,'1.Портфель кредитів'!A:Z,3,FALSE),\"\")","v":""},{"$f":"IFERROR(VLOOKUP(A479,'1.Портфель кредитів'!A:Z,7,FALSE),\"\")","v":""},{"$f":"IFERROR(VLOOKUP(A479,'1.Портфель кредитів'!A:Z,14,FALSE),\"\")","v":""}]
[null,{"$f":"IFERROR(VLOOKUP(A480,'1.Портфель кредитів'!A:Z,3,FALSE),\"\")","v":""},{"$f":"IFERROR(VLOOKUP(A480,'1.Портфель кредитів'!A:Z,7,FALSE),\"\")","v":""},{"$f":"IFERROR(VLOOKUP(A480,'1.Портфель кредитів'!A:Z,14,FALSE),\"\")","v":""}]
[null,{"$f":"IFERROR(VLOOKUP(A481,'1.Портфель кредитів'!A:Z,3,FALSE),\"\")","v":""},{"$f":"IFERROR(VLOOKUP(A481,'1.Портфель кредитів'!A:Z,7,FALSE),\"\")","v":""},{"$f":"IFERROR(VLOOKUP(A481,'1.Портфель кредитів'!A:Z,14,FALSE),\"\")","v":""}]
[null,{"$f":"IFERROR(VLOOKUP(A482,'1.Портфель кредитів'!A:Z,3,FALSE),\"\")","v":""},{"$f":"IFERROR(VLOOKUP(A482,'1.Портфель кредитів'!A:Z,7,FALSE),\"\")","v":""},{"$f":"IFERROR(VLOOKUP(A482,'1.Портфель кредитів'!A:Z,14,FALSE),\"\")","v":""}]
[null,{"$f":"IFERROR(VLOOKUP(A483,'1.Портфель кредитів'!A:Z,3,FALSE),\"\")","v":""},{"$f":"IFERROR(VLOOKUP(A483,'1.Портфель кредитів'!A:Z,7,FALSE),\"\")","v":""},{"$f":"IFERROR(VLOOKUP(A483,'1.Портфель кредитів'!A:Z,14,FALSE),\"\")","v":""}]
[null,{"$f":"IFERROR(VLOOKUP(A484,'1.Портфель кредитів'!A:Z,3,FALSE),\"\")","v":""},{"$f":"IFERROR(VLOOKUP(A484,'1.Портфель кредитів'!A:Z,7,FALSE),\"\")","v":""},{"$f":"IFERROR(VLOOKUP(A484,'1.Портфель кредитів'!A:Z,14,FALSE),\"\")","v":""}]
[null,{"$f":"IFERROR(VLOOKUP(A485,'1.Портфель кредитів'!A:Z,3,FALSE),\"\")","v":""},{"$f":"IFERROR(VLOOKUP(A485,'1.Портфель кредитів'!A:Z,7,FALSE),\"\")","v":""},{"$f":"IFERROR(VLOOKUP(A485,'1.Портфель кредитів'!A:Z,14,FALSE),\"\")","v":""}]
[null,{"$f":"IFERROR(VLOOKUP(A486,'1.Портфель кредитів'!A:Z,3,FALSE),\"\")","v":""},{"$f":"IFERROR(VLOOKUP(A486,'1.Портфель кредитів'!A:Z,7,FALSE),\"\")","v":""},{"$f":"IFERROR(VLOOKUP(A486,'1.Портфель кредитів'!A:Z,14,FALSE),\"\")","v":""}]
[null,{"$f":"IFERROR(VLOOKUP(A487,'1.Портфель кредитів'!A:Z,3,FALSE),\"\")","v":""},{"$f":"IFERROR(VLOOKUP(A487,'1.Портфель кредитів'!A:Z,7,FALSE),\"\")","v":""},{"$f":"IFERROR(VLOOKUP(A487,'1.Портфель кредитів'!A:Z,14,FALSE),\"\")","v":""}]
[null,{"$f":"IFERROR(VLOOKUP(A488,'1.Портфель кредитів'!A:Z,3,FALSE),\"\")","v":""},{"$f":"IFERROR(VLOOKUP(A488,'1.Портфель кредитів'!A:Z,7,FALSE),\"\")","v":""},{"$f":"IFERROR(VLOOKUP(A488,'1.Портфель кредитів'!A:Z,14,FALSE),\"\")","v":""}]
[null,{"$f":"IFERROR(VLOOKUP(A489,'1.Портфель кредитів'!A:Z,3,FALSE),\"\")","v":""},{"$f":"IFERROR(VLOOKUP(A489,'1.Портфель кредитів'!A:Z,7,FALSE),\"\")","v":""},{"$f":"IFERROR(VLOOKUP(A489,'1.Портфель кредитів'!A:Z,14,FALSE),\"\")","v":""}]
[null,{"$f":"IFERROR(VLOOKUP(A490,'1.Портфель кредитів'!A:Z,3,FALSE),\"\")","v":""},{"$f":"IFERROR(VLOOKUP(A490,'1.Портфель кредитів'!A:Z,7,FALSE),\"\")","v":""},{"$f":"IFERROR(VLOOKUP(A490,'1.Портфель кредитів'!A:Z,14,FALSE),\"\")","v":""}]
[null,{"$f":"IFERROR(VLOOKUP(A491,'1.Портфель кредитів'!A:Z,3,FALSE),\"\")","v":""},{"$f":"IFERROR(VLOOKUP(A491,'1.Портфель кредитів'!A:Z,7,FALSE),\"\")","v":""},{"$f":"IFERROR(VLOOKUP(A491,'1.Портфель кредитів'!A:Z,14,FALSE),\"\")","v":""}]
[null,{"$f":"IFERROR(VLOOKUP(A492,'1.Портфель кредитів'!A:Z,3,FALSE),\"\")","v":""},{"$f":"IFERROR(VLOOKUP(A492,'1.Портфель кредитів'!A:Z,7,FALSE),\"\")","v":""},{"$f":"IFERROR(VLOOKUP(A492,'1.Портфель кредитів'!A:Z,14,FALSE),\"\")","v":""}]
[null,{"$f":"IFERROR(VLOOKUP(A493,'1.Портфель кредитів'!A:Z,3,FALSE),\"\")","v":""},{"$f":"IFERROR(VLOOKUP(A493,'1.Портфель кредитів'!A:Z,7,FALSE),\"\")","v":""},{"$f":"IFERROR(VLOOKUP(A493,'1.Портфель кредитів'!A:Z,14,FALSE),\"\")","v":""}]
[null,{"$f":"IFERROR(VLOOKUP(A494,'1.Портфель кредитів'!A:Z,3,FALSE),\"\")","v":""},{"$f":"IFERROR(VLOOKUP(A494,'1.Портфель кредитів'!A:Z,7,FALSE),\"\")","v":""},{"$f":"IFERROR(VLOOKUP(A494,'1.Портфель кредитів'!A:Z,14,FALSE),\"\")","v":""}]
[null,{"$f":"IFERROR(VLOOKUP(A495,'1.Портфель кредитів'!A:Z,3,FALSE),\"\")","v":""},{"$f":"IFERROR(VLOOKUP(A495,'1.Портфель кредитів'!A:Z,7,FALSE),\"\")","v":""},{"$f":"IFERROR(VLOOKUP(A495,'1.Портфель кредитів'!A:Z,14,FALSE),\"\")","v":""}]
[null,{"$f":"IFERROR(VLOOKUP(A496,'1.Портфель кредитів'!A:Z,3,FALSE),\"\")","v":""},{"$f":"IFERROR(VLOOKUP(A496,'1.Портфель кредитів'!A:Z,7,FALSE),\"\")","v":""},{"$f":"IFERROR(VLOOKUP(A496,'1.Портфель кредитів'!A:Z,14,FALSE),\"\")","v":""}]
[null,{"$f":"IFERROR(VLOOKUP(A497,'1.Портфель кредитів'!A:Z,3,FALSE),\"\")","v":""},{"$f":"IFERROR(VLOOKUP(A497,'1.Портфель кредитів'!A:Z,7,FALSE),\"\")","v":""},{"$f":"IFERROR(VLOOKUP(A497,'1.Портфель кредитів'!A:Z,14,FALSE),\"\")","v":""}]
[null,{"$f":"IFERROR(VLOOKUP(A498,'1.Портфель кредитів'!A:Z,3,FALSE),\"\")","v":""},{"$f":"IFERROR(VLOOKUP(A498,'1.Портфель кредитів'!A:Z,7,FALSE),\"\")","v":""},{"$f":"IFERROR(VLOOKUP(A498,'1.Портфель кредитів'!A:Z,14,FALSE),\"\")","v":""}]
[null,{"$f":"IFERROR(VLOOKUP(A499,'1.Портфель кредитів'!A:Z,3,FALSE),\"\")","v":""},{"$f":"IFERROR(VLOOKUP(A499,'1.Портфель кредитів'!A:Z,7,FALSE),\"\")","v":""},{"$f":"IFERROR(VLOOKUP(A499,'1.Портфель кредитів'!A:Z,14,FALSE),\"\")","v":""}]
[null,{"$f":"IFERROR(VLOOKUP(A500,'1.Портфель кредитів'!A:Z,3,FALSE),\"\")","v":""},{"$f":"IFERROR(VLOOKUP(A500,'1.Портфель кредитів'!A:Z,7,FALSE),\"\")","v":""},{"$f":"IFERROR(VLOOKUP(A500,'1.Портфель кредитів'!A:Z,14,FALSE),\"\")","v":""}]
[null,{"$f":"IFERROR(VLOOKUP(A501,'1.Портфель кредитів'!A:Z,3,FALSE),\"\")","v":""},{"$f":"IFERROR(VLOOKUP(A501,'1.Портфель кредитів'!A:Z,7,FALSE),\"\")","v":""},{"$f":"IFERROR(VLOOKUP(A501,'1.Портфель кредитів'!A:Z,14,FALSE),\"\")","v":""}]
[null,{"$f":"IFERROR(VLOOKUP(A502,'1.Портфель кредитів'!A:Z,3,FALSE),\"\")","v":""},{"$f":"IFERROR(VLOOKUP(A502,'1.Портфель кредитів'!A:Z,7,FALSE),\"\")","v":""},{"$f":"IFERROR(VLOOKUP(A502,'1.Портфель кредитів'!A:Z,14,FALSE),\"\")","v":""}]
[null,{"$f":"IFERROR(VLOOKUP(A503,'1.Портфель кредитів'!A:Z,3,FALSE),\"\")","v":""},{"$f":"IFERROR(VLOOKUP(A503,'1.Портфель кредитів'!A:Z,7,FALSE),\"\")","v":""},{"$f":"IFERROR(VLOOKUP(A503,'1.Портфель кредитів'!A:Z,14,FALSE),\"\")","v":""}]
[null,{"$f":"IFERROR(VLOOKUP(A504,'1.Портфель кредитів'!A:Z,3,FALSE),\"\")","v":""},{"$f":"IFERROR(VLOOKUP(A504,'1.Портфель кредитів'!A:Z,7,FALSE),\"\")","v":""},{"$f":"IFERROR(VLOOKUP(A504,'1.Портфель кредитів'!A:Z,14,FALSE),\"\")","v":""}]
[null,{"$f":"IFERROR(VLOOKUP(A505,'1.Портфель кредитів'!A:Z,3,FALSE),\"\")","v":""},{"$f":"IFERROR(VLOOKUP(A505,'1.Портфель кредитів'!A:Z,7,FALSE),\"\")","v":""},{"$f":"IFERROR(VLOOKUP(A505,'1.Портфель кредитів'!A:Z,14,FALSE),\"\")","v":""}]
[null,{"$f":"IFERROR(VLOOKUP(A506,'1.Портфель кредитів'!A:Z,3,FALSE),\"\")","v":""},{"$f":"IFERROR(VLOOKUP(A506,'1.Портфель кредитів'!A:Z,7,FALSE),\"\")","v":""},{"$f":"IFERROR(VLOOKUP(A506,'1.Портфель кредитів'!A:Z,14,FALSE),\"\")","v":""}]
[null,{"$f":"IFERROR(VLOOKUP(A507,'1.Портфель кредитів'!A:Z,3,FALSE),\"\")","v":""},{"$f":"IFERROR(VLOOKUP(A507,'1.Портфель кредитів'!A:Z,7,FALSE),\"\")","v":""},{"$f":"IFERROR(VLOOKUP(A507,'1.Портфель кредитів'!A:Z,14,FALSE),\"\")","v":""}]
[null,{"$f":"IFERROR(VLOOKUP(A508,'1.Портфель кредитів'!A:Z,3,FALSE),\"\")","v":""},{"$f":"IFERROR(VLOOKUP(A508,'1.Портфель кредитів'!A:Z,7,FALSE),\"\")","v":""},{"$f":"IFERROR(VLOOKUP(A508,'1.Портфель кредитів'!A:Z,14,FALSE),\"\")","v":""}]
[null,{"$f":"IFERROR(VLOOKUP(A509,'1.Портфель кредитів'!A:Z,3,FALSE),\"\")","v":""},{"$f":"IFERROR(VLOOKUP(A509,'1.Портфель кредитів'!A:Z,7,FALSE),\"\")","v":""},{"$f":"IFERROR(VLOOKUP(A509,'1.Портфель кредитів'!A:Z,14,FALSE),\"\")","v":""}]
[null,{"$f":"IFERROR(VLOOKUP(A510,'1.Портфель кредитів'!A:Z,3,FALSE),\"\")","v":""},{"$f":"IFERROR(VLOOKUP(A510,'1.Портфель кредитів'!A:Z,7,FALSE),\"\")","v":""},{"$f":"IFERROR(VLOOKUP(A510,'1.Портфель кредитів'!A:Z,14,FALSE),\"\")","v":""}]
[null,{"$f":"IFERROR(VLOOKUP(A511,'1.Портфель кредитів'!A:Z,3,FALSE),\"\")","v":""},{"$f":"IFERROR(VLOOKUP(A511,'1.Портфель кредитів'!A:Z,7,FALSE),\"\")","v":""},{"$f":"IFERROR(VLOOKUP(A511,'1.Портфель кредитів'!A:Z,14,FALSE),\"\")","v":""}]
[null,{"$f":"IFERROR(VLOOKUP(A512,'1.Портфель кредитів'!A:Z,3,FALSE),\"\")","v":""},{"$f":"IFERROR(VLOOKUP(A512,'1.Портфель кредитів'!A:Z,7,FALSE),\"\")","v":""},{"$f":"IFERROR(VLOOKUP(A512,'1.Портфель кредитів'!A:Z,14,FALSE),\"\")","v":""}]
[null,{"$f":"IFERROR(VLOOKUP(A513,'1.Портфель кредитів'!A:Z,3,FALSE),\"\")","v":""},{"$f":"IFERROR(VLOOKUP(A513,'1.Портфель кредитів'!A:Z,7,FALSE),\"\")","v":""},{"$f":"IFERROR(VLOOKUP(A513,'1.Портфель кредитів'!A:Z,14,FALSE),\"\")","v":""}]
[null,{"$f":"IFERROR(VLOOKUP(A514,'1.Портфель кредитів'!A:Z,3,FALSE),\"\")","v":""},{"$f":"IFERROR(VLOOKUP(A514,'1.Портфель кредитів'!A:Z,7,FALSE),\"\")","v":""},{"$f":"IFERROR(VLOOKUP(A514,'1.Портфель кредитів'!A:Z,14,FALSE),\"\")","v":""}]
[null,{"$f":"IFERROR(VLOOKUP(A515,'1.Портфель кредитів'!A:Z,3,FALSE),\"\")","v":""},{"$f":"IFERROR(VLOOKUP(A515,'1.Портфель кредитів'!A:Z,7,FALSE),\"\")","v":""},{"$f":"IFERROR(VLOOKUP(A515,'1.Портфель кредитів'!A:Z,14,FALSE),\"\")","v":""}]
[null,{"$f":"IFERROR(VLOOKUP(A516,'1.Портфель кредитів'!A:Z,3,FALSE),\"\")","v":""},{"$f":"IFERROR(VLOOKUP(A516,'1.Портфель кредитів'!A:Z,7,FALSE),\"\")","v":""},{"$f":"IFERROR(VLOOKUP(A516,'1.Портфель кредитів'!A:Z,14,FALSE),\"\")","v":""}]
[null,{"$f":"IFERROR(VLOOKUP(A517,'1.Портфель кредитів'!A:Z,3,FALSE),\"\")","v":""},{"$f":"IFERROR(VLOOKUP(A517,'1.Портфель кредитів'!A:Z,7,FALSE),\"\")","v":""},{"$f":"IFERROR(VLOOKUP(A517,'1.Портфель кредитів'!A:Z,14,FALSE),\"\")","v":""}]
[null,{"$f":"IFERROR(VLOOKUP(A518,'1.Портфель кредитів'!A:Z,3,FALSE),\"\")","v":""},{"$f":"IFERROR(VLOOKUP(A518,'1.Портфель кредитів'!A:Z,7,FALSE),\"\")","v":""},{"$f":"IFERROR(VLOOKUP(A518,'1.Портфель кредитів'!A:Z,14,FALSE),\"\")","v":""}]
[null,{"$f":"IFERROR(VLOOKUP(A519,'1.Портфель кредитів'!A:Z,3,FALSE),\"\")","v":""},{"$f":"IFERROR(VLOOKUP(A519,'1.Портфель кредитів'!A:Z,7,FALSE),\"\")","v":""},{"$f":"IFERROR(VLOOKUP(A519,'1.Портфель кредитів'!A:Z,14,FALSE),\"\")","v":""}]
[null,{"$f":"IFERROR(VLOOKUP(A520,'1.Портфель кредитів'!A:Z,3,FALSE),\"\")","v":""},{"$f":"IFERROR(VLOOKUP(A520,'1.Портфель кредитів'!A:Z,7,FALSE),\"\")","v":""},{"$f":"IFERROR(VLOOKUP(A520,'1.Портфель кредитів'!A:Z,14,FALSE),\"\")","v":""}]
[null,{"$f":"IFERROR(VLOOKUP(A521,'1.Портфель кредитів'!A:Z,3,FALSE),\"\")","v":""},{"$f":"IFERROR(VLOOKUP(A521,'1.Портфель кредитів'!A:Z,7,FALSE),\"\")","v":""},{"$f":"IFERROR(VLOOKUP(A521,'1.Портфель кредитів'!A:Z,14,FALSE),\"\")","v":""}]
[null,{"$f":"IFERROR(VLOOKUP(A522,'1.Портфель кредитів'!A:Z,3,FALSE),\"\")","v":""},{"$f":"IFERROR(VLOOKUP(A522,'1.Портфель кредитів'!A:Z,7,FALSE),\"\")","v":""},{"$f":"IFERROR(VLOOKUP(A522,'1.Портфель кредитів'!A:Z,14,FALSE),\"\")","v":""}]
[null,{"$f":"IFERROR(VLOOKUP(A523,'1.Портфель кредитів'!A:Z,3,FALSE),\"\")","v":""},{"$f":"IFERROR(VLOOKUP(A523,'1.Портфель кредитів'!A:Z,7,FALSE),\"\")","v":""},{"$f":"IFERROR(VLOOKUP(A523,'1.Портфель кредитів'!A:Z,14,FALSE),\"\")","v":""}]
[null,{"$f":"IFERROR(VLOOKUP(A524,'1.Портфель кредитів'!A:Z,3,FALSE),\"\")","v":""},{"$f":"IFERROR(VLOOKUP(A524,'1.Портфель кредитів'!A:Z,7,FALSE),\"\")","v":""},{"$f":"IFERROR(VLOOKUP(A524,'1.Портфель кредитів'!A:Z,14,FALSE),\"\")","v":""}]
[null,{"$f":"IFERROR(VLOOKUP(A525,'1.Портфель кредитів'!A:Z,3,FALSE),\"\")","v":""},{"$f":"IFERROR(VLOOKUP(A525,'1.Портфель кредитів'!A:Z,7,FALSE),\"\")","v":""},{"$f":"IFERROR(VLOOKUP(A525,'1.Портфель кредитів'!A:Z,14,FALSE),\"\")","v":""}]
[null,{"$f":"IFERROR(VLOOKUP(A526,'1.Портфель кредитів'!A:Z,3,FALSE),\"\")","v":""},{"$f":"IFERROR(VLOOKUP(A526,'1.Портфель кредитів'!A:Z,7,FALSE),\"\")","v":""},{"$f":"IFERROR(VLOOKUP(A526,'1.Портфель кредитів'!A:Z,14,FALSE),\"\")","v":""}]
[null,{"$f":"IFERROR(VLOOKUP(A527,'1.Портфель кредитів'!A:Z,3,FALSE),\"\")","v":""},{"$f":"IFERROR(VLOOKUP(A527,'1.Портфель кредитів'!A:Z,7,FALSE),\"\")","v":""},{"$f":"IFERROR(VLOOKUP(A527,'1.Портфель кредитів'!A:Z,14,FALSE),\"\")","v":""}]
[null,{"$f":"IFERROR(VLOOKUP(A528,'1.Портфель кредитів'!A:Z,3,FALSE),\"\")","v":""},{"$f":"IFERROR(VLOOKUP(A528,'1.Портфель кредитів'!A:Z,7,FALSE),\"\")","v":""},{"$f":"IFERROR(VLOOKUP(A528,'1.Портфель кредитів'!A:Z,14,FALSE),\"\")","v":""}]
[null,{"$f":"IFERROR(VLOOKUP(A529,'1.Портфель кредитів'!A:Z,3,FALSE),\"\")","v":""},{"$f":"IFERROR(VLOOKUP(A529,'1.Портфель кредитів'!A:Z,7,FALSE),\"\")","v":""},{"$f":"IFERROR(VLOOKUP(A529,'1.Портфель кредитів'!A:Z,14,FALSE),\"\")","v":""}]
[null,{"$f":"IFERROR(VLOOKUP(A530,'1.Портфель кредитів'!A:Z,3,FALSE),\"\")","v":""},{"$f":"IFERROR(VLOOKUP(A530,'1.Портфель кредитів'!A:Z,7,FALSE),\"\")","v":""},{"$f":"IFERROR(VLOOKUP(A530,'1.Портфель кредитів'!A:Z,14,FALSE),\"\")","v":""}]
[null,{"$f":"IFERROR(VLOOKUP(A531,'1.Портфель кредитів'!A:Z,3,FALSE),\"\")","v":""},{"$f":"IFERROR(VLOOKUP(A531,'1.Портфель кредитів'!A:Z,7,FALSE),\"\")","v":""},{"$f":"IFERROR(VLOOKUP(A531,'1.Портфель кредитів'!A:Z,14,FALSE),\"\")","v":""}]
[null,{"$f":"IFERROR(VLOOKUP(A532,'1.Портфель кредитів'!A:Z,3,FALSE),\"\")","v":""},{"$f":"IFERROR(VLOOKUP(A532,'1.Портфель кредитів'!A:Z,7,FALSE),\"\")","v":""},{"$f":"IFERROR(VLOOKUP(A532,'1.Портфель кредитів'!A:Z,14,FALSE),\"\")","v":""}]
[null,{"$f":"IFERROR(VLOOKUP(A533,'1.Портфель кредитів'!A:Z,3,FALSE),\"\")","v":""},{"$f":"IFERROR(VLOOKUP(A533,'1.Портфель кредитів'!A:Z,7,FALSE),\"\")","v":""},{"$f":"IFERROR(VLOOKUP(A533,'1.Портфель кредитів'!A:Z,14,FALSE),\"\")","v":""}]
[null,{"$f":"IFERROR(VLOOKUP(A534,'1.Портфель кредитів'!A:Z,3,FALSE),\"\")","v":""},{"$f":"IFERROR(VLOOKUP(A534,'1.Портфель кредитів'!A:Z,7,FALSE),\"\")","v":""},{"$f":"IFERROR(VLOOKUP(A534,'1.Портфель кредитів'!A:Z,14,FALSE),\"\")","v":""}]
[null,{"$f":"IFERROR(VLOOKUP(A535,'1.Портфель кредитів'!A:Z,3,FALSE),\"\")","v":""},{"$f":"IFERROR(VLOOKUP(A535,'1.Портфель кредитів'!A:Z,7,FALSE),\"\")","v":""},{"$f":"IFERROR(VLOOKUP(A535,'1.Портфель кредитів'!A:Z,14,FALSE),\"\")","v":""}]
[null,{"$f":"IFERROR(VLOOKUP(A536,'1.Портфель кредитів'!A:Z,3,FALSE),\"\")","v":""},{"$f":"IFERROR(VLOOKUP(A536,'1.Портфель кредитів'!A:Z,7,FALSE),\"\")","v":""},{"$f":"IFERROR(VLOOKUP(A536,'1.Портфель кредитів'!A:Z,14,FALSE),\"\")","v":""}]
[null,{"$f":"IFERROR(VLOOKUP(A537,'1.Портфель кредитів'!A:Z,3,FALSE),\"\")","v":""},{"$f":"IFERROR(VLOOKUP(A537,'1.Портфель кредитів'!A:Z,7,FALSE),\"\")","v":""},{"$f":"IFERROR(VLOOKUP(A537,'1.Портфель кредитів'!A:Z,14,FALSE),\"\")","v":""}]
[null,{"$f":"IFERROR(VLOOKUP(A538,'1.Портфель кредитів'!A:Z,3,FALSE),\"\")","v":""},{"$f":"IFERROR(VLOOKUP(A538,'1.Портфель кредитів'!A:Z,7,FALSE),\"\")","v":""},{"$f":"IFERROR(VLOOKUP(A538,'1.Портфель кредитів'!A:Z,14,FALSE),\"\")","v":""}]
[null,{"$f":"IFERROR(VLOOKUP(A539,'1.Портфель кредитів'!A:Z,3,FALSE),\"\")","v":""},{"$f":"IFERROR(VLOOKUP(A539,'1.Портфель кредитів'!A:Z,7,FALSE),\"\")","v":""},{"$f":"IFERROR(VLOOKUP(A539,'1.Портфель кредитів'!A:Z,14,FALSE),\"\")","v":""}]
[null,{"$f":"IFERROR(VLOOKUP(A540,'1.Портфель кредитів'!A:Z,3,FALSE),\"\")","v":""},{"$f":"IFERROR(VLOOKUP(A540,'1.Портфель кредитів'!A:Z,7,FALSE),\"\")","v":""},{"$f":"IFERROR(VLOOKUP(A540,'1.Портфель кредитів'!A:Z,14,FALSE),\"\")","v":""}]
[null,{"$f":"IFERROR(VLOOKUP(A541,'1.Портфель кредитів'!A:Z,3,FALSE),\"\")","v":""},{"$f":"IFERROR(VLOOKUP(A541,'1.Портфель кредитів'!A:Z,7,FALSE),\"\")","v":""},{"$f":"IFERROR(VLOOKUP(A541,'1.Портфель кредитів'!A:Z,14,FALSE),\"\")","v":""}]
[null,{"$f":"IFERROR(VLOOKUP(A542,'1.Портфель кредитів'!A:Z,3,FALSE),\"\")","v":""},{"$f":"IFERROR(VLOOKUP(A542,'1.Портфель кредитів'!A:Z,7,FALSE),\"\")","v":""},{"$f":"IFERROR(VLOOKUP(A542,'1.Портфель кредитів'!A:Z,14,FALSE),\"\")","v":""}]
[null,{"$f":"IFERROR(VLOOKUP(A543,'1.Портфель кредитів'!A:Z,3,FALSE),\"\")","v":""},{"$f":"IFERROR(VLOOKUP(A543,'1.Портфель кредитів'!A:Z,7,FALSE),\"\")","v":""},{"$f":"IFERROR(VLOOKUP(A543,'1.Портфель кредитів'!A:Z,14,FALSE),\"\")","v":""}]
[null,{"$f":"IFERROR(VLOOKUP(A544,'1.Портфель кредитів'!A:Z,3,FALSE),\"\")","v":""},{"$f":"IFERROR(VLOOKUP(A544,'1.Портфель кредитів'!A:Z,7,FALSE),\"\")","v":""},{"$f":"IFERROR(VLOOKUP(A544,'1.Портфель кредитів'!A:Z,14,FALSE),\"\")","v":""}]
[null,{"$f":"IFERROR(VLOOKUP(A545,'1.Портфель кредитів'!A:Z,3,FALSE),\"\")","v":""},{"$f":"IFERROR(VLOOKUP(A545,'1.Портфель кредитів'!A:Z,7,FALSE),\"\")","v":""},{"$f":"IFERROR(VLOOKUP(A545,'1.Портфель кредитів'!A:Z,14,FALSE),\"\")","v":""}]
[null,{"$f":"IFERROR(VLOOKUP(A546,'1.Портфель кредитів'!A:Z,3,FALSE),\"\")","v":""},{"$f":"IFERROR(VLOOKUP(A546,'1.Портфель кредитів'!A:Z,7,FALSE),\"\")","v":""},{"$f":"IFERROR(VLOOKUP(A546,'1.Портфель кредитів'!A:Z,14,FALSE),\"\")","v":""}]
[null,{"$f":"IFERROR(VLOOKUP(A547,'1.Портфель кредитів'!A:Z,3,FALSE),\"\")","v":""},{"$f":"IFERROR(VLOOKUP(A547,'1.Портфель кредитів'!A:Z,7,FALSE),\"\")","v":""},{"$f":"IFERROR(VLOOKUP(A547,'1.Портфель кредитів'!A:Z,14,FALSE),\"\")","v":""}]
[null,{"$f":"IFERROR(VLOOKUP(A548,'1.Портфель кредитів'!A:Z,3,FALSE),\"\")","v":""},{"$f":"IFERROR(VLOOKUP(A548,'1.Портфель кредитів'!A:Z,7,FALSE),\"\")","v":""},{"$f":"IFERROR(VLOOKUP(A548,'1.Портфель кредитів'!A:Z,14,FALSE),\"\")","v":""}]
[null,{"$f":"IFERROR(VLOOKUP(A549,'1.Портфель кредитів'!A:Z,3,FALSE),\"\")","v":""},{"$f":"IFERROR(VLOOKUP(A549,'1.Портфель кредитів'!A:Z,7,FALSE),\"\")","v":""},{"$f":"IFERROR(VLOOKUP(A549,'1.Портфель кредитів'!A:Z,14,FALSE),\"\")","v":""}]
[null,{"$f":"IFERROR(VLOOKUP(A550,'1.Портфель кредитів'!A:Z,3,FALSE),\"\")","v":""},{"$f":"IFERROR(VLOOKUP(A550,'1.Портфель кредитів'!A:Z,7,FALSE),\"\")","v":""},{"$f":"IFERROR(VLOOKUP(A550,'1.Портфель кредитів'!A:Z,14,FALSE),\"\")","v":""}]
[null,{"$f":"IFERROR(VLOOKUP(A551,'1.Портфель кредитів'!A:Z,3,FALSE),\"\")","v":""},{"$f":"IFERROR(VLOOKUP(A551,'1.Портфель кредитів'!A:Z,7,FALSE),\"\")","v":""},{"$f":"IFERROR(VLOOKUP(A551,'1.Портфель кредитів'!A:Z,14,FALSE),\"\")","v":""}]
[null,{"$f":"IFERROR(VLOOKUP(A552,'1.Портфель кредитів'!A:Z,3,FALSE),\"\")","v":""},{"$f":"IFERROR(VLOOKUP(A552,'1.Портфель кредитів'!A:Z,7,FALSE),\"\")","v":""},{"$f":"IFERROR(VLOOKUP(A552,'1.Портфель кредитів'!A:Z,14,FALSE),\"\")","v":""}]
[null,{"$f":"IFERROR(VLOOKUP(A553,'1.Портфель кредитів'!A:Z,3,FALSE),\"\")","v":""},{"$f":"IFERROR(VLOOKUP(A553,'1.Портфель кредитів'!A:Z,7,FALSE),\"\")","v":""},{"$f":"IFERROR(VLOOKUP(A553,'1.Портфель кредитів'!A:Z,14,FALSE),\"\")","v":""}]
[null,{"$f":"IFERROR(VLOOKUP(A554,'1.Портфель кредитів'!A:Z,3,FALSE),\"\")","v":""},{"$f":"IFERROR(VLOOKUP(A554,'1.Портфель кредитів'!A:Z,7,FALSE),\"\")","v":""},{"$f":"IFERROR(VLOOKUP(A554,'1.Портфель кредитів'!A:Z,14,FALSE),\"\")","v":""}]
[null,{"$f":"IFERROR(VLOOKUP(A555,'1.Портфель кредитів'!A:Z,3,FALSE),\"\")","v":""},{"$f":"IFERROR(VLOOKUP(A555,'1.Портфель кредитів'!A:Z,7,FALSE),\"\")","v":""},{"$f":"IFERROR(VLOOKUP(A555,'1.Портфель кредитів'!A:Z,14,FALSE),\"\")","v":""}]
[null,{"$f":"IFERROR(VLOOKUP(A556,'1.Портфель кредитів'!A:Z,3,FALSE),\"\")","v":""},{"$f":"IFERROR(VLOOKUP(A556,'1.Портфель кредитів'!A:Z,7,FALSE),\"\")","v":""},{"$f":"IFERROR(VLOOKUP(A556,'1.Портфель кредитів'!A:Z,14,FALSE),\"\")","v":""}]
[null,{"$f":"IFERROR(VLOOKUP(A557,'1.Портфель кредитів'!A:Z,3,FALSE),\"\")","v":""},{"$f":"IFERROR(VLOOKUP(A557,'1.Портфель кредитів'!A:Z,7,FALSE),\"\")","v":""},{"$f":"IFERROR(VLOOKUP(A557,'1.Портфель кредитів'!A:Z,14,FALSE),\"\")","v":""}]
[null,{"$f":"IFERROR(VLOOKUP(A558,'1.Портфель кредитів'!A:Z,3,FALSE),\"\")","v":""},{"$f":"IFERROR(VLOOKUP(A558,'1.Портфель кредитів'!A:Z,7,FALSE),\"\")","v":""},{"$f":"IFERROR(VLOOKUP(A558,'1.Портфель кредитів'!A:Z,14,FALSE),\"\")","v":""}]
[null,{"$f":"IFERROR(VLOOKUP(A559,'1.Портфель кредитів'!A:Z,3,FALSE),\"\")","v":""},{"$f":"IFERROR(VLOOKUP(A559,'1.Портфель кредитів'!A:Z,7,FALSE),\"\")","v":""},{"$f":"IFERROR(VLOOKUP(A559,'1.Портфель кредитів'!A:Z,14,FALSE),\"\")","v":""}]
[null,{"$f":"IFERROR(VLOOKUP(A560,'1.Портфель кредитів'!A:Z,3,FALSE),\"\")","v":""},{"$f":"IFERROR(VLOOKUP(A560,'1.Портфель кредитів'!A:Z,7,FALSE),\"\")","v":""},{"$f":"IFERROR(VLOOKUP(A560,'1.Портфель кредитів'!A:Z,14,FALSE),\"\")","v":""}]
[null,{"$f":"IFERROR(VLOOKUP(A561,'1.Портфель кредитів'!A:Z,3,FALSE),\"\")","v":""},{"$f":"IFERROR(VLOOKUP(A561,'1.Портфель кредитів'!A:Z,7,FALSE),\"\")","v":""},{"$f":"IFERROR(VLOOKUP(A561,'1.Портфель кредитів'!A:Z,14,FALSE),\"\")","v":""}]
[null,{"$f":"IFERROR(VLOOKUP(A562,'1.Портфель кредитів'!A:Z,3,FALSE),\"\")","v":""},{"$f":"IFERROR(VLOOKUP(A562,'1.Портфель кредитів'!A:Z,7,FALSE),\"\")","v":""},{"$f":"IFERROR(VLOOKUP(A562,'1.Портфель кредитів'!A:Z,14,FALSE),\"\")","v":""}]
[null,{"$f":"IFERROR(VLOOKUP(A563,'1.Портфель кредитів'!A:Z,3,FALSE),\"\")","v":""},{"$f":"IFERROR(VLOOKUP(A563,'1.Портфель кредитів'!A:Z,7,FALSE),\"\")","v":""},{"$f":"IFERROR(VLOOKUP(A563,'1.Портфель кредитів'!A:Z,14,FALSE),\"\")","v":""}]
[null,{"$f":"IFERROR(VLOOKUP(A564,'1.Портфель кредитів'!A:Z,3,FALSE),\"\")","v":""},{"$f":"IFERROR(VLOOKUP(A564,'1.Портфель кредитів'!A:Z,7,FALSE),\"\")","v":""},{"$f":"IFERROR(VLOOKUP(A564,'1.Портфель кредитів'!A:Z,14,FALSE),\"\")","v":""}]
[null,{"$f":"IFERROR(VLOOKUP(A565,'1.Портфель кредитів'!A:Z,3,FALSE),\"\")","v":""},{"$f":"IFERROR(VLOOKUP(A565,'1.Портфель кредитів'!A:Z,7,FALSE),\"\")","v":""},{"$f":"IFERROR(VLOOKUP(A565,'1.Портфель кредитів'!A:Z,14,FALSE),\"\")","v":""}]
[null,{"$f":"IFERROR(VLOOKUP(A566,'1.Портфель кредитів'!A:Z,3,FALSE),\"\")","v":""},{"$f":"IFERROR(VLOOKUP(A566,'1.Портфель кредитів'!A:Z,7,FALSE),\"\")","v":""},{"$f":"IFERROR(VLOOKUP(A566,'1.Портфель кредитів'!A:Z,14,FALSE),\"\")","v":""}]
[null,{"$f":"IFERROR(VLOOKUP(A567,'1.Портфель кредитів'!A:Z,3,FALSE),\"\")","v":""},{"$f":"IFERROR(VLOOKUP(A567,'1.Портфель кредитів'!A:Z,7,FALSE),\"\")","v":""},{"$f":"IFERROR(VLOOKUP(A567,'1.Портфель кредитів'!A:Z,14,FALSE),\"\")","v":""}]
[null,{"$f":"IFERROR(VLOOKUP(A568,'1.Портфель кредитів'!A:Z,3,FALSE),\"\")","v":""},{"$f":"IFERROR(VLOOKUP(A568,'1.Портфель кредитів'!A:Z,7,FALSE),\"\")","v":""},{"$f":"IFERROR(VLOOKUP(A568,'1.Портфель кредитів'!A:Z,14,FALSE),\"\")","v":""}]
[null,{"$f":"IFERROR(VLOOKUP(A569,'1.Портфель кредитів'!A:Z,3,FALSE),\"\")","v":""},{"$f":"IFERROR(VLOOKUP(A569,'1.Портфель кредитів'!A:Z,7,FALSE),\"\")","v":""},{"$f":"IFERROR(VLOOKUP(A569,'1.Портфель кредитів'!A:Z,14,FALSE),\"\")","v":""}]
[null,{"$f":"IFERROR(VLOOKUP(A570,'1.Портфель кредитів'!A:Z,3,FALSE),\"\")","v":""},{"$f":"IFERROR(VLOOKUP(A570,'1.Портфель кредитів'!A:Z,7,FALSE),\"\")","v":""},{"$f":"IFERROR(VLOOKUP(A570,'1.Портфель кредитів'!A:Z,14,FALSE),\"\")","v":""}]
[null,{"$f":"IFERROR(VLOOKUP(A571,'1.Портфель кредитів'!A:Z,3,FALSE),\"\")","v":""},{"$f":"IFERROR(VLOOKUP(A571,'1.Портфель кредитів'!A:Z,7,FALSE),\"\")","v":""},{"$f":"IFERROR(VLOOKUP(A571,'1.Портфель кредитів'!A:Z,14,FALSE),\"\")","v":""}]
[null,{"$f":"IFERROR(VLOOKUP(A572,'1.Портфель кредитів'!A:Z,3,FALSE),\"\")","v":""},{"$f":"IFERROR(VLOOKUP(A572,'1.Портфель кредитів'!A:Z,7,FALSE),\"\")","v":""},{"$f":"IFERROR(VLOOKUP(A572,'1.Портфель кредитів'!A:Z,14,FALSE),\"\")","v":""}]
[null,{"$f":"IFERROR(VLOOKUP(A573,'1.Портфель кредитів'!A:Z,3,FALSE),\"\")","v":""},{"$f":"IFERROR(VLOOKUP(A573,'1.Портфель кредитів'!A:Z,7,FALSE),\"\")","v":""},{"$f":"IFERROR(VLOOKUP(A573,'1.Портфель кредитів'!A:Z,14,FALSE),\"\")","v":""}]
[null,{"$f":"IFERROR(VLOOKUP(A574,'1.Портфель кредитів'!A:Z,3,FALSE),\"\")","v":""},{"$f":"IFERROR(VLOOKUP(A574,'1.Портфель кредитів'!A:Z,7,FALSE),\"\")","v":""},{"$f":"IFERROR(VLOOKUP(A574,'1.Портфель кредитів'!A:Z,14,FALSE),\"\")","v":""}]
[null,{"$f":"IFERROR(VLOOKUP(A575,'1.Портфель кредитів'!A:Z,3,FALSE),\"\")","v":""},{"$f":"IFERROR(VLOOKUP(A575,'1.Портфель кредитів'!A:Z,7,FALSE),\"\")","v":""},{"$f":"IFERROR(VLOOKUP(A575,'1.Портфель кредитів'!A:Z,14,FALSE),\"\")","v":""}]
[null,{"$f":"IFERROR(VLOOKUP(A576,'1.Портфель кредитів'!A:Z,3,FALSE),\"\")","v":""},{"$f":"IFERROR(VLOOKUP(A576,'1.Портфель кредитів'!A:Z,7,FALSE),\"\")","v":""},{"$f":"IFERROR(VLOOKUP(A576,'1.Портфель кредитів'!A:Z,14,FALSE),\"\")","v":""}]
[null,{"$f":"IFERROR(VLOOKUP(A577,'1.Портфель кредитів'!A:Z,3,FALSE),\"\")","v":""},{"$f":"IFERROR(VLOOKUP(A577,'1.Портфель кредитів'!A:Z,7,FALSE),\"\")","v":""},{"$f":"IFERROR(VLOOKUP(A577,'1.Портфель кредитів'!A:Z,14,FALSE),\"\")","v":""}]
[null,{"$f":"IFERROR(VLOOKUP(A578,'1.Портфель кредитів'!A:Z,3,FALSE),\"\")","v":""},{"$f":"IFERROR(VLOOKUP(A578,'1.Портфель кредитів'!A:Z,7,FALSE),\"\")","v":""},{"$f":"IFERROR(VLOOKUP(A578,'1.Портфель кредитів'!A:Z,14,FALSE),\"\")","v":""}]
[null,{"$f":"IFERROR(VLOOKUP(A579,'1.Портфель кредитів'!A:Z,3,FALSE),\"\")","v":""},{"$f":"IFERROR(VLOOKUP(A579,'1.Портфель кредитів'!A:Z,7,FALSE),\"\")","v":""},{"$f":"IFERROR(VLOOKUP(A579,'1.Портфель кредитів'!A:Z,14,FALSE),\"\")","v":""}]
[null,{"$f":"IFERROR(VLOOKUP(A580,'1.Портфель кредитів'!A:Z,3,FALSE),\"\")","v":""},{"$f":"IFERROR(VLOOKUP(A580,'1.Портфель кредитів'!A:Z,7,FALSE),\"\")","v":""},{"$f":"IFERROR(VLOOKUP(A580,'1.Портфель кредитів'!A:Z,14,FALSE),\"\")","v":""}]
[null,{"$f":"IFERROR(VLOOKUP(A581,'1.Портфель кредитів'!A:Z,3,FALSE),\"\")","v":""},{"$f":"IFERROR(VLOOKUP(A581,'1.Портфель кредитів'!A:Z,7,FALSE),\"\")","v":""},{"$f":"IFERROR(VLOOKUP(A581,'1.Портфель кредитів'!A:Z,14,FALSE),\"\")","v":""}]
[null,{"$f":"IFERROR(VLOOKUP(A582,'1.Портфель кредитів'!A:Z,3,FALSE),\"\")","v":""},{"$f":"IFERROR(VLOOKUP(A582,'1.Портфель кредитів'!A:Z,7,FALSE),\"\")","v":""},{"$f":"IFERROR(VLOOKUP(A582,'1.Портфель кредитів'!A:Z,14,FALSE),\"\")","v":""}]
[null,{"$f":"IFERROR(VLOOKUP(A583,'1.Портфель кредитів'!A:Z,3,FALSE),\"\")","v":""},{"$f":"IFERROR(VLOOKUP(A583,'1.Портфель кредитів'!A:Z,7,FALSE),\"\")","v":""},{"$f":"IFERROR(VLOOKUP(A583,'1.Портфель кредитів'!A:Z,14,FALSE),\"\")","v":""}]
[null,{"$f":"IFERROR(VLOOKUP(A584,'1.Портфель кредитів'!A:Z,3,FALSE),\"\")","v":""},{"$f":"IFERROR(VLOOKUP(A584,'1.Портфель кредитів'!A:Z,7,FALSE),\"\")","v":""},{"$f":"IFERROR(VLOOKUP(A584,'1.Портфель кредитів'!A:Z,14,FALSE),\"\")","v":""}]
[null,{"$f":"IFERROR(VLOOKUP(A585,'1.Портфель кредитів'!A:Z,3,FALSE),\"\")","v":""},{"$f":"IFERROR(VLOOKUP(A585,'1.Портфель кредитів'!A:Z,7,FALSE),\"\")","v":""},{"$f":"IFERROR(VLOOKUP(A585,'1.Портфель кредитів'!A:Z,14,FALSE),\"\")","v":""}]
[null,{"$f":"IFERROR(VLOOKUP(A586,'1.Портфель кредитів'!A:Z,3,FALSE),\"\")","v":""},{"$f":"IFERROR(VLOOKUP(A586,'1.Портфель кредитів'!A:Z,7,FALSE),\"\")","v":""},{"$f":"IFERROR(VLOOKUP(A586,'1.Портфель кредитів'!A:Z,14,FALSE),\"\")","v":""}]
[null,{"$f":"IFERROR(VLOOKUP(A587,'1.Портфель кредитів'!A:Z,3,FALSE),\"\")","v":""},{"$f":"IFERROR(VLOOKUP(A587,'1.Портфель кредитів'!A:Z,7,FALSE),\"\")","v":""},{"$f":"IFERROR(VLOOKUP(A587,'1.Портфель кредитів'!A:Z,14,FALSE),\"\")","v":""}]
[null,{"$f":"IFERROR(VLOOKUP(A588,'1.Портфель кредитів'!A:Z,3,FALSE),\"\")","v":""},{"$f":"IFERROR(VLOOKUP(A588,'1.Портфель кредитів'!A:Z,7,FALSE),\"\")","v":""},{"$f":"IFERROR(VLOOKUP(A588,'1.Портфель кредитів'!A:Z,14,FALSE),\"\")","v":""}]
[null,{"$f":"IFERROR(VLOOKUP(A589,'1.Портфель кредитів'!A:Z,3,FALSE),\"\")","v":""},{"$f":"IFERROR(VLOOKUP(A589,'1.Портфель кредитів'!A:Z,7,FALSE),\"\")","v":""},{"$f":"IFERROR(VLOOKUP(A589,'1.Портфель кредитів'!A:Z,14,FALSE),\"\")","v":""}]
[null,{"$f":"IFERROR(VLOOKUP(A590,'1.Портфель кредитів'!A:Z,3,FALSE),\"\")","v":""},{"$f":"IFERROR(VLOOKUP(A590,'1.Портфель кредитів'!A:Z,7,FALSE),\"\")","v":""},{"$f":"IFERROR(VLOOKUP(A590,'1.Портфель кредитів'!A:Z,14,FALSE),\"\")","v":""}]
[null,{"$f":"IFERROR(VLOOKUP(A591,'1.Портфель кредитів'!A:Z,3,FALSE),\"\")","v":""},{"$f":"IFERROR(VLOOKUP(A591,'1.Портфель кредитів'!A:Z,7,FALSE),\"\")","v":""},{"$f":"IFERROR(VLOOKUP(A591,'1.Портфель кредитів'!A:Z,14,FALSE),\"\")","v":""}]
[null,{"$f":"IFERROR(VLOOKUP(A592,'1.Портфель кредитів'!A:Z,3,FALSE),\"\")","v":""},{"$f":"IFERROR(VLOOKUP(A592,'1.Портфель кредитів'!A:Z,7,FALSE),\"\")","v":""},{"$f":"IFERROR(VLOOKUP(A592,'1.Портфель кредитів'!A:Z,14,FALSE),\"\")","v":""}]
[null,{"$f":"IFERROR(VLOOKUP(A593,'1.Портфель кредитів'!A:Z,3,FALSE),\"\")","v":""},{"$f":"IFERROR(VLOOKUP(A593,'1.Портфель кредитів'!A:Z,7,FALSE),\"\")","v":""},{"$f":"IFERROR(VLOOKUP(A593,'1.Портфель кредитів'!A:Z,14,FALSE),\"\")","v":""}]
[null,{"$f":"IFERROR(VLOOKUP(A594,'1.Портфель кредитів'!A:Z,3,FALSE),\"\")","v":""},{"$f":"IFERROR(VLOOKUP(A594,'1.Портфель кредитів'!A:Z,7,FALSE),\"\")","v":""},{"$f":"IFERROR(VLOOKUP(A594,'1.Портфель кредитів'!A:Z,14,FALSE),\"\")","v":""}]
[null,{"$f":"IFERROR(VLOOKUP(A595,'1.Портфель кредитів'!A:Z,3,FALSE),\"\")","v":""},{"$f":"IFERROR(VLOOKUP(A595,'1.Портфель кредитів'!A:Z,7,FALSE),\"\")","v":""},{"$f":"IFERROR(VLOOKUP(A595,'1.Портфель кредитів'!A:Z,14,FALSE),\"\")","v":""}]
[null,{"$f":"IFERROR(VLOOKUP(A596,'1.Портфель кредитів'!A:Z,3,FALSE),\"\")","v":""},{"$f":"IFERROR(VLOOKUP(A596,'1.Портфель кредитів'!A:Z,7,FALSE),\"\")","v":""},{"$f":"IFERROR(VLOOKUP(A596,'1.Портфель кредитів'!A:Z,14,FALSE),\"\")","v":""}]
[null,{"$f":"IFERROR(VLOOKUP(A597,'1.Портфель кредитів'!A:Z,3,FALSE),\"\")","v":""},{"$f":"IFERROR(VLOOKUP(A597,'1.Портфель кредитів'!A:Z,7,FALSE),\"\")","v":""},{"$f":"IFERROR(VLOOKUP(A597,'1.Портфель кредитів'!A:Z,14,FALSE),\"\")","v":""}]
[null,{"$f":"IFERROR(VLOOKUP(A598,'1.Портфель кредитів'!A:Z,3,FALSE),\"\")","v":""},{"$f":"IFERROR(VLOOKUP(A598,'1.Портфель кредитів'!A:Z,7,FALSE),\"\")","v":""},{"$f":"IFERROR(VLOOKUP(A598,'1.Портфель кредитів'!A:Z,14,FALSE),\"\")","v":""}]
[null,{"$f":"IFERROR(VLOOKUP(A599,'1.Портфель кредитів'!A:Z,3,FALSE),\"\")","v":""},{"$f":"IFERROR(VLOOKUP(A599,'1.Портфель кредитів'!A:Z,7,FALSE),\"\")","v":""},{"$f":"IFERROR(VLOOKUP(A599,'1.Портфель кредитів'!A:Z,14,FALSE),\"\")","v":""}]
[null,{"$f":"IFERROR(VLOOKUP(A600,'1.Портфель кредитів'!A:Z,3,FALSE),\"\")","v":""},{"$f":"IFERROR(VLOOKUP(A600,'1.Портфель кредитів'!A:Z,7,FALSE),\"\")","v":""},{"$f":"IFERROR(VLOOKUP(A600,'1.Портфель кредитів'!A:Z,14,FALSE),\"\")","v":""}]
[null,{"$f":"IFERROR(VLOOKUP(A601,'1.Портфель кредитів'!A:Z,3,FALSE),\"\")","v":""},{"$f":"IFERROR(VLOOKUP(A601,'1.Портфель кредитів'!A:Z,7,FALSE),\"\")","v":""},{"$f":"IFERROR(VLOOKUP(A601,'1.Портфель кредитів'!A:Z,14,FALSE),\"\")","v":""}]
[null,{"$f":"IFERROR(VLOOKUP(A602,'1.Портфель кредитів'!A:Z,3,FALSE),\"\")","v":""},{"$f":"IFERROR(VLOOKUP(A602,'1.Портфель кредитів'!A:Z,7,FALSE),\"\")","v":""},{"$f":"IFERROR(VLOOKUP(A602,'1.Портфель кредитів'!A:Z,14,FALSE),\"\")","v":""}]
[null,{"$f":"IFERROR(VLOOKUP(A603,'1.Портфель кредитів'!A:Z,3,FALSE),\"\")","v":""},{"$f":"IFERROR(VLOOKUP(A603,'1.Портфель кредитів'!A:Z,7,FALSE),\"\")","v":""},{"$f":"IFERROR(VLOOKUP(A603,'1.Портфель кредитів'!A:Z,14,FALSE),\"\")","v":""}]
[null,{"$f":"IFERROR(VLOOKUP(A604,'1.Портфель кредитів'!A:Z,3,FALSE),\"\")","v":""},{"$f":"IFERROR(VLOOKUP(A604,'1.Портфель кредитів'!A:Z,7,FALSE),\"\")","v":""},{"$f":"IFERROR(VLOOKUP(A604,'1.Портфель кредитів'!A:Z,14,FALSE),\"\")","v":""}]
[null,{"$f":"IFERROR(VLOOKUP(A605,'1.Портфель кредитів'!A:Z,3,FALSE),\"\")","v":""},{"$f":"IFERROR(VLOOKUP(A605,'1.Портфель кредитів'!A:Z,7,FALSE),\"\")","v":""},{"$f":"IFERROR(VLOOKUP(A605,'1.Портфель кредитів'!A:Z,14,FALSE),\"\")","v":""}]
[null,{"$f":"IFERROR(VLOOKUP(A606,'1.Портфель кредитів'!A:Z,3,FALSE),\"\")","v":""},{"$f":"IFERROR(VLOOKUP(A606,'1.Портфель кредитів'!A:Z,7,FALSE),\"\")","v":""},{"$f":"IFERROR(VLOOKUP(A606,'1.Портфель кредитів'!A:Z,14,FALSE),\"\")","v":""}]
[null,{"$f":"IFERROR(VLOOKUP(A607,'1.Портфель кредитів'!A:Z,3,FALSE),\"\")","v":""},{"$f":"IFERROR(VLOOKUP(A607,'1.Портфель кредитів'!A:Z,7,FALSE),\"\")","v":""},{"$f":"IFERROR(VLOOKUP(A607,'1.Портфель кредитів'!A:Z,14,FALSE),\"\")","v":""}]
[null,{"$f":"IFERROR(VLOOKUP(A608,'1.Портфель кредитів'!A:Z,3,FALSE),\"\")","v":""},{"$f":"IFERROR(VLOOKUP(A608,'1.Портфель кредитів'!A:Z,7,FALSE),\"\")","v":""},{"$f":"IFERROR(VLOOKUP(A608,'1.Портфель кредитів'!A:Z,14,FALSE),\"\")","v":""}]
[null,{"$f":"IFERROR(VLOOKUP(A609,'1.Портфель кредитів'!A:Z,3,FALSE),\"\")","v":""},{"$f":"IFERROR(VLOOKUP(A609,'1.Портфель кредитів'!A:Z,7,FALSE),\"\")","v":""},{"$f":"IFERROR(VLOOKUP(A609,'1.Портфель кредитів'!A:Z,14,FALSE),\"\")","v":""}]
[null,{"$f":"IFERROR(VLOOKUP(A610,'1.Портфель кредитів'!A:Z,3,FALSE),\"\")","v":""},{"$f":"IFERROR(VLOOKUP(A610,'1.Портфель кредитів'!A:Z,7,FALSE),\"\")","v":""},{"$f":"IFERROR(VLOOKUP(A610,'1.Портфель кредитів'!A:Z,14,FALSE),\"\")","v":""}]
[null,{"$f":"IFERROR(VLOOKUP(A611,'1.Портфель кредитів'!A:Z,3,FALSE),\"\")","v":""},{"$f":"IFERROR(VLOOKUP(A611,'1.Портфель кредитів'!A:Z,7,FALSE),\"\")","v":""},{"$f":"IFERROR(VLOOKUP(A611,'1.Портфель кредитів'!A:Z,14,FALSE),\"\")","v":""}]
[null,{"$f":"IFERROR(VLOOKUP(A612,'1.Портфель кредитів'!A:Z,3,FALSE),\"\")","v":""},{"$f":"IFERROR(VLOOKUP(A612,'1.Портфель кредитів'!A:Z,7,FALSE),\"\")","v":""},{"$f":"IFERROR(VLOOKUP(A612,'1.Портфель кредитів'!A:Z,14,FALSE),\"\")","v":""}]
[null,{"$f":"IFERROR(VLOOKUP(A613,'1.Портфель кредитів'!A:Z,3,FALSE),\"\")","v":""},{"$f":"IFERROR(VLOOKUP(A613,'1.Портфель кредитів'!A:Z,7,FALSE),\"\")","v":""},{"$f":"IFERROR(VLOOKUP(A613,'1.Портфель кредитів'!A:Z,14,FALSE),\"\")","v":""}]
[null,{"$f":"IFERROR(VLOOKUP(A614,'1.Портфель кредитів'!A:Z,3,FALSE),\"\")","v":""},{"$f":"IFERROR(VLOOKUP(A614,'1.Портфель кредитів'!A:Z,7,FALSE),\"\")","v":""},{"$f":"IFERROR(VLOOKUP(A614,'1.Портфель кредитів'!A:Z,14,FALSE),\"\")","v":""}]
[null,{"$f":"IFERROR(VLOOKUP(A615,'1.Портфель кредитів'!A:Z,3,FALSE),\"\")","v":""},{"$f":"IFERROR(VLOOKUP(A615,'1.Портфель кредитів'!A:Z,7,FALSE),\"\")","v":""},{"$f":"IFERROR(VLOOKUP(A615,'1.Портфель кредитів'!A:Z,14,FALSE),\"\")","v":""}]
[null,{"$f":"IFERROR(VLOOKUP(A616,'1.Портфель кредитів'!A:Z,3,FALSE),\"\")","v":""},{"$f":"IFERROR(VLOOKUP(A616,'1.Портфель кредитів'!A:Z,7,FALSE),\"\")","v":""},{"$f":"IFERROR(VLOOKUP(A616,'1.Портфель кредитів'!A:Z,14,FALSE),\"\")","v":""}]
[null,{"$f":"IFERROR(VLOOKUP(A617,'1.Портфель кредитів'!A:Z,3,FALSE),\"\")","v":""},{"$f":"IFERROR(VLOOKUP(A617,'1.Портфель кредитів'!A:Z,7,FALSE),\"\")","v":""},{"$f":"IFERROR(VLOOKUP(A617,'1.Портфель кредитів'!A:Z,14,FALSE),\"\")","v":""}]
[null,{"$f":"IFERROR(VLOOKUP(A618,'1.Портфель кредитів'!A:Z,3,FALSE),\"\")","v":""},{"$f":"IFERROR(VLOOKUP(A618,'1.Портфель кредитів'!A:Z,7,FALSE),\"\")","v":""},{"$f":"IFERROR(VLOOKUP(A618,'1.Портфель кредитів'!A:Z,14,FALSE),\"\")","v":""}]
[null,{"$f":"IFERROR(VLOOKUP(A619,'1.Портфель кредитів'!A:Z,3,FALSE),\"\")","v":""},{"$f":"IFERROR(VLOOKUP(A619,'1.Портфель кредитів'!A:Z,7,FALSE),\"\")","v":""},{"$f":"IFERROR(VLOOKUP(A619,'1.Портфель кредитів'!A:Z,14,FALSE),\"\")","v":""}]
[null,{"$f":"IFERROR(VLOOKUP(A620,'1.Портфель кредитів'!A:Z,3,FALSE),\"\")","v":""},{"$f":"IFERROR(VLOOKUP(A620,'1.Портфель кредитів'!A:Z,7,FALSE),\"\")","v":""},{"$f":"IFERROR(VLOOKUP(A620,'1.Портфель кредитів'!A:Z,14,FALSE),\"\")","v":""}]
[null,{"$f":"IFERROR(VLOOKUP(A621,'1.Портфель кредитів'!A:Z,3,FALSE),\"\")","v":""},{"$f":"IFERROR(VLOOKUP(A621,'1.Портфель кредитів'!A:Z,7,FALSE),\"\")","v":""},{"$f":"IFERROR(VLOOKUP(A621,'1.Портфель кредитів'!A:Z,14,FALSE),\"\")","v":""}]
[null,{"$f":"IFERROR(VLOOKUP(A622,'1.Портфель кредитів'!A:Z,3,FALSE),\"\")","v":""},{"$f":"IFERROR(VLOOKUP(A622,'1.Портфель кредитів'!A:Z,7,FALSE),\"\")","v":""},{"$f":"IFERROR(VLOOKUP(A622,'1.Портфель кредитів'!A:Z,14,FALSE),\"\")","v":""}]
[null,{"$f":"IFERROR(VLOOKUP(A623,'1.Портфель кредитів'!A:Z,3,FALSE),\"\")","v":""},{"$f":"IFERROR(VLOOKUP(A623,'1.Портфель кредитів'!A:Z,7,FALSE),\"\")","v":""},{"$f":"IFERROR(VLOOKUP(A623,'1.Портфель кредитів'!A:Z,14,FALSE),\"\")","v":""}]
[null,{"$f":"IFERROR(VLOOKUP(A624,'1.Портфель кредитів'!A:Z,3,FALSE),\"\")","v":""},{"$f":"IFERROR(VLOOKUP(A624,'1.Портфель кредитів'!A:Z,7,FALSE),\"\")","v":""},{"$f":"IFERROR(VLOOKUP(A624,'1.Портфель кредитів'!A:Z,14,FALSE),\"\")","v":""}]
[null,{"$f":"IFERROR(VLOOKUP(A625,'1.Портфель кредитів'!A:Z,3,FALSE),\"\")","v":""},{"$f":"IFERROR(VLOOKUP(A625,'1.Портфель кредитів'!A:Z,7,FALSE),\"\")","v":""},{"$f":"IFERROR(VLOOKUP(A625,'1.Портфель кредитів'!A:Z,14,FALSE),\"\")","v":""}]
[null,{"$f":"IFERROR(VLOOKUP(A626,'1.Портфель кредитів'!A:Z,3,FALSE),\"\")","v":""},{"$f":"IFERROR(VLOOKUP(A626,'1.Портфель кредитів'!A:Z,7,FALSE),\"\")","v":""},{"$f":"IFERROR(VLOOKUP(A626,'1.Портфель кредитів'!A:Z,14,FALSE),\"\")","v":""}]
[null,{"$f":"IFERROR(VLOOKUP(A627,'1.Портфель кредитів'!A:Z,3,FALSE),\"\")","v":""},{"$f":"IFERROR(VLOOKUP(A627,'1.Портфель кредитів'!A:Z,7,FALSE),\"\")","v":""},{"$f":"IFERROR(VLOOKUP(A627,'1.Портфель кредитів'!A:Z,14,FALSE),\"\")","v":""}]
[null,{"$f":"IFERROR(VLOOKUP(A628,'1.Портфель кредитів'!A:Z,3,FALSE),\"\")","v":""},{"$f":"IFERROR(VLOOKUP(A628,'1.Портфель кредитів'!A:Z,7,FALSE),\"\")","v":""},{"$f":"IFERROR(VLOOKUP(A628,'1.Портфель кредитів'!A:Z,14,FALSE),\"\")","v":""}]
[null,{"$f":"IFERROR(VLOOKUP(A629,'1.Портфель кредитів'!A:Z,3,FALSE),\"\")","v":""},{"$f":"IFERROR(VLOOKUP(A629,'1.Портфель кредитів'!A:Z,7,FALSE),\"\")","v":""},{"$f":"IFERROR(VLOOKUP(A629,'1.Портфель кредитів'!A:Z,14,FALSE),\"\")","v":""}]
[null,{"$f":"IFERROR(VLOOKUP(A630,'1.Портфель кредитів'!A:Z,3,FALSE),\"\")","v":""},{"$f":"IFERROR(VLOOKUP(A630,'1.Портфель кредитів'!A:Z,7,FALSE),\"\")","v":""},{"$f":"IFERROR(VLOOKUP(A630,'1.Портфель кредитів'!A:Z,14,FALSE),\"\")","v":""}]
[null,{"$f":"IFERROR(VLOOKUP(A631,'1.Портфель кредитів'!A:Z,3,FALSE),\"\")","v":""},{"$f":"IFERROR(VLOOKUP(A631,'1.Портфель кредитів'!A:Z,7,FALSE),\"\")","v":""},{"$f":"IFERROR(VLOOKUP(A631,'1.Портфель кредитів'!A:Z,14,FALSE),\"\")","v":""}]
[null,{"$f":"IFERROR(VLOOKUP(A632,'1.Портфель кредитів'!A:Z,3,FALSE),\"\")","v":""},{"$f":"IFERROR(VLOOKUP(A632,'1.Портфель кредитів'!A:Z,7,FALSE),\"\")","v":""},{"$f":"IFERROR(VLOOKUP(A632,'1.Портфель кредитів'!A:Z,14,FALSE),\"\")","v":""}]
[null,{"$f":"IFERROR(VLOOKUP(A633,'1.Портфель кредитів'!A:Z,3,FALSE),\"\")","v":""},{"$f":"IFERROR(VLOOKUP(A633,'1.Портфель кредитів'!A:Z,7,FALSE),\"\")","v":""},{"$f":"IFERROR(VLOOKUP(A633,'1.Портфель кредитів'!A:Z,14,FALSE),\"\")","v":""}]
[null,{"$f":"IFERROR(VLOOKUP(A634,'1.Портфель кредитів'!A:Z,3,FALSE),\"\")","v":""},{"$f":"IFERROR(VLOOKUP(A634,'1.Портфель кредитів'!A:Z,7,FALSE),\"\")","v":""},{"$f":"IFERROR(VLOOKUP(A634,'1.Портфель кредитів'!A:Z,14,FALSE),\"\")","v":""}]
[null,{"$f":"IFERROR(VLOOKUP(A635,'1.Портфель кредитів'!A:Z,3,FALSE),\"\")","v":""},{"$f":"IFERROR(VLOOKUP(A635,'1.Портфель кредитів'!A:Z,7,FALSE),\"\")","v":""},{"$f":"IFERROR(VLOOKUP(A635,'1.Портфель кредитів'!A:Z,14,FALSE),\"\")","v":""}]
[null,{"$f":"IFERROR(VLOOKUP(A636,'1.Портфель кредитів'!A:Z,3,FALSE),\"\")","v":""},{"$f":"IFERROR(VLOOKUP(A636,'1.Портфель кредитів'!A:Z,7,FALSE),\"\")","v":""},{"$f":"IFERROR(VLOOKUP(A636,'1.Портфель кредитів'!A:Z,14,FALSE),\"\")","v":""}]
[null,{"$f":"IFERROR(VLOOKUP(A637,'1.Портфель кредитів'!A:Z,3,FALSE),\"\")","v":""},{"$f":"IFERROR(VLOOKUP(A637,'1.Портфель кредитів'!A:Z,7,FALSE),\"\")","v":""},{"$f":"IFERROR(VLOOKUP(A637,'1.Портфель кредитів'!A:Z,14,FALSE),\"\")","v":""}]
[null,{"$f":"IFERROR(VLOOKUP(A638,'1.Портфель кредитів'!A:Z,3,FALSE),\"\")","v":""},{"$f":"IFERROR(VLOOKUP(A638,'1.Портфель кредитів'!A:Z,7,FALSE),\"\")","v":""},{"$f":"IFERROR(VLOOKUP(A638,'1.Портфель кредитів'!A:Z,14,FALSE),\"\")","v":""}]
[null,{"$f":"IFERROR(VLOOKUP(A639,'1.Портфель кредитів'!A:Z,3,FALSE),\"\")","v":""},{"$f":"IFERROR(VLOOKUP(A639,'1.Портфель кредитів'!A:Z,7,FALSE),\"\")","v":""},{"$f":"IFERROR(VLOOKUP(A639,'1.Портфель кредитів'!A:Z,14,FALSE),\"\")","v":""}]
[null,{"$f":"IFERROR(VLOOKUP(A640,'1.Портфель кредитів'!A:Z,3,FALSE),\"\")","v":""},{"$f":"IFERROR(VLOOKUP(A640,'1.Портфель кредитів'!A:Z,7,FALSE),\"\")","v":""},{"$f":"IFERROR(VLOOKUP(A640,'1.Портфель кредитів'!A:Z,14,FALSE),\"\")","v":""}]
[null,{"$f":"IFERROR(VLOOKUP(A641,'1.Портфель кредитів'!A:Z,3,FALSE),\"\")","v":""},{"$f":"IFERROR(VLOOKUP(A641,'1.Портфель кредитів'!A:Z,7,FALSE),\"\")","v":""},{"$f":"IFERROR(VLOOKUP(A641,'1.Портфель кредитів'!A:Z,14,FALSE),\"\")","v":""}]
[null,{"$f":"IFERROR(VLOOKUP(A642,'1.Портфель кредитів'!A:Z,3,FALSE),\"\")","v":""},{"$f":"IFERROR(VLOOKUP(A642,'1.Портфель кредитів'!A:Z,7,FALSE),\"\")","v":""},{"$f":"IFERROR(VLOOKUP(A642,'1.Портфель кредитів'!A:Z,14,FALSE),\"\")","v":""}]
[null,{"$f":"IFERROR(VLOOKUP(A643,'1.Портфель кредитів'!A:Z,3,FALSE),\"\")","v":""},{"$f":"IFERROR(VLOOKUP(A643,'1.Портфель кредитів'!A:Z,7,FALSE),\"\")","v":""},{"$f":"IFERROR(VLOOKUP(A643,'1.Портфель кредитів'!A:Z,14,FALSE),\"\")","v":""}]
[null,{"$f":"IFERROR(VLOOKUP(A644,'1.Портфель кредитів'!A:Z,3,FALSE),\"\")","v":""},{"$f":"IFERROR(VLOOKUP(A644,'1.Портфель кредитів'!A:Z,7,FALSE),\"\")","v":""},{"$f":"IFERROR(VLOOKUP(A644,'1.Портфель кредитів'!A:Z,14,FALSE),\"\")","v":""}]
[null,{"$f":"IFERROR(VLOOKUP(A645,'1.Портфель кредитів'!A:Z,3,FALSE),\"\")","v":""},{"$f":"IFERROR(VLOOKUP(A645,'1.Портфель кредитів'!A:Z,7,FALSE),\"\")","v":""},{"$f":"IFERROR(VLOOKUP(A645,'1.Портфель кредитів'!A:Z,14,FALSE),\"\")","v":""}]
[null,{"$f":"IFERROR(VLOOKUP(A646,'1.Портфель кредитів'!A:Z,3,FALSE),\"\")","v":""},{"$f":"IFERROR(VLOOKUP(A646,'1.Портфель кредитів'!A:Z,7,FALSE),\"\")","v":""},{"$f":"IFERROR(VLOOKUP(A646,'1.Портфель кредитів'!A:Z,14,FALSE),\"\")","v":""}]
[null,{"$f":"IFERROR(VLOOKUP(A647,'1.Портфель кредитів'!A:Z,3,FALSE),\"\")","v":""},{"$f":"IFERROR(VLOOKUP(A647,'1.Портфель кредитів'!A:Z,7,FALSE),\"\")","v":""},{"$f":"IFERROR(VLOOKUP(A647,'1.Портфель кредитів'!A:Z,14,FALSE),\"\")","v":""}]
[null,{"$f":"IFERROR(VLOOKUP(A648,'1.Портфель кредитів'!A:Z,3,FALSE),\"\")","v":""},{"$f":"IFERROR(VLOOKUP(A648,'1.Портфель кредитів'!A:Z,7,FALSE),\"\")","v":""},{"$f":"IFERROR(VLOOKUP(A648,'1.Портфель кредитів'!A:Z,14,FALSE),\"\")","v":""}]
[null,{"$f":"IFERROR(VLOOKUP(A649,'1.Портфель кредитів'!A:Z,3,FALSE),\"\")","v":""},{"$f":"IFERROR(VLOOKUP(A649,'1.Портфель кредитів'!A:Z,7,FALSE),\"\")","v":""},{"$f":"IFERROR(VLOOKUP(A649,'1.Портфель кредитів'!A:Z,14,FALSE),\"\")","v":""}]
[null,{"$f":"IFERROR(VLOOKUP(A650,'1.Портфель кредитів'!A:Z,3,FALSE),\"\")","v":""},{"$f":"IFERROR(VLOOKUP(A650,'1.Портфель кредитів'!A:Z,7,FALSE),\"\")","v":""},{"$f":"IFERROR(VLOOKUP(A650,'1.Портфель кредитів'!A:Z,14,FALSE),\"\")","v":""}]
[null,{"$f":"IFERROR(VLOOKUP(A651,'1.Портфель кредитів'!A:Z,3,FALSE),\"\")","v":""},{"$f":"IFERROR(VLOOKUP(A651,'1.Портфель кредитів'!A:Z,7,FALSE),\"\")","v":""},{"$f":"IFERROR(VLOOKUP(A651,'1.Портфель кредитів'!A:Z,14,FALSE),\"\")","v":""}]
[null,{"$f":"IFERROR(VLOOKUP(A652,'1.Портфель кредитів'!A:Z,3,FALSE),\"\")","v":""},{"$f":"IFERROR(VLOOKUP(A652,'1.Портфель кредитів'!A:Z,7,FALSE),\"\")","v":""},{"$f":"IFERROR(VLOOKUP(A652,'1.Портфель кредитів'!A:Z,14,FALSE),\"\")","v":""}]
[null,{"$f":"IFERROR(VLOOKUP(A653,'1.Портфель кредитів'!A:Z,3,FALSE),\"\")","v":""},{"$f":"IFERROR(VLOOKUP(A653,'1.Портфель кредитів'!A:Z,7,FALSE),\"\")","v":""},{"$f":"IFERROR(VLOOKUP(A653,'1.Портфель кредитів'!A:Z,14,FALSE),\"\")","v":""}]
[null,{"$f":"IFERROR(VLOOKUP(A654,'1.Портфель кредитів'!A:Z,3,FALSE),\"\")","v":""},{"$f":"IFERROR(VLOOKUP(A654,'1.Портфель кредитів'!A:Z,7,FALSE),\"\")","v":""},{"$f":"IFERROR(VLOOKUP(A654,'1.Портфель кредитів'!A:Z,14,FALSE),\"\")","v":""}]
[null,{"$f":"IFERROR(VLOOKUP(A655,'1.Портфель кредитів'!A:Z,3,FALSE),\"\")","v":""},{"$f":"IFERROR(VLOOKUP(A655,'1.Портфель кредитів'!A:Z,7,FALSE),\"\")","v":""},{"$f":"IFERROR(VLOOKUP(A655,'1.Портфель кредитів'!A:Z,14,FALSE),\"\")","v":""}]
[null,{"$f":"IFERROR(VLOOKUP(A656,'1.Портфель кредитів'!A:Z,3,FALSE),\"\")","v":""},{"$f":"IFERROR(VLOOKUP(A656,'1.Портфель кредитів'!A:Z,7,FALSE),\"\")","v":""},{"$f":"IFERROR(VLOOKUP(A656,'1.Портфель кредитів'!A:Z,14,FALSE),\"\")","v":""}]
[null,{"$f":"IFERROR(VLOOKUP(A657,'1.Портфель кредитів'!A:Z,3,FALSE),\"\")","v":""},{"$f":"IFERROR(VLOOKUP(A657,'1.Портфель кредитів'!A:Z,7,FALSE),\"\")","v":""},{"$f":"IFERROR(VLOOKUP(A657,'1.Портфель кредитів'!A:Z,14,FALSE),\"\")","v":""}]
[null,{"$f":"IFERROR(VLOOKUP(A658,'1.Портфель кредитів'!A:Z,3,FALSE),\"\")","v":""},{"$f":"IFERROR(VLOOKUP(A658,'1.Портфель кредитів'!A:Z,7,FALSE),\"\")","v":""},{"$f":"IFERROR(VLOOKUP(A658,'1.Портфель кредитів'!A:Z,14,FALSE),\"\")","v":""}]
[null,{"$f":"IFERROR(VLOOKUP(A659,'1.Портфель кредитів'!A:Z,3,FALSE),\"\")","v":""},{"$f":"IFERROR(VLOOKUP(A659,'1.Портфель кредитів'!A:Z,7,FALSE),\"\")","v":""},{"$f":"IFERROR(VLOOKUP(A659,'1.Портфель кредитів'!A:Z,14,FALSE),\"\")","v":""}]
[null,{"$f":"IFERROR(VLOOKUP(A660,'1.Портфель кредитів'!A:Z,3,FALSE),\"\")","v":""},{"$f":"IFERROR(VLOOKUP(A660,'1.Портфель кредитів'!A:Z,7,FALSE),\"\")","v":""},{"$f":"IFERROR(VLOOKUP(A660,'1.Портфель кредитів'!A:Z,14,FALSE),\"\")","v":""}]
[null,{"$f":"IFERROR(VLOOKUP(A661,'1.Портфель кредитів'!A:Z,3,FALSE),\"\")","v":""},{"$f":"IFERROR(VLOOKUP(A661,'1.Портфель кредитів'!A:Z,7,FALSE),\"\")","v":""},{"$f":"IFERROR(VLOOKUP(A661,'1.Портфель кредитів'!A:Z,14,FALSE),\"\")","v":""}]
[null,{"$f":"IFERROR(VLOOKUP(A662,'1.Портфель кредитів'!A:Z,3,FALSE),\"\")","v":""},{"$f":"IFERROR(VLOOKUP(A662,'1.Портфель кредитів'!A:Z,7,FALSE),\"\")","v":""},{"$f":"IFERROR(VLOOKUP(A662,'1.Портфель кредитів'!A:Z,14,FALSE),\"\")","v":""}]
[null,{"$f":"IFERROR(VLOOKUP(A663,'1.Портфель кредитів'!A:Z,3,FALSE),\"\")","v":""},{"$f":"IFERROR(VLOOKUP(A663,'1.Портфель кредитів'!A:Z,7,FALSE),\"\")","v":""},{"$f":"IFERROR(VLOOKUP(A663,'1.Портфель кредитів'!A:Z,14,FALSE),\"\")","v":""}]
[null,{"$f":"IFERROR(VLOOKUP(A664,'1.Портфель кредитів'!A:Z,3,FALSE),\"\")","v":""},{"$f":"IFERROR(VLOOKUP(A664,'1.Портфель кредитів'!A:Z,7,FALSE),\"\")","v":""},{"$f":"IFERROR(VLOOKUP(A664,'1.Портфель кредитів'!A:Z,14,FALSE),\"\")","v":""}]
[null,{"$f":"IFERROR(VLOOKUP(A665,'1.Портфель кредитів'!A:Z,3,FALSE),\"\")","v":""},{"$f":"IFERROR(VLOOKUP(A665,'1.Портфель кредитів'!A:Z,7,FALSE),\"\")","v":""},{"$f":"IFERROR(VLOOKUP(A665,'1.Портфель кредитів'!A:Z,14,FALSE),\"\")","v":""}]
[null,{"$f":"IFERROR(VLOOKUP(A666,'1.Портфель кредитів'!A:Z,3,FALSE),\"\")","v":""},{"$f":"IFERROR(VLOOKUP(A666,'1.Портфель кредитів'!A:Z,7,FALSE),\"\")","v":""},{"$f":"IFERROR(VLOOKUP(A666,'1.Портфель кредитів'!A:Z,14,FALSE),\"\")","v":""}]
[null,{"$f":"IFERROR(VLOOKUP(A667,'1.Портфель кредитів'!A:Z,3,FALSE),\"\")","v":""},{"$f":"IFERROR(VLOOKUP(A667,'1.Портфель кредитів'!A:Z,7,FALSE),\"\")","v":""},{"$f":"IFERROR(VLOOKUP(A667,'1.Портфель кредитів'!A:Z,14,FALSE),\"\")","v":""}]
[null,{"$f":"IFERROR(VLOOKUP(A668,'1.Портфель кредитів'!A:Z,3,FALSE),\"\")","v":""},{"$f":"IFERROR(VLOOKUP(A668,'1.Портфель кредитів'!A:Z,7,FALSE),\"\")","v":""},{"$f":"IFERROR(VLOOKUP(A668,'1.Портфель кредитів'!A:Z,14,FALSE),\"\")","v":""}]
[null,{"$f":"IFERROR(VLOOKUP(A669,'1.Портфель кредитів'!A:Z,3,FALSE),\"\")","v":""},{"$f":"IFERROR(VLOOKUP(A669,'1.Портфель кредитів'!A:Z,7,FALSE),\"\")","v":""},{"$f":"IFERROR(VLOOKUP(A669,'1.Портфель кредитів'!A:Z,14,FALSE),\"\")","v":""}]
[null,{"$f":"IFERROR(VLOOKUP(A670,'1.Портфель кредитів'!A:Z,3,FALSE),\"\")","v":""},{"$f":"IFERROR(VLOOKUP(A670,'1.Портфель кредитів'!A:Z,7,FALSE),\"\")","v":""},{"$f":"IFERROR(VLOOKUP(A670,'1.Портфель кредитів'!A:Z,14,FALSE),\"\")","v":""}]
[null,{"$f":"IFERROR(VLOOKUP(A671,'1.Портфель кредитів'!A:Z,3,FALSE),\"\")","v":""},{"$f":"IFERROR(VLOOKUP(A671,'1.Портфель кредитів'!A:Z,7,FALSE),\"\")","v":""},{"$f":"IFERROR(VLOOKUP(A671,'1.Портфель кредитів'!A:Z,14,FALSE),\"\")","v":""}]
[null,{"$f":"IFERROR(VLOOKUP(A672,'1.Портфель кредитів'!A:Z,3,FALSE),\"\")","v":""},{"$f":"IFERROR(VLOOKUP(A672,'1.Портфель кредитів'!A:Z,7,FALSE),\"\")","v":""},{"$f":"IFERROR(VLOOKUP(A672,'1.Портфель кредитів'!A:Z,14,FALSE),\"\")","v":""}]
[null,{"$f":"IFERROR(VLOOKUP(A673,'1.Портфель кредитів'!A:Z,3,FALSE),\"\")","v":""},{"$f":"IFERROR(VLOOKUP(A673,'1.Портфель кредитів'!A:Z,7,FALSE),\"\")","v":""},{"$f":"IFERROR(VLOOKUP(A673,'1.Портфель кредитів'!A:Z,14,FALSE),\"\")","v":""}]
[null,{"$f":"IFERROR(VLOOKUP(A674,'1.Портфель кредитів'!A:Z,3,FALSE),\"\")","v":""},{"$f":"IFERROR(VLOOKUP(A674,'1.Портфель кредитів'!A:Z,7,FALSE),\"\")","v":""},{"$f":"IFERROR(VLOOKUP(A674,'1.Портфель кредитів'!A:Z,14,FALSE),\"\")","v":""}]
[null,{"$f":"IFERROR(VLOOKUP(A675,'1.Портфель кредитів'!A:Z,3,FALSE),\"\")","v":""},{"$f":"IFERROR(VLOOKUP(A675,'1.Портфель кредитів'!A:Z,7,FALSE),\"\")","v":""},{"$f":"IFERROR(VLOOKUP(A675,'1.Портфель кредитів'!A:Z,14,FALSE),\"\")","v":""}]
[null,{"$f":"IFERROR(VLOOKUP(A676,'1.Портфель кредитів'!A:Z,3,FALSE),\"\")","v":""},{"$f":"IFERROR(VLOOKUP(A676,'1.Портфель кредитів'!A:Z,7,FALSE),\"\")","v":""},{"$f":"IFERROR(VLOOKUP(A676,'1.Портфель кредитів'!A:Z,14,FALSE),\"\")","v":""}]
[null,{"$f":"IFERROR(VLOOKUP(A677,'1.Портфель кредитів'!A:Z,3,FALSE),\"\")","v":""},{"$f":"IFERROR(VLOOKUP(A677,'1.Портфель кредитів'!A:Z,7,FALSE),\"\")","v":""},{"$f":"IFERROR(VLOOKUP(A677,'1.Портфель кредитів'!A:Z,14,FALSE),\"\")","v":""}]
[null,{"$f":"IFERROR(VLOOKUP(A678,'1.Портфель кредитів'!A:Z,3,FALSE),\"\")","v":""},{"$f":"IFERROR(VLOOKUP(A678,'1.Портфель кредитів'!A:Z,7,FALSE),\"\")","v":""},{"$f":"IFERROR(VLOOKUP(A678,'1.Портфель кредитів'!A:Z,14,FALSE),\"\")","v":""}]
[null,{"$f":"IFERROR(VLOOKUP(A679,'1.Портфель кредитів'!A:Z,3,FALSE),\"\")","v":""},{"$f":"IFERROR(VLOOKUP(A679,'1.Портфель кредитів'!A:Z,7,FALSE),\"\")","v":""},{"$f":"IFERROR(VLOOKUP(A679,'1.Портфель кредитів'!A:Z,14,FALSE),\"\")","v":""}]
[null,{"$f":"IFERROR(VLOOKUP(A680,'1.Портфель кредитів'!A:Z,3,FALSE),\"\")","v":""},{"$f":"IFERROR(VLOOKUP(A680,'1.Портфель кредитів'!A:Z,7,FALSE),\"\")","v":""},{"$f":"IFERROR(VLOOKUP(A680,'1.Портфель кредитів'!A:Z,14,FALSE),\"\")","v":""}]
[null,{"$f":"IFERROR(VLOOKUP(A681,'1.Портфель кредитів'!A:Z,3,FALSE),\"\")","v":""},{"$f":"IFERROR(VLOOKUP(A681,'1.Портфель кредитів'!A:Z,7,FALSE),\"\")","v":""},{"$f":"IFERROR(VLOOKUP(A681,'1.Портфель кредитів'!A:Z,14,FALSE),\"\")","v":""}]
[null,{"$f":"IFERROR(VLOOKUP(A682,'1.Портфель кредитів'!A:Z,3,FALSE),\"\")","v":""},{"$f":"IFERROR(VLOOKUP(A682,'1.Портфель кредитів'!A:Z,7,FALSE),\"\")","v":""},{"$f":"IFERROR(VLOOKUP(A682,'1.Портфель кредитів'!A:Z,14,FALSE),\"\")","v":""}]
[null,{"$f":"IFERROR(VLOOKUP(A683,'1.Портфель кредитів'!A:Z,3,FALSE),\"\")","v":""},{"$f":"IFERROR(VLOOKUP(A683,'1.Портфель кредитів'!A:Z,7,FALSE),\"\")","v":""},{"$f":"IFERROR(VLOOKUP(A683,'1.Портфель кредитів'!A:Z,14,FALSE),\"\")","v":""}]
[null,{"$f":"IFERROR(VLOOKUP(A684,'1.Портфель кредитів'!A:Z,3,FALSE),\"\")","v":""},{"$f":"IFERROR(VLOOKUP(A684,'1.Портфель кредитів'!A:Z,7,FALSE),\"\")","v":""},{"$f":"IFERROR(VLOOKUP(A684,'1.Портфель кредитів'!A:Z,14,FALSE),\"\")","v":""}]
[null,{"$f":"IFERROR(VLOOKUP(A685,'1.Портфель кредитів'!A:Z,3,FALSE),\"\")","v":""},{"$f":"IFERROR(VLOOKUP(A685,'1.Портфель кредитів'!A:Z,7,FALSE),\"\")","v":""},{"$f":"IFERROR(VLOOKUP(A685,'1.Портфель кредитів'!A:Z,14,FALSE),\"\")","v":""}]
[null,{"$f":"IFERROR(VLOOKUP(A686,'1.Портфель кредитів'!A:Z,3,FALSE),\"\")","v":""},{"$f":"IFERROR(VLOOKUP(A686,'1.Портфель кредитів'!A:Z,7,FALSE),\"\")","v":""},{"$f":"IFERROR(VLOOKUP(A686,'1.Портфель кредитів'!A:Z,14,FALSE),\"\")","v":""}]
[null,{"$f":"IFERROR(VLOOKUP(A687,'1.Портфель кредитів'!A:Z,3,FALSE),\"\")","v":""},{"$f":"IFERROR(VLOOKUP(A687,'1.Портфель кредитів'!A:Z,7,FALSE),\"\")","v":""},{"$f":"IFERROR(VLOOKUP(A687,'1.Портфель кредитів'!A:Z,14,FALSE),\"\")","v":""}]
[null,{"$f":"IFERROR(VLOOKUP(A688,'1.Портфель кредитів'!A:Z,3,FALSE),\"\")","v":""},{"$f":"IFERROR(VLOOKUP(A688,'1.Портфель кредитів'!A:Z,7,FALSE),\"\")","v":""},{"$f":"IFERROR(VLOOKUP(A688,'1.Портфель кредитів'!A:Z,14,FALSE),\"\")","v":""}]
[null,{"$f":"IFERROR(VLOOKUP(A689,'1.Портфель кредитів'!A:Z,3,FALSE),\"\")","v":""},{"$f":"IFERROR(VLOOKUP(A689,'1.Портфель кредитів'!A:Z,7,FALSE),\"\")","v":""},{"$f":"IFERROR(VLOOKUP(A689,'1.Портфель кредитів'!A:Z,14,FALSE),\"\")","v":""}]
[null,{"$f":"IFERROR(VLOOKUP(A690,'1.Портфель кредитів'!A:Z,3,FALSE),\"\")","v":""},{"$f":"IFERROR(VLOOKUP(A690,'1.Портфель кредитів'!A:Z,7,FALSE),\"\")","v":""},{"$f":"IFERROR(VLOOKUP(A690,'1.Портфель кредитів'!A:Z,14,FALSE),\"\")","v":""}]
[null,{"$f":"IFERROR(VLOOKUP(A691,'1.Портфель кредитів'!A:Z,3,FALSE),\"\")","v":""},{"$f":"IFERROR(VLOOKUP(A691,'1.Портфель кредитів'!A:Z,7,FALSE),\"\")","v":""},{"$f":"IFERROR(VLOOKUP(A691,'1.Портфель кредитів'!A:Z,14,FALSE),\"\")","v":""}]
[null,{"$f":"IFERROR(VLOOKUP(A692,'1.Портфель кредитів'!A:Z,3,FALSE),\"\")","v":""},{"$f":"IFERROR(VLOOKUP(A692,'1.Портфель кредитів'!A:Z,7,FALSE),\"\")","v":""},{"$f":"IFERROR(VLOOKUP(A692,'1.Портфель кредитів'!A:Z,14,FALSE),\"\")","v":""}]
[null,{"$f":"IFERROR(VLOOKUP(A693,'1.Портфель кредитів'!A:Z,3,FALSE),\"\")","v":""},{"$f":"IFERROR(VLOOKUP(A693,'1.Портфель кредитів'!A:Z,7,FALSE),\"\")","v":""},{"$f":"IFERROR(VLOOKUP(A693,'1.Портфель кредитів'!A:Z,14,FALSE),\"\")","v":""}]
[null,{"$f":"IFERROR(VLOOKUP(A694,'1.Портфель кредитів'!A:Z,3,FALSE),\"\")","v":""},{"$f":"IFERROR(VLOOKUP(A694,'1.Портфель кредитів'!A:Z,7,FALSE),\"\")","v":""},{"$f":"IFERROR(VLOOKUP(A694,'1.Портфель кредитів'!A:Z,14,FALSE),\"\")","v":""}]
[null,{"$f":"IFERROR(VLOOKUP(A695,'1.Портфель кредитів'!A:Z,3,FALSE),\"\")","v":""},{"$f":"IFERROR(VLOOKUP(A695,'1.Портфель кредитів'!A:Z,7,FALSE),\"\")","v":""},{"$f":"IFERROR(VLOOKUP(A695,'1.Портфель кредитів'!A:Z,14,FALSE),\"\")","v":""}]
[null,{"$f":"IFERROR(VLOOKUP(A696,'1.Портфель кредитів'!A:Z,3,FALSE),\"\")","v":""},{"$f":"IFERROR(VLOOKUP(A696,'1.Портфель кредитів'!A:Z,7,FALSE),\"\")","v":""},{"$f":"IFERROR(VLOOKUP(A696,'1.Портфель кредитів'!A:Z,14,FALSE),\"\")","v":""}]
[null,{"$f":"IFERROR(VLOOKUP(A697,'1.Портфель кредитів'!A:Z,3,FALSE),\"\")","v":""},{"$f":"IFERROR(VLOOKUP(A697,'1.Портфель кредитів'!A:Z,7,FALSE),\"\")","v":""},{"$f":"IFERROR(VLOOKUP(A697,'1.Портфель кредитів'!A:Z,14,FALSE),\"\")","v":""}]
[null,{"$f":"IFERROR(VLOOKUP(A698,'1.Портфель кредитів'!A:Z,3,FALSE),\"\")","v":""},{"$f":"IFERROR(VLOOKUP(A698,'1.Портфель кредитів'!A:Z,7,FALSE),\"\")","v":""},{"$f":"IFERROR(VLOOKUP(A698,'1.Портфель кредитів'!A:Z,14,FALSE),\"\")","v":""}]
[null,{"$f":"IFERROR(VLOOKUP(A699,'1.Портфель кредитів'!A:Z,3,FALSE),\"\")","v":""},{"$f":"IFERROR(VLOOKUP(A699,'1.Портфель кредитів'!A:Z,7,FALSE),\"\")","v":""},{"$f":"IFERROR(VLOOKUP(A699,'1.Портфель кредитів'!A:Z,14,FALSE),\"\")","v":""}]
[null,{"$f":"IFERROR(VLOOKUP(A700,'1.Портфель кредитів'!A:Z,3,FALSE),\"\")","v":""},{"$f":"IFERROR(VLOOKUP(A700,'1.Портфель кредитів'!A:Z,7,FALSE),\"\")","v":""},{"$f":"IFERROR(VLOOKUP(A700,'1.Портфель кредитів'!A:Z,14,FALSE),\"\")","v":""}]
[null,{"$f":"IFERROR(VLOOKUP(A701,'1.Портфель кредитів'!A:Z,3,FALSE),\"\")","v":""},{"$f":"IFERROR(VLOOKUP(A701,'1.Портфель кредитів'!A:Z,7,FALSE),\"\")","v":""},{"$f":"IFERROR(VLOOKUP(A701,'1.Портфель кредитів'!A:Z,14,FALSE),\"\")","v":""}]
[null,{"$f":"IFERROR(VLOOKUP(A702,'1.Портфель кредитів'!A:Z,3,FALSE),\"\")","v":""},{"$f":"IFERROR(VLOOKUP(A702,'1.Портфель кредитів'!A:Z,7,FALSE),\"\")","v":""},{"$f":"IFERROR(VLOOKUP(A702,'1.Портфель кредитів'!A:Z,14,FALSE),\"\")","v":""}]
[null,{"$f":"IFERROR(VLOOKUP(A703,'1.Портфель кредитів'!A:Z,3,FALSE),\"\")","v":""},{"$f":"IFERROR(VLOOKUP(A703,'1.Портфель кредитів'!A:Z,7,FALSE),\"\")","v":""},{"$f":"IFERROR(VLOOKUP(A703,'1.Портфель кредитів'!A:Z,14,FALSE),\"\")","v":""}]
[null,{"$f":"IFERROR(VLOOKUP(A704,'1.Портфель кредитів'!A:Z,3,FALSE),\"\")","v":""},{"$f":"IFERROR(VLOOKUP(A704,'1.Портфель кредитів'!A:Z,7,FALSE),\"\")","v":""},{"$f":"IFERROR(VLOOKUP(A704,'1.Портфель кредитів'!A:Z,14,FALSE),\"\")","v":""}]
[null,{"$f":"IFERROR(VLOOKUP(A705,'1.Портфель кредитів'!A:Z,3,FALSE),\"\")","v":""},{"$f":"IFERROR(VLOOKUP(A705,'1.Портфель кредитів'!A:Z,7,FALSE),\"\")","v":""},{"$f":"IFERROR(VLOOKUP(A705,'1.Портфель кредитів'!A:Z,14,FALSE),\"\")","v":""}]
[null,{"$f":"IFERROR(VLOOKUP(A706,'1.Портфель кредитів'!A:Z,3,FALSE),\"\")","v":""},{"$f":"IFERROR(VLOOKUP(A706,'1.Портфель кредитів'!A:Z,7,FALSE),\"\")","v":""},{"$f":"IFERROR(VLOOKUP(A706,'1.Портфель кредитів'!A:Z,14,FALSE),\"\")","v":""}]
[null,{"$f":"IFERROR(VLOOKUP(A707,'1.Портфель кредитів'!A:Z,3,FALSE),\"\")","v":""},{"$f":"IFERROR(VLOOKUP(A707,'1.Портфель кредитів'!A:Z,7,FALSE),\"\")","v":""},{"$f":"IFERROR(VLOOKUP(A707,'1.Портфель кредитів'!A:Z,14,FALSE),\"\")","v":""}]
[null,{"$f":"IFERROR(VLOOKUP(A708,'1.Портфель кредитів'!A:Z,3,FALSE),\"\")","v":""},{"$f":"IFERROR(VLOOKUP(A708,'1.Портфель кредитів'!A:Z,7,FALSE),\"\")","v":""},{"$f":"IFERROR(VLOOKUP(A708,'1.Портфель кредитів'!A:Z,14,FALSE),\"\")","v":""}]
[null,{"$f":"IFERROR(VLOOKUP(A709,'1.Портфель кредитів'!A:Z,3,FALSE),\"\")","v":""},{"$f":"IFERROR(VLOOKUP(A709,'1.Портфель кредитів'!A:Z,7,FALSE),\"\")","v":""},{"$f":"IFERROR(VLOOKUP(A709,'1.Портфель кредитів'!A:Z,14,FALSE),\"\")","v":""}]
[null,{"$f":"IFERROR(VLOOKUP(A710,'1.Портфель кредитів'!A:Z,3,FALSE),\"\")","v":""},{"$f":"IFERROR(VLOOKUP(A710,'1.Портфель кредитів'!A:Z,7,FALSE),\"\")","v":""},{"$f":"IFERROR(VLOOKUP(A710,'1.Портфель кредитів'!A:Z,14,FALSE),\"\")","v":""}]
[null,{"$f":"IFERROR(VLOOKUP(A711,'1.Портфель кредитів'!A:Z,3,FALSE),\"\")","v":""},{"$f":"IFERROR(VLOOKUP(A711,'1.Портфель кредитів'!A:Z,7,FALSE),\"\")","v":""},{"$f":"IFERROR(VLOOKUP(A711,'1.Портфель кредитів'!A:Z,14,FALSE),\"\")","v":""}]
[null,{"$f":"IFERROR(VLOOKUP(A712,'1.Портфель кредитів'!A:Z,3,FALSE),\"\")","v":""},{"$f":"IFERROR(VLOOKUP(A712,'1.Портфель кредитів'!A:Z,7,FALSE),\"\")","v":""},{"$f":"IFERROR(VLOOKUP(A712,'1.Портфель кредитів'!A:Z,14,FALSE),\"\")","v":""}]
[null,{"$f":"IFERROR(VLOOKUP(A713,'1.Портфель кредитів'!A:Z,3,FALSE),\"\")","v":""},{"$f":"IFERROR(VLOOKUP(A713,'1.Портфель кредитів'!A:Z,7,FALSE),\"\")","v":""},{"$f":"IFERROR(VLOOKUP(A713,'1.Портфель кредитів'!A:Z,14,FALSE),\"\")","v":""}]
[null,{"$f":"IFERROR(VLOOKUP(A714,'1.Портфель кредитів'!A:Z,3,FALSE),\"\")","v":""},{"$f":"IFERROR(VLOOKUP(A714,'1.Портфель кредитів'!A:Z,7,FALSE),\"\")","v":""},{"$f":"IFERROR(VLOOKUP(A714,'1.Портфель кредитів'!A:Z,14,FALSE),\"\")","v":""}]
[null,{"$f":"IFERROR(VLOOKUP(A715,'1.Портфель кредитів'!A:Z,3,FALSE),\"\")","v":""},{"$f":"IFERROR(VLOOKUP(A715,'1.Портфель кредитів'!A:Z,7,FALSE),\"\")","v":""},{"$f":"IFERROR(VLOOKUP(A715,'1.Портфель кредитів'!A:Z,14,FALSE),\"\")","v":""}]
[null,{"$f":"IFERROR(VLOOKUP(A716,'1.Портфель кредитів'!A:Z,3,FALSE),\"\")","v":""},{"$f":"IFERROR(VLOOKUP(A716,'1.Портфель кредитів'!A:Z,7,FALSE),\"\")","v":""},{"$f":"IFERROR(VLOOKUP(A716,'1.Портфель кредитів'!A:Z,14,FALSE),\"\")","v":""}]
[null,{"$f":"IFERROR(VLOOKUP(A717,'1.Портфель кредитів'!A:Z,3,FALSE),\"\")","v":""},{"$f":"IFERROR(VLOOKUP(A717,'1.Портфель кредитів'!A:Z,7,FALSE),\"\")","v":""},{"$f":"IFERROR(VLOOKUP(A717,'1.Портфель кредитів'!A:Z,14,FALSE),\"\")","v":""}]
[null,{"$f":"IFERROR(VLOOKUP(A718,'1.Портфель кредитів'!A:Z,3,FALSE),\"\")","v":""},{"$f":"IFERROR(VLOOKUP(A718,'1.Портфель кредитів'!A:Z,7,FALSE),\"\")","v":""},{"$f":"IFERROR(VLOOKUP(A718,'1.Портфель кредитів'!A:Z,14,FALSE),\"\")","v":""}]
[null,{"$f":"IFERROR(VLOOKUP(A719,'1.Портфель кредитів'!A:Z,3,FALSE),\"\")","v":""},{"$f":"IFERROR(VLOOKUP(A719,'1.Портфель кредитів'!A:Z,7,FALSE),\"\")","v":""},{"$f":"IFERROR(VLOOKUP(A719,'1.Портфель кредитів'!A:Z,14,FALSE),\"\")","v":""}]
[null,{"$f":"IFERROR(VLOOKUP(A720,'1.Портфель кредитів'!A:Z,3,FALSE),\"\")","v":""},{"$f":"IFERROR(VLOOKUP(A720,'1.Портфель кредитів'!A:Z,7,FALSE),\"\")","v":""},{"$f":"IFERROR(VLOOKUP(A720,'1.Портфель кредитів'!A:Z,14,FALSE),\"\")","v":""}]
[null,{"$f":"IFERROR(VLOOKUP(A721,'1.Портфель кредитів'!A:Z,3,FALSE),\"\")","v":""},{"$f":"IFERROR(VLOOKUP(A721,'1.Портфель кредитів'!A:Z,7,FALSE),\"\")","v":""},{"$f":"IFERROR(VLOOKUP(A721,'1.Портфель кредитів'!A:Z,14,FALSE),\"\")","v":""}]
[null,{"$f":"IFERROR(VLOOKUP(A722,'1.Портфель кредитів'!A:Z,3,FALSE),\"\")","v":""},{"$f":"IFERROR(VLOOKUP(A722,'1.Портфель кредитів'!A:Z,7,FALSE),\"\")","v":""},{"$f":"IFERROR(VLOOKUP(A722,'1.Портфель кредитів'!A:Z,14,FALSE),\"\")","v":""}]
[null,{"$f":"IFERROR(VLOOKUP(A723,'1.Портфель кредитів'!A:Z,3,FALSE),\"\")","v":""},{"$f":"IFERROR(VLOOKUP(A723,'1.Портфель кредитів'!A:Z,7,FALSE),\"\")","v":""},{"$f":"IFERROR(VLOOKUP(A723,'1.Портфель кредитів'!A:Z,14,FALSE),\"\")","v":""}]
[null,{"$f":"IFERROR(VLOOKUP(A724,'1.Портфель кредитів'!A:Z,3,FALSE),\"\")","v":""},{"$f":"IFERROR(VLOOKUP(A724,'1.Портфель кредитів'!A:Z,7,FALSE),\"\")","v":""},{"$f":"IFERROR(VLOOKUP(A724,'1.Портфель кредитів'!A:Z,14,FALSE),\"\")","v":""}]
[null,{"$f":"IFERROR(VLOOKUP(A725,'1.Портфель кредитів'!A:Z,3,FALSE),\"\")","v":""},{"$f":"IFERROR(VLOOKUP(A725,'1.Портфель кредитів'!A:Z,7,FALSE),\"\")","v":""},{"$f":"IFERROR(VLOOKUP(A725,'1.Портфель кредитів'!A:Z,14,FALSE),\"\")","v":""}]
[null,{"$f":"IFERROR(VLOOKUP(A726,'1.Портфель кредитів'!A:Z,3,FALSE),\"\")","v":""},{"$f":"IFERROR(VLOOKUP(A726,'1.Портфель кредитів'!A:Z,7,FALSE),\"\")","v":""},{"$f":"IFERROR(VLOOKUP(A726,'1.Портфель кредитів'!A:Z,14,FALSE),\"\")","v":""}]
[null,{"$f":"IFERROR(VLOOKUP(A727,'1.Портфель кредитів'!A:Z,3,FALSE),\"\")","v":""},{"$f":"IFERROR(VLOOKUP(A727,'1.Портфель кредитів'!A:Z,7,FALSE),\"\")","v":""},{"$f":"IFERROR(VLOOKUP(A727,'1.Портфель кредитів'!A:Z,14,FALSE),\"\")","v":""}]
[null,{"$f":"IFERROR(VLOOKUP(A728,'1.Портфель кредитів'!A:Z,3,FALSE),\"\")","v":""},{"$f":"IFERROR(VLOOKUP(A728,'1.Портфель кредитів'!A:Z,7,FALSE),\"\")","v":""},{"$f":"IFERROR(VLOOKUP(A728,'1.Портфель кредитів'!A:Z,14,FALSE),\"\")","v":""}]
[null,{"$f":"IFERROR(VLOOKUP(A729,'1.Портфель кредитів'!A:Z,3,FALSE),\"\")","v":""},{"$f":"IFERROR(VLOOKUP(A729,'1.Портфель кредитів'!A:Z,7,FALSE),\"\")","v":""},{"$f":"IFERROR(VLOOKUP(A729,'1.Портфель кредитів'!A:Z,14,FALSE),\"\")","v":""}]
[null,{"$f":"IFERROR(VLOOKUP(A730,'1.Портфель кредитів'!A:Z,3,FALSE),\"\")","v":""},{"$f":"IFERROR(VLOOKUP(A730,'1.Портфель кредитів'!A:Z,7,FALSE),\"\")","v":""},{"$f":"IFERROR(VLOOKUP(A730,'1.Портфель кредитів'!A:Z,14,FALSE),\"\")","v":""}]
[null,{"$f":"IFERROR(VLOOKUP(A731,'1.Портфель кредитів'!A:Z,3,FALSE),\"\")","v":""},{"$f":"IFERROR(VLOOKUP(A731,'1.Портфель кредитів'!A:Z,7,FALSE),\"\")","v":""},{"$f":"IFERROR(VLOOKUP(A731,'1.Портфель кредитів'!A:Z,14,FALSE),\"\")","v":""}]
[null,{"$f":"IFERROR(VLOOKUP(A732,'1.Портфель кредитів'!A:Z,3,FALSE),\"\")","v":""},{"$f":"IFERROR(VLOOKUP(A732,'1.Портфель кредитів'!A:Z,7,FALSE),\"\")","v":""},{"$f":"IFERROR(VLOOKUP(A732,'1.Портфель кредитів'!A:Z,14,FALSE),\"\")","v":""}]
[null,{"$f":"IFERROR(VLOOKUP(A733,'1.Портфель кредитів'!A:Z,3,FALSE),\"\")","v":""},{"$f":"IFERROR(VLOOKUP(A733,'1.Портфель кредитів'!A:Z,7,FALSE),\"\")","v":""},{"$f":"IFERROR(VLOOKUP(A733,'1.Портфель кредитів'!A:Z,14,FALSE),\"\")","v":""}]
[null,{"$f":"IFERROR(VLOOKUP(A734,'1.Портфель кредитів'!A:Z,3,FALSE),\"\")","v":""},{"$f":"IFERROR(VLOOKUP(A734,'1.Портфель кредитів'!A:Z,7,FALSE),\"\")","v":""},{"$f":"IFERROR(VLOOKUP(A734,'1.Портфель кредитів'!A:Z,14,FALSE),\"\")","v":""}]
[null,{"$f":"IFERROR(VLOOKUP(A735,'1.Портфель кредитів'!A:Z,3,FALSE),\"\")","v":""},{"$f":"IFERROR(VLOOKUP(A735,'1.Портфель кредитів'!A:Z,7,FALSE),\"\")","v":""},{"$f":"IFERROR(VLOOKUP(A735,'1.Портфель кредитів'!A:Z,14,FALSE),\"\")","v":""}]
[null,{"$f":"IFERROR(VLOOKUP(A736,'1.Портфель кредитів'!A:Z,3,FALSE),\"\")","v":""},{"$f":"IFERROR(VLOOKUP(A736,'1.Портфель кредитів'!A:Z,7,FALSE),\"\")","v":""},{"$f":"IFERROR(VLOOKUP(A736,'1.Портфель кредитів'!A:Z,14,FALSE),\"\")","v":""}]
[null,{"$f":"IFERROR(VLOOKUP(A737,'1.Портфель кредитів'!A:Z,3,FALSE),\"\")","v":""},{"$f":"IFERROR(VLOOKUP(A737,'1.Портфель кредитів'!A:Z,7,FALSE),\"\")","v":""},{"$f":"IFERROR(VLOOKUP(A737,'1.Портфель кредитів'!A:Z,14,FALSE),\"\")","v":""}]
[null,{"$f":"IFERROR(VLOOKUP(A738,'1.Портфель кредитів'!A:Z,3,FALSE),\"\")","v":""},{"$f":"IFERROR(VLOOKUP(A738,'1.Портфель кредитів'!A:Z,7,FALSE),\"\")","v":""},{"$f":"IFERROR(VLOOKUP(A738,'1.Портфель кредитів'!A:Z,14,FALSE),\"\")","v":""}]
[null,{"$f":"IFERROR(VLOOKUP(A739,'1.Портфель кредитів'!A:Z,3,FALSE),\"\")","v":""},{"$f":"IFERROR(VLOOKUP(A739,'1.Портфель кредитів'!A:Z,7,FALSE),\"\")","v":""},{"$f":"IFERROR(VLOOKUP(A739,'1.Портфель кредитів'!A:Z,14,FALSE),\"\")","v":""}]
[null,{"$f":"IFERROR(VLOOKUP(A740,'1.Портфель кредитів'!A:Z,3,FALSE),\"\")","v":""},{"$f":"IFERROR(VLOOKUP(A740,'1.Портфель кредитів'!A:Z,7,FALSE),\"\")","v":""},{"$f":"IFERROR(VLOOKUP(A740,'1.Портфель кредитів'!A:Z,14,FALSE),\"\")","v":""}]
[null,{"$f":"IFERROR(VLOOKUP(A741,'1.Портфель кредитів'!A:Z,3,FALSE),\"\")","v":""},{"$f":"IFERROR(VLOOKUP(A741,'1.Портфель кредитів'!A:Z,7,FALSE),\"\")","v":""},{"$f":"IFERROR(VLOOKUP(A741,'1.Портфель кредитів'!A:Z,14,FALSE),\"\")","v":""}]
[null,{"$f":"IFERROR(VLOOKUP(A742,'1.Портфель кредитів'!A:Z,3,FALSE),\"\")","v":""},{"$f":"IFERROR(VLOOKUP(A742,'1.Портфель кредитів'!A:Z,7,FALSE),\"\")","v":""},{"$f":"IFERROR(VLOOKUP(A742,'1.Портфель кредитів'!A:Z,14,FALSE),\"\")","v":""}]
[null,{"$f":"IFERROR(VLOOKUP(A743,'1.Портфель кредитів'!A:Z,3,FALSE),\"\")","v":""},{"$f":"IFERROR(VLOOKUP(A743,'1.Портфель кредитів'!A:Z,7,FALSE),\"\")","v":""},{"$f":"IFERROR(VLOOKUP(A743,'1.Портфель кредитів'!A:Z,14,FALSE),\"\")","v":""}]
[null,{"$f":"IFERROR(VLOOKUP(A744,'1.Портфель кредитів'!A:Z,3,FALSE),\"\")","v":""},{"$f":"IFERROR(VLOOKUP(A744,'1.Портфель кредитів'!A:Z,7,FALSE),\"\")","v":""},{"$f":"IFERROR(VLOOKUP(A744,'1.Портфель кредитів'!A:Z,14,FALSE),\"\")","v":""}]
[null,{"$f":"IFERROR(VLOOKUP(A745,'1.Портфель кредитів'!A:Z,3,FALSE),\"\")","v":""},{"$f":"IFERROR(VLOOKUP(A745,'1.Портфель кредитів'!A:Z,7,FALSE),\"\")","v":""},{"$f":"IFERROR(VLOOKUP(A745,'1.Портфель кредитів'!A:Z,14,FALSE),\"\")","v":""}]
[null,{"$f":"IFERROR(VLOOKUP(A746,'1.Портфель кредитів'!A:Z,3,FALSE),\"\")","v":""},{"$f":"IFERROR(VLOOKUP(A746,'1.Портфель кредитів'!A:Z,7,FALSE),\"\")","v":""},{"$f":"IFERROR(VLOOKUP(A746,'1.Портфель кредитів'!A:Z,14,FALSE),\"\")","v":""}]
[null,{"$f":"IFERROR(VLOOKUP(A747,'1.Портфель кредитів'!A:Z,3,FALSE),\"\")","v":""},{"$f":"IFERROR(VLOOKUP(A747,'1.Портфель кредитів'!A:Z,7,FALSE),\"\")","v":""},{"$f":"IFERROR(VLOOKUP(A747,'1.Портфель кредитів'!A:Z,14,FALSE),\"\")","v":""}]
[null,{"$f":"IFERROR(VLOOKUP(A748,'1.Портфель кредитів'!A:Z,3,FALSE),\"\")","v":""},{"$f":"IFERROR(VLOOKUP(A748,'1.Портфель кредитів'!A:Z,7,FALSE),\"\")","v":""},{"$f":"IFERROR(VLOOKUP(A748,'1.Портфель кредитів'!A:Z,14,FALSE),\"\")","v":""}]
[null,{"$f":"IFERROR(VLOOKUP(A749,'1.Портфель кредитів'!A:Z,3,FALSE),\"\")","v":""},{"$f":"IFERROR(VLOOKUP(A749,'1.Портфель кредитів'!A:Z,7,FALSE),\"\")","v":""},{"$f":"IFERROR(VLOOKUP(A749,'1.Портфель кредитів'!A:Z,14,FALSE),\"\")","v":""}]
[null,{"$f":"IFERROR(VLOOKUP(A750,'1.Портфель кредитів'!A:Z,3,FALSE),\"\")","v":""},{"$f":"IFERROR(VLOOKUP(A750,'1.Портфель кредитів'!A:Z,7,FALSE),\"\")","v":""},{"$f":"IFERROR(VLOOKUP(A750,'1.Портфель кредитів'!A:Z,14,FALSE),\"\")","v":""}]
[null,{"$f":"IFERROR(VLOOKUP(A751,'1.Портфель кредитів'!A:Z,3,FALSE),\"\")","v":""},{"$f":"IFERROR(VLOOKUP(A751,'1.Портфель кредитів'!A:Z,7,FALSE),\"\")","v":""},{"$f":"IFERROR(VLOOKUP(A751,'1.Портфель кредитів'!A:Z,14,FALSE),\"\")","v":""}]
[null,{"$f":"IFERROR(VLOOKUP(A752,'1.Портфель кредитів'!A:Z,3,FALSE),\"\")","v":""},{"$f":"IFERROR(VLOOKUP(A752,'1.Портфель кредитів'!A:Z,7,FALSE),\"\")","v":""},{"$f":"IFERROR(VLOOKUP(A752,'1.Портфель кредитів'!A:Z,14,FALSE),\"\")","v":""}]
[null,{"$f":"IFERROR(VLOOKUP(A753,'1.Портфель кредитів'!A:Z,3,FALSE),\"\")","v":""},{"$f":"IFERROR(VLOOKUP(A753,'1.Портфель кредитів'!A:Z,7,FALSE),\"\")","v":""},{"$f":"IFERROR(VLOOKUP(A753,'1.Портфель кредитів'!A:Z,14,FALSE),\"\")","v":""}]
[null,{"$f":"IFERROR(VLOOKUP(A754,'1.Портфель кредитів'!A:Z,3,FALSE),\"\")","v":""},{"$f":"IFERROR(VLOOKUP(A754,'1.Портфель кредитів'!A:Z,7,FALSE),\"\")","v":""},{"$f":"IFERROR(VLOOKUP(A754,'1.Портфель кредитів'!A:Z,14,FALSE),\"\")","v":""}]
[null,{"$f":"IFERROR(VLOOKUP(A755,'1.Портфель кредитів'!A:Z,3,FALSE),\"\")","v":""},{"$f":"IFERROR(VLOOKUP(A755,'1.Портфель кредитів'!A:Z,7,FALSE),\"\")","v":""},{"$f":"IFERROR(VLOOKUP(A755,'1.Портфель кредитів'!A:Z,14,FALSE),\"\")","v":""}]
[null,{"$f":"IFERROR(VLOOKUP(A756,'1.Портфель кредитів'!A:Z,3,FALSE),\"\")","v":""},{"$f":"IFERROR(VLOOKUP(A756,'1.Портфель кредитів'!A:Z,7,FALSE),\"\")","v":""},{"$f":"IFERROR(VLOOKUP(A756,'1.Портфель кредитів'!A:Z,14,FALSE),\"\")","v":""}]
[null,{"$f":"IFERROR(VLOOKUP(A757,'1.Портфель кредитів'!A:Z,3,FALSE),\"\")","v":""},{"$f":"IFERROR(VLOOKUP(A757,'1.Портфель кредитів'!A:Z,7,FALSE),\"\")","v":""},{"$f":"IFERROR(VLOOKUP(A757,'1.Портфель кредитів'!A:Z,14,FALSE),\"\")","v":""}]
[null,{"$f":"IFERROR(VLOOKUP(A758,'1.Портфель кредитів'!A:Z,3,FALSE),\"\")","v":""},{"$f":"IFERROR(VLOOKUP(A758,'1.Портфель кредитів'!A:Z,7,FALSE),\"\")","v":""},{"$f":"IFERROR(VLOOKUP(A758,'1.Портфель кредитів'!A:Z,14,FALSE),\"\")","v":""}]
[null,{"$f":"IFERROR(VLOOKUP(A759,'1.Портфель кредитів'!A:Z,3,FALSE),\"\")","v":""},{"$f":"IFERROR(VLOOKUP(A759,'1.Портфель кредитів'!A:Z,7,FALSE),\"\")","v":""},{"$f":"IFERROR(VLOOKUP(A759,'1.Портфель кредитів'!A:Z,14,FALSE),\"\")","v":""}]
[null,{"$f":"IFERROR(VLOOKUP(A760,'1.Портфель кредитів'!A:Z,3,FALSE),\"\")","v":""},{"$f":"IFERROR(VLOOKUP(A760,'1.Портфель кредитів'!A:Z,7,FALSE),\"\")","v":""},{"$f":"IFERROR(VLOOKUP(A760,'1.Портфель кредитів'!A:Z,14,FALSE),\"\")","v":""}]
[null,{"$f":"IFERROR(VLOOKUP(A761,'1.Портфель кредитів'!A:Z,3,FALSE),\"\")","v":""},{"$f":"IFERROR(VLOOKUP(A761,'1.Портфель кредитів'!A:Z,7,FALSE),\"\")","v":""},{"$f":"IFERROR(VLOOKUP(A761,'1.Портфель кредитів'!A:Z,14,FALSE),\"\")","v":""}]
[null,{"$f":"IFERROR(VLOOKUP(A762,'1.Портфель кредитів'!A:Z,3,FALSE),\"\")","v":""},{"$f":"IFERROR(VLOOKUP(A762,'1.Портфель кредитів'!A:Z,7,FALSE),\"\")","v":""},{"$f":"IFERROR(VLOOKUP(A762,'1.Портфель кредитів'!A:Z,14,FALSE),\"\")","v":""}]
[null,{"$f":"IFERROR(VLOOKUP(A763,'1.Портфель кредитів'!A:Z,3,FALSE),\"\")","v":""},{"$f":"IFERROR(VLOOKUP(A763,'1.Портфель кредитів'!A:Z,7,FALSE),\"\")","v":""},{"$f":"IFERROR(VLOOKUP(A763,'1.Портфель кредитів'!A:Z,14,FALSE),\"\")","v":""}]
[null,{"$f":"IFERROR(VLOOKUP(A764,'1.Портфель кредитів'!A:Z,3,FALSE),\"\")","v":""},{"$f":"IFERROR(VLOOKUP(A764,'1.Портфель кредитів'!A:Z,7,FALSE),\"\")","v":""},{"$f":"IFERROR(VLOOKUP(A764,'1.Портфель кредитів'!A:Z,14,FALSE),\"\")","v":""}]
[null,{"$f":"IFERROR(VLOOKUP(A765,'1.Портфель кредитів'!A:Z,3,FALSE),\"\")","v":""},{"$f":"IFERROR(VLOOKUP(A765,'1.Портфель кредитів'!A:Z,7,FALSE),\"\")","v":""},{"$f":"IFERROR(VLOOKUP(A765,'1.Портфель кредитів'!A:Z,14,FALSE),\"\")","v":""}]
[null,{"$f":"IFERROR(VLOOKUP(A766,'1.Портфель кредитів'!A:Z,3,FALSE),\"\")","v":""},{"$f":"IFERROR(VLOOKUP(A766,'1.Портфель кредитів'!A:Z,7,FALSE),\"\")","v":""},{"$f":"IFERROR(VLOOKUP(A766,'1.Портфель кредитів'!A:Z,14,FALSE),\"\")","v":""}]
[null,{"$f":"IFERROR(VLOOKUP(A767,'1.Портфель кредитів'!A:Z,3,FALSE),\"\")","v":""},{"$f":"IFERROR(VLOOKUP(A767,'1.Портфель кредитів'!A:Z,7,FALSE),\"\")","v":""},{"$f":"IFERROR(VLOOKUP(A767,'1.Портфель кредитів'!A:Z,14,FALSE),\"\")","v":""}]
[null,{"$f":"IFERROR(VLOOKUP(A768,'1.Портфель кредитів'!A:Z,3,FALSE),\"\")","v":""},{"$f":"IFERROR(VLOOKUP(A768,'1.Портфель кредитів'!A:Z,7,FALSE),\"\")","v":""},{"$f":"IFERROR(VLOOKUP(A768,'1.Портфель кредитів'!A:Z,14,FALSE),\"\")","v":""}]
[null,{"$f":"IFERROR(VLOOKUP(A769,'1.Портфель кредитів'!A:Z,3,FALSE),\"\")","v":""},{"$f":"IFERROR(VLOOKUP(A769,'1.Портфель кредитів'!A:Z,7,FALSE),\"\")","v":""},{"$f":"IFERROR(VLOOKUP(A769,'1.Портфель кредитів'!A:Z,14,FALSE),\"\")","v":""}]
[null,{"$f":"IFERROR(VLOOKUP(A770,'1.Портфель кредитів'!A:Z,3,FALSE),\"\")","v":""},{"$f":"IFERROR(VLOOKUP(A770,'1.Портфель кредитів'!A:Z,7,FALSE),\"\")","v":""},{"$f":"IFERROR(VLOOKUP(A770,'1.Портфель кредитів'!A:Z,14,FALSE),\"\")","v":""}]
[null,{"$f":"IFERROR(VLOOKUP(A771,'1.Портфель кредитів'!A:Z,3,FALSE),\"\")","v":""},{"$f":"IFERROR(VLOOKUP(A771,'1.Портфель кредитів'!A:Z,7,FALSE),\"\")","v":""},{"$f":"IFERROR(VLOOKUP(A771,'1.Портфель кредитів'!A:Z,14,FALSE),\"\")","v":""}]
[null,{"$f":"IFERROR(VLOOKUP(A772,'1.Портфель кредитів'!A:Z,3,FALSE),\"\")","v":""},{"$f":"IFERROR(VLOOKUP(A772,'1.Портфель кредитів'!A:Z,7,FALSE),\"\")","v":""},{"$f":"IFERROR(VLOOKUP(A772,'1.Портфель кредитів'!A:Z,14,FALSE),\"\")","v":""}]
[null,{"$f":"IFERROR(VLOOKUP(A773,'1.Портфель кредитів'!A:Z,3,FALSE),\"\")","v":""},{"$f":"IFERROR(VLOOKUP(A773,'1.Портфель кредитів'!A:Z,7,FALSE),\"\")","v":""},{"$f":"IFERROR(VLOOKUP(A773,'1.Портфель кредитів'!A:Z,14,FALSE),\"\")","v":""}]
[null,{"$f":"IFERROR(VLOOKUP(A774,'1.Портфель кредитів'!A:Z,3,FALSE),\"\")","v":""},{"$f":"IFERROR(VLOOKUP(A774,'1.Портфель кредитів'!A:Z,7,FALSE),\"\")","v":""},{"$f":"IFERROR(VLOOKUP(A774,'1.Портфель кредитів'!A:Z,14,FALSE),\"\")","v":""}]
[null,{"$f":"IFERROR(VLOOKUP(A775,'1.Портфель кредитів'!A:Z,3,FALSE),\"\")","v":""},{"$f":"IFERROR(VLOOKUP(A775,'1.Портфель кредитів'!A:Z,7,FALSE),\"\")","v":""},{"$f":"IFERROR(VLOOKUP(A775,'1.Портфель кредитів'!A:Z,14,FALSE),\"\")","v":""}]
[null,{"$f":"IFERROR(VLOOKUP(A776,'1.Портфель кредитів'!A:Z,3,FALSE),\"\")","v":""},{"$f":"IFERROR(VLOOKUP(A776,'1.Портфель кредитів'!A:Z,7,FALSE),\"\")","v":""},{"$f":"IFERROR(VLOOKUP(A776,'1.Портфель кредитів'!A:Z,14,FALSE),\"\")","v":""}]
[null,{"$f":"IFERROR(VLOOKUP(A777,'1.Портфель кредитів'!A:Z,3,FALSE),\"\")","v":""},{"$f":"IFERROR(VLOOKUP(A777,'1.Портфель кредитів'!A:Z,7,FALSE),\"\")","v":""},{"$f":"IFERROR(VLOOKUP(A777,'1.Портфель кредитів'!A:Z,14,FALSE),\"\")","v":""}]
[null,{"$f":"IFERROR(VLOOKUP(A778,'1.Портфель кредитів'!A:Z,3,FALSE),\"\")","v":""},{"$f":"IFERROR(VLOOKUP(A778,'1.Портфель кредитів'!A:Z,7,FALSE),\"\")","v":""},{"$f":"IFERROR(VLOOKUP(A778,'1.Портфель кредитів'!A:Z,14,FALSE),\"\")","v":""}]
[null,{"$f":"IFERROR(VLOOKUP(A779,'1.Портфель кредитів'!A:Z,3,FALSE),\"\")","v":""},{"$f":"IFERROR(VLOOKUP(A779,'1.Портфель кредитів'!A:Z,7,FALSE),\"\")","v":""},{"$f":"IFERROR(VLOOKUP(A779,'1.Портфель кредитів'!A:Z,14,FALSE),\"\")","v":""}]
[null,{"$f":"IFERROR(VLOOKUP(A780,'1.Портфель кредитів'!A:Z,3,FALSE),\"\")","v":""},{"$f":"IFERROR(VLOOKUP(A780,'1.Портфель кредитів'!A:Z,7,FALSE),\"\")","v":""},{"$f":"IFERROR(VLOOKUP(A780,'1.Портфель кредитів'!A:Z,14,FALSE),\"\")","v":""}]
[null,{"$f":"IFERROR(VLOOKUP(A781,'1.Портфель кредитів'!A:Z,3,FALSE),\"\")","v":""},{"$f":"IFERROR(VLOOKUP(A781,'1.Портфель кредитів'!A:Z,7,FALSE),\"\")","v":""},{"$f":"IFERROR(VLOOKUP(A781,'1.Портфель кредитів'!A:Z,14,FALSE),\"\")","v":""}]
[null,{"$f":"IFERROR(VLOOKUP(A782,'1.Портфель кредитів'!A:Z,3,FALSE),\"\")","v":""},{"$f":"IFERROR(VLOOKUP(A782,'1.Портфель кредитів'!A:Z,7,FALSE),\"\")","v":""},{"$f":"IFERROR(VLOOKUP(A782,'1.Портфель кредитів'!A:Z,14,FALSE),\"\")","v":""}]
[null,{"$f":"IFERROR(VLOOKUP(A783,'1.Портфель кредитів'!A:Z,3,FALSE),\"\")","v":""},{"$f":"IFERROR(VLOOKUP(A783,'1.Портфель кредитів'!A:Z,7,FALSE),\"\")","v":""},{"$f":"IFERROR(VLOOKUP(A783,'1.Портфель кредитів'!A:Z,14,FALSE),\"\")","v":""}]
[null,{"$f":"IFERROR(VLOOKUP(A784,'1.Портфель кредитів'!A:Z,3,FALSE),\"\")","v":""},{"$f":"IFERROR(VLOOKUP(A784,'1.Портфель кредитів'!A:Z,7,FALSE),\"\")","v":""},{"$f":"IFERROR(VLOOKUP(A784,'1.Портфель кредитів'!A:Z,14,FALSE),\"\")","v":""}]
[null,{"$f":"IFERROR(VLOOKUP(A785,'1.Портфель кредитів'!A:Z,3,FALSE),\"\")","v":""},{"$f":"IFERROR(VLOOKUP(A785,'1.Портфель кредитів'!A:Z,7,FALSE),\"\")","v":""},{"$f":"IFERROR(VLOOKUP(A785,'1.Портфель кредитів'!A:Z,14,FALSE),\"\")","v":""}]
[null,{"$f":"IFERROR(VLOOKUP(A786,'1.Портфель кредитів'!A:Z,3,FALSE),\"\")","v":""},{"$f":"IFERROR(VLOOKUP(A786,'1.Портфель кредитів'!A:Z,7,FALSE),\"\")","v":""},{"$f":"IFERROR(VLOOKUP(A786,'1.Портфель кредитів'!A:Z,14,FALSE),\"\")","v":""}]
[null,{"$f":"IFERROR(VLOOKUP(A787,'1.Портфель кредитів'!A:Z,3,FALSE),\"\")","v":""},{"$f":"IFERROR(VLOOKUP(A787,'1.Портфель кредитів'!A:Z,7,FALSE),\"\")","v":""},{"$f":"IFERROR(VLOOKUP(A787,'1.Портфель кредитів'!A:Z,14,FALSE),\"\")","v":""}]
[null,{"$f":"IFERROR(VLOOKUP(A788,'1.Портфель кредитів'!A:Z,3,FALSE),\"\")","v":""},{"$f":"IFERROR(VLOOKUP(A788,'1.Портфель кредитів'!A:Z,7,FALSE),\"\")","v":""},{"$f":"IFERROR(VLOOKUP(A788,'1.Портфель кредитів'!A:Z,14,FALSE),\"\")","v":""}]
[null,{"$f":"IFERROR(VLOOKUP(A789,'1.Портфель кредитів'!A:Z,3,FALSE),\"\")","v":""},{"$f":"IFERROR(VLOOKUP(A789,'1.Портфель кредитів'!A:Z,7,FALSE),\"\")","v":""},{"$f":"IFERROR(VLOOKUP(A789,'1.Портфель кредитів'!A:Z,14,FALSE),\"\")","v":""}]
[null,{"$f":"IFERROR(VLOOKUP(A790,'1.Портфель кредитів'!A:Z,3,FALSE),\"\")","v":""},{"$f":"IFERROR(VLOOKUP(A790,'1.Портфель кредитів'!A:Z,7,FALSE),\"\")","v":""},{"$f":"IFERROR(VLOOKUP(A790,'1.Портфель кредитів'!A:Z,14,FALSE),\"\")","v":""}]
[null,{"$f":"IFERROR(VLOOKUP(A791,'1.Портфель кредитів'!A:Z,3,FALSE),\"\")","v":""},{"$f":"IFERROR(VLOOKUP(A791,'1.Портфель кредитів'!A:Z,7,FALSE),\"\")","v":""},{"$f":"IFERROR(VLOOKUP(A791,'1.Портфель кредитів'!A:Z,14,FALSE),\"\")","v":""}]
[null,{"$f":"IFERROR(VLOOKUP(A792,'1.Портфель кредитів'!A:Z,3,FALSE),\"\")","v":""},{"$f":"IFERROR(VLOOKUP(A792,'1.Портфель кредитів'!A:Z,7,FALSE),\"\")","v":""},{"$f":"IFERROR(VLOOKUP(A792,'1.Портфель кредитів'!A:Z,14,FALSE),\"\")","v":""}]
[null,{"$f":"IFERROR(VLOOKUP(A793,'1.Портфель кредитів'!A:Z,3,FALSE),\"\")","v":""},{"$f":"IFERROR(VLOOKUP(A793,'1.Портфель кредитів'!A:Z,7,FALSE),\"\")","v":""},{"$f":"IFERROR(VLOOKUP(A793,'1.Портфель кредитів'!A:Z,14,FALSE),\"\")","v":""}]
[null,{"$f":"IFERROR(VLOOKUP(A794,'1.Портфель кредитів'!A:Z,3,FALSE),\"\")","v":""},{"$f":"IFERROR(VLOOKUP(A794,'1.Портфель кредитів'!A:Z,7,FALSE),\"\")","v":""},{"$f":"IFERROR(VLOOKUP(A794,'1.Портфель кредитів'!A:Z,14,FALSE),\"\")","v":""}]
[null,{"$f":"IFERROR(VLOOKUP(A795,'1.Портфель кредитів'!A:Z,3,FALSE),\"\")","v":""},{"$f":"IFERROR(VLOOKUP(A795,'1.Портфель кредитів'!A:Z,7,FALSE),\"\")","v":""},{"$f":"IFERROR(VLOOKUP(A795,'1.Портфель кредитів'!A:Z,14,FALSE),\"\")","v":""}]
[null,{"$f":"IFERROR(VLOOKUP(A796,'1.Портфель кредитів'!A:Z,3,FALSE),\"\")","v":""},{"$f":"IFERROR(VLOOKUP(A796,'1.Портфель кредитів'!A:Z,7,FALSE),\"\")","v":""},{"$f":"IFERROR(VLOOKUP(A796,'1.Портфель кредитів'!A:Z,14,FALSE),\"\")","v":""}]
[null,{"$f":"IFERROR(VLOOKUP(A797,'1.Портфель кредитів'!A:Z,3,FALSE),\"\")","v":""},{"$f":"IFERROR(VLOOKUP(A797,'1.Портфель кредитів'!A:Z,7,FALSE),\"\")","v":""},{"$f":"IFERROR(VLOOKUP(A797,'1.Портфель кредитів'!A:Z,14,FALSE),\"\")","v":""}]
[null,{"$f":"IFERROR(VLOOKUP(A798,'1.Портфель кредитів'!A:Z,3,FALSE),\"\")","v":""},{"$f":"IFERROR(VLOOKUP(A798,'1.Портфель кредитів'!A:Z,7,FALSE),\"\")","v":""},{"$f":"IFERROR(VLOOKUP(A798,'1.Портфель кредитів'!A:Z,14,FALSE),\"\")","v":""}]
[null,{"$f":"IFERROR(VLOOKUP(A799,'1.Портфель кредитів'!A:Z,3,FALSE),\"\")","v":""},{"$f":"IFERROR(VLOOKUP(A799,'1.Портфель кредитів'!A:Z,7,FALSE),\"\")","v":""},{"$f":"IFERROR(VLOOKUP(A799,'1.Портфель кредитів'!A:Z,14,FALSE),\"\")","v":""}]
[null,{"$f":"IFERROR(VLOOKUP(A800,'1.Портфель кредитів'!A:Z,3,FALSE),\"\")","v":""},{"$f":"IFERROR(VLOOKUP(A800,'1.Портфель кредитів'!A:Z,7,FALSE),\"\")","v":""},{"$f":"IFERROR(VLOOKUP(A800,'1.Портфель кредитів'!A:Z,14,FALSE),\"\")","v":""}]
[null,{"$f":"IFERROR(VLOOKUP(A801,'1.Портфель кредитів'!A:Z,3,FALSE),\"\")","v":""},{"$f":"IFERROR(VLOOKUP(A801,'1.Портфель кредитів'!A:Z,7,FALSE),\"\")","v":""},{"$f":"IFERROR(VLOOKUP(A801,'1.Портфель кредитів'!A:Z,14,FALSE),\"\")","v":""}]
[null,{"$f":"IFERROR(VLOOKUP(A802,'1.Портфель кредитів'!A:Z,3,FALSE),\"\")","v":""},{"$f":"IFERROR(VLOOKUP(A802,'1.Портфель кредитів'!A:Z,7,FALSE),\"\")","v":""},{"$f":"IFERROR(VLOOKUP(A802,'1.Портфель кредитів'!A:Z,14,FALSE),\"\")","v":""}]
[null,{"$f":"IFERROR(VLOOKUP(A803,'1.Портфель кредитів'!A:Z,3,FALSE),\"\")","v":""},{"$f":"IFERROR(VLOOKUP(A803,'1.Портфель кредитів'!A:Z,7,FALSE),\"\")","v":""},{"$f":"IFERROR(VLOOKUP(A803,'1.Портфель кредитів'!A:Z,14,FALSE),\"\")","v":""}]
[null,{"$f":"IFERROR(VLOOKUP(A804,'1.Портфель кредитів'!A:Z,3,FALSE),\"\")","v":""},{"$f":"IFERROR(VLOOKUP(A804,'1.Портфель кредитів'!A:Z,7,FALSE),\"\")","v":""},{"$f":"IFERROR(VLOOKUP(A804,'1.Портфель кредитів'!A:Z,14,FALSE),\"\")","v":""}]
[null,{"$f":"IFERROR(VLOOKUP(A805,'1.Портфель кредитів'!A:Z,3,FALSE),\"\")","v":""},{"$f":"IFERROR(VLOOKUP(A805,'1.Портфель кредитів'!A:Z,7,FALSE),\"\")","v":""},{"$f":"IFERROR(VLOOKUP(A805,'1.Портфель кредитів'!A:Z,14,FALSE),\"\")","v":""}]
[null,{"$f":"IFERROR(VLOOKUP(A806,'1.Портфель кредитів'!A:Z,3,FALSE),\"\")","v":""},{"$f":"IFERROR(VLOOKUP(A806,'1.Портфель кредитів'!A:Z,7,FALSE),\"\")","v":""},{"$f":"IFERROR(VLOOKUP(A806,'1.Портфель кредитів'!A:Z,14,FALSE),\"\")","v":""}]
[null,{"$f":"IFERROR(VLOOKUP(A807,'1.Портфель кредитів'!A:Z,3,FALSE),\"\")","v":""},{"$f":"IFERROR(VLOOKUP(A807,'1.Портфель кредитів'!A:Z,7,FALSE),\"\")","v":""},{"$f":"IFERROR(VLOOKUP(A807,'1.Портфель кредитів'!A:Z,14,FALSE),\"\")","v":""}]
[null,{"$f":"IFERROR(VLOOKUP(A808,'1.Портфель кредитів'!A:Z,3,FALSE),\"\")","v":""},{"$f":"IFERROR(VLOOKUP(A808,'1.Портфель кредитів'!A:Z,7,FALSE),\"\")","v":""},{"$f":"IFERROR(VLOOKUP(A808,'1.Портфель кредитів'!A:Z,14,FALSE),\"\")","v":""}]
[null,{"$f":"IFERROR(VLOOKUP(A809,'1.Портфель кредитів'!A:Z,3,FALSE),\"\")","v":""},{"$f":"IFERROR(VLOOKUP(A809,'1.Портфель кредитів'!A:Z,7,FALSE),\"\")","v":""},{"$f":"IFERROR(VLOOKUP(A809,'1.Портфель кредитів'!A:Z,14,FALSE),\"\")","v":""}]
[null,{"$f":"IFERROR(VLOOKUP(A810,'1.Портфель кредитів'!A:Z,3,FALSE),\"\")","v":""},{"$f":"IFERROR(VLOOKUP(A810,'1.Портфель кредитів'!A:Z,7,FALSE),\"\")","v":""},{"$f":"IFERROR(VLOOKUP(A810,'1.Портфель кредитів'!A:Z,14,FALSE),\"\")","v":""}]
[null,{"$f":"IFERROR(VLOOKUP(A811,'1.Портфель кредитів'!A:Z,3,FALSE),\"\")","v":""},{"$f":"IFERROR(VLOOKUP(A811,'1.Портфель кредитів'!A:Z,7,FALSE),\"\")","v":""},{"$f":"IFERROR(VLOOKUP(A811,'1.Портфель кредитів'!A:Z,14,FALSE),\"\")","v":""}]
[null,{"$f":"IFERROR(VLOOKUP(A812,'1.Портфель кредитів'!A:Z,3,FALSE),\"\")","v":""},{"$f":"IFERROR(VLOOKUP(A812,'1.Портфель кредитів'!A:Z,7,FALSE),\"\")","v":""},{"$f":"IFERROR(VLOOKUP(A812,'1.Портфель кредитів'!A:Z,14,FALSE),\"\")","v":""}]
[null,{"$f":"IFERROR(VLOOKUP(A813,'1.Портфель кредитів'!A:Z,3,FALSE),\"\")","v":""},{"$f":"IFERROR(VLOOKUP(A813,'1.Портфель кредитів'!A:Z,7,FALSE),\"\")","v":""},{"$f":"IFERROR(VLOOKUP(A813,'1.Портфель кредитів'!A:Z,14,FALSE),\"\")","v":""}]
[null,{"$f":"IFERROR(VLOOKUP(A814,'1.Портфель кредитів'!A:Z,3,FALSE),\"\")","v":""},{"$f":"IFERROR(VLOOKUP(A814,'1.Портфель кредитів'!A:Z,7,FALSE),\"\")","v":""},{"$f":"IFERROR(VLOOKUP(A814,'1.Портфель кредитів'!A:Z,14,FALSE),\"\")","v":""}]
[null,{"$f":"IFERROR(VLOOKUP(A815,'1.Портфель кредитів'!A:Z,3,FALSE),\"\")","v":""},{"$f":"IFERROR(VLOOKUP(A815,'1.Портфель кредитів'!A:Z,7,FALSE),\"\")","v":""},{"$f":"IFERROR(VLOOKUP(A815,'1.Портфель кредитів'!A:Z,14,FALSE),\"\")","v":""}]
[null,{"$f":"IFERROR(VLOOKUP(A816,'1.Портфель кредитів'!A:Z,3,FALSE),\"\")","v":""},{"$f":"IFERROR(VLOOKUP(A816,'1.Портфель кредитів'!A:Z,7,FALSE),\"\")","v":""},{"$f":"IFERROR(VLOOKUP(A816,'1.Портфель кредитів'!A:Z,14,FALSE),\"\")","v":""}]
[null,{"$f":"IFERROR(VLOOKUP(A817,'1.Портфель кредитів'!A:Z,3,FALSE),\"\")","v":""},{"$f":"IFERROR(VLOOKUP(A817,'1.Портфель кредитів'!A:Z,7,FALSE),\"\")","v":""},{"$f":"IFERROR(VLOOKUP(A817,'1.Портфель кредитів'!A:Z,14,FALSE),\"\")","v":""}]
[null,{"$f":"IFERROR(VLOOKUP(A818,'1.Портфель кредитів'!A:Z,3,FALSE),\"\")","v":""},{"$f":"IFERROR(VLOOKUP(A818,'1.Портфель кредитів'!A:Z,7,FALSE),\"\")","v":""},{"$f":"IFERROR(VLOOKUP(A818,'1.Портфель кредитів'!A:Z,14,FALSE),\"\")","v":""}]
[null,{"$f":"IFERROR(VLOOKUP(A819,'1.Портфель кредитів'!A:Z,3,FALSE),\"\")","v":""},{"$f":"IFERROR(VLOOKUP(A819,'1.Портфель кредитів'!A:Z,7,FALSE),\"\")","v":""},{"$f":"IFERROR(VLOOKUP(A819,'1.Портфель кредитів'!A:Z,14,FALSE),\"\")","v":""}]
[null,{"$f":"IFERROR(VLOOKUP(A820,'1.Портфель кредитів'!A:Z,3,FALSE),\"\")","v":""},{"$f":"IFERROR(VLOOKUP(A820,'1.Портфель кредитів'!A:Z,7,FALSE),\"\")","v":""},{"$f":"IFERROR(VLOOKUP(A820,'1.Портфель кредитів'!A:Z,14,FALSE),\"\")","v":""}]
[null,{"$f":"IFERROR(VLOOKUP(A821,'1.Портфель кредитів'!A:Z,3,FALSE),\"\")","v":""},{"$f":"IFERROR(VLOOKUP(A821,'1.Портфель кредитів'!A:Z,7,FALSE),\"\")","v":""},{"$f":"IFERROR(VLOOKUP(A821,'1.Портфель кредитів'!A:Z,14,FALSE),\"\")","v":""}]
[null,{"$f":"IFERROR(VLOOKUP(A822,'1.Портфель кредитів'!A:Z,3,FALSE),\"\")","v":""},{"$f":"IFERROR(VLOOKUP(A822,'1.Портфель кредитів'!A:Z,7,FALSE),\"\")","v":""},{"$f":"IFERROR(VLOOKUP(A822,'1.Портфель кредитів'!A:Z,14,FALSE),\"\")","v":""}]
[null,{"$f":"IFERROR(VLOOKUP(A823,'1.Портфель кредитів'!A:Z,3,FALSE),\"\")","v":""},{"$f":"IFERROR(VLOOKUP(A823,'1.Портфель кредитів'!A:Z,7,FALSE),\"\")","v":""},{"$f":"IFERROR(VLOOKUP(A823,'1.Портфель кредитів'!A:Z,14,FALSE),\"\")","v":""}]
[null,{"$f":"IFERROR(VLOOKUP(A824,'1.Портфель кредитів'!A:Z,3,FALSE),\"\")","v":""},{"$f":"IFERROR(VLOOKUP(A824,'1.Портфель кредитів'!A:Z,7,FALSE),\"\")","v":""},{"$f":"IFERROR(VLOOKUP(A824,'1.Портфель кредитів'!A:Z,14,FALSE),\"\")","v":""}]
[null,{"$f":"IFERROR(VLOOKUP(A825,'1.Портфель кредитів'!A:Z,3,FALSE),\"\")","v":""},{"$f":"IFERROR(VLOOKUP(A825,'1.Портфель кредитів'!A:Z,7,FALSE),\"\")","v":""},{"$f":"IFERROR(VLOOKUP(A825,'1.Портфель кредитів'!A:Z,14,FALSE),\"\")","v":""}]
[null,{"$f":"IFERROR(VLOOKUP(A826,'1.Портфель кредитів'!A:Z,3,FALSE),\"\")","v":""},{"$f":"IFERROR(VLOOKUP(A826,'1.Портфель кредитів'!A:Z,7,FALSE),\"\")","v":""},{"$f":"IFERROR(VLOOKUP(A826,'1.Портфель кредитів'!A:Z,14,FALSE),\"\")","v":""}]
[null,{"$f":"IFERROR(VLOOKUP(A827,'1.Портфель кредитів'!A:Z,3,FALSE),\"\")","v":""},{"$f":"IFERROR(VLOOKUP(A827,'1.Портфель кредитів'!A:Z,7,FALSE),\"\")","v":""},{"$f":"IFERROR(VLOOKUP(A827,'1.Портфель кредитів'!A:Z,14,FALSE),\"\")","v":""}]
[null,{"$f":"IFERROR(VLOOKUP(A828,'1.Портфель кредитів'!A:Z,3,FALSE),\"\")","v":""},{"$f":"IFERROR(VLOOKUP(A828,'1.Портфель кредитів'!A:Z,7,FALSE),\"\")","v":""},{"$f":"IFERROR(VLOOKUP(A828,'1.Портфель кредитів'!A:Z,14,FALSE),\"\")","v":""}]
[null,{"$f":"IFERROR(VLOOKUP(A829,'1.Портфель кредитів'!A:Z,3,FALSE),\"\")","v":""},{"$f":"IFERROR(VLOOKUP(A829,'1.Портфель кредитів'!A:Z,7,FALSE),\"\")","v":""},{"$f":"IFERROR(VLOOKUP(A829,'1.Портфель кредитів'!A:Z,14,FALSE),\"\")","v":""}]
[null,{"$f":"IFERROR(VLOOKUP(A830,'1.Портфель кредитів'!A:Z,3,FALSE),\"\")","v":""},{"$f":"IFERROR(VLOOKUP(A830,'1.Портфель кредитів'!A:Z,7,FALSE),\"\")","v":""},{"$f":"IFERROR(VLOOKUP(A830,'1.Портфель кредитів'!A:Z,14,FALSE),\"\")","v":""}]
[null,{"$f":"IFERROR(VLOOKUP(A831,'1.Портфель кредитів'!A:Z,3,FALSE),\"\")","v":""},{"$f":"IFERROR(VLOOKUP(A831,'1.Портфель кредитів'!A:Z,7,FALSE),\"\")","v":""},{"$f":"IFERROR(VLOOKUP(A831,'1.Портфель кредитів'!A:Z,14,FALSE),\"\")","v":""}]
[null,{"$f":"IFERROR(VLOOKUP(A832,'1.Портфель кредитів'!A:Z,3,FALSE),\"\")","v":""},{"$f":"IFERROR(VLOOKUP(A832,'1.Портфель кредитів'!A:Z,7,FALSE),\"\")","v":""},{"$f":"IFERROR(VLOOKUP(A832,'1.Портфель кредитів'!A:Z,14,FALSE),\"\")","v":""}]
[null,{"$f":"IFERROR(VLOOKUP(A833,'1.Портфель кредитів'!A:Z,3,FALSE),\"\")","v":""},{"$f":"IFERROR(VLOOKUP(A833,'1.Портфель кредитів'!A:Z,7,FALSE),\"\")","v":""},{"$f":"IFERROR(VLOOKUP(A833,'1.Портфель кредитів'!A:Z,14,FALSE),\"\")","v":""}]
[null,{"$f":"IFERROR(VLOOKUP(A834,'1.Портфель кредитів'!A:Z,3,FALSE),\"\")","v":""},{"$f":"IFERROR(VLOOKUP(A834,'1.Портфель кредитів'!A:Z,7,FALSE),\"\")","v":""},{"$f":"IFERROR(VLOOKUP(A834,'1.Портфель кредитів'!A:Z,14,FALSE),\"\")","v":""}]
[null,{"$f":"IFERROR(VLOOKUP(A835,'1.Портфель кредитів'!A:Z,3,FALSE),\"\")","v":""},{"$f":"IFERROR(VLOOKUP(A835,'1.Портфель кредитів'!A:Z,7,FALSE),\"\")","v":""},{"$f":"IFERROR(VLOOKUP(A835,'1.Портфель кредитів'!A:Z,14,FALSE),\"\")","v":""}]
[null,{"$f":"IFERROR(VLOOKUP(A836,'1.Портфель кредитів'!A:Z,3,FALSE),\"\")","v":""},{"$f":"IFERROR(VLOOKUP(A836,'1.Портфель кредитів'!A:Z,7,FALSE),\"\")","v":""},{"$f":"IFERROR(VLOOKUP(A836,'1.Портфель кредитів'!A:Z,14,FALSE),\"\")","v":""}]
[null,{"$f":"IFERROR(VLOOKUP(A837,'1.Портфель кредитів'!A:Z,3,FALSE),\"\")","v":""},{"$f":"IFERROR(VLOOKUP(A837,'1.Портфель кредитів'!A:Z,7,FALSE),\"\")","v":""},{"$f":"IFERROR(VLOOKUP(A837,'1.Портфель кредитів'!A:Z,14,FALSE),\"\")","v":""}]
[null,{"$f":"IFERROR(VLOOKUP(A838,'1.Портфель кредитів'!A:Z,3,FALSE),\"\")","v":""},{"$f":"IFERROR(VLOOKUP(A838,'1.Портфель кредитів'!A:Z,7,FALSE),\"\")","v":""},{"$f":"IFERROR(VLOOKUP(A838,'1.Портфель кредитів'!A:Z,14,FALSE),\"\")","v":""}]
[null,{"$f":"IFERROR(VLOOKUP(A839,'1.Портфель кредитів'!A:Z,3,FALSE),\"\")","v":""},{"$f":"IFERROR(VLOOKUP(A839,'1.Портфель кредитів'!A:Z,7,FALSE),\"\")","v":""},{"$f":"IFERROR(VLOOKUP(A839,'1.Портфель кредитів'!A:Z,14,FALSE),\"\")","v":""}]
[null,{"$f":"IFERROR(VLOOKUP(A840,'1.Портфель кредитів'!A:Z,3,FALSE),\"\")","v":""},{"$f":"IFERROR(VLOOKUP(A840,'1.Портфель кредитів'!A:Z,7,FALSE),\"\")","v":""},{"$f":"IFERROR(VLOOKUP(A840,'1.Портфель кредитів'!A:Z,14,FALSE),\"\")","v":""}]
[null,{"$f":"IFERROR(VLOOKUP(A841,'1.Портфель кредитів'!A:Z,3,FALSE),\"\")","v":""},{"$f":"IFERROR(VLOOKUP(A841,'1.Портфель кредитів'!A:Z,7,FALSE),\"\")","v":""},{"$f":"IFERROR(VLOOKUP(A841,'1.Портфель кредитів'!A:Z,14,FALSE),\"\")","v":""}]
[null,{"$f":"IFERROR(VLOOKUP(A842,'1.Портфель кредитів'!A:Z,3,FALSE),\"\")","v":""},{"$f":"IFERROR(VLOOKUP(A842,'1.Портфель кредитів'!A:Z,7,FALSE),\"\")","v":""},{"$f":"IFERROR(VLOOKUP(A842,'1.Портфель кредитів'!A:Z,14,FALSE),\"\")","v":""}]
[null,{"$f":"IFERROR(VLOOKUP(A843,'1.Портфель кредитів'!A:Z,3,FALSE),\"\")","v":""},{"$f":"IFERROR(VLOOKUP(A843,'1.Портфель кредитів'!A:Z,7,FALSE),\"\")","v":""},{"$f":"IFERROR(VLOOKUP(A843,'1.Портфель кредитів'!A:Z,14,FALSE),\"\")","v":""}]
[null,{"$f":"IFERROR(VLOOKUP(A844,'1.Портфель кредитів'!A:Z,3,FALSE),\"\")","v":""},{"$f":"IFERROR(VLOOKUP(A844,'1.Портфель кредитів'!A:Z,7,FALSE),\"\")","v":""},{"$f":"IFERROR(VLOOKUP(A844,'1.Портфель кредитів'!A:Z,14,FALSE),\"\")","v":""}]
[null,{"$f":"IFERROR(VLOOKUP(A845,'1.Портфель кредитів'!A:Z,3,FALSE),\"\")","v":""},{"$f":"IFERROR(VLOOKUP(A845,'1.Портфель кредитів'!A:Z,7,FALSE),\"\")","v":""},{"$f":"IFERROR(VLOOKUP(A845,'1.Портфель кредитів'!A:Z,14,FALSE),\"\")","v":""}]
[null,{"$f":"IFERROR(VLOOKUP(A846,'1.Портфель кредитів'!A:Z,3,FALSE),\"\")","v":""},{"$f":"IFERROR(VLOOKUP(A846,'1.Портфель кредитів'!A:Z,7,FALSE),\"\")","v":""},{"$f":"IFERROR(VLOOKUP(A846,'1.Портфель кредитів'!A:Z,14,FALSE),\"\")","v":""}]
[null,{"$f":"IFERROR(VLOOKUP(A847,'1.Портфель кредитів'!A:Z,3,FALSE),\"\")","v":""},{"$f":"IFERROR(VLOOKUP(A847,'1.Портфель кредитів'!A:Z,7,FALSE),\"\")","v":""},{"$f":"IFERROR(VLOOKUP(A847,'1.Портфель кредитів'!A:Z,14,FALSE),\"\")","v":""}]
[null,{"$f":"IFERROR(VLOOKUP(A848,'1.Портфель кредитів'!A:Z,3,FALSE),\"\")","v":""},{"$f":"IFERROR(VLOOKUP(A848,'1.Портфель кредитів'!A:Z,7,FALSE),\"\")","v":""},{"$f":"IFERROR(VLOOKUP(A848,'1.Портфель кредитів'!A:Z,14,FALSE),\"\")","v":""}]
[null,{"$f":"IFERROR(VLOOKUP(A849,'1.Портфель кредитів'!A:Z,3,FALSE),\"\")","v":""},{"$f":"IFERROR(VLOOKUP(A849,'1.Портфель кредитів'!A:Z,7,FALSE),\"\")","v":""},{"$f":"IFERROR(VLOOKUP(A849,'1.Портфель кредитів'!A:Z,14,FALSE),\"\")","v":""}]
[null,{"$f":"IFERROR(VLOOKUP(A850,'1.Портфель кредитів'!A:Z,3,FALSE),\"\")","v":""},{"$f":"IFERROR(VLOOKUP(A850,'1.Портфель кредитів'!A:Z,7,FALSE),\"\")","v":""},{"$f":"IFERROR(VLOOKUP(A850,'1.Портфель кредитів'!A:Z,14,FALSE),\"\")","v":""}]
[null,{"$f":"IFERROR(VLOOKUP(A851,'1.Портфель кредитів'!A:Z,3,FALSE),\"\")","v":""},{"$f":"IFERROR(VLOOKUP(A851,'1.Портфель кредитів'!A:Z,7,FALSE),\"\")","v":""},{"$f":"IFERROR(VLOOKUP(A851,'1.Портфель кредитів'!A:Z,14,FALSE),\"\")","v":""}]
[null,{"$f":"IFERROR(VLOOKUP(A852,'1.Портфель кредитів'!A:Z,3,FALSE),\"\")","v":""},{"$f":"IFERROR(VLOOKUP(A852,'1.Портфель кредитів'!A:Z,7,FALSE),\"\")","v":""},{"$f":"IFERROR(VLOOKUP(A852,'1.Портфель кредитів'!A:Z,14,FALSE),\"\")","v":""}]
[null,{"$f":"IFERROR(VLOOKUP(A853,'1.Портфель кредитів'!A:Z,3,FALSE),\"\")","v":""},{"$f":"IFERROR(VLOOKUP(A853,'1.Портфель кредитів'!A:Z,7,FALSE),\"\")","v":""},{"$f":"IFERROR(VLOOKUP(A853,'1.Портфель кредитів'!A:Z,14,FALSE),\"\")","v":""}]
[null,{"$f":"IFERROR(VLOOKUP(A854,'1.Портфель кредитів'!A:Z,3,FALSE),\"\")","v":""},{"$f":"IFERROR(VLOOKUP(A854,'1.Портфель кредитів'!A:Z,7,FALSE),\"\")","v":""},{"$f":"IFERROR(VLOOKUP(A854,'1.Портфель кредитів'!A:Z,14,FALSE),\"\")","v":""}]
[null,{"$f":"IFERROR(VLOOKUP(A855,'1.Портфель кредитів'!A:Z,3,FALSE),\"\")","v":""},{"$f":"IFERROR(VLOOKUP(A855,'1.Портфель кредитів'!A:Z,7,FALSE),\"\")","v":""},{"$f":"IFERROR(VLOOKUP(A855,'1.Портфель кредитів'!A:Z,14,FALSE),\"\")","v":""}]
[null,{"$f":"IFERROR(VLOOKUP(A856,'1.Портфель кредитів'!A:Z,3,FALSE),\"\")","v":""},{"$f":"IFERROR(VLOOKUP(A856,'1.Портфель кредитів'!A:Z,7,FALSE),\"\")","v":""},{"$f":"IFERROR(VLOOKUP(A856,'1.Портфель кредитів'!A:Z,14,FALSE),\"\")","v":""}]
[null,{"$f":"IFERROR(VLOOKUP(A857,'1.Портфель кредитів'!A:Z,3,FALSE),\"\")","v":""},{"$f":"IFERROR(VLOOKUP(A857,'1.Портфель кредитів'!A:Z,7,FALSE),\"\")","v":""},{"$f":"IFERROR(VLOOKUP(A857,'1.Портфель кредитів'!A:Z,14,FALSE),\"\")","v":""}]
[null,{"$f":"IFERROR(VLOOKUP(A858,'1.Портфель кредитів'!A:Z,3,FALSE),\"\")","v":""},{"$f":"IFERROR(VLOOKUP(A858,'1.Портфель кредитів'!A:Z,7,FALSE),\"\")","v":""},{"$f":"IFERROR(VLOOKUP(A858,'1.Портфель кредитів'!A:Z,14,FALSE),\"\")","v":""}]
[null,{"$f":"IFERROR(VLOOKUP(A859,'1.Портфель кредитів'!A:Z,3,FALSE),\"\")","v":""},{"$f":"IFERROR(VLOOKUP(A859,'1.Портфель кредитів'!A:Z,7,FALSE),\"\")","v":""},{"$f":"IFERROR(VLOOKUP(A859,'1.Портфель кредитів'!A:Z,14,FALSE),\"\")","v":""}]
[null,{"$f":"IFERROR(VLOOKUP(A860,'1.Портфель кредитів'!A:Z,3,FALSE),\"\")","v":""},{"$f":"IFERROR(VLOOKUP(A860,'1.Портфель кредитів'!A:Z,7,FALSE),\"\")","v":""},{"$f":"IFERROR(VLOOKUP(A860,'1.Портфель кредитів'!A:Z,14,FALSE),\"\")","v":""}]
[null,{"$f":"IFERROR(VLOOKUP(A861,'1.Портфель кредитів'!A:Z,3,FALSE),\"\")","v":""},{"$f":"IFERROR(VLOOKUP(A861,'1.Портфель кредитів'!A:Z,7,FALSE),\"\")","v":""},{"$f":"IFERROR(VLOOKUP(A861,'1.Портфель кредитів'!A:Z,14,FALSE),\"\")","v":""}]
[null,{"$f":"IFERROR(VLOOKUP(A862,'1.Портфель кредитів'!A:Z,3,FALSE),\"\")","v":""},{"$f":"IFERROR(VLOOKUP(A862,'1.Портфель кредитів'!A:Z,7,FALSE),\"\")","v":""},{"$f":"IFERROR(VLOOKUP(A862,'1.Портфель кредитів'!A:Z,14,FALSE),\"\")","v":""}]
[null,{"$f":"IFERROR(VLOOKUP(A863,'1.Портфель кредитів'!A:Z,3,FALSE),\"\")","v":""},{"$f":"IFERROR(VLOOKUP(A863,'1.Портфель кредитів'!A:Z,7,FALSE),\"\")","v":""},{"$f":"IFERROR(VLOOKUP(A863,'1.Портфель кредитів'!A:Z,14,FALSE),\"\")","v":""}]
[null,{"$f":"IFERROR(VLOOKUP(A864,'1.Портфель кредитів'!A:Z,3,FALSE),\"\")","v":""},{"$f":"IFERROR(VLOOKUP(A864,'1.Портфель кредитів'!A:Z,7,FALSE),\"\")","v":""},{"$f":"IFERROR(VLOOKUP(A864,'1.Портфель кредитів'!A:Z,14,FALSE),\"\")","v":""}]
[null,{"$f":"IFERROR(VLOOKUP(A865,'1.Портфель кредитів'!A:Z,3,FALSE),\"\")","v":""},{"$f":"IFERROR(VLOOKUP(A865,'1.Портфель кредитів'!A:Z,7,FALSE),\"\")","v":""},{"$f":"IFERROR(VLOOKUP(A865,'1.Портфель кредитів'!A:Z,14,FALSE),\"\")","v":""}]
[null,{"$f":"IFERROR(VLOOKUP(A866,'1.Портфель кредитів'!A:Z,3,FALSE),\"\")","v":""},{"$f":"IFERROR(VLOOKUP(A866,'1.Портфель кредитів'!A:Z,7,FALSE),\"\")","v":""},{"$f":"IFERROR(VLOOKUP(A866,'1.Портфель кредитів'!A:Z,14,FALSE),\"\")","v":""}]
[null,{"$f":"IFERROR(VLOOKUP(A867,'1.Портфель кредитів'!A:Z,3,FALSE),\"\")","v":""},{"$f":"IFERROR(VLOOKUP(A867,'1.Портфель кредитів'!A:Z,7,FALSE),\"\")","v":""},{"$f":"IFERROR(VLOOKUP(A867,'1.Портфель кредитів'!A:Z,14,FALSE),\"\")","v":""}]
[null,{"$f":"IFERROR(VLOOKUP(A868,'1.Портфель кредитів'!A:Z,3,FALSE),\"\")","v":""},{"$f":"IFERROR(VLOOKUP(A868,'1.Портфель кредитів'!A:Z,7,FALSE),\"\")","v":""},{"$f":"IFERROR(VLOOKUP(A868,'1.Портфель кредитів'!A:Z,14,FALSE),\"\")","v":""}]
[null,{"$f":"IFERROR(VLOOKUP(A869,'1.Портфель кредитів'!A:Z,3,FALSE),\"\")","v":""},{"$f":"IFERROR(VLOOKUP(A869,'1.Портфель кредитів'!A:Z,7,FALSE),\"\")","v":""},{"$f":"IFERROR(VLOOKUP(A869,'1.Портфель кредитів'!A:Z,14,FALSE),\"\")","v":""}]
[null,{"$f":"IFERROR(VLOOKUP(A870,'1.Портфель кредитів'!A:Z,3,FALSE),\"\")","v":""},{"$f":"IFERROR(VLOOKUP(A870,'1.Портфель кредитів'!A:Z,7,FALSE),\"\")","v":""},{"$f":"IFERROR(VLOOKUP(A870,'1.Портфель кредитів'!A:Z,14,FALSE),\"\")","v":""}]
[null,{"$f":"IFERROR(VLOOKUP(A871,'1.Портфель кредитів'!A:Z,3,FALSE),\"\")","v":""},{"$f":"IFERROR(VLOOKUP(A871,'1.Портфель кредитів'!A:Z,7,FALSE),\"\")","v":""},{"$f":"IFERROR(VLOOKUP(A871,'1.Портфель кредитів'!A:Z,14,FALSE),\"\")","v":""}]
[null,{"$f":"IFERROR(VLOOKUP(A872,'1.Портфель кредитів'!A:Z,3,FALSE),\"\")","v":""},{"$f":"IFERROR(VLOOKUP(A872,'1.Портфель кредитів'!A:Z,7,FALSE),\"\")","v":""},{"$f":"IFERROR(VLOOKUP(A872,'1.Портфель кредитів'!A:Z,14,FALSE),\"\")","v":""}]
[null,{"$f":"IFERROR(VLOOKUP(A873,'1.Портфель кредитів'!A:Z,3,FALSE),\"\")","v":""},{"$f":"IFERROR(VLOOKUP(A873,'1.Портфель кредитів'!A:Z,7,FALSE),\"\")","v":""},{"$f":"IFERROR(VLOOKUP(A873,'1.Портфель кредитів'!A:Z,14,FALSE),\"\")","v":""}]
[null,{"$f":"IFERROR(VLOOKUP(A874,'1.Портфель кредитів'!A:Z,3,FALSE),\"\")","v":""},{"$f":"IFERROR(VLOOKUP(A874,'1.Портфель кредитів'!A:Z,7,FALSE),\"\")","v":""},{"$f":"IFERROR(VLOOKUP(A874,'1.Портфель кредитів'!A:Z,14,FALSE),\"\")","v":""}]
[null,{"$f":"IFERROR(VLOOKUP(A875,'1.Портфель кредитів'!A:Z,3,FALSE),\"\")","v":""},{"$f":"IFERROR(VLOOKUP(A875,'1.Портфель кредитів'!A:Z,7,FALSE),\"\")","v":""},{"$f":"IFERROR(VLOOKUP(A875,'1.Портфель кредитів'!A:Z,14,FALSE),\"\")","v":""}]
[null,{"$f":"IFERROR(VLOOKUP(A876,'1.Портфель кредитів'!A:Z,3,FALSE),\"\")","v":""},{"$f":"IFERROR(VLOOKUP(A876,'1.Портфель кредитів'!A:Z,7,FALSE),\"\")","v":""},{"$f":"IFERROR(VLOOKUP(A876,'1.Портфель кредитів'!A:Z,14,FALSE),\"\")","v":""}]
[null,{"$f":"IFERROR(VLOOKUP(A877,'1.Портфель кредитів'!A:Z,3,FALSE),\"\")","v":""},{"$f":"IFERROR(VLOOKUP(A877,'1.Портфель кредитів'!A:Z,7,FALSE),\"\")","v":""},{"$f":"IFERROR(VLOOKUP(A877,'1.Портфель кредитів'!A:Z,14,FALSE),\"\")","v":""}]
[null,{"$f":"IFERROR(VLOOKUP(A878,'1.Портфель кредитів'!A:Z,3,FALSE),\"\")","v":""},{"$f":"IFERROR(VLOOKUP(A878,'1.Портфель кредитів'!A:Z,7,FALSE),\"\")","v":""},{"$f":"IFERROR(VLOOKUP(A878,'1.Портфель кредитів'!A:Z,14,FALSE),\"\")","v":""}]
[null,{"$f":"IFERROR(VLOOKUP(A879,'1.Портфель кредитів'!A:Z,3,FALSE),\"\")","v":""},{"$f":"IFERROR(VLOOKUP(A879,'1.Портфель кредитів'!A:Z,7,FALSE),\"\")","v":""},{"$f":"IFERROR(VLOOKUP(A879,'1.Портфель кредитів'!A:Z,14,FALSE),\"\")","v":""}]
[null,{"$f":"IFERROR(VLOOKUP(A880,'1.Портфель кредитів'!A:Z,3,FALSE),\"\")","v":""},{"$f":"IFERROR(VLOOKUP(A880,'1.Портфель кредитів'!A:Z,7,FALSE),\"\")","v":""},{"$f":"IFERROR(VLOOKUP(A880,'1.Портфель кредитів'!A:Z,14,FALSE),\"\")","v":""}]
[null,{"$f":"IFERROR(VLOOKUP(A881,'1.Портфель кредитів'!A:Z,3,FALSE),\"\")","v":""},{"$f":"IFERROR(VLOOKUP(A881,'1.Портфель кредитів'!A:Z,7,FALSE),\"\")","v":""},{"$f":"IFERROR(VLOOKUP(A881,'1.Портфель кредитів'!A:Z,14,FALSE),\"\")","v":""}]
[null,{"$f":"IFERROR(VLOOKUP(A882,'1.Портфель кредитів'!A:Z,3,FALSE),\"\")","v":""},{"$f":"IFERROR(VLOOKUP(A882,'1.Портфель кредитів'!A:Z,7,FALSE),\"\")","v":""},{"$f":"IFERROR(VLOOKUP(A882,'1.Портфель кредитів'!A:Z,14,FALSE),\"\")","v":""}]
[null,{"$f":"IFERROR(VLOOKUP(A883,'1.Портфель кредитів'!A:Z,3,FALSE),\"\")","v":""},{"$f":"IFERROR(VLOOKUP(A883,'1.Портфель кредитів'!A:Z,7,FALSE),\"\")","v":""},{"$f":"IFERROR(VLOOKUP(A883,'1.Портфель кредитів'!A:Z,14,FALSE),\"\")","v":""}]
[null,{"$f":"IFERROR(VLOOKUP(A884,'1.Портфель кредитів'!A:Z,3,FALSE),\"\")","v":""},{"$f":"IFERROR(VLOOKUP(A884,'1.Портфель кредитів'!A:Z,7,FALSE),\"\")","v":""},{"$f":"IFERROR(VLOOKUP(A884,'1.Портфель кредитів'!A:Z,14,FALSE),\"\")","v":""}]
[null,{"$f":"IFERROR(VLOOKUP(A885,'1.Портфель кредитів'!A:Z,3,FALSE),\"\")","v":""},{"$f":"IFERROR(VLOOKUP(A885,'1.Портфель кредитів'!A:Z,7,FALSE),\"\")","v":""},{"$f":"IFERROR(VLOOKUP(A885,'1.Портфель кредитів'!A:Z,14,FALSE),\"\")","v":""}]
[null,{"$f":"IFERROR(VLOOKUP(A886,'1.Портфель кредитів'!A:Z,3,FALSE),\"\")","v":""},{"$f":"IFERROR(VLOOKUP(A886,'1.Портфель кредитів'!A:Z,7,FALSE),\"\")","v":""},{"$f":"IFERROR(VLOOKUP(A886,'1.Портфель кредитів'!A:Z,14,FALSE),\"\")","v":""}]
[null,{"$f":"IFERROR(VLOOKUP(A887,'1.Портфель кредитів'!A:Z,3,FALSE),\"\")","v":""},{"$f":"IFERROR(VLOOKUP(A887,'1.Портфель кредитів'!A:Z,7,FALSE),\"\")","v":""},{"$f":"IFERROR(VLOOKUP(A887,'1.Портфель кредитів'!A:Z,14,FALSE),\"\")","v":""}]
[null,{"$f":"IFERROR(VLOOKUP(A888,'1.Портфель кредитів'!A:Z,3,FALSE),\"\")","v":""},{"$f":"IFERROR(VLOOKUP(A888,'1.Портфель кредитів'!A:Z,7,FALSE),\"\")","v":""},{"$f":"IFERROR(VLOOKUP(A888,'1.Портфель кредитів'!A:Z,14,FALSE),\"\")","v":""}]
[null,{"$f":"IFERROR(VLOOKUP(A889,'1.Портфель кредитів'!A:Z,3,FALSE),\"\")","v":""},{"$f":"IFERROR(VLOOKUP(A889,'1.Портфель кредитів'!A:Z,7,FALSE),\"\")","v":""},{"$f":"IFERROR(VLOOKUP(A889,'1.Портфель кредитів'!A:Z,14,FALSE),\"\")","v":""}]
[null,{"$f":"IFERROR(VLOOKUP(A890,'1.Портфель кредитів'!A:Z,3,FALSE),\"\")","v":""},{"$f":"IFERROR(VLOOKUP(A890,'1.Портфель кредитів'!A:Z,7,FALSE),\"\")","v":""},{"$f":"IFERROR(VLOOKUP(A890,'1.Портфель кредитів'!A:Z,14,FALSE),\"\")","v":""}]
[null,{"$f":"IFERROR(VLOOKUP(A891,'1.Портфель кредитів'!A:Z,3,FALSE),\"\")","v":""},{"$f":"IFERROR(VLOOKUP(A891,'1.Портфель кредитів'!A:Z,7,FALSE),\"\")","v":""},{"$f":"IFERROR(VLOOKUP(A891,'1.Портфель кредитів'!A:Z,14,FALSE),\"\")","v":""}]
[null,{"$f":"IFERROR(VLOOKUP(A892,'1.Портфель кредитів'!A:Z,3,FALSE),\"\")","v":""},{"$f":"IFERROR(VLOOKUP(A892,'1.Портфель кредитів'!A:Z,7,FALSE),\"\")","v":""},{"$f":"IFERROR(VLOOKUP(A892,'1.Портфель кредитів'!A:Z,14,FALSE),\"\")","v":""}]
[null,{"$f":"IFERROR(VLOOKUP(A893,'1.Портфель кредитів'!A:Z,3,FALSE),\"\")","v":""},{"$f":"IFERROR(VLOOKUP(A893,'1.Портфель кредитів'!A:Z,7,FALSE),\"\")","v":""},{"$f":"IFERROR(VLOOKUP(A893,'1.Портфель кредитів'!A:Z,14,FALSE),\"\")","v":""}]
[null,{"$f":"IFERROR(VLOOKUP(A894,'1.Портфель кредитів'!A:Z,3,FALSE),\"\")","v":""},{"$f":"IFERROR(VLOOKUP(A894,'1.Портфель кредитів'!A:Z,7,FALSE),\"\")","v":""},{"$f":"IFERROR(VLOOKUP(A894,'1.Портфель кредитів'!A:Z,14,FALSE),\"\")","v":""}]
[null,{"$f":"IFERROR(VLOOKUP(A895,'1.Портфель кредитів'!A:Z,3,FALSE),\"\")","v":""},{"$f":"IFERROR(VLOOKUP(A895,'1.Портфель кредитів'!A:Z,7,FALSE),\"\")","v":""},{"$f":"IFERROR(VLOOKUP(A895,'1.Портфель кредитів'!A:Z,14,FALSE),\"\")","v":""}]
[null,{"$f":"IFERROR(VLOOKUP(A896,'1.Портфель кредитів'!A:Z,3,FALSE),\"\")","v":""},{"$f":"IFERROR(VLOOKUP(A896,'1.Портфель кредитів'!A:Z,7,FALSE),\"\")","v":""},{"$f":"IFERROR(VLOOKUP(A896,'1.Портфель кредитів'!A:Z,14,FALSE),\"\")","v":""}]
[null,{"$f":"IFERROR(VLOOKUP(A897,'1.Портфель кредитів'!A:Z,3,FALSE),\"\")","v":""},{"$f":"IFERROR(VLOOKUP(A897,'1.Портфель кредитів'!A:Z,7,FALSE),\"\")","v":""},{"$f":"IFERROR(VLOOKUP(A897,'1.Портфель кредитів'!A:Z,14,FALSE),\"\")","v":""}]
[null,{"$f":"IFERROR(VLOOKUP(A898,'1.Портфель кредитів'!A:Z,3,FALSE),\"\")","v":""},{"$f":"IFERROR(VLOOKUP(A898,'1.Портфель кредитів'!A:Z,7,FALSE),\"\")","v":""},{"$f":"IFERROR(VLOOKUP(A898,'1.Портфель кредитів'!A:Z,14,FALSE),\"\")","v":""}]
[null,{"$f":"IFERROR(VLOOKUP(A899,'1.Портфель кредитів'!A:Z,3,FALSE),\"\")","v":""},{"$f":"IFERROR(VLOOKUP(A899,'1.Портфель кредитів'!A:Z,7,FALSE),\"\")","v":""},{"$f":"IFERROR(VLOOKUP(A899,'1.Портфель кредитів'!A:Z,14,FALSE),\"\")","v":""}]
[null,{"$f":"IFERROR(VLOOKUP(A900,'1.Портфель кредитів'!A:Z,3,FALSE),\"\")","v":""},{"$f":"IFERROR(VLOOKUP(A900,'1.Портфель кредитів'!A:Z,7,FALSE),\"\")","v":""},{"$f":"IFERROR(VLOOKUP(A900,'1.Портфель кредитів'!A:Z,14,FALSE),\"\")","v":""}]
[null,{"$f":"IFERROR(VLOOKUP(A901,'1.Портфель кредитів'!A:Z,3,FALSE),\"\")","v":""},{"$f":"IFERROR(VLOOKUP(A901,'1.Портфель кредитів'!A:Z,7,FALSE),\"\")","v":""},{"$f":"IFERROR(VLOOKUP(A901,'1.Портфель кредитів'!A:Z,14,FALSE),\"\")","v":""}]
[null,{"$f":"IFERROR(VLOOKUP(A902,'1.Портфель кредитів'!A:Z,3,FALSE),\"\")","v":""},{"$f":"IFERROR(VLOOKUP(A902,'1.Портфель кредитів'!A:Z,7,FALSE),\"\")","v":""},{"$f":"IFERROR(VLOOKUP(A902,'1.Портфель кредитів'!A:Z,14,FALSE),\"\")","v":""}]
[null,{"$f":"IFERROR(VLOOKUP(A903,'1.Портфель кредитів'!A:Z,3,FALSE),\"\")","v":""},{"$f":"IFERROR(VLOOKUP(A903,'1.Портфель кредитів'!A:Z,7,FALSE),\"\")","v":""},{"$f":"IFERROR(VLOOKUP(A903,'1.Портфель кредитів'!A:Z,14,FALSE),\"\")","v":""}]
[null,{"$f":"IFERROR(VLOOKUP(A904,'1.Портфель кредитів'!A:Z,3,FALSE),\"\")","v":""},{"$f":"IFERROR(VLOOKUP(A904,'1.Портфель кредитів'!A:Z,7,FALSE),\"\")","v":""},{"$f":"IFERROR(VLOOKUP(A904,'1.Портфель кредитів'!A:Z,14,FALSE),\"\")","v":""}]
[null,{"$f":"IFERROR(VLOOKUP(A905,'1.Портфель кредитів'!A:Z,3,FALSE),\"\")","v":""},{"$f":"IFERROR(VLOOKUP(A905,'1.Портфель кредитів'!A:Z,7,FALSE),\"\")","v":""},{"$f":"IFERROR(VLOOKUP(A905,'1.Портфель кредитів'!A:Z,14,FALSE),\"\")","v":""}]
[null,{"$f":"IFERROR(VLOOKUP(A906,'1.Портфель кредитів'!A:Z,3,FALSE),\"\")","v":""},{"$f":"IFERROR(VLOOKUP(A906,'1.Портфель кредитів'!A:Z,7,FALSE),\"\")","v":""},{"$f":"IFERROR(VLOOKUP(A906,'1.Портфель кредитів'!A:Z,14,FALSE),\"\")","v":""}]
[null,{"$f":"IFERROR(VLOOKUP(A907,'1.Портфель кредитів'!A:Z,3,FALSE),\"\")","v":""},{"$f":"IFERROR(VLOOKUP(A907,'1.Портфель кредитів'!A:Z,7,FALSE),\"\")","v":""},{"$f":"IFERROR(VLOOKUP(A907,'1.Портфель кредитів'!A:Z,14,FALSE),\"\")","v":""}]
[null,{"$f":"IFERROR(VLOOKUP(A908,'1.Портфель кредитів'!A:Z,3,FALSE),\"\")","v":""},{"$f":"IFERROR(VLOOKUP(A908,'1.Портфель кредитів'!A:Z,7,FALSE),\"\")","v":""},{"$f":"IFERROR(VLOOKUP(A908,'1.Портфель кредитів'!A:Z,14,FALSE),\"\")","v":""}]
[null,{"$f":"IFERROR(VLOOKUP(A909,'1.Портфель кредитів'!A:Z,3,FALSE),\"\")","v":""},{"$f":"IFERROR(VLOOKUP(A909,'1.Портфель кредитів'!A:Z,7,FALSE),\"\")","v":""},{"$f":"IFERROR(VLOOKUP(A909,'1.Портфель кредитів'!A:Z,14,FALSE),\"\")","v":""}]
[null,{"$f":"IFERROR(VLOOKUP(A910,'1.Портфель кредитів'!A:Z,3,FALSE),\"\")","v":""},{"$f":"IFERROR(VLOOKUP(A910,'1.Портфель кредитів'!A:Z,7,FALSE),\"\")","v":""},{"$f":"IFERROR(VLOOKUP(A910,'1.Портфель кредитів'!A:Z,14,FALSE),\"\")","v":""}]
[null,{"$f":"IFERROR(VLOOKUP(A911,'1.Портфель кредитів'!A:Z,3,FALSE),\"\")","v":""},{"$f":"IFERROR(VLOOKUP(A911,'1.Портфель кредитів'!A:Z,7,FALSE),\"\")","v":""},{"$f":"IFERROR(VLOOKUP(A911,'1.Портфель кредитів'!A:Z,14,FALSE),\"\")","v":""}]
[null,{"$f":"IFERROR(VLOOKUP(A912,'1.Портфель кредитів'!A:Z,3,FALSE),\"\")","v":""},{"$f":"IFERROR(VLOOKUP(A912,'1.Портфель кредитів'!A:Z,7,FALSE),\"\")","v":""},{"$f":"IFERROR(VLOOKUP(A912,'1.Портфель кредитів'!A:Z,14,FALSE),\"\")","v":""}]
[null,{"$f":"IFERROR(VLOOKUP(A913,'1.Портфель кредитів'!A:Z,3,FALSE),\"\")","v":""},{"$f":"IFERROR(VLOOKUP(A913,'1.Портфель кредитів'!A:Z,7,FALSE),\"\")","v":""},{"$f":"IFERROR(VLOOKUP(A913,'1.Портфель кредитів'!A:Z,14,FALSE),\"\")","v":""}]
[null,{"$f":"IFERROR(VLOOKUP(A914,'1.Портфель кредитів'!A:Z,3,FALSE),\"\")","v":""},{"$f":"IFERROR(VLOOKUP(A914,'1.Портфель кредитів'!A:Z,7,FALSE),\"\")","v":""},{"$f":"IFERROR(VLOOKUP(A914,'1.Портфель кредитів'!A:Z,14,FALSE),\"\")","v":""}]
[null,{"$f":"IFERROR(VLOOKUP(A915,'1.Портфель кредитів'!A:Z,3,FALSE),\"\")","v":""},{"$f":"IFERROR(VLOOKUP(A915,'1.Портфель кредитів'!A:Z,7,FALSE),\"\")","v":""},{"$f":"IFERROR(VLOOKUP(A915,'1.Портфель кредитів'!A:Z,14,FALSE),\"\")","v":""}]
[null,{"$f":"IFERROR(VLOOKUP(A916,'1.Портфель кредитів'!A:Z,3,FALSE),\"\")","v":""},{"$f":"IFERROR(VLOOKUP(A916,'1.Портфель кредитів'!A:Z,7,FALSE),\"\")","v":""},{"$f":"IFERROR(VLOOKUP(A916,'1.Портфель кредитів'!A:Z,14,FALSE),\"\")","v":""}]
[null,{"$f":"IFERROR(VLOOKUP(A917,'1.Портфель кредитів'!A:Z,3,FALSE),\"\")","v":""},{"$f":"IFERROR(VLOOKUP(A917,'1.Портфель кредитів'!A:Z,7,FALSE),\"\")","v":""},{"$f":"IFERROR(VLOOKUP(A917,'1.Портфель кредитів'!A:Z,14,FALSE),\"\")","v":""}]
[null,{"$f":"IFERROR(VLOOKUP(A918,'1.Портфель кредитів'!A:Z,3,FALSE),\"\")","v":""},{"$f":"IFERROR(VLOOKUP(A918,'1.Портфель кредитів'!A:Z,7,FALSE),\"\")","v":""},{"$f":"IFERROR(VLOOKUP(A918,'1.Портфель кредитів'!A:Z,14,FALSE),\"\")","v":""}]
[null,{"$f":"IFERROR(VLOOKUP(A919,'1.Портфель кредитів'!A:Z,3,FALSE),\"\")","v":""},{"$f":"IFERROR(VLOOKUP(A919,'1.Портфель кредитів'!A:Z,7,FALSE),\"\")","v":""},{"$f":"IFERROR(VLOOKUP(A919,'1.Портфель кредитів'!A:Z,14,FALSE),\"\")","v":""}]
[null,{"$f":"IFERROR(VLOOKUP(A920,'1.Портфель кредитів'!A:Z,3,FALSE),\"\")","v":""},{"$f":"IFERROR(VLOOKUP(A920,'1.Портфель кредитів'!A:Z,7,FALSE),\"\")","v":""},{"$f":"IFERROR(VLOOKUP(A920,'1.Портфель кредитів'!A:Z,14,FALSE),\"\")","v":""}]
[null,{"$f":"IFERROR(VLOOKUP(A921,'1.Портфель кредитів'!A:Z,3,FALSE),\"\")","v":""},{"$f":"IFERROR(VLOOKUP(A921,'1.Портфель кредитів'!A:Z,7,FALSE),\"\")","v":""},{"$f":"IFERROR(VLOOKUP(A921,'1.Портфель кредитів'!A:Z,14,FALSE),\"\")","v":""}]
[null,{"$f":"IFERROR(VLOOKUP(A922,'1.Портфель кредитів'!A:Z,3,FALSE),\"\")","v":""},{"$f":"IFERROR(VLOOKUP(A922,'1.Портфель кредитів'!A:Z,7,FALSE),\"\")","v":""},{"$f":"IFERROR(VLOOKUP(A922,'1.Портфель кредитів'!A:Z,14,FALSE),\"\")","v":""}]
[null,{"$f":"IFERROR(VLOOKUP(A923,'1.Портфель кредитів'!A:Z,3,FALSE),\"\")","v":""},{"$f":"IFERROR(VLOOKUP(A923,'1.Портфель кредитів'!A:Z,7,FALSE),\"\")","v":""},{"$f":"IFERROR(VLOOKUP(A923,'1.Портфель кредитів'!A:Z,14,FALSE),\"\")","v":""}]
[null,{"$f":"IFERROR(VLOOKUP(A924,'1.Портфель кредитів'!A:Z,3,FALSE),\"\")","v":""},{"$f":"IFERROR(VLOOKUP(A924,'1.Портфель кредитів'!A:Z,7,FALSE),\"\")","v":""},{"$f":"IFERROR(VLOOKUP(A924,'1.Портфель кредитів'!A:Z,14,FALSE),\"\")","v":""}]
[null,{"$f":"IFERROR(VLOOKUP(A925,'1.Портфель кредитів'!A:Z,3,FALSE),\"\")","v":""},{"$f":"IFERROR(VLOOKUP(A925,'1.Портфель кредитів'!A:Z,7,FALSE),\"\")","v":""},{"$f":"IFERROR(VLOOKUP(A925,'1.Портфель кредитів'!A:Z,14,FALSE),\"\")","v":""}]
[null,{"$f":"IFERROR(VLOOKUP(A926,'1.Портфель кредитів'!A:Z,3,FALSE),\"\")","v":""},{"$f":"IFERROR(VLOOKUP(A926,'1.Портфель кредитів'!A:Z,7,FALSE),\"\")","v":""},{"$f":"IFERROR(VLOOKUP(A926,'1.Портфель кредитів'!A:Z,14,FALSE),\"\")","v":""}]
[null,{"$f":"IFERROR(VLOOKUP(A927,'1.Портфель кредитів'!A:Z,3,FALSE),\"\")","v":""},{"$f":"IFERROR(VLOOKUP(A927,'1.Портфель кредитів'!A:Z,7,FALSE),\"\")","v":""},{"$f":"IFERROR(VLOOKUP(A927,'1.Портфель кредитів'!A:Z,14,FALSE),\"\")","v":""}]
[null,{"$f":"IFERROR(VLOOKUP(A928,'1.Портфель кредитів'!A:Z,3,FALSE),\"\")","v":""},{"$f":"IFERROR(VLOOKUP(A928,'1.Портфель кредитів'!A:Z,7,FALSE),\"\")","v":""},{"$f":"IFERROR(VLOOKUP(A928,'1.Портфель кредитів'!A:Z,14,FALSE),\"\")","v":""}]
[null,{"$f":"IFERROR(VLOOKUP(A929,'1.Портфель кредитів'!A:Z,3,FALSE),\"\")","v":""},{"$f":"IFERROR(VLOOKUP(A929,'1.Портфель кредитів'!A:Z,7,FALSE),\"\")","v":""},{"$f":"IFERROR(VLOOKUP(A929,'1.Портфель кредитів'!A:Z,14,FALSE),\"\")","v":""}]
[null,{"$f":"IFERROR(VLOOKUP(A930,'1.Портфель кредитів'!A:Z,3,FALSE),\"\")","v":""},{"$f":"IFERROR(VLOOKUP(A930,'1.Портфель кредитів'!A:Z,7,FALSE),\"\")","v":""},{"$f":"IFERROR(VLOOKUP(A930,'1.Портфель кредитів'!A:Z,14,FALSE),\"\")","v":""}]
[null,{"$f":"IFERROR(VLOOKUP(A931,'1.Портфель кредитів'!A:Z,3,FALSE),\"\")","v":""},{"$f":"IFERROR(VLOOKUP(A931,'1.Портфель кредитів'!A:Z,7,FALSE),\"\")","v":""},{"$f":"IFERROR(VLOOKUP(A931,'1.Портфель кредитів'!A:Z,14,FALSE),\"\")","v":""}]
[null,{"$f":"IFERROR(VLOOKUP(A932,'1.Портфель кредитів'!A:Z,3,FALSE),\"\")","v":""},{"$f":"IFERROR(VLOOKUP(A932,'1.Портфель кредитів'!A:Z,7,FALSE),\"\")","v":""},{"$f":"IFERROR(VLOOKUP(A932,'1.Портфель кредитів'!A:Z,14,FALSE),\"\")","v":""}]
[null,{"$f":"IFERROR(VLOOKUP(A933,'1.Портфель кредитів'!A:Z,3,FALSE),\"\")","v":""},{"$f":"IFERROR(VLOOKUP(A933,'1.Портфель кредитів'!A:Z,7,FALSE),\"\")","v":""},{"$f":"IFERROR(VLOOKUP(A933,'1.Портфель кредитів'!A:Z,14,FALSE),\"\")","v":""}]
[null,{"$f":"IFERROR(VLOOKUP(A934,'1.Портфель кредитів'!A:Z,3,FALSE),\"\")","v":""},{"$f":"IFERROR(VLOOKUP(A934,'1.Портфель кредитів'!A:Z,7,FALSE),\"\")","v":""},{"$f":"IFERROR(VLOOKUP(A934,'1.Портфель кредитів'!A:Z,14,FALSE),\"\")","v":""}]
[null,{"$f":"IFERROR(VLOOKUP(A935,'1.Портфель кредитів'!A:Z,3,FALSE),\"\")","v":""},{"$f":"IFERROR(VLOOKUP(A935,'1.Портфель кредитів'!A:Z,7,FALSE),\"\")","v":""},{"$f":"IFERROR(VLOOKUP(A935,'1.Портфель кредитів'!A:Z,14,FALSE),\"\")","v":""}]
[null,{"$f":"IFERROR(VLOOKUP(A936,'1.Портфель кредитів'!A:Z,3,FALSE),\"\")","v":""},{"$f":"IFERROR(VLOOKUP(A936,'1.Портфель кредитів'!A:Z,7,FALSE),\"\")","v":""},{"$f":"IFERROR(VLOOKUP(A936,'1.Портфель кредитів'!A:Z,14,FALSE),\"\")","v":""}]
[null,{"$f":"IFERROR(VLOOKUP(A937,'1.Портфель кредитів'!A:Z,3,FALSE),\"\")","v":""},{"$f":"IFERROR(VLOOKUP(A937,'1.Портфель кредитів'!A:Z,7,FALSE),\"\")","v":""},{"$f":"IFERROR(VLOOKUP(A937,'1.Портфель кредитів'!A:Z,14,FALSE),\"\")","v":""}]
[null,{"$f":"IFERROR(VLOOKUP(A938,'1.Портфель кредитів'!A:Z,3,FALSE),\"\")","v":""},{"$f":"IFERROR(VLOOKUP(A938,'1.Портфель кредитів'!A:Z,7,FALSE),\"\")","v":""},{"$f":"IFERROR(VLOOKUP(A938,'1.Портфель кредитів'!A:Z,14,FALSE),\"\")","v":""}]
[null,{"$f":"IFERROR(VLOOKUP(A939,'1.Портфель кредитів'!A:Z,3,FALSE),\"\")","v":""},{"$f":"IFERROR(VLOOKUP(A939,'1.Портфель кредитів'!A:Z,7,FALSE),\"\")","v":""},{"$f":"IFERROR(VLOOKUP(A939,'1.Портфель кредитів'!A:Z,14,FALSE),\"\")","v":""}]
[null,{"$f":"IFERROR(VLOOKUP(A940,'1.Портфель кредитів'!A:Z,3,FALSE),\"\")","v":""},{"$f":"IFERROR(VLOOKUP(A940,'1.Портфель кредитів'!A:Z,7,FALSE),\"\")","v":""},{"$f":"IFERROR(VLOOKUP(A940,'1.Портфель кредитів'!A:Z,14,FALSE),\"\")","v":""}]
[null,{"$f":"IFERROR(VLOOKUP(A941,'1.Портфель кредитів'!A:Z,3,FALSE),\"\")","v":""},{"$f":"IFERROR(VLOOKUP(A941,'1.Портфель кредитів'!A:Z,7,FALSE),\"\")","v":""},{"$f":"IFERROR(VLOOKUP(A941,'1.Портфель кредитів'!A:Z,14,FALSE),\"\")","v":""}]
[null,{"$f":"IFERROR(VLOOKUP(A942,'1.Портфель кредитів'!A:Z,3,FALSE),\"\")","v":""},{"$f":"IFERROR(VLOOKUP(A942,'1.Портфель кредитів'!A:Z,7,FALSE),\"\")","v":""},{"$f":"IFERROR(VLOOKUP(A942,'1.Портфель кредитів'!A:Z,14,FALSE),\"\")","v":""}]
[null,{"$f":"IFERROR(VLOOKUP(A943,'1.Портфель кредитів'!A:Z,3,FALSE),\"\")","v":""},{"$f":"IFERROR(VLOOKUP(A943,'1.Портфель кредитів'!A:Z,7,FALSE),\"\")","v":""},{"$f":"IFERROR(VLOOKUP(A943,'1.Портфель кредитів'!A:Z,14,FALSE),\"\")","v":""}]
[null,{"$f":"IFERROR(VLOOKUP(A944,'1.Портфель кредитів'!A:Z,3,FALSE),\"\")","v":""},{"$f":"IFERROR(VLOOKUP(A944,'1.Портфель кредитів'!A:Z,7,FALSE),\"\")","v":""},{"$f":"IFERROR(VLOOKUP(A944,'1.Портфель кредитів'!A:Z,14,FALSE),\"\")","v":""}]
[null,{"$f":"IFERROR(VLOOKUP(A945,'1.Портфель кредитів'!A:Z,3,FALSE),\"\")","v":""},{"$f":"IFERROR(VLOOKUP(A945,'1.Портфель кредитів'!A:Z,7,FALSE),\"\")","v":""},{"$f":"IFERROR(VLOOKUP(A945,'1.Портфель кредитів'!A:Z,14,FALSE),\"\")","v":""}]
[null,{"$f":"IFERROR(VLOOKUP(A946,'1.Портфель кредитів'!A:Z,3,FALSE),\"\")","v":""},{"$f":"IFERROR(VLOOKUP(A946,'1.Портфель кредитів'!A:Z,7,FALSE),\"\")","v":""},{"$f":"IFERROR(VLOOKUP(A946,'1.Портфель кредитів'!A:Z,14,FALSE),\"\")","v":""}]
[null,{"$f":"IFERROR(VLOOKUP(A947,'1.Портфель кредитів'!A:Z,3,FALSE),\"\")","v":""},{"$f":"IFERROR(VLOOKUP(A947,'1.Портфель кредитів'!A:Z,7,FALSE),\"\")","v":""},{"$f":"IFERROR(VLOOKUP(A947,'1.Портфель кредитів'!A:Z,14,FALSE),\"\")","v":""}]
[null,{"$f":"IFERROR(VLOOKUP(A948,'1.Портфель кредитів'!A:Z,3,FALSE),\"\")","v":""},{"$f":"IFERROR(VLOOKUP(A948,'1.Портфель кредитів'!A:Z,7,FALSE),\"\")","v":""},{"$f":"IFERROR(VLOOKUP(A948,'1.Портфель кредитів'!A:Z,14,FALSE),\"\")","v":""}]
[null,{"$f":"IFERROR(VLOOKUP(A949,'1.Портфель кредитів'!A:Z,3,FALSE),\"\")","v":""},{"$f":"IFERROR(VLOOKUP(A949,'1.Портфель кредитів'!A:Z,7,FALSE),\"\")","v":""},{"$f":"IFERROR(VLOOKUP(A949,'1.Портфель кредитів'!A:Z,14,FALSE),\"\")","v":""}]
[null,{"$f":"IFERROR(VLOOKUP(A950,'1.Портфель кредитів'!A:Z,3,FALSE),\"\")","v":""},{"$f":"IFERROR(VLOOKUP(A950,'1.Портфель кредитів'!A:Z,7,FALSE),\"\")","v":""},{"$f":"IFERROR(VLOOKUP(A950,'1.Портфель кредитів'!A:Z,14,FALSE),\"\")","v":""}]
[null,{"$f":"IFERROR(VLOOKUP(A951,'1.Портфель кредитів'!A:Z,3,FALSE),\"\")","v":""},{"$f":"IFERROR(VLOOKUP(A951,'1.Портфель кредитів'!A:Z,7,FALSE),\"\")","v":""},{"$f":"IFERROR(VLOOKUP(A951,'1.Портфель кредитів'!A:Z,14,FALSE),\"\")","v":""}]
[null,{"$f":"IFERROR(VLOOKUP(A952,'1.Портфель кредитів'!A:Z,3,FALSE),\"\")","v":""},{"$f":"IFERROR(VLOOKUP(A952,'1.Портфель кредитів'!A:Z,7,FALSE),\"\")","v":""},{"$f":"IFERROR(VLOOKUP(A952,'1.Портфель кредитів'!A:Z,14,FALSE),\"\")","v":""}]
[null,{"$f":"IFERROR(VLOOKUP(A953,'1.Портфель кредитів'!A:Z,3,FALSE),\"\")","v":""},{"$f":"IFERROR(VLOOKUP(A953,'1.Портфель кредитів'!A:Z,7,FALSE),\"\")","v":""},{"$f":"IFERROR(VLOOKUP(A953,'1.Портфель кредитів'!A:Z,14,FALSE),\"\")","v":""}]
[null,{"$f":"IFERROR(VLOOKUP(A954,'1.Портфель кредитів'!A:Z,3,FALSE),\"\")","v":""},{"$f":"IFERROR(VLOOKUP(A954,'1.Портфель кредитів'!A:Z,7,FALSE),\"\")","v":""},{"$f":"IFERROR(VLOOKUP(A954,'1.Портфель кредитів'!A:Z,14,FALSE),\"\")","v":""}]
[null,{"$f":"IFERROR(VLOOKUP(A955,'1.Портфель кредитів'!A:Z,3,FALSE),\"\")","v":""},{"$f":"IFERROR(VLOOKUP(A955,'1.Портфель кредитів'!A:Z,7,FALSE),\"\")","v":""},{"$f":"IFERROR(VLOOKUP(A955,'1.Портфель кредитів'!A:Z,14,FALSE),\"\")","v":""}]
[null,{"$f":"IFERROR(VLOOKUP(A956,'1.Портфель кредитів'!A:Z,3,FALSE),\"\")","v":""},{"$f":"IFERROR(VLOOKUP(A956,'1.Портфель кредитів'!A:Z,7,FALSE),\"\")","v":""},{"$f":"IFERROR(VLOOKUP(A956,'1.Портфель кредитів'!A:Z,14,FALSE),\"\")","v":""}]
[null,{"$f":"IFERROR(VLOOKUP(A957,'1.Портфель кредитів'!A:Z,3,FALSE),\"\")","v":""},{"$f":"IFERROR(VLOOKUP(A957,'1.Портфель кредитів'!A:Z,7,FALSE),\"\")","v":""},{"$f":"IFERROR(VLOOKUP(A957,'1.Портфель кредитів'!A:Z,14,FALSE),\"\")","v":""}]
[null,{"$f":"IFERROR(VLOOKUP(A958,'1.Портфель кредитів'!A:Z,3,FALSE),\"\")","v":""},{"$f":"IFERROR(VLOOKUP(A958,'1.Портфель кредитів'!A:Z,7,FALSE),\"\")","v":""},{"$f":"IFERROR(VLOOKUP(A958,'1.Портфель кредитів'!A:Z,14,FALSE),\"\")","v":""}]
[null,{"$f":"IFERROR(VLOOKUP(A959,'1.Портфель кредитів'!A:Z,3,FALSE),\"\")","v":""},{"$f":"IFERROR(VLOOKUP(A959,'1.Портфель кредитів'!A:Z,7,FALSE),\"\")","v":""},{"$f":"IFERROR(VLOOKUP(A959,'1.Портфель кредитів'!A:Z,14,FALSE),\"\")","v":""}]
[null,{"$f":"IFERROR(VLOOKUP(A960,'1.Портфель кредитів'!A:Z,3,FALSE),\"\")","v":""},{"$f":"IFERROR(VLOOKUP(A960,'1.Портфель кредитів'!A:Z,7,FALSE),\"\")","v":""},{"$f":"IFERROR(VLOOKUP(A960,'1.Портфель кредитів'!A:Z,14,FALSE),\"\")","v":""}]
[null,{"$f":"IFERROR(VLOOKUP(A961,'1.Портфель кредитів'!A:Z,3,FALSE),\"\")","v":""},{"$f":"IFERROR(VLOOKUP(A961,'1.Портфель кредитів'!A:Z,7,FALSE),\"\")","v":""},{"$f":"IFERROR(VLOOKUP(A961,'1.Портфель кредитів'!A:Z,14,FALSE),\"\")","v":""}]
[null,{"$f":"IFERROR(VLOOKUP(A962,'1.Портфель кредитів'!A:Z,3,FALSE),\"\")","v":""},{"$f":"IFERROR(VLOOKUP(A962,'1.Портфель кредитів'!A:Z,7,FALSE),\"\")","v":""},{"$f":"IFERROR(VLOOKUP(A962,'1.Портфель кредитів'!A:Z,14,FALSE),\"\")","v":""}]
[null,{"$f":"IFERROR(VLOOKUP(A963,'1.Портфель кредитів'!A:Z,3,FALSE),\"\")","v":""},{"$f":"IFERROR(VLOOKUP(A963,'1.Портфель кредитів'!A:Z,7,FALSE),\"\")","v":""},{"$f":"IFERROR(VLOOKUP(A963,'1.Портфель кредитів'!A:Z,14,FALSE),\"\")","v":""}]
[null,{"$f":"IFERROR(VLOOKUP(A964,'1.Портфель кредитів'!A:Z,3,FALSE),\"\")","v":""},{"$f":"IFERROR(VLOOKUP(A964,'1.Портфель кредитів'!A:Z,7,FALSE),\"\")","v":""},{"$f":"IFERROR(VLOOKUP(A964,'1.Портфель кредитів'!A:Z,14,FALSE),\"\")","v":""}]
[null,{"$f":"IFERROR(VLOOKUP(A965,'1.Портфель кредитів'!A:Z,3,FALSE),\"\")","v":""},{"$f":"IFERROR(VLOOKUP(A965,'1.Портфель кредитів'!A:Z,7,FALSE),\"\")","v":""},{"$f":"IFERROR(VLOOKUP(A965,'1.Портфель кредитів'!A:Z,14,FALSE),\"\")","v":""}]
[null,{"$f":"IFERROR(VLOOKUP(A966,'1.Портфель кредитів'!A:Z,3,FALSE),\"\")","v":""},{"$f":"IFERROR(VLOOKUP(A966,'1.Портфель кредитів'!A:Z,7,FALSE),\"\")","v":""},{"$f":"IFERROR(VLOOKUP(A966,'1.Портфель кредитів'!A:Z,14,FALSE),\"\")","v":""}]
[null,{"$f":"IFERROR(VLOOKUP(A967,'1.Портфель кредитів'!A:Z,3,FALSE),\"\")","v":""},{"$f":"IFERROR(VLOOKUP(A967,'1.Портфель кредитів'!A:Z,7,FALSE),\"\")","v":""},{"$f":"IFERROR(VLOOKUP(A967,'1.Портфель кредитів'!A:Z,14,FALSE),\"\")","v":""}]
[null,{"$f":"IFERROR(VLOOKUP(A968,'1.Портфель кредитів'!A:Z,3,FALSE),\"\")","v":""},{"$f":"IFERROR(VLOOKUP(A968,'1.Портфель кредитів'!A:Z,7,FALSE),\"\")","v":""},{"$f":"IFERROR(VLOOKUP(A968,'1.Портфель кредитів'!A:Z,14,FALSE),\"\")","v":""}]
[null,{"$f":"IFERROR(VLOOKUP(A969,'1.Портфель кредитів'!A:Z,3,FALSE),\"\")","v":""},{"$f":"IFERROR(VLOOKUP(A969,'1.Портфель кредитів'!A:Z,7,FALSE),\"\")","v":""},{"$f":"IFERROR(VLOOKUP(A969,'1.Портфель кредитів'!A:Z,14,FALSE),\"\")","v":""}]
[null,{"$f":"IFERROR(VLOOKUP(A970,'1.Портфель кредитів'!A:Z,3,FALSE),\"\")","v":""},{"$f":"IFERROR(VLOOKUP(A970,'1.Портфель кредитів'!A:Z,7,FALSE),\"\")","v":""},{"$f":"IFERROR(VLOOKUP(A970,'1.Портфель кредитів'!A:Z,14,FALSE),\"\")","v":""}]
[null,{"$f":"IFERROR(VLOOKUP(A971,'1.Портфель кредитів'!A:Z,3,FALSE),\"\")","v":""},{"$f":"IFERROR(VLOOKUP(A971,'1.Портфель кредитів'!A:Z,7,FALSE),\"\")","v":""},{"$f":"IFERROR(VLOOKUP(A971,'1.Портфель кредитів'!A:Z,14,FALSE),\"\")","v":""}]
[null,{"$f":"IFERROR(VLOOKUP(A972,'1.Портфель кредитів'!A:Z,3,FALSE),\"\")","v":""},{"$f":"IFERROR(VLOOKUP(A972,'1.Портфель кредитів'!A:Z,7,FALSE),\"\")","v":""},{"$f":"IFERROR(VLOOKUP(A972,'1.Портфель кредитів'!A:Z,14,FALSE),\"\")","v":""}]
[null,{"$f":"IFERROR(VLOOKUP(A973,'1.Портфель кредитів'!A:Z,3,FALSE),\"\")","v":""},{"$f":"IFERROR(VLOOKUP(A973,'1.Портфель кредитів'!A:Z,7,FALSE),\"\")","v":""},{"$f":"IFERROR(VLOOKUP(A973,'1.Портфель кредитів'!A:Z,14,FALSE),\"\")","v":""}]
[null,{"$f":"IFERROR(VLOOKUP(A974,'1.Портфель кредитів'!A:Z,3,FALSE),\"\")","v":""},{"$f":"IFERROR(VLOOKUP(A974,'1.Портфель кредитів'!A:Z,7,FALSE),\"\")","v":""},{"$f":"IFERROR(VLOOKUP(A974,'1.Портфель кредитів'!A:Z,14,FALSE),\"\")","v":""}]
[null,{"$f":"IFERROR(VLOOKUP(A975,'1.Портфель кредитів'!A:Z,3,FALSE),\"\")","v":""},{"$f":"IFERROR(VLOOKUP(A975,'1.Портфель кредитів'!A:Z,7,FALSE),\"\")","v":""},{"$f":"IFERROR(VLOOKUP(A975,'1.Портфель кредитів'!A:Z,14,FALSE),\"\")","v":""}]
[null,{"$f":"IFERROR(VLOOKUP(A976,'1.Портфель кредитів'!A:Z,3,FALSE),\"\")","v":""},{"$f":"IFERROR(VLOOKUP(A976,'1.Портфель кредитів'!A:Z,7,FALSE),\"\")","v":""},{"$f":"IFERROR(VLOOKUP(A976,'1.Портфель кредитів'!A:Z,14,FALSE),\"\")","v":""}]
[null,{"$f":"IFERROR(VLOOKUP(A977,'1.Портфель кредитів'!A:Z,3,FALSE),\"\")","v":""},{"$f":"IFERROR(VLOOKUP(A977,'1.Портфель кредитів'!A:Z,7,FALSE),\"\")","v":""},{"$f":"IFERROR(VLOOKUP(A977,'1.Портфель кредитів'!A:Z,14,FALSE),\"\")","v":""}]
[null,{"$f":"IFERROR(VLOOKUP(A978,'1.Портфель кредитів'!A:Z,3,FALSE),\"\")","v":""},{"$f":"IFERROR(VLOOKUP(A978,'1.Портфель кредитів'!A:Z,7,FALSE),\"\")","v":""},{"$f":"IFERROR(VLOOKUP(A978,'1.Портфель кредитів'!A:Z,14,FALSE),\"\")","v":""}]
[null,{"$f":"IFERROR(VLOOKUP(A979,'1.Портфель кредитів'!A:Z,3,FALSE),\"\")","v":""},{"$f":"IFERROR(VLOOKUP(A979,'1.Портфель кредитів'!A:Z,7,FALSE),\"\")","v":""},{"$f":"IFERROR(VLOOKUP(A979,'1.Портфель кредитів'!A:Z,14,FALSE),\"\")","v":""}]
[null,{"$f":"IFERROR(VLOOKUP(A980,'1.Портфель кредитів'!A:Z,3,FALSE),\"\")","v":""},{"$f":"IFERROR(VLOOKUP(A980,'1.Портфель кредитів'!A:Z,7,FALSE),\"\")","v":""},{"$f":"IFERROR(VLOOKUP(A980,'1.Портфель кредитів'!A:Z,14,FALSE),\"\")","v":""}]
[null,{"$f":"IFERROR(VLOOKUP(A981,'1.Портфель кредитів'!A:Z,3,FALSE),\"\")","v":""},{"$f":"IFERROR(VLOOKUP(A981,'1.Портфель кредитів'!A:Z,7,FALSE),\"\")","v":""},{"$f":"IFERROR(VLOOKUP(A981,'1.Портфель кредитів'!A:Z,14,FALSE),\"\")","v":""}]
[null,{"$f":"IFERROR(VLOOKUP(A982,'1.Портфель кредитів'!A:Z,3,FALSE),\"\")","v":""},{"$f":"IFERROR(VLOOKUP(A982,'1.Портфель кредитів'!A:Z,7,FALSE),\"\")","v":""},{"$f":"IFERROR(VLOOKUP(A982,'1.Портфель кредитів'!A:Z,14,FALSE),\"\")","v":""}]
[null,{"$f":"IFERROR(VLOOKUP(A983,'1.Портфель кредитів'!A:Z,3,FALSE),\"\")","v":""},{"$f":"IFERROR(VLOOKUP(A983,'1.Портфель кредитів'!A:Z,7,FALSE),\"\")","v":""},{"$f":"IFERROR(VLOOKUP(A983,'1.Портфель кредитів'!A:Z,14,FALSE),\"\")","v":""}]
[null,{"$f":"IFERROR(VLOOKUP(A984,'1.Портфель кредитів'!A:Z,3,FALSE),\"\")","v":""},{"$f":"IFERROR(VLOOKUP(A984,'1.Портфель кредитів'!A:Z,7,FALSE),\"\")","v":""},{"$f":"IFERROR(VLOOKUP(A984,'1.Портфель кредитів'!A:Z,14,FALSE),\"\")","v":""}]
[null,{"$f":"IFERROR(VLOOKUP(A985,'1.Портфель кредитів'!A:Z,3,FALSE),\"\")","v":""},{"$f":"IFERROR(VLOOKUP(A985,'1.Портфель кредитів'!A:Z,7,FALSE),\"\")","v":""},{"$f":"IFERROR(VLOOKUP(A985,'1.Портфель кредитів'!A:Z,14,FALSE),\"\")","v":""}]
[null,{"$f":"IFERROR(VLOOKUP(A986,'1.Портфель кредитів'!A:Z,3,FALSE),\"\")","v":""},{"$f":"IFERROR(VLOOKUP(A986,'1.Портфель кредитів'!A:Z,7,FALSE),\"\")","v":""},{"$f":"IFERROR(VLOOKUP(A986,'1.Портфель кредитів'!A:Z,14,FALSE),\"\")","v":""}]
[null,{"$f":"IFERROR(VLOOKUP(A987,'1.Портфель кредитів'!A:Z,3,FALSE),\"\")","v":""},{"$f":"IFERROR(VLOOKUP(A987,'1.Портфель кредитів'!A:Z,7,FALSE),\"\")","v":""},{"$f":"IFERROR(VLOOKUP(A987,'1.Портфель кредитів'!A:Z,14,FALSE),\"\")","v":""}]
[null,{"$f":"IFERROR(VLOOKUP(A988,'1.Портфель кредитів'!A:Z,3,FALSE),\"\")","v":""},{"$f":"IFERROR(VLOOKUP(A988,'1.Портфель кредитів'!A:Z,7,FALSE),\"\")","v":""},{"$f":"IFERROR(VLOOKUP(A988,'1.Портфель кредитів'!A:Z,14,FALSE),\"\")","v":""}]
[null,{"$f":"IFERROR(VLOOKUP(A989,'1.Портфель кредитів'!A:Z,3,FALSE),\"\")","v":""},{"$f":"IFERROR(VLOOKUP(A989,'1.Портфель кредитів'!A:Z,7,FALSE),\"\")","v":""},{"$f":"IFERROR(VLOOKUP(A989,'1.Портфель кредитів'!A:Z,14,FALSE),\"\")","v":""}]
[null,{"$f":"IFERROR(VLOOKUP(A990,'1.Портфель кредитів'!A:Z,3,FALSE),\"\")","v":""},{"$f":"IFERROR(VLOOKUP(A990,'1.Портфель кредитів'!A:Z,7,FALSE),\"\")","v":""},{"$f":"IFERROR(VLOOKUP(A990,'1.Портфель кредитів'!A:Z,14,FALSE),\"\")","v":""}]
[null,{"$f":"IFERROR(VLOOKUP(A991,'1.Портфель кредитів'!A:Z,3,FALSE),\"\")","v":""},{"$f":"IFERROR(VLOOKUP(A991,'1.Портфель кредитів'!A:Z,7,FALSE),\"\")","v":""},{"$f":"IFERROR(VLOOKUP(A991,'1.Портфель кредитів'!A:Z,14,FALSE),\"\")","v":""}]
[null,{"$f":"IFERROR(VLOOKUP(A992,'1.Портфель кредитів'!A:Z,3,FALSE),\"\")","v":""},{"$f":"IFERROR(VLOOKUP(A992,'1.Портфель кредитів'!A:Z,7,FALSE),\"\")","v":""},{"$f":"IFERROR(VLOOKUP(A992,'1.Портфель кредитів'!A:Z,14,FALSE),\"\")","v":""}]
[null,{"$f":"IFERROR(VLOOKUP(A993,'1.Портфель кредитів'!A:Z,3,FALSE),\"\")","v":""},{"$f":"IFERROR(VLOOKUP(A993,'1.Портфель кредитів'!A:Z,7,FALSE),\"\")","v":""},{"$f":"IFERROR(VLOOKUP(A993,'1.Портфель кредитів'!A:Z,14,FALSE),\"\")","v":""}]
[null,{"$f":"IFERROR(VLOOKUP(A994,'1.Портфель кредитів'!A:Z,3,FALSE),\"\")","v":""},{"$f":"IFERROR(VLOOKUP(A994,'1.Портфель кредитів'!A:Z,7,FALSE),\"\")","v":""},{"$f":"IFERROR(VLOOKUP(A994,'1.Портфель кредитів'!A:Z,14,FALSE),\"\")","v":""}]
[null,{"$f":"IFERROR(VLOOKUP(A995,'1.Портфель кредитів'!A:Z,3,FALSE),\"\")","v":""},{"$f":"IFERROR(VLOOKUP(A995,'1.Портфель кредитів'!A:Z,7,FALSE),\"\")","v":""},{"$f":"IFERROR(VLOOKUP(A995,'1.Портфель кредитів'!A:Z,14,FALSE),\"\")","v":""}]
[null,{"$f":"IFERROR(VLOOKUP(A996,'1.Портфель кредитів'!A:Z,3,FALSE),\"\")","v":""},{"$f":"IFERROR(VLOOKUP(A996,'1.Портфель кредитів'!A:Z,7,FALSE),\"\")","v":""},{"$f":"IFERROR(VLOOKUP(A996,'1.Портфель кредитів'!A:Z,14,FALSE),\"\")","v":""}]
[null,{"$f":"IFERROR(VLOOKUP(A997,'1.Портфель кредитів'!A:Z,3,FALSE),\"\")","v":""},{"$f":"IFERROR(VLOOKUP(A997,'1.Портфель кредитів'!A:Z,7,FALSE),\"\")","v":""},{"$f":"IFERROR(VLOOKUP(A997,'1.Портфель кредитів'!A:Z,14,FALSE),\"\")","v":""}]
[null,{"$f":"IFERROR(VLOOKUP(A998,'1.Портфель кредитів'!A:Z,3,FALSE),\"\")","v":""},{"$f":"IFERROR(VLOOKUP(A998,'1.Портфель кредитів'!A:Z,7,FALSE),\"\")","v":""},{"$f":"IFERROR(VLOOKUP(A998,'1.Портфель кредитів'!A:Z,14,FALSE),\"\")","v":""}]
[null,{"$f":"IFERROR(VLOOKUP(A999,'1.Портфель кредитів'!A:Z,3,FALSE),\"\")","v":""},{"$f":"IFERROR(VLOOKUP(A999,'1.Портфель кредитів'!A:Z,7,FALSE),\"\")","v":""},{"$f":"IFERROR(VLOOKUP(A999,'1.Портфель кредитів'!A:Z,14,FALSE),\"\")","v":""}]
[null,{"$f":"IFERROR(VLOOKUP(A1000,'1.Портфель кредитів'!A:Z,3,FALSE),\"\")","v":""},{"$f":"IFERROR(VLOOKUP(A1000,'1.Портфель кредитів'!A:Z,7,FALSE),\"\")","v":""},{"$f":"IFERROR(VLOOKUP(A1000,'1.Портфель кредитів'!A:Z,14,FALSE),\"\")","v":""}]
[null,{"$f":"IFERROR(VLOOKUP(A1001,'1.Портфель кредитів'!A:Z,3,FALSE),\"\")","v":""},{"$f":"IFERROR(VLOOKUP(A1001,'1.Портфель кредитів'!A:Z,7,FALSE),\"\")","v":""},{"$f":"IFERROR(VLOOKUP(A1001,'1.Портфель кредитів'!A:Z,14,FALSE),\"\")","v":""}]
[null,{"$f":"IFERROR(VLOOKUP(A1002,'1.Портфель кредитів'!A:Z,3,FALSE),\"\")","v":""},{"$f":"IFERROR(VLOOKUP(A1002,'1.Портфель кредитів'!A:Z,7,FALSE),\"\")","v":""},{"$f":"IFERROR(VLOOKUP(A1002,'1.Портфель кредитів'!A:Z,14,FALSE),\"\")","v":""}]
[null,{"$f":"IFERROR(VLOOKUP(A1003,'1.Портфель кредитів'!A:Z,3,FALSE),\"\")","v":""},{"$f":"IFERROR(VLOOKUP(A1003,'1.Портфель кредитів'!A:Z,7,FALSE),\"\")","v":""},{"$f":"IFERROR(VLOOKUP(A1003,'1.Портфель кредитів'!A:Z,14,FALSE),\"\")","v":""}]
[null,{"$f":"IFERROR(VLOOKUP(A1004,'1.Портфель кредитів'!A:Z,3,FALSE),\"\")","v":""},{"$f":"IFERROR(VLOOKUP(A1004,'1.Портфель кредитів'!A:Z,7,FALSE),\"\")","v":""},{"$f":"IFERROR(VLOOKUP(A1004,'1.Портфель кредитів'!A:Z,14,FALSE),\"\")","v":""}]
[null,{"$f":"IFERROR(VLOOKUP(A1005,'1.Портфель кредитів'!A:Z,3,FALSE),\"\")","v":""},{"$f":"IFERROR(VLOOKUP(A1005,'1.Портфель кредитів'!A:Z,7,FALSE),\"\")","v":""},{"$f":"IFERROR(VLOOKUP(A1005,'1.Портфель кредитів'!A:Z,14,FALSE),\"\")","v":""}]
[null,{"$f":"IFERROR(VLOOKUP(A1006,'1.Портфель кредитів'!A:Z,3,FALSE),\"\")","v":""},{"$f":"IFERROR(VLOOKUP(A1006,'1.Портфель кредитів'!A:Z,7,FALSE),\"\")","v":""},{"$f":"IFERROR(VLOOKUP(A1006,'1.Портфель кредитів'!A:Z,14,FALSE),\"\")","v":""}]
[null,{"$f":"IFERROR(VLOOKUP(A1007,'1.Портфель кредитів'!A:Z,3,FALSE),\"\")","v":""},{"$f":"IFERROR(VLOOKUP(A1007,'1.Портфель кредитів'!A:Z,7,FALSE),\"\")","v":""},{"$f":"IFERROR(VLOOKUP(A1007,'1.Портфель кредитів'!A:Z,14,FALSE),\"\")","v":""}]
[null,{"$f":"IFERROR(VLOOKUP(A1008,'1.Портфель кредитів'!A:Z,3,FALSE),\"\")","v":""},{"$f":"IFERROR(VLOOKUP(A1008,'1.Портфель кредитів'!A:Z,7,FALSE),\"\")","v":""},{"$f":"IFERROR(VLOOKUP(A1008,'1.Портфель кредитів'!A:Z,14,FALSE),\"\")","v":""}]
[null,{"$f":"IFERROR(VLOOKUP(A1009,'1.Портфель кредитів'!A:Z,3,FALSE),\"\")","v":""},{"$f":"IFERROR(VLOOKUP(A1009,'1.Портфель кредитів'!A:Z,7,FALSE),\"\")","v":""},{"$f":"IFERROR(VLOOKUP(A1009,'1.Портфель кредитів'!A:Z,14,FALSE),\"\")","v":""}]
[null,{"$f":"IFERROR(VLOOKUP(A1010,'1.Портфель кредитів'!A:Z,3,FALSE),\"\")","v":""},{"$f":"IFERROR(VLOOKUP(A1010,'1.Портфель кредитів'!A:Z,7,FALSE),\"\")","v":""},{"$f":"IFERROR(VLOOKUP(A1010,'1.Портфель кредитів'!A:Z,14,FALSE),\"\")","v":""}]
[null,{"$f":"IFERROR(VLOOKUP(A1011,'1.Портфель кредитів'!A:Z,3,FALSE),\"\")","v":""},{"$f":"IFERROR(VLOOKUP(A1011,'1.Портфель кредитів'!A:Z,7,FALSE),\"\")","v":""},{"$f":"IFERROR(VLOOKUP(A1011,'1.Портфель кредитів'!A:Z,14,FALSE),\"\")","v":""}]
[null,{"$f":"IFERROR(VLOOKUP(A1012,'1.Портфель кредитів'!A:Z,3,FALSE),\"\")","v":""},{"$f":"IFERROR(VLOOKUP(A1012,'1.Портфель кредитів'!A:Z,7,FALSE),\"\")","v":""},{"$f":"IFERROR(VLOOKUP(A1012,'1.Портфель кредитів'!A:Z,14,FALSE),\"\")","v":""}]
[null,{"$f":"IFERROR(VLOOKUP(A1013,'1.Портфель кредитів'!A:Z,3,FALSE),\"\")","v":""},{"$f":"IFERROR(VLOOKUP(A1013,'1.Портфель кредитів'!A:Z,7,FALSE),\"\")","v":""},{"$f":"IFERROR(VLOOKUP(A1013,'1.Портфель кредитів'!A:Z,14,FALSE),\"\")","v":""}]
[null,{"$f":"IFERROR(VLOOKUP(A1014,'1.Портфель кредитів'!A:Z,3,FALSE),\"\")","v":""},{"$f":"IFERROR(VLOOKUP(A1014,'1.Портфель кредитів'!A:Z,7,FALSE),\"\")","v":""},{"$f":"IFERROR(VLOOKUP(A1014,'1.Портфель кредитів'!A:Z,14,FALSE),\"\")","v":""}]
[null,{"$f":"IFERROR(VLOOKUP(A1015,'1.Портфель кредитів'!A:Z,3,FALSE),\"\")","v":""},{"$f":"IFERROR(VLOOKUP(A1015,'1.Портфель кредитів'!A:Z,7,FALSE),\"\")","v":""},{"$f":"IFERROR(VLOOKUP(A1015,'1.Портфель кредитів'!A:Z,14,FALSE),\"\")","v":""}]
[null,{"$f":"IFERROR(VLOOKUP(A1016,'1.Портфель кредитів'!A:Z,3,FALSE),\"\")","v":""},{"$f":"IFERROR(VLOOKUP(A1016,'1.Портфель кредитів'!A:Z,7,FALSE),\"\")","v":""},{"$f":"IFERROR(VLOOKUP(A1016,'1.Портфель кредитів'!A:Z,14,FALSE),\"\")","v":""}]
[null,{"$f":"IFERROR(VLOOKUP(A1017,'1.Портфель кредитів'!A:Z,3,FALSE),\"\")","v":""},{"$f":"IFERROR(VLOOKUP(A1017,'1.Портфель кредитів'!A:Z,7,FALSE),\"\")","v":""},{"$f":"IFERROR(VLOOKUP(A1017,'1.Портфель кредитів'!A:Z,14,FALSE),\"\")","v":""}]
[null,{"$f":"IFERROR(VLOOKUP(A1018,'1.Портфель кредитів'!A:Z,3,FALSE),\"\")","v":""},{"$f":"IFERROR(VLOOKUP(A1018,'1.Портфель кредитів'!A:Z,7,FALSE),\"\")","v":""},{"$f":"IFERROR(VLOOKUP(A1018,'1.Портфель кредитів'!A:Z,14,FALSE),\"\")","v":""}]
[null,{"$f":"IFERROR(VLOOKUP(A1019,'1.Портфель кредитів'!A:Z,3,FALSE),\"\")","v":""},{"$f":"IFERROR(VLOOKUP(A1019,'1.Портфель кредитів'!A:Z,7,FALSE),\"\")","v":""},{"$f":"IFERROR(VLOOKUP(A1019,'1.Портфель кредитів'!A:Z,14,FALSE),\"\")","v":""}]
[null,{"$f":"IFERROR(VLOOKUP(A1020,'1.Портфель кредитів'!A:Z,3,FALSE),\"\")","v":""},{"$f":"IFERROR(VLOOKUP(A1020,'1.Портфель кредитів'!A:Z,7,FALSE),\"\")","v":""},{"$f":"IFERROR(VLOOKUP(A1020,'1.Портфель кредитів'!A:Z,14,FALSE),\"\")","v":""}]
[null,{"$f":"IFERROR(VLOOKUP(A1021,'1.Портфель кредитів'!A:Z,3,FALSE),\"\")","v":""},{"$f":"IFERROR(VLOOKUP(A1021,'1.Портфель кредитів'!A:Z,7,FALSE),\"\")","v":""},{"$f":"IFERROR(VLOOKUP(A1021,'1.Портфель кредитів'!A:Z,14,FALSE),\"\")","v":""}]
[null,{"$f":"IFERROR(VLOOKUP(A1022,'1.Портфель кредитів'!A:Z,3,FALSE),\"\")","v":""},{"$f":"IFERROR(VLOOKUP(A1022,'1.Портфель кредитів'!A:Z,7,FALSE),\"\")","v":""},{"$f":"IFERROR(VLOOKUP(A1022,'1.Портфель кредитів'!A:Z,14,FALSE),\"\")","v":""}]
[null,{"$f":"IFERROR(VLOOKUP(A1023,'1.Портфель кредитів'!A:Z,3,FALSE),\"\")","v":""},{"$f":"IFERROR(VLOOKUP(A1023,'1.Портфель кредитів'!A:Z,7,FALSE),\"\")","v":""},{"$f":"IFERROR(VLOOKUP(A1023,'1.Портфель кредитів'!A:Z,14,FALSE),\"\")","v":""}]
[null,{"$f":"IFERROR(VLOOKUP(A1024,'1.Портфель кредитів'!A:Z,3,FALSE),\"\")","v":""},{"$f":"IFERROR(VLOOKUP(A1024,'1.Портфель кредитів'!A:Z,7,FALSE),\"\")","v":""},{"$f":"IFERROR(VLOOKUP(A1024,'1.Портфель кредитів'!A:Z,14,FALSE),\"\")","v":""}]
[null,{"$f":"IFERROR(VLOOKUP(A1025,'1.Портфель кредитів'!A:Z,3,FALSE),\"\")","v":""},{"$f":"IFERROR(VLOOKUP(A1025,'1.Портфель кредитів'!A:Z,7,FALSE),\"\")","v":""},{"$f":"IFERROR(VLOOKUP(A1025,'1.Портфель кредитів'!A:Z,14,FALSE),\"\")","v":""}]
[null,{"$f":"IFERROR(VLOOKUP(A1026,'1.Портфель кредитів'!A:Z,3,FALSE),\"\")","v":""},{"$f":"IFERROR(VLOOKUP(A1026,'1.Портфель кредитів'!A:Z,7,FALSE),\"\")","v":""},{"$f":"IFERROR(VLOOKUP(A1026,'1.Портфель кредитів'!A:Z,14,FALSE),\"\")","v":""}]
[null,{"$f":"IFERROR(VLOOKUP(A1027,'1.Портфель кредитів'!A:Z,3,FALSE),\"\")","v":""},{"$f":"IFERROR(VLOOKUP(A1027,'1.Портфель кредитів'!A:Z,7,FALSE),\"\")","v":""},{"$f":"IFERROR(VLOOKUP(A1027,'1.Портфель кредитів'!A:Z,14,FALSE),\"\")","v":""}]
[null,{"$f":"IFERROR(VLOOKUP(A1028,'1.Портфель кредитів'!A:Z,3,FALSE),\"\")","v":""},{"$f":"IFERROR(VLOOKUP(A1028,'1.Портфель кредитів'!A:Z,7,FALSE),\"\")","v":""},{"$f":"IFERROR(VLOOKUP(A1028,'1.Портфель кредитів'!A:Z,14,FALSE),\"\")","v":""}]
[null,{"$f":"IFERROR(VLOOKUP(A1029,'1.Портфель кредитів'!A:Z,3,FALSE),\"\")","v":""},{"$f":"IFERROR(VLOOKUP(A1029,'1.Портфель кредитів'!A:Z,7,FALSE),\"\")","v":""},{"$f":"IFERROR(VLOOKUP(A1029,'1.Портфель кредитів'!A:Z,14,FALSE),\"\")","v":""}]
[null,{"$f":"IFERROR(VLOOKUP(A1030,'1.Портфель кредитів'!A:Z,3,FALSE),\"\")","v":""},{"$f":"IFERROR(VLOOKUP(A1030,'1.Портфель кредитів'!A:Z,7,FALSE),\"\")","v":""},{"$f":"IFERROR(VLOOKUP(A1030,'1.Портфель кредитів'!A:Z,14,FALSE),\"\")","v":""}]
[null,{"$f":"IFERROR(VLOOKUP(A1031,'1.Портфель кредитів'!A:Z,3,FALSE),\"\")","v":""},{"$f":"IFERROR(VLOOKUP(A1031,'1.Портфель кредитів'!A:Z,7,FALSE),\"\")","v":""},{"$f":"IFERROR(VLOOKUP(A1031,'1.Портфель кредитів'!A:Z,14,FALSE),\"\")","v":""}]
[null,{"$f":"IFERROR(VLOOKUP(A1032,'1.Портфель кредитів'!A:Z,3,FALSE),\"\")","v":""},{"$f":"IFERROR(VLOOKUP(A1032,'1.Портфель кредитів'!A:Z,7,FALSE),\"\")","v":""},{"$f":"IFERROR(VLOOKUP(A1032,'1.Портфель кредитів'!A:Z,14,FALSE),\"\")","v":""}]
[null,{"$f":"IFERROR(VLOOKUP(A1033,'1.Портфель кредитів'!A:Z,3,FALSE),\"\")","v":""},{"$f":"IFERROR(VLOOKUP(A1033,'1.Портфель кредитів'!A:Z,7,FALSE),\"\")","v":""},{"$f":"IFERROR(VLOOKUP(A1033,'1.Портфель кредитів'!A:Z,14,FALSE),\"\")","v":""}]
[null,{"$f":"IFERROR(VLOOKUP(A1034,'1.Портфель кредитів'!A:Z,3,FALSE),\"\")","v":""},{"$f":"IFERROR(VLOOKUP(A1034,'1.Портфель кредитів'!A:Z,7,FALSE),\"\")","v":""},{"$f":"IFERROR(VLOOKUP(A1034,'1.Портфель кредитів'!A:Z,14,FALSE),\"\")","v":""}]
[null,{"$f":"IFERROR(VLOOKUP(A1035,'1.Портфель кредитів'!A:Z,3,FALSE),\"\")","v":""},{"$f":"IFERROR(VLOOKUP(A1035,'1.Портфель кредитів'!A:Z,7,FALSE),\"\")","v":""},{"$f":"IFERROR(VLOOKUP(A1035,'1.Портфель кредитів'!A:Z,14,FALSE),\"\")","v":""}]
[null,{"$f":"IFERROR(VLOOKUP(A1036,'1.Портфель кредитів'!A:Z,3,FALSE),\"\")","v":""},{"$f":"IFERROR(VLOOKUP(A1036,'1.Портфель кредитів'!A:Z,7,FALSE),\"\")","v":""},{"$f":"IFERROR(VLOOKUP(A1036,'1.Портфель кредитів'!A:Z,14,FALSE),\"\")","v":""}]
[null,{"$f":"IFERROR(VLOOKUP(A1037,'1.Портфель кредитів'!A:Z,3,FALSE),\"\")","v":""},{"$f":"IFERROR(VLOOKUP(A1037,'1.Портфель кредитів'!A:Z,7,FALSE),\"\")","v":""},{"$f":"IFERROR(VLOOKUP(A1037,'1.Портфель кредитів'!A:Z,14,FALSE),\"\")","v":""}]
[null,{"$f":"IFERROR(VLOOKUP(A1038,'1.Портфель кредитів'!A:Z,3,FALSE),\"\")","v":""},{"$f":"IFERROR(VLOOKUP(A1038,'1.Портфель кредитів'!A:Z,7,FALSE),\"\")","v":""},{"$f":"IFERROR(VLOOKUP(A1038,'1.Портфель кредитів'!A:Z,14,FALSE),\"\")","v":""}]
[null,{"$f":"IFERROR(VLOOKUP(A1039,'1.Портфель кредитів'!A:Z,3,FALSE),\"\")","v":""},{"$f":"IFERROR(VLOOKUP(A1039,'1.Портфель кредитів'!A:Z,7,FALSE),\"\")","v":""},{"$f":"IFERROR(VLOOKUP(A1039,'1.Портфель кредитів'!A:Z,14,FALSE),\"\")","v":""}]
[null,{"$f":"IFERROR(VLOOKUP(A1040,'1.Портфель кредитів'!A:Z,3,FALSE),\"\")","v":""},{"$f":"IFERROR(VLOOKUP(A1040,'1.Портфель кредитів'!A:Z,7,FALSE),\"\")","v":""},{"$f":"IFERROR(VLOOKUP(A1040,'1.Портфель кредитів'!A:Z,14,FALSE),\"\")","v":""}]
[null,{"$f":"IFERROR(VLOOKUP(A1041,'1.Портфель кредитів'!A:Z,3,FALSE),\"\")","v":""},{"$f":"IFERROR(VLOOKUP(A1041,'1.Портфель кредитів'!A:Z,7,FALSE),\"\")","v":""},{"$f":"IFERROR(VLOOKUP(A1041,'1.Портфель кредитів'!A:Z,14,FALSE),\"\")","v":""}]
[null,{"$f":"IFERROR(VLOOKUP(A1042,'1.Портфель кредитів'!A:Z,3,FALSE),\"\")","v":""},{"$f":"IFERROR(VLOOKUP(A1042,'1.Портфель кредитів'!A:Z,7,FALSE),\"\")","v":""},{"$f":"IFERROR(VLOOKUP(A1042,'1.Портфель кредитів'!A:Z,14,FALSE),\"\")","v":""}]
[null,{"$f":"IFERROR(VLOOKUP(A1043,'1.Портфель кредитів'!A:Z,3,FALSE),\"\")","v":""},{"$f":"IFERROR(VLOOKUP(A1043,'1.Портфель кредитів'!A:Z,7,FALSE),\"\")","v":""},{"$f":"IFERROR(VLOOKUP(A1043,'1.Портфель кредитів'!A:Z,14,FALSE),\"\")","v":""}]
[null,{"$f":"IFERROR(VLOOKUP(A1044,'1.Портфель кредитів'!A:Z,3,FALSE),\"\")","v":""},{"$f":"IFERROR(VLOOKUP(A1044,'1.Портфель кредитів'!A:Z,7,FALSE),\"\")","v":""},{"$f":"IFERROR(VLOOKUP(A1044,'1.Портфель кредитів'!A:Z,14,FALSE),\"\")","v":""}]
[null,{"$f":"IFERROR(VLOOKUP(A1045,'1.Портфель кредитів'!A:Z,3,FALSE),\"\")","v":""},{"$f":"IFERROR(VLOOKUP(A1045,'1.Портфель кредитів'!A:Z,7,FALSE),\"\")","v":""},{"$f":"IFERROR(VLOOKUP(A1045,'1.Портфель кредитів'!A:Z,14,FALSE),\"\")","v":""}]
[null,{"$f":"IFERROR(VLOOKUP(A1046,'1.Портфель кредитів'!A:Z,3,FALSE),\"\")","v":""},{"$f":"IFERROR(VLOOKUP(A1046,'1.Портфель кредитів'!A:Z,7,FALSE),\"\")","v":""},{"$f":"IFERROR(VLOOKUP(A1046,'1.Портфель кредитів'!A:Z,14,FALSE),\"\")","v":""}]
[null,{"$f":"IFERROR(VLOOKUP(A1047,'1.Портфель кредитів'!A:Z,3,FALSE),\"\")","v":""},{"$f":"IFERROR(VLOOKUP(A1047,'1.Портфель кредитів'!A:Z,7,FALSE),\"\")","v":""},{"$f":"IFERROR(VLOOKUP(A1047,'1.Портфель кредитів'!A:Z,14,FALSE),\"\")","v":""}]
[null,{"$f":"IFERROR(VLOOKUP(A1048,'1.Портфель кредитів'!A:Z,3,FALSE),\"\")","v":""},{"$f":"IFERROR(VLOOKUP(A1048,'1.Портфель кредитів'!A:Z,7,FALSE),\"\")","v":""},{"$f":"IFERROR(VLOOKUP(A1048,'1.Портфель кредитів'!A:Z,14,FALSE),\"\")","v":""}]
[null,{"$f":"IFERROR(VLOOKUP(A1049,'1.Портфель кредитів'!A:Z,3,FALSE),\"\")","v":""},{"$f":"IFERROR(VLOOKUP(A1049,'1.Портфель кредитів'!A:Z,7,FALSE),\"\")","v":""},{"$f":"IFERROR(VLOOKUP(A1049,'1.Портфель кредитів'!A:Z,14,FALSE),\"\")","v":""}]
[null,{"$f":"IFERROR(VLOOKUP(A1050,'1.Портфель кредитів'!A:Z,3,FALSE),\"\")","v":""},{"$f":"IFERROR(VLOOKUP(A1050,'1.Портфель кредитів'!A:Z,7,FALSE),\"\")","v":""},{"$f":"IFERROR(VLOOKUP(A1050,'1.Портфель кредитів'!A:Z,14,FALSE),\"\")","v":""}]
[null,{"$f":"IFERROR(VLOOKUP(A1051,'1.Портфель кредитів'!A:Z,3,FALSE),\"\")","v":""},{"$f":"IFERROR(VLOOKUP(A1051,'1.Портфель кредитів'!A:Z,7,FALSE),\"\")","v":""},{"$f":"IFERROR(VLOOKUP(A1051,'1.Портфель кредитів'!A:Z,14,FALSE),\"\")","v":""}]
[null,{"$f":"IFERROR(VLOOKUP(A1052,'1.Портфель кредитів'!A:Z,3,FALSE),\"\")","v":""},{"$f":"IFERROR(VLOOKUP(A1052,'1.Портфель кредитів'!A:Z,7,FALSE),\"\")","v":""},{"$f":"IFERROR(VLOOKUP(A1052,'1.Портфель кредитів'!A:Z,14,FALSE),\"\")","v":""}]
[null,{"$f":"IFERROR(VLOOKUP(A1053,'1.Портфель кредитів'!A:Z,3,FALSE),\"\")","v":""},{"$f":"IFERROR(VLOOKUP(A1053,'1.Портфель кредитів'!A:Z,7,FALSE),\"\")","v":""},{"$f":"IFERROR(VLOOKUP(A1053,'1.Портфель кредитів'!A:Z,14,FALSE),\"\")","v":""}]
[null,{"$f":"IFERROR(VLOOKUP(A1054,'1.Портфель кредитів'!A:Z,3,FALSE),\"\")","v":""},{"$f":"IFERROR(VLOOKUP(A1054,'1.Портфель кредитів'!A:Z,7,FALSE),\"\")","v":""},{"$f":"IFERROR(VLOOKUP(A1054,'1.Портфель кредитів'!A:Z,14,FALSE),\"\")","v":""}]
[null,{"$f":"IFERROR(VLOOKUP(A1055,'1.Портфель кредитів'!A:Z,3,FALSE),\"\")","v":""},{"$f":"IFERROR(VLOOKUP(A1055,'1.Портфель кредитів'!A:Z,7,FALSE),\"\")","v":""},{"$f":"IFERROR(VLOOKUP(A1055,'1.Портфель кредитів'!A:Z,14,FALSE),\"\")","v":""}]
[null,{"$f":"IFERROR(VLOOKUP(A1056,'1.Портфель кредитів'!A:Z,3,FALSE),\"\")","v":""},{"$f":"IFERROR(VLOOKUP(A1056,'1.Портфель кредитів'!A:Z,7,FALSE),\"\")","v":""},{"$f":"IFERROR(VLOOKUP(A1056,'1.Портфель кредитів'!A:Z,14,FALSE),\"\")","v":""}]
[null,{"$f":"IFERROR(VLOOKUP(A1057,'1.Портфель кредитів'!A:Z,3,FALSE),\"\")","v":""},{"$f":"IFERROR(VLOOKUP(A1057,'1.Портфель кредитів'!A:Z,7,FALSE),\"\")","v":""},{"$f":"IFERROR(VLOOKUP(A1057,'1.Портфель кредитів'!A:Z,14,FALSE),\"\")","v":""}]
[null,{"$f":"IFERROR(VLOOKUP(A1058,'1.Портфель кредитів'!A:Z,3,FALSE),\"\")","v":""},{"$f":"IFERROR(VLOOKUP(A1058,'1.Портфель кредитів'!A:Z,7,FALSE),\"\")","v":""},{"$f":"IFERROR(VLOOKUP(A1058,'1.Портфель кредитів'!A:Z,14,FALSE),\"\")","v":""}]
[null,{"$f":"IFERROR(VLOOKUP(A1059,'1.Портфель кредитів'!A:Z,3,FALSE),\"\")","v":""},{"$f":"IFERROR(VLOOKUP(A1059,'1.Портфель кредитів'!A:Z,7,FALSE),\"\")","v":""},{"$f":"IFERROR(VLOOKUP(A1059,'1.Портфель кредитів'!A:Z,14,FALSE),\"\")","v":""}]
[null,{"$f":"IFERROR(VLOOKUP(A1060,'1.Портфель кредитів'!A:Z,3,FALSE),\"\")","v":""},{"$f":"IFERROR(VLOOKUP(A1060,'1.Портфель кредитів'!A:Z,7,FALSE),\"\")","v":""},{"$f":"IFERROR(VLOOKUP(A1060,'1.Портфель кредитів'!A:Z,14,FALSE),\"\")","v":""}]
[null,{"$f":"IFERROR(VLOOKUP(A1061,'1.Портфель кредитів'!A:Z,3,FALSE),\"\")","v":""},{"$f":"IFERROR(VLOOKUP(A1061,'1.Портфель кредитів'!A:Z,7,FALSE),\"\")","v":""},{"$f":"IFERROR(VLOOKUP(A1061,'1.Портфель кредитів'!A:Z,14,FALSE),\"\")","v":""}]
[null,{"$f":"IFERROR(VLOOKUP(A1062,'1.Портфель кредитів'!A:Z,3,FALSE),\"\")","v":""},{"$f":"IFERROR(VLOOKUP(A1062,'1.Портфель кредитів'!A:Z,7,FALSE),\"\")","v":""},{"$f":"IFERROR(VLOOKUP(A1062,'1.Портфель кредитів'!A:Z,14,FALSE),\"\")","v":""}]
[null,{"$f":"IFERROR(VLOOKUP(A1063,'1.Портфель кредитів'!A:Z,3,FALSE),\"\")","v":""},{"$f":"IFERROR(VLOOKUP(A1063,'1.Портфель кредитів'!A:Z,7,FALSE),\"\")","v":""},{"$f":"IFERROR(VLOOKUP(A1063,'1.Портфель кредитів'!A:Z,14,FALSE),\"\")","v":""}]
[null,{"$f":"IFERROR(VLOOKUP(A1064,'1.Портфель кредитів'!A:Z,3,FALSE),\"\")","v":""},{"$f":"IFERROR(VLOOKUP(A1064,'1.Портфель кредитів'!A:Z,7,FALSE),\"\")","v":""},{"$f":"IFERROR(VLOOKUP(A1064,'1.Портфель кредитів'!A:Z,14,FALSE),\"\")","v":""}]
[null,{"$f":"IFERROR(VLOOKUP(A1065,'1.Портфель кредитів'!A:Z,3,FALSE),\"\")","v":""},{"$f":"IFERROR(VLOOKUP(A1065,'1.Портфель кредитів'!A:Z,7,FALSE),\"\")","v":""},{"$f":"IFERROR(VLOOKUP(A1065,'1.Портфель кредитів'!A:Z,14,FALSE),\"\")","v":""}]
[null,{"$f":"IFERROR(VLOOKUP(A1066,'1.Портфель кредитів'!A:Z,3,FALSE),\"\")","v":""},{"$f":"IFERROR(VLOOKUP(A1066,'1.Портфель кредитів'!A:Z,7,FALSE),\"\")","v":""},{"$f":"IFERROR(VLOOKUP(A1066,'1.Портфель кредитів'!A:Z,14,FALSE),\"\")","v":""}]
[null,{"$f":"IFERROR(VLOOKUP(A1067,'1.Портфель кредитів'!A:Z,3,FALSE),\"\")","v":""},{"$f":"IFERROR(VLOOKUP(A1067,'1.Портфель кредитів'!A:Z,7,FALSE),\"\")","v":""},{"$f":"IFERROR(VLOOKUP(A1067,'1.Портфель кредитів'!A:Z,14,FALSE),\"\")","v":""}]
[null,{"$f":"IFERROR(VLOOKUP(A1068,'1.Портфель кредитів'!A:Z,3,FALSE),\"\")","v":""},{"$f":"IFERROR(VLOOKUP(A1068,'1.Портфель кредитів'!A:Z,7,FALSE),\"\")","v":""},{"$f":"IFERROR(VLOOKUP(A1068,'1.Портфель кредитів'!A:Z,14,FALSE),\"\")","v":""}]
[null,{"$f":"IFERROR(VLOOKUP(A1069,'1.Портфель кредитів'!A:Z,3,FALSE),\"\")","v":""},{"$f":"IFERROR(VLOOKUP(A1069,'1.Портфель кредитів'!A:Z,7,FALSE),\"\")","v":""},{"$f":"IFERROR(VLOOKUP(A1069,'1.Портфель кредитів'!A:Z,14,FALSE),\"\")","v":""}]
[null,{"$f":"IFERROR(VLOOKUP(A1070,'1.Портфель кредитів'!A:Z,3,FALSE),\"\")","v":""},{"$f":"IFERROR(VLOOKUP(A1070,'1.Портфель кредитів'!A:Z,7,FALSE),\"\")","v":""},{"$f":"IFERROR(VLOOKUP(A1070,'1.Портфель кредитів'!A:Z,14,FALSE),\"\")","v":""}]
[null,{"$f":"IFERROR(VLOOKUP(A1071,'1.Портфель кредитів'!A:Z,3,FALSE),\"\")","v":""},{"$f":"IFERROR(VLOOKUP(A1071,'1.Портфель кредитів'!A:Z,7,FALSE),\"\")","v":""},{"$f":"IFERROR(VLOOKUP(A1071,'1.Портфель кредитів'!A:Z,14,FALSE),\"\")","v":""}]
[null,{"$f":"IFERROR(VLOOKUP(A1072,'1.Портфель кредитів'!A:Z,3,FALSE),\"\")","v":""},{"$f":"IFERROR(VLOOKUP(A1072,'1.Портфель кредитів'!A:Z,7,FALSE),\"\")","v":""},{"$f":"IFERROR(VLOOKUP(A1072,'1.Портфель кредитів'!A:Z,14,FALSE),\"\")","v":""}]
[null,{"$f":"IFERROR(VLOOKUP(A1073,'1.Портфель кредитів'!A:Z,3,FALSE),\"\")","v":""},{"$f":"IFERROR(VLOOKUP(A1073,'1.Портфель кредитів'!A:Z,7,FALSE),\"\")","v":""},{"$f":"IFERROR(VLOOKUP(A1073,'1.Портфель кредитів'!A:Z,14,FALSE),\"\")","v":""}]
[null,{"$f":"IFERROR(VLOOKUP(A1074,'1.Портфель кредитів'!A:Z,3,FALSE),\"\")","v":""},{"$f":"IFERROR(VLOOKUP(A1074,'1.Портфель кредитів'!A:Z,7,FALSE),\"\")","v":""},{"$f":"IFERROR(VLOOKUP(A1074,'1.Портфель кредитів'!A:Z,14,FALSE),\"\")","v":""}]
[null,{"$f":"IFERROR(VLOOKUP(A1075,'1.Портфель кредитів'!A:Z,3,FALSE),\"\")","v":""},{"$f":"IFERROR(VLOOKUP(A1075,'1.Портфель кредитів'!A:Z,7,FALSE),\"\")","v":""},{"$f":"IFERROR(VLOOKUP(A1075,'1.Портфель кредитів'!A:Z,14,FALSE),\"\")","v":""}]
[null,{"$f":"IFERROR(VLOOKUP(A1076,'1.Портфель кредитів'!A:Z,3,FALSE),\"\")","v":""},{"$f":"IFERROR(VLOOKUP(A1076,'1.Портфель кредитів'!A:Z,7,FALSE),\"\")","v":""},{"$f":"IFERROR(VLOOKUP(A1076,'1.Портфель кредитів'!A:Z,14,FALSE),\"\")","v":""}]
[null,{"$f":"IFERROR(VLOOKUP(A1077,'1.Портфель кредитів'!A:Z,3,FALSE),\"\")","v":""},{"$f":"IFERROR(VLOOKUP(A1077,'1.Портфель кредитів'!A:Z,7,FALSE),\"\")","v":""},{"$f":"IFERROR(VLOOKUP(A1077,'1.Портфель кредитів'!A:Z,14,FALSE),\"\")","v":""}]
[null,{"$f":"IFERROR(VLOOKUP(A1078,'1.Портфель кредитів'!A:Z,3,FALSE),\"\")","v":""},{"$f":"IFERROR(VLOOKUP(A1078,'1.Портфель кредитів'!A:Z,7,FALSE),\"\")","v":""},{"$f":"IFERROR(VLOOKUP(A1078,'1.Портфель кредитів'!A:Z,14,FALSE),\"\")","v":""}]
[null,{"$f":"IFERROR(VLOOKUP(A1079,'1.Портфель кредитів'!A:Z,3,FALSE),\"\")","v":""},{"$f":"IFERROR(VLOOKUP(A1079,'1.Портфель кредитів'!A:Z,7,FALSE),\"\")","v":""},{"$f":"IFERROR(VLOOKUP(A1079,'1.Портфель кредитів'!A:Z,14,FALSE),\"\")","v":""}]
[null,{"$f":"IFERROR(VLOOKUP(A1080,'1.Портфель кредитів'!A:Z,3,FALSE),\"\")","v":""},{"$f":"IFERROR(VLOOKUP(A1080,'1.Портфель кредитів'!A:Z,7,FALSE),\"\")","v":""},{"$f":"IFERROR(VLOOKUP(A1080,'1.Портфель кредитів'!A:Z,14,FALSE),\"\")","v":""}]
[null,{"$f":"IFERROR(VLOOKUP(A1081,'1.Портфель кредитів'!A:Z,3,FALSE),\"\")","v":""},{"$f":"IFERROR(VLOOKUP(A1081,'1.Портфель кредитів'!A:Z,7,FALSE),\"\")","v":""},{"$f":"IFERROR(VLOOKUP(A1081,'1.Портфель кредитів'!A:Z,14,FALSE),\"\")","v":""}]
[null,{"$f":"IFERROR(VLOOKUP(A1082,'1.Портфель кредитів'!A:Z,3,FALSE),\"\")","v":""},{"$f":"IFERROR(VLOOKUP(A1082,'1.Портфель кредитів'!A:Z,7,FALSE),\"\")","v":""},{"$f":"IFERROR(VLOOKUP(A1082,'1.Портфель кредитів'!A:Z,14,FALSE),\"\")","v":""}]
[null,{"$f":"IFERROR(VLOOKUP(A1083,'1.Портфель кредитів'!A:Z,3,FALSE),\"\")","v":""},{"$f":"IFERROR(VLOOKUP(A1083,'1.Портфель кредитів'!A:Z,7,FALSE),\"\")","v":""},{"$f":"IFERROR(VLOOKUP(A1083,'1.Портфель кредитів'!A:Z,14,FALSE),\"\")","v":""}]
[null,{"$f":"IFERROR(VLOOKUP(A1084,'1.Портфель кредитів'!A:Z,3,FALSE),\"\")","v":""},{"$f":"IFERROR(VLOOKUP(A1084,'1.Портфель кредитів'!A:Z,7,FALSE),\"\")","v":""},{"$f":"IFERROR(VLOOKUP(A1084,'1.Портфель кредитів'!A:Z,14,FALSE),\"\")","v":""}]
[null,{"$f":"IFERROR(VLOOKUP(A1085,'1.Портфель кредитів'!A:Z,3,FALSE),\"\")","v":""},{"$f":"IFERROR(VLOOKUP(A1085,'1.Портфель кредитів'!A:Z,7,FALSE),\"\")","v":""},{"$f":"IFERROR(VLOOKUP(A1085,'1.Портфель кредитів'!A:Z,14,FALSE),\"\")","v":""}]
[null,{"$f":"IFERROR(VLOOKUP(A1086,'1.Портфель кредитів'!A:Z,3,FALSE),\"\")","v":""},{"$f":"IFERROR(VLOOKUP(A1086,'1.Портфель кредитів'!A:Z,7,FALSE),\"\")","v":""},{"$f":"IFERROR(VLOOKUP(A1086,'1.Портфель кредитів'!A:Z,14,FALSE),\"\")","v":""}]
[null,{"$f":"IFERROR(VLOOKUP(A1087,'1.Портфель кредитів'!A:Z,3,FALSE),\"\")","v":""},{"$f":"IFERROR(VLOOKUP(A1087,'1.Портфель кредитів'!A:Z,7,FALSE),\"\")","v":""},{"$f":"IFERROR(VLOOKUP(A1087,'1.Портфель кредитів'!A:Z,14,FALSE),\"\")","v":""}]
[null,{"$f":"IFERROR(VLOOKUP(A1088,'1.Портфель кредитів'!A:Z,3,FALSE),\"\")","v":""},{"$f":"IFERROR(VLOOKUP(A1088,'1.Портфель кредитів'!A:Z,7,FALSE),\"\")","v":""},{"$f":"IFERROR(VLOOKUP(A1088,'1.Портфель кредитів'!A:Z,14,FALSE),\"\")","v":""}]
[null,{"$f":"IFERROR(VLOOKUP(A1089,'1.Портфель кредитів'!A:Z,3,FALSE),\"\")","v":""},{"$f":"IFERROR(VLOOKUP(A1089,'1.Портфель кредитів'!A:Z,7,FALSE),\"\")","v":""},{"$f":"IFERROR(VLOOKUP(A1089,'1.Портфель кредитів'!A:Z,14,FALSE),\"\")","v":""}]
[null,{"$f":"IFERROR(VLOOKUP(A1090,'1.Портфель кредитів'!A:Z,3,FALSE),\"\")","v":""},{"$f":"IFERROR(VLOOKUP(A1090,'1.Портфель кредитів'!A:Z,7,FALSE),\"\")","v":""},{"$f":"IFERROR(VLOOKUP(A1090,'1.Портфель кредитів'!A:Z,14,FALSE),\"\")","v":""}]
[null,{"$f":"IFERROR(VLOOKUP(A1091,'1.Портфель кредитів'!A:Z,3,FALSE),\"\")","v":""},{"$f":"IFERROR(VLOOKUP(A1091,'1.Портфель кредитів'!A:Z,7,FALSE),\"\")","v":""},{"$f":"IFERROR(VLOOKUP(A1091,'1.Портфель кредитів'!A:Z,14,FALSE),\"\")","v":""}]
[null,{"$f":"IFERROR(VLOOKUP(A1092,'1.Портфель кредитів'!A:Z,3,FALSE),\"\")","v":""},{"$f":"IFERROR(VLOOKUP(A1092,'1.Портфель кредитів'!A:Z,7,FALSE),\"\")","v":""},{"$f":"IFERROR(VLOOKUP(A1092,'1.Портфель кредитів'!A:Z,14,FALSE),\"\")","v":""}]
[null,{"$f":"IFERROR(VLOOKUP(A1093,'1.Портфель кредитів'!A:Z,3,FALSE),\"\")","v":""},{"$f":"IFERROR(VLOOKUP(A1093,'1.Портфель кредитів'!A:Z,7,FALSE),\"\")","v":""},{"$f":"IFERROR(VLOOKUP(A1093,'1.Портфель кредитів'!A:Z,14,FALSE),\"\")","v":""}]
[null,{"$f":"IFERROR(VLOOKUP(A1094,'1.Портфель кредитів'!A:Z,3,FALSE),\"\")","v":""},{"$f":"IFERROR(VLOOKUP(A1094,'1.Портфель кредитів'!A:Z,7,FALSE),\"\")","v":""},{"$f":"IFERROR(VLOOKUP(A1094,'1.Портфель кредитів'!A:Z,14,FALSE),\"\")","v":""}]
[null,{"$f":"IFERROR(VLOOKUP(A1095,'1.Портфель кредитів'!A:Z,3,FALSE),\"\")","v":""},{"$f":"IFERROR(VLOOKUP(A1095,'1.Портфель кредитів'!A:Z,7,FALSE),\"\")","v":""},{"$f":"IFERROR(VLOOKUP(A1095,'1.Портфель кредитів'!A:Z,14,FALSE),\"\")","v":""}]
[null,{"$f":"IFERROR(VLOOKUP(A1096,'1.Портфель кредитів'!A:Z,3,FALSE),\"\")","v":""},{"$f":"IFERROR(VLOOKUP(A1096,'1.Портфель кредитів'!A:Z,7,FALSE),\"\")","v":""},{"$f":"IFERROR(VLOOKUP(A1096,'1.Портфель кредитів'!A:Z,14,FALSE),\"\")","v":""}]
[null,{"$f":"IFERROR(VLOOKUP(A1097,'1.Портфель кредитів'!A:Z,3,FALSE),\"\")","v":""},{"$f":"IFERROR(VLOOKUP(A1097,'1.Портфель кредитів'!A:Z,7,FALSE),\"\")","v":""},{"$f":"IFERROR(VLOOKUP(A1097,'1.Портфель кредитів'!A:Z,14,FALSE),\"\")","v":""}]
[null,{"$f":"IFERROR(VLOOKUP(A1098,'1.Портфель кредитів'!A:Z,3,FALSE),\"\")","v":""},{"$f":"IFERROR(VLOOKUP(A1098,'1.Портфель кредитів'!A:Z,7,FALSE),\"\")","v":""},{"$f":"IFERROR(VLOOKUP(A1098,'1.Портфель кредитів'!A:Z,14,FALSE),\"\")","v":""}]
[null,{"$f":"IFERROR(VLOOKUP(A1099,'1.Портфель кредитів'!A:Z,3,FALSE),\"\")","v":""},{"$f":"IFERROR(VLOOKUP(A1099,'1.Портфель кредитів'!A:Z,7,FALSE),\"\")","v":""},{"$f":"IFERROR(VLOOKUP(A1099,'1.Портфель кредитів'!A:Z,14,FALSE),\"\")","v":""}]
[null,{"$f":"IFERROR(VLOOKUP(A1100,'1.Портфель кредитів'!A:Z,3,FALSE),\"\")","v":""},{"$f":"IFERROR(VLOOKUP(A1100,'1.Портфель кредитів'!A:Z,7,FALSE),\"\")","v":""},{"$f":"IFERROR(VLOOKUP(A1100,'1.Портфель кредитів'!A:Z,14,FALSE),\"\")","v":""}]
[null,{"$f":"IFERROR(VLOOKUP(A1101,'1.Портфель кредитів'!A:Z,3,FALSE),\"\")","v":""},{"$f":"IFERROR(VLOOKUP(A1101,'1.Портфель кредитів'!A:Z,7,FALSE),\"\")","v":""},{"$f":"IFERROR(VLOOKUP(A1101,'1.Портфель кредитів'!A:Z,14,FALSE),\"\")","v":""}]
[null,{"$f":"IFERROR(VLOOKUP(A1102,'1.Портфель кредитів'!A:Z,3,FALSE),\"\")","v":""},{"$f":"IFERROR(VLOOKUP(A1102,'1.Портфель кредитів'!A:Z,7,FALSE),\"\")","v":""},{"$f":"IFERROR(VLOOKUP(A1102,'1.Портфель кредитів'!A:Z,14,FALSE),\"\")","v":""}]
[null,{"$f":"IFERROR(VLOOKUP(A1103,'1.Портфель кредитів'!A:Z,3,FALSE),\"\")","v":""},{"$f":"IFERROR(VLOOKUP(A1103,'1.Портфель кредитів'!A:Z,7,FALSE),\"\")","v":""},{"$f":"IFERROR(VLOOKUP(A1103,'1.Портфель кредитів'!A:Z,14,FALSE),\"\")","v":""}]
[null,{"$f":"IFERROR(VLOOKUP(A1104,'1.Портфель кредитів'!A:Z,3,FALSE),\"\")","v":""},{"$f":"IFERROR(VLOOKUP(A1104,'1.Портфель кредитів'!A:Z,7,FALSE),\"\")","v":""},{"$f":"IFERROR(VLOOKUP(A1104,'1.Портфель кредитів'!A:Z,14,FALSE),\"\")","v":""}]
[null,{"$f":"IFERROR(VLOOKUP(A1105,'1.Портфель кредитів'!A:Z,3,FALSE),\"\")","v":""},{"$f":"IFERROR(VLOOKUP(A1105,'1.Портфель кредитів'!A:Z,7,FALSE),\"\")","v":""},{"$f":"IFERROR(VLOOKUP(A1105,'1.Портфель кредитів'!A:Z,14,FALSE),\"\")","v":""}]
[null,{"$f":"IFERROR(VLOOKUP(A1106,'1.Портфель кредитів'!A:Z,3,FALSE),\"\")","v":""},{"$f":"IFERROR(VLOOKUP(A1106,'1.Портфель кредитів'!A:Z,7,FALSE),\"\")","v":""},{"$f":"IFERROR(VLOOKUP(A1106,'1.Портфель кредитів'!A:Z,14,FALSE),\"\")","v":""}]
[null,{"$f":"IFERROR(VLOOKUP(A1107,'1.Портфель кредитів'!A:Z,3,FALSE),\"\")","v":""},{"$f":"IFERROR(VLOOKUP(A1107,'1.Портфель кредитів'!A:Z,7,FALSE),\"\")","v":""},{"$f":"IFERROR(VLOOKUP(A1107,'1.Портфель кредитів'!A:Z,14,FALSE),\"\")","v":""}]
[null,{"$f":"IFERROR(VLOOKUP(A1108,'1.Портфель кредитів'!A:Z,3,FALSE),\"\")","v":""},{"$f":"IFERROR(VLOOKUP(A1108,'1.Портфель кредитів'!A:Z,7,FALSE),\"\")","v":""},{"$f":"IFERROR(VLOOKUP(A1108,'1.Портфель кредитів'!A:Z,14,FALSE),\"\")","v":""}]
[null,{"$f":"IFERROR(VLOOKUP(A1109,'1.Портфель кредитів'!A:Z,3,FALSE),\"\")","v":""},{"$f":"IFERROR(VLOOKUP(A1109,'1.Портфель кредитів'!A:Z,7,FALSE),\"\")","v":""},{"$f":"IFERROR(VLOOKUP(A1109,'1.Портфель кредитів'!A:Z,14,FALSE),\"\")","v":""}]
[null,{"$f":"IFERROR(VLOOKUP(A1110,'1.Портфель кредитів'!A:Z,3,FALSE),\"\")","v":""},{"$f":"IFERROR(VLOOKUP(A1110,'1.Портфель кредитів'!A:Z,7,FALSE),\"\")","v":""},{"$f":"IFERROR(VLOOKUP(A1110,'1.Портфель кредитів'!A:Z,14,FALSE),\"\")","v":""}]
[null,{"$f":"IFERROR(VLOOKUP(A1111,'1.Портфель кредитів'!A:Z,3,FALSE),\"\")","v":""},{"$f":"IFERROR(VLOOKUP(A1111,'1.Портфель кредитів'!A:Z,7,FALSE),\"\")","v":""},{"$f":"IFERROR(VLOOKUP(A1111,'1.Портфель кредитів'!A:Z,14,FALSE),\"\")","v":""}]
[null,{"$f":"IFERROR(VLOOKUP(A1112,'1.Портфель кредитів'!A:Z,3,FALSE),\"\")","v":""},{"$f":"IFERROR(VLOOKUP(A1112,'1.Портфель кредитів'!A:Z,7,FALSE),\"\")","v":""},{"$f":"IFERROR(VLOOKUP(A1112,'1.Портфель кредитів'!A:Z,14,FALSE),\"\")","v":""}]
[null,{"$f":"IFERROR(VLOOKUP(A1113,'1.Портфель кредитів'!A:Z,3,FALSE),\"\")","v":""},{"$f":"IFERROR(VLOOKUP(A1113,'1.Портфель кредитів'!A:Z,7,FALSE),\"\")","v":""},{"$f":"IFERROR(VLOOKUP(A1113,'1.Портфель кредитів'!A:Z,14,FALSE),\"\")","v":""}]
[null,{"$f":"IFERROR(VLOOKUP(A1114,'1.Портфель кредитів'!A:Z,3,FALSE),\"\")","v":""},{"$f":"IFERROR(VLOOKUP(A1114,'1.Портфель кредитів'!A:Z,7,FALSE),\"\")","v":""},{"$f":"IFERROR(VLOOKUP(A1114,'1.Портфель кредитів'!A:Z,14,FALSE),\"\")","v":""}]
[null,{"$f":"IFERROR(VLOOKUP(A1115,'1.Портфель кредитів'!A:Z,3,FALSE),\"\")","v":""},{"$f":"IFERROR(VLOOKUP(A1115,'1.Портфель кредитів'!A:Z,7,FALSE),\"\")","v":""},{"$f":"IFERROR(VLOOKUP(A1115,'1.Портфель кредитів'!A:Z,14,FALSE),\"\")","v":""}]
[null,{"$f":"IFERROR(VLOOKUP(A1116,'1.Портфель кредитів'!A:Z,3,FALSE),\"\")","v":""},{"$f":"IFERROR(VLOOKUP(A1116,'1.Портфель кредитів'!A:Z,7,FALSE),\"\")","v":""},{"$f":"IFERROR(VLOOKUP(A1116,'1.Портфель кредитів'!A:Z,14,FALSE),\"\")","v":""}]
[null,{"$f":"IFERROR(VLOOKUP(A1117,'1.Портфель кредитів'!A:Z,3,FALSE),\"\")","v":""},{"$f":"IFERROR(VLOOKUP(A1117,'1.Портфель кредитів'!A:Z,7,FALSE),\"\")","v":""},{"$f":"IFERROR(VLOOKUP(A1117,'1.Портфель кредитів'!A:Z,14,FALSE),\"\")","v":""}]
[null,{"$f":"IFERROR(VLOOKUP(A1118,'1.Портфель кредитів'!A:Z,3,FALSE),\"\")","v":""},{"$f":"IFERROR(VLOOKUP(A1118,'1.Портфель кредитів'!A:Z,7,FALSE),\"\")","v":""},{"$f":"IFERROR(VLOOKUP(A1118,'1.Портфель кредитів'!A:Z,14,FALSE),\"\")","v":""}]
[null,{"$f":"IFERROR(VLOOKUP(A1119,'1.Портфель кредитів'!A:Z,3,FALSE),\"\")","v":""},{"$f":"IFERROR(VLOOKUP(A1119,'1.Портфель кредитів'!A:Z,7,FALSE),\"\")","v":""},{"$f":"IFERROR(VLOOKUP(A1119,'1.Портфель кредитів'!A:Z,14,FALSE),\"\")","v":""}]
[null,{"$f":"IFERROR(VLOOKUP(A1120,'1.Портфель кредитів'!A:Z,3,FALSE),\"\")","v":""},{"$f":"IFERROR(VLOOKUP(A1120,'1.Портфель кредитів'!A:Z,7,FALSE),\"\")","v":""},{"$f":"IFERROR(VLOOKUP(A1120,'1.Портфель кредитів'!A:Z,14,FALSE),\"\")","v":""}]
[null,{"$f":"IFERROR(VLOOKUP(A1121,'1.Портфель кредитів'!A:Z,3,FALSE),\"\")","v":""},{"$f":"IFERROR(VLOOKUP(A1121,'1.Портфель кредитів'!A:Z,7,FALSE),\"\")","v":""},{"$f":"IFERROR(VLOOKUP(A1121,'1.Портфель кредитів'!A:Z,14,FALSE),\"\")","v":""}]
[null,{"$f":"IFERROR(VLOOKUP(A1122,'1.Портфель кредитів'!A:Z,3,FALSE),\"\")","v":""},{"$f":"IFERROR(VLOOKUP(A1122,'1.Портфель кредитів'!A:Z,7,FALSE),\"\")","v":""},{"$f":"IFERROR(VLOOKUP(A1122,'1.Портфель кредитів'!A:Z,14,FALSE),\"\")","v":""}]
[null,{"$f":"IFERROR(VLOOKUP(A1123,'1.Портфель кредитів'!A:Z,3,FALSE),\"\")","v":""},{"$f":"IFERROR(VLOOKUP(A1123,'1.Портфель кредитів'!A:Z,7,FALSE),\"\")","v":""},{"$f":"IFERROR(VLOOKUP(A1123,'1.Портфель кредитів'!A:Z,14,FALSE),\"\")","v":""}]
[null,{"$f":"IFERROR(VLOOKUP(A1124,'1.Портфель кредитів'!A:Z,3,FALSE),\"\")","v":""},{"$f":"IFERROR(VLOOKUP(A1124,'1.Портфель кредитів'!A:Z,7,FALSE),\"\")","v":""},{"$f":"IFERROR(VLOOKUP(A1124,'1.Портфель кредитів'!A:Z,14,FALSE),\"\")","v":""}]
[null,{"$f":"IFERROR(VLOOKUP(A1125,'1.Портфель кредитів'!A:Z,3,FALSE),\"\")","v":""},{"$f":"IFERROR(VLOOKUP(A1125,'1.Портфель кредитів'!A:Z,7,FALSE),\"\")","v":""},{"$f":"IFERROR(VLOOKUP(A1125,'1.Портфель кредитів'!A:Z,14,FALSE),\"\")","v":""}]
[null,{"$f":"IFERROR(VLOOKUP(A1126,'1.Портфель кредитів'!A:Z,3,FALSE),\"\")","v":""},{"$f":"IFERROR(VLOOKUP(A1126,'1.Портфель кредитів'!A:Z,7,FALSE),\"\")","v":""},{"$f":"IFERROR(VLOOKUP(A1126,'1.Портфель кредитів'!A:Z,14,FALSE),\"\")","v":""}]
[null,{"$f":"IFERROR(VLOOKUP(A1127,'1.Портфель кредитів'!A:Z,3,FALSE),\"\")","v":""},{"$f":"IFERROR(VLOOKUP(A1127,'1.Портфель кредитів'!A:Z,7,FALSE),\"\")","v":""},{"$f":"IFERROR(VLOOKUP(A1127,'1.Портфель кредитів'!A:Z,14,FALSE),\"\")","v":""}]
[null,{"$f":"IFERROR(VLOOKUP(A1128,'1.Портфель кредитів'!A:Z,3,FALSE),\"\")","v":""},{"$f":"IFERROR(VLOOKUP(A1128,'1.Портфель кредитів'!A:Z,7,FALSE),\"\")","v":""},{"$f":"IFERROR(VLOOKUP(A1128,'1.Портфель кредитів'!A:Z,14,FALSE),\"\")","v":""}]
[null,{"$f":"IFERROR(VLOOKUP(A1129,'1.Портфель кредитів'!A:Z,3,FALSE),\"\")","v":""},{"$f":"IFERROR(VLOOKUP(A1129,'1.Портфель кредитів'!A:Z,7,FALSE),\"\")","v":""},{"$f":"IFERROR(VLOOKUP(A1129,'1.Портфель кредитів'!A:Z,14,FALSE),\"\")","v":""}]
[null,{"$f":"IFERROR(VLOOKUP(A1130,'1.Портфель кредитів'!A:Z,3,FALSE),\"\")","v":""},{"$f":"IFERROR(VLOOKUP(A1130,'1.Портфель кредитів'!A:Z,7,FALSE),\"\")","v":""},{"$f":"IFERROR(VLOOKUP(A1130,'1.Портфель кредитів'!A:Z,14,FALSE),\"\")","v":""}]
[null,{"$f":"IFERROR(VLOOKUP(A1131,'1.Портфель кредитів'!A:Z,3,FALSE),\"\")","v":""},{"$f":"IFERROR(VLOOKUP(A1131,'1.Портфель кредитів'!A:Z,7,FALSE),\"\")","v":""},{"$f":"IFERROR(VLOOKUP(A1131,'1.Портфель кредитів'!A:Z,14,FALSE),\"\")","v":""}]

{"sheet":"Service_menu","index":4,"n_rows":3,"n_cols":1,"rows_kept":3,"cut":false,"hidden":true,"merged":[]}
[]
["Введіть пароль адміністратора:"]
["***"]

{"sheet":"Hidden_Словник","index":5,"n_rows":19698,"n_cols":50,"rows_kept":1125,"cut":true,"hidden":true,"merged":[],"bounds":{"rows_first":500,"rows_last":125,"rows_between":500,"halvings":2}}
["Коротка назва","Назва банку","МФО","Дата вводу тимч.адм.","Дата рішення про ліквид.",null,null,null,null,"#","область","Регіон",null,null,null,"Тип актива","NU",null,null,"Банкрутство",null,null,"Тип застави",null,"ТАК/Ні",null,"Вид судового провадження",null,null,"Відповідач (позичальник/поручитель)",null,null,null,"Наявність документів кредитної справи",null,null,null,null,"Одиниці виміру",null,null,"валюта",null,null,null,"область","населений пункт",null,null,"Наявність забезпечення"]
["Авант-Банк","ПАТ \"АВАНТ-БАНК\"","380708",42398,42426,null,null,null,null,1,"Автономна Республіка Крим","КРИМ/АТО",null,null,null,"Ю/О право вимоги","Сільське господарство, лісове господарство та рибне господарство",null,null,"Діюче",null,null,"житл. нерухомість",10,"ТАК",null,"стягнення заборгованості",null,null,"Позичальник",null,null,null,"Наявні документи кредитної справи",null,null,null,null,"га",null,null,"Гривня",980,null,null,"Автономна Республіка Крим","Алупка",null,null,"Наявне"]
["АКБ Банк","ПАТ \"АКБ Банк\"","331100",41789,41880,null,null,null,null,2,"Севастополь","КРИМ/АТО",null,null,null,"Ф/О право вимоги","Сільське господарство, мисливство та надання пов'язаних із ними послуг",null,null,"Банкрутство",null,null,"ком. нерухомість",11,"НІ",null,"стягнення забезпечення",null,null,"Поручитель",null,null,null,"Наявний кредитний договір",null,null,null,null,"м.кв.",null,null,"Доллар США",840,null,null,"Автономна Республіка Крим","Абрикосівка",null,null,"Відсутнє (реалізовано)"]
["Аксіома","ПАТ \"КБ \"АКСІОМА\"","307305",41922,42034,null,null,null,null,3,"Вінницька","ЦЕНТР",null,null,null,"ФОП право вимоги","Вирощування однорічних і дворічних культур",null,null,"В стані припинення (крім банкрутства)",null,null,"земельні ділянки",12,null,null,"банкрутство",null,null,"Солідарно",null,null,null,"Наяваний договір застави",null,null,null,null,"м.куб.",null,null,"Євро",978,null,null,"Автономна Республіка Крим","Абрикосове",null,null,"Відсутнє (виведено)"]
["Актабанк","ПАТ \"АКТАБАНК\"","307394",41899,42020,null,null,null,null,4,"Волинська","ЗАХІД",null,null,null,"Дебіторська заборгованість","Вирощування зернових культур (крім рису), бобових культур і насіння олійних культур",null,null,"Ліквідовано",null,null,"транспорт",2,null,null,"визнання зобов'язань недійсними",null,null,"3-і особи",null,null,null,"Відсутні документи кредитної справи",null,null,null,null,"т",null,null,"Швейцарські франки",756,null,null,"Автономна Республіка Крим","Аврора (Слов'янська сільська рада)",null,null,"Відсутнє (інше)"]
["Активбанк","ПАТ \"КБ \"АКТИВ - БАНК\"","300852",41885,41996,null,null,null,null,5,"Дніпропетровська","ПІВДЕНЬ",null,null,null,"Майн. права з ЦП","Вирощування рису",null,null,"Санація",null,null,"обладнання",3,null,null,"нікчемність правочину",null,null,null,null,null,null,null,null,null,null,null,"шт.",null,null,"Польські злоті",985,null,null,"Автономна Республіка Крим","Аграрне"]
["АРТЕМ-БАНК","АТ «АРТЕМ-БАНК»","300885",42690,42720,null,null,null,null,6,"Донецька","КРИМ/АТО",null,null,null,"Інше","Вирощування овочів і баштанних культур, коренеплодів і бульбоплодів",null,null,"Інше",null,null,"товари",4,null,null,"інше",null,null,null,null,null,null,null,null,null,null,null,"од.",null,null,"Фунт стерлінгів",826,null,null,"Автономна Республіка Крим","Аерофлотський"]
["БАНК ПЕТРОКОММЕРЦ-УКРАЇНА","ПАТ \"БАНК ПЕТРОКОММЕРЦ-УКРАЇНА\"","300120",42447,42482,null,null,null,null,7,"Житомирська","ЦЕНТР",null,null,null,null,"Вирощування цукрової тростини",null,null,null,null,null,"депозит",5,null,null,"ППР не здійснюється",null,null,null,null,null,null,null,null,null,null,null,null,null,null,"Китайські юані",156,null,null,"Автономна Республіка Крим","Азов"]
["БГ банк","ПАТ \"БГ БАНК\"","320995",41971,42062,null,null,null,null,8,"Закарпатська","ЗАХІД",null,null,null,null,"Вирощування тютюну",null,null,null,null,null,"майнові права",6,null,null,null,null,null,null,null,null,null,null,null,null,null,null,null,null,null,"Рос. рубль",643,null,null,"Автономна Республіка Крим","Азовське"]
["Богуслав","АТ «БАНК БОГУСЛАВ»",380322,null,null,null,null,null,null,9,"Запорізька","ПІВДЕНЬ",null,null,null,null,"Вирощування прядивних культур",null,null,null,null,null,"цінні папери",65,null,null,null,null,null,null,null,null,null,null,null,null,null,null,null,null,null,"мульт. валютн.",777,null,null,"Автономна Республіка Крим","Айвазовське"]
["Брокбізнесбанк","АТ \"БРОКБІЗНЕСБАНК\"","300249",41701,41801,null,null,null,null,10,"Івано_Франківська","ЗАХІД",null,null,null,null,"Вирощування інших однорічних і дворічних культур",null,null,null,null,null,"фінансова порука",7,null,null,null,null,null,null,null,null,null,null,null,null,null,null,null,null,null,null,null,null,null,"Автономна Республіка Крим","Айвове"]
["ВБР","ПАТ \"ВБР\"","380719",41971,42359,null,null,null,null,11,"Київ","ЦЕНТР",null,null,null,null,"Вирощування багаторічних культур",null,null,null,null,null,"беззаставний",8,null,null,null,null,null,null,null,null,null,null,null,null,null,null,null,null,null,null,null,null,null,"Автономна Республіка Крим","Айкаван"]
["ВЕКТОР","ПАТ \"ВЕКТОР БАНК\"","339038",42797,42816,null,null,null,null,12,"Київська","ЦЕНТР",null,null,null,null,"Вирощування винограду",null,null,null,null,null,"інше",9,null,null,null,null,null,null,null,null,null,null,null,null,null,null,null,null,null,null,null,null,null,"Автономна Республіка Крим","Акрополіс"]
["Велес","АТ \"БАНК ВЕЛЕС\"","322799",null,42349,null,null,null,null,13,"Кіровоградська","ЦЕНТР",null,null,null,null,"Вирощування тропічних і субтропічних фруктів",null,null,null,null,null,null,null,null,null,null,null,null,null,null,null,null,null,null,null,null,null,null,null,null,null,null,null,null,"Автономна Республіка Крим","Алмазне"]
["ВіЕйБі","ПАТ \"ВіЕйБі Банк\"","380537",41964,42083,null,null,null,null,14,"Луганська","КРИМ/АТО",null,null,null,null,"Вирощування цитрусових",null,null,null,null,null,null,null,null,null,null,null,null,null,null,null,null,null,null,null,null,null,null,null,null,null,null,null,null,"Автономна Республіка Крим","Алушта"]
["ВТБ банк","АТ «ВТБ БАНК»",321767,43453,44183,null,null,null,null,15,"Львівська","ЗАХІД",null,null,null,null,"Вирощування зерняткових і кісточкових фруктів",null,null,null,null,null,null,null,null,null,null,null,null,null,null,null,null,null,null,null,null,null,null,null,null,null,null,null,null,"Автономна Республіка Крим","Амурське"]
["Грінбанк","ПАТ \"Грін Банк\"","322324",41907,42027,null,null,null,null,16,"Миколаївська","ПІВДЕНЬ",null,null,null,null,"Вирощування ягід, горіхів, інших плодових дерев і чагарників",null,null,null,null,null,null,null,null,null,null,null,null,null,null,null,null,null,null,null,null,null,null,null,null,null,null,null,null,"Автономна Республіка Крим","Ана-Юрт"]
["Даніель","ПАТ \"КБ \"Даніель\"","380980",41656,41745,null,null,null,null,17,"Одеська","ПІВДЕНЬ",null,null,null,null,"Вирощування олійних плодів",null,null,null,null,null,null,null,null,null,null,null,null,null,null,null,null,null,null,null,null,null,null,null,null,null,null,null,null,"Автономна Республіка Крим","Андрусове"]
["Дельта","АТ \"Дельта Банк\"","380236",42066,42279,null,null,null,null,18,"Полтавська","ЦЕНТР",null,null,null,null,"Вирощування культур для виробництва напоїв",null,null,null,null,null,null,null,null,null,null,null,null,null,null,null,null,null,null,null,null,null,null,null,null,null,null,null,null,"Автономна Республіка Крим","Антонівка"]
["Демарк","Банк \"Демарк\"","353575",41911,42034,null,null,null,null,19,"Рівненська","ЗАХІД",null,null,null,null,"Вирощування пряних, ароматичних і лікарських культур",null,null,null,null,null,null,null,null,null,null,null,null,null,null,null,null,null,null,null,null,null,null,null,null,null,null,null,null,"Автономна Республіка Крим","Апрелівка"]
["ДЕРЖЗЕМБАНК","ПАТ «ДЕРЖЗЕМБАНК»","380968",42578,42640,null,null,null,null,20,"Сумська","СХІД",null,null,null,null,"Вирощування інших багаторічних культур",null,null,null,null,null,null,null,null,null,null,null,null,null,null,null,null,null,null,null,null,null,null,null,null,null,null,null,null,"Автономна Республіка Крим","Арбузівка"]
["ДІАМАНТБАНК","ПАТ \"ДІАМАНТБАНК\"","320854",42849,42910,null,null,null,null,21,"Тернопільська","ЗАХІД",null,null,null,null,"Відтворення рослин",null,null,null,null,null,null,null,null,null,null,null,null,null,null,null,null,null,null,null,null,null,null,null,null,null,null,null,null,"Автономна Республіка Крим","Арбузове"]
["Експобанк","АТ \"КБ \"ЕКСПОБАНК\"","322294",41907,42030,null,null,null,null,22,"Харківська","СХІД",null,null,null,null,"Відтворення рослин",null,null,null,null,null,null,null,null,null,null,null,null,null,null,null,null,null,null,null,null,null,null,null,null,null,null,null,null,"Автономна Республіка Крим","Аркадіївка"]
["Енергобанк","ПАТ \"ЕНЕРГОБАНК\"","300272",42048,42167,null,null,null,null,23,"Херсонська","ПІВДЕНЬ",null,null,null,null,"Тваринництво",null,null,null,null,null,null,null,null,null,null,null,null,null,null,null,null,null,null,null,null,null,null,null,null,null,null,null,null,"Автономна Республіка Крим","Армійське"]
["ЕРДЕ банк","АТ \"ЕРДЕ БАНК\"","380667",41212,41283,null,null,null,null,24,"Хмельницька","ЦЕНТР",null,null,null,null,"Розведення великої рогатої худоби молочних порід",null,null,null,null,null,null,null,null,null,null,null,null,null,null,null,null,null,null,null,null,null,null,null,null,null,null,null,null,"Автономна Республіка Крим","Армянськ"]
["Євробанк","ПАТ \"КБ \"ЄВРОБАНК\"","380355",42538,42599,null,null,null,null,25,"Черкаська","ЦЕНТР",null,null,null,null,"Розведення іншої великої рогатої худоби та буйволів",null,null,null,null,null,null,null,null,null,null,null,null,null,null,null,null,null,null,null,null,null,null,null,null,null,null,null,null,"Автономна Республіка Крим","Аромат"]
["Єврогазбанк","АТ \"ЄВРОГАЗБАНК\"","380430",41837,41961,null,null,null,null,26,"Чернівецька","ЗАХІД",null,null,null,null,"Розведення коней та інших тварин родини конячих",null,null,null,null,null,null,null,null,null,null,null,null,null,null,null,null,null,null,null,null,null,null,null,null,null,null,null,null,"Автономна Республіка Крим","Ароматне"]
["Західінкомбанк","ПАТ \"Західінкомбанк\"","303484",41788,41843,null,null,null,null,27,"Чернігівська","СХІД",null,null,null,null,"Розведення верблюдів та інших тварин родини верблюдячих",null,null,null,null,null,null,null,null,null,null,null,null,null,null,null,null,null,null,null,null,null,null,null,null,null,null,null,null,"Автономна Республіка Крим","Артемівка"]
["Златобанк","АТ \"ЗЛАТОБАНК\"","380612",42049,42137,null,null,null,null,null,null,null,null,null,null,null,"Розведення овець і кіз",null,null,null,null,null,null,null,null,null,null,null,null,null,null,null,null,null,null,null,null,null,null,null,null,null,null,null,null,"Автономна Республіка Крим","Бабенкове"]
["Золоті ворота","АТ \"БАНК ЗОЛОТІ ВОРОТА\"","351931",41855,41978,null,null,null,null,null,null,null,null,null,null,null,"Розведення свиней",null,null,null,null,null,null,null,null,null,null,null,null,null,null,null,null,null,null,null,null,null,null,null,null,null,null,null,null,"Автономна Республіка Крим","Багата Ущелина"]
["Імексбанк","АТ \"ІМЕКСБАНК\"","328384",42031,42151,null,null,null,null,null,null,null,null,null,null,null,"Розведення свійської птиці",null,null,null,null,null,null,null,null,null,null,null,null,null,null,null,null,null,null,null,null,null,null,null,null,null,null,null,null,"Автономна Республіка Крим","Багате"]
["ІНВЕСТБАНК","ПАТ \"КБ \"ІНВЕСТБАНК\"","328210",42720,42748,null,null,null,null,null,null,null,null,null,null,null,"Розведення інших тварин",null,null,null,null,null,null,null,null,null,null,null,null,null,null,null,null,null,null,null,null,null,null,null,null,null,null,null,null,"Автономна Республіка Крим","Багатівка"]
["Інтеграл банк","ПАТ \"Інтеграл-банк\"","320735",42263,42335,null,null,null,null,null,null,null,null,null,null,null,"Змішане сільське господарство",null,null,null,null,null,null,null,null,null,null,null,null,null,null,null,null,null,null,null,null,null,null,null,null,null,null,null,null,"Автономна Республіка Крим","Багерове"]
["Інтербанк","ПАТ КБ \"ІНТЕРБАНК\"","300216",41753,41843,null,null,null,null,null,null,null,null,null,null,null,"Змішане сільське господарство",null,null,null,null,null,null,null,null,null,null,null,null,null,null,null,null,null,null,null,null,null,null,null,null,null,null,null,null,"Автономна Республіка Крим","Баланове"]
["Інтеркредит банк","ПАТ \"ІнтерКредитБанк\"","307424",41922,42021,null,null,null,null,null,null,null,null,null,null,null,"Допоміжна діяльність у сільському господарстві та післяурожайна діяльність",null,null,null,null,null,null,null,null,null,null,null,null,null,null,null,null,null,null,null,null,null,null,null,null,null,null,null,null,"Автономна Республіка Крим","Балки"]
["Камбіо","ПАТ \"Банк Камбіо\"","380399",41978,42065,null,null,null,null,null,null,null,null,null,null,null,"Допоміжна діяльність у рослинництві",null,null,null,null,null,null,null,null,null,null,null,null,null,null,null,null,null,null,null,null,null,null,null,null,null,null,null,null,"Автономна Республіка Крим","Барабанове"]
["Київ","ПАТ \"АКБ \"КИЇВ\"","322498",42060,42180,null,null,null,null,null,null,null,null,null,null,null,"Допоміжна діяльність у тваринництві",null,null,null,null,null,null,null,null,null,null,null,null,null,null,null,null,null,null,null,null,null,null,null,null,null,null,null,null,"Автономна Республіка Крим","Барсове"]
["Київськая Русь","ПАТ \"Банк \"Київська Русь\"","319092",42083,42202,null,null,null,null,null,null,null,null,null,null,null,"Післяурожайна діяльність",null,null,null,null,null,null,null,null,null,null,null,null,null,null,null,null,null,null,null,null,null,null,null,null,null,null,null,null,"Автономна Республіка Крим","Батальне"]
["КЛАСИКБАНК","ПАТ «КЛАСИКБАНК»","306704",42536,42594,null,null,null,null,null,null,null,null,null,null,null,"Оброблення насіння для відтворення",null,null,null,null,null,null,null,null,null,null,null,null,null,null,null,null,null,null,null,null,null,null,null,null,null,null,null,null,"Автономна Республіка Крим","Бахчисарай"]
["Контракт","ПАТ Банк \"Контракт\"","322465",42284,42349,null,null,null,null,null,null,null,null,null,null,null,"Мисливство, відловлювання тварин і надання пов'язаних із ними послуг",null,null,null,null,null,null,null,null,null,null,null,null,null,null,null,null,null,null,null,null,null,null,null,null,null,null,null,null,"Автономна Республіка Крим","Бахчівка (Серебрянська сільська рада)"]
["Кредитпромбанк","ПАТ \"КРЕДИТПРОМБАНК\"","300863",42066,42158,null,null,null,null,null,null,null,null,null,null,null,"Мисливство, відловлювання тварин і надання пов'язаних із ними послуг",null,null,null,null,null,null,null,null,null,null,null,null,null,null,null,null,null,null,null,null,null,null,null,null,null,null,null,null,"Автономна Республіка Крим","Баштанівка"]
["Легбанк","ПАТ \"Легбанк\"","300056",41971,42062,null,null,null,null,null,null,null,null,null,null,null,"Лісове господарство та лісозаготівлі",null,null,null,null,null,null,null,null,null,null,null,null,null,null,null,null,null,null,null,null,null,null,null,null,null,null,null,null,"Автономна Республіка Крим","Берегове"]
["Меліор","ПАТ \"МЕЛІОР БАНК\"","307435",41922,42046,null,null,null,null,null,null,null,null,null,null,null,"Лісівництво та інша діяльність у лісовому господарстві",null,null,null,null,null,null,null,null,null,null,null,null,null,null,null,null,null,null,null,null,null,null,null,null,null,null,null,null,"Автономна Республіка Крим","Березівка"]
["Меркурій","АТ БАНК \"МЕРКУРІЙ\"","351663",41712,41802,null,null,null,null,null,null,null,null,null,null,null,"Лісівництво та інша діяльність у лісовому господарстві",null,null,null,null,null,null,null,null,null,null,null,null,null,null,null,null,null,null,null,null,null,null,null,null,null,null,null,null,"Автономна Республіка Крим","Бєлінське"]
["Михайлівський","ПАТ \"БАНК МИХАЙЛІВСЬКИЙ\"","380935",42513,42564,null,null,null,null,null,null,null,null,null,null,null,"Лісозаготівлі",null,null,null,null,null,null,null,null,null,null,null,null,null,null,null,null,null,null,null,null,null,null,null,null,null,null,null,null,"Автономна Республіка Крим","Біла Скеля"]
["Міський комерційний банк","ПАТ \"МІСЬКИЙ КОМЕРЦІЙНИЙ БАНК\"","339339",41964,42083,null,null,null,null,null,null,null,null,null,null,null,"Лісозаготівлі",null,null,null,null,null,null,null,null,null,null,null,null,null,null,null,null,null,null,null,null,null,null,null,null,null,null,null,null,"Автономна Республіка Крим","Білогірськ"]
["Надра","ПАТ \"КБ \"Надра\"","380764",42041,42160,null,null,null,null,null,null,null,null,null,null,null,"Збирання дикорослих недеревних продуктів",null,null,null,null,null,null,null,null,null,null,null,null,null,null,null,null,null,null,null,null,null,null,null,null,null,null,null,null,"Автономна Республіка Крим","Білоглинка"]
["Національний кредит","\"БАНК НАЦІОНАЛЬНИЙ КРЕДИТ\"","320702",42163,42247,null,null,null,null,null,null,null,null,null,null,null,"Збирання дикорослих недеревних продуктів",null,null,null,null,null,null,null,null,null,null,null,null,null,null,null,null,null,null,null,null,null,null,null,null,null,null,null,null,"Автономна Республіка Крим","Білокам'яне"]
["Національні інвестиції","БАНК НАЦІОНАЛЬНІ ІНВЕСТИЦІЇ","300498",42265,42339,null,null,null,null,null,null,null,null,null,null,null,"Надання допоміжних послуг у лісовому господарстві",null,null,null,null,null,null,null,null,null,null,null,null,null,null,null,null,null,null,null,null,null,null,null,null,null,null,null,null,"Автономна Республіка Крим","Бітумне (Гресівська)"]
["НК БАНК","АТ \"БАНК НАРОДНИЙ КАПІТАЛ\"","322432",42755,42803,null,null,null,null,null,null,null,null,null,null,null,"Надання допоміжних послуг у лісовому господарстві",null,null,null,null,null,null,null,null,null,null,null,null,null,null,null,null,null,null,null,null,null,null,null,null,null,null,null,null,"Автономна Республіка Крим","Благодатне"]
["Новий","ПАТ АКБ Новий",305062,null,null,null,null,null,null,null,null,null,null,null,null,null,"Рибне господарство",null,null,null,null,null,null,null,null,null,null,null,null,null,null,null,null,null,null,null,null,null,null,null,null,null,null,null,null,"Автономна Республіка Крим","Ближнє"]
["Омега","ПАТ \"ОМЕГА БАНК\"","300164",42066,42191,null,null,null,null,null,null,null,null,null,null,null,"Рибальство",null,null,null,null,null,null,null,null,null,null,null,null,null,null,null,null,null,null,null,null,null,null,null,null,null,null,null,null,"Автономна Республіка Крим","Ближньогородське"]
["Південкомбанк","ПАТ \"КБ \"ПІВДЕНКОМБАНК\"","335946",41785,41908,null,null,null,null,null,null,null,null,null,null,null,"Морське рибальство",null,null,null,null,null,null,null,null,null,null,null,null,null,null,null,null,null,null,null,null,null,null,null,null,null,null,null,null,"Автономна Республіка Крим","Богатир"]
["Платинум Банк","ПАТ \"Платинум Банк\"","380388",42746,42790,null,null,null,null,null,null,null,null,null,null,null,"Прісноводне рибальство",null,null,null,null,null,null,null,null,null,null,null,null,null,null,null,null,null,null,null,null,null,null,null,null,null,null,null,null,"Автономна Республіка Крим","Богачівка (Магазинська)"]
["Праймбанк","ПАТ \"ПРАЙМ-БАНК\"","300669",41915,42018,null,null,null,null,null,null,null,null,null,null,null,"Рибництво (аквакультура)",null,null,null,null,null,null,null,null,null,null,null,null,null,null,null,null,null,null,null,null,null,null,null,null,null,null,null,null,"Автономна Республіка Крим","Болотне"]
["Промекономбанк","ПАТ \"КБ \"ПРОМЕКОНОМБАНК\"","334992",41781,41890,null,null,null,null,null,null,null,null,null,null,null,"Морське рибництво (аквакультура)",null,null,null,null,null,null,null,null,null,null,null,null,null,null,null,null,null,null,null,null,null,null,null,null,null,null,null,null,"Автономна Республіка Крим","Бондаренкове"]
["Профінбанк","ПАТ \"ПРОФІН БАНК\"","334594",42024,42114,null,null,null,null,null,null,null,null,null,null,null,"Прісноводне рибництво (аквакультура)",null,null,null,null,null,null,null,null,null,null,null,null,null,null,null,null,null,null,null,null,null,null,null,null,null,null,null,null,"Автономна Республіка Крим","Борисівка"]
["Радикал","ПАТ \"РАДИКАЛ БАНК\"","319111",42195,42318,null,null,null,null,null,null,null,null,null,null,null,"Добувна промисловість і розроблення кар'єрів",null,null,null,null,null,null,null,null,null,null,null,null,null,null,null,null,null,null,null,null,null,null,null,null,null,null,null,null,"Автономна Республіка Крим","Бородіно"]
["Реал банк","ПАТ \"РЕАЛ БАНК\"","351588",41701,41780,null,null,null,null,null,null,null,null,null,null,null,"Добування кам'яного та бурого вугілля",null,null,null,null,null,null,null,null,null,null,null,null,null,null,null,null,null,null,null,null,null,null,null,null,null,null,null,null,"Автономна Республіка Крим","Ботанічне"]
["Смартбанк","ПУАТ «СМАРТБАНК»","380786",42515,42576,null,null,null,null,null,null,null,null,null,null,null,"Добування кам'яного вугілля",null,null,null,null,null,null,null,null,null,null,null,null,null,null,null,null,null,null,null,null,null,null,null,null,null,null,null,null,"Автономна Республіка Крим","Братське"]
["Софіївський","ПАТ \"Банк \"Софійський\"","380861",42361,42485,null,null,null,null,null,null,null,null,null,null,null,"Добування кам'яного вугілля",null,null,null,null,null,null,null,null,null,null,null,null,null,null,null,null,null,null,null,null,null,null,null,null,null,null,null,null,"Автономна Республіка Крим","Братське (Братської)"]
["Стандарт","ПАТ КБ \"СТАНДАРТ\"","380690",42055,42174,null,null,null,null,null,null,null,null,null,null,null,"Добування бурого вугілля",null,null,null,null,null,null,null,null,null,null,null,null,null,null,null,null,null,null,null,null,null,null,null,null,null,null,null,null,"Автономна Республіка Крим","Брянське"]
["Старокиївський","ПАТ \"СТАРОКИЇВСЬКИЙ БАНК\"","321477",41808,41900,null,null,null,null,null,null,null,null,null,null,null,"Добування бурого вугілля",null,null,null,null,null,null,null,null,null,null,null,null,null,null,null,null,null,null,null,null,null,null,null,null,null,null,null,null,"Автономна Республіка Крим","Буревісник"]
["Столичний","ПАТ АБ \"СТОЛИЧНИЙ\"","397133",42195,42265,null,null,null,null,null,null,null,null,null,null,null,"Добування сирої нафти та природного газу",null,null,null,null,null,null,null,null,null,null,null,null,null,null,null,null,null,null,null,null,null,null,null,null,null,null,null,null,"Автономна Республіка Крим","Валентинове (Кримська)"]
["Таврика","АТ \"БАНК \"ТАВРИКА\"","300788",41264,41354,null,null,null,null,null,null,null,null,null,null,null,"Добування сирої нафти",null,null,null,null,null,null,null,null,null,null,null,null,null,null,null,null,null,null,null,null,null,null,null,null,null,null,null,null,"Автономна Республіка Крим","Варварівка"]
["Терра банк","ПАТ \"ТЕРРА БАНК\"","380601",41873,41997,null,null,null,null,null,null,null,null,null,null,null,"Добування сирої нафти",null,null,null,null,null,null,null,null,null,null,null,null,null,null,null,null,null,null,null,null,null,null,null,null,null,null,null,null,"Автономна Республіка Крим","Василькове"]
["ТК Кредит","АТ КБ \"ТК Кредит\"","322830",42410,42468,null,null,null,null,null,null,null,null,null,null,null,"Добування природного газу",null,null,null,null,null,null,null,null,null,null,null,null,null,null,null,null,null,null,null,null,null,null,null,null,null,null,null,null,"Автономна Республіка Крим","Велике (Суворовська)"]
["ТРАСТ","ПАТ БАНК \"ТРАСТ\"","380474",42711,42734,null,null,null,null,null,null,null,null,null,null,null,"Добування природного газу",null,null,null,null,null,null,null,null,null,null,null,null,null,null,null,null,null,null,null,null,null,null,null,null,null,null,null,null,"Автономна Республіка Крим","Велике Садове (Куйбишевська)"]
["Укоопспілка","АБ \"УКООПСПІЛКА\"","322625",42027,42117,null,null,null,null,null,null,null,null,null,null,null,"Добування металевих руд",null,null,null,null,null,null,null,null,null,null,null,null,null,null,null,null,null,null,null,null,null,null,null,null,null,null,null,null,"Автономна Республіка Крим","Великосілля"]
["Укрбізнесбанк","ПАТ \"УКРБІЗНЕСБАНК\"","334969",41999,42118,null,null,null,null,null,null,null,null,null,null,null,"Добування залізних руд",null,null,null,null,null,null,null,null,null,null,null,null,null,null,null,null,null,null,null,null,null,null,null,null,null,null,null,null,"Автономна Республіка Крим","Вересаєве"]
["Укргазпромбанк","ПАТ \"УКРГАЗПРОМБАНК\"","320843",42102,42262,null,null,null,null,null,null,null,null,null,null,null,"Добування залізних руд",null,null,null,null,null,null,null,null,null,null,null,null,null,null,null,null,null,null,null,null,null,null,null,null,null,null,null,null,"Автономна Республіка Крим","Верхні Орішники"]
["Укрінбанк","ПАТ \"УКРІНБАНК\"","300142",42363,42452,null,null,null,null,null,null,null,null,null,null,null,"Добування руд кольорових металів",null,null,null,null,null,null,null,null,null,null,null,null,null,null,null,null,null,null,null,null,null,null,null,null,null,null,null,null,"Автономна Республіка Крим","Верхня Кутузовка"]
["Унікомбанк","ПАТ \"УНІКОМБАНК\"","335902",42293,42342,null,null,null,null,null,null,null,null,null,null,null,"Добування уранових і торієвих руд",null,null,null,null,null,null,null,null,null,null,null,null,null,null,null,null,null,null,null,null,null,null,null,null,null,null,null,null,"Автономна Республіка Крим","Верхньозаморське"]
["УПБ","ПАТ \"УПБ\"","300205",42153,42247,null,null,null,null,null,null,null,null,null,null,null,"Добування руд інших кольорових металів",null,null,null,null,null,null,null,null,null,null,null,null,null,null,null,null,null,null,null,null,null,null,null,null,null,null,null,null,"Автономна Республіка Крим","Верхньокурганне"]
["УФС","ПАТ \"КБ \"УФС\"","377777",41866,41956,null,null,null,null,null,null,null,null,null,null,null,"Добування інших корисних копалин та розроблення кар'єрів",null,null,null,null,null,null,null,null,null,null,null,null,null,null,null,null,null,null,null,null,null,null,null,null,null,null,null,null,"Автономна Республіка Крим","Верхоріччя"]
["ФІДОБАНК","ПУАТ «ФІДОБАНК»","300175",42510,42571,null,null,null,null,null,null,null,null,null,null,null,"Добування каменю, піску та глини",null,null,null,null,null,null,null,null,null,null,null,null,null,null,null,null,null,null,null,null,null,null,null,null,null,null,null,null,"Автономна Республіка Крим","Вершинне"]
["Фінанси та кредит","АТ \"БАНК \"ФІНАНСИ ТА КРЕДИТ\"","300131",42265,42355,null,null,null,null,null,null,null,null,null,null,null,"Добування декоративного та будівельного каменю, вапняку, гіпсу, крейди та глинистого сланцю",null,null,null,null,null,null,null,null,null,null,null,null,null,null,null,null,null,null,null,null,null,null,null,null,null,null,null,null,"Автономна Республіка Крим","Веселе"]
["ФІНБАНК","ПАТ \"ФІНБАНК\"","328685",42832,42852,null,null,null,null,null,null,null,null,null,null,null,"Добування піску, гравію, глин і каоліну",null,null,null,null,null,null,null,null,null,null,null,null,null,null,null,null,null,null,null,null,null,null,null,null,null,null,null,null,"Автономна Республіка Крим","Веселівка"]
["Фінростбанк","АТ \"ФІНРОСТБАНК\"","328599",41836,41928,null,null,null,null,null,null,null,null,null,null,null,"Добування корисних копалин та розроблення кар'єрів, н.в.і.у.",null,null,null,null,null,null,null,null,null,null,null,null,null,null,null,null,null,null,null,null,null,null,null,null,null,null,null,null,"Автономна Республіка Крим","Видне"]
["ФОРТУНА-БАНК","АТ \"ФОРТУНА-БАНК\"","300904",42762,42788,null,null,null,null,null,null,null,null,null,null,null,"Добування мінеральної сировини для хімічної промисловості та виробництва мінеральних добрив",null,null,null,null,null,null,null,null,null,null,null,null,null,null,null,null,null,null,null,null,null,null,null,null,null,null,null,null,"Автономна Республіка Крим","Виноградне"]
["Форум","ПАТ \"БАНК ФОРУМ\"","322948",41712,41806,null,null,null,null,null,null,null,null,null,null,null,"Добування торфу",null,null,null,null,null,null,null,null,null,null,null,null,null,null,null,null,null,null,null,null,null,null,null,null,null,null,null,null,"Автономна Республіка Крим","Виноградний"]
["Хрещатик","ПАТ \"КБ \"Хрещатик\"","300670",42465,42524,null,null,null,null,null,null,null,null,null,null,null,"Добування солі",null,null,null,null,null,null,null,null,null,null,null,null,null,null,null,null,null,null,null,null,null,null,null,null,null,null,null,null,"Автономна Республіка Крим","Виноградове"]
["Юніон стандарт банк","ПАТ \"ЮСБ БАНК\"","305987",42280,42366,null,null,null,null,null,null,null,null,null,null,null,"Добування інших корисних копалин та розроблення кар'єрів, н.в.і.у.",null,null,null,null,null,null,null,null,null,null,null,null,null,null,null,null,null,null,null,null,null,null,null,null,null,null,null,null,"Автономна Республіка Крим","Випасне"]
["Родовід","АТ «РОДОВІД БАНК»","321712",43089,43089,null,null,null,null,null,null,null,null,null,null,null,"Надання допоміжних послуг у сфері добувної промисловості та розроблення кар'єрів",null,null,null,null,null,null,null,null,null,null,null,null,null,null,null,null,null,null,null,null,null,null,null,null,null,null,null,null,"Автономна Республіка Крим","Високогірне"]
[null,null,null,null,null,null,null,null,null,null,null,null,null,null,null,null,"Надання допоміжних послуг у сфері добування нафти та природного газу",null,null,null,null,null,null,null,null,null,null,null,null,null,null,null,null,null,null,null,null,null,null,null,null,null,null,null,null,"Автономна Республіка Крим","Вишенне"]
[null,null,null,null,null,null,null,null,null,null,null,null,null,null,null,null,"Надання допоміжних послуг у сфері добування нафти та природного газу",null,null,null,null,null,null,null,null,null,null,null,null,null,null,null,null,null,null,null,null,null,null,null,null,null,null,null,null,"Автономна Республіка Крим","Вишнівка (Вишнівської)"]
[null,null,null,null,null,null,null,null,null,null,null,null,null,null,null,null,"Надання допоміжних послуг у сфері добування інших корисних копалин та розроблення кар'єрів",null,null,null,null,null,null,null,null,null,null,null,null,null,null,null,null,null,null,null,null,null,null,null,null,null,null,null,null,"Автономна Республіка Крим","Вишняківка"]
[null,null,null,null,null,null,null,null,null,null,null,null,null,null,null,null,"Надання допоміжних послуг у сфері добування інших корисних копалин та розроблення кар'єрів",null,null,null,null,null,null,null,null,null,null,null,null,null,null,null,null,null,null,null,null,null,null,null,null,null,null,null,null,"Автономна Республіка Крим","Відважне"]
[null,null,null,null,null,null,null,null,null,null,null,null,null,null,null,null,"Переробна промисловість",null,null,null,null,null,null,null,null,null,null,null,null,null,null,null,null,null,null,null,null,null,null,null,null,null,null,null,null,"Автономна Республіка Крим","Відкрите"]
[null,null,null,null,null,null,null,null,null,null,null,null,null,null,null,null,"Виробництво харчових продуктів",null,null,null,null,null,null,null,null,null,null,null,null,null,null,null,null,null,null,null,null,null,null,null,null,null,null,null,null,"Автономна Республіка Крим","Відрадне"]
[null,null,null,null,null,null,null,null,null,null,null,null,null,null,null,null,"Виробництво м'яса та м'ясних продуктів",null,null,null,null,null,null,null,null,null,null,null,null,null,null,null,null,null,null,null,null,null,null,null,null,null,null,null,null,"Автономна Республіка Крим","Відродження"]
[null,null,null,null,null,null,null,null,null,null,null,null,null,null,null,null,"Виробництво м'яса",null,null,null,null,null,null,null,null,null,null,null,null,null,null,null,null,null,null,null,null,null,null,null,null,null,null,null,null,"Автономна Республіка Крим","Вікторівка"]
[null,null,null,null,null,null,null,null,null,null,null,null,null,null,null,null,"Виробництво м'яса свійської птиці",null,null,null,null,null,null,null,null,null,null,null,null,null,null,null,null,null,null,null,null,null,null,null,null,null,null,null,null,"Автономна Республіка Крим","Віліне"]
[null,null,null,null,null,null,null,null,null,null,null,null,null,null,null,null,"Виробництво м'ясних продуктів",null,null,null,null,null,null,null,null,null,null,null,null,null,null,null,null,null,null,null,null,null,null,null,null,null,null,null,null,"Автономна Республіка Крим","Вільне"]
[null,null,null,null,null,null,null,null,null,null,null,null,null,null,null,null,"Перероблення та консервування риби, ракоподібних і молюсків",null,null,null,null,null,null,null,null,null,null,null,null,null,null,null,null,null,null,null,null,null,null,null,null,null,null,null,null,"Автономна Республіка Крим","Вітвисте (Єрмаковська)"]
[null,null,null,null,null,null,null,null,null,null,null,null,null,null,null,null,"Перероблення та консервування риби, ракоподібних і молюсків",null,null,null,null,null,null,null,null,null,null,null,null,null,null,null,null,null,null,null,null,null,null,null,null,null,null,null,null,"Автономна Республіка Крим","Вітіне"]
[null,null,null,null,null,null,null,null,null,null,null,null,null,null,null,null,"Перероблення та консервування фруктів і овочів",null,null,null,null,null,null,null,null,null,null,null,null,null,null,null,null,null,null,null,null,null,null,null,null,null,null,null,null,"Автономна Республіка Крим","Вітрівка (Виноградівська)"]
[null,null,null,null,null,null,null,null,null,null,null,null,null,null,null,null,"Перероблення та консервування картоплі",null,null,null,null,null,null,null,null,null,null,null,null,null,null,null,null,null,null,null,null,null,null,null,null,null,null,null,null,"Автономна Республіка Крим","Вітрянка (Ковильнівська сільська рада)"]
[null,null,null,null,null,null,null,null,null,null,null,null,null,null,null,null,"Виробництво фруктових і овочевих соків",null,null,null,null,null,null,null,null,null,null,null,null,null,null,null,null,null,null,null,null,null,null,null,null,null,null,null,null,"Автономна Республіка Крим","Владиславівка"]
[null,null,null,null,null,null,null,null,null,null,null,null,null,null,null,null," Інші види перероблення та консервування фруктів і овочів",null,null,null,null,null,null,null,null,null,null,null,null,null,null,null,null,null,null,null,null,null,null,null,null,null,null,null,null,"Автономна Республіка Крим","Владне"]
[null,null,null,null,null,null,null,null,null,null,null,null,null,null,null,null,"Виробництво олії та тваринних жирів",null,null,null,null,null,null,null,null,null,null,null,null,null,null,null,null,null,null,null,null,null,null,null,null,null,null,null,null,"Автономна Республіка Крим","Внукове"]
[null,null,null,null,null,null,null,null,null,null,null,null,null,null,null,null,"Виробництво олії та тваринних жирів",null,null,null,null,null,null,null,null,null,null,null,null,null,null,null,null,null,null,null,null,null,null,null,null,null,null,null,null,"Автономна Республіка Крим","Вогневе (Кольцовська)"]
[null,null,null,null,null,null,null,null,null,null,null,null,null,null,null,null,"Виробництво маргарину і подібних харчових жирів",null,null,null,null,null,null,null,null,null,null,null,null,null,null,null,null,null,null,null,null,null,null,null,null,null,null,null,null,"Автономна Республіка Крим","Вогні (Кукушкінська сільська рада)"]
[null,null,null,null,null,null,null,null,null,null,null,null,null,null,null,null,"Виробництво молочних продуктів",null,null,null,null,null,null,null,null,null,null,null,null,null,null,null,null,null,null,null,null,null,null,null,null,null,null,null,null,"Автономна Республіка Крим","Водне"]
[null,null,null,null,null,null,null,null,null,null,null,null,null,null,null,null,"Перероблення молока, виробництво масла та сиру",null,null,null,null,null,null,null,null,null,null,null,null,null,null,null,null,null,null,null,null,null,null,null,null,null,null,null,null,"Автономна Республіка Крим","Водопійне"]
[null,null,null,null,null,null,null,null,null,null,null,null,null,null,null,null,"Виробництво морозива",null,null,null,null,null,null,null,null,null,null,null,null,null,null,null,null,null,null,null,null,null,null,null,null,null,null,null,null,"Автономна Республіка Крим","Водопійне (Сизівська)"]
[null,null,null,null,null,null,null,null,null,null,null,null,null,null,null,null,"Виробництво продуктів борошномельно-круп'яної промисловості, крохмалів та крохмальних продуктів",null,null,null,null,null,null,null,null,null,null,null,null,null,null,null,null,null,null,null,null,null,null,null,null,null,null,null,null,"Автономна Республіка Крим","Войкове"]
[null,null,null,null,null,null,null,null,null,null,null,null,null,null,null,null,"Виробництво продуктів борошномельно-круп'яної промисловості",null,null,null,null,null,null,null,null,null,null,null,null,null,null,null,null,null,null,null,null,null,null,null,null,null,null,null,null,"Автономна Республіка Крим","Воїнка (Воїнська)"]
[null,null,null,null,null,null,null,null,null,null,null,null,null,null,null,null,"Виробництво крохмалів та крохмальних продуктів",null,null,null,null,null,null,null,null,null,null,null,null,null,null,null,null,null,null,null,null,null,null,null,null,null,null,null,null,"Автономна Республіка Крим","Володимирівка"]
[null,null,null,null,null,null,null,null,null,null,null,null,null,null,null,null,"Виробництво хліба, хлібобулочних і борошняних виробів",null,null,null,null,null,null,null,null,null,null,null,null,null,null,null,null,null,null,null,null,null,null,null,null,null,null,null,null,"Автономна Республіка Крим","Володимирове"]
[null,null,null,null,null,null,null,null,null,null,null,null,null,null,null,null,"Виробництво хліба та хлібобулочних виробів; виробництво борошняних кондитерських виробів, тортів і тістечок нетривалого зберігання",null,null,null,null,null,null,null,null,null,null,null,null,null,null,null,null,null,null,null,null,null,null,null,null,null,null,null,null,"Автономна Республіка Крим","Володине"]
[null,null,null,null,null,null,null,null,null,null,null,null,null,null,null,null,"Виробництво сухарів і сухого печива; виробництво борошняних кондитерських виробів, тортів і тістечок тривалого зберігання",null,null,null,null,null,null,null,null,null,null,null,null,null,null,null,null,null,null,null,null,null,null,null,null,null,null,null,null,"Автономна Республіка Крим","Волочаївка (Ковильнівська сільська рада)"]
[null,null,null,null,null,null,null,null,null,null,null,null,null,null,null,null,"Виробництво макаронних виробів та подібних борошняних виробів",null,null,null,null,null,null,null,null,null,null,null,null,null,null,null,null,null,null,null,null,null,null,null,null,null,null,null,null,"Автономна Республіка Крим","Волошине (Суворівської)"]
[null,null,null,null,null,null,null,null,null,null,null,null,null,null,null,null,"Виробництво інших харчових продуктів",null,null,null,null,null,null,null,null,null,null,null,null,null,null,null,null,null,null,null,null,null,null,null,null,null,null,null,null,"Автономна Республіка Крим","Воробйове"]
[null,null,null,null,null,null,null,null,null,null,null,null,null,null,null,null,"Виробництво цукру",null,null,null,null,null,null,null,null,null,null,null,null,null,null,null,null,null,null,null,null,null,null,null,null,null,null,null,null,"Автономна Республіка Крим","Ворон"]
[null,null,null,null,null,null,null,null,null,null,null,null,null,null,null,null,"Виробництво какао, шоколаду та цукрових кондитерських виробів",null,null,null,null,null,null,null,null,null,null,null,null,null,null,null,null,null,null,null,null,null,null,null,null,null,null,null,null,"Автономна Республіка Крим","Воронки (Зиминська сільська рада)"]
[null,null,null,null,null,null,null,null,null,null,null,null,null,null,null,null,"Виробництво чаю та кави",null,null,null,null,null,null,null,null,null,null,null,null,null,null,null,null,null,null,null,null,null,null,null,null,null,null,null,null,"Автономна Республіка Крим","Воронцівка (Ільїнської)"]
[null,null,null,null,null,null,null,null,null,null,null,null,null,null,null,null,"Виробництво прянощів і приправ",null,null,null,null,null,null,null,null,null,null,null,null,null,null,null,null,null,null,null,null,null,null,null,null,null,null,null,null,"Автономна Республіка Крим","Восточне"]
[null,null,null,null,null,null,null,null,null,null,null,null,null,null,null,null,"Виробництво готової їжі та страв",null,null,null,null,null,null,null,null,null,null,null,null,null,null,null,null,null,null,null,null,null,null,null,null,null,null,null,null,"Автономна Республіка Крим","Восход"]
[null,null,null,null,null,null,null,null,null,null,null,null,null,null,null,null,"Виробництво дитячого харчування та дієтичних харчових продуктів",null,null,null,null,null,null,null,null,null,null,null,null,null,null,null,null,null,null,null,null,null,null,null,null,null,null,null,null,"Автономна Республіка Крим","Вузлове"]
[null,null,null,null,null,null,null,null,null,null,null,null,null,null,null,null,"Виробництво інших харчових продуктів, н.в.і.у.",null,null,null,null,null,null,null,null,null,null,null,null,null,null,null,null,null,null,null,null,null,null,null,null,null,null,null,null,"Автономна Республіка Крим","Вулканівка"]
[null,null,null,null,null,null,null,null,null,null,null,null,null,null,null,null,"Виробництво готових кормів для тварин",null,null,null,null,null,null,null,null,null,null,null,null,null,null,null,null,null,null,null,null,null,null,null,null,null,null,null,null,"Автономна Республіка Крим","В'язникове"]
[null,null,null,null,null,null,null,null,null,null,null,null,null,null,null,null,"Виробництво готових кормів для тварин, що утримуються на фермах",null,null,null,null,null,null,null,null,null,null,null,null,null,null,null,null,null,null,null,null,null,null,null,null,null,null,null,null,"Автономна Республіка Крим","Гаршине"]
[null,null,null,null,null,null,null,null,null,null,null,null,null,null,null,null,"Виробництво готових кормів для домашніх тварин",null,null,null,null,null,null,null,null,null,null,null,null,null,null,null,null,null,null,null,null,null,null,null,null,null,null,null,null,"Автономна Республіка Крим","Гаспра"]
[null,null,null,null,null,null,null,null,null,null,null,null,null,null,null,null,"Виробництво напоїв",null,null,null,null,null,null,null,null,null,null,null,null,null,null,null,null,null,null,null,null,null,null,null,null,null,null,null,null,"Автономна Республіка Крим","Гвардійське (Гвардійської)"]
[null,null,null,null,null,null,null,null,null,null,null,null,null,null,null,null,"Виробництво напоїв",null,null,null,null,null,null,null,null,null,null,null,null,null,null,null,null,null,null,null,null,null,null,null,null,null,null,null,null,"Автономна Республіка Крим","Генеральське"]
[null,null,null,null,null,null,null,null,null,null,null,null,null,null,null,null,"Дистиляція, ректифікація та змішування спиртних напоїв",null,null,null,null,null,null,null,null,null,null,null,null,null,null,null,null,null,null,null,null,null,null,null,null,null,null,null,null,"Автономна Республіка Крим","Геройське"]
[null,null,null,null,null,null,null,null,null,null,null,null,null,null,null,null,"Виробництво виноградних вин",null,null,null,null,null,null,null,null,null,null,null,null,null,null,null,null,null,null,null,null,null,null,null,null,null,null,null,null,"Автономна Республіка Крим","Гірне"]
[null,null,null,null,null,null,null,null,null,null,null,null,null,null,null,null,"Виробництво сидру та інших плодово-ягідних вин",null,null,null,null,null,null,null,null,null,null,null,null,null,null,null,null,null,null,null,null,null,null,null,null,null,null,null,null,"Автономна Республіка Крим","Глазівка"]
[null,null,null,null,null,null,null,null,null,null,null,null,null,null,null,null,"Виробництво інших недистильованих напоїв із зброджуваних продуктів",null,null,null,null,null,null,null,null,null,null,null,null,null,null,null,null,null,null,null,null,null,null,null,null,null,null,null,null,"Автономна Республіка Крим","Глибокий Яр"]
[null,null,null,null,null,null,null,null,null,null,null,null,null,null,null,null,"Виробництво пива",null,null,null,null,null,null,null,null,null,null,null,null,null,null,null,null,null,null,null,null,null,null,null,null,null,null,null,null,"Автономна Республіка Крим","Глінка (Вересаєвська сільська рада)"]
[null,null,null,null,null,null,null,null,null,null,null,null,null,null,null,null,"Виробництво солоду",null,null,null,null,null,null,null,null,null,null,null,null,null,null,null,null,null,null,null,null,null,null,null,null,null,null,null,null,"Автономна Республіка Крим","Голованівка"]
[null,null,null,null,null,null,null,null,null,null,null,null,null,null,null,null,"Виробництво безалкогольних напоїв; виробництво мінеральних вод та інших вод, розлитих у пляшки",null,null,null,null,null,null,null,null,null,null,null,null,null,null,null,null,null,null,null,null,null,null,null,null,null,null,null,null,"Автономна Республіка Крим","Голуба Затока"]
[null,null,null,null,null,null,null,null,null,null,null,null,null,null,null,null,"Виробництво тютюнових виробів",null,null,null,null,null,null,null,null,null,null,null,null,null,null,null,null,null,null,null,null,null,null,null,null,null,null,null,null,"Автономна Республіка Крим","Голубинка"]
[null,null,null,null,null,null,null,null,null,null,null,null,null,null,null,null,"Виробництво тютюнових виробів",null,null,null,null,null,null,null,null,null,null,null,null,null,null,null,null,null,null,null,null,null,null,null,null,null,null,null,null,"Автономна Республіка Крим","Горлинка"]
[null,null,null,null,null,null,null,null,null,null,null,null,null,null,null,null,"Виробництво тютюнових виробів",null,null,null,null,null,null,null,null,null,null,null,null,null,null,null,null,null,null,null,null,null,null,null,null,null,null,null,null,"Автономна Республіка Крим","Горностаївка"]
[null,null,null,null,null,null,null,null,null,null,null,null,null,null,null,null,"Текстильне виробництво",null,null,null,null,null,null,null,null,null,null,null,null,null,null,null,null,null,null,null,null,null,null,null,null,null,null,null,null,"Автономна Республіка Крим","Городнє (Руч'ївська сільська рада)"]
[null,null,null,null,null,null,null,null,null,null,null,null,null,null,null,null,"Підготування та прядіння текстильних волокон",null,null,null,null,null,null,null,null,null,null,null,null,null,null,null,null,null,null,null,null,null,null,null,null,null,null,null,null,"Автономна Республіка Крим","Гресівський"]
[null,null,null,null,null,null,null,null,null,null,null,null,null,null,null,null,"Підготування та прядіння текстильних волокон",null,null,null,null,null,null,null,null,null,null,null,null,null,null,null,null,null,null,null,null,null,null,null,null,null,null,null,null,"Автономна Республіка Крим","Григорівка"]
[null,null,null,null,null,null,null,null,null,null,null,null,null,null,null,null,"Ткацьке виробництво",null,null,null,null,null,null,null,null,null,null,null,null,null,null,null,null,null,null,null,null,null,null,null,null,null,null,null,null,"Автономна Республіка Крим","Гришине (Гришинської)"]
[null,null,null,null,null,null,null,null,null,null,null,null,null,null,null,null,"Ткацьке виробництво",null,null,null,null,null,null,null,null,null,null,null,null,null,null,null,null,null,null,null,null,null,null,null,null,null,null,null,null,"Автономна Республіка Крим","Громівка"]
[null,null,null,null,null,null,null,null,null,null,null,null,null,null,null,null,"Оздоблення текстильних виробів",null,null,null,null,null,null,null,null,null,null,null,null,null,null,null,null,null,null,null,null,null,null,null,null,null,null,null,null,"Автономна Республіка Крим","Громове"]
[null,null,null,null,null,null,null,null,null,null,null,null,null,null,null,null,"Оздоблення текстильних виробів",null,null,null,null,null,null,null,null,null,null,null,null,null,null,null,null,null,null,null,null,null,null,null,null,null,null,null,null,"Автономна Республіка Крим","Громовка"]
[null,null,null,null,null,null,null,null,null,null,null,null,null,null,null,null,"Виробництво інших текстильних виробів",null,null,null,null,null,null,null,null,null,null,null,null,null,null,null,null,null,null,null,null,null,null,null,null,null,null,null,null,"Автономна Республіка Крим","Грушеве"]
[null,null,null,null,null,null,null,null,null,null,null,null,null,null,null,null,"Виробництво трикотажного полотна",null,null,null,null,null,null,null,null,null,null,null,null,null,null,null,null,null,null,null,null,null,null,null,null,null,null,null,null,"Автономна Республіка Крим","Грушівка"]
[null,null,null,null,null,null,null,null,null,null,null,null,null,null,null,null,"Виробництво готових текстильних виробів, крім одягу",null,null,null,null,null,null,null,null,null,null,null,null,null,null,null,null,null,null,null,null,null,null,null,null,null,null,null,null,"Автономна Республіка Крим","Гурзуф"]
[null,null,null,null,null,null,null,null,null,null,null,null,null,null,null,null,"Виробництво килимів і килимових виробів",null,null,null,null,null,null,null,null,null,null,null,null,null,null,null,null,null,null,null,null,null,null,null,null,null,null,null,null,"Автономна Республіка Крим","Давидове"]
[null,null,null,null,null,null,null,null,null,null,null,null,null,null,null,null,"Виробництво канатів, мотузок, шпагату та сіток",null,null,null,null,null,null,null,null,null,null,null,null,null,null,null,null,null,null,null,null,null,null,null,null,null,null,null,null,"Автономна Республіка Крим","Далеке"]
[null,null,null,null,null,null,null,null,null,null,null,null,null,null,null,null,"Виробництво нетканих текстильних матеріалів та виробів із них, крім одягу",null,null,null,null,null,null,null,null,null,null,null,null,null,null,null,null,null,null,null,null,null,null,null,null,null,null,null,null,"Автономна Республіка Крим","Данилівка"]
[null,null,null,null,null,null,null,null,null,null,null,null,null,null,null,null,"Виробництво інших текстильних виробів технічного та промислового призначення",null,null,null,null,null,null,null,null,null,null,null,null,null,null,null,null,null,null,null,null,null,null,null,null,null,null,null,null,"Автономна Республіка Крим","Дачне"]
[null,null,null,null,null,null,null,null,null,null,null,null,null,null,null,null,"Виробництво інших текстильних виробів, н.в.і.у.",null,null,null,null,null,null,null,null,null,null,null,null,null,null,null,null,null,null,null,null,null,null,null,null,null,null,null,null,"Автономна Республіка Крим","Дворіччя"]
[null,null,null,null,null,null,null,null,null,null,null,null,null,null,null,null,"Виробництво одягу",null,null,null,null,null,null,null,null,null,null,null,null,null,null,null,null,null,null,null,null,null,null,null,null,null,null,null,null,"Автономна Республіка Крим","Дворове"]
[null,null,null,null,null,null,null,null,null,null,null,null,null,null,null,null,"Виробництво одягу, крім хутряного",null,null,null,null,null,null,null,null,null,null,null,null,null,null,null,null,null,null,null,null,null,null,null,null,null,null,null,null,"Автономна Республіка Крим","Дем'янівка"]
[null,null,null,null,null,null,null,null,null,null,null,null,null,null,null,null,"Виробництво одягу зі шкіри",null,null,null,null,null,null,null,null,null,null,null,null,null,null,null,null,null,null,null,null,null,null,null,null,null,null,null,null,"Автономна Республіка Крим","Денисівка"]
[null,null,null,null,null,null,null,null,null,null,null,null,null,null,null,null,"Виробництво робочого одягу",null,null,null,null,null,null,null,null,null,null,null,null,null,null,null,null,null,null,null,null,null,null,null,null,null,null,null,null,"Автономна Республіка Крим","Джанкой"]
[null,null,null,null,null,null,null,null,null,null,null,null,null,null,null,null,"Виробництво іншого верхнього одягу",null,null,null,null,null,null,null,null,null,null,null,null,null,null,null,null,null,null,null,null,null,null,null,null,null,null,null,null,"Автономна Республіка Крим","Дивне"]
[null,null,null,null,null,null,null,null,null,null,null,null,null,null,null,null,"Виробництво спіднього одягу",null,null,null,null,null,null,null,null,null,null,null,null,null,null,null,null,null,null,null,null,null,null,null,null,null,null,null,null,"Автономна Республіка Крим","Дібрівка"]
[null,null,null,null,null,null,null,null,null,null,null,null,null,null,null,null,"Виробництво іншого одягу й аксесуарів",null,null,null,null,null,null,null,null,null,null,null,null,null,null,null,null,null,null,null,null,null,null,null,null,null,null,null,null,"Автономна Республіка Крим","Дібрівське"]
[null,null,null,null,null,null,null,null,null,null,null,null,null,null,null,null,"Виготовлення виробів із хутра",null,null,null,null,null,null,null,null,null,null,null,null,null,null,null,null,null,null,null,null,null,null,null,null,null,null,null,null,"Автономна Республіка Крим","Дмитрівка"]
[null,null,null,null,null,null,null,null,null,null,null,null,null,null,null,null,"Виготовлення виробів із хутра",null,null,null,null,null,null,null,null,null,null,null,null,null,null,null,null,null,null,null,null,null,null,null,null,null,null,null,null,"Автономна Республіка Крим","Дмитрівка (Войковське)"]
[null,null,null,null,null,null,null,null,null,null,null,null,null,null,null,null,"Виробництво трикотажного та в'язаного одягу",null,null,null,null,null,null,null,null,null,null,null,null,null,null,null,null,null,null,null,null,null,null,null,null,null,null,null,null,"Автономна Республіка Крим","Дмитрове"]
[null,null,null,null,null,null,null,null,null,null,null,null,null,null,null,null,"Виробництво панчішно-шкарпеткових виробів",null,null,null,null,null,null,null,null,null,null,null,null,null,null,null,null,null,null,null,null,null,null,null,null,null,null,null,null,"Автономна Республіка Крим","Дніпровка"]
[null,null,null,null,null,null,null,null,null,null,null,null,null,null,null,null,"Виробництво іншого трикотажного та в'язаного одягу",null,null,null,null,null,null,null,null,null,null,null,null,null,null,null,null,null,null,null,null,null,null,null,null,null,null,null,null,"Автономна Республіка Крим","Добре"]
[null,null,null,null,null,null,null,null,null,null,null,null,null,null,null,null,"Виробництво шкіри, виробів зі шкіри та інших матеріалів",null,null,null,null,null,null,null,null,null,null,null,null,null,null,null,null,null,null,null,null,null,null,null,null,null,null,null,null,"Автономна Республіка Крим","Добролюбовка"]
[null,null,null,null,null,null,null,null,null,null,null,null,null,null,null,null,"Дублення шкур і оздоблення шкіри; виробництво дорожніх виробів, сумок, лимарно-сідельних виробів; вичинка та фарбування хутра",null,null,null,null,null,null,null,null,null,null,null,null,null,null,null,null,null,null,null,null,null,null,null,null,null,null,null,null,"Автономна Республіка Крим","Добрушине"]
[null,null,null,null,null,null,null,null,null,null,null,null,null,null,null,null,"Дублення шкур і оздоблення шкіри; вичинка та фарбування хутра",null,null,null,null,null,null,null,null,null,null,null,null,null,null,null,null,null,null,null,null,null,null,null,null,null,null,null,null,"Автономна Республіка Крим","Дозорне"]
[null,null,null,null,null,null,null,null,null,null,null,null,null,null,null,null,"Виробництво дорожніх виробів, сумок, лимарно-сідельних виробів зі шкіри та інших матеріалів",null,null,null,null,null,null,null,null,null,null,null,null,null,null,null,null,null,null,null,null,null,null,null,null,null,null,null,null,"Автономна Республіка Крим","Докучаєве"]
[null,null,null,null,null,null,null,null,null,null,null,null,null,null,null,null,"Виробництво взуття",null,null,null,null,null,null,null,null,null,null,null,null,null,null,null,null,null,null,null,null,null,null,null,null,null,null,null,null,"Автономна Республіка Крим","Долинівка"]
[null,null,null,null,null,null,null,null,null,null,null,null,null,null,null,null,"Виробництво взуття",null,null,null,null,null,null,null,null,null,null,null,null,null,null,null,null,null,null,null,null,null,null,null,null,null,null,null,null,"Автономна Республіка Крим","Долинка (Митяївська)"]
[null,null,null,null,null,null,null,null,null,null,null,null,null,null,null,null,"Оброблення деревини та виготовлення виробів з деревини та корка, крім меблів; виготовлення виробів із соломки та рослинних матеріалів для плетіння",null,null,null,null,null,null,null,null,null,null,null,null,null,null,null,null,null,null,null,null,null,null,null,null,null,null,null,null,"Автономна Республіка Крим","Долинка (Новопавлівської)"]
[null,null,null,null,null,null,null,null,null,null,null,null,null,null,null,null,"Лісопильне та стругальне виробництво",null,null,null,null,null,null,null,null,null,null,null,null,null,null,null,null,null,null,null,null,null,null,null,null,null,null,null,null,"Автономна Республіка Крим","Долинне"]
[null,null,null,null,null,null,null,null,null,null,null,null,null,null,null,null,"Лісопильне та стругальне виробництво",null,null,null,null,null,null,null,null,null,null,null,null,null,null,null,null,null,null,null,null,null,null,null,null,null,null,null,null,"Автономна Республіка Крим","Донське"]
[null,null,null,null,null,null,null,null,null,null,null,null,null,null,null,null,"Виготовлення виробів з деревини, корка, соломки та рослинних матеріалів для плетіння",null,null,null,null,null,null,null,null,null,null,null,null,null,null,null,null,null,null,null,null,null,null,null,null,null,null,null,null,"Автономна Республіка Крим","Дорожнє"]
[null,null,null,null,null,null,null,null,null,null,null,null,null,null,null,null,"Виробництво фанери, дерев'яних плит і панелей, шпону",null,null,null,null,null,null,null,null,null,null,null,null,null,null,null,null,null,null,null,null,null,null,null,null,null,null,null,null,"Автономна Республіка Крим","Доходне"]
[null,null,null,null,null,null,null,null,null,null,null,null,null,null,null,null,"Виробництво щитового паркету",null,null,null,null,null,null,null,null,null,null,null,null,null,null,null,null,null,null,null,null,null,null,null,null,null,null,null,null,"Автономна Республіка Крим","Дрофине"]
[null,null,null,null,null,null,null,null,null,null,null,null,null,null,null,null,"Виробництво інших дерев'яних будівельних конструкцій і столярних виробів",null,null,null,null,null,null,null,null,null,null,null,null,null,null,null,null,null,null,null,null,null,null,null,null,null,null,null,null,"Автономна Республіка Крим","Дружне"]
[null,null,null,null,null,null,null,null,null,null,null,null,null,null,null,null,"Виробництво дерев'яної тари",null,null,null,null,null,null,null,null,null,null,null,null,null,null,null,null,null,null,null,null,null,null,null,null,null,null,null,null,"Автономна Республіка Крим","Дубки"]
[null,null,null,null,null,null,null,null,null,null,null,null,null,null,null,null,"Виробництво інших виробів з деревини; виготовлення виробів з корка, соломки та рослинних матеріалів для плетіння",null,null,null,null,null,null,null,null,null,null,null,null,null,null,null,null,null,null,null,null,null,null,null,null,null,null,null,null,"Автономна Республіка Крим","Дятлівка"]
[null,null,null,null,null,null,null,null,null,null,null,null,null,null,null,null,"Виробництво паперу та паперових виробів",null,null,null,null,null,null,null,null,null,null,null,null,null,null,null,null,null,null,null,null,null,null,null,null,null,null,null,null,"Автономна Республіка Крим","Євпаторія"]
[null,null,null,null,null,null,null,null,null,null,null,null,null,null,null,null,"Виробництво паперової маси, паперу та картону",null,null,null,null,null,null,null,null,null,null,null,null,null,null,null,null,null,null,null,null,null,null,null,null,null,null,null,null,"Автономна Республіка Крим","Єгорове"]
[null,null,null,null,null,null,null,null,null,null,null,null,null,null,null,null,"Виробництво паперової маси",null,null,null,null,null,null,null,null,null,null,null,null,null,null,null,null,null,null,null,null,null,null,null,null,null,null,null,null,"Автономна Республіка Крим","Єлизаветове"]
[null,null,null,null,null,null,null,null,null,null,null,null,null,null,null,null,"Виробництво паперу та картону",null,null,null,null,null,null,null,null,null,null,null,null,null,null,null,null,null,null,null,null,null,null,null,null,null,null,null,null,"Автономна Республіка Крим","Єрмакове"]
[null,null,null,null,null,null,null,null,null,null,null,null,null,null,null,null,"Виготовлення виробів з паперу та картону",null,null,null,null,null,null,null,null,null,null,null,null,null,null,null,null,null,null,null,null,null,null,null,null,null,null,null,null,"Автономна Республіка Крим","Єрофєєве"]
[null,null,null,null,null,null,null,null,null,null,null,null,null,null,null,null,"Виробництво гофрованого паперу та картону, паперової та картонної тари",null,null,null,null,null,null,null,null,null,null,null,null,null,null,null,null,null,null,null,null,null,null,null,null,null,null,null,null,"Автономна Республіка Крим","Жайворонки"]
[null,null,null,null,null,null,null,null,null,null,null,null,null,null,null,null,"Виробництво паперових виробів господарсько-побутового та санітарно-гігієнічного призначення",null,null,null,null,null,null,null,null,null,null,null,null,null,null,null,null,null,null,null,null,null,null,null,null,null,null,null,null,"Автономна Республіка Крим","Желябовка"]
[null,null,null,null,null,null,null,null,null,null,null,null,null,null,null,null,"Виробництво паперових канцелярських  виробів",null,null,null,null,null,null,null,null,null,null,null,null,null,null,null,null,null,null,null,null,null,null,null,null,null,null,null,null,"Автономна Республіка Крим","Жемчужина"]
[null,null,null,null,null,null,null,null,null,null,null,null,null,null,null,null,"Виробництво шпалер",null,null,null,null,null,null,null,null,null,null,null,null,null,null,null,null,null,null,null,null,null,null,null,null,null,null,null,null,"Автономна Республіка Крим","Жемчужина Криму"]
[null,null,null,null,null,null,null,null,null,null,null,null,null,null,null,null,"Виробництво інших виробів з паперу та картону",null,null,null,null,null,null,null,null,null,null,null,null,null,null,null,null,null,null,null,null,null,null,null,null,null,null,null,null,"Автономна Республіка Крим","Живописне"]
[null,null,null,null,null,null,null,null,null,null,null,null,null,null,null,null,"Поліграфічна діяльність, тиражування записаної інформації",null,null,null,null,null,null,null,null,null,null,null,null,null,null,null,null,null,null,null,null,null,null,null,null,null,null,null,null,"Автономна Республіка Крим","Жилине"]
[null,null,null,null,null,null,null,null,null,null,null,null,null,null,null,null,"Поліграфічна діяльність і надання пов'язаних із нею послуг",null,null,null,null,null,null,null,null,null,null,null,null,null,null,null,null,null,null,null,null,null,null,null,null,null,null,null,null,"Автономна Республіка Крим","Жовтокам'янка (Суворовська)"]
[null,null,null,null,null,null,null,null,null,null,null,null,null,null,null,null,"Друкування газет",null,null,null,null,null,null,null,null,null,null,null,null,null,null,null,null,null,null,null,null,null,null,null,null,null,null,null,null,"Автономна Республіка Крим","Журавки"]
[null,null,null,null,null,null,null,null,null,null,null,null,null,null,null,null,"Друкування іншої продукції",null,null,null,null,null,null,null,null,null,null,null,null,null,null,null,null,null,null,null,null,null,null,null,null,null,null,null,null,"Автономна Республіка Крим","Журавлі"]
[null,null,null,null,null,null,null,null,null,null,null,null,null,null,null,null,"Виготовлення друкарських форм і надання інших поліграфічних послуг",null,null,null,null,null,null,null,null,null,null,null,null,null,null,null,null,null,null,null,null,null,null,null,null,null,null,null,null,"Автономна Республіка Крим","Журавлівка"]
[null,null,null,null,null,null,null,null,null,null,null,null,null,null,null,null,"Брошурувально-палітурна діяльність і надання пов'язаних із нею послуг",null,null,null,null,null,null,null,null,null,null,null,null,null,null,null,null,null,null,null,null,null,null,null,null,null,null,null,null,"Автономна Республіка Крим","Завіт-Ленінський"]
[null,null,null,null,null,null,null,null,null,null,null,null,null,null,null,null,"Тиражування звуко-, відеозаписів і програмного забезпечення",null,null,null,null,null,null,null,null,null,null,null,null,null,null,null,null,null,null,null,null,null,null,null,null,null,null,null,null,"Автономна Республіка Крим","Завітне"]
[null,null,null,null,null,null,null,null,null,null,null,null,null,null,null,null,"Тиражування звуко-, відеозаписів і програмного забезпечення",null,null,null,null,null,null,null,null,null,null,null,null,null,null,null,null,null,null,null,null,null,null,null,null,null,null,null,null,"Автономна Республіка Крим","Заводське"]
[null,null,null,null,null,null,null,null,null,null,null,null,null,null,null,null,"Виробництво коксу та продуктів нафтоперероблення",null,null,null,null,null,null,null,null,null,null,null,null,null,null,null,null,null,null,null,null,null,null,null,null,null,null,null,null,"Автономна Республіка Крим","Задорне"]
[null,null,null,null,null,null,null,null,null,null,null,null,null,null,null,null,"Виробництво коксу та коксопродуктів",null,null,null,null,null,null,null,null,null,null,null,null,null,null,null,null,null,null,null,null,null,null,null,null,null,null,null,null,"Автономна Республіка Крим","Зайцеве"]
[null,null,null,null,null,null,null,null,null,null,null,null,null,null,null,null,"Виробництво коксу та коксопродуктів",null,null,null,null,null,null,null,null,null,null,null,null,null,null,null,null,null,null,null,null,null,null,null,null,null,null,null,null,"Автономна Республіка Крим","Заливне"]
[null,null,null,null,null,null,null,null,null,null,null,null,null,null,null,null,"Виробництво продуктів нафтоперероблення",null,null,null,null,null,null,null,null,null,null,null,null,null,null,null,null,null,null,null,null,null,null,null,null,null,null,null,null,"Автономна Республіка Крим","Залізничне"]
[null,null,null,null,null,null,null,null,null,null,null,null,null,null,null,null,"Виробництво продуктів нафтоперероблення",null,null,null,null,null,null,null,null,null,null,null,null,null,null,null,null,null,null,null,null,null,null,null,null,null,null,null,null,"Автономна Республіка Крим","Залісне"]
[null,null,null,null,null,null,null,null,null,null,null,null,null,null,null,null,"Виробництво хімічних речовин і хімічної продукції",null,null,null,null,null,null,null,null,null,null,null,null,null,null,null,null,null,null,null,null,null,null,null,null,null,null,null,null,"Автономна Республіка Крим","Залісся"]
[null,null,null,null,null,null,null,null,null,null,null,null,null,null,null,null,"Виробництво основної хімічної продукції, добрив і азотних сполук, пластмас і синтетичного каучуку в первинних формах",null,null,null,null,null,null,null,null,null,null,null,null,null,null,null,null,null,null,null,null,null,null,null,null,null,null,null,null,"Автономна Республіка Крим","Заозерне"]
[null,null,null,null,null,null,null,null,null,null,null,null,null,null,null,null,"Виробництво промислових газів",null,null,null,null,null,null,null,null,null,null,null,null,null,null,null,null,null,null,null,null,null,null,null,null,null,null,null,null,"Автономна Республіка Крим","Запрудне"]
[null,null,null,null,null,null,null,null,null,null,null,null,null,null,null,null,"Виробництво барвників і пігментів",null,null,null,null,null,null,null,null,null,null,null,null,null,null,null,null,null,null,null,null,null,null,null,null,null,null,null,null,"Автономна Республіка Крим","Зарічне"]
[null,null,null,null,null,null,null,null,null,null,null,null,null,null,null,null,"Виробництво інших основних неорганічних хімічних речовин",null,null,null,null,null,null,null,null,null,null,null,null,null,null,null,null,null,null,null,null,null,null,null,null,null,null,null,null,"Автономна Республіка Крим","Заріччя"]
[null,null,null,null,null,null,null,null,null,null,null,null,null,null,null,null,"Виробництво інших основних органічних хімічних речовин",null,null,null,null,null,null,null,null,null,null,null,null,null,null,null,null,null,null,null,null,null,null,null,null,null,null,null,null,"Автономна Республіка Крим","Затишне"]
[null,null,null,null,null,null,null,null,null,null,null,null,null,null,null,null,"Виробництво добрив і азотних сполук",null,null,null,null,null,null,null,null,null,null,null,null,null,null,null,null,null,null,null,null,null,null,null,null,null,null,null,null,"Автономна Республіка Крим","Звіздне"]
[null,null,null,null,null,null,null,null,null,null,null,null,null,null,null,null,"Виробництво пластмас у первинних формах",null,null,null,null,null,null,null,null,null,null,null,null,null,null,null,null,null,null,null,null,null,null,null,null,null,null,null,null,"Автономна Республіка Крим","Зелена Нива (Вишнівської)"]
[null,null,null,null,null,null,null,null,null,null,null,null,null,null,null,null,"Виробництво синтетичного каучуку в первинних формах",null,null,null,null,null,null,null,null,null,null,null,null,null,null,null,null,null,null,null,null,null,null,null,null,null,null,null,null,"Автономна Республіка Крим","Зелене"]
[null,null,null,null,null,null,null,null,null,null,null,null,null,null,null,null,"Виробництво пестицидів та іншої агрохімічної продукції",null,null,null,null,null,null,null,null,null,null,null,null,null,null,null,null,null,null,null,null,null,null,null,null,null,null,null,null,"Автономна Республіка Крим","Зелений Яр"]
[null,null,null,null,null,null,null,null,null,null,null,null,null,null,null,null,"Виробництво пестицидів та іншої агрохімічної продукції",null,null,null,null,null,null,null,null,null,null,null,null,null,null,null,null,null,null,null,null,null,null,null,null,null,null,null,null,"Автономна Республіка Крим","Зеленогірське"]
[null,null,null,null,null,null,null,null,null,null,null,null,null,null,null,null,"Виробництво фарб, лаків і подібної продукції, друкарської фарби та мастик",null,null,null,null,null,null,null,null,null,null,null,null,null,null,null,null,null,null,null,null,null,null,null,null,null,null,null,null,"Автономна Республіка Крим","Зеленогір'я"]
[null,null,null,null,null,null,null,null,null,null,null,null,null,null,null,null,"Виробництво фарб, лаків і подібної продукції, друкарської фарби та мастик",null,null,null,null,null,null,null,null,null,null,null,null,null,null,null,null,null,null,null,null,null,null,null,null,null,null,null,null,"Автономна Республіка Крим","Земляничне"]
[null,null,null,null,null,null,null,null,null,null,null,null,null,null,null,null,"Виробництво мила та мийних засобів, засобів для чищення та полірування, парфумних і косметичних засобів",null,null,null,null,null,null,null,null,null,null,null,null,null,null,null,null,null,null,null,null,null,null,null,null,null,null,null,null,"Автономна Республіка Крим","Зернове"]
[null,null,null,null,null,null,null,null,null,null,null,null,null,null,null,null,"Виробництво мила та мийних засобів, засобів для чищення та полірування",null,null,null,null,null,null,null,null,null,null,null,null,null,null,null,null,null,null,null,null,null,null,null,null,null,null,null,null,"Автономна Республіка Крим","Зибини"]
[null,null,null,null,null,null,null,null,null,null,null,null,null,null,null,null,"Виробництво парфумних і косметичних засобів",null,null,null,null,null,null,null,null,null,null,null,null,null,null,null,null,null,null,null,null,null,null,null,null,null,null,null,null,"Автономна Республіка Крим","Зимине"]
[null,null,null,null,null,null,null,null,null,null,null,null,null,null,null,null,"Виробництво іншої хімічної продукції",null,null,null,null,null,null,null,null,null,null,null,null,null,null,null,null,null,null,null,null,null,null,null,null,null,null,null,null,"Автономна Республіка Крим","Знам'янка"]
[null,null,null,null,null,null,null,null,null,null,null,null,null,null,null,null,"Виробництво вибухових речовин",null,null,null,null,null,null,null,null,null,null,null,null,null,null,null,null,null,null,null,null,null,null,null,null,null,null,null,null,"Автономна Республіка Крим","Знам'янка (Орлівської)"]
[null,null,null,null,null,null,null,null,null,null,null,null,null,null,null,null,"Виробництво клеїв",null,null,null,null,null,null,null,null,null,null,null,null,null,null,null,null,null,null,null,null,null,null,null,null,null,null,null,null,"Автономна Республіка Крим","Знам'янське"]
[null,null,null,null,null,null,null,null,null,null,null,null,null,null,null,null,"Виробництво ефірних олій",null,null,null,null,null,null,null,null,null,null,null,null,null,null,null,null,null,null,null,null,null,null,null,null,null,null,null,null,"Автономна Республіка Крим","Золоте"]
[null,null,null,null,null,null,null,null,null,null,null,null,null,null,null,null,"Виробництво іншої хімічної продукції, н.в.і.у.",null,null,null,null,null,null,null,null,null,null,null,null,null,null,null,null,null,null,null,null,null,null,null,null,null,null,null,null,"Автономна Республіка Крим","Золоте  Поле"]
[null,null,null,null,null,null,null,null,null,null,null,null,null,null,null,null,"Виробництво штучних і синтетичних волокон",null,null,null,null,null,null,null,null,null,null,null,null,null,null,null,null,null,null,null,null,null,null,null,null,null,null,null,null,"Автономна Республіка Крим","Зоркіне"]
[null,null,null,null,null,null,null,null,null,null,null,null,null,null,null,null,"Виробництво штучних і синтетичних волокон",null,null,null,null,null,null,null,null,null,null,null,null,null,null,null,null,null,null,null,null,null,null,null,null,null,null,null,null,"Автономна Республіка Крим","Зоря"]
[null,null,null,null,null,null,null,null,null,null,null,null,null,null,null,null,"Виробництво основних фармацевтичних продуктів і фармацевтичних препаратів",null,null,null,null,null,null,null,null,null,null,null,null,null,null,null,null,null,null,null,null,null,null,null,null,null,null,null,null,"Автономна Республіка Крим","Зоряне"]
[null,null,null,null,null,null,null,null,null,null,null,null,null,null,null,null,"Виробництво основних фармацевтичних продуктів",null,null,null,null,null,null,null,null,null,null,null,null,null,null,null,null,null,null,null,null,null,null,null,null,null,null,null,null,"Автономна Республіка Крим","Зубакіне"]
[null,null,null,null,null,null,null,null,null,null,null,null,null,null,null,null,"Виробництво основних фармацевтичних продуктів",null,null,null,null,null,null,null,null,null,null,null,null,null,null,null,null,null,null,null,null,null,null,null,null,null,null,null,null,"Автономна Республіка Крим","Зуя"]
[null,null,null,null,null,null,null,null,null,null,null,null,null,null,null,null,"Виробництво фармацевтичних препаратів і матеріалів",null,null,null,null,null,null,null,null,null,null,null,null,null,null,null,null,null,null,null,null,null,null,null,null,null,null,null,null,"Автономна Республіка Крим","Іванівка"]
[null,null,null,null,null,null,null,null,null,null,null,null,null,null,null,null,"Виробництво фармацевтичних препаратів і матеріалів",null,null,null,null,null,null,null,null,null,null,null,null,null,null,null,null,null,null,null,null,null,null,null,null,null,null,null,null,"Автономна Республіка Крим","Ізвесткове"]
[null,null,null,null,null,null,null,null,null,null,null,null,null,null,null,null,"Виробництво гумових і пластмасових виробів",null,null,null,null,null,null,null,null,null,null,null,null,null,null,null,null,null,null,null,null,null,null,null,null,null,null,null,null,"Автономна Республіка Крим","Ізобільне"]
[null,null,null,null,null,null,null,null,null,null,null,null,null,null,null,null,"Виробництво гумових виробів",null,null,null,null,null,null,null,null,null,null,null,null,null,null,null,null,null,null,null,null,null,null,null,null,null,null,null,null,"Автономна Республіка Крим","Ізумрудне"]
[null,null,null,null,null,null,null,null,null,null,null,null,null,null,null,null,"Виробництво гумових шин, покришок і камер; відновлення протектора гумових шин і покришок",null,null,null,null,null,null,null,null,null,null,null,null,null,null,null,null,null,null,null,null,null,null,null,null,null,null,null,null,"Автономна Республіка Крим","Ізюмівка"]
[null,null,null,null,null,null,null,null,null,null,null,null,null,null,null,null,"Виробництво інших гумових виробів",null,null,null,null,null,null,null,null,null,null,null,null,null,null,null,null,null,null,null,null,null,null,null,null,null,null,null,null,"Автономна Республіка Крим","Іллінка (Ільїнської)"]
[null,null,null,null,null,null,null,null,null,null,null,null,null,null,null,null,"Виробництво пластмасових виробів",null,null,null,null,null,null,null,null,null,null,null,null,null,null,null,null,null,null,null,null,null,null,null,null,null,null,null,null,"Автономна Республіка Крим","Іллінка (Сизівська)"]
[null,null,null,null,null,null,null,null,null,null,null,null,null,null,null,null,"Виробництво плит, листів, труб і профілів із пластмас",null,null,null,null,null,null,null,null,null,null,null,null,null,null,null,null,null,null,null,null,null,null,null,null,null,null,null,null,"Автономна Республіка Крим","Іллічеве"]
[null,null,null,null,null,null,null,null,null,null,null,null,null,null,null,null,"Виробництво тари з пластмас",null,null,null,null,null,null,null,null,null,null,null,null,null,null,null,null,null,null,null,null,null,null,null,null,null,null,null,null,"Автономна Республіка Крим","Іскра"]
[null,null,null,null,null,null,null,null,null,null,null,null,null,null,null,null,"Виробництво будівельних виробів із пластмас",null,null,null,null,null,null,null,null,null,null,null,null,null,null,null,null,null,null,null,null,null,null,null,null,null,null,null,null,"Автономна Республіка Крим","Істочне"]
[null,null,null,null,null,null,null,null,null,null,null,null,null,null,null,null,"Виробництво інших виробів із пластмас",null,null,null,null,null,null,null,null,null,null,null,null,null,null,null,null,null,null,null,null,null,null,null,null,null,null,null,null,"Автономна Республіка Крим","Істочне (Воїнської)"]
[null,null,null,null,null,null,null,null,null,null,null,null,null,null,null,null,"Виробництво іншої неметалевої мінеральної продукції",null,null,null,null,null,null,null,null,null,null,null,null,null,null,null,null,null,null,null,null,null,null,null,null,null,null,null,null,"Автономна Республіка Крим","Ішунь (Ішуньської)"]
[null,null,null,null,null,null,null,null,null,null,null,null,null,null,null,null,"Виробництво скла та виробів зі скла",null,null,null,null,null,null,null,null,null,null,null,null,null,null,null,null,null,null,null,null,null,null,null,null,null,null,null,null,"Автономна Республіка Крим","Казанки"]
[null,null,null,null,null,null,null,null,null,null,null,null,null,null,null,null,"Виробництво листового скла",null,null,null,null,null,null,null,null,null,null,null,null,null,null,null,null,null,null,null,null,null,null,null,null,null,null,null,null,"Автономна Республіка Крим","Калинівка"]
[null,null,null,null,null,null,null,null,null,null,null,null,null,null,null,null,"Формування й оброблення листового скла",null,null,null,null,null,null,null,null,null,null,null,null,null,null,null,null,null,null,null,null,null,null,null,null,null,null,null,null,"Автономна Республіка Крим","Калинівка (Оленівська)"]
[null,null,null,null,null,null,null,null,null,null,null,null,null,null,null,null,"Виробництво порожнистого скла",null,null,null,null,null,null,null,null,null,null,null,null,null,null,null,null,null,null,null,null,null,null,null,null,null,null,null,null,"Автономна Республіка Крим","Калініне"]
[null,null,null,null,null,null,null,null,null,null,null,null,null,null,null,null,"Виробництво скловолокна",null,null,null,null,null,null,null,null,null,null,null,null,null,null,null,null,null,null,null,null,null,null,null,null,null,null,null,null,"Автономна Республіка Крим","Калініне (Калінінської)"]
[null,null,null,null,null,null,null,null,null,null,null,null,null,null,null,null,"Виробництво й оброблення інших скляних виробів, у тому числі технічних",null,null,null,null,null,null,null,null,null,null,null,null,null,null,null,null,null,null,null,null,null,null,null,null,null,null,null,null,"Автономна Республіка Крим","Каменоломня"]
[null,null,null,null,null,null,null,null,null,null,null,null,null,null,null,null,"Виробництво вогнетривких виробів",null,null,null,null,null,null,null,null,null,null,null,null,null,null,null,null,null,null,null,null,null,null,null,null,null,null,null,null,"Автономна Республіка Крим","Кам'янка (Октябрьської)"]
[null,null,null,null,null,null,null,null,null,null,null,null,null,null,null,null,"Виробництво вогнетривких виробів",null,null,null,null,null,null,null,null,null,null,null,null,null,null,null,null,null,null,null,null,null,null,null,null,null,null,null,null,"Автономна Республіка Крим","Кам'янське"]
[null,null,null,null,null,null,null,null,null,null,null,null,null,null,null,null,"Виробництво будівельних матеріалів із глини",null,null,null,null,null,null,null,null,null,null,null,null,null,null,null,null,null,null,null,null,null,null,null,null,null,null,null,null,"Автономна Республіка Крим","Карасівка"]
[null,null,null,null,null,null,null,null,null,null,null,null,null,null,null,null,"Виробництво керамічних плиток і плит",null,null,null,null,null,null,null,null,null,null,null,null,null,null,null,null,null,null,null,null,null,null,null,null,null,null,null,null,"Автономна Республіка Крим","Кар'єрне"]
[null,null,null,null,null,null,null,null,null,null,null,null,null,null,null,null,"Виробництво цегли, черепиці та інших будівельних виробів із випаленої глини",null,null,null,null,null,null,null,null,null,null,null,null,null,null,null,null,null,null,null,null,null,null,null,null,null,null,null,null,"Автономна Республіка Крим","Карпівка"]
[null,null,null,null,null,null,null,null,null,null,null,null,null,null,null,null,"Виробництво іншої продукції з фарфору та кераміки",null,null,null,null,null,null,null,null,null,null,null,null,null,null,null,null,null,null,null,null,null,null,null,null,null,null,null,null,"Автономна Республіка Крим","Карпова Балка (Філатівської)"]
[null,null,null,null,null,null,null,null,null,null,null,null,null,null,null,null,"Виробництво господарських і декоративних керамічних виробів",null,null,null,null,null,null,null,null,null,null,null,null,null,null,null,null,null,null,null,null,null,null,null,null,null,null,null,null,"Автономна Республіка Крим","Кацівелі"]
[null,null,null,null,null,null,null,null,null,null,null,null,null,null,null,null,"Виробництво керамічних санітарно-технічних виробів",null,null,null,null,null,null,null,null,null,null,null,null,null,null,null,null,null,null,null,null,null,null,null,null,null,null,null,null,"Автономна Республіка Крим","Каштани"]
[null,null,null,null,null,null,null,null,null,null,null,null,null,null,null,null,"Виробництво керамічних електроізоляторів та ізоляційної арматури",null,null,null,null,null,null,null,null,null,null,null,null,null,null,null,null,null,null,null,null,null,null,null,null,null,null,null,null,"Автономна Республіка Крим","Каштанівка (Серебрянська сільська рада)"]
[null,null,null,null,null,null,null,null,null,null,null,null,null,null,null,null,"Виробництво інших керамічних виробів технічного призначення",null,null,null,null,null,null,null,null,null,null,null,null,null,null,null,null,null,null,null,null,null,null,null,null,null,null,null,null,"Автономна Республіка Крим","Каштанівка (Черновської)"]
[null,null,null,null,null,null,null,null,null,null,null,null,null,null,null,null,"Виробництво інших керамічних виробів",null,null,null,null,null,null,null,null,null,null,null,null,null,null,null,null,null,null,null,null,null,null,null,null,null,null,null,null,"Автономна Республіка Крим","Каштанове"]
[null,null,null,null,null,null,null,null,null,null,null,null,null,null,null,null,"Виробництво цементу, вапна та гіпсових сумішей",null,null,null,null,null,null,null,null,null,null,null,null,null,null,null,null,null,null,null,null,null,null,null,null,null,null,null,null,"Автономна Республіка Крим","Керч"]
[null,null,null,null,null,null,null,null,null,null,null,null,null,null,null,null,"Виробництво цементу",null,null,null,null,null,null,null,null,null,null,null,null,null,null,null,null,null,null,null,null,null,null,null,null,null,null,null,null,"Автономна Республіка Крим","Кизилівка"]
[null,null,null,null,null,null,null,null,null,null,null,null,null,null,null,null,"Виробництво вапна та гіпсових сумішей",null,null,null,null,null,null,null,null,null,null,null,null,null,null,null,null,null,null,null,null,null,null,null,null,null,null,null,null,"Автономна Республіка Крим","Кипарисне"]
[null,null,null,null,null,null,null,null,null,null,null,null,null,null,null,null,"Виготовлення виробів із бетону, гіпсу та цементу",null,null,null,null,null,null,null,null,null,null,null,null,null,null,null,null,null,null,null,null,null,null,null,null,null,null,null,null,"Автономна Республіка Крим","Кирпичне"]
[null,null,null,null,null,null,null,null,null,null,null,null,null,null,null,null,"Виготовлення виробів із бетону для будівництва",null,null,null,null,null,null,null,null,null,null,null,null,null,null,null,null,null,null,null,null,null,null,null,null,null,null,null,null,"Автономна Республіка Крим","Кирсанівка"]
[null,null,null,null,null,null,null,null,null,null,null,null,null,null,null,null,"Виготовлення виробів із гіпсу для будівництва",null,null,null,null,null,null,null,null,null,null,null,null,null,null,null,null,null,null,null,null,null,null,null,null,null,null,null,null,"Автономна Республіка Крим","Кіндратове"]
[null,null,null,null,null,null,null,null,null,null,null,null,null,null,null,null,"Виробництво бетонних розчинів, готових для використання",null,null,null,null,null,null,null,null,null,null,null,null,null,null,null,null,null,null,null,null,null,null,null,null,null,null,null,null,"Автономна Республіка Крим","Кіровське"]
[null,null,null,null,null,null,null,null,null,null,null,null,null,null,null,null,"Виробництво сухих будівельних сумішей",null,null,null,null,null,null,null,null,null,null,null,null,null,null,null,null,null,null,null,null,null,null,null,null,null,null,null,null,"Автономна Республіка Крим","Кісточківка"]
[null,null,null,null,null,null,null,null,null,null,null,null,null,null,null,null,"Виготовлення виробів із волокнистого цементу",null,null,null,null,null,null,null,null,null,null,null,null,null,null,null,null,null,null,null,null,null,null,null,null,null,null,null,null,"Автономна Республіка Крим","Клепиніне"]
[null,null,null,null,null,null,null,null,null,null,null,null,null,null,null,null,"Виробництво інших виробів із бетону, гіпсу та цементу",null,null,null,null,null,null,null,null,null,null,null,null,null,null,null,null,null,null,null,null,null,null,null,null,null,null,null,null,"Автономна Республіка Крим","Климове"]
[null,null,null,null,null,null,null,null,null,null,null,null,null,null,null,null,"Різання, оброблення та оздоблення декоративного та будівельного каменю",null,null,null,null,null,null,null,null,null,null,null,null,null,null,null,null,null,null,null,null,null,null,null,null,null,null,null,null,"Автономна Республіка Крим","Клинівка"]
[null,null,null,null,null,null,null,null,null,null,null,null,null,null,null,null,"Різання, оброблення та оздоблення декоративного та будівельного каменю",null,null,null,null,null,null,null,null,null,null,null,null,null,null,null,null,null,null,null,null,null,null,null,null,null,null,null,null,"Автономна Республіка Крим","Ключі"]
[null,null,null,null,null,null,null,null,null,null,null,null,null,null,null,null,"Виробництво абразивних виробів і неметалевих мінеральних виробів, н.в.і.у.",null,null,null,null,null,null,null,null,null,null,null,null,null,null,null,null,null,null,null,null,null,null,null,null,null,null,null,null,"Автономна Республіка Крим","Ключове"]
[null,null,null,null,null,null,null,null,null,null,null,null,null,null,null,null,"Виробництво абразивних виробів",null,null,null,null,null,null,null,null,null,null,null,null,null,null,null,null,null,null,null,null,null,null,null,null,null,null,null,null,"Автономна Республіка Крим","Ковильне"]
[null,null,null,null,null,null,null,null,null,null,null,null,null,null,null,null,"Виробництво неметалевих мінеральних виробів, н.в.і.у.",null,null,null,null,null,null,null,null,null,null,null,null,null,null,null,null,null,null,null,null,null,null,null,null,null,null,null,null,"Автономна Республіка Крим","Ковильне (Ковильнівська сільська рада)"]
[null,null,null,null,null,null,null,null,null,null,null,null,null,null,null,null,"Металургійне виробництво",null,null,null,null,null,null,null,null,null,null,null,null,null,null,null,null,null,null,null,null,null,null,null,null,null,null,null,null,"Автономна Республіка Крим","Коврове"]
[null,null,null,null,null,null,null,null,null,null,null,null,null,null,null,null,"Виробництво чавуну, сталі та феросплавів",null,null,null,null,null,null,null,null,null,null,null,null,null,null,null,null,null,null,null,null,null,null,null,null,null,null,null,null,"Автономна Республіка Крим","Коктебель"]
[null,null,null,null,null,null,null,null,null,null,null,null,null,null,null,null,"Виробництво чавуну, сталі та феросплавів",null,null,null,null,null,null,null,null,null,null,null,null,null,null,null,null,null,null,null,null,null,null,null,null,null,null,null,null,"Автономна Республіка Крим","Колодязне"]
[null,null,null,null,null,null,null,null,null,null,null,null,null,null,null,null,"Виробництво труб, порожнистих профілів і фітингів зі сталі",null,null,null,null,null,null,null,null,null,null,null,null,null,null,null,null,null,null,null,null,null,null,null,null,null,null,null,null,"Автономна Республіка Крим","Коломенське"]
[null,null,null,null,null,null,null,null,null,null,null,null,null,null,null,null,"Виробництво труб, порожнистих профілів і фітингів зі сталі",null,null,null,null,null,null,null,null,null,null,null,null,null,null,null,null,null,null,null,null,null,null,null,null,null,null,null,null,"Автономна Республіка Крим","Колоски"]
[null,null,null,null,null,null,null,null,null,null,null,null,null,null,null,null,"Виробництво іншої продукції первинного оброблення сталі",null,null,null,null,null,null,null,null,null,null,null,null,null,null,null,null,null,null,null,null,null,null,null,null,null,null,null,null,"Автономна Республіка Крим","Кольцове"]
[null,null,null,null,null,null,null,null,null,null,null,null,null,null,null,null,"Холодне волочіння прутків і профілів",null,null,null,null,null,null,null,null,null,null,null,null,null,null,null,null,null,null,null,null,null,null,null,null,null,null,null,null,"Автономна Республіка Крим","Кольчугине"]
[null,null,null,null,null,null,null,null,null,null,null,null,null,null,null,null,"Холодний прокат вузької штаби",null,null,null,null,null,null,null,null,null,null,null,null,null,null,null,null,null,null,null,null,null,null,null,null,null,null,null,null,"Автономна Республіка Крим","Комарівка"]
[null,null,null,null,null,null,null,null,null,null,null,null,null,null,null,null,"Холодне штампування та гнуття",null,null,null,null,null,null,null,null,null,null,null,null,null,null,null,null,null,null,null,null,null,null,null,null,null,null,null,null,"Автономна Республіка Крим","Комишинка"]
[null,null,null,null,null,null,null,null,null,null,null,null,null,null,null,null,"Холодне волочіння дроту",null,null,null,null,null,null,null,null,null,null,null,null,null,null,null,null,null,null,null,null,null,null,null,null,null,null,null,null,"Автономна Республіка Крим","Комишне (Руч'ївська сільська рада)"]
[null,null,null,null,null,null,null,null,null,null,null,null,null,null,null,null,"Виробництво дорогоцінних та інших кольорових металів",null,null,null,null,null,null,null,null,null,null,null,null,null,null,null,null,null,null,null,null,null,null,null,null,null,null,null,null,"Автономна Республіка Крим","Комсомольське"]
[null,null,null,null,null,null,null,null,null,null,null,null,null,null,null,null,"Виробництво дорогоцінних металів",null,null,null,null,null,null,null,null,null,null,null,null,null,null,null,null,null,null,null,null,null,null,null,null,null,null,null,null,"Автономна Республіка Крим","Комунари"]
[null,null,null,null,null,null,null,null,null,null,null,null,null,null,null,null,"Виробництво алюмінію",null,null,null,null,null,null,null,null,null,null,null,null,null,null,null,null,null,null,null,null,null,null,null,null,null,null,null,null,"Автономна Республіка Крим","Комунарне (Руч'ївська сільська рада)"]
[null,null,null,null,null,null,null,null,null,null,null,null,null,null,null,null,"Виробництво свинцю, цинку й олова",null,null,null,null,null,null,null,null,null,null,null,null,null,null,null,null,null,null,null,null,null,null,null,null,null,null,null,null,"Автономна Республіка Крим","Копані"]
[null,null,null,null,null,null,null,null,null,null,null,null,null,null,null,null,"Виробництво міді",null,null,null,null,null,null,null,null,null,null,null,null,null,null,null,null,null,null,null,null,null,null,null,null,null,null,null,null,"Автономна Республіка Крим","Кореїз"]
[null,null,null,null,null,null,null,null,null,null,null,null,null,null,null,null,"Виробництво інших кольорових металів",null,null,null,null,null,null,null,null,null,null,null,null,null,null,null,null,null,null,null,null,null,null,null,null,null,null,null,null,"Автономна Республіка Крим","Корінне"]
[null,null,null,null,null,null,null,null,null,null,null,null,null,null,null,null,"Виробництво ядерних матеріалів",null,null,null,null,null,null,null,null,null,null,null,null,null,null,null,null,null,null,null,null,null,null,null,null,null,null,null,null,"Автономна Республіка Крим","Кормове (Кормовської)"]
[null,null,null,null,null,null,null,null,null,null,null,null,null,null,null,null,"Лиття металів",null,null,null,null,null,null,null,null,null,null,null,null,null,null,null,null,null,null,null,null,null,null,null,null,null,null,null,null,"Автономна Республіка Крим","Корніївка"]
[null,null,null,null,null,null,null,null,null,null,null,null,null,null,null,null,"Лиття чавуну",null,null,null,null,null,null,null,null,null,null,null,null,null,null,null,null,null,null,null,null,null,null,null,null,null,null,null,null,"Автономна Республіка Крим","Корольове"]
[null,null,null,null,null,null,null,null,null,null,null,null,null,null,null,null,"Лиття сталі",null,null,null,null,null,null,null,null,null,null,null,null,null,null,null,null,null,null,null,null,null,null,null,null,null,null,null,null,"Автономна Республіка Крим","Костиріне"]
[null,null,null,null,null,null,null,null,null,null,null,null,null,null,null,null,"Лиття легких кольорових металів",null,null,null,null,null,null,null,null,null,null,null,null,null,null,null,null,null,null,null,null,null,null,null,null,null,null,null,null,"Автономна Республіка Крим","Костянтинівка"]
[null,null,null,null,null,null,null,null,null,null,null,null,null,null,null,null,"Лиття інших кольорових металів",null,null,null,null,null,null,null,null,null,null,null,null,null,null,null,null,null,null,null,null,null,null,null,null,null,null,null,null,"Автономна Республіка Крим","Котельникове"]
[null,null,null,null,null,null,null,null,null,null,null,null,null,null,null,null,"Виробництво готових металевих виробів, крім машин і устатковання",null,null,null,null,null,null,null,null,null,null,null,null,null,null,null,null,null,null,null,null,null,null,null,null,null,null,null,null,"Автономна Республіка Крим","Котовське (Славнівська сільська рада)"]
[null,null,null,null,null,null,null,null,null,null,null,null,null,null,null,null,"Виробництво будівельних металевих конструкцій і виробів",null,null,null,null,null,null,null,null,null,null,null,null,null,null,null,null,null,null,null,null,null,null,null,null,null,null,null,null,"Автономна Республіка Крим","Кочергіне"]
[null,null,null,null,null,null,null,null,null,null,null,null,null,null,null,null,"Виробництво будівельних металевих конструкцій і частин конструкцій",null,null,null,null,null,null,null,null,null,null,null,null,null,null,null,null,null,null,null,null,null,null,null,null,null,null,null,null,"Автономна Республіка Крим","Крайнє (Крайненська)"]
[null,null,null,null,null,null,null,null,null,null,null,null,null,null,null,null,"Виробництво металевих дверей і вікон",null,null,null,null,null,null,null,null,null,null,null,null,null,null,null,null,null,null,null,null,null,null,null,null,null,null,null,null,"Автономна Республіка Крим","Красна Долина"]
[null,null,null,null,null,null,null,null,null,null,null,null,null,null,null,null,"Виробництво металевих баків, резервуарів і контейнерів",null,null,null,null,null,null,null,null,null,null,null,null,null,null,null,null,null,null,null,null,null,null,null,null,null,null,null,null,"Автономна Республіка Крим","Красна Зорька"]
[null,null,null,null,null,null,null,null,null,null,null,null,null,null,null,null,"Виробництво радіаторів і  котлів центрального опалення",null,null,null,null,null,null,null,null,null,null,null,null,null,null,null,null,null,null,null,null,null,null,null,null,null,null,null,null,"Автономна Республіка Крим","Красна Поляна"]
[null,null,null,null,null,null,null,null,null,null,null,null,null,null,null,null,"Виробництво інших металевих баків, резервуарів і контейнерів",null,null,null,null,null,null,null,null,null,null,null,null,null,null,null,null,null,null,null,null,null,null,null,null,null,null,null,null,"Автономна Республіка Крим","Красна Слобода"]
[null,null,null,null,null,null,null,null,null,null,null,null,null,null,null,null,"Виробництво парових котлів, крім котлів центрального опалення",null,null,null,null,null,null,null,null,null,null,null,null,null,null,null,null,null,null,null,null,null,null,null,null,null,null,null,null,"Автономна Республіка Крим","Красний Мак"]
[null,null,null,null,null,null,null,null,null,null,null,null,null,null,null,null,"Виробництво парових котлів, крім котлів центрального опалення",null,null,null,null,null,null,null,null,null,null,null,null,null,null,null,null,null,null,null,null,null,null,null,null,null,null,null,null,"Автономна Республіка Крим","Красний Партизан"]
[null,null,null,null,null,null,null,null,null,null,null,null,null,null,null,null,"Виробництво зброї та боєприпасів",null,null,null,null,null,null,null,null,null,null,null,null,null,null,null,null,null,null,null,null,null,null,null,null,null,null,null,null,"Автономна Республіка Крим","Краснівка"]
[null,null,null,null,null,null,null,null,null,null,null,null,null,null,null,null,"Виробництво зброї та боєприпасів",null,null,null,null,null,null,null,null,null,null,null,null,null,null,null,null,null,null,null,null,null,null,null,null,null,null,null,null,"Автономна Республіка Крим","Красноармійське (Зиминська сільська рада)"]
[null,null,null,null,null,null,null,null,null,null,null,null,null,null,null,null,"Кування, пресування, штампування, профілювання; порошкова металургія",null,null,null,null,null,null,null,null,null,null,null,null,null,null,null,null,null,null,null,null,null,null,null,null,null,null,null,null,"Автономна Республіка Крим","Красноармійське (Красноармійська)"]
[null,null,null,null,null,null,null,null,null,null,null,null,null,null,null,null,"Кування, пресування, штампування, профілювання; порошкова металургія",null,null,null,null,null,null,null,null,null,null,null,null,null,null,null,null,null,null,null,null,null,null,null,null,null,null,null,null,"Автономна Республіка Крим","Красногвардійське"]
[null,null,null,null,null,null,null,null,null,null,null,null,null,null,null,null,"Оброблення металів та нанесення покриття на метали; механічне оброблення металевих виробів",null,null,null,null,null,null,null,null,null,null,null,null,null,null,null,null,null,null,null,null,null,null,null,null,null,null,null,null,"Автономна Республіка Крим","Красногірка"]
[null,null,null,null,null,null,null,null,null,null,null,null,null,null,null,null,"Оброблення металів та нанесення покриття на метали",null,null,null,null,null,null,null,null,null,null,null,null,null,null,null,null,null,null,null,null,null,null,null,null,null,null,null,null,"Автономна Республіка Крим","Красногірське"]
[null,null,null,null,null,null,null,null,null,null,null,null,null,null,null,null,"Механічне оброблення металевих виробів",null,null,null,null,null,null,null,null,null,null,null,null,null,null,null,null,null,null,null,null,null,null,null,null,null,null,null,null,"Автономна Республіка Крим","Краснодарка"]
[null,null,null,null,null,null,null,null,null,null,null,null,null,null,null,null,"Виробництво столових приборів, інструментів і металевих виробів загального призначення",null,null,null,null,null,null,null,null,null,null,null,null,null,null,null,null,null,null,null,null,null,null,null,null,null,null,null,null,"Автономна Республіка Крим","Краснодольне"]
[null,null,null,null,null,null,null,null,null,null,null,null,null,null,null,null,"Виробництво столових приборів",null,null,null,null,null,null,null,null,null,null,null,null,null,null,null,null,null,null,null,null,null,null,null,null,null,null,null,null,"Автономна Республіка Крим","Краснознам'янка"]
[null,null,null,null,null,null,null,null,null,null,null,null,null,null,null,null,"Виробництво замків і дверних петель",null,null,null,null,null,null,null,null,null,null,null,null,null,null,null,null,null,null,null,null,null,null,null,null,null,null,null,null,"Автономна Республіка Крим","Краснокам'янка"]
[null,null,null,null,null,null,null,null,null,null,null,null,null,null,null,null,"Виробництво інструментів",null,null,null,null,null,null,null,null,null,null,null,null,null,null,null,null,null,null,null,null,null,null,null,null,null,null,null,null,"Автономна Республіка Крим","Краснолісся"]
[null,null,null,null,null,null,null,null,null,null,null,null,null,null,null,null,"Виробництво інших готових металевих виробів",null,null,null,null,null,null,null,null,null,null,null,null,null,null,null,null,null,null,null,null,null,null,null,null,null,null,null,null,"Автономна Республіка Крим","Красноперекопськ"]
[null,null,null,null,null,null,null,null,null,null,null,null,null,null,null,null,"Виробництво сталевих бочок і подібних контейнерів",null,null,null,null,null,null,null,null,null,null,null,null,null,null,null,null,null,null,null,null,null,null,null,null,null,null,null,null,"Автономна Республіка Крим","Красноселівка"]
[null,null,null,null,null,null,null,null,null,null,null,null,null,null,null,null,"Виробництво легких металевих паковань",null,null,null,null,null,null,null,null,null,null,null,null,null,null,null,null,null,null,null,null,null,null,null,null,null,null,null,null,"Автономна Республіка Крим","Красносільське"]
[null,null,null,null,null,null,null,null,null,null,null,null,null,null,null,null,"Виробництво виробів із дроту, ланцюгів і пружин",null,null,null,null,null,null,null,null,null,null,null,null,null,null,null,null,null,null,null,null,null,null,null,null,null,null,null,null,"Автономна Республіка Крим","Красносільське (Окунівська)"]
[null,null,null,null,null,null,null,null,null,null,null,null,null,null,null,null,"Виробництво кріпильних і ґвинтонарізних виробів",null,null,null,null,null,null,null,null,null,null,null,null,null,null,null,null,null,null,null,null,null,null,null,null,null,null,null,null,"Автономна Республіка Крим","Краснофлотське"]
[null,null,null,null,null,null,null,null,null,null,null,null,null,null,null,null,"Виробництво інших готових металевих виробів, н.в.і.у.",null,null,null,null,null,null,null,null,null,null,null,null,null,null,null,null,null,null,null,null,null,null,null,null,null,null,null,null,"Автономна Республіка Крим","Красноярське"]
[null,null,null,null,null,null,null,null,null,null,null,null,null,null,null,null,"Виробництво комп'ютерів, електронної та оптичної продукції",null,null,null,null,null,null,null,null,null,null,null,null,null,null,null,null,null,null,null,null,null,null,null,null,null,null,null,null,"Автономна Республіка Крим","Кремнівка"]
[null,null,null,null,null,null,null,null,null,null,null,null,null,null,null,null,"Виробництво електронних компонентів і плат",null,null,null,null,null,null,null,null,null,null,null,null,null,null,null,null,null,null,null,null,null,null,null,null,null,null,null,null,"Автономна Республіка Крим","Крестянівка (Крестянівскої)"]
[null,null,null,null,null,null,null,null,null,null,null,null,null,null,null,null,"Виробництво електронних компонентів",null,null,null,null,null,null,null,null,null,null,null,null,null,null,null,null,null,null,null,null,null,null,null,null,null,null,null,null,"Автономна Республіка Крим","Кривцове"]
[null,null,null,null,null,null,null,null,null,null,null,null,null,null,null,null,"Виробництво змонтованих електронних плат",null,null,null,null,null,null,null,null,null,null,null,null,null,null,null,null,null,null,null,null,null,null,null,null,null,null,null,null,"Автономна Республіка Крим","Криловка (Степновської)"]
[null,null,null,null,null,null,null,null,null,null,null,null,null,null,null,null,"Виробництво комп'ютерів і периферійного устатковання",null,null,null,null,null,null,null,null,null,null,null,null,null,null,null,null,null,null,null,null,null,null,null,null,null,null,null,null,"Автономна Республіка Крим","Криловка (Штормівська)"]
[null,null,null,null,null,null,null,null,null,null,null,null,null,null,null,null,"Виробництво комп'ютерів і периферійного устатковання",null,null,null,null,null,null,null,null,null,null,null,null,null,null,null,null,null,null,null,null,null,null,null,null,null,null,null,null,"Автономна Республіка Крим","Кримка"]
[null,null,null,null,null,null,null,null,null,null,null,null,null,null,null,null,"Виробництво обладнання зв'язку",null,null,null,null,null,null,null,null,null,null,null,null,null,null,null,null,null,null,null,null,null,null,null,null,null,null,null,null,"Автономна Республіка Крим","Кримська Роза"]
[null,null,null,null,null,null,null,null,null,null,null,null,null,null,null,null,"Виробництво обладнання зв'язку",null,null,null,null,null,null,null,null,null,null,null,null,null,null,null,null,null,null,null,null,null,null,null,null,null,null,null,null,"Автономна Республіка Крим","Кримське"]
[null,null,null,null,null,null,null,null,null,null,null,null,null,null,null,null,"Виробництво електронної апаратури побутового призначення для приймання, записування та відтворювання звуку й зображення",null,null,null,null,null,null,null,null,null,null,null,null,null,null,null,null,null,null,null,null,null,null,null,null,null,null,null,null,"Автономна Республіка Крим","Кринички"]
[null,null,null,null,null,null,null,null,null,null,null,null,null,null,null,null,"Виробництво електронної апаратури побутового призначення для приймання, записування та відтворювання звуку й зображення",null,null,null,null,null,null,null,null,null,null,null,null,null,null,null,null,null,null,null,null,null,null,null,null,null,null,null,null,"Автономна Республіка Крим","Кріпке (Вишнівської)"]
[null,null,null,null,null,null,null,null,null,null,null,null,null,null,null,null,"Виробництво інструментів і обладнання для вимірювання, дослідження та навігації; виробництво годинників",null,null,null,null,null,null,null,null,null,null,null,null,null,null,null,null,null,null,null,null,null,null,null,null,null,null,null,null,"Автономна Республіка Крим","Кропоткіне (Чернишівська сільська рада)"]
[null,null,null,null,null,null,null,null,null,null,null,null,null,null,null,null,"Виробництво інструментів і обладнання для вимірювання, дослідження та навігації",null,null,null,null,null,null,null,null,null,null,null,null,null,null,null,null,null,null,null,null,null,null,null,null,null,null,null,null,"Автономна Республіка Крим","Кубанське"]
[null,null,null,null,null,null,null,null,null,null,null,null,null,null,null,null,"Виробництво годинників",null,null,null,null,null,null,null,null,null,null,null,null,null,null,null,null,null,null,null,null,null,null,null,null,null,null,null,null,"Автономна Республіка Крим","Кудрине"]
[null,null,null,null,null,null,null,null,null,null,null,null,null,null,null,null,"Виробництво радіологічного, електромедичного й електротерапевтичного устатковання",null,null,null,null,null,null,null,null,null,null,null,null,null,null,null,null,null,null,null,null,null,null,null,null,null,null,null,null,"Автономна Республіка Крим","Кузнецьке"]
[null,null,null,null,null,null,null,null,null,null,null,null,null,null,null,null,"Виробництво радіологічного, електромедичного й електротерапевтичного устатковання",null,null,null,null,null,null,null,null,null,null,null,null,null,null,null,null,null,null,null,null,null,null,null,null,null,null,null,null,"Автономна Республіка Крим","Куйбишеве"]
[null,null,null,null,null,null,null,null,null,null,null,null,null,null,null,null,"Виробництво оптичних приладів і фотографічного устатковання",null,null,null,null,null,null,null,null,null,null,null,null,null,null,null,null,null,null,null,null,null,null,null,null,null,null,null,null,"Автономна Республіка Крим","Кукурудзяне"]
[null,null,null,null,null,null,null,null,null,null,null,null,null,null,null,null,"Виробництво оптичних приладів і фотографічного устатковання",null,null,null,null,null,null,null,null,null,null,null,null,null,null,null,null,null,null,null,null,null,null,null,null,null,null,null,null,"Автономна Республіка Крим","Кукушкіне"]
[null,null,null,null,null,null,null,null,null,null,null,null,null,null,null,null,"Виробництво магнітних і оптичних носіїв даних",null,null,null,null,null,null,null,null,null,null,null,null,null,null,null,null,null,null,null,null,null,null,null,null,null,null,null,null,"Автономна Республіка Крим","Куликівка"]
[null,null,null,null,null,null,null,null,null,null,null,null,null,null,null,null,"Виробництво магнітних і оптичних носіїв даних",null,null,null,null,null,null,null,null,null,null,null,null,null,null,null,null,null,null,null,null,null,null,null,null,null,null,null,null,"Автономна Республіка Крим","Кумове (Ботанічна сільська рада)"]
[null,null,null,null,null,null,null,null,null,null,null,null,null,null,null,null,"Виробництво електричного устатковання",null,null,null,null,null,null,null,null,null,null,null,null,null,null,null,null,null,null,null,null,null,null,null,null,null,null,null,null,"Автономна Республіка Крим","Кунцеве"]
[null,null,null,null,null,null,null,null,null,null,null,null,null,null,null,null,"Виробництво електродвигунів, генераторів, трансформаторів, електророзподільчої та контрольної апаратури",null,null,null,null,null,null,null,null,null,null,null,null,null,null,null,null,null,null,null,null,null,null,null,null,null,null,null,null,"Автономна Республіка Крим","Купріне"]
[null,null,null,null,null,null,null,null,null,null,null,null,null,null,null,null,"Виробництво електродвигунів, генераторів і трансформаторів",null,null,null,null,null,null,null,null,null,null,null,null,null,null,null,null,null,null,null,null,null,null,null,null,null,null,null,null,"Автономна Республіка Крим","Курганне"]
[null,null,null,null,null,null,null,null,null,null,null,null,null,null,null,null,"Виробництво електророзподільчої та контрольної апаратури",null,null,null,null,null,null,null,null,null,null,null,null,null,null,null,null,null,null,null,null,null,null,null,null,null,null,null,null,"Автономна Республіка Крим","Курганне (Ільїнка)"]
[null,null,null,null,null,null,null,null,null,null,null,null,null,null,null,null,"Виробництво батарей і акумуляторів",null,null,null,null,null,null,null,null,null,null,null,null,null,null,null,null,null,null,null,null,null,null,null,null,null,null,null,null,"Автономна Республіка Крим","Курортне"]
[null,null,null,null,null,null,null,null,null,null,null,null,null,null,null,null,"Виробництво батарей і акумуляторів",null,null,null,null,null,null,null,null,null,null,null,null,null,null,null,null,null,null,null,null,null,null,null,null,null,null,null,null,"Автономна Республіка Крим","Курпати"]
[null,null,null,null,null,null,null,null,null,null,null,null,null,null,null,null,"Виробництво проводів, кабелів і електромонтажних пристроїв",null,null,null,null,null,null,null,null,null,null,null,null,null,null,null,null,null,null,null,null,null,null,null,null,null,null,null,null,"Автономна Республіка Крим","Курське"]
[null,null,null,null,null,null,null,null,null,null,null,null,null,null,null,null,"Виробництво волоконно-оптичних кабелів",null,null,null,null,null,null,null,null,null,null,null,null,null,null,null,null,null,null,null,null,null,null,null,null,null,null,null,null,"Автономна Республіка Крим","Лаванда"]
[null,null,null,null,null,null,null,null,null,null,null,null,null,null,null,null,"Виробництво інших видів електронних і електричних проводів та кабелів",null,null,null,null,null,null,null,null,null,null,null,null,null,null,null,null,null,null,null,null,null,null,null,null,null,null,null,null,"Автономна Республіка Крим","Лаврове"]
[null,null,null,null,null,null,null,null,null,null,null,null,null,null,null,null,"Виробництво електромонтажних пристроїв",null,null,null,null,null,null,null,null,null,null,null,null,null,null,null,null,null,null,null,null,null,null,null,null,null,null,null,null,"Автономна Республіка Крим","Лазарівка"]
[null,null,null,null,null,null,null,null,null,null,null,null,null,null,null,null,"Виробництво електричного освітлювального устатковання",null,null,null,null,null,null,null,null,null,null,null,null,null,null,null,null,null,null,null,null,null,null,null,null,null,null,null,null,"Автономна Республіка Крим","Лазурне"]
[null,null,null,null,null,null,null,null,null,null,null,null,null,null,null,null,"Виробництво електричного освітлювального устатковання",null,null,null,null,null,null,null,null,null,null,null,null,null,null,null,null,null,null,null,null,null,null,null,null,null,null,null,null,"Автономна Республіка Крим","Лебединка"]
[null,null,null,null,null,null,null,null,null,null,null,null,null,null,null,null,"Виробництво побутових приладів",null,null,null,null,null,null,null,null,null,null,null,null,null,null,null,null,null,null,null,null,null,null,null,null,null,null,null,null,"Автономна Республіка Крим","Левадки"]
[null,null,null,null,null,null,null,null,null,null,null,null,null,null,null,null,"Виробництво електричних побутових приладів",null,null,null,null,null,null,null,null,null,null,null,null,null,null,null,null,null,null,null,null,null,null,null,null,null,null,null,null,"Автономна Республіка Крим","Левітанівка (Калінінської)"]
[null,null,null,null,null,null,null,null,null,null,null,null,null,null,null,null,"Виробництво неелектричних побутових приладів",null,null,null,null,null,null,null,null,null,null,null,null,null,null,null,null,null,null,null,null,null,null,null,null,null,null,null,null,"Автономна Республіка Крим","Леніне"]
[null,null,null,null,null,null,null,null,null,null,null,null,null,null,null,null,"Виробництво іншого електричного устатковання",null,null,null,null,null,null,null,null,null,null,null,null,null,null,null,null,null,null,null,null,null,null,null,null,null,null,null,null,"Автономна Республіка Крим","Ленінське"]
[null,null,null,null,null,null,null,null,null,null,null,null,null,null,null,null,"Виробництво іншого електричного устатковання",null,null,null,null,null,null,null,null,null,null,null,null,null,null,null,null,null,null,null,null,null,null,null,null,null,null,null,null,"Автономна Республіка Крим","Ленське"]
[null,null,null,null,null,null,null,null,null,null,null,null,null,null,null,null,"Виробництво машин і устатковання, н.в.і.у.",null,null,null,null,null,null,null,null,null,null,null,null,null,null,null,null,null,null,null,null,null,null,null,null,null,null,null,null,"Автономна Республіка Крим","Лиманне"]
[null,null,null,null,null,null,null,null,null,null,null,null,null,null,null,null,"Виробництво машин і устатковання загального призначення",null,null,null,null,null,null,null,null,null,null,null,null,null,null,null,null,null,null,null,null,null,null,null,null,null,null,null,null,"Автономна Республіка Крим","Листвинне"]
[null,null,null,null,null,null,null,null,null,null,null,null,null,null,null,null,"Виробництво двигунів і турбін, крім авіаційних, автотранспортних і мотоциклетних двигунів",null,null,null,null,null,null,null,null,null,null,null,null,null,null,null,null,null,null,null,null,null,null,null,null,null,null,null,null,"Автономна Республіка Крим","Листове"]
[null,null,null,null,null,null,null,null,null,null,null,null,null,null,null,null,"Виробництво гідравлічного та пневматичного устатковання",null,null,null,null,null,null,null,null,null,null,null,null,null,null,null,null,null,null,null,null,null,null,null,null,null,null,null,null,"Автономна Республіка Крим","Литвиненкове"]
[null,null,null,null,null,null,null,null,null,null,null,null,null,null,null,null,"Виробництво інших помп і компресорів",null,null,null,null,null,null,null,null,null,null,null,null,null,null,null,null,null,null,null,null,null,null,null,null,null,null,null,null,"Автономна Республіка Крим","Лібкнехтівка"]
[null,null,null,null,null,null,null,null,null,null,null,null,null,null,null,null,"Виробництво інших кранів і клапанів",null,null,null,null,null,null,null,null,null,null,null,null,null,null,null,null,null,null,null,null,null,null,null,null,null,null,null,null,"Автономна Республіка Крим","Лівадія"]
[null,null,null,null,null,null,null,null,null,null,null,null,null,null,null,null,"Виробництво підшипників, зубчастих передач, елементів механічних передач і приводів",null,null,null,null,null,null,null,null,null,null,null,null,null,null,null,null,null,null,null,null,null,null,null,null,null,null,null,null,"Автономна Республіка Крим","Лікарственне"]
[null,null,null,null,null,null,null,null,null,null,null,null,null,null,null,null,"Виробництво інших машин і устатковання загального призначення",null,null,null,null,null,null,null,null,null,null,null,null,null,null,null,null,null,null,null,null,null,null,null,null,null,null,null,null,"Автономна Республіка Крим","Лінійне"]
[null,null,null,null,null,null,null,null,null,null,null,null,null,null,null,null,"Виробництво духових шаф, печей і пічних пальників",null,null,null,null,null,null,null,null,null,null,null,null,null,null,null,null,null,null,null,null,null,null,null,null,null,null,null,null,"Автономна Республіка Крим","Лісне"]
[null,null,null,null,null,null,null,null,null,null,null,null,null,null,null,null,"Виробництво підіймального та вантажно-розвантажувального устатковання",null,null,null,null,null,null,null,null,null,null,null,null,null,null,null,null,null,null,null,null,null,null,null,null,null,null,null,null,"Автономна Республіка Крим","Ліснівка"]
[null,null,null,null,null,null,null,null,null,null,null,null,null,null,null,null,"Виробництво офісних машин і устатковання, крім комп'ютерів і периферійного устатковання",null,null,null,null,null,null,null,null,null,null,null,null,null,null,null,null,null,null,null,null,null,null,null,null,null,null,null,null,"Автономна Республіка Крим","Лісносілля"]
[null,null,null,null,null,null,null,null,null,null,null,null,null,null,null,null,"Виробництво ручних електромеханічних і пневматичних інструментів",null,null,null,null,null,null,null,null,null,null,null,null,null,null,null,null,null,null,null,null,null,null,null,null,null,null,null,null,"Автономна Республіка Крим","Лічебне"]
[null,null,null,null,null,null,null,null,null,null,null,null,null,null,null,null,"Виробництво промислового холодильного та вентиляційного устатковання",null,null,null,null,null,null,null,null,null,null,null,null,null,null,null,null,null,null,null,null,null,null,null,null,null,null,null,null,"Автономна Республіка Крим","Лобанове"]
[null,null,null,null,null,null,null,null,null,null,null,null,null,null,null,null,"Виробництво інших машин і устатковання загального призначення, н.в.і.у.",null,null,null,null,null,null,null,null,null,null,null,null,null,null,null,null,null,null,null,null,null,null,null,null,null,null,null,null,"Автономна Республіка Крим","Ломоносове"]
[null,null,null,null,null,null,null,null,null,null,null,null,null,null,null,null,"Виробництво машин і устатковання для сільського та лісового господарства",null,null,null,null,null,null,null,null,null,null,null,null,null,null,null,null,null,null,null,null,null,null,null,null,null,null,null,null,"Автономна Республіка Крим","Лохівка"]
[null,null,null,null,null,null,null,null,null,null,null,null,null,null,null,null,"Виробництво машин і устатковання для сільського та лісового господарства",null,null,null,null,null,null,null,null,null,null,null,null,null,null,null,null,null,null,null,null,null,null,null,null,null,null,null,null,"Автономна Республіка Крим","Луганське"]
[null,null,null,null,null,null,null,null,null,null,null,null,null,null,null,null,"Виробництво металообробних машин і верстатів",null,null,null,null,null,null,null,null,null,null,null,null,null,null,null,null,null,null,null,null,null,null,null,null,null,null,null,null,"Автономна Республіка Крим","Лугове"]
[null,null,null,null,null,null,null,null,null,null,null,null,null,null,null,null,"Виробництво металообробних машин",null,null,null,null,null,null,null,null,null,null,null,null,null,null,null,null,null,null,null,null,null,null,null,null,null,null,null,null,"Автономна Республіка Крим","Лугове (Сизівська)"]
[null,null,null,null,null,null,null,null,null,null,null,null,null,null,null,null,"Виробництво інших верстатів",null,null,null,null,null,null,null,null,null,null,null,null,null,null,null,null,null,null,null,null,null,null,null,null,null,null,null,null,"Автономна Республіка Крим","Лужки"]
[null,null,null,null,null,null,null,null,null,null,null,null,null,null,null,null,"Виробництво інших машин і устатковання спеціального призначення",null,null,null,null,null,null,null,null,null,null,null,null,null,null,null,null,null,null,null,null,null,null,null,null,null,null,null,null,"Автономна Республіка Крим","Лучисте"]
[null,null,null,null,null,null,null,null,null,null,null,null,null,null,null,null,"Виробництво машин і устатковання для металургії",null,null,null,null,null,null,null,null,null,null,null,null,null,null,null,null,null,null,null,null,null,null,null,null,null,null,null,null,"Автономна Республіка Крим","Лучове"]
[null,null,null,null,null,null,null,null,null,null,null,null,null,null,null,null,"Виробництво машин і устатковання для добувної промисловості та будівництва",null,null,null,null,null,null,null,null,null,null,null,null,null,null,null,null,null,null,null,null,null,null,null,null,null,null,null,null,"Автономна Республіка Крим","Лушине (Стовпівська)"]
[null,null,null,null,null,null,null,null,null,null,null,null,null,null,null,null,"Виробництво машин і устатковання для виготовлення харчових продуктів і напоїв, перероблення тютюну",null,null,null,null,null,null,null,null,null,null,null,null,null,null,null,null,null,null,null,null,null,null,null,null,null,null,null,null,"Автономна Республіка Крим","Любимівка"]
[null,null,null,null,null,null,null,null,null,null,null,null,null,null,null,null,"Виробництво машин і устатковання для виготовлення текстильних, швейних, хутряних і шкіряних виробів",null,null,null,null,null,null,null,null,null,null,null,null,null,null,null,null,null,null,null,null,null,null,null,null,null,null,null,null,"Автономна Республіка Крим","Львове"]
[null,null,null,null,null,null,null,null,null,null,null,null,null,null,null,null,"Виробництво машин і устатковання для виготовлення паперу та картону",null,null,null,null,null,null,null,null,null,null,null,null,null,null,null,null,null,null,null,null,null,null,null,null,null,null,null,null,"Автономна Республіка Крим","Льговське"]
[null,null,null,null,null,null,null,null,null,null,null,null,null,null,null,null,"Виробництво машин і устатковання для виготовлення пластмас і гуми",null,null,null,null,null,null,null,null,null,null,null,null,null,null,null,null,null,null,null,null,null,null,null,null,null,null,null,null,"Автономна Республіка Крим","Магазинка (Магазинська)"]
[null,null,null,null,null,null,null,null,null,null,null,null,null,null,null,null,"Виробництво інших машин і устатковання спеціального призначення, н.в.і.у.",null,null,null,null,null,null,null,null,null,null,null,null,null,null,null,null,null,null,null,null,null,null,null,null,null,null,null,null,"Автономна Республіка Крим","Мазанка"]
[null,null,null,null,null,null,null,null,null,null,null,null,null,null,null,null,"Виробництво автотранспортних засобів, причепів і напівпричепів",null,null,null,null,null,null,null,null,null,null,null,null,null,null,null,null,null,null,null,null,null,null,null,null,null,null,null,null,"Автономна Республіка Крим","Майське"]
[null,null,null,null,null,null,null,null,null,null,null,null,null,null,null,null,"Виробництво автотранспортних засобів",null,null,null,null,null,null,null,null,null,null,null,null,null,null,null,null,null,null,null,null,null,null,null,null,null,null,null,null,"Автономна Республіка Крим","Макарівка (Первомайської)"]
[null,null,null,null,null,null,null,null,null,null,null,null,null,null,null,null,"Виробництво автотранспортних засобів",null,null,null,null,null,null,null,null,null,null,null,null,null,null,null,null,null,null,null,null,null,null,null,null,null,null,null,null,"Автономна Республіка Крим","Маківка"]
[null,null,null,null,null,null,null,null,null,null,null,null,null,null,null,null,"Виробництво кузовів для автотранспортних засобів, причепів і напівпричепів",null,null,null,null,null,null,null,null,null,null,null,null,null,null,null,null,null,null,null,null,null,null,null,null,null,null,null,null,"Автономна Республіка Крим","Маківське"]
[null,null,null,null,null,null,null,null,null,null,null,null,null,null,null,null,"Виробництво кузовів для автотранспортних засобів, причепів і напівпричепів",null,null,null,null,null,null,null,null,null,null,null,null,null,null,null,null,null,null,null,null,null,null,null,null,null,null,null,null,"Автономна Республіка Крим","Максимівка (Руч'ївська сільська рада)"]
[null,null,null,null,null,null,null,null,null,null,null,null,null,null,null,null,"Виробництво вузлів, деталей і приладдя для автотранспортних засобів",null,null,null,null,null,null,null,null,null,null,null,null,null,null,null,null,null,null,null,null,null,null,null,null,null,null,null,null,"Автономна Республіка Крим","Мале Садове"]
[null,null,null,null,null,null,null,null,null,null,null,null,null,null,null,null,"Виробництво електричного й електронного устатковання для автотранспортних засобів",null,null,null,null,null,null,null,null,null,null,null,null,null,null,null,null,null,null,null,null,null,null,null,null,null,null,null,null,"Автономна Республіка Крим","Маленьке"]
[null,null,null,null,null,null,null,null,null,null,null,null,null,null,null,null,"Виробництво інших вузлів, деталей і приладдя для автотранспортних засобів",null,null,null,null,null,null,null,null,null,null,null,null,null,null,null,null,null,null,null,null,null,null,null,null,null,null,null,null,"Автономна Республіка Крим","Малий Маяк"]
[null,null,null,null,null,null,null,null,null,null,null,null,null,null,null,null,"Виробництво інших транспортних засобів",null,null,null,null,null,null,null,null,null,null,null,null,null,null,null,null,null,null,null,null,null,null,null,null,null,null,null,null,"Автономна Республіка Крим","Малинівка"]
[null,null,null,null,null,null,null,null,null,null,null,null,null,null,null,null,"Будування суден і човнів",null,null,null,null,null,null,null,null,null,null,null,null,null,null,null,null,null,null,null,null,null,null,null,null,null,null,null,null,"Автономна Республіка Крим","Маловидне"]
[null,null,null,null,null,null,null,null,null,null,null,null,null,null,null,null,"Будування суден і плавучих конструкцій",null,null,null,null,null,null,null,null,null,null,null,null,null,null,null,null,null,null,null,null,null,null,null,null,null,null,null,null,"Автономна Республіка Крим","Малоріченське"]
[null,null,null,null,null,null,null,null,null,null,null,null,null,null,null,null,"Будування прогулянкових і спортивних човнів",null,null,null,null,null,null,null,null,null,null,null,null,null,null,null,null,null,null,null,null,null,null,null,null,null,null,null,null,"Автономна Республіка Крим","Мар'ївка"]
[null,null,null,null,null,null,null,null,null,null,null,null,null,null,null,null,"Виробництво залізничних локомотивів і рухомого складу",null,null,null,null,null,null,null,null,null,null,null,null,null,null,null,null,null,null,null,null,null,null,null,null,null,null,null,null,"Автономна Республіка Крим","Мар'їне"]
[null,null,null,null,null,null,null,null,null,null,null,null,null,null,null,null,"Виробництво залізничних локомотивів і рухомого складу",null,null,null,null,null,null,null,null,null,null,null,null,null,null,null,null,null,null,null,null,null,null,null,null,null,null,null,null,"Автономна Республіка Крим","Маркове"]
[null,null,null,null,null,null,null,null,null,null,null,null,null,null,null,null,"Виробництво повітряних і космічних літальних апаратів, супутнього устатковання",null,null,null,null,null,null,null,null,null,null,null,null,null,null,null,null,null,null,null,null,null,null,null,null,null,null,null,null,"Автономна Республіка Крим","Мартинівка"]
[null,null,null,null,null,null,null,null,null,null,null,null,null,null,null,null,"Виробництво повітряних і космічних літальних апаратів, супутнього устатковання",null,null,null,null,null,null,null,null,null,null,null,null,null,null,null,null,null,null,null,null,null,null,null,null,null,null,null,null,"Автономна Республіка Крим","Марфівка"]
[null,null,null,null,null,null,null,null,null,null,null,null,null,null,null,null,"Виробництво військових транспортних засобів",null,null,null,null,null,null,null,null,null,null,null,null,null,null,null,null,null,null,null,null,null,null,null,null,null,null,null,null,"Автономна Республіка Крим","Мар'янівка"]
[null,null,null,null,null,null,null,null,null,null,null,null,null,null,null,null,"Виробництво військових транспортних засобів",null,null,null,null,null,null,null,null,null,null,null,null,null,null,null,null,null,null,null,null,null,null,null,null,null,null,null,null,"Автономна Республіка Крим","Масандра"]
[null,null,null,null,null,null,null,null,null,null,null,null,null,null,null,null,"Виробництво транспортних засобів, н.в.і.у.",null,null,null,null,null,null,null,null,null,null,null,null,null,null,null,null,null,null,null,null,null,null,null,null,null,null,null,null,"Автономна Республіка Крим","Маслове"]
[null,null,null,null,null,null,null,null,null,null,null,null,null,null,null,null,"Виробництво мотоциклів",null,null,null,null,null,null,null,null,null,null,null,null,null,null,null,null,null,null,null,null,null,null,null,null,null,null,null,null,"Автономна Республіка Крим","Матвіївка (Правдинської)"]
[null,null,null,null,null,null,null,null,null,null,null,null,null,null,null,null,"Виробництво велосипедів, дитячих та інвалідних колясок",null,null,null,null,null,null,null,null,null,null,null,null,null,null,null,null,null,null,null,null,null,null,null,null,null,null,null,null,"Автономна Республіка Крим","Матросівка"]
[null,null,null,null,null,null,null,null,null,null,null,null,null,null,null,null,"Виробництво інших транспортних засобів і обладнання, н.в.і.у.",null,null,null,null,null,null,null,null,null,null,null,null,null,null,null,null,null,null,null,null,null,null,null,null,null,null,null,null,"Автономна Республіка Крим","Машине"]
[null,null,null,null,null,null,null,null,null,null,null,null,null,null,null,null,"Виробництво меблів",null,null,null,null,null,null,null,null,null,null,null,null,null,null,null,null,null,null,null,null,null,null,null,null,null,null,null,null,"Автономна Республіка Крим","Маяк"]
[null,null,null,null,null,null,null,null,null,null,null,null,null,null,null,null,"Виробництво меблів",null,null,null,null,null,null,null,null,null,null,null,null,null,null,null,null,null,null,null,null,null,null,null,null,null,null,null,null,"Автономна Республіка Крим","Медведеве"]
[null,null,null,null,null,null,null,null,null,null,null,null,null,null,null,null,"Виробництво меблів для офісів і підприємств торгівлі",null,null,null,null,null,null,null,null,null,null,null,null,null,null,null,null,null,null,null,null,null,null,null,null,null,null,null,null,"Автономна Республіка Крим","Медведівка"]
[null,null,null,null,null,null,null,null,null,null,null,null,null,null,null,null,"Виробництво кухонних меблів",null,null,null,null,null,null,null,null,null,null,null,null,null,null,null,null,null,null,null,null,null,null,null,null,null,null,null,null,"Автономна Республіка Крим","Межове"]
[null,null,null,null,null,null,null,null,null,null,null,null,null,null,null,null,"Виробництво матраців",null,null,null,null,null,null,null,null,null,null,null,null,null,null,null,null,null,null,null,null,null,null,null,null,null,null,null,null,"Автономна Республіка Крим","Мелехове"]
[null,null,null,null,null,null,null,null,null,null,null,null,null,null,null,null,"Виробництво інших меблів",null,null,null,null,null,null,null,null,null,null,null,null,null,null,null,null,null,null,null,null,null,null,null,null,null,null,null,null,"Автономна Республіка Крим","Мельники"]
[null,null,null,null,null,null,null,null,null,null,null,null,null,null,null,null,"Виробництво іншої продукції",null,null,null,null,null,null,null,null,null,null,null,null,null,null,null,null,null,null,null,null,null,null,null,null,null,null,null,null,"Автономна Республіка Крим","Мельничне"]
[null,null,null,null,null,null,null,null,null,null,null,null,null,null,null,null,"Виробництво ювелірних виробів, біжутерії та подібних виробів",null,null,null,null,null,null,null,null,null,null,null,null,null,null,null,null,null,null,null,null,null,null,null,null,null,null,null,null,"Автономна Республіка Крим","Мельничне (Островської)"]
[null,null,null,null,null,null,null,null,null,null,null,null,null,null,null,null,"Карбування монет",null,null,null,null,null,null,null,null,null,null,null,null,null,null,null,null,null,null,null,null,null,null,null,null,null,null,null,null,"Автономна Республіка Крим","Менделєєве"]
[null,null,null,null,null,null,null,null,null,null,null,null,null,null,null,null,"Виробництво ювелірних і подібних виробів",null,null,null,null,null,null,null,null,null,null,null,null,null,null,null,null,null,null,null,null,null,null,null,null,null,null,null,null,"Автономна Республіка Крим","Миколаївка"]
[null,null,null,null,null,null,null,null,null,null,null,null,null,null,null,null,"Виробництво біжутерії та подібних виробів",null,null,null,null,null,null,null,null,null,null,null,null,null,null,null,null,null,null,null,null,null,null,null,null,null,null,null,null,"Автономна Республіка Крим","Миндальне"]
[null,null,null,null,null,null,null,null,null,null,null,null,null,null,null,null,"Виробництво музичних інструментів",null,null,null,null,null,null,null,null,null,null,null,null,null,null,null,null,null,null,null,null,null,null,null,null,null,null,null,null,"Автономна Республіка Крим","Мирний"]
[null,null,null,null,null,null,null,null,null,null,null,null,null,null,null,null,"Виробництво музичних інструментів",null,null,null,null,null,null,null,null,null,null,null,null,null,null,null,null,null,null,null,null,null,null,null,null,null,null,null,null,"Автономна Республіка Крим","Мирнівка"]
[null,null,null,null,null,null,null,null,null,null,null,null,null,null,null,null,"Виробництво спортивних товарів",null,null,null,null,null,null,null,null,null,null,null,null,null,null,null,null,null,null,null,null,null,null,null,null,null,null,null,null,"Автономна Республіка Крим","Миролюбівка"]
[null,null,null,null,null,null,null,null,null,null,null,null,null,null,null,null,"Виробництво спортивних товарів",null,null,null,null,null,null,null,null,null,null,null,null,null,null,null,null,null,null,null,null,null,null,null,null,null,null,null,null,"Автономна Республіка Крим","Миронівка"]
[null,null,null,null,null,null,null,null,null,null,null,null,null,null,null,null,"Виробництво ігор та іграшок",null,null,null,null,null,null,null,null,null,null,null,null,null,null,null,null,null,null,null,null,null,null,null,null,null,null,null,null,"Автономна Республіка Крим","Мисове"]
[null,null,null,null,null,null,null,null,null,null,null,null,null,null,null,null,"Виробництво ігор та іграшок",null,null,null,null,null,null,null,null,null,null,null,null,null,null,null,null,null,null,null,null,null,null,null,null,null,null,null,null,"Автономна Республіка Крим","Митрофанівка"]
[null,null,null,null,null,null,null,null,null,null,null,null,null,null,null,null,"Виробництво медичних і стоматологічних інструментів і матеріалів",null,null,null,null,null,null,null,null,null,null,null,null,null,null,null,null,null,null,null,null,null,null,null,null,null,null,null,null,"Автономна Республіка Крим","Митюрине"]
[null,null,null,null,null,null,null,null,null,null,null,null,null,null,null,null,"Виробництво медичних і стоматологічних інструментів і матеріалів",null,null,null,null,null,null,null,null,null,null,null,null,null,null,null,null,null,null,null,null,null,null,null,null,null,null,null,null,"Автономна Республіка Крим","Митяєве"]
[null,null,null,null,null,null,null,null,null,null,null,null,null,null,null,null,"Виробництво продукції, н.в.і.у.",null,null,null,null,null,null,null,null,null,null,null,null,null,null,null,null,null,null,null,null,null,null,null,null,null,null,null,null,"Автономна Республіка Крим","Михайлівка"]
[null,null,null,null,null,null,null,null,null,null,null,null,null,null,null,null,"Виробництво мітел і щіток",null,null,null,null,null,null,null,null,null,null,null,null,null,null,null,null,null,null,null,null,null,null,null,null,null,null,null,null,"Автономна Республіка Крим","Міжводне"]
[null,null,null,null,null,null,null,null,null,null,null,null,null,null,null,null,"Виробництво іншої продукції, н.в.і.у.",null,null,null,null,null,null,null,null,null,null,null,null,null,null,null,null,null,null,null,null,null,null,null,null,null,null,null,null,"Автономна Республіка Крим","Міжгірне"]
[null,null,null,null,null,null,null,null,null,null,null,null,null,null,null,null,"Ремонт і монтаж машин і устатковання",null,null,null,null,null,null,null,null,null,null,null,null,null,null,null,null,null,null,null,null,null,null,null,null,null,null,null,null,"Автономна Республіка Крим","Міжгір'я"]
[null,null,null,null,null,null,null,null,null,null,null,null,null,null,null,null,"Ремонт і технічне обслуговування готових металевих виробів, машин і устатковання",null,null,null,null,null,null,null,null,null,null,null,null,null,null,null,null,null,null,null,null,null,null,null,null,null,null,null,null,"Автономна Республіка Крим","Міжріччя"]
[null,null,null,null,null,null,null,null,null,null,null,null,null,null,null,null,"Ремонт і технічне обслуговування готових металевих виробів",null,null,null,null,null,null,null,null,null,null,null,null,null,null,null,null,null,null,null,null,null,null,null,null,null,null,null,null,"Автономна Республіка Крим","Мілководне"]
[null,null,null,null,null,null,null,null,null,null,null,null,null,null,null,null,"Ремонт і технічне обслуговування машин і устатковання промислового призначення",null,null,null,null,null,null,null,null,null,null,null,null,null,null,null,null,null,null,null,null,null,null,null,null,null,null,null,null,"Автономна Республіка Крим","Мічурінівка"]
[null,null,null,null,null,null,null,null,null,null,null,null,null,null,null,null,"Ремонт і технічне обслуговування електронного й оптичного устатковання",null,null,null,null,null,null,null,null,null,null,null,null,null,null,null,null,null,null,null,null,null,null,null,null,null,null,null,null,"Автономна Республіка Крим","Мічурінське"]
[null,null,null,null,null,null,null,null,null,null,null,null,null,null,null,null,"Ремонт і технічне обслуговування електричного устатковання",null,null,null,null,null,null,null,null,null,null,null,null,null,null,null,null,null,null,null,null,null,null,null,null,null,null,null,null,"Автономна Республіка Крим","Многоводне"]
[null,null,null,null,null,null,null,null,null,null,null,null,null,null,null,null,"Ремонт і технічне обслуговування суден і човнів",null,null,null,null,null,null,null,null,null,null,null,null,null,null,null,null,null,null,null,null,null,null,null,null,null,null,null,null,"Автономна Республіка Крим","Многоріччя"]
[null,null,null,null,null,null,null,null,null,null,null,null,null,null,null,null,"Ремонт і технічне обслуговування повітряних і космічних літальних апаратів",null,null,null,null,null,null,null,null,null,null,null,null,null,null,null,null,null,null,null,null,null,null,null,null,null,null,null,null,"Автономна Республіка Крим","Молодіжне"]
[null,null,null,null,null,null,null,null,null,null,null,null,null,null,null,null,"Ремонт і технічне обслуговування інших транспортних засобів",null,null,null,null,null,null,null,null,null,null,null,null,null,null,null,null,null,null,null,null,null,null,null,null,null,null,null,null,"Автономна Республіка Крим","Молочне"]
[null,null,null,null,null,null,null,null,null,null,null,null,null,null,null,null,"Ремонт і технічне обслуговування інших машин і устатковання",null,null,null,null,null,null,null,null,null,null,null,null,null,null,null,null,null,null,null,null,null,null,null,null,null,null,null,null,"Автономна Республіка Крим","Молочне (Ковильнівська сільська рада)"]
[null,null,null,null,null,null,null,null,null,null,null,null,null,null,null,null,"Установлення та монтаж машин і устатковання",null,null,null,null,null,null,null,null,null,null,null,null,null,null,null,null,null,null,null,null,null,null,null,null,null,null,null,null,"Автономна Республіка Крим","Морське"]
[null,null,null,null,null,null,null,null,null,null,null,null,null,null,null,null,"Установлення та монтаж машин і устатковання",null,null,null,null,null,null,null,null,null,null,null,null,null,null,null,null,null,null,null,null,null,null,null,null,null,null,null,null,"Автономна Республіка Крим","Мостове"]
[null,null,null,null,null,null,null,null,null,null,null,null,null,null,null,null,"Постачання електроенергії, газу, пари та кондиційованого повітря",null,null,null,null,null,null,null,null,null,null,null,null,null,null,null,null,null,null,null,null,null,null,null,null,null,null,null,null,"Автономна Республіка Крим","Мраморне"]
[null,null,null,null,null,null,null,null,null,null,null,null,null,null,null,null,"Постачання електроенергії, газу, пари та кондиційованого повітря",null,null,null,null,null,null,null,null,null,null,null,null,null,null,null,null,null,null,null,null,null,null,null,null,null,null,null,null,"Автономна Республіка Крим","Муромське"]
[null,null,null,null,null,null,null,null,null,null,null,null,null,null,null,null,"Виробництво, передача та розподілення електроенергії",null,null,null,null,null,null,null,null,null,null,null,null,null,null,null,null,null,null,null,null,null,null,null,null,null,null,null,null,"Автономна Республіка Крим","Мускатне"]
[null,null,null,null,null,null,null,null,null,null,null,null,null,null,null,null,"Виробництво електроенергії",null,null,null,null,null,null,null,null,null,null,null,null,null,null,null,null,null,null,null,null,null,null,null,null,null,null,null,null,"Автономна Республіка Крим","Набережне"]
[null,null,null,null,null,null,null,null,null,null,null,null,null,null,null,null,"Передача електроенергії",null,null,null,null,null,null,null,null,null,null,null,null,null,null,null,null,null,null,null,null,null,null,null,null,null,null,null,null,"Автономна Республіка Крим","Нагірне"]
[null,null,null,null,null,null,null,null,null,null,null,null,null,null,null,null,"Розподілення електроенергії",null,null,null,null,null,null,null,null,null,null,null,null,null,null,null,null,null,null,null,null,null,null,null,null,null,null,null,null,"Автономна Республіка Крим","Надежда"]
[null,null,null,null,null,null,null,null,null,null,null,null,null,null,null,null,"Торгівля електроенергією",null,null,null,null,null,null,null,null,null,null,null,null,null,null,null,null,null,null,null,null,null,null,null,null,null,null,null,null,"Автономна Республіка Крим","Надеждине (Красноармійська)"]
[null,null,null,null,null,null,null,null,null,null,null,null,null,null,null,null,"Виробництво газу; розподілення газоподібного палива через місцеві (локальні) трубопроводи",null,null,null,null,null,null,null,null,null,null,null,null,null,null,null,null,null,null,null,null,null,null,null,null,null,null,null,null,"Автономна Республіка Крим","Найдьонівка"]
[null,null,null,null,null,null,null,null,null,null,null,null,null,null,null,null,"Виробництво газу",null,null,null,null,null,null,null,null,null,null,null,null,null,null,null,null,null,null,null,null,null,null,null,null,null,null,null,null,"Автономна Республіка Крим","Наникове"]
[null,null,null,null,null,null,null,null,null,null,null,null,null,null,null,null,"Розподілення газоподібного палива через місцеві (локальні) трубопроводи",null,null,null,null,null,null,null,null,null,null,null,null,null,null,null,null,null,null,null,null,null,null,null,null,null,null,null,null,"Автономна Республіка Крим","Насипне"]
[null,null,null,null,null,null,null,null,null,null,null,null,null,null,null,null,"Торгівля газом через місцеві (локальні) трубопроводи",null,null,null,null,null,null,null,null,null,null,null,null,null,null,null,null,null,null,null,null,null,null,null,null,null,null,null,null,"Автономна Республіка Крим","Наташине"]
[null,null,null,null,null,null,null,null,null,null,null,null,null,null,null,null,"Постачання пари, гарячої води та кондиційованого повітря",null,null,null,null,null,null,null,null,null,null,null,null,null,null,null,null,null,null,null,null,null,null,null,null,null,null,null,null,"Автономна Республіка Крим","Наумівка"]
[null,null,null,null,null,null,null,null,null,null,null,null,null,null,null,null,"Постачання пари, гарячої води та кондиційованого повітря",null,null,null,null,null,null,null,null,null,null,null,null,null,null,null,null,null,null,null,null,null,null,null,null,null,null,null,null,"Автономна Республіка Крим","Научний"]
[null,null,null,null,null,null,null,null,null,null,null,null,null,null,null,null,"Водопостачання; каналізація, поводження з відходами",null,null,null,null,null,null,null,null,null,null,null,null,null,null,null,null,null,null,null,null,null,null,null,null,null,null,null,null,"Автономна Республіка Крим","Нахідка"]
[null,null,null,null,null,null,null,null,null,null,null,null,null,null,null,null,"Забір, очищення та постачання води",null,null,null,null,null,null,null,null,null,null,null,null,null,null,null,null,null,null,null,null,null,null,null,null,null,null,null,null,"Автономна Республіка Крим","Нахімове"]
[null,null,null,null,null,null,null,null,null,null,null,null,null,null,null,null,"Забір, очищення та постачання води",null,null,null,null,null,null,null,null,null,null,null,null,null,null,null,null,null,null,null,null,null,null,null,null,null,null,null,null,"Автономна Республіка Крим","Невське"]
[null,null,null,null,null,null,null,null,null,null,null,null,null,null,null,null,"Забір очищення та постачання води",null,null,null,null,null,null,null,null,null,null,null,null,null,null,null,null,null,null,null,null,null,null,null,null,null,null,null,null,"Автономна Республіка Крим","Некрасове"]
[null,null,null,null,null,null,null,null,null,null,null,null,null,null,null,null,"Каналізація, відведення й очищення стічних вод",null,null,null,null,null,null,null,null,null,null,null,null,null,null,null,null,null,null,null,null,null,null,null,null,null,null,null,null,"Автономна Республіка Крим","Некрасовка"]
[null,null,null,null,null,null,null,null,null,null,null,null,null,null,null,null,"Каналізація, відведення й очищення стічних вод",null,null,null,null,null,null,null,null,null,null,null,null,null,null,null,null,null,null,null,null,null,null,null,null,null,null,null,null,"Автономна Республіка Крим","Нива"]
[null,null,null,null,null,null,null,null,null,null,null,null,null,null,null,null,"Каналізація, відведення й очищення стічних вод",null,null,null,null,null,null,null,null,null,null,null,null,null,null,null,null,null,null,null,null,null,null,null,null,null,null,null,null,"Автономна Республіка Крим","Нива (Березівська)"]
[null,null,null,null,null,null,null,null,null,null,null,null,null,null,null,null,"Збирання, оброблення й видалення відходів; відновлення матеріалів",null,null,null,null,null,null,null,null,null,null,null,null,null,null,null,null,null,null,null,null,null,null,null,null,null,null,null,null,"Автономна Республіка Крим","Нижнє Запрудне"]
[null,null,null,null,null,null,null,null,null,null,null,null,null,null,null,null,"Збирання відходів",null,null,null,null,null,null,null,null,null,null,null,null,null,null,null,null,null,null,null,null,null,null,null,null,null,null,null,null,"Автономна Республіка Крим","Нижні Орішники"]
[null,null,null,null,null,null,null,null,null,null,null,null,null,null,null,null,"Збирання безпечних відходів",null,null,null,null,null,null,null,null,null,null,null,null,null,null,null,null,null,null,null,null,null,null,null,null,null,null,null,null,"Автономна Республіка Крим","Нижні Острожки"]
[null,null,null,null,null,null,null,null,null,null,null,null,null,null,null,null,"Збирання небезпечних відходів",null,null,null,null,null,null,null,null,null,null,null,null,null,null,null,null,null,null,null,null,null,null,null,null,null,null,null,null,"Автономна Республіка Крим","Нижня Голубинка"]
[null,null,null,null,null,null,null,null,null,null,null,null,null,null,null,null,"Оброблення та видалення відходів",null,null,null,null,null,null,null,null,null,null,null,null,null,null,null,null,null,null,null,null,null,null,null,null,null,null,null,null,"Автономна Республіка Крим","Нижня Кутузовка"]
[null,null,null,null,null,null,null,null,null,null,null,null,null,null,null,null,"Оброблення та видалення безпечних відходів",null,null,null,null,null,null,null,null,null,null,null,null,null,null,null,null,null,null,null,null,null,null,null,null,null,null,null,null,"Автономна Республіка Крим","Нижньогірський"]
[null,null,null,null,null,null,null,null,null,null,null,null,null,null,null,null,"Оброблення та видалення небезпечних відходів",null,null,null,null,null,null,null,null,null,null,null,null,null,null,null,null,null,null,null,null,null,null,null,null,null,null,null,null,"Автономна Республіка Крим","Нижньозаморське"]
[null,null,null,null,null,null,null,null,null,null,null,null,null,null,null,null,"Відновлення матеріалів",null,null,null,null,null,null,null,null,null,null,null,null,null,null,null,null,null,null,null,null,null,null,null,null,null,null,null,null,"Автономна Республіка Крим","Нижньокурганне"]
[null,null,null,null,null,null,null,null,null,null,null,null,null,null,null,null,"Демонтаж (розбирання) машин і устатковання",null,null,null,null,null,null,null,null,null,null,null,null,null,null,null,null,null,null,null,null,null,null,null,null,null,null,null,null,"Автономна Республіка Крим","Низинне"]
[null,null,null,null,null,null,null,null,null,null,null,null,null,null,null,null,"Відновлення відсортованих відходів",null,null,null,null,null,null,null,null,null,null,null,null,null,null,null,null,null,null,null,null,null,null,null,null,null,null,null,null,"Автономна Республіка Крим","Низинне (Зерновська)"]
[null,null,null,null,null,null,null,null,null,null,null,null,null,null,null,null,"Інша діяльність щодо поводження з відходами",null,null,null,null,null,null,null,null,null,null,null,null,null,null,null,null,null,null,null,null,null,null,null,null,null,null,null,null,"Автономна Республіка Крим","Низівка"]
[null,null,null,null,null,null,null,null,null,null,null,null,null,null,null,null,"Інша діяльність щодо поводження з відходами",null,null,null,null,null,null,null,null,null,null,null,null,null,null,null,null,null,null,null,null,null,null,null,null,null,null,null,null,"Автономна Республіка Крим","Ніжинське"]
[null,null,null,null,null,null,null,null,null,null,null,null,null,null,null,null,"Інша діяльність щодо поводження з відходами",null,null,null,null,null,null,null,null,null,null,null,null,null,null,null,null,null,null,null,null,null,null,null,null,null,null,null,null,"Автономна Республіка Крим","Нікіта"]
[null,null,null,null,null,null,null,null,null,null,null,null,null,null,null,null,"Будівництво",null,null,null,null,null,null,null,null,null,null,null,null,null,null,null,null,null,null,null,null,null,null,null,null,null,null,null,null,"Автономна Республіка Крим","Нова Деревня (Крестянівскої)"]
[null,null,null,null,null,null,null,null,null,null,null,null,null,null,null,null,"Будівництво будівель",null,null,null,null,null,null,null,null,null,null,null,null,null,null,null,null,null,null,null,null,null,null,null,null,null,null,null,null,"Автономна Республіка Крим","Нове  Життя"]
[null,null,null,null,null,null,null,null,null,null,null,null,null,null,null,null,"Організація будівництва будівель",null,null,null,null,null,null,null,null,null,null,null,null,null,null,null,null,null,null,null,null,null,null,null,null,null,null,null,null,"Автономна Республіка Крим","Новеньке"]
[null,null,null,null,null,null,null,null,null,null,null,null,null,null,null,null,"Організація будівництва будівель",null,null,null,null,null,null,null,null,null,null,null,null,null,null,null,null,null,null,null,null,null,null,null,null,null,null,null,null,"Автономна Республіка Крим","Новий Мир"]
[null,null,null,null,null,null,null,null,null,null,null,null,null,null,null,null,"Будівництво житлових і нежитлових будівель",null,null,null,null,null,null,null,null,null,null,null,null,null,null,null,null,null,null,null,null,null,null,null,null,null,null,null,null,"Автономна Республіка Крим","Новий Сад"]
[null,null,null,null,null,null,null,null,null,null,null,null,null,null,null,null,"Будівництво житлових і нежитлових будівель",null,null,null,null,null,null,null,null,null,null,null,null,null,null,null,null,null,null,null,null,null,null,null,null,null,null,null,null,"Автономна Республіка Крим","Новий Світ"]
[null,null,null,null,null,null,null,null,null,null,null,null,null,null,null,null,"Будівництво споруд",null,null,null,null,null,null,null,null,null,null,null,null,null,null,null,null,null,null,null,null,null,null,null,null,null,null,null,null,"Автономна Республіка Крим","Новоандріївка"]
[null,null,null,null,null,null,null,null,null,null,null,null,null,null,null,null,"Будівництво доріг і залізниць",null,null,null,null,null,null,null,null,null,null,null,null,null,null,null,null,null,null,null,null,null,null,null,null,null,null,null,null,"Автономна Республіка Крим","Нововасилівка"]
[null,null,null,null,null,null,null,null,null,null,null,null,null,null,null,null,"Будівництво доріг і автострад",null,null,null,null,null,null,null,null,null,null,null,null,null,null,null,null,null,null,null,null,null,null,null,null,null,null,null,null,"Автономна Республіка Крим","Нововідрадне"]
[null,null,null,null,null,null,null,null,null,null,null,null,null,null,null,null,"Будівництво залізниць і метрополітену",null,null,null,null,null,null,null,null,null,null,null,null,null,null,null,null,null,null,null,null,null,null,null,null,null,null,null,null,"Автономна Республіка Крим","Новогригорівка"]
[null,null,null,null,null,null,null,null,null,null,null,null,null,null,null,null,"Будівництво мостів і тунелів",null,null,null,null,null,null,null,null,null,null,null,null,null,null,null,null,null,null,null,null,null,null,null,null,null,null,null,null,"Автономна Республіка Крим","Новодолинка"]
[null,null,null,null,null,null,null,null,null,null,null,null,null,null,null,null,"Будівництво комунікацій",null,null,null,null,null,null,null,null,null,null,null,null,null,null,null,null,null,null,null,null,null,null,null,null,null,null,null,null,"Автономна Республіка Крим","Новоестонія"]
[null,null,null,null,null,null,null,null,null,null,null,null,null,null,null,null,"Будівництво трубопроводів",null,null,null,null,null,null,null,null,null,null,null,null,null,null,null,null,null,null,null,null,null,null,null,null,null,null,null,null,"Автономна Республіка Крим","Новожилівка"]
[null,null,null,null,null,null,null,null,null,null,null,null,null,null,null,null,"Будівництво споруд електропостачання та телекомунікацій",null,null,null,null,null,null,null,null,null,null,null,null,null,null,null,null,null,null,null,null,null,null,null,null,null,null,null,null,"Автономна Республіка Крим","Новозбур'ївка"]
[null,null,null,null,null,null,null,null,null,null,null,null,null,null,null,null,"Будівництво інших споруд",null,null,null,null,null,null,null,null,null,null,null,null,null,null,null,null,null,null,null,null,null,null,null,null,null,null,null,null,"Автономна Республіка Крим","Новозуївка"]
[null,null,null,null,null,null,null,null,null,null,null,null,null,null,null,null,"Будівництво водних споруд",null,null,null,null,null,null,null,null,null,null,null,null,null,null,null,null,null,null,null,null,null,null,null,null,null,null,null,null,"Автономна Республіка Крим","Новоіванівка"]
[null,null,null,null,null,null,null,null,null,null,null,null,null,null,null,null,"Будівництво інших споруд, н.в.і.у.",null,null,null,null,null,null,null,null,null,null,null,null,null,null,null,null,null,null,null,null,null,null,null,null,null,null,null,null,"Автономна Республіка Крим","Новоіванівка (Магазинська)"]
[null,null,null,null,null,null,null,null,null,null,null,null,null,null,null,null,"Спеціалізовані будівельні роботи",null,null,null,null,null,null,null,null,null,null,null,null,null,null,null,null,null,null,null,null,null,null,null,null,null,null,null,null,"Автономна Республіка Крим","Новокатеринівка"]
[null,null,null,null,null,null,null,null,null,null,null,null,null,null,null,null,"Знесення та підготовчі роботи на будівельному майданчику",null,null,null,null,null,null,null,null,null,null,null,null,null,null,null,null,null,null,null,null,null,null,null,null,null,null,null,null,"Автономна Республіка Крим","Новокленове"]
[null,null,null,null,null,null,null,null,null,null,null,null,null,null,null,null,"Знесення",null,null,null,null,null,null,null,null,null,null,null,null,null,null,null,null,null,null,null,null,null,null,null,null,null,null,null,null,"Автономна Республіка Крим","Новокостянтинівка"]
[null,null,null,null,null,null,null,null,null,null,null,null,null,null,null,null,"Підготовчі роботи на будівельному майданчику",null,null,null,null,null,null,null,null,null,null,null,null,null,null,null,null,null,null,null,null,null,null,null,null,null,null,null,null,"Автономна Республіка Крим","Новокримське"]
[null,null,null,null,null,null,null,null,null,null,null,null,null,null,null,null,"Розвідувальне буріння",null,null,null,null,null,null,null,null,null,null,null,null,null,null,null,null,null,null,null,null,null,null,null,null,null,null,null,null,"Автономна Республіка Крим","Новомикільське"]
[null,null,null,null,null,null,null,null,null,null,null,null,null,null,null,null,"Електромонтажні, водопровідні та інші будівельно-монтажні роботи",null,null,null,null,null,null,null,null,null,null,null,null,null,null,null,null,null,null,null,null,null,null,null,null,null,null,null,null,"Автономна Республіка Крим","Новомиколаївка"]
[null,null,null,null,null,null,null,null,null,null,null,null,null,null,null,null,"Електромонтажні роботи",null,null,null,null,null,null,null,null,null,null,null,null,null,null,null,null,null,null,null,null,null,null,null,null,null,null,null,null,"Автономна Республіка Крим","Новомиколаївка (Орлівської)"]
[null,null,null,null,null,null,null,null,null,null,null,null,null,null,null,null,"Монтаж водопровідних мереж, систем опалення та кондиціонування",null,null,null,null,null,null,null,null,null,null,null,null,null,null,null,null,null,null,null,null,null,null,null,null,null,null,null,null,"Автономна Республіка Крим","Новоозерне"]
[null,null,null,null,null,null,null,null,null,null,null,null,null,null,null,null,"Інші будівельно-монтажні роботи",null,null,null,null,null,null,null,null,null,null,null,null,null,null,null,null,null,null,null,null,null,null,null,null,null,null,null,null,"Автономна Республіка Крим","Новоолександрівка (Магазинської)"]
[null,null,null,null,null,null,null,null,null,null,null,null,null,null,null,null,"Роботи із завершення будівництва",null,null,null,null,null,null,null,null,null,null,null,null,null,null,null,null,null,null,null,null,null,null,null,null,null,null,null,null,"Автономна Республіка Крим","Новоолексіївка"]
[null,null,null,null,null,null,null,null,null,null,null,null,null,null,null,null,"Штукатурні роботи",null,null,null,null,null,null,null,null,null,null,null,null,null,null,null,null,null,null,null,null,null,null,null,null,null,null,null,null,"Автономна Республіка Крим","Новопавлівка"]
[null,null,null,null,null,null,null,null,null,null,null,null,null,null,null,null,"Установлення столярних виробів",null,null,null,null,null,null,null,null,null,null,null,null,null,null,null,null,null,null,null,null,null,null,null,null,null,null,null,null,"Автономна Республіка Крим","Новопавлівка (Новопавлівської)"]
[null,null,null,null,null,null,null,null,null,null,null,null,null,null,null,null,"Оптова торгівля шкірсировиною, шкурами та шкірою",null,null,null,null,null,null,null,null,null,null,null,null,null,null,null,null,null,null,null,null,null,null,null,null,null,null,null,null,"Автономна Республіка Крим","Опушки"]
[null,null,null,null,null,null,null,null,null,null,null,null,null,null,null,null,"Оптова торгівля сільськогосподарськими машинами й устаткованням",null,null,null,null,null,null,null,null,null,null,null,null,null,null,null,null,null,null,null,null,null,null,null,null,null,null,null,null,"Автономна Республіка Крим","Первомайське (Первомайської)"]
[null,null,null,null,null,null,null,null,null,null,null,null,null,null,null,null,"Роздрібна торгівля в неспеціалізованих магазинах переважно продуктами харчування, напоями та тютюновими виробами",null,null,null,null,null,null,null,null,null,null,null,null,null,null,null,null,null,null,null,null,null,null,null,null,null,null,null,null,"Автономна Республіка Крим","Побєдне"]
[null,null,null,null,null,null,null,null,null,null,null,null,null,null,null,null,"Вантажний морський транспорт",null,null,null,null,null,null,null,null,null,null,null,null,null,null,null,null,null,null,null,null,null,null,null,null,null,null,null,null,"Автономна Республіка Крим","Розкішне"]
[null,null,null,null,null,null,null,null,null,null,null,null,null,null,null,null,"Транспортне оброблення вантажів",null,null,null,null,null,null,null,null,null,null,null,null,null,null,null,null,null,null,null,null,null,null,null,null,null,null,null,null,"Автономна Республіка Крим","Санаторне"]
[null,null,null,null,null,null,null,null,null,null,null,null,null,null,null,null,"Інша діяльність у сфері електрозв'язку",null,null,null,null,null,null,null,null,null,null,null,null,null,null,null,null,null,null,null,null,null,null,null,null,null,null,null,null,"Автономна Республіка Крим","Степне (Степновської)"]
[null,null,null,null,null,null,null,null,null,null,null,null,null,null,null,null,"Фінансовий лізинг",null,null,null,null,null,null,null,null,null,null,null,null,null,null,null,null,null,null,null,null,null,null,null,null,null,null,null,null,"Автономна Республіка Крим","Тепле"]
[null,null,null,null,null,null,null,null,null,null,null,null,null,null,null,null,"Дослідження кон'юнктури ринку та виявлення громадської думки",null,null,null,null,null,null,null,null,null,null,null,null,null,null,null,null,null,null,null,null,null,null,null,null,null,null,null,null,"Автономна Республіка Крим","Цвіточне"]
[null,null,null,null,null,null,null,null,null,null,null,null,null,null,null,null,"Надання в оренду будівельних машин і устатковання",null,null,null,null,null,null,null,null,null,null,null,null,null,null,null,null,null,null,null,null,null,null,null,null,null,null,null,null,"Автономна Республіка Крим","Шаумян"]
[null,null,null,null,null,null,null,null,null,null,null,null,null,null,null,null,"Надання інших послуг із бронювання та пов'язана з цим діяльність",null,null,null,null,null,null,null,null,null,null,null,null,null,null,null,null,null,null,null,null,null,null,null,null,null,null,null,null,"Автономна Республіка Крим","Яковлівка"]
[null,null,null,null,null,null,null,null,null,null,null,null,null,null,null,null,"Освіта у сфері культури",null,null,null,null,null,null,null,null,null,null,null,null,null,null,null,null,null,null,null,null,null,null,null,null,null,null,null,null,"Вінницька","Бохоники"]
[null,null,null,null,null,null,null,null,null,null,null,null,null,null,null,null,"Надання соціальної допомоги без забезпечення проживання для осіб похилого віку та інвалідів",null,null,null,null,null,null,null,null,null,null,null,null,null,null,null,null,null,null,null,null,null,null,null,null,null,null,null,null,"Вінницька","Васютинці"]
[null,null,null,null,null,null,null,null,null,null,null,null,null,null,null,null,"Діяльність із забезпечення фізичного комфорту",null,null,null,null,null,null,null,null,null,null,null,null,null,null,null,null,null,null,null,null,null,null,null,null,null,null,null,null,"Вінницька","Глибока долина"]
[null,null,null,null,null,null,null,null,null,null,null,null,null,null,null,null,null,null,null,null,null,null,null,null,null,null,null,null,null,null,null,null,null,null,null,null,null,null,null,null,null,null,null,null,null,"Вінницька","Гриненки"]
[null,null,null,null,null,null,null,null,null,null,null,null,null,null,null,null,null,null,null,null,null,null,null,null,null,null,null,null,null,null,null,null,null,null,null,null,null,null,null,null,null,null,null,null,null,"Вінницька","Жабелівка"]
[null,null,null,null,null,null,null,null,null,null,null,null,null,null,null,null,null,null,null,null,null,null,null,null,null,null,null,null,null,null,null,null,null,null,null,null,null,null,null,null,null,null,null,null,null,"Вінницька","Закриниччя"]
[null,null,null,null,null,null,null,null,null,null,null,null,null,null,null,null,null,null,null,null,null,null,null,null,null,null,null,null,null,null,null,null,null,null,null,null,null,null,null,null,null,null,null,null,null,"Вінницька","Кисляк (Карбівська сільська рада)"]
[null,null,null,null,null,null,null,null,null,null,null,null,null,null,null,null,null,null,null,null,null,null,null,null,null,null,null,null,null,null,null,null,null,null,null,null,null,null,null,null,null,null,null,null,null,"Вінницька","Комаргородське, селище"]
[null,null,null,null,null,null,null,null,null,null,null,null,null,null,null,null,null,null,null,null,null,null,null,null,null,null,null,null,null,null,null,null,null,null,null,null,null,null,null,null,null,null,null,null,null,"Вінницька","Куманівці"]
[null,null,null,null,null,null,null,null,null,null,null,null,null,null,null,null,null,null,null,null,null,null,null,null,null,null,null,null,null,null,null,null,null,null,null,null,null,null,null,null,null,null,null,null,null,"Вінницька","Лип'ятин"]
[null,null,null,null,null,null,null,null,null,null,null,null,null,null,null,null,null,null,null,null,null,null,null,null,null,null,null,null,null,null,null,null,null,null,null,null,null,null,null,null,null,null,null,null,null,"Вінницька","Мар'янівське, селище"]
[null,null,null,null,null,null,null,null,null,null,null,null,null,null,null,null,null,null,null,null,null,null,null,null,null,null,null,null,null,null,null,null,null,null,null,null,null,null,null,null,null,null,null,null,null,"Вінницька","Мончинці"]
[null,null,null,null,null,null,null,null,null,null,null,null,null,null,null,null,null,null,null,null,null,null,null,null,null,null,null,null,null,null,null,null,null,null,null,null,null,null,null,null,null,null,null,null,null,"Вінницька","Нишівці"]
[null,null,null,null,null,null,null,null,null,null,null,null,null,null,null,null,null,null,null,null,null,null,null,null,null,null,null,null,null,null,null,null,null,null,null,null,null,null,null,null,null,null,null,null,null,"Вінницька","Петрунівка"]
[null,null,null,null,null,null,null,null,null,null,null,null,null,null,null,null,null,null,null,null,null,null,null,null,null,null,null,null,null,null,null,null,null,null,null,null,null,null,null,null,null,null,null,null,null,"Вінницька","Польова Лисіївка"]
[null,null,null,null,null,null,null,null,null,null,null,null,null,null,null,null,null,null,null,null,null,null,null,null,null,null,null,null,null,null,null,null,null,null,null,null,null,null,null,null,null,null,null,null,null,"Вінницька","Саїнка"]
[null,null,null,null,null,null,null,null,null,null,null,null,null,null,null,null,null,null,null,null,null,null,null,null,null,null,null,null,null,null,null,null,null,null,null,null,null,null,null,null,null,null,null,null,null,"Вінницька","Сиваківці"]
[null,null,null,null,null,null,null,null,null,null,null,null,null,null,null,null,null,null,null,null,null,null,null,null,null,null,null,null,null,null,null,null,null,null,null,null,null,null,null,null,null,null,null,null,null,"Вінницька","Сподахи"]
[null,null,null,null,null,null,null,null,null,null,null,null,null,null,null,null,null,null,null,null,null,null,null,null,null,null,null,null,null,null,null,null,null,null,null,null,null,null,null,null,null,null,null,null,null,"Вінницька","Теси"]
[null,null,null,null,null,null,null,null,null,null,null,null,null,null,null,null,null,null,null,null,null,null,null,null,null,null,null,null,null,null,null,null,null,null,null,null,null,null,null,null,null,null,null,null,null,"Вінницька","Уладівське"]
[null,null,null,null,null,null,null,null,null,null,null,null,null,null,null,null,null,null,null,null,null,null,null,null,null,null,null,null,null,null,null,null,null,null,null,null,null,null,null,null,null,null,null,null,null,"Вінницька","Шипинки"]
[null,null,null,null,null,null,null,null,null,null,null,null,null,null,null,null,null,null,null,null,null,null,null,null,null,null,null,null,null,null,null,null,null,null,null,null,null,null,null,null,null,null,null,null,null,"Вінницька","Щучинці"]
[null,null,null,null,null,null,null,null,null,null,null,null,null,null,null,null,null,null,null,null,null,null,null,null,null,null,null,null,null,null,null,null,null,null,null,null,null,null,null,null,null,null,null,null,null,"Волинська","Ботин"]
[null,null,null,null,null,null,null,null,null,null,null,null,null,null,null,null,null,null,null,null,null,null,null,null,null,null,null,null,null,null,null,null,null,null,null,null,null,null,null,null,null,null,null,null,null,"Волинська","Буяни"]
[null,null,null,null,null,null,null,null,null,null,null,null,null,null,null,null,null,null,null,null,null,null,null,null,null,null,null,null,null,null,null,null,null,null,null,null,null,null,null,null,null,null,null,null,null,"Волинська","Воля Свійчівська"]
[null,null,null,null,null,null,null,null,null,null,null,null,null,null,null,null,null,null,null,null,null,null,null,null,null,null,null,null,null,null,null,null,null,null,null,null,null,null,null,null,null,null,null,null,null,"Волинська","Горохів"]
[null,null,null,null,null,null,null,null,null,null,null,null,null,null,null,null,null,null,null,null,null,null,null,null,null,null,null,null,null,null,null,null,null,null,null,null,null,null,null,null,null,null,null,null,null,"Волинська","Гупали"]
[null,null,null,null,null,null,null,null,null,null,null,null,null,null,null,null,null,null,null,null,null,null,null,null,null,null,null,null,null,null,null,null,null,null,null,null,null,null,null,null,null,null,null,null,null,"Волинська","Запілля"]
[null,null,null,null,null,null,null,null,null,null,null,null,null,null,null,null,null,null,null,null,null,null,null,null,null,null,null,null,null,null,null,null,null,null,null,null,null,null,null,null,null,null,null,null,null,"Волинська","Зміїнець"]
[null,null,null,null,null,null,null,null,null,null,null,null,null,null,null,null,null,null,null,null,null,null,null,null,null,null,null,null,null,null,null,null,null,null,null,null,null,null,null,null,null,null,null,null,null,"Волинська","Краснодуб'я"]
[null,null,null,null,null,null,null,null,null,null,null,null,null,null,null,null,null,null,null,null,null,null,null,null,null,null,null,null,null,null,null,null,null,null,null,null,null,null,null,null,null,null,null,null,null,"Волинська","Кутрів"]
[null,null,null,null,null,null,null,null,null,null,null,null,null,null,null,null,null,null,null,null,null,null,null,null,null,null,null,null,null,null,null,null,null,null,null,null,null,null,null,null,null,null,null,null,null,"Волинська","Любешівська Воля"]
[null,null,null,null,null,null,null,null,null,null,null,null,null,null,null,null,null,null,null,null,null,null,null,null,null,null,null,null,null,null,null,null,null,null,null,null,null,null,null,null,null,null,null,null,null,"Волинська","Мировичі"]
[null,null,null,null,null,null,null,null,null,null,null,null,null,null,null,null,null,null,null,null,null,null,null,null,null,null,null,null,null,null,null,null,null,null,null,null,null,null,null,null,null,null,null,null,null,"Волинська","Муравище"]
[null,null,null,null,null,null,null,null,null,null,null,null,null,null,null,null,null,null,null,null,null,null,null,null,null,null,null,null,null,null,null,null,null,null,null,null,null,null,null,null,null,null,null,null,null,"Волинська","Осекрів"]
[null,null,null,null,null,null,null,null,null,null,null,null,null,null,null,null,null,null,null,null,null,null,null,null,null,null,null,null,null,null,null,null,null,null,null,null,null,null,null,null,null,null,null,null,null,"Волинська","Писарева Воля"]
[null,null,null,null,null,null,null,null,null,null,null,null,null,null,null,null,null,null,null,null,null,null,null,null,null,null,null,null,null,null,null,null,null,null,null,null,null,null,null,null,null,null,null,null,null,"Волинська","Рокині"]
[null,null,null,null,null,null,null,null,null,null,null,null,null,null,null,null,null,null,null,null,null,null,null,null,null,null,null,null,null,null,null,null,null,null,null,null,null,null,null,null,null,null,null,null,null,"Волинська","Серкизів"]
[null,null,null,null,null,null,null,null,null,null,null,null,null,null,null,null,null,null,null,null,null,null,null,null,null,null,null,null,null,null,null,null,null,null,null,null,null,null,null,null,null,null,null,null,null,"Волинська","Тагачин"]
[null,null,null,null,null,null,null,null,null,null,null,null,null,null,null,null,null,null,null,null,null,null,null,null,null,null,null,null,null,null,null,null,null,null,null,null,null,null,null,null,null,null,null,null,null,"Волинська","Трубки"]
[null,null,null,null,null,null,null,null,null,null,null,null,null,null,null,null,null,null,null,null,null,null,null,null,null,null,null,null,null,null,null,null,null,null,null,null,null,null,null,null,null,null,null,null,null,"Волинська","Холоневичі"]
[null,null,null,null,null,null,null,null,null,null,null,null,null,null,null,null,null,null,null,null,null,null,null,null,null,null,null,null,null,null,null,null,null,null,null,null,null,null,null,null,null,null,null,null,null,"Волинська","Якушів"]
[null,null,null,null,null,null,null,null,null,null,null,null,null,null,null,null,null,null,null,null,null,null,null,null,null,null,null,null,null,null,null,null,null,null,null,null,null,null,null,null,null,null,null,null,null,"Дніпропетровська","Антонівське"]
[null,null,null,null,null,null,null,null,null,null,null,null,null,null,null,null,null,null,null,null,null,null,null,null,null,null,null,null,null,null,null,null,null,null,null,null,null,null,null,null,null,null,null,null,null,"Дніпропетровська","Вербове (Бабайківська сільська рада)"]
[null,null,null,null,null,null,null,null,null,null,null,null,null,null,null,null,null,null,null,null,null,null,null,null,null,null,null,null,null,null,null,null,null,null,null,null,null,null,null,null,null,null,null,null,null,"Дніпропетровська","Веселе (Раївська)"]
[null,null,null,null,null,null,null,null,null,null,null,null,null,null,null,null,null,null,null,null,null,null,null,null,null,null,null,null,null,null,null,null,null,null,null,null,null,null,null,null,null,null,null,null,null,"Дніпропетровська","Гнатівка (Михайлівська сільська рада)"]
[null,null,null,null,null,null,null,null,null,null,null,null,null,null,null,null,null,null,null,null,null,null,null,null,null,null,null,null,null,null,null,null,null,null,null,null,null,null,null,null,null,null,null,null,null,"Дніпропетровська","Гришаї"]
[null,null,null,null,null,null,null,null,null,null,null,null,null,null,null,null,null,null,null,null,null,null,null,null,null,null,null,null,null,null,null,null,null,null,null,null,null,null,null,null,null,null,null,null,null,"Дніпропетровська","Євецько-Миколаївка"]
[null,null,null,null,null,null,null,null,null,null,null,null,null,null,null,null,null,null,null,null,null,null,null,null,null,null,null,null,null,null,null,null,null,null,null,null,null,null,null,null,null,null,null,null,null,"Дніпропетровська","Запорізьке (Запорізька сільська рада)"]
[null,null,null,null,null,null,null,null,null,null,null,null,null,null,null,null,null,null,null,null,null,null,null,null,null,null,null,null,null,null,null,null,null,null,null,null,null,null,null,null,null,null,null,null,null,"Дніпропетровська","Зелений Гай (Українська сільрада)"]
[null,null,null,null,null,null,null,null,null,null,null,null,null,null,null,null,null,null,null,null,null,null,null,null,null,null,null,null,null,null,null,null,null,null,null,null,null,null,null,null,null,null,null,null,null,"Дніпропетровська","Каплистівка"]
[null,null,null,null,null,null,null,null,null,null,null,null,null,null,null,null,null,null,null,null,null,null,null,null,null,null,null,null,null,null,null,null,null,null,null,null,null,null,null,null,null,null,null,null,null,"Дніпропетровська","Козодуб (Червоноіванівська сільська рада)"]
[null,null,null,null,null,null,null,null,null,null,null,null,null,null,null,null,null,null,null,null,null,null,null,null,null,null,null,null,null,null,null,null,null,null,null,null,null,null,null,null,null,null,null,null,null,"Дніпропетровська","Кринички (Марє-Дмитрівська сільська рада)"]
[null,null,null,null,null,null,null,null,null,null,null,null,null,null,null,null,null,null,null,null,null,null,null,null,null,null,null,null,null,null,null,null,null,null,null,null,null,null,null,null,null,null,null,null,null,"Дніпропетровська","Лисківка (Царичанська сільська рада)"]
[null,null,null,null,null,null,null,null,null,null,null,null,null,null,null,null,null,null,null,null,null,null,null,null,null,null,null,null,null,null,null,null,null,null,null,null,null,null,null,null,null,null,null,null,null,"Дніпропетровська","Мар'їнка"]
[null,null,null,null,null,null,null,null,null,null,null,null,null,null,null,null,null,null,null,null,null,null,null,null,null,null,null,null,null,null,null,null,null,null,null,null,null,null,null,null,null,null,null,null,null,"Дніпропетровська","Миколаївка (Миколаївська сільська рада)"]
[null,null,null,null,null,null,null,null,null,null,null,null,null,null,null,null,null,null,null,null,null,null,null,null,null,null,null,null,null,null,null,null,null,null,null,null,null,null,null,null,null,null,null,null,null,"Дніпропетровська","Нові Садки (Красінська сільська рада)"]
[null,null,null,null,null,null,null,null,null,null,null,null,null,null,null,null,null,null,null,null,null,null,null,null,null,null,null,null,null,null,null,null,null,null,null,null,null,null,null,null,null,null,null,null,null,"Дніпропетровська","Новоіванівка (Кам'янська)"]
[null,null,null,null,null,null,null,null,null,null,null,null,null,null,null,null,null,null,null,null,null,null,null,null,null,null,null,null,null,null,null,null,null,null,null,null,null,null,null,null,null,null,null,null,null,"Дніпропетровська","Новостроївка (Бабайківська сільська рада)"]
[null,null,null,null,null,null,null,null,null,null,null,null,null,null,null,null,null,null,null,null,null,null,null,null,null,null,null,null,null,null,null,null,null,null,null,null,null,null,null,null,null,null,null,null,null,"Дніпропетровська","Оленівка (Чапаєвська сільська рада)"]
[null,null,null,null,null,null,null,null,null,null,null,null,null,null,null,null,null,null,null,null,null,null,null,null,null,null,null,null,null,null,null,null,null,null,null,null,null,null,null,null,null,null,null,null,null,"Дніпропетровська","Отрадне (Чапаєвська сільська рада)"]
[null,null,null,null,null,null,null,null,null,null,null,null,null,null,null,null,null,null,null,null,null,null,null,null,null,null,null,null,null,null,null,null,null,null,null,null,null,null,null,null,null,null,null,null,null,"Дніпропетровська","Почино-Софіївка"]
[null,null,null,null,null,null,null,null,null,null,null,null,null,null,null,null,null,null,null,null,null,null,null,null,null,null,null,null,null,null,null,null,null,null,null,null,null,null,null,null,null,null,null,null,null,"Дніпропетровська","Радевичеве (Андріївська сільська рада)"]
[null,null,null,null,null,null,null,null,null,null,null,null,null,null,null,null,null,null,null,null,null,null,null,null,null,null,null,null,null,null,null,null,null,null,null,null,null,null,null,null,null,null,null,null,null,"Дніпропетровська","Сорокопанівка (Покровська сільська рада)"]
[null,null,null,null,null,null,null,null,null,null,null,null,null,null,null,null,null,null,null,null,null,null,null,null,null,null,null,null,null,null,null,null,null,null,null,null,null,null,null,null,null,null,null,null,null,"Дніпропетровська","Сурське"]
[null,null,null,null,null,null,null,null,null,null,null,null,null,null,null,null,null,null,null,null,null,null,null,null,null,null,null,null,null,null,null,null,null,null,null,null,null,null,null,null,null,null,null,null,null,"Дніпропетровська","Томаківка"]
[null,null,null,null,null,null,null,null,null,null,null,null,null,null,null,null,null,null,null,null,null,null,null,null,null,null,null,null,null,null,null,null,null,null,null,null,null,null,null,null,null,null,null,null,null,"Дніпропетровська","Чаус"]
[null,null,null,null,null,null,null,null,null,null,null,null,null,null,null,null,null,null,null,null,null,null,null,null,null,null,null,null,null,null,null,null,null,null,null,null,null,null,null,null,null,null,null,null,null,"Дніпропетровська","Червоний Промінь (Червонопроміньська сільська рада)"]
[null,null,null,null,null,null,null,null,null,null,null,null,null,null,null,null,null,null,null,null,null,null,null,null,null,null,null,null,null,null,null,null,null,null,null,null,null,null,null,null,null,null,null,null,null,"Дніпропетровська","Юр'ївське"]
[null,null,null,null,null,null,null,null,null,null,null,null,null,null,null,null,null,null,null,null,null,null,null,null,null,null,null,null,null,null,null,null,null,null,null,null,null,null,null,null,null,null,null,null,null,"Донецька","Бахчовик"]
[null,null,null,null,null,null,null,null,null,null,null,null,null,null,null,null,null,null,null,null,null,null,null,null,null,null,null,null,null,null,null,null,null,null,null,null,null,null,null,null,null,null,null,null,null,"Донецька","Виселки"]
[null,null,null,null,null,null,null,null,null,null,null,null,null,null,null,null,null,null,null,null,null,null,null,null,null,null,null,null,null,null,null,null,null,null,null,null,null,null,null,null,null,null,null,null,null,"Донецька","Володине (Старомлинівська с/р)"]
[null,null,null,null,null,null,null,null,null,null,null,null,null,null,null,null,null,null,null,null,null,null,null,null,null,null,null,null,null,null,null,null,null,null,null,null,null,null,null,null,null,null,null,null,null,"Донецька","Дробишеве"]
[null,null,null,null,null,null,null,null,null,null,null,null,null,null,null,null,null,null,null,null,null,null,null,null,null,null,null,null,null,null,null,null,null,null,null,null,null,null,null,null,null,null,null,null,null,"Донецька","Заїченко"]
[null,null,null,null,null,null,null,null,null,null,null,null,null,null,null,null,null,null,null,null,null,null,null,null,null,null,null,null,null,null,null,null,null,null,null,null,null,null,null,null,null,null,null,null,null,"Донецька","Зугрес"]
[null,null,null,null,null,null,null,null,null,null,null,null,null,null,null,null,null,null,null,null,null,null,null,null,null,null,null,null,null,null,null,null,null,null,null,null,null,null,null,null,null,null,null,null,null,"Донецька","Котлярівське"]
[null,null,null,null,null,null,null,null,null,null,null,null,null,null,null,null,null,null,null,null,null,null,null,null,null,null,null,null,null,null,null,null,null,null,null,null,null,null,null,null,null,null,null,null,null,"Донецька","Кримки"]
[null,null,null,null,null,null,null,null,null,null,null,null,null,null,null,null,null,null,null,null,null,null,null,null,null,null,null,null,null,null,null,null,null,null,null,null,null,null,null,null,null,null,null,null,null,"Донецька","Миколаївка (Новоекономічна селищна рада)"]
[null,null,null,null,null,null,null,null,null,null,null,null,null,null,null,null,null,null,null,null,null,null,null,null,null,null,null,null,null,null,null,null,null,null,null,null,null,null,null,null,null,null,null,null,null,"Донецька","Моспине"]
[null,null,null,null,null,null,null,null,null,null,null,null,null,null,null,null,null,null,null,null,null,null,null,null,null,null,null,null,null,null,null,null,null,null,null,null,null,null,null,null,null,null,null,null,null,"Донецька","Новогнатівка"]
[null,null,null,null,null,null,null,null,null,null,null,null,null,null,null,null,null,null,null,null,null,null,null,null,null,null,null,null,null,null,null,null,null,null,null,null,null,null,null,null,null,null,null,null,null,"Донецька","Обільне"]
[null,null,null,null,null,null,null,null,null,null,null,null,null,null,null,null,null,null,null,null,null,null,null,null,null,null,null,null,null,null,null,null,null,null,null,null,null,null,null,null,null,null,null,null,null,"Донецька","Пищевик"]
[null,null,null,null,null,null,null,null,null,null,null,null,null,null,null,null,null,null,null,null,null,null,null,null,null,null,null,null,null,null,null,null,null,null,null,null,null,null,null,null,null,null,null,null,null,"Донецька","Прохорівка"]
[null,null,null,null,null,null,null,null,null,null,null,null,null,null,null,null,null,null,null,null,null,null,null,null,null,null,null,null,null,null,null,null,null,null,null,null,null,null,null,null,null,null,null,null,null,"Донецька","Рідкодуб"]
[null,null,null,null,null,null,null,null,null,null,null,null,null,null,null,null,null,null,null,null,null,null,null,null,null,null,null,null,null,null,null,null,null,null,null,null,null,null,null,null,null,null,null,null,null,"Донецька","Сопине"]
[null,null,null,null,null,null,null,null,null,null,null,null,null,null,null,null,null,null,null,null,null,null,null,null,null,null,null,null,null,null,null,null,null,null,null,null,null,null,null,null,null,null,null,null,null,"Донецька","Трепельне"]
[null,null,null,null,null,null,null,null,null,null,null,null,null,null,null,null,null,null,null,null,null,null,null,null,null,null,null,null,null,null,null,null,null,null,null,null,null,null,null,null,null,null,null,null,null,"Донецька","Шабельківка"]
[null,null,null,null,null,null,null,null,null,null,null,null,null,null,null,null,null,null,null,null,null,null,null,null,null,null,null,null,null,null,null,null,null,null,null,null,null,null,null,null,null,null,null,null,null,"Донецька","Ялинське (Новопетриківська с/р)"]
[null,null,null,null,null,null,null,null,null,null,null,null,null,null,null,null,null,null,null,null,null,null,null,null,null,null,null,null,null,null,null,null,null,null,null,null,null,null,null,null,null,null,null,null,null,"Житомирська","Білилівка"]
[null,null,null,null,null,null,null,null,null,null,null,null,null,null,null,null,null,null,null,null,null,null,null,null,null,null,null,null,null,null,null,null,null,null,null,null,null,null,null,null,null,null,null,null,null,"Житомирська","Брід"]
[null,null,null,null,null,null,null,null,null,null,null,null,null,null,null,null,null,null,null,null,null,null,null,null,null,null,null,null,null,null,null,null,null,null,null,null,null,null,null,null,null,null,null,null,null,"Житомирська","Вакуленчук"]
[null,null,null,null,null,null,null,null,null,null,null,null,null,null,null,null,null,null,null,null,null,null,null,null,null,null,null,null,null,null,null,null,null,null,null,null,null,null,null,null,null,null,null,null,null,"Житомирська","Вишнянка"]
[null,null,null,null,null,null,null,null,null,null,null,null,null,null,null,null,null,null,null,null,null,null,null,null,null,null,null,null,null,null,null,null,null,null,null,null,null,null,null,null,null,null,null,null,null,"Житомирська","Голубин"]
[null,null,null,null,null,null,null,null,null,null,null,null,null,null,null,null,null,null,null,null,null,null,null,null,null,null,null,null,null,null,null,null,null,null,null,null,null,null,null,null,null,null,null,null,null,"Житомирська","Гута -Забілоцька"]
[null,null,null,null,null,null,null,null,null,null,null,null,null,null,null,null,null,null,null,null,null,null,null,null,null,null,null,null,null,null,null,null,null,null,null,null,null,null,null,null,null,null,null,null,null,"Житомирська","Дівошин"]
[null,null,null,null,null,null,null,null,null,null,null,null,null,null,null,null,null,null,null,null,null,null,null,null,null,null,null,null,null,null,null,null,null,null,null,null,null,null,null,null,null,null,null,null,null,"Житомирська","Збраньки"]
[null,null,null,null,null,null,null,null,null,null,null,null,null,null,null,null,null,null,null,null,null,null,null,null,null,null,null,null,null,null,null,null,null,null,null,null,null,null,null,null,null,null,null,null,null,"Житомирська","Іванопіль"]
[null,null,null,null,null,null,null,null,null,null,null,null,null,null,null,null,null,null,null,null,null,null,null,null,null,null,null,null,null,null,null,null,null,null,null,null,null,null,null,null,null,null,null,null,null,"Житомирська","Кораки"]
[null,null,null,null,null,null,null,null,null,null,null,null,null,null,null,null,null,null,null,null,null,null,null,null,null,null,null,null,null,null,null,null,null,null,null,null,null,null,null,null,null,null,null,null,null,"Житомирська","Краївщина"]
[null,null,null,null,null,null,null,null,null,null,null,null,null,null,null,null,null,null,null,null,null,null,null,null,null,null,null,null,null,null,null,null,null,null,null,null,null,null,null,null,null,null,null,null,null,"Житомирська","Лизник"]
[null,null,null,null,null,null,null,null,null,null,null,null,null,null,null,null,null,null,null,null,null,null,null,null,null,null,null,null,null,null,null,null,null,null,null,null,null,null,null,null,null,null,null,null,null,"Житомирська","Мала Чернігівка"]
[null,null,null,null,null,null,null,null,null,null,null,null,null,null,null,null,null,null,null,null,null,null,null,null,null,null,null,null,null,null,null,null,null,null,null,null,null,null,null,null,null,null,null,null,null,"Житомирська","Маркова Волиця"]
[null,null,null,null,null,null,null,null,null,null,null,null,null,null,null,null,null,null,null,null,null,null,null,null,null,null,null,null,null,null,null,null,null,null,null,null,null,null,null,null,null,null,null,null,null,"Житомирська","Нивки"]
[null,null,null,null,null,null,null,null,null,null,null,null,null,null,null,null,null,null,null,null,null,null,null,null,null,null,null,null,null,null,null,null,null,null,null,null,null,null,null,null,null,null,null,null,null,"Житомирська","Нові Жадьки"]
[null,null,null,null,null,null,null,null,null,null,null,null,null,null,null,null,null,null,null,null,null,null,null,null,null,null,null,null,null,null,null,null,null,null,null,null,null,null,null,null,null,null,null,null,null,"Житомирська","Павленківка"]
[null,null,null,null,null,null,null,null,null,null,null,null,null,null,null,null,null,null,null,null,null,null,null,null,null,null,null,null,null,null,null,null,null,null,null,null,null,null,null,null,null,null,null,null,null,"Житомирська","Пилипонка"]
[null,null,null,null,null,null,null,null,null,null,null,null,null,null,null,null,null,null,null,null,null,null,null,null,null,null,null,null,null,null,null,null,null,null,null,null,null,null,null,null,null,null,null,null,null,"Житомирська","Привороття"]
[null,null,null,null,null,null,null,null,null,null,null,null,null,null,null,null,null,null,null,null,null,null,null,null,null,null,null,null,null,null,null,null,null,null,null,null,null,null,null,null,null,null,null,null,null,"Житомирська","Рудня-Більківська"]
[null,null,null,null,null,null,null,null,null,null,null,null,null,null,null,null,null,null,null,null,null,null,null,null,null,null,null,null,null,null,null,null,null,null,null,null,null,null,null,null,null,null,null,null,null,"Житомирська","Середи"]
[null,null,null,null,null,null,null,null,null,null,null,null,null,null,null,null,null,null,null,null,null,null,null,null,null,null,null,null,null,null,null,null,null,null,null,null,null,null,null,null,null,null,null,null,null,"Житомирська","Старицьке"]
[null,null,null,null,null,null,null,null,null,null,null,null,null,null,null,null,null,null,null,null,null,null,null,null,null,null,null,null,null,null,null,null,null,null,null,null,null,null,null,null,null,null,null,null,null,"Житомирська","Стриєва"]
[null,null,null,null,null,null,null,null,null,null,null,null,null,null,null,null,null,null,null,null,null,null,null,null,null,null,null,null,null,null,null,null,null,null,null,null,null,null,null,null,null,null,null,null,null,"Житомирська","Хлупляни"]
[null,null,null,null,null,null,null,null,null,null,null,null,null,null,null,null,null,null,null,null,null,null,null,null,null,null,null,null,null,null,null,null,null,null,null,null,null,null,null,null,null,null,null,null,null,"Житомирська","Червона Волока"]
[null,null,null,null,null,null,null,null,null,null,null,null,null,null,null,null,null,null,null,null,null,null,null,null,null,null,null,null,null,null,null,null,null,null,null,null,null,null,null,null,null,null,null,null,null,"Житомирська","Щеніїв"]
[null,null,null,null,null,null,null,null,null,null,null,null,null,null,null,null,null,null,null,null,null,null,null,null,null,null,null,null,null,null,null,null,null,null,null,null,null,null,null,null,null,null,null,null,null,"Закарпатська","Біласовиця (Біласовицька сільська рада)"]
[null,null,null,null,null,null,null,null,null,null,null,null,null,null,null,null,null,null,null,null,null,null,null,null,null,null,null,null,null,null,null,null,null,null,null,null,null,null,null,null,null,null,null,null,null,"Закарпатська","Виноградів (Виноградівська міська рада)"]
[null,null,null,null,null,null,null,null,null,null,null,null,null,null,null,null,null,null,null,null,null,null,null,null,null,null,null,null,null,null,null,null,null,null,null,null,null,null,null,null,null,null,null,null,null,"Закарпатська","Ганьковиця (Ганьковицька сільська рада)"]
[null,null,null,null,null,null,null,null,null,null,null,null,null,null,null,null,null,null,null,null,null,null,null,null,null,null,null,null,null,null,null,null,null,null,null,null,null,null,null,null,null,null,null,null,null,"Закарпатська","Грабово (Пузняковецька сільська рада)"]
[null,null,null,null,null,null,null,null,null,null,null,null,null,null,null,null,null,null,null,null,null,null,null,null,null,null,null,null,null,null,null,null,null,null,null,null,null,null,null,null,null,null,null,null,null,"Закарпатська","Завосино (Малий Березний)"]
[null,null,null,null,null,null,null,null,null,null,null,null,null,null,null,null,null,null,null,null,null,null,null,null,null,null,null,null,null,null,null,null,null,null,null,null,null,null,null,null,null,null,null,null,null,"Закарпатська","Іршава (Іршавська міська рада)"]
[null,null,null,null,null,null,null,null,null,null,null,null,null,null,null,null,null,null,null,null,null,null,null,null,null,null,null,null,null,null,null,null,null,null,null,null,null,null,null,null,null,null,null,null,null,"Закарпатська","Кричово (Кричівська сільська рада)"]
[null,null,null,null,null,null,null,null,null,null,null,null,null,null,null,null,null,null,null,null,null,null,null,null,null,null,null,null,null,null,null,null,null,null,null,null,null,null,null,null,null,null,null,null,null,"Закарпатська","Лопушанка (Дусинська сільська рада)"]
[null,null,null,null,null,null,null,null,null,null,null,null,null,null,null,null,null,null,null,null,null,null,null,null,null,null,null,null,null,null,null,null,null,null,null,null,null,null,null,null,null,null,null,null,null,"Закарпатська","Нове Давидково (Новодавидківська сільська рада)"]
[null,null,null,null,null,null,null,null,null,null,null,null,null,null,null,null,null,null,null,null,null,null,null,null,null,null,null,null,null,null,null,null,null,null,null,null,null,null,null,null,null,null,null,null,null,"Закарпатська","Осій (Осійська сільська рада)"]
[null,null,null,null,null,null,null,null,null,null,null,null,null,null,null,null,null,null,null,null,null,null,null,null,null,null,null,null,null,null,null,null,null,null,null,null,null,null,null,null,null,null,null,null,null,"Закарпатська","Плоскановиця (Брестівська сільська рада)"]
[null,null,null,null,null,null,null,null,null,null,null,null,null,null,null,null,null,null,null,null,null,null,null,null,null,null,null,null,null,null,null,null,null,null,null,null,null,null,null,null,null,null,null,null,null,"Закарпатська","Свалява (Свалявська міська рада)"]
[null,null,null,null,null,null,null,null,null,null,null,null,null,null,null,null,null,null,null,null,null,null,null,null,null,null,null,null,null,null,null,null,null,null,null,null,null,null,null,null,null,null,null,null,null,"Закарпатська","Терново (Тернівська сільська рада)"]
[null,null,null,null,null,null,null,null,null,null,null,null,null,null,null,null,null,null,null,null,null,null,null,null,null,null,null,null,null,null,null,null,null,null,null,null,null,null,null,null,null,null,null,null,null,"Закарпатська","Усть-Чорна (Усть-Чорнянська селищна рада)"]
[null,null,null,null,null,null,null,null,null,null,null,null,null,null,null,null,null,null,null,null,null,null,null,null,null,null,null,null,null,null,null,null,null,null,null,null,null,null,null,null,null,null,null,null,null,"Закарпатська","Червеньово (Зняцівська сільська рада)"]
[null,null,null,null,null,null,null,null,null,null,null,null,null,null,null,null,null,null,null,null,null,null,null,null,null,null,null,null,null,null,null,null,null,null,null,null,null,null,null,null,null,null,null,null,null,"Запорізька","Богунівка"]
[null,null,null,null,null,null,null,null,null,null,null,null,null,null,null,null,null,null,null,null,null,null,null,null,null,null,null,null,null,null,null,null,null,null,null,null,null,null,null,null,null,null,null,null,null,"Запорізька","Веселівське"]
[null,null,null,null,null,null,null,null,null,null,null,null,null,null,null,null,null,null,null,null,null,null,null,null,null,null,null,null,null,null,null,null,null,null,null,null,null,null,null,null,null,null,null,null,null,"Запорізька","Зелена Балка"]
[null,null,null,null,null,null,null,null,null,null,null,null,null,null,null,null,null,null,null,null,null,null,null,null,null,null,null,null,null,null,null,null,null,null,null,null,null,null,null,null,null,null,null,null,null,"Запорізька","Кінські Роздори"]
[null,null,null,null,null,null,null,null,null,null,null,null,null,null,null,null,null,null,null,null,null,null,null,null,null,null,null,null,null,null,null,null,null,null,null,null,null,null,null,null,null,null,null,null,null,"Запорізька","Люцерна"]
[null,null,null,null,null,null,null,null,null,null,null,null,null,null,null,null,null,null,null,null,null,null,null,null,null,null,null,null,null,null,null,null,null,null,null,null,null,null,null,null,null,null,null,null,null,"Запорізька","Новозлатопіль"]
[null,null,null,null,null,null,null,null,null,null,null,null,null,null,null,null,null,null,null,null,null,null,null,null,null,null,null,null,null,null,null,null,null,null,null,null,null,null,null,null,null,null,null,null,null,"Запорізька","Новостепнянське"]
[null,null,null,null,null,null,null,null,null,null,null,null,null,null,null,null,null,null,null,null,null,null,null,null,null,null,null,null,null,null,null,null,null,null,null,null,null,null,null,null,null,null,null,null,null,"Запорізька","Ручаївка"]
[null,null,null,null,null,null,null,null,null,null,null,null,null,null,null,null,null,null,null,null,null,null,null,null,null,null,null,null,null,null,null,null,null,null,null,null,null,null,null,null,null,null,null,null,null,"Запорізька","Стульневе, селище"]
[null,null,null,null,null,null,null,null,null,null,null,null,null,null,null,null,null,null,null,null,null,null,null,null,null,null,null,null,null,null,null,null,null,null,null,null,null,null,null,null,null,null,null,null,null,"Івано_Франківська","Балинці"]
[null,null,null,null,null,null,null,null,null,null,null,null,null,null,null,null,null,null,null,null,null,null,null,null,null,null,null,null,null,null,null,null,null,null,null,null,null,null,null,null,null,null,null,null,null,"Івано_Франківська","Богородчани"]
[null,null,null,null,null,null,null,null,null,null,null,null,null,null,null,null,null,null,null,null,null,null,null,null,null,null,null,null,null,null,null,null,null,null,null,null,null,null,null,null,null,null,null,null,null,"Івано_Франківська","Вербилівці"]
[null,null,null,null,null,null,null,null,null,null,null,null,null,null,null,null,null,null,null,null,null,null,null,null,null,null,null,null,null,null,null,null,null,null,null,null,null,null,null,null,null,null,null,null,null,"Івано_Франківська","Глушків"]
[null,null,null,null,null,null,null,null,null,null,null,null,null,null,null,null,null,null,null,null,null,null,null,null,null,null,null,null,null,null,null,null,null,null,null,null,null,null,null,null,null,null,null,null,null,"Івано_Франківська","Гузіїв"]
[null,null,null,null,null,null,null,null,null,null,null,null,null,null,null,null,null,null,null,null,null,null,null,null,null,null,null,null,null,null,null,null,null,null,null,null,null,null,null,null,null,null,null,null,null,"Івано_Франківська","Заланів"]
[null,null,null,null,null,null,null,null,null,null,null,null,null,null,null,null,null,null,null,null,null,null,null,null,null,null,null,null,null,null,null,null,null,null,null,null,null,null,null,null,null,null,null,null,null,"Івано_Франківська","Ільці"]
[null,null,null,null,null,null,null,null,null,null,null,null,null,null,null,null,null,null,null,null,null,null,null,null,null,null,null,null,null,null,null,null,null,null,null,null,null,null,null,null,null,null,null,null,null,"Івано_Франківська","Кулачківці"]
[null,null,null,null,null,null,null,null,null,null,null,null,null,null,null,null,null,null,null,null,null,null,null,null,null,null,null,null,null,null,null,null,null,null,null,null,null,null,null,null,null,null,null,null,null,"Івано_Франківська","Лісна Тарновиця"]
[null,null,null,null,null,null,null,null,null,null,null,null,null,null,null,null,null,null,null,null,null,null,null,null,null,null,null,null,null,null,null,null,null,null,null,null,null,null,null,null,null,null,null,null,null,"Івано_Франківська","Межигірці"]
[null,null,null,null,null,null,null,null,null,null,null,null,null,null,null,null,null,null,null,null,null,null,null,null,null,null,null,null,null,null,null,null,null,null,null,null,null,null,null,null,null,null,null,null,null,"Івано_Франківська","Олешів"]
[null,null,null,null,null,null,null,null,null,null,null,null,null,null,null,null,null,null,null,null,null,null,null,null,null,null,null,null,null,null,null,null,null,null,null,null,null,null,null,null,null,null,null,null,null,"Івано_Франківська","Перерив"]
[null,null,null,null,null,null,null,null,null,null,null,null,null,null,null,null,null,null,null,null,null,null,null,null,null,null,null,null,null,null,null,null,null,null,null,null,null,null,null,null,null,null,null,null,null,"Івано_Франківська","Рибне"]
[null,null,null,null,null,null,null,null,null,null,null,null,null,null,null,null,null,null,null,null,null,null,null,null,null,null,null,null,null,null,null,null,null,null,null,null,null,null,null,null,null,null,null,null,null,"Івано_Франківська","Саджавка"]
[null,null,null,null,null,null,null,null,null,null,null,null,null,null,null,null,null,null,null,null,null,null,null,null,null,null,null,null,null,null,null,null,null,null,null,null,null,null,null,null,null,null,null,null,null,"Івано_Франківська","Студинець"]
[null,null,null,null,null,null,null,null,null,null,null,null,null,null,null,null,null,null,null,null,null,null,null,null,null,null,null,null,null,null,null,null,null,null,null,null,null,null,null,null,null,null,null,null,null,"Івано_Франківська","Тужилів"]
[null,null,null,null,null,null,null,null,null,null,null,null,null,null,null,null,null,null,null,null,null,null,null,null,null,null,null,null,null,null,null,null,null,null,null,null,null,null,null,null,null,null,null,null,null,"Івано_Франківська","Юнашків"]
[null,null,null,null,null,null,null,null,null,null,null,null,null,null,null,null,null,null,null,null,null,null,null,null,null,null,null,null,null,null,null,null,null,null,null,null,null,null,null,null,null,null,null,null,null,"Київська","Баришівка"]
[null,null,null,null,null,null,null,null,null,null,null,null,null,null,null,null,null,null,null,null,null,null,null,null,null,null,null,null,null,null,null,null,null,null,null,null,null,null,null,null,null,null,null,null,null,"Київська","Велика Вільшанка"]
[null,null,null,null,null,null,null,null,null,null,null,null,null,null,null,null,null,null,null,null,null,null,null,null,null,null,null,null,null,null,null,null,null,null,null,null,null,null,null,null,null,null,null,null,null,"Київська","Вербова"]
[null,null,null,null,null,null,null,null,null,null,null,null,null,null,null,null,null,null,null,null,null,null,null,null,null,null,null,null,null,null,null,null,null,null,null,null,null,null,null,null,null,null,null,null,null,"Київська","Володимирське"]
[null,null,null,null,null,null,null,null,null,null,null,null,null,null,null,null,null,null,null,null,null,null,null,null,null,null,null,null,null,null,null,null,null,null,null,null,null,null,null,null,null,null,null,null,null,"Київська","Гречанівка"]
[null,null,null,null,null,null,null,null,null,null,null,null,null,null,null,null,null,null,null,null,null,null,null,null,null,null,null,null,null,null,null,null,null,null,null,null,null,null,null,null,null,null,null,null,null,"Київська","Дзвеняче"]
[null,null,null,null,null,null,null,null,null,null,null,null,null,null,null,null,null,null,null,null,null,null,null,null,null,null,null,null,null,null,null,null,null,null,null,null,null,null,null,null,null,null,null,null,null,"Київська","Заострівське"]
[null,null,null,null,null,null,null,null,null,null,null,null,null,null,null,null,null,null,null,null,null,null,null,null,null,null,null,null,null,null,null,null,null,null,null,null,null,null,null,null,null,null,null,null,null,"Київська","Кам'яна Гребля"]
[null,null,null,null,null,null,null,null,null,null,null,null,null,null,null,null,null,null,null,null,null,null,null,null,null,null,null,null,null,null,null,null,null,null,null,null,null,null,null,null,null,null,null,null,null,"Київська","Крушинка"]
[null,null,null,null,null,null,null,null,null,null,null,null,null,null,null,null,null,null,null,null,null,null,null,null,null,null,null,null,null,null,null,null,null,null,null,null,null,null,null,null,null,null,null,null,null,"Київська","Лецьки"]
[null,null,null,null,null,null,null,null,null,null,null,null,null,null,null,null,null,null,null,null,null,null,null,null,null,null,null,null,null,null,null,null,null,null,null,null,null,null,null,null,null,null,null,null,null,"Київська","Мала Тарасівка"]
[null,null,null,null,null,null,null,null,null,null,null,null,null,null,null,null,null,null,null,null,null,null,null,null,null,null,null,null,null,null,null,null,null,null,null,null,null,null,null,null,null,null,null,null,null,"Київська","Мисайлівка"]
[null,null,null,null,null,null,null,null,null,null,null,null,null,null,null,null,null,null,null,null,null,null,null,null,null,null,null,null,null,null,null,null,null,null,null,null,null,null,null,null,null,null,null,null,null,"Київська","Насташка"]
[null,null,null,null,null,null,null,null,null,null,null,null,null,null,null,null,null,null,null,null,null,null,null,null,null,null,null,null,null,null,null,null,null,null,null,null,null,null,null,null,null,null,null,null,null,"Київська","Пасківщина"]
[null,null,null,null,null,null,null,null,null,null,null,null,null,null,null,null,null,null,null,null,null,null,null,null,null,null,null,null,null,null,null,null,null,null,null,null,null,null,null,null,null,null,null,null,null,"Київська","Плюти"]
[null,null,null,null,null,null,null,null,null,null,null,null,null,null,null,null,null,null,null,null,null,null,null,null,null,null,null,null,null,null,null,null,null,null,null,null,null,null,null,null,null,null,null,null,null,"Київська","Розважів"]
[null,null,null,null,null,null,null,null,null,null,null,null,null,null,null,null,null,null,null,null,null,null,null,null,null,null,null,null,null,null,null,null,null,null,null,null,null,null,null,null,null,null,null,null,null,"Київська","Саврань"]
[null,null,null,null,null,null,null,null,null,null,null,null,null,null,null,null,null,null,null,null,null,null,null,null,null,null,null,null,null,null,null,null,null,null,null,null,null,null,null,null,null,null,null,null,null,"Київська","Стоянка"]
[null,null,null,null,null,null,null,null,null,null,null,null,null,null,null,null,null,null,null,null,null,null,null,null,null,null,null,null,null,null,null,null,null,null,null,null,null,null,null,null,null,null,null,null,null,"Київська","Тараща"]
[null,null,null,null,null,null,null,null,null,null,null,null,null,null,null,null,null,null,null,null,null,null,null,null,null,null,null,null,null,null,null,null,null,null,null,null,null,null,null,null,null,null,null,null,null,"Київська","Урсалівка"]
[null,null,null,null,null,null,null,null,null,null,null,null,null,null,null,null,null,null,null,null,null,null,null,null,null,null,null,null,null,null,null,null,null,null,null,null,null,null,null,null,null,null,null,null,null,"Київська","Червоне Поле"]
[null,null,null,null,null,null,null,null,null,null,null,null,null,null,null,null,null,null,null,null,null,null,null,null,null,null,null,null,null,null,null,null,null,null,null,null,null,null,null,null,null,null,null,null,null,"Київська","Шевченківка"]
[null,null,null,null,null,null,null,null,null,null,null,null,null,null,null,null,null,null,null,null,null,null,null,null,null,null,null,null,null,null,null,null,null,null,null,null,null,null,null,null,null,null,null,null,null,"Кіровоградська","Бузникувате"]
[null,null,null,null,null,null,null,null,null,null,null,null,null,null,null,null,null,null,null,null,null,null,null,null,null,null,null,null,null,null,null,null,null,null,null,null,null,null,null,null,null,null,null,null,null,"Кіровоградська","Височанове"]
[null,null,null,null,null,null,null,null,null,null,null,null,null,null,null,null,null,null,null,null,null,null,null,null,null,null,null,null,null,null,null,null,null,null,null,null,null,null,null,null,null,null,null,null,null,"Кіровоградська","Звенигородка"]
[null,null,null,null,null,null,null,null,null,null,null,null,null,null,null,null,null,null,null,null,null,null,null,null,null,null,null,null,null,null,null,null,null,null,null,null,null,null,null,null,null,null,null,null,null,"Кіровоградська","Камбурліївка"]
[null,null,null,null,null,null,null,null,null,null,null,null,null,null,null,null,null,null,null,null,null,null,null,null,null,null,null,null,null,null,null,null,null,null,null,null,null,null,null,null,null,null,null,null,null,"Кіровоградська","Лев-балка"]
[null,null,null,null,null,null,null,null,null,null,null,null,null,null,null,null,null,null,null,null,null,null,null,null,null,null,null,null,null,null,null,null,null,null,null,null,null,null,null,null,null,null,null,null,null,"Кіровоградська","Могилів Курінь"]
[null,null,null,null,null,null,null,null,null,null,null,null,null,null,null,null,null,null,null,null,null,null,null,null,null,null,null,null,null,null,null,null,null,null,null,null,null,null,null,null,null,null,null,null,null,"Кіровоградська","Низове"]
[null,null,null,null,null,null,null,null,null,null,null,null,null,null,null,null,null,null,null,null,null,null,null,null,null,null,null,null,null,null,null,null,null,null,null,null,null,null,null,null,null,null,null,null,null,"Кіровоградська","Піщаний  Брід"]
[null,null,null,null,null,null,null,null,null,null,null,null,null,null,null,null,null,null,null,null,null,null,null,null,null,null,null,null,null,null,null,null,null,null,null,null,null,null,null,null,null,null,null,null,null,"Кіровоградська","П'ятомиколаївка"]
[null,null,null,null,null,null,null,null,null,null,null,null,null,null,null,null,null,null,null,null,null,null,null,null,null,null,null,null,null,null,null,null,null,null,null,null,null,null,null,null,null,null,null,null,null,"Кіровоградська","Сухолітівка"]
[null,null,null,null,null,null,null,null,null,null,null,null,null,null,null,null,null,null,null,null,null,null,null,null,null,null,null,null,null,null,null,null,null,null,null,null,null,null,null,null,null,null,null,null,null,"Кіровоградська","Червоний Ташлик"]
[null,null,null,null,null,null,null,null,null,null,null,null,null,null,null,null,null,null,null,null,null,null,null,null,null,null,null,null,null,null,null,null,null,null,null,null,null,null,null,null,null,null,null,null,null,"Луганська","Бокове-Платове"]
[null,null,null,null,null,null,null,null,null,null,null,null,null,null,null,null,null,null,null,null,null,null,null,null,null,null,null,null,null,null,null,null,null,null,null,null,null,null,null,null,null,null,null,null,null,"Луганська","Велика Мартинівка"]
[null,null,null,null,null,null,null,null,null,null,null,null,null,null,null,null,null,null,null,null,null,null,null,null,null,null,null,null,null,null,null,null,null,null,null,null,null,null,null,null,null,null,null,null,null,"Луганська","Верхньокам'янка"]
[null,null,null,null,null,null,null,null,null,null,null,null,null,null,null,null,null,null,null,null,null,null,null,null,null,null,null,null,null,null,null,null,null,null,null,null,null,null,null,null,null,null,null,null,null,"Луганська","Давидівка"]
[null,null,null,null,null,null,null,null,null,null,null,null,null,null,null,null,null,null,null,null,null,null,null,null,null,null,null,null,null,null,null,null,null,null,null,null,null,null,null,null,null,null,null,null,null,"Луганська","Енгельсове (Енгельсовська селещна рада)"]
[null,null,null,null,null,null,null,null,null,null,null,null,null,null,null,null,null,null,null,null,null,null,null,null,null,null,null,null,null,null,null,null,null,null,null,null,null,null,null,null,null,null,null,null,null,"Луганська","Карпати"]
[null,null,null,null,null,null,null,null,null,null,null,null,null,null,null,null,null,null,null,null,null,null,null,null,null,null,null,null,null,null,null,null,null,null,null,null,null,null,null,null,null,null,null,null,null,"Луганська","Козарик"]
[null,null,null,null,null,null,null,null,null,null,null,null,null,null,null,null,null,null,null,null,null,null,null,null,null,null,null,null,null,null,null,null,null,null,null,null,null,null,null,null,null,null,null,null,null,"Луганська","Куплювате"]
[null,null,null,null,null,null,null,null,null,null,null,null,null,null,null,null,null,null,null,null,null,null,null,null,null,null,null,null,null,null,null,null,null,null,null,null,null,null,null,null,null,null,null,null,null,"Луганська","Лоскутівка"]
[null,null,null,null,null,null,null,null,null,null,null,null,null,null,null,null,null,null,null,null,null,null,null,null,null,null,null,null,null,null,null,null,null,null,null,null,null,null,null,null,null,null,null,null,null,"Луганська","Марківське"]
[null,null,null,null,null,null,null,null,null,null,null,null,null,null,null,null,null,null,null,null,null,null,null,null,null,null,null,null,null,null,null,null,null,null,null,null,null,null,null,null,null,null,null,null,null,"Луганська","Новодружеськ"]
[null,null,null,null,null,null,null,null,null,null,null,null,null,null,null,null,null,null,null,null,null,null,null,null,null,null,null,null,null,null,null,null,null,null,null,null,null,null,null,null,null,null,null,null,null,"Луганська","Новоспасівка"]
[null,null,null,null,null,null,null,null,null,null,null,null,null,null,null,null,null,null,null,null,null,null,null,null,null,null,null,null,null,null,null,null,null,null,null,null,null,null,null,null,null,null,null,null,null,"Луганська","Преображенне"]
[null,null,null,null,null,null,null,null,null,null,null,null,null,null,null,null,null,null,null,null,null,null,null,null,null,null,null,null,null,null,null,null,null,null,null,null,null,null,null,null,null,null,null,null,null,"Луганська","Радісне (Білоскелюватська сільська рада)"]
[null,null,null,null,null,null,null,null,null,null,null,null,null,null,null,null,null,null,null,null,null,null,null,null,null,null,null,null,null,null,null,null,null,null,null,null,null,null,null,null,null,null,null,null,null,"Луганська","Станично-Луганське"]
[null,null,null,null,null,null,null,null,null,null,null,null,null,null,null,null,null,null,null,null,null,null,null,null,null,null,null,null,null,null,null,null,null,null,null,null,null,null,null,null,null,null,null,null,null,"Луганська","Тернівка"]
[null,null,null,null,null,null,null,null,null,null,null,null,null,null,null,null,null,null,null,null,null,null,null,null,null,null,null,null,null,null,null,null,null,null,null,null,null,null,null,null,null,null,null,null,null,"Луганська","Червоногвардійське"]
[null,null,null,null,null,null,null,null,null,null,null,null,null,null,null,null,null,null,null,null,null,null,null,null,null,null,null,null,null,null,null,null,null,null,null,null,null,null,null,null,null,null,null,null,null,"Луганська","Щотове"]
[null,null,null,null,null,null,null,null,null,null,null,null,null,null,null,null,null,null,null,null,null,null,null,null,null,null,null,null,null,null,null,null,null,null,null,null,null,null,null,null,null,null,null,null,null,"Львівська","Бишків"]
[null,null,null,null,null,null,null,null,null,null,null,null,null,null,null,null,null,null,null,null,null,null,null,null,null,null,null,null,null,null,null,null,null,null,null,null,null,null,null,null,null,null,null,null,null,"Львівська","Богутин"]
[null,null,null,null,null,null,null,null,null,null,null,null,null,null,null,null,null,null,null,null,null,null,null,null,null,null,null,null,null,null,null,null,null,null,null,null,null,null,null,null,null,null,null,null,null,"Львівська","Бояничі"]
[null,null,null,null,null,null,null,null,null,null,null,null,null,null,null,null,null,null,null,null,null,null,null,null,null,null,null,null,null,null,null,null,null,null,null,null,null,null,null,null,null,null,null,null,null,"Львівська","Велика Лінина"]
[null,null,null,null,null,null,null,null,null,null,null,null,null,null,null,null,null,null,null,null,null,null,null,null,null,null,null,null,null,null,null,null,null,null,null,null,null,null,null,null,null,null,null,null,null,"Львівська","Верхня Лукавиця"]
[null,null,null,null,null,null,null,null,null,null,null,null,null,null,null,null,null,null,null,null,null,null,null,null,null,null,null,null,null,null,null,null,null,null,null,null,null,null,null,null,null,null,null,null,null,"Львівська","Воля Добростанська"]
[null,null,null,null,null,null,null,null,null,null,null,null,null,null,null,null,null,null,null,null,null,null,null,null,null,null,null,null,null,null,null,null,null,null,null,null,null,null,null,null,null,null,null,null,null,"Львівська","Вуйковичі"]
[null,null,null,null,null,null,null,null,null,null,null,null,null,null,null,null,null,null,null,null,null,null,null,null,null,null,null,null,null,null,null,null,null,null,null,null,null,null,null,null,null,null,null,null,null,"Львівська","Грабівниця"]
[null,null,null,null,null,null,null,null,null,null,null,null,null,null,null,null,null,null,null,null,null,null,null,null,null,null,null,null,null,null,null,null,null,null,null,null,null,null,null,null,null,null,null,null,null,"Львівська","Гуманець"]
[null,null,null,null,null,null,null,null,null,null,null,null,null,null,null,null,null,null,null,null,null,null,null,null,null,null,null,null,null,null,null,null,null,null,null,null,null,null,null,null,null,null,null,null,null,"Львівська","Долини (Стародобротвірська сільська рада)"]
[null,null,null,null,null,null,null,null,null,null,null,null,null,null,null,null,null,null,null,null,null,null,null,null,null,null,null,null,null,null,null,null,null,null,null,null,null,null,null,null,null,null,null,null,null,"Львівська","Жирівка"]
[null,null,null,null,null,null,null,null,null,null,null,null,null,null,null,null,null,null,null,null,null,null,null,null,null,null,null,null,null,null,null,null,null,null,null,null,null,null,null,null,null,null,null,null,null,"Львівська","Журавків"]
[null,null,null,null,null,null,null,null,null,null,null,null,null,null,null,null,null,null,null,null,null,null,null,null,null,null,null,null,null,null,null,null,null,null,null,null,null,null,null,null,null,null,null,null,null,"Львівська","Заставне"]
[null,null,null,null,null,null,null,null,null,null,null,null,null,null,null,null,null,null,null,null,null,null,null,null,null,null,null,null,null,null,null,null,null,null,null,null,null,null,null,null,null,null,null,null,null,"Львівська","Золочів"]
[null,null,null,null,null,null,null,null,null,null,null,null,null,null,null,null,null,null,null,null,null,null,null,null,null,null,null,null,null,null,null,null,null,null,null,null,null,null,null,null,null,null,null,null,null,"Львівська","Кобилеччина"]
[null,null,null,null,null,null,null,null,null,null,null,null,null,null,null,null,null,null,null,null,null,null,null,null,null,null,null,null,null,null,null,null,null,null,null,null,null,null,null,null,null,null,null,null,null,"Львівська","Конюхів"]
[null,null,null,null,null,null,null,null,null,null,null,null,null,null,null,null,null,null,null,null,null,null,null,null,null,null,null,null,null,null,null,null,null,null,null,null,null,null,null,null,null,null,null,null,null,"Львівська","Костенів"]
[null,null,null,null,null,null,null,null,null,null,null,null,null,null,null,null,null,null,null,null,null,null,null,null,null,null,null,null,null,null,null,null,null,null,null,null,null,null,null,null,null,null,null,null,null,"Львівська","Ладанці"]
[null,null,null,null,null,null,null,null,null,null,null,null,null,null,null,null,null,null,null,null,null,null,null,null,null,null,null,null,null,null,null,null,null,null,null,null,null,null,null,null,null,null,null,null,null,"Львівська","Листв'яне"]
[null,null,null,null,null,null,null,null,null,null,null,null,null,null,null,null,null,null,null,null,null,null,null,null,null,null,null,null,null,null,null,null,null,null,null,null,null,null,null,null,null,null,null,null,null,"Львівська","Маїки"]
[null,null,null,null,null,null,null,null,null,null,null,null,null,null,null,null,null,null,null,null,null,null,null,null,null,null,null,null,null,null,null,null,null,null,null,null,null,null,null,null,null,null,null,null,null,"Львівська","Малі Ланки"]
[null,null,null,null,null,null,null,null,null,null,null,null,null,null,null,null,null,null,null,null,null,null,null,null,null,null,null,null,null,null,null,null,null,null,null,null,null,null,null,null,null,null,null,null,null,"Львівська","Молотів"]
[null,null,null,null,null,null,null,null,null,null,null,null,null,null,null,null,null,null,null,null,null,null,null,null,null,null,null,null,null,null,null,null,null,null,null,null,null,null,null,null,null,null,null,null,null,"Львівська","Нагачів"]
[null,null,null,null,null,null,null,null,null,null,null,null,null,null,null,null,null,null,null,null,null,null,null,null,null,null,null,null,null,null,null,null,null,null,null,null,null,null,null,null,null,null,null,null,null,"Львівська","Новини"]
[null,null,null,null,null,null,null,null,null,null,null,null,null,null,null,null,null,null,null,null,null,null,null,null,null,null,null,null,null,null,null,null,null,null,null,null,null,null,null,null,null,null,null,null,null,"Львівська","Опори"]
[null,null,null,null,null,null,null,null,null,null,null,null,null,null,null,null,null,null,null,null,null,null,null,null,null,null,null,null,null,null,null,null,null,null,null,null,null,null,null,null,null,null,null,null,null,"Львівська","Папірня"]
[null,null,null,null,null,null,null,null,null,null,null,null,null,null,null,null,null,null,null,null,null,null,null,null,null,null,null,null,null,null,null,null,null,null,null,null,null,null,null,null,null,null,null,null,null,"Львівська","Пісок"]
[null,null,null,null,null,null,null,null,null,null,null,null,null,null,null,null,null,null,null,null,null,null,null,null,null,null,null,null,null,null,null,null,null,null,null,null,null,null,null,null,null,null,null,null,null,"Львівська","Погірці"]
[null,null,null,null,null,null,null,null,null,null,null,null,null,null,null,null,null,null,null,null,null,null,null,null,null,null,null,null,null,null,null,null,null,null,null,null,null,null,null,null,null,null,null,null,null,"Львівська","Раковища"]
[null,null,null,null,null,null,null,null,null,null,null,null,null,null,null,null,null,null,null,null,null,null,null,null,null,null,null,null,null,null,null,null,null,null,null,null,null,null,null,null,null,null,null,null,null,"Львівська","Рішин"]
[null,null,null,null,null,null,null,null,null,null,null,null,null,null,null,null,null,null,null,null,null,null,null,null,null,null,null,null,null,null,null,null,null,null,null,null,null,null,null,null,null,null,null,null,null,"Львівська","Себечів"]
[null,null,null,null,null,null,null,null,null,null,null,null,null,null,null,null,null,null,null,null,null,null,null,null,null,null,null,null,null,null,null,null,null,null,null,null,null,null,null,null,null,null,null,null,null,"Львівська","Слабаш"]
[null,null,null,null,null,null,null,null,null,null,null,null,null,null,null,null,null,null,null,null,null,null,null,null,null,null,null,null,null,null,null,null,null,null,null,null,null,null,null,null,null,null,null,null,null,"Львівська","Стені"]
[null,null,null,null,null,null,null,null,null,null,null,null,null,null,null,null,null,null,null,null,null,null,null,null,null,null,null,null,null,null,null,null,null,null,null,null,null,null,null,null,null,null,null,null,null,"Львівська","Стрілків"]
[null,null,null,null,null,null,null,null,null,null,null,null,null,null,null,null,null,null,null,null,null,null,null,null,null,null,null,null,null,null,null,null,null,null,null,null,null,null,null,null,null,null,null,null,null,"Львівська","Сушно"]
[null,null,null,null,null,null,null,null,null,null,null,null,null,null,null,null,null,null,null,null,null,null,null,null,null,null,null,null,null,null,null,null,null,null,null,null,null,null,null,null,null,null,null,null,null,"Львівська","Тур'я"]
[null,null,null,null,null,null,null,null,null,null,null,null,null,null,null,null,null,null,null,null,null,null,null,null,null,null,null,null,null,null,null,null,null,null,null,null,null,null,null,null,null,null,null,null,null,"Львівська","Фійна"]
[null,null,null,null,null,null,null,null,null,null,null,null,null,null,null,null,null,null,null,null,null,null,null,null,null,null,null,null,null,null,null,null,null,null,null,null,null,null,null,null,null,null,null,null,null,"Львівська","Черневе"]
[null,null,null,null,null,null,null,null,null,null,null,null,null,null,null,null,null,null,null,null,null,null,null,null,null,null,null,null,null,null,null,null,null,null,null,null,null,null,null,null,null,null,null,null,null,"Львівська","Штуковець"]
[null,null,null,null,null,null,null,null,null,null,null,null,null,null,null,null,null,null,null,null,null,null,null,null,null,null,null,null,null,null,null,null,null,null,null,null,null,null,null,null,null,null,null,null,null,"Миколаївська","Афанасівка"]
[null,null,null,null,null,null,null,null,null,null,null,null,null,null,null,null,null,null,null,null,null,null,null,null,null,null,null,null,null,null,null,null,null,null,null,null,null,null,null,null,null,null,null,null,null,"Миколаївська","Біла  Криниця (Білокриницька)"]
[null,null,null,null,null,null,null,null,null,null,null,null,null,null,null,null,null,null,null,null,null,null,null,null,null,null,null,null,null,null,null,null,null,null,null,null,null,null,null,null,null,null,null,null,null,"Миколаївська","Булацелове (Семенівська)"]
[null,null,null,null,null,null,null,null,null,null,null,null,null,null,null,null,null,null,null,null,null,null,null,null,null,null,null,null,null,null,null,null,null,null,null,null,null,null,null,null,null,null,null,null,null,"Миколаївська","Волна (Олександрівська)"]
[null,null,null,null,null,null,null,null,null,null,null,null,null,null,null,null,null,null,null,null,null,null,null,null,null,null,null,null,null,null,null,null,null,null,null,null,null,null,null,null,null,null,null,null,null,"Миколаївська","Гамове (Кубряцька)"]
[null,null,null,null,null,null,null,null,null,null,null,null,null,null,null,null,null,null,null,null,null,null,null,null,null,null,null,null,null,null,null,null,null,null,null,null,null,null,null,null,null,null,null,null,null,"Миколаївська","Зброшкове (Доманівська)"]
[null,null,null,null,null,null,null,null,null,null,null,null,null,null,null,null,null,null,null,null,null,null,null,null,null,null,null,null,null,null,null,null,null,null,null,null,null,null,null,null,null,null,null,null,null,"Миколаївська","Зелений Гай (Кашперо-Миколаївська)"]
[null,null,null,null,null,null,null,null,null,null,null,null,null,null,null,null,null,null,null,null,null,null,null,null,null,null,null,null,null,null,null,null,null,null,null,null,null,null,null,null,null,null,null,null,null,"Миколаївська","Кашперо-Миколаївка (Кашперо-Миколаївська)"]
[null,null,null,null,null,null,null,null,null,null,null,null,null,null,null,null,null,null,null,null,null,null,null,null,null,null,null,null,null,null,null,null,null,null,null,null,null,null,null,null,null,null,null,null,null,"Миколаївська","Колос Добра (Новоселівська)"]
[null,null,null,null,null,null,null,null,null,null,null,null,null,null,null,null,null,null,null,null,null,null,null,null,null,null,null,null,null,null,null,null,null,null,null,null,null,null,null,null,null,null,null,null,null,"Миколаївська","Лісове (Володимирівська)"]
[null,null,null,null,null,null,null,null,null,null,null,null,null,null,null,null,null,null,null,null,null,null,null,null,null,null,null,null,null,null,null,null,null,null,null,null,null,null,null,null,null,null,null,null,null,"Миколаївська","Макарове (Улянівська)"]
[null,null,null,null,null,null,null,null,null,null,null,null,null,null,null,null,null,null,null,null,null,null,null,null,null,null,null,null,null,null,null,null,null,null,null,null,null,null,null,null,null,null,null,null,null,"Миколаївська","Мостове (Ганнівська)"]
[null,null,null,null,null,null,null,null,null,null,null,null,null,null,null,null,null,null,null,null,null,null,null,null,null,null,null,null,null,null,null,null,null,null,null,null,null,null,null,null,null,null,null,null,null,"Миколаївська","Мостове (Мостівське)"]
[null,null,null,null,null,null,null,null,null,null,null,null,null,null,null,null,null,null,null,null,null,null,null,null,null,null,null,null,null,null,null,null,null,null,null,null,null,null,null,null,null,null,null,null,null,"Миколаївська","Новодмитрівка (Новомихайлівська)"]
[null,null,null,null,null,null,null,null,null,null,null,null,null,null,null,null,null,null,null,null,null,null,null,null,null,null,null,null,null,null,null,null,null,null,null,null,null,null,null,null,null,null,null,null,null,"Миколаївська","Новосілка (Подільська)"]
[null,null,null,null,null,null,null,null,null,null,null,null,null,null,null,null,null,null,null,null,null,null,null,null,null,null,null,null,null,null,null,null,null,null,null,null,null,null,null,null,null,null,null,null,null,"Миколаївська","Олександрівка (Антонівська)"]
[null,null,null,null,null,null,null,null,null,null,null,null,null,null,null,null,null,null,null,null,null,null,null,null,null,null,null,null,null,null,null,null,null,null,null,null,null,null,null,null,null,null,null,null,null,"Миколаївська","Показне (Вільнозапорізька)"]
[null,null,null,null,null,null,null,null,null,null,null,null,null,null,null,null,null,null,null,null,null,null,null,null,null,null,null,null,null,null,null,null,null,null,null,null,null,null,null,null,null,null,null,null,null,"Миколаївська","Пришиб (Висунська)"]
[null,null,null,null,null,null,null,null,null,null,null,null,null,null,null,null,null,null,null,null,null,null,null,null,null,null,null,null,null,null,null,null,null,null,null,null,null,null,null,null,null,null,null,null,null,"Миколаївська","Станіславчик (Болеславчицька)"]
[null,null,null,null,null,null,null,null,null,null,null,null,null,null,null,null,null,null,null,null,null,null,null,null,null,null,null,null,null,null,null,null,null,null,null,null,null,null,null,null,null,null,null,null,null,"Миколаївська","Тернові Поди (Краснознам'янська)"]
[null,null,null,null,null,null,null,null,null,null,null,null,null,null,null,null,null,null,null,null,null,null,null,null,null,null,null,null,null,null,null,null,null,null,null,null,null,null,null,null,null,null,null,null,null,"Миколаївська","Улянівка (Воронцівська)"]
[null,null,null,null,null,null,null,null,null,null,null,null,null,null,null,null,null,null,null,null,null,null,null,null,null,null,null,null,null,null,null,null,null,null,null,null,null,null,null,null,null,null,null,null,null,"Миколаївська","Шмідтівка (Матіясівська)"]
[null,null,null,null,null,null,null,null,null,null,null,null,null,null,null,null,null,null,null,null,null,null,null,null,null,null,null,null,null,null,null,null,null,null,null,null,null,null,null,null,null,null,null,null,null,"Миколаївська","Ясна Зоря (Ольшанська)"]
[null,null,null,null,null,null,null,null,null,null,null,null,null,null,null,null,null,null,null,null,null,null,null,null,null,null,null,null,null,null,null,null,null,null,null,null,null,null,null,null,null,null,null,null,null,"Одеська","Борщі"]
[null,null,null,null,null,null,null,null,null,null,null,null,null,null,null,null,null,null,null,null,null,null,null,null,null,null,null,null,null,null,null,null,null,null,null,null,null,null,null,null,null,null,null,null,null,"Одеська","Вапнярка"]
[null,null,null,null,null,null,null,null,null,null,null,null,null,null,null,null,null,null,null,null,null,null,null,null,null,null,null,null,null,null,null,null,null,null,null,null,null,null,null,null,null,null,null,null,null,"Одеська","Дальнічень"]
[null,null,null,null,null,null,null,null,null,null,null,null,null,null,null,null,null,null,null,null,null,null,null,null,null,null,null,null,null,null,null,null,null,null,null,null,null,null,null,null,null,null,null,null,null,"Одеська","Єфросинівка"]
[null,null,null,null,null,null,null,null,null,null,null,null,null,null,null,null,null,null,null,null,null,null,null,null,null,null,null,null,null,null,null,null,null,null,null,null,null,null,null,null,null,null,null,null,null,"Одеська","Кілія"]
[null,null,null,null,null,null,null,null,null,null,null,null,null,null,null,null,null,null,null,null,null,null,null,null,null,null,null,null,null,null,null,null,null,null,null,null,null,null,null,null,null,null,null,null,null,"Одеська","Котовці"]
[null,null,null,null,null,null,null,null,null,null,null,null,null,null,null,null,null,null,null,null,null,null,null,null,null,null,null,null,null,null,null,null,null,null,null,null,null,null,null,null,null,null,null,null,null,"Одеська","Левадівка"]
[null,null,null,null,null,null,null,null,null,null,null,null,null,null,null,null,null,null,null,null,null,null,null,null,null,null,null,null,null,null,null,null,null,null,null,null,null,null,null,null,null,null,null,null,null,"Одеська","Муравлівка"]
[null,null,null,null,null,null,null,null,null,null,null,null,null,null,null,null,null,null,null,null,null,null,null,null,null,null,null,null,null,null,null,null,null,null,null,null,null,null,null,null,null,null,null,null,null,"Одеська","Нова Плахтіївка"]
[null,null,null,null,null,null,null,null,null,null,null,null,null,null,null,null,null,null,null,null,null,null,null,null,null,null,null,null,null,null,null,null,null,null,null,null,null,null,null,null,null,null,null,null,null,"Одеська","Олександрівка (Петрівська)"]
[null,null,null,null,null,null,null,null,null,null,null,null,null,null,null,null,null,null,null,null,null,null,null,null,null,null,null,null,null,null,null,null,null,null,null,null,null,null,null,null,null,null,null,null,null,"Одеська","Полянецьке"]
[null,null,null,null,null,null,null,null,null,null,null,null,null,null,null,null,null,null,null,null,null,null,null,null,null,null,null,null,null,null,null,null,null,null,null,null,null,null,null,null,null,null,null,null,null,"Одеська","Созонівка"]
[null,null,null,null,null,null,null,null,null,null,null,null,null,null,null,null,null,null,null,null,null,null,null,null,null,null,null,null,null,null,null,null,null,null,null,null,null,null,null,null,null,null,null,null,null,"Одеська","Струтинка"]
[null,null,null,null,null,null,null,null,null,null,null,null,null,null,null,null,null,null,null,null,null,null,null,null,null,null,null,null,null,null,null,null,null,null,null,null,null,null,null,null,null,null,null,null,null,"Одеська","Тузли"]
[null,null,null,null,null,null,null,null,null,null,null,null,null,null,null,null,null,null,null,null,null,null,null,null,null,null,null,null,null,null,null,null,null,null,null,null,null,null,null,null,null,null,null,null,null,"Одеська","Якова"]
[null,null,null,null,null,null,null,null,null,null,null,null,null,null,null,null,null,null,null,null,null,null,null,null,null,null,null,null,null,null,null,null,null,null,null,null,null,null,null,null,null,null,null,null,null,"Полтавська","Бабайкове"]
[null,null,null,null,null,null,null,null,null,null,null,null,null,null,null,null,null,null,null,null,null,null,null,null,null,null,null,null,null,null,null,null,null,null,null,null,null,null,null,null,null,null,null,null,null,"Полтавська","Біївці"]
[null,null,null,null,null,null,null,null,null,null,null,null,null,null,null,null,null,null,null,null,null,null,null,null,null,null,null,null,null,null,null,null,null,null,null,null,null,null,null,null,null,null,null,null,null,"Полтавська","Бурімка"]
[null,null,null,null,null,null,null,null,null,null,null,null,null,null,null,null,null,null,null,null,null,null,null,null,null,null,null,null,null,null,null,null,null,null,null,null,null,null,null,null,null,null,null,null,null,"Полтавська","Вили"]
[null,null,null,null,null,null,null,null,null,null,null,null,null,null,null,null,null,null,null,null,null,null,null,null,null,null,null,null,null,null,null,null,null,null,null,null,null,null,null,null,null,null,null,null,null,"Полтавська","Вінтенці"]
[null,null,null,null,null,null,null,null,null,null,null,null,null,null,null,null,null,null,null,null,null,null,null,null,null,null,null,null,null,null,null,null,null,null,null,null,null,null,null,null,null,null,null,null,null,"Полтавська","Голобородьківське"]
[null,null,null,null,null,null,null,null,null,null,null,null,null,null,null,null,null,null,null,null,null,null,null,null,null,null,null,null,null,null,null,null,null,null,null,null,null,null,null,null,null,null,null,null,null,"Полтавська","Григоро-Бригадирівка"]
[null,null,null,null,null,null,null,null,null,null,null,null,null,null,null,null,null,null,null,null,null,null,null,null,null,null,null,null,null,null,null,null,null,null,null,null,null,null,null,null,null,null,null,null,null,"Полтавська","Дашківка"]
[null,null,null,null,null,null,null,null,null,null,null,null,null,null,null,null,null,null,null,null,null,null,null,null,null,null,null,null,null,null,null,null,null,null,null,null,null,null,null,null,null,null,null,null,null,"Полтавська","Жадани"]
[null,null,null,null,null,null,null,null,null,null,null,null,null,null,null,null,null,null,null,null,null,null,null,null,null,null,null,null,null,null,null,null,null,null,null,null,null,null,null,null,null,null,null,null,null,"Полтавська","Ївженки"]
[null,null,null,null,null,null,null,null,null,null,null,null,null,null,null,null,null,null,null,null,null,null,null,null,null,null,null,null,null,null,null,null,null,null,null,null,null,null,null,null,null,null,null,null,null,"Полтавська","Ковердина Балка"]
[null,null,null,null,null,null,null,null,null,null,null,null,null,null,null,null,null,null,null,null,null,null,null,null,null,null,null,null,null,null,null,null,null,null,null,null,null,null,null,null,null,null,null,null,null,"Полтавська","Коновалівка"]
[null,null,null,null,null,null,null,null,null,null,null,null,null,null,null,null,null,null,null,null,null,null,null,null,null,null,null,null,null,null,null,null,null,null,null,null,null,null,null,null,null,null,null,null,null,"Полтавська","Кунівка"]
[null,null,null,null,null,null,null,null,null,null,null,null,null,null,null,null,null,null,null,null,null,null,null,null,null,null,null,null,null,null,null,null,null,null,null,null,null,null,null,null,null,null,null,null,null,"Полтавська","Ламане"]
[null,null,null,null,null,null,null,null,null,null,null,null,null,null,null,null,null,null,null,null,null,null,null,null,null,null,null,null,null,null,null,null,null,null,null,null,null,null,null,null,null,null,null,null,null,"Полтавська","Лізки"]
[null,null,null,null,null,null,null,null,null,null,null,null,null,null,null,null,null,null,null,null,null,null,null,null,null,null,null,null,null,null,null,null,null,null,null,null,null,null,null,null,null,null,null,null,null,"Полтавська","Малютинці"]
[null,null,null,null,null,null,null,null,null,null,null,null,null,null,null,null,null,null,null,null,null,null,null,null,null,null,null,null,null,null,null,null,null,null,null,null,null,null,null,null,null,null,null,null,null,"Полтавська","Мачухи"]
[null,null,null,null,null,null,null,null,null,null,null,null,null,null,null,null,null,null,null,null,null,null,null,null,null,null,null,null,null,null,null,null,null,null,null,null,null,null,null,null,null,null,null,null,null,"Полтавська","Нижні Яреськи"]
[null,null,null,null,null,null,null,null,null,null,null,null,null,null,null,null,null,null,null,null,null,null,null,null,null,null,null,null,null,null,null,null,null,null,null,null,null,null,null,null,null,null,null,null,null,"Полтавська","Новий Виселок"]
[null,null,null,null,null,null,null,null,null,null,null,null,null,null,null,null,null,null,null,null,null,null,null,null,null,null,null,null,null,null,null,null,null,null,null,null,null,null,null,null,null,null,null,null,null,"Полтавська","Панченки"]
[null,null,null,null,null,null,null,null,null,null,null,null,null,null,null,null,null,null,null,null,null,null,null,null,null,null,null,null,null,null,null,null,null,null,null,null,null,null,null,null,null,null,null,null,null,"Полтавська","Першотравневе"]
[null,null,null,null,null,null,null,null,null,null,null,null,null,null,null,null,null,null,null,null,null,null,null,null,null,null,null,null,null,null,null,null,null,null,null,null,null,null,null,null,null,null,null,null,null,"Полтавська","Пристанційне"]
[null,null,null,null,null,null,null,null,null,null,null,null,null,null,null,null,null,null,null,null,null,null,null,null,null,null,null,null,null,null,null,null,null,null,null,null,null,null,null,null,null,null,null,null,null,"Полтавська","Пушкареве"]
[null,null,null,null,null,null,null,null,null,null,null,null,null,null,null,null,null,null,null,null,null,null,null,null,null,null,null,null,null,null,null,null,null,null,null,null,null,null,null,null,null,null,null,null,null,"Полтавська","Свиридівка"]
[null,null,null,null,null,null,null,null,null,null,null,null,null,null,null,null,null,null,null,null,null,null,null,null,null,null,null,null,null,null,null,null,null,null,null,null,null,null,null,null,null,null,null,null,null,"Полтавська","Сиротенки"]
[null,null,null,null,null,null,null,null,null,null,null,null,null,null,null,null,null,null,null,null,null,null,null,null,null,null,null,null,null,null,null,null,null,null,null,null,null,null,null,null,null,null,null,null,null,"Полтавська","Снітине"]
[null,null,null,null,null,null,null,null,null,null,null,null,null,null,null,null,null,null,null,null,null,null,null,null,null,null,null,null,null,null,null,null,null,null,null,null,null,null,null,null,null,null,null,null,null,"Полтавська","Сухорабівка"]
[null,null,null,null,null,null,null,null,null,null,null,null,null,null,null,null,null,null,null,null,null,null,null,null,null,null,null,null,null,null,null,null,null,null,null,null,null,null,null,null,null,null,null,null,null,"Полтавська","Трирогове"]
[null,null,null,null,null,null,null,null,null,null,null,null,null,null,null,null,null,null,null,null,null,null,null,null,null,null,null,null,null,null,null,null,null,null,null,null,null,null,null,null,null,null,null,null,null,"Полтавська","Хорішки"]
[null,null,null,null,null,null,null,null,null,null,null,null,null,null,null,null,null,null,null,null,null,null,null,null,null,null,null,null,null,null,null,null,null,null,null,null,null,null,null,null,null,null,null,null,null,"Полтавська","Червоні Квіти"]
[null,null,null,null,null,null,null,null,null,null,null,null,null,null,null,null,null,null,null,null,null,null,null,null,null,null,null,null,null,null,null,null,null,null,null,null,null,null,null,null,null,null,null,null,null,"Полтавська","Шостаки"]
[null,null,null,null,null,null,null,null,null,null,null,null,null,null,null,null,null,null,null,null,null,null,null,null,null,null,null,null,null,null,null,null,null,null,null,null,null,null,null,null,null,null,null,null,null,"Полтавська","Ялосовецьке"]
[null,null,null,null,null,null,null,null,null,null,null,null,null,null,null,null,null,null,null,null,null,null,null,null,null,null,null,null,null,null,null,null,null,null,null,null,null,null,null,null,null,null,null,null,null,"Рівненська","Бармаки"]
[null,null,null,null,null,null,null,null,null,null,null,null,null,null,null,null,null,null,null,null,null,null,null,null,null,null,null,null,null,null,null,null,null,null,null,null,null,null,null,null,null,null,null,null,null,"Рівненська","Варковичі"]
[null,null,null,null,null,null,null,null,null,null,null,null,null,null,null,null,null,null,null,null,null,null,null,null,null,null,null,null,null,null,null,null,null,null,null,null,null,null,null,null,null,null,null,null,null,"Рівненська","Великі Загірці"]
[null,null,null,null,null,null,null,null,null,null,null,null,null,null,null,null,null,null,null,null,null,null,null,null,null,null,null,null,null,null,null,null,null,null,null,null,null,null,null,null,null,null,null,null,null,"Рівненська","Гільча Перша"]
[null,null,null,null,null,null,null,null,null,null,null,null,null,null,null,null,null,null,null,null,null,null,null,null,null,null,null,null,null,null,null,null,null,null,null,null,null,null,null,null,null,null,null,null,null,"Рівненська","Диків"]
[null,null,null,null,null,null,null,null,null,null,null,null,null,null,null,null,null,null,null,null,null,null,null,null,null,null,null,null,null,null,null,null,null,null,null,null,null,null,null,null,null,null,null,null,null,"Рівненська","Зносичі"]
[null,null,null,null,null,null,null,null,null,null,null,null,null,null,null,null,null,null,null,null,null,null,null,null,null,null,null,null,null,null,null,null,null,null,null,null,null,null,null,null,null,null,null,null,null,"Рівненська","Квасилів"]
[null,null,null,null,null,null,null,null,null,null,null,null,null,null,null,null,null,null,null,null,null,null,null,null,null,null,null,null,null,null,null,null,null,null,null,null,null,null,null,null,null,null,null,null,null,"Рівненська","Кухче"]
[null,null,null,null,null,null,null,null,null,null,null,null,null,null,null,null,null,null,null,null,null,null,null,null,null,null,null,null,null,null,null,null,null,null,null,null,null,null,null,null,null,null,null,null,null,"Рівненська","Макотерти"]
[null,null,null,null,null,null,null,null,null,null,null,null,null,null,null,null,null,null,null,null,null,null,null,null,null,null,null,null,null,null,null,null,null,null,null,null,null,null,null,null,null,null,null,null,null,"Рівненська","Малі Телковичі"]
[null,null,null,null,null,null,null,null,null,null,null,null,null,null,null,null,null,null,null,null,null,null,null,null,null,null,null,null,null,null,null,null,null,null,null,null,null,null,null,null,null,null,null,null,null,"Рівненська","М'ятин"]
[null,null,null,null,null,null,null,null,null,null,null,null,null,null,null,null,null,null,null,null,null,null,null,null,null,null,null,null,null,null,null,null,null,null,null,null,null,null,null,null,null,null,null,null,null,"Рівненська","Олибів"]
[null,null,null,null,null,null,null,null,null,null,null,null,null,null,null,null,null,null,null,null,null,null,null,null,null,null,null,null,null,null,null,null,null,null,null,null,null,null,null,null,null,null,null,null,null,"Рівненська","Працюки"]
[null,null,null,null,null,null,null,null,null,null,null,null,null,null,null,null,null,null,null,null,null,null,null,null,null,null,null,null,null,null,null,null,null,null,null,null,null,null,null,null,null,null,null,null,null,"Рівненська","Річечина"]
[null,null,null,null,null,null,null,null,null,null,null,null,null,null,null,null,null,null,null,null,null,null,null,null,null,null,null,null,null,null,null,null,null,null,null,null,null,null,null,null,null,null,null,null,null,"Рівненська","Степангород"]
[null,null,null,null,null,null,null,null,null,null,null,null,null,null,null,null,null,null,null,null,null,null,null,null,null,null,null,null,null,null,null,null,null,null,null,null,null,null,null,null,null,null,null,null,null,"Рівненська","Тесів"]
[null,null,null,null,null,null,null,null,null,null,null,null,null,null,null,null,null,null,null,null,null,null,null,null,null,null,null,null,null,null,null,null,null,null,null,null,null,null,null,null,null,null,null,null,null,"Рівненська","Удрицьк"]
[null,null,null,null,null,null,null,null,null,null,null,null,null,null,null,null,null,null,null,null,null,null,null,null,null,null,null,null,null,null,null,null,null,null,null,null,null,null,null,null,null,null,null,null,null,"Севастополь","Родніківське"]
[null,null,null,null,null,null,null,null,null,null,null,null,null,null,null,null,null,null,null,null,null,null,null,null,null,null,null,null,null,null,null,null,null,null,null,null,null,null,null,null,null,null,null,null,null,"Сумська","Артемо-растівка (Мартинівка)"]
[null,null,null,null,null,null,null,null,null,null,null,null,null,null,null,null,null,null,null,null,null,null,null,null,null,null,null,null,null,null,null,null,null,null,null,null,null,null,null,null,null,null,null,null,null,"Сумська","Бороданове"]
[null,null,null,null,null,null,null,null,null,null,null,null,null,null,null,null,null,null,null,null,null,null,null,null,null,null,null,null,null,null,null,null,null,null,null,null,null,null,null,null,null,null,null,null,null,"Сумська","Будне (Лантратівка)"]
[null,null,null,null,null,null,null,null,null,null,null,null,null,null,null,null,null,null,null,null,null,null,null,null,null,null,null,null,null,null,null,null,null,null,null,null,null,null,null,null,null,null,null,null,null,"Сумська","Вільна Слобода"]
[null,null,null,null,null,null,null,null,null,null,null,null,null,null,null,null,null,null,null,null,null,null,null,null,null,null,null,null,null,null,null,null,null,null,null,null,null,null,null,null,null,null,null,null,null,"Сумська","Воропаї"]
[null,null,null,null,null,null,null,null,null,null,null,null,null,null,null,null,null,null,null,null,null,null,null,null,null,null,null,null,null,null,null,null,null,null,null,null,null,null,null,null,null,null,null,null,null,"Сумська","Грінченкове"]
[null,null,null,null,null,null,null,null,null,null,null,null,null,null,null,null,null,null,null,null,null,null,null,null,null,null,null,null,null,null,null,null,null,null,null,null,null,null,null,null,null,null,null,null,null,"Сумська","Дернове"]
[null,null,null,null,null,null,null,null,null,null,null,null,null,null,null,null,null,null,null,null,null,null,null,null,null,null,null,null,null,null,null,null,null,null,null,null,null,null,null,null,null,null,null,null,null,"Сумська","Дяківка"]
[null,null,null,null,null,null,null,null,null,null,null,null,null,null,null,null,null,null,null,null,null,null,null,null,null,null,null,null,null,null,null,null,null,null,null,null,null,null,null,null,null,null,null,null,null,"Сумська","Карпенкове"]
[null,null,null,null,null,null,null,null,null,null,null,null,null,null,null,null,null,null,null,null,null,null,null,null,null,null,null,null,null,null,null,null,null,null,null,null,null,null,null,null,null,null,null,null,null,"Сумська","Клочківка"]
[null,null,null,null,null,null,null,null,null,null,null,null,null,null,null,null,null,null,null,null,null,null,null,null,null,null,null,null,null,null,null,null,null,null,null,null,null,null,null,null,null,null,null,null,null,"Сумська","Кудоярове"]
[null,null,null,null,null,null,null,null,null,null,null,null,null,null,null,null,null,null,null,null,null,null,null,null,null,null,null,null,null,null,null,null,null,null,null,null,null,null,null,null,null,null,null,null,null,"Сумська","Липняк"]
[null,null,null,null,null,null,null,null,null,null,null,null,null,null,null,null,null,null,null,null,null,null,null,null,null,null,null,null,null,null,null,null,null,null,null,null,null,null,null,null,null,null,null,null,null,"Сумська","Масензівка"]
[null,null,null,null,null,null,null,null,null,null,null,null,null,null,null,null,null,null,null,null,null,null,null,null,null,null,null,null,null,null,null,null,null,null,null,null,null,null,null,null,null,null,null,null,null,"Сумська","Могриця"]
[null,null,null,null,null,null,null,null,null,null,null,null,null,null,null,null,null,null,null,null,null,null,null,null,null,null,null,null,null,null,null,null,null,null,null,null,null,null,null,null,null,null,null,null,null,"Сумська","Нелени"]
[null,null,null,null,null,null,null,null,null,null,null,null,null,null,null,null,null,null,null,null,null,null,null,null,null,null,null,null,null,null,null,null,null,null,null,null,null,null,null,null,null,null,null,null,null,"Сумська","Осоївка"]
[null,null,null,null,null,null,null,null,null,null,null,null,null,null,null,null,null,null,null,null,null,null,null,null,null,null,null,null,null,null,null,null,null,null,null,null,null,null,null,null,null,null,null,null,null,"Сумська","Перехрестівка (Северинівська)"]
[null,null,null,null,null,null,null,null,null,null,null,null,null,null,null,null,null,null,null,null,null,null,null,null,null,null,null,null,null,null,null,null,null,null,null,null,null,null,null,null,null,null,null,null,null,"Сумська","Радгоспне (Буймер)"]
[null,null,null,null,null,null,null,null,null,null,null,null,null,null,null,null,null,null,null,null,null,null,null,null,null,null,null,null,null,null,null,null,null,null,null,null,null,null,null,null,null,null,null,null,null,"Сумська","Розсохувате (Грінченкове)"]
[null,null,null,null,null,null,null,null,null,null,null,null,null,null,null,null,null,null,null,null,null,null,null,null,null,null,null,null,null,null,null,null,null,null,null,null,null,null,null,null,null,null,null,null,null,"Сумська","Собич"]
[null,null,null,null,null,null,null,null,null,null,null,null,null,null,null,null,null,null,null,null,null,null,null,null,null,null,null,null,null,null,null,null,null,null,null,null,null,null,null,null,null,null,null,null,null,"Сумська","Сорочинське"]
[null,null,null,null,null,null,null,null,null,null,null,null,null,null,null,null,null,null,null,null,null,null,null,null,null,null,null,null,null,null,null,null,null,null,null,null,null,null,null,null,null,null,null,null,null,"Сумська","Хильчичі"]
[null,null,null,null,null,null,null,null,null,null,null,null,null,null,null,null,null,null,null,null,null,null,null,null,null,null,null,null,null,null,null,null,null,null,null,null,null,null,null,null,null,null,null,null,null,"Сумська","Чеберяки"]
[null,null,null,null,null,null,null,null,null,null,null,null,null,null,null,null,null,null,null,null,null,null,null,null,null,null,null,null,null,null,null,null,null,null,null,null,null,null,null,null,null,null,null,null,null,"Сумська","Щекино"]
[null,null,null,null,null,null,null,null,null,null,null,null,null,null,null,null,null,null,null,null,null,null,null,null,null,null,null,null,null,null,null,null,null,null,null,null,null,null,null,null,null,null,null,null,null,"Тернопільська","Антонів (Свидівська сільська рада)"]
[null,null,null,null,null,null,null,null,null,null,null,null,null,null,null,null,null,null,null,null,null,null,null,null,null,null,null,null,null,null,null,null,null,null,null,null,null,null,null,null,null,null,null,null,null,"Тернопільська","Берем'яни (Берем'янська сільська рада)"]
[null,null,null,null,null,null,null,null,null,null,null,null,null,null,null,null,null,null,null,null,null,null,null,null,null,null,null,null,null,null,null,null,null,null,null,null,null,null,null,null,null,null,null,null,null,"Тернопільська","Броварі (Язловецька сільська рада)"]
[null,null,null,null,null,null,null,null,null,null,null,null,null,null,null,null,null,null,null,null,null,null,null,null,null,null,null,null,null,null,null,null,null,null,null,null,null,null,null,null,null,null,null,null,null,"Тернопільська","Великі Кусківці (Великокусковецька сільська рада)"]
[null,null,null,null,null,null,null,null,null,null,null,null,null,null,null,null,null,null,null,null,null,null,null,null,null,null,null,null,null,null,null,null,null,null,null,null,null,null,null,null,null,null,null,null,null,"Тернопільська","Гадинківці (Гадинківська сільська рада)"]
[null,null,null,null,null,null,null,null,null,null,null,null,null,null,null,null,null,null,null,null,null,null,null,null,null,null,null,null,null,null,null,null,null,null,null,null,null,null,null,null,null,null,null,null,null,"Тернопільська","Гнилички (Новосільська сільська рада)"]
[null,null,null,null,null,null,null,null,null,null,null,null,null,null,null,null,null,null,null,null,null,null,null,null,null,null,null,null,null,null,null,null,null,null,null,null,null,null,null,null,null,null,null,null,null,"Тернопільська","Дзвинячка (Дзвиняцька сільська рада)"]
[null,null,null,null,null,null,null,null,null,null,null,null,null,null,null,null,null,null,null,null,null,null,null,null,null,null,null,null,null,null,null,null,null,null,null,null,null,null,null,null,null,null,null,null,null,"Тернопільська","Домаморич (Домаморицька сільська рада)"]
[null,null,null,null,null,null,null,null,null,null,null,null,null,null,null,null,null,null,null,null,null,null,null,null,null,null,null,null,null,null,null,null,null,null,null,null,null,null,null,null,null,null,null,null,null,"Тернопільська","Жуків (Жуківська сільська рада)"]
[null,null,null,null,null,null,null,null,null,null,null,null,null,null,null,null,null,null,null,null,null,null,null,null,null,null,null,null,null,null,null,null,null,null,null,null,null,null,null,null,null,null,null,null,null,"Тернопільська","Іванівка (Іванівська сільська рада)"]
[null,null,null,null,null,null,null,null,null,null,null,null,null,null,null,null,null,null,null,null,null,null,null,null,null,null,null,null,null,null,null,null,null,null,null,null,null,null,null,null,null,null,null,null,null,"Тернопільська","Ілавче (Ілавченська сільська рада)"]
[null,null,null,null,null,null,null,null,null,null,null,null,null,null,null,null,null,null,null,null,null,null,null,null,null,null,null,null,null,null,null,null,null,null,null,null,null,null,null,null,null,null,null,null,null,"Тернопільська","Королівка (Королівська сільська рада)"]
[null,null,null,null,null,null,null,null,null,null,null,null,null,null,null,null,null,null,null,null,null,null,null,null,null,null,null,null,null,null,null,null,null,null,null,null,null,null,null,null,null,null,null,null,null,"Тернопільська","Красівка (Дичківська сільська рада)"]
[null,null,null,null,null,null,null,null,null,null,null,null,null,null,null,null,null,null,null,null,null,null,null,null,null,null,null,null,null,null,null,null,null,null,null,null,null,null,null,null,null,null,null,null,null,"Тернопільська","Лози (Лозівська сільська рада)"]
[null,null,null,null,null,null,null,null,null,null,null,null,null,null,null,null,null,null,null,null,null,null,null,null,null,null,null,null,null,null,null,null,null,null,null,null,null,null,null,null,null,null,null,null,null,"Тернопільська","Мала Березовиця (Іванчанська сільська рада)"]
[null,null,null,null,null,null,null,null,null,null,null,null,null,null,null,null,null,null,null,null,null,null,null,null,null,null,null,null,null,null,null,null,null,null,null,null,null,null,null,null,null,null,null,null,null,"Тернопільська","Мовчанівка (Кам\"янківська сільська рада)"]
[null,null,null,null,null,null,null,null,null,null,null,null,null,null,null,null,null,null,null,null,null,null,null,null,null,null,null,null,null,null,null,null,null,null,null,null,null,null,null,null,null,null,null,null,null,"Тернопільська","Нараїв (Нараївська сільська рада)"]
[null,null,null,null,null,null,null,null,null,null,null,null,null,null,null,null,null,null,null,null,null,null,null,null,null,null,null,null,null,null,null,null,null,null,null,null,null,null,null,null,null,null,null,null,null,"Тернопільська","Новосілка (Малобірківська сільська рада)"]
[null,null,null,null,null,null,null,null,null,null,null,null,null,null,null,null,null,null,null,null,null,null,null,null,null,null,null,null,null,null,null,null,null,null,null,null,null,null,null,null,null,null,null,null,null,"Тернопільська","Пищатинці (Пищатинська сільська рада)"]
[null,null,null,null,null,null,null,null,null,null,null,null,null,null,null,null,null,null,null,null,null,null,null,null,null,null,null,null,null,null,null,null,null,null,null,null,null,null,null,null,null,null,null,null,null,"Тернопільська","Піщане (Ратищівська сільська рада)"]
[null,null,null,null,null,null,null,null,null,null,null,null,null,null,null,null,null,null,null,null,null,null,null,null,null,null,null,null,null,null,null,null,null,null,null,null,null,null,null,null,null,null,null,null,null,"Тернопільська","Розгадів (Розгадівська сільська рада)"]
[null,null,null,null,null,null,null,null,null,null,null,null,null,null,null,null,null,null,null,null,null,null,null,null,null,null,null,null,null,null,null,null,null,null,null,null,null,null,null,null,null,null,null,null,null,"Тернопільська","Сапова (Вишнівчицька сільська рада)"]
[null,null,null,null,null,null,null,null,null,null,null,null,null,null,null,null,null,null,null,null,null,null,null,null,null,null,null,null,null,null,null,null,null,null,null,null,null,null,null,null,null,null,null,null,null,"Тернопільська","Стара Могильниця (Могильницька сільська рада)"]
[null,null,null,null,null,null,null,null,null,null,null,null,null,null,null,null,null,null,null,null,null,null,null,null,null,null,null,null,null,null,null,null,null,null,null,null,null,null,null,null,null,null,null,null,null,"Тернопільська","Сухостав (Сухоставська сільська рада)"]
[null,null,null,null,null,null,null,null,null,null,null,null,null,null,null,null,null,null,null,null,null,null,null,null,null,null,null,null,null,null,null,null,null,null,null,null,null,null,null,null,null,null,null,null,null,"Тернопільська","Товсте (Товстенська сільська рада)"]
[null,null,null,null,null,null,null,null,null,null,null,null,null,null,null,null,null,null,null,null,null,null,null,null,null,null,null,null,null,null,null,null,null,null,null,null,null,null,null,null,null,null,null,null,null,"Тернопільська","Цецівка (Годівська сільська рада)"]
[null,null,null,null,null,null,null,null,null,null,null,null,null,null,null,null,null,null,null,null,null,null,null,null,null,null,null,null,null,null,null,null,null,null,null,null,null,null,null,null,null,null,null,null,null,"Тернопільська","Швайківці (Швайківська сільська рада)"]
[null,null,null,null,null,null,null,null,null,null,null,null,null,null,null,null,null,null,null,null,null,null,null,null,null,null,null,null,null,null,null,null,null,null,null,null,null,null,null,null,null,null,null,null,null,"Харківська","Бабенки"]
[null,null,null,null,null,null,null,null,null,null,null,null,null,null,null,null,null,null,null,null,null,null,null,null,null,null,null,null,null,null,null,null,null,null,null,null,null,null,null,null,null,null,null,null,null,"Харківська","Безпалівка (Таранівська сільська рада)"]
[null,null,null,null,null,null,null,null,null,null,null,null,null,null,null,null,null,null,null,null,null,null,null,null,null,null,null,null,null,null,null,null,null,null,null,null,null,null,null,null,null,null,null,null,null,"Харківська","Василівка (Моначинівська сільрада)"]
[null,null,null,null,null,null,null,null,null,null,null,null,null,null,null,null,null,null,null,null,null,null,null,null,null,null,null,null,null,null,null,null,null,null,null,null,null,null,null,null,null,null,null,null,null,"Харківська","Велика Кадигробівка"]
[null,null,null,null,null,null,null,null,null,null,null,null,null,null,null,null,null,null,null,null,null,null,null,null,null,null,null,null,null,null,null,null,null,null,null,null,null,null,null,null,null,null,null,null,null,"Харківська","Відрожденівське"]
[null,null,null,null,null,null,null,null,null,null,null,null,null,null,null,null,null,null,null,null,null,null,null,null,null,null,null,null,null,null,null,null,null,null,null,null,null,null,null,null,null,null,null,null,null,"Харківська","Глушківка"]
[null,null,null,null,null,null,null,null,null,null,null,null,null,null,null,null,null,null,null,null,null,null,null,null,null,null,null,null,null,null,null,null,null,null,null,null,null,null,null,null,null,null,null,null,null,"Харківська","Гракове"]
[null,null,null,null,null,null,null,null,null,null,null,null,null,null,null,null,null,null,null,null,null,null,null,null,null,null,null,null,null,null,null,null,null,null,null,null,null,null,null,null,null,null,null,null,null,"Харківська","Дудківка"]
[null,null,null,null,null,null,null,null,null,null,null,null,null,null,null,null,null,null,null,null,null,null,null,null,null,null,null,null,null,null,null,null,null,null,null,null,null,null,null,null,null,null,null,null,null,"Харківська","Завадівка"]
[null,null,null,null,null,null,null,null,null,null,null,null,null,null,null,null,null,null,null,null,null,null,null,null,null,null,null,null,null,null,null,null,null,null,null,null,null,null,null,null,null,null,null,null,null,"Харківська","Ізюм"]
[null,null,null,null,null,null,null,null,null,null,null,null,null,null,null,null,null,null,null,null,null,null,null,null,null,null,null,null,null,null,null,null,null,null,null,null,null,null,null,null,null,null,null,null,null,"Харківська","Кобзівка Друга"]
[null,null,null,null,null,null,null,null,null,null,null,null,null,null,null,null,null,null,null,null,null,null,null,null,null,null,null,null,null,null,null,null,null,null,null,null,null,null,null,null,null,null,null,null,null,"Харківська","Кочетівка"]
[null,null,null,null,null,null,null,null,null,null,null,null,null,null,null,null,null,null,null,null,null,null,null,null,null,null,null,null,null,null,null,null,null,null,null,null,null,null,null,null,null,null,null,null,null,"Харківська","Кручик"]
[null,null,null,null,null,null,null,null,null,null,null,null,null,null,null,null,null,null,null,null,null,null,null,null,null,null,null,null,null,null,null,null,null,null,null,null,null,null,null,null,null,null,null,null,null,"Харківська","Ландишеве"]
[null,null,null,null,null,null,null,null,null,null,null,null,null,null,null,null,null,null,null,null,null,null,null,null,null,null,null,null,null,null,null,null,null,null,null,null,null,null,null,null,null,null,null,null,null,"Харківська","Мануїлівка"]
[null,null,null,null,null,null,null,null,null,null,null,null,null,null,null,null,null,null,null,null,null,null,null,null,null,null,null,null,null,null,null,null,null,null,null,null,null,null,null,null,null,null,null,null,null,"Харківська","Миколо-Комишувата"]
[null,null,null,null,null,null,null,null,null,null,null,null,null,null,null,null,null,null,null,null,null,null,null,null,null,null,null,null,null,null,null,null,null,null,null,null,null,null,null,null,null,null,null,null,null,"Харківська","Надеждівка"]
[null,null,null,null,null,null,null,null,null,null,null,null,null,null,null,null,null,null,null,null,null,null,null,null,null,null,null,null,null,null,null,null,null,null,null,null,null,null,null,null,null,null,null,null,null,"Харківська","Новомиколаївка (Асіївська сільська рада)"]
[null,null,null,null,null,null,null,null,null,null,null,null,null,null,null,null,null,null,null,null,null,null,null,null,null,null,null,null,null,null,null,null,null,null,null,null,null,null,null,null,null,null,null,null,null,"Харківська","Паризьке"]
[null,null,null,null,null,null,null,null,null,null,null,null,null,null,null,null,null,null,null,null,null,null,null,null,null,null,null,null,null,null,null,null,null,null,null,null,null,null,null,null,null,null,null,null,null,"Харківська","Петрищеве"]
[null,null,null,null,null,null,null,null,null,null,null,null,null,null,null,null,null,null,null,null,null,null,null,null,null,null,null,null,null,null,null,null,null,null,null,null,null,null,null,null,null,null,null,null,null,"Харківська","П'ятницьке"]
[null,null,null,null,null,null,null,null,null,null,null,null,null,null,null,null,null,null,null,null,null,null,null,null,null,null,null,null,null,null,null,null,null,null,null,null,null,null,null,null,null,null,null,null,null,"Харківська","Рижове"]
[null,null,null,null,null,null,null,null,null,null,null,null,null,null,null,null,null,null,null,null,null,null,null,null,null,null,null,null,null,null,null,null,null,null,null,null,null,null,null,null,null,null,null,null,null,"Харківська","Скиртяне"]
[null,null,null,null,null,null,null,null,null,null,null,null,null,null,null,null,null,null,null,null,null,null,null,null,null,null,null,null,null,null,null,null,null,null,null,null,null,null,null,null,null,null,null,null,null,"Харківська","Соцзмагання"]
[null,null,null,null,null,null,null,null,null,null,null,null,null,null,null,null,null,null,null,null,null,null,null,null,null,null,null,null,null,null,null,null,null,null,null,null,null,null,null,null,null,null,null,null,null,"Харківська","Староволодимирівка"]
[null,null,null,null,null,null,null,null,null,null,null,null,null,null,null,null,null,null,null,null,null,null,null,null,null,null,null,null,null,null,null,null,null,null,null,null,null,null,null,null,null,null,null,null,null,"Харківська","Холодне"]
[null,null,null,null,null,null,null,null,null,null,null,null,null,null,null,null,null,null,null,null,null,null,null,null,null,null,null,null,null,null,null,null,null,null,null,null,null,null,null,null,null,null,null,null,null,"Харківська","Чепіль (Чепільська сільська рада)"]
[null,null,null,null,null,null,null,null,null,null,null,null,null,null,null,null,null,null,null,null,null,null,null,null,null,null,null,null,null,null,null,null,null,null,null,null,null,null,null,null,null,null,null,null,null,"Харківська","Шийчине"]
[null,null,null,null,null,null,null,null,null,null,null,null,null,null,null,null,null,null,null,null,null,null,null,null,null,null,null,null,null,null,null,null,null,null,null,null,null,null,null,null,null,null,null,null,null,"Харківська","Ярошівка"]
[null,null,null,null,null,null,null,null,null,null,null,null,null,null,null,null,null,null,null,null,null,null,null,null,null,null,null,null,null,null,null,null,null,null,null,null,null,null,null,null,null,null,null,null,null,"Херсонська","Гостроподолянське"]
[null,null,null,null,null,null,null,null,null,null,null,null,null,null,null,null,null,null,null,null,null,null,null,null,null,null,null,null,null,null,null,null,null,null,null,null,null,null,null,null,null,null,null,null,null,"Херсонська","Інгулець"]
[null,null,null,null,null,null,null,null,null,null,null,null,null,null,null,null,null,null,null,null,null,null,null,null,null,null,null,null,null,null,null,null,null,null,null,null,null,null,null,null,null,null,null,null,null,"Херсонська","Козачі Лагері"]
[null,null,null,null,null,null,null,null,null,null,null,null,null,null,null,null,null,null,null,null,null,null,null,null,null,null,null,null,null,null,null,null,null,null,null,null,null,null,null,null,null,null,null,null,null,"Херсонська","Новавасилівка"]
[null,null,null,null,null,null,null,null,null,null,null,null,null,null,null,null,null,null,null,null,null,null,null,null,null,null,null,null,null,null,null,null,null,null,null,null,null,null,null,null,null,null,null,null,null,"Херсонська","Новосеменівка"]
[null,null,null,null,null,null,null,null,null,null,null,null,null,null,null,null,null,null,null,null,null,null,null,null,null,null,null,null,null,null,null,null,null,null,null,null,null,null,null,null,null,null,null,null,null,"Херсонська","Скворцівка"]
[null,null,null,null,null,null,null,null,null,null,null,null,null,null,null,null,null,null,null,null,null,null,null,null,null,null,null,null,null,null,null,null,null,null,null,null,null,null,null,null,null,null,null,null,null,"Херсонська","Твердомедове"]
[null,null,null,null,null,null,null,null,null,null,null,null,null,null,null,null,null,null,null,null,null,null,null,null,null,null,null,null,null,null,null,null,null,null,null,null,null,null,null,null,null,null,null,null,null,"Хмельницька","Бальківці"]
[null,null,null,null,null,null,null,null,null,null,null,null,null,null,null,null,null,null,null,null,null,null,null,null,null,null,null,null,null,null,null,null,null,null,null,null,null,null,null,null,null,null,null,null,null,"Хмельницька","Березове"]
[null,null,null,null,null,null,null,null,null,null,null,null,null,null,null,null,null,null,null,null,null,null,null,null,null,null,null,null,null,null,null,null,null,null,null,null,null,null,null,null,null,null,null,null,null,"Хмельницька","Брикуля"]
[null,null,null,null,null,null,null,null,null,null,null,null,null,null,null,null,null,null,null,null,null,null,null,null,null,null,null,null,null,null,null,null,null,null,null,null,null,null,null,null,null,null,null,null,null,"Хмельницька","Верхівці"]
[null,null,null,null,null,null,null,null,null,null,null,null,null,null,null,null,null,null,null,null,null,null,null,null,null,null,null,null,null,null,null,null,null,null,null,null,null,null,null,null,null,null,null,null,null,"Хмельницька","Вікентово"]
[null,null,null,null,null,null,null,null,null,null,null,null,null,null,null,null,null,null,null,null,null,null,null,null,null,null,null,null,null,null,null,null,null,null,null,null,null,null,null,null,null,null,null,null,null,"Хмельницька","Голосків (Голосківська сільська рада)"]
[null,null,null,null,null,null,null,null,null,null,null,null,null,null,null,null,null,null,null,null,null,null,null,null,null,null,null,null,null,null,null,null,null,null,null,null,null,null,null,null,null,null,null,null,null,"Хмельницька","Гриців"]
[null,null,null,null,null,null,null,null,null,null,null,null,null,null,null,null,null,null,null,null,null,null,null,null,null,null,null,null,null,null,null,null,null,null,null,null,null,null,null,null,null,null,null,null,null,"Хмельницька","Дубовий Гай"]
[null,null,null,null,null,null,null,null,null,null,null,null,null,null,null,null,null,null,null,null,null,null,null,null,null,null,null,null,null,null,null,null,null,null,null,null,null,null,null,null,null,null,null,null,null,"Хмельницька","Залуччя (Залучанська сільська рада)"]
[null,null,null,null,null,null,null,null,null,null,null,null,null,null,null,null,null,null,null,null,null,null,null,null,null,null,null,null,null,null,null,null,null,null,null,null,null,null,null,null,null,null,null,null,null,"Хмельницька","Ізяслав"]
[null,null,null,null,null,null,null,null,null,null,null,null,null,null,null,null,null,null,null,null,null,null,null,null,null,null,null,null,null,null,null,null,null,null,null,null,null,null,null,null,null,null,null,null,null,"Хмельницька","Караїна"]
[null,null,null,null,null,null,null,null,null,null,null,null,null,null,null,null,null,null,null,null,null,null,null,null,null,null,null,null,null,null,null,null,null,null,null,null,null,null,null,null,null,null,null,null,null,"Хмельницька","Климківці"]
[null,null,null,null,null,null,null,null,null,null,null,null,null,null,null,null,null,null,null,null,null,null,null,null,null,null,null,null,null,null,null,null,null,null,null,null,null,null,null,null,null,null,null,null,null,"Хмельницька","Кривачинці"]
[null,null,null,null,null,null,null,null,null,null,null,null,null,null,null,null,null,null,null,null,null,null,null,null,null,null,null,null,null,null,null,null,null,null,null,null,null,null,null,null,null,null,null,null,null,"Хмельницька","Кузьминці"]
[null,null,null,null,null,null,null,null,null,null,null,null,null,null,null,null,null,null,null,null,null,null,null,null,null,null,null,null,null,null,null,null,null,null,null,null,null,null,null,null,null,null,null,null,null,"Хмельницька","Літки"]
[null,null,null,null,null,null,null,null,null,null,null,null,null,null,null,null,null,null,null,null,null,null,null,null,null,null,null,null,null,null,null,null,null,null,null,null,null,null,null,null,null,null,null,null,null,"Хмельницька","Малий Правутин"]
[null,null,null,null,null,null,null,null,null,null,null,null,null,null,null,null,null,null,null,null,null,null,null,null,null,null,null,null,null,null,null,null,null,null,null,null,null,null,null,null,null,null,null,null,null,"Хмельницька","Медці"]
[null,null,null,null,null,null,null,null,null,null,null,null,null,null,null,null,null,null,null,null,null,null,null,null,null,null,null,null,null,null,null,null,null,null,null,null,null,null,null,null,null,null,null,null,null,"Хмельницька","Михалківці"]
[null,null,null,null,null,null,null,null,null,null,null,null,null,null,null,null,null,null,null,null,null,null,null,null,null,null,null,null,null,null,null,null,null,null,null,null,null,null,null,null,null,null,null,null,null,"Хмельницька","Мухарів"]
[null,null,null,null,null,null,null,null,null,null,null,null,null,null,null,null,null,null,null,null,null,null,null,null,null,null,null,null,null,null,null,null,null,null,null,null,null,null,null,null,null,null,null,null,null,"Хмельницька","Остапківці"]
[null,null,null,null,null,null,null,null,null,null,null,null,null,null,null,null,null,null,null,null,null,null,null,null,null,null,null,null,null,null,null,null,null,null,null,null,null,null,null,null,null,null,null,null,null,"Хмельницька","Пашуки (Хоровецька сільська Рада)"]
[null,null,null,null,null,null,null,null,null,null,null,null,null,null,null,null,null,null,null,null,null,null,null,null,null,null,null,null,null,null,null,null,null,null,null,null,null,null,null,null,null,null,null,null,null,"Хмельницька","Постолівка"]
[null,null,null,null,null,null,null,null,null,null,null,null,null,null,null,null,null,null,null,null,null,null,null,null,null,null,null,null,null,null,null,null,null,null,null,null,null,null,null,null,null,null,null,null,null,"Хмельницька","Рівки"]
[null,null,null,null,null,null,null,null,null,null,null,null,null,null,null,null,null,null,null,null,null,null,null,null,null,null,null,null,null,null,null,null,null,null,null,null,null,null,null,null,null,null,null,null,null,"Хмельницька","Семереньки (Самченці)"]
[null,null,null,null,null,null,null,null,null,null,null,null,null,null,null,null,null,null,null,null,null,null,null,null,null,null,null,null,null,null,null,null,null,null,null,null,null,null,null,null,null,null,null,null,null,"Хмельницька","Слобідка  Малієвецька"]
[null,null,null,null,null,null,null,null,null,null,null,null,null,null,null,null,null,null,null,null,null,null,null,null,null,null,null,null,null,null,null,null,null,null,null,null,null,null,null,null,null,null,null,null,null,"Хмельницька","Степок (Самчики)"]
[null,null,null,null,null,null,null,null,null,null,null,null,null,null,null,null,null,null,null,null,null,null,null,null,null,null,null,null,null,null,null,null,null,null,null,null,null,null,null,null,null,null,null,null,null,"Хмельницька","Теліжинці"]
[null,null,null,null,null,null,null,null,null,null,null,null,null,null,null,null,null,null,null,null,null,null,null,null,null,null,null,null,null,null,null,null,null,null,null,null,null,null,null,null,null,null,null,null,null,"Хмельницька","Трительники"]
[null,null,null,null,null,null,null,null,null,null,null,null,null,null,null,null,null,null,null,null,null,null,null,null,null,null,null,null,null,null,null,null,null,null,null,null,null,null,null,null,null,null,null,null,null,"Хмельницька","Чернелівці"]
[null,null,null,null,null,null,null,null,null,null,null,null,null,null,null,null,null,null,null,null,null,null,null,null,null,null,null,null,null,null,null,null,null,null,null,null,null,null,null,null,null,null,null,null,null,"Хмельницька","Чотирибоки"]
[null,null,null,null,null,null,null,null,null,null,null,null,null,null,null,null,null,null,null,null,null,null,null,null,null,null,null,null,null,null,null,null,null,null,null,null,null,null,null,null,null,null,null,null,null,"Черкаська","Багачівка"]
[null,null,null,null,null,null,null,null,null,null,null,null,null,null,null,null,null,null,null,null,null,null,null,null,null,null,null,null,null,null,null,null,null,null,null,null,null,null,null,null,null,null,null,null,null,"Черкаська","Босівка"]
[null,null,null,null,null,null,null,null,null,null,null,null,null,null,null,null,null,null,null,null,null,null,null,null,null,null,null,null,null,null,null,null,null,null,null,null,null,null,null,null,null,null,null,null,null,"Черкаська","Гуляйка"]
[null,null,null,null,null,null,null,null,null,null,null,null,null,null,null,null,null,null,null,null,null,null,null,null,null,null,null,null,null,null,null,null,null,null,null,null,null,null,null,null,null,null,null,null,null,"Черкаська","Домантове"]
[null,null,null,null,null,null,null,null,null,null,null,null,null,null,null,null,null,null,null,null,null,null,null,null,null,null,null,null,null,null,null,null,null,null,null,null,null,null,null,null,null,null,null,null,null,"Черкаська","Ковтунівка (Остапівська сільська  рада)"]
[null,null,null,null,null,null,null,null,null,null,null,null,null,null,null,null,null,null,null,null,null,null,null,null,null,null,null,null,null,null,null,null,null,null,null,null,null,null,null,null,null,null,null,null,null,"Черкаська","Коржовий Кут"]
[null,null,null,null,null,null,null,null,null,null,null,null,null,null,null,null,null,null,null,null,null,null,null,null,null,null,null,null,null,null,null,null,null,null,null,null,null,null,null,null,null,null,null,null,null,"Черкаська","Мелесівка"]
[null,null,null,null,null,null,null,null,null,null,null,null,null,null,null,null,null,null,null,null,null,null,null,null,null,null,null,null,null,null,null,null,null,null,null,null,null,null,null,null,null,null,null,null,null,"Черкаська","Нова  Ярославка"]
[null,null,null,null,null,null,null,null,null,null,null,null,null,null,null,null,null,null,null,null,null,null,null,null,null,null,null,null,null,null,null,null,null,null,null,null,null,null,null,null,null,null,null,null,null,"Черкаська","Павлівка Перша"]
[null,null,null,null,null,null,null,null,null,null,null,null,null,null,null,null,null,null,null,null,null,null,null,null,null,null,null,null,null,null,null,null,null,null,null,null,null,null,null,null,null,null,null,null,null,"Черкаська","Санжариха"]
[null,null,null,null,null,null,null,null,null,null,null,null,null,null,null,null,null,null,null,null,null,null,null,null,null,null,null,null,null,null,null,null,null,null,null,null,null,null,null,null,null,null,null,null,null,"Черкаська","Скрипчинці"]
[null,null,null,null,null,null,null,null,null,null,null,null,null,null,null,null,null,null,null,null,null,null,null,null,null,null,null,null,null,null,null,null,null,null,null,null,null,null,null,null,null,null,null,null,null,"Черкаська","Халаїдове"]
[null,null,null,null,null,null,null,null,null,null,null,null,null,null,null,null,null,null,null,null,null,null,null,null,null,null,null,null,null,null,null,null,null,null,null,null,null,null,null,null,null,null,null,null,null,"Черкаська","Ховківка"]
[null,null,null,null,null,null,null,null,null,null,null,null,null,null,null,null,null,null,null,null,null,null,null,null,null,null,null,null,null,null,null,null,null,null,null,null,null,null,null,null,null,null,null,null,null,"Чернівецька","Бузовиця"]
[null,null,null,null,null,null,null,null,null,null,null,null,null,null,null,null,null,null,null,null,null,null,null,null,null,null,null,null,null,null,null,null,null,null,null,null,null,null,null,null,null,null,null,null,null,"Чернівецька","Випчина"]
[null,null,null,null,null,null,null,null,null,null,null,null,null,null,null,null,null,null,null,null,null,null,null,null,null,null,null,null,null,null,null,null,null,null,null,null,null,null,null,null,null,null,null,null,null,"Чернівецька","Горбова"]
[null,null,null,null,null,null,null,null,null,null,null,null,null,null,null,null,null,null,null,null,null,null,null,null,null,null,null,null,null,null,null,null,null,null,null,null,null,null,null,null,null,null,null,null,null,"Чернівецька","Корнешти"]
[null,null,null,null,null,null,null,null,null,null,null,null,null,null,null,null,null,null,null,null,null,null,null,null,null,null,null,null,null,null,null,null,null,null,null,null,null,null,null,null,null,null,null,null,null,"Чернівецька","Лукачівка"]
[null,null,null,null,null,null,null,null,null,null,null,null,null,null,null,null,null,null,null,null,null,null,null,null,null,null,null,null,null,null,null,null,null,null,null,null,null,null,null,null,null,null,null,null,null,"Чернівецька","Ошихліби"]
[null,null,null,null,null,null,null,null,null,null,null,null,null,null,null,null,null,null,null,null,null,null,null,null,null,null,null,null,null,null,null,null,null,null,null,null,null,null,null,null,null,null,null,null,null,"Чернівецька","Погорілівка"]
[null,null,null,null,null,null,null,null,null,null,null,null,null,null,null,null,null,null,null,null,null,null,null,null,null,null,null,null,null,null,null,null,null,null,null,null,null,null,null,null,null,null,null,null,null,"Чернівецька","Хряцька"]
[null,null,null,null,null,null,null,null,null,null,null,null,null,null,null,null,null,null,null,null,null,null,null,null,null,null,null,null,null,null,null,null,null,null,null,null,null,null,null,null,null,null,null,null,null,"Чернівецька","Южинець"]
[null,null,null,null,null,null,null,null,null,null,null,null,null,null,null,null,null,null,null,null,null,null,null,null,null,null,null,null,null,null,null,null,null,null,null,null,null,null,null,null,null,null,null,null,null,"Чернігівська","Бережівка"]
[null,null,null,null,null,null,null,null,null,null,null,null,null,null,null,null,null,null,null,null,null,null,null,null,null,null,null,null,null,null,null,null,null,null,null,null,null,null,null,null,null,null,null,null,null,"Чернігівська","Велика Дорога"]
[null,null,null,null,null,null,null,null,null,null,null,null,null,null,null,null,null,null,null,null,null,null,null,null,null,null,null,null,null,null,null,null,null,null,null,null,null,null,null,null,null,null,null,null,null,"Чернігівська","Вильчики"]
[null,null,null,null,null,null,null,null,null,null,null,null,null,null,null,null,null,null,null,null,null,null,null,null,null,null,null,null,null,null,null,null,null,null,null,null,null,null,null,null,null,null,null,null,null,"Чернігівська","Данівка"]
[null,null,null,null,null,null,null,null,null,null,null,null,null,null,null,null,null,null,null,null,null,null,null,null,null,null,null,null,null,null,null,null,null,null,null,null,null,null,null,null,null,null,null,null,null,"Чернігівська","Жеребецьке"]
[null,null,null,null,null,null,null,null,null,null,null,null,null,null,null,null,null,null,null,null,null,null,null,null,null,null,null,null,null,null,null,null,null,null,null,null,null,null,null,null,null,null,null,null,null,"Чернігівська","Карасинівка"]
[null,null,null,null,null,null,null,null,null,null,null,null,null,null,null,null,null,null,null,null,null,null,null,null,null,null,null,null,null,null,null,null,null,null,null,null,null,null,null,null,null,null,null,null,null,"Чернігівська","Клипин"]
[null,null,null,null,null,null,null,null,null,null,null,null,null,null,null,null,null,null,null,null,null,null,null,null,null,null,null,null,null,null,null,null,null,null,null,null,null,null,null,null,null,null,null,null,null,"Чернігівська","Кугуки"]
[null,null,null,null,null,null,null,null,null,null,null,null,null,null,null,null,null,null,null,null,null,null,null,null,null,null,null,null,null,null,null,null,null,null,null,null,null,null,null,null,null,null,null,null,null,"Чернігівська","Ладинка"]
[null,null,null,null,null,null,null,null,null,null,null,null,null,null,null,null,null,null,null,null,null,null,null,null,null,null,null,null,null,null,null,null,null,null,null,null,null,null,null,null,null,null,null,null,null,"Чернігівська","Лісконоги"]
[null,null,null,null,null,null,null,null,null,null,null,null,null,null,null,null,null,null,null,null,null,null,null,null,null,null,null,null,null,null,null,null,null,null,null,null,null,null,null,null,null,null,null,null,null,"Чернігівська","Мезин"]
[null,null,null,null,null,null,null,null,null,null,null,null,null,null,null,null,null,null,null,null,null,null,null,null,null,null,null,null,null,null,null,null,null,null,null,null,null,null,null,null,null,null,null,null,null,"Чернігівська","Мурав'ї"]
[null,null,null,null,null,null,null,null,null,null,null,null,null,null,null,null,null,null,null,null,null,null,null,null,null,null,null,null,null,null,null,null,null,null,null,null,null,null,null,null,null,null,null,null,null,"Чернігівська","Остер"]
[null,null,null,null,null,null,null,null,null,null,null,null,null,null,null,null,null,null,null,null,null,null,null,null,null,null,null,null,null,null,null,null,null,null,null,null,null,null,null,null,null,null,null,null,null,"Чернігівська","Пересаж"]
[null,null,null,null,null,null,null,null,null,null,null,null,null,null,null,null,null,null,null,null,null,null,null,null,null,null,null,null,null,null,null,null,null,null,null,null,null,null,null,null,null,null,null,null,null,"Чернігівська","Радуль"]
[null,null,null,null,null,null,null,null,null,null,null,null,null,null,null,null,null,null,null,null,null,null,null,null,null,null,null,null,null,null,null,null,null,null,null,null,null,null,null,null,null,null,null,null,null,"Чернігівська","Роїще"]
[null,null,null,null,null,null,null,null,null,null,null,null,null,null,null,null,null,null,null,null,null,null,null,null,null,null,null,null,null,null,null,null,null,null,null,null,null,null,null,null,null,null,null,null,null,"Чернігівська","Сезьки"]
[null,null,null,null,null,null,null,null,null,null,null,null,null,null,null,null,null,null,null,null,null,null,null,null,null,null,null,null,null,null,null,null,null,null,null,null,null,null,null,null,null,null,null,null,null,"Чернігівська","Степанівське"]
[null,null,null,null,null,null,null,null,null,null,null,null,null,null,null,null,null,null,null,null,null,null,null,null,null,null,null,null,null,null,null,null,null,null,null,null,null,null,null,null,null,null,null,null,null,"Чернігівська","Тамарівка"]
[null,null,null,null,null,null,null,null,null,null,null,null,null,null,null,null,null,null,null,null,null,null,null,null,null,null,null,null,null,null,null,null,null,null,null,null,null,null,null,null,null,null,null,null,null,"Чернігівська","Тараса Шевченка"]
[null,null,null,null,null,null,null,null,null,null,null,null,null,null,null,null,null,null,null,null,null,null,null,null,null,null,null,null,null,null,null,null,null,null,null,null,null,null,null,null,null,null,null,null,null,"Чернігівська","Тарасів"]
[null,null,null,null,null,null,null,null,null,null,null,null,null,null,null,null,null,null,null,null,null,null,null,null,null,null,null,null,null,null,null,null,null,null,null,null,null,null,null,null,null,null,null,null,null,"Чернігівська","Тасуїв"]
[null,null,null,null,null,null,null,null,null,null,null,null,null,null,null,null,null,null,null,null,null,null,null,null,null,null,null,null,null,null,null,null,null,null,null,null,null,null,null,null,null,null,null,null,null,"Чернігівська","Татарівка"]
[null,null,null,null,null,null,null,null,null,null,null,null,null,null,null,null,null,null,null,null,null,null,null,null,null,null,null,null,null,null,null,null,null,null,null,null,null,null,null,null,null,null,null,null,null,"Чернігівська","Тельне"]
[null,null,null,null,null,null,null,null,null,null,null,null,null,null,null,null,null,null,null,null,null,null,null,null,null,null,null,null,null,null,null,null,null,null,null,null,null,null,null,null,null,null,null,null,null,"Чернігівська","Терехівка"]
[null,null,null,null,null,null,null,null,null,null,null,null,null,null,null,null,null,null,null,null,null,null,null,null,null,null,null,null,null,null,null,null,null,null,null,null,null,null,null,null,null,null,null,null,null,"Чернігівська","Терешиха"]
[null,null,null,null,null,null,null,null,null,null,null,null,null,null,null,null,null,null,null,null,null,null,null,null,null,null,null,null,null,null,null,null,null,null,null,null,null,null,null,null,null,null,null,null,null,"Чернігівська","Тертишники"]
[null,null,null,null,null,null,null,null,null,null,null,null,null,null,null,null,null,null,null,null,null,null,null,null,null,null,null,null,null,null,null,null,null,null,null,null,null,null,null,null,null,null,null,null,null,"Чернігівська","Тимоновичі"]
[null,null,null,null,null,null,null,null,null,null,null,null,null,null,null,null,null,null,null,null,null,null,null,null,null,null,null,null,null,null,null,null,null,null,null,null,null,null,null,null,null,null,null,null,null,"Чернігівська","Тиниця"]
[null,null,null,null,null,null,null,null,null,null,null,null,null,null,null,null,null,null,null,null,null,null,null,null,null,null,null,null,null,null,null,null,null,null,null,null,null,null,null,null,null,null,null,null,null,"Чернігівська","Титівка"]
[null,null,null,null,null,null,null,null,null,null,null,null,null,null,null,null,null,null,null,null,null,null,null,null,null,null,null,null,null,null,null,null,null,null,null,null,null,null,null,null,null,null,null,null,null,"Чернігівська","Тихонівське"]
[null,null,null,null,null,null,null,null,null,null,null,null,null,null,null,null,null,null,null,null,null,null,null,null,null,null,null,null,null,null,null,null,null,null,null,null,null,null,null,null,null,null,null,null,null,"Чернігівська","Тихоновичі"]
[null,null,null,null,null,null,null,null,null,null,null,null,null,null,null,null,null,null,null,null,null,null,null,null,null,null,null,null,null,null,null,null,null,null,null,null,null,null,null,null,null,null,null,null,null,"Чернігівська","Товкачівка"]
[null,null,null,null,null,null,null,null,null,null,null,null,null,null,null,null,null,null,null,null,null,null,null,null,null,null,null,null,null,null,null,null,null,null,null,null,null,null,null,null,null,null,null,null,null,"Чернігівська","Товстоліс"]
[null,null,null,null,null,null,null,null,null,null,null,null,null,null,null,null,null,null,null,null,null,null,null,null,null,null,null,null,null,null,null,null,null,null,null,null,null,null,null,null,null,null,null,null,null,"Чернігівська","Тонка"]
[null,null,null,null,null,null,null,null,null,null,null,null,null,null,null,null,null,null,null,null,null,null,null,null,null,null,null,null,null,null,null,null,null,null,null,null,null,null,null,null,null,null,null,null,null,"Чернігівська","Топчіївка"]
[null,null,null,null,null,null,null,null,null,null,null,null,null,null,null,null,null,null,null,null,null,null,null,null,null,null,null,null,null,null,null,null,null,null,null,null,null,null,null,null,null,null,null,null,null,"Чернігівська","Точене"]
[null,null,null,null,null,null,null,null,null,null,null,null,null,null,null,null,null,null,null,null,null,null,null,null,null,null,null,null,null,null,null,null,null,null,null,null,null,null,null,null,null,null,null,null,null,"Чернігівська","Травкине"]
[null,null,null,null,null,null,null,null,null,null,null,null,null,null,null,null,null,null,null,null,null,null,null,null,null,null,null,null,null,null,null,null,null,null,null,null,null,null,null,null,null,null,null,null,null,"Чернігівська","Тужар"]
[null,null,null,null,null,null,null,null,null,null,null,null,null,null,null,null,null,null,null,null,null,null,null,null,null,null,null,null,null,null,null,null,null,null,null,null,null,null,null,null,null,null,null,null,null,"Чернігівська","Тулія"]
[null,null,null,null,null,null,null,null,null,null,null,null,null,null,null,null,null,null,null,null,null,null,null,null,null,null,null,null,null,null,null,null,null,null,null,null,null,null,null,null,null,null,null,null,null,"Чернігівська","Туманська Гута"]
[null,null,null,null,null,null,null,null,null,null,null,null,null,null,null,null,null,null,null,null,null,null,null,null,null,null,null,null,null,null,null,null,null,null,null,null,null,null,null,null,null,null,null,null,null,"Чернігівська","Тупичів"]
[null,null,null,null,null,null,null,null,null,null,null,null,null,null,null,null,null,null,null,null,null,null,null,null,null,null,null,null,null,null,null,null,null,null,null,null,null,null,null,null,null,null,null,null,null,"Чернігівська","Турківка"]
[null,null,null,null,null,null,null,null,null,null,null,null,null,null,null,null,null,null,null,null,null,null,null,null,null,null,null,null,null,null,null,null,null,null,null,null,null,null,null,null,null,null,null,null,null,"Чернігівська","Тютюнниця"]
[null,null,null,null,null,null,null,null,null,null,null,null,null,null,null,null,null,null,null,null,null,null,null,null,null,null,null,null,null,null,null,null,null,null,null,null,null,null,null,null,null,null,null,null,null,"Чернігівська","Убіжичі"]
[null,null,null,null,null,null,null,null,null,null,null,null,null,null,null,null,null,null,null,null,null,null,null,null,null,null,null,null,null,null,null,null,null,null,null,null,null,null,null,null,null,null,null,null,null,"Чернігівська","Уборки"]
[null,null,null,null,null,null,null,null,null,null,null,null,null,null,null,null,null,null,null,null,null,null,null,null,null,null,null,null,null,null,null,null,null,null,null,null,null,null,null,null,null,null,null,null,null,"Чернігівська","Углова Рудня"]
[null,null,null,null,null,null,null,null,null,null,null,null,null,null,null,null,null,null,null,null,null,null,null,null,null,null,null,null,null,null,null,null,null,null,null,null,null,null,null,null,null,null,null,null,null,"Чернігівська","Удайці"]
[null,null,null,null,null,null,null,null,null,null,null,null,null,null,null,null,null,null,null,null,null,null,null,null,null,null,null,null,null,null,null,null,null,null,null,null,null,null,null,null,null,null,null,null,null,"Чернігівська","Узруй"]
[null,null,null,null,null,null,null,null,null,null,null,null,null,null,null,null,null,null,null,null,null,null,null,null,null,null,null,null,null,null,null,null,null,null,null,null,null,null,null,null,null,null,null,null,null,"Чернігівська","Українське (курінська)"]
[null,null,null,null,null,null,null,null,null,null,null,null,null,null,null,null,null,null,null,null,null,null,null,null,null,null,null,null,null,null,null,null,null,null,null,null,null,null,null,null,null,null,null,null,null,"Чернігівська","Унучки"]
[null,null,null,null,null,null,null,null,null,null,null,null,null,null,null,null,null,null,null,null,null,null,null,null,null,null,null,null,null,null,null,null,null,null,null,null,null,null,null,null,null,null,null,null,null,"Чернігівська","Ушівка"]
[null,null,null,null,null,null,null,null,null,null,null,null,null,null,null,null,null,null,null,null,null,null,null,null,null,null,null,null,null,null,null,null,null,null,null,null,null,null,null,null,null,null,null,null,null,"Чернігівська","Фаївка"]
[null,null,null,null,null,null,null,null,null,null,null,null,null,null,null,null,null,null,null,null,null,null,null,null,null,null,null,null,null,null,null,null,null,null,null,null,null,null,null,null,null,null,null,null,null,"Чернігівська","Фастівці"]
[null,null,null,null,null,null,null,null,null,null,null,null,null,null,null,null,null,null,null,null,null,null,null,null,null,null,null,null,null,null,null,null,null,null,null,null,null,null,null,null,null,null,null,null,null,"Чернігівська","Ферубки"]
[null,null,null,null,null,null,null,null,null,null,null,null,null,null,null,null,null,null,null,null,null,null,null,null,null,null,null,null,null,null,null,null,null,null,null,null,null,null,null,null,null,null,null,null,null,"Чернігівська","Феськівка"]
[null,null,null,null,null,null,null,null,null,null,null,null,null,null,null,null,null,null,null,null,null,null,null,null,null,null,null,null,null,null,null,null,null,null,null,null,null,null,null,null,null,null,null,null,null,"Чернігівська","Філонівка"]
[null,null,null,null,null,null,null,null,null,null,null,null,null,null,null,null,null,null,null,null,null,null,null,null,null,null,null,null,null,null,null,null,null,null,null,null,null,null,null,null,null,null,null,null,null,"Чернігівська","Форостовичі"]
[null,null,null,null,null,null,null,null,null,null,null,null,null,null,null,null,null,null,null,null,null,null,null,null,null,null,null,null,null,null,null,null,null,null,null,null,null,null,null,null,null,null,null,null,null,"Чернігівська","Фурсове"]
[null,null,null,null,null,null,null,null,null,null,null,null,null,null,null,null,null,null,null,null,null,null,null,null,null,null,null,null,null,null,null,null,null,null,null,null,null,null,null,null,null,null,null,null,null,"Чернігівська","Хаєнки"]
[null,null,null,null,null,null,null,null,null,null,null,null,null,null,null,null,null,null,null,null,null,null,null,null,null,null,null,null,null,null,null,null,null,null,null,null,null,null,null,null,null,null,null,null,null,"Чернігівська","Хаїха"]
[null,null,null,null,null,null,null,null,null,null,null,null,null,null,null,null,null,null,null,null,null,null,null,null,null,null,null,null,null,null,null,null,null,null,null,null,null,null,null,null,null,null,null,null,null,"Чернігівська","Халимонове"]
[null,null,null,null,null,null,null,null,null,null,null,null,null,null,null,null,null,null,null,null,null,null,null,null,null,null,null,null,null,null,null,null,null,null,null,null,null,null,null,null,null,null,null,null,null,"Чернігівська","Халявин"]
[null,null,null,null,null,null,null,null,null,null,null,null,null,null,null,null,null,null,null,null,null,null,null,null,null,null,null,null,null,null,null,null,null,null,null,null,null,null,null,null,null,null,null,null,null,"Чернігівська","Хатилова Гута"]
[null,null,null,null,null,null,null,null,null,null,null,null,null,null,null,null,null,null,null,null,null,null,null,null,null,null,null,null,null,null,null,null,null,null,null,null,null,null,null,null,null,null,null,null,null,"Чернігівська","Хвилівка"]
[null,null,null,null,null,null,null,null,null,null,null,null,null,null,null,null,null,null,null,null,null,null,null,null,null,null,null,null,null,null,null,null,null,null,null,null,null,null,null,null,null,null,null,null,null,"Чернігівська","Хибалівка"]
[null,null,null,null,null,null,null,null,null,null,null,null,null,null,null,null,null,null,null,null,null,null,null,null,null,null,null,null,null,null,null,null,null,null,null,null,null,null,null,null,null,null,null,null,null,"Чернігівська","Хлоп'яники"]
[null,null,null,null,null,null,null,null,null,null,null,null,null,null,null,null,null,null,null,null,null,null,null,null,null,null,null,null,null,null,null,null,null,null,null,null,null,null,null,null,null,null,null,null,null,"Чернігівська","Хмільниця"]
[null,null,null,null,null,null,null,null,null,null,null,null,null,null,null,null,null,null,null,null,null,null,null,null,null,null,null,null,null,null,null,null,null,null,null,null,null,null,null,null,null,null,null,null,null,"Чернігівська","Ховдіївка"]
[null,null,null,null,null,null,null,null,null,null,null,null,null,null,null,null,null,null,null,null,null,null,null,null,null,null,null,null,null,null,null,null,null,null,null,null,null,null,null,null,null,null,null,null,null,"Чернігівська","Ховми"]
[null,null,null,null,null,null,null,null,null,null,null,null,null,null,null,null,null,null,null,null,null,null,null,null,null,null,null,null,null,null,null,null,null,null,null,null,null,null,null,null,null,null,null,null,null,"Чернігівська","Холми"]
[null,null,null,null,null,null,null,null,null,null,null,null,null,null,null,null,null,null,null,null,null,null,null,null,null,null,null,null,null,null,null,null,null,null,null,null,null,null,null,null,null,null,null,null,null,"Чернігівська","Холявки"]
[null,null,null,null,null,null,null,null,null,null,null,null,null,null,null,null,null,null,null,null,null,null,null,null,null,null,null,null,null,null,null,null,null,null,null,null,null,null,null,null,null,null,null,null,null,"Чернігівська","Хоробичі"]
[null,null,null,null,null,null,null,null,null,null,null,null,null,null,null,null,null,null,null,null,null,null,null,null,null,null,null,null,null,null,null,null,null,null,null,null,null,null,null,null,null,null,null,null,null,"Чернігівська","Хороше Озеро"]
[null,null,null,null,null,null,null,null,null,null,null,null,null,null,null,null,null,null,null,null,null,null,null,null,null,null,null,null,null,null,null,null,null,null,null,null,null,null,null,null,null,null,null,null,null,"Чернігівська","Хотівля"]
[null,null,null,null,null,null,null,null,null,null,null,null,null,null,null,null,null,null,null,null,null,null,null,null,null,null,null,null,null,null,null,null,null,null,null,null,null,null,null,null,null,null,null,null,null,"Чернігівська","Хотіївка"]
[null,null,null,null,null,null,null,null,null,null,null,null,null,null,null,null,null,null,null,null,null,null,null,null,null,null,null,null,null,null,null,null,null,null,null,null,null,null,null,null,null,null,null,null,null,"Чернігівська","Хотуничі"]
[null,null,null,null,null,null,null,null,null,null,null,null,null,null,null,null,null,null,null,null,null,null,null,null,null,null,null,null,null,null,null,null,null,null,null,null,null,null,null,null,null,null,null,null,null,"Чернігівська","Храпате"]
[null,null,null,null,null,null,null,null,null,null,null,null,null,null,null,null,null,null,null,null,null,null,null,null,null,null,null,null,null,null,null,null,null,null,null,null,null,null,null,null,null,null,null,null,null,"Чернігівська","Хрипівка"]
[null,null,null,null,null,null,null,null,null,null,null,null,null,null,null,null,null,null,null,null,null,null,null,null,null,null,null,null,null,null,null,null,null,null,null,null,null,null,null,null,null,null,null,null,null,"Чернігівська","Хрінівка"]
[null,null,null,null,null,null,null,null,null,null,null,null,null,null,null,null,null,null,null,null,null,null,null,null,null,null,null,null,null,null,null,null,null,null,null,null,null,null,null,null,null,null,null,null,null,"Чернігівська","Хукалівка"]
[null,null,null,null,null,null,null,null,null,null,null,null,null,null,null,null,null,null,null,null,null,null,null,null,null,null,null,null,null,null,null,null,null,null,null,null,null,null,null,null,null,null,null,null,null,"Чернігівська","Часнівці"]
[null,null,null,null,null,null,null,null,null,null,null,null,null,null,null,null,null,null,null,null,null,null,null,null,null,null,null,null,null,null,null,null,null,null,null,null,null,null,null,null,null,null,null,null,null,"Чернігівська","Чемер"]
[null,null,null,null,null,null,null,null,null,null,null,null,null,null,null,null,null,null,null,null,null,null,null,null,null,null,null,null,null,null,null,null,null,null,null,null,null,null,null,null,null,null,null,null,null,"Чернігівська","Ченчики"]
[null,null,null,null,null,null,null,null,null,null,null,null,null,null,null,null,null,null,null,null,null,null,null,null,null,null,null,null,null,null,null,null,null,null,null,null,null,null,null,null,null,null,null,null,null,"Чернігівська","Чепелів"]
[null,null,null,null,null,null,null,null,null,null,null,null,null,null,null,null,null,null,null,null,null,null,null,null,null,null,null,null,null,null,null,null,null,null,null,null,null,null,null,null,null,null,null,null,null,"Чернігівська","Червона Буда"]
[null,null,null,null,null,null,null,null,null,null,null,null,null,null,null,null,null,null,null,null,null,null,null,null,null,null,null,null,null,null,null,null,null,null,null,null,null,null,null,null,null,null,null,null,null,"Чернігівська","Червона Гута"]
[null,null,null,null,null,null,null,null,null,null,null,null,null,null,null,null,null,null,null,null,null,null,null,null,null,null,null,null,null,null,null,null,null,null,null,null,null,null,null,null,null,null,null,null,null,"Чернігівська","Червона Україна"]
[null,null,null,null,null,null,null,null,null,null,null,null,null,null,null,null,null,null,null,null,null,null,null,null,null,null,null,null,null,null,null,null,null,null,null,null,null,null,null,null,null,null,null,null,null,"Чернігівська","Червоний Гай"]
[null,null,null,null,null,null,null,null,null,null,null,null,null,null,null,null,null,null,null,null,null,null,null,null,null,null,null,null,null,null,null,null,null,null,null,null,null,null,null,null,null,null,null,null,null,"Чернігівська","Червоний Довжик"]
[null,null,null,null,null,null,null,null,null,null,null,null,null,null,null,null,null,null,null,null,null,null,null,null,null,null,null,null,null,null,null,null,null,null,null,null,null,null,null,null,null,null,null,null,null,"Чернігівська","Червоний Колодязь"]
[null,null,null,null,null,null,null,null,null,null,null,null,null,null,null,null,null,null,null,null,null,null,null,null,null,null,null,null,null,null,null,null,null,null,null,null,null,null,null,null,null,null,null,null,null,"Чернігівська","Червоний Остер"]
[null,null,null,null,null,null,null,null,null,null,null,null,null,null,null,null,null,null,null,null,null,null,null,null,null,null,null,null,null,null,null,null,null,null,null,null,null,null,null,null,null,null,null,null,null,"Чернігівська","Червоний Пахар"]
[null,null,null,null,null,null,null,null,null,null,null,null,null,null,null,null,null,null,null,null,null,null,null,null,null,null,null,null,null,null,null,null,null,null,null,null,null,null,null,null,null,null,null,null,null,"Чернігівська","Червоний Плугатор"]
[null,null,null,null,null,null,null,null,null,null,null,null,null,null,null,null,null,null,null,null,null,null,null,null,null,null,null,null,null,null,null,null,null,null,null,null,null,null,null,null,null,null,null,null,null,"Чернігівська","Червоний Шлях"]
[null,null,null,null,null,null,null,null,null,null,null,null,null,null,null,null,null,null,null,null,null,null,null,null,null,null,null,null,null,null,null,null,null,null,null,null,null,null,null,null,null,null,null,null,null,"Чернігівська","Червоні Гори"]
[null,null,null,null,null,null,null,null,null,null,null,null,null,null,null,null,null,null,null,null,null,null,null,null,null,null,null,null,null,null,null,null,null,null,null,null,null,null,null,null,null,null,null,null,null,"Чернігівська","Червоні Партизани"]
[null,null,null,null,null,null,null,null,null,null,null,null,null,null,null,null,null,null,null,null,null,null,null,null,null,null,null,null,null,null,null,null,null,null,null,null,null,null,null,null,null,null,null,null,null,"Чернігівська","Черецьке"]
[null,null,null,null,null,null,null,null,null,null,null,null,null,null,null,null,null,null,null,null,null,null,null,null,null,null,null,null,null,null,null,null,null,null,null,null,null,null,null,null,null,null,null,null,null,"Чернігівська","Черниш"]
[null,null,null,null,null,null,null,null,null,null,null,null,null,null,null,null,null,null,null,null,null,null,null,null,null,null,null,null,null,null,null,null,null,null,null,null,null,null,null,null,null,null,null,null,null,"Чернігівська","Чернігів"]
[null,null,null,null,null,null,null,null,null,null,null,null,null,null,null,null,null,null,null,null,null,null,null,null,null,null,null,null,null,null,null,null,null,null,null,null,null,null,null,null,null,null,null,null,null,"Чернігівська","Чисті Лужи"]
[null,null,null,null,null,null,null,null,null,null,null,null,null,null,null,null,null,null,null,null,null,null,null,null,null,null,null,null,null,null,null,null,null,null,null,null,null,null,null,null,null,null,null,null,null,"Чернігівська","Чорний Ріг"]
[null,null,null,null,null,null,null,null,null,null,null,null,null,null,null,null,null,null,null,null,null,null,null,null,null,null,null,null,null,null,null,null,null,null,null,null,null,null,null,null,null,null,null,null,null,"Чернігівська","Чорногорці"]
[null,null,null,null,null,null,null,null,null,null,null,null,null,null,null,null,null,null,null,null,null,null,null,null,null,null,null,null,null,null,null,null,null,null,null,null,null,null,null,null,null,null,null,null,null,"Чернігівська","Чорнозем"]
[null,null,null,null,null,null,null,null,null,null,null,null,null,null,null,null,null,null,null,null,null,null,null,null,null,null,null,null,null,null,null,null,null,null,null,null,null,null,null,null,null,null,null,null,null,"Чернігівська","Чорнотичі"]
[null,null,null,null,null,null,null,null,null,null,null,null,null,null,null,null,null,null,null,null,null,null,null,null,null,null,null,null,null,null,null,null,null,null,null,null,null,null,null,null,null,null,null,null,null,"Чернігівська","Чудівка"]
[null,null,null,null,null,null,null,null,null,null,null,null,null,null,null,null,null,null,null,null,null,null,null,null,null,null,null,null,null,null,null,null,null,null,null,null,null,null,null,null,null,null,null,null,null,"Чернігівська","Чулатів"]
[null,null,null,null,null,null,null,null,null,null,null,null,null,null,null,null,null,null,null,null,null,null,null,null,null,null,null,null,null,null,null,null,null,null,null,null,null,null,null,null,null,null,null,null,null,"Чернігівська","Чумак"]
[null,null,null,null,null,null,null,null,null,null,null,null,null,null,null,null,null,null,null,null,null,null,null,null,null,null,null,null,null,null,null,null,null,null,null,null,null,null,null,null,null,null,null,null,null,"Чернігівська","Шабалинів"]
[null,null,null,null,null,null,null,null,null,null,null,null,null,null,null,null,null,null,null,null,null,null,null,null,null,null,null,null,null,null,null,null,null,null,null,null,null,null,null,null,null,null,null,null,null,"Чернігівська","Шаболтасівка"]
[null,null,null,null,null,null,null,null,null,null,null,null,null,null,null,null,null,null,null,null,null,null,null,null,null,null,null,null,null,null,null,null,null,null,null,null,null,null,null,null,null,null,null,null,null,"Чернігівська","Шами"]
[null,null,null,null,null,null,null,null,null,null,null,null,null,null,null,null,null,null,null,null,null,null,null,null,null,null,null,null,null,null,null,null,null,null,null,null,null,null,null,null,null,null,null,null,null,"Чернігівська","Шапіхи"]
[null,null,null,null,null,null,null,null,null,null,null,null,null,null,null,null,null,null,null,null,null,null,null,null,null,null,null,null,null,null,null,null,null,null,null,null,null,null,null,null,null,null,null,null,null,"Чернігівська","Шатура"]
[null,null,null,null,null,null,null,null,null,null,null,null,null,null,null,null,null,null,null,null,null,null,null,null,null,null,null,null,null,null,null,null,null,null,null,null,null,null,null,null,null,null,null,null,null,"Чернігівська","Шведчина"]
[null,null,null,null,null,null,null,null,null,null,null,null,null,null,null,null,null,null,null,null,null,null,null,null,null,null,null,null,null,null,null,null,null,null,null,null,null,null,null,null,null,null,null,null,null,"Чернігівська","Шептаки"]
[null,null,null,null,null,null,null,null,null,null,null,null,null,null,null,null,null,null,null,null,null,null,null,null,null,null,null,null,null,null,null,null,null,null,null,null,null,null,null,null,null,null,null,null,null,"Чернігівська","Шестовиця"]
[null,null,null,null,null,null,null,null,null,null,null,null,null,null,null,null,null,null,null,null,null,null,null,null,null,null,null,null,null,null,null,null,null,null,null,null,null,null,null,null,null,null,null,null,null,"Чернігівська","Шибиринівка"]
[null,null,null,null,null,null,null,null,null,null,null,null,null,null,null,null,null,null,null,null,null,null,null,null,null,null,null,null,null,null,null,null,null,null,null,null,null,null,null,null,null,null,null,null,null,"Чернігівська","Шиловичі"]
[null,null,null,null,null,null,null,null,null,null,null,null,null,null,null,null,null,null,null,null,null,null,null,null,null,null,null,null,null,null,null,null,null,null,null,null,null,null,null,null,null,null,null,null,null,"Чернігівська","Шишка"]
[null,null,null,null,null,null,null,null,null,null,null,null,null,null,null,null,null,null,null,null,null,null,null,null,null,null,null,null,null,null,null,null,null,null,null,null,null,null,null,null,null,null,null,null,null,"Чернігівська","Шкробове"]
[null,null,null,null,null,null,null,null,null,null,null,null,null,null,null,null,null,null,null,null,null,null,null,null,null,null,null,null,null,null,null,null,null,null,null,null,null,null,null,null,null,null,null,null,null,"Чернігівська","Шкуранка"]
[null,null,null,null,null,null,null,null,null,null,null,null,null,null,null,null,null,null,null,null,null,null,null,null,null,null,null,null,null,null,null,null,null,null,null,null,null,null,null,null,null,null,null,null,null,"Чернігівська","Шмаївка"]
[null,null,null,null,null,null,null,null,null,null,null,null,null,null,null,null,null,null,null,null,null,null,null,null,null,null,null,null,null,null,null,null,null,null,null,null,null,null,null,null,null,null,null,null,null,"Чернігівська","Шняківка"]
[null,null,null,null,null,null,null,null,null,null,null,null,null,null,null,null,null,null,null,null,null,null,null,null,null,null,null,null,null,null,null,null,null,null,null,null,null,null,null,null,null,null,null,null,null,"Чернігівська","Шолойки"]
[null,null,null,null,null,null,null,null,null,null,null,null,null,null,null,null,null,null,null,null,null,null,null,null,null,null,null,null,null,null,null,null,null,null,null,null,null,null,null,null,null,null,null,null,null,"Чернігівська","Шпаків"]
[null,null,null,null,null,null,null,null,null,null,null,null,null,null,null,null,null,null,null,null,null,null,null,null,null,null,null,null,null,null,null,null,null,null,null,null,null,null,null,null,null,null,null,null,null,"Чернігівська","Шумани"]
[null,null,null,null,null,null,null,null,null,null,null,null,null,null,null,null,null,null,null,null,null,null,null,null,null,null,null,null,null,null,null,null,null,null,null,null,null,null,null,null,null,null,null,null,null,"Чернігівська","Шумейкине (Матіївська)"]
[null,null,null,null,null,null,null,null,null,null,null,null,null,null,null,null,null,null,null,null,null,null,null,null,null,null,null,null,null,null,null,null,null,null,null,null,null,null,null,null,null,null,null,null,null,"Чернігівська","Шумейків"]
[null,null,null,null,null,null,null,null,null,null,null,null,null,null,null,null,null,null,null,null,null,null,null,null,null,null,null,null,null,null,null,null,null,null,null,null,null,null,null,null,null,null,null,null,null,"Чернігівська","Шумин"]
[null,null,null,null,null,null,null,null,null,null,null,null,null,null,null,null,null,null,null,null,null,null,null,null,null,null,null,null,null,null,null,null,null,null,null,null,null,null,null,null,null,null,null,null,null,"Чернігівська","Щокоть"]
[null,null,null,null,null,null,null,null,null,null,null,null,null,null,null,null,null,null,null,null,null,null,null,null,null,null,null,null,null,null,null,null,null,null,null,null,null,null,null,null,null,null,null,null,null,"Чернігівська","Щорс"]
[null,null,null,null,null,null,null,null,null,null,null,null,null,null,null,null,null,null,null,null,null,null,null,null,null,null,null,null,null,null,null,null,null,null,null,null,null,null,null,null,null,null,null,null,null,"Чернігівська","Щурівка"]
[null,null,null,null,null,null,null,null,null,null,null,null,null,null,null,null,null,null,null,null,null,null,null,null,null,null,null,null,null,null,null,null,null,null,null,null,null,null,null,null,null,null,null,null,null,"Чернігівська","Щуча Гребля"]
[null,null,null,null,null,null,null,null,null,null,null,null,null,null,null,null,null,null,null,null,null,null,null,null,null,null,null,null,null,null,null,null,null,null,null,null,null,null,null,null,null,null,null,null,null,"Чернігівська","Юрківщина"]
[null,null,null,null,null,null,null,null,null,null,null,null,null,null,null,null,null,null,null,null,null,null,null,null,null,null,null,null,null,null,null,null,null,null,null,null,null,null,null,null,null,null,null,null,null,"Чернігівська","Юхнове"]
[null,null,null,null,null,null,null,null,null,null,null,null,null,null,null,null,null,null,null,null,null,null,null,null,null,null,null,null,null,null,null,null,null,null,null,null,null,null,null,null,null,null,null,null,null,"Чернігівська","Яблунівське"]
[null,null,null,null,null,null,null,null,null,null,null,null,null,null,null,null,null,null,null,null,null,null,null,null,null,null,null,null,null,null,null,null,null,null,null,null,null,null,null,null,null,null,null,null,null,"Чернігівська","Ядути"]
[null,null,null,null,null,null,null,null,null,null,null,null,null,null,null,null,null,null,null,null,null,null,null,null,null,null,null,null,null,null,null,null,null,null,null,null,null,null,null,null,null,null,null,null,null,"Чернігівська","Якличі"]
[null,null,null,null,null,null,null,null,null,null,null,null,null,null,null,null,null,null,null,null,null,null,null,null,null,null,null,null,null,null,null,null,null,null,null,null,null,null,null,null,null,null,null,null,null,"Чернігівська","Ямище"]
[null,null,null,null,null,null,null,null,null,null,null,null,null,null,null,null,null,null,null,null,null,null,null,null,null,null,null,null,null,null,null,null,null,null,null,null,null,null,null,null,null,null,null,null,null,"Чернігівська","Ярова Білещина"]
[null,null,null,null,null,null,null,null,null,null,null,null,null,null,null,null,null,null,null,null,null,null,null,null,null,null,null,null,null,null,null,null,null,null,null,null,null,null,null,null,null,null,null,null,null,"Чернігівська","Ясна Зірка"]
[null,null,null,null,null,null,null,null,null,null,null,null,null,null,null,null,null,null,null,null,null,null,null,null,null,null,null,null,null,null,null,null,null,null,null,null,null,null,null,null,null,null,null,null,null,"Чернігівська","Яськове"]
[null,null,null,null,null,null,null,null,null,null,null,null,null,null,null,null,null,null,null,null,null,null,null,null,null,null,null,null,null,null,null,null,null,null,null,null,null,null,null,null,null,null,null,null,null,"Чернігівська","Ященків"]