{"text_format":"1","workbook":"xlsx","n_sheets":6,"sheets":["1.Портфель кредитів","2.Забезпечення","3.ППР","4.журнал торгів","журнал_пулів","Hidden_Словник"],"not_rendered":{"charts":0,"images":1,"macros":1,"external_links":1,"defined_names":32,"comments":0,"pivot_tables":0},"unopened":[],"bounds":{"document_bytes":16777216,"sheet_cells":100000,"rows_first":2000,"rows_last":500,"rows_between":2000,"halvings":0,"cell_chars":16384,"cell_head_chars":4096},"cells_cut":0,"cells_raw":0,"read":"whole","date_system":"1900"}

{"sheet":"1.Портфель кредитів","index":0,"n_rows":998,"n_cols":23,"rows_kept":998,"cut":false,"hidden":false,"merged":[]}
[null,null,null,null,null,null,null,null,null,null,null,1,13575.5,13575.5,13575.5,0,0]
[null,"Характеристика активу / фактори впливу",null,null,null,null,null,null,null,null,null,null,"Заборгованість"]
["Ознака банкрутства/ліквідації (відповідно ЄДР на дату заповнення паспорту)","Група активу","Номер кредитного договору","Тип кредита/активу","Відмітка про знаходження права об'єкту в якості забезпечення під рефінансуванням в НБУ","Кількість днів прострочення оплати боргу на дату заповнення","Сума погашеної заборгованності у поточному році","Сума останнього погашення заборгованності","Дата останнього погашення заборгованності","Суб'єкт оціночної діяльності","Дата оцінки активу","Оціночна вартість","Заборгованість на дату формування ліквідаційної маси","Заборгованстіь  на дату заповнення паспорту dd43221.mm.yyyyр. (тіло та проценти):","Заборгованість по тілу кредиту на дату заповнення паспорту","Забаргованність по нарах. % за кредитом на дату заповнення паспорту","Штрафи та пені"]
["так",null,null,null,"ні",null,null,null,null,"ТОВ \"Стоун Брідж \"","01.04.2015",1,3797.06,3797.06,3797.06,0,0]
["","","Банк \"Демарк\"",353575,null,null,null,null,null,"ні","ні",null,null,null,null,"ТОВ \"Стоун Брідж \"","01.04.2015",null,1600,1600,1600,0,0]
["","","Банк \"Демарк\"",353575,null,null,null,null,null,"ні","ні",null,null,null,null,"ТОВ \"Стоун Брідж \"","01.04.2015",null,1250,1250,1250,0,0]
["","","Банк \"Демарк\"",353575,null,null,null,null,null,"ні","ні",null,null,null,null,"ТОВ \"Стоун Брідж \"","01.04.2015",null,899.99,899.99,899.99,0,0]
["","","Банк \"Демарк\"",353575,null,null,null,null,null,"ні","ні",null,null,null,null,"ТОВ \"Стоун Брідж \"","01.04.2015",null,450,450,450,0,0]
["","","Банк \"Демарк\"",353575,null,null,null,null,null,"ні","ні",null,null,null,null,"ТОВ \"Стоун Брідж \"","01.04.2015",null,350.62,350.62,350.62,0,0]
["","","Банк \"Демарк\"",353575,null,null,null,null,null,"ні","ні",null,null,null,null,"ТОВ \"Стоун Брідж \"","01.04.2015",null,327.84,327.84,327.84,0,0]
["","","Банк \"Демарк\"",353575,null,null,null,null,null,"ні","ні",null,null,null,null,"ТОВ \"Стоун Брідж \"","01.04.2015",null,210,210,210,0,0]
["","","Банк \"Демарк\"",353575,null,null,null,null,null,"ні","ні",null,null,null,null,"ТОВ \"Стоун Брідж \"","01.04.2015",null,120,120,120,0,0]
["","","Банк \"Демарк\"",353575,null,null,null,null,null,"ні","ні",null,null,null,null,"ТОВ \"Стоун Брідж \"","01.04.2015",null,90,90,90,0,0]
["","","Банк \"Демарк\"",353575,null,null,null,null,null,"ні","ні",null,null,null,null,"ТОВ \"Стоун Брідж \"","01.04.2015",null,60,60,60,0,0]
["","","Банк \"Демарк\"",353575,null,null,null,null,null,"ні","ні",null,null,null,null,"ТОВ \"Стоун Брідж \"","01.04.2015",null,50,50,50,0,0]
["","","Банк \"Демарк\"",353575,null,null,null,null,null,"ні","ні",null,null,null,null,"ТОВ \"Стоун Брідж \"","01.04.2015",null,50,50,50,0,0]
["","","Банк \"Демарк\"",353575,null,null,null,null,null,"ні","ні",null,null,null,null,"ТОВ \"Стоун Брідж \"","01.04.2015",null,34.49,34.49,34.49,0,0]
["","",null,"",null,null,null,null,null,null,null,null,null,null,null,null,null,null,null,""]
["","",null,"",null,null,null,null,null,null,null,null,null,null,null,null,null,null,null,""]
["","",null,"",null,null,null,null,null,null,null,null,null,null,null,null,null,null,null,""]
["","",null,"",null,null,null,null,null,null,null,null,null,null,null,null,null,null,null,""]
["","",null,"",null,null,null,null,null,null,null,null,null,null,null,null,null,null,null,""]
["","",null,"",null,null,null,null,null,null,null,null,null,null,null,null,null,null,null,""]
["","",null,"",null,null,null,null,null,null,null,null,null,null,null,null,null,null,null,""]
["","",null,"",null,null,null,null,null,null,null,null,null,null,null,null,null,null,null,""]
["","",null,"",null,null,null,null,null,null,null,null,null,null,null,null,null,null,null,""]
["","",null,"",null,null,null,null,null,null,null,null,null,null,null,null,null,null,null,""]
["","",null,"",null,null,null,null,null,null,null,null,null,null,null,null,null,null,null,""]
["","",null,"",null,null,null,null,null,null,null,null,null,null,null,null,null,null,null,""]
["","",null,"",null,null,null,null,null,null,null,null,null,null,null,null,null,null,null,""]
["","",null,"",null,null,null,null,null,null,null,null,null,null,null,null,null,null,null,""]
["","",null,"",null,null,null,null,null,null,null,null,null,null,null,null,null,null,null,""]
["","",null,"",null,null,null,null,null,null,null,null,null,null,null,null,null,null,null,""]
["","",null,"",null,null,null,null,null,null,null,null,null,null,null,null,null,null,null,""]
["","",null,"",null,null,null,null,null,null,null,null,null,null,null,null,null,null,null,""]
["","",null,"",null,null,null,null,null,null,null,null,null,null,null,null,null,null,null,""]
["","",null,"",null,null,null,null,null,null,null,null,null,null,null,null,null,null,null,""]
["","",null,"",null,null,null,null,null,null,null,null,null,null,null,null,null,null,null,""]
["","",null,"",null,null,null,null,null,null,null,null,null,null,null,null,null,null,null,""]
["","",null,"",null,null,null,null,null,null,null,null,null,null,null,null,null,null,null,""]
["","",null,"",null,null,null,null,null,null,null,null,null,null,null,null,null,null,null,""]
["","",null,"",null,null,null,null,null,null,null,null,null,null,null,null,null,null,null,""]
["","",null,"",null,null,null,null,null,null,null,null,null,null,null,null,null,null,null,""]
["","",null,"",null,null,null,null,null,null,null,null,null,null,null,null,null,null,null,""]
["","",null,"",null,null,null,null,null,null,null,null,null,null,null,null,null,null,null,""]
["","",null,"",null,null,null,null,null,null,null,null,null,null,null,null,null,null,null,""]
["","",null,"",null,null,null,null,null,null,null,null,null,null,null,null,null,null,null,""]
["","",null,"",null,null,null,null,null,null,null,null,null,null,null,null,null,null,null,""]
["","",null,"",null,null,null,null,null,null,null,null,null,null,null,null,null,null,null,""]
["","",null,"",null,null,null,null,null,null,null,null,null,null,null,null,null,null,null,""]
["","",null,"",null,null,null,null,null,null,null,null,null,null,null,null,null,null,null,""]
["","",null,"",null,null,null,null,null,null,null,null,null,null,null,null,null,null,null,""]
["","",null,"",null,null,null,null,null,null,null,null,null,null,null,null,null,null,null,""]
["","",null,"",null,null,null,null,null,null,null,null,null,null,null,null,null,null,null,""]
["","",null,"",null,null,null,null,null,null,null,null,null,null,null,null,null,null,null,""]
["","",null,"",null,null,null,null,null,null,null,null,null,null,null,null,null,null,null,""]
["","",null,"",null,null,null,null,null,null,null,null,null,null,null,null,null,null,null,""]
["","",null,"",null,null,null,null,null,null,null,null,null,null,null,null,null,null,null,""]
["","",null,"",null,null,null,null,null,null,null,null,null,null,null,null,null,null,null,""]
["","",null,"",null,null,null,null,null,null,null,null,null,null,null,null,null,null,null,""]
["","",null,"",null,null,null,null,null,null,null,null,null,null,null,null,null,null,null,""]
["","",null,"",null,null,null,null,null,null,null,null,null,null,null,null,null,null,null,""]
["","",null,"",null,null,null,null,null,null,null,null,null,null,null,null,null,null,null,""]
["","",null,"",null,null,null,null,null,null,null,null,null,null,null,null,null,null,null,""]
["","",null,"",null,null,null,null,null,null,null,null,null,null,null,null,null,null,null,""]
["","",null,"",null,null,null,null,null,null,null,null,null,null,null,null,null,null,null,""]
["","",null,"",null,null,null,null,null,null,null,null,null,null,null,null,null,null,null,""]
["","",null,"",null,null,null,null,null,null,null,null,null,null,null,null,null,null,null,""]
["","",null,"",null,null,null,null,null,null,null,null,null,null,null,null,null,null,null,""]
["","",null,"",null,null,null,null,null,null,null,null,null,null,null,null,null,null,null,""]
["","",null,"",null,null,null,null,null,null,null,null,null,null,null,null,null,null,null,""]
["","",null,"",null,null,null,null,null,null,null,null,null,null,null,null,null,null,null,""]
["","",null,"",null,null,null,null,null,null,null,null,null,null,null,null,null,null,null,""]
["","",null,"",null,null,null,null,null,null,null,null,null,null,null,null,null,null,null,""]
["","",null,"",null,null,null,null,null,null,null,null,null,null,null,null,null,null,null,""]
["","",null,"",null,null,null,null,null,null,null,null,null,null,null,null,null,null,null,""]
["","",null,"",null,null,null,null,null,null,null,null,null,null,null,null,null,null,null,""]
["","",null,"",null,null,null,null,null,null,null,null,null,null,null,null,null,null,null,""]
["","",null,"",null,null,null,null,null,null,null,null,null,null,null,null,null,null,null,""]
["","",null,"",null,null,null,null,null,null,null,null,null,null,null,null,null,null,null,""]
["","",null,"",null,null,null,null,null,null,null,null,null,null,null,null,null,null,null,""]
["","",null,"",null,null,null,null,null,null,null,null,null,null,null,null,null,null,null,""]
["","",null,"",null,null,null,null,null,null,null,null,null,null,null,null,null,null,null,""]
["","",null,"",null,null,null,null,null,null,null,null,null,null,null,null,null,null,null,""]
["","",null,"",null,null,null,null,null,null,null,null,null,null,null,null,null,null,null,""]
["","",null,"",null,null,null,null,null,null,null,null,null,null,null,null,null,null,null,""]
["","",null,"",null,null,null,null,null,null,null,null,null,null,null,null,null,null,null,""]
["","",null,"",null,null,null,null,null,null,null,null,null,null,null,null,null,null,null,""]
["","",null,"",null,null,null,null,null,null,null,null,null,null,null,null,null,null,null,""]
["","",null,"",null,null,null,null,null,null,null,null,null,null,null,null,null,null,null,""]
["","",null,"",null,null,null,null,null,null,null,null,null,null,null,null,null,null,null,""]
["","",null,"",null,null,null,null,null,null,null,null,null,null,null,null,null,null,null,""]
["","",null,"",null,null,null,null,null,null,null,null,null,null,null,null,null,null,null,""]
["","",null,"",null,null,null,null,null,null,null,null,null,null,null,null,null,null,null,""]
["","",null,"",null,null,null,null,null,null,null,null,null,null,null,null,null,null,null,""]
["","",null,"",null,null,null,null,null,null,null,null,null,null,null,null,null,null,null,""]
["","",null,"",null,null,null,null,null,null,null,null,null,null,null,null,null,null,null,""]
["","",null,"",null,null,null,null,null,null,null,null,null,null,null,null,null,null,null,""]
["","",null,"",null,null,null,null,null,null,null,null,null,null,null,null,null,null,null,""]
["","",null,"",null,null,null,null,null,null,null,null,null,null,null,null,null,null,null,""]
["","",null,"",null,null,null,null,null,null,null,null,null,null,null,null,null,null,null,""]
["","",null,"",null,null,null,null,null,null,null,null,null,null,null,null,null,null,null,""]
["","",null,"",null,null,null,null,null,null,null,null,null,null,null,null,null,null,null,""]
["","",null,"",null,null,null,null,null,null,null,null,null,null,null,null,null,null,null,""]
["","",null,"",null,null,null,null,null,null,null,null,null,null,null,null,null,null,null,""]
["","",null,"",null,null,null,null,null,null,null,null,null,null,null,null,null,null,null,""]
["","",null,"",null,null,null,null,null,null,null,null,null,null,null,null,null,null,null,""]
["","",null,"",null,null,null,null,null,null,null,null,null,null,null,null,null,null,null,""]
["","",null,"",null,null,null,null,null,null,null,null,null,null,null,null,null,null,null,""]
["","",null,"",null,null,null,null,null,null,null,null,null,null,null,null,null,null,null,""]
["","",null,"",null,null,null,null,null,null,null,null,null,null,null,null,null,null,null,""]
["","",null,"",null,null,null,null,null,null,null,null,null,null,null,null,null,null,null,""]
["","",null,"",null,null,null,null,null,null,null,null,null,null,null,null,null,null,null,""]
["","",null,"",null,null,null,null,null,null,null,null,null,null,null,null,null,null,null,""]
["","",null,"",null,null,null,null,null,null,null,null,null,null,null,null,null,null,null,""]
["","",null,"",null,null,null,null,null,null,null,null,null,null,null,null,null,null,null,""]
["","",null,"",null,null,null,null,null,null,null,null,null,null,null,null,null,null,null,""]
["","",null,"",null,null,null,null,null,null,null,null,null,null,null,null,null,null,null,""]
["","",null,"",null,null,null,null,null,null,null,null,null,null,null,null,null,null,null,""]
["","",null,"",null,null,null,null,null,null,null,null,null,null,null,null,null,null,null,""]
["","",null,"",null,null,null,null,null,null,null,null,null,null,null,null,null,null,null,""]
["","",null,"",null,null,null,null,null,null,null,null,null,null,null,null,null,null,null,""]
["","",null,"",null,null,null,null,null,null,null,null,null,null,null,null,null,null,null,""]
["","",null,"",null,null,null,null,null,null,null,null,null,null,null,null,null,null,null,""]
["","",null,"",null,null,null,null,null,null,null,null,null,null,null,null,null,null,null,""]
["","",null,"",null,null,null,null,null,null,null,null,null,null,null,null,null,null,null,""]
["","",null,"",null,null,null,null,null,null,null,null,null,null,null,null,null,null,null,""]
["","",null,"",null,null,null,null,null,null,null,null,null,null,null,null,null,null,null,""]
["","",null,"",null,null,null,null,null,null,null,null,null,null,null,null,null,null,null,""]
["","",null,"",null,null,null,null,null,null,null,null,null,null,null,null,null,null,null,""]
["","",null,"",null,null,null,null,null,null,null,null,null,null,null,null,null,null,null,""]
["","",null,"",null,null,null,null,null,null,null,null,null,null,null,null,null,null,null,""]
["","",null,"",null,null,null,null,null,null,null,null,null,null,null,null,null,null,null,""]
["","",null,"",null,null,null,null,null,null,null,null,null,null,null,null,null,null,null,""]
["","",null,"",null,null,null,null,null,null,null,null,null,null,null,null,null,null,null,""]
["","",null,"",null,null,null,null,null,null,null,null,null,null,null,null,null,null,null,""]
["","",null,"",null,null,null,null,null,null,null,null,null,null,null,null,null,null,null,""]
["","",null,"",null,null,null,null,null,null,null,null,null,null,null,null,null,null,null,""]
["","",null,"",null,null,null,null,null,null,null,null,null,null,null,null,null,null,null,""]
["","",null,"",null,null,null,null,null,null,null,null,null,null,null,null,null,null,null,""]
["","",null,"",null,null,null,null,null,null,null,null,null,null,null,null,null,null,null,""]
["","",null,"",null,null,null,null,null,null,null,null,null,null,null,null,null,null,null,""]
["","",null,"",null,null,null,null,null,null,null,null,null,null,null,null,null,null,null,""]
["","",null,"",null,null,null,null,null,null,null,null,null,null,null,null,null,null,null,""]
["","",null,"",null,null,null,null,null,null,null,null,null,null,null,null,null,null,null,""]
["","",null,"",null,null,null,null,null,null,null,null,null,null,null,null,null,null,null,""]
["","",null,"",null,null,null,null,null,null,null,null,null,null,null,null,null,null,null,""]
["","",null,"",null,null,null,null,null,null,null,null,null,null,null,null,null,null,null,""]
["","",null,"",null,null,null,null,null,null,null,null,null,null,null,null,null,null,null,""]
["","",null,"",null,null,null,null,null,null,null,null,null,null,null,null,null,null,null,""]
["","",null,"",null,null,null,null,null,null,null,null,null,null,null,null,null,null,null,""]
["","",null,"",null,null,null,null,null,null,null,null,null,null,null,null,null,null,null,""]
["","",null,"",null,null,null,null,null,null,null,null,null,null,null,null,null,null,null,""]
["","",null,"",null,null,null,null,null,null,null,null,null,null,null,null,null,null,null,""]
["","",null,"",null,null,null,null,null,null,null,null,null,null,null,null,null,null,null,""]
["","",null,"",null,null,null,null,null,null,null,null,null,null,null,null,null,null,null,""]
["","",null,"",null,null,null,null,null,null,null,null,null,null,null,null,null,null,null,""]
["","",null,"",null,null,null,null,null,null,null,null,null,null,null,null,null,null,null,""]
["","",null,"",null,null,null,null,null,null,null,null,null,null,null,null,null,null,null,""]
["","",null,"",null,null,null,null,null,null,null,null,null,null,null,null,null,null,null,""]
["","",null,"",null,null,null,null,null,null,null,null,null,null,null,null,null,null,null,""]
["","",null,"",null,null,null,null,null,null,null,null,null,null,null,null,null,null,null,""]
["","",null,"",null,null,null,null,null,null,null,null,null,null,null,null,null,null,null,""]
["","",null,"",null,null,null,null,null,null,null,null,null,null,null,null,null,null,null,""]
["","",null,"",null,null,null,null,null,null,null,null,null,null,null,null,null,null,null,""]
["","",null,"",null,null,null,null,null,null,null,null,null,null,null,null,null,null,null,""]
["","",null,"",null,null,null,null,null,null,null,null,null,null,null,null,null,null,null,""]
["","",null,"",null,null,null,null,null,null,null,null,null,null,null,null,null,null,null,""]
["","",null,"",null,null,null,null,null,null,null,null,null,null,null,null,null,null,null,""]
["","",null,"",null,null,null,null,null,null,null,null,null,null,null,null,null,null,null,""]
["","",null,"",null,null,null,null,null,null,null,null,null,null,null,null,null,null,null,""]
["","",null,"",null,null,null,null,null,null,null,null,null,null,null,null,null,null,null,""]
["","",null,"",null,null,null,null,null,null,null,null,null,null,null,null,null,null,null,""]
["","",null,"",null,null,null,null,null,null,null,null,null,null,null,null,null,null,null,""]
["","",null,"",null,null,null,null,null,null,null,null,null,null,null,null,null,null,null,""]
["","",null,"",null,null,null,null,null,null,null,null,null,null,null,null,null,null,null,""]
["","",null,"",null,null,null,null,null,null,null,null,null,null,null,null,null,null,null,""]
["","",null,"",null,null,null,null,null,null,null,null,null,null,null,null,null,null,null,""]
["","",null,"",null,null,null,null,null,null,null,null,null,null,null,null,null,null,null,""]
["","",null,"",null,null,null,null,null,null,null,null,null,null,null,null,null,null,null,""]
["","",null,"",null,null,null,null,null,null,null,null,null,null,null,null,null,null,null,""]
["","",null,"",null,null,null,null,null,null,null,null,null,null,null,null,null,null,null,""]
["","",null,"",null,null,null,null,null,null,null,null,null,null,null,null,null,null,null,""]
["","",null,"",null,null,null,null,null,null,null,null,null,null,null,null,null,null,null,""]
["","",null,"",null,null,null,null,null,null,null,null,null,null,null,null,null,null,null,""]
["","",null,"",null,null,null,null,null,null,null,null,null,null,null,null,null,null,null,""]
["","",null,"",null,null,null,null,null,null,null,null,null,null,null,null,null,null,null,""]
["","",null,"",null,null,null,null,null,null,null,null,null,null,null,null,null,null,null,""]
["","",null,"",null,null,null,null,null,null,null,null,null,null,null,null,null,null,null,""]
["","",null,"",null,null,null,null,null,null,null,null,null,null,null,null,null,null,null,""]
["","",null,"",null,null,null,null,null,null,null,null,null,null,null,null,null,null,null,""]
["","",null,"",null,null,null,null,null,null,null,null,null,null,null,null,null,null,null,""]
["","",null,"",null,null,null,null,null,null,null,null,null,null,null,null,null,null,null,""]
["","",null,"",null,null,null,null,null,null,null,null,null,null,null,null,null,null,null,""]
["","",null,"",null,null,null,null,null,null,null,null,null,null,null,null,null,null,null,""]
["","",null,"",null,null,null,null,null,null,null,null,null,null,null,null,null,null,null,""]
["","",null,"",null,null,null,null,null,null,null,null,null,null,null,null,null,null,null,""]
["","",null,"",null,null,null,null,null,null,null,null,null,null,null,null,null,null,null,""]
["","",null,"",null,null,null,null,null,null,null,null,null,null,null,null,null,null,null,""]
["","",null,"",null,null,null,null,null,null,null,null,null,null,null,null,null,null,null,""]
["","",null,"",null,null,null,null,null,null,null,null,null,null,null,null,null,null,null,""]
["","",null,"",null,null,null,null,null,null,null,null,null,null,null,null,null,null,null,""]
["","",null,"",null,null,null,null,null,null,null,null,null,null,null,null,null,null,null,""]
["","",null,"",null,null,null,null,null,null,null,null,null,null,null,null,null,null,null,""]
["","",null,"",null,null,null,null,null,null,null,null,null,null,null,null,null,null,null,""]
["","",null,"",null,null,null,null,null,null,null,null,null,null,null,null,null,null,null,""]
["","",null,"",null,null,null,null,null,null,null,null,null,null,null,null,null,null,null,""]
["","",null,"",null,null,null,null,null,null,null,null,null,null,null,null,null,null,null,""]
["","",null,"",null,null,null,null,null,null,null,null,null,null,null,null,null,null,null,""]
["","",null,"",null,null,null,null,null,null,null,null,null,null,null,null,null,null,null,""]
["","",null,"",null,null,null,null,null,null,null,null,null,null,null,null,null,null,null,""]
["","",null,"",null,null,null,null,null,null,null,null,null,null,null,null,null,null,null,""]
["","",null,"",null,null,null,null,null,null,null,null,null,null,null,null,null,null,null,""]
["","",null,"",null,null,null,null,null,null,null,null,null,null,null,null,null,null,null,""]
["","",null,"",null,null,null,null,null,null,null,null,null,null,null,null,null,null,null,""]
["","",null,"",null,null,null,null,null,null,null,null,null,null,null,null,null,null,null,""]
["","",null,"",null,null,null,null,null,null,null,null,null,null,null,null,null,null,null,""]
["","",null,"",null,null,null,null,null,null,null,null,null,null,null,null,null,null,null,""]
["","",null,"",null,null,null,null,null,null,null,null,null,null,null,null,null,null,null,""]
["","",null,"",null,null,null,null,null,null,null,null,null,null,null,null,null,null,null,""]
["","",null,"",null,null,null,null,null,null,null,null,null,null,null,null,null,null,null,""]
["","",null,"",null,null,null,null,null,null,null,null,null,null,null,null,null,null,null,""]
["","",null,"",null,null,null,null,null,null,null,null,null,null,null,null,null,null,null,""]
["","",null,"",null,null,null,null,null,null,null,null,null,null,null,null,null,null,null,""]
["","",null,"",null,null,null,null,null,null,null,null,null,null,null,null,null,null,null,""]
["","",null,"",null,null,null,null,null,null,null,null,null,null,null,null,null,null,null,""]
["","",null,"",null,null,null,null,null,null,null,null,null,null,null,null,null,null,null,""]
["","",null,"",null,null,null,null,null,null,null,null,null,null,null,null,null,null,null,""]
["","",null,"",null,null,null,null,null,null,null,null,null,null,null,null,null,null,null,""]
["","",null,"",null,null,null,null,null,null,null,null,null,null,null,null,null,null,null,""]
["","",null,"",null,null,null,null,null,null,null,null,null,null,null,null,null,null,null,""]
["","",null,"",null,null,null,null,null,null,null,null,null,null,null,null,null,null,null,""]
["","",null,"",null,null,null,null,null,null,null,null,null,null,null,null,null,null,null,""]
["","",null,"",null,null,null,null,null,null,null,null,null,null,null,null,null,null,null,""]
["","",null,"",null,null,null,null,null,null,null,null,null,null,null,null,null,null,null,""]
["","",null,"",null,null,null,null,null,null,null,null,null,null,null,null,null,null,null,""]
["","",null,"",null,null,null,null,null,null,null,null,null,null,null,null,null,null,null,""]
["","",null,"",null,null,null,null,null,null,null,null,null,null,null,null,null,null,null,""]
["","",null,"",null,null,null,null,null,null,null,null,null,null,null,null,null,null,null,""]
["","",null,"",null,null,null,null,null,null,null,null,null,null,null,null,null,null,null,""]
["","",null,"",null,null,null,null,null,null,null,null,null,null,null,null,null,null,null,""]
["","",null,"",null,null,null,null,null,null,null,null,null,null,null,null,null,null,null,""]
["","",null,"",null,null,null,null,null,null,null,null,null,null,null,null,null,null,null,""]
["","",null,"",null,null,null,null,null,null,null,null,null,null,null,null,null,null,null,""]
["","",null,"",null,null,null,null,null,null,null,null,null,null,null,null,null,null,null,""]
["","",null,"",null,null,null,null,null,null,null,null,null,null,null,null,null,null,null,""]
["","",null,"",null,null,null,null,null,null,null,null,null,null,null,null,null,null,null,""]
["","",null,"",null,null,null,null,null,null,null,null,null,null,null,null,null,null,null,""]
["","",null,"",null,null,null,null,null,null,null,null,null,null,null,null,null,null,null,""]
["","",null,"",null,null,null,null,null,null,null,null,null,null,null,null,null,null,null,""]
["","",null,"",null,null,null,null,null,null,null,null,null,null,null,null,null,null,null,""]
["","",null,"",null,null,null,null,null,null,null,null,null,null,null,null,null,null,null,""]
["","",null,"",null,null,null,null,null,null,null,null,null,null,null,null,null,null,null,""]
["","",null,"",null,null,null,null,null,null,null,null,null,null,null,null,null,null,null,""]
["","",null,"",null,null,null,null,null,null,null,null,null,null,null,null,null,null,null,""]
["","",null,"",null,null,null,null,null,null,null,null,null,null,null,null,null,null,null,""]
["","",null,"",null,null,null,null,null,null,null,null,null,null,null,null,null,null,null,""]
["","",null,"",null,null,null,null,null,null,null,null,null,null,null,null,null,null,null,""]
["","",null,"",null,null,null,null,null,null,null,null,null,null,null,null,null,null,null,""]
["","",null,"",null,null,null,null,null,null,null,null,null,null,null,null,null,null,null,""]
["","",null,"",null,null,null,null,null,null,null,null,null,null,null,null,null,null,null,""]
["","",null,"",null,null,null,null,null,null,null,null,null,null,null,null,null,null,null,""]
["","",null,"",null,null,null,null,null,null,null,null,null,null,null,null,null,null,null,""]
["","",null,"",null,null,null,null,null,null,null,null,null,null,null,null,null,null,null,""]
["","",null,"",null,null,null,null,null,null,null,null,null,null,null,null,null,null,null,""]
["","",null,"",null,null,null,null,null,null,null,null,null,null,null,null,null,null,null,""]
["","",null,"",null,null,null,null,null,null,null,null,null,null,null,null,null,null,null,""]
["","",null,"",null,null,null,null,null,null,null,null,null,null,null,null,null,null,null,""]
["","",null,"",null,null,null,null,null,null,null,null,null,null,null,null,null,null,null,""]
["","",null,"",null,null,null,null,null,null,null,null,null,null,null,null,null,null,null,""]
["","",null,"",null,null,null,null,null,null,null,null,null,null,null,null,null,null,null,""]
["","",null,"",null,null,null,null,null,null,null,null,null,null,null,null,null,null,null,""]
["","",null,"",null,null,null,null,null,null,null,null,null,null,null,null,null,null,null,""]
["","",null,"",null,null,null,null,null,null,null,null,null,null,null,null,null,null,null,""]
["","",null,"",null,null,null,null,null,null,null,null,null,null,null,null,null,null,null,""]
["","",null,"",null,null,null,null,null,null,null,null,null,null,null,null,null,null,null,""]
["","",null,"",null,null,null,null,null,null,null,null,null,null,null,null,null,null,null,""]
["","",null,"",null,null,null,null,null,null,null,null,null,null,null,null,null,null,null,""]
["","",null,"",null,null,null,null,null,null,null,null,null,null,null,null,null,null,null,""]
["","",null,"",null,null,null,null,null,null,null,null,null,null,null,null,null,null,null,""]
["","",null,"",null,null,null,null,null,null,null,null,null,null,null,null,null,null,null,""]
["","",null,"",null,null,null,null,null,null,null,null,null,null,null,null,null,null,null,""]
["","",null,"",null,null,null,null,null,null,null,null,null,null,null,null,null,null,null,""]
["","",null,"",null,null,null,null,null,null,null,null,null,null,null,null,null,null,null,""]
["","",null,"",null,null,null,null,null,null,null,null,null,null,null,null,null,null,null,""]
["","",null,"",null,null,null,null,null,null,null,null,null,null,null,null,null,null,null,""]
["","",null,"",null,null,null,null,null,null,null,null,null,null,null,null,null,null,null,""]
["","",null,"",null,null,null,null,null,null,null,null,null,null,null,null,null,null,null,""]
["","",null,"",null,null,null,null,null,null,null,null,null,null,null,null,null,null,null,""]
["","",null,"",null,null,null,null,null,null,null,null,null,null,null,null,null,null,null,""]
["","",null,"",null,null,null,null,null,null,null,null,null,null,null,null,null,null,null,""]
["","",null,"",null,null,null,null,null,null,null,null,null,null,null,null,null,null,null,""]
["","",null,"",null,null,null,null,null,null,null,null,null,null,null,null,null,null,null,""]
["","",null,"",null,null,null,null,null,null,null,null,null,null,null,null,null,null,null,""]
["","",null,"",null,null,null,null,null,null,null,null,null,null,null,null,null,null,null,""]
["","",null,"",null,null,null,null,null,null,null,null,null,null,null,null,null,null,null,""]
["","",null,"",null,null,null,null,null,null,null,null,null,null,null,null,null,null,null,""]
["","",null,"",null,null,null,null,null,null,null,null,null,null,null,null,null,null,null,""]
["","",null,"",null,null,null,null,null,null,null,null,null,null,null,null,null,null,null,""]
["","",null,"",null,null,null,null,null,null,null,null,null,null,null,null,null,null,null,""]
["","",null,"",null,null,null,null,null,null,null,null,null,null,null,null,null,null,null,""]
["","",null,"",null,null,null,null,null,null,null,null,null,null,null,null,null,null,null,""]
["","",null,"",null,null,null,null,null,null,null,null,null,null,null,null,null,null,null,""]
["","",null,"",null,null,null,null,null,null,null,null,null,null,null,null,null,null,null,""]
["","",null,"",null,null,null,null,null,null,null,null,null,null,null,null,null,null,null,""]
["","",null,"",null,null,null,null,null,null,null,null,null,null,null,null,null,null,null,""]
["","",null,"",null,null,null,null,null,null,null,null,null,null,null,null,null,null,null,""]
["","",null,"",null,null,null,null,null,null,null,null,null,null,null,null,null,null,null,""]
["","",null,"",null,null,null,null,null,null,null,null,null,null,null,null,null,null,null,""]
["","",null,"",null,null,null,null,null,null,null,null,null,null,null,null,null,null,null,""]
["","",null,"",null,null,null,null,null,null,null,null,null,null,null,null,null,null,null,""]
["","",null,"",null,null,null,null,null,null,null,null,null,null,null,null,null,null,null,""]
["","",null,"",null,null,null,null,null,null,null,null,null,null,null,null,null,null,null,""]
["","",null,"",null,null,null,null,null,null,null,null,null,null,null,null,null,null,null,""]
["","",null,"",null,null,null,null,null,null,null,null,null,null,null,null,null,null,null,""]
["","",null,"",null,null,null,null,null,null,null,null,null,null,null,null,null,null,null,""]
["","",null,"",null,null,null,null,null,null,null,null,null,null,null,null,null,null,null,""]
["","",null,"",null,null,null,null,null,null,null,null,null,null,null,null,null,null,null,""]
["","",null,"",null,null,null,null,null,null,null,null,null,null,null,null,null,null,null,""]
["","",null,"",null,null,null,null,null,null,null,null,null,null,null,null,null,null,null,""]
["","",null,"",null,null,null,null,null,null,null,null,null,null,null,null,null,null,null,""]
["","",null,"",null,null,null,null,null,null,null,null,null,null,null,null,null,null,null,""]
["","",null,"",null,null,null,null,null,null,null,null,null,null,null,null,null,null,null,""]
["","",null,"",null,null,null,null,null,null,null,null,null,null,null,null,null,null,null,""]
["","",null,"",null,null,null,null,null,null,null,null,null,null,null,null,null,null,null,""]
["","",null,"",null,null,null,null,null,null,null,null,null,null,null,null,null,null,null,""]
["","",null,"",null,null,null,null,null,null,null,null,null,null,null,null,null,null,null,""]
["","",null,"",null,null,null,null,null,null,null,null,null,null,null,null,null,null,null,""]
["","",null,"",null,null,null,null,null,null,null,null,null,null,null,null,null,null,null,""]
["","",null,"",null,null,null,null,null,null,null,null,null,null,null,null,null,null,null,""]
["","",null,"",null,null,null,null,null,null,null,null,null,null,null,null,null,null,null,""]
["","",null,"",null,null,null,null,null,null,null,null,null,null,null,null,null,null,null,""]
["","",null,"",null,null,null,null,null,null,null,null,null,null,null,null,null,null,null,""]
["","",null,"",null,null,null,null,null,null,null,null,null,null,null,null,null,null,null,""]
["","",null,"",null,null,null,null,null,null,null,null,null,null,null,null,null,null,null,""]
["","",null,"",null,null,null,null,null,null,null,null,null,null,null,null,null,null,null,""]
["","",null,"",null,null,null,null,null,null,null,null,null,null,null,null,null,null,null,""]
["","",null,"",null,null,null,null,null,null,null,null,null,null,null,null,null,null,null,""]
["","",null,"",null,null,null,null,null,null,null,null,null,null,null,null,null,null,null,""]
["","",null,"",null,null,null,null,null,null,null,null,null,null,null,null,null,null,null,""]
["","",null,"",null,null,null,null,null,null,null,null,null,null,null,null,null,null,null,""]
["","",null,"",null,null,null,null,null,null,null,null,null,null,null,null,null,null,null,""]
["","",null,"",null,null,null,null,null,null,null,null,null,null,null,null,null,null,null,""]
["","",null,"",null,null,null,null,null,null,null,null,null,null,null,null,null,null,null,""]
["","",null,"",null,null,null,null,null,null,null,null,null,null,null,null,null,null,null,""]
["","",null,"",null,null,null,null,null,null,null,null,null,null,null,null,null,null,null,""]
["","",null,"",null,null,null,null,null,null,null,null,null,null,null,null,null,null,null,""]
["","",null,"",null,null,null,null,null,null,null,null,null,null,null,null,null,null,null,""]
["","",null,"",null,null,null,null,null,null,null,null,null,null,null,null,null,null,null,""]
["","",null,"",null,null,null,null,null,null,null,null,null,null,null,null,null,null,null,""]
["","",null,"",null,null,null,null,null,null,null,null,null,null,null,null,null,null,null,""]
["","",null,"",null,null,null,null,null,null,null,null,null,null,null,null,null,null,null,""]
["","",null,"",null,null,null,null,null,null,null,null,null,null,null,null,null,null,null,""]
["","",null,"",null,null,null,null,null,null,null,null,null,null,null,null,null,null,null,""]
["","",null,"",null,null,null,null,null,null,null,null,null,null,null,null,null,null,null,""]
["","",null,"",null,null,null,null,null,null,null,null,null,null,null,null,null,null,null,""]
["","",null,"",null,null,null,null,null,null,null,null,null,null,null,null,null,null,null,""]
["","",null,"",null,null,null,null,null,null,null,null,null,null,null,null,null,null,null,""]
["","",null,"",null,null,null,null,null,null,null,null,null,null,null,null,null,null,null,""]
["","",null,"",null,null,null,null,null,null,null,null,null,null,null,null,null,null,null,""]
["","",null,"",null,null,null,null,null,null,null,null,null,null,null,null,null,null,null,""]
["","",null,"",null,null,null,null,null,null,null,null,null,null,null,null,null,null,null,""]
["","",null,"",null,null,null,null,null,null,null,null,null,null,null,null,null,null,null,""]
["","",null,"",null,null,null,null,null,null,null,null,null,null,null,null,null,null,null,""]
["","",null,"",null,null,null,null,null,null,null,null,null,null,null,null,null,null,null,""]
["","",null,"",null,null,null,null,null,null,null,null,null,null,null,null,null,null,null,""]
["","",null,"",null,null,null,null,null,null,null,null,null,null,null,null,null,null,null,""]
["","",null,"",null,null,null,null,null,null,null,null,null,null,null,null,null,null,null,""]
["","",null,"",null,null,null,null,null,null,null,null,null,null,null,null,null,null,null,""]
["","",null,"",null,null,null,null,null,null,null,null,null,null,null,null,null,null,null,""]
["","",null,"",null,null,null,null,null,null,null,null,null,null,null,null,null,null,null,""]
["","",null,"",null,null,null,null,null,null,null,null,null,null,null,null,null,null,null,""]
["","",null,"",null,null,null,null,null,null,null,null,null,null,null,null,null,null,null,""]
["","",null,"",null,null,null,null,null,null,null,null,null,null,null,null,null,null,null,""]
["","",null,"",null,null,null,null,null,null,null,null,null,null,null,null,null,null,null,""]
["","",null,"",null,null,null,null,null,null,null,null,null,null,null,null,null,null,null,""]
["","",null,"",null,null,null,null,null,null,null,null,null,null,null,null,null,null,null,""]
["","",null,"",null,null,null,null,null,null,null,null,null,null,null,null,null,null,null,""]
["","",null,"",null,null,null,null,null,null,null,null,null,null,null,null,null,null,null,""]
["","",null,"",null,null,null,null,null,null,null,null,null,null,null,null,null,null,null,""]
["","",null,"",null,null,null,null,null,null,null,null,null,null,null,null,null,null,null,""]
["","",null,"",null,null,null,null,null,null,null,null,null,null,null,null,null,null,null,""]
["","",null,"",null,null,null,null,null,null,null,null,null,null,null,null,null,null,null,""]
["","",null,"",null,null,null,null,null,null,null,null,null,null,null,null,null,null,null,""]
["","",null,"",null,null,null,null,null,null,null,null,null,null,null,null,null,null,null,""]
["","",null,"",null,null,null,null,null,null,null,null,null,null,null,null,null,null,null,""]
["","",null,"",null,null,null,null,null,null,null,null,null,null,null,null,null,null,null,""]
["","",null,"",null,null,null,null,null,null,null,null,null,null,null,null,null,null,null,""]
["","",null,"",null,null,null,null,null,null,null,null,null,null,null,null,null,null,null,""]
["","",null,"",null,null,null,null,null,null,null,null,null,null,null,null,null,null,null,""]
["","",null,"",null,null,null,null,null,null,null,null,null,null,null,null,null,null,null,""]
["","",null,"",null,null,null,null,null,null,null,null,null,null,null,null,null,null,null,""]
["","",null,"",null,null,null,null,null,null,null,null,null,null,null,null,null,null,null,""]
["","",null,"",null,null,null,null,null,null,null,null,null,null,null,null,null,null,null,""]
["","",null,"",null,null,null,null,null,null,null,null,null,null,null,null,null,null,null,""]
["","",null,"",null,null,null,null,null,null,null,null,null,null,null,null,null,null,null,""]
["","",null,"",null,null,null,null,null,null,null,null,null,null,null,null,null,null,null,""]
["","",null,"",null,null,null,null,null,null,null,null,null,null,null,null,null,null,null,""]
["","",null,"",null,null,null,null,null,null,null,null,null,null,null,null,null,null,null,""]
["","",null,"",null,null,null,null,null,null,null,null,null,null,null,null,null,null,null,""]
["","",null,"",null,null,null,null,null,null,null,null,null,null,null,null,null,null,null,""]
["","",null,"",null,null,null,null,null,null,null,null,null,null,null,null,null,null,null,""]
["","",null,"",null,null,null,null,null,null,null,null,null,null,null,null,null,null,null,""]
["","",null,"",null,null,null,null,null,null,null,null,null,null,null,null,null,null,null,""]
["","",null,"",null,null,null,null,null,null,null,null,null,null,null,null,null,null,null,""]
["","",null,"",null,null,null,null,null,null,null,null,null,null,null,null,null,null,null,""]
["","",null,"",null,null,null,null,null,null,null,null,null,null,null,null,null,null,null,""]
["","",null,"",null,null,null,null,null,null,null,null,null,null,null,null,null,null,null,""]
["","",null,"",null,null,null,null,null,null,null,null,null,null,null,null,null,null,null,""]
["","",null,"",null,null,null,null,null,null,null,null,null,null,null,null,null,null,null,""]
["","",null,"",null,null,null,null,null,null,null,null,null,null,null,null,null,null,null,""]
["","",null,"",null,null,null,null,null,null,null,null,null,null,null,null,null,null,null,""]
["","",null,"",null,null,null,null,null,null,null,null,null,null,null,null,null,null,null,""]
["","",null,"",null,null,null,null,null,null,null,null,null,null,null,null,null,null,null,""]
["","",null,"",null,null,null,null,null,null,null,null,null,null,null,null,null,null,null,""]
["","",null,"",null,null,null,null,null,null,null,null,null,null,null,null,null,null,null,""]
["","",null,"",null,null,null,null,null,null,null,null,null,null,null,null,null,null,null,""]
["","",null,"",null,null,null,null,null,null,null,null,null,null,null,null,null,null,null,""]
["","",null,"",null,null,null,null,null,null,null,null,null,null,null,null,null,null,null,""]
["","",null,"",null,null,null,null,null,null,null,null,null,null,null,null,null,null,null,""]
["","",null,"",null,null,null,null,null,null,null,null,null,null,null,null,null,null,null,""]
["","",null,"",null,null,null,null,null,null,null,null,null,null,null,null,null,null,null,""]
["","",null,"",null,null,null,null,null,null,null,null,null,null,null,null,null,null,null,""]
["","",null,"",null,null,null,null,null,null,null,null,null,null,null,null,null,null,null,""]
["","",null,"",null,null,null,null,null,null,null,null,null,null,null,null,null,null,null,""]
["","",null,"",null,null,null,null,null,null,null,null,null,null,null,null,null,null,null,""]
["","",null,"",null,null,null,null,null,null,null,null,null,null,null,null,null,null,null,""]
["","",null,"",null,null,null,null,null,null,null,null,null,null,null,null,null,null,null,""]
["","",null,"",null,null,null,null,null,null,null,null,null,null,null,null,null,null,null,""]
["","",null,"",null,null,null,null,null,null,null,null,null,null,null,null,null,null,null,""]
["","",null,"",null,null,null,null,null,null,null,null,null,null,null,null,null,null,null,""]
["","",null,"",null,null,null,null,null,null,null,null,null,null,null,null,null,null,null,""]
["","",null,"",null,null,null,null,null,null,null,null,null,null,null,null,null,null,null,""]
["","",null,"",null,null,null,null,null,null,null,null,null,null,null,null,null,null,null,""]
["","",null,"",null,null,null,null,null,null,null,null,null,null,null,null,null,null,null,""]
["","",null,"",null,null,null,null,null,null,null,null,null,null,null,null,null,null,null,""]
["","",null,"",null,null,null,null,null,null,null,null,null,null,null,null,null,null,null,""]
["","",null,"",null,null,null,null,null,null,null,null,null,null,null,null,null,null,null,""]
["","",null,"",null,null,null,null,null,null,null,null,null,null,null,null,null,null,null,""]
["","",null,"",null,null,null,null,null,null,null,null,null,null,null,null,null,null,null,""]
["","",null,"",null,null,null,null,null,null,null,null,null,null,null,null,null,null,null,""]
["","",null,"",null,null,null,null,null,null,null,null,null,null,null,null,null,null,null,""]
["","",null,"",null,null,null,null,null,null,null,null,null,null,null,null,null,null,null,""]
["","",null,"",null,null,null,null,null,null,null,null,null,null,null,null,null,null,null,""]
["","",null,"",null,null,null,null,null,null,null,null,null,null,null,null,null,null,null,""]
["","",null,"",null,null,null,null,null,null,null,null,null,null,null,null,null,null,null,""]
["","",null,"",null,null,null,null,null,null,null,null,null,null,null,null,null,null,null,""]
["","",null,"",null,null,null,null,null,null,null,null,null,null,null,null,null,null,null,""]
["","",null,"",null,null,null,null,null,null,null,null,null,null,null,null,null,null,null,""]
["","",null,"",null,null,null,null,null,null,null,null,null,null,null,null,null,null,null,""]
["","",null,"",null,null,null,null,null,null,null,null,null,null,null,null,null,null,null,""]
["","",null,"",null,null,null,null,null,null,null,null,null,null,null,null,null,null,null,""]
["","",null,"",null,null,null,null,null,null,null,null,null,null,null,null,null,null,null,""]
["","",null,"",null,null,null,null,null,null,null,null,null,null,null,null,null,null,null,""]
["","",null,"",null,null,null,null,null,null,null,null,null,null,null,null,null,null,null,""]
["","",null,"",null,null,null,null,null,null,null,null,null,null,null,null,null,null,null,""]
["","",null,"",null,null,null,null,null,null,null,null,null,null,null,null,null,null,null,""]
["","",null,"",null,null,null,null,null,null,null,null,null,null,null,null,null,null,null,""]
["","",null,"",null,null,null,null,null,null,null,null,null,null,null,null,null,null,null,""]
["","",null,"",null,null,null,null,null,null,null,null,null,null,null,null,null,null,null,""]
["","",null,"",null,null,null,null,null,null,null,null,null,null,null,null,null,null,null,""]
["","",null,"",null,null,null,null,null,null,null,null,null,null,null,null,null,null,null,""]
["","",null,"",null,null,null,null,null,null,null,null,null,null,null,null,null,null,null,""]
["","",null,"",null,null,null,null,null,null,null,null,null,null,null,null,null,null,null,""]
["","",null,"",null,null,null,null,null,null,null,null,null,null,null,null,null,null,null,""]
["","",null,"",null,null,null,null,null,null,null,null,null,null,null,null,null,null,null,""]
["","",null,"",null,null,null,null,null,null,null,null,null,null,null,null,null,null,null,""]
["","",null,"",null,null,null,null,null,null,null,null,null,null,null,null,null,null,null,""]
["","",null,"",null,null,null,null,null,null,null,null,null,null,null,null,null,null,null,""]
["","",null,"",null,null,null,null,null,null,null,null,null,null,null,null,null,null,null,""]
["","",null,"",null,null,null,null,null,null,null,null,null,null,null,null,null,null,null,""]
["","",null,"",null,null,null,null,null,null,null,null,null,null,null,null,null,null,null,""]
["","",null,"",null,null,null,null,null,null,null,null,null,null,null,null,null,null,null,""]
["","",null,"",null,null,null,null,null,null,null,null,null,null,null,null,null,null,null,""]
["","",null,"",null,null,null,null,null,null,null,null,null,null,null,null,null,null,null,""]
["","",null,"",null,null,null,null,null,null,null,null,null,null,null,null,null,null,null,""]
["","",null,"",null,null,null,null,null,null,null,null,null,null,null,null,null,null,null,""]
["","",null,"",null,null,null,null,null,null,null,null,null,null,null,null,null,null,null,""]
["","",null,"",null,null,null,null,null,null,null,null,null,null,null,null,null,null,null,""]
["","",null,"",null,null,null,null,null,null,null,null,null,null,null,null,null,null,null,""]
["","",null,"",null,null,null,null,null,null,null,null,null,null,null,null,null,null,null,""]
["","",null,"",null,null,null,null,null,null,null,null,null,null,null,null,null,null,null,""]
["","",null,"",null,null,null,null,null,null,null,null,null,null,null,null,null,null,null,""]
["","",null,"",null,null,null,null,null,null,null,null,null,null,null,null,null,null,null,""]
["","",null,"",null,null,null,null,null,null,null,null,null,null,null,null,null,null,null,""]
["","",null,"",null,null,null,null,null,null,null,null,null,null,null,null,null,null,null,""]
["","",null,"",null,null,null,null,null,null,null,null,null,null,null,null,null,null,null,""]
["","",null,"",null,null,null,null,null,null,null,null,null,null,null,null,null,null,null,""]
["","",null,"",null,null,null,null,null,null,null,null,null,null,null,null,null,null,null,""]
["","",null,"",null,null,null,null,null,null,null,null,null,null,null,null,null,null,null,""]
["","",null,"",null,null,null,null,null,null,null,null,null,null,null,null,null,null,null,""]
["","",null,"",null,null,null,null,null,null,null,null,null,null,null,null,null,null,null,""]
["","",null,"",null,null,null,null,null,null,null,null,null,null,null,null,null,null,null,""]
["","",null,"",null,null,null,null,null,null,null,null,null,null,null,null,null,null,null,""]
["","",null,"",null,null,null,null,null,null,null,null,null,null,null,null,null,null,null,""]
["","",null,"",null,null,null,null,null,null,null,null,null,null,null,null,null,null,null,""]
["","",null,"",null,null,null,null,null,null,null,null,null,null,null,null,null,null,null,""]
["","",null,"",null,null,null,null,null,null,null,null,null,null,null,null,null,null,null,""]
["","",null,"",null,null,null,null,null,null,null,null,null,null,null,null,null,null,null,""]
["","",null,"",null,null,null,null,null,null,null,null,null,null,null,null,null,null,null,""]
["","",null,"",null,null,null,null,null,null,null,null,null,null,null,null,null,null,null,""]
["","",null,"",null,null,null,null,null,null,null,null,null,null,null,null,null,null,null,""]
["","",null,"",null,null,null,null,null,null,null,null,null,null,null,null,null,null,null,""]
["","",null,"",null,null,null,null,null,null,null,null,null,null,null,null,null,null,null,""]
["","",null,"",null,null,null,null,null,null,null,null,null,null,null,null,null,null,null,""]
["","",null,"",null,null,null,null,null,null,null,null,null,null,null,null,null,null,null,""]
["","",null,"",null,null,null,null,null,null,null,null,null,null,null,null,null,null,null,""]
["","",null,"",null,null,null,null,null,null,null,null,null,null,null,null,null,null,null,""]
["","",null,"",null,null,null,null,null,null,null,null,null,null,null,null,null,null,null,""]
["","",null,"",null,null,null,null,null,null,null,null,null,null,null,null,null,null,null,""]
["","",null,"",null,null,null,null,null,null,null,null,null,null,null,null,null,null,null,""]
["","",null,"",null,null,null,null,null,null,null,null,null,null,null,null,null,null,null,""]
["","",null,"",null,null,null,null,null,null,null,null,null,null,null,null,null,null,null,""]
["","",null,"",null,null,null,null,null,null,null,null,null,null,null,null,null,null,null,""]
["","",null,"",null,null,null,null,null,null,null,null,null,null,null,null,null,null,null,""]
["","",null,"",null,null,null,null,null,null,null,null,null,null,null,null,null,null,null,""]
["","",null,"",null,null,null,null,null,null,null,null,null,null,null,null,null,null,null,""]
["","",null,"",null,null,null,null,null,null,null,null,null,null,null,null,null,null,null,""]
["","",null,"",null,null,null,null,null,null,null,null,null,null,null,null,null,null,null,""]
["","",null,"",null,null,null,null,null,null,null,null,null,null,null,null,null,null,null,""]
["","",null,"",null,null,null,null,null,null,null,null,null,null,null,null,null,null,null,""]
["","",null,"",null,null,null,null,null,null,null,null,null,null,null,null,null,null,null,""]
["","",null,"",null,null,null,null,null,null,null,null,null,null,null,null,null,null,null,""]
["","",null,"",null,null,null,null,null,null,null,null,null,null,null,null,null,null,null,""]
["","",null,"",null,null,null,null,null,null,null,null,null,null,null,null,null,null,null,""]
["","",null,"",null,null,null,null,null,null,null,null,null,null,null,null,null,null,null,""]
["","",null,"",null,null,null,null,null,null,null,null,null,null,null,null,null,null,null,""]
["","",null,"",null,null,null,null,null,null,null,null,null,null,null,null,null,null,null,""]
["","",null,"",null,null,null,null,null,null,null,null,null,null,null,null,null,null,null,""]
["","",null,"",null,null,null,null,null,null,null,null,null,null,null,null,null,null,null,""]
["","",null,"",null,null,null,null,null,null,null,null,null,null,null,null,null,null,null,""]
["","",null,"",null,null,null,null,null,null,null,null,null,null,null,null,null,null,null,""]
["","",null,"",null,null,null,null,null,null,null,null,null,null,null,null,null,null,null,""]
["","",null,"",null,null,null,null,null,null,null,null,null,null,null,null,null,null,null,""]
["","",null,"",null,null,null,null,null,null,null,null,null,null,null,null,null,null,null,""]
["","",null,"",null,null,null,null,null,null,null,null,null,null,null,null,null,null,null,""]
["","",null,"",null,null,null,null,null,null,null,null,null,null,null,null,null,null,null,""]
["","",null,"",null,null,null,null,null,null,null,null,null,null,null,null,null,null,null,""]
["","",null,"",null,null,null,null,null,null,null,null,null,null,null,null,null,null,null,""]
["","",null,"",null,null,null,null,null,null,null,null,null,null,null,null,null,null,null,""]
["","",null,"",null,null,null,null,null,null,null,null,null,null,null,null,null,null,null,""]
["","",null,"",null,null,null,null,null,null,null,null,null,null,null,null,null,null,null,""]
["","",null,"",null,null,null,null,null,null,null,null,null,null,null,null,null,null,null,""]
["","",null,"",null,null,null,null,null,null,null,null,null,null,null,null,null,null,null,""]
["","",null,"",null,null,null,null,null,null,null,null,null,null,null,null,null,null,null,""]
["","",null,"",null,null,null,null,null,null,null,null,null,null,null,null,null,null,null,""]
["","",null,"",null,null,null,null,null,null,null,null,null,null,null,null,null,null,null,""]
["","",null,"",null,null,null,null,null,null,null,null,null,null,null,null,null,null,null,""]
["","",null,"",null,null,null,null,null,null,null,null,null,null,null,null,null,null,null,""]
["","",null,"",null,null,null,null,null,null,null,null,null,null,null,null,null,null,null,""]
["","",null,"",null,null,null,null,null,null,null,null,null,null,null,null,null,null,null,""]
["","",null,"",null,null,null,null,null,null,null,null,null,null,null,null,null,null,null,""]
["","",null,"",null,null,null,null,null,null,null,null,null,null,null,null,null,null,null,""]
["","",null,"",null,null,null,null,null,null,null,null,null,null,null,null,null,null,null,""]
["","",null,"",null,null,null,null,null,null,null,null,null,null,null,null,null,null,null,""]
["","",null,"",null,null,null,null,null,null,null,null,null,null,null,null,null,null,null,""]
["","",null,"",null,null,null,null,null,null,null,null,null,null,null,null,null,null,null,""]
["","",null,"",null,null,null,null,null,null,null,null,null,null,null,null,null,null,null,""]
["","",null,"",null,null,null,null,null,null,null,null,null,null,null,null,null,null,null,""]
["","",null,"",null,null,null,null,null,null,null,null,null,null,null,null,null,null,null,""]
["","",null,"",null,null,null,null,null,null,null,null,null,null,null,null,null,null,null,""]
["","",null,"",null,null,null,null,null,null,null,null,null,null,null,null,null,null,null,""]
["","",null,"",null,null,null,null,null,null,null,null,null,null,null,null,null,null,null,""]
["","",null,"",null,null,null,null,null,null,null,null,null,null,null,null,null,null,null,""]
["","",null,"",null,null,null,null,null,null,null,null,null,null,null,null,null,null,null,""]
["","",null,"",null,null,null,null,null,null,null,null,null,null,null,null,null,null,null,""]
["","",null,"",null,null,null,null,null,null,null,null,null,null,null,null,null,null,null,""]
["","",null,"",null,null,null,null,null,null,null,null,null,null,null,null,null,null,null,""]
["","",null,"",null,null,null,null,null,null,null,null,null,null,null,null,null,null,null,""]
["","",null,"",null,null,null,null,null,null,null,null,null,null,null,null,null,null,null,""]
["","",null,"",null,null,null,null,null,null,null,null,null,null,null,null,null,null,null,""]
["","",null,"",null,null,null,null,null,null,null,null,null,null,null,null,null,null,null,""]
["","",null,"",null,null,null,null,null,null,null,null,null,null,null,null,null,null,null,""]
["","",null,"",null,null,null,null,null,null,null,null,null,null,null,null,null,null,null,""]
["","",null,"",null,null,null,null,null,null,null,null,null,null,null,null,null,null,null,""]
["","",null,"",null,null,null,null,null,null,null,null,null,null,null,null,null,null,null,""]
["","",null,"",null,null,null,null,null,null,null,null,null,null,null,null,null,null,null,""]
["","",null,"",null,null,null,null,null,null,null,null,null,null,null,null,null,null,null,""]
["","",null,"",null,null,null,null,null,null,null,null,null,null,null,null,null,null,null,""]
["","",null,"",null,null,null,null,null,null,null,null,null,null,null,null,null,null,null,""]
["","",null,"",null,null,null,null,null,null,null,null,null,null,null,null,null,null,null,""]
["","",null,"",null,null,null,null,null,null,null,null,null,null,null,null,null,null,null,""]
["","",null,"",null,null,null,null,null,null,null,null,null,null,null,null,null,null,null,""]
["","",null,"",null,null,null,null,null,null,null,null,null,null,null,null,null,null,null,""]
["","",null,"",null,null,null,null,null,null,null,null,null,null,null,null,null,null,null,""]
["","",null,"",null,null,null,null,null,null,null,null,null,null,null,null,null,null,null,""]
["","",null,"",null,null,null,null,null,null,null,null,null,null,null,null,null,null,null,""]
["","",null,"",null,null,null,null,null,null,null,null,null,null,null,null,null,null,null,""]
["","",null,"",null,null,null,null,null,null,null,null,null,null,null,null,null,null,null,""]
["","",null,"",null,null,null,null,null,null,null,null,null,null,null,null,null,null,null,""]
["","",null,"",null,null,null,null,null,null,null,null,null,null,null,null,null,null,null,""]
["","",null,"",null,null,null,null,null,null,null,null,null,null,null,null,null,null,null,""]
["","",null,"",null,null,null,null,null,null,null,null,null,null,null,null,null,null,null,""]
["","",null,"",null,null,null,null,null,null,null,null,null,null,null,null,null,null,null,""]
["","",null,"",null,null,null,null,null,null,null,null,null,null,null,null,null,null,null,""]
["","",null,"",null,null,null,null,null,null,null,null,null,null,null,null,null,null,null,""]
["","",null,"",null,null,null,null,null,null,null,null,null,null,null,null,null,null,null,""]
["","",null,"",null,null,null,null,null,null,null,null,null,null,null,null,null,null,null,""]
["","",null,"",null,null,null,null,null,null,null,null,null,null,null,null,null,null,null,""]
["","",null,"",null,null,null,null,null,null,null,null,null,null,null,null,null,null,null,""]
["","",null,"",null,null,null,null,null,null,null,null,null,null,null,null,null,null,null,""]
["","",null,"",null,null,null,null,null,null,null,null,null,null,null,null,null,null,null,""]
["","",null,"",null,null,null,null,null,null,null,null,null,null,null,null,null,null,null,""]
["","",null,"",null,null,null,null,null,null,null,null,null,null,null,null,null,null,null,""]
["","",null,"",null,null,null,null,null,null,null,null,null,null,null,null,null,null,null,""]
["","",null,"",null,null,null,null,null,null,null,null,null,null,null,null,null,null,null,""]
["","",null,"",null,null,null,null,null,null,null,null,null,null,null,null,null,null,null,""]
["","",null,"",null,null,null,null,null,null,null,null,null,null,null,null,null,null,null,""]
["","",null,"",null,null,null,null,null,null,null,null,null,null,null,null,null,null,null,""]
["","",null,"",null,null,null,null,null,null,null,null,null,null,null,null,null,null,null,""]
["","",null,"",null,null,null,null,null,null,null,null,null,null,null,null,null,null,null,""]
["","",null,"",null,null,null,null,null,null,null,null,null,null,null,null,null,null,null,""]
["","",null,"",null,null,null,null,null,null,null,null,null,null,null,null,null,null,null,""]
["","",null,"",null,null,null,null,null,null,null,null,null,null,null,null,null,null,null,""]
["","",null,"",null,null,null,null,null,null,null,null,null,null,null,null,null,null,null,""]
["","",null,"",null,null,null,null,null,null,null,null,null,null,null,null,null,null,null,""]
["","",null,"",null,null,null,null,null,null,null,null,null,null,null,null,null,null,null,""]
["","",null,"",null,null,null,null,null,null,null,null,null,null,null,null,null,null,null,""]
["","",null,"",null,null,null,null,null,null,null,null,null,null,null,null,null,null,null,""]
["","",null,"",null,null,null,null,null,null,null,null,null,null,null,null,null,null,null,""]
["","",null,"",null,null,null,null,null,null,null,null,null,null,null,null,null,null,null,""]
["","",null,"",null,null,null,null,null,null,null,null,null,null,null,null,null,null,null,""]
["","",null,"",null,null,null,null,null,null,null,null,null,null,null,null,null,null,null,""]
["","",null,"",null,null,null,null,null,null,null,null,null,null,null,null,null,null,null,""]
["","",null,"",null,null,null,null,null,null,null,null,null,null,null,null,null,null,null,""]
["","",null,"",null,null,null,null,null,null,null,null,null,null,null,null,null,null,null,""]
["","",null,"",null,null,null,null,null,null,null,null,null,null,null,null,null,null,null,""]
["","",null,"",null,null,null,null,null,null,null,null,null,null,null,null,null,null,null,""]
["","",null,"",null,null,null,null,null,null,null,null,null,null,null,null,null,null,null,""]
["","",null,"",null,null,null,null,null,null,null,null,null,null,null,null,null,null,null,""]
["","",null,"",null,null,null,null,null,null,null,null,null,null,null,null,null,null,null,""]
["","",null,"",null,null,null,null,null,null,null,null,null,null,null,null,null,null,null,""]
["","",null,"",null,null,null,null,null,null,null,null,null,null,null,null,null,null,null,""]
["","",null,"",null,null,null,null,null,null,null,null,null,null,null,null,null,null,null,""]
["","",null,"",null,null,null,null,null,null,null,null,null,null,null,null,null,null,null,""]
["","",null,"",null,null,null,null,null,null,null,null,null,null,null,null,null,null,null,""]
["","",null,"",null,null,null,null,null,null,null,null,null,null,null,null,null,null,null,""]
["","",null,"",null,null,null,null,null,null,null,null,null,null,null,null,null,null,null,""]
["","",null,"",null,null,null,null,null,null,null,null,null,null,null,null,null,null,null,""]
["","",null,"",null,null,null,null,null,null,null,null,null,null,null,null,null,null,null,""]
["","",null,"",null,null,null,null,null,null,null,null,null,null,null,null,null,null,null,""]
["","",null,"",null,null,null,null,null,null,null,null,null,null,null,null,null,null,null,""]
["","",null,"",null,null,null,null,null,null,null,null,null,null,null,null,null,null,null,""]
["","",null,"",null,null,null,null,null,null,null,null,null,null,null,null,null,null,null,""]
["","",null,"",null,null,null,null,null,null,null,null,null,null,null,null,null,null,null,""]
["","",null,"",null,null,null,null,null,null,null,null,null,null,null,null,null,null,null,""]
["","",null,"",null,null,null,null,null,null,null,null,null,null,null,null,null,null,null,""]
["","",null,"",null,null,null,null,null,null,null,null,null,null,null,null,null,null,null,""]
["","",null,"",null,null,null,null,null,null,null,null,null,null,null,null,null,null,null,""]
["","",null,"",null,null,null,null,null,null,null,null,null,null,null,null,null,null,null,""]
["","",null,"",null,null,null,null,null,null,null,null,null,null,null,null,null,null,null,""]
["","",null,"",null,null,null,null,null,null,null,null,null,null,null,null,null,null,null,""]
["","",null,"",null,null,null,null,null,null,null,null,null,null,null,null,null,null,null,""]
["","",null,"",null,null,null,null,null,null,null,null,null,null,null,null,null,null,null,""]
["","",null,"",null,null,null,null,null,null,null,null,null,null,null,null,null,null,null,""]
["","",null,"",null,null,null,null,null,null,null,null,null,null,null,null,null,null,null,""]
["","",null,"",null,null,null,null,null,null,null,null,null,null,null,null,null,null,null,""]
["","",null,"",null,null,null,null,null,null,null,null,null,null,null,null,null,null,null,""]
["","",null,"",null,null,null,null,null,null,null,null,null,null,null,null,null,null,null,""]
["","",null,"",null,null,null,null,null,null,null,null,null,null,null,null,null,null,null,""]
["","",null,"",null,null,null,null,null,null,null,null,null,null,null,null,null,null,null,""]
["","",null,"",null,null,null,null,null,null,null,null,null,null,null,null,null,null,null,""]
["","",null,"",null,null,null,null,null,null,null,null,null,null,null,null,null,null,null,""]
["","",null,"",null,null,null,null,null,null,null,null,null,null,null,null,null,null,null,""]
["","",null,"",null,null,null,null,null,null,null,null,null,null,null,null,null,null,null,""]
["","",null,"",null,null,null,null,null,null,null,null,null,null,null,null,null,null,null,""]
["","",null,"",null,null,null,null,null,null,null,null,null,null,null,null,null,null,null,""]
["","",null,"",null,null,null,null,null,null,null,null,null,null,null,null,null,null,null,""]
["","",null,"",null,null,null,null,null,null,null,null,null,null,null,null,null,null,null,""]
["","",null,"",null,null,null,null,null,null,null,null,null,null,null,null,null,null,null,""]
["","",null,"",null,null,null,null,null,null,null,null,null,null,null,null,null,null,null,""]
["","",null,"",null,null,null,null,null,null,null,null,null,null,null,null,null,null,null,""]
["","",null,"",null,null,null,null,null,null,null,null,null,null,null,null,null,null,null,""]
["","",null,"",null,null,null,null,null,null,null,null,null,null,null,null,null,null,null,""]
["","",null,"",null,null,null,null,null,null,null,null,null,null,null,null,null,null,null,""]
["","",null,"",null,null,null,null,null,null,null,null,null,null,null,null,null,null,null,""]
["","",null,"",null,null,null,null,null,null,null,null,null,null,null,null,null,null,null,""]
["","",null,"",null,null,null,null,null,null,null,null,null,null,null,null,null,null,null,""]
["","",null,"",null,null,null,null,null,null,null,null,null,null,null,null,null,null,null,""]
["","",null,"",null,null,null,null,null,null,null,null,null,null,null,null,null,null,null,""]
["","",null,"",null,null,null,null,null,null,null,null,null,null,null,null,null,null,null,""]
["","",null,"",null,null,null,null,null,null,null,null,null,null,null,null,null,null,null,""]
["","",null,"",null,null,null,null,null,null,null,null,null,null,null,null,null,null,null,""]
["","",null,"",null,null,null,null,null,null,null,null,null,null,null,null,null,null,null,""]
["","",null,"",null,null,null,null,null,null,null,null,null,null,null,null,null,null,null,""]
["","",null,"",null,null,null,null,null,null,null,null,null,null,null,null,null,null,null,""]
["","",null,"",null,null,null,null,null,null,null,null,null,null,null,null,null,null,null,""]
["","",null,"",null,null,null,null,null,null,null,null,null,null,null,null,null,null,null,""]
["","",null,"",null,null,null,null,null,null,null,null,null,null,null,null,null,null,null,""]
["","",null,"",null,null,null,null,null,null,null,null,null,null,null,null,null,null,null,""]
["","",null,"",null,null,null,null,null,null,null,null,null,null,null,null,null,null,null,""]
["","",null,"",null,null,null,null,null,null,null,null,null,null,null,null,null,null,null,""]
["","",null,"",null,null,null,null,null,null,null,null,null,null,null,null,null,null,null,""]
["","",null,"",null,null,null,null,null,null,null,null,null,null,null,null,null,null,null,""]
["","",null,"",null,null,null,null,null,null,null,null,null,null,null,null,null,null,null,""]
["","",null,"",null,null,null,null,null,null,null,null,null,null,null,null,null,null,null,""]
["","",null,"",null,null,null,null,null,null,null,null,null,null,null,null,null,null,null,""]
["","",null,"",null,null,null,null,null,null,null,null,null,null,null,null,null,null,null,""]
["","",null,"",null,null,null,null,null,null,null,null,null,null,null,null,null,null,null,""]
["","",null,"",null,null,null,null,null,null,null,null,null,null,null,null,null,null,null,""]
["","",null,"",null,null,null,null,null,null,null,null,null,null,null,null,null,null,null,""]
["","",null,"",null,null,null,null,null,null,null,null,null,null,null,null,null,null,null,""]
["","",null,"",null,null,null,null,null,null,null,null,null,null,null,null,null,null,null,""]
["","",null,"",null,null,null,null,null,null,null,null,null,null,null,null,null,null,null,""]
["","",null,"",null,null,null,null,null,null,null,null,null,null,null,null,null,null,null,""]
["","",null,"",null,null,null,null,null,null,null,null,null,null,null,null,null,null,null,""]
["","",null,"",null,null,null,null,null,null,null,null,null,null,null,null,null,null,null,""]
["","",null,"",null,null,null,null,null,null,null,null,null,null,null,null,null,null,null,""]
["","",null,"",null,null,null,null,null,null,null,null,null,null,null,null,null,null,null,""]
["","",null,"",null,null,null,null,null,null,null,null,null,null,null,null,null,null,null,""]
["","",null,"",null,null,null,null,null,null,null,null,null,null,null,null,null,null,null,""]
["","",null,"",null,null,null,null,null,null,null,null,null,null,null,null,null,null,null,""]
["","",null,"",null,null,null,null,null,null,null,null,null,null,null,null,null,null,null,""]
["","",null,"",null,null,null,null,null,null,null,null,null,null,null,null,null,null,null,""]
["","",null,"",null,null,null,null,null,null,null,null,null,null,null,null,null,null,null,""]
["","",null,"",null,null,null,null,null,null,null,null,null,null,null,null,null,null,null,""]
["","",null,"",null,null,null,null,null,null,null,null,null,null,null,null,null,null,null,""]
["","",null,"",null,null,null,null,null,null,null,null,null,null,null,null,null,null,null,""]
["","",null,"",null,null,null,null,null,null,null,null,null,null,null,null,null,null,null,""]
["","",null,"",null,null,null,null,null,null,null,null,null,null,null,null,null,null,null,""]
["","",null,"",null,null,null,null,null,null,null,null,null,null,null,null,null,null,null,""]
["","",null,"",null,null,null,null,null,null,null,null,null,null,null,null,null,null,null,""]
["","",null,"",null,null,null,null,null,null,null,null,null,null,null,null,null,null,null,""]
["","",null,"",null,null,null,null,null,null,null,null,null,null,null,null,null,null,null,""]
["","",null,"",null,null,null,null,null,null,null,null,null,null,null,null,null,null,null,""]
["","",null,"",null,null,null,null,null,null,null,null,null,null,null,null,null,null,null,""]
["","",null,"",null,null,null,null,null,null,null,null,null,null,null,null,null,null,null,""]
["","",null,"",null,null,null,null,null,null,null,null,null,null,null,null,null,null,null,""]
["","",null,"",null,null,null,null,null,null,null,null,null,null,null,null,null,null,null,""]
["","",null,"",null,null,null,null,null,null,null,null,null,null,null,null,null,null,null,""]
["","",null,"",null,null,null,null,null,null,null,null,null,null,null,null,null,null,null,""]
["","",null,"",null,null,null,null,null,null,null,null,null,null,null,null,null,null,null,""]
["","",null,"",null,null,null,null,null,null,null,null,null,null,null,null,null,null,null,""]
["","",null,"",null,null,null,null,null,null,null,null,null,null,null,null,null,null,null,""]
["","",null,"",null,null,null,null,null,null,null,null,null,null,null,null,null,null,null,""]
["","",null,"",null,null,null,null,null,null,null,null,null,null,null,null,null,null,null,""]
["","",null,"",null,null,null,null,null,null,null,null,null,null,null,null,null,null,null,""]
["","",null,"",null,null,null,null,null,null,null,null,null,null,null,null,null,null,null,""]
["","",null,"",null,null,null,null,null,null,null,null,null,null,null,null,null,null,null,""]
["","",null,"",null,null,null,null,null,null,null,null,null,null,null,null,null,null,null,""]
["","",null,"",null,null,null,null,null,null,null,null,null,null,null,null,null,null,null,""]
["","",null,"",null,null,null,null,null,null,null,null,null,null,null,null,null,null,null,""]
["","",null,"",null,null,null,null,null,null,null,null,null,null,null,null,null,null,null,""]
["","",null,"",null,null,null,null,null,null,null,null,null,null,null,null,null,null,null,""]
["","",null,"",null,null,null,null,null,null,null,null,null,null,null,null,null,null,null,""]
["","",null,"",null,null,null,null,null,null,null,null,null,null,null,null,null,null,null,""]
["","",null,"",null,null,null,null,null,null,null,null,null,null,null,null,null,null,null,""]
["","",null,"",null,null,null,null,null,null,null,null,null,null,null,null,null,null,null,""]
["","",null,"",null,null,null,null,null,null,null,null,null,null,null,null,null,null,null,""]
["","",null,"",null,null,null,null,null,null,null,null,null,null,null,null,null,null,null,""]
["","",null,"",null,null,null,null,null,null,null,null,null,null,null,null,null,null,null,""]
["","",null,"",null,null,null,null,null,null,null,null,null,null,null,null,null,null,null,""]
["","",null,"",null,null,null,null,null,null,null,null,null,null,null,null,null,null,null,""]
["","",null,"",null,null,null,null,null,null,null,null,null,null,null,null,null,null,null,""]
["","",null,"",null,null,null,null,null,null,null,null,null,null,null,null,null,null,null,""]
["","",null,"",null,null,null,null,null,null,null,null,null,null,null,null,null,null,null,""]
["","",null,"",null,null,null,null,null,null,null,null,null,null,null,null,null,null,null,""]
["","",null,"",null,null,null,null,null,null,null,null,null,null,null,null,null,null,null,""]
["","",null,"",null,null,null,null,null,null,null,null,null,null,null,null,null,null,null,""]
["","",null,"",null,null,null,null,null,null,null,null,null,null,null,null,null,null,null,""]
["","",null,"",null,null,null,null,null,null,null,null,null,null,null,null,null,null,null,""]
["","",null,"",null,null,null,null,null,null,null,null,null,null,null,null,null,null,null,""]
["","",null,"",null,null,null,null,null,null,null,null,null,null,null,null,null,null,null,""]
["","",null,"",null,null,null,null,null,null,null,null,null,null,null,null,null,null,null,""]
["","",null,"",null,null,null,null,null,null,null,null,null,null,null,null,null,null,null,""]
["","",null,"",null,null,null,null,null,null,null,null,null,null,null,null,null,null,null,""]
["","",null,"",null,null,null,null,null,null,null,null,null,null,null,null,null,null,null,""]
["","",null,"",null,null,null,null,null,null,null,null,null,null,null,null,null,null,null,""]
["","",null,"",null,null,null,null,null,null,null,null,null,null,null,null,null,null,null,""]
["","",null,"",null,null,null,null,null,null,null,null,null,null,null,null,null,null,null,""]
["","",null,"",null,null,null,null,null,null,null,null,null,null,null,null,null,null,null,""]
["","",null,"",null,null,null,null,null,null,null,null,null,null,null,null,null,null,null,""]
["","",null,"",null,null,null,null,null,null,null,null,null,null,null,null,null,null,null,""]
["","",null,"",null,null,null,null,null,null,null,null,null,null,null,null,null,null,null,""]
["","",null,"",null,null,null,null,null,null,null,null,null,null,null,null,null,null,null,""]
["","",null,"",null,null,null,null,null,null,null,null,null,null,null,null,null,null,null,""]
["","",null,"",null,null,null,null,null,null,null,null,null,null,null,null,null,null,null,""]
["","",null,"",null,null,null,null,null,null,null,null,null,null,null,null,null,null,null,""]
["","",null,"",null,null,null,null,null,null,null,null,null,null,null,null,null,null,null,""]
["","",null,"",null,null,null,null,null,null,null,null,null,null,null,null,null,null,null,""]
["","",null,"",null,null,null,null,null,null,null,null,null,null,null,null,null,null,null,""]
["","",null,"",null,null,null,null,null,null,null,null,null,null,null,null,null,null,null,""]
["","",null,"",null,null,null,null,null,null,null,null,null,null,null,null,null,null,null,""]
["","",null,"",null,null,null,null,null,null,null,null,null,null,null,null,null,null,null,""]
["","",null,"",null,null,null,null,null,null,null,null,null,null,null,null,null,null,null,""]
["","",null,"",null,null,null,null,null,null,null,null,null,null,null,null,null,null,null,""]
["","",null,"",null,null,null,null,null,null,null,null,null,null,null,null,null,null,null,""]
["","",null,"",null,null,null,null,null,null,null,null,null,null,null,null,null,null,null,""]
["","",null,"",null,null,null,null,null,null,null,null,null,null,null,null,null,null,null,""]
["","",null,"",null,null,null,null,null,null,null,null,null,null,null,null,null,null,null,""]
["","",null,"",null,null,null,null,null,null,null,null,null,null,null,null,null,null,null,""]
["","",null,"",null,null,null,null,null,null,null,null,null,null,null,null,null,null,null,""]
["","",null,"",null,null,null,null,null,null,null,null,null,null,null,null,null,null,null,""]
["","",null,"",null,null,null,null,null,null,null,null,null,null,null,null,null,null,null,""]
["","",null,"",null,null,null,null,null,null,null,null,null,null,null,null,null,null,null,""]
["","",null,"",null,null,null,null,null,null,null,null,null,null,null,null,null,null,null,""]
["","",null,"",null,null,null,null,null,null,null,null,null,null,null,null,null,null,null,""]
["","",null,"",null,null,null,null,null,null,null,null,null,null,null,null,null,null,null,""]
["","",null,"",null,null,null,null,null,null,null,null,null,null,null,null,null,null,null,""]
["","",null,"",null,null,null,null,null,null,null,null,null,null,null,null,null,null,null,""]
["","",null,"",null,null,null,null,null,null,null,null,null,null,null,null,null,null,null,""]
["","",null,"",null,null,null,null,null,null,null,null,null,null,null,null,null,null,null,""]
["","",null,"",null,null,null,null,null,null,null,null,null,null,null,null,null,null,null,""]
["","",null,"",null,null,null,null,null,null,null,null,null,null,null,null,null,null,null,""]
["","",null,"",null,null,null,null,null,null,null,null,null,null,null,null,null,null,null,""]
["","",null,"",null,null,null,null,null,null,null,null,null,null,null,null,null,null,null,""]
["","",null,"",null,null,null,null,null,null,null,null,null,null,null,null,null,null,null,""]
["","",null,"",null,null,null,null,null,null,null,null,null,null,null,null,null,null,null,""]
["","",null,"",null,null,null,null,null,null,null,null,null,null,null,null,null,null,null,""]
["","",null,"",null,null,null,null,null,null,null,null,null,null,null,null,null,null,null,""]
["","",null,"",null,null,null,null,null,null,null,null,null,null,null,null,null,null,null,""]
["","",null,"",null,null,null,null,null,null,null,null,null,null,null,null,null,null,null,""]
["","",null,"",null,null,null,null,null,null,null,null,null,null,null,null,null,null,null,""]
["","",null,"",null,null,null,null,null,null,null,null,null,null,null,null,null,null,null,""]
["","",null,"",null,null,null,null,null,null,null,null,null,null,null,null,null,null,null,""]
["","",null,"",null,null,null,null,null,null,null,null,null,null,null,null,null,null,null,""]
["","",null,"",null,null,null,null,null,null,null,null,null,null,null,null,null,null,null,""]
["","",null,"",null,null,null,null,null,null,null,null,null,null,null,null,null,null,null,""]
["","",null,"",null,null,null,null,null,null,null,null,null,null,null,null,null,null,null,""]
["","",null,"",null,null,null,null,null,null,null,null,null,null,null,null,null,null,null,""]
["","",null,"",null,null,null,null,null,null,null,null,null,null,null,null,null,null,null,""]
["","",null,"",null,null,null,null,null,null,null,null,null,null,null,null,null,null,null,""]
["","",null,"",null,null,null,null,null,null,null,null,null,null,null,null,null,null,null,""]
["","",null,"",null,null,null,null,null,null,null,null,null,null,null,null,null,null,null,""]
["","",null,"",null,null,null,null,null,null,null,null,null,null,null,null,null,null,null,""]
["","",null,"",null,null,null,null,null,null,null,null,null,null,null,null,null,null,null,""]
["","",null,"",null,null,null,null,null,null,null,null,null,null,null,null,null,null,null,""]
["","",null,"",null,null,null,null,null,null,null,null,null,null,null,null,null,null,null,""]
["","",null,"",null,null,null,null,null,null,null,null,null,null,null,null,null,null,null,""]
["","",null,"",null,null,null,null,null,null,null,null,null,null,null,null,null,null,null,""]
["","",null,"",null,null,null,null,null,null,null,null,null,null,null,null,null,null,null,""]
["","",null,"",null,null,null,null,null,null,null,null,null,null,null,null,null,null,null,""]
["","",null,"",null,null,null,null,null,null,null,null,null,null,null,null,null,null,null,""]
["","",null,"",null,null,null,null,null,null,null,null,null,null,null,null,null,null,null,""]
["","",null,"",null,null,null,null,null,null,null,null,null,null,null,null,null,null,null,""]
["","",null,"",null,null,null,null,null,null,null,null,null,null,null,null,null,null,null,""]
["","",null,"",null,null,null,null,null,null,null,null,null,null,null,null,null,null,null,""]
["","",null,"",null,null,null,null,null,null,null,null,null,null,null,null,null,null,null,""]
["","",null,"",null,null,null,null,null,null,null,null,null,null,null,null,null,null,null,""]
["","",null,"",null,null,null,null,null,null,null,null,null,null,null,null,null,null,null,""]
["","",null,"",null,null,null,null,null,null,null,null,null,null,null,null,null,null,null,""]
["","",null,"",null,null,null,null,null,null,null,null,null,null,null,null,null,null,null,""]
["","",null,"",null,null,null,null,null,null,null,null,null,null,null,null,null,null,null,""]
["","",null,"",null,null,null,null,null,null,null,null,null,null,null,null,null,null,null,""]
["","",null,"",null,null,null,null,null,null,null,null,null,null,null,null,null,null,null,""]
["","",null,"",null,null,null,null,null,null,null,null,null,null,null,null,null,null,null,""]
["","",null,"",null,null,null,null,null,null,null,null,null,null,null,null,null,null,null,""]
["","",null,"",null,null,null,null,null,null,null,null,null,null,null,null,null,null,null,""]
["","",null,"",null,null,null,null,null,null,null,null,null,null,null,null,null,null,null,""]
["","",null,"",null,null,null,null,null,null,null,null,null,null,null,null,null,null,null,""]
["","",null,"",null,null,null,null,null,null,null,null,null,null,null,null,null,null,null,""]
["","",null,"",null,null,null,null,null,null,null,null,null,null,null,null,null,null,null,""]
["","",null,"",null,null,null,null,null,null,null,null,null,null,null,null,null,null,null,""]
["","",null,"",null,null,null,null,null,null,null,null,null,null,null,null,null,null,null,""]
["","",null,"",null,null,null,null,null,null,null,null,null,null,null,null,null,null,null,""]
["","",null,"",null,null,null,null,null,null,null,null,null,null,null,null,null,null,null,""]
["","",null,"",null,null,null,null,null,null,null,null,null,null,null,null,null,null,null,""]
["","",null,"",null,null,null,null,null,null,null,null,null,null,null,null,null,null,null,""]
["","",null,"",null,null,null,null,null,null,null,null,null,null,null,null,null,null,null,""]
["","",null,"",null,null,null,null,null,null,null,null,null,null,null,null,null,null,null,""]
["","",null,"",null,null,null,null,null,null,null,null,null,null,null,null,null,null,null,""]
["","",null,"",null,null,null,null,null,null,null,null,null,null,null,null,null,null,null,""]
["","",null,"",null,null,null,null,null,null,null,null,null,null,null,null,null,null,null,""]
["","",null,"",null,null,null,null,null,null,null,null,null,null,null,null,null,null,null,""]
["","",null,"",null,null,null,null,null,null,null,null,null,null,null,null,null,null,null,""]
["","",null,"",null,null,null,null,null,null,null,null,null,null,null,null,null,null,null,""]
["","",null,"",null,null,null,null,null,null,null,null,null,null,null,null,null,null,null,""]
["","",null,"",null,null,null,null,null,null,null,null,null,null,null,null,null,null,null,""]
["","",null,"",null,null,null,null,null,null,null,null,null,null,null,null,null,null,null,""]
["","",null,"",null,null,null,null,null,null,null,null,null,null,null,null,null,null,null,""]
["","",null,"",null,null,null,null,null,null,null,null,null,null,null,null,null,null,null,""]
["","",null,"",null,null,null,null,null,null,null,null,null,null,null,null,null,null,null,""]
["","",null,"",null,null,null,null,null,null,null,null,null,null,null,null,null,null,null,""]
["","",null,"",null,null,null,null,null,null,null,null,null,null,null,null,null,null,null,""]
["","",null,"",null,null,null,null,null,null,null,null,null,null,null,null,null,null,null,""]
["","",null,"",null,null,null,null,null,null,null,null,null,null,null,null,null,null,null,""]
["","",null,"",null,null,null,null,null,null,null,null,null,null,null,null,null,null,null,""]
["","",null,"",null,null,null,null,null,null,null,null,null,null,null,null,null,null,null,""]
["","",null,"",null,null,null,null,null,null,null,null,null,null,null,null,null,null,null,""]
["","",null,"",null,null,null,null,null,null,null,null,null,null,null,null,null,null,null,""]
["","",null,"",null,null,null,null,null,null,null,null,null,null,null,null,null,null,null,""]
["","",null,"",null,null,null,null,null,null,null,null,null,null,null,null,null,null,null,""]
["","",null,"",null,null,null,null,null,null,null,null,null,null,null,null,null,null,null,""]
["","",null,"",null,null,null,null,null,null,null,null,null,null,null,null,null,null,null,""]
["","",null,"",null,null,null,null,null,null,null,null,null,null,null,null,null,null,null,""]
["","",null,"",null,null,null,null,null,null,null,null,null,null,null,null,null,null,null,""]
["","",null,"",null,null,null,null,null,null,null,null,null,null,null,null,null,null,null,""]
["","",null,"",null,null,null,null,null,null,null,null,null,null,null,null,null,null,null,""]
["","",null,"",null,null,null,null,null,null,null,null,null,null,null,null,null,null,null,""]
["","",null,"",null,null,null,null,null,null,null,null,null,null,null,null,null,null,null,""]
["","",null,"",null,null,null,null,null,null,null,null,null,null,null,null,null,null,null,""]
["","",null,"",null,null,null,null,null,null,null,null,null,null,null,null,null,null,null,""]
["","",null,"",null,null,null,null,null,null,null,null,null,null,null,null,null,null,null,""]
["","",null,"",null,null,null,null,null,null,null,null,null,null,null,null,null,null,null,""]
["","",null,"",null,null,null,null,null,null,null,null,null,null,null,null,null,null,null,""]
["","",null,"",null,null,null,null,null,null,null,null,null,null,null,null,null,null,null,""]
["","",null,"",null,null,null,null,null,null,null,null,null,null,null,null,null,null,null,""]
["","",null,"",null,null,null,null,null,null,null,null,null,null,null,null,null,null,null,""]
["","",null,"",null,null,null,null,null,null,null,null,null,null,null,null,null,null,null,""]
["","",null,"",null,null,null,null,null,null,null,null,null,null,null,null,null,null,null,""]
["","",null,"",null,null,null,null,null,null,null,null,null,null,null,null,null,null,null,""]
["","",null,"",null,null,null,null,null,null,null,null,null,null,null,null,null,null,null,""]
["","",null,"",null,null,null,null,null,null,null,null,null,null,null,null,null,null,null,""]
["","",null,"",null,null,null,null,null,null,null,null,null,null,null,null,null,null,null,""]
["","",null,"",null,null,null,null,null,null,null,null,null,null,null,null,null,null,null,""]
["","",null,"",null,null,null,null,null,null,null,null,null,null,null,null,null,null,null,""]
["","",null,"",null,null,null,null,null,null,null,null,null,null,null,null,null,null,null,""]
["","",null,"",null,null,null,null,null,null,null,null,null,null,null,null,null,null,null,""]
["","",null,"",null,null,null,null,null,null,null,null,null,null,null,null,null,null,null,""]
["","",null,"",null,null,null,null,null,null,null,null,null,null,null,null,null,null,null,""]
["","",null,"",null,null,null,null,null,null,null,null,null,null,null,null,null,null,null,""]
["","",null,"",null,null,null,null,null,null,null,null,null,null,null,null,null,null,null,""]
["","",null,"",null,null,null,null,null,null,null,null,null,null,null,null,null,null,null,""]
["","",null,"",null,null,null,null,null,null,null,null,null,null,null,null,null,null,null,""]
["","",null,"",null,null,null,null,null,null,null,null,null,null,null,null,null,null,null,""]
["","",null,"",null,null,null,null,null,null,null,null,null,null,null,null,null,null,null,""]
["","",null,"",null,null,null,null,null,null,null,null,null,null,null,null,null,null,null,""]
["","",null,"",null,null,null,null,null,null,null,null,null,null,null,null,null,null,null,""]
["","",null,"",null,null,null,null,null,null,null,null,null,null,null,null,null,null,null,""]
["","",null,"",null,null,null,null,null,null,null,null,null,null,null,null,null,null,null,""]
["","",null,"",null,null,null,null,null,null,null,null,null,null,null,null,null,null,null,""]
["","",null,"",null,null,null,null,null,null,null,null,null,null,null,null,null,null,null,""]
["","",null,"",null,null,null,null,null,null,null,null,null,null,null,null,null,null,null,""]
["","",null,"",null,null,null,null,null,null,null,null,null,null,null,null,null,null,null,""]
["","",null,"",null,null,null,null,null,null,null,null,null,null,null,null,null,null,null,""]
["","",null,"",null,null,null,null,null,null,null,null,null,null,null,null,null,null,null,""]
["","",null,"",null,null,null,null,null,null,null,null,null,null,null,null,null,null,null,""]
["","",null,"",null,null,null,null,null,null,null,null,null,null,null,null,null,null,null,""]
["","",null,"",null,null,null,null,null,null,null,null,null,null,null,null,null,null,null,""]
["","",null,"",null,null,null,null,null,null,null,null,null,null,null,null,null,null,null,""]
["","",null,"",null,null,null,null,null,null,null,null,null,null,null,null,null,null,null,""]
["","",null,"",null,null,null,null,null,null,null,null,null,null,null,null,null,null,null,""]
["","",null,"",null,null,null,null,null,null,null,null,null,null,null,null,null,null,null,""]
["","",null,"",null,null,null,null,null,null,null,null,null,null,null,null,null,null,null,""]
["","",null,"",null,null,null,null,null,null,null,null,null,null,null,null,null,null,null,""]
["","",null,"",null,null,null,null,null,null,null,null,null,null,null,null,null,null,null,""]
["","",null,"",null,null,null,null,null,null,null,null,null,null,null,null,null,null,null,""]
["","",null,"",null,null,null,null,null,null,null,null,null,null,null,null,null,null,null,""]
["","",null,"",null,null,null,null,null,null,null,null,null,null,null,null,null,null,null,""]
["","",null,"",null,null,null,null,null,null,null,null,null,null,null,null,null,null,null,""]
["","",null,"",null,null,null,null,null,null,null,null,null,null,null,null,null,null,null,""]
["","",null,"",null,null,null,null,null,null,null,null,null,null,null,null,null,null,null,""]
["","",null,"",null,null,null,null,null,null,null,null,null,null,null,null,null,null,null,""]
["","",null,"",null,null,null,null,null,null,null,null,null,null,null,null,null,null,null,""]
["","",null,"",null,null,null,null,null,null,null,null,null,null,null,null,null,null,null,""]
["","",null,"",null,null,null,null,null,null,null,null,null,null,null,null,null,null,null,""]
["","",null,"",null,null,null,null,null,null,null,null,null,null,null,null,null,null,null,""]
["","",null,"",null,null,null,null,null,null,null,null,null,null,null,null,null,null,null,""]
["","",null,"",null,null,null,null,null,null,null,null,null,null,null,null,null,null,null,""]
["","",null,"",null,null,null,null,null,null,null,null,null,null,null,null,null,null,null,""]
["","",null,"",null,null,null,null,null,null,null,null,null,null,null,null,null,null,null,""]
["","",null,"",null,null,null,null,null,null,null,null,null,null,null,null,null,null,null,""]
["","",null,"",null,null,null,null,null,null,null,null,null,null,null,null,null,null,null,""]
["","",null,"",null,null,null,null,null,null,null,null,null,null,null,null,null,null,null,""]
["","",null,"",null,null,null,null,null,null,null,null,null,null,null,null,null,null,null,""]
["","",null,"",null,null,null,null,null,null,null,null,null,null,null,null,null,null,null,""]
["","",null,"",null,null,null,null,null,null,null,null,null,null,null,null,null,null,null,""]
["","",null,"",null,null,null,null,null,null,null,null,null,null,null,null,null,null,null,""]
["","",null,"",null,null,null,null,null,null,null,null,null,null,null,null,null,null,null,""]
["","",null,"",null,null,null,null,null,null,null,null,null,null,null,null,null,null,null,""]
["","",null,"",null,null,null,null,null,null,null,null,null,null,null,null,null,null,null,""]
["","",null,"",null,null,null,null,null,null,null,null,null,null,null,null,null,null,null,""]
["","",null,"",null,null,null,null,null,null,null,null,null,null,null,null,null,null,null,""]
["","",null,"",null,null,null,null,null,null,null,null,null,null,null,null,null,null,null,""]
["","",null,"",null,null,null,null,null,null,null,null,null,null,null,null,null,null,null,""]
["","",null,"",null,null,null,null,null,null,null,null,null,null,null,null,null,null,null,""]
["","",null,"",null,null,null,null,null,null,null,null,null,null,null,null,null,null,null,""]
["","",null,"",null,null,null,null,null,null,null,null,null,null,null,null,null,null,null,""]
["","",null,"",null,null,null,null,null,null,null,null,null,null,null,null,null,null,null,""]
["","",null,"",null,null,null,null,null,null,null,null,null,null,null,null,null,null,null,""]
["","",null,"",null,null,null,null,null,null,null,null,null,null,null,null,null,null,null,""]
["","",null,"",null,null,null,null,null,null,null,null,null,null,null,null,null,null,null,""]
["","",null,"",null,null,null,null,null,null,null,null,null,null,null,null,null,null,null,""]
["","",null,"",null,null,null,null,null,null,null,null,null,null,null,null,null,null,null,""]
["","",null,"",null,null,null,null,null,null,null,null,null,null,null,null,null,null,null,""]
["","",null,"",null,null,null,null,null,null,null,null,null,null,null,null,null,null,null,""]
["","",null,"",null,null,null,null,null,null,null,null,null,null,null,null,null,null,null,""]
["","",null,"",null,null,null,null,null,null,null,null,null,null,null,null,null,null,null,""]
["","",null,"",null,null,null,null,null,null,null,null,null,null,null,null,null,null,null,""]
["","",null,"",null,null,null,null,null,null,null,null,null,null,null,null,null,null,null,""]
["","",null,"",null,null,null,null,null,null,null,null,null,null,null,null,null,null,null,""]
["","",null,"",null,null,null,null,null,null,null,null,null,null,null,null,null,null,null,""]
["","",null,"",null,null,null,null,null,null,null,null,null,null,null,null,null,null,null,""]
["","",null,"",null,null,null,null,null,null,null,null,null,null,null,null,null,null,null,""]
["","",null,"",null,null,null,null,null,null,null,null,null,null,null,null,null,null,null,""]
["","",null,"",null,null,null,null,null,null,null,null,null,null,null,null,null,null,null,""]
["","",null,"",null,null,null,null,null,null,null,null,null,null,null,null,null,null,null,""]
["","",null,"",null,null,null,null,null,null,null,null,null,null,null,null,null,null,null,""]
["","",null,"",null,null,null,null,null,null,null,null,null,null,null,null,null,null,null,""]
["","",null,"",null,null,null,null,null,null,null,null,null,null,null,null,null,null,null,""]
["","",null,"",null,null,null,null,null,null,null,null,null,null,null,null,null,null,null,""]
["","",null,"",null,null,null,null,null,null,null,null,null,null,null,null,null,null,null,""]
["","",null,"",null,null,null,null,null,null,null,null,null,null,null,null,null,null,null,""]
["","",null,"",null,null,null,null,null,null,null,null,null,null,null,null,null,null,null,""]
["","",null,"",null,null,null,null,null,null,null,null,null,null,null,null,null,null,null,""]
["","",null,"",null,null,null,null,null,null,null,null,null,null,null,null,null,null,null,""]
["","",null,"",null,null,null,null,null,null,null,null,null,null,null,null,null,null,null,""]
["","",null,"",null,null,null,null,null,null,null,null,null,null,null,null,null,null,null,""]

{"sheet":"2.Забезпечення","index":1,"n_rows":1085,"n_cols":6,"rows_kept":1085,"cut":false,"hidden":false,"merged":[]}
[]
[]
[]
[]
[]
[]
["Кількість застави","(га, м2, шт., тощо)","Населений пункт (місто/село/смт.)","Сума/вартість за договором (грн.екв.)","Реєстрація у держ. Реєстрі (обтяження)\n(так/ні)","Ознака банкрутства/ліквідації заставодавця/фінансового поручителя(відповідно ЄДР на дату заповнення паспорту)"]
[null,"",""]
[null,"",""]
[null,"",""]
[null,"",""]
[null,"",""]
[null,"",""]
[null,"",""]
[null,"",""]
[null,"",""]
[null,"",""]
[null,"",""]
[null,"",""]
[null,"",""]
[null,"",""]
[null,"",""]
[null,"",""]
[null,"",""]
[null,"",""]
[null,"",""]
[null,"",""]
[null,"",""]
[null,"",""]
[null,"",""]
[null,"",""]
[null,"",""]
[null,"",""]
[null,"",""]
[null,"",""]
[null,"",""]
[null,"",""]
[null,"",""]
[null,"",""]
[null,"",""]
[null,"",""]
[null,"",""]
[null,"",""]
[null,"",""]
[null,"",""]
[null,"",""]
[null,"",""]
[null,"",""]
[null,"",""]
[null,"",""]
[null,"",""]
[null,"",""]
[null,"",""]
[null,"",""]
[null,"",""]
[null,"",""]
[null,"",""]
[null,"",""]
[null,"",""]
[null,"",""]
[null,"",""]
[null,"",""]
[null,"",""]
[null,"",""]
[null,"",""]
[null,"",""]
[null,"",""]
[null,"",""]
[null,"",""]
[null,"",""]
[null,"",""]
[null,"",""]
[null,"",""]
[null,"",""]
[null,"",""]
[null,"",""]
[null,"",""]
[null,"",""]
[null,"",""]
[null,"",""]
[null,"",""]
[null,"",""]
[null,"",""]
[null,"",""]
[null,"",""]
[null,"",""]
[null,"",""]
[null,"",""]
[null,"",""]
[null,"",""]
[null,"",""]
[null,"",""]
[null,"",""]
[null,"",""]
[null,"",""]
[null,"",""]
[null,"",""]
[null,"",""]
[null,"",""]
[null,"",""]
[null,"",""]
[null,"",""]
[null,"",""]
[null,"",""]
[null,"",""]
[null,"",""]
[null,"",""]
[null,"",""]
[null,"",""]
[null,"",""]
[null,"",""]
[null,"",""]
[null,"",""]
[null,"",""]
[null,"",""]
[null,"",""]
[null,"",""]
[null,"",""]
[null,"",""]
[null,"",""]
[null,"",""]
[null,"",""]
[null,"",""]
[null,"",""]
[null,"",""]
[null,"",""]
[null,"",""]
[null,"",""]
[null,"",""]
[null,"",""]
[null,"",""]
[null,"",""]
[null,"",""]
[null,"",""]
[null,"",""]
[null,"",""]
[null,"",""]
[null,"",""]
[null,"",""]
[null,"",""]
[null,"",""]
[null,"",""]
[null,"",""]
[null,"",""]
[null,"",""]
[null,"",""]
[null,"",""]
[null,"",""]
[null,"",""]
[null,"",""]
[null,"",""]
[null,"",""]
[null,"",""]
[null,"",""]
[null,"",""]
[null,"",""]
[null,"",""]
[null,"",""]
[null,"",""]
[null,"",""]
[null,"",""]
[null,"",""]
[null,"",""]
[null,"",""]
[null,"",""]
[null,"",""]
[null,"",""]
[null,"",""]
[null,"",""]
[null,"",""]
[null,"",""]
[null,"",""]
[null,"",""]
[null,"",""]
[null,"",""]
[null,"",""]
[null,"",""]
[null,"",""]
[null,"",""]
[null,"",""]
[null,"",""]
[null,"",""]
[null,"",""]
[null,"",""]
[null,"",""]
[null,"",""]
[null,"",""]
[null,"",""]
[null,"",""]
[null,"",""]
[null,"",""]
[null,"",""]
[null,"",""]
[null,"",""]
[null,"",""]
[null,"",""]
[null,"",""]
[null,"",""]
[null,"",""]
[null,"",""]
[null,"",""]
[null,"",""]
[null,"",""]
[null,"",""]
[null,"",""]
[null,"",""]
[null,"",""]
[null,"",""]
[null,"",""]
[null,"",""]
[null,"",""]
[null,"",""]
[null,"",""]
[null,"",""]
[null,"",""]
[null,"",""]
[null,"",""]
[null,"",""]
[null,"",""]
[null,"",""]
[null,"",""]
[null,"",""]
[null,"",""]
[null,"",""]
[null,"",""]
[null,"",""]
[null,"",""]
[null,"",""]
[null,"",""]
[null,"",""]
[null,"",""]
[null,"",""]
[null,"",""]
[null,"",""]
[null,"",""]
[null,"",""]
[null,"",""]
[null,"",""]
[null,"",""]
[null,"",""]
[null,"",""]
[null,"",""]
[null,"",""]
[null,"",""]
[null,"",""]
[null,"",""]
[null,"",""]
[null,"",""]
[null,"",""]
[null,"",""]
[null,"",""]
[null,"",""]
[null,"",""]
[null,"",""]
[null,"",""]
[null,"",""]
[null,"",""]
[null,"",""]
[null,"",""]
[null,"",""]
[null,"",""]
[null,"",""]
[null,"",""]
[null,"",""]
[null,"",""]
[null,"",""]
[null,"",""]
[null,"",""]
[null,"",""]
[null,"",""]
[null,"",""]
[null,"",""]
[null,"",""]
[null,"",""]
[null,"",""]
[null,"",""]
[null,"",""]
[null,"",""]
[null,"",""]
[null,"",""]
[null,"",""]
[null,"",""]
[null,"",""]
[null,"",""]
[null,"",""]
[null,"",""]
[null,"",""]
[null,"",""]
[null,"",""]
[null,"",""]
[null,"",""]
[null,"",""]
[null,"",""]
[null,"",""]
[null,"",""]
[null,"",""]
[null,"",""]
[null,"",""]
[null,"",""]
[null,"",""]
[null,"",""]
[null,"",""]
[null,"",""]
[null,"",""]
[null,"",""]
[null,"",""]
[null,"",""]
[null,"",""]
[null,"",""]
[null,"",""]
[null,"",""]
[null,"",""]
[null,"",""]
[null,"",""]
[null,"",""]
[null,"",""]
[null,"",""]
[null,"",""]
[null,"",""]
[null,"",""]
[null,"",""]
[null,"",""]
[null,"",""]
[null,"",""]
[null,"",""]
[null,"",""]
[null,"",""]
[null,"",""]
[null,"",""]
[null,"",""]
[null,"",""]
[null,"",""]
[null,"",""]
[null,"",""]
[null,"",""]
[null,"",""]
[null,"",""]
[null,"",""]
[null,"",""]
[null,"",""]
[null,"",""]
[null,"",""]
[null,"",""]
[null,"",""]
[null,"",""]
[null,"",""]
[null,"",""]
[null,"",""]
[null,"",""]
[null,"",""]
[null,"",""]
[null,"",""]
[null,"",""]
[null,"",""]
[null,"",""]
[null,"",""]
[null,"",""]
[null,"",""]
[null,"",""]
[null,"",""]
[null,"",""]
[null,"",""]
[null,"",""]
[null,"",""]
[null,"",""]
[null,"",""]
[null,"",""]
[null,"",""]
[null,"",""]
[null,"",""]
[null,"",""]
[null,"",""]
[null,"",""]
[null,"",""]
[null,"",""]
[null,"",""]
[null,"",""]
[null,"",""]
[null,"",""]
[null,"",""]
[null,"",""]
[null,"",""]
[null,"",""]
[null,"",""]
[null,"",""]
[null,"",""]
[null,"",""]
[null,"",""]
[null,"",""]
[null,"",""]
[null,"",""]
[null,"",""]
[null,"",""]
[null,"",""]
[null,"",""]
[null,"",""]
[null,"",""]
[null,"",""]
[null,"",""]
[null,"",""]
[null,"",""]
[null,"",""]
[null,"",""]
[null,"",""]
[null,"",""]
[null,"",""]
[null,"",""]
[null,"",""]
[null,"",""]
[null,"",""]
[null,"",""]
[null,"",""]
[null,"",""]
[null,"",""]
[null,"",""]
[null,"",""]
[null,"",""]
[null,"",""]
[null,"",""]
[null,"",""]
[null,"",""]
[null,"",""]
[null,"",""]
[null,"",""]
[null,"",""]
[null,"",""]
[null,"",""]
[null,"",""]
[null,"",""]
[null,"",""]
[null,"",""]
[null,"",""]
[null,"",""]
[null,"",""]
[null,"",""]
[null,"",""]
[null,"",""]
[null,"",""]
[null,"",""]
[null,"",""]
[null,"",""]
[null,"",""]
[null,"",""]
[null,"",""]
[null,"",""]
[null,"",""]
[null,"",""]
[null,"",""]
[null,"",""]
[null,"",""]
[null,"",""]
[null,"",""]
[null,"",""]
[null,"",""]
[null,"",""]
[null,"",""]
[null,"",""]
[null,"",""]
[null,"",""]
[null,"",""]
[null,"",""]
[null,"",""]
[null,"",""]
[null,"",""]
[null,"",""]
[null,"",""]
[null,"",""]
[null,"",""]
[null,"",""]
[null,"",""]
[null,"",""]
[null,"",""]
[null,"",""]
[null,"",""]
[null,"",""]
[null,"",""]
[null,"",""]
[null,"",""]
[null,"",""]
[null,"",""]
[null,"",""]
[null,"",""]
[null,"",""]
[null,"",""]
[null,"",""]
[null,"",""]
[null,"",""]
[null,"",""]
[null,"",""]
[null,"",""]
[null,"",""]
[null,"",""]
[null,"",""]
[null,"",""]
[null,"",""]
[null,"",""]
[null,"",""]
[null,"",""]
[null,"",""]
[null,"",""]
[null,"",""]
[null,"",""]
[null,"",""]
[null,"",""]
[null,"",""]
[null,"",""]
[null,"",""]
[null,"",""]
[null,"",""]
[null,"",""]
[null,"",""]
[null,"",""]
[null,"",""]
[null,"",""]
[null,"",""]
[null,"",""]
[null,"",""]
[null,"",""]
[null,"",""]
[null,"",""]
[null,"",""]
[null,"",""]
[null,"",""]
[null,"",""]
[null,"",""]
[null,"",""]
[null,"",""]
[null,"",""]
[null,"",""]
[null,"",""]
[null,"",""]
[null,"",""]
[null,"",""]
[null,"",""]
[null,"",""]
[null,"",""]
[null,"",""]
[null,"",""]
[null,"",""]
[null,"",""]
[null,"",""]
[null,"",""]
[null,"",""]
[null,"",""]
[null,"",""]
[null,"",""]
[null,"",""]
[null,"",""]
[null,"",""]
[null,"",""]
[null,"",""]
[null,"",""]
[null,"",""]
[null,"",""]
[null,"",""]
[null,"",""]
[null,"",""]
[null,"",""]
[null,"",""]
[null,"",""]
[null,"",""]
[null,"",""]
[null,"",""]
[null,"",""]
[null,"",""]
[null,"",""]
[null,"",""]
[null,"",""]
[null,"",""]
[null,"",""]
[null,"",""]
[null,"",""]
[null,"",""]
[null,"",""]
[null,"",""]
[null,"",""]
[null,"",""]
[null,"",""]
[null,"",""]
[null,"",""]
[null,"",""]
[null,"",""]
[null,"",""]
[null,"",""]
[null,"",""]
[null,"",""]
[null,"",""]
[null,"",""]
[null,"",""]
[null,"",""]
[null,"",""]
[null,"",""]
[null,"",""]
[null,"",""]
[null,"",""]
[null,"",""]
[null,"",""]
[null,"",""]
[null,"",""]
[null,"",""]
[null,"",""]
[null,"",""]
[null,"",""]
[null,"",""]
[null,"",""]
[null,"",""]
[null,"",""]
[null,"",""]
[null,"",""]
[null,"",""]
[null,"",""]
[null,"",""]
[null,"",""]
[null,"",""]
[null,"",""]
[null,"",""]
[null,"",""]
[null,"",""]
[null,"",""]
[null,"",""]
[null,"",""]
[null,"",""]
[null,"",""]
[null,"",""]
[null,"",""]
[null,"",""]
[null,"",""]
[null,"",""]
[null,"",""]
[null,"",""]
[null,"",""]
[null,"",""]
[null,"",""]
[null,"",""]
[null,"",""]
[null,"",""]
[null,"",""]
[null,"",""]
[null,"",""]
[null,"",""]
[null,"",""]
[null,"",""]
[null,"",""]
[null,"",""]
[null,"",""]
[null,"",""]
[null,"",""]
[null,"",""]
[null,"",""]
[null,"",""]
[null,"",""]
[null,"",""]
[null,"",""]
[null,"",""]
[null,"",""]
[null,"",""]
[null,"",""]
[null,"",""]
[null,"",""]
[null,"",""]
[null,"",""]
[null,"",""]
[null,"",""]
[null,"",""]
[null,"",""]
[null,"",""]
[null,"",""]
[null,"",""]
[null,"",""]
[null,"",""]
[null,"",""]
[null,"",""]
[null,"",""]
[null,"",""]
[null,"",""]
[null,"",""]
[null,"",""]
[null,"",""]
[null,"",""]
[null,"",""]
[null,"",""]
[null,"",""]
[null,"",""]
[null,"",""]
[null,"",""]
[null,"",""]
[null,"",""]
[null,"",""]
[null,"",""]
[null,"",""]
[null,"",""]
[null,"",""]
[null,"",""]
[null,"",""]
[null,"",""]
[null,"",""]
[null,"",""]
[null,"",""]
[null,"",""]
[null,"",""]
[null,"",""]
[null,"",""]
[null,"",""]
[null,"",""]
[null,"",""]
[null,"",""]
[null,"",""]
[null,"",""]
[null,"",""]
[null,"",""]
[null,"",""]
[null,"",""]
[null,"",""]
[null,"",""]
[null,"",""]
[null,"",""]
[null,"",""]
[null,"",""]
[null,"",""]
[null,"",""]
[null,"",""]
[null,"",""]
[null,"",""]
[null,"",""]
[null,"",""]
[null,"",""]
[null,"",""]
[null,"",""]
[null,"",""]
[null,"",""]
[null,"",""]
[null,"",""]
[null,"",""]
[null,"",""]
[null,"",""]
[null,"",""]
[null,"",""]
[null,"",""]
[null,"",""]
[null,"",""]
[null,"",""]
[null,"",""]
[null,"",""]
[null,"",""]
[null,"",""]
[null,"",""]
[null,"",""]
[null,"",""]
[null,"",""]
[null,"",""]
[null,"",""]
[null,"",""]
[null,"",""]
[null,"",""]
[null,"",""]
[null,"",""]
[null,"",""]
[null,"",""]
[null,"",""]
[null,"",""]
[null,"",""]
[null,"",""]
[null,"",""]
[null,"",""]
[null,"",""]
[null,"",""]
[null,"",""]
[null,"",""]
[null,"",""]
[null,"",""]
[null,"",""]
[null,"",""]
[null,"",""]
[null,"",""]
[null,"",""]
[null,"",""]
[null,"",""]
[null,"",""]
[null,"",""]
[null,"",""]
[null,"",""]
[null,"",""]
[null,"",""]
[null,"",""]
[null,"",""]
[null,"",""]
[null,"",""]
[null,"",""]
[null,"",""]
[null,"",""]
[null,"",""]
[null,"",""]
[null,"",""]
[null,"",""]
[null,"",""]
[null,"",""]
[null,"",""]
[null,"",""]
[null,"",""]
[null,"",""]
[null,"",""]
[null,"",""]
[null,"",""]
[null,"",""]
[null,"",""]
[null,"",""]
[null,"",""]
[null,"",""]
[null,"",""]
[null,"",""]
[null,"",""]
[null,"",""]
[null,"",""]
[null,"",""]
[null,"",""]
[null,"",""]
[null,"",""]
[null,"",""]
[null,"",""]
[null,"",""]
[null,"",""]
[null,"",""]
[null,"",""]
[null,"",""]
[null,"",""]
[null,"",""]
[null,"",""]
[null,"",""]
[null,"",""]
[null,"",""]
[null,"",""]
[null,"",""]
[null,"",""]
[null,"",""]
[null,"",""]
[null,"",""]
[null,"",""]
[null,"",""]
[null,"",""]
[null,"",""]
[null,"",""]
[null,"",""]
[null,"",""]
[null,"",""]
[null,"",""]
[null,"",""]
[null,"",""]
[null,"",""]
[null,"",""]
[null,"",""]
[null,"",""]
[null,"",""]
[null,"",""]
[null,"",""]
[null,"",""]
[null,"",""]
[null,"",""]
[null,"",""]
[null,"",""]
[null,"",""]
[null,"",""]
[null,"",""]
[null,"",""]
[null,"",""]
[null,"",""]
[null,"",""]
[null,"",""]
[null,"",""]
[null,"",""]
[null,"",""]
[null,"",""]
[null,"",""]
[null,"",""]
[null,"",""]
[null,"",""]
[null,"",""]
[null,"",""]
[null,"",""]
[null,"",""]
[null,"",""]
[null,"",""]
[null,"",""]
[null,"",""]
[null,"",""]
[null,"",""]
[null,"",""]
[null,"",""]
[null,"",""]
[null,"",""]
[null,"",""]
[null,"",""]
[null,"",""]
[null,"",""]
[null,"",""]
[null,"",""]
[null,"",""]
[null,"",""]
[null,"",""]
[null,"",""]
[null,"",""]
[null,"",""]
[null,"",""]
[null,"",""]
[null,"",""]
[null,"",""]
[null,"",""]
[null,"",""]
[null,"",""]
[null,"",""]
[null,"",""]
[null,"",""]
[null,"",""]
[null,"",""]
[null,"",""]
[null,"",""]
[null,"",""]
[null,"",""]
[null,"",""]
[null,"",""]
[null,"",""]
[null,"",""]
[null,"",""]
[null,"",""]
[null,"",""]
[null,"",""]
[null,"",""]
[null,"",""]
[null,"",""]
[null,"",""]
[null,"",""]
[null,"",""]
[null,"",""]
[null,"",""]
[null,"",""]
[null,"",""]
[null,"",""]
[null,"",""]
[null,"",""]
[null,"",""]
[null,"",""]
[null,"",""]
[null,"",""]
[null,"",""]
[null,"",""]
[null,"",""]
[null,"",""]
[null,"",""]
[null,"",""]
[null,"",""]
[null,"",""]
[null,"",""]
[null,"",""]
[null,"",""]
[null,"",""]
[null,"",""]
[null,"",""]
[null,"",""]
[null,"",""]
[null,"",""]
[null,"",""]
[null,"",""]
[null,"",""]
[null,"",""]
[null,"",""]
[null,"",""]
[null,"",""]
[null,"",""]
[null,"",""]
[null,"",""]
[null,"",""]
[null,"",""]
[null,"",""]
[null,"",""]
[null,"",""]
[null,"",""]
[null,"",""]
[null,"",""]
[null,"",""]
[null,"",""]
[null,"",""]
[null,"",""]
[null,"",""]
[null,"",""]
[null,"",""]
[null,"",""]
[null,"",""]
[null,"",""]
[null,"",""]
[null,"",""]
[null,"",""]
[null,"",""]
[null,"",""]
[null,"",""]
[null,"",""]
[null,"",""]
[null,"",""]
[null,"",""]
[null,"",""]
[null,"",""]
[null,"",""]
[null,"",""]
[null,"",""]
[null,"",""]
[null,"",""]
[null,"",""]
[null,"",""]
[null,"",""]
[null,"",""]
[null,"",""]
[null,"",""]
[null,"",""]
[null,"",""]
[null,"",""]
[null,"",""]
[null,"",""]
[null,"",""]
[null,"",""]
[null,"",""]
[null,"",""]
[null,"",""]
[null,"",""]
[null,"",""]
[null,"",""]
[null,"",""]
[null,"",""]
[null,"",""]
[null,"",""]
[null,"",""]
[null,"",""]
[null,"",""]
[null,"",""]
[null,"",""]
[null,"",""]
[null,"",""]
[null,"",""]
[null,"",""]
[null,"",""]
[null,"",""]
[null,"",""]
[null,"",""]
[null,"",""]
[null,"",""]
[null,"",""]
[null,"",""]
[null,"",""]
[null,"",""]
[null,"",""]
[null,"",""]
[null,"",""]
[null,"",""]
[null,"",""]
[null,"",""]
[null,"",""]
[null,"",""]
[null,"",""]
[null,"",""]
[null,"",""]
[null,"",""]
[null,"",""]
[null,"",""]
[null,"",""]
[null,"",""]
[null,"",""]
[null,"",""]
[null,"",""]
[null,"",""]
[null,"",""]
[null,"",""]
[null,"",""]
[null,"",""]
[null,"",""]
[null,"",""]
[null,"",""]
[null,"",""]
[null,"",""]
[null,"",""]
[null,"",""]
[null,"",""]
[null,"",""]
[null,"",""]
[null,"",""]
[null,"",""]
[null,"",""]
[null,"",""]
[null,"",""]

{"sheet":"3.ППР","index":2,"n_rows":1566,"n_cols":13,"rows_kept":1566,"cut":false,"hidden":false,"merged":[]}
[]
[]
[]
[]
[]
[]
["unicid","Банк",null,null,null,"ДВС",null,null,null,null,null,null,"Кримінальне провадження за кредитною угодою\n(Так/Ні)"]
[null,null,"Відповідач (позичальник/поручитель)","Дата надіслання вимоги / претензії","Дати звернення до суду","Дата провадження","Процесс (Так/Ні)","Банк заявлений як кредитор (Так/Ні)","Банк внесенний в реєстр кредиторів (Так/Ні)","Дата визнання позичальника банкрутом","Дата визнання підприємства ліквідованим","Банкрутство фінансового поручителя"]
[null,""]
[null,""]
[null,""]
[null,""]
[null,""]
[null,""]
[null,""]
[null,""]
[null,""]
[null,""]
[null,""]
[null,""]
[null,""]
[null,""]
[null,""]
[null,""]
[null,""]
[null,""]
[null,""]
[null,""]
[null,""]
[null,""]
[null,""]
[null,""]
[null,""]
[null,""]
[null,""]
[null,""]
[null,""]
[null,""]
[null,""]
[null,""]
[null,""]
[null,""]
[null,""]
[null,""]
[null,""]
[null,""]
[null,""]
[null,""]
[null,""]
[null,""]
[null,""]
[null,""]
[null,""]
[null,""]
[null,""]
[null,""]
[null,""]
[null,""]
[null,""]
[null,""]
[null,""]
[null,""]
[null,""]
[null,""]
[null,""]
[null,""]
[null,""]
[null,""]
[null,""]
[null,""]
[null,""]
[null,""]
[null,""]
[null,""]
[null,""]
[null,""]
[null,""]
[null,""]
[null,""]
[null,""]
[null,""]
[null,""]
[null,""]
[null,""]
[null,""]
[null,""]
[null,""]
[null,""]
[null,""]
[null,""]
[null,""]
[null,""]
[null,""]
[null,""]
[null,""]
[null,""]
[null,""]
[null,""]
[null,""]
[null,""]
[null,""]
[null,""]
[null,""]
[null,""]
[null,""]
[null,""]
[null,""]
[null,""]
[null,""]
[null,""]
[null,""]
[null,""]
[null,""]
[null,""]
[null,""]
[null,""]
[null,""]
[null,""]
[null,""]
[null,""]
[null,""]
[null,""]
[null,""]
[null,""]
[null,""]
[null,""]
[null,""]
[null,""]
[null,""]
[null,""]
[null,""]
[null,""]
[null,""]
[null,""]
[null,""]
[null,""]
[null,""]
[null,""]
[null,""]
[null,""]
[null,""]
[null,""]
[null,""]
[null,""]
[null,""]
[null,""]
[null,""]
[null,""]
[null,""]
[null,""]
[null,""]
[null,""]
[null,""]
[null,""]
[null,""]
[null,""]
[null,""]
[null,""]
[null,""]
[null,""]
[null,""]
[null,""]
[null,""]
[null,""]
[null,""]
[null,""]
[null,""]
[null,""]
[null,""]
[null,""]
[null,""]
[null,""]
[null,""]
[null,""]
[null,""]
[null,""]
[null,""]
[null,""]
[null,""]
[null,""]
[null,""]
[null,""]
[null,""]
[null,""]
[null,""]
[null,""]
[null,""]
[null,""]
[null,""]
[null,""]
[null,""]
[null,""]
[null,""]
[null,""]
[null,""]
[null,""]
[null,""]
[null,""]
[null,""]
[null,""]
[null,""]
[null,""]
[null,""]
[null,""]
[null,""]
[null,""]
[null,""]
[null,""]
[null,""]
[null,""]
[null,""]
[null,""]
[null,""]
[null,""]
[null,""]
[null,""]
[null,""]
[null,""]
[null,""]
[null,""]
[null,""]
[null,""]
[null,""]
[null,""]
[null,""]
[null,""]
[null,""]
[null,""]
[null,""]
[null,""]
[null,""]
[null,""]
[null,""]
[null,""]
[null,""]
[null,""]
[null,""]
[null,""]
[null,""]
[null,""]
[null,""]
[null,""]
[null,""]
[null,""]
[null,""]
[null,""]
[null,""]
[null,""]
[null,""]
[null,""]
[null,""]
[null,""]
[null,""]
[null,""]
[null,""]
[null,""]
[null,""]
[null,""]
[null,""]
[null,""]
[null,""]
[null,""]
[null,""]
[null,""]
[null,""]
[null,""]
[null,""]
[null,""]
[null,""]
[null,""]
[null,""]
[null,""]
[null,""]
[null,""]
[null,""]
[null,""]
[null,""]
[null,""]
[null,""]
[null,""]
[null,""]
[null,""]
[null,""]
[null,""]
[null,""]
[null,""]
[null,""]
[null,""]
[null,""]
[null,""]
[null,""]
[null,""]
[null,""]
[null,""]
[null,""]
[null,""]
[null,""]
[null,""]
[null,""]
[null,""]
[null,""]
[null,""]
[null,""]
[null,""]
[null,""]
[null,""]
[null,""]
[null,""]
[null,""]
[null,""]
[null,""]
[null,""]
[null,""]
[null,""]
[null,""]
[null,""]
[null,""]
[null,""]
[null,""]
[null,""]
[null,""]
[null,""]
[null,""]
[null,""]
[null,""]
[null,""]
[null,""]
[null,""]
[null,""]
[null,""]
[null,""]
[null,""]
[null,""]
[null,""]
[null,""]
[null,""]
[null,""]
[null,""]
[null,""]
[null,""]
[null,""]
[null,""]
[null,""]
[null,""]
[null,""]
[null,""]
[null,""]
[null,""]
[null,""]
[null,""]
[null,""]
[null,""]
[null,""]
[null,""]
[null,""]
[null,""]
[null,""]
[null,""]
[null,""]
[null,""]
[null,""]
[null,""]
[null,""]
[null,""]
[null,""]
[null,""]
[null,""]
[null,""]
[null,""]
[null,""]
[null,""]
[null,""]
[null,""]
[null,""]
[null,""]
[null,""]
[null,""]
[null,""]
[null,""]
[null,""]
[null,""]
[null,""]
[null,""]
[null,""]
[null,""]
[null,""]
[null,""]
[null,""]
[null,""]
[null,""]
[null,""]
[null,""]
[null,""]
[null,""]
[null,""]
[null,""]
[null,""]
[null,""]
[null,""]
[null,""]
[null,""]
[null,""]
[null,""]
[null,""]
[null,""]
[null,""]
[null,""]
[null,""]
[null,""]
[null,""]
[null,""]
[null,""]
[null,""]
[null,""]
[null,""]
[null,""]
[null,""]
[null,""]
[null,""]
[null,""]
[null,""]
[null,""]
[null,""]
[null,""]
[null,""]
[null,""]
[null,""]
[null,""]
[null,""]
[null,""]
[null,""]
[null,""]
[null,""]
[null,""]
[null,""]
[null,""]
[null,""]
[null,""]
[null,""]
[null,""]
[null,""]
[null,""]
[null,""]
[null,""]
[null,""]
[null,""]
[null,""]
[null,""]
[null,""]
[null,""]
[null,""]
[null,""]
[null,""]
[null,""]
[null,""]
[null,""]
[null,""]
[null,""]
[null,""]
[null,""]
[null,""]
[null,""]
[null,""]
[null,""]
[null,""]
[null,""]
[null,""]
[null,""]
[null,""]
[null,""]
[null,""]
[null,""]
[null,""]
[null,""]
[null,""]
[null,""]
[null,""]
[null,""]
[null,""]
[null,""]
[null,""]
[null,""]
[null,""]
[null,""]
[null,""]
[null,""]
[null,""]
[null,""]
[null,""]
[null,""]
[null,""]
[null,""]
[null,""]
[null,""]
[null,""]
[null,""]
[null,""]
[null,""]
[null,""]
[null,""]
[null,""]
[null,""]
[null,""]
[null,""]
[null,""]
[null,""]
[null,""]
[null,""]
[null,""]
[null,""]
[null,""]
[null,""]
[null,""]
[null,""]
[null,""]
[null,""]
[null,""]
[null,""]
[null,""]
[null,""]
[null,""]
[null,""]
[null,""]
[null,""]
[null,""]
[null,""]
[null,""]
[null,""]
[null,""]
[null,""]
[null,""]
[null,""]
[null,""]
[null,""]
[null,""]
[null,""]
[null,""]
[null,""]
[null,""]
[null,""]
[null,""]
[null,""]
[null,""]
[null,""]
[null,""]
[null,""]
[null,""]
[null,""]
[null,""]
[null,""]
[null,""]
[null,""]
[null,""]
[null,""]
[null,""]
[null,""]
[null,""]
[null,""]
[null,""]
[null,""]
[null,""]
[null,""]
[null,""]
[null,""]
[null,""]
[null,""]
[null,""]
[null,""]
[null,""]
[null,""]
[null,""]
[null,""]
[null,""]
[null,""]
[null,""]
[null,""]
[null,""]
[null,""]
[null,""]
[null,""]
[null,""]
[null,""]
[null,""]
[null,""]
[null,""]
[null,""]
[null,""]
[null,""]
[null,""]
[null,""]
[null,""]
[null,""]
[null,""]
[null,""]
[null,""]
[null,""]
[null,""]
[null,""]
[null,""]
[null,""]
[null,""]
[null,""]
[null,""]
[null,""]
[null,""]
[null,""]
[null,""]
[null,""]
[null,""]
[null,""]
[null,""]
[null,""]
[null,""]
[null,""]
[null,""]
[null,""]
[null,""]
[null,""]
[null,""]
[null,""]
[null,""]
[null,""]
[null,""]
[null,""]
[null,""]
[null,""]
[null,""]
[null,""]
[null,""]
[null,""]
[null,""]
[null,""]
[null,""]
[null,""]
[null,""]
[null,""]
[null,""]
[null,""]
[null,""]
[null,""]
[null,""]
[null,""]
[null,""]
[null,""]
[null,""]
[null,""]
[null,""]
[null,""]
[null,""]
[null,""]
[null,""]
[null,""]
[null,""]
[null,""]
[null,""]
[null,""]
[null,""]
[null,""]
[null,""]
[null,""]
[null,""]
[null,""]
[null,""]
[null,""]
[null,""]
[null,""]
[null,""]
[null,""]
[null,""]
[null,""]
[null,""]
[null,""]
[null,""]
[null,""]
[null,""]
[null,""]
[null,""]
[null,""]
[null,""]
[null,""]
[null,""]
[null,""]
[null,""]
[null,""]
[null,""]
[null,""]
[null,""]
[null,""]
[null,""]
[null,""]
[null,""]
[null,""]
[null,""]
[null,""]
[null,""]
[null,""]
[null,""]
[null,""]
[null,""]
[null,""]
[null,""]
[null,""]
[null,""]
[null,""]
[null,""]
[null,""]
[null,""]
[null,""]
[null,""]
[null,""]
[null,""]
[null,""]
[null,""]
[null,""]
[null,""]
[null,""]
[null,""]
[null,""]
[null,""]
[null,""]
[null,""]
[null,""]
[null,""]
[null,""]
[null,""]
[null,""]
[null,""]
[null,""]
[null,""]
[null,""]
[null,""]
[null,""]
[null,""]
[null,""]
[null,""]
[null,""]
[null,""]
[null,""]
[null,""]
[null,""]
[null,""]
[null,""]
[null,""]
[null,""]
[null,""]
[null,""]
[null,""]
[null,""]
[null,""]
[null,""]
[null,""]
[null,""]
[null,""]
[null,""]
[null,""]
[null,""]
[null,""]
[null,""]
[null,""]
[null,""]
[null,""]
[null,""]
[null,""]
[null,""]
[null,""]
[null,""]
[null,""]
[null,""]
[null,""]
[null,""]
[null,""]
[null,""]
[null,""]
[null,""]
[null,""]
[null,""]
[null,""]
[null,""]
[null,""]
[null,""]
[null,""]
[null,""]
[null,""]
[null,""]
[null,""]
[null,""]
[null,""]
[null,""]
[null,""]
[null,""]
[null,""]
[null,""]
[null,""]
[null,""]
[null,""]
[null,""]
[null,""]
[null,""]
[null,""]
[null,""]
[null,""]
[null,""]
[null,""]
[null,""]
[null,""]
[null,""]
[null,""]
[null,""]
[null,""]
[null,""]
[null,""]
[null,""]
[null,""]
[null,""]
[null,""]
[null,""]
[null,""]
[null,""]
[null,""]
[null,""]
[null,""]
[null,""]
[null,""]
[null,""]
[null,""]
[null,""]
[null,""]
[null,""]
[null,""]
[null,""]
[null,""]
[null,""]
[null,""]
[null,""]
[null,""]
[null,""]
[null,""]
[null,""]
[null,""]
[null,""]
[null,""]
[null,""]
[null,""]
[null,""]
[null,""]
[null,""]
[null,""]
[null,""]
[null,""]
[null,""]
[null,""]
[null,""]
[null,""]
[null,""]
[null,""]
[null,""]
[null,""]
[null,""]
[null,""]
[null,""]
[null,""]
[null,""]
[null,""]
[null,""]
[null,""]
[null,""]
[null,""]
[null,""]
[null,""]
[null,""]
[null,""]
[null,""]
[null,""]
[null,""]
[null,""]
[null,""]
[null,""]
[null,""]
[null,""]
[null,""]
[null,""]
[null,""]
[null,""]
[null,""]
[null,""]
[null,""]
[null,""]
[null,""]
[null,""]
[null,""]
[null,""]
[null,""]
[null,""]
[null,""]
[null,""]
[null,""]
[null,""]
[null,""]
[null,""]
[null,""]
[null,""]
[null,""]
[null,""]
[null,""]
[null,""]
[null,""]
[null,""]
[null,""]
[null,""]
[null,""]
[null,""]
[null,""]
[null,""]
[null,""]
[null,""]
[null,""]
[null,""]
[null,""]
[null,""]
[null,""]
[null,""]
[null,""]
[null,""]
[null,""]
[null,""]
[null,""]
[null,""]
[null,""]
[null,""]
[null,""]
[null,""]
[null,""]
[null,""]
[null,""]
[null,""]
[null,""]
[null,""]
[null,""]
[null,""]
[null,""]
[null,""]
[null,""]
[null,""]
[null,""]
[null,""]
[null,""]
[null,""]
[null,""]
[null,""]
[null,""]
[null,""]
[null,""]
[null,""]
[null,""]
[null,""]
[null,""]
[null,""]
[null,""]
[null,""]
[null,""]
[null,""]
[null,""]
[null,""]
[null,""]
[null,""]
[null,""]
[null,""]
[null,""]
[null,""]
[null,""]
[null,""]
[null,""]
[null,""]
[null,""]
[null,""]
[null,""]
[null,""]
[null,""]
[null,""]
[null,""]
[null,""]
[null,""]
[null,""]
[null,""]
[null,""]
[null,""]
[null,""]
[null,""]
[null,""]
[null,""]
[null,""]
[null,""]
[null,""]
[null,""]
[null,""]
[null,""]
[null,""]
[null,""]
[null,""]
[null,""]
[null,""]
[null,""]
[null,""]
[null,""]
[null,""]
[null,""]
[null,""]
[null,""]
[null,""]
[null,""]
[null,""]
[null,""]
[null,""]
[null,""]
[null,""]
[null,""]
[null,""]
[null,""]
[null,""]
[null,""]
[null,""]
[null,""]
[null,""]
[null,""]
[null,""]
[null,""]
[null,""]
[null,""]
[null,""]
[null,""]
[null,""]
[null,""]
[null,""]
[null,""]
[null,""]
[null,""]
[null,""]
[null,""]
[null,""]
[null,""]
[null,""]
[null,""]
[null,""]
[null,""]
[null,""]
[null,""]
[null,""]
[null,""]
[null,""]
[null,""]
[null,""]
[null,""]
[null,""]
[null,""]
[null,""]
[null,""]
[null,""]
[null,""]
[null,""]
[null,""]
[null,""]
[null,""]
[null,""]
[null,""]
[null,""]
[null,""]
[null,""]
[null,""]
[null,""]
[null,""]
[null,""]
[null,""]
[null,""]
[null,""]
[null,""]
[null,""]
[null,""]
[null,""]
[null,""]
[null,""]
[null,""]
[null,""]
[null,""]
[null,""]
[null,""]
[null,""]
[null,""]
[null,""]
[null,""]
[null,""]
[null,""]
[null,""]
[null,""]
[null,""]
[null,""]
[null,""]
[null,""]
[null,""]
[null,""]
[null,""]
[null,""]
[null,""]
[null,""]
[null,""]
[null,""]
[null,""]
[null,""]
[null,""]
[null,""]
[null,""]
[null,""]
[null,""]
[null,""]
[null,""]
[null,""]
[null,""]
[null,""]
[null,""]
[null,""]
[null,""]
[null,""]
[null,""]
[null,""]
[null,""]
[null,""]
[null,""]
[null,""]
[null,""]
[null,""]
[null,""]
[null,""]
[null,""]
[null,""]
[null,""]
[null,""]
[null,""]
[null,""]
[null,""]
[null,""]
[null,""]
[null,""]
[null,""]
[null,""]
[null,""]
[null,""]
[null,""]
[null,""]
[null,""]
[null,""]
[null,""]
[null,""]
[null,""]
[null,""]
[null,""]
[null,""]
[null,""]
[null,""]
[null,""]
[null,""]
[null,""]
[null,""]
[null,""]
[null,""]
[null,""]
[null,""]
[null,""]
[null,""]
[null,""]
[null,""]
[null,""]
[null,""]
[null,""]
[null,""]
[null,""]
[null,""]
[null,""]
[null,""]
[null,""]
[null,""]
[null,""]
[null,""]
[null,""]
[null,""]
[null,""]
[null,""]
[null,""]
[null,""]
[null,""]
[null,""]
[null,""]
[null,""]
[null,""]
[null,""]
[null,""]
[null,""]
[null,""]
[null,""]
[null,""]
[null,""]
[null,""]
[null,""]
[null,""]
[null,""]
[null,""]
[null,""]
[null,""]
[null,""]
[null,""]
[null,""]
[null,""]
[null,""]
[null,""]
[null,""]
[null,""]
[null,""]
[null,""]
[null,""]
[null,""]
[null,""]
[null,""]
[null,""]
[null,""]
[null,""]
[null,""]
[null,""]
[null,""]
[null,""]
[null,""]
[null,""]
[null,""]
[null,""]
[null,""]
[null,""]
[null,""]
[null,""]
[null,""]
[null,""]
[null,""]
[null,""]
[null,""]
[null,""]
[null,""]
[null,""]
[null,""]
[null,""]
[null,""]
[null,""]
[null,""]
[null,""]
[null,""]
[null,""]
[null,""]
[null,""]
[null,""]
[null,""]
[null,""]
[null,""]
[null,""]
[null,""]
[null,""]
[null,""]
[null,""]
[null,""]
[null,""]
[null,""]
[null,""]
[null,""]
[null,""]
[null,""]
[null,""]
[null,""]
[null,""]
[null,""]
[null,""]
[null,""]
[null,""]
[null,""]
[null,""]
[null,""]
[null,""]
[null,""]
[null,""]
[null,""]
[null,""]
[null,""]
[null,""]
[null,""]
[null,""]
[null,""]
[null,""]
[null,""]
[null,""]
[null,""]
[null,""]
[null,""]
[null,""]
[null,""]
[null,""]
[null,""]
[null,""]
[null,""]
[null,""]
[null,""]
[null,""]
[null,""]
[null,""]
[null,""]
[null,""]
[null,""]
[null,""]
[null,""]
[null,""]
[null,""]
[null,""]
[null,""]
[null,""]
[null,""]
[null,""]
[null,""]
[null,""]
[null,""]
[null,""]
[null,""]
[null,""]
[null,""]
[null,""]
[null,""]
[null,""]
[null,""]
[null,""]
[null,""]
[null,""]
[null,""]
[null,""]
[null,""]
[null,""]
[null,""]
[null,""]
[null,""]
[null,""]
[null,""]
[null,""]
[null,""]
[null,""]
[null,""]
[null,""]
[null,""]
[null,""]
[null,""]
[null,""]
[null,""]
[null,""]
[null,""]
[null,""]
[null,""]
[null,""]
[null,""]
[null,""]
[null,""]
[null,""]
[null,""]
[null,""]
[null,""]
[null,""]
[null,""]
[null,""]
[null,""]
[null,""]
[null,""]
[null,""]
[null,""]
[null,""]
[null,""]
[null,""]
[null,""]
[null,""]
[null,""]
[null,""]
[null,""]
[null,""]
[null,""]
[null,""]
[null,""]
[null,""]
[null,""]
[null,""]
[null,""]
[null,""]
[null,""]
[null,""]
[null,""]
[null,""]
[null,""]
[null,""]
[null,""]
[null,""]
[null,""]
[null,""]
[null,""]
[null,""]
[null,""]
[null,""]
[null,""]
[null,""]
[null,""]
[null,""]
[null,""]
[null,""]
[null,""]
[null,""]
[null,""]
[null,""]
[null,""]
[null,""]
[null,""]
[null,""]
[null,""]
[null,""]
[null,""]
[null,""]
[null,""]
[null,""]
[null,""]
[null,""]
[null,""]
[null,""]
[null,""]
[null,""]
[null,""]
[null,""]
[null,""]
[null,""]
[null,""]
[null,""]
[null,""]
[null,""]
[null,""]
[null,""]
[null,""]
[null,""]
[null,""]
[null,""]
[null,""]
[null,""]
[null,""]
[null,""]
[null,""]
[null,""]
[null,""]
[null,""]
[null,""]
[null,""]
[null,""]
[null,""]
[null,""]
[null,""]
[null,""]
[null,""]
[null,""]
[null,""]
[null,""]
[null,""]
[null,""]
[null,""]
[null,""]
[null,""]
[null,""]
[null,""]
[null,""]
[null,""]
[null,""]
[null,""]
[null,""]
[null,""]
[null,""]
[null,""]
[null,""]
[null,""]
[null,""]
[null,""]
[null,""]
[null,""]
[null,""]
[null,""]
[null,""]
[null,""]
[null,""]
[null,""]
[null,""]
[null,""]
[null,""]
[null,""]
[null,""]
[null,""]
[null,""]
[null,""]
[null,""]
[null,""]
[null,""]
[null,""]
[null,""]
[null,""]
[null,""]
[null,""]
[null,""]
[null,""]
[null,""]
[null,""]
[null,""]
[null,""]
[null,""]
[null,""]
[null,""]
[null,""]
[null,""]
[null,""]
[null,""]
[null,""]
[null,""]
[null,""]
[null,""]
[null,""]
[null,""]
[null,""]
[null,""]
[null,""]
[null,""]
[null,""]
[null,""]
[null,""]
[null,""]
[null,""]
[null,""]
[null,""]
[null,""]
[null,""]
[null,""]
[null,""]
[null,""]
[null,""]
[null,""]
[null,""]
[null,""]
[null,""]
[null,""]
[null,""]
[null,""]
[null,""]
[null,""]
[null,""]
[null,""]
[null,""]
[null,""]
[null,""]
[null,""]
[null,""]
[null,""]
[null,""]
[null,""]
[null,""]
[null,""]
[null,""]
[null,""]
[null,""]
[null,""]
[null,""]

{"sheet":"4.журнал торгів","index":3,"n_rows":1209,"n_cols":6,"rows_kept":1209,"cut":false,"hidden":false,"merged":[]}
[]
[]
[]
[]
[]
[]
["unicid","Банк","Початкова вартість реалізації","Ціна на останніх торгах","№ лота","Дата проведення останнього аукціону "]
[null,""]
[null,""]
[null,""]
[null,""]
[null,""]
[null,""]
[null,""]
[null,""]
[null,""]
[null,""]
[null,""]
[null,""]
[null,""]
[null,""]
[null,""]
[null,""]
[null,""]
[null,""]
[null,""]
[null,""]
[null,""]
[null,""]
[null,""]
[null,""]
[null,""]
[null,""]
[null,""]
[null,""]
[null,""]
[null,""]
[null,""]
[null,""]
[null,""]
[null,""]
[null,""]
[null,""]
[null,""]
[null,""]
[null,""]
[null,""]
[null,""]
[null,""]
[null,""]
[null,""]
[null,""]
[null,""]
[null,""]
[null,""]
[null,""]
[null,""]
[null,""]
[null,""]
[null,""]
[null,""]
[null,""]
[null,""]
[null,""]
[null,""]
[null,""]
[null,""]
[null,""]
[null,""]
[null,""]
[null,""]
[null,""]
[null,""]
[null,""]
[null,""]
[null,""]
[null,""]
[null,""]
[null,""]
[null,""]
[null,""]
[null,""]
[null,""]
[null,""]
[null,""]
[null,""]
[null,""]
[null,""]
[null,""]
[null,""]
[null,""]
[null,""]
[null,""]
[null,""]
[null,""]
[null,""]
[null,""]
[null,""]
[null,""]
[null,""]
[null,""]
[null,""]
[null,""]
[null,""]
[null,""]
[null,""]
[null,""]
[null,""]
[null,""]
[null,""]
[null,""]
[null,""]
[null,""]
[null,""]
[null,""]
[null,""]
[null,""]
[null,""]
[null,""]
[null,""]
[null,""]
[null,""]
[null,""]
[null,""]
[null,""]
[null,""]
[null,""]
[null,""]
[null,""]
[null,""]
[null,""]
[null,""]
[null,""]
[null,""]
[null,""]
[null,""]
[null,""]
[null,""]
[null,""]
[null,""]
[null,""]
[null,""]
[null,""]
[null,""]
[null,""]
[null,""]
[null,""]
[null,""]
[null,""]
[null,""]
[null,""]
[null,""]
[null,""]
[null,""]
[null,""]
[null,""]
[null,""]
[null,""]
[null,""]
[null,""]
[null,""]
[null,""]
[null,""]
[null,""]
[null,""]
[null,""]
[null,""]
[null,""]
[null,""]
[null,""]
[null,""]
[null,""]
[null,""]
[null,""]
[null,""]
[null,""]
[null,""]
[null,""]
[null,""]
[null,""]
[null,""]
[null,""]
[null,""]
[null,""]
[null,""]
[null,""]
[null,""]
[null,""]
[null,""]
[null,""]
[null,""]
[null,""]
[null,""]
[null,""]
[null,""]
[null,""]
[null,""]
[null,""]
[null,""]
[null,""]
[null,""]
[null,""]
[null,""]
[null,""]
[null,""]
[null,""]
[null,""]
[null,""]
[null,""]
[null,""]
[null,""]
[null,""]
[null,""]
[null,""]
[null,""]
[null,""]
[null,""]
[null,""]
[null,""]
[null,""]
[null,""]
[null,""]
[null,""]
[null,""]
[null,""]
[null,""]
[null,""]
[null,""]
[null,""]
[null,""]
[null,""]
[null,""]
[null,""]
[null,""]
[null,""]
[null,""]
[null,""]
[null,""]
[null,""]
[null,""]
[null,""]
[null,""]
[null,""]
[null,""]
[null,""]
[null,""]
[null,""]
[null,""]
[null,""]
[null,""]
[null,""]
[null,""]
[null,""]
[null,""]
[null,""]
[null,""]
[null,""]
[null,""]
[null,""]
[null,""]
[null,""]
[null,""]
[null,""]
[null,""]
[null,""]
[null,""]
[null,""]
[null,""]
[null,""]
[null,""]
[null,""]
[null,""]
[null,""]
[null,""]
[null,""]
[null,""]
[null,""]
[null,""]
[null,""]
[null,""]
[null,""]
[null,""]
[null,""]
[null,""]
[null,""]
[null,""]
[null,""]
[null,""]
[null,""]
[null,""]
[null,""]
[null,""]
[null,""]
[null,""]
[null,""]
[null,""]
[null,""]
[null,""]
[null,""]
[null,""]
[null,""]
[null,""]
[null,""]
[null,""]
[null,""]
[null,""]
[null,""]
[null,""]
[null,""]
[null,""]
[null,""]
[null,""]
[null,""]
[null,""]
[null,""]
[null,""]
[null,""]
[null,""]
[null,""]
[null,""]
[null,""]
[null,""]
[null,""]
[null,""]
[null,""]
[null,""]
[null,""]
[null,""]
[null,""]
[null,""]
[null,""]
[null,""]
[null,""]
[null,""]
[null,""]
[null,""]
[null,""]
[null,""]
[null,""]
[null,""]
[null,""]
[null,""]
[null,""]
[null,""]
[null,""]
[null,""]
[null,""]
[null,""]
[null,""]
[null,""]
[null,""]
[null,""]
[null,""]
[null,""]
[null,""]
[null,""]
[null,""]
[null,""]
[null,""]
[null,""]
[null,""]
[null,""]
[null,""]
[null,""]
[null,""]
[null,""]
[null,""]
[null,""]
[null,""]
[null,""]
[null,""]
[null,""]
[null,""]
[null,""]
[null,""]
[null,""]
[null,""]
[null,""]
[null,""]
[null,""]
[null,""]
[null,""]
[null,""]
[null,""]
[null,""]
[null,""]
[null,""]
[null,""]
[null,""]
[null,""]
[null,""]
[null,""]
[null,""]
[null,""]
[null,""]
[null,""]
[null,""]
[null,""]
[null,""]
[null,""]
[null,""]
[null,""]
[null,""]
[null,""]
[null,""]
[null,""]
[null,""]
[null,""]
[null,""]
[null,""]
[null,""]
[null,""]
[null,""]
[null,""]
[null,""]
[null,""]
[null,""]
[null,""]
[null,""]
[null,""]
[null,""]
[null,""]
[null,""]
[null,""]
[null,""]
[null,""]
[null,""]
[null,""]
[null,""]
[null,""]
[null,""]
[null,""]
[null,""]
[null,""]
[null,""]
[null,""]
[null,""]
[null,""]
[null,""]
[null,""]
[null,""]
[null,""]
[null,""]
[null,""]
[null,""]
[null,""]
[null,""]
[null,""]
[null,""]
[null,""]
[null,""]
[null,""]
[null,""]
[null,""]
[null,""]
[null,""]
[null,""]
[null,""]
[null,""]
[null,""]
[null,""]
[null,""]
[null,""]
[null,""]
[null,""]
[null,""]
[null,""]
[null,""]
[null,""]
[null,""]
[null,""]
[null,""]
[null,""]
[null,""]
[null,""]
[null,""]
[null,""]
[null,""]
[null,""]
[null,""]
[null,""]
[null,""]
[null,""]
[null,""]
[null,""]
[null,""]
[null,""]
[null,""]
[null,""]
[null,""]
[null,""]
[null,""]
[null,""]
[null,""]
[null,""]
[null,""]
[null,""]
[null,""]
[null,""]
[null,""]
[null,""]
[null,""]
[null,""]
[null,""]
[null,""]
[null,""]
[null,""]
[null,""]
[null,""]
[null,""]
[null,""]
[null,""]
[null,""]
[null,""]
[null,""]
[null,""]
[null,""]
[null,""]
[null,""]
[null,""]
[null,""]
[null,""]
[null,""]
[null,""]
[null,""]
[null,""]
[null,""]
[null,""]
[null,""]
[null,""]
[null,""]
[null,""]
[null,""]
[null,""]
[null,""]
[null,""]
[null,""]
[null,""]
[null,""]
[null,""]
[null,""]
[null,""]
[null,""]
[null,""]
[null,""]
[null,""]
[null,""]
[null,""]
[null,""]
[null,""]
[null,""]
[null,""]
[null,""]
[null,""]
[null,""]
[null,""]
[null,""]
[null,""]
[null,""]
[null,""]
[null,""]
[null,""]
[null,""]
[null,""]
[null,""]
[null,""]
[null,""]
[null,""]
[null,""]
[null,""]
[null,""]
[null,""]
[null,""]
[null,""]
[null,""]
[null,""]
[null,""]
[null,""]
[null,""]
[null,""]
[null,""]
[null,""]
[null,""]
[null,""]
[null,""]
[null,""]
[null,""]
[null,""]
[null,""]
[null,""]
[null,""]
[null,""]
[null,""]
[null,""]
[null,""]
[null,""]
[null,""]
[null,""]
[null,""]
[null,""]
[null,""]
[null,""]
[null,""]
[null,""]
[null,""]
[null,""]
[null,""]
[null,""]
[null,""]
[null,""]
[null,""]
[null,""]
[null,""]
[null,""]
[null,""]
[null,""]
[null,""]
[null,""]
[null,""]
[null,""]
[null,""]
[null,""]
[null,""]
[null,""]
[null,""]
[null,""]
[null,""]
[null,""]
[null,""]
[null,""]
[null,""]
[null,""]
[null,""]
[null,""]
[null,""]
[null,""]
[null,""]
[null,""]
[null,""]
[null,""]
[null,""]
[null,""]
[null,""]
[null,""]
[null,""]
[null,""]
[null,""]
[null,""]
[null,""]
[null,""]
[null,""]
[null,""]
[null,""]
[null,""]
[null,""]
[null,""]
[null,""]
[null,""]
[null,""]
[null,""]
[null,""]
[null,""]
[null,""]
[null,""]
[null,""]
[null,""]
[null,""]
[null,""]
[null,""]
[null,""]
[null,""]
[null,""]
[null,""]
[null,""]
[null,""]
[null,""]
[null,""]
[null,""]
[null,""]
[null,""]
[null,""]
[null,""]
[null,""]
[null,""]
[null,""]
[null,""]
[null,""]
[null,""]
[null,""]
[null,""]
[null,""]
[null,""]
[null,""]
[null,""]
[null,""]
[null,""]
[null,""]
[null,""]
[null,""]
[null,""]
[null,""]
[null,""]
[null,""]
[null,""]
[null,""]
[null,""]
[null,""]
[null,""]
[null,""]
[null,""]
[null,""]
[null,""]
[null,""]
[null,""]
[null,""]
[null,""]
[null,""]
[null,""]
[null,""]
[null,""]
[null,""]
[null,""]
[null,""]
[null,""]
[null,""]
[null,""]
[null,""]
[null,""]
[null,""]
[null,""]
[null,""]
[null,""]
[null,""]
[null,""]
[null,""]
[null,""]
[null,""]
[null,""]
[null,""]
[null,""]
[null,""]
[null,""]
[null,""]
[null,""]
[null,""]
[null,""]
[null,""]
[null,""]
[null,""]
[null,""]
[null,""]
[null,""]
[null,""]
[null,""]
[null,""]
[null,""]
[null,""]
[null,""]
[null,""]
[null,""]
[null,""]
[null,""]
[null,""]
[null,""]
[null,""]
[null,""]
[null,""]
[null,""]
[null,""]
[null,""]
[null,""]
[null,""]
[null,""]
[null,""]
[null,""]
[null,""]
[null,""]
[null,""]
[null,""]
[null,""]
[null,""]
[null,""]
[null,""]
[null,""]
[null,""]
[null,""]
[null,""]
[null,""]
[null,""]
[null,""]
[null,""]
[null,""]
[null,""]
[null,""]
[null,""]
[null,""]
[null,""]
[null,""]
[null,""]
[null,""]
[null,""]
[null,""]
[null,""]
[null,""]
[null,""]
[null,""]
[null,""]
[null,""]
[null,""]
[null,""]
[null,""]
[null,""]
[null,""]
[null,""]
[null,""]
[null,""]
[null,""]
[null,""]
[null,""]
[null,""]
[null,""]
[null,""]
[null,""]
[null,""]
[null,""]
[null,""]
[null,""]
[null,""]
[null,""]
[null,""]
[null,""]
[null,""]
[null,""]
[null,""]
[null,""]
[null,""]
[null,""]
[null,""]
[null,""]
[null,""]
[null,""]
[null,""]
[null,""]
[null,""]
[null,""]
[null,""]
[null,""]
[null,""]
[null,""]
[null,""]
[null,""]
[null,""]
[null,""]
[null,""]
[null,""]
[null,""]
[null,""]
[null,""]
[null,""]
[null,""]
[null,""]
[null,""]
[null,""]
[null,""]
[null,""]
[null,""]
[null,""]
[null,""]
[null,""]
[null,""]
[null,""]
[null,""]
[null,""]
[null,""]
[null,""]
[null,""]
[null,""]
[null,""]
[null,""]
[null,""]
[null,""]
[null,""]
[null,""]
[null,""]
[null,""]
[null,""]
[null,""]
[null,""]
[null,""]
[null,""]
[null,""]
[null,""]
[null,""]
[null,""]
[null,""]
[null,""]
[null,""]
[null,""]
[null,""]
[null,""]
[null,""]
[null,""]
[null,""]
[null,""]
[null,""]
[null,""]
[null,""]
[null,""]
[null,""]
[null,""]
[null,""]
[null,""]
[null,""]
[null,""]
[null,""]
[null,""]
[null,""]
[null,""]
[null,""]
[null,""]
[null,""]
[null,""]
[null,""]
[null,""]
[null,""]
[null,""]
[null,""]
[null,""]
[null,""]
[null,""]
[null,""]
[null,""]
[null,""]
[null,""]
[null,""]
[null,""]
[null,""]
[null,""]
[null,""]
[null,""]
[null,""]
[null,""]
[null,""]
[null,""]
[null,""]
[null,""]
[null,""]
[null,""]
[null,""]
[null,""]
[null,""]
[null,""]
[null,""]
[null,""]
[null,""]
[null,""]
[null,""]
[null,""]
[null,""]
[null,""]
[null,""]
[null,""]
[null,""]
[null,""]
[null,""]
[null,""]
[null,""]
[null,""]
[null,""]
[null,""]
[null,""]
[null,""]
[null,""]
[null,""]
[null,""]
[null,""]
[null,""]
[null,""]
[null,""]
[null,""]
[null,""]
[null,""]
[null,""]
[null,""]
[null,""]
[null,""]
[null,""]
[null,""]
[null,""]
[null,""]
[null,""]
[null,""]
[null,""]
[null,""]
[null,""]
[null,""]
[null,""]
[null,""]
[null,""]
[null,""]
[null,""]
[null,""]
[null,""]
[null,""]
[null,""]
[null,""]
[null,""]
[null,""]
[null,""]
[null,""]
[null,""]
[null,""]
[null,""]
[null,""]
[null,""]
[null,""]
[null,""]
[null,""]
[null,""]
[null,""]
[null,""]
[null,""]
[null,""]
[null,""]
[null,""]
[null,""]
[null,""]
[null,""]
[null,""]
[null,""]
[null,""]
[null,""]
[null,""]
[null,""]
[null,""]
[null,""]
[null,""]
[null,""]
[null,""]
[null,""]
[null,""]
[null,""]
[null,""]
[null,""]
[null,""]
[null,""]
[null,""]
[null,""]
[null,""]
[null,""]
[null,""]
[null,""]
[null,""]
[null,""]
[null,""]
[null,""]
[null,""]
[null,""]
[null,""]
[null,""]
[null,""]
[null,""]
[null,""]
[null,""]
[null,""]
[null,""]
[null,""]
[null,""]
[null,""]
[null,""]
[null,""]
[null,""]
[null,""]
[null,""]
[null,""]
[null,""]
[null,""]
[null,""]
[null,""]
[null,""]
[null,""]
[null,""]
[null,""]
[null,""]
[null,""]
[null,""]
[null,""]
[null,""]
[null,""]
[null,""]
[null,""]
[null,""]
[null,""]
[null,""]
[null,""]
[null,""]
[null,""]
[null,""]
[null,""]
[null,""]
[null,""]
[null,""]
[null,""]
[null,""]
[null,""]
[null,""]
[null,""]
[null,""]
[null,""]
[null,""]
[null,""]
[null,""]
[null,""]
[null,""]
[null,""]
[null,""]
[null,""]
[null,""]
[null,""]
[null,""]
[null,""]
[null,""]
[null,""]
[null,""]
[null,""]
[null,""]
[null,""]
[null,""]
[null,""]
[null,""]
[null,""]
[null,""]
[null,""]
[null,""]
[null,""]
[null,""]
[null,""]
[null,""]
[null,""]
[null,""]
[null,""]
[null,""]
[null,""]
[null,""]
[null,""]
[null,""]
[null,""]
[null,""]
[null,""]
[null,""]
[null,""]
[null,""]
[null,""]
[null,""]
[null,""]
[null,""]
[null,""]
[null,""]
[null,""]
[null,""]
[null,""]
[null,""]
[null,""]
[null,""]
[null,""]
[null,""]
[null,""]
[null,""]
[null,""]
[null,""]
[null,""]
[null,""]
[null,""]
[null,""]
[null,""]
[null,""]
[null,""]
[null,""]
[null,""]
[null,""]
[null,""]
[null,""]
[null,""]
[null,""]
[null,""]
[null,""]
[null,""]
[null,""]
[null,""]
[null,""]
[null,""]
[null,""]
[null,""]
[null,""]
[null,""]
[null,""]
[null,""]
[null,""]
[null,""]
[null,""]
[null,""]
[null,""]
[null,""]
[null,""]
[null,""]
[null,""]
[null,""]
[null,""]
[null,""]

{"sheet":"журнал_пулів","index":4,"n_rows":1001,"n_cols":11,"rows_kept":1001,"cut":false,"hidden":true,"merged":[[0,2,0,3],[1,2,1,3],[2,2,2,3]]}
[null,null,"Тип пулу",null,4]
[null,null,"Дата надходження",null,"2018-06-01"]
[null,null,{"$f":"\"Номер пулу типу \"&E1&\" на дату \"&TEXT(E2,\"dd.mm.yyyy\")","v":"Номер пулу типу 4 на дату 01.06.2018"},null,2]
["Група активу","МФО",{"$f":"'[1]1.Портфель кредитів'!F15","v":"Найменування Позичальника"},{"$f":"'[1]1.Портфель кредитів'!G15","v":"Група Позичальників"},{"$f":"'[1]1.Портфель кредитів'!H15","v":"ЄДРПОУ"},{"$f":"'[1]1.Портфель кредитів'!M15","v":"Номер кредитного договору"},{"$f":"'[1]1.Портфель кредитів'!AA15","v":"Оціночна вартість"},{"$f":"'[1]1.Портфель кредитів'!AC15","v":"Заборгованстіь  на дату заповнення паспорту 01.02.2018р. (тіло та проценти):"},"Тип пулу","Дата надходження","ID_pool"]
[{"$f":"'1.Портфель кредитів'!B4","v":0},{"$f":"'1.Портфель кредитів'!#REF!","v":{"$error":"#REF!"}},{"$f":"'1.Портфель кредитів'!#REF!","v":{"$error":"#REF!"}},{"$f":"'1.Портфель кредитів'!#REF!","v":{"$error":"#REF!"}},{"$f":"'1.Портфель кредитів'!#REF!","v":{"$error":"#REF!"}},{"$f":"'1.Портфель кредитів'!C4","v":0},{"$f":"'1.Портфель кредитів'!L4","v":1},{"$f":"'1.Портфель кредитів'!N4","v":3797.06},{"$f":"$E$1","v":4},{"$f":"$E$2","v":"2018-06-01"},{"$f":"B5&\"_\"&I5&\"_\"&J5&\"_\"&$E$3","v":{"$error":"#REF!"}}]
[{"$f":"'1.Портфель кредитів'!#REF!","v":{"$error":"#REF!"}},{"$f":"'1.Портфель кредитів'!#REF!","v":{"$error":"#REF!"}},{"$f":"'1.Портфель кредитів'!#REF!","v":{"$error":"#REF!"}},{"$f":"'1.Портфель кредитів'!#REF!","v":{"$error":"#REF!"}},{"$f":"'1.Портфель кредитів'!#REF!","v":{"$error":"#REF!"}},{"$f":"'1.Портфель кредитів'!#REF!","v":{"$error":"#REF!"}},{"$f":"'1.Портфель кредитів'!#REF!","v":{"$error":"#REF!"}},{"$f":"'1.Портфель кредитів'!#REF!","v":{"$error":"#REF!"}},{"$f":"$E$1","v":4},{"$f":"$E$2","v":"2018-06-01"},{"$f":"B6&\"_\"&I6&\"_\"&J6&\"_\"&$E$3","v":{"$error":"#REF!"}}]
[{"$f":"'1.Портфель кредитів'!#REF!","v":{"$error":"#REF!"}},{"$f":"'1.Портфель кредитів'!#REF!","v":{"$error":"#REF!"}},{"$f":"'1.Портфель кредитів'!#REF!","v":{"$error":"#REF!"}},{"$f":"'1.Портфель кредитів'!#REF!","v":{"$error":"#REF!"}},{"$f":"'1.Портфель кредитів'!#REF!","v":{"$error":"#REF!"}},{"$f":"'1.Портфель кредитів'!#REF!","v":{"$error":"#REF!"}},{"$f":"'1.Портфель кредитів'!#REF!","v":{"$error":"#REF!"}},{"$f":"'1.Портфель кредитів'!#REF!","v":{"$error":"#REF!"}},4,"2018-06-01",{"$error":"#REF!"}]
[{"$f":"'1.Портфель кредитів'!#REF!","v":{"$error":"#REF!"}},{"$f":"'1.Портфель кредитів'!D5","v":353575},{"$f":"'1.Портфель кредитів'!#REF!","v":{"$error":"#REF!"}},{"$f":"'1.Портфель кредитів'!#REF!","v":{"$error":"#REF!"}},{"$f":"'1.Портфель кредитів'!#REF!","v":{"$error":"#REF!"}},{"$f":"'1.Портфель кредитів'!E5","v":0},{"$f":"'1.Портфель кредитів'!R5","v":0},{"$f":"'1.Портфель кредитів'!T5","v":1600},4,"2018-06-01","353575_4_43252_2"]
[{"$f":"'1.Портфель кредитів'!#REF!","v":{"$error":"#REF!"}},{"$f":"'1.Портфель кредитів'!D6","v":353575},{"$f":"'1.Портфель кредитів'!#REF!","v":{"$error":"#REF!"}},{"$f":"'1.Портфель кредитів'!#REF!","v":{"$error":"#REF!"}},{"$f":"'1.Портфель кредитів'!#REF!","v":{"$error":"#REF!"}},{"$f":"'1.Портфель кредитів'!E6","v":0},{"$f":"'1.Портфель кредитів'!R6","v":0},{"$f":"'1.Портфель кредитів'!T6","v":1250},4,"2018-06-01","353575_4_43252_2"]
[{"$f":"'1.Портфель кредитів'!#REF!","v":{"$error":"#REF!"}},{"$f":"'1.Портфель кредитів'!D7","v":353575},{"$f":"'1.Портфель кредитів'!#REF!","v":{"$error":"#REF!"}},{"$f":"'1.Портфель кредитів'!#REF!","v":{"$error":"#REF!"}},{"$f":"'1.Портфель кредитів'!#REF!","v":{"$error":"#REF!"}},{"$f":"'1.Портфель кредитів'!E7","v":0},{"$f":"'1.Портфель кредитів'!R7","v":0},{"$f":"'1.Портфель кредитів'!T7","v":899.99},4,"2018-06-01","353575_4_43252_2"]
[{"$f":"'1.Портфель кредитів'!#REF!","v":{"$error":"#REF!"}},{"$f":"'1.Портфель кредитів'!D8","v":353575},{"$f":"'1.Портфель кредитів'!#REF!","v":{"$error":"#REF!"}},{"$f":"'1.Портфель кредитів'!#REF!","v":{"$error":"#REF!"}},{"$f":"'1.Портфель кредитів'!#REF!","v":{"$error":"#REF!"}},{"$f":"'1.Портфель кредитів'!E8","v":0},{"$f":"'1.Портфель кредитів'!R8","v":0},{"$f":"'1.Портфель кредитів'!T8","v":450},4,"2018-06-01","353575_4_43252_2"]
[{"$f":"'1.Портфель кредитів'!#REF!","v":{"$error":"#REF!"}},{"$f":"'1.Портфель кредитів'!D9","v":353575},{"$f":"'1.Портфель кредитів'!#REF!","v":{"$error":"#REF!"}},{"$f":"'1.Портфель кредитів'!#REF!","v":{"$error":"#REF!"}},{"$f":"'1.Портфель кредитів'!#REF!","v":{"$error":"#REF!"}},{"$f":"'1.Портфель кредитів'!E9","v":0},{"$f":"'1.Портфель кредитів'!R9","v":0},{"$f":"'1.Портфель кредитів'!T9","v":350.62},4,"2018-06-01","353575_4_43252_2"]
[{"$f":"'1.Портфель кредитів'!#REF!","v":{"$error":"#REF!"}},{"$f":"'1.Портфель кредитів'!D10","v":353575},{"$f":"'1.Портфель кредитів'!#REF!","v":{"$error":"#REF!"}},{"$f":"'1.Портфель кредитів'!#REF!","v":{"$error":"#REF!"}},{"$f":"'1.Портфель кредитів'!#REF!","v":{"$error":"#REF!"}},{"$f":"'1.Портфель кредитів'!E10","v":0},{"$f":"'1.Портфель кредитів'!R10","v":0},{"$f":"'1.Портфель кредитів'!T10","v":327.84},4,"2018-06-01","353575_4_43252_2"]
[{"$f":"'1.Портфель кредитів'!#REF!","v":{"$error":"#REF!"}},{"$f":"'1.Портфель кредитів'!D11","v":353575},{"$f":"'1.Портфель кредитів'!#REF!","v":{"$error":"#REF!"}},{"$f":"'1.Портфель кредитів'!#REF!","v":{"$error":"#REF!"}},{"$f":"'1.Портфель кредитів'!#REF!","v":{"$error":"#REF!"}},{"$f":"'1.Портфель кредитів'!E11","v":0},{"$f":"'1.Портфель кредитів'!R11","v":0},{"$f":"'1.Портфель кредитів'!T11","v":210},4,"2018-06-01","353575_4_43252_2"]
[{"$f":"'1.Портфель кредитів'!#REF!","v":{"$error":"#REF!"}},{"$f":"'1.Портфель кредитів'!D12","v":353575},{"$f":"'1.Портфель кредитів'!#REF!","v":{"$error":"#REF!"}},{"$f":"'1.Портфель кредитів'!#REF!","v":{"$error":"#REF!"}},{"$f":"'1.Портфель кредитів'!#REF!","v":{"$error":"#REF!"}},{"$f":"'1.Портфель кредитів'!E12","v":0},{"$f":"'1.Портфель кредитів'!R12","v":0},{"$f":"'1.Портфель кредитів'!T12","v":120},4,"2018-06-01","353575_4_43252_2"]
[{"$f":"'1.Портфель кредитів'!#REF!","v":{"$error":"#REF!"}},{"$f":"'1.Портфель кредитів'!D13","v":353575},{"$f":"'1.Портфель кредитів'!#REF!","v":{"$error":"#REF!"}},{"$f":"'1.Портфель кредитів'!#REF!","v":{"$error":"#REF!"}},{"$f":"'1.Портфель кредитів'!#REF!","v":{"$error":"#REF!"}},{"$f":"'1.Портфель кредитів'!E13","v":0},{"$f":"'1.Портфель кредитів'!R13","v":0},{"$f":"'1.Портфель кредитів'!T13","v":90},4,"2018-06-01","353575_4_43252_2"]
[{"$f":"'1.Портфель кредитів'!#REF!","v":{"$error":"#REF!"}},{"$f":"'1.Портфель кредитів'!D14","v":353575},{"$f":"'1.Портфель кредитів'!#REF!","v":{"$error":"#REF!"}},{"$f":"'1.Портфель кредитів'!#REF!","v":{"$error":"#REF!"}},{"$f":"'1.Портфель кредитів'!#REF!","v":{"$error":"#REF!"}},{"$f":"'1.Портфель кредитів'!E14","v":0},{"$f":"'1.Портфель кредитів'!R14","v":0},{"$f":"'1.Портфель кредитів'!T14","v":60},4,"2018-06-01","353575_4_43252_2"]
[{"$f":"'1.Портфель кредитів'!#REF!","v":{"$error":"#REF!"}},{"$f":"'1.Портфель кредитів'!D15","v":353575},{"$f":"'1.Портфель кредитів'!#REF!","v":{"$error":"#REF!"}},{"$f":"'1.Портфель кредитів'!#REF!","v":{"$error":"#REF!"}},{"$f":"'1.Портфель кредитів'!#REF!","v":{"$error":"#REF!"}},{"$f":"'1.Портфель кредитів'!E15","v":0},{"$f":"'1.Портфель кредитів'!R15","v":0},{"$f":"'1.Портфель кредитів'!T15","v":50},4,"2018-06-01","353575_4_43252_2"]
[{"$f":"'1.Портфель кредитів'!#REF!","v":{"$error":"#REF!"}},{"$f":"'1.Портфель кредитів'!D16","v":353575},{"$f":"'1.Портфель кредитів'!#REF!","v":{"$error":"#REF!"}},{"$f":"'1.Портфель кредитів'!#REF!","v":{"$error":"#REF!"}},{"$f":"'1.Портфель кредитів'!#REF!","v":{"$error":"#REF!"}},{"$f":"'1.Портфель кредитів'!E16","v":0},{"$f":"'1.Портфель кредитів'!R16","v":0},{"$f":"'1.Портфель кредитів'!T16","v":50},4,"2018-06-01","353575_4_43252_2"]
[{"$f":"'1.Портфель кредитів'!#REF!","v":{"$error":"#REF!"}},{"$f":"'1.Портфель кредитів'!D17","v":353575},{"$f":"'1.Портфель кредитів'!#REF!","v":{"$error":"#REF!"}},{"$f":"'1.Портфель кредитів'!#REF!","v":{"$error":"#REF!"}},{"$f":"'1.Портфель кредитів'!#REF!","v":{"$error":"#REF!"}},{"$f":"'1.Портфель кредитів'!E17","v":0},{"$f":"'1.Портфель кредитів'!R17","v":0},{"$f":"'1.Портфель кредитів'!T17","v":34.49},4,"2018-06-01","353575_4_43252_2"]
[{"$f":"'1.Портфель кредитів'!#REF!","v":{"$error":"#REF!"}},{"$f":"'1.Портфель кредитів'!D18","v":""},{"$f":"'1.Портфель кредитів'!#REF!","v":{"$error":"#REF!"}},{"$f":"'1.Портфель кредитів'!#REF!","v":{"$error":"#REF!"}},{"$f":"'1.Портфель кредитів'!#REF!","v":{"$error":"#REF!"}},{"$f":"'1.Портфель кредитів'!E18","v":0},{"$f":"'1.Портфель кредитів'!R18","v":0},{"$f":"'1.Портфель кредитів'!T18","v":""},4,"2018-06-01","_4_43252_2"]
[{"$f":"'1.Портфель кредитів'!#REF!","v":{"$error":"#REF!"}},{"$f":"'1.Портфель кредитів'!D19","v":""},{"$f":"'1.Портфель кредитів'!#REF!","v":{"$error":"#REF!"}},{"$f":"'1.Портфель кредитів'!#REF!","v":{"$error":"#REF!"}},{"$f":"'1.Портфель кредитів'!#REF!","v":{"$error":"#REF!"}},{"$f":"'1.Портфель кредитів'!E19","v":0},{"$f":"'1.Портфель кредитів'!R19","v":0},{"$f":"'1.Портфель кредитів'!T19","v":""},4,"2018-06-01","_4_43252_2"]
[{"$f":"'1.Портфель кредитів'!#REF!","v":{"$error":"#REF!"}},{"$f":"'1.Портфель кредитів'!D20","v":""},{"$f":"'1.Портфель кредитів'!#REF!","v":{"$error":"#REF!"}},{"$f":"'1.Портфель кредитів'!#REF!","v":{"$error":"#REF!"}},{"$f":"'1.Портфель кредитів'!#REF!","v":{"$error":"#REF!"}},{"$f":"'1.Портфель кредитів'!E20","v":0},{"$f":"'1.Портфель кредитів'!R20","v":0},{"$f":"'1.Портфель кредитів'!T20","v":""},4,"2018-06-01","_4_43252_2"]
[{"$f":"'1.Портфель кредитів'!#REF!","v":{"$error":"#REF!"}},{"$f":"'1.Портфель кредитів'!D21","v":""},{"$f":"'1.Портфель кредитів'!#REF!","v":{"$error":"#REF!"}},{"$f":"'1.Портфель кредитів'!#REF!","v":{"$error":"#REF!"}},{"$f":"'1.Портфель кредитів'!#REF!","v":{"$error":"#REF!"}},{"$f":"'1.Портфель кредитів'!E21","v":0},{"$f":"'1.Портфель кредитів'!R21","v":0},{"$f":"'1.Портфель кредитів'!T21","v":""},4,"2018-06-01","_4_43252_2"]
[{"$f":"'1.Портфель кредитів'!#REF!","v":{"$error":"#REF!"}},{"$f":"'1.Портфель кредитів'!D22","v":""},{"$f":"'1.Портфель кредитів'!#REF!","v":{"$error":"#REF!"}},{"$f":"'1.Портфель кредитів'!#REF!","v":{"$error":"#REF!"}},{"$f":"'1.Портфель кредитів'!#REF!","v":{"$error":"#REF!"}},{"$f":"'1.Портфель кредитів'!E22","v":0},{"$f":"'1.Портфель кредитів'!R22","v":0},{"$f":"'1.Портфель кредитів'!T22","v":""},4,"2018-06-01","_4_43252_2"]
[{"$f":"'1.Портфель кредитів'!#REF!","v":{"$error":"#REF!"}},{"$f":"'1.Портфель кредитів'!D23","v":""},{"$f":"'1.Портфель кредитів'!#REF!","v":{"$error":"#REF!"}},{"$f":"'1.Портфель кредитів'!#REF!","v":{"$error":"#REF!"}},{"$f":"'1.Портфель кредитів'!#REF!","v":{"$error":"#REF!"}},{"$f":"'1.Портфель кредитів'!E23","v":0},{"$f":"'1.Портфель кредитів'!R23","v":0},{"$f":"'1.Портфель кредитів'!T23","v":""},4,"2018-06-01","_4_43252_2"]
[{"$f":"'1.Портфель кредитів'!#REF!","v":{"$error":"#REF!"}},{"$f":"'1.Портфель кредитів'!D24","v":""},{"$f":"'1.Портфель кредитів'!#REF!","v":{"$error":"#REF!"}},{"$f":"'1.Портфель кредитів'!#REF!","v":{"$error":"#REF!"}},{"$f":"'1.Портфель кредитів'!#REF!","v":{"$error":"#REF!"}},{"$f":"'1.Портфель кредитів'!E24","v":0},{"$f":"'1.Портфель кредитів'!R24","v":0},{"$f":"'1.Портфель кредитів'!T24","v":""},4,"2018-06-01","_4_43252_2"]
[{"$f":"'1.Портфель кредитів'!#REF!","v":{"$error":"#REF!"}},{"$f":"'1.Портфель кредитів'!D25","v":""},{"$f":"'1.Портфель кредитів'!#REF!","v":{"$error":"#REF!"}},{"$f":"'1.Портфель кредитів'!#REF!","v":{"$error":"#REF!"}},{"$f":"'1.Портфель кредитів'!#REF!","v":{"$error":"#REF!"}},{"$f":"'1.Портфель кредитів'!E25","v":0},{"$f":"'1.Портфель кредитів'!R25","v":0},{"$f":"'1.Портфель кредитів'!T25","v":""},4,"2018-06-01","_4_43252_2"]
[{"$f":"'1.Портфель кредитів'!#REF!","v":{"$error":"#REF!"}},{"$f":"'1.Портфель кредитів'!D26","v":""},{"$f":"'1.Портфель кредитів'!#REF!","v":{"$error":"#REF!"}},{"$f":"'1.Портфель кредитів'!#REF!","v":{"$error":"#REF!"}},{"$f":"'1.Портфель кредитів'!#REF!","v":{"$error":"#REF!"}},{"$f":"'1.Портфель кредитів'!E26","v":0},{"$f":"'1.Портфель кредитів'!R26","v":0},{"$f":"'1.Портфель кредитів'!T26","v":""},4,"2018-06-01","_4_43252_2"]
[{"$f":"'1.Портфель кредитів'!#REF!","v":{"$error":"#REF!"}},{"$f":"'1.Портфель кредитів'!D27","v":""},{"$f":"'1.Портфель кредитів'!#REF!","v":{"$error":"#REF!"}},{"$f":"'1.Портфель кредитів'!#REF!","v":{"$error":"#REF!"}},{"$f":"'1.Портфель кредитів'!#REF!","v":{"$error":"#REF!"}},{"$f":"'1.Портфель кредитів'!E27","v":0},{"$f":"'1.Портфель кредитів'!R27","v":0},{"$f":"'1.Портфель кредитів'!T27","v":""},4,"2018-06-01","_4_43252_2"]
[{"$f":"'1.Портфель кредитів'!#REF!","v":{"$error":"#REF!"}},{"$f":"'1.Портфель кредитів'!D28","v":""},{"$f":"'1.Портфель кредитів'!#REF!","v":{"$error":"#REF!"}},{"$f":"'1.Портфель кредитів'!#REF!","v":{"$error":"#REF!"}},{"$f":"'1.Портфель кредитів'!#REF!","v":{"$error":"#REF!"}},{"$f":"'1.Портфель кредитів'!E28","v":0},{"$f":"'1.Портфель кредитів'!R28","v":0},{"$f":"'1.Портфель кредитів'!T28","v":""},4,"2018-06-01","_4_43252_2"]
[{"$f":"'1.Портфель кредитів'!#REF!","v":{"$error":"#REF!"}},{"$f":"'1.Портфель кредитів'!D29","v":""},{"$f":"'1.Портфель кредитів'!#REF!","v":{"$error":"#REF!"}},{"$f":"'1.Портфель кредитів'!#REF!","v":{"$error":"#REF!"}},{"$f":"'1.Портфель кредитів'!#REF!","v":{"$error":"#REF!"}},{"$f":"'1.Портфель кредитів'!E29","v":0},{"$f":"'1.Портфель кредитів'!R29","v":0},{"$f":"'1.Портфель кредитів'!T29","v":""},4,"2018-06-01","_4_43252_2"]
[{"$f":"'1.Портфель кредитів'!#REF!","v":{"$error":"#REF!"}},{"$f":"'1.Портфель кредитів'!D30","v":""},{"$f":"'1.Портфель кредитів'!#REF!","v":{"$error":"#REF!"}},{"$f":"'1.Портфель кредитів'!#REF!","v":{"$error":"#REF!"}},{"$f":"'1.Портфель кредитів'!#REF!","v":{"$error":"#REF!"}},{"$f":"'1.Портфель кредитів'!E30","v":0},{"$f":"'1.Портфель кредитів'!R30","v":0},{"$f":"'1.Портфель кредитів'!T30","v":""},4,"2018-06-01","_4_43252_2"]
[{"$f":"'1.Портфель кредитів'!#REF!","v":{"$error":"#REF!"}},{"$f":"'1.Портфель кредитів'!D31","v":""},{"$f":"'1.Портфель кредитів'!#REF!","v":{"$error":"#REF!"}},{"$f":"'1.Портфель кредитів'!#REF!","v":{"$error":"#REF!"}},{"$f":"'1.Портфель кредитів'!#REF!","v":{"$error":"#REF!"}},{"$f":"'1.Портфель кредитів'!E31","v":0},{"$f":"'1.Портфель кредитів'!R31","v":0},{"$f":"'1.Портфель кредитів'!T31","v":""},4,"2018-06-01","_4_43252_2"]
[{"$f":"'1.Портфель кредитів'!#REF!","v":{"$error":"#REF!"}},{"$f":"'1.Портфель кредитів'!D32","v":""},{"$f":"'1.Портфель кредитів'!#REF!","v":{"$error":"#REF!"}},{"$f":"'1.Портфель кредитів'!#REF!","v":{"$error":"#REF!"}},{"$f":"'1.Портфель кредитів'!#REF!","v":{"$error":"#REF!"}},{"$f":"'1.Портфель кредитів'!E32","v":0},{"$f":"'1.Портфель кредитів'!R32","v":0},{"$f":"'1.Портфель кредитів'!T32","v":""},4,"2018-06-01","_4_43252_2"]
[{"$f":"'1.Портфель кредитів'!#REF!","v":{"$error":"#REF!"}},{"$f":"'1.Портфель кредитів'!D33","v":""},{"$f":"'1.Портфель кредитів'!#REF!","v":{"$error":"#REF!"}},{"$f":"'1.Портфель кредитів'!#REF!","v":{"$error":"#REF!"}},{"$f":"'1.Портфель кредитів'!#REF!","v":{"$error":"#REF!"}},{"$f":"'1.Портфель кредитів'!E33","v":0},{"$f":"'1.Портфель кредитів'!R33","v":0},{"$f":"'1.Портфель кредитів'!T33","v":""},4,"2018-06-01","_4_43252_2"]
[{"$f":"'1.Портфель кредитів'!#REF!","v":{"$error":"#REF!"}},{"$f":"'1.Портфель кредитів'!D34","v":""},{"$f":"'1.Портфель кредитів'!#REF!","v":{"$error":"#REF!"}},{"$f":"'1.Портфель кредитів'!#REF!","v":{"$error":"#REF!"}},{"$f":"'1.Портфель кредитів'!#REF!","v":{"$error":"#REF!"}},{"$f":"'1.Портфель кредитів'!E34","v":0},{"$f":"'1.Портфель кредитів'!R34","v":0},{"$f":"'1.Портфель кредитів'!T34","v":""},4,"2018-06-01","_4_43252_2"]
[{"$f":"'1.Портфель кредитів'!#REF!","v":{"$error":"#REF!"}},{"$f":"'1.Портфель кредитів'!D35","v":""},{"$f":"'1.Портфель кредитів'!#REF!","v":{"$error":"#REF!"}},{"$f":"'1.Портфель кредитів'!#REF!","v":{"$error":"#REF!"}},{"$f":"'1.Портфель кредитів'!#REF!","v":{"$error":"#REF!"}},{"$f":"'1.Портфель кредитів'!E35","v":0},{"$f":"'1.Портфель кредитів'!R35","v":0},{"$f":"'1.Портфель кредитів'!T35","v":""},4,"2018-06-01","_4_43252_2"]
[{"$f":"'1.Портфель кредитів'!#REF!","v":{"$error":"#REF!"}},{"$f":"'1.Портфель кредитів'!D36","v":""},{"$f":"'1.Портфель кредитів'!#REF!","v":{"$error":"#REF!"}},{"$f":"'1.Портфель кредитів'!#REF!","v":{"$error":"#REF!"}},{"$f":"'1.Портфель кредитів'!#REF!","v":{"$error":"#REF!"}},{"$f":"'1.Портфель кредитів'!E36","v":0},{"$f":"'1.Портфель кредитів'!R36","v":0},{"$f":"'1.Портфель кредитів'!T36","v":""},4,"2018-06-01","_4_43252_2"]
[{"$f":"'1.Портфель кредитів'!#REF!","v":{"$error":"#REF!"}},{"$f":"'1.Портфель кредитів'!D37","v":""},{"$f":"'1.Портфель кредитів'!#REF!","v":{"$error":"#REF!"}},{"$f":"'1.Портфель кредитів'!#REF!","v":{"$error":"#REF!"}},{"$f":"'1.Портфель кредитів'!#REF!","v":{"$error":"#REF!"}},{"$f":"'1.Портфель кредитів'!E37","v":0},{"$f":"'1.Портфель кредитів'!R37","v":0},{"$f":"'1.Портфель кредитів'!T37","v":""},4,"2018-06-01","_4_43252_2"]
[{"$f":"'1.Портфель кредитів'!#REF!","v":{"$error":"#REF!"}},{"$f":"'1.Портфель кредитів'!D38","v":""},{"$f":"'1.Портфель кредитів'!#REF!","v":{"$error":"#REF!"}},{"$f":"'1.Портфель кредитів'!#REF!","v":{"$error":"#REF!"}},{"$f":"'1.Портфель кредитів'!#REF!","v":{"$error":"#REF!"}},{"$f":"'1.Портфель кредитів'!E38","v":0},{"$f":"'1.Портфель кредитів'!R38","v":0},{"$f":"'1.Портфель кредитів'!T38","v":""},4,"2018-06-01","_4_43252_2"]
[{"$f":"'1.Портфель кредитів'!#REF!","v":{"$error":"#REF!"}},{"$f":"'1.Портфель кредитів'!D39","v":""},{"$f":"'1.Портфель кредитів'!#REF!","v":{"$error":"#REF!"}},{"$f":"'1.Портфель кредитів'!#REF!","v":{"$error":"#REF!"}},{"$f":"'1.Портфель кредитів'!#REF!","v":{"$error":"#REF!"}},{"$f":"'1.Портфель кредитів'!E39","v":0},{"$f":"'1.Портфель кредитів'!R39","v":0},{"$f":"'1.Портфель кредитів'!T39","v":""},4,"2018-06-01","_4_43252_2"]
[{"$f":"'1.Портфель кредитів'!#REF!","v":{"$error":"#REF!"}},{"$f":"'1.Портфель кредитів'!D40","v":""},{"$f":"'1.Портфель кредитів'!#REF!","v":{"$error":"#REF!"}},{"$f":"'1.Портфель кредитів'!#REF!","v":{"$error":"#REF!"}},{"$f":"'1.Портфель кредитів'!#REF!","v":{"$error":"#REF!"}},{"$f":"'1.Портфель кредитів'!E40","v":0},{"$f":"'1.Портфель кредитів'!R40","v":0},{"$f":"'1.Портфель кредитів'!T40","v":""},4,"2018-06-01","_4_43252_2"]
[{"$f":"'1.Портфель кредитів'!#REF!","v":{"$error":"#REF!"}},{"$f":"'1.Портфель кредитів'!D41","v":""},{"$f":"'1.Портфель кредитів'!#REF!","v":{"$error":"#REF!"}},{"$f":"'1.Портфель кредитів'!#REF!","v":{"$error":"#REF!"}},{"$f":"'1.Портфель кредитів'!#REF!","v":{"$error":"#REF!"}},{"$f":"'1.Портфель кредитів'!E41","v":0},{"$f":"'1.Портфель кредитів'!R41","v":0},{"$f":"'1.Портфель кредитів'!T41","v":""},4,"2018-06-01","_4_43252_2"]
[{"$f":"'1.Портфель кредитів'!#REF!","v":{"$error":"#REF!"}},{"$f":"'1.Портфель кредитів'!D42","v":""},{"$f":"'1.Портфель кредитів'!#REF!","v":{"$error":"#REF!"}},{"$f":"'1.Портфель кредитів'!#REF!","v":{"$error":"#REF!"}},{"$f":"'1.Портфель кредитів'!#REF!","v":{"$error":"#REF!"}},{"$f":"'1.Портфель кредитів'!E42","v":0},{"$f":"'1.Портфель кредитів'!R42","v":0},{"$f":"'1.Портфель кредитів'!T42","v":""},4,"2018-06-01","_4_43252_2"]
[{"$f":"'1.Портфель кредитів'!#REF!","v":{"$error":"#REF!"}},{"$f":"'1.Портфель кредитів'!D43","v":""},{"$f":"'1.Портфель кредитів'!#REF!","v":{"$error":"#REF!"}},{"$f":"'1.Портфель кредитів'!#REF!","v":{"$error":"#REF!"}},{"$f":"'1.Портфель кредитів'!#REF!","v":{"$error":"#REF!"}},{"$f":"'1.Портфель кредитів'!E43","v":0},{"$f":"'1.Портфель кредитів'!R43","v":0},{"$f":"'1.Портфель кредитів'!T43","v":""},4,"2018-06-01","_4_43252_2"]
[{"$f":"'1.Портфель кредитів'!#REF!","v":{"$error":"#REF!"}},{"$f":"'1.Портфель кредитів'!D44","v":""},{"$f":"'1.Портфель кредитів'!#REF!","v":{"$error":"#REF!"}},{"$f":"'1.Портфель кредитів'!#REF!","v":{"$error":"#REF!"}},{"$f":"'1.Портфель кредитів'!#REF!","v":{"$error":"#REF!"}},{"$f":"'1.Портфель кредитів'!E44","v":0},{"$f":"'1.Портфель кредитів'!R44","v":0},{"$f":"'1.Портфель кредитів'!T44","v":""},4,"2018-06-01","_4_43252_2"]
[{"$f":"'1.Портфель кредитів'!#REF!","v":{"$error":"#REF!"}},{"$f":"'1.Портфель кредитів'!D45","v":""},{"$f":"'1.Портфель кредитів'!#REF!","v":{"$error":"#REF!"}},{"$f":"'1.Портфель кредитів'!#REF!","v":{"$error":"#REF!"}},{"$f":"'1.Портфель кредитів'!#REF!","v":{"$error":"#REF!"}},{"$f":"'1.Портфель кредитів'!E45","v":0},{"$f":"'1.Портфель кредитів'!R45","v":0},{"$f":"'1.Портфель кредитів'!T45","v":""},4,"2018-06-01","_4_43252_2"]
[{"$f":"'1.Портфель кредитів'!#REF!","v":{"$error":"#REF!"}},{"$f":"'1.Портфель кредитів'!D46","v":""},{"$f":"'1.Портфель кредитів'!#REF!","v":{"$error":"#REF!"}},{"$f":"'1.Портфель кредитів'!#REF!","v":{"$error":"#REF!"}},{"$f":"'1.Портфель кредитів'!#REF!","v":{"$error":"#REF!"}},{"$f":"'1.Портфель кредитів'!E46","v":0},{"$f":"'1.Портфель кредитів'!R46","v":0},{"$f":"'1.Портфель кредитів'!T46","v":""},4,"2018-06-01","_4_43252_2"]
[{"$f":"'1.Портфель кредитів'!#REF!","v":{"$error":"#REF!"}},{"$f":"'1.Портфель кредитів'!D47","v":""},{"$f":"'1.Портфель кредитів'!#REF!","v":{"$error":"#REF!"}},{"$f":"'1.Портфель кредитів'!#REF!","v":{"$error":"#REF!"}},{"$f":"'1.Портфель кредитів'!#REF!","v":{"$error":"#REF!"}},{"$f":"'1.Портфель кредитів'!E47","v":0},{"$f":"'1.Портфель кредитів'!R47","v":0},{"$f":"'1.Портфель кредитів'!T47","v":""},4,"2018-06-01","_4_43252_2"]
[{"$f":"'1.Портфель кредитів'!#REF!","v":{"$error":"#REF!"}},{"$f":"'1.Портфель кредитів'!D48","v":""},{"$f":"'1.Портфель кредитів'!#REF!","v":{"$error":"#REF!"}},{"$f":"'1.Портфель кредитів'!#REF!","v":{"$error":"#REF!"}},{"$f":"'1.Портфель кредитів'!#REF!","v":{"$error":"#REF!"}},{"$f":"'1.Портфель кредитів'!E48","v":0},{"$f":"'1.Портфель кредитів'!R48","v":0},{"$f":"'1.Портфель кредитів'!T48","v":""},4,"2018-06-01","_4_43252_2"]
[{"$f":"'1.Портфель кредитів'!#REF!","v":{"$error":"#REF!"}},{"$f":"'1.Портфель кредитів'!D49","v":""},{"$f":"'1.Портфель кредитів'!#REF!","v":{"$error":"#REF!"}},{"$f":"'1.Портфель кредитів'!#REF!","v":{"$error":"#REF!"}},{"$f":"'1.Портфель кредитів'!#REF!","v":{"$error":"#REF!"}},{"$f":"'1.Портфель кредитів'!E49","v":0},{"$f":"'1.Портфель кредитів'!R49","v":0},{"$f":"'1.Портфель кредитів'!T49","v":""},4,"2018-06-01","_4_43252_2"]
[{"$f":"'1.Портфель кредитів'!#REF!","v":{"$error":"#REF!"}},{"$f":"'1.Портфель кредитів'!D50","v":""},{"$f":"'1.Портфель кредитів'!#REF!","v":{"$error":"#REF!"}},{"$f":"'1.Портфель кредитів'!#REF!","v":{"$error":"#REF!"}},{"$f":"'1.Портфель кредитів'!#REF!","v":{"$error":"#REF!"}},{"$f":"'1.Портфель кредитів'!E50","v":0},{"$f":"'1.Портфель кредитів'!R50","v":0},{"$f":"'1.Портфель кредитів'!T50","v":""},4,"2018-06-01","_4_43252_2"]
[{"$f":"'1.Портфель кредитів'!#REF!","v":{"$error":"#REF!"}},{"$f":"'1.Портфель кредитів'!D51","v":""},{"$f":"'1.Портфель кредитів'!#REF!","v":{"$error":"#REF!"}},{"$f":"'1.Портфель кредитів'!#REF!","v":{"$error":"#REF!"}},{"$f":"'1.Портфель кредитів'!#REF!","v":{"$error":"#REF!"}},{"$f":"'1.Портфель кредитів'!E51","v":0},{"$f":"'1.Портфель кредитів'!R51","v":0},{"$f":"'1.Портфель кредитів'!T51","v":""},4,"2018-06-01","_4_43252_2"]
[{"$f":"'1.Портфель кредитів'!#REF!","v":{"$error":"#REF!"}},{"$f":"'1.Портфель кредитів'!D52","v":""},{"$f":"'1.Портфель кредитів'!#REF!","v":{"$error":"#REF!"}},{"$f":"'1.Портфель кредитів'!#REF!","v":{"$error":"#REF!"}},{"$f":"'1.Портфель кредитів'!#REF!","v":{"$error":"#REF!"}},{"$f":"'1.Портфель кредитів'!E52","v":0},{"$f":"'1.Портфель кредитів'!R52","v":0},{"$f":"'1.Портфель кредитів'!T52","v":""},4,"2018-06-01","_4_43252_2"]
[{"$f":"'1.Портфель кредитів'!#REF!","v":{"$error":"#REF!"}},{"$f":"'1.Портфель кредитів'!D53","v":""},{"$f":"'1.Портфель кредитів'!#REF!","v":{"$error":"#REF!"}},{"$f":"'1.Портфель кредитів'!#REF!","v":{"$error":"#REF!"}},{"$f":"'1.Портфель кредитів'!#REF!","v":{"$error":"#REF!"}},{"$f":"'1.Портфель кредитів'!E53","v":0},{"$f":"'1.Портфель кредитів'!R53","v":0},{"$f":"'1.Портфель кредитів'!T53","v":""},4,"2018-06-01","_4_43252_2"]
[{"$f":"'1.Портфель кредитів'!#REF!","v":{"$error":"#REF!"}},{"$f":"'1.Портфель кредитів'!D54","v":""},{"$f":"'1.Портфель кредитів'!#REF!","v":{"$error":"#REF!"}},{"$f":"'1.Портфель кредитів'!#REF!","v":{"$error":"#REF!"}},{"$f":"'1.Портфель кредитів'!#REF!","v":{"$error":"#REF!"}},{"$f":"'1.Портфель кредитів'!E54","v":0},{"$f":"'1.Портфель кредитів'!R54","v":0},{"$f":"'1.Портфель кредитів'!T54","v":""},4,"2018-06-01","_4_43252_2"]
[{"$f":"'1.Портфель кредитів'!#REF!","v":{"$error":"#REF!"}},{"$f":"'1.Портфель кредитів'!D55","v":""},{"$f":"'1.Портфель кредитів'!#REF!","v":{"$error":"#REF!"}},{"$f":"'1.Портфель кредитів'!#REF!","v":{"$error":"#REF!"}},{"$f":"'1.Портфель кредитів'!#REF!","v":{"$error":"#REF!"}},{"$f":"'1.Портфель кредитів'!E55","v":0},{"$f":"'1.Портфель кредитів'!R55","v":0},{"$f":"'1.Портфель кредитів'!T55","v":""},4,"2018-06-01","_4_43252_2"]
[{"$f":"'1.Портфель кредитів'!#REF!","v":{"$error":"#REF!"}},{"$f":"'1.Портфель кредитів'!D56","v":""},{"$f":"'1.Портфель кредитів'!#REF!","v":{"$error":"#REF!"}},{"$f":"'1.Портфель кредитів'!#REF!","v":{"$error":"#REF!"}},{"$f":"'1.Портфель кредитів'!#REF!","v":{"$error":"#REF!"}},{"$f":"'1.Портфель кредитів'!E56","v":0},{"$f":"'1.Портфель кредитів'!R56","v":0},{"$f":"'1.Портфель кредитів'!T56","v":""},4,"2018-06-01","_4_43252_2"]
[{"$f":"'1.Портфель кредитів'!#REF!","v":{"$error":"#REF!"}},{"$f":"'1.Портфель кредитів'!D57","v":""},{"$f":"'1.Портфель кредитів'!#REF!","v":{"$error":"#REF!"}},{"$f":"'1.Портфель кредитів'!#REF!","v":{"$error":"#REF!"}},{"$f":"'1.Портфель кредитів'!#REF!","v":{"$error":"#REF!"}},{"$f":"'1.Портфель кредитів'!E57","v":0},{"$f":"'1.Портфель кредитів'!R57","v":0},{"$f":"'1.Портфель кредитів'!T57","v":""},4,"2018-06-01","_4_43252_2"]
[{"$f":"'1.Портфель кредитів'!#REF!","v":{"$error":"#REF!"}},{"$f":"'1.Портфель кредитів'!D58","v":""},{"$f":"'1.Портфель кредитів'!#REF!","v":{"$error":"#REF!"}},{"$f":"'1.Портфель кредитів'!#REF!","v":{"$error":"#REF!"}},{"$f":"'1.Портфель кредитів'!#REF!","v":{"$error":"#REF!"}},{"$f":"'1.Портфель кредитів'!E58","v":0},{"$f":"'1.Портфель кредитів'!R58","v":0},{"$f":"'1.Портфель кредитів'!T58","v":""},4,"2018-06-01","_4_43252_2"]
[{"$f":"'1.Портфель кредитів'!#REF!","v":{"$error":"#REF!"}},{"$f":"'1.Портфель кредитів'!D59","v":""},{"$f":"'1.Портфель кредитів'!#REF!","v":{"$error":"#REF!"}},{"$f":"'1.Портфель кредитів'!#REF!","v":{"$error":"#REF!"}},{"$f":"'1.Портфель кредитів'!#REF!","v":{"$error":"#REF!"}},{"$f":"'1.Портфель кредитів'!E59","v":0},{"$f":"'1.Портфель кредитів'!R59","v":0},{"$f":"'1.Портфель кредитів'!T59","v":""},4,"2018-06-01","_4_43252_2"]
[{"$f":"'1.Портфель кредитів'!#REF!","v":{"$error":"#REF!"}},{"$f":"'1.Портфель кредитів'!D60","v":""},{"$f":"'1.Портфель кредитів'!#REF!","v":{"$error":"#REF!"}},{"$f":"'1.Портфель кредитів'!#REF!","v":{"$error":"#REF!"}},{"$f":"'1.Портфель кредитів'!#REF!","v":{"$error":"#REF!"}},{"$f":"'1.Портфель кредитів'!E60","v":0},{"$f":"'1.Портфель кредитів'!R60","v":0},{"$f":"'1.Портфель кредитів'!T60","v":""},4,"2018-06-01","_4_43252_2"]
[{"$f":"'1.Портфель кредитів'!#REF!","v":{"$error":"#REF!"}},{"$f":"'1.Портфель кредитів'!D61","v":""},{"$f":"'1.Портфель кредитів'!#REF!","v":{"$error":"#REF!"}},{"$f":"'1.Портфель кредитів'!#REF!","v":{"$error":"#REF!"}},{"$f":"'1.Портфель кредитів'!#REF!","v":{"$error":"#REF!"}},{"$f":"'1.Портфель кредитів'!E61","v":0},{"$f":"'1.Портфель кредитів'!R61","v":0},{"$f":"'1.Портфель кредитів'!T61","v":""},4,"2018-06-01","_4_43252_2"]
[{"$f":"'1.Портфель кредитів'!#REF!","v":{"$error":"#REF!"}},{"$f":"'1.Портфель кредитів'!D62","v":""},{"$f":"'1.Портфель кредитів'!#REF!","v":{"$error":"#REF!"}},{"$f":"'1.Портфель кредитів'!#REF!","v":{"$error":"#REF!"}},{"$f":"'1.Портфель кредитів'!#REF!","v":{"$error":"#REF!"}},{"$f":"'1.Портфель кредитів'!E62","v":0},{"$f":"'1.Портфель кредитів'!R62","v":0},{"$f":"'1.Портфель кредитів'!T62","v":""},4,"2018-06-01","_4_43252_2"]
[{"$f":"'1.Портфель кредитів'!#REF!","v":{"$error":"#REF!"}},{"$f":"'1.Портфель кредитів'!D63","v":""},{"$f":"'1.Портфель кредитів'!#REF!","v":{"$error":"#REF!"}},{"$f":"'1.Портфель кредитів'!#REF!","v":{"$error":"#REF!"}},{"$f":"'1.Портфель кредитів'!#REF!","v":{"$error":"#REF!"}},{"$f":"'1.Портфель кредитів'!E63","v":0},{"$f":"'1.Портфель кредитів'!R63","v":0},{"$f":"'1.Портфель кредитів'!T63","v":""},4,"2018-06-01","_4_43252_2"]
[{"$f":"'1.Портфель кредитів'!#REF!","v":{"$error":"#REF!"}},{"$f":"'1.Портфель кредитів'!D64","v":""},{"$f":"'1.Портфель кредитів'!#REF!","v":{"$error":"#REF!"}},{"$f":"'1.Портфель кредитів'!#REF!","v":{"$error":"#REF!"}},{"$f":"'1.Портфель кредитів'!#REF!","v":{"$error":"#REF!"}},{"$f":"'1.Портфель кредитів'!E64","v":0},{"$f":"'1.Портфель кредитів'!R64","v":0},{"$f":"'1.Портфель кредитів'!T64","v":""},4,"2018-06-01","_4_43252_2"]
[{"$f":"'1.Портфель кредитів'!#REF!","v":{"$error":"#REF!"}},{"$f":"'1.Портфель кредитів'!D65","v":""},{"$f":"'1.Портфель кредитів'!#REF!","v":{"$error":"#REF!"}},{"$f":"'1.Портфель кредитів'!#REF!","v":{"$error":"#REF!"}},{"$f":"'1.Портфель кредитів'!#REF!","v":{"$error":"#REF!"}},{"$f":"'1.Портфель кредитів'!E65","v":0},{"$f":"'1.Портфель кредитів'!R65","v":0},{"$f":"'1.Портфель кредитів'!T65","v":""},4,"2018-06-01","_4_43252_2"]
[{"$f":"'1.Портфель кредитів'!#REF!","v":{"$error":"#REF!"}},{"$f":"'1.Портфель кредитів'!D66","v":""},{"$f":"'1.Портфель кредитів'!#REF!","v":{"$error":"#REF!"}},{"$f":"'1.Портфель кредитів'!#REF!","v":{"$error":"#REF!"}},{"$f":"'1.Портфель кредитів'!#REF!","v":{"$error":"#REF!"}},{"$f":"'1.Портфель кредитів'!E66","v":0},{"$f":"'1.Портфель кредитів'!R66","v":0},{"$f":"'1.Портфель кредитів'!T66","v":""},4,"2018-06-01","_4_43252_2"]
[{"$f":"'1.Портфель кредитів'!#REF!","v":{"$error":"#REF!"}},{"$f":"'1.Портфель кредитів'!D67","v":""},{"$f":"'1.Портфель кредитів'!#REF!","v":{"$error":"#REF!"}},{"$f":"'1.Портфель кредитів'!#REF!","v":{"$error":"#REF!"}},{"$f":"'1.Портфель кредитів'!#REF!","v":{"$error":"#REF!"}},{"$f":"'1.Портфель кредитів'!E67","v":0},{"$f":"'1.Портфель кредитів'!R67","v":0},{"$f":"'1.Портфель кредитів'!T67","v":""},{"$f":"$E$1","v":4},{"$f":"$E$2","v":"2018-06-01"},{"$f":"B70&\"_\"&I70&\"_\"&J70&\"_\"&$E$3","v":"_4_43252_2"}]
[{"$f":"'1.Портфель кредитів'!#REF!","v":{"$error":"#REF!"}},{"$f":"'1.Портфель кредитів'!D68","v":""},{"$f":"'1.Портфель кредитів'!#REF!","v":{"$error":"#REF!"}},{"$f":"'1.Портфель кредитів'!#REF!","v":{"$error":"#REF!"}},{"$f":"'1.Портфель кредитів'!#REF!","v":{"$error":"#REF!"}},{"$f":"'1.Портфель кредитів'!E68","v":0},{"$f":"'1.Портфель кредитів'!R68","v":0},{"$f":"'1.Портфель кредитів'!T68","v":""},4,"2018-06-01","_4_43252_2"]
[{"$f":"'1.Портфель кредитів'!#REF!","v":{"$error":"#REF!"}},{"$f":"'1.Портфель кредитів'!D69","v":""},{"$f":"'1.Портфель кредитів'!#REF!","v":{"$error":"#REF!"}},{"$f":"'1.Портфель кредитів'!#REF!","v":{"$error":"#REF!"}},{"$f":"'1.Портфель кредитів'!#REF!","v":{"$error":"#REF!"}},{"$f":"'1.Портфель кредитів'!E69","v":0},{"$f":"'1.Портфель кредитів'!R69","v":0},{"$f":"'1.Портфель кредитів'!T69","v":""},4,"2018-06-01","_4_43252_2"]
[{"$f":"'1.Портфель кредитів'!#REF!","v":{"$error":"#REF!"}},{"$f":"'1.Портфель кредитів'!D70","v":""},{"$f":"'1.Портфель кредитів'!#REF!","v":{"$error":"#REF!"}},{"$f":"'1.Портфель кредитів'!#REF!","v":{"$error":"#REF!"}},{"$f":"'1.Портфель кредитів'!#REF!","v":{"$error":"#REF!"}},{"$f":"'1.Портфель кредитів'!E70","v":0},{"$f":"'1.Портфель кредитів'!R70","v":0},{"$f":"'1.Портфель кредитів'!T70","v":""},4,"2018-06-01","_4_43252_2"]
[{"$f":"'1.Портфель кредитів'!#REF!","v":{"$error":"#REF!"}},{"$f":"'1.Портфель кредитів'!D71","v":""},{"$f":"'1.Портфель кредитів'!#REF!","v":{"$error":"#REF!"}},{"$f":"'1.Портфель кредитів'!#REF!","v":{"$error":"#REF!"}},{"$f":"'1.Портфель кредитів'!#REF!","v":{"$error":"#REF!"}},{"$f":"'1.Портфель кредитів'!E71","v":0},{"$f":"'1.Портфель кредитів'!R71","v":0},{"$f":"'1.Портфель кредитів'!T71","v":""},4,"2018-06-01","_4_43252_2"]
[{"$f":"'1.Портфель кредитів'!#REF!","v":{"$error":"#REF!"}},{"$f":"'1.Портфель кредитів'!D72","v":""},{"$f":"'1.Портфель кредитів'!#REF!","v":{"$error":"#REF!"}},{"$f":"'1.Портфель кредитів'!#REF!","v":{"$error":"#REF!"}},{"$f":"'1.Портфель кредитів'!#REF!","v":{"$error":"#REF!"}},{"$f":"'1.Портфель кредитів'!E72","v":0},{"$f":"'1.Портфель кредитів'!R72","v":0},{"$f":"'1.Портфель кредитів'!T72","v":""},4,"2018-06-01","_4_43252_2"]
[{"$f":"'1.Портфель кредитів'!#REF!","v":{"$error":"#REF!"}},{"$f":"'1.Портфель кредитів'!D73","v":""},{"$f":"'1.Портфель кредитів'!#REF!","v":{"$error":"#REF!"}},{"$f":"'1.Портфель кредитів'!#REF!","v":{"$error":"#REF!"}},{"$f":"'1.Портфель кредитів'!#REF!","v":{"$error":"#REF!"}},{"$f":"'1.Портфель кредитів'!E73","v":0},{"$f":"'1.Портфель кредитів'!R73","v":0},{"$f":"'1.Портфель кредитів'!T73","v":""},4,"2018-06-01","_4_43252_2"]
[{"$f":"'1.Портфель кредитів'!#REF!","v":{"$error":"#REF!"}},{"$f":"'1.Портфель кредитів'!D74","v":""},{"$f":"'1.Портфель кредитів'!#REF!","v":{"$error":"#REF!"}},{"$f":"'1.Портфель кредитів'!#REF!","v":{"$error":"#REF!"}},{"$f":"'1.Портфель кредитів'!#REF!","v":{"$error":"#REF!"}},{"$f":"'1.Портфель кредитів'!E74","v":0},{"$f":"'1.Портфель кредитів'!R74","v":0},{"$f":"'1.Портфель кредитів'!T74","v":""},4,"2018-06-01","_4_43252_2"]
[{"$f":"'1.Портфель кредитів'!#REF!","v":{"$error":"#REF!"}},{"$f":"'1.Портфель кредитів'!D75","v":""},{"$f":"'1.Портфель кредитів'!#REF!","v":{"$error":"#REF!"}},{"$f":"'1.Портфель кредитів'!#REF!","v":{"$error":"#REF!"}},{"$f":"'1.Портфель кредитів'!#REF!","v":{"$error":"#REF!"}},{"$f":"'1.Портфель кредитів'!E75","v":0},{"$f":"'1.Портфель кредитів'!R75","v":0},{"$f":"'1.Портфель кредитів'!T75","v":""},4,"2018-06-01","_4_43252_2"]
[{"$f":"'1.Портфель кредитів'!#REF!","v":{"$error":"#REF!"}},{"$f":"'1.Портфель кредитів'!D76","v":""},{"$f":"'1.Портфель кредитів'!#REF!","v":{"$error":"#REF!"}},{"$f":"'1.Портфель кредитів'!#REF!","v":{"$error":"#REF!"}},{"$f":"'1.Портфель кредитів'!#REF!","v":{"$error":"#REF!"}},{"$f":"'1.Портфель кредитів'!E76","v":0},{"$f":"'1.Портфель кредитів'!R76","v":0},{"$f":"'1.Портфель кредитів'!T76","v":""},4,"2018-06-01","_4_43252_2"]
[{"$f":"'1.Портфель кредитів'!#REF!","v":{"$error":"#REF!"}},{"$f":"'1.Портфель кредитів'!D77","v":""},{"$f":"'1.Портфель кредитів'!#REF!","v":{"$error":"#REF!"}},{"$f":"'1.Портфель кредитів'!#REF!","v":{"$error":"#REF!"}},{"$f":"'1.Портфель кредитів'!#REF!","v":{"$error":"#REF!"}},{"$f":"'1.Портфель кредитів'!E77","v":0},{"$f":"'1.Портфель кредитів'!R77","v":0},{"$f":"'1.Портфель кредитів'!T77","v":""},4,"2018-06-01","_4_43252_2"]
[{"$f":"'1.Портфель кредитів'!#REF!","v":{"$error":"#REF!"}},{"$f":"'1.Портфель кредитів'!D78","v":""},{"$f":"'1.Портфель кредитів'!#REF!","v":{"$error":"#REF!"}},{"$f":"'1.Портфель кредитів'!#REF!","v":{"$error":"#REF!"}},{"$f":"'1.Портфель кредитів'!#REF!","v":{"$error":"#REF!"}},{"$f":"'1.Портфель кредитів'!E78","v":0},{"$f":"'1.Портфель кредитів'!R78","v":0},{"$f":"'1.Портфель кредитів'!T78","v":""},4,"2018-06-01","_4_43252_2"]
[{"$f":"'1.Портфель кредитів'!#REF!","v":{"$error":"#REF!"}},{"$f":"'1.Портфель кредитів'!D79","v":""},{"$f":"'1.Портфель кредитів'!#REF!","v":{"$error":"#REF!"}},{"$f":"'1.Портфель кредитів'!#REF!","v":{"$error":"#REF!"}},{"$f":"'1.Портфель кредитів'!#REF!","v":{"$error":"#REF!"}},{"$f":"'1.Портфель кредитів'!E79","v":0},{"$f":"'1.Портфель кредитів'!R79","v":0},{"$f":"'1.Портфель кредитів'!T79","v":""},4,"2018-06-01","_4_43252_2"]
[{"$f":"'1.Портфель кредитів'!#REF!","v":{"$error":"#REF!"}},{"$f":"'1.Портфель кредитів'!D80","v":""},{"$f":"'1.Портфель кредитів'!#REF!","v":{"$error":"#REF!"}},{"$f":"'1.Портфель кредитів'!#REF!","v":{"$error":"#REF!"}},{"$f":"'1.Портфель кредитів'!#REF!","v":{"$error":"#REF!"}},{"$f":"'1.Портфель кредитів'!E80","v":0},{"$f":"'1.Портфель кредитів'!R80","v":0},{"$f":"'1.Портфель кредитів'!T80","v":""},4,"2018-06-01","_4_43252_2"]
[{"$f":"'1.Портфель кредитів'!#REF!","v":{"$error":"#REF!"}},{"$f":"'1.Портфель кредитів'!D81","v":""},{"$f":"'1.Портфель кредитів'!#REF!","v":{"$error":"#REF!"}},{"$f":"'1.Портфель кредитів'!#REF!","v":{"$error":"#REF!"}},{"$f":"'1.Портфель кредитів'!#REF!","v":{"$error":"#REF!"}},{"$f":"'1.Портфель кредитів'!E81","v":0},{"$f":"'1.Портфель кредитів'!R81","v":0},{"$f":"'1.Портфель кредитів'!T81","v":""},4,"2018-06-01","_4_43252_2"]
[{"$f":"'1.Портфель кредитів'!#REF!","v":{"$error":"#REF!"}},{"$f":"'1.Портфель кредитів'!D82","v":""},{"$f":"'1.Портфель кредитів'!#REF!","v":{"$error":"#REF!"}},{"$f":"'1.Портфель кредитів'!#REF!","v":{"$error":"#REF!"}},{"$f":"'1.Портфель кредитів'!#REF!","v":{"$error":"#REF!"}},{"$f":"'1.Портфель кредитів'!E82","v":0},{"$f":"'1.Портфель кредитів'!R82","v":0},{"$f":"'1.Портфель кредитів'!T82","v":""},4,"2018-06-01","_4_43252_2"]
[{"$f":"'1.Портфель кредитів'!#REF!","v":{"$error":"#REF!"}},{"$f":"'1.Портфель кредитів'!D83","v":""},{"$f":"'1.Портфель кредитів'!#REF!","v":{"$error":"#REF!"}},{"$f":"'1.Портфель кредитів'!#REF!","v":{"$error":"#REF!"}},{"$f":"'1.Портфель кредитів'!#REF!","v":{"$error":"#REF!"}},{"$f":"'1.Портфель кредитів'!E83","v":0},{"$f":"'1.Портфель кредитів'!R83","v":0},{"$f":"'1.Портфель кредитів'!T83","v":""},4,"2018-06-01","_4_43252_2"]
[{"$f":"'1.Портфель кредитів'!#REF!","v":{"$error":"#REF!"}},{"$f":"'1.Портфель кредитів'!D84","v":""},{"$f":"'1.Портфель кредитів'!#REF!","v":{"$error":"#REF!"}},{"$f":"'1.Портфель кредитів'!#REF!","v":{"$error":"#REF!"}},{"$f":"'1.Портфель кредитів'!#REF!","v":{"$error":"#REF!"}},{"$f":"'1.Портфель кредитів'!E84","v":0},{"$f":"'1.Портфель кредитів'!R84","v":0},{"$f":"'1.Портфель кредитів'!T84","v":""},4,"2018-06-01","_4_43252_2"]
[{"$f":"'1.Портфель кредитів'!#REF!","v":{"$error":"#REF!"}},{"$f":"'1.Портфель кредитів'!D85","v":""},{"$f":"'1.Портфель кредитів'!#REF!","v":{"$error":"#REF!"}},{"$f":"'1.Портфель кредитів'!#REF!","v":{"$error":"#REF!"}},{"$f":"'1.Портфель кредитів'!#REF!","v":{"$error":"#REF!"}},{"$f":"'1.Портфель кредитів'!E85","v":0},{"$f":"'1.Портфель кредитів'!R85","v":0},{"$f":"'1.Портфель кредитів'!T85","v":""},4,"2018-06-01","_4_43252_2"]
[{"$f":"'1.Портфель кредитів'!#REF!","v":{"$error":"#REF!"}},{"$f":"'1.Портфель кредитів'!D86","v":""},{"$f":"'1.Портфель кредитів'!#REF!","v":{"$error":"#REF!"}},{"$f":"'1.Портфель кредитів'!#REF!","v":{"$error":"#REF!"}},{"$f":"'1.Портфель кредитів'!#REF!","v":{"$error":"#REF!"}},{"$f":"'1.Портфель кредитів'!E86","v":0},{"$f":"'1.Портфель кредитів'!R86","v":0},{"$f":"'1.Портфель кредитів'!T86","v":""},4,"2018-06-01","_4_43252_2"]
[{"$f":"'1.Портфель кредитів'!#REF!","v":{"$error":"#REF!"}},{"$f":"'1.Портфель кредитів'!D87","v":""},{"$f":"'1.Портфель кредитів'!#REF!","v":{"$error":"#REF!"}},{"$f":"'1.Портфель кредитів'!#REF!","v":{"$error":"#REF!"}},{"$f":"'1.Портфель кредитів'!#REF!","v":{"$error":"#REF!"}},{"$f":"'1.Портфель кредитів'!E87","v":0},{"$f":"'1.Портфель кредитів'!R87","v":0},{"$f":"'1.Портфель кредитів'!T87","v":""},4,"2018-06-01","_4_43252_2"]
[{"$f":"'1.Портфель кредитів'!#REF!","v":{"$error":"#REF!"}},{"$f":"'1.Портфель кредитів'!D88","v":""},{"$f":"'1.Портфель кредитів'!#REF!","v":{"$error":"#REF!"}},{"$f":"'1.Портфель кредитів'!#REF!","v":{"$error":"#REF!"}},{"$f":"'1.Портфель кредитів'!#REF!","v":{"$error":"#REF!"}},{"$f":"'1.Портфель кредитів'!E88","v":0},{"$f":"'1.Портфель кредитів'!R88","v":0},{"$f":"'1.Портфель кредитів'!T88","v":""},4,"2018-06-01","_4_43252_2"]
[{"$f":"'1.Портфель кредитів'!#REF!","v":{"$error":"#REF!"}},{"$f":"'1.Портфель кредитів'!D89","v":""},{"$f":"'1.Портфель кредитів'!#REF!","v":{"$error":"#REF!"}},{"$f":"'1.Портфель кредитів'!#REF!","v":{"$error":"#REF!"}},{"$f":"'1.Портфель кредитів'!#REF!","v":{"$error":"#REF!"}},{"$f":"'1.Портфель кредитів'!E89","v":0},{"$f":"'1.Портфель кредитів'!R89","v":0},{"$f":"'1.Портфель кредитів'!T89","v":""},4,"2018-06-01","_4_43252_2"]
[{"$f":"'1.Портфель кредитів'!#REF!","v":{"$error":"#REF!"}},{"$f":"'1.Портфель кредитів'!D90","v":""},{"$f":"'1.Портфель кредитів'!#REF!","v":{"$error":"#REF!"}},{"$f":"'1.Портфель кредитів'!#REF!","v":{"$error":"#REF!"}},{"$f":"'1.Портфель кредитів'!#REF!","v":{"$error":"#REF!"}},{"$f":"'1.Портфель кредитів'!E90","v":0},{"$f":"'1.Портфель кредитів'!R90","v":0},{"$f":"'1.Портфель кредитів'!T90","v":""},4,"2018-06-01","_4_43252_2"]
[{"$f":"'1.Портфель кредитів'!#REF!","v":{"$error":"#REF!"}},{"$f":"'1.Портфель кредитів'!D91","v":""},{"$f":"'1.Портфель кредитів'!#REF!","v":{"$error":"#REF!"}},{"$f":"'1.Портфель кредитів'!#REF!","v":{"$error":"#REF!"}},{"$f":"'1.Портфель кредитів'!#REF!","v":{"$error":"#REF!"}},{"$f":"'1.Портфель кредитів'!E91","v":0},{"$f":"'1.Портфель кредитів'!R91","v":0},{"$f":"'1.Портфель кредитів'!T91","v":""},4,"2018-06-01","_4_43252_2"]
[{"$f":"'1.Портфель кредитів'!#REF!","v":{"$error":"#REF!"}},{"$f":"'1.Портфель кредитів'!D92","v":""},{"$f":"'1.Портфель кредитів'!#REF!","v":{"$error":"#REF!"}},{"$f":"'1.Портфель кредитів'!#REF!","v":{"$error":"#REF!"}},{"$f":"'1.Портфель кредитів'!#REF!","v":{"$error":"#REF!"}},{"$f":"'1.Портфель кредитів'!E92","v":0},{"$f":"'1.Портфель кредитів'!R92","v":0},{"$f":"'1.Портфель кредитів'!T92","v":""},4,"2018-06-01","_4_43252_2"]
[{"$f":"'1.Портфель кредитів'!#REF!","v":{"$error":"#REF!"}},{"$f":"'1.Портфель кредитів'!D93","v":""},{"$f":"'1.Портфель кредитів'!#REF!","v":{"$error":"#REF!"}},{"$f":"'1.Портфель кредитів'!#REF!","v":{"$error":"#REF!"}},{"$f":"'1.Портфель кредитів'!#REF!","v":{"$error":"#REF!"}},{"$f":"'1.Портфель кредитів'!E93","v":0},{"$f":"'1.Портфель кредитів'!R93","v":0},{"$f":"'1.Портфель кредитів'!T93","v":""},4,"2018-06-01","_4_43252_2"]
[{"$f":"'1.Портфель кредитів'!#REF!","v":{"$error":"#REF!"}},{"$f":"'1.Портфель кредитів'!D94","v":""},{"$f":"'1.Портфель кредитів'!#REF!","v":{"$error":"#REF!"}},{"$f":"'1.Портфель кредитів'!#REF!","v":{"$error":"#REF!"}},{"$f":"'1.Портфель кредитів'!#REF!","v":{"$error":"#REF!"}},{"$f":"'1.Портфель кредитів'!E94","v":0},{"$f":"'1.Портфель кредитів'!R94","v":0},{"$f":"'1.Портфель кредитів'!T94","v":""},4,"2018-06-01","_4_43252_2"]
[{"$f":"'1.Портфель кредитів'!#REF!","v":{"$error":"#REF!"}},{"$f":"'1.Портфель кредитів'!D95","v":""},{"$f":"'1.Портфель кредитів'!#REF!","v":{"$error":"#REF!"}},{"$f":"'1.Портфель кредитів'!#REF!","v":{"$error":"#REF!"}},{"$f":"'1.Портфель кредитів'!#REF!","v":{"$error":"#REF!"}},{"$f":"'1.Портфель кредитів'!E95","v":0},{"$f":"'1.Портфель кредитів'!R95","v":0},{"$f":"'1.Портфель кредитів'!T95","v":""},4,"2018-06-01","_4_43252_2"]
[{"$f":"'1.Портфель кредитів'!#REF!","v":{"$error":"#REF!"}},{"$f":"'1.Портфель кредитів'!D96","v":""},{"$f":"'1.Портфель кредитів'!#REF!","v":{"$error":"#REF!"}},{"$f":"'1.Портфель кредитів'!#REF!","v":{"$error":"#REF!"}},{"$f":"'1.Портфель кредитів'!#REF!","v":{"$error":"#REF!"}},{"$f":"'1.Портфель кредитів'!E96","v":0},{"$f":"'1.Портфель кредитів'!R96","v":0},{"$f":"'1.Портфель кредитів'!T96","v":""},4,"2018-06-01","_4_43252_2"]
[{"$f":"'1.Портфель кредитів'!#REF!","v":{"$error":"#REF!"}},{"$f":"'1.Портфель кредитів'!D97","v":""},{"$f":"'1.Портфель кредитів'!#REF!","v":{"$error":"#REF!"}},{"$f":"'1.Портфель кредитів'!#REF!","v":{"$error":"#REF!"}},{"$f":"'1.Портфель кредитів'!#REF!","v":{"$error":"#REF!"}},{"$f":"'1.Портфель кредитів'!E97","v":0},{"$f":"'1.Портфель кредитів'!R97","v":0},{"$f":"'1.Портфель кредитів'!T97","v":""},4,"2018-06-01","_4_43252_2"]
[{"$f":"'1.Портфель кредитів'!#REF!","v":{"$error":"#REF!"}},{"$f":"'1.Портфель кредитів'!D98","v":""},{"$f":"'1.Портфель кредитів'!#REF!","v":{"$error":"#REF!"}},{"$f":"'1.Портфель кредитів'!#REF!","v":{"$error":"#REF!"}},{"$f":"'1.Портфель кредитів'!#REF!","v":{"$error":"#REF!"}},{"$f":"'1.Портфель кредитів'!E98","v":0},{"$f":"'1.Портфель кредитів'!R98","v":0},{"$f":"'1.Портфель кредитів'!T98","v":""},4,"2018-06-01","_4_43252_2"]
[{"$f":"'1.Портфель кредитів'!#REF!","v":{"$error":"#REF!"}},{"$f":"'1.Портфель кредитів'!D99","v":""},{"$f":"'1.Портфель кредитів'!#REF!","v":{"$error":"#REF!"}},{"$f":"'1.Портфель кредитів'!#REF!","v":{"$error":"#REF!"}},{"$f":"'1.Портфель кредитів'!#REF!","v":{"$error":"#REF!"}},{"$f":"'1.Портфель кредитів'!E99","v":0},{"$f":"'1.Портфель кредитів'!R99","v":0},{"$f":"'1.Портфель кредитів'!T99","v":""},4,"2018-06-01","_4_43252_2"]
[{"$f":"'1.Портфель кредитів'!#REF!","v":{"$error":"#REF!"}},{"$f":"'1.Портфель кредитів'!D100","v":""},{"$f":"'1.Портфель кредитів'!#REF!","v":{"$error":"#REF!"}},{"$f":"'1.Портфель кредитів'!#REF!","v":{"$error":"#REF!"}},{"$f":"'1.Портфель кредитів'!#REF!","v":{"$error":"#REF!"}},{"$f":"'1.Портфель кредитів'!E100","v":0},{"$f":"'1.Портфель кредитів'!R100","v":0},{"$f":"'1.Портфель кредитів'!T100","v":""},4,"2018-06-01","_4_43252_2"]
[{"$f":"'1.Портфель кредитів'!#REF!","v":{"$error":"#REF!"}},{"$f":"'1.Портфель кредитів'!D101","v":""},{"$f":"'1.Портфель кредитів'!#REF!","v":{"$error":"#REF!"}},{"$f":"'1.Портфель кредитів'!#REF!","v":{"$error":"#REF!"}},{"$f":"'1.Портфель кредитів'!#REF!","v":{"$error":"#REF!"}},{"$f":"'1.Портфель кредитів'!E101","v":0},{"$f":"'1.Портфель кредитів'!R101","v":0},{"$f":"'1.Портфель кредитів'!T101","v":""},4,"2018-06-01","_4_43252_2"]
[{"$f":"'1.Портфель кредитів'!#REF!","v":{"$error":"#REF!"}},{"$f":"'1.Портфель кредитів'!D102","v":""},{"$f":"'1.Портфель кредитів'!#REF!","v":{"$error":"#REF!"}},{"$f":"'1.Портфель кредитів'!#REF!","v":{"$error":"#REF!"}},{"$f":"'1.Портфель кредитів'!#REF!","v":{"$error":"#REF!"}},{"$f":"'1.Портфель кредитів'!E102","v":0},{"$f":"'1.Портфель кредитів'!R102","v":0},{"$f":"'1.Портфель кредитів'!T102","v":""},4,"2018-06-01","_4_43252_2"]
[{"$f":"'1.Портфель кредитів'!#REF!","v":{"$error":"#REF!"}},{"$f":"'1.Портфель кредитів'!D103","v":""},{"$f":"'1.Портфель кредитів'!#REF!","v":{"$error":"#REF!"}},{"$f":"'1.Портфель кредитів'!#REF!","v":{"$error":"#REF!"}},{"$f":"'1.Портфель кредитів'!#REF!","v":{"$error":"#REF!"}},{"$f":"'1.Портфель кредитів'!E103","v":0},{"$f":"'1.Портфель кредитів'!R103","v":0},{"$f":"'1.Портфель кредитів'!T103","v":""},4,"2018-06-01","_4_43252_2"]
[{"$f":"'1.Портфель кредитів'!#REF!","v":{"$error":"#REF!"}},{"$f":"'1.Портфель кредитів'!D104","v":""},{"$f":"'1.Портфель кредитів'!#REF!","v":{"$error":"#REF!"}},{"$f":"'1.Портфель кредитів'!#REF!","v":{"$error":"#REF!"}},{"$f":"'1.Портфель кредитів'!#REF!","v":{"$error":"#REF!"}},{"$f":"'1.Портфель кредитів'!E104","v":0},{"$f":"'1.Портфель кредитів'!R104","v":0},{"$f":"'1.Портфель кредитів'!T104","v":""},4,"2018-06-01","_4_43252_2"]
[{"$f":"'1.Портфель кредитів'!#REF!","v":{"$error":"#REF!"}},{"$f":"'1.Портфель кредитів'!D105","v":""},{"$f":"'1.Портфель кредитів'!#REF!","v":{"$error":"#REF!"}},{"$f":"'1.Портфель кредитів'!#REF!","v":{"$error":"#REF!"}},{"$f":"'1.Портфель кредитів'!#REF!","v":{"$error":"#REF!"}},{"$f":"'1.Портфель кредитів'!E105","v":0},{"$f":"'1.Портфель кредитів'!R105","v":0},{"$f":"'1.Портфель кредитів'!T105","v":""},4,"2018-06-01","_4_43252_2"]
[{"$f":"'1.Портфель кредитів'!#REF!","v":{"$error":"#REF!"}},{"$f":"'1.Портфель кредитів'!D106","v":""},{"$f":"'1.Портфель кредитів'!#REF!","v":{"$error":"#REF!"}},{"$f":"'1.Портфель кредитів'!#REF!","v":{"$error":"#REF!"}},{"$f":"'1.Портфель кредитів'!#REF!","v":{"$error":"#REF!"}},{"$f":"'1.Портфель кредитів'!E106","v":0},{"$f":"'1.Портфель кредитів'!R106","v":0},{"$f":"'1.Портфель кредитів'!T106","v":""},4,"2018-06-01","_4_43252_2"]
[{"$f":"'1.Портфель кредитів'!#REF!","v":{"$error":"#REF!"}},{"$f":"'1.Портфель кредитів'!D107","v":""},{"$f":"'1.Портфель кредитів'!#REF!","v":{"$error":"#REF!"}},{"$f":"'1.Портфель кредитів'!#REF!","v":{"$error":"#REF!"}},{"$f":"'1.Портфель кредитів'!#REF!","v":{"$error":"#REF!"}},{"$f":"'1.Портфель кредитів'!E107","v":0},{"$f":"'1.Портфель кредитів'!R107","v":0},{"$f":"'1.Портфель кредитів'!T107","v":""},4,"2018-06-01","_4_43252_2"]
[{"$f":"'1.Портфель кредитів'!#REF!","v":{"$error":"#REF!"}},{"$f":"'1.Портфель кредитів'!D108","v":""},{"$f":"'1.Портфель кредитів'!#REF!","v":{"$error":"#REF!"}},{"$f":"'1.Портфель кредитів'!#REF!","v":{"$error":"#REF!"}},{"$f":"'1.Портфель кредитів'!#REF!","v":{"$error":"#REF!"}},{"$f":"'1.Портфель кредитів'!E108","v":0},{"$f":"'1.Портфель кредитів'!R108","v":0},{"$f":"'1.Портфель кредитів'!T108","v":""},4,"2018-06-01","_4_43252_2"]
[{"$f":"'1.Портфель кредитів'!#REF!","v":{"$error":"#REF!"}},{"$f":"'1.Портфель кредитів'!D109","v":""},{"$f":"'1.Портфель кредитів'!#REF!","v":{"$error":"#REF!"}},{"$f":"'1.Портфель кредитів'!#REF!","v":{"$error":"#REF!"}},{"$f":"'1.Портфель кредитів'!#REF!","v":{"$error":"#REF!"}},{"$f":"'1.Портфель кредитів'!E109","v":0},{"$f":"'1.Портфель кредитів'!R109","v":0},{"$f":"'1.Портфель кредитів'!T109","v":""},4,"2018-06-01","_4_43252_2"]
[{"$f":"'1.Портфель кредитів'!#REF!","v":{"$error":"#REF!"}},{"$f":"'1.Портфель кредитів'!D110","v":""},{"$f":"'1.Портфель кредитів'!#REF!","v":{"$error":"#REF!"}},{"$f":"'1.Портфель кредитів'!#REF!","v":{"$error":"#REF!"}},{"$f":"'1.Портфель кредитів'!#REF!","v":{"$error":"#REF!"}},{"$f":"'1.Портфель кредитів'!E110","v":0},{"$f":"'1.Портфель кредитів'!R110","v":0},{"$f":"'1.Портфель кредитів'!T110","v":""},4,"2018-06-01","_4_43252_2"]
[{"$f":"'1.Портфель кредитів'!#REF!","v":{"$error":"#REF!"}},{"$f":"'1.Портфель кредитів'!D111","v":""},{"$f":"'1.Портфель кредитів'!#REF!","v":{"$error":"#REF!"}},{"$f":"'1.Портфель кредитів'!#REF!","v":{"$error":"#REF!"}},{"$f":"'1.Портфель кредитів'!#REF!","v":{"$error":"#REF!"}},{"$f":"'1.Портфель кредитів'!E111","v":0},{"$f":"'1.Портфель кредитів'!R111","v":0},{"$f":"'1.Портфель кредитів'!T111","v":""},4,"2018-06-01","_4_43252_2"]
[{"$f":"'1.Портфель кредитів'!#REF!","v":{"$error":"#REF!"}},{"$f":"'1.Портфель кредитів'!D112","v":""},{"$f":"'1.Портфель кредитів'!#REF!","v":{"$error":"#REF!"}},{"$f":"'1.Портфель кредитів'!#REF!","v":{"$error":"#REF!"}},{"$f":"'1.Портфель кредитів'!#REF!","v":{"$error":"#REF!"}},{"$f":"'1.Портфель кредитів'!E112","v":0},{"$f":"'1.Портфель кредитів'!R112","v":0},{"$f":"'1.Портфель кредитів'!T112","v":""},4,"2018-06-01","_4_43252_2"]
[{"$f":"'1.Портфель кредитів'!#REF!","v":{"$error":"#REF!"}},{"$f":"'1.Портфель кредитів'!D113","v":""},{"$f":"'1.Портфель кредитів'!#REF!","v":{"$error":"#REF!"}},{"$f":"'1.Портфель кредитів'!#REF!","v":{"$error":"#REF!"}},{"$f":"'1.Портфель кредитів'!#REF!","v":{"$error":"#REF!"}},{"$f":"'1.Портфель кредитів'!E113","v":0},{"$f":"'1.Портфель кредитів'!R113","v":0},{"$f":"'1.Портфель кредитів'!T113","v":""},4,"2018-06-01","_4_43252_2"]
[{"$f":"'1.Портфель кредитів'!#REF!","v":{"$error":"#REF!"}},{"$f":"'1.Портфель кредитів'!D114","v":""},{"$f":"'1.Портфель кредитів'!#REF!","v":{"$error":"#REF!"}},{"$f":"'1.Портфель кредитів'!#REF!","v":{"$error":"#REF!"}},{"$f":"'1.Портфель кредитів'!#REF!","v":{"$error":"#REF!"}},{"$f":"'1.Портфель кредитів'!E114","v":0},{"$f":"'1.Портфель кредитів'!R114","v":0},{"$f":"'1.Портфель кредитів'!T114","v":""},4,"2018-06-01","_4_43252_2"]
[{"$f":"'1.Портфель кредитів'!#REF!","v":{"$error":"#REF!"}},{"$f":"'1.Портфель кредитів'!D115","v":""},{"$f":"'1.Портфель кредитів'!#REF!","v":{"$error":"#REF!"}},{"$f":"'1.Портфель кредитів'!#REF!","v":{"$error":"#REF!"}},{"$f":"'1.Портфель кредитів'!#REF!","v":{"$error":"#REF!"}},{"$f":"'1.Портфель кредитів'!E115","v":0},{"$f":"'1.Портфель кредитів'!R115","v":0},{"$f":"'1.Портфель кредитів'!T115","v":""},4,"2018-06-01","_4_43252_2"]
[{"$f":"'1.Портфель кредитів'!#REF!","v":{"$error":"#REF!"}},{"$f":"'1.Портфель кредитів'!D116","v":""},{"$f":"'1.Портфель кредитів'!#REF!","v":{"$error":"#REF!"}},{"$f":"'1.Портфель кредитів'!#REF!","v":{"$error":"#REF!"}},{"$f":"'1.Портфель кредитів'!#REF!","v":{"$error":"#REF!"}},{"$f":"'1.Портфель кредитів'!E116","v":0},{"$f":"'1.Портфель кредитів'!R116","v":0},{"$f":"'1.Портфель кредитів'!T116","v":""},4,"2018-06-01","_4_43252_2"]
[{"$f":"'1.Портфель кредитів'!#REF!","v":{"$error":"#REF!"}},{"$f":"'1.Портфель кредитів'!D117","v":""},{"$f":"'1.Портфель кредитів'!#REF!","v":{"$error":"#REF!"}},{"$f":"'1.Портфель кредитів'!#REF!","v":{"$error":"#REF!"}},{"$f":"'1.Портфель кредитів'!#REF!","v":{"$error":"#REF!"}},{"$f":"'1.Портфель кредитів'!E117","v":0},{"$f":"'1.Портфель кредитів'!R117","v":0},{"$f":"'1.Портфель кредитів'!T117","v":""},4,"2018-06-01","_4_43252_2"]
[{"$f":"'1.Портфель кредитів'!#REF!","v":{"$error":"#REF!"}},{"$f":"'1.Портфель кредитів'!D118","v":""},{"$f":"'1.Портфель кредитів'!#REF!","v":{"$error":"#REF!"}},{"$f":"'1.Портфель кредитів'!#REF!","v":{"$error":"#REF!"}},{"$f":"'1.Портфель кредитів'!#REF!","v":{"$error":"#REF!"}},{"$f":"'1.Портфель кредитів'!E118","v":0},{"$f":"'1.Портфель кредитів'!R118","v":0},{"$f":"'1.Портфель кредитів'!T118","v":""},4,"2018-06-01","_4_43252_2"]
[{"$f":"'1.Портфель кредитів'!#REF!","v":{"$error":"#REF!"}},{"$f":"'1.Портфель кредитів'!D119","v":""},{"$f":"'1.Портфель кредитів'!#REF!","v":{"$error":"#REF!"}},{"$f":"'1.Портфель кредитів'!#REF!","v":{"$error":"#REF!"}},{"$f":"'1.Портфель кредитів'!#REF!","v":{"$error":"#REF!"}},{"$f":"'1.Портфель кредитів'!E119","v":0},{"$f":"'1.Портфель кредитів'!R119","v":0},{"$f":"'1.Портфель кредитів'!T119","v":""},4,"2018-06-01","_4_43252_2"]
[{"$f":"'1.Портфель кредитів'!#REF!","v":{"$error":"#REF!"}},{"$f":"'1.Портфель кредитів'!D120","v":""},{"$f":"'1.Портфель кредитів'!#REF!","v":{"$error":"#REF!"}},{"$f":"'1.Портфель кредитів'!#REF!","v":{"$error":"#REF!"}},{"$f":"'1.Портфель кредитів'!#REF!","v":{"$error":"#REF!"}},{"$f":"'1.Портфель кредитів'!E120","v":0},{"$f":"'1.Портфель кредитів'!R120","v":0},{"$f":"'1.Портфель кредитів'!T120","v":""},4,"2018-06-01","_4_43252_2"]
[{"$f":"'1.Портфель кредитів'!#REF!","v":{"$error":"#REF!"}},{"$f":"'1.Портфель кредитів'!D121","v":""},{"$f":"'1.Портфель кредитів'!#REF!","v":{"$error":"#REF!"}},{"$f":"'1.Портфель кредитів'!#REF!","v":{"$error":"#REF!"}},{"$f":"'1.Портфель кредитів'!#REF!","v":{"$error":"#REF!"}},{"$f":"'1.Портфель кредитів'!E121","v":0},{"$f":"'1.Портфель кредитів'!R121","v":0},{"$f":"'1.Портфель кредитів'!T121","v":""},4,"2018-06-01","_4_43252_2"]
[{"$f":"'1.Портфель кредитів'!#REF!","v":{"$error":"#REF!"}},{"$f":"'1.Портфель кредитів'!D122","v":""},{"$f":"'1.Портфель кредитів'!#REF!","v":{"$error":"#REF!"}},{"$f":"'1.Портфель кредитів'!#REF!","v":{"$error":"#REF!"}},{"$f":"'1.Портфель кредитів'!#REF!","v":{"$error":"#REF!"}},{"$f":"'1.Портфель кредитів'!E122","v":0},{"$f":"'1.Портфель кредитів'!R122","v":0},{"$f":"'1.Портфель кредитів'!T122","v":""},4,"2018-06-01","_4_43252_2"]
[{"$f":"'1.Портфель кредитів'!#REF!","v":{"$error":"#REF!"}},{"$f":"'1.Портфель кредитів'!D123","v":""},{"$f":"'1.Портфель кредитів'!#REF!","v":{"$error":"#REF!"}},{"$f":"'1.Портфель кредитів'!#REF!","v":{"$error":"#REF!"}},{"$f":"'1.Портфель кредитів'!#REF!","v":{"$error":"#REF!"}},{"$f":"'1.Портфель кредитів'!E123","v":0},{"$f":"'1.Портфель кредитів'!R123","v":0},{"$f":"'1.Портфель кредитів'!T123","v":""},4,"2018-06-01","_4_43252_2"]
[{"$f":"'1.Портфель кредитів'!#REF!","v":{"$error":"#REF!"}},{"$f":"'1.Портфель кредитів'!D124","v":""},{"$f":"'1.Портфель кредитів'!#REF!","v":{"$error":"#REF!"}},{"$f":"'1.Портфель кредитів'!#REF!","v":{"$error":"#REF!"}},{"$f":"'1.Портфель кредитів'!#REF!","v":{"$error":"#REF!"}},{"$f":"'1.Портфель кредитів'!E124","v":0},{"$f":"'1.Портфель кредитів'!R124","v":0},{"$f":"'1.Портфель кредитів'!T124","v":""},4,"2018-06-01","_4_43252_2"]
[{"$f":"'1.Портфель кредитів'!#REF!","v":{"$error":"#REF!"}},{"$f":"'1.Портфель кредитів'!D125","v":""},{"$f":"'1.Портфель кредитів'!#REF!","v":{"$error":"#REF!"}},{"$f":"'1.Портфель кредитів'!#REF!","v":{"$error":"#REF!"}},{"$f":"'1.Портфель кредитів'!#REF!","v":{"$error":"#REF!"}},{"$f":"'1.Портфель кредитів'!E125","v":0},{"$f":"'1.Портфель кредитів'!R125","v":0},{"$f":"'1.Портфель кредитів'!T125","v":""},4,"2018-06-01","_4_43252_2"]
[{"$f":"'1.Портфель кредитів'!#REF!","v":{"$error":"#REF!"}},{"$f":"'1.Портфель кредитів'!D126","v":""},{"$f":"'1.Портфель кредитів'!#REF!","v":{"$error":"#REF!"}},{"$f":"'1.Портфель кредитів'!#REF!","v":{"$error":"#REF!"}},{"$f":"'1.Портфель кредитів'!#REF!","v":{"$error":"#REF!"}},{"$f":"'1.Портфель кредитів'!E126","v":0},{"$f":"'1.Портфель кредитів'!R126","v":0},{"$f":"'1.Портфель кредитів'!T126","v":""},4,"2018-06-01","_4_43252_2"]
[{"$f":"'1.Портфель кредитів'!#REF!","v":{"$error":"#REF!"}},{"$f":"'1.Портфель кредитів'!D127","v":""},{"$f":"'1.Портфель кредитів'!#REF!","v":{"$error":"#REF!"}},{"$f":"'1.Портфель кредитів'!#REF!","v":{"$error":"#REF!"}},{"$f":"'1.Портфель кредитів'!#REF!","v":{"$error":"#REF!"}},{"$f":"'1.Портфель кредитів'!E127","v":0},{"$f":"'1.Портфель кредитів'!R127","v":0},{"$f":"'1.Портфель кредитів'!T127","v":""},4,"2018-06-01","_4_43252_2"]
[{"$f":"'1.Портфель кредитів'!#REF!","v":{"$error":"#REF!"}},{"$f":"'1.Портфель кредитів'!D128","v":""},{"$f":"'1.Портфель кредитів'!#REF!","v":{"$error":"#REF!"}},{"$f":"'1.Портфель кредитів'!#REF!","v":{"$error":"#REF!"}},{"$f":"'1.Портфель кредитів'!#REF!","v":{"$error":"#REF!"}},{"$f":"'1.Портфель кредитів'!E128","v":0},{"$f":"'1.Портфель кредитів'!R128","v":0},{"$f":"'1.Портфель кредитів'!T128","v":""},4,"2018-06-01","_4_43252_2"]
[{"$f":"'1.Портфель кредитів'!#REF!","v":{"$error":"#REF!"}},{"$f":"'1.Портфель кредитів'!D129","v":""},{"$f":"'1.Портфель кредитів'!#REF!","v":{"$error":"#REF!"}},{"$f":"'1.Портфель кредитів'!#REF!","v":{"$error":"#REF!"}},{"$f":"'1.Портфель кредитів'!#REF!","v":{"$error":"#REF!"}},{"$f":"'1.Портфель кредитів'!E129","v":0},{"$f":"'1.Портфель кредитів'!R129","v":0},{"$f":"'1.Портфель кредитів'!T129","v":""},4,"2018-06-01","_4_43252_2"]
[{"$f":"'1.Портфель кредитів'!#REF!","v":{"$error":"#REF!"}},{"$f":"'1.Портфель кредитів'!D130","v":""},{"$f":"'1.Портфель кредитів'!#REF!","v":{"$error":"#REF!"}},{"$f":"'1.Портфель кредитів'!#REF!","v":{"$error":"#REF!"}},{"$f":"'1.Портфель кредитів'!#REF!","v":{"$error":"#REF!"}},{"$f":"'1.Портфель кредитів'!E130","v":0},{"$f":"'1.Портфель кредитів'!R130","v":0},{"$f":"'1.Портфель кредитів'!T130","v":""},4,"2018-06-01","_4_43252_2"]
[{"$f":"'1.Портфель кредитів'!#REF!","v":{"$error":"#REF!"}},{"$f":"'1.Портфель кредитів'!D131","v":""},{"$f":"'1.Портфель кредитів'!#REF!","v":{"$error":"#REF!"}},{"$f":"'1.Портфель кредитів'!#REF!","v":{"$error":"#REF!"}},{"$f":"'1.Портфель кредитів'!#REF!","v":{"$error":"#REF!"}},{"$f":"'1.Портфель кредитів'!E131","v":0},{"$f":"'1.Портфель кредитів'!R131","v":0},{"$f":"'1.Портфель кредитів'!T131","v":""},{"$f":"$E$1","v":4},{"$f":"$E$2","v":"2018-06-01"},{"$f":"B134&\"_\"&I134&\"_\"&J134&\"_\"&$E$3","v":"_4_43252_2"}]
[{"$f":"'1.Портфель кредитів'!#REF!","v":{"$error":"#REF!"}},{"$f":"'1.Портфель кредитів'!D132","v":""},{"$f":"'1.Портфель кредитів'!#REF!","v":{"$error":"#REF!"}},{"$f":"'1.Портфель кредитів'!#REF!","v":{"$error":"#REF!"}},{"$f":"'1.Портфель кредитів'!#REF!","v":{"$error":"#REF!"}},{"$f":"'1.Портфель кредитів'!E132","v":0},{"$f":"'1.Портфель кредитів'!R132","v":0},{"$f":"'1.Портфель кредитів'!T132","v":""},4,"2018-06-01","_4_43252_2"]
[{"$f":"'1.Портфель кредитів'!#REF!","v":{"$error":"#REF!"}},{"$f":"'1.Портфель кредитів'!D133","v":""},{"$f":"'1.Портфель кредитів'!#REF!","v":{"$error":"#REF!"}},{"$f":"'1.Портфель кредитів'!#REF!","v":{"$error":"#REF!"}},{"$f":"'1.Портфель кредитів'!#REF!","v":{"$error":"#REF!"}},{"$f":"'1.Портфель кредитів'!E133","v":0},{"$f":"'1.Портфель кредитів'!R133","v":0},{"$f":"'1.Портфель кредитів'!T133","v":""},4,"2018-06-01","_4_43252_2"]
[{"$f":"'1.Портфель кредитів'!#REF!","v":{"$error":"#REF!"}},{"$f":"'1.Портфель кредитів'!D134","v":""},{"$f":"'1.Портфель кредитів'!#REF!","v":{"$error":"#REF!"}},{"$f":"'1.Портфель кредитів'!#REF!","v":{"$error":"#REF!"}},{"$f":"'1.Портфель кредитів'!#REF!","v":{"$error":"#REF!"}},{"$f":"'1.Портфель кредитів'!E134","v":0},{"$f":"'1.Портфель кредитів'!R134","v":0},{"$f":"'1.Портфель кредитів'!T134","v":""},4,"2018-06-01","_4_43252_2"]
[{"$f":"'1.Портфель кредитів'!#REF!","v":{"$error":"#REF!"}},{"$f":"'1.Портфель кредитів'!D135","v":""},{"$f":"'1.Портфель кредитів'!#REF!","v":{"$error":"#REF!"}},{"$f":"'1.Портфель кредитів'!#REF!","v":{"$error":"#REF!"}},{"$f":"'1.Портфель кредитів'!#REF!","v":{"$error":"#REF!"}},{"$f":"'1.Портфель кредитів'!E135","v":0},{"$f":"'1.Портфель кредитів'!R135","v":0},{"$f":"'1.Портфель кредитів'!T135","v":""},4,"2018-06-01","_4_43252_2"]
[{"$f":"'1.Портфель кредитів'!#REF!","v":{"$error":"#REF!"}},{"$f":"'1.Портфель кредитів'!D136","v":""},{"$f":"'1.Портфель кредитів'!#REF!","v":{"$error":"#REF!"}},{"$f":"'1.Портфель кредитів'!#REF!","v":{"$error":"#REF!"}},{"$f":"'1.Портфель кредитів'!#REF!","v":{"$error":"#REF!"}},{"$f":"'1.Портфель кредитів'!E136","v":0},{"$f":"'1.Портфель кредитів'!R136","v":0},{"$f":"'1.Портфель кредитів'!T136","v":""},4,"2018-06-01","_4_43252_2"]
[{"$f":"'1.Портфель кредитів'!#REF!","v":{"$error":"#REF!"}},{"$f":"'1.Портфель кредитів'!D137","v":""},{"$f":"'1.Портфель кредитів'!#REF!","v":{"$error":"#REF!"}},{"$f":"'1.Портфель кредитів'!#REF!","v":{"$error":"#REF!"}},{"$f":"'1.Портфель кредитів'!#REF!","v":{"$error":"#REF!"}},{"$f":"'1.Портфель кредитів'!E137","v":0},{"$f":"'1.Портфель кредитів'!R137","v":0},{"$f":"'1.Портфель кредитів'!T137","v":""},4,"2018-06-01","_4_43252_2"]
[{"$f":"'1.Портфель кредитів'!#REF!","v":{"$error":"#REF!"}},{"$f":"'1.Портфель кредитів'!D138","v":""},{"$f":"'1.Портфель кредитів'!#REF!","v":{"$error":"#REF!"}},{"$f":"'1.Портфель кредитів'!#REF!","v":{"$error":"#REF!"}},{"$f":"'1.Портфель кредитів'!#REF!","v":{"$error":"#REF!"}},{"$f":"'1.Портфель кредитів'!E138","v":0},{"$f":"'1.Портфель кредитів'!R138","v":0},{"$f":"'1.Портфель кредитів'!T138","v":""},4,"2018-06-01","_4_43252_2"]
[{"$f":"'1.Портфель кредитів'!#REF!","v":{"$error":"#REF!"}},{"$f":"'1.Портфель кредитів'!D139","v":""},{"$f":"'1.Портфель кредитів'!#REF!","v":{"$error":"#REF!"}},{"$f":"'1.Портфель кредитів'!#REF!","v":{"$error":"#REF!"}},{"$f":"'1.Портфель кредитів'!#REF!","v":{"$error":"#REF!"}},{"$f":"'1.Портфель кредитів'!E139","v":0},{"$f":"'1.Портфель кредитів'!R139","v":0},{"$f":"'1.Портфель кредитів'!T139","v":""},4,"2018-06-01","_4_43252_2"]
[{"$f":"'1.Портфель кредитів'!#REF!","v":{"$error":"#REF!"}},{"$f":"'1.Портфель кредитів'!D140","v":""},{"$f":"'1.Портфель кредитів'!#REF!","v":{"$error":"#REF!"}},{"$f":"'1.Портфель кредитів'!#REF!","v":{"$error":"#REF!"}},{"$f":"'1.Портфель кредитів'!#REF!","v":{"$error":"#REF!"}},{"$f":"'1.Портфель кредитів'!E140","v":0},{"$f":"'1.Портфель кредитів'!R140","v":0},{"$f":"'1.Портфель кредитів'!T140","v":""},4,"2018-06-01","_4_43252_2"]
[{"$f":"'1.Портфель кредитів'!#REF!","v":{"$error":"#REF!"}},{"$f":"'1.Портфель кредитів'!D141","v":""},{"$f":"'1.Портфель кредитів'!#REF!","v":{"$error":"#REF!"}},{"$f":"'1.Портфель кредитів'!#REF!","v":{"$error":"#REF!"}},{"$f":"'1.Портфель кредитів'!#REF!","v":{"$error":"#REF!"}},{"$f":"'1.Портфель кредитів'!E141","v":0},{"$f":"'1.Портфель кредитів'!R141","v":0},{"$f":"'1.Портфель кредитів'!T141","v":""},4,"2018-06-01","_4_43252_2"]
[{"$f":"'1.Портфель кредитів'!#REF!","v":{"$error":"#REF!"}},{"$f":"'1.Портфель кредитів'!D142","v":""},{"$f":"'1.Портфель кредитів'!#REF!","v":{"$error":"#REF!"}},{"$f":"'1.Портфель кредитів'!#REF!","v":{"$error":"#REF!"}},{"$f":"'1.Портфель кредитів'!#REF!","v":{"$error":"#REF!"}},{"$f":"'1.Портфель кредитів'!E142","v":0},{"$f":"'1.Портфель кредитів'!R142","v":0},{"$f":"'1.Портфель кредитів'!T142","v":""},4,"2018-06-01","_4_43252_2"]
[{"$f":"'1.Портфель кредитів'!#REF!","v":{"$error":"#REF!"}},{"$f":"'1.Портфель кредитів'!D143","v":""},{"$f":"'1.Портфель кредитів'!#REF!","v":{"$error":"#REF!"}},{"$f":"'1.Портфель кредитів'!#REF!","v":{"$error":"#REF!"}},{"$f":"'1.Портфель кредитів'!#REF!","v":{"$error":"#REF!"}},{"$f":"'1.Портфель кредитів'!E143","v":0},{"$f":"'1.Портфель кредитів'!R143","v":0},{"$f":"'1.Портфель кредитів'!T143","v":""},4,"2018-06-01","_4_43252_2"]
[{"$f":"'1.Портфель кредитів'!#REF!","v":{"$error":"#REF!"}},{"$f":"'1.Портфель кредитів'!D144","v":""},{"$f":"'1.Портфель кредитів'!#REF!","v":{"$error":"#REF!"}},{"$f":"'1.Портфель кредитів'!#REF!","v":{"$error":"#REF!"}},{"$f":"'1.Портфель кредитів'!#REF!","v":{"$error":"#REF!"}},{"$f":"'1.Портфель кредитів'!E144","v":0},{"$f":"'1.Портфель кредитів'!R144","v":0},{"$f":"'1.Портфель кредитів'!T144","v":""},4,"2018-06-01","_4_43252_2"]
[{"$f":"'1.Портфель кредитів'!#REF!","v":{"$error":"#REF!"}},{"$f":"'1.Портфель кредитів'!D145","v":""},{"$f":"'1.Портфель кредитів'!#REF!","v":{"$error":"#REF!"}},{"$f":"'1.Портфель кредитів'!#REF!","v":{"$error":"#REF!"}},{"$f":"'1.Портфель кредитів'!#REF!","v":{"$error":"#REF!"}},{"$f":"'1.Портфель кредитів'!E145","v":0},{"$f":"'1.Портфель кредитів'!R145","v":0},{"$f":"'1.Портфель кредитів'!T145","v":""},4,"2018-06-01","_4_43252_2"]
[{"$f":"'1.Портфель кредитів'!#REF!","v":{"$error":"#REF!"}},{"$f":"'1.Портфель кредитів'!D146","v":""},{"$f":"'1.Портфель кредитів'!#REF!","v":{"$error":"#REF!"}},{"$f":"'1.Портфель кредитів'!#REF!","v":{"$error":"#REF!"}},{"$f":"'1.Портфель кредитів'!#REF!","v":{"$error":"#REF!"}},{"$f":"'1.Портфель кредитів'!E146","v":0},{"$f":"'1.Портфель кредитів'!R146","v":0},{"$f":"'1.Портфель кредитів'!T146","v":""},4,"2018-06-01","_4_43252_2"]
[{"$f":"'1.Портфель кредитів'!#REF!","v":{"$error":"#REF!"}},{"$f":"'1.Портфель кредитів'!D147","v":""},{"$f":"'1.Портфель кредитів'!#REF!","v":{"$error":"#REF!"}},{"$f":"'1.Портфель кредитів'!#REF!","v":{"$error":"#REF!"}},{"$f":"'1.Портфель кредитів'!#REF!","v":{"$error":"#REF!"}},{"$f":"'1.Портфель кредитів'!E147","v":0},{"$f":"'1.Портфель кредитів'!R147","v":0},{"$f":"'1.Портфель кредитів'!T147","v":""},4,"2018-06-01","_4_43252_2"]
[{"$f":"'1.Портфель кредитів'!#REF!","v":{"$error":"#REF!"}},{"$f":"'1.Портфель кредитів'!D148","v":""},{"$f":"'1.Портфель кредитів'!#REF!","v":{"$error":"#REF!"}},{"$f":"'1.Портфель кредитів'!#REF!","v":{"$error":"#REF!"}},{"$f":"'1.Портфель кредитів'!#REF!","v":{"$error":"#REF!"}},{"$f":"'1.Портфель кредитів'!E148","v":0},{"$f":"'1.Портфель кредитів'!R148","v":0},{"$f":"'1.Портфель кредитів'!T148","v":""},4,"2018-06-01","_4_43252_2"]
[{"$f":"'1.Портфель кредитів'!#REF!","v":{"$error":"#REF!"}},{"$f":"'1.Портфель кредитів'!D149","v":""},{"$f":"'1.Портфель кредитів'!#REF!","v":{"$error":"#REF!"}},{"$f":"'1.Портфель кредитів'!#REF!","v":{"$error":"#REF!"}},{"$f":"'1.Портфель кредитів'!#REF!","v":{"$error":"#REF!"}},{"$f":"'1.Портфель кредитів'!E149","v":0},{"$f":"'1.Портфель кредитів'!R149","v":0},{"$f":"'1.Портфель кредитів'!T149","v":""},4,"2018-06-01","_4_43252_2"]
[{"$f":"'1.Портфель кредитів'!#REF!","v":{"$error":"#REF!"}},{"$f":"'1.Портфель кредитів'!D150","v":""},{"$f":"'1.Портфель кредитів'!#REF!","v":{"$error":"#REF!"}},{"$f":"'1.Портфель кредитів'!#REF!","v":{"$error":"#REF!"}},{"$f":"'1.Портфель кредитів'!#REF!","v":{"$error":"#REF!"}},{"$f":"'1.Портфель кредитів'!E150","v":0},{"$f":"'1.Портфель кредитів'!R150","v":0},{"$f":"'1.Портфель кредитів'!T150","v":""},4,"2018-06-01","_4_43252_2"]
[{"$f":"'1.Портфель кредитів'!#REF!","v":{"$error":"#REF!"}},{"$f":"'1.Портфель кредитів'!D151","v":""},{"$f":"'1.Портфель кредитів'!#REF!","v":{"$error":"#REF!"}},{"$f":"'1.Портфель кредитів'!#REF!","v":{"$error":"#REF!"}},{"$f":"'1.Портфель кредитів'!#REF!","v":{"$error":"#REF!"}},{"$f":"'1.Портфель кредитів'!E151","v":0},{"$f":"'1.Портфель кредитів'!R151","v":0},{"$f":"'1.Портфель кредитів'!T151","v":""},4,"2018-06-01","_4_43252_2"]
[{"$f":"'1.Портфель кредитів'!#REF!","v":{"$error":"#REF!"}},{"$f":"'1.Портфель кредитів'!D152","v":""},{"$f":"'1.Портфель кредитів'!#REF!","v":{"$error":"#REF!"}},{"$f":"'1.Портфель кредитів'!#REF!","v":{"$error":"#REF!"}},{"$f":"'1.Портфель кредитів'!#REF!","v":{"$error":"#REF!"}},{"$f":"'1.Портфель кредитів'!E152","v":0},{"$f":"'1.Портфель кредитів'!R152","v":0},{"$f":"'1.Портфель кредитів'!T152","v":""},4,"2018-06-01","_4_43252_2"]
[{"$f":"'1.Портфель кредитів'!#REF!","v":{"$error":"#REF!"}},{"$f":"'1.Портфель кредитів'!D153","v":""},{"$f":"'1.Портфель кредитів'!#REF!","v":{"$error":"#REF!"}},{"$f":"'1.Портфель кредитів'!#REF!","v":{"$error":"#REF!"}},{"$f":"'1.Портфель кредитів'!#REF!","v":{"$error":"#REF!"}},{"$f":"'1.Портфель кредитів'!E153","v":0},{"$f":"'1.Портфель кредитів'!R153","v":0},{"$f":"'1.Портфель кредитів'!T153","v":""},4,"2018-06-01","_4_43252_2"]
[{"$f":"'1.Портфель кредитів'!#REF!","v":{"$error":"#REF!"}},{"$f":"'1.Портфель кредитів'!D154","v":""},{"$f":"'1.Портфель кредитів'!#REF!","v":{"$error":"#REF!"}},{"$f":"'1.Портфель кредитів'!#REF!","v":{"$error":"#REF!"}},{"$f":"'1.Портфель кредитів'!#REF!","v":{"$error":"#REF!"}},{"$f":"'1.Портфель кредитів'!E154","v":0},{"$f":"'1.Портфель кредитів'!R154","v":0},{"$f":"'1.Портфель кредитів'!T154","v":""},4,"2018-06-01","_4_43252_2"]
[{"$f":"'1.Портфель кредитів'!#REF!","v":{"$error":"#REF!"}},{"$f":"'1.Портфель кредитів'!D155","v":""},{"$f":"'1.Портфель кредитів'!#REF!","v":{"$error":"#REF!"}},{"$f":"'1.Портфель кредитів'!#REF!","v":{"$error":"#REF!"}},{"$f":"'1.Портфель кредитів'!#REF!","v":{"$error":"#REF!"}},{"$f":"'1.Портфель кредитів'!E155","v":0},{"$f":"'1.Портфель кредитів'!R155","v":0},{"$f":"'1.Портфель кредитів'!T155","v":""},4,"2018-06-01","_4_43252_2"]
[{"$f":"'1.Портфель кредитів'!#REF!","v":{"$error":"#REF!"}},{"$f":"'1.Портфель кредитів'!D156","v":""},{"$f":"'1.Портфель кредитів'!#REF!","v":{"$error":"#REF!"}},{"$f":"'1.Портфель кредитів'!#REF!","v":{"$error":"#REF!"}},{"$f":"'1.Портфель кредитів'!#REF!","v":{"$error":"#REF!"}},{"$f":"'1.Портфель кредитів'!E156","v":0},{"$f":"'1.Портфель кредитів'!R156","v":0},{"$f":"'1.Портфель кредитів'!T156","v":""},4,"2018-06-01","_4_43252_2"]
[{"$f":"'1.Портфель кредитів'!#REF!","v":{"$error":"#REF!"}},{"$f":"'1.Портфель кредитів'!D157","v":""},{"$f":"'1.Портфель кредитів'!#REF!","v":{"$error":"#REF!"}},{"$f":"'1.Портфель кредитів'!#REF!","v":{"$error":"#REF!"}},{"$f":"'1.Портфель кредитів'!#REF!","v":{"$error":"#REF!"}},{"$f":"'1.Портфель кредитів'!E157","v":0},{"$f":"'1.Портфель кредитів'!R157","v":0},{"$f":"'1.Портфель кредитів'!T157","v":""},4,"2018-06-01","_4_43252_2"]
[{"$f":"'1.Портфель кредитів'!#REF!","v":{"$error":"#REF!"}},{"$f":"'1.Портфель кредитів'!D158","v":""},{"$f":"'1.Портфель кредитів'!#REF!","v":{"$error":"#REF!"}},{"$f":"'1.Портфель кредитів'!#REF!","v":{"$error":"#REF!"}},{"$f":"'1.Портфель кредитів'!#REF!","v":{"$error":"#REF!"}},{"$f":"'1.Портфель кредитів'!E158","v":0},{"$f":"'1.Портфель кредитів'!R158","v":0},{"$f":"'1.Портфель кредитів'!T158","v":""},4,"2018-06-01","_4_43252_2"]
[{"$f":"'1.Портфель кредитів'!#REF!","v":{"$error":"#REF!"}},{"$f":"'1.Портфель кредитів'!D159","v":""},{"$f":"'1.Портфель кредитів'!#REF!","v":{"$error":"#REF!"}},{"$f":"'1.Портфель кредитів'!#REF!","v":{"$error":"#REF!"}},{"$f":"'1.Портфель кредитів'!#REF!","v":{"$error":"#REF!"}},{"$f":"'1.Портфель кредитів'!E159","v":0},{"$f":"'1.Портфель кредитів'!R159","v":0},{"$f":"'1.Портфель кредитів'!T159","v":""},4,"2018-06-01","_4_43252_2"]
[{"$f":"'1.Портфель кредитів'!#REF!","v":{"$error":"#REF!"}},{"$f":"'1.Портфель кредитів'!D160","v":""},{"$f":"'1.Портфель кредитів'!#REF!","v":{"$error":"#REF!"}},{"$f":"'1.Портфель кредитів'!#REF!","v":{"$error":"#REF!"}},{"$f":"'1.Портфель кредитів'!#REF!","v":{"$error":"#REF!"}},{"$f":"'1.Портфель кредитів'!E160","v":0},{"$f":"'1.Портфель кредитів'!R160","v":0},{"$f":"'1.Портфель кредитів'!T160","v":""},4,"2018-06-01","_4_43252_2"]
[{"$f":"'1.Портфель кредитів'!#REF!","v":{"$error":"#REF!"}},{"$f":"'1.Портфель кредитів'!D161","v":""},{"$f":"'1.Портфель кредитів'!#REF!","v":{"$error":"#REF!"}},{"$f":"'1.Портфель кредитів'!#REF!","v":{"$error":"#REF!"}},{"$f":"'1.Портфель кредитів'!#REF!","v":{"$error":"#REF!"}},{"$f":"'1.Портфель кредитів'!E161","v":0},{"$f":"'1.Портфель кредитів'!R161","v":0},{"$f":"'1.Портфель кредитів'!T161","v":""},4,"2018-06-01","_4_43252_2"]
[{"$f":"'1.Портфель кредитів'!#REF!","v":{"$error":"#REF!"}},{"$f":"'1.Портфель кредитів'!D162","v":""},{"$f":"'1.Портфель кредитів'!#REF!","v":{"$error":"#REF!"}},{"$f":"'1.Портфель кредитів'!#REF!","v":{"$error":"#REF!"}},{"$f":"'1.Портфель кредитів'!#REF!","v":{"$error":"#REF!"}},{"$f":"'1.Портфель кредитів'!E162","v":0},{"$f":"'1.Портфель кредитів'!R162","v":0},{"$f":"'1.Портфель кредитів'!T162","v":""},4,"2018-06-01","_4_43252_2"]
[{"$f":"'1.Портфель кредитів'!#REF!","v":{"$error":"#REF!"}},{"$f":"'1.Портфель кредитів'!D163","v":""},{"$f":"'1.Портфель кредитів'!#REF!","v":{"$error":"#REF!"}},{"$f":"'1.Портфель кредитів'!#REF!","v":{"$error":"#REF!"}},{"$f":"'1.Портфель кредитів'!#REF!","v":{"$error":"#REF!"}},{"$f":"'1.Портфель кредитів'!E163","v":0},{"$f":"'1.Портфель кредитів'!R163","v":0},{"$f":"'1.Портфель кредитів'!T163","v":""},4,"2018-06-01","_4_43252_2"]
[{"$f":"'1.Портфель кредитів'!#REF!","v":{"$error":"#REF!"}},{"$f":"'1.Портфель кредитів'!D164","v":""},{"$f":"'1.Портфель кредитів'!#REF!","v":{"$error":"#REF!"}},{"$f":"'1.Портфель кредитів'!#REF!","v":{"$error":"#REF!"}},{"$f":"'1.Портфель кредитів'!#REF!","v":{"$error":"#REF!"}},{"$f":"'1.Портфель кредитів'!E164","v":0},{"$f":"'1.Портфель кредитів'!R164","v":0},{"$f":"'1.Портфель кредитів'!T164","v":""},4,"2018-06-01","_4_43252_2"]
[{"$f":"'1.Портфель кредитів'!#REF!","v":{"$error":"#REF!"}},{"$f":"'1.Портфель кредитів'!D165","v":""},{"$f":"'1.Портфель кредитів'!#REF!","v":{"$error":"#REF!"}},{"$f":"'1.Портфель кредитів'!#REF!","v":{"$error":"#REF!"}},{"$f":"'1.Портфель кредитів'!#REF!","v":{"$error":"#REF!"}},{"$f":"'1.Портфель кредитів'!E165","v":0},{"$f":"'1.Портфель кредитів'!R165","v":0},{"$f":"'1.Портфель кредитів'!T165","v":""},4,"2018-06-01","_4_43252_2"]
[{"$f":"'1.Портфель кредитів'!#REF!","v":{"$error":"#REF!"}},{"$f":"'1.Портфель кредитів'!D166","v":""},{"$f":"'1.Портфель кредитів'!#REF!","v":{"$error":"#REF!"}},{"$f":"'1.Портфель кредитів'!#REF!","v":{"$error":"#REF!"}},{"$f":"'1.Портфель кредитів'!#REF!","v":{"$error":"#REF!"}},{"$f":"'1.Портфель кредитів'!E166","v":0},{"$f":"'1.Портфель кредитів'!R166","v":0},{"$f":"'1.Портфель кредитів'!T166","v":""},4,"2018-06-01","_4_43252_2"]
[{"$f":"'1.Портфель кредитів'!#REF!","v":{"$error":"#REF!"}},{"$f":"'1.Портфель кредитів'!D167","v":""},{"$f":"'1.Портфель кредитів'!#REF!","v":{"$error":"#REF!"}},{"$f":"'1.Портфель кредитів'!#REF!","v":{"$error":"#REF!"}},{"$f":"'1.Портфель кредитів'!#REF!","v":{"$error":"#REF!"}},{"$f":"'1.Портфель кредитів'!E167","v":0},{"$f":"'1.Портфель кредитів'!R167","v":0},{"$f":"'1.Портфель кредитів'!T167","v":""},4,"2018-06-01","_4_43252_2"]
[{"$f":"'1.Портфель кредитів'!#REF!","v":{"$error":"#REF!"}},{"$f":"'1.Портфель кредитів'!D168","v":""},{"$f":"'1.Портфель кредитів'!#REF!","v":{"$error":"#REF!"}},{"$f":"'1.Портфель кредитів'!#REF!","v":{"$error":"#REF!"}},{"$f":"'1.Портфель кредитів'!#REF!","v":{"$error":"#REF!"}},{"$f":"'1.Портфель кредитів'!E168","v":0},{"$f":"'1.Портфель кредитів'!R168","v":0},{"$f":"'1.Портфель кредитів'!T168","v":""},4,"2018-06-01","_4_43252_2"]
[{"$f":"'1.Портфель кредитів'!#REF!","v":{"$error":"#REF!"}},{"$f":"'1.Портфель кредитів'!D169","v":""},{"$f":"'1.Портфель кредитів'!#REF!","v":{"$error":"#REF!"}},{"$f":"'1.Портфель кредитів'!#REF!","v":{"$error":"#REF!"}},{"$f":"'1.Портфель кредитів'!#REF!","v":{"$error":"#REF!"}},{"$f":"'1.Портфель кредитів'!E169","v":0},{"$f":"'1.Портфель кредитів'!R169","v":0},{"$f":"'1.Портфель кредитів'!T169","v":""},4,"2018-06-01","_4_43252_2"]
[{"$f":"'1.Портфель кредитів'!#REF!","v":{"$error":"#REF!"}},{"$f":"'1.Портфель кредитів'!D170","v":""},{"$f":"'1.Портфель кредитів'!#REF!","v":{"$error":"#REF!"}},{"$f":"'1.Портфель кредитів'!#REF!","v":{"$error":"#REF!"}},{"$f":"'1.Портфель кредитів'!#REF!","v":{"$error":"#REF!"}},{"$f":"'1.Портфель кредитів'!E170","v":0},{"$f":"'1.Портфель кредитів'!R170","v":0},{"$f":"'1.Портфель кредитів'!T170","v":""},4,"2018-06-01","_4_43252_2"]
[{"$f":"'1.Портфель кредитів'!#REF!","v":{"$error":"#REF!"}},{"$f":"'1.Портфель кредитів'!D171","v":""},{"$f":"'1.Портфель кредитів'!#REF!","v":{"$error":"#REF!"}},{"$f":"'1.Портфель кредитів'!#REF!","v":{"$error":"#REF!"}},{"$f":"'1.Портфель кредитів'!#REF!","v":{"$error":"#REF!"}},{"$f":"'1.Портфель кредитів'!E171","v":0},{"$f":"'1.Портфель кредитів'!R171","v":0},{"$f":"'1.Портфель кредитів'!T171","v":""},4,"2018-06-01","_4_43252_2"]
[{"$f":"'1.Портфель кредитів'!#REF!","v":{"$error":"#REF!"}},{"$f":"'1.Портфель кредитів'!D172","v":""},{"$f":"'1.Портфель кредитів'!#REF!","v":{"$error":"#REF!"}},{"$f":"'1.Портфель кредитів'!#REF!","v":{"$error":"#REF!"}},{"$f":"'1.Портфель кредитів'!#REF!","v":{"$error":"#REF!"}},{"$f":"'1.Портфель кредитів'!E172","v":0},{"$f":"'1.Портфель кредитів'!R172","v":0},{"$f":"'1.Портфель кредитів'!T172","v":""},4,"2018-06-01","_4_43252_2"]
[{"$f":"'1.Портфель кредитів'!#REF!","v":{"$error":"#REF!"}},{"$f":"'1.Портфель кредитів'!D173","v":""},{"$f":"'1.Портфель кредитів'!#REF!","v":{"$error":"#REF!"}},{"$f":"'1.Портфель кредитів'!#REF!","v":{"$error":"#REF!"}},{"$f":"'1.Портфель кредитів'!#REF!","v":{"$error":"#REF!"}},{"$f":"'1.Портфель кредитів'!E173","v":0},{"$f":"'1.Портфель кредитів'!R173","v":0},{"$f":"'1.Портфель кредитів'!T173","v":""},4,"2018-06-01","_4_43252_2"]
[{"$f":"'1.Портфель кредитів'!#REF!","v":{"$error":"#REF!"}},{"$f":"'1.Портфель кредитів'!D174","v":""},{"$f":"'1.Портфель кредитів'!#REF!","v":{"$error":"#REF!"}},{"$f":"'1.Портфель кредитів'!#REF!","v":{"$error":"#REF!"}},{"$f":"'1.Портфель кредитів'!#REF!","v":{"$error":"#REF!"}},{"$f":"'1.Портфель кредитів'!E174","v":0},{"$f":"'1.Портфель кредитів'!R174","v":0},{"$f":"'1.Портфель кредитів'!T174","v":""},4,"2018-06-01","_4_43252_2"]
[{"$f":"'1.Портфель кредитів'!#REF!","v":{"$error":"#REF!"}},{"$f":"'1.Портфель кредитів'!D175","v":""},{"$f":"'1.Портфель кредитів'!#REF!","v":{"$error":"#REF!"}},{"$f":"'1.Портфель кредитів'!#REF!","v":{"$error":"#REF!"}},{"$f":"'1.Портфель кредитів'!#REF!","v":{"$error":"#REF!"}},{"$f":"'1.Портфель кредитів'!E175","v":0},{"$f":"'1.Портфель кредитів'!R175","v":0},{"$f":"'1.Портфель кредитів'!T175","v":""},4,"2018-06-01","_4_43252_2"]
[{"$f":"'1.Портфель кредитів'!#REF!","v":{"$error":"#REF!"}},{"$f":"'1.Портфель кредитів'!D176","v":""},{"$f":"'1.Портфель кредитів'!#REF!","v":{"$error":"#REF!"}},{"$f":"'1.Портфель кредитів'!#REF!","v":{"$error":"#REF!"}},{"$f":"'1.Портфель кредитів'!#REF!","v":{"$error":"#REF!"}},{"$f":"'1.Портфель кредитів'!E176","v":0},{"$f":"'1.Портфель кредитів'!R176","v":0},{"$f":"'1.Портфель кредитів'!T176","v":""},4,"2018-06-01","_4_43252_2"]
[{"$f":"'1.Портфель кредитів'!#REF!","v":{"$error":"#REF!"}},{"$f":"'1.Портфель кредитів'!D177","v":""},{"$f":"'1.Портфель кредитів'!#REF!","v":{"$error":"#REF!"}},{"$f":"'1.Портфель кредитів'!#REF!","v":{"$error":"#REF!"}},{"$f":"'1.Портфель кредитів'!#REF!","v":{"$error":"#REF!"}},{"$f":"'1.Портфель кредитів'!E177","v":0},{"$f":"'1.Портфель кредитів'!R177","v":0},{"$f":"'1.Портфель кредитів'!T177","v":""},4,"2018-06-01","_4_43252_2"]
[{"$f":"'1.Портфель кредитів'!#REF!","v":{"$error":"#REF!"}},{"$f":"'1.Портфель кредитів'!D178","v":""},{"$f":"'1.Портфель кредитів'!#REF!","v":{"$error":"#REF!"}},{"$f":"'1.Портфель кредитів'!#REF!","v":{"$error":"#REF!"}},{"$f":"'1.Портфель кредитів'!#REF!","v":{"$error":"#REF!"}},{"$f":"'1.Портфель кредитів'!E178","v":0},{"$f":"'1.Портфель кредитів'!R178","v":0},{"$f":"'1.Портфель кредитів'!T178","v":""},4,"2018-06-01","_4_43252_2"]
[{"$f":"'1.Портфель кредитів'!#REF!","v":{"$error":"#REF!"}},{"$f":"'1.Портфель кредитів'!D179","v":""},{"$f":"'1.Портфель кредитів'!#REF!","v":{"$error":"#REF!"}},{"$f":"'1.Портфель кредитів'!#REF!","v":{"$error":"#REF!"}},{"$f":"'1.Портфель кредитів'!#REF!","v":{"$error":"#REF!"}},{"$f":"'1.Портфель кредитів'!E179","v":0},{"$f":"'1.Портфель кредитів'!R179","v":0},{"$f":"'1.Портфель кредитів'!T179","v":""},4,"2018-06-01","_4_43252_2"]
[{"$f":"'1.Портфель кредитів'!#REF!","v":{"$error":"#REF!"}},{"$f":"'1.Портфель кредитів'!D180","v":""},{"$f":"'1.Портфель кредитів'!#REF!","v":{"$error":"#REF!"}},{"$f":"'1.Портфель кредитів'!#REF!","v":{"$error":"#REF!"}},{"$f":"'1.Портфель кредитів'!#REF!","v":{"$error":"#REF!"}},{"$f":"'1.Портфель кредитів'!E180","v":0},{"$f":"'1.Портфель кредитів'!R180","v":0},{"$f":"'1.Портфель кредитів'!T180","v":""},4,"2018-06-01","_4_43252_2"]
[{"$f":"'1.Портфель кредитів'!#REF!","v":{"$error":"#REF!"}},{"$f":"'1.Портфель кредитів'!D181","v":""},{"$f":"'1.Портфель кредитів'!#REF!","v":{"$error":"#REF!"}},{"$f":"'1.Портфель кредитів'!#REF!","v":{"$error":"#REF!"}},{"$f":"'1.Портфель кредитів'!#REF!","v":{"$error":"#REF!"}},{"$f":"'1.Портфель кредитів'!E181","v":0},{"$f":"'1.Портфель кредитів'!R181","v":0},{"$f":"'1.Портфель кредитів'!T181","v":""},4,"2018-06-01","_4_43252_2"]
[{"$f":"'1.Портфель кредитів'!#REF!","v":{"$error":"#REF!"}},{"$f":"'1.Портфель кредитів'!D182","v":""},{"$f":"'1.Портфель кредитів'!#REF!","v":{"$error":"#REF!"}},{"$f":"'1.Портфель кредитів'!#REF!","v":{"$error":"#REF!"}},{"$f":"'1.Портфель кредитів'!#REF!","v":{"$error":"#REF!"}},{"$f":"'1.Портфель кредитів'!E182","v":0},{"$f":"'1.Портфель кредитів'!R182","v":0},{"$f":"'1.Портфель кредитів'!T182","v":""},4,"2018-06-01","_4_43252_2"]
[{"$f":"'1.Портфель кредитів'!#REF!","v":{"$error":"#REF!"}},{"$f":"'1.Портфель кредитів'!D183","v":""},{"$f":"'1.Портфель кредитів'!#REF!","v":{"$error":"#REF!"}},{"$f":"'1.Портфель кредитів'!#REF!","v":{"$error":"#REF!"}},{"$f":"'1.Портфель кредитів'!#REF!","v":{"$error":"#REF!"}},{"$f":"'1.Портфель кредитів'!E183","v":0},{"$f":"'1.Портфель кредитів'!R183","v":0},{"$f":"'1.Портфель кредитів'!T183","v":""},4,"2018-06-01","_4_43252_2"]
[{"$f":"'1.Портфель кредитів'!#REF!","v":{"$error":"#REF!"}},{"$f":"'1.Портфель кредитів'!D184","v":""},{"$f":"'1.Портфель кредитів'!#REF!","v":{"$error":"#REF!"}},{"$f":"'1.Портфель кредитів'!#REF!","v":{"$error":"#REF!"}},{"$f":"'1.Портфель кредитів'!#REF!","v":{"$error":"#REF!"}},{"$f":"'1.Портфель кредитів'!E184","v":0},{"$f":"'1.Портфель кредитів'!R184","v":0},{"$f":"'1.Портфель кредитів'!T184","v":""},4,"2018-06-01","_4_43252_2"]
[{"$f":"'1.Портфель кредитів'!#REF!","v":{"$error":"#REF!"}},{"$f":"'1.Портфель кредитів'!D185","v":""},{"$f":"'1.Портфель кредитів'!#REF!","v":{"$error":"#REF!"}},{"$f":"'1.Портфель кредитів'!#REF!","v":{"$error":"#REF!"}},{"$f":"'1.Портфель кредитів'!#REF!","v":{"$error":"#REF!"}},{"$f":"'1.Портфель кредитів'!E185","v":0},{"$f":"'1.Портфель кредитів'!R185","v":0},{"$f":"'1.Портфель кредитів'!T185","v":""},4,"2018-06-01","_4_43252_2"]
[{"$f":"'1.Портфель кредитів'!#REF!","v":{"$error":"#REF!"}},{"$f":"'1.Портфель кредитів'!D186","v":""},{"$f":"'1.Портфель кредитів'!#REF!","v":{"$error":"#REF!"}},{"$f":"'1.Портфель кредитів'!#REF!","v":{"$error":"#REF!"}},{"$f":"'1.Портфель кредитів'!#REF!","v":{"$error":"#REF!"}},{"$f":"'1.Портфель кредитів'!E186","v":0},{"$f":"'1.Портфель кредитів'!R186","v":0},{"$f":"'1.Портфель кредитів'!T186","v":""},4,"2018-06-01","_4_43252_2"]
[{"$f":"'1.Портфель кредитів'!#REF!","v":{"$error":"#REF!"}},{"$f":"'1.Портфель кредитів'!D187","v":""},{"$f":"'1.Портфель кредитів'!#REF!","v":{"$error":"#REF!"}},{"$f":"'1.Портфель кредитів'!#REF!","v":{"$error":"#REF!"}},{"$f":"'1.Портфель кредитів'!#REF!","v":{"$error":"#REF!"}},{"$f":"'1.Портфель кредитів'!E187","v":0},{"$f":"'1.Портфель кредитів'!R187","v":0},{"$f":"'1.Портфель кредитів'!T187","v":""},4,"2018-06-01","_4_43252_2"]
[{"$f":"'1.Портфель кредитів'!#REF!","v":{"$error":"#REF!"}},{"$f":"'1.Портфель кредитів'!D188","v":""},{"$f":"'1.Портфель кредитів'!#REF!","v":{"$error":"#REF!"}},{"$f":"'1.Портфель кредитів'!#REF!","v":{"$error":"#REF!"}},{"$f":"'1.Портфель кредитів'!#REF!","v":{"$error":"#REF!"}},{"$f":"'1.Портфель кредитів'!E188","v":0},{"$f":"'1.Портфель кредитів'!R188","v":0},{"$f":"'1.Портфель кредитів'!T188","v":""},4,"2018-06-01","_4_43252_2"]
[{"$f":"'1.Портфель кредитів'!#REF!","v":{"$error":"#REF!"}},{"$f":"'1.Портфель кредитів'!D189","v":""},{"$f":"'1.Портфель кредитів'!#REF!","v":{"$error":"#REF!"}},{"$f":"'1.Портфель кредитів'!#REF!","v":{"$error":"#REF!"}},{"$f":"'1.Портфель кредитів'!#REF!","v":{"$error":"#REF!"}},{"$f":"'1.Портфель кредитів'!E189","v":0},{"$f":"'1.Портфель кредитів'!R189","v":0},{"$f":"'1.Портфель кредитів'!T189","v":""},4,"2018-06-01","_4_43252_2"]
[{"$f":"'1.Портфель кредитів'!#REF!","v":{"$error":"#REF!"}},{"$f":"'1.Портфель кредитів'!D190","v":""},{"$f":"'1.Портфель кредитів'!#REF!","v":{"$error":"#REF!"}},{"$f":"'1.Портфель кредитів'!#REF!","v":{"$error":"#REF!"}},{"$f":"'1.Портфель кредитів'!#REF!","v":{"$error":"#REF!"}},{"$f":"'1.Портфель кредитів'!E190","v":0},{"$f":"'1.Портфель кредитів'!R190","v":0},{"$f":"'1.Портфель кредитів'!T190","v":""},4,"2018-06-01","_4_43252_2"]
[{"$f":"'1.Портфель кредитів'!#REF!","v":{"$error":"#REF!"}},{"$f":"'1.Портфель кредитів'!D191","v":""},{"$f":"'1.Портфель кредитів'!#REF!","v":{"$error":"#REF!"}},{"$f":"'1.Портфель кредитів'!#REF!","v":{"$error":"#REF!"}},{"$f":"'1.Портфель кредитів'!#REF!","v":{"$error":"#REF!"}},{"$f":"'1.Портфель кредитів'!E191","v":0},{"$f":"'1.Портфель кредитів'!R191","v":0},{"$f":"'1.Портфель кредитів'!T191","v":""},4,"2018-06-01","_4_43252_2"]
[{"$f":"'1.Портфель кредитів'!#REF!","v":{"$error":"#REF!"}},{"$f":"'1.Портфель кредитів'!D192","v":""},{"$f":"'1.Портфель кредитів'!#REF!","v":{"$error":"#REF!"}},{"$f":"'1.Портфель кредитів'!#REF!","v":{"$error":"#REF!"}},{"$f":"'1.Портфель кредитів'!#REF!","v":{"$error":"#REF!"}},{"$f":"'1.Портфель кредитів'!E192","v":0},{"$f":"'1.Портфель кредитів'!R192","v":0},{"$f":"'1.Портфель кредитів'!T192","v":""},4,"2018-06-01","_4_43252_2"]
[{"$f":"'1.Портфель кредитів'!#REF!","v":{"$error":"#REF!"}},{"$f":"'1.Портфель кредитів'!D193","v":""},{"$f":"'1.Портфель кредитів'!#REF!","v":{"$error":"#REF!"}},{"$f":"'1.Портфель кредитів'!#REF!","v":{"$error":"#REF!"}},{"$f":"'1.Портфель кредитів'!#REF!","v":{"$error":"#REF!"}},{"$f":"'1.Портфель кредитів'!E193","v":0},{"$f":"'1.Портфель кредитів'!R193","v":0},{"$f":"'1.Портфель кредитів'!T193","v":""},4,"2018-06-01","_4_43252_2"]
[{"$f":"'1.Портфель кредитів'!#REF!","v":{"$error":"#REF!"}},{"$f":"'1.Портфель кредитів'!D194","v":""},{"$f":"'1.Портфель кредитів'!#REF!","v":{"$error":"#REF!"}},{"$f":"'1.Портфель кредитів'!#REF!","v":{"$error":"#REF!"}},{"$f":"'1.Портфель кредитів'!#REF!","v":{"$error":"#REF!"}},{"$f":"'1.Портфель кредитів'!E194","v":0},{"$f":"'1.Портфель кредитів'!R194","v":0},{"$f":"'1.Портфель кредитів'!T194","v":""},4,"2018-06-01","_4_43252_2"]
[{"$f":"'1.Портфель кредитів'!#REF!","v":{"$error":"#REF!"}},{"$f":"'1.Портфель кредитів'!D195","v":""},{"$f":"'1.Портфель кредитів'!#REF!","v":{"$error":"#REF!"}},{"$f":"'1.Портфель кредитів'!#REF!","v":{"$error":"#REF!"}},{"$f":"'1.Портфель кредитів'!#REF!","v":{"$error":"#REF!"}},{"$f":"'1.Портфель кредитів'!E195","v":0},{"$f":"'1.Портфель кредитів'!R195","v":0},{"$f":"'1.Портфель кредитів'!T195","v":""},{"$f":"$E$1","v":4},{"$f":"$E$2","v":"2018-06-01"},{"$f":"B198&\"_\"&I198&\"_\"&J198&\"_\"&$E$3","v":"_4_43252_2"}]
[{"$f":"'1.Портфель кредитів'!#REF!","v":{"$error":"#REF!"}},{"$f":"'1.Портфель кредитів'!D196","v":""},{"$f":"'1.Портфель кредитів'!#REF!","v":{"$error":"#REF!"}},{"$f":"'1.Портфель кредитів'!#REF!","v":{"$error":"#REF!"}},{"$f":"'1.Портфель кредитів'!#REF!","v":{"$error":"#REF!"}},{"$f":"'1.Портфель кредитів'!E196","v":0},{"$f":"'1.Портфель кредитів'!R196","v":0},{"$f":"'1.Портфель кредитів'!T196","v":""},4,"2018-06-01","_4_43252_2"]
[{"$f":"'1.Портфель кредитів'!#REF!","v":{"$error":"#REF!"}},{"$f":"'1.Портфель кредитів'!D197","v":""},{"$f":"'1.Портфель кредитів'!#REF!","v":{"$error":"#REF!"}},{"$f":"'1.Портфель кредитів'!#REF!","v":{"$error":"#REF!"}},{"$f":"'1.Портфель кредитів'!#REF!","v":{"$error":"#REF!"}},{"$f":"'1.Портфель кредитів'!E197","v":0},{"$f":"'1.Портфель кредитів'!R197","v":0},{"$f":"'1.Портфель кредитів'!T197","v":""},4,"2018-06-01","_4_43252_2"]
[{"$f":"'1.Портфель кредитів'!#REF!","v":{"$error":"#REF!"}},{"$f":"'1.Портфель кредитів'!D198","v":""},{"$f":"'1.Портфель кредитів'!#REF!","v":{"$error":"#REF!"}},{"$f":"'1.Портфель кредитів'!#REF!","v":{"$error":"#REF!"}},{"$f":"'1.Портфель кредитів'!#REF!","v":{"$error":"#REF!"}},{"$f":"'1.Портфель кредитів'!E198","v":0},{"$f":"'1.Портфель кредитів'!R198","v":0},{"$f":"'1.Портфель кредитів'!T198","v":""},4,"2018-06-01","_4_43252_2"]
[{"$f":"'1.Портфель кредитів'!#REF!","v":{"$error":"#REF!"}},{"$f":"'1.Портфель кредитів'!D199","v":""},{"$f":"'1.Портфель кредитів'!#REF!","v":{"$error":"#REF!"}},{"$f":"'1.Портфель кредитів'!#REF!","v":{"$error":"#REF!"}},{"$f":"'1.Портфель кредитів'!#REF!","v":{"$error":"#REF!"}},{"$f":"'1.Портфель кредитів'!E199","v":0},{"$f":"'1.Портфель кредитів'!R199","v":0},{"$f":"'1.Портфель кредитів'!T199","v":""},4,"2018-06-01","_4_43252_2"]
[{"$f":"'1.Портфель кредитів'!#REF!","v":{"$error":"#REF!"}},{"$f":"'1.Портфель кредитів'!D200","v":""},{"$f":"'1.Портфель кредитів'!#REF!","v":{"$error":"#REF!"}},{"$f":"'1.Портфель кредитів'!#REF!","v":{"$error":"#REF!"}},{"$f":"'1.Портфель кредитів'!#REF!","v":{"$error":"#REF!"}},{"$f":"'1.Портфель кредитів'!E200","v":0},{"$f":"'1.Портфель кредитів'!R200","v":0},{"$f":"'1.Портфель кредитів'!T200","v":""},4,"2018-06-01","_4_43252_2"]
[{"$f":"'1.Портфель кредитів'!#REF!","v":{"$error":"#REF!"}},{"$f":"'1.Портфель кредитів'!D201","v":""},{"$f":"'1.Портфель кредитів'!#REF!","v":{"$error":"#REF!"}},{"$f":"'1.Портфель кредитів'!#REF!","v":{"$error":"#REF!"}},{"$f":"'1.Портфель кредитів'!#REF!","v":{"$error":"#REF!"}},{"$f":"'1.Портфель кредитів'!E201","v":0},{"$f":"'1.Портфель кредитів'!R201","v":0},{"$f":"'1.Портфель кредитів'!T201","v":""},4,"2018-06-01","_4_43252_2"]
[{"$f":"'1.Портфель кредитів'!#REF!","v":{"$error":"#REF!"}},{"$f":"'1.Портфель кредитів'!D202","v":""},{"$f":"'1.Портфель кредитів'!#REF!","v":{"$error":"#REF!"}},{"$f":"'1.Портфель кредитів'!#REF!","v":{"$error":"#REF!"}},{"$f":"'1.Портфель кредитів'!#REF!","v":{"$error":"#REF!"}},{"$f":"'1.Портфель кредитів'!E202","v":0},{"$f":"'1.Портфель кредитів'!R202","v":0},{"$f":"'1.Портфель кредитів'!T202","v":""},4,"2018-06-01","_4_43252_2"]
[{"$f":"'1.Портфель кредитів'!#REF!","v":{"$error":"#REF!"}},{"$f":"'1.Портфель кредитів'!D203","v":""},{"$f":"'1.Портфель кредитів'!#REF!","v":{"$error":"#REF!"}},{"$f":"'1.Портфель кредитів'!#REF!","v":{"$error":"#REF!"}},{"$f":"'1.Портфель кредитів'!#REF!","v":{"$error":"#REF!"}},{"$f":"'1.Портфель кредитів'!E203","v":0},{"$f":"'1.Портфель кредитів'!R203","v":0},{"$f":"'1.Портфель кредитів'!T203","v":""},4,"2018-06-01","_4_43252_2"]
[{"$f":"'1.Портфель кредитів'!#REF!","v":{"$error":"#REF!"}},{"$f":"'1.Портфель кредитів'!D204","v":""},{"$f":"'1.Портфель кредитів'!#REF!","v":{"$error":"#REF!"}},{"$f":"'1.Портфель кредитів'!#REF!","v":{"$error":"#REF!"}},{"$f":"'1.Портфель кредитів'!#REF!","v":{"$error":"#REF!"}},{"$f":"'1.Портфель кредитів'!E204","v":0},{"$f":"'1.Портфель кредитів'!R204","v":0},{"$f":"'1.Портфель кредитів'!T204","v":""},4,"2018-06-01","_4_43252_2"]
[{"$f":"'1.Портфель кредитів'!#REF!","v":{"$error":"#REF!"}},{"$f":"'1.Портфель кредитів'!D205","v":""},{"$f":"'1.Портфель кредитів'!#REF!","v":{"$error":"#REF!"}},{"$f":"'1.Портфель кредитів'!#REF!","v":{"$error":"#REF!"}},{"$f":"'1.Портфель кредитів'!#REF!","v":{"$error":"#REF!"}},{"$f":"'1.Портфель кредитів'!E205","v":0},{"$f":"'1.Портфель кредитів'!R205","v":0},{"$f":"'1.Портфель кредитів'!T205","v":""},4,"2018-06-01","_4_43252_2"]
[{"$f":"'1.Портфель кредитів'!#REF!","v":{"$error":"#REF!"}},{"$f":"'1.Портфель кредитів'!D206","v":""},{"$f":"'1.Портфель кредитів'!#REF!","v":{"$error":"#REF!"}},{"$f":"'1.Портфель кредитів'!#REF!","v":{"$error":"#REF!"}},{"$f":"'1.Портфель кредитів'!#REF!","v":{"$error":"#REF!"}},{"$f":"'1.Портфель кредитів'!E206","v":0},{"$f":"'1.Портфель кредитів'!R206","v":0},{"$f":"'1.Портфель кредитів'!T206","v":""},4,"2018-06-01","_4_43252_2"]
[{"$f":"'1.Портфель кредитів'!#REF!","v":{"$error":"#REF!"}},{"$f":"'1.Портфель кредитів'!D207","v":""},{"$f":"'1.Портфель кредитів'!#REF!","v":{"$error":"#REF!"}},{"$f":"'1.Портфель кредитів'!#REF!","v":{"$error":"#REF!"}},{"$f":"'1.Портфель кредитів'!#REF!","v":{"$error":"#REF!"}},{"$f":"'1.Портфель кредитів'!E207","v":0},{"$f":"'1.Портфель кредитів'!R207","v":0},{"$f":"'1.Портфель кредитів'!T207","v":""},4,"2018-06-01","_4_43252_2"]
[{"$f":"'1.Портфель кредитів'!#REF!","v":{"$error":"#REF!"}},{"$f":"'1.Портфель кредитів'!D208","v":""},{"$f":"'1.Портфель кредитів'!#REF!","v":{"$error":"#REF!"}},{"$f":"'1.Портфель кредитів'!#REF!","v":{"$error":"#REF!"}},{"$f":"'1.Портфель кредитів'!#REF!","v":{"$error":"#REF!"}},{"$f":"'1.Портфель кредитів'!E208","v":0},{"$f":"'1.Портфель кредитів'!R208","v":0},{"$f":"'1.Портфель кредитів'!T208","v":""},4,"2018-06-01","_4_43252_2"]
[{"$f":"'1.Портфель кредитів'!#REF!","v":{"$error":"#REF!"}},{"$f":"'1.Портфель кредитів'!D209","v":""},{"$f":"'1.Портфель кредитів'!#REF!","v":{"$error":"#REF!"}},{"$f":"'1.Портфель кредитів'!#REF!","v":{"$error":"#REF!"}},{"$f":"'1.Портфель кредитів'!#REF!","v":{"$error":"#REF!"}},{"$f":"'1.Портфель кредитів'!E209","v":0},{"$f":"'1.Портфель кредитів'!R209","v":0},{"$f":"'1.Портфель кредитів'!T209","v":""},4,"2018-06-01","_4_43252_2"]
[{"$f":"'1.Портфель кредитів'!#REF!","v":{"$error":"#REF!"}},{"$f":"'1.Портфель кредитів'!D210","v":""},{"$f":"'1.Портфель кредитів'!#REF!","v":{"$error":"#REF!"}},{"$f":"'1.Портфель кредитів'!#REF!","v":{"$error":"#REF!"}},{"$f":"'1.Портфель кредитів'!#REF!","v":{"$error":"#REF!"}},{"$f":"'1.Портфель кредитів'!E210","v":0},{"$f":"'1.Портфель кредитів'!R210","v":0},{"$f":"'1.Портфель кредитів'!T210","v":""},4,"2018-06-01","_4_43252_2"]
[{"$f":"'1.Портфель кредитів'!#REF!","v":{"$error":"#REF!"}},{"$f":"'1.Портфель кредитів'!D211","v":""},{"$f":"'1.Портфель кредитів'!#REF!","v":{"$error":"#REF!"}},{"$f":"'1.Портфель кредитів'!#REF!","v":{"$error":"#REF!"}},{"$f":"'1.Портфель кредитів'!#REF!","v":{"$error":"#REF!"}},{"$f":"'1.Портфель кредитів'!E211","v":0},{"$f":"'1.Портфель кредитів'!R211","v":0},{"$f":"'1.Портфель кредитів'!T211","v":""},4,"2018-06-01","_4_43252_2"]
[{"$f":"'1.Портфель кредитів'!#REF!","v":{"$error":"#REF!"}},{"$f":"'1.Портфель кредитів'!D212","v":""},{"$f":"'1.Портфель кредитів'!#REF!","v":{"$error":"#REF!"}},{"$f":"'1.Портфель кредитів'!#REF!","v":{"$error":"#REF!"}},{"$f":"'1.Портфель кредитів'!#REF!","v":{"$error":"#REF!"}},{"$f":"'1.Портфель кредитів'!E212","v":0},{"$f":"'1.Портфель кредитів'!R212","v":0},{"$f":"'1.Портфель кредитів'!T212","v":""},4,"2018-06-01","_4_43252_2"]
[{"$f":"'1.Портфель кредитів'!#REF!","v":{"$error":"#REF!"}},{"$f":"'1.Портфель кредитів'!D213","v":""},{"$f":"'1.Портфель кредитів'!#REF!","v":{"$error":"#REF!"}},{"$f":"'1.Портфель кредитів'!#REF!","v":{"$error":"#REF!"}},{"$f":"'1.Портфель кредитів'!#REF!","v":{"$error":"#REF!"}},{"$f":"'1.Портфель кредитів'!E213","v":0},{"$f":"'1.Портфель кредитів'!R213","v":0},{"$f":"'1.Портфель кредитів'!T213","v":""},4,"2018-06-01","_4_43252_2"]
[{"$f":"'1.Портфель кредитів'!#REF!","v":{"$error":"#REF!"}},{"$f":"'1.Портфель кредитів'!D214","v":""},{"$f":"'1.Портфель кредитів'!#REF!","v":{"$error":"#REF!"}},{"$f":"'1.Портфель кредитів'!#REF!","v":{"$error":"#REF!"}},{"$f":"'1.Портфель кредитів'!#REF!","v":{"$error":"#REF!"}},{"$f":"'1.Портфель кредитів'!E214","v":0},{"$f":"'1.Портфель кредитів'!R214","v":0},{"$f":"'1.Портфель кредитів'!T214","v":""},4,"2018-06-01","_4_43252_2"]
[{"$f":"'1.Портфель кредитів'!#REF!","v":{"$error":"#REF!"}},{"$f":"'1.Портфель кредитів'!D215","v":""},{"$f":"'1.Портфель кредитів'!#REF!","v":{"$error":"#REF!"}},{"$f":"'1.Портфель кредитів'!#REF!","v":{"$error":"#REF!"}},{"$f":"'1.Портфель кредитів'!#REF!","v":{"$error":"#REF!"}},{"$f":"'1.Портфель кредитів'!E215","v":0},{"$f":"'1.Портфель кредитів'!R215","v":0},{"$f":"'1.Портфель кредитів'!T215","v":""},4,"2018-06-01","_4_43252_2"]
[{"$f":"'1.Портфель кредитів'!#REF!","v":{"$error":"#REF!"}},{"$f":"'1.Портфель кредитів'!D216","v":""},{"$f":"'1.Портфель кредитів'!#REF!","v":{"$error":"#REF!"}},{"$f":"'1.Портфель кредитів'!#REF!","v":{"$error":"#REF!"}},{"$f":"'1.Портфель кредитів'!#REF!","v":{"$error":"#REF!"}},{"$f":"'1.Портфель кредитів'!E216","v":0},{"$f":"'1.Портфель кредитів'!R216","v":0},{"$f":"'1.Портфель кредитів'!T216","v":""},4,"2018-06-01","_4_43252_2"]
[{"$f":"'1.Портфель кредитів'!#REF!","v":{"$error":"#REF!"}},{"$f":"'1.Портфель кредитів'!D217","v":""},{"$f":"'1.Портфель кредитів'!#REF!","v":{"$error":"#REF!"}},{"$f":"'1.Портфель кредитів'!#REF!","v":{"$error":"#REF!"}},{"$f":"'1.Портфель кредитів'!#REF!","v":{"$error":"#REF!"}},{"$f":"'1.Портфель кредитів'!E217","v":0},{"$f":"'1.Портфель кредитів'!R217","v":0},{"$f":"'1.Портфель кредитів'!T217","v":""},4,"2018-06-01","_4_43252_2"]
[{"$f":"'1.Портфель кредитів'!#REF!","v":{"$error":"#REF!"}},{"$f":"'1.Портфель кредитів'!D218","v":""},{"$f":"'1.Портфель кредитів'!#REF!","v":{"$error":"#REF!"}},{"$f":"'1.Портфель кредитів'!#REF!","v":{"$error":"#REF!"}},{"$f":"'1.Портфель кредитів'!#REF!","v":{"$error":"#REF!"}},{"$f":"'1.Портфель кредитів'!E218","v":0},{"$f":"'1.Портфель кредитів'!R218","v":0},{"$f":"'1.Портфель кредитів'!T218","v":""},4,"2018-06-01","_4_43252_2"]
[{"$f":"'1.Портфель кредитів'!#REF!","v":{"$error":"#REF!"}},{"$f":"'1.Портфель кредитів'!D219","v":""},{"$f":"'1.Портфель кредитів'!#REF!","v":{"$error":"#REF!"}},{"$f":"'1.Портфель кредитів'!#REF!","v":{"$error":"#REF!"}},{"$f":"'1.Портфель кредитів'!#REF!","v":{"$error":"#REF!"}},{"$f":"'1.Портфель кредитів'!E219","v":0},{"$f":"'1.Портфель кредитів'!R219","v":0},{"$f":"'1.Портфель кредитів'!T219","v":""},4,"2018-06-01","_4_43252_2"]
[{"$f":"'1.Портфель кредитів'!#REF!","v":{"$error":"#REF!"}},{"$f":"'1.Портфель кредитів'!D220","v":""},{"$f":"'1.Портфель кредитів'!#REF!","v":{"$error":"#REF!"}},{"$f":"'1.Портфель кредитів'!#REF!","v":{"$error":"#REF!"}},{"$f":"'1.Портфель кредитів'!#REF!","v":{"$error":"#REF!"}},{"$f":"'1.Портфель кредитів'!E220","v":0},{"$f":"'1.Портфель кредитів'!R220","v":0},{"$f":"'1.Портфель кредитів'!T220","v":""},4,"2018-06-01","_4_43252_2"]
[{"$f":"'1.Портфель кредитів'!#REF!","v":{"$error":"#REF!"}},{"$f":"'1.Портфель кредитів'!D221","v":""},{"$f":"'1.Портфель кредитів'!#REF!","v":{"$error":"#REF!"}},{"$f":"'1.Портфель кредитів'!#REF!","v":{"$error":"#REF!"}},{"$f":"'1.Портфель кредитів'!#REF!","v":{"$error":"#REF!"}},{"$f":"'1.Портфель кредитів'!E221","v":0},{"$f":"'1.Портфель кредитів'!R221","v":0},{"$f":"'1.Портфель кредитів'!T221","v":""},4,"2018-06-01","_4_43252_2"]
[{"$f":"'1.Портфель кредитів'!#REF!","v":{"$error":"#REF!"}},{"$f":"'1.Портфель кредитів'!D222","v":""},{"$f":"'1.Портфель кредитів'!#REF!","v":{"$error":"#REF!"}},{"$f":"'1.Портфель кредитів'!#REF!","v":{"$error":"#REF!"}},{"$f":"'1.Портфель кредитів'!#REF!","v":{"$error":"#REF!"}},{"$f":"'1.Портфель кредитів'!E222","v":0},{"$f":"'1.Портфель кредитів'!R222","v":0},{"$f":"'1.Портфель кредитів'!T222","v":""},4,"2018-06-01","_4_43252_2"]
[{"$f":"'1.Портфель кредитів'!#REF!","v":{"$error":"#REF!"}},{"$f":"'1.Портфель кредитів'!D223","v":""},{"$f":"'1.Портфель кредитів'!#REF!","v":{"$error":"#REF!"}},{"$f":"'1.Портфель кредитів'!#REF!","v":{"$error":"#REF!"}},{"$f":"'1.Портфель кредитів'!#REF!","v":{"$error":"#REF!"}},{"$f":"'1.Портфель кредитів'!E223","v":0},{"$f":"'1.Портфель кредитів'!R223","v":0},{"$f":"'1.Портфель кредитів'!T223","v":""},4,"2018-06-01","_4_43252_2"]
[{"$f":"'1.Портфель кредитів'!#REF!","v":{"$error":"#REF!"}},{"$f":"'1.Портфель кредитів'!D224","v":""},{"$f":"'1.Портфель кредитів'!#REF!","v":{"$error":"#REF!"}},{"$f":"'1.Портфель кредитів'!#REF!","v":{"$error":"#REF!"}},{"$f":"'1.Портфель кредитів'!#REF!","v":{"$error":"#REF!"}},{"$f":"'1.Портфель кредитів'!E224","v":0},{"$f":"'1.Портфель кредитів'!R224","v":0},{"$f":"'1.Портфель кредитів'!T224","v":""},4,"2018-06-01","_4_43252_2"]
[{"$f":"'1.Портфель кредитів'!#REF!","v":{"$error":"#REF!"}},{"$f":"'1.Портфель кредитів'!D225","v":""},{"$f":"'1.Портфель кредитів'!#REF!","v":{"$error":"#REF!"}},{"$f":"'1.Портфель кредитів'!#REF!","v":{"$error":"#REF!"}},{"$f":"'1.Портфель кредитів'!#REF!","v":{"$error":"#REF!"}},{"$f":"'1.Портфель кредитів'!E225","v":0},{"$f":"'1.Портфель кредитів'!R225","v":0},{"$f":"'1.Портфель кредитів'!T225","v":""},4,"2018-06-01","_4_43252_2"]
[{"$f":"'1.Портфель кредитів'!#REF!","v":{"$error":"#REF!"}},{"$f":"'1.Портфель кредитів'!D226","v":""},{"$f":"'1.Портфель кредитів'!#REF!","v":{"$error":"#REF!"}},{"$f":"'1.Портфель кредитів'!#REF!","v":{"$error":"#REF!"}},{"$f":"'1.Портфель кредитів'!#REF!","v":{"$error":"#REF!"}},{"$f":"'1.Портфель кредитів'!E226","v":0},{"$f":"'1.Портфель кредитів'!R226","v":0},{"$f":"'1.Портфель кредитів'!T226","v":""},4,"2018-06-01","_4_43252_2"]
[{"$f":"'1.Портфель кредитів'!#REF!","v":{"$error":"#REF!"}},{"$f":"'1.Портфель кредитів'!D227","v":""},{"$f":"'1.Портфель кредитів'!#REF!","v":{"$error":"#REF!"}},{"$f":"'1.Портфель кредитів'!#REF!","v":{"$error":"#REF!"}},{"$f":"'1.Портфель кредитів'!#REF!","v":{"$error":"#REF!"}},{"$f":"'1.Портфель кредитів'!E227","v":0},{"$f":"'1.Портфель кредитів'!R227","v":0},{"$f":"'1.Портфель кредитів'!T227","v":""},4,"2018-06-01","_4_43252_2"]
[{"$f":"'1.Портфель кредитів'!#REF!","v":{"$error":"#REF!"}},{"$f":"'1.Портфель кредитів'!D228","v":""},{"$f":"'1.Портфель кредитів'!#REF!","v":{"$error":"#REF!"}},{"$f":"'1.Портфель кредитів'!#REF!","v":{"$error":"#REF!"}},{"$f":"'1.Портфель кредитів'!#REF!","v":{"$error":"#REF!"}},{"$f":"'1.Портфель кредитів'!E228","v":0},{"$f":"'1.Портфель кредитів'!R228","v":0},{"$f":"'1.Портфель кредитів'!T228","v":""},4,"2018-06-01","_4_43252_2"]
[{"$f":"'1.Портфель кредитів'!#REF!","v":{"$error":"#REF!"}},{"$f":"'1.Портфель кредитів'!D229","v":""},{"$f":"'1.Портфель кредитів'!#REF!","v":{"$error":"#REF!"}},{"$f":"'1.Портфель кредитів'!#REF!","v":{"$error":"#REF!"}},{"$f":"'1.Портфель кредитів'!#REF!","v":{"$error":"#REF!"}},{"$f":"'1.Портфель кредитів'!E229","v":0},{"$f":"'1.Портфель кредитів'!R229","v":0},{"$f":"'1.Портфель кредитів'!T229","v":""},4,"2018-06-01","_4_43252_2"]
[{"$f":"'1.Портфель кредитів'!#REF!","v":{"$error":"#REF!"}},{"$f":"'1.Портфель кредитів'!D230","v":""},{"$f":"'1.Портфель кредитів'!#REF!","v":{"$error":"#REF!"}},{"$f":"'1.Портфель кредитів'!#REF!","v":{"$error":"#REF!"}},{"$f":"'1.Портфель кредитів'!#REF!","v":{"$error":"#REF!"}},{"$f":"'1.Портфель кредитів'!E230","v":0},{"$f":"'1.Портфель кредитів'!R230","v":0},{"$f":"'1.Портфель кредитів'!T230","v":""},4,"2018-06-01","_4_43252_2"]
[{"$f":"'1.Портфель кредитів'!#REF!","v":{"$error":"#REF!"}},{"$f":"'1.Портфель кредитів'!D231","v":""},{"$f":"'1.Портфель кредитів'!#REF!","v":{"$error":"#REF!"}},{"$f":"'1.Портфель кредитів'!#REF!","v":{"$error":"#REF!"}},{"$f":"'1.Портфель кредитів'!#REF!","v":{"$error":"#REF!"}},{"$f":"'1.Портфель кредитів'!E231","v":0},{"$f":"'1.Портфель кредитів'!R231","v":0},{"$f":"'1.Портфель кредитів'!T231","v":""},4,"2018-06-01","_4_43252_2"]
[{"$f":"'1.Портфель кредитів'!#REF!","v":{"$error":"#REF!"}},{"$f":"'1.Портфель кредитів'!D232","v":""},{"$f":"'1.Портфель кредитів'!#REF!","v":{"$error":"#REF!"}},{"$f":"'1.Портфель кредитів'!#REF!","v":{"$error":"#REF!"}},{"$f":"'1.Портфель кредитів'!#REF!","v":{"$error":"#REF!"}},{"$f":"'1.Портфель кредитів'!E232","v":0},{"$f":"'1.Портфель кредитів'!R232","v":0},{"$f":"'1.Портфель кредитів'!T232","v":""},4,"2018-06-01","_4_43252_2"]
[{"$f":"'1.Портфель кредитів'!#REF!","v":{"$error":"#REF!"}},{"$f":"'1.Портфель кредитів'!D233","v":""},{"$f":"'1.Портфель кредитів'!#REF!","v":{"$error":"#REF!"}},{"$f":"'1.Портфель кредитів'!#REF!","v":{"$error":"#REF!"}},{"$f":"'1.Портфель кредитів'!#REF!","v":{"$error":"#REF!"}},{"$f":"'1.Портфель кредитів'!E233","v":0},{"$f":"'1.Портфель кредитів'!R233","v":0},{"$f":"'1.Портфель кредитів'!T233","v":""},4,"2018-06-01","_4_43252_2"]
[{"$f":"'1.Портфель кредитів'!#REF!","v":{"$error":"#REF!"}},{"$f":"'1.Портфель кредитів'!D234","v":""},{"$f":"'1.Портфель кредитів'!#REF!","v":{"$error":"#REF!"}},{"$f":"'1.Портфель кредитів'!#REF!","v":{"$error":"#REF!"}},{"$f":"'1.Портфель кредитів'!#REF!","v":{"$error":"#REF!"}},{"$f":"'1.Портфель кредитів'!E234","v":0},{"$f":"'1.Портфель кредитів'!R234","v":0},{"$f":"'1.Портфель кредитів'!T234","v":""},4,"2018-06-01","_4_43252_2"]
[{"$f":"'1.Портфель кредитів'!#REF!","v":{"$error":"#REF!"}},{"$f":"'1.Портфель кредитів'!D235","v":""},{"$f":"'1.Портфель кредитів'!#REF!","v":{"$error":"#REF!"}},{"$f":"'1.Портфель кредитів'!#REF!","v":{"$error":"#REF!"}},{"$f":"'1.Портфель кредитів'!#REF!","v":{"$error":"#REF!"}},{"$f":"'1.Портфель кредитів'!E235","v":0},{"$f":"'1.Портфель кредитів'!R235","v":0},{"$f":"'1.Портфель кредитів'!T235","v":""},4,"2018-06-01","_4_43252_2"]
[{"$f":"'1.Портфель кредитів'!#REF!","v":{"$error":"#REF!"}},{"$f":"'1.Портфель кредитів'!D236","v":""},{"$f":"'1.Портфель кредитів'!#REF!","v":{"$error":"#REF!"}},{"$f":"'1.Портфель кредитів'!#REF!","v":{"$error":"#REF!"}},{"$f":"'1.Портфель кредитів'!#REF!","v":{"$error":"#REF!"}},{"$f":"'1.Портфель кредитів'!E236","v":0},{"$f":"'1.Портфель кредитів'!R236","v":0},{"$f":"'1.Портфель кредитів'!T236","v":""},4,"2018-06-01","_4_43252_2"]
[{"$f":"'1.Портфель кредитів'!#REF!","v":{"$error":"#REF!"}},{"$f":"'1.Портфель кредитів'!D237","v":""},{"$f":"'1.Портфель кредитів'!#REF!","v":{"$error":"#REF!"}},{"$f":"'1.Портфель кредитів'!#REF!","v":{"$error":"#REF!"}},{"$f":"'1.Портфель кредитів'!#REF!","v":{"$error":"#REF!"}},{"$f":"'1.Портфель кредитів'!E237","v":0},{"$f":"'1.Портфель кредитів'!R237","v":0},{"$f":"'1.Портфель кредитів'!T237","v":""},4,"2018-06-01","_4_43252_2"]
[{"$f":"'1.Портфель кредитів'!#REF!","v":{"$error":"#REF!"}},{"$f":"'1.Портфель кредитів'!D238","v":""},{"$f":"'1.Портфель кредитів'!#REF!","v":{"$error":"#REF!"}},{"$f":"'1.Портфель кредитів'!#REF!","v":{"$error":"#REF!"}},{"$f":"'1.Портфель кредитів'!#REF!","v":{"$error":"#REF!"}},{"$f":"'1.Портфель кредитів'!E238","v":0},{"$f":"'1.Портфель кредитів'!R238","v":0},{"$f":"'1.Портфель кредитів'!T238","v":""},4,"2018-06-01","_4_43252_2"]
[{"$f":"'1.Портфель кредитів'!#REF!","v":{"$error":"#REF!"}},{"$f":"'1.Портфель кредитів'!D239","v":""},{"$f":"'1.Портфель кредитів'!#REF!","v":{"$error":"#REF!"}},{"$f":"'1.Портфель кредитів'!#REF!","v":{"$error":"#REF!"}},{"$f":"'1.Портфель кредитів'!#REF!","v":{"$error":"#REF!"}},{"$f":"'1.Портфель кредитів'!E239","v":0},{"$f":"'1.Портфель кредитів'!R239","v":0},{"$f":"'1.Портфель кредитів'!T239","v":""},4,"2018-06-01","_4_43252_2"]
[{"$f":"'1.Портфель кредитів'!#REF!","v":{"$error":"#REF!"}},{"$f":"'1.Портфель кредитів'!D240","v":""},{"$f":"'1.Портфель кредитів'!#REF!","v":{"$error":"#REF!"}},{"$f":"'1.Портфель кредитів'!#REF!","v":{"$error":"#REF!"}},{"$f":"'1.Портфель кредитів'!#REF!","v":{"$error":"#REF!"}},{"$f":"'1.Портфель кредитів'!E240","v":0},{"$f":"'1.Портфель кредитів'!R240","v":0},{"$f":"'1.Портфель кредитів'!T240","v":""},4,"2018-06-01","_4_43252_2"]
[{"$f":"'1.Портфель кредитів'!#REF!","v":{"$error":"#REF!"}},{"$f":"'1.Портфель кредитів'!D241","v":""},{"$f":"'1.Портфель кредитів'!#REF!","v":{"$error":"#REF!"}},{"$f":"'1.Портфель кредитів'!#REF!","v":{"$error":"#REF!"}},{"$f":"'1.Портфель кредитів'!#REF!","v":{"$error":"#REF!"}},{"$f":"'1.Портфель кредитів'!E241","v":0},{"$f":"'1.Портфель кредитів'!R241","v":0},{"$f":"'1.Портфель кредитів'!T241","v":""},4,"2018-06-01","_4_43252_2"]
[{"$f":"'1.Портфель кредитів'!#REF!","v":{"$error":"#REF!"}},{"$f":"'1.Портфель кредитів'!D242","v":""},{"$f":"'1.Портфель кредитів'!#REF!","v":{"$error":"#REF!"}},{"$f":"'1.Портфель кредитів'!#REF!","v":{"$error":"#REF!"}},{"$f":"'1.Портфель кредитів'!#REF!","v":{"$error":"#REF!"}},{"$f":"'1.Портфель кредитів'!E242","v":0},{"$f":"'1.Портфель кредитів'!R242","v":0},{"$f":"'1.Портфель кредитів'!T242","v":""},4,"2018-06-01","_4_43252_2"]
[{"$f":"'1.Портфель кредитів'!#REF!","v":{"$error":"#REF!"}},{"$f":"'1.Портфель кредитів'!D243","v":""},{"$f":"'1.Портфель кредитів'!#REF!","v":{"$error":"#REF!"}},{"$f":"'1.Портфель кредитів'!#REF!","v":{"$error":"#REF!"}},{"$f":"'1.Портфель кредитів'!#REF!","v":{"$error":"#REF!"}},{"$f":"'1.Портфель кредитів'!E243","v":0},{"$f":"'1.Портфель кредитів'!R243","v":0},{"$f":"'1.Портфель кредитів'!T243","v":""},4,"2018-06-01","_4_43252_2"]
[{"$f":"'1.Портфель кредитів'!#REF!","v":{"$error":"#REF!"}},{"$f":"'1.Портфель кредитів'!D244","v":""},{"$f":"'1.Портфель кредитів'!#REF!","v":{"$error":"#REF!"}},{"$f":"'1.Портфель кредитів'!#REF!","v":{"$error":"#REF!"}},{"$f":"'1.Портфель кредитів'!#REF!","v":{"$error":"#REF!"}},{"$f":"'1.Портфель кредитів'!E244","v":0},{"$f":"'1.Портфель кредитів'!R244","v":0},{"$f":"'1.Портфель кредитів'!T244","v":""},4,"2018-06-01","_4_43252_2"]
[{"$f":"'1.Портфель кредитів'!#REF!","v":{"$error":"#REF!"}},{"$f":"'1.Портфель кредитів'!D245","v":""},{"$f":"'1.Портфель кредитів'!#REF!","v":{"$error":"#REF!"}},{"$f":"'1.Портфель кредитів'!#REF!","v":{"$error":"#REF!"}},{"$f":"'1.Портфель кредитів'!#REF!","v":{"$error":"#REF!"}},{"$f":"'1.Портфель кредитів'!E245","v":0},{"$f":"'1.Портфель кредитів'!R245","v":0},{"$f":"'1.Портфель кредитів'!T245","v":""},4,"2018-06-01","_4_43252_2"]
[{"$f":"'1.Портфель кредитів'!#REF!","v":{"$error":"#REF!"}},{"$f":"'1.Портфель кредитів'!D246","v":""},{"$f":"'1.Портфель кредитів'!#REF!","v":{"$error":"#REF!"}},{"$f":"'1.Портфель кредитів'!#REF!","v":{"$error":"#REF!"}},{"$f":"'1.Портфель кредитів'!#REF!","v":{"$error":"#REF!"}},{"$f":"'1.Портфель кредитів'!E246","v":0},{"$f":"'1.Портфель кредитів'!R246","v":0},{"$f":"'1.Портфель кредитів'!T246","v":""},4,"2018-06-01","_4_43252_2"]
[{"$f":"'1.Портфель кредитів'!#REF!","v":{"$error":"#REF!"}},{"$f":"'1.Портфель кредитів'!D247","v":""},{"$f":"'1.Портфель кредитів'!#REF!","v":{"$error":"#REF!"}},{"$f":"'1.Портфель кредитів'!#REF!","v":{"$error":"#REF!"}},{"$f":"'1.Портфель кредитів'!#REF!","v":{"$error":"#REF!"}},{"$f":"'1.Портфель кредитів'!E247","v":0},{"$f":"'1.Портфель кредитів'!R247","v":0},{"$f":"'1.Портфель кредитів'!T247","v":""},4,"2018-06-01","_4_43252_2"]
[{"$f":"'1.Портфель кредитів'!#REF!","v":{"$error":"#REF!"}},{"$f":"'1.Портфель кредитів'!D248","v":""},{"$f":"'1.Портфель кредитів'!#REF!","v":{"$error":"#REF!"}},{"$f":"'1.Портфель кредитів'!#REF!","v":{"$error":"#REF!"}},{"$f":"'1.Портфель кредитів'!#REF!","v":{"$error":"#REF!"}},{"$f":"'1.Портфель кредитів'!E248","v":0},{"$f":"'1.Портфель кредитів'!R248","v":0},{"$f":"'1.Портфель кредитів'!T248","v":""},4,"2018-06-01","_4_43252_2"]
[{"$f":"'1.Портфель кредитів'!#REF!","v":{"$error":"#REF!"}},{"$f":"'1.Портфель кредитів'!D249","v":""},{"$f":"'1.Портфель кредитів'!#REF!","v":{"$error":"#REF!"}},{"$f":"'1.Портфель кредитів'!#REF!","v":{"$error":"#REF!"}},{"$f":"'1.Портфель кредитів'!#REF!","v":{"$error":"#REF!"}},{"$f":"'1.Портфель кредитів'!E249","v":0},{"$f":"'1.Портфель кредитів'!R249","v":0},{"$f":"'1.Портфель кредитів'!T249","v":""},4,"2018-06-01","_4_43252_2"]
[{"$f":"'1.Портфель кредитів'!#REF!","v":{"$error":"#REF!"}},{"$f":"'1.Портфель кредитів'!D250","v":""},{"$f":"'1.Портфель кредитів'!#REF!","v":{"$error":"#REF!"}},{"$f":"'1.Портфель кредитів'!#REF!","v":{"$error":"#REF!"}},{"$f":"'1.Портфель кредитів'!#REF!","v":{"$error":"#REF!"}},{"$f":"'1.Портфель кредитів'!E250","v":0},{"$f":"'1.Портфель кредитів'!R250","v":0},{"$f":"'1.Портфель кредитів'!T250","v":""},4,"2018-06-01","_4_43252_2"]
[{"$f":"'1.Портфель кредитів'!#REF!","v":{"$error":"#REF!"}},{"$f":"'1.Портфель кредитів'!D251","v":""},{"$f":"'1.Портфель кредитів'!#REF!","v":{"$error":"#REF!"}},{"$f":"'1.Портфель кредитів'!#REF!","v":{"$error":"#REF!"}},{"$f":"'1.Портфель кредитів'!#REF!","v":{"$error":"#REF!"}},{"$f":"'1.Портфель кредитів'!E251","v":0},{"$f":"'1.Портфель кредитів'!R251","v":0},{"$f":"'1.Портфель кредитів'!T251","v":""},4,"2018-06-01","_4_43252_2"]
[{"$f":"'1.Портфель кредитів'!#REF!","v":{"$error":"#REF!"}},{"$f":"'1.Портфель кредитів'!D252","v":""},{"$f":"'1.Портфель кредитів'!#REF!","v":{"$error":"#REF!"}},{"$f":"'1.Портфель кредитів'!#REF!","v":{"$error":"#REF!"}},{"$f":"'1.Портфель кредитів'!#REF!","v":{"$error":"#REF!"}},{"$f":"'1.Портфель кредитів'!E252","v":0},{"$f":"'1.Портфель кредитів'!R252","v":0},{"$f":"'1.Портфель кредитів'!T252","v":""},4,"2018-06-01","_4_43252_2"]
[{"$f":"'1.Портфель кредитів'!#REF!","v":{"$error":"#REF!"}},{"$f":"'1.Портфель кредитів'!D253","v":""},{"$f":"'1.Портфель кредитів'!#REF!","v":{"$error":"#REF!"}},{"$f":"'1.Портфель кредитів'!#REF!","v":{"$error":"#REF!"}},{"$f":"'1.Портфель кредитів'!#REF!","v":{"$error":"#REF!"}},{"$f":"'1.Портфель кредитів'!E253","v":0},{"$f":"'1.Портфель кредитів'!R253","v":0},{"$f":"'1.Портфель кредитів'!T253","v":""},4,"2018-06-01","_4_43252_2"]
[{"$f":"'1.Портфель кредитів'!#REF!","v":{"$error":"#REF!"}},{"$f":"'1.Портфель кредитів'!D254","v":""},{"$f":"'1.Портфель кредитів'!#REF!","v":{"$error":"#REF!"}},{"$f":"'1.Портфель кредитів'!#REF!","v":{"$error":"#REF!"}},{"$f":"'1.Портфель кредитів'!#REF!","v":{"$error":"#REF!"}},{"$f":"'1.Портфель кредитів'!E254","v":0},{"$f":"'1.Портфель кредитів'!R254","v":0},{"$f":"'1.Портфель кредитів'!T254","v":""},4,"2018-06-01","_4_43252_2"]
[{"$f":"'1.Портфель кредитів'!#REF!","v":{"$error":"#REF!"}},{"$f":"'1.Портфель кредитів'!D255","v":""},{"$f":"'1.Портфель кредитів'!#REF!","v":{"$error":"#REF!"}},{"$f":"'1.Портфель кредитів'!#REF!","v":{"$error":"#REF!"}},{"$f":"'1.Портфель кредитів'!#REF!","v":{"$error":"#REF!"}},{"$f":"'1.Портфель кредитів'!E255","v":0},{"$f":"'1.Портфель кредитів'!R255","v":0},{"$f":"'1.Портфель кредитів'!T255","v":""},4,"2018-06-01","_4_43252_2"]
[{"$f":"'1.Портфель кредитів'!#REF!","v":{"$error":"#REF!"}},{"$f":"'1.Портфель кредитів'!D256","v":""},{"$f":"'1.Портфель кредитів'!#REF!","v":{"$error":"#REF!"}},{"$f":"'1.Портфель кредитів'!#REF!","v":{"$error":"#REF!"}},{"$f":"'1.Портфель кредитів'!#REF!","v":{"$error":"#REF!"}},{"$f":"'1.Портфель кредитів'!E256","v":0},{"$f":"'1.Портфель кредитів'!R256","v":0},{"$f":"'1.Портфель кредитів'!T256","v":""},4,"2018-06-01","_4_43252_2"]
[{"$f":"'1.Портфель кредитів'!#REF!","v":{"$error":"#REF!"}},{"$f":"'1.Портфель кредитів'!D257","v":""},{"$f":"'1.Портфель кредитів'!#REF!","v":{"$error":"#REF!"}},{"$f":"'1.Портфель кредитів'!#REF!","v":{"$error":"#REF!"}},{"$f":"'1.Портфель кредитів'!#REF!","v":{"$error":"#REF!"}},{"$f":"'1.Портфель кредитів'!E257","v":0},{"$f":"'1.Портфель кредитів'!R257","v":0},{"$f":"'1.Портфель кредитів'!T257","v":""},4,"2018-06-01","_4_43252_2"]
[{"$f":"'1.Портфель кредитів'!#REF!","v":{"$error":"#REF!"}},{"$f":"'1.Портфель кредитів'!D258","v":""},{"$f":"'1.Портфель кредитів'!#REF!","v":{"$error":"#REF!"}},{"$f":"'1.Портфель кредитів'!#REF!","v":{"$error":"#REF!"}},{"$f":"'1.Портфель кредитів'!#REF!","v":{"$error":"#REF!"}},{"$f":"'1.Портфель кредитів'!E258","v":0},{"$f":"'1.Портфель кредитів'!R258","v":0},{"$f":"'1.Портфель кредитів'!T258","v":""},4,"2018-06-01","_4_43252_2"]
[{"$f":"'1.Портфель кредитів'!#REF!","v":{"$error":"#REF!"}},{"$f":"'1.Портфель кредитів'!D259","v":""},{"$f":"'1.Портфель кредитів'!#REF!","v":{"$error":"#REF!"}},{"$f":"'1.Портфель кредитів'!#REF!","v":{"$error":"#REF!"}},{"$f":"'1.Портфель кредитів'!#REF!","v":{"$error":"#REF!"}},{"$f":"'1.Портфель кредитів'!E259","v":0},{"$f":"'1.Портфель кредитів'!R259","v":0},{"$f":"'1.Портфель кредитів'!T259","v":""},{"$f":"$E$1","v":4},{"$f":"$E$2","v":"2018-06-01"},{"$f":"B262&\"_\"&I262&\"_\"&J262&\"_\"&$E$3","v":"_4_43252_2"}]
[{"$f":"'1.Портфель кредитів'!#REF!","v":{"$error":"#REF!"}},{"$f":"'1.Портфель кредитів'!D260","v":""},{"$f":"'1.Портфель кредитів'!#REF!","v":{"$error":"#REF!"}},{"$f":"'1.Портфель кредитів'!#REF!","v":{"$error":"#REF!"}},{"$f":"'1.Портфель кредитів'!#REF!","v":{"$error":"#REF!"}},{"$f":"'1.Портфель кредитів'!E260","v":0},{"$f":"'1.Портфель кредитів'!R260","v":0},{"$f":"'1.Портфель кредитів'!T260","v":""},4,"2018-06-01","_4_43252_2"]
[{"$f":"'1.Портфель кредитів'!#REF!","v":{"$error":"#REF!"}},{"$f":"'1.Портфель кредитів'!D261","v":""},{"$f":"'1.Портфель кредитів'!#REF!","v":{"$error":"#REF!"}},{"$f":"'1.Портфель кредитів'!#REF!","v":{"$error":"#REF!"}},{"$f":"'1.Портфель кредитів'!#REF!","v":{"$error":"#REF!"}},{"$f":"'1.Портфель кредитів'!E261","v":0},{"$f":"'1.Портфель кредитів'!R261","v":0},{"$f":"'1.Портфель кредитів'!T261","v":""},4,"2018-06-01","_4_43252_2"]
[{"$f":"'1.Портфель кредитів'!#REF!","v":{"$error":"#REF!"}},{"$f":"'1.Портфель кредитів'!D262","v":""},{"$f":"'1.Портфель кредитів'!#REF!","v":{"$error":"#REF!"}},{"$f":"'1.Портфель кредитів'!#REF!","v":{"$error":"#REF!"}},{"$f":"'1.Портфель кредитів'!#REF!","v":{"$error":"#REF!"}},{"$f":"'1.Портфель кредитів'!E262","v":0},{"$f":"'1.Портфель кредитів'!R262","v":0},{"$f":"'1.Портфель кредитів'!T262","v":""},4,"2018-06-01","_4_43252_2"]
[{"$f":"'1.Портфель кредитів'!#REF!","v":{"$error":"#REF!"}},{"$f":"'1.Портфель кредитів'!D263","v":""},{"$f":"'1.Портфель кредитів'!#REF!","v":{"$error":"#REF!"}},{"$f":"'1.Портфель кредитів'!#REF!","v":{"$error":"#REF!"}},{"$f":"'1.Портфель кредитів'!#REF!","v":{"$error":"#REF!"}},{"$f":"'1.Портфель кредитів'!E263","v":0},{"$f":"'1.Портфель кредитів'!R263","v":0},{"$f":"'1.Портфель кредитів'!T263","v":""},4,"2018-06-01","_4_43252_2"]
[{"$f":"'1.Портфель кредитів'!#REF!","v":{"$error":"#REF!"}},{"$f":"'1.Портфель кредитів'!D264","v":""},{"$f":"'1.Портфель кредитів'!#REF!","v":{"$error":"#REF!"}},{"$f":"'1.Портфель кредитів'!#REF!","v":{"$error":"#REF!"}},{"$f":"'1.Портфель кредитів'!#REF!","v":{"$error":"#REF!"}},{"$f":"'1.Портфель кредитів'!E264","v":0},{"$f":"'1.Портфель кредитів'!R264","v":0},{"$f":"'1.Портфель кредитів'!T264","v":""},4,"2018-06-01","_4_43252_2"]
[{"$f":"'1.Портфель кредитів'!#REF!","v":{"$error":"#REF!"}},{"$f":"'1.Портфель кредитів'!D265","v":""},{"$f":"'1.Портфель кредитів'!#REF!","v":{"$error":"#REF!"}},{"$f":"'1.Портфель кредитів'!#REF!","v":{"$error":"#REF!"}},{"$f":"'1.Портфель кредитів'!#REF!","v":{"$error":"#REF!"}},{"$f":"'1.Портфель кредитів'!E265","v":0},{"$f":"'1.Портфель кредитів'!R265","v":0},{"$f":"'1.Портфель кредитів'!T265","v":""},4,"2018-06-01","_4_43252_2"]
[{"$f":"'1.Портфель кредитів'!#REF!","v":{"$error":"#REF!"}},{"$f":"'1.Портфель кредитів'!D266","v":""},{"$f":"'1.Портфель кредитів'!#REF!","v":{"$error":"#REF!"}},{"$f":"'1.Портфель кредитів'!#REF!","v":{"$error":"#REF!"}},{"$f":"'1.Портфель кредитів'!#REF!","v":{"$error":"#REF!"}},{"$f":"'1.Портфель кредитів'!E266","v":0},{"$f":"'1.Портфель кредитів'!R266","v":0},{"$f":"'1.Портфель кредитів'!T266","v":""},4,"2018-06-01","_4_43252_2"]
[{"$f":"'1.Портфель кредитів'!#REF!","v":{"$error":"#REF!"}},{"$f":"'1.Портфель кредитів'!D267","v":""},{"$f":"'1.Портфель кредитів'!#REF!","v":{"$error":"#REF!"}},{"$f":"'1.Портфель кредитів'!#REF!","v":{"$error":"#REF!"}},{"$f":"'1.Портфель кредитів'!#REF!","v":{"$error":"#REF!"}},{"$f":"'1.Портфель кредитів'!E267","v":0},{"$f":"'1.Портфель кредитів'!R267","v":0},{"$f":"'1.Портфель кредитів'!T267","v":""},4,"2018-06-01","_4_43252_2"]
[{"$f":"'1.Портфель кредитів'!#REF!","v":{"$error":"#REF!"}},{"$f":"'1.Портфель кредитів'!D268","v":""},{"$f":"'1.Портфель кредитів'!#REF!","v":{"$error":"#REF!"}},{"$f":"'1.Портфель кредитів'!#REF!","v":{"$error":"#REF!"}},{"$f":"'1.Портфель кредитів'!#REF!","v":{"$error":"#REF!"}},{"$f":"'1.Портфель кредитів'!E268","v":0},{"$f":"'1.Портфель кредитів'!R268","v":0},{"$f":"'1.Портфель кредитів'!T268","v":""},4,"2018-06-01","_4_43252_2"]
[{"$f":"'1.Портфель кредитів'!#REF!","v":{"$error":"#REF!"}},{"$f":"'1.Портфель кредитів'!D269","v":""},{"$f":"'1.Портфель кредитів'!#REF!","v":{"$error":"#REF!"}},{"$f":"'1.Портфель кредитів'!#REF!","v":{"$error":"#REF!"}},{"$f":"'1.Портфель кредитів'!#REF!","v":{"$error":"#REF!"}},{"$f":"'1.Портфель кредитів'!E269","v":0},{"$f":"'1.Портфель кредитів'!R269","v":0},{"$f":"'1.Портфель кредитів'!T269","v":""},4,"2018-06-01","_4_43252_2"]
[{"$f":"'1.Портфель кредитів'!#REF!","v":{"$error":"#REF!"}},{"$f":"'1.Портфель кредитів'!D270","v":""},{"$f":"'1.Портфель кредитів'!#REF!","v":{"$error":"#REF!"}},{"$f":"'1.Портфель кредитів'!#REF!","v":{"$error":"#REF!"}},{"$f":"'1.Портфель кредитів'!#REF!","v":{"$error":"#REF!"}},{"$f":"'1.Портфель кредитів'!E270","v":0},{"$f":"'1.Портфель кредитів'!R270","v":0},{"$f":"'1.Портфель кредитів'!T270","v":""},4,"2018-06-01","_4_43252_2"]
[{"$f":"'1.Портфель кредитів'!#REF!","v":{"$error":"#REF!"}},{"$f":"'1.Портфель кредитів'!D271","v":""},{"$f":"'1.Портфель кредитів'!#REF!","v":{"$error":"#REF!"}},{"$f":"'1.Портфель кредитів'!#REF!","v":{"$error":"#REF!"}},{"$f":"'1.Портфель кредитів'!#REF!","v":{"$error":"#REF!"}},{"$f":"'1.Портфель кредитів'!E271","v":0},{"$f":"'1.Портфель кредитів'!R271","v":0},{"$f":"'1.Портфель кредитів'!T271","v":""},4,"2018-06-01","_4_43252_2"]
[{"$f":"'1.Портфель кредитів'!#REF!","v":{"$error":"#REF!"}},{"$f":"'1.Портфель кредитів'!D272","v":""},{"$f":"'1.Портфель кредитів'!#REF!","v":{"$error":"#REF!"}},{"$f":"'1.Портфель кредитів'!#REF!","v":{"$error":"#REF!"}},{"$f":"'1.Портфель кредитів'!#REF!","v":{"$error":"#REF!"}},{"$f":"'1.Портфель кредитів'!E272","v":0},{"$f":"'1.Портфель кредитів'!R272","v":0},{"$f":"'1.Портфель кредитів'!T272","v":""},4,"2018-06-01","_4_43252_2"]
[{"$f":"'1.Портфель кредитів'!#REF!","v":{"$error":"#REF!"}},{"$f":"'1.Портфель кредитів'!D273","v":""},{"$f":"'1.Портфель кредитів'!#REF!","v":{"$error":"#REF!"}},{"$f":"'1.Портфель кредитів'!#REF!","v":{"$error":"#REF!"}},{"$f":"'1.Портфель кредитів'!#REF!","v":{"$error":"#REF!"}},{"$f":"'1.Портфель кредитів'!E273","v":0},{"$f":"'1.Портфель кредитів'!R273","v":0},{"$f":"'1.Портфель кредитів'!T273","v":""},4,"2018-06-01","_4_43252_2"]
[{"$f":"'1.Портфель кредитів'!#REF!","v":{"$error":"#REF!"}},{"$f":"'1.Портфель кредитів'!D274","v":""},{"$f":"'1.Портфель кредитів'!#REF!","v":{"$error":"#REF!"}},{"$f":"'1.Портфель кредитів'!#REF!","v":{"$error":"#REF!"}},{"$f":"'1.Портфель кредитів'!#REF!","v":{"$error":"#REF!"}},{"$f":"'1.Портфель кредитів'!E274","v":0},{"$f":"'1.Портфель кредитів'!R274","v":0},{"$f":"'1.Портфель кредитів'!T274","v":""},4,"2018-06-01","_4_43252_2"]
[{"$f":"'1.Портфель кредитів'!#REF!","v":{"$error":"#REF!"}},{"$f":"'1.Портфель кредитів'!D275","v":""},{"$f":"'1.Портфель кредитів'!#REF!","v":{"$error":"#REF!"}},{"$f":"'1.Портфель кредитів'!#REF!","v":{"$error":"#REF!"}},{"$f":"'1.Портфель кредитів'!#REF!","v":{"$error":"#REF!"}},{"$f":"'1.Портфель кредитів'!E275","v":0},{"$f":"'1.Портфель кредитів'!R275","v":0},{"$f":"'1.Портфель кредитів'!T275","v":""},4,"2018-06-01","_4_43252_2"]
[{"$f":"'1.Портфель кредитів'!#REF!","v":{"$error":"#REF!"}},{"$f":"'1.Портфель кредитів'!D276","v":""},{"$f":"'1.Портфель кредитів'!#REF!","v":{"$error":"#REF!"}},{"$f":"'1.Портфель кредитів'!#REF!","v":{"$error":"#REF!"}},{"$f":"'1.Портфель кредитів'!#REF!","v":{"$error":"#REF!"}},{"$f":"'1.Портфель кредитів'!E276","v":0},{"$f":"'1.Портфель кредитів'!R276","v":0},{"$f":"'1.Портфель кредитів'!T276","v":""},4,"2018-06-01","_4_43252_2"]
[{"$f":"'1.Портфель кредитів'!#REF!","v":{"$error":"#REF!"}},{"$f":"'1.Портфель кредитів'!D277","v":""},{"$f":"'1.Портфель кредитів'!#REF!","v":{"$error":"#REF!"}},{"$f":"'1.Портфель кредитів'!#REF!","v":{"$error":"#REF!"}},{"$f":"'1.Портфель кредитів'!#REF!","v":{"$error":"#REF!"}},{"$f":"'1.Портфель кредитів'!E277","v":0},{"$f":"'1.Портфель кредитів'!R277","v":0},{"$f":"'1.Портфель кредитів'!T277","v":""},4,"2018-06-01","_4_43252_2"]
[{"$f":"'1.Портфель кредитів'!#REF!","v":{"$error":"#REF!"}},{"$f":"'1.Портфель кредитів'!D278","v":""},{"$f":"'1.Портфель кредитів'!#REF!","v":{"$error":"#REF!"}},{"$f":"'1.Портфель кредитів'!#REF!","v":{"$error":"#REF!"}},{"$f":"'1.Портфель кредитів'!#REF!","v":{"$error":"#REF!"}},{"$f":"'1.Портфель кредитів'!E278","v":0},{"$f":"'1.Портфель кредитів'!R278","v":0},{"$f":"'1.Портфель кредитів'!T278","v":""},4,"2018-06-01","_4_43252_2"]
[{"$f":"'1.Портфель кредитів'!#REF!","v":{"$error":"#REF!"}},{"$f":"'1.Портфель кредитів'!D279","v":""},{"$f":"'1.Портфель кредитів'!#REF!","v":{"$error":"#REF!"}},{"$f":"'1.Портфель кредитів'!#REF!","v":{"$error":"#REF!"}},{"$f":"'1.Портфель кредитів'!#REF!","v":{"$error":"#REF!"}},{"$f":"'1.Портфель кредитів'!E279","v":0},{"$f":"'1.Портфель кредитів'!R279","v":0},{"$f":"'1.Портфель кредитів'!T279","v":""},4,"2018-06-01","_4_43252_2"]
[{"$f":"'1.Портфель кредитів'!#REF!","v":{"$error":"#REF!"}},{"$f":"'1.Портфель кредитів'!D280","v":""},{"$f":"'1.Портфель кредитів'!#REF!","v":{"$error":"#REF!"}},{"$f":"'1.Портфель кредитів'!#REF!","v":{"$error":"#REF!"}},{"$f":"'1.Портфель кредитів'!#REF!","v":{"$error":"#REF!"}},{"$f":"'1.Портфель кредитів'!E280","v":0},{"$f":"'1.Портфель кредитів'!R280","v":0},{"$f":"'1.Портфель кредитів'!T280","v":""},4,"2018-06-01","_4_43252_2"]
[{"$f":"'1.Портфель кредитів'!#REF!","v":{"$error":"#REF!"}},{"$f":"'1.Портфель кредитів'!D281","v":""},{"$f":"'1.Портфель кредитів'!#REF!","v":{"$error":"#REF!"}},{"$f":"'1.Портфель кредитів'!#REF!","v":{"$error":"#REF!"}},{"$f":"'1.Портфель кредитів'!#REF!","v":{"$error":"#REF!"}},{"$f":"'1.Портфель кредитів'!E281","v":0},{"$f":"'1.Портфель кредитів'!R281","v":0},{"$f":"'1.Портфель кредитів'!T281","v":""},4,"2018-06-01","_4_43252_2"]
[{"$f":"'1.Портфель кредитів'!#REF!","v":{"$error":"#REF!"}},{"$f":"'1.Портфель кредитів'!D282","v":""},{"$f":"'1.Портфель кредитів'!#REF!","v":{"$error":"#REF!"}},{"$f":"'1.Портфель кредитів'!#REF!","v":{"$error":"#REF!"}},{"$f":"'1.Портфель кредитів'!#REF!","v":{"$error":"#REF!"}},{"$f":"'1.Портфель кредитів'!E282","v":0},{"$f":"'1.Портфель кредитів'!R282","v":0},{"$f":"'1.Портфель кредитів'!T282","v":""},4,"2018-06-01","_4_43252_2"]
[{"$f":"'1.Портфель кредитів'!#REF!","v":{"$error":"#REF!"}},{"$f":"'1.Портфель кредитів'!D283","v":""},{"$f":"'1.Портфель кредитів'!#REF!","v":{"$error":"#REF!"}},{"$f":"'1.Портфель кредитів'!#REF!","v":{"$error":"#REF!"}},{"$f":"'1.Портфель кредитів'!#REF!","v":{"$error":"#REF!"}},{"$f":"'1.Портфель кредитів'!E283","v":0},{"$f":"'1.Портфель кредитів'!R283","v":0},{"$f":"'1.Портфель кредитів'!T283","v":""},4,"2018-06-01","_4_43252_2"]
[{"$f":"'1.Портфель кредитів'!#REF!","v":{"$error":"#REF!"}},{"$f":"'1.Портфель кредитів'!D284","v":""},{"$f":"'1.Портфель кредитів'!#REF!","v":{"$error":"#REF!"}},{"$f":"'1.Портфель кредитів'!#REF!","v":{"$error":"#REF!"}},{"$f":"'1.Портфель кредитів'!#REF!","v":{"$error":"#REF!"}},{"$f":"'1.Портфель кредитів'!E284","v":0},{"$f":"'1.Портфель кредитів'!R284","v":0},{"$f":"'1.Портфель кредитів'!T284","v":""},4,"2018-06-01","_4_43252_2"]
[{"$f":"'1.Портфель кредитів'!#REF!","v":{"$error":"#REF!"}},{"$f":"'1.Портфель кредитів'!D285","v":""},{"$f":"'1.Портфель кредитів'!#REF!","v":{"$error":"#REF!"}},{"$f":"'1.Портфель кредитів'!#REF!","v":{"$error":"#REF!"}},{"$f":"'1.Портфель кредитів'!#REF!","v":{"$error":"#REF!"}},{"$f":"'1.Портфель кредитів'!E285","v":0},{"$f":"'1.Портфель кредитів'!R285","v":0},{"$f":"'1.Портфель кредитів'!T285","v":""},4,"2018-06-01","_4_43252_2"]
[{"$f":"'1.Портфель кредитів'!#REF!","v":{"$error":"#REF!"}},{"$f":"'1.Портфель кредитів'!D286","v":""},{"$f":"'1.Портфель кредитів'!#REF!","v":{"$error":"#REF!"}},{"$f":"'1.Портфель кредитів'!#REF!","v":{"$error":"#REF!"}},{"$f":"'1.Портфель кредитів'!#REF!","v":{"$error":"#REF!"}},{"$f":"'1.Портфель кредитів'!E286","v":0},{"$f":"'1.Портфель кредитів'!R286","v":0},{"$f":"'1.Портфель кредитів'!T286","v":""},4,"2018-06-01","_4_43252_2"]
[{"$f":"'1.Портфель кредитів'!#REF!","v":{"$error":"#REF!"}},{"$f":"'1.Портфель кредитів'!D287","v":""},{"$f":"'1.Портфель кредитів'!#REF!","v":{"$error":"#REF!"}},{"$f":"'1.Портфель кредитів'!#REF!","v":{"$error":"#REF!"}},{"$f":"'1.Портфель кредитів'!#REF!","v":{"$error":"#REF!"}},{"$f":"'1.Портфель кредитів'!E287","v":0},{"$f":"'1.Портфель кредитів'!R287","v":0},{"$f":"'1.Портфель кредитів'!T287","v":""},4,"2018-06-01","_4_43252_2"]
[{"$f":"'1.Портфель кредитів'!#REF!","v":{"$error":"#REF!"}},{"$f":"'1.Портфель кредитів'!D288","v":""},{"$f":"'1.Портфель кредитів'!#REF!","v":{"$error":"#REF!"}},{"$f":"'1.Портфель кредитів'!#REF!","v":{"$error":"#REF!"}},{"$f":"'1.Портфель кредитів'!#REF!","v":{"$error":"#REF!"}},{"$f":"'1.Портфель кредитів'!E288","v":0},{"$f":"'1.Портфель кредитів'!R288","v":0},{"$f":"'1.Портфель кредитів'!T288","v":""},4,"2018-06-01","_4_43252_2"]
[{"$f":"'1.Портфель кредитів'!#REF!","v":{"$error":"#REF!"}},{"$f":"'1.Портфель кредитів'!D289","v":""},{"$f":"'1.Портфель кредитів'!#REF!","v":{"$error":"#REF!"}},{"$f":"'1.Портфель кредитів'!#REF!","v":{"$error":"#REF!"}},{"$f":"'1.Портфель кредитів'!#REF!","v":{"$error":"#REF!"}},{"$f":"'1.Портфель кредитів'!E289","v":0},{"$f":"'1.Портфель кредитів'!R289","v":0},{"$f":"'1.Портфель кредитів'!T289","v":""},4,"2018-06-01","_4_43252_2"]
[{"$f":"'1.Портфель кредитів'!#REF!","v":{"$error":"#REF!"}},{"$f":"'1.Портфель кредитів'!D290","v":""},{"$f":"'1.Портфель кредитів'!#REF!","v":{"$error":"#REF!"}},{"$f":"'1.Портфель кредитів'!#REF!","v":{"$error":"#REF!"}},{"$f":"'1.Портфель кредитів'!#REF!","v":{"$error":"#REF!"}},{"$f":"'1.Портфель кредитів'!E290","v":0},{"$f":"'1.Портфель кредитів'!R290","v":0},{"$f":"'1.Портфель кредитів'!T290","v":""},4,"2018-06-01","_4_43252_2"]
[{"$f":"'1.Портфель кредитів'!#REF!","v":{"$error":"#REF!"}},{"$f":"'1.Портфель кредитів'!D291","v":""},{"$f":"'1.Портфель кредитів'!#REF!","v":{"$error":"#REF!"}},{"$f":"'1.Портфель кредитів'!#REF!","v":{"$error":"#REF!"}},{"$f":"'1.Портфель кредитів'!#REF!","v":{"$error":"#REF!"}},{"$f":"'1.Портфель кредитів'!E291","v":0},{"$f":"'1.Портфель кредитів'!R291","v":0},{"$f":"'1.Портфель кредитів'!T291","v":""},4,"2018-06-01","_4_43252_2"]
[{"$f":"'1.Портфель кредитів'!#REF!","v":{"$error":"#REF!"}},{"$f":"'1.Портфель кредитів'!D292","v":""},{"$f":"'1.Портфель кредитів'!#REF!","v":{"$error":"#REF!"}},{"$f":"'1.Портфель кредитів'!#REF!","v":{"$error":"#REF!"}},{"$f":"'1.Портфель кредитів'!#REF!","v":{"$error":"#REF!"}},{"$f":"'1.Портфель кредитів'!E292","v":0},{"$f":"'1.Портфель кредитів'!R292","v":0},{"$f":"'1.Портфель кредитів'!T292","v":""},4,"2018-06-01","_4_43252_2"]
[{"$f":"'1.Портфель кредитів'!#REF!","v":{"$error":"#REF!"}},{"$f":"'1.Портфель кредитів'!D293","v":""},{"$f":"'1.Портфель кредитів'!#REF!","v":{"$error":"#REF!"}},{"$f":"'1.Портфель кредитів'!#REF!","v":{"$error":"#REF!"}},{"$f":"'1.Портфель кредитів'!#REF!","v":{"$error":"#REF!"}},{"$f":"'1.Портфель кредитів'!E293","v":0},{"$f":"'1.Портфель кредитів'!R293","v":0},{"$f":"'1.Портфель кредитів'!T293","v":""},4,"2018-06-01","_4_43252_2"]
[{"$f":"'1.Портфель кредитів'!#REF!","v":{"$error":"#REF!"}},{"$f":"'1.Портфель кредитів'!D294","v":""},{"$f":"'1.Портфель кредитів'!#REF!","v":{"$error":"#REF!"}},{"$f":"'1.Портфель кредитів'!#REF!","v":{"$error":"#REF!"}},{"$f":"'1.Портфель кредитів'!#REF!","v":{"$error":"#REF!"}},{"$f":"'1.Портфель кредитів'!E294","v":0},{"$f":"'1.Портфель кредитів'!R294","v":0},{"$f":"'1.Портфель кредитів'!T294","v":""},4,"2018-06-01","_4_43252_2"]
[{"$f":"'1.Портфель кредитів'!#REF!","v":{"$error":"#REF!"}},{"$f":"'1.Портфель кредитів'!D295","v":""},{"$f":"'1.Портфель кредитів'!#REF!","v":{"$error":"#REF!"}},{"$f":"'1.Портфель кредитів'!#REF!","v":{"$error":"#REF!"}},{"$f":"'1.Портфель кредитів'!#REF!","v":{"$error":"#REF!"}},{"$f":"'1.Портфель кредитів'!E295","v":0},{"$f":"'1.Портфель кредитів'!R295","v":0},{"$f":"'1.Портфель кредитів'!T295","v":""},4,"2018-06-01","_4_43252_2"]
[{"$f":"'1.Портфель кредитів'!#REF!","v":{"$error":"#REF!"}},{"$f":"'1.Портфель кредитів'!D296","v":""},{"$f":"'1.Портфель кредитів'!#REF!","v":{"$error":"#REF!"}},{"$f":"'1.Портфель кредитів'!#REF!","v":{"$error":"#REF!"}},{"$f":"'1.Портфель кредитів'!#REF!","v":{"$error":"#REF!"}},{"$f":"'1.Портфель кредитів'!E296","v":0},{"$f":"'1.Портфель кредитів'!R296","v":0},{"$f":"'1.Портфель кредитів'!T296","v":""},4,"2018-06-01","_4_43252_2"]
[{"$f":"'1.Портфель кредитів'!#REF!","v":{"$error":"#REF!"}},{"$f":"'1.Портфель кредитів'!D297","v":""},{"$f":"'1.Портфель кредитів'!#REF!","v":{"$error":"#REF!"}},{"$f":"'1.Портфель кредитів'!#REF!","v":{"$error":"#REF!"}},{"$f":"'1.Портфель кредитів'!#REF!","v":{"$error":"#REF!"}},{"$f":"'1.Портфель кредитів'!E297","v":0},{"$f":"'1.Портфель кредитів'!R297","v":0},{"$f":"'1.Портфель кредитів'!T297","v":""},4,"2018-06-01","_4_43252_2"]
[{"$f":"'1.Портфель кредитів'!#REF!","v":{"$error":"#REF!"}},{"$f":"'1.Портфель кредитів'!D298","v":""},{"$f":"'1.Портфель кредитів'!#REF!","v":{"$error":"#REF!"}},{"$f":"'1.Портфель кредитів'!#REF!","v":{"$error":"#REF!"}},{"$f":"'1.Портфель кредитів'!#REF!","v":{"$error":"#REF!"}},{"$f":"'1.Портфель кредитів'!E298","v":0},{"$f":"'1.Портфель кредитів'!R298","v":0},{"$f":"'1.Портфель кредитів'!T298","v":""},4,"2018-06-01","_4_43252_2"]
[{"$f":"'1.Портфель кредитів'!#REF!","v":{"$error":"#REF!"}},{"$f":"'1.Портфель кредитів'!D299","v":""},{"$f":"'1.Портфель кредитів'!#REF!","v":{"$error":"#REF!"}},{"$f":"'1.Портфель кредитів'!#REF!","v":{"$error":"#REF!"}},{"$f":"'1.Портфель кредитів'!#REF!","v":{"$error":"#REF!"}},{"$f":"'1.Портфель кредитів'!E299","v":0},{"$f":"'1.Портфель кредитів'!R299","v":0},{"$f":"'1.Портфель кредитів'!T299","v":""},4,"2018-06-01","_4_43252_2"]
[{"$f":"'1.Портфель кредитів'!#REF!","v":{"$error":"#REF!"}},{"$f":"'1.Портфель кредитів'!D300","v":""},{"$f":"'1.Портфель кредитів'!#REF!","v":{"$error":"#REF!"}},{"$f":"'1.Портфель кредитів'!#REF!","v":{"$error":"#REF!"}},{"$f":"'1.Портфель кредитів'!#REF!","v":{"$error":"#REF!"}},{"$f":"'1.Портфель кредитів'!E300","v":0},{"$f":"'1.Портфель кредитів'!R300","v":0},{"$f":"'1.Портфель кредитів'!T300","v":""},4,"2018-06-01","_4_43252_2"]
[{"$f":"'1.Портфель кредитів'!#REF!","v":{"$error":"#REF!"}},{"$f":"'1.Портфель кредитів'!D301","v":""},{"$f":"'1.Портфель кредитів'!#REF!","v":{"$error":"#REF!"}},{"$f":"'1.Портфель кредитів'!#REF!","v":{"$error":"#REF!"}},{"$f":"'1.Портфель кредитів'!#REF!","v":{"$error":"#REF!"}},{"$f":"'1.Портфель кредитів'!E301","v":0},{"$f":"'1.Портфель кредитів'!R301","v":0},{"$f":"'1.Портфель кредитів'!T301","v":""},4,"2018-06-01","_4_43252_2"]
[{"$f":"'1.Портфель кредитів'!#REF!","v":{"$error":"#REF!"}},{"$f":"'1.Портфель кредитів'!D302","v":""},{"$f":"'1.Портфель кредитів'!#REF!","v":{"$error":"#REF!"}},{"$f":"'1.Портфель кредитів'!#REF!","v":{"$error":"#REF!"}},{"$f":"'1.Портфель кредитів'!#REF!","v":{"$error":"#REF!"}},{"$f":"'1.Портфель кредитів'!E302","v":0},{"$f":"'1.Портфель кредитів'!R302","v":0},{"$f":"'1.Портфель кредитів'!T302","v":""},4,"2018-06-01","_4_43252_2"]
[{"$f":"'1.Портфель кредитів'!#REF!","v":{"$error":"#REF!"}},{"$f":"'1.Портфель кредитів'!D303","v":""},{"$f":"'1.Портфель кредитів'!#REF!","v":{"$error":"#REF!"}},{"$f":"'1.Портфель кредитів'!#REF!","v":{"$error":"#REF!"}},{"$f":"'1.Портфель кредитів'!#REF!","v":{"$error":"#REF!"}},{"$f":"'1.Портфель кредитів'!E303","v":0},{"$f":"'1.Портфель кредитів'!R303","v":0},{"$f":"'1.Портфель кредитів'!T303","v":""},4,"2018-06-01","_4_43252_2"]
[{"$f":"'1.Портфель кредитів'!#REF!","v":{"$error":"#REF!"}},{"$f":"'1.Портфель кредитів'!D304","v":""},{"$f":"'1.Портфель кредитів'!#REF!","v":{"$error":"#REF!"}},{"$f":"'1.Портфель кредитів'!#REF!","v":{"$error":"#REF!"}},{"$f":"'1.Портфель кредитів'!#REF!","v":{"$error":"#REF!"}},{"$f":"'1.Портфель кредитів'!E304","v":0},{"$f":"'1.Портфель кредитів'!R304","v":0},{"$f":"'1.Портфель кредитів'!T304","v":""},4,"2018-06-01","_4_43252_2"]
[{"$f":"'1.Портфель кредитів'!#REF!","v":{"$error":"#REF!"}},{"$f":"'1.Портфель кредитів'!D305","v":""},{"$f":"'1.Портфель кредитів'!#REF!","v":{"$error":"#REF!"}},{"$f":"'1.Портфель кредитів'!#REF!","v":{"$error":"#REF!"}},{"$f":"'1.Портфель кредитів'!#REF!","v":{"$error":"#REF!"}},{"$f":"'1.Портфель кредитів'!E305","v":0},{"$f":"'1.Портфель кредитів'!R305","v":0},{"$f":"'1.Портфель кредитів'!T305","v":""},4,"2018-06-01","_4_43252_2"]
[{"$f":"'1.Портфель кредитів'!#REF!","v":{"$error":"#REF!"}},{"$f":"'1.Портфель кредитів'!D306","v":""},{"$f":"'1.Портфель кредитів'!#REF!","v":{"$error":"#REF!"}},{"$f":"'1.Портфель кредитів'!#REF!","v":{"$error":"#REF!"}},{"$f":"'1.Портфель кредитів'!#REF!","v":{"$error":"#REF!"}},{"$f":"'1.Портфель кредитів'!E306","v":0},{"$f":"'1.Портфель кредитів'!R306","v":0},{"$f":"'1.Портфель кредитів'!T306","v":""},4,"2018-06-01","_4_43252_2"]
[{"$f":"'1.Портфель кредитів'!#REF!","v":{"$error":"#REF!"}},{"$f":"'1.Портфель кредитів'!D307","v":""},{"$f":"'1.Портфель кредитів'!#REF!","v":{"$error":"#REF!"}},{"$f":"'1.Портфель кредитів'!#REF!","v":{"$error":"#REF!"}},{"$f":"'1.Портфель кредитів'!#REF!","v":{"$error":"#REF!"}},{"$f":"'1.Портфель кредитів'!E307","v":0},{"$f":"'1.Портфель кредитів'!R307","v":0},{"$f":"'1.Портфель кредитів'!T307","v":""},4,"2018-06-01","_4_43252_2"]
[{"$f":"'1.Портфель кредитів'!#REF!","v":{"$error":"#REF!"}},{"$f":"'1.Портфель кредитів'!D308","v":""},{"$f":"'1.Портфель кредитів'!#REF!","v":{"$error":"#REF!"}},{"$f":"'1.Портфель кредитів'!#REF!","v":{"$error":"#REF!"}},{"$f":"'1.Портфель кредитів'!#REF!","v":{"$error":"#REF!"}},{"$f":"'1.Портфель кредитів'!E308","v":0},{"$f":"'1.Портфель кредитів'!R308","v":0},{"$f":"'1.Портфель кредитів'!T308","v":""},4,"2018-06-01","_4_43252_2"]
[{"$f":"'1.Портфель кредитів'!#REF!","v":{"$error":"#REF!"}},{"$f":"'1.Портфель кредитів'!D309","v":""},{"$f":"'1.Портфель кредитів'!#REF!","v":{"$error":"#REF!"}},{"$f":"'1.Портфель кредитів'!#REF!","v":{"$error":"#REF!"}},{"$f":"'1.Портфель кредитів'!#REF!","v":{"$error":"#REF!"}},{"$f":"'1.Портфель кредитів'!E309","v":0},{"$f":"'1.Портфель кредитів'!R309","v":0},{"$f":"'1.Портфель кредитів'!T309","v":""},4,"2018-06-01","_4_43252_2"]
[{"$f":"'1.Портфель кредитів'!#REF!","v":{"$error":"#REF!"}},{"$f":"'1.Портфель кредитів'!D310","v":""},{"$f":"'1.Портфель кредитів'!#REF!","v":{"$error":"#REF!"}},{"$f":"'1.Портфель кредитів'!#REF!","v":{"$error":"#REF!"}},{"$f":"'1.Портфель кредитів'!#REF!","v":{"$error":"#REF!"}},{"$f":"'1.Портфель кредитів'!E310","v":0},{"$f":"'1.Портфель кредитів'!R310","v":0},{"$f":"'1.Портфель кредитів'!T310","v":""},4,"2018-06-01","_4_43252_2"]
[{"$f":"'1.Портфель кредитів'!#REF!","v":{"$error":"#REF!"}},{"$f":"'1.Портфель кредитів'!D311","v":""},{"$f":"'1.Портфель кредитів'!#REF!","v":{"$error":"#REF!"}},{"$f":"'1.Портфель кредитів'!#REF!","v":{"$error":"#REF!"}},{"$f":"'1.Портфель кредитів'!#REF!","v":{"$error":"#REF!"}},{"$f":"'1.Портфель кредитів'!E311","v":0},{"$f":"'1.Портфель кредитів'!R311","v":0},{"$f":"'1.Портфель кредитів'!T311","v":""},4,"2018-06-01","_4_43252_2"]
[{"$f":"'1.Портфель кредитів'!#REF!","v":{"$error":"#REF!"}},{"$f":"'1.Портфель кредитів'!D312","v":""},{"$f":"'1.Портфель кредитів'!#REF!","v":{"$error":"#REF!"}},{"$f":"'1.Портфель кредитів'!#REF!","v":{"$error":"#REF!"}},{"$f":"'1.Портфель кредитів'!#REF!","v":{"$error":"#REF!"}},{"$f":"'1.Портфель кредитів'!E312","v":0},{"$f":"'1.Портфель кредитів'!R312","v":0},{"$f":"'1.Портфель кредитів'!T312","v":""},4,"2018-06-01","_4_43252_2"]
[{"$f":"'1.Портфель кредитів'!#REF!","v":{"$error":"#REF!"}},{"$f":"'1.Портфель кредитів'!D313","v":""},{"$f":"'1.Портфель кредитів'!#REF!","v":{"$error":"#REF!"}},{"$f":"'1.Портфель кредитів'!#REF!","v":{"$error":"#REF!"}},{"$f":"'1.Портфель кредитів'!#REF!","v":{"$error":"#REF!"}},{"$f":"'1.Портфель кредитів'!E313","v":0},{"$f":"'1.Портфель кредитів'!R313","v":0},{"$f":"'1.Портфель кредитів'!T313","v":""},4,"2018-06-01","_4_43252_2"]
[{"$f":"'1.Портфель кредитів'!#REF!","v":{"$error":"#REF!"}},{"$f":"'1.Портфель кредитів'!D314","v":""},{"$f":"'1.Портфель кредитів'!#REF!","v":{"$error":"#REF!"}},{"$f":"'1.Портфель кредитів'!#REF!","v":{"$error":"#REF!"}},{"$f":"'1.Портфель кредитів'!#REF!","v":{"$error":"#REF!"}},{"$f":"'1.Портфель кредитів'!E314","v":0},{"$f":"'1.Портфель кредитів'!R314","v":0},{"$f":"'1.Портфель кредитів'!T314","v":""},4,"2018-06-01","_4_43252_2"]
[{"$f":"'1.Портфель кредитів'!#REF!","v":{"$error":"#REF!"}},{"$f":"'1.Портфель кредитів'!D315","v":""},{"$f":"'1.Портфель кредитів'!#REF!","v":{"$error":"#REF!"}},{"$f":"'1.Портфель кредитів'!#REF!","v":{"$error":"#REF!"}},{"$f":"'1.Портфель кредитів'!#REF!","v":{"$error":"#REF!"}},{"$f":"'1.Портфель кредитів'!E315","v":0},{"$f":"'1.Портфель кредитів'!R315","v":0},{"$f":"'1.Портфель кредитів'!T315","v":""},4,"2018-06-01","_4_43252_2"]
[{"$f":"'1.Портфель кредитів'!#REF!","v":{"$error":"#REF!"}},{"$f":"'1.Портфель кредитів'!D316","v":""},{"$f":"'1.Портфель кредитів'!#REF!","v":{"$error":"#REF!"}},{"$f":"'1.Портфель кредитів'!#REF!","v":{"$error":"#REF!"}},{"$f":"'1.Портфель кредитів'!#REF!","v":{"$error":"#REF!"}},{"$f":"'1.Портфель кредитів'!E316","v":0},{"$f":"'1.Портфель кредитів'!R316","v":0},{"$f":"'1.Портфель кредитів'!T316","v":""},4,"2018-06-01","_4_43252_2"]
[{"$f":"'1.Портфель кредитів'!#REF!","v":{"$error":"#REF!"}},{"$f":"'1.Портфель кредитів'!D317","v":""},{"$f":"'1.Портфель кредитів'!#REF!","v":{"$error":"#REF!"}},{"$f":"'1.Портфель кредитів'!#REF!","v":{"$error":"#REF!"}},{"$f":"'1.Портфель кредитів'!#REF!","v":{"$error":"#REF!"}},{"$f":"'1.Портфель кредитів'!E317","v":0},{"$f":"'1.Портфель кредитів'!R317","v":0},{"$f":"'1.Портфель кредитів'!T317","v":""},4,"2018-06-01","_4_43252_2"]
[{"$f":"'1.Портфель кредитів'!#REF!","v":{"$error":"#REF!"}},{"$f":"'1.Портфель кредитів'!D318","v":""},{"$f":"'1.Портфель кредитів'!#REF!","v":{"$error":"#REF!"}},{"$f":"'1.Портфель кредитів'!#REF!","v":{"$error":"#REF!"}},{"$f":"'1.Портфель кредитів'!#REF!","v":{"$error":"#REF!"}},{"$f":"'1.Портфель кредитів'!E318","v":0},{"$f":"'1.Портфель кредитів'!R318","v":0},{"$f":"'1.Портфель кредитів'!T318","v":""},4,"2018-06-01","_4_43252_2"]
[{"$f":"'1.Портфель кредитів'!#REF!","v":{"$error":"#REF!"}},{"$f":"'1.Портфель кредитів'!D319","v":""},{"$f":"'1.Портфель кредитів'!#REF!","v":{"$error":"#REF!"}},{"$f":"'1.Портфель кредитів'!#REF!","v":{"$error":"#REF!"}},{"$f":"'1.Портфель кредитів'!#REF!","v":{"$error":"#REF!"}},{"$f":"'1.Портфель кредитів'!E319","v":0},{"$f":"'1.Портфель кредитів'!R319","v":0},{"$f":"'1.Портфель кредитів'!T319","v":""},4,"2018-06-01","_4_43252_2"]
[{"$f":"'1.Портфель кредитів'!#REF!","v":{"$error":"#REF!"}},{"$f":"'1.Портфель кредитів'!D320","v":""},{"$f":"'1.Портфель кредитів'!#REF!","v":{"$error":"#REF!"}},{"$f":"'1.Портфель кредитів'!#REF!","v":{"$error":"#REF!"}},{"$f":"'1.Портфель кредитів'!#REF!","v":{"$error":"#REF!"}},{"$f":"'1.Портфель кредитів'!E320","v":0},{"$f":"'1.Портфель кредитів'!R320","v":0},{"$f":"'1.Портфель кредитів'!T320","v":""},4,"2018-06-01","_4_43252_2"]
[{"$f":"'1.Портфель кредитів'!#REF!","v":{"$error":"#REF!"}},{"$f":"'1.Портфель кредитів'!D321","v":""},{"$f":"'1.Портфель кредитів'!#REF!","v":{"$error":"#REF!"}},{"$f":"'1.Портфель кредитів'!#REF!","v":{"$error":"#REF!"}},{"$f":"'1.Портфель кредитів'!#REF!","v":{"$error":"#REF!"}},{"$f":"'1.Портфель кредитів'!E321","v":0},{"$f":"'1.Портфель кредитів'!R321","v":0},{"$f":"'1.Портфель кредитів'!T321","v":""},4,"2018-06-01","_4_43252_2"]
[{"$f":"'1.Портфель кредитів'!#REF!","v":{"$error":"#REF!"}},{"$f":"'1.Портфель кредитів'!D322","v":""},{"$f":"'1.Портфель кредитів'!#REF!","v":{"$error":"#REF!"}},{"$f":"'1.Портфель кредитів'!#REF!","v":{"$error":"#REF!"}},{"$f":"'1.Портфель кредитів'!#REF!","v":{"$error":"#REF!"}},{"$f":"'1.Портфель кредитів'!E322","v":0},{"$f":"'1.Портфель кредитів'!R322","v":0},{"$f":"'1.Портфель кредитів'!T322","v":""},4,"2018-06-01","_4_43252_2"]
[{"$f":"'1.Портфель кредитів'!#REF!","v":{"$error":"#REF!"}},{"$f":"'1.Портфель кредитів'!D323","v":""},{"$f":"'1.Портфель кредитів'!#REF!","v":{"$error":"#REF!"}},{"$f":"'1.Портфель кредитів'!#REF!","v":{"$error":"#REF!"}},{"$f":"'1.Портфель кредитів'!#REF!","v":{"$error":"#REF!"}},{"$f":"'1.Портфель кредитів'!E323","v":0},{"$f":"'1.Портфель кредитів'!R323","v":0},{"$f":"'1.Портфель кредитів'!T323","v":""},{"$f":"$E$1","v":4},{"$f":"$E$2","v":"2018-06-01"},{"$f":"B326&\"_\"&I326&\"_\"&J326&\"_\"&$E$3","v":"_4_43252_2"}]
[{"$f":"'1.Портфель кредитів'!#REF!","v":{"$error":"#REF!"}},{"$f":"'1.Портфель кредитів'!D324","v":""},{"$f":"'1.Портфель кредитів'!#REF!","v":{"$error":"#REF!"}},{"$f":"'1.Портфель кредитів'!#REF!","v":{"$error":"#REF!"}},{"$f":"'1.Портфель кредитів'!#REF!","v":{"$error":"#REF!"}},{"$f":"'1.Портфель кредитів'!E324","v":0},{"$f":"'1.Портфель кредитів'!R324","v":0},{"$f":"'1.Портфель кредитів'!T324","v":""},4,"2018-06-01","_4_43252_2"]
[{"$f":"'1.Портфель кредитів'!#REF!","v":{"$error":"#REF!"}},{"$f":"'1.Портфель кредитів'!D325","v":""},{"$f":"'1.Портфель кредитів'!#REF!","v":{"$error":"#REF!"}},{"$f":"'1.Портфель кредитів'!#REF!","v":{"$error":"#REF!"}},{"$f":"'1.Портфель кредитів'!#REF!","v":{"$error":"#REF!"}},{"$f":"'1.Портфель кредитів'!E325","v":0},{"$f":"'1.Портфель кредитів'!R325","v":0},{"$f":"'1.Портфель кредитів'!T325","v":""},4,"2018-06-01","_4_43252_2"]
[{"$f":"'1.Портфель кредитів'!#REF!","v":{"$error":"#REF!"}},{"$f":"'1.Портфель кредитів'!D326","v":""},{"$f":"'1.Портфель кредитів'!#REF!","v":{"$error":"#REF!"}},{"$f":"'1.Портфель кредитів'!#REF!","v":{"$error":"#REF!"}},{"$f":"'1.Портфель кредитів'!#REF!","v":{"$error":"#REF!"}},{"$f":"'1.Портфель кредитів'!E326","v":0},{"$f":"'1.Портфель кредитів'!R326","v":0},{"$f":"'1.Портфель кредитів'!T326","v":""},4,"2018-06-01","_4_43252_2"]
[{"$f":"'1.Портфель кредитів'!#REF!","v":{"$error":"#REF!"}},{"$f":"'1.Портфель кредитів'!D327","v":""},{"$f":"'1.Портфель кредитів'!#REF!","v":{"$error":"#REF!"}},{"$f":"'1.Портфель кредитів'!#REF!","v":{"$error":"#REF!"}},{"$f":"'1.Портфель кредитів'!#REF!","v":{"$error":"#REF!"}},{"$f":"'1.Портфель кредитів'!E327","v":0},{"$f":"'1.Портфель кредитів'!R327","v":0},{"$f":"'1.Портфель кредитів'!T327","v":""},4,"2018-06-01","_4_43252_2"]
[{"$f":"'1.Портфель кредитів'!#REF!","v":{"$error":"#REF!"}},{"$f":"'1.Портфель кредитів'!D328","v":""},{"$f":"'1.Портфель кредитів'!#REF!","v":{"$error":"#REF!"}},{"$f":"'1.Портфель кредитів'!#REF!","v":{"$error":"#REF!"}},{"$f":"'1.Портфель кредитів'!#REF!","v":{"$error":"#REF!"}},{"$f":"'1.Портфель кредитів'!E328","v":0},{"$f":"'1.Портфель кредитів'!R328","v":0},{"$f":"'1.Портфель кредитів'!T328","v":""},4,"2018-06-01","_4_43252_2"]
[{"$f":"'1.Портфель кредитів'!#REF!","v":{"$error":"#REF!"}},{"$f":"'1.Портфель кредитів'!D329","v":""},{"$f":"'1.Портфель кредитів'!#REF!","v":{"$error":"#REF!"}},{"$f":"'1.Портфель кредитів'!#REF!","v":{"$error":"#REF!"}},{"$f":"'1.Портфель кредитів'!#REF!","v":{"$error":"#REF!"}},{"$f":"'1.Портфель кредитів'!E329","v":0},{"$f":"'1.Портфель кредитів'!R329","v":0},{"$f":"'1.Портфель кредитів'!T329","v":""},4,"2018-06-01","_4_43252_2"]
[{"$f":"'1.Портфель кредитів'!#REF!","v":{"$error":"#REF!"}},{"$f":"'1.Портфель кредитів'!D330","v":""},{"$f":"'1.Портфель кредитів'!#REF!","v":{"$error":"#REF!"}},{"$f":"'1.Портфель кредитів'!#REF!","v":{"$error":"#REF!"}},{"$f":"'1.Портфель кредитів'!#REF!","v":{"$error":"#REF!"}},{"$f":"'1.Портфель кредитів'!E330","v":0},{"$f":"'1.Портфель кредитів'!R330","v":0},{"$f":"'1.Портфель кредитів'!T330","v":""},4,"2018-06-01","_4_43252_2"]
[{"$f":"'1.Портфель кредитів'!#REF!","v":{"$error":"#REF!"}},{"$f":"'1.Портфель кредитів'!D331","v":""},{"$f":"'1.Портфель кредитів'!#REF!","v":{"$error":"#REF!"}},{"$f":"'1.Портфель кредитів'!#REF!","v":{"$error":"#REF!"}},{"$f":"'1.Портфель кредитів'!#REF!","v":{"$error":"#REF!"}},{"$f":"'1.Портфель кредитів'!E331","v":0},{"$f":"'1.Портфель кредитів'!R331","v":0},{"$f":"'1.Портфель кредитів'!T331","v":""},4,"2018-06-01","_4_43252_2"]
[{"$f":"'1.Портфель кредитів'!#REF!","v":{"$error":"#REF!"}},{"$f":"'1.Портфель кредитів'!D332","v":""},{"$f":"'1.Портфель кредитів'!#REF!","v":{"$error":"#REF!"}},{"$f":"'1.Портфель кредитів'!#REF!","v":{"$error":"#REF!"}},{"$f":"'1.Портфель кредитів'!#REF!","v":{"$error":"#REF!"}},{"$f":"'1.Портфель кредитів'!E332","v":0},{"$f":"'1.Портфель кредитів'!R332","v":0},{"$f":"'1.Портфель кредитів'!T332","v":""},4,"2018-06-01","_4_43252_2"]
[{"$f":"'1.Портфель кредитів'!#REF!","v":{"$error":"#REF!"}},{"$f":"'1.Портфель кредитів'!D333","v":""},{"$f":"'1.Портфель кредитів'!#REF!","v":{"$error":"#REF!"}},{"$f":"'1.Портфель кредитів'!#REF!","v":{"$error":"#REF!"}},{"$f":"'1.Портфель кредитів'!#REF!","v":{"$error":"#REF!"}},{"$f":"'1.Портфель кредитів'!E333","v":0},{"$f":"'1.Портфель кредитів'!R333","v":0},{"$f":"'1.Портфель кредитів'!T333","v":""},4,"2018-06-01","_4_43252_2"]
[{"$f":"'1.Портфель кредитів'!#REF!","v":{"$error":"#REF!"}},{"$f":"'1.Портфель кредитів'!D334","v":""},{"$f":"'1.Портфель кредитів'!#REF!","v":{"$error":"#REF!"}},{"$f":"'1.Портфель кредитів'!#REF!","v":{"$error":"#REF!"}},{"$f":"'1.Портфель кредитів'!#REF!","v":{"$error":"#REF!"}},{"$f":"'1.Портфель кредитів'!E334","v":0},{"$f":"'1.Портфель кредитів'!R334","v":0},{"$f":"'1.Портфель кредитів'!T334","v":""},4,"2018-06-01","_4_43252_2"]
[{"$f":"'1.Портфель кредитів'!#REF!","v":{"$error":"#REF!"}},{"$f":"'1.Портфель кредитів'!D335","v":""},{"$f":"'1.Портфель кредитів'!#REF!","v":{"$error":"#REF!"}},{"$f":"'1.Портфель кредитів'!#REF!","v":{"$error":"#REF!"}},{"$f":"'1.Портфель кредитів'!#REF!","v":{"$error":"#REF!"}},{"$f":"'1.Портфель кредитів'!E335","v":0},{"$f":"'1.Портфель кредитів'!R335","v":0},{"$f":"'1.Портфель кредитів'!T335","v":""},4,"2018-06-01","_4_43252_2"]
[{"$f":"'1.Портфель кредитів'!#REF!","v":{"$error":"#REF!"}},{"$f":"'1.Портфель кредитів'!D336","v":""},{"$f":"'1.Портфель кредитів'!#REF!","v":{"$error":"#REF!"}},{"$f":"'1.Портфель кредитів'!#REF!","v":{"$error":"#REF!"}},{"$f":"'1.Портфель кредитів'!#REF!","v":{"$error":"#REF!"}},{"$f":"'1.Портфель кредитів'!E336","v":0},{"$f":"'1.Портфель кредитів'!R336","v":0},{"$f":"'1.Портфель кредитів'!T336","v":""},4,"2018-06-01","_4_43252_2"]
[{"$f":"'1.Портфель кредитів'!#REF!","v":{"$error":"#REF!"}},{"$f":"'1.Портфель кредитів'!D337","v":""},{"$f":"'1.Портфель кредитів'!#REF!","v":{"$error":"#REF!"}},{"$f":"'1.Портфель кредитів'!#REF!","v":{"$error":"#REF!"}},{"$f":"'1.Портфель кредитів'!#REF!","v":{"$error":"#REF!"}},{"$f":"'1.Портфель кредитів'!E337","v":0},{"$f":"'1.Портфель кредитів'!R337","v":0},{"$f":"'1.Портфель кредитів'!T337","v":""},4,"2018-06-01","_4_43252_2"]
[{"$f":"'1.Портфель кредитів'!#REF!","v":{"$error":"#REF!"}},{"$f":"'1.Портфель кредитів'!D338","v":""},{"$f":"'1.Портфель кредитів'!#REF!","v":{"$error":"#REF!"}},{"$f":"'1.Портфель кредитів'!#REF!","v":{"$error":"#REF!"}},{"$f":"'1.Портфель кредитів'!#REF!","v":{"$error":"#REF!"}},{"$f":"'1.Портфель кредитів'!E338","v":0},{"$f":"'1.Портфель кредитів'!R338","v":0},{"$f":"'1.Портфель кредитів'!T338","v":""},4,"2018-06-01","_4_43252_2"]
[{"$f":"'1.Портфель кредитів'!#REF!","v":{"$error":"#REF!"}},{"$f":"'1.Портфель кредитів'!D339","v":""},{"$f":"'1.Портфель кредитів'!#REF!","v":{"$error":"#REF!"}},{"$f":"'1.Портфель кредитів'!#REF!","v":{"$error":"#REF!"}},{"$f":"'1.Портфель кредитів'!#REF!","v":{"$error":"#REF!"}},{"$f":"'1.Портфель кредитів'!E339","v":0},{"$f":"'1.Портфель кредитів'!R339","v":0},{"$f":"'1.Портфель кредитів'!T339","v":""},4,"2018-06-01","_4_43252_2"]
[{"$f":"'1.Портфель кредитів'!#REF!","v":{"$error":"#REF!"}},{"$f":"'1.Портфель кредитів'!D340","v":""},{"$f":"'1.Портфель кредитів'!#REF!","v":{"$error":"#REF!"}},{"$f":"'1.Портфель кредитів'!#REF!","v":{"$error":"#REF!"}},{"$f":"'1.Портфель кредитів'!#REF!","v":{"$error":"#REF!"}},{"$f":"'1.Портфель кредитів'!E340","v":0},{"$f":"'1.Портфель кредитів'!R340","v":0},{"$f":"'1.Портфель кредитів'!T340","v":""},4,"2018-06-01","_4_43252_2"]
[{"$f":"'1.Портфель кредитів'!#REF!","v":{"$error":"#REF!"}},{"$f":"'1.Портфель кредитів'!D341","v":""},{"$f":"'1.Портфель кредитів'!#REF!","v":{"$error":"#REF!"}},{"$f":"'1.Портфель кредитів'!#REF!","v":{"$error":"#REF!"}},{"$f":"'1.Портфель кредитів'!#REF!","v":{"$error":"#REF!"}},{"$f":"'1.Портфель кредитів'!E341","v":0},{"$f":"'1.Портфель кредитів'!R341","v":0},{"$f":"'1.Портфель кредитів'!T341","v":""},4,"2018-06-01","_4_43252_2"]
[{"$f":"'1.Портфель кредитів'!#REF!","v":{"$error":"#REF!"}},{"$f":"'1.Портфель кредитів'!D342","v":""},{"$f":"'1.Портфель кредитів'!#REF!","v":{"$error":"#REF!"}},{"$f":"'1.Портфель кредитів'!#REF!","v":{"$error":"#REF!"}},{"$f":"'1.Портфель кредитів'!#REF!","v":{"$error":"#REF!"}},{"$f":"'1.Портфель кредитів'!E342","v":0},{"$f":"'1.Портфель кредитів'!R342","v":0},{"$f":"'1.Портфель кредитів'!T342","v":""},4,"2018-06-01","_4_43252_2"]
[{"$f":"'1.Портфель кредитів'!#REF!","v":{"$error":"#REF!"}},{"$f":"'1.Портфель кредитів'!D343","v":""},{"$f":"'1.Портфель кредитів'!#REF!","v":{"$error":"#REF!"}},{"$f":"'1.Портфель кредитів'!#REF!","v":{"$error":"#REF!"}},{"$f":"'1.Портфель кредитів'!#REF!","v":{"$error":"#REF!"}},{"$f":"'1.Портфель кредитів'!E343","v":0},{"$f":"'1.Портфель кредитів'!R343","v":0},{"$f":"'1.Портфель кредитів'!T343","v":""},4,"2018-06-01","_4_43252_2"]
[{"$f":"'1.Портфель кредитів'!#REF!","v":{"$error":"#REF!"}},{"$f":"'1.Портфель кредитів'!D344","v":""},{"$f":"'1.Портфель кредитів'!#REF!","v":{"$error":"#REF!"}},{"$f":"'1.Портфель кредитів'!#REF!","v":{"$error":"#REF!"}},{"$f":"'1.Портфель кредитів'!#REF!","v":{"$error":"#REF!"}},{"$f":"'1.Портфель кредитів'!E344","v":0},{"$f":"'1.Портфель кредитів'!R344","v":0},{"$f":"'1.Портфель кредитів'!T344","v":""},4,"2018-06-01","_4_43252_2"]
[{"$f":"'1.Портфель кредитів'!#REF!","v":{"$error":"#REF!"}},{"$f":"'1.Портфель кредитів'!D345","v":""},{"$f":"'1.Портфель кредитів'!#REF!","v":{"$error":"#REF!"}},{"$f":"'1.Портфель кредитів'!#REF!","v":{"$error":"#REF!"}},{"$f":"'1.Портфель кредитів'!#REF!","v":{"$error":"#REF!"}},{"$f":"'1.Портфель кредитів'!E345","v":0},{"$f":"'1.Портфель кредитів'!R345","v":0},{"$f":"'1.Портфель кредитів'!T345","v":""},4,"2018-06-01","_4_43252_2"]
[{"$f":"'1.Портфель кредитів'!#REF!","v":{"$error":"#REF!"}},{"$f":"'1.Портфель кредитів'!D346","v":""},{"$f":"'1.Портфель кредитів'!#REF!","v":{"$error":"#REF!"}},{"$f":"'1.Портфель кредитів'!#REF!","v":{"$error":"#REF!"}},{"$f":"'1.Портфель кредитів'!#REF!","v":{"$error":"#REF!"}},{"$f":"'1.Портфель кредитів'!E346","v":0},{"$f":"'1.Портфель кредитів'!R346","v":0},{"$f":"'1.Портфель кредитів'!T346","v":""},4,"2018-06-01","_4_43252_2"]
[{"$f":"'1.Портфель кредитів'!#REF!","v":{"$error":"#REF!"}},{"$f":"'1.Портфель кредитів'!D347","v":""},{"$f":"'1.Портфель кредитів'!#REF!","v":{"$error":"#REF!"}},{"$f":"'1.Портфель кредитів'!#REF!","v":{"$error":"#REF!"}},{"$f":"'1.Портфель кредитів'!#REF!","v":{"$error":"#REF!"}},{"$f":"'1.Портфель кредитів'!E347","v":0},{"$f":"'1.Портфель кредитів'!R347","v":0},{"$f":"'1.Портфель кредитів'!T347","v":""},4,"2018-06-01","_4_43252_2"]
[{"$f":"'1.Портфель кредитів'!#REF!","v":{"$error":"#REF!"}},{"$f":"'1.Портфель кредитів'!D348","v":""},{"$f":"'1.Портфель кредитів'!#REF!","v":{"$error":"#REF!"}},{"$f":"'1.Портфель кредитів'!#REF!","v":{"$error":"#REF!"}},{"$f":"'1.Портфель кредитів'!#REF!","v":{"$error":"#REF!"}},{"$f":"'1.Портфель кредитів'!E348","v":0},{"$f":"'1.Портфель кредитів'!R348","v":0},{"$f":"'1.Портфель кредитів'!T348","v":""},4,"2018-06-01","_4_43252_2"]
[{"$f":"'1.Портфель кредитів'!#REF!","v":{"$error":"#REF!"}},{"$f":"'1.Портфель кредитів'!D349","v":""},{"$f":"'1.Портфель кредитів'!#REF!","v":{"$error":"#REF!"}},{"$f":"'1.Портфель кредитів'!#REF!","v":{"$error":"#REF!"}},{"$f":"'1.Портфель кредитів'!#REF!","v":{"$error":"#REF!"}},{"$f":"'1.Портфель кредитів'!E349","v":0},{"$f":"'1.Портфель кредитів'!R349","v":0},{"$f":"'1.Портфель кредитів'!T349","v":""},4,"2018-06-01","_4_43252_2"]
[{"$f":"'1.Портфель кредитів'!#REF!","v":{"$error":"#REF!"}},{"$f":"'1.Портфель кредитів'!D350","v":""},{"$f":"'1.Портфель кредитів'!#REF!","v":{"$error":"#REF!"}},{"$f":"'1.Портфель кредитів'!#REF!","v":{"$error":"#REF!"}},{"$f":"'1.Портфель кредитів'!#REF!","v":{"$error":"#REF!"}},{"$f":"'1.Портфель кредитів'!E350","v":0},{"$f":"'1.Портфель кредитів'!R350","v":0},{"$f":"'1.Портфель кредитів'!T350","v":""},4,"2018-06-01","_4_43252_2"]
[{"$f":"'1.Портфель кредитів'!#REF!","v":{"$error":"#REF!"}},{"$f":"'1.Портфель кредитів'!D351","v":""},{"$f":"'1.Портфель кредитів'!#REF!","v":{"$error":"#REF!"}},{"$f":"'1.Портфель кредитів'!#REF!","v":{"$error":"#REF!"}},{"$f":"'1.Портфель кредитів'!#REF!","v":{"$error":"#REF!"}},{"$f":"'1.Портфель кредитів'!E351","v":0},{"$f":"'1.Портфель кредитів'!R351","v":0},{"$f":"'1.Портфель кредитів'!T351","v":""},4,"2018-06-01","_4_43252_2"]
[{"$f":"'1.Портфель кредитів'!#REF!","v":{"$error":"#REF!"}},{"$f":"'1.Портфель кредитів'!D352","v":""},{"$f":"'1.Портфель кредитів'!#REF!","v":{"$error":"#REF!"}},{"$f":"'1.Портфель кредитів'!#REF!","v":{"$error":"#REF!"}},{"$f":"'1.Портфель кредитів'!#REF!","v":{"$error":"#REF!"}},{"$f":"'1.Портфель кредитів'!E352","v":0},{"$f":"'1.Портфель кредитів'!R352","v":0},{"$f":"'1.Портфель кредитів'!T352","v":""},4,"2018-06-01","_4_43252_2"]
[{"$f":"'1.Портфель кредитів'!#REF!","v":{"$error":"#REF!"}},{"$f":"'1.Портфель кредитів'!D353","v":""},{"$f":"'1.Портфель кредитів'!#REF!","v":{"$error":"#REF!"}},{"$f":"'1.Портфель кредитів'!#REF!","v":{"$error":"#REF!"}},{"$f":"'1.Портфель кредитів'!#REF!","v":{"$error":"#REF!"}},{"$f":"'1.Портфель кредитів'!E353","v":0},{"$f":"'1.Портфель кредитів'!R353","v":0},{"$f":"'1.Портфель кредитів'!T353","v":""},4,"2018-06-01","_4_43252_2"]
[{"$f":"'1.Портфель кредитів'!#REF!","v":{"$error":"#REF!"}},{"$f":"'1.Портфель кредитів'!D354","v":""},{"$f":"'1.Портфель кредитів'!#REF!","v":{"$error":"#REF!"}},{"$f":"'1.Портфель кредитів'!#REF!","v":{"$error":"#REF!"}},{"$f":"'1.Портфель кредитів'!#REF!","v":{"$error":"#REF!"}},{"$f":"'1.Портфель кредитів'!E354","v":0},{"$f":"'1.Портфель кредитів'!R354","v":0},{"$f":"'1.Портфель кредитів'!T354","v":""},4,"2018-06-01","_4_43252_2"]
[{"$f":"'1.Портфель кредитів'!#REF!","v":{"$error":"#REF!"}},{"$f":"'1.Портфель кредитів'!D355","v":""},{"$f":"'1.Портфель кредитів'!#REF!","v":{"$error":"#REF!"}},{"$f":"'1.Портфель кредитів'!#REF!","v":{"$error":"#REF!"}},{"$f":"'1.Портфель кредитів'!#REF!","v":{"$error":"#REF!"}},{"$f":"'1.Портфель кредитів'!E355","v":0},{"$f":"'1.Портфель кредитів'!R355","v":0},{"$f":"'1.Портфель кредитів'!T355","v":""},4,"2018-06-01","_4_43252_2"]
[{"$f":"'1.Портфель кредитів'!#REF!","v":{"$error":"#REF!"}},{"$f":"'1.Портфель кредитів'!D356","v":""},{"$f":"'1.Портфель кредитів'!#REF!","v":{"$error":"#REF!"}},{"$f":"'1.Портфель кредитів'!#REF!","v":{"$error":"#REF!"}},{"$f":"'1.Портфель кредитів'!#REF!","v":{"$error":"#REF!"}},{"$f":"'1.Портфель кредитів'!E356","v":0},{"$f":"'1.Портфель кредитів'!R356","v":0},{"$f":"'1.Портфель кредитів'!T356","v":""},4,"2018-06-01","_4_43252_2"]
[{"$f":"'1.Портфель кредитів'!#REF!","v":{"$error":"#REF!"}},{"$f":"'1.Портфель кредитів'!D357","v":""},{"$f":"'1.Портфель кредитів'!#REF!","v":{"$error":"#REF!"}},{"$f":"'1.Портфель кредитів'!#REF!","v":{"$error":"#REF!"}},{"$f":"'1.Портфель кредитів'!#REF!","v":{"$error":"#REF!"}},{"$f":"'1.Портфель кредитів'!E357","v":0},{"$f":"'1.Портфель кредитів'!R357","v":0},{"$f":"'1.Портфель кредитів'!T357","v":""},4,"2018-06-01","_4_43252_2"]
[{"$f":"'1.Портфель кредитів'!#REF!","v":{"$error":"#REF!"}},{"$f":"'1.Портфель кредитів'!D358","v":""},{"$f":"'1.Портфель кредитів'!#REF!","v":{"$error":"#REF!"}},{"$f":"'1.Портфель кредитів'!#REF!","v":{"$error":"#REF!"}},{"$f":"'1.Портфель кредитів'!#REF!","v":{"$error":"#REF!"}},{"$f":"'1.Портфель кредитів'!E358","v":0},{"$f":"'1.Портфель кредитів'!R358","v":0},{"$f":"'1.Портфель кредитів'!T358","v":""},4,"2018-06-01","_4_43252_2"]
[{"$f":"'1.Портфель кредитів'!#REF!","v":{"$error":"#REF!"}},{"$f":"'1.Портфель кредитів'!D359","v":""},{"$f":"'1.Портфель кредитів'!#REF!","v":{"$error":"#REF!"}},{"$f":"'1.Портфель кредитів'!#REF!","v":{"$error":"#REF!"}},{"$f":"'1.Портфель кредитів'!#REF!","v":{"$error":"#REF!"}},{"$f":"'1.Портфель кредитів'!E359","v":0},{"$f":"'1.Портфель кредитів'!R359","v":0},{"$f":"'1.Портфель кредитів'!T359","v":""},4,"2018-06-01","_4_43252_2"]
[{"$f":"'1.Портфель кредитів'!#REF!","v":{"$error":"#REF!"}},{"$f":"'1.Портфель кредитів'!D360","v":""},{"$f":"'1.Портфель кредитів'!#REF!","v":{"$error":"#REF!"}},{"$f":"'1.Портфель кредитів'!#REF!","v":{"$error":"#REF!"}},{"$f":"'1.Портфель кредитів'!#REF!","v":{"$error":"#REF!"}},{"$f":"'1.Портфель кредитів'!E360","v":0},{"$f":"'1.Портфель кредитів'!R360","v":0},{"$f":"'1.Портфель кредитів'!T360","v":""},4,"2018-06-01","_4_43252_2"]
[{"$f":"'1.Портфель кредитів'!#REF!","v":{"$error":"#REF!"}},{"$f":"'1.Портфель кредитів'!D361","v":""},{"$f":"'1.Портфель кредитів'!#REF!","v":{"$error":"#REF!"}},{"$f":"'1.Портфель кредитів'!#REF!","v":{"$error":"#REF!"}},{"$f":"'1.Портфель кредитів'!#REF!","v":{"$error":"#REF!"}},{"$f":"'1.Портфель кредитів'!E361","v":0},{"$f":"'1.Портфель кредитів'!R361","v":0},{"$f":"'1.Портфель кредитів'!T361","v":""},4,"2018-06-01","_4_43252_2"]
[{"$f":"'1.Портфель кредитів'!#REF!","v":{"$error":"#REF!"}},{"$f":"'1.Портфель кредитів'!D362","v":""},{"$f":"'1.Портфель кредитів'!#REF!","v":{"$error":"#REF!"}},{"$f":"'1.Портфель кредитів'!#REF!","v":{"$error":"#REF!"}},{"$f":"'1.Портфель кредитів'!#REF!","v":{"$error":"#REF!"}},{"$f":"'1.Портфель кредитів'!E362","v":0},{"$f":"'1.Портфель кредитів'!R362","v":0},{"$f":"'1.Портфель кредитів'!T362","v":""},4,"2018-06-01","_4_43252_2"]
[{"$f":"'1.Портфель кредитів'!#REF!","v":{"$error":"#REF!"}},{"$f":"'1.Портфель кредитів'!D363","v":""},{"$f":"'1.Портфель кредитів'!#REF!","v":{"$error":"#REF!"}},{"$f":"'1.Портфель кредитів'!#REF!","v":{"$error":"#REF!"}},{"$f":"'1.Портфель кредитів'!#REF!","v":{"$error":"#REF!"}},{"$f":"'1.Портфель кредитів'!E363","v":0},{"$f":"'1.Портфель кредитів'!R363","v":0},{"$f":"'1.Портфель кредитів'!T363","v":""},4,"2018-06-01","_4_43252_2"]
[{"$f":"'1.Портфель кредитів'!#REF!","v":{"$error":"#REF!"}},{"$f":"'1.Портфель кредитів'!D364","v":""},{"$f":"'1.Портфель кредитів'!#REF!","v":{"$error":"#REF!"}},{"$f":"'1.Портфель кредитів'!#REF!","v":{"$error":"#REF!"}},{"$f":"'1.Портфель кредитів'!#REF!","v":{"$error":"#REF!"}},{"$f":"'1.Портфель кредитів'!E364","v":0},{"$f":"'1.Портфель кредитів'!R364","v":0},{"$f":"'1.Портфель кредитів'!T364","v":""},4,"2018-06-01","_4_43252_2"]
[{"$f":"'1.Портфель кредитів'!#REF!","v":{"$error":"#REF!"}},{"$f":"'1.Портфель кредитів'!D365","v":""},{"$f":"'1.Портфель кредитів'!#REF!","v":{"$error":"#REF!"}},{"$f":"'1.Портфель кредитів'!#REF!","v":{"$error":"#REF!"}},{"$f":"'1.Портфель кредитів'!#REF!","v":{"$error":"#REF!"}},{"$f":"'1.Портфель кредитів'!E365","v":0},{"$f":"'1.Портфель кредитів'!R365","v":0},{"$f":"'1.Портфель кредитів'!T365","v":""},4,"2018-06-01","_4_43252_2"]
[{"$f":"'1.Портфель кредитів'!#REF!","v":{"$error":"#REF!"}},{"$f":"'1.Портфель кредитів'!D366","v":""},{"$f":"'1.Портфель кредитів'!#REF!","v":{"$error":"#REF!"}},{"$f":"'1.Портфель кредитів'!#REF!","v":{"$error":"#REF!"}},{"$f":"'1.Портфель кредитів'!#REF!","v":{"$error":"#REF!"}},{"$f":"'1.Портфель кредитів'!E366","v":0},{"$f":"'1.Портфель кредитів'!R366","v":0},{"$f":"'1.Портфель кредитів'!T366","v":""},4,"2018-06-01","_4_43252_2"]
[{"$f":"'1.Портфель кредитів'!#REF!","v":{"$error":"#REF!"}},{"$f":"'1.Портфель кредитів'!D367","v":""},{"$f":"'1.Портфель кредитів'!#REF!","v":{"$error":"#REF!"}},{"$f":"'1.Портфель кредитів'!#REF!","v":{"$error":"#REF!"}},{"$f":"'1.Портфель кредитів'!#REF!","v":{"$error":"#REF!"}},{"$f":"'1.Портфель кредитів'!E367","v":0},{"$f":"'1.Портфель кредитів'!R367","v":0},{"$f":"'1.Портфель кредитів'!T367","v":""},4,"2018-06-01","_4_43252_2"]
[{"$f":"'1.Портфель кредитів'!#REF!","v":{"$error":"#REF!"}},{"$f":"'1.Портфель кредитів'!D368","v":""},{"$f":"'1.Портфель кредитів'!#REF!","v":{"$error":"#REF!"}},{"$f":"'1.Портфель кредитів'!#REF!","v":{"$error":"#REF!"}},{"$f":"'1.Портфель кредитів'!#REF!","v":{"$error":"#REF!"}},{"$f":"'1.Портфель кредитів'!E368","v":0},{"$f":"'1.Портфель кредитів'!R368","v":0},{"$f":"'1.Портфель кредитів'!T368","v":""},4,"2018-06-01","_4_43252_2"]
[{"$f":"'1.Портфель кредитів'!#REF!","v":{"$error":"#REF!"}},{"$f":"'1.Портфель кредитів'!D369","v":""},{"$f":"'1.Портфель кредитів'!#REF!","v":{"$error":"#REF!"}},{"$f":"'1.Портфель кредитів'!#REF!","v":{"$error":"#REF!"}},{"$f":"'1.Портфель кредитів'!#REF!","v":{"$error":"#REF!"}},{"$f":"'1.Портфель кредитів'!E369","v":0},{"$f":"'1.Портфель кредитів'!R369","v":0},{"$f":"'1.Портфель кредитів'!T369","v":""},4,"2018-06-01","_4_43252_2"]
[{"$f":"'1.Портфель кредитів'!#REF!","v":{"$error":"#REF!"}},{"$f":"'1.Портфель кредитів'!D370","v":""},{"$f":"'1.Портфель кредитів'!#REF!","v":{"$error":"#REF!"}},{"$f":"'1.Портфель кредитів'!#REF!","v":{"$error":"#REF!"}},{"$f":"'1.Портфель кредитів'!#REF!","v":{"$error":"#REF!"}},{"$f":"'1.Портфель кредитів'!E370","v":0},{"$f":"'1.Портфель кредитів'!R370","v":0},{"$f":"'1.Портфель кредитів'!T370","v":""},4,"2018-06-01","_4_43252_2"]
[{"$f":"'1.Портфель кредитів'!#REF!","v":{"$error":"#REF!"}},{"$f":"'1.Портфель кредитів'!D371","v":""},{"$f":"'1.Портфель кредитів'!#REF!","v":{"$error":"#REF!"}},{"$f":"'1.Портфель кредитів'!#REF!","v":{"$error":"#REF!"}},{"$f":"'1.Портфель кредитів'!#REF!","v":{"$error":"#REF!"}},{"$f":"'1.Портфель кредитів'!E371","v":0},{"$f":"'1.Портфель кредитів'!R371","v":0},{"$f":"'1.Портфель кредитів'!T371","v":""},4,"2018-06-01","_4_43252_2"]
[{"$f":"'1.Портфель кредитів'!#REF!","v":{"$error":"#REF!"}},{"$f":"'1.Портфель кредитів'!D372","v":""},{"$f":"'1.Портфель кредитів'!#REF!","v":{"$error":"#REF!"}},{"$f":"'1.Портфель кредитів'!#REF!","v":{"$error":"#REF!"}},{"$f":"'1.Портфель кредитів'!#REF!","v":{"$error":"#REF!"}},{"$f":"'1.Портфель кредитів'!E372","v":0},{"$f":"'1.Портфель кредитів'!R372","v":0},{"$f":"'1.Портфель кредитів'!T372","v":""},4,"2018-06-01","_4_43252_2"]
[{"$f":"'1.Портфель кредитів'!#REF!","v":{"$error":"#REF!"}},{"$f":"'1.Портфель кредитів'!D373","v":""},{"$f":"'1.Портфель кредитів'!#REF!","v":{"$error":"#REF!"}},{"$f":"'1.Портфель кредитів'!#REF!","v":{"$error":"#REF!"}},{"$f":"'1.Портфель кредитів'!#REF!","v":{"$error":"#REF!"}},{"$f":"'1.Портфель кредитів'!E373","v":0},{"$f":"'1.Портфель кредитів'!R373","v":0},{"$f":"'1.Портфель кредитів'!T373","v":""},4,"2018-06-01","_4_43252_2"]
[{"$f":"'1.Портфель кредитів'!#REF!","v":{"$error":"#REF!"}},{"$f":"'1.Портфель кредитів'!D374","v":""},{"$f":"'1.Портфель кредитів'!#REF!","v":{"$error":"#REF!"}},{"$f":"'1.Портфель кредитів'!#REF!","v":{"$error":"#REF!"}},{"$f":"'1.Портфель кредитів'!#REF!","v":{"$error":"#REF!"}},{"$f":"'1.Портфель кредитів'!E374","v":0},{"$f":"'1.Портфель кредитів'!R374","v":0},{"$f":"'1.Портфель кредитів'!T374","v":""},4,"2018-06-01","_4_43252_2"]
[{"$f":"'1.Портфель кредитів'!#REF!","v":{"$error":"#REF!"}},{"$f":"'1.Портфель кредитів'!D375","v":""},{"$f":"'1.Портфель кредитів'!#REF!","v":{"$error":"#REF!"}},{"$f":"'1.Портфель кредитів'!#REF!","v":{"$error":"#REF!"}},{"$f":"'1.Портфель кредитів'!#REF!","v":{"$error":"#REF!"}},{"$f":"'1.Портфель кредитів'!E375","v":0},{"$f":"'1.Портфель кредитів'!R375","v":0},{"$f":"'1.Портфель кредитів'!T375","v":""},4,"2018-06-01","_4_43252_2"]
[{"$f":"'1.Портфель кредитів'!#REF!","v":{"$error":"#REF!"}},{"$f":"'1.Портфель кредитів'!D376","v":""},{"$f":"'1.Портфель кредитів'!#REF!","v":{"$error":"#REF!"}},{"$f":"'1.Портфель кредитів'!#REF!","v":{"$error":"#REF!"}},{"$f":"'1.Портфель кредитів'!#REF!","v":{"$error":"#REF!"}},{"$f":"'1.Портфель кредитів'!E376","v":0},{"$f":"'1.Портфель кредитів'!R376","v":0},{"$f":"'1.Портфель кредитів'!T376","v":""},4,"2018-06-01","_4_43252_2"]
[{"$f":"'1.Портфель кредитів'!#REF!","v":{"$error":"#REF!"}},{"$f":"'1.Портфель кредитів'!D377","v":""},{"$f":"'1.Портфель кредитів'!#REF!","v":{"$error":"#REF!"}},{"$f":"'1.Портфель кредитів'!#REF!","v":{"$error":"#REF!"}},{"$f":"'1.Портфель кредитів'!#REF!","v":{"$error":"#REF!"}},{"$f":"'1.Портфель кредитів'!E377","v":0},{"$f":"'1.Портфель кредитів'!R377","v":0},{"$f":"'1.Портфель кредитів'!T377","v":""},4,"2018-06-01","_4_43252_2"]
[{"$f":"'1.Портфель кредитів'!#REF!","v":{"$error":"#REF!"}},{"$f":"'1.Портфель кредитів'!D378","v":""},{"$f":"'1.Портфель кредитів'!#REF!","v":{"$error":"#REF!"}},{"$f":"'1.Портфель кредитів'!#REF!","v":{"$error":"#REF!"}},{"$f":"'1.Портфель кредитів'!#REF!","v":{"$error":"#REF!"}},{"$f":"'1.Портфель кредитів'!E378","v":0},{"$f":"'1.Портфель кредитів'!R378","v":0},{"$f":"'1.Портфель кредитів'!T378","v":""},4,"2018-06-01","_4_43252_2"]
[{"$f":"'1.Портфель кредитів'!#REF!","v":{"$error":"#REF!"}},{"$f":"'1.Портфель кредитів'!D379","v":""},{"$f":"'1.Портфель кредитів'!#REF!","v":{"$error":"#REF!"}},{"$f":"'1.Портфель кредитів'!#REF!","v":{"$error":"#REF!"}},{"$f":"'1.Портфель кредитів'!#REF!","v":{"$error":"#REF!"}},{"$f":"'1.Портфель кредитів'!E379","v":0},{"$f":"'1.Портфель кредитів'!R379","v":0},{"$f":"'1.Портфель кредитів'!T379","v":""},4,"2018-06-01","_4_43252_2"]
[{"$f":"'1.Портфель кредитів'!#REF!","v":{"$error":"#REF!"}},{"$f":"'1.Портфель кредитів'!D380","v":""},{"$f":"'1.Портфель кредитів'!#REF!","v":{"$error":"#REF!"}},{"$f":"'1.Портфель кредитів'!#REF!","v":{"$error":"#REF!"}},{"$f":"'1.Портфель кредитів'!#REF!","v":{"$error":"#REF!"}},{"$f":"'1.Портфель кредитів'!E380","v":0},{"$f":"'1.Портфель кредитів'!R380","v":0},{"$f":"'1.Портфель кредитів'!T380","v":""},4,"2018-06-01","_4_43252_2"]
[{"$f":"'1.Портфель кредитів'!#REF!","v":{"$error":"#REF!"}},{"$f":"'1.Портфель кредитів'!D381","v":""},{"$f":"'1.Портфель кредитів'!#REF!","v":{"$error":"#REF!"}},{"$f":"'1.Портфель кредитів'!#REF!","v":{"$error":"#REF!"}},{"$f":"'1.Портфель кредитів'!#REF!","v":{"$error":"#REF!"}},{"$f":"'1.Портфель кредитів'!E381","v":0},{"$f":"'1.Портфель кредитів'!R381","v":0},{"$f":"'1.Портфель кредитів'!T381","v":""},4,"2018-06-01","_4_43252_2"]
[{"$f":"'1.Портфель кредитів'!#REF!","v":{"$error":"#REF!"}},{"$f":"'1.Портфель кредитів'!D382","v":""},{"$f":"'1.Портфель кредитів'!#REF!","v":{"$error":"#REF!"}},{"$f":"'1.Портфель кредитів'!#REF!","v":{"$error":"#REF!"}},{"$f":"'1.Портфель кредитів'!#REF!","v":{"$error":"#REF!"}},{"$f":"'1.Портфель кредитів'!E382","v":0},{"$f":"'1.Портфель кредитів'!R382","v":0},{"$f":"'1.Портфель кредитів'!T382","v":""},4,"2018-06-01","_4_43252_2"]
[{"$f":"'1.Портфель кредитів'!#REF!","v":{"$error":"#REF!"}},{"$f":"'1.Портфель кредитів'!D383","v":""},{"$f":"'1.Портфель кредитів'!#REF!","v":{"$error":"#REF!"}},{"$f":"'1.Портфель кредитів'!#REF!","v":{"$error":"#REF!"}},{"$f":"'1.Портфель кредитів'!#REF!","v":{"$error":"#REF!"}},{"$f":"'1.Портфель кредитів'!E383","v":0},{"$f":"'1.Портфель кредитів'!R383","v":0},{"$f":"'1.Портфель кредитів'!T383","v":""},4,"2018-06-01","_4_43252_2"]
[{"$f":"'1.Портфель кредитів'!#REF!","v":{"$error":"#REF!"}},{"$f":"'1.Портфель кредитів'!D384","v":""},{"$f":"'1.Портфель кредитів'!#REF!","v":{"$error":"#REF!"}},{"$f":"'1.Портфель кредитів'!#REF!","v":{"$error":"#REF!"}},{"$f":"'1.Портфель кредитів'!#REF!","v":{"$error":"#REF!"}},{"$f":"'1.Портфель кредитів'!E384","v":0},{"$f":"'1.Портфель кредитів'!R384","v":0},{"$f":"'1.Портфель кредитів'!T384","v":""},4,"2018-06-01","_4_43252_2"]
[{"$f":"'1.Портфель кредитів'!#REF!","v":{"$error":"#REF!"}},{"$f":"'1.Портфель кредитів'!D385","v":""},{"$f":"'1.Портфель кредитів'!#REF!","v":{"$error":"#REF!"}},{"$f":"'1.Портфель кредитів'!#REF!","v":{"$error":"#REF!"}},{"$f":"'1.Портфель кредитів'!#REF!","v":{"$error":"#REF!"}},{"$f":"'1.Портфель кредитів'!E385","v":0},{"$f":"'1.Портфель кредитів'!R385","v":0},{"$f":"'1.Портфель кредитів'!T385","v":""},4,"2018-06-01","_4_43252_2"]
[{"$f":"'1.Портфель кредитів'!#REF!","v":{"$error":"#REF!"}},{"$f":"'1.Портфель кредитів'!D386","v":""},{"$f":"'1.Портфель кредитів'!#REF!","v":{"$error":"#REF!"}},{"$f":"'1.Портфель кредитів'!#REF!","v":{"$error":"#REF!"}},{"$f":"'1.Портфель кредитів'!#REF!","v":{"$error":"#REF!"}},{"$f":"'1.Портфель кредитів'!E386","v":0},{"$f":"'1.Портфель кредитів'!R386","v":0},{"$f":"'1.Портфель кредитів'!T386","v":""},4,"2018-06-01","_4_43252_2"]
[{"$f":"'1.Портфель кредитів'!#REF!","v":{"$error":"#REF!"}},{"$f":"'1.Портфель кредитів'!D387","v":""},{"$f":"'1.Портфель кредитів'!#REF!","v":{"$error":"#REF!"}},{"$f":"'1.Портфель кредитів'!#REF!","v":{"$error":"#REF!"}},{"$f":"'1.Портфель кредитів'!#REF!","v":{"$error":"#REF!"}},{"$f":"'1.Портфель кредитів'!E387","v":0},{"$f":"'1.Портфель кредитів'!R387","v":0},{"$f":"'1.Портфель кредитів'!T387","v":""},{"$f":"$E$1","v":4},{"$f":"$E$2","v":"2018-06-01"},{"$f":"B390&\"_\"&I390&\"_\"&J390&\"_\"&$E$3","v":"_4_43252_2"}]
[{"$f":"'1.Портфель кредитів'!#REF!","v":{"$error":"#REF!"}},{"$f":"'1.Портфель кредитів'!D388","v":""},{"$f":"'1.Портфель кредитів'!#REF!","v":{"$error":"#REF!"}},{"$f":"'1.Портфель кредитів'!#REF!","v":{"$error":"#REF!"}},{"$f":"'1.Портфель кредитів'!#REF!","v":{"$error":"#REF!"}},{"$f":"'1.Портфель кредитів'!E388","v":0},{"$f":"'1.Портфель кредитів'!R388","v":0},{"$f":"'1.Портфель кредитів'!T388","v":""},4,"2018-06-01","_4_43252_2"]
[{"$f":"'1.Портфель кредитів'!#REF!","v":{"$error":"#REF!"}},{"$f":"'1.Портфель кредитів'!D389","v":""},{"$f":"'1.Портфель кредитів'!#REF!","v":{"$error":"#REF!"}},{"$f":"'1.Портфель кредитів'!#REF!","v":{"$error":"#REF!"}},{"$f":"'1.Портфель кредитів'!#REF!","v":{"$error":"#REF!"}},{"$f":"'1.Портфель кредитів'!E389","v":0},{"$f":"'1.Портфель кредитів'!R389","v":0},{"$f":"'1.Портфель кредитів'!T389","v":""},4,"2018-06-01","_4_43252_2"]
[{"$f":"'1.Портфель кредитів'!#REF!","v":{"$error":"#REF!"}},{"$f":"'1.Портфель кредитів'!D390","v":""},{"$f":"'1.Портфель кредитів'!#REF!","v":{"$error":"#REF!"}},{"$f":"'1.Портфель кредитів'!#REF!","v":{"$error":"#REF!"}},{"$f":"'1.Портфель кредитів'!#REF!","v":{"$error":"#REF!"}},{"$f":"'1.Портфель кредитів'!E390","v":0},{"$f":"'1.Портфель кредитів'!R390","v":0},{"$f":"'1.Портфель кредитів'!T390","v":""},4,"2018-06-01","_4_43252_2"]
[{"$f":"'1.Портфель кредитів'!#REF!","v":{"$error":"#REF!"}},{"$f":"'1.Портфель кредитів'!D391","v":""},{"$f":"'1.Портфель кредитів'!#REF!","v":{"$error":"#REF!"}},{"$f":"'1.Портфель кредитів'!#REF!","v":{"$error":"#REF!"}},{"$f":"'1.Портфель кредитів'!#REF!","v":{"$error":"#REF!"}},{"$f":"'1.Портфель кредитів'!E391","v":0},{"$f":"'1.Портфель кредитів'!R391","v":0},{"$f":"'1.Портфель кредитів'!T391","v":""},4,"2018-06-01","_4_43252_2"]
[{"$f":"'1.Портфель кредитів'!#REF!","v":{"$error":"#REF!"}},{"$f":"'1.Портфель кредитів'!D392","v":""},{"$f":"'1.Портфель кредитів'!#REF!","v":{"$error":"#REF!"}},{"$f":"'1.Портфель кредитів'!#REF!","v":{"$error":"#REF!"}},{"$f":"'1.Портфель кредитів'!#REF!","v":{"$error":"#REF!"}},{"$f":"'1.Портфель кредитів'!E392","v":0},{"$f":"'1.Портфель кредитів'!R392","v":0},{"$f":"'1.Портфель кредитів'!T392","v":""},4,"2018-06-01","_4_43252_2"]
[{"$f":"'1.Портфель кредитів'!#REF!","v":{"$error":"#REF!"}},{"$f":"'1.Портфель кредитів'!D393","v":""},{"$f":"'1.Портфель кредитів'!#REF!","v":{"$error":"#REF!"}},{"$f":"'1.Портфель кредитів'!#REF!","v":{"$error":"#REF!"}},{"$f":"'1.Портфель кредитів'!#REF!","v":{"$error":"#REF!"}},{"$f":"'1.Портфель кредитів'!E393","v":0},{"$f":"'1.Портфель кредитів'!R393","v":0},{"$f":"'1.Портфель кредитів'!T393","v":""},4,"2018-06-01","_4_43252_2"]
[{"$f":"'1.Портфель кредитів'!#REF!","v":{"$error":"#REF!"}},{"$f":"'1.Портфель кредитів'!D394","v":""},{"$f":"'1.Портфель кредитів'!#REF!","v":{"$error":"#REF!"}},{"$f":"'1.Портфель кредитів'!#REF!","v":{"$error":"#REF!"}},{"$f":"'1.Портфель кредитів'!#REF!","v":{"$error":"#REF!"}},{"$f":"'1.Портфель кредитів'!E394","v":0},{"$f":"'1.Портфель кредитів'!R394","v":0},{"$f":"'1.Портфель кредитів'!T394","v":""},4,"2018-06-01","_4_43252_2"]
[{"$f":"'1.Портфель кредитів'!#REF!","v":{"$error":"#REF!"}},{"$f":"'1.Портфель кредитів'!D395","v":""},{"$f":"'1.Портфель кредитів'!#REF!","v":{"$error":"#REF!"}},{"$f":"'1.Портфель кредитів'!#REF!","v":{"$error":"#REF!"}},{"$f":"'1.Портфель кредитів'!#REF!","v":{"$error":"#REF!"}},{"$f":"'1.Портфель кредитів'!E395","v":0},{"$f":"'1.Портфель кредитів'!R395","v":0},{"$f":"'1.Портфель кредитів'!T395","v":""},4,"2018-06-01","_4_43252_2"]
[{"$f":"'1.Портфель кредитів'!#REF!","v":{"$error":"#REF!"}},{"$f":"'1.Портфель кредитів'!D396","v":""},{"$f":"'1.Портфель кредитів'!#REF!","v":{"$error":"#REF!"}},{"$f":"'1.Портфель кредитів'!#REF!","v":{"$error":"#REF!"}},{"$f":"'1.Портфель кредитів'!#REF!","v":{"$error":"#REF!"}},{"$f":"'1.Портфель кредитів'!E396","v":0},{"$f":"'1.Портфель кредитів'!R396","v":0},{"$f":"'1.Портфель кредитів'!T396","v":""},4,"2018-06-01","_4_43252_2"]
[{"$f":"'1.Портфель кредитів'!#REF!","v":{"$error":"#REF!"}},{"$f":"'1.Портфель кредитів'!D397","v":""},{"$f":"'1.Портфель кредитів'!#REF!","v":{"$error":"#REF!"}},{"$f":"'1.Портфель кредитів'!#REF!","v":{"$error":"#REF!"}},{"$f":"'1.Портфель кредитів'!#REF!","v":{"$error":"#REF!"}},{"$f":"'1.Портфель кредитів'!E397","v":0},{"$f":"'1.Портфель кредитів'!R397","v":0},{"$f":"'1.Портфель кредитів'!T397","v":""},4,"2018-06-01","_4_43252_2"]
[{"$f":"'1.Портфель кредитів'!#REF!","v":{"$error":"#REF!"}},{"$f":"'1.Портфель кредитів'!D398","v":""},{"$f":"'1.Портфель кредитів'!#REF!","v":{"$error":"#REF!"}},{"$f":"'1.Портфель кредитів'!#REF!","v":{"$error":"#REF!"}},{"$f":"'1.Портфель кредитів'!#REF!","v":{"$error":"#REF!"}},{"$f":"'1.Портфель кредитів'!E398","v":0},{"$f":"'1.Портфель кредитів'!R398","v":0},{"$f":"'1.Портфель кредитів'!T398","v":""},4,"2018-06-01","_4_43252_2"]
[{"$f":"'1.Портфель кредитів'!#REF!","v":{"$error":"#REF!"}},{"$f":"'1.Портфель кредитів'!D399","v":""},{"$f":"'1.Портфель кредитів'!#REF!","v":{"$error":"#REF!"}},{"$f":"'1.Портфель кредитів'!#REF!","v":{"$error":"#REF!"}},{"$f":"'1.Портфель кредитів'!#REF!","v":{"$error":"#REF!"}},{"$f":"'1.Портфель кредитів'!E399","v":0},{"$f":"'1.Портфель кредитів'!R399","v":0},{"$f":"'1.Портфель кредитів'!T399","v":""},4,"2018-06-01","_4_43252_2"]
[{"$f":"'1.Портфель кредитів'!#REF!","v":{"$error":"#REF!"}},{"$f":"'1.Портфель кредитів'!D400","v":""},{"$f":"'1.Портфель кредитів'!#REF!","v":{"$error":"#REF!"}},{"$f":"'1.Портфель кредитів'!#REF!","v":{"$error":"#REF!"}},{"$f":"'1.Портфель кредитів'!#REF!","v":{"$error":"#REF!"}},{"$f":"'1.Портфель кредитів'!E400","v":0},{"$f":"'1.Портфель кредитів'!R400","v":0},{"$f":"'1.Портфель кредитів'!T400","v":""},4,"2018-06-01","_4_43252_2"]
[{"$f":"'1.Портфель кредитів'!#REF!","v":{"$error":"#REF!"}},{"$f":"'1.Портфель кредитів'!D401","v":""},{"$f":"'1.Портфель кредитів'!#REF!","v":{"$error":"#REF!"}},{"$f":"'1.Портфель кредитів'!#REF!","v":{"$error":"#REF!"}},{"$f":"'1.Портфель кредитів'!#REF!","v":{"$error":"#REF!"}},{"$f":"'1.Портфель кредитів'!E401","v":0},{"$f":"'1.Портфель кредитів'!R401","v":0},{"$f":"'1.Портфель кредитів'!T401","v":""},4,"2018-06-01","_4_43252_2"]
[{"$f":"'1.Портфель кредитів'!#REF!","v":{"$error":"#REF!"}},{"$f":"'1.Портфель кредитів'!D402","v":""},{"$f":"'1.Портфель кредитів'!#REF!","v":{"$error":"#REF!"}},{"$f":"'1.Портфель кредитів'!#REF!","v":{"$error":"#REF!"}},{"$f":"'1.Портфель кредитів'!#REF!","v":{"$error":"#REF!"}},{"$f":"'1.Портфель кредитів'!E402","v":0},{"$f":"'1.Портфель кредитів'!R402","v":0},{"$f":"'1.Портфель кредитів'!T402","v":""},4,"2018-06-01","_4_43252_2"]
[{"$f":"'1.Портфель кредитів'!#REF!","v":{"$error":"#REF!"}},{"$f":"'1.Портфель кредитів'!D403","v":""},{"$f":"'1.Портфель кредитів'!#REF!","v":{"$error":"#REF!"}},{"$f":"'1.Портфель кредитів'!#REF!","v":{"$error":"#REF!"}},{"$f":"'1.Портфель кредитів'!#REF!","v":{"$error":"#REF!"}},{"$f":"'1.Портфель кредитів'!E403","v":0},{"$f":"'1.Портфель кредитів'!R403","v":0},{"$f":"'1.Портфель кредитів'!T403","v":""},4,"2018-06-01","_4_43252_2"]
[{"$f":"'1.Портфель кредитів'!#REF!","v":{"$error":"#REF!"}},{"$f":"'1.Портфель кредитів'!D404","v":""},{"$f":"'1.Портфель кредитів'!#REF!","v":{"$error":"#REF!"}},{"$f":"'1.Портфель кредитів'!#REF!","v":{"$error":"#REF!"}},{"$f":"'1.Портфель кредитів'!#REF!","v":{"$error":"#REF!"}},{"$f":"'1.Портфель кредитів'!E404","v":0},{"$f":"'1.Портфель кредитів'!R404","v":0},{"$f":"'1.Портфель кредитів'!T404","v":""},4,"2018-06-01","_4_43252_2"]
[{"$f":"'1.Портфель кредитів'!#REF!","v":{"$error":"#REF!"}},{"$f":"'1.Портфель кредитів'!D405","v":""},{"$f":"'1.Портфель кредитів'!#REF!","v":{"$error":"#REF!"}},{"$f":"'1.Портфель кредитів'!#REF!","v":{"$error":"#REF!"}},{"$f":"'1.Портфель кредитів'!#REF!","v":{"$error":"#REF!"}},{"$f":"'1.Портфель кредитів'!E405","v":0},{"$f":"'1.Портфель кредитів'!R405","v":0},{"$f":"'1.Портфель кредитів'!T405","v":""},4,"2018-06-01","_4_43252_2"]
[{"$f":"'1.Портфель кредитів'!#REF!","v":{"$error":"#REF!"}},{"$f":"'1.Портфель кредитів'!D406","v":""},{"$f":"'1.Портфель кредитів'!#REF!","v":{"$error":"#REF!"}},{"$f":"'1.Портфель кредитів'!#REF!","v":{"$error":"#REF!"}},{"$f":"'1.Портфель кредитів'!#REF!","v":{"$error":"#REF!"}},{"$f":"'1.Портфель кредитів'!E406","v":0},{"$f":"'1.Портфель кредитів'!R406","v":0},{"$f":"'1.Портфель кредитів'!T406","v":""},4,"2018-06-01","_4_43252_2"]
[{"$f":"'1.Портфель кредитів'!#REF!","v":{"$error":"#REF!"}},{"$f":"'1.Портфель кредитів'!D407","v":""},{"$f":"'1.Портфель кредитів'!#REF!","v":{"$error":"#REF!"}},{"$f":"'1.Портфель кредитів'!#REF!","v":{"$error":"#REF!"}},{"$f":"'1.Портфель кредитів'!#REF!","v":{"$error":"#REF!"}},{"$f":"'1.Портфель кредитів'!E407","v":0},{"$f":"'1.Портфель кредитів'!R407","v":0},{"$f":"'1.Портфель кредитів'!T407","v":""},4,"2018-06-01","_4_43252_2"]
[{"$f":"'1.Портфель кредитів'!#REF!","v":{"$error":"#REF!"}},{"$f":"'1.Портфель кредитів'!D408","v":""},{"$f":"'1.Портфель кредитів'!#REF!","v":{"$error":"#REF!"}},{"$f":"'1.Портфель кредитів'!#REF!","v":{"$error":"#REF!"}},{"$f":"'1.Портфель кредитів'!#REF!","v":{"$error":"#REF!"}},{"$f":"'1.Портфель кредитів'!E408","v":0},{"$f":"'1.Портфель кредитів'!R408","v":0},{"$f":"'1.Портфель кредитів'!T408","v":""},4,"2018-06-01","_4_43252_2"]
[{"$f":"'1.Портфель кредитів'!#REF!","v":{"$error":"#REF!"}},{"$f":"'1.Портфель кредитів'!D409","v":""},{"$f":"'1.Портфель кредитів'!#REF!","v":{"$error":"#REF!"}},{"$f":"'1.Портфель кредитів'!#REF!","v":{"$error":"#REF!"}},{"$f":"'1.Портфель кредитів'!#REF!","v":{"$error":"#REF!"}},{"$f":"'1.Портфель кредитів'!E409","v":0},{"$f":"'1.Портфель кредитів'!R409","v":0},{"$f":"'1.Портфель кредитів'!T409","v":""},4,"2018-06-01","_4_43252_2"]
[{"$f":"'1.Портфель кредитів'!#REF!","v":{"$error":"#REF!"}},{"$f":"'1.Портфель кредитів'!D410","v":""},{"$f":"'1.Портфель кредитів'!#REF!","v":{"$error":"#REF!"}},{"$f":"'1.Портфель кредитів'!#REF!","v":{"$error":"#REF!"}},{"$f":"'1.Портфель кредитів'!#REF!","v":{"$error":"#REF!"}},{"$f":"'1.Портфель кредитів'!E410","v":0},{"$f":"'1.Портфель кредитів'!R410","v":0},{"$f":"'1.Портфель кредитів'!T410","v":""},4,"2018-06-01","_4_43252_2"]
[{"$f":"'1.Портфель кредитів'!#REF!","v":{"$error":"#REF!"}},{"$f":"'1.Портфель кредитів'!D411","v":""},{"$f":"'1.Портфель кредитів'!#REF!","v":{"$error":"#REF!"}},{"$f":"'1.Портфель кредитів'!#REF!","v":{"$error":"#REF!"}},{"$f":"'1.Портфель кредитів'!#REF!","v":{"$error":"#REF!"}},{"$f":"'1.Портфель кредитів'!E411","v":0},{"$f":"'1.Портфель кредитів'!R411","v":0},{"$f":"'1.Портфель кредитів'!T411","v":""},4,"2018-06-01","_4_43252_2"]
[{"$f":"'1.Портфель кредитів'!#REF!","v":{"$error":"#REF!"}},{"$f":"'1.Портфель кредитів'!D412","v":""},{"$f":"'1.Портфель кредитів'!#REF!","v":{"$error":"#REF!"}},{"$f":"'1.Портфель кредитів'!#REF!","v":{"$error":"#REF!"}},{"$f":"'1.Портфель кредитів'!#REF!","v":{"$error":"#REF!"}},{"$f":"'1.Портфель кредитів'!E412","v":0},{"$f":"'1.Портфель кредитів'!R412","v":0},{"$f":"'1.Портфель кредитів'!T412","v":""},4,"2018-06-01","_4_43252_2"]
[{"$f":"'1.Портфель кредитів'!#REF!","v":{"$error":"#REF!"}},{"$f":"'1.Портфель кредитів'!D413","v":""},{"$f":"'1.Портфель кредитів'!#REF!","v":{"$error":"#REF!"}},{"$f":"'1.Портфель кредитів'!#REF!","v":{"$error":"#REF!"}},{"$f":"'1.Портфель кредитів'!#REF!","v":{"$error":"#REF!"}},{"$f":"'1.Портфель кредитів'!E413","v":0},{"$f":"'1.Портфель кредитів'!R413","v":0},{"$f":"'1.Портфель кредитів'!T413","v":""},4,"2018-06-01","_4_43252_2"]
[{"$f":"'1.Портфель кредитів'!#REF!","v":{"$error":"#REF!"}},{"$f":"'1.Портфель кредитів'!D414","v":""},{"$f":"'1.Портфель кредитів'!#REF!","v":{"$error":"#REF!"}},{"$f":"'1.Портфель кредитів'!#REF!","v":{"$error":"#REF!"}},{"$f":"'1.Портфель кредитів'!#REF!","v":{"$error":"#REF!"}},{"$f":"'1.Портфель кредитів'!E414","v":0},{"$f":"'1.Портфель кредитів'!R414","v":0},{"$f":"'1.Портфель кредитів'!T414","v":""},4,"2018-06-01","_4_43252_2"]
[{"$f":"'1.Портфель кредитів'!#REF!","v":{"$error":"#REF!"}},{"$f":"'1.Портфель кредитів'!D415","v":""},{"$f":"'1.Портфель кредитів'!#REF!","v":{"$error":"#REF!"}},{"$f":"'1.Портфель кредитів'!#REF!","v":{"$error":"#REF!"}},{"$f":"'1.Портфель кредитів'!#REF!","v":{"$error":"#REF!"}},{"$f":"'1.Портфель кредитів'!E415","v":0},{"$f":"'1.Портфель кредитів'!R415","v":0},{"$f":"'1.Портфель кредитів'!T415","v":""},4,"2018-06-01","_4_43252_2"]
[{"$f":"'1.Портфель кредитів'!#REF!","v":{"$error":"#REF!"}},{"$f":"'1.Портфель кредитів'!D416","v":""},{"$f":"'1.Портфель кредитів'!#REF!","v":{"$error":"#REF!"}},{"$f":"'1.Портфель кредитів'!#REF!","v":{"$error":"#REF!"}},{"$f":"'1.Портфель кредитів'!#REF!","v":{"$error":"#REF!"}},{"$f":"'1.Портфель кредитів'!E416","v":0},{"$f":"'1.Портфель кредитів'!R416","v":0},{"$f":"'1.Портфель кредитів'!T416","v":""},4,"2018-06-01","_4_43252_2"]
[{"$f":"'1.Портфель кредитів'!#REF!","v":{"$error":"#REF!"}},{"$f":"'1.Портфель кредитів'!D417","v":""},{"$f":"'1.Портфель кредитів'!#REF!","v":{"$error":"#REF!"}},{"$f":"'1.Портфель кредитів'!#REF!","v":{"$error":"#REF!"}},{"$f":"'1.Портфель кредитів'!#REF!","v":{"$error":"#REF!"}},{"$f":"'1.Портфель кредитів'!E417","v":0},{"$f":"'1.Портфель кредитів'!R417","v":0},{"$f":"'1.Портфель кредитів'!T417","v":""},4,"2018-06-01","_4_43252_2"]
[{"$f":"'1.Портфель кредитів'!#REF!","v":{"$error":"#REF!"}},{"$f":"'1.Портфель кредитів'!D418","v":""},{"$f":"'1.Портфель кредитів'!#REF!","v":{"$error":"#REF!"}},{"$f":"'1.Портфель кредитів'!#REF!","v":{"$error":"#REF!"}},{"$f":"'1.Портфель кредитів'!#REF!","v":{"$error":"#REF!"}},{"$f":"'1.Портфель кредитів'!E418","v":0},{"$f":"'1.Портфель кредитів'!R418","v":0},{"$f":"'1.Портфель кредитів'!T418","v":""},4,"2018-06-01","_4_43252_2"]
[{"$f":"'1.Портфель кредитів'!#REF!","v":{"$error":"#REF!"}},{"$f":"'1.Портфель кредитів'!D419","v":""},{"$f":"'1.Портфель кредитів'!#REF!","v":{"$error":"#REF!"}},{"$f":"'1.Портфель кредитів'!#REF!","v":{"$error":"#REF!"}},{"$f":"'1.Портфель кредитів'!#REF!","v":{"$error":"#REF!"}},{"$f":"'1.Портфель кредитів'!E419","v":0},{"$f":"'1.Портфель кредитів'!R419","v":0},{"$f":"'1.Портфель кредитів'!T419","v":""},4,"2018-06-01","_4_43252_2"]
[{"$f":"'1.Портфель кредитів'!#REF!","v":{"$error":"#REF!"}},{"$f":"'1.Портфель кредитів'!D420","v":""},{"$f":"'1.Портфель кредитів'!#REF!","v":{"$error":"#REF!"}},{"$f":"'1.Портфель кредитів'!#REF!","v":{"$error":"#REF!"}},{"$f":"'1.Портфель кредитів'!#REF!","v":{"$error":"#REF!"}},{"$f":"'1.Портфель кредитів'!E420","v":0},{"$f":"'1.Портфель кредитів'!R420","v":0},{"$f":"'1.Портфель кредитів'!T420","v":""},4,"2018-06-01","_4_43252_2"]
[{"$f":"'1.Портфель кредитів'!#REF!","v":{"$error":"#REF!"}},{"$f":"'1.Портфель кредитів'!D421","v":""},{"$f":"'1.Портфель кредитів'!#REF!","v":{"$error":"#REF!"}},{"$f":"'1.Портфель кредитів'!#REF!","v":{"$error":"#REF!"}},{"$f":"'1.Портфель кредитів'!#REF!","v":{"$error":"#REF!"}},{"$f":"'1.Портфель кредитів'!E421","v":0},{"$f":"'1.Портфель кредитів'!R421","v":0},{"$f":"'1.Портфель кредитів'!T421","v":""},4,"2018-06-01","_4_43252_2"]
[{"$f":"'1.Портфель кредитів'!#REF!","v":{"$error":"#REF!"}},{"$f":"'1.Портфель кредитів'!D422","v":""},{"$f":"'1.Портфель кредитів'!#REF!","v":{"$error":"#REF!"}},{"$f":"'1.Портфель кредитів'!#REF!","v":{"$error":"#REF!"}},{"$f":"'1.Портфель кредитів'!#REF!","v":{"$error":"#REF!"}},{"$f":"'1.Портфель кредитів'!E422","v":0},{"$f":"'1.Портфель кредитів'!R422","v":0},{"$f":"'1.Портфель кредитів'!T422","v":""},4,"2018-06-01","_4_43252_2"]
[{"$f":"'1.Портфель кредитів'!#REF!","v":{"$error":"#REF!"}},{"$f":"'1.Портфель кредитів'!D423","v":""},{"$f":"'1.Портфель кредитів'!#REF!","v":{"$error":"#REF!"}},{"$f":"'1.Портфель кредитів'!#REF!","v":{"$error":"#REF!"}},{"$f":"'1.Портфель кредитів'!#REF!","v":{"$error":"#REF!"}},{"$f":"'1.Портфель кредитів'!E423","v":0},{"$f":"'1.Портфель кредитів'!R423","v":0},{"$f":"'1.Портфель кредитів'!T423","v":""},4,"2018-06-01","_4_43252_2"]
[{"$f":"'1.Портфель кредитів'!#REF!","v":{"$error":"#REF!"}},{"$f":"'1.Портфель кредитів'!D424","v":""},{"$f":"'1.Портфель кредитів'!#REF!","v":{"$error":"#REF!"}},{"$f":"'1.Портфель кредитів'!#REF!","v":{"$error":"#REF!"}},{"$f":"'1.Портфель кредитів'!#REF!","v":{"$error":"#REF!"}},{"$f":"'1.Портфель кредитів'!E424","v":0},{"$f":"'1.Портфель кредитів'!R424","v":0},{"$f":"'1.Портфель кредитів'!T424","v":""},4,"2018-06-01","_4_43252_2"]
[{"$f":"'1.Портфель кредитів'!#REF!","v":{"$error":"#REF!"}},{"$f":"'1.Портфель кредитів'!D425","v":""},{"$f":"'1.Портфель кредитів'!#REF!","v":{"$error":"#REF!"}},{"$f":"'1.Портфель кредитів'!#REF!","v":{"$error":"#REF!"}},{"$f":"'1.Портфель кредитів'!#REF!","v":{"$error":"#REF!"}},{"$f":"'1.Портфель кредитів'!E425","v":0},{"$f":"'1.Портфель кредитів'!R425","v":0},{"$f":"'1.Портфель кредитів'!T425","v":""},4,"2018-06-01","_4_43252_2"]
[{"$f":"'1.Портфель кредитів'!#REF!","v":{"$error":"#REF!"}},{"$f":"'1.Портфель кредитів'!D426","v":""},{"$f":"'1.Портфель кредитів'!#REF!","v":{"$error":"#REF!"}},{"$f":"'1.Портфель кредитів'!#REF!","v":{"$error":"#REF!"}},{"$f":"'1.Портфель кредитів'!#REF!","v":{"$error":"#REF!"}},{"$f":"'1.Портфель кредитів'!E426","v":0},{"$f":"'1.Портфель кредитів'!R426","v":0},{"$f":"'1.Портфель кредитів'!T426","v":""},4,"2018-06-01","_4_43252_2"]
[{"$f":"'1.Портфель кредитів'!#REF!","v":{"$error":"#REF!"}},{"$f":"'1.Портфель кредитів'!D427","v":""},{"$f":"'1.Портфель кредитів'!#REF!","v":{"$error":"#REF!"}},{"$f":"'1.Портфель кредитів'!#REF!","v":{"$error":"#REF!"}},{"$f":"'1.Портфель кредитів'!#REF!","v":{"$error":"#REF!"}},{"$f":"'1.Портфель кредитів'!E427","v":0},{"$f":"'1.Портфель кредитів'!R427","v":0},{"$f":"'1.Портфель кредитів'!T427","v":""},4,"2018-06-01","_4_43252_2"]
[{"$f":"'1.Портфель кредитів'!#REF!","v":{"$error":"#REF!"}},{"$f":"'1.Портфель кредитів'!D428","v":""},{"$f":"'1.Портфель кредитів'!#REF!","v":{"$error":"#REF!"}},{"$f":"'1.Портфель кредитів'!#REF!","v":{"$error":"#REF!"}},{"$f":"'1.Портфель кредитів'!#REF!","v":{"$error":"#REF!"}},{"$f":"'1.Портфель кредитів'!E428","v":0},{"$f":"'1.Портфель кредитів'!R428","v":0},{"$f":"'1.Портфель кредитів'!T428","v":""},4,"2018-06-01","_4_43252_2"]
[{"$f":"'1.Портфель кредитів'!#REF!","v":{"$error":"#REF!"}},{"$f":"'1.Портфель кредитів'!D429","v":""},{"$f":"'1.Портфель кредитів'!#REF!","v":{"$error":"#REF!"}},{"$f":"'1.Портфель кредитів'!#REF!","v":{"$error":"#REF!"}},{"$f":"'1.Портфель кредитів'!#REF!","v":{"$error":"#REF!"}},{"$f":"'1.Портфель кредитів'!E429","v":0},{"$f":"'1.Портфель кредитів'!R429","v":0},{"$f":"'1.Портфель кредитів'!T429","v":""},4,"2018-06-01","_4_43252_2"]
[{"$f":"'1.Портфель кредитів'!#REF!","v":{"$error":"#REF!"}},{"$f":"'1.Портфель кредитів'!D430","v":""},{"$f":"'1.Портфель кредитів'!#REF!","v":{"$error":"#REF!"}},{"$f":"'1.Портфель кредитів'!#REF!","v":{"$error":"#REF!"}},{"$f":"'1.Портфель кредитів'!#REF!","v":{"$error":"#REF!"}},{"$f":"'1.Портфель кредитів'!E430","v":0},{"$f":"'1.Портфель кредитів'!R430","v":0},{"$f":"'1.Портфель кредитів'!T430","v":""},4,"2018-06-01","_4_43252_2"]
[{"$f":"'1.Портфель кредитів'!#REF!","v":{"$error":"#REF!"}},{"$f":"'1.Портфель кредитів'!D431","v":""},{"$f":"'1.Портфель кредитів'!#REF!","v":{"$error":"#REF!"}},{"$f":"'1.Портфель кредитів'!#REF!","v":{"$error":"#REF!"}},{"$f":"'1.Портфель кредитів'!#REF!","v":{"$error":"#REF!"}},{"$f":"'1.Портфель кредитів'!E431","v":0},{"$f":"'1.Портфель кредитів'!R431","v":0},{"$f":"'1.Портфель кредитів'!T431","v":""},4,"2018-06-01","_4_43252_2"]
[{"$f":"'1.Портфель кредитів'!#REF!","v":{"$error":"#REF!"}},{"$f":"'1.Портфель кредитів'!D432","v":""},{"$f":"'1.Портфель кредитів'!#REF!","v":{"$error":"#REF!"}},{"$f":"'1.Портфель кредитів'!#REF!","v":{"$error":"#REF!"}},{"$f":"'1.Портфель кредитів'!#REF!","v":{"$error":"#REF!"}},{"$f":"'1.Портфель кредитів'!E432","v":0},{"$f":"'1.Портфель кредитів'!R432","v":0},{"$f":"'1.Портфель кредитів'!T432","v":""},4,"2018-06-01","_4_43252_2"]
[{"$f":"'1.Портфель кредитів'!#REF!","v":{"$error":"#REF!"}},{"$f":"'1.Портфель кредитів'!D433","v":""},{"$f":"'1.Портфель кредитів'!#REF!","v":{"$error":"#REF!"}},{"$f":"'1.Портфель кредитів'!#REF!","v":{"$error":"#REF!"}},{"$f":"'1.Портфель кредитів'!#REF!","v":{"$error":"#REF!"}},{"$f":"'1.Портфель кредитів'!E433","v":0},{"$f":"'1.Портфель кредитів'!R433","v":0},{"$f":"'1.Портфель кредитів'!T433","v":""},4,"2018-06-01","_4_43252_2"]
[{"$f":"'1.Портфель кредитів'!#REF!","v":{"$error":"#REF!"}},{"$f":"'1.Портфель кредитів'!D434","v":""},{"$f":"'1.Портфель кредитів'!#REF!","v":{"$error":"#REF!"}},{"$f":"'1.Портфель кредитів'!#REF!","v":{"$error":"#REF!"}},{"$f":"'1.Портфель кредитів'!#REF!","v":{"$error":"#REF!"}},{"$f":"'1.Портфель кредитів'!E434","v":0},{"$f":"'1.Портфель кредитів'!R434","v":0},{"$f":"'1.Портфель кредитів'!T434","v":""},4,"2018-06-01","_4_43252_2"]
[{"$f":"'1.Портфель кредитів'!#REF!","v":{"$error":"#REF!"}},{"$f":"'1.Портфель кредитів'!D435","v":""},{"$f":"'1.Портфель кредитів'!#REF!","v":{"$error":"#REF!"}},{"$f":"'1.Портфель кредитів'!#REF!","v":{"$error":"#REF!"}},{"$f":"'1.Портфель кредитів'!#REF!","v":{"$error":"#REF!"}},{"$f":"'1.Портфель кредитів'!E435","v":0},{"$f":"'1.Портфель кредитів'!R435","v":0},{"$f":"'1.Портфель кредитів'!T435","v":""},4,"2018-06-01","_4_43252_2"]
[{"$f":"'1.Портфель кредитів'!#REF!","v":{"$error":"#REF!"}},{"$f":"'1.Портфель кредитів'!D436","v":""},{"$f":"'1.Портфель кредитів'!#REF!","v":{"$error":"#REF!"}},{"$f":"'1.Портфель кредитів'!#REF!","v":{"$error":"#REF!"}},{"$f":"'1.Портфель кредитів'!#REF!","v":{"$error":"#REF!"}},{"$f":"'1.Портфель кредитів'!E436","v":0},{"$f":"'1.Портфель кредитів'!R436","v":0},{"$f":"'1.Портфель кредитів'!T436","v":""},4,"2018-06-01","_4_43252_2"]
[{"$f":"'1.Портфель кредитів'!#REF!","v":{"$error":"#REF!"}},{"$f":"'1.Портфель кредитів'!D437","v":""},{"$f":"'1.Портфель кредитів'!#REF!","v":{"$error":"#REF!"}},{"$f":"'1.Портфель кредитів'!#REF!","v":{"$error":"#REF!"}},{"$f":"'1.Портфель кредитів'!#REF!","v":{"$error":"#REF!"}},{"$f":"'1.Портфель кредитів'!E437","v":0},{"$f":"'1.Портфель кредитів'!R437","v":0},{"$f":"'1.Портфель кредитів'!T437","v":""},4,"2018-06-01","_4_43252_2"]
[{"$f":"'1.Портфель кредитів'!#REF!","v":{"$error":"#REF!"}},{"$f":"'1.Портфель кредитів'!D438","v":""},{"$f":"'1.Портфель кредитів'!#REF!","v":{"$error":"#REF!"}},{"$f":"'1.Портфель кредитів'!#REF!","v":{"$error":"#REF!"}},{"$f":"'1.Портфель кредитів'!#REF!","v":{"$error":"#REF!"}},{"$f":"'1.Портфель кредитів'!E438","v":0},{"$f":"'1.Портфель кредитів'!R438","v":0},{"$f":"'1.Портфель кредитів'!T438","v":""},4,"2018-06-01","_4_43252_2"]
[{"$f":"'1.Портфель кредитів'!#REF!","v":{"$error":"#REF!"}},{"$f":"'1.Портфель кредитів'!D439","v":""},{"$f":"'1.Портфель кредитів'!#REF!","v":{"$error":"#REF!"}},{"$f":"'1.Портфель кредитів'!#REF!","v":{"$error":"#REF!"}},{"$f":"'1.Портфель кредитів'!#REF!","v":{"$error":"#REF!"}},{"$f":"'1.Портфель кредитів'!E439","v":0},{"$f":"'1.Портфель кредитів'!R439","v":0},{"$f":"'1.Портфель кредитів'!T439","v":""},4,"2018-06-01","_4_43252_2"]
[{"$f":"'1.Портфель кредитів'!#REF!","v":{"$error":"#REF!"}},{"$f":"'1.Портфель кредитів'!D440","v":""},{"$f":"'1.Портфель кредитів'!#REF!","v":{"$error":"#REF!"}},{"$f":"'1.Портфель кредитів'!#REF!","v":{"$error":"#REF!"}},{"$f":"'1.Портфель кредитів'!#REF!","v":{"$error":"#REF!"}},{"$f":"'1.Портфель кредитів'!E440","v":0},{"$f":"'1.Портфель кредитів'!R440","v":0},{"$f":"'1.Портфель кредитів'!T440","v":""},4,"2018-06-01","_4_43252_2"]
[{"$f":"'1.Портфель кредитів'!#REF!","v":{"$error":"#REF!"}},{"$f":"'1.Портфель кредитів'!D441","v":""},{"$f":"'1.Портфель кредитів'!#REF!","v":{"$error":"#REF!"}},{"$f":"'1.Портфель кредитів'!#REF!","v":{"$error":"#REF!"}},{"$f":"'1.Портфель кредитів'!#REF!","v":{"$error":"#REF!"}},{"$f":"'1.Портфель кредитів'!E441","v":0},{"$f":"'1.Портфель кредитів'!R441","v":0},{"$f":"'1.Портфель кредитів'!T441","v":""},4,"2018-06-01","_4_43252_2"]
[{"$f":"'1.Портфель кредитів'!#REF!","v":{"$error":"#REF!"}},{"$f":"'1.Портфель кредитів'!D442","v":""},{"$f":"'1.Портфель кредитів'!#REF!","v":{"$error":"#REF!"}},{"$f":"'1.Портфель кредитів'!#REF!","v":{"$error":"#REF!"}},{"$f":"'1.Портфель кредитів'!#REF!","v":{"$error":"#REF!"}},{"$f":"'1.Портфель кредитів'!E442","v":0},{"$f":"'1.Портфель кредитів'!R442","v":0},{"$f":"'1.Портфель кредитів'!T442","v":""},4,"2018-06-01","_4_43252_2"]
[{"$f":"'1.Портфель кредитів'!#REF!","v":{"$error":"#REF!"}},{"$f":"'1.Портфель кредитів'!D443","v":""},{"$f":"'1.Портфель кредитів'!#REF!","v":{"$error":"#REF!"}},{"$f":"'1.Портфель кредитів'!#REF!","v":{"$error":"#REF!"}},{"$f":"'1.Портфель кредитів'!#REF!","v":{"$error":"#REF!"}},{"$f":"'1.Портфель кредитів'!E443","v":0},{"$f":"'1.Портфель кредитів'!R443","v":0},{"$f":"'1.Портфель кредитів'!T443","v":""},4,"2018-06-01","_4_43252_2"]
[{"$f":"'1.Портфель кредитів'!#REF!","v":{"$error":"#REF!"}},{"$f":"'1.Портфель кредитів'!D444","v":""},{"$f":"'1.Портфель кредитів'!#REF!","v":{"$error":"#REF!"}},{"$f":"'1.Портфель кредитів'!#REF!","v":{"$error":"#REF!"}},{"$f":"'1.Портфель кредитів'!#REF!","v":{"$error":"#REF!"}},{"$f":"'1.Портфель кредитів'!E444","v":0},{"$f":"'1.Портфель кредитів'!R444","v":0},{"$f":"'1.Портфель кредитів'!T444","v":""},4,"2018-06-01","_4_43252_2"]
[{"$f":"'1.Портфель кредитів'!#REF!","v":{"$error":"#REF!"}},{"$f":"'1.Портфель кредитів'!D445","v":""},{"$f":"'1.Портфель кредитів'!#REF!","v":{"$error":"#REF!"}},{"$f":"'1.Портфель кредитів'!#REF!","v":{"$error":"#REF!"}},{"$f":"'1.Портфель кредитів'!#REF!","v":{"$error":"#REF!"}},{"$f":"'1.Портфель кредитів'!E445","v":0},{"$f":"'1.Портфель кредитів'!R445","v":0},{"$f":"'1.Портфель кредитів'!T445","v":""},4,"2018-06-01","_4_43252_2"]
[{"$f":"'1.Портфель кредитів'!#REF!","v":{"$error":"#REF!"}},{"$f":"'1.Портфель кредитів'!D446","v":""},{"$f":"'1.Портфель кредитів'!#REF!","v":{"$error":"#REF!"}},{"$f":"'1.Портфель кредитів'!#REF!","v":{"$error":"#REF!"}},{"$f":"'1.Портфель кредитів'!#REF!","v":{"$error":"#REF!"}},{"$f":"'1.Портфель кредитів'!E446","v":0},{"$f":"'1.Портфель кредитів'!R446","v":0},{"$f":"'1.Портфель кредитів'!T446","v":""},4,"2018-06-01","_4_43252_2"]
[{"$f":"'1.Портфель кредитів'!#REF!","v":{"$error":"#REF!"}},{"$f":"'1.Портфель кредитів'!D447","v":""},{"$f":"'1.Портфель кредитів'!#REF!","v":{"$error":"#REF!"}},{"$f":"'1.Портфель кредитів'!#REF!","v":{"$error":"#REF!"}},{"$f":"'1.Портфель кредитів'!#REF!","v":{"$error":"#REF!"}},{"$f":"'1.Портфель кредитів'!E447","v":0},{"$f":"'1.Портфель кредитів'!R447","v":0},{"$f":"'1.Портфель кредитів'!T447","v":""},4,"2018-06-01","_4_43252_2"]
[{"$f":"'1.Портфель кредитів'!#REF!","v":{"$error":"#REF!"}},{"$f":"'1.Портфель кредитів'!D448","v":""},{"$f":"'1.Портфель кредитів'!#REF!","v":{"$error":"#REF!"}},{"$f":"'1.Портфель кредитів'!#REF!","v":{"$error":"#REF!"}},{"$f":"'1.Портфель кредитів'!#REF!","v":{"$error":"#REF!"}},{"$f":"'1.Портфель кредитів'!E448","v":0},{"$f":"'1.Портфель кредитів'!R448","v":0},{"$f":"'1.Портфель кредитів'!T448","v":""},4,"2018-06-01","_4_43252_2"]
[{"$f":"'1.Портфель кредитів'!#REF!","v":{"$error":"#REF!"}},{"$f":"'1.Портфель кредитів'!D449","v":""},{"$f":"'1.Портфель кредитів'!#REF!","v":{"$error":"#REF!"}},{"$f":"'1.Портфель кредитів'!#REF!","v":{"$error":"#REF!"}},{"$f":"'1.Портфель кредитів'!#REF!","v":{"$error":"#REF!"}},{"$f":"'1.Портфель кредитів'!E449","v":0},{"$f":"'1.Портфель кредитів'!R449","v":0},{"$f":"'1.Портфель кредитів'!T449","v":""},4,"2018-06-01","_4_43252_2"]
[{"$f":"'1.Портфель кредитів'!#REF!","v":{"$error":"#REF!"}},{"$f":"'1.Портфель кредитів'!D450","v":""},{"$f":"'1.Портфель кредитів'!#REF!","v":{"$error":"#REF!"}},{"$f":"'1.Портфель кредитів'!#REF!","v":{"$error":"#REF!"}},{"$f":"'1.Портфель кредитів'!#REF!","v":{"$error":"#REF!"}},{"$f":"'1.Портфель кредитів'!E450","v":0},{"$f":"'1.Портфель кредитів'!R450","v":0},{"$f":"'1.Портфель кредитів'!T450","v":""},4,"2018-06-01","_4_43252_2"]
[{"$f":"'1.Портфель кредитів'!#REF!","v":{"$error":"#REF!"}},{"$f":"'1.Портфель кредитів'!D451","v":""},{"$f":"'1.Портфель кредитів'!#REF!","v":{"$error":"#REF!"}},{"$f":"'1.Портфель кредитів'!#REF!","v":{"$error":"#REF!"}},{"$f":"'1.Портфель кредитів'!#REF!","v":{"$error":"#REF!"}},{"$f":"'1.Портфель кредитів'!E451","v":0},{"$f":"'1.Портфель кредитів'!R451","v":0},{"$f":"'1.Портфель кредитів'!T451","v":""},{"$f":"$E$1","v":4},{"$f":"$E$2","v":"2018-06-01"},{"$f":"B454&\"_\"&I454&\"_\"&J454&\"_\"&$E$3","v":"_4_43252_2"}]
[{"$f":"'1.Портфель кредитів'!#REF!","v":{"$error":"#REF!"}},{"$f":"'1.Портфель кредитів'!D452","v":""},{"$f":"'1.Портфель кредитів'!#REF!","v":{"$error":"#REF!"}},{"$f":"'1.Портфель кредитів'!#REF!","v":{"$error":"#REF!"}},{"$f":"'1.Портфель кредитів'!#REF!","v":{"$error":"#REF!"}},{"$f":"'1.Портфель кредитів'!E452","v":0},{"$f":"'1.Портфель кредитів'!R452","v":0},{"$f":"'1.Портфель кредитів'!T452","v":""},4,"2018-06-01","_4_43252_2"]
[{"$f":"'1.Портфель кредитів'!#REF!","v":{"$error":"#REF!"}},{"$f":"'1.Портфель кредитів'!D453","v":""},{"$f":"'1.Портфель кредитів'!#REF!","v":{"$error":"#REF!"}},{"$f":"'1.Портфель кредитів'!#REF!","v":{"$error":"#REF!"}},{"$f":"'1.Портфель кредитів'!#REF!","v":{"$error":"#REF!"}},{"$f":"'1.Портфель кредитів'!E453","v":0},{"$f":"'1.Портфель кредитів'!R453","v":0},{"$f":"'1.Портфель кредитів'!T453","v":""},4,"2018-06-01","_4_43252_2"]
[{"$f":"'1.Портфель кредитів'!#REF!","v":{"$error":"#REF!"}},{"$f":"'1.Портфель кредитів'!D454","v":""},{"$f":"'1.Портфель кредитів'!#REF!","v":{"$error":"#REF!"}},{"$f":"'1.Портфель кредитів'!#REF!","v":{"$error":"#REF!"}},{"$f":"'1.Портфель кредитів'!#REF!","v":{"$error":"#REF!"}},{"$f":"'1.Портфель кредитів'!E454","v":0},{"$f":"'1.Портфель кредитів'!R454","v":0},{"$f":"'1.Портфель кредитів'!T454","v":""},4,"2018-06-01","_4_43252_2"]
[{"$f":"'1.Портфель кредитів'!#REF!","v":{"$error":"#REF!"}},{"$f":"'1.Портфель кредитів'!D455","v":""},{"$f":"'1.Портфель кредитів'!#REF!","v":{"$error":"#REF!"}},{"$f":"'1.Портфель кредитів'!#REF!","v":{"$error":"#REF!"}},{"$f":"'1.Портфель кредитів'!#REF!","v":{"$error":"#REF!"}},{"$f":"'1.Портфель кредитів'!E455","v":0},{"$f":"'1.Портфель кредитів'!R455","v":0},{"$f":"'1.Портфель кредитів'!T455","v":""},4,"2018-06-01","_4_43252_2"]
[{"$f":"'1.Портфель кредитів'!#REF!","v":{"$error":"#REF!"}},{"$f":"'1.Портфель кредитів'!D456","v":""},{"$f":"'1.Портфель кредитів'!#REF!","v":{"$error":"#REF!"}},{"$f":"'1.Портфель кредитів'!#REF!","v":{"$error":"#REF!"}},{"$f":"'1.Портфель кредитів'!#REF!","v":{"$error":"#REF!"}},{"$f":"'1.Портфель кредитів'!E456","v":0},{"$f":"'1.Портфель кредитів'!R456","v":0},{"$f":"'1.Портфель кредитів'!T456","v":""},4,"2018-06-01","_4_43252_2"]
[{"$f":"'1.Портфель кредитів'!#REF!","v":{"$error":"#REF!"}},{"$f":"'1.Портфель кредитів'!D457","v":""},{"$f":"'1.Портфель кредитів'!#REF!","v":{"$error":"#REF!"}},{"$f":"'1.Портфель кредитів'!#REF!","v":{"$error":"#REF!"}},{"$f":"'1.Портфель кредитів'!#REF!","v":{"$error":"#REF!"}},{"$f":"'1.Портфель кредитів'!E457","v":0},{"$f":"'1.Портфель кредитів'!R457","v":0},{"$f":"'1.Портфель кредитів'!T457","v":""},4,"2018-06-01","_4_43252_2"]
[{"$f":"'1.Портфель кредитів'!#REF!","v":{"$error":"#REF!"}},{"$f":"'1.Портфель кредитів'!D458","v":""},{"$f":"'1.Портфель кредитів'!#REF!","v":{"$error":"#REF!"}},{"$f":"'1.Портфель кредитів'!#REF!","v":{"$error":"#REF!"}},{"$f":"'1.Портфель кредитів'!#REF!","v":{"$error":"#REF!"}},{"$f":"'1.Портфель кредитів'!E458","v":0},{"$f":"'1.Портфель кредитів'!R458","v":0},{"$f":"'1.Портфель кредитів'!T458","v":""},4,"2018-06-01","_4_43252_2"]
[{"$f":"'1.Портфель кредитів'!#REF!","v":{"$error":"#REF!"}},{"$f":"'1.Портфель кредитів'!D459","v":""},{"$f":"'1.Портфель кредитів'!#REF!","v":{"$error":"#REF!"}},{"$f":"'1.Портфель кредитів'!#REF!","v":{"$error":"#REF!"}},{"$f":"'1.Портфель кредитів'!#REF!","v":{"$error":"#REF!"}},{"$f":"'1.Портфель кредитів'!E459","v":0},{"$f":"'1.Портфель кредитів'!R459","v":0},{"$f":"'1.Портфель кредитів'!T459","v":""},4,"2018-06-01","_4_43252_2"]
[{"$f":"'1.Портфель кредитів'!#REF!","v":{"$error":"#REF!"}},{"$f":"'1.Портфель кредитів'!D460","v":""},{"$f":"'1.Портфель кредитів'!#REF!","v":{"$error":"#REF!"}},{"$f":"'1.Портфель кредитів'!#REF!","v":{"$error":"#REF!"}},{"$f":"'1.Портфель кредитів'!#REF!","v":{"$error":"#REF!"}},{"$f":"'1.Портфель кредитів'!E460","v":0},{"$f":"'1.Портфель кредитів'!R460","v":0},{"$f":"'1.Портфель кредитів'!T460","v":""},4,"2018-06-01","_4_43252_2"]
[{"$f":"'1.Портфель кредитів'!#REF!","v":{"$error":"#REF!"}},{"$f":"'1.Портфель кредитів'!D461","v":""},{"$f":"'1.Портфель кредитів'!#REF!","v":{"$error":"#REF!"}},{"$f":"'1.Портфель кредитів'!#REF!","v":{"$error":"#REF!"}},{"$f":"'1.Портфель кредитів'!#REF!","v":{"$error":"#REF!"}},{"$f":"'1.Портфель кредитів'!E461","v":0},{"$f":"'1.Портфель кредитів'!R461","v":0},{"$f":"'1.Портфель кредитів'!T461","v":""},4,"2018-06-01","_4_43252_2"]
[{"$f":"'1.Портфель кредитів'!#REF!","v":{"$error":"#REF!"}},{"$f":"'1.Портфель кредитів'!D462","v":""},{"$f":"'1.Портфель кредитів'!#REF!","v":{"$error":"#REF!"}},{"$f":"'1.Портфель кредитів'!#REF!","v":{"$error":"#REF!"}},{"$f":"'1.Портфель кредитів'!#REF!","v":{"$error":"#REF!"}},{"$f":"'1.Портфель кредитів'!E462","v":0},{"$f":"'1.Портфель кредитів'!R462","v":0},{"$f":"'1.Портфель кредитів'!T462","v":""},4,"2018-06-01","_4_43252_2"]
[{"$f":"'1.Портфель кредитів'!#REF!","v":{"$error":"#REF!"}},{"$f":"'1.Портфель кредитів'!D463","v":""},{"$f":"'1.Портфель кредитів'!#REF!","v":{"$error":"#REF!"}},{"$f":"'1.Портфель кредитів'!#REF!","v":{"$error":"#REF!"}},{"$f":"'1.Портфель кредитів'!#REF!","v":{"$error":"#REF!"}},{"$f":"'1.Портфель кредитів'!E463","v":0},{"$f":"'1.Портфель кредитів'!R463","v":0},{"$f":"'1.Портфель кредитів'!T463","v":""},4,"2018-06-01","_4_43252_2"]
[{"$f":"'1.Портфель кредитів'!#REF!","v":{"$error":"#REF!"}},{"$f":"'1.Портфель кредитів'!D464","v":""},{"$f":"'1.Портфель кредитів'!#REF!","v":{"$error":"#REF!"}},{"$f":"'1.Портфель кредитів'!#REF!","v":{"$error":"#REF!"}},{"$f":"'1.Портфель кредитів'!#REF!","v":{"$error":"#REF!"}},{"$f":"'1.Портфель кредитів'!E464","v":0},{"$f":"'1.Портфель кредитів'!R464","v":0},{"$f":"'1.Портфель кредитів'!T464","v":""},4,"2018-06-01","_4_43252_2"]
[{"$f":"'1.Портфель кредитів'!#REF!","v":{"$error":"#REF!"}},{"$f":"'1.Портфель кредитів'!D465","v":""},{"$f":"'1.Портфель кредитів'!#REF!","v":{"$error":"#REF!"}},{"$f":"'1.Портфель кредитів'!#REF!","v":{"$error":"#REF!"}},{"$f":"'1.Портфель кредитів'!#REF!","v":{"$error":"#REF!"}},{"$f":"'1.Портфель кредитів'!E465","v":0},{"$f":"'1.Портфель кредитів'!R465","v":0},{"$f":"'1.Портфель кредитів'!T465","v":""},4,"2018-06-01","_4_43252_2"]
[{"$f":"'1.Портфель кредитів'!#REF!","v":{"$error":"#REF!"}},{"$f":"'1.Портфель кредитів'!D466","v":""},{"$f":"'1.Портфель кредитів'!#REF!","v":{"$error":"#REF!"}},{"$f":"'1.Портфель кредитів'!#REF!","v":{"$error":"#REF!"}},{"$f":"'1.Портфель кредитів'!#REF!","v":{"$error":"#REF!"}},{"$f":"'1.Портфель кредитів'!E466","v":0},{"$f":"'1.Портфель кредитів'!R466","v":0},{"$f":"'1.Портфель кредитів'!T466","v":""},4,"2018-06-01","_4_43252_2"]
[{"$f":"'1.Портфель кредитів'!#REF!","v":{"$error":"#REF!"}},{"$f":"'1.Портфель кредитів'!D467","v":""},{"$f":"'1.Портфель кредитів'!#REF!","v":{"$error":"#REF!"}},{"$f":"'1.Портфель кредитів'!#REF!","v":{"$error":"#REF!"}},{"$f":"'1.Портфель кредитів'!#REF!","v":{"$error":"#REF!"}},{"$f":"'1.Портфель кредитів'!E467","v":0},{"$f":"'1.Портфель кредитів'!R467","v":0},{"$f":"'1.Портфель кредитів'!T467","v":""},4,"2018-06-01","_4_43252_2"]
[{"$f":"'1.Портфель кредитів'!#REF!","v":{"$error":"#REF!"}},{"$f":"'1.Портфель кредитів'!D468","v":""},{"$f":"'1.Портфель кредитів'!#REF!","v":{"$error":"#REF!"}},{"$f":"'1.Портфель кредитів'!#REF!","v":{"$error":"#REF!"}},{"$f":"'1.Портфель кредитів'!#REF!","v":{"$error":"#REF!"}},{"$f":"'1.Портфель кредитів'!E468","v":0},{"$f":"'1.Портфель кредитів'!R468","v":0},{"$f":"'1.Портфель кредитів'!T468","v":""},4,"2018-06-01","_4_43252_2"]
[{"$f":"'1.Портфель кредитів'!#REF!","v":{"$error":"#REF!"}},{"$f":"'1.Портфель кредитів'!D469","v":""},{"$f":"'1.Портфель кредитів'!#REF!","v":{"$error":"#REF!"}},{"$f":"'1.Портфель кредитів'!#REF!","v":{"$error":"#REF!"}},{"$f":"'1.Портфель кредитів'!#REF!","v":{"$error":"#REF!"}},{"$f":"'1.Портфель кредитів'!E469","v":0},{"$f":"'1.Портфель кредитів'!R469","v":0},{"$f":"'1.Портфель кредитів'!T469","v":""},4,"2018-06-01","_4_43252_2"]
[{"$f":"'1.Портфель кредитів'!#REF!","v":{"$error":"#REF!"}},{"$f":"'1.Портфель кредитів'!D470","v":""},{"$f":"'1.Портфель кредитів'!#REF!","v":{"$error":"#REF!"}},{"$f":"'1.Портфель кредитів'!#REF!","v":{"$error":"#REF!"}},{"$f":"'1.Портфель кредитів'!#REF!","v":{"$error":"#REF!"}},{"$f":"'1.Портфель кредитів'!E470","v":0},{"$f":"'1.Портфель кредитів'!R470","v":0},{"$f":"'1.Портфель кредитів'!T470","v":""},4,"2018-06-01","_4_43252_2"]
[{"$f":"'1.Портфель кредитів'!#REF!","v":{"$error":"#REF!"}},{"$f":"'1.Портфель кредитів'!D471","v":""},{"$f":"'1.Портфель кредитів'!#REF!","v":{"$error":"#REF!"}},{"$f":"'1.Портфель кредитів'!#REF!","v":{"$error":"#REF!"}},{"$f":"'1.Портфель кредитів'!#REF!","v":{"$error":"#REF!"}},{"$f":"'1.Портфель кредитів'!E471","v":0},{"$f":"'1.Портфель кредитів'!R471","v":0},{"$f":"'1.Портфель кредитів'!T471","v":""},4,"2018-06-01","_4_43252_2"]
[{"$f":"'1.Портфель кредитів'!#REF!","v":{"$error":"#REF!"}},{"$f":"'1.Портфель кредитів'!D472","v":""},{"$f":"'1.Портфель кредитів'!#REF!","v":{"$error":"#REF!"}},{"$f":"'1.Портфель кредитів'!#REF!","v":{"$error":"#REF!"}},{"$f":"'1.Портфель кредитів'!#REF!","v":{"$error":"#REF!"}},{"$f":"'1.Портфель кредитів'!E472","v":0},{"$f":"'1.Портфель кредитів'!R472","v":0},{"$f":"'1.Портфель кредитів'!T472","v":""},4,"2018-06-01","_4_43252_2"]
[{"$f":"'1.Портфель кредитів'!#REF!","v":{"$error":"#REF!"}},{"$f":"'1.Портфель кредитів'!D473","v":""},{"$f":"'1.Портфель кредитів'!#REF!","v":{"$error":"#REF!"}},{"$f":"'1.Портфель кредитів'!#REF!","v":{"$error":"#REF!"}},{"$f":"'1.Портфель кредитів'!#REF!","v":{"$error":"#REF!"}},{"$f":"'1.Портфель кредитів'!E473","v":0},{"$f":"'1.Портфель кредитів'!R473","v":0},{"$f":"'1.Портфель кредитів'!T473","v":""},4,"2018-06-01","_4_43252_2"]
[{"$f":"'1.Портфель кредитів'!#REF!","v":{"$error":"#REF!"}},{"$f":"'1.Портфель кредитів'!D474","v":""},{"$f":"'1.Портфель кредитів'!#REF!","v":{"$error":"#REF!"}},{"$f":"'1.Портфель кредитів'!#REF!","v":{"$error":"#REF!"}},{"$f":"'1.Портфель кредитів'!#REF!","v":{"$error":"#REF!"}},{"$f":"'1.Портфель кредитів'!E474","v":0},{"$f":"'1.Портфель кредитів'!R474","v":0},{"$f":"'1.Портфель кредитів'!T474","v":""},4,"2018-06-01","_4_43252_2"]
[{"$f":"'1.Портфель кредитів'!#REF!","v":{"$error":"#REF!"}},{"$f":"'1.Портфель кредитів'!D475","v":""},{"$f":"'1.Портфель кредитів'!#REF!","v":{"$error":"#REF!"}},{"$f":"'1.Портфель кредитів'!#REF!","v":{"$error":"#REF!"}},{"$f":"'1.Портфель кредитів'!#REF!","v":{"$error":"#REF!"}},{"$f":"'1.Портфель кредитів'!E475","v":0},{"$f":"'1.Портфель кредитів'!R475","v":0},{"$f":"'1.Портфель кредитів'!T475","v":""},4,"2018-06-01","_4_43252_2"]
[{"$f":"'1.Портфель кредитів'!#REF!","v":{"$error":"#REF!"}},{"$f":"'1.Портфель кредитів'!D476","v":""},{"$f":"'1.Портфель кредитів'!#REF!","v":{"$error":"#REF!"}},{"$f":"'1.Портфель кредитів'!#REF!","v":{"$error":"#REF!"}},{"$f":"'1.Портфель кредитів'!#REF!","v":{"$error":"#REF!"}},{"$f":"'1.Портфель кредитів'!E476","v":0},{"$f":"'1.Портфель кредитів'!R476","v":0},{"$f":"'1.Портфель кредитів'!T476","v":""},4,"2018-06-01","_4_43252_2"]
[{"$f":"'1.Портфель кредитів'!#REF!","v":{"$error":"#REF!"}},{"$f":"'1.Портфель кредитів'!D477","v":""},{"$f":"'1.Портфель кредитів'!#REF!","v":{"$error":"#REF!"}},{"$f":"'1.Портфель кредитів'!#REF!","v":{"$error":"#REF!"}},{"$f":"'1.Портфель кредитів'!#REF!","v":{"$error":"#REF!"}},{"$f":"'1.Портфель кредитів'!E477","v":0},{"$f":"'1.Портфель кредитів'!R477","v":0},{"$f":"'1.Портфель кредитів'!T477","v":""},4,"2018-06-01","_4_43252_2"]
[{"$f":"'1.Портфель кредитів'!#REF!","v":{"$error":"#REF!"}},{"$f":"'1.Портфель кредитів'!D478","v":""},{"$f":"'1.Портфель кредитів'!#REF!","v":{"$error":"#REF!"}},{"$f":"'1.Портфель кредитів'!#REF!","v":{"$error":"#REF!"}},{"$f":"'1.Портфель кредитів'!#REF!","v":{"$error":"#REF!"}},{"$f":"'1.Портфель кредитів'!E478","v":0},{"$f":"'1.Портфель кредитів'!R478","v":0},{"$f":"'1.Портфель кредитів'!T478","v":""},4,"2018-06-01","_4_43252_2"]
[{"$f":"'1.Портфель кредитів'!#REF!","v":{"$error":"#REF!"}},{"$f":"'1.Портфель кредитів'!D479","v":""},{"$f":"'1.Портфель кредитів'!#REF!","v":{"$error":"#REF!"}},{"$f":"'1.Портфель кредитів'!#REF!","v":{"$error":"#REF!"}},{"$f":"'1.Портфель кредитів'!#REF!","v":{"$error":"#REF!"}},{"$f":"'1.Портфель кредитів'!E479","v":0},{"$f":"'1.Портфель кредитів'!R479","v":0},{"$f":"'1.Портфель кредитів'!T479","v":""},4,"2018-06-01","_4_43252_2"]
[{"$f":"'1.Портфель кредитів'!#REF!","v":{"$error":"#REF!"}},{"$f":"'1.Портфель кредитів'!D480","v":""},{"$f":"'1.Портфель кредитів'!#REF!","v":{"$error":"#REF!"}},{"$f":"'1.Портфель кредитів'!#REF!","v":{"$error":"#REF!"}},{"$f":"'1.Портфель кредитів'!#REF!","v":{"$error":"#REF!"}},{"$f":"'1.Портфель кредитів'!E480","v":0},{"$f":"'1.Портфель кредитів'!R480","v":0},{"$f":"'1.Портфель кредитів'!T480","v":""},4,"2018-06-01","_4_43252_2"]
[{"$f":"'1.Портфель кредитів'!#REF!","v":{"$error":"#REF!"}},{"$f":"'1.Портфель кредитів'!D481","v":""},{"$f":"'1.Портфель кредитів'!#REF!","v":{"$error":"#REF!"}},{"$f":"'1.Портфель кредитів'!#REF!","v":{"$error":"#REF!"}},{"$f":"'1.Портфель кредитів'!#REF!","v":{"$error":"#REF!"}},{"$f":"'1.Портфель кредитів'!E481","v":0},{"$f":"'1.Портфель кредитів'!R481","v":0},{"$f":"'1.Портфель кредитів'!T481","v":""},4,"2018-06-01","_4_43252_2"]
[{"$f":"'1.Портфель кредитів'!#REF!","v":{"$error":"#REF!"}},{"$f":"'1.Портфель кредитів'!D482","v":""},{"$f":"'1.Портфель кредитів'!#REF!","v":{"$error":"#REF!"}},{"$f":"'1.Портфель кредитів'!#REF!","v":{"$error":"#REF!"}},{"$f":"'1.Портфель кредитів'!#REF!","v":{"$error":"#REF!"}},{"$f":"'1.Портфель кредитів'!E482","v":0},{"$f":"'1.Портфель кредитів'!R482","v":0},{"$f":"'1.Портфель кредитів'!T482","v":""},4,"2018-06-01","_4_43252_2"]
[{"$f":"'1.Портфель кредитів'!#REF!","v":{"$error":"#REF!"}},{"$f":"'1.Портфель кредитів'!D483","v":""},{"$f":"'1.Портфель кредитів'!#REF!","v":{"$error":"#REF!"}},{"$f":"'1.Портфель кредитів'!#REF!","v":{"$error":"#REF!"}},{"$f":"'1.Портфель кредитів'!#REF!","v":{"$error":"#REF!"}},{"$f":"'1.Портфель кредитів'!E483","v":0},{"$f":"'1.Портфель кредитів'!R483","v":0},{"$f":"'1.Портфель кредитів'!T483","v":""},4,"2018-06-01","_4_43252_2"]
[{"$f":"'1.Портфель кредитів'!#REF!","v":{"$error":"#REF!"}},{"$f":"'1.Портфель кредитів'!D484","v":""},{"$f":"'1.Портфель кредитів'!#REF!","v":{"$error":"#REF!"}},{"$f":"'1.Портфель кредитів'!#REF!","v":{"$error":"#REF!"}},{"$f":"'1.Портфель кредитів'!#REF!","v":{"$error":"#REF!"}},{"$f":"'1.Портфель кредитів'!E484","v":0},{"$f":"'1.Портфель кредитів'!R484","v":0},{"$f":"'1.Портфель кредитів'!T484","v":""},4,"2018-06-01","_4_43252_2"]
[{"$f":"'1.Портфель кредитів'!#REF!","v":{"$error":"#REF!"}},{"$f":"'1.Портфель кредитів'!D485","v":""},{"$f":"'1.Портфель кредитів'!#REF!","v":{"$error":"#REF!"}},{"$f":"'1.Портфель кредитів'!#REF!","v":{"$error":"#REF!"}},{"$f":"'1.Портфель кредитів'!#REF!","v":{"$error":"#REF!"}},{"$f":"'1.Портфель кредитів'!E485","v":0},{"$f":"'1.Портфель кредитів'!R485","v":0},{"$f":"'1.Портфель кредитів'!T485","v":""},4,"2018-06-01","_4_43252_2"]
[{"$f":"'1.Портфель кредитів'!#REF!","v":{"$error":"#REF!"}},{"$f":"'1.Портфель кредитів'!D486","v":""},{"$f":"'1.Портфель кредитів'!#REF!","v":{"$error":"#REF!"}},{"$f":"'1.Портфель кредитів'!#REF!","v":{"$error":"#REF!"}},{"$f":"'1.Портфель кредитів'!#REF!","v":{"$error":"#REF!"}},{"$f":"'1.Портфель кредитів'!E486","v":0},{"$f":"'1.Портфель кредитів'!R486","v":0},{"$f":"'1.Портфель кредитів'!T486","v":""},4,"2018-06-01","_4_43252_2"]
[{"$f":"'1.Портфель кредитів'!#REF!","v":{"$error":"#REF!"}},{"$f":"'1.Портфель кредитів'!D487","v":""},{"$f":"'1.Портфель кредитів'!#REF!","v":{"$error":"#REF!"}},{"$f":"'1.Портфель кредитів'!#REF!","v":{"$error":"#REF!"}},{"$f":"'1.Портфель кредитів'!#REF!","v":{"$error":"#REF!"}},{"$f":"'1.Портфель кредитів'!E487","v":0},{"$f":"'1.Портфель кредитів'!R487","v":0},{"$f":"'1.Портфель кредитів'!T487","v":""},4,"2018-06-01","_4_43252_2"]
[{"$f":"'1.Портфель кредитів'!#REF!","v":{"$error":"#REF!"}},{"$f":"'1.Портфель кредитів'!D488","v":""},{"$f":"'1.Портфель кредитів'!#REF!","v":{"$error":"#REF!"}},{"$f":"'1.Портфель кредитів'!#REF!","v":{"$error":"#REF!"}},{"$f":"'1.Портфель кредитів'!#REF!","v":{"$error":"#REF!"}},{"$f":"'1.Портфель кредитів'!E488","v":0},{"$f":"'1.Портфель кредитів'!R488","v":0},{"$f":"'1.Портфель кредитів'!T488","v":""},4,"2018-06-01","_4_43252_2"]
[{"$f":"'1.Портфель кредитів'!#REF!","v":{"$error":"#REF!"}},{"$f":"'1.Портфель кредитів'!D489","v":""},{"$f":"'1.Портфель кредитів'!#REF!","v":{"$error":"#REF!"}},{"$f":"'1.Портфель кредитів'!#REF!","v":{"$error":"#REF!"}},{"$f":"'1.Портфель кредитів'!#REF!","v":{"$error":"#REF!"}},{"$f":"'1.Портфель кредитів'!E489","v":0},{"$f":"'1.Портфель кредитів'!R489","v":0},{"$f":"'1.Портфель кредитів'!T489","v":""},4,"2018-06-01","_4_43252_2"]
[{"$f":"'1.Портфель кредитів'!#REF!","v":{"$error":"#REF!"}},{"$f":"'1.Портфель кредитів'!D490","v":""},{"$f":"'1.Портфель кредитів'!#REF!","v":{"$error":"#REF!"}},{"$f":"'1.Портфель кредитів'!#REF!","v":{"$error":"#REF!"}},{"$f":"'1.Портфель кредитів'!#REF!","v":{"$error":"#REF!"}},{"$f":"'1.Портфель кредитів'!E490","v":0},{"$f":"'1.Портфель кредитів'!R490","v":0},{"$f":"'1.Портфель кредитів'!T490","v":""},4,"2018-06-01","_4_43252_2"]
[{"$f":"'1.Портфель кредитів'!#REF!","v":{"$error":"#REF!"}},{"$f":"'1.Портфель кредитів'!D491","v":""},{"$f":"'1.Портфель кредитів'!#REF!","v":{"$error":"#REF!"}},{"$f":"'1.Портфель кредитів'!#REF!","v":{"$error":"#REF!"}},{"$f":"'1.Портфель кредитів'!#REF!","v":{"$error":"#REF!"}},{"$f":"'1.Портфель кредитів'!E491","v":0},{"$f":"'1.Портфель кредитів'!R491","v":0},{"$f":"'1.Портфель кредитів'!T491","v":""},4,"2018-06-01","_4_43252_2"]
[{"$f":"'1.Портфель кредитів'!#REF!","v":{"$error":"#REF!"}},{"$f":"'1.Портфель кредитів'!D492","v":""},{"$f":"'1.Портфель кредитів'!#REF!","v":{"$error":"#REF!"}},{"$f":"'1.Портфель кредитів'!#REF!","v":{"$error":"#REF!"}},{"$f":"'1.Портфель кредитів'!#REF!","v":{"$error":"#REF!"}},{"$f":"'1.Портфель кредитів'!E492","v":0},{"$f":"'1.Портфель кредитів'!R492","v":0},{"$f":"'1.Портфель кредитів'!T492","v":""},4,"2018-06-01","_4_43252_2"]
[{"$f":"'1.Портфель кредитів'!#REF!","v":{"$error":"#REF!"}},{"$f":"'1.Портфель кредитів'!D493","v":""},{"$f":"'1.Портфель кредитів'!#REF!","v":{"$error":"#REF!"}},{"$f":"'1.Портфель кредитів'!#REF!","v":{"$error":"#REF!"}},{"$f":"'1.Портфель кредитів'!#REF!","v":{"$error":"#REF!"}},{"$f":"'1.Портфель кредитів'!E493","v":0},{"$f":"'1.Портфель кредитів'!R493","v":0},{"$f":"'1.Портфель кредитів'!T493","v":""},4,"2018-06-01","_4_43252_2"]
[{"$f":"'1.Портфель кредитів'!#REF!","v":{"$error":"#REF!"}},{"$f":"'1.Портфель кредитів'!D494","v":""},{"$f":"'1.Портфель кредитів'!#REF!","v":{"$error":"#REF!"}},{"$f":"'1.Портфель кредитів'!#REF!","v":{"$error":"#REF!"}},{"$f":"'1.Портфель кредитів'!#REF!","v":{"$error":"#REF!"}},{"$f":"'1.Портфель кредитів'!E494","v":0},{"$f":"'1.Портфель кредитів'!R494","v":0},{"$f":"'1.Портфель кредитів'!T494","v":""},4,"2018-06-01","_4_43252_2"]
[{"$f":"'1.Портфель кредитів'!#REF!","v":{"$error":"#REF!"}},{"$f":"'1.Портфель кредитів'!D495","v":""},{"$f":"'1.Портфель кредитів'!#REF!","v":{"$error":"#REF!"}},{"$f":"'1.Портфель кредитів'!#REF!","v":{"$error":"#REF!"}},{"$f":"'1.Портфель кредитів'!#REF!","v":{"$error":"#REF!"}},{"$f":"'1.Портфель кредитів'!E495","v":0},{"$f":"'1.Портфель кредитів'!R495","v":0},{"$f":"'1.Портфель кредитів'!T495","v":""},4,"2018-06-01","_4_43252_2"]
[{"$f":"'1.Портфель кредитів'!#REF!","v":{"$error":"#REF!"}},{"$f":"'1.Портфель кредитів'!D496","v":""},{"$f":"'1.Портфель кредитів'!#REF!","v":{"$error":"#REF!"}},{"$f":"'1.Портфель кредитів'!#REF!","v":{"$error":"#REF!"}},{"$f":"'1.Портфель кредитів'!#REF!","v":{"$error":"#REF!"}},{"$f":"'1.Портфель кредитів'!E496","v":0},{"$f":"'1.Портфель кредитів'!R496","v":0},{"$f":"'1.Портфель кредитів'!T496","v":""},4,"2018-06-01","_4_43252_2"]
[{"$f":"'1.Портфель кредитів'!#REF!","v":{"$error":"#REF!"}},{"$f":"'1.Портфель кредитів'!D497","v":""},{"$f":"'1.Портфель кредитів'!#REF!","v":{"$error":"#REF!"}},{"$f":"'1.Портфель кредитів'!#REF!","v":{"$error":"#REF!"}},{"$f":"'1.Портфель кредитів'!#REF!","v":{"$error":"#REF!"}},{"$f":"'1.Портфель кредитів'!E497","v":0},{"$f":"'1.Портфель кредитів'!R497","v":0},{"$f":"'1.Портфель кредитів'!T497","v":""},4,"2018-06-01","_4_43252_2"]
[{"$f":"'1.Портфель кредитів'!#REF!","v":{"$error":"#REF!"}},{"$f":"'1.Портфель кредитів'!D498","v":""},{"$f":"'1.Портфель кредитів'!#REF!","v":{"$error":"#REF!"}},{"$f":"'1.Портфель кредитів'!#REF!","v":{"$error":"#REF!"}},{"$f":"'1.Портфель кредитів'!#REF!","v":{"$error":"#REF!"}},{"$f":"'1.Портфель кредитів'!E498","v":0},{"$f":"'1.Портфель кредитів'!R498","v":0},{"$f":"'1.Портфель кредитів'!T498","v":""},4,"2018-06-01","_4_43252_2"]
[{"$f":"'1.Портфель кредитів'!#REF!","v":{"$error":"#REF!"}},{"$f":"'1.Портфель кредитів'!D499","v":""},{"$f":"'1.Портфель кредитів'!#REF!","v":{"$error":"#REF!"}},{"$f":"'1.Портфель кредитів'!#REF!","v":{"$error":"#REF!"}},{"$f":"'1.Портфель кредитів'!#REF!","v":{"$error":"#REF!"}},{"$f":"'1.Портфель кредитів'!E499","v":0},{"$f":"'1.Портфель кредитів'!R499","v":0},{"$f":"'1.Портфель кредитів'!T499","v":""},4,"2018-06-01","_4_43252_2"]
[{"$f":"'1.Портфель кредитів'!#REF!","v":{"$error":"#REF!"}},{"$f":"'1.Портфель кредитів'!D500","v":""},{"$f":"'1.Портфель кредитів'!#REF!","v":{"$error":"#REF!"}},{"$f":"'1.Портфель кредитів'!#REF!","v":{"$error":"#REF!"}},{"$f":"'1.Портфель кредитів'!#REF!","v":{"$error":"#REF!"}},{"$f":"'1.Портфель кредитів'!E500","v":0},{"$f":"'1.Портфель кредитів'!R500","v":0},{"$f":"'1.Портфель кредитів'!T500","v":""},4,"2018-06-01","_4_43252_2"]
[{"$f":"'1.Портфель кредитів'!#REF!","v":{"$error":"#REF!"}},{"$f":"'1.Портфель кредитів'!D501","v":""},{"$f":"'1.Портфель кредитів'!#REF!","v":{"$error":"#REF!"}},{"$f":"'1.Портфель кредитів'!#REF!","v":{"$error":"#REF!"}},{"$f":"'1.Портфель кредитів'!#REF!","v":{"$error":"#REF!"}},{"$f":"'1.Портфель кредитів'!E501","v":0},{"$f":"'1.Портфель кредитів'!R501","v":0},{"$f":"'1.Портфель кредитів'!T501","v":""},4,"2018-06-01","_4_43252_2"]
[{"$f":"'1.Портфель кредитів'!#REF!","v":{"$error":"#REF!"}},{"$f":"'1.Портфель кредитів'!D502","v":""},{"$f":"'1.Портфель кредитів'!#REF!","v":{"$error":"#REF!"}},{"$f":"'1.Портфель кредитів'!#REF!","v":{"$error":"#REF!"}},{"$f":"'1.Портфель кредитів'!#REF!","v":{"$error":"#REF!"}},{"$f":"'1.Портфель кредитів'!E502","v":0},{"$f":"'1.Портфель кредитів'!R502","v":0},{"$f":"'1.Портфель кредитів'!T502","v":""},4,"2018-06-01","_4_43252_2"]
[{"$f":"'1.Портфель кредитів'!#REF!","v":{"$error":"#REF!"}},{"$f":"'1.Портфель кредитів'!D503","v":""},{"$f":"'1.Портфель кредитів'!#REF!","v":{"$error":"#REF!"}},{"$f":"'1.Портфель кредитів'!#REF!","v":{"$error":"#REF!"}},{"$f":"'1.Портфель кредитів'!#REF!","v":{"$error":"#REF!"}},{"$f":"'1.Портфель кредитів'!E503","v":0},{"$f":"'1.Портфель кредитів'!R503","v":0},{"$f":"'1.Портфель кредитів'!T503","v":""},4,"2018-06-01","_4_43252_2"]
[{"$f":"'1.Портфель кредитів'!#REF!","v":{"$error":"#REF!"}},{"$f":"'1.Портфель кредитів'!D504","v":""},{"$f":"'1.Портфель кредитів'!#REF!","v":{"$error":"#REF!"}},{"$f":"'1.Портфель кредитів'!#REF!","v":{"$error":"#REF!"}},{"$f":"'1.Портфель кредитів'!#REF!","v":{"$error":"#REF!"}},{"$f":"'1.Портфель кредитів'!E504","v":0},{"$f":"'1.Портфель кредитів'!R504","v":0},{"$f":"'1.Портфель кредитів'!T504","v":""},4,"2018-06-01","_4_43252_2"]
[{"$f":"'1.Портфель кредитів'!#REF!","v":{"$error":"#REF!"}},{"$f":"'1.Портфель кредитів'!D505","v":""},{"$f":"'1.Портфель кредитів'!#REF!","v":{"$error":"#REF!"}},{"$f":"'1.Портфель кредитів'!#REF!","v":{"$error":"#REF!"}},{"$f":"'1.Портфель кредитів'!#REF!","v":{"$error":"#REF!"}},{"$f":"'1.Портфель кредитів'!E505","v":0},{"$f":"'1.Портфель кредитів'!R505","v":0},{"$f":"'1.Портфель кредитів'!T505","v":""},4,"2018-06-01","_4_43252_2"]
[{"$f":"'1.Портфель кредитів'!#REF!","v":{"$error":"#REF!"}},{"$f":"'1.Портфель кредитів'!D506","v":""},{"$f":"'1.Портфель кредитів'!#REF!","v":{"$error":"#REF!"}},{"$f":"'1.Портфель кредитів'!#REF!","v":{"$error":"#REF!"}},{"$f":"'1.Портфель кредитів'!#REF!","v":{"$error":"#REF!"}},{"$f":"'1.Портфель кредитів'!E506","v":0},{"$f":"'1.Портфель кредитів'!R506","v":0},{"$f":"'1.Портфель кредитів'!T506","v":""},4,"2018-06-01","_4_43252_2"]
[{"$f":"'1.Портфель кредитів'!#REF!","v":{"$error":"#REF!"}},{"$f":"'1.Портфель кредитів'!D507","v":""},{"$f":"'1.Портфель кредитів'!#REF!","v":{"$error":"#REF!"}},{"$f":"'1.Портфель кредитів'!#REF!","v":{"$error":"#REF!"}},{"$f":"'1.Портфель кредитів'!#REF!","v":{"$error":"#REF!"}},{"$f":"'1.Портфель кредитів'!E507","v":0},{"$f":"'1.Портфель кредитів'!R507","v":0},{"$f":"'1.Портфель кредитів'!T507","v":""},4,"2018-06-01","_4_43252_2"]
[{"$f":"'1.Портфель кредитів'!#REF!","v":{"$error":"#REF!"}},{"$f":"'1.Портфель кредитів'!D508","v":""},{"$f":"'1.Портфель кредитів'!#REF!","v":{"$error":"#REF!"}},{"$f":"'1.Портфель кредитів'!#REF!","v":{"$error":"#REF!"}},{"$f":"'1.Портфель кредитів'!#REF!","v":{"$error":"#REF!"}},{"$f":"'1.Портфель кредитів'!E508","v":0},{"$f":"'1.Портфель кредитів'!R508","v":0},{"$f":"'1.Портфель кредитів'!T508","v":""},4,"2018-06-01","_4_43252_2"]
[{"$f":"'1.Портфель кредитів'!#REF!","v":{"$error":"#REF!"}},{"$f":"'1.Портфель кредитів'!D509","v":""},{"$f":"'1.Портфель кредитів'!#REF!","v":{"$error":"#REF!"}},{"$f":"'1.Портфель кредитів'!#REF!","v":{"$error":"#REF!"}},{"$f":"'1.Портфель кредитів'!#REF!","v":{"$error":"#REF!"}},{"$f":"'1.Портфель кредитів'!E509","v":0},{"$f":"'1.Портфель кредитів'!R509","v":0},{"$f":"'1.Портфель кредитів'!T509","v":""},4,"2018-06-01","_4_43252_2"]
[{"$f":"'1.Портфель кредитів'!#REF!","v":{"$error":"#REF!"}},{"$f":"'1.Портфель кредитів'!D510","v":""},{"$f":"'1.Портфель кредитів'!#REF!","v":{"$error":"#REF!"}},{"$f":"'1.Портфель кредитів'!#REF!","v":{"$error":"#REF!"}},{"$f":"'1.Портфель кредитів'!#REF!","v":{"$error":"#REF!"}},{"$f":"'1.Портфель кредитів'!E510","v":0},{"$f":"'1.Портфель кредитів'!R510","v":0},{"$f":"'1.Портфель кредитів'!T510","v":""},4,"2018-06-01","_4_43252_2"]
[{"$f":"'1.Портфель кредитів'!#REF!","v":{"$error":"#REF!"}},{"$f":"'1.Портфель кредитів'!D511","v":""},{"$f":"'1.Портфель кредитів'!#REF!","v":{"$error":"#REF!"}},{"$f":"'1.Портфель кредитів'!#REF!","v":{"$error":"#REF!"}},{"$f":"'1.Портфель кредитів'!#REF!","v":{"$error":"#REF!"}},{"$f":"'1.Портфель кредитів'!E511","v":0},{"$f":"'1.Портфель кредитів'!R511","v":0},{"$f":"'1.Портфель кредитів'!T511","v":""},4,"2018-06-01","_4_43252_2"]
[{"$f":"'1.Портфель кредитів'!#REF!","v":{"$error":"#REF!"}},{"$f":"'1.Портфель кредитів'!D512","v":""},{"$f":"'1.Портфель кредитів'!#REF!","v":{"$error":"#REF!"}},{"$f":"'1.Портфель кредитів'!#REF!","v":{"$error":"#REF!"}},{"$f":"'1.Портфель кредитів'!#REF!","v":{"$error":"#REF!"}},{"$f":"'1.Портфель кредитів'!E512","v":0},{"$f":"'1.Портфель кредитів'!R512","v":0},{"$f":"'1.Портфель кредитів'!T512","v":""},4,"2018-06-01","_4_43252_2"]
[{"$f":"'1.Портфель кредитів'!#REF!","v":{"$error":"#REF!"}},{"$f":"'1.Портфель кредитів'!D513","v":""},{"$f":"'1.Портфель кредитів'!#REF!","v":{"$error":"#REF!"}},{"$f":"'1.Портфель кредитів'!#REF!","v":{"$error":"#REF!"}},{"$f":"'1.Портфель кредитів'!#REF!","v":{"$error":"#REF!"}},{"$f":"'1.Портфель кредитів'!E513","v":0},{"$f":"'1.Портфель кредитів'!R513","v":0},{"$f":"'1.Портфель кредитів'!T513","v":""},4,"2018-06-01","_4_43252_2"]
[{"$f":"'1.Портфель кредитів'!#REF!","v":{"$error":"#REF!"}},{"$f":"'1.Портфель кредитів'!D514","v":""},{"$f":"'1.Портфель кредитів'!#REF!","v":{"$error":"#REF!"}},{"$f":"'1.Портфель кредитів'!#REF!","v":{"$error":"#REF!"}},{"$f":"'1.Портфель кредитів'!#REF!","v":{"$error":"#REF!"}},{"$f":"'1.Портфель кредитів'!E514","v":0},{"$f":"'1.Портфель кредитів'!R514","v":0},{"$f":"'1.Портфель кредитів'!T514","v":""},4,"2018-06-01","_4_43252_2"]
[{"$f":"'1.Портфель кредитів'!#REF!","v":{"$error":"#REF!"}},{"$f":"'1.Портфель кредитів'!D515","v":""},{"$f":"'1.Портфель кредитів'!#REF!","v":{"$error":"#REF!"}},{"$f":"'1.Портфель кредитів'!#REF!","v":{"$error":"#REF!"}},{"$f":"'1.Портфель кредитів'!#REF!","v":{"$error":"#REF!"}},{"$f":"'1.Портфель кредитів'!E515","v":0},{"$f":"'1.Портфель кредитів'!R515","v":0},{"$f":"'1.Портфель кредитів'!T515","v":""},{"$f":"$E$1","v":4},{"$f":"$E$2","v":"2018-06-01"},{"$f":"B518&\"_\"&I518&\"_\"&J518&\"_\"&$E$3","v":"_4_43252_2"}]
[{"$f":"'1.Портфель кредитів'!#REF!","v":{"$error":"#REF!"}},{"$f":"'1.Портфель кредитів'!D516","v":""},{"$f":"'1.Портфель кредитів'!#REF!","v":{"$error":"#REF!"}},{"$f":"'1.Портфель кредитів'!#REF!","v":{"$error":"#REF!"}},{"$f":"'1.Портфель кредитів'!#REF!","v":{"$error":"#REF!"}},{"$f":"'1.Портфель кредитів'!E516","v":0},{"$f":"'1.Портфель кредитів'!R516","v":0},{"$f":"'1.Портфель кредитів'!T516","v":""},4,"2018-06-01","_4_43252_2"]
[{"$f":"'1.Портфель кредитів'!#REF!","v":{"$error":"#REF!"}},{"$f":"'1.Портфель кредитів'!D517","v":""},{"$f":"'1.Портфель кредитів'!#REF!","v":{"$error":"#REF!"}},{"$f":"'1.Портфель кредитів'!#REF!","v":{"$error":"#REF!"}},{"$f":"'1.Портфель кредитів'!#REF!","v":{"$error":"#REF!"}},{"$f":"'1.Портфель кредитів'!E517","v":0},{"$f":"'1.Портфель кредитів'!R517","v":0},{"$f":"'1.Портфель кредитів'!T517","v":""},4,"2018-06-01","_4_43252_2"]
[{"$f":"'1.Портфель кредитів'!#REF!","v":{"$error":"#REF!"}},{"$f":"'1.Портфель кредитів'!D518","v":""},{"$f":"'1.Портфель кредитів'!#REF!","v":{"$error":"#REF!"}},{"$f":"'1.Портфель кредитів'!#REF!","v":{"$error":"#REF!"}},{"$f":"'1.Портфель кредитів'!#REF!","v":{"$error":"#REF!"}},{"$f":"'1.Портфель кредитів'!E518","v":0},{"$f":"'1.Портфель кредитів'!R518","v":0},{"$f":"'1.Портфель кредитів'!T518","v":""},4,"2018-06-01","_4_43252_2"]
[{"$f":"'1.Портфель кредитів'!#REF!","v":{"$error":"#REF!"}},{"$f":"'1.Портфель кредитів'!D519","v":""},{"$f":"'1.Портфель кредитів'!#REF!","v":{"$error":"#REF!"}},{"$f":"'1.Портфель кредитів'!#REF!","v":{"$error":"#REF!"}},{"$f":"'1.Портфель кредитів'!#REF!","v":{"$error":"#REF!"}},{"$f":"'1.Портфель кредитів'!E519","v":0},{"$f":"'1.Портфель кредитів'!R519","v":0},{"$f":"'1.Портфель кредитів'!T519","v":""},4,"2018-06-01","_4_43252_2"]
[{"$f":"'1.Портфель кредитів'!#REF!","v":{"$error":"#REF!"}},{"$f":"'1.Портфель кредитів'!D520","v":""},{"$f":"'1.Портфель кредитів'!#REF!","v":{"$error":"#REF!"}},{"$f":"'1.Портфель кредитів'!#REF!","v":{"$error":"#REF!"}},{"$f":"'1.Портфель кредитів'!#REF!","v":{"$error":"#REF!"}},{"$f":"'1.Портфель кредитів'!E520","v":0},{"$f":"'1.Портфель кредитів'!R520","v":0},{"$f":"'1.Портфель кредитів'!T520","v":""},4,"2018-06-01","_4_43252_2"]
[{"$f":"'1.Портфель кредитів'!#REF!","v":{"$error":"#REF!"}},{"$f":"'1.Портфель кредитів'!D521","v":""},{"$f":"'1.Портфель кредитів'!#REF!","v":{"$error":"#REF!"}},{"$f":"'1.Портфель кредитів'!#REF!","v":{"$error":"#REF!"}},{"$f":"'1.Портфель кредитів'!#REF!","v":{"$error":"#REF!"}},{"$f":"'1.Портфель кредитів'!E521","v":0},{"$f":"'1.Портфель кредитів'!R521","v":0},{"$f":"'1.Портфель кредитів'!T521","v":""},4,"2018-06-01","_4_43252_2"]
[{"$f":"'1.Портфель кредитів'!#REF!","v":{"$error":"#REF!"}},{"$f":"'1.Портфель кредитів'!D522","v":""},{"$f":"'1.Портфель кредитів'!#REF!","v":{"$error":"#REF!"}},{"$f":"'1.Портфель кредитів'!#REF!","v":{"$error":"#REF!"}},{"$f":"'1.Портфель кредитів'!#REF!","v":{"$error":"#REF!"}},{"$f":"'1.Портфель кредитів'!E522","v":0},{"$f":"'1.Портфель кредитів'!R522","v":0},{"$f":"'1.Портфель кредитів'!T522","v":""},4,"2018-06-01","_4_43252_2"]
[{"$f":"'1.Портфель кредитів'!#REF!","v":{"$error":"#REF!"}},{"$f":"'1.Портфель кредитів'!D523","v":""},{"$f":"'1.Портфель кредитів'!#REF!","v":{"$error":"#REF!"}},{"$f":"'1.Портфель кредитів'!#REF!","v":{"$error":"#REF!"}},{"$f":"'1.Портфель кредитів'!#REF!","v":{"$error":"#REF!"}},{"$f":"'1.Портфель кредитів'!E523","v":0},{"$f":"'1.Портфель кредитів'!R523","v":0},{"$f":"'1.Портфель кредитів'!T523","v":""},4,"2018-06-01","_4_43252_2"]
[{"$f":"'1.Портфель кредитів'!#REF!","v":{"$error":"#REF!"}},{"$f":"'1.Портфель кредитів'!D524","v":""},{"$f":"'1.Портфель кредитів'!#REF!","v":{"$error":"#REF!"}},{"$f":"'1.Портфель кредитів'!#REF!","v":{"$error":"#REF!"}},{"$f":"'1.Портфель кредитів'!#REF!","v":{"$error":"#REF!"}},{"$f":"'1.Портфель кредитів'!E524","v":0},{"$f":"'1.Портфель кредитів'!R524","v":0},{"$f":"'1.Портфель кредитів'!T524","v":""},4,"2018-06-01","_4_43252_2"]
[{"$f":"'1.Портфель кредитів'!#REF!","v":{"$error":"#REF!"}},{"$f":"'1.Портфель кредитів'!D525","v":""},{"$f":"'1.Портфель кредитів'!#REF!","v":{"$error":"#REF!"}},{"$f":"'1.Портфель кредитів'!#REF!","v":{"$error":"#REF!"}},{"$f":"'1.Портфель кредитів'!#REF!","v":{"$error":"#REF!"}},{"$f":"'1.Портфель кредитів'!E525","v":0},{"$f":"'1.Портфель кредитів'!R525","v":0},{"$f":"'1.Портфель кредитів'!T525","v":""},4,"2018-06-01","_4_43252_2"]
[{"$f":"'1.Портфель кредитів'!#REF!","v":{"$error":"#REF!"}},{"$f":"'1.Портфель кредитів'!D526","v":""},{"$f":"'1.Портфель кредитів'!#REF!","v":{"$error":"#REF!"}},{"$f":"'1.Портфель кредитів'!#REF!","v":{"$error":"#REF!"}},{"$f":"'1.Портфель кредитів'!#REF!","v":{"$error":"#REF!"}},{"$f":"'1.Портфель кредитів'!E526","v":0},{"$f":"'1.Портфель кредитів'!R526","v":0},{"$f":"'1.Портфель кредитів'!T526","v":""},4,"2018-06-01","_4_43252_2"]
[{"$f":"'1.Портфель кредитів'!#REF!","v":{"$error":"#REF!"}},{"$f":"'1.Портфель кредитів'!D527","v":""},{"$f":"'1.Портфель кредитів'!#REF!","v":{"$error":"#REF!"}},{"$f":"'1.Портфель кредитів'!#REF!","v":{"$error":"#REF!"}},{"$f":"'1.Портфель кредитів'!#REF!","v":{"$error":"#REF!"}},{"$f":"'1.Портфель кредитів'!E527","v":0},{"$f":"'1.Портфель кредитів'!R527","v":0},{"$f":"'1.Портфель кредитів'!T527","v":""},4,"2018-06-01","_4_43252_2"]
[{"$f":"'1.Портфель кредитів'!#REF!","v":{"$error":"#REF!"}},{"$f":"'1.Портфель кредитів'!D528","v":""},{"$f":"'1.Портфель кредитів'!#REF!","v":{"$error":"#REF!"}},{"$f":"'1.Портфель кредитів'!#REF!","v":{"$error":"#REF!"}},{"$f":"'1.Портфель кредитів'!#REF!","v":{"$error":"#REF!"}},{"$f":"'1.Портфель кредитів'!E528","v":0},{"$f":"'1.Портфель кредитів'!R528","v":0},{"$f":"'1.Портфель кредитів'!T528","v":""},4,"2018-06-01","_4_43252_2"]
[{"$f":"'1.Портфель кредитів'!#REF!","v":{"$error":"#REF!"}},{"$f":"'1.Портфель кредитів'!D529","v":""},{"$f":"'1.Портфель кредитів'!#REF!","v":{"$error":"#REF!"}},{"$f":"'1.Портфель кредитів'!#REF!","v":{"$error":"#REF!"}},{"$f":"'1.Портфель кредитів'!#REF!","v":{"$error":"#REF!"}},{"$f":"'1.Портфель кредитів'!E529","v":0},{"$f":"'1.Портфель кредитів'!R529","v":0},{"$f":"'1.Портфель кредитів'!T529","v":""},4,"2018-06-01","_4_43252_2"]
[{"$f":"'1.Портфель кредитів'!#REF!","v":{"$error":"#REF!"}},{"$f":"'1.Портфель кредитів'!D530","v":""},{"$f":"'1.Портфель кредитів'!#REF!","v":{"$error":"#REF!"}},{"$f":"'1.Портфель кредитів'!#REF!","v":{"$error":"#REF!"}},{"$f":"'1.Портфель кредитів'!#REF!","v":{"$error":"#REF!"}},{"$f":"'1.Портфель кредитів'!E530","v":0},{"$f":"'1.Портфель кредитів'!R530","v":0},{"$f":"'1.Портфель кредитів'!T530","v":""},4,"2018-06-01","_4_43252_2"]
[{"$f":"'1.Портфель кредитів'!#REF!","v":{"$error":"#REF!"}},{"$f":"'1.Портфель кредитів'!D531","v":""},{"$f":"'1.Портфель кредитів'!#REF!","v":{"$error":"#REF!"}},{"$f":"'1.Портфель кредитів'!#REF!","v":{"$error":"#REF!"}},{"$f":"'1.Портфель кредитів'!#REF!","v":{"$error":"#REF!"}},{"$f":"'1.Портфель кредитів'!E531","v":0},{"$f":"'1.Портфель кредитів'!R531","v":0},{"$f":"'1.Портфель кредитів'!T531","v":""},4,"2018-06-01","_4_43252_2"]
[{"$f":"'1.Портфель кредитів'!#REF!","v":{"$error":"#REF!"}},{"$f":"'1.Портфель кредитів'!D532","v":""},{"$f":"'1.Портфель кредитів'!#REF!","v":{"$error":"#REF!"}},{"$f":"'1.Портфель кредитів'!#REF!","v":{"$error":"#REF!"}},{"$f":"'1.Портфель кредитів'!#REF!","v":{"$error":"#REF!"}},{"$f":"'1.Портфель кредитів'!E532","v":0},{"$f":"'1.Портфель кредитів'!R532","v":0},{"$f":"'1.Портфель кредитів'!T532","v":""},4,"2018-06-01","_4_43252_2"]
[{"$f":"'1.Портфель кредитів'!#REF!","v":{"$error":"#REF!"}},{"$f":"'1.Портфель кредитів'!D533","v":""},{"$f":"'1.Портфель кредитів'!#REF!","v":{"$error":"#REF!"}},{"$f":"'1.Портфель кредитів'!#REF!","v":{"$error":"#REF!"}},{"$f":"'1.Портфель кредитів'!#REF!","v":{"$error":"#REF!"}},{"$f":"'1.Портфель кредитів'!E533","v":0},{"$f":"'1.Портфель кредитів'!R533","v":0},{"$f":"'1.Портфель кредитів'!T533","v":""},4,"2018-06-01","_4_43252_2"]
[{"$f":"'1.Портфель кредитів'!#REF!","v":{"$error":"#REF!"}},{"$f":"'1.Портфель кредитів'!D534","v":""},{"$f":"'1.Портфель кредитів'!#REF!","v":{"$error":"#REF!"}},{"$f":"'1.Портфель кредитів'!#REF!","v":{"$error":"#REF!"}},{"$f":"'1.Портфель кредитів'!#REF!","v":{"$error":"#REF!"}},{"$f":"'1.Портфель кредитів'!E534","v":0},{"$f":"'1.Портфель кредитів'!R534","v":0},{"$f":"'1.Портфель кредитів'!T534","v":""},4,"2018-06-01","_4_43252_2"]
[{"$f":"'1.Портфель кредитів'!#REF!","v":{"$error":"#REF!"}},{"$f":"'1.Портфель кредитів'!D535","v":""},{"$f":"'1.Портфель кредитів'!#REF!","v":{"$error":"#REF!"}},{"$f":"'1.Портфель кредитів'!#REF!","v":{"$error":"#REF!"}},{"$f":"'1.Портфель кредитів'!#REF!","v":{"$error":"#REF!"}},{"$f":"'1.Портфель кредитів'!E535","v":0},{"$f":"'1.Портфель кредитів'!R535","v":0},{"$f":"'1.Портфель кредитів'!T535","v":""},4,"2018-06-01","_4_43252_2"]
[{"$f":"'1.Портфель кредитів'!#REF!","v":{"$error":"#REF!"}},{"$f":"'1.Портфель кредитів'!D536","v":""},{"$f":"'1.Портфель кредитів'!#REF!","v":{"$error":"#REF!"}},{"$f":"'1.Портфель кредитів'!#REF!","v":{"$error":"#REF!"}},{"$f":"'1.Портфель кредитів'!#REF!","v":{"$error":"#REF!"}},{"$f":"'1.Портфель кредитів'!E536","v":0},{"$f":"'1.Портфель кредитів'!R536","v":0},{"$f":"'1.Портфель кредитів'!T536","v":""},4,"2018-06-01","_4_43252_2"]
[{"$f":"'1.Портфель кредитів'!#REF!","v":{"$error":"#REF!"}},{"$f":"'1.Портфель кредитів'!D537","v":""},{"$f":"'1.Портфель кредитів'!#REF!","v":{"$error":"#REF!"}},{"$f":"'1.Портфель кредитів'!#REF!","v":{"$error":"#REF!"}},{"$f":"'1.Портфель кредитів'!#REF!","v":{"$error":"#REF!"}},{"$f":"'1.Портфель кредитів'!E537","v":0},{"$f":"'1.Портфель кредитів'!R537","v":0},{"$f":"'1.Портфель кредитів'!T537","v":""},4,"2018-06-01","_4_43252_2"]
[{"$f":"'1.Портфель кредитів'!#REF!","v":{"$error":"#REF!"}},{"$f":"'1.Портфель кредитів'!D538","v":""},{"$f":"'1.Портфель кредитів'!#REF!","v":{"$error":"#REF!"}},{"$f":"'1.Портфель кредитів'!#REF!","v":{"$error":"#REF!"}},{"$f":"'1.Портфель кредитів'!#REF!","v":{"$error":"#REF!"}},{"$f":"'1.Портфель кредитів'!E538","v":0},{"$f":"'1.Портфель кредитів'!R538","v":0},{"$f":"'1.Портфель кредитів'!T538","v":""},4,"2018-06-01","_4_43252_2"]
[{"$f":"'1.Портфель кредитів'!#REF!","v":{"$error":"#REF!"}},{"$f":"'1.Портфель кредитів'!D539","v":""},{"$f":"'1.Портфель кредитів'!#REF!","v":{"$error":"#REF!"}},{"$f":"'1.Портфель кредитів'!#REF!","v":{"$error":"#REF!"}},{"$f":"'1.Портфель кредитів'!#REF!","v":{"$error":"#REF!"}},{"$f":"'1.Портфель кредитів'!E539","v":0},{"$f":"'1.Портфель кредитів'!R539","v":0},{"$f":"'1.Портфель кредитів'!T539","v":""},4,"2018-06-01","_4_43252_2"]
[{"$f":"'1.Портфель кредитів'!#REF!","v":{"$error":"#REF!"}},{"$f":"'1.Портфель кредитів'!D540","v":""},{"$f":"'1.Портфель кредитів'!#REF!","v":{"$error":"#REF!"}},{"$f":"'1.Портфель кредитів'!#REF!","v":{"$error":"#REF!"}},{"$f":"'1.Портфель кредитів'!#REF!","v":{"$error":"#REF!"}},{"$f":"'1.Портфель кредитів'!E540","v":0},{"$f":"'1.Портфель кредитів'!R540","v":0},{"$f":"'1.Портфель кредитів'!T540","v":""},4,"2018-06-01","_4_43252_2"]
[{"$f":"'1.Портфель кредитів'!#REF!","v":{"$error":"#REF!"}},{"$f":"'1.Портфель кредитів'!D541","v":""},{"$f":"'1.Портфель кредитів'!#REF!","v":{"$error":"#REF!"}},{"$f":"'1.Портфель кредитів'!#REF!","v":{"$error":"#REF!"}},{"$f":"'1.Портфель кредитів'!#REF!","v":{"$error":"#REF!"}},{"$f":"'1.Портфель кредитів'!E541","v":0},{"$f":"'1.Портфель кредитів'!R541","v":0},{"$f":"'1.Портфель кредитів'!T541","v":""},4,"2018-06-01","_4_43252_2"]
[{"$f":"'1.Портфель кредитів'!#REF!","v":{"$error":"#REF!"}},{"$f":"'1.Портфель кредитів'!D542","v":""},{"$f":"'1.Портфель кредитів'!#REF!","v":{"$error":"#REF!"}},{"$f":"'1.Портфель кредитів'!#REF!","v":{"$error":"#REF!"}},{"$f":"'1.Портфель кредитів'!#REF!","v":{"$error":"#REF!"}},{"$f":"'1.Портфель кредитів'!E542","v":0},{"$f":"'1.Портфель кредитів'!R542","v":0},{"$f":"'1.Портфель кредитів'!T542","v":""},4,"2018-06-01","_4_43252_2"]
[{"$f":"'1.Портфель кредитів'!#REF!","v":{"$error":"#REF!"}},{"$f":"'1.Портфель кредитів'!D543","v":""},{"$f":"'1.Портфель кредитів'!#REF!","v":{"$error":"#REF!"}},{"$f":"'1.Портфель кредитів'!#REF!","v":{"$error":"#REF!"}},{"$f":"'1.Портфель кредитів'!#REF!","v":{"$error":"#REF!"}},{"$f":"'1.Портфель кредитів'!E543","v":0},{"$f":"'1.Портфель кредитів'!R543","v":0},{"$f":"'1.Портфель кредитів'!T543","v":""},4,"2018-06-01","_4_43252_2"]
[{"$f":"'1.Портфель кредитів'!#REF!","v":{"$error":"#REF!"}},{"$f":"'1.Портфель кредитів'!D544","v":""},{"$f":"'1.Портфель кредитів'!#REF!","v":{"$error":"#REF!"}},{"$f":"'1.Портфель кредитів'!#REF!","v":{"$error":"#REF!"}},{"$f":"'1.Портфель кредитів'!#REF!","v":{"$error":"#REF!"}},{"$f":"'1.Портфель кредитів'!E544","v":0},{"$f":"'1.Портфель кредитів'!R544","v":0},{"$f":"'1.Портфель кредитів'!T544","v":""},4,"2018-06-01","_4_43252_2"]
[{"$f":"'1.Портфель кредитів'!#REF!","v":{"$error":"#REF!"}},{"$f":"'1.Портфель кредитів'!D545","v":""},{"$f":"'1.Портфель кредитів'!#REF!","v":{"$error":"#REF!"}},{"$f":"'1.Портфель кредитів'!#REF!","v":{"$error":"#REF!"}},{"$f":"'1.Портфель кредитів'!#REF!","v":{"$error":"#REF!"}},{"$f":"'1.Портфель кредитів'!E545","v":0},{"$f":"'1.Портфель кредитів'!R545","v":0},{"$f":"'1.Портфель кредитів'!T545","v":""},4,"2018-06-01","_4_43252_2"]
[{"$f":"'1.Портфель кредитів'!#REF!","v":{"$error":"#REF!"}},{"$f":"'1.Портфель кредитів'!D546","v":""},{"$f":"'1.Портфель кредитів'!#REF!","v":{"$error":"#REF!"}},{"$f":"'1.Портфель кредитів'!#REF!","v":{"$error":"#REF!"}},{"$f":"'1.Портфель кредитів'!#REF!","v":{"$error":"#REF!"}},{"$f":"'1.Портфель кредитів'!E546","v":0},{"$f":"'1.Портфель кредитів'!R546","v":0},{"$f":"'1.Портфель кредитів'!T546","v":""},4,"2018-06-01","_4_43252_2"]
[{"$f":"'1.Портфель кредитів'!#REF!","v":{"$error":"#REF!"}},{"$f":"'1.Портфель кредитів'!D547","v":""},{"$f":"'1.Портфель кредитів'!#REF!","v":{"$error":"#REF!"}},{"$f":"'1.Портфель кредитів'!#REF!","v":{"$error":"#REF!"}},{"$f":"'1.Портфель кредитів'!#REF!","v":{"$error":"#REF!"}},{"$f":"'1.Портфель кредитів'!E547","v":0},{"$f":"'1.Портфель кредитів'!R547","v":0},{"$f":"'1.Портфель кредитів'!T547","v":""},4,"2018-06-01","_4_43252_2"]
[{"$f":"'1.Портфель кредитів'!#REF!","v":{"$error":"#REF!"}},{"$f":"'1.Портфель кредитів'!D548","v":""},{"$f":"'1.Портфель кредитів'!#REF!","v":{"$error":"#REF!"}},{"$f":"'1.Портфель кредитів'!#REF!","v":{"$error":"#REF!"}},{"$f":"'1.Портфель кредитів'!#REF!","v":{"$error":"#REF!"}},{"$f":"'1.Портфель кредитів'!E548","v":0},{"$f":"'1.Портфель кредитів'!R548","v":0},{"$f":"'1.Портфель кредитів'!T548","v":""},4,"2018-06-01","_4_43252_2"]
[{"$f":"'1.Портфель кредитів'!#REF!","v":{"$error":"#REF!"}},{"$f":"'1.Портфель кредитів'!D549","v":""},{"$f":"'1.Портфель кредитів'!#REF!","v":{"$error":"#REF!"}},{"$f":"'1.Портфель кредитів'!#REF!","v":{"$error":"#REF!"}},{"$f":"'1.Портфель кредитів'!#REF!","v":{"$error":"#REF!"}},{"$f":"'1.Портфель кредитів'!E549","v":0},{"$f":"'1.Портфель кредитів'!R549","v":0},{"$f":"'1.Портфель кредитів'!T549","v":""},4,"2018-06-01","_4_43252_2"]
[{"$f":"'1.Портфель кредитів'!#REF!","v":{"$error":"#REF!"}},{"$f":"'1.Портфель кредитів'!D550","v":""},{"$f":"'1.Портфель кредитів'!#REF!","v":{"$error":"#REF!"}},{"$f":"'1.Портфель кредитів'!#REF!","v":{"$error":"#REF!"}},{"$f":"'1.Портфель кредитів'!#REF!","v":{"$error":"#REF!"}},{"$f":"'1.Портфель кредитів'!E550","v":0},{"$f":"'1.Портфель кредитів'!R550","v":0},{"$f":"'1.Портфель кредитів'!T550","v":""},4,"2018-06-01","_4_43252_2"]
[{"$f":"'1.Портфель кредитів'!#REF!","v":{"$error":"#REF!"}},{"$f":"'1.Портфель кредитів'!D551","v":""},{"$f":"'1.Портфель кредитів'!#REF!","v":{"$error":"#REF!"}},{"$f":"'1.Портфель кредитів'!#REF!","v":{"$error":"#REF!"}},{"$f":"'1.Портфель кредитів'!#REF!","v":{"$error":"#REF!"}},{"$f":"'1.Портфель кредитів'!E551","v":0},{"$f":"'1.Портфель кредитів'!R551","v":0},{"$f":"'1.Портфель кредитів'!T551","v":""},4,"2018-06-01","_4_43252_2"]
[{"$f":"'1.Портфель кредитів'!#REF!","v":{"$error":"#REF!"}},{"$f":"'1.Портфель кредитів'!D552","v":""},{"$f":"'1.Портфель кредитів'!#REF!","v":{"$error":"#REF!"}},{"$f":"'1.Портфель кредитів'!#REF!","v":{"$error":"#REF!"}},{"$f":"'1.Портфель кредитів'!#REF!","v":{"$error":"#REF!"}},{"$f":"'1.Портфель кредитів'!E552","v":0},{"$f":"'1.Портфель кредитів'!R552","v":0},{"$f":"'1.Портфель кредитів'!T552","v":""},4,"2018-06-01","_4_43252_2"]
[{"$f":"'1.Портфель кредитів'!#REF!","v":{"$error":"#REF!"}},{"$f":"'1.Портфель кредитів'!D553","v":""},{"$f":"'1.Портфель кредитів'!#REF!","v":{"$error":"#REF!"}},{"$f":"'1.Портфель кредитів'!#REF!","v":{"$error":"#REF!"}},{"$f":"'1.Портфель кредитів'!#REF!","v":{"$error":"#REF!"}},{"$f":"'1.Портфель кредитів'!E553","v":0},{"$f":"'1.Портфель кредитів'!R553","v":0},{"$f":"'1.Портфель кредитів'!T553","v":""},4,"2018-06-01","_4_43252_2"]
[{"$f":"'1.Портфель кредитів'!#REF!","v":{"$error":"#REF!"}},{"$f":"'1.Портфель кредитів'!D554","v":""},{"$f":"'1.Портфель кредитів'!#REF!","v":{"$error":"#REF!"}},{"$f":"'1.Портфель кредитів'!#REF!","v":{"$error":"#REF!"}},{"$f":"'1.Портфель кредитів'!#REF!","v":{"$error":"#REF!"}},{"$f":"'1.Портфель кредитів'!E554","v":0},{"$f":"'1.Портфель кредитів'!R554","v":0},{"$f":"'1.Портфель кредитів'!T554","v":""},4,"2018-06-01","_4_43252_2"]
[{"$f":"'1.Портфель кредитів'!#REF!","v":{"$error":"#REF!"}},{"$f":"'1.Портфель кредитів'!D555","v":""},{"$f":"'1.Портфель кредитів'!#REF!","v":{"$error":"#REF!"}},{"$f":"'1.Портфель кредитів'!#REF!","v":{"$error":"#REF!"}},{"$f":"'1.Портфель кредитів'!#REF!","v":{"$error":"#REF!"}},{"$f":"'1.Портфель кредитів'!E555","v":0},{"$f":"'1.Портфель кредитів'!R555","v":0},{"$f":"'1.Портфель кредитів'!T555","v":""},4,"2018-06-01","_4_43252_2"]
[{"$f":"'1.Портфель кредитів'!#REF!","v":{"$error":"#REF!"}},{"$f":"'1.Портфель кредитів'!D556","v":""},{"$f":"'1.Портфель кредитів'!#REF!","v":{"$error":"#REF!"}},{"$f":"'1.Портфель кредитів'!#REF!","v":{"$error":"#REF!"}},{"$f":"'1.Портфель кредитів'!#REF!","v":{"$error":"#REF!"}},{"$f":"'1.Портфель кредитів'!E556","v":0},{"$f":"'1.Портфель кредитів'!R556","v":0},{"$f":"'1.Портфель кредитів'!T556","v":""},4,"2018-06-01","_4_43252_2"]
[{"$f":"'1.Портфель кредитів'!#REF!","v":{"$error":"#REF!"}},{"$f":"'1.Портфель кредитів'!D557","v":""},{"$f":"'1.Портфель кредитів'!#REF!","v":{"$error":"#REF!"}},{"$f":"'1.Портфель кредитів'!#REF!","v":{"$error":"#REF!"}},{"$f":"'1.Портфель кредитів'!#REF!","v":{"$error":"#REF!"}},{"$f":"'1.Портфель кредитів'!E557","v":0},{"$f":"'1.Портфель кредитів'!R557","v":0},{"$f":"'1.Портфель кредитів'!T557","v":""},4,"2018-06-01","_4_43252_2"]
[{"$f":"'1.Портфель кредитів'!#REF!","v":{"$error":"#REF!"}},{"$f":"'1.Портфель кредитів'!D558","v":""},{"$f":"'1.Портфель кредитів'!#REF!","v":{"$error":"#REF!"}},{"$f":"'1.Портфель кредитів'!#REF!","v":{"$error":"#REF!"}},{"$f":"'1.Портфель кредитів'!#REF!","v":{"$error":"#REF!"}},{"$f":"'1.Портфель кредитів'!E558","v":0},{"$f":"'1.Портфель кредитів'!R558","v":0},{"$f":"'1.Портфель кредитів'!T558","v":""},4,"2018-06-01","_4_43252_2"]
[{"$f":"'1.Портфель кредитів'!#REF!","v":{"$error":"#REF!"}},{"$f":"'1.Портфель кредитів'!D559","v":""},{"$f":"'1.Портфель кредитів'!#REF!","v":{"$error":"#REF!"}},{"$f":"'1.Портфель кредитів'!#REF!","v":{"$error":"#REF!"}},{"$f":"'1.Портфель кредитів'!#REF!","v":{"$error":"#REF!"}},{"$f":"'1.Портфель кредитів'!E559","v":0},{"$f":"'1.Портфель кредитів'!R559","v":0},{"$f":"'1.Портфель кредитів'!T559","v":""},4,"2018-06-01","_4_43252_2"]
[{"$f":"'1.Портфель кредитів'!#REF!","v":{"$error":"#REF!"}},{"$f":"'1.Портфель кредитів'!D560","v":""},{"$f":"'1.Портфель кредитів'!#REF!","v":{"$error":"#REF!"}},{"$f":"'1.Портфель кредитів'!#REF!","v":{"$error":"#REF!"}},{"$f":"'1.Портфель кредитів'!#REF!","v":{"$error":"#REF!"}},{"$f":"'1.Портфель кредитів'!E560","v":0},{"$f":"'1.Портфель кредитів'!R560","v":0},{"$f":"'1.Портфель кредитів'!T560","v":""},4,"2018-06-01","_4_43252_2"]
[{"$f":"'1.Портфель кредитів'!#REF!","v":{"$error":"#REF!"}},{"$f":"'1.Портфель кредитів'!D561","v":""},{"$f":"'1.Портфель кредитів'!#REF!","v":{"$error":"#REF!"}},{"$f":"'1.Портфель кредитів'!#REF!","v":{"$error":"#REF!"}},{"$f":"'1.Портфель кредитів'!#REF!","v":{"$error":"#REF!"}},{"$f":"'1.Портфель кредитів'!E561","v":0},{"$f":"'1.Портфель кредитів'!R561","v":0},{"$f":"'1.Портфель кредитів'!T561","v":""},4,"2018-06-01","_4_43252_2"]
[{"$f":"'1.Портфель кредитів'!#REF!","v":{"$error":"#REF!"}},{"$f":"'1.Портфель кредитів'!D562","v":""},{"$f":"'1.Портфель кредитів'!#REF!","v":{"$error":"#REF!"}},{"$f":"'1.Портфель кредитів'!#REF!","v":{"$error":"#REF!"}},{"$f":"'1.Портфель кредитів'!#REF!","v":{"$error":"#REF!"}},{"$f":"'1.Портфель кредитів'!E562","v":0},{"$f":"'1.Портфель кредитів'!R562","v":0},{"$f":"'1.Портфель кредитів'!T562","v":""},4,"2018-06-01","_4_43252_2"]
[{"$f":"'1.Портфель кредитів'!#REF!","v":{"$error":"#REF!"}},{"$f":"'1.Портфель кредитів'!D563","v":""},{"$f":"'1.Портфель кредитів'!#REF!","v":{"$error":"#REF!"}},{"$f":"'1.Портфель кредитів'!#REF!","v":{"$error":"#REF!"}},{"$f":"'1.Портфель кредитів'!#REF!","v":{"$error":"#REF!"}},{"$f":"'1.Портфель кредитів'!E563","v":0},{"$f":"'1.Портфель кредитів'!R563","v":0},{"$f":"'1.Портфель кредитів'!T563","v":""},4,"2018-06-01","_4_43252_2"]
[{"$f":"'1.Портфель кредитів'!#REF!","v":{"$error":"#REF!"}},{"$f":"'1.Портфель кредитів'!D564","v":""},{"$f":"'1.Портфель кредитів'!#REF!","v":{"$error":"#REF!"}},{"$f":"'1.Портфель кредитів'!#REF!","v":{"$error":"#REF!"}},{"$f":"'1.Портфель кредитів'!#REF!","v":{"$error":"#REF!"}},{"$f":"'1.Портфель кредитів'!E564","v":0},{"$f":"'1.Портфель кредитів'!R564","v":0},{"$f":"'1.Портфель кредитів'!T564","v":""},4,"2018-06-01","_4_43252_2"]
[{"$f":"'1.Портфель кредитів'!#REF!","v":{"$error":"#REF!"}},{"$f":"'1.Портфель кредитів'!D565","v":""},{"$f":"'1.Портфель кредитів'!#REF!","v":{"$error":"#REF!"}},{"$f":"'1.Портфель кредитів'!#REF!","v":{"$error":"#REF!"}},{"$f":"'1.Портфель кредитів'!#REF!","v":{"$error":"#REF!"}},{"$f":"'1.Портфель кредитів'!E565","v":0},{"$f":"'1.Портфель кредитів'!R565","v":0},{"$f":"'1.Портфель кредитів'!T565","v":""},4,"2018-06-01","_4_43252_2"]
[{"$f":"'1.Портфель кредитів'!#REF!","v":{"$error":"#REF!"}},{"$f":"'1.Портфель кредитів'!D566","v":""},{"$f":"'1.Портфель кредитів'!#REF!","v":{"$error":"#REF!"}},{"$f":"'1.Портфель кредитів'!#REF!","v":{"$error":"#REF!"}},{"$f":"'1.Портфель кредитів'!#REF!","v":{"$error":"#REF!"}},{"$f":"'1.Портфель кредитів'!E566","v":0},{"$f":"'1.Портфель кредитів'!R566","v":0},{"$f":"'1.Портфель кредитів'!T566","v":""},4,"2018-06-01","_4_43252_2"]
[{"$f":"'1.Портфель кредитів'!#REF!","v":{"$error":"#REF!"}},{"$f":"'1.Портфель кредитів'!D567","v":""},{"$f":"'1.Портфель кредитів'!#REF!","v":{"$error":"#REF!"}},{"$f":"'1.Портфель кредитів'!#REF!","v":{"$error":"#REF!"}},{"$f":"'1.Портфель кредитів'!#REF!","v":{"$error":"#REF!"}},{"$f":"'1.Портфель кредитів'!E567","v":0},{"$f":"'1.Портфель кредитів'!R567","v":0},{"$f":"'1.Портфель кредитів'!T567","v":""},4,"2018-06-01","_4_43252_2"]
[{"$f":"'1.Портфель кредитів'!#REF!","v":{"$error":"#REF!"}},{"$f":"'1.Портфель кредитів'!D568","v":""},{"$f":"'1.Портфель кредитів'!#REF!","v":{"$error":"#REF!"}},{"$f":"'1.Портфель кредитів'!#REF!","v":{"$error":"#REF!"}},{"$f":"'1.Портфель кредитів'!#REF!","v":{"$error":"#REF!"}},{"$f":"'1.Портфель кредитів'!E568","v":0},{"$f":"'1.Портфель кредитів'!R568","v":0},{"$f":"'1.Портфель кредитів'!T568","v":""},4,"2018-06-01","_4_43252_2"]
[{"$f":"'1.Портфель кредитів'!#REF!","v":{"$error":"#REF!"}},{"$f":"'1.Портфель кредитів'!D569","v":""},{"$f":"'1.Портфель кредитів'!#REF!","v":{"$error":"#REF!"}},{"$f":"'1.Портфель кредитів'!#REF!","v":{"$error":"#REF!"}},{"$f":"'1.Портфель кредитів'!#REF!","v":{"$error":"#REF!"}},{"$f":"'1.Портфель кредитів'!E569","v":0},{"$f":"'1.Портфель кредитів'!R569","v":0},{"$f":"'1.Портфель кредитів'!T569","v":""},4,"2018-06-01","_4_43252_2"]
[{"$f":"'1.Портфель кредитів'!#REF!","v":{"$error":"#REF!"}},{"$f":"'1.Портфель кредитів'!D570","v":""},{"$f":"'1.Портфель кредитів'!#REF!","v":{"$error":"#REF!"}},{"$f":"'1.Портфель кредитів'!#REF!","v":{"$error":"#REF!"}},{"$f":"'1.Портфель кредитів'!#REF!","v":{"$error":"#REF!"}},{"$f":"'1.Портфель кредитів'!E570","v":0},{"$f":"'1.Портфель кредитів'!R570","v":0},{"$f":"'1.Портфель кредитів'!T570","v":""},4,"2018-06-01","_4_43252_2"]
[{"$f":"'1.Портфель кредитів'!#REF!","v":{"$error":"#REF!"}},{"$f":"'1.Портфель кредитів'!D571","v":""},{"$f":"'1.Портфель кредитів'!#REF!","v":{"$error":"#REF!"}},{"$f":"'1.Портфель кредитів'!#REF!","v":{"$error":"#REF!"}},{"$f":"'1.Портфель кредитів'!#REF!","v":{"$error":"#REF!"}},{"$f":"'1.Портфель кредитів'!E571","v":0},{"$f":"'1.Портфель кредитів'!R571","v":0},{"$f":"'1.Портфель кредитів'!T571","v":""},4,"2018-06-01","_4_43252_2"]
[{"$f":"'1.Портфель кредитів'!#REF!","v":{"$error":"#REF!"}},{"$f":"'1.Портфель кредитів'!D572","v":""},{"$f":"'1.Портфель кредитів'!#REF!","v":{"$error":"#REF!"}},{"$f":"'1.Портфель кредитів'!#REF!","v":{"$error":"#REF!"}},{"$f":"'1.Портфель кредитів'!#REF!","v":{"$error":"#REF!"}},{"$f":"'1.Портфель кредитів'!E572","v":0},{"$f":"'1.Портфель кредитів'!R572","v":0},{"$f":"'1.Портфель кредитів'!T572","v":""},4,"2018-06-01","_4_43252_2"]
[{"$f":"'1.Портфель кредитів'!#REF!","v":{"$error":"#REF!"}},{"$f":"'1.Портфель кредитів'!D573","v":""},{"$f":"'1.Портфель кредитів'!#REF!","v":{"$error":"#REF!"}},{"$f":"'1.Портфель кредитів'!#REF!","v":{"$error":"#REF!"}},{"$f":"'1.Портфель кредитів'!#REF!","v":{"$error":"#REF!"}},{"$f":"'1.Портфель кредитів'!E573","v":0},{"$f":"'1.Портфель кредитів'!R573","v":0},{"$f":"'1.Портфель кредитів'!T573","v":""},4,"2018-06-01","_4_43252_2"]
[{"$f":"'1.Портфель кредитів'!#REF!","v":{"$error":"#REF!"}},{"$f":"'1.Портфель кредитів'!D574","v":""},{"$f":"'1.Портфель кредитів'!#REF!","v":{"$error":"#REF!"}},{"$f":"'1.Портфель кредитів'!#REF!","v":{"$error":"#REF!"}},{"$f":"'1.Портфель кредитів'!#REF!","v":{"$error":"#REF!"}},{"$f":"'1.Портфель кредитів'!E574","v":0},{"$f":"'1.Портфель кредитів'!R574","v":0},{"$f":"'1.Портфель кредитів'!T574","v":""},4,"2018-06-01","_4_43252_2"]
[{"$f":"'1.Портфель кредитів'!#REF!","v":{"$error":"#REF!"}},{"$f":"'1.Портфель кредитів'!D575","v":""},{"$f":"'1.Портфель кредитів'!#REF!","v":{"$error":"#REF!"}},{"$f":"'1.Портфель кредитів'!#REF!","v":{"$error":"#REF!"}},{"$f":"'1.Портфель кредитів'!#REF!","v":{"$error":"#REF!"}},{"$f":"'1.Портфель кредитів'!E575","v":0},{"$f":"'1.Портфель кредитів'!R575","v":0},{"$f":"'1.Портфель кредитів'!T575","v":""},4,"2018-06-01","_4_43252_2"]
[{"$f":"'1.Портфель кредитів'!#REF!","v":{"$error":"#REF!"}},{"$f":"'1.Портфель кредитів'!D576","v":""},{"$f":"'1.Портфель кредитів'!#REF!","v":{"$error":"#REF!"}},{"$f":"'1.Портфель кредитів'!#REF!","v":{"$error":"#REF!"}},{"$f":"'1.Портфель кредитів'!#REF!","v":{"$error":"#REF!"}},{"$f":"'1.Портфель кредитів'!E576","v":0},{"$f":"'1.Портфель кредитів'!R576","v":0},{"$f":"'1.Портфель кредитів'!T576","v":""},4,"2018-06-01","_4_43252_2"]
[{"$f":"'1.Портфель кредитів'!#REF!","v":{"$error":"#REF!"}},{"$f":"'1.Портфель кредитів'!D577","v":""},{"$f":"'1.Портфель кредитів'!#REF!","v":{"$error":"#REF!"}},{"$f":"'1.Портфель кредитів'!#REF!","v":{"$error":"#REF!"}},{"$f":"'1.Портфель кредитів'!#REF!","v":{"$error":"#REF!"}},{"$f":"'1.Портфель кредитів'!E577","v":0},{"$f":"'1.Портфель кредитів'!R577","v":0},{"$f":"'1.Портфель кредитів'!T577","v":""},4,"2018-06-01","_4_43252_2"]
[{"$f":"'1.Портфель кредитів'!#REF!","v":{"$error":"#REF!"}},{"$f":"'1.Портфель кредитів'!D578","v":""},{"$f":"'1.Портфель кредитів'!#REF!","v":{"$error":"#REF!"}},{"$f":"'1.Портфель кредитів'!#REF!","v":{"$error":"#REF!"}},{"$f":"'1.Портфель кредитів'!#REF!","v":{"$error":"#REF!"}},{"$f":"'1.Портфель кредитів'!E578","v":0},{"$f":"'1.Портфель кредитів'!R578","v":0},{"$f":"'1.Портфель кредитів'!T578","v":""},4,"2018-06-01","_4_43252_2"]
[{"$f":"'1.Портфель кредитів'!#REF!","v":{"$error":"#REF!"}},{"$f":"'1.Портфель кредитів'!D579","v":""},{"$f":"'1.Портфель кредитів'!#REF!","v":{"$error":"#REF!"}},{"$f":"'1.Портфель кредитів'!#REF!","v":{"$error":"#REF!"}},{"$f":"'1.Портфель кредитів'!#REF!","v":{"$error":"#REF!"}},{"$f":"'1.Портфель кредитів'!E579","v":0},{"$f":"'1.Портфель кредитів'!R579","v":0},{"$f":"'1.Портфель кредитів'!T579","v":""},{"$f":"$E$1","v":4},{"$f":"$E$2","v":"2018-06-01"},{"$f":"B582&\"_\"&I582&\"_\"&J582&\"_\"&$E$3","v":"_4_43252_2"}]
[{"$f":"'1.Портфель кредитів'!#REF!","v":{"$error":"#REF!"}},{"$f":"'1.Портфель кредитів'!D580","v":""},{"$f":"'1.Портфель кредитів'!#REF!","v":{"$error":"#REF!"}},{"$f":"'1.Портфель кредитів'!#REF!","v":{"$error":"#REF!"}},{"$f":"'1.Портфель кредитів'!#REF!","v":{"$error":"#REF!"}},{"$f":"'1.Портфель кредитів'!E580","v":0},{"$f":"'1.Портфель кредитів'!R580","v":0},{"$f":"'1.Портфель кредитів'!T580","v":""},4,"2018-06-01","_4_43252_2"]
[{"$f":"'1.Портфель кредитів'!#REF!","v":{"$error":"#REF!"}},{"$f":"'1.Портфель кредитів'!D581","v":""},{"$f":"'1.Портфель кредитів'!#REF!","v":{"$error":"#REF!"}},{"$f":"'1.Портфель кредитів'!#REF!","v":{"$error":"#REF!"}},{"$f":"'1.Портфель кредитів'!#REF!","v":{"$error":"#REF!"}},{"$f":"'1.Портфель кредитів'!E581","v":0},{"$f":"'1.Портфель кредитів'!R581","v":0},{"$f":"'1.Портфель кредитів'!T581","v":""},4,"2018-06-01","_4_43252_2"]
[{"$f":"'1.Портфель кредитів'!#REF!","v":{"$error":"#REF!"}},{"$f":"'1.Портфель кредитів'!D582","v":""},{"$f":"'1.Портфель кредитів'!#REF!","v":{"$error":"#REF!"}},{"$f":"'1.Портфель кредитів'!#REF!","v":{"$error":"#REF!"}},{"$f":"'1.Портфель кредитів'!#REF!","v":{"$error":"#REF!"}},{"$f":"'1.Портфель кредитів'!E582","v":0},{"$f":"'1.Портфель кредитів'!R582","v":0},{"$f":"'1.Портфель кредитів'!T582","v":""},4,"2018-06-01","_4_43252_2"]
[{"$f":"'1.Портфель кредитів'!#REF!","v":{"$error":"#REF!"}},{"$f":"'1.Портфель кредитів'!D583","v":""},{"$f":"'1.Портфель кредитів'!#REF!","v":{"$error":"#REF!"}},{"$f":"'1.Портфель кредитів'!#REF!","v":{"$error":"#REF!"}},{"$f":"'1.Портфель кредитів'!#REF!","v":{"$error":"#REF!"}},{"$f":"'1.Портфель кредитів'!E583","v":0},{"$f":"'1.Портфель кредитів'!R583","v":0},{"$f":"'1.Портфель кредитів'!T583","v":""},4,"2018-06-01","_4_43252_2"]
[{"$f":"'1.Портфель кредитів'!#REF!","v":{"$error":"#REF!"}},{"$f":"'1.Портфель кредитів'!D584","v":""},{"$f":"'1.Портфель кредитів'!#REF!","v":{"$error":"#REF!"}},{"$f":"'1.Портфель кредитів'!#REF!","v":{"$error":"#REF!"}},{"$f":"'1.Портфель кредитів'!#REF!","v":{"$error":"#REF!"}},{"$f":"'1.Портфель кредитів'!E584","v":0},{"$f":"'1.Портфель кредитів'!R584","v":0},{"$f":"'1.Портфель кредитів'!T584","v":""},4,"2018-06-01","_4_43252_2"]
[{"$f":"'1.Портфель кредитів'!#REF!","v":{"$error":"#REF!"}},{"$f":"'1.Портфель кредитів'!D585","v":""},{"$f":"'1.Портфель кредитів'!#REF!","v":{"$error":"#REF!"}},{"$f":"'1.Портфель кредитів'!#REF!","v":{"$error":"#REF!"}},{"$f":"'1.Портфель кредитів'!#REF!","v":{"$error":"#REF!"}},{"$f":"'1.Портфель кредитів'!E585","v":0},{"$f":"'1.Портфель кредитів'!R585","v":0},{"$f":"'1.Портфель кредитів'!T585","v":""},4,"2018-06-01","_4_43252_2"]
[{"$f":"'1.Портфель кредитів'!#REF!","v":{"$error":"#REF!"}},{"$f":"'1.Портфель кредитів'!D586","v":""},{"$f":"'1.Портфель кредитів'!#REF!","v":{"$error":"#REF!"}},{"$f":"'1.Портфель кредитів'!#REF!","v":{"$error":"#REF!"}},{"$f":"'1.Портфель кредитів'!#REF!","v":{"$error":"#REF!"}},{"$f":"'1.Портфель кредитів'!E586","v":0},{"$f":"'1.Портфель кредитів'!R586","v":0},{"$f":"'1.Портфель кредитів'!T586","v":""},4,"2018-06-01","_4_43252_2"]
[{"$f":"'1.Портфель кредитів'!#REF!","v":{"$error":"#REF!"}},{"$f":"'1.Портфель кредитів'!D587","v":""},{"$f":"'1.Портфель кредитів'!#REF!","v":{"$error":"#REF!"}},{"$f":"'1.Портфель кредитів'!#REF!","v":{"$error":"#REF!"}},{"$f":"'1.Портфель кредитів'!#REF!","v":{"$error":"#REF!"}},{"$f":"'1.Портфель кредитів'!E587","v":0},{"$f":"'1.Портфель кредитів'!R587","v":0},{"$f":"'1.Портфель кредитів'!T587","v":""},4,"2018-06-01","_4_43252_2"]
[{"$f":"'1.Портфель кредитів'!#REF!","v":{"$error":"#REF!"}},{"$f":"'1.Портфель кредитів'!D588","v":""},{"$f":"'1.Портфель кредитів'!#REF!","v":{"$error":"#REF!"}},{"$f":"'1.Портфель кредитів'!#REF!","v":{"$error":"#REF!"}},{"$f":"'1.Портфель кредитів'!#REF!","v":{"$error":"#REF!"}},{"$f":"'1.Портфель кредитів'!E588","v":0},{"$f":"'1.Портфель кредитів'!R588","v":0},{"$f":"'1.Портфель кредитів'!T588","v":""},4,"2018-06-01","_4_43252_2"]
[{"$f":"'1.Портфель кредитів'!#REF!","v":{"$error":"#REF!"}},{"$f":"'1.Портфель кредитів'!D589","v":""},{"$f":"'1.Портфель кредитів'!#REF!","v":{"$error":"#REF!"}},{"$f":"'1.Портфель кредитів'!#REF!","v":{"$error":"#REF!"}},{"$f":"'1.Портфель кредитів'!#REF!","v":{"$error":"#REF!"}},{"$f":"'1.Портфель кредитів'!E589","v":0},{"$f":"'1.Портфель кредитів'!R589","v":0},{"$f":"'1.Портфель кредитів'!T589","v":""},4,"2018-06-01","_4_43252_2"]
[{"$f":"'1.Портфель кредитів'!#REF!","v":{"$error":"#REF!"}},{"$f":"'1.Портфель кредитів'!D590","v":""},{"$f":"'1.Портфель кредитів'!#REF!","v":{"$error":"#REF!"}},{"$f":"'1.Портфель кредитів'!#REF!","v":{"$error":"#REF!"}},{"$f":"'1.Портфель кредитів'!#REF!","v":{"$error":"#REF!"}},{"$f":"'1.Портфель кредитів'!E590","v":0},{"$f":"'1.Портфель кредитів'!R590","v":0},{"$f":"'1.Портфель кредитів'!T590","v":""},4,"2018-06-01","_4_43252_2"]
[{"$f":"'1.Портфель кредитів'!#REF!","v":{"$error":"#REF!"}},{"$f":"'1.Портфель кредитів'!D591","v":""},{"$f":"'1.Портфель кредитів'!#REF!","v":{"$error":"#REF!"}},{"$f":"'1.Портфель кредитів'!#REF!","v":{"$error":"#REF!"}},{"$f":"'1.Портфель кредитів'!#REF!","v":{"$error":"#REF!"}},{"$f":"'1.Портфель кредитів'!E591","v":0},{"$f":"'1.Портфель кредитів'!R591","v":0},{"$f":"'1.Портфель кредитів'!T591","v":""},4,"2018-06-01","_4_43252_2"]
[{"$f":"'1.Портфель кредитів'!#REF!","v":{"$error":"#REF!"}},{"$f":"'1.Портфель кредитів'!D592","v":""},{"$f":"'1.Портфель кредитів'!#REF!","v":{"$error":"#REF!"}},{"$f":"'1.Портфель кредитів'!#REF!","v":{"$error":"#REF!"}},{"$f":"'1.Портфель кредитів'!#REF!","v":{"$error":"#REF!"}},{"$f":"'1.Портфель кредитів'!E592","v":0},{"$f":"'1.Портфель кредитів'!R592","v":0},{"$f":"'1.Портфель кредитів'!T592","v":""},4,"2018-06-01","_4_43252_2"]
[{"$f":"'1.Портфель кредитів'!#REF!","v":{"$error":"#REF!"}},{"$f":"'1.Портфель кредитів'!D593","v":""},{"$f":"'1.Портфель кредитів'!#REF!","v":{"$error":"#REF!"}},{"$f":"'1.Портфель кредитів'!#REF!","v":{"$error":"#REF!"}},{"$f":"'1.Портфель кредитів'!#REF!","v":{"$error":"#REF!"}},{"$f":"'1.Портфель кредитів'!E593","v":0},{"$f":"'1.Портфель кредитів'!R593","v":0},{"$f":"'1.Портфель кредитів'!T593","v":""},4,"2018-06-01","_4_43252_2"]
[{"$f":"'1.Портфель кредитів'!#REF!","v":{"$error":"#REF!"}},{"$f":"'1.Портфель кредитів'!D594","v":""},{"$f":"'1.Портфель кредитів'!#REF!","v":{"$error":"#REF!"}},{"$f":"'1.Портфель кредитів'!#REF!","v":{"$error":"#REF!"}},{"$f":"'1.Портфель кредитів'!#REF!","v":{"$error":"#REF!"}},{"$f":"'1.Портфель кредитів'!E594","v":0},{"$f":"'1.Портфель кредитів'!R594","v":0},{"$f":"'1.Портфель кредитів'!T594","v":""},4,"2018-06-01","_4_43252_2"]
[{"$f":"'1.Портфель кредитів'!#REF!","v":{"$error":"#REF!"}},{"$f":"'1.Портфель кредитів'!D595","v":""},{"$f":"'1.Портфель кредитів'!#REF!","v":{"$error":"#REF!"}},{"$f":"'1.Портфель кредитів'!#REF!","v":{"$error":"#REF!"}},{"$f":"'1.Портфель кредитів'!#REF!","v":{"$error":"#REF!"}},{"$f":"'1.Портфель кредитів'!E595","v":0},{"$f":"'1.Портфель кредитів'!R595","v":0},{"$f":"'1.Портфель кредитів'!T595","v":""},4,"2018-06-01","_4_43252_2"]
[{"$f":"'1.Портфель кредитів'!#REF!","v":{"$error":"#REF!"}},{"$f":"'1.Портфель кредитів'!D596","v":""},{"$f":"'1.Портфель кредитів'!#REF!","v":{"$error":"#REF!"}},{"$f":"'1.Портфель кредитів'!#REF!","v":{"$error":"#REF!"}},{"$f":"'1.Портфель кредитів'!#REF!","v":{"$error":"#REF!"}},{"$f":"'1.Портфель кредитів'!E596","v":0},{"$f":"'1.Портфель кредитів'!R596","v":0},{"$f":"'1.Портфель кредитів'!T596","v":""},4,"2018-06-01","_4_43252_2"]
[{"$f":"'1.Портфель кредитів'!#REF!","v":{"$error":"#REF!"}},{"$f":"'1.Портфель кредитів'!D597","v":""},{"$f":"'1.Портфель кредитів'!#REF!","v":{"$error":"#REF!"}},{"$f":"'1.Портфель кредитів'!#REF!","v":{"$error":"#REF!"}},{"$f":"'1.Портфель кредитів'!#REF!","v":{"$error":"#REF!"}},{"$f":"'1.Портфель кредитів'!E597","v":0},{"$f":"'1.Портфель кредитів'!R597","v":0},{"$f":"'1.Портфель кредитів'!T597","v":""},4,"2018-06-01","_4_43252_2"]
[{"$f":"'1.Портфель кредитів'!#REF!","v":{"$error":"#REF!"}},{"$f":"'1.Портфель кредитів'!D598","v":""},{"$f":"'1.Портфель кредитів'!#REF!","v":{"$error":"#REF!"}},{"$f":"'1.Портфель кредитів'!#REF!","v":{"$error":"#REF!"}},{"$f":"'1.Портфель кредитів'!#REF!","v":{"$error":"#REF!"}},{"$f":"'1.Портфель кредитів'!E598","v":0},{"$f":"'1.Портфель кредитів'!R598","v":0},{"$f":"'1.Портфель кредитів'!T598","v":""},4,"2018-06-01","_4_43252_2"]
[{"$f":"'1.Портфель кредитів'!#REF!","v":{"$error":"#REF!"}},{"$f":"'1.Портфель кредитів'!D599","v":""},{"$f":"'1.Портфель кредитів'!#REF!","v":{"$error":"#REF!"}},{"$f":"'1.Портфель кредитів'!#REF!","v":{"$error":"#REF!"}},{"$f":"'1.Портфель кредитів'!#REF!","v":{"$error":"#REF!"}},{"$f":"'1.Портфель кредитів'!E599","v":0},{"$f":"'1.Портфель кредитів'!R599","v":0},{"$f":"'1.Портфель кредитів'!T599","v":""},4,"2018-06-01","_4_43252_2"]
[{"$f":"'1.Портфель кредитів'!#REF!","v":{"$error":"#REF!"}},{"$f":"'1.Портфель кредитів'!D600","v":""},{"$f":"'1.Портфель кредитів'!#REF!","v":{"$error":"#REF!"}},{"$f":"'1.Портфель кредитів'!#REF!","v":{"$error":"#REF!"}},{"$f":"'1.Портфель кредитів'!#REF!","v":{"$error":"#REF!"}},{"$f":"'1.Портфель кредитів'!E600","v":0},{"$f":"'1.Портфель кредитів'!R600","v":0},{"$f":"'1.Портфель кредитів'!T600","v":""},4,"2018-06-01","_4_43252_2"]
[{"$f":"'1.Портфель кредитів'!#REF!","v":{"$error":"#REF!"}},{"$f":"'1.Портфель кредитів'!D601","v":""},{"$f":"'1.Портфель кредитів'!#REF!","v":{"$error":"#REF!"}},{"$f":"'1.Портфель кредитів'!#REF!","v":{"$error":"#REF!"}},{"$f":"'1.Портфель кредитів'!#REF!","v":{"$error":"#REF!"}},{"$f":"'1.Портфель кредитів'!E601","v":0},{"$f":"'1.Портфель кредитів'!R601","v":0},{"$f":"'1.Портфель кредитів'!T601","v":""},4,"2018-06-01","_4_43252_2"]
[{"$f":"'1.Портфель кредитів'!#REF!","v":{"$error":"#REF!"}},{"$f":"'1.Портфель кредитів'!D602","v":""},{"$f":"'1.Портфель кредитів'!#REF!","v":{"$error":"#REF!"}},{"$f":"'1.Портфель кредитів'!#REF!","v":{"$error":"#REF!"}},{"$f":"'1.Портфель кредитів'!#REF!","v":{"$error":"#REF!"}},{"$f":"'1.Портфель кредитів'!E602","v":0},{"$f":"'1.Портфель кредитів'!R602","v":0},{"$f":"'1.Портфель кредитів'!T602","v":""},4,"2018-06-01","_4_43252_2"]
[{"$f":"'1.Портфель кредитів'!#REF!","v":{"$error":"#REF!"}},{"$f":"'1.Портфель кредитів'!D603","v":""},{"$f":"'1.Портфель кредитів'!#REF!","v":{"$error":"#REF!"}},{"$f":"'1.Портфель кредитів'!#REF!","v":{"$error":"#REF!"}},{"$f":"'1.Портфель кредитів'!#REF!","v":{"$error":"#REF!"}},{"$f":"'1.Портфель кредитів'!E603","v":0},{"$f":"'1.Портфель кредитів'!R603","v":0},{"$f":"'1.Портфель кредитів'!T603","v":""},4,"2018-06-01","_4_43252_2"]
[{"$f":"'1.Портфель кредитів'!#REF!","v":{"$error":"#REF!"}},{"$f":"'1.Портфель кредитів'!D604","v":""},{"$f":"'1.Портфель кредитів'!#REF!","v":{"$error":"#REF!"}},{"$f":"'1.Портфель кредитів'!#REF!","v":{"$error":"#REF!"}},{"$f":"'1.Портфель кредитів'!#REF!","v":{"$error":"#REF!"}},{"$f":"'1.Портфель кредитів'!E604","v":0},{"$f":"'1.Портфель кредитів'!R604","v":0},{"$f":"'1.Портфель кредитів'!T604","v":""},4,"2018-06-01","_4_43252_2"]
[{"$f":"'1.Портфель кредитів'!#REF!","v":{"$error":"#REF!"}},{"$f":"'1.Портфель кредитів'!D605","v":""},{"$f":"'1.Портфель кредитів'!#REF!","v":{"$error":"#REF!"}},{"$f":"'1.Портфель кредитів'!#REF!","v":{"$error":"#REF!"}},{"$f":"'1.Портфель кредитів'!#REF!","v":{"$error":"#REF!"}},{"$f":"'1.Портфель кредитів'!E605","v":0},{"$f":"'1.Портфель кредитів'!R605","v":0},{"$f":"'1.Портфель кредитів'!T605","v":""},4,"2018-06-01","_4_43252_2"]
[{"$f":"'1.Портфель кредитів'!#REF!","v":{"$error":"#REF!"}},{"$f":"'1.Портфель кредитів'!D606","v":""},{"$f":"'1.Портфель кредитів'!#REF!","v":{"$error":"#REF!"}},{"$f":"'1.Портфель кредитів'!#REF!","v":{"$error":"#REF!"}},{"$f":"'1.Портфель кредитів'!#REF!","v":{"$error":"#REF!"}},{"$f":"'1.Портфель кредитів'!E606","v":0},{"$f":"'1.Портфель кредитів'!R606","v":0},{"$f":"'1.Портфель кредитів'!T606","v":""},4,"2018-06-01","_4_43252_2"]
[{"$f":"'1.Портфель кредитів'!#REF!","v":{"$error":"#REF!"}},{"$f":"'1.Портфель кредитів'!D607","v":""},{"$f":"'1.Портфель кредитів'!#REF!","v":{"$error":"#REF!"}},{"$f":"'1.Портфель кредитів'!#REF!","v":{"$error":"#REF!"}},{"$f":"'1.Портфель кредитів'!#REF!","v":{"$error":"#REF!"}},{"$f":"'1.Портфель кредитів'!E607","v":0},{"$f":"'1.Портфель кредитів'!R607","v":0},{"$f":"'1.Портфель кредитів'!T607","v":""},4,"2018-06-01","_4_43252_2"]
[{"$f":"'1.Портфель кредитів'!#REF!","v":{"$error":"#REF!"}},{"$f":"'1.Портфель кредитів'!D608","v":""},{"$f":"'1.Портфель кредитів'!#REF!","v":{"$error":"#REF!"}},{"$f":"'1.Портфель кредитів'!#REF!","v":{"$error":"#REF!"}},{"$f":"'1.Портфель кредитів'!#REF!","v":{"$error":"#REF!"}},{"$f":"'1.Портфель кредитів'!E608","v":0},{"$f":"'1.Портфель кредитів'!R608","v":0},{"$f":"'1.Портфель кредитів'!T608","v":""},4,"2018-06-01","_4_43252_2"]
[{"$f":"'1.Портфель кредитів'!#REF!","v":{"$error":"#REF!"}},{"$f":"'1.Портфель кредитів'!D609","v":""},{"$f":"'1.Портфель кредитів'!#REF!","v":{"$error":"#REF!"}},{"$f":"'1.Портфель кредитів'!#REF!","v":{"$error":"#REF!"}},{"$f":"'1.Портфель кредитів'!#REF!","v":{"$error":"#REF!"}},{"$f":"'1.Портфель кредитів'!E609","v":0},{"$f":"'1.Портфель кредитів'!R609","v":0},{"$f":"'1.Портфель кредитів'!T609","v":""},4,"2018-06-01","_4_43252_2"]
[{"$f":"'1.Портфель кредитів'!#REF!","v":{"$error":"#REF!"}},{"$f":"'1.Портфель кредитів'!D610","v":""},{"$f":"'1.Портфель кредитів'!#REF!","v":{"$error":"#REF!"}},{"$f":"'1.Портфель кредитів'!#REF!","v":{"$error":"#REF!"}},{"$f":"'1.Портфель кредитів'!#REF!","v":{"$error":"#REF!"}},{"$f":"'1.Портфель кредитів'!E610","v":0},{"$f":"'1.Портфель кредитів'!R610","v":0},{"$f":"'1.Портфель кредитів'!T610","v":""},4,"2018-06-01","_4_43252_2"]
[{"$f":"'1.Портфель кредитів'!#REF!","v":{"$error":"#REF!"}},{"$f":"'1.Портфель кредитів'!D611","v":""},{"$f":"'1.Портфель кредитів'!#REF!","v":{"$error":"#REF!"}},{"$f":"'1.Портфель кредитів'!#REF!","v":{"$error":"#REF!"}},{"$f":"'1.Портфель кредитів'!#REF!","v":{"$error":"#REF!"}},{"$f":"'1.Портфель кредитів'!E611","v":0},{"$f":"'1.Портфель кредитів'!R611","v":0},{"$f":"'1.Портфель кредитів'!T611","v":""},4,"2018-06-01","_4_43252_2"]
[{"$f":"'1.Портфель кредитів'!#REF!","v":{"$error":"#REF!"}},{"$f":"'1.Портфель кредитів'!D612","v":""},{"$f":"'1.Портфель кредитів'!#REF!","v":{"$error":"#REF!"}},{"$f":"'1.Портфель кредитів'!#REF!","v":{"$error":"#REF!"}},{"$f":"'1.Портфель кредитів'!#REF!","v":{"$error":"#REF!"}},{"$f":"'1.Портфель кредитів'!E612","v":0},{"$f":"'1.Портфель кредитів'!R612","v":0},{"$f":"'1.Портфель кредитів'!T612","v":""},4,"2018-06-01","_4_43252_2"]
[{"$f":"'1.Портфель кредитів'!#REF!","v":{"$error":"#REF!"}},{"$f":"'1.Портфель кредитів'!D613","v":""},{"$f":"'1.Портфель кредитів'!#REF!","v":{"$error":"#REF!"}},{"$f":"'1.Портфель кредитів'!#REF!","v":{"$error":"#REF!"}},{"$f":"'1.Портфель кредитів'!#REF!","v":{"$error":"#REF!"}},{"$f":"'1.Портфель кредитів'!E613","v":0},{"$f":"'1.Портфель кредитів'!R613","v":0},{"$f":"'1.Портфель кредитів'!T613","v":""},4,"2018-06-01","_4_43252_2"]
[{"$f":"'1.Портфель кредитів'!#REF!","v":{"$error":"#REF!"}},{"$f":"'1.Портфель кредитів'!D614","v":""},{"$f":"'1.Портфель кредитів'!#REF!","v":{"$error":"#REF!"}},{"$f":"'1.Портфель кредитів'!#REF!","v":{"$error":"#REF!"}},{"$f":"'1.Портфель кредитів'!#REF!","v":{"$error":"#REF!"}},{"$f":"'1.Портфель кредитів'!E614","v":0},{"$f":"'1.Портфель кредитів'!R614","v":0},{"$f":"'1.Портфель кредитів'!T614","v":""},4,"2018-06-01","_4_43252_2"]
[{"$f":"'1.Портфель кредитів'!#REF!","v":{"$error":"#REF!"}},{"$f":"'1.Портфель кредитів'!D615","v":""},{"$f":"'1.Портфель кредитів'!#REF!","v":{"$error":"#REF!"}},{"$f":"'1.Портфель кредитів'!#REF!","v":{"$error":"#REF!"}},{"$f":"'1.Портфель кредитів'!#REF!","v":{"$error":"#REF!"}},{"$f":"'1.Портфель кредитів'!E615","v":0},{"$f":"'1.Портфель кредитів'!R615","v":0},{"$f":"'1.Портфель кредитів'!T615","v":""},4,"2018-06-01","_4_43252_2"]
[{"$f":"'1.Портфель кредитів'!#REF!","v":{"$error":"#REF!"}},{"$f":"'1.Портфель кредитів'!D616","v":""},{"$f":"'1.Портфель кредитів'!#REF!","v":{"$error":"#REF!"}},{"$f":"'1.Портфель кредитів'!#REF!","v":{"$error":"#REF!"}},{"$f":"'1.Портфель кредитів'!#REF!","v":{"$error":"#REF!"}},{"$f":"'1.Портфель кредитів'!E616","v":0},{"$f":"'1.Портфель кредитів'!R616","v":0},{"$f":"'1.Портфель кредитів'!T616","v":""},4,"2018-06-01","_4_43252_2"]
[{"$f":"'1.Портфель кредитів'!#REF!","v":{"$error":"#REF!"}},{"$f":"'1.Портфель кредитів'!D617","v":""},{"$f":"'1.Портфель кредитів'!#REF!","v":{"$error":"#REF!"}},{"$f":"'1.Портфель кредитів'!#REF!","v":{"$error":"#REF!"}},{"$f":"'1.Портфель кредитів'!#REF!","v":{"$error":"#REF!"}},{"$f":"'1.Портфель кредитів'!E617","v":0},{"$f":"'1.Портфель кредитів'!R617","v":0},{"$f":"'1.Портфель кредитів'!T617","v":""},4,"2018-06-01","_4_43252_2"]
[{"$f":"'1.Портфель кредитів'!#REF!","v":{"$error":"#REF!"}},{"$f":"'1.Портфель кредитів'!D618","v":""},{"$f":"'1.Портфель кредитів'!#REF!","v":{"$error":"#REF!"}},{"$f":"'1.Портфель кредитів'!#REF!","v":{"$error":"#REF!"}},{"$f":"'1.Портфель кредитів'!#REF!","v":{"$error":"#REF!"}},{"$f":"'1.Портфель кредитів'!E618","v":0},{"$f":"'1.Портфель кредитів'!R618","v":0},{"$f":"'1.Портфель кредитів'!T618","v":""},4,"2018-06-01","_4_43252_2"]
[{"$f":"'1.Портфель кредитів'!#REF!","v":{"$error":"#REF!"}},{"$f":"'1.Портфель кредитів'!D619","v":""},{"$f":"'1.Портфель кредитів'!#REF!","v":{"$error":"#REF!"}},{"$f":"'1.Портфель кредитів'!#REF!","v":{"$error":"#REF!"}},{"$f":"'1.Портфель кредитів'!#REF!","v":{"$error":"#REF!"}},{"$f":"'1.Портфель кредитів'!E619","v":0},{"$f":"'1.Портфель кредитів'!R619","v":0},{"$f":"'1.Портфель кредитів'!T619","v":""},4,"2018-06-01","_4_43252_2"]
[{"$f":"'1.Портфель кредитів'!#REF!","v":{"$error":"#REF!"}},{"$f":"'1.Портфель кредитів'!D620","v":""},{"$f":"'1.Портфель кредитів'!#REF!","v":{"$error":"#REF!"}},{"$f":"'1.Портфель кредитів'!#REF!","v":{"$error":"#REF!"}},{"$f":"'1.Портфель кредитів'!#REF!","v":{"$error":"#REF!"}},{"$f":"'1.Портфель кредитів'!E620","v":0},{"$f":"'1.Портфель кредитів'!R620","v":0},{"$f":"'1.Портфель кредитів'!T620","v":""},4,"2018-06-01","_4_43252_2"]
[{"$f":"'1.Портфель кредитів'!#REF!","v":{"$error":"#REF!"}},{"$f":"'1.Портфель кредитів'!D621","v":""},{"$f":"'1.Портфель кредитів'!#REF!","v":{"$error":"#REF!"}},{"$f":"'1.Портфель кредитів'!#REF!","v":{"$error":"#REF!"}},{"$f":"'1.Портфель кредитів'!#REF!","v":{"$error":"#REF!"}},{"$f":"'1.Портфель кредитів'!E621","v":0},{"$f":"'1.Портфель кредитів'!R621","v":0},{"$f":"'1.Портфель кредитів'!T621","v":""},4,"2018-06-01","_4_43252_2"]
[{"$f":"'1.Портфель кредитів'!#REF!","v":{"$error":"#REF!"}},{"$f":"'1.Портфель кредитів'!D622","v":""},{"$f":"'1.Портфель кредитів'!#REF!","v":{"$error":"#REF!"}},{"$f":"'1.Портфель кредитів'!#REF!","v":{"$error":"#REF!"}},{"$f":"'1.Портфель кредитів'!#REF!","v":{"$error":"#REF!"}},{"$f":"'1.Портфель кредитів'!E622","v":0},{"$f":"'1.Портфель кредитів'!R622","v":0},{"$f":"'1.Портфель кредитів'!T622","v":""},4,"2018-06-01","_4_43252_2"]
[{"$f":"'1.Портфель кредитів'!#REF!","v":{"$error":"#REF!"}},{"$f":"'1.Портфель кредитів'!D623","v":""},{"$f":"'1.Портфель кредитів'!#REF!","v":{"$error":"#REF!"}},{"$f":"'1.Портфель кредитів'!#REF!","v":{"$error":"#REF!"}},{"$f":"'1.Портфель кредитів'!#REF!","v":{"$error":"#REF!"}},{"$f":"'1.Портфель кредитів'!E623","v":0},{"$f":"'1.Портфель кредитів'!R623","v":0},{"$f":"'1.Портфель кредитів'!T623","v":""},4,"2018-06-01","_4_43252_2"]
[{"$f":"'1.Портфель кредитів'!#REF!","v":{"$error":"#REF!"}},{"$f":"'1.Портфель кредитів'!D624","v":""},{"$f":"'1.Портфель кредитів'!#REF!","v":{"$error":"#REF!"}},{"$f":"'1.Портфель кредитів'!#REF!","v":{"$error":"#REF!"}},{"$f":"'1.Портфель кредитів'!#REF!","v":{"$error":"#REF!"}},{"$f":"'1.Портфель кредитів'!E624","v":0},{"$f":"'1.Портфель кредитів'!R624","v":0},{"$f":"'1.Портфель кредитів'!T624","v":""},4,"2018-06-01","_4_43252_2"]
[{"$f":"'1.Портфель кредитів'!#REF!","v":{"$error":"#REF!"}},{"$f":"'1.Портфель кредитів'!D625","v":""},{"$f":"'1.Портфель кредитів'!#REF!","v":{"$error":"#REF!"}},{"$f":"'1.Портфель кредитів'!#REF!","v":{"$error":"#REF!"}},{"$f":"'1.Портфель кредитів'!#REF!","v":{"$error":"#REF!"}},{"$f":"'1.Портфель кредитів'!E625","v":0},{"$f":"'1.Портфель кредитів'!R625","v":0},{"$f":"'1.Портфель кредитів'!T625","v":""},4,"2018-06-01","_4_43252_2"]
[{"$f":"'1.Портфель кредитів'!#REF!","v":{"$error":"#REF!"}},{"$f":"'1.Портфель кредитів'!D626","v":""},{"$f":"'1.Портфель кредитів'!#REF!","v":{"$error":"#REF!"}},{"$f":"'1.Портфель кредитів'!#REF!","v":{"$error":"#REF!"}},{"$f":"'1.Портфель кредитів'!#REF!","v":{"$error":"#REF!"}},{"$f":"'1.Портфель кредитів'!E626","v":0},{"$f":"'1.Портфель кредитів'!R626","v":0},{"$f":"'1.Портфель кредитів'!T626","v":""},4,"2018-06-01","_4_43252_2"]
[{"$f":"'1.Портфель кредитів'!#REF!","v":{"$error":"#REF!"}},{"$f":"'1.Портфель кредитів'!D627","v":""},{"$f":"'1.Портфель кредитів'!#REF!","v":{"$error":"#REF!"}},{"$f":"'1.Портфель кредитів'!#REF!","v":{"$error":"#REF!"}},{"$f":"'1.Портфель кредитів'!#REF!","v":{"$error":"#REF!"}},{"$f":"'1.Портфель кредитів'!E627","v":0},{"$f":"'1.Портфель кредитів'!R627","v":0},{"$f":"'1.Портфель кредитів'!T627","v":""},4,"2018-06-01","_4_43252_2"]
[{"$f":"'1.Портфель кредитів'!#REF!","v":{"$error":"#REF!"}},{"$f":"'1.Портфель кредитів'!D628","v":""},{"$f":"'1.Портфель кредитів'!#REF!","v":{"$error":"#REF!"}},{"$f":"'1.Портфель кредитів'!#REF!","v":{"$error":"#REF!"}},{"$f":"'1.Портфель кредитів'!#REF!","v":{"$error":"#REF!"}},{"$f":"'1.Портфель кредитів'!E628","v":0},{"$f":"'1.Портфель кредитів'!R628","v":0},{"$f":"'1.Портфель кредитів'!T628","v":""},4,"2018-06-01","_4_43252_2"]
[{"$f":"'1.Портфель кредитів'!#REF!","v":{"$error":"#REF!"}},{"$f":"'1.Портфель кредитів'!D629","v":""},{"$f":"'1.Портфель кредитів'!#REF!","v":{"$error":"#REF!"}},{"$f":"'1.Портфель кредитів'!#REF!","v":{"$error":"#REF!"}},{"$f":"'1.Портфель кредитів'!#REF!","v":{"$error":"#REF!"}},{"$f":"'1.Портфель кредитів'!E629","v":0},{"$f":"'1.Портфель кредитів'!R629","v":0},{"$f":"'1.Портфель кредитів'!T629","v":""},4,"2018-06-01","_4_43252_2"]
[{"$f":"'1.Портфель кредитів'!#REF!","v":{"$error":"#REF!"}},{"$f":"'1.Портфель кредитів'!D630","v":""},{"$f":"'1.Портфель кредитів'!#REF!","v":{"$error":"#REF!"}},{"$f":"'1.Портфель кредитів'!#REF!","v":{"$error":"#REF!"}},{"$f":"'1.Портфель кредитів'!#REF!","v":{"$error":"#REF!"}},{"$f":"'1.Портфель кредитів'!E630","v":0},{"$f":"'1.Портфель кредитів'!R630","v":0},{"$f":"'1.Портфель кредитів'!T630","v":""},4,"2018-06-01","_4_43252_2"]
[{"$f":"'1.Портфель кредитів'!#REF!","v":{"$error":"#REF!"}},{"$f":"'1.Портфель кредитів'!D631","v":""},{"$f":"'1.Портфель кредитів'!#REF!","v":{"$error":"#REF!"}},{"$f":"'1.Портфель кредитів'!#REF!","v":{"$error":"#REF!"}},{"$f":"'1.Портфель кредитів'!#REF!","v":{"$error":"#REF!"}},{"$f":"'1.Портфель кредитів'!E631","v":0},{"$f":"'1.Портфель кредитів'!R631","v":0},{"$f":"'1.Портфель кредитів'!T631","v":""},4,"2018-06-01","_4_43252_2"]
[{"$f":"'1.Портфель кредитів'!#REF!","v":{"$error":"#REF!"}},{"$f":"'1.Портфель кредитів'!D632","v":""},{"$f":"'1.Портфель кредитів'!#REF!","v":{"$error":"#REF!"}},{"$f":"'1.Портфель кредитів'!#REF!","v":{"$error":"#REF!"}},{"$f":"'1.Портфель кредитів'!#REF!","v":{"$error":"#REF!"}},{"$f":"'1.Портфель кредитів'!E632","v":0},{"$f":"'1.Портфель кредитів'!R632","v":0},{"$f":"'1.Портфель кредитів'!T632","v":""},4,"2018-06-01","_4_43252_2"]
[{"$f":"'1.Портфель кредитів'!#REF!","v":{"$error":"#REF!"}},{"$f":"'1.Портфель кредитів'!D633","v":""},{"$f":"'1.Портфель кредитів'!#REF!","v":{"$error":"#REF!"}},{"$f":"'1.Портфель кредитів'!#REF!","v":{"$error":"#REF!"}},{"$f":"'1.Портфель кредитів'!#REF!","v":{"$error":"#REF!"}},{"$f":"'1.Портфель кредитів'!E633","v":0},{"$f":"'1.Портфель кредитів'!R633","v":0},{"$f":"'1.Портфель кредитів'!T633","v":""},4,"2018-06-01","_4_43252_2"]
[{"$f":"'1.Портфель кредитів'!#REF!","v":{"$error":"#REF!"}},{"$f":"'1.Портфель кредитів'!D634","v":""},{"$f":"'1.Портфель кредитів'!#REF!","v":{"$error":"#REF!"}},{"$f":"'1.Портфель кредитів'!#REF!","v":{"$error":"#REF!"}},{"$f":"'1.Портфель кредитів'!#REF!","v":{"$error":"#REF!"}},{"$f":"'1.Портфель кредитів'!E634","v":0},{"$f":"'1.Портфель кредитів'!R634","v":0},{"$f":"'1.Портфель кредитів'!T634","v":""},4,"2018-06-01","_4_43252_2"]
[{"$f":"'1.Портфель кредитів'!#REF!","v":{"$error":"#REF!"}},{"$f":"'1.Портфель кредитів'!D635","v":""},{"$f":"'1.Портфель кредитів'!#REF!","v":{"$error":"#REF!"}},{"$f":"'1.Портфель кредитів'!#REF!","v":{"$error":"#REF!"}},{"$f":"'1.Портфель кредитів'!#REF!","v":{"$error":"#REF!"}},{"$f":"'1.Портфель кредитів'!E635","v":0},{"$f":"'1.Портфель кредитів'!R635","v":0},{"$f":"'1.Портфель кредитів'!T635","v":""},4,"2018-06-01","_4_43252_2"]
[{"$f":"'1.Портфель кредитів'!#REF!","v":{"$error":"#REF!"}},{"$f":"'1.Портфель кредитів'!D636","v":""},{"$f":"'1.Портфель кредитів'!#REF!","v":{"$error":"#REF!"}},{"$f":"'1.Портфель кредитів'!#REF!","v":{"$error":"#REF!"}},{"$f":"'1.Портфель кредитів'!#REF!","v":{"$error":"#REF!"}},{"$f":"'1.Портфель кредитів'!E636","v":0},{"$f":"'1.Портфель кредитів'!R636","v":0},{"$f":"'1.Портфель кредитів'!T636","v":""},4,"2018-06-01","_4_43252_2"]
[{"$f":"'1.Портфель кредитів'!#REF!","v":{"$error":"#REF!"}},{"$f":"'1.Портфель кредитів'!D637","v":""},{"$f":"'1.Портфель кредитів'!#REF!","v":{"$error":"#REF!"}},{"$f":"'1.Портфель кредитів'!#REF!","v":{"$error":"#REF!"}},{"$f":"'1.Портфель кредитів'!#REF!","v":{"$error":"#REF!"}},{"$f":"'1.Портфель кредитів'!E637","v":0},{"$f":"'1.Портфель кредитів'!R637","v":0},{"$f":"'1.Портфель кредитів'!T637","v":""},4,"2018-06-01","_4_43252_2"]
[{"$f":"'1.Портфель кредитів'!#REF!","v":{"$error":"#REF!"}},{"$f":"'1.Портфель кредитів'!D638","v":""},{"$f":"'1.Портфель кредитів'!#REF!","v":{"$error":"#REF!"}},{"$f":"'1.Портфель кредитів'!#REF!","v":{"$error":"#REF!"}},{"$f":"'1.Портфель кредитів'!#REF!","v":{"$error":"#REF!"}},{"$f":"'1.Портфель кредитів'!E638","v":0},{"$f":"'1.Портфель кредитів'!R638","v":0},{"$f":"'1.Портфель кредитів'!T638","v":""},4,"2018-06-01","_4_43252_2"]
[{"$f":"'1.Портфель кредитів'!#REF!","v":{"$error":"#REF!"}},{"$f":"'1.Портфель кредитів'!D639","v":""},{"$f":"'1.Портфель кредитів'!#REF!","v":{"$error":"#REF!"}},{"$f":"'1.Портфель кредитів'!#REF!","v":{"$error":"#REF!"}},{"$f":"'1.Портфель кредитів'!#REF!","v":{"$error":"#REF!"}},{"$f":"'1.Портфель кредитів'!E639","v":0},{"$f":"'1.Портфель кредитів'!R639","v":0},{"$f":"'1.Портфель кредитів'!T639","v":""},4,"2018-06-01","_4_43252_2"]
[{"$f":"'1.Портфель кредитів'!#REF!","v":{"$error":"#REF!"}},{"$f":"'1.Портфель кредитів'!D640","v":""},{"$f":"'1.Портфель кредитів'!#REF!","v":{"$error":"#REF!"}},{"$f":"'1.Портфель кредитів'!#REF!","v":{"$error":"#REF!"}},{"$f":"'1.Портфель кредитів'!#REF!","v":{"$error":"#REF!"}},{"$f":"'1.Портфель кредитів'!E640","v":0},{"$f":"'1.Портфель кредитів'!R640","v":0},{"$f":"'1.Портфель кредитів'!T640","v":""},4,"2018-06-01","_4_43252_2"]
[{"$f":"'1.Портфель кредитів'!#REF!","v":{"$error":"#REF!"}},{"$f":"'1.Портфель кредитів'!D641","v":""},{"$f":"'1.Портфель кредитів'!#REF!","v":{"$error":"#REF!"}},{"$f":"'1.Портфель кредитів'!#REF!","v":{"$error":"#REF!"}},{"$f":"'1.Портфель кредитів'!#REF!","v":{"$error":"#REF!"}},{"$f":"'1.Портфель кредитів'!E641","v":0},{"$f":"'1.Портфель кредитів'!R641","v":0},{"$f":"'1.Портфель кредитів'!T641","v":""},4,"2018-06-01","_4_43252_2"]
[{"$f":"'1.Портфель кредитів'!#REF!","v":{"$error":"#REF!"}},{"$f":"'1.Портфель кредитів'!D642","v":""},{"$f":"'1.Портфель кредитів'!#REF!","v":{"$error":"#REF!"}},{"$f":"'1.Портфель кредитів'!#REF!","v":{"$error":"#REF!"}},{"$f":"'1.Портфель кредитів'!#REF!","v":{"$error":"#REF!"}},{"$f":"'1.Портфель кредитів'!E642","v":0},{"$f":"'1.Портфель кредитів'!R642","v":0},{"$f":"'1.Портфель кредитів'!T642","v":""},4,"2018-06-01","_4_43252_2"]
[{"$f":"'1.Портфель кредитів'!#REF!","v":{"$error":"#REF!"}},{"$f":"'1.Портфель кредитів'!D643","v":""},{"$f":"'1.Портфель кредитів'!#REF!","v":{"$error":"#REF!"}},{"$f":"'1.Портфель кредитів'!#REF!","v":{"$error":"#REF!"}},{"$f":"'1.Портфель кредитів'!#REF!","v":{"$error":"#REF!"}},{"$f":"'1.Портфель кредитів'!E643","v":0},{"$f":"'1.Портфель кредитів'!R643","v":0},{"$f":"'1.Портфель кредитів'!T643","v":""},{"$f":"$E$1","v":4},{"$f":"$E$2","v":"2018-06-01"},{"$f":"B646&\"_\"&I646&\"_\"&J646&\"_\"&$E$3","v":"_4_43252_2"}]
[{"$f":"'1.Портфель кредитів'!#REF!","v":{"$error":"#REF!"}},{"$f":"'1.Портфель кредитів'!D644","v":""},{"$f":"'1.Портфель кредитів'!#REF!","v":{"$error":"#REF!"}},{"$f":"'1.Портфель кредитів'!#REF!","v":{"$error":"#REF!"}},{"$f":"'1.Портфель кредитів'!#REF!","v":{"$error":"#REF!"}},{"$f":"'1.Портфель кредитів'!E644","v":0},{"$f":"'1.Портфель кредитів'!R644","v":0},{"$f":"'1.Портфель кредитів'!T644","v":""},4,"2018-06-01","_4_43252_2"]
[{"$f":"'1.Портфель кредитів'!#REF!","v":{"$error":"#REF!"}},{"$f":"'1.Портфель кредитів'!D645","v":""},{"$f":"'1.Портфель кредитів'!#REF!","v":{"$error":"#REF!"}},{"$f":"'1.Портфель кредитів'!#REF!","v":{"$error":"#REF!"}},{"$f":"'1.Портфель кредитів'!#REF!","v":{"$error":"#REF!"}},{"$f":"'1.Портфель кредитів'!E645","v":0},{"$f":"'1.Портфель кредитів'!R645","v":0},{"$f":"'1.Портфель кредитів'!T645","v":""},4,"2018-06-01","_4_43252_2"]
[{"$f":"'1.Портфель кредитів'!#REF!","v":{"$error":"#REF!"}},{"$f":"'1.Портфель кредитів'!D646","v":""},{"$f":"'1.Портфель кредитів'!#REF!","v":{"$error":"#REF!"}},{"$f":"'1.Портфель кредитів'!#REF!","v":{"$error":"#REF!"}},{"$f":"'1.Портфель кредитів'!#REF!","v":{"$error":"#REF!"}},{"$f":"'1.Портфель кредитів'!E646","v":0},{"$f":"'1.Портфель кредитів'!R646","v":0},{"$f":"'1.Портфель кредитів'!T646","v":""},4,"2018-06-01","_4_43252_2"]
[{"$f":"'1.Портфель кредитів'!#REF!","v":{"$error":"#REF!"}},{"$f":"'1.Портфель кредитів'!D647","v":""},{"$f":"'1.Портфель кредитів'!#REF!","v":{"$error":"#REF!"}},{"$f":"'1.Портфель кредитів'!#REF!","v":{"$error":"#REF!"}},{"$f":"'1.Портфель кредитів'!#REF!","v":{"$error":"#REF!"}},{"$f":"'1.Портфель кредитів'!E647","v":0},{"$f":"'1.Портфель кредитів'!R647","v":0},{"$f":"'1.Портфель кредитів'!T647","v":""},4,"2018-06-01","_4_43252_2"]
[{"$f":"'1.Портфель кредитів'!#REF!","v":{"$error":"#REF!"}},{"$f":"'1.Портфель кредитів'!D648","v":""},{"$f":"'1.Портфель кредитів'!#REF!","v":{"$error":"#REF!"}},{"$f":"'1.Портфель кредитів'!#REF!","v":{"$error":"#REF!"}},{"$f":"'1.Портфель кредитів'!#REF!","v":{"$error":"#REF!"}},{"$f":"'1.Портфель кредитів'!E648","v":0},{"$f":"'1.Портфель кредитів'!R648","v":0},{"$f":"'1.Портфель кредитів'!T648","v":""},4,"2018-06-01","_4_43252_2"]
[{"$f":"'1.Портфель кредитів'!#REF!","v":{"$error":"#REF!"}},{"$f":"'1.Портфель кредитів'!D649","v":""},{"$f":"'1.Портфель кредитів'!#REF!","v":{"$error":"#REF!"}},{"$f":"'1.Портфель кредитів'!#REF!","v":{"$error":"#REF!"}},{"$f":"'1.Портфель кредитів'!#REF!","v":{"$error":"#REF!"}},{"$f":"'1.Портфель кредитів'!E649","v":0},{"$f":"'1.Портфель кредитів'!R649","v":0},{"$f":"'1.Портфель кредитів'!T649","v":""},4,"2018-06-01","_4_43252_2"]
[{"$f":"'1.Портфель кредитів'!#REF!","v":{"$error":"#REF!"}},{"$f":"'1.Портфель кредитів'!D650","v":""},{"$f":"'1.Портфель кредитів'!#REF!","v":{"$error":"#REF!"}},{"$f":"'1.Портфель кредитів'!#REF!","v":{"$error":"#REF!"}},{"$f":"'1.Портфель кредитів'!#REF!","v":{"$error":"#REF!"}},{"$f":"'1.Портфель кредитів'!E650","v":0},{"$f":"'1.Портфель кредитів'!R650","v":0},{"$f":"'1.Портфель кредитів'!T650","v":""},4,"2018-06-01","_4_43252_2"]
[{"$f":"'1.Портфель кредитів'!#REF!","v":{"$error":"#REF!"}},{"$f":"'1.Портфель кредитів'!D651","v":""},{"$f":"'1.Портфель кредитів'!#REF!","v":{"$error":"#REF!"}},{"$f":"'1.Портфель кредитів'!#REF!","v":{"$error":"#REF!"}},{"$f":"'1.Портфель кредитів'!#REF!","v":{"$error":"#REF!"}},{"$f":"'1.Портфель кредитів'!E651","v":0},{"$f":"'1.Портфель кредитів'!R651","v":0},{"$f":"'1.Портфель кредитів'!T651","v":""},4,"2018-06-01","_4_43252_2"]
[{"$f":"'1.Портфель кредитів'!#REF!","v":{"$error":"#REF!"}},{"$f":"'1.Портфель кредитів'!D652","v":""},{"$f":"'1.Портфель кредитів'!#REF!","v":{"$error":"#REF!"}},{"$f":"'1.Портфель кредитів'!#REF!","v":{"$error":"#REF!"}},{"$f":"'1.Портфель кредитів'!#REF!","v":{"$error":"#REF!"}},{"$f":"'1.Портфель кредитів'!E652","v":0},{"$f":"'1.Портфель кредитів'!R652","v":0},{"$f":"'1.Портфель кредитів'!T652","v":""},4,"2018-06-01","_4_43252_2"]
[{"$f":"'1.Портфель кредитів'!#REF!","v":{"$error":"#REF!"}},{"$f":"'1.Портфель кредитів'!D653","v":""},{"$f":"'1.Портфель кредитів'!#REF!","v":{"$error":"#REF!"}},{"$f":"'1.Портфель кредитів'!#REF!","v":{"$error":"#REF!"}},{"$f":"'1.Портфель кредитів'!#REF!","v":{"$error":"#REF!"}},{"$f":"'1.Портфель кредитів'!E653","v":0},{"$f":"'1.Портфель кредитів'!R653","v":0},{"$f":"'1.Портфель кредитів'!T653","v":""},4,"2018-06-01","_4_43252_2"]
[{"$f":"'1.Портфель кредитів'!#REF!","v":{"$error":"#REF!"}},{"$f":"'1.Портфель кредитів'!D654","v":""},{"$f":"'1.Портфель кредитів'!#REF!","v":{"$error":"#REF!"}},{"$f":"'1.Портфель кредитів'!#REF!","v":{"$error":"#REF!"}},{"$f":"'1.Портфель кредитів'!#REF!","v":{"$error":"#REF!"}},{"$f":"'1.Портфель кредитів'!E654","v":0},{"$f":"'1.Портфель кредитів'!R654","v":0},{"$f":"'1.Портфель кредитів'!T654","v":""},4,"2018-06-01","_4_43252_2"]
[{"$f":"'1.Портфель кредитів'!#REF!","v":{"$error":"#REF!"}},{"$f":"'1.Портфель кредитів'!D655","v":""},{"$f":"'1.Портфель кредитів'!#REF!","v":{"$error":"#REF!"}},{"$f":"'1.Портфель кредитів'!#REF!","v":{"$error":"#REF!"}},{"$f":"'1.Портфель кредитів'!#REF!","v":{"$error":"#REF!"}},{"$f":"'1.Портфель кредитів'!E655","v":0},{"$f":"'1.Портфель кредитів'!R655","v":0},{"$f":"'1.Портфель кредитів'!T655","v":""},4,"2018-06-01","_4_43252_2"]
[{"$f":"'1.Портфель кредитів'!#REF!","v":{"$error":"#REF!"}},{"$f":"'1.Портфель кредитів'!D656","v":""},{"$f":"'1.Портфель кредитів'!#REF!","v":{"$error":"#REF!"}},{"$f":"'1.Портфель кредитів'!#REF!","v":{"$error":"#REF!"}},{"$f":"'1.Портфель кредитів'!#REF!","v":{"$error":"#REF!"}},{"$f":"'1.Портфель кредитів'!E656","v":0},{"$f":"'1.Портфель кредитів'!R656","v":0},{"$f":"'1.Портфель кредитів'!T656","v":""},4,"2018-06-01","_4_43252_2"]
[{"$f":"'1.Портфель кредитів'!#REF!","v":{"$error":"#REF!"}},{"$f":"'1.Портфель кредитів'!D657","v":""},{"$f":"'1.Портфель кредитів'!#REF!","v":{"$error":"#REF!"}},{"$f":"'1.Портфель кредитів'!#REF!","v":{"$error":"#REF!"}},{"$f":"'1.Портфель кредитів'!#REF!","v":{"$error":"#REF!"}},{"$f":"'1.Портфель кредитів'!E657","v":0},{"$f":"'1.Портфель кредитів'!R657","v":0},{"$f":"'1.Портфель кредитів'!T657","v":""},4,"2018-06-01","_4_43252_2"]
[{"$f":"'1.Портфель кредитів'!#REF!","v":{"$error":"#REF!"}},{"$f":"'1.Портфель кредитів'!D658","v":""},{"$f":"'1.Портфель кредитів'!#REF!","v":{"$error":"#REF!"}},{"$f":"'1.Портфель кредитів'!#REF!","v":{"$error":"#REF!"}},{"$f":"'1.Портфель кредитів'!#REF!","v":{"$error":"#REF!"}},{"$f":"'1.Портфель кредитів'!E658","v":0},{"$f":"'1.Портфель кредитів'!R658","v":0},{"$f":"'1.Портфель кредитів'!T658","v":""},4,"2018-06-01","_4_43252_2"]
[{"$f":"'1.Портфель кредитів'!#REF!","v":{"$error":"#REF!"}},{"$f":"'1.Портфель кредитів'!D659","v":""},{"$f":"'1.Портфель кредитів'!#REF!","v":{"$error":"#REF!"}},{"$f":"'1.Портфель кредитів'!#REF!","v":{"$error":"#REF!"}},{"$f":"'1.Портфель кредитів'!#REF!","v":{"$error":"#REF!"}},{"$f":"'1.Портфель кредитів'!E659","v":0},{"$f":"'1.Портфель кредитів'!R659","v":0},{"$f":"'1.Портфель кредитів'!T659","v":""},4,"2018-06-01","_4_43252_2"]
[{"$f":"'1.Портфель кредитів'!#REF!","v":{"$error":"#REF!"}},{"$f":"'1.Портфель кредитів'!D660","v":""},{"$f":"'1.Портфель кредитів'!#REF!","v":{"$error":"#REF!"}},{"$f":"'1.Портфель кредитів'!#REF!","v":{"$error":"#REF!"}},{"$f":"'1.Портфель кредитів'!#REF!","v":{"$error":"#REF!"}},{"$f":"'1.Портфель кредитів'!E660","v":0},{"$f":"'1.Портфель кредитів'!R660","v":0},{"$f":"'1.Портфель кредитів'!T660","v":""},4,"2018-06-01","_4_43252_2"]
[{"$f":"'1.Портфель кредитів'!#REF!","v":{"$error":"#REF!"}},{"$f":"'1.Портфель кредитів'!D661","v":""},{"$f":"'1.Портфель кредитів'!#REF!","v":{"$error":"#REF!"}},{"$f":"'1.Портфель кредитів'!#REF!","v":{"$error":"#REF!"}},{"$f":"'1.Портфель кредитів'!#REF!","v":{"$error":"#REF!"}},{"$f":"'1.Портфель кредитів'!E661","v":0},{"$f":"'1.Портфель кредитів'!R661","v":0},{"$f":"'1.Портфель кредитів'!T661","v":""},4,"2018-06-01","_4_43252_2"]
[{"$f":"'1.Портфель кредитів'!#REF!","v":{"$error":"#REF!"}},{"$f":"'1.Портфель кредитів'!D662","v":""},{"$f":"'1.Портфель кредитів'!#REF!","v":{"$error":"#REF!"}},{"$f":"'1.Портфель кредитів'!#REF!","v":{"$error":"#REF!"}},{"$f":"'1.Портфель кредитів'!#REF!","v":{"$error":"#REF!"}},{"$f":"'1.Портфель кредитів'!E662","v":0},{"$f":"'1.Портфель кредитів'!R662","v":0},{"$f":"'1.Портфель кредитів'!T662","v":""},4,"2018-06-01","_4_43252_2"]
[{"$f":"'1.Портфель кредитів'!#REF!","v":{"$error":"#REF!"}},{"$f":"'1.Портфель кредитів'!D663","v":""},{"$f":"'1.Портфель кредитів'!#REF!","v":{"$error":"#REF!"}},{"$f":"'1.Портфель кредитів'!#REF!","v":{"$error":"#REF!"}},{"$f":"'1.Портфель кредитів'!#REF!","v":{"$error":"#REF!"}},{"$f":"'1.Портфель кредитів'!E663","v":0},{"$f":"'1.Портфель кредитів'!R663","v":0},{"$f":"'1.Портфель кредитів'!T663","v":""},4,"2018-06-01","_4_43252_2"]
[{"$f":"'1.Портфель кредитів'!#REF!","v":{"$error":"#REF!"}},{"$f":"'1.Портфель кредитів'!D664","v":""},{"$f":"'1.Портфель кредитів'!#REF!","v":{"$error":"#REF!"}},{"$f":"'1.Портфель кредитів'!#REF!","v":{"$error":"#REF!"}},{"$f":"'1.Портфель кредитів'!#REF!","v":{"$error":"#REF!"}},{"$f":"'1.Портфель кредитів'!E664","v":0},{"$f":"'1.Портфель кредитів'!R664","v":0},{"$f":"'1.Портфель кредитів'!T664","v":""},4,"2018-06-01","_4_43252_2"]
[{"$f":"'1.Портфель кредитів'!#REF!","v":{"$error":"#REF!"}},{"$f":"'1.Портфель кредитів'!D665","v":""},{"$f":"'1.Портфель кредитів'!#REF!","v":{"$error":"#REF!"}},{"$f":"'1.Портфель кредитів'!#REF!","v":{"$error":"#REF!"}},{"$f":"'1.Портфель кредитів'!#REF!","v":{"$error":"#REF!"}},{"$f":"'1.Портфель кредитів'!E665","v":0},{"$f":"'1.Портфель кредитів'!R665","v":0},{"$f":"'1.Портфель кредитів'!T665","v":""},4,"2018-06-01","_4_43252_2"]
[{"$f":"'1.Портфель кредитів'!#REF!","v":{"$error":"#REF!"}},{"$f":"'1.Портфель кредитів'!D666","v":""},{"$f":"'1.Портфель кредитів'!#REF!","v":{"$error":"#REF!"}},{"$f":"'1.Портфель кредитів'!#REF!","v":{"$error":"#REF!"}},{"$f":"'1.Портфель кредитів'!#REF!","v":{"$error":"#REF!"}},{"$f":"'1.Портфель кредитів'!E666","v":0},{"$f":"'1.Портфель кредитів'!R666","v":0},{"$f":"'1.Портфель кредитів'!T666","v":""},4,"2018-06-01","_4_43252_2"]
[{"$f":"'1.Портфель кредитів'!#REF!","v":{"$error":"#REF!"}},{"$f":"'1.Портфель кредитів'!D667","v":""},{"$f":"'1.Портфель кредитів'!#REF!","v":{"$error":"#REF!"}},{"$f":"'1.Портфель кредитів'!#REF!","v":{"$error":"#REF!"}},{"$f":"'1.Портфель кредитів'!#REF!","v":{"$error":"#REF!"}},{"$f":"'1.Портфель кредитів'!E667","v":0},{"$f":"'1.Портфель кредитів'!R667","v":0},{"$f":"'1.Портфель кредитів'!T667","v":""},4,"2018-06-01","_4_43252_2"]
[{"$f":"'1.Портфель кредитів'!#REF!","v":{"$error":"#REF!"}},{"$f":"'1.Портфель кредитів'!D668","v":""},{"$f":"'1.Портфель кредитів'!#REF!","v":{"$error":"#REF!"}},{"$f":"'1.Портфель кредитів'!#REF!","v":{"$error":"#REF!"}},{"$f":"'1.Портфель кредитів'!#REF!","v":{"$error":"#REF!"}},{"$f":"'1.Портфель кредитів'!E668","v":0},{"$f":"'1.Портфель кредитів'!R668","v":0},{"$f":"'1.Портфель кредитів'!T668","v":""},4,"2018-06-01","_4_43252_2"]
[{"$f":"'1.Портфель кредитів'!#REF!","v":{"$error":"#REF!"}},{"$f":"'1.Портфель кредитів'!D669","v":""},{"$f":"'1.Портфель кредитів'!#REF!","v":{"$error":"#REF!"}},{"$f":"'1.Портфель кредитів'!#REF!","v":{"$error":"#REF!"}},{"$f":"'1.Портфель кредитів'!#REF!","v":{"$error":"#REF!"}},{"$f":"'1.Портфель кредитів'!E669","v":0},{"$f":"'1.Портфель кредитів'!R669","v":0},{"$f":"'1.Портфель кредитів'!T669","v":""},4,"2018-06-01","_4_43252_2"]
[{"$f":"'1.Портфель кредитів'!#REF!","v":{"$error":"#REF!"}},{"$f":"'1.Портфель кредитів'!D670","v":""},{"$f":"'1.Портфель кредитів'!#REF!","v":{"$error":"#REF!"}},{"$f":"'1.Портфель кредитів'!#REF!","v":{"$error":"#REF!"}},{"$f":"'1.Портфель кредитів'!#REF!","v":{"$error":"#REF!"}},{"$f":"'1.Портфель кредитів'!E670","v":0},{"$f":"'1.Портфель кредитів'!R670","v":0},{"$f":"'1.Портфель кредитів'!T670","v":""},4,"2018-06-01","_4_43252_2"]
[{"$f":"'1.Портфель кредитів'!#REF!","v":{"$error":"#REF!"}},{"$f":"'1.Портфель кредитів'!D671","v":""},{"$f":"'1.Портфель кредитів'!#REF!","v":{"$error":"#REF!"}},{"$f":"'1.Портфель кредитів'!#REF!","v":{"$error":"#REF!"}},{"$f":"'1.Портфель кредитів'!#REF!","v":{"$error":"#REF!"}},{"$f":"'1.Портфель кредитів'!E671","v":0},{"$f":"'1.Портфель кредитів'!R671","v":0},{"$f":"'1.Портфель кредитів'!T671","v":""},4,"2018-06-01","_4_43252_2"]
[{"$f":"'1.Портфель кредитів'!#REF!","v":{"$error":"#REF!"}},{"$f":"'1.Портфель кредитів'!D672","v":""},{"$f":"'1.Портфель кредитів'!#REF!","v":{"$error":"#REF!"}},{"$f":"'1.Портфель кредитів'!#REF!","v":{"$error":"#REF!"}},{"$f":"'1.Портфель кредитів'!#REF!","v":{"$error":"#REF!"}},{"$f":"'1.Портфель кредитів'!E672","v":0},{"$f":"'1.Портфель кредитів'!R672","v":0},{"$f":"'1.Портфель кредитів'!T672","v":""},4,"2018-06-01","_4_43252_2"]
[{"$f":"'1.Портфель кредитів'!#REF!","v":{"$error":"#REF!"}},{"$f":"'1.Портфель кредитів'!D673","v":""},{"$f":"'1.Портфель кредитів'!#REF!","v":{"$error":"#REF!"}},{"$f":"'1.Портфель кредитів'!#REF!","v":{"$error":"#REF!"}},{"$f":"'1.Портфель кредитів'!#REF!","v":{"$error":"#REF!"}},{"$f":"'1.Портфель кредитів'!E673","v":0},{"$f":"'1.Портфель кредитів'!R673","v":0},{"$f":"'1.Портфель кредитів'!T673","v":""},4,"2018-06-01","_4_43252_2"]
[{"$f":"'1.Портфель кредитів'!#REF!","v":{"$error":"#REF!"}},{"$f":"'1.Портфель кредитів'!D674","v":""},{"$f":"'1.Портфель кредитів'!#REF!","v":{"$error":"#REF!"}},{"$f":"'1.Портфель кредитів'!#REF!","v":{"$error":"#REF!"}},{"$f":"'1.Портфель кредитів'!#REF!","v":{"$error":"#REF!"}},{"$f":"'1.Портфель кредитів'!E674","v":0},{"$f":"'1.Портфель кредитів'!R674","v":0},{"$f":"'1.Портфель кредитів'!T674","v":""},4,"2018-06-01","_4_43252_2"]
[{"$f":"'1.Портфель кредитів'!#REF!","v":{"$error":"#REF!"}},{"$f":"'1.Портфель кредитів'!D675","v":""},{"$f":"'1.Портфель кредитів'!#REF!","v":{"$error":"#REF!"}},{"$f":"'1.Портфель кредитів'!#REF!","v":{"$error":"#REF!"}},{"$f":"'1.Портфель кредитів'!#REF!","v":{"$error":"#REF!"}},{"$f":"'1.Портфель кредитів'!E675","v":0},{"$f":"'1.Портфель кредитів'!R675","v":0},{"$f":"'1.Портфель кредитів'!T675","v":""},4,"2018-06-01","_4_43252_2"]
[{"$f":"'1.Портфель кредитів'!#REF!","v":{"$error":"#REF!"}},{"$f":"'1.Портфель кредитів'!D676","v":""},{"$f":"'1.Портфель кредитів'!#REF!","v":{"$error":"#REF!"}},{"$f":"'1.Портфель кредитів'!#REF!","v":{"$error":"#REF!"}},{"$f":"'1.Портфель кредитів'!#REF!","v":{"$error":"#REF!"}},{"$f":"'1.Портфель кредитів'!E676","v":0},{"$f":"'1.Портфель кредитів'!R676","v":0},{"$f":"'1.Портфель кредитів'!T676","v":""},4,"2018-06-01","_4_43252_2"]
[{"$f":"'1.Портфель кредитів'!#REF!","v":{"$error":"#REF!"}},{"$f":"'1.Портфель кредитів'!D677","v":""},{"$f":"'1.Портфель кредитів'!#REF!","v":{"$error":"#REF!"}},{"$f":"'1.Портфель кредитів'!#REF!","v":{"$error":"#REF!"}},{"$f":"'1.Портфель кредитів'!#REF!","v":{"$error":"#REF!"}},{"$f":"'1.Портфель кредитів'!E677","v":0},{"$f":"'1.Портфель кредитів'!R677","v":0},{"$f":"'1.Портфель кредитів'!T677","v":""},4,"2018-06-01","_4_43252_2"]
[{"$f":"'1.Портфель кредитів'!#REF!","v":{"$error":"#REF!"}},{"$f":"'1.Портфель кредитів'!D678","v":""},{"$f":"'1.Портфель кредитів'!#REF!","v":{"$error":"#REF!"}},{"$f":"'1.Портфель кредитів'!#REF!","v":{"$error":"#REF!"}},{"$f":"'1.Портфель кредитів'!#REF!","v":{"$error":"#REF!"}},{"$f":"'1.Портфель кредитів'!E678","v":0},{"$f":"'1.Портфель кредитів'!R678","v":0},{"$f":"'1.Портфель кредитів'!T678","v":""},4,"2018-06-01","_4_43252_2"]
[{"$f":"'1.Портфель кредитів'!#REF!","v":{"$error":"#REF!"}},{"$f":"'1.Портфель кредитів'!D679","v":""},{"$f":"'1.Портфель кредитів'!#REF!","v":{"$error":"#REF!"}},{"$f":"'1.Портфель кредитів'!#REF!","v":{"$error":"#REF!"}},{"$f":"'1.Портфель кредитів'!#REF!","v":{"$error":"#REF!"}},{"$f":"'1.Портфель кредитів'!E679","v":0},{"$f":"'1.Портфель кредитів'!R679","v":0},{"$f":"'1.Портфель кредитів'!T679","v":""},4,"2018-06-01","_4_43252_2"]
[{"$f":"'1.Портфель кредитів'!#REF!","v":{"$error":"#REF!"}},{"$f":"'1.Портфель кредитів'!D680","v":""},{"$f":"'1.Портфель кредитів'!#REF!","v":{"$error":"#REF!"}},{"$f":"'1.Портфель кредитів'!#REF!","v":{"$error":"#REF!"}},{"$f":"'1.Портфель кредитів'!#REF!","v":{"$error":"#REF!"}},{"$f":"'1.Портфель кредитів'!E680","v":0},{"$f":"'1.Портфель кредитів'!R680","v":0},{"$f":"'1.Портфель кредитів'!T680","v":""},4,"2018-06-01","_4_43252_2"]
[{"$f":"'1.Портфель кредитів'!#REF!","v":{"$error":"#REF!"}},{"$f":"'1.Портфель кредитів'!D681","v":""},{"$f":"'1.Портфель кредитів'!#REF!","v":{"$error":"#REF!"}},{"$f":"'1.Портфель кредитів'!#REF!","v":{"$error":"#REF!"}},{"$f":"'1.Портфель кредитів'!#REF!","v":{"$error":"#REF!"}},{"$f":"'1.Портфель кредитів'!E681","v":0},{"$f":"'1.Портфель кредитів'!R681","v":0},{"$f":"'1.Портфель кредитів'!T681","v":""},4,"2018-06-01","_4_43252_2"]
[{"$f":"'1.Портфель кредитів'!#REF!","v":{"$error":"#REF!"}},{"$f":"'1.Портфель кредитів'!D682","v":""},{"$f":"'1.Портфель кредитів'!#REF!","v":{"$error":"#REF!"}},{"$f":"'1.Портфель кредитів'!#REF!","v":{"$error":"#REF!"}},{"$f":"'1.Портфель кредитів'!#REF!","v":{"$error":"#REF!"}},{"$f":"'1.Портфель кредитів'!E682","v":0},{"$f":"'1.Портфель кредитів'!R682","v":0},{"$f":"'1.Портфель кредитів'!T682","v":""},4,"2018-06-01","_4_43252_2"]
[{"$f":"'1.Портфель кредитів'!#REF!","v":{"$error":"#REF!"}},{"$f":"'1.Портфель кредитів'!D683","v":""},{"$f":"'1.Портфель кредитів'!#REF!","v":{"$error":"#REF!"}},{"$f":"'1.Портфель кредитів'!#REF!","v":{"$error":"#REF!"}},{"$f":"'1.Портфель кредитів'!#REF!","v":{"$error":"#REF!"}},{"$f":"'1.Портфель кредитів'!E683","v":0},{"$f":"'1.Портфель кредитів'!R683","v":0},{"$f":"'1.Портфель кредитів'!T683","v":""},4,"2018-06-01","_4_43252_2"]
[{"$f":"'1.Портфель кредитів'!#REF!","v":{"$error":"#REF!"}},{"$f":"'1.Портфель кредитів'!D684","v":""},{"$f":"'1.Портфель кредитів'!#REF!","v":{"$error":"#REF!"}},{"$f":"'1.Портфель кредитів'!#REF!","v":{"$error":"#REF!"}},{"$f":"'1.Портфель кредитів'!#REF!","v":{"$error":"#REF!"}},{"$f":"'1.Портфель кредитів'!E684","v":0},{"$f":"'1.Портфель кредитів'!R684","v":0},{"$f":"'1.Портфель кредитів'!T684","v":""},4,"2018-06-01","_4_43252_2"]
[{"$f":"'1.Портфель кредитів'!#REF!","v":{"$error":"#REF!"}},{"$f":"'1.Портфель кредитів'!D685","v":""},{"$f":"'1.Портфель кредитів'!#REF!","v":{"$error":"#REF!"}},{"$f":"'1.Портфель кредитів'!#REF!","v":{"$error":"#REF!"}},{"$f":"'1.Портфель кредитів'!#REF!","v":{"$error":"#REF!"}},{"$f":"'1.Портфель кредитів'!E685","v":0},{"$f":"'1.Портфель кредитів'!R685","v":0},{"$f":"'1.Портфель кредитів'!T685","v":""},4,"2018-06-01","_4_43252_2"]
[{"$f":"'1.Портфель кредитів'!#REF!","v":{"$error":"#REF!"}},{"$f":"'1.Портфель кредитів'!D686","v":""},{"$f":"'1.Портфель кредитів'!#REF!","v":{"$error":"#REF!"}},{"$f":"'1.Портфель кредитів'!#REF!","v":{"$error":"#REF!"}},{"$f":"'1.Портфель кредитів'!#REF!","v":{"$error":"#REF!"}},{"$f":"'1.Портфель кредитів'!E686","v":0},{"$f":"'1.Портфель кредитів'!R686","v":0},{"$f":"'1.Портфель кредитів'!T686","v":""},4,"2018-06-01","_4_43252_2"]
[{"$f":"'1.Портфель кредитів'!#REF!","v":{"$error":"#REF!"}},{"$f":"'1.Портфель кредитів'!D687","v":""},{"$f":"'1.Портфель кредитів'!#REF!","v":{"$error":"#REF!"}},{"$f":"'1.Портфель кредитів'!#REF!","v":{"$error":"#REF!"}},{"$f":"'1.Портфель кредитів'!#REF!","v":{"$error":"#REF!"}},{"$f":"'1.Портфель кредитів'!E687","v":0},{"$f":"'1.Портфель кредитів'!R687","v":0},{"$f":"'1.Портфель кредитів'!T687","v":""},4,"2018-06-01","_4_43252_2"]
[{"$f":"'1.Портфель кредитів'!#REF!","v":{"$error":"#REF!"}},{"$f":"'1.Портфель кредитів'!D688","v":""},{"$f":"'1.Портфель кредитів'!#REF!","v":{"$error":"#REF!"}},{"$f":"'1.Портфель кредитів'!#REF!","v":{"$error":"#REF!"}},{"$f":"'1.Портфель кредитів'!#REF!","v":{"$error":"#REF!"}},{"$f":"'1.Портфель кредитів'!E688","v":0},{"$f":"'1.Портфель кредитів'!R688","v":0},{"$f":"'1.Портфель кредитів'!T688","v":""},4,"2018-06-01","_4_43252_2"]
[{"$f":"'1.Портфель кредитів'!#REF!","v":{"$error":"#REF!"}},{"$f":"'1.Портфель кредитів'!D689","v":""},{"$f":"'1.Портфель кредитів'!#REF!","v":{"$error":"#REF!"}},{"$f":"'1.Портфель кредитів'!#REF!","v":{"$error":"#REF!"}},{"$f":"'1.Портфель кредитів'!#REF!","v":{"$error":"#REF!"}},{"$f":"'1.Портфель кредитів'!E689","v":0},{"$f":"'1.Портфель кредитів'!R689","v":0},{"$f":"'1.Портфель кредитів'!T689","v":""},4,"2018-06-01","_4_43252_2"]
[{"$f":"'1.Портфель кредитів'!#REF!","v":{"$error":"#REF!"}},{"$f":"'1.Портфель кредитів'!D690","v":""},{"$f":"'1.Портфель кредитів'!#REF!","v":{"$error":"#REF!"}},{"$f":"'1.Портфель кредитів'!#REF!","v":{"$error":"#REF!"}},{"$f":"'1.Портфель кредитів'!#REF!","v":{"$error":"#REF!"}},{"$f":"'1.Портфель кредитів'!E690","v":0},{"$f":"'1.Портфель кредитів'!R690","v":0},{"$f":"'1.Портфель кредитів'!T690","v":""},4,"2018-06-01","_4_43252_2"]
[{"$f":"'1.Портфель кредитів'!#REF!","v":{"$error":"#REF!"}},{"$f":"'1.Портфель кредитів'!D691","v":""},{"$f":"'1.Портфель кредитів'!#REF!","v":{"$error":"#REF!"}},{"$f":"'1.Портфель кредитів'!#REF!","v":{"$error":"#REF!"}},{"$f":"'1.Портфель кредитів'!#REF!","v":{"$error":"#REF!"}},{"$f":"'1.Портфель кредитів'!E691","v":0},{"$f":"'1.Портфель кредитів'!R691","v":0},{"$f":"'1.Портфель кредитів'!T691","v":""},4,"2018-06-01","_4_43252_2"]
[{"$f":"'1.Портфель кредитів'!#REF!","v":{"$error":"#REF!"}},{"$f":"'1.Портфель кредитів'!D692","v":""},{"$f":"'1.Портфель кредитів'!#REF!","v":{"$error":"#REF!"}},{"$f":"'1.Портфель кредитів'!#REF!","v":{"$error":"#REF!"}},{"$f":"'1.Портфель кредитів'!#REF!","v":{"$error":"#REF!"}},{"$f":"'1.Портфель кредитів'!E692","v":0},{"$f":"'1.Портфель кредитів'!R692","v":0},{"$f":"'1.Портфель кредитів'!T692","v":""},4,"2018-06-01","_4_43252_2"]
[{"$f":"'1.Портфель кредитів'!#REF!","v":{"$error":"#REF!"}},{"$f":"'1.Портфель кредитів'!D693","v":""},{"$f":"'1.Портфель кредитів'!#REF!","v":{"$error":"#REF!"}},{"$f":"'1.Портфель кредитів'!#REF!","v":{"$error":"#REF!"}},{"$f":"'1.Портфель кредитів'!#REF!","v":{"$error":"#REF!"}},{"$f":"'1.Портфель кредитів'!E693","v":0},{"$f":"'1.Портфель кредитів'!R693","v":0},{"$f":"'1.Портфель кредитів'!T693","v":""},4,"2018-06-01","_4_43252_2"]
[{"$f":"'1.Портфель кредитів'!#REF!","v":{"$error":"#REF!"}},{"$f":"'1.Портфель кредитів'!D694","v":""},{"$f":"'1.Портфель кредитів'!#REF!","v":{"$error":"#REF!"}},{"$f":"'1.Портфель кредитів'!#REF!","v":{"$error":"#REF!"}},{"$f":"'1.Портфель кредитів'!#REF!","v":{"$error":"#REF!"}},{"$f":"'1.Портфель кредитів'!E694","v":0},{"$f":"'1.Портфель кредитів'!R694","v":0},{"$f":"'1.Портфель кредитів'!T694","v":""},4,"2018-06-01","_4_43252_2"]
[{"$f":"'1.Портфель кредитів'!#REF!","v":{"$error":"#REF!"}},{"$f":"'1.Портфель кредитів'!D695","v":""},{"$f":"'1.Портфель кредитів'!#REF!","v":{"$error":"#REF!"}},{"$f":"'1.Портфель кредитів'!#REF!","v":{"$error":"#REF!"}},{"$f":"'1.Портфель кредитів'!#REF!","v":{"$error":"#REF!"}},{"$f":"'1.Портфель кредитів'!E695","v":0},{"$f":"'1.Портфель кредитів'!R695","v":0},{"$f":"'1.Портфель кредитів'!T695","v":""},4,"2018-06-01","_4_43252_2"]
[{"$f":"'1.Портфель кредитів'!#REF!","v":{"$error":"#REF!"}},{"$f":"'1.Портфель кредитів'!D696","v":""},{"$f":"'1.Портфель кредитів'!#REF!","v":{"$error":"#REF!"}},{"$f":"'1.Портфель кредитів'!#REF!","v":{"$error":"#REF!"}},{"$f":"'1.Портфель кредитів'!#REF!","v":{"$error":"#REF!"}},{"$f":"'1.Портфель кредитів'!E696","v":0},{"$f":"'1.Портфель кредитів'!R696","v":0},{"$f":"'1.Портфель кредитів'!T696","v":""},4,"2018-06-01","_4_43252_2"]
[{"$f":"'1.Портфель кредитів'!#REF!","v":{"$error":"#REF!"}},{"$f":"'1.Портфель кредитів'!D697","v":""},{"$f":"'1.Портфель кредитів'!#REF!","v":{"$error":"#REF!"}},{"$f":"'1.Портфель кредитів'!#REF!","v":{"$error":"#REF!"}},{"$f":"'1.Портфель кредитів'!#REF!","v":{"$error":"#REF!"}},{"$f":"'1.Портфель кредитів'!E697","v":0},{"$f":"'1.Портфель кредитів'!R697","v":0},{"$f":"'1.Портфель кредитів'!T697","v":""},4,"2018-06-01","_4_43252_2"]
[{"$f":"'1.Портфель кредитів'!#REF!","v":{"$error":"#REF!"}},{"$f":"'1.Портфель кредитів'!D698","v":""},{"$f":"'1.Портфель кредитів'!#REF!","v":{"$error":"#REF!"}},{"$f":"'1.Портфель кредитів'!#REF!","v":{"$error":"#REF!"}},{"$f":"'1.Портфель кредитів'!#REF!","v":{"$error":"#REF!"}},{"$f":"'1.Портфель кредитів'!E698","v":0},{"$f":"'1.Портфель кредитів'!R698","v":0},{"$f":"'1.Портфель кредитів'!T698","v":""},4,"2018-06-01","_4_43252_2"]
[{"$f":"'1.Портфель кредитів'!#REF!","v":{"$error":"#REF!"}},{"$f":"'1.Портфель кредитів'!D699","v":""},{"$f":"'1.Портфель кредитів'!#REF!","v":{"$error":"#REF!"}},{"$f":"'1.Портфель кредитів'!#REF!","v":{"$error":"#REF!"}},{"$f":"'1.Портфель кредитів'!#REF!","v":{"$error":"#REF!"}},{"$f":"'1.Портфель кредитів'!E699","v":0},{"$f":"'1.Портфель кредитів'!R699","v":0},{"$f":"'1.Портфель кредитів'!T699","v":""},4,"2018-06-01","_4_43252_2"]
[{"$f":"'1.Портфель кредитів'!#REF!","v":{"$error":"#REF!"}},{"$f":"'1.Портфель кредитів'!D700","v":""},{"$f":"'1.Портфель кредитів'!#REF!","v":{"$error":"#REF!"}},{"$f":"'1.Портфель кредитів'!#REF!","v":{"$error":"#REF!"}},{"$f":"'1.Портфель кредитів'!#REF!","v":{"$error":"#REF!"}},{"$f":"'1.Портфель кредитів'!E700","v":0},{"$f":"'1.Портфель кредитів'!R700","v":0},{"$f":"'1.Портфель кредитів'!T700","v":""},4,"2018-06-01","_4_43252_2"]
[{"$f":"'1.Портфель кредитів'!#REF!","v":{"$error":"#REF!"}},{"$f":"'1.Портфель кредитів'!D701","v":""},{"$f":"'1.Портфель кредитів'!#REF!","v":{"$error":"#REF!"}},{"$f":"'1.Портфель кредитів'!#REF!","v":{"$error":"#REF!"}},{"$f":"'1.Портфель кредитів'!#REF!","v":{"$error":"#REF!"}},{"$f":"'1.Портфель кредитів'!E701","v":0},{"$f":"'1.Портфель кредитів'!R701","v":0},{"$f":"'1.Портфель кредитів'!T701","v":""},4,"2018-06-01","_4_43252_2"]
[{"$f":"'1.Портфель кредитів'!#REF!","v":{"$error":"#REF!"}},{"$f":"'1.Портфель кредитів'!D702","v":""},{"$f":"'1.Портфель кредитів'!#REF!","v":{"$error":"#REF!"}},{"$f":"'1.Портфель кредитів'!#REF!","v":{"$error":"#REF!"}},{"$f":"'1.Портфель кредитів'!#REF!","v":{"$error":"#REF!"}},{"$f":"'1.Портфель кредитів'!E702","v":0},{"$f":"'1.Портфель кредитів'!R702","v":0},{"$f":"'1.Портфель кредитів'!T702","v":""},4,"2018-06-01","_4_43252_2"]
[{"$f":"'1.Портфель кредитів'!#REF!","v":{"$error":"#REF!"}},{"$f":"'1.Портфель кредитів'!D703","v":""},{"$f":"'1.Портфель кредитів'!#REF!","v":{"$error":"#REF!"}},{"$f":"'1.Портфель кредитів'!#REF!","v":{"$error":"#REF!"}},{"$f":"'1.Портфель кредитів'!#REF!","v":{"$error":"#REF!"}},{"$f":"'1.Портфель кредитів'!E703","v":0},{"$f":"'1.Портфель кредитів'!R703","v":0},{"$f":"'1.Портфель кредитів'!T703","v":""},4,"2018-06-01","_4_43252_2"]
[{"$f":"'1.Портфель кредитів'!#REF!","v":{"$error":"#REF!"}},{"$f":"'1.Портфель кредитів'!D704","v":""},{"$f":"'1.Портфель кредитів'!#REF!","v":{"$error":"#REF!"}},{"$f":"'1.Портфель кредитів'!#REF!","v":{"$error":"#REF!"}},{"$f":"'1.Портфель кредитів'!#REF!","v":{"$error":"#REF!"}},{"$f":"'1.Портфель кредитів'!E704","v":0},{"$f":"'1.Портфель кредитів'!R704","v":0},{"$f":"'1.Портфель кредитів'!T704","v":""},4,"2018-06-01","_4_43252_2"]
[{"$f":"'1.Портфель кредитів'!#REF!","v":{"$error":"#REF!"}},{"$f":"'1.Портфель кредитів'!D705","v":""},{"$f":"'1.Портфель кредитів'!#REF!","v":{"$error":"#REF!"}},{"$f":"'1.Портфель кредитів'!#REF!","v":{"$error":"#REF!"}},{"$f":"'1.Портфель кредитів'!#REF!","v":{"$error":"#REF!"}},{"$f":"'1.Портфель кредитів'!E705","v":0},{"$f":"'1.Портфель кредитів'!R705","v":0},{"$f":"'1.Портфель кредитів'!T705","v":""},4,"2018-06-01","_4_43252_2"]
[{"$f":"'1.Портфель кредитів'!#REF!","v":{"$error":"#REF!"}},{"$f":"'1.Портфель кредитів'!D706","v":""},{"$f":"'1.Портфель кредитів'!#REF!","v":{"$error":"#REF!"}},{"$f":"'1.Портфель кредитів'!#REF!","v":{"$error":"#REF!"}},{"$f":"'1.Портфель кредитів'!#REF!","v":{"$error":"#REF!"}},{"$f":"'1.Портфель кредитів'!E706","v":0},{"$f":"'1.Портфель кредитів'!R706","v":0},{"$f":"'1.Портфель кредитів'!T706","v":""},4,"2018-06-01","_4_43252_2"]
[{"$f":"'1.Портфель кредитів'!#REF!","v":{"$error":"#REF!"}},{"$f":"'1.Портфель кредитів'!D707","v":""},{"$f":"'1.Портфель кредитів'!#REF!","v":{"$error":"#REF!"}},{"$f":"'1.Портфель кредитів'!#REF!","v":{"$error":"#REF!"}},{"$f":"'1.Портфель кредитів'!#REF!","v":{"$error":"#REF!"}},{"$f":"'1.Портфель кредитів'!E707","v":0},{"$f":"'1.Портфель кредитів'!R707","v":0},{"$f":"'1.Портфель кредитів'!T707","v":""},{"$f":"$E$1","v":4},{"$f":"$E$2","v":"2018-06-01"},{"$f":"B710&\"_\"&I710&\"_\"&J710&\"_\"&$E$3","v":"_4_43252_2"}]
[{"$f":"'1.Портфель кредитів'!#REF!","v":{"$error":"#REF!"}},{"$f":"'1.Портфель кредитів'!D708","v":""},{"$f":"'1.Портфель кредитів'!#REF!","v":{"$error":"#REF!"}},{"$f":"'1.Портфель кредитів'!#REF!","v":{"$error":"#REF!"}},{"$f":"'1.Портфель кредитів'!#REF!","v":{"$error":"#REF!"}},{"$f":"'1.Портфель кредитів'!E708","v":0},{"$f":"'1.Портфель кредитів'!R708","v":0},{"$f":"'1.Портфель кредитів'!T708","v":""},4,"2018-06-01","_4_43252_2"]
[{"$f":"'1.Портфель кредитів'!#REF!","v":{"$error":"#REF!"}},{"$f":"'1.Портфель кредитів'!D709","v":""},{"$f":"'1.Портфель кредитів'!#REF!","v":{"$error":"#REF!"}},{"$f":"'1.Портфель кредитів'!#REF!","v":{"$error":"#REF!"}},{"$f":"'1.Портфель кредитів'!#REF!","v":{"$error":"#REF!"}},{"$f":"'1.Портфель кредитів'!E709","v":0},{"$f":"'1.Портфель кредитів'!R709","v":0},{"$f":"'1.Портфель кредитів'!T709","v":""},4,"2018-06-01","_4_43252_2"]
[{"$f":"'1.Портфель кредитів'!#REF!","v":{"$error":"#REF!"}},{"$f":"'1.Портфель кредитів'!D710","v":""},{"$f":"'1.Портфель кредитів'!#REF!","v":{"$error":"#REF!"}},{"$f":"'1.Портфель кредитів'!#REF!","v":{"$error":"#REF!"}},{"$f":"'1.Портфель кредитів'!#REF!","v":{"$error":"#REF!"}},{"$f":"'1.Портфель кредитів'!E710","v":0},{"$f":"'1.Портфель кредитів'!R710","v":0},{"$f":"'1.Портфель кредитів'!T710","v":""},4,"2018-06-01","_4_43252_2"]
[{"$f":"'1.Портфель кредитів'!#REF!","v":{"$error":"#REF!"}},{"$f":"'1.Портфель кредитів'!D711","v":""},{"$f":"'1.Портфель кредитів'!#REF!","v":{"$error":"#REF!"}},{"$f":"'1.Портфель кредитів'!#REF!","v":{"$error":"#REF!"}},{"$f":"'1.Портфель кредитів'!#REF!","v":{"$error":"#REF!"}},{"$f":"'1.Портфель кредитів'!E711","v":0},{"$f":"'1.Портфель кредитів'!R711","v":0},{"$f":"'1.Портфель кредитів'!T711","v":""},4,"2018-06-01","_4_43252_2"]
[{"$f":"'1.Портфель кредитів'!#REF!","v":{"$error":"#REF!"}},{"$f":"'1.Портфель кредитів'!D712","v":""},{"$f":"'1.Портфель кредитів'!#REF!","v":{"$error":"#REF!"}},{"$f":"'1.Портфель кредитів'!#REF!","v":{"$error":"#REF!"}},{"$f":"'1.Портфель кредитів'!#REF!","v":{"$error":"#REF!"}},{"$f":"'1.Портфель кредитів'!E712","v":0},{"$f":"'1.Портфель кредитів'!R712","v":0},{"$f":"'1.Портфель кредитів'!T712","v":""},4,"2018-06-01","_4_43252_2"]
[{"$f":"'1.Портфель кредитів'!#REF!","v":{"$error":"#REF!"}},{"$f":"'1.Портфель кредитів'!D713","v":""},{"$f":"'1.Портфель кредитів'!#REF!","v":{"$error":"#REF!"}},{"$f":"'1.Портфель кредитів'!#REF!","v":{"$error":"#REF!"}},{"$f":"'1.Портфель кредитів'!#REF!","v":{"$error":"#REF!"}},{"$f":"'1.Портфель кредитів'!E713","v":0},{"$f":"'1.Портфель кредитів'!R713","v":0},{"$f":"'1.Портфель кредитів'!T713","v":""},4,"2018-06-01","_4_43252_2"]
[{"$f":"'1.Портфель кредитів'!#REF!","v":{"$error":"#REF!"}},{"$f":"'1.Портфель кредитів'!D714","v":""},{"$f":"'1.Портфель кредитів'!#REF!","v":{"$error":"#REF!"}},{"$f":"'1.Портфель кредитів'!#REF!","v":{"$error":"#REF!"}},{"$f":"'1.Портфель кредитів'!#REF!","v":{"$error":"#REF!"}},{"$f":"'1.Портфель кредитів'!E714","v":0},{"$f":"'1.Портфель кредитів'!R714","v":0},{"$f":"'1.Портфель кредитів'!T714","v":""},4,"2018-06-01","_4_43252_2"]
[{"$f":"'1.Портфель кредитів'!#REF!","v":{"$error":"#REF!"}},{"$f":"'1.Портфель кредитів'!D715","v":""},{"$f":"'1.Портфель кредитів'!#REF!","v":{"$error":"#REF!"}},{"$f":"'1.Портфель кредитів'!#REF!","v":{"$error":"#REF!"}},{"$f":"'1.Портфель кредитів'!#REF!","v":{"$error":"#REF!"}},{"$f":"'1.Портфель кредитів'!E715","v":0},{"$f":"'1.Портфель кредитів'!R715","v":0},{"$f":"'1.Портфель кредитів'!T715","v":""},4,"2018-06-01","_4_43252_2"]
[{"$f":"'1.Портфель кредитів'!#REF!","v":{"$error":"#REF!"}},{"$f":"'1.Портфель кредитів'!D716","v":""},{"$f":"'1.Портфель кредитів'!#REF!","v":{"$error":"#REF!"}},{"$f":"'1.Портфель кредитів'!#REF!","v":{"$error":"#REF!"}},{"$f":"'1.Портфель кредитів'!#REF!","v":{"$error":"#REF!"}},{"$f":"'1.Портфель кредитів'!E716","v":0},{"$f":"'1.Портфель кредитів'!R716","v":0},{"$f":"'1.Портфель кредитів'!T716","v":""},4,"2018-06-01","_4_43252_2"]
[{"$f":"'1.Портфель кредитів'!#REF!","v":{"$error":"#REF!"}},{"$f":"'1.Портфель кредитів'!D717","v":""},{"$f":"'1.Портфель кредитів'!#REF!","v":{"$error":"#REF!"}},{"$f":"'1.Портфель кредитів'!#REF!","v":{"$error":"#REF!"}},{"$f":"'1.Портфель кредитів'!#REF!","v":{"$error":"#REF!"}},{"$f":"'1.Портфель кредитів'!E717","v":0},{"$f":"'1.Портфель кредитів'!R717","v":0},{"$f":"'1.Портфель кредитів'!T717","v":""},4,"2018-06-01","_4_43252_2"]
[{"$f":"'1.Портфель кредитів'!#REF!","v":{"$error":"#REF!"}},{"$f":"'1.Портфель кредитів'!D718","v":""},{"$f":"'1.Портфель кредитів'!#REF!","v":{"$error":"#REF!"}},{"$f":"'1.Портфель кредитів'!#REF!","v":{"$error":"#REF!"}},{"$f":"'1.Портфель кредитів'!#REF!","v":{"$error":"#REF!"}},{"$f":"'1.Портфель кредитів'!E718","v":0},{"$f":"'1.Портфель кредитів'!R718","v":0},{"$f":"'1.Портфель кредитів'!T718","v":""},4,"2018-06-01","_4_43252_2"]
[{"$f":"'1.Портфель кредитів'!#REF!","v":{"$error":"#REF!"}},{"$f":"'1.Портфель кредитів'!D719","v":""},{"$f":"'1.Портфель кредитів'!#REF!","v":{"$error":"#REF!"}},{"$f":"'1.Портфель кредитів'!#REF!","v":{"$error":"#REF!"}},{"$f":"'1.Портфель кредитів'!#REF!","v":{"$error":"#REF!"}},{"$f":"'1.Портфель кредитів'!E719","v":0},{"$f":"'1.Портфель кредитів'!R719","v":0},{"$f":"'1.Портфель кредитів'!T719","v":""},4,"2018-06-01","_4_43252_2"]
[{"$f":"'1.Портфель кредитів'!#REF!","v":{"$error":"#REF!"}},{"$f":"'1.Портфель кредитів'!D720","v":""},{"$f":"'1.Портфель кредитів'!#REF!","v":{"$error":"#REF!"}},{"$f":"'1.Портфель кредитів'!#REF!","v":{"$error":"#REF!"}},{"$f":"'1.Портфель кредитів'!#REF!","v":{"$error":"#REF!"}},{"$f":"'1.Портфель кредитів'!E720","v":0},{"$f":"'1.Портфель кредитів'!R720","v":0},{"$f":"'1.Портфель кредитів'!T720","v":""},4,"2018-06-01","_4_43252_2"]
[{"$f":"'1.Портфель кредитів'!#REF!","v":{"$error":"#REF!"}},{"$f":"'1.Портфель кредитів'!D721","v":""},{"$f":"'1.Портфель кредитів'!#REF!","v":{"$error":"#REF!"}},{"$f":"'1.Портфель кредитів'!#REF!","v":{"$error":"#REF!"}},{"$f":"'1.Портфель кредитів'!#REF!","v":{"$error":"#REF!"}},{"$f":"'1.Портфель кредитів'!E721","v":0},{"$f":"'1.Портфель кредитів'!R721","v":0},{"$f":"'1.Портфель кредитів'!T721","v":""},4,"2018-06-01","_4_43252_2"]
[{"$f":"'1.Портфель кредитів'!#REF!","v":{"$error":"#REF!"}},{"$f":"'1.Портфель кредитів'!D722","v":""},{"$f":"'1.Портфель кредитів'!#REF!","v":{"$error":"#REF!"}},{"$f":"'1.Портфель кредитів'!#REF!","v":{"$error":"#REF!"}},{"$f":"'1.Портфель кредитів'!#REF!","v":{"$error":"#REF!"}},{"$f":"'1.Портфель кредитів'!E722","v":0},{"$f":"'1.Портфель кредитів'!R722","v":0},{"$f":"'1.Портфель кредитів'!T722","v":""},4,"2018-06-01","_4_43252_2"]
[{"$f":"'1.Портфель кредитів'!#REF!","v":{"$error":"#REF!"}},{"$f":"'1.Портфель кредитів'!D723","v":""},{"$f":"'1.Портфель кредитів'!#REF!","v":{"$error":"#REF!"}},{"$f":"'1.Портфель кредитів'!#REF!","v":{"$error":"#REF!"}},{"$f":"'1.Портфель кредитів'!#REF!","v":{"$error":"#REF!"}},{"$f":"'1.Портфель кредитів'!E723","v":0},{"$f":"'1.Портфель кредитів'!R723","v":0},{"$f":"'1.Портфель кредитів'!T723","v":""},4,"2018-06-01","_4_43252_2"]
[{"$f":"'1.Портфель кредитів'!#REF!","v":{"$error":"#REF!"}},{"$f":"'1.Портфель кредитів'!D724","v":""},{"$f":"'1.Портфель кредитів'!#REF!","v":{"$error":"#REF!"}},{"$f":"'1.Портфель кредитів'!#REF!","v":{"$error":"#REF!"}},{"$f":"'1.Портфель кредитів'!#REF!","v":{"$error":"#REF!"}},{"$f":"'1.Портфель кредитів'!E724","v":0},{"$f":"'1.Портфель кредитів'!R724","v":0},{"$f":"'1.Портфель кредитів'!T724","v":""},4,"2018-06-01","_4_43252_2"]
[{"$f":"'1.Портфель кредитів'!#REF!","v":{"$error":"#REF!"}},{"$f":"'1.Портфель кредитів'!D725","v":""},{"$f":"'1.Портфель кредитів'!#REF!","v":{"$error":"#REF!"}},{"$f":"'1.Портфель кредитів'!#REF!","v":{"$error":"#REF!"}},{"$f":"'1.Портфель кредитів'!#REF!","v":{"$error":"#REF!"}},{"$f":"'1.Портфель кредитів'!E725","v":0},{"$f":"'1.Портфель кредитів'!R725","v":0},{"$f":"'1.Портфель кредитів'!T725","v":""},4,"2018-06-01","_4_43252_2"]
[{"$f":"'1.Портфель кредитів'!#REF!","v":{"$error":"#REF!"}},{"$f":"'1.Портфель кредитів'!D726","v":""},{"$f":"'1.Портфель кредитів'!#REF!","v":{"$error":"#REF!"}},{"$f":"'1.Портфель кредитів'!#REF!","v":{"$error":"#REF!"}},{"$f":"'1.Портфель кредитів'!#REF!","v":{"$error":"#REF!"}},{"$f":"'1.Портфель кредитів'!E726","v":0},{"$f":"'1.Портфель кредитів'!R726","v":0},{"$f":"'1.Портфель кредитів'!T726","v":""},4,"2018-06-01","_4_43252_2"]
[{"$f":"'1.Портфель кредитів'!#REF!","v":{"$error":"#REF!"}},{"$f":"'1.Портфель кредитів'!D727","v":""},{"$f":"'1.Портфель кредитів'!#REF!","v":{"$error":"#REF!"}},{"$f":"'1.Портфель кредитів'!#REF!","v":{"$error":"#REF!"}},{"$f":"'1.Портфель кредитів'!#REF!","v":{"$error":"#REF!"}},{"$f":"'1.Портфель кредитів'!E727","v":0},{"$f":"'1.Портфель кредитів'!R727","v":0},{"$f":"'1.Портфель кредитів'!T727","v":""},4,"2018-06-01","_4_43252_2"]
[{"$f":"'1.Портфель кредитів'!#REF!","v":{"$error":"#REF!"}},{"$f":"'1.Портфель кредитів'!D728","v":""},{"$f":"'1.Портфель кредитів'!#REF!","v":{"$error":"#REF!"}},{"$f":"'1.Портфель кредитів'!#REF!","v":{"$error":"#REF!"}},{"$f":"'1.Портфель кредитів'!#REF!","v":{"$error":"#REF!"}},{"$f":"'1.Портфель кредитів'!E728","v":0},{"$f":"'1.Портфель кредитів'!R728","v":0},{"$f":"'1.Портфель кредитів'!T728","v":""},4,"2018-06-01","_4_43252_2"]
[{"$f":"'1.Портфель кредитів'!#REF!","v":{"$error":"#REF!"}},{"$f":"'1.Портфель кредитів'!D729","v":""},{"$f":"'1.Портфель кредитів'!#REF!","v":{"$error":"#REF!"}},{"$f":"'1.Портфель кредитів'!#REF!","v":{"$error":"#REF!"}},{"$f":"'1.Портфель кредитів'!#REF!","v":{"$error":"#REF!"}},{"$f":"'1.Портфель кредитів'!E729","v":0},{"$f":"'1.Портфель кредитів'!R729","v":0},{"$f":"'1.Портфель кредитів'!T729","v":""},4,"2018-06-01","_4_43252_2"]
[{"$f":"'1.Портфель кредитів'!#REF!","v":{"$error":"#REF!"}},{"$f":"'1.Портфель кредитів'!D730","v":""},{"$f":"'1.Портфель кредитів'!#REF!","v":{"$error":"#REF!"}},{"$f":"'1.Портфель кредитів'!#REF!","v":{"$error":"#REF!"}},{"$f":"'1.Портфель кредитів'!#REF!","v":{"$error":"#REF!"}},{"$f":"'1.Портфель кредитів'!E730","v":0},{"$f":"'1.Портфель кредитів'!R730","v":0},{"$f":"'1.Портфель кредитів'!T730","v":""},4,"2018-06-01","_4_43252_2"]
[{"$f":"'1.Портфель кредитів'!#REF!","v":{"$error":"#REF!"}},{"$f":"'1.Портфель кредитів'!D731","v":""},{"$f":"'1.Портфель кредитів'!#REF!","v":{"$error":"#REF!"}},{"$f":"'1.Портфель кредитів'!#REF!","v":{"$error":"#REF!"}},{"$f":"'1.Портфель кредитів'!#REF!","v":{"$error":"#REF!"}},{"$f":"'1.Портфель кредитів'!E731","v":0},{"$f":"'1.Портфель кредитів'!R731","v":0},{"$f":"'1.Портфель кредитів'!T731","v":""},4,"2018-06-01","_4_43252_2"]
[{"$f":"'1.Портфель кредитів'!#REF!","v":{"$error":"#REF!"}},{"$f":"'1.Портфель кредитів'!D732","v":""},{"$f":"'1.Портфель кредитів'!#REF!","v":{"$error":"#REF!"}},{"$f":"'1.Портфель кредитів'!#REF!","v":{"$error":"#REF!"}},{"$f":"'1.Портфель кредитів'!#REF!","v":{"$error":"#REF!"}},{"$f":"'1.Портфель кредитів'!E732","v":0},{"$f":"'1.Портфель кредитів'!R732","v":0},{"$f":"'1.Портфель кредитів'!T732","v":""},4,"2018-06-01","_4_43252_2"]
[{"$f":"'1.Портфель кредитів'!#REF!","v":{"$error":"#REF!"}},{"$f":"'1.Портфель кредитів'!D733","v":""},{"$f":"'1.Портфель кредитів'!#REF!","v":{"$error":"#REF!"}},{"$f":"'1.Портфель кредитів'!#REF!","v":{"$error":"#REF!"}},{"$f":"'1.Портфель кредитів'!#REF!","v":{"$error":"#REF!"}},{"$f":"'1.Портфель кредитів'!E733","v":0},{"$f":"'1.Портфель кредитів'!R733","v":0},{"$f":"'1.Портфель кредитів'!T733","v":""},4,"2018-06-01","_4_43252_2"]
[{"$f":"'1.Портфель кредитів'!#REF!","v":{"$error":"#REF!"}},{"$f":"'1.Портфель кредитів'!D734","v":""},{"$f":"'1.Портфель кредитів'!#REF!","v":{"$error":"#REF!"}},{"$f":"'1.Портфель кредитів'!#REF!","v":{"$error":"#REF!"}},{"$f":"'1.Портфель кредитів'!#REF!","v":{"$error":"#REF!"}},{"$f":"'1.Портфель кредитів'!E734","v":0},{"$f":"'1.Портфель кредитів'!R734","v":0},{"$f":"'1.Портфель кредитів'!T734","v":""},4,"2018-06-01","_4_43252_2"]
[{"$f":"'1.Портфель кредитів'!#REF!","v":{"$error":"#REF!"}},{"$f":"'1.Портфель кредитів'!D735","v":""},{"$f":"'1.Портфель кредитів'!#REF!","v":{"$error":"#REF!"}},{"$f":"'1.Портфель кредитів'!#REF!","v":{"$error":"#REF!"}},{"$f":"'1.Портфель кредитів'!#REF!","v":{"$error":"#REF!"}},{"$f":"'1.Портфель кредитів'!E735","v":0},{"$f":"'1.Портфель кредитів'!R735","v":0},{"$f":"'1.Портфель кредитів'!T735","v":""},4,"2018-06-01","_4_43252_2"]
[{"$f":"'1.Портфель кредитів'!#REF!","v":{"$error":"#REF!"}},{"$f":"'1.Портфель кредитів'!D736","v":""},{"$f":"'1.Портфель кредитів'!#REF!","v":{"$error":"#REF!"}},{"$f":"'1.Портфель кредитів'!#REF!","v":{"$error":"#REF!"}},{"$f":"'1.Портфель кредитів'!#REF!","v":{"$error":"#REF!"}},{"$f":"'1.Портфель кредитів'!E736","v":0},{"$f":"'1.Портфель кредитів'!R736","v":0},{"$f":"'1.Портфель кредитів'!T736","v":""},4,"2018-06-01","_4_43252_2"]
[{"$f":"'1.Портфель кредитів'!#REF!","v":{"$error":"#REF!"}},{"$f":"'1.Портфель кредитів'!D737","v":""},{"$f":"'1.Портфель кредитів'!#REF!","v":{"$error":"#REF!"}},{"$f":"'1.Портфель кредитів'!#REF!","v":{"$error":"#REF!"}},{"$f":"'1.Портфель кредитів'!#REF!","v":{"$error":"#REF!"}},{"$f":"'1.Портфель кредитів'!E737","v":0},{"$f":"'1.Портфель кредитів'!R737","v":0},{"$f":"'1.Портфель кредитів'!T737","v":""},4,"2018-06-01","_4_43252_2"]
[{"$f":"'1.Портфель кредитів'!#REF!","v":{"$error":"#REF!"}},{"$f":"'1.Портфель кредитів'!D738","v":""},{"$f":"'1.Портфель кредитів'!#REF!","v":{"$error":"#REF!"}},{"$f":"'1.Портфель кредитів'!#REF!","v":{"$error":"#REF!"}},{"$f":"'1.Портфель кредитів'!#REF!","v":{"$error":"#REF!"}},{"$f":"'1.Портфель кредитів'!E738","v":0},{"$f":"'1.Портфель кредитів'!R738","v":0},{"$f":"'1.Портфель кредитів'!T738","v":""},4,"2018-06-01","_4_43252_2"]
[{"$f":"'1.Портфель кредитів'!#REF!","v":{"$error":"#REF!"}},{"$f":"'1.Портфель кредитів'!D739","v":""},{"$f":"'1.Портфель кредитів'!#REF!","v":{"$error":"#REF!"}},{"$f":"'1.Портфель кредитів'!#REF!","v":{"$error":"#REF!"}},{"$f":"'1.Портфель кредитів'!#REF!","v":{"$error":"#REF!"}},{"$f":"'1.Портфель кредитів'!E739","v":0},{"$f":"'1.Портфель кредитів'!R739","v":0},{"$f":"'1.Портфель кредитів'!T739","v":""},4,"2018-06-01","_4_43252_2"]
[{"$f":"'1.Портфель кредитів'!#REF!","v":{"$error":"#REF!"}},{"$f":"'1.Портфель кредитів'!D740","v":""},{"$f":"'1.Портфель кредитів'!#REF!","v":{"$error":"#REF!"}},{"$f":"'1.Портфель кредитів'!#REF!","v":{"$error":"#REF!"}},{"$f":"'1.Портфель кредитів'!#REF!","v":{"$error":"#REF!"}},{"$f":"'1.Портфель кредитів'!E740","v":0},{"$f":"'1.Портфель кредитів'!R740","v":0},{"$f":"'1.Портфель кредитів'!T740","v":""},4,"2018-06-01","_4_43252_2"]
[{"$f":"'1.Портфель кредитів'!#REF!","v":{"$error":"#REF!"}},{"$f":"'1.Портфель кредитів'!D741","v":""},{"$f":"'1.Портфель кредитів'!#REF!","v":{"$error":"#REF!"}},{"$f":"'1.Портфель кредитів'!#REF!","v":{"$error":"#REF!"}},{"$f":"'1.Портфель кредитів'!#REF!","v":{"$error":"#REF!"}},{"$f":"'1.Портфель кредитів'!E741","v":0},{"$f":"'1.Портфель кредитів'!R741","v":0},{"$f":"'1.Портфель кредитів'!T741","v":""},4,"2018-06-01","_4_43252_2"]
[{"$f":"'1.Портфель кредитів'!#REF!","v":{"$error":"#REF!"}},{"$f":"'1.Портфель кредитів'!D742","v":""},{"$f":"'1.Портфель кредитів'!#REF!","v":{"$error":"#REF!"}},{"$f":"'1.Портфель кредитів'!#REF!","v":{"$error":"#REF!"}},{"$f":"'1.Портфель кредитів'!#REF!","v":{"$error":"#REF!"}},{"$f":"'1.Портфель кредитів'!E742","v":0},{"$f":"'1.Портфель кредитів'!R742","v":0},{"$f":"'1.Портфель кредитів'!T742","v":""},4,"2018-06-01","_4_43252_2"]
[{"$f":"'1.Портфель кредитів'!#REF!","v":{"$error":"#REF!"}},{"$f":"'1.Портфель кредитів'!D743","v":""},{"$f":"'1.Портфель кредитів'!#REF!","v":{"$error":"#REF!"}},{"$f":"'1.Портфель кредитів'!#REF!","v":{"$error":"#REF!"}},{"$f":"'1.Портфель кредитів'!#REF!","v":{"$error":"#REF!"}},{"$f":"'1.Портфель кредитів'!E743","v":0},{"$f":"'1.Портфель кредитів'!R743","v":0},{"$f":"'1.Портфель кредитів'!T743","v":""},4,"2018-06-01","_4_43252_2"]
[{"$f":"'1.Портфель кредитів'!#REF!","v":{"$error":"#REF!"}},{"$f":"'1.Портфель кредитів'!D744","v":""},{"$f":"'1.Портфель кредитів'!#REF!","v":{"$error":"#REF!"}},{"$f":"'1.Портфель кредитів'!#REF!","v":{"$error":"#REF!"}},{"$f":"'1.Портфель кредитів'!#REF!","v":{"$error":"#REF!"}},{"$f":"'1.Портфель кредитів'!E744","v":0},{"$f":"'1.Портфель кредитів'!R744","v":0},{"$f":"'1.Портфель кредитів'!T744","v":""},4,"2018-06-01","_4_43252_2"]
[{"$f":"'1.Портфель кредитів'!#REF!","v":{"$error":"#REF!"}},{"$f":"'1.Портфель кредитів'!D745","v":""},{"$f":"'1.Портфель кредитів'!#REF!","v":{"$error":"#REF!"}},{"$f":"'1.Портфель кредитів'!#REF!","v":{"$error":"#REF!"}},{"$f":"'1.Портфель кредитів'!#REF!","v":{"$error":"#REF!"}},{"$f":"'1.Портфель кредитів'!E745","v":0},{"$f":"'1.Портфель кредитів'!R745","v":0},{"$f":"'1.Портфель кредитів'!T745","v":""},4,"2018-06-01","_4_43252_2"]
[{"$f":"'1.Портфель кредитів'!#REF!","v":{"$error":"#REF!"}},{"$f":"'1.Портфель кредитів'!D746","v":""},{"$f":"'1.Портфель кредитів'!#REF!","v":{"$error":"#REF!"}},{"$f":"'1.Портфель кредитів'!#REF!","v":{"$error":"#REF!"}},{"$f":"'1.Портфель кредитів'!#REF!","v":{"$error":"#REF!"}},{"$f":"'1.Портфель кредитів'!E746","v":0},{"$f":"'1.Портфель кредитів'!R746","v":0},{"$f":"'1.Портфель кредитів'!T746","v":""},4,"2018-06-01","_4_43252_2"]
[{"$f":"'1.Портфель кредитів'!#REF!","v":{"$error":"#REF!"}},{"$f":"'1.Портфель кредитів'!D747","v":""},{"$f":"'1.Портфель кредитів'!#REF!","v":{"$error":"#REF!"}},{"$f":"'1.Портфель кредитів'!#REF!","v":{"$error":"#REF!"}},{"$f":"'1.Портфель кредитів'!#REF!","v":{"$error":"#REF!"}},{"$f":"'1.Портфель кредитів'!E747","v":0},{"$f":"'1.Портфель кредитів'!R747","v":0},{"$f":"'1.Портфель кредитів'!T747","v":""},4,"2018-06-01","_4_43252_2"]
[{"$f":"'1.Портфель кредитів'!#REF!","v":{"$error":"#REF!"}},{"$f":"'1.Портфель кредитів'!D748","v":""},{"$f":"'1.Портфель кредитів'!#REF!","v":{"$error":"#REF!"}},{"$f":"'1.Портфель кредитів'!#REF!","v":{"$error":"#REF!"}},{"$f":"'1.Портфель кредитів'!#REF!","v":{"$error":"#REF!"}},{"$f":"'1.Портфель кредитів'!E748","v":0},{"$f":"'1.Портфель кредитів'!R748","v":0},{"$f":"'1.Портфель кредитів'!T748","v":""},4,"2018-06-01","_4_43252_2"]
[{"$f":"'1.Портфель кредитів'!#REF!","v":{"$error":"#REF!"}},{"$f":"'1.Портфель кредитів'!D749","v":""},{"$f":"'1.Портфель кредитів'!#REF!","v":{"$error":"#REF!"}},{"$f":"'1.Портфель кредитів'!#REF!","v":{"$error":"#REF!"}},{"$f":"'1.Портфель кредитів'!#REF!","v":{"$error":"#REF!"}},{"$f":"'1.Портфель кредитів'!E749","v":0},{"$f":"'1.Портфель кредитів'!R749","v":0},{"$f":"'1.Портфель кредитів'!T749","v":""},4,"2018-06-01","_4_43252_2"]
[{"$f":"'1.Портфель кредитів'!#REF!","v":{"$error":"#REF!"}},{"$f":"'1.Портфель кредитів'!D750","v":""},{"$f":"'1.Портфель кредитів'!#REF!","v":{"$error":"#REF!"}},{"$f":"'1.Портфель кредитів'!#REF!","v":{"$error":"#REF!"}},{"$f":"'1.Портфель кредитів'!#REF!","v":{"$error":"#REF!"}},{"$f":"'1.Портфель кредитів'!E750","v":0},{"$f":"'1.Портфель кредитів'!R750","v":0},{"$f":"'1.Портфель кредитів'!T750","v":""},4,"2018-06-01","_4_43252_2"]
[{"$f":"'1.Портфель кредитів'!#REF!","v":{"$error":"#REF!"}},{"$f":"'1.Портфель кредитів'!D751","v":""},{"$f":"'1.Портфель кредитів'!#REF!","v":{"$error":"#REF!"}},{"$f":"'1.Портфель кредитів'!#REF!","v":{"$error":"#REF!"}},{"$f":"'1.Портфель кредитів'!#REF!","v":{"$error":"#REF!"}},{"$f":"'1.Портфель кредитів'!E751","v":0},{"$f":"'1.Портфель кредитів'!R751","v":0},{"$f":"'1.Портфель кредитів'!T751","v":""},4,"2018-06-01","_4_43252_2"]
[{"$f":"'1.Портфель кредитів'!#REF!","v":{"$error":"#REF!"}},{"$f":"'1.Портфель кредитів'!D752","v":""},{"$f":"'1.Портфель кредитів'!#REF!","v":{"$error":"#REF!"}},{"$f":"'1.Портфель кредитів'!#REF!","v":{"$error":"#REF!"}},{"$f":"'1.Портфель кредитів'!#REF!","v":{"$error":"#REF!"}},{"$f":"'1.Портфель кредитів'!E752","v":0},{"$f":"'1.Портфель кредитів'!R752","v":0},{"$f":"'1.Портфель кредитів'!T752","v":""},4,"2018-06-01","_4_43252_2"]
[{"$f":"'1.Портфель кредитів'!#REF!","v":{"$error":"#REF!"}},{"$f":"'1.Портфель кредитів'!D753","v":""},{"$f":"'1.Портфель кредитів'!#REF!","v":{"$error":"#REF!"}},{"$f":"'1.Портфель кредитів'!#REF!","v":{"$error":"#REF!"}},{"$f":"'1.Портфель кредитів'!#REF!","v":{"$error":"#REF!"}},{"$f":"'1.Портфель кредитів'!E753","v":0},{"$f":"'1.Портфель кредитів'!R753","v":0},{"$f":"'1.Портфель кредитів'!T753","v":""},4,"2018-06-01","_4_43252_2"]
[{"$f":"'1.Портфель кредитів'!#REF!","v":{"$error":"#REF!"}},{"$f":"'1.Портфель кредитів'!D754","v":""},{"$f":"'1.Портфель кредитів'!#REF!","v":{"$error":"#REF!"}},{"$f":"'1.Портфель кредитів'!#REF!","v":{"$error":"#REF!"}},{"$f":"'1.Портфель кредитів'!#REF!","v":{"$error":"#REF!"}},{"$f":"'1.Портфель кредитів'!E754","v":0},{"$f":"'1.Портфель кредитів'!R754","v":0},{"$f":"'1.Портфель кредитів'!T754","v":""},4,"2018-06-01","_4_43252_2"]
[{"$f":"'1.Портфель кредитів'!#REF!","v":{"$error":"#REF!"}},{"$f":"'1.Портфель кредитів'!D755","v":""},{"$f":"'1.Портфель кредитів'!#REF!","v":{"$error":"#REF!"}},{"$f":"'1.Портфель кредитів'!#REF!","v":{"$error":"#REF!"}},{"$f":"'1.Портфель кредитів'!#REF!","v":{"$error":"#REF!"}},{"$f":"'1.Портфель кредитів'!E755","v":0},{"$f":"'1.Портфель кредитів'!R755","v":0},{"$f":"'1.Портфель кредитів'!T755","v":""},4,"2018-06-01","_4_43252_2"]
[{"$f":"'1.Портфель кредитів'!#REF!","v":{"$error":"#REF!"}},{"$f":"'1.Портфель кредитів'!D756","v":""},{"$f":"'1.Портфель кредитів'!#REF!","v":{"$error":"#REF!"}},{"$f":"'1.Портфель кредитів'!#REF!","v":{"$error":"#REF!"}},{"$f":"'1.Портфель кредитів'!#REF!","v":{"$error":"#REF!"}},{"$f":"'1.Портфель кредитів'!E756","v":0},{"$f":"'1.Портфель кредитів'!R756","v":0},{"$f":"'1.Портфель кредитів'!T756","v":""},4,"2018-06-01","_4_43252_2"]
[{"$f":"'1.Портфель кредитів'!#REF!","v":{"$error":"#REF!"}},{"$f":"'1.Портфель кредитів'!D757","v":""},{"$f":"'1.Портфель кредитів'!#REF!","v":{"$error":"#REF!"}},{"$f":"'1.Портфель кредитів'!#REF!","v":{"$error":"#REF!"}},{"$f":"'1.Портфель кредитів'!#REF!","v":{"$error":"#REF!"}},{"$f":"'1.Портфель кредитів'!E757","v":0},{"$f":"'1.Портфель кредитів'!R757","v":0},{"$f":"'1.Портфель кредитів'!T757","v":""},4,"2018-06-01","_4_43252_2"]
[{"$f":"'1.Портфель кредитів'!#REF!","v":{"$error":"#REF!"}},{"$f":"'1.Портфель кредитів'!D758","v":""},{"$f":"'1.Портфель кредитів'!#REF!","v":{"$error":"#REF!"}},{"$f":"'1.Портфель кредитів'!#REF!","v":{"$error":"#REF!"}},{"$f":"'1.Портфель кредитів'!#REF!","v":{"$error":"#REF!"}},{"$f":"'1.Портфель кредитів'!E758","v":0},{"$f":"'1.Портфель кредитів'!R758","v":0},{"$f":"'1.Портфель кредитів'!T758","v":""},4,"2018-06-01","_4_43252_2"]
[{"$f":"'1.Портфель кредитів'!#REF!","v":{"$error":"#REF!"}},{"$f":"'1.Портфель кредитів'!D759","v":""},{"$f":"'1.Портфель кредитів'!#REF!","v":{"$error":"#REF!"}},{"$f":"'1.Портфель кредитів'!#REF!","v":{"$error":"#REF!"}},{"$f":"'1.Портфель кредитів'!#REF!","v":{"$error":"#REF!"}},{"$f":"'1.Портфель кредитів'!E759","v":0},{"$f":"'1.Портфель кредитів'!R759","v":0},{"$f":"'1.Портфель кредитів'!T759","v":""},4,"2018-06-01","_4_43252_2"]
[{"$f":"'1.Портфель кредитів'!#REF!","v":{"$error":"#REF!"}},{"$f":"'1.Портфель кредитів'!D760","v":""},{"$f":"'1.Портфель кредитів'!#REF!","v":{"$error":"#REF!"}},{"$f":"'1.Портфель кредитів'!#REF!","v":{"$error":"#REF!"}},{"$f":"'1.Портфель кредитів'!#REF!","v":{"$error":"#REF!"}},{"$f":"'1.Портфель кредитів'!E760","v":0},{"$f":"'1.Портфель кредитів'!R760","v":0},{"$f":"'1.Портфель кредитів'!T760","v":""},4,"2018-06-01","_4_43252_2"]
[{"$f":"'1.Портфель кредитів'!#REF!","v":{"$error":"#REF!"}},{"$f":"'1.Портфель кредитів'!D761","v":""},{"$f":"'1.Портфель кредитів'!#REF!","v":{"$error":"#REF!"}},{"$f":"'1.Портфель кредитів'!#REF!","v":{"$error":"#REF!"}},{"$f":"'1.Портфель кредитів'!#REF!","v":{"$error":"#REF!"}},{"$f":"'1.Портфель кредитів'!E761","v":0},{"$f":"'1.Портфель кредитів'!R761","v":0},{"$f":"'1.Портфель кредитів'!T761","v":""},4,"2018-06-01","_4_43252_2"]
[{"$f":"'1.Портфель кредитів'!#REF!","v":{"$error":"#REF!"}},{"$f":"'1.Портфель кредитів'!D762","v":""},{"$f":"'1.Портфель кредитів'!#REF!","v":{"$error":"#REF!"}},{"$f":"'1.Портфель кредитів'!#REF!","v":{"$error":"#REF!"}},{"$f":"'1.Портфель кредитів'!#REF!","v":{"$error":"#REF!"}},{"$f":"'1.Портфель кредитів'!E762","v":0},{"$f":"'1.Портфель кредитів'!R762","v":0},{"$f":"'1.Портфель кредитів'!T762","v":""},4,"2018-06-01","_4_43252_2"]
[{"$f":"'1.Портфель кредитів'!#REF!","v":{"$error":"#REF!"}},{"$f":"'1.Портфель кредитів'!D763","v":""},{"$f":"'1.Портфель кредитів'!#REF!","v":{"$error":"#REF!"}},{"$f":"'1.Портфель кредитів'!#REF!","v":{"$error":"#REF!"}},{"$f":"'1.Портфель кредитів'!#REF!","v":{"$error":"#REF!"}},{"$f":"'1.Портфель кредитів'!E763","v":0},{"$f":"'1.Портфель кредитів'!R763","v":0},{"$f":"'1.Портфель кредитів'!T763","v":""},4,"2018-06-01","_4_43252_2"]
[{"$f":"'1.Портфель кредитів'!#REF!","v":{"$error":"#REF!"}},{"$f":"'1.Портфель кредитів'!D764","v":""},{"$f":"'1.Портфель кредитів'!#REF!","v":{"$error":"#REF!"}},{"$f":"'1.Портфель кредитів'!#REF!","v":{"$error":"#REF!"}},{"$f":"'1.Портфель кредитів'!#REF!","v":{"$error":"#REF!"}},{"$f":"'1.Портфель кредитів'!E764","v":0},{"$f":"'1.Портфель кредитів'!R764","v":0},{"$f":"'1.Портфель кредитів'!T764","v":""},4,"2018-06-01","_4_43252_2"]
[{"$f":"'1.Портфель кредитів'!#REF!","v":{"$error":"#REF!"}},{"$f":"'1.Портфель кредитів'!D765","v":""},{"$f":"'1.Портфель кредитів'!#REF!","v":{"$error":"#REF!"}},{"$f":"'1.Портфель кредитів'!#REF!","v":{"$error":"#REF!"}},{"$f":"'1.Портфель кредитів'!#REF!","v":{"$error":"#REF!"}},{"$f":"'1.Портфель кредитів'!E765","v":0},{"$f":"'1.Портфель кредитів'!R765","v":0},{"$f":"'1.Портфель кредитів'!T765","v":""},4,"2018-06-01","_4_43252_2"]
[{"$f":"'1.Портфель кредитів'!#REF!","v":{"$error":"#REF!"}},{"$f":"'1.Портфель кредитів'!D766","v":""},{"$f":"'1.Портфель кредитів'!#REF!","v":{"$error":"#REF!"}},{"$f":"'1.Портфель кредитів'!#REF!","v":{"$error":"#REF!"}},{"$f":"'1.Портфель кредитів'!#REF!","v":{"$error":"#REF!"}},{"$f":"'1.Портфель кредитів'!E766","v":0},{"$f":"'1.Портфель кредитів'!R766","v":0},{"$f":"'1.Портфель кредитів'!T766","v":""},4,"2018-06-01","_4_43252_2"]
[{"$f":"'1.Портфель кредитів'!#REF!","v":{"$error":"#REF!"}},{"$f":"'1.Портфель кредитів'!D767","v":""},{"$f":"'1.Портфель кредитів'!#REF!","v":{"$error":"#REF!"}},{"$f":"'1.Портфель кредитів'!#REF!","v":{"$error":"#REF!"}},{"$f":"'1.Портфель кредитів'!#REF!","v":{"$error":"#REF!"}},{"$f":"'1.Портфель кредитів'!E767","v":0},{"$f":"'1.Портфель кредитів'!R767","v":0},{"$f":"'1.Портфель кредитів'!T767","v":""},4,"2018-06-01","_4_43252_2"]
[{"$f":"'1.Портфель кредитів'!#REF!","v":{"$error":"#REF!"}},{"$f":"'1.Портфель кредитів'!D768","v":""},{"$f":"'1.Портфель кредитів'!#REF!","v":{"$error":"#REF!"}},{"$f":"'1.Портфель кредитів'!#REF!","v":{"$error":"#REF!"}},{"$f":"'1.Портфель кредитів'!#REF!","v":{"$error":"#REF!"}},{"$f":"'1.Портфель кредитів'!E768","v":0},{"$f":"'1.Портфель кредитів'!R768","v":0},{"$f":"'1.Портфель кредитів'!T768","v":""},4,"2018-06-01","_4_43252_2"]
[{"$f":"'1.Портфель кредитів'!#REF!","v":{"$error":"#REF!"}},{"$f":"'1.Портфель кредитів'!D769","v":""},{"$f":"'1.Портфель кредитів'!#REF!","v":{"$error":"#REF!"}},{"$f":"'1.Портфель кредитів'!#REF!","v":{"$error":"#REF!"}},{"$f":"'1.Портфель кредитів'!#REF!","v":{"$error":"#REF!"}},{"$f":"'1.Портфель кредитів'!E769","v":0},{"$f":"'1.Портфель кредитів'!R769","v":0},{"$f":"'1.Портфель кредитів'!T769","v":""},4,"2018-06-01","_4_43252_2"]
[{"$f":"'1.Портфель кредитів'!#REF!","v":{"$error":"#REF!"}},{"$f":"'1.Портфель кредитів'!D770","v":""},{"$f":"'1.Портфель кредитів'!#REF!","v":{"$error":"#REF!"}},{"$f":"'1.Портфель кредитів'!#REF!","v":{"$error":"#REF!"}},{"$f":"'1.Портфель кредитів'!#REF!","v":{"$error":"#REF!"}},{"$f":"'1.Портфель кредитів'!E770","v":0},{"$f":"'1.Портфель кредитів'!R770","v":0},{"$f":"'1.Портфель кредитів'!T770","v":""},4,"2018-06-01","_4_43252_2"]
[{"$f":"'1.Портфель кредитів'!#REF!","v":{"$error":"#REF!"}},{"$f":"'1.Портфель кредитів'!D771","v":""},{"$f":"'1.Портфель кредитів'!#REF!","v":{"$error":"#REF!"}},{"$f":"'1.Портфель кредитів'!#REF!","v":{"$error":"#REF!"}},{"$f":"'1.Портфель кредитів'!#REF!","v":{"$error":"#REF!"}},{"$f":"'1.Портфель кредитів'!E771","v":0},{"$f":"'1.Портфель кредитів'!R771","v":0},{"$f":"'1.Портфель кредитів'!T771","v":""},{"$f":"$E$1","v":4},{"$f":"$E$2","v":"2018-06-01"},{"$f":"B774&\"_\"&I774&\"_\"&J774&\"_\"&$E$3","v":"_4_43252_2"}]
[{"$f":"'1.Портфель кредитів'!#REF!","v":{"$error":"#REF!"}},{"$f":"'1.Портфель кредитів'!D772","v":""},{"$f":"'1.Портфель кредитів'!#REF!","v":{"$error":"#REF!"}},{"$f":"'1.Портфель кредитів'!#REF!","v":{"$error":"#REF!"}},{"$f":"'1.Портфель кредитів'!#REF!","v":{"$error":"#REF!"}},{"$f":"'1.Портфель кредитів'!E772","v":0},{"$f":"'1.Портфель кредитів'!R772","v":0},{"$f":"'1.Портфель кредитів'!T772","v":""},4,"2018-06-01","_4_43252_2"]
[{"$f":"'1.Портфель кредитів'!#REF!","v":{"$error":"#REF!"}},{"$f":"'1.Портфель кредитів'!D773","v":""},{"$f":"'1.Портфель кредитів'!#REF!","v":{"$error":"#REF!"}},{"$f":"'1.Портфель кредитів'!#REF!","v":{"$error":"#REF!"}},{"$f":"'1.Портфель кредитів'!#REF!","v":{"$error":"#REF!"}},{"$f":"'1.Портфель кредитів'!E773","v":0},{"$f":"'1.Портфель кредитів'!R773","v":0},{"$f":"'1.Портфель кредитів'!T773","v":""},4,"2018-06-01","_4_43252_2"]
[{"$f":"'1.Портфель кредитів'!#REF!","v":{"$error":"#REF!"}},{"$f":"'1.Портфель кредитів'!D774","v":""},{"$f":"'1.Портфель кредитів'!#REF!","v":{"$error":"#REF!"}},{"$f":"'1.Портфель кредитів'!#REF!","v":{"$error":"#REF!"}},{"$f":"'1.Портфель кредитів'!#REF!","v":{"$error":"#REF!"}},{"$f":"'1.Портфель кредитів'!E774","v":0},{"$f":"'1.Портфель кредитів'!R774","v":0},{"$f":"'1.Портфель кредитів'!T774","v":""},4,"2018-06-01","_4_43252_2"]
[{"$f":"'1.Портфель кредитів'!#REF!","v":{"$error":"#REF!"}},{"$f":"'1.Портфель кредитів'!D775","v":""},{"$f":"'1.Портфель кредитів'!#REF!","v":{"$error":"#REF!"}},{"$f":"'1.Портфель кредитів'!#REF!","v":{"$error":"#REF!"}},{"$f":"'1.Портфель кредитів'!#REF!","v":{"$error":"#REF!"}},{"$f":"'1.Портфель кредитів'!E775","v":0},{"$f":"'1.Портфель кредитів'!R775","v":0},{"$f":"'1.Портфель кредитів'!T775","v":""},4,"2018-06-01","_4_43252_2"]
[{"$f":"'1.Портфель кредитів'!#REF!","v":{"$error":"#REF!"}},{"$f":"'1.Портфель кредитів'!D776","v":""},{"$f":"'1.Портфель кредитів'!#REF!","v":{"$error":"#REF!"}},{"$f":"'1.Портфель кредитів'!#REF!","v":{"$error":"#REF!"}},{"$f":"'1.Портфель кредитів'!#REF!","v":{"$error":"#REF!"}},{"$f":"'1.Портфель кредитів'!E776","v":0},{"$f":"'1.Портфель кредитів'!R776","v":0},{"$f":"'1.Портфель кредитів'!T776","v":""},4,"2018-06-01","_4_43252_2"]
[{"$f":"'1.Портфель кредитів'!#REF!","v":{"$error":"#REF!"}},{"$f":"'1.Портфель кредитів'!D777","v":""},{"$f":"'1.Портфель кредитів'!#REF!","v":{"$error":"#REF!"}},{"$f":"'1.Портфель кредитів'!#REF!","v":{"$error":"#REF!"}},{"$f":"'1.Портфель кредитів'!#REF!","v":{"$error":"#REF!"}},{"$f":"'1.Портфель кредитів'!E777","v":0},{"$f":"'1.Портфель кредитів'!R777","v":0},{"$f":"'1.Портфель кредитів'!T777","v":""},4,"2018-06-01","_4_43252_2"]
[{"$f":"'1.Портфель кредитів'!#REF!","v":{"$error":"#REF!"}},{"$f":"'1.Портфель кредитів'!D778","v":""},{"$f":"'1.Портфель кредитів'!#REF!","v":{"$error":"#REF!"}},{"$f":"'1.Портфель кредитів'!#REF!","v":{"$error":"#REF!"}},{"$f":"'1.Портфель кредитів'!#REF!","v":{"$error":"#REF!"}},{"$f":"'1.Портфель кредитів'!E778","v":0},{"$f":"'1.Портфель кредитів'!R778","v":0},{"$f":"'1.Портфель кредитів'!T778","v":""},4,"2018-06-01","_4_43252_2"]
[{"$f":"'1.Портфель кредитів'!#REF!","v":{"$error":"#REF!"}},{"$f":"'1.Портфель кредитів'!D779","v":""},{"$f":"'1.Портфель кредитів'!#REF!","v":{"$error":"#REF!"}},{"$f":"'1.Портфель кредитів'!#REF!","v":{"$error":"#REF!"}},{"$f":"'1.Портфель кредитів'!#REF!","v":{"$error":"#REF!"}},{"$f":"'1.Портфель кредитів'!E779","v":0},{"$f":"'1.Портфель кредитів'!R779","v":0},{"$f":"'1.Портфель кредитів'!T779","v":""},4,"2018-06-01","_4_43252_2"]
[{"$f":"'1.Портфель кредитів'!#REF!","v":{"$error":"#REF!"}},{"$f":"'1.Портфель кредитів'!D780","v":""},{"$f":"'1.Портфель кредитів'!#REF!","v":{"$error":"#REF!"}},{"$f":"'1.Портфель кредитів'!#REF!","v":{"$error":"#REF!"}},{"$f":"'1.Портфель кредитів'!#REF!","v":{"$error":"#REF!"}},{"$f":"'1.Портфель кредитів'!E780","v":0},{"$f":"'1.Портфель кредитів'!R780","v":0},{"$f":"'1.Портфель кредитів'!T780","v":""},4,"2018-06-01","_4_43252_2"]
[{"$f":"'1.Портфель кредитів'!#REF!","v":{"$error":"#REF!"}},{"$f":"'1.Портфель кредитів'!D781","v":""},{"$f":"'1.Портфель кредитів'!#REF!","v":{"$error":"#REF!"}},{"$f":"'1.Портфель кредитів'!#REF!","v":{"$error":"#REF!"}},{"$f":"'1.Портфель кредитів'!#REF!","v":{"$error":"#REF!"}},{"$f":"'1.Портфель кредитів'!E781","v":0},{"$f":"'1.Портфель кредитів'!R781","v":0},{"$f":"'1.Портфель кредитів'!T781","v":""},4,"2018-06-01","_4_43252_2"]
[{"$f":"'1.Портфель кредитів'!#REF!","v":{"$error":"#REF!"}},{"$f":"'1.Портфель кредитів'!D782","v":""},{"$f":"'1.Портфель кредитів'!#REF!","v":{"$error":"#REF!"}},{"$f":"'1.Портфель кредитів'!#REF!","v":{"$error":"#REF!"}},{"$f":"'1.Портфель кредитів'!#REF!","v":{"$error":"#REF!"}},{"$f":"'1.Портфель кредитів'!E782","v":0},{"$f":"'1.Портфель кредитів'!R782","v":0},{"$f":"'1.Портфель кредитів'!T782","v":""},4,"2018-06-01","_4_43252_2"]
[{"$f":"'1.Портфель кредитів'!#REF!","v":{"$error":"#REF!"}},{"$f":"'1.Портфель кредитів'!D783","v":""},{"$f":"'1.Портфель кредитів'!#REF!","v":{"$error":"#REF!"}},{"$f":"'1.Портфель кредитів'!#REF!","v":{"$error":"#REF!"}},{"$f":"'1.Портфель кредитів'!#REF!","v":{"$error":"#REF!"}},{"$f":"'1.Портфель кредитів'!E783","v":0},{"$f":"'1.Портфель кредитів'!R783","v":0},{"$f":"'1.Портфель кредитів'!T783","v":""},4,"2018-06-01","_4_43252_2"]
[{"$f":"'1.Портфель кредитів'!#REF!","v":{"$error":"#REF!"}},{"$f":"'1.Портфель кредитів'!D784","v":""},{"$f":"'1.Портфель кредитів'!#REF!","v":{"$error":"#REF!"}},{"$f":"'1.Портфель кредитів'!#REF!","v":{"$error":"#REF!"}},{"$f":"'1.Портфель кредитів'!#REF!","v":{"$error":"#REF!"}},{"$f":"'1.Портфель кредитів'!E784","v":0},{"$f":"'1.Портфель кредитів'!R784","v":0},{"$f":"'1.Портфель кредитів'!T784","v":""},4,"2018-06-01","_4_43252_2"]
[{"$f":"'1.Портфель кредитів'!#REF!","v":{"$error":"#REF!"}},{"$f":"'1.Портфель кредитів'!D785","v":""},{"$f":"'1.Портфель кредитів'!#REF!","v":{"$error":"#REF!"}},{"$f":"'1.Портфель кредитів'!#REF!","v":{"$error":"#REF!"}},{"$f":"'1.Портфель кредитів'!#REF!","v":{"$error":"#REF!"}},{"$f":"'1.Портфель кредитів'!E785","v":0},{"$f":"'1.Портфель кредитів'!R785","v":0},{"$f":"'1.Портфель кредитів'!T785","v":""},4,"2018-06-01","_4_43252_2"]
[{"$f":"'1.Портфель кредитів'!#REF!","v":{"$error":"#REF!"}},{"$f":"'1.Портфель кредитів'!D786","v":""},{"$f":"'1.Портфель кредитів'!#REF!","v":{"$error":"#REF!"}},{"$f":"'1.Портфель кредитів'!#REF!","v":{"$error":"#REF!"}},{"$f":"'1.Портфель кредитів'!#REF!","v":{"$error":"#REF!"}},{"$f":"'1.Портфель кредитів'!E786","v":0},{"$f":"'1.Портфель кредитів'!R786","v":0},{"$f":"'1.Портфель кредитів'!T786","v":""},4,"2018-06-01","_4_43252_2"]
[{"$f":"'1.Портфель кредитів'!#REF!","v":{"$error":"#REF!"}},{"$f":"'1.Портфель кредитів'!D787","v":""},{"$f":"'1.Портфель кредитів'!#REF!","v":{"$error":"#REF!"}},{"$f":"'1.Портфель кредитів'!#REF!","v":{"$error":"#REF!"}},{"$f":"'1.Портфель кредитів'!#REF!","v":{"$error":"#REF!"}},{"$f":"'1.Портфель кредитів'!E787","v":0},{"$f":"'1.Портфель кредитів'!R787","v":0},{"$f":"'1.Портфель кредитів'!T787","v":""},4,"2018-06-01","_4_43252_2"]
[{"$f":"'1.Портфель кредитів'!#REF!","v":{"$error":"#REF!"}},{"$f":"'1.Портфель кредитів'!D788","v":""},{"$f":"'1.Портфель кредитів'!#REF!","v":{"$error":"#REF!"}},{"$f":"'1.Портфель кредитів'!#REF!","v":{"$error":"#REF!"}},{"$f":"'1.Портфель кредитів'!#REF!","v":{"$error":"#REF!"}},{"$f":"'1.Портфель кредитів'!E788","v":0},{"$f":"'1.Портфель кредитів'!R788","v":0},{"$f":"'1.Портфель кредитів'!T788","v":""},4,"2018-06-01","_4_43252_2"]
[{"$f":"'1.Портфель кредитів'!#REF!","v":{"$error":"#REF!"}},{"$f":"'1.Портфель кредитів'!D789","v":""},{"$f":"'1.Портфель кредитів'!#REF!","v":{"$error":"#REF!"}},{"$f":"'1.Портфель кредитів'!#REF!","v":{"$error":"#REF!"}},{"$f":"'1.Портфель кредитів'!#REF!","v":{"$error":"#REF!"}},{"$f":"'1.Портфель кредитів'!E789","v":0},{"$f":"'1.Портфель кредитів'!R789","v":0},{"$f":"'1.Портфель кредитів'!T789","v":""},4,"2018-06-01","_4_43252_2"]
[{"$f":"'1.Портфель кредитів'!#REF!","v":{"$error":"#REF!"}},{"$f":"'1.Портфель кредитів'!D790","v":""},{"$f":"'1.Портфель кредитів'!#REF!","v":{"$error":"#REF!"}},{"$f":"'1.Портфель кредитів'!#REF!","v":{"$error":"#REF!"}},{"$f":"'1.Портфель кредитів'!#REF!","v":{"$error":"#REF!"}},{"$f":"'1.Портфель кредитів'!E790","v":0},{"$f":"'1.Портфель кредитів'!R790","v":0},{"$f":"'1.Портфель кредитів'!T790","v":""},4,"2018-06-01","_4_43252_2"]
[{"$f":"'1.Портфель кредитів'!#REF!","v":{"$error":"#REF!"}},{"$f":"'1.Портфель кредитів'!D791","v":""},{"$f":"'1.Портфель кредитів'!#REF!","v":{"$error":"#REF!"}},{"$f":"'1.Портфель кредитів'!#REF!","v":{"$error":"#REF!"}},{"$f":"'1.Портфель кредитів'!#REF!","v":{"$error":"#REF!"}},{"$f":"'1.Портфель кредитів'!E791","v":0},{"$f":"'1.Портфель кредитів'!R791","v":0},{"$f":"'1.Портфель кредитів'!T791","v":""},4,"2018-06-01","_4_43252_2"]
[{"$f":"'1.Портфель кредитів'!#REF!","v":{"$error":"#REF!"}},{"$f":"'1.Портфель кредитів'!D792","v":""},{"$f":"'1.Портфель кредитів'!#REF!","v":{"$error":"#REF!"}},{"$f":"'1.Портфель кредитів'!#REF!","v":{"$error":"#REF!"}},{"$f":"'1.Портфель кредитів'!#REF!","v":{"$error":"#REF!"}},{"$f":"'1.Портфель кредитів'!E792","v":0},{"$f":"'1.Портфель кредитів'!R792","v":0},{"$f":"'1.Портфель кредитів'!T792","v":""},4,"2018-06-01","_4_43252_2"]
[{"$f":"'1.Портфель кредитів'!#REF!","v":{"$error":"#REF!"}},{"$f":"'1.Портфель кредитів'!D793","v":""},{"$f":"'1.Портфель кредитів'!#REF!","v":{"$error":"#REF!"}},{"$f":"'1.Портфель кредитів'!#REF!","v":{"$error":"#REF!"}},{"$f":"'1.Портфель кредитів'!#REF!","v":{"$error":"#REF!"}},{"$f":"'1.Портфель кредитів'!E793","v":0},{"$f":"'1.Портфель кредитів'!R793","v":0},{"$f":"'1.Портфель кредитів'!T793","v":""},4,"2018-06-01","_4_43252_2"]
[{"$f":"'1.Портфель кредитів'!#REF!","v":{"$error":"#REF!"}},{"$f":"'1.Портфель кредитів'!D794","v":""},{"$f":"'1.Портфель кредитів'!#REF!","v":{"$error":"#REF!"}},{"$f":"'1.Портфель кредитів'!#REF!","v":{"$error":"#REF!"}},{"$f":"'1.Портфель кредитів'!#REF!","v":{"$error":"#REF!"}},{"$f":"'1.Портфель кредитів'!E794","v":0},{"$f":"'1.Портфель кредитів'!R794","v":0},{"$f":"'1.Портфель кредитів'!T794","v":""},4,"2018-06-01","_4_43252_2"]
[{"$f":"'1.Портфель кредитів'!#REF!","v":{"$error":"#REF!"}},{"$f":"'1.Портфель кредитів'!D795","v":""},{"$f":"'1.Портфель кредитів'!#REF!","v":{"$error":"#REF!"}},{"$f":"'1.Портфель кредитів'!#REF!","v":{"$error":"#REF!"}},{"$f":"'1.Портфель кредитів'!#REF!","v":{"$error":"#REF!"}},{"$f":"'1.Портфель кредитів'!E795","v":0},{"$f":"'1.Портфель кредитів'!R795","v":0},{"$f":"'1.Портфель кредитів'!T795","v":""},4,"2018-06-01","_4_43252_2"]
[{"$f":"'1.Портфель кредитів'!#REF!","v":{"$error":"#REF!"}},{"$f":"'1.Портфель кредитів'!D796","v":""},{"$f":"'1.Портфель кредитів'!#REF!","v":{"$error":"#REF!"}},{"$f":"'1.Портфель кредитів'!#REF!","v":{"$error":"#REF!"}},{"$f":"'1.Портфель кредитів'!#REF!","v":{"$error":"#REF!"}},{"$f":"'1.Портфель кредитів'!E796","v":0},{"$f":"'1.Портфель кредитів'!R796","v":0},{"$f":"'1.Портфель кредитів'!T796","v":""},4,"2018-06-01","_4_43252_2"]
[{"$f":"'1.Портфель кредитів'!#REF!","v":{"$error":"#REF!"}},{"$f":"'1.Портфель кредитів'!D797","v":""},{"$f":"'1.Портфель кредитів'!#REF!","v":{"$error":"#REF!"}},{"$f":"'1.Портфель кредитів'!#REF!","v":{"$error":"#REF!"}},{"$f":"'1.Портфель кредитів'!#REF!","v":{"$error":"#REF!"}},{"$f":"'1.Портфель кредитів'!E797","v":0},{"$f":"'1.Портфель кредитів'!R797","v":0},{"$f":"'1.Портфель кредитів'!T797","v":""},4,"2018-06-01","_4_43252_2"]
[{"$f":"'1.Портфель кредитів'!#REF!","v":{"$error":"#REF!"}},{"$f":"'1.Портфель кредитів'!D798","v":""},{"$f":"'1.Портфель кредитів'!#REF!","v":{"$error":"#REF!"}},{"$f":"'1.Портфель кредитів'!#REF!","v":{"$error":"#REF!"}},{"$f":"'1.Портфель кредитів'!#REF!","v":{"$error":"#REF!"}},{"$f":"'1.Портфель кредитів'!E798","v":0},{"$f":"'1.Портфель кредитів'!R798","v":0},{"$f":"'1.Портфель кредитів'!T798","v":""},4,"2018-06-01","_4_43252_2"]
[{"$f":"'1.Портфель кредитів'!#REF!","v":{"$error":"#REF!"}},{"$f":"'1.Портфель кредитів'!D799","v":""},{"$f":"'1.Портфель кредитів'!#REF!","v":{"$error":"#REF!"}},{"$f":"'1.Портфель кредитів'!#REF!","v":{"$error":"#REF!"}},{"$f":"'1.Портфель кредитів'!#REF!","v":{"$error":"#REF!"}},{"$f":"'1.Портфель кредитів'!E799","v":0},{"$f":"'1.Портфель кредитів'!R799","v":0},{"$f":"'1.Портфель кредитів'!T799","v":""},4,"2018-06-01","_4_43252_2"]
[{"$f":"'1.Портфель кредитів'!#REF!","v":{"$error":"#REF!"}},{"$f":"'1.Портфель кредитів'!D800","v":""},{"$f":"'1.Портфель кредитів'!#REF!","v":{"$error":"#REF!"}},{"$f":"'1.Портфель кредитів'!#REF!","v":{"$error":"#REF!"}},{"$f":"'1.Портфель кредитів'!#REF!","v":{"$error":"#REF!"}},{"$f":"'1.Портфель кредитів'!E800","v":0},{"$f":"'1.Портфель кредитів'!R800","v":0},{"$f":"'1.Портфель кредитів'!T800","v":""},4,"2018-06-01","_4_43252_2"]
[{"$f":"'1.Портфель кредитів'!#REF!","v":{"$error":"#REF!"}},{"$f":"'1.Портфель кредитів'!D801","v":""},{"$f":"'1.Портфель кредитів'!#REF!","v":{"$error":"#REF!"}},{"$f":"'1.Портфель кредитів'!#REF!","v":{"$error":"#REF!"}},{"$f":"'1.Портфель кредитів'!#REF!","v":{"$error":"#REF!"}},{"$f":"'1.Портфель кредитів'!E801","v":0},{"$f":"'1.Портфель кредитів'!R801","v":0},{"$f":"'1.Портфель кредитів'!T801","v":""},4,"2018-06-01","_4_43252_2"]
[{"$f":"'1.Портфель кредитів'!#REF!","v":{"$error":"#REF!"}},{"$f":"'1.Портфель кредитів'!D802","v":""},{"$f":"'1.Портфель кредитів'!#REF!","v":{"$error":"#REF!"}},{"$f":"'1.Портфель кредитів'!#REF!","v":{"$error":"#REF!"}},{"$f":"'1.Портфель кредитів'!#REF!","v":{"$error":"#REF!"}},{"$f":"'1.Портфель кредитів'!E802","v":0},{"$f":"'1.Портфель кредитів'!R802","v":0},{"$f":"'1.Портфель кредитів'!T802","v":""},4,"2018-06-01","_4_43252_2"]
[{"$f":"'1.Портфель кредитів'!#REF!","v":{"$error":"#REF!"}},{"$f":"'1.Портфель кредитів'!D803","v":""},{"$f":"'1.Портфель кредитів'!#REF!","v":{"$error":"#REF!"}},{"$f":"'1.Портфель кредитів'!#REF!","v":{"$error":"#REF!"}},{"$f":"'1.Портфель кредитів'!#REF!","v":{"$error":"#REF!"}},{"$f":"'1.Портфель кредитів'!E803","v":0},{"$f":"'1.Портфель кредитів'!R803","v":0},{"$f":"'1.Портфель кредитів'!T803","v":""},4,"2018-06-01","_4_43252_2"]
[{"$f":"'1.Портфель кредитів'!#REF!","v":{"$error":"#REF!"}},{"$f":"'1.Портфель кредитів'!D804","v":""},{"$f":"'1.Портфель кредитів'!#REF!","v":{"$error":"#REF!"}},{"$f":"'1.Портфель кредитів'!#REF!","v":{"$error":"#REF!"}},{"$f":"'1.Портфель кредитів'!#REF!","v":{"$error":"#REF!"}},{"$f":"'1.Портфель кредитів'!E804","v":0},{"$f":"'1.Портфель кредитів'!R804","v":0},{"$f":"'1.Портфель кредитів'!T804","v":""},4,"2018-06-01","_4_43252_2"]
[{"$f":"'1.Портфель кредитів'!#REF!","v":{"$error":"#REF!"}},{"$f":"'1.Портфель кредитів'!D805","v":""},{"$f":"'1.Портфель кредитів'!#REF!","v":{"$error":"#REF!"}},{"$f":"'1.Портфель кредитів'!#REF!","v":{"$error":"#REF!"}},{"$f":"'1.Портфель кредитів'!#REF!","v":{"$error":"#REF!"}},{"$f":"'1.Портфель кредитів'!E805","v":0},{"$f":"'1.Портфель кредитів'!R805","v":0},{"$f":"'1.Портфель кредитів'!T805","v":""},4,"2018-06-01","_4_43252_2"]
[{"$f":"'1.Портфель кредитів'!#REF!","v":{"$error":"#REF!"}},{"$f":"'1.Портфель кредитів'!D806","v":""},{"$f":"'1.Портфель кредитів'!#REF!","v":{"$error":"#REF!"}},{"$f":"'1.Портфель кредитів'!#REF!","v":{"$error":"#REF!"}},{"$f":"'1.Портфель кредитів'!#REF!","v":{"$error":"#REF!"}},{"$f":"'1.Портфель кредитів'!E806","v":0},{"$f":"'1.Портфель кредитів'!R806","v":0},{"$f":"'1.Портфель кредитів'!T806","v":""},4,"2018-06-01","_4_43252_2"]
[{"$f":"'1.Портфель кредитів'!#REF!","v":{"$error":"#REF!"}},{"$f":"'1.Портфель кредитів'!D807","v":""},{"$f":"'1.Портфель кредитів'!#REF!","v":{"$error":"#REF!"}},{"$f":"'1.Портфель кредитів'!#REF!","v":{"$error":"#REF!"}},{"$f":"'1.Портфель кредитів'!#REF!","v":{"$error":"#REF!"}},{"$f":"'1.Портфель кредитів'!E807","v":0},{"$f":"'1.Портфель кредитів'!R807","v":0},{"$f":"'1.Портфель кредитів'!T807","v":""},4,"2018-06-01","_4_43252_2"]
[{"$f":"'1.Портфель кредитів'!#REF!","v":{"$error":"#REF!"}},{"$f":"'1.Портфель кредитів'!D808","v":""},{"$f":"'1.Портфель кредитів'!#REF!","v":{"$error":"#REF!"}},{"$f":"'1.Портфель кредитів'!#REF!","v":{"$error":"#REF!"}},{"$f":"'1.Портфель кредитів'!#REF!","v":{"$error":"#REF!"}},{"$f":"'1.Портфель кредитів'!E808","v":0},{"$f":"'1.Портфель кредитів'!R808","v":0},{"$f":"'1.Портфель кредитів'!T808","v":""},4,"2018-06-01","_4_43252_2"]
[{"$f":"'1.Портфель кредитів'!#REF!","v":{"$error":"#REF!"}},{"$f":"'1.Портфель кредитів'!D809","v":""},{"$f":"'1.Портфель кредитів'!#REF!","v":{"$error":"#REF!"}},{"$f":"'1.Портфель кредитів'!#REF!","v":{"$error":"#REF!"}},{"$f":"'1.Портфель кредитів'!#REF!","v":{"$error":"#REF!"}},{"$f":"'1.Портфель кредитів'!E809","v":0},{"$f":"'1.Портфель кредитів'!R809","v":0},{"$f":"'1.Портфель кредитів'!T809","v":""},4,"2018-06-01","_4_43252_2"]
[{"$f":"'1.Портфель кредитів'!#REF!","v":{"$error":"#REF!"}},{"$f":"'1.Портфель кредитів'!D810","v":""},{"$f":"'1.Портфель кредитів'!#REF!","v":{"$error":"#REF!"}},{"$f":"'1.Портфель кредитів'!#REF!","v":{"$error":"#REF!"}},{"$f":"'1.Портфель кредитів'!#REF!","v":{"$error":"#REF!"}},{"$f":"'1.Портфель кредитів'!E810","v":0},{"$f":"'1.Портфель кредитів'!R810","v":0},{"$f":"'1.Портфель кредитів'!T810","v":""},4,"2018-06-01","_4_43252_2"]
[{"$f":"'1.Портфель кредитів'!#REF!","v":{"$error":"#REF!"}},{"$f":"'1.Портфель кредитів'!D811","v":""},{"$f":"'1.Портфель кредитів'!#REF!","v":{"$error":"#REF!"}},{"$f":"'1.Портфель кредитів'!#REF!","v":{"$error":"#REF!"}},{"$f":"'1.Портфель кредитів'!#REF!","v":{"$error":"#REF!"}},{"$f":"'1.Портфель кредитів'!E811","v":0},{"$f":"'1.Портфель кредитів'!R811","v":0},{"$f":"'1.Портфель кредитів'!T811","v":""},4,"2018-06-01","_4_43252_2"]
[{"$f":"'1.Портфель кредитів'!#REF!","v":{"$error":"#REF!"}},{"$f":"'1.Портфель кредитів'!D812","v":""},{"$f":"'1.Портфель кредитів'!#REF!","v":{"$error":"#REF!"}},{"$f":"'1.Портфель кредитів'!#REF!","v":{"$error":"#REF!"}},{"$f":"'1.Портфель кредитів'!#REF!","v":{"$error":"#REF!"}},{"$f":"'1.Портфель кредитів'!E812","v":0},{"$f":"'1.Портфель кредитів'!R812","v":0},{"$f":"'1.Портфель кредитів'!T812","v":""},4,"2018-06-01","_4_43252_2"]
[{"$f":"'1.Портфель кредитів'!#REF!","v":{"$error":"#REF!"}},{"$f":"'1.Портфель кредитів'!D813","v":""},{"$f":"'1.Портфель кредитів'!#REF!","v":{"$error":"#REF!"}},{"$f":"'1.Портфель кредитів'!#REF!","v":{"$error":"#REF!"}},{"$f":"'1.Портфель кредитів'!#REF!","v":{"$error":"#REF!"}},{"$f":"'1.Портфель кредитів'!E813","v":0},{"$f":"'1.Портфель кредитів'!R813","v":0},{"$f":"'1.Портфель кредитів'!T813","v":""},4,"2018-06-01","_4_43252_2"]
[{"$f":"'1.Портфель кредитів'!#REF!","v":{"$error":"#REF!"}},{"$f":"'1.Портфель кредитів'!D814","v":""},{"$f":"'1.Портфель кредитів'!#REF!","v":{"$error":"#REF!"}},{"$f":"'1.Портфель кредитів'!#REF!","v":{"$error":"#REF!"}},{"$f":"'1.Портфель кредитів'!#REF!","v":{"$error":"#REF!"}},{"$f":"'1.Портфель кредитів'!E814","v":0},{"$f":"'1.Портфель кредитів'!R814","v":0},{"$f":"'1.Портфель кредитів'!T814","v":""},4,"2018-06-01","_4_43252_2"]
[{"$f":"'1.Портфель кредитів'!#REF!","v":{"$error":"#REF!"}},{"$f":"'1.Портфель кредитів'!D815","v":""},{"$f":"'1.Портфель кредитів'!#REF!","v":{"$error":"#REF!"}},{"$f":"'1.Портфель кредитів'!#REF!","v":{"$error":"#REF!"}},{"$f":"'1.Портфель кредитів'!#REF!","v":{"$error":"#REF!"}},{"$f":"'1.Портфель кредитів'!E815","v":0},{"$f":"'1.Портфель кредитів'!R815","v":0},{"$f":"'1.Портфель кредитів'!T815","v":""},4,"2018-06-01","_4_43252_2"]
[{"$f":"'1.Портфель кредитів'!#REF!","v":{"$error":"#REF!"}},{"$f":"'1.Портфель кредитів'!D816","v":""},{"$f":"'1.Портфель кредитів'!#REF!","v":{"$error":"#REF!"}},{"$f":"'1.Портфель кредитів'!#REF!","v":{"$error":"#REF!"}},{"$f":"'1.Портфель кредитів'!#REF!","v":{"$error":"#REF!"}},{"$f":"'1.Портфель кредитів'!E816","v":0},{"$f":"'1.Портфель кредитів'!R816","v":0},{"$f":"'1.Портфель кредитів'!T816","v":""},4,"2018-06-01","_4_43252_2"]
[{"$f":"'1.Портфель кредитів'!#REF!","v":{"$error":"#REF!"}},{"$f":"'1.Портфель кредитів'!D817","v":""},{"$f":"'1.Портфель кредитів'!#REF!","v":{"$error":"#REF!"}},{"$f":"'1.Портфель кредитів'!#REF!","v":{"$error":"#REF!"}},{"$f":"'1.Портфель кредитів'!#REF!","v":{"$error":"#REF!"}},{"$f":"'1.Портфель кредитів'!E817","v":0},{"$f":"'1.Портфель кредитів'!R817","v":0},{"$f":"'1.Портфель кредитів'!T817","v":""},4,"2018-06-01","_4_43252_2"]
[{"$f":"'1.Портфель кредитів'!#REF!","v":{"$error":"#REF!"}},{"$f":"'1.Портфель кредитів'!D818","v":""},{"$f":"'1.Портфель кредитів'!#REF!","v":{"$error":"#REF!"}},{"$f":"'1.Портфель кредитів'!#REF!","v":{"$error":"#REF!"}},{"$f":"'1.Портфель кредитів'!#REF!","v":{"$error":"#REF!"}},{"$f":"'1.Портфель кредитів'!E818","v":0},{"$f":"'1.Портфель кредитів'!R818","v":0},{"$f":"'1.Портфель кредитів'!T818","v":""},4,"2018-06-01","_4_43252_2"]
[{"$f":"'1.Портфель кредитів'!#REF!","v":{"$error":"#REF!"}},{"$f":"'1.Портфель кредитів'!D819","v":""},{"$f":"'1.Портфель кредитів'!#REF!","v":{"$error":"#REF!"}},{"$f":"'1.Портфель кредитів'!#REF!","v":{"$error":"#REF!"}},{"$f":"'1.Портфель кредитів'!#REF!","v":{"$error":"#REF!"}},{"$f":"'1.Портфель кредитів'!E819","v":0},{"$f":"'1.Портфель кредитів'!R819","v":0},{"$f":"'1.Портфель кредитів'!T819","v":""},4,"2018-06-01","_4_43252_2"]
[{"$f":"'1.Портфель кредитів'!#REF!","v":{"$error":"#REF!"}},{"$f":"'1.Портфель кредитів'!D820","v":""},{"$f":"'1.Портфель кредитів'!#REF!","v":{"$error":"#REF!"}},{"$f":"'1.Портфель кредитів'!#REF!","v":{"$error":"#REF!"}},{"$f":"'1.Портфель кредитів'!#REF!","v":{"$error":"#REF!"}},{"$f":"'1.Портфель кредитів'!E820","v":0},{"$f":"'1.Портфель кредитів'!R820","v":0},{"$f":"'1.Портфель кредитів'!T820","v":""},4,"2018-06-01","_4_43252_2"]
[{"$f":"'1.Портфель кредитів'!#REF!","v":{"$error":"#REF!"}},{"$f":"'1.Портфель кредитів'!D821","v":""},{"$f":"'1.Портфель кредитів'!#REF!","v":{"$error":"#REF!"}},{"$f":"'1.Портфель кредитів'!#REF!","v":{"$error":"#REF!"}},{"$f":"'1.Портфель кредитів'!#REF!","v":{"$error":"#REF!"}},{"$f":"'1.Портфель кредитів'!E821","v":0},{"$f":"'1.Портфель кредитів'!R821","v":0},{"$f":"'1.Портфель кредитів'!T821","v":""},4,"2018-06-01","_4_43252_2"]
[{"$f":"'1.Портфель кредитів'!#REF!","v":{"$error":"#REF!"}},{"$f":"'1.Портфель кредитів'!D822","v":""},{"$f":"'1.Портфель кредитів'!#REF!","v":{"$error":"#REF!"}},{"$f":"'1.Портфель кредитів'!#REF!","v":{"$error":"#REF!"}},{"$f":"'1.Портфель кредитів'!#REF!","v":{"$error":"#REF!"}},{"$f":"'1.Портфель кредитів'!E822","v":0},{"$f":"'1.Портфель кредитів'!R822","v":0},{"$f":"'1.Портфель кредитів'!T822","v":""},4,"2018-06-01","_4_43252_2"]
[{"$f":"'1.Портфель кредитів'!#REF!","v":{"$error":"#REF!"}},{"$f":"'1.Портфель кредитів'!D823","v":""},{"$f":"'1.Портфель кредитів'!#REF!","v":{"$error":"#REF!"}},{"$f":"'1.Портфель кредитів'!#REF!","v":{"$error":"#REF!"}},{"$f":"'1.Портфель кредитів'!#REF!","v":{"$error":"#REF!"}},{"$f":"'1.Портфель кредитів'!E823","v":0},{"$f":"'1.Портфель кредитів'!R823","v":0},{"$f":"'1.Портфель кредитів'!T823","v":""},4,"2018-06-01","_4_43252_2"]
[{"$f":"'1.Портфель кредитів'!#REF!","v":{"$error":"#REF!"}},{"$f":"'1.Портфель кредитів'!D824","v":""},{"$f":"'1.Портфель кредитів'!#REF!","v":{"$error":"#REF!"}},{"$f":"'1.Портфель кредитів'!#REF!","v":{"$error":"#REF!"}},{"$f":"'1.Портфель кредитів'!#REF!","v":{"$error":"#REF!"}},{"$f":"'1.Портфель кредитів'!E824","v":0},{"$f":"'1.Портфель кредитів'!R824","v":0},{"$f":"'1.Портфель кредитів'!T824","v":""},4,"2018-06-01","_4_43252_2"]
[{"$f":"'1.Портфель кредитів'!#REF!","v":{"$error":"#REF!"}},{"$f":"'1.Портфель кредитів'!D825","v":""},{"$f":"'1.Портфель кредитів'!#REF!","v":{"$error":"#REF!"}},{"$f":"'1.Портфель кредитів'!#REF!","v":{"$error":"#REF!"}},{"$f":"'1.Портфель кредитів'!#REF!","v":{"$error":"#REF!"}},{"$f":"'1.Портфель кредитів'!E825","v":0},{"$f":"'1.Портфель кредитів'!R825","v":0},{"$f":"'1.Портфель кредитів'!T825","v":""},4,"2018-06-01","_4_43252_2"]
[{"$f":"'1.Портфель кредитів'!#REF!","v":{"$error":"#REF!"}},{"$f":"'1.Портфель кредитів'!D826","v":""},{"$f":"'1.Портфель кредитів'!#REF!","v":{"$error":"#REF!"}},{"$f":"'1.Портфель кредитів'!#REF!","v":{"$error":"#REF!"}},{"$f":"'1.Портфель кредитів'!#REF!","v":{"$error":"#REF!"}},{"$f":"'1.Портфель кредитів'!E826","v":0},{"$f":"'1.Портфель кредитів'!R826","v":0},{"$f":"'1.Портфель кредитів'!T826","v":""},4,"2018-06-01","_4_43252_2"]
[{"$f":"'1.Портфель кредитів'!#REF!","v":{"$error":"#REF!"}},{"$f":"'1.Портфель кредитів'!D827","v":""},{"$f":"'1.Портфель кредитів'!#REF!","v":{"$error":"#REF!"}},{"$f":"'1.Портфель кредитів'!#REF!","v":{"$error":"#REF!"}},{"$f":"'1.Портфель кредитів'!#REF!","v":{"$error":"#REF!"}},{"$f":"'1.Портфель кредитів'!E827","v":0},{"$f":"'1.Портфель кредитів'!R827","v":0},{"$f":"'1.Портфель кредитів'!T827","v":""},4,"2018-06-01","_4_43252_2"]
[{"$f":"'1.Портфель кредитів'!#REF!","v":{"$error":"#REF!"}},{"$f":"'1.Портфель кредитів'!D828","v":""},{"$f":"'1.Портфель кредитів'!#REF!","v":{"$error":"#REF!"}},{"$f":"'1.Портфель кредитів'!#REF!","v":{"$error":"#REF!"}},{"$f":"'1.Портфель кредитів'!#REF!","v":{"$error":"#REF!"}},{"$f":"'1.Портфель кредитів'!E828","v":0},{"$f":"'1.Портфель кредитів'!R828","v":0},{"$f":"'1.Портфель кредитів'!T828","v":""},4,"2018-06-01","_4_43252_2"]
[{"$f":"'1.Портфель кредитів'!#REF!","v":{"$error":"#REF!"}},{"$f":"'1.Портфель кредитів'!D829","v":""},{"$f":"'1.Портфель кредитів'!#REF!","v":{"$error":"#REF!"}},{"$f":"'1.Портфель кредитів'!#REF!","v":{"$error":"#REF!"}},{"$f":"'1.Портфель кредитів'!#REF!","v":{"$error":"#REF!"}},{"$f":"'1.Портфель кредитів'!E829","v":0},{"$f":"'1.Портфель кредитів'!R829","v":0},{"$f":"'1.Портфель кредитів'!T829","v":""},4,"2018-06-01","_4_43252_2"]
[{"$f":"'1.Портфель кредитів'!#REF!","v":{"$error":"#REF!"}},{"$f":"'1.Портфель кредитів'!D830","v":""},{"$f":"'1.Портфель кредитів'!#REF!","v":{"$error":"#REF!"}},{"$f":"'1.Портфель кредитів'!#REF!","v":{"$error":"#REF!"}},{"$f":"'1.Портфель кредитів'!#REF!","v":{"$error":"#REF!"}},{"$f":"'1.Портфель кредитів'!E830","v":0},{"$f":"'1.Портфель кредитів'!R830","v":0},{"$f":"'1.Портфель кредитів'!T830","v":""},4,"2018-06-01","_4_43252_2"]
[{"$f":"'1.Портфель кредитів'!#REF!","v":{"$error":"#REF!"}},{"$f":"'1.Портфель кредитів'!D831","v":""},{"$f":"'1.Портфель кредитів'!#REF!","v":{"$error":"#REF!"}},{"$f":"'1.Портфель кредитів'!#REF!","v":{"$error":"#REF!"}},{"$f":"'1.Портфель кредитів'!#REF!","v":{"$error":"#REF!"}},{"$f":"'1.Портфель кредитів'!E831","v":0},{"$f":"'1.Портфель кредитів'!R831","v":0},{"$f":"'1.Портфель кредитів'!T831","v":""},4,"2018-06-01","_4_43252_2"]
[{"$f":"'1.Портфель кредитів'!#REF!","v":{"$error":"#REF!"}},{"$f":"'1.Портфель кредитів'!D832","v":""},{"$f":"'1.Портфель кредитів'!#REF!","v":{"$error":"#REF!"}},{"$f":"'1.Портфель кредитів'!#REF!","v":{"$error":"#REF!"}},{"$f":"'1.Портфель кредитів'!#REF!","v":{"$error":"#REF!"}},{"$f":"'1.Портфель кредитів'!E832","v":0},{"$f":"'1.Портфель кредитів'!R832","v":0},{"$f":"'1.Портфель кредитів'!T832","v":""},4,"2018-06-01","_4_43252_2"]
[{"$f":"'1.Портфель кредитів'!#REF!","v":{"$error":"#REF!"}},{"$f":"'1.Портфель кредитів'!D833","v":""},{"$f":"'1.Портфель кредитів'!#REF!","v":{"$error":"#REF!"}},{"$f":"'1.Портфель кредитів'!#REF!","v":{"$error":"#REF!"}},{"$f":"'1.Портфель кредитів'!#REF!","v":{"$error":"#REF!"}},{"$f":"'1.Портфель кредитів'!E833","v":0},{"$f":"'1.Портфель кредитів'!R833","v":0},{"$f":"'1.Портфель кредитів'!T833","v":""},4,"2018-06-01","_4_43252_2"]
[{"$f":"'1.Портфель кредитів'!#REF!","v":{"$error":"#REF!"}},{"$f":"'1.Портфель кредитів'!D834","v":""},{"$f":"'1.Портфель кредитів'!#REF!","v":{"$error":"#REF!"}},{"$f":"'1.Портфель кредитів'!#REF!","v":{"$error":"#REF!"}},{"$f":"'1.Портфель кредитів'!#REF!","v":{"$error":"#REF!"}},{"$f":"'1.Портфель кредитів'!E834","v":0},{"$f":"'1.Портфель кредитів'!R834","v":0},{"$f":"'1.Портфель кредитів'!T834","v":""},4,"2018-06-01","_4_43252_2"]
[{"$f":"'1.Портфель кредитів'!#REF!","v":{"$error":"#REF!"}},{"$f":"'1.Портфель кредитів'!D835","v":""},{"$f":"'1.Портфель кредитів'!#REF!","v":{"$error":"#REF!"}},{"$f":"'1.Портфель кредитів'!#REF!","v":{"$error":"#REF!"}},{"$f":"'1.Портфель кредитів'!#REF!","v":{"$error":"#REF!"}},{"$f":"'1.Портфель кредитів'!E835","v":0},{"$f":"'1.Портфель кредитів'!R835","v":0},{"$f":"'1.Портфель кредитів'!T835","v":""},{"$f":"$E$1","v":4},{"$f":"$E$2","v":"2018-06-01"},{"$f":"B838&\"_\"&I838&\"_\"&J838&\"_\"&$E$3","v":"_4_43252_2"}]
[{"$f":"'1.Портфель кредитів'!#REF!","v":{"$error":"#REF!"}},{"$f":"'1.Портфель кредитів'!D836","v":""},{"$f":"'1.Портфель кредитів'!#REF!","v":{"$error":"#REF!"}},{"$f":"'1.Портфель кредитів'!#REF!","v":{"$error":"#REF!"}},{"$f":"'1.Портфель кредитів'!#REF!","v":{"$error":"#REF!"}},{"$f":"'1.Портфель кредитів'!E836","v":0},{"$f":"'1.Портфель кредитів'!R836","v":0},{"$f":"'1.Портфель кредитів'!T836","v":""},4,"2018-06-01","_4_43252_2"]
[{"$f":"'1.Портфель кредитів'!#REF!","v":{"$error":"#REF!"}},{"$f":"'1.Портфель кредитів'!D837","v":""},{"$f":"'1.Портфель кредитів'!#REF!","v":{"$error":"#REF!"}},{"$f":"'1.Портфель кредитів'!#REF!","v":{"$error":"#REF!"}},{"$f":"'1.Портфель кредитів'!#REF!","v":{"$error":"#REF!"}},{"$f":"'1.Портфель кредитів'!E837","v":0},{"$f":"'1.Портфель кредитів'!R837","v":0},{"$f":"'1.Портфель кредитів'!T837","v":""},4,"2018-06-01","_4_43252_2"]
[{"$f":"'1.Портфель кредитів'!#REF!","v":{"$error":"#REF!"}},{"$f":"'1.Портфель кредитів'!D838","v":""},{"$f":"'1.Портфель кредитів'!#REF!","v":{"$error":"#REF!"}},{"$f":"'1.Портфель кредитів'!#REF!","v":{"$error":"#REF!"}},{"$f":"'1.Портфель кредитів'!#REF!","v":{"$error":"#REF!"}},{"$f":"'1.Портфель кредитів'!E838","v":0},{"$f":"'1.Портфель кредитів'!R838","v":0},{"$f":"'1.Портфель кредитів'!T838","v":""},4,"2018-06-01","_4_43252_2"]
[{"$f":"'1.Портфель кредитів'!#REF!","v":{"$error":"#REF!"}},{"$f":"'1.Портфель кредитів'!D839","v":""},{"$f":"'1.Портфель кредитів'!#REF!","v":{"$error":"#REF!"}},{"$f":"'1.Портфель кредитів'!#REF!","v":{"$error":"#REF!"}},{"$f":"'1.Портфель кредитів'!#REF!","v":{"$error":"#REF!"}},{"$f":"'1.Портфель кредитів'!E839","v":0},{"$f":"'1.Портфель кредитів'!R839","v":0},{"$f":"'1.Портфель кредитів'!T839","v":""},4,"2018-06-01","_4_43252_2"]
[{"$f":"'1.Портфель кредитів'!#REF!","v":{"$error":"#REF!"}},{"$f":"'1.Портфель кредитів'!D840","v":""},{"$f":"'1.Портфель кредитів'!#REF!","v":{"$error":"#REF!"}},{"$f":"'1.Портфель кредитів'!#REF!","v":{"$error":"#REF!"}},{"$f":"'1.Портфель кредитів'!#REF!","v":{"$error":"#REF!"}},{"$f":"'1.Портфель кредитів'!E840","v":0},{"$f":"'1.Портфель кредитів'!R840","v":0},{"$f":"'1.Портфель кредитів'!T840","v":""},4,"2018-06-01","_4_43252_2"]
[{"$f":"'1.Портфель кредитів'!#REF!","v":{"$error":"#REF!"}},{"$f":"'1.Портфель кредитів'!D841","v":""},{"$f":"'1.Портфель кредитів'!#REF!","v":{"$error":"#REF!"}},{"$f":"'1.Портфель кредитів'!#REF!","v":{"$error":"#REF!"}},{"$f":"'1.Портфель кредитів'!#REF!","v":{"$error":"#REF!"}},{"$f":"'1.Портфель кредитів'!E841","v":0},{"$f":"'1.Портфель кредитів'!R841","v":0},{"$f":"'1.Портфель кредитів'!T841","v":""},4,"2018-06-01","_4_43252_2"]
[{"$f":"'1.Портфель кредитів'!#REF!","v":{"$error":"#REF!"}},{"$f":"'1.Портфель кредитів'!D842","v":""},{"$f":"'1.Портфель кредитів'!#REF!","v":{"$error":"#REF!"}},{"$f":"'1.Портфель кредитів'!#REF!","v":{"$error":"#REF!"}},{"$f":"'1.Портфель кредитів'!#REF!","v":{"$error":"#REF!"}},{"$f":"'1.Портфель кредитів'!E842","v":0},{"$f":"'1.Портфель кредитів'!R842","v":0},{"$f":"'1.Портфель кредитів'!T842","v":""},4,"2018-06-01","_4_43252_2"]
[{"$f":"'1.Портфель кредитів'!#REF!","v":{"$error":"#REF!"}},{"$f":"'1.Портфель кредитів'!D843","v":""},{"$f":"'1.Портфель кредитів'!#REF!","v":{"$error":"#REF!"}},{"$f":"'1.Портфель кредитів'!#REF!","v":{"$error":"#REF!"}},{"$f":"'1.Портфель кредитів'!#REF!","v":{"$error":"#REF!"}},{"$f":"'1.Портфель кредитів'!E843","v":0},{"$f":"'1.Портфель кредитів'!R843","v":0},{"$f":"'1.Портфель кредитів'!T843","v":""},4,"2018-06-01","_4_43252_2"]
[{"$f":"'1.Портфель кредитів'!#REF!","v":{"$error":"#REF!"}},{"$f":"'1.Портфель кредитів'!D844","v":""},{"$f":"'1.Портфель кредитів'!#REF!","v":{"$error":"#REF!"}},{"$f":"'1.Портфель кредитів'!#REF!","v":{"$error":"#REF!"}},{"$f":"'1.Портфель кредитів'!#REF!","v":{"$error":"#REF!"}},{"$f":"'1.Портфель кредитів'!E844","v":0},{"$f":"'1.Портфель кредитів'!R844","v":0},{"$f":"'1.Портфель кредитів'!T844","v":""},4,"2018-06-01","_4_43252_2"]
[{"$f":"'1.Портфель кредитів'!#REF!","v":{"$error":"#REF!"}},{"$f":"'1.Портфель кредитів'!D845","v":""},{"$f":"'1.Портфель кредитів'!#REF!","v":{"$error":"#REF!"}},{"$f":"'1.Портфель кредитів'!#REF!","v":{"$error":"#REF!"}},{"$f":"'1.Портфель кредитів'!#REF!","v":{"$error":"#REF!"}},{"$f":"'1.Портфель кредитів'!E845","v":0},{"$f":"'1.Портфель кредитів'!R845","v":0},{"$f":"'1.Портфель кредитів'!T845","v":""},4,"2018-06-01","_4_43252_2"]
[{"$f":"'1.Портфель кредитів'!#REF!","v":{"$error":"#REF!"}},{"$f":"'1.Портфель кредитів'!D846","v":""},{"$f":"'1.Портфель кредитів'!#REF!","v":{"$error":"#REF!"}},{"$f":"'1.Портфель кредитів'!#REF!","v":{"$error":"#REF!"}},{"$f":"'1.Портфель кредитів'!#REF!","v":{"$error":"#REF!"}},{"$f":"'1.Портфель кредитів'!E846","v":0},{"$f":"'1.Портфель кредитів'!R846","v":0},{"$f":"'1.Портфель кредитів'!T846","v":""},4,"2018-06-01","_4_43252_2"]
[{"$f":"'1.Портфель кредитів'!#REF!","v":{"$error":"#REF!"}},{"$f":"'1.Портфель кредитів'!D847","v":""},{"$f":"'1.Портфель кредитів'!#REF!","v":{"$error":"#REF!"}},{"$f":"'1.Портфель кредитів'!#REF!","v":{"$error":"#REF!"}},{"$f":"'1.Портфель кредитів'!#REF!","v":{"$error":"#REF!"}},{"$f":"'1.Портфель кредитів'!E847","v":0},{"$f":"'1.Портфель кредитів'!R847","v":0},{"$f":"'1.Портфель кредитів'!T847","v":""},4,"2018-06-01","_4_43252_2"]
[{"$f":"'1.Портфель кредитів'!#REF!","v":{"$error":"#REF!"}},{"$f":"'1.Портфель кредитів'!D848","v":""},{"$f":"'1.Портфель кредитів'!#REF!","v":{"$error":"#REF!"}},{"$f":"'1.Портфель кредитів'!#REF!","v":{"$error":"#REF!"}},{"$f":"'1.Портфель кредитів'!#REF!","v":{"$error":"#REF!"}},{"$f":"'1.Портфель кредитів'!E848","v":0},{"$f":"'1.Портфель кредитів'!R848","v":0},{"$f":"'1.Портфель кредитів'!T848","v":""},4,"2018-06-01","_4_43252_2"]
[{"$f":"'1.Портфель кредитів'!#REF!","v":{"$error":"#REF!"}},{"$f":"'1.Портфель кредитів'!D849","v":""},{"$f":"'1.Портфель кредитів'!#REF!","v":{"$error":"#REF!"}},{"$f":"'1.Портфель кредитів'!#REF!","v":{"$error":"#REF!"}},{"$f":"'1.Портфель кредитів'!#REF!","v":{"$error":"#REF!"}},{"$f":"'1.Портфель кредитів'!E849","v":0},{"$f":"'1.Портфель кредитів'!R849","v":0},{"$f":"'1.Портфель кредитів'!T849","v":""},4,"2018-06-01","_4_43252_2"]
[{"$f":"'1.Портфель кредитів'!#REF!","v":{"$error":"#REF!"}},{"$f":"'1.Портфель кредитів'!D850","v":""},{"$f":"'1.Портфель кредитів'!#REF!","v":{"$error":"#REF!"}},{"$f":"'1.Портфель кредитів'!#REF!","v":{"$error":"#REF!"}},{"$f":"'1.Портфель кредитів'!#REF!","v":{"$error":"#REF!"}},{"$f":"'1.Портфель кредитів'!E850","v":0},{"$f":"'1.Портфель кредитів'!R850","v":0},{"$f":"'1.Портфель кредитів'!T850","v":""},4,"2018-06-01","_4_43252_2"]
[{"$f":"'1.Портфель кредитів'!#REF!","v":{"$error":"#REF!"}},{"$f":"'1.Портфель кредитів'!D851","v":""},{"$f":"'1.Портфель кредитів'!#REF!","v":{"$error":"#REF!"}},{"$f":"'1.Портфель кредитів'!#REF!","v":{"$error":"#REF!"}},{"$f":"'1.Портфель кредитів'!#REF!","v":{"$error":"#REF!"}},{"$f":"'1.Портфель кредитів'!E851","v":0},{"$f":"'1.Портфель кредитів'!R851","v":0},{"$f":"'1.Портфель кредитів'!T851","v":""},4,"2018-06-01","_4_43252_2"]
[{"$f":"'1.Портфель кредитів'!#REF!","v":{"$error":"#REF!"}},{"$f":"'1.Портфель кредитів'!D852","v":""},{"$f":"'1.Портфель кредитів'!#REF!","v":{"$error":"#REF!"}},{"$f":"'1.Портфель кредитів'!#REF!","v":{"$error":"#REF!"}},{"$f":"'1.Портфель кредитів'!#REF!","v":{"$error":"#REF!"}},{"$f":"'1.Портфель кредитів'!E852","v":0},{"$f":"'1.Портфель кредитів'!R852","v":0},{"$f":"'1.Портфель кредитів'!T852","v":""},4,"2018-06-01","_4_43252_2"]
[{"$f":"'1.Портфель кредитів'!#REF!","v":{"$error":"#REF!"}},{"$f":"'1.Портфель кредитів'!D853","v":""},{"$f":"'1.Портфель кредитів'!#REF!","v":{"$error":"#REF!"}},{"$f":"'1.Портфель кредитів'!#REF!","v":{"$error":"#REF!"}},{"$f":"'1.Портфель кредитів'!#REF!","v":{"$error":"#REF!"}},{"$f":"'1.Портфель кредитів'!E853","v":0},{"$f":"'1.Портфель кредитів'!R853","v":0},{"$f":"'1.Портфель кредитів'!T853","v":""},4,"2018-06-01","_4_43252_2"]
[{"$f":"'1.Портфель кредитів'!#REF!","v":{"$error":"#REF!"}},{"$f":"'1.Портфель кредитів'!D854","v":""},{"$f":"'1.Портфель кредитів'!#REF!","v":{"$error":"#REF!"}},{"$f":"'1.Портфель кредитів'!#REF!","v":{"$error":"#REF!"}},{"$f":"'1.Портфель кредитів'!#REF!","v":{"$error":"#REF!"}},{"$f":"'1.Портфель кредитів'!E854","v":0},{"$f":"'1.Портфель кредитів'!R854","v":0},{"$f":"'1.Портфель кредитів'!T854","v":""},4,"2018-06-01","_4_43252_2"]
[{"$f":"'1.Портфель кредитів'!#REF!","v":{"$error":"#REF!"}},{"$f":"'1.Портфель кредитів'!D855","v":""},{"$f":"'1.Портфель кредитів'!#REF!","v":{"$error":"#REF!"}},{"$f":"'1.Портфель кредитів'!#REF!","v":{"$error":"#REF!"}},{"$f":"'1.Портфель кредитів'!#REF!","v":{"$error":"#REF!"}},{"$f":"'1.Портфель кредитів'!E855","v":0},{"$f":"'1.Портфель кредитів'!R855","v":0},{"$f":"'1.Портфель кредитів'!T855","v":""},4,"2018-06-01","_4_43252_2"]
[{"$f":"'1.Портфель кредитів'!#REF!","v":{"$error":"#REF!"}},{"$f":"'1.Портфель кредитів'!D856","v":""},{"$f":"'1.Портфель кредитів'!#REF!","v":{"$error":"#REF!"}},{"$f":"'1.Портфель кредитів'!#REF!","v":{"$error":"#REF!"}},{"$f":"'1.Портфель кредитів'!#REF!","v":{"$error":"#REF!"}},{"$f":"'1.Портфель кредитів'!E856","v":0},{"$f":"'1.Портфель кредитів'!R856","v":0},{"$f":"'1.Портфель кредитів'!T856","v":""},4,"2018-06-01","_4_43252_2"]
[{"$f":"'1.Портфель кредитів'!#REF!","v":{"$error":"#REF!"}},{"$f":"'1.Портфель кредитів'!D857","v":""},{"$f":"'1.Портфель кредитів'!#REF!","v":{"$error":"#REF!"}},{"$f":"'1.Портфель кредитів'!#REF!","v":{"$error":"#REF!"}},{"$f":"'1.Портфель кредитів'!#REF!","v":{"$error":"#REF!"}},{"$f":"'1.Портфель кредитів'!E857","v":0},{"$f":"'1.Портфель кредитів'!R857","v":0},{"$f":"'1.Портфель кредитів'!T857","v":""},4,"2018-06-01","_4_43252_2"]
[{"$f":"'1.Портфель кредитів'!#REF!","v":{"$error":"#REF!"}},{"$f":"'1.Портфель кредитів'!D858","v":""},{"$f":"'1.Портфель кредитів'!#REF!","v":{"$error":"#REF!"}},{"$f":"'1.Портфель кредитів'!#REF!","v":{"$error":"#REF!"}},{"$f":"'1.Портфель кредитів'!#REF!","v":{"$error":"#REF!"}},{"$f":"'1.Портфель кредитів'!E858","v":0},{"$f":"'1.Портфель кредитів'!R858","v":0},{"$f":"'1.Портфель кредитів'!T858","v":""},4,"2018-06-01","_4_43252_2"]
[{"$f":"'1.Портфель кредитів'!#REF!","v":{"$error":"#REF!"}},{"$f":"'1.Портфель кредитів'!D859","v":""},{"$f":"'1.Портфель кредитів'!#REF!","v":{"$error":"#REF!"}},{"$f":"'1.Портфель кредитів'!#REF!","v":{"$error":"#REF!"}},{"$f":"'1.Портфель кредитів'!#REF!","v":{"$error":"#REF!"}},{"$f":"'1.Портфель кредитів'!E859","v":0},{"$f":"'1.Портфель кредитів'!R859","v":0},{"$f":"'1.Портфель кредитів'!T859","v":""},4,"2018-06-01","_4_43252_2"]
[{"$f":"'1.Портфель кредитів'!#REF!","v":{"$error":"#REF!"}},{"$f":"'1.Портфель кредитів'!D860","v":""},{"$f":"'1.Портфель кредитів'!#REF!","v":{"$error":"#REF!"}},{"$f":"'1.Портфель кредитів'!#REF!","v":{"$error":"#REF!"}},{"$f":"'1.Портфель кредитів'!#REF!","v":{"$error":"#REF!"}},{"$f":"'1.Портфель кредитів'!E860","v":0},{"$f":"'1.Портфель кредитів'!R860","v":0},{"$f":"'1.Портфель кредитів'!T860","v":""},4,"2018-06-01","_4_43252_2"]
[{"$f":"'1.Портфель кредитів'!#REF!","v":{"$error":"#REF!"}},{"$f":"'1.Портфель кредитів'!D861","v":""},{"$f":"'1.Портфель кредитів'!#REF!","v":{"$error":"#REF!"}},{"$f":"'1.Портфель кредитів'!#REF!","v":{"$error":"#REF!"}},{"$f":"'1.Портфель кредитів'!#REF!","v":{"$error":"#REF!"}},{"$f":"'1.Портфель кредитів'!E861","v":0},{"$f":"'1.Портфель кредитів'!R861","v":0},{"$f":"'1.Портфель кредитів'!T861","v":""},4,"2018-06-01","_4_43252_2"]
[{"$f":"'1.Портфель кредитів'!#REF!","v":{"$error":"#REF!"}},{"$f":"'1.Портфель кредитів'!D862","v":""},{"$f":"'1.Портфель кредитів'!#REF!","v":{"$error":"#REF!"}},{"$f":"'1.Портфель кредитів'!#REF!","v":{"$error":"#REF!"}},{"$f":"'1.Портфель кредитів'!#REF!","v":{"$error":"#REF!"}},{"$f":"'1.Портфель кредитів'!E862","v":0},{"$f":"'1.Портфель кредитів'!R862","v":0},{"$f":"'1.Портфель кредитів'!T862","v":""},4,"2018-06-01","_4_43252_2"]
[{"$f":"'1.Портфель кредитів'!#REF!","v":{"$error":"#REF!"}},{"$f":"'1.Портфель кредитів'!D863","v":""},{"$f":"'1.Портфель кредитів'!#REF!","v":{"$error":"#REF!"}},{"$f":"'1.Портфель кредитів'!#REF!","v":{"$error":"#REF!"}},{"$f":"'1.Портфель кредитів'!#REF!","v":{"$error":"#REF!"}},{"$f":"'1.Портфель кредитів'!E863","v":0},{"$f":"'1.Портфель кредитів'!R863","v":0},{"$f":"'1.Портфель кредитів'!T863","v":""},4,"2018-06-01","_4_43252_2"]
[{"$f":"'1.Портфель кредитів'!#REF!","v":{"$error":"#REF!"}},{"$f":"'1.Портфель кредитів'!D864","v":""},{"$f":"'1.Портфель кредитів'!#REF!","v":{"$error":"#REF!"}},{"$f":"'1.Портфель кредитів'!#REF!","v":{"$error":"#REF!"}},{"$f":"'1.Портфель кредитів'!#REF!","v":{"$error":"#REF!"}},{"$f":"'1.Портфель кредитів'!E864","v":0},{"$f":"'1.Портфель кредитів'!R864","v":0},{"$f":"'1.Портфель кредитів'!T864","v":""},4,"2018-06-01","_4_43252_2"]
[{"$f":"'1.Портфель кредитів'!#REF!","v":{"$error":"#REF!"}},{"$f":"'1.Портфель кредитів'!D865","v":""},{"$f":"'1.Портфель кредитів'!#REF!","v":{"$error":"#REF!"}},{"$f":"'1.Портфель кредитів'!#REF!","v":{"$error":"#REF!"}},{"$f":"'1.Портфель кредитів'!#REF!","v":{"$error":"#REF!"}},{"$f":"'1.Портфель кредитів'!E865","v":0},{"$f":"'1.Портфель кредитів'!R865","v":0},{"$f":"'1.Портфель кредитів'!T865","v":""},4,"2018-06-01","_4_43252_2"]
[{"$f":"'1.Портфель кредитів'!#REF!","v":{"$error":"#REF!"}},{"$f":"'1.Портфель кредитів'!D866","v":""},{"$f":"'1.Портфель кредитів'!#REF!","v":{"$error":"#REF!"}},{"$f":"'1.Портфель кредитів'!#REF!","v":{"$error":"#REF!"}},{"$f":"'1.Портфель кредитів'!#REF!","v":{"$error":"#REF!"}},{"$f":"'1.Портфель кредитів'!E866","v":0},{"$f":"'1.Портфель кредитів'!R866","v":0},{"$f":"'1.Портфель кредитів'!T866","v":""},4,"2018-06-01","_4_43252_2"]
[{"$f":"'1.Портфель кредитів'!#REF!","v":{"$error":"#REF!"}},{"$f":"'1.Портфель кредитів'!D867","v":""},{"$f":"'1.Портфель кредитів'!#REF!","v":{"$error":"#REF!"}},{"$f":"'1.Портфель кредитів'!#REF!","v":{"$error":"#REF!"}},{"$f":"'1.Портфель кредитів'!#REF!","v":{"$error":"#REF!"}},{"$f":"'1.Портфель кредитів'!E867","v":0},{"$f":"'1.Портфель кредитів'!R867","v":0},{"$f":"'1.Портфель кредитів'!T867","v":""},4,"2018-06-01","_4_43252_2"]
[{"$f":"'1.Портфель кредитів'!#REF!","v":{"$error":"#REF!"}},{"$f":"'1.Портфель кредитів'!D868","v":""},{"$f":"'1.Портфель кредитів'!#REF!","v":{"$error":"#REF!"}},{"$f":"'1.Портфель кредитів'!#REF!","v":{"$error":"#REF!"}},{"$f":"'1.Портфель кредитів'!#REF!","v":{"$error":"#REF!"}},{"$f":"'1.Портфель кредитів'!E868","v":0},{"$f":"'1.Портфель кредитів'!R868","v":0},{"$f":"'1.Портфель кредитів'!T868","v":""},4,"2018-06-01","_4_43252_2"]
[{"$f":"'1.Портфель кредитів'!#REF!","v":{"$error":"#REF!"}},{"$f":"'1.Портфель кредитів'!D869","v":""},{"$f":"'1.Портфель кредитів'!#REF!","v":{"$error":"#REF!"}},{"$f":"'1.Портфель кредитів'!#REF!","v":{"$error":"#REF!"}},{"$f":"'1.Портфель кредитів'!#REF!","v":{"$error":"#REF!"}},{"$f":"'1.Портфель кредитів'!E869","v":0},{"$f":"'1.Портфель кредитів'!R869","v":0},{"$f":"'1.Портфель кредитів'!T869","v":""},4,"2018-06-01","_4_43252_2"]
[{"$f":"'1.Портфель кредитів'!#REF!","v":{"$error":"#REF!"}},{"$f":"'1.Портфель кредитів'!D870","v":""},{"$f":"'1.Портфель кредитів'!#REF!","v":{"$error":"#REF!"}},{"$f":"'1.Портфель кредитів'!#REF!","v":{"$error":"#REF!"}},{"$f":"'1.Портфель кредитів'!#REF!","v":{"$error":"#REF!"}},{"$f":"'1.Портфель кредитів'!E870","v":0},{"$f":"'1.Портфель кредитів'!R870","v":0},{"$f":"'1.Портфель кредитів'!T870","v":""},4,"2018-06-01","_4_43252_2"]
[{"$f":"'1.Портфель кредитів'!#REF!","v":{"$error":"#REF!"}},{"$f":"'1.Портфель кредитів'!D871","v":""},{"$f":"'1.Портфель кредитів'!#REF!","v":{"$error":"#REF!"}},{"$f":"'1.Портфель кредитів'!#REF!","v":{"$error":"#REF!"}},{"$f":"'1.Портфель кредитів'!#REF!","v":{"$error":"#REF!"}},{"$f":"'1.Портфель кредитів'!E871","v":0},{"$f":"'1.Портфель кредитів'!R871","v":0},{"$f":"'1.Портфель кредитів'!T871","v":""},4,"2018-06-01","_4_43252_2"]
[{"$f":"'1.Портфель кредитів'!#REF!","v":{"$error":"#REF!"}},{"$f":"'1.Портфель кредитів'!D872","v":""},{"$f":"'1.Портфель кредитів'!#REF!","v":{"$error":"#REF!"}},{"$f":"'1.Портфель кредитів'!#REF!","v":{"$error":"#REF!"}},{"$f":"'1.Портфель кредитів'!#REF!","v":{"$error":"#REF!"}},{"$f":"'1.Портфель кредитів'!E872","v":0},{"$f":"'1.Портфель кредитів'!R872","v":0},{"$f":"'1.Портфель кредитів'!T872","v":""},4,"2018-06-01","_4_43252_2"]
[{"$f":"'1.Портфель кредитів'!#REF!","v":{"$error":"#REF!"}},{"$f":"'1.Портфель кредитів'!D873","v":""},{"$f":"'1.Портфель кредитів'!#REF!","v":{"$error":"#REF!"}},{"$f":"'1.Портфель кредитів'!#REF!","v":{"$error":"#REF!"}},{"$f":"'1.Портфель кредитів'!#REF!","v":{"$error":"#REF!"}},{"$f":"'1.Портфель кредитів'!E873","v":0},{"$f":"'1.Портфель кредитів'!R873","v":0},{"$f":"'1.Портфель кредитів'!T873","v":""},4,"2018-06-01","_4_43252_2"]
[{"$f":"'1.Портфель кредитів'!#REF!","v":{"$error":"#REF!"}},{"$f":"'1.Портфель кредитів'!D874","v":""},{"$f":"'1.Портфель кредитів'!#REF!","v":{"$error":"#REF!"}},{"$f":"'1.Портфель кредитів'!#REF!","v":{"$error":"#REF!"}},{"$f":"'1.Портфель кредитів'!#REF!","v":{"$error":"#REF!"}},{"$f":"'1.Портфель кредитів'!E874","v":0},{"$f":"'1.Портфель кредитів'!R874","v":0},{"$f":"'1.Портфель кредитів'!T874","v":""},4,"2018-06-01","_4_43252_2"]
[{"$f":"'1.Портфель кредитів'!#REF!","v":{"$error":"#REF!"}},{"$f":"'1.Портфель кредитів'!D875","v":""},{"$f":"'1.Портфель кредитів'!#REF!","v":{"$error":"#REF!"}},{"$f":"'1.Портфель кредитів'!#REF!","v":{"$error":"#REF!"}},{"$f":"'1.Портфель кредитів'!#REF!","v":{"$error":"#REF!"}},{"$f":"'1.Портфель кредитів'!E875","v":0},{"$f":"'1.Портфель кредитів'!R875","v":0},{"$f":"'1.Портфель кредитів'!T875","v":""},4,"2018-06-01","_4_43252_2"]
[{"$f":"'1.Портфель кредитів'!#REF!","v":{"$error":"#REF!"}},{"$f":"'1.Портфель кредитів'!D876","v":""},{"$f":"'1.Портфель кредитів'!#REF!","v":{"$error":"#REF!"}},{"$f":"'1.Портфель кредитів'!#REF!","v":{"$error":"#REF!"}},{"$f":"'1.Портфель кредитів'!#REF!","v":{"$error":"#REF!"}},{"$f":"'1.Портфель кредитів'!E876","v":0},{"$f":"'1.Портфель кредитів'!R876","v":0},{"$f":"'1.Портфель кредитів'!T876","v":""},4,"2018-06-01","_4_43252_2"]
[{"$f":"'1.Портфель кредитів'!#REF!","v":{"$error":"#REF!"}},{"$f":"'1.Портфель кредитів'!D877","v":""},{"$f":"'1.Портфель кредитів'!#REF!","v":{"$error":"#REF!"}},{"$f":"'1.Портфель кредитів'!#REF!","v":{"$error":"#REF!"}},{"$f":"'1.Портфель кредитів'!#REF!","v":{"$error":"#REF!"}},{"$f":"'1.Портфель кредитів'!E877","v":0},{"$f":"'1.Портфель кредитів'!R877","v":0},{"$f":"'1.Портфель кредитів'!T877","v":""},4,"2018-06-01","_4_43252_2"]
[{"$f":"'1.Портфель кредитів'!#REF!","v":{"$error":"#REF!"}},{"$f":"'1.Портфель кредитів'!D878","v":""},{"$f":"'1.Портфель кредитів'!#REF!","v":{"$error":"#REF!"}},{"$f":"'1.Портфель кредитів'!#REF!","v":{"$error":"#REF!"}},{"$f":"'1.Портфель кредитів'!#REF!","v":{"$error":"#REF!"}},{"$f":"'1.Портфель кредитів'!E878","v":0},{"$f":"'1.Портфель кредитів'!R878","v":0},{"$f":"'1.Портфель кредитів'!T878","v":""},4,"2018-06-01","_4_43252_2"]
[{"$f":"'1.Портфель кредитів'!#REF!","v":{"$error":"#REF!"}},{"$f":"'1.Портфель кредитів'!D879","v":""},{"$f":"'1.Портфель кредитів'!#REF!","v":{"$error":"#REF!"}},{"$f":"'1.Портфель кредитів'!#REF!","v":{"$error":"#REF!"}},{"$f":"'1.Портфель кредитів'!#REF!","v":{"$error":"#REF!"}},{"$f":"'1.Портфель кредитів'!E879","v":0},{"$f":"'1.Портфель кредитів'!R879","v":0},{"$f":"'1.Портфель кредитів'!T879","v":""},4,"2018-06-01","_4_43252_2"]
[{"$f":"'1.Портфель кредитів'!#REF!","v":{"$error":"#REF!"}},{"$f":"'1.Портфель кредитів'!D880","v":""},{"$f":"'1.Портфель кредитів'!#REF!","v":{"$error":"#REF!"}},{"$f":"'1.Портфель кредитів'!#REF!","v":{"$error":"#REF!"}},{"$f":"'1.Портфель кредитів'!#REF!","v":{"$error":"#REF!"}},{"$f":"'1.Портфель кредитів'!E880","v":0},{"$f":"'1.Портфель кредитів'!R880","v":0},{"$f":"'1.Портфель кредитів'!T880","v":""},4,"2018-06-01","_4_43252_2"]
[{"$f":"'1.Портфель кредитів'!#REF!","v":{"$error":"#REF!"}},{"$f":"'1.Портфель кредитів'!D881","v":""},{"$f":"'1.Портфель кредитів'!#REF!","v":{"$error":"#REF!"}},{"$f":"'1.Портфель кредитів'!#REF!","v":{"$error":"#REF!"}},{"$f":"'1.Портфель кредитів'!#REF!","v":{"$error":"#REF!"}},{"$f":"'1.Портфель кредитів'!E881","v":0},{"$f":"'1.Портфель кредитів'!R881","v":0},{"$f":"'1.Портфель кредитів'!T881","v":""},4,"2018-06-01","_4_43252_2"]
[{"$f":"'1.Портфель кредитів'!#REF!","v":{"$error":"#REF!"}},{"$f":"'1.Портфель кредитів'!D882","v":""},{"$f":"'1.Портфель кредитів'!#REF!","v":{"$error":"#REF!"}},{"$f":"'1.Портфель кредитів'!#REF!","v":{"$error":"#REF!"}},{"$f":"'1.Портфель кредитів'!#REF!","v":{"$error":"#REF!"}},{"$f":"'1.Портфель кредитів'!E882","v":0},{"$f":"'1.Портфель кредитів'!R882","v":0},{"$f":"'1.Портфель кредитів'!T882","v":""},4,"2018-06-01","_4_43252_2"]
[{"$f":"'1.Портфель кредитів'!#REF!","v":{"$error":"#REF!"}},{"$f":"'1.Портфель кредитів'!D883","v":""},{"$f":"'1.Портфель кредитів'!#REF!","v":{"$error":"#REF!"}},{"$f":"'1.Портфель кредитів'!#REF!","v":{"$error":"#REF!"}},{"$f":"'1.Портфель кредитів'!#REF!","v":{"$error":"#REF!"}},{"$f":"'1.Портфель кредитів'!E883","v":0},{"$f":"'1.Портфель кредитів'!R883","v":0},{"$f":"'1.Портфель кредитів'!T883","v":""},4,"2018-06-01","_4_43252_2"]
[{"$f":"'1.Портфель кредитів'!#REF!","v":{"$error":"#REF!"}},{"$f":"'1.Портфель кредитів'!D884","v":""},{"$f":"'1.Портфель кредитів'!#REF!","v":{"$error":"#REF!"}},{"$f":"'1.Портфель кредитів'!#REF!","v":{"$error":"#REF!"}},{"$f":"'1.Портфель кредитів'!#REF!","v":{"$error":"#REF!"}},{"$f":"'1.Портфель кредитів'!E884","v":0},{"$f":"'1.Портфель кредитів'!R884","v":0},{"$f":"'1.Портфель кредитів'!T884","v":""},4,"2018-06-01","_4_43252_2"]
[{"$f":"'1.Портфель кредитів'!#REF!","v":{"$error":"#REF!"}},{"$f":"'1.Портфель кредитів'!D885","v":""},{"$f":"'1.Портфель кредитів'!#REF!","v":{"$error":"#REF!"}},{"$f":"'1.Портфель кредитів'!#REF!","v":{"$error":"#REF!"}},{"$f":"'1.Портфель кредитів'!#REF!","v":{"$error":"#REF!"}},{"$f":"'1.Портфель кредитів'!E885","v":0},{"$f":"'1.Портфель кредитів'!R885","v":0},{"$f":"'1.Портфель кредитів'!T885","v":""},4,"2018-06-01","_4_43252_2"]
[{"$f":"'1.Портфель кредитів'!#REF!","v":{"$error":"#REF!"}},{"$f":"'1.Портфель кредитів'!D886","v":""},{"$f":"'1.Портфель кредитів'!#REF!","v":{"$error":"#REF!"}},{"$f":"'1.Портфель кредитів'!#REF!","v":{"$error":"#REF!"}},{"$f":"'1.Портфель кредитів'!#REF!","v":{"$error":"#REF!"}},{"$f":"'1.Портфель кредитів'!E886","v":0},{"$f":"'1.Портфель кредитів'!R886","v":0},{"$f":"'1.Портфель кредитів'!T886","v":""},4,"2018-06-01","_4_43252_2"]
[{"$f":"'1.Портфель кредитів'!#REF!","v":{"$error":"#REF!"}},{"$f":"'1.Портфель кредитів'!D887","v":""},{"$f":"'1.Портфель кредитів'!#REF!","v":{"$error":"#REF!"}},{"$f":"'1.Портфель кредитів'!#REF!","v":{"$error":"#REF!"}},{"$f":"'1.Портфель кредитів'!#REF!","v":{"$error":"#REF!"}},{"$f":"'1.Портфель кредитів'!E887","v":0},{"$f":"'1.Портфель кредитів'!R887","v":0},{"$f":"'1.Портфель кредитів'!T887","v":""},4,"2018-06-01","_4_43252_2"]
[{"$f":"'1.Портфель кредитів'!#REF!","v":{"$error":"#REF!"}},{"$f":"'1.Портфель кредитів'!D888","v":""},{"$f":"'1.Портфель кредитів'!#REF!","v":{"$error":"#REF!"}},{"$f":"'1.Портфель кредитів'!#REF!","v":{"$error":"#REF!"}},{"$f":"'1.Портфель кредитів'!#REF!","v":{"$error":"#REF!"}},{"$f":"'1.Портфель кредитів'!E888","v":0},{"$f":"'1.Портфель кредитів'!R888","v":0},{"$f":"'1.Портфель кредитів'!T888","v":""},4,"2018-06-01","_4_43252_2"]
[{"$f":"'1.Портфель кредитів'!#REF!","v":{"$error":"#REF!"}},{"$f":"'1.Портфель кредитів'!D889","v":""},{"$f":"'1.Портфель кредитів'!#REF!","v":{"$error":"#REF!"}},{"$f":"'1.Портфель кредитів'!#REF!","v":{"$error":"#REF!"}},{"$f":"'1.Портфель кредитів'!#REF!","v":{"$error":"#REF!"}},{"$f":"'1.Портфель кредитів'!E889","v":0},{"$f":"'1.Портфель кредитів'!R889","v":0},{"$f":"'1.Портфель кредитів'!T889","v":""},4,"2018-06-01","_4_43252_2"]
[{"$f":"'1.Портфель кредитів'!#REF!","v":{"$error":"#REF!"}},{"$f":"'1.Портфель кредитів'!D890","v":""},{"$f":"'1.Портфель кредитів'!#REF!","v":{"$error":"#REF!"}},{"$f":"'1.Портфель кредитів'!#REF!","v":{"$error":"#REF!"}},{"$f":"'1.Портфель кредитів'!#REF!","v":{"$error":"#REF!"}},{"$f":"'1.Портфель кредитів'!E890","v":0},{"$f":"'1.Портфель кредитів'!R890","v":0},{"$f":"'1.Портфель кредитів'!T890","v":""},4,"2018-06-01","_4_43252_2"]
[{"$f":"'1.Портфель кредитів'!#REF!","v":{"$error":"#REF!"}},{"$f":"'1.Портфель кредитів'!D891","v":""},{"$f":"'1.Портфель кредитів'!#REF!","v":{"$error":"#REF!"}},{"$f":"'1.Портфель кредитів'!#REF!","v":{"$error":"#REF!"}},{"$f":"'1.Портфель кредитів'!#REF!","v":{"$error":"#REF!"}},{"$f":"'1.Портфель кредитів'!E891","v":0},{"$f":"'1.Портфель кредитів'!R891","v":0},{"$f":"'1.Портфель кредитів'!T891","v":""},4,"2018-06-01","_4_43252_2"]
[{"$f":"'1.Портфель кредитів'!#REF!","v":{"$error":"#REF!"}},{"$f":"'1.Портфель кредитів'!D892","v":""},{"$f":"'1.Портфель кредитів'!#REF!","v":{"$error":"#REF!"}},{"$f":"'1.Портфель кредитів'!#REF!","v":{"$error":"#REF!"}},{"$f":"'1.Портфель кредитів'!#REF!","v":{"$error":"#REF!"}},{"$f":"'1.Портфель кредитів'!E892","v":0},{"$f":"'1.Портфель кредитів'!R892","v":0},{"$f":"'1.Портфель кредитів'!T892","v":""},4,"2018-06-01","_4_43252_2"]
[{"$f":"'1.Портфель кредитів'!#REF!","v":{"$error":"#REF!"}},{"$f":"'1.Портфель кредитів'!D893","v":""},{"$f":"'1.Портфель кредитів'!#REF!","v":{"$error":"#REF!"}},{"$f":"'1.Портфель кредитів'!#REF!","v":{"$error":"#REF!"}},{"$f":"'1.Портфель кредитів'!#REF!","v":{"$error":"#REF!"}},{"$f":"'1.Портфель кредитів'!E893","v":0},{"$f":"'1.Портфель кредитів'!R893","v":0},{"$f":"'1.Портфель кредитів'!T893","v":""},4,"2018-06-01","_4_43252_2"]
[{"$f":"'1.Портфель кредитів'!#REF!","v":{"$error":"#REF!"}},{"$f":"'1.Портфель кредитів'!D894","v":""},{"$f":"'1.Портфель кредитів'!#REF!","v":{"$error":"#REF!"}},{"$f":"'1.Портфель кредитів'!#REF!","v":{"$error":"#REF!"}},{"$f":"'1.Портфель кредитів'!#REF!","v":{"$error":"#REF!"}},{"$f":"'1.Портфель кредитів'!E894","v":0},{"$f":"'1.Портфель кредитів'!R894","v":0},{"$f":"'1.Портфель кредитів'!T894","v":""},4,"2018-06-01","_4_43252_2"]
[{"$f":"'1.Портфель кредитів'!#REF!","v":{"$error":"#REF!"}},{"$f":"'1.Портфель кредитів'!D895","v":""},{"$f":"'1.Портфель кредитів'!#REF!","v":{"$error":"#REF!"}},{"$f":"'1.Портфель кредитів'!#REF!","v":{"$error":"#REF!"}},{"$f":"'1.Портфель кредитів'!#REF!","v":{"$error":"#REF!"}},{"$f":"'1.Портфель кредитів'!E895","v":0},{"$f":"'1.Портфель кредитів'!R895","v":0},{"$f":"'1.Портфель кредитів'!T895","v":""},4,"2018-06-01","_4_43252_2"]
[{"$f":"'1.Портфель кредитів'!#REF!","v":{"$error":"#REF!"}},{"$f":"'1.Портфель кредитів'!D896","v":""},{"$f":"'1.Портфель кредитів'!#REF!","v":{"$error":"#REF!"}},{"$f":"'1.Портфель кредитів'!#REF!","v":{"$error":"#REF!"}},{"$f":"'1.Портфель кредитів'!#REF!","v":{"$error":"#REF!"}},{"$f":"'1.Портфель кредитів'!E896","v":0},{"$f":"'1.Портфель кредитів'!R896","v":0},{"$f":"'1.Портфель кредитів'!T896","v":""},4,"2018-06-01","_4_43252_2"]
[{"$f":"'1.Портфель кредитів'!#REF!","v":{"$error":"#REF!"}},{"$f":"'1.Портфель кредитів'!D897","v":""},{"$f":"'1.Портфель кредитів'!#REF!","v":{"$error":"#REF!"}},{"$f":"'1.Портфель кредитів'!#REF!","v":{"$error":"#REF!"}},{"$f":"'1.Портфель кредитів'!#REF!","v":{"$error":"#REF!"}},{"$f":"'1.Портфель кредитів'!E897","v":0},{"$f":"'1.Портфель кредитів'!R897","v":0},{"$f":"'1.Портфель кредитів'!T897","v":""},4,"2018-06-01","_4_43252_2"]
[{"$f":"'1.Портфель кредитів'!#REF!","v":{"$error":"#REF!"}},{"$f":"'1.Портфель кредитів'!D898","v":""},{"$f":"'1.Портфель кредитів'!#REF!","v":{"$error":"#REF!"}},{"$f":"'1.Портфель кредитів'!#REF!","v":{"$error":"#REF!"}},{"$f":"'1.Портфель кредитів'!#REF!","v":{"$error":"#REF!"}},{"$f":"'1.Портфель кредитів'!E898","v":0},{"$f":"'1.Портфель кредитів'!R898","v":0},{"$f":"'1.Портфель кредитів'!T898","v":""},4,"2018-06-01","_4_43252_2"]
[{"$f":"'1.Портфель кредитів'!#REF!","v":{"$error":"#REF!"}},{"$f":"'1.Портфель кредитів'!D899","v":""},{"$f":"'1.Портфель кредитів'!#REF!","v":{"$error":"#REF!"}},{"$f":"'1.Портфель кредитів'!#REF!","v":{"$error":"#REF!"}},{"$f":"'1.Портфель кредитів'!#REF!","v":{"$error":"#REF!"}},{"$f":"'1.Портфель кредитів'!E899","v":0},{"$f":"'1.Портфель кредитів'!R899","v":0},{"$f":"'1.Портфель кредитів'!T899","v":""},{"$f":"$E$1","v":4},{"$f":"$E$2","v":"2018-06-01"},{"$f":"B902&\"_\"&I902&\"_\"&J902&\"_\"&$E$3","v":"_4_43252_2"}]
[{"$f":"'1.Портфель кредитів'!#REF!","v":{"$error":"#REF!"}},{"$f":"'1.Портфель кредитів'!D900","v":""},{"$f":"'1.Портфель кредитів'!#REF!","v":{"$error":"#REF!"}},{"$f":"'1.Портфель кредитів'!#REF!","v":{"$error":"#REF!"}},{"$f":"'1.Портфель кредитів'!#REF!","v":{"$error":"#REF!"}},{"$f":"'1.Портфель кредитів'!E900","v":0},{"$f":"'1.Портфель кредитів'!R900","v":0},{"$f":"'1.Портфель кредитів'!T900","v":""},4,"2018-06-01","_4_43252_2"]
[{"$f":"'1.Портфель кредитів'!#REF!","v":{"$error":"#REF!"}},{"$f":"'1.Портфель кредитів'!D901","v":""},{"$f":"'1.Портфель кредитів'!#REF!","v":{"$error":"#REF!"}},{"$f":"'1.Портфель кредитів'!#REF!","v":{"$error":"#REF!"}},{"$f":"'1.Портфель кредитів'!#REF!","v":{"$error":"#REF!"}},{"$f":"'1.Портфель кредитів'!E901","v":0},{"$f":"'1.Портфель кредитів'!R901","v":0},{"$f":"'1.Портфель кредитів'!T901","v":""},4,"2018-06-01","_4_43252_2"]
[{"$f":"'1.Портфель кредитів'!#REF!","v":{"$error":"#REF!"}},{"$f":"'1.Портфель кредитів'!D902","v":""},{"$f":"'1.Портфель кредитів'!#REF!","v":{"$error":"#REF!"}},{"$f":"'1.Портфель кредитів'!#REF!","v":{"$error":"#REF!"}},{"$f":"'1.Портфель кредитів'!#REF!","v":{"$error":"#REF!"}},{"$f":"'1.Портфель кредитів'!E902","v":0},{"$f":"'1.Портфель кредитів'!R902","v":0},{"$f":"'1.Портфель кредитів'!T902","v":""},4,"2018-06-01","_4_43252_2"]
[{"$f":"'1.Портфель кредитів'!#REF!","v":{"$error":"#REF!"}},{"$f":"'1.Портфель кредитів'!D903","v":""},{"$f":"'1.Портфель кредитів'!#REF!","v":{"$error":"#REF!"}},{"$f":"'1.Портфель кредитів'!#REF!","v":{"$error":"#REF!"}},{"$f":"'1.Портфель кредитів'!#REF!","v":{"$error":"#REF!"}},{"$f":"'1.Портфель кредитів'!E903","v":0},{"$f":"'1.Портфель кредитів'!R903","v":0},{"$f":"'1.Портфель кредитів'!T903","v":""},4,"2018-06-01","_4_43252_2"]
[{"$f":"'1.Портфель кредитів'!#REF!","v":{"$error":"#REF!"}},{"$f":"'1.Портфель кредитів'!D904","v":""},{"$f":"'1.Портфель кредитів'!#REF!","v":{"$error":"#REF!"}},{"$f":"'1.Портфель кредитів'!#REF!","v":{"$error":"#REF!"}},{"$f":"'1.Портфель кредитів'!#REF!","v":{"$error":"#REF!"}},{"$f":"'1.Портфель кредитів'!E904","v":0},{"$f":"'1.Портфель кредитів'!R904","v":0},{"$f":"'1.Портфель кредитів'!T904","v":""},4,"2018-06-01","_4_43252_2"]
[{"$f":"'1.Портфель кредитів'!#REF!","v":{"$error":"#REF!"}},{"$f":"'1.Портфель кредитів'!D905","v":""},{"$f":"'1.Портфель кредитів'!#REF!","v":{"$error":"#REF!"}},{"$f":"'1.Портфель кредитів'!#REF!","v":{"$error":"#REF!"}},{"$f":"'1.Портфель кредитів'!#REF!","v":{"$error":"#REF!"}},{"$f":"'1.Портфель кредитів'!E905","v":0},{"$f":"'1.Портфель кредитів'!R905","v":0},{"$f":"'1.Портфель кредитів'!T905","v":""},4,"2018-06-01","_4_43252_2"]
[{"$f":"'1.Портфель кредитів'!#REF!","v":{"$error":"#REF!"}},{"$f":"'1.Портфель кредитів'!D906","v":""},{"$f":"'1.Портфель кредитів'!#REF!","v":{"$error":"#REF!"}},{"$f":"'1.Портфель кредитів'!#REF!","v":{"$error":"#REF!"}},{"$f":"'1.Портфель кредитів'!#REF!","v":{"$error":"#REF!"}},{"$f":"'1.Портфель кредитів'!E906","v":0},{"$f":"'1.Портфель кредитів'!R906","v":0},{"$f":"'1.Портфель кредитів'!T906","v":""},4,"2018-06-01","_4_43252_2"]
[{"$f":"'1.Портфель кредитів'!#REF!","v":{"$error":"#REF!"}},{"$f":"'1.Портфель кредитів'!D907","v":""},{"$f":"'1.Портфель кредитів'!#REF!","v":{"$error":"#REF!"}},{"$f":"'1.Портфель кредитів'!#REF!","v":{"$error":"#REF!"}},{"$f":"'1.Портфель кредитів'!#REF!","v":{"$error":"#REF!"}},{"$f":"'1.Портфель кредитів'!E907","v":0},{"$f":"'1.Портфель кредитів'!R907","v":0},{"$f":"'1.Портфель кредитів'!T907","v":""},4,"2018-06-01","_4_43252_2"]
[{"$f":"'1.Портфель кредитів'!#REF!","v":{"$error":"#REF!"}},{"$f":"'1.Портфель кредитів'!D908","v":""},{"$f":"'1.Портфель кредитів'!#REF!","v":{"$error":"#REF!"}},{"$f":"'1.Портфель кредитів'!#REF!","v":{"$error":"#REF!"}},{"$f":"'1.Портфель кредитів'!#REF!","v":{"$error":"#REF!"}},{"$f":"'1.Портфель кредитів'!E908","v":0},{"$f":"'1.Портфель кредитів'!R908","v":0},{"$f":"'1.Портфель кредитів'!T908","v":""},4,"2018-06-01","_4_43252_2"]
[{"$f":"'1.Портфель кредитів'!#REF!","v":{"$error":"#REF!"}},{"$f":"'1.Портфель кредитів'!D909","v":""},{"$f":"'1.Портфель кредитів'!#REF!","v":{"$error":"#REF!"}},{"$f":"'1.Портфель кредитів'!#REF!","v":{"$error":"#REF!"}},{"$f":"'1.Портфель кредитів'!#REF!","v":{"$error":"#REF!"}},{"$f":"'1.Портфель кредитів'!E909","v":0},{"$f":"'1.Портфель кредитів'!R909","v":0},{"$f":"'1.Портфель кредитів'!T909","v":""},4,"2018-06-01","_4_43252_2"]
[{"$f":"'1.Портфель кредитів'!#REF!","v":{"$error":"#REF!"}},{"$f":"'1.Портфель кредитів'!D910","v":""},{"$f":"'1.Портфель кредитів'!#REF!","v":{"$error":"#REF!"}},{"$f":"'1.Портфель кредитів'!#REF!","v":{"$error":"#REF!"}},{"$f":"'1.Портфель кредитів'!#REF!","v":{"$error":"#REF!"}},{"$f":"'1.Портфель кредитів'!E910","v":0},{"$f":"'1.Портфель кредитів'!R910","v":0},{"$f":"'1.Портфель кредитів'!T910","v":""},4,"2018-06-01","_4_43252_2"]
[{"$f":"'1.Портфель кредитів'!#REF!","v":{"$error":"#REF!"}},{"$f":"'1.Портфель кредитів'!D911","v":""},{"$f":"'1.Портфель кредитів'!#REF!","v":{"$error":"#REF!"}},{"$f":"'1.Портфель кредитів'!#REF!","v":{"$error":"#REF!"}},{"$f":"'1.Портфель кредитів'!#REF!","v":{"$error":"#REF!"}},{"$f":"'1.Портфель кредитів'!E911","v":0},{"$f":"'1.Портфель кредитів'!R911","v":0},{"$f":"'1.Портфель кредитів'!T911","v":""},4,"2018-06-01","_4_43252_2"]
[{"$f":"'1.Портфель кредитів'!#REF!","v":{"$error":"#REF!"}},{"$f":"'1.Портфель кредитів'!D912","v":""},{"$f":"'1.Портфель кредитів'!#REF!","v":{"$error":"#REF!"}},{"$f":"'1.Портфель кредитів'!#REF!","v":{"$error":"#REF!"}},{"$f":"'1.Портфель кредитів'!#REF!","v":{"$error":"#REF!"}},{"$f":"'1.Портфель кредитів'!E912","v":0},{"$f":"'1.Портфель кредитів'!R912","v":0},{"$f":"'1.Портфель кредитів'!T912","v":""},4,"2018-06-01","_4_43252_2"]
[{"$f":"'1.Портфель кредитів'!#REF!","v":{"$error":"#REF!"}},{"$f":"'1.Портфель кредитів'!D913","v":""},{"$f":"'1.Портфель кредитів'!#REF!","v":{"$error":"#REF!"}},{"$f":"'1.Портфель кредитів'!#REF!","v":{"$error":"#REF!"}},{"$f":"'1.Портфель кредитів'!#REF!","v":{"$error":"#REF!"}},{"$f":"'1.Портфель кредитів'!E913","v":0},{"$f":"'1.Портфель кредитів'!R913","v":0},{"$f":"'1.Портфель кредитів'!T913","v":""},4,"2018-06-01","_4_43252_2"]
[{"$f":"'1.Портфель кредитів'!#REF!","v":{"$error":"#REF!"}},{"$f":"'1.Портфель кредитів'!D914","v":""},{"$f":"'1.Портфель кредитів'!#REF!","v":{"$error":"#REF!"}},{"$f":"'1.Портфель кредитів'!#REF!","v":{"$error":"#REF!"}},{"$f":"'1.Портфель кредитів'!#REF!","v":{"$error":"#REF!"}},{"$f":"'1.Портфель кредитів'!E914","v":0},{"$f":"'1.Портфель кредитів'!R914","v":0},{"$f":"'1.Портфель кредитів'!T914","v":""},4,"2018-06-01","_4_43252_2"]
[{"$f":"'1.Портфель кредитів'!#REF!","v":{"$error":"#REF!"}},{"$f":"'1.Портфель кредитів'!D915","v":""},{"$f":"'1.Портфель кредитів'!#REF!","v":{"$error":"#REF!"}},{"$f":"'1.Портфель кредитів'!#REF!","v":{"$error":"#REF!"}},{"$f":"'1.Портфель кредитів'!#REF!","v":{"$error":"#REF!"}},{"$f":"'1.Портфель кредитів'!E915","v":0},{"$f":"'1.Портфель кредитів'!R915","v":0},{"$f":"'1.Портфель кредитів'!T915","v":""},4,"2018-06-01","_4_43252_2"]
[{"$f":"'1.Портфель кредитів'!#REF!","v":{"$error":"#REF!"}},{"$f":"'1.Портфель кредитів'!D916","v":""},{"$f":"'1.Портфель кредитів'!#REF!","v":{"$error":"#REF!"}},{"$f":"'1.Портфель кредитів'!#REF!","v":{"$error":"#REF!"}},{"$f":"'1.Портфель кредитів'!#REF!","v":{"$error":"#REF!"}},{"$f":"'1.Портфель кредитів'!E916","v":0},{"$f":"'1.Портфель кредитів'!R916","v":0},{"$f":"'1.Портфель кредитів'!T916","v":""},4,"2018-06-01","_4_43252_2"]
[{"$f":"'1.Портфель кредитів'!#REF!","v":{"$error":"#REF!"}},{"$f":"'1.Портфель кредитів'!D917","v":""},{"$f":"'1.Портфель кредитів'!#REF!","v":{"$error":"#REF!"}},{"$f":"'1.Портфель кредитів'!#REF!","v":{"$error":"#REF!"}},{"$f":"'1.Портфель кредитів'!#REF!","v":{"$error":"#REF!"}},{"$f":"'1.Портфель кредитів'!E917","v":0},{"$f":"'1.Портфель кредитів'!R917","v":0},{"$f":"'1.Портфель кредитів'!T917","v":""},4,"2018-06-01","_4_43252_2"]
[{"$f":"'1.Портфель кредитів'!#REF!","v":{"$error":"#REF!"}},{"$f":"'1.Портфель кредитів'!D918","v":""},{"$f":"'1.Портфель кредитів'!#REF!","v":{"$error":"#REF!"}},{"$f":"'1.Портфель кредитів'!#REF!","v":{"$error":"#REF!"}},{"$f":"'1.Портфель кредитів'!#REF!","v":{"$error":"#REF!"}},{"$f":"'1.Портфель кредитів'!E918","v":0},{"$f":"'1.Портфель кредитів'!R918","v":0},{"$f":"'1.Портфель кредитів'!T918","v":""},4,"2018-06-01","_4_43252_2"]
[{"$f":"'1.Портфель кредитів'!#REF!","v":{"$error":"#REF!"}},{"$f":"'1.Портфель кредитів'!D919","v":""},{"$f":"'1.Портфель кредитів'!#REF!","v":{"$error":"#REF!"}},{"$f":"'1.Портфель кредитів'!#REF!","v":{"$error":"#REF!"}},{"$f":"'1.Портфель кредитів'!#REF!","v":{"$error":"#REF!"}},{"$f":"'1.Портфель кредитів'!E919","v":0},{"$f":"'1.Портфель кредитів'!R919","v":0},{"$f":"'1.Портфель кредитів'!T919","v":""},4,"2018-06-01","_4_43252_2"]
[{"$f":"'1.Портфель кредитів'!#REF!","v":{"$error":"#REF!"}},{"$f":"'1.Портфель кредитів'!D920","v":""},{"$f":"'1.Портфель кредитів'!#REF!","v":{"$error":"#REF!"}},{"$f":"'1.Портфель кредитів'!#REF!","v":{"$error":"#REF!"}},{"$f":"'1.Портфель кредитів'!#REF!","v":{"$error":"#REF!"}},{"$f":"'1.Портфель кредитів'!E920","v":0},{"$f":"'1.Портфель кредитів'!R920","v":0},{"$f":"'1.Портфель кредитів'!T920","v":""},4,"2018-06-01","_4_43252_2"]
[{"$f":"'1.Портфель кредитів'!#REF!","v":{"$error":"#REF!"}},{"$f":"'1.Портфель кредитів'!D921","v":""},{"$f":"'1.Портфель кредитів'!#REF!","v":{"$error":"#REF!"}},{"$f":"'1.Портфель кредитів'!#REF!","v":{"$error":"#REF!"}},{"$f":"'1.Портфель кредитів'!#REF!","v":{"$error":"#REF!"}},{"$f":"'1.Портфель кредитів'!E921","v":0},{"$f":"'1.Портфель кредитів'!R921","v":0},{"$f":"'1.Портфель кредитів'!T921","v":""},4,"2018-06-01","_4_43252_2"]
[{"$f":"'1.Портфель кредитів'!#REF!","v":{"$error":"#REF!"}},{"$f":"'1.Портфель кредитів'!D922","v":""},{"$f":"'1.Портфель кредитів'!#REF!","v":{"$error":"#REF!"}},{"$f":"'1.Портфель кредитів'!#REF!","v":{"$error":"#REF!"}},{"$f":"'1.Портфель кредитів'!#REF!","v":{"$error":"#REF!"}},{"$f":"'1.Портфель кредитів'!E922","v":0},{"$f":"'1.Портфель кредитів'!R922","v":0},{"$f":"'1.Портфель кредитів'!T922","v":""},4,"2018-06-01","_4_43252_2"]
[{"$f":"'1.Портфель кредитів'!#REF!","v":{"$error":"#REF!"}},{"$f":"'1.Портфель кредитів'!D923","v":""},{"$f":"'1.Портфель кредитів'!#REF!","v":{"$error":"#REF!"}},{"$f":"'1.Портфель кредитів'!#REF!","v":{"$error":"#REF!"}},{"$f":"'1.Портфель кредитів'!#REF!","v":{"$error":"#REF!"}},{"$f":"'1.Портфель кредитів'!E923","v":0},{"$f":"'1.Портфель кредитів'!R923","v":0},{"$f":"'1.Портфель кредитів'!T923","v":""},4,"2018-06-01","_4_43252_2"]
[{"$f":"'1.Портфель кредитів'!#REF!","v":{"$error":"#REF!"}},{"$f":"'1.Портфель кредитів'!D924","v":""},{"$f":"'1.Портфель кредитів'!#REF!","v":{"$error":"#REF!"}},{"$f":"'1.Портфель кредитів'!#REF!","v":{"$error":"#REF!"}},{"$f":"'1.Портфель кредитів'!#REF!","v":{"$error":"#REF!"}},{"$f":"'1.Портфель кредитів'!E924","v":0},{"$f":"'1.Портфель кредитів'!R924","v":0},{"$f":"'1.Портфель кредитів'!T924","v":""},4,"2018-06-01","_4_43252_2"]
[{"$f":"'1.Портфель кредитів'!#REF!","v":{"$error":"#REF!"}},{"$f":"'1.Портфель кредитів'!D925","v":""},{"$f":"'1.Портфель кредитів'!#REF!","v":{"$error":"#REF!"}},{"$f":"'1.Портфель кредитів'!#REF!","v":{"$error":"#REF!"}},{"$f":"'1.Портфель кредитів'!#REF!","v":{"$error":"#REF!"}},{"$f":"'1.Портфель кредитів'!E925","v":0},{"$f":"'1.Портфель кредитів'!R925","v":0},{"$f":"'1.Портфель кредитів'!T925","v":""},4,"2018-06-01","_4_43252_2"]
[{"$f":"'1.Портфель кредитів'!#REF!","v":{"$error":"#REF!"}},{"$f":"'1.Портфель кредитів'!D926","v":""},{"$f":"'1.Портфель кредитів'!#REF!","v":{"$error":"#REF!"}},{"$f":"'1.Портфель кредитів'!#REF!","v":{"$error":"#REF!"}},{"$f":"'1.Портфель кредитів'!#REF!","v":{"$error":"#REF!"}},{"$f":"'1.Портфель кредитів'!E926","v":0},{"$f":"'1.Портфель кредитів'!R926","v":0},{"$f":"'1.Портфель кредитів'!T926","v":""},4,"2018-06-01","_4_43252_2"]
[{"$f":"'1.Портфель кредитів'!#REF!","v":{"$error":"#REF!"}},{"$f":"'1.Портфель кредитів'!D927","v":""},{"$f":"'1.Портфель кредитів'!#REF!","v":{"$error":"#REF!"}},{"$f":"'1.Портфель кредитів'!#REF!","v":{"$error":"#REF!"}},{"$f":"'1.Портфель кредитів'!#REF!","v":{"$error":"#REF!"}},{"$f":"'1.Портфель кредитів'!E927","v":0},{"$f":"'1.Портфель кредитів'!R927","v":0},{"$f":"'1.Портфель кредитів'!T927","v":""},4,"2018-06-01","_4_43252_2"]
[{"$f":"'1.Портфель кредитів'!#REF!","v":{"$error":"#REF!"}},{"$f":"'1.Портфель кредитів'!D928","v":""},{"$f":"'1.Портфель кредитів'!#REF!","v":{"$error":"#REF!"}},{"$f":"'1.Портфель кредитів'!#REF!","v":{"$error":"#REF!"}},{"$f":"'1.Портфель кредитів'!#REF!","v":{"$error":"#REF!"}},{"$f":"'1.Портфель кредитів'!E928","v":0},{"$f":"'1.Портфель кредитів'!R928","v":0},{"$f":"'1.Портфель кредитів'!T928","v":""},4,"2018-06-01","_4_43252_2"]
[{"$f":"'1.Портфель кредитів'!#REF!","v":{"$error":"#REF!"}},{"$f":"'1.Портфель кредитів'!D929","v":""},{"$f":"'1.Портфель кредитів'!#REF!","v":{"$error":"#REF!"}},{"$f":"'1.Портфель кредитів'!#REF!","v":{"$error":"#REF!"}},{"$f":"'1.Портфель кредитів'!#REF!","v":{"$error":"#REF!"}},{"$f":"'1.Портфель кредитів'!E929","v":0},{"$f":"'1.Портфель кредитів'!R929","v":0},{"$f":"'1.Портфель кредитів'!T929","v":""},4,"2018-06-01","_4_43252_2"]
[{"$f":"'1.Портфель кредитів'!#REF!","v":{"$error":"#REF!"}},{"$f":"'1.Портфель кредитів'!D930","v":""},{"$f":"'1.Портфель кредитів'!#REF!","v":{"$error":"#REF!"}},{"$f":"'1.Портфель кредитів'!#REF!","v":{"$error":"#REF!"}},{"$f":"'1.Портфель кредитів'!#REF!","v":{"$error":"#REF!"}},{"$f":"'1.Портфель кредитів'!E930","v":0},{"$f":"'1.Портфель кредитів'!R930","v":0},{"$f":"'1.Портфель кредитів'!T930","v":""},4,"2018-06-01","_4_43252_2"]
[{"$f":"'1.Портфель кредитів'!#REF!","v":{"$error":"#REF!"}},{"$f":"'1.Портфель кредитів'!D931","v":""},{"$f":"'1.Портфель кредитів'!#REF!","v":{"$error":"#REF!"}},{"$f":"'1.Портфель кредитів'!#REF!","v":{"$error":"#REF!"}},{"$f":"'1.Портфель кредитів'!#REF!","v":{"$error":"#REF!"}},{"$f":"'1.Портфель кредитів'!E931","v":0},{"$f":"'1.Портфель кредитів'!R931","v":0},{"$f":"'1.Портфель кредитів'!T931","v":""},4,"2018-06-01","_4_43252_2"]
[{"$f":"'1.Портфель кредитів'!#REF!","v":{"$error":"#REF!"}},{"$f":"'1.Портфель кредитів'!D932","v":""},{"$f":"'1.Портфель кредитів'!#REF!","v":{"$error":"#REF!"}},{"$f":"'1.Портфель кредитів'!#REF!","v":{"$error":"#REF!"}},{"$f":"'1.Портфель кредитів'!#REF!","v":{"$error":"#REF!"}},{"$f":"'1.Портфель кредитів'!E932","v":0},{"$f":"'1.Портфель кредитів'!R932","v":0},{"$f":"'1.Портфель кредитів'!T932","v":""},4,"2018-06-01","_4_43252_2"]
[{"$f":"'1.Портфель кредитів'!#REF!","v":{"$error":"#REF!"}},{"$f":"'1.Портфель кредитів'!D933","v":""},{"$f":"'1.Портфель кредитів'!#REF!","v":{"$error":"#REF!"}},{"$f":"'1.Портфель кредитів'!#REF!","v":{"$error":"#REF!"}},{"$f":"'1.Портфель кредитів'!#REF!","v":{"$error":"#REF!"}},{"$f":"'1.Портфель кредитів'!E933","v":0},{"$f":"'1.Портфель кредитів'!R933","v":0},{"$f":"'1.Портфель кредитів'!T933","v":""},4,"2018-06-01","_4_43252_2"]
[{"$f":"'1.Портфель кредитів'!#REF!","v":{"$error":"#REF!"}},{"$f":"'1.Портфель кредитів'!D934","v":""},{"$f":"'1.Портфель кредитів'!#REF!","v":{"$error":"#REF!"}},{"$f":"'1.Портфель кредитів'!#REF!","v":{"$error":"#REF!"}},{"$f":"'1.Портфель кредитів'!#REF!","v":{"$error":"#REF!"}},{"$f":"'1.Портфель кредитів'!E934","v":0},{"$f":"'1.Портфель кредитів'!R934","v":0},{"$f":"'1.Портфель кредитів'!T934","v":""},4,"2018-06-01","_4_43252_2"]
[{"$f":"'1.Портфель кредитів'!#REF!","v":{"$error":"#REF!"}},{"$f":"'1.Портфель кредитів'!D935","v":""},{"$f":"'1.Портфель кредитів'!#REF!","v":{"$error":"#REF!"}},{"$f":"'1.Портфель кредитів'!#REF!","v":{"$error":"#REF!"}},{"$f":"'1.Портфель кредитів'!#REF!","v":{"$error":"#REF!"}},{"$f":"'1.Портфель кредитів'!E935","v":0},{"$f":"'1.Портфель кредитів'!R935","v":0},{"$f":"'1.Портфель кредитів'!T935","v":""},4,"2018-06-01","_4_43252_2"]
[{"$f":"'1.Портфель кредитів'!#REF!","v":{"$error":"#REF!"}},{"$f":"'1.Портфель кредитів'!D936","v":""},{"$f":"'1.Портфель кредитів'!#REF!","v":{"$error":"#REF!"}},{"$f":"'1.Портфель кредитів'!#REF!","v":{"$error":"#REF!"}},{"$f":"'1.Портфель кредитів'!#REF!","v":{"$error":"#REF!"}},{"$f":"'1.Портфель кредитів'!E936","v":0},{"$f":"'1.Портфель кредитів'!R936","v":0},{"$f":"'1.Портфель кредитів'!T936","v":""},4,"2018-06-01","_4_43252_2"]
[{"$f":"'1.Портфель кредитів'!#REF!","v":{"$error":"#REF!"}},{"$f":"'1.Портфель кредитів'!D937","v":""},{"$f":"'1.Портфель кредитів'!#REF!","v":{"$error":"#REF!"}},{"$f":"'1.Портфель кредитів'!#REF!","v":{"$error":"#REF!"}},{"$f":"'1.Портфель кредитів'!#REF!","v":{"$error":"#REF!"}},{"$f":"'1.Портфель кредитів'!E937","v":0},{"$f":"'1.Портфель кредитів'!R937","v":0},{"$f":"'1.Портфель кредитів'!T937","v":""},4,"2018-06-01","_4_43252_2"]
[{"$f":"'1.Портфель кредитів'!#REF!","v":{"$error":"#REF!"}},{"$f":"'1.Портфель кредитів'!D938","v":""},{"$f":"'1.Портфель кредитів'!#REF!","v":{"$error":"#REF!"}},{"$f":"'1.Портфель кредитів'!#REF!","v":{"$error":"#REF!"}},{"$f":"'1.Портфель кредитів'!#REF!","v":{"$error":"#REF!"}},{"$f":"'1.Портфель кредитів'!E938","v":0},{"$f":"'1.Портфель кредитів'!R938","v":0},{"$f":"'1.Портфель кредитів'!T938","v":""},4,"2018-06-01","_4_43252_2"]
[{"$f":"'1.Портфель кредитів'!#REF!","v":{"$error":"#REF!"}},{"$f":"'1.Портфель кредитів'!D939","v":""},{"$f":"'1.Портфель кредитів'!#REF!","v":{"$error":"#REF!"}},{"$f":"'1.Портфель кредитів'!#REF!","v":{"$error":"#REF!"}},{"$f":"'1.Портфель кредитів'!#REF!","v":{"$error":"#REF!"}},{"$f":"'1.Портфель кредитів'!E939","v":0},{"$f":"'1.Портфель кредитів'!R939","v":0},{"$f":"'1.Портфель кредитів'!T939","v":""},4,"2018-06-01","_4_43252_2"]
[{"$f":"'1.Портфель кредитів'!#REF!","v":{"$error":"#REF!"}},{"$f":"'1.Портфель кредитів'!D940","v":""},{"$f":"'1.Портфель кредитів'!#REF!","v":{"$error":"#REF!"}},{"$f":"'1.Портфель кредитів'!#REF!","v":{"$error":"#REF!"}},{"$f":"'1.Портфель кредитів'!#REF!","v":{"$error":"#REF!"}},{"$f":"'1.Портфель кредитів'!E940","v":0},{"$f":"'1.Портфель кредитів'!R940","v":0},{"$f":"'1.Портфель кредитів'!T940","v":""},4,"2018-06-01","_4_43252_2"]
[{"$f":"'1.Портфель кредитів'!#REF!","v":{"$error":"#REF!"}},{"$f":"'1.Портфель кредитів'!D941","v":""},{"$f":"'1.Портфель кредитів'!#REF!","v":{"$error":"#REF!"}},{"$f":"'1.Портфель кредитів'!#REF!","v":{"$error":"#REF!"}},{"$f":"'1.Портфель кредитів'!#REF!","v":{"$error":"#REF!"}},{"$f":"'1.Портфель кредитів'!E941","v":0},{"$f":"'1.Портфель кредитів'!R941","v":0},{"$f":"'1.Портфель кредитів'!T941","v":""},4,"2018-06-01","_4_43252_2"]
[{"$f":"'1.Портфель кредитів'!#REF!","v":{"$error":"#REF!"}},{"$f":"'1.Портфель кредитів'!D942","v":""},{"$f":"'1.Портфель кредитів'!#REF!","v":{"$error":"#REF!"}},{"$f":"'1.Портфель кредитів'!#REF!","v":{"$error":"#REF!"}},{"$f":"'1.Портфель кредитів'!#REF!","v":{"$error":"#REF!"}},{"$f":"'1.Портфель кредитів'!E942","v":0},{"$f":"'1.Портфель кредитів'!R942","v":0},{"$f":"'1.Портфель кредитів'!T942","v":""},4,"2018-06-01","_4_43252_2"]
[{"$f":"'1.Портфель кредитів'!#REF!","v":{"$error":"#REF!"}},{"$f":"'1.Портфель кредитів'!D943","v":""},{"$f":"'1.Портфель кредитів'!#REF!","v":{"$error":"#REF!"}},{"$f":"'1.Портфель кредитів'!#REF!","v":{"$error":"#REF!"}},{"$f":"'1.Портфель кредитів'!#REF!","v":{"$error":"#REF!"}},{"$f":"'1.Портфель кредитів'!E943","v":0},{"$f":"'1.Портфель кредитів'!R943","v":0},{"$f":"'1.Портфель кредитів'!T943","v":""},4,"2018-06-01","_4_43252_2"]
[{"$f":"'1.Портфель кредитів'!#REF!","v":{"$error":"#REF!"}},{"$f":"'1.Портфель кредитів'!D944","v":""},{"$f":"'1.Портфель кредитів'!#REF!","v":{"$error":"#REF!"}},{"$f":"'1.Портфель кредитів'!#REF!","v":{"$error":"#REF!"}},{"$f":"'1.Портфель кредитів'!#REF!","v":{"$error":"#REF!"}},{"$f":"'1.Портфель кредитів'!E944","v":0},{"$f":"'1.Портфель кредитів'!R944","v":0},{"$f":"'1.Портфель кредитів'!T944","v":""},4,"2018-06-01","_4_43252_2"]
[{"$f":"'1.Портфель кредитів'!#REF!","v":{"$error":"#REF!"}},{"$f":"'1.Портфель кредитів'!D945","v":""},{"$f":"'1.Портфель кредитів'!#REF!","v":{"$error":"#REF!"}},{"$f":"'1.Портфель кредитів'!#REF!","v":{"$error":"#REF!"}},{"$f":"'1.Портфель кредитів'!#REF!","v":{"$error":"#REF!"}},{"$f":"'1.Портфель кредитів'!E945","v":0},{"$f":"'1.Портфель кредитів'!R945","v":0},{"$f":"'1.Портфель кредитів'!T945","v":""},4,"2018-06-01","_4_43252_2"]
[{"$f":"'1.Портфель кредитів'!#REF!","v":{"$error":"#REF!"}},{"$f":"'1.Портфель кредитів'!D946","v":""},{"$f":"'1.Портфель кредитів'!#REF!","v":{"$error":"#REF!"}},{"$f":"'1.Портфель кредитів'!#REF!","v":{"$error":"#REF!"}},{"$f":"'1.Портфель кредитів'!#REF!","v":{"$error":"#REF!"}},{"$f":"'1.Портфель кредитів'!E946","v":0},{"$f":"'1.Портфель кредитів'!R946","v":0},{"$f":"'1.Портфель кредитів'!T946","v":""},4,"2018-06-01","_4_43252_2"]
[{"$f":"'1.Портфель кредитів'!#REF!","v":{"$error":"#REF!"}},{"$f":"'1.Портфель кредитів'!D947","v":""},{"$f":"'1.Портфель кредитів'!#REF!","v":{"$error":"#REF!"}},{"$f":"'1.Портфель кредитів'!#REF!","v":{"$error":"#REF!"}},{"$f":"'1.Портфель кредитів'!#REF!","v":{"$error":"#REF!"}},{"$f":"'1.Портфель кредитів'!E947","v":0},{"$f":"'1.Портфель кредитів'!R947","v":0},{"$f":"'1.Портфель кредитів'!T947","v":""},4,"2018-06-01","_4_43252_2"]
[{"$f":"'1.Портфель кредитів'!#REF!","v":{"$error":"#REF!"}},{"$f":"'1.Портфель кредитів'!D948","v":""},{"$f":"'1.Портфель кредитів'!#REF!","v":{"$error":"#REF!"}},{"$f":"'1.Портфель кредитів'!#REF!","v":{"$error":"#REF!"}},{"$f":"'1.Портфель кредитів'!#REF!","v":{"$error":"#REF!"}},{"$f":"'1.Портфель кредитів'!E948","v":0},{"$f":"'1.Портфель кредитів'!R948","v":0},{"$f":"'1.Портфель кредитів'!T948","v":""},4,"2018-06-01","_4_43252_2"]
[{"$f":"'1.Портфель кредитів'!#REF!","v":{"$error":"#REF!"}},{"$f":"'1.Портфель кредитів'!D949","v":""},{"$f":"'1.Портфель кредитів'!#REF!","v":{"$error":"#REF!"}},{"$f":"'1.Портфель кредитів'!#REF!","v":{"$error":"#REF!"}},{"$f":"'1.Портфель кредитів'!#REF!","v":{"$error":"#REF!"}},{"$f":"'1.Портфель кредитів'!E949","v":0},{"$f":"'1.Портфель кредитів'!R949","v":0},{"$f":"'1.Портфель кредитів'!T949","v":""},4,"2018-06-01","_4_43252_2"]
[{"$f":"'1.Портфель кредитів'!#REF!","v":{"$error":"#REF!"}},{"$f":"'1.Портфель кредитів'!D950","v":""},{"$f":"'1.Портфель кредитів'!#REF!","v":{"$error":"#REF!"}},{"$f":"'1.Портфель кредитів'!#REF!","v":{"$error":"#REF!"}},{"$f":"'1.Портфель кредитів'!#REF!","v":{"$error":"#REF!"}},{"$f":"'1.Портфель кредитів'!E950","v":0},{"$f":"'1.Портфель кредитів'!R950","v":0},{"$f":"'1.Портфель кредитів'!T950","v":""},4,"2018-06-01","_4_43252_2"]
[{"$f":"'1.Портфель кредитів'!#REF!","v":{"$error":"#REF!"}},{"$f":"'1.Портфель кредитів'!D951","v":""},{"$f":"'1.Портфель кредитів'!#REF!","v":{"$error":"#REF!"}},{"$f":"'1.Портфель кредитів'!#REF!","v":{"$error":"#REF!"}},{"$f":"'1.Портфель кредитів'!#REF!","v":{"$error":"#REF!"}},{"$f":"'1.Портфель кредитів'!E951","v":0},{"$f":"'1.Портфель кредитів'!R951","v":0},{"$f":"'1.Портфель кредитів'!T951","v":""},4,"2018-06-01","_4_43252_2"]
[{"$f":"'1.Портфель кредитів'!#REF!","v":{"$error":"#REF!"}},{"$f":"'1.Портфель кредитів'!D952","v":""},{"$f":"'1.Портфель кредитів'!#REF!","v":{"$error":"#REF!"}},{"$f":"'1.Портфель кредитів'!#REF!","v":{"$error":"#REF!"}},{"$f":"'1.Портфель кредитів'!#REF!","v":{"$error":"#REF!"}},{"$f":"'1.Портфель кредитів'!E952","v":0},{"$f":"'1.Портфель кредитів'!R952","v":0},{"$f":"'1.Портфель кредитів'!T952","v":""},4,"2018-06-01","_4_43252_2"]
[{"$f":"'1.Портфель кредитів'!#REF!","v":{"$error":"#REF!"}},{"$f":"'1.Портфель кредитів'!D953","v":""},{"$f":"'1.Портфель кредитів'!#REF!","v":{"$error":"#REF!"}},{"$f":"'1.Портфель кредитів'!#REF!","v":{"$error":"#REF!"}},{"$f":"'1.Портфель кредитів'!#REF!","v":{"$error":"#REF!"}},{"$f":"'1.Портфель кредитів'!E953","v":0},{"$f":"'1.Портфель кредитів'!R953","v":0},{"$f":"'1.Портфель кредитів'!T953","v":""},4,"2018-06-01","_4_43252_2"]
[{"$f":"'1.Портфель кредитів'!#REF!","v":{"$error":"#REF!"}},{"$f":"'1.Портфель кредитів'!D954","v":""},{"$f":"'1.Портфель кредитів'!#REF!","v":{"$error":"#REF!"}},{"$f":"'1.Портфель кредитів'!#REF!","v":{"$error":"#REF!"}},{"$f":"'1.Портфель кредитів'!#REF!","v":{"$error":"#REF!"}},{"$f":"'1.Портфель кредитів'!E954","v":0},{"$f":"'1.Портфель кредитів'!R954","v":0},{"$f":"'1.Портфель кредитів'!T954","v":""},4,"2018-06-01","_4_43252_2"]
[{"$f":"'1.Портфель кредитів'!#REF!","v":{"$error":"#REF!"}},{"$f":"'1.Портфель кредитів'!D955","v":""},{"$f":"'1.Портфель кредитів'!#REF!","v":{"$error":"#REF!"}},{"$f":"'1.Портфель кредитів'!#REF!","v":{"$error":"#REF!"}},{"$f":"'1.Портфель кредитів'!#REF!","v":{"$error":"#REF!"}},{"$f":"'1.Портфель кредитів'!E955","v":0},{"$f":"'1.Портфель кредитів'!R955","v":0},{"$f":"'1.Портфель кредитів'!T955","v":""},4,"2018-06-01","_4_43252_2"]
[{"$f":"'1.Портфель кредитів'!#REF!","v":{"$error":"#REF!"}},{"$f":"'1.Портфель кредитів'!D956","v":""},{"$f":"'1.Портфель кредитів'!#REF!","v":{"$error":"#REF!"}},{"$f":"'1.Портфель кредитів'!#REF!","v":{"$error":"#REF!"}},{"$f":"'1.Портфель кредитів'!#REF!","v":{"$error":"#REF!"}},{"$f":"'1.Портфель кредитів'!E956","v":0},{"$f":"'1.Портфель кредитів'!R956","v":0},{"$f":"'1.Портфель кредитів'!T956","v":""},4,"2018-06-01","_4_43252_2"]
[{"$f":"'1.Портфель кредитів'!#REF!","v":{"$error":"#REF!"}},{"$f":"'1.Портфель кредитів'!D957","v":""},{"$f":"'1.Портфель кредитів'!#REF!","v":{"$error":"#REF!"}},{"$f":"'1.Портфель кредитів'!#REF!","v":{"$error":"#REF!"}},{"$f":"'1.Портфель кредитів'!#REF!","v":{"$error":"#REF!"}},{"$f":"'1.Портфель кредитів'!E957","v":0},{"$f":"'1.Портфель кредитів'!R957","v":0},{"$f":"'1.Портфель кредитів'!T957","v":""},4,"2018-06-01","_4_43252_2"]
[{"$f":"'1.Портфель кредитів'!#REF!","v":{"$error":"#REF!"}},{"$f":"'1.Портфель кредитів'!D958","v":""},{"$f":"'1.Портфель кредитів'!#REF!","v":{"$error":"#REF!"}},{"$f":"'1.Портфель кредитів'!#REF!","v":{"$error":"#REF!"}},{"$f":"'1.Портфель кредитів'!#REF!","v":{"$error":"#REF!"}},{"$f":"'1.Портфель кредитів'!E958","v":0},{"$f":"'1.Портфель кредитів'!R958","v":0},{"$f":"'1.Портфель кредитів'!T958","v":""},4,"2018-06-01","_4_43252_2"]
[{"$f":"'1.Портфель кредитів'!#REF!","v":{"$error":"#REF!"}},{"$f":"'1.Портфель кредитів'!D959","v":""},{"$f":"'1.Портфель кредитів'!#REF!","v":{"$error":"#REF!"}},{"$f":"'1.Портфель кредитів'!#REF!","v":{"$error":"#REF!"}},{"$f":"'1.Портфель кредитів'!#REF!","v":{"$error":"#REF!"}},{"$f":"'1.Портфель кредитів'!E959","v":0},{"$f":"'1.Портфель кредитів'!R959","v":0},{"$f":"'1.Портфель кредитів'!T959","v":""},4,"2018-06-01","_4_43252_2"]
[{"$f":"'1.Портфель кредитів'!#REF!","v":{"$error":"#REF!"}},{"$f":"'1.Портфель кредитів'!D960","v":""},{"$f":"'1.Портфель кредитів'!#REF!","v":{"$error":"#REF!"}},{"$f":"'1.Портфель кредитів'!#REF!","v":{"$error":"#REF!"}},{"$f":"'1.Портфель кредитів'!#REF!","v":{"$error":"#REF!"}},{"$f":"'1.Портфель кредитів'!E960","v":0},{"$f":"'1.Портфель кредитів'!R960","v":0},{"$f":"'1.Портфель кредитів'!T960","v":""},4,"2018-06-01","_4_43252_2"]
[{"$f":"'1.Портфель кредитів'!#REF!","v":{"$error":"#REF!"}},{"$f":"'1.Портфель кредитів'!D961","v":""},{"$f":"'1.Портфель кредитів'!#REF!","v":{"$error":"#REF!"}},{"$f":"'1.Портфель кредитів'!#REF!","v":{"$error":"#REF!"}},{"$f":"'1.Портфель кредитів'!#REF!","v":{"$error":"#REF!"}},{"$f":"'1.Портфель кредитів'!E961","v":0},{"$f":"'1.Портфель кредитів'!R961","v":0},{"$f":"'1.Портфель кредитів'!T961","v":""},4,"2018-06-01","_4_43252_2"]
[{"$f":"'1.Портфель кредитів'!#REF!","v":{"$error":"#REF!"}},{"$f":"'1.Портфель кредитів'!D962","v":""},{"$f":"'1.Портфель кредитів'!#REF!","v":{"$error":"#REF!"}},{"$f":"'1.Портфель кредитів'!#REF!","v":{"$error":"#REF!"}},{"$f":"'1.Портфель кредитів'!#REF!","v":{"$error":"#REF!"}},{"$f":"'1.Портфель кредитів'!E962","v":0},{"$f":"'1.Портфель кредитів'!R962","v":0},{"$f":"'1.Портфель кредитів'!T962","v":""},4,"2018-06-01","_4_43252_2"]
[{"$f":"'1.Портфель кредитів'!#REF!","v":{"$error":"#REF!"}},{"$f":"'1.Портфель кредитів'!D963","v":""},{"$f":"'1.Портфель кредитів'!#REF!","v":{"$error":"#REF!"}},{"$f":"'1.Портфель кредитів'!#REF!","v":{"$error":"#REF!"}},{"$f":"'1.Портфель кредитів'!#REF!","v":{"$error":"#REF!"}},{"$f":"'1.Портфель кредитів'!E963","v":0},{"$f":"'1.Портфель кредитів'!R963","v":0},{"$f":"'1.Портфель кредитів'!T963","v":""},{"$f":"$E$1","v":4},{"$f":"$E$2","v":"2018-06-01"},{"$f":"B966&\"_\"&I966&\"_\"&J966&\"_\"&$E$3","v":"_4_43252_2"}]
[{"$f":"'1.Портфель кредитів'!#REF!","v":{"$error":"#REF!"}},{"$f":"'1.Портфель кредитів'!D964","v":""},{"$f":"'1.Портфель кредитів'!#REF!","v":{"$error":"#REF!"}},{"$f":"'1.Портфель кредитів'!#REF!","v":{"$error":"#REF!"}},{"$f":"'1.Портфель кредитів'!#REF!","v":{"$error":"#REF!"}},{"$f":"'1.Портфель кредитів'!E964","v":0},{"$f":"'1.Портфель кредитів'!R964","v":0},{"$f":"'1.Портфель кредитів'!T964","v":""},4,"2018-06-01","_4_43252_2"]
[{"$f":"'1.Портфель кредитів'!#REF!","v":{"$error":"#REF!"}},{"$f":"'1.Портфель кредитів'!D965","v":""},{"$f":"'1.Портфель кредитів'!#REF!","v":{"$error":"#REF!"}},{"$f":"'1.Портфель кредитів'!#REF!","v":{"$error":"#REF!"}},{"$f":"'1.Портфель кредитів'!#REF!","v":{"$error":"#REF!"}},{"$f":"'1.Портфель кредитів'!E965","v":0},{"$f":"'1.Портфель кредитів'!R965","v":0},{"$f":"'1.Портфель кредитів'!T965","v":""},4,"2018-06-01","_4_43252_2"]
[{"$f":"'1.Портфель кредитів'!#REF!","v":{"$error":"#REF!"}},{"$f":"'1.Портфель кредитів'!D966","v":""},{"$f":"'1.Портфель кредитів'!#REF!","v":{"$error":"#REF!"}},{"$f":"'1.Портфель кредитів'!#REF!","v":{"$error":"#REF!"}},{"$f":"'1.Портфель кредитів'!#REF!","v":{"$error":"#REF!"}},{"$f":"'1.Портфель кредитів'!E966","v":0},{"$f":"'1.Портфель кредитів'!R966","v":0},{"$f":"'1.Портфель кредитів'!T966","v":""},4,"2018-06-01","_4_43252_2"]
[{"$f":"'1.Портфель кредитів'!#REF!","v":{"$error":"#REF!"}},{"$f":"'1.Портфель кредитів'!D967","v":""},{"$f":"'1.Портфель кредитів'!#REF!","v":{"$error":"#REF!"}},{"$f":"'1.Портфель кредитів'!#REF!","v":{"$error":"#REF!"}},{"$f":"'1.Портфель кредитів'!#REF!","v":{"$error":"#REF!"}},{"$f":"'1.Портфель кредитів'!E967","v":0},{"$f":"'1.Портфель кредитів'!R967","v":0},{"$f":"'1.Портфель кредитів'!T967","v":""},4,"2018-06-01","_4_43252_2"]
[{"$f":"'1.Портфель кредитів'!#REF!","v":{"$error":"#REF!"}},{"$f":"'1.Портфель кредитів'!D968","v":""},{"$f":"'1.Портфель кредитів'!#REF!","v":{"$error":"#REF!"}},{"$f":"'1.Портфель кредитів'!#REF!","v":{"$error":"#REF!"}},{"$f":"'1.Портфель кредитів'!#REF!","v":{"$error":"#REF!"}},{"$f":"'1.Портфель кредитів'!E968","v":0},{"$f":"'1.Портфель кредитів'!R968","v":0},{"$f":"'1.Портфель кредитів'!T968","v":""},4,"2018-06-01","_4_43252_2"]
[{"$f":"'1.Портфель кредитів'!#REF!","v":{"$error":"#REF!"}},{"$f":"'1.Портфель кредитів'!D969","v":""},{"$f":"'1.Портфель кредитів'!#REF!","v":{"$error":"#REF!"}},{"$f":"'1.Портфель кредитів'!#REF!","v":{"$error":"#REF!"}},{"$f":"'1.Портфель кредитів'!#REF!","v":{"$error":"#REF!"}},{"$f":"'1.Портфель кредитів'!E969","v":0},{"$f":"'1.Портфель кредитів'!R969","v":0},{"$f":"'1.Портфель кредитів'!T969","v":""},4,"2018-06-01","_4_43252_2"]
[{"$f":"'1.Портфель кредитів'!#REF!","v":{"$error":"#REF!"}},{"$f":"'1.Портфель кредитів'!D970","v":""},{"$f":"'1.Портфель кредитів'!#REF!","v":{"$error":"#REF!"}},{"$f":"'1.Портфель кредитів'!#REF!","v":{"$error":"#REF!"}},{"$f":"'1.Портфель кредитів'!#REF!","v":{"$error":"#REF!"}},{"$f":"'1.Портфель кредитів'!E970","v":0},{"$f":"'1.Портфель кредитів'!R970","v":0},{"$f":"'1.Портфель кредитів'!T970","v":""},4,"2018-06-01","_4_43252_2"]
[{"$f":"'1.Портфель кредитів'!#REF!","v":{"$error":"#REF!"}},{"$f":"'1.Портфель кредитів'!D971","v":""},{"$f":"'1.Портфель кредитів'!#REF!","v":{"$error":"#REF!"}},{"$f":"'1.Портфель кредитів'!#REF!","v":{"$error":"#REF!"}},{"$f":"'1.Портфель кредитів'!#REF!","v":{"$error":"#REF!"}},{"$f":"'1.Портфель кредитів'!E971","v":0},{"$f":"'1.Портфель кредитів'!R971","v":0},{"$f":"'1.Портфель кредитів'!T971","v":""},4,"2018-06-01","_4_43252_2"]
[{"$f":"'1.Портфель кредитів'!#REF!","v":{"$error":"#REF!"}},{"$f":"'1.Портфель кредитів'!D972","v":""},{"$f":"'1.Портфель кредитів'!#REF!","v":{"$error":"#REF!"}},{"$f":"'1.Портфель кредитів'!#REF!","v":{"$error":"#REF!"}},{"$f":"'1.Портфель кредитів'!#REF!","v":{"$error":"#REF!"}},{"$f":"'1.Портфель кредитів'!E972","v":0},{"$f":"'1.Портфель кредитів'!R972","v":0},{"$f":"'1.Портфель кредитів'!T972","v":""},4,"2018-06-01","_4_43252_2"]
[{"$f":"'1.Портфель кредитів'!#REF!","v":{"$error":"#REF!"}},{"$f":"'1.Портфель кредитів'!D973","v":""},{"$f":"'1.Портфель кредитів'!#REF!","v":{"$error":"#REF!"}},{"$f":"'1.Портфель кредитів'!#REF!","v":{"$error":"#REF!"}},{"$f":"'1.Портфель кредитів'!#REF!","v":{"$error":"#REF!"}},{"$f":"'1.Портфель кредитів'!E973","v":0},{"$f":"'1.Портфель кредитів'!R973","v":0},{"$f":"'1.Портфель кредитів'!T973","v":""},4,"2018-06-01","_4_43252_2"]
[{"$f":"'1.Портфель кредитів'!#REF!","v":{"$error":"#REF!"}},{"$f":"'1.Портфель кредитів'!D974","v":""},{"$f":"'1.Портфель кредитів'!#REF!","v":{"$error":"#REF!"}},{"$f":"'1.Портфель кредитів'!#REF!","v":{"$error":"#REF!"}},{"$f":"'1.Портфель кредитів'!#REF!","v":{"$error":"#REF!"}},{"$f":"'1.Портфель кредитів'!E974","v":0},{"$f":"'1.Портфель кредитів'!R974","v":0},{"$f":"'1.Портфель кредитів'!T974","v":""},4,"2018-06-01","_4_43252_2"]
[{"$f":"'1.Портфель кредитів'!#REF!","v":{"$error":"#REF!"}},{"$f":"'1.Портфель кредитів'!D975","v":""},{"$f":"'1.Портфель кредитів'!#REF!","v":{"$error":"#REF!"}},{"$f":"'1.Портфель кредитів'!#REF!","v":{"$error":"#REF!"}},{"$f":"'1.Портфель кредитів'!#REF!","v":{"$error":"#REF!"}},{"$f":"'1.Портфель кредитів'!E975","v":0},{"$f":"'1.Портфель кредитів'!R975","v":0},{"$f":"'1.Портфель кредитів'!T975","v":""},4,"2018-06-01","_4_43252_2"]
[{"$f":"'1.Портфель кредитів'!#REF!","v":{"$error":"#REF!"}},{"$f":"'1.Портфель кредитів'!D976","v":""},{"$f":"'1.Портфель кредитів'!#REF!","v":{"$error":"#REF!"}},{"$f":"'1.Портфель кредитів'!#REF!","v":{"$error":"#REF!"}},{"$f":"'1.Портфель кредитів'!#REF!","v":{"$error":"#REF!"}},{"$f":"'1.Портфель кредитів'!E976","v":0},{"$f":"'1.Портфель кредитів'!R976","v":0},{"$f":"'1.Портфель кредитів'!T976","v":""},4,"2018-06-01","_4_43252_2"]
[{"$f":"'1.Портфель кредитів'!#REF!","v":{"$error":"#REF!"}},{"$f":"'1.Портфель кредитів'!D977","v":""},{"$f":"'1.Портфель кредитів'!#REF!","v":{"$error":"#REF!"}},{"$f":"'1.Портфель кредитів'!#REF!","v":{"$error":"#REF!"}},{"$f":"'1.Портфель кредитів'!#REF!","v":{"$error":"#REF!"}},{"$f":"'1.Портфель кредитів'!E977","v":0},{"$f":"'1.Портфель кредитів'!R977","v":0},{"$f":"'1.Портфель кредитів'!T977","v":""},4,"2018-06-01","_4_43252_2"]
[{"$f":"'1.Портфель кредитів'!#REF!","v":{"$error":"#REF!"}},{"$f":"'1.Портфель кредитів'!D978","v":""},{"$f":"'1.Портфель кредитів'!#REF!","v":{"$error":"#REF!"}},{"$f":"'1.Портфель кредитів'!#REF!","v":{"$error":"#REF!"}},{"$f":"'1.Портфель кредитів'!#REF!","v":{"$error":"#REF!"}},{"$f":"'1.Портфель кредитів'!E978","v":0},{"$f":"'1.Портфель кредитів'!R978","v":0},{"$f":"'1.Портфель кредитів'!T978","v":""},4,"2018-06-01","_4_43252_2"]
[{"$f":"'1.Портфель кредитів'!#REF!","v":{"$error":"#REF!"}},{"$f":"'1.Портфель кредитів'!D979","v":""},{"$f":"'1.Портфель кредитів'!#REF!","v":{"$error":"#REF!"}},{"$f":"'1.Портфель кредитів'!#REF!","v":{"$error":"#REF!"}},{"$f":"'1.Портфель кредитів'!#REF!","v":{"$error":"#REF!"}},{"$f":"'1.Портфель кредитів'!E979","v":0},{"$f":"'1.Портфель кредитів'!R979","v":0},{"$f":"'1.Портфель кредитів'!T979","v":""},4,"2018-06-01","_4_43252_2"]
[{"$f":"'1.Портфель кредитів'!#REF!","v":{"$error":"#REF!"}},{"$f":"'1.Портфель кредитів'!D980","v":""},{"$f":"'1.Портфель кредитів'!#REF!","v":{"$error":"#REF!"}},{"$f":"'1.Портфель кредитів'!#REF!","v":{"$error":"#REF!"}},{"$f":"'1.Портфель кредитів'!#REF!","v":{"$error":"#REF!"}},{"$f":"'1.Портфель кредитів'!E980","v":0},{"$f":"'1.Портфель кредитів'!R980","v":0},{"$f":"'1.Портфель кредитів'!T980","v":""},4,"2018-06-01","_4_43252_2"]
[{"$f":"'1.Портфель кредитів'!#REF!","v":{"$error":"#REF!"}},{"$f":"'1.Портфель кредитів'!D981","v":""},{"$f":"'1.Портфель кредитів'!#REF!","v":{"$error":"#REF!"}},{"$f":"'1.Портфель кредитів'!#REF!","v":{"$error":"#REF!"}},{"$f":"'1.Портфель кредитів'!#REF!","v":{"$error":"#REF!"}},{"$f":"'1.Портфель кредитів'!E981","v":0},{"$f":"'1.Портфель кредитів'!R981","v":0},{"$f":"'1.Портфель кредитів'!T981","v":""},4,"2018-06-01","_4_43252_2"]
[{"$f":"'1.Портфель кредитів'!#REF!","v":{"$error":"#REF!"}},{"$f":"'1.Портфель кредитів'!D982","v":""},{"$f":"'1.Портфель кредитів'!#REF!","v":{"$error":"#REF!"}},{"$f":"'1.Портфель кредитів'!#REF!","v":{"$error":"#REF!"}},{"$f":"'1.Портфель кредитів'!#REF!","v":{"$error":"#REF!"}},{"$f":"'1.Портфель кредитів'!E982","v":0},{"$f":"'1.Портфель кредитів'!R982","v":0},{"$f":"'1.Портфель кредитів'!T982","v":""},4,"2018-06-01","_4_43252_2"]
[{"$f":"'1.Портфель кредитів'!#REF!","v":{"$error":"#REF!"}},{"$f":"'1.Портфель кредитів'!D983","v":""},{"$f":"'1.Портфель кредитів'!#REF!","v":{"$error":"#REF!"}},{"$f":"'1.Портфель кредитів'!#REF!","v":{"$error":"#REF!"}},{"$f":"'1.Портфель кредитів'!#REF!","v":{"$error":"#REF!"}},{"$f":"'1.Портфель кредитів'!E983","v":0},{"$f":"'1.Портфель кредитів'!R983","v":0},{"$f":"'1.Портфель кредитів'!T983","v":""},4,"2018-06-01","_4_43252_2"]
[{"$f":"'1.Портфель кредитів'!#REF!","v":{"$error":"#REF!"}},{"$f":"'1.Портфель кредитів'!D984","v":""},{"$f":"'1.Портфель кредитів'!#REF!","v":{"$error":"#REF!"}},{"$f":"'1.Портфель кредитів'!#REF!","v":{"$error":"#REF!"}},{"$f":"'1.Портфель кредитів'!#REF!","v":{"$error":"#REF!"}},{"$f":"'1.Портфель кредитів'!E984","v":0},{"$f":"'1.Портфель кредитів'!R984","v":0},{"$f":"'1.Портфель кредитів'!T984","v":""},4,"2018-06-01","_4_43252_2"]
[{"$f":"'1.Портфель кредитів'!#REF!","v":{"$error":"#REF!"}},{"$f":"'1.Портфель кредитів'!D985","v":""},{"$f":"'1.Портфель кредитів'!#REF!","v":{"$error":"#REF!"}},{"$f":"'1.Портфель кредитів'!#REF!","v":{"$error":"#REF!"}},{"$f":"'1.Портфель кредитів'!#REF!","v":{"$error":"#REF!"}},{"$f":"'1.Портфель кредитів'!E985","v":0},{"$f":"'1.Портфель кредитів'!R985","v":0},{"$f":"'1.Портфель кредитів'!T985","v":""},4,"2018-06-01","_4_43252_2"]
[{"$f":"'1.Портфель кредитів'!#REF!","v":{"$error":"#REF!"}},{"$f":"'1.Портфель кредитів'!D986","v":""},{"$f":"'1.Портфель кредитів'!#REF!","v":{"$error":"#REF!"}},{"$f":"'1.Портфель кредитів'!#REF!","v":{"$error":"#REF!"}},{"$f":"'1.Портфель кредитів'!#REF!","v":{"$error":"#REF!"}},{"$f":"'1.Портфель кредитів'!E986","v":0},{"$f":"'1.Портфель кредитів'!R986","v":0},{"$f":"'1.Портфель кредитів'!T986","v":""},4,"2018-06-01","_4_43252_2"]
[{"$f":"'1.Портфель кредитів'!#REF!","v":{"$error":"#REF!"}},{"$f":"'1.Портфель кредитів'!D987","v":""},{"$f":"'1.Портфель кредитів'!#REF!","v":{"$error":"#REF!"}},{"$f":"'1.Портфель кредитів'!#REF!","v":{"$error":"#REF!"}},{"$f":"'1.Портфель кредитів'!#REF!","v":{"$error":"#REF!"}},{"$f":"'1.Портфель кредитів'!E987","v":0},{"$f":"'1.Портфель кредитів'!R987","v":0},{"$f":"'1.Портфель кредитів'!T987","v":""},4,"2018-06-01","_4_43252_2"]
[{"$f":"'1.Портфель кредитів'!#REF!","v":{"$error":"#REF!"}},{"$f":"'1.Портфель кредитів'!D988","v":""},{"$f":"'1.Портфель кредитів'!#REF!","v":{"$error":"#REF!"}},{"$f":"'1.Портфель кредитів'!#REF!","v":{"$error":"#REF!"}},{"$f":"'1.Портфель кредитів'!#REF!","v":{"$error":"#REF!"}},{"$f":"'1.Портфель кредитів'!E988","v":0},{"$f":"'1.Портфель кредитів'!R988","v":0},{"$f":"'1.Портфель кредитів'!T988","v":""},4,"2018-06-01","_4_43252_2"]
[{"$f":"'1.Портфель кредитів'!#REF!","v":{"$error":"#REF!"}},{"$f":"'1.Портфель кредитів'!D989","v":""},{"$f":"'1.Портфель кредитів'!#REF!","v":{"$error":"#REF!"}},{"$f":"'1.Портфель кредитів'!#REF!","v":{"$error":"#REF!"}},{"$f":"'1.Портфель кредитів'!#REF!","v":{"$error":"#REF!"}},{"$f":"'1.Портфель кредитів'!E989","v":0},{"$f":"'1.Портфель кредитів'!R989","v":0},{"$f":"'1.Портфель кредитів'!T989","v":""},4,"2018-06-01","_4_43252_2"]
[{"$f":"'1.Портфель кредитів'!#REF!","v":{"$error":"#REF!"}},{"$f":"'1.Портфель кредитів'!D990","v":""},{"$f":"'1.Портфель кредитів'!#REF!","v":{"$error":"#REF!"}},{"$f":"'1.Портфель кредитів'!#REF!","v":{"$error":"#REF!"}},{"$f":"'1.Портфель кредитів'!#REF!","v":{"$error":"#REF!"}},{"$f":"'1.Портфель кредитів'!E990","v":0},{"$f":"'1.Портфель кредитів'!R990","v":0},{"$f":"'1.Портфель кредитів'!T990","v":""},4,"2018-06-01","_4_43252_2"]
[{"$f":"'1.Портфель кредитів'!#REF!","v":{"$error":"#REF!"}},{"$f":"'1.Портфель кредитів'!D991","v":""},{"$f":"'1.Портфель кредитів'!#REF!","v":{"$error":"#REF!"}},{"$f":"'1.Портфель кредитів'!#REF!","v":{"$error":"#REF!"}},{"$f":"'1.Портфель кредитів'!#REF!","v":{"$error":"#REF!"}},{"$f":"'1.Портфель кредитів'!E991","v":0},{"$f":"'1.Портфель кредитів'!R991","v":0},{"$f":"'1.Портфель кредитів'!T991","v":""},4,"2018-06-01","_4_43252_2"]
[{"$f":"'1.Портфель кредитів'!#REF!","v":{"$error":"#REF!"}},{"$f":"'1.Портфель кредитів'!D992","v":""},{"$f":"'1.Портфель кредитів'!#REF!","v":{"$error":"#REF!"}},{"$f":"'1.Портфель кредитів'!#REF!","v":{"$error":"#REF!"}},{"$f":"'1.Портфель кредитів'!#REF!","v":{"$error":"#REF!"}},{"$f":"'1.Портфель кредитів'!E992","v":0},{"$f":"'1.Портфель кредитів'!R992","v":0},{"$f":"'1.Портфель кредитів'!T992","v":""},4,"2018-06-01","_4_43252_2"]
[{"$f":"'1.Портфель кредитів'!#REF!","v":{"$error":"#REF!"}},{"$f":"'1.Портфель кредитів'!D993","v":""},{"$f":"'1.Портфель кредитів'!#REF!","v":{"$error":"#REF!"}},{"$f":"'1.Портфель кредитів'!#REF!","v":{"$error":"#REF!"}},{"$f":"'1.Портфель кредитів'!#REF!","v":{"$error":"#REF!"}},{"$f":"'1.Портфель кредитів'!E993","v":0},{"$f":"'1.Портфель кредитів'!R993","v":0},{"$f":"'1.Портфель кредитів'!T993","v":""},4,"2018-06-01","_4_43252_2"]
[{"$f":"'1.Портфель кредитів'!#REF!","v":{"$error":"#REF!"}},{"$f":"'1.Портфель кредитів'!D994","v":""},{"$f":"'1.Портфель кредитів'!#REF!","v":{"$error":"#REF!"}},{"$f":"'1.Портфель кредитів'!#REF!","v":{"$error":"#REF!"}},{"$f":"'1.Портфель кредитів'!#REF!","v":{"$error":"#REF!"}},{"$f":"'1.Портфель кредитів'!E994","v":0},{"$f":"'1.Портфель кредитів'!R994","v":0},{"$f":"'1.Портфель кредитів'!T994","v":""},4,"2018-06-01","_4_43252_2"]
[{"$f":"'1.Портфель кредитів'!#REF!","v":{"$error":"#REF!"}},{"$f":"'1.Портфель кредитів'!D995","v":""},{"$f":"'1.Портфель кредитів'!#REF!","v":{"$error":"#REF!"}},{"$f":"'1.Портфель кредитів'!#REF!","v":{"$error":"#REF!"}},{"$f":"'1.Портфель кредитів'!#REF!","v":{"$error":"#REF!"}},{"$f":"'1.Портфель кредитів'!E995","v":0},{"$f":"'1.Портфель кредитів'!R995","v":0},{"$f":"'1.Портфель кредитів'!T995","v":""},4,"2018-06-01","_4_43252_2"]
[{"$f":"'1.Портфель кредитів'!#REF!","v":{"$error":"#REF!"}},{"$f":"'1.Портфель кредитів'!D996","v":""},{"$f":"'1.Портфель кредитів'!#REF!","v":{"$error":"#REF!"}},{"$f":"'1.Портфель кредитів'!#REF!","v":{"$error":"#REF!"}},{"$f":"'1.Портфель кредитів'!#REF!","v":{"$error":"#REF!"}},{"$f":"'1.Портфель кредитів'!E996","v":0},{"$f":"'1.Портфель кредитів'!R996","v":0},{"$f":"'1.Портфель кредитів'!T996","v":""},4,"2018-06-01","_4_43252_2"]
[{"$f":"'1.Портфель кредитів'!#REF!","v":{"$error":"#REF!"}},{"$f":"'1.Портфель кредитів'!D997","v":""},{"$f":"'1.Портфель кредитів'!#REF!","v":{"$error":"#REF!"}},{"$f":"'1.Портфель кредитів'!#REF!","v":{"$error":"#REF!"}},{"$f":"'1.Портфель кредитів'!#REF!","v":{"$error":"#REF!"}},{"$f":"'1.Портфель кредитів'!E997","v":0},{"$f":"'1.Портфель кредитів'!R997","v":0},{"$f":"'1.Портфель кредитів'!T997","v":""},4,"2018-06-01","_4_43252_2"]
[{"$f":"'1.Портфель кредитів'!#REF!","v":{"$error":"#REF!"}},{"$f":"'1.Портфель кредитів'!D998","v":""},{"$f":"'1.Портфель кредитів'!#REF!","v":{"$error":"#REF!"}},{"$f":"'1.Портфель кредитів'!#REF!","v":{"$error":"#REF!"}},{"$f":"'1.Портфель кредитів'!#REF!","v":{"$error":"#REF!"}},{"$f":"'1.Портфель кредитів'!E998","v":0},{"$f":"'1.Портфель кредитів'!R998","v":0},{"$f":"'1.Портфель кредитів'!T998","v":""},4,"2018-06-01","_4_43252_2"]

{"sheet":"Hidden_Словник","index":5,"n_rows":19698,"n_cols":47,"rows_kept":1125,"cut":true,"hidden":true,"merged":[],"bounds":{"rows_first":500,"rows_last":125,"rows_between":500,"halvings":2}}
["Коротка назва","Назва банку","МФО","Дата вводу тимч.адм.","Дата рішення про ліквид.",null,null,null,null,"#","область","Регіон",null,null,null,"КВЕД (2010)","NU",null,null,"Банкрутство",null,null,"Тип застави",null,"ТАК/Ні",null,"Вид судового провадження",null,null,"Відповідач (позичальник/поручитель)",null,null,null,"Наявність документів кредитної справи",null,null,null,null,"Одиниці виміру",null,null,"валюта",null,null,null,"область","населений пункт"]
["Авант-Банк","ПАТ \"АВАНТ-БАНК\"","380708",42398,42426,null,null,null,null,1,"Автономна Республіка Крим","КРИМ/АТО",null,null,null,"A","Сільське господарство, лісове господарство та рибне господарство",null,null,"Діюче",null,null,"нерухомість",1,"ТАК",null,"стягнення заборгованості",null,null,"Позичальник",null,null,null,"Наявні документи кредитної справи",null,null,null,null,"га",null,null,"Гривня",980,null,null,"Автономна Республіка Крим","Алупка"]
["АКБ Банк","ПАТ \"АКБ Банк\"","331100",41789,41880,null,null,null,null,2,"Севастополь","КРИМ/АТО",null,null,null,"01","Сільське господарство, мисливство та надання пов'язаних із ними послуг",null,null,"Банкрутство",null,null,"транспорт",2,"НІ",null,"стягнення забезпечення",null,null,"Поручитель",null,null,null,"Наявний кредитний договір",null,null,null,null,"м.кв.",null,null,"Доллар США",840,null,null,"Автономна Республіка Крим","Абрикосівка"]
["Аксіома","ПАТ \"КБ \"АКСІОМА\"","307305",41922,42034,null,null,null,null,3,"Вінницька","ЦЕНТР",null,null,null,"01.1","Вирощування однорічних і дворічних культур",null,null,"В стані припинення (крім банкрутства)",null,null,"обладнання",3,null,null,"банкрутство",null,null,"Солідарно",null,null,null,"Наяваний договір застави",null,null,null,null,"м.куб.",null,null,"Євро",978,null,null,"Автономна Республіка Крим","Абрикосове"]
["Актабанк","ПАТ \"АКТАБАНК\"","307394",41899,42020,null,null,null,null,4,"Волинська","ЗАХІД",null,null,null,"01.11","Вирощування зернових культур (крім рису), бобових культур і насіння олійних культур",null,null,"Ліквідовано",null,null,"товари",4,null,null,"визнання зобов'язань недійсними",null,null,"3-і особи",null,null,null,"Відсутні документи кредитної справи",null,null,null,null,"т",null,null,"Швейцарські франки",756,null,null,"Автономна Республіка Крим","Аврора (Слов'янська сільська рада)"]
["Активбанк","ПАТ \"КБ \"АКТИВ - БАНК\"","300852",41885,41996,null,null,null,null,5,"Дніпропетровська","ПІВДЕНЬ",null,null,null,"01.12","Вирощування рису",null,null,"Санація",null,null,"депозит",5,null,null,"нікчемність правочину",null,null,null,null,null,null,null,null,null,null,null,"шт.",null,null,"Польські злоті",985,null,null,"Автономна Республіка Крим","Аграрне"]
["АРТЕМ-БАНК","АТ «АРТЕМ-БАНК»","300885",42690,42720,null,null,null,null,6,"Донецька","КРИМ/АТО",null,null,null,"01.13","Вирощування овочів і баштанних культур, коренеплодів і бульбоплодів",null,null,"Інше",null,null,"майнові права",6,null,null,"інше",null,null,null,null,null,null,null,null,null,null,null,"од.",null,null,"Фунт стерлінгів",826,null,null,"Автономна Республіка Крим","Аерофлотський"]
["БАНК ПЕТРОКОММЕРЦ-УКРАЇНА","ПАТ \"БАНК ПЕТРОКОММЕРЦ-УКРАЇНА\"","300120",42447,42482,null,null,null,null,7,"Житомирська","ЦЕНТР",null,null,null,"01.14","Вирощування цукрової тростини",null,null,null,null,null,"фінансова порука",7,null,null,null,null,null,null,null,null,null,null,null,null,null,null,null,null,null,"Китайські юані",156,null,null,"Автономна Республіка Крим","Азов"]
["БГ банк","ПАТ \"БГ БАНК\"","320995",41971,42062,null,null,null,null,8,"Закарпатська","ЗАХІД",null,null,null,"01.15","Вирощування тютюну",null,null,null,null,null,"беззаставний",8,null,null,null,null,null,null,null,null,null,null,null,null,null,null,null,null,null,"Рос. рубль",643,null,null,"Автономна Республіка Крим","Азовське"]
["Брокбізнесбанк","АТ \"БРОКБІЗНЕСБАНК\"","300249",41701,41801,null,null,null,null,9,"Запорізька","ПІВДЕНЬ",null,null,null,"01.16","Вирощування прядивних культур",null,null,null,null,null,"інше",null,null,null,null,null,null,null,null,null,null,null,null,null,null,null,null,null,null,"мульт. валютн.",777,null,null,"Автономна Республіка Крим","Айвазовське"]
["ВБР","ПАТ \"ВБР\"","380719",41971,42359,null,null,null,null,10,"Івано_Франківська","ЗАХІД",null,null,null,"01.19","Вирощування інших однорічних і дворічних культур",null,null,null,null,null,null,null,null,null,null,null,null,null,null,null,null,null,null,null,null,null,null,null,null,null,null,null,null,"Автономна Республіка Крим","Айвове"]
["ВЕКТОР","ПАТ \"ВЕКТОР БАНК\"","339038",42797,42816,null,null,null,null,11,"Київ","ЦЕНТР",null,null,null,"01.2","Вирощування багаторічних культур",null,null,null,null,null,null,null,null,null,null,null,null,null,null,null,null,null,null,null,null,null,null,null,null,null,null,null,null,"Автономна Республіка Крим","Айкаван"]
["Велес","АТ \"БАНК ВЕЛЕС\"","322799",null,42349,null,null,null,null,12,"Київська","ЦЕНТР",null,null,null,"01.21","Вирощування винограду",null,null,null,null,null,null,null,null,null,null,null,null,null,null,null,null,null,null,null,null,null,null,null,null,null,null,null,null,"Автономна Республіка Крим","Акрополіс"]
["ВіЕйБі","ПАТ \"ВіЕйБі Банк\"","380537",41964,42083,null,null,null,null,13,"Кіровоградська","ЦЕНТР",null,null,null,"01.22","Вирощування тропічних і субтропічних фруктів",null,null,null,null,null,null,null,null,null,null,null,null,null,null,null,null,null,null,null,null,null,null,null,null,null,null,null,null,"Автономна Республіка Крим","Алмазне"]
["Грінбанк","ПАТ \"Грін Банк\"","322324",41907,42027,null,null,null,null,14,"Луганська","КРИМ/АТО",null,null,null,"01.23","Вирощування цитрусових",null,null,null,null,null,null,null,null,null,null,null,null,null,null,null,null,null,null,null,null,null,null,null,null,null,null,null,null,"Автономна Республіка Крим","Алушта"]
["Даніель","ПАТ \"КБ \"Даніель\"","380980",41656,41745,null,null,null,null,15,"Львівська","ЗАХІД",null,null,null,"01.24","Вирощування зерняткових і кісточкових фруктів",null,null,null,null,null,null,null,null,null,null,null,null,null,null,null,null,null,null,null,null,null,null,null,null,null,null,null,null,"Автономна Республіка Крим","Амурське"]
["Дельта","АТ \"Дельта Банк\"","380236",42066,42279,null,null,null,null,16,"Миколаївська","ПІВДЕНЬ",null,null,null,"01.25","Вирощування ягід, горіхів, інших плодових дерев і чагарників",null,null,null,null,null,null,null,null,null,null,null,null,null,null,null,null,null,null,null,null,null,null,null,null,null,null,null,null,"Автономна Республіка Крим","Ана-Юрт"]
["Демарк","Банк \"Демарк\"","353575",41911,42034,null,null,null,null,17,"Одеська","ПІВДЕНЬ",null,null,null,"01.26","Вирощування олійних плодів",null,null,null,null,null,null,null,null,null,null,null,null,null,null,null,null,null,null,null,null,null,null,null,null,null,null,null,null,"Автономна Республіка Крим","Андрусове"]
["ДЕРЖЗЕМБАНК","ПАТ «ДЕРЖЗЕМБАНК»","380968",42578,42640,null,null,null,null,18,"Полтавська","ЦЕНТР",null,null,null,"01.27","Вирощування культур для виробництва напоїв",null,null,null,null,null,null,null,null,null,null,null,null,null,null,null,null,null,null,null,null,null,null,null,null,null,null,null,null,"Автономна Республіка Крим","Антонівка"]
["ДІАМАНТБАНК","ПАТ \"ДІАМАНТБАНК\"","320854",42849,42910,null,null,null,null,19,"Рівненська","ЗАХІД",null,null,null,"01.28","Вирощування пряних, ароматичних і лікарських культур",null,null,null,null,null,null,null,null,null,null,null,null,null,null,null,null,null,null,null,null,null,null,null,null,null,null,null,null,"Автономна Республіка Крим","Апрелівка"]
["Експобанк","АТ \"КБ \"ЕКСПОБАНК\"","322294",41907,42030,null,null,null,null,20,"Сумська","СХІД",null,null,null,"01.29","Вирощування інших багаторічних культур",null,null,null,null,null,null,null,null,null,null,null,null,null,null,null,null,null,null,null,null,null,null,null,null,null,null,null,null,"Автономна Республіка Крим","Арбузівка"]
["Енергобанк","ПАТ \"ЕНЕРГОБАНК\"","300272",42048,42167,null,null,null,null,21,"Тернопільська","ЗАХІД",null,null,null,"01.3","Відтворення рослин",null,null,null,null,null,null,null,null,null,null,null,null,null,null,null,null,null,null,null,null,null,null,null,null,null,null,null,null,"Автономна Республіка Крим","Арбузове"]
["ЕРДЕ банк","АТ \"ЕРДЕ БАНК\"","380667",41212,41283,null,null,null,null,22,"Харківська","СХІД",null,null,null,"01.30","Відтворення рослин",null,null,null,null,null,null,null,null,null,null,null,null,null,null,null,null,null,null,null,null,null,null,null,null,null,null,null,null,"Автономна Республіка Крим","Аркадіївка"]
["Євробанк","ПАТ \"КБ \"ЄВРОБАНК\"","380355",42538,42599,null,null,null,null,23,"Херсонська","ПІВДЕНЬ",null,null,null,"01.4","Тваринництво",null,null,null,null,null,null,null,null,null,null,null,null,null,null,null,null,null,null,null,null,null,null,null,null,null,null,null,null,"Автономна Республіка Крим","Армійське"]
["Єврогазбанк","АТ \"ЄВРОГАЗБАНК\"","380430",41837,41961,null,null,null,null,24,"Хмельницька","ЦЕНТР",null,null,null,"01.41","Розведення великої рогатої худоби молочних порід",null,null,null,null,null,null,null,null,null,null,null,null,null,null,null,null,null,null,null,null,null,null,null,null,null,null,null,null,"Автономна Республіка Крим","Армянськ"]
["Західінкомбанк","ПАТ \"Західінкомбанк\"","303484",41788,41843,null,null,null,null,25,"Черкаська","ЦЕНТР",null,null,null,"01.42","Розведення іншої великої рогатої худоби та буйволів",null,null,null,null,null,null,null,null,null,null,null,null,null,null,null,null,null,null,null,null,null,null,null,null,null,null,null,null,"Автономна Республіка Крим","Аромат"]
["Златобанк","АТ \"ЗЛАТОБАНК\"","380612",42049,42137,null,null,null,null,26,"Чернівецька","ЗАХІД",null,null,null,"01.43","Розведення коней та інших тварин родини конячих",null,null,null,null,null,null,null,null,null,null,null,null,null,null,null,null,null,null,null,null,null,null,null,null,null,null,null,null,"Автономна Республіка Крим","Ароматне"]
["Золоті ворота","АТ \"БАНК ЗОЛОТІ ВОРОТА\"","351931",41855,41978,null,null,null,null,27,"Чернігівська","СХІД",null,null,null,"01.44","Розведення верблюдів та інших тварин родини верблюдячих",null,null,null,null,null,null,null,null,null,null,null,null,null,null,null,null,null,null,null,null,null,null,null,null,null,null,null,null,"Автономна Республіка Крим","Артемівка"]
["Імексбанк","АТ \"ІМЕКСБАНК\"","328384",42031,42151,null,null,null,null,null,null,null,null,null,null,"01.45","Розведення овець і кіз",null,null,null,null,null,null,null,null,null,null,null,null,null,null,null,null,null,null,null,null,null,null,null,null,null,null,null,null,"Автономна Республіка Крим","Бабенкове"]
["ІНВЕСТБАНК","ПАТ \"КБ \"ІНВЕСТБАНК\"","328210",42720,42748,null,null,null,null,null,null,null,null,null,null,"01.46","Розведення свиней",null,null,null,null,null,null,null,null,null,null,null,null,null,null,null,null,null,null,null,null,null,null,null,null,null,null,null,null,"Автономна Республіка Крим","Багата Ущелина"]
["Інтеграл банк","ПАТ \"Інтеграл-банк\"","320735",42263,42335,null,null,null,null,null,null,null,null,null,null,"01.47","Розведення свійської птиці",null,null,null,null,null,null,null,null,null,null,null,null,null,null,null,null,null,null,null,null,null,null,null,null,null,null,null,null,"Автономна Республіка Крим","Багате"]
["Інтербанк","ПАТ КБ \"ІНТЕРБАНК\"","300216",41753,41843,null,null,null,null,null,null,null,null,null,null,"01.49","Розведення інших тварин",null,null,null,null,null,null,null,null,null,null,null,null,null,null,null,null,null,null,null,null,null,null,null,null,null,null,null,null,"Автономна Республіка Крим","Багатівка"]
["Інтеркредит банк","ПАТ \"ІнтерКредитБанк\"","307424",41922,42021,null,null,null,null,null,null,null,null,null,null,"01.5","Змішане сільське господарство",null,null,null,null,null,null,null,null,null,null,null,null,null,null,null,null,null,null,null,null,null,null,null,null,null,null,null,null,"Автономна Республіка Крим","Багерове"]
["Камбіо","ПАТ \"Банк Камбіо\"","380399",41978,42065,null,null,null,null,null,null,null,null,null,null,"01.50","Змішане сільське господарство",null,null,null,null,null,null,null,null,null,null,null,null,null,null,null,null,null,null,null,null,null,null,null,null,null,null,null,null,"Автономна Республіка Крим","Баланове"]
["Київ","ПАТ \"АКБ \"КИЇВ\"","322498",42060,42180,null,null,null,null,null,null,null,null,null,null,"01.6","Допоміжна діяльність у сільському господарстві та післяурожайна діяльність",null,null,null,null,null,null,null,null,null,null,null,null,null,null,null,null,null,null,null,null,null,null,null,null,null,null,null,null,"Автономна Республіка Крим","Балки"]
["Київськая Русь","ПАТ \"Банк \"Київська Русь\"","319092",42083,42202,null,null,null,null,null,null,null,null,null,null,"01.61","Допоміжна діяльність у рослинництві",null,null,null,null,null,null,null,null,null,null,null,null,null,null,null,null,null,null,null,null,null,null,null,null,null,null,null,null,"Автономна Республіка Крим","Барабанове"]
["КЛАСИКБАНК","ПАТ «КЛАСИКБАНК»","306704",42536,42594,null,null,null,null,null,null,null,null,null,null,"01.62","Допоміжна діяльність у тваринництві",null,null,null,null,null,null,null,null,null,null,null,null,null,null,null,null,null,null,null,null,null,null,null,null,null,null,null,null,"Автономна Республіка Крим","Барсове"]
["Контракт","ПАТ Банк \"Контракт\"","322465",42284,42349,null,null,null,null,null,null,null,null,null,null,"01.63","Післяурожайна діяльність",null,null,null,null,null,null,null,null,null,null,null,null,null,null,null,null,null,null,null,null,null,null,null,null,null,null,null,null,"Автономна Республіка Крим","Батальне"]
["Кредитпромбанк","ПАТ \"КРЕДИТПРОМБАНК\"","300863",42066,42158,null,null,null,null,null,null,null,null,null,null,"01.64","Оброблення насіння для відтворення",null,null,null,null,null,null,null,null,null,null,null,null,null,null,null,null,null,null,null,null,null,null,null,null,null,null,null,null,"Автономна Республіка Крим","Бахчисарай"]
["Легбанк","ПАТ \"Легбанк\"","300056",41971,42062,null,null,null,null,null,null,null,null,null,null,"01.7","Мисливство, відловлювання тварин і надання пов'язаних із ними послуг",null,null,null,null,null,null,null,null,null,null,null,null,null,null,null,null,null,null,null,null,null,null,null,null,null,null,null,null,"Автономна Республіка Крим","Бахчівка (Серебрянська сільська рада)"]
["Меліор","ПАТ \"МЕЛІОР БАНК\"","307435",41922,42046,null,null,null,null,null,null,null,null,null,null,"01.70","Мисливство, відловлювання тварин і надання пов'язаних із ними послуг",null,null,null,null,null,null,null,null,null,null,null,null,null,null,null,null,null,null,null,null,null,null,null,null,null,null,null,null,"Автономна Республіка Крим","Баштанівка"]
["Меркурій","АТ БАНК \"МЕРКУРІЙ\"","351663",41712,41802,null,null,null,null,null,null,null,null,null,null,"02","Лісове господарство та лісозаготівлі",null,null,null,null,null,null,null,null,null,null,null,null,null,null,null,null,null,null,null,null,null,null,null,null,null,null,null,null,"Автономна Республіка Крим","Берегове"]
["Михайлівський","ПАТ \"БАНК МИХАЙЛІВСЬКИЙ\"","380935",42513,42564,null,null,null,null,null,null,null,null,null,null,"02.1","Лісівництво та інша діяльність у лісовому господарстві",null,null,null,null,null,null,null,null,null,null,null,null,null,null,null,null,null,null,null,null,null,null,null,null,null,null,null,null,"Автономна Республіка Крим","Березівка"]
["Міський комерційний банк","ПАТ \"МІСЬКИЙ КОМЕРЦІЙНИЙ БАНК\"","339339",41964,42083,null,null,null,null,null,null,null,null,null,null,"02.10","Лісівництво та інша діяльність у лісовому господарстві",null,null,null,null,null,null,null,null,null,null,null,null,null,null,null,null,null,null,null,null,null,null,null,null,null,null,null,null,"Автономна Республіка Крим","Бєлінське"]
["Надра","ПАТ \"КБ \"Надра\"","380764",42041,42160,null,null,null,null,null,null,null,null,null,null,"02.2","Лісозаготівлі",null,null,null,null,null,null,null,null,null,null,null,null,null,null,null,null,null,null,null,null,null,null,null,null,null,null,null,null,"Автономна Республіка Крим","Біла Скеля"]
["Національний кредит","\"БАНК НАЦІОНАЛЬНИЙ КРЕДИТ\"","320702",42163,42247,null,null,null,null,null,null,null,null,null,null,"02.20","Лісозаготівлі",null,null,null,null,null,null,null,null,null,null,null,null,null,null,null,null,null,null,null,null,null,null,null,null,null,null,null,null,"Автономна Республіка Крим","Білогірськ"]
["Національні інвестиції","БАНК НАЦІОНАЛЬНІ ІНВЕСТИЦІЇ","300498",42265,42339,null,null,null,null,null,null,null,null,null,null,"02.3","Збирання дикорослих недеревних продуктів",null,null,null,null,null,null,null,null,null,null,null,null,null,null,null,null,null,null,null,null,null,null,null,null,null,null,null,null,"Автономна Республіка Крим","Білоглинка"]
["НК БАНК","АТ \"БАНК НАРОДНИЙ КАПІТАЛ\"","322432",42755,42803,null,null,null,null,null,null,null,null,null,null,"02.30","Збирання дикорослих недеревних продуктів",null,null,null,null,null,null,null,null,null,null,null,null,null,null,null,null,null,null,null,null,null,null,null,null,null,null,null,null,"Автономна Республіка Крим","Білокам'яне"]
["Омега","ПАТ \"ОМЕГА БАНК\"","300164",42066,42191,null,null,null,null,null,null,null,null,null,null,"02.4","Надання допоміжних послуг у лісовому господарстві",null,null,null,null,null,null,null,null,null,null,null,null,null,null,null,null,null,null,null,null,null,null,null,null,null,null,null,null,"Автономна Республіка Крим","Бітумне (Гресівська)"]
["Південкомбанк","ПАТ \"КБ \"ПІВДЕНКОМБАНК\"","335946",41785,41908,null,null,null,null,null,null,null,null,null,null,"02.40","Надання допоміжних послуг у лісовому господарстві",null,null,null,null,null,null,null,null,null,null,null,null,null,null,null,null,null,null,null,null,null,null,null,null,null,null,null,null,"Автономна Республіка Крим","Благодатне"]
["Платинум Банк","ПАТ \"Платинум Банк\"","380388",42746,42790,null,null,null,null,null,null,null,null,null,null,"03","Рибне господарство",null,null,null,null,null,null,null,null,null,null,null,null,null,null,null,null,null,null,null,null,null,null,null,null,null,null,null,null,"Автономна Республіка Крим","Ближнє"]
["Праймбанк","ПАТ \"ПРАЙМ-БАНК\"","300669",41915,42018,null,null,null,null,null,null,null,null,null,null,"03.1","Рибальство",null,null,null,null,null,null,null,null,null,null,null,null,null,null,null,null,null,null,null,null,null,null,null,null,null,null,null,null,"Автономна Республіка Крим","Ближньогородське"]
["Промекономбанк","ПАТ \"КБ \"ПРОМЕКОНОМБАНК\"","334992",41781,41890,null,null,null,null,null,null,null,null,null,null,"03.11","Морське рибальство",null,null,null,null,null,null,null,null,null,null,null,null,null,null,null,null,null,null,null,null,null,null,null,null,null,null,null,null,"Автономна Республіка Крим","Богатир"]
["Профінбанк","ПАТ \"ПРОФІН БАНК\"","334594",42024,42114,null,null,null,null,null,null,null,null,null,null,"03.12","Прісноводне рибальство",null,null,null,null,null,null,null,null,null,null,null,null,null,null,null,null,null,null,null,null,null,null,null,null,null,null,null,null,"Автономна Республіка Крим","Богачівка (Магазинська)"]
["Радикал","ПАТ \"РАДИКАЛ БАНК\"","319111",42195,42318,null,null,null,null,null,null,null,null,null,null,"03.2","Рибництво (аквакультура)",null,null,null,null,null,null,null,null,null,null,null,null,null,null,null,null,null,null,null,null,null,null,null,null,null,null,null,null,"Автономна Республіка Крим","Болотне"]
["Реал банк","ПАТ \"РЕАЛ БАНК\"","351588",41701,41780,null,null,null,null,null,null,null,null,null,null,"03.21","Морське рибництво (аквакультура)",null,null,null,null,null,null,null,null,null,null,null,null,null,null,null,null,null,null,null,null,null,null,null,null,null,null,null,null,"Автономна Республіка Крим","Бондаренкове"]
["Смартбанк","ПУАТ «СМАРТБАНК»","380786",42515,42576,null,null,null,null,null,null,null,null,null,null,"03.22","Прісноводне рибництво (аквакультура)",null,null,null,null,null,null,null,null,null,null,null,null,null,null,null,null,null,null,null,null,null,null,null,null,null,null,null,null,"Автономна Республіка Крим","Борисівка"]
["Софіївський","ПАТ \"Банк \"Софійський\"","380861",42361,42485,null,null,null,null,null,null,null,null,null,null,"B","Добувна промисловість і розроблення кар'єрів",null,null,null,null,null,null,null,null,null,null,null,null,null,null,null,null,null,null,null,null,null,null,null,null,null,null,null,null,"Автономна Республіка Крим","Бородіно"]
["Стандарт","ПАТ КБ \"СТАНДАРТ\"","380690",42055,42174,null,null,null,null,null,null,null,null,null,null,"05","Добування кам'яного та бурого вугілля",null,null,null,null,null,null,null,null,null,null,null,null,null,null,null,null,null,null,null,null,null,null,null,null,null,null,null,null,"Автономна Республіка Крим","Ботанічне"]
["Старокиївський","ПАТ \"СТАРОКИЇВСЬКИЙ БАНК\"","321477",41808,41900,null,null,null,null,null,null,null,null,null,null,"05.1","Добування кам'яного вугілля",null,null,null,null,null,null,null,null,null,null,null,null,null,null,null,null,null,null,null,null,null,null,null,null,null,null,null,null,"Автономна Республіка Крим","Братське"]
["Столичний","ПАТ АБ \"СТОЛИЧНИЙ\"","397133",42195,42265,null,null,null,null,null,null,null,null,null,null,"05.10","Добування кам'яного вугілля",null,null,null,null,null,null,null,null,null,null,null,null,null,null,null,null,null,null,null,null,null,null,null,null,null,null,null,null,"Автономна Республіка Крим","Братське (Братської)"]
["Таврика","АТ \"БАНК \"ТАВРИКА\"","300788",41264,41354,null,null,null,null,null,null,null,null,null,null,"05.2","Добування бурого вугілля",null,null,null,null,null,null,null,null,null,null,null,null,null,null,null,null,null,null,null,null,null,null,null,null,null,null,null,null,"Автономна Республіка Крим","Брянське"]
["Терра банк","ПАТ \"ТЕРРА БАНК\"","380601",41873,41997,null,null,null,null,null,null,null,null,null,null,"05.20","Добування бурого вугілля",null,null,null,null,null,null,null,null,null,null,null,null,null,null,null,null,null,null,null,null,null,null,null,null,null,null,null,null,"Автономна Республіка Крим","Буревісник"]
["ТК Кредит","АТ КБ \"ТК Кредит\"","322830",42410,42468,null,null,null,null,null,null,null,null,null,null,"06","Добування сирої нафти та природного газу",null,null,null,null,null,null,null,null,null,null,null,null,null,null,null,null,null,null,null,null,null,null,null,null,null,null,null,null,"Автономна Республіка Крим","Валентинове (Кримська)"]
["ТРАСТ","ПАТ БАНК \"ТРАСТ\"","380474",42711,42734,null,null,null,null,null,null,null,null,null,null,"06.1","Добування сирої нафти",null,null,null,null,null,null,null,null,null,null,null,null,null,null,null,null,null,null,null,null,null,null,null,null,null,null,null,null,"Автономна Республіка Крим","Варварівка"]
["Укоопспілка","АБ \"УКООПСПІЛКА\"","322625",42027,42117,null,null,null,null,null,null,null,null,null,null,"06.10","Добування сирої нафти",null,null,null,null,null,null,null,null,null,null,null,null,null,null,null,null,null,null,null,null,null,null,null,null,null,null,null,null,"Автономна Республіка Крим","Василькове"]
["Укрбізнесбанк","ПАТ \"УКРБІЗНЕСБАНК\"","334969",41999,42118,null,null,null,null,null,null,null,null,null,null,"06.2","Добування природного газу",null,null,null,null,null,null,null,null,null,null,null,null,null,null,null,null,null,null,null,null,null,null,null,null,null,null,null,null,"Автономна Республіка Крим","Велике (Суворовська)"]
["Укргазпромбанк","ПАТ \"УКРГАЗПРОМБАНК\"","320843",42102,42262,null,null,null,null,null,null,null,null,null,null,"06.20","Добування природного газу",null,null,null,null,null,null,null,null,null,null,null,null,null,null,null,null,null,null,null,null,null,null,null,null,null,null,null,null,"Автономна Республіка Крим","Велике Садове (Куйбишевська)"]
["Укрінбанк","ПАТ \"УКРІНБАНК\"","300142",42363,42452,null,null,null,null,null,null,null,null,null,null,"07","Добування металевих руд",null,null,null,null,null,null,null,null,null,null,null,null,null,null,null,null,null,null,null,null,null,null,null,null,null,null,null,null,"Автономна Республіка Крим","Великосілля"]
["Унікомбанк","ПАТ \"УНІКОМБАНК\"","335902",42293,42342,null,null,null,null,null,null,null,null,null,null,"07.1","Добування залізних руд",null,null,null,null,null,null,null,null,null,null,null,null,null,null,null,null,null,null,null,null,null,null,null,null,null,null,null,null,"Автономна Республіка Крим","Вересаєве"]
["УПБ","ПАТ \"УПБ\"","300205",42153,42247,null,null,null,null,null,null,null,null,null,null,"07.10","Добування залізних руд",null,null,null,null,null,null,null,null,null,null,null,null,null,null,null,null,null,null,null,null,null,null,null,null,null,null,null,null,"Автономна Республіка Крим","Верхні Орішники"]
["УФС","ПАТ \"КБ \"УФС\"","377777",41866,41956,null,null,null,null,null,null,null,null,null,null,"07.2","Добування руд кольорових металів",null,null,null,null,null,null,null,null,null,null,null,null,null,null,null,null,null,null,null,null,null,null,null,null,null,null,null,null,"Автономна Республіка Крим","Верхня Кутузовка"]
["ФІДОБАНК","ПУАТ «ФІДОБАНК»","300175",42510,42571,null,null,null,null,null,null,null,null,null,null,"07.21","Добування уранових і торієвих руд",null,null,null,null,null,null,null,null,null,null,null,null,null,null,null,null,null,null,null,null,null,null,null,null,null,null,null,null,"Автономна Республіка Крим","Верхньозаморське"]
["Фінанси та кредит","АТ \"БАНК \"ФІНАНСИ ТА КРЕДИТ\"","300131",42265,42355,null,null,null,null,null,null,null,null,null,null,"07.29","Добування руд інших кольорових металів",null,null,null,null,null,null,null,null,null,null,null,null,null,null,null,null,null,null,null,null,null,null,null,null,null,null,null,null,"Автономна Республіка Крим","Верхньокурганне"]
["ФІНБАНК","ПАТ \"ФІНБАНК\"","328685",42832,42852,null,null,null,null,null,null,null,null,null,null,"08","Добування інших корисних копалин та розроблення кар'єрів",null,null,null,null,null,null,null,null,null,null,null,null,null,null,null,null,null,null,null,null,null,null,null,null,null,null,null,null,"Автономна Республіка Крим","Верхоріччя"]
["Фінростбанк","АТ \"ФІНРОСТБАНК\"","328599",41836,41928,null,null,null,null,null,null,null,null,null,null,"08.1","Добування каменю, піску та глини",null,null,null,null,null,null,null,null,null,null,null,null,null,null,null,null,null,null,null,null,null,null,null,null,null,null,null,null,"Автономна Республіка Крим","Вершинне"]
["ФОРТУНА-БАНК","АТ \"ФОРТУНА-БАНК\"","300904",42762,42788,null,null,null,null,null,null,null,null,null,null,"08.11","Добування декоративного та будівельного каменю, вапняку, гіпсу, крейди та глинистого сланцю",null,null,null,null,null,null,null,null,null,null,null,null,null,null,null,null,null,null,null,null,null,null,null,null,null,null,null,null,"Автономна Республіка Крим","Веселе"]
["Форум","ПАТ \"БАНК ФОРУМ\"","322948",41712,41806,null,null,null,null,null,null,null,null,null,null,"08.12","Добування піску, гравію, глин і каоліну",null,null,null,null,null,null,null,null,null,null,null,null,null,null,null,null,null,null,null,null,null,null,null,null,null,null,null,null,"Автономна Республіка Крим","Веселівка"]
["Хрещатик","ПАТ \"КБ \"Хрещатик\"","300670",42465,42524,null,null,null,null,null,null,null,null,null,null,"08.9","Добування корисних копалин та розроблення кар'єрів, н.в.і.у.",null,null,null,null,null,null,null,null,null,null,null,null,null,null,null,null,null,null,null,null,null,null,null,null,null,null,null,null,"Автономна Республіка Крим","Видне"]
["Юніон стандарт банк","ПАТ \"ЮСБ БАНК\"","305987",42280,42366,null,null,null,null,null,null,null,null,null,null,"08.91","Добування мінеральної сировини для хімічної промисловості та виробництва мінеральних добрив",null,null,null,null,null,null,null,null,null,null,null,null,null,null,null,null,null,null,null,null,null,null,null,null,null,null,null,null,"Автономна Республіка Крим","Виноградне"]
["Новий","ПАТ АКБ Новий",305062,null,null,null,null,null,null,null,null,null,null,null,null,"08.92","Добування торфу",null,null,null,null,null,null,null,null,null,null,null,null,null,null,null,null,null,null,null,null,null,null,null,null,null,null,null,null,"Автономна Республіка Крим","Виноградний"]
[null,null,null,null,null,null,null,null,null,null,null,null,null,null,null,"08.93","Добування солі",null,null,null,null,null,null,null,null,null,null,null,null,null,null,null,null,null,null,null,null,null,null,null,null,null,null,null,null,"Автономна Республіка Крим","Виноградове"]
[null,null,null,null,null,null,null,null,null,null,null,null,null,null,null,"08.99","Добування інших корисних копалин та розроблення кар'єрів, н.в.і.у.",null,null,null,null,null,null,null,null,null,null,null,null,null,null,null,null,null,null,null,null,null,null,null,null,null,null,null,null,"Автономна Республіка Крим","Випасне"]
[null,null,null,null,null,null,null,null,null,null,null,null,null,null,null,"09","Надання допоміжних послуг у сфері добувної промисловості та розроблення кар'єрів",null,null,null,null,null,null,null,null,null,null,null,null,null,null,null,null,null,null,null,null,null,null,null,null,null,null,null,null,"Автономна Республіка Крим","Високогірне"]
[null,null,null,null,null,null,null,null,null,null,null,null,null,null,null,"09.1","Надання допоміжних послуг у сфері добування нафти та природного газу",null,null,null,null,null,null,null,null,null,null,null,null,null,null,null,null,null,null,null,null,null,null,null,null,null,null,null,null,"Автономна Республіка Крим","Вишенне"]
[null,null,null,null,null,null,null,null,null,null,null,null,null,null,null,"09.10","Надання допоміжних послуг у сфері добування нафти та природного газу",null,null,null,null,null,null,null,null,null,null,null,null,null,null,null,null,null,null,null,null,null,null,null,null,null,null,null,null,"Автономна Республіка Крим","Вишнівка (Вишнівської)"]
[null,null,null,null,null,null,null,null,null,null,null,null,null,null,null,"09.9","Надання допоміжних послуг у сфері добування інших корисних копалин та розроблення кар'єрів",null,null,null,null,null,null,null,null,null,null,null,null,null,null,null,null,null,null,null,null,null,null,null,null,null,null,null,null,"Автономна Республіка Крим","Вишняківка"]
[null,null,null,null,null,null,null,null,null,null,null,null,null,null,null,"09.90","Надання допоміжних послуг у сфері добування інших корисних копалин та розроблення кар'єрів",null,null,null,null,null,null,null,null,null,null,null,null,null,null,null,null,null,null,null,null,null,null,null,null,null,null,null,null,"Автономна Республіка Крим","Відважне"]
[null,null,null,null,null,null,null,null,null,null,null,null,null,null,null,"C","Переробна промисловість",null,null,null,null,null,null,null,null,null,null,null,null,null,null,null,null,null,null,null,null,null,null,null,null,null,null,null,null,"Автономна Республіка Крим","Відкрите"]
[null,null,null,null,null,null,null,null,null,null,null,null,null,null,null,"10","Виробництво харчових продуктів",null,null,null,null,null,null,null,null,null,null,null,null,null,null,null,null,null,null,null,null,null,null,null,null,null,null,null,null,"Автономна Республіка Крим","Відрадне"]
[null,null,null,null,null,null,null,null,null,null,null,null,null,null,null,"10.1","Виробництво м'яса та м'ясних продуктів",null,null,null,null,null,null,null,null,null,null,null,null,null,null,null,null,null,null,null,null,null,null,null,null,null,null,null,null,"Автономна Республіка Крим","Відродження"]
[null,null,null,null,null,null,null,null,null,null,null,null,null,null,null,"10.11","Виробництво м'яса",null,null,null,null,null,null,null,null,null,null,null,null,null,null,null,null,null,null,null,null,null,null,null,null,null,null,null,null,"Автономна Республіка Крим","Вікторівка"]
[null,null,null,null,null,null,null,null,null,null,null,null,null,null,null,"10.12","Виробництво м'яса свійської птиці",null,null,null,null,null,null,null,null,null,null,null,null,null,null,null,null,null,null,null,null,null,null,null,null,null,null,null,null,"Автономна Республіка Крим","Віліне"]
[null,null,null,null,null,null,null,null,null,null,null,null,null,null,null,"10.13","Виробництво м'ясних продуктів",null,null,null,null,null,null,null,null,null,null,null,null,null,null,null,null,null,null,null,null,null,null,null,null,null,null,null,null,"Автономна Республіка Крим","Вільне"]
[null,null,null,null,null,null,null,null,null,null,null,null,null,null,null,"10.2","Перероблення та консервування риби, ракоподібних і молюсків",null,null,null,null,null,null,null,null,null,null,null,null,null,null,null,null,null,null,null,null,null,null,null,null,null,null,null,null,"Автономна Республіка Крим","Вітвисте (Єрмаковська)"]
[null,null,null,null,null,null,null,null,null,null,null,null,null,null,null,"10.20","Перероблення та консервування риби, ракоподібних і молюсків",null,null,null,null,null,null,null,null,null,null,null,null,null,null,null,null,null,null,null,null,null,null,null,null,null,null,null,null,"Автономна Республіка Крим","Вітіне"]
[null,null,null,null,null,null,null,null,null,null,null,null,null,null,null,"10.3","Перероблення та консервування фруктів і овочів",null,null,null,null,null,null,null,null,null,null,null,null,null,null,null,null,null,null,null,null,null,null,null,null,null,null,null,null,"Автономна Республіка Крим","Вітрівка (Виноградівська)"]
[null,null,null,null,null,null,null,null,null,null,null,null,null,null,null,"10.31","Перероблення та консервування картоплі",null,null,null,null,null,null,null,null,null,null,null,null,null,null,null,null,null,null,null,null,null,null,null,null,null,null,null,null,"Автономна Республіка Крим","Вітрянка (Ковильнівська сільська рада)"]
[null,null,null,null,null,null,null,null,null,null,null,null,null,null,null,"10.32","Виробництво фруктових і овочевих соків",null,null,null,null,null,null,null,null,null,null,null,null,null,null,null,null,null,null,null,null,null,null,null,null,null,null,null,null,"Автономна Республіка Крим","Владиславівка"]
[null,null,null,null,null,null,null,null,null,null,null,null,null,null,null,"10.39"," Інші види перероблення та консервування фруктів і овочів",null,null,null,null,null,null,null,null,null,null,null,null,null,null,null,null,null,null,null,null,null,null,null,null,null,null,null,null,"Автономна Республіка Крим","Владне"]
[null,null,null,null,null,null,null,null,null,null,null,null,null,null,null,"10.4","Виробництво олії та тваринних жирів",null,null,null,null,null,null,null,null,null,null,null,null,null,null,null,null,null,null,null,null,null,null,null,null,null,null,null,null,"Автономна Республіка Крим","Внукове"]
[null,null,null,null,null,null,null,null,null,null,null,null,null,null,null,"10.41","Виробництво олії та тваринних жирів",null,null,null,null,null,null,null,null,null,null,null,null,null,null,null,null,null,null,null,null,null,null,null,null,null,null,null,null,"Автономна Республіка Крим","Вогневе (Кольцовська)"]
[null,null,null,null,null,null,null,null,null,null,null,null,null,null,null,"10.42","Виробництво маргарину і подібних харчових жирів",null,null,null,null,null,null,null,null,null,null,null,null,null,null,null,null,null,null,null,null,null,null,null,null,null,null,null,null,"Автономна Республіка Крим","Вогні (Кукушкінська сільська рада)"]
[null,null,null,null,null,null,null,null,null,null,null,null,null,null,null,"10.5","Виробництво молочних продуктів",null,null,null,null,null,null,null,null,null,null,null,null,null,null,null,null,null,null,null,null,null,null,null,null,null,null,null,null,"Автономна Республіка Крим","Водне"]
[null,null,null,null,null,null,null,null,null,null,null,null,null,null,null,"10.51","Перероблення молока, виробництво масла та сиру",null,null,null,null,null,null,null,null,null,null,null,null,null,null,null,null,null,null,null,null,null,null,null,null,null,null,null,null,"Автономна Республіка Крим","Водопійне"]
[null,null,null,null,null,null,null,null,null,null,null,null,null,null,null,"10.52","Виробництво морозива",null,null,null,null,null,null,null,null,null,null,null,null,null,null,null,null,null,null,null,null,null,null,null,null,null,null,null,null,"Автономна Республіка Крим","Водопійне (Сизівська)"]
[null,null,null,null,null,null,null,null,null,null,null,null,null,null,null,"10.6","Виробництво продуктів борошномельно-круп'яної промисловості, крохмалів та крохмальних продуктів",null,null,null,null,null,null,null,null,null,null,null,null,null,null,null,null,null,null,null,null,null,null,null,null,null,null,null,null,"Автономна Республіка Крим","Войкове"]
[null,null,null,null,null,null,null,null,null,null,null,null,null,null,null,"10.61","Виробництво продуктів борошномельно-круп'яної промисловості",null,null,null,null,null,null,null,null,null,null,null,null,null,null,null,null,null,null,null,null,null,null,null,null,null,null,null,null,"Автономна Республіка Крим","Воїнка (Воїнська)"]
[null,null,null,null,null,null,null,null,null,null,null,null,null,null,null,"10.62","Виробництво крохмалів та крохмальних продуктів",null,null,null,null,null,null,null,null,null,null,null,null,null,null,null,null,null,null,null,null,null,null,null,null,null,null,null,null,"Автономна Республіка Крим","Володимирівка"]
[null,null,null,null,null,null,null,null,null,null,null,null,null,null,null,"10.7","Виробництво хліба, хлібобулочних і борошняних виробів",null,null,null,null,null,null,null,null,null,null,null,null,null,null,null,null,null,null,null,null,null,null,null,null,null,null,null,null,"Автономна Республіка Крим","Володимирове"]
[null,null,null,null,null,null,null,null,null,null,null,null,null,null,null,"10.71","Виробництво хліба та хлібобулочних виробів; виробництво борошняних кондитерських виробів, тортів і тістечок нетривалого зберігання",null,null,null,null,null,null,null,null,null,null,null,null,null,null,null,null,null,null,null,null,null,null,null,null,null,null,null,null,"Автономна Республіка Крим","Володине"]
[null,null,null,null,null,null,null,null,null,null,null,null,null,null,null,"10.72","Виробництво сухарів і сухого печива; виробництво борошняних кондитерських виробів, тортів і тістечок тривалого зберігання",null,null,null,null,null,null,null,null,null,null,null,null,null,null,null,null,null,null,null,null,null,null,null,null,null,null,null,null,"Автономна Республіка Крим","Волочаївка (Ковильнівська сільська рада)"]
[null,null,null,null,null,null,null,null,null,null,null,null,null,null,null,"10.73","Виробництво макаронних виробів та подібних борошняних виробів",null,null,null,null,null,null,null,null,null,null,null,null,null,null,null,null,null,null,null,null,null,null,null,null,null,null,null,null,"Автономна Республіка Крим","Волошине (Суворівської)"]
[null,null,null,null,null,null,null,null,null,null,null,null,null,null,null,"10.8","Виробництво інших харчових продуктів",null,null,null,null,null,null,null,null,null,null,null,null,null,null,null,null,null,null,null,null,null,null,null,null,null,null,null,null,"Автономна Республіка Крим","Воробйове"]
[null,null,null,null,null,null,null,null,null,null,null,null,null,null,null,"10.81","Виробництво цукру",null,null,null,null,null,null,null,null,null,null,null,null,null,null,null,null,null,null,null,null,null,null,null,null,null,null,null,null,"Автономна Республіка Крим","Ворон"]
[null,null,null,null,null,null,null,null,null,null,null,null,null,null,null,"10.82","Виробництво какао, шоколаду та цукрових кондитерських виробів",null,null,null,null,null,null,null,null,null,null,null,null,null,null,null,null,null,null,null,null,null,null,null,null,null,null,null,null,"Автономна Республіка Крим","Воронки (Зиминська сільська рада)"]
[null,null,null,null,null,null,null,null,null,null,null,null,null,null,null,"10.83","Виробництво чаю та кави",null,null,null,null,null,null,null,null,null,null,null,null,null,null,null,null,null,null,null,null,null,null,null,null,null,null,null,null,"Автономна Республіка Крим","Воронцівка (Ільїнської)"]
[null,null,null,null,null,null,null,null,null,null,null,null,null,null,null,"10.84","Виробництво прянощів і приправ",null,null,null,null,null,null,null,null,null,null,null,null,null,null,null,null,null,null,null,null,null,null,null,null,null,null,null,null,"Автономна Республіка Крим","Восточне"]
[null,null,null,null,null,null,null,null,null,null,null,null,null,null,null,"10.85","Виробництво готової їжі та страв",null,null,null,null,null,null,null,null,null,null,null,null,null,null,null,null,null,null,null,null,null,null,null,null,null,null,null,null,"Автономна Республіка Крим","Восход"]
[null,null,null,null,null,null,null,null,null,null,null,null,null,null,null,"10.86","Виробництво дитячого харчування та дієтичних харчових продуктів",null,null,null,null,null,null,null,null,null,null,null,null,null,null,null,null,null,null,null,null,null,null,null,null,null,null,null,null,"Автономна Республіка Крим","Вузлове"]
[null,null,null,null,null,null,null,null,null,null,null,null,null,null,null,"10.89","Виробництво інших харчових продуктів, н.в.і.у.",null,null,null,null,null,null,null,null,null,null,null,null,null,null,null,null,null,null,null,null,null,null,null,null,null,null,null,null,"Автономна Республіка Крим","Вулканівка"]
[null,null,null,null,null,null,null,null,null,null,null,null,null,null,null,"10.9","Виробництво готових кормів для тварин",null,null,null,null,null,null,null,null,null,null,null,null,null,null,null,null,null,null,null,null,null,null,null,null,null,null,null,null,"Автономна Республіка Крим","В'язникове"]
[null,null,null,null,null,null,null,null,null,null,null,null,null,null,null,"10.91","Виробництво готових кормів для тварин, що утримуються на фермах",null,null,null,null,null,null,null,null,null,null,null,null,null,null,null,null,null,null,null,null,null,null,null,null,null,null,null,null,"Автономна Республіка Крим","Гаршине"]
[null,null,null,null,null,null,null,null,null,null,null,null,null,null,null,"10.92","Виробництво готових кормів для домашніх тварин",null,null,null,null,null,null,null,null,null,null,null,null,null,null,null,null,null,null,null,null,null,null,null,null,null,null,null,null,"Автономна Республіка Крим","Гаспра"]
[null,null,null,null,null,null,null,null,null,null,null,null,null,null,null,"11","Виробництво напоїв",null,null,null,null,null,null,null,null,null,null,null,null,null,null,null,null,null,null,null,null,null,null,null,null,null,null,null,null,"Автономна Республіка Крим","Гвардійське (Гвардійської)"]
[null,null,null,null,null,null,null,null,null,null,null,null,null,null,null,"11.0","Виробництво напоїв",null,null,null,null,null,null,null,null,null,null,null,null,null,null,null,null,null,null,null,null,null,null,null,null,null,null,null,null,"Автономна Республіка Крим","Генеральське"]
[null,null,null,null,null,null,null,null,null,null,null,null,null,null,null,"11.01","Дистиляція, ректифікація та змішування спиртних напоїв",null,null,null,null,null,null,null,null,null,null,null,null,null,null,null,null,null,null,null,null,null,null,null,null,null,null,null,null,"Автономна Республіка Крим","Геройське"]
[null,null,null,null,null,null,null,null,null,null,null,null,null,null,null,"11.02","Виробництво виноградних вин",null,null,null,null,null,null,null,null,null,null,null,null,null,null,null,null,null,null,null,null,null,null,null,null,null,null,null,null,"Автономна Республіка Крим","Гірне"]
[null,null,null,null,null,null,null,null,null,null,null,null,null,null,null,"11.03","Виробництво сидру та інших плодово-ягідних вин",null,null,null,null,null,null,null,null,null,null,null,null,null,null,null,null,null,null,null,null,null,null,null,null,null,null,null,null,"Автономна Республіка Крим","Глазівка"]
[null,null,null,null,null,null,null,null,null,null,null,null,null,null,null,"11.04","Виробництво інших недистильованих напоїв із зброджуваних продуктів",null,null,null,null,null,null,null,null,null,null,null,null,null,null,null,null,null,null,null,null,null,null,null,null,null,null,null,null,"Автономна Республіка Крим","Глибокий Яр"]
[null,null,null,null,null,null,null,null,null,null,null,null,null,null,null,"11.05","Виробництво пива",null,null,null,null,null,null,null,null,null,null,null,null,null,null,null,null,null,null,null,null,null,null,null,null,null,null,null,null,"Автономна Республіка Крим","Глінка (Вересаєвська сільська рада)"]
[null,null,null,null,null,null,null,null,null,null,null,null,null,null,null,"11.06","Виробництво солоду",null,null,null,null,null,null,null,null,null,null,null,null,null,null,null,null,null,null,null,null,null,null,null,null,null,null,null,null,"Автономна Республіка Крим","Голованівка"]
[null,null,null,null,null,null,null,null,null,null,null,null,null,null,null,"11.07","Виробництво безалкогольних напоїв; виробництво мінеральних вод та інших вод, розлитих у пляшки",null,null,null,null,null,null,null,null,null,null,null,null,null,null,null,null,null,null,null,null,null,null,null,null,null,null,null,null,"Автономна Республіка Крим","Голуба Затока"]
[null,null,null,null,null,null,null,null,null,null,null,null,null,null,null,"12","Виробництво тютюнових виробів",null,null,null,null,null,null,null,null,null,null,null,null,null,null,null,null,null,null,null,null,null,null,null,null,null,null,null,null,"Автономна Республіка Крим","Голубинка"]
[null,null,null,null,null,null,null,null,null,null,null,null,null,null,null,"12.0","Виробництво тютюнових виробів",null,null,null,null,null,null,null,null,null,null,null,null,null,null,null,null,null,null,null,null,null,null,null,null,null,null,null,null,"Автономна Республіка Крим","Горлинка"]
[null,null,null,null,null,null,null,null,null,null,null,null,null,null,null,"12.00","Виробництво тютюнових виробів",null,null,null,null,null,null,null,null,null,null,null,null,null,null,null,null,null,null,null,null,null,null,null,null,null,null,null,null,"Автономна Республіка Крим","Горностаївка"]
[null,null,null,null,null,null,null,null,null,null,null,null,null,null,null,"13","Текстильне виробництво",null,null,null,null,null,null,null,null,null,null,null,null,null,null,null,null,null,null,null,null,null,null,null,null,null,null,null,null,"Автономна Республіка Крим","Городнє (Руч'ївська сільська рада)"]
[null,null,null,null,null,null,null,null,null,null,null,null,null,null,null,"13.1","Підготування та прядіння текстильних волокон",null,null,null,null,null,null,null,null,null,null,null,null,null,null,null,null,null,null,null,null,null,null,null,null,null,null,null,null,"Автономна Республіка Крим","Гресівський"]
[null,null,null,null,null,null,null,null,null,null,null,null,null,null,null,"13.10","Підготування та прядіння текстильних волокон",null,null,null,null,null,null,null,null,null,null,null,null,null,null,null,null,null,null,null,null,null,null,null,null,null,null,null,null,"Автономна Республіка Крим","Григорівка"]
[null,null,null,null,null,null,null,null,null,null,null,null,null,null,null,"13.2","Ткацьке виробництво",null,null,null,null,null,null,null,null,null,null,null,null,null,null,null,null,null,null,null,null,null,null,null,null,null,null,null,null,"Автономна Республіка Крим","Гришине (Гришинської)"]
[null,null,null,null,null,null,null,null,null,null,null,null,null,null,null,"13.20","Ткацьке виробництво",null,null,null,null,null,null,null,null,null,null,null,null,null,null,null,null,null,null,null,null,null,null,null,null,null,null,null,null,"Автономна Республіка Крим","Громівка"]
[null,null,null,null,null,null,null,null,null,null,null,null,null,null,null,"13.3","Оздоблення текстильних виробів",null,null,null,null,null,null,null,null,null,null,null,null,null,null,null,null,null,null,null,null,null,null,null,null,null,null,null,null,"Автономна Республіка Крим","Громове"]
[null,null,null,null,null,null,null,null,null,null,null,null,null,null,null,"13.30","Оздоблення текстильних виробів",null,null,null,null,null,null,null,null,null,null,null,null,null,null,null,null,null,null,null,null,null,null,null,null,null,null,null,null,"Автономна Республіка Крим","Громовка"]
[null,null,null,null,null,null,null,null,null,null,null,null,null,null,null,"13.9","Виробництво інших текстильних виробів",null,null,null,null,null,null,null,null,null,null,null,null,null,null,null,null,null,null,null,null,null,null,null,null,null,null,null,null,"Автономна Республіка Крим","Грушеве"]
[null,null,null,null,null,null,null,null,null,null,null,null,null,null,null,"13.91","Виробництво трикотажного полотна",null,null,null,null,null,null,null,null,null,null,null,null,null,null,null,null,null,null,null,null,null,null,null,null,null,null,null,null,"Автономна Республіка Крим","Грушівка"]
[null,null,null,null,null,null,null,null,null,null,null,null,null,null,null,"13.92","Виробництво готових текстильних виробів, крім одягу",null,null,null,null,null,null,null,null,null,null,null,null,null,null,null,null,null,null,null,null,null,null,null,null,null,null,null,null,"Автономна Республіка Крим","Гурзуф"]
[null,null,null,null,null,null,null,null,null,null,null,null,null,null,null,"13.93","Виробництво килимів і килимових виробів",null,null,null,null,null,null,null,null,null,null,null,null,null,null,null,null,null,null,null,null,null,null,null,null,null,null,null,null,"Автономна Республіка Крим","Давидове"]
[null,null,null,null,null,null,null,null,null,null,null,null,null,null,null,"13.94","Виробництво канатів, мотузок, шпагату та сіток",null,null,null,null,null,null,null,null,null,null,null,null,null,null,null,null,null,null,null,null,null,null,null,null,null,null,null,null,"Автономна Республіка Крим","Далеке"]
[null,null,null,null,null,null,null,null,null,null,null,null,null,null,null,"13.95","Виробництво нетканих текстильних матеріалів та виробів із них, крім одягу",null,null,null,null,null,null,null,null,null,null,null,null,null,null,null,null,null,null,null,null,null,null,null,null,null,null,null,null,"Автономна Республіка Крим","Данилівка"]
[null,null,null,null,null,null,null,null,null,null,null,null,null,null,null,"13.96","Виробництво інших текстильних виробів технічного та промислового призначення",null,null,null,null,null,null,null,null,null,null,null,null,null,null,null,null,null,null,null,null,null,null,null,null,null,null,null,null,"Автономна Республіка Крим","Дачне"]
[null,null,null,null,null,null,null,null,null,null,null,null,null,null,null,"13.99","Виробництво інших текстильних виробів, н.в.і.у.",null,null,null,null,null,null,null,null,null,null,null,null,null,null,null,null,null,null,null,null,null,null,null,null,null,null,null,null,"Автономна Республіка Крим","Дворіччя"]
[null,null,null,null,null,null,null,null,null,null,null,null,null,null,null,"14","Виробництво одягу",null,null,null,null,null,null,null,null,null,null,null,null,null,null,null,null,null,null,null,null,null,null,null,null,null,null,null,null,"Автономна Республіка Крим","Дворове"]
[null,null,null,null,null,null,null,null,null,null,null,null,null,null,null,"14.1","Виробництво одягу, крім хутряного",null,null,null,null,null,null,null,null,null,null,null,null,null,null,null,null,null,null,null,null,null,null,null,null,null,null,null,null,"Автономна Республіка Крим","Дем'янівка"]
[null,null,null,null,null,null,null,null,null,null,null,null,null,null,null,"14.11","Виробництво одягу зі шкіри",null,null,null,null,null,null,null,null,null,null,null,null,null,null,null,null,null,null,null,null,null,null,null,null,null,null,null,null,"Автономна Республіка Крим","Денисівка"]
[null,null,null,null,null,null,null,null,null,null,null,null,null,null,null,"14.12","Виробництво робочого одягу",null,null,null,null,null,null,null,null,null,null,null,null,null,null,null,null,null,null,null,null,null,null,null,null,null,null,null,null,"Автономна Республіка Крим","Джанкой"]
[null,null,null,null,null,null,null,null,null,null,null,null,null,null,null,"14.13","Виробництво іншого верхнього одягу",null,null,null,null,null,null,null,null,null,null,null,null,null,null,null,null,null,null,null,null,null,null,null,null,null,null,null,null,"Автономна Республіка Крим","Дивне"]
[null,null,null,null,null,null,null,null,null,null,null,null,null,null,null,"14.14","Виробництво спіднього одягу",null,null,null,null,null,null,null,null,null,null,null,null,null,null,null,null,null,null,null,null,null,null,null,null,null,null,null,null,"Автономна Республіка Крим","Дібрівка"]
[null,null,null,null,null,null,null,null,null,null,null,null,null,null,null,"14.19","Виробництво іншого одягу й аксесуарів",null,null,null,null,null,null,null,null,null,null,null,null,null,null,null,null,null,null,null,null,null,null,null,null,null,null,null,null,"Автономна Республіка Крим","Дібрівське"]
[null,null,null,null,null,null,null,null,null,null,null,null,null,null,null,"14.2","Виготовлення виробів із хутра",null,null,null,null,null,null,null,null,null,null,null,null,null,null,null,null,null,null,null,null,null,null,null,null,null,null,null,null,"Автономна Республіка Крим","Дмитрівка"]
[null,null,null,null,null,null,null,null,null,null,null,null,null,null,null,"14.20","Виготовлення виробів із хутра",null,null,null,null,null,null,null,null,null,null,null,null,null,null,null,null,null,null,null,null,null,null,null,null,null,null,null,null,"Автономна Республіка Крим","Дмитрівка (Войковське)"]
[null,null,null,null,null,null,null,null,null,null,null,null,null,null,null,"14.3","Виробництво трикотажного та в'язаного одягу",null,null,null,null,null,null,null,null,null,null,null,null,null,null,null,null,null,null,null,null,null,null,null,null,null,null,null,null,"Автономна Республіка Крим","Дмитрове"]
[null,null,null,null,null,null,null,null,null,null,null,null,null,null,null,"14.31","Виробництво панчішно-шкарпеткових виробів",null,null,null,null,null,null,null,null,null,null,null,null,null,null,null,null,null,null,null,null,null,null,null,null,null,null,null,null,"Автономна Республіка Крим","Дніпровка"]
[null,null,null,null,null,null,null,null,null,null,null,null,null,null,null,"14.39","Виробництво іншого трикотажного та в'язаного одягу",null,null,null,null,null,null,null,null,null,null,null,null,null,null,null,null,null,null,null,null,null,null,null,null,null,null,null,null,"Автономна Республіка Крим","Добре"]
[null,null,null,null,null,null,null,null,null,null,null,null,null,null,null,"15","Виробництво шкіри, виробів зі шкіри та інших матеріалів",null,null,null,null,null,null,null,null,null,null,null,null,null,null,null,null,null,null,null,null,null,null,null,null,null,null,null,null,"Автономна Республіка Крим","Добролюбовка"]
[null,null,null,null,null,null,null,null,null,null,null,null,null,null,null,"15.1","Дублення шкур і оздоблення шкіри; виробництво дорожніх виробів, сумок, лимарно-сідельних виробів; вичинка та фарбування хутра",null,null,null,null,null,null,null,null,null,null,null,null,null,null,null,null,null,null,null,null,null,null,null,null,null,null,null,null,"Автономна Республіка Крим","Добрушине"]
[null,null,null,null,null,null,null,null,null,null,null,null,null,null,null,"15.11","Дублення шкур і оздоблення шкіри; вичинка та фарбування хутра",null,null,null,null,null,null,null,null,null,null,null,null,null,null,null,null,null,null,null,null,null,null,null,null,null,null,null,null,"Автономна Республіка Крим","Дозорне"]
[null,null,null,null,null,null,null,null,null,null,null,null,null,null,null,"15.12","Виробництво дорожніх виробів, сумок, лимарно-сідельних виробів зі шкіри та інших матеріалів",null,null,null,null,null,null,null,null,null,null,null,null,null,null,null,null,null,null,null,null,null,null,null,null,null,null,null,null,"Автономна Республіка Крим","Докучаєве"]
[null,null,null,null,null,null,null,null,null,null,null,null,null,null,null,"15.2","Виробництво взуття",null,null,null,null,null,null,null,null,null,null,null,null,null,null,null,null,null,null,null,null,null,null,null,null,null,null,null,null,"Автономна Республіка Крим","Долинівка"]
[null,null,null,null,null,null,null,null,null,null,null,null,null,null,null,"15.20","Виробництво взуття",null,null,null,null,null,null,null,null,null,null,null,null,null,null,null,null,null,null,null,null,null,null,null,null,null,null,null,null,"Автономна Республіка Крим","Долинка (Митяївська)"]
[null,null,null,null,null,null,null,null,null,null,null,null,null,null,null,"16","Оброблення деревини та виготовлення виробів з деревини та корка, крім меблів; виготовлення виробів із соломки та рослинних матеріалів для плетіння",null,null,null,null,null,null,null,null,null,null,null,null,null,null,null,null,null,null,null,null,null,null,null,null,null,null,null,null,"Автономна Республіка Крим","Долинка (Новопавлівської)"]
[null,null,null,null,null,null,null,null,null,null,null,null,null,null,null,"16.1","Лісопильне та стругальне виробництво",null,null,null,null,null,null,null,null,null,null,null,null,null,null,null,null,null,null,null,null,null,null,null,null,null,null,null,null,"Автономна Республіка Крим","Долинне"]
[null,null,null,null,null,null,null,null,null,null,null,null,null,null,null,"16.10","Лісопильне та стругальне виробництво",null,null,null,null,null,null,null,null,null,null,null,null,null,null,null,null,null,null,null,null,null,null,null,null,null,null,null,null,"Автономна Республіка Крим","Донське"]
[null,null,null,null,null,null,null,null,null,null,null,null,null,null,null,"16.2","Виготовлення виробів з деревини, корка, соломки та рослинних матеріалів для плетіння",null,null,null,null,null,null,null,null,null,null,null,null,null,null,null,null,null,null,null,null,null,null,null,null,null,null,null,null,"Автономна Республіка Крим","Дорожнє"]
[null,null,null,null,null,null,null,null,null,null,null,null,null,null,null,"16.21","Виробництво фанери, дерев'яних плит і панелей, шпону",null,null,null,null,null,null,null,null,null,null,null,null,null,null,null,null,null,null,null,null,null,null,null,null,null,null,null,null,"Автономна Республіка Крим","Доходне"]
[null,null,null,null,null,null,null,null,null,null,null,null,null,null,null,"16.22","Виробництво щитового паркету",null,null,null,null,null,null,null,null,null,null,null,null,null,null,null,null,null,null,null,null,null,null,null,null,null,null,null,null,"Автономна Республіка Крим","Дрофине"]
[null,null,null,null,null,null,null,null,null,null,null,null,null,null,null,"16.23","Виробництво інших дерев'яних будівельних конструкцій і столярних виробів",null,null,null,null,null,null,null,null,null,null,null,null,null,null,null,null,null,null,null,null,null,null,null,null,null,null,null,null,"Автономна Республіка Крим","Дружне"]
[null,null,null,null,null,null,null,null,null,null,null,null,null,null,null,"16.24","Виробництво дерев'яної тари",null,null,null,null,null,null,null,null,null,null,null,null,null,null,null,null,null,null,null,null,null,null,null,null,null,null,null,null,"Автономна Республіка Крим","Дубки"]
[null,null,null,null,null,null,null,null,null,null,null,null,null,null,null,"16.29","Виробництво інших виробів з деревини; виготовлення виробів з корка, соломки та рослинних матеріалів для плетіння",null,null,null,null,null,null,null,null,null,null,null,null,null,null,null,null,null,null,null,null,null,null,null,null,null,null,null,null,"Автономна Республіка Крим","Дятлівка"]
[null,null,null,null,null,null,null,null,null,null,null,null,null,null,null,"17","Виробництво паперу та паперових виробів",null,null,null,null,null,null,null,null,null,null,null,null,null,null,null,null,null,null,null,null,null,null,null,null,null,null,null,null,"Автономна Республіка Крим","Євпаторія"]
[null,null,null,null,null,null,null,null,null,null,null,null,null,null,null,"17.1","Виробництво паперової маси, паперу та картону",null,null,null,null,null,null,null,null,null,null,null,null,null,null,null,null,null,null,null,null,null,null,null,null,null,null,null,null,"Автономна Республіка Крим","Єгорове"]
[null,null,null,null,null,null,null,null,null,null,null,null,null,null,null,"17.11","Виробництво паперової маси",null,null,null,null,null,null,null,null,null,null,null,null,null,null,null,null,null,null,null,null,null,null,null,null,null,null,null,null,"Автономна Республіка Крим","Єлизаветове"]
[null,null,null,null,null,null,null,null,null,null,null,null,null,null,null,"17.12","Виробництво паперу та картону",null,null,null,null,null,null,null,null,null,null,null,null,null,null,null,null,null,null,null,null,null,null,null,null,null,null,null,null,"Автономна Республіка Крим","Єрмакове"]
[null,null,null,null,null,null,null,null,null,null,null,null,null,null,null,"17.2","Виготовлення виробів з паперу та картону",null,null,null,null,null,null,null,null,null,null,null,null,null,null,null,null,null,null,null,null,null,null,null,null,null,null,null,null,"Автономна Республіка Крим","Єрофєєве"]
[null,null,null,null,null,null,null,null,null,null,null,null,null,null,null,"17.21","Виробництво гофрованого паперу та картону, паперової та картонної тари",null,null,null,null,null,null,null,null,null,null,null,null,null,null,null,null,null,null,null,null,null,null,null,null,null,null,null,null,"Автономна Республіка Крим","Жайворонки"]
[null,null,null,null,null,null,null,null,null,null,null,null,null,null,null,"17.22","Виробництво паперових виробів господарсько-побутового та санітарно-гігієнічного призначення",null,null,null,null,null,null,null,null,null,null,null,null,null,null,null,null,null,null,null,null,null,null,null,null,null,null,null,null,"Автономна Республіка Крим","Желябовка"]
[null,null,null,null,null,null,null,null,null,null,null,null,null,null,null,"17.23","Виробництво паперових канцелярських  виробів",null,null,null,null,null,null,null,null,null,null,null,null,null,null,null,null,null,null,null,null,null,null,null,null,null,null,null,null,"Автономна Республіка Крим","Жемчужина"]
[null,null,null,null,null,null,null,null,null,null,null,null,null,null,null,"17.24","Виробництво шпалер",null,null,null,null,null,null,null,null,null,null,null,null,null,null,null,null,null,null,null,null,null,null,null,null,null,null,null,null,"Автономна Республіка Крим","Жемчужина Криму"]
[null,null,null,null,null,null,null,null,null,null,null,null,null,null,null,"17.29","Виробництво інших виробів з паперу та картону",null,null,null,null,null,null,null,null,null,null,null,null,null,null,null,null,null,null,null,null,null,null,null,null,null,null,null,null,"Автономна Республіка Крим","Живописне"]
[null,null,null,null,null,null,null,null,null,null,null,null,null,null,null,"18","Поліграфічна діяльність, тиражування записаної інформації",null,null,null,null,null,null,null,null,null,null,null,null,null,null,null,null,null,null,null,null,null,null,null,null,null,null,null,null,"Автономна Республіка Крим","Жилине"]
[null,null,null,null,null,null,null,null,null,null,null,null,null,null,null,"18.1","Поліграфічна діяльність і надання пов'язаних із нею послуг",null,null,null,null,null,null,null,null,null,null,null,null,null,null,null,null,null,null,null,null,null,null,null,null,null,null,null,null,"Автономна Республіка Крим","Жовтокам'янка (Суворовська)"]
[null,null,null,null,null,null,null,null,null,null,null,null,null,null,null,"18.11","Друкування газет",null,null,null,null,null,null,null,null,null,null,null,null,null,null,null,null,null,null,null,null,null,null,null,null,null,null,null,null,"Автономна Республіка Крим","Журавки"]
[null,null,null,null,null,null,null,null,null,null,null,null,null,null,null,"18.12","Друкування іншої продукції",null,null,null,null,null,null,null,null,null,null,null,null,null,null,null,null,null,null,null,null,null,null,null,null,null,null,null,null,"Автономна Республіка Крим","Журавлі"]
[null,null,null,null,null,null,null,null,null,null,null,null,null,null,null,"18.13","Виготовлення друкарських форм і надання інших поліграфічних послуг",null,null,null,null,null,null,null,null,null,null,null,null,null,null,null,null,null,null,null,null,null,null,null,null,null,null,null,null,"Автономна Республіка Крим","Журавлівка"]
[null,null,null,null,null,null,null,null,null,null,null,null,null,null,null,"18.14","Брошурувально-палітурна діяльність і надання пов'язаних із нею послуг",null,null,null,null,null,null,null,null,null,null,null,null,null,null,null,null,null,null,null,null,null,null,null,null,null,null,null,null,"Автономна Республіка Крим","Завіт-Ленінський"]
[null,null,null,null,null,null,null,null,null,null,null,null,null,null,null,"18.2","Тиражування звуко-, відеозаписів і програмного забезпечення",null,null,null,null,null,null,null,null,null,null,null,null,null,null,null,null,null,null,null,null,null,null,null,null,null,null,null,null,"Автономна Республіка Крим","Завітне"]
[null,null,null,null,null,null,null,null,null,null,null,null,null,null,null,"18.20","Тиражування звуко-, відеозаписів і програмного забезпечення",null,null,null,null,null,null,null,null,null,null,null,null,null,null,null,null,null,null,null,null,null,null,null,null,null,null,null,null,"Автономна Республіка Крим","Заводське"]
[null,null,null,null,null,null,null,null,null,null,null,null,null,null,null,"19","Виробництво коксу та продуктів нафтоперероблення",null,null,null,null,null,null,null,null,null,null,null,null,null,null,null,null,null,null,null,null,null,null,null,null,null,null,null,null,"Автономна Республіка Крим","Задорне"]
[null,null,null,null,null,null,null,null,null,null,null,null,null,null,null,"19.1","Виробництво коксу та коксопродуктів",null,null,null,null,null,null,null,null,null,null,null,null,null,null,null,null,null,null,null,null,null,null,null,null,null,null,null,null,"Автономна Республіка Крим","Зайцеве"]
[null,null,null,null,null,null,null,null,null,null,null,null,null,null,null,"19.10","Виробництво коксу та коксопродуктів",null,null,null,null,null,null,null,null,null,null,null,null,null,null,null,null,null,null,null,null,null,null,null,null,null,null,null,null,"Автономна Республіка Крим","Заливне"]
[null,null,null,null,null,null,null,null,null,null,null,null,null,null,null,"19.2","Виробництво продуктів нафтоперероблення",null,null,null,null,null,null,null,null,null,null,null,null,null,null,null,null,null,null,null,null,null,null,null,null,null,null,null,null,"Автономна Республіка Крим","Залізничне"]
[null,null,null,null,null,null,null,null,null,null,null,null,null,null,null,"19.20","Виробництво продуктів нафтоперероблення",null,null,null,null,null,null,null,null,null,null,null,null,null,null,null,null,null,null,null,null,null,null,null,null,null,null,null,null,"Автономна Республіка Крим","Залісне"]
[null,null,null,null,null,null,null,null,null,null,null,null,null,null,null,"20","Виробництво хімічних речовин і хімічної продукції",null,null,null,null,null,null,null,null,null,null,null,null,null,null,null,null,null,null,null,null,null,null,null,null,null,null,null,null,"Автономна Республіка Крим","Залісся"]
[null,null,null,null,null,null,null,null,null,null,null,null,null,null,null,"20.1","Виробництво основної хімічної продукції, добрив і азотних сполук, пластмас і синтетичного каучуку в первинних формах",null,null,null,null,null,null,null,null,null,null,null,null,null,null,null,null,null,null,null,null,null,null,null,null,null,null,null,null,"Автономна Республіка Крим","Заозерне"]
[null,null,null,null,null,null,null,null,null,null,null,null,null,null,null,"20.11","Виробництво промислових газів",null,null,null,null,null,null,null,null,null,null,null,null,null,null,null,null,null,null,null,null,null,null,null,null,null,null,null,null,"Автономна Республіка Крим","Запрудне"]
[null,null,null,null,null,null,null,null,null,null,null,null,null,null,null,"20.12","Виробництво барвників і пігментів",null,null,null,null,null,null,null,null,null,null,null,null,null,null,null,null,null,null,null,null,null,null,null,null,null,null,null,null,"Автономна Республіка Крим","Зарічне"]
[null,null,null,null,null,null,null,null,null,null,null,null,null,null,null,"20.13","Виробництво інших основних неорганічних хімічних речовин",null,null,null,null,null,null,null,null,null,null,null,null,null,null,null,null,null,null,null,null,null,null,null,null,null,null,null,null,"Автономна Республіка Крим","Заріччя"]
[null,null,null,null,null,null,null,null,null,null,null,null,null,null,null,"20.14","Виробництво інших основних органічних хімічних речовин",null,null,null,null,null,null,null,null,null,null,null,null,null,null,null,null,null,null,null,null,null,null,null,null,null,null,null,null,"Автономна Республіка Крим","Затишне"]
[null,null,null,null,null,null,null,null,null,null,null,null,null,null,null,"20.15","Виробництво добрив і азотних сполук",null,null,null,null,null,null,null,null,null,null,null,null,null,null,null,null,null,null,null,null,null,null,null,null,null,null,null,null,"Автономна Республіка Крим","Звіздне"]
[null,null,null,null,null,null,null,null,null,null,null,null,null,null,null,"20.16","Виробництво пластмас у первинних формах",null,null,null,null,null,null,null,null,null,null,null,null,null,null,null,null,null,null,null,null,null,null,null,null,null,null,null,null,"Автономна Республіка Крим","Зелена Нива (Вишнівської)"]
[null,null,null,null,null,null,null,null,null,null,null,null,null,null,null,"20.17","Виробництво синтетичного каучуку в первинних формах",null,null,null,null,null,null,null,null,null,null,null,null,null,null,null,null,null,null,null,null,null,null,null,null,null,null,null,null,"Автономна Республіка Крим","Зелене"]
[null,null,null,null,null,null,null,null,null,null,null,null,null,null,null,"20.2","Виробництво пестицидів та іншої агрохімічної продукції",null,null,null,null,null,null,null,null,null,null,null,null,null,null,null,null,null,null,null,null,null,null,null,null,null,null,null,null,"Автономна Республіка Крим","Зелений Яр"]
[null,null,null,null,null,null,null,null,null,null,null,null,null,null,null,"20.20","Виробництво пестицидів та іншої агрохімічної продукції",null,null,null,null,null,null,null,null,null,null,null,null,null,null,null,null,null,null,null,null,null,null,null,null,null,null,null,null,"Автономна Республіка Крим","Зеленогірське"]
[null,null,null,null,null,null,null,null,null,null,null,null,null,null,null,"20.3","Виробництво фарб, лаків і подібної продукції, друкарської фарби та мастик",null,null,null,null,null,null,null,null,null,null,null,null,null,null,null,null,null,null,null,null,null,null,null,null,null,null,null,null,"Автономна Республіка Крим","Зеленогір'я"]
[null,null,null,null,null,null,null,null,null,null,null,null,null,null,null,"20.30","Виробництво фарб, лаків і подібної продукції, друкарської фарби та мастик",null,null,null,null,null,null,null,null,null,null,null,null,null,null,null,null,null,null,null,null,null,null,null,null,null,null,null,null,"Автономна Республіка Крим","Земляничне"]
[null,null,null,null,null,null,null,null,null,null,null,null,null,null,null,"20.4","Виробництво мила та мийних засобів, засобів для чищення та полірування, парфумних і косметичних засобів",null,null,null,null,null,null,null,null,null,null,null,null,null,null,null,null,null,null,null,null,null,null,null,null,null,null,null,null,"Автономна Республіка Крим","Зернове"]
[null,null,null,null,null,null,null,null,null,null,null,null,null,null,null,"20.41","Виробництво мила та мийних засобів, засобів для чищення та полірування",null,null,null,null,null,null,null,null,null,null,null,null,null,null,null,null,null,null,null,null,null,null,null,null,null,null,null,null,"Автономна Республіка Крим","Зибини"]
[null,null,null,null,null,null,null,null,null,null,null,null,null,null,null,"20.42","Виробництво парфумних і косметичних засобів",null,null,null,null,null,null,null,null,null,null,null,null,null,null,null,null,null,null,null,null,null,null,null,null,null,null,null,null,"Автономна Республіка Крим","Зимине"]
[null,null,null,null,null,null,null,null,null,null,null,null,null,null,null,"20.5","Виробництво іншої хімічної продукції",null,null,null,null,null,null,null,null,null,null,null,null,null,null,null,null,null,null,null,null,null,null,null,null,null,null,null,null,"Автономна Республіка Крим","Знам'янка"]
[null,null,null,null,null,null,null,null,null,null,null,null,null,null,null,"20.51","Виробництво вибухових речовин",null,null,null,null,null,null,null,null,null,null,null,null,null,null,null,null,null,null,null,null,null,null,null,null,null,null,null,null,"Автономна Республіка Крим","Знам'янка (Орлівської)"]
[null,null,null,null,null,null,null,null,null,null,null,null,null,null,null,"20.52","Виробництво клеїв",null,null,null,null,null,null,null,null,null,null,null,null,null,null,null,null,null,null,null,null,null,null,null,null,null,null,null,null,"Автономна Республіка Крим","Знам'янське"]
[null,null,null,null,null,null,null,null,null,null,null,null,null,null,null,"20.53","Виробництво ефірних олій",null,null,null,null,null,null,null,null,null,null,null,null,null,null,null,null,null,null,null,null,null,null,null,null,null,null,null,null,"Автономна Республіка Крим","Золоте"]
[null,null,null,null,null,null,null,null,null,null,null,null,null,null,null,"20.59","Виробництво іншої хімічної продукції, н.в.і.у.",null,null,null,null,null,null,null,null,null,null,null,null,null,null,null,null,null,null,null,null,null,null,null,null,null,null,null,null,"Автономна Республіка Крим","Золоте  Поле"]
[null,null,null,null,null,null,null,null,null,null,null,null,null,null,null,"20.6","Виробництво штучних і синтетичних волокон",null,null,null,null,null,null,null,null,null,null,null,null,null,null,null,null,null,null,null,null,null,null,null,null,null,null,null,null,"Автономна Республіка Крим","Зоркіне"]
[null,null,null,null,null,null,null,null,null,null,null,null,null,null,null,"20.60","Виробництво штучних і синтетичних волокон",null,null,null,null,null,null,null,null,null,null,null,null,null,null,null,null,null,null,null,null,null,null,null,null,null,null,null,null,"Автономна Республіка Крим","Зоря"]
[null,null,null,null,null,null,null,null,null,null,null,null,null,null,null,"21","Виробництво основних фармацевтичних продуктів і фармацевтичних препаратів",null,null,null,null,null,null,null,null,null,null,null,null,null,null,null,null,null,null,null,null,null,null,null,null,null,null,null,null,"Автономна Республіка Крим","Зоряне"]
[null,null,null,null,null,null,null,null,null,null,null,null,null,null,null,"21.1","Виробництво основних фармацевтичних продуктів",null,null,null,null,null,null,null,null,null,null,null,null,null,null,null,null,null,null,null,null,null,null,null,null,null,null,null,null,"Автономна Республіка Крим","Зубакіне"]
[null,null,null,null,null,null,null,null,null,null,null,null,null,null,null,"21.10","Виробництво основних фармацевтичних продуктів",null,null,null,null,null,null,null,null,null,null,null,null,null,null,null,null,null,null,null,null,null,null,null,null,null,null,null,null,"Автономна Республіка Крим","Зуя"]
[null,null,null,null,null,null,null,null,null,null,null,null,null,null,null,"21.2","Виробництво фармацевтичних препаратів і матеріалів",null,null,null,null,null,null,null,null,null,null,null,null,null,null,null,null,null,null,null,null,null,null,null,null,null,null,null,null,"Автономна Республіка Крим","Іванівка"]
[null,null,null,null,null,null,null,null,null,null,null,null,null,null,null,"21.20","Виробництво фармацевтичних препаратів і матеріалів",null,null,null,null,null,null,null,null,null,null,null,null,null,null,null,null,null,null,null,null,null,null,null,null,null,null,null,null,"Автономна Республіка Крим","Ізвесткове"]
[null,null,null,null,null,null,null,null,null,null,null,null,null,null,null,"22","Виробництво гумових і пластмасових виробів",null,null,null,null,null,null,null,null,null,null,null,null,null,null,null,null,null,null,null,null,null,null,null,null,null,null,null,null,"Автономна Республіка Крим","Ізобільне"]
[null,null,null,null,null,null,null,null,null,null,null,null,null,null,null,"22.1","Виробництво гумових виробів",null,null,null,null,null,null,null,null,null,null,null,null,null,null,null,null,null,null,null,null,null,null,null,null,null,null,null,null,"Автономна Республіка Крим","Ізумрудне"]
[null,null,null,null,null,null,null,null,null,null,null,null,null,null,null,"22.11","Виробництво гумових шин, покришок і камер; відновлення протектора гумових шин і покришок",null,null,null,null,null,null,null,null,null,null,null,null,null,null,null,null,null,null,null,null,null,null,null,null,null,null,null,null,"Автономна Республіка Крим","Ізюмівка"]
[null,null,null,null,null,null,null,null,null,null,null,null,null,null,null,"22.19","Виробництво інших гумових виробів",null,null,null,null,null,null,null,null,null,null,null,null,null,null,null,null,null,null,null,null,null,null,null,null,null,null,null,null,"Автономна Республіка Крим","Іллінка (Ільїнської)"]
[null,null,null,null,null,null,null,null,null,null,null,null,null,null,null,"22.2","Виробництво пластмасових виробів",null,null,null,null,null,null,null,null,null,null,null,null,null,null,null,null,null,null,null,null,null,null,null,null,null,null,null,null,"Автономна Республіка Крим","Іллінка (Сизівська)"]
[null,null,null,null,null,null,null,null,null,null,null,null,null,null,null,"22.21","Виробництво плит, листів, труб і профілів із пластмас",null,null,null,null,null,null,null,null,null,null,null,null,null,null,null,null,null,null,null,null,null,null,null,null,null,null,null,null,"Автономна Республіка Крим","Іллічеве"]
[null,null,null,null,null,null,null,null,null,null,null,null,null,null,null,"22.22","Виробництво тари з пластмас",null,null,null,null,null,null,null,null,null,null,null,null,null,null,null,null,null,null,null,null,null,null,null,null,null,null,null,null,"Автономна Республіка Крим","Іскра"]
[null,null,null,null,null,null,null,null,null,null,null,null,null,null,null,"22.23","Виробництво будівельних виробів із пластмас",null,null,null,null,null,null,null,null,null,null,null,null,null,null,null,null,null,null,null,null,null,null,null,null,null,null,null,null,"Автономна Республіка Крим","Істочне"]
[null,null,null,null,null,null,null,null,null,null,null,null,null,null,null,"22.29","Виробництво інших виробів із пластмас",null,null,null,null,null,null,null,null,null,null,null,null,null,null,null,null,null,null,null,null,null,null,null,null,null,null,null,null,"Автономна Республіка Крим","Істочне (Воїнської)"]
[null,null,null,null,null,null,null,null,null,null,null,null,null,null,null,"23","Виробництво іншої неметалевої мінеральної продукції",null,null,null,null,null,null,null,null,null,null,null,null,null,null,null,null,null,null,null,null,null,null,null,null,null,null,null,null,"Автономна Республіка Крим","Ішунь (Ішуньської)"]
[null,null,null,null,null,null,null,null,null,null,null,null,null,null,null,"23.1","Виробництво скла та виробів зі скла",null,null,null,null,null,null,null,null,null,null,null,null,null,null,null,null,null,null,null,null,null,null,null,null,null,null,null,null,"Автономна Республіка Крим","Казанки"]
[null,null,null,null,null,null,null,null,null,null,null,null,null,null,null,"23.11","Виробництво листового скла",null,null,null,null,null,null,null,null,null,null,null,null,null,null,null,null,null,null,null,null,null,null,null,null,null,null,null,null,"Автономна Республіка Крим","Калинівка"]
[null,null,null,null,null,null,null,null,null,null,null,null,null,null,null,"23.12","Формування й оброблення листового скла",null,null,null,null,null,null,null,null,null,null,null,null,null,null,null,null,null,null,null,null,null,null,null,null,null,null,null,null,"Автономна Республіка Крим","Калинівка (Оленівська)"]
[null,null,null,null,null,null,null,null,null,null,null,null,null,null,null,"23.13","Виробництво порожнистого скла",null,null,null,null,null,null,null,null,null,null,null,null,null,null,null,null,null,null,null,null,null,null,null,null,null,null,null,null,"Автономна Республіка Крим","Калініне"]
[null,null,null,null,null,null,null,null,null,null,null,null,null,null,null,"23.14","Виробництво скловолокна",null,null,null,null,null,null,null,null,null,null,null,null,null,null,null,null,null,null,null,null,null,null,null,null,null,null,null,null,"Автономна Республіка Крим","Калініне (Калінінської)"]
[null,null,null,null,null,null,null,null,null,null,null,null,null,null,null,"23.19","Виробництво й оброблення інших скляних виробів, у тому числі технічних",null,null,null,null,null,null,null,null,null,null,null,null,null,null,null,null,null,null,null,null,null,null,null,null,null,null,null,null,"Автономна Республіка Крим","Каменоломня"]
[null,null,null,null,null,null,null,null,null,null,null,null,null,null,null,"23.2","Виробництво вогнетривких виробів",null,null,null,null,null,null,null,null,null,null,null,null,null,null,null,null,null,null,null,null,null,null,null,null,null,null,null,null,"Автономна Республіка Крим","Кам'янка (Октябрьської)"]
[null,null,null,null,null,null,null,null,null,null,null,null,null,null,null,"23.20","Виробництво вогнетривких виробів",null,null,null,null,null,null,null,null,null,null,null,null,null,null,null,null,null,null,null,null,null,null,null,null,null,null,null,null,"Автономна Республіка Крим","Кам'янське"]
[null,null,null,null,null,null,null,null,null,null,null,null,null,null,null,"23.3","Виробництво будівельних матеріалів із глини",null,null,null,null,null,null,null,null,null,null,null,null,null,null,null,null,null,null,null,null,null,null,null,null,null,null,null,null,"Автономна Республіка Крим","Карасівка"]
[null,null,null,null,null,null,null,null,null,null,null,null,null,null,null,"23.31","Виробництво керамічних плиток і плит",null,null,null,null,null,null,null,null,null,null,null,null,null,null,null,null,null,null,null,null,null,null,null,null,null,null,null,null,"Автономна Республіка Крим","Кар'єрне"]
[null,null,null,null,null,null,null,null,null,null,null,null,null,null,null,"23.32","Виробництво цегли, черепиці та інших будівельних виробів із випаленої глини",null,null,null,null,null,null,null,null,null,null,null,null,null,null,null,null,null,null,null,null,null,null,null,null,null,null,null,null,"Автономна Республіка Крим","Карпівка"]
[null,null,null,null,null,null,null,null,null,null,null,null,null,null,null,"23.4","Виробництво іншої продукції з фарфору та кераміки",null,null,null,null,null,null,null,null,null,null,null,null,null,null,null,null,null,null,null,null,null,null,null,null,null,null,null,null,"Автономна Республіка Крим","Карпова Балка (Філатівської)"]
[null,null,null,null,null,null,null,null,null,null,null,null,null,null,null,"23.41","Виробництво господарських і декоративних керамічних виробів",null,null,null,null,null,null,null,null,null,null,null,null,null,null,null,null,null,null,null,null,null,null,null,null,null,null,null,null,"Автономна Республіка Крим","Кацівелі"]
[null,null,null,null,null,null,null,null,null,null,null,null,null,null,null,"23.42","Виробництво керамічних санітарно-технічних виробів",null,null,null,null,null,null,null,null,null,null,null,null,null,null,null,null,null,null,null,null,null,null,null,null,null,null,null,null,"Автономна Республіка Крим","Каштани"]
[null,null,null,null,null,null,null,null,null,null,null,null,null,null,null,"23.43","Виробництво керамічних електроізоляторів та ізоляційної арматури",null,null,null,null,null,null,null,null,null,null,null,null,null,null,null,null,null,null,null,null,null,null,null,null,null,null,null,null,"Автономна Республіка Крим","Каштанівка (Серебрянська сільська рада)"]
[null,null,null,null,null,null,null,null,null,null,null,null,null,null,null,"23.44","Виробництво інших керамічних виробів технічного призначення",null,null,null,null,null,null,null,null,null,null,null,null,null,null,null,null,null,null,null,null,null,null,null,null,null,null,null,null,"Автономна Республіка Крим","Каштанівка (Черновської)"]
[null,null,null,null,null,null,null,null,null,null,null,null,null,null,null,"23.49","Виробництво інших керамічних виробів",null,null,null,null,null,null,null,null,null,null,null,null,null,null,null,null,null,null,null,null,null,null,null,null,null,null,null,null,"Автономна Республіка Крим","Каштанове"]
[null,null,null,null,null,null,null,null,null,null,null,null,null,null,null,"23.5","Виробництво цементу, вапна та гіпсових сумішей",null,null,null,null,null,null,null,null,null,null,null,null,null,null,null,null,null,null,null,null,null,null,null,null,null,null,null,null,"Автономна Республіка Крим","Керч"]
[null,null,null,null,null,null,null,null,null,null,null,null,null,null,null,"23.51","Виробництво цементу",null,null,null,null,null,null,null,null,null,null,null,null,null,null,null,null,null,null,null,null,null,null,null,null,null,null,null,null,"Автономна Республіка Крим","Кизилівка"]
[null,null,null,null,null,null,null,null,null,null,null,null,null,null,null,"23.52","Виробництво вапна та гіпсових сумішей",null,null,null,null,null,null,null,null,null,null,null,null,null,null,null,null,null,null,null,null,null,null,null,null,null,null,null,null,"Автономна Республіка Крим","Кипарисне"]
[null,null,null,null,null,null,null,null,null,null,null,null,null,null,null,"23.6","Виготовлення виробів із бетону, гіпсу та цементу",null,null,null,null,null,null,null,null,null,null,null,null,null,null,null,null,null,null,null,null,null,null,null,null,null,null,null,null,"Автономна Республіка Крим","Кирпичне"]
[null,null,null,null,null,null,null,null,null,null,null,null,null,null,null,"23.61","Виготовлення виробів із бетону для будівництва",null,null,null,null,null,null,null,null,null,null,null,null,null,null,null,null,null,null,null,null,null,null,null,null,null,null,null,null,"Автономна Республіка Крим","Кирсанівка"]
[null,null,null,null,null,null,null,null,null,null,null,null,null,null,null,"23.62","Виготовлення виробів із гіпсу для будівництва",null,null,null,null,null,null,null,null,null,null,null,null,null,null,null,null,null,null,null,null,null,null,null,null,null,null,null,null,"Автономна Республіка Крим","Кіндратове"]
[null,null,null,null,null,null,null,null,null,null,null,null,null,null,null,"23.63","Виробництво бетонних розчинів, готових для використання",null,null,null,null,null,null,null,null,null,null,null,null,null,null,null,null,null,null,null,null,null,null,null,null,null,null,null,null,"Автономна Республіка Крим","Кіровське"]
[null,null,null,null,null,null,null,null,null,null,null,null,null,null,null,"23.64","Виробництво сухих будівельних сумішей",null,null,null,null,null,null,null,null,null,null,null,null,null,null,null,null,null,null,null,null,null,null,null,null,null,null,null,null,"Автономна Республіка Крим","Кісточківка"]
[null,null,null,null,null,null,null,null,null,null,null,null,null,null,null,"23.65","Виготовлення виробів із волокнистого цементу",null,null,null,null,null,null,null,null,null,null,null,null,null,null,null,null,null,null,null,null,null,null,null,null,null,null,null,null,"Автономна Республіка Крим","Клепиніне"]
[null,null,null,null,null,null,null,null,null,null,null,null,null,null,null,"23.69","Виробництво інших виробів із бетону, гіпсу та цементу",null,null,null,null,null,null,null,null,null,null,null,null,null,null,null,null,null,null,null,null,null,null,null,null,null,null,null,null,"Автономна Республіка Крим","Климове"]
[null,null,null,null,null,null,null,null,null,null,null,null,null,null,null,"23.7","Різання, оброблення та оздоблення декоративного та будівельного каменю",null,null,null,null,null,null,null,null,null,null,null,null,null,null,null,null,null,null,null,null,null,null,null,null,null,null,null,null,"Автономна Республіка Крим","Клинівка"]
[null,null,null,null,null,null,null,null,null,null,null,null,null,null,null,"23.70","Різання, оброблення та оздоблення декоративного та будівельного каменю",null,null,null,null,null,null,null,null,null,null,null,null,null,null,null,null,null,null,null,null,null,null,null,null,null,null,null,null,"Автономна Республіка Крим","Ключі"]
[null,null,null,null,null,null,null,null,null,null,null,null,null,null,null,"23.9","Виробництво абразивних виробів і неметалевих мінеральних виробів, н.в.і.у.",null,null,null,null,null,null,null,null,null,null,null,null,null,null,null,null,null,null,null,null,null,null,null,null,null,null,null,null,"Автономна Республіка Крим","Ключове"]
[null,null,null,null,null,null,null,null,null,null,null,null,null,null,null,"23.91","Виробництво абразивних виробів",null,null,null,null,null,null,null,null,null,null,null,null,null,null,null,null,null,null,null,null,null,null,null,null,null,null,null,null,"Автономна Республіка Крим","Ковильне"]
[null,null,null,null,null,null,null,null,null,null,null,null,null,null,null,"23.99","Виробництво неметалевих мінеральних виробів, н.в.і.у.",null,null,null,null,null,null,null,null,null,null,null,null,null,null,null,null,null,null,null,null,null,null,null,null,null,null,null,null,"Автономна Республіка Крим","Ковильне (Ковильнівська сільська рада)"]
[null,null,null,null,null,null,null,null,null,null,null,null,null,null,null,"24","Металургійне виробництво",null,null,null,null,null,null,null,null,null,null,null,null,null,null,null,null,null,null,null,null,null,null,null,null,null,null,null,null,"Автономна Республіка Крим","Коврове"]
[null,null,null,null,null,null,null,null,null,null,null,null,null,null,null,"24.1","Виробництво чавуну, сталі та феросплавів",null,null,null,null,null,null,null,null,null,null,null,null,null,null,null,null,null,null,null,null,null,null,null,null,null,null,null,null,"Автономна Республіка Крим","Коктебель"]
[null,null,null,null,null,null,null,null,null,null,null,null,null,null,null,"24.10","Виробництво чавуну, сталі та феросплавів",null,null,null,null,null,null,null,null,null,null,null,null,null,null,null,null,null,null,null,null,null,null,null,null,null,null,null,null,"Автономна Республіка Крим","Колодязне"]
[null,null,null,null,null,null,null,null,null,null,null,null,null,null,null,"24.2","Виробництво труб, порожнистих профілів і фітингів зі сталі",null,null,null,null,null,null,null,null,null,null,null,null,null,null,null,null,null,null,null,null,null,null,null,null,null,null,null,null,"Автономна Республіка Крим","Коломенське"]
[null,null,null,null,null,null,null,null,null,null,null,null,null,null,null,"24.20","Виробництво труб, порожнистих профілів і фітингів зі сталі",null,null,null,null,null,null,null,null,null,null,null,null,null,null,null,null,null,null,null,null,null,null,null,null,null,null,null,null,"Автономна Республіка Крим","Колоски"]
[null,null,null,null,null,null,null,null,null,null,null,null,null,null,null,"24.3","Виробництво іншої продукції первинного оброблення сталі",null,null,null,null,null,null,null,null,null,null,null,null,null,null,null,null,null,null,null,null,null,null,null,null,null,null,null,null,"Автономна Республіка Крим","Кольцове"]
[null,null,null,null,null,null,null,null,null,null,null,null,null,null,null,"24.31","Холодне волочіння прутків і профілів",null,null,null,null,null,null,null,null,null,null,null,null,null,null,null,null,null,null,null,null,null,null,null,null,null,null,null,null,"Автономна Республіка Крим","Кольчугине"]
[null,null,null,null,null,null,null,null,null,null,null,null,null,null,null,"24.32","Холодний прокат вузької штаби",null,null,null,null,null,null,null,null,null,null,null,null,null,null,null,null,null,null,null,null,null,null,null,null,null,null,null,null,"Автономна Республіка Крим","Комарівка"]
[null,null,null,null,null,null,null,null,null,null,null,null,null,null,null,"24.33","Холодне штампування та гнуття",null,null,null,null,null,null,null,null,null,null,null,null,null,null,null,null,null,null,null,null,null,null,null,null,null,null,null,null,"Автономна Республіка Крим","Комишинка"]
[null,null,null,null,null,null,null,null,null,null,null,null,null,null,null,"24.34","Холодне волочіння дроту",null,null,null,null,null,null,null,null,null,null,null,null,null,null,null,null,null,null,null,null,null,null,null,null,null,null,null,null,"Автономна Республіка Крим","Комишне (Руч'ївська сільська рада)"]
[null,null,null,null,null,null,null,null,null,null,null,null,null,null,null,"24.4","Виробництво дорогоцінних та інших кольорових металів",null,null,null,null,null,null,null,null,null,null,null,null,null,null,null,null,null,null,null,null,null,null,null,null,null,null,null,null,"Автономна Республіка Крим","Комсомольське"]
[null,null,null,null,null,null,null,null,null,null,null,null,null,null,null,"24.41","Виробництво дорогоцінних металів",null,null,null,null,null,null,null,null,null,null,null,null,null,null,null,null,null,null,null,null,null,null,null,null,null,null,null,null,"Автономна Республіка Крим","Комунари"]
[null,null,null,null,null,null,null,null,null,null,null,null,null,null,null,"24.42","Виробництво алюмінію",null,null,null,null,null,null,null,null,null,null,null,null,null,null,null,null,null,null,null,null,null,null,null,null,null,null,null,null,"Автономна Республіка Крим","Комунарне (Руч'ївська сільська рада)"]
[null,null,null,null,null,null,null,null,null,null,null,null,null,null,null,"24.43","Виробництво свинцю, цинку й олова",null,null,null,null,null,null,null,null,null,null,null,null,null,null,null,null,null,null,null,null,null,null,null,null,null,null,null,null,"Автономна Республіка Крим","Копані"]
[null,null,null,null,null,null,null,null,null,null,null,null,null,null,null,"24.44","Виробництво міді",null,null,null,null,null,null,null,null,null,null,null,null,null,null,null,null,null,null,null,null,null,null,null,null,null,null,null,null,"Автономна Республіка Крим","Кореїз"]
[null,null,null,null,null,null,null,null,null,null,null,null,null,null,null,"24.45","Виробництво інших кольорових металів",null,null,null,null,null,null,null,null,null,null,null,null,null,null,null,null,null,null,null,null,null,null,null,null,null,null,null,null,"Автономна Республіка Крим","Корінне"]
[null,null,null,null,null,null,null,null,null,null,null,null,null,null,null,"24.46","Виробництво ядерних матеріалів",null,null,null,null,null,null,null,null,null,null,null,null,null,null,null,null,null,null,null,null,null,null,null,null,null,null,null,null,"Автономна Республіка Крим","Кормове (Кормовської)"]
[null,null,null,null,null,null,null,null,null,null,null,null,null,null,null,"24.5","Лиття металів",null,null,null,null,null,null,null,null,null,null,null,null,null,null,null,null,null,null,null,null,null,null,null,null,null,null,null,null,"Автономна Республіка Крим","Корніївка"]
[null,null,null,null,null,null,null,null,null,null,null,null,null,null,null,"24.51","Лиття чавуну",null,null,null,null,null,null,null,null,null,null,null,null,null,null,null,null,null,null,null,null,null,null,null,null,null,null,null,null,"Автономна Республіка Крим","Корольове"]
[null,null,null,null,null,null,null,null,null,null,null,null,null,null,null,"24.52","Лиття сталі",null,null,null,null,null,null,null,null,null,null,null,null,null,null,null,null,null,null,null,null,null,null,null,null,null,null,null,null,"Автономна Республіка Крим","Костиріне"]
[null,null,null,null,null,null,null,null,null,null,null,null,null,null,null,"24.53","Лиття легких кольорових металів",null,null,null,null,null,null,null,null,null,null,null,null,null,null,null,null,null,null,null,null,null,null,null,null,null,null,null,null,"Автономна Республіка Крим","Костянтинівка"]
[null,null,null,null,null,null,null,null,null,null,null,null,null,null,null,"24.54","Лиття інших кольорових металів",null,null,null,null,null,null,null,null,null,null,null,null,null,null,null,null,null,null,null,null,null,null,null,null,null,null,null,null,"Автономна Республіка Крим","Котельникове"]
[null,null,null,null,null,null,null,null,null,null,null,null,null,null,null,"25","Виробництво готових металевих виробів, крім машин і устатковання",null,null,null,null,null,null,null,null,null,null,null,null,null,null,null,null,null,null,null,null,null,null,null,null,null,null,null,null,"Автономна Республіка Крим","Котовське (Славнівська сільська рада)"]
[null,null,null,null,null,null,null,null,null,null,null,null,null,null,null,"25.1","Виробництво будівельних металевих конструкцій і виробів",null,null,null,null,null,null,null,null,null,null,null,null,null,null,null,null,null,null,null,null,null,null,null,null,null,null,null,null,"Автономна Республіка Крим","Кочергіне"]
[null,null,null,null,null,null,null,null,null,null,null,null,null,null,null,"25.11","Виробництво будівельних металевих конструкцій і частин конструкцій",null,null,null,null,null,null,null,null,null,null,null,null,null,null,null,null,null,null,null,null,null,null,null,null,null,null,null,null,"Автономна Республіка Крим","Крайнє (Крайненська)"]
[null,null,null,null,null,null,null,null,null,null,null,null,null,null,null,"25.12","Виробництво металевих дверей і вікон",null,null,null,null,null,null,null,null,null,null,null,null,null,null,null,null,null,null,null,null,null,null,null,null,null,null,null,null,"Автономна Республіка Крим","Красна Долина"]
[null,null,null,null,null,null,null,null,null,null,null,null,null,null,null,"25.2","Виробництво металевих баків, резервуарів і контейнерів",null,null,null,null,null,null,null,null,null,null,null,null,null,null,null,null,null,null,null,null,null,null,null,null,null,null,null,null,"Автономна Республіка Крим","Красна Зорька"]
[null,null,null,null,null,null,null,null,null,null,null,null,null,null,null,"25.21","Виробництво радіаторів і  котлів центрального опалення",null,null,null,null,null,null,null,null,null,null,null,null,null,null,null,null,null,null,null,null,null,null,null,null,null,null,null,null,"Автономна Республіка Крим","Красна Поляна"]
[null,null,null,null,null,null,null,null,null,null,null,null,null,null,null,"25.29","Виробництво інших металевих баків, резервуарів і контейнерів",null,null,null,null,null,null,null,null,null,null,null,null,null,null,null,null,null,null,null,null,null,null,null,null,null,null,null,null,"Автономна Республіка Крим","Красна Слобода"]
[null,null,null,null,null,null,null,null,null,null,null,null,null,null,null,"25.3","Виробництво парових котлів, крім котлів центрального опалення",null,null,null,null,null,null,null,null,null,null,null,null,null,null,null,null,null,null,null,null,null,null,null,null,null,null,null,null,"Автономна Республіка Крим","Красний Мак"]
[null,null,null,null,null,null,null,null,null,null,null,null,null,null,null,"25.30","Виробництво парових котлів, крім котлів центрального опалення",null,null,null,null,null,null,null,null,null,null,null,null,null,null,null,null,null,null,null,null,null,null,null,null,null,null,null,null,"Автономна Республіка Крим","Красний Партизан"]
[null,null,null,null,null,null,null,null,null,null,null,null,null,null,null,"25.4","Виробництво зброї та боєприпасів",null,null,null,null,null,null,null,null,null,null,null,null,null,null,null,null,null,null,null,null,null,null,null,null,null,null,null,null,"Автономна Республіка Крим","Краснівка"]
[null,null,null,null,null,null,null,null,null,null,null,null,null,null,null,"25.40","Виробництво зброї та боєприпасів",null,null,null,null,null,null,null,null,null,null,null,null,null,null,null,null,null,null,null,null,null,null,null,null,null,null,null,null,"Автономна Республіка Крим","Красноармійське (Зиминська сільська рада)"]
[null,null,null,null,null,null,null,null,null,null,null,null,null,null,null,"25.5","Кування, пресування, штампування, профілювання; порошкова металургія",null,null,null,null,null,null,null,null,null,null,null,null,null,null,null,null,null,null,null,null,null,null,null,null,null,null,null,null,"Автономна Республіка Крим","Красноармійське (Красноармійська)"]
[null,null,null,null,null,null,null,null,null,null,null,null,null,null,null,"25.50","Кування, пресування, штампування, профілювання; порошкова металургія",null,null,null,null,null,null,null,null,null,null,null,null,null,null,null,null,null,null,null,null,null,null,null,null,null,null,null,null,"Автономна Республіка Крим","Красногвардійське"]
[null,null,null,null,null,null,null,null,null,null,null,null,null,null,null,"25.6","Оброблення металів та нанесення покриття на метали; механічне оброблення металевих виробів",null,null,null,null,null,null,null,null,null,null,null,null,null,null,null,null,null,null,null,null,null,null,null,null,null,null,null,null,"Автономна Республіка Крим","Красногірка"]
[null,null,null,null,null,null,null,null,null,null,null,null,null,null,null,"25.61","Оброблення металів та нанесення покриття на метали",null,null,null,null,null,null,null,null,null,null,null,null,null,null,null,null,null,null,null,null,null,null,null,null,null,null,null,null,"Автономна Республіка Крим","Красногірське"]
[null,null,null,null,null,null,null,null,null,null,null,null,null,null,null,"25.62","Механічне оброблення металевих виробів",null,null,null,null,null,null,null,null,null,null,null,null,null,null,null,null,null,null,null,null,null,null,null,null,null,null,null,null,"Автономна Республіка Крим","Краснодарка"]
[null,null,null,null,null,null,null,null,null,null,null,null,null,null,null,"25.7","Виробництво столових приборів, інструментів і металевих виробів загального призначення",null,null,null,null,null,null,null,null,null,null,null,null,null,null,null,null,null,null,null,null,null,null,null,null,null,null,null,null,"Автономна Республіка Крим","Краснодольне"]
[null,null,null,null,null,null,null,null,null,null,null,null,null,null,null,"25.71","Виробництво столових приборів",null,null,null,null,null,null,null,null,null,null,null,null,null,null,null,null,null,null,null,null,null,null,null,null,null,null,null,null,"Автономна Республіка Крим","Краснознам'янка"]
[null,null,null,null,null,null,null,null,null,null,null,null,null,null,null,"25.72","Виробництво замків і дверних петель",null,null,null,null,null,null,null,null,null,null,null,null,null,null,null,null,null,null,null,null,null,null,null,null,null,null,null,null,"Автономна Республіка Крим","Краснокам'янка"]
[null,null,null,null,null,null,null,null,null,null,null,null,null,null,null,"25.73","Виробництво інструментів",null,null,null,null,null,null,null,null,null,null,null,null,null,null,null,null,null,null,null,null,null,null,null,null,null,null,null,null,"Автономна Республіка Крим","Краснолісся"]
[null,null,null,null,null,null,null,null,null,null,null,null,null,null,null,"25.9","Виробництво інших готових металевих виробів",null,null,null,null,null,null,null,null,null,null,null,null,null,null,null,null,null,null,null,null,null,null,null,null,null,null,null,null,"Автономна Республіка Крим","Красноперекопськ"]
[null,null,null,null,null,null,null,null,null,null,null,null,null,null,null,"25.91","Виробництво сталевих бочок і подібних контейнерів",null,null,null,null,null,null,null,null,null,null,null,null,null,null,null,null,null,null,null,null,null,null,null,null,null,null,null,null,"Автономна Республіка Крим","Красноселівка"]
[null,null,null,null,null,null,null,null,null,null,null,null,null,null,null,"25.92","Виробництво легких металевих паковань",null,null,null,null,null,null,null,null,null,null,null,null,null,null,null,null,null,null,null,null,null,null,null,null,null,null,null,null,"Автономна Республіка Крим","Красносільське"]
[null,null,null,null,null,null,null,null,null,null,null,null,null,null,null,"25.93","Виробництво виробів із дроту, ланцюгів і пружин",null,null,null,null,null,null,null,null,null,null,null,null,null,null,null,null,null,null,null,null,null,null,null,null,null,null,null,null,"Автономна Республіка Крим","Красносільське (Окунівська)"]
[null,null,null,null,null,null,null,null,null,null,null,null,null,null,null,"25.94","Виробництво кріпильних і ґвинтонарізних виробів",null,null,null,null,null,null,null,null,null,null,null,null,null,null,null,null,null,null,null,null,null,null,null,null,null,null,null,null,"Автономна Республіка Крим","Краснофлотське"]
[null,null,null,null,null,null,null,null,null,null,null,null,null,null,null,"25.99","Виробництво інших готових металевих виробів, н.в.і.у.",null,null,null,null,null,null,null,null,null,null,null,null,null,null,null,null,null,null,null,null,null,null,null,null,null,null,null,null,"Автономна Республіка Крим","Красноярське"]
[null,null,null,null,null,null,null,null,null,null,null,null,null,null,null,"26","Виробництво комп'ютерів, електронної та оптичної продукції",null,null,null,null,null,null,null,null,null,null,null,null,null,null,null,null,null,null,null,null,null,null,null,null,null,null,null,null,"Автономна Республіка Крим","Кремнівка"]
[null,null,null,null,null,null,null,null,null,null,null,null,null,null,null,"26.1","Виробництво електронних компонентів і плат",null,null,null,null,null,null,null,null,null,null,null,null,null,null,null,null,null,null,null,null,null,null,null,null,null,null,null,null,"Автономна Республіка Крим","Крестянівка (Крестянівскої)"]
[null,null,null,null,null,null,null,null,null,null,null,null,null,null,null,"26.11","Виробництво електронних компонентів",null,null,null,null,null,null,null,null,null,null,null,null,null,null,null,null,null,null,null,null,null,null,null,null,null,null,null,null,"Автономна Республіка Крим","Кривцове"]
[null,null,null,null,null,null,null,null,null,null,null,null,null,null,null,"26.12","Виробництво змонтованих електронних плат",null,null,null,null,null,null,null,null,null,null,null,null,null,null,null,null,null,null,null,null,null,null,null,null,null,null,null,null,"Автономна Республіка Крим","Криловка (Степновської)"]
[null,null,null,null,null,null,null,null,null,null,null,null,null,null,null,"26.2","Виробництво комп'ютерів і периферійного устатковання",null,null,null,null,null,null,null,null,null,null,null,null,null,null,null,null,null,null,null,null,null,null,null,null,null,null,null,null,"Автономна Республіка Крим","Криловка (Штормівська)"]
[null,null,null,null,null,null,null,null,null,null,null,null,null,null,null,"26.20","Виробництво комп'ютерів і периферійного устатковання",null,null,null,null,null,null,null,null,null,null,null,null,null,null,null,null,null,null,null,null,null,null,null,null,null,null,null,null,"Автономна Республіка Крим","Кримка"]
[null,null,null,null,null,null,null,null,null,null,null,null,null,null,null,"26.3","Виробництво обладнання зв'язку",null,null,null,null,null,null,null,null,null,null,null,null,null,null,null,null,null,null,null,null,null,null,null,null,null,null,null,null,"Автономна Республіка Крим","Кримська Роза"]
[null,null,null,null,null,null,null,null,null,null,null,null,null,null,null,"26.30","Виробництво обладнання зв'язку",null,null,null,null,null,null,null,null,null,null,null,null,null,null,null,null,null,null,null,null,null,null,null,null,null,null,null,null,"Автономна Республіка Крим","Кримське"]
[null,null,null,null,null,null,null,null,null,null,null,null,null,null,null,"26.4","Виробництво електронної апаратури побутового призначення для приймання, записування та відтворювання звуку й зображення",null,null,null,null,null,null,null,null,null,null,null,null,null,null,null,null,null,null,null,null,null,null,null,null,null,null,null,null,"Автономна Республіка Крим","Кринички"]
[null,null,null,null,null,null,null,null,null,null,null,null,null,null,null,"26.40","Виробництво електронної апаратури побутового призначення для приймання, записування та відтворювання звуку й зображення",null,null,null,null,null,null,null,null,null,null,null,null,null,null,null,null,null,null,null,null,null,null,null,null,null,null,null,null,"Автономна Республіка Крим","Кріпке (Вишнівської)"]
[null,null,null,null,null,null,null,null,null,null,null,null,null,null,null,"26.5","Виробництво інструментів і обладнання для вимірювання, дослідження та навігації; виробництво годинників",null,null,null,null,null,null,null,null,null,null,null,null,null,null,null,null,null,null,null,null,null,null,null,null,null,null,null,null,"Автономна Республіка Крим","Кропоткіне (Чернишівська сільська рада)"]
[null,null,null,null,null,null,null,null,null,null,null,null,null,null,null,"26.51","Виробництво інструментів і обладнання для вимірювання, дослідження та навігації",null,null,null,null,null,null,null,null,null,null,null,null,null,null,null,null,null,null,null,null,null,null,null,null,null,null,null,null,"Автономна Республіка Крим","Кубанське"]
[null,null,null,null,null,null,null,null,null,null,null,null,null,null,null,"26.52","Виробництво годинників",null,null,null,null,null,null,null,null,null,null,null,null,null,null,null,null,null,null,null,null,null,null,null,null,null,null,null,null,"Автономна Республіка Крим","Кудрине"]
[null,null,null,null,null,null,null,null,null,null,null,null,null,null,null,"26.6","Виробництво радіологічного, електромедичного й електротерапевтичного устатковання",null,null,null,null,null,null,null,null,null,null,null,null,null,null,null,null,null,null,null,null,null,null,null,null,null,null,null,null,"Автономна Республіка Крим","Кузнецьке"]
[null,null,null,null,null,null,null,null,null,null,null,null,null,null,null,"26.60","Виробництво радіологічного, електромедичного й електротерапевтичного устатковання",null,null,null,null,null,null,null,null,null,null,null,null,null,null,null,null,null,null,null,null,null,null,null,null,null,null,null,null,"Автономна Республіка Крим","Куйбишеве"]
[null,null,null,null,null,null,null,null,null,null,null,null,null,null,null,"26.7","Виробництво оптичних приладів і фотографічного устатковання",null,null,null,null,null,null,null,null,null,null,null,null,null,null,null,null,null,null,null,null,null,null,null,null,null,null,null,null,"Автономна Республіка Крим","Кукурудзяне"]
[null,null,null,null,null,null,null,null,null,null,null,null,null,null,null,"26.70","Виробництво оптичних приладів і фотографічного устатковання",null,null,null,null,null,null,null,null,null,null,null,null,null,null,null,null,null,null,null,null,null,null,null,null,null,null,null,null,"Автономна Республіка Крим","Кукушкіне"]
[null,null,null,null,null,null,null,null,null,null,null,null,null,null,null,"26.8","Виробництво магнітних і оптичних носіїв даних",null,null,null,null,null,null,null,null,null,null,null,null,null,null,null,null,null,null,null,null,null,null,null,null,null,null,null,null,"Автономна Республіка Крим","Куликівка"]
[null,null,null,null,null,null,null,null,null,null,null,null,null,null,null,"26.80","Виробництво магнітних і оптичних носіїв даних",null,null,null,null,null,null,null,null,null,null,null,null,null,null,null,null,null,null,null,null,null,null,null,null,null,null,null,null,"Автономна Республіка Крим","Кумове (Ботанічна сільська рада)"]
[null,null,null,null,null,null,null,null,null,null,null,null,null,null,null,"27","Виробництво електричного устатковання",null,null,null,null,null,null,null,null,null,null,null,null,null,null,null,null,null,null,null,null,null,null,null,null,null,null,null,null,"Автономна Республіка Крим","Кунцеве"]
[null,null,null,null,null,null,null,null,null,null,null,null,null,null,null,"27.1","Виробництво електродвигунів, генераторів, трансформаторів, електророзподільчої та контрольної апаратури",null,null,null,null,null,null,null,null,null,null,null,null,null,null,null,null,null,null,null,null,null,null,null,null,null,null,null,null,"Автономна Республіка Крим","Купріне"]
[null,null,null,null,null,null,null,null,null,null,null,null,null,null,null,"27.11","Виробництво електродвигунів, генераторів і трансформаторів",null,null,null,null,null,null,null,null,null,null,null,null,null,null,null,null,null,null,null,null,null,null,null,null,null,null,null,null,"Автономна Республіка Крим","Курганне"]
[null,null,null,null,null,null,null,null,null,null,null,null,null,null,null,"27.12","Виробництво електророзподільчої та контрольної апаратури",null,null,null,null,null,null,null,null,null,null,null,null,null,null,null,null,null,null,null,null,null,null,null,null,null,null,null,null,"Автономна Республіка Крим","Курганне (Ільїнка)"]
[null,null,null,null,null,null,null,null,null,null,null,null,null,null,null,"27.2","Виробництво батарей і акумуляторів",null,null,null,null,null,null,null,null,null,null,null,null,null,null,null,null,null,null,null,null,null,null,null,null,null,null,null,null,"Автономна Республіка Крим","Курортне"]
[null,null,null,null,null,null,null,null,null,null,null,null,null,null,null,"27.20","Виробництво батарей і акумуляторів",null,null,null,null,null,null,null,null,null,null,null,null,null,null,null,null,null,null,null,null,null,null,null,null,null,null,null,null,"Автономна Республіка Крим","Курпати"]
[null,null,null,null,null,null,null,null,null,null,null,null,null,null,null,"27.3","Виробництво проводів, кабелів і електромонтажних пристроїв",null,null,null,null,null,null,null,null,null,null,null,null,null,null,null,null,null,null,null,null,null,null,null,null,null,null,null,null,"Автономна Республіка Крим","Курське"]
[null,null,null,null,null,null,null,null,null,null,null,null,null,null,null,"27.31","Виробництво волоконно-оптичних кабелів",null,null,null,null,null,null,null,null,null,null,null,null,null,null,null,null,null,null,null,null,null,null,null,null,null,null,null,null,"Автономна Республіка Крим","Лаванда"]
[null,null,null,null,null,null,null,null,null,null,null,null,null,null,null,"27.32","Виробництво інших видів електронних і електричних проводів та кабелів",null,null,null,null,null,null,null,null,null,null,null,null,null,null,null,null,null,null,null,null,null,null,null,null,null,null,null,null,"Автономна Республіка Крим","Лаврове"]
[null,null,null,null,null,null,null,null,null,null,null,null,null,null,null,"27.33","Виробництво електромонтажних пристроїв",null,null,null,null,null,null,null,null,null,null,null,null,null,null,null,null,null,null,null,null,null,null,null,null,null,null,null,null,"Автономна Республіка Крим","Лазарівка"]
[null,null,null,null,null,null,null,null,null,null,null,null,null,null,null,"27.4","Виробництво електричного освітлювального устатковання",null,null,null,null,null,null,null,null,null,null,null,null,null,null,null,null,null,null,null,null,null,null,null,null,null,null,null,null,"Автономна Республіка Крим","Лазурне"]
[null,null,null,null,null,null,null,null,null,null,null,null,null,null,null,"27.40","Виробництво електричного освітлювального устатковання",null,null,null,null,null,null,null,null,null,null,null,null,null,null,null,null,null,null,null,null,null,null,null,null,null,null,null,null,"Автономна Республіка Крим","Лебединка"]
[null,null,null,null,null,null,null,null,null,null,null,null,null,null,null,"27.5","Виробництво побутових приладів",null,null,null,null,null,null,null,null,null,null,null,null,null,null,null,null,null,null,null,null,null,null,null,null,null,null,null,null,"Автономна Республіка Крим","Левадки"]
[null,null,null,null,null,null,null,null,null,null,null,null,null,null,null,"27.51","Виробництво електричних побутових приладів",null,null,null,null,null,null,null,null,null,null,null,null,null,null,null,null,null,null,null,null,null,null,null,null,null,null,null,null,"Автономна Республіка Крим","Левітанівка (Калінінської)"]
[null,null,null,null,null,null,null,null,null,null,null,null,null,null,null,"27.52","Виробництво неелектричних побутових приладів",null,null,null,null,null,null,null,null,null,null,null,null,null,null,null,null,null,null,null,null,null,null,null,null,null,null,null,null,"Автономна Республіка Крим","Леніне"]
[null,null,null,null,null,null,null,null,null,null,null,null,null,null,null,"27.9","Виробництво іншого електричного устатковання",null,null,null,null,null,null,null,null,null,null,null,null,null,null,null,null,null,null,null,null,null,null,null,null,null,null,null,null,"Автономна Республіка Крим","Ленінське"]
[null,null,null,null,null,null,null,null,null,null,null,null,null,null,null,"27.90","Виробництво іншого електричного устатковання",null,null,null,null,null,null,null,null,null,null,null,null,null,null,null,null,null,null,null,null,null,null,null,null,null,null,null,null,"Автономна Республіка Крим","Ленське"]
[null,null,null,null,null,null,null,null,null,null,null,null,null,null,null,"28","Виробництво машин і устатковання, н.в.і.у.",null,null,null,null,null,null,null,null,null,null,null,null,null,null,null,null,null,null,null,null,null,null,null,null,null,null,null,null,"Автономна Республіка Крим","Лиманне"]
[null,null,null,null,null,null,null,null,null,null,null,null,null,null,null,"28.1","Виробництво машин і устатковання загального призначення",null,null,null,null,null,null,null,null,null,null,null,null,null,null,null,null,null,null,null,null,null,null,null,null,null,null,null,null,"Автономна Республіка Крим","Листвинне"]
[null,null,null,null,null,null,null,null,null,null,null,null,null,null,null,"28.11","Виробництво двигунів і турбін, крім авіаційних, автотранспортних і мотоциклетних двигунів",null,null,null,null,null,null,null,null,null,null,null,null,null,null,null,null,null,null,null,null,null,null,null,null,null,null,null,null,"Автономна Республіка Крим","Листове"]
[null,null,null,null,null,null,null,null,null,null,null,null,null,null,null,"28.12","Виробництво гідравлічного та пневматичного устатковання",null,null,null,null,null,null,null,null,null,null,null,null,null,null,null,null,null,null,null,null,null,null,null,null,null,null,null,null,"Автономна Республіка Крим","Литвиненкове"]
[null,null,null,null,null,null,null,null,null,null,null,null,null,null,null,"28.13","Виробництво інших помп і компресорів",null,null,null,null,null,null,null,null,null,null,null,null,null,null,null,null,null,null,null,null,null,null,null,null,null,null,null,null,"Автономна Республіка Крим","Лібкнехтівка"]
[null,null,null,null,null,null,null,null,null,null,null,null,null,null,null,"28.14","Виробництво інших кранів і клапанів",null,null,null,null,null,null,null,null,null,null,null,null,null,null,null,null,null,null,null,null,null,null,null,null,null,null,null,null,"Автономна Республіка Крим","Лівадія"]
[null,null,null,null,null,null,null,null,null,null,null,null,null,null,null,"28.15","Виробництво підшипників, зубчастих передач, елементів механічних передач і приводів",null,null,null,null,null,null,null,null,null,null,null,null,null,null,null,null,null,null,null,null,null,null,null,null,null,null,null,null,"Автономна Республіка Крим","Лікарственне"]
[null,null,null,null,null,null,null,null,null,null,null,null,null,null,null,"28.2","Виробництво інших машин і устатковання загального призначення",null,null,null,null,null,null,null,null,null,null,null,null,null,null,null,null,null,null,null,null,null,null,null,null,null,null,null,null,"Автономна Республіка Крим","Лінійне"]
[null,null,null,null,null,null,null,null,null,null,null,null,null,null,null,"28.21","Виробництво духових шаф, печей і пічних пальників",null,null,null,null,null,null,null,null,null,null,null,null,null,null,null,null,null,null,null,null,null,null,null,null,null,null,null,null,"Автономна Республіка Крим","Лісне"]
[null,null,null,null,null,null,null,null,null,null,null,null,null,null,null,"28.22","Виробництво підіймального та вантажно-розвантажувального устатковання",null,null,null,null,null,null,null,null,null,null,null,null,null,null,null,null,null,null,null,null,null,null,null,null,null,null,null,null,"Автономна Республіка Крим","Ліснівка"]
[null,null,null,null,null,null,null,null,null,null,null,null,null,null,null,"28.23","Виробництво офісних машин і устатковання, крім комп'ютерів і периферійного устатковання",null,null,null,null,null,null,null,null,null,null,null,null,null,null,null,null,null,null,null,null,null,null,null,null,null,null,null,null,"Автономна Республіка Крим","Лісносілля"]
[null,null,null,null,null,null,null,null,null,null,null,null,null,null,null,"28.24","Виробництво ручних електромеханічних і пневматичних інструментів",null,null,null,null,null,null,null,null,null,null,null,null,null,null,null,null,null,null,null,null,null,null,null,null,null,null,null,null,"Автономна Республіка Крим","Лічебне"]
[null,null,null,null,null,null,null,null,null,null,null,null,null,null,null,"28.25","Виробництво промислового холодильного та вентиляційного устатковання",null,null,null,null,null,null,null,null,null,null,null,null,null,null,null,null,null,null,null,null,null,null,null,null,null,null,null,null,"Автономна Республіка Крим","Лобанове"]
[null,null,null,null,null,null,null,null,null,null,null,null,null,null,null,"28.29","Виробництво інших машин і устатковання загального призначення, н.в.і.у.",null,null,null,null,null,null,null,null,null,null,null,null,null,null,null,null,null,null,null,null,null,null,null,null,null,null,null,null,"Автономна Республіка Крим","Ломоносове"]
[null,null,null,null,null,null,null,null,null,null,null,null,null,null,null,"28.3","Виробництво машин і устатковання для сільського та лісового господарства",null,null,null,null,null,null,null,null,null,null,null,null,null,null,null,null,null,null,null,null,null,null,null,null,null,null,null,null,"Автономна Республіка Крим","Лохівка"]
[null,null,null,null,null,null,null,null,null,null,null,null,null,null,null,"28.30","Виробництво машин і устатковання для сільського та лісового господарства",null,null,null,null,null,null,null,null,null,null,null,null,null,null,null,null,null,null,null,null,null,null,null,null,null,null,null,null,"Автономна Республіка Крим","Луганське"]
[null,null,null,null,null,null,null,null,null,null,null,null,null,null,null,"28.4","Виробництво металообробних машин і верстатів",null,null,null,null,null,null,null,null,null,null,null,null,null,null,null,null,null,null,null,null,null,null,null,null,null,null,null,null,"Автономна Республіка Крим","Лугове"]
[null,null,null,null,null,null,null,null,null,null,null,null,null,null,null,"28.41","Виробництво металообробних машин",null,null,null,null,null,null,null,null,null,null,null,null,null,null,null,null,null,null,null,null,null,null,null,null,null,null,null,null,"Автономна Республіка Крим","Лугове (Сизівська)"]
[null,null,null,null,null,null,null,null,null,null,null,null,null,null,null,"28.49","Виробництво інших верстатів",null,null,null,null,null,null,null,null,null,null,null,null,null,null,null,null,null,null,null,null,null,null,null,null,null,null,null,null,"Автономна Республіка Крим","Лужки"]
[null,null,null,null,null,null,null,null,null,null,null,null,null,null,null,"28.9","Виробництво інших машин і устатковання спеціального призначення",null,null,null,null,null,null,null,null,null,null,null,null,null,null,null,null,null,null,null,null,null,null,null,null,null,null,null,null,"Автономна Республіка Крим","Лучисте"]
[null,null,null,null,null,null,null,null,null,null,null,null,null,null,null,"28.91","Виробництво машин і устатковання для металургії",null,null,null,null,null,null,null,null,null,null,null,null,null,null,null,null,null,null,null,null,null,null,null,null,null,null,null,null,"Автономна Республіка Крим","Лучове"]
[null,null,null,null,null,null,null,null,null,null,null,null,null,null,null,"28.92","Виробництво машин і устатковання для добувної промисловості та будівництва",null,null,null,null,null,null,null,null,null,null,null,null,null,null,null,null,null,null,null,null,null,null,null,null,null,null,null,null,"Автономна Республіка Крим","Лушине (Стовпівська)"]
[null,null,null,null,null,null,null,null,null,null,null,null,null,null,null,"28.93","Виробництво машин і устатковання для виготовлення харчових продуктів і напоїв, перероблення тютюну",null,null,null,null,null,null,null,null,null,null,null,null,null,null,null,null,null,null,null,null,null,null,null,null,null,null,null,null,"Автономна Республіка Крим","Любимівка"]
[null,null,null,null,null,null,null,null,null,null,null,null,null,null,null,"28.94","Виробництво машин і устатковання для виготовлення текстильних, швейних, хутряних і шкіряних виробів",null,null,null,null,null,null,null,null,null,null,null,null,null,null,null,null,null,null,null,null,null,null,null,null,null,null,null,null,"Автономна Республіка Крим","Львове"]
[null,null,null,null,null,null,null,null,null,null,null,null,null,null,null,"28.95","Виробництво машин і устатковання для виготовлення паперу та картону",null,null,null,null,null,null,null,null,null,null,null,null,null,null,null,null,null,null,null,null,null,null,null,null,null,null,null,null,"Автономна Республіка Крим","Льговське"]
[null,null,null,null,null,null,null,null,null,null,null,null,null,null,null,"28.96","Виробництво машин і устатковання для виготовлення пластмас і гуми",null,null,null,null,null,null,null,null,null,null,null,null,null,null,null,null,null,null,null,null,null,null,null,null,null,null,null,null,"Автономна Республіка Крим","Магазинка (Магазинська)"]
[null,null,null,null,null,null,null,null,null,null,null,null,null,null,null,"28.99","Виробництво інших машин і устатковання спеціального призначення, н.в.і.у.",null,null,null,null,null,null,null,null,null,null,null,null,null,null,null,null,null,null,null,null,null,null,null,null,null,null,null,null,"Автономна Республіка Крим","Мазанка"]
[null,null,null,null,null,null,null,null,null,null,null,null,null,null,null,"29","Виробництво автотранспортних засобів, причепів і напівпричепів",null,null,null,null,null,null,null,null,null,null,null,null,null,null,null,null,null,null,null,null,null,null,null,null,null,null,null,null,"Автономна Республіка Крим","Майське"]
[null,null,null,null,null,null,null,null,null,null,null,null,null,null,null,"29.1","Виробництво автотранспортних засобів",null,null,null,null,null,null,null,null,null,null,null,null,null,null,null,null,null,null,null,null,null,null,null,null,null,null,null,null,"Автономна Республіка Крим","Макарівка (Первомайської)"]
[null,null,null,null,null,null,null,null,null,null,null,null,null,null,null,"29.10","Виробництво автотранспортних засобів",null,null,null,null,null,null,null,null,null,null,null,null,null,null,null,null,null,null,null,null,null,null,null,null,null,null,null,null,"Автономна Республіка Крим","Маківка"]
[null,null,null,null,null,null,null,null,null,null,null,null,null,null,null,"29.2","Виробництво кузовів для автотранспортних засобів, причепів і напівпричепів",null,null,null,null,null,null,null,null,null,null,null,null,null,null,null,null,null,null,null,null,null,null,null,null,null,null,null,null,"Автономна Республіка Крим","Маківське"]
[null,null,null,null,null,null,null,null,null,null,null,null,null,null,null,"29.20","Виробництво кузовів для автотранспортних засобів, причепів і напівпричепів",null,null,null,null,null,null,null,null,null,null,null,null,null,null,null,null,null,null,null,null,null,null,null,null,null,null,null,null,"Автономна Республіка Крим","Максимівка (Руч'ївська сільська рада)"]
[null,null,null,null,null,null,null,null,null,null,null,null,null,null,null,"29.3","Виробництво вузлів, деталей і приладдя для автотранспортних засобів",null,null,null,null,null,null,null,null,null,null,null,null,null,null,null,null,null,null,null,null,null,null,null,null,null,null,null,null,"Автономна Республіка Крим","Мале Садове"]
[null,null,null,null,null,null,null,null,null,null,null,null,null,null,null,"29.31","Виробництво електричного й електронного устатковання для автотранспортних засобів",null,null,null,null,null,null,null,null,null,null,null,null,null,null,null,null,null,null,null,null,null,null,null,null,null,null,null,null,"Автономна Республіка Крим","Маленьке"]
[null,null,null,null,null,null,null,null,null,null,null,null,null,null,null,"29.32","Виробництво інших вузлів, деталей і приладдя для автотранспортних засобів",null,null,null,null,null,null,null,null,null,null,null,null,null,null,null,null,null,null,null,null,null,null,null,null,null,null,null,null,"Автономна Республіка Крим","Малий Маяк"]
[null,null,null,null,null,null,null,null,null,null,null,null,null,null,null,"30","Виробництво інших транспортних засобів",null,null,null,null,null,null,null,null,null,null,null,null,null,null,null,null,null,null,null,null,null,null,null,null,null,null,null,null,"Автономна Республіка Крим","Малинівка"]
[null,null,null,null,null,null,null,null,null,null,null,null,null,null,null,"30.1","Будування суден і човнів",null,null,null,null,null,null,null,null,null,null,null,null,null,null,null,null,null,null,null,null,null,null,null,null,null,null,null,null,"Автономна Республіка Крим","Маловидне"]
[null,null,null,null,null,null,null,null,null,null,null,null,null,null,null,"30.11","Будування суден і плавучих конструкцій",null,null,null,null,null,null,null,null,null,null,null,null,null,null,null,null,null,null,null,null,null,null,null,null,null,null,null,null,"Автономна Республіка Крим","Малоріченське"]
[null,null,null,null,null,null,null,null,null,null,null,null,null,null,null,"30.12","Будування прогулянкових і спортивних човнів",null,null,null,null,null,null,null,null,null,null,null,null,null,null,null,null,null,null,null,null,null,null,null,null,null,null,null,null,"Автономна Республіка Крим","Мар'ївка"]
[null,null,null,null,null,null,null,null,null,null,null,null,null,null,null,"30.2","Виробництво залізничних локомотивів і рухомого складу",null,null,null,null,null,null,null,null,null,null,null,null,null,null,null,null,null,null,null,null,null,null,null,null,null,null,null,null,"Автономна Республіка Крим","Мар'їне"]
[null,null,null,null,null,null,null,null,null,null,null,null,null,null,null,"30.20","Виробництво залізничних локомотивів і рухомого складу",null,null,null,null,null,null,null,null,null,null,null,null,null,null,null,null,null,null,null,null,null,null,null,null,null,null,null,null,"Автономна Республіка Крим","Маркове"]
[null,null,null,null,null,null,null,null,null,null,null,null,null,null,null,"30.3","Виробництво повітряних і космічних літальних апаратів, супутнього устатковання",null,null,null,null,null,null,null,null,null,null,null,null,null,null,null,null,null,null,null,null,null,null,null,null,null,null,null,null,"Автономна Республіка Крим","Мартинівка"]
[null,null,null,null,null,null,null,null,null,null,null,null,null,null,null,"30.30","Виробництво повітряних і космічних літальних апаратів, супутнього устатковання",null,null,null,null,null,null,null,null,null,null,null,null,null,null,null,null,null,null,null,null,null,null,null,null,null,null,null,null,"Автономна Республіка Крим","Марфівка"]
[null,null,null,null,null,null,null,null,null,null,null,null,null,null,null,"30.4","Виробництво військових транспортних засобів",null,null,null,null,null,null,null,null,null,null,null,null,null,null,null,null,null,null,null,null,null,null,null,null,null,null,null,null,"Автономна Республіка Крим","Мар'янівка"]
[null,null,null,null,null,null,null,null,null,null,null,null,null,null,null,"30.40","Виробництво військових транспортних засобів",null,null,null,null,null,null,null,null,null,null,null,null,null,null,null,null,null,null,null,null,null,null,null,null,null,null,null,null,"Автономна Республіка Крим","Масандра"]
[null,null,null,null,null,null,null,null,null,null,null,null,null,null,null,"30.9","Виробництво транспортних засобів, н.в.і.у.",null,null,null,null,null,null,null,null,null,null,null,null,null,null,null,null,null,null,null,null,null,null,null,null,null,null,null,null,"Автономна Республіка Крим","Маслове"]
[null,null,null,null,null,null,null,null,null,null,null,null,null,null,null,"30.91","Виробництво мотоциклів",null,null,null,null,null,null,null,null,null,null,null,null,null,null,null,null,null,null,null,null,null,null,null,null,null,null,null,null,"Автономна Республіка Крим","Матвіївка (Правдинської)"]
[null,null,null,null,null,null,null,null,null,null,null,null,null,null,null,"30.92","Виробництво велосипедів, дитячих та інвалідних колясок",null,null,null,null,null,null,null,null,null,null,null,null,null,null,null,null,null,null,null,null,null,null,null,null,null,null,null,null,"Автономна Республіка Крим","Матросівка"]
[null,null,null,null,null,null,null,null,null,null,null,null,null,null,null,"30.99","Виробництво інших транспортних засобів і обладнання, н.в.і.у.",null,null,null,null,null,null,null,null,null,null,null,null,null,null,null,null,null,null,null,null,null,null,null,null,null,null,null,null,"Автономна Республіка Крим","Машине"]
[null,null,null,null,null,null,null,null,null,null,null,null,null,null,null,"31","Виробництво меблів",null,null,null,null,null,null,null,null,null,null,null,null,null,null,null,null,null,null,null,null,null,null,null,null,null,null,null,null,"Автономна Республіка Крим","Маяк"]
[null,null,null,null,null,null,null,null,null,null,null,null,null,null,null,"31.0","Виробництво меблів",null,null,null,null,null,null,null,null,null,null,null,null,null,null,null,null,null,null,null,null,null,null,null,null,null,null,null,null,"Автономна Республіка Крим","Медведеве"]
[null,null,null,null,null,null,null,null,null,null,null,null,null,null,null,"31.01","Виробництво меблів для офісів і підприємств торгівлі",null,null,null,null,null,null,null,null,null,null,null,null,null,null,null,null,null,null,null,null,null,null,null,null,null,null,null,null,"Автономна Республіка Крим","Медведівка"]
[null,null,null,null,null,null,null,null,null,null,null,null,null,null,null,"31.02","Виробництво кухонних меблів",null,null,null,null,null,null,null,null,null,null,null,null,null,null,null,null,null,null,null,null,null,null,null,null,null,null,null,null,"Автономна Республіка Крим","Межове"]
[null,null,null,null,null,null,null,null,null,null,null,null,null,null,null,"31.03","Виробництво матраців",null,null,null,null,null,null,null,null,null,null,null,null,null,null,null,null,null,null,null,null,null,null,null,null,null,null,null,null,"Автономна Республіка Крим","Мелехове"]
[null,null,null,null,null,null,null,null,null,null,null,null,null,null,null,"31.09","Виробництво інших меблів",null,null,null,null,null,null,null,null,null,null,null,null,null,null,null,null,null,null,null,null,null,null,null,null,null,null,null,null,"Автономна Республіка Крим","Мельники"]
[null,null,null,null,null,null,null,null,null,null,null,null,null,null,null,"32","Виробництво іншої продукції",null,null,null,null,null,null,null,null,null,null,null,null,null,null,null,null,null,null,null,null,null,null,null,null,null,null,null,null,"Автономна Республіка Крим","Мельничне"]
[null,null,null,null,null,null,null,null,null,null,null,null,null,null,null,"32.1","Виробництво ювелірних виробів, біжутерії та подібних виробів",null,null,null,null,null,null,null,null,null,null,null,null,null,null,null,null,null,null,null,null,null,null,null,null,null,null,null,null,"Автономна Республіка Крим","Мельничне (Островської)"]
[null,null,null,null,null,null,null,null,null,null,null,null,null,null,null,"32.11","Карбування монет",null,null,null,null,null,null,null,null,null,null,null,null,null,null,null,null,null,null,null,null,null,null,null,null,null,null,null,null,"Автономна Республіка Крим","Менделєєве"]
[null,null,null,null,null,null,null,null,null,null,null,null,null,null,null,"32.12","Виробництво ювелірних і подібних виробів",null,null,null,null,null,null,null,null,null,null,null,null,null,null,null,null,null,null,null,null,null,null,null,null,null,null,null,null,"Автономна Республіка Крим","Миколаївка"]
[null,null,null,null,null,null,null,null,null,null,null,null,null,null,null,"32.13","Виробництво біжутерії та подібних виробів",null,null,null,null,null,null,null,null,null,null,null,null,null,null,null,null,null,null,null,null,null,null,null,null,null,null,null,null,"Автономна Республіка Крим","Миндальне"]
[null,null,null,null,null,null,null,null,null,null,null,null,null,null,null,"32.2","Виробництво музичних інструментів",null,null,null,null,null,null,null,null,null,null,null,null,null,null,null,null,null,null,null,null,null,null,null,null,null,null,null,null,"Автономна Республіка Крим","Мирний"]
[null,null,null,null,null,null,null,null,null,null,null,null,null,null,null,"32.20","Виробництво музичних інструментів",null,null,null,null,null,null,null,null,null,null,null,null,null,null,null,null,null,null,null,null,null,null,null,null,null,null,null,null,"Автономна Республіка Крим","Мирнівка"]
[null,null,null,null,null,null,null,null,null,null,null,null,null,null,null,"32.3","Виробництво спортивних товарів",null,null,null,null,null,null,null,null,null,null,null,null,null,null,null,null,null,null,null,null,null,null,null,null,null,null,null,null,"Автономна Республіка Крим","Миролюбівка"]
[null,null,null,null,null,null,null,null,null,null,null,null,null,null,null,"32.30","Виробництво спортивних товарів",null,null,null,null,null,null,null,null,null,null,null,null,null,null,null,null,null,null,null,null,null,null,null,null,null,null,null,null,"Автономна Республіка Крим","Миронівка"]
[null,null,null,null,null,null,null,null,null,null,null,null,null,null,null,"32.4","Виробництво ігор та іграшок",null,null,null,null,null,null,null,null,null,null,null,null,null,null,null,null,null,null,null,null,null,null,null,null,null,null,null,null,"Автономна Республіка Крим","Мисове"]
[null,null,null,null,null,null,null,null,null,null,null,null,null,null,null,"32.40","Виробництво ігор та іграшок",null,null,null,null,null,null,null,null,null,null,null,null,null,null,null,null,null,null,null,null,null,null,null,null,null,null,null,null,"Автономна Республіка Крим","Митрофанівка"]
[null,null,null,null,null,null,null,null,null,null,null,null,null,null,null,"32.5","Виробництво медичних і стоматологічних інструментів і матеріалів",null,null,null,null,null,null,null,null,null,null,null,null,null,null,null,null,null,null,null,null,null,null,null,null,null,null,null,null,"Автономна Республіка Крим","Митюрине"]
[null,null,null,null,null,null,null,null,null,null,null,null,null,null,null,"32.50","Виробництво медичних і стоматологічних інструментів і матеріалів",null,null,null,null,null,null,null,null,null,null,null,null,null,null,null,null,null,null,null,null,null,null,null,null,null,null,null,null,"Автономна Республіка Крим","Митяєве"]
[null,null,null,null,null,null,null,null,null,null,null,null,null,null,null,"32.9","Виробництво продукції, н.в.і.у.",null,null,null,null,null,null,null,null,null,null,null,null,null,null,null,null,null,null,null,null,null,null,null,null,null,null,null,null,"Автономна Республіка Крим","Михайлівка"]
[null,null,null,null,null,null,null,null,null,null,null,null,null,null,null,"32.91","Виробництво мітел і щіток",null,null,null,null,null,null,null,null,null,null,null,null,null,null,null,null,null,null,null,null,null,null,null,null,null,null,null,null,"Автономна Республіка Крим","Міжводне"]
[null,null,null,null,null,null,null,null,null,null,null,null,null,null,null,"32.99","Виробництво іншої продукції, н.в.і.у.",null,null,null,null,null,null,null,null,null,null,null,null,null,null,null,null,null,null,null,null,null,null,null,null,null,null,null,null,"Автономна Республіка Крим","Міжгірне"]
[null,null,null,null,null,null,null,null,null,null,null,null,null,null,null,"33","Ремонт і монтаж машин і устатковання",null,null,null,null,null,null,null,null,null,null,null,null,null,null,null,null,null,null,null,null,null,null,null,null,null,null,null,null,"Автономна Республіка Крим","Міжгір'я"]
[null,null,null,null,null,null,null,null,null,null,null,null,null,null,null,"33.1","Ремонт і технічне обслуговування готових металевих виробів, машин і устатковання",null,null,null,null,null,null,null,null,null,null,null,null,null,null,null,null,null,null,null,null,null,null,null,null,null,null,null,null,"Автономна Республіка Крим","Міжріччя"]
[null,null,null,null,null,null,null,null,null,null,null,null,null,null,null,"33.11","Ремонт і технічне обслуговування готових металевих виробів",null,null,null,null,null,null,null,null,null,null,null,null,null,null,null,null,null,null,null,null,null,null,null,null,null,null,null,null,"Автономна Республіка Крим","Мілководне"]
[null,null,null,null,null,null,null,null,null,null,null,null,null,null,null,"33.12","Ремонт і технічне обслуговування машин і устатковання промислового призначення",null,null,null,null,null,null,null,null,null,null,null,null,null,null,null,null,null,null,null,null,null,null,null,null,null,null,null,null,"Автономна Республіка Крим","Мічурінівка"]
[null,null,null,null,null,null,null,null,null,null,null,null,null,null,null,"33.13","Ремонт і технічне обслуговування електронного й оптичного устатковання",null,null,null,null,null,null,null,null,null,null,null,null,null,null,null,null,null,null,null,null,null,null,null,null,null,null,null,null,"Автономна Республіка Крим","Мічурінське"]
[null,null,null,null,null,null,null,null,null,null,null,null,null,null,null,"33.14","Ремонт і технічне обслуговування електричного устатковання",null,null,null,null,null,null,null,null,null,null,null,null,null,null,null,null,null,null,null,null,null,null,null,null,null,null,null,null,"Автономна Республіка Крим","Многоводне"]
[null,null,null,null,null,null,null,null,null,null,null,null,null,null,null,"33.15","Ремонт і технічне обслуговування суден і човнів",null,null,null,null,null,null,null,null,null,null,null,null,null,null,null,null,null,null,null,null,null,null,null,null,null,null,null,null,"Автономна Республіка Крим","Многоріччя"]
[null,null,null,null,null,null,null,null,null,null,null,null,null,null,null,"33.16","Ремонт і технічне обслуговування повітряних і космічних літальних апаратів",null,null,null,null,null,null,null,null,null,null,null,null,null,null,null,null,null,null,null,null,null,null,null,null,null,null,null,null,"Автономна Республіка Крим","Молодіжне"]
[null,null,null,null,null,null,null,null,null,null,null,null,null,null,null,"33.17","Ремонт і технічне обслуговування інших транспортних засобів",null,null,null,null,null,null,null,null,null,null,null,null,null,null,null,null,null,null,null,null,null,null,null,null,null,null,null,null,"Автономна Республіка Крим","Молочне"]
[null,null,null,null,null,null,null,null,null,null,null,null,null,null,null,"33.19","Ремонт і технічне обслуговування інших машин і устатковання",null,null,null,null,null,null,null,null,null,null,null,null,null,null,null,null,null,null,null,null,null,null,null,null,null,null,null,null,"Автономна Республіка Крим","Молочне (Ковильнівська сільська рада)"]
[null,null,null,null,null,null,null,null,null,null,null,null,null,null,null,"33.2","Установлення та монтаж машин і устатковання",null,null,null,null,null,null,null,null,null,null,null,null,null,null,null,null,null,null,null,null,null,null,null,null,null,null,null,null,"Автономна Республіка Крим","Морське"]
[null,null,null,null,null,null,null,null,null,null,null,null,null,null,null,"33.20","Установлення та монтаж машин і устатковання",null,null,null,null,null,null,null,null,null,null,null,null,null,null,null,null,null,null,null,null,null,null,null,null,null,null,null,null,"Автономна Республіка Крим","Мостове"]
[null,null,null,null,null,null,null,null,null,null,null,null,null,null,null,"D","Постачання електроенергії, газу, пари та кондиційованого повітря",null,null,null,null,null,null,null,null,null,null,null,null,null,null,null,null,null,null,null,null,null,null,null,null,null,null,null,null,"Автономна Республіка Крим","Мраморне"]
[null,null,null,null,null,null,null,null,null,null,null,null,null,null,null,"35","Постачання електроенергії, газу, пари та кондиційованого повітря",null,null,null,null,null,null,null,null,null,null,null,null,null,null,null,null,null,null,null,null,null,null,null,null,null,null,null,null,"Автономна Республіка Крим","Муромське"]
[null,null,null,null,null,null,null,null,null,null,null,null,null,null,null,"35.1","Виробництво, передача та розподілення електроенергії",null,null,null,null,null,null,null,null,null,null,null,null,null,null,null,null,null,null,null,null,null,null,null,null,null,null,null,null,"Автономна Республіка Крим","Мускатне"]
[null,null,null,null,null,null,null,null,null,null,null,null,null,null,null,"35.11","Виробництво електроенергії",null,null,null,null,null,null,null,null,null,null,null,null,null,null,null,null,null,null,null,null,null,null,null,null,null,null,null,null,"Автономна Республіка Крим","Набережне"]
[null,null,null,null,null,null,null,null,null,null,null,null,null,null,null,"35.12","Передача електроенергії",null,null,null,null,null,null,null,null,null,null,null,null,null,null,null,null,null,null,null,null,null,null,null,null,null,null,null,null,"Автономна Республіка Крим","Нагірне"]
[null,null,null,null,null,null,null,null,null,null,null,null,null,null,null,"35.13","Розподілення електроенергії",null,null,null,null,null,null,null,null,null,null,null,null,null,null,null,null,null,null,null,null,null,null,null,null,null,null,null,null,"Автономна Республіка Крим","Надежда"]
[null,null,null,null,null,null,null,null,null,null,null,null,null,null,null,"35.14","Торгівля електроенергією",null,null,null,null,null,null,null,null,null,null,null,null,null,null,null,null,null,null,null,null,null,null,null,null,null,null,null,null,"Автономна Республіка Крим","Надеждине (Красноармійська)"]
[null,null,null,null,null,null,null,null,null,null,null,null,null,null,null,"35.2","Виробництво газу; розподілення газоподібного палива через місцеві (локальні) трубопроводи",null,null,null,null,null,null,null,null,null,null,null,null,null,null,null,null,null,null,null,null,null,null,null,null,null,null,null,null,"Автономна Республіка Крим","Найдьонівка"]
[null,null,null,null,null,null,null,null,null,null,null,null,null,null,null,"35.21","Виробництво газу",null,null,null,null,null,null,null,null,null,null,null,null,null,null,null,null,null,null,null,null,null,null,null,null,null,null,null,null,"Автономна Республіка Крим","Наникове"]
[null,null,null,null,null,null,null,null,null,null,null,null,null,null,null,"35.22","Розподілення газоподібного палива через місцеві (локальні) трубопроводи",null,null,null,null,null,null,null,null,null,null,null,null,null,null,null,null,null,null,null,null,null,null,null,null,null,null,null,null,"Автономна Республіка Крим","Насипне"]
[null,null,null,null,null,null,null,null,null,null,null,null,null,null,null,"35.23","Торгівля газом через місцеві (локальні) трубопроводи",null,null,null,null,null,null,null,null,null,null,null,null,null,null,null,null,null,null,null,null,null,null,null,null,null,null,null,null,"Автономна Республіка Крим","Наташине"]
[null,null,null,null,null,null,null,null,null,null,null,null,null,null,null,"35.3","Постачання пари, гарячої води та кондиційованого повітря",null,null,null,null,null,null,null,null,null,null,null,null,null,null,null,null,null,null,null,null,null,null,null,null,null,null,null,null,"Автономна Республіка Крим","Наумівка"]
[null,null,null,null,null,null,null,null,null,null,null,null,null,null,null,"35.30","Постачання пари, гарячої води та кондиційованого повітря",null,null,null,null,null,null,null,null,null,null,null,null,null,null,null,null,null,null,null,null,null,null,null,null,null,null,null,null,"Автономна Республіка Крим","Научний"]
[null,null,null,null,null,null,null,null,null,null,null,null,null,null,null,"E","Водопостачання; каналізація, поводження з відходами",null,null,null,null,null,null,null,null,null,null,null,null,null,null,null,null,null,null,null,null,null,null,null,null,null,null,null,null,"Автономна Республіка Крим","Нахідка"]
[null,null,null,null,null,null,null,null,null,null,null,null,null,null,null,"36","Забір, очищення та постачання води",null,null,null,null,null,null,null,null,null,null,null,null,null,null,null,null,null,null,null,null,null,null,null,null,null,null,null,null,"Автономна Республіка Крим","Нахімове"]
[null,null,null,null,null,null,null,null,null,null,null,null,null,null,null,"36.0","Забір, очищення та постачання води",null,null,null,null,null,null,null,null,null,null,null,null,null,null,null,null,null,null,null,null,null,null,null,null,null,null,null,null,"Автономна Республіка Крим","Невське"]
[null,null,null,null,null,null,null,null,null,null,null,null,null,null,null,"36.00","Забір очищення та постачання води",null,null,null,null,null,null,null,null,null,null,null,null,null,null,null,null,null,null,null,null,null,null,null,null,null,null,null,null,"Автономна Республіка Крим","Некрасове"]
[null,null,null,null,null,null,null,null,null,null,null,null,null,null,null,"37","Каналізація, відведення й очищення стічних вод",null,null,null,null,null,null,null,null,null,null,null,null,null,null,null,null,null,null,null,null,null,null,null,null,null,null,null,null,"Автономна Республіка Крим","Некрасовка"]
[null,null,null,null,null,null,null,null,null,null,null,null,null,null,null,"37.0","Каналізація, відведення й очищення стічних вод",null,null,null,null,null,null,null,null,null,null,null,null,null,null,null,null,null,null,null,null,null,null,null,null,null,null,null,null,"Автономна Республіка Крим","Нива"]
[null,null,null,null,null,null,null,null,null,null,null,null,null,null,null,"37.00","Каналізація, відведення й очищення стічних вод",null,null,null,null,null,null,null,null,null,null,null,null,null,null,null,null,null,null,null,null,null,null,null,null,null,null,null,null,"Автономна Республіка Крим","Нива (Березівська)"]
[null,null,null,null,null,null,null,null,null,null,null,null,null,null,null,"38","Збирання, оброблення й видалення відходів; відновлення матеріалів",null,null,null,null,null,null,null,null,null,null,null,null,null,null,null,null,null,null,null,null,null,null,null,null,null,null,null,null,"Автономна Республіка Крим","Нижнє Запрудне"]
[null,null,null,null,null,null,null,null,null,null,null,null,null,null,null,"38.1","Збирання відходів",null,null,null,null,null,null,null,null,null,null,null,null,null,null,null,null,null,null,null,null,null,null,null,null,null,null,null,null,"Автономна Республіка Крим","Нижні Орішники"]
[null,null,null,null,null,null,null,null,null,null,null,null,null,null,null,"38.11","Збирання безпечних відходів",null,null,null,null,null,null,null,null,null,null,null,null,null,null,null,null,null,null,null,null,null,null,null,null,null,null,null,null,"Автономна Республіка Крим","Нижні Острожки"]
[null,null,null,null,null,null,null,null,null,null,null,null,null,null,null,"38.12","Збирання небезпечних відходів",null,null,null,null,null,null,null,null,null,null,null,null,null,null,null,null,null,null,null,null,null,null,null,null,null,null,null,null,"Автономна Республіка Крим","Нижня Голубинка"]
[null,null,null,null,null,null,null,null,null,null,null,null,null,null,null,"38.2","Оброблення та видалення відходів",null,null,null,null,null,null,null,null,null,null,null,null,null,null,null,null,null,null,null,null,null,null,null,null,null,null,null,null,"Автономна Республіка Крим","Нижня Кутузовка"]
[null,null,null,null,null,null,null,null,null,null,null,null,null,null,null,"38.21","Оброблення та видалення безпечних відходів",null,null,null,null,null,null,null,null,null,null,null,null,null,null,null,null,null,null,null,null,null,null,null,null,null,null,null,null,"Автономна Республіка Крим","Нижньогірський"]
[null,null,null,null,null,null,null,null,null,null,null,null,null,null,null,"38.22","Оброблення та видалення небезпечних відходів",null,null,null,null,null,null,null,null,null,null,null,null,null,null,null,null,null,null,null,null,null,null,null,null,null,null,null,null,"Автономна Республіка Крим","Нижньозаморське"]
[null,null,null,null,null,null,null,null,null,null,null,null,null,null,null,"38.3","Відновлення матеріалів",null,null,null,null,null,null,null,null,null,null,null,null,null,null,null,null,null,null,null,null,null,null,null,null,null,null,null,null,"Автономна Республіка Крим","Нижньокурганне"]
[null,null,null,null,null,null,null,null,null,null,null,null,null,null,null,"38.31","Демонтаж (розбирання) машин і устатковання",null,null,null,null,null,null,null,null,null,null,null,null,null,null,null,null,null,null,null,null,null,null,null,null,null,null,null,null,"Автономна Республіка Крим","Низинне"]
[null,null,null,null,null,null,null,null,null,null,null,null,null,null,null,"38.32","Відновлення відсортованих відходів",null,null,null,null,null,null,null,null,null,null,null,null,null,null,null,null,null,null,null,null,null,null,null,null,null,null,null,null,"Автономна Республіка Крим","Низинне (Зерновська)"]
[null,null,null,null,null,null,null,null,null,null,null,null,null,null,null,"39","Інша діяльність щодо поводження з відходами",null,null,null,null,null,null,null,null,null,null,null,null,null,null,null,null,null,null,null,null,null,null,null,null,null,null,null,null,"Автономна Республіка Крим","Низівка"]
[null,null,null,null,null,null,null,null,null,null,null,null,null,null,null,"39.0","Інша діяльність щодо поводження з відходами",null,null,null,null,null,null,null,null,null,null,null,null,null,null,null,null,null,null,null,null,null,null,null,null,null,null,null,null,"Автономна Республіка Крим","Ніжинське"]
[null,null,null,null,null,null,null,null,null,null,null,null,null,null,null,"39.00","Інша діяльність щодо поводження з відходами",null,null,null,null,null,null,null,null,null,null,null,null,null,null,null,null,null,null,null,null,null,null,null,null,null,null,null,null,"Автономна Республіка Крим","Нікіта"]
[null,null,null,null,null,null,null,null,null,null,null,null,null,null,null,"F","Будівництво",null,null,null,null,null,null,null,null,null,null,null,null,null,null,null,null,null,null,null,null,null,null,null,null,null,null,null,null,"Автономна Республіка Крим","Нова Деревня (Крестянівскої)"]
[null,null,null,null,null,null,null,null,null,null,null,null,null,null,null,"41","Будівництво будівель",null,null,null,null,null,null,null,null,null,null,null,null,null,null,null,null,null,null,null,null,null,null,null,null,null,null,null,null,"Автономна Республіка Крим","Нове  Життя"]
[null,null,null,null,null,null,null,null,null,null,null,null,null,null,null,"41.1","Організація будівництва будівель",null,null,null,null,null,null,null,null,null,null,null,null,null,null,null,null,null,null,null,null,null,null,null,null,null,null,null,null,"Автономна Республіка Крим","Новеньке"]
[null,null,null,null,null,null,null,null,null,null,null,null,null,null,null,"41.10","Організація будівництва будівель",null,null,null,null,null,null,null,null,null,null,null,null,null,null,null,null,null,null,null,null,null,null,null,null,null,null,null,null,"Автономна Республіка Крим","Новий Мир"]
[null,null,null,null,null,null,null,null,null,null,null,null,null,null,null,"41.2","Будівництво житлових і нежитлових будівель",null,null,null,null,null,null,null,null,null,null,null,null,null,null,null,null,null,null,null,null,null,null,null,null,null,null,null,null,"Автономна Республіка Крим","Новий Сад"]
[null,null,null,null,null,null,null,null,null,null,null,null,null,null,null,"41.20","Будівництво житлових і нежитлових будівель",null,null,null,null,null,null,null,null,null,null,null,null,null,null,null,null,null,null,null,null,null,null,null,null,null,null,null,null,"Автономна Республіка Крим","Новий Світ"]
[null,null,null,null,null,null,null,null,null,null,null,null,null,null,null,"42","Будівництво споруд",null,null,null,null,null,null,null,null,null,null,null,null,null,null,null,null,null,null,null,null,null,null,null,null,null,null,null,null,"Автономна Республіка Крим","Новоандріївка"]
[null,null,null,null,null,null,null,null,null,null,null,null,null,null,null,"42.1","Будівництво доріг і залізниць",null,null,null,null,null,null,null,null,null,null,null,null,null,null,null,null,null,null,null,null,null,null,null,null,null,null,null,null,"Автономна Республіка Крим","Нововасилівка"]
[null,null,null,null,null,null,null,null,null,null,null,null,null,null,null,"42.11","Будівництво доріг і автострад",null,null,null,null,null,null,null,null,null,null,null,null,null,null,null,null,null,null,null,null,null,null,null,null,null,null,null,null,"Автономна Республіка Крим","Нововідрадне"]
[null,null,null,null,null,null,null,null,null,null,null,null,null,null,null,"42.12","Будівництво залізниць і метрополітену",null,null,null,null,null,null,null,null,null,null,null,null,null,null,null,null,null,null,null,null,null,null,null,null,null,null,null,null,"Автономна Республіка Крим","Новогригорівка"]
[null,null,null,null,null,null,null,null,null,null,null,null,null,null,null,"42.13","Будівництво мостів і тунелів",null,null,null,null,null,null,null,null,null,null,null,null,null,null,null,null,null,null,null,null,null,null,null,null,null,null,null,null,"Автономна Республіка Крим","Новодолинка"]
[null,null,null,null,null,null,null,null,null,null,null,null,null,null,null,"42.2","Будівництво комунікацій",null,null,null,null,null,null,null,null,null,null,null,null,null,null,null,null,null,null,null,null,null,null,null,null,null,null,null,null,"Автономна Республіка Крим","Новоестонія"]
[null,null,null,null,null,null,null,null,null,null,null,null,null,null,null,"42.21","Будівництво трубопроводів",null,null,null,null,null,null,null,null,null,null,null,null,null,null,null,null,null,null,null,null,null,null,null,null,null,null,null,null,"Автономна Республіка Крим","Новожилівка"]
[null,null,null,null,null,null,null,null,null,null,null,null,null,null,null,"42.22","Будівництво споруд електропостачання та телекомунікацій",null,null,null,null,null,null,null,null,null,null,null,null,null,null,null,null,null,null,null,null,null,null,null,null,null,null,null,null,"Автономна Республіка Крим","Новозбур'ївка"]
[null,null,null,null,null,null,null,null,null,null,null,null,null,null,null,"42.9","Будівництво інших споруд",null,null,null,null,null,null,null,null,null,null,null,null,null,null,null,null,null,null,null,null,null,null,null,null,null,null,null,null,"Автономна Республіка Крим","Новозуївка"]
[null,null,null,null,null,null,null,null,null,null,null,null,null,null,null,"42.91","Будівництво водних споруд",null,null,null,null,null,null,null,null,null,null,null,null,null,null,null,null,null,null,null,null,null,null,null,null,null,null,null,null,"Автономна Республіка Крим","Новоіванівка"]
[null,null,null,null,null,null,null,null,null,null,null,null,null,null,null,"42.99","Будівництво інших споруд, н.в.і.у.",null,null,null,null,null,null,null,null,null,null,null,null,null,null,null,null,null,null,null,null,null,null,null,null,null,null,null,null,"Автономна Республіка Крим","Новоіванівка (Магазинська)"]
[null,null,null,null,null,null,null,null,null,null,null,null,null,null,null,"43","Спеціалізовані будівельні роботи",null,null,null,null,null,null,null,null,null,null,null,null,null,null,null,null,null,null,null,null,null,null,null,null,null,null,null,null,"Автономна Республіка Крим","Новокатеринівка"]
[null,null,null,null,null,null,null,null,null,null,null,null,null,null,null,"43.1","Знесення та підготовчі роботи на будівельному майданчику",null,null,null,null,null,null,null,null,null,null,null,null,null,null,null,null,null,null,null,null,null,null,null,null,null,null,null,null,"Автономна Республіка Крим","Новокленове"]
[null,null,null,null,null,null,null,null,null,null,null,null,null,null,null,"43.11","Знесення",null,null,null,null,null,null,null,null,null,null,null,null,null,null,null,null,null,null,null,null,null,null,null,null,null,null,null,null,"Автономна Республіка Крим","Новокостянтинівка"]
[null,null,null,null,null,null,null,null,null,null,null,null,null,null,null,"43.12","Підготовчі роботи на будівельному майданчику",null,null,null,null,null,null,null,null,null,null,null,null,null,null,null,null,null,null,null,null,null,null,null,null,null,null,null,null,"Автономна Республіка Крим","Новокримське"]
[null,null,null,null,null,null,null,null,null,null,null,null,null,null,null,"43.13","Розвідувальне буріння",null,null,null,null,null,null,null,null,null,null,null,null,null,null,null,null,null,null,null,null,null,null,null,null,null,null,null,null,"Автономна Республіка Крим","Новомикільське"]
[null,null,null,null,null,null,null,null,null,null,null,null,null,null,null,"43.2","Електромонтажні, водопровідні та інші будівельно-монтажні роботи",null,null,null,null,null,null,null,null,null,null,null,null,null,null,null,null,null,null,null,null,null,null,null,null,null,null,null,null,"Автономна Республіка Крим","Новомиколаївка"]
[null,null,null,null,null,null,null,null,null,null,null,null,null,null,null,"43.21","Електромонтажні роботи",null,null,null,null,null,null,null,null,null,null,null,null,null,null,null,null,null,null,null,null,null,null,null,null,null,null,null,null,"Автономна Республіка Крим","Новомиколаївка (Орлівської)"]
[null,null,null,null,null,null,null,null,null,null,null,null,null,null,null,"43.22","Монтаж водопровідних мереж, систем опалення та кондиціонування",null,null,null,null,null,null,null,null,null,null,null,null,null,null,null,null,null,null,null,null,null,null,null,null,null,null,null,null,"Автономна Республіка Крим","Новоозерне"]
[null,null,null,null,null,null,null,null,null,null,null,null,null,null,null,"43.29","Інші будівельно-монтажні роботи",null,null,null,null,null,null,null,null,null,null,null,null,null,null,null,null,null,null,null,null,null,null,null,null,null,null,null,null,"Автономна Республіка Крим","Новоолександрівка (Магазинської)"]
[null,null,null,null,null,null,null,null,null,null,null,null,null,null,null,"43.3","Роботи із завершення будівництва",null,null,null,null,null,null,null,null,null,null,null,null,null,null,null,null,null,null,null,null,null,null,null,null,null,null,null,null,"Автономна Республіка Крим","Новоолексіївка"]
[null,null,null,null,null,null,null,null,null,null,null,null,null,null,null,"43.31","Штукатурні роботи",null,null,null,null,null,null,null,null,null,null,null,null,null,null,null,null,null,null,null,null,null,null,null,null,null,null,null,null,"Автономна Республіка Крим","Новопавлівка"]
[null,null,null,null,null,null,null,null,null,null,null,null,null,null,null,"43.32","Установлення столярних виробів",null,null,null,null,null,null,null,null,null,null,null,null,null,null,null,null,null,null,null,null,null,null,null,null,null,null,null,null,"Автономна Республіка Крим","Новопавлівка (Новопавлівської)"]
[null,null,null,null,null,null,null,null,null,null,null,null,null,null,null,"46.24","Оптова торгівля шкірсировиною, шкурами та шкірою",null,null,null,null,null,null,null,null,null,null,null,null,null,null,null,null,null,null,null,null,null,null,null,null,null,null,null,null,"Автономна Республіка Крим","Опушки"]
[null,null,null,null,null,null,null,null,null,null,null,null,null,null,null,"46.61","Оптова торгівля сільськогосподарськими машинами й устаткованням",null,null,null,null,null,null,null,null,null,null,null,null,null,null,null,null,null,null,null,null,null,null,null,null,null,null,null,null,"Автономна Республіка Крим","Первомайське (Первомайської)"]
[null,null,null,null,null,null,null,null,null,null,null,null,null,null,null,"47.11","Роздрібна торгівля в неспеціалізованих магазинах переважно продуктами харчування, напоями та тютюновими виробами",null,null,null,null,null,null,null,null,null,null,null,null,null,null,null,null,null,null,null,null,null,null,null,null,null,null,null,null,"Автономна Республіка Крим","Побєдне"]
[null,null,null,null,null,null,null,null,null,null,null,null,null,null,null,"50.2","Вантажний морський транспорт",null,null,null,null,null,null,null,null,null,null,null,null,null,null,null,null,null,null,null,null,null,null,null,null,null,null,null,null,"Автономна Республіка Крим","Розкішне"]
[null,null,null,null,null,null,null,null,null,null,null,null,null,null,null,"52.24","Транспортне оброблення вантажів",null,null,null,null,null,null,null,null,null,null,null,null,null,null,null,null,null,null,null,null,null,null,null,null,null,null,null,null,"Автономна Республіка Крим","Санаторне"]
[null,null,null,null,null,null,null,null,null,null,null,null,null,null,null,"61.90","Інша діяльність у сфері електрозв'язку",null,null,null,null,null,null,null,null,null,null,null,null,null,null,null,null,null,null,null,null,null,null,null,null,null,null,null,null,"Автономна Республіка Крим","Степне (Степновської)"]
[null,null,null,null,null,null,null,null,null,null,null,null,null,null,null,"64.91","Фінансовий лізинг",null,null,null,null,null,null,null,null,null,null,null,null,null,null,null,null,null,null,null,null,null,null,null,null,null,null,null,null,"Автономна Республіка Крим","Тепле"]
[null,null,null,null,null,null,null,null,null,null,null,null,null,null,null,"73.2","Дослідження кон'юнктури ринку та виявлення громадської думки",null,null,null,null,null,null,null,null,null,null,null,null,null,null,null,null,null,null,null,null,null,null,null,null,null,null,null,null,"Автономна Республіка Крим","Цвіточне"]
[null,null,null,null,null,null,null,null,null,null,null,null,null,null,null,"77.32","Надання в оренду будівельних машин і устатковання",null,null,null,null,null,null,null,null,null,null,null,null,null,null,null,null,null,null,null,null,null,null,null,null,null,null,null,null,"Автономна Республіка Крим","Шаумян"]
[null,null,null,null,null,null,null,null,null,null,null,null,null,null,null,"79.90","Надання інших послуг із бронювання та пов'язана з цим діяльність",null,null,null,null,null,null,null,null,null,null,null,null,null,null,null,null,null,null,null,null,null,null,null,null,null,null,null,null,"Автономна Республіка Крим","Яковлівка"]
[null,null,null,null,null,null,null,null,null,null,null,null,null,null,null,"85.52","Освіта у сфері культури",null,null,null,null,null,null,null,null,null,null,null,null,null,null,null,null,null,null,null,null,null,null,null,null,null,null,null,null,"Вінницька","Бохоники"]
[null,null,null,null,null,null,null,null,null,null,null,null,null,null,null,"88.1","Надання соціальної допомоги без забезпечення проживання для осіб похилого віку та інвалідів",null,null,null,null,null,null,null,null,null,null,null,null,null,null,null,null,null,null,null,null,null,null,null,null,null,null,null,null,"Вінницька","Васютинці"]
[null,null,null,null,null,null,null,null,null,null,null,null,null,null,null,"96.04","Діяльність із забезпечення фізичного комфорту",null,null,null,null,null,null,null,null,null,null,null,null,null,null,null,null,null,null,null,null,null,null,null,null,null,null,null,null,"Вінницька","Глибока долина"]
[null,null,null,null,null,null,null,null,null,null,null,null,null,null,null,null,null,null,null,null,null,null,null,null,null,null,null,null,null,null,null,null,null,null,null,null,null,null,null,null,null,null,null,null,null,"Вінницька","Гриненки"]
[null,null,null,null,null,null,null,null,null,null,null,null,null,null,null,null,null,null,null,null,null,null,null,null,null,null,null,null,null,null,null,null,null,null,null,null,null,null,null,null,null,null,null,null,null,"Вінницька","Жабелівка"]
[null,null,null,null,null,null,null,null,null,null,null,null,null,null,null,null,null,null,null,null,null,null,null,null,null,null,null,null,null,null,null,null,null,null,null,null,null,null,null,null,null,null,null,null,null,"Вінницька","Закриниччя"]
[null,null,null,null,null,null,null,null,null,null,null,null,null,null,null,null,null,null,null,null,null,null,null,null,null,null,null,null,null,null,null,null,null,null,null,null,null,null,null,null,null,null,null,null,null,"Вінницька","Кисляк (Карбівська сільська рада)"]
[null,null,null,null,null,null,null,null,null,null,null,null,null,null,null,null,null,null,null,null,null,null,null,null,null,null,null,null,null,null,null,null,null,null,null,null,null,null,null,null,null,null,null,null,null,"Вінницька","Комаргородське, селище"]
[null,null,null,null,null,null,null,null,null,null,null,null,null,null,null,null,null,null,null,null,null,null,null,null,null,null,null,null,null,null,null,null,null,null,null,null,null,null,null,null,null,null,null,null,null,"Вінницька","Куманівці"]
[null,null,null,null,null,null,null,null,null,null,null,null,null,null,null,null,null,null,null,null,null,null,null,null,null,null,null,null,null,null,null,null,null,null,null,null,null,null,null,null,null,null,null,null,null,"Вінницька","Лип'ятин"]
[null,null,null,null,null,null,null,null,null,null,null,null,null,null,null,null,null,null,null,null,null,null,null,null,null,null,null,null,null,null,null,null,null,null,null,null,null,null,null,null,null,null,null,null,null,"Вінницька","Мар'янівське, селище"]
[null,null,null,null,null,null,null,null,null,null,null,null,null,null,null,null,null,null,null,null,null,null,null,null,null,null,null,null,null,null,null,null,null,null,null,null,null,null,null,null,null,null,null,null,null,"Вінницька","Мончинці"]
[null,null,null,null,null,null,null,null,null,null,null,null,null,null,null,null,null,null,null,null,null,null,null,null,null,null,null,null,null,null,null,null,null,null,null,null,null,null,null,null,null,null,null,null,null,"Вінницька","Нишівці"]
[null,null,null,null,null,null,null,null,null,null,null,null,null,null,null,null,null,null,null,null,null,null,null,null,null,null,null,null,null,null,null,null,null,null,null,null,null,null,null,null,null,null,null,null,null,"Вінницька","Петрунівка"]
[null,null,null,null,null,null,null,null,null,null,null,null,null,null,null,null,null,null,null,null,null,null,null,null,null,null,null,null,null,null,null,null,null,null,null,null,null,null,null,null,null,null,null,null,null,"Вінницька","Польова Лисіївка"]
[null,null,null,null,null,null,null,null,null,null,null,null,null,null,null,null,null,null,null,null,null,null,null,null,null,null,null,null,null,null,null,null,null,null,null,null,null,null,null,null,null,null,null,null,null,"Вінницька","Саїнка"]
[null,null,null,null,null,null,null,null,null,null,null,null,null,null,null,null,null,null,null,null,null,null,null,null,null,null,null,null,null,null,null,null,null,null,null,null,null,null,null,null,null,null,null,null,null,"Вінницька","Сиваківці"]
[null,null,null,null,null,null,null,null,null,null,null,null,null,null,null,null,null,null,null,null,null,null,null,null,null,null,null,null,null,null,null,null,null,null,null,null,null,null,null,null,null,null,null,null,null,"Вінницька","Сподахи"]
[null,null,null,null,null,null,null,null,null,null,null,null,null,null,null,null,null,null,null,null,null,null,null,null,null,null,null,null,null,null,null,null,null,null,null,null,null,null,null,null,null,null,null,null,null,"Вінницька","Теси"]
[null,null,null,null,null,null,null,null,null,null,null,null,null,null,null,null,null,null,null,null,null,null,null,null,null,null,null,null,null,null,null,null,null,null,null,null,null,null,null,null,null,null,null,null,null,"Вінницька","Уладівське"]
[null,null,null,null,null,null,null,null,null,null,null,null,null,null,null,null,null,null,null,null,null,null,null,null,null,null,null,null,null,null,null,null,null,null,null,null,null,null,null,null,null,null,null,null,null,"Вінницька","Шипинки"]
[null,null,null,null,null,null,null,null,null,null,null,null,null,null,null,null,null,null,null,null,null,null,null,null,null,null,null,null,null,null,null,null,null,null,null,null,null,null,null,null,null,null,null,null,null,"Вінницька","Щучинці"]
[null,null,null,null,null,null,null,null,null,null,null,null,null,null,null,null,null,null,null,null,null,null,null,null,null,null,null,null,null,null,null,null,null,null,null,null,null,null,null,null,null,null,null,null,null,"Волинська","Ботин"]
[null,null,null,null,null,null,null,null,null,null,null,null,null,null,null,null,null,null,null,null,null,null,null,null,null,null,null,null,null,null,null,null,null,null,null,null,null,null,null,null,null,null,null,null,null,"Волинська","Буяни"]
[null,null,null,null,null,null,null,null,null,null,null,null,null,null,null,null,null,null,null,null,null,null,null,null,null,null,null,null,null,null,null,null,null,null,null,null,null,null,null,null,null,null,null,null,null,"Волинська","Воля Свійчівська"]
[null,null,null,null,null,null,null,null,null,null,null,null,null,null,null,null,null,null,null,null,null,null,null,null,null,null,null,null,null,null,null,null,null,null,null,null,null,null,null,null,null,null,null,null,null,"Волинська","Горохів"]
[null,null,null,null,null,null,null,null,null,null,null,null,null,null,null,null,null,null,null,null,null,null,null,null,null,null,null,null,null,null,null,null,null,null,null,null,null,null,null,null,null,null,null,null,null,"Волинська","Гупали"]
[null,null,null,null,null,null,null,null,null,null,null,null,null,null,null,null,null,null,null,null,null,null,null,null,null,null,null,null,null,null,null,null,null,null,null,null,null,null,null,null,null,null,null,null,null,"Волинська","Запілля"]
[null,null,null,null,null,null,null,null,null,null,null,null,null,null,null,null,null,null,null,null,null,null,null,null,null,null,null,null,null,null,null,null,null,null,null,null,null,null,null,null,null,null,null,null,null,"Волинська","Зміїнець"]
[null,null,null,null,null,null,null,null,null,null,null,null,null,null,null,null,null,null,null,null,null,null,null,null,null,null,null,null,null,null,null,null,null,null,null,null,null,null,null,null,null,null,null,null,null,"Волинська","Краснодуб'я"]
[null,null,null,null,null,null,null,null,null,null,null,null,null,null,null,null,null,null,null,null,null,null,null,null,null,null,null,null,null,null,null,null,null,null,null,null,null,null,null,null,null,null,null,null,null,"Волинська","Кутрів"]
[null,null,null,null,null,null,null,null,null,null,null,null,null,null,null,null,null,null,null,null,null,null,null,null,null,null,null,null,null,null,null,null,null,null,null,null,null,null,null,null,null,null,null,null,null,"Волинська","Любешівська Воля"]
[null,null,null,null,null,null,null,null,null,null,null,null,null,null,null,null,null,null,null,null,null,null,null,null,null,null,null,null,null,null,null,null,null,null,null,null,null,null,null,null,null,null,null,null,null,"Волинська","Мировичі"]
[null,null,null,null,null,null,null,null,null,null,null,null,null,null,null,null,null,null,null,null,null,null,null,null,null,null,null,null,null,null,null,null,null,null,null,null,null,null,null,null,null,null,null,null,null,"Волинська","Муравище"]
[null,null,null,null,null,null,null,null,null,null,null,null,null,null,null,null,null,null,null,null,null,null,null,null,null,null,null,null,null,null,null,null,null,null,null,null,null,null,null,null,null,null,null,null,null,"Волинська","Осекрів"]
[null,null,null,null,null,null,null,null,null,null,null,null,null,null,null,null,null,null,null,null,null,null,null,null,null,null,null,null,null,null,null,null,null,null,null,null,null,null,null,null,null,null,null,null,null,"Волинська","Писарева Воля"]
[null,null,null,null,null,null,null,null,null,null,null,null,null,null,null,null,null,null,null,null,null,null,null,null,null,null,null,null,null,null,null,null,null,null,null,null,null,null,null,null,null,null,null,null,null,"Волинська","Рокині"]
[null,null,null,null,null,null,null,null,null,null,null,null,null,null,null,null,null,null,null,null,null,null,null,null,null,null,null,null,null,null,null,null,null,null,null,null,null,null,null,null,null,null,null,null,null,"Волинська","Серкизів"]
[null,null,null,null,null,null,null,null,null,null,null,null,null,null,null,null,null,null,null,null,null,null,null,null,null,null,null,null,null,null,null,null,null,null,null,null,null,null,null,null,null,null,null,null,null,"Волинська","Тагачин"]
[null,null,null,null,null,null,null,null,null,null,null,null,null,null,null,null,null,null,null,null,null,null,null,null,null,null,null,null,null,null,null,null,null,null,null,null,null,null,null,null,null,null,null,null,null,"Волинська","Трубки"]
[null,null,null,null,null,null,null,null,null,null,null,null,null,null,null,null,null,null,null,null,null,null,null,null,null,null,null,null,null,null,null,null,null,null,null,null,null,null,null,null,null,null,null,null,null,"Волинська","Холоневичі"]
[null,null,null,null,null,null,null,null,null,null,null,null,null,null,null,null,null,null,null,null,null,null,null,null,null,null,null,null,null,null,null,null,null,null,null,null,null,null,null,null,null,null,null,null,null,"Волинська","Якушів"]
[null,null,null,null,null,null,null,null,null,null,null,null,null,null,null,null,null,null,null,null,null,null,null,null,null,null,null,null,null,null,null,null,null,null,null,null,null,null,null,null,null,null,null,null,null,"Дніпропетровська","Антонівське"]
[null,null,null,null,null,null,null,null,null,null,null,null,null,null,null,null,null,null,null,null,null,null,null,null,null,null,null,null,null,null,null,null,null,null,null,null,null,null,null,null,null,null,null,null,null,"Дніпропетровська","Вербове (Бабайківська сільська рада)"]
[null,null,null,null,null,null,null,null,null,null,null,null,null,null,null,null,null,null,null,null,null,null,null,null,null,null,null,null,null,null,null,null,null,null,null,null,null,null,null,null,null,null,null,null,null,"Дніпропетровська","Веселе (Раївська)"]
[null,null,null,null,null,null,null,null,null,null,null,null,null,null,null,null,null,null,null,null,null,null,null,null,null,null,null,null,null,null,null,null,null,null,null,null,null,null,null,null,null,null,null,null,null,"Дніпропетровська","Гнатівка (Михайлівська сільська рада)"]
[null,null,null,null,null,null,null,null,null,null,null,null,null,null,null,null,null,null,null,null,null,null,null,null,null,null,null,null,null,null,null,null,null,null,null,null,null,null,null,null,null,null,null,null,null,"Дніпропетровська","Гришаї"]
[null,null,null,null,null,null,null,null,null,null,null,null,null,null,null,null,null,null,null,null,null,null,null,null,null,null,null,null,null,null,null,null,null,null,null,null,null,null,null,null,null,null,null,null,null,"Дніпропетровська","Євецько-Миколаївка"]
[null,null,null,null,null,null,null,null,null,null,null,null,null,null,null,null,null,null,null,null,null,null,null,null,null,null,null,null,null,null,null,null,null,null,null,null,null,null,null,null,null,null,null,null,null,"Дніпропетровська","Запорізьке (Запорізька сільська рада)"]
[null,null,null,null,null,null,null,null,null,null,null,null,null,null,null,null,null,null,null,null,null,null,null,null,null,null,null,null,null,null,null,null,null,null,null,null,null,null,null,null,null,null,null,null,null,"Дніпропетровська","Зелений Гай (Українська сільрада)"]
[null,null,null,null,null,null,null,null,null,null,null,null,null,null,null,null,null,null,null,null,null,null,null,null,null,null,null,null,null,null,null,null,null,null,null,null,null,null,null,null,null,null,null,null,null,"Дніпропетровська","Каплистівка"]
[null,null,null,null,null,null,null,null,null,null,null,null,null,null,null,null,null,null,null,null,null,null,null,null,null,null,null,null,null,null,null,null,null,null,null,null,null,null,null,null,null,null,null,null,null,"Дніпропетровська","Козодуб (Червоноіванівська сільська рада)"]
[null,null,null,null,null,null,null,null,null,null,null,null,null,null,null,null,null,null,null,null,null,null,null,null,null,null,null,null,null,null,null,null,null,null,null,null,null,null,null,null,null,null,null,null,null,"Дніпропетровська","Кринички (Марє-Дмитрівська сільська рада)"]
[null,null,null,null,null,null,null,null,null,null,null,null,null,null,null,null,null,null,null,null,null,null,null,null,null,null,null,null,null,null,null,null,null,null,null,null,null,null,null,null,null,null,null,null,null,"Дніпропетровська","Лисківка (Царичанська сільська рада)"]
[null,null,null,null,null,null,null,null,null,null,null,null,null,null,null,null,null,null,null,null,null,null,null,null,null,null,null,null,null,null,null,null,null,null,null,null,null,null,null,null,null,null,null,null,null,"Дніпропетровська","Мар'їнка"]
[null,null,null,null,null,null,null,null,null,null,null,null,null,null,null,null,null,null,null,null,null,null,null,null,null,null,null,null,null,null,null,null,null,null,null,null,null,null,null,null,null,null,null,null,null,"Дніпропетровська","Миколаївка (Миколаївська сільська рада)"]
[null,null,null,null,null,null,null,null,null,null,null,null,null,null,null,null,null,null,null,null,null,null,null,null,null,null,null,null,null,null,null,null,null,null,null,null,null,null,null,null,null,null,null,null,null,"Дніпропетровська","Нові Садки (Красінська сільська рада)"]
[null,null,null,null,null,null,null,null,null,null,null,null,null,null,null,null,null,null,null,null,null,null,null,null,null,null,null,null,null,null,null,null,null,null,null,null,null,null,null,null,null,null,null,null,null,"Дніпропетровська","Новоіванівка (Кам'янська)"]
[null,null,null,null,null,null,null,null,null,null,null,null,null,null,null,null,null,null,null,null,null,null,null,null,null,null,null,null,null,null,null,null,null,null,null,null,null,null,null,null,null,null,null,null,null,"Дніпропетровська","Новостроївка (Бабайківська сільська рада)"]
[null,null,null,null,null,null,null,null,null,null,null,null,null,null,null,null,null,null,null,null,null,null,null,null,null,null,null,null,null,null,null,null,null,null,null,null,null,null,null,null,null,null,null,null,null,"Дніпропетровська","Оленівка (Чапаєвська сільська рада)"]
[null,null,null,null,null,null,null,null,null,null,null,null,null,null,null,null,null,null,null,null,null,null,null,null,null,null,null,null,null,null,null,null,null,null,null,null,null,null,null,null,null,null,null,null,null,"Дніпропетровська","Отрадне (Чапаєвська сільська рада)"]
[null,null,null,null,null,null,null,null,null,null,null,null,null,null,null,null,null,null,null,null,null,null,null,null,null,null,null,null,null,null,null,null,null,null,null,null,null,null,null,null,null,null,null,null,null,"Дніпропетровська","Почино-Софіївка"]
[null,null,null,null,null,null,null,null,null,null,null,null,null,null,null,null,null,null,null,null,null,null,null,null,null,null,null,null,null,null,null,null,null,null,null,null,null,null,null,null,null,null,null,null,null,"Дніпропетровська","Радевичеве (Андріївська сільська рада)"]
[null,null,null,null,null,null,null,null,null,null,null,null,null,null,null,null,null,null,null,null,null,null,null,null,null,null,null,null,null,null,null,null,null,null,null,null,null,null,null,null,null,null,null,null,null,"Дніпропетровська","Сорокопанівка (Покровська сільська рада)"]
[null,null,null,null,null,null,null,null,null,null,null,null,null,null,null,null,null,null,null,null,null,null,null,null,null,null,null,null,null,null,null,null,null,null,null,null,null,null,null,null,null,null,null,null,null,"Дніпропетровська","Сурське"]
[null,null,null,null,null,null,null,null,null,null,null,null,null,null,null,null,null,null,null,null,null,null,null,null,null,null,null,null,null,null,null,null,null,null,null,null,null,null,null,null,null,null,null,null,null,"Дніпропетровська","Томаківка"]
[null,null,null,null,null,null,null,null,null,null,null,null,null,null,null,null,null,null,null,null,null,null,null,null,null,null,null,null,null,null,null,null,null,null,null,null,null,null,null,null,null,null,null,null,null,"Дніпропетровська","Чаус"]
[null,null,null,null,null,null,null,null,null,null,null,null,null,null,null,null,null,null,null,null,null,null,null,null,null,null,null,null,null,null,null,null,null,null,null,null,null,null,null,null,null,null,null,null,null,"Дніпропетровська","Червоний Промінь (Червонопроміньська сільська рада)"]
[null,null,null,null,null,null,null,null,null,null,null,null,null,null,null,null,null,null,null,null,null,null,null,null,null,null,null,null,null,null,null,null,null,null,null,null,null,null,null,null,null,null,null,null,null,"Дніпропетровська","Юр'ївське"]
[null,null,null,null,null,null,null,null,null,null,null,null,null,null,null,null,null,null,null,null,null,null,null,null,null,null,null,null,null,null,null,null,null,null,null,null,null,null,null,null,null,null,null,null,null,"Донецька","Бахчовик"]
[null,null,null,null,null,null,null,null,null,null,null,null,null,null,null,null,null,null,null,null,null,null,null,null,null,null,null,null,null,null,null,null,null,null,null,null,null,null,null,null,null,null,null,null,null,"Донецька","Виселки"]
[null,null,null,null,null,null,null,null,null,null,null,null,null,null,null,null,null,null,null,null,null,null,null,null,null,null,null,null,null,null,null,null,null,null,null,null,null,null,null,null,null,null,null,null,null,"Донецька","Володине (Старомлинівська с/р)"]
[null,null,null,null,null,null,null,null,null,null,null,null,null,null,null,null,null,null,null,null,null,null,null,null,null,null,null,null,null,null,null,null,null,null,null,null,null,null,null,null,null,null,null,null,null,"Донецька","Дробишеве"]
[null,null,null,null,null,null,null,null,null,null,null,null,null,null,null,null,null,null,null,null,null,null,null,null,null,null,null,null,null,null,null,null,null,null,null,null,null,null,null,null,null,null,null,null,null,"Донецька","Заїченко"]
[null,null,null,null,null,null,null,null,null,null,null,null,null,null,null,null,null,null,null,null,null,null,null,null,null,null,null,null,null,null,null,null,null,null,null,null,null,null,null,null,null,null,null,null,null,"Донецька","Зугрес"]
[null,null,null,null,null,null,null,null,null,null,null,null,null,null,null,null,null,null,null,null,null,null,null,null,null,null,null,null,null,null,null,null,null,null,null,null,null,null,null,null,null,null,null,null,null,"Донецька","Котлярівське"]
[null,null,null,null,null,null,null,null,null,null,null,null,null,null,null,null,null,null,null,null,null,null,null,null,null,null,null,null,null,null,null,null,null,null,null,null,null,null,null,null,null,null,null,null,null,"Донецька","Кримки"]
[null,null,null,null,null,null,null,null,null,null,null,null,null,null,null,null,null,null,null,null,null,null,null,null,null,null,null,null,null,null,null,null,null,null,null,null,null,null,null,null,null,null,null,null,null,"Донецька","Миколаївка (Новоекономічна селищна рада)"]
[null,null,null,null,null,null,null,null,null,null,null,null,null,null,null,null,null,null,null,null,null,null,null,null,null,null,null,null,null,null,null,null,null,null,null,null,null,null,null,null,null,null,null,null,null,"Донецька","Моспине"]
[null,null,null,null,null,null,null,null,null,null,null,null,null,null,null,null,null,null,null,null,null,null,null,null,null,null,null,null,null,null,null,null,null,null,null,null,null,null,null,null,null,null,null,null,null,"Донецька","Новогнатівка"]
[null,null,null,null,null,null,null,null,null,null,null,null,null,null,null,null,null,null,null,null,null,null,null,null,null,null,null,null,null,null,null,null,null,null,null,null,null,null,null,null,null,null,null,null,null,"Донецька","Обільне"]
[null,null,null,null,null,null,null,null,null,null,null,null,null,null,null,null,null,null,null,null,null,null,null,null,null,null,null,null,null,null,null,null,null,null,null,null,null,null,null,null,null,null,null,null,null,"Донецька","Пищевик"]
[null,null,null,null,null,null,null,null,null,null,null,null,null,null,null,null,null,null,null,null,null,null,null,null,null,null,null,null,null,null,null,null,null,null,null,null,null,null,null,null,null,null,null,null,null,"Донецька","Прохорівка"]
[null,null,null,null,null,null,null,null,null,null,null,null,null,null,null,null,null,null,null,null,null,null,null,null,null,null,null,null,null,null,null,null,null,null,null,null,null,null,null,null,null,null,null,null,null,"Донецька","Рідкодуб"]
[null,null,null,null,null,null,null,null,null,null,null,null,null,null,null,null,null,null,null,null,null,null,null,null,null,null,null,null,null,null,null,null,null,null,null,null,null,null,null,null,null,null,null,null,null,"Донецька","Сопине"]
[null,null,null,null,null,null,null,null,null,null,null,null,null,null,null,null,null,null,null,null,null,null,null,null,null,null,null,null,null,null,null,null,null,null,null,null,null,null,null,null,null,null,null,null,null,"Донецька","Трепельне"]
[null,null,null,null,null,null,null,null,null,null,null,null,null,null,null,null,null,null,null,null,null,null,null,null,null,null,null,null,null,null,null,null,null,null,null,null,null,null,null,null,null,null,null,null,null,"Донецька","Шабельківка"]
[null,null,null,null,null,null,null,null,null,null,null,null,null,null,null,null,null,null,null,null,null,null,null,null,null,null,null,null,null,null,null,null,null,null,null,null,null,null,null,null,null,null,null,null,null,"Донецька","Ялинське (Новопетриківська с/р)"]
[null,null,null,null,null,null,null,null,null,null,null,null,null,null,null,null,null,null,null,null,null,null,null,null,null,null,null,null,null,null,null,null,null,null,null,null,null,null,null,null,null,null,null,null,null,"Житомирська","Білилівка"]
[null,null,null,null,null,null,null,null,null,null,null,null,null,null,null,null,null,null,null,null,null,null,null,null,null,null,null,null,null,null,null,null,null,null,null,null,null,null,null,null,null,null,null,null,null,"Житомирська","Брід"]
[null,null,null,null,null,null,null,null,null,null,null,null,null,null,null,null,null,null,null,null,null,null,null,null,null,null,null,null,null,null,null,null,null,null,null,null,null,null,null,null,null,null,null,null,null,"Житомирська","Вакуленчук"]
[null,null,null,null,null,null,null,null,null,null,null,null,null,null,null,null,null,null,null,null,null,null,null,null,null,null,null,null,null,null,null,null,null,null,null,null,null,null,null,null,null,null,null,null,null,"Житомирська","Вишнянка"]
[null,null,null,null,null,null,null,null,null,null,null,null,null,null,null,null,null,null,null,null,null,null,null,null,null,null,null,null,null,null,null,null,null,null,null,null,null,null,null,null,null,null,null,null,null,"Житомирська","Голубин"]
[null,null,null,null,null,null,null,null,null,null,null,null,null,null,null,null,null,null,null,null,null,null,null,null,null,null,null,null,null,null,null,null,null,null,null,null,null,null,null,null,null,null,null,null,null,"Житомирська","Гута -Забілоцька"]
[null,null,null,null,null,null,null,null,null,null,null,null,null,null,null,null,null,null,null,null,null,null,null,null,null,null,null,null,null,null,null,null,null,null,null,null,null,null,null,null,null,null,null,null,null,"Житомирська","Дівошин"]
[null,null,null,null,null,null,null,null,null,null,null,null,null,null,null,null,null,null,null,null,null,null,null,null,null,null,null,null,null,null,null,null,null,null,null,null,null,null,null,null,null,null,null,null,null,"Житомирська","Збраньки"]
[null,null,null,null,null,null,null,null,null,null,null,null,null,null,null,null,null,null,null,null,null,null,null,null,null,null,null,null,null,null,null,null,null,null,null,null,null,null,null,null,null,null,null,null,null,"Житомирська","Іванопіль"]
[null,null,null,null,null,null,null,null,null,null,null,null,null,null,null,null,null,null,null,null,null,null,null,null,null,null,null,null,null,null,null,null,null,null,null,null,null,null,null,null,null,null,null,null,null,"Житомирська","Кораки"]
[null,null,null,null,null,null,null,null,null,null,null,null,null,null,null,null,null,null,null,null,null,null,null,null,null,null,null,null,null,null,null,null,null,null,null,null,null,null,null,null,null,null,null,null,null,"Житомирська","Краївщина"]
[null,null,null,null,null,null,null,null,null,null,null,null,null,null,null,null,null,null,null,null,null,null,null,null,null,null,null,null,null,null,null,null,null,null,null,null,null,null,null,null,null,null,null,null,null,"Житомирська","Лизник"]
[null,null,null,null,null,null,null,null,null,null,null,null,null,null,null,null,null,null,null,null,null,null,null,null,null,null,null,null,null,null,null,null,null,null,null,null,null,null,null,null,null,null,null,null,null,"Житомирська","Мала Чернігівка"]
[null,null,null,null,null,null,null,null,null,null,null,null,null,null,null,null,null,null,null,null,null,null,null,null,null,null,null,null,null,null,null,null,null,null,null,null,null,null,null,null,null,null,null,null,null,"Житомирська","Маркова Волиця"]
[null,null,null,null,null,null,null,null,null,null,null,null,null,null,null,null,null,null,null,null,null,null,null,null,null,null,null,null,null,null,null,null,null,null,null,null,null,null,null,null,null,null,null,null,null,"Житомирська","Нивки"]
[null,null,null,null,null,null,null,null,null,null,null,null,null,null,null,null,null,null,null,null,null,null,null,null,null,null,null,null,null,null,null,null,null,null,null,null,null,null,null,null,null,null,null,null,null,"Житомирська","Нові Жадьки"]
[null,null,null,null,null,null,null,null,null,null,null,null,null,null,null,null,null,null,null,null,null,null,null,null,null,null,null,null,null,null,null,null,null,null,null,null,null,null,null,null,null,null,null,null,null,"Житомирська","Павленківка"]
[null,null,null,null,null,null,null,null,null,null,null,null,null,null,null,null,null,null,null,null,null,null,null,null,null,null,null,null,null,null,null,null,null,null,null,null,null,null,null,null,null,null,null,null,null,"Житомирська","Пилипонка"]
[null,null,null,null,null,null,null,null,null,null,null,null,null,null,null,null,null,null,null,null,null,null,null,null,null,null,null,null,null,null,null,null,null,null,null,null,null,null,null,null,null,null,null,null,null,"Житомирська","Привороття"]
[null,null,null,null,null,null,null,null,null,null,null,null,null,null,null,null,null,null,null,null,null,null,null,null,null,null,null,null,null,null,null,null,null,null,null,null,null,null,null,null,null,null,null,null,null,"Житомирська","Рудня-Більківська"]
[null,null,null,null,null,null,null,null,null,null,null,null,null,null,null,null,null,null,null,null,null,null,null,null,null,null,null,null,null,null,null,null,null,null,null,null,null,null,null,null,null,null,null,null,null,"Житомирська","Середи"]
[null,null,null,null,null,null,null,null,null,null,null,null,null,null,null,null,null,null,null,null,null,null,null,null,null,null,null,null,null,null,null,null,null,null,null,null,null,null,null,null,null,null,null,null,null,"Житомирська","Старицьке"]
[null,null,null,null,null,null,null,null,null,null,null,null,null,null,null,null,null,null,null,null,null,null,null,null,null,null,null,null,null,null,null,null,null,null,null,null,null,null,null,null,null,null,null,null,null,"Житомирська","Стриєва"]
[null,null,null,null,null,null,null,null,null,null,null,null,null,null,null,null,null,null,null,null,null,null,null,null,null,null,null,null,null,null,null,null,null,null,null,null,null,null,null,null,null,null,null,null,null,"Житомирська","Хлупляни"]
[null,null,null,null,null,null,null,null,null,null,null,null,null,null,null,null,null,null,null,null,null,null,null,null,null,null,null,null,null,null,null,null,null,null,null,null,null,null,null,null,null,null,null,null,null,"Житомирська","Червона Волока"]
[null,null,null,null,null,null,null,null,null,null,null,null,null,null,null,null,null,null,null,null,null,null,null,null,null,null,null,null,null,null,null,null,null,null,null,null,null,null,null,null,null,null,null,null,null,"Житомирська","Щеніїв"]
[null,null,null,null,null,null,null,null,null,null,null,null,null,null,null,null,null,null,null,null,null,null,null,null,null,null,null,null,null,null,null,null,null,null,null,null,null,null,null,null,null,null,null,null,null,"Закарпатська","Біласовиця (Біласовицька сільська рада)"]
[null,null,null,null,null,null,null,null,null,null,null,null,null,null,null,null,null,null,null,null,null,null,null,null,null,null,null,null,null,null,null,null,null,null,null,null,null,null,null,null,null,null,null,null,null,"Закарпатська","Виноградів (Виноградівська міська рада)"]
[null,null,null,null,null,null,null,null,null,null,null,null,null,null,null,null,null,null,null,null,null,null,null,null,null,null,null,null,null,null,null,null,null,null,null,null,null,null,null,null,null,null,null,null,null,"Закарпатська","Ганьковиця (Ганьковицька сільська рада)"]
[null,null,null,null,null,null,null,null,null,null,null,null,null,null,null,null,null,null,null,null,null,null,null,null,null,null,null,null,null,null,null,null,null,null,null,null,null,null,null,null,null,null,null,null,null,"Закарпатська","Грабово (Пузняковецька сільська рада)"]
[null,null,null,null,null,null,null,null,null,null,null,null,null,null,null,null,null,null,null,null,null,null,null,null,null,null,null,null,null,null,null,null,null,null,null,null,null,null,null,null,null,null,null,null,null,"Закарпатська","Завосино (Малий Березний)"]
[null,null,null,null,null,null,null,null,null,null,null,null,null,null,null,null,null,null,null,null,null,null,null,null,null,null,null,null,null,null,null,null,null,null,null,null,null,null,null,null,null,null,null,null,null,"Закарпатська","Іршава (Іршавська міська рада)"]
[null,null,null,null,null,null,null,null,null,null,null,null,null,null,null,null,null,null,null,null,null,null,null,null,null,null,null,null,null,null,null,null,null,null,null,null,null,null,null,null,null,null,null,null,null,"Закарпатська","Кричово (Кричівська сільська рада)"]
[null,null,null,null,null,null,null,null,null,null,null,null,null,null,null,null,null,null,null,null,null,null,null,null,null,null,null,null,null,null,null,null,null,null,null,null,null,null,null,null,null,null,null,null,null,"Закарпатська","Лопушанка (Дусинська сільська рада)"]
[null,null,null,null,null,null,null,null,null,null,null,null,null,null,null,null,null,null,null,null,null,null,null,null,null,null,null,null,null,null,null,null,null,null,null,null,null,null,null,null,null,null,null,null,null,"Закарпатська","Нове Давидково (Новодавидківська сільська рада)"]
[null,null,null,null,null,null,null,null,null,null,null,null,null,null,null,null,null,null,null,null,null,null,null,null,null,null,null,null,null,null,null,null,null,null,null,null,null,null,null,null,null,null,null,null,null,"Закарпатська","Осій (Осійська сільська рада)"]
[null,null,null,null,null,null,null,null,null,null,null,null,null,null,null,null,null,null,null,null,null,null,null,null,null,null,null,null,null,null,null,null,null,null,null,null,null,null,null,null,null,null,null,null,null,"Закарпатська","Плоскановиця (Брестівська сільська рада)"]
[null,null,null,null,null,null,null,null,null,null,null,null,null,null,null,null,null,null,null,null,null,null,null,null,null,null,null,null,null,null,null,null,null,null,null,null,null,null,null,null,null,null,null,null,null,"Закарпатська","Свалява (Свалявська міська рада)"]
[null,null,null,null,null,null,null,null,null,null,null,null,null,null,null,null,null,null,null,null,null,null,null,null,null,null,null,null,null,null,null,null,null,null,null,null,null,null,null,null,null,null,null,null,null,"Закарпатська","Терново (Тернівська сільська рада)"]
[null,null,null,null,null,null,null,null,null,null,null,null,null,null,null,null,null,null,null,null,null,null,null,null,null,null,null,null,null,null,null,null,null,null,null,null,null,null,null,null,null,null,null,null,null,"Закарпатська","Усть-Чорна (Усть-Чорнянська селищна рада)"]
[null,null,null,null,null,null,null,null,null,null,null,null,null,null,null,null,null,null,null,null,null,null,null,null,null,null,null,null,null,null,null,null,null,null,null,null,null,null,null,null,null,null,null,null,null,"Закарпатська","Червеньово (Зняцівська сільська рада)"]
[null,null,null,null,null,null,null,null,null,null,null,null,null,null,null,null,null,null,null,null,null,null,null,null,null,null,null,null,null,null,null,null,null,null,null,null,null,null,null,null,null,null,null,null,null,"Запорізька","Богунівка"]
[null,null,null,null,null,null,null,null,null,null,null,null,null,null,null,null,null,null,null,null,null,null,null,null,null,null,null,null,null,null,null,null,null,null,null,null,null,null,null,null,null,null,null,null,null,"Запорізька","Веселівське"]
[null,null,null,null,null,null,null,null,null,null,null,null,null,null,null,null,null,null,null,null,null,null,null,null,null,null,null,null,null,null,null,null,null,null,null,null,null,null,null,null,null,null,null,null,null,"Запорізька","Зелена Балка"]
[null,null,null,null,null,null,null,null,null,null,null,null,null,null,null,null,null,null,null,null,null,null,null,null,null,null,null,null,null,null,null,null,null,null,null,null,null,null,null,null,null,null,null,null,null,"Запорізька","Кінські Роздори"]
[null,null,null,null,null,null,null,null,null,null,null,null,null,null,null,null,null,null,null,null,null,null,null,null,null,null,null,null,null,null,null,null,null,null,null,null,null,null,null,null,null,null,null,null,null,"Запорізька","Люцерна"]
[null,null,null,null,null,null,null,null,null,null,null,null,null,null,null,null,null,null,null,null,null,null,null,null,null,null,null,null,null,null,null,null,null,null,null,null,null,null,null,null,null,null,null,null,null,"Запорізька","Новозлатопіль"]
[null,null,null,null,null,null,null,null,null,null,null,null,null,null,null,null,null,null,null,null,null,null,null,null,null,null,null,null,null,null,null,null,null,null,null,null,null,null,null,null,null,null,null,null,null,"Запорізька","Новостепнянське"]
[null,null,null,null,null,null,null,null,null,null,null,null,null,null,null,null,null,null,null,null,null,null,null,null,null,null,null,null,null,null,null,null,null,null,null,null,null,null,null,null,null,null,null,null,null,"Запорізька","Ручаївка"]
[null,null,null,null,null,null,null,null,null,null,null,null,null,null,null,null,null,null,null,null,null,null,null,null,null,null,null,null,null,null,null,null,null,null,null,null,null,null,null,null,null,null,null,null,null,"Запорізька","Стульневе, селище"]
[null,null,null,null,null,null,null,null,null,null,null,null,null,null,null,null,null,null,null,null,null,null,null,null,null,null,null,null,null,null,null,null,null,null,null,null,null,null,null,null,null,null,null,null,null,"Івано_Франківська","Балинці"]
[null,null,null,null,null,null,null,null,null,null,null,null,null,null,null,null,null,null,null,null,null,null,null,null,null,null,null,null,null,null,null,null,null,null,null,null,null,null,null,null,null,null,null,null,null,"Івано_Франківська","Богородчани"]
[null,null,null,null,null,null,null,null,null,null,null,null,null,null,null,null,null,null,null,null,null,null,null,null,null,null,null,null,null,null,null,null,null,null,null,null,null,null,null,null,null,null,null,null,null,"Івано_Франківська","Вербилівці"]
[null,null,null,null,null,null,null,null,null,null,null,null,null,null,null,null,null,null,null,null,null,null,null,null,null,null,null,null,null,null,null,null,null,null,null,null,null,null,null,null,null,null,null,null,null,"Івано_Франківська","Глушків"]
[null,null,null,null,null,null,null,null,null,null,null,null,null,null,null,null,null,null,null,null,null,null,null,null,null,null,null,null,null,null,null,null,null,null,null,null,null,null,null,null,null,null,null,null,null,"Івано_Франківська","Гузіїв"]
[null,null,null,null,null,null,null,null,null,null,null,null,null,null,null,null,null,null,null,null,null,null,null,null,null,null,null,null,null,null,null,null,null,null,null,null,null,null,null,null,null,null,null,null,null,"Івано_Франківська","Заланів"]
[null,null,null,null,null,null,null,null,null,null,null,null,null,null,null,null,null,null,null,null,null,null,null,null,null,null,null,null,null,null,null,null,null,null,null,null,null,null,null,null,null,null,null,null,null,"Івано_Франківська","Ільці"]
[null,null,null,null,null,null,null,null,null,null,null,null,null,null,null,null,null,null,null,null,null,null,null,null,null,null,null,null,null,null,null,null,null,null,null,null,null,null,null,null,null,null,null,null,null,"Івано_Франківська","Кулачківці"]
[null,null,null,null,null,null,null,null,null,null,null,null,null,null,null,null,null,null,null,null,null,null,null,null,null,null,null,null,null,null,null,null,null,null,null,null,null,null,null,null,null,null,null,null,null,"Івано_Франківська","Лісна Тарновиця"]
[null,null,null,null,null,null,null,null,null,null,null,null,null,null,null,null,null,null,null,null,null,null,null,null,null,null,null,null,null,null,null,null,null,null,null,null,null,null,null,null,null,null,null,null,null,"Івано_Франківська","Межигірці"]
[null,null,null,null,null,null,null,null,null,null,null,null,null,null,null,null,null,null,null,null,null,null,null,null,null,null,null,null,null,null,null,null,null,null,null,null,null,null,null,null,null,null,null,null,null,"Івано_Франківська","Олешів"]
[null,null,null,null,null,null,null,null,null,null,null,null,null,null,null,null,null,null,null,null,null,null,null,null,null,null,null,null,null,null,null,null,null,null,null,null,null,null,null,null,null,null,null,null,null,"Івано_Франківська","Перерив"]
[null,null,null,null,null,null,null,null,null,null,null,null,null,null,null,null,null,null,null,null,null,null,null,null,null,null,null,null,null,null,null,null,null,null,null,null,null,null,null,null,null,null,null,null,null,"Івано_Франківська","Рибне"]
[null,null,null,null,null,null,null,null,null,null,null,null,null,null,null,null,null,null,null,null,null,null,null,null,null,null,null,null,null,null,null,null,null,null,null,null,null,null,null,null,null,null,null,null,null,"Івано_Франківська","Саджавка"]
[null,null,null,null,null,null,null,null,null,null,null,null,null,null,null,null,null,null,null,null,null,null,null,null,null,null,null,null,null,null,null,null,null,null,null,null,null,null,null,null,null,null,null,null,null,"Івано_Франківська","Студинець"]
[null,null,null,null,null,null,null,null,null,null,null,null,null,null,null,null,null,null,null,null,null,null,null,null,null,null,null,null,null,null,null,null,null,null,null,null,null,null,null,null,null,null,null,null,null,"Івано_Франківська","Тужилів"]
[null,null,null,null,null,null,null,null,null,null,null,null,null,null,null,null,null,null,null,null,null,null,null,null,null,null,null,null,null,null,null,null,null,null,null,null,null,null,null,null,null,null,null,null,null,"Івано_Франківська","Юнашків"]
[null,null,null,null,null,null,null,null,null,null,null,null,null,null,null,null,null,null,null,null,null,null,null,null,null,null,null,null,null,null,null,null,null,null,null,null,null,null,null,null,null,null,null,null,null,"Київська","Баришівка"]
[null,null,null,null,null,null,null,null,null,null,null,null,null,null,null,null,null,null,null,null,null,null,null,null,null,null,null,null,null,null,null,null,null,null,null,null,null,null,null,null,null,null,null,null,null,"Київська","Велика Вільшанка"]
[null,null,null,null,null,null,null,null,null,null,null,null,null,null,null,null,null,null,null,null,null,null,null,null,null,null,null,null,null,null,null,null,null,null,null,null,null,null,null,null,null,null,null,null,null,"Київська","Вербова"]
[null,null,null,null,null,null,null,null,null,null,null,null,null,null,null,null,null,null,null,null,null,null,null,null,null,null,null,null,null,null,null,null,null,null,null,null,null,null,null,null,null,null,null,null,null,"Київська","Володимирське"]
[null,null,null,null,null,null,null,null,null,null,null,null,null,null,null,null,null,null,null,null,null,null,null,null,null,null,null,null,null,null,null,null,null,null,null,null,null,null,null,null,null,null,null,null,null,"Київська","Гречанівка"]
[null,null,null,null,null,null,null,null,null,null,null,null,null,null,null,null,null,null,null,null,null,null,null,null,null,null,null,null,null,null,null,null,null,null,null,null,null,null,null,null,null,null,null,null,null,"Київська","Дзвеняче"]
[null,null,null,null,null,null,null,null,null,null,null,null,null,null,null,null,null,null,null,null,null,null,null,null,null,null,null,null,null,null,null,null,null,null,null,null,null,null,null,null,null,null,null,null,null,"Київська","Заострівське"]
[null,null,null,null,null,null,null,null,null,null,null,null,null,null,null,null,null,null,null,null,null,null,null,null,null,null,null,null,null,null,null,null,null,null,null,null,null,null,null,null,null,null,null,null,null,"Київська","Кам'яна Гребля"]
[null,null,null,null,null,null,null,null,null,null,null,null,null,null,null,null,null,null,null,null,null,null,null,null,null,null,null,null,null,null,null,null,null,null,null,null,null,null,null,null,null,null,null,null,null,"Київська","Крушинка"]
[null,null,null,null,null,null,null,null,null,null,null,null,null,null,null,null,null,null,null,null,null,null,null,null,null,null,null,null,null,null,null,null,null,null,null,null,null,null,null,null,null,null,null,null,null,"Київська","Лецьки"]
[null,null,null,null,null,null,null,null,null,null,null,null,null,null,null,null,null,null,null,null,null,null,null,null,null,null,null,null,null,null,null,null,null,null,null,null,null,null,null,null,null,null,null,null,null,"Київська","Мала Тарасівка"]
[null,null,null,null,null,null,null,null,null,null,null,null,null,null,null,null,null,null,null,null,null,null,null,null,null,null,null,null,null,null,null,null,null,null,null,null,null,null,null,null,null,null,null,null,null,"Київська","Мисайлівка"]
[null,null,null,null,null,null,null,null,null,null,null,null,null,null,null,null,null,null,null,null,null,null,null,null,null,null,null,null,null,null,null,null,null,null,null,null,null,null,null,null,null,null,null,null,null,"Київська","Насташка"]
[null,null,null,null,null,null,null,null,null,null,null,null,null,null,null,null,null,null,null,null,null,null,null,null,null,null,null,null,null,null,null,null,null,null,null,null,null,null,null,null,null,null,null,null,null,"Київська","Пасківщина"]
[null,null,null,null,null,null,null,null,null,null,null,null,null,null,null,null,null,null,null,null,null,null,null,null,null,null,null,null,null,null,null,null,null,null,null,null,null,null,null,null,null,null,null,null,null,"Київська","Плюти"]
[null,null,null,null,null,null,null,null,null,null,null,null,null,null,null,null,null,null,null,null,null,null,null,null,null,null,null,null,null,null,null,null,null,null,null,null,null,null,null,null,null,null,null,null,null,"Київська","Розважів"]
[null,null,null,null,null,null,null,null,null,null,null,null,null,null,null,null,null,null,null,null,null,null,null,null,null,null,null,null,null,null,null,null,null,null,null,null,null,null,null,null,null,null,null,null,null,"Київська","Саврань"]
[null,null,null,null,null,null,null,null,null,null,null,null,null,null,null,null,null,null,null,null,null,null,null,null,null,null,null,null,null,null,null,null,null,null,null,null,null,null,null,null,null,null,null,null,null,"Київська","Стоянка"]
[null,null,null,null,null,null,null,null,null,null,null,null,null,null,null,null,null,null,null,null,null,null,null,null,null,null,null,null,null,null,null,null,null,null,null,null,null,null,null,null,null,null,null,null,null,"Київська","Тараща"]
[null,null,null,null,null,null,null,null,null,null,null,null,null,null,null,null,null,null,null,null,null,null,null,null,null,null,null,null,null,null,null,null,null,null,null,null,null,null,null,null,null,null,null,null,null,"Київська","Урсалівка"]
[null,null,null,null,null,null,null,null,null,null,null,null,null,null,null,null,null,null,null,null,null,null,null,null,null,null,null,null,null,null,null,null,null,null,null,null,null,null,null,null,null,null,null,null,null,"Київська","Червоне Поле"]
[null,null,null,null,null,null,null,null,null,null,null,null,null,null,null,null,null,null,null,null,null,null,null,null,null,null,null,null,null,null,null,null,null,null,null,null,null,null,null,null,null,null,null,null,null,"Київська","Шевченківка"]
[null,null,null,null,null,null,null,null,null,null,null,null,null,null,null,null,null,null,null,null,null,null,null,null,null,null,null,null,null,null,null,null,null,null,null,null,null,null,null,null,null,null,null,null,null,"Кіровоградська","Бузникувате"]
[null,null,null,null,null,null,null,null,null,null,null,null,null,null,null,null,null,null,null,null,null,null,null,null,null,null,null,null,null,null,null,null,null,null,null,null,null,null,null,null,null,null,null,null,null,"Кіровоградська","Височанове"]
[null,null,null,null,null,null,null,null,null,null,null,null,null,null,null,null,null,null,null,null,null,null,null,null,null,null,null,null,null,null,null,null,null,null,null,null,null,null,null,null,null,null,null,null,null,"Кіровоградська","Звенигородка"]
[null,null,null,null,null,null,null,null,null,null,null,null,null,null,null,null,null,null,null,null,null,null,null,null,null,null,null,null,null,null,null,null,null,null,null,null,null,null,null,null,null,null,null,null,null,"Кіровоградська","Камбурліївка"]
[null,null,null,null,null,null,null,null,null,null,null,null,null,null,null,null,null,null,null,null,null,null,null,null,null,null,null,null,null,null,null,null,null,null,null,null,null,null,null,null,null,null,null,null,null,"Кіровоградська","Лев-балка"]
[null,null,null,null,null,null,null,null,null,null,null,null,null,null,null,null,null,null,null,null,null,null,null,null,null,null,null,null,null,null,null,null,null,null,null,null,null,null,null,null,null,null,null,null,null,"Кіровоградська","Могилів Курінь"]
[null,null,null,null,null,null,null,null,null,null,null,null,null,null,null,null,null,null,null,null,null,null,null,null,null,null,null,null,null,null,null,null,null,null,null,null,null,null,null,null,null,null,null,null,null,"Кіровоградська","Низове"]
[null,null,null,null,null,null,null,null,null,null,null,null,null,null,null,null,null,null,null,null,null,null,null,null,null,null,null,null,null,null,null,null,null,null,null,null,null,null,null,null,null,null,null,null,null,"Кіровоградська","Піщаний  Брід"]
[null,null,null,null,null,null,null,null,null,null,null,null,null,null,null,null,null,null,null,null,null,null,null,null,null,null,null,null,null,null,null,null,null,null,null,null,null,null,null,null,null,null,null,null,null,"Кіровоградська","П'ятомиколаївка"]
[null,null,null,null,null,null,null,null,null,null,null,null,null,null,null,null,null,null,null,null,null,null,null,null,null,null,null,null,null,null,null,null,null,null,null,null,null,null,null,null,null,null,null,null,null,"Кіровоградська","Сухолітівка"]
[null,null,null,null,null,null,null,null,null,null,null,null,null,null,null,null,null,null,null,null,null,null,null,null,null,null,null,null,null,null,null,null,null,null,null,null,null,null,null,null,null,null,null,null,null,"Кіровоградська","Червоний Ташлик"]
[null,null,null,null,null,null,null,null,null,null,null,null,null,null,null,null,null,null,null,null,null,null,null,null,null,null,null,null,null,null,null,null,null,null,null,null,null,null,null,null,null,null,null,null,null,"Луганська","Бокове-Платове"]
[null,null,null,null,null,null,null,null,null,null,null,null,null,null,null,null,null,null,null,null,null,null,null,null,null,null,null,null,null,null,null,null,null,null,null,null,null,null,null,null,null,null,null,null,null,"Луганська","Велика Мартинівка"]
[null,null,null,null,null,null,null,null,null,null,null,null,null,null,null,null,null,null,null,null,null,null,null,null,null,null,null,null,null,null,null,null,null,null,null,null,null,null,null,null,null,null,null,null,null,"Луганська","Верхньокам'янка"]
[null,null,null,null,null,null,null,null,null,null,null,null,null,null,null,null,null,null,null,null,null,null,null,null,null,null,null,null,null,null,null,null,null,null,null,null,null,null,null,null,null,null,null,null,null,"Луганська","Давидівка"]
[null,null,null,null,null,null,null,null,null,null,null,null,null,null,null,null,null,null,null,null,null,null,null,null,null,null,null,null,null,null,null,null,null,null,null,null,null,null,null,null,null,null,null,null,null,"Луганська","Енгельсове (Енгельсовська селещна рада)"]
[null,null,null,null,null,null,null,null,null,null,null,null,null,null,null,null,null,null,null,null,null,null,null,null,null,null,null,null,null,null,null,null,null,null,null,null,null,null,null,null,null,null,null,null,null,"Луганська","Карпати"]
[null,null,null,null,null,null,null,null,null,null,null,null,null,null,null,null,null,null,null,null,null,null,null,null,null,null,null,null,null,null,null,null,null,null,null,null,null,null,null,null,null,null,null,null,null,"Луганська","Козарик"]
[null,null,null,null,null,null,null,null,null,null,null,null,null,null,null,null,null,null,null,null,null,null,null,null,null,null,null,null,null,null,null,null,null,null,null,null,null,null,null,null,null,null,null,null,null,"Луганська","Куплювате"]
[null,null,null,null,null,null,null,null,null,null,null,null,null,null,null,null,null,null,null,null,null,null,null,null,null,null,null,null,null,null,null,null,null,null,null,null,null,null,null,null,null,null,null,null,null,"Луганська","Лоскутівка"]
[null,null,null,null,null,null,null,null,null,null,null,null,null,null,null,null,null,null,null,null,null,null,null,null,null,null,null,null,null,null,null,null,null,null,null,null,null,null,null,null,null,null,null,null,null,"Луганська","Марківське"]
[null,null,null,null,null,null,null,null,null,null,null,null,null,null,null,null,null,null,null,null,null,null,null,null,null,null,null,null,null,null,null,null,null,null,null,null,null,null,null,null,null,null,null,null,null,"Луганська","Новодружеськ"]
[null,null,null,null,null,null,null,null,null,null,null,null,null,null,null,null,null,null,null,null,null,null,null,null,null,null,null,null,null,null,null,null,null,null,null,null,null,null,null,null,null,null,null,null,null,"Луганська","Новоспасівка"]
[null,null,null,null,null,null,null,null,null,null,null,null,null,null,null,null,null,null,null,null,null,null,null,null,null,null,null,null,null,null,null,null,null,null,null,null,null,null,null,null,null,null,null,null,null,"Луганська","Преображенне"]
[null,null,null,null,null,null,null,null,null,null,null,null,null,null,null,null,null,null,null,null,null,null,null,null,null,null,null,null,null,null,null,null,null,null,null,null,null,null,null,null,null,null,null,null,null,"Луганська","Радісне (Білоскелюватська сільська рада)"]
[null,null,null,null,null,null,null,null,null,null,null,null,null,null,null,null,null,null,null,null,null,null,null,null,null,null,null,null,null,null,null,null,null,null,null,null,null,null,null,null,null,null,null,null,null,"Луганська","Станично-Луганське"]
[null,null,null,null,null,null,null,null,null,null,null,null,null,null,null,null,null,null,null,null,null,null,null,null,null,null,null,null,null,null,null,null,null,null,null,null,null,null,null,null,null,null,null,null,null,"Луганська","Тернівка"]
[null,null,null,null,null,null,null,null,null,null,null,null,null,null,null,null,null,null,null,null,null,null,null,null,null,null,null,null,null,null,null,null,null,null,null,null,null,null,null,null,null,null,null,null,null,"Луганська","Червоногвардійське"]
[null,null,null,null,null,null,null,null,null,null,null,null,null,null,null,null,null,null,null,null,null,null,null,null,null,null,null,null,null,null,null,null,null,null,null,null,null,null,null,null,null,null,null,null,null,"Луганська","Щотове"]
[null,null,null,null,null,null,null,null,null,null,null,null,null,null,null,null,null,null,null,null,null,null,null,null,null,null,null,null,null,null,null,null,null,null,null,null,null,null,null,null,null,null,null,null,null,"Львівська","Бишків"]
[null,null,null,null,null,null,null,null,null,null,null,null,null,null,null,null,null,null,null,null,null,null,null,null,null,null,null,null,null,null,null,null,null,null,null,null,null,null,null,null,null,null,null,null,null,"Львівська","Богутин"]
[null,null,null,null,null,null,null,null,null,null,null,null,null,null,null,null,null,null,null,null,null,null,null,null,null,null,null,null,null,null,null,null,null,null,null,null,null,null,null,null,null,null,null,null,null,"Львівська","Бояничі"]
[null,null,null,null,null,null,null,null,null,null,null,null,null,null,null,null,null,null,null,null,null,null,null,null,null,null,null,null,null,null,null,null,null,null,null,null,null,null,null,null,null,null,null,null,null,"Львівська","Велика Лінина"]
[null,null,null,null,null,null,null,null,null,null,null,null,null,null,null,null,null,null,null,null,null,null,null,null,null,null,null,null,null,null,null,null,null,null,null,null,null,null,null,null,null,null,null,null,null,"Львівська","Верхня Лукавиця"]
[null,null,null,null,null,null,null,null,null,null,null,null,null,null,null,null,null,null,null,null,null,null,null,null,null,null,null,null,null,null,null,null,null,null,null,null,null,null,null,null,null,null,null,null,null,"Львівська","Воля Добростанська"]
[null,null,null,null,null,null,null,null,null,null,null,null,null,null,null,null,null,null,null,null,null,null,null,null,null,null,null,null,null,null,null,null,null,null,null,null,null,null,null,null,null,null,null,null,null,"Львівська","Вуйковичі"]
[null,null,null,null,null,null,null,null,null,null,null,null,null,null,null,null,null,null,null,null,null,null,null,null,null,null,null,null,null,null,null,null,null,null,null,null,null,null,null,null,null,null,null,null,null,"Львівська","Грабівниця"]
[null,null,null,null,null,null,null,null,null,null,null,null,null,null,null,null,null,null,null,null,null,null,null,null,null,null,null,null,null,null,null,null,null,null,null,null,null,null,null,null,null,null,null,null,null,"Львівська","Гуманець"]
[null,null,null,null,null,null,null,null,null,null,null,null,null,null,null,null,null,null,null,null,null,null,null,null,null,null,null,null,null,null,null,null,null,null,null,null,null,null,null,null,null,null,null,null,null,"Львівська","Долини (Стародобротвірська сільська рада)"]
[null,null,null,null,null,null,null,null,null,null,null,null,null,null,null,null,null,null,null,null,null,null,null,null,null,null,null,null,null,null,null,null,null,null,null,null,null,null,null,null,null,null,null,null,null,"Львівська","Жирівка"]
[null,null,null,null,null,null,null,null,null,null,null,null,null,null,null,null,null,null,null,null,null,null,null,null,null,null,null,null,null,null,null,null,null,null,null,null,null,null,null,null,null,null,null,null,null,"Львівська","Журавків"]
[null,null,null,null,null,null,null,null,null,null,null,null,null,null,null,null,null,null,null,null,null,null,null,null,null,null,null,null,null,null,null,null,null,null,null,null,null,null,null,null,null,null,null,null,null,"Львівська","Заставне"]
[null,null,null,null,null,null,null,null,null,null,null,null,null,null,null,null,null,null,null,null,null,null,null,null,null,null,null,null,null,null,null,null,null,null,null,null,null,null,null,null,null,null,null,null,null,"Львівська","Золочів"]
[null,null,null,null,null,null,null,null,null,null,null,null,null,null,null,null,null,null,null,null,null,null,null,null,null,null,null,null,null,null,null,null,null,null,null,null,null,null,null,null,null,null,null,null,null,"Львівська","Кобилеччина"]
[null,null,null,null,null,null,null,null,null,null,null,null,null,null,null,null,null,null,null,null,null,null,null,null,null,null,null,null,null,null,null,null,null,null,null,null,null,null,null,null,null,null,null,null,null,"Львівська","Конюхів"]
[null,null,null,null,null,null,null,null,null,null,null,null,null,null,null,null,null,null,null,null,null,null,null,null,null,null,null,null,null,null,null,null,null,null,null,null,null,null,null,null,null,null,null,null,null,"Львівська","Костенів"]
[null,null,null,null,null,null,null,null,null,null,null,null,null,null,null,null,null,null,null,null,null,null,null,null,null,null,null,null,null,null,null,null,null,null,null,null,null,null,null,null,null,null,null,null,null,"Львівська","Ладанці"]
[null,null,null,null,null,null,null,null,null,null,null,null,null,null,null,null,null,null,null,null,null,null,null,null,null,null,null,null,null,null,null,null,null,null,null,null,null,null,null,null,null,null,null,null,null,"Львівська","Листв'яне"]
[null,null,null,null,null,null,null,null,null,null,null,null,null,null,null,null,null,null,null,null,null,null,null,null,null,null,null,null,null,null,null,null,null,null,null,null,null,null,null,null,null,null,null,null,null,"Львівська","Маїки"]
[null,null,null,null,null,null,null,null,null,null,null,null,null,null,null,null,null,null,null,null,null,null,null,null,null,null,null,null,null,null,null,null,null,null,null,null,null,null,null,null,null,null,null,null,null,"Львівська","Малі Ланки"]
[null,null,null,null,null,null,null,null,null,null,null,null,null,null,null,null,null,null,null,null,null,null,null,null,null,null,null,null,null,null,null,null,null,null,null,null,null,null,null,null,null,null,null,null,null,"Львівська","Молотів"]
[null,null,null,null,null,null,null,null,null,null,null,null,null,null,null,null,null,null,null,null,null,null,null,null,null,null,null,null,null,null,null,null,null,null,null,null,null,null,null,null,null,null,null,null,null,"Львівська","Нагачів"]
[null,null,null,null,null,null,null,null,null,null,null,null,null,null,null,null,null,null,null,null,null,null,null,null,null,null,null,null,null,null,null,null,null,null,null,null,null,null,null,null,null,null,null,null,null,"Львівська","Новини"]
[null,null,null,null,null,null,null,null,null,null,null,null,null,null,null,null,null,null,null,null,null,null,null,null,null,null,null,null,null,null,null,null,null,null,null,null,null,null,null,null,null,null,null,null,null,"Львівська","Опори"]
[null,null,null,null,null,null,null,null,null,null,null,null,null,null,null,null,null,null,null,null,null,null,null,null,null,null,null,null,null,null,null,null,null,null,null,null,null,null,null,null,null,null,null,null,null,"Львівська","Папірня"]
[null,null,null,null,null,null,null,null,null,null,null,null,null,null,null,null,null,null,null,null,null,null,null,null,null,null,null,null,null,null,null,null,null,null,null,null,null,null,null,null,null,null,null,null,null,"Львівська","Пісок"]
[null,null,null,null,null,null,null,null,null,null,null,null,null,null,null,null,null,null,null,null,null,null,null,null,null,null,null,null,null,null,null,null,null,null,null,null,null,null,null,null,null,null,null,null,null,"Львівська","Погірці"]
[null,null,null,null,null,null,null,null,null,null,null,null,null,null,null,null,null,null,null,null,null,null,null,null,null,null,null,null,null,null,null,null,null,null,null,null,null,null,null,null,null,null,null,null,null,"Львівська","Раковища"]
[null,null,null,null,null,null,null,null,null,null,null,null,null,null,null,null,null,null,null,null,null,null,null,null,null,null,null,null,null,null,null,null,null,null,null,null,null,null,null,null,null,null,null,null,null,"Львівська","Рішин"]
[null,null,null,null,null,null,null,null,null,null,null,null,null,null,null,null,null,null,null,null,null,null,null,null,null,null,null,null,null,null,null,null,null,null,null,null,null,null,null,null,null,null,null,null,null,"Львівська","Себечів"]
[null,null,null,null,null,null,null,null,null,null,null,null,null,null,null,null,null,null,null,null,null,null,null,null,null,null,null,null,null,null,null,null,null,null,null,null,null,null,null,null,null,null,null,null,null,"Львівська","Слабаш"]
[null,null,null,null,null,null,null,null,null,null,null,null,null,null,null,null,null,null,null,null,null,null,null,null,null,null,null,null,null,null,null,null,null,null,null,null,null,null,null,null,null,null,null,null,null,"Львівська","Стені"]
[null,null,null,null,null,null,null,null,null,null,null,null,null,null,null,null,null,null,null,null,null,null,null,null,null,null,null,null,null,null,null,null,null,null,null,null,null,null,null,null,null,null,null,null,null,"Львівська","Стрілків"]
[null,null,null,null,null,null,null,null,null,null,null,null,null,null,null,null,null,null,null,null,null,null,null,null,null,null,null,null,null,null,null,null,null,null,null,null,null,null,null,null,null,null,null,null,null,"Львівська","Сушно"]
[null,null,null,null,null,null,null,null,null,null,null,null,null,null,null,null,null,null,null,null,null,null,null,null,null,null,null,null,null,null,null,null,null,null,null,null,null,null,null,null,null,null,null,null,null,"Львівська","Тур'я"]
[null,null,null,null,null,null,null,null,null,null,null,null,null,null,null,null,null,null,null,null,null,null,null,null,null,null,null,null,null,null,null,null,null,null,null,null,null,null,null,null,null,null,null,null,null,"Львівська","Фійна"]
[null,null,null,null,null,null,null,null,null,null,null,null,null,null,null,null,null,null,null,null,null,null,null,null,null,null,null,null,null,null,null,null,null,null,null,null,null,null,null,null,null,null,null,null,null,"Львівська","Черневе"]
[null,null,null,null,null,null,null,null,null,null,null,null,null,null,null,null,null,null,null,null,null,null,null,null,null,null,null,null,null,null,null,null,null,null,null,null,null,null,null,null,null,null,null,null,null,"Львівська","Штуковець"]
[null,null,null,null,null,null,null,null,null,null,null,null,null,null,null,null,null,null,null,null,null,null,null,null,null,null,null,null,null,null,null,null,null,null,null,null,null,null,null,null,null,null,null,null,null,"Миколаївська","Афанасівка"]
[null,null,null,null,null,null,null,null,null,null,null,null,null,null,null,null,null,null,null,null,null,null,null,null,null,null,null,null,null,null,null,null,null,null,null,null,null,null,null,null,null,null,null,null,null,"Миколаївська","Біла  Криниця (Білокриницька)"]
[null,null,null,null,null,null,null,null,null,null,null,null,null,null,null,null,null,null,null,null,null,null,null,null,null,null,null,null,null,null,null,null,null,null,null,null,null,null,null,null,null,null,null,null,null,"Миколаївська","Булацелове (Семенівська)"]
[null,null,null,null,null,null,null,null,null,null,null,null,null,null,null,null,null,null,null,null,null,null,null,null,null,null,null,null,null,null,null,null,null,null,null,null,null,null,null,null,null,null,null,null,null,"Миколаївська","Волна (Олександрівська)"]
[null,null,null,null,null,null,null,null,null,null,null,null,null,null,null,null,null,null,null,null,null,null,null,null,null,null,null,null,null,null,null,null,null,null,null,null,null,null,null,null,null,null,null,null,null,"Миколаївська","Гамове (Кубряцька)"]
[null,null,null,null,null,null,null,null,null,null,null,null,null,null,null,null,null,null,null,null,null,null,null,null,null,null,null,null,null,null,null,null,null,null,null,null,null,null,null,null,null,null,null,null,null,"Миколаївська","Зброшкове (Доманівська)"]
[null,null,null,null,null,null,null,null,null,null,null,null,null,null,null,null,null,null,null,null,null,null,null,null,null,null,null,null,null,null,null,null,null,null,null,null,null,null,null,null,null,null,null,null,null,"Миколаївська","Зелений Гай (Кашперо-Миколаївська)"]
[null,null,null,null,null,null,null,null,null,null,null,null,null,null,null,null,null,null,null,null,null,null,null,null,null,null,null,null,null,null,null,null,null,null,null,null,null,null,null,null,null,null,null,null,null,"Миколаївська","Кашперо-Миколаївка (Кашперо-Миколаївська)"]
[null,null,null,null,null,null,null,null,null,null,null,null,null,null,null,null,null,null,null,null,null,null,null,null,null,null,null,null,null,null,null,null,null,null,null,null,null,null,null,null,null,null,null,null,null,"Миколаївська","Колос Добра (Новоселівська)"]
[null,null,null,null,null,null,null,null,null,null,null,null,null,null,null,null,null,null,null,null,null,null,null,null,null,null,null,null,null,null,null,null,null,null,null,null,null,null,null,null,null,null,null,null,null,"Миколаївська","Лісове (Володимирівська)"]
[null,null,null,null,null,null,null,null,null,null,null,null,null,null,null,null,null,null,null,null,null,null,null,null,null,null,null,null,null,null,null,null,null,null,null,null,null,null,null,null,null,null,null,null,null,"Миколаївська","Макарове (Улянівська)"]
[null,null,null,null,null,null,null,null,null,null,null,null,null,null,null,null,null,null,null,null,null,null,null,null,null,null,null,null,null,null,null,null,null,null,null,null,null,null,null,null,null,null,null,null,null,"Миколаївська","Мостове (Ганнівська)"]
[null,null,null,null,null,null,null,null,null,null,null,null,null,null,null,null,null,null,null,null,null,null,null,null,null,null,null,null,null,null,null,null,null,null,null,null,null,null,null,null,null,null,null,null,null,"Миколаївська","Мостове (Мостівське)"]
[null,null,null,null,null,null,null,null,null,null,null,null,null,null,null,null,null,null,null,null,null,null,null,null,null,null,null,null,null,null,null,null,null,null,null,null,null,null,null,null,null,null,null,null,null,"Миколаївська","Новодмитрівка (Новомихайлівська)"]
[null,null,null,null,null,null,null,null,null,null,null,null,null,null,null,null,null,null,null,null,null,null,null,null,null,null,null,null,null,null,null,null,null,null,null,null,null,null,null,null,null,null,null,null,null,"Миколаївська","Новосілка (Подільська)"]
[null,null,null,null,null,null,null,null,null,null,null,null,null,null,null,null,null,null,null,null,null,null,null,null,null,null,null,null,null,null,null,null,null,null,null,null,null,null,null,null,null,null,null,null,null,"Миколаївська","Олександрівка (Антонівська)"]
[null,null,null,null,null,null,null,null,null,null,null,null,null,null,null,null,null,null,null,null,null,null,null,null,null,null,null,null,null,null,null,null,null,null,null,null,null,null,null,null,null,null,null,null,null,"Миколаївська","Показне (Вільнозапорізька)"]
[null,null,null,null,null,null,null,null,null,null,null,null,null,null,null,null,null,null,null,null,null,null,null,null,null,null,null,null,null,null,null,null,null,null,null,null,null,null,null,null,null,null,null,null,null,"Миколаївська","Пришиб (Висунська)"]
[null,null,null,null,null,null,null,null,null,null,null,null,null,null,null,null,null,null,null,null,null,null,null,null,null,null,null,null,null,null,null,null,null,null,null,null,null,null,null,null,null,null,null,null,null,"Миколаївська","Станіславчик (Болеславчицька)"]
[null,null,null,null,null,null,null,null,null,null,null,null,null,null,null,null,null,null,null,null,null,null,null,null,null,null,null,null,null,null,null,null,null,null,null,null,null,null,null,null,null,null,null,null,null,"Миколаївська","Тернові Поди (Краснознам'янська)"]
[null,null,null,null,null,null,null,null,null,null,null,null,null,null,null,null,null,null,null,null,null,null,null,null,null,null,null,null,null,null,null,null,null,null,null,null,null,null,null,null,null,null,null,null,null,"Миколаївська","Улянівка (Воронцівська)"]
[null,null,null,null,null,null,null,null,null,null,null,null,null,null,null,null,null,null,null,null,null,null,null,null,null,null,null,null,null,null,null,null,null,null,null,null,null,null,null,null,null,null,null,null,null,"Миколаївська","Шмідтівка (Матіясівська)"]
[null,null,null,null,null,null,null,null,null,null,null,null,null,null,null,null,null,null,null,null,null,null,null,null,null,null,null,null,null,null,null,null,null,null,null,null,null,null,null,null,null,null,null,null,null,"Миколаївська","Ясна Зоря (Ольшанська)"]
[null,null,null,null,null,null,null,null,null,null,null,null,null,null,null,null,null,null,null,null,null,null,null,null,null,null,null,null,null,null,null,null,null,null,null,null,null,null,null,null,null,null,null,null,null,"Одеська","Борщі"]
[null,null,null,null,null,null,null,null,null,null,null,null,null,null,null,null,null,null,null,null,null,null,null,null,null,null,null,null,null,null,null,null,null,null,null,null,null,null,null,null,null,null,null,null,null,"Одеська","Вапнярка"]
[null,null,null,null,null,null,null,null,null,null,null,null,null,null,null,null,null,null,null,null,null,null,null,null,null,null,null,null,null,null,null,null,null,null,null,null,null,null,null,null,null,null,null,null,null,"Одеська","Дальнічень"]
[null,null,null,null,null,null,null,null,null,null,null,null,null,null,null,null,null,null,null,null,null,null,null,null,null,null,null,null,null,null,null,null,null,null,null,null,null,null,null,null,null,null,null,null,null,"Одеська","Єфросинівка"]
[null,null,null,null,null,null,null,null,null,null,null,null,null,null,null,null,null,null,null,null,null,null,null,null,null,null,null,null,null,null,null,null,null,null,null,null,null,null,null,null,null,null,null,null,null,"Одеська","Кілія"]
[null,null,null,null,null,null,null,null,null,null,null,null,null,null,null,null,null,null,null,null,null,null,null,null,null,null,null,null,null,null,null,null,null,null,null,null,null,null,null,null,null,null,null,null,null,"Одеська","Котовці"]
[null,null,null,null,null,null,null,null,null,null,null,null,null,null,null,null,null,null,null,null,null,null,null,null,null,null,null,null,null,null,null,null,null,null,null,null,null,null,null,null,null,null,null,null,null,"Одеська","Левадівка"]
[null,null,null,null,null,null,null,null,null,null,null,null,null,null,null,null,null,null,null,null,null,null,null,null,null,null,null,null,null,null,null,null,null,null,null,null,null,null,null,null,null,null,null,null,null,"Одеська","Муравлівка"]
[null,null,null,null,null,null,null,null,null,null,null,null,null,null,null,null,null,null,null,null,null,null,null,null,null,null,null,null,null,null,null,null,null,null,null,null,null,null,null,null,null,null,null,null,null,"Одеська","Нова Плахтіївка"]
[null,null,null,null,null,null,null,null,null,null,null,null,null,null,null,null,null,null,null,null,null,null,null,null,null,null,null,null,null,null,null,null,null,null,null,null,null,null,null,null,null,null,null,null,null,"Одеська","Олександрівка (Петрівська)"]
[null,null,null,null,null,null,null,null,null,null,null,null,null,null,null,null,null,null,null,null,null,null,null,null,null,null,null,null,null,null,null,null,null,null,null,null,null,null,null,null,null,null,null,null,null,"Одеська","Полянецьке"]
[null,null,null,null,null,null,null,null,null,null,null,null,null,null,null,null,null,null,null,null,null,null,null,null,null,null,null,null,null,null,null,null,null,null,null,null,null,null,null,null,null,null,null,null,null,"Одеська","Созонівка"]
[null,null,null,null,null,null,null,null,null,null,null,null,null,null,null,null,null,null,null,null,null,null,null,null,null,null,null,null,null,null,null,null,null,null,null,null,null,null,null,null,null,null,null,null,null,"Одеська","Струтинка"]
[null,null,null,null,null,null,null,null,null,null,null,null,null,null,null,null,null,null,null,null,null,null,null,null,null,null,null,null,null,null,null,null,null,null,null,null,null,null,null,null,null,null,null,null,null,"Одеська","Тузли"]
[null,null,null,null,null,null,null,null,null,null,null,null,null,null,null,null,null,null,null,null,null,null,null,null,null,null,null,null,null,null,null,null,null,null,null,null,null,null,null,null,null,null,null,null,null,"Одеська","Якова"]
[null,null,null,null,null,null,null,null,null,null,null,null,null,null,null,null,null,null,null,null,null,null,null,null,null,null,null,null,null,null,null,null,null,null,null,null,null,null,null,null,null,null,null,null,null,"Полтавська","Бабайкове"]
[null,null,null,null,null,null,null,null,null,null,null,null,null,null,null,null,null,null,null,null,null,null,null,null,null,null,null,null,null,null,null,null,null,null,null,null,null,null,null,null,null,null,null,null,null,"Полтавська","Біївці"]
[null,null,null,null,null,null,null,null,null,null,null,null,null,null,null,null,null,null,null,null,null,null,null,null,null,null,null,null,null,null,null,null,null,null,null,null,null,null,null,null,null,null,null,null,null,"Полтавська","Бурімка"]
[null,null,null,null,null,null,null,null,null,null,null,null,null,null,null,null,null,null,null,null,null,null,null,null,null,null,null,null,null,null,null,null,null,null,null,null,null,null,null,null,null,null,null,null,null,"Полтавська","Вили"]
[null,null,null,null,null,null,null,null,null,null,null,null,null,null,null,null,null,null,null,null,null,null,null,null,null,null,null,null,null,null,null,null,null,null,null,null,null,null,null,null,null,null,null,null,null,"Полтавська","Вінтенці"]
[null,null,null,null,null,null,null,null,null,null,null,null,null,null,null,null,null,null,null,null,null,null,null,null,null,null,null,null,null,null,null,null,null,null,null,null,null,null,null,null,null,null,null,null,null,"Полтавська","Голобородьківське"]
[null,null,null,null,null,null,null,null,null,null,null,null,null,null,null,null,null,null,null,null,null,null,null,null,null,null,null,null,null,null,null,null,null,null,null,null,null,null,null,null,null,null,null,null,null,"Полтавська","Григоро-Бригадирівка"]
[null,null,null,null,null,null,null,null,null,null,null,null,null,null,null,null,null,null,null,null,null,null,null,null,null,null,null,null,null,null,null,null,null,null,null,null,null,null,null,null,null,null,null,null,null,"Полтавська","Дашківка"]
[null,null,null,null,null,null,null,null,null,null,null,null,null,null,null,null,null,null,null,null,null,null,null,null,null,null,null,null,null,null,null,null,null,null,null,null,null,null,null,null,null,null,null,null,null,"Полтавська","Жадани"]
[null,null,null,null,null,null,null,null,null,null,null,null,null,null,null,null,null,null,null,null,null,null,null,null,null,null,null,null,null,null,null,null,null,null,null,null,null,null,null,null,null,null,null,null,null,"Полтавська","Ївженки"]
[null,null,null,null,null,null,null,null,null,null,null,null,null,null,null,null,null,null,null,null,null,null,null,null,null,null,null,null,null,null,null,null,null,null,null,null,null,null,null,null,null,null,null,null,null,"Полтавська","Ковердина Балка"]
[null,null,null,null,null,null,null,null,null,null,null,null,null,null,null,null,null,null,null,null,null,null,null,null,null,null,null,null,null,null,null,null,null,null,null,null,null,null,null,null,null,null,null,null,null,"Полтавська","Коновалівка"]
[null,null,null,null,null,null,null,null,null,null,null,null,null,null,null,null,null,null,null,null,null,null,null,null,null,null,null,null,null,null,null,null,null,null,null,null,null,null,null,null,null,null,null,null,null,"Полтавська","Кунівка"]
[null,null,null,null,null,null,null,null,null,null,null,null,null,null,null,null,null,null,null,null,null,null,null,null,null,null,null,null,null,null,null,null,null,null,null,null,null,null,null,null,null,null,null,null,null,"Полтавська","Ламане"]
[null,null,null,null,null,null,null,null,null,null,null,null,null,null,null,null,null,null,null,null,null,null,null,null,null,null,null,null,null,null,null,null,null,null,null,null,null,null,null,null,null,null,null,null,null,"Полтавська","Лізки"]
[null,null,null,null,null,null,null,null,null,null,null,null,null,null,null,null,null,null,null,null,null,null,null,null,null,null,null,null,null,null,null,null,null,null,null,null,null,null,null,null,null,null,null,null,null,"Полтавська","Малютинці"]
[null,null,null,null,null,null,null,null,null,null,null,null,null,null,null,null,null,null,null,null,null,null,null,null,null,null,null,null,null,null,null,null,null,null,null,null,null,null,null,null,null,null,null,null,null,"Полтавська","Мачухи"]
[null,null,null,null,null,null,null,null,null,null,null,null,null,null,null,null,null,null,null,null,null,null,null,null,null,null,null,null,null,null,null,null,null,null,null,null,null,null,null,null,null,null,null,null,null,"Полтавська","Нижні Яреськи"]
[null,null,null,null,null,null,null,null,null,null,null,null,null,null,null,null,null,null,null,null,null,null,null,null,null,null,null,null,null,null,null,null,null,null,null,null,null,null,null,null,null,null,null,null,null,"Полтавська","Новий Виселок"]
[null,null,null,null,null,null,null,null,null,null,null,null,null,null,null,null,null,null,null,null,null,null,null,null,null,null,null,null,null,null,null,null,null,null,null,null,null,null,null,null,null,null,null,null,null,"Полтавська","Панченки"]
[null,null,null,null,null,null,null,null,null,null,null,null,null,null,null,null,null,null,null,null,null,null,null,null,null,null,null,null,null,null,null,null,null,null,null,null,null,null,null,null,null,null,null,null,null,"Полтавська","Першотравневе"]
[null,null,null,null,null,null,null,null,null,null,null,null,null,null,null,null,null,null,null,null,null,null,null,null,null,null,null,null,null,null,null,null,null,null,null,null,null,null,null,null,null,null,null,null,null,"Полтавська","Пристанційне"]
[null,null,null,null,null,null,null,null,null,null,null,null,null,null,null,null,null,null,null,null,null,null,null,null,null,null,null,null,null,null,null,null,null,null,null,null,null,null,null,null,null,null,null,null,null,"Полтавська","Пушкареве"]
[null,null,null,null,null,null,null,null,null,null,null,null,null,null,null,null,null,null,null,null,null,null,null,null,null,null,null,null,null,null,null,null,null,null,null,null,null,null,null,null,null,null,null,null,null,"Полтавська","Свиридівка"]
[null,null,null,null,null,null,null,null,null,null,null,null,null,null,null,null,null,null,null,null,null,null,null,null,null,null,null,null,null,null,null,null,null,null,null,null,null,null,null,null,null,null,null,null,null,"Полтавська","Сиротенки"]
[null,null,null,null,null,null,null,null,null,null,null,null,null,null,null,null,null,null,null,null,null,null,null,null,null,null,null,null,null,null,null,null,null,null,null,null,null,null,null,null,null,null,null,null,null,"Полтавська","Снітине"]
[null,null,null,null,null,null,null,null,null,null,null,null,null,null,null,null,null,null,null,null,null,null,null,null,null,null,null,null,null,null,null,null,null,null,null,null,null,null,null,null,null,null,null,null,null,"Полтавська","Сухорабівка"]
[null,null,null,null,null,null,null,null,null,null,null,null,null,null,null,null,null,null,null,null,null,null,null,null,null,null,null,null,null,null,null,null,null,null,null,null,null,null,null,null,null,null,null,null,null,"Полтавська","Трирогове"]
[null,null,null,null,null,null,null,null,null,null,null,null,null,null,null,null,null,null,null,null,null,null,null,null,null,null,null,null,null,null,null,null,null,null,null,null,null,null,null,null,null,null,null,null,null,"Полтавська","Хорішки"]
[null,null,null,null,null,null,null,null,null,null,null,null,null,null,null,null,null,null,null,null,null,null,null,null,null,null,null,null,null,null,null,null,null,null,null,null,null,null,null,null,null,null,null,null,null,"Полтавська","Червоні Квіти"]
[null,null,null,null,null,null,null,null,null,null,null,null,null,null,null,null,null,null,null,null,null,null,null,null,null,null,null,null,null,null,null,null,null,null,null,null,null,null,null,null,null,null,null,null,null,"Полтавська","Шостаки"]
[null,null,null,null,null,null,null,null,null,null,null,null,null,null,null,null,null,null,null,null,null,null,null,null,null,null,null,null,null,null,null,null,null,null,null,null,null,null,null,null,null,null,null,null,null,"Полтавська","Ялосовецьке"]
[null,null,null,null,null,null,null,null,null,null,null,null,null,null,null,null,null,null,null,null,null,null,null,null,null,null,null,null,null,null,null,null,null,null,null,null,null,null,null,null,null,null,null,null,null,"Рівненська","Бармаки"]
[null,null,null,null,null,null,null,null,null,null,null,null,null,null,null,null,null,null,null,null,null,null,null,null,null,null,null,null,null,null,null,null,null,null,null,null,null,null,null,null,null,null,null,null,null,"Рівненська","Варковичі"]
[null,null,null,null,null,null,null,null,null,null,null,null,null,null,null,null,null,null,null,null,null,null,null,null,null,null,null,null,null,null,null,null,null,null,null,null,null,null,null,null,null,null,null,null,null,"Рівненська","Великі Загірці"]
[null,null,null,null,null,null,null,null,null,null,null,null,null,null,null,null,null,null,null,null,null,null,null,null,null,null,null,null,null,null,null,null,null,null,null,null,null,null,null,null,null,null,null,null,null,"Рівненська","Гільча Перша"]
[null,null,null,null,null,null,null,null,null,null,null,null,null,null,null,null,null,null,null,null,null,null,null,null,null,null,null,null,null,null,null,null,null,null,null,null,null,null,null,null,null,null,null,null,null,"Рівненська","Диків"]
[null,null,null,null,null,null,null,null,null,null,null,null,null,null,null,null,null,null,null,null,null,null,null,null,null,null,null,null,null,null,null,null,null,null,null,null,null,null,null,null,null,null,null,null,null,"Рівненська","Зносичі"]
[null,null,null,null,null,null,null,null,null,null,null,null,null,null,null,null,null,null,null,null,null,null,null,null,null,null,null,null,null,null,null,null,null,null,null,null,null,null,null,null,null,null,null,null,null,"Рівненська","Квасилів"]
[null,null,null,null,null,null,null,null,null,null,null,null,null,null,null,null,null,null,null,null,null,null,null,null,null,null,null,null,null,null,null,null,null,null,null,null,null,null,null,null,null,null,null,null,null,"Рівненська","Кухче"]
[null,null,null,null,null,null,null,null,null,null,null,null,null,null,null,null,null,null,null,null,null,null,null,null,null,null,null,null,null,null,null,null,null,null,null,null,null,null,null,null,null,null,null,null,null,"Рівненська","Макотерти"]
[null,null,null,null,null,null,null,null,null,null,null,null,null,null,null,null,null,null,null,null,null,null,null,null,null,null,null,null,null,null,null,null,null,null,null,null,null,null,null,null,null,null,null,null,null,"Рівненська","Малі Телковичі"]
[null,null,null,null,null,null,null,null,null,null,null,null,null,null,null,null,null,null,null,null,null,null,null,null,null,null,null,null,null,null,null,null,null,null,null,null,null,null,null,null,null,null,null,null,null,"Рівненська","М'ятин"]
[null,null,null,null,null,null,null,null,null,null,null,null,null,null,null,null,null,null,null,null,null,null,null,null,null,null,null,null,null,null,null,null,null,null,null,null,null,null,null,null,null,null,null,null,null,"Рівненська","Олибів"]
[null,null,null,null,null,null,null,null,null,null,null,null,null,null,null,null,null,null,null,null,null,null,null,null,null,null,null,null,null,null,null,null,null,null,null,null,null,null,null,null,null,null,null,null,null,"Рівненська","Працюки"]
[null,null,null,null,null,null,null,null,null,null,null,null,null,null,null,null,null,null,null,null,null,null,null,null,null,null,null,null,null,null,null,null,null,null,null,null,null,null,null,null,null,null,null,null,null,"Рівненська","Річечина"]
[null,null,null,null,null,null,null,null,null,null,null,null,null,null,null,null,null,null,null,null,null,null,null,null,null,null,null,null,null,null,null,null,null,null,null,null,null,null,null,null,null,null,null,null,null,"Рівненська","Степангород"]
[null,null,null,null,null,null,null,null,null,null,null,null,null,null,null,null,null,null,null,null,null,null,null,null,null,null,null,null,null,null,null,null,null,null,null,null,null,null,null,null,null,null,null,null,null,"Рівненська","Тесів"]
[null,null,null,null,null,null,null,null,null,null,null,null,null,null,null,null,null,null,null,null,null,null,null,null,null,null,null,null,null,null,null,null,null,null,null,null,null,null,null,null,null,null,null,null,null,"Рівненська","Удрицьк"]
[null,null,null,null,null,null,null,null,null,null,null,null,null,null,null,null,null,null,null,null,null,null,null,null,null,null,null,null,null,null,null,null,null,null,null,null,null,null,null,null,null,null,null,null,null,"Севастополь","Родніківське"]
[null,null,null,null,null,null,null,null,null,null,null,null,null,null,null,null,null,null,null,null,null,null,null,null,null,null,null,null,null,null,null,null,null,null,null,null,null,null,null,null,null,null,null,null,null,"Сумська","Артемо-растівка (Мартинівка)"]
[null,null,null,null,null,null,null,null,null,null,null,null,null,null,null,null,null,null,null,null,null,null,null,null,null,null,null,null,null,null,null,null,null,null,null,null,null,null,null,null,null,null,null,null,null,"Сумська","Бороданове"]
[null,null,null,null,null,null,null,null,null,null,null,null,null,null,null,null,null,null,null,null,null,null,null,null,null,null,null,null,null,null,null,null,null,null,null,null,null,null,null,null,null,null,null,null,null,"Сумська","Будне (Лантратівка)"]
[null,null,null,null,null,null,null,null,null,null,null,null,null,null,null,null,null,null,null,null,null,null,null,null,null,null,null,null,null,null,null,null,null,null,null,null,null,null,null,null,null,null,null,null,null,"Сумська","Вільна Слобода"]
[null,null,null,null,null,null,null,null,null,null,null,null,null,null,null,null,null,null,null,null,null,null,null,null,null,null,null,null,null,null,null,null,null,null,null,null,null,null,null,null,null,null,null,null,null,"Сумська","Воропаї"]
[null,null,null,null,null,null,null,null,null,null,null,null,null,null,null,null,null,null,null,null,null,null,null,null,null,null,null,null,null,null,null,null,null,null,null,null,null,null,null,null,null,null,null,null,null,"Сумська","Грінченкове"]
[null,null,null,null,null,null,null,null,null,null,null,null,null,null,null,null,null,null,null,null,null,null,null,null,null,null,null,null,null,null,null,null,null,null,null,null,null,null,null,null,null,null,null,null,null,"Сумська","Дернове"]
[null,null,null,null,null,null,null,null,null,null,null,null,null,null,null,null,null,null,null,null,null,null,null,null,null,null,null,null,null,null,null,null,null,null,null,null,null,null,null,null,null,null,null,null,null,"Сумська","Дяківка"]
[null,null,null,null,null,null,null,null,null,null,null,null,null,null,null,null,null,null,null,null,null,null,null,null,null,null,null,null,null,null,null,null,null,null,null,null,null,null,null,null,null,null,null,null,null,"Сумська","Карпенкове"]
[null,null,null,null,null,null,null,null,null,null,null,null,null,null,null,null,null,null,null,null,null,null,null,null,null,null,null,null,null,null,null,null,null,null,null,null,null,null,null,null,null,null,null,null,null,"Сумська","Клочківка"]
[null,null,null,null,null,null,null,null,null,null,null,null,null,null,null,null,null,null,null,null,null,null,null,null,null,null,null,null,null,null,null,null,null,null,null,null,null,null,null,null,null,null,null,null,null,"Сумська","Кудоярове"]
[null,null,null,null,null,null,null,null,null,null,null,null,null,null,null,null,null,null,null,null,null,null,null,null,null,null,null,null,null,null,null,null,null,null,null,null,null,null,null,null,null,null,null,null,null,"Сумська","Липняк"]
[null,null,null,null,null,null,null,null,null,null,null,null,null,null,null,null,null,null,null,null,null,null,null,null,null,null,null,null,null,null,null,null,null,null,null,null,null,null,null,null,null,null,null,null,null,"Сумська","Масензівка"]
[null,null,null,null,null,null,null,null,null,null,null,null,null,null,null,null,null,null,null,null,null,null,null,null,null,null,null,null,null,null,null,null,null,null,null,null,null,null,null,null,null,null,null,null,null,"Сумська","Могриця"]
[null,null,null,null,null,null,null,null,null,null,null,null,null,null,null,null,null,null,null,null,null,null,null,null,null,null,null,null,null,null,null,null,null,null,null,null,null,null,null,null,null,null,null,null,null,"Сумська","Нелени"]
[null,null,null,null,null,null,null,null,null,null,null,null,null,null,null,null,null,null,null,null,null,null,null,null,null,null,null,null,null,null,null,null,null,null,null,null,null,null,null,null,null,null,null,null,null,"Сумська","Осоївка"]
[null,null,null,null,null,null,null,null,null,null,null,null,null,null,null,null,null,null,null,null,null,null,null,null,null,null,null,null,null,null,null,null,null,null,null,null,null,null,null,null,null,null,null,null,null,"Сумська","Перехрестівка (Северинівська)"]
[null,null,null,null,null,null,null,null,null,null,null,null,null,null,null,null,null,null,null,null,null,null,null,null,null,null,null,null,null,null,null,null,null,null,null,null,null,null,null,null,null,null,null,null,null,"Сумська","Радгоспне (Буймер)"]
[null,null,null,null,null,null,null,null,null,null,null,null,null,null,null,null,null,null,null,null,null,null,null,null,null,null,null,null,null,null,null,null,null,null,null,null,null,null,null,null,null,null,null,null,null,"Сумська","Розсохувате (Грінченкове)"]
[null,null,null,null,null,null,null,null,null,null,null,null,null,null,null,null,null,null,null,null,null,null,null,null,null,null,null,null,null,null,null,null,null,null,null,null,null,null,null,null,null,null,null,null,null,"Сумська","Собич"]
[null,null,null,null,null,null,null,null,null,null,null,null,null,null,null,null,null,null,null,null,null,null,null,null,null,null,null,null,null,null,null,null,null,null,null,null,null,null,null,null,null,null,null,null,null,"Сумська","Сорочинське"]
[null,null,null,null,null,null,null,null,null,null,null,null,null,null,null,null,null,null,null,null,null,null,null,null,null,null,null,null,null,null,null,null,null,null,null,null,null,null,null,null,null,null,null,null,null,"Сумська","Хильчичі"]
[null,null,null,null,null,null,null,null,null,null,null,null,null,null,null,null,null,null,null,null,null,null,null,null,null,null,null,null,null,null,null,null,null,null,null,null,null,null,null,null,null,null,null,null,null,"Сумська","Чеберяки"]
[null,null,null,null,null,null,null,null,null,null,null,null,null,null,null,null,null,null,null,null,null,null,null,null,null,null,null,null,null,null,null,null,null,null,null,null,null,null,null,null,null,null,null,null,null,"Сумська","Щекино"]
[null,null,null,null,null,null,null,null,null,null,null,null,null,null,null,null,null,null,null,null,null,null,null,null,null,null,null,null,null,null,null,null,null,null,null,null,null,null,null,null,null,null,null,null,null,"Тернопільська","Антонів (Свидівська сільська рада)"]
[null,null,null,null,null,null,null,null,null,null,null,null,null,null,null,null,null,null,null,null,null,null,null,null,null,null,null,null,null,null,null,null,null,null,null,null,null,null,null,null,null,null,null,null,null,"Тернопільська","Берем'яни (Берем'янська сільська рада)"]
[null,null,null,null,null,null,null,null,null,null,null,null,null,null,null,null,null,null,null,null,null,null,null,null,null,null,null,null,null,null,null,null,null,null,null,null,null,null,null,null,null,null,null,null,null,"Тернопільська","Броварі (Язловецька сільська рада)"]
[null,null,null,null,null,null,null,null,null,null,null,null,null,null,null,null,null,null,null,null,null,null,null,null,null,null,null,null,null,null,null,null,null,null,null,null,null,null,null,null,null,null,null,null,null,"Тернопільська","Великі Кусківці (Великокусковецька сільська рада)"]
[null,null,null,null,null,null,null,null,null,null,null,null,null,null,null,null,null,null,null,null,null,null,null,null,null,null,null,null,null,null,null,null,null,null,null,null,null,null,null,null,null,null,null,null,null,"Тернопільська","Гадинківці (Гадинківська сільська рада)"]
[null,null,null,null,null,null,null,null,null,null,null,null,null,null,null,null,null,null,null,null,null,null,null,null,null,null,null,null,null,null,null,null,null,null,null,null,null,null,null,null,null,null,null,null,null,"Тернопільська","Гнилички (Новосільська сільська рада)"]
[null,null,null,null,null,null,null,null,null,null,null,null,null,null,null,null,null,null,null,null,null,null,null,null,null,null,null,null,null,null,null,null,null,null,null,null,null,null,null,null,null,null,null,null,null,"Тернопільська","Дзвинячка (Дзвиняцька сільська рада)"]
[null,null,null,null,null,null,null,null,null,null,null,null,null,null,null,null,null,null,null,null,null,null,null,null,null,null,null,null,null,null,null,null,null,null,null,null,null,null,null,null,null,null,null,null,null,"Тернопільська","Домаморич (Домаморицька сільська рада)"]
[null,null,null,null,null,null,null,null,null,null,null,null,null,null,null,null,null,null,null,null,null,null,null,null,null,null,null,null,null,null,null,null,null,null,null,null,null,null,null,null,null,null,null,null,null,"Тернопільська","Жуків (Жуківська сільська рада)"]
[null,null,null,null,null,null,null,null,null,null,null,null,null,null,null,null,null,null,null,null,null,null,null,null,null,null,null,null,null,null,null,null,null,null,null,null,null,null,null,null,null,null,null,null,null,"Тернопільська","Іванівка (Іванівська сільська рада)"]
[null,null,null,null,null,null,null,null,null,null,null,null,null,null,null,null,null,null,null,null,null,null,null,null,null,null,null,null,null,null,null,null,null,null,null,null,null,null,null,null,null,null,null,null,null,"Тернопільська","Ілавче (Ілавченська сільська рада)"]
[null,null,null,null,null,null,null,null,null,null,null,null,null,null,null,null,null,null,null,null,null,null,null,null,null,null,null,null,null,null,null,null,null,null,null,null,null,null,null,null,null,null,null,null,null,"Тернопільська","Королівка (Королівська сільська рада)"]
[null,null,null,null,null,null,null,null,null,null,null,null,null,null,null,null,null,null,null,null,null,null,null,null,null,null,null,null,null,null,null,null,null,null,null,null,null,null,null,null,null,null,null,null,null,"Тернопільська","Красівка (Дичківська сільська рада)"]
[null,null,null,null,null,null,null,null,null,null,null,null,null,null,null,null,null,null,null,null,null,null,null,null,null,null,null,null,null,null,null,null,null,null,null,null,null,null,null,null,null,null,null,null,null,"Тернопільська","Лози (Лозівська сільська рада)"]
[null,null,null,null,null,null,null,null,null,null,null,null,null,null,null,null,null,null,null,null,null,null,null,null,null,null,null,null,null,null,null,null,null,null,null,null,null,null,null,null,null,null,null,null,null,"Тернопільська","Мала Березовиця (Іванчанська сільська рада)"]
[null,null,null,null,null,null,null,null,null,null,null,null,null,null,null,null,null,null,null,null,null,null,null,null,null,null,null,null,null,null,null,null,null,null,null,null,null,null,null,null,null,null,null,null,null,"Тернопільська","Мовчанівка (Кам\"янківська сільська рада)"]
[null,null,null,null,null,null,null,null,null,null,null,null,null,null,null,null,null,null,null,null,null,null,null,null,null,null,null,null,null,null,null,null,null,null,null,null,null,null,null,null,null,null,null,null,null,"Тернопільська","Нараїв (Нараївська сільська рада)"]
[null,null,null,null,null,null,null,null,null,null,null,null,null,null,null,null,null,null,null,null,null,null,null,null,null,null,null,null,null,null,null,null,null,null,null,null,null,null,null,null,null,null,null,null,null,"Тернопільська","Новосілка (Малобірківська сільська рада)"]
[null,null,null,null,null,null,null,null,null,null,null,null,null,null,null,null,null,null,null,null,null,null,null,null,null,null,null,null,null,null,null,null,null,null,null,null,null,null,null,null,null,null,null,null,null,"Тернопільська","Пищатинці (Пищатинська сільська рада)"]
[null,null,null,null,null,null,null,null,null,null,null,null,null,null,null,null,null,null,null,null,null,null,null,null,null,null,null,null,null,null,null,null,null,null,null,null,null,null,null,null,null,null,null,null,null,"Тернопільська","Піщане (Ратищівська сільська рада)"]
[null,null,null,null,null,null,null,null,null,null,null,null,null,null,null,null,null,null,null,null,null,null,null,null,null,null,null,null,null,null,null,null,null,null,null,null,null,null,null,null,null,null,null,null,null,"Тернопільська","Розгадів (Розгадівська сільська рада)"]
[null,null,null,null,null,null,null,null,null,null,null,null,null,null,null,null,null,null,null,null,null,null,null,null,null,null,null,null,null,null,null,null,null,null,null,null,null,null,null,null,null,null,null,null,null,"Тернопільська","Сапова (Вишнівчицька сільська рада)"]
[null,null,null,null,null,null,null,null,null,null,null,null,null,null,null,null,null,null,null,null,null,null,null,null,null,null,null,null,null,null,null,null,null,null,null,null,null,null,null,null,null,null,null,null,null,"Тернопільська","Стара Могильниця (Могильницька сільська рада)"]
[null,null,null,null,null,null,null,null,null,null,null,null,null,null,null,null,null,null,null,null,null,null,null,null,null,null,null,null,null,null,null,null,null,null,null,null,null,null,null,null,null,null,null,null,null,"Тернопільська","Сухостав (Сухоставська сільська рада)"]
[null,null,null,null,null,null,null,null,null,null,null,null,null,null,null,null,null,null,null,null,null,null,null,null,null,null,null,null,null,null,null,null,null,null,null,null,null,null,null,null,null,null,null,null,null,"Тернопільська","Товсте (Товстенська сільська рада)"]
[null,null,null,null,null,null,null,null,null,null,null,null,null,null,null,null,null,null,null,null,null,null,null,null,null,null,null,null,null,null,null,null,null,null,null,null,null,null,null,null,null,null,null,null,null,"Тернопільська","Цецівка (Годівська сільська рада)"]
[null,null,null,null,null,null,null,null,null,null,null,null,null,null,null,null,null,null,null,null,null,null,null,null,null,null,null,null,null,null,null,null,null,null,null,null,null,null,null,null,null,null,null,null,null,"Тернопільська","Швайківці (Швайківська сільська рада)"]
[null,null,null,null,null,null,null,null,null,null,null,null,null,null,null,null,null,null,null,null,null,null,null,null,null,null,null,null,null,null,null,null,null,null,null,null,null,null,null,null,null,null,null,null,null,"Харківська","Бабенки"]
[null,null,null,null,null,null,null,null,null,null,null,null,null,null,null,null,null,null,null,null,null,null,null,null,null,null,null,null,null,null,null,null,null,null,null,null,null,null,null,null,null,null,null,null,null,"Харківська","Безпалівка (Таранівська сільська рада)"]
[null,null,null,null,null,null,null,null,null,null,null,null,null,null,null,null,null,null,null,null,null,null,null,null,null,null,null,null,null,null,null,null,null,null,null,null,null,null,null,null,null,null,null,null,null,"Харківська","Василівка (Моначинівська сільрада)"]
[null,null,null,null,null,null,null,null,null,null,null,null,null,null,null,null,null,null,null,null,null,null,null,null,null,null,null,null,null,null,null,null,null,null,null,null,null,null,null,null,null,null,null,null,null,"Харківська","Велика Кадигробівка"]
[null,null,null,null,null,null,null,null,null,null,null,null,null,null,null,null,null,null,null,null,null,null,null,null,null,null,null,null,null,null,null,null,null,null,null,null,null,null,null,null,null,null,null,null,null,"Харківська","Відрожденівське"]
[null,null,null,null,null,null,null,null,null,null,null,null,null,null,null,null,null,null,null,null,null,null,null,null,null,null,null,null,null,null,null,null,null,null,null,null,null,null,null,null,null,null,null,null,null,"Харківська","Глушківка"]
[null,null,null,null,null,null,null,null,null,null,null,null,null,null,null,null,null,null,null,null,null,null,null,null,null,null,null,null,null,null,null,null,null,null,null,null,null,null,null,null,null,null,null,null,null,"Харківська","Гракове"]
[null,null,null,null,null,null,null,null,null,null,null,null,null,null,null,null,null,null,null,null,null,null,null,null,null,null,null,null,null,null,null,null,null,null,null,null,null,null,null,null,null,null,null,null,null,"Харківська","Дудківка"]
[null,null,null,null,null,null,null,null,null,null,null,null,null,null,null,null,null,null,null,null,null,null,null,null,null,null,null,null,null,null,null,null,null,null,null,null,null,null,null,null,null,null,null,null,null,"Харківська","Завадівка"]
[null,null,null,null,null,null,null,null,null,null,null,null,null,null,null,null,null,null,null,null,null,null,null,null,null,null,null,null,null,null,null,null,null,null,null,null,null,null,null,null,null,null,null,null,null,"Харківська","Ізюм"]
[null,null,null,null,null,null,null,null,null,null,null,null,null,null,null,null,null,null,null,null,null,null,null,null,null,null,null,null,null,null,null,null,null,null,null,null,null,null,null,null,null,null,null,null,null,"Харківська","Кобзівка Друга"]
[null,null,null,null,null,null,null,null,null,null,null,null,null,null,null,null,null,null,null,null,null,null,null,null,null,null,null,null,null,null,null,null,null,null,null,null,null,null,null,null,null,null,null,null,null,"Харківська","Кочетівка"]
[null,null,null,null,null,null,null,null,null,null,null,null,null,null,null,null,null,null,null,null,null,null,null,null,null,null,null,null,null,null,null,null,null,null,null,null,null,null,null,null,null,null,null,null,null,"Харківська","Кручик"]
[null,null,null,null,null,null,null,null,null,null,null,null,null,null,null,null,null,null,null,null,null,null,null,null,null,null,null,null,null,null,null,null,null,null,null,null,null,null,null,null,null,null,null,null,null,"Харківська","Ландишеве"]
[null,null,null,null,null,null,null,null,null,null,null,null,null,null,null,null,null,null,null,null,null,null,null,null,null,null,null,null,null,null,null,null,null,null,null,null,null,null,null,null,null,null,null,null,null,"Харківська","Мануїлівка"]
[null,null,null,null,null,null,null,null,null,null,null,null,null,null,null,null,null,null,null,null,null,null,null,null,null,null,null,null,null,null,null,null,null,null,null,null,null,null,null,null,null,null,null,null,null,"Харківська","Миколо-Комишувата"]
[null,null,null,null,null,null,null,null,null,null,null,null,null,null,null,null,null,null,null,null,null,null,null,null,null,null,null,null,null,null,null,null,null,null,null,null,null,null,null,null,null,null,null,null,null,"Харківська","Надеждівка"]
[null,null,null,null,null,null,null,null,null,null,null,null,null,null,null,null,null,null,null,null,null,null,null,null,null,null,null,null,null,null,null,null,null,null,null,null,null,null,null,null,null,null,null,null,null,"Харківська","Новомиколаївка (Асіївська сільська рада)"]
[null,null,null,null,null,null,null,null,null,null,null,null,null,null,null,null,null,null,null,null,null,null,null,null,null,null,null,null,null,null,null,null,null,null,null,null,null,null,null,null,null,null,null,null,null,"Харківська","Паризьке"]
[null,null,null,null,null,null,null,null,null,null,null,null,null,null,null,null,null,null,null,null,null,null,null,null,null,null,null,null,null,null,null,null,null,null,null,null,null,null,null,null,null,null,null,null,null,"Харківська","Петрищеве"]
[null,null,null,null,null,null,null,null,null,null,null,null,null,null,null,null,null,null,null,null,null,null,null,null,null,null,null,null,null,null,null,null,null,null,null,null,null,null,null,null,null,null,null,null,null,"Харківська","П'ятницьке"]
[null,null,null,null,null,null,null,null,null,null,null,null,null,null,null,null,null,null,null,null,null,null,null,null,null,null,null,null,null,null,null,null,null,null,null,null,null,null,null,null,null,null,null,null,null,"Харківська","Рижове"]
[null,null,null,null,null,null,null,null,null,null,null,null,null,null,null,null,null,null,null,null,null,null,null,null,null,null,null,null,null,null,null,null,null,null,null,null,null,null,null,null,null,null,null,null,null,"Харківська","Скиртяне"]
[null,null,null,null,null,null,null,null,null,null,null,null,null,null,null,null,null,null,null,null,null,null,null,null,null,null,null,null,null,null,null,null,null,null,null,null,null,null,null,null,null,null,null,null,null,"Харківська","Соцзмагання"]
[null,null,null,null,null,null,null,null,null,null,null,null,null,null,null,null,null,null,null,null,null,null,null,null,null,null,null,null,null,null,null,null,null,null,null,null,null,null,null,null,null,null,null,null,null,"Харківська","Староволодимирівка"]
[null,null,null,null,null,null,null,null,null,null,null,null,null,null,null,null,null,null,null,null,null,null,null,null,null,null,null,null,null,null,null,null,null,null,null,null,null,null,null,null,null,null,null,null,null,"Харківська","Холодне"]
[null,null,null,null,null,null,null,null,null,null,null,null,null,null,null,null,null,null,null,null,null,null,null,null,null,null,null,null,null,null,null,null,null,null,null,null,null,null,null,null,null,null,null,null,null,"Харківська","Чепіль (Чепільська сільська рада)"]
[null,null,null,null,null,null,null,null,null,null,null,null,null,null,null,null,null,null,null,null,null,null,null,null,null,null,null,null,null,null,null,null,null,null,null,null,null,null,null,null,null,null,null,null,null,"Харківська","Шийчине"]
[null,null,null,null,null,null,null,null,null,null,null,null,null,null,null,null,null,null,null,null,null,null,null,null,null,null,null,null,null,null,null,null,null,null,null,null,null,null,null,null,null,null,null,null,null,"Харківська","Ярошівка"]
[null,null,null,null,null,null,null,null,null,null,null,null,null,null,null,null,null,null,null,null,null,null,null,null,null,null,null,null,null,null,null,null,null,null,null,null,null,null,null,null,null,null,null,null,null,"Херсонська","Гостроподолянське"]
[null,null,null,null,null,null,null,null,null,null,null,null,null,null,null,null,null,null,null,null,null,null,null,null,null,null,null,null,null,null,null,null,null,null,null,null,null,null,null,null,null,null,null,null,null,"Херсонська","Інгулець"]
[null,null,null,null,null,null,null,null,null,null,null,null,null,null,null,null,null,null,null,null,null,null,null,null,null,null,null,null,null,null,null,null,null,null,null,null,null,null,null,null,null,null,null,null,null,"Херсонська","Козачі Лагері"]
[null,null,null,null,null,null,null,null,null,null,null,null,null,null,null,null,null,null,null,null,null,null,null,null,null,null,null,null,null,null,null,null,null,null,null,null,null,null,null,null,null,null,null,null,null,"Херсонська","Новавасилівка"]
[null,null,null,null,null,null,null,null,null,null,null,null,null,null,null,null,null,null,null,null,null,null,null,null,null,null,null,null,null,null,null,null,null,null,null,null,null,null,null,null,null,null,null,null,null,"Херсонська","Новосеменівка"]
[null,null,null,null,null,null,null,null,null,null,null,null,null,null,null,null,null,null,null,null,null,null,null,null,null,null,null,null,null,null,null,null,null,null,null,null,null,null,null,null,null,null,null,null,null,"Херсонська","Скворцівка"]
[null,null,null,null,null,null,null,null,null,null,null,null,null,null,null,null,null,null,null,null,null,null,null,null,null,null,null,null,null,null,null,null,null,null,null,null,null,null,null,null,null,null,null,null,null,"Херсонська","Твердомедове"]
[null,null,null,null,null,null,null,null,null,null,null,null,null,null,null,null,null,null,null,null,null,null,null,null,null,null,null,null,null,null,null,null,null,null,null,null,null,null,null,null,null,null,null,null,null,"Хмельницька","Бальківці"]
[null,null,null,null,null,null,null,null,null,null,null,null,null,null,null,null,null,null,null,null,null,null,null,null,null,null,null,null,null,null,null,null,null,null,null,null,null,null,null,null,null,null,null,null,null,"Хмельницька","Березове"]
[null,null,null,null,null,null,null,null,null,null,null,null,null,null,null,null,null,null,null,null,null,null,null,null,null,null,null,null,null,null,null,null,null,null,null,null,null,null,null,null,null,null,null,null,null,"Хмельницька","Брикуля"]
[null,null,null,null,null,null,null,null,null,null,null,null,null,null,null,null,null,null,null,null,null,null,null,null,null,null,null,null,null,null,null,null,null,null,null,null,null,null,null,null,null,null,null,null,null,"Хмельницька","Верхівці"]
[null,null,null,null,null,null,null,null,null,null,null,null,null,null,null,null,null,null,null,null,null,null,null,null,null,null,null,null,null,null,null,null,null,null,null,null,null,null,null,null,null,null,null,null,null,"Хмельницька","Вікентово"]
[null,null,null,null,null,null,null,null,null,null,null,null,null,null,null,null,null,null,null,null,null,null,null,null,null,null,null,null,null,null,null,null,null,null,null,null,null,null,null,null,null,null,null,null,null,"Хмельницька","Голосків (Голосківська сільська рада)"]
[null,null,null,null,null,null,null,null,null,null,null,null,null,null,null,null,null,null,null,null,null,null,null,null,null,null,null,null,null,null,null,null,null,null,null,null,null,null,null,null,null,null,null,null,null,"Хмельницька","Гриців"]
[null,null,null,null,null,null,null,null,null,null,null,null,null,null,null,null,null,null,null,null,null,null,null,null,null,null,null,null,null,null,null,null,null,null,null,null,null,null,null,null,null,null,null,null,null,"Хмельницька","Дубовий Гай"]
[null,null,null,null,null,null,null,null,null,null,null,null,null,null,null,null,null,null,null,null,null,null,null,null,null,null,null,null,null,null,null,null,null,null,null,null,null,null,null,null,null,null,null,null,null,"Хмельницька","Залуччя (Залучанська сільська рада)"]
[null,null,null,null,null,null,null,null,null,null,null,null,null,null,null,null,null,null,null,null,null,null,null,null,null,null,null,null,null,null,null,null,null,null,null,null,null,null,null,null,null,null,null,null,null,"Хмельницька","Ізяслав"]
[null,null,null,null,null,null,null,null,null,null,null,null,null,null,null,null,null,null,null,null,null,null,null,null,null,null,null,null,null,null,null,null,null,null,null,null,null,null,null,null,null,null,null,null,null,"Хмельницька","Караїна"]
[null,null,null,null,null,null,null,null,null,null,null,null,null,null,null,null,null,null,null,null,null,null,null,null,null,null,null,null,null,null,null,null,null,null,null,null,null,null,null,null,null,null,null,null,null,"Хмельницька","Климківці"]
[null,null,null,null,null,null,null,null,null,null,null,null,null,null,null,null,null,null,null,null,null,null,null,null,null,null,null,null,null,null,null,null,null,null,null,null,null,null,null,null,null,null,null,null,null,"Хмельницька","Кривачинці"]
[null,null,null,null,null,null,null,null,null,null,null,null,null,null,null,null,null,null,null,null,null,null,null,null,null,null,null,null,null,null,null,null,null,null,null,null,null,null,null,null,null,null,null,null,null,"Хмельницька","Кузьминці"]
[null,null,null,null,null,null,null,null,null,null,null,null,null,null,null,null,null,null,null,null,null,null,null,null,null,null,null,null,null,null,null,null,null,null,null,null,null,null,null,null,null,null,null,null,null,"Хмельницька","Літки"]
[null,null,null,null,null,null,null,null,null,null,null,null,null,null,null,null,null,null,null,null,null,null,null,null,null,null,null,null,null,null,null,null,null,null,null,null,null,null,null,null,null,null,null,null,null,"Хмельницька","Малий Правутин"]
[null,null,null,null,null,null,null,null,null,null,null,null,null,null,null,null,null,null,null,null,null,null,null,null,null,null,null,null,null,null,null,null,null,null,null,null,null,null,null,null,null,null,null,null,null,"Хмельницька","Медці"]
[null,null,null,null,null,null,null,null,null,null,null,null,null,null,null,null,null,null,null,null,null,null,null,null,null,null,null,null,null,null,null,null,null,null,null,null,null,null,null,null,null,null,null,null,null,"Хмельницька","Михалківці"]
[null,null,null,null,null,null,null,null,null,null,null,null,null,null,null,null,null,null,null,null,null,null,null,null,null,null,null,null,null,null,null,null,null,null,null,null,null,null,null,null,null,null,null,null,null,"Хмельницька","Мухарів"]
[null,null,null,null,null,null,null,null,null,null,null,null,null,null,null,null,null,null,null,null,null,null,null,null,null,null,null,null,null,null,null,null,null,null,null,null,null,null,null,null,null,null,null,null,null,"Хмельницька","Остапківці"]
[null,null,null,null,null,null,null,null,null,null,null,null,null,null,null,null,null,null,null,null,null,null,null,null,null,null,null,null,null,null,null,null,null,null,null,null,null,null,null,null,null,null,null,null,null,"Хмельницька","Пашуки (Хоровецька сільська Рада)"]
[null,null,null,null,null,null,null,null,null,null,null,null,null,null,null,null,null,null,null,null,null,null,null,null,null,null,null,null,null,null,null,null,null,null,null,null,null,null,null,null,null,null,null,null,null,"Хмельницька","Постолівка"]
[null,null,null,null,null,null,null,null,null,null,null,null,null,null,null,null,null,null,null,null,null,null,null,null,null,null,null,null,null,null,null,null,null,null,null,null,null,null,null,null,null,null,null,null,null,"Хмельницька","Рівки"]
[null,null,null,null,null,null,null,null,null,null,null,null,null,null,null,null,null,null,null,null,null,null,null,null,null,null,null,null,null,null,null,null,null,null,null,null,null,null,null,null,null,null,null,null,null,"Хмельницька","Семереньки (Самченці)"]
[null,null,null,null,null,null,null,null,null,null,null,null,null,null,null,null,null,null,null,null,null,null,null,null,null,null,null,null,null,null,null,null,null,null,null,null,null,null,null,null,null,null,null,null,null,"Хмельницька","Слобідка  Малієвецька"]
[null,null,null,null,null,null,null,null,null,null,null,null,null,null,null,null,null,null,null,null,null,null,null,null,null,null,null,null,null,null,null,null,null,null,null,null,null,null,null,null,null,null,null,null,null,"Хмельницька","Степок (Самчики)"]
[null,null,null,null,null,null,null,null,null,null,null,null,null,null,null,null,null,null,null,null,null,null,null,null,null,null,null,null,null,null,null,null,null,null,null,null,null,null,null,null,null,null,null,null,null,"Хмельницька","Теліжинці"]
[null,null,null,null,null,null,null,null,null,null,null,null,null,null,null,null,null,null,null,null,null,null,null,null,null,null,null,null,null,null,null,null,null,null,null,null,null,null,null,null,null,null,null,null,null,"Хмельницька","Трительники"]
[null,null,null,null,null,null,null,null,null,null,null,null,null,null,null,null,null,null,null,null,null,null,null,null,null,null,null,null,null,null,null,null,null,null,null,null,null,null,null,null,null,null,null,null,null,"Хмельницька","Чернелівці"]
[null,null,null,null,null,null,null,null,null,null,null,null,null,null,null,null,null,null,null,null,null,null,null,null,null,null,null,null,null,null,null,null,null,null,null,null,null,null,null,null,null,null,null,null,null,"Хмельницька","Чотирибоки"]
[null,null,null,null,null,null,null,null,null,null,null,null,null,null,null,null,null,null,null,null,null,null,null,null,null,null,null,null,null,null,null,null,null,null,null,null,null,null,null,null,null,null,null,null,null,"Черкаська","Багачівка"]
[null,null,null,null,null,null,null,null,null,null,null,null,null,null,null,null,null,null,null,null,null,null,null,null,null,null,null,null,null,null,null,null,null,null,null,null,null,null,null,null,null,null,null,null,null,"Черкаська","Босівка"]
[null,null,null,null,null,null,null,null,null,null,null,null,null,null,null,null,null,null,null,null,null,null,null,null,null,null,null,null,null,null,null,null,null,null,null,null,null,null,null,null,null,null,null,null,null,"Черкаська","Гуляйка"]
[null,null,null,null,null,null,null,null,null,null,null,null,null,null,null,null,null,null,null,null,null,null,null,null,null,null,null,null,null,null,null,null,null,null,null,null,null,null,null,null,null,null,null,null,null,"Черкаська","Домантове"]
[null,null,null,null,null,null,null,null,null,null,null,null,null,null,null,null,null,null,null,null,null,null,null,null,null,null,null,null,null,null,null,null,null,null,null,null,null,null,null,null,null,null,null,null,null,"Черкаська","Ковтунівка (Остапівська сільська  рада)"]
[null,null,null,null,null,null,null,null,null,null,null,null,null,null,null,null,null,null,null,null,null,null,null,null,null,null,null,null,null,null,null,null,null,null,null,null,null,null,null,null,null,null,null,null,null,"Черкаська","Коржовий Кут"]
[null,null,null,null,null,null,null,null,null,null,null,null,null,null,null,null,null,null,null,null,null,null,null,null,null,null,null,null,null,null,null,null,null,null,null,null,null,null,null,null,null,null,null,null,null,"Черкаська","Мелесівка"]
[null,null,null,null,null,null,null,null,null,null,null,null,null,null,null,null,null,null,null,null,null,null,null,null,null,null,null,null,null,null,null,null,null,null,null,null,null,null,null,null,null,null,null,null,null,"Черкаська","Нова  Ярославка"]
[null,null,null,null,null,null,null,null,null,null,null,null,null,null,null,null,null,null,null,null,null,null,null,null,null,null,null,null,null,null,null,null,null,null,null,null,null,null,null,null,null,null,null,null,null,"Черкаська","Павлівка Перша"]
[null,null,null,null,null,null,null,null,null,null,null,null,null,null,null,null,null,null,null,null,null,null,null,null,null,null,null,null,null,null,null,null,null,null,null,null,null,null,null,null,null,null,null,null,null,"Черкаська","Санжариха"]
[null,null,null,null,null,null,null,null,null,null,null,null,null,null,null,null,null,null,null,null,null,null,null,null,null,null,null,null,null,null,null,null,null,null,null,null,null,null,null,null,null,null,null,null,null,"Черкаська","Скрипчинці"]
[null,null,null,null,null,null,null,null,null,null,null,null,null,null,null,null,null,null,null,null,null,null,null,null,null,null,null,null,null,null,null,null,null,null,null,null,null,null,null,null,null,null,null,null,null,"Черкаська","Халаїдове"]
[null,null,null,null,null,null,null,null,null,null,null,null,null,null,null,null,null,null,null,null,null,null,null,null,null,null,null,null,null,null,null,null,null,null,null,null,null,null,null,null,null,null,null,null,null,"Черкаська","Ховківка"]
[null,null,null,null,null,null,null,null,null,null,null,null,null,null,null,null,null,null,null,null,null,null,null,null,null,null,null,null,null,null,null,null,null,null,null,null,null,null,null,null,null,null,null,null,null,"Чернівецька","Бузовиця"]
[null,null,null,null,null,null,null,null,null,null,null,null,null,null,null,null,null,null,null,null,null,null,null,null,null,null,null,null,null,null,null,null,null,null,null,null,null,null,null,null,null,null,null,null,null,"Чернівецька","Випчина"]
[null,null,null,null,null,null,null,null,null,null,null,null,null,null,null,null,null,null,null,null,null,null,null,null,null,null,null,null,null,null,null,null,null,null,null,null,null,null,null,null,null,null,null,null,null,"Чернівецька","Горбова"]
[null,null,null,null,null,null,null,null,null,null,null,null,null,null,null,null,null,null,null,null,null,null,null,null,null,null,null,null,null,null,null,null,null,null,null,null,null,null,null,null,null,null,null,null,null,"Чернівецька","Корнешти"]
[null,null,null,null,null,null,null,null,null,null,null,null,null,null,null,null,null,null,null,null,null,null,null,null,null,null,null,null,null,null,null,null,null,null,null,null,null,null,null,null,null,null,null,null,null,"Чернівецька","Лукачівка"]
[null,null,null,null,null,null,null,null,null,null,null,null,null,null,null,null,null,null,null,null,null,null,null,null,null,null,null,null,null,null,null,null,null,null,null,null,null,null,null,null,null,null,null,null,null,"Чернівецька","Ошихліби"]
[null,null,null,null,null,null,null,null,null,null,null,null,null,null,null,null,null,null,null,null,null,null,null,null,null,null,null,null,null,null,null,null,null,null,null,null,null,null,null,null,null,null,null,null,null,"Чернівецька","Погорілівка"]
[null,null,null,null,null,null,null,null,null,null,null,null,null,null,null,null,null,null,null,null,null,null,null,null,null,null,null,null,null,null,null,null,null,null,null,null,null,null,null,null,null,null,null,null,null,"Чернівецька","Хряцька"]
[null,null,null,null,null,null,null,null,null,null,null,null,null,null,null,null,null,null,null,null,null,null,null,null,null,null,null,null,null,null,null,null,null,null,null,null,null,null,null,null,null,null,null,null,null,"Чернівецька","Южинець"]
[null,null,null,null,null,null,null,null,null,null,null,null,null,null,null,null,null,null,null,null,null,null,null,null,null,null,null,null,null,null,null,null,null,null,null,null,null,null,null,null,null,null,null,null,null,"Чернігівська","Бережівка"]
[null,null,null,null,null,null,null,null,null,null,null,null,null,null,null,null,null,null,null,null,null,null,null,null,null,null,null,null,null,null,null,null,null,null,null,null,null,null,null,null,null,null,null,null,null,"Чернігівська","Велика Дорога"]
[null,null,null,null,null,null,null,null,null,null,null,null,null,null,null,null,null,null,null,null,null,null,null,null,null,null,null,null,null,null,null,null,null,null,null,null,null,null,null,null,null,null,null,null,null,"Чернігівська","Вильчики"]
[null,null,null,null,null,null,null,null,null,null,null,null,null,null,null,null,null,null,null,null,null,null,null,null,null,null,null,null,null,null,null,null,null,null,null,null,null,null,null,null,null,null,null,null,null,"Чернігівська","Данівка"]
[null,null,null,null,null,null,null,null,null,null,null,null,null,null,null,null,null,null,null,null,null,null,null,null,null,null,null,null,null,null,null,null,null,null,null,null,null,null,null,null,null,null,null,null,null,"Чернігівська","Жеребецьке"]
[null,null,null,null,null,null,null,null,null,null,null,null,null,null,null,null,null,null,null,null,null,null,null,null,null,null,null,null,null,null,null,null,null,null,null,null,null,null,null,null,null,null,null,null,null,"Чернігівська","Карасинівка"]
[null,null,null,null,null,null,null,null,null,null,null,null,null,null,null,null,null,null,null,null,null,null,null,null,null,null,null,null,null,null,null,null,null,null,null,null,null,null,null,null,null,null,null,null,null,"Чернігівська","Клипин"]
[null,null,null,null,null,null,null,null,null,null,null,null,null,null,null,null,null,null,null,null,null,null,null,null,null,null,null,null,null,null,null,null,null,null,null,null,null,null,null,null,null,null,null,null,null,"Чернігівська","Кугуки"]
[null,null,null,null,null,null,null,null,null,null,null,null,null,null,null,null,null,null,null,null,null,null,null,null,null,null,null,null,null,null,null,null,null,null,null,null,null,null,null,null,null,null,null,null,null,"Чернігівська","Ладинка"]
[null,null,null,null,null,null,null,null,null,null,null,null,null,null,null,null,null,null,null,null,null,null,null,null,null,null,null,null,null,null,null,null,null,null,null,null,null,null,null,null,null,null,null,null,null,"Чернігівська","Лісконоги"]
[null,null,null,null,null,null,null,null,null,null,null,null,null,null,null,null,null,null,null,null,null,null,null,null,null,null,null,null,null,null,null,null,null,null,null,null,null,null,null,null,null,null,null,null,null,"Чернігівська","Мезин"]
[null,null,null,null,null,null,null,null,null,null,null,null,null,null,null,null,null,null,null,null,null,null,null,null,null,null,null,null,null,null,null,null,null,null,null,null,null,null,null,null,null,null,null,null,null,"Чернігівська","Мурав'ї"]
[null,null,null,null,null,null,null,null,null,null,null,null,null,null,null,null,null,null,null,null,null,null,null,null,null,null,null,null,null,null,null,null,null,null,null,null,null,null,null,null,null,null,null,null,null,"Чернігівська","Остер"]
[null,null,null,null,null,null,null,null,null,null,null,null,null,null,null,null,null,null,null,null,null,null,null,null,null,null,null,null,null,null,null,null,null,null,null,null,null,null,null,null,null,null,null,null,null,"Чернігівська","Пересаж"]
[null,null,null,null,null,null,null,null,null,null,null,null,null,null,null,null,null,null,null,null,null,null,null,null,null,null,null,null,null,null,null,null,null,null,null,null,null,null,null,null,null,null,null,null,null,"Чернігівська","Радуль"]
[null,null,null,null,null,null,null,null,null,null,null,null,null,null,null,null,null,null,null,null,null,null,null,null,null,null,null,null,null,null,null,null,null,null,null,null,null,null,null,null,null,null,null,null,null,"Чернігівська","Роїще"]
[null,null,null,null,null,null,null,null,null,null,null,null,null,null,null,null,null,null,null,null,null,null,null,null,null,null,null,null,null,null,null,null,null,null,null,null,null,null,null,null,null,null,null,null,null,"Чернігівська","Сезьки"]
[null,null,null,null,null,null,null,null,null,null,null,null,null,null,null,null,null,null,null,null,null,null,null,null,null,null,null,null,null,null,null,null,null,null,null,null,null,null,null,null,null,null,null,null,null,"Чернігівська","Степанівське"]
[null,null,null,null,null,null,null,null,null,null,null,null,null,null,null,null,null,null,null,null,null,null,null,null,null,null,null,null,null,null,null,null,null,null,null,null,null,null,null,null,null,null,null,null,null,"Чернігівська","Тамарівка"]
[null,null,null,null,null,null,null,null,null,null,null,null,null,null,null,null,null,null,null,null,null,null,null,null,null,null,null,null,null,null,null,null,null,null,null,null,null,null,null,null,null,null,null,null,null,"Чернігівська","Тараса Шевченка"]
[null,null,null,null,null,null,null,null,null,null,null,null,null,null,null,null,null,null,null,null,null,null,null,null,null,null,null,null,null,null,null,null,null,null,null,null,null,null,null,null,null,null,null,null,null,"Чернігівська","Тарасів"]
[null,null,null,null,null,null,null,null,null,null,null,null,null,null,null,null,null,null,null,null,null,null,null,null,null,null,null,null,null,null,null,null,null,null,null,null,null,null,null,null,null,null,null,null,null,"Чернігівська","Тасуїв"]
[null,null,null,null,null,null,null,null,null,null,null,null,null,null,null,null,null,null,null,null,null,null,null,null,null,null,null,null,null,null,null,null,null,null,null,null,null,null,null,null,null,null,null,null,null,"Чернігівська","Татарівка"]
[null,null,null,null,null,null,null,null,null,null,null,null,null,null,null,null,null,null,null,null,null,null,null,null,null,null,null,null,null,null,null,null,null,null,null,null,null,null,null,null,null,null,null,null,null,"Чернігівська","Тельне"]
[null,null,null,null,null,null,null,null,null,null,null,null,null,null,null,null,null,null,null,null,null,null,null,null,null,null,null,null,null,null,null,null,null,null,null,null,null,null,null,null,null,null,null,null,null,"Чернігівська","Терехівка"]
[null,null,null,null,null,null,null,null,null,null,null,null,null,null,null,null,null,null,null,null,null,null,null,null,null,null,null,null,null,null,null,null,null,null,null,null,null,null,null,null,null,null,null,null,null,"Чернігівська","Терешиха"]
[null,null,null,null,null,null,null,null,null,null,null,null,null,null,null,null,null,null,null,null,null,null,null,null,null,null,null,null,null,null,null,null,null,null,null,null,null,null,null,null,null,null,null,null,null,"Чернігівська","Тертишники"]
[null,null,null,null,null,null,null,null,null,null,null,null,null,null,null,null,null,null,null,null,null,null,null,null,null,null,null,null,null,null,null,null,null,null,null,null,null,null,null,null,null,null,null,null,null,"Чернігівська","Тимоновичі"]
[null,null,null,null,null,null,null,null,null,null,null,null,null,null,null,null,null,null,null,null,null,null,null,null,null,null,null,null,null,null,null,null,null,null,null,null,null,null,null,null,null,null,null,null,null,"Чернігівська","Тиниця"]
[null,null,null,null,null,null,null,null,null,null,null,null,null,null,null,null,null,null,null,null,null,null,null,null,null,null,null,null,null,null,null,null,null,null,null,null,null,null,null,null,null,null,null,null,null,"Чернігівська","Титівка"]
[null,null,null,null,null,null,null,null,null,null,null,null,null,null,null,null,null,null,null,null,null,null,null,null,null,null,null,null,null,null,null,null,null,null,null,null,null,null,null,null,null,null,null,null,null,"Чернігівська","Тихонівське"]
[null,null,null,null,null,null,null,null,null,null,null,null,null,null,null,null,null,null,null,null,null,null,null,null,null,null,null,null,null,null,null,null,null,null,null,null,null,null,null,null,null,null,null,null,null,"Чернігівська","Тихоновичі"]
[null,null,null,null,null,null,null,null,null,null,null,null,null,null,null,null,null,null,null,null,null,null,null,null,null,null,null,null,null,null,null,null,null,null,null,null,null,null,null,null,null,null,null,null,null,"Чернігівська","Товкачівка"]
[null,null,null,null,null,null,null,null,null,null,null,null,null,null,null,null,null,null,null,null,null,null,null,null,null,null,null,null,null,null,null,null,null,null,null,null,null,null,null,null,null,null,null,null,null,"Чернігівська","Товстоліс"]
[null,null,null,null,null,null,null,null,null,null,null,null,null,null,null,null,null,null,null,null,null,null,null,null,null,null,null,null,null,null,null,null,null,null,null,null,null,null,null,null,null,null,null,null,null,"Чернігівська","Тонка"]
[null,null,null,null,null,null,null,null,null,null,null,null,null,null,null,null,null,null,null,null,null,null,null,null,null,null,null,null,null,null,null,null,null,null,null,null,null,null,null,null,null,null,null,null,null,"Чернігівська","Топчіївка"]
[null,null,null,null,null,null,null,null,null,null,null,null,null,null,null,null,null,null,null,null,null,null,null,null,null,null,null,null,null,null,null,null,null,null,null,null,null,null,null,null,null,null,null,null,null,"Чернігівська","Точене"]
[null,null,null,null,null,null,null,null,null,null,null,null,null,null,null,null,null,null,null,null,null,null,null,null,null,null,null,null,null,null,null,null,null,null,null,null,null,null,null,null,null,null,null,null,null,"Чернігівська","Травкине"]
[null,null,null,null,null,null,null,null,null,null,null,null,null,null,null,null,null,null,null,null,null,null,null,null,null,null,null,null,null,null,null,null,null,null,null,null,null,null,null,null,null,null,null,null,null,"Чернігівська","Тужар"]
[null,null,null,null,null,null,null,null,null,null,null,null,null,null,null,null,null,null,null,null,null,null,null,null,null,null,null,null,null,null,null,null,null,null,null,null,null,null,null,null,null,null,null,null,null,"Чернігівська","Тулія"]
[null,null,null,null,null,null,null,null,null,null,null,null,null,null,null,null,null,null,null,null,null,null,null,null,null,null,null,null,null,null,null,null,null,null,null,null,null,null,null,null,null,null,null,null,null,"Чернігівська","Туманська Гута"]
[null,null,null,null,null,null,null,null,null,null,null,null,null,null,null,null,null,null,null,null,null,null,null,null,null,null,null,null,null,null,null,null,null,null,null,null,null,null,null,null,null,null,null,null,null,"Чернігівська","Тупичів"]
[null,null,null,null,null,null,null,null,null,null,null,null,null,null,null,null,null,null,null,null,null,null,null,null,null,null,null,null,null,null,null,null,null,null,null,null,null,null,null,null,null,null,null,null,null,"Чернігівська","Турківка"]
[null,null,null,null,null,null,null,null,null,null,null,null,null,null,null,null,null,null,null,null,null,null,null,null,null,null,null,null,null,null,null,null,null,null,null,null,null,null,null,null,null,null,null,null,null,"Чернігівська","Тютюнниця"]
[null,null,null,null,null,null,null,null,null,null,null,null,null,null,null,null,null,null,null,null,null,null,null,null,null,null,null,null,null,null,null,null,null,null,null,null,null,null,null,null,null,null,null,null,null,"Чернігівська","Убіжичі"]
[null,null,null,null,null,null,null,null,null,null,null,null,null,null,null,null,null,null,null,null,null,null,null,null,null,null,null,null,null,null,null,null,null,null,null,null,null,null,null,null,null,null,null,null,null,"Чернігівська","Уборки"]
[null,null,null,null,null,null,null,null,null,null,null,null,null,null,null,null,null,null,null,null,null,null,null,null,null,null,null,null,null,null,null,null,null,null,null,null,null,null,null,null,null,null,null,null,null,"Чернігівська","Углова Рудня"]
[null,null,null,null,null,null,null,null,null,null,null,null,null,null,null,null,null,null,null,null,null,null,null,null,null,null,null,null,null,null,null,null,null,null,null,null,null,null,null,null,null,null,null,null,null,"Чернігівська","Удайці"]
[null,null,null,null,null,null,null,null,null,null,null,null,null,null,null,null,null,null,null,null,null,null,null,null,null,null,null,null,null,null,null,null,null,null,null,null,null,null,null,null,null,null,null,null,null,"Чернігівська","Узруй"]
[null,null,null,null,null,null,null,null,null,null,null,null,null,null,null,null,null,null,null,null,null,null,null,null,null,null,null,null,null,null,null,null,null,null,null,null,null,null,null,null,null,null,null,null,null,"Чернігівська","Українське (курінська)"]
[null,null,null,null,null,null,null,null,null,null,null,null,null,null,null,null,null,null,null,null,null,null,null,null,null,null,null,null,null,null,null,null,null,null,null,null,null,null,null,null,null,null,null,null,null,"Чернігівська","Унучки"]
[null,null,null,null,null,null,null,null,null,null,null,null,null,null,null,null,null,null,null,null,null,null,null,null,null,null,null,null,null,null,null,null,null,null,null,null,null,null,null,null,null,null,null,null,null,"Чернігівська","Ушівка"]
[null,null,null,null,null,null,null,null,null,null,null,null,null,null,null,null,null,null,null,null,null,null,null,null,null,null,null,null,null,null,null,null,null,null,null,null,null,null,null,null,null,null,null,null,null,"Чернігівська","Фаївка"]
[null,null,null,null,null,null,null,null,null,null,null,null,null,null,null,null,null,null,null,null,null,null,null,null,null,null,null,null,null,null,null,null,null,null,null,null,null,null,null,null,null,null,null,null,null,"Чернігівська","Фастівці"]
[null,null,null,null,null,null,null,null,null,null,null,null,null,null,null,null,null,null,null,null,null,null,null,null,null,null,null,null,null,null,null,null,null,null,null,null,null,null,null,null,null,null,null,null,null,"Чернігівська","Ферубки"]
[null,null,null,null,null,null,null,null,null,null,null,null,null,null,null,null,null,null,null,null,null,null,null,null,null,null,null,null,null,null,null,null,null,null,null,null,null,null,null,null,null,null,null,null,null,"Чернігівська","Феськівка"]
[null,null,null,null,null,null,null,null,null,null,null,null,null,null,null,null,null,null,null,null,null,null,null,null,null,null,null,null,null,null,null,null,null,null,null,null,null,null,null,null,null,null,null,null,null,"Чернігівська","Філонівка"]
[null,null,null,null,null,null,null,null,null,null,null,null,null,null,null,null,null,null,null,null,null,null,null,null,null,null,null,null,null,null,null,null,null,null,null,null,null,null,null,null,null,null,null,null,null,"Чернігівська","Форостовичі"]
[null,null,null,null,null,null,null,null,null,null,null,null,null,null,null,null,null,null,null,null,null,null,null,null,null,null,null,null,null,null,null,null,null,null,null,null,null,null,null,null,null,null,null,null,null,"Чернігівська","Фурсове"]
[null,null,null,null,null,null,null,null,null,null,null,null,null,null,null,null,null,null,null,null,null,null,null,null,null,null,null,null,null,null,null,null,null,null,null,null,null,null,null,null,null,null,null,null,null,"Чернігівська","Хаєнки"]
[null,null,null,null,null,null,null,null,null,null,null,null,null,null,null,null,null,null,null,null,null,null,null,null,null,null,null,null,null,null,null,null,null,null,null,null,null,null,null,null,null,null,null,null,null,"Чернігівська","Хаїха"]
[null,null,null,null,null,null,null,null,null,null,null,null,null,null,null,null,null,null,null,null,null,null,null,null,null,null,null,null,null,null,null,null,null,null,null,null,null,null,null,null,null,null,null,null,null,"Чернігівська","Халимонове"]
[null,null,null,null,null,null,null,null,null,null,null,null,null,null,null,null,null,null,null,null,null,null,null,null,null,null,null,null,null,null,null,null,null,null,null,null,null,null,null,null,null,null,null,null,null,"Чернігівська","Халявин"]
[null,null,null,null,null,null,null,null,null,null,null,null,null,null,null,null,null,null,null,null,null,null,null,null,null,null,null,null,null,null,null,null,null,null,null,null,null,null,null,null,null,null,null,null,null,"Чернігівська","Хатилова Гута"]
[null,null,null,null,null,null,null,null,null,null,null,null,null,null,null,null,null,null,null,null,null,null,null,null,null,null,null,null,null,null,null,null,null,null,null,null,null,null,null,null,null,null,null,null,null,"Чернігівська","Хвилівка"]
[null,null,null,null,null,null,null,null,null,null,null,null,null,null,null,null,null,null,null,null,null,null,null,null,null,null,null,null,null,null,null,null,null,null,null,null,null,null,null,null,null,null,null,null,null,"Чернігівська","Хибалівка"]
[null,null,null,null,null,null,null,null,null,null,null,null,null,null,null,null,null,null,null,null,null,null,null,null,null,null,null,null,null,null,null,null,null,null,null,null,null,null,null,null,null,null,null,null,null,"Чернігівська","Хлоп'яники"]
[null,null,null,null,null,null,null,null,null,null,null,null,null,null,null,null,null,null,null,null,null,null,null,null,null,null,null,null,null,null,null,null,null,null,null,null,null,null,null,null,null,null,null,null,null,"Чернігівська","Хмільниця"]
[null,null,null,null,null,null,null,null,null,null,null,null,null,null,null,null,null,null,null,null,null,null,null,null,null,null,null,null,null,null,null,null,null,null,null,null,null,null,null,null,null,null,null,null,null,"Чернігівська","Ховдіївка"]
[null,null,null,null,null,null,null,null,null,null,null,null,null,null,null,null,null,null,null,null,null,null,null,null,null,null,null,null,null,null,null,null,null,null,null,null,null,null,null,null,null,null,null,null,null,"Чернігівська","Ховми"]
[null,null,null,null,null,null,null,null,null,null,null,null,null,null,null,null,null,null,null,null,null,null,null,null,null,null,null,null,null,null,null,null,null,null,null,null,null,null,null,null,null,null,null,null,null,"Чернігівська","Холми"]
[null,null,null,null,null,null,null,null,null,null,null,null,null,null,null,null,null,null,null,null,null,null,null,null,null,null,null,null,null,null,null,null,null,null,null,null,null,null,null,null,null,null,null,null,null,"Чернігівська","Холявки"]
[null,null,null,null,null,null,null,null,null,null,null,null,null,null,null,null,null,null,null,null,null,null,null,null,null,null,null,null,null,null,null,null,null,null,null,null,null,null,null,null,null,null,null,null,null,"Чернігівська","Хоробичі"]
[null,null,null,null,null,null,null,null,null,null,null,null,null,null,null,null,null,null,null,null,null,null,null,null,null,null,null,null,null,null,null,null,null,null,null,null,null,null,null,null,null,null,null,null,null,"Чернігівська","Хороше Озеро"]
[null,null,null,null,null,null,null,null,null,null,null,null,null,null,null,null,null,null,null,null,null,null,null,null,null,null,null,null,null,null,null,null,null,null,null,null,null,null,null,null,null,null,null,null,null,"Чернігівська","Хотівля"]
[null,null,null,null,null,null,null,null,null,null,null,null,null,null,null,null,null,null,null,null,null,null,null,null,null,null,null,null,null,null,null,null,null,null,null,null,null,null,null,null,null,null,null,null,null,"Чернігівська","Хотіївка"]
[null,null,null,null,null,null,null,null,null,null,null,null,null,null,null,null,null,null,null,null,null,null,null,null,null,null,null,null,null,null,null,null,null,null,null,null,null,null,null,null,null,null,null,null,null,"Чернігівська","Хотуничі"]
[null,null,null,null,null,null,null,null,null,null,null,null,null,null,null,null,null,null,null,null,null,null,null,null,null,null,null,null,null,null,null,null,null,null,null,null,null,null,null,null,null,null,null,null,null,"Чернігівська","Храпате"]
[null,null,null,null,null,null,null,null,null,null,null,null,null,null,null,null,null,null,null,null,null,null,null,null,null,null,null,null,null,null,null,null,null,null,null,null,null,null,null,null,null,null,null,null,null,"Чернігівська","Хрипівка"]
[null,null,null,null,null,null,null,null,null,null,null,null,null,null,null,null,null,null,null,null,null,null,null,null,null,null,null,null,null,null,null,null,null,null,null,null,null,null,null,null,null,null,null,null,null,"Чернігівська","Хрінівка"]
[null,null,null,null,null,null,null,null,null,null,null,null,null,null,null,null,null,null,null,null,null,null,null,null,null,null,null,null,null,null,null,null,null,null,null,null,null,null,null,null,null,null,null,null,null,"Чернігівська","Хукалівка"]
[null,null,null,null,null,null,null,null,null,null,null,null,null,null,null,null,null,null,null,null,null,null,null,null,null,null,null,null,null,null,null,null,null,null,null,null,null,null,null,null,null,null,null,null,null,"Чернігівська","Часнівці"]
[null,null,null,null,null,null,null,null,null,null,null,null,null,null,null,null,null,null,null,null,null,null,null,null,null,null,null,null,null,null,null,null,null,null,null,null,null,null,null,null,null,null,null,null,null,"Чернігівська","Чемер"]
[null,null,null,null,null,null,null,null,null,null,null,null,null,null,null,null,null,null,null,null,null,null,null,null,null,null,null,null,null,null,null,null,null,null,null,null,null,null,null,null,null,null,null,null,null,"Чернігівська","Ченчики"]
[null,null,null,null,null,null,null,null,null,null,null,null,null,null,null,null,null,null,null,null,null,null,null,null,null,null,null,null,null,null,null,null,null,null,null,null,null,null,null,null,null,null,null,null,null,"Чернігівська","Чепелів"]
[null,null,null,null,null,null,null,null,null,null,null,null,null,null,null,null,null,null,null,null,null,null,null,null,null,null,null,null,null,null,null,null,null,null,null,null,null,null,null,null,null,null,null,null,null,"Чернігівська","Червона Буда"]
[null,null,null,null,null,null,null,null,null,null,null,null,null,null,null,null,null,null,null,null,null,null,null,null,null,null,null,null,null,null,null,null,null,null,null,null,null,null,null,null,null,null,null,null,null,"Чернігівська","Червона Гута"]
[null,null,null,null,null,null,null,null,null,null,null,null,null,null,null,null,null,null,null,null,null,null,null,null,null,null,null,null,null,null,null,null,null,null,null,null,null,null,null,null,null,null,null,null,null,"Чернігівська","Червона Україна"]
[null,null,null,null,null,null,null,null,null,null,null,null,null,null,null,null,null,null,null,null,null,null,null,null,null,null,null,null,null,null,null,null,null,null,null,null,null,null,null,null,null,null,null,null,null,"Чернігівська","Червоний Гай"]
[null,null,null,null,null,null,null,null,null,null,null,null,null,null,null,null,null,null,null,null,null,null,null,null,null,null,null,null,null,null,null,null,null,null,null,null,null,null,null,null,null,null,null,null,null,"Чернігівська","Червоний Довжик"]
[null,null,null,null,null,null,null,null,null,null,null,null,null,null,null,null,null,null,null,null,null,null,null,null,null,null,null,null,null,null,null,null,null,null,null,null,null,null,null,null,null,null,null,null,null,"Чернігівська","Червоний Колодязь"]
[null,null,null,null,null,null,null,null,null,null,null,null,null,null,null,null,null,null,null,null,null,null,null,null,null,null,null,null,null,null,null,null,null,null,null,null,null,null,null,null,null,null,null,null,null,"Чернігівська","Червоний Остер"]
[null,null,null,null,null,null,null,null,null,null,null,null,null,null,null,null,null,null,null,null,null,null,null,null,null,null,null,null,null,null,null,null,null,null,null,null,null,null,null,null,null,null,null,null,null,"Чернігівська","Червоний Пахар"]
[null,null,null,null,null,null,null,null,null,null,null,null,null,null,null,null,null,null,null,null,null,null,null,null,null,null,null,null,null,null,null,null,null,null,null,null,null,null,null,null,null,null,null,null,null,"Чернігівська","Червоний Плугатор"]
[null,null,null,null,null,null,null,null,null,null,null,null,null,null,null,null,null,null,null,null,null,null,null,null,null,null,null,null,null,null,null,null,null,null,null,null,null,null,null,null,null,null,null,null,null,"Чернігівська","Червоний Шлях"]
[null,null,null,null,null,null,null,null,null,null,null,null,null,null,null,null,null,null,null,null,null,null,null,null,null,null,null,null,null,null,null,null,null,null,null,null,null,null,null,null,null,null,null,null,null,"Чернігівська","Червоні Гори"]
[null,null,null,null,null,null,null,null,null,null,null,null,null,null,null,null,null,null,null,null,null,null,null,null,null,null,null,null,null,null,null,null,null,null,null,null,null,null,null,null,null,null,null,null,null,"Чернігівська","Червоні Партизани"]
[null,null,null,null,null,null,null,null,null,null,null,null,null,null,null,null,null,null,null,null,null,null,null,null,null,null,null,null,null,null,null,null,null,null,null,null,null,null,null,null,null,null,null,null,null,"Чернігівська","Черецьке"]
[null,null,null,null,null,null,null,null,null,null,null,null,null,null,null,null,null,null,null,null,null,null,null,null,null,null,null,null,null,null,null,null,null,null,null,null,null,null,null,null,null,null,null,null,null,"Чернігівська","Черниш"]
[null,null,null,null,null,null,null,null,null,null,null,null,null,null,null,null,null,null,null,null,null,null,null,null,null,null,null,null,null,null,null,null,null,null,null,null,null,null,null,null,null,null,null,null,null,"Чернігівська","Чернігів"]
[null,null,null,null,null,null,null,null,null,null,null,null,null,null,null,null,null,null,null,null,null,null,null,null,null,null,null,null,null,null,null,null,null,null,null,null,null,null,null,null,null,null,null,null,null,"Чернігівська","Чисті Лужи"]
[null,null,null,null,null,null,null,null,null,null,null,null,null,null,null,null,null,null,null,null,null,null,null,null,null,null,null,null,null,null,null,null,null,null,null,null,null,null,null,null,null,null,null,null,null,"Чернігівська","Чорний Ріг"]
[null,null,null,null,null,null,null,null,null,null,null,null,null,null,null,null,null,null,null,null,null,null,null,null,null,null,null,null,null,null,null,null,null,null,null,null,null,null,null,null,null,null,null,null,null,"Чернігівська","Чорногорці"]
[null,null,null,null,null,null,null,null,null,null,null,null,null,null,null,null,null,null,null,null,null,null,null,null,null,null,null,null,null,null,null,null,null,null,null,null,null,null,null,null,null,null,null,null,null,"Чернігівська","Чорнозем"]
[null,null,null,null,null,null,null,null,null,null,null,null,null,null,null,null,null,null,null,null,null,null,null,null,null,null,null,null,null,null,null,null,null,null,null,null,null,null,null,null,null,null,null,null,null,"Чернігівська","Чорнотичі"]
[null,null,null,null,null,null,null,null,null,null,null,null,null,null,null,null,null,null,null,null,null,null,null,null,null,null,null,null,null,null,null,null,null,null,null,null,null,null,null,null,null,null,null,null,null,"Чернігівська","Чудівка"]
[null,null,null,null,null,null,null,null,null,null,null,null,null,null,null,null,null,null,null,null,null,null,null,null,null,null,null,null,null,null,null,null,null,null,null,null,null,null,null,null,null,null,null,null,null,"Чернігівська","Чулатів"]
[null,null,null,null,null,null,null,null,null,null,null,null,null,null,null,null,null,null,null,null,null,null,null,null,null,null,null,null,null,null,null,null,null,null,null,null,null,null,null,null,null,null,null,null,null,"Чернігівська","Чумак"]
[null,null,null,null,null,null,null,null,null,null,null,null,null,null,null,null,null,null,null,null,null,null,null,null,null,null,null,null,null,null,null,null,null,null,null,null,null,null,null,null,null,null,null,null,null,"Чернігівська","Шабалинів"]
[null,null,null,null,null,null,null,null,null,null,null,null,null,null,null,null,null,null,null,null,null,null,null,null,null,null,null,null,null,null,null,null,null,null,null,null,null,null,null,null,null,null,null,null,null,"Чернігівська","Шаболтасівка"]
[null,null,null,null,null,null,null,null,null,null,null,null,null,null,null,null,null,null,null,null,null,null,null,null,null,null,null,null,null,null,null,null,null,null,null,null,null,null,null,null,null,null,null,null,null,"Чернігівська","Шами"]
[null,null,null,null,null,null,null,null,null,null,null,null,null,null,null,null,null,null,null,null,null,null,null,null,null,null,null,null,null,null,null,null,null,null,null,null,null,null,null,null,null,null,null,null,null,"Чернігівська","Шапіхи"]
[null,null,null,null,null,null,null,null,null,null,null,null,null,null,null,null,null,null,null,null,null,null,null,null,null,null,null,null,null,null,null,null,null,null,null,null,null,null,null,null,null,null,null,null,null,"Чернігівська","Шатура"]
[null,null,null,null,null,null,null,null,null,null,null,null,null,null,null,null,null,null,null,null,null,null,null,null,null,null,null,null,null,null,null,null,null,null,null,null,null,null,null,null,null,null,null,null,null,"Чернігівська","Шведчина"]
[null,null,null,null,null,null,null,null,null,null,null,null,null,null,null,null,null,null,null,null,null,null,null,null,null,null,null,null,null,null,null,null,null,null,null,null,null,null,null,null,null,null,null,null,null,"Чернігівська","Шептаки"]
[null,null,null,null,null,null,null,null,null,null,null,null,null,null,null,null,null,null,null,null,null,null,null,null,null,null,null,null,null,null,null,null,null,null,null,null,null,null,null,null,null,null,null,null,null,"Чернігівська","Шестовиця"]
[null,null,null,null,null,null,null,null,null,null,null,null,null,null,null,null,null,null,null,null,null,null,null,null,null,null,null,null,null,null,null,null,null,null,null,null,null,null,null,null,null,null,null,null,null,"Чернігівська","Шибиринівка"]
[null,null,null,null,null,null,null,null,null,null,null,null,null,null,null,null,null,null,null,null,null,null,null,null,null,null,null,null,null,null,null,null,null,null,null,null,null,null,null,null,null,null,null,null,null,"Чернігівська","Шиловичі"]
[null,null,null,null,null,null,null,null,null,null,null,null,null,null,null,null,null,null,null,null,null,null,null,null,null,null,null,null,null,null,null,null,null,null,null,null,null,null,null,null,null,null,null,null,null,"Чернігівська","Шишка"]
[null,null,null,null,null,null,null,null,null,null,null,null,null,null,null,null,null,null,null,null,null,null,null,null,null,null,null,null,null,null,null,null,null,null,null,null,null,null,null,null,null,null,null,null,null,"Чернігівська","Шкробове"]
[null,null,null,null,null,null,null,null,null,null,null,null,null,null,null,null,null,null,null,null,null,null,null,null,null,null,null,null,null,null,null,null,null,null,null,null,null,null,null,null,null,null,null,null,null,"Чернігівська","Шкуранка"]
[null,null,null,null,null,null,null,null,null,null,null,null,null,null,null,null,null,null,null,null,null,null,null,null,null,null,null,null,null,null,null,null,null,null,null,null,null,null,null,null,null,null,null,null,null,"Чернігівська","Шмаївка"]
[null,null,null,null,null,null,null,null,null,null,null,null,null,null,null,null,null,null,null,null,null,null,null,null,null,null,null,null,null,null,null,null,null,null,null,null,null,null,null,null,null,null,null,null,null,"Чернігівська","Шняківка"]
[null,null,null,null,null,null,null,null,null,null,null,null,null,null,null,null,null,null,null,null,null,null,null,null,null,null,null,null,null,null,null,null,null,null,null,null,null,null,null,null,null,null,null,null,null,"Чернігівська","Шолойки"]
[null,null,null,null,null,null,null,null,null,null,null,null,null,null,null,null,null,null,null,null,null,null,null,null,null,null,null,null,null,null,null,null,null,null,null,null,null,null,null,null,null,null,null,null,null,"Чернігівська","Шпаків"]
[null,null,null,null,null,null,null,null,null,null,null,null,null,null,null,null,null,null,null,null,null,null,null,null,null,null,null,null,null,null,null,null,null,null,null,null,null,null,null,null,null,null,null,null,null,"Чернігівська","Шумани"]
[null,null,null,null,null,null,null,null,null,null,null,null,null,null,null,null,null,null,null,null,null,null,null,null,null,null,null,null,null,null,null,null,null,null,null,null,null,null,null,null,null,null,null,null,null,"Чернігівська","Шумейкине (Матіївська)"]
[null,null,null,null,null,null,null,null,null,null,null,null,null,null,null,null,null,null,null,null,null,null,null,null,null,null,null,null,null,null,null,null,null,null,null,null,null,null,null,null,null,null,null,null,null,"Чернігівська","Шумейків"]
[null,null,null,null,null,null,null,null,null,null,null,null,null,null,null,null,null,null,null,null,null,null,null,null,null,null,null,null,null,null,null,null,null,null,null,null,null,null,null,null,null,null,null,null,null,"Чернігівська","Шумин"]
[null,null,null,null,null,null,null,null,null,null,null,null,null,null,null,null,null,null,null,null,null,null,null,null,null,null,null,null,null,null,null,null,null,null,null,null,null,null,null,null,null,null,null,null,null,"Чернігівська","Щокоть"]
[null,null,null,null,null,null,null,null,null,null,null,null,null,null,null,null,null,null,null,null,null,null,null,null,null,null,null,null,null,null,null,null,null,null,null,null,null,null,null,null,null,null,null,null,null,"Чернігівська","Щорс"]
[null,null,null,null,null,null,null,null,null,null,null,null,null,null,null,null,null,null,null,null,null,null,null,null,null,null,null,null,null,null,null,null,null,null,null,null,null,null,null,null,null,null,null,null,null,"Чернігівська","Щурівка"]
[null,null,null,null,null,null,null,null,null,null,null,null,null,null,null,null,null,null,null,null,null,null,null,null,null,null,null,null,null,null,null,null,null,null,null,null,null,null,null,null,null,null,null,null,null,"Чернігівська","Щуча Гребля"]
[null,null,null,null,null,null,null,null,null,null,null,null,null,null,null,null,null,null,null,null,null,null,null,null,null,null,null,null,null,null,null,null,null,null,null,null,null,null,null,null,null,null,null,null,null,"Чернігівська","Юрківщина"]
[null,null,null,null,null,null,null,null,null,null,null,null,null,null,null,null,null,null,null,null,null,null,null,null,null,null,null,null,null,null,null,null,null,null,null,null,null,null,null,null,null,null,null,null,null,"Чернігівська","Юхнове"]
[null,null,null,null,null,null,null,null,null,null,null,null,null,null,null,null,null,null,null,null,null,null,null,null,null,null,null,null,null,null,null,null,null,null,null,null,null,null,null,null,null,null,null,null,null,"Чернігівська","Яблунівське"]
[null,null,null,null,null,null,null,null,null,null,null,null,null,null,null,null,null,null,null,null,null,null,null,null,null,null,null,null,null,null,null,null,null,null,null,null,null,null,null,null,null,null,null,null,null,"Чернігівська","Ядути"]
[null,null,null,null,null,null,null,null,null,null,null,null,null,null,null,null,null,null,null,null,null,null,null,null,null,null,null,null,null,null,null,null,null,null,null,null,null,null,null,null,null,null,null,null,null,"Чернігівська","Якличі"]
[null,null,null,null,null,null,null,null,null,null,null,null,null,null,null,null,null,null,null,null,null,null,null,null,null,null,null,null,null,null,null,null,null,null,null,null,null,null,null,null,null,null,null,null,null,"Чернігівська","Ямище"]
[null,null,null,null,null,null,null,null,null,null,null,null,null,null,null,null,null,null,null,null,null,null,null,null,null,null,null,null,null,null,null,null,null,null,null,null,null,null,null,null,null,null,null,null,null,"Чернігівська","Ярова Білещина"]
[null,null,null,null,null,null,null,null,null,null,null,null,null,null,null,null,null,null,null,null,null,null,null,null,null,null,null,null,null,null,null,null,null,null,null,null,null,null,null,null,null,null,null,null,null,"Чернігівська","Ясна Зірка"]
[null,null,null,null,null,null,null,null,null,null,null,null,null,null,null,null,null,null,null,null,null,null,null,null,null,null,null,null,null,null,null,null,null,null,null,null,null,null,null,null,null,null,null,null,null,"Чернігівська","Яськове"]
[null,null,null,null,null,null,null,null,null,null,null,null,null,null,null,null,null,null,null,null,null,null,null,null,null,null,null,null,null,null,null,null,null,null,null,null,null,null,null,null,null,null,null,null,null,"Чернігівська","Ященків"]