{"text_format":"1","workbook":"xlsx","n_sheets":6,"sheets":["1.Портфель кредитів","2.Забезпечення","3.ППР","4.журнал торгів","журнал_пулів","Hidden_Словник"],"not_rendered":{"charts":0,"images":1,"macros":1,"external_links":12,"defined_names":32,"comments":0,"pivot_tables":0},"unopened":[],"bounds":{"document_bytes":16777216,"sheet_cells":100000,"rows_first":2000,"rows_last":500,"rows_between":2000,"halvings":0,"cell_chars":16384,"cell_head_chars":4096},"cells_cut":0,"cells_raw":0,"read":"whole","date_system":"1900"}

{"sheet":"1.Портфель кредитів","index":0,"n_rows":976,"n_cols":28,"rows_kept":976,"cut":false,"hidden":false,"merged":[[1,2,3,27]]}
[]
[null,null,"Цей документ був підготовлений Фондом гарантування вкладів фізичних осіб (далі – Фонд) виключно для інформаційних цілей і не повинен вважатися як спонукання до будь-яких дій чи бездіяльності. \nІнформація, що міститься в цьому документі, була отримана з/або ґрунтується на джерелах які вважаються надійними, але не є вичерпною та не може сприйматися як повна або актуальна. Рішення покупця щодо будь яких дій або бездіяльності повинно ґрунтуватися на власних оцінках та дослідженнях майна (активу/активів) котре реалізуються. Фонд не несе відповідальності за рішення покупця та його наслідки, що ґрунтується на інформації викладеній в даному документі."]
[]
[]
[]
["Звітна дата",":","2018-06-01"]
[null,null,"Загальні дані",null,null,null,null,"Характеристика активу / фактори впливу",null,null,null,null,null,null,null,null,null,null,null,null,null,null,null,"Заборгованість",{"$f":"SUM(Y9:Y132)","v":4560333521.3610382}]
["unicid","#","Банк","МФО банку","Галузь діяльності позичальника (КВЕД)","Область","Ознака банкрутства/ліквідації (відповідно ЄДР на дату заповнення паспорту)","Група активу","Номер кредитного договору","Тип кредита/активу","Валюта","Відсоткова ставка номінальна","Дата відкриття","Дата закінчення","Відмітка про знаходження права об'єкту в якості забезпечення під рефінансуванням в НБУ","Наявність кредитного договору та договору застави","Кількість днів прострочення оплати боргу на дату заповнення","Сума погашеної заборгованності у поточному році","Сума останнього погашення заборгованності","Дата останнього погашення заборгованності","Суб'єкт оціночної діяльності","Дата оцінки активу","Оціночна вартість","Заборгованість на дату формування ліквідаційної маси","Заборгованстіь  на дату заповнення паспорту 01.06.2018р. (тіло та проценти):","Заборгованість по тілу кредиту на дату заповнення паспорту","Забаргованність по нарах. % за кредитом на дату заповнення паспорту","Штрафи та пені"]
["322465_00149593_1",1,"Контракт","322465","27.3","Київ","Банкрутство",1,"069/2008","факторинг","Гривня",0,"2008-08-08","2010-08-07","НІ","Наявні документи кредитної справи",3147,0,"2516-04-22","2016-06-23","ТОВ \"Експертна компанія \"Професіонал\"","2015-12-11",1349271,11810485.07,11585381.690000001,9843558.0600000005,1741823.63,0]
["322465_36632279_2",2,"Контракт","322465","22.19","Київська","Діюче",1,"25/2010","кредитна лінія","Доллар США",0.13,"2010-08-06","2017-02-28","НІ","Наявні документи кредитної справи",1038,0,25754855.800000001,"2014-12-25","ТОВ \"Експертна компанія \"Професіонал\"","2015-12-11",245033,1992093.04,2549913.54,1899887.02,650026.52,588814.34]
["322465_21464531_3",3,"Контракт","322465","46.90","Київ","Діюче",1,"73/2013","кредитна лінія","Гривня",0.17,"2013-07-30","2016-07-29","НІ","Наявні документи кредитної справи",1736,0,1000,"2015-05-21","ТОВ \"Експертна компанія \"Професіонал\"","2015-12-11",1975978,19842424.949999999,25568374.609999999,15205000,10363374.609999999,12768495.810000001]
["322465_37026141_4",4,"Контракт","322465","46.90","Луганська","Діюче",1,"72/2013","кредитна лінія","Гривня",0.17,"2013-07-29","2015-07-29","НІ","Наявні документи кредитної справи",1725,0,1000,"2015-05-21","ТОВ \"Експертна компанія \"Професіонал\"","2015-12-11",1702004,17299137.75,22523332.300000001,13000000,9523332.3000000007,0]
["322465_37026141_5",5,"Контракт","322465","46.90","Луганська","Діюче",1,"2","лізинг","Гривня",0,"2012-08-01","2014-04-01","НІ","Наявні документи кредитної справи",1856,0,1000,"2015-05-21","ТОВ \"Експертна компанія \"Професіонал\"","2015-12-11",81143,1998000,1998000,1998000,0,0]
["322465_37026141_6",6,"Контракт","322465","46.90","Луганська","Діюче",1,"1/13-А","авалювання векселя","Гривня",0.28000000000000003,"2013-03-18","2013-10-18","НІ","Наявні документи кредитної справи",1158,0,0,null,"ТОВ \"Експертна компанія \"Професіонал\"","2015-12-11",62590,1541183.72,2662815.81,1400985.2,1261830.6100000001,0]
["322465_37026141_7",7,"Контракт","322465","46.90","Луганська","Діюче",1,"03/13-А","авалювання векселя","Гривня",0.28000000000000003,"2013-04-03","2014-01-01","НІ","Наявні документи кредитної справи",1285,0,1000,"2015-05-21","ТОВ \"Експертна компанія \"Професіонал\"","2015-12-11",91723,1558630.3,2839603.89,1418536.06,1421067.83,0]
["322465_37026141_8",8,"Контракт","322465","46.90","Луганська","Діюче",1,"05/13-А","авалювання векселя","Гривня",0.28000000000000003,"2013-04-03","2013-10-18","НІ","Наявні документи кредитної справи",1278,0,0,null,"ТОВ \"Експертна компанія \"Професіонал\"","2015-12-11",97615,2403595.5299999998,4152958.98,2184995.94,1967963.04,0]
["322465_30602673_9",9,"Контракт","322465","46.48","Київ","Діюче",1,"15/2014","мультивалютна кредитна лінія","Доллар США",0.20499999999999999,"2014-04-02","2017-03-31","НІ","Наявні документи кредитної справи",994,0,4870,"2016-01-15","ТОВ \"Канзас Ріал Естейт\"","2017-04-10",7838930,25232000.690000001,18961074.98,13600859.1,5360215.88,3567537.71]
["300498_39321683_1",1,"Національні інвестиції","300498","64.99","Київ","Діюче",1," 122-14/15-Ф ","Права вимоги дебіторської заборгованості","Гривня",0,"2015-01-29","2015-12-30","НІ","Відсутні документи кредитної справи",882,0,50,"2015-11-18","ПП \"ТА-Експерт-Сервіс\"","2017-04-01",260899,3362100,3362100,3362100,0,0]
["300498_39321683_2",2,"Національні інвестиції","300498","64.99","Київ","Діюче",1," 386-13/15-Ф","Права вимоги дебіторської заборгованості","Гривня",0,"2015-01-29","2015-12-30","НІ","Відсутні документи кредитної справи",882,0,50,"2015-11-18","ПП \"ТА-Експерт-Сервіс\"","2017-04-01",153454,1977500,1977500,1977500,0,0]
["300498_39321683_3",3,"Національні інвестиції","300498","64.99","Київ","Діюче",1," 17-14/15-Ф ","Права вимоги дебіторської заборгованості","Гривня",0,"2015-01-29","2015-12-30","НІ","Відсутні документи кредитної справи",882,0,50,"2015-11-18","ПП \"ТА-Експерт-Сервіс\"","2017-04-01",234670,3024092,3024092,3024092,0,0]
["300498_39321683_4",4,"Національні інвестиції","300498","64.99","Київ","Діюче",1," 478-12/15-Ф","Права вимоги дебіторської заборгованості","Гривня",0,"2015-01-29","2015-12-30","НІ","Відсутні документи кредитної справи",882,0,50,"2015-11-18","ПП \"ТА-Експерт-Сервіс\"","2017-04-01",234821,3026040,3026040,3026040,0,0]
["300498_39321683_5",5,"Національні інвестиції","300498","64.99","Київ","Діюче",1," 470-12/15-Ф","Права вимоги дебіторської заборгованості","Гривня",0,"2015-01-29","2015-12-30","НІ","Відсутні документи кредитної справи",882,0,50,"2015-11-18","ПП \"ТА-Експерт-Сервіс\"","2017-04-01",836529,10780000,10780000,10780000,0,0]
["300498_39321683_6",6,"Національні інвестиції","300498","64.99","Київ","Діюче",1," 08-13/15-Ф","Права вимоги дебіторської заборгованості","Гривня",0,"2015-01-29","2015-12-30","НІ","Відсутні документи кредитної справи",882,0,15,"2015-11-18","ПП \"ТА-Експерт-Сервіс\"","2017-04-01",642785,8283296.5,8283296.5,8283296.5,0,0]
["300498_39321683_7",7,"Національні інвестиції","300498","64.99","Київ","Діюче",1," 231-12/15-Ф","Права вимоги дебіторської заборгованості","Гривня",0,"2015-01-29","2015-12-30","НІ","Відсутні документи кредитної справи",882,0,150,"2015-11-18","ПП \"ТА-Експерт-Сервіс\"","2017-04-01",92672,1194231.1000000001,1194231.1000000001,1194231.1000000001,0,0]
["300498_39321683_8",8,"Національні інвестиції","300498","64.99","Київ","Діюче",1," 406-11/15-Ф","Права вимоги дебіторської заборгованості","Гривня",0,"2015-01-30","2015-12-24","НІ","Відсутні документи кредитної справи",882,0,0,"_","ПП \"ТА-Експерт-Сервіс\"","2017-04-01",480607,6193384.3600000003,6193384.3600000003,6193384.3600000003,0,0]
["300498_39321683_9",9,"Національні інвестиції","300498","64.99","Київ","Діюче",1," 157-13/815/15-Ф","Права вимоги дебіторської заборгованості","Гривня",0,"2015-01-30","2015-12-24","НІ","Відсутні документи кредитної справи",882,0,0,"_","ПП \"ТА-Експерт-Сервіс\"","2017-04-01",173934,2241416.0099999998,2241416.0099999998,2241416.0099999998,0,0]
["300498_39321683_10",10,"Національні інвестиції","300498","64.99","Київ","Діюче",1,"149-14/15-Ф","Права вимоги дебіторської заборгованості","Гривня",0,"2015-02-11","2015-12-30","НІ","Відсутні документи кредитної справи",882,0,300,"2015-11-18","ПП \"ТА-Експерт-Сервіс\"","2017-04-01",2291301,29527023.800000001,29527023.800000001,29527023.800000001,0,0]
["300498_33406185_11",11,"Національні інвестиції","300498","46.21","Харківська","Діюче",1,"402-13","Кредитна лінія","Доллар США",7.0000000000000007E-2,"2013-12-23","2015-12-17","НІ","Наявні документи кредитної справи",943,0,7922.66,"2015-03-30","ТОВ \"Бізнес Ассіст\"","2016-03-01",5236017,37875436.049999997,42080025.219999999,34351820.159999996,7728205.0599999996,0]
["380236_14308500_1",1,"Дельта","380236","30.11","Херсонська","Банкрутство",1,"04.1/23/07-КЛТ","Кредит, надання кредитних коштів траншами ","Доллар США",0,"2007-05-31","2015-12-31","НІ","Наявні документи кредитної справи",1918,0,0,"відсутня","ПП «Габ'яно»","2016-01-01",144710517,1585878700.5899999,1796400677.3800001,1163733231.27,632667446.11000001,"Згідно умов Договору"]
["380236_31550511_2",2,"Дельта","380236","46.90","Дніпропетровська","Ліквідовано",1,"04.1/51/07-КЛТ","Кредит, надання кредитних коштів траншами ","Гривня",0,"2007-12-29","2015-12-31","НІ","Наявні документи кредитної справи",1708,0,0,"відсутня","ПП «Габ'яно»","2016-01-01",50295893,119579312.23999999,115562095.17,77952376.579999998,37609718.590000004,"Згідно умов Договору"]
["380399_35683118_1",1,"КАМБІО","380399","63.99","Донецька","в стані припинення",1,"004/1-2013/980","Кредитна лінія",980,0.1,"2013-02-07","2014-12-19","НІ","Наявні документи кредитної справи",1268,0,11214.79,"2014-10-30","ПП \"ВІ АЙ ПІ ДЕПАРТАМЕНТ\"","2016-06-01",1044580,43715268.990000002,55659025.149999999,40934000,14725025.15]
["380399_36061733_2",2,"КАМБІО","380399","64.99","Донецька","припинено",2,"013/1-2014/980","Кредитна лінія",980,0.1,"2014-07-02","2015-10-29","НІ","Наявні документи кредитної справи",1268,0,41929,"2014-10-17","ПП \"ВІ АЙ ПІ ДЕПАРТАМЕНТ\"","2016-06-01",797804,43525174.729999997,55416993.93,40756000,14660993.93]
["380399_35740940_3",3,"КАМБІО","380399"," 01.50","Донецька","не перебуває в процесі припинення",1,"606/02-2010","Кредити",980,0.25,"2010-12-23","2014-12-14","НІ","Наявні документи кредитної справи",1522,0,5501145.1399999997,"2014-09-16","ПП \"ВІ АЙ ПІ ДЕПАРТАМЕНТ\"","2016-06-01",1527177,18225050.059999999,29024587.609999999,14805000,14219587.609999999]
["380399_32397777_4",4,"КАМБІО","380399","46.39 ","Донецька","не перебуває в процесі припинення",1,"608/02-2010","Кредити",980,0.25,"2010-12-29","2014-09-05","НІ","Наявні документи кредитної справи",2130,0,80381.259999999995,"2014-03-11","ПП \"ВІ АЙ ПІ ДЕПАРТАМЕНТ\"","2016-06-01",478702,12913697.380000001,18571286.380000003,7620000,10951286.380000001]
["380399_32397777_5",5,"КАМБІО","380399","46.39 ","Донецька","не перебуває в процесі припинення",1,"610/02-2011","Кредити",980,0.21,"2011-01-19","2014-09-05","НІ","Наявні документи кредитної справи",2161,0,33705.599999999999,"2014-03-11","ПП \"ВІ АЙ ПІ ДЕПАРТАМЕНТ\"","2016-06-01",446576,5493614.8300000001,7793022.8399999999,3220784.47,4572238.37]
["380399_35982130_6",6,"КАМБІО","380399","46.73","місто Київ","не перебуває в процесі припинення",1,"104/1-2010/978","Кредитна лінія",978,0.03,"2010-10-12","2014-12-12","НІ","Наявні документи кредитної справи",1494,0,47424.36,"2012-12-07","ПП \"ВІ АЙ ПІ ДЕПАРТАМЕНТ\"","2016-06-01",491573,10549947.66,14704372.270000001,12160472.800000001,2543899.4700000002]
["380399_35982130_7",7,"КАМБІО","380399","46.73","місто Київ","не перебуває в процесі припинення",1,"107/1-2010/840","Кредитна лінія",840,0.03,"2010-10-13","2014-12-22","НІ","Наявні документи кредитної справи",2034,0,37345.050000000003,"2012-09-27","ПП \"ВІ АЙ ПІ ДЕПАРТАМЕНТ\"","2016-06-01",435126,9417914.3699999992,12641310.550000001,10454326.800000001,2186983.75]
["380399_35982130_8",8,"КАМБІО","380399","46.73","місто Київ","не перебуває в процесі припинення",1,"109/1-2010/ 978","Кредитна лінія",978,0.03,"2010-10-14","2014-12-22","НІ","Наявні документи кредитної справи",2034,0,39363.17,"2012-12-07","ПП \"ВІ АЙ ПІ ДЕПАРТАМЕНТ\"","2016-06-01",430345,9236014.5700000003,12872540.84,10640413.699999999,2232127.14]
["380399_35886620_9",9,"КАМБІО","380399","46.12 ","місто Київ","не перебуває в процесі припинення",1,"103/1-2010/840","Кредитна лінія",840,0.03,"2010-10-11","2014-10-03","НІ","Наявні документи кредитної справи",1210,0,901000,"2012-12-28","ПП \"ВІ АЙ ПІ ДЕПАРТАМЕНТ\"","2016-06-01",607339,26828613.510000002,36113774.629999995,30937547.059999999,5176227.57]
["380399_30540832_10",10,"КАМБІО","380399","46.14","Донецька","в стані припинення",1,"036/1-2012/980","Кредитна лінія",980,0.1,"2012-12-03","2014-12-08","НІ","Наявні документи кредитної справи",1339,0,117154.68,"2014-09-08","ПП \"ВІ АЙ ПІ ДЕПАРТАМЕНТ\"","2016-06-01",433966,18183126.940000001,23075891.899999999,16768631.1,6307260.7999999998]
["380399_32091942_11",11,"КАМБІО","380399","46.90 ","Донецька","в стані припинення",1,"1ю-2014/980","Кредитна лінія",980,0.1,"2014-05-29","2014-08-01","НІ","Оригінали договорів наявні, документи кредитної справи відсутні",1307,0,280273.96999999997,"2014-10-30","ПП \"ВІ АЙ ПІ ДЕПАРТАМЕНТ\"","2016-06-01",799520,35242191.840000004,44870958.939999998,33000000,11870958.939999999]
["380399_38586806_12",12,"КАМБІО","380399","46.90 ","Донецька","припинено",2,"012/1-2014/980","Кредитна лінія",980,0.1,"2014-06-27","2015-10-29","НІ","Наявні документи кредитної справи",1268,0,306575.34999999998,"2014-10-30","ПП \"ВІ АЙ ПІ ДЕПАРТАМЕНТ\"","2016-06-01",730153,39834356.109999999,50717780.780000001,37300000,13417780.779999999]
["380399_31298029_13",13,"КАМБІО","380399","47.54","Донецька","не перебуває в процесі припинення",1,"536 /02-2010","Кредит",980,0.16,"2010-04-15","2011-01-30","НІ","Наявні документи кредитної справи",2679,0,250,"2012-09-20","ПП \"ВІ АЙ ПІ ДЕПАРТАМЕНТ\"","2016-06-01",470152,4447395.5999999996,4447395.5999999996,4447395.5999999996,0]
["380399_31298029_14",14,"КАМБІО","380399","47.54","Донецька","не перебуває в процесі припинення",1,"190/02-2006","Кредит",840,0.16,"2006-11-16","2014-02-28","НІ","Наявні документи кредитної справи",1554,0,19982.5,"2013-04-26","ПП \"ВІ АЙ ПІ ДЕПАРТАМЕНТ\"","2016-06-01",54942,3790479.6,4714042.04,3800245.8,913796.24]
["380399_31298029_15",15,"КАМБІО","380399","47.54","Донецька","не перебуває в процесі припинення",1,"331/02-2008","Кредит",840,0.16,"2008-04-16","2014-02-27","НІ","Наявні документи кредитної справи",1555,0,14547.26,"2013-10-23","ПП \"ВІ АЙ ПІ ДЕПАРТАМЕНТ\"","2016-06-01",32068,2212430.69,2751496.48,2493454.9500000002,258041.53]
["380399_24465962_16",16,"КАМБІО","380399","41.20","Донецька","не перебуває в процесі припинення",1,"335/02-2008","Кредит",840,0.16,"2008-04-24","2012-07-13","НІ","Наявні документи кредитної справи",2149,0,12159.53,"2014-04-15","ПП \"ВІ АЙ ПІ ДЕПАРТАМЕНТ\"","2016-06-01",240058,6443465.96,8013436.9900000002,6404967.46,1608469.53]
["380399_3050102644_17",17,"КАМБІО","380399","47.71","Донецька","не перебуває в процесі припинення",1,"801 /06-2014","Кредит",980,0.107,"2014-08-19","2015-08-18","НІ","Наявні документи кредитної справи",1268,4577.13,3062.89,"2018-05-16","ПП \"ВІ АЙ ПІ ДЕПАРТАМЕНТ\"","2016-06-01",544123,14257575.939999999,18327341.539999999,13050195.720000001,5277145.82]
["380399_3050102644_18",18,"КАМБІО","380399","47.71","Донецька","не перебуває в процесі припинення",1,"742/01-2013","Кредит",978,0.107,"2013-04-19","2014-08-19","НІ","Наявні документи кредитної справи",1381,0,298500,"2014-08-20","ПП \"ВІ АЙ ПІ ДЕПАРТАМЕНТ\"","2016-06-01",1086,40328.78,52080.26,0,52080.26]
["380399_38220095_19",19,"КАМБІО","380399","61.20","Донецька","в стані припинення",1,"712/01-2012","Кредитна лінія",980,0.25,"2012-08-27","2013-09-12","ні","Наявні документи кредитної справи",1826,0,27300,"2013-05-08","ПП \"ВІ АЙ ПІ ДЕПАРТАМЕНТ\"","2016-06-01",25389,4403140.3600000003,4403140.3600000003,4403140.3600000003,0]
["380399_38220095_20",20,"КАМБІО","380399","61.20","Донецька","в стані припинення",1,"730/02-2013","Кредитна лінія",980,0.25,"2013-01-24","2014-01-23","ні","Наявні документи кредитної справи",1826,0,2610.2800000000002,"2013-04-30","ПП \"ВІ АЙ ПІ ДЕПАРТАМЕНТ\"","2016-06-01",1722,298566.74,298566.74,250000,48566.74]
["380399_33576882_21",21,"КАМБІО","380399","56.10 ","Донецька","не перебуває в процесі припинення",1,"181/02-2006","Кредит",980,0.13,"2006-10-20","2011-11-20","ні","Наявні документи кредитної справи",2385,0,6500,"2013-09-13","ПП \"ВІ АЙ ПІ ДЕПАРТАМЕНТ\"","2016-06-01",32939,9042050.1799999997,9042050.1799999997,9042050.1799999997,0]
["380399_2049220006_22",22,"КАМБІО","380399","93.29","Донецька","не перебуває в процесі припинення",1,"746/01-2013","Кредит",840,0.15,"2013-04-26","2016-04-26","ні","Наявні документи кредитної справи",1610,0,58.27,"2013-12-09","ПП \"ВІ АЙ ПІ ДЕПАРТАМЕНТ\"","2016-06-01",6308,391039.28,660447.4,392037.26,268410.14]
["380399_2984007153_23",23,"КАМБІО","380399","55.30.1 ","Донецька","не перебуває в процесі припинення",1,"520/02-2010","Кредит",840,0.16,"2010-02-15","2011-02-15","ні","Наявні документи кредитної справи",2573,0,0.83,"2014-06-06","ПП \"ВІ АЙ ПІ ДЕПАРТАМЕНТ\"","2016-06-01",3111,274220.58,478479.64,290107.57,188372.07]
["380399_2365200553_24",24,"КАМБІО","380399","36.2","Донецька","не перебуває в процесі припинення",1,"307/02-2008","Кредит",980,0.25,"2008-01-17","2014-01-17","ні","Наявні документи кредитної справи",1596,0,6000,"2013-12-20","ПП \"ВІ АЙ ПІ ДЕПАРТАМЕНТ\"","2016-06-01",4539,369294.92,369294.92,336058.8,33236.120000000003]
["380399_36509714_29",29,"КАМБІО","380399","46.71","Київ","не перебуває в процесі припинення",1,"009/1-2012/980","Кредитна лінія",980,0.16,"2012-04-28","2014-02-28","ні","Наявні документи кредитної справи",1268,0,194500,"2013-03-14","ПП \"ВІ АЙ ПІ ДЕПАРТАМЕНТ\"","2016-06-01",534902,23756449.199999999,31823605.359999999,17280000,14543605.359999999]
["380399_35849311_30",30,"КАМБІО","380399","46.71 ","Київська","не перебуває в процесі припинення",1,"036/1-2011/980","Кредитна лінія",980,0.16,"2011-12-29","2014-02-28","ні","Наявні документи кредитної справи",1268,0,12182.5,"2015-02-16","ПП \"ВІ АЙ ПІ ДЕПАРТАМЕНТ\"","2016-06-01",498751,21878593.5,29529320,16388000,13141320]
["380399_37634188_31",31,"КАМБІО","380399","46.71 ","Київська","не перебуває в процесі припинення",1,"002/1-2012/980","Кредитна лінія",980,0.16,"2012-02-17","2014-04-30","ні","Наявні документи кредитної справи",1918,0,20000,"2013-09-26","ПП \"ВІ АЙ ПІ ДЕПАРТАМЕНТ\"","2016-06-01",171463,7594798.5199999996,10245301.9,5677428,4567873.9000000004]
["380399_35420835_32",32,"КАМБІО","380399","46.71","Донецька","в стані припинення",1,"589/02-2010","Кредит",980,0.25,"2010-11-17","2014-02-28","ні","Наявні документи кредитної справи",2374,0,4302994.5199999996,"2013-12-25","ПП \"ВІ АЙ ПІ ДЕПАРТАМЕНТ\"","2016-06-01",30761,5334672,5334672,5334672,0]
["380399_35420835_33",33,"КАМБІО","380399","46.71","Донецька","в стані припинення",1,"594/02-2010","Кредит",980,0.25,"2010-11-19","2014-02-28","ні","Наявні документи кредитної справи",2374,0,2863933.48,"2013-12-25","ПП \"ВІ АЙ ПІ ДЕПАРТАМЕНТ\"","2016-06-01",20476,3550981.12,3550981.12,3550981.12,0]
["380399_35420835_34",34,"КАМБІО","380399","46.71","Донецька","в стані припинення",1,"595/02-2010","Кредит",980,0.25,"2010-11-25","2014-02-28","ні","Наявні документи кредитної справи",2371,0,715328.86,"2012-08-07","ПП \"ВІ АЙ ПІ ДЕПАРТАМЕНТ\"","2016-06-01",7486,1298165.69,1298165.69,968682.2,329483.49]
["380399_36158429_35",35,"КАМБІО","380399","46.71","Київська","не перебуває в процесі припинення",1,"031/1-2012/840","Кредитна лінія",840,0.15,"2012-11-21","2014-04-30","ні","Наявні документи кредитної справи",1453,0,292646.24034414999,"2013-11-15","ПП \"ВІ АЙ ПІ ДЕПАРТАМЕНТ\"","2016-06-01",680718,23884744.120000001,39432395.609999999,21901814.649999999,17530580.960000001]
["380399_36158429_36",36,"КАМБІО","380399","46.71 ","Київська","не перебуває в процесі припинення",1,"032/1-2011/980","Кредитна лінія",980,0.16,"2011-11-07","2014-04-30","ні","Наявні документи кредитної справи",1268,0,132517.15,"2013-02-28","ПП \"ВІ АЙ ПІ ДЕПАРТАМЕНТ\"","2016-06-01",302101,13290411.859999999,17803334.469999999,9666765,8136569.4699999997]
["320995_39230722_1",1,"БГ банк","320995","46.19","Київська","Діюче",1,"017","права вимоги дебіторської заборгованості, за договором на надання рекламних послуг","Гривня",null,"2014-11-07","2014-12-31","НІ","Наявні документи кредитної справи",1248,null,null,null,"ПП «Консалтингова група «АРГО – ЕКСПЕРТ»","2015-06-01",378250,17800000,17800000,17800000]
["380537_31650398_1",1,"ВіЕйБі","380537","78","Житомирська","Діюче",1,"65","комерційний","Гривня",0.23,"2008-09-18","2008-12-20","НІ","Наявні документи кредитної справи",3494,0,9000,"02.04.2010","ПП \"Бюро Маркуса\"","2015-09-01",252,177636.51,226761.81,77726.559999999998,149035.25,35440.58]
["380537_34155850_2",2,"ВіЕйБі","380537","78","Запорізька","Діюче",1,"11-07/юр","комерційний","Доллар США",0.17499999999999999,"2007-07-11","2012-07-10","НІ","Наявні документи кредитної справи",3978,0,14052.88,"01.02.2011","ПП \"Бюро Маркуса\"","2015-09-01",386647,968327.18,1516039.43,658622.59,857416.84,4850714.8488000007]
["380537_2510502091_3",3,"ВіЕйБі","380537","78","Луганська","Ліквідовано",1,"1/07-SME","комерційний","Гривня",0.2,"2007-04-12","2021-04-30","НІ","Наявні документи кредитної справи",1610,0,360,"29.07.2014","ПП \"Бюро Маркуса\"","2015-09-01",85899,167562.06,241356.39,134272,107084.39,46959.380000000005]
["380537_2510502091_4",4,"ВіЕйБі","380537","78","Луганська","Ліквідовано",1,"3/07-SME","комерційний","Гривня",0.2,"2007-06-11","2021-04-30","НІ","Наявні документи кредитної справи",1627,0,1350,"06.06.2014","ПП \"Бюро Маркуса\"","2015-09-01",340022,1020793.78,1442302.5,766952.62,675349.88,274001.14]
["300670_20118873_1",1,"Хрещатик","300670","47.30","Вінницька","В стані припинення (крім банкрутства)",1,"10/09","Невідновлювальна кредитна лінія","Гривня",0.3,"2009-08-21","2011-12-25","НІ","Наявні документи кредитної справи",3042,"-","-","-","ТДВ \"Некос\"","2016-10-01",15796947,17749378.41,33849168.07,11097030.16,22752137.91,5388045.6600000001]
["300670_20118873_2",2,"Хрещатик","300670","47.30","Вінницька","В стані припинення (крім банкрутства)",1,"1057/07","кредит","Гривня",0.3,"2007-10-26","2010-10-25","НІ","Наявні документи кредитної справи",3073,"-",41043,591025.54,"ТДВ \"Некос\"","2016-10-01",5024424,5645419.9199999999,11209313.359999999,3835000,7374313.3600000003,1784277.02]
["300670_20118873_3",3,"Хрещатик","300670","47.30","Вінницька","В стані припинення (крім банкрутства)",1,"851/07","невідновлювальна кредитна лінія","Гривня",0.3,"2007-08-31","2010-12-24","НІ","Наявні документи кредитної справи",3073,"-",41302,829789.06,"ТДВ \"Некос\"","2016-10-01",1883336,2116107.64,5657127.3399999999,2020749,3636378.34,900490.69]
["300670_32480723_4",4,"Хрещатик","300670","46.73","Київ","Діюче",1,"02-13-ОВ","овердрафт","Гривня",0.48,"2013-10-10","2014-03-31","НІ","Наявні документи кредитної справи",1599,"-",41715,500,"ТДВ \"НЕКОС\"","2016-10-01",1435,150187.07999999999,313847.78999999998,99960.11,213887.68,47508.14]
["300670_32480723_5",5,"Хрещатик","300670","46.73","Київ","Діюче",1,"№26007001122199/КБ від 25.06.2013","дебіторська","Гривня",null,"2013-12-11",null,null,null,1632,null,null,null,"ЗАТ \"Консалтингюрсервіс\"","2016-10-01",84.38,3150.06,3150.06,3150.06,0,0]
["300175_36590318_1",1,"ФІДОБАНК","300175","51.10","Київ","Діюче",1,"293","Кредитни лінія","Гривня",0.18,"2010-08-10","2015-07-15","НІ","Наявні документи кредитної справи",1101,0,0,"-","ТОВ \"ВЕРІТАС ПРОПЕРТІ МЕНЕДЖМЕНТ\"","2016-11-01",25029144.834466498,38919086.020000003,53478431.689999998,25590682.629999999,27887749.059999999,9931277.9100000001]
["328210_34994243_1",1,"ІНВЕСТБАНК","328210","46.51","Одеська","Діюче",1,"№03-11","кредитна лінія",980,0.13,"2011-01-21","2017-07-28","НІ","Наявні документи кредитної справи",563,0,126715.68,"2016-11-30","ПП «ВІТАЛ-ПРОФІ»","2017-04-01",4608672.97,27985425.850000001,34009737.68,24410787.510000002,9598950.1699999999]
["328210_38784870_2",2,"ІНВЕСТБАНК","328210","16.29","Одеська","Діюче",1,"№21/13","кредитна лінія","980,  840",0.01,"2013-07-26","2020-07-21","НІ","Наявні документи кредитної справи",0,0,0,null,"ПП «ВІТАЛ-ПРОФІ»","2017-04-01",2848593.78,7682375.1200000001,7760543.04,7327801.8200000003,432741.22]
["328210_39297263_3",3,"ІНВЕСТБАНК","328210","46.21","Київська","Діюче",1,"№38-15","кредитна лінія",980,0.22,"2015-11-20","2016-12-01","НІ","Наявні документи кредитної справи",624,0,392347.76,"2016-11-30","ПП «ВІТАЛ-ПРОФІ»","2017-04-01",8502994.5700000003,39246350.140000001,47718175.329999998,32994197.629999999,14723977.699999999]
["328210_39537084_4",4,"ІНВЕСТБАНК","328210","41.20","Київська","Діюче",1,"№42-15","кредитна лінія",980,0.22,"2015-12-07","2016-12-29","НІ","Наявні документи кредитної справи",624,0,239752.8,"2016-11-30","ПП «ВІТАЛ-ПРОФІ»","2017-04-01",3313541.48,15814749.439999999,19228564.620000001,13295375,5933189.6200000001]
["328210_39686484_5",5,"ІНВЕСТБАНК","328210","46.90","Київська","Діюче",1,"№54-15","кредитна лінія",980,0.18,"2015-12-24","2016-12-15","НІ","Наявні документи кредитної справи",532,0,76229.62,"2016-09-29","ПП «ВІТАЛ-ПРОФІ»","2017-04-01",4136246.95,5545310.2999999998,6887502.0700000003,5000000,1887502.07]
["328210_38129500_6",6,"ІНВЕСТБАНК","328210","68.20","Київська","Діюче",1,"№29-16","кредитна лінія",980,0.22,"2016-06-13","2019-06-09","ні","Наявні документи кредитної справи",610,0,111803.28,"2016-11-30","ПП «ВІТАЛ-ПРОФІ»","2017-04-01",4617031.6500000004,6805151.7400000002,8345754.5,6000000,2345754.5]
["328210_33915151_7",7,"ІНВЕСТБАНК","328210","68.10","Одеська","Діюче",1,"№75/10 ","кредитна лінія",980,0.01,"2010-12-21","2016-09-25","ні","Наявні документи кредитної справи",612,0,2050,"2016-12-27","ПП «ВІТАЛ-ПРОФІ»","2017-04-01",1707104.79,4931724.4000000004,4988982.2300000004,4905900,83082.23]
["328210_35998313_8",8,"ІНВЕСТБАНК","328210","46.90","Київська","Діюче",1,"№02/15","кредитна лінія",840,0.13,"2015-10-03","2016-11-01","ні","Наявні документи кредитної справи",648,0,10193.99,"2016-08-10","ПП «ВІТАЛ-ПРОФІ»","2017-04-01",9726129.0099999998,43045188.869999997,47394901.229999997,37504897.409999996,9890003.8200000003]
["328210_30913888_9",9,"ІНВЕСТБАНК","328210","18.12","Одеська","Діюче",1,"№37-11","кредитна лінія","840,     980",0.24,"2011-04-15","2018-04-11","ні","Наявні документи кредитної справи",626,0,null,"2016-10-10","ПП «ВІТАЛ-ПРОФІ»","2017-04-01",1069460.8400000001,1432249.69,1723606.8900000001,1255790.26,467816.63]
["328210_30913888_10",10,"ІНВЕСТБАНК","328210","18.12","Одеська","Діюче",1,"№118-13","кредитна лінія",980,0.23,"06.12.2013","02.12.2016","ні","Наявні документи кредитної справи",626,0,null,"2016-08-30","ПП «ВІТАЛ-ПРОФІ»","2017-04-01",273111.96999999997,365758.63,450316.63,315000,135316.63]
["328210_30913888_11",11,"ІНВЕСТБАНК","328210","18.12","Одеська","Діюче",1,"№107-13","кредитна лінія","840,  980",0.14000000000000001,"2013-11-13","2019-11-08","ні","Наявні документи кредитної справи",626,0,null,"2016-09-28","ПП «ВІТАЛ-ПРОФІ»","2017-04-01",1216142.23,2331397.13,2637870.33,2058828.11,579042.22]
["328210_32067160_12",12,"ІНВЕСТБАНК","328210","18.12","Одеська","Діюче",1,"№77-12","кредитна лінія",980,0.14000000000000001,"2012-09-26","2019-06-14","ні","Наявні документи кредитної справи",626,0,270000,"2016-03-31","ПП «ВІТАЛ-ПРОФІ»","2017-04-01",2574868.9300000002,4183490.59,4983844.3100000005,3502513.18,1481331.13]
["328210_32067160_13",13,"ІНВЕСТБАНК","328210","18.12","Одеська","Діюче",1,"№50-15/ОД","овердрафт",980,0.25,"2015-12-11","2016-09-09","ні","Наявні документи кредитної справи",627,0,null,"2016-10-04","ПП «ВІТАЛ-ПРОФІ»","2017-04-01",56570.07,131006.46,164998.95000000001,116500,48498.95]
["328210_34807752_14",14,"ІНВЕСТБАНК","328210","01.11","Київська","Діюче",1,"№31-15","кредитна лінія","980, 840",0.22,"2015-10-08","2016-09-10","ні","Наявні документи кредитної справи",624,0,270000,"2016-10-31","ПП «ВІТАЛ-ПРОФІ»","2017-04-01",6610315.4000000004,31823333.09,38478639.57,26842771.120000001,11635868.449999999]
["328210_32641358_15",15,"ІНВЕСТБАНК","328210","65.12","Київська","Діюче",1,"№19-16/ОД","овердрафт",980,0.26,"2016-05-05","2016-10-03","ні","Наявні документи кредитної справи",676,0,14847.32,"2017-10-25","ПП «ВІТАЛ-ПРОФІ»","2017-04-01",100430.01,245820.62,291394.13,199111.66,92282.47]
["328210_36611505_16",16,"ІНВЕСТБАНК","328210","47.30","Одеська","Діюче",1,"№05/11","кредитна лінія",980,0.3,"2011-01-25","2014-01-23","ні","Наявні документи кредитної справи",2003,0,null,null,"ПП «ВІТАЛ-ПРОФІ»","2017-04-01",75972.67,929784.23,1019363.09,247586.71,771776.38]
["328210_36611505_17",17,"ІНВЕСТБАНК","328210","47.30","Одеська","Діюче",1,"№16/11","кредитна лінія",980,0.247,"2011-03-12","2014-01-28","ні","Наявні документи кредитної справи",736,0,null,"2016-12-27","ПП «ВІТАЛ-ПРОФІ»","2017-04-01",83980.160000000003,1027783.09,1027783.09,0,1027783.09]
["328210_36611505_18",18,"ІНВЕСТБАНК","328210","47.30","Одеська","Діюче",1,"№41/11","кредитна лінія",980,0.26800000000000002,"2011-06-10","2013-06-05","ні","Наявні документи кредитної справи",1989,0,null,null,"ПП «ВІТАЛ-ПРОФІ»","2017-04-01",77139.39,944062.98,952154.89,25870.26,926284.63]
["328210_36611505_19",19,"ІНВЕСТБАНК","328210","47.30","Одеська","Діюче",1,"№67/10","кредитна лінія",980,0.28000000000000003,"2010-11-29","2013-05-28","ні","Наявні документи кредитної справи",2003,0,null,null,"ПП «ВІТАЛ-ПРОФІ»","2017-04-01",3579.98,87626.47,87626.47,0,87626.47]
["328210_36611505_20",20,"ІНВЕСТБАНК","328210","47.30","Одеська","Діюче",1,"№78/10","кредитна лінія",980,0.26800000000000002,"2010-12-28","2013-12-26","ні","Наявні документи кредитної справи",1996,0,null,"2016-05-31","ПП «ВІТАЛ-ПРОФІ»","2017-04-01",57105.62,1892167.87,2165164.04,850564.46,1314599.58]
["380388_35696310_1",1,"Платинум Банк","380388","45.11","Тернопільська","Діюче",1,"173/07/13","кредитна лінія","Доллар США",0.1,"2013-07-31","29.01.2019","НІ","Наявні документи кредитної справи",730,0,392377.7802000001,42740,"ТОВ “КАНЗАС РІАЛ ЕСТЕЙТ”","2017-04-01",22879772.678353701,14771885.9207066,15994139.390000001,13067908.5,2926230.89,0]
["380388_35818634_2",2,"Платинум Банк","380388","45.11","Рівненська","Діюче",1,"04/01/14","кредитна лінія","Доллар США",0.1,41668,"27.07.2019","НІ","Наявні документи кредитної справи",570,0,93277.345000000016,42611,"ТОВ “КАНЗАС РІАЛ ЕСТЕЙТ”",42826,12341936.0996,28422975.456978101,30902274.420000002,26135817,4766457.42,0]
["380388_33865394_3",3,"Платинум Банк","380388","52.29","Одеська","Діюче",1,"141/12/12","кредитна лінія","Гривня",0.26,"2012-12-25","24.12.2016","НІ","Наявні документи кредитної справи",1029,0,38517.040000000001,"2015-08-07","ТОВ “КАНЗАС РІАЛ ЕСТЕЙТ”","2017-04-01",1175617.8560357122,1863160.86,3495441.86,1894000,1601441.8599999999,0]
["380388_20596199_4",4,"Платинум Банк","380388","47.73 ","Київська","Банкрутство",1,"REF.2011101094","кредит","Гривня",0.19400000000000001,"2011-10-27","2016-10-26","НІ","Наявні документи кредитної справи",1919,0,10000,"2012-03-28","ТОВ “КАНЗАС РІАЛ ЕСТЕЙТ”","2017-04-01",182314.40179490001,2679911.83,2679911.83,1722470.41,957441.42,0]
["380388_20596199_5",5,"Платинум Банк","380388","47.73 ","Київська","Банкрутство",1,"BDL.2011101095","кредит","Гривня",0.20200000000000001,"2011-10-27","2016-10-26","НІ","Наявні документи кредитної справи",1919,0,2616.15,"2012-03-14","ТОВ “КАНЗАС РІАЛ ЕСТЕЙТ”","2017-04-01",63924.014654700004,939644.49,939644.49,595164.91,344479.58,0]
["380388_20596199_6",6,"Платинум Банк","380388","47.73 ","Київська","Банкрутство",1,"LCI.2011101095","кредитна лінія","Гривня",0.3,"2011-10-27","2016-10-26","НІ","Наявні документи кредитної справи",2011,0,0,"-","ТОВ “КАНЗАС РІАЛ ЕСТЕЙТ”","2017-04-01",845.69385570000009,12431.19,12431.19,6440.18,5991.01,0]
["321477_20620532_1",1,"Старокиївський","321477","16.23","Київська","Діюче",1,"8-2012","Кредит","Гривня",0.18,"2012-05-07","2014-05-06","НІ","Наявний кредитний договір",null,0,0,"-","ПП «ВІ АЙ ПІ ДЕПАРТАМЕНТ»","2015-08-01",5921550,15881249.02,15486305.370000001,10770000,4716305.37,0]
["334969_25093876_1",1,"Укрбізнесбанк","334969","30.20","Донецька","Діюче",1,"20","кредит","Гривня",0.25,"2011-07-19","2014-12-31","НІ","Відсутні документи кредитної справи",1579,0,10000,"2014-03-28","ТОВ «ВЕРІТАС ПРОПЕРТІ МЕНЕДЖМЕНТ» ","2017-04-28",377926,2166198.04,2166198.04,1775000,391198.04,0]
["380388__1",1,"Платинум Банк","380388",null,"Київська","Діюче",1,null,"дебіторська",null,null,null,null,"НІ","Наявні документи кредитної справи","більше року",0,0,"-","ТОВ “КАНЗАС РІАЛ ЕСТЕЙТ”","2017-04-01",8241495.3899999997,12048452.43,12039463.289999999,12039463.289999999]
["300205_00273991_1",1,"УПБ","300205",16.21,"м.Київ","не перебуває в процесі припинення",1,"642","Кредитни лінія","Гривня",0.48,"2012-07-26","2015-12-14","НІ","Наявні документи кредитної справи",1095,0,305753.42,"2015-04-30","Українська універсальна біржа","2015-12-01",1715677.45,17160000,35012054.829999998,15000000,20012054.829999998,19708975.890000001]
["380474_2764519369_1",1,"ТРАСТ","380474",4941,"Дніпропетровська","Діюче",1,"450","ФОП",840,0.16,"2008-07-21","2015-07-17","ні","так",1143,0,346942.68,"2016-02-05","ТОВ «ВЕРІТЕКС»","2017-03-01",182127.3,943910.08,943910.08,943910.08,0,2006534.2]
["322465__1",1,"Контракт","322465",null,"Київ","Діюче",1,null,"дебіторська","Гривня",0,"2013-07-12","2016-01-15","НІ","Наявні документи кредитної справи",null,null,null,null,"ЗАТ «Консалтингюрсервіс» ","2015-12-11",20402546.73,null,22874442.23,22874442.23]
["300852_12345678_1",1,"Активбанк","300852",null,null,"Інше",1,"Договора відповідно реєстру","дебіторська заборгованість","Гривня",0,"2004-05-14",null,"НІ","Наявні документи кредитної справи",3669,0,0,"-","ТОВ «Незалежна експертна компанія «Правий Берег»","2015-03-01",16424.150000000001,164241.53,165050.53,165050.53,0,0]
["300131_24913656_1",1,"Фінанси та Кредит","300131","46.39","Запорізька","в стані припинення",1,"217-ОД"," кредитна лінія у формі овердрафт",980,0.3,"2007-12-21","2008-11-20","НІ","Наявні документи кредитної справи",3479,0,10000,"2015-08-31","ТОВ «Кредитне Брокерське Агентство»","2016-04-01",190702.64,3630857.76,4348050.8899999997,1099633.49,3248417.4,5112502.1500000004]
["300131_24913656_2",2,"Фінанси та Кредит","300131","46.39","Запорізька","в стані припинення",1,"463V-01-08","Кредит",840,0.24,"2008-04-18","2011-04-15","НІ","Наявні документи кредитної справи",3530,0,"2500$","2008-11-25","ТОВ «Кредитне Брокерське Агентство»","2016-04-01",235705.18,3874849.61,4769823.1900000004,1476210.53,3293612.66,5536343.3099999996]
["300131_24913656_3",3,"Фінанси та Кредит","300131","46.39","Запорізька","в стані припинення",1,"462-01-08","кредит ",980,0.3,"2008-04-02","2011-04-01","НІ","Наявні документи кредитної справи",3287,0,2047.94,"2009-04-30","ТОВ «Кредитне Брокерське Агентство»","2016-04-01",11446.99,53890.46,65076.13,17899,47177.13,87083.79]
["300131_24913656_4",4,"Фінанси та Кредит","300131","46.39","Запорізька","в стані припинення",1,"382-01-07","кредит ",980,0.4,"2007-03-30","2010-03-30","НІ","Наявні документи кредитної справи",3314,0,1662.06,"2009-04-30","ТОВ «Кредитне Брокерське Агентство»","2016-04-01",16456.93,51278.66,62980.17,14043.38,48936.79,82487.41]
["300131_31612897_5",5,"Фінанси та Кредит","300131","46.12","Миколаївська","не перебуває в процесі припинення",1,"83-10/07","Інші кредитні лінії понад рік ",980,0.3,"2007-10-26","2009-10-23","НІ","Наявні документи кредитної справи",3140,0,30491.8,"2008-11-28","ТОВ «Кредитне Брокерське Агентство»","2016-04-01",2881751.17,5021163.24,5021163.24,1800000,3221163.24,215.5]
["300131_2725216866_6",6,"Фінанси та Кредит","300131","47.42","Рівненська","не перебуває в процесі припинення",1,"44-05/06","Відновлювана  кредитна лінія",980,0.4,"2006-05-26","2008-05-26","НІ","Наявні документи кредитної справи",4018,0,21492.400000000001,"2006-09-22","Українська універсальна біржа","2016-04-01",2171497.67,3437348.62,4245118.05,850000,3395118.05,4872917.6399999997]
["300131_34014519_7",7,"Фінанси та Кредит","300131","23.69","Харківська","не перебуває в процесі припинення",1,"29v-01-08","Кредит",840,0.38,"2008-04-07","2011-04-06","НІ","Наявні документи кредитної справи",2670,0,174018.18,"2016-08-09","ТОВ «Кредитне Брокерське Агентство»","2016-04-01",732167.41,14367407.32,18466861.579999998,4657402.59,13809458.99,19059920.579999998]
["328210_25934519_1",1,"ІНВЕСТБАНК","328210","10.41","Одеська","Ліквідовано",2," №41-12 ","кредитна лінія",980,0,"2012-05-18","2017-05-17","ні","Наявні документи кредитної справи",1304,0,null,"2016-10-06","ПП «ВІТАЛ-ПРОФІ»","2017-04-01",43496.38,1441231.81,1441231.81,1441231.81,0]
["328210_36043557_2",2,"ІНВЕСТБАНК","328210","46.73","Одеська","Діюче",1," №94-13","кредитна лінія",980,0.28000000000000003,"2013-08-15","2016-08-11","ні","Наявні документи кредитної справи",1099,0,null,"2015-09-02","ПП «ВІТАЛ-ПРОФІ»","2017-04-01",636678.12,1158386.8,1403473.3900000001,749971.48,653501.91]
["328210_36170760_3",3,"ІНВЕСТБАНК","328210","10.61","Одеська","Діюче",1,"№111-11","кредитна лінія",980,0.25,"2011-12-12","2014-12-10","ні","Наявні документи кредитної справи",1705,0,null,"2014-12-11","ПП «ВІТАЛ-ПРОФІ»","2017-04-01",8620.09,105496.18,113829.43,28560.06,85269.37]
["328210_36170760_4",4,"ІНВЕСТБАНК","328210","10.61","Одеська","Діюче",1,"№112-11/ОД","овердрафт",980,0.28000000000000003,"2011-12-12","2013-02-13","ні","Наявні документи кредитної справи",1933,0,null,"2014-02-10","ПП «ВІТАЛ-ПРОФІ»","2017-04-01",218096.91,433836.15,503660.75,213665.4,289995.34999999998]
["328210_36170760_5",5,"ІНВЕСТБАНК","328210","10.61","Одеська","Діюче",1,"№18-12","кредитна лінія",980,0.25,"2012-03-15","2013-03-14","ні","Наявні документи кредитної справи",1714,0,null,"2015-12-17","ПП «ВІТАЛ-ПРОФІ»","2017-04-01",2527.87,30937.06,30937.06,0,30937.06]
["328210_36170760_6",6,"ІНВЕСТБАНК","328210","10.61","Одеська","Діюче",1,"№88-10","кредитна лінія",980,0.28000000000000003,"2010-09-24","2013-09-20","ні","Наявні документи кредитної справи",1934,0,null,"2015-12-17","ПП «ВІТАЛ-ПРОФІ»","2017-04-01",16971.02,207698.24,207698.24,0,207698.24]
["328210_37913692_7",7,"ІНВЕСТБАНК","328210","46.38","Одеська","Діюче",1,"№30-12/ОД","овердрафт",980,0.27,"2012-04-27","2013-02-13","ні","Наявні документи кредитної справи",1933,0,null,"2014-02-10","ПП «ВІТАЛ-ПРОФІ»","2017-04-01",13826.16,169210.05,195899.22999999998,84694.399999999994,111204.83]
["380236_30797217_1",1,"Дельта","380236","46.90","Луганська","Діюче",1,"13/008/2009-КЛТ","кредит","Гривня",0,"2009-12-17","2010-12-16","НІ","Наявні документи кредитної справи",1738,0,0,"відсутня","ПП «Габ'яно»","2016-01-01",345276,1545050.77,1545050.77,1258150.7,286900.07,"згідно умов договору"]
["380236_30797217_2",2,"Дельта","380236","46.90","Луганська","Діюче",1,"13/035/2008-К","кредит","Євро",0,"2008-06-11","2015-06-10","НІ","Наявні документи кредитної справи",1738,0,0,"відсутня","ПП «Габ'яно»","2016-01-01",655795,53338188.159999996,59808958.324132711,24568368.316111621,35240590.008021086,"згідно умов договору"]
["380236_30797217_3",3,"Дельта","380236","46.90","Луганська","Діюче",1,"13/039/2008-КЛТ","кредитна лінія","Гривня",0,"2008-06-13","2011-06-10","НІ","Наявні документи кредитної справи",1738,0,0,"відсутня","ПП «Габ'яно»","2016-01-01",1068902,41924879.090000004,48733787.386906005,37218789.216906004,11514998.17,"згідно умов договору"]
["380236_30797217_4",4,"Дельта","380236","46.90","Луганська","Діюче",1,"13/050/2007-К","кредит","Гривня",0,"2007-06-08","2012-06-07","НІ","Наявні документи кредитної справи",1738,0,0,"відсутня","ПП «Габ'яно»","2016-01-01",3094328,12319272.42,12319272.42,8248333.3200000003,4070939.1,"згідно умов договору"]
["380236_30797217_5",5,"Дельта","380236","46.90","Луганська","Діюче",1,"13/051/2007-К","кредит","Гривня",0,"2007-06-13","2013-06-12","НІ","Наявні документи кредитної справи",1738,0,0,"відсутня","ПП «Габ'яно»","2016-01-01",95455,836918.87,836918.87,465862.5,371056.37,"згідно умов договору"]
["380236_30797217_6",6,"Дельта","380236","46.90","Луганська","Діюче",1,"13/085/2007-К","кредит","Гривня",0,"2007-10-15","2013-10-14","НІ","Наявні документи кредитної справи",1738,0,0,"відсутня","ПП «Габ'яно»","2016-01-01",39420,345626.88,345626.88,183805,161821.88,"згідно умов договору"]
["380236_34619476_1",1,"Дельта","380236","46.33","Київ","Діюче",1,"НКЛ-2005484/1","кредитна лінія","Гривня",0.45,"2011-05-20","2014-02-05","НІ","Наявні документи кредитної справи",1606,0,1468.15,"2017-11-06","ПП «Габ'яно»","2016-01-01",5786514,72116115.840000004,114281384.22,37502737.75,76778646.469999999,"згідно умов договору"]
["380236_34619476_2",2,"Дельта","380236","46.33","Київ","Діюче",1,"НКЛ-2005484/2","кредитна лінія","Гривня",0.42,"2011-08-01","2014-02-05","НІ","Наявні документи кредитної справи",1606,0,482.88,"2017-11-06","ПП «Габ'яно»","2016-01-01",8026730,23070269.530000001,35988189.600000001,12310213.49,23677976.109999999,"згідно умов договору"]
["380236_34046074_3",3,"Дельта","380236","82.99","Київ","Діюче",1,"НКЛ-2002859","кредитна лінія","Гривня",0.23,"2013-09-13","2016-09-12","НІ","Відсутні документи кредитної справи",1262,0,1708075.63,"2017-12-26","ПП «Габ'яно»","2016-01-01",20951278,96024547.939999998,116078329.81999999,62874040.530000001,53204289.289999999,"згідно умов договору"]
["380236_34046074_4",4,"Дельта","380236","82.99","Київ","Діюче",1,"НКЛ-2002859/1","кредитна лінія","Гривня",0.23,"2014-05-22","2017-12-31","НІ","Відсутні документи кредитної справи",1257,0,3226301.37,"2014-10-20","ПП «Габ'яно»","2016-01-01",6644899,84115287.689999998,130785753.43000001,80000000,50785753.43,"згідно умов договору"]
["380236_35467291_5",5,"Дельта","380236","82.99","Київ","Діюче",1,"НКЛ-2022815","кредитна лінія","Гривня",0.23,"2014-05-22","2017-04-19","НІ","Наявні документи кредитної справи",1440,0,650.04999999999995,"2016-06-23","ПП «Габ'яно»","2016-01-01",8576319,123935249.17,171586012.41,98537000,73049012.409999996,"згідно умов договору"]
["380236_31758184_6",6,"Дельта","380236","46.43","Дніпропетровська","В стані припинення (крім банкрутства)",1,"№04/69/07-КЛТ","кредитна лінія","Доллар США",0,"2007-08-22","2017-04-21","НІ","Наявні документи кредитної справи",1737,5826.11,5826.11,"2018-03-02","ПП «Габ'яно»","2016-01-01",523425699,623923432.80999994,657852313.52999997,555006715.15999997,102845598.37,"згідно умов договору"]
["","",null,"",null,null,null,null,null,null,null,null,null,null,null,null,null,null,null,null,null,null,null,null,""]
["","",null,"",null,null,null,null,null,null,null,null,null,null,null,null,null,null,null,null,null,null,null,null,""]
["","",null,"",null,null,null,null,null,null,null,null,null,null,null,null,null,null,null,null,null,null,null,null,""]
["","",null,"",null,null,null,null,null,null,null,null,null,null,null,null,null,null,null,null,null,null,null,null,""]
["","",null,"",null,null,null,null,null,null,null,null,null,null,null,null,null,null,null,null,null,null,null,null,""]
["","",null,"",null,null,null,null,null,null,null,null,null,null,null,null,null,null,null,null,null,null,null,null,""]
["","",null,"",null,null,null,null,null,null,null,null,null,null,null,null,null,null,null,null,null,null,null,null,""]
["","",null,"",null,null,null,null,null,null,null,null,null,null,null,null,null,null,null,null,null,null,null,null,""]
["","",null,"",null,null,null,null,null,null,null,null,null,null,null,null,null,null,null,null,null,null,null,null,""]
["","",null,"",null,null,null,null,null,null,null,null,null,null,null,null,null,null,null,null,null,null,null,null,""]
["","",null,"",null,null,null,null,null,null,null,null,null,null,null,null,null,null,null,null,null,null,null,null,""]
["","",null,"",null,null,null,null,null,null,null,null,null,null,null,null,null,null,null,null,null,null,null,null,""]
["","",null,"",null,null,null,null,null,null,null,null,null,null,null,null,null,null,null,null,null,null,null,null,""]
["","",null,"",null,null,null,null,null,null,null,null,null,null,null,null,null,null,null,null,null,null,null,null,""]
["","",null,"",null,null,null,null,null,null,null,null,null,null,null,null,null,null,null,null,null,null,null,null,""]
["","",null,"",null,null,null,null,null,null,null,null,null,null,null,null,null,null,null,null,null,null,null,null,""]
["","",null,"",null,null,null,null,null,null,null,null,null,null,null,null,null,null,null,null,null,null,null,null,""]
["","",null,"",null,null,null,null,null,null,null,null,null,null,null,null,null,null,null,null,null,null,null,null,""]
["","",null,"",null,null,null,null,null,null,null,null,null,null,null,null,null,null,null,null,null,null,null,null,""]
["","",null,"",null,null,null,null,null,null,null,null,null,null,null,null,null,null,null,null,null,null,null,null,""]
["","",null,"",null,null,null,null,null,null,null,null,null,null,null,null,null,null,null,null,null,null,null,null,""]
["","",null,"",null,null,null,null,null,null,null,null,null,null,null,null,null,null,null,null,null,null,null,null,""]
["","",null,"",null,null,null,null,null,null,null,null,null,null,null,null,null,null,null,null,null,null,null,null,""]
["","",null,"",null,null,null,null,null,null,null,null,null,null,null,null,null,null,null,null,null,null,null,null,""]
["","",null,"",null,null,null,null,null,null,null,null,null,null,null,null,null,null,null,null,null,null,null,null,""]
["","",null,"",null,null,null,null,null,null,null,null,null,null,null,null,null,null,null,null,null,null,null,null,""]
["","",null,"",null,null,null,null,null,null,null,null,null,null,null,null,null,null,null,null,null,null,null,null,""]
["","",null,"",null,null,null,null,null,null,null,null,null,null,null,null,null,null,null,null,null,null,null,null,""]
["","",null,"",null,null,null,null,null,null,null,null,null,null,null,null,null,null,null,null,null,null,null,null,""]
["","",null,"",null,null,null,null,null,null,null,null,null,null,null,null,null,null,null,null,null,null,null,null,""]
["","",null,"",null,null,null,null,null,null,null,null,null,null,null,null,null,null,null,null,null,null,null,null,""]
["","",null,"",null,null,null,null,null,null,null,null,null,null,null,null,null,null,null,null,null,null,null,null,""]
["","",null,"",null,null,null,null,null,null,null,null,null,null,null,null,null,null,null,null,null,null,null,null,""]
["","",null,"",null,null,null,null,null,null,null,null,null,null,null,null,null,null,null,null,null,null,null,null,""]
["","",null,"",null,null,null,null,null,null,null,null,null,null,null,null,null,null,null,null,null,null,null,null,""]
["","",null,"",null,null,null,null,null,null,null,null,null,null,null,null,null,null,null,null,null,null,null,null,""]
["","",null,"",null,null,null,null,null,null,null,null,null,null,null,null,null,null,null,null,null,null,null,null,""]
["","",null,"",null,null,null,null,null,null,null,null,null,null,null,null,null,null,null,null,null,null,null,null,""]
["","",null,"",null,null,null,null,null,null,null,null,null,null,null,null,null,null,null,null,null,null,null,null,""]
["","",null,"",null,null,null,null,null,null,null,null,null,null,null,null,null,null,null,null,null,null,null,null,""]
["","",null,"",null,null,null,null,null,null,null,null,null,null,null,null,null,null,null,null,null,null,null,null,""]
["","",null,"",null,null,null,null,null,null,null,null,null,null,null,null,null,null,null,null,null,null,null,null,""]
["","",null,"",null,null,null,null,null,null,null,null,null,null,null,null,null,null,null,null,null,null,null,null,""]
["","",null,"",null,null,null,null,null,null,null,null,null,null,null,null,null,null,null,null,null,null,null,null,""]
["","",null,"",null,null,null,null,null,null,null,null,null,null,null,null,null,null,null,null,null,null,null,null,""]
["","",null,"",null,null,null,null,null,null,null,null,null,null,null,null,null,null,null,null,null,null,null,null,""]
["","",null,"",null,null,null,null,null,null,null,null,null,null,null,null,null,null,null,null,null,null,null,null,""]
["","",null,"",null,null,null,null,null,null,null,null,null,null,null,null,null,null,null,null,null,null,null,null,""]
["","",null,"",null,null,null,null,null,null,null,null,null,null,null,null,null,null,null,null,null,null,null,null,""]
["","",null,"",null,null,null,null,null,null,null,null,null,null,null,null,null,null,null,null,null,null,null,null,""]
["","",null,"",null,null,null,null,null,null,null,null,null,null,null,null,null,null,null,null,null,null,null,null,""]
["","",null,"",null,null,null,null,null,null,null,null,null,null,null,null,null,null,null,null,null,null,null,null,""]
["","",null,"",null,null,null,null,null,null,null,null,null,null,null,null,null,null,null,null,null,null,null,null,""]
["","",null,"",null,null,null,null,null,null,null,null,null,null,null,null,null,null,null,null,null,null,null,null,""]
["","",null,"",null,null,null,null,null,null,null,null,null,null,null,null,null,null,null,null,null,null,null,null,""]
["","",null,"",null,null,null,null,null,null,null,null,null,null,null,null,null,null,null,null,null,null,null,null,""]
["","",null,"",null,null,null,null,null,null,null,null,null,null,null,null,null,null,null,null,null,null,null,null,""]
["","",null,"",null,null,null,null,null,null,null,null,null,null,null,null,null,null,null,null,null,null,null,null,""]
["","",null,"",null,null,null,null,null,null,null,null,null,null,null,null,null,null,null,null,null,null,null,null,""]
["","",null,"",null,null,null,null,null,null,null,null,null,null,null,null,null,null,null,null,null,null,null,null,""]
["","",null,"",null,null,null,null,null,null,null,null,null,null,null,null,null,null,null,null,null,null,null,null,""]
["","",null,"",null,null,null,null,null,null,null,null,null,null,null,null,null,null,null,null,null,null,null,null,""]
["","",null,"",null,null,null,null,null,null,null,null,null,null,null,null,null,null,null,null,null,null,null,null,""]
["","",null,"",null,null,null,null,null,null,null,null,null,null,null,null,null,null,null,null,null,null,null,null,""]
["","",null,"",null,null,null,null,null,null,null,null,null,null,null,null,null,null,null,null,null,null,null,null,""]
["","",null,"",null,null,null,null,null,null,null,null,null,null,null,null,null,null,null,null,null,null,null,null,""]
["","",null,"",null,null,null,null,null,null,null,null,null,null,null,null,null,null,null,null,null,null,null,null,""]
["","",null,"",null,null,null,null,null,null,null,null,null,null,null,null,null,null,null,null,null,null,null,null,""]
["","",null,"",null,null,null,null,null,null,null,null,null,null,null,null,null,null,null,null,null,null,null,null,""]
["","",null,"",null,null,null,null,null,null,null,null,null,null,null,null,null,null,null,null,null,null,null,null,""]
["","",null,"",null,null,null,null,null,null,null,null,null,null,null,null,null,null,null,null,null,null,null,null,""]
["","",null,"",null,null,null,null,null,null,null,null,null,null,null,null,null,null,null,null,null,null,null,null,""]
["","",null,"",null,null,null,null,null,null,null,null,null,null,null,null,null,null,null,null,null,null,null,null,""]
["","",null,"",null,null,null,null,null,null,null,null,null,null,null,null,null,null,null,null,null,null,null,null,""]
["","",null,"",null,null,null,null,null,null,null,null,null,null,null,null,null,null,null,null,null,null,null,null,""]
["","",null,"",null,null,null,null,null,null,null,null,null,null,null,null,null,null,null,null,null,null,null,null,""]
["","",null,"",null,null,null,null,null,null,null,null,null,null,null,null,null,null,null,null,null,null,null,null,""]
["","",null,"",null,null,null,null,null,null,null,null,null,null,null,null,null,null,null,null,null,null,null,null,""]
["","",null,"",null,null,null,null,null,null,null,null,null,null,null,null,null,null,null,null,null,null,null,null,""]
["","",null,"",null,null,null,null,null,null,null,null,null,null,null,null,null,null,null,null,null,null,null,null,""]
["","",null,"",null,null,null,null,null,null,null,null,null,null,null,null,null,null,null,null,null,null,null,null,""]
["","",null,"",null,null,null,null,null,null,null,null,null,null,null,null,null,null,null,null,null,null,null,null,""]
["","",null,"",null,null,null,null,null,null,null,null,null,null,null,null,null,null,null,null,null,null,null,null,""]
["","",null,"",null,null,null,null,null,null,null,null,null,null,null,null,null,null,null,null,null,null,null,null,""]
["","",null,"",null,null,null,null,null,null,null,null,null,null,null,null,null,null,null,null,null,null,null,null,""]
["","",null,"",null,null,null,null,null,null,null,null,null,null,null,null,null,null,null,null,null,null,null,null,""]
["","",null,"",null,null,null,null,null,null,null,null,null,null,null,null,null,null,null,null,null,null,null,null,""]
["","",null,"",null,null,null,null,null,null,null,null,null,null,null,null,null,null,null,null,null,null,null,null,""]
["","",null,"",null,null,null,null,null,null,null,null,null,null,null,null,null,null,null,null,null,null,null,null,""]
["","",null,"",null,null,null,null,null,null,null,null,null,null,null,null,null,null,null,null,null,null,null,null,""]
["","",null,"",null,null,null,null,null,null,null,null,null,null,null,null,null,null,null,null,null,null,null,null,""]
["","",null,"",null,null,null,null,null,null,null,null,null,null,null,null,null,null,null,null,null,null,null,null,""]
["","",null,"",null,null,null,null,null,null,null,null,null,null,null,null,null,null,null,null,null,null,null,null,""]
["","",null,"",null,null,null,null,null,null,null,null,null,null,null,null,null,null,null,null,null,null,null,null,""]
["","",null,"",null,null,null,null,null,null,null,null,null,null,null,null,null,null,null,null,null,null,null,null,""]
["","",null,"",null,null,null,null,null,null,null,null,null,null,null,null,null,null,null,null,null,null,null,null,""]
["","",null,"",null,null,null,null,null,null,null,null,null,null,null,null,null,null,null,null,null,null,null,null,""]
["","",null,"",null,null,null,null,null,null,null,null,null,null,null,null,null,null,null,null,null,null,null,null,""]
["","",null,"",null,null,null,null,null,null,null,null,null,null,null,null,null,null,null,null,null,null,null,null,""]
["","",null,"",null,null,null,null,null,null,null,null,null,null,null,null,null,null,null,null,null,null,null,null,""]
["","",null,"",null,null,null,null,null,null,null,null,null,null,null,null,null,null,null,null,null,null,null,null,""]
["","",null,"",null,null,null,null,null,null,null,null,null,null,null,null,null,null,null,null,null,null,null,null,""]
["","",null,"",null,null,null,null,null,null,null,null,null,null,null,null,null,null,null,null,null,null,null,null,""]
["","",null,"",null,null,null,null,null,null,null,null,null,null,null,null,null,null,null,null,null,null,null,null,""]
["","",null,"",null,null,null,null,null,null,null,null,null,null,null,null,null,null,null,null,null,null,null,null,""]
["","",null,"",null,null,null,null,null,null,null,null,null,null,null,null,null,null,null,null,null,null,null,null,""]
["","",null,"",null,null,null,null,null,null,null,null,null,null,null,null,null,null,null,null,null,null,null,null,""]
["","",null,"",null,null,null,null,null,null,null,null,null,null,null,null,null,null,null,null,null,null,null,null,""]
["","",null,"",null,null,null,null,null,null,null,null,null,null,null,null,null,null,null,null,null,null,null,null,""]
["","",null,"",null,null,null,null,null,null,null,null,null,null,null,null,null,null,null,null,null,null,null,null,""]
["","",null,"",null,null,null,null,null,null,null,null,null,null,null,null,null,null,null,null,null,null,null,null,""]
["","",null,"",null,null,null,null,null,null,null,null,null,null,null,null,null,null,null,null,null,null,null,null,""]
["","",null,"",null,null,null,null,null,null,null,null,null,null,null,null,null,null,null,null,null,null,null,null,""]
["","",null,"",null,null,null,null,null,null,null,null,null,null,null,null,null,null,null,null,null,null,null,null,""]
["","",null,"",null,null,null,null,null,null,null,null,null,null,null,null,null,null,null,null,null,null,null,null,""]
["","",null,"",null,null,null,null,null,null,null,null,null,null,null,null,null,null,null,null,null,null,null,null,""]
["","",null,"",null,null,null,null,null,null,null,null,null,null,null,null,null,null,null,null,null,null,null,null,""]
["","",null,"",null,null,null,null,null,null,null,null,null,null,null,null,null,null,null,null,null,null,null,null,""]
["","",null,"",null,null,null,null,null,null,null,null,null,null,null,null,null,null,null,null,null,null,null,null,""]
["","",null,"",null,null,null,null,null,null,null,null,null,null,null,null,null,null,null,null,null,null,null,null,""]
["","",null,"",null,null,null,null,null,null,null,null,null,null,null,null,null,null,null,null,null,null,null,null,""]
["","",null,"",null,null,null,null,null,null,null,null,null,null,null,null,null,null,null,null,null,null,null,null,""]
["","",null,"",null,null,null,null,null,null,null,null,null,null,null,null,null,null,null,null,null,null,null,null,""]
["","",null,"",null,null,null,null,null,null,null,null,null,null,null,null,null,null,null,null,null,null,null,null,""]
["","",null,"",null,null,null,null,null,null,null,null,null,null,null,null,null,null,null,null,null,null,null,null,""]
["","",null,"",null,null,null,null,null,null,null,null,null,null,null,null,null,null,null,null,null,null,null,null,""]
["","",null,"",null,null,null,null,null,null,null,null,null,null,null,null,null,null,null,null,null,null,null,null,""]
["","",null,"",null,null,null,null,null,null,null,null,null,null,null,null,null,null,null,null,null,null,null,null,""]
["","",null,"",null,null,null,null,null,null,null,null,null,null,null,null,null,null,null,null,null,null,null,null,""]
["","",null,"",null,null,null,null,null,null,null,null,null,null,null,null,null,null,null,null,null,null,null,null,""]
["","",null,"",null,null,null,null,null,null,null,null,null,null,null,null,null,null,null,null,null,null,null,null,""]
["","",null,"",null,null,null,null,null,null,null,null,null,null,null,null,null,null,null,null,null,null,null,null,""]
["","",null,"",null,null,null,null,null,null,null,null,null,null,null,null,null,null,null,null,null,null,null,null,""]
["","",null,"",null,null,null,null,null,null,null,null,null,null,null,null,null,null,null,null,null,null,null,null,""]
["","",null,"",null,null,null,null,null,null,null,null,null,null,null,null,null,null,null,null,null,null,null,null,""]
["","",null,"",null,null,null,null,null,null,null,null,null,null,null,null,null,null,null,null,null,null,null,null,""]
["","",null,"",null,null,null,null,null,null,null,null,null,null,null,null,null,null,null,null,null,null,null,null,""]
["","",null,"",null,null,null,null,null,null,null,null,null,null,null,null,null,null,null,null,null,null,null,null,""]
["","",null,"",null,null,null,null,null,null,null,null,null,null,null,null,null,null,null,null,null,null,null,null,""]
["","",null,"",null,null,null,null,null,null,null,null,null,null,null,null,null,null,null,null,null,null,null,null,""]
["","",null,"",null,null,null,null,null,null,null,null,null,null,null,null,null,null,null,null,null,null,null,null,""]
["","",null,"",null,null,null,null,null,null,null,null,null,null,null,null,null,null,null,null,null,null,null,null,""]
["","",null,"",null,null,null,null,null,null,null,null,null,null,null,null,null,null,null,null,null,null,null,null,""]
["","",null,"",null,null,null,null,null,null,null,null,null,null,null,null,null,null,null,null,null,null,null,null,""]
["","",null,"",null,null,null,null,null,null,null,null,null,null,null,null,null,null,null,null,null,null,null,null,""]
["","",null,"",null,null,null,null,null,null,null,null,null,null,null,null,null,null,null,null,null,null,null,null,""]
["","",null,"",null,null,null,null,null,null,null,null,null,null,null,null,null,null,null,null,null,null,null,null,""]
["","",null,"",null,null,null,null,null,null,null,null,null,null,null,null,null,null,null,null,null,null,null,null,""]
["","",null,"",null,null,null,null,null,null,null,null,null,null,null,null,null,null,null,null,null,null,null,null,""]
["","",null,"",null,null,null,null,null,null,null,null,null,null,null,null,null,null,null,null,null,null,null,null,""]
["","",null,"",null,null,null,null,null,null,null,null,null,null,null,null,null,null,null,null,null,null,null,null,""]
["","",null,"",null,null,null,null,null,null,null,null,null,null,null,null,null,null,null,null,null,null,null,null,""]
["","",null,"",null,null,null,null,null,null,null,null,null,null,null,null,null,null,null,null,null,null,null,null,""]
["","",null,"",null,null,null,null,null,null,null,null,null,null,null,null,null,null,null,null,null,null,null,null,""]
["","",null,"",null,null,null,null,null,null,null,null,null,null,null,null,null,null,null,null,null,null,null,null,""]
["","",null,"",null,null,null,null,null,null,null,null,null,null,null,null,null,null,null,null,null,null,null,null,""]
["","",null,"",null,null,null,null,null,null,null,null,null,null,null,null,null,null,null,null,null,null,null,null,""]
["","",null,"",null,null,null,null,null,null,null,null,null,null,null,null,null,null,null,null,null,null,null,null,""]
["","",null,"",null,null,null,null,null,null,null,null,null,null,null,null,null,null,null,null,null,null,null,null,""]
["","",null,"",null,null,null,null,null,null,null,null,null,null,null,null,null,null,null,null,null,null,null,null,""]
["","",null,"",null,null,null,null,null,null,null,null,null,null,null,null,null,null,null,null,null,null,null,null,""]
["","",null,"",null,null,null,null,null,null,null,null,null,null,null,null,null,null,null,null,null,null,null,null,""]
["","",null,"",null,null,null,null,null,null,null,null,null,null,null,null,null,null,null,null,null,null,null,null,""]
["","",null,"",null,null,null,null,null,null,null,null,null,null,null,null,null,null,null,null,null,null,null,null,""]
["","",null,"",null,null,null,null,null,null,null,null,null,null,null,null,null,null,null,null,null,null,null,null,""]
["","",null,"",null,null,null,null,null,null,null,null,null,null,null,null,null,null,null,null,null,null,null,null,""]
["","",null,"",null,null,null,null,null,null,null,null,null,null,null,null,null,null,null,null,null,null,null,null,""]
["","",null,"",null,null,null,null,null,null,null,null,null,null,null,null,null,null,null,null,null,null,null,null,""]
["","",null,"",null,null,null,null,null,null,null,null,null,null,null,null,null,null,null,null,null,null,null,null,""]
["","",null,"",null,null,null,null,null,null,null,null,null,null,null,null,null,null,null,null,null,null,null,null,""]
["","",null,"",null,null,null,null,null,null,null,null,null,null,null,null,null,null,null,null,null,null,null,null,""]
["","",null,"",null,null,null,null,null,null,null,null,null,null,null,null,null,null,null,null,null,null,null,null,""]
["","",null,"",null,null,null,null,null,null,null,null,null,null,null,null,null,null,null,null,null,null,null,null,""]
["","",null,"",null,null,null,null,null,null,null,null,null,null,null,null,null,null,null,null,null,null,null,null,""]
["","",null,"",null,null,null,null,null,null,null,null,null,null,null,null,null,null,null,null,null,null,null,null,""]
["","",null,"",null,null,null,null,null,null,null,null,null,null,null,null,null,null,null,null,null,null,null,null,""]
["","",null,"",null,null,null,null,null,null,null,null,null,null,null,null,null,null,null,null,null,null,null,null,""]
["","",null,"",null,null,null,null,null,null,null,null,null,null,null,null,null,null,null,null,null,null,null,null,""]
["","",null,"",null,null,null,null,null,null,null,null,null,null,null,null,null,null,null,null,null,null,null,null,""]
["","",null,"",null,null,null,null,null,null,null,null,null,null,null,null,null,null,null,null,null,null,null,null,""]
["","",null,"",null,null,null,null,null,null,null,null,null,null,null,null,null,null,null,null,null,null,null,null,""]
["","",null,"",null,null,null,null,null,null,null,null,null,null,null,null,null,null,null,null,null,null,null,null,""]
["","",null,"",null,null,null,null,null,null,null,null,null,null,null,null,null,null,null,null,null,null,null,null,""]
["","",null,"",null,null,null,null,null,null,null,null,null,null,null,null,null,null,null,null,null,null,null,null,""]
["","",null,"",null,null,null,null,null,null,null,null,null,null,null,null,null,null,null,null,null,null,null,null,""]
["","",null,"",null,null,null,null,null,null,null,null,null,null,null,null,null,null,null,null,null,null,null,null,""]
["","",null,"",null,null,null,null,null,null,null,null,null,null,null,null,null,null,null,null,null,null,null,null,""]
["","",null,"",null,null,null,null,null,null,null,null,null,null,null,null,null,null,null,null,null,null,null,null,""]
["","",null,"",null,null,null,null,null,null,null,null,null,null,null,null,null,null,null,null,null,null,null,null,""]
["","",null,"",null,null,null,null,null,null,null,null,null,null,null,null,null,null,null,null,null,null,null,null,""]
["","",null,"",null,null,null,null,null,null,null,null,null,null,null,null,null,null,null,null,null,null,null,null,""]
["","",null,"",null,null,null,null,null,null,null,null,null,null,null,null,null,null,null,null,null,null,null,null,""]
["","",null,"",null,null,null,null,null,null,null,null,null,null,null,null,null,null,null,null,null,null,null,null,""]
["","",null,"",null,null,null,null,null,null,null,null,null,null,null,null,null,null,null,null,null,null,null,null,""]
["","",null,"",null,null,null,null,null,null,null,null,null,null,null,null,null,null,null,null,null,null,null,null,""]
["","",null,"",null,null,null,null,null,null,null,null,null,null,null,null,null,null,null,null,null,null,null,null,""]
["","",null,"",null,null,null,null,null,null,null,null,null,null,null,null,null,null,null,null,null,null,null,null,""]
["","",null,"",null,null,null,null,null,null,null,null,null,null,null,null,null,null,null,null,null,null,null,null,""]
["","",null,"",null,null,null,null,null,null,null,null,null,null,null,null,null,null,null,null,null,null,null,null,""]
["","",null,"",null,null,null,null,null,null,null,null,null,null,null,null,null,null,null,null,null,null,null,null,""]
["","",null,"",null,null,null,null,null,null,null,null,null,null,null,null,null,null,null,null,null,null,null,null,""]
["","",null,"",null,null,null,null,null,null,null,null,null,null,null,null,null,null,null,null,null,null,null,null,""]
["","",null,"",null,null,null,null,null,null,null,null,null,null,null,null,null,null,null,null,null,null,null,null,""]
["","",null,"",null,null,null,null,null,null,null,null,null,null,null,null,null,null,null,null,null,null,null,null,""]
["","",null,"",null,null,null,null,null,null,null,null,null,null,null,null,null,null,null,null,null,null,null,null,""]
["","",null,"",null,null,null,null,null,null,null,null,null,null,null,null,null,null,null,null,null,null,null,null,""]
["","",null,"",null,null,null,null,null,null,null,null,null,null,null,null,null,null,null,null,null,null,null,null,""]
["","",null,"",null,null,null,null,null,null,null,null,null,null,null,null,null,null,null,null,null,null,null,null,""]
["","",null,"",null,null,null,null,null,null,null,null,null,null,null,null,null,null,null,null,null,null,null,null,""]
["","",null,"",null,null,null,null,null,null,null,null,null,null,null,null,null,null,null,null,null,null,null,null,""]
["","",null,"",null,null,null,null,null,null,null,null,null,null,null,null,null,null,null,null,null,null,null,null,""]
["","",null,"",null,null,null,null,null,null,null,null,null,null,null,null,null,null,null,null,null,null,null,null,""]
["","",null,"",null,null,null,null,null,null,null,null,null,null,null,null,null,null,null,null,null,null,null,null,""]
["","",null,"",null,null,null,null,null,null,null,null,null,null,null,null,null,null,null,null,null,null,null,null,""]
["","",null,"",null,null,null,null,null,null,null,null,null,null,null,null,null,null,null,null,null,null,null,null,""]
["","",null,"",null,null,null,null,null,null,null,null,null,null,null,null,null,null,null,null,null,null,null,null,""]
["","",null,"",null,null,null,null,null,null,null,null,null,null,null,null,null,null,null,null,null,null,null,null,""]
["","",null,"",null,null,null,null,null,null,null,null,null,null,null,null,null,null,null,null,null,null,null,null,""]
["","",null,"",null,null,null,null,null,null,null,null,null,null,null,null,null,null,null,null,null,null,null,null,""]
["","",null,"",null,null,null,null,null,null,null,null,null,null,null,null,null,null,null,null,null,null,null,null,""]
["","",null,"",null,null,null,null,null,null,null,null,null,null,null,null,null,null,null,null,null,null,null,null,""]
["","",null,"",null,null,null,null,null,null,null,null,null,null,null,null,null,null,null,null,null,null,null,null,""]
["","",null,"",null,null,null,null,null,null,null,null,null,null,null,null,null,null,null,null,null,null,null,null,""]
["","",null,"",null,null,null,null,null,null,null,null,null,null,null,null,null,null,null,null,null,null,null,null,""]
["","",null,"",null,null,null,null,null,null,null,null,null,null,null,null,null,null,null,null,null,null,null,null,""]
["","",null,"",null,null,null,null,null,null,null,null,null,null,null,null,null,null,null,null,null,null,null,null,""]
["","",null,"",null,null,null,null,null,null,null,null,null,null,null,null,null,null,null,null,null,null,null,null,""]
["","",null,"",null,null,null,null,null,null,null,null,null,null,null,null,null,null,null,null,null,null,null,null,""]
["","",null,"",null,null,null,null,null,null,null,null,null,null,null,null,null,null,null,null,null,null,null,null,""]
["","",null,"",null,null,null,null,null,null,null,null,null,null,null,null,null,null,null,null,null,null,null,null,""]
["","",null,"",null,null,null,null,null,null,null,null,null,null,null,null,null,null,null,null,null,null,null,null,""]
["","",null,"",null,null,null,null,null,null,null,null,null,null,null,null,null,null,null,null,null,null,null,null,""]
["","",null,"",null,null,null,null,null,null,null,null,null,null,null,null,null,null,null,null,null,null,null,null,""]
["","",null,"",null,null,null,null,null,null,null,null,null,null,null,null,null,null,null,null,null,null,null,null,""]
["","",null,"",null,null,null,null,null,null,null,null,null,null,null,null,null,null,null,null,null,null,null,null,""]
["","",null,"",null,null,null,null,null,null,null,null,null,null,null,null,null,null,null,null,null,null,null,null,""]
["","",null,"",null,null,null,null,null,null,null,null,null,null,null,null,null,null,null,null,null,null,null,null,""]
["","",null,"",null,null,null,null,null,null,null,null,null,null,null,null,null,null,null,null,null,null,null,null,""]
["","",null,"",null,null,null,null,null,null,null,null,null,null,null,null,null,null,null,null,null,null,null,null,""]
["","",null,"",null,null,null,null,null,null,null,null,null,null,null,null,null,null,null,null,null,null,null,null,""]
["","",null,"",null,null,null,null,null,null,null,null,null,null,null,null,null,null,null,null,null,null,null,null,""]
["","",null,"",null,null,null,null,null,null,null,null,null,null,null,null,null,null,null,null,null,null,null,null,""]
["","",null,"",null,null,null,null,null,null,null,null,null,null,null,null,null,null,null,null,null,null,null,null,""]
["","",null,"",null,null,null,null,null,null,null,null,null,null,null,null,null,null,null,null,null,null,null,null,""]
["","",null,"",null,null,null,null,null,null,null,null,null,null,null,null,null,null,null,null,null,null,null,null,""]
["","",null,"",null,null,null,null,null,null,null,null,null,null,null,null,null,null,null,null,null,null,null,null,""]
["","",null,"",null,null,null,null,null,null,null,null,null,null,null,null,null,null,null,null,null,null,null,null,""]
["","",null,"",null,null,null,null,null,null,null,null,null,null,null,null,null,null,null,null,null,null,null,null,""]
["","",null,"",null,null,null,null,null,null,null,null,null,null,null,null,null,null,null,null,null,null,null,null,""]
["","",null,"",null,null,null,null,null,null,null,null,null,null,null,null,null,null,null,null,null,null,null,null,""]
["","",null,"",null,null,null,null,null,null,null,null,null,null,null,null,null,null,null,null,null,null,null,null,""]
["","",null,"",null,null,null,null,null,null,null,null,null,null,null,null,null,null,null,null,null,null,null,null,""]
["","",null,"",null,null,null,null,null,null,null,null,null,null,null,null,null,null,null,null,null,null,null,null,""]
["","",null,"",null,null,null,null,null,null,null,null,null,null,null,null,null,null,null,null,null,null,null,null,""]
["","",null,"",null,null,null,null,null,null,null,null,null,null,null,null,null,null,null,null,null,null,null,null,""]
["","",null,"",null,null,null,null,null,null,null,null,null,null,null,null,null,null,null,null,null,null,null,null,""]
["","",null,"",null,null,null,null,null,null,null,null,null,null,null,null,null,null,null,null,null,null,null,null,""]
["","",null,"",null,null,null,null,null,null,null,null,null,null,null,null,null,null,null,null,null,null,null,null,""]
["","",null,"",null,null,null,null,null,null,null,null,null,null,null,null,null,null,null,null,null,null,null,null,""]
["","",null,"",null,null,null,null,null,null,null,null,null,null,null,null,null,null,null,null,null,null,null,null,""]
["","",null,"",null,null,null,null,null,null,null,null,null,null,null,null,null,null,null,null,null,null,null,null,""]
["","",null,"",null,null,null,null,null,null,null,null,null,null,null,null,null,null,null,null,null,null,null,null,""]
["","",null,"",null,null,null,null,null,null,null,null,null,null,null,null,null,null,null,null,null,null,null,null,""]
["","",null,"",null,null,null,null,null,null,null,null,null,null,null,null,null,null,null,null,null,null,null,null,""]
["","",null,"",null,null,null,null,null,null,null,null,null,null,null,null,null,null,null,null,null,null,null,null,""]
["","",null,"",null,null,null,null,null,null,null,null,null,null,null,null,null,null,null,null,null,null,null,null,""]
["","",null,"",null,null,null,null,null,null,null,null,null,null,null,null,null,null,null,null,null,null,null,null,""]
["","",null,"",null,null,null,null,null,null,null,null,null,null,null,null,null,null,null,null,null,null,null,null,""]
["","",null,"",null,null,null,null,null,null,null,null,null,null,null,null,null,null,null,null,null,null,null,null,""]
["","",null,"",null,null,null,null,null,null,null,null,null,null,null,null,null,null,null,null,null,null,null,null,""]
["","",null,"",null,null,null,null,null,null,null,null,null,null,null,null,null,null,null,null,null,null,null,null,""]
["","",null,"",null,null,null,null,null,null,null,null,null,null,null,null,null,null,null,null,null,null,null,null,""]
["","",null,"",null,null,null,null,null,null,null,null,null,null,null,null,null,null,null,null,null,null,null,null,""]
["","",null,"",null,null,null,null,null,null,null,null,null,null,null,null,null,null,null,null,null,null,null,null,""]
["","",null,"",null,null,null,null,null,null,null,null,null,null,null,null,null,null,null,null,null,null,null,null,""]
["","",null,"",null,null,null,null,null,null,null,null,null,null,null,null,null,null,null,null,null,null,null,null,""]
["","",null,"",null,null,null,null,null,null,null,null,null,null,null,null,null,null,null,null,null,null,null,null,""]
["","",null,"",null,null,null,null,null,null,null,null,null,null,null,null,null,null,null,null,null,null,null,null,""]
["","",null,"",null,null,null,null,null,null,null,null,null,null,null,null,null,null,null,null,null,null,null,null,""]
["","",null,"",null,null,null,null,null,null,null,null,null,null,null,null,null,null,null,null,null,null,null,null,""]
["","",null,"",null,null,null,null,null,null,null,null,null,null,null,null,null,null,null,null,null,null,null,null,""]
["","",null,"",null,null,null,null,null,null,null,null,null,null,null,null,null,null,null,null,null,null,null,null,""]
["","",null,"",null,null,null,null,null,null,null,null,null,null,null,null,null,null,null,null,null,null,null,null,""]
["","",null,"",null,null,null,null,null,null,null,null,null,null,null,null,null,null,null,null,null,null,null,null,""]
["","",null,"",null,null,null,null,null,null,null,null,null,null,null,null,null,null,null,null,null,null,null,null,""]
["","",null,"",null,null,null,null,null,null,null,null,null,null,null,null,null,null,null,null,null,null,null,null,""]
["","",null,"",null,null,null,null,null,null,null,null,null,null,null,null,null,null,null,null,null,null,null,null,""]
["","",null,"",null,null,null,null,null,null,null,null,null,null,null,null,null,null,null,null,null,null,null,null,""]
["","",null,"",null,null,null,null,null,null,null,null,null,null,null,null,null,null,null,null,null,null,null,null,""]
["","",null,"",null,null,null,null,null,null,null,null,null,null,null,null,null,null,null,null,null,null,null,null,""]
["","",null,"",null,null,null,null,null,null,null,null,null,null,null,null,null,null,null,null,null,null,null,null,""]
["","",null,"",null,null,null,null,null,null,null,null,null,null,null,null,null,null,null,null,null,null,null,null,""]
["","",null,"",null,null,null,null,null,null,null,null,null,null,null,null,null,null,null,null,null,null,null,null,""]
["","",null,"",null,null,null,null,null,null,null,null,null,null,null,null,null,null,null,null,null,null,null,null,""]
["","",null,"",null,null,null,null,null,null,null,null,null,null,null,null,null,null,null,null,null,null,null,null,""]
["","",null,"",null,null,null,null,null,null,null,null,null,null,null,null,null,null,null,null,null,null,null,null,""]
["","",null,"",null,null,null,null,null,null,null,null,null,null,null,null,null,null,null,null,null,null,null,null,""]
["","",null,"",null,null,null,null,null,null,null,null,null,null,null,null,null,null,null,null,null,null,null,null,""]
["","",null,"",null,null,null,null,null,null,null,null,null,null,null,null,null,null,null,null,null,null,null,null,""]
["","",null,"",null,null,null,null,null,null,null,null,null,null,null,null,null,null,null,null,null,null,null,null,""]
["","",null,"",null,null,null,null,null,null,null,null,null,null,null,null,null,null,null,null,null,null,null,null,""]
["","",null,"",null,null,null,null,null,null,null,null,null,null,null,null,null,null,null,null,null,null,null,null,""]
["","",null,"",null,null,null,null,null,null,null,null,null,null,null,null,null,null,null,null,null,null,null,null,""]
["","",null,"",null,null,null,null,null,null,null,null,null,null,null,null,null,null,null,null,null,null,null,null,""]
["","",null,"",null,null,null,null,null,null,null,null,null,null,null,null,null,null,null,null,null,null,null,null,""]
["","",null,"",null,null,null,null,null,null,null,null,null,null,null,null,null,null,null,null,null,null,null,null,""]
["","",null,"",null,null,null,null,null,null,null,null,null,null,null,null,null,null,null,null,null,null,null,null,""]
["","",null,"",null,null,null,null,null,null,null,null,null,null,null,null,null,null,null,null,null,null,null,null,""]
["","",null,"",null,null,null,null,null,null,null,null,null,null,null,null,null,null,null,null,null,null,null,null,""]
["","",null,"",null,null,null,null,null,null,null,null,null,null,null,null,null,null,null,null,null,null,null,null,""]
["","",null,"",null,null,null,null,null,null,null,null,null,null,null,null,null,null,null,null,null,null,null,null,""]
["","",null,"",null,null,null,null,null,null,null,null,null,null,null,null,null,null,null,null,null,null,null,null,""]
["","",null,"",null,null,null,null,null,null,null,null,null,null,null,null,null,null,null,null,null,null,null,null,""]
["","",null,"",null,null,null,null,null,null,null,null,null,null,null,null,null,null,null,null,null,null,null,null,""]
["","",null,"",null,null,null,null,null,null,null,null,null,null,null,null,null,null,null,null,null,null,null,null,""]
["","",null,"",null,null,null,null,null,null,null,null,null,null,null,null,null,null,null,null,null,null,null,null,""]
["","",null,"",null,null,null,null,null,null,null,null,null,null,null,null,null,null,null,null,null,null,null,null,""]
["","",null,"",null,null,null,null,null,null,null,null,null,null,null,null,null,null,null,null,null,null,null,null,""]
["","",null,"",null,null,null,null,null,null,null,null,null,null,null,null,null,null,null,null,null,null,null,null,""]
["","",null,"",null,null,null,null,null,null,null,null,null,null,null,null,null,null,null,null,null,null,null,null,""]
["","",null,"",null,null,null,null,null,null,null,null,null,null,null,null,null,null,null,null,null,null,null,null,""]
["","",null,"",null,null,null,null,null,null,null,null,null,null,null,null,null,null,null,null,null,null,null,null,""]
["","",null,"",null,null,null,null,null,null,null,null,null,null,null,null,null,null,null,null,null,null,null,null,""]
["","",null,"",null,null,null,null,null,null,null,null,null,null,null,null,null,null,null,null,null,null,null,null,""]
["","",null,"",null,null,null,null,null,null,null,null,null,null,null,null,null,null,null,null,null,null,null,null,""]
["","",null,"",null,null,null,null,null,null,null,null,null,null,null,null,null,null,null,null,null,null,null,null,""]
["","",null,"",null,null,null,null,null,null,null,null,null,null,null,null,null,null,null,null,null,null,null,null,""]
["","",null,"",null,null,null,null,null,null,null,null,null,null,null,null,null,null,null,null,null,null,null,null,""]
["","",null,"",null,null,null,null,null,null,null,null,null,null,null,null,null,null,null,null,null,null,null,null,""]
["","",null,"",null,null,null,null,null,null,null,null,null,null,null,null,null,null,null,null,null,null,null,null,""]
["","",null,"",null,null,null,null,null,null,null,null,null,null,null,null,null,null,null,null,null,null,null,null,""]
["","",null,"",null,null,null,null,null,null,null,null,null,null,null,null,null,null,null,null,null,null,null,null,""]
["","",null,"",null,null,null,null,null,null,null,null,null,null,null,null,null,null,null,null,null,null,null,null,""]
["","",null,"",null,null,null,null,null,null,null,null,null,null,null,null,null,null,null,null,null,null,null,null,""]
["","",null,"",null,null,null,null,null,null,null,null,null,null,null,null,null,null,null,null,null,null,null,null,""]
["","",null,"",null,null,null,null,null,null,null,null,null,null,null,null,null,null,null,null,null,null,null,null,""]
["","",null,"",null,null,null,null,null,null,null,null,null,null,null,null,null,null,null,null,null,null,null,null,""]
["","",null,"",null,null,null,null,null,null,null,null,null,null,null,null,null,null,null,null,null,null,null,null,""]
["","",null,"",null,null,null,null,null,null,null,null,null,null,null,null,null,null,null,null,null,null,null,null,""]
["","",null,"",null,null,null,null,null,null,null,null,null,null,null,null,null,null,null,null,null,null,null,null,""]
["","",null,"",null,null,null,null,null,null,null,null,null,null,null,null,null,null,null,null,null,null,null,null,""]
["","",null,"",null,null,null,null,null,null,null,null,null,null,null,null,null,null,null,null,null,null,null,null,""]
["","",null,"",null,null,null,null,null,null,null,null,null,null,null,null,null,null,null,null,null,null,null,null,""]
["","",null,"",null,null,null,null,null,null,null,null,null,null,null,null,null,null,null,null,null,null,null,null,""]
["","",null,"",null,null,null,null,null,null,null,null,null,null,null,null,null,null,null,null,null,null,null,null,""]
["","",null,"",null,null,null,null,null,null,null,null,null,null,null,null,null,null,null,null,null,null,null,null,""]
["","",null,"",null,null,null,null,null,null,null,null,null,null,null,null,null,null,null,null,null,null,null,null,""]
["","",null,"",null,null,null,null,null,null,null,null,null,null,null,null,null,null,null,null,null,null,null,null,""]
["","",null,"",null,null,null,null,null,null,null,null,null,null,null,null,null,null,null,null,null,null,null,null,""]
["","",null,"",null,null,null,null,null,null,null,null,null,null,null,null,null,null,null,null,null,null,null,null,""]
["","",null,"",null,null,null,null,null,null,null,null,null,null,null,null,null,null,null,null,null,null,null,null,""]
["","",null,"",null,null,null,null,null,null,null,null,null,null,null,null,null,null,null,null,null,null,null,null,""]
["","",null,"",null,null,null,null,null,null,null,null,null,null,null,null,null,null,null,null,null,null,null,null,""]
["","",null,"",null,null,null,null,null,null,null,null,null,null,null,null,null,null,null,null,null,null,null,null,""]
["","",null,"",null,null,null,null,null,null,null,null,null,null,null,null,null,null,null,null,null,null,null,null,""]
["","",null,"",null,null,null,null,null,null,null,null,null,null,null,null,null,null,null,null,null,null,null,null,""]
["","",null,"",null,null,null,null,null,null,null,null,null,null,null,null,null,null,null,null,null,null,null,null,""]
["","",null,"",null,null,null,null,null,null,null,null,null,null,null,null,null,null,null,null,null,null,null,null,""]
["","",null,"",null,null,null,null,null,null,null,null,null,null,null,null,null,null,null,null,null,null,null,null,""]
["","",null,"",null,null,null,null,null,null,null,null,null,null,null,null,null,null,null,null,null,null,null,null,""]
["","",null,"",null,null,null,null,null,null,null,null,null,null,null,null,null,null,null,null,null,null,null,null,""]
["","",null,"",null,null,null,null,null,null,null,null,null,null,null,null,null,null,null,null,null,null,null,null,""]
["","",null,"",null,null,null,null,null,null,null,null,null,null,null,null,null,null,null,null,null,null,null,null,""]
["","",null,"",null,null,null,null,null,null,null,null,null,null,null,null,null,null,null,null,null,null,null,null,""]
["","",null,"",null,null,null,null,null,null,null,null,null,null,null,null,null,null,null,null,null,null,null,null,""]
["","",null,"",null,null,null,null,null,null,null,null,null,null,null,null,null,null,null,null,null,null,null,null,""]
["","",null,"",null,null,null,null,null,null,null,null,null,null,null,null,null,null,null,null,null,null,null,null,""]
["","",null,"",null,null,null,null,null,null,null,null,null,null,null,null,null,null,null,null,null,null,null,null,""]
["","",null,"",null,null,null,null,null,null,null,null,null,null,null,null,null,null,null,null,null,null,null,null,""]
["","",null,"",null,null,null,null,null,null,null,null,null,null,null,null,null,null,null,null,null,null,null,null,""]
["","",null,"",null,null,null,null,null,null,null,null,null,null,null,null,null,null,null,null,null,null,null,null,""]
["","",null,"",null,null,null,null,null,null,null,null,null,null,null,null,null,null,null,null,null,null,null,null,""]
["","",null,"",null,null,null,null,null,null,null,null,null,null,null,null,null,null,null,null,null,null,null,null,""]
["","",null,"",null,null,null,null,null,null,null,null,null,null,null,null,null,null,null,null,null,null,null,null,""]
["","",null,"",null,null,null,null,null,null,null,null,null,null,null,null,null,null,null,null,null,null,null,null,""]
["","",null,"",null,null,null,null,null,null,null,null,null,null,null,null,null,null,null,null,null,null,null,null,""]
["","",null,"",null,null,null,null,null,null,null,null,null,null,null,null,null,null,null,null,null,null,null,null,""]
["","",null,"",null,null,null,null,null,null,null,null,null,null,null,null,null,null,null,null,null,null,null,null,""]
["","",null,"",null,null,null,null,null,null,null,null,null,null,null,null,null,null,null,null,null,null,null,null,""]
["","",null,"",null,null,null,null,null,null,null,null,null,null,null,null,null,null,null,null,null,null,null,null,""]
["","",null,"",null,null,null,null,null,null,null,null,null,null,null,null,null,null,null,null,null,null,null,null,""]
["","",null,"",null,null,null,null,null,null,null,null,null,null,null,null,null,null,null,null,null,null,null,null,""]
["","",null,"",null,null,null,null,null,null,null,null,null,null,null,null,null,null,null,null,null,null,null,null,""]
["","",null,"",null,null,null,null,null,null,null,null,null,null,null,null,null,null,null,null,null,null,null,null,""]
["","",null,"",null,null,null,null,null,null,null,null,null,null,null,null,null,null,null,null,null,null,null,null,""]
["","",null,"",null,null,null,null,null,null,null,null,null,null,null,null,null,null,null,null,null,null,null,null,""]
["","",null,"",null,null,null,null,null,null,null,null,null,null,null,null,null,null,null,null,null,null,null,null,""]
["","",null,"",null,null,null,null,null,null,null,null,null,null,null,null,null,null,null,null,null,null,null,null,""]
["","",null,"",null,null,null,null,null,null,null,null,null,null,null,null,null,null,null,null,null,null,null,null,""]
["","",null,"",null,null,null,null,null,null,null,null,null,null,null,null,null,null,null,null,null,null,null,null,""]
["","",null,"",null,null,null,null,null,null,null,null,null,null,null,null,null,null,null,null,null,null,null,null,""]
["","",null,"",null,null,null,null,null,null,null,null,null,null,null,null,null,null,null,null,null,null,null,null,""]
["","",null,"",null,null,null,null,null,null,null,null,null,null,null,null,null,null,null,null,null,null,null,null,""]
["","",null,"",null,null,null,null,null,null,null,null,null,null,null,null,null,null,null,null,null,null,null,null,""]
["","",null,"",null,null,null,null,null,null,null,null,null,null,null,null,null,null,null,null,null,null,null,null,""]
["","",null,"",null,null,null,null,null,null,null,null,null,null,null,null,null,null,null,null,null,null,null,null,""]
["","",null,"",null,null,null,null,null,null,null,null,null,null,null,null,null,null,null,null,null,null,null,null,""]
["","",null,"",null,null,null,null,null,null,null,null,null,null,null,null,null,null,null,null,null,null,null,null,""]
["","",null,"",null,null,null,null,null,null,null,null,null,null,null,null,null,null,null,null,null,null,null,null,""]
["","",null,"",null,null,null,null,null,null,null,null,null,null,null,null,null,null,null,null,null,null,null,null,""]
["","",null,"",null,null,null,null,null,null,null,null,null,null,null,null,null,null,null,null,null,null,null,null,""]
["","",null,"",null,null,null,null,null,null,null,null,null,null,null,null,null,null,null,null,null,null,null,null,""]
["","",null,"",null,null,null,null,null,null,null,null,null,null,null,null,null,null,null,null,null,null,null,null,""]
["","",null,"",null,null,null,null,null,null,null,null,null,null,null,null,null,null,null,null,null,null,null,null,""]
["","",null,"",null,null,null,null,null,null,null,null,null,null,null,null,null,null,null,null,null,null,null,null,""]
["","",null,"",null,null,null,null,null,null,null,null,null,null,null,null,null,null,null,null,null,null,null,null,""]
["","",null,"",null,null,null,null,null,null,null,null,null,null,null,null,null,null,null,null,null,null,null,null,""]
["","",null,"",null,null,null,null,null,null,null,null,null,null,null,null,null,null,null,null,null,null,null,null,""]
["","",null,"",null,null,null,null,null,null,null,null,null,null,null,null,null,null,null,null,null,null,null,null,""]
["","",null,"",null,null,null,null,null,null,null,null,null,null,null,null,null,null,null,null,null,null,null,null,""]
["","",null,"",null,null,null,null,null,null,null,null,null,null,null,null,null,null,null,null,null,null,null,null,""]
["","",null,"",null,null,null,null,null,null,null,null,null,null,null,null,null,null,null,null,null,null,null,null,""]
["","",null,"",null,null,null,null,null,null,null,null,null,null,null,null,null,null,null,null,null,null,null,null,""]
["","",null,"",null,null,null,null,null,null,null,null,null,null,null,null,null,null,null,null,null,null,null,null,""]
["","",null,"",null,null,null,null,null,null,null,null,null,null,null,null,null,null,null,null,null,null,null,null,""]
["","",null,"",null,null,null,null,null,null,null,null,null,null,null,null,null,null,null,null,null,null,null,null,""]
["","",null,"",null,null,null,null,null,null,null,null,null,null,null,null,null,null,null,null,null,null,null,null,""]
["","",null,"",null,null,null,null,null,null,null,null,null,null,null,null,null,null,null,null,null,null,null,null,""]
["","",null,"",null,null,null,null,null,null,null,null,null,null,null,null,null,null,null,null,null,null,null,null,""]
["","",null,"",null,null,null,null,null,null,null,null,null,null,null,null,null,null,null,null,null,null,null,null,""]
["","",null,"",null,null,null,null,null,null,null,null,null,null,null,null,null,null,null,null,null,null,null,null,""]
["","",null,"",null,null,null,null,null,null,null,null,null,null,null,null,null,null,null,null,null,null,null,null,""]
["","",null,"",null,null,null,null,null,null,null,null,null,null,null,null,null,null,null,null,null,null,null,null,""]
["","",null,"",null,null,null,null,null,null,null,null,null,null,null,null,null,null,null,null,null,null,null,null,""]
["","",null,"",null,null,null,null,null,null,null,null,null,null,null,null,null,null,null,null,null,null,null,null,""]
["","",null,"",null,null,null,null,null,null,null,null,null,null,null,null,null,null,null,null,null,null,null,null,""]
["","",null,"",null,null,null,null,null,null,null,null,null,null,null,null,null,null,null,null,null,null,null,null,""]
["","",null,"",null,null,null,null,null,null,null,null,null,null,null,null,null,null,null,null,null,null,null,null,""]
["","",null,"",null,null,null,null,null,null,null,null,null,null,null,null,null,null,null,null,null,null,null,null,""]
["","",null,"",null,null,null,null,null,null,null,null,null,null,null,null,null,null,null,null,null,null,null,null,""]
["","",null,"",null,null,null,null,null,null,null,null,null,null,null,null,null,null,null,null,null,null,null,null,""]
["","",null,"",null,null,null,null,null,null,null,null,null,null,null,null,null,null,null,null,null,null,null,null,""]
["","",null,"",null,null,null,null,null,null,null,null,null,null,null,null,null,null,null,null,null,null,null,null,""]
["","",null,"",null,null,null,null,null,null,null,null,null,null,null,null,null,null,null,null,null,null,null,null,""]
["","",null,"",null,null,null,null,null,null,null,null,null,null,null,null,null,null,null,null,null,null,null,null,""]
["","",null,"",null,null,null,null,null,null,null,null,null,null,null,null,null,null,null,null,null,null,null,null,""]
["","",null,"",null,null,null,null,null,null,null,null,null,null,null,null,null,null,null,null,null,null,null,null,""]
["","",null,"",null,null,null,null,null,null,null,null,null,null,null,null,null,null,null,null,null,null,null,null,""]
["","",null,"",null,null,null,null,null,null,null,null,null,null,null,null,null,null,null,null,null,null,null,null,""]
["","",null,"",null,null,null,null,null,null,null,null,null,null,null,null,null,null,null,null,null,null,null,null,""]
["","",null,"",null,null,null,null,null,null,null,null,null,null,null,null,null,null,null,null,null,null,null,null,""]
["","",null,"",null,null,null,null,null,null,null,null,null,null,null,null,null,null,null,null,null,null,null,null,""]
["","",null,"",null,null,null,null,null,null,null,null,null,null,null,null,null,null,null,null,null,null,null,null,""]
["","",null,"",null,null,null,null,null,null,null,null,null,null,null,null,null,null,null,null,null,null,null,null,""]
["","",null,"",null,null,null,null,null,null,null,null,null,null,null,null,null,null,null,null,null,null,null,null,""]
["","",null,"",null,null,null,null,null,null,null,null,null,null,null,null,null,null,null,null,null,null,null,null,""]
["","",null,"",null,null,null,null,null,null,null,null,null,null,null,null,null,null,null,null,null,null,null,null,""]
["","",null,"",null,null,null,null,null,null,null,null,null,null,null,null,null,null,null,null,null,null,null,null,""]
["","",null,"",null,null,null,null,null,null,null,null,null,null,null,null,null,null,null,null,null,null,null,null,""]
["","",null,"",null,null,null,null,null,null,null,null,null,null,null,null,null,null,null,null,null,null,null,null,""]
["","",null,"",null,null,null,null,null,null,null,null,null,null,null,null,null,null,null,null,null,null,null,null,""]
["","",null,"",null,null,null,null,null,null,null,null,null,null,null,null,null,null,null,null,null,null,null,null,""]
["","",null,"",null,null,null,null,null,null,null,null,null,null,null,null,null,null,null,null,null,null,null,null,""]
["","",null,"",null,null,null,null,null,null,null,null,null,null,null,null,null,null,null,null,null,null,null,null,""]
["","",null,"",null,null,null,null,null,null,null,null,null,null,null,null,null,null,null,null,null,null,null,null,""]
["","",null,"",null,null,null,null,null,null,null,null,null,null,null,null,null,null,null,null,null,null,null,null,""]
["","",null,"",null,null,null,null,null,null,null,null,null,null,null,null,null,null,null,null,null,null,null,null,""]
["","",null,"",null,null,null,null,null,null,null,null,null,null,null,null,null,null,null,null,null,null,null,null,""]
["","",null,"",null,null,null,null,null,null,null,null,null,null,null,null,null,null,null,null,null,null,null,null,""]
["","",null,"",null,null,null,null,null,null,null,null,null,null,null,null,null,null,null,null,null,null,null,null,""]
["","",null,"",null,null,null,null,null,null,null,null,null,null,null,null,null,null,null,null,null,null,null,null,""]
["","",null,"",null,null,null,null,null,null,null,null,null,null,null,null,null,null,null,null,null,null,null,null,""]
["","",null,"",null,null,null,null,null,null,null,null,null,null,null,null,null,null,null,null,null,null,null,null,""]
["","",null,"",null,null,null,null,null,null,null,null,null,null,null,null,null,null,null,null,null,null,null,null,""]
["","",null,"",null,null,null,null,null,null,null,null,null,null,null,null,null,null,null,null,null,null,null,null,""]
["","",null,"",null,null,null,null,null,null,null,null,null,null,null,null,null,null,null,null,null,null,null,null,""]
["","",null,"",null,null,null,null,null,null,null,null,null,null,null,null,null,null,null,null,null,null,null,null,""]
["","",null,"",null,null,null,null,null,null,null,null,null,null,null,null,null,null,null,null,null,null,null,null,""]
["","",null,"",null,null,null,null,null,null,null,null,null,null,null,null,null,null,null,null,null,null,null,null,""]
["","",null,"",null,null,null,null,null,null,null,null,null,null,null,null,null,null,null,null,null,null,null,null,""]
["","",null,"",null,null,null,null,null,null,null,null,null,null,null,null,null,null,null,null,null,null,null,null,""]
["","",null,"",null,null,null,null,null,null,null,null,null,null,null,null,null,null,null,null,null,null,null,null,""]
["","",null,"",null,null,null,null,null,null,null,null,null,null,null,null,null,null,null,null,null,null,null,null,""]
["","",null,"",null,null,null,null,null,null,null,null,null,null,null,null,null,null,null,null,null,null,null,null,""]
["","",null,"",null,null,null,null,null,null,null,null,null,null,null,null,null,null,null,null,null,null,null,null,""]
["","",null,"",null,null,null,null,null,null,null,null,null,null,null,null,null,null,null,null,null,null,null,null,""]
["","",null,"",null,null,null,null,null,null,null,null,null,null,null,null,null,null,null,null,null,null,null,null,""]
["","",null,"",null,null,null,null,null,null,null,null,null,null,null,null,null,null,null,null,null,null,null,null,""]
["","",null,"",null,null,null,null,null,null,null,null,null,null,null,null,null,null,null,null,null,null,null,null,""]
["","",null,"",null,null,null,null,null,null,null,null,null,null,null,null,null,null,null,null,null,null,null,null,""]
["","",null,"",null,null,null,null,null,null,null,null,null,null,null,null,null,null,null,null,null,null,null,null,""]
["","",null,"",null,null,null,null,null,null,null,null,null,null,null,null,null,null,null,null,null,null,null,null,""]
["","",null,"",null,null,null,null,null,null,null,null,null,null,null,null,null,null,null,null,null,null,null,null,""]
["","",null,"",null,null,null,null,null,null,null,null,null,null,null,null,null,null,null,null,null,null,null,null,""]
["","",null,"",null,null,null,null,null,null,null,null,null,null,null,null,null,null,null,null,null,null,null,null,""]
["","",null,"",null,null,null,null,null,null,null,null,null,null,null,null,null,null,null,null,null,null,null,null,""]
["","",null,"",null,null,null,null,null,null,null,null,null,null,null,null,null,null,null,null,null,null,null,null,""]
["","",null,"",null,null,null,null,null,null,null,null,null,null,null,null,null,null,null,null,null,null,null,null,""]
["","",null,"",null,null,null,null,null,null,null,null,null,null,null,null,null,null,null,null,null,null,null,null,""]
["","",null,"",null,null,null,null,null,null,null,null,null,null,null,null,null,null,null,null,null,null,null,null,""]
["","",null,"",null,null,null,null,null,null,null,null,null,null,null,null,null,null,null,null,null,null,null,null,""]
["","",null,"",null,null,null,null,null,null,null,null,null,null,null,null,null,null,null,null,null,null,null,null,""]
["","",null,"",null,null,null,null,null,null,null,null,null,null,null,null,null,null,null,null,null,null,null,null,""]
["","",null,"",null,null,null,null,null,null,null,null,null,null,null,null,null,null,null,null,null,null,null,null,""]
["","",null,"",null,null,null,null,null,null,null,null,null,null,null,null,null,null,null,null,null,null,null,null,""]
["","",null,"",null,null,null,null,null,null,null,null,null,null,null,null,null,null,null,null,null,null,null,null,""]
["","",null,"",null,null,null,null,null,null,null,null,null,null,null,null,null,null,null,null,null,null,null,null,""]
["","",null,"",null,null,null,null,null,null,null,null,null,null,null,null,null,null,null,null,null,null,null,null,""]
["","",null,"",null,null,null,null,null,null,null,null,null,null,null,null,null,null,null,null,null,null,null,null,""]
["","",null,"",null,null,null,null,null,null,null,null,null,null,null,null,null,null,null,null,null,null,null,null,""]
["","",null,"",null,null,null,null,null,null,null,null,null,null,null,null,null,null,null,null,null,null,null,null,""]
["","",null,"",null,null,null,null,null,null,null,null,null,null,null,null,null,null,null,null,null,null,null,null,""]
["","",null,"",null,null,null,null,null,null,null,null,null,null,null,null,null,null,null,null,null,null,null,null,""]
["","",null,"",null,null,null,null,null,null,null,null,null,null,null,null,null,null,null,null,null,null,null,null,""]
["","",null,"",null,null,null,null,null,null,null,null,null,null,null,null,null,null,null,null,null,null,null,null,""]
["","",null,"",null,null,null,null,null,null,null,null,null,null,null,null,null,null,null,null,null,null,null,null,""]
["","",null,"",null,null,null,null,null,null,null,null,null,null,null,null,null,null,null,null,null,null,null,null,""]
["","",null,"",null,null,null,null,null,null,null,null,null,null,null,null,null,null,null,null,null,null,null,null,""]
["","",null,"",null,null,null,null,null,null,null,null,null,null,null,null,null,null,null,null,null,null,null,null,""]
["","",null,"",null,null,null,null,null,null,null,null,null,null,null,null,null,null,null,null,null,null,null,null,""]
["","",null,"",null,null,null,null,null,null,null,null,null,null,null,null,null,null,null,null,null,null,null,null,""]
["","",null,"",null,null,null,null,null,null,null,null,null,null,null,null,null,null,null,null,null,null,null,null,""]
["","",null,"",null,null,null,null,null,null,null,null,null,null,null,null,null,null,null,null,null,null,null,null,""]
["","",null,"",null,null,null,null,null,null,null,null,null,null,null,null,null,null,null,null,null,null,null,null,""]
["","",null,"",null,null,null,null,null,null,null,null,null,null,null,null,null,null,null,null,null,null,null,null,""]
["","",null,"",null,null,null,null,null,null,null,null,null,null,null,null,null,null,null,null,null,null,null,null,""]
["","",null,"",null,null,null,null,null,null,null,null,null,null,null,null,null,null,null,null,null,null,null,null,""]
["","",null,"",null,null,null,null,null,null,null,null,null,null,null,null,null,null,null,null,null,null,null,null,""]
["","",null,"",null,null,null,null,null,null,null,null,null,null,null,null,null,null,null,null,null,null,null,null,""]
["","",null,"",null,null,null,null,null,null,null,null,null,null,null,null,null,null,null,null,null,null,null,null,""]
["","",null,"",null,null,null,null,null,null,null,null,null,null,null,null,null,null,null,null,null,null,null,null,""]
["","",null,"",null,null,null,null,null,null,null,null,null,null,null,null,null,null,null,null,null,null,null,null,""]
["","",null,"",null,null,null,null,null,null,null,null,null,null,null,null,null,null,null,null,null,null,null,null,""]
["","",null,"",null,null,null,null,null,null,null,null,null,null,null,null,null,null,null,null,null,null,null,null,""]
["","",null,"",null,null,null,null,null,null,null,null,null,null,null,null,null,null,null,null,null,null,null,null,""]
["","",null,"",null,null,null,null,null,null,null,null,null,null,null,null,null,null,null,null,null,null,null,null,""]
["","",null,"",null,null,null,null,null,null,null,null,null,null,null,null,null,null,null,null,null,null,null,null,""]
["","",null,"",null,null,null,null,null,null,null,null,null,null,null,null,null,null,null,null,null,null,null,null,""]
["","",null,"",null,null,null,null,null,null,null,null,null,null,null,null,null,null,null,null,null,null,null,null,""]
["","",null,"",null,null,null,null,null,null,null,null,null,null,null,null,null,null,null,null,null,null,null,null,""]
["","",null,"",null,null,null,null,null,null,null,null,null,null,null,null,null,null,null,null,null,null,null,null,""]
["","",null,"",null,null,null,null,null,null,null,null,null,null,null,null,null,null,null,null,null,null,null,null,""]
["","",null,"",null,null,null,null,null,null,null,null,null,null,null,null,null,null,null,null,null,null,null,null,""]
["","",null,"",null,null,null,null,null,null,null,null,null,null,null,null,null,null,null,null,null,null,null,null,""]
["","",null,"",null,null,null,null,null,null,null,null,null,null,null,null,null,null,null,null,null,null,null,null,""]
["","",null,"",null,null,null,null,null,null,null,null,null,null,null,null,null,null,null,null,null,null,null,null,""]
["","",null,"",null,null,null,null,null,null,null,null,null,null,null,null,null,null,null,null,null,null,null,null,""]
["","",null,"",null,null,null,null,null,null,null,null,null,null,null,null,null,null,null,null,null,null,null,null,""]
["","",null,"",null,null,null,null,null,null,null,null,null,null,null,null,null,null,null,null,null,null,null,null,""]
["","",null,"",null,null,null,null,null,null,null,null,null,null,null,null,null,null,null,null,null,null,null,null,""]
["","",null,"",null,null,null,null,null,null,null,null,null,null,null,null,null,null,null,null,null,null,null,null,""]
["","",null,"",null,null,null,null,null,null,null,null,null,null,null,null,null,null,null,null,null,null,null,null,""]
["","",null,"",null,null,null,null,null,null,null,null,null,null,null,null,null,null,null,null,null,null,null,null,""]
["","",null,"",null,null,null,null,null,null,null,null,null,null,null,null,null,null,null,null,null,null,null,null,""]
["","",null,"",null,null,null,null,null,null,null,null,null,null,null,null,null,null,null,null,null,null,null,null,""]
["","",null,"",null,null,null,null,null,null,null,null,null,null,null,null,null,null,null,null,null,null,null,null,""]
["","",null,"",null,null,null,null,null,null,null,null,null,null,null,null,null,null,null,null,null,null,null,null,""]
["","",null,"",null,null,null,null,null,null,null,null,null,null,null,null,null,null,null,null,null,null,null,null,""]
["","",null,"",null,null,null,null,null,null,null,null,null,null,null,null,null,null,null,null,null,null,null,null,""]
["","",null,"",null,null,null,null,null,null,null,null,null,null,null,null,null,null,null,null,null,null,null,null,""]
["","",null,"",null,null,null,null,null,null,null,null,null,null,null,null,null,null,null,null,null,null,null,null,""]
["","",null,"",null,null,null,null,null,null,null,null,null,null,null,null,null,null,null,null,null,null,null,null,""]
["","",null,"",null,null,null,null,null,null,null,null,null,null,null,null,null,null,null,null,null,null,null,null,""]
["","",null,"",null,null,null,null,null,null,null,null,null,null,null,null,null,null,null,null,null,null,null,null,""]
["","",null,"",null,null,null,null,null,null,null,null,null,null,null,null,null,null,null,null,null,null,null,null,""]
["","",null,"",null,null,null,null,null,null,null,null,null,null,null,null,null,null,null,null,null,null,null,null,""]
["","",null,"",null,null,null,null,null,null,null,null,null,null,null,null,null,null,null,null,null,null,null,null,""]
["","",null,"",null,null,null,null,null,null,null,null,null,null,null,null,null,null,null,null,null,null,null,null,""]
["","",null,"",null,null,null,null,null,null,null,null,null,null,null,null,null,null,null,null,null,null,null,null,""]
["","",null,"",null,null,null,null,null,null,null,null,null,null,null,null,null,null,null,null,null,null,null,null,""]
["","",null,"",null,null,null,null,null,null,null,null,null,null,null,null,null,null,null,null,null,null,null,null,""]
["","",null,"",null,null,null,null,null,null,null,null,null,null,null,null,null,null,null,null,null,null,null,null,""]
["","",null,"",null,null,null,null,null,null,null,null,null,null,null,null,null,null,null,null,null,null,null,null,""]
["","",null,"",null,null,null,null,null,null,null,null,null,null,null,null,null,null,null,null,null,null,null,null,""]
["","",null,"",null,null,null,null,null,null,null,null,null,null,null,null,null,null,null,null,null,null,null,null,""]
["","",null,"",null,null,null,null,null,null,null,null,null,null,null,null,null,null,null,null,null,null,null,null,""]
["","",null,"",null,null,null,null,null,null,null,null,null,null,null,null,null,null,null,null,null,null,null,null,""]
["","",null,"",null,null,null,null,null,null,null,null,null,null,null,null,null,null,null,null,null,null,null,null,""]
["","",null,"",null,null,null,null,null,null,null,null,null,null,null,null,null,null,null,null,null,null,null,null,""]
["","",null,"",null,null,null,null,null,null,null,null,null,null,null,null,null,null,null,null,null,null,null,null,""]
["","",null,"",null,null,null,null,null,null,null,null,null,null,null,null,null,null,null,null,null,null,null,null,""]
["","",null,"",null,null,null,null,null,null,null,null,null,null,null,null,null,null,null,null,null,null,null,null,""]
["","",null,"",null,null,null,null,null,null,null,null,null,null,null,null,null,null,null,null,null,null,null,null,""]
["","",null,"",null,null,null,null,null,null,null,null,null,null,null,null,null,null,null,null,null,null,null,null,""]
["","",null,"",null,null,null,null,null,null,null,null,null,null,null,null,null,null,null,null,null,null,null,null,""]
["","",null,"",null,null,null,null,null,null,null,null,null,null,null,null,null,null,null,null,null,null,null,null,""]
["","",null,"",null,null,null,null,null,null,null,null,null,null,null,null,null,null,null,null,null,null,null,null,""]
["","",null,"",null,null,null,null,null,null,null,null,null,null,null,null,null,null,null,null,null,null,null,null,""]
["","",null,"",null,null,null,null,null,null,null,null,null,null,null,null,null,null,null,null,null,null,null,null,""]
["","",null,"",null,null,null,null,null,null,null,null,null,null,null,null,null,null,null,null,null,null,null,null,""]
["","",null,"",null,null,null,null,null,null,null,null,null,null,null,null,null,null,null,null,null,null,null,null,""]
["","",null,"",null,null,null,null,null,null,null,null,null,null,null,null,null,null,null,null,null,null,null,null,""]
["","",null,"",null,null,null,null,null,null,null,null,null,null,null,null,null,null,null,null,null,null,null,null,""]
["","",null,"",null,null,null,null,null,null,null,null,null,null,null,null,null,null,null,null,null,null,null,null,""]
["","",null,"",null,null,null,null,null,null,null,null,null,null,null,null,null,null,null,null,null,null,null,null,""]
["","",null,"",null,null,null,null,null,null,null,null,null,null,null,null,null,null,null,null,null,null,null,null,""]
["","",null,"",null,null,null,null,null,null,null,null,null,null,null,null,null,null,null,null,null,null,null,null,""]
["","",null,"",null,null,null,null,null,null,null,null,null,null,null,null,null,null,null,null,null,null,null,null,""]
["","",null,"",null,null,null,null,null,null,null,null,null,null,null,null,null,null,null,null,null,null,null,null,""]
["","",null,"",null,null,null,null,null,null,null,null,null,null,null,null,null,null,null,null,null,null,null,null,""]
["","",null,"",null,null,null,null,null,null,null,null,null,null,null,null,null,null,null,null,null,null,null,null,""]
["","",null,"",null,null,null,null,null,null,null,null,null,null,null,null,null,null,null,null,null,null,null,null,""]
["","",null,"",null,null,null,null,null,null,null,null,null,null,null,null,null,null,null,null,null,null,null,null,""]
["","",null,"",null,null,null,null,null,null,null,null,null,null,null,null,null,null,null,null,null,null,null,null,""]
["","",null,"",null,null,null,null,null,null,null,null,null,null,null,null,null,null,null,null,null,null,null,null,""]
["","",null,"",null,null,null,null,null,null,null,null,null,null,null,null,null,null,null,null,null,null,null,null,""]
["","",null,"",null,null,null,null,null,null,null,null,null,null,null,null,null,null,null,null,null,null,null,null,""]
["","",null,"",null,null,null,null,null,null,null,null,null,null,null,null,null,null,null,null,null,null,null,null,""]
["","",null,"",null,null,null,null,null,null,null,null,null,null,null,null,null,null,null,null,null,null,null,null,""]
["","",null,"",null,null,null,null,null,null,null,null,null,null,null,null,null,null,null,null,null,null,null,null,""]
["","",null,"",null,null,null,null,null,null,null,null,null,null,null,null,null,null,null,null,null,null,null,null,""]
["","",null,"",null,null,null,null,null,null,null,null,null,null,null,null,null,null,null,null,null,null,null,null,""]
["","",null,"",null,null,null,null,null,null,null,null,null,null,null,null,null,null,null,null,null,null,null,null,""]
["","",null,"",null,null,null,null,null,null,null,null,null,null,null,null,null,null,null,null,null,null,null,null,""]
["","",null,"",null,null,null,null,null,null,null,null,null,null,null,null,null,null,null,null,null,null,null,null,""]
["","",null,"",null,null,null,null,null,null,null,null,null,null,null,null,null,null,null,null,null,null,null,null,""]
["","",null,"",null,null,null,null,null,null,null,null,null,null,null,null,null,null,null,null,null,null,null,null,""]
["","",null,"",null,null,null,null,null,null,null,null,null,null,null,null,null,null,null,null,null,null,null,null,""]
["","",null,"",null,null,null,null,null,null,null,null,null,null,null,null,null,null,null,null,null,null,null,null,""]
["","",null,"",null,null,null,null,null,null,null,null,null,null,null,null,null,null,null,null,null,null,null,null,""]
["","",null,"",null,null,null,null,null,null,null,null,null,null,null,null,null,null,null,null,null,null,null,null,""]
["","",null,"",null,null,null,null,null,null,null,null,null,null,null,null,null,null,null,null,null,null,null,null,""]
["","",null,"",null,null,null,null,null,null,null,null,null,null,null,null,null,null,null,null,null,null,null,null,""]
["","",null,"",null,null,null,null,null,null,null,null,null,null,null,null,null,null,null,null,null,null,null,null,""]
["","",null,"",null,null,null,null,null,null,null,null,null,null,null,null,null,null,null,null,null,null,null,null,""]
["","",null,"",null,null,null,null,null,null,null,null,null,null,null,null,null,null,null,null,null,null,null,null,""]
["","",null,"",null,null,null,null,null,null,null,null,null,null,null,null,null,null,null,null,null,null,null,null,""]
["","",null,"",null,null,null,null,null,null,null,null,null,null,null,null,null,null,null,null,null,null,null,null,""]
["","",null,"",null,null,null,null,null,null,null,null,null,null,null,null,null,null,null,null,null,null,null,null,""]
["","",null,"",null,null,null,null,null,null,null,null,null,null,null,null,null,null,null,null,null,null,null,null,""]
["","",null,"",null,null,null,null,null,null,null,null,null,null,null,null,null,null,null,null,null,null,null,null,""]
["","",null,"",null,null,null,null,null,null,null,null,null,null,null,null,null,null,null,null,null,null,null,null,""]
["","",null,"",null,null,null,null,null,null,null,null,null,null,null,null,null,null,null,null,null,null,null,null,""]
["","",null,"",null,null,null,null,null,null,null,null,null,null,null,null,null,null,null,null,null,null,null,null,""]
["","",null,"",null,null,null,null,null,null,null,null,null,null,null,null,null,null,null,null,null,null,null,null,""]
["","",null,"",null,null,null,null,null,null,null,null,null,null,null,null,null,null,null,null,null,null,null,null,""]
["","",null,"",null,null,null,null,null,null,null,null,null,null,null,null,null,null,null,null,null,null,null,null,""]
["","",null,"",null,null,null,null,null,null,null,null,null,null,null,null,null,null,null,null,null,null,null,null,""]
["","",null,"",null,null,null,null,null,null,null,null,null,null,null,null,null,null,null,null,null,null,null,null,""]
["","",null,"",null,null,null,null,null,null,null,null,null,null,null,null,null,null,null,null,null,null,null,null,""]
["","",null,"",null,null,null,null,null,null,null,null,null,null,null,null,null,null,null,null,null,null,null,null,""]
["","",null,"",null,null,null,null,null,null,null,null,null,null,null,null,null,null,null,null,null,null,null,null,""]
["","",null,"",null,null,null,null,null,null,null,null,null,null,null,null,null,null,null,null,null,null,null,null,""]
["","",null,"",null,null,null,null,null,null,null,null,null,null,null,null,null,null,null,null,null,null,null,null,""]
["","",null,"",null,null,null,null,null,null,null,null,null,null,null,null,null,null,null,null,null,null,null,null,""]
["","",null,"",null,null,null,null,null,null,null,null,null,null,null,null,null,null,null,null,null,null,null,null,""]
["","",null,"",null,null,null,null,null,null,null,null,null,null,null,null,null,null,null,null,null,null,null,null,""]
["","",null,"",null,null,null,null,null,null,null,null,null,null,null,null,null,null,null,null,null,null,null,null,""]
["","",null,"",null,null,null,null,null,null,null,null,null,null,null,null,null,null,null,null,null,null,null,null,""]
["","",null,"",null,null,null,null,null,null,null,null,null,null,null,null,null,null,null,null,null,null,null,null,""]
["","",null,"",null,null,null,null,null,null,null,null,null,null,null,null,null,null,null,null,null,null,null,null,""]
["","",null,"",null,null,null,null,null,null,null,null,null,null,null,null,null,null,null,null,null,null,null,null,""]
["","",null,"",null,null,null,null,null,null,null,null,null,null,null,null,null,null,null,null,null,null,null,null,""]
["","",null,"",null,null,null,null,null,null,null,null,null,null,null,null,null,null,null,null,null,null,null,null,""]
["","",null,"",null,null,null,null,null,null,null,null,null,null,null,null,null,null,null,null,null,null,null,null,""]
["","",null,"",null,null,null,null,null,null,null,null,null,null,null,null,null,null,null,null,null,null,null,null,""]
["","",null,"",null,null,null,null,null,null,null,null,null,null,null,null,null,null,null,null,null,null,null,null,""]
["","",null,"",null,null,null,null,null,null,null,null,null,null,null,null,null,null,null,null,null,null,null,null,""]
["","",null,"",null,null,null,null,null,null,null,null,null,null,null,null,null,null,null,null,null,null,null,null,""]
["","",null,"",null,null,null,null,null,null,null,null,null,null,null,null,null,null,null,null,null,null,null,null,""]
["","",null,"",null,null,null,null,null,null,null,null,null,null,null,null,null,null,null,null,null,null,null,null,""]
["","",null,"",null,null,null,null,null,null,null,null,null,null,null,null,null,null,null,null,null,null,null,null,""]
["","",null,"",null,null,null,null,null,null,null,null,null,null,null,null,null,null,null,null,null,null,null,null,""]
["","",null,"",null,null,null,null,null,null,null,null,null,null,null,null,null,null,null,null,null,null,null,null,""]
["","",null,"",null,null,null,null,null,null,null,null,null,null,null,null,null,null,null,null,null,null,null,null,""]
["","",null,"",null,null,null,null,null,null,null,null,null,null,null,null,null,null,null,null,null,null,null,null,""]
["","",null,"",null,null,null,null,null,null,null,null,null,null,null,null,null,null,null,null,null,null,null,null,""]
["","",null,"",null,null,null,null,null,null,null,null,null,null,null,null,null,null,null,null,null,null,null,null,""]
["","",null,"",null,null,null,null,null,null,null,null,null,null,null,null,null,null,null,null,null,null,null,null,""]
["","",null,"",null,null,null,null,null,null,null,null,null,null,null,null,null,null,null,null,null,null,null,null,""]
["","",null,"",null,null,null,null,null,null,null,null,null,null,null,null,null,null,null,null,null,null,null,null,""]
["","",null,"",null,null,null,null,null,null,null,null,null,null,null,null,null,null,null,null,null,null,null,null,""]
["","",null,"",null,null,null,null,null,null,null,null,null,null,null,null,null,null,null,null,null,null,null,null,""]
["","",null,"",null,null,null,null,null,null,null,null,null,null,null,null,null,null,null,null,null,null,null,null,""]
["","",null,"",null,null,null,null,null,null,null,null,null,null,null,null,null,null,null,null,null,null,null,null,""]
["","",null,"",null,null,null,null,null,null,null,null,null,null,null,null,null,null,null,null,null,null,null,null,""]
["","",null,"",null,null,null,null,null,null,null,null,null,null,null,null,null,null,null,null,null,null,null,null,""]
["","",null,"",null,null,null,null,null,null,null,null,null,null,null,null,null,null,null,null,null,null,null,null,""]
["","",null,"",null,null,null,null,null,null,null,null,null,null,null,null,null,null,null,null,null,null,null,null,""]
["","",null,"",null,null,null,null,null,null,null,null,null,null,null,null,null,null,null,null,null,null,null,null,""]
["","",null,"",null,null,null,null,null,null,null,null,null,null,null,null,null,null,null,null,null,null,null,null,""]
["","",null,"",null,null,null,null,null,null,null,null,null,null,null,null,null,null,null,null,null,null,null,null,""]
["","",null,"",null,null,null,null,null,null,null,null,null,null,null,null,null,null,null,null,null,null,null,null,""]
["","",null,"",null,null,null,null,null,null,null,null,null,null,null,null,null,null,null,null,null,null,null,null,""]
["","",null,"",null,null,null,null,null,null,null,null,null,null,null,null,null,null,null,null,null,null,null,null,""]
["","",null,"",null,null,null,null,null,null,null,null,null,null,null,null,null,null,null,null,null,null,null,null,""]
["","",null,"",null,null,null,null,null,null,null,null,null,null,null,null,null,null,null,null,null,null,null,null,""]
["","",null,"",null,null,null,null,null,null,null,null,null,null,null,null,null,null,null,null,null,null,null,null,""]
["","",null,"",null,null,null,null,null,null,null,null,null,null,null,null,null,null,null,null,null,null,null,null,""]
["","",null,"",null,null,null,null,null,null,null,null,null,null,null,null,null,null,null,null,null,null,null,null,""]
["","",null,"",null,null,null,null,null,null,null,null,null,null,null,null,null,null,null,null,null,null,null,null,""]
["","",null,"",null,null,null,null,null,null,null,null,null,null,null,null,null,null,null,null,null,null,null,null,""]
["","",null,"",null,null,null,null,null,null,null,null,null,null,null,null,null,null,null,null,null,null,null,null,""]
["","",null,"",null,null,null,null,null,null,null,null,null,null,null,null,null,null,null,null,null,null,null,null,""]
["","",null,"",null,null,null,null,null,null,null,null,null,null,null,null,null,null,null,null,null,null,null,null,""]
["","",null,"",null,null,null,null,null,null,null,null,null,null,null,null,null,null,null,null,null,null,null,null,""]
["","",null,"",null,null,null,null,null,null,null,null,null,null,null,null,null,null,null,null,null,null,null,null,""]
["","",null,"",null,null,null,null,null,null,null,null,null,null,null,null,null,null,null,null,null,null,null,null,""]
["","",null,"",null,null,null,null,null,null,null,null,null,null,null,null,null,null,null,null,null,null,null,null,""]
["","",null,"",null,null,null,null,null,null,null,null,null,null,null,null,null,null,null,null,null,null,null,null,""]
["","",null,"",null,null,null,null,null,null,null,null,null,null,null,null,null,null,null,null,null,null,null,null,""]
["","",null,"",null,null,null,null,null,null,null,null,null,null,null,null,null,null,null,null,null,null,null,null,""]
["","",null,"",null,null,null,null,null,null,null,null,null,null,null,null,null,null,null,null,null,null,null,null,""]
["","",null,"",null,null,null,null,null,null,null,null,null,null,null,null,null,null,null,null,null,null,null,null,""]
["","",null,"",null,null,null,null,null,null,null,null,null,null,null,null,null,null,null,null,null,null,null,null,""]
["","",null,"",null,null,null,null,null,null,null,null,null,null,null,null,null,null,null,null,null,null,null,null,""]
["","",null,"",null,null,null,null,null,null,null,null,null,null,null,null,null,null,null,null,null,null,null,null,""]
["","",null,"",null,null,null,null,null,null,null,null,null,null,null,null,null,null,null,null,null,null,null,null,""]
["","",null,"",null,null,null,null,null,null,null,null,null,null,null,null,null,null,null,null,null,null,null,null,""]
["","",null,"",null,null,null,null,null,null,null,null,null,null,null,null,null,null,null,null,null,null,null,null,""]
["","",null,"",null,null,null,null,null,null,null,null,null,null,null,null,null,null,null,null,null,null,null,null,""]
["","",null,"",null,null,null,null,null,null,null,null,null,null,null,null,null,null,null,null,null,null,null,null,""]
["","",null,"",null,null,null,null,null,null,null,null,null,null,null,null,null,null,null,null,null,null,null,null,""]
["","",null,"",null,null,null,null,null,null,null,null,null,null,null,null,null,null,null,null,null,null,null,null,""]
["","",null,"",null,null,null,null,null,null,null,null,null,null,null,null,null,null,null,null,null,null,null,null,""]
["","",null,"",null,null,null,null,null,null,null,null,null,null,null,null,null,null,null,null,null,null,null,null,""]
["","",null,"",null,null,null,null,null,null,null,null,null,null,null,null,null,null,null,null,null,null,null,null,""]
["","",null,"",null,null,null,null,null,null,null,null,null,null,null,null,null,null,null,null,null,null,null,null,""]
["","",null,"",null,null,null,null,null,null,null,null,null,null,null,null,null,null,null,null,null,null,null,null,""]
["","",null,"",null,null,null,null,null,null,null,null,null,null,null,null,null,null,null,null,null,null,null,null,""]
["","",null,"",null,null,null,null,null,null,null,null,null,null,null,null,null,null,null,null,null,null,null,null,""]
["","",null,"",null,null,null,null,null,null,null,null,null,null,null,null,null,null,null,null,null,null,null,null,""]
["","",null,"",null,null,null,null,null,null,null,null,null,null,null,null,null,null,null,null,null,null,null,null,""]
["","",null,"",null,null,null,null,null,null,null,null,null,null,null,null,null,null,null,null,null,null,null,null,""]
["","",null,"",null,null,null,null,null,null,null,null,null,null,null,null,null,null,null,null,null,null,null,null,""]
["","",null,"",null,null,null,null,null,null,null,null,null,null,null,null,null,null,null,null,null,null,null,null,""]
["","",null,"",null,null,null,null,null,null,null,null,null,null,null,null,null,null,null,null,null,null,null,null,""]
["","",null,"",null,null,null,null,null,null,null,null,null,null,null,null,null,null,null,null,null,null,null,null,""]
["","",null,"",null,null,null,null,null,null,null,null,null,null,null,null,null,null,null,null,null,null,null,null,""]
["","",null,"",null,null,null,null,null,null,null,null,null,null,null,null,null,null,null,null,null,null,null,null,""]
["","",null,"",null,null,null,null,null,null,null,null,null,null,null,null,null,null,null,null,null,null,null,null,""]
["","",null,"",null,null,null,null,null,null,null,null,null,null,null,null,null,null,null,null,null,null,null,null,""]
["","",null,"",null,null,null,null,null,null,null,null,null,null,null,null,null,null,null,null,null,null,null,null,""]
["","",null,"",null,null,null,null,null,null,null,null,null,null,null,null,null,null,null,null,null,null,null,null,""]
["","",null,"",null,null,null,null,null,null,null,null,null,null,null,null,null,null,null,null,null,null,null,null,""]
["","",null,"",null,null,null,null,null,null,null,null,null,null,null,null,null,null,null,null,null,null,null,null,""]
["","",null,"",null,null,null,null,null,null,null,null,null,null,null,null,null,null,null,null,null,null,null,null,""]
["","",null,"",null,null,null,null,null,null,null,null,null,null,null,null,null,null,null,null,null,null,null,null,""]
["","",null,"",null,null,null,null,null,null,null,null,null,null,null,null,null,null,null,null,null,null,null,null,""]
["","",null,"",null,null,null,null,null,null,null,null,null,null,null,null,null,null,null,null,null,null,null,null,""]
["","",null,"",null,null,null,null,null,null,null,null,null,null,null,null,null,null,null,null,null,null,null,null,""]
["","",null,"",null,null,null,null,null,null,null,null,null,null,null,null,null,null,null,null,null,null,null,null,""]
["","",null,"",null,null,null,null,null,null,null,null,null,null,null,null,null,null,null,null,null,null,null,null,""]
["","",null,"",null,null,null,null,null,null,null,null,null,null,null,null,null,null,null,null,null,null,null,null,""]
["","",null,"",null,null,null,null,null,null,null,null,null,null,null,null,null,null,null,null,null,null,null,null,""]
["","",null,"",null,null,null,null,null,null,null,null,null,null,null,null,null,null,null,null,null,null,null,null,""]
["","",null,"",null,null,null,null,null,null,null,null,null,null,null,null,null,null,null,null,null,null,null,null,""]
["","",null,"",null,null,null,null,null,null,null,null,null,null,null,null,null,null,null,null,null,null,null,null,""]
["","",null,"",null,null,null,null,null,null,null,null,null,null,null,null,null,null,null,null,null,null,null,null,""]
["","",null,"",null,null,null,null,null,null,null,null,null,null,null,null,null,null,null,null,null,null,null,null,""]
["","",null,"",null,null,null,null,null,null,null,null,null,null,null,null,null,null,null,null,null,null,null,null,""]
["","",null,"",null,null,null,null,null,null,null,null,null,null,null,null,null,null,null,null,null,null,null,null,""]
["","",null,"",null,null,null,null,null,null,null,null,null,null,null,null,null,null,null,null,null,null,null,null,""]
["","",null,"",null,null,null,null,null,null,null,null,null,null,null,null,null,null,null,null,null,null,null,null,""]
["","",null,"",null,null,null,null,null,null,null,null,null,null,null,null,null,null,null,null,null,null,null,null,""]
["","",null,"",null,null,null,null,null,null,null,null,null,null,null,null,null,null,null,null,null,null,null,null,""]
["","",null,"",null,null,null,null,null,null,null,null,null,null,null,null,null,null,null,null,null,null,null,null,""]
["","",null,"",null,null,null,null,null,null,null,null,null,null,null,null,null,null,null,null,null,null,null,null,""]
["","",null,"",null,null,null,null,null,null,null,null,null,null,null,null,null,null,null,null,null,null,null,null,""]
["","",null,"",null,null,null,null,null,null,null,null,null,null,null,null,null,null,null,null,null,null,null,null,""]
["","",null,"",null,null,null,null,null,null,null,null,null,null,null,null,null,null,null,null,null,null,null,null,""]
["","",null,"",null,null,null,null,null,null,null,null,null,null,null,null,null,null,null,null,null,null,null,null,""]
["","",null,"",null,null,null,null,null,null,null,null,null,null,null,null,null,null,null,null,null,null,null,null,""]
["","",null,"",null,null,null,null,null,null,null,null,null,null,null,null,null,null,null,null,null,null,null,null,""]
["","",null,"",null,null,null,null,null,null,null,null,null,null,null,null,null,null,null,null,null,null,null,null,""]
["","",null,"",null,null,null,null,null,null,null,null,null,null,null,null,null,null,null,null,null,null,null,null,""]
["","",null,"",null,null,null,null,null,null,null,null,null,null,null,null,null,null,null,null,null,null,null,null,""]
["","",null,"",null,null,null,null,null,null,null,null,null,null,null,null,null,null,null,null,null,null,null,null,""]
["","",null,"",null,null,null,null,null,null,null,null,null,null,null,null,null,null,null,null,null,null,null,null,""]
["","",null,"",null,null,null,null,null,null,null,null,null,null,null,null,null,null,null,null,null,null,null,null,""]
["","",null,"",null,null,null,null,null,null,null,null,null,null,null,null,null,null,null,null,null,null,null,null,""]
["","",null,"",null,null,null,null,null,null,null,null,null,null,null,null,null,null,null,null,null,null,null,null,""]
["","",null,"",null,null,null,null,null,null,null,null,null,null,null,null,null,null,null,null,null,null,null,null,""]
["","",null,"",null,null,null,null,null,null,null,null,null,null,null,null,null,null,null,null,null,null,null,null,""]
["","",null,"",null,null,null,null,null,null,null,null,null,null,null,null,null,null,null,null,null,null,null,null,""]
["","",null,"",null,null,null,null,null,null,null,null,null,null,null,null,null,null,null,null,null,null,null,null,""]
["","",null,"",null,null,null,null,null,null,null,null,null,null,null,null,null,null,null,null,null,null,null,null,""]
["","",null,"",null,null,null,null,null,null,null,null,null,null,null,null,null,null,null,null,null,null,null,null,""]
["","",null,"",null,null,null,null,null,null,null,null,null,null,null,null,null,null,null,null,null,null,null,null,""]
["","",null,"",null,null,null,null,null,null,null,null,null,null,null,null,null,null,null,null,null,null,null,null,""]
["","",null,"",null,null,null,null,null,null,null,null,null,null,null,null,null,null,null,null,null,null,null,null,""]
["","",null,"",null,null,null,null,null,null,null,null,null,null,null,null,null,null,null,null,null,null,null,null,""]
["","",null,"",null,null,null,null,null,null,null,null,null,null,null,null,null,null,null,null,null,null,null,null,""]
["","",null,"",null,null,null,null,null,null,null,null,null,null,null,null,null,null,null,null,null,null,null,null,""]
["","",null,"",null,null,null,null,null,null,null,null,null,null,null,null,null,null,null,null,null,null,null,null,""]
["","",null,"",null,null,null,null,null,null,null,null,null,null,null,null,null,null,null,null,null,null,null,null,""]
["","",null,"",null,null,null,null,null,null,null,null,null,null,null,null,null,null,null,null,null,null,null,null,""]
["","",null,"",null,null,null,null,null,null,null,null,null,null,null,null,null,null,null,null,null,null,null,null,""]
["","",null,"",null,null,null,null,null,null,null,null,null,null,null,null,null,null,null,null,null,null,null,null,""]
["","",null,"",null,null,null,null,null,null,null,null,null,null,null,null,null,null,null,null,null,null,null,null,""]
["","",null,"",null,null,null,null,null,null,null,null,null,null,null,null,null,null,null,null,null,null,null,null,""]
["","",null,"",null,null,null,null,null,null,null,null,null,null,null,null,null,null,null,null,null,null,null,null,""]
["","",null,"",null,null,null,null,null,null,null,null,null,null,null,null,null,null,null,null,null,null,null,null,""]
["","",null,"",null,null,null,null,null,null,null,null,null,null,null,null,null,null,null,null,null,null,null,null,""]
["","",null,"",null,null,null,null,null,null,null,null,null,null,null,null,null,null,null,null,null,null,null,null,""]
["","",null,"",null,null,null,null,null,null,null,null,null,null,null,null,null,null,null,null,null,null,null,null,""]
["","",null,"",null,null,null,null,null,null,null,null,null,null,null,null,null,null,null,null,null,null,null,null,""]
["","",null,"",null,null,null,null,null,null,null,null,null,null,null,null,null,null,null,null,null,null,null,null,""]
["","",null,"",null,null,null,null,null,null,null,null,null,null,null,null,null,null,null,null,null,null,null,null,""]
["","",null,"",null,null,null,null,null,null,null,null,null,null,null,null,null,null,null,null,null,null,null,null,""]
["","",null,"",null,null,null,null,null,null,null,null,null,null,null,null,null,null,null,null,null,null,null,null,""]
["","",null,"",null,null,null,null,null,null,null,null,null,null,null,null,null,null,null,null,null,null,null,null,""]
["","",null,"",null,null,null,null,null,null,null,null,null,null,null,null,null,null,null,null,null,null,null,null,""]
["","",null,"",null,null,null,null,null,null,null,null,null,null,null,null,null,null,null,null,null,null,null,null,""]
["","",null,"",null,null,null,null,null,null,null,null,null,null,null,null,null,null,null,null,null,null,null,null,""]
["","",null,"",null,null,null,null,null,null,null,null,null,null,null,null,null,null,null,null,null,null,null,null,""]
["","",null,"",null,null,null,null,null,null,null,null,null,null,null,null,null,null,null,null,null,null,null,null,""]
["","",null,"",null,null,null,null,null,null,null,null,null,null,null,null,null,null,null,null,null,null,null,null,""]
["","",null,"",null,null,null,null,null,null,null,null,null,null,null,null,null,null,null,null,null,null,null,null,""]
["","",null,"",null,null,null,null,null,null,null,null,null,null,null,null,null,null,null,null,null,null,null,null,""]
["","",null,"",null,null,null,null,null,null,null,null,null,null,null,null,null,null,null,null,null,null,null,null,""]
["","",null,"",null,null,null,null,null,null,null,null,null,null,null,null,null,null,null,null,null,null,null,null,""]
["","",null,"",null,null,null,null,null,null,null,null,null,null,null,null,null,null,null,null,null,null,null,null,""]
["","",null,"",null,null,null,null,null,null,null,null,null,null,null,null,null,null,null,null,null,null,null,null,""]
["","",null,"",null,null,null,null,null,null,null,null,null,null,null,null,null,null,null,null,null,null,null,null,""]
["","",null,"",null,null,null,null,null,null,null,null,null,null,null,null,null,null,null,null,null,null,null,null,""]
["","",null,"",null,null,null,null,null,null,null,null,null,null,null,null,null,null,null,null,null,null,null,null,""]
["","",null,"",null,null,null,null,null,null,null,null,null,null,null,null,null,null,null,null,null,null,null,null,""]
["","",null,"",null,null,null,null,null,null,null,null,null,null,null,null,null,null,null,null,null,null,null,null,""]
["","",null,"",null,null,null,null,null,null,null,null,null,null,null,null,null,null,null,null,null,null,null,null,""]
["","",null,"",null,null,null,null,null,null,null,null,null,null,null,null,null,null,null,null,null,null,null,null,""]
["","",null,"",null,null,null,null,null,null,null,null,null,null,null,null,null,null,null,null,null,null,null,null,""]
["","",null,"",null,null,null,null,null,null,null,null,null,null,null,null,null,null,null,null,null,null,null,null,""]
["","",null,"",null,null,null,null,null,null,null,null,null,null,null,null,null,null,null,null,null,null,null,null,""]
["","",null,"",null,null,null,null,null,null,null,null,null,null,null,null,null,null,null,null,null,null,null,null,""]
["","",null,"",null,null,null,null,null,null,null,null,null,null,null,null,null,null,null,null,null,null,null,null,""]
["","",null,"",null,null,null,null,null,null,null,null,null,null,null,null,null,null,null,null,null,null,null,null,""]
["","",null,"",null,null,null,null,null,null,null,null,null,null,null,null,null,null,null,null,null,null,null,null,""]
["","",null,"",null,null,null,null,null,null,null,null,null,null,null,null,null,null,null,null,null,null,null,null,""]
["","",null,"",null,null,null,null,null,null,null,null,null,null,null,null,null,null,null,null,null,null,null,null,""]
["","",null,"",null,null,null,null,null,null,null,null,null,null,null,null,null,null,null,null,null,null,null,null,""]
["","",null,"",null,null,null,null,null,null,null,null,null,null,null,null,null,null,null,null,null,null,null,null,""]
["","",null,"",null,null,null,null,null,null,null,null,null,null,null,null,null,null,null,null,null,null,null,null,""]
["","",null,"",null,null,null,null,null,null,null,null,null,null,null,null,null,null,null,null,null,null,null,null,""]
["","",null,"",null,null,null,null,null,null,null,null,null,null,null,null,null,null,null,null,null,null,null,null,""]
["","",null,"",null,null,null,null,null,null,null,null,null,null,null,null,null,null,null,null,null,null,null,null,""]
["","",null,"",null,null,null,null,null,null,null,null,null,null,null,null,null,null,null,null,null,null,null,null,""]
["","",null,"",null,null,null,null,null,null,null,null,null,null,null,null,null,null,null,null,null,null,null,null,""]
["","",null,"",null,null,null,null,null,null,null,null,null,null,null,null,null,null,null,null,null,null,null,null,""]
["","",null,"",null,null,null,null,null,null,null,null,null,null,null,null,null,null,null,null,null,null,null,null,""]
["","",null,"",null,null,null,null,null,null,null,null,null,null,null,null,null,null,null,null,null,null,null,null,""]
["","",null,"",null,null,null,null,null,null,null,null,null,null,null,null,null,null,null,null,null,null,null,null,""]
["","",null,"",null,null,null,null,null,null,null,null,null,null,null,null,null,null,null,null,null,null,null,null,""]
["","",null,"",null,null,null,null,null,null,null,null,null,null,null,null,null,null,null,null,null,null,null,null,""]
["","",null,"",null,null,null,null,null,null,null,null,null,null,null,null,null,null,null,null,null,null,null,null,""]
["","",null,"",null,null,null,null,null,null,null,null,null,null,null,null,null,null,null,null,null,null,null,null,""]
["","",null,"",null,null,null,null,null,null,null,null,null,null,null,null,null,null,null,null,null,null,null,null,""]
["","",null,"",null,null,null,null,null,null,null,null,null,null,null,null,null,null,null,null,null,null,null,null,""]
["","",null,"",null,null,null,null,null,null,null,null,null,null,null,null,null,null,null,null,null,null,null,null,""]
["","",null,"",null,null,null,null,null,null,null,null,null,null,null,null,null,null,null,null,null,null,null,null,""]
["","",null,"",null,null,null,null,null,null,null,null,null,null,null,null,null,null,null,null,null,null,null,null,""]
["","",null,"",null,null,null,null,null,null,null,null,null,null,null,null,null,null,null,null,null,null,null,null,""]
["","",null,"",null,null,null,null,null,null,null,null,null,null,null,null,null,null,null,null,null,null,null,null,""]
["","",null,"",null,null,null,null,null,null,null,null,null,null,null,null,null,null,null,null,null,null,null,null,""]

{"sheet":"2.Забезпечення","index":1,"n_rows":285,"n_cols":12,"rows_kept":285,"cut":false,"hidden":false,"merged":[[0,1,6,11]]}
[null,"Цей документ був підготовлений Фондом гарантування вкладів фізичних осіб (далі – Фонд) виключно для інформаційних цілей і не повинен вважатися як спонукання до будь-яких дій чи бездіяльності. \nІнформація, що міститься в цьому документі, була отримана з/або ґрунтується на джерелах які вважаються надійними, але не є вичерпною та не може сприйматися як повна або актуальна. Рішення покупця щодо будь яких дій або бездіяльності повинно ґрунтуватися на власних оцінках та дослідженнях майна (активу/активів) котре реалізуються. Фонд не несе відповідальності за рішення покупця та його наслідки, що ґрунтується на інформації викладеній в даному документі."]
[]
[]
[]
[]
[]
[]
[]
["Звітна дата",":","2018-06-01"]
["unicid","Colateral_ID","Банк","№ кред. Дог","Тип застави","Кількість застави","(га, м2, шт., тощо)","Область знаходження застави","Населений пункт (місто/село/смт.)","Сума/вартість за договором (грн.екв.)","Реєстрація у держ. Реєстрі (обтяження)\n(так/ні)","Ознака банкрутства/ліквідації заставодавця/фінансового поручителя(відповідно ЄДР на дату заповнення паспорту)"]
["322465_00149593_1","322465_111280393149593","Контракт","069/2008","обладнання",1,"од.","Київ","Київ",11128039,"ТАК","Банкрутство"]
["322465_00149593_1","322465_124215113149593","Контракт","069/2008","обладнання",80,"од.","Київ","Київ",12421510.199999999,"ТАК","Банкрутство"]
["322465_00149593_1","","Контракт","069/2008","фінансова порука",null,null,null,null,"солідарна відповідальність","НІ","Діюче"]
["322465_00149593_1","","Контракт","069/2008","фінансова порука",null,null,null,null,"солідарна відповідальність","НІ","Діюче"]
["322465_00149593_1","","Контракт","069/2008","фінансова порука",null,null,null,null,"солідарна відповідальність","НІ","Діюче"]
["322465_36632279_2","322465_998500336632279","Контракт","25/2010","обладнання",8,"од.","Київ","Київ",998500,"ТАК","Діюче"]
["322465_36632279_2","","Контракт","25/2010","фінансова порука",null,null,null,null,"солідарна відповідальність","НІ","Діюче"]
["322465_36632279_2","","Контракт","25/2010","фінансова порука",null,"га",null,null,"солідарна відповідальність","НІ","Діюче"]
["322465_21464531_3","322465_9810000321464531","Контракт","73/2013","обладнання",113,"од.","Вінницька","Сутиски",9810000,"ТАК","Діюче"]
["322465_21464531_3","","Контракт","73/2013","фінансова порука",null,null,null,null,"солідарна відповідальність","НІ","Діюче"]
["322465_37026141_4","322465_3725000337026141","Контракт","72/2013","обладнання",10,"од.","Вінницька","Сутиски",3725000,"ТАК","Діюче"]
["322465_37026141_4","","Контракт","72/2013","фінансова порука",null,null,null,null,"солідарна відповідальність","НІ","Діюче"]
["322465_37026141_5","322465_080","Контракт","2","беззаставний"]
["322465_37026141_6","322465_080","Контракт","01/13-А","беззаставний"]
["322465_37026141_7","322465_080","Контракт","03/13-А","беззаставний"]
["322465_37026141_8","322465_080","Контракт","05/13-А","беззаставний"]
["322465_30602673_9","322465_4795801 2864723724","Контракт","15/2014","нерухомість",44.4,"м.кв.","Київ","Київ",479580,"ТАК","Діюче"]
["322465_30602673_9","322465_4755553430602673","Контракт","15/2014","товари",171,"од.","Київ","Київ",4755552.5,"ТАК","Діюче"]
["322465_30602673_9","","Контракт","15/2014","фінансова порука",null,null,null,null,"солідарна відповідальність","НІ","Діюче"]
["300498_39321683_1","300498_080","Національні інвестиції"," 122-14/15-Ф ","беззаставний"]
["300498_39321683_2","300498_080","Національні інвестиції"," 386-13/15-Ф","беззаставний"]
["300498_39321683_3","300498_080","Національні інвестиції"," 17-14/15-Ф ","беззаставний"]
["300498_39321683_4","300498_080","Національні інвестиції"," 478-12/15-Ф","беззаставний"]
["300498_39321683_5","300498_080","Національні інвестиції"," 470-12/15-Ф","беззаставний"]
["300498_39321683_6","300498_080","Національні інвестиції"," 08-13/15-Ф","беззаставний"]
["300498_39321683_7","300498_080","Національні інвестиції"," 231-12/15-Ф","беззаставний"]
["300498_39321683_8","300498_080","Національні інвестиції"," 406-11/15-Ф","беззаставний"]
["300498_39321683_9","300498_080","Національні інвестиції"," 157-13/815/15-Ф","беззаставний"]
["300498_39321683_10","300498_080","Національні інвестиції","149-14/15-Ф","беззаставний"]
["300498_33406185_11","300498_96746533406185","Національні інвестиції","402-13","депозит",1,"од.",null,null,96745.79,"ТАК","Діюче"]
["300498_33406185_11","300498_22800000300545341","Національні інвестиції","402-13","обладнання",476191,"шт.",null,null,22800000,"ТАК","Діюче"]
["380236_14308500_1","380236_419048203114308500","Дельта","04.1/23/07-КЛТ","нерухомість",36896.1,"м.кв.","Херсонська","Херсон",419048202.10000002,"ТАК","Банкрутство"]
["380236_14308500_1","380236_34037282314308500","Дельта","04.1/23/07-КЛТ","обладнання",80,"од.","Херсонська","Херсон",34037281.270000003,"ТАК","Банкрутство"]
["380236_31550511_2","380236_27884439114308500","Дельта","04.1/51/07-КЛТ","нерухомість",13302,"м.кв.","Херсонська","Херсон",27884438.550000001,"ТАК","Банкрутство"]
["380236_31550511_2","380236_84076544314308500","Дельта","04.1/51/07-КЛТ","обладнання",1880,"од.","Херсонська","Херсон",84076543.109999999,"ТАК","Банкрутство"]
["380236_31550511_2","380236_77000000714308500","Дельта","04.1/51/07-КЛТ","фінансова порука",1,"од.","Херсонська","Херсон",77000000,"НІ","Банкрутство"]
["380399_35683118_1","","КАМБІО","004/1-2013/980","Цінні папери",1425993,"шт.",null,null,35000003.219999999,"так","в стані припинення"]
["380399_35683118_1","","КАМБІО","004/1-2013/980","Цінні папери",6410257,"шт.",null,null,7900001.2199999997,"так","в стані припинення"]
["380399_36061733_2","","КАМБІО","013/1-2014/980","Цінні папери",8521351,"шт.",null,null,46526000,"так","припинено"]
["380399_35740940_3","380399_1856994134511901","КАМБІО","606/02-2010","Нерухомість",419.9,"кв.м.","Донецька","Донецьк",1856993.94,"так","не перебуває в процесі припинення"]
["380399_35740940_3","","КАМБІО","606/02-2010","Товари в обороті",3500,"тонн","Вінницька","Бродецьке",3604758.5,"так","не перебуває в процесі припинення"]
["380399_35740940_3","","КАМБІО","606/02-2010","Порука",null,null,null,null,16249000,"ні","не перебуває в процесі припинення"]
["380399_32397777_4","380399_1856994134511901","КАМБІО","608/02-2010","Нерухомість",419.9,"кв.м.","Донецька","Донецьк",1856993.94,"так","не перебуває в процесі припинення"]
["380399_32397777_4","","КАМБІО","608/02-2010","Товари в обороті",3500,"тонн","Вінницька","Бродецьке",3604758.5,"так","не перебуває в процесі припинення"]
["380399_32397777_5","380399_1856994134511901","КАМБІО","610/02-2011","Нерухомість",419.9,"кв.м.","Донецька","Донецьк",1856993.94,"так","не перебуває в процесі припинення"]
["380399_32397777_5","","КАМБІО","610/02-2011","Товари в обороті",3500,"тонн","Вінницька","Бродецьке",3604758.5,"так","не перебуває в процесі припинення"]
["380399_35982130_6","","КАМБІО","104/1-2010/978","товари в обороті",1842.184,"тонн","Харківська","Харків",11300000,"ні","не перебуває в процесі припинення"]
["380399_35982130_6","380399_1000000632710630","КАМБІО","104/1-2010/978","майнові права",null,null,null,null,1000000,"ні","не перебуває в процесі припинення"]
["380399_35982130_7","","КАМБІО","107/1-2010/840","товари в обороті",1390.9259999999999,"тонн","Харківська","Харків",8000000,"ні","не перебуває в процесі припинення"]
["380399_35982130_8","","КАМБІО","109/1-2010/ 978","товари в обороті",1290.7449999999999,"тонн","Харківська","Харків",7800000,"ні","не перебуває в процесі припинення"]
["380399_35982130_8","380399_3800000635982130","КАМБІО","109/1-2010/ 978","майнові права",null,null,null,null,3800000,"ні","не перебуває в процесі припинення"]
["380399_35982130_8","380399_1450000632710630","КАМБІО","109/1-2010/ 978","майнові права",null,null,null,null,1450000,"ні","не перебуває в процесі припинення"]
["380399_35886620_9","","КАМБІО","103/1-2010/840","товари в обороті",4746.2510000000002,"тонн","Донецька","Макіївка",32000000,"так","не перебуває в процесі припинення"]
["380399_30540832_10","","КАМБІО","036/1-2012/980","цінні папери",3186814,"штук",null,null,2900000,"так","в стані припинення"]
["380399_30540832_10","","КАМБІО","036/1-2012/980","цінні папери",3666667,"штук",null,null,11000000,"так","в стані припинення"]
["380399_30540832_10","","КАМБІО","036/1-2012/980","цінні папери",531136,"штук",null,null,17400000,"так","в стані припинення"]
["380399_32091942_11","","КАМБІО","1ю-2014/980","цінні папери",10456345,"штук",null,null,31369035,"ні","в стані припинення"]
["380399_32091942_11","","КАМБІО","1ю-2014/980","цінні папери",7072176,"штук",null,null,22630963,"ні","в стані припинення"]
["380399_38586806_12","","КАМБІО","012/1-2014/980","цінні папери",8412636,"штук",null,null,46606000,"так","в стані припинення"]
["380399_31298029_13","380399_68000012450300548","КАМБІО","536 /02-2010","нерухомість",8.8300000000000003E-2,"га","Донецька","Донецьк",680000,"так"]
["380399_31298029_13","380399_96000013112302852","КАМБІО","536 /02-2010","нерухомість",65.3,"кв.м.","Донецька","Донецьк",960000,"так"]
["380399_31298029_13","","КАМБІО","536 /02-2010","рухоме майно",2,"штуки","Донецька","Донецьк",1440000,"так"]
["380399_31298029_13","380399_3020000631298029","КАМБІО","536 /02-2010","майнові права",null,null,null,null,3020000,"так","не перебуває в процесі припинення"]
["380399_31298029_14","","КАМБІО","190/02-2006","товари в обороті",2230,"позицій","Донецька","Донецьк",1985197.71,"так","не перебуває в процесі припинення"]
["380399_31298029_14","380399_392037372746400332","КАМБІО","190/02-2006","фінансова порука",null,null,null,null,3920372.55,"ні"]
["380399_31298029_14","380399_392037372482600292","КАМБІО","190/02-2006","фінансова порука",null,null,null,null,3920372.55,"ні"]
["380399_31298029_15","","КАМБІО","331/02-2008","товари в обороті",1741,"позицій","Донецька","Донецьк",1106000,"так","не перебуває в процесі припинення"]
["380399_31298029_15","380399_261358272746400332","КАМБІО","331/02-2008","фінансова порука",null,null,null,null,2613581.6999999997,"ні"]
["380399_31298029_15","380399_261358272482600292","КАМБІО","331/02-2008","фінансова порука",null,null,null,null,2613581.6999999997,"ні"]
["380399_24465962_16","380399_65650012450300548","КАМБІО","335/02-2008","нерухомість",66.400000000000006,"кв.м.","Донецька","Донецьк",656500,"так"]
["380399_24465962_16","380399_3000032642813104","КАМБІО","335/02-2008","обладнання",null,null,"Донецька","Новомихайлівка",30000,"ні"]
["380399_24465962_16","","КАМБІО","335/02-2008","товари в обороті",null,null,"Донецька","Донецьк",1200000,"так","не перебуває в процесі припинення"]
["380399_24465962_16","380399_653395572746400332","КАМБІО","335/02-2008","фінансова порука",null,null,null,null,6533954.25,"ні"]
["380399_24465962_16","380399_653395572482600292","КАМБІО","335/02-2008","фінансова порука",null,null,null,null,6533954.25,"ні"]
["380399_3050102644_17","","КАМБІО","801 /06-2014","товари в обороті",725,"одиниць","Донецька","Донецьк",5704150,"так","не перебуває в процесі припинення"]
["380399_3050102644_17","","КАМБІО","801 /06-2014","товари в обороті",1506,"одиниць","Донецька","Донецьк",6586085,"так","не перебуває в процесі припинення"]
["380399_3050102644_17","380399_400000033043517057","КАМБІО","801 /06-2014","обладнання",267,"одиниць","Донецька","Донецьк",4000000,"так","не перебуває в процесі припинення"]
["380399_3050102644_17","380399_1305019672207315428","КАМБІО","801 /06-2014","фінансова порука",null,null,null,null,13050195.720000001,"ні","в стані припинення"]
["380399_3050102644_18","","КАМБІО","742/01-2013","товари в обороті",725,"одиниць","Донецька","Донецьк",5704150,"так","не перебуває в процесі припинення"]
["380399_3050102644_18","","КАМБІО","742/01-2013","товари в обороті",1506,"одиниць","Донецька","Донецьк",6586085,"так","не перебуває в процесі припинення"]
["380399_3050102644_18","380399_400000033043517057","КАМБІО","742/01-2013","обладнання",267,"одиниць","Донецька","Донецьк",4000000,"так","не перебуває в процесі припинення"]
["380399_3050102644_18","380399_907475372248516369","КАМБІО","742/01-2013","фінансова порука",null,null,null,null,9074752.8269999996,"ні"]
["380399_38220095_19","","КАМБІО","712/01-2012","товари в обороті",325400,"штук","Донецька","Донецьк",9000000,"так","в стані припинення"]
["380399_38220095_19","380399_950000072724022993","КАМБІО","712/01-2012","фінансова порука",null,null,null,null,9500000,"ні"]
["380399_38220095_20","","КАМБІО","730/02-2013","товари в обороті",32000,"штук","Донецька","Донецьк",1000000,"так","в стані припинення"]
["380399_33576882_21","380399_40137012719912878","КАМБІО","181/02-2006","нерухомість",109.4,"кв.м.","Донецька","Донецьк",401370,"так"]
["380399_33576882_21","380399_7000000332011411","КАМБІО","181/02-2006","обладнання",1,"одиниця","Донецька","Донецьк",7000000,"так","не перебуває в процесі припинення"]
["380399_33576882_21","380399_1824071072746400332","КАМБІО","181/02-2006","фінансова порука",null,null,null,null,18240709.199999999,"ні"]
["380399_33576882_21","380399_1824071072482600292","КАМБІО","181/02-2006","фінансова порука",null,null,null,null,18240709.199999999,"ні"]
["380399_2049220006_22","","КАМБІО","746/01-2013","рухоме майно",1,"штука","Донецька","Донецьк",231797,"так"]
["380399_2984007153_23","380399_700000130189886","КАМБІО","520/02-2010","нерухомість",207.6,"кв.м.","Донецька","Донецьк",700000,"так","не перебуває в процесі припинення"]
["380399_2984007153_23","380399_104543371796319169","КАМБІО","520/02-2010","фінансова порука",null,null,null,null,1045432.6799999999,"ні"]
["380399_2984007153_23","380399_104543372654400380","КАМБІО","520/02-2010","фінансова порука",null,null,null,null,1045432.6799999999,"ні"]
["380399_2984007153_23","380399_1045433730189886","КАМБІО","520/02-2010","фінансова порука",null,null,null,null,1045432.6799999999,"ні","не перебуває в процесі припинення"]
["380399_2365200553_24","380399_70700012365200553","КАМБІО","307/02-2008","нерухомість",304.10000000000002,"кв.м.","Донецька","Донецьк",707000,"так"]
["380399_36509714_29","380399_38800000637634188","КАМБІО","009/1-2012/980","Майнові права",null,null,null,null,38800000,"так","не перебуває в процесі припинення"]
["380399_35849311_30","","КАМБІО","036/1-2011/980","Товари в обороті",981.69500000000005,"тонн","Чернівецька","Тарасівка",19900000,"так","не перебуває в процесі припинення"]
["380399_35849311_30","380399_6342000635849311","КАМБІО","036/1-2011/980","Майнові права",null,null,null,null,6342000,"так","не перебуває в процесі припинення"]
["380399_37634188_31","380399_24083334637932427","КАМБІО","002/1-2012/980","Майнові права",null,null,null,null,24083333.329999998,"так","не перебуває в процесі припинення"]
["380399_37634188_31","380399_1600000073017219175","КАМБІО","002/1-2012/980","Фінансова порука",null,null,null,null,16000000,"ні"]
["380399_35420835_32","","КАМБІО","589/02-2010","Товари в обороті",2682,"одиниць","Донецька","Донецьк",4867013.17,"так"]
["380399_35420835_32","380399_950000072290600574","КАМБІО","589/02-2010","Фінансова порука",null,null,null,null,9500000,"ні"]
["380399_35420835_32","380399_9500000732466997","КАМБІО","589/02-2010","Фінансова порука",null,null,null,null,9500000,"ні","в стані припинення"]
["380399_35420835_33","","КАМБІО","594/02-2010","Товари в обороті",2682,"одиниць","Донецька","Донецьк",3239689.83,"так"]
["380399_35420835_33","380399_950000072290600574","КАМБІО","594/02-2010","Фінансова порука",null,null,null,null,9500000,"ні"]
["380399_35420835_33","380399_9500000732466997","КАМБІО","594/02-2010","Фінансова порука",null,null,null,null,9500000,"ні","в стані припинення"]
["380399_35420835_34","380399_400000072290600574","КАМБІО","595/02-2010","Фінансова порука",null,null,null,null,4000000,"ні"]
["380399_35420835_34","380399_4000000732466997","КАМБІО","595/02-2010","Фінансова порука",null,null,null,null,4000000,"ні","в стані припинення"]
["380399_36158429_35","380399_15000000636158429","КАМБІО","031/1-2012/840","Майнові права",null,null,null,null,15000000,"так","не перебуває в процесі припинення"]
["380399_36158429_35","380399_6740780636158429","КАМБІО","031/1-2012/840","Майнові права",null,null,null,null,6740780,"так","не перебуває в процесі припинення"]
["380399_36158429_36","380399_29900000637634188","КАМБІО","032/1-2011/980","Майнові права",null,null,null,null,29900000,"так","не перебуває в процесі припинення"]
["380399_36158429_36","380399_5915000637634188","КАМБІО","032/1-2011/980","Майнові права",null,null,null,null,5915000,"так","не перебуває в процесі припинення"]
["380399_36158429_36","380399_42350000633784551","КАМБІО","032/1-2011/980","Майнові права",null,null,null,null,42350000,"так","не перебуває в процесі припинення"]
["380399_36158429_36","","КАМБІО","032/1-2011/980","Товари на складі",15679204,"кг","Полтавська","Артемівка",19975000,"так","не перебуває в процесі припинення"]
["380399_36158429_36","","КАМБІО","032/1-2011/980","Товари на складі",8238131,"кг","Полтавська","Артемівка",9000000,"так","не перебуває в процесі припинення"]
["320995_39230722_1","320995_080","БГ банк","017","беззаставний"]
["380537_31650398_1","380537_800000431650398","ВіЕйБі","65","товари",null,null,"Житомирська","Новогуйвинськ",800000]
["380537_31650398_1","380537_072750008432","ВіЕйБі","65","фінансова порука"]
["380537_34155850_2","380537_859216234155850","ВіЕйБі","11-07/юр","транспорт",1,"шт.",null,null,859215.6]
["380537_34155850_2","380537_0734505681","ВіЕйБі","11-07/юр","фінансова порука"]
["380537_34155850_2","380537_0733471898","ВіЕйБі","11-07/юр","фінансова порука"]
["380537_2510502091_3","380537_50900012510502091","ВіЕйБі","1/07-SME","нерухомість",220.4,"м.кв.","Луганська","Алчевськ",509000]
["380537_2510502091_3","380537_072378520948","ВіЕйБі","1/07-SME","фінансова порука"]
["380537_2510502091_4","380537_147876212510502091","ВіЕйБі","3/07-SME","нерухомість",985.2,"м.кв.","Луганська","Алчевськ",1478762]
["380537_2510502091_4","380537_072378520948","ВіЕйБі","3/07-SME","фінансова порука"]
["300670_20118873_1","300670_1487050620118873","Хрещатик",1,"майнові права",297.41000000000003,"м.кв.","Вінницька","Вінниця",1487050,null,"В стані припинення (крім банкрутства)"]
["300670_20118873_1","300670_19850754620118873","Хрещатик",1,"майнові права",4726.37,"м.кв.","Вінницька","Вінниця",19850754,null,"В стані припинення (крім банкрутства)"]
["300670_20118873_1","300670_7713250620118873","Хрещатик",1,"майнові права",1542.65,"м.кв.","Вінницька","Вінниця",7713250,null,"В стані припинення (крім банкрутства)"]
["300670_20118873_1","300670_2978150620118873","Хрещатик",1,"майнові права",595.63,"м.кв.","Вінницька","Вінниця",2978150,null,"В стані припинення (крім банкрутства)"]
["300670_20118873_1","300670_4568455620118873","Хрещатик",1,"майнові права",null,null,"Вінницька","Вінниця",4568455,null,"В стані припинення (крім банкрутства)"]
["300670_20118873_1","300670_6470368620118873","Хрещатик",1,"майнові права",null,null,"Вінницька","Гайсин (Гайсинська райдержадміністрація)",6470368,null,"В стані припинення (крім банкрутства)"]
["300670_20118873_1","300670_27294246620118873","Хрещатик",1,"майнові права",null,null,null,null,27294246,null,"В стані припинення (крім банкрутства)"]
["300670_20118873_1","300670_100062264818130","Хрещатик",1,"майнові права",null,null,null,null,1000]
["300670_20118873_1","300670_072264818130","Хрещатик",1,"фінансова порука"]
["300670_20118873_2","300670_1487050620118873","Хрещатик",1,"майнові права",297.41000000000003,"м.кв.","Вінницька","Вінниця",1487050,null,"В стані припинення (крім банкрутства)"]
["300670_20118873_2","300670_19850754620118873","Хрещатик",1,"майнові права",4726.37,"м.кв.","Вінницька","Вінниця",19850754,null,"В стані припинення (крім банкрутства)"]
["300670_20118873_2","300670_7713250620118873","Хрещатик",1,"майнові права",1542.65,"м.кв.","Вінницька","Вінниця",7713250,null,"В стані припинення (крім банкрутства)"]
["300670_20118873_2","300670_2978150620118873","Хрещатик",1,"майнові права",595.63,"м.кв.","Вінницька","Вінниця",2978150,null,"В стані припинення (крім банкрутства)"]
["300670_20118873_2","300670_100062264818130","Хрещатик",1,"майнові права",null,null,null,null,1000]
["300670_20118873_2","300670_072264818130","Хрещатик",1,"фінансова порука"]
["300670_20118873_3","300670_1487050620118873","Хрещатик",1,"майнові права",297.41000000000003,"м.кв.","Вінницька","Вінниця",1487050,null,"В стані припинення (крім банкрутства)"]
["300670_20118873_3","300670_19850754620118873","Хрещатик",1,"майнові права",4726.37,"м.кв.","Вінницька","Вінниця",19850754,null,"В стані припинення (крім банкрутства)"]
["300670_20118873_3","300670_7713250620118873","Хрещатик",1,"майнові права",1542.65,"м.кв.","Вінницька","Вінниця",7713250,null,"В стані припинення (крім банкрутства)"]
["300670_20118873_3","300670_2978150620118873","Хрещатик",1,"майнові права",595.63,"м.кв.","Вінницька","Вінниця",2978150,null,"В стані припинення (крім банкрутства)"]
["300670_20118873_3","300670_1454320620118873","Хрещатик",1,"майнові права",793.73,"м.кв.","Вінницька","Вінниця",1454320,null,"В стані припинення (крім банкрутства)"]
["300670_20118873_3","300670_100062264818130","Хрещатик",1,"майнові права",null,null,null,null,1000]
["300670_20118873_3","300670_062264818130","Хрещатик",1,"майнові права"]
["300670_32480723_4","300670_104000432480723","Хрещатик",1,"товари",80,"м.куб.","Чернігівська","Чернігів",104000,null,"Діюче"]
["300670_32480723_4","300670_48600332480723","Хрещатик",1,"обладнання",null,null,"Чернігівська","Чернігів",48600,null,"Діюче"]
["300670_32480723_4","300670_072635513937","Хрещатик",1,"фінансова порука"]
["300670_32480723_4","300670_072635513937","Хрещатик",1,"фінансова порука",null,null,null,null,null,null,"Діюче"]
["300670_32480723_4","300670_0737487786","Хрещатик",1,"фінансова порука",null,null,null,null,null,null,"Діюче"]
["300175_36590318_1","300175_60000000236590318","ФІДОБАНК","293","транспорт",1,"шт.","Київ","Київ",60000000,"ТАК","Діюче"]
["328210_34994243_1","328210_42010000135057914","ІНВЕСТБАНК","№03-11","нерухомість",2,"га","Київська","Мартусівка",42010000,"ТАК","Діюче"]
["328210_38784870_2","328210_5818006138784870","ІНВЕСТБАНК","№21/13","нерухомість",3,"м.кв.","Львівська","Корчин",5818005.5700000003,"ТАК"]
["328210_39297263_3","328210_39637000134618912","ІНВЕСТБАНК","№38-15","нерухомість",2,"га","Київська","Глибочка",39637000,"ТАК"]
["328210_39537084_4","328210_1694200013035421932","ІНВЕСТБАНК","№42-15","нерухомість",1,"га","Київська","Гнідин",16942000,"ТАК"]
["328210_39686484_5","328210_25000000039686484","ІНВЕСТБАНК","№54-15","інше",1,"шт.",null,null,25000000,"ТАК"]
["328210_38129500_6","328210_8577422139431646","ІНВЕСТБАНК","№29-16","нерухомість",7,"м.кв.","Київьска","Обухів",8577422,"так"]
["328210_33915151_7","328210_4002424133915151","ІНВЕСТБАНК","№75/10 ","нерухомість",8,"м.кв.","Миколаївська","Первомайське (Первомайська)",4002424,"так","Діюче"]
["328210_35998313_8","328210_75052000134260616","ІНВЕСТБАНК","№02/15","нерухомість",1,"га","Київська ","Гнідинська сільська рада",75052000,"так","Діюче"]
["328210_35998313_8","328210_1126800013237010302","ІНВЕСТБАНК","№02/15","нерухомість",1.1845000000000001,"га","Київська","Глибочка",11268000,"ТАК","Діюче"]
["328210_30913888_9","328210_7157426330913889","ІНВЕСТБАНК","№37-11","обладнання",2,"шт.","Одеська","Одеса",7157425.5700000003,"так","Діюче"]
["328210_30913888_10","328210_725768330913888","ІНВЕСТБАНК","№118-13","обладнання",1,"шт.","Одеська","Одеса",725767.71,"так","Діюче"]
["328210_30913888_11","328210_2047174330913888","ІНВЕСТБАНК","№107-13","обладнання",1,"шт.","Одеська","Одеса",2047173.62,"так","Діюче"]
["328210_32067160_12","328210_5950749332067160","ІНВЕСТБАНК","№77-12","обладнання",1,"шт.","Одеська","Одеса",5950748.3300000001,"так","Діюче"]
["328210_32067160_13","328210_5940749332067160","ІНВЕСТБАНК","№50-15/ОД","обладнання",1,"шт.","Одеська","Одеса",5940748.3300000001,"так","Діюче"]
["328210_34807752_14","328210_4345612912337730503","ІНВЕСТБАНК","№31-15","нерухомість",6,"га","Київська ","Підгірцівська сільська рада, Долинська сільська рада",43456129,"так"]
["328210_32641358_15","","ІНВЕСТБАНК","№19-16/ОД"]
["328210_36611505_16","","ІНВЕСТБАНК","№05/11"]
["328210_36611505_17","","ІНВЕСТБАНК","№16/11"]
["328210_36611505_18","","ІНВЕСТБАНК","№41/11"]
["328210_36611505_19","","ІНВЕСТБАНК","№67/10"]
["328210_36611505_20","328210_1000050","ІНВЕСТБАНК","№78/10","депозит",1,"шт.",null,null,10000]
["380388_35696310_1","380388_36815639435818634","Платинум Банк","173/07/13","товари","-","шт.","Одеська","Одеса",36815638.32,"ТАК","Діюче"]
["380388_35696310_1","380388_1420480435818634","Платинум Банк","173/07/13","товари","-","шт.","Одеська","Одеса",1420479.5,"ТАК","Діюче"]
["380388_35696310_1","380388_1107520035818634","Платинум Банк","173/07/13","інше","-","шт.","Одеська","Одеса",1107520,"ТАК","Діюче"]
["380388_35818634_2","380388_36815639435818634","Платинум Банк","04/01/14","товари","-","шт.","Одеська","Одеса",36815638.32,"ТАК","Діюче"]
["380388_35818634_2","380388_1420480435818634","Платинум Банк","04/01/14","товари","-","шт.","Одеська","Одеса",1420479.5,"ТАК","Діюче"]
["380388_35818634_2","380388_1107520035818634","Платинум Банк","04/01/14","інше","-","шт.","Одеська","Одеса",1107520,"ТАК","Діюче"]
["380388_33865394_3","380388_3124518633865394","Платинум Банк","141/12/12","майнові права","-",null,"Одеська","Одеса",3124517.9,"ТАК","Діюче"]
["380388_33865394_3","380388_4236239633865394","Платинум Банк","141/12/12","майнові права","-",null,"Одеська","Одеса",4236238.8,"ТАК","Діюче"]
["380388_33865394_3","380388_3375452633865394","Платинум Банк","141/12/12","майнові права","-",null,"Одеська","Одеса",3375451.2,"ТАК","Діюче"]
["380388_20596199_4","380388_310000077662411028","Платинум Банк","REF.2011101094","фінансова порука","-",null,"Київська","Підгірці",3100000,"НІ"]
["380388_20596199_4","380388_310000072649415695","Платинум Банк","REF.2011101094","фінансова порука","-",null,"Київська","Підгірці",3100000,"НІ"]
["380388_20596199_4","380388_310000072151315771","Платинум Банк","REF.2011101094","фінансова порука","-",null,"Київська","Підгірці",3100000,"НІ"]
["380388_20596199_5","380388_310000077662411028","Платинум Банк","BDL.2011101095","фінансова порука","-",null,"Київська","Підгірці",3100000,"НІ"]
["380388_20596199_5","380388_310000072649415695","Платинум Банк","BDL.2011101095","фінансова порука","-",null,"Київська","Підгірці",3100000,"НІ"]
["380388_20596199_5","380388_310000072151315771","Платинум Банк","BDL.2011101095","фінансова порука","-",null,"Київська","Підгірці",3100000,"НІ"]
["334969_25093876_1","334969_151910012285326802","Укрбізнесбанк","20","нерухомість",161.5,"м.кв.","Донецька","Донецьк",1519100,"ТАК","Діюче"]
["334969_25093876_1","334969_78280325093876","Укрбізнесбанк","20","обладнання",5,"од.","Донецька","Донецьк",78280,"НІ","Діюче"]
["334969_25093876_1","334969_177500072285326802","Укрбізнесбанк","20","фінансова порука",1,"од.","Донецька","Донецьк",1775000,"НІ","Діюче"]
["334969_25093876_1","334969_177500072301624636","Укрбізнесбанк","20","фінансова порука",1,"од.","Донецька","Донецьк",1775000,"НІ","Діюче"]
["300205_00273991_1","300205_14500000300273991","УПБ",1,"обладнання",null,"шт.","м.Київ","місто ",14500000,"ТАК","не перебуває в процесі припинення"]
["300205_00273991_1","300205_500000400273991","УПБ",1,"Товари",null,"шт.","м.Київ","місто ",500000,"ТАК","не перебуває в процесі припинення"]
["380474_2764519369_1","","ТРАСТ","450","вантажний автомобіль; причіп",2,"шт","Дніпропетровська","Дніпропетровськ",271045.59999999998,"так","ні"]
["322465_00149593_1","","Контракт","","депозит",1,null,"Київ","Київ",22517440]
["300852_12345678_1","300852_080","Активбанк","Договора відповідно реєстру","беззаставний"]
[0,"","Фінанси та Кредит","217-ОД","рухоме майно",11,"шт.","Запорізька","м.Вільнянськ",185527.96,"так","в стані припинення"]
[0,"300131_93750324913656","Фінанси та Кредит","217-ОД","обладнання",8,"од.","Запорізька","м.Вільнянськ",93750,"так","в стані припинення"]
[0,"300131_73068324913656","Фінанси та Кредит","217-ОД","обладнання",9,"од.","Запорізька","м.Вільнянськ",73068,"так","в стані припинення"]
[0,"","Фінанси та Кредит","217-ОД","порука","-","-","-","Германія",1200000,"-","-"]
[0,"300131_487465324913656","Фінанси та Кредит","463V-01-08","обладнання",1,"лінія","Запорізька","м.Вільнянськ",487465,"так","в стані припинення"]
[0,"","Фінанси та Кредит","463V-01-08","порука","-","-","-","Германія",67569,"-","-"]
[0,"300131_40000324913656","Фінанси та Кредит","462-01-08","обладнання",1,"од.","Запорізька","м.Вільнянськ",40000,"так","в стані припинення"]
[0,"","Фінанси та Кредит","462-01-08","порука","-","-","-","Германія",28000,"-","-"]
[0,"300131_60520324913656","Фінанси та Кредит","382-01-07","обладнання",1,"од.","Запорізька","м.Вільнянськ",60520,"так","в стані припинення"]
[0,"","Фінанси та Кредит","382-01-07","порука","-","-","-","Германія",42364,"-","-"]
[0,"300131_784563112723600074","Фінанси та Кредит","83-10/07","нерухомість",550.20000000000005,"м2","Миколаївська","м.Миколаїв",7845630.8399999999,"так","-"]
[0,"300131_74383312940616036","Фінанси та Кредит","29v-01-08","нерухомість",1710,"м2","Харківська ","Бригадирівка",743832.92,"так","не перебуває в процесі припинення"]
[0,"","Фінанси та Кредит","29v-01-08","порука","-","-","Харківська ","Бригадирівка",4730050.4526000004,"-","-"]
[0,"","Фінанси та Кредит","29v-01-08","порука","-","-","Харківська ","Бригадирівка",4730050.4526000004,"-","-"]
[0,"","Фінанси та Кредит","29v-01-08","порука","-","-","Харківська ","Харків",4730050.4526000004,"-","-"]
[0,"","Фінанси та Кредит","29v-01-08","порука","-","-","Харківська ","Бригадирівка",4730050.4526000004,"-","-"]
["328210_25934519_1","","ІНВЕСТБАНК"," №41-12 "]
["328210_36043557_2","328210_1676694436043557","ІНВЕСТБАНК"," №94-13","товари",1,"шт.","Одеська","Одеса",1676693.82,"так"]
["328210_36170760_3","","ІНВЕСТБАНК","№111-11"]
["328210_36170760_4","328210_466034437913692","ІНВЕСТБАНК","№112-11/ОД","товари",3,"шт.",null,null,466033.02,"так"]
["328210_36170760_5","","ІНВЕСТБАНК","№18-12"]
["328210_36170760_6","","ІНВЕСТБАНК","№88-10"]
["328210_37913692_7","","ІНВЕСТБАНК","№30-12/ОД"]
["380236_30797217_1","380236_1358351230797217","Дельта","13/008/2009-КЛТ","транспорт",3,"од.","Луганська","Алчевськ",1358351,"ТАК","Діюче"]
["380236_30797217_2","380236_10060000130797217","Дельта","13/035/2008-К","нерухомість",1468.6,"м.кв.","Луганська","Алчевськ",10060000,"ТАК","Діюче"]
["380236_30797217_3","380236_3674121130797217","Дельта","13/039/2008-КЛТ","нерухомість",791.8,"м.кв.","Луганська",null,3674121,"ТАК","Діюче"]
["380236_30797217_3","380236_6045557130797217","Дельта","13/039/2008-КЛТ","нерухомість",852.9,"м.кв.","Луганська","Алчевськ",6045557,"ТАК","Діюче"]
["380236_30797217_4","380236_22087382130797217","Дельта","13/050/2007-К","нерухомість",30003.7,"м.кв.","Луганська","Алчевськ",22087381.949999999,"ТАК","Діюче"]
["380236_30797217_5","380236_838553230797217","Дельта","13/051/2007-К","транспорт",2,"од.","Луганська","Алчевськ",838552.5,"ТАК","Діюче"]
["380236_30797217_6","380236_315460230797217","Дельта","13/085/2007-К","транспорт",1,"од.","Луганська","Алчевськ",315460,"ТАК","Діюче"]
["380236_34619476_1","380236_10017562434619476","Дельта","НКЛ-2005484/1","товари",434.98,"т",null,null,10017561.68,"ТАК","Діюче"]
["380236_34619476_1","380236_3960000634619476","Дельта","НКЛ-2005484/1","майнові права",126.09699999999999,"т",null,null,3960000,"ТАК","Діюче"]
["380236_34619476_1","380236_5180000634619476","Дельта","НКЛ-2005484/1","майнові права",140,"т",null,null,5180000,"ТАК","Діюче"]
["380236_34619476_1","380236_1350500634619476","Дельта","НКЛ-2005484/1","майнові права",36.5,"т",null,null,1350500,"ТАК","Діюче"]
["380236_34619476_1","380236_1110000634619476","Дельта","НКЛ-2005484/1","майнові права",30,"т",null,null,1110000,"ТАК","Діюче"]
["380236_34619476_1","380236_340000634619476","Дельта","НКЛ-2005484/1","майнові права",9200,"т",null,null,340000,"ТАК","Діюче"]
["380236_34619476_1","380236_1480000634619476","Дельта","НКЛ-2005484/1","майнові права",40,"т",null,null,1480000,"ТАК","Діюче"]
["380236_34619476_1","380236_2590000634619476","Дельта","НКЛ-2005484/1","майнові права",70,"т",null,null,2590000,"ТАК","Діюче"]
["380236_34619476_1","380236_3789250634619476","Дельта","НКЛ-2005484/1","майнові права",1,"шт.",null,null,3789250,"ТАК","Діюче"]
["380236_34619476_1","380236_280000634619476","Дельта","НКЛ-2005484/1","майнові права",1,"шт.",null,null,280000,"ТАК","Діюче"]
["380236_34619476_1","380236_265000634619476","Дельта","НКЛ-2005484/1","майнові права",1,"шт.",null,null,265000,"ТАК","Діюче"]
["380236_34619476_1","380236_5963163434619476","Дельта","НКЛ-2005484/1","товари",259,"т",null,null,5963162.8399999999,"ТАК","Діюче"]
["380236_34619476_1","380236_17972000634619476","Дельта","НКЛ-2005484/1","майнові права",1,"шт.",null,null,17972000,"ТАК","Діюче"]
["380236_34619476_1","380236_4056273872444400450","Дельта","НКЛ-2005484/1","фінансова порука",1,"шт.","Київ","Київ",40562737.75,"ТАК","Інше"]
["380236_34619476_2","380236_581500062444400450","Дельта","НКЛ-2005484/2","майнові права",4,"шт.","Київ","Київ",5815000,"ТАК","Інше"]
["380236_34619476_2","380236_10003771434619476","Дельта","НКЛ-2005484/2","товари",451.16,"т",null,null,10003770.880000001,"ТАК","Діюче"]
["380236_34619476_2","380236_1231021472444400450","Дельта","НКЛ-2005484/2","фінансова порука",1,"шт.","Київ","Київ",12310213.49,"ТАК","Інше"]
["380236_34046074_3","380236_753745334046074","Дельта","НКЛ-2002859","обладнання",24,"од.","Київ","Київ",753744.76,"ТАК","Діюче"]
["380236_34046074_3","380236_150000060","Дельта","НКЛ-2002859","майнові права",1,"од.",null,null,1500000,"ТАК"]
["380236_34046074_3","380236_4400060","Дельта","НКЛ-2002859","майнові права",1,"од.",null,null,44000,"ТАК"]
["380236_34046074_3","380236_4600060","Дельта","НКЛ-2002859","майнові права",1,"од.",null,null,46000,"ТАК"]
["380236_34046074_3","380236_48491937334046074","Дельта","НКЛ-2002859","обладнання",5612,"од.",null,null,48491936.759999998,"ТАК","Діюче"]
["380236_34046074_3","380236_12090000072720724854","Дельта","НКЛ-2002859","фінансова порука",1,"од.","Київ","Київ",120900000,"ТАК","Інше"]
["380236_34046074_3","380236_12090000072294621858","Дельта","НКЛ-2002859","фінансова порука",1,"од.","Київ","Київ",120900000,"ТАК","Інше"]
["380236_34046074_3","380236_6400000072720724854","Дельта","НКЛ-2002859","фінансова порука",1,"од.","Київ","Київ",64000000,"ТАК","Інше"]
["380236_34046074_4","380236_150000060","Дельта","НКЛ-2002859/1","майнові права",1,"од.",null,null,1500000,"ТАК"]
["380236_34046074_4","380236_4400060","Дельта","НКЛ-2002859/1","майнові права",1,"од.",null,null,44000,"ТАК"]
["380236_34046074_4","380236_4600060","Дельта","НКЛ-2002859/1","майнові права",1,"од.",null,null,46000,"ТАК"]
["380236_34046074_4","380236_48491937334046074","Дельта","НКЛ-2002859/1","обладнання",5612,"од.",null,null,48491936.759999998,"ТАК","Діюче"]
["380236_34046074_4","380236_12090000072720724854","Дельта","НКЛ-2002859/1","фінансова порука",1,"од.","Київ","Київ",120900000,"ТАК","Інше"]
["380236_34046074_4","380236_12090000072294621858","Дельта","НКЛ-2002859/1","фінансова порука",1,"од.","Київ","Київ",120900000,"ТАК","Інше"]
["380236_31758184_6","380236_50514902331758184","Дельта","№04/69/07-КЛТ","обладнання",13,"од.","Полтавська",null,50514901.986990005,"ТАК","В стані припинення (крім банкрутства)"]
["380236_31758184_6","380236_20630462431758184","Дельта","№04/69/07-КЛТ","товари",534396,"од.","Полтавська",null,20630461.313217703,"ТАК","В стані припинення (крім банкрутства)"]
["380236_31758184_6","380236_19496946331618588","Дельта","№04/69/07-КЛТ","обладнання",1,"од.","Полтавська",null,19496945.585653201,"ТАК","Банкрутство"]
["380236_31758184_6","380236_30117546331758184","Дельта","№04/69/07-КЛТ","обладнання",43,"од.","Полтавська",null,30117545.5,"ТАК","В стані припинення (крім банкрутства)"]
["380236_31758184_6","380236_29119948131758184","Дельта","№04/69/07-КЛТ","нерухомість",3971,"м.кв.","Полтавська",null,29119947.636360001,"ТАК","В стані припинення (крім банкрутства)"]
["380236_31758184_6","380236_398533333090494","Дельта","№04/69/07-КЛТ","обладнання",54,"од.","Полтавська",null,398532.38501650002,"ТАК","В стані припинення (крім банкрутства)"]
["380236_31758184_6","380236_163383038331618588","Дельта","№04/69/07-КЛТ","обладнання",951,"од.","Полтавська",null,163383037.5930669,"ТАК","Банкрутство"]
["380236_31758184_6","380236_64424263331758184","Дельта","№04/69/07-КЛТ","обладнання",2861,"од.","Полтавська",null,64424262.445127204,"ТАК","В стані припинення (крім банкрутства)"]
["380236_31758184_6","380236_5202308331758184","Дельта","№04/69/07-КЛТ","обладнання",4,"од.","Полтавська",null,5202307.8671116,"ТАК","В стані припинення (крім банкрутства)"]
["380236_31758184_6","380236_2320547331758184","Дельта","№04/69/07-КЛТ","обладнання",4,"од.","Полтавська",null,2320546.1432153,"ТАК","В стані припинення (крім банкрутства)"]
["380236_31758184_6","380236_44794585331758184","Дельта","№04/69/07-КЛТ","обладнання",4,"од.","Полтавська",null,44794584.908080004,"ТАК","В стані припинення (крім банкрутства)"]
["380236_31758184_6","380236_1852200333660345","Дельта","№04/69/07-КЛТ","обладнання",13,"од.","Полтавська",null,1852200,"ТАК","Банкрутство"]
["380236_31758184_6","380236_4267264331758184","Дельта","№04/69/07-КЛТ","обладнання",4,"од.","Полтавська",null,4267263.3597999997,"ТАК","В стані припинення (крім банкрутства)"]
["380236_31758184_6","380236_1180062636300116","Дельта","№04/69/07-КЛТ","майнові права",1,"од.","Полтавська",null,11800,"ТАК","Інше"]
["380236_31758184_6","380236_1031853298731618588","Дельта","№04/69/07-КЛТ","фінансова порука",1,"од.","Полтавська",null,1031853298,"ТАК","Банкрутство"]
["380236_31758184_6","380236_1031853298733090494","Дельта","№04/69/07-КЛТ","фінансова порука",1,"од.","Дніпропетровська","Дніпро (Дніпропетровськ)",1031853298,"ТАК","В стані припинення (крім банкрутства)"]

{"sheet":"3.ППР","index":2,"n_rows":1540,"n_cols":17,"rows_kept":1540,"cut":false,"hidden":false,"merged":[[0,1,4,16]]}
[null,"Цей документ був підготовлений Фондом гарантування вкладів фізичних осіб (далі – Фонд) виключно для інформаційних цілей і не повинен вважатися як спонукання до будь-яких дій чи бездіяльності. \nІнформація, що міститься в цьому документі, була отримана з/або ґрунтується на джерелах які вважаються надійними, але не є вичерпною та не може сприйматися як повна або актуальна. Рішення покупця щодо будь яких дій або бездіяльності повинно ґрунтуватися на власних оцінках та дослідженнях майна (активу/активів) котре реалізуються. Фонд не несе відповідальності за рішення покупця та його наслідки, що ґрунтується на інформації викладеній в даному документі."]
[]
[]
[]
[]
[]
["unicid","Банк","№ кред. Дог","Розгляд справи у суді",null,null,null,"ДВС",null,null,"Банкрутство",null,null,null,null,null,"Кримінальне провадження за кредитною угодою\n(Так/Ні)"]
[null,null,null,"Предмет спору","Відповідач (позичальник/поручитель)","Дата надіслання вимоги / претензії","Дати звернення до суду","Дата провадження","Процесс (Так/Ні)","Реалізація майна (Так/Ні)","Дата провадження","Банк заявлений як кредитор (Так/Ні)","Банк внесенний в реєстр кредиторів (Так/Ні)","Дата визнання позичальника банкрутом","Дата визнання підприємства ліквідованим","Банкрутство фінансового поручителя"]
["322465_00149593_1","Контракт","069/2008","банкрутство","Позичальник","2010-05-18","2010-08-03",null,"НІ",null,"2010-05-17","ТАК","ТАК","2013-09-11",null,null,"ТАК"]
["322465_30602673_9","Контракт","15/2014","інше","3-і особи","2015-10-28","2016-06-03",null,"НІ"]
["322465_30602673_9","Контракт","15/2014","інше","3-і особи","2015-10-28","2016-06-03"]
["322465_30602673_9","Контракт","15/2014","інше","3-і особи","2015-10-28","2016-06-09"]
["322465_30602673_9","Контракт","15/2014","інше","3-і особи","2015-10-28","2016-07-28"]
["322465_30602673_9","Контракт","15/2014","інше","3-і особи","2015-10-28","2016-05-27"]
["322465_30602673_9","Контракт","15/2014","інше","3-і особи","2015-10-28","2017-06-15"]
["300498_39321683_1","Національні інвестиції"," 122-14/15-Ф ","інше","Позичальник","2018-03-23",null,null,"НІ",null,null,null,null,null,null,null,"НІ"]
["300498_39321683_2","Національні інвестиції"," 386-13/15-Ф","інше","Позичальник","2018-03-23",null,null,"НІ",null,null,null,null,null,null,null,"НІ"]
["300498_39321683_3","Національні інвестиції"," 17-14/15-Ф ","інше","Позичальник","2018-03-23",null,null,"НІ",null,null,null,null,null,null,null,"НІ"]
["300498_39321683_4","Національні інвестиції"," 478-12/15-Ф","інше","Позичальник","2018-03-23",null,null,"НІ",null,null,null,null,null,null,null,"НІ"]
["300498_39321683_5","Національні інвестиції"," 470-12/15-Ф","інше","Позичальник","2018-03-23",null,null,"НІ",null,null,null,null,null,null,null,"НІ"]
["300498_39321683_6","Національні інвестиції"," 08-13/15-Ф","інше","Позичальник","2018-03-23",null,null,"НІ",null,null,null,null,null,null,null,"НІ"]
["300498_39321683_7","Національні інвестиції"," 231-12/15-Ф","інше","Позичальник","2018-03-23",null,null,"НІ",null,null,null,null,null,null,null,"НІ"]
["300498_39321683_8","Національні інвестиції"," 406-11/15-Ф","інше","Позичальник","2018-03-23",null,null,"НІ",null,null,null,null,null,null,null,"НІ"]
["300498_39321683_9","Національні інвестиції"," 157-13/815/15-Ф","інше","Позичальник","2018-03-23",null,null,"НІ",null,null,null,null,null,null,null,"НІ"]
["300498_39321683_10","Національні інвестиції","149-14/15-Ф","інше","Позичальник","2018-03-23",null,null,"НІ",null,null,null,null,null,null,null,"НІ"]
["300498_33406185_11","Національні інвестиції","402-13","стягнення заборгованості","Позичальник","2016-06-24","2017-10-06",null,"НІ",null,null,null,null,null,null,null,"НІ"]
["380236_14308500_1","Дельта","04.1/23/07-КЛТ","інше",null,"не відомо","2014 рік",null,null,null,"2014-08-04","ТАК","ТАК","2016-07-19","ні","ні","ні"]
["380236_31550511_2","Дельта","04.1/51/07-КЛТ","стягнення заборгованості","Позичальник","невідомо","2014 рік",null,null,null,"2015-03-26","ТАК","ТАК","2015-07-14","2017-09-19","так","ні"]
["380236_14308500_1","Дельта",1,"стягнення заборгованості","Позичальник","не відомо","2012 рік",null,null,null,null,null,null,null,null,null,"ні"]
["380236_14308500_1","Дельта",1,"інше",null,"не відомо","2016 рік",null,null,null,null,null,null,null,null,null,"ні"]
["380236_14308500_1","Дельта",1,"стягнення заборгованості","Позичальник","не відомо","2017 рік",null,null,null,null,null,null,null,null,null,"ні"]
["380236_14308500_1","Дельта",1,"стягнення забезпечення",null,"не відомо","2016 рік",null,null,null,null,null,null,null,null,null,"ні"]
["380236_14308500_1","Дельта",1,"інше",null,null,"2015 рік",null,null,null,null,null,null,null,null,null,"ні"]
["380236_14308500_1","Дельта",1,"інше",null,null,"2015 рік",null,null,null,null,null,null,null,null,null,"ні"]
["380399_35683118_1","КАМБІО","004/1-2013/980","1. Стягнення заборгованості за кредитним договором у господарському суді Донецької області в розмірі 44062927,61грн. Звернення стягнення на цінні попепери не здійснювалось, оскільки останні обезцінені.                                                  2. в ЄДР зазначена інформація про здійснення ліквідації Позичальника його власниками. заяву з кредиторськими вимогами направити не маємо змоги, окільки Боржник зареєстрований у м. Донецьк (Зона АТО). 3. Порушено справу про банкрутство у господарському суді донецької області. 03.02.2015 направлено заяву про визнання кредиторських вимог на загальну суму 57 095 858,00грн.","Позичальник","2015-02-18","05.08.2015; 03.02.2016","28.01.2016 - відмовлено у відкритті (у звязку із банкротством. Постанова Господарського суду Донецької області від 20.01.2016 р.); 26.01.2016 - Наказ № 905/1318/15 подано на виконання до ВПВР ДДВС; 20.01.2016 - видано оригінал наказу. 11.01.2016 - в задоволенні заяви про виправлення описки відмовлено; 11.11.2015 -  відмовлено у відкритті вик.провадження (Затертості в наказі); 05.11.2015 - наказ  подано на виконання до ВПВР ДДВС МЮУ у м. Києві. 02.11.2015 - отримано наказ Господарського суду Донецької області. ","ні","ні","2016-01-13","Так","Так","2016-01-20",null,null,"Ні"]
["380399_36061733_2","КАМБІО","013/1-2014/980","1. Подано заяву про визнання кредиторських вимог та включення до проміжного ліквідаційного балансу 2.  Подано заяву до господарського суду Донецької області про визнання банку кредитором на суму 45 418 675,35 грн. 20.01.2016 року ухвалою суду визнані кредиторськи вимоги банку у загальному розмірі 45 208 902,10грн.","Позичальник","2014-12-19","17.08.2015; 11.11.2015",null,"ні","ні","2015-09-17","Так","Так","2015-10-12","2017-11-22",null,"Ні"]
["380399_35740940_3","КАМБІО","606/02-2010","1. Стягнення заборгованості за кредитним договором 18 539 402,80 гривень у господарському суді Донецької області.\n2. Звернення стягнення на предмет іпотеки ТОВ \"ЕСД\" в господарському суді Донецької області.    Стягнення за договором поруки не відбувалось, оскільки порука припинена на підставі ст. 559 ЦК.  ","Позичальник; Поручитель",null,"25.08.2015; 25.08.2015.","  2)04.12.2017 - ухвала суду про відмову від скарги по ТОВ \"Екологічним системам Донбасу\" ; ;16.11.2017 - ухвала про відкладення на 04.12.2017 р. (не дійшли оригінали документів на відклик скарги); 13.11.2017 - відкрито виконавче провадження ВП № 55135401 ід. 36ВД7ГГВА001 - по ТОВ \"Екологічні системи Донбасу\" ;02.11.2017 - до Ворошиловського ВДВС подано заяву  про відкриття на Наказ про звернення стягнення (100 тис.грн.) на майно ТОВ \"Екологічні системи Донбасу); 04.10.2017  ухвала суду пропризначення справи по Ворошиловському ВДВС на 25.10.2017 р. - 11-30 час;  Подано скаргу на дії ДВС до суду; 17.07.2017 - наказ № 905/1714/15 подано на виконання до Ворошиловського ВДВС в частині звернення  стягнення 100 000,00 грн. (відстуні кошти на авансування в повному обсязі);31.07.2017 -  відмова у відкритті оскільки сума авансового внеску не дорівнює 2% по наказу № 905/1714/15;  30.03.2017 - ухвала ВГСУ про відмову ВДВС у задоволенні клопотання про відстрочення сплати судового сбору; 31.01.2017 - банком подано повторно скаргу на дії ДВС; 13.02.2017 - апеляцію ВДВС без задоволеняя (наказ № 905/1714/15 -  ТОВ \"Екологічні системи Донбасу\";  04.01.2017 - банком подано відзив на апелцію; 29.12.2016 - ДВС подано апеляцію; 21.12.2016 - наказ та ухвалу направлено до ВПВР ДДВС (Рильського); 12.12.2016 - скаргу банку задоволено. 07.12.2016 - направлено заяву про розгляд без нашої участі скарги на дії ДВс по  ТОВ \"Екологічні системи Донбасу\"; Відкладено розгляд скарги на 12.12.2016 р.; 15.11.2016 - направлено заяву про підтримку скарги та розгляд без нашої участі; справу призначено до розгляду на 30.11.2016 р. 31.10.2016 - подано скаргу на дії ДВС до Господарського суду Донецької обл.; 12.10.2016 - повідомлення про повернення (не заналежністью, сума предїявлення змінилась); 04.10.2016 - наказ № 905/1714/15  подано повторно до ВПВР ДДВС (Рильського) - по Ек.системи Донбасу; Державним виконавцем отримано відповідь з реєстру на нерухоме майна - іпотечне майно зареєстровано в Донецьку (зона АТО) готують постанову про повернення по ТОВ \"Еко.системи Донбасу\"; 03.03.2016 -  отримано Наказ № 905/1714/15 Господарського суду Донецької області про звернення стягнення в рахунок погашення заборгованості за кредитним договором № 606/02-2010 на нерухоме майно ТОВ \"Екологічні  системи Донбасу\"; 04.08.2016 - наказ № 1714/15 про зверення стягнення на майно ТОВ \"Екологічні системи Донбасу\" повернуто без виконання (зона АТО); 24.03.2016 - наказ № 905/1714/15  про звернення стягнення на нежитлові приміщення подано на виконання до ВПВР ДДВС (Рильського);  31.03.2016 - відкрито виконавче провадження про звернення стягнення на нежитлові приміщення (№ 50665000; ід. 50Е06ДВГА235); 31.03.2016 - постанова про арешт майна4 Отримано відповіді щодо майна: Держсільгоспінспекція - трактори, сільсько господарська техніка та інші механізми не зареєстровані. Національна комісія цінних паперів - відсутні. Держгеокадастр України - права на земельні ділянки відстуні. Державна авіаційна служба - цивільні повітряні судна не зареєстровані;Управління Держпраці  -  технологічні транспортні засоби, підіймальні споруди, парові та водогрійні котли, посудини, що працюють під тиском, трубопроводи - не зареєстровані.  Згідно відомостей з державного реєстру речових прав на нерухоме майно - нерухомість у Вінницькій області, Козятинський район, смт. Бродецьке, вул. Робітнича, 44 - власник ПП \"МЕГАМЕТ\" (Крим). Держ.виконавцем  перевіряється вказана інформація;  Іпотечне майно передано МЕГАМЕТ по договору переуступки боргу. наказ.22.10.2015 - наказ № 905/1713/15  подано на виконання до ВПВР ДДВС.  15.06.2016 - подано заяву про проведення опису застави - цукру;  30.10.2015 - відкрито виконавче провадження у ВПВР ДДВС МЮУ; 30.10.2015 р. - постанова про відкриття виконавчогопровадження № 49186473. 30.10.2015 - постанова про арешт всього майна; 23.11.2015 - постанова про арешт коштів у банку \"Аваль\";  16.11.2016 р. - державним виконавцем цукру не виявлено, складено акт. 21.02.2017 - заяву про кримінальне правопорушення направлено до Маріїнського ВП Волноваського ВП ГУНП в Донецькій області- по Укрпрозбуду. Призначено слідчого. Проведена перевірка викладених фактів - горсовет -не володіє інформацією щодо підприємства; будівля - після обстріу, розрушена; директор -Подобна, Асланова -зареєстрован у м.Донецьк. Матеріали передані до Куйбишевського РВ поліції м.Донецька ( м.Покровськ, Донецької облсті) за місцем скоення злочину (кредит було видано в м.Донецьку); ЄДР № 12017050410000920 від 07.04.2017 р. слідчий Покровського ВП ГУНП  Марін Андрій Юрійович. ЖЕО № 3607 від 06.04.2017 р.","Так","Ні",null,null,null,null,null,null,"так"]
["380399_32397777_4","КАМБІО","608/02-2010","Стягнення заборгованості за кредитним договором, у сумі 13 174 656,28 грн. (Звернення стягнення на предмет іпотеки, який належить  ТОВ \"Екологічні системи Донбасу\" відбувається в рамках кредиту ТОВ \"Мар`їнський УКРПРОМЗБУТ\" (Розповсюдження іпотеки))","Позичальник",null,"2015-08-25","25.01.2018 - винесена постанова про арешт коштів боржника; 26.01.2016 - згідно відомостей з державного реєстру речових прав на нерухоме майно - нерухомість, на яку можливо звернути стягнення не виявлено. (нерухомість зареєстрованв м.Донецьку - зона АТО); 26.10.2015 - постанова про відкриття виконавчого провадження № 49126675.22.10.2015 - наказ № 905/1712/15  подано на виконання до ВПВР ДДВС. 19.09.2016 - постанова про повернення (майно відсутнє). 04.10.2016 - наказ подано повторно до ВПВР ДДВС (Рильського); 12.10.2016 - повідомлення про повернення (не заналежністью, сума пред'явлення змінилась); 31.10.2016 - подано скаргу на дії ДВС до Господарського суду Донецької обл.; 09.11.2016 - подано додаткові пояснення до скарги та документи; Скаргу призначено на 22.12.2016 р.;  28.12.2016 - ухвала суду скаргу задоволено частково;01.02.2017 - постанова про арешт всього майна; 30.01.2017 - повторне відкриття ВП № 53302973 ід. 541376В7ВВ93; 20.02.2017 - Ухвала апеляційного суду м.Донецьк скаргу ДВС залишено без задоволення; ","Так","ні",null,null,null,null,null,null,"так"]
["380399_32397777_5","КАМБІО","610/02-2011","Стягнення заборгованості за кредитним договором у розмірі 5 512 001,56 грн.  (Звернення стягнення на предмет іпотеки, який належить  ТОВ \"Екологічні системи Донбасу\" відбувається в рамках кредиту ТОВ \"Мар`їнський УКРПРОМЗБУТ\" (Розповсюдження іпотеки))","Позичальник",null,"2015-08-25","06.06.2017 р. - отримано відповідь про те,що на виконанні перебуває ВП № 50531000 та проводяться виконавчі дії. Виявлено майно - приміщення 141,3 кв.м., підвальне приміщення - 198,7 кв. - зона АТО; 13.04.2016 -винесена постанова  про розшук авто у кількості 12 одиниць.; 18.03.2016 - відкрито виконавче провадження № 50531000, ід. 9ГВ5Е05ДБ2ДА; 11.02.2016 - наказ № 905/1711/15 - направлено на виконання до ВПВР Донецької області; 26.01.2016 - скаргу банку задоволено; готується на подачу до ВДВС; Призначено на 26.01.2016 - 11-30 час; 11.12.2015  - банком подана скарга на дії ВПВР у Донецькій області; 02.12.2015 - постанова про відмову у відкритті виконавчого провадження у звязку із АТО; 04.11.2015 - наказ пред\"явлено на виконання до ВДВС у Донецькій області. 02.11.2015 - отримано наказ господарського суду. ","Так","ні",null,null,null,null,null,null,"так"]
["380399_35982130_6","КАМБІО","104/1-2010/978","Подано позов про стягнення заборгованості за кредитним договором (звернення стягнення на товари в обороті не подавалися, адже їх надавав сам боржник)","Позичальник","2015-01-15","2015-07-22","17.11.2016 - постанова про повернення. Строк повторної подачі до 17.11.2019 р. (майно, кошти, предмет застави -відсутні); 19.09.2016 - направлено доручення до ВДВС м.Харківа щодо перевірки наявності предмету застави (по трем кр.договорам); 16.06.2016 - постанова про відкриття ВП № 51429066 ід. В1В7Д887А68Е; 07.06.2016 - наказ подано повторно; 21.10.2015 -  отримано наказ Господарського суду м. Києва про стягнення боргу, який готується на предявлення до ВДВС. 19.11.2015 - наказ№ 910/18834/15  подано до ВПВР ДДВС МЮУ;     23.11.2015 - відкрито виконавче провадження № 49447745;                  27.03.2015р.23.11.2015 - постанова про арешт всього майна; 29.01.2016 - постанова про арешт коштів; 01.04.2016 - постанова про повернення наказу № 910/18834/15  у звязку із відстуністю майна;  Банком направлено до прокуратури міста Києва заяву про вчинення кримінального правопорушення. 22.10.2015 до прокуратури було направлено запит про надання відомостей; 08.06.2017р. ВЧЕТВЕРТЕ спрямовано запит про стан кримінального провадждення (поновлення провадження, вручення памятки потерпілої особи та ін.) до НП (до відома та контролю прокуратура № 6). ТРЕТЄ ЗВЕРНЕННЯ 27.03.2017р. (Степанчук). 20.01.2017 - вих № 04/116 повторно направлено запит про стан кримінального провадження; 29.12.2016 - вих. 04/2790  запит про надання відомостей;","так","ні",null,null,null,null,null,null,"так"]
["380399_35982130_7","КАМБІО","107/1-2010/840","Подано позов про стягнення заборгованості за кредитним договором (звернення стягнення на товари в обороті не подавалися, адже їх надавав сам боржник)","Позичальник","2015-01-15","1) 11.02.2014; 2) 28.04.2014; 3) 03.07.2014; 4) 08.09.2014","17.11.2016 - постанова про повернення. Строк повторної подачі до 17.11.2019 р. (майно, кошти, предмет застави -відсутні); 19.09.2016 - направлено доручення до ВДВС м.Харківа щодо перевірки наявності предмету застави (по трем кр.договорам);17.06.2016 - постанова про відкриття ВП № 51428931 ід. 9Г321Б11Б6ГВ;  07.06.2016 - наказ подано повторно;01.04.2016 - постанова про повернення наказу № 910/18565/15 у звязку із відстуністю майна;  21.01.2016 - винесена постанова проарешт коштів; 07.12.2015 - державним виконавцем отримано  відмості  з реєстру прав власностіна нерухмое майно, з єдиного реєстру заборон відчуження обєктів нерухмого майна,  відмості з державного реєстру іпотек  -  нерухомість не виявлена. 11.11.2015 - постанова про арешт майна; 11.11.2015 -  відкрито виконавче провадження № 49342286 ід.6ЕЕГ7659А32Г; 05.11.2015 - наказ № 910/18565/15 пред'явлено на виконання до ВПВР ДДВС МЮУ.  02.11.2015 - отримано наказ господарського суду.27.03.2015р. Банком направлено до прокуратури міста Києва заяву про вчинення кримінального правопорушення. 22.10.2015 до прокуратури було направлено запит про надання відомостей","так","ні",null,null,null,null,null,null,"так"]
["380399_35982130_8","КАМБІО","109/1-2010/ 978","Подано позов про стягнення заборгованості за кредитним договором (звернення стягнення на товари в обороті не подавалися, адже їх надавав сам боржник)","Позичальник","2015-01-15","2015-07-20","17.11.2016 - постанова про повернення. Строк повторної подачі до 17.11.2019 р. (майно, кошти, предмет застави -відсутні); 19.09.2016 - направлено доручення до ВДВС м.Харківа щодо перевірки наявності предмету застави (по трем кр.договорам);17.06.2016 - постанова про відкриття ВП № 51428931 ід. 9Г321Б11Б6ГВ;  07.06.2016 - наказ подано повторно;01.04.2016 - постанова про повернення наказу № 910/18565/15 у звязку із відстуністю майна;  21.01.2016 - винесена постанова проарешт коштів; 07.12.2015 - державним виконавцем отримано  відмості  з реєстру прав власностіна нерухмое майно, з єдиного реєстру заборон відчуження обєктів нерухмого майна,  відмості з державного реєстру іпотек  -  нерухомість не виявлена. 11.11.2015 - постанова про арешт майна; 11.11.2015 -  відкрито виконавче провадження № 49342286 ід.6ЕЕГ7659А32Г; 05.11.2015 - наказ № 910/18565/15 пред'явлено на виконання до ВПВР ДДВС МЮУ.  02.11.2015 - отримано наказ господарського суду.27.03.2015р. Банком направлено до прокуратури міста Києва заяву про вчинення кримінального правопорушення. 22.10.2015 до прокуратури було направлено запит про надання відомостей; 08.06.2017р. ВЧЕТВЕРТЕ спрямовано запит про стан кримінального провадждення (поновлення провадження, вручення памятки потерпілої особи та ін.) до НП (до відома та контролю прокуратура № 6). ТРЕТЄ ЗВЕРНЕННЯ 27.03.2017р. (Степанчук). 20.01.2017 - вих № 04/116 повторно направлено запит про стан кримінального провадження; 29.12.2016 - вих. 04/2790  запит про надання відомостей;","Так","Ні",null,null,null,null,null,null,"так"]
["380399_35886620_9","КАМБІО","103/1-2010/840","До господарського суду м.Києва подано позов про стягнення кредитної заборгованості в розмірі 1 288 752,53 дол США. Позов подано з заявою про відстрочення сплати судового збору (заставодавцем товарів в обороті є боржник за кредитним договором)","Позичальник","2015-02-18","2015-11-03","27.12.2017 р. - постанова про повернення ВП № 52006487 по ТОВ \"Логістик Гарант\"; 19.08.2017 - постанова про арешт всього майна - по ТОВ \"Логістик Гарант\" - ВП № 52006487;22.02.2017 - постанова про арешт коштів; 22.08.2016 - постанова про відкриття ВП № 52006487 ід. А8АЕ4573Б194;  12.08.2016 - наказ повторно направлено на виконання; 08.06.2016 - постанова про повернення (МАЙНО ВІДСУТНЄ); 01.03.2016 - державним виконавцем  отримана інофрмація з реєстру прав власності на нерухоме майно, з  єдиного реєстру заборони відчуження обєктів нерухмого майна, з державного реєстру іпотек -  НЕРУХОМЕ МАЙНО ВІДСУТНЄ;  24.02.2016 - постанова про арешт коштів боржника; 09.02.2016 - постанова про відкриття виконавчого провадження № 50091873 ід. 58А8Д487А9В3;  03.02.2016 - наказ № 910/28402/15 подано на виконання  до ВПВР ДДВС (Рильського); 27.03.2015р. Банком направлено до прокуратури міста Києва заяву про вчинення кримінального правопорушення щодо Філіпенка І.Ю., Бровді Р.Й., Кірієнка М.І., Огороднікова О.П., Сухана С.В., Вороніна І.О., Піщеренка А.В., Середи О.П., Остапка А.М., Арбітмана Е.Д., Рубана М.С., Деревльової Г.О., Сарафінюка О.В. (посадові особи ТОВ «Хліб Інвестбуд», ТОВ «ЕКОЛЮБ», ТОВ «УКНК «Транс-Юг», ТОВ «Еко Континент», ТОВ «Логістик Гарант», ТОВ «ТРАНС-ЮГ Трейдінг», ТОВ «Оіл Рівер», ТОВ «КДС Груп», ТОВ «ЕНЕРТЕР», ТОВ «Транспортна група»). 22.10.2015 до прокуратури було направлено запит про надання відомостей щодо результатів розгляду заяви банку від 27.03.2015р. Листом прокуратури м. Києва від 30.10.2015р. повідомлено про те, що відповідне досудове розслідування здійснюється прокуратурою Печерського району м. Києва. 16.11.2015р. банком до прокуратури Печерського району м. Києва спрямовано запит. Супровідним листом органу прокуратури від 24.11.2015р. повідомлено про те, що прокуратурою внесено відомості до ЄРДР за № 42015100060000085, досудове розслідування здійснюється Слідчим відділом Печерського управління поліції, останнього зобов’язано поінформувати банк про результат розгляду його запиту. 25.12.2015р. до СВ Печерського управління поліції спрямовано черговий запит про стан досудового розслідування. 25.01.2016р. надіслано черговий запит до органу поліції.08.06.2017р. ВЧЕТВЕРТЕ спрямовано запит про стан кримінального провадждення (поновлення провадження, вручення памятки потерпілої особи та ін.) до НП (до відома та контролю прокуратура № 6). ТРЕТЄ ЗВЕРНЕННЯ 27.03.2017р. (Степанчук). 20.01.2017 - вих № 04/116 повторно направлено запит про стан кримінального провадження; 29.12.2016 - вих. 04/2790  запит про надання відомостей;  05.12.2017 вих.04/1581 - подано клопотання про долучення документів по ТОВ \"Еколюб\" , по ТОВ \"Логістік Гарант\";","Так","Ні",null,null,null,null,null,null,"так"]
["380399_30540832_10","КАМБІО","036/1-2012/980","1). Заява про визнання кредиторських вимог та включення до проміжного ліквідаційного блансу на суму 21 787 876,99 коп. у звязку з припиненням за рішенням власника. Боржник заноходиться в м. Донецьк (АТО).            2). Справа про банкрутство. ","Позичальник","2015-02-18","18.09.2015    10.02.2015",null,"ні","ні","2016-01-13","так","так",null,null,null,"ні"]
["380399_32091942_11","КАМБІО","1ю-2014/980","1. Подано заяву про визнання кредиторських вимог та включення до проміжного ліквідаційного балансу                 2. До господарського суду Донецької області подано заяву про визнання банку кредитором на суму 46 370 839,36 грн.","Позичальник","2014-12-19","17.08.2015\n 11.11.2015",null,"ні","ні",null,"так","так","2015-10-12",null,null,"ні"]
["380399_38586806_12","КАМБІО","012/1-2014/980","1)  ТОВ \"ВЕЙВ ІНДАСТРІ\" направлено вимогу про визнання кредиторських вимог та включення до проміжного ліквідаційного балансу; 2) до господарського суду Донецької області направлено заяву про визнання кредиторських вимог в справі про банкрутство на суму 39 834 187,52 грн.","Позичальник","2014-12-19","1) 06.08.2015;\n2) 16.09.2015",null,"ні","ні","2015-08-13","так","так",null,"2018-06-04",null,"ні"]
["380399_31298029_13","КАМБІО","536 /02-2010","1) стягнення суми заборгованності за кредитним договором з Позичальника у Господарському суді Донецької області в сумі 463338,83 ДОЛ США;\n2) Звернення стягнення на предмет іпотеки Семенової О.Л. (Павлоградський міськрайонний суд Дніпропетровської області)                                                                3) Звернення стягнення на предмет іпотеки (іпотекодавець Бойченко П.Г., Селидівський міський суд Донецької області);                                                                  4) Звернення стягнення на предмет застави авто (заставодавець Саіді Харун та Саіді Оксана) Селидівський міський суд Донецької області); Зверення стягнення на майнові права не відбувалось, оскільки руху коштів по контракту не відбувалось та контракт вже зупинив свою дію. ","Позичальник, Поручитель",null,"1) 29.08.2015;\n2) 29.08.2015\n3) 29.08.2015;\n4) 29.08.2015;","28.03.2017 - постанова про повернення наказу № 905/1807/15 (майно відсутнє) - по ТОВ \"ТД Ландорра\" ; 07.02.2017 - постанова про арешт коштів; 10.10.2016 - постанова пр арешт. Відкрито повторно ВП № 52607283 ід ВГДГ4119АВ70; 04.10.2016 - наказ подано повторно до ВПВР ДДВС (Рильського) - по ТОВ ТД Ландорра; 21.07.2016 -постанова про повернення по ТОВ \"ТД Ландорра\"; 18.05.2016  - постанова про арешт коштів; Державним виконавцем отримано відповіді - транспорту не зареєстровано, нерухомість відстуня,  чотири рахунки арештовані; 24.12.2015 - отримано наказ Господарського суду № 905/1807/15 про стягнення за кредитним договором № 536/02-2010 463 338,83 дол. США;26.01.2016 - наказ № 905/1897/15 подано до ВПВР ДДВС;  28.01.2016 - постанова про відмову у відкритті (не вірно вказано назву підприємства); 26.01.2016 - наказ № 905/1897/15 подано до ВПВР ДДВС; 11.01.2016 - направлена заява до суду про виправлення описки; 01.03.2016 - заява банку задоволена. Виправлена описка;  24.03.2016 - наказ № 905/1807/15 подано на виконання до ВПВР ДДВС (Рильського);  01.04.2016 - відкрито виконавче провадження № 50664937 ід. В1 ВБ4Б7Д330Д - по ТОВ \"Ландорра\"; 01.04.2016 - постанова про арешт майна - по ТОВ \"Ландорра\"; 21.07.2016 - постанова про повернення (майно відсутнє); 2) отримано рішення та виконавий лист № 185/9730/15-ц про звернення стягнення на земельну ділянку по Семеновій О.Л.18.05.2016 - відкрито ВП № 51157578 ід. 76509Б75А654 - по Семеновій О.Л; 23.05.2017 - отримано відповідь про хід виконання по Семеновій О;  Отримано рішення та два виконавчих листа № 242/3866/15-ц про звернення  стягненння на авто Саіді Харун, Саіді Оксани Володимирівни  463 338, 83 дол. США;  24.05.2016 - виконвчий лист про зверенння  стягнення на авто Саіді Харун - направлено до ВДВС Ворошиловського РУЮ; відмова у вдіркитті (не за належністью); 09.08.2016 - лист напрвлено до ВПВР ДДВС (Рильського) ; 15.08.2016 - відкрито ВП № 51936425 ід. 3068Е6Г794ЕБ - по Саіді Харун ;  12.09.2016 -постанова про розшук по Саіді Харун;  03.02.2017 - постанова про закінчення по Саіді Харун (рішення скасовано. Вик.лист направлено до суду);виконавчий лист про  зверення стягнення на авто Саіді Оксани - направлено до ВДВС Ворошиловського  РУЮ; 07.06.2016 - відмова у відкритті ВП (не за належністью); 22.07.2016 - направлено до ВПВР ДДВС (Рильського);25.07.2016 - постанова про відкриття ВП № 51753653 ід. 44Б 202А3915Г; 25.07.2016 - постанова про арешт;- по Саіді Оксані; 25.07.2016 - постанова про ареш авто; 19.08.2016 - постанова про розшук по Саіді Оксані;  08.02.2017 - постанова про закінчення по СаідіОксані (рішення скасовано. Вик. лист направлено до суду);3)  09.09.2016 - відкрито ВП № 52151129 ід 659710836123 (по Бойченко П.Г.);19.08.2016 - отримано виконавий лист № 242/3865/15-ц про звернення стягнення на майно Бойченко П.Г.         30.08.2016 - вик.лист направлено на виконання до ВПВР ДДВС;       26.10.2016 - постанова про повернення (зона АТО).","Так","ні",null,null,null,null,null,null,"так"]
["380399_31298029_14","КАМБІО","190/02-2006","Стягнення заборгованості за кредитним договором у розмірі 180 367,12 дол США     Звернення стягнення на предмет застави не здійснювалось, оскільки сам Позичальник є Заставодавцем.  Стягнення боргу з поручителів не відбувалось, оскільки договори поруки припенені на підставі ст. 559 ЦК","Позичальник, Поручитель",null,"2015-08-26","25.02.2016 - постанова про відкриття виконавчого провадження № 50295884 (ід. 4483Е977990Д); 12.02.2016 - апеляцію ВДВС повернуто без розгляду; 10.02.2016 - отримано апеляцію ВПВР ГТУЮ у Донецькій області; 02.02.2016 - наказ та ухвалу про зобовязання відкрити виконавче провадження направлено до ВПВР УДВС ГУЮ у Донецькій області; 19.01.2016 - скаргу банку задоволено. Призначено на 19.01.2016 - 10-15 р.; 16.11.2015  - банком подана скарга на дії ДВС; 04.11.2015 - постанова державного виконавця про відмову у відкритті виконавчого провадження у звязку із АТО; 22.10.2015 - наказ № 905/1729/15  подано на виконання до ВПВР УДВС ГУЮ у Донецькій області.   12.10.2015 - рішення Господарського суду про стягнення коштів. ","Так","ні",null,null,null,null,null,null,"ні"]
["380399_31298029_15","КАМБІО","331/02-2008","Стягнення заборгованості за кредитним договором в Господарському суді Донецької області в розмірі 105276,85дол. США На товари в обороті звернення стягнення не здійснювалось, оскільки Позичальник є Заставодавцем. Договори поруки припинені у 2010 році на підставі ст. 559 ЦК.","Позичальник, Поручитель",null,"2015-08-26","06.06.2017 - отримано відповідь про хід виконання (постанова про арешт, іпотека - зона АТО);; 12.08.2016 - направлено заяву про хід виконання (виявлення рухомого/нерухмого майна) 05.05.2016 - відкрито ВП № 51007789; 23.02.2016 - направлено заяву про хід виконання; 22.10.2015 - наказ № 905/1728/15  подано на виконання до ВДВС Ворошиловського РУЮ у м.Донецьку.12.10.2015 - рішення Господарського суду про стягнення коштів. ","Так","ні",null,null,null,null,null,null,"ні"]
["380399_24465962_16","КАМБІО","335/02-2008","1) Подано позов до господарського суду Донецької області про стягнення заборгованості за кредитним договором;                 2) подано позов до Павлоградського міськрайонного суду Дніпропетровської області про звернення стягнення на предмет іпотеки та стягнення заборгованості за кредитним договором. Позови подано з заявою про відстрочення сплати судового збору.","Позичальник, Поручитель",null,"2015-11-04","20.06.2011р. банком вчинено виконавчий напис на договорі іпотеки.","ні","ні",null,null,null,null,null,null,"ні"]
["380399_3050102644_17","КАМБІО","801 /06-2014","Стягнення заборгованості за кредитним договором та договором поруки (Бондаренко І.О.) в розмірі 14445033,96грн позов щодо товарів в обороті (одяг у м. Донецьк, Комаров) не подавався, оскільки майно давно відсутнє.","Позичальник, Поручитель","2015-01-19","2015-08-25","03.04.2018 - до Господарського суду Донецької області направлено заяву про видачу ДУБЛІКАТУ наказу; Отримано відповідь Вишгородського ВДВС, про те що на виконанні наказ відстуній; 28.02.2018 - до Вишгородского ВДВС направлено заяву про наявність на виконанні наказу № 905/1706/15; 26.02.2018 р. - відповідь про те, що вик.провадження завершено, а наказ направлено до Вишгородського ДВС ГТУЮ у Київській області ;  09.12.2016- відповідь Словянського ВДВС вик лист № 905/1706/15 направлено до Вишгородського ВДВС ГТУЮ у Київській області (працює м.Нові Петрівці) ; 17.11.2016 - направлено заяву про хід виконання; 30.05.2016 - відкрито ВП № 51245763 ід. 694Б21В0ЕВ90; 01.06.2016 - направлено заяву про хід виконання;25.05.2016 - хід виконання (ел.пошта); 30.10.2015 року до ВДВС подано Наказ № 905/1706/15 до виконання Ворошиловського ВДВС у м.Донецьку - по ФОП Бондаренко Оксані;  19.09.2016 -постанова про закінчення (працює  в м.Нові Петрівці).  04.10.2016 - Вишгородським ВДВС  відмовлено у відкритті; Повторне відкриття ВП № 53137977 ід. 24134А664075 - по ФОП Бондаренко О.О.; 30.08.2016 - два виконавчих листа про стягненя з Бондаренко Ірини та Бондаренко Оксани 14 445 033,96 грн. направлено до ВПВР ДДВС (Рильського); 15.08.2016 - отримано два виконавчих листа про солідарне стягненя з Бондаренко Ірини та Бондаренко оксани 14 445 033,96 грн. 06.09.2016 - постанова про відкриття ВП № 52113832 ід. 9Г1778ВЕА9Е4 - по Бондаренко Ірині; 07.09.2016 - постанова про відкриття ВП 52113859 ід. ВБВВ487064Г0 - по Бондаренко Оксані; 08.06.2016 - постанова про арешт всього майна по Бондаренко Оксані;  ","Так","ні",null,null,null,null,null,null,"ні"]
["380399_3050102644_18","КАМБІО","742/01-2013","стягнення заборгованості за кредитним договором у сумі 1 713,10Євро з Позичальника.  позов щодо товарів в обороті (одяг у м. Донецьк, Комаров) не подавався, оскільки майно давно відсутнє.","Позичальник","2015-01-19","2015-08-25","02/05/2018 - отримано дублікат наказу, готується направлення на виконання; Справу призначено до розгляду на  18.04.2018 р.; 03.04.2018 - до Господарського суду Донецької області направлено заяву про видачу ДУБЛІКАТУ наказу; Отримано відповідь Вишгородського ВДВС, про те що на виконанні наказ відстуній; 28.02.2018 - до Вишгородского ВДВС направлено заяву про наявність на виконанні наказу № 905/1706/15;  26.02.2018 р. - відповідь про те, що вик.провадження завершено, а наказ направлено до Вишгородського ДВС ГТУЮ у Київській області ;  Відкрито ВП №51245763  ід. 694Б21В0ЕВ90;  19.01.2018 - направлено заяву про хід виконання;19.01.2018 - направлено заяву про хід виконання; 09.12.2016- відповідь Словянського ВДВС наказ № 905/1706/15 направлено до Вишгородського ВДВС ГТУЮ у Київській області (працює м.Нові Петрівці) ; 17.11.2016 - направлено заяву про хід виконання; 30.05.2016 - відкрито ВП № 51245763 ід. 694Б21В0ЕВ90; 01.06.2016 - направлено заяву про хід виконеання;25.05.2016 - хід виконання (ел.пошта); 30.10.2015 року до ВДВС подано Наказ № 905/1706/15 до виконання Ворошиловського ВДВС у м.Донецьку","Так","ні",null,null,null,null,null,null,"ні"]
["380399_38220095_19","КАМБІО","712/01-2012","16.10.2013р. Банком здійснено досудове звернення стягнення на майно шляхом реєстрації права власності на підставі іпотечної оговорки. До господарського суду Донецької області заявлено кредиторські вимоги в справі про банкрутство на суму 4 701 797,10 грн. Наразі справа втрачена через АТО. Йде процес поновлення втраченого провадження за заявою ліквідатора","Позичальник, Поручитель",null,"2014-05-07","27.03.2017 - постанова про відкриття ВП № 53642639 ід. АДЕ78Б6ГГ2Е6 - по Дабіжі Ю.П. про стягнення судового збору та за оголошення в газеті, всього 2 218,00 грн.;14.03.2017 - направлено до Ворошиловського ВДВС (м.Словянськ).12.03.2018 - отримано відповідь про хід виконання (майно - Урзф не можу бути звернуто стягнення оскільки сума боргу менше 20 розмірів заробітної плати);","так","ні","2014-01-22","так","ні","2014-02-04",null,null,"ні"]
["380399_38220095_20","КАМБІО","730/02-2013","16.10.2013р. Банком здійснено досудове звернення стягнення на майно шляхом реєстрації права власності на підставі іпотечної оговорки. До господарського суду Донецької області заявлено кредиторські вимоги в справі про банкрутство на суму 4 701 797,10 грн. Наразі справа втрачена через АТО. Йде процес поновлення втраченого провадження за заявою ліквідатора","Позичальник",null,"2014-05-07","27.03.2017 - постанова про відкриття ВП № 53642639 ід. АДЕ78Б6ГГ2Е6 - по Дабіжі Ю.П. про стягнення судового збору та за оголошення в газеті, всього 2 218,00 грн.;14.03.2017 - направлено до Ворошиловського ВДВС (м.Словянськ).12.03.2018 - отримано відповідь про хід виконання (майно - Урзф не можу бути звернуто стягнення оскільки сума боргу менше 20 розмірів заробітної плати);","так","ні","2014-01-22","так","ні","2014-02-04",null,null,"ні"]
["380399_33576882_21","КАМБІО","181/02-2006","1). До Красноармійського міськрайонного суду Донецької області подано позов про солідарне стягнення заборгованості та звернення стягнення на заставне майно (Відповідачі: Ресторатор і К,  Сабинін О.А., Савінов К.Л., Семенов О.О., ТОВ КВФ \"Алкор\", ТОВ \"Бад-Алтай\") Позов подано разом з заявою про відстрочення сплати судового збору.  2). 21.04.2015р. на офіційному веб-сайті ВГС України оприлюднено оголошення про порушення справи про банкрутство ТОВ \"КПФ \"Алкор\". 15.05.2015р. ліквідатору ТОВ \"КПФ \"Алкор\", ГС Запорізької області, ТОВ \"КПФ \"Алкор\" надіслано заяву про визнання кредиторських вимог банку в розмірі 39 017 437,31грн., в т.ч. за Договором про застави  від 20.10.2006р., яким забезпечено зобовязання ТОВ \"Ресторатор і Ко\" за кредитним договором в сумі 16 755 087,16 грн. ","Позичальник, Поручитель",null,"2015-11-05","03.11.2015 - направлено заяву  до ВДВС у Донецькій області про хід виконання за виконавчим написом. 07.12.2015 - отримано відповідь ДВС у м.Донецька -  ввиконанні вик.документи не перебувають.","ні","ні",null,null,null,null,null,null,"ні"]
["380399_2049220006_22","КАМБІО","746/01-2013","Стягнення заборгованості за кредитним договором у розмірі 18 957,31 дол. США (звернення стягнення на автомобіль  не провадилося оскільки позичальник є заставодавцем)","Позичальник",null,"2015-08-28","26.05.2016 - постанова про розшук; 05.05.2016 - відкрито ВП № 51007211; ід. А58ГД8ВБ2695;23.02.2016 - направлено заяву про хід виконання; 25.11.2015 - наказ про стягнення з ФОП Богатирьової Є.Б. 18 957,32 дол. США направлено на виконання до ВДВС Кіровського РУЮ Донецької області; ; 16.11.2015 - отримано Наказ Господарського суду № 905/1812/15 ","так","ні",null,null,null,null,null,null,"ні"]
["380399_2984007153_23","КАМБІО","520/02-2010","1. Стягнення суми боргу за кредитним договором в сумі 13201,51Дол США,    (Звернення стягнення на предмет іпотеки не провадилось, оскільки в іпотеку передано майно (6/100) шо суперечить ст. 5 ЗУ \"Про іпотеку\");     ( стягнення суми боргу поручителів не провадилась, оскільки порука припинена в силу ст. 559 ЦК, (не було додаткової угоди про продовження терміну кредитування)","Позичальник",null,"2015-08-29","14.11.2016 - отримано відповідь про хід виконання; 02.08.2016 - відкрито ВП № 51818535 ід. 06А25ЕАДБВВЕ - по ФОП Глод О.Є. ;  22.07.2016 -  наказ направлено до ВДВС Ворошиловського РУЮ (Славянськ); 23.02.2016 - направлено заяву про хід виконання; 14.01.2016 - наказ направлено до ВДВС Ворошиловського РУЮ Донецької області;24.12.2015 - отримано Наказ Господарського суду Донецької області № 905/1809/15;","так","ні",null,null,null,null,null,null,"ні"]
["380399_2365200553_24","КАМБІО","307/02-2008","Стягнення заборгованості за кредитним договором у сумі 635 039,07 грн у Господарському суді Донецької області.                       Звернення стягнення на предмет іпотеки не здійснювалось, оскільки сам позичальник є заставодавцем та відповідає своїм майном на підставі ст. 52 ЦК.","Позичальник",null,"2015-08-31","30.08.2017 - постанова про прийняття виконавчого документу Краматорським ВДВС; 01.08.2017 - постанова про пере6дачу виконавчого документа  з Покровського ДВС на Краматорський.;07.11.2017  - отримано відповідь на хід виконання та копію постанови про відкриття виконавчого провадження; 03.02.2017 - заява про хід виконання; 03.02.2017 -заява про хід виконання; 04.01.2017 - відповідь ПФУ - боржник не перереєстрував пенсію; 09.12.2016 - запит до Красноармійського ПФУ (кошти не надходять); 31.10.2016 - відкрито ВП № 52794886 ід. Б006Б6Е54832;  Покровським ВДВС; 03.02.2017 - заява про хід виконання; 04.01.2017 - отримано відповідь - Кочубєєв пенсію не перереєстрував; 09.12.2016 - запит до Красноармійського ПФУ (кошти не надходять); 02.11.2016 - постанову направлено до ПФУ Красноармійського обєднаного управління; 31.10.2016 - відкрито ВП № 52794886 у Покровському ВДВС ; 30.09.2016 - постанова про закінчення (направлено до Покровського ВДВС. Отримує пенсію);13.10.2016 -отримано відповідь про хід виконання (майно: квартира 2-х кімнатна в м.Донецьку, пр.Ленінський, підвальне приміщення пл.304,1 кв.м, пр.Панфілова, 112 - зона АТО); 09.09.2016 - направлено заяву про хід виконання; 20.04.2016 - відкрито ВП № 50936357 ід. 6Д1319ДАГ9Б7 - по ФОП Кочубєєв; ; 01.06.2016 - направлено заяву про хід виконання; 07.04.2016 - наказ та Ухвалу подано до Київського ВДВС м. Донецька (Шкадінова); 04.03.2016 - скаргу задоволено; 09.02.2016 -  банком подана заява про розгляд без нашої участі; Справу відкладено на 11.02.2016 р. 26.01.2016 - подано до канцелярії суду клопотання про залучіення до матеріалів справи доказів; 19.01.2016 - подана заява про перенос справи. Надати додаткові докази; 11.12.2015 - подана Скарга на дії ВДВС Київського РУЮ до Господарського суду Донецької області; 27.11.2015  - постанова про відмову у відкритті виконавчого провадження по наказу № 905/1908/15; 02.11.2015 - отримано наказ Господарського суду Донецької області. 04.11.2015 - наказ  подано на виконання до ВДВС у Донецькій області. 07.12.2015 - отримано повідомлення  про наявність відкритого виконавчого провадженя № 33282432 від 09.07.2013 про звернення стягненя на майно у Куйбишевському ВДВС м. Донецька","так","ні",null,null,null,null,null,null,"ні"]
["380399_36509714_29","КАМБІО","009/1-2012/980","Стягнення кредитної заборгованості в сумі 19953902,00 грн.","Позичальник","2013-09-05","2014-01-20","17.09.2014 - відкрито виконавче провадження;16.10.2014 - постанова про арешт коштів боржника; Майно відсутнє. 31.08.2015 - постанова про повернення  наказу без виконання. 22.10.2015 - наказ № 910/4266/14  подано ПОВТОРНО на виконання до ВПВР ДДВС. 26.10.2015 - постанова про відкриття виконавчого провадження № 49137514. (Повторно).  26.10.2015 - винесена постанова про арешт всього майна. 28.03.216 - постанова про повернення; 04.10.2016 - наказ подано повторно до ВПВР ДДВС (Рильського); Відкрито повторно ВП № 5260712 ід. 663АЕ3133Е96; 10.10.2016 - постанова про арешт;  23.05.2017 - постанова про повернення по ТОВ\"Легендас-М\" - майно відстунє.22.03.2018 - до ДДВС подано наказ № 910/4266/14 про стягнення боргу у сумі 20 026 982,43 грн.;  Відмовлено у відкритті (неналежним чином завірено копії документів, д/в запропоновано подати повторно без подачі на нього скарги) 22.05.2018 - до ДДВС подано заяву про відкриття виконавчого провадження; ","так","ні",null,null,null,null,null,null,"ні"]
["380399_35849311_30","КАМБІО","036/1-2011/980","Стягнення кредитної заборгованості в сумі 18 284 518,08 грн. (позов про звернення стягнення на товари в обороті не заявлявся, т.я. належать боржникові)","Позичальник","2013-09-05","2014-05-14","28.03.2018 - Печерським ВДВС винесена постанова про відкриття ВП № 56065412 ід. 6ДБ0ВБ60Б9Е8 - на 10 000,00 грн.; 29.07.2014 - постанова про відкриття виконавчого провадження (48527432); 27.04.2015 - постанова про повернення виконавчого провадження. Повторне предявлення. 20.08.2015 - постанова про відкриття вик.провадження (повторно). Надано договір застави на м'ясо; 03.03.2016 - державним виконавцем направлено запит до ТОВ \"Свіженька\", до ДО \"Укрпродконтракт\" щодо наявності майна; 02.03.2016 - постанова про арешт всього майна боржника; 31.03.2016 - отримано відповідь ДО \"Укрпродконтракт\" про те,що мяса немає. Мясо яловичини було відпущено ТОВ \"Столиціінвестбуд\" протягом 2012 р. згідно розпоряджень (Розпорядження додаються); 22.06.2016 - постанова про арешт коштів боржника; 18.08.2016 - постанова про повернення (майно відсутнє).04.10.2016 - наказ подано повторно до ВПВР ДДВС (Рильського); Повідомлення про повернення. Подано скаргу до Господарського суду м.Києва. Призначено скаргу на 07.12.2016 р.   14.12.2016 - направлена заява про відкриття виконавчогопровадження; 07.12.2016 - скаргу задоволено  частково; 25.10.2016 - повідомлення про кримінальне правопорушення подано до СУ ГУНП в м.Києві (вул.Володимирська,15); 24.01.2017 - повторне відкриття ВП № 52636709 ід 2ВБ54Г6Д9Д76;  13.03.2017 - заява про стан кримінального провадження; 30.03.2017 - отримано довідку Печерського слідчого відділу про порушення кримінальної справи № 12017100060001383; 23.05.2017 - слідчому судді направлено скаргу на бездіяльність слідчого Лабузової Т.В. по ТОВ \"Столицяінвестбуд\"; призначена скарга на 02.06.2017 р.; 02.06.2017 - відмовлено в задоволенні скарги (відстунє клопотання про визнгання потерпілим та неналежне доручення у предствника банку);  08.06.2017  - подано заяву про  отримання памятки  потерпілого; 18.06.2017 - подано до суду скаргу на бездіяльність слідчого в порядку ст.303 КПК України; 19.06.2017 - до Печерського суду подана скарга в порядку ст. 303 КПК України; 30.06.2017 - скаргу про визнання потерпілим задоволено; 07.08.2017 - постанова про поверненння по ТОВ \"Столицяінвестбуд\"  -( мясо відстнє); 17.04.2018 - отримано лист про звернення до слідчого Білошицького О.В.;22.02.2018 - подана заява про відкриття виконавчого провадження та Ухвала  Печерського суду від 30.06.2017 р. (вих. 04/243 від 23.02.2018 р.) про заміну способу виконання рішення;  ","так","ні",null,null,null,null,null,null,"так"]
["380399_37634188_31","КАМБІО","002/1-2012/980","Солідарне стягнення (Столар В.М.) заборгованості в сумі 5 952 324,09 гривень, в т.ч. проценти в розмірі 274 896,09 грн. ","Позичальник, Поручитель","2013-09-05","2013-07-23","1) ВП № 46966913: Виконавчий лист Печерського районного суду від 23.02.2015р. в частині стягнення боргу за процентами (274 896,09 грн. та судового збору 1 777,85 грн.) передано до ВДВС Печерського РУЮ. Постановою ВДВС від 23.03.2015р. відкрито виконавче провадження. Постановою від 28.04.2015р. ТЗ боржника оголошено в розшук та постановою від 28.09.2015р. зупинено ВП. 15.02.2016р. Банком подано клопотання про поновлення ВП, в звязку з відсутністю ТЗ (лист УДАІ від 07.10.2015р.). Постановою від 28.04.2016р. ВД повернуто стягувачу в звязку з відсутністю будь-якого майна у боржника - розшук виявився безрезультатним. Заява банку від 24.05.2016р. про відкриття ВП (повторно). Постановою ДВС від 27.05.2016р. відкрито ВП № 51238131 (ідентифікатор 6ЕБ3Д5014064). 2) Постановою ВПВР м. Києва від 02.10.2015р. відкрито виконавче провадження № 48889412 щодо стягнення боргу за кредитом в розмірі 5 677 428,00 грн. 30.10.2015 - постанова про арешт коштів боржника; 13.04.2016 - повернуто без виконання у звязку із відсутністью майна;29.09.2016 - предявлено повторно - по ТОВ \"СКБ\" на 5 677 428,00 грн.; 11.10.2016 - повторно відкриито ВП № 52566111 ід. БЕ2ВБГВ64Е58; 01.11.2016 -постанова про арешт коштів; 22.02.2107 - постанова про повернення з ВПВР (вул.Виборзька) (майно відстутнє); 13.06.2017 - ПЕЧЕРСЬКИМ ВДВС винесенеа постанова про повернення (майно відстунє);  22.03.2018 - вик.лист № 757/20415/13-ц подано до Бориспільського ВДВС у Київській області; Відкрито виконавче провадження № 56208225  ід.9172622097B5.","так","ні",null,null,null,null,null,null,"ні"]
["380399_35420835_32","КАМБІО","589/02-2010","визнання кредиторських вимог у справі про банкрутство у сумі 17 732 647,50 грн.","Позичальник",null,"2012-12-12",null,"ні","ні","2013-12-10","так","так",null,null,null,"ні"]
["380399_35420835_33","КАМБІО","594/02-2010","визнання кредиторських вимог у справі про банкрутство у сумі 17 732 647,50 грн.","Позичальник",null,"2012-12-12",null,"ні","ні","2013-12-10","так","так",null,null,null,"ні"]
["380399_35420835_34","КАМБІО","595/02-2010","справа про банкрутство у Господарському суді Донецької області визнання кредиторських вимог у справі про банкрутство у сумі 17 732 647,50 грн.","Позичальник",null,"2012-12-12",null,"ні","ні","2013-12-10","так","так",null,null,null,"ні"]
["380399_36158429_35","КАМБІО","031/1-2012/840","Стягнення кредитної заборгованості в сумі 903294,17 дол. США.","Позичальник","2013-09-05","2014-04-18","05.05.2018 - до Печерського районного суду подано скаргу щодо незаконного винесення постанови про закінчення виконавчого провадження;17.04.2018 - постанова про закінчення у звязку із відсутністью виконавчого листа (готується скарга); 10.11.2017 - виконавче провадження відновлено. Постанова про відновлення № 50564877; Скаргу банку задоволено;  01.11.2017 - заяву про відновлення та наказ направлено до ДДВС по ТОВ \"Імоті-Стар\"; 05.10.2017 - апеляцію ДВС відхилено. Рішення Печерського суду залишено без змін; Апеляцію призначено на 05.10.2017 - 16-45 час.; ДВС подано апеляцію; 14.06.2017 - скаргу банку задоволено; 31.08.2017 -  повідомлення про поверненння  виконавчого документу (не сплата авансового внеску, ухвла не набрала законної сили); 14.06.2017 - скаргу банку задоволено; 30.01.2017 - до Печерського суду подано скаргу на дії ДВС; 30.01.2017 - до Печерського суду подано заяву про виправлення описки у вик.листі; 31.05.2016 - д/в отримано відповідь щодо відсутності нерухомого майна; 21.02.2016 - постанова про арешт всього майна; 28.04.2016 - постанова про арешт коштів; 21.03.2016 - відкрито виконавче провадження про стягнення  10 459 771,15 грн. та 903 294,17 дол. США;   № 50564877, ід. 49Е102595Д13; 16.03.2016 - виконавчий лист подано на виконання до ВПВР ДДВС МЮУ (Рильського); 02.02.2016 - отримано виконавчий лист № 757/9717/14-ц про стягнення з ТОВ \"Імоті Стар\" заборгованість за кредитним договором № 032/1-2011/980 - 10 459,15 грн. Заборгованості за кредитним договором № 031/1-2012/840 - 18 641 787,63 грн. ","так","ні",null,null,null,null,null,null,"ні"]
["380399_36158429_36","КАМБІО","032/1-2011/980","Солідарне стягнення кредитної заборгованості в сумі 10 458 771,15 грн.","Позичальник","2013-05-23","2014-04-18","10.11.2017 - виконавче провадження відновлено. Постанова про відновлення № 50564877; Скаргу банку задоволено; 01.11.2017 - заяву про відновлення та наказ направлено до ДДВС по ТОВ \"Імоті-Стар\";05.10.2017 - апеляцію ДВС відхилено. Рішення Печерського суду залишено без змін; Апеляцію призначено на 05.10.2017 - 16-45 час.; ДВС подано апеляцію; 14.06.2017 - скаргу банку задоволено; 31.08.2017 -  повідомлення про поверненння  виконавчого документу (не сплата авансового внеску, ухвла не набрала законної сили); 14.06.2017 - скаргу банку задоволено; 30.01.2017 - до Печерського суду подано скаргу на дії ДВС; 30.01.2017 - до Печерського суду подано заяву про виправлення описки у вик.листі; 31.05.2016 - д/в отримано відповідь щодо відсутності нерухомого майна; 21.02.2016 - постанова про арешт всього майна; 28.04.2016 - постанова про арешт коштів;21.03.2016 -  відкрито вик.провадження  № 50564877 ід. 49Е102595Д13 за кредитним договором № 031/1-2012/840 та за кредитним договором № 032/1-2011/980; 02.02.2016 - отримано виконавчий лист № 757/9717/14-ц про стягнення з ТОВ \"Імоті Стар\" заборгованість за кредитним договором № 032/1-2011/980 - 10 459,15 грн. Заборгованості за кредитним договором № 031/1-2012/840 - 18 641 787,63 грн. ","так","ні",null,null,null,null,null,null,"ні"]
["320995_39230722_1","БГ банк","017","інше","Позичальник","2015-08-05","№ 910/4363/15-г ","2017-09-29","НІ","НІ",null,"НІ","НІ",null,null,null,"НІ"]
["380537_31650398_1","ВіЕйБі","65","стягнення заборгованості","Позичальник","інформація\nвідсутня","25.10.2011р.\n\n\n12.12.2017р.","29.01.2014р.","ТАК","НІ"]
["380537_34155850_2","ВіЕйБі","11-07/юр","стягнення заборгованості","Позичальник","01.11.2016; ",null,42625,"так","НІ",null,"НІ","НІ",null,null,null,"НІ"]
["380537_2510502091_3","ВіЕйБі","1/07-SME","стягнення заборгованості","Позичальник","інформація відсутня","2017-10-26",null,null,null,null,null,null,null,null,null,"НІ"]
["380537_2510502091_4","ВіЕйБі","3/07-SME","стягнення заборгованості","Позичальник","інформація відсутня","2017-12-04",null,null,null,null,null,null,null,null,null,"НІ"]
["380537_34155850_2","ВіЕйБі","11-07/юр","стягнення заборгованості","Поручитель",null,"2017-10-23",null,"НІ","НІ",null,"НІ","НІ",null,null,null,"НІ"]
["380537_34155850_2","ВіЕйБі","11-07/юр","стягнення заборгованості","Поручитель",null,null,null,"НІ","НІ",null,"НІ","НІ",null,null,null,"НІ"]
["300670_20118873_1","Хрещатик",1,"банкрутство","Позичальник",null,null,null,null,null,42535,"так","так",42676]
["300670_20118873_2","Хрещатик",1,"банкрутство","Позичальник",null,null,null,null,null,42535,"так","так",42676]
["300670_20118873_3","Хрещатик",1,"банкрутство","Позичальник",null,null,null,null,null,42535,"так","так",42676]
["300670_32480723_4","Хрещатик",1,"стягнення забезпечення","Позичальник",null,null,42233,"ні","ні"]
["300175_36590318_1","ФІДОБАНК","293","стягнення заборгованості","Позичальник","-","2018-06-01","-","НІ","НІ","-","НІ","НІ","-","-","-","НІ"]
["328210_34994243_1","ІНВЕСТБАНК","№03-11",null,null,"2017-01-20"]
["328210_38784870_2","ІНВЕСТБАНК","№21/13"]
["328210_39297263_3","ІНВЕСТБАНК","№38-15",null,null,"2017-01-19"]
["328210_39537084_4","ІНВЕСТБАНК","№42-15",null,null,"2017-03-30"]
["328210_39686484_5","ІНВЕСТБАНК","№54-15",null,null,"2017-01-13"]
["328210_38129500_6","ІНВЕСТБАНК","№29-16",null,null,"2017-01-27"]
["328210_33915151_7","ІНВЕСТБАНК","№75/10 ",null,null,"2017-01-23",null,null,"НІ"]
["328210_35998313_8","ІНВЕСТБАНК","№02/15",null,null,"2017-01-23"]
["328210_30913888_9","ІНВЕСТБАНК","№37-11",null,null,"2017-01-24",null,"2017-12-27","ТАК","НІ"]
["328210_30913888_10","ІНВЕСТБАНК","№118-13",null,null,"2017-01-24",null,"2017-12-27","ТАК","НІ"]
["328210_30913888_11","ІНВЕСТБАНК","№107-13",null,null,"2017-01-24",null,"2017-12-27","ТАК","НІ"]
["328210_32067160_12","ІНВЕСТБАНК","№77-12",null,null,"2017-01-24",null,"2017-05-11","ТАК","НІ"]
["328210_32067160_13","ІНВЕСТБАНК","№50-15/ОД",null,null,"2017-01-24"]
["328210_34807752_14","ІНВЕСТБАНК","№31-15",null,null,"2017-03-30"]
["328210_32641358_15","ІНВЕСТБАНК","№19-16/ОД","стягнення заборгованості","Позичальник",null,"2016-08-16"]
["328210_36611505_16","ІНВЕСТБАНК","№05/11"]
["328210_36611505_17","ІНВЕСТБАНК","№16/11"]
["328210_36611505_18","ІНВЕСТБАНК","№41/11","стягнення заборгованості","Позичальник",null,"2016-06-03",null,"ТАК"]
["328210_36611505_19","ІНВЕСТБАНК","№67/10","стягнення заборгованості","Позичальник",null,"2015-06-25",null,"ТАК"]
["328210_36611505_20","ІНВЕСТБАНК","№78/10"]
["380388_33865394_3","Платинум Банк","141/12/12","стягнення заборгованості","Позичальник","15.12.2015, 12.01.2016, 2016.02.10, 21.02.2017","2017-01-04",null,null,null,null,null,null,null,null,null,"ні"]
["380388_20596199_4","Платинум Банк","REF.2011101094","банкрутство","Позичальник",null,null,null,null,null,"2015-08-31","так","так","2015-12-02",null,null,"ні"]
["380388_20596199_5","Платинум Банк","BDL.2011101095","банкрутство","Позичальник",null,null,null,null,null,"2015-08-31","так","так","2015-12-02",null,null,"ні"]
["380388_20596199_6","Платинум Банк","LCI.2011101095","банкрутство","Позичальник",null,null,null,null,null,"2015-08-31","так","так","2015-12-02",null,null,"ні"]
["305062_02345678_1","","","стягнення заборгованості","Позичальник","2016-04-22","2014-11-12",null,"НІ","НІ",null,null,null,null,null,null,"НІ"]
["334969_25093876_1","Укрбізнесбанк","20",null,null,"-","-","-",null,null,"-",null,null,null,"-","-","НІ"]
["300205_00273991_1","УПБ",1,"нікчемність правочину","Позичальник","2012-12-12","2014-10-12","2016-07-21","НІ","НІ",null,null,null,null,null,null,"ні"]
["380474_2764519369_1","ТРАСТ","450","стягнення","Полякова Н.Л.","2014-12-17","2015-04-17","2017-05-05","так","ні"]
[null,"Контракт","",null,"Поляков Д.Б.","2014-12-17","2015-04-17"]
["300852_12345678_1","Активбанк","Договора відповідно реєстру","відсутнє"]
["","Фінанси та Кредит","217-ОД","1)Інше 2)Стягнення боргу 3)Позов до Банку","Позичальник/поручитель","1)10.04.2009 2)10.04.2009 3)10.04.2009","1)12.03.2013 2)23.03.2012 3)30.01.2013","-","-","-","2013-02-08","так","так","-","-","дані відсутні"]
["","Фінанси та Кредит","463V-01-08","1)Інше 2)Стягнення боргу 3)Позов до Банку","Позичальник/поручитель","1)10.04.2009 2)10.04.2009 3)10.04.2009","1)12.03.2013 2)23.03.2012 3)30.01.2013","-","-","-","2013-02-08","так","так","-","-","дані відсутні"]
["","Фінанси та Кредит","462-01-08","банкрутство","Позичальник","-","-","-","-","-","2013-02-08","так","так","-","-","дані відсутні"]
["","Фінанси та Кредит","382-01-07","банкрутство","Позичальник","-","-","-","-","-","2013-02-08","так","так","-","-","дані відсутні"]
["","Фінанси та Кредит","83-10/07","Стягнення заборгованості та звернення стягнення на предмет іпотеки","Позичальник/поручитель","2009-10-29","2009-11-06","2013-05-03","-","-","-","-","-","-","-","дані відсутні"]
["","Фінанси та Кредит","44-05/06","стягнення заборгованості","Позичальник","2007-11-05","2008-03-05","2008-12-16","-","-","-","-","-","-","-","дані відсутні"]
["","Фінанси та Кредит","29v-01-08","стягнення заборгованості","Позичальник","-","2011-07-04","2011-08-03","-","-","-","-","-","-","-","дані відсутні"]
["328210_25934519_1","ІНВЕСТБАНК"," №41-12 ","стягнення заборгованості","Позичальник",null,"2014-12-26",null,"НІ","НІ","2015-01-14","ТАК","ТАК"]
["328210_36043557_2","ІНВЕСТБАНК"," №94-13",null,null,"2016-05-20"]
["328210_36170760_3","ІНВЕСТБАНК","№111-11"]
["328210_36170760_4","ІНВЕСТБАНК","№112-11/ОД","стягнення заборгованості","Позичальник",null,"2012-03-04",null,"НІ"]
["328210_36170760_5","ІНВЕСТБАНК","№18-12"]
["328210_36170760_6","ІНВЕСТБАНК","№88-10"]
["328210_37913692_7","ІНВЕСТБАНК","№30-12/ОД","стягнення заборгованості","Позичальник",null,"2014-12-23","2016-09-30","ТАК","НІ"]
["380236_30797217_1","Дельта","13/008/2009-КЛТ","стягнення заборгованості","Позичальник","не відомо","2013 рік","2016-10-05","ТАК","НІ","ні","НІ","НІ","ні","ні","ні","НІ"]
["380236_30797217_2","Дельта","13/035/2008-К","стягнення заборгованості","Позичальник","не відомо","2014 рік",null,null,null,"ні","НІ","НІ","ні","ні","ні","НІ"]
["380236_30797217_3","Дельта","13/039/2008-КЛТ","стягнення заборгованості","Позичальник","не відомо","2014 рік","2017-08-18","ТАК","НІ","ні","НІ","НІ","ні","ні","ні","НІ"]
["380236_30797217_4","Дельта","13/050/2007-К","стягнення заборгованості","Позичальник","не відомо","2014 рік","2017-08-30","ТАК","НІ","ні","НІ","НІ","ні","ні","ні","НІ"]
["380236_30797217_5","Дельта","13/051/2007-К","стягнення заборгованості","Позичальник","не відомо","2014 рік",null,null,null,"ні","НІ","НІ","ні","ні","ні","НІ"]
["380236_30797217_6","Дельта","13/085/2007-К","стягнення заборгованості","Позичальник","не відомо","2014 рік",null,null,null,"ні","НІ","НІ","ні","ні","ні","НІ"]
["380236_34619476_1","Дельта","НКЛ-2005484/1","стягнення заборгованості","Позичальник","невідомо","2014 рік ","2017-04-21","НІ","НІ","ні","НІ","НІ","ні","ні","ні","НІ"]
["380236_34619476_2","Дельта","НКЛ-2005484/2","стягнення заборгованості","Позичальник","невідомо","2014 рік ","2017-04-21","НІ","НІ","ні","НІ","НІ","ні","ні","ні","НІ"]
["380236_34046074_3","Дельта","НКЛ-2002859","нікчемність правочину","3-і особи","невідомо","2016 рік",null,null,null,"ні","НІ","НІ","ні","ні","ні","ТАК"]
["380236_34046074_4","Дельта","НКЛ-2002859/1","нікчемність правочину","3-і особи","невідомо","2016 рік",null,null,null,"ні","НІ","НІ","ні","ні","ні","ТАК"]
["380236_35467291_5","Дельта","НКЛ-2022815","стягнення заборгованості","Позичальник","не відомо","2015 рік",null,null,null,"ні","НІ","НІ","ні","ні","ні","НІ"]
[null,"",""]
[null,"",""]
[null,"",""]
[null,"",""]
[null,"",""]
[null,"",""]
[null,"",""]
[null,"",""]
[null,"",""]
[null,"",""]
[null,"",""]
[null,"",""]
[null,"",""]
[null,"",""]
[null,"",""]
[null,"",""]
[null,"",""]
[null,"",""]
[null,"",""]
[null,"",""]
[null,"",""]
[null,"",""]
[null,"",""]
[null,"",""]
[null,"",""]
[null,"",""]
[null,"",""]
[null,"",""]
[null,"",""]
[null,"",""]
[null,"",""]
[null,"",""]
[null,"",""]
[null,"",""]
[null,"",""]
[null,"",""]
[null,"",""]
[null,"",""]
[null,"",""]
[null,"",""]
[null,"",""]
[null,"",""]
[null,"",""]
[null,"",""]
[null,"",""]
[null,"",""]
[null,"",""]
[null,"",""]
[null,"",""]
[null,"",""]
[null,"",""]
[null,"",""]
[null,"",""]
[null,"",""]
[null,"",""]
[null,"",""]
[null,"",""]
[null,"",""]
[null,"",""]
[null,"",""]
[null,"",""]
[null,"",""]
[null,"",""]
[null,"",""]
[null,"",""]
[null,"",""]
[null,"",""]
[null,"",""]
[null,"",""]
[null,"",""]
[null,"",""]
[null,"",""]
[null,"",""]
[null,"",""]
[null,"",""]
[null,"",""]
[null,"",""]
[null,"",""]
[null,"",""]
[null,"",""]
[null,"",""]
[null,"",""]
[null,"",""]
[null,"",""]
[null,"",""]
[null,"",""]
[null,"",""]
[null,"",""]
[null,"",""]
[null,"",""]
[null,"",""]
[null,"",""]
[null,"",""]
[null,"",""]
[null,"",""]
[null,"",""]
[null,"",""]
[null,"",""]
[null,"",""]
[null,"",""]
[null,"",""]
[null,"",""]
[null,"",""]
[null,"",""]
[null,"",""]
[null,"",""]
[null,"",""]
[null,"",""]
[null,"",""]
[null,"",""]
[null,"",""]
[null,"",""]
[null,"",""]
[null,"",""]
[null,"",""]
[null,"",""]
[null,"",""]
[null,"",""]
[null,"",""]
[null,"",""]
[null,"",""]
[null,"",""]
[null,"",""]
[null,"",""]
[null,"",""]
[null,"",""]
[null,"",""]
[null,"",""]
[null,"",""]
[null,"",""]
[null,"",""]
[null,"",""]
[null,"",""]
[null,"",""]
[null,"",""]
[null,"",""]
[null,"",""]
[null,"",""]
[null,"",""]
[null,"",""]
[null,"",""]
[null,"",""]
[null,"",""]
[null,"",""]
[null,"",""]
[null,"",""]
[null,"",""]
[null,"",""]
[null,"",""]
[null,"",""]
[null,"",""]
[null,"",""]
[null,"",""]
[null,"",""]
[null,"",""]
[null,"",""]
[null,"",""]
[null,"",""]
[null,"",""]
[null,"",""]
[null,"",""]
[null,"",""]
[null,"",""]
[null,"",""]
[null,"",""]
[null,"",""]
[null,"",""]
[null,"",""]
[null,"",""]
[null,"",""]
[null,"",""]
[null,"",""]
[null,"",""]
[null,"",""]
[null,"",""]
[null,"",""]
[null,"",""]
[null,"",""]
[null,"",""]
[null,"",""]
[null,"",""]
[null,"",""]
[null,"",""]
[null,"",""]
[null,"",""]
[null,"",""]
[null,"",""]
[null,"",""]
[null,"",""]
[null,"",""]
[null,"",""]
[null,"",""]
[null,"",""]
[null,"",""]
[null,"",""]
[null,"",""]
[null,"",""]
[null,"",""]
[null,"",""]
[null,"",""]
[null,"",""]
[null,"",""]
[null,"",""]
[null,"",""]
[null,"",""]
[null,"",""]
[null,"",""]
[null,"",""]
[null,"",""]
[null,"",""]
[null,"",""]
[null,"",""]
[null,"",""]
[null,"",""]
[null,"",""]
[null,"",""]
[null,"",""]
[null,"",""]
[null,"",""]
[null,"",""]
[null,"",""]
[null,"",""]
[null,"",""]
[null,"",""]
[null,"",""]
[null,"",""]
[null,"",""]
[null,"",""]
[null,"",""]
[null,"",""]
[null,"",""]
[null,"",""]
[null,"",""]
[null,"",""]
[null,"",""]
[null,"",""]
[null,"",""]
[null,"",""]
[null,"",""]
[null,"",""]
[null,"",""]
[null,"",""]
[null,"",""]
[null,"",""]
[null,"",""]
[null,"",""]
[null,"",""]
[null,"",""]
[null,"",""]
[null,"",""]
[null,"",""]
[null,"",""]
[null,"",""]
[null,"",""]
[null,"",""]
[null,"",""]
[null,"",""]
[null,"",""]
[null,"",""]
[null,"",""]
[null,"",""]
[null,"",""]
[null,"",""]
[null,"",""]
[null,"",""]
[null,"",""]
[null,"",""]
[null,"",""]
[null,"",""]
[null,"",""]
[null,"",""]
[null,"",""]
[null,"",""]
[null,"",""]
[null,"",""]
[null,"",""]
[null,"",""]
[null,"",""]
[null,"",""]
[null,"",""]
[null,"",""]
[null,"",""]
[null,"",""]
[null,"",""]
[null,"",""]
[null,"",""]
[null,"",""]
[null,"",""]
[null,"",""]
[null,"",""]
[null,"",""]
[null,"",""]
[null,"",""]
[null,"",""]
[null,"",""]
[null,"",""]
[null,"",""]
[null,"",""]
[null,"",""]
[null,"",""]
[null,"",""]
[null,"",""]
[null,"",""]
[null,"",""]
[null,"",""]
[null,"",""]
[null,"",""]
[null,"",""]
[null,"",""]
[null,"",""]
[null,"",""]
[null,"",""]
[null,"",""]
[null,"",""]
[null,"",""]
[null,"",""]
[null,"",""]
[null,"",""]
[null,"",""]
[null,"",""]
[null,"",""]
[null,"",""]
[null,"",""]
[null,"",""]
[null,"",""]
[null,"",""]
[null,"",""]
[null,"",""]
[null,"",""]
[null,"",""]
[null,"",""]
[null,"",""]
[null,"",""]
[null,"",""]
[null,"",""]
[null,"",""]
[null,"",""]
[null,"",""]
[null,"",""]
[null,"",""]
[null,"",""]
[null,"",""]
[null,"",""]
[null,"",""]
[null,"",""]
[null,"",""]
[null,"",""]
[null,"",""]
[null,"",""]
[null,"",""]
[null,"",""]
[null,"",""]
[null,"",""]
[null,"",""]
[null,"",""]
[null,"",""]
[null,"",""]
[null,"",""]
[null,"",""]
[null,"",""]
[null,"",""]
[null,"",""]
[null,"",""]
[null,"",""]
[null,"",""]
[null,"",""]
[null,"",""]
[null,"",""]
[null,"",""]
[null,"",""]
[null,"",""]
[null,"",""]
[null,"",""]
[null,"",""]
[null,"",""]
[null,"",""]
[null,"",""]
[null,"",""]
[null,"",""]
[null,"",""]
[null,"",""]
[null,"",""]
[null,"",""]
[null,"",""]
[null,"",""]
[null,"",""]
[null,"",""]
[null,"",""]
[null,"",""]
[null,"",""]
[null,"",""]
[null,"",""]
[null,"",""]
[null,"",""]
[null,"",""]
[null,"",""]
[null,"",""]
[null,"",""]
[null,"",""]
[null,"",""]
[null,"",""]
[null,"",""]
[null,"",""]
[null,"",""]
[null,"",""]
[null,"",""]
[null,"",""]
[null,"",""]
[null,"",""]
[null,"",""]
[null,"",""]
[null,"",""]
[null,"",""]
[null,"",""]
[null,"",""]
[null,"",""]
[null,"",""]
[null,"",""]
[null,"",""]
[null,"",""]
[null,"",""]
[null,"",""]
[null,"",""]
[null,"",""]
[null,"",""]
[null,"",""]
[null,"",""]
[null,"",""]
[null,"",""]
[null,"",""]
[null,"",""]
[null,"",""]
[null,"",""]
[null,"",""]
[null,"",""]
[null,"",""]
[null,"",""]
[null,"",""]
[null,"",""]
[null,"",""]
[null,"",""]
[null,"",""]
[null,"",""]
[null,"",""]
[null,"",""]
[null,"",""]
[null,"",""]
[null,"",""]
[null,"",""]
[null,"",""]
[null,"",""]
[null,"",""]
[null,"",""]
[null,"",""]
[null,"",""]
[null,"",""]
[null,"",""]
[null,"",""]
[null,"",""]
[null,"",""]
[null,"",""]
[null,"",""]
[null,"",""]
[null,"",""]
[null,"",""]
[null,"",""]
[null,"",""]
[null,"",""]
[null,"",""]
[null,"",""]
[null,"",""]
[null,"",""]
[null,"",""]
[null,"",""]
[null,"",""]
[null,"",""]
[null,"",""]
[null,"",""]
[null,"",""]
[null,"",""]
[null,"",""]
[null,"",""]
[null,"",""]
[null,"",""]
[null,"",""]
[null,"",""]
[null,"",""]
[null,"",""]
[null,"",""]
[null,"",""]
[null,"",""]
[null,"",""]
[null,"",""]
[null,"",""]
[null,"",""]
[null,"",""]
[null,"",""]
[null,"",""]
[null,"",""]
[null,"",""]
[null,"",""]
[null,"",""]
[null,"",""]
[null,"",""]
[null,"",""]
[null,"",""]
[null,"",""]
[null,"",""]
[null,"",""]
[null,"",""]
[null,"",""]
[null,"",""]
[null,"",""]
[null,"",""]
[null,"",""]
[null,"",""]
[null,"",""]
[null,"",""]
[null,"",""]
[null,"",""]
[null,"",""]
[null,"",""]
[null,"",""]
[null,"",""]
[null,"",""]
[null,"",""]
[null,"",""]
[null,"",""]
[null,"",""]
[null,"",""]
[null,"",""]
[null,"",""]
[null,"",""]
[null,"",""]
[null,"",""]
[null,"",""]
[null,"",""]
[null,"",""]
[null,"",""]
[null,"",""]
[null,"",""]
[null,"",""]
[null,"",""]
[null,"",""]
[null,"",""]
[null,"",""]
[null,"",""]
[null,"",""]
[null,"",""]
[null,"",""]
[null,"",""]
[null,"",""]
[null,"",""]
[null,"",""]
[null,"",""]
[null,"",""]
[null,"",""]
[null,"",""]
[null,"",""]
[null,"",""]
[null,"",""]
[null,"",""]
[null,"",""]
[null,"",""]
[null,"",""]
[null,"",""]
[null,"",""]
[null,"",""]
[null,"",""]
[null,"",""]
[null,"",""]
[null,"",""]
[null,"",""]
[null,"",""]
[null,"",""]
[null,"",""]
[null,"",""]
[null,"",""]
[null,"",""]
[null,"",""]
[null,"",""]
[null,"",""]
[null,"",""]
[null,"",""]
[null,"",""]
[null,"",""]
[null,"",""]
[null,"",""]
[null,"",""]
[null,"",""]
[null,"",""]
[null,"",""]
[null,"",""]
[null,"",""]
[null,"",""]
[null,"",""]
[null,"",""]
[null,"",""]
[null,"",""]
[null,"",""]
[null,"",""]
[null,"",""]
[null,"",""]
[null,"",""]
[null,"",""]
[null,"",""]
[null,"",""]
[null,"",""]
[null,"",""]
[null,"",""]
[null,"",""]
[null,"",""]
[null,"",""]
[null,"",""]
[null,"",""]
[null,"",""]
[null,"",""]
[null,"",""]
[null,"",""]
[null,"",""]
[null,"",""]
[null,"",""]
[null,"",""]
[null,"",""]
[null,"",""]
[null,"",""]
[null,"",""]
[null,"",""]
[null,"",""]
[null,"",""]
[null,"",""]
[null,"",""]
[null,"",""]
[null,"",""]
[null,"",""]
[null,"",""]
[null,"",""]
[null,"",""]
[null,"",""]
[null,"",""]
[null,"",""]
[null,"",""]
[null,"",""]
[null,"",""]
[null,"",""]
[null,"",""]
[null,"",""]
[null,"",""]
[null,"",""]
[null,"",""]
[null,"",""]
[null,"",""]
[null,"",""]
[null,"",""]
[null,"",""]
[null,"",""]
[null,"",""]
[null,"",""]
[null,"",""]
[null,"",""]
[null,"",""]
[null,"",""]
[null,"",""]
[null,"",""]
[null,"",""]
[null,"",""]
[null,"",""]
[null,"",""]
[null,"",""]
[null,"",""]
[null,"",""]
[null,"",""]
[null,"",""]
[null,"",""]
[null,"",""]
[null,"",""]
[null,"",""]
[null,"",""]
[null,"",""]
[null,"",""]
[null,"",""]
[null,"",""]
[null,"",""]
[null,"",""]
[null,"",""]
[null,"",""]
[null,"",""]
[null,"",""]
[null,"",""]
[null,"",""]
[null,"",""]
[null,"",""]
[null,"",""]
[null,"",""]
[null,"",""]
[null,"",""]
[null,"",""]
[null,"",""]
[null,"",""]
[null,"",""]
[null,"",""]
[null,"",""]
[null,"",""]
[null,"",""]
[null,"",""]
[null,"",""]
[null,"",""]
[null,"",""]
[null,"",""]
[null,"",""]
[null,"",""]
[null,"",""]
[null,"",""]
[null,"",""]
[null,"",""]
[null,"",""]
[null,"",""]
[null,"",""]
[null,"",""]
[null,"",""]
[null,"",""]
[null,"",""]
[null,"",""]
[null,"",""]
[null,"",""]
[null,"",""]
[null,"",""]
[null,"",""]
[null,"",""]
[null,"",""]
[null,"",""]
[null,"",""]
[null,"",""]
[null,"",""]
[null,"",""]
[null,"",""]
[null,"",""]
[null,"",""]
[null,"",""]
[null,"",""]
[null,"",""]
[null,"",""]
[null,"",""]
[null,"",""]
[null,"",""]
[null,"",""]
[null,"",""]
[null,"",""]
[null,"",""]
[null,"",""]
[null,"",""]
[null,"",""]
[null,"",""]
[null,"",""]
[null,"",""]
[null,"",""]
[null,"",""]
[null,"",""]
[null,"",""]
[null,"",""]
[null,"",""]
[null,"",""]
[null,"",""]
[null,"",""]
[null,"",""]
[null,"",""]
[null,"",""]
[null,"",""]
[null,"",""]
[null,"",""]
[null,"",""]
[null,"",""]
[null,"",""]
[null,"",""]
[null,"",""]
[null,"",""]
[null,"",""]
[null,"",""]
[null,"",""]
[null,"",""]
[null,"",""]
[null,"",""]
[null,"",""]
[null,"",""]
[null,"",""]
[null,"",""]
[null,"",""]
[null,"",""]
[null,"",""]
[null,"",""]
[null,"",""]
[null,"",""]
[null,"",""]
[null,"",""]
[null,"",""]
[null,"",""]
[null,"",""]
[null,"",""]
[null,"",""]
[null,"",""]
[null,"",""]
[null,"",""]
[null,"",""]
[null,"",""]
[null,"",""]
[null,"",""]
[null,"",""]
[null,"",""]
[null,"",""]
[null,"",""]
[null,"",""]
[null,"",""]
[null,"",""]
[null,"",""]
[null,"",""]
[null,"",""]
[null,"",""]
[null,"",""]
[null,"",""]
[null,"",""]
[null,"",""]
[null,"",""]
[null,"",""]
[null,"",""]
[null,"",""]
[null,"",""]
[null,"",""]
[null,"",""]
[null,"",""]
[null,"",""]
[null,"",""]
[null,"",""]
[null,"",""]
[null,"",""]
[null,"",""]
[null,"",""]
[null,"",""]
[null,"",""]
[null,"",""]
[null,"",""]
[null,"",""]
[null,"",""]
[null,"",""]
[null,"",""]
[null,"",""]
[null,"",""]
[null,"",""]
[null,"",""]
[null,"",""]
[null,"",""]
[null,"",""]
[null,"",""]
[null,"",""]
[null,"",""]
[null,"",""]
[null,"",""]
[null,"",""]
[null,"",""]
[null,"",""]
[null,"",""]
[null,"",""]
[null,"",""]
[null,"",""]
[null,"",""]
[null,"",""]
[null,"",""]
[null,"",""]
[null,"",""]
[null,"",""]
[null,"",""]
[null,"",""]
[null,"",""]
[null,"",""]
[null,"",""]
[null,"",""]
[null,"",""]
[null,"",""]
[null,"",""]
[null,"",""]
[null,"",""]
[null,"",""]
[null,"",""]
[null,"",""]
[null,"",""]
[null,"",""]
[null,"",""]
[null,"",""]
[null,"",""]
[null,"",""]
[null,"",""]
[null,"",""]
[null,"",""]
[null,"",""]
[null,"",""]
[null,"",""]
[null,"",""]
[null,"",""]
[null,"",""]
[null,"",""]
[null,"",""]
[null,"",""]
[null,"",""]
[null,"",""]
[null,"",""]
[null,"",""]
[null,"",""]
[null,"",""]
[null,"",""]
[null,"",""]
[null,"",""]
[null,"",""]
[null,"",""]
[null,"",""]
[null,"",""]
[null,"",""]
[null,"",""]
[null,"",""]
[null,"",""]
[null,"",""]
[null,"",""]
[null,"",""]
[null,"",""]
[null,"",""]
[null,"",""]
[null,"",""]
[null,"",""]
[null,"",""]
[null,"",""]
[null,"",""]
[null,"",""]
[null,"",""]
[null,"",""]
[null,"",""]
[null,"",""]
[null,"",""]
[null,"",""]
[null,"",""]
[null,"",""]
[null,"",""]
[null,"",""]
[null,"",""]
[null,"",""]
[null,"",""]
[null,"",""]
[null,"",""]
[null,"",""]
[null,"",""]
[null,"",""]
[null,"",""]
[null,"",""]
[null,"",""]
[null,"",""]
[null,"",""]
[null,"",""]
[null,"",""]
[null,"",""]
[null,"",""]
[null,"",""]
[null,"",""]
[null,"",""]
[null,"",""]
[null,"",""]
[null,"",""]
[null,"",""]
[null,"",""]
[null,"",""]
[null,"",""]
[null,"",""]
[null,"",""]
[null,"",""]
[null,"",""]
[null,"",""]
[null,"",""]
[null,"",""]
[null,"",""]
[null,"",""]
[null,"",""]
[null,"",""]
[null,"",""]
[null,"",""]
[null,"",""]
[null,"",""]
[null,"",""]
[null,"",""]
[null,"",""]
[null,"",""]
[null,"",""]
[null,"",""]
[null,"",""]
[null,"",""]
[null,"",""]
[null,"",""]
[null,"",""]
[null,"",""]
[null,"",""]
[null,"",""]
[null,"",""]
[null,"",""]
[null,"",""]
[null,"",""]
[null,"",""]
[null,"",""]
[null,"",""]
[null,"",""]
[null,"",""]
[null,"",""]
[null,"",""]
[null,"",""]
[null,"",""]
[null,"",""]
[null,"",""]
[null,"",""]
[null,"",""]
[null,"",""]
[null,"",""]
[null,"",""]
[null,"",""]
[null,"",""]
[null,"",""]
[null,"",""]
[null,"",""]
[null,"",""]
[null,"",""]
[null,"",""]
[null,"",""]
[null,"",""]
[null,"",""]
[null,"",""]
[null,"",""]
[null,"",""]
[null,"",""]
[null,"",""]
[null,"",""]
[null,"",""]
[null,"",""]
[null,"",""]
[null,"",""]
[null,"",""]
[null,"",""]
[null,"",""]
[null,"",""]
[null,"",""]
[null,"",""]
[null,"",""]
[null,"",""]
[null,"",""]
[null,"",""]
[null,"",""]
[null,"",""]
[null,"",""]
[null,"",""]
[null,"",""]
[null,"",""]
[null,"",""]
[null,"",""]
[null,"",""]
[null,"",""]
[null,"",""]
[null,"",""]
[null,"",""]
[null,"",""]
[null,"",""]
[null,"",""]
[null,"",""]
[null,"",""]
[null,"",""]
[null,"",""]
[null,"",""]
[null,"",""]
[null,"",""]
[null,"",""]
[null,"",""]
[null,"",""]
[null,"",""]
[null,"",""]
[null,"",""]
[null,"",""]
[null,"",""]
[null,"",""]
[null,"",""]
[null,"",""]
[null,"",""]
[null,"",""]
[null,"",""]
[null,"",""]
[null,"",""]
[null,"",""]
[null,"",""]
[null,"",""]
[null,"",""]
[null,"",""]
[null,"",""]
[null,"",""]
[null,"",""]
[null,"",""]
[null,"",""]
[null,"",""]
[null,"",""]
[null,"",""]
[null,"",""]
[null,"",""]
[null,"",""]
[null,"",""]
[null,"",""]
[null,"",""]
[null,"",""]
[null,"",""]
[null,"",""]
[null,"",""]
[null,"",""]
[null,"",""]
[null,"",""]
[null,"",""]
[null,"",""]
[null,"",""]
[null,"",""]
[null,"",""]
[null,"",""]
[null,"",""]
[null,"",""]
[null,"",""]
[null,"",""]
[null,"",""]
[null,"",""]
[null,"",""]
[null,"",""]
[null,"",""]
[null,"",""]
[null,"",""]
[null,"",""]
[null,"",""]
[null,"",""]
[null,"",""]
[null,"",""]
[null,"",""]
[null,"",""]
[null,"",""]
[null,"",""]
[null,"",""]
[null,"",""]
[null,"",""]
[null,"",""]
[null,"",""]
[null,"",""]
[null,"",""]
[null,"",""]
[null,"",""]
[null,"",""]
[null,"",""]
[null,"",""]
[null,"",""]
[null,"",""]
[null,"",""]
[null,"",""]
[null,"",""]
[null,"",""]
[null,"",""]
[null,"",""]
[null,"",""]
[null,"",""]
[null,"",""]
[null,"",""]
[null,"",""]
[null,"",""]
[null,"",""]
[null,"",""]
[null,"",""]
[null,"",""]
[null,"",""]
[null,"",""]
[null,"",""]
[null,"",""]
[null,"",""]
[null,"",""]
[null,"",""]
[null,"",""]
[null,"",""]
[null,"",""]
[null,"",""]
[null,"",""]
[null,"",""]
[null,"",""]
[null,"",""]
[null,"",""]
[null,"",""]
[null,"",""]
[null,"",""]
[null,"",""]
[null,"",""]
[null,"",""]
[null,"",""]
[null,"",""]
[null,"",""]
[null,"",""]
[null,"",""]
[null,"",""]
[null,"",""]
[null,"",""]
[null,"",""]
[null,"",""]
[null,"",""]
[null,"",""]
[null,"",""]
[null,"",""]
[null,"",""]
[null,"",""]
[null,"",""]
[null,"",""]
[null,"",""]
[null,"",""]
[null,"",""]
[null,"",""]
[null,"",""]
[null,"",""]
[null,"",""]
[null,"",""]
[null,"",""]
[null,"",""]
[null,"",""]
[null,"",""]
[null,"",""]
[null,"",""]
[null,"",""]
[null,"",""]
[null,"",""]
[null,"",""]
[null,"",""]
[null,"",""]
[null,"",""]
[null,"",""]
[null,"",""]
[null,"",""]
[null,"",""]
[null,"",""]
[null,"",""]
[null,"",""]
[null,"",""]
[null,"",""]
[null,"",""]
[null,"",""]
[null,"",""]
[null,"",""]
[null,"",""]
[null,"",""]
[null,"",""]
[null,"",""]
[null,"",""]
[null,"",""]
[null,"",""]
[null,"",""]
[null,"",""]
[null,"",""]
[null,"",""]
[null,"",""]
[null,"",""]
[null,"",""]
[null,"",""]
[null,"",""]
[null,"",""]
[null,"",""]
[null,"",""]
[null,"",""]
[null,"",""]
[null,"",""]
[null,"",""]
[null,"",""]
[null,"",""]
[null,"",""]
[null,"",""]
[null,"",""]
[null,"",""]
[null,"",""]
[null,"",""]
[null,"",""]
[null,"",""]
[null,"",""]
[null,"",""]
[null,"",""]
[null,"",""]
[null,"",""]
[null,"",""]
[null,"",""]
[null,"",""]
[null,"",""]
[null,"",""]
[null,"",""]
[null,"",""]
[null,"",""]
[null,"",""]
[null,"",""]
[null,"",""]
[null,"",""]
[null,"",""]
[null,"",""]
[null,"",""]
[null,"",""]
[null,"",""]
[null,"",""]
[null,"",""]
[null,"",""]
[null,"",""]
[null,"",""]
[null,"",""]
[null,"",""]
[null,"",""]
[null,"",""]
[null,"",""]
[null,"",""]
[null,"",""]
[null,"",""]
[null,"",""]
[null,"",""]
[null,"",""]
[null,"",""]
[null,"",""]
[null,"",""]
[null,"",""]
[null,"",""]
[null,"",""]
[null,"",""]
[null,"",""]
[null,"",""]
[null,"",""]
[null,"",""]
[null,"",""]
[null,"",""]
[null,"",""]
[null,"",""]
[null,"",""]
[null,"",""]
[null,"",""]
[null,"",""]
[null,"",""]
[null,"",""]
[null,"",""]
[null,"",""]
[null,"",""]
[null,"",""]
[null,"",""]
[null,"",""]
[null,"",""]
[null,"",""]
[null,"",""]
[null,"",""]
[null,"",""]
[null,"",""]
[null,"",""]
[null,"",""]
[null,"",""]
[null,"",""]
[null,"",""]
[null,"",""]
[null,"",""]
[null,"",""]
[null,"",""]
[null,"",""]
[null,"",""]
[null,"",""]
[null,"",""]
[null,"",""]
[null,"",""]
[null,"",""]
[null,"",""]
[null,"",""]
[null,"",""]
[null,"",""]
[null,"",""]
[null,"",""]
[null,"",""]
[null,"",""]
[null,"",""]
[null,"",""]
[null,"",""]
[null,"",""]
[null,"",""]
[null,"",""]
[null,"",""]
[null,"",""]
[null,"",""]
[null,"",""]
[null,"",""]
[null,"",""]
[null,"",""]
[null,"",""]
[null,"",""]
[null,"",""]
[null,"",""]
[null,"",""]
[null,"",""]
[null,"",""]
[null,"",""]
[null,"",""]
[null,"",""]
[null,"",""]
[null,"",""]
[null,"",""]
[null,"",""]
[null,"",""]
[null,"",""]
[null,"",""]
[null,"",""]
[null,"",""]
[null,"",""]
[null,"",""]
[null,"",""]
[null,"",""]
[null,"",""]

{"sheet":"4.журнал торгів","index":3,"n_rows":1194,"n_cols":8,"rows_kept":1194,"cut":false,"hidden":false,"merged":[[0,1,5,7],[66,5,68,5],[66,6,68,6],[66,7,68,7],[69,7,70,7],[69,6,70,6],[69,5,70,5]]}
[null,"Цей документ був підготовлений Фондом гарантування вкладів фізичних осіб (далі – Фонд) виключно для інформаційних цілей і не повинен вважатися як спонукання до будь-яких дій чи бездіяльності. \nІнформація, що міститься в цьому документі, була отримана з/або ґрунтується на джерелах які вважаються надійними, але не є вичерпною та не може сприйматися як повна або актуальна. Рішення покупця щодо будь яких дій або бездіяльності повинно ґрунтуватися на власних оцінках та дослідженнях майна (активу/активів) котре реалізуються. Фонд не несе відповідальності за рішення покупця та його наслідки, що ґрунтується на інформації викладеній в даному документі."]
[]
[]
[]
[]
[]
["unicid","Банк","№ кред. Дог","Кількість торгів","Початкова вартість реалізації","Ціна на останніх торгах","№ лота","Дата проведення останнього аукціону "]
["322465_00149593_1","Контракт","069/2008",10,11585381.689999999,2317076.34,"F82GL17365","2018-04-12"]
["322465_36632279_2","Контракт","25/2010",10,2318585.4,493654.77,"F82GL17365","2018-04-12"]
["322465_21464531_3","Контракт","73/2013",10,22947623.870000001,4809237.03,"F82GL17365","2018-04-12"]
["322465_37026141_4","Контракт","72/2013",10,20282637.809999999,4244377.57,"F82GL17365","2018-04-12"]
["322465_37026141_5","Контракт","2",10,1998000,399600,"F82GL17365","2018-04-12"]
["322465_37026141_6","Контракт","01/13-А",10,2265091.7000000002,486361.79,"F82GL17365","2018-04-12"]
["322465_37026141_7","Контракт","03/13-А",10,2436897.29,521140.61,"F82GL17365","2018-04-12"]
["322465_37026141_8","Контракт","05/13-А",10,3532662.9,758535.48,"F82GL17365","2018-04-12"]
["322465_30602673_9","Контракт","15/2014",10,16343463.039999999,3555750.35,"F82GL17365","2018-04-12"]
["300498_39321683_1","Національні інвестиції"," 122-14/15-Ф ",9,3362100,672420,"F05GL11115","2018-02-27"]
["300498_39321683_2","Національні інвестиції"," 386-13/15-Ф",9,1977500,395500,"F05GL11115","2018-02-27"]
["300498_39321683_3","Національні інвестиції"," 17-14/15-Ф ",9,3024092,604818.4,"F05GL11115","2018-02-27"]
["300498_39321683_4","Національні інвестиції"," 478-12/15-Ф",9,3026040,605208,"F05GL11115","2018-02-27"]
["300498_39321683_5","Національні інвестиції"," 470-12/15-Ф",9,10780000,2156000,"F05GL11115","2018-02-27"]
["300498_39321683_6","Національні інвестиції"," 08-13/15-Ф",9,8283296.5,1656659.3,"F05GL11115","2018-02-27"]
["300498_39321683_7","Національні інвестиції"," 231-12/15-Ф",9,1194231.1000000001,238846.22000000003,"F05GL11115","2018-02-27"]
["300498_39321683_8","Національні інвестиції"," 406-11/15-Ф",9,6193384.3600000003,1238676.8720000002,"F05GL11115","2018-02-27"]
["300498_39321683_9","Національні інвестиції"," 157-13/815/15-Ф",9,2241416.0099999998,448283.20199999999,"F05GL11115","2018-02-27"]
["300498_39321683_10","Національні інвестиції","149-14/15-Ф",9,29527023.800000001,5905404.7600000007,"F05GL11115","2018-02-27"]
["300498_33406185_11","Національні інвестиції","402-13",9,39786251.509999998,42237315.810000002,"F05GL10820","2018-02-21"]
["380236_14308500_1","Дельта","04.1/23/07-КЛТ",1,1843571635.5699999,368714327.11000001,"F11GL6710","2018-01-03"]
["380236_31550511_2","Дельта","04.1/51/07-КЛТ",8,115562095.17,23112419.030000001,"F11GL6710","2018-01-03"]
["380399_35683118_1","КАМБІО","004/1-2013/980",9,51565625.140000001,53281488.700000003,"F31GL5690","2018-01-23"]
["380399_36061733_2","КАМБІО","013/1-2014/980",9,51341394.950000003,53049796.140000001,"F31GL5691","2018-01-23"]
["380399_35740940_3","КАМБІО","606/02-2010",13,23792135.609999999,27179032.829999998,"F31GL8396","2018-01-29"]
["380399_32397777_4","КАМБІО","608/02-2010",13,15878190.52,17621395.98,"F31GL8396","2018-01-29"]
["380399_32397777_5","КАМБІО","610/02-2011",13,6289706.7699999996,7391527.8300000001,"F31GL8396","2018-01-29"]
["380399_35982130_6","КАМБІО","104/1-2010/978",9,13883148.789999999,14848475.109999999,"F31GL7624","2018-01-25"]
["380399_35982130_7","КАМБІО","107/1-2010/840",9,12425623.130000001,12787181.32,"F31GL7624","2018-01-25"]
["380399_35982130_8","КАМБІО","109/1-2010/ 978",9,12153776.99,12998786.15,"F31GL7624","2018-01-25"]
["380399_35886620_9","КАМБІО","103/1-2010/840",9,35464737.469999999,36511068.090000004,"F31GL7625","2018-01-25"]
["380399_30540832_10","КАМБІО","036/1-2012/980",13,20847731.359999999,22239757.43,"F31GL8397","2018-01-29"]
["380399_32091942_11","КАМБІО","1ю-2014/980",13,40486027.490000002,43225479.509999998,"F31GL8398","2018-01-29"]
["380399_38586806_12","КАМБІО","012/1-2014/980",13,45761479.409999996,48857890.369999997,"F31GL8399","2018-01-29"]
["380399_31298029_13","КАМБІО","536 /02-2010",13,4447395.5999999996,4447395.5999999996,"F31GL8402","2018-01-29"]
["380399_31298029_14","КАМБІО","190/02-2006",13,4891382.42,4872424.75,"F31GL8402","2018-01-29"]
["380399_31298029_15","КАМБІО","331/02-2008",13,2855006.69,2843941.46,"F31GL8402","2018-01-29"]
["380399_24465962_16","КАМБІО","335/02-2008",13,8314899.29,8282673,"F31GL8402","2018-01-29"]
["380399_3050102644_17","КАМБІО","801 /06-2014",13,16476466.82,17635646.02,"F31GL8404","2018-01-29"]
["380399_3050102644_18","КАМБІО","742/01-2013",13,49384.45,54732.47,"F31GL8404","2018-01-29"]
["380399_38220095_19","КАМБІО","712/01-2012",13,4403140.3600000003,4403140.3600000003,"F31GL8400","2018-01-29"]
["380399_38220095_20","КАМБІО","730/02-2013",13,298566.74,298566.74,"F31GL8400","2018-01-29"]
["380399_33576882_21","КАМБІО","181/02-2006",13,9042050.1799999997,9042050.1799999997,"F31GL8401","2018-01-29"]
["380399_2049220006_22","КАМБІО","746/01-2013",13,603088.57999999996,651908.80000000005,"F31GL8403","2018-01-29"]
["380399_2984007153_23","КАМБІО","520/02-2010",13,431594.02999999997,470301.18,"F31GL8405","2018-01-29"]
["380399_2365200553_24","КАМБІО","307/02-2008",13,369294.92,369294.92,"F31GL8406","2018-01-29"]
["380399_36509714_29","КАМБІО","009/1-2012/980",13,28823986.719999999,30679811.379999999,"F31GL10989","2018-02-21"]
["380399_35849311_30","КАМБІО","036/1-2011/980",13,26684542.859999999,28444569.120000001,"F31GL10990","2018-02-21"]
["380399_37634188_31","КАМБІО","002/1-2012/980",13,9259762.6600000001,9869502.8499999996,"F31GL10987","2018-02-21"]
["380399_35420835_32","КАМБІО","589/02-2010",13,5334672,5334672,"F31GL10594","2018-02-16"]
["380399_35420835_33","КАМБІО","594/02-2010",13,3550981.12,3550981.12,"F31GL10594","2018-02-16"]
["380399_35420835_34","КАМБІО","595/02-2010",13,1298165.69,1298165.69,"F31GL10594","2018-02-16"]
["380399_36158429_35","КАМБІО","031/1-2012/840",13,36388218.049999997,40866582.579999998,"F31GL10988","2018-02-21"]
["380399_36158429_36","КАМБІО","032/1-2011/980",13,16125289.970000001,17163474.07,"F31GL10988","2018-02-21"]
["320995_39230722_1","БГ банк","017",9,17800000,3560000,"F36GL13785","2018-03-22"]
["380537_31650398_1","ВіЕйБі","65",9,216378.4,43275.68,"F39GL7867","2018-01-24"]
["380537_34155850_2","ВіЕйБі","11-07/юр",9,1486595.04,297319.01,"F39GL7869","2018-01-24"]
["380537_2510502091_3","ВіЕйБі","1/07-SME",9,225758.79,45151.76,"F39GL7868","2018-01-24"]
["380537_2510502091_4","ВіЕйБі","3/07-SME",9,1353209.92,270641.98,"F39GL7868","2018-01-24"]
["300670_20118873_1","Хрещатик",1,9,17749378.41,5102181.1900000004,"F55GL8467","2018-02-02"]
["300670_20118873_2","Хрещатик",1,9,5645419.9199999999]
["300670_20118873_3","Хрещатик",1,9,2116107.64]
["300670_32480723_4","Хрещатик",1,9,150187.07999999999,30667.43,"F55GL8471","2018-02-02"]
["300670_32480723_5","Хрещатик",1,9,3150.06]
["300175_36590318_1","ФІДОБАНК","293",11,41236970.859999999,"48 884 728.87","F90GL9505","2018-02-06"]
["328210_34994243_1","ІНВЕСТБАНК","№03-11",9,32013277.199999999,6402655.4400000004,"F50GL13984","2018-03-22"]
["328210_38784870_2","ІНВЕСТБАНК","№21/13",9,7744270.1200000001,1548854.02,"F50GL13985","2018-03-22"]
["328210_39297263_3","ІНВЕСТБАНК","№38-15",9,44715251.380000003,8943050.2799999993,"F50GL13987","2018-03-22"]
["328210_39537084_4","ІНВЕСТБАНК","№42-15",9,18018503.370000001,3603700.67,"F50GL13986","2018-03-22"]
["328210_39686484_5","ІНВЕСТБАНК","№54-15",9,6411748.6500000004,1282349.73,"F50GL13983","2018-03-22"]
["328210_38129500_6","ІНВЕСТБАНК","№29-16",9,7799672.29,1559934.4580000001,"F50GL13988","2018-03-22"]
["328210_33915151_7","ІНВЕСТБАНК","№75/10 ",9,4968686.6100000003,993737.32200000016,"F50GL13989","2018-03-22"]
["328210_35998313_8","ІНВЕСТБАНК","№02/15",9,48731227.020000003,9746245.404000001,"F50GL13990","2018-03-22"]
["328210_30913888_9","ІНВЕСТБАНК","№37-11",9,1639501.07,327900.21400000004,"F50GL13991","2018-03-22"]
["328210_30913888_10","ІНВЕСТБАНК","№118-13",9,420344.19,84068.838000000003,"F50GL13991","2018-03-22"]
["328210_30913888_11","ІНВЕСТБАНК","№107-13",9,2654230.67,530846.13399999996,"F50GL13991","2018-03-22"]
["328210_32067160_12","ІНВЕСТБАНК","№77-12",9,4749624.01,949924.80200000003,"F50GL13991","2018-03-22"]
["328210_32067160_13","ІНВЕСТБАНК","№50-15/ОД",9,152949.97,30589.994000000002,"F50GL13991","2018-03-22"]
["328210_34807752_14","ІНВЕСТБАНК","№31-15",9,36260285.130000003,7252057.0260000005,"F50GL13992","2018-03-22"]
["328210_32641358_15","ІНВЕСТБАНК","№19-16/ОД",9,269977.36,53995.472000000002,"F50GL13993","2018-03-22"]
["328210_36611505_16","ІНВЕСТБАНК","№05/11",9,987610.96,197522.19200000001,"F50GL13994","2018-03-22"]
["328210_36611505_17","ІНВЕСТБАНК","№16/11",9,1027783.09,205556.61800000002,"F50GL13994","2018-03-22"]
["328210_36611505_18","ІНВЕСТБАНК","№41/11",9,949286.63,189857.326,"F50GL13994","2018-03-22"]
["328210_36611505_19","ІНВЕСТБАНК","№67/10",9,87626.47,17525.294000000002,"F50GL13994","2018-03-22"]
["328210_36611505_20","ІНВЕСТБАНК","№78/10",9,2068397.79,413679.55800000002,"F50GL13994","2018-03-22"]
["380388_35696310_1","Платинум Банк","173/07/13",1,15848661.85,3169732.37,"F65GL10151","2018-02-16"]
["380388_35818634_2","Платинум Банк","04/01/14",1,30574829.800000001,6114965.96,"F65GL10151","2018-02-16"]
["380388_33865394_3","Платинум Банк","141/12/12",1,2113730.64,422746.13,"F65GL10154","2018-02-16"]
["380388_20596199_4","Платинум Банк","REF.2011101094",1,2679911.83,535982.37,"F65GL10155","2018-02-16"]
["380388_20596199_5","Платинум Банк","BDL.2011101095",1,939644.49,187928.9,"F65GL10155","2018-02-16"]
["380388_20596199_6","Платинум Банк","LCI.2011101095",1,12431.19,2486.2399999999998,"F65GL10155","2018-02-16"]
["321477_20620532_1","Старокиївський",0,9,15486305.369999999,15486305.369999999,"F70GL12992","2018-03-12"]
["334969_25093876_1","Укрбізнесбанк","20",9,2166198.04,433239.61,"F72GL10651","2018-02-26"]
["380388__1","Платинум Банк",0,1,12051442.310000001,2410288.46,"F65GL8119, F65GL8120","2018-01-23"]
["300205_00273991_1","УПБ",1,9,29015342.5,6406684.9400000004,"F77GL13115","20.03.2018 "]
["380474_2764519369_1","ТРАСТ","450",9,943067.57,976128.1,"F84GL8480","2018-02-01"]
["322465_00149593_1","Контракт","",10," ",914577.69,"F82GL17375","2018-04-12"]
["300852_12345678_1","Активбанк","Договора відповідно реєстру",9,165050.53,33010.11,"F49GL14369","2018-03-23"]
["","Фінанси та Кредит","217-ОД",9,4061293.15,4205575.83,"F07GL14294","2018-03-27"]
["","Фінанси та Кредит","463V-01-08",9,4432974.2300000004,4962720.91,"F07GL14294","2018-03-27"]
["","Фінанси та Кредит","462-01-08",9,60603.8,62854.68,"F07GL14294","2018-03-27"]
["","Фінанси та Кредит","382-01-07",9,58301.61,60656.28,"F07GL14294","2018-03-27"]
["","Фінанси та Кредит","83-10/07",9,5021163.24,5021163.24,"F07GL14295","2018-03-27"]
["","Фінанси та Кредит","29v-01-08",9,16829338.850000001,19034344.690000001,"F07GL14299","2018-03-27"]
["328210_25934519_1","ІНВЕСТБАНК"," №41-12 ",9,1441231.81,288246.36200000002,"F50GL13997","2018-03-22"]
["328210_36043557_2","ІНВЕСТБАНК"," №94-13",9,1316599.98,263319.99599999998,"F50GL13996","2018-03-22"]
["328210_36170760_3","ІНВЕСТБАНК","№111-11",9,110875.63,22175.126000000004,"F50GL13995","2018-03-22"]
["328210_36170760_4","ІНВЕСТБАНК","№112-11/ОД",9,478910.71999999997,95782.144,"F50GL13995","2018-03-22"]
["328210_36170760_5","ІНВЕСТБАНК","№18-12",9,30937.06,6187.4120000000003,"F50GL13995","2018-03-22"]
["328210_36170760_6","ІНВЕСТБАНК","№88-10",9,207698.24,41539.648000000001,"F50GL13995","2018-03-22"]
["328210_37913692_7","ІНВЕСТБАНК","№30-12/ОД",9,186438.98,37287.796000000002,"F50GL13995","2018-03-22"]
["380236_30797217_1","Дельта","13/008/2009-КЛТ",10,1545050.77,309010.15000000002,"F11GL20002","2018-05-31"]
["380236_30797217_2","Дельта","13/035/2008-К",10,68069122.019999996,13613824.4,"F11GL20002","2018-05-31"]
["380236_30797217_3","Дельта","13/039/2008-КЛТ",10,55349705.549999997,11069941.109999999,"F11GL20002","2018-05-31"]
["380236_30797217_4","Дельта","13/050/2007-К",10,12319272.42,2463854.48,"F11GL20002","2018-05-31"]
["380236_30797217_5","Дельта","13/051/2007-К",10,836918.87,167383.76999999999,"F11GL20002","2018-05-31"]
["380236_30797217_6","Дельта","13/085/2007-К",10,345626.88,69125.38,"F11GL20002","2018-05-31"]
["380236_34619476_1","Дельта","НКЛ-2005484/1",16,107345946.42,21469189.280000001,"F11GL20004","2018-05-31"]
["380236_34619476_2","Дельта","НКЛ-2005484/2",16,33863413.039999999,6772682.6100000003,"F11GL20004","2018-05-31"]
["380236_34046074_3","Дельта","НКЛ-2002859",14,110135441.06,22027088.210000001,"F11GL20003","2018-05-31"]
["380236_34046074_4","Дельта","НКЛ-2002859/1",14,123224109.58,24644821.920000002,"F11GL20003","2018-05-31"]
["380236_35467291_5","Дельта","НКЛ-2022815",14,162272241.18000001,32454448.239999998,"F11GL20003","2018-05-31"]
["380236_31758184_6","Дельта","№04/69/07-КЛТ",14,689844612.16999996,137968922.43000001,"F11GL20005","2018-05-31"]
[null,"",""]
[null,"",""]
[null,"",""]
[null,"",""]
[null,"",""]
[null,"",""]
[null,"",""]
[null,"",""]
[null,"",""]
[null,"",""]
[null,"",""]
[null,"",""]
[null,"",""]
[null,"",""]
[null,"",""]
[null,"",""]
[null,"",""]
[null,"",""]
[null,"",""]
[null,"",""]
[null,"",""]
[null,"",""]
[null,"",""]
[null,"",""]
[null,"",""]
[null,"",""]
[null,"",""]
[null,"",""]
[null,"",""]
[null,"",""]
[null,"",""]
[null,"",""]
[null,"",""]
[null,"",""]
[null,"",""]
[null,"",""]
[null,"",""]
[null,"",""]
[null,"",""]
[null,"",""]
[null,"",""]
[null,"",""]
[null,"",""]
[null,"",""]
[null,"",""]
[null,"",""]
[null,"",""]
[null,"",""]
[null,"",""]
[null,"",""]
[null,"",""]
[null,"",""]
[null,"",""]
[null,"",""]
[null,"",""]
[null,"",""]
[null,"",""]
[null,"",""]
[null,"",""]
[null,"",""]
[null,"",""]
[null,"",""]
[null,"",""]
[null,"",""]
[null,"",""]
[null,"",""]
[null,"",""]
[null,"",""]
[null,"",""]
[null,"",""]
[null,"",""]
[null,"",""]
[null,"",""]
[null,"",""]
[null,"",""]
[null,"",""]
[null,"",""]
[null,"",""]
[null,"",""]
[null,"",""]
[null,"",""]
[null,"",""]
[null,"",""]
[null,"",""]
[null,"",""]
[null,"",""]
[null,"",""]
[null,"",""]
[null,"",""]
[null,"",""]
[null,"",""]
[null,"",""]
[null,"",""]
[null,"",""]
[null,"",""]
[null,"",""]
[null,"",""]
[null,"",""]
[null,"",""]
[null,"",""]
[null,"",""]
[null,"",""]
[null,"",""]
[null,"",""]
[null,"",""]
[null,"",""]
[null,"",""]
[null,"",""]
[null,"",""]
[null,"",""]
[null,"",""]
[null,"",""]
[null,"",""]
[null,"",""]
[null,"",""]
[null,"",""]
[null,"",""]
[null,"",""]
[null,"",""]
[null,"",""]
[null,"",""]
[null,"",""]
[null,"",""]
[null,"",""]
[null,"",""]
[null,"",""]
[null,"",""]
[null,"",""]
[null,"",""]
[null,"",""]
[null,"",""]
[null,"",""]
[null,"",""]
[null,"",""]
[null,"",""]
[null,"",""]
[null,"",""]
[null,"",""]
[null,"",""]
[null,"",""]
[null,"",""]
[null,"",""]
[null,"",""]
[null,"",""]
[null,"",""]
[null,"",""]
[null,"",""]
[null,"",""]
[null,"",""]
[null,"",""]
[null,"",""]
[null,"",""]
[null,"",""]
[null,"",""]
[null,"",""]
[null,"",""]
[null,"",""]
[null,"",""]
[null,"",""]
[null,"",""]
[null,"",""]
[null,"",""]
[null,"",""]
[null,"",""]
[null,"",""]
[null,"",""]
[null,"",""]
[null,"",""]
[null,"",""]
[null,"",""]
[null,"",""]
[null,"",""]
[null,"",""]
[null,"",""]
[null,"",""]
[null,"",""]
[null,"",""]
[null,"",""]
[null,"",""]
[null,"",""]
[null,"",""]
[null,"",""]
[null,"",""]
[null,"",""]
[null,"",""]
[null,"",""]
[null,"",""]
[null,"",""]
[null,"",""]
[null,"",""]
[null,"",""]
[null,"",""]
[null,"",""]
[null,"",""]
[null,"",""]
[null,"",""]
[null,"",""]
[null,"",""]
[null,"",""]
[null,"",""]
[null,"",""]
[null,"",""]
[null,"",""]
[null,"",""]
[null,"",""]
[null,"",""]
[null,"",""]
[null,"",""]
[null,"",""]
[null,"",""]
[null,"",""]
[null,"",""]
[null,"",""]
[null,"",""]
[null,"",""]
[null,"",""]
[null,"",""]
[null,"",""]
[null,"",""]
[null,"",""]
[null,"",""]
[null,"",""]
[null,"",""]
[null,"",""]
[null,"",""]
[null,"",""]
[null,"",""]
[null,"",""]
[null,"",""]
[null,"",""]
[null,"",""]
[null,"",""]
[null,"",""]
[null,"",""]
[null,"",""]
[null,"",""]
[null,"",""]
[null,"",""]
[null,"",""]
[null,"",""]
[null,"",""]
[null,"",""]
[null,"",""]
[null,"",""]
[null,"",""]
[null,"",""]
[null,"",""]
[null,"",""]
[null,"",""]
[null,"",""]
[null,"",""]
[null,"",""]
[null,"",""]
[null,"",""]
[null,"",""]
[null,"",""]
[null,"",""]
[null,"",""]
[null,"",""]
[null,"",""]
[null,"",""]
[null,"",""]
[null,"",""]
[null,"",""]
[null,"",""]
[null,"",""]
[null,"",""]
[null,"",""]
[null,"",""]
[null,"",""]
[null,"",""]
[null,"",""]
[null,"",""]
[null,"",""]
[null,"",""]
[null,"",""]
[null,"",""]
[null,"",""]
[null,"",""]
[null,"",""]
[null,"",""]
[null,"",""]
[null,"",""]
[null,"",""]
[null,"",""]
[null,"",""]
[null,"",""]
[null,"",""]
[null,"",""]
[null,"",""]
[null,"",""]
[null,"",""]
[null,"",""]
[null,"",""]
[null,"",""]
[null,"",""]
[null,"",""]
[null,"",""]
[null,"",""]
[null,"",""]
[null,"",""]
[null,"",""]
[null,"",""]
[null,"",""]
[null,"",""]
[null,"",""]
[null,"",""]
[null,"",""]
[null,"",""]
[null,"",""]
[null,"",""]
[null,"",""]
[null,"",""]
[null,"",""]
[null,"",""]
[null,"",""]
[null,"",""]
[null,"",""]
[null,"",""]
[null,"",""]
[null,"",""]
[null,"",""]
[null,"",""]
[null,"",""]
[null,"",""]
[null,"",""]
[null,"",""]
[null,"",""]
[null,"",""]
[null,"",""]
[null,"",""]
[null,"",""]
[null,"",""]
[null,"",""]
[null,"",""]
[null,"",""]
[null,"",""]
[null,"",""]
[null,"",""]
[null,"",""]
[null,"",""]
[null,"",""]
[null,"",""]
[null,"",""]
[null,"",""]
[null,"",""]
[null,"",""]
[null,"",""]
[null,"",""]
[null,"",""]
[null,"",""]
[null,"",""]
[null,"",""]
[null,"",""]
[null,"",""]
[null,"",""]
[null,"",""]
[null,"",""]
[null,"",""]
[null,"",""]
[null,"",""]
[null,"",""]
[null,"",""]
[null,"",""]
[null,"",""]
[null,"",""]
[null,"",""]
[null,"",""]
[null,"",""]
[null,"",""]
[null,"",""]
[null,"",""]
[null,"",""]
[null,"",""]
[null,"",""]
[null,"",""]
[null,"",""]
[null,"",""]
[null,"",""]
[null,"",""]
[null,"",""]
[null,"",""]
[null,"",""]
[null,"",""]
[null,"",""]
[null,"",""]
[null,"",""]
[null,"",""]
[null,"",""]
[null,"",""]
[null,"",""]
[null,"",""]
[null,"",""]
[null,"",""]
[null,"",""]
[null,"",""]
[null,"",""]
[null,"",""]
[null,"",""]
[null,"",""]
[null,"",""]
[null,"",""]
[null,"",""]
[null,"",""]
[null,"",""]
[null,"",""]
[null,"",""]
[null,"",""]
[null,"",""]
[null,"",""]
[null,"",""]
[null,"",""]
[null,"",""]
[null,"",""]
[null,"",""]
[null,"",""]
[null,"",""]
[null,"",""]
[null,"",""]
[null,"",""]
[null,"",""]
[null,"",""]
[null,"",""]
[null,"",""]
[null,"",""]
[null,"",""]
[null,"",""]
[null,"",""]
[null,"",""]
[null,"",""]
[null,"",""]
[null,"",""]
[null,"",""]
[null,"",""]
[null,"",""]
[null,"",""]
[null,"",""]
[null,"",""]
[null,"",""]
[null,"",""]
[null,"",""]
[null,"",""]
[null,"",""]
[null,"",""]
[null,"",""]
[null,"",""]
[null,"",""]
[null,"",""]
[null,"",""]
[null,"",""]
[null,"",""]
[null,"",""]
[null,"",""]
[null,"",""]
[null,"",""]
[null,"",""]
[null,"",""]
[null,"",""]
[null,"",""]
[null,"",""]
[null,"",""]
[null,"",""]
[null,"",""]
[null,"",""]
[null,"",""]
[null,"",""]
[null,"",""]
[null,"",""]
[null,"",""]
[null,"",""]
[null,"",""]
[null,"",""]
[null,"",""]
[null,"",""]
[null,"",""]
[null,"",""]
[null,"",""]
[null,"",""]
[null,"",""]
[null,"",""]
[null,"",""]
[null,"",""]
[null,"",""]
[null,"",""]
[null,"",""]
[null,"",""]
[null,"",""]
[null,"",""]
[null,"",""]
[null,"",""]
[null,"",""]
[null,"",""]
[null,"",""]
[null,"",""]
[null,"",""]
[null,"",""]
[null,"",""]
[null,"",""]
[null,"",""]
[null,"",""]
[null,"",""]
[null,"",""]
[null,"",""]
[null,"",""]
[null,"",""]
[null,"",""]
[null,"",""]
[null,"",""]
[null,"",""]
[null,"",""]
[null,"",""]
[null,"",""]
[null,"",""]
[null,"",""]
[null,"",""]
[null,"",""]
[null,"",""]
[null,"",""]
[null,"",""]
[null,"",""]
[null,"",""]
[null,"",""]
[null,"",""]
[null,"",""]
[null,"",""]
[null,"",""]
[null,"",""]
[null,"",""]
[null,"",""]
[null,"",""]
[null,"",""]
[null,"",""]
[null,"",""]
[null,"",""]
[null,"",""]
[null,"",""]
[null,"",""]
[null,"",""]
[null,"",""]
[null,"",""]
[null,"",""]
[null,"",""]
[null,"",""]
[null,"",""]
[null,"",""]
[null,"",""]
[null,"",""]
[null,"",""]
[null,"",""]
[null,"",""]
[null,"",""]
[null,"",""]
[null,"",""]
[null,"",""]
[null,"",""]
[null,"",""]
[null,"",""]
[null,"",""]
[null,"",""]
[null,"",""]
[null,"",""]
[null,"",""]
[null,"",""]
[null,"",""]
[null,"",""]
[null,"",""]
[null,"",""]
[null,"",""]
[null,"",""]
[null,"",""]
[null,"",""]
[null,"",""]
[null,"",""]
[null,"",""]
[null,"",""]
[null,"",""]
[null,"",""]
[null,"",""]
[null,"",""]
[null,"",""]
[null,"",""]
[null,"",""]
[null,"",""]
[null,"",""]
[null,"",""]
[null,"",""]
[null,"",""]
[null,"",""]
[null,"",""]
[null,"",""]
[null,"",""]
[null,"",""]
[null,"",""]
[null,"",""]
[null,"",""]
[null,"",""]
[null,"",""]
[null,"",""]
[null,"",""]
[null,"",""]
[null,"",""]
[null,"",""]
[null,"",""]
[null,"",""]
[null,"",""]
[null,"",""]
[null,"",""]
[null,"",""]
[null,"",""]
[null,"",""]
[null,"",""]
[null,"",""]
[null,"",""]
[null,"",""]
[null,"",""]
[null,"",""]
[null,"",""]
[null,"",""]
[null,"",""]
[null,"",""]
[null,"",""]
[null,"",""]
[null,"",""]
[null,"",""]
[null,"",""]
[null,"",""]
[null,"",""]
[null,"",""]
[null,"",""]
[null,"",""]
[null,"",""]
[null,"",""]
[null,"",""]
[null,"",""]
[null,"",""]
[null,"",""]
[null,"",""]
[null,"",""]
[null,"",""]
[null,"",""]
[null,"",""]
[null,"",""]
[null,"",""]
[null,"",""]
[null,"",""]
[null,"",""]
[null,"",""]
[null,"",""]
[null,"",""]
[null,"",""]
[null,"",""]
[null,"",""]
[null,"",""]
[null,"",""]
[null,"",""]
[null,"",""]
[null,"",""]
[null,"",""]
[null,"",""]
[null,"",""]
[null,"",""]
[null,"",""]
[null,"",""]
[null,"",""]
[null,"",""]
[null,"",""]
[null,"",""]
[null,"",""]
[null,"",""]
[null,"",""]
[null,"",""]
[null,"",""]
[null,"",""]
[null,"",""]
[null,"",""]
[null,"",""]
[null,"",""]
[null,"",""]
[null,"",""]
[null,"",""]
[null,"",""]
[null,"",""]
[null,"",""]
[null,"",""]
[null,"",""]
[null,"",""]
[null,"",""]
[null,"",""]
[null,"",""]
[null,"",""]
[null,"",""]
[null,"",""]
[null,"",""]
[null,"",""]
[null,"",""]
[null,"",""]
[null,"",""]
[null,"",""]
[null,"",""]
[null,"",""]
[null,"",""]
[null,"",""]
[null,"",""]
[null,"",""]
[null,"",""]
[null,"",""]
[null,"",""]
[null,"",""]
[null,"",""]
[null,"",""]
[null,"",""]
[null,"",""]
[null,"",""]
[null,"",""]
[null,"",""]
[null,"",""]
[null,"",""]
[null,"",""]
[null,"",""]
[null,"",""]
[null,"",""]
[null,"",""]
[null,"",""]
[null,"",""]
[null,"",""]
[null,"",""]
[null,"",""]
[null,"",""]
[null,"",""]
[null,"",""]
[null,"",""]
[null,"",""]
[null,"",""]
[null,"",""]
[null,"",""]
[null,"",""]
[null,"",""]
[null,"",""]
[null,"",""]
[null,"",""]
[null,"",""]
[null,"",""]
[null,"",""]
[null,"",""]
[null,"",""]
[null,"",""]
[null,"",""]
[null,"",""]
[null,"",""]
[null,"",""]
[null,"",""]
[null,"",""]
[null,"",""]
[null,"",""]
[null,"",""]
[null,"",""]
[null,"",""]
[null,"",""]
[null,"",""]
[null,"",""]
[null,"",""]
[null,"",""]
[null,"",""]
[null,"",""]
[null,"",""]
[null,"",""]
[null,"",""]
[null,"",""]
[null,"",""]
[null,"",""]
[null,"",""]
[null,"",""]
[null,"",""]
[null,"",""]
[null,"",""]
[null,"",""]
[null,"",""]
[null,"",""]
[null,"",""]
[null,"",""]
[null,"",""]
[null,"",""]
[null,"",""]
[null,"",""]
[null,"",""]
[null,"",""]
[null,"",""]
[null,"",""]
[null,"",""]
[null,"",""]
[null,"",""]
[null,"",""]
[null,"",""]
[null,"",""]
[null,"",""]
[null,"",""]
[null,"",""]
[null,"",""]
[null,"",""]
[null,"",""]
[null,"",""]
[null,"",""]
[null,"",""]
[null,"",""]
[null,"",""]
[null,"",""]
[null,"",""]
[null,"",""]
[null,"",""]
[null,"",""]
[null,"",""]
[null,"",""]
[null,"",""]
[null,"",""]
[null,"",""]
[null,"",""]
[null,"",""]
[null,"",""]
[null,"",""]
[null,"",""]
[null,"",""]
[null,"",""]
[null,"",""]
[null,"",""]
[null,"",""]
[null,"",""]
[null,"",""]
[null,"",""]
[null,"",""]
[null,"",""]
[null,"",""]
[null,"",""]
[null,"",""]
[null,"",""]
[null,"",""]
[null,"",""]
[null,"",""]
[null,"",""]
[null,"",""]
[null,"",""]
[null,"",""]
[null,"",""]
[null,"",""]
[null,"",""]
[null,"",""]
[null,"",""]
[null,"",""]
[null,"",""]
[null,"",""]
[null,"",""]
[null,"",""]
[null,"",""]
[null,"",""]
[null,"",""]
[null,"",""]
[null,"",""]
[null,"",""]
[null,"",""]
[null,"",""]
[null,"",""]
[null,"",""]
[null,"",""]
[null,"",""]
[null,"",""]
[null,"",""]
[null,"",""]
[null,"",""]
[null,"",""]
[null,"",""]
[null,"",""]
[null,"",""]
[null,"",""]
[null,"",""]
[null,"",""]
[null,"",""]
[null,"",""]
[null,"",""]
[null,"",""]
[null,"",""]
[null,"",""]
[null,"",""]
[null,"",""]
[null,"",""]
[null,"",""]
[null,"",""]
[null,"",""]
[null,"",""]
[null,"",""]
[null,"",""]
[null,"",""]
[null,"",""]
[null,"",""]
[null,"",""]
[null,"",""]
[null,"",""]
[null,"",""]
[null,"",""]
[null,"",""]
[null,"",""]
[null,"",""]
[null,"",""]
[null,"",""]
[null,"",""]
[null,"",""]
[null,"",""]
[null,"",""]
[null,"",""]
[null,"",""]
[null,"",""]
[null,"",""]
[null,"",""]
[null,"",""]
[null,"",""]
[null,"",""]
[null,"",""]
[null,"",""]
[null,"",""]
[null,"",""]
[null,"",""]
[null,"",""]
[null,"",""]
[null,"",""]
[null,"",""]
[null,"",""]
[null,"",""]
[null,"",""]
[null,"",""]
[null,"",""]
[null,"",""]
[null,"",""]
[null,"",""]
[null,"",""]
[null,"",""]
[null,"",""]
[null,"",""]
[null,"",""]
[null,"",""]
[null,"",""]
[null,"",""]
[null,"",""]
[null,"",""]
[null,"",""]
[null,"",""]
[null,"",""]
[null,"",""]
[null,"",""]
[null,"",""]
[null,"",""]
[null,"",""]
[null,"",""]
[null,"",""]
[null,"",""]
[null,"",""]
[null,"",""]
[null,"",""]
[null,"",""]
[null,"",""]
[null,"",""]
[null,"",""]
[null,"",""]
[null,"",""]
[null,"",""]
[null,"",""]
[null,"",""]
[null,"",""]
[null,"",""]
[null,"",""]
[null,"",""]
[null,"",""]
[null,"",""]
[null,"",""]
[null,"",""]
[null,"",""]
[null,"",""]
[null,"",""]
[null,"",""]
[null,"",""]
[null,"",""]
[null,"",""]
[null,"",""]
[null,"",""]
[null,"",""]
[null,"",""]
[null,"",""]
[null,"",""]
[null,"",""]
[null,"",""]
[null,"",""]
[null,"",""]
[null,"",""]
[null,"",""]
[null,"",""]
[null,"",""]
[null,"",""]
[null,"",""]
[null,"",""]
[null,"",""]
[null,"",""]
[null,"",""]
[null,"",""]
[null,"",""]
[null,"",""]
[null,"",""]
[null,"",""]
[null,"",""]
[null,"",""]
[null,"",""]
[null,"",""]
[null,"",""]
[null,"",""]
[null,"",""]
[null,"",""]
[null,"",""]
[null,"",""]
[null,"",""]
[null,"",""]
[null,"",""]
[null,"",""]
[null,"",""]
[null,"",""]
[null,"",""]
[null,"",""]
[null,"",""]
[null,"",""]
[null,"",""]
[null,"",""]
[null,"",""]
[null,"",""]
[null,"",""]
[null,"",""]
[null,"",""]
[null,"",""]
[null,"",""]
[null,"",""]
[null,"",""]
[null,"",""]
[null,"",""]
[null,"",""]
[null,"",""]
[null,"",""]
[null,"",""]
[null,"",""]
[null,"",""]
[null,"",""]
[null,"",""]
[null,"",""]
[null,"",""]
[null,"",""]
[null,"",""]
[null,"",""]
[null,"",""]
[null,"",""]
[null,"",""]
[null,"",""]
[null,"",""]
[null,"",""]
[null,"",""]
[null,"",""]
[null,"",""]
[null,"",""]
[null,"",""]
[null,"",""]
[null,"",""]
[null,"",""]

{"sheet":"журнал_пулів","index":4,"n_rows":1001,"n_cols":11,"rows_kept":1001,"cut":false,"hidden":true,"merged":[[0,2,0,3],[1,2,1,3],[2,2,2,3]]}
[null,null,"Тип пулу",null,4]
[null,null,"Дата надходження",null,"2018-06-01"]
[null,null,{"$f":"\"Номер пулу типу \"&E1&\" на дату \"&TEXT(E2,\"dd.mm.yyyy\")","v":"Номер пулу типу 4 на дату 01.06.2018"},null,2]
["Група активу","МФО",{"$f":"'[12]1.Портфель кредитів'!F15","v":"Найменування Позичальника"},{"$f":"'[12]1.Портфель кредитів'!G15","v":"Група Позичальників"},{"$f":"'[12]1.Портфель кредитів'!H15","v":"ЄДРПОУ"},{"$f":"'[12]1.Портфель кредитів'!M15","v":"Номер кредитного договору"},{"$f":"'[12]1.Портфель кредитів'!AA15","v":"Оціночна вартість"},{"$f":"'[12]1.Портфель кредитів'!AC15","v":"Заборгованстіь  на дату заповнення паспорту 01.02.2018р. (тіло та проценти):"},"Тип пулу","Дата надходження","ID_pool"]
[{"$f":"'1.Портфель кредитів'!H9","v":1},{"$f":"'1.Портфель кредитів'!D9","v":"322465"},{"$f":"'1.Портфель кредитів'!#REF!","v":{"$error":"#REF!"}},{"$f":"'1.Портфель кредитів'!#REF!","v":{"$error":"#REF!"}},{"$f":"'1.Портфель кредитів'!#REF!","v":{"$error":"#REF!"}},{"$f":"'1.Портфель кредитів'!I9","v":"069/2008"},{"$f":"'1.Портфель кредитів'!W9","v":1349271},{"$f":"'1.Портфель кредитів'!Y9","v":11585381.690000001},{"$f":"$E$1","v":4},{"$f":"$E$2","v":"2018-06-01"},{"$f":"B5&\"_\"&I5&\"_\"&J5&\"_\"&$E$3","v":"322465_4_43252_2"}]
[{"$f":"'1.Портфель кредитів'!H10","v":1},{"$f":"'1.Портфель кредитів'!D10","v":"322465"},{"$f":"'1.Портфель кредитів'!#REF!","v":{"$error":"#REF!"}},{"$f":"'1.Портфель кредитів'!#REF!","v":{"$error":"#REF!"}},{"$f":"'1.Портфель кредитів'!#REF!","v":{"$error":"#REF!"}},{"$f":"'1.Портфель кредитів'!I10","v":"25/2010"},{"$f":"'1.Портфель кредитів'!W10","v":245033},{"$f":"'1.Портфель кредитів'!Y10","v":2549913.54},{"$f":"$E$1","v":4},{"$f":"$E$2","v":"2018-06-01"},{"$f":"B6&\"_\"&I6&\"_\"&J6&\"_\"&$E$3","v":"322465_4_43252_2"}]
[{"$f":"'1.Портфель кредитів'!H11","v":1},{"$f":"'1.Портфель кредитів'!D11","v":"322465"},{"$f":"'1.Портфель кредитів'!#REF!","v":{"$error":"#REF!"}},{"$f":"'1.Портфель кредитів'!#REF!","v":{"$error":"#REF!"}},{"$f":"'1.Портфель кредитів'!#REF!","v":{"$error":"#REF!"}},{"$f":"'1.Портфель кредитів'!I11","v":"73/2013"},{"$f":"'1.Портфель кредитів'!W11","v":1975978},{"$f":"'1.Портфель кредитів'!Y11","v":25568374.609999999},4,"2018-06-01","322465_4_43252_2"]
[{"$f":"'1.Портфель кредитів'!H12","v":1},{"$f":"'1.Портфель кредитів'!D12","v":"322465"},{"$f":"'1.Портфель кредитів'!#REF!","v":{"$error":"#REF!"}},{"$f":"'1.Портфель кредитів'!#REF!","v":{"$error":"#REF!"}},{"$f":"'1.Портфель кредитів'!#REF!","v":{"$error":"#REF!"}},{"$f":"'1.Портфель кредитів'!I12","v":"72/2013"},{"$f":"'1.Портфель кредитів'!W12","v":1702004},{"$f":"'1.Портфель кредитів'!Y12","v":22523332.300000001},4,"2018-06-01","322465_4_43252_2"]
[{"$f":"'1.Портфель кредитів'!H13","v":1},{"$f":"'1.Портфель кредитів'!D13","v":"322465"},{"$f":"'1.Портфель кредитів'!#REF!","v":{"$error":"#REF!"}},{"$f":"'1.Портфель кредитів'!#REF!","v":{"$error":"#REF!"}},{"$f":"'1.Портфель кредитів'!#REF!","v":{"$error":"#REF!"}},{"$f":"'1.Портфель кредитів'!I13","v":"2"},{"$f":"'1.Портфель кредитів'!W13","v":81143},{"$f":"'1.Портфель кредитів'!Y13","v":1998000},4,"2018-06-01","322465_4_43252_2"]
[{"$f":"'1.Портфель кредитів'!H14","v":1},{"$f":"'1.Портфель кредитів'!D14","v":"322465"},{"$f":"'1.Портфель кредитів'!#REF!","v":{"$error":"#REF!"}},{"$f":"'1.Портфель кредитів'!#REF!","v":{"$error":"#REF!"}},{"$f":"'1.Портфель кредитів'!#REF!","v":{"$error":"#REF!"}},{"$f":"'1.Портфель кредитів'!I14","v":"1/13-А"},{"$f":"'1.Портфель кредитів'!W14","v":62590},{"$f":"'1.Портфель кредитів'!Y14","v":2662815.81},4,"2018-06-01","322465_4_43252_2"]
[{"$f":"'1.Портфель кредитів'!H15","v":1},{"$f":"'1.Портфель кредитів'!D15","v":"322465"},{"$f":"'1.Портфель кредитів'!#REF!","v":{"$error":"#REF!"}},{"$f":"'1.Портфель кредитів'!#REF!","v":{"$error":"#REF!"}},{"$f":"'1.Портфель кредитів'!#REF!","v":{"$error":"#REF!"}},{"$f":"'1.Портфель кредитів'!I15","v":"03/13-А"},{"$f":"'1.Портфель кредитів'!W15","v":91723},{"$f":"'1.Портфель кредитів'!Y15","v":2839603.89},4,"2018-06-01","322465_4_43252_2"]
[{"$f":"'1.Портфель кредитів'!H16","v":1},{"$f":"'1.Портфель кредитів'!D16","v":"322465"},{"$f":"'1.Портфель кредитів'!#REF!","v":{"$error":"#REF!"}},{"$f":"'1.Портфель кредитів'!#REF!","v":{"$error":"#REF!"}},{"$f":"'1.Портфель кредитів'!#REF!","v":{"$error":"#REF!"}},{"$f":"'1.Портфель кредитів'!I16","v":"05/13-А"},{"$f":"'1.Портфель кредитів'!W16","v":97615},{"$f":"'1.Портфель кредитів'!Y16","v":4152958.98},4,"2018-06-01","322465_4_43252_2"]
[{"$f":"'1.Портфель кредитів'!H17","v":1},{"$f":"'1.Портфель кредитів'!D17","v":"322465"},{"$f":"'1.Портфель кредитів'!#REF!","v":{"$error":"#REF!"}},{"$f":"'1.Портфель кредитів'!#REF!","v":{"$error":"#REF!"}},{"$f":"'1.Портфель кредитів'!#REF!","v":{"$error":"#REF!"}},{"$f":"'1.Портфель кредитів'!I17","v":"15/2014"},{"$f":"'1.Портфель кредитів'!W17","v":7838930},{"$f":"'1.Портфель кредитів'!Y17","v":18961074.98},4,"2018-06-01","322465_4_43252_2"]
[{"$f":"'1.Портфель кредитів'!#REF!","v":{"$error":"#REF!"}},{"$f":"'1.Портфель кредитів'!#REF!","v":{"$error":"#REF!"}},{"$f":"'1.Портфель кредитів'!#REF!","v":{"$error":"#REF!"}},{"$f":"'1.Портфель кредитів'!#REF!","v":{"$error":"#REF!"}},{"$f":"'1.Портфель кредитів'!#REF!","v":{"$error":"#REF!"}},{"$f":"'1.Портфель кредитів'!#REF!","v":{"$error":"#REF!"}},{"$f":"'1.Портфель кредитів'!#REF!","v":{"$error":"#REF!"}},{"$f":"'1.Портфель кредитів'!#REF!","v":{"$error":"#REF!"}},4,"2018-06-01",{"$error":"#REF!"}]
[{"$f":"'1.Портфель кредитів'!#REF!","v":{"$error":"#REF!"}},{"$f":"'1.Портфель кредитів'!#REF!","v":{"$error":"#REF!"}},{"$f":"'1.Портфель кредитів'!#REF!","v":{"$error":"#REF!"}},{"$f":"'1.Портфель кредитів'!#REF!","v":{"$error":"#REF!"}},{"$f":"'1.Портфель кредитів'!#REF!","v":{"$error":"#REF!"}},{"$f":"'1.Портфель кредитів'!#REF!","v":{"$error":"#REF!"}},{"$f":"'1.Портфель кредитів'!#REF!","v":{"$error":"#REF!"}},{"$f":"'1.Портфель кредитів'!#REF!","v":{"$error":"#REF!"}},4,"2018-06-01",{"$error":"#REF!"}]
[{"$f":"'1.Портфель кредитів'!#REF!","v":{"$error":"#REF!"}},{"$f":"'1.Портфель кредитів'!#REF!","v":{"$error":"#REF!"}},{"$f":"'1.Портфель кредитів'!#REF!","v":{"$error":"#REF!"}},{"$f":"'1.Портфель кредитів'!#REF!","v":{"$error":"#REF!"}},{"$f":"'1.Портфель кредитів'!#REF!","v":{"$error":"#REF!"}},{"$f":"'1.Портфель кредитів'!#REF!","v":{"$error":"#REF!"}},{"$f":"'1.Портфель кредитів'!#REF!","v":{"$error":"#REF!"}},{"$f":"'1.Портфель кредитів'!#REF!","v":{"$error":"#REF!"}},4,"2018-06-01",{"$error":"#REF!"}]
[{"$f":"'1.Портфель кредитів'!#REF!","v":{"$error":"#REF!"}},{"$f":"'1.Портфель кредитів'!#REF!","v":{"$error":"#REF!"}},{"$f":"'1.Портфель кредитів'!#REF!","v":{"$error":"#REF!"}},{"$f":"'1.Портфель кредитів'!#REF!","v":{"$error":"#REF!"}},{"$f":"'1.Портфель кредитів'!#REF!","v":{"$error":"#REF!"}},{"$f":"'1.Портфель кредитів'!#REF!","v":{"$error":"#REF!"}},{"$f":"'1.Портфель кредитів'!#REF!","v":{"$error":"#REF!"}},{"$f":"'1.Портфель кредитів'!#REF!","v":{"$error":"#REF!"}},4,"2018-06-01",{"$error":"#REF!"}]
[{"$f":"'1.Портфель кредитів'!#REF!","v":{"$error":"#REF!"}},{"$f":"'1.Портфель кредитів'!#REF!","v":{"$error":"#REF!"}},{"$f":"'1.Портфель кредитів'!#REF!","v":{"$error":"#REF!"}},{"$f":"'1.Портфель кредитів'!#REF!","v":{"$error":"#REF!"}},{"$f":"'1.Портфель кредитів'!#REF!","v":{"$error":"#REF!"}},{"$f":"'1.Портфель кредитів'!#REF!","v":{"$error":"#REF!"}},{"$f":"'1.Портфель кредитів'!#REF!","v":{"$error":"#REF!"}},{"$f":"'1.Портфель кредитів'!#REF!","v":{"$error":"#REF!"}},4,"2018-06-01",{"$error":"#REF!"}]
[{"$f":"'1.Портфель кредитів'!#REF!","v":{"$error":"#REF!"}},{"$f":"'1.Портфель кредитів'!#REF!","v":{"$error":"#REF!"}},{"$f":"'1.Портфель кредитів'!#REF!","v":{"$error":"#REF!"}},{"$f":"'1.Портфель кредитів'!#REF!","v":{"$error":"#REF!"}},{"$f":"'1.Портфель кредитів'!#REF!","v":{"$error":"#REF!"}},{"$f":"'1.Портфель кредитів'!#REF!","v":{"$error":"#REF!"}},{"$f":"'1.Портфель кредитів'!#REF!","v":{"$error":"#REF!"}},{"$f":"'1.Портфель кредитів'!#REF!","v":{"$error":"#REF!"}},4,"2018-06-01",{"$error":"#REF!"}]
[{"$f":"'1.Портфель кредитів'!#REF!","v":{"$error":"#REF!"}},{"$f":"'1.Портфель кредитів'!#REF!","v":{"$error":"#REF!"}},{"$f":"'1.Портфель кредитів'!#REF!","v":{"$error":"#REF!"}},{"$f":"'1.Портфель кредитів'!#REF!","v":{"$error":"#REF!"}},{"$f":"'1.Портфель кредитів'!#REF!","v":{"$error":"#REF!"}},{"$f":"'1.Портфель кредитів'!#REF!","v":{"$error":"#REF!"}},{"$f":"'1.Портфель кредитів'!#REF!","v":{"$error":"#REF!"}},{"$f":"'1.Портфель кредитів'!#REF!","v":{"$error":"#REF!"}},4,"2018-06-01",{"$error":"#REF!"}]
[{"$f":"'1.Портфель кредитів'!#REF!","v":{"$error":"#REF!"}},{"$f":"'1.Портфель кредитів'!#REF!","v":{"$error":"#REF!"}},{"$f":"'1.Портфель кредитів'!#REF!","v":{"$error":"#REF!"}},{"$f":"'1.Портфель кредитів'!#REF!","v":{"$error":"#REF!"}},{"$f":"'1.Портфель кредитів'!#REF!","v":{"$error":"#REF!"}},{"$f":"'1.Портфель кредитів'!#REF!","v":{"$error":"#REF!"}},{"$f":"'1.Портфель кредитів'!#REF!","v":{"$error":"#REF!"}},{"$f":"'1.Портфель кредитів'!#REF!","v":{"$error":"#REF!"}},4,"2018-06-01",{"$error":"#REF!"}]
[{"$f":"'1.Портфель кредитів'!#REF!","v":{"$error":"#REF!"}},{"$f":"'1.Портфель кредитів'!#REF!","v":{"$error":"#REF!"}},{"$f":"'1.Портфель кредитів'!#REF!","v":{"$error":"#REF!"}},{"$f":"'1.Портфель кредитів'!#REF!","v":{"$error":"#REF!"}},{"$f":"'1.Портфель кредитів'!#REF!","v":{"$error":"#REF!"}},{"$f":"'1.Портфель кредитів'!#REF!","v":{"$error":"#REF!"}},{"$f":"'1.Портфель кредитів'!#REF!","v":{"$error":"#REF!"}},{"$f":"'1.Портфель кредитів'!#REF!","v":{"$error":"#REF!"}},4,"2018-06-01",{"$error":"#REF!"}]
[{"$f":"'1.Портфель кредитів'!M18","v":42033},{"$f":"'1.Портфель кредитів'!D18","v":"300498"},{"$f":"'1.Портфель кредитів'!F18","v":"Київ"},{"$f":"'1.Портфель кредитів'!G18","v":"Діюче"},{"$f":"'1.Портфель кредитів'!H18","v":1},{"$f":"'1.Портфель кредитів'!N18","v":42368},{"$f":"'1.Портфель кредитів'!AB18","v":0},{"$f":"'1.Портфель кредитів'!#REF!","v":{"$error":"#REF!"}},4,"2018-06-01","300498_4_43252_2"]
[{"$f":"'1.Портфель кредитів'!M19","v":42033},{"$f":"'1.Портфель кредитів'!D19","v":"300498"},{"$f":"'1.Портфель кредитів'!F19","v":"Київ"},{"$f":"'1.Портфель кредитів'!G19","v":"Діюче"},{"$f":"'1.Портфель кредитів'!H19","v":1},{"$f":"'1.Портфель кредитів'!N19","v":42368},{"$f":"'1.Портфель кредитів'!AB19","v":0},{"$f":"'1.Портфель кредитів'!#REF!","v":{"$error":"#REF!"}},4,"2018-06-01","300498_4_43252_2"]
[{"$f":"'1.Портфель кредитів'!M20","v":42033},{"$f":"'1.Портфель кредитів'!D20","v":"300498"},{"$f":"'1.Портфель кредитів'!F20","v":"Київ"},{"$f":"'1.Портфель кредитів'!G20","v":"Діюче"},{"$f":"'1.Портфель кредитів'!H20","v":1},{"$f":"'1.Портфель кредитів'!N20","v":42368},{"$f":"'1.Портфель кредитів'!AB20","v":0},{"$f":"'1.Портфель кредитів'!#REF!","v":{"$error":"#REF!"}},4,"2018-06-01","300498_4_43252_2"]
[{"$f":"'1.Портфель кредитів'!M21","v":42033},{"$f":"'1.Портфель кредитів'!D21","v":"300498"},{"$f":"'1.Портфель кредитів'!F21","v":"Київ"},{"$f":"'1.Портфель кредитів'!G21","v":"Діюче"},{"$f":"'1.Портфель кредитів'!H21","v":1},{"$f":"'1.Портфель кредитів'!N21","v":42368},{"$f":"'1.Портфель кредитів'!AB21","v":0},{"$f":"'1.Портфель кредитів'!#REF!","v":{"$error":"#REF!"}},4,"2018-06-01","300498_4_43252_2"]
[{"$f":"'1.Портфель кредитів'!M22","v":42033},{"$f":"'1.Портфель кредитів'!D22","v":"300498"},{"$f":"'1.Портфель кредитів'!F22","v":"Київ"},{"$f":"'1.Портфель кредитів'!G22","v":"Діюче"},{"$f":"'1.Портфель кредитів'!H22","v":1},{"$f":"'1.Портфель кредитів'!N22","v":42368},{"$f":"'1.Портфель кредитів'!AB22","v":0},{"$f":"'1.Портфель кредитів'!#REF!","v":{"$error":"#REF!"}},4,"2018-06-01","300498_4_43252_2"]
[{"$f":"'1.Портфель кредитів'!M23","v":42033},{"$f":"'1.Портфель кредитів'!D23","v":"300498"},{"$f":"'1.Портфель кредитів'!F23","v":"Київ"},{"$f":"'1.Портфель кредитів'!G23","v":"Діюче"},{"$f":"'1.Портфель кредитів'!H23","v":1},{"$f":"'1.Портфель кредитів'!N23","v":42368},{"$f":"'1.Портфель кредитів'!AB23","v":0},{"$f":"'1.Портфель кредитів'!#REF!","v":{"$error":"#REF!"}},4,"2018-06-01","300498_4_43252_2"]
[{"$f":"'1.Портфель кредитів'!M24","v":42033},{"$f":"'1.Портфель кредитів'!D24","v":"300498"},{"$f":"'1.Портфель кредитів'!F24","v":"Київ"},{"$f":"'1.Портфель кредитів'!G24","v":"Діюче"},{"$f":"'1.Портфель кредитів'!H24","v":1},{"$f":"'1.Портфель кредитів'!N24","v":42368},{"$f":"'1.Портфель кредитів'!AB24","v":0},{"$f":"'1.Портфель кредитів'!#REF!","v":{"$error":"#REF!"}},4,"2018-06-01","300498_4_43252_2"]
[{"$f":"'1.Портфель кредитів'!M25","v":42034},{"$f":"'1.Портфель кредитів'!D25","v":"300498"},{"$f":"'1.Портфель кредитів'!F25","v":"Київ"},{"$f":"'1.Портфель кредитів'!G25","v":"Діюче"},{"$f":"'1.Портфель кредитів'!H25","v":1},{"$f":"'1.Портфель кредитів'!N25","v":42362},{"$f":"'1.Портфель кредитів'!AB25","v":0},{"$f":"'1.Портфель кредитів'!#REF!","v":{"$error":"#REF!"}},4,"2018-06-01","300498_4_43252_2"]
[{"$f":"'1.Портфель кредитів'!#REF!","v":{"$error":"#REF!"}},{"$f":"'1.Портфель кредитів'!#REF!","v":{"$error":"#REF!"}},{"$f":"'1.Портфель кредитів'!#REF!","v":{"$error":"#REF!"}},{"$f":"'1.Портфель кредитів'!#REF!","v":{"$error":"#REF!"}},{"$f":"'1.Портфель кредитів'!#REF!","v":{"$error":"#REF!"}},{"$f":"'1.Портфель кредитів'!#REF!","v":{"$error":"#REF!"}},{"$f":"'1.Портфель кредитів'!#REF!","v":{"$error":"#REF!"}},{"$f":"'1.Портфель кредитів'!#REF!","v":{"$error":"#REF!"}},4,"2018-06-01",{"$error":"#REF!"}]
[{"$f":"'1.Портфель кредитів'!#REF!","v":{"$error":"#REF!"}},{"$f":"'1.Портфель кредитів'!#REF!","v":{"$error":"#REF!"}},{"$f":"'1.Портфель кредитів'!#REF!","v":{"$error":"#REF!"}},{"$f":"'1.Портфель кредитів'!#REF!","v":{"$error":"#REF!"}},{"$f":"'1.Портфель кредитів'!#REF!","v":{"$error":"#REF!"}},{"$f":"'1.Портфель кредитів'!#REF!","v":{"$error":"#REF!"}},{"$f":"'1.Портфель кредитів'!#REF!","v":{"$error":"#REF!"}},{"$f":"'1.Портфель кредитів'!#REF!","v":{"$error":"#REF!"}},4,"2018-06-01",{"$error":"#REF!"}]
[{"$f":"'1.Портфель кредитів'!#REF!","v":{"$error":"#REF!"}},{"$f":"'1.Портфель кредитів'!#REF!","v":{"$error":"#REF!"}},{"$f":"'1.Портфель кредитів'!#REF!","v":{"$error":"#REF!"}},{"$f":"'1.Портфель кредитів'!#REF!","v":{"$error":"#REF!"}},{"$f":"'1.Портфель кредитів'!#REF!","v":{"$error":"#REF!"}},{"$f":"'1.Портфель кредитів'!#REF!","v":{"$error":"#REF!"}},{"$f":"'1.Портфель кредитів'!#REF!","v":{"$error":"#REF!"}},{"$f":"'1.Портфель кредитів'!#REF!","v":{"$error":"#REF!"}},4,"2018-06-01",{"$error":"#REF!"}]
[{"$f":"'1.Портфель кредитів'!#REF!","v":{"$error":"#REF!"}},{"$f":"'1.Портфель кредитів'!#REF!","v":{"$error":"#REF!"}},{"$f":"'1.Портфель кредитів'!#REF!","v":{"$error":"#REF!"}},{"$f":"'1.Портфель кредитів'!#REF!","v":{"$error":"#REF!"}},{"$f":"'1.Портфель кредитів'!#REF!","v":{"$error":"#REF!"}},{"$f":"'1.Портфель кредитів'!#REF!","v":{"$error":"#REF!"}},{"$f":"'1.Портфель кредитів'!#REF!","v":{"$error":"#REF!"}},{"$f":"'1.Портфель кредитів'!#REF!","v":{"$error":"#REF!"}},4,"2018-06-01",{"$error":"#REF!"}]
[{"$f":"'1.Портфель кредитів'!#REF!","v":{"$error":"#REF!"}},{"$f":"'1.Портфель кредитів'!#REF!","v":{"$error":"#REF!"}},{"$f":"'1.Портфель кредитів'!#REF!","v":{"$error":"#REF!"}},{"$f":"'1.Портфель кредитів'!#REF!","v":{"$error":"#REF!"}},{"$f":"'1.Портфель кредитів'!#REF!","v":{"$error":"#REF!"}},{"$f":"'1.Портфель кредитів'!#REF!","v":{"$error":"#REF!"}},{"$f":"'1.Портфель кредитів'!#REF!","v":{"$error":"#REF!"}},{"$f":"'1.Портфель кредитів'!#REF!","v":{"$error":"#REF!"}},4,"2018-06-01",{"$error":"#REF!"}]
[{"$f":"'1.Портфель кредитів'!H29","v":1},{"$f":"'1.Портфель кредитів'!D29","v":"380236"},{"$f":"'1.Портфель кредитів'!#REF!","v":{"$error":"#REF!"}},{"$f":"'1.Портфель кредитів'!#REF!","v":{"$error":"#REF!"}},{"$f":"'1.Портфель кредитів'!#REF!","v":{"$error":"#REF!"}},{"$f":"'1.Портфель кредитів'!I29","v":"04.1/23/07-КЛТ"},{"$f":"'1.Портфель кредитів'!W29","v":144710517},{"$f":"'1.Портфель кредитів'!Y29","v":1796400677.3800001},4,"2018-06-01","380236_4_43252_2"]
[{"$f":"'1.Портфель кредитів'!H30","v":1},{"$f":"'1.Портфель кредитів'!D30","v":"380236"},{"$f":"'1.Портфель кредитів'!#REF!","v":{"$error":"#REF!"}},{"$f":"'1.Портфель кредитів'!#REF!","v":{"$error":"#REF!"}},{"$f":"'1.Портфель кредитів'!#REF!","v":{"$error":"#REF!"}},{"$f":"'1.Портфель кредитів'!I30","v":"04.1/51/07-КЛТ"},{"$f":"'1.Портфель кредитів'!W30","v":50295893},{"$f":"'1.Портфель кредитів'!Y30","v":115562095.17},4,"2018-06-01","380236_4_43252_2"]
[{"$f":"'1.Портфель кредитів'!#REF!","v":{"$error":"#REF!"}},{"$f":"'1.Портфель кредитів'!#REF!","v":{"$error":"#REF!"}},{"$f":"'1.Портфель кредитів'!#REF!","v":{"$error":"#REF!"}},{"$f":"'1.Портфель кредитів'!#REF!","v":{"$error":"#REF!"}},{"$f":"'1.Портфель кредитів'!#REF!","v":{"$error":"#REF!"}},{"$f":"'1.Портфель кредитів'!#REF!","v":{"$error":"#REF!"}},{"$f":"'1.Портфель кредитів'!#REF!","v":{"$error":"#REF!"}},{"$f":"'1.Портфель кредитів'!#REF!","v":{"$error":"#REF!"}},4,"2018-06-01",{"$error":"#REF!"}]
[{"$f":"'1.Портфель кредитів'!H31","v":1},{"$f":"'1.Портфель кредитів'!D31","v":"380399"},{"$f":"'1.Портфель кредитів'!#REF!","v":{"$error":"#REF!"}},{"$f":"'1.Портфель кредитів'!#REF!","v":{"$error":"#REF!"}},{"$f":"'1.Портфель кредитів'!#REF!","v":{"$error":"#REF!"}},{"$f":"'1.Портфель кредитів'!I31","v":"004/1-2013/980"},{"$f":"'1.Портфель кредитів'!W31","v":1044580},{"$f":"'1.Портфель кредитів'!Y31","v":55659025.149999999},4,"2018-06-01","380399_4_43252_2"]
[{"$f":"'1.Портфель кредитів'!H32","v":2},{"$f":"'1.Портфель кредитів'!D32","v":"380399"},{"$f":"'1.Портфель кредитів'!#REF!","v":{"$error":"#REF!"}},{"$f":"'1.Портфель кредитів'!#REF!","v":{"$error":"#REF!"}},{"$f":"'1.Портфель кредитів'!#REF!","v":{"$error":"#REF!"}},{"$f":"'1.Портфель кредитів'!I32","v":"013/1-2014/980"},{"$f":"'1.Портфель кредитів'!W32","v":797804},{"$f":"'1.Портфель кредитів'!Y32","v":55416993.93},4,"2018-06-01","380399_4_43252_2"]
[{"$f":"'1.Портфель кредитів'!H33","v":1},{"$f":"'1.Портфель кредитів'!D33","v":"380399"},{"$f":"'1.Портфель кредитів'!#REF!","v":{"$error":"#REF!"}},{"$f":"'1.Портфель кредитів'!#REF!","v":{"$error":"#REF!"}},{"$f":"'1.Портфель кредитів'!#REF!","v":{"$error":"#REF!"}},{"$f":"'1.Портфель кредитів'!I33","v":"606/02-2010"},{"$f":"'1.Портфель кредитів'!W33","v":1527177},{"$f":"'1.Портфель кредитів'!Y33","v":29024587.609999999},4,"2018-06-01","380399_4_43252_2"]
[{"$f":"'1.Портфель кредитів'!H34","v":1},{"$f":"'1.Портфель кредитів'!D34","v":"380399"},{"$f":"'1.Портфель кредитів'!#REF!","v":{"$error":"#REF!"}},{"$f":"'1.Портфель кредитів'!#REF!","v":{"$error":"#REF!"}},{"$f":"'1.Портфель кредитів'!#REF!","v":{"$error":"#REF!"}},{"$f":"'1.Портфель кредитів'!I34","v":"608/02-2010"},{"$f":"'1.Портфель кредитів'!W34","v":478702},{"$f":"'1.Портфель кредитів'!Y34","v":18571286.380000003},4,"2018-06-01","380399_4_43252_2"]
[{"$f":"'1.Портфель кредитів'!H35","v":1},{"$f":"'1.Портфель кредитів'!D35","v":"380399"},{"$f":"'1.Портфель кредитів'!#REF!","v":{"$error":"#REF!"}},{"$f":"'1.Портфель кредитів'!#REF!","v":{"$error":"#REF!"}},{"$f":"'1.Портфель кредитів'!#REF!","v":{"$error":"#REF!"}},{"$f":"'1.Портфель кредитів'!I35","v":"610/02-2011"},{"$f":"'1.Портфель кредитів'!W35","v":446576},{"$f":"'1.Портфель кредитів'!Y35","v":7793022.8399999999},4,"2018-06-01","380399_4_43252_2"]
[{"$f":"'1.Портфель кредитів'!H36","v":1},{"$f":"'1.Портфель кредитів'!D36","v":"380399"},{"$f":"'1.Портфель кредитів'!#REF!","v":{"$error":"#REF!"}},{"$f":"'1.Портфель кредитів'!#REF!","v":{"$error":"#REF!"}},{"$f":"'1.Портфель кредитів'!#REF!","v":{"$error":"#REF!"}},{"$f":"'1.Портфель кредитів'!I36","v":"104/1-2010/978"},{"$f":"'1.Портфель кредитів'!W36","v":491573},{"$f":"'1.Портфель кредитів'!Y36","v":14704372.270000001},4,"2018-06-01","380399_4_43252_2"]
[{"$f":"'1.Портфель кредитів'!H37","v":1},{"$f":"'1.Портфель кредитів'!D37","v":"380399"},{"$f":"'1.Портфель кредитів'!#REF!","v":{"$error":"#REF!"}},{"$f":"'1.Портфель кредитів'!#REF!","v":{"$error":"#REF!"}},{"$f":"'1.Портфель кредитів'!#REF!","v":{"$error":"#REF!"}},{"$f":"'1.Портфель кредитів'!I37","v":"107/1-2010/840"},{"$f":"'1.Портфель кредитів'!W37","v":435126},{"$f":"'1.Портфель кредитів'!Y37","v":12641310.550000001},4,"2018-06-01","380399_4_43252_2"]
[{"$f":"'1.Портфель кредитів'!H38","v":1},{"$f":"'1.Портфель кредитів'!D38","v":"380399"},{"$f":"'1.Портфель кредитів'!#REF!","v":{"$error":"#REF!"}},{"$f":"'1.Портфель кредитів'!#REF!","v":{"$error":"#REF!"}},{"$f":"'1.Портфель кредитів'!#REF!","v":{"$error":"#REF!"}},{"$f":"'1.Портфель кредитів'!I38","v":"109/1-2010/ 978"},{"$f":"'1.Портфель кредитів'!W38","v":430345},{"$f":"'1.Портфель кредитів'!Y38","v":12872540.84},4,"2018-06-01","380399_4_43252_2"]
[{"$f":"'1.Портфель кредитів'!H39","v":1},{"$f":"'1.Портфель кредитів'!D39","v":"380399"},{"$f":"'1.Портфель кредитів'!#REF!","v":{"$error":"#REF!"}},{"$f":"'1.Портфель кредитів'!#REF!","v":{"$error":"#REF!"}},{"$f":"'1.Портфель кредитів'!#REF!","v":{"$error":"#REF!"}},{"$f":"'1.Портфель кредитів'!I39","v":"103/1-2010/840"},{"$f":"'1.Портфель кредитів'!W39","v":607339},{"$f":"'1.Портфель кредитів'!Y39","v":36113774.629999995},4,"2018-06-01","380399_4_43252_2"]
[{"$f":"'1.Портфель кредитів'!H40","v":1},{"$f":"'1.Портфель кредитів'!D40","v":"380399"},{"$f":"'1.Портфель кредитів'!#REF!","v":{"$error":"#REF!"}},{"$f":"'1.Портфель кредитів'!#REF!","v":{"$error":"#REF!"}},{"$f":"'1.Портфель кредитів'!#REF!","v":{"$error":"#REF!"}},{"$f":"'1.Портфель кредитів'!I40","v":"036/1-2012/980"},{"$f":"'1.Портфель кредитів'!W40","v":433966},{"$f":"'1.Портфель кредитів'!Y40","v":23075891.899999999},4,"2018-06-01","380399_4_43252_2"]
[{"$f":"'1.Портфель кредитів'!H41","v":1},{"$f":"'1.Портфель кредитів'!D41","v":"380399"},{"$f":"'1.Портфель кредитів'!#REF!","v":{"$error":"#REF!"}},{"$f":"'1.Портфель кредитів'!#REF!","v":{"$error":"#REF!"}},{"$f":"'1.Портфель кредитів'!#REF!","v":{"$error":"#REF!"}},{"$f":"'1.Портфель кредитів'!I41","v":"1ю-2014/980"},{"$f":"'1.Портфель кредитів'!W41","v":799520},{"$f":"'1.Портфель кредитів'!Y41","v":44870958.939999998},4,"2018-06-01","380399_4_43252_2"]
[{"$f":"'1.Портфель кредитів'!H42","v":2},{"$f":"'1.Портфель кредитів'!D42","v":"380399"},{"$f":"'1.Портфель кредитів'!#REF!","v":{"$error":"#REF!"}},{"$f":"'1.Портфель кредитів'!#REF!","v":{"$error":"#REF!"}},{"$f":"'1.Портфель кредитів'!#REF!","v":{"$error":"#REF!"}},{"$f":"'1.Портфель кредитів'!I42","v":"012/1-2014/980"},{"$f":"'1.Портфель кредитів'!W42","v":730153},{"$f":"'1.Портфель кредитів'!Y42","v":50717780.780000001},4,"2018-06-01","380399_4_43252_2"]
[{"$f":"'1.Портфель кредитів'!H43","v":1},{"$f":"'1.Портфель кредитів'!D43","v":"380399"},{"$f":"'1.Портфель кредитів'!#REF!","v":{"$error":"#REF!"}},{"$f":"'1.Портфель кредитів'!#REF!","v":{"$error":"#REF!"}},{"$f":"'1.Портфель кредитів'!#REF!","v":{"$error":"#REF!"}},{"$f":"'1.Портфель кредитів'!I43","v":"536 /02-2010"},{"$f":"'1.Портфель кредитів'!W43","v":470152},{"$f":"'1.Портфель кредитів'!Y43","v":4447395.5999999996},4,"2018-06-01","380399_4_43252_2"]
[{"$f":"'1.Портфель кредитів'!H44","v":1},{"$f":"'1.Портфель кредитів'!D44","v":"380399"},{"$f":"'1.Портфель кредитів'!#REF!","v":{"$error":"#REF!"}},{"$f":"'1.Портфель кредитів'!#REF!","v":{"$error":"#REF!"}},{"$f":"'1.Портфель кредитів'!#REF!","v":{"$error":"#REF!"}},{"$f":"'1.Портфель кредитів'!I44","v":"190/02-2006"},{"$f":"'1.Портфель кредитів'!W44","v":54942},{"$f":"'1.Портфель кредитів'!Y44","v":4714042.04},4,"2018-06-01","380399_4_43252_2"]
[{"$f":"'1.Портфель кредитів'!H45","v":1},{"$f":"'1.Портфель кредитів'!D45","v":"380399"},{"$f":"'1.Портфель кредитів'!#REF!","v":{"$error":"#REF!"}},{"$f":"'1.Портфель кредитів'!#REF!","v":{"$error":"#REF!"}},{"$f":"'1.Портфель кредитів'!#REF!","v":{"$error":"#REF!"}},{"$f":"'1.Портфель кредитів'!I45","v":"331/02-2008"},{"$f":"'1.Портфель кредитів'!W45","v":32068},{"$f":"'1.Портфель кредитів'!Y45","v":2751496.48},4,"2018-06-01","380399_4_43252_2"]
[{"$f":"'1.Портфель кредитів'!H46","v":1},{"$f":"'1.Портфель кредитів'!D46","v":"380399"},{"$f":"'1.Портфель кредитів'!#REF!","v":{"$error":"#REF!"}},{"$f":"'1.Портфель кредитів'!#REF!","v":{"$error":"#REF!"}},{"$f":"'1.Портфель кредитів'!#REF!","v":{"$error":"#REF!"}},{"$f":"'1.Портфель кредитів'!I46","v":"335/02-2008"},{"$f":"'1.Портфель кредитів'!W46","v":240058},{"$f":"'1.Портфель кредитів'!Y46","v":8013436.9900000002},4,"2018-06-01","380399_4_43252_2"]
[{"$f":"'1.Портфель кредитів'!H47","v":1},{"$f":"'1.Портфель кредитів'!D47","v":"380399"},{"$f":"'1.Портфель кредитів'!#REF!","v":{"$error":"#REF!"}},{"$f":"'1.Портфель кредитів'!#REF!","v":{"$error":"#REF!"}},{"$f":"'1.Портфель кредитів'!#REF!","v":{"$error":"#REF!"}},{"$f":"'1.Портфель кредитів'!I47","v":"801 /06-2014"},{"$f":"'1.Портфель кредитів'!W47","v":544123},{"$f":"'1.Портфель кредитів'!Y47","v":18327341.539999999},4,"2018-06-01","380399_4_43252_2"]
[{"$f":"'1.Портфель кредитів'!H48","v":1},{"$f":"'1.Портфель кредитів'!D48","v":"380399"},{"$f":"'1.Портфель кредитів'!#REF!","v":{"$error":"#REF!"}},{"$f":"'1.Портфель кредитів'!#REF!","v":{"$error":"#REF!"}},{"$f":"'1.Портфель кредитів'!#REF!","v":{"$error":"#REF!"}},{"$f":"'1.Портфель кредитів'!I48","v":"742/01-2013"},{"$f":"'1.Портфель кредитів'!W48","v":1086},{"$f":"'1.Портфель кредитів'!Y48","v":52080.26},4,"2018-06-01","380399_4_43252_2"]
[{"$f":"'1.Портфель кредитів'!H49","v":1},{"$f":"'1.Портфель кредитів'!D49","v":"380399"},{"$f":"'1.Портфель кредитів'!#REF!","v":{"$error":"#REF!"}},{"$f":"'1.Портфель кредитів'!#REF!","v":{"$error":"#REF!"}},{"$f":"'1.Портфель кредитів'!#REF!","v":{"$error":"#REF!"}},{"$f":"'1.Портфель кредитів'!I49","v":"712/01-2012"},{"$f":"'1.Портфель кредитів'!W49","v":25389},{"$f":"'1.Портфель кредитів'!Y49","v":4403140.3600000003},4,"2018-06-01","380399_4_43252_2"]
[{"$f":"'1.Портфель кредитів'!H50","v":1},{"$f":"'1.Портфель кредитів'!D50","v":"380399"},{"$f":"'1.Портфель кредитів'!#REF!","v":{"$error":"#REF!"}},{"$f":"'1.Портфель кредитів'!#REF!","v":{"$error":"#REF!"}},{"$f":"'1.Портфель кредитів'!#REF!","v":{"$error":"#REF!"}},{"$f":"'1.Портфель кредитів'!I50","v":"730/02-2013"},{"$f":"'1.Портфель кредитів'!W50","v":1722},{"$f":"'1.Портфель кредитів'!Y50","v":298566.74},4,"2018-06-01","380399_4_43252_2"]
[{"$f":"'1.Портфель кредитів'!H51","v":1},{"$f":"'1.Портфель кредитів'!D51","v":"380399"},{"$f":"'1.Портфель кредитів'!#REF!","v":{"$error":"#REF!"}},{"$f":"'1.Портфель кредитів'!#REF!","v":{"$error":"#REF!"}},{"$f":"'1.Портфель кредитів'!#REF!","v":{"$error":"#REF!"}},{"$f":"'1.Портфель кредитів'!I51","v":"181/02-2006"},{"$f":"'1.Портфель кредитів'!W51","v":32939},{"$f":"'1.Портфель кредитів'!Y51","v":9042050.1799999997},4,"2018-06-01","380399_4_43252_2"]
[{"$f":"'1.Портфель кредитів'!H52","v":1},{"$f":"'1.Портфель кредитів'!D52","v":"380399"},{"$f":"'1.Портфель кредитів'!#REF!","v":{"$error":"#REF!"}},{"$f":"'1.Портфель кредитів'!#REF!","v":{"$error":"#REF!"}},{"$f":"'1.Портфель кредитів'!#REF!","v":{"$error":"#REF!"}},{"$f":"'1.Портфель кредитів'!I52","v":"746/01-2013"},{"$f":"'1.Портфель кредитів'!W52","v":6308},{"$f":"'1.Портфель кредитів'!Y52","v":660447.4},4,"2018-06-01","380399_4_43252_2"]
[{"$f":"'1.Портфель кредитів'!H53","v":1},{"$f":"'1.Портфель кредитів'!D53","v":"380399"},{"$f":"'1.Портфель кредитів'!#REF!","v":{"$error":"#REF!"}},{"$f":"'1.Портфель кредитів'!#REF!","v":{"$error":"#REF!"}},{"$f":"'1.Портфель кредитів'!#REF!","v":{"$error":"#REF!"}},{"$f":"'1.Портфель кредитів'!I53","v":"520/02-2010"},{"$f":"'1.Портфель кредитів'!W53","v":3111},{"$f":"'1.Портфель кредитів'!Y53","v":478479.64},4,"2018-06-01","380399_4_43252_2"]
[{"$f":"'1.Портфель кредитів'!H54","v":1},{"$f":"'1.Портфель кредитів'!D54","v":"380399"},{"$f":"'1.Портфель кредитів'!#REF!","v":{"$error":"#REF!"}},{"$f":"'1.Портфель кредитів'!#REF!","v":{"$error":"#REF!"}},{"$f":"'1.Портфель кредитів'!#REF!","v":{"$error":"#REF!"}},{"$f":"'1.Портфель кредитів'!I54","v":"307/02-2008"},{"$f":"'1.Портфель кредитів'!W54","v":4539},{"$f":"'1.Портфель кредитів'!Y54","v":369294.92},4,"2018-06-01","380399_4_43252_2"]
[{"$f":"'1.Портфель кредитів'!#REF!","v":{"$error":"#REF!"}},{"$f":"'1.Портфель кредитів'!#REF!","v":{"$error":"#REF!"}},{"$f":"'1.Портфель кредитів'!#REF!","v":{"$error":"#REF!"}},{"$f":"'1.Портфель кредитів'!#REF!","v":{"$error":"#REF!"}},{"$f":"'1.Портфель кредитів'!#REF!","v":{"$error":"#REF!"}},{"$f":"'1.Портфель кредитів'!#REF!","v":{"$error":"#REF!"}},{"$f":"'1.Портфель кредитів'!#REF!","v":{"$error":"#REF!"}},{"$f":"'1.Портфель кредитів'!#REF!","v":{"$error":"#REF!"}},4,"2018-06-01",{"$error":"#REF!"}]
[{"$f":"'1.Портфель кредитів'!#REF!","v":{"$error":"#REF!"}},{"$f":"'1.Портфель кредитів'!#REF!","v":{"$error":"#REF!"}},{"$f":"'1.Портфель кредитів'!#REF!","v":{"$error":"#REF!"}},{"$f":"'1.Портфель кредитів'!#REF!","v":{"$error":"#REF!"}},{"$f":"'1.Портфель кредитів'!#REF!","v":{"$error":"#REF!"}},{"$f":"'1.Портфель кредитів'!#REF!","v":{"$error":"#REF!"}},{"$f":"'1.Портфель кредитів'!#REF!","v":{"$error":"#REF!"}},{"$f":"'1.Портфель кредитів'!#REF!","v":{"$error":"#REF!"}},4,"2018-06-01",{"$error":"#REF!"}]
[{"$f":"'1.Портфель кредитів'!#REF!","v":{"$error":"#REF!"}},{"$f":"'1.Портфель кредитів'!#REF!","v":{"$error":"#REF!"}},{"$f":"'1.Портфель кредитів'!#REF!","v":{"$error":"#REF!"}},{"$f":"'1.Портфель кредитів'!#REF!","v":{"$error":"#REF!"}},{"$f":"'1.Портфель кредитів'!#REF!","v":{"$error":"#REF!"}},{"$f":"'1.Портфель кредитів'!#REF!","v":{"$error":"#REF!"}},{"$f":"'1.Портфель кредитів'!#REF!","v":{"$error":"#REF!"}},{"$f":"'1.Портфель кредитів'!#REF!","v":{"$error":"#REF!"}},4,"2018-06-01",{"$error":"#REF!"}]
[{"$f":"'1.Портфель кредитів'!#REF!","v":{"$error":"#REF!"}},{"$f":"'1.Портфель кредитів'!#REF!","v":{"$error":"#REF!"}},{"$f":"'1.Портфель кредитів'!#REF!","v":{"$error":"#REF!"}},{"$f":"'1.Портфель кредитів'!#REF!","v":{"$error":"#REF!"}},{"$f":"'1.Портфель кредитів'!#REF!","v":{"$error":"#REF!"}},{"$f":"'1.Портфель кредитів'!#REF!","v":{"$error":"#REF!"}},{"$f":"'1.Портфель кредитів'!#REF!","v":{"$error":"#REF!"}},{"$f":"'1.Портфель кредитів'!#REF!","v":{"$error":"#REF!"}},4,"2018-06-01",{"$error":"#REF!"}]
[{"$f":"'1.Портфель кредитів'!H55","v":1},{"$f":"'1.Портфель кредитів'!D55","v":"380399"},{"$f":"'1.Портфель кредитів'!#REF!","v":{"$error":"#REF!"}},{"$f":"'1.Портфель кредитів'!#REF!","v":{"$error":"#REF!"}},{"$f":"'1.Портфель кредитів'!#REF!","v":{"$error":"#REF!"}},{"$f":"'1.Портфель кредитів'!I55","v":"009/1-2012/980"},{"$f":"'1.Портфель кредитів'!W55","v":534902},{"$f":"'1.Портфель кредитів'!Y55","v":31823605.359999999},4,"2018-06-01","380399_4_43252_2"]
[{"$f":"'1.Портфель кредитів'!H56","v":1},{"$f":"'1.Портфель кредитів'!D56","v":"380399"},{"$f":"'1.Портфель кредитів'!#REF!","v":{"$error":"#REF!"}},{"$f":"'1.Портфель кредитів'!#REF!","v":{"$error":"#REF!"}},{"$f":"'1.Портфель кредитів'!#REF!","v":{"$error":"#REF!"}},{"$f":"'1.Портфель кредитів'!I56","v":"036/1-2011/980"},{"$f":"'1.Портфель кредитів'!W56","v":498751},{"$f":"'1.Портфель кредитів'!Y56","v":29529320},4,"2018-06-01","380399_4_43252_2"]
[{"$f":"'1.Портфель кредитів'!H57","v":1},{"$f":"'1.Портфель кредитів'!D57","v":"380399"},{"$f":"'1.Портфель кредитів'!#REF!","v":{"$error":"#REF!"}},{"$f":"'1.Портфель кредитів'!#REF!","v":{"$error":"#REF!"}},{"$f":"'1.Портфель кредитів'!#REF!","v":{"$error":"#REF!"}},{"$f":"'1.Портфель кредитів'!I57","v":"002/1-2012/980"},{"$f":"'1.Портфель кредитів'!W57","v":171463},{"$f":"'1.Портфель кредитів'!Y57","v":10245301.9},4,"2018-06-01","380399_4_43252_2"]
[{"$f":"'1.Портфель кредитів'!H58","v":1},{"$f":"'1.Портфель кредитів'!D58","v":"380399"},{"$f":"'1.Портфель кредитів'!#REF!","v":{"$error":"#REF!"}},{"$f":"'1.Портфель кредитів'!#REF!","v":{"$error":"#REF!"}},{"$f":"'1.Портфель кредитів'!#REF!","v":{"$error":"#REF!"}},{"$f":"'1.Портфель кредитів'!I58","v":"589/02-2010"},{"$f":"'1.Портфель кредитів'!W58","v":30761},{"$f":"'1.Портфель кредитів'!Y58","v":5334672},{"$f":"$E$1","v":4},{"$f":"$E$2","v":"2018-06-01"},{"$f":"B70&\"_\"&I70&\"_\"&J70&\"_\"&$E$3","v":"380399_4_43252_2"}]
[{"$f":"'1.Портфель кредитів'!H59","v":1},{"$f":"'1.Портфель кредитів'!D59","v":"380399"},{"$f":"'1.Портфель кредитів'!#REF!","v":{"$error":"#REF!"}},{"$f":"'1.Портфель кредитів'!#REF!","v":{"$error":"#REF!"}},{"$f":"'1.Портфель кредитів'!#REF!","v":{"$error":"#REF!"}},{"$f":"'1.Портфель кредитів'!I59","v":"594/02-2010"},{"$f":"'1.Портфель кредитів'!W59","v":20476},{"$f":"'1.Портфель кредитів'!Y59","v":3550981.12},4,"2018-06-01","380399_4_43252_2"]
[{"$f":"'1.Портфель кредитів'!H60","v":1},{"$f":"'1.Портфель кредитів'!D60","v":"380399"},{"$f":"'1.Портфель кредитів'!#REF!","v":{"$error":"#REF!"}},{"$f":"'1.Портфель кредитів'!#REF!","v":{"$error":"#REF!"}},{"$f":"'1.Портфель кредитів'!#REF!","v":{"$error":"#REF!"}},{"$f":"'1.Портфель кредитів'!I60","v":"595/02-2010"},{"$f":"'1.Портфель кредитів'!W60","v":7486},{"$f":"'1.Портфель кредитів'!Y60","v":1298165.69},4,"2018-06-01","380399_4_43252_2"]
[{"$f":"'1.Портфель кредитів'!H61","v":1},{"$f":"'1.Портфель кредитів'!D61","v":"380399"},{"$f":"'1.Портфель кредитів'!#REF!","v":{"$error":"#REF!"}},{"$f":"'1.Портфель кредитів'!#REF!","v":{"$error":"#REF!"}},{"$f":"'1.Портфель кредитів'!#REF!","v":{"$error":"#REF!"}},{"$f":"'1.Портфель кредитів'!I61","v":"031/1-2012/840"},{"$f":"'1.Портфель кредитів'!W61","v":680718},{"$f":"'1.Портфель кредитів'!Y61","v":39432395.609999999},4,"2018-06-01","380399_4_43252_2"]
[{"$f":"'1.Портфель кредитів'!H62","v":1},{"$f":"'1.Портфель кредитів'!D62","v":"380399"},{"$f":"'1.Портфель кредитів'!#REF!","v":{"$error":"#REF!"}},{"$f":"'1.Портфель кредитів'!#REF!","v":{"$error":"#REF!"}},{"$f":"'1.Портфель кредитів'!#REF!","v":{"$error":"#REF!"}},{"$f":"'1.Портфель кредитів'!I62","v":"032/1-2011/980"},{"$f":"'1.Портфель кредитів'!W62","v":302101},{"$f":"'1.Портфель кредитів'!Y62","v":17803334.469999999},4,"2018-06-01","380399_4_43252_2"]
[{"$f":"'1.Портфель кредитів'!H63","v":1},{"$f":"'1.Портфель кредитів'!D63","v":"320995"},{"$f":"'1.Портфель кредитів'!#REF!","v":{"$error":"#REF!"}},{"$f":"'1.Портфель кредитів'!#REF!","v":{"$error":"#REF!"}},{"$f":"'1.Портфель кредитів'!#REF!","v":{"$error":"#REF!"}},{"$f":"'1.Портфель кредитів'!I63","v":"017"},{"$f":"'1.Портфель кредитів'!W63","v":378250},{"$f":"'1.Портфель кредитів'!Y63","v":17800000},4,"2018-06-01","320995_4_43252_2"]
[{"$f":"'1.Портфель кредитів'!H64","v":1},{"$f":"'1.Портфель кредитів'!D64","v":"380537"},{"$f":"'1.Портфель кредитів'!#REF!","v":{"$error":"#REF!"}},{"$f":"'1.Портфель кредитів'!#REF!","v":{"$error":"#REF!"}},{"$f":"'1.Портфель кредитів'!#REF!","v":{"$error":"#REF!"}},{"$f":"'1.Портфель кредитів'!I64","v":"65"},{"$f":"'1.Портфель кредитів'!W64","v":252},{"$f":"'1.Портфель кредитів'!Y64","v":226761.81},4,"2018-06-01","380537_4_43252_2"]
[{"$f":"'1.Портфель кредитів'!H65","v":1},{"$f":"'1.Портфель кредитів'!D65","v":"380537"},{"$f":"'1.Портфель кредитів'!#REF!","v":{"$error":"#REF!"}},{"$f":"'1.Портфель кредитів'!#REF!","v":{"$error":"#REF!"}},{"$f":"'1.Портфель кредитів'!#REF!","v":{"$error":"#REF!"}},{"$f":"'1.Портфель кредитів'!I65","v":"11-07/юр"},{"$f":"'1.Портфель кредитів'!W65","v":386647},{"$f":"'1.Портфель кредитів'!Y65","v":1516039.43},4,"2018-06-01","380537_4_43252_2"]
[{"$f":"'1.Портфель кредитів'!H66","v":1},{"$f":"'1.Портфель кредитів'!D66","v":"380537"},{"$f":"'1.Портфель кредитів'!#REF!","v":{"$error":"#REF!"}},{"$f":"'1.Портфель кредитів'!#REF!","v":{"$error":"#REF!"}},{"$f":"'1.Портфель кредитів'!#REF!","v":{"$error":"#REF!"}},{"$f":"'1.Портфель кредитів'!I66","v":"1/07-SME"},{"$f":"'1.Портфель кредитів'!W66","v":85899},{"$f":"'1.Портфель кредитів'!Y66","v":241356.39},4,"2018-06-01","380537_4_43252_2"]
[{"$f":"'1.Портфель кредитів'!H67","v":1},{"$f":"'1.Портфель кредитів'!D67","v":"380537"},{"$f":"'1.Портфель кредитів'!#REF!","v":{"$error":"#REF!"}},{"$f":"'1.Портфель кредитів'!#REF!","v":{"$error":"#REF!"}},{"$f":"'1.Портфель кредитів'!#REF!","v":{"$error":"#REF!"}},{"$f":"'1.Портфель кредитів'!I67","v":"3/07-SME"},{"$f":"'1.Портфель кредитів'!W67","v":340022},{"$f":"'1.Портфель кредитів'!Y67","v":1442302.5},4,"2018-06-01","380537_4_43252_2"]
[{"$f":"'1.Портфель кредитів'!H68","v":1},{"$f":"'1.Портфель кредитів'!D68","v":"300670"},{"$f":"'1.Портфель кредитів'!#REF!","v":{"$error":"#REF!"}},{"$f":"'1.Портфель кредитів'!#REF!","v":{"$error":"#REF!"}},{"$f":"'1.Портфель кредитів'!#REF!","v":{"$error":"#REF!"}},{"$f":"'1.Портфель кредитів'!I68","v":"10/09"},{"$f":"'1.Портфель кредитів'!W68","v":15796947},{"$f":"'1.Портфель кредитів'!Y68","v":33849168.07},4,"2018-06-01","300670_4_43252_2"]
[{"$f":"'1.Портфель кредитів'!H69","v":1},{"$f":"'1.Портфель кредитів'!D69","v":"300670"},{"$f":"'1.Портфель кредитів'!#REF!","v":{"$error":"#REF!"}},{"$f":"'1.Портфель кредитів'!#REF!","v":{"$error":"#REF!"}},{"$f":"'1.Портфель кредитів'!#REF!","v":{"$error":"#REF!"}},{"$f":"'1.Портфель кредитів'!I69","v":"1057/07"},{"$f":"'1.Портфель кредитів'!W69","v":5024424},{"$f":"'1.Портфель кредитів'!Y69","v":11209313.359999999},4,"2018-06-01","300670_4_43252_2"]
[{"$f":"'1.Портфель кредитів'!H70","v":1},{"$f":"'1.Портфель кредитів'!D70","v":"300670"},{"$f":"'1.Портфель кредитів'!#REF!","v":{"$error":"#REF!"}},{"$f":"'1.Портфель кредитів'!#REF!","v":{"$error":"#REF!"}},{"$f":"'1.Портфель кредитів'!#REF!","v":{"$error":"#REF!"}},{"$f":"'1.Портфель кредитів'!I70","v":"851/07"},{"$f":"'1.Портфель кредитів'!W70","v":1883336},{"$f":"'1.Портфель кредитів'!Y70","v":5657127.3399999999},4,"2018-06-01","300670_4_43252_2"]
[{"$f":"'1.Портфель кредитів'!H71","v":1},{"$f":"'1.Портфель кредитів'!D71","v":"300670"},{"$f":"'1.Портфель кредитів'!#REF!","v":{"$error":"#REF!"}},{"$f":"'1.Портфель кредитів'!#REF!","v":{"$error":"#REF!"}},{"$f":"'1.Портфель кредитів'!#REF!","v":{"$error":"#REF!"}},{"$f":"'1.Портфель кредитів'!I71","v":"02-13-ОВ"},{"$f":"'1.Портфель кредитів'!W71","v":1435},{"$f":"'1.Портфель кредитів'!Y71","v":313847.78999999998},4,"2018-06-01","300670_4_43252_2"]
[{"$f":"'1.Портфель кредитів'!H72","v":1},{"$f":"'1.Портфель кредитів'!D72","v":"300670"},{"$f":"'1.Портфель кредитів'!#REF!","v":{"$error":"#REF!"}},{"$f":"'1.Портфель кредитів'!#REF!","v":{"$error":"#REF!"}},{"$f":"'1.Портфель кредитів'!#REF!","v":{"$error":"#REF!"}},{"$f":"'1.Портфель кредитів'!I72","v":"№26007001122199/КБ від 25.06.2013"},{"$f":"'1.Портфель кредитів'!W72","v":84.38},{"$f":"'1.Портфель кредитів'!Y72","v":3150.06},4,"2018-06-01","300670_4_43252_2"]
[{"$f":"'1.Портфель кредитів'!H73","v":1},{"$f":"'1.Портфель кредитів'!D73","v":"300175"},{"$f":"'1.Портфель кредитів'!#REF!","v":{"$error":"#REF!"}},{"$f":"'1.Портфель кредитів'!#REF!","v":{"$error":"#REF!"}},{"$f":"'1.Портфель кредитів'!#REF!","v":{"$error":"#REF!"}},{"$f":"'1.Портфель кредитів'!I73","v":"293"},{"$f":"'1.Портфель кредитів'!W73","v":25029144.834466498},{"$f":"'1.Портфель кредитів'!Y73","v":53478431.689999998},4,"2018-06-01","300175_4_43252_2"]
[{"$f":"'1.Портфель кредитів'!H74","v":1},{"$f":"'1.Портфель кредитів'!D74","v":"328210"},{"$f":"'1.Портфель кредитів'!#REF!","v":{"$error":"#REF!"}},{"$f":"'1.Портфель кредитів'!#REF!","v":{"$error":"#REF!"}},{"$f":"'1.Портфель кредитів'!#REF!","v":{"$error":"#REF!"}},{"$f":"'1.Портфель кредитів'!I74","v":"№03-11"},{"$f":"'1.Портфель кредитів'!W74","v":4608672.97},{"$f":"'1.Портфель кредитів'!Y74","v":34009737.68},4,"2018-06-01","328210_4_43252_2"]
[{"$f":"'1.Портфель кредитів'!H75","v":1},{"$f":"'1.Портфель кредитів'!D75","v":"328210"},{"$f":"'1.Портфель кредитів'!#REF!","v":{"$error":"#REF!"}},{"$f":"'1.Портфель кредитів'!#REF!","v":{"$error":"#REF!"}},{"$f":"'1.Портфель кредитів'!#REF!","v":{"$error":"#REF!"}},{"$f":"'1.Портфель кредитів'!I75","v":"№21/13"},{"$f":"'1.Портфель кредитів'!W75","v":2848593.78},{"$f":"'1.Портфель кредитів'!Y75","v":7760543.04},4,"2018-06-01","328210_4_43252_2"]
[{"$f":"'1.Портфель кредитів'!H76","v":1},{"$f":"'1.Портфель кредитів'!D76","v":"328210"},{"$f":"'1.Портфель кредитів'!#REF!","v":{"$error":"#REF!"}},{"$f":"'1.Портфель кредитів'!#REF!","v":{"$error":"#REF!"}},{"$f":"'1.Портфель кредитів'!#REF!","v":{"$error":"#REF!"}},{"$f":"'1.Портфель кредитів'!I76","v":"№38-15"},{"$f":"'1.Портфель кредитів'!W76","v":8502994.5700000003},{"$f":"'1.Портфель кредитів'!Y76","v":47718175.329999998},4,"2018-06-01","328210_4_43252_2"]
[{"$f":"'1.Портфель кредитів'!H77","v":1},{"$f":"'1.Портфель кредитів'!D77","v":"328210"},{"$f":"'1.Портфель кредитів'!#REF!","v":{"$error":"#REF!"}},{"$f":"'1.Портфель кредитів'!#REF!","v":{"$error":"#REF!"}},{"$f":"'1.Портфель кредитів'!#REF!","v":{"$error":"#REF!"}},{"$f":"'1.Портфель кредитів'!I77","v":"№42-15"},{"$f":"'1.Портфель кредитів'!W77","v":3313541.48},{"$f":"'1.Портфель кредитів'!Y77","v":19228564.620000001},4,"2018-06-01","328210_4_43252_2"]
[{"$f":"'1.Портфель кредитів'!H78","v":1},{"$f":"'1.Портфель кредитів'!D78","v":"328210"},{"$f":"'1.Портфель кредитів'!#REF!","v":{"$error":"#REF!"}},{"$f":"'1.Портфель кредитів'!#REF!","v":{"$error":"#REF!"}},{"$f":"'1.Портфель кредитів'!#REF!","v":{"$error":"#REF!"}},{"$f":"'1.Портфель кредитів'!I78","v":"№54-15"},{"$f":"'1.Портфель кредитів'!W78","v":4136246.95},{"$f":"'1.Портфель кредитів'!Y78","v":6887502.0700000003},4,"2018-06-01","328210_4_43252_2"]
[{"$f":"'1.Портфель кредитів'!H79","v":1},{"$f":"'1.Портфель кредитів'!D79","v":"328210"},{"$f":"'1.Портфель кредитів'!#REF!","v":{"$error":"#REF!"}},{"$f":"'1.Портфель кредитів'!#REF!","v":{"$error":"#REF!"}},{"$f":"'1.Портфель кредитів'!#REF!","v":{"$error":"#REF!"}},{"$f":"'1.Портфель кредитів'!I79","v":"№29-16"},{"$f":"'1.Портфель кредитів'!W79","v":4617031.6500000004},{"$f":"'1.Портфель кредитів'!Y79","v":8345754.5},4,"2018-06-01","328210_4_43252_2"]
[{"$f":"'1.Портфель кредитів'!H80","v":1},{"$f":"'1.Портфель кредитів'!D80","v":"328210"},{"$f":"'1.Портфель кредитів'!#REF!","v":{"$error":"#REF!"}},{"$f":"'1.Портфель кредитів'!#REF!","v":{"$error":"#REF!"}},{"$f":"'1.Портфель кредитів'!#REF!","v":{"$error":"#REF!"}},{"$f":"'1.Портфель кредитів'!I80","v":"№75/10 "},{"$f":"'1.Портфель кредитів'!W80","v":1707104.79},{"$f":"'1.Портфель кредитів'!Y80","v":4988982.2300000004},4,"2018-06-01","328210_4_43252_2"]
[{"$f":"'1.Портфель кредитів'!H81","v":1},{"$f":"'1.Портфель кредитів'!D81","v":"328210"},{"$f":"'1.Портфель кредитів'!#REF!","v":{"$error":"#REF!"}},{"$f":"'1.Портфель кредитів'!#REF!","v":{"$error":"#REF!"}},{"$f":"'1.Портфель кредитів'!#REF!","v":{"$error":"#REF!"}},{"$f":"'1.Портфель кредитів'!I81","v":"№02/15"},{"$f":"'1.Портфель кредитів'!W81","v":9726129.0099999998},{"$f":"'1.Портфель кредитів'!Y81","v":47394901.229999997},4,"2018-06-01","328210_4_43252_2"]
[{"$f":"'1.Портфель кредитів'!H82","v":1},{"$f":"'1.Портфель кредитів'!D82","v":"328210"},{"$f":"'1.Портфель кредитів'!#REF!","v":{"$error":"#REF!"}},{"$f":"'1.Портфель кредитів'!#REF!","v":{"$error":"#REF!"}},{"$f":"'1.Портфель кредитів'!#REF!","v":{"$error":"#REF!"}},{"$f":"'1.Портфель кредитів'!I82","v":"№37-11"},{"$f":"'1.Портфель кредитів'!W82","v":1069460.8400000001},{"$f":"'1.Портфель кредитів'!Y82","v":1723606.8900000001},4,"2018-06-01","328210_4_43252_2"]
[{"$f":"'1.Портфель кредитів'!H83","v":1},{"$f":"'1.Портфель кредитів'!D83","v":"328210"},{"$f":"'1.Портфель кредитів'!#REF!","v":{"$error":"#REF!"}},{"$f":"'1.Портфель кредитів'!#REF!","v":{"$error":"#REF!"}},{"$f":"'1.Портфель кредитів'!#REF!","v":{"$error":"#REF!"}},{"$f":"'1.Портфель кредитів'!I83","v":"№118-13"},{"$f":"'1.Портфель кредитів'!W83","v":273111.96999999997},{"$f":"'1.Портфель кредитів'!Y83","v":450316.63},4,"2018-06-01","328210_4_43252_2"]
[{"$f":"'1.Портфель кредитів'!H84","v":1},{"$f":"'1.Портфель кредитів'!D84","v":"328210"},{"$f":"'1.Портфель кредитів'!#REF!","v":{"$error":"#REF!"}},{"$f":"'1.Портфель кредитів'!#REF!","v":{"$error":"#REF!"}},{"$f":"'1.Портфель кредитів'!#REF!","v":{"$error":"#REF!"}},{"$f":"'1.Портфель кредитів'!I84","v":"№107-13"},{"$f":"'1.Портфель кредитів'!W84","v":1216142.23},{"$f":"'1.Портфель кредитів'!Y84","v":2637870.33},4,"2018-06-01","328210_4_43252_2"]
[{"$f":"'1.Портфель кредитів'!H85","v":1},{"$f":"'1.Портфель кредитів'!D85","v":"328210"},{"$f":"'1.Портфель кредитів'!#REF!","v":{"$error":"#REF!"}},{"$f":"'1.Портфель кредитів'!#REF!","v":{"$error":"#REF!"}},{"$f":"'1.Портфель кредитів'!#REF!","v":{"$error":"#REF!"}},{"$f":"'1.Портфель кредитів'!I85","v":"№77-12"},{"$f":"'1.Портфель кредитів'!W85","v":2574868.9300000002},{"$f":"'1.Портфель кредитів'!Y85","v":4983844.3100000005},4,"2018-06-01","328210_4_43252_2"]
[{"$f":"'1.Портфель кредитів'!H86","v":1},{"$f":"'1.Портфель кредитів'!D86","v":"328210"},{"$f":"'1.Портфель кредитів'!#REF!","v":{"$error":"#REF!"}},{"$f":"'1.Портфель кредитів'!#REF!","v":{"$error":"#REF!"}},{"$f":"'1.Портфель кредитів'!#REF!","v":{"$error":"#REF!"}},{"$f":"'1.Портфель кредитів'!I86","v":"№50-15/ОД"},{"$f":"'1.Портфель кредитів'!W86","v":56570.07},{"$f":"'1.Портфель кредитів'!Y86","v":164998.95000000001},4,"2018-06-01","328210_4_43252_2"]
[{"$f":"'1.Портфель кредитів'!H87","v":1},{"$f":"'1.Портфель кредитів'!D87","v":"328210"},{"$f":"'1.Портфель кредитів'!#REF!","v":{"$error":"#REF!"}},{"$f":"'1.Портфель кредитів'!#REF!","v":{"$error":"#REF!"}},{"$f":"'1.Портфель кредитів'!#REF!","v":{"$error":"#REF!"}},{"$f":"'1.Портфель кредитів'!I87","v":"№31-15"},{"$f":"'1.Портфель кредитів'!W87","v":6610315.4000000004},{"$f":"'1.Портфель кредитів'!Y87","v":38478639.57},4,"2018-06-01","328210_4_43252_2"]
[{"$f":"'1.Портфель кредитів'!H88","v":1},{"$f":"'1.Портфель кредитів'!D88","v":"328210"},{"$f":"'1.Портфель кредитів'!#REF!","v":{"$error":"#REF!"}},{"$f":"'1.Портфель кредитів'!#REF!","v":{"$error":"#REF!"}},{"$f":"'1.Портфель кредитів'!#REF!","v":{"$error":"#REF!"}},{"$f":"'1.Портфель кредитів'!I88","v":"№19-16/ОД"},{"$f":"'1.Портфель кредитів'!W88","v":100430.01},{"$f":"'1.Портфель кредитів'!Y88","v":291394.13},4,"2018-06-01","328210_4_43252_2"]
[{"$f":"'1.Портфель кредитів'!H89","v":1},{"$f":"'1.Портфель кредитів'!D89","v":"328210"},{"$f":"'1.Портфель кредитів'!#REF!","v":{"$error":"#REF!"}},{"$f":"'1.Портфель кредитів'!#REF!","v":{"$error":"#REF!"}},{"$f":"'1.Портфель кредитів'!#REF!","v":{"$error":"#REF!"}},{"$f":"'1.Портфель кредитів'!I89","v":"№05/11"},{"$f":"'1.Портфель кредитів'!W89","v":75972.67},{"$f":"'1.Портфель кредитів'!Y89","v":1019363.09},4,"2018-06-01","328210_4_43252_2"]
[{"$f":"'1.Портфель кредитів'!H90","v":1},{"$f":"'1.Портфель кредитів'!D90","v":"328210"},{"$f":"'1.Портфель кредитів'!#REF!","v":{"$error":"#REF!"}},{"$f":"'1.Портфель кредитів'!#REF!","v":{"$error":"#REF!"}},{"$f":"'1.Портфель кредитів'!#REF!","v":{"$error":"#REF!"}},{"$f":"'1.Портфель кредитів'!I90","v":"№16/11"},{"$f":"'1.Портфель кредитів'!W90","v":83980.160000000003},{"$f":"'1.Портфель кредитів'!Y90","v":1027783.09},4,"2018-06-01","328210_4_43252_2"]
[{"$f":"'1.Портфель кредитів'!H91","v":1},{"$f":"'1.Портфель кредитів'!D91","v":"328210"},{"$f":"'1.Портфель кредитів'!#REF!","v":{"$error":"#REF!"}},{"$f":"'1.Портфель кредитів'!#REF!","v":{"$error":"#REF!"}},{"$f":"'1.Портфель кредитів'!#REF!","v":{"$error":"#REF!"}},{"$f":"'1.Портфель кредитів'!I91","v":"№41/11"},{"$f":"'1.Портфель кредитів'!W91","v":77139.39},{"$f":"'1.Портфель кредитів'!Y91","v":952154.89},4,"2018-06-01","328210_4_43252_2"]
[{"$f":"'1.Портфель кредитів'!H92","v":1},{"$f":"'1.Портфель кредитів'!D92","v":"328210"},{"$f":"'1.Портфель кредитів'!#REF!","v":{"$error":"#REF!"}},{"$f":"'1.Портфель кредитів'!#REF!","v":{"$error":"#REF!"}},{"$f":"'1.Портфель кредитів'!#REF!","v":{"$error":"#REF!"}},{"$f":"'1.Портфель кредитів'!I92","v":"№67/10"},{"$f":"'1.Портфель кредитів'!W92","v":3579.98},{"$f":"'1.Портфель кредитів'!Y92","v":87626.47},4,"2018-06-01","328210_4_43252_2"]
[{"$f":"'1.Портфель кредитів'!H93","v":1},{"$f":"'1.Портфель кредитів'!D93","v":"328210"},{"$f":"'1.Портфель кредитів'!#REF!","v":{"$error":"#REF!"}},{"$f":"'1.Портфель кредитів'!#REF!","v":{"$error":"#REF!"}},{"$f":"'1.Портфель кредитів'!#REF!","v":{"$error":"#REF!"}},{"$f":"'1.Портфель кредитів'!I93","v":"№78/10"},{"$f":"'1.Портфель кредитів'!W93","v":57105.62},{"$f":"'1.Портфель кредитів'!Y93","v":2165164.04},4,"2018-06-01","328210_4_43252_2"]
[{"$f":"'1.Портфель кредитів'!H94","v":1},{"$f":"'1.Портфель кредитів'!D94","v":"380388"},{"$f":"'1.Портфель кредитів'!#REF!","v":{"$error":"#REF!"}},{"$f":"'1.Портфель кредитів'!#REF!","v":{"$error":"#REF!"}},{"$f":"'1.Портфель кредитів'!#REF!","v":{"$error":"#REF!"}},{"$f":"'1.Портфель кредитів'!I94","v":"173/07/13"},{"$f":"'1.Портфель кредитів'!W94","v":22879772.678353701},{"$f":"'1.Портфель кредитів'!Y94","v":15994139.390000001},4,"2018-06-01","380388_4_43252_2"]
[{"$f":"'1.Портфель кредитів'!H95","v":1},{"$f":"'1.Портфель кредитів'!D95","v":"380388"},{"$f":"'1.Портфель кредитів'!#REF!","v":{"$error":"#REF!"}},{"$f":"'1.Портфель кредитів'!#REF!","v":{"$error":"#REF!"}},{"$f":"'1.Портфель кредитів'!#REF!","v":{"$error":"#REF!"}},{"$f":"'1.Портфель кредитів'!I95","v":"04/01/14"},{"$f":"'1.Портфель кредитів'!W95","v":12341936.0996},{"$f":"'1.Портфель кредитів'!Y95","v":30902274.420000002},4,"2018-06-01","380388_4_43252_2"]
[{"$f":"'1.Портфель кредитів'!H96","v":1},{"$f":"'1.Портфель кредитів'!D96","v":"380388"},{"$f":"'1.Портфель кредитів'!#REF!","v":{"$error":"#REF!"}},{"$f":"'1.Портфель кредитів'!#REF!","v":{"$error":"#REF!"}},{"$f":"'1.Портфель кредитів'!#REF!","v":{"$error":"#REF!"}},{"$f":"'1.Портфель кредитів'!I96","v":"141/12/12"},{"$f":"'1.Портфель кредитів'!W96","v":1175617.8560357122},{"$f":"'1.Портфель кредитів'!Y96","v":3495441.86},4,"2018-06-01","380388_4_43252_2"]
[{"$f":"'1.Портфель кредитів'!H97","v":1},{"$f":"'1.Портфель кредитів'!D97","v":"380388"},{"$f":"'1.Портфель кредитів'!#REF!","v":{"$error":"#REF!"}},{"$f":"'1.Портфель кредитів'!#REF!","v":{"$error":"#REF!"}},{"$f":"'1.Портфель кредитів'!#REF!","v":{"$error":"#REF!"}},{"$f":"'1.Портфель кредитів'!I97","v":"REF.2011101094"},{"$f":"'1.Портфель кредитів'!W97","v":182314.40179490001},{"$f":"'1.Портфель кредитів'!Y97","v":2679911.83},4,"2018-06-01","380388_4_43252_2"]
[{"$f":"'1.Портфель кредитів'!H98","v":1},{"$f":"'1.Портфель кредитів'!D98","v":"380388"},{"$f":"'1.Портфель кредитів'!#REF!","v":{"$error":"#REF!"}},{"$f":"'1.Портфель кредитів'!#REF!","v":{"$error":"#REF!"}},{"$f":"'1.Портфель кредитів'!#REF!","v":{"$error":"#REF!"}},{"$f":"'1.Портфель кредитів'!I98","v":"BDL.2011101095"},{"$f":"'1.Портфель кредитів'!W98","v":63924.014654700004},{"$f":"'1.Портфель кредитів'!Y98","v":939644.49},4,"2018-06-01","380388_4_43252_2"]
[{"$f":"'1.Портфель кредитів'!H99","v":1},{"$f":"'1.Портфель кредитів'!D99","v":"380388"},{"$f":"'1.Портфель кредитів'!#REF!","v":{"$error":"#REF!"}},{"$f":"'1.Портфель кредитів'!#REF!","v":{"$error":"#REF!"}},{"$f":"'1.Портфель кредитів'!#REF!","v":{"$error":"#REF!"}},{"$f":"'1.Портфель кредитів'!I99","v":"LCI.2011101095"},{"$f":"'1.Портфель кредитів'!W99","v":845.69385570000009},{"$f":"'1.Портфель кредитів'!Y99","v":12431.19},4,"2018-06-01","380388_4_43252_2"]
[{"$f":"'1.Портфель кредитів'!H100","v":1},{"$f":"'1.Портфель кредитів'!D100","v":"321477"},{"$f":"'1.Портфель кредитів'!#REF!","v":{"$error":"#REF!"}},{"$f":"'1.Портфель кредитів'!#REF!","v":{"$error":"#REF!"}},{"$f":"'1.Портфель кредитів'!#REF!","v":{"$error":"#REF!"}},{"$f":"'1.Портфель кредитів'!I100","v":"8-2012"},{"$f":"'1.Портфель кредитів'!W100","v":5921550},{"$f":"'1.Портфель кредитів'!Y100","v":15486305.370000001},4,"2018-06-01","321477_4_43252_2"]
[{"$f":"'1.Портфель кредитів'!H101","v":1},{"$f":"'1.Портфель кредитів'!D101","v":"334969"},{"$f":"'1.Портфель кредитів'!#REF!","v":{"$error":"#REF!"}},{"$f":"'1.Портфель кредитів'!#REF!","v":{"$error":"#REF!"}},{"$f":"'1.Портфель кредитів'!#REF!","v":{"$error":"#REF!"}},{"$f":"'1.Портфель кредитів'!I101","v":"20"},{"$f":"'1.Портфель кредитів'!W101","v":377926},{"$f":"'1.Портфель кредитів'!Y101","v":2166198.04},4,"2018-06-01","334969_4_43252_2"]
[{"$f":"'1.Портфель кредитів'!H102","v":1},{"$f":"'1.Портфель кредитів'!D102","v":"380388"},{"$f":"'1.Портфель кредитів'!#REF!","v":{"$error":"#REF!"}},{"$f":"'1.Портфель кредитів'!#REF!","v":{"$error":"#REF!"}},{"$f":"'1.Портфель кредитів'!#REF!","v":{"$error":"#REF!"}},{"$f":"'1.Портфель кредитів'!I102","v":0},{"$f":"'1.Портфель кредитів'!W102","v":8241495.3899999997},{"$f":"'1.Портфель кредитів'!Y102","v":12039463.289999999},4,"2018-06-01","380388_4_43252_2"]
[{"$f":"'1.Портфель кредитів'!H103","v":1},{"$f":"'1.Портфель кредитів'!D103","v":"300205"},{"$f":"'1.Портфель кредитів'!#REF!","v":{"$error":"#REF!"}},{"$f":"'1.Портфель кредитів'!#REF!","v":{"$error":"#REF!"}},{"$f":"'1.Портфель кредитів'!#REF!","v":{"$error":"#REF!"}},{"$f":"'1.Портфель кредитів'!I103","v":"642"},{"$f":"'1.Портфель кредитів'!W103","v":1715677.45},{"$f":"'1.Портфель кредитів'!Y103","v":35012054.829999998},4,"2018-06-01","300205_4_43252_2"]
[{"$f":"'1.Портфель кредитів'!H104","v":1},{"$f":"'1.Портфель кредитів'!D104","v":"380474"},{"$f":"'1.Портфель кредитів'!#REF!","v":{"$error":"#REF!"}},{"$f":"'1.Портфель кредитів'!#REF!","v":{"$error":"#REF!"}},{"$f":"'1.Портфель кредитів'!#REF!","v":{"$error":"#REF!"}},{"$f":"'1.Портфель кредитів'!I104","v":"450"},{"$f":"'1.Портфель кредитів'!W104","v":182127.3},{"$f":"'1.Портфель кредитів'!Y104","v":943910.08},4,"2018-06-01","380474_4_43252_2"]
[{"$f":"'1.Портфель кредитів'!H105","v":1},{"$f":"'1.Портфель кредитів'!D105","v":"322465"},{"$f":"'1.Портфель кредитів'!#REF!","v":{"$error":"#REF!"}},{"$f":"'1.Портфель кредитів'!#REF!","v":{"$error":"#REF!"}},{"$f":"'1.Портфель кредитів'!#REF!","v":{"$error":"#REF!"}},{"$f":"'1.Портфель кредитів'!I105","v":0},{"$f":"'1.Портфель кредитів'!W105","v":20402546.73},{"$f":"'1.Портфель кредитів'!Y105","v":22874442.23},4,"2018-06-01","322465_4_43252_2"]
[{"$f":"'1.Портфель кредитів'!H106","v":1},{"$f":"'1.Портфель кредитів'!D106","v":"300852"},{"$f":"'1.Портфель кредитів'!#REF!","v":{"$error":"#REF!"}},{"$f":"'1.Портфель кредитів'!#REF!","v":{"$error":"#REF!"}},{"$f":"'1.Портфель кредитів'!#REF!","v":{"$error":"#REF!"}},{"$f":"'1.Портфель кредитів'!I106","v":"Договора відповідно реєстру"},{"$f":"'1.Портфель кредитів'!W106","v":16424.150000000001},{"$f":"'1.Портфель кредитів'!Y106","v":165050.53},4,"2018-06-01","300852_4_43252_2"]
[{"$f":"'1.Портфель кредитів'!#REF!","v":{"$error":"#REF!"}},{"$f":"'1.Портфель кредитів'!#REF!","v":{"$error":"#REF!"}},{"$f":"'1.Портфель кредитів'!#REF!","v":{"$error":"#REF!"}},{"$f":"'1.Портфель кредитів'!#REF!","v":{"$error":"#REF!"}},{"$f":"'1.Портфель кредитів'!#REF!","v":{"$error":"#REF!"}},{"$f":"'1.Портфель кредитів'!#REF!","v":{"$error":"#REF!"}},{"$f":"'1.Портфель кредитів'!#REF!","v":{"$error":"#REF!"}},{"$f":"'1.Портфель кредитів'!#REF!","v":{"$error":"#REF!"}},4,"2018-06-01",{"$error":"#REF!"}]
[{"$f":"'1.Портфель кредитів'!#REF!","v":{"$error":"#REF!"}},{"$f":"'1.Портфель кредитів'!#REF!","v":{"$error":"#REF!"}},{"$f":"'1.Портфель кредитів'!#REF!","v":{"$error":"#REF!"}},{"$f":"'1.Портфель кредитів'!#REF!","v":{"$error":"#REF!"}},{"$f":"'1.Портфель кредитів'!#REF!","v":{"$error":"#REF!"}},{"$f":"'1.Портфель кредитів'!#REF!","v":{"$error":"#REF!"}},{"$f":"'1.Портфель кредитів'!#REF!","v":{"$error":"#REF!"}},{"$f":"'1.Портфель кредитів'!#REF!","v":{"$error":"#REF!"}},4,"2018-06-01",{"$error":"#REF!"}]
[{"$f":"'1.Портфель кредитів'!#REF!","v":{"$error":"#REF!"}},{"$f":"'1.Портфель кредитів'!#REF!","v":{"$error":"#REF!"}},{"$f":"'1.Портфель кредитів'!#REF!","v":{"$error":"#REF!"}},{"$f":"'1.Портфель кредитів'!#REF!","v":{"$error":"#REF!"}},{"$f":"'1.Портфель кредитів'!#REF!","v":{"$error":"#REF!"}},{"$f":"'1.Портфель кредитів'!#REF!","v":{"$error":"#REF!"}},{"$f":"'1.Портфель кредитів'!#REF!","v":{"$error":"#REF!"}},{"$f":"'1.Портфель кредитів'!#REF!","v":{"$error":"#REF!"}},4,"2018-06-01",{"$error":"#REF!"}]
[{"$f":"'1.Портфель кредитів'!#REF!","v":{"$error":"#REF!"}},{"$f":"'1.Портфель кредитів'!#REF!","v":{"$error":"#REF!"}},{"$f":"'1.Портфель кредитів'!#REF!","v":{"$error":"#REF!"}},{"$f":"'1.Портфель кредитів'!#REF!","v":{"$error":"#REF!"}},{"$f":"'1.Портфель кредитів'!#REF!","v":{"$error":"#REF!"}},{"$f":"'1.Портфель кредитів'!#REF!","v":{"$error":"#REF!"}},{"$f":"'1.Портфель кредитів'!#REF!","v":{"$error":"#REF!"}},{"$f":"'1.Портфель кредитів'!#REF!","v":{"$error":"#REF!"}},4,"2018-06-01",{"$error":"#REF!"}]
[{"$f":"'1.Портфель кредитів'!#REF!","v":{"$error":"#REF!"}},{"$f":"'1.Портфель кредитів'!#REF!","v":{"$error":"#REF!"}},{"$f":"'1.Портфель кредитів'!#REF!","v":{"$error":"#REF!"}},{"$f":"'1.Портфель кредитів'!#REF!","v":{"$error":"#REF!"}},{"$f":"'1.Портфель кредитів'!#REF!","v":{"$error":"#REF!"}},{"$f":"'1.Портфель кредитів'!#REF!","v":{"$error":"#REF!"}},{"$f":"'1.Портфель кредитів'!#REF!","v":{"$error":"#REF!"}},{"$f":"'1.Портфель кредитів'!#REF!","v":{"$error":"#REF!"}},4,"2018-06-01",{"$error":"#REF!"}]
[{"$f":"'1.Портфель кредитів'!#REF!","v":{"$error":"#REF!"}},{"$f":"'1.Портфель кредитів'!#REF!","v":{"$error":"#REF!"}},{"$f":"'1.Портфель кредитів'!#REF!","v":{"$error":"#REF!"}},{"$f":"'1.Портфель кредитів'!#REF!","v":{"$error":"#REF!"}},{"$f":"'1.Портфель кредитів'!#REF!","v":{"$error":"#REF!"}},{"$f":"'1.Портфель кредитів'!#REF!","v":{"$error":"#REF!"}},{"$f":"'1.Портфель кредитів'!#REF!","v":{"$error":"#REF!"}},{"$f":"'1.Портфель кредитів'!#REF!","v":{"$error":"#REF!"}},4,"2018-06-01",{"$error":"#REF!"}]
[{"$f":"'1.Портфель кредитів'!#REF!","v":{"$error":"#REF!"}},{"$f":"'1.Портфель кредитів'!#REF!","v":{"$error":"#REF!"}},{"$f":"'1.Портфель кредитів'!#REF!","v":{"$error":"#REF!"}},{"$f":"'1.Портфель кредитів'!#REF!","v":{"$error":"#REF!"}},{"$f":"'1.Портфель кредитів'!#REF!","v":{"$error":"#REF!"}},{"$f":"'1.Портфель кредитів'!#REF!","v":{"$error":"#REF!"}},{"$f":"'1.Портфель кредитів'!#REF!","v":{"$error":"#REF!"}},{"$f":"'1.Портфель кредитів'!#REF!","v":{"$error":"#REF!"}},4,"2018-06-01",{"$error":"#REF!"}]
[{"$f":"'1.Портфель кредитів'!#REF!","v":{"$error":"#REF!"}},{"$f":"'1.Портфель кредитів'!#REF!","v":{"$error":"#REF!"}},{"$f":"'1.Портфель кредитів'!#REF!","v":{"$error":"#REF!"}},{"$f":"'1.Портфель кредитів'!#REF!","v":{"$error":"#REF!"}},{"$f":"'1.Портфель кредитів'!#REF!","v":{"$error":"#REF!"}},{"$f":"'1.Портфель кредитів'!#REF!","v":{"$error":"#REF!"}},{"$f":"'1.Портфель кредитів'!#REF!","v":{"$error":"#REF!"}},{"$f":"'1.Портфель кредитів'!#REF!","v":{"$error":"#REF!"}},4,"2018-06-01",{"$error":"#REF!"}]
[{"$f":"'1.Портфель кредитів'!#REF!","v":{"$error":"#REF!"}},{"$f":"'1.Портфель кредитів'!#REF!","v":{"$error":"#REF!"}},{"$f":"'1.Портфель кредитів'!#REF!","v":{"$error":"#REF!"}},{"$f":"'1.Портфель кредитів'!#REF!","v":{"$error":"#REF!"}},{"$f":"'1.Портфель кредитів'!#REF!","v":{"$error":"#REF!"}},{"$f":"'1.Портфель кредитів'!#REF!","v":{"$error":"#REF!"}},{"$f":"'1.Портфель кредитів'!#REF!","v":{"$error":"#REF!"}},{"$f":"'1.Портфель кредитів'!#REF!","v":{"$error":"#REF!"}},4,"2018-06-01",{"$error":"#REF!"}]
[{"$f":"'1.Портфель кредитів'!#REF!","v":{"$error":"#REF!"}},{"$f":"'1.Портфель кредитів'!#REF!","v":{"$error":"#REF!"}},{"$f":"'1.Портфель кредитів'!#REF!","v":{"$error":"#REF!"}},{"$f":"'1.Портфель кредитів'!#REF!","v":{"$error":"#REF!"}},{"$f":"'1.Портфель кредитів'!#REF!","v":{"$error":"#REF!"}},{"$f":"'1.Портфель кредитів'!#REF!","v":{"$error":"#REF!"}},{"$f":"'1.Портфель кредитів'!#REF!","v":{"$error":"#REF!"}},{"$f":"'1.Портфель кредитів'!#REF!","v":{"$error":"#REF!"}},4,"2018-06-01",{"$error":"#REF!"}]
[{"$f":"'1.Портфель кредитів'!#REF!","v":{"$error":"#REF!"}},{"$f":"'1.Портфель кредитів'!#REF!","v":{"$error":"#REF!"}},{"$f":"'1.Портфель кредитів'!#REF!","v":{"$error":"#REF!"}},{"$f":"'1.Портфель кредитів'!#REF!","v":{"$error":"#REF!"}},{"$f":"'1.Портфель кредитів'!#REF!","v":{"$error":"#REF!"}},{"$f":"'1.Портфель кредитів'!#REF!","v":{"$error":"#REF!"}},{"$f":"'1.Портфель кредитів'!#REF!","v":{"$error":"#REF!"}},{"$f":"'1.Портфель кредитів'!#REF!","v":{"$error":"#REF!"}},4,"2018-06-01",{"$error":"#REF!"}]
[{"$f":"'1.Портфель кредитів'!#REF!","v":{"$error":"#REF!"}},{"$f":"'1.Портфель кредитів'!#REF!","v":{"$error":"#REF!"}},{"$f":"'1.Портфель кредитів'!#REF!","v":{"$error":"#REF!"}},{"$f":"'1.Портфель кредитів'!#REF!","v":{"$error":"#REF!"}},{"$f":"'1.Портфель кредитів'!#REF!","v":{"$error":"#REF!"}},{"$f":"'1.Портфель кредитів'!#REF!","v":{"$error":"#REF!"}},{"$f":"'1.Портфель кредитів'!#REF!","v":{"$error":"#REF!"}},{"$f":"'1.Портфель кредитів'!#REF!","v":{"$error":"#REF!"}},4,"2018-06-01",{"$error":"#REF!"}]
[{"$f":"'1.Портфель кредитів'!#REF!","v":{"$error":"#REF!"}},{"$f":"'1.Портфель кредитів'!#REF!","v":{"$error":"#REF!"}},{"$f":"'1.Портфель кредитів'!#REF!","v":{"$error":"#REF!"}},{"$f":"'1.Портфель кредитів'!#REF!","v":{"$error":"#REF!"}},{"$f":"'1.Портфель кредитів'!#REF!","v":{"$error":"#REF!"}},{"$f":"'1.Портфель кредитів'!#REF!","v":{"$error":"#REF!"}},{"$f":"'1.Портфель кредитів'!#REF!","v":{"$error":"#REF!"}},{"$f":"'1.Портфель кредитів'!#REF!","v":{"$error":"#REF!"}},4,"2018-06-01",{"$error":"#REF!"}]
[{"$f":"'1.Портфель кредитів'!H107","v":1},{"$f":"'1.Портфель кредитів'!D107","v":"300131"},{"$f":"'1.Портфель кредитів'!#REF!","v":{"$error":"#REF!"}},{"$f":"'1.Портфель кредитів'!#REF!","v":{"$error":"#REF!"}},{"$f":"'1.Портфель кредитів'!#REF!","v":{"$error":"#REF!"}},{"$f":"'1.Портфель кредитів'!I107","v":"217-ОД"},{"$f":"'1.Портфель кредитів'!W107","v":190702.64},{"$f":"'1.Портфель кредитів'!Y107","v":4348050.8899999997},4,"2018-06-01","300131_4_43252_2"]
[{"$f":"'1.Портфель кредитів'!H108","v":1},{"$f":"'1.Портфель кредитів'!D108","v":"300131"},{"$f":"'1.Портфель кредитів'!#REF!","v":{"$error":"#REF!"}},{"$f":"'1.Портфель кредитів'!#REF!","v":{"$error":"#REF!"}},{"$f":"'1.Портфель кредитів'!#REF!","v":{"$error":"#REF!"}},{"$f":"'1.Портфель кредитів'!I108","v":"463V-01-08"},{"$f":"'1.Портфель кредитів'!W108","v":235705.18},{"$f":"'1.Портфель кредитів'!Y108","v":4769823.1900000004},4,"2018-06-01","300131_4_43252_2"]
[{"$f":"'1.Портфель кредитів'!H109","v":1},{"$f":"'1.Портфель кредитів'!D109","v":"300131"},{"$f":"'1.Портфель кредитів'!#REF!","v":{"$error":"#REF!"}},{"$f":"'1.Портфель кредитів'!#REF!","v":{"$error":"#REF!"}},{"$f":"'1.Портфель кредитів'!#REF!","v":{"$error":"#REF!"}},{"$f":"'1.Портфель кредитів'!I109","v":"462-01-08"},{"$f":"'1.Портфель кредитів'!W109","v":11446.99},{"$f":"'1.Портфель кредитів'!Y109","v":65076.13},{"$f":"$E$1","v":4},{"$f":"$E$2","v":"2018-06-01"},{"$f":"B134&\"_\"&I134&\"_\"&J134&\"_\"&$E$3","v":"300131_4_43252_2"}]
[{"$f":"'1.Портфель кредитів'!H110","v":1},{"$f":"'1.Портфель кредитів'!D110","v":"300131"},{"$f":"'1.Портфель кредитів'!#REF!","v":{"$error":"#REF!"}},{"$f":"'1.Портфель кредитів'!#REF!","v":{"$error":"#REF!"}},{"$f":"'1.Портфель кредитів'!#REF!","v":{"$error":"#REF!"}},{"$f":"'1.Портфель кредитів'!I110","v":"382-01-07"},{"$f":"'1.Портфель кредитів'!W110","v":16456.93},{"$f":"'1.Портфель кредитів'!Y110","v":62980.17},4,"2018-06-01","300131_4_43252_2"]
[{"$f":"'1.Портфель кредитів'!H111","v":1},{"$f":"'1.Портфель кредитів'!D111","v":"300131"},{"$f":"'1.Портфель кредитів'!#REF!","v":{"$error":"#REF!"}},{"$f":"'1.Портфель кредитів'!#REF!","v":{"$error":"#REF!"}},{"$f":"'1.Портфель кредитів'!#REF!","v":{"$error":"#REF!"}},{"$f":"'1.Портфель кредитів'!I111","v":"83-10/07"},{"$f":"'1.Портфель кредитів'!W111","v":2881751.17},{"$f":"'1.Портфель кредитів'!Y111","v":5021163.24},4,"2018-06-01","300131_4_43252_2"]
[{"$f":"'1.Портфель кредитів'!H112","v":1},{"$f":"'1.Портфель кредитів'!D112","v":"300131"},{"$f":"'1.Портфель кредитів'!#REF!","v":{"$error":"#REF!"}},{"$f":"'1.Портфель кредитів'!#REF!","v":{"$error":"#REF!"}},{"$f":"'1.Портфель кредитів'!#REF!","v":{"$error":"#REF!"}},{"$f":"'1.Портфель кредитів'!I112","v":"44-05/06"},{"$f":"'1.Портфель кредитів'!W112","v":2171497.67},{"$f":"'1.Портфель кредитів'!Y112","v":4245118.05},4,"2018-06-01","300131_4_43252_2"]
[{"$f":"'1.Портфель кредитів'!H113","v":1},{"$f":"'1.Портфель кредитів'!D113","v":"300131"},{"$f":"'1.Портфель кредитів'!#REF!","v":{"$error":"#REF!"}},{"$f":"'1.Портфель кредитів'!#REF!","v":{"$error":"#REF!"}},{"$f":"'1.Портфель кредитів'!#REF!","v":{"$error":"#REF!"}},{"$f":"'1.Портфель кредитів'!I113","v":"29v-01-08"},{"$f":"'1.Портфель кредитів'!W113","v":732167.41},{"$f":"'1.Портфель кредитів'!Y113","v":18466861.579999998},4,"2018-06-01","300131_4_43252_2"]
[{"$f":"'1.Портфель кредитів'!H114","v":2},{"$f":"'1.Портфель кредитів'!D114","v":"328210"},{"$f":"'1.Портфель кредитів'!#REF!","v":{"$error":"#REF!"}},{"$f":"'1.Портфель кредитів'!#REF!","v":{"$error":"#REF!"}},{"$f":"'1.Портфель кредитів'!#REF!","v":{"$error":"#REF!"}},{"$f":"'1.Портфель кредитів'!I114","v":" №41-12 "},{"$f":"'1.Портфель кредитів'!W114","v":43496.38},{"$f":"'1.Портфель кредитів'!Y114","v":1441231.81},4,"2018-06-01","328210_4_43252_2"]
[{"$f":"'1.Портфель кредитів'!H115","v":1},{"$f":"'1.Портфель кредитів'!D115","v":"328210"},{"$f":"'1.Портфель кредитів'!#REF!","v":{"$error":"#REF!"}},{"$f":"'1.Портфель кредитів'!#REF!","v":{"$error":"#REF!"}},{"$f":"'1.Портфель кредитів'!#REF!","v":{"$error":"#REF!"}},{"$f":"'1.Портфель кредитів'!I115","v":" №94-13"},{"$f":"'1.Портфель кредитів'!W115","v":636678.12},{"$f":"'1.Портфель кредитів'!Y115","v":1403473.3900000001},4,"2018-06-01","328210_4_43252_2"]
[{"$f":"'1.Портфель кредитів'!H116","v":1},{"$f":"'1.Портфель кредитів'!D116","v":"328210"},{"$f":"'1.Портфель кредитів'!#REF!","v":{"$error":"#REF!"}},{"$f":"'1.Портфель кредитів'!#REF!","v":{"$error":"#REF!"}},{"$f":"'1.Портфель кредитів'!#REF!","v":{"$error":"#REF!"}},{"$f":"'1.Портфель кредитів'!I116","v":"№111-11"},{"$f":"'1.Портфель кредитів'!W116","v":8620.09},{"$f":"'1.Портфель кредитів'!Y116","v":113829.43},4,"2018-06-01","328210_4_43252_2"]
[{"$f":"'1.Портфель кредитів'!H117","v":1},{"$f":"'1.Портфель кредитів'!D117","v":"328210"},{"$f":"'1.Портфель кредитів'!#REF!","v":{"$error":"#REF!"}},{"$f":"'1.Портфель кредитів'!#REF!","v":{"$error":"#REF!"}},{"$f":"'1.Портфель кредитів'!#REF!","v":{"$error":"#REF!"}},{"$f":"'1.Портфель кредитів'!I117","v":"№112-11/ОД"},{"$f":"'1.Портфель кредитів'!W117","v":218096.91},{"$f":"'1.Портфель кредитів'!Y117","v":503660.75},4,"2018-06-01","328210_4_43252_2"]
[{"$f":"'1.Портфель кредитів'!H118","v":1},{"$f":"'1.Портфель кредитів'!D118","v":"328210"},{"$f":"'1.Портфель кредитів'!#REF!","v":{"$error":"#REF!"}},{"$f":"'1.Портфель кредитів'!#REF!","v":{"$error":"#REF!"}},{"$f":"'1.Портфель кредитів'!#REF!","v":{"$error":"#REF!"}},{"$f":"'1.Портфель кредитів'!I118","v":"№18-12"},{"$f":"'1.Портфель кредитів'!W118","v":2527.87},{"$f":"'1.Портфель кредитів'!Y118","v":30937.06},4,"2018-06-01","328210_4_43252_2"]
[{"$f":"'1.Портфель кредитів'!H119","v":1},{"$f":"'1.Портфель кредитів'!D119","v":"328210"},{"$f":"'1.Портфель кредитів'!#REF!","v":{"$error":"#REF!"}},{"$f":"'1.Портфель кредитів'!#REF!","v":{"$error":"#REF!"}},{"$f":"'1.Портфель кредитів'!#REF!","v":{"$error":"#REF!"}},{"$f":"'1.Портфель кредитів'!I119","v":"№88-10"},{"$f":"'1.Портфель кредитів'!W119","v":16971.02},{"$f":"'1.Портфель кредитів'!Y119","v":207698.24},4,"2018-06-01","328210_4_43252_2"]
[{"$f":"'1.Портфель кредитів'!H120","v":1},{"$f":"'1.Портфель кредитів'!D120","v":"328210"},{"$f":"'1.Портфель кредитів'!#REF!","v":{"$error":"#REF!"}},{"$f":"'1.Портфель кредитів'!#REF!","v":{"$error":"#REF!"}},{"$f":"'1.Портфель кредитів'!#REF!","v":{"$error":"#REF!"}},{"$f":"'1.Портфель кредитів'!I120","v":"№30-12/ОД"},{"$f":"'1.Портфель кредитів'!W120","v":13826.16},{"$f":"'1.Портфель кредитів'!Y120","v":195899.22999999998},4,"2018-06-01","328210_4_43252_2"]
[{"$f":"'1.Портфель кредитів'!H121","v":1},{"$f":"'1.Портфель кредитів'!D121","v":"380236"},{"$f":"'1.Портфель кредитів'!#REF!","v":{"$error":"#REF!"}},{"$f":"'1.Портфель кредитів'!#REF!","v":{"$error":"#REF!"}},{"$f":"'1.Портфель кредитів'!#REF!","v":{"$error":"#REF!"}},{"$f":"'1.Портфель кредитів'!I121","v":"13/008/2009-КЛТ"},{"$f":"'1.Портфель кредитів'!W121","v":345276},{"$f":"'1.Портфель кредитів'!Y121","v":1545050.77},4,"2018-06-01","380236_4_43252_2"]
[{"$f":"'1.Портфель кредитів'!H122","v":1},{"$f":"'1.Портфель кредитів'!D122","v":"380236"},{"$f":"'1.Портфель кредитів'!#REF!","v":{"$error":"#REF!"}},{"$f":"'1.Портфель кредитів'!#REF!","v":{"$error":"#REF!"}},{"$f":"'1.Портфель кредитів'!#REF!","v":{"$error":"#REF!"}},{"$f":"'1.Портфель кредитів'!I122","v":"13/035/2008-К"},{"$f":"'1.Портфель кредитів'!W122","v":655795},{"$f":"'1.Портфель кредитів'!Y122","v":59808958.324132711},4,"2018-06-01","380236_4_43252_2"]
[{"$f":"'1.Портфель кредитів'!H123","v":1},{"$f":"'1.Портфель кредитів'!D123","v":"380236"},{"$f":"'1.Портфель кредитів'!#REF!","v":{"$error":"#REF!"}},{"$f":"'1.Портфель кредитів'!#REF!","v":{"$error":"#REF!"}},{"$f":"'1.Портфель кредитів'!#REF!","v":{"$error":"#REF!"}},{"$f":"'1.Портфель кредитів'!I123","v":"13/039/2008-КЛТ"},{"$f":"'1.Портфель кредитів'!W123","v":1068902},{"$f":"'1.Портфель кредитів'!Y123","v":48733787.386906005},4,"2018-06-01","380236_4_43252_2"]
[{"$f":"'1.Портфель кредитів'!H124","v":1},{"$f":"'1.Портфель кредитів'!D124","v":"380236"},{"$f":"'1.Портфель кредитів'!#REF!","v":{"$error":"#REF!"}},{"$f":"'1.Портфель кредитів'!#REF!","v":{"$error":"#REF!"}},{"$f":"'1.Портфель кредитів'!#REF!","v":{"$error":"#REF!"}},{"$f":"'1.Портфель кредитів'!I124","v":"13/050/2007-К"},{"$f":"'1.Портфель кредитів'!W124","v":3094328},{"$f":"'1.Портфель кредитів'!Y124","v":12319272.42},4,"2018-06-01","380236_4_43252_2"]
[{"$f":"'1.Портфель кредитів'!H125","v":1},{"$f":"'1.Портфель кредитів'!D125","v":"380236"},{"$f":"'1.Портфель кредитів'!#REF!","v":{"$error":"#REF!"}},{"$f":"'1.Портфель кредитів'!#REF!","v":{"$error":"#REF!"}},{"$f":"'1.Портфель кредитів'!#REF!","v":{"$error":"#REF!"}},{"$f":"'1.Портфель кредитів'!I125","v":"13/051/2007-К"},{"$f":"'1.Портфель кредитів'!W125","v":95455},{"$f":"'1.Портфель кредитів'!Y125","v":836918.87},4,"2018-06-01","380236_4_43252_2"]
[{"$f":"'1.Портфель кредитів'!H126","v":1},{"$f":"'1.Портфель кредитів'!D126","v":"380236"},{"$f":"'1.Портфель кредитів'!#REF!","v":{"$error":"#REF!"}},{"$f":"'1.Портфель кредитів'!#REF!","v":{"$error":"#REF!"}},{"$f":"'1.Портфель кредитів'!#REF!","v":{"$error":"#REF!"}},{"$f":"'1.Портфель кредитів'!I126","v":"13/085/2007-К"},{"$f":"'1.Портфель кредитів'!W126","v":39420},{"$f":"'1.Портфель кредитів'!Y126","v":345626.88},4,"2018-06-01","380236_4_43252_2"]
[{"$f":"'1.Портфель кредитів'!H127","v":1},{"$f":"'1.Портфель кредитів'!D127","v":"380236"},{"$f":"'1.Портфель кредитів'!#REF!","v":{"$error":"#REF!"}},{"$f":"'1.Портфель кредитів'!#REF!","v":{"$error":"#REF!"}},{"$f":"'1.Портфель кредитів'!#REF!","v":{"$error":"#REF!"}},{"$f":"'1.Портфель кредитів'!I127","v":"НКЛ-2005484/1"},{"$f":"'1.Портфель кредитів'!W127","v":5786514},{"$f":"'1.Портфель кредитів'!Y127","v":114281384.22},4,"2018-06-01","380236_4_43252_2"]
[{"$f":"'1.Портфель кредитів'!H128","v":1},{"$f":"'1.Портфель кредитів'!D128","v":"380236"},{"$f":"'1.Портфель кредитів'!#REF!","v":{"$error":"#REF!"}},{"$f":"'1.Портфель кредитів'!#REF!","v":{"$error":"#REF!"}},{"$f":"'1.Портфель кредитів'!#REF!","v":{"$error":"#REF!"}},{"$f":"'1.Портфель кредитів'!I128","v":"НКЛ-2005484/2"},{"$f":"'1.Портфель кредитів'!W128","v":8026730},{"$f":"'1.Портфель кредитів'!Y128","v":35988189.600000001},4,"2018-06-01","380236_4_43252_2"]
[{"$f":"'1.Портфель кредитів'!H129","v":1},{"$f":"'1.Портфель кредитів'!D129","v":"380236"},{"$f":"'1.Портфель кредитів'!#REF!","v":{"$error":"#REF!"}},{"$f":"'1.Портфель кредитів'!#REF!","v":{"$error":"#REF!"}},{"$f":"'1.Портфель кредитів'!#REF!","v":{"$error":"#REF!"}},{"$f":"'1.Портфель кредитів'!I129","v":"НКЛ-2002859"},{"$f":"'1.Портфель кредитів'!W129","v":20951278},{"$f":"'1.Портфель кредитів'!Y129","v":116078329.81999999},4,"2018-06-01","380236_4_43252_2"]
[{"$f":"'1.Портфель кредитів'!H130","v":1},{"$f":"'1.Портфель кредитів'!D130","v":"380236"},{"$f":"'1.Портфель кредитів'!#REF!","v":{"$error":"#REF!"}},{"$f":"'1.Портфель кредитів'!#REF!","v":{"$error":"#REF!"}},{"$f":"'1.Портфель кредитів'!#REF!","v":{"$error":"#REF!"}},{"$f":"'1.Портфель кредитів'!I130","v":"НКЛ-2002859/1"},{"$f":"'1.Портфель кредитів'!W130","v":6644899},{"$f":"'1.Портфель кредитів'!Y130","v":130785753.43000001},4,"2018-06-01","380236_4_43252_2"]
[{"$f":"'1.Портфель кредитів'!H131","v":1},{"$f":"'1.Портфель кредитів'!D131","v":"380236"},{"$f":"'1.Портфель кредитів'!#REF!","v":{"$error":"#REF!"}},{"$f":"'1.Портфель кредитів'!#REF!","v":{"$error":"#REF!"}},{"$f":"'1.Портфель кредитів'!#REF!","v":{"$error":"#REF!"}},{"$f":"'1.Портфель кредитів'!I131","v":"НКЛ-2022815"},{"$f":"'1.Портфель кредитів'!W131","v":8576319},{"$f":"'1.Портфель кредитів'!Y131","v":171586012.41},4,"2018-06-01","380236_4_43252_2"]
[{"$f":"'1.Портфель кредитів'!H132","v":1},{"$f":"'1.Портфель кредитів'!D132","v":"380236"},{"$f":"'1.Портфель кредитів'!#REF!","v":{"$error":"#REF!"}},{"$f":"'1.Портфель кредитів'!#REF!","v":{"$error":"#REF!"}},{"$f":"'1.Портфель кредитів'!#REF!","v":{"$error":"#REF!"}},{"$f":"'1.Портфель кредитів'!I132","v":"№04/69/07-КЛТ"},{"$f":"'1.Портфель кредитів'!W132","v":523425699},{"$f":"'1.Портфель кредитів'!Y132","v":657852313.52999997},4,"2018-06-01","380236_4_43252_2"]
[{"$f":"'1.Портфель кредитів'!H133","v":0},{"$f":"'1.Портфель кредитів'!D133","v":""},{"$f":"'1.Портфель кредитів'!#REF!","v":{"$error":"#REF!"}},{"$f":"'1.Портфель кредитів'!#REF!","v":{"$error":"#REF!"}},{"$f":"'1.Портфель кредитів'!#REF!","v":{"$error":"#REF!"}},{"$f":"'1.Портфель кредитів'!I133","v":0},{"$f":"'1.Портфель кредитів'!W133","v":0},{"$f":"'1.Портфель кредитів'!Y133","v":""},4,"2018-06-01","_4_43252_2"]
[{"$f":"'1.Портфель кредитів'!H134","v":0},{"$f":"'1.Портфель кредитів'!D134","v":""},{"$f":"'1.Портфель кредитів'!#REF!","v":{"$error":"#REF!"}},{"$f":"'1.Портфель кредитів'!#REF!","v":{"$error":"#REF!"}},{"$f":"'1.Портфель кредитів'!#REF!","v":{"$error":"#REF!"}},{"$f":"'1.Портфель кредитів'!I134","v":0},{"$f":"'1.Портфель кредитів'!W134","v":0},{"$f":"'1.Портфель кредитів'!Y134","v":""},4,"2018-06-01","_4_43252_2"]
[{"$f":"'1.Портфель кредитів'!H135","v":0},{"$f":"'1.Портфель кредитів'!D135","v":""},{"$f":"'1.Портфель кредитів'!#REF!","v":{"$error":"#REF!"}},{"$f":"'1.Портфель кредитів'!#REF!","v":{"$error":"#REF!"}},{"$f":"'1.Портфель кредитів'!#REF!","v":{"$error":"#REF!"}},{"$f":"'1.Портфель кредитів'!I135","v":0},{"$f":"'1.Портфель кредитів'!W135","v":0},{"$f":"'1.Портфель кредитів'!Y135","v":""},4,"2018-06-01","_4_43252_2"]
[{"$f":"'1.Портфель кредитів'!H136","v":0},{"$f":"'1.Портфель кредитів'!D136","v":""},{"$f":"'1.Портфель кредитів'!#REF!","v":{"$error":"#REF!"}},{"$f":"'1.Портфель кредитів'!#REF!","v":{"$error":"#REF!"}},{"$f":"'1.Портфель кредитів'!#REF!","v":{"$error":"#REF!"}},{"$f":"'1.Портфель кредитів'!I136","v":0},{"$f":"'1.Портфель кредитів'!W136","v":0},{"$f":"'1.Портфель кредитів'!Y136","v":""},4,"2018-06-01","_4_43252_2"]
[{"$f":"'1.Портфель кредитів'!H137","v":0},{"$f":"'1.Портфель кредитів'!D137","v":""},{"$f":"'1.Портфель кредитів'!#REF!","v":{"$error":"#REF!"}},{"$f":"'1.Портфель кредитів'!#REF!","v":{"$error":"#REF!"}},{"$f":"'1.Портфель кредитів'!#REF!","v":{"$error":"#REF!"}},{"$f":"'1.Портфель кредитів'!I137","v":0},{"$f":"'1.Портфель кредитів'!W137","v":0},{"$f":"'1.Портфель кредитів'!Y137","v":""},4,"2018-06-01","_4_43252_2"]
[{"$f":"'1.Портфель кредитів'!H138","v":0},{"$f":"'1.Портфель кредитів'!D138","v":""},{"$f":"'1.Портфель кредитів'!#REF!","v":{"$error":"#REF!"}},{"$f":"'1.Портфель кредитів'!#REF!","v":{"$error":"#REF!"}},{"$f":"'1.Портфель кредитів'!#REF!","v":{"$error":"#REF!"}},{"$f":"'1.Портфель кредитів'!I138","v":0},{"$f":"'1.Портфель кредитів'!W138","v":0},{"$f":"'1.Портфель кредитів'!Y138","v":""},4,"2018-06-01","_4_43252_2"]
[{"$f":"'1.Портфель кредитів'!H139","v":0},{"$f":"'1.Портфель кредитів'!D139","v":""},{"$f":"'1.Портфель кредитів'!#REF!","v":{"$error":"#REF!"}},{"$f":"'1.Портфель кредитів'!#REF!","v":{"$error":"#REF!"}},{"$f":"'1.Портфель кредитів'!#REF!","v":{"$error":"#REF!"}},{"$f":"'1.Портфель кредитів'!I139","v":0},{"$f":"'1.Портфель кредитів'!W139","v":0},{"$f":"'1.Портфель кредитів'!Y139","v":""},4,"2018-06-01","_4_43252_2"]
[{"$f":"'1.Портфель кредитів'!H140","v":0},{"$f":"'1.Портфель кредитів'!D140","v":""},{"$f":"'1.Портфель кредитів'!#REF!","v":{"$error":"#REF!"}},{"$f":"'1.Портфель кредитів'!#REF!","v":{"$error":"#REF!"}},{"$f":"'1.Портфель кредитів'!#REF!","v":{"$error":"#REF!"}},{"$f":"'1.Портфель кредитів'!I140","v":0},{"$f":"'1.Портфель кредитів'!W140","v":0},{"$f":"'1.Портфель кредитів'!Y140","v":""},4,"2018-06-01","_4_43252_2"]
[{"$f":"'1.Портфель кредитів'!H141","v":0},{"$f":"'1.Портфель кредитів'!D141","v":""},{"$f":"'1.Портфель кредитів'!#REF!","v":{"$error":"#REF!"}},{"$f":"'1.Портфель кредитів'!#REF!","v":{"$error":"#REF!"}},{"$f":"'1.Портфель кредитів'!#REF!","v":{"$error":"#REF!"}},{"$f":"'1.Портфель кредитів'!I141","v":0},{"$f":"'1.Портфель кредитів'!W141","v":0},{"$f":"'1.Портфель кредитів'!Y141","v":""},4,"2018-06-01","_4_43252_2"]
[{"$f":"'1.Портфель кредитів'!H142","v":0},{"$f":"'1.Портфель кредитів'!D142","v":""},{"$f":"'1.Портфель кредитів'!#REF!","v":{"$error":"#REF!"}},{"$f":"'1.Портфель кредитів'!#REF!","v":{"$error":"#REF!"}},{"$f":"'1.Портфель кредитів'!#REF!","v":{"$error":"#REF!"}},{"$f":"'1.Портфель кредитів'!I142","v":0},{"$f":"'1.Портфель кредитів'!W142","v":0},{"$f":"'1.Портфель кредитів'!Y142","v":""},4,"2018-06-01","_4_43252_2"]
[{"$f":"'1.Портфель кредитів'!H143","v":0},{"$f":"'1.Портфель кредитів'!D143","v":""},{"$f":"'1.Портфель кредитів'!#REF!","v":{"$error":"#REF!"}},{"$f":"'1.Портфель кредитів'!#REF!","v":{"$error":"#REF!"}},{"$f":"'1.Портфель кредитів'!#REF!","v":{"$error":"#REF!"}},{"$f":"'1.Портфель кредитів'!I143","v":0},{"$f":"'1.Портфель кредитів'!W143","v":0},{"$f":"'1.Портфель кредитів'!Y143","v":""},4,"2018-06-01","_4_43252_2"]
[{"$f":"'1.Портфель кредитів'!H144","v":0},{"$f":"'1.Портфель кредитів'!D144","v":""},{"$f":"'1.Портфель кредитів'!#REF!","v":{"$error":"#REF!"}},{"$f":"'1.Портфель кредитів'!#REF!","v":{"$error":"#REF!"}},{"$f":"'1.Портфель кредитів'!#REF!","v":{"$error":"#REF!"}},{"$f":"'1.Портфель кредитів'!I144","v":0},{"$f":"'1.Портфель кредитів'!W144","v":0},{"$f":"'1.Портфель кредитів'!Y144","v":""},4,"2018-06-01","_4_43252_2"]
[{"$f":"'1.Портфель кредитів'!H145","v":0},{"$f":"'1.Портфель кредитів'!D145","v":""},{"$f":"'1.Портфель кредитів'!#REF!","v":{"$error":"#REF!"}},{"$f":"'1.Портфель кредитів'!#REF!","v":{"$error":"#REF!"}},{"$f":"'1.Портфель кредитів'!#REF!","v":{"$error":"#REF!"}},{"$f":"'1.Портфель кредитів'!I145","v":0},{"$f":"'1.Портфель кредитів'!W145","v":0},{"$f":"'1.Портфель кредитів'!Y145","v":""},4,"2018-06-01","_4_43252_2"]
[{"$f":"'1.Портфель кредитів'!H146","v":0},{"$f":"'1.Портфель кредитів'!D146","v":""},{"$f":"'1.Портфель кредитів'!#REF!","v":{"$error":"#REF!"}},{"$f":"'1.Портфель кредитів'!#REF!","v":{"$error":"#REF!"}},{"$f":"'1.Портфель кредитів'!#REF!","v":{"$error":"#REF!"}},{"$f":"'1.Портфель кредитів'!I146","v":0},{"$f":"'1.Портфель кредитів'!W146","v":0},{"$f":"'1.Портфель кредитів'!Y146","v":""},4,"2018-06-01","_4_43252_2"]
[{"$f":"'1.Портфель кредитів'!H147","v":0},{"$f":"'1.Портфель кредитів'!D147","v":""},{"$f":"'1.Портфель кредитів'!#REF!","v":{"$error":"#REF!"}},{"$f":"'1.Портфель кредитів'!#REF!","v":{"$error":"#REF!"}},{"$f":"'1.Портфель кредитів'!#REF!","v":{"$error":"#REF!"}},{"$f":"'1.Портфель кредитів'!I147","v":0},{"$f":"'1.Портфель кредитів'!W147","v":0},{"$f":"'1.Портфель кредитів'!Y147","v":""},4,"2018-06-01","_4_43252_2"]
[{"$f":"'1.Портфель кредитів'!H148","v":0},{"$f":"'1.Портфель кредитів'!D148","v":""},{"$f":"'1.Портфель кредитів'!#REF!","v":{"$error":"#REF!"}},{"$f":"'1.Портфель кредитів'!#REF!","v":{"$error":"#REF!"}},{"$f":"'1.Портфель кредитів'!#REF!","v":{"$error":"#REF!"}},{"$f":"'1.Портфель кредитів'!I148","v":0},{"$f":"'1.Портфель кредитів'!W148","v":0},{"$f":"'1.Портфель кредитів'!Y148","v":""},4,"2018-06-01","_4_43252_2"]
[{"$f":"'1.Портфель кредитів'!H149","v":0},{"$f":"'1.Портфель кредитів'!D149","v":""},{"$f":"'1.Портфель кредитів'!#REF!","v":{"$error":"#REF!"}},{"$f":"'1.Портфель кредитів'!#REF!","v":{"$error":"#REF!"}},{"$f":"'1.Портфель кредитів'!#REF!","v":{"$error":"#REF!"}},{"$f":"'1.Портфель кредитів'!I149","v":0},{"$f":"'1.Портфель кредитів'!W149","v":0},{"$f":"'1.Портфель кредитів'!Y149","v":""},4,"2018-06-01","_4_43252_2"]
[{"$f":"'1.Портфель кредитів'!H150","v":0},{"$f":"'1.Портфель кредитів'!D150","v":""},{"$f":"'1.Портфель кредитів'!#REF!","v":{"$error":"#REF!"}},{"$f":"'1.Портфель кредитів'!#REF!","v":{"$error":"#REF!"}},{"$f":"'1.Портфель кредитів'!#REF!","v":{"$error":"#REF!"}},{"$f":"'1.Портфель кредитів'!I150","v":0},{"$f":"'1.Портфель кредитів'!W150","v":0},{"$f":"'1.Портфель кредитів'!Y150","v":""},4,"2018-06-01","_4_43252_2"]
[{"$f":"'1.Портфель кредитів'!H151","v":0},{"$f":"'1.Портфель кредитів'!D151","v":""},{"$f":"'1.Портфель кредитів'!#REF!","v":{"$error":"#REF!"}},{"$f":"'1.Портфель кредитів'!#REF!","v":{"$error":"#REF!"}},{"$f":"'1.Портфель кредитів'!#REF!","v":{"$error":"#REF!"}},{"$f":"'1.Портфель кредитів'!I151","v":0},{"$f":"'1.Портфель кредитів'!W151","v":0},{"$f":"'1.Портфель кредитів'!Y151","v":""},4,"2018-06-01","_4_43252_2"]
[{"$f":"'1.Портфель кредитів'!H152","v":0},{"$f":"'1.Портфель кредитів'!D152","v":""},{"$f":"'1.Портфель кредитів'!#REF!","v":{"$error":"#REF!"}},{"$f":"'1.Портфель кредитів'!#REF!","v":{"$error":"#REF!"}},{"$f":"'1.Портфель кредитів'!#REF!","v":{"$error":"#REF!"}},{"$f":"'1.Портфель кредитів'!I152","v":0},{"$f":"'1.Портфель кредитів'!W152","v":0},{"$f":"'1.Портфель кредитів'!Y152","v":""},4,"2018-06-01","_4_43252_2"]
[{"$f":"'1.Портфель кредитів'!H153","v":0},{"$f":"'1.Портфель кредитів'!D153","v":""},{"$f":"'1.Портфель кредитів'!#REF!","v":{"$error":"#REF!"}},{"$f":"'1.Портфель кредитів'!#REF!","v":{"$error":"#REF!"}},{"$f":"'1.Портфель кредитів'!#REF!","v":{"$error":"#REF!"}},{"$f":"'1.Портфель кредитів'!I153","v":0},{"$f":"'1.Портфель кредитів'!W153","v":0},{"$f":"'1.Портфель кредитів'!Y153","v":""},4,"2018-06-01","_4_43252_2"]
[{"$f":"'1.Портфель кредитів'!H154","v":0},{"$f":"'1.Портфель кредитів'!D154","v":""},{"$f":"'1.Портфель кредитів'!#REF!","v":{"$error":"#REF!"}},{"$f":"'1.Портфель кредитів'!#REF!","v":{"$error":"#REF!"}},{"$f":"'1.Портфель кредитів'!#REF!","v":{"$error":"#REF!"}},{"$f":"'1.Портфель кредитів'!I154","v":0},{"$f":"'1.Портфель кредитів'!W154","v":0},{"$f":"'1.Портфель кредитів'!Y154","v":""},4,"2018-06-01","_4_43252_2"]
[{"$f":"'1.Портфель кредитів'!H155","v":0},{"$f":"'1.Портфель кредитів'!D155","v":""},{"$f":"'1.Портфель кредитів'!#REF!","v":{"$error":"#REF!"}},{"$f":"'1.Портфель кредитів'!#REF!","v":{"$error":"#REF!"}},{"$f":"'1.Портфель кредитів'!#REF!","v":{"$error":"#REF!"}},{"$f":"'1.Портфель кредитів'!I155","v":0},{"$f":"'1.Портфель кредитів'!W155","v":0},{"$f":"'1.Портфель кредитів'!Y155","v":""},4,"2018-06-01","_4_43252_2"]
[{"$f":"'1.Портфель кредитів'!H156","v":0},{"$f":"'1.Портфель кредитів'!D156","v":""},{"$f":"'1.Портфель кредитів'!#REF!","v":{"$error":"#REF!"}},{"$f":"'1.Портфель кредитів'!#REF!","v":{"$error":"#REF!"}},{"$f":"'1.Портфель кредитів'!#REF!","v":{"$error":"#REF!"}},{"$f":"'1.Портфель кредитів'!I156","v":0},{"$f":"'1.Портфель кредитів'!W156","v":0},{"$f":"'1.Портфель кредитів'!Y156","v":""},4,"2018-06-01","_4_43252_2"]
[{"$f":"'1.Портфель кредитів'!H157","v":0},{"$f":"'1.Портфель кредитів'!D157","v":""},{"$f":"'1.Портфель кредитів'!#REF!","v":{"$error":"#REF!"}},{"$f":"'1.Портфель кредитів'!#REF!","v":{"$error":"#REF!"}},{"$f":"'1.Портфель кредитів'!#REF!","v":{"$error":"#REF!"}},{"$f":"'1.Портфель кредитів'!I157","v":0},{"$f":"'1.Портфель кредитів'!W157","v":0},{"$f":"'1.Портфель кредитів'!Y157","v":""},4,"2018-06-01","_4_43252_2"]
[{"$f":"'1.Портфель кредитів'!H158","v":0},{"$f":"'1.Портфель кредитів'!D158","v":""},{"$f":"'1.Портфель кредитів'!#REF!","v":{"$error":"#REF!"}},{"$f":"'1.Портфель кредитів'!#REF!","v":{"$error":"#REF!"}},{"$f":"'1.Портфель кредитів'!#REF!","v":{"$error":"#REF!"}},{"$f":"'1.Портфель кредитів'!I158","v":0},{"$f":"'1.Портфель кредитів'!W158","v":0},{"$f":"'1.Портфель кредитів'!Y158","v":""},4,"2018-06-01","_4_43252_2"]
[{"$f":"'1.Портфель кредитів'!H159","v":0},{"$f":"'1.Портфель кредитів'!D159","v":""},{"$f":"'1.Портфель кредитів'!#REF!","v":{"$error":"#REF!"}},{"$f":"'1.Портфель кредитів'!#REF!","v":{"$error":"#REF!"}},{"$f":"'1.Портфель кредитів'!#REF!","v":{"$error":"#REF!"}},{"$f":"'1.Портфель кредитів'!I159","v":0},{"$f":"'1.Портфель кредитів'!W159","v":0},{"$f":"'1.Портфель кредитів'!Y159","v":""},4,"2018-06-01","_4_43252_2"]
[{"$f":"'1.Портфель кредитів'!H160","v":0},{"$f":"'1.Портфель кредитів'!D160","v":""},{"$f":"'1.Портфель кредитів'!#REF!","v":{"$error":"#REF!"}},{"$f":"'1.Портфель кредитів'!#REF!","v":{"$error":"#REF!"}},{"$f":"'1.Портфель кредитів'!#REF!","v":{"$error":"#REF!"}},{"$f":"'1.Портфель кредитів'!I160","v":0},{"$f":"'1.Портфель кредитів'!W160","v":0},{"$f":"'1.Портфель кредитів'!Y160","v":""},4,"2018-06-01","_4_43252_2"]
[{"$f":"'1.Портфель кредитів'!H161","v":0},{"$f":"'1.Портфель кредитів'!D161","v":""},{"$f":"'1.Портфель кредитів'!#REF!","v":{"$error":"#REF!"}},{"$f":"'1.Портфель кредитів'!#REF!","v":{"$error":"#REF!"}},{"$f":"'1.Портфель кредитів'!#REF!","v":{"$error":"#REF!"}},{"$f":"'1.Портфель кредитів'!I161","v":0},{"$f":"'1.Портфель кредитів'!W161","v":0},{"$f":"'1.Портфель кредитів'!Y161","v":""},4,"2018-06-01","_4_43252_2"]
[{"$f":"'1.Портфель кредитів'!H162","v":0},{"$f":"'1.Портфель кредитів'!D162","v":""},{"$f":"'1.Портфель кредитів'!#REF!","v":{"$error":"#REF!"}},{"$f":"'1.Портфель кредитів'!#REF!","v":{"$error":"#REF!"}},{"$f":"'1.Портфель кредитів'!#REF!","v":{"$error":"#REF!"}},{"$f":"'1.Портфель кредитів'!I162","v":0},{"$f":"'1.Портфель кредитів'!W162","v":0},{"$f":"'1.Портфель кредитів'!Y162","v":""},4,"2018-06-01","_4_43252_2"]
[{"$f":"'1.Портфель кредитів'!H163","v":0},{"$f":"'1.Портфель кредитів'!D163","v":""},{"$f":"'1.Портфель кредитів'!#REF!","v":{"$error":"#REF!"}},{"$f":"'1.Портфель кредитів'!#REF!","v":{"$error":"#REF!"}},{"$f":"'1.Портфель кредитів'!#REF!","v":{"$error":"#REF!"}},{"$f":"'1.Портфель кредитів'!I163","v":0},{"$f":"'1.Портфель кредитів'!W163","v":0},{"$f":"'1.Портфель кредитів'!Y163","v":""},4,"2018-06-01","_4_43252_2"]
[{"$f":"'1.Портфель кредитів'!H164","v":0},{"$f":"'1.Портфель кредитів'!D164","v":""},{"$f":"'1.Портфель кредитів'!#REF!","v":{"$error":"#REF!"}},{"$f":"'1.Портфель кредитів'!#REF!","v":{"$error":"#REF!"}},{"$f":"'1.Портфель кредитів'!#REF!","v":{"$error":"#REF!"}},{"$f":"'1.Портфель кредитів'!I164","v":0},{"$f":"'1.Портфель кредитів'!W164","v":0},{"$f":"'1.Портфель кредитів'!Y164","v":""},4,"2018-06-01","_4_43252_2"]
[{"$f":"'1.Портфель кредитів'!H165","v":0},{"$f":"'1.Портфель кредитів'!D165","v":""},{"$f":"'1.Портфель кредитів'!#REF!","v":{"$error":"#REF!"}},{"$f":"'1.Портфель кредитів'!#REF!","v":{"$error":"#REF!"}},{"$f":"'1.Портфель кредитів'!#REF!","v":{"$error":"#REF!"}},{"$f":"'1.Портфель кредитів'!I165","v":0},{"$f":"'1.Портфель кредитів'!W165","v":0},{"$f":"'1.Портфель кредитів'!Y165","v":""},4,"2018-06-01","_4_43252_2"]
[{"$f":"'1.Портфель кредитів'!H166","v":0},{"$f":"'1.Портфель кредитів'!D166","v":""},{"$f":"'1.Портфель кредитів'!#REF!","v":{"$error":"#REF!"}},{"$f":"'1.Портфель кредитів'!#REF!","v":{"$error":"#REF!"}},{"$f":"'1.Портфель кредитів'!#REF!","v":{"$error":"#REF!"}},{"$f":"'1.Портфель кредитів'!I166","v":0},{"$f":"'1.Портфель кредитів'!W166","v":0},{"$f":"'1.Портфель кредитів'!Y166","v":""},4,"2018-06-01","_4_43252_2"]
[{"$f":"'1.Портфель кредитів'!H167","v":0},{"$f":"'1.Портфель кредитів'!D167","v":""},{"$f":"'1.Портфель кредитів'!#REF!","v":{"$error":"#REF!"}},{"$f":"'1.Портфель кредитів'!#REF!","v":{"$error":"#REF!"}},{"$f":"'1.Портфель кредитів'!#REF!","v":{"$error":"#REF!"}},{"$f":"'1.Портфель кредитів'!I167","v":0},{"$f":"'1.Портфель кредитів'!W167","v":0},{"$f":"'1.Портфель кредитів'!Y167","v":""},4,"2018-06-01","_4_43252_2"]
[{"$f":"'1.Портфель кредитів'!H168","v":0},{"$f":"'1.Портфель кредитів'!D168","v":""},{"$f":"'1.Портфель кредитів'!#REF!","v":{"$error":"#REF!"}},{"$f":"'1.Портфель кредитів'!#REF!","v":{"$error":"#REF!"}},{"$f":"'1.Портфель кредитів'!#REF!","v":{"$error":"#REF!"}},{"$f":"'1.Портфель кредитів'!I168","v":0},{"$f":"'1.Портфель кредитів'!W168","v":0},{"$f":"'1.Портфель кредитів'!Y168","v":""},4,"2018-06-01","_4_43252_2"]
[{"$f":"'1.Портфель кредитів'!H169","v":0},{"$f":"'1.Портфель кредитів'!D169","v":""},{"$f":"'1.Портфель кредитів'!#REF!","v":{"$error":"#REF!"}},{"$f":"'1.Портфель кредитів'!#REF!","v":{"$error":"#REF!"}},{"$f":"'1.Портфель кредитів'!#REF!","v":{"$error":"#REF!"}},{"$f":"'1.Портфель кредитів'!I169","v":0},{"$f":"'1.Портфель кредитів'!W169","v":0},{"$f":"'1.Портфель кредитів'!Y169","v":""},4,"2018-06-01","_4_43252_2"]
[{"$f":"'1.Портфель кредитів'!H170","v":0},{"$f":"'1.Портфель кредитів'!D170","v":""},{"$f":"'1.Портфель кредитів'!#REF!","v":{"$error":"#REF!"}},{"$f":"'1.Портфель кредитів'!#REF!","v":{"$error":"#REF!"}},{"$f":"'1.Портфель кредитів'!#REF!","v":{"$error":"#REF!"}},{"$f":"'1.Портфель кредитів'!I170","v":0},{"$f":"'1.Портфель кредитів'!W170","v":0},{"$f":"'1.Портфель кредитів'!Y170","v":""},4,"2018-06-01","_4_43252_2"]
[{"$f":"'1.Портфель кредитів'!H171","v":0},{"$f":"'1.Портфель кредитів'!D171","v":""},{"$f":"'1.Портфель кредитів'!#REF!","v":{"$error":"#REF!"}},{"$f":"'1.Портфель кредитів'!#REF!","v":{"$error":"#REF!"}},{"$f":"'1.Портфель кредитів'!#REF!","v":{"$error":"#REF!"}},{"$f":"'1.Портфель кредитів'!I171","v":0},{"$f":"'1.Портфель кредитів'!W171","v":0},{"$f":"'1.Портфель кредитів'!Y171","v":""},4,"2018-06-01","_4_43252_2"]
[{"$f":"'1.Портфель кредитів'!H172","v":0},{"$f":"'1.Портфель кредитів'!D172","v":""},{"$f":"'1.Портфель кредитів'!#REF!","v":{"$error":"#REF!"}},{"$f":"'1.Портфель кредитів'!#REF!","v":{"$error":"#REF!"}},{"$f":"'1.Портфель кредитів'!#REF!","v":{"$error":"#REF!"}},{"$f":"'1.Портфель кредитів'!I172","v":0},{"$f":"'1.Портфель кредитів'!W172","v":0},{"$f":"'1.Портфель кредитів'!Y172","v":""},4,"2018-06-01","_4_43252_2"]
[{"$f":"'1.Портфель кредитів'!H173","v":0},{"$f":"'1.Портфель кредитів'!D173","v":""},{"$f":"'1.Портфель кредитів'!#REF!","v":{"$error":"#REF!"}},{"$f":"'1.Портфель кредитів'!#REF!","v":{"$error":"#REF!"}},{"$f":"'1.Портфель кредитів'!#REF!","v":{"$error":"#REF!"}},{"$f":"'1.Портфель кредитів'!I173","v":0},{"$f":"'1.Портфель кредитів'!W173","v":0},{"$f":"'1.Портфель кредитів'!Y173","v":""},{"$f":"$E$1","v":4},{"$f":"$E$2","v":"2018-06-01"},{"$f":"B198&\"_\"&I198&\"_\"&J198&\"_\"&$E$3","v":"_4_43252_2"}]
[{"$f":"'1.Портфель кредитів'!H174","v":0},{"$f":"'1.Портфель кредитів'!D174","v":""},{"$f":"'1.Портфель кредитів'!#REF!","v":{"$error":"#REF!"}},{"$f":"'1.Портфель кредитів'!#REF!","v":{"$error":"#REF!"}},{"$f":"'1.Портфель кредитів'!#REF!","v":{"$error":"#REF!"}},{"$f":"'1.Портфель кредитів'!I174","v":0},{"$f":"'1.Портфель кредитів'!W174","v":0},{"$f":"'1.Портфель кредитів'!Y174","v":""},4,"2018-06-01","_4_43252_2"]
[{"$f":"'1.Портфель кредитів'!H175","v":0},{"$f":"'1.Портфель кредитів'!D175","v":""},{"$f":"'1.Портфель кредитів'!#REF!","v":{"$error":"#REF!"}},{"$f":"'1.Портфель кредитів'!#REF!","v":{"$error":"#REF!"}},{"$f":"'1.Портфель кредитів'!#REF!","v":{"$error":"#REF!"}},{"$f":"'1.Портфель кредитів'!I175","v":0},{"$f":"'1.Портфель кредитів'!W175","v":0},{"$f":"'1.Портфель кредитів'!Y175","v":""},4,"2018-06-01","_4_43252_2"]
[{"$f":"'1.Портфель кредитів'!H176","v":0},{"$f":"'1.Портфель кредитів'!D176","v":""},{"$f":"'1.Портфель кредитів'!#REF!","v":{"$error":"#REF!"}},{"$f":"'1.Портфель кредитів'!#REF!","v":{"$error":"#REF!"}},{"$f":"'1.Портфель кредитів'!#REF!","v":{"$error":"#REF!"}},{"$f":"'1.Портфель кредитів'!I176","v":0},{"$f":"'1.Портфель кредитів'!W176","v":0},{"$f":"'1.Портфель кредитів'!Y176","v":""},4,"2018-06-01","_4_43252_2"]
[{"$f":"'1.Портфель кредитів'!H177","v":0},{"$f":"'1.Портфель кредитів'!D177","v":""},{"$f":"'1.Портфель кредитів'!#REF!","v":{"$error":"#REF!"}},{"$f":"'1.Портфель кредитів'!#REF!","v":{"$error":"#REF!"}},{"$f":"'1.Портфель кредитів'!#REF!","v":{"$error":"#REF!"}},{"$f":"'1.Портфель кредитів'!I177","v":0},{"$f":"'1.Портфель кредитів'!W177","v":0},{"$f":"'1.Портфель кредитів'!Y177","v":""},4,"2018-06-01","_4_43252_2"]
[{"$f":"'1.Портфель кредитів'!H178","v":0},{"$f":"'1.Портфель кредитів'!D178","v":""},{"$f":"'1.Портфель кредитів'!#REF!","v":{"$error":"#REF!"}},{"$f":"'1.Портфель кредитів'!#REF!","v":{"$error":"#REF!"}},{"$f":"'1.Портфель кредитів'!#REF!","v":{"$error":"#REF!"}},{"$f":"'1.Портфель кредитів'!I178","v":0},{"$f":"'1.Портфель кредитів'!W178","v":0},{"$f":"'1.Портфель кредитів'!Y178","v":""},4,"2018-06-01","_4_43252_2"]
[{"$f":"'1.Портфель кредитів'!H179","v":0},{"$f":"'1.Портфель кредитів'!D179","v":""},{"$f":"'1.Портфель кредитів'!#REF!","v":{"$error":"#REF!"}},{"$f":"'1.Портфель кредитів'!#REF!","v":{"$error":"#REF!"}},{"$f":"'1.Портфель кредитів'!#REF!","v":{"$error":"#REF!"}},{"$f":"'1.Портфель кредитів'!I179","v":0},{"$f":"'1.Портфель кредитів'!W179","v":0},{"$f":"'1.Портфель кредитів'!Y179","v":""},4,"2018-06-01","_4_43252_2"]
[{"$f":"'1.Портфель кредитів'!H180","v":0},{"$f":"'1.Портфель кредитів'!D180","v":""},{"$f":"'1.Портфель кредитів'!#REF!","v":{"$error":"#REF!"}},{"$f":"'1.Портфель кредитів'!#REF!","v":{"$error":"#REF!"}},{"$f":"'1.Портфель кредитів'!#REF!","v":{"$error":"#REF!"}},{"$f":"'1.Портфель кредитів'!I180","v":0},{"$f":"'1.Портфель кредитів'!W180","v":0},{"$f":"'1.Портфель кредитів'!Y180","v":""},4,"2018-06-01","_4_43252_2"]
[{"$f":"'1.Портфель кредитів'!H181","v":0},{"$f":"'1.Портфель кредитів'!D181","v":""},{"$f":"'1.Портфель кредитів'!#REF!","v":{"$error":"#REF!"}},{"$f":"'1.Портфель кредитів'!#REF!","v":{"$error":"#REF!"}},{"$f":"'1.Портфель кредитів'!#REF!","v":{"$error":"#REF!"}},{"$f":"'1.Портфель кредитів'!I181","v":0},{"$f":"'1.Портфель кредитів'!W181","v":0},{"$f":"'1.Портфель кредитів'!Y181","v":""},4,"2018-06-01","_4_43252_2"]
[{"$f":"'1.Портфель кредитів'!H182","v":0},{"$f":"'1.Портфель кредитів'!D182","v":""},{"$f":"'1.Портфель кредитів'!#REF!","v":{"$error":"#REF!"}},{"$f":"'1.Портфель кредитів'!#REF!","v":{"$error":"#REF!"}},{"$f":"'1.Портфель кредитів'!#REF!","v":{"$error":"#REF!"}},{"$f":"'1.Портфель кредитів'!I182","v":0},{"$f":"'1.Портфель кредитів'!W182","v":0},{"$f":"'1.Портфель кредитів'!Y182","v":""},4,"2018-06-01","_4_43252_2"]
[{"$f":"'1.Портфель кредитів'!H183","v":0},{"$f":"'1.Портфель кредитів'!D183","v":""},{"$f":"'1.Портфель кредитів'!#REF!","v":{"$error":"#REF!"}},{"$f":"'1.Портфель кредитів'!#REF!","v":{"$error":"#REF!"}},{"$f":"'1.Портфель кредитів'!#REF!","v":{"$error":"#REF!"}},{"$f":"'1.Портфель кредитів'!I183","v":0},{"$f":"'1.Портфель кредитів'!W183","v":0},{"$f":"'1.Портфель кредитів'!Y183","v":""},4,"2018-06-01","_4_43252_2"]
[{"$f":"'1.Портфель кредитів'!H184","v":0},{"$f":"'1.Портфель кредитів'!D184","v":""},{"$f":"'1.Портфель кредитів'!#REF!","v":{"$error":"#REF!"}},{"$f":"'1.Портфель кредитів'!#REF!","v":{"$error":"#REF!"}},{"$f":"'1.Портфель кредитів'!#REF!","v":{"$error":"#REF!"}},{"$f":"'1.Портфель кредитів'!I184","v":0},{"$f":"'1.Портфель кредитів'!W184","v":0},{"$f":"'1.Портфель кредитів'!Y184","v":""},4,"2018-06-01","_4_43252_2"]
[{"$f":"'1.Портфель кредитів'!H185","v":0},{"$f":"'1.Портфель кредитів'!D185","v":""},{"$f":"'1.Портфель кредитів'!#REF!","v":{"$error":"#REF!"}},{"$f":"'1.Портфель кредитів'!#REF!","v":{"$error":"#REF!"}},{"$f":"'1.Портфель кредитів'!#REF!","v":{"$error":"#REF!"}},{"$f":"'1.Портфель кредитів'!I185","v":0},{"$f":"'1.Портфель кредитів'!W185","v":0},{"$f":"'1.Портфель кредитів'!Y185","v":""},4,"2018-06-01","_4_43252_2"]
[{"$f":"'1.Портфель кредитів'!H186","v":0},{"$f":"'1.Портфель кредитів'!D186","v":""},{"$f":"'1.Портфель кредитів'!#REF!","v":{"$error":"#REF!"}},{"$f":"'1.Портфель кредитів'!#REF!","v":{"$error":"#REF!"}},{"$f":"'1.Портфель кредитів'!#REF!","v":{"$error":"#REF!"}},{"$f":"'1.Портфель кредитів'!I186","v":0},{"$f":"'1.Портфель кредитів'!W186","v":0},{"$f":"'1.Портфель кредитів'!Y186","v":""},4,"2018-06-01","_4_43252_2"]
[{"$f":"'1.Портфель кредитів'!H187","v":0},{"$f":"'1.Портфель кредитів'!D187","v":""},{"$f":"'1.Портфель кредитів'!#REF!","v":{"$error":"#REF!"}},{"$f":"'1.Портфель кредитів'!#REF!","v":{"$error":"#REF!"}},{"$f":"'1.Портфель кредитів'!#REF!","v":{"$error":"#REF!"}},{"$f":"'1.Портфель кредитів'!I187","v":0},{"$f":"'1.Портфель кредитів'!W187","v":0},{"$f":"'1.Портфель кредитів'!Y187","v":""},4,"2018-06-01","_4_43252_2"]
[{"$f":"'1.Портфель кредитів'!H188","v":0},{"$f":"'1.Портфель кредитів'!D188","v":""},{"$f":"'1.Портфель кредитів'!#REF!","v":{"$error":"#REF!"}},{"$f":"'1.Портфель кредитів'!#REF!","v":{"$error":"#REF!"}},{"$f":"'1.Портфель кредитів'!#REF!","v":{"$error":"#REF!"}},{"$f":"'1.Портфель кредитів'!I188","v":0},{"$f":"'1.Портфель кредитів'!W188","v":0},{"$f":"'1.Портфель кредитів'!Y188","v":""},4,"2018-06-01","_4_43252_2"]
[{"$f":"'1.Портфель кредитів'!H189","v":0},{"$f":"'1.Портфель кредитів'!D189","v":""},{"$f":"'1.Портфель кредитів'!#REF!","v":{"$error":"#REF!"}},{"$f":"'1.Портфель кредитів'!#REF!","v":{"$error":"#REF!"}},{"$f":"'1.Портфель кредитів'!#REF!","v":{"$error":"#REF!"}},{"$f":"'1.Портфель кредитів'!I189","v":0},{"$f":"'1.Портфель кредитів'!W189","v":0},{"$f":"'1.Портфель кредитів'!Y189","v":""},4,"2018-06-01","_4_43252_2"]
[{"$f":"'1.Портфель кредитів'!H190","v":0},{"$f":"'1.Портфель кредитів'!D190","v":""},{"$f":"'1.Портфель кредитів'!#REF!","v":{"$error":"#REF!"}},{"$f":"'1.Портфель кредитів'!#REF!","v":{"$error":"#REF!"}},{"$f":"'1.Портфель кредитів'!#REF!","v":{"$error":"#REF!"}},{"$f":"'1.Портфель кредитів'!I190","v":0},{"$f":"'1.Портфель кредитів'!W190","v":0},{"$f":"'1.Портфель кредитів'!Y190","v":""},4,"2018-06-01","_4_43252_2"]
[{"$f":"'1.Портфель кредитів'!H191","v":0},{"$f":"'1.Портфель кредитів'!D191","v":""},{"$f":"'1.Портфель кредитів'!#REF!","v":{"$error":"#REF!"}},{"$f":"'1.Портфель кредитів'!#REF!","v":{"$error":"#REF!"}},{"$f":"'1.Портфель кредитів'!#REF!","v":{"$error":"#REF!"}},{"$f":"'1.Портфель кредитів'!I191","v":0},{"$f":"'1.Портфель кредитів'!W191","v":0},{"$f":"'1.Портфель кредитів'!Y191","v":""},4,"2018-06-01","_4_43252_2"]
[{"$f":"'1.Портфель кредитів'!H192","v":0},{"$f":"'1.Портфель кредитів'!D192","v":""},{"$f":"'1.Портфель кредитів'!#REF!","v":{"$error":"#REF!"}},{"$f":"'1.Портфель кредитів'!#REF!","v":{"$error":"#REF!"}},{"$f":"'1.Портфель кредитів'!#REF!","v":{"$error":"#REF!"}},{"$f":"'1.Портфель кредитів'!I192","v":0},{"$f":"'1.Портфель кредитів'!W192","v":0},{"$f":"'1.Портфель кредитів'!Y192","v":""},4,"2018-06-01","_4_43252_2"]
[{"$f":"'1.Портфель кредитів'!H193","v":0},{"$f":"'1.Портфель кредитів'!D193","v":""},{"$f":"'1.Портфель кредитів'!#REF!","v":{"$error":"#REF!"}},{"$f":"'1.Портфель кредитів'!#REF!","v":{"$error":"#REF!"}},{"$f":"'1.Портфель кредитів'!#REF!","v":{"$error":"#REF!"}},{"$f":"'1.Портфель кредитів'!I193","v":0},{"$f":"'1.Портфель кредитів'!W193","v":0},{"$f":"'1.Портфель кредитів'!Y193","v":""},4,"2018-06-01","_4_43252_2"]
[{"$f":"'1.Портфель кредитів'!H194","v":0},{"$f":"'1.Портфель кредитів'!D194","v":""},{"$f":"'1.Портфель кредитів'!#REF!","v":{"$error":"#REF!"}},{"$f":"'1.Портфель кредитів'!#REF!","v":{"$error":"#REF!"}},{"$f":"'1.Портфель кредитів'!#REF!","v":{"$error":"#REF!"}},{"$f":"'1.Портфель кредитів'!I194","v":0},{"$f":"'1.Портфель кредитів'!W194","v":0},{"$f":"'1.Портфель кредитів'!Y194","v":""},4,"2018-06-01","_4_43252_2"]
[{"$f":"'1.Портфель кредитів'!H195","v":0},{"$f":"'1.Портфель кредитів'!D195","v":""},{"$f":"'1.Портфель кредитів'!#REF!","v":{"$error":"#REF!"}},{"$f":"'1.Портфель кредитів'!#REF!","v":{"$error":"#REF!"}},{"$f":"'1.Портфель кредитів'!#REF!","v":{"$error":"#REF!"}},{"$f":"'1.Портфель кредитів'!I195","v":0},{"$f":"'1.Портфель кредитів'!W195","v":0},{"$f":"'1.Портфель кредитів'!Y195","v":""},4,"2018-06-01","_4_43252_2"]
[{"$f":"'1.Портфель кредитів'!H196","v":0},{"$f":"'1.Портфель кредитів'!D196","v":""},{"$f":"'1.Портфель кредитів'!#REF!","v":{"$error":"#REF!"}},{"$f":"'1.Портфель кредитів'!#REF!","v":{"$error":"#REF!"}},{"$f":"'1.Портфель кредитів'!#REF!","v":{"$error":"#REF!"}},{"$f":"'1.Портфель кредитів'!I196","v":0},{"$f":"'1.Портфель кредитів'!W196","v":0},{"$f":"'1.Портфель кредитів'!Y196","v":""},4,"2018-06-01","_4_43252_2"]
[{"$f":"'1.Портфель кредитів'!H197","v":0},{"$f":"'1.Портфель кредитів'!D197","v":""},{"$f":"'1.Портфель кредитів'!#REF!","v":{"$error":"#REF!"}},{"$f":"'1.Портфель кредитів'!#REF!","v":{"$error":"#REF!"}},{"$f":"'1.Портфель кредитів'!#REF!","v":{"$error":"#REF!"}},{"$f":"'1.Портфель кредитів'!I197","v":0},{"$f":"'1.Портфель кредитів'!W197","v":0},{"$f":"'1.Портфель кредитів'!Y197","v":""},4,"2018-06-01","_4_43252_2"]
[{"$f":"'1.Портфель кредитів'!H198","v":0},{"$f":"'1.Портфель кредитів'!D198","v":""},{"$f":"'1.Портфель кредитів'!#REF!","v":{"$error":"#REF!"}},{"$f":"'1.Портфель кредитів'!#REF!","v":{"$error":"#REF!"}},{"$f":"'1.Портфель кредитів'!#REF!","v":{"$error":"#REF!"}},{"$f":"'1.Портфель кредитів'!I198","v":0},{"$f":"'1.Портфель кредитів'!W198","v":0},{"$f":"'1.Портфель кредитів'!Y198","v":""},4,"2018-06-01","_4_43252_2"]
[{"$f":"'1.Портфель кредитів'!H199","v":0},{"$f":"'1.Портфель кредитів'!D199","v":""},{"$f":"'1.Портфель кредитів'!#REF!","v":{"$error":"#REF!"}},{"$f":"'1.Портфель кредитів'!#REF!","v":{"$error":"#REF!"}},{"$f":"'1.Портфель кредитів'!#REF!","v":{"$error":"#REF!"}},{"$f":"'1.Портфель кредитів'!I199","v":0},{"$f":"'1.Портфель кредитів'!W199","v":0},{"$f":"'1.Портфель кредитів'!Y199","v":""},4,"2018-06-01","_4_43252_2"]
[{"$f":"'1.Портфель кредитів'!H200","v":0},{"$f":"'1.Портфель кредитів'!D200","v":""},{"$f":"'1.Портфель кредитів'!#REF!","v":{"$error":"#REF!"}},{"$f":"'1.Портфель кредитів'!#REF!","v":{"$error":"#REF!"}},{"$f":"'1.Портфель кредитів'!#REF!","v":{"$error":"#REF!"}},{"$f":"'1.Портфель кредитів'!I200","v":0},{"$f":"'1.Портфель кредитів'!W200","v":0},{"$f":"'1.Портфель кредитів'!Y200","v":""},4,"2018-06-01","_4_43252_2"]
[{"$f":"'1.Портфель кредитів'!H201","v":0},{"$f":"'1.Портфель кредитів'!D201","v":""},{"$f":"'1.Портфель кредитів'!#REF!","v":{"$error":"#REF!"}},{"$f":"'1.Портфель кредитів'!#REF!","v":{"$error":"#REF!"}},{"$f":"'1.Портфель кредитів'!#REF!","v":{"$error":"#REF!"}},{"$f":"'1.Портфель кредитів'!I201","v":0},{"$f":"'1.Портфель кредитів'!W201","v":0},{"$f":"'1.Портфель кредитів'!Y201","v":""},4,"2018-06-01","_4_43252_2"]
[{"$f":"'1.Портфель кредитів'!H202","v":0},{"$f":"'1.Портфель кредитів'!D202","v":""},{"$f":"'1.Портфель кредитів'!#REF!","v":{"$error":"#REF!"}},{"$f":"'1.Портфель кредитів'!#REF!","v":{"$error":"#REF!"}},{"$f":"'1.Портфель кредитів'!#REF!","v":{"$error":"#REF!"}},{"$f":"'1.Портфель кредитів'!I202","v":0},{"$f":"'1.Портфель кредитів'!W202","v":0},{"$f":"'1.Портфель кредитів'!Y202","v":""},4,"2018-06-01","_4_43252_2"]
[{"$f":"'1.Портфель кредитів'!H203","v":0},{"$f":"'1.Портфель кредитів'!D203","v":""},{"$f":"'1.Портфель кредитів'!#REF!","v":{"$error":"#REF!"}},{"$f":"'1.Портфель кредитів'!#REF!","v":{"$error":"#REF!"}},{"$f":"'1.Портфель кредитів'!#REF!","v":{"$error":"#REF!"}},{"$f":"'1.Портфель кредитів'!I203","v":0},{"$f":"'1.Портфель кредитів'!W203","v":0},{"$f":"'1.Портфель кредитів'!Y203","v":""},4,"2018-06-01","_4_43252_2"]
[{"$f":"'1.Портфель кредитів'!H204","v":0},{"$f":"'1.Портфель кредитів'!D204","v":""},{"$f":"'1.Портфель кредитів'!#REF!","v":{"$error":"#REF!"}},{"$f":"'1.Портфель кредитів'!#REF!","v":{"$error":"#REF!"}},{"$f":"'1.Портфель кредитів'!#REF!","v":{"$error":"#REF!"}},{"$f":"'1.Портфель кредитів'!I204","v":0},{"$f":"'1.Портфель кредитів'!W204","v":0},{"$f":"'1.Портфель кредитів'!Y204","v":""},4,"2018-06-01","_4_43252_2"]
[{"$f":"'1.Портфель кредитів'!H205","v":0},{"$f":"'1.Портфель кредитів'!D205","v":""},{"$f":"'1.Портфель кредитів'!#REF!","v":{"$error":"#REF!"}},{"$f":"'1.Портфель кредитів'!#REF!","v":{"$error":"#REF!"}},{"$f":"'1.Портфель кредитів'!#REF!","v":{"$error":"#REF!"}},{"$f":"'1.Портфель кредитів'!I205","v":0},{"$f":"'1.Портфель кредитів'!W205","v":0},{"$f":"'1.Портфель кредитів'!Y205","v":""},4,"2018-06-01","_4_43252_2"]
[{"$f":"'1.Портфель кредитів'!H206","v":0},{"$f":"'1.Портфель кредитів'!D206","v":""},{"$f":"'1.Портфель кредитів'!#REF!","v":{"$error":"#REF!"}},{"$f":"'1.Портфель кредитів'!#REF!","v":{"$error":"#REF!"}},{"$f":"'1.Портфель кредитів'!#REF!","v":{"$error":"#REF!"}},{"$f":"'1.Портфель кредитів'!I206","v":0},{"$f":"'1.Портфель кредитів'!W206","v":0},{"$f":"'1.Портфель кредитів'!Y206","v":""},4,"2018-06-01","_4_43252_2"]
[{"$f":"'1.Портфель кредитів'!H207","v":0},{"$f":"'1.Портфель кредитів'!D207","v":""},{"$f":"'1.Портфель кредитів'!#REF!","v":{"$error":"#REF!"}},{"$f":"'1.Портфель кредитів'!#REF!","v":{"$error":"#REF!"}},{"$f":"'1.Портфель кредитів'!#REF!","v":{"$error":"#REF!"}},{"$f":"'1.Портфель кредитів'!I207","v":0},{"$f":"'1.Портфель кредитів'!W207","v":0},{"$f":"'1.Портфель кредитів'!Y207","v":""},4,"2018-06-01","_4_43252_2"]
[{"$f":"'1.Портфель кредитів'!H208","v":0},{"$f":"'1.Портфель кредитів'!D208","v":""},{"$f":"'1.Портфель кредитів'!#REF!","v":{"$error":"#REF!"}},{"$f":"'1.Портфель кредитів'!#REF!","v":{"$error":"#REF!"}},{"$f":"'1.Портфель кредитів'!#REF!","v":{"$error":"#REF!"}},{"$f":"'1.Портфель кредитів'!I208","v":0},{"$f":"'1.Портфель кредитів'!W208","v":0},{"$f":"'1.Портфель кредитів'!Y208","v":""},4,"2018-06-01","_4_43252_2"]
[{"$f":"'1.Портфель кредитів'!H209","v":0},{"$f":"'1.Портфель кредитів'!D209","v":""},{"$f":"'1.Портфель кредитів'!#REF!","v":{"$error":"#REF!"}},{"$f":"'1.Портфель кредитів'!#REF!","v":{"$error":"#REF!"}},{"$f":"'1.Портфель кредитів'!#REF!","v":{"$error":"#REF!"}},{"$f":"'1.Портфель кредитів'!I209","v":0},{"$f":"'1.Портфель кредитів'!W209","v":0},{"$f":"'1.Портфель кредитів'!Y209","v":""},4,"2018-06-01","_4_43252_2"]
[{"$f":"'1.Портфель кредитів'!H210","v":0},{"$f":"'1.Портфель кредитів'!D210","v":""},{"$f":"'1.Портфель кредитів'!#REF!","v":{"$error":"#REF!"}},{"$f":"'1.Портфель кредитів'!#REF!","v":{"$error":"#REF!"}},{"$f":"'1.Портфель кредитів'!#REF!","v":{"$error":"#REF!"}},{"$f":"'1.Портфель кредитів'!I210","v":0},{"$f":"'1.Портфель кредитів'!W210","v":0},{"$f":"'1.Портфель кредитів'!Y210","v":""},4,"2018-06-01","_4_43252_2"]
[{"$f":"'1.Портфель кредитів'!H211","v":0},{"$f":"'1.Портфель кредитів'!D211","v":""},{"$f":"'1.Портфель кредитів'!#REF!","v":{"$error":"#REF!"}},{"$f":"'1.Портфель кредитів'!#REF!","v":{"$error":"#REF!"}},{"$f":"'1.Портфель кредитів'!#REF!","v":{"$error":"#REF!"}},{"$f":"'1.Портфель кредитів'!I211","v":0},{"$f":"'1.Портфель кредитів'!W211","v":0},{"$f":"'1.Портфель кредитів'!Y211","v":""},4,"2018-06-01","_4_43252_2"]
[{"$f":"'1.Портфель кредитів'!H212","v":0},{"$f":"'1.Портфель кредитів'!D212","v":""},{"$f":"'1.Портфель кредитів'!#REF!","v":{"$error":"#REF!"}},{"$f":"'1.Портфель кредитів'!#REF!","v":{"$error":"#REF!"}},{"$f":"'1.Портфель кредитів'!#REF!","v":{"$error":"#REF!"}},{"$f":"'1.Портфель кредитів'!I212","v":0},{"$f":"'1.Портфель кредитів'!W212","v":0},{"$f":"'1.Портфель кредитів'!Y212","v":""},4,"2018-06-01","_4_43252_2"]
[{"$f":"'1.Портфель кредитів'!H213","v":0},{"$f":"'1.Портфель кредитів'!D213","v":""},{"$f":"'1.Портфель кредитів'!#REF!","v":{"$error":"#REF!"}},{"$f":"'1.Портфель кредитів'!#REF!","v":{"$error":"#REF!"}},{"$f":"'1.Портфель кредитів'!#REF!","v":{"$error":"#REF!"}},{"$f":"'1.Портфель кредитів'!I213","v":0},{"$f":"'1.Портфель кредитів'!W213","v":0},{"$f":"'1.Портфель кредитів'!Y213","v":""},4,"2018-06-01","_4_43252_2"]
[{"$f":"'1.Портфель кредитів'!H214","v":0},{"$f":"'1.Портфель кредитів'!D214","v":""},{"$f":"'1.Портфель кредитів'!#REF!","v":{"$error":"#REF!"}},{"$f":"'1.Портфель кредитів'!#REF!","v":{"$error":"#REF!"}},{"$f":"'1.Портфель кредитів'!#REF!","v":{"$error":"#REF!"}},{"$f":"'1.Портфель кредитів'!I214","v":0},{"$f":"'1.Портфель кредитів'!W214","v":0},{"$f":"'1.Портфель кредитів'!Y214","v":""},4,"2018-06-01","_4_43252_2"]
[{"$f":"'1.Портфель кредитів'!H215","v":0},{"$f":"'1.Портфель кредитів'!D215","v":""},{"$f":"'1.Портфель кредитів'!#REF!","v":{"$error":"#REF!"}},{"$f":"'1.Портфель кредитів'!#REF!","v":{"$error":"#REF!"}},{"$f":"'1.Портфель кредитів'!#REF!","v":{"$error":"#REF!"}},{"$f":"'1.Портфель кредитів'!I215","v":0},{"$f":"'1.Портфель кредитів'!W215","v":0},{"$f":"'1.Портфель кредитів'!Y215","v":""},4,"2018-06-01","_4_43252_2"]
[{"$f":"'1.Портфель кредитів'!H216","v":0},{"$f":"'1.Портфель кредитів'!D216","v":""},{"$f":"'1.Портфель кредитів'!#REF!","v":{"$error":"#REF!"}},{"$f":"'1.Портфель кредитів'!#REF!","v":{"$error":"#REF!"}},{"$f":"'1.Портфель кредитів'!#REF!","v":{"$error":"#REF!"}},{"$f":"'1.Портфель кредитів'!I216","v":0},{"$f":"'1.Портфель кредитів'!W216","v":0},{"$f":"'1.Портфель кредитів'!Y216","v":""},4,"2018-06-01","_4_43252_2"]
[{"$f":"'1.Портфель кредитів'!H217","v":0},{"$f":"'1.Портфель кредитів'!D217","v":""},{"$f":"'1.Портфель кредитів'!#REF!","v":{"$error":"#REF!"}},{"$f":"'1.Портфель кредитів'!#REF!","v":{"$error":"#REF!"}},{"$f":"'1.Портфель кредитів'!#REF!","v":{"$error":"#REF!"}},{"$f":"'1.Портфель кредитів'!I217","v":0},{"$f":"'1.Портфель кредитів'!W217","v":0},{"$f":"'1.Портфель кредитів'!Y217","v":""},4,"2018-06-01","_4_43252_2"]
[{"$f":"'1.Портфель кредитів'!H218","v":0},{"$f":"'1.Портфель кредитів'!D218","v":""},{"$f":"'1.Портфель кредитів'!#REF!","v":{"$error":"#REF!"}},{"$f":"'1.Портфель кредитів'!#REF!","v":{"$error":"#REF!"}},{"$f":"'1.Портфель кредитів'!#REF!","v":{"$error":"#REF!"}},{"$f":"'1.Портфель кредитів'!I218","v":0},{"$f":"'1.Портфель кредитів'!W218","v":0},{"$f":"'1.Портфель кредитів'!Y218","v":""},4,"2018-06-01","_4_43252_2"]
[{"$f":"'1.Портфель кредитів'!H219","v":0},{"$f":"'1.Портфель кредитів'!D219","v":""},{"$f":"'1.Портфель кредитів'!#REF!","v":{"$error":"#REF!"}},{"$f":"'1.Портфель кредитів'!#REF!","v":{"$error":"#REF!"}},{"$f":"'1.Портфель кредитів'!#REF!","v":{"$error":"#REF!"}},{"$f":"'1.Портфель кредитів'!I219","v":0},{"$f":"'1.Портфель кредитів'!W219","v":0},{"$f":"'1.Портфель кредитів'!Y219","v":""},4,"2018-06-01","_4_43252_2"]
[{"$f":"'1.Портфель кредитів'!H220","v":0},{"$f":"'1.Портфель кредитів'!D220","v":""},{"$f":"'1.Портфель кредитів'!#REF!","v":{"$error":"#REF!"}},{"$f":"'1.Портфель кредитів'!#REF!","v":{"$error":"#REF!"}},{"$f":"'1.Портфель кредитів'!#REF!","v":{"$error":"#REF!"}},{"$f":"'1.Портфель кредитів'!I220","v":0},{"$f":"'1.Портфель кредитів'!W220","v":0},{"$f":"'1.Портфель кредитів'!Y220","v":""},4,"2018-06-01","_4_43252_2"]
[{"$f":"'1.Портфель кредитів'!H221","v":0},{"$f":"'1.Портфель кредитів'!D221","v":""},{"$f":"'1.Портфель кредитів'!#REF!","v":{"$error":"#REF!"}},{"$f":"'1.Портфель кредитів'!#REF!","v":{"$error":"#REF!"}},{"$f":"'1.Портфель кредитів'!#REF!","v":{"$error":"#REF!"}},{"$f":"'1.Портфель кредитів'!I221","v":0},{"$f":"'1.Портфель кредитів'!W221","v":0},{"$f":"'1.Портфель кредитів'!Y221","v":""},4,"2018-06-01","_4_43252_2"]
[{"$f":"'1.Портфель кредитів'!H222","v":0},{"$f":"'1.Портфель кредитів'!D222","v":""},{"$f":"'1.Портфель кредитів'!#REF!","v":{"$error":"#REF!"}},{"$f":"'1.Портфель кредитів'!#REF!","v":{"$error":"#REF!"}},{"$f":"'1.Портфель кредитів'!#REF!","v":{"$error":"#REF!"}},{"$f":"'1.Портфель кредитів'!I222","v":0},{"$f":"'1.Портфель кредитів'!W222","v":0},{"$f":"'1.Портфель кредитів'!Y222","v":""},4,"2018-06-01","_4_43252_2"]
[{"$f":"'1.Портфель кредитів'!H223","v":0},{"$f":"'1.Портфель кредитів'!D223","v":""},{"$f":"'1.Портфель кредитів'!#REF!","v":{"$error":"#REF!"}},{"$f":"'1.Портфель кредитів'!#REF!","v":{"$error":"#REF!"}},{"$f":"'1.Портфель кредитів'!#REF!","v":{"$error":"#REF!"}},{"$f":"'1.Портфель кредитів'!I223","v":0},{"$f":"'1.Портфель кредитів'!W223","v":0},{"$f":"'1.Портфель кредитів'!Y223","v":""},4,"2018-06-01","_4_43252_2"]
[{"$f":"'1.Портфель кредитів'!H224","v":0},{"$f":"'1.Портфель кредитів'!D224","v":""},{"$f":"'1.Портфель кредитів'!#REF!","v":{"$error":"#REF!"}},{"$f":"'1.Портфель кредитів'!#REF!","v":{"$error":"#REF!"}},{"$f":"'1.Портфель кредитів'!#REF!","v":{"$error":"#REF!"}},{"$f":"'1.Портфель кредитів'!I224","v":0},{"$f":"'1.Портфель кредитів'!W224","v":0},{"$f":"'1.Портфель кредитів'!Y224","v":""},4,"2018-06-01","_4_43252_2"]
[{"$f":"'1.Портфель кредитів'!H225","v":0},{"$f":"'1.Портфель кредитів'!D225","v":""},{"$f":"'1.Портфель кредитів'!#REF!","v":{"$error":"#REF!"}},{"$f":"'1.Портфель кредитів'!#REF!","v":{"$error":"#REF!"}},{"$f":"'1.Портфель кредитів'!#REF!","v":{"$error":"#REF!"}},{"$f":"'1.Портфель кредитів'!I225","v":0},{"$f":"'1.Портфель кредитів'!W225","v":0},{"$f":"'1.Портфель кредитів'!Y225","v":""},4,"2018-06-01","_4_43252_2"]
[{"$f":"'1.Портфель кредитів'!H226","v":0},{"$f":"'1.Портфель кредитів'!D226","v":""},{"$f":"'1.Портфель кредитів'!#REF!","v":{"$error":"#REF!"}},{"$f":"'1.Портфель кредитів'!#REF!","v":{"$error":"#REF!"}},{"$f":"'1.Портфель кредитів'!#REF!","v":{"$error":"#REF!"}},{"$f":"'1.Портфель кредитів'!I226","v":0},{"$f":"'1.Портфель кредитів'!W226","v":0},{"$f":"'1.Портфель кредитів'!Y226","v":""},4,"2018-06-01","_4_43252_2"]
[{"$f":"'1.Портфель кредитів'!H227","v":0},{"$f":"'1.Портфель кредитів'!D227","v":""},{"$f":"'1.Портфель кредитів'!#REF!","v":{"$error":"#REF!"}},{"$f":"'1.Портфель кредитів'!#REF!","v":{"$error":"#REF!"}},{"$f":"'1.Портфель кредитів'!#REF!","v":{"$error":"#REF!"}},{"$f":"'1.Портфель кредитів'!I227","v":0},{"$f":"'1.Портфель кредитів'!W227","v":0},{"$f":"'1.Портфель кредитів'!Y227","v":""},4,"2018-06-01","_4_43252_2"]
[{"$f":"'1.Портфель кредитів'!H228","v":0},{"$f":"'1.Портфель кредитів'!D228","v":""},{"$f":"'1.Портфель кредитів'!#REF!","v":{"$error":"#REF!"}},{"$f":"'1.Портфель кредитів'!#REF!","v":{"$error":"#REF!"}},{"$f":"'1.Портфель кредитів'!#REF!","v":{"$error":"#REF!"}},{"$f":"'1.Портфель кредитів'!I228","v":0},{"$f":"'1.Портфель кредитів'!W228","v":0},{"$f":"'1.Портфель кредитів'!Y228","v":""},4,"2018-06-01","_4_43252_2"]
[{"$f":"'1.Портфель кредитів'!H229","v":0},{"$f":"'1.Портфель кредитів'!D229","v":""},{"$f":"'1.Портфель кредитів'!#REF!","v":{"$error":"#REF!"}},{"$f":"'1.Портфель кредитів'!#REF!","v":{"$error":"#REF!"}},{"$f":"'1.Портфель кредитів'!#REF!","v":{"$error":"#REF!"}},{"$f":"'1.Портфель кредитів'!I229","v":0},{"$f":"'1.Портфель кредитів'!W229","v":0},{"$f":"'1.Портфель кредитів'!Y229","v":""},4,"2018-06-01","_4_43252_2"]
[{"$f":"'1.Портфель кредитів'!H230","v":0},{"$f":"'1.Портфель кредитів'!D230","v":""},{"$f":"'1.Портфель кредитів'!#REF!","v":{"$error":"#REF!"}},{"$f":"'1.Портфель кредитів'!#REF!","v":{"$error":"#REF!"}},{"$f":"'1.Портфель кредитів'!#REF!","v":{"$error":"#REF!"}},{"$f":"'1.Портфель кредитів'!I230","v":0},{"$f":"'1.Портфель кредитів'!W230","v":0},{"$f":"'1.Портфель кредитів'!Y230","v":""},4,"2018-06-01","_4_43252_2"]
[{"$f":"'1.Портфель кредитів'!H231","v":0},{"$f":"'1.Портфель кредитів'!D231","v":""},{"$f":"'1.Портфель кредитів'!#REF!","v":{"$error":"#REF!"}},{"$f":"'1.Портфель кредитів'!#REF!","v":{"$error":"#REF!"}},{"$f":"'1.Портфель кредитів'!#REF!","v":{"$error":"#REF!"}},{"$f":"'1.Портфель кредитів'!I231","v":0},{"$f":"'1.Портфель кредитів'!W231","v":0},{"$f":"'1.Портфель кредитів'!Y231","v":""},4,"2018-06-01","_4_43252_2"]
[{"$f":"'1.Портфель кредитів'!H232","v":0},{"$f":"'1.Портфель кредитів'!D232","v":""},{"$f":"'1.Портфель кредитів'!#REF!","v":{"$error":"#REF!"}},{"$f":"'1.Портфель кредитів'!#REF!","v":{"$error":"#REF!"}},{"$f":"'1.Портфель кредитів'!#REF!","v":{"$error":"#REF!"}},{"$f":"'1.Портфель кредитів'!I232","v":0},{"$f":"'1.Портфель кредитів'!W232","v":0},{"$f":"'1.Портфель кредитів'!Y232","v":""},4,"2018-06-01","_4_43252_2"]
[{"$f":"'1.Портфель кредитів'!H233","v":0},{"$f":"'1.Портфель кредитів'!D233","v":""},{"$f":"'1.Портфель кредитів'!#REF!","v":{"$error":"#REF!"}},{"$f":"'1.Портфель кредитів'!#REF!","v":{"$error":"#REF!"}},{"$f":"'1.Портфель кредитів'!#REF!","v":{"$error":"#REF!"}},{"$f":"'1.Портфель кредитів'!I233","v":0},{"$f":"'1.Портфель кредитів'!W233","v":0},{"$f":"'1.Портфель кредитів'!Y233","v":""},4,"2018-06-01","_4_43252_2"]
[{"$f":"'1.Портфель кредитів'!H234","v":0},{"$f":"'1.Портфель кредитів'!D234","v":""},{"$f":"'1.Портфель кредитів'!#REF!","v":{"$error":"#REF!"}},{"$f":"'1.Портфель кредитів'!#REF!","v":{"$error":"#REF!"}},{"$f":"'1.Портфель кредитів'!#REF!","v":{"$error":"#REF!"}},{"$f":"'1.Портфель кредитів'!I234","v":0},{"$f":"'1.Портфель кредитів'!W234","v":0},{"$f":"'1.Портфель кредитів'!Y234","v":""},4,"2018-06-01","_4_43252_2"]
[{"$f":"'1.Портфель кредитів'!H235","v":0},{"$f":"'1.Портфель кредитів'!D235","v":""},{"$f":"'1.Портфель кредитів'!#REF!","v":{"$error":"#REF!"}},{"$f":"'1.Портфель кредитів'!#REF!","v":{"$error":"#REF!"}},{"$f":"'1.Портфель кредитів'!#REF!","v":{"$error":"#REF!"}},{"$f":"'1.Портфель кредитів'!I235","v":0},{"$f":"'1.Портфель кредитів'!W235","v":0},{"$f":"'1.Портфель кредитів'!Y235","v":""},4,"2018-06-01","_4_43252_2"]
[{"$f":"'1.Портфель кредитів'!H236","v":0},{"$f":"'1.Портфель кредитів'!D236","v":""},{"$f":"'1.Портфель кредитів'!#REF!","v":{"$error":"#REF!"}},{"$f":"'1.Портфель кредитів'!#REF!","v":{"$error":"#REF!"}},{"$f":"'1.Портфель кредитів'!#REF!","v":{"$error":"#REF!"}},{"$f":"'1.Портфель кредитів'!I236","v":0},{"$f":"'1.Портфель кредитів'!W236","v":0},{"$f":"'1.Портфель кредитів'!Y236","v":""},4,"2018-06-01","_4_43252_2"]
[{"$f":"'1.Портфель кредитів'!H237","v":0},{"$f":"'1.Портфель кредитів'!D237","v":""},{"$f":"'1.Портфель кредитів'!#REF!","v":{"$error":"#REF!"}},{"$f":"'1.Портфель кредитів'!#REF!","v":{"$error":"#REF!"}},{"$f":"'1.Портфель кредитів'!#REF!","v":{"$error":"#REF!"}},{"$f":"'1.Портфель кредитів'!I237","v":0},{"$f":"'1.Портфель кредитів'!W237","v":0},{"$f":"'1.Портфель кредитів'!Y237","v":""},{"$f":"$E$1","v":4},{"$f":"$E$2","v":"2018-06-01"},{"$f":"B262&\"_\"&I262&\"_\"&J262&\"_\"&$E$3","v":"_4_43252_2"}]
[{"$f":"'1.Портфель кредитів'!H238","v":0},{"$f":"'1.Портфель кредитів'!D238","v":""},{"$f":"'1.Портфель кредитів'!#REF!","v":{"$error":"#REF!"}},{"$f":"'1.Портфель кредитів'!#REF!","v":{"$error":"#REF!"}},{"$f":"'1.Портфель кредитів'!#REF!","v":{"$error":"#REF!"}},{"$f":"'1.Портфель кредитів'!I238","v":0},{"$f":"'1.Портфель кредитів'!W238","v":0},{"$f":"'1.Портфель кредитів'!Y238","v":""},4,"2018-06-01","_4_43252_2"]
[{"$f":"'1.Портфель кредитів'!H239","v":0},{"$f":"'1.Портфель кредитів'!D239","v":""},{"$f":"'1.Портфель кредитів'!#REF!","v":{"$error":"#REF!"}},{"$f":"'1.Портфель кредитів'!#REF!","v":{"$error":"#REF!"}},{"$f":"'1.Портфель кредитів'!#REF!","v":{"$error":"#REF!"}},{"$f":"'1.Портфель кредитів'!I239","v":0},{"$f":"'1.Портфель кредитів'!W239","v":0},{"$f":"'1.Портфель кредитів'!Y239","v":""},4,"2018-06-01","_4_43252_2"]
[{"$f":"'1.Портфель кредитів'!H240","v":0},{"$f":"'1.Портфель кредитів'!D240","v":""},{"$f":"'1.Портфель кредитів'!#REF!","v":{"$error":"#REF!"}},{"$f":"'1.Портфель кредитів'!#REF!","v":{"$error":"#REF!"}},{"$f":"'1.Портфель кредитів'!#REF!","v":{"$error":"#REF!"}},{"$f":"'1.Портфель кредитів'!I240","v":0},{"$f":"'1.Портфель кредитів'!W240","v":0},{"$f":"'1.Портфель кредитів'!Y240","v":""},4,"2018-06-01","_4_43252_2"]
[{"$f":"'1.Портфель кредитів'!H241","v":0},{"$f":"'1.Портфель кредитів'!D241","v":""},{"$f":"'1.Портфель кредитів'!#REF!","v":{"$error":"#REF!"}},{"$f":"'1.Портфель кредитів'!#REF!","v":{"$error":"#REF!"}},{"$f":"'1.Портфель кредитів'!#REF!","v":{"$error":"#REF!"}},{"$f":"'1.Портфель кредитів'!I241","v":0},{"$f":"'1.Портфель кредитів'!W241","v":0},{"$f":"'1.Портфель кредитів'!Y241","v":""},4,"2018-06-01","_4_43252_2"]
[{"$f":"'1.Портфель кредитів'!H242","v":0},{"$f":"'1.Портфель кредитів'!D242","v":""},{"$f":"'1.Портфель кредитів'!#REF!","v":{"$error":"#REF!"}},{"$f":"'1.Портфель кредитів'!#REF!","v":{"$error":"#REF!"}},{"$f":"'1.Портфель кредитів'!#REF!","v":{"$error":"#REF!"}},{"$f":"'1.Портфель кредитів'!I242","v":0},{"$f":"'1.Портфель кредитів'!W242","v":0},{"$f":"'1.Портфель кредитів'!Y242","v":""},4,"2018-06-01","_4_43252_2"]
[{"$f":"'1.Портфель кредитів'!H243","v":0},{"$f":"'1.Портфель кредитів'!D243","v":""},{"$f":"'1.Портфель кредитів'!#REF!","v":{"$error":"#REF!"}},{"$f":"'1.Портфель кредитів'!#REF!","v":{"$error":"#REF!"}},{"$f":"'1.Портфель кредитів'!#REF!","v":{"$error":"#REF!"}},{"$f":"'1.Портфель кредитів'!I243","v":0},{"$f":"'1.Портфель кредитів'!W243","v":0},{"$f":"'1.Портфель кредитів'!Y243","v":""},4,"2018-06-01","_4_43252_2"]
[{"$f":"'1.Портфель кредитів'!H244","v":0},{"$f":"'1.Портфель кредитів'!D244","v":""},{"$f":"'1.Портфель кредитів'!#REF!","v":{"$error":"#REF!"}},{"$f":"'1.Портфель кредитів'!#REF!","v":{"$error":"#REF!"}},{"$f":"'1.Портфель кредитів'!#REF!","v":{"$error":"#REF!"}},{"$f":"'1.Портфель кредитів'!I244","v":0},{"$f":"'1.Портфель кредитів'!W244","v":0},{"$f":"'1.Портфель кредитів'!Y244","v":""},4,"2018-06-01","_4_43252_2"]
[{"$f":"'1.Портфель кредитів'!H245","v":0},{"$f":"'1.Портфель кредитів'!D245","v":""},{"$f":"'1.Портфель кредитів'!#REF!","v":{"$error":"#REF!"}},{"$f":"'1.Портфель кредитів'!#REF!","v":{"$error":"#REF!"}},{"$f":"'1.Портфель кредитів'!#REF!","v":{"$error":"#REF!"}},{"$f":"'1.Портфель кредитів'!I245","v":0},{"$f":"'1.Портфель кредитів'!W245","v":0},{"$f":"'1.Портфель кредитів'!Y245","v":""},4,"2018-06-01","_4_43252_2"]
[{"$f":"'1.Портфель кредитів'!H246","v":0},{"$f":"'1.Портфель кредитів'!D246","v":""},{"$f":"'1.Портфель кредитів'!#REF!","v":{"$error":"#REF!"}},{"$f":"'1.Портфель кредитів'!#REF!","v":{"$error":"#REF!"}},{"$f":"'1.Портфель кредитів'!#REF!","v":{"$error":"#REF!"}},{"$f":"'1.Портфель кредитів'!I246","v":0},{"$f":"'1.Портфель кредитів'!W246","v":0},{"$f":"'1.Портфель кредитів'!Y246","v":""},4,"2018-06-01","_4_43252_2"]
[{"$f":"'1.Портфель кредитів'!H247","v":0},{"$f":"'1.Портфель кредитів'!D247","v":""},{"$f":"'1.Портфель кредитів'!#REF!","v":{"$error":"#REF!"}},{"$f":"'1.Портфель кредитів'!#REF!","v":{"$error":"#REF!"}},{"$f":"'1.Портфель кредитів'!#REF!","v":{"$error":"#REF!"}},{"$f":"'1.Портфель кредитів'!I247","v":0},{"$f":"'1.Портфель кредитів'!W247","v":0},{"$f":"'1.Портфель кредитів'!Y247","v":""},4,"2018-06-01","_4_43252_2"]
[{"$f":"'1.Портфель кредитів'!H248","v":0},{"$f":"'1.Портфель кредитів'!D248","v":""},{"$f":"'1.Портфель кредитів'!#REF!","v":{"$error":"#REF!"}},{"$f":"'1.Портфель кредитів'!#REF!","v":{"$error":"#REF!"}},{"$f":"'1.Портфель кредитів'!#REF!","v":{"$error":"#REF!"}},{"$f":"'1.Портфель кредитів'!I248","v":0},{"$f":"'1.Портфель кредитів'!W248","v":0},{"$f":"'1.Портфель кредитів'!Y248","v":""},4,"2018-06-01","_4_43252_2"]
[{"$f":"'1.Портфель кредитів'!H249","v":0},{"$f":"'1.Портфель кредитів'!D249","v":""},{"$f":"'1.Портфель кредитів'!#REF!","v":{"$error":"#REF!"}},{"$f":"'1.Портфель кредитів'!#REF!","v":{"$error":"#REF!"}},{"$f":"'1.Портфель кредитів'!#REF!","v":{"$error":"#REF!"}},{"$f":"'1.Портфель кредитів'!I249","v":0},{"$f":"'1.Портфель кредитів'!W249","v":0},{"$f":"'1.Портфель кредитів'!Y249","v":""},4,"2018-06-01","_4_43252_2"]
[{"$f":"'1.Портфель кредитів'!H250","v":0},{"$f":"'1.Портфель кредитів'!D250","v":""},{"$f":"'1.Портфель кредитів'!#REF!","v":{"$error":"#REF!"}},{"$f":"'1.Портфель кредитів'!#REF!","v":{"$error":"#REF!"}},{"$f":"'1.Портфель кредитів'!#REF!","v":{"$error":"#REF!"}},{"$f":"'1.Портфель кредитів'!I250","v":0},{"$f":"'1.Портфель кредитів'!W250","v":0},{"$f":"'1.Портфель кредитів'!Y250","v":""},4,"2018-06-01","_4_43252_2"]
[{"$f":"'1.Портфель кредитів'!H251","v":0},{"$f":"'1.Портфель кредитів'!D251","v":""},{"$f":"'1.Портфель кредитів'!#REF!","v":{"$error":"#REF!"}},{"$f":"'1.Портфель кредитів'!#REF!","v":{"$error":"#REF!"}},{"$f":"'1.Портфель кредитів'!#REF!","v":{"$error":"#REF!"}},{"$f":"'1.Портфель кредитів'!I251","v":0},{"$f":"'1.Портфель кредитів'!W251","v":0},{"$f":"'1.Портфель кредитів'!Y251","v":""},4,"2018-06-01","_4_43252_2"]
[{"$f":"'1.Портфель кредитів'!H252","v":0},{"$f":"'1.Портфель кредитів'!D252","v":""},{"$f":"'1.Портфель кредитів'!#REF!","v":{"$error":"#REF!"}},{"$f":"'1.Портфель кредитів'!#REF!","v":{"$error":"#REF!"}},{"$f":"'1.Портфель кредитів'!#REF!","v":{"$error":"#REF!"}},{"$f":"'1.Портфель кредитів'!I252","v":0},{"$f":"'1.Портфель кредитів'!W252","v":0},{"$f":"'1.Портфель кредитів'!Y252","v":""},4,"2018-06-01","_4_43252_2"]
[{"$f":"'1.Портфель кредитів'!H253","v":0},{"$f":"'1.Портфель кредитів'!D253","v":""},{"$f":"'1.Портфель кредитів'!#REF!","v":{"$error":"#REF!"}},{"$f":"'1.Портфель кредитів'!#REF!","v":{"$error":"#REF!"}},{"$f":"'1.Портфель кредитів'!#REF!","v":{"$error":"#REF!"}},{"$f":"'1.Портфель кредитів'!I253","v":0},{"$f":"'1.Портфель кредитів'!W253","v":0},{"$f":"'1.Портфель кредитів'!Y253","v":""},4,"2018-06-01","_4_43252_2"]
[{"$f":"'1.Портфель кредитів'!H254","v":0},{"$f":"'1.Портфель кредитів'!D254","v":""},{"$f":"'1.Портфель кредитів'!#REF!","v":{"$error":"#REF!"}},{"$f":"'1.Портфель кредитів'!#REF!","v":{"$error":"#REF!"}},{"$f":"'1.Портфель кредитів'!#REF!","v":{"$error":"#REF!"}},{"$f":"'1.Портфель кредитів'!I254","v":0},{"$f":"'1.Портфель кредитів'!W254","v":0},{"$f":"'1.Портфель кредитів'!Y254","v":""},4,"2018-06-01","_4_43252_2"]
[{"$f":"'1.Портфель кредитів'!H255","v":0},{"$f":"'1.Портфель кредитів'!D255","v":""},{"$f":"'1.Портфель кредитів'!#REF!","v":{"$error":"#REF!"}},{"$f":"'1.Портфель кредитів'!#REF!","v":{"$error":"#REF!"}},{"$f":"'1.Портфель кредитів'!#REF!","v":{"$error":"#REF!"}},{"$f":"'1.Портфель кредитів'!I255","v":0},{"$f":"'1.Портфель кредитів'!W255","v":0},{"$f":"'1.Портфель кредитів'!Y255","v":""},4,"2018-06-01","_4_43252_2"]
[{"$f":"'1.Портфель кредитів'!H256","v":0},{"$f":"'1.Портфель кредитів'!D256","v":""},{"$f":"'1.Портфель кредитів'!#REF!","v":{"$error":"#REF!"}},{"$f":"'1.Портфель кредитів'!#REF!","v":{"$error":"#REF!"}},{"$f":"'1.Портфель кредитів'!#REF!","v":{"$error":"#REF!"}},{"$f":"'1.Портфель кредитів'!I256","v":0},{"$f":"'1.Портфель кредитів'!W256","v":0},{"$f":"'1.Портфель кредитів'!Y256","v":""},4,"2018-06-01","_4_43252_2"]
[{"$f":"'1.Портфель кредитів'!H257","v":0},{"$f":"'1.Портфель кредитів'!D257","v":""},{"$f":"'1.Портфель кредитів'!#REF!","v":{"$error":"#REF!"}},{"$f":"'1.Портфель кредитів'!#REF!","v":{"$error":"#REF!"}},{"$f":"'1.Портфель кредитів'!#REF!","v":{"$error":"#REF!"}},{"$f":"'1.Портфель кредитів'!I257","v":0},{"$f":"'1.Портфель кредитів'!W257","v":0},{"$f":"'1.Портфель кредитів'!Y257","v":""},4,"2018-06-01","_4_43252_2"]
[{"$f":"'1.Портфель кредитів'!H258","v":0},{"$f":"'1.Портфель кредитів'!D258","v":""},{"$f":"'1.Портфель кредитів'!#REF!","v":{"$error":"#REF!"}},{"$f":"'1.Портфель кредитів'!#REF!","v":{"$error":"#REF!"}},{"$f":"'1.Портфель кредитів'!#REF!","v":{"$error":"#REF!"}},{"$f":"'1.Портфель кредитів'!I258","v":0},{"$f":"'1.Портфель кредитів'!W258","v":0},{"$f":"'1.Портфель кредитів'!Y258","v":""},4,"2018-06-01","_4_43252_2"]
[{"$f":"'1.Портфель кредитів'!H259","v":0},{"$f":"'1.Портфель кредитів'!D259","v":""},{"$f":"'1.Портфель кредитів'!#REF!","v":{"$error":"#REF!"}},{"$f":"'1.Портфель кредитів'!#REF!","v":{"$error":"#REF!"}},{"$f":"'1.Портфель кредитів'!#REF!","v":{"$error":"#REF!"}},{"$f":"'1.Портфель кредитів'!I259","v":0},{"$f":"'1.Портфель кредитів'!W259","v":0},{"$f":"'1.Портфель кредитів'!Y259","v":""},4,"2018-06-01","_4_43252_2"]
[{"$f":"'1.Портфель кредитів'!H260","v":0},{"$f":"'1.Портфель кредитів'!D260","v":""},{"$f":"'1.Портфель кредитів'!#REF!","v":{"$error":"#REF!"}},{"$f":"'1.Портфель кредитів'!#REF!","v":{"$error":"#REF!"}},{"$f":"'1.Портфель кредитів'!#REF!","v":{"$error":"#REF!"}},{"$f":"'1.Портфель кредитів'!I260","v":0},{"$f":"'1.Портфель кредитів'!W260","v":0},{"$f":"'1.Портфель кредитів'!Y260","v":""},4,"2018-06-01","_4_43252_2"]
[{"$f":"'1.Портфель кредитів'!H261","v":0},{"$f":"'1.Портфель кредитів'!D261","v":""},{"$f":"'1.Портфель кредитів'!#REF!","v":{"$error":"#REF!"}},{"$f":"'1.Портфель кредитів'!#REF!","v":{"$error":"#REF!"}},{"$f":"'1.Портфель кредитів'!#REF!","v":{"$error":"#REF!"}},{"$f":"'1.Портфель кредитів'!I261","v":0},{"$f":"'1.Портфель кредитів'!W261","v":0},{"$f":"'1.Портфель кредитів'!Y261","v":""},4,"2018-06-01","_4_43252_2"]
[{"$f":"'1.Портфель кредитів'!H262","v":0},{"$f":"'1.Портфель кредитів'!D262","v":""},{"$f":"'1.Портфель кредитів'!#REF!","v":{"$error":"#REF!"}},{"$f":"'1.Портфель кредитів'!#REF!","v":{"$error":"#REF!"}},{"$f":"'1.Портфель кредитів'!#REF!","v":{"$error":"#REF!"}},{"$f":"'1.Портфель кредитів'!I262","v":0},{"$f":"'1.Портфель кредитів'!W262","v":0},{"$f":"'1.Портфель кредитів'!Y262","v":""},4,"2018-06-01","_4_43252_2"]
[{"$f":"'1.Портфель кредитів'!H263","v":0},{"$f":"'1.Портфель кредитів'!D263","v":""},{"$f":"'1.Портфель кредитів'!#REF!","v":{"$error":"#REF!"}},{"$f":"'1.Портфель кредитів'!#REF!","v":{"$error":"#REF!"}},{"$f":"'1.Портфель кредитів'!#REF!","v":{"$error":"#REF!"}},{"$f":"'1.Портфель кредитів'!I263","v":0},{"$f":"'1.Портфель кредитів'!W263","v":0},{"$f":"'1.Портфель кредитів'!Y263","v":""},4,"2018-06-01","_4_43252_2"]
[{"$f":"'1.Портфель кредитів'!H264","v":0},{"$f":"'1.Портфель кредитів'!D264","v":""},{"$f":"'1.Портфель кредитів'!#REF!","v":{"$error":"#REF!"}},{"$f":"'1.Портфель кредитів'!#REF!","v":{"$error":"#REF!"}},{"$f":"'1.Портфель кредитів'!#REF!","v":{"$error":"#REF!"}},{"$f":"'1.Портфель кредитів'!I264","v":0},{"$f":"'1.Портфель кредитів'!W264","v":0},{"$f":"'1.Портфель кредитів'!Y264","v":""},4,"2018-06-01","_4_43252_2"]
[{"$f":"'1.Портфель кредитів'!H265","v":0},{"$f":"'1.Портфель кредитів'!D265","v":""},{"$f":"'1.Портфель кредитів'!#REF!","v":{"$error":"#REF!"}},{"$f":"'1.Портфель кредитів'!#REF!","v":{"$error":"#REF!"}},{"$f":"'1.Портфель кредитів'!#REF!","v":{"$error":"#REF!"}},{"$f":"'1.Портфель кредитів'!I265","v":0},{"$f":"'1.Портфель кредитів'!W265","v":0},{"$f":"'1.Портфель кредитів'!Y265","v":""},4,"2018-06-01","_4_43252_2"]
[{"$f":"'1.Портфель кредитів'!H266","v":0},{"$f":"'1.Портфель кредитів'!D266","v":""},{"$f":"'1.Портфель кредитів'!#REF!","v":{"$error":"#REF!"}},{"$f":"'1.Портфель кредитів'!#REF!","v":{"$error":"#REF!"}},{"$f":"'1.Портфель кредитів'!#REF!","v":{"$error":"#REF!"}},{"$f":"'1.Портфель кредитів'!I266","v":0},{"$f":"'1.Портфель кредитів'!W266","v":0},{"$f":"'1.Портфель кредитів'!Y266","v":""},4,"2018-06-01","_4_43252_2"]
[{"$f":"'1.Портфель кредитів'!H267","v":0},{"$f":"'1.Портфель кредитів'!D267","v":""},{"$f":"'1.Портфель кредитів'!#REF!","v":{"$error":"#REF!"}},{"$f":"'1.Портфель кредитів'!#REF!","v":{"$error":"#REF!"}},{"$f":"'1.Портфель кредитів'!#REF!","v":{"$error":"#REF!"}},{"$f":"'1.Портфель кредитів'!I267","v":0},{"$f":"'1.Портфель кредитів'!W267","v":0},{"$f":"'1.Портфель кредитів'!Y267","v":""},4,"2018-06-01","_4_43252_2"]
[{"$f":"'1.Портфель кредитів'!H268","v":0},{"$f":"'1.Портфель кредитів'!D268","v":""},{"$f":"'1.Портфель кредитів'!#REF!","v":{"$error":"#REF!"}},{"$f":"'1.Портфель кредитів'!#REF!","v":{"$error":"#REF!"}},{"$f":"'1.Портфель кредитів'!#REF!","v":{"$error":"#REF!"}},{"$f":"'1.Портфель кредитів'!I268","v":0},{"$f":"'1.Портфель кредитів'!W268","v":0},{"$f":"'1.Портфель кредитів'!Y268","v":""},4,"2018-06-01","_4_43252_2"]
[{"$f":"'1.Портфель кредитів'!H269","v":0},{"$f":"'1.Портфель кредитів'!D269","v":""},{"$f":"'1.Портфель кредитів'!#REF!","v":{"$error":"#REF!"}},{"$f":"'1.Портфель кредитів'!#REF!","v":{"$error":"#REF!"}},{"$f":"'1.Портфель кредитів'!#REF!","v":{"$error":"#REF!"}},{"$f":"'1.Портфель кредитів'!I269","v":0},{"$f":"'1.Портфель кредитів'!W269","v":0},{"$f":"'1.Портфель кредитів'!Y269","v":""},4,"2018-06-01","_4_43252_2"]
[{"$f":"'1.Портфель кредитів'!H270","v":0},{"$f":"'1.Портфель кредитів'!D270","v":""},{"$f":"'1.Портфель кредитів'!#REF!","v":{"$error":"#REF!"}},{"$f":"'1.Портфель кредитів'!#REF!","v":{"$error":"#REF!"}},{"$f":"'1.Портфель кредитів'!#REF!","v":{"$error":"#REF!"}},{"$f":"'1.Портфель кредитів'!I270","v":0},{"$f":"'1.Портфель кредитів'!W270","v":0},{"$f":"'1.Портфель кредитів'!Y270","v":""},4,"2018-06-01","_4_43252_2"]
[{"$f":"'1.Портфель кредитів'!H271","v":0},{"$f":"'1.Портфель кредитів'!D271","v":""},{"$f":"'1.Портфель кредитів'!#REF!","v":{"$error":"#REF!"}},{"$f":"'1.Портфель кредитів'!#REF!","v":{"$error":"#REF!"}},{"$f":"'1.Портфель кредитів'!#REF!","v":{"$error":"#REF!"}},{"$f":"'1.Портфель кредитів'!I271","v":0},{"$f":"'1.Портфель кредитів'!W271","v":0},{"$f":"'1.Портфель кредитів'!Y271","v":""},4,"2018-06-01","_4_43252_2"]
[{"$f":"'1.Портфель кредитів'!H272","v":0},{"$f":"'1.Портфель кредитів'!D272","v":""},{"$f":"'1.Портфель кредитів'!#REF!","v":{"$error":"#REF!"}},{"$f":"'1.Портфель кредитів'!#REF!","v":{"$error":"#REF!"}},{"$f":"'1.Портфель кредитів'!#REF!","v":{"$error":"#REF!"}},{"$f":"'1.Портфель кредитів'!I272","v":0},{"$f":"'1.Портфель кредитів'!W272","v":0},{"$f":"'1.Портфель кредитів'!Y272","v":""},4,"2018-06-01","_4_43252_2"]
[{"$f":"'1.Портфель кредитів'!H273","v":0},{"$f":"'1.Портфель кредитів'!D273","v":""},{"$f":"'1.Портфель кредитів'!#REF!","v":{"$error":"#REF!"}},{"$f":"'1.Портфель кредитів'!#REF!","v":{"$error":"#REF!"}},{"$f":"'1.Портфель кредитів'!#REF!","v":{"$error":"#REF!"}},{"$f":"'1.Портфель кредитів'!I273","v":0},{"$f":"'1.Портфель кредитів'!W273","v":0},{"$f":"'1.Портфель кредитів'!Y273","v":""},4,"2018-06-01","_4_43252_2"]
[{"$f":"'1.Портфель кредитів'!H274","v":0},{"$f":"'1.Портфель кредитів'!D274","v":""},{"$f":"'1.Портфель кредитів'!#REF!","v":{"$error":"#REF!"}},{"$f":"'1.Портфель кредитів'!#REF!","v":{"$error":"#REF!"}},{"$f":"'1.Портфель кредитів'!#REF!","v":{"$error":"#REF!"}},{"$f":"'1.Портфель кредитів'!I274","v":0},{"$f":"'1.Портфель кредитів'!W274","v":0},{"$f":"'1.Портфель кредитів'!Y274","v":""},4,"2018-06-01","_4_43252_2"]
[{"$f":"'1.Портфель кредитів'!H275","v":0},{"$f":"'1.Портфель кредитів'!D275","v":""},{"$f":"'1.Портфель кредитів'!#REF!","v":{"$error":"#REF!"}},{"$f":"'1.Портфель кредитів'!#REF!","v":{"$error":"#REF!"}},{"$f":"'1.Портфель кредитів'!#REF!","v":{"$error":"#REF!"}},{"$f":"'1.Портфель кредитів'!I275","v":0},{"$f":"'1.Портфель кредитів'!W275","v":0},{"$f":"'1.Портфель кредитів'!Y275","v":""},4,"2018-06-01","_4_43252_2"]
[{"$f":"'1.Портфель кредитів'!H276","v":0},{"$f":"'1.Портфель кредитів'!D276","v":""},{"$f":"'1.Портфель кредитів'!#REF!","v":{"$error":"#REF!"}},{"$f":"'1.Портфель кредитів'!#REF!","v":{"$error":"#REF!"}},{"$f":"'1.Портфель кредитів'!#REF!","v":{"$error":"#REF!"}},{"$f":"'1.Портфель кредитів'!I276","v":0},{"$f":"'1.Портфель кредитів'!W276","v":0},{"$f":"'1.Портфель кредитів'!Y276","v":""},4,"2018-06-01","_4_43252_2"]
[{"$f":"'1.Портфель кредитів'!H277","v":0},{"$f":"'1.Портфель кредитів'!D277","v":""},{"$f":"'1.Портфель кредитів'!#REF!","v":{"$error":"#REF!"}},{"$f":"'1.Портфель кредитів'!#REF!","v":{"$error":"#REF!"}},{"$f":"'1.Портфель кредитів'!#REF!","v":{"$error":"#REF!"}},{"$f":"'1.Портфель кредитів'!I277","v":0},{"$f":"'1.Портфель кредитів'!W277","v":0},{"$f":"'1.Портфель кредитів'!Y277","v":""},4,"2018-06-01","_4_43252_2"]
[{"$f":"'1.Портфель кредитів'!H278","v":0},{"$f":"'1.Портфель кредитів'!D278","v":""},{"$f":"'1.Портфель кредитів'!#REF!","v":{"$error":"#REF!"}},{"$f":"'1.Портфель кредитів'!#REF!","v":{"$error":"#REF!"}},{"$f":"'1.Портфель кредитів'!#REF!","v":{"$error":"#REF!"}},{"$f":"'1.Портфель кредитів'!I278","v":0},{"$f":"'1.Портфель кредитів'!W278","v":0},{"$f":"'1.Портфель кредитів'!Y278","v":""},4,"2018-06-01","_4_43252_2"]
[{"$f":"'1.Портфель кредитів'!H279","v":0},{"$f":"'1.Портфель кредитів'!D279","v":""},{"$f":"'1.Портфель кредитів'!#REF!","v":{"$error":"#REF!"}},{"$f":"'1.Портфель кредитів'!#REF!","v":{"$error":"#REF!"}},{"$f":"'1.Портфель кредитів'!#REF!","v":{"$error":"#REF!"}},{"$f":"'1.Портфель кредитів'!I279","v":0},{"$f":"'1.Портфель кредитів'!W279","v":0},{"$f":"'1.Портфель кредитів'!Y279","v":""},4,"2018-06-01","_4_43252_2"]
[{"$f":"'1.Портфель кредитів'!H280","v":0},{"$f":"'1.Портфель кредитів'!D280","v":""},{"$f":"'1.Портфель кредитів'!#REF!","v":{"$error":"#REF!"}},{"$f":"'1.Портфель кредитів'!#REF!","v":{"$error":"#REF!"}},{"$f":"'1.Портфель кредитів'!#REF!","v":{"$error":"#REF!"}},{"$f":"'1.Портфель кредитів'!I280","v":0},{"$f":"'1.Портфель кредитів'!W280","v":0},{"$f":"'1.Портфель кредитів'!Y280","v":""},4,"2018-06-01","_4_43252_2"]
[{"$f":"'1.Портфель кредитів'!H281","v":0},{"$f":"'1.Портфель кредитів'!D281","v":""},{"$f":"'1.Портфель кредитів'!#REF!","v":{"$error":"#REF!"}},{"$f":"'1.Портфель кредитів'!#REF!","v":{"$error":"#REF!"}},{"$f":"'1.Портфель кредитів'!#REF!","v":{"$error":"#REF!"}},{"$f":"'1.Портфель кредитів'!I281","v":0},{"$f":"'1.Портфель кредитів'!W281","v":0},{"$f":"'1.Портфель кредитів'!Y281","v":""},4,"2018-06-01","_4_43252_2"]
[{"$f":"'1.Портфель кредитів'!H282","v":0},{"$f":"'1.Портфель кредитів'!D282","v":""},{"$f":"'1.Портфель кредитів'!#REF!","v":{"$error":"#REF!"}},{"$f":"'1.Портфель кредитів'!#REF!","v":{"$error":"#REF!"}},{"$f":"'1.Портфель кредитів'!#REF!","v":{"$error":"#REF!"}},{"$f":"'1.Портфель кредитів'!I282","v":0},{"$f":"'1.Портфель кредитів'!W282","v":0},{"$f":"'1.Портфель кредитів'!Y282","v":""},4,"2018-06-01","_4_43252_2"]
[{"$f":"'1.Портфель кредитів'!H283","v":0},{"$f":"'1.Портфель кредитів'!D283","v":""},{"$f":"'1.Портфель кредитів'!#REF!","v":{"$error":"#REF!"}},{"$f":"'1.Портфель кредитів'!#REF!","v":{"$error":"#REF!"}},{"$f":"'1.Портфель кредитів'!#REF!","v":{"$error":"#REF!"}},{"$f":"'1.Портфель кредитів'!I283","v":0},{"$f":"'1.Портфель кредитів'!W283","v":0},{"$f":"'1.Портфель кредитів'!Y283","v":""},4,"2018-06-01","_4_43252_2"]
[{"$f":"'1.Портфель кредитів'!H284","v":0},{"$f":"'1.Портфель кредитів'!D284","v":""},{"$f":"'1.Портфель кредитів'!#REF!","v":{"$error":"#REF!"}},{"$f":"'1.Портфель кредитів'!#REF!","v":{"$error":"#REF!"}},{"$f":"'1.Портфель кредитів'!#REF!","v":{"$error":"#REF!"}},{"$f":"'1.Портфель кредитів'!I284","v":0},{"$f":"'1.Портфель кредитів'!W284","v":0},{"$f":"'1.Портфель кредитів'!Y284","v":""},4,"2018-06-01","_4_43252_2"]
[{"$f":"'1.Портфель кредитів'!H285","v":0},{"$f":"'1.Портфель кредитів'!D285","v":""},{"$f":"'1.Портфель кредитів'!#REF!","v":{"$error":"#REF!"}},{"$f":"'1.Портфель кредитів'!#REF!","v":{"$error":"#REF!"}},{"$f":"'1.Портфель кредитів'!#REF!","v":{"$error":"#REF!"}},{"$f":"'1.Портфель кредитів'!I285","v":0},{"$f":"'1.Портфель кредитів'!W285","v":0},{"$f":"'1.Портфель кредитів'!Y285","v":""},4,"2018-06-01","_4_43252_2"]
[{"$f":"'1.Портфель кредитів'!H286","v":0},{"$f":"'1.Портфель кредитів'!D286","v":""},{"$f":"'1.Портфель кредитів'!#REF!","v":{"$error":"#REF!"}},{"$f":"'1.Портфель кредитів'!#REF!","v":{"$error":"#REF!"}},{"$f":"'1.Портфель кредитів'!#REF!","v":{"$error":"#REF!"}},{"$f":"'1.Портфель кредитів'!I286","v":0},{"$f":"'1.Портфель кредитів'!W286","v":0},{"$f":"'1.Портфель кредитів'!Y286","v":""},4,"2018-06-01","_4_43252_2"]
[{"$f":"'1.Портфель кредитів'!H287","v":0},{"$f":"'1.Портфель кредитів'!D287","v":""},{"$f":"'1.Портфель кредитів'!#REF!","v":{"$error":"#REF!"}},{"$f":"'1.Портфель кредитів'!#REF!","v":{"$error":"#REF!"}},{"$f":"'1.Портфель кредитів'!#REF!","v":{"$error":"#REF!"}},{"$f":"'1.Портфель кредитів'!I287","v":0},{"$f":"'1.Портфель кредитів'!W287","v":0},{"$f":"'1.Портфель кредитів'!Y287","v":""},4,"2018-06-01","_4_43252_2"]
[{"$f":"'1.Портфель кредитів'!H288","v":0},{"$f":"'1.Портфель кредитів'!D288","v":""},{"$f":"'1.Портфель кредитів'!#REF!","v":{"$error":"#REF!"}},{"$f":"'1.Портфель кредитів'!#REF!","v":{"$error":"#REF!"}},{"$f":"'1.Портфель кредитів'!#REF!","v":{"$error":"#REF!"}},{"$f":"'1.Портфель кредитів'!I288","v":0},{"$f":"'1.Портфель кредитів'!W288","v":0},{"$f":"'1.Портфель кредитів'!Y288","v":""},4,"2018-06-01","_4_43252_2"]
[{"$f":"'1.Портфель кредитів'!H289","v":0},{"$f":"'1.Портфель кредитів'!D289","v":""},{"$f":"'1.Портфель кредитів'!#REF!","v":{"$error":"#REF!"}},{"$f":"'1.Портфель кредитів'!#REF!","v":{"$error":"#REF!"}},{"$f":"'1.Портфель кредитів'!#REF!","v":{"$error":"#REF!"}},{"$f":"'1.Портфель кредитів'!I289","v":0},{"$f":"'1.Портфель кредитів'!W289","v":0},{"$f":"'1.Портфель кредитів'!Y289","v":""},4,"2018-06-01","_4_43252_2"]
[{"$f":"'1.Портфель кредитів'!H290","v":0},{"$f":"'1.Портфель кредитів'!D290","v":""},{"$f":"'1.Портфель кредитів'!#REF!","v":{"$error":"#REF!"}},{"$f":"'1.Портфель кредитів'!#REF!","v":{"$error":"#REF!"}},{"$f":"'1.Портфель кредитів'!#REF!","v":{"$error":"#REF!"}},{"$f":"'1.Портфель кредитів'!I290","v":0},{"$f":"'1.Портфель кредитів'!W290","v":0},{"$f":"'1.Портфель кредитів'!Y290","v":""},4,"2018-06-01","_4_43252_2"]
[{"$f":"'1.Портфель кредитів'!H291","v":0},{"$f":"'1.Портфель кредитів'!D291","v":""},{"$f":"'1.Портфель кредитів'!#REF!","v":{"$error":"#REF!"}},{"$f":"'1.Портфель кредитів'!#REF!","v":{"$error":"#REF!"}},{"$f":"'1.Портфель кредитів'!#REF!","v":{"$error":"#REF!"}},{"$f":"'1.Портфель кредитів'!I291","v":0},{"$f":"'1.Портфель кредитів'!W291","v":0},{"$f":"'1.Портфель кредитів'!Y291","v":""},4,"2018-06-01","_4_43252_2"]
[{"$f":"'1.Портфель кредитів'!H292","v":0},{"$f":"'1.Портфель кредитів'!D292","v":""},{"$f":"'1.Портфель кредитів'!#REF!","v":{"$error":"#REF!"}},{"$f":"'1.Портфель кредитів'!#REF!","v":{"$error":"#REF!"}},{"$f":"'1.Портфель кредитів'!#REF!","v":{"$error":"#REF!"}},{"$f":"'1.Портфель кредитів'!I292","v":0},{"$f":"'1.Портфель кредитів'!W292","v":0},{"$f":"'1.Портфель кредитів'!Y292","v":""},4,"2018-06-01","_4_43252_2"]
[{"$f":"'1.Портфель кредитів'!H293","v":0},{"$f":"'1.Портфель кредитів'!D293","v":""},{"$f":"'1.Портфель кредитів'!#REF!","v":{"$error":"#REF!"}},{"$f":"'1.Портфель кредитів'!#REF!","v":{"$error":"#REF!"}},{"$f":"'1.Портфель кредитів'!#REF!","v":{"$error":"#REF!"}},{"$f":"'1.Портфель кредитів'!I293","v":0},{"$f":"'1.Портфель кредитів'!W293","v":0},{"$f":"'1.Портфель кредитів'!Y293","v":""},4,"2018-06-01","_4_43252_2"]
[{"$f":"'1.Портфель кредитів'!H294","v":0},{"$f":"'1.Портфель кредитів'!D294","v":""},{"$f":"'1.Портфель кредитів'!#REF!","v":{"$error":"#REF!"}},{"$f":"'1.Портфель кредитів'!#REF!","v":{"$error":"#REF!"}},{"$f":"'1.Портфель кредитів'!#REF!","v":{"$error":"#REF!"}},{"$f":"'1.Портфель кредитів'!I294","v":0},{"$f":"'1.Портфель кредитів'!W294","v":0},{"$f":"'1.Портфель кредитів'!Y294","v":""},4,"2018-06-01","_4_43252_2"]
[{"$f":"'1.Портфель кредитів'!H295","v":0},{"$f":"'1.Портфель кредитів'!D295","v":""},{"$f":"'1.Портфель кредитів'!#REF!","v":{"$error":"#REF!"}},{"$f":"'1.Портфель кредитів'!#REF!","v":{"$error":"#REF!"}},{"$f":"'1.Портфель кредитів'!#REF!","v":{"$error":"#REF!"}},{"$f":"'1.Портфель кредитів'!I295","v":0},{"$f":"'1.Портфель кредитів'!W295","v":0},{"$f":"'1.Портфель кредитів'!Y295","v":""},4,"2018-06-01","_4_43252_2"]
[{"$f":"'1.Портфель кредитів'!H296","v":0},{"$f":"'1.Портфель кредитів'!D296","v":""},{"$f":"'1.Портфель кредитів'!#REF!","v":{"$error":"#REF!"}},{"$f":"'1.Портфель кредитів'!#REF!","v":{"$error":"#REF!"}},{"$f":"'1.Портфель кредитів'!#REF!","v":{"$error":"#REF!"}},{"$f":"'1.Портфель кредитів'!I296","v":0},{"$f":"'1.Портфель кредитів'!W296","v":0},{"$f":"'1.Портфель кредитів'!Y296","v":""},4,"2018-06-01","_4_43252_2"]
[{"$f":"'1.Портфель кредитів'!H297","v":0},{"$f":"'1.Портфель кредитів'!D297","v":""},{"$f":"'1.Портфель кредитів'!#REF!","v":{"$error":"#REF!"}},{"$f":"'1.Портфель кредитів'!#REF!","v":{"$error":"#REF!"}},{"$f":"'1.Портфель кредитів'!#REF!","v":{"$error":"#REF!"}},{"$f":"'1.Портфель кредитів'!I297","v":0},{"$f":"'1.Портфель кредитів'!W297","v":0},{"$f":"'1.Портфель кредитів'!Y297","v":""},4,"2018-06-01","_4_43252_2"]
[{"$f":"'1.Портфель кредитів'!H298","v":0},{"$f":"'1.Портфель кредитів'!D298","v":""},{"$f":"'1.Портфель кредитів'!#REF!","v":{"$error":"#REF!"}},{"$f":"'1.Портфель кредитів'!#REF!","v":{"$error":"#REF!"}},{"$f":"'1.Портфель кредитів'!#REF!","v":{"$error":"#REF!"}},{"$f":"'1.Портфель кредитів'!I298","v":0},{"$f":"'1.Портфель кредитів'!W298","v":0},{"$f":"'1.Портфель кредитів'!Y298","v":""},4,"2018-06-01","_4_43252_2"]
[{"$f":"'1.Портфель кредитів'!H299","v":0},{"$f":"'1.Портфель кредитів'!D299","v":""},{"$f":"'1.Портфель кредитів'!#REF!","v":{"$error":"#REF!"}},{"$f":"'1.Портфель кредитів'!#REF!","v":{"$error":"#REF!"}},{"$f":"'1.Портфель кредитів'!#REF!","v":{"$error":"#REF!"}},{"$f":"'1.Портфель кредитів'!I299","v":0},{"$f":"'1.Портфель кредитів'!W299","v":0},{"$f":"'1.Портфель кредитів'!Y299","v":""},4,"2018-06-01","_4_43252_2"]
[{"$f":"'1.Портфель кредитів'!H300","v":0},{"$f":"'1.Портфель кредитів'!D300","v":""},{"$f":"'1.Портфель кредитів'!#REF!","v":{"$error":"#REF!"}},{"$f":"'1.Портфель кредитів'!#REF!","v":{"$error":"#REF!"}},{"$f":"'1.Портфель кредитів'!#REF!","v":{"$error":"#REF!"}},{"$f":"'1.Портфель кредитів'!I300","v":0},{"$f":"'1.Портфель кредитів'!W300","v":0},{"$f":"'1.Портфель кредитів'!Y300","v":""},4,"2018-06-01","_4_43252_2"]
[{"$f":"'1.Портфель кредитів'!H301","v":0},{"$f":"'1.Портфель кредитів'!D301","v":""},{"$f":"'1.Портфель кредитів'!#REF!","v":{"$error":"#REF!"}},{"$f":"'1.Портфель кредитів'!#REF!","v":{"$error":"#REF!"}},{"$f":"'1.Портфель кредитів'!#REF!","v":{"$error":"#REF!"}},{"$f":"'1.Портфель кредитів'!I301","v":0},{"$f":"'1.Портфель кредитів'!W301","v":0},{"$f":"'1.Портфель кредитів'!Y301","v":""},{"$f":"$E$1","v":4},{"$f":"$E$2","v":"2018-06-01"},{"$f":"B326&\"_\"&I326&\"_\"&J326&\"_\"&$E$3","v":"_4_43252_2"}]
[{"$f":"'1.Портфель кредитів'!H302","v":0},{"$f":"'1.Портфель кредитів'!D302","v":""},{"$f":"'1.Портфель кредитів'!#REF!","v":{"$error":"#REF!"}},{"$f":"'1.Портфель кредитів'!#REF!","v":{"$error":"#REF!"}},{"$f":"'1.Портфель кредитів'!#REF!","v":{"$error":"#REF!"}},{"$f":"'1.Портфель кредитів'!I302","v":0},{"$f":"'1.Портфель кредитів'!W302","v":0},{"$f":"'1.Портфель кредитів'!Y302","v":""},4,"2018-06-01","_4_43252_2"]
[{"$f":"'1.Портфель кредитів'!H303","v":0},{"$f":"'1.Портфель кредитів'!D303","v":""},{"$f":"'1.Портфель кредитів'!#REF!","v":{"$error":"#REF!"}},{"$f":"'1.Портфель кредитів'!#REF!","v":{"$error":"#REF!"}},{"$f":"'1.Портфель кредитів'!#REF!","v":{"$error":"#REF!"}},{"$f":"'1.Портфель кредитів'!I303","v":0},{"$f":"'1.Портфель кредитів'!W303","v":0},{"$f":"'1.Портфель кредитів'!Y303","v":""},4,"2018-06-01","_4_43252_2"]
[{"$f":"'1.Портфель кредитів'!H304","v":0},{"$f":"'1.Портфель кредитів'!D304","v":""},{"$f":"'1.Портфель кредитів'!#REF!","v":{"$error":"#REF!"}},{"$f":"'1.Портфель кредитів'!#REF!","v":{"$error":"#REF!"}},{"$f":"'1.Портфель кредитів'!#REF!","v":{"$error":"#REF!"}},{"$f":"'1.Портфель кредитів'!I304","v":0},{"$f":"'1.Портфель кредитів'!W304","v":0},{"$f":"'1.Портфель кредитів'!Y304","v":""},4,"2018-06-01","_4_43252_2"]
[{"$f":"'1.Портфель кредитів'!H305","v":0},{"$f":"'1.Портфель кредитів'!D305","v":""},{"$f":"'1.Портфель кредитів'!#REF!","v":{"$error":"#REF!"}},{"$f":"'1.Портфель кредитів'!#REF!","v":{"$error":"#REF!"}},{"$f":"'1.Портфель кредитів'!#REF!","v":{"$error":"#REF!"}},{"$f":"'1.Портфель кредитів'!I305","v":0},{"$f":"'1.Портфель кредитів'!W305","v":0},{"$f":"'1.Портфель кредитів'!Y305","v":""},4,"2018-06-01","_4_43252_2"]
[{"$f":"'1.Портфель кредитів'!H306","v":0},{"$f":"'1.Портфель кредитів'!D306","v":""},{"$f":"'1.Портфель кредитів'!#REF!","v":{"$error":"#REF!"}},{"$f":"'1.Портфель кредитів'!#REF!","v":{"$error":"#REF!"}},{"$f":"'1.Портфель кредитів'!#REF!","v":{"$error":"#REF!"}},{"$f":"'1.Портфель кредитів'!I306","v":0},{"$f":"'1.Портфель кредитів'!W306","v":0},{"$f":"'1.Портфель кредитів'!Y306","v":""},4,"2018-06-01","_4_43252_2"]
[{"$f":"'1.Портфель кредитів'!H307","v":0},{"$f":"'1.Портфель кредитів'!D307","v":""},{"$f":"'1.Портфель кредитів'!#REF!","v":{"$error":"#REF!"}},{"$f":"'1.Портфель кредитів'!#REF!","v":{"$error":"#REF!"}},{"$f":"'1.Портфель кредитів'!#REF!","v":{"$error":"#REF!"}},{"$f":"'1.Портфель кредитів'!I307","v":0},{"$f":"'1.Портфель кредитів'!W307","v":0},{"$f":"'1.Портфель кредитів'!Y307","v":""},4,"2018-06-01","_4_43252_2"]
[{"$f":"'1.Портфель кредитів'!H308","v":0},{"$f":"'1.Портфель кредитів'!D308","v":""},{"$f":"'1.Портфель кредитів'!#REF!","v":{"$error":"#REF!"}},{"$f":"'1.Портфель кредитів'!#REF!","v":{"$error":"#REF!"}},{"$f":"'1.Портфель кредитів'!#REF!","v":{"$error":"#REF!"}},{"$f":"'1.Портфель кредитів'!I308","v":0},{"$f":"'1.Портфель кредитів'!W308","v":0},{"$f":"'1.Портфель кредитів'!Y308","v":""},4,"2018-06-01","_4_43252_2"]
[{"$f":"'1.Портфель кредитів'!H309","v":0},{"$f":"'1.Портфель кредитів'!D309","v":""},{"$f":"'1.Портфель кредитів'!#REF!","v":{"$error":"#REF!"}},{"$f":"'1.Портфель кредитів'!#REF!","v":{"$error":"#REF!"}},{"$f":"'1.Портфель кредитів'!#REF!","v":{"$error":"#REF!"}},{"$f":"'1.Портфель кредитів'!I309","v":0},{"$f":"'1.Портфель кредитів'!W309","v":0},{"$f":"'1.Портфель кредитів'!Y309","v":""},4,"2018-06-01","_4_43252_2"]
[{"$f":"'1.Портфель кредитів'!H310","v":0},{"$f":"'1.Портфель кредитів'!D310","v":""},{"$f":"'1.Портфель кредитів'!#REF!","v":{"$error":"#REF!"}},{"$f":"'1.Портфель кредитів'!#REF!","v":{"$error":"#REF!"}},{"$f":"'1.Портфель кредитів'!#REF!","v":{"$error":"#REF!"}},{"$f":"'1.Портфель кредитів'!I310","v":0},{"$f":"'1.Портфель кредитів'!W310","v":0},{"$f":"'1.Портфель кредитів'!Y310","v":""},4,"2018-06-01","_4_43252_2"]
[{"$f":"'1.Портфель кредитів'!H311","v":0},{"$f":"'1.Портфель кредитів'!D311","v":""},{"$f":"'1.Портфель кредитів'!#REF!","v":{"$error":"#REF!"}},{"$f":"'1.Портфель кредитів'!#REF!","v":{"$error":"#REF!"}},{"$f":"'1.Портфель кредитів'!#REF!","v":{"$error":"#REF!"}},{"$f":"'1.Портфель кредитів'!I311","v":0},{"$f":"'1.Портфель кредитів'!W311","v":0},{"$f":"'1.Портфель кредитів'!Y311","v":""},4,"2018-06-01","_4_43252_2"]
[{"$f":"'1.Портфель кредитів'!H312","v":0},{"$f":"'1.Портфель кредитів'!D312","v":""},{"$f":"'1.Портфель кредитів'!#REF!","v":{"$error":"#REF!"}},{"$f":"'1.Портфель кредитів'!#REF!","v":{"$error":"#REF!"}},{"$f":"'1.Портфель кредитів'!#REF!","v":{"$error":"#REF!"}},{"$f":"'1.Портфель кредитів'!I312","v":0},{"$f":"'1.Портфель кредитів'!W312","v":0},{"$f":"'1.Портфель кредитів'!Y312","v":""},4,"2018-06-01","_4_43252_2"]
[{"$f":"'1.Портфель кредитів'!H313","v":0},{"$f":"'1.Портфель кредитів'!D313","v":""},{"$f":"'1.Портфель кредитів'!#REF!","v":{"$error":"#REF!"}},{"$f":"'1.Портфель кредитів'!#REF!","v":{"$error":"#REF!"}},{"$f":"'1.Портфель кредитів'!#REF!","v":{"$error":"#REF!"}},{"$f":"'1.Портфель кредитів'!I313","v":0},{"$f":"'1.Портфель кредитів'!W313","v":0},{"$f":"'1.Портфель кредитів'!Y313","v":""},4,"2018-06-01","_4_43252_2"]
[{"$f":"'1.Портфель кредитів'!H314","v":0},{"$f":"'1.Портфель кредитів'!D314","v":""},{"$f":"'1.Портфель кредитів'!#REF!","v":{"$error":"#REF!"}},{"$f":"'1.Портфель кредитів'!#REF!","v":{"$error":"#REF!"}},{"$f":"'1.Портфель кредитів'!#REF!","v":{"$error":"#REF!"}},{"$f":"'1.Портфель кредитів'!I314","v":0},{"$f":"'1.Портфель кредитів'!W314","v":0},{"$f":"'1.Портфель кредитів'!Y314","v":""},4,"2018-06-01","_4_43252_2"]
[{"$f":"'1.Портфель кредитів'!H315","v":0},{"$f":"'1.Портфель кредитів'!D315","v":""},{"$f":"'1.Портфель кредитів'!#REF!","v":{"$error":"#REF!"}},{"$f":"'1.Портфель кредитів'!#REF!","v":{"$error":"#REF!"}},{"$f":"'1.Портфель кредитів'!#REF!","v":{"$error":"#REF!"}},{"$f":"'1.Портфель кредитів'!I315","v":0},{"$f":"'1.Портфель кредитів'!W315","v":0},{"$f":"'1.Портфель кредитів'!Y315","v":""},4,"2018-06-01","_4_43252_2"]
[{"$f":"'1.Портфель кредитів'!H316","v":0},{"$f":"'1.Портфель кредитів'!D316","v":""},{"$f":"'1.Портфель кредитів'!#REF!","v":{"$error":"#REF!"}},{"$f":"'1.Портфель кредитів'!#REF!","v":{"$error":"#REF!"}},{"$f":"'1.Портфель кредитів'!#REF!","v":{"$error":"#REF!"}},{"$f":"'1.Портфель кредитів'!I316","v":0},{"$f":"'1.Портфель кредитів'!W316","v":0},{"$f":"'1.Портфель кредитів'!Y316","v":""},4,"2018-06-01","_4_43252_2"]
[{"$f":"'1.Портфель кредитів'!H317","v":0},{"$f":"'1.Портфель кредитів'!D317","v":""},{"$f":"'1.Портфель кредитів'!#REF!","v":{"$error":"#REF!"}},{"$f":"'1.Портфель кредитів'!#REF!","v":{"$error":"#REF!"}},{"$f":"'1.Портфель кредитів'!#REF!","v":{"$error":"#REF!"}},{"$f":"'1.Портфель кредитів'!I317","v":0},{"$f":"'1.Портфель кредитів'!W317","v":0},{"$f":"'1.Портфель кредитів'!Y317","v":""},4,"2018-06-01","_4_43252_2"]
[{"$f":"'1.Портфель кредитів'!H318","v":0},{"$f":"'1.Портфель кредитів'!D318","v":""},{"$f":"'1.Портфель кредитів'!#REF!","v":{"$error":"#REF!"}},{"$f":"'1.Портфель кредитів'!#REF!","v":{"$error":"#REF!"}},{"$f":"'1.Портфель кредитів'!#REF!","v":{"$error":"#REF!"}},{"$f":"'1.Портфель кредитів'!I318","v":0},{"$f":"'1.Портфель кредитів'!W318","v":0},{"$f":"'1.Портфель кредитів'!Y318","v":""},4,"2018-06-01","_4_43252_2"]
[{"$f":"'1.Портфель кредитів'!H319","v":0},{"$f":"'1.Портфель кредитів'!D319","v":""},{"$f":"'1.Портфель кредитів'!#REF!","v":{"$error":"#REF!"}},{"$f":"'1.Портфель кредитів'!#REF!","v":{"$error":"#REF!"}},{"$f":"'1.Портфель кредитів'!#REF!","v":{"$error":"#REF!"}},{"$f":"'1.Портфель кредитів'!I319","v":0},{"$f":"'1.Портфель кредитів'!W319","v":0},{"$f":"'1.Портфель кредитів'!Y319","v":""},4,"2018-06-01","_4_43252_2"]
[{"$f":"'1.Портфель кредитів'!H320","v":0},{"$f":"'1.Портфель кредитів'!D320","v":""},{"$f":"'1.Портфель кредитів'!#REF!","v":{"$error":"#REF!"}},{"$f":"'1.Портфель кредитів'!#REF!","v":{"$error":"#REF!"}},{"$f":"'1.Портфель кредитів'!#REF!","v":{"$error":"#REF!"}},{"$f":"'1.Портфель кредитів'!I320","v":0},{"$f":"'1.Портфель кредитів'!W320","v":0},{"$f":"'1.Портфель кредитів'!Y320","v":""},4,"2018-06-01","_4_43252_2"]
[{"$f":"'1.Портфель кредитів'!H321","v":0},{"$f":"'1.Портфель кредитів'!D321","v":""},{"$f":"'1.Портфель кредитів'!#REF!","v":{"$error":"#REF!"}},{"$f":"'1.Портфель кредитів'!#REF!","v":{"$error":"#REF!"}},{"$f":"'1.Портфель кредитів'!#REF!","v":{"$error":"#REF!"}},{"$f":"'1.Портфель кредитів'!I321","v":0},{"$f":"'1.Портфель кредитів'!W321","v":0},{"$f":"'1.Портфель кредитів'!Y321","v":""},4,"2018-06-01","_4_43252_2"]
[{"$f":"'1.Портфель кредитів'!H322","v":0},{"$f":"'1.Портфель кредитів'!D322","v":""},{"$f":"'1.Портфель кредитів'!#REF!","v":{"$error":"#REF!"}},{"$f":"'1.Портфель кредитів'!#REF!","v":{"$error":"#REF!"}},{"$f":"'1.Портфель кредитів'!#REF!","v":{"$error":"#REF!"}},{"$f":"'1.Портфель кредитів'!I322","v":0},{"$f":"'1.Портфель кредитів'!W322","v":0},{"$f":"'1.Портфель кредитів'!Y322","v":""},4,"2018-06-01","_4_43252_2"]
[{"$f":"'1.Портфель кредитів'!H323","v":0},{"$f":"'1.Портфель кредитів'!D323","v":""},{"$f":"'1.Портфель кредитів'!#REF!","v":{"$error":"#REF!"}},{"$f":"'1.Портфель кредитів'!#REF!","v":{"$error":"#REF!"}},{"$f":"'1.Портфель кредитів'!#REF!","v":{"$error":"#REF!"}},{"$f":"'1.Портфель кредитів'!I323","v":0},{"$f":"'1.Портфель кредитів'!W323","v":0},{"$f":"'1.Портфель кредитів'!Y323","v":""},4,"2018-06-01","_4_43252_2"]
[{"$f":"'1.Портфель кредитів'!H324","v":0},{"$f":"'1.Портфель кредитів'!D324","v":""},{"$f":"'1.Портфель кредитів'!#REF!","v":{"$error":"#REF!"}},{"$f":"'1.Портфель кредитів'!#REF!","v":{"$error":"#REF!"}},{"$f":"'1.Портфель кредитів'!#REF!","v":{"$error":"#REF!"}},{"$f":"'1.Портфель кредитів'!I324","v":0},{"$f":"'1.Портфель кредитів'!W324","v":0},{"$f":"'1.Портфель кредитів'!Y324","v":""},4,"2018-06-01","_4_43252_2"]
[{"$f":"'1.Портфель кредитів'!H325","v":0},{"$f":"'1.Портфель кредитів'!D325","v":""},{"$f":"'1.Портфель кредитів'!#REF!","v":{"$error":"#REF!"}},{"$f":"'1.Портфель кредитів'!#REF!","v":{"$error":"#REF!"}},{"$f":"'1.Портфель кредитів'!#REF!","v":{"$error":"#REF!"}},{"$f":"'1.Портфель кредитів'!I325","v":0},{"$f":"'1.Портфель кредитів'!W325","v":0},{"$f":"'1.Портфель кредитів'!Y325","v":""},4,"2018-06-01","_4_43252_2"]
[{"$f":"'1.Портфель кредитів'!H326","v":0},{"$f":"'1.Портфель кредитів'!D326","v":""},{"$f":"'1.Портфель кредитів'!#REF!","v":{"$error":"#REF!"}},{"$f":"'1.Портфель кредитів'!#REF!","v":{"$error":"#REF!"}},{"$f":"'1.Портфель кредитів'!#REF!","v":{"$error":"#REF!"}},{"$f":"'1.Портфель кредитів'!I326","v":0},{"$f":"'1.Портфель кредитів'!W326","v":0},{"$f":"'1.Портфель кредитів'!Y326","v":""},4,"2018-06-01","_4_43252_2"]
[{"$f":"'1.Портфель кредитів'!H327","v":0},{"$f":"'1.Портфель кредитів'!D327","v":""},{"$f":"'1.Портфель кредитів'!#REF!","v":{"$error":"#REF!"}},{"$f":"'1.Портфель кредитів'!#REF!","v":{"$error":"#REF!"}},{"$f":"'1.Портфель кредитів'!#REF!","v":{"$error":"#REF!"}},{"$f":"'1.Портфель кредитів'!I327","v":0},{"$f":"'1.Портфель кредитів'!W327","v":0},{"$f":"'1.Портфель кредитів'!Y327","v":""},4,"2018-06-01","_4_43252_2"]
[{"$f":"'1.Портфель кредитів'!H328","v":0},{"$f":"'1.Портфель кредитів'!D328","v":""},{"$f":"'1.Портфель кредитів'!#REF!","v":{"$error":"#REF!"}},{"$f":"'1.Портфель кредитів'!#REF!","v":{"$error":"#REF!"}},{"$f":"'1.Портфель кредитів'!#REF!","v":{"$error":"#REF!"}},{"$f":"'1.Портфель кредитів'!I328","v":0},{"$f":"'1.Портфель кредитів'!W328","v":0},{"$f":"'1.Портфель кредитів'!Y328","v":""},4,"2018-06-01","_4_43252_2"]
[{"$f":"'1.Портфель кредитів'!H329","v":0},{"$f":"'1.Портфель кредитів'!D329","v":""},{"$f":"'1.Портфель кредитів'!#REF!","v":{"$error":"#REF!"}},{"$f":"'1.Портфель кредитів'!#REF!","v":{"$error":"#REF!"}},{"$f":"'1.Портфель кредитів'!#REF!","v":{"$error":"#REF!"}},{"$f":"'1.Портфель кредитів'!I329","v":0},{"$f":"'1.Портфель кредитів'!W329","v":0},{"$f":"'1.Портфель кредитів'!Y329","v":""},4,"2018-06-01","_4_43252_2"]
[{"$f":"'1.Портфель кредитів'!H330","v":0},{"$f":"'1.Портфель кредитів'!D330","v":""},{"$f":"'1.Портфель кредитів'!#REF!","v":{"$error":"#REF!"}},{"$f":"'1.Портфель кредитів'!#REF!","v":{"$error":"#REF!"}},{"$f":"'1.Портфель кредитів'!#REF!","v":{"$error":"#REF!"}},{"$f":"'1.Портфель кредитів'!I330","v":0},{"$f":"'1.Портфель кредитів'!W330","v":0},{"$f":"'1.Портфель кредитів'!Y330","v":""},4,"2018-06-01","_4_43252_2"]
[{"$f":"'1.Портфель кредитів'!H331","v":0},{"$f":"'1.Портфель кредитів'!D331","v":""},{"$f":"'1.Портфель кредитів'!#REF!","v":{"$error":"#REF!"}},{"$f":"'1.Портфель кредитів'!#REF!","v":{"$error":"#REF!"}},{"$f":"'1.Портфель кредитів'!#REF!","v":{"$error":"#REF!"}},{"$f":"'1.Портфель кредитів'!I331","v":0},{"$f":"'1.Портфель кредитів'!W331","v":0},{"$f":"'1.Портфель кредитів'!Y331","v":""},4,"2018-06-01","_4_43252_2"]
[{"$f":"'1.Портфель кредитів'!H332","v":0},{"$f":"'1.Портфель кредитів'!D332","v":""},{"$f":"'1.Портфель кредитів'!#REF!","v":{"$error":"#REF!"}},{"$f":"'1.Портфель кредитів'!#REF!","v":{"$error":"#REF!"}},{"$f":"'1.Портфель кредитів'!#REF!","v":{"$error":"#REF!"}},{"$f":"'1.Портфель кредитів'!I332","v":0},{"$f":"'1.Портфель кредитів'!W332","v":0},{"$f":"'1.Портфель кредитів'!Y332","v":""},4,"2018-06-01","_4_43252_2"]
[{"$f":"'1.Портфель кредитів'!H333","v":0},{"$f":"'1.Портфель кредитів'!D333","v":""},{"$f":"'1.Портфель кредитів'!#REF!","v":{"$error":"#REF!"}},{"$f":"'1.Портфель кредитів'!#REF!","v":{"$error":"#REF!"}},{"$f":"'1.Портфель кредитів'!#REF!","v":{"$error":"#REF!"}},{"$f":"'1.Портфель кредитів'!I333","v":0},{"$f":"'1.Портфель кредитів'!W333","v":0},{"$f":"'1.Портфель кредитів'!Y333","v":""},4,"2018-06-01","_4_43252_2"]
[{"$f":"'1.Портфель кредитів'!H334","v":0},{"$f":"'1.Портфель кредитів'!D334","v":""},{"$f":"'1.Портфель кредитів'!#REF!","v":{"$error":"#REF!"}},{"$f":"'1.Портфель кредитів'!#REF!","v":{"$error":"#REF!"}},{"$f":"'1.Портфель кредитів'!#REF!","v":{"$error":"#REF!"}},{"$f":"'1.Портфель кредитів'!I334","v":0},{"$f":"'1.Портфель кредитів'!W334","v":0},{"$f":"'1.Портфель кредитів'!Y334","v":""},4,"2018-06-01","_4_43252_2"]
[{"$f":"'1.Портфель кредитів'!H335","v":0},{"$f":"'1.Портфель кредитів'!D335","v":""},{"$f":"'1.Портфель кредитів'!#REF!","v":{"$error":"#REF!"}},{"$f":"'1.Портфель кредитів'!#REF!","v":{"$error":"#REF!"}},{"$f":"'1.Портфель кредитів'!#REF!","v":{"$error":"#REF!"}},{"$f":"'1.Портфель кредитів'!I335","v":0},{"$f":"'1.Портфель кредитів'!W335","v":0},{"$f":"'1.Портфель кредитів'!Y335","v":""},4,"2018-06-01","_4_43252_2"]
[{"$f":"'1.Портфель кредитів'!H336","v":0},{"$f":"'1.Портфель кредитів'!D336","v":""},{"$f":"'1.Портфель кредитів'!#REF!","v":{"$error":"#REF!"}},{"$f":"'1.Портфель кредитів'!#REF!","v":{"$error":"#REF!"}},{"$f":"'1.Портфель кредитів'!#REF!","v":{"$error":"#REF!"}},{"$f":"'1.Портфель кредитів'!I336","v":0},{"$f":"'1.Портфель кредитів'!W336","v":0},{"$f":"'1.Портфель кредитів'!Y336","v":""},4,"2018-06-01","_4_43252_2"]
[{"$f":"'1.Портфель кредитів'!H337","v":0},{"$f":"'1.Портфель кредитів'!D337","v":""},{"$f":"'1.Портфель кредитів'!#REF!","v":{"$error":"#REF!"}},{"$f":"'1.Портфель кредитів'!#REF!","v":{"$error":"#REF!"}},{"$f":"'1.Портфель кредитів'!#REF!","v":{"$error":"#REF!"}},{"$f":"'1.Портфель кредитів'!I337","v":0},{"$f":"'1.Портфель кредитів'!W337","v":0},{"$f":"'1.Портфель кредитів'!Y337","v":""},4,"2018-06-01","_4_43252_2"]
[{"$f":"'1.Портфель кредитів'!H338","v":0},{"$f":"'1.Портфель кредитів'!D338","v":""},{"$f":"'1.Портфель кредитів'!#REF!","v":{"$error":"#REF!"}},{"$f":"'1.Портфель кредитів'!#REF!","v":{"$error":"#REF!"}},{"$f":"'1.Портфель кредитів'!#REF!","v":{"$error":"#REF!"}},{"$f":"'1.Портфель кредитів'!I338","v":0},{"$f":"'1.Портфель кредитів'!W338","v":0},{"$f":"'1.Портфель кредитів'!Y338","v":""},4,"2018-06-01","_4_43252_2"]
[{"$f":"'1.Портфель кредитів'!H339","v":0},{"$f":"'1.Портфель кредитів'!D339","v":""},{"$f":"'1.Портфель кредитів'!#REF!","v":{"$error":"#REF!"}},{"$f":"'1.Портфель кредитів'!#REF!","v":{"$error":"#REF!"}},{"$f":"'1.Портфель кредитів'!#REF!","v":{"$error":"#REF!"}},{"$f":"'1.Портфель кредитів'!I339","v":0},{"$f":"'1.Портфель кредитів'!W339","v":0},{"$f":"'1.Портфель кредитів'!Y339","v":""},4,"2018-06-01","_4_43252_2"]
[{"$f":"'1.Портфель кредитів'!H340","v":0},{"$f":"'1.Портфель кредитів'!D340","v":""},{"$f":"'1.Портфель кредитів'!#REF!","v":{"$error":"#REF!"}},{"$f":"'1.Портфель кредитів'!#REF!","v":{"$error":"#REF!"}},{"$f":"'1.Портфель кредитів'!#REF!","v":{"$error":"#REF!"}},{"$f":"'1.Портфель кредитів'!I340","v":0},{"$f":"'1.Портфель кредитів'!W340","v":0},{"$f":"'1.Портфель кредитів'!Y340","v":""},4,"2018-06-01","_4_43252_2"]
[{"$f":"'1.Портфель кредитів'!H341","v":0},{"$f":"'1.Портфель кредитів'!D341","v":""},{"$f":"'1.Портфель кредитів'!#REF!","v":{"$error":"#REF!"}},{"$f":"'1.Портфель кредитів'!#REF!","v":{"$error":"#REF!"}},{"$f":"'1.Портфель кредитів'!#REF!","v":{"$error":"#REF!"}},{"$f":"'1.Портфель кредитів'!I341","v":0},{"$f":"'1.Портфель кредитів'!W341","v":0},{"$f":"'1.Портфель кредитів'!Y341","v":""},4,"2018-06-01","_4_43252_2"]
[{"$f":"'1.Портфель кредитів'!H342","v":0},{"$f":"'1.Портфель кредитів'!D342","v":""},{"$f":"'1.Портфель кредитів'!#REF!","v":{"$error":"#REF!"}},{"$f":"'1.Портфель кредитів'!#REF!","v":{"$error":"#REF!"}},{"$f":"'1.Портфель кредитів'!#REF!","v":{"$error":"#REF!"}},{"$f":"'1.Портфель кредитів'!I342","v":0},{"$f":"'1.Портфель кредитів'!W342","v":0},{"$f":"'1.Портфель кредитів'!Y342","v":""},4,"2018-06-01","_4_43252_2"]
[{"$f":"'1.Портфель кредитів'!H343","v":0},{"$f":"'1.Портфель кредитів'!D343","v":""},{"$f":"'1.Портфель кредитів'!#REF!","v":{"$error":"#REF!"}},{"$f":"'1.Портфель кредитів'!#REF!","v":{"$error":"#REF!"}},{"$f":"'1.Портфель кредитів'!#REF!","v":{"$error":"#REF!"}},{"$f":"'1.Портфель кредитів'!I343","v":0},{"$f":"'1.Портфель кредитів'!W343","v":0},{"$f":"'1.Портфель кредитів'!Y343","v":""},4,"2018-06-01","_4_43252_2"]
[{"$f":"'1.Портфель кредитів'!H344","v":0},{"$f":"'1.Портфель кредитів'!D344","v":""},{"$f":"'1.Портфель кредитів'!#REF!","v":{"$error":"#REF!"}},{"$f":"'1.Портфель кредитів'!#REF!","v":{"$error":"#REF!"}},{"$f":"'1.Портфель кредитів'!#REF!","v":{"$error":"#REF!"}},{"$f":"'1.Портфель кредитів'!I344","v":0},{"$f":"'1.Портфель кредитів'!W344","v":0},{"$f":"'1.Портфель кредитів'!Y344","v":""},4,"2018-06-01","_4_43252_2"]
[{"$f":"'1.Портфель кредитів'!H345","v":0},{"$f":"'1.Портфель кредитів'!D345","v":""},{"$f":"'1.Портфель кредитів'!#REF!","v":{"$error":"#REF!"}},{"$f":"'1.Портфель кредитів'!#REF!","v":{"$error":"#REF!"}},{"$f":"'1.Портфель кредитів'!#REF!","v":{"$error":"#REF!"}},{"$f":"'1.Портфель кредитів'!I345","v":0},{"$f":"'1.Портфель кредитів'!W345","v":0},{"$f":"'1.Портфель кредитів'!Y345","v":""},4,"2018-06-01","_4_43252_2"]
[{"$f":"'1.Портфель кредитів'!H346","v":0},{"$f":"'1.Портфель кредитів'!D346","v":""},{"$f":"'1.Портфель кредитів'!#REF!","v":{"$error":"#REF!"}},{"$f":"'1.Портфель кредитів'!#REF!","v":{"$error":"#REF!"}},{"$f":"'1.Портфель кредитів'!#REF!","v":{"$error":"#REF!"}},{"$f":"'1.Портфель кредитів'!I346","v":0},{"$f":"'1.Портфель кредитів'!W346","v":0},{"$f":"'1.Портфель кредитів'!Y346","v":""},4,"2018-06-01","_4_43252_2"]
[{"$f":"'1.Портфель кредитів'!H347","v":0},{"$f":"'1.Портфель кредитів'!D347","v":""},{"$f":"'1.Портфель кредитів'!#REF!","v":{"$error":"#REF!"}},{"$f":"'1.Портфель кредитів'!#REF!","v":{"$error":"#REF!"}},{"$f":"'1.Портфель кредитів'!#REF!","v":{"$error":"#REF!"}},{"$f":"'1.Портфель кредитів'!I347","v":0},{"$f":"'1.Портфель кредитів'!W347","v":0},{"$f":"'1.Портфель кредитів'!Y347","v":""},4,"2018-06-01","_4_43252_2"]
[{"$f":"'1.Портфель кредитів'!H348","v":0},{"$f":"'1.Портфель кредитів'!D348","v":""},{"$f":"'1.Портфель кредитів'!#REF!","v":{"$error":"#REF!"}},{"$f":"'1.Портфель кредитів'!#REF!","v":{"$error":"#REF!"}},{"$f":"'1.Портфель кредитів'!#REF!","v":{"$error":"#REF!"}},{"$f":"'1.Портфель кредитів'!I348","v":0},{"$f":"'1.Портфель кредитів'!W348","v":0},{"$f":"'1.Портфель кредитів'!Y348","v":""},4,"2018-06-01","_4_43252_2"]
[{"$f":"'1.Портфель кредитів'!H349","v":0},{"$f":"'1.Портфель кредитів'!D349","v":""},{"$f":"'1.Портфель кредитів'!#REF!","v":{"$error":"#REF!"}},{"$f":"'1.Портфель кредитів'!#REF!","v":{"$error":"#REF!"}},{"$f":"'1.Портфель кредитів'!#REF!","v":{"$error":"#REF!"}},{"$f":"'1.Портфель кредитів'!I349","v":0},{"$f":"'1.Портфель кредитів'!W349","v":0},{"$f":"'1.Портфель кредитів'!Y349","v":""},4,"2018-06-01","_4_43252_2"]
[{"$f":"'1.Портфель кредитів'!H350","v":0},{"$f":"'1.Портфель кредитів'!D350","v":""},{"$f":"'1.Портфель кредитів'!#REF!","v":{"$error":"#REF!"}},{"$f":"'1.Портфель кредитів'!#REF!","v":{"$error":"#REF!"}},{"$f":"'1.Портфель кредитів'!#REF!","v":{"$error":"#REF!"}},{"$f":"'1.Портфель кредитів'!I350","v":0},{"$f":"'1.Портфель кредитів'!W350","v":0},{"$f":"'1.Портфель кредитів'!Y350","v":""},4,"2018-06-01","_4_43252_2"]
[{"$f":"'1.Портфель кредитів'!H351","v":0},{"$f":"'1.Портфель кредитів'!D351","v":""},{"$f":"'1.Портфель кредитів'!#REF!","v":{"$error":"#REF!"}},{"$f":"'1.Портфель кредитів'!#REF!","v":{"$error":"#REF!"}},{"$f":"'1.Портфель кредитів'!#REF!","v":{"$error":"#REF!"}},{"$f":"'1.Портфель кредитів'!I351","v":0},{"$f":"'1.Портфель кредитів'!W351","v":0},{"$f":"'1.Портфель кредитів'!Y351","v":""},4,"2018-06-01","_4_43252_2"]
[{"$f":"'1.Портфель кредитів'!H352","v":0},{"$f":"'1.Портфель кредитів'!D352","v":""},{"$f":"'1.Портфель кредитів'!#REF!","v":{"$error":"#REF!"}},{"$f":"'1.Портфель кредитів'!#REF!","v":{"$error":"#REF!"}},{"$f":"'1.Портфель кредитів'!#REF!","v":{"$error":"#REF!"}},{"$f":"'1.Портфель кредитів'!I352","v":0},{"$f":"'1.Портфель кредитів'!W352","v":0},{"$f":"'1.Портфель кредитів'!Y352","v":""},4,"2018-06-01","_4_43252_2"]
[{"$f":"'1.Портфель кредитів'!H353","v":0},{"$f":"'1.Портфель кредитів'!D353","v":""},{"$f":"'1.Портфель кредитів'!#REF!","v":{"$error":"#REF!"}},{"$f":"'1.Портфель кредитів'!#REF!","v":{"$error":"#REF!"}},{"$f":"'1.Портфель кредитів'!#REF!","v":{"$error":"#REF!"}},{"$f":"'1.Портфель кредитів'!I353","v":0},{"$f":"'1.Портфель кредитів'!W353","v":0},{"$f":"'1.Портфель кредитів'!Y353","v":""},4,"2018-06-01","_4_43252_2"]
[{"$f":"'1.Портфель кредитів'!H354","v":0},{"$f":"'1.Портфель кредитів'!D354","v":""},{"$f":"'1.Портфель кредитів'!#REF!","v":{"$error":"#REF!"}},{"$f":"'1.Портфель кредитів'!#REF!","v":{"$error":"#REF!"}},{"$f":"'1.Портфель кредитів'!#REF!","v":{"$error":"#REF!"}},{"$f":"'1.Портфель кредитів'!I354","v":0},{"$f":"'1.Портфель кредитів'!W354","v":0},{"$f":"'1.Портфель кредитів'!Y354","v":""},4,"2018-06-01","_4_43252_2"]
[{"$f":"'1.Портфель кредитів'!H355","v":0},{"$f":"'1.Портфель кредитів'!D355","v":""},{"$f":"'1.Портфель кредитів'!#REF!","v":{"$error":"#REF!"}},{"$f":"'1.Портфель кредитів'!#REF!","v":{"$error":"#REF!"}},{"$f":"'1.Портфель кредитів'!#REF!","v":{"$error":"#REF!"}},{"$f":"'1.Портфель кредитів'!I355","v":0},{"$f":"'1.Портфель кредитів'!W355","v":0},{"$f":"'1.Портфель кредитів'!Y355","v":""},4,"2018-06-01","_4_43252_2"]
[{"$f":"'1.Портфель кредитів'!H356","v":0},{"$f":"'1.Портфель кредитів'!D356","v":""},{"$f":"'1.Портфель кредитів'!#REF!","v":{"$error":"#REF!"}},{"$f":"'1.Портфель кредитів'!#REF!","v":{"$error":"#REF!"}},{"$f":"'1.Портфель кредитів'!#REF!","v":{"$error":"#REF!"}},{"$f":"'1.Портфель кредитів'!I356","v":0},{"$f":"'1.Портфель кредитів'!W356","v":0},{"$f":"'1.Портфель кредитів'!Y356","v":""},4,"2018-06-01","_4_43252_2"]
[{"$f":"'1.Портфель кредитів'!H357","v":0},{"$f":"'1.Портфель кредитів'!D357","v":""},{"$f":"'1.Портфель кредитів'!#REF!","v":{"$error":"#REF!"}},{"$f":"'1.Портфель кредитів'!#REF!","v":{"$error":"#REF!"}},{"$f":"'1.Портфель кредитів'!#REF!","v":{"$error":"#REF!"}},{"$f":"'1.Портфель кредитів'!I357","v":0},{"$f":"'1.Портфель кредитів'!W357","v":0},{"$f":"'1.Портфель кредитів'!Y357","v":""},4,"2018-06-01","_4_43252_2"]
[{"$f":"'1.Портфель кредитів'!H358","v":0},{"$f":"'1.Портфель кредитів'!D358","v":""},{"$f":"'1.Портфель кредитів'!#REF!","v":{"$error":"#REF!"}},{"$f":"'1.Портфель кредитів'!#REF!","v":{"$error":"#REF!"}},{"$f":"'1.Портфель кредитів'!#REF!","v":{"$error":"#REF!"}},{"$f":"'1.Портфель кредитів'!I358","v":0},{"$f":"'1.Портфель кредитів'!W358","v":0},{"$f":"'1.Портфель кредитів'!Y358","v":""},4,"2018-06-01","_4_43252_2"]
[{"$f":"'1.Портфель кредитів'!H359","v":0},{"$f":"'1.Портфель кредитів'!D359","v":""},{"$f":"'1.Портфель кредитів'!#REF!","v":{"$error":"#REF!"}},{"$f":"'1.Портфель кредитів'!#REF!","v":{"$error":"#REF!"}},{"$f":"'1.Портфель кредитів'!#REF!","v":{"$error":"#REF!"}},{"$f":"'1.Портфель кредитів'!I359","v":0},{"$f":"'1.Портфель кредитів'!W359","v":0},{"$f":"'1.Портфель кредитів'!Y359","v":""},4,"2018-06-01","_4_43252_2"]
[{"$f":"'1.Портфель кредитів'!H360","v":0},{"$f":"'1.Портфель кредитів'!D360","v":""},{"$f":"'1.Портфель кредитів'!#REF!","v":{"$error":"#REF!"}},{"$f":"'1.Портфель кредитів'!#REF!","v":{"$error":"#REF!"}},{"$f":"'1.Портфель кредитів'!#REF!","v":{"$error":"#REF!"}},{"$f":"'1.Портфель кредитів'!I360","v":0},{"$f":"'1.Портфель кредитів'!W360","v":0},{"$f":"'1.Портфель кредитів'!Y360","v":""},4,"2018-06-01","_4_43252_2"]
[{"$f":"'1.Портфель кредитів'!H361","v":0},{"$f":"'1.Портфель кредитів'!D361","v":""},{"$f":"'1.Портфель кредитів'!#REF!","v":{"$error":"#REF!"}},{"$f":"'1.Портфель кредитів'!#REF!","v":{"$error":"#REF!"}},{"$f":"'1.Портфель кредитів'!#REF!","v":{"$error":"#REF!"}},{"$f":"'1.Портфель кредитів'!I361","v":0},{"$f":"'1.Портфель кредитів'!W361","v":0},{"$f":"'1.Портфель кредитів'!Y361","v":""},4,"2018-06-01","_4_43252_2"]
[{"$f":"'1.Портфель кредитів'!H362","v":0},{"$f":"'1.Портфель кредитів'!D362","v":""},{"$f":"'1.Портфель кредитів'!#REF!","v":{"$error":"#REF!"}},{"$f":"'1.Портфель кредитів'!#REF!","v":{"$error":"#REF!"}},{"$f":"'1.Портфель кредитів'!#REF!","v":{"$error":"#REF!"}},{"$f":"'1.Портфель кредитів'!I362","v":0},{"$f":"'1.Портфель кредитів'!W362","v":0},{"$f":"'1.Портфель кредитів'!Y362","v":""},4,"2018-06-01","_4_43252_2"]
[{"$f":"'1.Портфель кредитів'!H363","v":0},{"$f":"'1.Портфель кредитів'!D363","v":""},{"$f":"'1.Портфель кредитів'!#REF!","v":{"$error":"#REF!"}},{"$f":"'1.Портфель кредитів'!#REF!","v":{"$error":"#REF!"}},{"$f":"'1.Портфель кредитів'!#REF!","v":{"$error":"#REF!"}},{"$f":"'1.Портфель кредитів'!I363","v":0},{"$f":"'1.Портфель кредитів'!W363","v":0},{"$f":"'1.Портфель кредитів'!Y363","v":""},4,"2018-06-01","_4_43252_2"]
[{"$f":"'1.Портфель кредитів'!H364","v":0},{"$f":"'1.Портфель кредитів'!D364","v":""},{"$f":"'1.Портфель кредитів'!#REF!","v":{"$error":"#REF!"}},{"$f":"'1.Портфель кредитів'!#REF!","v":{"$error":"#REF!"}},{"$f":"'1.Портфель кредитів'!#REF!","v":{"$error":"#REF!"}},{"$f":"'1.Портфель кредитів'!I364","v":0},{"$f":"'1.Портфель кредитів'!W364","v":0},{"$f":"'1.Портфель кредитів'!Y364","v":""},4,"2018-06-01","_4_43252_2"]
[{"$f":"'1.Портфель кредитів'!H365","v":0},{"$f":"'1.Портфель кредитів'!D365","v":""},{"$f":"'1.Портфель кредитів'!#REF!","v":{"$error":"#REF!"}},{"$f":"'1.Портфель кредитів'!#REF!","v":{"$error":"#REF!"}},{"$f":"'1.Портфель кредитів'!#REF!","v":{"$error":"#REF!"}},{"$f":"'1.Портфель кредитів'!I365","v":0},{"$f":"'1.Портфель кредитів'!W365","v":0},{"$f":"'1.Портфель кредитів'!Y365","v":""},{"$f":"$E$1","v":4},{"$f":"$E$2","v":"2018-06-01"},{"$f":"B390&\"_\"&I390&\"_\"&J390&\"_\"&$E$3","v":"_4_43252_2"}]
[{"$f":"'1.Портфель кредитів'!H366","v":0},{"$f":"'1.Портфель кредитів'!D366","v":""},{"$f":"'1.Портфель кредитів'!#REF!","v":{"$error":"#REF!"}},{"$f":"'1.Портфель кредитів'!#REF!","v":{"$error":"#REF!"}},{"$f":"'1.Портфель кредитів'!#REF!","v":{"$error":"#REF!"}},{"$f":"'1.Портфель кредитів'!I366","v":0},{"$f":"'1.Портфель кредитів'!W366","v":0},{"$f":"'1.Портфель кредитів'!Y366","v":""},4,"2018-06-01","_4_43252_2"]
[{"$f":"'1.Портфель кредитів'!H367","v":0},{"$f":"'1.Портфель кредитів'!D367","v":""},{"$f":"'1.Портфель кредитів'!#REF!","v":{"$error":"#REF!"}},{"$f":"'1.Портфель кредитів'!#REF!","v":{"$error":"#REF!"}},{"$f":"'1.Портфель кредитів'!#REF!","v":{"$error":"#REF!"}},{"$f":"'1.Портфель кредитів'!I367","v":0},{"$f":"'1.Портфель кредитів'!W367","v":0},{"$f":"'1.Портфель кредитів'!Y367","v":""},4,"2018-06-01","_4_43252_2"]
[{"$f":"'1.Портфель кредитів'!H368","v":0},{"$f":"'1.Портфель кредитів'!D368","v":""},{"$f":"'1.Портфель кредитів'!#REF!","v":{"$error":"#REF!"}},{"$f":"'1.Портфель кредитів'!#REF!","v":{"$error":"#REF!"}},{"$f":"'1.Портфель кредитів'!#REF!","v":{"$error":"#REF!"}},{"$f":"'1.Портфель кредитів'!I368","v":0},{"$f":"'1.Портфель кредитів'!W368","v":0},{"$f":"'1.Портфель кредитів'!Y368","v":""},4,"2018-06-01","_4_43252_2"]
[{"$f":"'1.Портфель кредитів'!H369","v":0},{"$f":"'1.Портфель кредитів'!D369","v":""},{"$f":"'1.Портфель кредитів'!#REF!","v":{"$error":"#REF!"}},{"$f":"'1.Портфель кредитів'!#REF!","v":{"$error":"#REF!"}},{"$f":"'1.Портфель кредитів'!#REF!","v":{"$error":"#REF!"}},{"$f":"'1.Портфель кредитів'!I369","v":0},{"$f":"'1.Портфель кредитів'!W369","v":0},{"$f":"'1.Портфель кредитів'!Y369","v":""},4,"2018-06-01","_4_43252_2"]
[{"$f":"'1.Портфель кредитів'!H370","v":0},{"$f":"'1.Портфель кредитів'!D370","v":""},{"$f":"'1.Портфель кредитів'!#REF!","v":{"$error":"#REF!"}},{"$f":"'1.Портфель кредитів'!#REF!","v":{"$error":"#REF!"}},{"$f":"'1.Портфель кредитів'!#REF!","v":{"$error":"#REF!"}},{"$f":"'1.Портфель кредитів'!I370","v":0},{"$f":"'1.Портфель кредитів'!W370","v":0},{"$f":"'1.Портфель кредитів'!Y370","v":""},4,"2018-06-01","_4_43252_2"]
[{"$f":"'1.Портфель кредитів'!H371","v":0},{"$f":"'1.Портфель кредитів'!D371","v":""},{"$f":"'1.Портфель кредитів'!#REF!","v":{"$error":"#REF!"}},{"$f":"'1.Портфель кредитів'!#REF!","v":{"$error":"#REF!"}},{"$f":"'1.Портфель кредитів'!#REF!","v":{"$error":"#REF!"}},{"$f":"'1.Портфель кредитів'!I371","v":0},{"$f":"'1.Портфель кредитів'!W371","v":0},{"$f":"'1.Портфель кредитів'!Y371","v":""},4,"2018-06-01","_4_43252_2"]
[{"$f":"'1.Портфель кредитів'!H372","v":0},{"$f":"'1.Портфель кредитів'!D372","v":""},{"$f":"'1.Портфель кредитів'!#REF!","v":{"$error":"#REF!"}},{"$f":"'1.Портфель кредитів'!#REF!","v":{"$error":"#REF!"}},{"$f":"'1.Портфель кредитів'!#REF!","v":{"$error":"#REF!"}},{"$f":"'1.Портфель кредитів'!I372","v":0},{"$f":"'1.Портфель кредитів'!W372","v":0},{"$f":"'1.Портфель кредитів'!Y372","v":""},4,"2018-06-01","_4_43252_2"]
[{"$f":"'1.Портфель кредитів'!H373","v":0},{"$f":"'1.Портфель кредитів'!D373","v":""},{"$f":"'1.Портфель кредитів'!#REF!","v":{"$error":"#REF!"}},{"$f":"'1.Портфель кредитів'!#REF!","v":{"$error":"#REF!"}},{"$f":"'1.Портфель кредитів'!#REF!","v":{"$error":"#REF!"}},{"$f":"'1.Портфель кредитів'!I373","v":0},{"$f":"'1.Портфель кредитів'!W373","v":0},{"$f":"'1.Портфель кредитів'!Y373","v":""},4,"2018-06-01","_4_43252_2"]
[{"$f":"'1.Портфель кредитів'!H374","v":0},{"$f":"'1.Портфель кредитів'!D374","v":""},{"$f":"'1.Портфель кредитів'!#REF!","v":{"$error":"#REF!"}},{"$f":"'1.Портфель кредитів'!#REF!","v":{"$error":"#REF!"}},{"$f":"'1.Портфель кредитів'!#REF!","v":{"$error":"#REF!"}},{"$f":"'1.Портфель кредитів'!I374","v":0},{"$f":"'1.Портфель кредитів'!W374","v":0},{"$f":"'1.Портфель кредитів'!Y374","v":""},4,"2018-06-01","_4_43252_2"]
[{"$f":"'1.Портфель кредитів'!H375","v":0},{"$f":"'1.Портфель кредитів'!D375","v":""},{"$f":"'1.Портфель кредитів'!#REF!","v":{"$error":"#REF!"}},{"$f":"'1.Портфель кредитів'!#REF!","v":{"$error":"#REF!"}},{"$f":"'1.Портфель кредитів'!#REF!","v":{"$error":"#REF!"}},{"$f":"'1.Портфель кредитів'!I375","v":0},{"$f":"'1.Портфель кредитів'!W375","v":0},{"$f":"'1.Портфель кредитів'!Y375","v":""},4,"2018-06-01","_4_43252_2"]
[{"$f":"'1.Портфель кредитів'!H376","v":0},{"$f":"'1.Портфель кредитів'!D376","v":""},{"$f":"'1.Портфель кредитів'!#REF!","v":{"$error":"#REF!"}},{"$f":"'1.Портфель кредитів'!#REF!","v":{"$error":"#REF!"}},{"$f":"'1.Портфель кредитів'!#REF!","v":{"$error":"#REF!"}},{"$f":"'1.Портфель кредитів'!I376","v":0},{"$f":"'1.Портфель кредитів'!W376","v":0},{"$f":"'1.Портфель кредитів'!Y376","v":""},4,"2018-06-01","_4_43252_2"]
[{"$f":"'1.Портфель кредитів'!H377","v":0},{"$f":"'1.Портфель кредитів'!D377","v":""},{"$f":"'1.Портфель кредитів'!#REF!","v":{"$error":"#REF!"}},{"$f":"'1.Портфель кредитів'!#REF!","v":{"$error":"#REF!"}},{"$f":"'1.Портфель кредитів'!#REF!","v":{"$error":"#REF!"}},{"$f":"'1.Портфель кредитів'!I377","v":0},{"$f":"'1.Портфель кредитів'!W377","v":0},{"$f":"'1.Портфель кредитів'!Y377","v":""},4,"2018-06-01","_4_43252_2"]
[{"$f":"'1.Портфель кредитів'!H378","v":0},{"$f":"'1.Портфель кредитів'!D378","v":""},{"$f":"'1.Портфель кредитів'!#REF!","v":{"$error":"#REF!"}},{"$f":"'1.Портфель кредитів'!#REF!","v":{"$error":"#REF!"}},{"$f":"'1.Портфель кредитів'!#REF!","v":{"$error":"#REF!"}},{"$f":"'1.Портфель кредитів'!I378","v":0},{"$f":"'1.Портфель кредитів'!W378","v":0},{"$f":"'1.Портфель кредитів'!Y378","v":""},4,"2018-06-01","_4_43252_2"]
[{"$f":"'1.Портфель кредитів'!H379","v":0},{"$f":"'1.Портфель кредитів'!D379","v":""},{"$f":"'1.Портфель кредитів'!#REF!","v":{"$error":"#REF!"}},{"$f":"'1.Портфель кредитів'!#REF!","v":{"$error":"#REF!"}},{"$f":"'1.Портфель кредитів'!#REF!","v":{"$error":"#REF!"}},{"$f":"'1.Портфель кредитів'!I379","v":0},{"$f":"'1.Портфель кредитів'!W379","v":0},{"$f":"'1.Портфель кредитів'!Y379","v":""},4,"2018-06-01","_4_43252_2"]
[{"$f":"'1.Портфель кредитів'!H380","v":0},{"$f":"'1.Портфель кредитів'!D380","v":""},{"$f":"'1.Портфель кредитів'!#REF!","v":{"$error":"#REF!"}},{"$f":"'1.Портфель кредитів'!#REF!","v":{"$error":"#REF!"}},{"$f":"'1.Портфель кредитів'!#REF!","v":{"$error":"#REF!"}},{"$f":"'1.Портфель кредитів'!I380","v":0},{"$f":"'1.Портфель кредитів'!W380","v":0},{"$f":"'1.Портфель кредитів'!Y380","v":""},4,"2018-06-01","_4_43252_2"]
[{"$f":"'1.Портфель кредитів'!H381","v":0},{"$f":"'1.Портфель кредитів'!D381","v":""},{"$f":"'1.Портфель кредитів'!#REF!","v":{"$error":"#REF!"}},{"$f":"'1.Портфель кредитів'!#REF!","v":{"$error":"#REF!"}},{"$f":"'1.Портфель кредитів'!#REF!","v":{"$error":"#REF!"}},{"$f":"'1.Портфель кредитів'!I381","v":0},{"$f":"'1.Портфель кредитів'!W381","v":0},{"$f":"'1.Портфель кредитів'!Y381","v":""},4,"2018-06-01","_4_43252_2"]
[{"$f":"'1.Портфель кредитів'!H382","v":0},{"$f":"'1.Портфель кредитів'!D382","v":""},{"$f":"'1.Портфель кредитів'!#REF!","v":{"$error":"#REF!"}},{"$f":"'1.Портфель кредитів'!#REF!","v":{"$error":"#REF!"}},{"$f":"'1.Портфель кредитів'!#REF!","v":{"$error":"#REF!"}},{"$f":"'1.Портфель кредитів'!I382","v":0},{"$f":"'1.Портфель кредитів'!W382","v":0},{"$f":"'1.Портфель кредитів'!Y382","v":""},4,"2018-06-01","_4_43252_2"]
[{"$f":"'1.Портфель кредитів'!H383","v":0},{"$f":"'1.Портфель кредитів'!D383","v":""},{"$f":"'1.Портфель кредитів'!#REF!","v":{"$error":"#REF!"}},{"$f":"'1.Портфель кредитів'!#REF!","v":{"$error":"#REF!"}},{"$f":"'1.Портфель кредитів'!#REF!","v":{"$error":"#REF!"}},{"$f":"'1.Портфель кредитів'!I383","v":0},{"$f":"'1.Портфель кредитів'!W383","v":0},{"$f":"'1.Портфель кредитів'!Y383","v":""},4,"2018-06-01","_4_43252_2"]
[{"$f":"'1.Портфель кредитів'!H384","v":0},{"$f":"'1.Портфель кредитів'!D384","v":""},{"$f":"'1.Портфель кредитів'!#REF!","v":{"$error":"#REF!"}},{"$f":"'1.Портфель кредитів'!#REF!","v":{"$error":"#REF!"}},{"$f":"'1.Портфель кредитів'!#REF!","v":{"$error":"#REF!"}},{"$f":"'1.Портфель кредитів'!I384","v":0},{"$f":"'1.Портфель кредитів'!W384","v":0},{"$f":"'1.Портфель кредитів'!Y384","v":""},4,"2018-06-01","_4_43252_2"]
[{"$f":"'1.Портфель кредитів'!H385","v":0},{"$f":"'1.Портфель кредитів'!D385","v":""},{"$f":"'1.Портфель кредитів'!#REF!","v":{"$error":"#REF!"}},{"$f":"'1.Портфель кредитів'!#REF!","v":{"$error":"#REF!"}},{"$f":"'1.Портфель кредитів'!#REF!","v":{"$error":"#REF!"}},{"$f":"'1.Портфель кредитів'!I385","v":0},{"$f":"'1.Портфель кредитів'!W385","v":0},{"$f":"'1.Портфель кредитів'!Y385","v":""},4,"2018-06-01","_4_43252_2"]
[{"$f":"'1.Портфель кредитів'!H386","v":0},{"$f":"'1.Портфель кредитів'!D386","v":""},{"$f":"'1.Портфель кредитів'!#REF!","v":{"$error":"#REF!"}},{"$f":"'1.Портфель кредитів'!#REF!","v":{"$error":"#REF!"}},{"$f":"'1.Портфель кредитів'!#REF!","v":{"$error":"#REF!"}},{"$f":"'1.Портфель кредитів'!I386","v":0},{"$f":"'1.Портфель кредитів'!W386","v":0},{"$f":"'1.Портфель кредитів'!Y386","v":""},4,"2018-06-01","_4_43252_2"]
[{"$f":"'1.Портфель кредитів'!H387","v":0},{"$f":"'1.Портфель кредитів'!D387","v":""},{"$f":"'1.Портфель кредитів'!#REF!","v":{"$error":"#REF!"}},{"$f":"'1.Портфель кредитів'!#REF!","v":{"$error":"#REF!"}},{"$f":"'1.Портфель кредитів'!#REF!","v":{"$error":"#REF!"}},{"$f":"'1.Портфель кредитів'!I387","v":0},{"$f":"'1.Портфель кредитів'!W387","v":0},{"$f":"'1.Портфель кредитів'!Y387","v":""},4,"2018-06-01","_4_43252_2"]
[{"$f":"'1.Портфель кредитів'!H388","v":0},{"$f":"'1.Портфель кредитів'!D388","v":""},{"$f":"'1.Портфель кредитів'!#REF!","v":{"$error":"#REF!"}},{"$f":"'1.Портфель кредитів'!#REF!","v":{"$error":"#REF!"}},{"$f":"'1.Портфель кредитів'!#REF!","v":{"$error":"#REF!"}},{"$f":"'1.Портфель кредитів'!I388","v":0},{"$f":"'1.Портфель кредитів'!W388","v":0},{"$f":"'1.Портфель кредитів'!Y388","v":""},4,"2018-06-01","_4_43252_2"]
[{"$f":"'1.Портфель кредитів'!H389","v":0},{"$f":"'1.Портфель кредитів'!D389","v":""},{"$f":"'1.Портфель кредитів'!#REF!","v":{"$error":"#REF!"}},{"$f":"'1.Портфель кредитів'!#REF!","v":{"$error":"#REF!"}},{"$f":"'1.Портфель кредитів'!#REF!","v":{"$error":"#REF!"}},{"$f":"'1.Портфель кредитів'!I389","v":0},{"$f":"'1.Портфель кредитів'!W389","v":0},{"$f":"'1.Портфель кредитів'!Y389","v":""},4,"2018-06-01","_4_43252_2"]
[{"$f":"'1.Портфель кредитів'!H390","v":0},{"$f":"'1.Портфель кредитів'!D390","v":""},{"$f":"'1.Портфель кредитів'!#REF!","v":{"$error":"#REF!"}},{"$f":"'1.Портфель кредитів'!#REF!","v":{"$error":"#REF!"}},{"$f":"'1.Портфель кредитів'!#REF!","v":{"$error":"#REF!"}},{"$f":"'1.Портфель кредитів'!I390","v":0},{"$f":"'1.Портфель кредитів'!W390","v":0},{"$f":"'1.Портфель кредитів'!Y390","v":""},4,"2018-06-01","_4_43252_2"]
[{"$f":"'1.Портфель кредитів'!H391","v":0},{"$f":"'1.Портфель кредитів'!D391","v":""},{"$f":"'1.Портфель кредитів'!#REF!","v":{"$error":"#REF!"}},{"$f":"'1.Портфель кредитів'!#REF!","v":{"$error":"#REF!"}},{"$f":"'1.Портфель кредитів'!#REF!","v":{"$error":"#REF!"}},{"$f":"'1.Портфель кредитів'!I391","v":0},{"$f":"'1.Портфель кредитів'!W391","v":0},{"$f":"'1.Портфель кредитів'!Y391","v":""},4,"2018-06-01","_4_43252_2"]
[{"$f":"'1.Портфель кредитів'!H392","v":0},{"$f":"'1.Портфель кредитів'!D392","v":""},{"$f":"'1.Портфель кредитів'!#REF!","v":{"$error":"#REF!"}},{"$f":"'1.Портфель кредитів'!#REF!","v":{"$error":"#REF!"}},{"$f":"'1.Портфель кредитів'!#REF!","v":{"$error":"#REF!"}},{"$f":"'1.Портфель кредитів'!I392","v":0},{"$f":"'1.Портфель кредитів'!W392","v":0},{"$f":"'1.Портфель кредитів'!Y392","v":""},4,"2018-06-01","_4_43252_2"]
[{"$f":"'1.Портфель кредитів'!H393","v":0},{"$f":"'1.Портфель кредитів'!D393","v":""},{"$f":"'1.Портфель кредитів'!#REF!","v":{"$error":"#REF!"}},{"$f":"'1.Портфель кредитів'!#REF!","v":{"$error":"#REF!"}},{"$f":"'1.Портфель кредитів'!#REF!","v":{"$error":"#REF!"}},{"$f":"'1.Портфель кредитів'!I393","v":0},{"$f":"'1.Портфель кредитів'!W393","v":0},{"$f":"'1.Портфель кредитів'!Y393","v":""},4,"2018-06-01","_4_43252_2"]
[{"$f":"'1.Портфель кредитів'!H394","v":0},{"$f":"'1.Портфель кредитів'!D394","v":""},{"$f":"'1.Портфель кредитів'!#REF!","v":{"$error":"#REF!"}},{"$f":"'1.Портфель кредитів'!#REF!","v":{"$error":"#REF!"}},{"$f":"'1.Портфель кредитів'!#REF!","v":{"$error":"#REF!"}},{"$f":"'1.Портфель кредитів'!I394","v":0},{"$f":"'1.Портфель кредитів'!W394","v":0},{"$f":"'1.Портфель кредитів'!Y394","v":""},4,"2018-06-01","_4_43252_2"]
[{"$f":"'1.Портфель кредитів'!H395","v":0},{"$f":"'1.Портфель кредитів'!D395","v":""},{"$f":"'1.Портфель кредитів'!#REF!","v":{"$error":"#REF!"}},{"$f":"'1.Портфель кредитів'!#REF!","v":{"$error":"#REF!"}},{"$f":"'1.Портфель кредитів'!#REF!","v":{"$error":"#REF!"}},{"$f":"'1.Портфель кредитів'!I395","v":0},{"$f":"'1.Портфель кредитів'!W395","v":0},{"$f":"'1.Портфель кредитів'!Y395","v":""},4,"2018-06-01","_4_43252_2"]
[{"$f":"'1.Портфель кредитів'!H396","v":0},{"$f":"'1.Портфель кредитів'!D396","v":""},{"$f":"'1.Портфель кредитів'!#REF!","v":{"$error":"#REF!"}},{"$f":"'1.Портфель кредитів'!#REF!","v":{"$error":"#REF!"}},{"$f":"'1.Портфель кредитів'!#REF!","v":{"$error":"#REF!"}},{"$f":"'1.Портфель кредитів'!I396","v":0},{"$f":"'1.Портфель кредитів'!W396","v":0},{"$f":"'1.Портфель кредитів'!Y396","v":""},4,"2018-06-01","_4_43252_2"]
[{"$f":"'1.Портфель кредитів'!H397","v":0},{"$f":"'1.Портфель кредитів'!D397","v":""},{"$f":"'1.Портфель кредитів'!#REF!","v":{"$error":"#REF!"}},{"$f":"'1.Портфель кредитів'!#REF!","v":{"$error":"#REF!"}},{"$f":"'1.Портфель кредитів'!#REF!","v":{"$error":"#REF!"}},{"$f":"'1.Портфель кредитів'!I397","v":0},{"$f":"'1.Портфель кредитів'!W397","v":0},{"$f":"'1.Портфель кредитів'!Y397","v":""},4,"2018-06-01","_4_43252_2"]
[{"$f":"'1.Портфель кредитів'!H398","v":0},{"$f":"'1.Портфель кредитів'!D398","v":""},{"$f":"'1.Портфель кредитів'!#REF!","v":{"$error":"#REF!"}},{"$f":"'1.Портфель кредитів'!#REF!","v":{"$error":"#REF!"}},{"$f":"'1.Портфель кредитів'!#REF!","v":{"$error":"#REF!"}},{"$f":"'1.Портфель кредитів'!I398","v":0},{"$f":"'1.Портфель кредитів'!W398","v":0},{"$f":"'1.Портфель кредитів'!Y398","v":""},4,"2018-06-01","_4_43252_2"]
[{"$f":"'1.Портфель кредитів'!H399","v":0},{"$f":"'1.Портфель кредитів'!D399","v":""},{"$f":"'1.Портфель кредитів'!#REF!","v":{"$error":"#REF!"}},{"$f":"'1.Портфель кредитів'!#REF!","v":{"$error":"#REF!"}},{"$f":"'1.Портфель кредитів'!#REF!","v":{"$error":"#REF!"}},{"$f":"'1.Портфель кредитів'!I399","v":0},{"$f":"'1.Портфель кредитів'!W399","v":0},{"$f":"'1.Портфель кредитів'!Y399","v":""},4,"2018-06-01","_4_43252_2"]
[{"$f":"'1.Портфель кредитів'!H400","v":0},{"$f":"'1.Портфель кредитів'!D400","v":""},{"$f":"'1.Портфель кредитів'!#REF!","v":{"$error":"#REF!"}},{"$f":"'1.Портфель кредитів'!#REF!","v":{"$error":"#REF!"}},{"$f":"'1.Портфель кредитів'!#REF!","v":{"$error":"#REF!"}},{"$f":"'1.Портфель кредитів'!I400","v":0},{"$f":"'1.Портфель кредитів'!W400","v":0},{"$f":"'1.Портфель кредитів'!Y400","v":""},4,"2018-06-01","_4_43252_2"]
[{"$f":"'1.Портфель кредитів'!H401","v":0},{"$f":"'1.Портфель кредитів'!D401","v":""},{"$f":"'1.Портфель кредитів'!#REF!","v":{"$error":"#REF!"}},{"$f":"'1.Портфель кредитів'!#REF!","v":{"$error":"#REF!"}},{"$f":"'1.Портфель кредитів'!#REF!","v":{"$error":"#REF!"}},{"$f":"'1.Портфель кредитів'!I401","v":0},{"$f":"'1.Портфель кредитів'!W401","v":0},{"$f":"'1.Портфель кредитів'!Y401","v":""},4,"2018-06-01","_4_43252_2"]
[{"$f":"'1.Портфель кредитів'!H402","v":0},{"$f":"'1.Портфель кредитів'!D402","v":""},{"$f":"'1.Портфель кредитів'!#REF!","v":{"$error":"#REF!"}},{"$f":"'1.Портфель кредитів'!#REF!","v":{"$error":"#REF!"}},{"$f":"'1.Портфель кредитів'!#REF!","v":{"$error":"#REF!"}},{"$f":"'1.Портфель кредитів'!I402","v":0},{"$f":"'1.Портфель кредитів'!W402","v":0},{"$f":"'1.Портфель кредитів'!Y402","v":""},4,"2018-06-01","_4_43252_2"]
[{"$f":"'1.Портфель кредитів'!H403","v":0},{"$f":"'1.Портфель кредитів'!D403","v":""},{"$f":"'1.Портфель кредитів'!#REF!","v":{"$error":"#REF!"}},{"$f":"'1.Портфель кредитів'!#REF!","v":{"$error":"#REF!"}},{"$f":"'1.Портфель кредитів'!#REF!","v":{"$error":"#REF!"}},{"$f":"'1.Портфель кредитів'!I403","v":0},{"$f":"'1.Портфель кредитів'!W403","v":0},{"$f":"'1.Портфель кредитів'!Y403","v":""},4,"2018-06-01","_4_43252_2"]
[{"$f":"'1.Портфель кредитів'!H404","v":0},{"$f":"'1.Портфель кредитів'!D404","v":""},{"$f":"'1.Портфель кредитів'!#REF!","v":{"$error":"#REF!"}},{"$f":"'1.Портфель кредитів'!#REF!","v":{"$error":"#REF!"}},{"$f":"'1.Портфель кредитів'!#REF!","v":{"$error":"#REF!"}},{"$f":"'1.Портфель кредитів'!I404","v":0},{"$f":"'1.Портфель кредитів'!W404","v":0},{"$f":"'1.Портфель кредитів'!Y404","v":""},4,"2018-06-01","_4_43252_2"]
[{"$f":"'1.Портфель кредитів'!H405","v":0},{"$f":"'1.Портфель кредитів'!D405","v":""},{"$f":"'1.Портфель кредитів'!#REF!","v":{"$error":"#REF!"}},{"$f":"'1.Портфель кредитів'!#REF!","v":{"$error":"#REF!"}},{"$f":"'1.Портфель кредитів'!#REF!","v":{"$error":"#REF!"}},{"$f":"'1.Портфель кредитів'!I405","v":0},{"$f":"'1.Портфель кредитів'!W405","v":0},{"$f":"'1.Портфель кредитів'!Y405","v":""},4,"2018-06-01","_4_43252_2"]
[{"$f":"'1.Портфель кредитів'!H406","v":0},{"$f":"'1.Портфель кредитів'!D406","v":""},{"$f":"'1.Портфель кредитів'!#REF!","v":{"$error":"#REF!"}},{"$f":"'1.Портфель кредитів'!#REF!","v":{"$error":"#REF!"}},{"$f":"'1.Портфель кредитів'!#REF!","v":{"$error":"#REF!"}},{"$f":"'1.Портфель кредитів'!I406","v":0},{"$f":"'1.Портфель кредитів'!W406","v":0},{"$f":"'1.Портфель кредитів'!Y406","v":""},4,"2018-06-01","_4_43252_2"]
[{"$f":"'1.Портфель кредитів'!H407","v":0},{"$f":"'1.Портфель кредитів'!D407","v":""},{"$f":"'1.Портфель кредитів'!#REF!","v":{"$error":"#REF!"}},{"$f":"'1.Портфель кредитів'!#REF!","v":{"$error":"#REF!"}},{"$f":"'1.Портфель кредитів'!#REF!","v":{"$error":"#REF!"}},{"$f":"'1.Портфель кредитів'!I407","v":0},{"$f":"'1.Портфель кредитів'!W407","v":0},{"$f":"'1.Портфель кредитів'!Y407","v":""},4,"2018-06-01","_4_43252_2"]
[{"$f":"'1.Портфель кредитів'!H408","v":0},{"$f":"'1.Портфель кредитів'!D408","v":""},{"$f":"'1.Портфель кредитів'!#REF!","v":{"$error":"#REF!"}},{"$f":"'1.Портфель кредитів'!#REF!","v":{"$error":"#REF!"}},{"$f":"'1.Портфель кредитів'!#REF!","v":{"$error":"#REF!"}},{"$f":"'1.Портфель кредитів'!I408","v":0},{"$f":"'1.Портфель кредитів'!W408","v":0},{"$f":"'1.Портфель кредитів'!Y408","v":""},4,"2018-06-01","_4_43252_2"]
[{"$f":"'1.Портфель кредитів'!H409","v":0},{"$f":"'1.Портфель кредитів'!D409","v":""},{"$f":"'1.Портфель кредитів'!#REF!","v":{"$error":"#REF!"}},{"$f":"'1.Портфель кредитів'!#REF!","v":{"$error":"#REF!"}},{"$f":"'1.Портфель кредитів'!#REF!","v":{"$error":"#REF!"}},{"$f":"'1.Портфель кредитів'!I409","v":0},{"$f":"'1.Портфель кредитів'!W409","v":0},{"$f":"'1.Портфель кредитів'!Y409","v":""},4,"2018-06-01","_4_43252_2"]
[{"$f":"'1.Портфель кредитів'!H410","v":0},{"$f":"'1.Портфель кредитів'!D410","v":""},{"$f":"'1.Портфель кредитів'!#REF!","v":{"$error":"#REF!"}},{"$f":"'1.Портфель кредитів'!#REF!","v":{"$error":"#REF!"}},{"$f":"'1.Портфель кредитів'!#REF!","v":{"$error":"#REF!"}},{"$f":"'1.Портфель кредитів'!I410","v":0},{"$f":"'1.Портфель кредитів'!W410","v":0},{"$f":"'1.Портфель кредитів'!Y410","v":""},4,"2018-06-01","_4_43252_2"]
[{"$f":"'1.Портфель кредитів'!H411","v":0},{"$f":"'1.Портфель кредитів'!D411","v":""},{"$f":"'1.Портфель кредитів'!#REF!","v":{"$error":"#REF!"}},{"$f":"'1.Портфель кредитів'!#REF!","v":{"$error":"#REF!"}},{"$f":"'1.Портфель кредитів'!#REF!","v":{"$error":"#REF!"}},{"$f":"'1.Портфель кредитів'!I411","v":0},{"$f":"'1.Портфель кредитів'!W411","v":0},{"$f":"'1.Портфель кредитів'!Y411","v":""},4,"2018-06-01","_4_43252_2"]
[{"$f":"'1.Портфель кредитів'!H412","v":0},{"$f":"'1.Портфель кредитів'!D412","v":""},{"$f":"'1.Портфель кредитів'!#REF!","v":{"$error":"#REF!"}},{"$f":"'1.Портфель кредитів'!#REF!","v":{"$error":"#REF!"}},{"$f":"'1.Портфель кредитів'!#REF!","v":{"$error":"#REF!"}},{"$f":"'1.Портфель кредитів'!I412","v":0},{"$f":"'1.Портфель кредитів'!W412","v":0},{"$f":"'1.Портфель кредитів'!Y412","v":""},4,"2018-06-01","_4_43252_2"]
[{"$f":"'1.Портфель кредитів'!H413","v":0},{"$f":"'1.Портфель кредитів'!D413","v":""},{"$f":"'1.Портфель кредитів'!#REF!","v":{"$error":"#REF!"}},{"$f":"'1.Портфель кредитів'!#REF!","v":{"$error":"#REF!"}},{"$f":"'1.Портфель кредитів'!#REF!","v":{"$error":"#REF!"}},{"$f":"'1.Портфель кредитів'!I413","v":0},{"$f":"'1.Портфель кредитів'!W413","v":0},{"$f":"'1.Портфель кредитів'!Y413","v":""},4,"2018-06-01","_4_43252_2"]
[{"$f":"'1.Портфель кредитів'!H414","v":0},{"$f":"'1.Портфель кредитів'!D414","v":""},{"$f":"'1.Портфель кредитів'!#REF!","v":{"$error":"#REF!"}},{"$f":"'1.Портфель кредитів'!#REF!","v":{"$error":"#REF!"}},{"$f":"'1.Портфель кредитів'!#REF!","v":{"$error":"#REF!"}},{"$f":"'1.Портфель кредитів'!I414","v":0},{"$f":"'1.Портфель кредитів'!W414","v":0},{"$f":"'1.Портфель кредитів'!Y414","v":""},4,"2018-06-01","_4_43252_2"]
[{"$f":"'1.Портфель кредитів'!H415","v":0},{"$f":"'1.Портфель кредитів'!D415","v":""},{"$f":"'1.Портфель кредитів'!#REF!","v":{"$error":"#REF!"}},{"$f":"'1.Портфель кредитів'!#REF!","v":{"$error":"#REF!"}},{"$f":"'1.Портфель кредитів'!#REF!","v":{"$error":"#REF!"}},{"$f":"'1.Портфель кредитів'!I415","v":0},{"$f":"'1.Портфель кредитів'!W415","v":0},{"$f":"'1.Портфель кредитів'!Y415","v":""},4,"2018-06-01","_4_43252_2"]
[{"$f":"'1.Портфель кредитів'!H416","v":0},{"$f":"'1.Портфель кредитів'!D416","v":""},{"$f":"'1.Портфель кредитів'!#REF!","v":{"$error":"#REF!"}},{"$f":"'1.Портфель кредитів'!#REF!","v":{"$error":"#REF!"}},{"$f":"'1.Портфель кредитів'!#REF!","v":{"$error":"#REF!"}},{"$f":"'1.Портфель кредитів'!I416","v":0},{"$f":"'1.Портфель кредитів'!W416","v":0},{"$f":"'1.Портфель кредитів'!Y416","v":""},4,"2018-06-01","_4_43252_2"]
[{"$f":"'1.Портфель кредитів'!H417","v":0},{"$f":"'1.Портфель кредитів'!D417","v":""},{"$f":"'1.Портфель кредитів'!#REF!","v":{"$error":"#REF!"}},{"$f":"'1.Портфель кредитів'!#REF!","v":{"$error":"#REF!"}},{"$f":"'1.Портфель кредитів'!#REF!","v":{"$error":"#REF!"}},{"$f":"'1.Портфель кредитів'!I417","v":0},{"$f":"'1.Портфель кредитів'!W417","v":0},{"$f":"'1.Портфель кредитів'!Y417","v":""},4,"2018-06-01","_4_43252_2"]
[{"$f":"'1.Портфель кредитів'!H418","v":0},{"$f":"'1.Портфель кредитів'!D418","v":""},{"$f":"'1.Портфель кредитів'!#REF!","v":{"$error":"#REF!"}},{"$f":"'1.Портфель кредитів'!#REF!","v":{"$error":"#REF!"}},{"$f":"'1.Портфель кредитів'!#REF!","v":{"$error":"#REF!"}},{"$f":"'1.Портфель кредитів'!I418","v":0},{"$f":"'1.Портфель кредитів'!W418","v":0},{"$f":"'1.Портфель кредитів'!Y418","v":""},4,"2018-06-01","_4_43252_2"]
[{"$f":"'1.Портфель кредитів'!H419","v":0},{"$f":"'1.Портфель кредитів'!D419","v":""},{"$f":"'1.Портфель кредитів'!#REF!","v":{"$error":"#REF!"}},{"$f":"'1.Портфель кредитів'!#REF!","v":{"$error":"#REF!"}},{"$f":"'1.Портфель кредитів'!#REF!","v":{"$error":"#REF!"}},{"$f":"'1.Портфель кредитів'!I419","v":0},{"$f":"'1.Портфель кредитів'!W419","v":0},{"$f":"'1.Портфель кредитів'!Y419","v":""},4,"2018-06-01","_4_43252_2"]
[{"$f":"'1.Портфель кредитів'!H420","v":0},{"$f":"'1.Портфель кредитів'!D420","v":""},{"$f":"'1.Портфель кредитів'!#REF!","v":{"$error":"#REF!"}},{"$f":"'1.Портфель кредитів'!#REF!","v":{"$error":"#REF!"}},{"$f":"'1.Портфель кредитів'!#REF!","v":{"$error":"#REF!"}},{"$f":"'1.Портфель кредитів'!I420","v":0},{"$f":"'1.Портфель кредитів'!W420","v":0},{"$f":"'1.Портфель кредитів'!Y420","v":""},4,"2018-06-01","_4_43252_2"]
[{"$f":"'1.Портфель кредитів'!H421","v":0},{"$f":"'1.Портфель кредитів'!D421","v":""},{"$f":"'1.Портфель кредитів'!#REF!","v":{"$error":"#REF!"}},{"$f":"'1.Портфель кредитів'!#REF!","v":{"$error":"#REF!"}},{"$f":"'1.Портфель кредитів'!#REF!","v":{"$error":"#REF!"}},{"$f":"'1.Портфель кредитів'!I421","v":0},{"$f":"'1.Портфель кредитів'!W421","v":0},{"$f":"'1.Портфель кредитів'!Y421","v":""},4,"2018-06-01","_4_43252_2"]
[{"$f":"'1.Портфель кредитів'!H422","v":0},{"$f":"'1.Портфель кредитів'!D422","v":""},{"$f":"'1.Портфель кредитів'!#REF!","v":{"$error":"#REF!"}},{"$f":"'1.Портфель кредитів'!#REF!","v":{"$error":"#REF!"}},{"$f":"'1.Портфель кредитів'!#REF!","v":{"$error":"#REF!"}},{"$f":"'1.Портфель кредитів'!I422","v":0},{"$f":"'1.Портфель кредитів'!W422","v":0},{"$f":"'1.Портфель кредитів'!Y422","v":""},4,"2018-06-01","_4_43252_2"]
[{"$f":"'1.Портфель кредитів'!H423","v":0},{"$f":"'1.Портфель кредитів'!D423","v":""},{"$f":"'1.Портфель кредитів'!#REF!","v":{"$error":"#REF!"}},{"$f":"'1.Портфель кредитів'!#REF!","v":{"$error":"#REF!"}},{"$f":"'1.Портфель кредитів'!#REF!","v":{"$error":"#REF!"}},{"$f":"'1.Портфель кредитів'!I423","v":0},{"$f":"'1.Портфель кредитів'!W423","v":0},{"$f":"'1.Портфель кредитів'!Y423","v":""},4,"2018-06-01","_4_43252_2"]
[{"$f":"'1.Портфель кредитів'!H424","v":0},{"$f":"'1.Портфель кредитів'!D424","v":""},{"$f":"'1.Портфель кредитів'!#REF!","v":{"$error":"#REF!"}},{"$f":"'1.Портфель кредитів'!#REF!","v":{"$error":"#REF!"}},{"$f":"'1.Портфель кредитів'!#REF!","v":{"$error":"#REF!"}},{"$f":"'1.Портфель кредитів'!I424","v":0},{"$f":"'1.Портфель кредитів'!W424","v":0},{"$f":"'1.Портфель кредитів'!Y424","v":""},4,"2018-06-01","_4_43252_2"]
[{"$f":"'1.Портфель кредитів'!H425","v":0},{"$f":"'1.Портфель кредитів'!D425","v":""},{"$f":"'1.Портфель кредитів'!#REF!","v":{"$error":"#REF!"}},{"$f":"'1.Портфель кредитів'!#REF!","v":{"$error":"#REF!"}},{"$f":"'1.Портфель кредитів'!#REF!","v":{"$error":"#REF!"}},{"$f":"'1.Портфель кредитів'!I425","v":0},{"$f":"'1.Портфель кредитів'!W425","v":0},{"$f":"'1.Портфель кредитів'!Y425","v":""},4,"2018-06-01","_4_43252_2"]
[{"$f":"'1.Портфель кредитів'!H426","v":0},{"$f":"'1.Портфель кредитів'!D426","v":""},{"$f":"'1.Портфель кредитів'!#REF!","v":{"$error":"#REF!"}},{"$f":"'1.Портфель кредитів'!#REF!","v":{"$error":"#REF!"}},{"$f":"'1.Портфель кредитів'!#REF!","v":{"$error":"#REF!"}},{"$f":"'1.Портфель кредитів'!I426","v":0},{"$f":"'1.Портфель кредитів'!W426","v":0},{"$f":"'1.Портфель кредитів'!Y426","v":""},4,"2018-06-01","_4_43252_2"]
[{"$f":"'1.Портфель кредитів'!H427","v":0},{"$f":"'1.Портфель кредитів'!D427","v":""},{"$f":"'1.Портфель кредитів'!#REF!","v":{"$error":"#REF!"}},{"$f":"'1.Портфель кредитів'!#REF!","v":{"$error":"#REF!"}},{"$f":"'1.Портфель кредитів'!#REF!","v":{"$error":"#REF!"}},{"$f":"'1.Портфель кредитів'!I427","v":0},{"$f":"'1.Портфель кредитів'!W427","v":0},{"$f":"'1.Портфель кредитів'!Y427","v":""},4,"2018-06-01","_4_43252_2"]
[{"$f":"'1.Портфель кредитів'!H428","v":0},{"$f":"'1.Портфель кредитів'!D428","v":""},{"$f":"'1.Портфель кредитів'!#REF!","v":{"$error":"#REF!"}},{"$f":"'1.Портфель кредитів'!#REF!","v":{"$error":"#REF!"}},{"$f":"'1.Портфель кредитів'!#REF!","v":{"$error":"#REF!"}},{"$f":"'1.Портфель кредитів'!I428","v":0},{"$f":"'1.Портфель кредитів'!W428","v":0},{"$f":"'1.Портфель кредитів'!Y428","v":""},4,"2018-06-01","_4_43252_2"]
[{"$f":"'1.Портфель кредитів'!H429","v":0},{"$f":"'1.Портфель кредитів'!D429","v":""},{"$f":"'1.Портфель кредитів'!#REF!","v":{"$error":"#REF!"}},{"$f":"'1.Портфель кредитів'!#REF!","v":{"$error":"#REF!"}},{"$f":"'1.Портфель кредитів'!#REF!","v":{"$error":"#REF!"}},{"$f":"'1.Портфель кредитів'!I429","v":0},{"$f":"'1.Портфель кредитів'!W429","v":0},{"$f":"'1.Портфель кредитів'!Y429","v":""},{"$f":"$E$1","v":4},{"$f":"$E$2","v":"2018-06-01"},{"$f":"B454&\"_\"&I454&\"_\"&J454&\"_\"&$E$3","v":"_4_43252_2"}]
[{"$f":"'1.Портфель кредитів'!H430","v":0},{"$f":"'1.Портфель кредитів'!D430","v":""},{"$f":"'1.Портфель кредитів'!#REF!","v":{"$error":"#REF!"}},{"$f":"'1.Портфель кредитів'!#REF!","v":{"$error":"#REF!"}},{"$f":"'1.Портфель кредитів'!#REF!","v":{"$error":"#REF!"}},{"$f":"'1.Портфель кредитів'!I430","v":0},{"$f":"'1.Портфель кредитів'!W430","v":0},{"$f":"'1.Портфель кредитів'!Y430","v":""},4,"2018-06-01","_4_43252_2"]
[{"$f":"'1.Портфель кредитів'!H431","v":0},{"$f":"'1.Портфель кредитів'!D431","v":""},{"$f":"'1.Портфель кредитів'!#REF!","v":{"$error":"#REF!"}},{"$f":"'1.Портфель кредитів'!#REF!","v":{"$error":"#REF!"}},{"$f":"'1.Портфель кредитів'!#REF!","v":{"$error":"#REF!"}},{"$f":"'1.Портфель кредитів'!I431","v":0},{"$f":"'1.Портфель кредитів'!W431","v":0},{"$f":"'1.Портфель кредитів'!Y431","v":""},4,"2018-06-01","_4_43252_2"]
[{"$f":"'1.Портфель кредитів'!H432","v":0},{"$f":"'1.Портфель кредитів'!D432","v":""},{"$f":"'1.Портфель кредитів'!#REF!","v":{"$error":"#REF!"}},{"$f":"'1.Портфель кредитів'!#REF!","v":{"$error":"#REF!"}},{"$f":"'1.Портфель кредитів'!#REF!","v":{"$error":"#REF!"}},{"$f":"'1.Портфель кредитів'!I432","v":0},{"$f":"'1.Портфель кредитів'!W432","v":0},{"$f":"'1.Портфель кредитів'!Y432","v":""},4,"2018-06-01","_4_43252_2"]
[{"$f":"'1.Портфель кредитів'!H433","v":0},{"$f":"'1.Портфель кредитів'!D433","v":""},{"$f":"'1.Портфель кредитів'!#REF!","v":{"$error":"#REF!"}},{"$f":"'1.Портфель кредитів'!#REF!","v":{"$error":"#REF!"}},{"$f":"'1.Портфель кредитів'!#REF!","v":{"$error":"#REF!"}},{"$f":"'1.Портфель кредитів'!I433","v":0},{"$f":"'1.Портфель кредитів'!W433","v":0},{"$f":"'1.Портфель кредитів'!Y433","v":""},4,"2018-06-01","_4_43252_2"]
[{"$f":"'1.Портфель кредитів'!H434","v":0},{"$f":"'1.Портфель кредитів'!D434","v":""},{"$f":"'1.Портфель кредитів'!#REF!","v":{"$error":"#REF!"}},{"$f":"'1.Портфель кредитів'!#REF!","v":{"$error":"#REF!"}},{"$f":"'1.Портфель кредитів'!#REF!","v":{"$error":"#REF!"}},{"$f":"'1.Портфель кредитів'!I434","v":0},{"$f":"'1.Портфель кредитів'!W434","v":0},{"$f":"'1.Портфель кредитів'!Y434","v":""},4,"2018-06-01","_4_43252_2"]
[{"$f":"'1.Портфель кредитів'!H435","v":0},{"$f":"'1.Портфель кредитів'!D435","v":""},{"$f":"'1.Портфель кредитів'!#REF!","v":{"$error":"#REF!"}},{"$f":"'1.Портфель кредитів'!#REF!","v":{"$error":"#REF!"}},{"$f":"'1.Портфель кредитів'!#REF!","v":{"$error":"#REF!"}},{"$f":"'1.Портфель кредитів'!I435","v":0},{"$f":"'1.Портфель кредитів'!W435","v":0},{"$f":"'1.Портфель кредитів'!Y435","v":""},4,"2018-06-01","_4_43252_2"]
[{"$f":"'1.Портфель кредитів'!H436","v":0},{"$f":"'1.Портфель кредитів'!D436","v":""},{"$f":"'1.Портфель кредитів'!#REF!","v":{"$error":"#REF!"}},{"$f":"'1.Портфель кредитів'!#REF!","v":{"$error":"#REF!"}},{"$f":"'1.Портфель кредитів'!#REF!","v":{"$error":"#REF!"}},{"$f":"'1.Портфель кредитів'!I436","v":0},{"$f":"'1.Портфель кредитів'!W436","v":0},{"$f":"'1.Портфель кредитів'!Y436","v":""},4,"2018-06-01","_4_43252_2"]
[{"$f":"'1.Портфель кредитів'!H437","v":0},{"$f":"'1.Портфель кредитів'!D437","v":""},{"$f":"'1.Портфель кредитів'!#REF!","v":{"$error":"#REF!"}},{"$f":"'1.Портфель кредитів'!#REF!","v":{"$error":"#REF!"}},{"$f":"'1.Портфель кредитів'!#REF!","v":{"$error":"#REF!"}},{"$f":"'1.Портфель кредитів'!I437","v":0},{"$f":"'1.Портфель кредитів'!W437","v":0},{"$f":"'1.Портфель кредитів'!Y437","v":""},4,"2018-06-01","_4_43252_2"]
[{"$f":"'1.Портфель кредитів'!H438","v":0},{"$f":"'1.Портфель кредитів'!D438","v":""},{"$f":"'1.Портфель кредитів'!#REF!","v":{"$error":"#REF!"}},{"$f":"'1.Портфель кредитів'!#REF!","v":{"$error":"#REF!"}},{"$f":"'1.Портфель кредитів'!#REF!","v":{"$error":"#REF!"}},{"$f":"'1.Портфель кредитів'!I438","v":0},{"$f":"'1.Портфель кредитів'!W438","v":0},{"$f":"'1.Портфель кредитів'!Y438","v":""},4,"2018-06-01","_4_43252_2"]
[{"$f":"'1.Портфель кредитів'!H439","v":0},{"$f":"'1.Портфель кредитів'!D439","v":""},{"$f":"'1.Портфель кредитів'!#REF!","v":{"$error":"#REF!"}},{"$f":"'1.Портфель кредитів'!#REF!","v":{"$error":"#REF!"}},{"$f":"'1.Портфель кредитів'!#REF!","v":{"$error":"#REF!"}},{"$f":"'1.Портфель кредитів'!I439","v":0},{"$f":"'1.Портфель кредитів'!W439","v":0},{"$f":"'1.Портфель кредитів'!Y439","v":""},4,"2018-06-01","_4_43252_2"]
[{"$f":"'1.Портфель кредитів'!H440","v":0},{"$f":"'1.Портфель кредитів'!D440","v":""},{"$f":"'1.Портфель кредитів'!#REF!","v":{"$error":"#REF!"}},{"$f":"'1.Портфель кредитів'!#REF!","v":{"$error":"#REF!"}},{"$f":"'1.Портфель кредитів'!#REF!","v":{"$error":"#REF!"}},{"$f":"'1.Портфель кредитів'!I440","v":0},{"$f":"'1.Портфель кредитів'!W440","v":0},{"$f":"'1.Портфель кредитів'!Y440","v":""},4,"2018-06-01","_4_43252_2"]
[{"$f":"'1.Портфель кредитів'!H441","v":0},{"$f":"'1.Портфель кредитів'!D441","v":""},{"$f":"'1.Портфель кредитів'!#REF!","v":{"$error":"#REF!"}},{"$f":"'1.Портфель кредитів'!#REF!","v":{"$error":"#REF!"}},{"$f":"'1.Портфель кредитів'!#REF!","v":{"$error":"#REF!"}},{"$f":"'1.Портфель кредитів'!I441","v":0},{"$f":"'1.Портфель кредитів'!W441","v":0},{"$f":"'1.Портфель кредитів'!Y441","v":""},4,"2018-06-01","_4_43252_2"]
[{"$f":"'1.Портфель кредитів'!H442","v":0},{"$f":"'1.Портфель кредитів'!D442","v":""},{"$f":"'1.Портфель кредитів'!#REF!","v":{"$error":"#REF!"}},{"$f":"'1.Портфель кредитів'!#REF!","v":{"$error":"#REF!"}},{"$f":"'1.Портфель кредитів'!#REF!","v":{"$error":"#REF!"}},{"$f":"'1.Портфель кредитів'!I442","v":0},{"$f":"'1.Портфель кредитів'!W442","v":0},{"$f":"'1.Портфель кредитів'!Y442","v":""},4,"2018-06-01","_4_43252_2"]
[{"$f":"'1.Портфель кредитів'!H443","v":0},{"$f":"'1.Портфель кредитів'!D443","v":""},{"$f":"'1.Портфель кредитів'!#REF!","v":{"$error":"#REF!"}},{"$f":"'1.Портфель кредитів'!#REF!","v":{"$error":"#REF!"}},{"$f":"'1.Портфель кредитів'!#REF!","v":{"$error":"#REF!"}},{"$f":"'1.Портфель кредитів'!I443","v":0},{"$f":"'1.Портфель кредитів'!W443","v":0},{"$f":"'1.Портфель кредитів'!Y443","v":""},4,"2018-06-01","_4_43252_2"]
[{"$f":"'1.Портфель кредитів'!H444","v":0},{"$f":"'1.Портфель кредитів'!D444","v":""},{"$f":"'1.Портфель кредитів'!#REF!","v":{"$error":"#REF!"}},{"$f":"'1.Портфель кредитів'!#REF!","v":{"$error":"#REF!"}},{"$f":"'1.Портфель кредитів'!#REF!","v":{"$error":"#REF!"}},{"$f":"'1.Портфель кредитів'!I444","v":0},{"$f":"'1.Портфель кредитів'!W444","v":0},{"$f":"'1.Портфель кредитів'!Y444","v":""},4,"2018-06-01","_4_43252_2"]
[{"$f":"'1.Портфель кредитів'!H445","v":0},{"$f":"'1.Портфель кредитів'!D445","v":""},{"$f":"'1.Портфель кредитів'!#REF!","v":{"$error":"#REF!"}},{"$f":"'1.Портфель кредитів'!#REF!","v":{"$error":"#REF!"}},{"$f":"'1.Портфель кредитів'!#REF!","v":{"$error":"#REF!"}},{"$f":"'1.Портфель кредитів'!I445","v":0},{"$f":"'1.Портфель кредитів'!W445","v":0},{"$f":"'1.Портфель кредитів'!Y445","v":""},4,"2018-06-01","_4_43252_2"]
[{"$f":"'1.Портфель кредитів'!H446","v":0},{"$f":"'1.Портфель кредитів'!D446","v":""},{"$f":"'1.Портфель кредитів'!#REF!","v":{"$error":"#REF!"}},{"$f":"'1.Портфель кредитів'!#REF!","v":{"$error":"#REF!"}},{"$f":"'1.Портфель кредитів'!#REF!","v":{"$error":"#REF!"}},{"$f":"'1.Портфель кредитів'!I446","v":0},{"$f":"'1.Портфель кредитів'!W446","v":0},{"$f":"'1.Портфель кредитів'!Y446","v":""},4,"2018-06-01","_4_43252_2"]
[{"$f":"'1.Портфель кредитів'!H447","v":0},{"$f":"'1.Портфель кредитів'!D447","v":""},{"$f":"'1.Портфель кредитів'!#REF!","v":{"$error":"#REF!"}},{"$f":"'1.Портфель кредитів'!#REF!","v":{"$error":"#REF!"}},{"$f":"'1.Портфель кредитів'!#REF!","v":{"$error":"#REF!"}},{"$f":"'1.Портфель кредитів'!I447","v":0},{"$f":"'1.Портфель кредитів'!W447","v":0},{"$f":"'1.Портфель кредитів'!Y447","v":""},4,"2018-06-01","_4_43252_2"]
[{"$f":"'1.Портфель кредитів'!H448","v":0},{"$f":"'1.Портфель кредитів'!D448","v":""},{"$f":"'1.Портфель кредитів'!#REF!","v":{"$error":"#REF!"}},{"$f":"'1.Портфель кредитів'!#REF!","v":{"$error":"#REF!"}},{"$f":"'1.Портфель кредитів'!#REF!","v":{"$error":"#REF!"}},{"$f":"'1.Портфель кредитів'!I448","v":0},{"$f":"'1.Портфель кредитів'!W448","v":0},{"$f":"'1.Портфель кредитів'!Y448","v":""},4,"2018-06-01","_4_43252_2"]
[{"$f":"'1.Портфель кредитів'!H449","v":0},{"$f":"'1.Портфель кредитів'!D449","v":""},{"$f":"'1.Портфель кредитів'!#REF!","v":{"$error":"#REF!"}},{"$f":"'1.Портфель кредитів'!#REF!","v":{"$error":"#REF!"}},{"$f":"'1.Портфель кредитів'!#REF!","v":{"$error":"#REF!"}},{"$f":"'1.Портфель кредитів'!I449","v":0},{"$f":"'1.Портфель кредитів'!W449","v":0},{"$f":"'1.Портфель кредитів'!Y449","v":""},4,"2018-06-01","_4_43252_2"]
[{"$f":"'1.Портфель кредитів'!H450","v":0},{"$f":"'1.Портфель кредитів'!D450","v":""},{"$f":"'1.Портфель кредитів'!#REF!","v":{"$error":"#REF!"}},{"$f":"'1.Портфель кредитів'!#REF!","v":{"$error":"#REF!"}},{"$f":"'1.Портфель кредитів'!#REF!","v":{"$error":"#REF!"}},{"$f":"'1.Портфель кредитів'!I450","v":0},{"$f":"'1.Портфель кредитів'!W450","v":0},{"$f":"'1.Портфель кредитів'!Y450","v":""},4,"2018-06-01","_4_43252_2"]
[{"$f":"'1.Портфель кредитів'!H451","v":0},{"$f":"'1.Портфель кредитів'!D451","v":""},{"$f":"'1.Портфель кредитів'!#REF!","v":{"$error":"#REF!"}},{"$f":"'1.Портфель кредитів'!#REF!","v":{"$error":"#REF!"}},{"$f":"'1.Портфель кредитів'!#REF!","v":{"$error":"#REF!"}},{"$f":"'1.Портфель кредитів'!I451","v":0},{"$f":"'1.Портфель кредитів'!W451","v":0},{"$f":"'1.Портфель кредитів'!Y451","v":""},4,"2018-06-01","_4_43252_2"]
[{"$f":"'1.Портфель кредитів'!H452","v":0},{"$f":"'1.Портфель кредитів'!D452","v":""},{"$f":"'1.Портфель кредитів'!#REF!","v":{"$error":"#REF!"}},{"$f":"'1.Портфель кредитів'!#REF!","v":{"$error":"#REF!"}},{"$f":"'1.Портфель кредитів'!#REF!","v":{"$error":"#REF!"}},{"$f":"'1.Портфель кредитів'!I452","v":0},{"$f":"'1.Портфель кредитів'!W452","v":0},{"$f":"'1.Портфель кредитів'!Y452","v":""},4,"2018-06-01","_4_43252_2"]
[{"$f":"'1.Портфель кредитів'!H453","v":0},{"$f":"'1.Портфель кредитів'!D453","v":""},{"$f":"'1.Портфель кредитів'!#REF!","v":{"$error":"#REF!"}},{"$f":"'1.Портфель кредитів'!#REF!","v":{"$error":"#REF!"}},{"$f":"'1.Портфель кредитів'!#REF!","v":{"$error":"#REF!"}},{"$f":"'1.Портфель кредитів'!I453","v":0},{"$f":"'1.Портфель кредитів'!W453","v":0},{"$f":"'1.Портфель кредитів'!Y453","v":""},4,"2018-06-01","_4_43252_2"]
[{"$f":"'1.Портфель кредитів'!H454","v":0},{"$f":"'1.Портфель кредитів'!D454","v":""},{"$f":"'1.Портфель кредитів'!#REF!","v":{"$error":"#REF!"}},{"$f":"'1.Портфель кредитів'!#REF!","v":{"$error":"#REF!"}},{"$f":"'1.Портфель кредитів'!#REF!","v":{"$error":"#REF!"}},{"$f":"'1.Портфель кредитів'!I454","v":0},{"$f":"'1.Портфель кредитів'!W454","v":0},{"$f":"'1.Портфель кредитів'!Y454","v":""},4,"2018-06-01","_4_43252_2"]
[{"$f":"'1.Портфель кредитів'!H455","v":0},{"$f":"'1.Портфель кредитів'!D455","v":""},{"$f":"'1.Портфель кредитів'!#REF!","v":{"$error":"#REF!"}},{"$f":"'1.Портфель кредитів'!#REF!","v":{"$error":"#REF!"}},{"$f":"'1.Портфель кредитів'!#REF!","v":{"$error":"#REF!"}},{"$f":"'1.Портфель кредитів'!I455","v":0},{"$f":"'1.Портфель кредитів'!W455","v":0},{"$f":"'1.Портфель кредитів'!Y455","v":""},4,"2018-06-01","_4_43252_2"]
[{"$f":"'1.Портфель кредитів'!H456","v":0},{"$f":"'1.Портфель кредитів'!D456","v":""},{"$f":"'1.Портфель кредитів'!#REF!","v":{"$error":"#REF!"}},{"$f":"'1.Портфель кредитів'!#REF!","v":{"$error":"#REF!"}},{"$f":"'1.Портфель кредитів'!#REF!","v":{"$error":"#REF!"}},{"$f":"'1.Портфель кредитів'!I456","v":0},{"$f":"'1.Портфель кредитів'!W456","v":0},{"$f":"'1.Портфель кредитів'!Y456","v":""},4,"2018-06-01","_4_43252_2"]
[{"$f":"'1.Портфель кредитів'!H457","v":0},{"$f":"'1.Портфель кредитів'!D457","v":""},{"$f":"'1.Портфель кредитів'!#REF!","v":{"$error":"#REF!"}},{"$f":"'1.Портфель кредитів'!#REF!","v":{"$error":"#REF!"}},{"$f":"'1.Портфель кредитів'!#REF!","v":{"$error":"#REF!"}},{"$f":"'1.Портфель кредитів'!I457","v":0},{"$f":"'1.Портфель кредитів'!W457","v":0},{"$f":"'1.Портфель кредитів'!Y457","v":""},4,"2018-06-01","_4_43252_2"]
[{"$f":"'1.Портфель кредитів'!H458","v":0},{"$f":"'1.Портфель кредитів'!D458","v":""},{"$f":"'1.Портфель кредитів'!#REF!","v":{"$error":"#REF!"}},{"$f":"'1.Портфель кредитів'!#REF!","v":{"$error":"#REF!"}},{"$f":"'1.Портфель кредитів'!#REF!","v":{"$error":"#REF!"}},{"$f":"'1.Портфель кредитів'!I458","v":0},{"$f":"'1.Портфель кредитів'!W458","v":0},{"$f":"'1.Портфель кредитів'!Y458","v":""},4,"2018-06-01","_4_43252_2"]
[{"$f":"'1.Портфель кредитів'!H459","v":0},{"$f":"'1.Портфель кредитів'!D459","v":""},{"$f":"'1.Портфель кредитів'!#REF!","v":{"$error":"#REF!"}},{"$f":"'1.Портфель кредитів'!#REF!","v":{"$error":"#REF!"}},{"$f":"'1.Портфель кредитів'!#REF!","v":{"$error":"#REF!"}},{"$f":"'1.Портфель кредитів'!I459","v":0},{"$f":"'1.Портфель кредитів'!W459","v":0},{"$f":"'1.Портфель кредитів'!Y459","v":""},4,"2018-06-01","_4_43252_2"]
[{"$f":"'1.Портфель кредитів'!H460","v":0},{"$f":"'1.Портфель кредитів'!D460","v":""},{"$f":"'1.Портфель кредитів'!#REF!","v":{"$error":"#REF!"}},{"$f":"'1.Портфель кредитів'!#REF!","v":{"$error":"#REF!"}},{"$f":"'1.Портфель кредитів'!#REF!","v":{"$error":"#REF!"}},{"$f":"'1.Портфель кредитів'!I460","v":0},{"$f":"'1.Портфель кредитів'!W460","v":0},{"$f":"'1.Портфель кредитів'!Y460","v":""},4,"2018-06-01","_4_43252_2"]
[{"$f":"'1.Портфель кредитів'!H461","v":0},{"$f":"'1.Портфель кредитів'!D461","v":""},{"$f":"'1.Портфель кредитів'!#REF!","v":{"$error":"#REF!"}},{"$f":"'1.Портфель кредитів'!#REF!","v":{"$error":"#REF!"}},{"$f":"'1.Портфель кредитів'!#REF!","v":{"$error":"#REF!"}},{"$f":"'1.Портфель кредитів'!I461","v":0},{"$f":"'1.Портфель кредитів'!W461","v":0},{"$f":"'1.Портфель кредитів'!Y461","v":""},4,"2018-06-01","_4_43252_2"]
[{"$f":"'1.Портфель кредитів'!H462","v":0},{"$f":"'1.Портфель кредитів'!D462","v":""},{"$f":"'1.Портфель кредитів'!#REF!","v":{"$error":"#REF!"}},{"$f":"'1.Портфель кредитів'!#REF!","v":{"$error":"#REF!"}},{"$f":"'1.Портфель кредитів'!#REF!","v":{"$error":"#REF!"}},{"$f":"'1.Портфель кредитів'!I462","v":0},{"$f":"'1.Портфель кредитів'!W462","v":0},{"$f":"'1.Портфель кредитів'!Y462","v":""},4,"2018-06-01","_4_43252_2"]
[{"$f":"'1.Портфель кредитів'!H463","v":0},{"$f":"'1.Портфель кредитів'!D463","v":""},{"$f":"'1.Портфель кредитів'!#REF!","v":{"$error":"#REF!"}},{"$f":"'1.Портфель кредитів'!#REF!","v":{"$error":"#REF!"}},{"$f":"'1.Портфель кредитів'!#REF!","v":{"$error":"#REF!"}},{"$f":"'1.Портфель кредитів'!I463","v":0},{"$f":"'1.Портфель кредитів'!W463","v":0},{"$f":"'1.Портфель кредитів'!Y463","v":""},4,"2018-06-01","_4_43252_2"]
[{"$f":"'1.Портфель кредитів'!H464","v":0},{"$f":"'1.Портфель кредитів'!D464","v":""},{"$f":"'1.Портфель кредитів'!#REF!","v":{"$error":"#REF!"}},{"$f":"'1.Портфель кредитів'!#REF!","v":{"$error":"#REF!"}},{"$f":"'1.Портфель кредитів'!#REF!","v":{"$error":"#REF!"}},{"$f":"'1.Портфель кредитів'!I464","v":0},{"$f":"'1.Портфель кредитів'!W464","v":0},{"$f":"'1.Портфель кредитів'!Y464","v":""},4,"2018-06-01","_4_43252_2"]
[{"$f":"'1.Портфель кредитів'!H465","v":0},{"$f":"'1.Портфель кредитів'!D465","v":""},{"$f":"'1.Портфель кредитів'!#REF!","v":{"$error":"#REF!"}},{"$f":"'1.Портфель кредитів'!#REF!","v":{"$error":"#REF!"}},{"$f":"'1.Портфель кредитів'!#REF!","v":{"$error":"#REF!"}},{"$f":"'1.Портфель кредитів'!I465","v":0},{"$f":"'1.Портфель кредитів'!W465","v":0},{"$f":"'1.Портфель кредитів'!Y465","v":""},4,"2018-06-01","_4_43252_2"]
[{"$f":"'1.Портфель кредитів'!H466","v":0},{"$f":"'1.Портфель кредитів'!D466","v":""},{"$f":"'1.Портфель кредитів'!#REF!","v":{"$error":"#REF!"}},{"$f":"'1.Портфель кредитів'!#REF!","v":{"$error":"#REF!"}},{"$f":"'1.Портфель кредитів'!#REF!","v":{"$error":"#REF!"}},{"$f":"'1.Портфель кредитів'!I466","v":0},{"$f":"'1.Портфель кредитів'!W466","v":0},{"$f":"'1.Портфель кредитів'!Y466","v":""},4,"2018-06-01","_4_43252_2"]
[{"$f":"'1.Портфель кредитів'!H467","v":0},{"$f":"'1.Портфель кредитів'!D467","v":""},{"$f":"'1.Портфель кредитів'!#REF!","v":{"$error":"#REF!"}},{"$f":"'1.Портфель кредитів'!#REF!","v":{"$error":"#REF!"}},{"$f":"'1.Портфель кредитів'!#REF!","v":{"$error":"#REF!"}},{"$f":"'1.Портфель кредитів'!I467","v":0},{"$f":"'1.Портфель кредитів'!W467","v":0},{"$f":"'1.Портфель кредитів'!Y467","v":""},4,"2018-06-01","_4_43252_2"]
[{"$f":"'1.Портфель кредитів'!H468","v":0},{"$f":"'1.Портфель кредитів'!D468","v":""},{"$f":"'1.Портфель кредитів'!#REF!","v":{"$error":"#REF!"}},{"$f":"'1.Портфель кредитів'!#REF!","v":{"$error":"#REF!"}},{"$f":"'1.Портфель кредитів'!#REF!","v":{"$error":"#REF!"}},{"$f":"'1.Портфель кредитів'!I468","v":0},{"$f":"'1.Портфель кредитів'!W468","v":0},{"$f":"'1.Портфель кредитів'!Y468","v":""},4,"2018-06-01","_4_43252_2"]
[{"$f":"'1.Портфель кредитів'!H469","v":0},{"$f":"'1.Портфель кредитів'!D469","v":""},{"$f":"'1.Портфель кредитів'!#REF!","v":{"$error":"#REF!"}},{"$f":"'1.Портфель кредитів'!#REF!","v":{"$error":"#REF!"}},{"$f":"'1.Портфель кредитів'!#REF!","v":{"$error":"#REF!"}},{"$f":"'1.Портфель кредитів'!I469","v":0},{"$f":"'1.Портфель кредитів'!W469","v":0},{"$f":"'1.Портфель кредитів'!Y469","v":""},4,"2018-06-01","_4_43252_2"]
[{"$f":"'1.Портфель кредитів'!H470","v":0},{"$f":"'1.Портфель кредитів'!D470","v":""},{"$f":"'1.Портфель кредитів'!#REF!","v":{"$error":"#REF!"}},{"$f":"'1.Портфель кредитів'!#REF!","v":{"$error":"#REF!"}},{"$f":"'1.Портфель кредитів'!#REF!","v":{"$error":"#REF!"}},{"$f":"'1.Портфель кредитів'!I470","v":0},{"$f":"'1.Портфель кредитів'!W470","v":0},{"$f":"'1.Портфель кредитів'!Y470","v":""},4,"2018-06-01","_4_43252_2"]
[{"$f":"'1.Портфель кредитів'!H471","v":0},{"$f":"'1.Портфель кредитів'!D471","v":""},{"$f":"'1.Портфель кредитів'!#REF!","v":{"$error":"#REF!"}},{"$f":"'1.Портфель кредитів'!#REF!","v":{"$error":"#REF!"}},{"$f":"'1.Портфель кредитів'!#REF!","v":{"$error":"#REF!"}},{"$f":"'1.Портфель кредитів'!I471","v":0},{"$f":"'1.Портфель кредитів'!W471","v":0},{"$f":"'1.Портфель кредитів'!Y471","v":""},4,"2018-06-01","_4_43252_2"]
[{"$f":"'1.Портфель кредитів'!H472","v":0},{"$f":"'1.Портфель кредитів'!D472","v":""},{"$f":"'1.Портфель кредитів'!#REF!","v":{"$error":"#REF!"}},{"$f":"'1.Портфель кредитів'!#REF!","v":{"$error":"#REF!"}},{"$f":"'1.Портфель кредитів'!#REF!","v":{"$error":"#REF!"}},{"$f":"'1.Портфель кредитів'!I472","v":0},{"$f":"'1.Портфель кредитів'!W472","v":0},{"$f":"'1.Портфель кредитів'!Y472","v":""},4,"2018-06-01","_4_43252_2"]
[{"$f":"'1.Портфель кредитів'!H473","v":0},{"$f":"'1.Портфель кредитів'!D473","v":""},{"$f":"'1.Портфель кредитів'!#REF!","v":{"$error":"#REF!"}},{"$f":"'1.Портфель кредитів'!#REF!","v":{"$error":"#REF!"}},{"$f":"'1.Портфель кредитів'!#REF!","v":{"$error":"#REF!"}},{"$f":"'1.Портфель кредитів'!I473","v":0},{"$f":"'1.Портфель кредитів'!W473","v":0},{"$f":"'1.Портфель кредитів'!Y473","v":""},4,"2018-06-01","_4_43252_2"]
[{"$f":"'1.Портфель кредитів'!H474","v":0},{"$f":"'1.Портфель кредитів'!D474","v":""},{"$f":"'1.Портфель кредитів'!#REF!","v":{"$error":"#REF!"}},{"$f":"'1.Портфель кредитів'!#REF!","v":{"$error":"#REF!"}},{"$f":"'1.Портфель кредитів'!#REF!","v":{"$error":"#REF!"}},{"$f":"'1.Портфель кредитів'!I474","v":0},{"$f":"'1.Портфель кредитів'!W474","v":0},{"$f":"'1.Портфель кредитів'!Y474","v":""},4,"2018-06-01","_4_43252_2"]
[{"$f":"'1.Портфель кредитів'!H475","v":0},{"$f":"'1.Портфель кредитів'!D475","v":""},{"$f":"'1.Портфель кредитів'!#REF!","v":{"$error":"#REF!"}},{"$f":"'1.Портфель кредитів'!#REF!","v":{"$error":"#REF!"}},{"$f":"'1.Портфель кредитів'!#REF!","v":{"$error":"#REF!"}},{"$f":"'1.Портфель кредитів'!I475","v":0},{"$f":"'1.Портфель кредитів'!W475","v":0},{"$f":"'1.Портфель кредитів'!Y475","v":""},4,"2018-06-01","_4_43252_2"]
[{"$f":"'1.Портфель кредитів'!H476","v":0},{"$f":"'1.Портфель кредитів'!D476","v":""},{"$f":"'1.Портфель кредитів'!#REF!","v":{"$error":"#REF!"}},{"$f":"'1.Портфель кредитів'!#REF!","v":{"$error":"#REF!"}},{"$f":"'1.Портфель кредитів'!#REF!","v":{"$error":"#REF!"}},{"$f":"'1.Портфель кредитів'!I476","v":0},{"$f":"'1.Портфель кредитів'!W476","v":0},{"$f":"'1.Портфель кредитів'!Y476","v":""},4,"2018-06-01","_4_43252_2"]
[{"$f":"'1.Портфель кредитів'!H477","v":0},{"$f":"'1.Портфель кредитів'!D477","v":""},{"$f":"'1.Портфель кредитів'!#REF!","v":{"$error":"#REF!"}},{"$f":"'1.Портфель кредитів'!#REF!","v":{"$error":"#REF!"}},{"$f":"'1.Портфель кредитів'!#REF!","v":{"$error":"#REF!"}},{"$f":"'1.Портфель кредитів'!I477","v":0},{"$f":"'1.Портфель кредитів'!W477","v":0},{"$f":"'1.Портфель кредитів'!Y477","v":""},4,"2018-06-01","_4_43252_2"]
[{"$f":"'1.Портфель кредитів'!H478","v":0},{"$f":"'1.Портфель кредитів'!D478","v":""},{"$f":"'1.Портфель кредитів'!#REF!","v":{"$error":"#REF!"}},{"$f":"'1.Портфель кредитів'!#REF!","v":{"$error":"#REF!"}},{"$f":"'1.Портфель кредитів'!#REF!","v":{"$error":"#REF!"}},{"$f":"'1.Портфель кредитів'!I478","v":0},{"$f":"'1.Портфель кредитів'!W478","v":0},{"$f":"'1.Портфель кредитів'!Y478","v":""},4,"2018-06-01","_4_43252_2"]
[{"$f":"'1.Портфель кредитів'!H479","v":0},{"$f":"'1.Портфель кредитів'!D479","v":""},{"$f":"'1.Портфель кредитів'!#REF!","v":{"$error":"#REF!"}},{"$f":"'1.Портфель кредитів'!#REF!","v":{"$error":"#REF!"}},{"$f":"'1.Портфель кредитів'!#REF!","v":{"$error":"#REF!"}},{"$f":"'1.Портфель кредитів'!I479","v":0},{"$f":"'1.Портфель кредитів'!W479","v":0},{"$f":"'1.Портфель кредитів'!Y479","v":""},4,"2018-06-01","_4_43252_2"]
[{"$f":"'1.Портфель кредитів'!H480","v":0},{"$f":"'1.Портфель кредитів'!D480","v":""},{"$f":"'1.Портфель кредитів'!#REF!","v":{"$error":"#REF!"}},{"$f":"'1.Портфель кредитів'!#REF!","v":{"$error":"#REF!"}},{"$f":"'1.Портфель кредитів'!#REF!","v":{"$error":"#REF!"}},{"$f":"'1.Портфель кредитів'!I480","v":0},{"$f":"'1.Портфель кредитів'!W480","v":0},{"$f":"'1.Портфель кредитів'!Y480","v":""},4,"2018-06-01","_4_43252_2"]
[{"$f":"'1.Портфель кредитів'!H481","v":0},{"$f":"'1.Портфель кредитів'!D481","v":""},{"$f":"'1.Портфель кредитів'!#REF!","v":{"$error":"#REF!"}},{"$f":"'1.Портфель кредитів'!#REF!","v":{"$error":"#REF!"}},{"$f":"'1.Портфель кредитів'!#REF!","v":{"$error":"#REF!"}},{"$f":"'1.Портфель кредитів'!I481","v":0},{"$f":"'1.Портфель кредитів'!W481","v":0},{"$f":"'1.Портфель кредитів'!Y481","v":""},4,"2018-06-01","_4_43252_2"]
[{"$f":"'1.Портфель кредитів'!H482","v":0},{"$f":"'1.Портфель кредитів'!D482","v":""},{"$f":"'1.Портфель кредитів'!#REF!","v":{"$error":"#REF!"}},{"$f":"'1.Портфель кредитів'!#REF!","v":{"$error":"#REF!"}},{"$f":"'1.Портфель кредитів'!#REF!","v":{"$error":"#REF!"}},{"$f":"'1.Портфель кредитів'!I482","v":0},{"$f":"'1.Портфель кредитів'!W482","v":0},{"$f":"'1.Портфель кредитів'!Y482","v":""},4,"2018-06-01","_4_43252_2"]
[{"$f":"'1.Портфель кредитів'!H483","v":0},{"$f":"'1.Портфель кредитів'!D483","v":""},{"$f":"'1.Портфель кредитів'!#REF!","v":{"$error":"#REF!"}},{"$f":"'1.Портфель кредитів'!#REF!","v":{"$error":"#REF!"}},{"$f":"'1.Портфель кредитів'!#REF!","v":{"$error":"#REF!"}},{"$f":"'1.Портфель кредитів'!I483","v":0},{"$f":"'1.Портфель кредитів'!W483","v":0},{"$f":"'1.Портфель кредитів'!Y483","v":""},4,"2018-06-01","_4_43252_2"]
[{"$f":"'1.Портфель кредитів'!H484","v":0},{"$f":"'1.Портфель кредитів'!D484","v":""},{"$f":"'1.Портфель кредитів'!#REF!","v":{"$error":"#REF!"}},{"$f":"'1.Портфель кредитів'!#REF!","v":{"$error":"#REF!"}},{"$f":"'1.Портфель кредитів'!#REF!","v":{"$error":"#REF!"}},{"$f":"'1.Портфель кредитів'!I484","v":0},{"$f":"'1.Портфель кредитів'!W484","v":0},{"$f":"'1.Портфель кредитів'!Y484","v":""},4,"2018-06-01","_4_43252_2"]
[{"$f":"'1.Портфель кредитів'!H485","v":0},{"$f":"'1.Портфель кредитів'!D485","v":""},{"$f":"'1.Портфель кредитів'!#REF!","v":{"$error":"#REF!"}},{"$f":"'1.Портфель кредитів'!#REF!","v":{"$error":"#REF!"}},{"$f":"'1.Портфель кредитів'!#REF!","v":{"$error":"#REF!"}},{"$f":"'1.Портфель кредитів'!I485","v":0},{"$f":"'1.Портфель кредитів'!W485","v":0},{"$f":"'1.Портфель кредитів'!Y485","v":""},4,"2018-06-01","_4_43252_2"]
[{"$f":"'1.Портфель кредитів'!H486","v":0},{"$f":"'1.Портфель кредитів'!D486","v":""},{"$f":"'1.Портфель кредитів'!#REF!","v":{"$error":"#REF!"}},{"$f":"'1.Портфель кредитів'!#REF!","v":{"$error":"#REF!"}},{"$f":"'1.Портфель кредитів'!#REF!","v":{"$error":"#REF!"}},{"$f":"'1.Портфель кредитів'!I486","v":0},{"$f":"'1.Портфель кредитів'!W486","v":0},{"$f":"'1.Портфель кредитів'!Y486","v":""},4,"2018-06-01","_4_43252_2"]
[{"$f":"'1.Портфель кредитів'!H487","v":0},{"$f":"'1.Портфель кредитів'!D487","v":""},{"$f":"'1.Портфель кредитів'!#REF!","v":{"$error":"#REF!"}},{"$f":"'1.Портфель кредитів'!#REF!","v":{"$error":"#REF!"}},{"$f":"'1.Портфель кредитів'!#REF!","v":{"$error":"#REF!"}},{"$f":"'1.Портфель кредитів'!I487","v":0},{"$f":"'1.Портфель кредитів'!W487","v":0},{"$f":"'1.Портфель кредитів'!Y487","v":""},4,"2018-06-01","_4_43252_2"]
[{"$f":"'1.Портфель кредитів'!H488","v":0},{"$f":"'1.Портфель кредитів'!D488","v":""},{"$f":"'1.Портфель кредитів'!#REF!","v":{"$error":"#REF!"}},{"$f":"'1.Портфель кредитів'!#REF!","v":{"$error":"#REF!"}},{"$f":"'1.Портфель кредитів'!#REF!","v":{"$error":"#REF!"}},{"$f":"'1.Портфель кредитів'!I488","v":0},{"$f":"'1.Портфель кредитів'!W488","v":0},{"$f":"'1.Портфель кредитів'!Y488","v":""},4,"2018-06-01","_4_43252_2"]
[{"$f":"'1.Портфель кредитів'!H489","v":0},{"$f":"'1.Портфель кредитів'!D489","v":""},{"$f":"'1.Портфель кредитів'!#REF!","v":{"$error":"#REF!"}},{"$f":"'1.Портфель кредитів'!#REF!","v":{"$error":"#REF!"}},{"$f":"'1.Портфель кредитів'!#REF!","v":{"$error":"#REF!"}},{"$f":"'1.Портфель кредитів'!I489","v":0},{"$f":"'1.Портфель кредитів'!W489","v":0},{"$f":"'1.Портфель кредитів'!Y489","v":""},4,"2018-06-01","_4_43252_2"]
[{"$f":"'1.Портфель кредитів'!H490","v":0},{"$f":"'1.Портфель кредитів'!D490","v":""},{"$f":"'1.Портфель кредитів'!#REF!","v":{"$error":"#REF!"}},{"$f":"'1.Портфель кредитів'!#REF!","v":{"$error":"#REF!"}},{"$f":"'1.Портфель кредитів'!#REF!","v":{"$error":"#REF!"}},{"$f":"'1.Портфель кредитів'!I490","v":0},{"$f":"'1.Портфель кредитів'!W490","v":0},{"$f":"'1.Портфель кредитів'!Y490","v":""},4,"2018-06-01","_4_43252_2"]
[{"$f":"'1.Портфель кредитів'!H491","v":0},{"$f":"'1.Портфель кредитів'!D491","v":""},{"$f":"'1.Портфель кредитів'!#REF!","v":{"$error":"#REF!"}},{"$f":"'1.Портфель кредитів'!#REF!","v":{"$error":"#REF!"}},{"$f":"'1.Портфель кредитів'!#REF!","v":{"$error":"#REF!"}},{"$f":"'1.Портфель кредитів'!I491","v":0},{"$f":"'1.Портфель кредитів'!W491","v":0},{"$f":"'1.Портфель кредитів'!Y491","v":""},4,"2018-06-01","_4_43252_2"]
[{"$f":"'1.Портфель кредитів'!H492","v":0},{"$f":"'1.Портфель кредитів'!D492","v":""},{"$f":"'1.Портфель кредитів'!#REF!","v":{"$error":"#REF!"}},{"$f":"'1.Портфель кредитів'!#REF!","v":{"$error":"#REF!"}},{"$f":"'1.Портфель кредитів'!#REF!","v":{"$error":"#REF!"}},{"$f":"'1.Портфель кредитів'!I492","v":0},{"$f":"'1.Портфель кредитів'!W492","v":0},{"$f":"'1.Портфель кредитів'!Y492","v":""},4,"2018-06-01","_4_43252_2"]
[{"$f":"'1.Портфель кредитів'!H493","v":0},{"$f":"'1.Портфель кредитів'!D493","v":""},{"$f":"'1.Портфель кредитів'!#REF!","v":{"$error":"#REF!"}},{"$f":"'1.Портфель кредитів'!#REF!","v":{"$error":"#REF!"}},{"$f":"'1.Портфель кредитів'!#REF!","v":{"$error":"#REF!"}},{"$f":"'1.Портфель кредитів'!I493","v":0},{"$f":"'1.Портфель кредитів'!W493","v":0},{"$f":"'1.Портфель кредитів'!Y493","v":""},{"$f":"$E$1","v":4},{"$f":"$E$2","v":"2018-06-01"},{"$f":"B518&\"_\"&I518&\"_\"&J518&\"_\"&$E$3","v":"_4_43252_2"}]
[{"$f":"'1.Портфель кредитів'!H494","v":0},{"$f":"'1.Портфель кредитів'!D494","v":""},{"$f":"'1.Портфель кредитів'!#REF!","v":{"$error":"#REF!"}},{"$f":"'1.Портфель кредитів'!#REF!","v":{"$error":"#REF!"}},{"$f":"'1.Портфель кредитів'!#REF!","v":{"$error":"#REF!"}},{"$f":"'1.Портфель кредитів'!I494","v":0},{"$f":"'1.Портфель кредитів'!W494","v":0},{"$f":"'1.Портфель кредитів'!Y494","v":""},4,"2018-06-01","_4_43252_2"]
[{"$f":"'1.Портфель кредитів'!H495","v":0},{"$f":"'1.Портфель кредитів'!D495","v":""},{"$f":"'1.Портфель кредитів'!#REF!","v":{"$error":"#REF!"}},{"$f":"'1.Портфель кредитів'!#REF!","v":{"$error":"#REF!"}},{"$f":"'1.Портфель кредитів'!#REF!","v":{"$error":"#REF!"}},{"$f":"'1.Портфель кредитів'!I495","v":0},{"$f":"'1.Портфель кредитів'!W495","v":0},{"$f":"'1.Портфель кредитів'!Y495","v":""},4,"2018-06-01","_4_43252_2"]
[{"$f":"'1.Портфель кредитів'!H496","v":0},{"$f":"'1.Портфель кредитів'!D496","v":""},{"$f":"'1.Портфель кредитів'!#REF!","v":{"$error":"#REF!"}},{"$f":"'1.Портфель кредитів'!#REF!","v":{"$error":"#REF!"}},{"$f":"'1.Портфель кредитів'!#REF!","v":{"$error":"#REF!"}},{"$f":"'1.Портфель кредитів'!I496","v":0},{"$f":"'1.Портфель кредитів'!W496","v":0},{"$f":"'1.Портфель кредитів'!Y496","v":""},4,"2018-06-01","_4_43252_2"]
[{"$f":"'1.Портфель кредитів'!H497","v":0},{"$f":"'1.Портфель кредитів'!D497","v":""},{"$f":"'1.Портфель кредитів'!#REF!","v":{"$error":"#REF!"}},{"$f":"'1.Портфель кредитів'!#REF!","v":{"$error":"#REF!"}},{"$f":"'1.Портфель кредитів'!#REF!","v":{"$error":"#REF!"}},{"$f":"'1.Портфель кредитів'!I497","v":0},{"$f":"'1.Портфель кредитів'!W497","v":0},{"$f":"'1.Портфель кредитів'!Y497","v":""},4,"2018-06-01","_4_43252_2"]
[{"$f":"'1.Портфель кредитів'!H498","v":0},{"$f":"'1.Портфель кредитів'!D498","v":""},{"$f":"'1.Портфель кредитів'!#REF!","v":{"$error":"#REF!"}},{"$f":"'1.Портфель кредитів'!#REF!","v":{"$error":"#REF!"}},{"$f":"'1.Портфель кредитів'!#REF!","v":{"$error":"#REF!"}},{"$f":"'1.Портфель кредитів'!I498","v":0},{"$f":"'1.Портфель кредитів'!W498","v":0},{"$f":"'1.Портфель кредитів'!Y498","v":""},4,"2018-06-01","_4_43252_2"]
[{"$f":"'1.Портфель кредитів'!H499","v":0},{"$f":"'1.Портфель кредитів'!D499","v":""},{"$f":"'1.Портфель кредитів'!#REF!","v":{"$error":"#REF!"}},{"$f":"'1.Портфель кредитів'!#REF!","v":{"$error":"#REF!"}},{"$f":"'1.Портфель кредитів'!#REF!","v":{"$error":"#REF!"}},{"$f":"'1.Портфель кредитів'!I499","v":0},{"$f":"'1.Портфель кредитів'!W499","v":0},{"$f":"'1.Портфель кредитів'!Y499","v":""},4,"2018-06-01","_4_43252_2"]
[{"$f":"'1.Портфель кредитів'!H500","v":0},{"$f":"'1.Портфель кредитів'!D500","v":""},{"$f":"'1.Портфель кредитів'!#REF!","v":{"$error":"#REF!"}},{"$f":"'1.Портфель кредитів'!#REF!","v":{"$error":"#REF!"}},{"$f":"'1.Портфель кредитів'!#REF!","v":{"$error":"#REF!"}},{"$f":"'1.Портфель кредитів'!I500","v":0},{"$f":"'1.Портфель кредитів'!W500","v":0},{"$f":"'1.Портфель кредитів'!Y500","v":""},4,"2018-06-01","_4_43252_2"]
[{"$f":"'1.Портфель кредитів'!H501","v":0},{"$f":"'1.Портфель кредитів'!D501","v":""},{"$f":"'1.Портфель кредитів'!#REF!","v":{"$error":"#REF!"}},{"$f":"'1.Портфель кредитів'!#REF!","v":{"$error":"#REF!"}},{"$f":"'1.Портфель кредитів'!#REF!","v":{"$error":"#REF!"}},{"$f":"'1.Портфель кредитів'!I501","v":0},{"$f":"'1.Портфель кредитів'!W501","v":0},{"$f":"'1.Портфель кредитів'!Y501","v":""},4,"2018-06-01","_4_43252_2"]
[{"$f":"'1.Портфель кредитів'!H502","v":0},{"$f":"'1.Портфель кредитів'!D502","v":""},{"$f":"'1.Портфель кредитів'!#REF!","v":{"$error":"#REF!"}},{"$f":"'1.Портфель кредитів'!#REF!","v":{"$error":"#REF!"}},{"$f":"'1.Портфель кредитів'!#REF!","v":{"$error":"#REF!"}},{"$f":"'1.Портфель кредитів'!I502","v":0},{"$f":"'1.Портфель кредитів'!W502","v":0},{"$f":"'1.Портфель кредитів'!Y502","v":""},4,"2018-06-01","_4_43252_2"]
[{"$f":"'1.Портфель кредитів'!H503","v":0},{"$f":"'1.Портфель кредитів'!D503","v":""},{"$f":"'1.Портфель кредитів'!#REF!","v":{"$error":"#REF!"}},{"$f":"'1.Портфель кредитів'!#REF!","v":{"$error":"#REF!"}},{"$f":"'1.Портфель кредитів'!#REF!","v":{"$error":"#REF!"}},{"$f":"'1.Портфель кредитів'!I503","v":0},{"$f":"'1.Портфель кредитів'!W503","v":0},{"$f":"'1.Портфель кредитів'!Y503","v":""},4,"2018-06-01","_4_43252_2"]
[{"$f":"'1.Портфель кредитів'!H504","v":0},{"$f":"'1.Портфель кредитів'!D504","v":""},{"$f":"'1.Портфель кредитів'!#REF!","v":{"$error":"#REF!"}},{"$f":"'1.Портфель кредитів'!#REF!","v":{"$error":"#REF!"}},{"$f":"'1.Портфель кредитів'!#REF!","v":{"$error":"#REF!"}},{"$f":"'1.Портфель кредитів'!I504","v":0},{"$f":"'1.Портфель кредитів'!W504","v":0},{"$f":"'1.Портфель кредитів'!Y504","v":""},4,"2018-06-01","_4_43252_2"]
[{"$f":"'1.Портфель кредитів'!H505","v":0},{"$f":"'1.Портфель кредитів'!D505","v":""},{"$f":"'1.Портфель кредитів'!#REF!","v":{"$error":"#REF!"}},{"$f":"'1.Портфель кредитів'!#REF!","v":{"$error":"#REF!"}},{"$f":"'1.Портфель кредитів'!#REF!","v":{"$error":"#REF!"}},{"$f":"'1.Портфель кредитів'!I505","v":0},{"$f":"'1.Портфель кредитів'!W505","v":0},{"$f":"'1.Портфель кредитів'!Y505","v":""},4,"2018-06-01","_4_43252_2"]
[{"$f":"'1.Портфель кредитів'!H506","v":0},{"$f":"'1.Портфель кредитів'!D506","v":""},{"$f":"'1.Портфель кредитів'!#REF!","v":{"$error":"#REF!"}},{"$f":"'1.Портфель кредитів'!#REF!","v":{"$error":"#REF!"}},{"$f":"'1.Портфель кредитів'!#REF!","v":{"$error":"#REF!"}},{"$f":"'1.Портфель кредитів'!I506","v":0},{"$f":"'1.Портфель кредитів'!W506","v":0},{"$f":"'1.Портфель кредитів'!Y506","v":""},4,"2018-06-01","_4_43252_2"]
[{"$f":"'1.Портфель кредитів'!H507","v":0},{"$f":"'1.Портфель кредитів'!D507","v":""},{"$f":"'1.Портфель кредитів'!#REF!","v":{"$error":"#REF!"}},{"$f":"'1.Портфель кредитів'!#REF!","v":{"$error":"#REF!"}},{"$f":"'1.Портфель кредитів'!#REF!","v":{"$error":"#REF!"}},{"$f":"'1.Портфель кредитів'!I507","v":0},{"$f":"'1.Портфель кредитів'!W507","v":0},{"$f":"'1.Портфель кредитів'!Y507","v":""},4,"2018-06-01","_4_43252_2"]
[{"$f":"'1.Портфель кредитів'!H508","v":0},{"$f":"'1.Портфель кредитів'!D508","v":""},{"$f":"'1.Портфель кредитів'!#REF!","v":{"$error":"#REF!"}},{"$f":"'1.Портфель кредитів'!#REF!","v":{"$error":"#REF!"}},{"$f":"'1.Портфель кредитів'!#REF!","v":{"$error":"#REF!"}},{"$f":"'1.Портфель кредитів'!I508","v":0},{"$f":"'1.Портфель кредитів'!W508","v":0},{"$f":"'1.Портфель кредитів'!Y508","v":""},4,"2018-06-01","_4_43252_2"]
[{"$f":"'1.Портфель кредитів'!H509","v":0},{"$f":"'1.Портфель кредитів'!D509","v":""},{"$f":"'1.Портфель кредитів'!#REF!","v":{"$error":"#REF!"}},{"$f":"'1.Портфель кредитів'!#REF!","v":{"$error":"#REF!"}},{"$f":"'1.Портфель кредитів'!#REF!","v":{"$error":"#REF!"}},{"$f":"'1.Портфель кредитів'!I509","v":0},{"$f":"'1.Портфель кредитів'!W509","v":0},{"$f":"'1.Портфель кредитів'!Y509","v":""},4,"2018-06-01","_4_43252_2"]
[{"$f":"'1.Портфель кредитів'!H510","v":0},{"$f":"'1.Портфель кредитів'!D510","v":""},{"$f":"'1.Портфель кредитів'!#REF!","v":{"$error":"#REF!"}},{"$f":"'1.Портфель кредитів'!#REF!","v":{"$error":"#REF!"}},{"$f":"'1.Портфель кредитів'!#REF!","v":{"$error":"#REF!"}},{"$f":"'1.Портфель кредитів'!I510","v":0},{"$f":"'1.Портфель кредитів'!W510","v":0},{"$f":"'1.Портфель кредитів'!Y510","v":""},4,"2018-06-01","_4_43252_2"]
[{"$f":"'1.Портфель кредитів'!H511","v":0},{"$f":"'1.Портфель кредитів'!D511","v":""},{"$f":"'1.Портфель кредитів'!#REF!","v":{"$error":"#REF!"}},{"$f":"'1.Портфель кредитів'!#REF!","v":{"$error":"#REF!"}},{"$f":"'1.Портфель кредитів'!#REF!","v":{"$error":"#REF!"}},{"$f":"'1.Портфель кредитів'!I511","v":0},{"$f":"'1.Портфель кредитів'!W511","v":0},{"$f":"'1.Портфель кредитів'!Y511","v":""},4,"2018-06-01","_4_43252_2"]
[{"$f":"'1.Портфель кредитів'!H512","v":0},{"$f":"'1.Портфель кредитів'!D512","v":""},{"$f":"'1.Портфель кредитів'!#REF!","v":{"$error":"#REF!"}},{"$f":"'1.Портфель кредитів'!#REF!","v":{"$error":"#REF!"}},{"$f":"'1.Портфель кредитів'!#REF!","v":{"$error":"#REF!"}},{"$f":"'1.Портфель кредитів'!I512","v":0},{"$f":"'1.Портфель кредитів'!W512","v":0},{"$f":"'1.Портфель кредитів'!Y512","v":""},4,"2018-06-01","_4_43252_2"]
[{"$f":"'1.Портфель кредитів'!H513","v":0},{"$f":"'1.Портфель кредитів'!D513","v":""},{"$f":"'1.Портфель кредитів'!#REF!","v":{"$error":"#REF!"}},{"$f":"'1.Портфель кредитів'!#REF!","v":{"$error":"#REF!"}},{"$f":"'1.Портфель кредитів'!#REF!","v":{"$error":"#REF!"}},{"$f":"'1.Портфель кредитів'!I513","v":0},{"$f":"'1.Портфель кредитів'!W513","v":0},{"$f":"'1.Портфель кредитів'!Y513","v":""},4,"2018-06-01","_4_43252_2"]
[{"$f":"'1.Портфель кредитів'!H514","v":0},{"$f":"'1.Портфель кредитів'!D514","v":""},{"$f":"'1.Портфель кредитів'!#REF!","v":{"$error":"#REF!"}},{"$f":"'1.Портфель кредитів'!#REF!","v":{"$error":"#REF!"}},{"$f":"'1.Портфель кредитів'!#REF!","v":{"$error":"#REF!"}},{"$f":"'1.Портфель кредитів'!I514","v":0},{"$f":"'1.Портфель кредитів'!W514","v":0},{"$f":"'1.Портфель кредитів'!Y514","v":""},4,"2018-06-01","_4_43252_2"]
[{"$f":"'1.Портфель кредитів'!H515","v":0},{"$f":"'1.Портфель кредитів'!D515","v":""},{"$f":"'1.Портфель кредитів'!#REF!","v":{"$error":"#REF!"}},{"$f":"'1.Портфель кредитів'!#REF!","v":{"$error":"#REF!"}},{"$f":"'1.Портфель кредитів'!#REF!","v":{"$error":"#REF!"}},{"$f":"'1.Портфель кредитів'!I515","v":0},{"$f":"'1.Портфель кредитів'!W515","v":0},{"$f":"'1.Портфель кредитів'!Y515","v":""},4,"2018-06-01","_4_43252_2"]
[{"$f":"'1.Портфель кредитів'!H516","v":0},{"$f":"'1.Портфель кредитів'!D516","v":""},{"$f":"'1.Портфель кредитів'!#REF!","v":{"$error":"#REF!"}},{"$f":"'1.Портфель кредитів'!#REF!","v":{"$error":"#REF!"}},{"$f":"'1.Портфель кредитів'!#REF!","v":{"$error":"#REF!"}},{"$f":"'1.Портфель кредитів'!I516","v":0},{"$f":"'1.Портфель кредитів'!W516","v":0},{"$f":"'1.Портфель кредитів'!Y516","v":""},4,"2018-06-01","_4_43252_2"]
[{"$f":"'1.Портфель кредитів'!H517","v":0},{"$f":"'1.Портфель кредитів'!D517","v":""},{"$f":"'1.Портфель кредитів'!#REF!","v":{"$error":"#REF!"}},{"$f":"'1.Портфель кредитів'!#REF!","v":{"$error":"#REF!"}},{"$f":"'1.Портфель кредитів'!#REF!","v":{"$error":"#REF!"}},{"$f":"'1.Портфель кредитів'!I517","v":0},{"$f":"'1.Портфель кредитів'!W517","v":0},{"$f":"'1.Портфель кредитів'!Y517","v":""},4,"2018-06-01","_4_43252_2"]
[{"$f":"'1.Портфель кредитів'!H518","v":0},{"$f":"'1.Портфель кредитів'!D518","v":""},{"$f":"'1.Портфель кредитів'!#REF!","v":{"$error":"#REF!"}},{"$f":"'1.Портфель кредитів'!#REF!","v":{"$error":"#REF!"}},{"$f":"'1.Портфель кредитів'!#REF!","v":{"$error":"#REF!"}},{"$f":"'1.Портфель кредитів'!I518","v":0},{"$f":"'1.Портфель кредитів'!W518","v":0},{"$f":"'1.Портфель кредитів'!Y518","v":""},4,"2018-06-01","_4_43252_2"]
[{"$f":"'1.Портфель кредитів'!H519","v":0},{"$f":"'1.Портфель кредитів'!D519","v":""},{"$f":"'1.Портфель кредитів'!#REF!","v":{"$error":"#REF!"}},{"$f":"'1.Портфель кредитів'!#REF!","v":{"$error":"#REF!"}},{"$f":"'1.Портфель кредитів'!#REF!","v":{"$error":"#REF!"}},{"$f":"'1.Портфель кредитів'!I519","v":0},{"$f":"'1.Портфель кредитів'!W519","v":0},{"$f":"'1.Портфель кредитів'!Y519","v":""},4,"2018-06-01","_4_43252_2"]
[{"$f":"'1.Портфель кредитів'!H520","v":0},{"$f":"'1.Портфель кредитів'!D520","v":""},{"$f":"'1.Портфель кредитів'!#REF!","v":{"$error":"#REF!"}},{"$f":"'1.Портфель кредитів'!#REF!","v":{"$error":"#REF!"}},{"$f":"'1.Портфель кредитів'!#REF!","v":{"$error":"#REF!"}},{"$f":"'1.Портфель кредитів'!I520","v":0},{"$f":"'1.Портфель кредитів'!W520","v":0},{"$f":"'1.Портфель кредитів'!Y520","v":""},4,"2018-06-01","_4_43252_2"]
[{"$f":"'1.Портфель кредитів'!H521","v":0},{"$f":"'1.Портфель кредитів'!D521","v":""},{"$f":"'1.Портфель кредитів'!#REF!","v":{"$error":"#REF!"}},{"$f":"'1.Портфель кредитів'!#REF!","v":{"$error":"#REF!"}},{"$f":"'1.Портфель кредитів'!#REF!","v":{"$error":"#REF!"}},{"$f":"'1.Портфель кредитів'!I521","v":0},{"$f":"'1.Портфель кредитів'!W521","v":0},{"$f":"'1.Портфель кредитів'!Y521","v":""},4,"2018-06-01","_4_43252_2"]
[{"$f":"'1.Портфель кредитів'!H522","v":0},{"$f":"'1.Портфель кредитів'!D522","v":""},{"$f":"'1.Портфель кредитів'!#REF!","v":{"$error":"#REF!"}},{"$f":"'1.Портфель кредитів'!#REF!","v":{"$error":"#REF!"}},{"$f":"'1.Портфель кредитів'!#REF!","v":{"$error":"#REF!"}},{"$f":"'1.Портфель кредитів'!I522","v":0},{"$f":"'1.Портфель кредитів'!W522","v":0},{"$f":"'1.Портфель кредитів'!Y522","v":""},4,"2018-06-01","_4_43252_2"]
[{"$f":"'1.Портфель кредитів'!H523","v":0},{"$f":"'1.Портфель кредитів'!D523","v":""},{"$f":"'1.Портфель кредитів'!#REF!","v":{"$error":"#REF!"}},{"$f":"'1.Портфель кредитів'!#REF!","v":{"$error":"#REF!"}},{"$f":"'1.Портфель кредитів'!#REF!","v":{"$error":"#REF!"}},{"$f":"'1.Портфель кредитів'!I523","v":0},{"$f":"'1.Портфель кредитів'!W523","v":0},{"$f":"'1.Портфель кредитів'!Y523","v":""},4,"2018-06-01","_4_43252_2"]
[{"$f":"'1.Портфель кредитів'!H524","v":0},{"$f":"'1.Портфель кредитів'!D524","v":""},{"$f":"'1.Портфель кредитів'!#REF!","v":{"$error":"#REF!"}},{"$f":"'1.Портфель кредитів'!#REF!","v":{"$error":"#REF!"}},{"$f":"'1.Портфель кредитів'!#REF!","v":{"$error":"#REF!"}},{"$f":"'1.Портфель кредитів'!I524","v":0},{"$f":"'1.Портфель кредитів'!W524","v":0},{"$f":"'1.Портфель кредитів'!Y524","v":""},4,"2018-06-01","_4_43252_2"]
[{"$f":"'1.Портфель кредитів'!H525","v":0},{"$f":"'1.Портфель кредитів'!D525","v":""},{"$f":"'1.Портфель кредитів'!#REF!","v":{"$error":"#REF!"}},{"$f":"'1.Портфель кредитів'!#REF!","v":{"$error":"#REF!"}},{"$f":"'1.Портфель кредитів'!#REF!","v":{"$error":"#REF!"}},{"$f":"'1.Портфель кредитів'!I525","v":0},{"$f":"'1.Портфель кредитів'!W525","v":0},{"$f":"'1.Портфель кредитів'!Y525","v":""},4,"2018-06-01","_4_43252_2"]
[{"$f":"'1.Портфель кредитів'!H526","v":0},{"$f":"'1.Портфель кредитів'!D526","v":""},{"$f":"'1.Портфель кредитів'!#REF!","v":{"$error":"#REF!"}},{"$f":"'1.Портфель кредитів'!#REF!","v":{"$error":"#REF!"}},{"$f":"'1.Портфель кредитів'!#REF!","v":{"$error":"#REF!"}},{"$f":"'1.Портфель кредитів'!I526","v":0},{"$f":"'1.Портфель кредитів'!W526","v":0},{"$f":"'1.Портфель кредитів'!Y526","v":""},4,"2018-06-01","_4_43252_2"]
[{"$f":"'1.Портфель кредитів'!H527","v":0},{"$f":"'1.Портфель кредитів'!D527","v":""},{"$f":"'1.Портфель кредитів'!#REF!","v":{"$error":"#REF!"}},{"$f":"'1.Портфель кредитів'!#REF!","v":{"$error":"#REF!"}},{"$f":"'1.Портфель кредитів'!#REF!","v":{"$error":"#REF!"}},{"$f":"'1.Портфель кредитів'!I527","v":0},{"$f":"'1.Портфель кредитів'!W527","v":0},{"$f":"'1.Портфель кредитів'!Y527","v":""},4,"2018-06-01","_4_43252_2"]
[{"$f":"'1.Портфель кредитів'!H528","v":0},{"$f":"'1.Портфель кредитів'!D528","v":""},{"$f":"'1.Портфель кредитів'!#REF!","v":{"$error":"#REF!"}},{"$f":"'1.Портфель кредитів'!#REF!","v":{"$error":"#REF!"}},{"$f":"'1.Портфель кредитів'!#REF!","v":{"$error":"#REF!"}},{"$f":"'1.Портфель кредитів'!I528","v":0},{"$f":"'1.Портфель кредитів'!W528","v":0},{"$f":"'1.Портфель кредитів'!Y528","v":""},4,"2018-06-01","_4_43252_2"]
[{"$f":"'1.Портфель кредитів'!H529","v":0},{"$f":"'1.Портфель кредитів'!D529","v":""},{"$f":"'1.Портфель кредитів'!#REF!","v":{"$error":"#REF!"}},{"$f":"'1.Портфель кредитів'!#REF!","v":{"$error":"#REF!"}},{"$f":"'1.Портфель кредитів'!#REF!","v":{"$error":"#REF!"}},{"$f":"'1.Портфель кредитів'!I529","v":0},{"$f":"'1.Портфель кредитів'!W529","v":0},{"$f":"'1.Портфель кредитів'!Y529","v":""},4,"2018-06-01","_4_43252_2"]
[{"$f":"'1.Портфель кредитів'!H530","v":0},{"$f":"'1.Портфель кредитів'!D530","v":""},{"$f":"'1.Портфель кредитів'!#REF!","v":{"$error":"#REF!"}},{"$f":"'1.Портфель кредитів'!#REF!","v":{"$error":"#REF!"}},{"$f":"'1.Портфель кредитів'!#REF!","v":{"$error":"#REF!"}},{"$f":"'1.Портфель кредитів'!I530","v":0},{"$f":"'1.Портфель кредитів'!W530","v":0},{"$f":"'1.Портфель кредитів'!Y530","v":""},4,"2018-06-01","_4_43252_2"]
[{"$f":"'1.Портфель кредитів'!H531","v":0},{"$f":"'1.Портфель кредитів'!D531","v":""},{"$f":"'1.Портфель кредитів'!#REF!","v":{"$error":"#REF!"}},{"$f":"'1.Портфель кредитів'!#REF!","v":{"$error":"#REF!"}},{"$f":"'1.Портфель кредитів'!#REF!","v":{"$error":"#REF!"}},{"$f":"'1.Портфель кредитів'!I531","v":0},{"$f":"'1.Портфель кредитів'!W531","v":0},{"$f":"'1.Портфель кредитів'!Y531","v":""},4,"2018-06-01","_4_43252_2"]
[{"$f":"'1.Портфель кредитів'!H532","v":0},{"$f":"'1.Портфель кредитів'!D532","v":""},{"$f":"'1.Портфель кредитів'!#REF!","v":{"$error":"#REF!"}},{"$f":"'1.Портфель кредитів'!#REF!","v":{"$error":"#REF!"}},{"$f":"'1.Портфель кредитів'!#REF!","v":{"$error":"#REF!"}},{"$f":"'1.Портфель кредитів'!I532","v":0},{"$f":"'1.Портфель кредитів'!W532","v":0},{"$f":"'1.Портфель кредитів'!Y532","v":""},4,"2018-06-01","_4_43252_2"]
[{"$f":"'1.Портфель кредитів'!H533","v":0},{"$f":"'1.Портфель кредитів'!D533","v":""},{"$f":"'1.Портфель кредитів'!#REF!","v":{"$error":"#REF!"}},{"$f":"'1.Портфель кредитів'!#REF!","v":{"$error":"#REF!"}},{"$f":"'1.Портфель кредитів'!#REF!","v":{"$error":"#REF!"}},{"$f":"'1.Портфель кредитів'!I533","v":0},{"$f":"'1.Портфель кредитів'!W533","v":0},{"$f":"'1.Портфель кредитів'!Y533","v":""},4,"2018-06-01","_4_43252_2"]
[{"$f":"'1.Портфель кредитів'!H534","v":0},{"$f":"'1.Портфель кредитів'!D534","v":""},{"$f":"'1.Портфель кредитів'!#REF!","v":{"$error":"#REF!"}},{"$f":"'1.Портфель кредитів'!#REF!","v":{"$error":"#REF!"}},{"$f":"'1.Портфель кредитів'!#REF!","v":{"$error":"#REF!"}},{"$f":"'1.Портфель кредитів'!I534","v":0},{"$f":"'1.Портфель кредитів'!W534","v":0},{"$f":"'1.Портфель кредитів'!Y534","v":""},4,"2018-06-01","_4_43252_2"]
[{"$f":"'1.Портфель кредитів'!H535","v":0},{"$f":"'1.Портфель кредитів'!D535","v":""},{"$f":"'1.Портфель кредитів'!#REF!","v":{"$error":"#REF!"}},{"$f":"'1.Портфель кредитів'!#REF!","v":{"$error":"#REF!"}},{"$f":"'1.Портфель кредитів'!#REF!","v":{"$error":"#REF!"}},{"$f":"'1.Портфель кредитів'!I535","v":0},{"$f":"'1.Портфель кредитів'!W535","v":0},{"$f":"'1.Портфель кредитів'!Y535","v":""},4,"2018-06-01","_4_43252_2"]
[{"$f":"'1.Портфель кредитів'!H536","v":0},{"$f":"'1.Портфель кредитів'!D536","v":""},{"$f":"'1.Портфель кредитів'!#REF!","v":{"$error":"#REF!"}},{"$f":"'1.Портфель кредитів'!#REF!","v":{"$error":"#REF!"}},{"$f":"'1.Портфель кредитів'!#REF!","v":{"$error":"#REF!"}},{"$f":"'1.Портфель кредитів'!I536","v":0},{"$f":"'1.Портфель кредитів'!W536","v":0},{"$f":"'1.Портфель кредитів'!Y536","v":""},4,"2018-06-01","_4_43252_2"]
[{"$f":"'1.Портфель кредитів'!H537","v":0},{"$f":"'1.Портфель кредитів'!D537","v":""},{"$f":"'1.Портфель кредитів'!#REF!","v":{"$error":"#REF!"}},{"$f":"'1.Портфель кредитів'!#REF!","v":{"$error":"#REF!"}},{"$f":"'1.Портфель кредитів'!#REF!","v":{"$error":"#REF!"}},{"$f":"'1.Портфель кредитів'!I537","v":0},{"$f":"'1.Портфель кредитів'!W537","v":0},{"$f":"'1.Портфель кредитів'!Y537","v":""},4,"2018-06-01","_4_43252_2"]
[{"$f":"'1.Портфель кредитів'!H538","v":0},{"$f":"'1.Портфель кредитів'!D538","v":""},{"$f":"'1.Портфель кредитів'!#REF!","v":{"$error":"#REF!"}},{"$f":"'1.Портфель кредитів'!#REF!","v":{"$error":"#REF!"}},{"$f":"'1.Портфель кредитів'!#REF!","v":{"$error":"#REF!"}},{"$f":"'1.Портфель кредитів'!I538","v":0},{"$f":"'1.Портфель кредитів'!W538","v":0},{"$f":"'1.Портфель кредитів'!Y538","v":""},4,"2018-06-01","_4_43252_2"]
[{"$f":"'1.Портфель кредитів'!H539","v":0},{"$f":"'1.Портфель кредитів'!D539","v":""},{"$f":"'1.Портфель кредитів'!#REF!","v":{"$error":"#REF!"}},{"$f":"'1.Портфель кредитів'!#REF!","v":{"$error":"#REF!"}},{"$f":"'1.Портфель кредитів'!#REF!","v":{"$error":"#REF!"}},{"$f":"'1.Портфель кредитів'!I539","v":0},{"$f":"'1.Портфель кредитів'!W539","v":0},{"$f":"'1.Портфель кредитів'!Y539","v":""},4,"2018-06-01","_4_43252_2"]
[{"$f":"'1.Портфель кредитів'!H540","v":0},{"$f":"'1.Портфель кредитів'!D540","v":""},{"$f":"'1.Портфель кредитів'!#REF!","v":{"$error":"#REF!"}},{"$f":"'1.Портфель кредитів'!#REF!","v":{"$error":"#REF!"}},{"$f":"'1.Портфель кредитів'!#REF!","v":{"$error":"#REF!"}},{"$f":"'1.Портфель кредитів'!I540","v":0},{"$f":"'1.Портфель кредитів'!W540","v":0},{"$f":"'1.Портфель кредитів'!Y540","v":""},4,"2018-06-01","_4_43252_2"]
[{"$f":"'1.Портфель кредитів'!H541","v":0},{"$f":"'1.Портфель кредитів'!D541","v":""},{"$f":"'1.Портфель кредитів'!#REF!","v":{"$error":"#REF!"}},{"$f":"'1.Портфель кредитів'!#REF!","v":{"$error":"#REF!"}},{"$f":"'1.Портфель кредитів'!#REF!","v":{"$error":"#REF!"}},{"$f":"'1.Портфель кредитів'!I541","v":0},{"$f":"'1.Портфель кредитів'!W541","v":0},{"$f":"'1.Портфель кредитів'!Y541","v":""},4,"2018-06-01","_4_43252_2"]
[{"$f":"'1.Портфель кредитів'!H542","v":0},{"$f":"'1.Портфель кредитів'!D542","v":""},{"$f":"'1.Портфель кредитів'!#REF!","v":{"$error":"#REF!"}},{"$f":"'1.Портфель кредитів'!#REF!","v":{"$error":"#REF!"}},{"$f":"'1.Портфель кредитів'!#REF!","v":{"$error":"#REF!"}},{"$f":"'1.Портфель кредитів'!I542","v":0},{"$f":"'1.Портфель кредитів'!W542","v":0},{"$f":"'1.Портфель кредитів'!Y542","v":""},4,"2018-06-01","_4_43252_2"]
[{"$f":"'1.Портфель кредитів'!H543","v":0},{"$f":"'1.Портфель кредитів'!D543","v":""},{"$f":"'1.Портфель кредитів'!#REF!","v":{"$error":"#REF!"}},{"$f":"'1.Портфель кредитів'!#REF!","v":{"$error":"#REF!"}},{"$f":"'1.Портфель кредитів'!#REF!","v":{"$error":"#REF!"}},{"$f":"'1.Портфель кредитів'!I543","v":0},{"$f":"'1.Портфель кредитів'!W543","v":0},{"$f":"'1.Портфель кредитів'!Y543","v":""},4,"2018-06-01","_4_43252_2"]
[{"$f":"'1.Портфель кредитів'!H544","v":0},{"$f":"'1.Портфель кредитів'!D544","v":""},{"$f":"'1.Портфель кредитів'!#REF!","v":{"$error":"#REF!"}},{"$f":"'1.Портфель кредитів'!#REF!","v":{"$error":"#REF!"}},{"$f":"'1.Портфель кредитів'!#REF!","v":{"$error":"#REF!"}},{"$f":"'1.Портфель кредитів'!I544","v":0},{"$f":"'1.Портфель кредитів'!W544","v":0},{"$f":"'1.Портфель кредитів'!Y544","v":""},4,"2018-06-01","_4_43252_2"]
[{"$f":"'1.Портфель кредитів'!H545","v":0},{"$f":"'1.Портфель кредитів'!D545","v":""},{"$f":"'1.Портфель кредитів'!#REF!","v":{"$error":"#REF!"}},{"$f":"'1.Портфель кредитів'!#REF!","v":{"$error":"#REF!"}},{"$f":"'1.Портфель кредитів'!#REF!","v":{"$error":"#REF!"}},{"$f":"'1.Портфель кредитів'!I545","v":0},{"$f":"'1.Портфель кредитів'!W545","v":0},{"$f":"'1.Портфель кредитів'!Y545","v":""},4,"2018-06-01","_4_43252_2"]
[{"$f":"'1.Портфель кредитів'!H546","v":0},{"$f":"'1.Портфель кредитів'!D546","v":""},{"$f":"'1.Портфель кредитів'!#REF!","v":{"$error":"#REF!"}},{"$f":"'1.Портфель кредитів'!#REF!","v":{"$error":"#REF!"}},{"$f":"'1.Портфель кредитів'!#REF!","v":{"$error":"#REF!"}},{"$f":"'1.Портфель кредитів'!I546","v":0},{"$f":"'1.Портфель кредитів'!W546","v":0},{"$f":"'1.Портфель кредитів'!Y546","v":""},4,"2018-06-01","_4_43252_2"]
[{"$f":"'1.Портфель кредитів'!H547","v":0},{"$f":"'1.Портфель кредитів'!D547","v":""},{"$f":"'1.Портфель кредитів'!#REF!","v":{"$error":"#REF!"}},{"$f":"'1.Портфель кредитів'!#REF!","v":{"$error":"#REF!"}},{"$f":"'1.Портфель кредитів'!#REF!","v":{"$error":"#REF!"}},{"$f":"'1.Портфель кредитів'!I547","v":0},{"$f":"'1.Портфель кредитів'!W547","v":0},{"$f":"'1.Портфель кредитів'!Y547","v":""},4,"2018-06-01","_4_43252_2"]
[{"$f":"'1.Портфель кредитів'!H548","v":0},{"$f":"'1.Портфель кредитів'!D548","v":""},{"$f":"'1.Портфель кредитів'!#REF!","v":{"$error":"#REF!"}},{"$f":"'1.Портфель кредитів'!#REF!","v":{"$error":"#REF!"}},{"$f":"'1.Портфель кредитів'!#REF!","v":{"$error":"#REF!"}},{"$f":"'1.Портфель кредитів'!I548","v":0},{"$f":"'1.Портфель кредитів'!W548","v":0},{"$f":"'1.Портфель кредитів'!Y548","v":""},4,"2018-06-01","_4_43252_2"]
[{"$f":"'1.Портфель кредитів'!H549","v":0},{"$f":"'1.Портфель кредитів'!D549","v":""},{"$f":"'1.Портфель кредитів'!#REF!","v":{"$error":"#REF!"}},{"$f":"'1.Портфель кредитів'!#REF!","v":{"$error":"#REF!"}},{"$f":"'1.Портфель кредитів'!#REF!","v":{"$error":"#REF!"}},{"$f":"'1.Портфель кредитів'!I549","v":0},{"$f":"'1.Портфель кредитів'!W549","v":0},{"$f":"'1.Портфель кредитів'!Y549","v":""},4,"2018-06-01","_4_43252_2"]
[{"$f":"'1.Портфель кредитів'!H550","v":0},{"$f":"'1.Портфель кредитів'!D550","v":""},{"$f":"'1.Портфель кредитів'!#REF!","v":{"$error":"#REF!"}},{"$f":"'1.Портфель кредитів'!#REF!","v":{"$error":"#REF!"}},{"$f":"'1.Портфель кредитів'!#REF!","v":{"$error":"#REF!"}},{"$f":"'1.Портфель кредитів'!I550","v":0},{"$f":"'1.Портфель кредитів'!W550","v":0},{"$f":"'1.Портфель кредитів'!Y550","v":""},4,"2018-06-01","_4_43252_2"]
[{"$f":"'1.Портфель кредитів'!H551","v":0},{"$f":"'1.Портфель кредитів'!D551","v":""},{"$f":"'1.Портфель кредитів'!#REF!","v":{"$error":"#REF!"}},{"$f":"'1.Портфель кредитів'!#REF!","v":{"$error":"#REF!"}},{"$f":"'1.Портфель кредитів'!#REF!","v":{"$error":"#REF!"}},{"$f":"'1.Портфель кредитів'!I551","v":0},{"$f":"'1.Портфель кредитів'!W551","v":0},{"$f":"'1.Портфель кредитів'!Y551","v":""},4,"2018-06-01","_4_43252_2"]
[{"$f":"'1.Портфель кредитів'!H552","v":0},{"$f":"'1.Портфель кредитів'!D552","v":""},{"$f":"'1.Портфель кредитів'!#REF!","v":{"$error":"#REF!"}},{"$f":"'1.Портфель кредитів'!#REF!","v":{"$error":"#REF!"}},{"$f":"'1.Портфель кредитів'!#REF!","v":{"$error":"#REF!"}},{"$f":"'1.Портфель кредитів'!I552","v":0},{"$f":"'1.Портфель кредитів'!W552","v":0},{"$f":"'1.Портфель кредитів'!Y552","v":""},4,"2018-06-01","_4_43252_2"]
[{"$f":"'1.Портфель кредитів'!H553","v":0},{"$f":"'1.Портфель кредитів'!D553","v":""},{"$f":"'1.Портфель кредитів'!#REF!","v":{"$error":"#REF!"}},{"$f":"'1.Портфель кредитів'!#REF!","v":{"$error":"#REF!"}},{"$f":"'1.Портфель кредитів'!#REF!","v":{"$error":"#REF!"}},{"$f":"'1.Портфель кредитів'!I553","v":0},{"$f":"'1.Портфель кредитів'!W553","v":0},{"$f":"'1.Портфель кредитів'!Y553","v":""},4,"2018-06-01","_4_43252_2"]
[{"$f":"'1.Портфель кредитів'!H554","v":0},{"$f":"'1.Портфель кредитів'!D554","v":""},{"$f":"'1.Портфель кредитів'!#REF!","v":{"$error":"#REF!"}},{"$f":"'1.Портфель кредитів'!#REF!","v":{"$error":"#REF!"}},{"$f":"'1.Портфель кредитів'!#REF!","v":{"$error":"#REF!"}},{"$f":"'1.Портфель кредитів'!I554","v":0},{"$f":"'1.Портфель кредитів'!W554","v":0},{"$f":"'1.Портфель кредитів'!Y554","v":""},4,"2018-06-01","_4_43252_2"]
[{"$f":"'1.Портфель кредитів'!H555","v":0},{"$f":"'1.Портфель кредитів'!D555","v":""},{"$f":"'1.Портфель кредитів'!#REF!","v":{"$error":"#REF!"}},{"$f":"'1.Портфель кредитів'!#REF!","v":{"$error":"#REF!"}},{"$f":"'1.Портфель кредитів'!#REF!","v":{"$error":"#REF!"}},{"$f":"'1.Портфель кредитів'!I555","v":0},{"$f":"'1.Портфель кредитів'!W555","v":0},{"$f":"'1.Портфель кредитів'!Y555","v":""},4,"2018-06-01","_4_43252_2"]
[{"$f":"'1.Портфель кредитів'!H556","v":0},{"$f":"'1.Портфель кредитів'!D556","v":""},{"$f":"'1.Портфель кредитів'!#REF!","v":{"$error":"#REF!"}},{"$f":"'1.Портфель кредитів'!#REF!","v":{"$error":"#REF!"}},{"$f":"'1.Портфель кредитів'!#REF!","v":{"$error":"#REF!"}},{"$f":"'1.Портфель кредитів'!I556","v":0},{"$f":"'1.Портфель кредитів'!W556","v":0},{"$f":"'1.Портфель кредитів'!Y556","v":""},4,"2018-06-01","_4_43252_2"]
[{"$f":"'1.Портфель кредитів'!H557","v":0},{"$f":"'1.Портфель кредитів'!D557","v":""},{"$f":"'1.Портфель кредитів'!#REF!","v":{"$error":"#REF!"}},{"$f":"'1.Портфель кредитів'!#REF!","v":{"$error":"#REF!"}},{"$f":"'1.Портфель кредитів'!#REF!","v":{"$error":"#REF!"}},{"$f":"'1.Портфель кредитів'!I557","v":0},{"$f":"'1.Портфель кредитів'!W557","v":0},{"$f":"'1.Портфель кредитів'!Y557","v":""},{"$f":"$E$1","v":4},{"$f":"$E$2","v":"2018-06-01"},{"$f":"B582&\"_\"&I582&\"_\"&J582&\"_\"&$E$3","v":"_4_43252_2"}]
[{"$f":"'1.Портфель кредитів'!H558","v":0},{"$f":"'1.Портфель кредитів'!D558","v":""},{"$f":"'1.Портфель кредитів'!#REF!","v":{"$error":"#REF!"}},{"$f":"'1.Портфель кредитів'!#REF!","v":{"$error":"#REF!"}},{"$f":"'1.Портфель кредитів'!#REF!","v":{"$error":"#REF!"}},{"$f":"'1.Портфель кредитів'!I558","v":0},{"$f":"'1.Портфель кредитів'!W558","v":0},{"$f":"'1.Портфель кредитів'!Y558","v":""},4,"2018-06-01","_4_43252_2"]
[{"$f":"'1.Портфель кредитів'!H559","v":0},{"$f":"'1.Портфель кредитів'!D559","v":""},{"$f":"'1.Портфель кредитів'!#REF!","v":{"$error":"#REF!"}},{"$f":"'1.Портфель кредитів'!#REF!","v":{"$error":"#REF!"}},{"$f":"'1.Портфель кредитів'!#REF!","v":{"$error":"#REF!"}},{"$f":"'1.Портфель кредитів'!I559","v":0},{"$f":"'1.Портфель кредитів'!W559","v":0},{"$f":"'1.Портфель кредитів'!Y559","v":""},4,"2018-06-01","_4_43252_2"]
[{"$f":"'1.Портфель кредитів'!H560","v":0},{"$f":"'1.Портфель кредитів'!D560","v":""},{"$f":"'1.Портфель кредитів'!#REF!","v":{"$error":"#REF!"}},{"$f":"'1.Портфель кредитів'!#REF!","v":{"$error":"#REF!"}},{"$f":"'1.Портфель кредитів'!#REF!","v":{"$error":"#REF!"}},{"$f":"'1.Портфель кредитів'!I560","v":0},{"$f":"'1.Портфель кредитів'!W560","v":0},{"$f":"'1.Портфель кредитів'!Y560","v":""},4,"2018-06-01","_4_43252_2"]
[{"$f":"'1.Портфель кредитів'!H561","v":0},{"$f":"'1.Портфель кредитів'!D561","v":""},{"$f":"'1.Портфель кредитів'!#REF!","v":{"$error":"#REF!"}},{"$f":"'1.Портфель кредитів'!#REF!","v":{"$error":"#REF!"}},{"$f":"'1.Портфель кредитів'!#REF!","v":{"$error":"#REF!"}},{"$f":"'1.Портфель кредитів'!I561","v":0},{"$f":"'1.Портфель кредитів'!W561","v":0},{"$f":"'1.Портфель кредитів'!Y561","v":""},4,"2018-06-01","_4_43252_2"]
[{"$f":"'1.Портфель кредитів'!H562","v":0},{"$f":"'1.Портфель кредитів'!D562","v":""},{"$f":"'1.Портфель кредитів'!#REF!","v":{"$error":"#REF!"}},{"$f":"'1.Портфель кредитів'!#REF!","v":{"$error":"#REF!"}},{"$f":"'1.Портфель кредитів'!#REF!","v":{"$error":"#REF!"}},{"$f":"'1.Портфель кредитів'!I562","v":0},{"$f":"'1.Портфель кредитів'!W562","v":0},{"$f":"'1.Портфель кредитів'!Y562","v":""},4,"2018-06-01","_4_43252_2"]
[{"$f":"'1.Портфель кредитів'!H563","v":0},{"$f":"'1.Портфель кредитів'!D563","v":""},{"$f":"'1.Портфель кредитів'!#REF!","v":{"$error":"#REF!"}},{"$f":"'1.Портфель кредитів'!#REF!","v":{"$error":"#REF!"}},{"$f":"'1.Портфель кредитів'!#REF!","v":{"$error":"#REF!"}},{"$f":"'1.Портфель кредитів'!I563","v":0},{"$f":"'1.Портфель кредитів'!W563","v":0},{"$f":"'1.Портфель кредитів'!Y563","v":""},4,"2018-06-01","_4_43252_2"]
[{"$f":"'1.Портфель кредитів'!H564","v":0},{"$f":"'1.Портфель кредитів'!D564","v":""},{"$f":"'1.Портфель кредитів'!#REF!","v":{"$error":"#REF!"}},{"$f":"'1.Портфель кредитів'!#REF!","v":{"$error":"#REF!"}},{"$f":"'1.Портфель кредитів'!#REF!","v":{"$error":"#REF!"}},{"$f":"'1.Портфель кредитів'!I564","v":0},{"$f":"'1.Портфель кредитів'!W564","v":0},{"$f":"'1.Портфель кредитів'!Y564","v":""},4,"2018-06-01","_4_43252_2"]
[{"$f":"'1.Портфель кредитів'!H565","v":0},{"$f":"'1.Портфель кредитів'!D565","v":""},{"$f":"'1.Портфель кредитів'!#REF!","v":{"$error":"#REF!"}},{"$f":"'1.Портфель кредитів'!#REF!","v":{"$error":"#REF!"}},{"$f":"'1.Портфель кредитів'!#REF!","v":{"$error":"#REF!"}},{"$f":"'1.Портфель кредитів'!I565","v":0},{"$f":"'1.Портфель кредитів'!W565","v":0},{"$f":"'1.Портфель кредитів'!Y565","v":""},4,"2018-06-01","_4_43252_2"]
[{"$f":"'1.Портфель кредитів'!H566","v":0},{"$f":"'1.Портфель кредитів'!D566","v":""},{"$f":"'1.Портфель кредитів'!#REF!","v":{"$error":"#REF!"}},{"$f":"'1.Портфель кредитів'!#REF!","v":{"$error":"#REF!"}},{"$f":"'1.Портфель кредитів'!#REF!","v":{"$error":"#REF!"}},{"$f":"'1.Портфель кредитів'!I566","v":0},{"$f":"'1.Портфель кредитів'!W566","v":0},{"$f":"'1.Портфель кредитів'!Y566","v":""},4,"2018-06-01","_4_43252_2"]
[{"$f":"'1.Портфель кредитів'!H567","v":0},{"$f":"'1.Портфель кредитів'!D567","v":""},{"$f":"'1.Портфель кредитів'!#REF!","v":{"$error":"#REF!"}},{"$f":"'1.Портфель кредитів'!#REF!","v":{"$error":"#REF!"}},{"$f":"'1.Портфель кредитів'!#REF!","v":{"$error":"#REF!"}},{"$f":"'1.Портфель кредитів'!I567","v":0},{"$f":"'1.Портфель кредитів'!W567","v":0},{"$f":"'1.Портфель кредитів'!Y567","v":""},4,"2018-06-01","_4_43252_2"]
[{"$f":"'1.Портфель кредитів'!H568","v":0},{"$f":"'1.Портфель кредитів'!D568","v":""},{"$f":"'1.Портфель кредитів'!#REF!","v":{"$error":"#REF!"}},{"$f":"'1.Портфель кредитів'!#REF!","v":{"$error":"#REF!"}},{"$f":"'1.Портфель кредитів'!#REF!","v":{"$error":"#REF!"}},{"$f":"'1.Портфель кредитів'!I568","v":0},{"$f":"'1.Портфель кредитів'!W568","v":0},{"$f":"'1.Портфель кредитів'!Y568","v":""},4,"2018-06-01","_4_43252_2"]
[{"$f":"'1.Портфель кредитів'!H569","v":0},{"$f":"'1.Портфель кредитів'!D569","v":""},{"$f":"'1.Портфель кредитів'!#REF!","v":{"$error":"#REF!"}},{"$f":"'1.Портфель кредитів'!#REF!","v":{"$error":"#REF!"}},{"$f":"'1.Портфель кредитів'!#REF!","v":{"$error":"#REF!"}},{"$f":"'1.Портфель кредитів'!I569","v":0},{"$f":"'1.Портфель кредитів'!W569","v":0},{"$f":"'1.Портфель кредитів'!Y569","v":""},4,"2018-06-01","_4_43252_2"]
[{"$f":"'1.Портфель кредитів'!H570","v":0},{"$f":"'1.Портфель кредитів'!D570","v":""},{"$f":"'1.Портфель кредитів'!#REF!","v":{"$error":"#REF!"}},{"$f":"'1.Портфель кредитів'!#REF!","v":{"$error":"#REF!"}},{"$f":"'1.Портфель кредитів'!#REF!","v":{"$error":"#REF!"}},{"$f":"'1.Портфель кредитів'!I570","v":0},{"$f":"'1.Портфель кредитів'!W570","v":0},{"$f":"'1.Портфель кредитів'!Y570","v":""},4,"2018-06-01","_4_43252_2"]
[{"$f":"'1.Портфель кредитів'!H571","v":0},{"$f":"'1.Портфель кредитів'!D571","v":""},{"$f":"'1.Портфель кредитів'!#REF!","v":{"$error":"#REF!"}},{"$f":"'1.Портфель кредитів'!#REF!","v":{"$error":"#REF!"}},{"$f":"'1.Портфель кредитів'!#REF!","v":{"$error":"#REF!"}},{"$f":"'1.Портфель кредитів'!I571","v":0},{"$f":"'1.Портфель кредитів'!W571","v":0},{"$f":"'1.Портфель кредитів'!Y571","v":""},4,"2018-06-01","_4_43252_2"]
[{"$f":"'1.Портфель кредитів'!H572","v":0},{"$f":"'1.Портфель кредитів'!D572","v":""},{"$f":"'1.Портфель кредитів'!#REF!","v":{"$error":"#REF!"}},{"$f":"'1.Портфель кредитів'!#REF!","v":{"$error":"#REF!"}},{"$f":"'1.Портфель кредитів'!#REF!","v":{"$error":"#REF!"}},{"$f":"'1.Портфель кредитів'!I572","v":0},{"$f":"'1.Портфель кредитів'!W572","v":0},{"$f":"'1.Портфель кредитів'!Y572","v":""},4,"2018-06-01","_4_43252_2"]
[{"$f":"'1.Портфель кредитів'!H573","v":0},{"$f":"'1.Портфель кредитів'!D573","v":""},{"$f":"'1.Портфель кредитів'!#REF!","v":{"$error":"#REF!"}},{"$f":"'1.Портфель кредитів'!#REF!","v":{"$error":"#REF!"}},{"$f":"'1.Портфель кредитів'!#REF!","v":{"$error":"#REF!"}},{"$f":"'1.Портфель кредитів'!I573","v":0},{"$f":"'1.Портфель кредитів'!W573","v":0},{"$f":"'1.Портфель кредитів'!Y573","v":""},4,"2018-06-01","_4_43252_2"]
[{"$f":"'1.Портфель кредитів'!H574","v":0},{"$f":"'1.Портфель кредитів'!D574","v":""},{"$f":"'1.Портфель кредитів'!#REF!","v":{"$error":"#REF!"}},{"$f":"'1.Портфель кредитів'!#REF!","v":{"$error":"#REF!"}},{"$f":"'1.Портфель кредитів'!#REF!","v":{"$error":"#REF!"}},{"$f":"'1.Портфель кредитів'!I574","v":0},{"$f":"'1.Портфель кредитів'!W574","v":0},{"$f":"'1.Портфель кредитів'!Y574","v":""},4,"2018-06-01","_4_43252_2"]
[{"$f":"'1.Портфель кредитів'!H575","v":0},{"$f":"'1.Портфель кредитів'!D575","v":""},{"$f":"'1.Портфель кредитів'!#REF!","v":{"$error":"#REF!"}},{"$f":"'1.Портфель кредитів'!#REF!","v":{"$error":"#REF!"}},{"$f":"'1.Портфель кредитів'!#REF!","v":{"$error":"#REF!"}},{"$f":"'1.Портфель кредитів'!I575","v":0},{"$f":"'1.Портфель кредитів'!W575","v":0},{"$f":"'1.Портфель кредитів'!Y575","v":""},4,"2018-06-01","_4_43252_2"]
[{"$f":"'1.Портфель кредитів'!H576","v":0},{"$f":"'1.Портфель кредитів'!D576","v":""},{"$f":"'1.Портфель кредитів'!#REF!","v":{"$error":"#REF!"}},{"$f":"'1.Портфель кредитів'!#REF!","v":{"$error":"#REF!"}},{"$f":"'1.Портфель кредитів'!#REF!","v":{"$error":"#REF!"}},{"$f":"'1.Портфель кредитів'!I576","v":0},{"$f":"'1.Портфель кредитів'!W576","v":0},{"$f":"'1.Портфель кредитів'!Y576","v":""},4,"2018-06-01","_4_43252_2"]
[{"$f":"'1.Портфель кредитів'!H577","v":0},{"$f":"'1.Портфель кредитів'!D577","v":""},{"$f":"'1.Портфель кредитів'!#REF!","v":{"$error":"#REF!"}},{"$f":"'1.Портфель кредитів'!#REF!","v":{"$error":"#REF!"}},{"$f":"'1.Портфель кредитів'!#REF!","v":{"$error":"#REF!"}},{"$f":"'1.Портфель кредитів'!I577","v":0},{"$f":"'1.Портфель кредитів'!W577","v":0},{"$f":"'1.Портфель кредитів'!Y577","v":""},4,"2018-06-01","_4_43252_2"]
[{"$f":"'1.Портфель кредитів'!H578","v":0},{"$f":"'1.Портфель кредитів'!D578","v":""},{"$f":"'1.Портфель кредитів'!#REF!","v":{"$error":"#REF!"}},{"$f":"'1.Портфель кредитів'!#REF!","v":{"$error":"#REF!"}},{"$f":"'1.Портфель кредитів'!#REF!","v":{"$error":"#REF!"}},{"$f":"'1.Портфель кредитів'!I578","v":0},{"$f":"'1.Портфель кредитів'!W578","v":0},{"$f":"'1.Портфель кредитів'!Y578","v":""},4,"2018-06-01","_4_43252_2"]
[{"$f":"'1.Портфель кредитів'!H579","v":0},{"$f":"'1.Портфель кредитів'!D579","v":""},{"$f":"'1.Портфель кредитів'!#REF!","v":{"$error":"#REF!"}},{"$f":"'1.Портфель кредитів'!#REF!","v":{"$error":"#REF!"}},{"$f":"'1.Портфель кредитів'!#REF!","v":{"$error":"#REF!"}},{"$f":"'1.Портфель кредитів'!I579","v":0},{"$f":"'1.Портфель кредитів'!W579","v":0},{"$f":"'1.Портфель кредитів'!Y579","v":""},4,"2018-06-01","_4_43252_2"]
[{"$f":"'1.Портфель кредитів'!H580","v":0},{"$f":"'1.Портфель кредитів'!D580","v":""},{"$f":"'1.Портфель кредитів'!#REF!","v":{"$error":"#REF!"}},{"$f":"'1.Портфель кредитів'!#REF!","v":{"$error":"#REF!"}},{"$f":"'1.Портфель кредитів'!#REF!","v":{"$error":"#REF!"}},{"$f":"'1.Портфель кредитів'!I580","v":0},{"$f":"'1.Портфель кредитів'!W580","v":0},{"$f":"'1.Портфель кредитів'!Y580","v":""},4,"2018-06-01","_4_43252_2"]
[{"$f":"'1.Портфель кредитів'!H581","v":0},{"$f":"'1.Портфель кредитів'!D581","v":""},{"$f":"'1.Портфель кредитів'!#REF!","v":{"$error":"#REF!"}},{"$f":"'1.Портфель кредитів'!#REF!","v":{"$error":"#REF!"}},{"$f":"'1.Портфель кредитів'!#REF!","v":{"$error":"#REF!"}},{"$f":"'1.Портфель кредитів'!I581","v":0},{"$f":"'1.Портфель кредитів'!W581","v":0},{"$f":"'1.Портфель кредитів'!Y581","v":""},4,"2018-06-01","_4_43252_2"]
[{"$f":"'1.Портфель кредитів'!H582","v":0},{"$f":"'1.Портфель кредитів'!D582","v":""},{"$f":"'1.Портфель кредитів'!#REF!","v":{"$error":"#REF!"}},{"$f":"'1.Портфель кредитів'!#REF!","v":{"$error":"#REF!"}},{"$f":"'1.Портфель кредитів'!#REF!","v":{"$error":"#REF!"}},{"$f":"'1.Портфель кредитів'!I582","v":0},{"$f":"'1.Портфель кредитів'!W582","v":0},{"$f":"'1.Портфель кредитів'!Y582","v":""},4,"2018-06-01","_4_43252_2"]
[{"$f":"'1.Портфель кредитів'!H583","v":0},{"$f":"'1.Портфель кредитів'!D583","v":""},{"$f":"'1.Портфель кредитів'!#REF!","v":{"$error":"#REF!"}},{"$f":"'1.Портфель кредитів'!#REF!","v":{"$error":"#REF!"}},{"$f":"'1.Портфель кредитів'!#REF!","v":{"$error":"#REF!"}},{"$f":"'1.Портфель кредитів'!I583","v":0},{"$f":"'1.Портфель кредитів'!W583","v":0},{"$f":"'1.Портфель кредитів'!Y583","v":""},4,"2018-06-01","_4_43252_2"]
[{"$f":"'1.Портфель кредитів'!H584","v":0},{"$f":"'1.Портфель кредитів'!D584","v":""},{"$f":"'1.Портфель кредитів'!#REF!","v":{"$error":"#REF!"}},{"$f":"'1.Портфель кредитів'!#REF!","v":{"$error":"#REF!"}},{"$f":"'1.Портфель кредитів'!#REF!","v":{"$error":"#REF!"}},{"$f":"'1.Портфель кредитів'!I584","v":0},{"$f":"'1.Портфель кредитів'!W584","v":0},{"$f":"'1.Портфель кредитів'!Y584","v":""},4,"2018-06-01","_4_43252_2"]
[{"$f":"'1.Портфель кредитів'!H585","v":0},{"$f":"'1.Портфель кредитів'!D585","v":""},{"$f":"'1.Портфель кредитів'!#REF!","v":{"$error":"#REF!"}},{"$f":"'1.Портфель кредитів'!#REF!","v":{"$error":"#REF!"}},{"$f":"'1.Портфель кредитів'!#REF!","v":{"$error":"#REF!"}},{"$f":"'1.Портфель кредитів'!I585","v":0},{"$f":"'1.Портфель кредитів'!W585","v":0},{"$f":"'1.Портфель кредитів'!Y585","v":""},4,"2018-06-01","_4_43252_2"]
[{"$f":"'1.Портфель кредитів'!H586","v":0},{"$f":"'1.Портфель кредитів'!D586","v":""},{"$f":"'1.Портфель кредитів'!#REF!","v":{"$error":"#REF!"}},{"$f":"'1.Портфель кредитів'!#REF!","v":{"$error":"#REF!"}},{"$f":"'1.Портфель кредитів'!#REF!","v":{"$error":"#REF!"}},{"$f":"'1.Портфель кредитів'!I586","v":0},{"$f":"'1.Портфель кредитів'!W586","v":0},{"$f":"'1.Портфель кредитів'!Y586","v":""},4,"2018-06-01","_4_43252_2"]
[{"$f":"'1.Портфель кредитів'!H587","v":0},{"$f":"'1.Портфель кредитів'!D587","v":""},{"$f":"'1.Портфель кредитів'!#REF!","v":{"$error":"#REF!"}},{"$f":"'1.Портфель кредитів'!#REF!","v":{"$error":"#REF!"}},{"$f":"'1.Портфель кредитів'!#REF!","v":{"$error":"#REF!"}},{"$f":"'1.Портфель кредитів'!I587","v":0},{"$f":"'1.Портфель кредитів'!W587","v":0},{"$f":"'1.Портфель кредитів'!Y587","v":""},4,"2018-06-01","_4_43252_2"]
[{"$f":"'1.Портфель кредитів'!H588","v":0},{"$f":"'1.Портфель кредитів'!D588","v":""},{"$f":"'1.Портфель кредитів'!#REF!","v":{"$error":"#REF!"}},{"$f":"'1.Портфель кредитів'!#REF!","v":{"$error":"#REF!"}},{"$f":"'1.Портфель кредитів'!#REF!","v":{"$error":"#REF!"}},{"$f":"'1.Портфель кредитів'!I588","v":0},{"$f":"'1.Портфель кредитів'!W588","v":0},{"$f":"'1.Портфель кредитів'!Y588","v":""},4,"2018-06-01","_4_43252_2"]
[{"$f":"'1.Портфель кредитів'!H589","v":0},{"$f":"'1.Портфель кредитів'!D589","v":""},{"$f":"'1.Портфель кредитів'!#REF!","v":{"$error":"#REF!"}},{"$f":"'1.Портфель кредитів'!#REF!","v":{"$error":"#REF!"}},{"$f":"'1.Портфель кредитів'!#REF!","v":{"$error":"#REF!"}},{"$f":"'1.Портфель кредитів'!I589","v":0},{"$f":"'1.Портфель кредитів'!W589","v":0},{"$f":"'1.Портфель кредитів'!Y589","v":""},4,"2018-06-01","_4_43252_2"]
[{"$f":"'1.Портфель кредитів'!H590","v":0},{"$f":"'1.Портфель кредитів'!D590","v":""},{"$f":"'1.Портфель кредитів'!#REF!","v":{"$error":"#REF!"}},{"$f":"'1.Портфель кредитів'!#REF!","v":{"$error":"#REF!"}},{"$f":"'1.Портфель кредитів'!#REF!","v":{"$error":"#REF!"}},{"$f":"'1.Портфель кредитів'!I590","v":0},{"$f":"'1.Портфель кредитів'!W590","v":0},{"$f":"'1.Портфель кредитів'!Y590","v":""},4,"2018-06-01","_4_43252_2"]
[{"$f":"'1.Портфель кредитів'!H591","v":0},{"$f":"'1.Портфель кредитів'!D591","v":""},{"$f":"'1.Портфель кредитів'!#REF!","v":{"$error":"#REF!"}},{"$f":"'1.Портфель кредитів'!#REF!","v":{"$error":"#REF!"}},{"$f":"'1.Портфель кредитів'!#REF!","v":{"$error":"#REF!"}},{"$f":"'1.Портфель кредитів'!I591","v":0},{"$f":"'1.Портфель кредитів'!W591","v":0},{"$f":"'1.Портфель кредитів'!Y591","v":""},4,"2018-06-01","_4_43252_2"]
[{"$f":"'1.Портфель кредитів'!H592","v":0},{"$f":"'1.Портфель кредитів'!D592","v":""},{"$f":"'1.Портфель кредитів'!#REF!","v":{"$error":"#REF!"}},{"$f":"'1.Портфель кредитів'!#REF!","v":{"$error":"#REF!"}},{"$f":"'1.Портфель кредитів'!#REF!","v":{"$error":"#REF!"}},{"$f":"'1.Портфель кредитів'!I592","v":0},{"$f":"'1.Портфель кредитів'!W592","v":0},{"$f":"'1.Портфель кредитів'!Y592","v":""},4,"2018-06-01","_4_43252_2"]
[{"$f":"'1.Портфель кредитів'!H593","v":0},{"$f":"'1.Портфель кредитів'!D593","v":""},{"$f":"'1.Портфель кредитів'!#REF!","v":{"$error":"#REF!"}},{"$f":"'1.Портфель кредитів'!#REF!","v":{"$error":"#REF!"}},{"$f":"'1.Портфель кредитів'!#REF!","v":{"$error":"#REF!"}},{"$f":"'1.Портфель кредитів'!I593","v":0},{"$f":"'1.Портфель кредитів'!W593","v":0},{"$f":"'1.Портфель кредитів'!Y593","v":""},4,"2018-06-01","_4_43252_2"]
[{"$f":"'1.Портфель кредитів'!H594","v":0},{"$f":"'1.Портфель кредитів'!D594","v":""},{"$f":"'1.Портфель кредитів'!#REF!","v":{"$error":"#REF!"}},{"$f":"'1.Портфель кредитів'!#REF!","v":{"$error":"#REF!"}},{"$f":"'1.Портфель кредитів'!#REF!","v":{"$error":"#REF!"}},{"$f":"'1.Портфель кредитів'!I594","v":0},{"$f":"'1.Портфель кредитів'!W594","v":0},{"$f":"'1.Портфель кредитів'!Y594","v":""},4,"2018-06-01","_4_43252_2"]
[{"$f":"'1.Портфель кредитів'!H595","v":0},{"$f":"'1.Портфель кредитів'!D595","v":""},{"$f":"'1.Портфель кредитів'!#REF!","v":{"$error":"#REF!"}},{"$f":"'1.Портфель кредитів'!#REF!","v":{"$error":"#REF!"}},{"$f":"'1.Портфель кредитів'!#REF!","v":{"$error":"#REF!"}},{"$f":"'1.Портфель кредитів'!I595","v":0},{"$f":"'1.Портфель кредитів'!W595","v":0},{"$f":"'1.Портфель кредитів'!Y595","v":""},4,"2018-06-01","_4_43252_2"]
[{"$f":"'1.Портфель кредитів'!H596","v":0},{"$f":"'1.Портфель кредитів'!D596","v":""},{"$f":"'1.Портфель кредитів'!#REF!","v":{"$error":"#REF!"}},{"$f":"'1.Портфель кредитів'!#REF!","v":{"$error":"#REF!"}},{"$f":"'1.Портфель кредитів'!#REF!","v":{"$error":"#REF!"}},{"$f":"'1.Портфель кредитів'!I596","v":0},{"$f":"'1.Портфель кредитів'!W596","v":0},{"$f":"'1.Портфель кредитів'!Y596","v":""},4,"2018-06-01","_4_43252_2"]
[{"$f":"'1.Портфель кредитів'!H597","v":0},{"$f":"'1.Портфель кредитів'!D597","v":""},{"$f":"'1.Портфель кредитів'!#REF!","v":{"$error":"#REF!"}},{"$f":"'1.Портфель кредитів'!#REF!","v":{"$error":"#REF!"}},{"$f":"'1.Портфель кредитів'!#REF!","v":{"$error":"#REF!"}},{"$f":"'1.Портфель кредитів'!I597","v":0},{"$f":"'1.Портфель кредитів'!W597","v":0},{"$f":"'1.Портфель кредитів'!Y597","v":""},4,"2018-06-01","_4_43252_2"]
[{"$f":"'1.Портфель кредитів'!H598","v":0},{"$f":"'1.Портфель кредитів'!D598","v":""},{"$f":"'1.Портфель кредитів'!#REF!","v":{"$error":"#REF!"}},{"$f":"'1.Портфель кредитів'!#REF!","v":{"$error":"#REF!"}},{"$f":"'1.Портфель кредитів'!#REF!","v":{"$error":"#REF!"}},{"$f":"'1.Портфель кредитів'!I598","v":0},{"$f":"'1.Портфель кредитів'!W598","v":0},{"$f":"'1.Портфель кредитів'!Y598","v":""},4,"2018-06-01","_4_43252_2"]
[{"$f":"'1.Портфель кредитів'!H599","v":0},{"$f":"'1.Портфель кредитів'!D599","v":""},{"$f":"'1.Портфель кредитів'!#REF!","v":{"$error":"#REF!"}},{"$f":"'1.Портфель кредитів'!#REF!","v":{"$error":"#REF!"}},{"$f":"'1.Портфель кредитів'!#REF!","v":{"$error":"#REF!"}},{"$f":"'1.Портфель кредитів'!I599","v":0},{"$f":"'1.Портфель кредитів'!W599","v":0},{"$f":"'1.Портфель кредитів'!Y599","v":""},4,"2018-06-01","_4_43252_2"]
[{"$f":"'1.Портфель кредитів'!H600","v":0},{"$f":"'1.Портфель кредитів'!D600","v":""},{"$f":"'1.Портфель кредитів'!#REF!","v":{"$error":"#REF!"}},{"$f":"'1.Портфель кредитів'!#REF!","v":{"$error":"#REF!"}},{"$f":"'1.Портфель кредитів'!#REF!","v":{"$error":"#REF!"}},{"$f":"'1.Портфель кредитів'!I600","v":0},{"$f":"'1.Портфель кредитів'!W600","v":0},{"$f":"'1.Портфель кредитів'!Y600","v":""},4,"2018-06-01","_4_43252_2"]
[{"$f":"'1.Портфель кредитів'!H601","v":0},{"$f":"'1.Портфель кредитів'!D601","v":""},{"$f":"'1.Портфель кредитів'!#REF!","v":{"$error":"#REF!"}},{"$f":"'1.Портфель кредитів'!#REF!","v":{"$error":"#REF!"}},{"$f":"'1.Портфель кредитів'!#REF!","v":{"$error":"#REF!"}},{"$f":"'1.Портфель кредитів'!I601","v":0},{"$f":"'1.Портфель кредитів'!W601","v":0},{"$f":"'1.Портфель кредитів'!Y601","v":""},4,"2018-06-01","_4_43252_2"]
[{"$f":"'1.Портфель кредитів'!H602","v":0},{"$f":"'1.Портфель кредитів'!D602","v":""},{"$f":"'1.Портфель кредитів'!#REF!","v":{"$error":"#REF!"}},{"$f":"'1.Портфель кредитів'!#REF!","v":{"$error":"#REF!"}},{"$f":"'1.Портфель кредитів'!#REF!","v":{"$error":"#REF!"}},{"$f":"'1.Портфель кредитів'!I602","v":0},{"$f":"'1.Портфель кредитів'!W602","v":0},{"$f":"'1.Портфель кредитів'!Y602","v":""},4,"2018-06-01","_4_43252_2"]
[{"$f":"'1.Портфель кредитів'!H603","v":0},{"$f":"'1.Портфель кредитів'!D603","v":""},{"$f":"'1.Портфель кредитів'!#REF!","v":{"$error":"#REF!"}},{"$f":"'1.Портфель кредитів'!#REF!","v":{"$error":"#REF!"}},{"$f":"'1.Портфель кредитів'!#REF!","v":{"$error":"#REF!"}},{"$f":"'1.Портфель кредитів'!I603","v":0},{"$f":"'1.Портфель кредитів'!W603","v":0},{"$f":"'1.Портфель кредитів'!Y603","v":""},4,"2018-06-01","_4_43252_2"]
[{"$f":"'1.Портфель кредитів'!H604","v":0},{"$f":"'1.Портфель кредитів'!D604","v":""},{"$f":"'1.Портфель кредитів'!#REF!","v":{"$error":"#REF!"}},{"$f":"'1.Портфель кредитів'!#REF!","v":{"$error":"#REF!"}},{"$f":"'1.Портфель кредитів'!#REF!","v":{"$error":"#REF!"}},{"$f":"'1.Портфель кредитів'!I604","v":0},{"$f":"'1.Портфель кредитів'!W604","v":0},{"$f":"'1.Портфель кредитів'!Y604","v":""},4,"2018-06-01","_4_43252_2"]
[{"$f":"'1.Портфель кредитів'!H605","v":0},{"$f":"'1.Портфель кредитів'!D605","v":""},{"$f":"'1.Портфель кредитів'!#REF!","v":{"$error":"#REF!"}},{"$f":"'1.Портфель кредитів'!#REF!","v":{"$error":"#REF!"}},{"$f":"'1.Портфель кредитів'!#REF!","v":{"$error":"#REF!"}},{"$f":"'1.Портфель кредитів'!I605","v":0},{"$f":"'1.Портфель кредитів'!W605","v":0},{"$f":"'1.Портфель кредитів'!Y605","v":""},4,"2018-06-01","_4_43252_2"]
[{"$f":"'1.Портфель кредитів'!H606","v":0},{"$f":"'1.Портфель кредитів'!D606","v":""},{"$f":"'1.Портфель кредитів'!#REF!","v":{"$error":"#REF!"}},{"$f":"'1.Портфель кредитів'!#REF!","v":{"$error":"#REF!"}},{"$f":"'1.Портфель кредитів'!#REF!","v":{"$error":"#REF!"}},{"$f":"'1.Портфель кредитів'!I606","v":0},{"$f":"'1.Портфель кредитів'!W606","v":0},{"$f":"'1.Портфель кредитів'!Y606","v":""},4,"2018-06-01","_4_43252_2"]
[{"$f":"'1.Портфель кредитів'!H607","v":0},{"$f":"'1.Портфель кредитів'!D607","v":""},{"$f":"'1.Портфель кредитів'!#REF!","v":{"$error":"#REF!"}},{"$f":"'1.Портфель кредитів'!#REF!","v":{"$error":"#REF!"}},{"$f":"'1.Портфель кредитів'!#REF!","v":{"$error":"#REF!"}},{"$f":"'1.Портфель кредитів'!I607","v":0},{"$f":"'1.Портфель кредитів'!W607","v":0},{"$f":"'1.Портфель кредитів'!Y607","v":""},4,"2018-06-01","_4_43252_2"]
[{"$f":"'1.Портфель кредитів'!H608","v":0},{"$f":"'1.Портфель кредитів'!D608","v":""},{"$f":"'1.Портфель кредитів'!#REF!","v":{"$error":"#REF!"}},{"$f":"'1.Портфель кредитів'!#REF!","v":{"$error":"#REF!"}},{"$f":"'1.Портфель кредитів'!#REF!","v":{"$error":"#REF!"}},{"$f":"'1.Портфель кредитів'!I608","v":0},{"$f":"'1.Портфель кредитів'!W608","v":0},{"$f":"'1.Портфель кредитів'!Y608","v":""},4,"2018-06-01","_4_43252_2"]
[{"$f":"'1.Портфель кредитів'!H609","v":0},{"$f":"'1.Портфель кредитів'!D609","v":""},{"$f":"'1.Портфель кредитів'!#REF!","v":{"$error":"#REF!"}},{"$f":"'1.Портфель кредитів'!#REF!","v":{"$error":"#REF!"}},{"$f":"'1.Портфель кредитів'!#REF!","v":{"$error":"#REF!"}},{"$f":"'1.Портфель кредитів'!I609","v":0},{"$f":"'1.Портфель кредитів'!W609","v":0},{"$f":"'1.Портфель кредитів'!Y609","v":""},4,"2018-06-01","_4_43252_2"]
[{"$f":"'1.Портфель кредитів'!H610","v":0},{"$f":"'1.Портфель кредитів'!D610","v":""},{"$f":"'1.Портфель кредитів'!#REF!","v":{"$error":"#REF!"}},{"$f":"'1.Портфель кредитів'!#REF!","v":{"$error":"#REF!"}},{"$f":"'1.Портфель кредитів'!#REF!","v":{"$error":"#REF!"}},{"$f":"'1.Портфель кредитів'!I610","v":0},{"$f":"'1.Портфель кредитів'!W610","v":0},{"$f":"'1.Портфель кредитів'!Y610","v":""},4,"2018-06-01","_4_43252_2"]
[{"$f":"'1.Портфель кредитів'!H611","v":0},{"$f":"'1.Портфель кредитів'!D611","v":""},{"$f":"'1.Портфель кредитів'!#REF!","v":{"$error":"#REF!"}},{"$f":"'1.Портфель кредитів'!#REF!","v":{"$error":"#REF!"}},{"$f":"'1.Портфель кредитів'!#REF!","v":{"$error":"#REF!"}},{"$f":"'1.Портфель кредитів'!I611","v":0},{"$f":"'1.Портфель кредитів'!W611","v":0},{"$f":"'1.Портфель кредитів'!Y611","v":""},4,"2018-06-01","_4_43252_2"]
[{"$f":"'1.Портфель кредитів'!H612","v":0},{"$f":"'1.Портфель кредитів'!D612","v":""},{"$f":"'1.Портфель кредитів'!#REF!","v":{"$error":"#REF!"}},{"$f":"'1.Портфель кредитів'!#REF!","v":{"$error":"#REF!"}},{"$f":"'1.Портфель кредитів'!#REF!","v":{"$error":"#REF!"}},{"$f":"'1.Портфель кредитів'!I612","v":0},{"$f":"'1.Портфель кредитів'!W612","v":0},{"$f":"'1.Портфель кредитів'!Y612","v":""},4,"2018-06-01","_4_43252_2"]
[{"$f":"'1.Портфель кредитів'!H613","v":0},{"$f":"'1.Портфель кредитів'!D613","v":""},{"$f":"'1.Портфель кредитів'!#REF!","v":{"$error":"#REF!"}},{"$f":"'1.Портфель кредитів'!#REF!","v":{"$error":"#REF!"}},{"$f":"'1.Портфель кредитів'!#REF!","v":{"$error":"#REF!"}},{"$f":"'1.Портфель кредитів'!I613","v":0},{"$f":"'1.Портфель кредитів'!W613","v":0},{"$f":"'1.Портфель кредитів'!Y613","v":""},4,"2018-06-01","_4_43252_2"]
[{"$f":"'1.Портфель кредитів'!H614","v":0},{"$f":"'1.Портфель кредитів'!D614","v":""},{"$f":"'1.Портфель кредитів'!#REF!","v":{"$error":"#REF!"}},{"$f":"'1.Портфель кредитів'!#REF!","v":{"$error":"#REF!"}},{"$f":"'1.Портфель кредитів'!#REF!","v":{"$error":"#REF!"}},{"$f":"'1.Портфель кредитів'!I614","v":0},{"$f":"'1.Портфель кредитів'!W614","v":0},{"$f":"'1.Портфель кредитів'!Y614","v":""},4,"2018-06-01","_4_43252_2"]
[{"$f":"'1.Портфель кредитів'!H615","v":0},{"$f":"'1.Портфель кредитів'!D615","v":""},{"$f":"'1.Портфель кредитів'!#REF!","v":{"$error":"#REF!"}},{"$f":"'1.Портфель кредитів'!#REF!","v":{"$error":"#REF!"}},{"$f":"'1.Портфель кредитів'!#REF!","v":{"$error":"#REF!"}},{"$f":"'1.Портфель кредитів'!I615","v":0},{"$f":"'1.Портфель кредитів'!W615","v":0},{"$f":"'1.Портфель кредитів'!Y615","v":""},4,"2018-06-01","_4_43252_2"]
[{"$f":"'1.Портфель кредитів'!H616","v":0},{"$f":"'1.Портфель кредитів'!D616","v":""},{"$f":"'1.Портфель кредитів'!#REF!","v":{"$error":"#REF!"}},{"$f":"'1.Портфель кредитів'!#REF!","v":{"$error":"#REF!"}},{"$f":"'1.Портфель кредитів'!#REF!","v":{"$error":"#REF!"}},{"$f":"'1.Портфель кредитів'!I616","v":0},{"$f":"'1.Портфель кредитів'!W616","v":0},{"$f":"'1.Портфель кредитів'!Y616","v":""},4,"2018-06-01","_4_43252_2"]
[{"$f":"'1.Портфель кредитів'!H617","v":0},{"$f":"'1.Портфель кредитів'!D617","v":""},{"$f":"'1.Портфель кредитів'!#REF!","v":{"$error":"#REF!"}},{"$f":"'1.Портфель кредитів'!#REF!","v":{"$error":"#REF!"}},{"$f":"'1.Портфель кредитів'!#REF!","v":{"$error":"#REF!"}},{"$f":"'1.Портфель кредитів'!I617","v":0},{"$f":"'1.Портфель кредитів'!W617","v":0},{"$f":"'1.Портфель кредитів'!Y617","v":""},4,"2018-06-01","_4_43252_2"]
[{"$f":"'1.Портфель кредитів'!H618","v":0},{"$f":"'1.Портфель кредитів'!D618","v":""},{"$f":"'1.Портфель кредитів'!#REF!","v":{"$error":"#REF!"}},{"$f":"'1.Портфель кредитів'!#REF!","v":{"$error":"#REF!"}},{"$f":"'1.Портфель кредитів'!#REF!","v":{"$error":"#REF!"}},{"$f":"'1.Портфель кредитів'!I618","v":0},{"$f":"'1.Портфель кредитів'!W618","v":0},{"$f":"'1.Портфель кредитів'!Y618","v":""},4,"2018-06-01","_4_43252_2"]
[{"$f":"'1.Портфель кредитів'!H619","v":0},{"$f":"'1.Портфель кредитів'!D619","v":""},{"$f":"'1.Портфель кредитів'!#REF!","v":{"$error":"#REF!"}},{"$f":"'1.Портфель кредитів'!#REF!","v":{"$error":"#REF!"}},{"$f":"'1.Портфель кредитів'!#REF!","v":{"$error":"#REF!"}},{"$f":"'1.Портфель кредитів'!I619","v":0},{"$f":"'1.Портфель кредитів'!W619","v":0},{"$f":"'1.Портфель кредитів'!Y619","v":""},4,"2018-06-01","_4_43252_2"]
[{"$f":"'1.Портфель кредитів'!H620","v":0},{"$f":"'1.Портфель кредитів'!D620","v":""},{"$f":"'1.Портфель кредитів'!#REF!","v":{"$error":"#REF!"}},{"$f":"'1.Портфель кредитів'!#REF!","v":{"$error":"#REF!"}},{"$f":"'1.Портфель кредитів'!#REF!","v":{"$error":"#REF!"}},{"$f":"'1.Портфель кредитів'!I620","v":0},{"$f":"'1.Портфель кредитів'!W620","v":0},{"$f":"'1.Портфель кредитів'!Y620","v":""},4,"2018-06-01","_4_43252_2"]
[{"$f":"'1.Портфель кредитів'!H621","v":0},{"$f":"'1.Портфель кредитів'!D621","v":""},{"$f":"'1.Портфель кредитів'!#REF!","v":{"$error":"#REF!"}},{"$f":"'1.Портфель кредитів'!#REF!","v":{"$error":"#REF!"}},{"$f":"'1.Портфель кредитів'!#REF!","v":{"$error":"#REF!"}},{"$f":"'1.Портфель кредитів'!I621","v":0},{"$f":"'1.Портфель кредитів'!W621","v":0},{"$f":"'1.Портфель кредитів'!Y621","v":""},{"$f":"$E$1","v":4},{"$f":"$E$2","v":"2018-06-01"},{"$f":"B646&\"_\"&I646&\"_\"&J646&\"_\"&$E$3","v":"_4_43252_2"}]
[{"$f":"'1.Портфель кредитів'!H622","v":0},{"$f":"'1.Портфель кредитів'!D622","v":""},{"$f":"'1.Портфель кредитів'!#REF!","v":{"$error":"#REF!"}},{"$f":"'1.Портфель кредитів'!#REF!","v":{"$error":"#REF!"}},{"$f":"'1.Портфель кредитів'!#REF!","v":{"$error":"#REF!"}},{"$f":"'1.Портфель кредитів'!I622","v":0},{"$f":"'1.Портфель кредитів'!W622","v":0},{"$f":"'1.Портфель кредитів'!Y622","v":""},4,"2018-06-01","_4_43252_2"]
[{"$f":"'1.Портфель кредитів'!H623","v":0},{"$f":"'1.Портфель кредитів'!D623","v":""},{"$f":"'1.Портфель кредитів'!#REF!","v":{"$error":"#REF!"}},{"$f":"'1.Портфель кредитів'!#REF!","v":{"$error":"#REF!"}},{"$f":"'1.Портфель кредитів'!#REF!","v":{"$error":"#REF!"}},{"$f":"'1.Портфель кредитів'!I623","v":0},{"$f":"'1.Портфель кредитів'!W623","v":0},{"$f":"'1.Портфель кредитів'!Y623","v":""},4,"2018-06-01","_4_43252_2"]
[{"$f":"'1.Портфель кредитів'!H624","v":0},{"$f":"'1.Портфель кредитів'!D624","v":""},{"$f":"'1.Портфель кредитів'!#REF!","v":{"$error":"#REF!"}},{"$f":"'1.Портфель кредитів'!#REF!","v":{"$error":"#REF!"}},{"$f":"'1.Портфель кредитів'!#REF!","v":{"$error":"#REF!"}},{"$f":"'1.Портфель кредитів'!I624","v":0},{"$f":"'1.Портфель кредитів'!W624","v":0},{"$f":"'1.Портфель кредитів'!Y624","v":""},4,"2018-06-01","_4_43252_2"]
[{"$f":"'1.Портфель кредитів'!H625","v":0},{"$f":"'1.Портфель кредитів'!D625","v":""},{"$f":"'1.Портфель кредитів'!#REF!","v":{"$error":"#REF!"}},{"$f":"'1.Портфель кредитів'!#REF!","v":{"$error":"#REF!"}},{"$f":"'1.Портфель кредитів'!#REF!","v":{"$error":"#REF!"}},{"$f":"'1.Портфель кредитів'!I625","v":0},{"$f":"'1.Портфель кредитів'!W625","v":0},{"$f":"'1.Портфель кредитів'!Y625","v":""},4,"2018-06-01","_4_43252_2"]
[{"$f":"'1.Портфель кредитів'!H626","v":0},{"$f":"'1.Портфель кредитів'!D626","v":""},{"$f":"'1.Портфель кредитів'!#REF!","v":{"$error":"#REF!"}},{"$f":"'1.Портфель кредитів'!#REF!","v":{"$error":"#REF!"}},{"$f":"'1.Портфель кредитів'!#REF!","v":{"$error":"#REF!"}},{"$f":"'1.Портфель кредитів'!I626","v":0},{"$f":"'1.Портфель кредитів'!W626","v":0},{"$f":"'1.Портфель кредитів'!Y626","v":""},4,"2018-06-01","_4_43252_2"]
[{"$f":"'1.Портфель кредитів'!H627","v":0},{"$f":"'1.Портфель кредитів'!D627","v":""},{"$f":"'1.Портфель кредитів'!#REF!","v":{"$error":"#REF!"}},{"$f":"'1.Портфель кредитів'!#REF!","v":{"$error":"#REF!"}},{"$f":"'1.Портфель кредитів'!#REF!","v":{"$error":"#REF!"}},{"$f":"'1.Портфель кредитів'!I627","v":0},{"$f":"'1.Портфель кредитів'!W627","v":0},{"$f":"'1.Портфель кредитів'!Y627","v":""},4,"2018-06-01","_4_43252_2"]
[{"$f":"'1.Портфель кредитів'!H628","v":0},{"$f":"'1.Портфель кредитів'!D628","v":""},{"$f":"'1.Портфель кредитів'!#REF!","v":{"$error":"#REF!"}},{"$f":"'1.Портфель кредитів'!#REF!","v":{"$error":"#REF!"}},{"$f":"'1.Портфель кредитів'!#REF!","v":{"$error":"#REF!"}},{"$f":"'1.Портфель кредитів'!I628","v":0},{"$f":"'1.Портфель кредитів'!W628","v":0},{"$f":"'1.Портфель кредитів'!Y628","v":""},4,"2018-06-01","_4_43252_2"]
[{"$f":"'1.Портфель кредитів'!H629","v":0},{"$f":"'1.Портфель кредитів'!D629","v":""},{"$f":"'1.Портфель кредитів'!#REF!","v":{"$error":"#REF!"}},{"$f":"'1.Портфель кредитів'!#REF!","v":{"$error":"#REF!"}},{"$f":"'1.Портфель кредитів'!#REF!","v":{"$error":"#REF!"}},{"$f":"'1.Портфель кредитів'!I629","v":0},{"$f":"'1.Портфель кредитів'!W629","v":0},{"$f":"'1.Портфель кредитів'!Y629","v":""},4,"2018-06-01","_4_43252_2"]
[{"$f":"'1.Портфель кредитів'!H630","v":0},{"$f":"'1.Портфель кредитів'!D630","v":""},{"$f":"'1.Портфель кредитів'!#REF!","v":{"$error":"#REF!"}},{"$f":"'1.Портфель кредитів'!#REF!","v":{"$error":"#REF!"}},{"$f":"'1.Портфель кредитів'!#REF!","v":{"$error":"#REF!"}},{"$f":"'1.Портфель кредитів'!I630","v":0},{"$f":"'1.Портфель кредитів'!W630","v":0},{"$f":"'1.Портфель кредитів'!Y630","v":""},4,"2018-06-01","_4_43252_2"]
[{"$f":"'1.Портфель кредитів'!H631","v":0},{"$f":"'1.Портфель кредитів'!D631","v":""},{"$f":"'1.Портфель кредитів'!#REF!","v":{"$error":"#REF!"}},{"$f":"'1.Портфель кредитів'!#REF!","v":{"$error":"#REF!"}},{"$f":"'1.Портфель кредитів'!#REF!","v":{"$error":"#REF!"}},{"$f":"'1.Портфель кредитів'!I631","v":0},{"$f":"'1.Портфель кредитів'!W631","v":0},{"$f":"'1.Портфель кредитів'!Y631","v":""},4,"2018-06-01","_4_43252_2"]
[{"$f":"'1.Портфель кредитів'!H632","v":0},{"$f":"'1.Портфель кредитів'!D632","v":""},{"$f":"'1.Портфель кредитів'!#REF!","v":{"$error":"#REF!"}},{"$f":"'1.Портфель кредитів'!#REF!","v":{"$error":"#REF!"}},{"$f":"'1.Портфель кредитів'!#REF!","v":{"$error":"#REF!"}},{"$f":"'1.Портфель кредитів'!I632","v":0},{"$f":"'1.Портфель кредитів'!W632","v":0},{"$f":"'1.Портфель кредитів'!Y632","v":""},4,"2018-06-01","_4_43252_2"]
[{"$f":"'1.Портфель кредитів'!H633","v":0},{"$f":"'1.Портфель кредитів'!D633","v":""},{"$f":"'1.Портфель кредитів'!#REF!","v":{"$error":"#REF!"}},{"$f":"'1.Портфель кредитів'!#REF!","v":{"$error":"#REF!"}},{"$f":"'1.Портфель кредитів'!#REF!","v":{"$error":"#REF!"}},{"$f":"'1.Портфель кредитів'!I633","v":0},{"$f":"'1.Портфель кредитів'!W633","v":0},{"$f":"'1.Портфель кредитів'!Y633","v":""},4,"2018-06-01","_4_43252_2"]
[{"$f":"'1.Портфель кредитів'!H634","v":0},{"$f":"'1.Портфель кредитів'!D634","v":""},{"$f":"'1.Портфель кредитів'!#REF!","v":{"$error":"#REF!"}},{"$f":"'1.Портфель кредитів'!#REF!","v":{"$error":"#REF!"}},{"$f":"'1.Портфель кредитів'!#REF!","v":{"$error":"#REF!"}},{"$f":"'1.Портфель кредитів'!I634","v":0},{"$f":"'1.Портфель кредитів'!W634","v":0},{"$f":"'1.Портфель кредитів'!Y634","v":""},4,"2018-06-01","_4_43252_2"]
[{"$f":"'1.Портфель кредитів'!H635","v":0},{"$f":"'1.Портфель кредитів'!D635","v":""},{"$f":"'1.Портфель кредитів'!#REF!","v":{"$error":"#REF!"}},{"$f":"'1.Портфель кредитів'!#REF!","v":{"$error":"#REF!"}},{"$f":"'1.Портфель кредитів'!#REF!","v":{"$error":"#REF!"}},{"$f":"'1.Портфель кредитів'!I635","v":0},{"$f":"'1.Портфель кредитів'!W635","v":0},{"$f":"'1.Портфель кредитів'!Y635","v":""},4,"2018-06-01","_4_43252_2"]
[{"$f":"'1.Портфель кредитів'!H636","v":0},{"$f":"'1.Портфель кредитів'!D636","v":""},{"$f":"'1.Портфель кредитів'!#REF!","v":{"$error":"#REF!"}},{"$f":"'1.Портфель кредитів'!#REF!","v":{"$error":"#REF!"}},{"$f":"'1.Портфель кредитів'!#REF!","v":{"$error":"#REF!"}},{"$f":"'1.Портфель кредитів'!I636","v":0},{"$f":"'1.Портфель кредитів'!W636","v":0},{"$f":"'1.Портфель кредитів'!Y636","v":""},4,"2018-06-01","_4_43252_2"]
[{"$f":"'1.Портфель кредитів'!H637","v":0},{"$f":"'1.Портфель кредитів'!D637","v":""},{"$f":"'1.Портфель кредитів'!#REF!","v":{"$error":"#REF!"}},{"$f":"'1.Портфель кредитів'!#REF!","v":{"$error":"#REF!"}},{"$f":"'1.Портфель кредитів'!#REF!","v":{"$error":"#REF!"}},{"$f":"'1.Портфель кредитів'!I637","v":0},{"$f":"'1.Портфель кредитів'!W637","v":0},{"$f":"'1.Портфель кредитів'!Y637","v":""},4,"2018-06-01","_4_43252_2"]
[{"$f":"'1.Портфель кредитів'!H638","v":0},{"$f":"'1.Портфель кредитів'!D638","v":""},{"$f":"'1.Портфель кредитів'!#REF!","v":{"$error":"#REF!"}},{"$f":"'1.Портфель кредитів'!#REF!","v":{"$error":"#REF!"}},{"$f":"'1.Портфель кредитів'!#REF!","v":{"$error":"#REF!"}},{"$f":"'1.Портфель кредитів'!I638","v":0},{"$f":"'1.Портфель кредитів'!W638","v":0},{"$f":"'1.Портфель кредитів'!Y638","v":""},4,"2018-06-01","_4_43252_2"]
[{"$f":"'1.Портфель кредитів'!H639","v":0},{"$f":"'1.Портфель кредитів'!D639","v":""},{"$f":"'1.Портфель кредитів'!#REF!","v":{"$error":"#REF!"}},{"$f":"'1.Портфель кредитів'!#REF!","v":{"$error":"#REF!"}},{"$f":"'1.Портфель кредитів'!#REF!","v":{"$error":"#REF!"}},{"$f":"'1.Портфель кредитів'!I639","v":0},{"$f":"'1.Портфель кредитів'!W639","v":0},{"$f":"'1.Портфель кредитів'!Y639","v":""},4,"2018-06-01","_4_43252_2"]
[{"$f":"'1.Портфель кредитів'!H640","v":0},{"$f":"'1.Портфель кредитів'!D640","v":""},{"$f":"'1.Портфель кредитів'!#REF!","v":{"$error":"#REF!"}},{"$f":"'1.Портфель кредитів'!#REF!","v":{"$error":"#REF!"}},{"$f":"'1.Портфель кредитів'!#REF!","v":{"$error":"#REF!"}},{"$f":"'1.Портфель кредитів'!I640","v":0},{"$f":"'1.Портфель кредитів'!W640","v":0},{"$f":"'1.Портфель кредитів'!Y640","v":""},4,"2018-06-01","_4_43252_2"]
[{"$f":"'1.Портфель кредитів'!H641","v":0},{"$f":"'1.Портфель кредитів'!D641","v":""},{"$f":"'1.Портфель кредитів'!#REF!","v":{"$error":"#REF!"}},{"$f":"'1.Портфель кредитів'!#REF!","v":{"$error":"#REF!"}},{"$f":"'1.Портфель кредитів'!#REF!","v":{"$error":"#REF!"}},{"$f":"'1.Портфель кредитів'!I641","v":0},{"$f":"'1.Портфель кредитів'!W641","v":0},{"$f":"'1.Портфель кредитів'!Y641","v":""},4,"2018-06-01","_4_43252_2"]
[{"$f":"'1.Портфель кредитів'!H642","v":0},{"$f":"'1.Портфель кредитів'!D642","v":""},{"$f":"'1.Портфель кредитів'!#REF!","v":{"$error":"#REF!"}},{"$f":"'1.Портфель кредитів'!#REF!","v":{"$error":"#REF!"}},{"$f":"'1.Портфель кредитів'!#REF!","v":{"$error":"#REF!"}},{"$f":"'1.Портфель кредитів'!I642","v":0},{"$f":"'1.Портфель кредитів'!W642","v":0},{"$f":"'1.Портфель кредитів'!Y642","v":""},4,"2018-06-01","_4_43252_2"]
[{"$f":"'1.Портфель кредитів'!H643","v":0},{"$f":"'1.Портфель кредитів'!D643","v":""},{"$f":"'1.Портфель кредитів'!#REF!","v":{"$error":"#REF!"}},{"$f":"'1.Портфель кредитів'!#REF!","v":{"$error":"#REF!"}},{"$f":"'1.Портфель кредитів'!#REF!","v":{"$error":"#REF!"}},{"$f":"'1.Портфель кредитів'!I643","v":0},{"$f":"'1.Портфель кредитів'!W643","v":0},{"$f":"'1.Портфель кредитів'!Y643","v":""},4,"2018-06-01","_4_43252_2"]
[{"$f":"'1.Портфель кредитів'!H644","v":0},{"$f":"'1.Портфель кредитів'!D644","v":""},{"$f":"'1.Портфель кредитів'!#REF!","v":{"$error":"#REF!"}},{"$f":"'1.Портфель кредитів'!#REF!","v":{"$error":"#REF!"}},{"$f":"'1.Портфель кредитів'!#REF!","v":{"$error":"#REF!"}},{"$f":"'1.Портфель кредитів'!I644","v":0},{"$f":"'1.Портфель кредитів'!W644","v":0},{"$f":"'1.Портфель кредитів'!Y644","v":""},4,"2018-06-01","_4_43252_2"]
[{"$f":"'1.Портфель кредитів'!H645","v":0},{"$f":"'1.Портфель кредитів'!D645","v":""},{"$f":"'1.Портфель кредитів'!#REF!","v":{"$error":"#REF!"}},{"$f":"'1.Портфель кредитів'!#REF!","v":{"$error":"#REF!"}},{"$f":"'1.Портфель кредитів'!#REF!","v":{"$error":"#REF!"}},{"$f":"'1.Портфель кредитів'!I645","v":0},{"$f":"'1.Портфель кредитів'!W645","v":0},{"$f":"'1.Портфель кредитів'!Y645","v":""},4,"2018-06-01","_4_43252_2"]
[{"$f":"'1.Портфель кредитів'!H646","v":0},{"$f":"'1.Портфель кредитів'!D646","v":""},{"$f":"'1.Портфель кредитів'!#REF!","v":{"$error":"#REF!"}},{"$f":"'1.Портфель кредитів'!#REF!","v":{"$error":"#REF!"}},{"$f":"'1.Портфель кредитів'!#REF!","v":{"$error":"#REF!"}},{"$f":"'1.Портфель кредитів'!I646","v":0},{"$f":"'1.Портфель кредитів'!W646","v":0},{"$f":"'1.Портфель кредитів'!Y646","v":""},4,"2018-06-01","_4_43252_2"]
[{"$f":"'1.Портфель кредитів'!H647","v":0},{"$f":"'1.Портфель кредитів'!D647","v":""},{"$f":"'1.Портфель кредитів'!#REF!","v":{"$error":"#REF!"}},{"$f":"'1.Портфель кредитів'!#REF!","v":{"$error":"#REF!"}},{"$f":"'1.Портфель кредитів'!#REF!","v":{"$error":"#REF!"}},{"$f":"'1.Портфель кредитів'!I647","v":0},{"$f":"'1.Портфель кредитів'!W647","v":0},{"$f":"'1.Портфель кредитів'!Y647","v":""},4,"2018-06-01","_4_43252_2"]
[{"$f":"'1.Портфель кредитів'!H648","v":0},{"$f":"'1.Портфель кредитів'!D648","v":""},{"$f":"'1.Портфель кредитів'!#REF!","v":{"$error":"#REF!"}},{"$f":"'1.Портфель кредитів'!#REF!","v":{"$error":"#REF!"}},{"$f":"'1.Портфель кредитів'!#REF!","v":{"$error":"#REF!"}},{"$f":"'1.Портфель кредитів'!I648","v":0},{"$f":"'1.Портфель кредитів'!W648","v":0},{"$f":"'1.Портфель кредитів'!Y648","v":""},4,"2018-06-01","_4_43252_2"]
[{"$f":"'1.Портфель кредитів'!H649","v":0},{"$f":"'1.Портфель кредитів'!D649","v":""},{"$f":"'1.Портфель кредитів'!#REF!","v":{"$error":"#REF!"}},{"$f":"'1.Портфель кредитів'!#REF!","v":{"$error":"#REF!"}},{"$f":"'1.Портфель кредитів'!#REF!","v":{"$error":"#REF!"}},{"$f":"'1.Портфель кредитів'!I649","v":0},{"$f":"'1.Портфель кредитів'!W649","v":0},{"$f":"'1.Портфель кредитів'!Y649","v":""},4,"2018-06-01","_4_43252_2"]
[{"$f":"'1.Портфель кредитів'!H650","v":0},{"$f":"'1.Портфель кредитів'!D650","v":""},{"$f":"'1.Портфель кредитів'!#REF!","v":{"$error":"#REF!"}},{"$f":"'1.Портфель кредитів'!#REF!","v":{"$error":"#REF!"}},{"$f":"'1.Портфель кредитів'!#REF!","v":{"$error":"#REF!"}},{"$f":"'1.Портфель кредитів'!I650","v":0},{"$f":"'1.Портфель кредитів'!W650","v":0},{"$f":"'1.Портфель кредитів'!Y650","v":""},4,"2018-06-01","_4_43252_2"]
[{"$f":"'1.Портфель кредитів'!H651","v":0},{"$f":"'1.Портфель кредитів'!D651","v":""},{"$f":"'1.Портфель кредитів'!#REF!","v":{"$error":"#REF!"}},{"$f":"'1.Портфель кредитів'!#REF!","v":{"$error":"#REF!"}},{"$f":"'1.Портфель кредитів'!#REF!","v":{"$error":"#REF!"}},{"$f":"'1.Портфель кредитів'!I651","v":0},{"$f":"'1.Портфель кредитів'!W651","v":0},{"$f":"'1.Портфель кредитів'!Y651","v":""},4,"2018-06-01","_4_43252_2"]
[{"$f":"'1.Портфель кредитів'!H652","v":0},{"$f":"'1.Портфель кредитів'!D652","v":""},{"$f":"'1.Портфель кредитів'!#REF!","v":{"$error":"#REF!"}},{"$f":"'1.Портфель кредитів'!#REF!","v":{"$error":"#REF!"}},{"$f":"'1.Портфель кредитів'!#REF!","v":{"$error":"#REF!"}},{"$f":"'1.Портфель кредитів'!I652","v":0},{"$f":"'1.Портфель кредитів'!W652","v":0},{"$f":"'1.Портфель кредитів'!Y652","v":""},4,"2018-06-01","_4_43252_2"]
[{"$f":"'1.Портфель кредитів'!H653","v":0},{"$f":"'1.Портфель кредитів'!D653","v":""},{"$f":"'1.Портфель кредитів'!#REF!","v":{"$error":"#REF!"}},{"$f":"'1.Портфель кредитів'!#REF!","v":{"$error":"#REF!"}},{"$f":"'1.Портфель кредитів'!#REF!","v":{"$error":"#REF!"}},{"$f":"'1.Портфель кредитів'!I653","v":0},{"$f":"'1.Портфель кредитів'!W653","v":0},{"$f":"'1.Портфель кредитів'!Y653","v":""},4,"2018-06-01","_4_43252_2"]
[{"$f":"'1.Портфель кредитів'!H654","v":0},{"$f":"'1.Портфель кредитів'!D654","v":""},{"$f":"'1.Портфель кредитів'!#REF!","v":{"$error":"#REF!"}},{"$f":"'1.Портфель кредитів'!#REF!","v":{"$error":"#REF!"}},{"$f":"'1.Портфель кредитів'!#REF!","v":{"$error":"#REF!"}},{"$f":"'1.Портфель кредитів'!I654","v":0},{"$f":"'1.Портфель кредитів'!W654","v":0},{"$f":"'1.Портфель кредитів'!Y654","v":""},4,"2018-06-01","_4_43252_2"]
[{"$f":"'1.Портфель кредитів'!H655","v":0},{"$f":"'1.Портфель кредитів'!D655","v":""},{"$f":"'1.Портфель кредитів'!#REF!","v":{"$error":"#REF!"}},{"$f":"'1.Портфель кредитів'!#REF!","v":{"$error":"#REF!"}},{"$f":"'1.Портфель кредитів'!#REF!","v":{"$error":"#REF!"}},{"$f":"'1.Портфель кредитів'!I655","v":0},{"$f":"'1.Портфель кредитів'!W655","v":0},{"$f":"'1.Портфель кредитів'!Y655","v":""},4,"2018-06-01","_4_43252_2"]
[{"$f":"'1.Портфель кредитів'!H656","v":0},{"$f":"'1.Портфель кредитів'!D656","v":""},{"$f":"'1.Портфель кредитів'!#REF!","v":{"$error":"#REF!"}},{"$f":"'1.Портфель кредитів'!#REF!","v":{"$error":"#REF!"}},{"$f":"'1.Портфель кредитів'!#REF!","v":{"$error":"#REF!"}},{"$f":"'1.Портфель кредитів'!I656","v":0},{"$f":"'1.Портфель кредитів'!W656","v":0},{"$f":"'1.Портфель кредитів'!Y656","v":""},4,"2018-06-01","_4_43252_2"]
[{"$f":"'1.Портфель кредитів'!H657","v":0},{"$f":"'1.Портфель кредитів'!D657","v":""},{"$f":"'1.Портфель кредитів'!#REF!","v":{"$error":"#REF!"}},{"$f":"'1.Портфель кредитів'!#REF!","v":{"$error":"#REF!"}},{"$f":"'1.Портфель кредитів'!#REF!","v":{"$error":"#REF!"}},{"$f":"'1.Портфель кредитів'!I657","v":0},{"$f":"'1.Портфель кредитів'!W657","v":0},{"$f":"'1.Портфель кредитів'!Y657","v":""},4,"2018-06-01","_4_43252_2"]
[{"$f":"'1.Портфель кредитів'!H658","v":0},{"$f":"'1.Портфель кредитів'!D658","v":""},{"$f":"'1.Портфель кредитів'!#REF!","v":{"$error":"#REF!"}},{"$f":"'1.Портфель кредитів'!#REF!","v":{"$error":"#REF!"}},{"$f":"'1.Портфель кредитів'!#REF!","v":{"$error":"#REF!"}},{"$f":"'1.Портфель кредитів'!I658","v":0},{"$f":"'1.Портфель кредитів'!W658","v":0},{"$f":"'1.Портфель кредитів'!Y658","v":""},4,"2018-06-01","_4_43252_2"]
[{"$f":"'1.Портфель кредитів'!H659","v":0},{"$f":"'1.Портфель кредитів'!D659","v":""},{"$f":"'1.Портфель кредитів'!#REF!","v":{"$error":"#REF!"}},{"$f":"'1.Портфель кредитів'!#REF!","v":{"$error":"#REF!"}},{"$f":"'1.Портфель кредитів'!#REF!","v":{"$error":"#REF!"}},{"$f":"'1.Портфель кредитів'!I659","v":0},{"$f":"'1.Портфель кредитів'!W659","v":0},{"$f":"'1.Портфель кредитів'!Y659","v":""},4,"2018-06-01","_4_43252_2"]
[{"$f":"'1.Портфель кредитів'!H660","v":0},{"$f":"'1.Портфель кредитів'!D660","v":""},{"$f":"'1.Портфель кредитів'!#REF!","v":{"$error":"#REF!"}},{"$f":"'1.Портфель кредитів'!#REF!","v":{"$error":"#REF!"}},{"$f":"'1.Портфель кредитів'!#REF!","v":{"$error":"#REF!"}},{"$f":"'1.Портфель кредитів'!I660","v":0},{"$f":"'1.Портфель кредитів'!W660","v":0},{"$f":"'1.Портфель кредитів'!Y660","v":""},4,"2018-06-01","_4_43252_2"]
[{"$f":"'1.Портфель кредитів'!H661","v":0},{"$f":"'1.Портфель кредитів'!D661","v":""},{"$f":"'1.Портфель кредитів'!#REF!","v":{"$error":"#REF!"}},{"$f":"'1.Портфель кредитів'!#REF!","v":{"$error":"#REF!"}},{"$f":"'1.Портфель кредитів'!#REF!","v":{"$error":"#REF!"}},{"$f":"'1.Портфель кредитів'!I661","v":0},{"$f":"'1.Портфель кредитів'!W661","v":0},{"$f":"'1.Портфель кредитів'!Y661","v":""},4,"2018-06-01","_4_43252_2"]
[{"$f":"'1.Портфель кредитів'!H662","v":0},{"$f":"'1.Портфель кредитів'!D662","v":""},{"$f":"'1.Портфель кредитів'!#REF!","v":{"$error":"#REF!"}},{"$f":"'1.Портфель кредитів'!#REF!","v":{"$error":"#REF!"}},{"$f":"'1.Портфель кредитів'!#REF!","v":{"$error":"#REF!"}},{"$f":"'1.Портфель кредитів'!I662","v":0},{"$f":"'1.Портфель кредитів'!W662","v":0},{"$f":"'1.Портфель кредитів'!Y662","v":""},4,"2018-06-01","_4_43252_2"]
[{"$f":"'1.Портфель кредитів'!H663","v":0},{"$f":"'1.Портфель кредитів'!D663","v":""},{"$f":"'1.Портфель кредитів'!#REF!","v":{"$error":"#REF!"}},{"$f":"'1.Портфель кредитів'!#REF!","v":{"$error":"#REF!"}},{"$f":"'1.Портфель кредитів'!#REF!","v":{"$error":"#REF!"}},{"$f":"'1.Портфель кредитів'!I663","v":0},{"$f":"'1.Портфель кредитів'!W663","v":0},{"$f":"'1.Портфель кредитів'!Y663","v":""},4,"2018-06-01","_4_43252_2"]
[{"$f":"'1.Портфель кредитів'!H664","v":0},{"$f":"'1.Портфель кредитів'!D664","v":""},{"$f":"'1.Портфель кредитів'!#REF!","v":{"$error":"#REF!"}},{"$f":"'1.Портфель кредитів'!#REF!","v":{"$error":"#REF!"}},{"$f":"'1.Портфель кредитів'!#REF!","v":{"$error":"#REF!"}},{"$f":"'1.Портфель кредитів'!I664","v":0},{"$f":"'1.Портфель кредитів'!W664","v":0},{"$f":"'1.Портфель кредитів'!Y664","v":""},4,"2018-06-01","_4_43252_2"]
[{"$f":"'1.Портфель кредитів'!H665","v":0},{"$f":"'1.Портфель кредитів'!D665","v":""},{"$f":"'1.Портфель кредитів'!#REF!","v":{"$error":"#REF!"}},{"$f":"'1.Портфель кредитів'!#REF!","v":{"$error":"#REF!"}},{"$f":"'1.Портфель кредитів'!#REF!","v":{"$error":"#REF!"}},{"$f":"'1.Портфель кредитів'!I665","v":0},{"$f":"'1.Портфель кредитів'!W665","v":0},{"$f":"'1.Портфель кредитів'!Y665","v":""},4,"2018-06-01","_4_43252_2"]
[{"$f":"'1.Портфель кредитів'!H666","v":0},{"$f":"'1.Портфель кредитів'!D666","v":""},{"$f":"'1.Портфель кредитів'!#REF!","v":{"$error":"#REF!"}},{"$f":"'1.Портфель кредитів'!#REF!","v":{"$error":"#REF!"}},{"$f":"'1.Портфель кредитів'!#REF!","v":{"$error":"#REF!"}},{"$f":"'1.Портфель кредитів'!I666","v":0},{"$f":"'1.Портфель кредитів'!W666","v":0},{"$f":"'1.Портфель кредитів'!Y666","v":""},4,"2018-06-01","_4_43252_2"]
[{"$f":"'1.Портфель кредитів'!H667","v":0},{"$f":"'1.Портфель кредитів'!D667","v":""},{"$f":"'1.Портфель кредитів'!#REF!","v":{"$error":"#REF!"}},{"$f":"'1.Портфель кредитів'!#REF!","v":{"$error":"#REF!"}},{"$f":"'1.Портфель кредитів'!#REF!","v":{"$error":"#REF!"}},{"$f":"'1.Портфель кредитів'!I667","v":0},{"$f":"'1.Портфель кредитів'!W667","v":0},{"$f":"'1.Портфель кредитів'!Y667","v":""},4,"2018-06-01","_4_43252_2"]
[{"$f":"'1.Портфель кредитів'!H668","v":0},{"$f":"'1.Портфель кредитів'!D668","v":""},{"$f":"'1.Портфель кредитів'!#REF!","v":{"$error":"#REF!"}},{"$f":"'1.Портфель кредитів'!#REF!","v":{"$error":"#REF!"}},{"$f":"'1.Портфель кредитів'!#REF!","v":{"$error":"#REF!"}},{"$f":"'1.Портфель кредитів'!I668","v":0},{"$f":"'1.Портфель кредитів'!W668","v":0},{"$f":"'1.Портфель кредитів'!Y668","v":""},4,"2018-06-01","_4_43252_2"]
[{"$f":"'1.Портфель кредитів'!H669","v":0},{"$f":"'1.Портфель кредитів'!D669","v":""},{"$f":"'1.Портфель кредитів'!#REF!","v":{"$error":"#REF!"}},{"$f":"'1.Портфель кредитів'!#REF!","v":{"$error":"#REF!"}},{"$f":"'1.Портфель кредитів'!#REF!","v":{"$error":"#REF!"}},{"$f":"'1.Портфель кредитів'!I669","v":0},{"$f":"'1.Портфель кредитів'!W669","v":0},{"$f":"'1.Портфель кредитів'!Y669","v":""},4,"2018-06-01","_4_43252_2"]
[{"$f":"'1.Портфель кредитів'!H670","v":0},{"$f":"'1.Портфель кредитів'!D670","v":""},{"$f":"'1.Портфель кредитів'!#REF!","v":{"$error":"#REF!"}},{"$f":"'1.Портфель кредитів'!#REF!","v":{"$error":"#REF!"}},{"$f":"'1.Портфель кредитів'!#REF!","v":{"$error":"#REF!"}},{"$f":"'1.Портфель кредитів'!I670","v":0},{"$f":"'1.Портфель кредитів'!W670","v":0},{"$f":"'1.Портфель кредитів'!Y670","v":""},4,"2018-06-01","_4_43252_2"]
[{"$f":"'1.Портфель кредитів'!H671","v":0},{"$f":"'1.Портфель кредитів'!D671","v":""},{"$f":"'1.Портфель кредитів'!#REF!","v":{"$error":"#REF!"}},{"$f":"'1.Портфель кредитів'!#REF!","v":{"$error":"#REF!"}},{"$f":"'1.Портфель кредитів'!#REF!","v":{"$error":"#REF!"}},{"$f":"'1.Портфель кредитів'!I671","v":0},{"$f":"'1.Портфель кредитів'!W671","v":0},{"$f":"'1.Портфель кредитів'!Y671","v":""},4,"2018-06-01","_4_43252_2"]
[{"$f":"'1.Портфель кредитів'!H672","v":0},{"$f":"'1.Портфель кредитів'!D672","v":""},{"$f":"'1.Портфель кредитів'!#REF!","v":{"$error":"#REF!"}},{"$f":"'1.Портфель кредитів'!#REF!","v":{"$error":"#REF!"}},{"$f":"'1.Портфель кредитів'!#REF!","v":{"$error":"#REF!"}},{"$f":"'1.Портфель кредитів'!I672","v":0},{"$f":"'1.Портфель кредитів'!W672","v":0},{"$f":"'1.Портфель кредитів'!Y672","v":""},4,"2018-06-01","_4_43252_2"]
[{"$f":"'1.Портфель кредитів'!H673","v":0},{"$f":"'1.Портфель кредитів'!D673","v":""},{"$f":"'1.Портфель кредитів'!#REF!","v":{"$error":"#REF!"}},{"$f":"'1.Портфель кредитів'!#REF!","v":{"$error":"#REF!"}},{"$f":"'1.Портфель кредитів'!#REF!","v":{"$error":"#REF!"}},{"$f":"'1.Портфель кредитів'!I673","v":0},{"$f":"'1.Портфель кредитів'!W673","v":0},{"$f":"'1.Портфель кредитів'!Y673","v":""},4,"2018-06-01","_4_43252_2"]
[{"$f":"'1.Портфель кредитів'!H674","v":0},{"$f":"'1.Портфель кредитів'!D674","v":""},{"$f":"'1.Портфель кредитів'!#REF!","v":{"$error":"#REF!"}},{"$f":"'1.Портфель кредитів'!#REF!","v":{"$error":"#REF!"}},{"$f":"'1.Портфель кредитів'!#REF!","v":{"$error":"#REF!"}},{"$f":"'1.Портфель кредитів'!I674","v":0},{"$f":"'1.Портфель кредитів'!W674","v":0},{"$f":"'1.Портфель кредитів'!Y674","v":""},4,"2018-06-01","_4_43252_2"]
[{"$f":"'1.Портфель кредитів'!H675","v":0},{"$f":"'1.Портфель кредитів'!D675","v":""},{"$f":"'1.Портфель кредитів'!#REF!","v":{"$error":"#REF!"}},{"$f":"'1.Портфель кредитів'!#REF!","v":{"$error":"#REF!"}},{"$f":"'1.Портфель кредитів'!#REF!","v":{"$error":"#REF!"}},{"$f":"'1.Портфель кредитів'!I675","v":0},{"$f":"'1.Портфель кредитів'!W675","v":0},{"$f":"'1.Портфель кредитів'!Y675","v":""},4,"2018-06-01","_4_43252_2"]
[{"$f":"'1.Портфель кредитів'!H676","v":0},{"$f":"'1.Портфель кредитів'!D676","v":""},{"$f":"'1.Портфель кредитів'!#REF!","v":{"$error":"#REF!"}},{"$f":"'1.Портфель кредитів'!#REF!","v":{"$error":"#REF!"}},{"$f":"'1.Портфель кредитів'!#REF!","v":{"$error":"#REF!"}},{"$f":"'1.Портфель кредитів'!I676","v":0},{"$f":"'1.Портфель кредитів'!W676","v":0},{"$f":"'1.Портфель кредитів'!Y676","v":""},4,"2018-06-01","_4_43252_2"]
[{"$f":"'1.Портфель кредитів'!H677","v":0},{"$f":"'1.Портфель кредитів'!D677","v":""},{"$f":"'1.Портфель кредитів'!#REF!","v":{"$error":"#REF!"}},{"$f":"'1.Портфель кредитів'!#REF!","v":{"$error":"#REF!"}},{"$f":"'1.Портфель кредитів'!#REF!","v":{"$error":"#REF!"}},{"$f":"'1.Портфель кредитів'!I677","v":0},{"$f":"'1.Портфель кредитів'!W677","v":0},{"$f":"'1.Портфель кредитів'!Y677","v":""},4,"2018-06-01","_4_43252_2"]
[{"$f":"'1.Портфель кредитів'!H678","v":0},{"$f":"'1.Портфель кредитів'!D678","v":""},{"$f":"'1.Портфель кредитів'!#REF!","v":{"$error":"#REF!"}},{"$f":"'1.Портфель кредитів'!#REF!","v":{"$error":"#REF!"}},{"$f":"'1.Портфель кредитів'!#REF!","v":{"$error":"#REF!"}},{"$f":"'1.Портфель кредитів'!I678","v":0},{"$f":"'1.Портфель кредитів'!W678","v":0},{"$f":"'1.Портфель кредитів'!Y678","v":""},4,"2018-06-01","_4_43252_2"]
[{"$f":"'1.Портфель кредитів'!H679","v":0},{"$f":"'1.Портфель кредитів'!D679","v":""},{"$f":"'1.Портфель кредитів'!#REF!","v":{"$error":"#REF!"}},{"$f":"'1.Портфель кредитів'!#REF!","v":{"$error":"#REF!"}},{"$f":"'1.Портфель кредитів'!#REF!","v":{"$error":"#REF!"}},{"$f":"'1.Портфель кредитів'!I679","v":0},{"$f":"'1.Портфель кредитів'!W679","v":0},{"$f":"'1.Портфель кредитів'!Y679","v":""},4,"2018-06-01","_4_43252_2"]
[{"$f":"'1.Портфель кредитів'!H680","v":0},{"$f":"'1.Портфель кредитів'!D680","v":""},{"$f":"'1.Портфель кредитів'!#REF!","v":{"$error":"#REF!"}},{"$f":"'1.Портфель кредитів'!#REF!","v":{"$error":"#REF!"}},{"$f":"'1.Портфель кредитів'!#REF!","v":{"$error":"#REF!"}},{"$f":"'1.Портфель кредитів'!I680","v":0},{"$f":"'1.Портфель кредитів'!W680","v":0},{"$f":"'1.Портфель кредитів'!Y680","v":""},4,"2018-06-01","_4_43252_2"]
[{"$f":"'1.Портфель кредитів'!H681","v":0},{"$f":"'1.Портфель кредитів'!D681","v":""},{"$f":"'1.Портфель кредитів'!#REF!","v":{"$error":"#REF!"}},{"$f":"'1.Портфель кредитів'!#REF!","v":{"$error":"#REF!"}},{"$f":"'1.Портфель кредитів'!#REF!","v":{"$error":"#REF!"}},{"$f":"'1.Портфель кредитів'!I681","v":0},{"$f":"'1.Портфель кредитів'!W681","v":0},{"$f":"'1.Портфель кредитів'!Y681","v":""},4,"2018-06-01","_4_43252_2"]
[{"$f":"'1.Портфель кредитів'!H682","v":0},{"$f":"'1.Портфель кредитів'!D682","v":""},{"$f":"'1.Портфель кредитів'!#REF!","v":{"$error":"#REF!"}},{"$f":"'1.Портфель кредитів'!#REF!","v":{"$error":"#REF!"}},{"$f":"'1.Портфель кредитів'!#REF!","v":{"$error":"#REF!"}},{"$f":"'1.Портфель кредитів'!I682","v":0},{"$f":"'1.Портфель кредитів'!W682","v":0},{"$f":"'1.Портфель кредитів'!Y682","v":""},4,"2018-06-01","_4_43252_2"]
[{"$f":"'1.Портфель кредитів'!H683","v":0},{"$f":"'1.Портфель кредитів'!D683","v":""},{"$f":"'1.Портфель кредитів'!#REF!","v":{"$error":"#REF!"}},{"$f":"'1.Портфель кредитів'!#REF!","v":{"$error":"#REF!"}},{"$f":"'1.Портфель кредитів'!#REF!","v":{"$error":"#REF!"}},{"$f":"'1.Портфель кредитів'!I683","v":0},{"$f":"'1.Портфель кредитів'!W683","v":0},{"$f":"'1.Портфель кредитів'!Y683","v":""},4,"2018-06-01","_4_43252_2"]
[{"$f":"'1.Портфель кредитів'!H684","v":0},{"$f":"'1.Портфель кредитів'!D684","v":""},{"$f":"'1.Портфель кредитів'!#REF!","v":{"$error":"#REF!"}},{"$f":"'1.Портфель кредитів'!#REF!","v":{"$error":"#REF!"}},{"$f":"'1.Портфель кредитів'!#REF!","v":{"$error":"#REF!"}},{"$f":"'1.Портфель кредитів'!I684","v":0},{"$f":"'1.Портфель кредитів'!W684","v":0},{"$f":"'1.Портфель кредитів'!Y684","v":""},4,"2018-06-01","_4_43252_2"]
[{"$f":"'1.Портфель кредитів'!H685","v":0},{"$f":"'1.Портфель кредитів'!D685","v":""},{"$f":"'1.Портфель кредитів'!#REF!","v":{"$error":"#REF!"}},{"$f":"'1.Портфель кредитів'!#REF!","v":{"$error":"#REF!"}},{"$f":"'1.Портфель кредитів'!#REF!","v":{"$error":"#REF!"}},{"$f":"'1.Портфель кредитів'!I685","v":0},{"$f":"'1.Портфель кредитів'!W685","v":0},{"$f":"'1.Портфель кредитів'!Y685","v":""},{"$f":"$E$1","v":4},{"$f":"$E$2","v":"2018-06-01"},{"$f":"B710&\"_\"&I710&\"_\"&J710&\"_\"&$E$3","v":"_4_43252_2"}]
[{"$f":"'1.Портфель кредитів'!H686","v":0},{"$f":"'1.Портфель кредитів'!D686","v":""},{"$f":"'1.Портфель кредитів'!#REF!","v":{"$error":"#REF!"}},{"$f":"'1.Портфель кредитів'!#REF!","v":{"$error":"#REF!"}},{"$f":"'1.Портфель кредитів'!#REF!","v":{"$error":"#REF!"}},{"$f":"'1.Портфель кредитів'!I686","v":0},{"$f":"'1.Портфель кредитів'!W686","v":0},{"$f":"'1.Портфель кредитів'!Y686","v":""},4,"2018-06-01","_4_43252_2"]
[{"$f":"'1.Портфель кредитів'!H687","v":0},{"$f":"'1.Портфель кредитів'!D687","v":""},{"$f":"'1.Портфель кредитів'!#REF!","v":{"$error":"#REF!"}},{"$f":"'1.Портфель кредитів'!#REF!","v":{"$error":"#REF!"}},{"$f":"'1.Портфель кредитів'!#REF!","v":{"$error":"#REF!"}},{"$f":"'1.Портфель кредитів'!I687","v":0},{"$f":"'1.Портфель кредитів'!W687","v":0},{"$f":"'1.Портфель кредитів'!Y687","v":""},4,"2018-06-01","_4_43252_2"]
[{"$f":"'1.Портфель кредитів'!H688","v":0},{"$f":"'1.Портфель кредитів'!D688","v":""},{"$f":"'1.Портфель кредитів'!#REF!","v":{"$error":"#REF!"}},{"$f":"'1.Портфель кредитів'!#REF!","v":{"$error":"#REF!"}},{"$f":"'1.Портфель кредитів'!#REF!","v":{"$error":"#REF!"}},{"$f":"'1.Портфель кредитів'!I688","v":0},{"$f":"'1.Портфель кредитів'!W688","v":0},{"$f":"'1.Портфель кредитів'!Y688","v":""},4,"2018-06-01","_4_43252_2"]
[{"$f":"'1.Портфель кредитів'!H689","v":0},{"$f":"'1.Портфель кредитів'!D689","v":""},{"$f":"'1.Портфель кредитів'!#REF!","v":{"$error":"#REF!"}},{"$f":"'1.Портфель кредитів'!#REF!","v":{"$error":"#REF!"}},{"$f":"'1.Портфель кредитів'!#REF!","v":{"$error":"#REF!"}},{"$f":"'1.Портфель кредитів'!I689","v":0},{"$f":"'1.Портфель кредитів'!W689","v":0},{"$f":"'1.Портфель кредитів'!Y689","v":""},4,"2018-06-01","_4_43252_2"]
[{"$f":"'1.Портфель кредитів'!H690","v":0},{"$f":"'1.Портфель кредитів'!D690","v":""},{"$f":"'1.Портфель кредитів'!#REF!","v":{"$error":"#REF!"}},{"$f":"'1.Портфель кредитів'!#REF!","v":{"$error":"#REF!"}},{"$f":"'1.Портфель кредитів'!#REF!","v":{"$error":"#REF!"}},{"$f":"'1.Портфель кредитів'!I690","v":0},{"$f":"'1.Портфель кредитів'!W690","v":0},{"$f":"'1.Портфель кредитів'!Y690","v":""},4,"2018-06-01","_4_43252_2"]
[{"$f":"'1.Портфель кредитів'!H691","v":0},{"$f":"'1.Портфель кредитів'!D691","v":""},{"$f":"'1.Портфель кредитів'!#REF!","v":{"$error":"#REF!"}},{"$f":"'1.Портфель кредитів'!#REF!","v":{"$error":"#REF!"}},{"$f":"'1.Портфель кредитів'!#REF!","v":{"$error":"#REF!"}},{"$f":"'1.Портфель кредитів'!I691","v":0},{"$f":"'1.Портфель кредитів'!W691","v":0},{"$f":"'1.Портфель кредитів'!Y691","v":""},4,"2018-06-01","_4_43252_2"]
[{"$f":"'1.Портфель кредитів'!H692","v":0},{"$f":"'1.Портфель кредитів'!D692","v":""},{"$f":"'1.Портфель кредитів'!#REF!","v":{"$error":"#REF!"}},{"$f":"'1.Портфель кредитів'!#REF!","v":{"$error":"#REF!"}},{"$f":"'1.Портфель кредитів'!#REF!","v":{"$error":"#REF!"}},{"$f":"'1.Портфель кредитів'!I692","v":0},{"$f":"'1.Портфель кредитів'!W692","v":0},{"$f":"'1.Портфель кредитів'!Y692","v":""},4,"2018-06-01","_4_43252_2"]
[{"$f":"'1.Портфель кредитів'!H693","v":0},{"$f":"'1.Портфель кредитів'!D693","v":""},{"$f":"'1.Портфель кредитів'!#REF!","v":{"$error":"#REF!"}},{"$f":"'1.Портфель кредитів'!#REF!","v":{"$error":"#REF!"}},{"$f":"'1.Портфель кредитів'!#REF!","v":{"$error":"#REF!"}},{"$f":"'1.Портфель кредитів'!I693","v":0},{"$f":"'1.Портфель кредитів'!W693","v":0},{"$f":"'1.Портфель кредитів'!Y693","v":""},4,"2018-06-01","_4_43252_2"]
[{"$f":"'1.Портфель кредитів'!H694","v":0},{"$f":"'1.Портфель кредитів'!D694","v":""},{"$f":"'1.Портфель кредитів'!#REF!","v":{"$error":"#REF!"}},{"$f":"'1.Портфель кредитів'!#REF!","v":{"$error":"#REF!"}},{"$f":"'1.Портфель кредитів'!#REF!","v":{"$error":"#REF!"}},{"$f":"'1.Портфель кредитів'!I694","v":0},{"$f":"'1.Портфель кредитів'!W694","v":0},{"$f":"'1.Портфель кредитів'!Y694","v":""},4,"2018-06-01","_4_43252_2"]
[{"$f":"'1.Портфель кредитів'!H695","v":0},{"$f":"'1.Портфель кредитів'!D695","v":""},{"$f":"'1.Портфель кредитів'!#REF!","v":{"$error":"#REF!"}},{"$f":"'1.Портфель кредитів'!#REF!","v":{"$error":"#REF!"}},{"$f":"'1.Портфель кредитів'!#REF!","v":{"$error":"#REF!"}},{"$f":"'1.Портфель кредитів'!I695","v":0},{"$f":"'1.Портфель кредитів'!W695","v":0},{"$f":"'1.Портфель кредитів'!Y695","v":""},4,"2018-06-01","_4_43252_2"]
[{"$f":"'1.Портфель кредитів'!H696","v":0},{"$f":"'1.Портфель кредитів'!D696","v":""},{"$f":"'1.Портфель кредитів'!#REF!","v":{"$error":"#REF!"}},{"$f":"'1.Портфель кредитів'!#REF!","v":{"$error":"#REF!"}},{"$f":"'1.Портфель кредитів'!#REF!","v":{"$error":"#REF!"}},{"$f":"'1.Портфель кредитів'!I696","v":0},{"$f":"'1.Портфель кредитів'!W696","v":0},{"$f":"'1.Портфель кредитів'!Y696","v":""},4,"2018-06-01","_4_43252_2"]
[{"$f":"'1.Портфель кредитів'!H697","v":0},{"$f":"'1.Портфель кредитів'!D697","v":""},{"$f":"'1.Портфель кредитів'!#REF!","v":{"$error":"#REF!"}},{"$f":"'1.Портфель кредитів'!#REF!","v":{"$error":"#REF!"}},{"$f":"'1.Портфель кредитів'!#REF!","v":{"$error":"#REF!"}},{"$f":"'1.Портфель кредитів'!I697","v":0},{"$f":"'1.Портфель кредитів'!W697","v":0},{"$f":"'1.Портфель кредитів'!Y697","v":""},4,"2018-06-01","_4_43252_2"]
[{"$f":"'1.Портфель кредитів'!H698","v":0},{"$f":"'1.Портфель кредитів'!D698","v":""},{"$f":"'1.Портфель кредитів'!#REF!","v":{"$error":"#REF!"}},{"$f":"'1.Портфель кредитів'!#REF!","v":{"$error":"#REF!"}},{"$f":"'1.Портфель кредитів'!#REF!","v":{"$error":"#REF!"}},{"$f":"'1.Портфель кредитів'!I698","v":0},{"$f":"'1.Портфель кредитів'!W698","v":0},{"$f":"'1.Портфель кредитів'!Y698","v":""},4,"2018-06-01","_4_43252_2"]
[{"$f":"'1.Портфель кредитів'!H699","v":0},{"$f":"'1.Портфель кредитів'!D699","v":""},{"$f":"'1.Портфель кредитів'!#REF!","v":{"$error":"#REF!"}},{"$f":"'1.Портфель кредитів'!#REF!","v":{"$error":"#REF!"}},{"$f":"'1.Портфель кредитів'!#REF!","v":{"$error":"#REF!"}},{"$f":"'1.Портфель кредитів'!I699","v":0},{"$f":"'1.Портфель кредитів'!W699","v":0},{"$f":"'1.Портфель кредитів'!Y699","v":""},4,"2018-06-01","_4_43252_2"]
[{"$f":"'1.Портфель кредитів'!H700","v":0},{"$f":"'1.Портфель кредитів'!D700","v":""},{"$f":"'1.Портфель кредитів'!#REF!","v":{"$error":"#REF!"}},{"$f":"'1.Портфель кредитів'!#REF!","v":{"$error":"#REF!"}},{"$f":"'1.Портфель кредитів'!#REF!","v":{"$error":"#REF!"}},{"$f":"'1.Портфель кредитів'!I700","v":0},{"$f":"'1.Портфель кредитів'!W700","v":0},{"$f":"'1.Портфель кредитів'!Y700","v":""},4,"2018-06-01","_4_43252_2"]
[{"$f":"'1.Портфель кредитів'!H701","v":0},{"$f":"'1.Портфель кредитів'!D701","v":""},{"$f":"'1.Портфель кредитів'!#REF!","v":{"$error":"#REF!"}},{"$f":"'1.Портфель кредитів'!#REF!","v":{"$error":"#REF!"}},{"$f":"'1.Портфель кредитів'!#REF!","v":{"$error":"#REF!"}},{"$f":"'1.Портфель кредитів'!I701","v":0},{"$f":"'1.Портфель кредитів'!W701","v":0},{"$f":"'1.Портфель кредитів'!Y701","v":""},4,"2018-06-01","_4_43252_2"]
[{"$f":"'1.Портфель кредитів'!H702","v":0},{"$f":"'1.Портфель кредитів'!D702","v":""},{"$f":"'1.Портфель кредитів'!#REF!","v":{"$error":"#REF!"}},{"$f":"'1.Портфель кредитів'!#REF!","v":{"$error":"#REF!"}},{"$f":"'1.Портфель кредитів'!#REF!","v":{"$error":"#REF!"}},{"$f":"'1.Портфель кредитів'!I702","v":0},{"$f":"'1.Портфель кредитів'!W702","v":0},{"$f":"'1.Портфель кредитів'!Y702","v":""},4,"2018-06-01","_4_43252_2"]
[{"$f":"'1.Портфель кредитів'!H703","v":0},{"$f":"'1.Портфель кредитів'!D703","v":""},{"$f":"'1.Портфель кредитів'!#REF!","v":{"$error":"#REF!"}},{"$f":"'1.Портфель кредитів'!#REF!","v":{"$error":"#REF!"}},{"$f":"'1.Портфель кредитів'!#REF!","v":{"$error":"#REF!"}},{"$f":"'1.Портфель кредитів'!I703","v":0},{"$f":"'1.Портфель кредитів'!W703","v":0},{"$f":"'1.Портфель кредитів'!Y703","v":""},4,"2018-06-01","_4_43252_2"]
[{"$f":"'1.Портфель кредитів'!H704","v":0},{"$f":"'1.Портфель кредитів'!D704","v":""},{"$f":"'1.Портфель кредитів'!#REF!","v":{"$error":"#REF!"}},{"$f":"'1.Портфель кредитів'!#REF!","v":{"$error":"#REF!"}},{"$f":"'1.Портфель кредитів'!#REF!","v":{"$error":"#REF!"}},{"$f":"'1.Портфель кредитів'!I704","v":0},{"$f":"'1.Портфель кредитів'!W704","v":0},{"$f":"'1.Портфель кредитів'!Y704","v":""},4,"2018-06-01","_4_43252_2"]
[{"$f":"'1.Портфель кредитів'!H705","v":0},{"$f":"'1.Портфель кредитів'!D705","v":""},{"$f":"'1.Портфель кредитів'!#REF!","v":{"$error":"#REF!"}},{"$f":"'1.Портфель кредитів'!#REF!","v":{"$error":"#REF!"}},{"$f":"'1.Портфель кредитів'!#REF!","v":{"$error":"#REF!"}},{"$f":"'1.Портфель кредитів'!I705","v":0},{"$f":"'1.Портфель кредитів'!W705","v":0},{"$f":"'1.Портфель кредитів'!Y705","v":""},4,"2018-06-01","_4_43252_2"]
[{"$f":"'1.Портфель кредитів'!H706","v":0},{"$f":"'1.Портфель кредитів'!D706","v":""},{"$f":"'1.Портфель кредитів'!#REF!","v":{"$error":"#REF!"}},{"$f":"'1.Портфель кредитів'!#REF!","v":{"$error":"#REF!"}},{"$f":"'1.Портфель кредитів'!#REF!","v":{"$error":"#REF!"}},{"$f":"'1.Портфель кредитів'!I706","v":0},{"$f":"'1.Портфель кредитів'!W706","v":0},{"$f":"'1.Портфель кредитів'!Y706","v":""},4,"2018-06-01","_4_43252_2"]
[{"$f":"'1.Портфель кредитів'!H707","v":0},{"$f":"'1.Портфель кредитів'!D707","v":""},{"$f":"'1.Портфель кредитів'!#REF!","v":{"$error":"#REF!"}},{"$f":"'1.Портфель кредитів'!#REF!","v":{"$error":"#REF!"}},{"$f":"'1.Портфель кредитів'!#REF!","v":{"$error":"#REF!"}},{"$f":"'1.Портфель кредитів'!I707","v":0},{"$f":"'1.Портфель кредитів'!W707","v":0},{"$f":"'1.Портфель кредитів'!Y707","v":""},4,"2018-06-01","_4_43252_2"]
[{"$f":"'1.Портфель кредитів'!H708","v":0},{"$f":"'1.Портфель кредитів'!D708","v":""},{"$f":"'1.Портфель кредитів'!#REF!","v":{"$error":"#REF!"}},{"$f":"'1.Портфель кредитів'!#REF!","v":{"$error":"#REF!"}},{"$f":"'1.Портфель кредитів'!#REF!","v":{"$error":"#REF!"}},{"$f":"'1.Портфель кредитів'!I708","v":0},{"$f":"'1.Портфель кредитів'!W708","v":0},{"$f":"'1.Портфель кредитів'!Y708","v":""},4,"2018-06-01","_4_43252_2"]
[{"$f":"'1.Портфель кредитів'!H709","v":0},{"$f":"'1.Портфель кредитів'!D709","v":""},{"$f":"'1.Портфель кредитів'!#REF!","v":{"$error":"#REF!"}},{"$f":"'1.Портфель кредитів'!#REF!","v":{"$error":"#REF!"}},{"$f":"'1.Портфель кредитів'!#REF!","v":{"$error":"#REF!"}},{"$f":"'1.Портфель кредитів'!I709","v":0},{"$f":"'1.Портфель кредитів'!W709","v":0},{"$f":"'1.Портфель кредитів'!Y709","v":""},4,"2018-06-01","_4_43252_2"]
[{"$f":"'1.Портфель кредитів'!H710","v":0},{"$f":"'1.Портфель кредитів'!D710","v":""},{"$f":"'1.Портфель кредитів'!#REF!","v":{"$error":"#REF!"}},{"$f":"'1.Портфель кредитів'!#REF!","v":{"$error":"#REF!"}},{"$f":"'1.Портфель кредитів'!#REF!","v":{"$error":"#REF!"}},{"$f":"'1.Портфель кредитів'!I710","v":0},{"$f":"'1.Портфель кредитів'!W710","v":0},{"$f":"'1.Портфель кредитів'!Y710","v":""},4,"2018-06-01","_4_43252_2"]
[{"$f":"'1.Портфель кредитів'!H711","v":0},{"$f":"'1.Портфель кредитів'!D711","v":""},{"$f":"'1.Портфель кредитів'!#REF!","v":{"$error":"#REF!"}},{"$f":"'1.Портфель кредитів'!#REF!","v":{"$error":"#REF!"}},{"$f":"'1.Портфель кредитів'!#REF!","v":{"$error":"#REF!"}},{"$f":"'1.Портфель кредитів'!I711","v":0},{"$f":"'1.Портфель кредитів'!W711","v":0},{"$f":"'1.Портфель кредитів'!Y711","v":""},4,"2018-06-01","_4_43252_2"]
[{"$f":"'1.Портфель кредитів'!H712","v":0},{"$f":"'1.Портфель кредитів'!D712","v":""},{"$f":"'1.Портфель кредитів'!#REF!","v":{"$error":"#REF!"}},{"$f":"'1.Портфель кредитів'!#REF!","v":{"$error":"#REF!"}},{"$f":"'1.Портфель кредитів'!#REF!","v":{"$error":"#REF!"}},{"$f":"'1.Портфель кредитів'!I712","v":0},{"$f":"'1.Портфель кредитів'!W712","v":0},{"$f":"'1.Портфель кредитів'!Y712","v":""},4,"2018-06-01","_4_43252_2"]
[{"$f":"'1.Портфель кредитів'!H713","v":0},{"$f":"'1.Портфель кредитів'!D713","v":""},{"$f":"'1.Портфель кредитів'!#REF!","v":{"$error":"#REF!"}},{"$f":"'1.Портфель кредитів'!#REF!","v":{"$error":"#REF!"}},{"$f":"'1.Портфель кредитів'!#REF!","v":{"$error":"#REF!"}},{"$f":"'1.Портфель кредитів'!I713","v":0},{"$f":"'1.Портфель кредитів'!W713","v":0},{"$f":"'1.Портфель кредитів'!Y713","v":""},4,"2018-06-01","_4_43252_2"]
[{"$f":"'1.Портфель кредитів'!H714","v":0},{"$f":"'1.Портфель кредитів'!D714","v":""},{"$f":"'1.Портфель кредитів'!#REF!","v":{"$error":"#REF!"}},{"$f":"'1.Портфель кредитів'!#REF!","v":{"$error":"#REF!"}},{"$f":"'1.Портфель кредитів'!#REF!","v":{"$error":"#REF!"}},{"$f":"'1.Портфель кредитів'!I714","v":0},{"$f":"'1.Портфель кредитів'!W714","v":0},{"$f":"'1.Портфель кредитів'!Y714","v":""},4,"2018-06-01","_4_43252_2"]
[{"$f":"'1.Портфель кредитів'!H715","v":0},{"$f":"'1.Портфель кредитів'!D715","v":""},{"$f":"'1.Портфель кредитів'!#REF!","v":{"$error":"#REF!"}},{"$f":"'1.Портфель кредитів'!#REF!","v":{"$error":"#REF!"}},{"$f":"'1.Портфель кредитів'!#REF!","v":{"$error":"#REF!"}},{"$f":"'1.Портфель кредитів'!I715","v":0},{"$f":"'1.Портфель кредитів'!W715","v":0},{"$f":"'1.Портфель кредитів'!Y715","v":""},4,"2018-06-01","_4_43252_2"]
[{"$f":"'1.Портфель кредитів'!H716","v":0},{"$f":"'1.Портфель кредитів'!D716","v":""},{"$f":"'1.Портфель кредитів'!#REF!","v":{"$error":"#REF!"}},{"$f":"'1.Портфель кредитів'!#REF!","v":{"$error":"#REF!"}},{"$f":"'1.Портфель кредитів'!#REF!","v":{"$error":"#REF!"}},{"$f":"'1.Портфель кредитів'!I716","v":0},{"$f":"'1.Портфель кредитів'!W716","v":0},{"$f":"'1.Портфель кредитів'!Y716","v":""},4,"2018-06-01","_4_43252_2"]
[{"$f":"'1.Портфель кредитів'!H717","v":0},{"$f":"'1.Портфель кредитів'!D717","v":""},{"$f":"'1.Портфель кредитів'!#REF!","v":{"$error":"#REF!"}},{"$f":"'1.Портфель кредитів'!#REF!","v":{"$error":"#REF!"}},{"$f":"'1.Портфель кредитів'!#REF!","v":{"$error":"#REF!"}},{"$f":"'1.Портфель кредитів'!I717","v":0},{"$f":"'1.Портфель кредитів'!W717","v":0},{"$f":"'1.Портфель кредитів'!Y717","v":""},4,"2018-06-01","_4_43252_2"]
[{"$f":"'1.Портфель кредитів'!H718","v":0},{"$f":"'1.Портфель кредитів'!D718","v":""},{"$f":"'1.Портфель кредитів'!#REF!","v":{"$error":"#REF!"}},{"$f":"'1.Портфель кредитів'!#REF!","v":{"$error":"#REF!"}},{"$f":"'1.Портфель кредитів'!#REF!","v":{"$error":"#REF!"}},{"$f":"'1.Портфель кредитів'!I718","v":0},{"$f":"'1.Портфель кредитів'!W718","v":0},{"$f":"'1.Портфель кредитів'!Y718","v":""},4,"2018-06-01","_4_43252_2"]
[{"$f":"'1.Портфель кредитів'!H719","v":0},{"$f":"'1.Портфель кредитів'!D719","v":""},{"$f":"'1.Портфель кредитів'!#REF!","v":{"$error":"#REF!"}},{"$f":"'1.Портфель кредитів'!#REF!","v":{"$error":"#REF!"}},{"$f":"'1.Портфель кредитів'!#REF!","v":{"$error":"#REF!"}},{"$f":"'1.Портфель кредитів'!I719","v":0},{"$f":"'1.Портфель кредитів'!W719","v":0},{"$f":"'1.Портфель кредитів'!Y719","v":""},4,"2018-06-01","_4_43252_2"]
[{"$f":"'1.Портфель кредитів'!H720","v":0},{"$f":"'1.Портфель кредитів'!D720","v":""},{"$f":"'1.Портфель кредитів'!#REF!","v":{"$error":"#REF!"}},{"$f":"'1.Портфель кредитів'!#REF!","v":{"$error":"#REF!"}},{"$f":"'1.Портфель кредитів'!#REF!","v":{"$error":"#REF!"}},{"$f":"'1.Портфель кредитів'!I720","v":0},{"$f":"'1.Портфель кредитів'!W720","v":0},{"$f":"'1.Портфель кредитів'!Y720","v":""},4,"2018-06-01","_4_43252_2"]
[{"$f":"'1.Портфель кредитів'!H721","v":0},{"$f":"'1.Портфель кредитів'!D721","v":""},{"$f":"'1.Портфель кредитів'!#REF!","v":{"$error":"#REF!"}},{"$f":"'1.Портфель кредитів'!#REF!","v":{"$error":"#REF!"}},{"$f":"'1.Портфель кредитів'!#REF!","v":{"$error":"#REF!"}},{"$f":"'1.Портфель кредитів'!I721","v":0},{"$f":"'1.Портфель кредитів'!W721","v":0},{"$f":"'1.Портфель кредитів'!Y721","v":""},4,"2018-06-01","_4_43252_2"]
[{"$f":"'1.Портфель кредитів'!H722","v":0},{"$f":"'1.Портфель кредитів'!D722","v":""},{"$f":"'1.Портфель кредитів'!#REF!","v":{"$error":"#REF!"}},{"$f":"'1.Портфель кредитів'!#REF!","v":{"$error":"#REF!"}},{"$f":"'1.Портфель кредитів'!#REF!","v":{"$error":"#REF!"}},{"$f":"'1.Портфель кредитів'!I722","v":0},{"$f":"'1.Портфель кредитів'!W722","v":0},{"$f":"'1.Портфель кредитів'!Y722","v":""},4,"2018-06-01","_4_43252_2"]
[{"$f":"'1.Портфель кредитів'!H723","v":0},{"$f":"'1.Портфель кредитів'!D723","v":""},{"$f":"'1.Портфель кредитів'!#REF!","v":{"$error":"#REF!"}},{"$f":"'1.Портфель кредитів'!#REF!","v":{"$error":"#REF!"}},{"$f":"'1.Портфель кредитів'!#REF!","v":{"$error":"#REF!"}},{"$f":"'1.Портфель кредитів'!I723","v":0},{"$f":"'1.Портфель кредитів'!W723","v":0},{"$f":"'1.Портфель кредитів'!Y723","v":""},4,"2018-06-01","_4_43252_2"]
[{"$f":"'1.Портфель кредитів'!H724","v":0},{"$f":"'1.Портфель кредитів'!D724","v":""},{"$f":"'1.Портфель кредитів'!#REF!","v":{"$error":"#REF!"}},{"$f":"'1.Портфель кредитів'!#REF!","v":{"$error":"#REF!"}},{"$f":"'1.Портфель кредитів'!#REF!","v":{"$error":"#REF!"}},{"$f":"'1.Портфель кредитів'!I724","v":0},{"$f":"'1.Портфель кредитів'!W724","v":0},{"$f":"'1.Портфель кредитів'!Y724","v":""},4,"2018-06-01","_4_43252_2"]
[{"$f":"'1.Портфель кредитів'!H725","v":0},{"$f":"'1.Портфель кредитів'!D725","v":""},{"$f":"'1.Портфель кредитів'!#REF!","v":{"$error":"#REF!"}},{"$f":"'1.Портфель кредитів'!#REF!","v":{"$error":"#REF!"}},{"$f":"'1.Портфель кредитів'!#REF!","v":{"$error":"#REF!"}},{"$f":"'1.Портфель кредитів'!I725","v":0},{"$f":"'1.Портфель кредитів'!W725","v":0},{"$f":"'1.Портфель кредитів'!Y725","v":""},4,"2018-06-01","_4_43252_2"]
[{"$f":"'1.Портфель кредитів'!H726","v":0},{"$f":"'1.Портфель кредитів'!D726","v":""},{"$f":"'1.Портфель кредитів'!#REF!","v":{"$error":"#REF!"}},{"$f":"'1.Портфель кредитів'!#REF!","v":{"$error":"#REF!"}},{"$f":"'1.Портфель кредитів'!#REF!","v":{"$error":"#REF!"}},{"$f":"'1.Портфель кредитів'!I726","v":0},{"$f":"'1.Портфель кредитів'!W726","v":0},{"$f":"'1.Портфель кредитів'!Y726","v":""},4,"2018-06-01","_4_43252_2"]
[{"$f":"'1.Портфель кредитів'!H727","v":0},{"$f":"'1.Портфель кредитів'!D727","v":""},{"$f":"'1.Портфель кредитів'!#REF!","v":{"$error":"#REF!"}},{"$f":"'1.Портфель кредитів'!#REF!","v":{"$error":"#REF!"}},{"$f":"'1.Портфель кредитів'!#REF!","v":{"$error":"#REF!"}},{"$f":"'1.Портфель кредитів'!I727","v":0},{"$f":"'1.Портфель кредитів'!W727","v":0},{"$f":"'1.Портфель кредитів'!Y727","v":""},4,"2018-06-01","_4_43252_2"]
[{"$f":"'1.Портфель кредитів'!H728","v":0},{"$f":"'1.Портфель кредитів'!D728","v":""},{"$f":"'1.Портфель кредитів'!#REF!","v":{"$error":"#REF!"}},{"$f":"'1.Портфель кредитів'!#REF!","v":{"$error":"#REF!"}},{"$f":"'1.Портфель кредитів'!#REF!","v":{"$error":"#REF!"}},{"$f":"'1.Портфель кредитів'!I728","v":0},{"$f":"'1.Портфель кредитів'!W728","v":0},{"$f":"'1.Портфель кредитів'!Y728","v":""},4,"2018-06-01","_4_43252_2"]
[{"$f":"'1.Портфель кредитів'!H729","v":0},{"$f":"'1.Портфель кредитів'!D729","v":""},{"$f":"'1.Портфель кредитів'!#REF!","v":{"$error":"#REF!"}},{"$f":"'1.Портфель кредитів'!#REF!","v":{"$error":"#REF!"}},{"$f":"'1.Портфель кредитів'!#REF!","v":{"$error":"#REF!"}},{"$f":"'1.Портфель кредитів'!I729","v":0},{"$f":"'1.Портфель кредитів'!W729","v":0},{"$f":"'1.Портфель кредитів'!Y729","v":""},4,"2018-06-01","_4_43252_2"]
[{"$f":"'1.Портфель кредитів'!H730","v":0},{"$f":"'1.Портфель кредитів'!D730","v":""},{"$f":"'1.Портфель кредитів'!#REF!","v":{"$error":"#REF!"}},{"$f":"'1.Портфель кредитів'!#REF!","v":{"$error":"#REF!"}},{"$f":"'1.Портфель кредитів'!#REF!","v":{"$error":"#REF!"}},{"$f":"'1.Портфель кредитів'!I730","v":0},{"$f":"'1.Портфель кредитів'!W730","v":0},{"$f":"'1.Портфель кредитів'!Y730","v":""},4,"2018-06-01","_4_43252_2"]
[{"$f":"'1.Портфель кредитів'!H731","v":0},{"$f":"'1.Портфель кредитів'!D731","v":""},{"$f":"'1.Портфель кредитів'!#REF!","v":{"$error":"#REF!"}},{"$f":"'1.Портфель кредитів'!#REF!","v":{"$error":"#REF!"}},{"$f":"'1.Портфель кредитів'!#REF!","v":{"$error":"#REF!"}},{"$f":"'1.Портфель кредитів'!I731","v":0},{"$f":"'1.Портфель кредитів'!W731","v":0},{"$f":"'1.Портфель кредитів'!Y731","v":""},4,"2018-06-01","_4_43252_2"]
[{"$f":"'1.Портфель кредитів'!H732","v":0},{"$f":"'1.Портфель кредитів'!D732","v":""},{"$f":"'1.Портфель кредитів'!#REF!","v":{"$error":"#REF!"}},{"$f":"'1.Портфель кредитів'!#REF!","v":{"$error":"#REF!"}},{"$f":"'1.Портфель кредитів'!#REF!","v":{"$error":"#REF!"}},{"$f":"'1.Портфель кредитів'!I732","v":0},{"$f":"'1.Портфель кредитів'!W732","v":0},{"$f":"'1.Портфель кредитів'!Y732","v":""},4,"2018-06-01","_4_43252_2"]
[{"$f":"'1.Портфель кредитів'!H733","v":0},{"$f":"'1.Портфель кредитів'!D733","v":""},{"$f":"'1.Портфель кредитів'!#REF!","v":{"$error":"#REF!"}},{"$f":"'1.Портфель кредитів'!#REF!","v":{"$error":"#REF!"}},{"$f":"'1.Портфель кредитів'!#REF!","v":{"$error":"#REF!"}},{"$f":"'1.Портфель кредитів'!I733","v":0},{"$f":"'1.Портфель кредитів'!W733","v":0},{"$f":"'1.Портфель кредитів'!Y733","v":""},4,"2018-06-01","_4_43252_2"]
[{"$f":"'1.Портфель кредитів'!H734","v":0},{"$f":"'1.Портфель кредитів'!D734","v":""},{"$f":"'1.Портфель кредитів'!#REF!","v":{"$error":"#REF!"}},{"$f":"'1.Портфель кредитів'!#REF!","v":{"$error":"#REF!"}},{"$f":"'1.Портфель кредитів'!#REF!","v":{"$error":"#REF!"}},{"$f":"'1.Портфель кредитів'!I734","v":0},{"$f":"'1.Портфель кредитів'!W734","v":0},{"$f":"'1.Портфель кредитів'!Y734","v":""},4,"2018-06-01","_4_43252_2"]
[{"$f":"'1.Портфель кредитів'!H735","v":0},{"$f":"'1.Портфель кредитів'!D735","v":""},{"$f":"'1.Портфель кредитів'!#REF!","v":{"$error":"#REF!"}},{"$f":"'1.Портфель кредитів'!#REF!","v":{"$error":"#REF!"}},{"$f":"'1.Портфель кредитів'!#REF!","v":{"$error":"#REF!"}},{"$f":"'1.Портфель кредитів'!I735","v":0},{"$f":"'1.Портфель кредитів'!W735","v":0},{"$f":"'1.Портфель кредитів'!Y735","v":""},4,"2018-06-01","_4_43252_2"]
[{"$f":"'1.Портфель кредитів'!H736","v":0},{"$f":"'1.Портфель кредитів'!D736","v":""},{"$f":"'1.Портфель кредитів'!#REF!","v":{"$error":"#REF!"}},{"$f":"'1.Портфель кредитів'!#REF!","v":{"$error":"#REF!"}},{"$f":"'1.Портфель кредитів'!#REF!","v":{"$error":"#REF!"}},{"$f":"'1.Портфель кредитів'!I736","v":0},{"$f":"'1.Портфель кредитів'!W736","v":0},{"$f":"'1.Портфель кредитів'!Y736","v":""},4,"2018-06-01","_4_43252_2"]
[{"$f":"'1.Портфель кредитів'!H737","v":0},{"$f":"'1.Портфель кредитів'!D737","v":""},{"$f":"'1.Портфель кредитів'!#REF!","v":{"$error":"#REF!"}},{"$f":"'1.Портфель кредитів'!#REF!","v":{"$error":"#REF!"}},{"$f":"'1.Портфель кредитів'!#REF!","v":{"$error":"#REF!"}},{"$f":"'1.Портфель кредитів'!I737","v":0},{"$f":"'1.Портфель кредитів'!W737","v":0},{"$f":"'1.Портфель кредитів'!Y737","v":""},4,"2018-06-01","_4_43252_2"]
[{"$f":"'1.Портфель кредитів'!H738","v":0},{"$f":"'1.Портфель кредитів'!D738","v":""},{"$f":"'1.Портфель кредитів'!#REF!","v":{"$error":"#REF!"}},{"$f":"'1.Портфель кредитів'!#REF!","v":{"$error":"#REF!"}},{"$f":"'1.Портфель кредитів'!#REF!","v":{"$error":"#REF!"}},{"$f":"'1.Портфель кредитів'!I738","v":0},{"$f":"'1.Портфель кредитів'!W738","v":0},{"$f":"'1.Портфель кредитів'!Y738","v":""},4,"2018-06-01","_4_43252_2"]
[{"$f":"'1.Портфель кредитів'!H739","v":0},{"$f":"'1.Портфель кредитів'!D739","v":""},{"$f":"'1.Портфель кредитів'!#REF!","v":{"$error":"#REF!"}},{"$f":"'1.Портфель кредитів'!#REF!","v":{"$error":"#REF!"}},{"$f":"'1.Портфель кредитів'!#REF!","v":{"$error":"#REF!"}},{"$f":"'1.Портфель кредитів'!I739","v":0},{"$f":"'1.Портфель кредитів'!W739","v":0},{"$f":"'1.Портфель кредитів'!Y739","v":""},4,"2018-06-01","_4_43252_2"]
[{"$f":"'1.Портфель кредитів'!H740","v":0},{"$f":"'1.Портфель кредитів'!D740","v":""},{"$f":"'1.Портфель кредитів'!#REF!","v":{"$error":"#REF!"}},{"$f":"'1.Портфель кредитів'!#REF!","v":{"$error":"#REF!"}},{"$f":"'1.Портфель кредитів'!#REF!","v":{"$error":"#REF!"}},{"$f":"'1.Портфель кредитів'!I740","v":0},{"$f":"'1.Портфель кредитів'!W740","v":0},{"$f":"'1.Портфель кредитів'!Y740","v":""},4,"2018-06-01","_4_43252_2"]
[{"$f":"'1.Портфель кредитів'!H741","v":0},{"$f":"'1.Портфель кредитів'!D741","v":""},{"$f":"'1.Портфель кредитів'!#REF!","v":{"$error":"#REF!"}},{"$f":"'1.Портфель кредитів'!#REF!","v":{"$error":"#REF!"}},{"$f":"'1.Портфель кредитів'!#REF!","v":{"$error":"#REF!"}},{"$f":"'1.Портфель кредитів'!I741","v":0},{"$f":"'1.Портфель кредитів'!W741","v":0},{"$f":"'1.Портфель кредитів'!Y741","v":""},4,"2018-06-01","_4_43252_2"]
[{"$f":"'1.Портфель кредитів'!H742","v":0},{"$f":"'1.Портфель кредитів'!D742","v":""},{"$f":"'1.Портфель кредитів'!#REF!","v":{"$error":"#REF!"}},{"$f":"'1.Портфель кредитів'!#REF!","v":{"$error":"#REF!"}},{"$f":"'1.Портфель кредитів'!#REF!","v":{"$error":"#REF!"}},{"$f":"'1.Портфель кредитів'!I742","v":0},{"$f":"'1.Портфель кредитів'!W742","v":0},{"$f":"'1.Портфель кредитів'!Y742","v":""},4,"2018-06-01","_4_43252_2"]
[{"$f":"'1.Портфель кредитів'!H743","v":0},{"$f":"'1.Портфель кредитів'!D743","v":""},{"$f":"'1.Портфель кредитів'!#REF!","v":{"$error":"#REF!"}},{"$f":"'1.Портфель кредитів'!#REF!","v":{"$error":"#REF!"}},{"$f":"'1.Портфель кредитів'!#REF!","v":{"$error":"#REF!"}},{"$f":"'1.Портфель кредитів'!I743","v":0},{"$f":"'1.Портфель кредитів'!W743","v":0},{"$f":"'1.Портфель кредитів'!Y743","v":""},4,"2018-06-01","_4_43252_2"]
[{"$f":"'1.Портфель кредитів'!H744","v":0},{"$f":"'1.Портфель кредитів'!D744","v":""},{"$f":"'1.Портфель кредитів'!#REF!","v":{"$error":"#REF!"}},{"$f":"'1.Портфель кредитів'!#REF!","v":{"$error":"#REF!"}},{"$f":"'1.Портфель кредитів'!#REF!","v":{"$error":"#REF!"}},{"$f":"'1.Портфель кредитів'!I744","v":0},{"$f":"'1.Портфель кредитів'!W744","v":0},{"$f":"'1.Портфель кредитів'!Y744","v":""},4,"2018-06-01","_4_43252_2"]
[{"$f":"'1.Портфель кредитів'!H745","v":0},{"$f":"'1.Портфель кредитів'!D745","v":""},{"$f":"'1.Портфель кредитів'!#REF!","v":{"$error":"#REF!"}},{"$f":"'1.Портфель кредитів'!#REF!","v":{"$error":"#REF!"}},{"$f":"'1.Портфель кредитів'!#REF!","v":{"$error":"#REF!"}},{"$f":"'1.Портфель кредитів'!I745","v":0},{"$f":"'1.Портфель кредитів'!W745","v":0},{"$f":"'1.Портфель кредитів'!Y745","v":""},4,"2018-06-01","_4_43252_2"]
[{"$f":"'1.Портфель кредитів'!H746","v":0},{"$f":"'1.Портфель кредитів'!D746","v":""},{"$f":"'1.Портфель кредитів'!#REF!","v":{"$error":"#REF!"}},{"$f":"'1.Портфель кредитів'!#REF!","v":{"$error":"#REF!"}},{"$f":"'1.Портфель кредитів'!#REF!","v":{"$error":"#REF!"}},{"$f":"'1.Портфель кредитів'!I746","v":0},{"$f":"'1.Портфель кредитів'!W746","v":0},{"$f":"'1.Портфель кредитів'!Y746","v":""},4,"2018-06-01","_4_43252_2"]
[{"$f":"'1.Портфель кредитів'!H747","v":0},{"$f":"'1.Портфель кредитів'!D747","v":""},{"$f":"'1.Портфель кредитів'!#REF!","v":{"$error":"#REF!"}},{"$f":"'1.Портфель кредитів'!#REF!","v":{"$error":"#REF!"}},{"$f":"'1.Портфель кредитів'!#REF!","v":{"$error":"#REF!"}},{"$f":"'1.Портфель кредитів'!I747","v":0},{"$f":"'1.Портфель кредитів'!W747","v":0},{"$f":"'1.Портфель кредитів'!Y747","v":""},4,"2018-06-01","_4_43252_2"]
[{"$f":"'1.Портфель кредитів'!H748","v":0},{"$f":"'1.Портфель кредитів'!D748","v":""},{"$f":"'1.Портфель кредитів'!#REF!","v":{"$error":"#REF!"}},{"$f":"'1.Портфель кредитів'!#REF!","v":{"$error":"#REF!"}},{"$f":"'1.Портфель кредитів'!#REF!","v":{"$error":"#REF!"}},{"$f":"'1.Портфель кредитів'!I748","v":0},{"$f":"'1.Портфель кредитів'!W748","v":0},{"$f":"'1.Портфель кредитів'!Y748","v":""},4,"2018-06-01","_4_43252_2"]
[{"$f":"'1.Портфель кредитів'!H749","v":0},{"$f":"'1.Портфель кредитів'!D749","v":""},{"$f":"'1.Портфель кредитів'!#REF!","v":{"$error":"#REF!"}},{"$f":"'1.Портфель кредитів'!#REF!","v":{"$error":"#REF!"}},{"$f":"'1.Портфель кредитів'!#REF!","v":{"$error":"#REF!"}},{"$f":"'1.Портфель кредитів'!I749","v":0},{"$f":"'1.Портфель кредитів'!W749","v":0},{"$f":"'1.Портфель кредитів'!Y749","v":""},{"$f":"$E$1","v":4},{"$f":"$E$2","v":"2018-06-01"},{"$f":"B774&\"_\"&I774&\"_\"&J774&\"_\"&$E$3","v":"_4_43252_2"}]
[{"$f":"'1.Портфель кредитів'!H750","v":0},{"$f":"'1.Портфель кредитів'!D750","v":""},{"$f":"'1.Портфель кредитів'!#REF!","v":{"$error":"#REF!"}},{"$f":"'1.Портфель кредитів'!#REF!","v":{"$error":"#REF!"}},{"$f":"'1.Портфель кредитів'!#REF!","v":{"$error":"#REF!"}},{"$f":"'1.Портфель кредитів'!I750","v":0},{"$f":"'1.Портфель кредитів'!W750","v":0},{"$f":"'1.Портфель кредитів'!Y750","v":""},4,"2018-06-01","_4_43252_2"]
[{"$f":"'1.Портфель кредитів'!H751","v":0},{"$f":"'1.Портфель кредитів'!D751","v":""},{"$f":"'1.Портфель кредитів'!#REF!","v":{"$error":"#REF!"}},{"$f":"'1.Портфель кредитів'!#REF!","v":{"$error":"#REF!"}},{"$f":"'1.Портфель кредитів'!#REF!","v":{"$error":"#REF!"}},{"$f":"'1.Портфель кредитів'!I751","v":0},{"$f":"'1.Портфель кредитів'!W751","v":0},{"$f":"'1.Портфель кредитів'!Y751","v":""},4,"2018-06-01","_4_43252_2"]
[{"$f":"'1.Портфель кредитів'!H752","v":0},{"$f":"'1.Портфель кредитів'!D752","v":""},{"$f":"'1.Портфель кредитів'!#REF!","v":{"$error":"#REF!"}},{"$f":"'1.Портфель кредитів'!#REF!","v":{"$error":"#REF!"}},{"$f":"'1.Портфель кредитів'!#REF!","v":{"$error":"#REF!"}},{"$f":"'1.Портфель кредитів'!I752","v":0},{"$f":"'1.Портфель кредитів'!W752","v":0},{"$f":"'1.Портфель кредитів'!Y752","v":""},4,"2018-06-01","_4_43252_2"]
[{"$f":"'1.Портфель кредитів'!H753","v":0},{"$f":"'1.Портфель кредитів'!D753","v":""},{"$f":"'1.Портфель кредитів'!#REF!","v":{"$error":"#REF!"}},{"$f":"'1.Портфель кредитів'!#REF!","v":{"$error":"#REF!"}},{"$f":"'1.Портфель кредитів'!#REF!","v":{"$error":"#REF!"}},{"$f":"'1.Портфель кредитів'!I753","v":0},{"$f":"'1.Портфель кредитів'!W753","v":0},{"$f":"'1.Портфель кредитів'!Y753","v":""},4,"2018-06-01","_4_43252_2"]
[{"$f":"'1.Портфель кредитів'!H754","v":0},{"$f":"'1.Портфель кредитів'!D754","v":""},{"$f":"'1.Портфель кредитів'!#REF!","v":{"$error":"#REF!"}},{"$f":"'1.Портфель кредитів'!#REF!","v":{"$error":"#REF!"}},{"$f":"'1.Портфель кредитів'!#REF!","v":{"$error":"#REF!"}},{"$f":"'1.Портфель кредитів'!I754","v":0},{"$f":"'1.Портфель кредитів'!W754","v":0},{"$f":"'1.Портфель кредитів'!Y754","v":""},4,"2018-06-01","_4_43252_2"]
[{"$f":"'1.Портфель кредитів'!H755","v":0},{"$f":"'1.Портфель кредитів'!D755","v":""},{"$f":"'1.Портфель кредитів'!#REF!","v":{"$error":"#REF!"}},{"$f":"'1.Портфель кредитів'!#REF!","v":{"$error":"#REF!"}},{"$f":"'1.Портфель кредитів'!#REF!","v":{"$error":"#REF!"}},{"$f":"'1.Портфель кредитів'!I755","v":0},{"$f":"'1.Портфель кредитів'!W755","v":0},{"$f":"'1.Портфель кредитів'!Y755","v":""},4,"2018-06-01","_4_43252_2"]
[{"$f":"'1.Портфель кредитів'!H756","v":0},{"$f":"'1.Портфель кредитів'!D756","v":""},{"$f":"'1.Портфель кредитів'!#REF!","v":{"$error":"#REF!"}},{"$f":"'1.Портфель кредитів'!#REF!","v":{"$error":"#REF!"}},{"$f":"'1.Портфель кредитів'!#REF!","v":{"$error":"#REF!"}},{"$f":"'1.Портфель кредитів'!I756","v":0},{"$f":"'1.Портфель кредитів'!W756","v":0},{"$f":"'1.Портфель кредитів'!Y756","v":""},4,"2018-06-01","_4_43252_2"]
[{"$f":"'1.Портфель кредитів'!H757","v":0},{"$f":"'1.Портфель кредитів'!D757","v":""},{"$f":"'1.Портфель кредитів'!#REF!","v":{"$error":"#REF!"}},{"$f":"'1.Портфель кредитів'!#REF!","v":{"$error":"#REF!"}},{"$f":"'1.Портфель кредитів'!#REF!","v":{"$error":"#REF!"}},{"$f":"'1.Портфель кредитів'!I757","v":0},{"$f":"'1.Портфель кредитів'!W757","v":0},{"$f":"'1.Портфель кредитів'!Y757","v":""},4,"2018-06-01","_4_43252_2"]
[{"$f":"'1.Портфель кредитів'!H758","v":0},{"$f":"'1.Портфель кредитів'!D758","v":""},{"$f":"'1.Портфель кредитів'!#REF!","v":{"$error":"#REF!"}},{"$f":"'1.Портфель кредитів'!#REF!","v":{"$error":"#REF!"}},{"$f":"'1.Портфель кредитів'!#REF!","v":{"$error":"#REF!"}},{"$f":"'1.Портфель кредитів'!I758","v":0},{"$f":"'1.Портфель кредитів'!W758","v":0},{"$f":"'1.Портфель кредитів'!Y758","v":""},4,"2018-06-01","_4_43252_2"]
[{"$f":"'1.Портфель кредитів'!H759","v":0},{"$f":"'1.Портфель кредитів'!D759","v":""},{"$f":"'1.Портфель кредитів'!#REF!","v":{"$error":"#REF!"}},{"$f":"'1.Портфель кредитів'!#REF!","v":{"$error":"#REF!"}},{"$f":"'1.Портфель кредитів'!#REF!","v":{"$error":"#REF!"}},{"$f":"'1.Портфель кредитів'!I759","v":0},{"$f":"'1.Портфель кредитів'!W759","v":0},{"$f":"'1.Портфель кредитів'!Y759","v":""},4,"2018-06-01","_4_43252_2"]
[{"$f":"'1.Портфель кредитів'!H760","v":0},{"$f":"'1.Портфель кредитів'!D760","v":""},{"$f":"'1.Портфель кредитів'!#REF!","v":{"$error":"#REF!"}},{"$f":"'1.Портфель кредитів'!#REF!","v":{"$error":"#REF!"}},{"$f":"'1.Портфель кредитів'!#REF!","v":{"$error":"#REF!"}},{"$f":"'1.Портфель кредитів'!I760","v":0},{"$f":"'1.Портфель кредитів'!W760","v":0},{"$f":"'1.Портфель кредитів'!Y760","v":""},4,"2018-06-01","_4_43252_2"]
[{"$f":"'1.Портфель кредитів'!H761","v":0},{"$f":"'1.Портфель кредитів'!D761","v":""},{"$f":"'1.Портфель кредитів'!#REF!","v":{"$error":"#REF!"}},{"$f":"'1.Портфель кредитів'!#REF!","v":{"$error":"#REF!"}},{"$f":"'1.Портфель кредитів'!#REF!","v":{"$error":"#REF!"}},{"$f":"'1.Портфель кредитів'!I761","v":0},{"$f":"'1.Портфель кредитів'!W761","v":0},{"$f":"'1.Портфель кредитів'!Y761","v":""},4,"2018-06-01","_4_43252_2"]
[{"$f":"'1.Портфель кредитів'!H762","v":0},{"$f":"'1.Портфель кредитів'!D762","v":""},{"$f":"'1.Портфель кредитів'!#REF!","v":{"$error":"#REF!"}},{"$f":"'1.Портфель кредитів'!#REF!","v":{"$error":"#REF!"}},{"$f":"'1.Портфель кредитів'!#REF!","v":{"$error":"#REF!"}},{"$f":"'1.Портфель кредитів'!I762","v":0},{"$f":"'1.Портфель кредитів'!W762","v":0},{"$f":"'1.Портфель кредитів'!Y762","v":""},4,"2018-06-01","_4_43252_2"]
[{"$f":"'1.Портфель кредитів'!H763","v":0},{"$f":"'1.Портфель кредитів'!D763","v":""},{"$f":"'1.Портфель кредитів'!#REF!","v":{"$error":"#REF!"}},{"$f":"'1.Портфель кредитів'!#REF!","v":{"$error":"#REF!"}},{"$f":"'1.Портфель кредитів'!#REF!","v":{"$error":"#REF!"}},{"$f":"'1.Портфель кредитів'!I763","v":0},{"$f":"'1.Портфель кредитів'!W763","v":0},{"$f":"'1.Портфель кредитів'!Y763","v":""},4,"2018-06-01","_4_43252_2"]
[{"$f":"'1.Портфель кредитів'!H764","v":0},{"$f":"'1.Портфель кредитів'!D764","v":""},{"$f":"'1.Портфель кредитів'!#REF!","v":{"$error":"#REF!"}},{"$f":"'1.Портфель кредитів'!#REF!","v":{"$error":"#REF!"}},{"$f":"'1.Портфель кредитів'!#REF!","v":{"$error":"#REF!"}},{"$f":"'1.Портфель кредитів'!I764","v":0},{"$f":"'1.Портфель кредитів'!W764","v":0},{"$f":"'1.Портфель кредитів'!Y764","v":""},4,"2018-06-01","_4_43252_2"]
[{"$f":"'1.Портфель кредитів'!H765","v":0},{"$f":"'1.Портфель кредитів'!D765","v":""},{"$f":"'1.Портфель кредитів'!#REF!","v":{"$error":"#REF!"}},{"$f":"'1.Портфель кредитів'!#REF!","v":{"$error":"#REF!"}},{"$f":"'1.Портфель кредитів'!#REF!","v":{"$error":"#REF!"}},{"$f":"'1.Портфель кредитів'!I765","v":0},{"$f":"'1.Портфель кредитів'!W765","v":0},{"$f":"'1.Портфель кредитів'!Y765","v":""},4,"2018-06-01","_4_43252_2"]
[{"$f":"'1.Портфель кредитів'!H766","v":0},{"$f":"'1.Портфель кредитів'!D766","v":""},{"$f":"'1.Портфель кредитів'!#REF!","v":{"$error":"#REF!"}},{"$f":"'1.Портфель кредитів'!#REF!","v":{"$error":"#REF!"}},{"$f":"'1.Портфель кредитів'!#REF!","v":{"$error":"#REF!"}},{"$f":"'1.Портфель кредитів'!I766","v":0},{"$f":"'1.Портфель кредитів'!W766","v":0},{"$f":"'1.Портфель кредитів'!Y766","v":""},4,"2018-06-01","_4_43252_2"]
[{"$f":"'1.Портфель кредитів'!H767","v":0},{"$f":"'1.Портфель кредитів'!D767","v":""},{"$f":"'1.Портфель кредитів'!#REF!","v":{"$error":"#REF!"}},{"$f":"'1.Портфель кредитів'!#REF!","v":{"$error":"#REF!"}},{"$f":"'1.Портфель кредитів'!#REF!","v":{"$error":"#REF!"}},{"$f":"'1.Портфель кредитів'!I767","v":0},{"$f":"'1.Портфель кредитів'!W767","v":0},{"$f":"'1.Портфель кредитів'!Y767","v":""},4,"2018-06-01","_4_43252_2"]
[{"$f":"'1.Портфель кредитів'!H768","v":0},{"$f":"'1.Портфель кредитів'!D768","v":""},{"$f":"'1.Портфель кредитів'!#REF!","v":{"$error":"#REF!"}},{"$f":"'1.Портфель кредитів'!#REF!","v":{"$error":"#REF!"}},{"$f":"'1.Портфель кредитів'!#REF!","v":{"$error":"#REF!"}},{"$f":"'1.Портфель кредитів'!I768","v":0},{"$f":"'1.Портфель кредитів'!W768","v":0},{"$f":"'1.Портфель кредитів'!Y768","v":""},4,"2018-06-01","_4_43252_2"]
[{"$f":"'1.Портфель кредитів'!H769","v":0},{"$f":"'1.Портфель кредитів'!D769","v":""},{"$f":"'1.Портфель кредитів'!#REF!","v":{"$error":"#REF!"}},{"$f":"'1.Портфель кредитів'!#REF!","v":{"$error":"#REF!"}},{"$f":"'1.Портфель кредитів'!#REF!","v":{"$error":"#REF!"}},{"$f":"'1.Портфель кредитів'!I769","v":0},{"$f":"'1.Портфель кредитів'!W769","v":0},{"$f":"'1.Портфель кредитів'!Y769","v":""},4,"2018-06-01","_4_43252_2"]
[{"$f":"'1.Портфель кредитів'!H770","v":0},{"$f":"'1.Портфель кредитів'!D770","v":""},{"$f":"'1.Портфель кредитів'!#REF!","v":{"$error":"#REF!"}},{"$f":"'1.Портфель кредитів'!#REF!","v":{"$error":"#REF!"}},{"$f":"'1.Портфель кредитів'!#REF!","v":{"$error":"#REF!"}},{"$f":"'1.Портфель кредитів'!I770","v":0},{"$f":"'1.Портфель кредитів'!W770","v":0},{"$f":"'1.Портфель кредитів'!Y770","v":""},4,"2018-06-01","_4_43252_2"]
[{"$f":"'1.Портфель кредитів'!H771","v":0},{"$f":"'1.Портфель кредитів'!D771","v":""},{"$f":"'1.Портфель кредитів'!#REF!","v":{"$error":"#REF!"}},{"$f":"'1.Портфель кредитів'!#REF!","v":{"$error":"#REF!"}},{"$f":"'1.Портфель кредитів'!#REF!","v":{"$error":"#REF!"}},{"$f":"'1.Портфель кредитів'!I771","v":0},{"$f":"'1.Портфель кредитів'!W771","v":0},{"$f":"'1.Портфель кредитів'!Y771","v":""},4,"2018-06-01","_4_43252_2"]
[{"$f":"'1.Портфель кредитів'!H772","v":0},{"$f":"'1.Портфель кредитів'!D772","v":""},{"$f":"'1.Портфель кредитів'!#REF!","v":{"$error":"#REF!"}},{"$f":"'1.Портфель кредитів'!#REF!","v":{"$error":"#REF!"}},{"$f":"'1.Портфель кредитів'!#REF!","v":{"$error":"#REF!"}},{"$f":"'1.Портфель кредитів'!I772","v":0},{"$f":"'1.Портфель кредитів'!W772","v":0},{"$f":"'1.Портфель кредитів'!Y772","v":""},4,"2018-06-01","_4_43252_2"]
[{"$f":"'1.Портфель кредитів'!H773","v":0},{"$f":"'1.Портфель кредитів'!D773","v":""},{"$f":"'1.Портфель кредитів'!#REF!","v":{"$error":"#REF!"}},{"$f":"'1.Портфель кредитів'!#REF!","v":{"$error":"#REF!"}},{"$f":"'1.Портфель кредитів'!#REF!","v":{"$error":"#REF!"}},{"$f":"'1.Портфель кредитів'!I773","v":0},{"$f":"'1.Портфель кредитів'!W773","v":0},{"$f":"'1.Портфель кредитів'!Y773","v":""},4,"2018-06-01","_4_43252_2"]
[{"$f":"'1.Портфель кредитів'!H774","v":0},{"$f":"'1.Портфель кредитів'!D774","v":""},{"$f":"'1.Портфель кредитів'!#REF!","v":{"$error":"#REF!"}},{"$f":"'1.Портфель кредитів'!#REF!","v":{"$error":"#REF!"}},{"$f":"'1.Портфель кредитів'!#REF!","v":{"$error":"#REF!"}},{"$f":"'1.Портфель кредитів'!I774","v":0},{"$f":"'1.Портфель кредитів'!W774","v":0},{"$f":"'1.Портфель кредитів'!Y774","v":""},4,"2018-06-01","_4_43252_2"]
[{"$f":"'1.Портфель кредитів'!H775","v":0},{"$f":"'1.Портфель кредитів'!D775","v":""},{"$f":"'1.Портфель кредитів'!#REF!","v":{"$error":"#REF!"}},{"$f":"'1.Портфель кредитів'!#REF!","v":{"$error":"#REF!"}},{"$f":"'1.Портфель кредитів'!#REF!","v":{"$error":"#REF!"}},{"$f":"'1.Портфель кредитів'!I775","v":0},{"$f":"'1.Портфель кредитів'!W775","v":0},{"$f":"'1.Портфель кредитів'!Y775","v":""},4,"2018-06-01","_4_43252_2"]
[{"$f":"'1.Портфель кредитів'!H776","v":0},{"$f":"'1.Портфель кредитів'!D776","v":""},{"$f":"'1.Портфель кредитів'!#REF!","v":{"$error":"#REF!"}},{"$f":"'1.Портфель кредитів'!#REF!","v":{"$error":"#REF!"}},{"$f":"'1.Портфель кредитів'!#REF!","v":{"$error":"#REF!"}},{"$f":"'1.Портфель кредитів'!I776","v":0},{"$f":"'1.Портфель кредитів'!W776","v":0},{"$f":"'1.Портфель кредитів'!Y776","v":""},4,"2018-06-01","_4_43252_2"]
[{"$f":"'1.Портфель кредитів'!H777","v":0},{"$f":"'1.Портфель кредитів'!D777","v":""},{"$f":"'1.Портфель кредитів'!#REF!","v":{"$error":"#REF!"}},{"$f":"'1.Портфель кредитів'!#REF!","v":{"$error":"#REF!"}},{"$f":"'1.Портфель кредитів'!#REF!","v":{"$error":"#REF!"}},{"$f":"'1.Портфель кредитів'!I777","v":0},{"$f":"'1.Портфель кредитів'!W777","v":0},{"$f":"'1.Портфель кредитів'!Y777","v":""},4,"2018-06-01","_4_43252_2"]
[{"$f":"'1.Портфель кредитів'!H778","v":0},{"$f":"'1.Портфель кредитів'!D778","v":""},{"$f":"'1.Портфель кредитів'!#REF!","v":{"$error":"#REF!"}},{"$f":"'1.Портфель кредитів'!#REF!","v":{"$error":"#REF!"}},{"$f":"'1.Портфель кредитів'!#REF!","v":{"$error":"#REF!"}},{"$f":"'1.Портфель кредитів'!I778","v":0},{"$f":"'1.Портфель кредитів'!W778","v":0},{"$f":"'1.Портфель кредитів'!Y778","v":""},4,"2018-06-01","_4_43252_2"]
[{"$f":"'1.Портфель кредитів'!H779","v":0},{"$f":"'1.Портфель кредитів'!D779","v":""},{"$f":"'1.Портфель кредитів'!#REF!","v":{"$error":"#REF!"}},{"$f":"'1.Портфель кредитів'!#REF!","v":{"$error":"#REF!"}},{"$f":"'1.Портфель кредитів'!#REF!","v":{"$error":"#REF!"}},{"$f":"'1.Портфель кредитів'!I779","v":0},{"$f":"'1.Портфель кредитів'!W779","v":0},{"$f":"'1.Портфель кредитів'!Y779","v":""},4,"2018-06-01","_4_43252_2"]
[{"$f":"'1.Портфель кредитів'!H780","v":0},{"$f":"'1.Портфель кредитів'!D780","v":""},{"$f":"'1.Портфель кредитів'!#REF!","v":{"$error":"#REF!"}},{"$f":"'1.Портфель кредитів'!#REF!","v":{"$error":"#REF!"}},{"$f":"'1.Портфель кредитів'!#REF!","v":{"$error":"#REF!"}},{"$f":"'1.Портфель кредитів'!I780","v":0},{"$f":"'1.Портфель кредитів'!W780","v":0},{"$f":"'1.Портфель кредитів'!Y780","v":""},4,"2018-06-01","_4_43252_2"]
[{"$f":"'1.Портфель кредитів'!H781","v":0},{"$f":"'1.Портфель кредитів'!D781","v":""},{"$f":"'1.Портфель кредитів'!#REF!","v":{"$error":"#REF!"}},{"$f":"'1.Портфель кредитів'!#REF!","v":{"$error":"#REF!"}},{"$f":"'1.Портфель кредитів'!#REF!","v":{"$error":"#REF!"}},{"$f":"'1.Портфель кредитів'!I781","v":0},{"$f":"'1.Портфель кредитів'!W781","v":0},{"$f":"'1.Портфель кредитів'!Y781","v":""},4,"2018-06-01","_4_43252_2"]
[{"$f":"'1.Портфель кредитів'!H782","v":0},{"$f":"'1.Портфель кредитів'!D782","v":""},{"$f":"'1.Портфель кредитів'!#REF!","v":{"$error":"#REF!"}},{"$f":"'1.Портфель кредитів'!#REF!","v":{"$error":"#REF!"}},{"$f":"'1.Портфель кредитів'!#REF!","v":{"$error":"#REF!"}},{"$f":"'1.Портфель кредитів'!I782","v":0},{"$f":"'1.Портфель кредитів'!W782","v":0},{"$f":"'1.Портфель кредитів'!Y782","v":""},4,"2018-06-01","_4_43252_2"]
[{"$f":"'1.Портфель кредитів'!H783","v":0},{"$f":"'1.Портфель кредитів'!D783","v":""},{"$f":"'1.Портфель кредитів'!#REF!","v":{"$error":"#REF!"}},{"$f":"'1.Портфель кредитів'!#REF!","v":{"$error":"#REF!"}},{"$f":"'1.Портфель кредитів'!#REF!","v":{"$error":"#REF!"}},{"$f":"'1.Портфель кредитів'!I783","v":0},{"$f":"'1.Портфель кредитів'!W783","v":0},{"$f":"'1.Портфель кредитів'!Y783","v":""},4,"2018-06-01","_4_43252_2"]
[{"$f":"'1.Портфель кредитів'!H784","v":0},{"$f":"'1.Портфель кредитів'!D784","v":""},{"$f":"'1.Портфель кредитів'!#REF!","v":{"$error":"#REF!"}},{"$f":"'1.Портфель кредитів'!#REF!","v":{"$error":"#REF!"}},{"$f":"'1.Портфель кредитів'!#REF!","v":{"$error":"#REF!"}},{"$f":"'1.Портфель кредитів'!I784","v":0},{"$f":"'1.Портфель кредитів'!W784","v":0},{"$f":"'1.Портфель кредитів'!Y784","v":""},4,"2018-06-01","_4_43252_2"]
[{"$f":"'1.Портфель кредитів'!H785","v":0},{"$f":"'1.Портфель кредитів'!D785","v":""},{"$f":"'1.Портфель кредитів'!#REF!","v":{"$error":"#REF!"}},{"$f":"'1.Портфель кредитів'!#REF!","v":{"$error":"#REF!"}},{"$f":"'1.Портфель кредитів'!#REF!","v":{"$error":"#REF!"}},{"$f":"'1.Портфель кредитів'!I785","v":0},{"$f":"'1.Портфель кредитів'!W785","v":0},{"$f":"'1.Портфель кредитів'!Y785","v":""},4,"2018-06-01","_4_43252_2"]
[{"$f":"'1.Портфель кредитів'!H786","v":0},{"$f":"'1.Портфель кредитів'!D786","v":""},{"$f":"'1.Портфель кредитів'!#REF!","v":{"$error":"#REF!"}},{"$f":"'1.Портфель кредитів'!#REF!","v":{"$error":"#REF!"}},{"$f":"'1.Портфель кредитів'!#REF!","v":{"$error":"#REF!"}},{"$f":"'1.Портфель кредитів'!I786","v":0},{"$f":"'1.Портфель кредитів'!W786","v":0},{"$f":"'1.Портфель кредитів'!Y786","v":""},4,"2018-06-01","_4_43252_2"]
[{"$f":"'1.Портфель кредитів'!H787","v":0},{"$f":"'1.Портфель кредитів'!D787","v":""},{"$f":"'1.Портфель кредитів'!#REF!","v":{"$error":"#REF!"}},{"$f":"'1.Портфель кредитів'!#REF!","v":{"$error":"#REF!"}},{"$f":"'1.Портфель кредитів'!#REF!","v":{"$error":"#REF!"}},{"$f":"'1.Портфель кредитів'!I787","v":0},{"$f":"'1.Портфель кредитів'!W787","v":0},{"$f":"'1.Портфель кредитів'!Y787","v":""},4,"2018-06-01","_4_43252_2"]
[{"$f":"'1.Портфель кредитів'!H788","v":0},{"$f":"'1.Портфель кредитів'!D788","v":""},{"$f":"'1.Портфель кредитів'!#REF!","v":{"$error":"#REF!"}},{"$f":"'1.Портфель кредитів'!#REF!","v":{"$error":"#REF!"}},{"$f":"'1.Портфель кредитів'!#REF!","v":{"$error":"#REF!"}},{"$f":"'1.Портфель кредитів'!I788","v":0},{"$f":"'1.Портфель кредитів'!W788","v":0},{"$f":"'1.Портфель кредитів'!Y788","v":""},4,"2018-06-01","_4_43252_2"]
[{"$f":"'1.Портфель кредитів'!H789","v":0},{"$f":"'1.Портфель кредитів'!D789","v":""},{"$f":"'1.Портфель кредитів'!#REF!","v":{"$error":"#REF!"}},{"$f":"'1.Портфель кредитів'!#REF!","v":{"$error":"#REF!"}},{"$f":"'1.Портфель кредитів'!#REF!","v":{"$error":"#REF!"}},{"$f":"'1.Портфель кредитів'!I789","v":0},{"$f":"'1.Портфель кредитів'!W789","v":0},{"$f":"'1.Портфель кредитів'!Y789","v":""},4,"2018-06-01","_4_43252_2"]
[{"$f":"'1.Портфель кредитів'!H790","v":0},{"$f":"'1.Портфель кредитів'!D790","v":""},{"$f":"'1.Портфель кредитів'!#REF!","v":{"$error":"#REF!"}},{"$f":"'1.Портфель кредитів'!#REF!","v":{"$error":"#REF!"}},{"$f":"'1.Портфель кредитів'!#REF!","v":{"$error":"#REF!"}},{"$f":"'1.Портфель кредитів'!I790","v":0},{"$f":"'1.Портфель кредитів'!W790","v":0},{"$f":"'1.Портфель кредитів'!Y790","v":""},4,"2018-06-01","_4_43252_2"]
[{"$f":"'1.Портфель кредитів'!H791","v":0},{"$f":"'1.Портфель кредитів'!D791","v":""},{"$f":"'1.Портфель кредитів'!#REF!","v":{"$error":"#REF!"}},{"$f":"'1.Портфель кредитів'!#REF!","v":{"$error":"#REF!"}},{"$f":"'1.Портфель кредитів'!#REF!","v":{"$error":"#REF!"}},{"$f":"'1.Портфель кредитів'!I791","v":0},{"$f":"'1.Портфель кредитів'!W791","v":0},{"$f":"'1.Портфель кредитів'!Y791","v":""},4,"2018-06-01","_4_43252_2"]
[{"$f":"'1.Портфель кредитів'!H792","v":0},{"$f":"'1.Портфель кредитів'!D792","v":""},{"$f":"'1.Портфель кредитів'!#REF!","v":{"$error":"#REF!"}},{"$f":"'1.Портфель кредитів'!#REF!","v":{"$error":"#REF!"}},{"$f":"'1.Портфель кредитів'!#REF!","v":{"$error":"#REF!"}},{"$f":"'1.Портфель кредитів'!I792","v":0},{"$f":"'1.Портфель кредитів'!W792","v":0},{"$f":"'1.Портфель кредитів'!Y792","v":""},4,"2018-06-01","_4_43252_2"]
[{"$f":"'1.Портфель кредитів'!H793","v":0},{"$f":"'1.Портфель кредитів'!D793","v":""},{"$f":"'1.Портфель кредитів'!#REF!","v":{"$error":"#REF!"}},{"$f":"'1.Портфель кредитів'!#REF!","v":{"$error":"#REF!"}},{"$f":"'1.Портфель кредитів'!#REF!","v":{"$error":"#REF!"}},{"$f":"'1.Портфель кредитів'!I793","v":0},{"$f":"'1.Портфель кредитів'!W793","v":0},{"$f":"'1.Портфель кредитів'!Y793","v":""},4,"2018-06-01","_4_43252_2"]
[{"$f":"'1.Портфель кредитів'!H794","v":0},{"$f":"'1.Портфель кредитів'!D794","v":""},{"$f":"'1.Портфель кредитів'!#REF!","v":{"$error":"#REF!"}},{"$f":"'1.Портфель кредитів'!#REF!","v":{"$error":"#REF!"}},{"$f":"'1.Портфель кредитів'!#REF!","v":{"$error":"#REF!"}},{"$f":"'1.Портфель кредитів'!I794","v":0},{"$f":"'1.Портфель кредитів'!W794","v":0},{"$f":"'1.Портфель кредитів'!Y794","v":""},4,"2018-06-01","_4_43252_2"]
[{"$f":"'1.Портфель кредитів'!H795","v":0},{"$f":"'1.Портфель кредитів'!D795","v":""},{"$f":"'1.Портфель кредитів'!#REF!","v":{"$error":"#REF!"}},{"$f":"'1.Портфель кредитів'!#REF!","v":{"$error":"#REF!"}},{"$f":"'1.Портфель кредитів'!#REF!","v":{"$error":"#REF!"}},{"$f":"'1.Портфель кредитів'!I795","v":0},{"$f":"'1.Портфель кредитів'!W795","v":0},{"$f":"'1.Портфель кредитів'!Y795","v":""},4,"2018-06-01","_4_43252_2"]
[{"$f":"'1.Портфель кредитів'!H796","v":0},{"$f":"'1.Портфель кредитів'!D796","v":""},{"$f":"'1.Портфель кредитів'!#REF!","v":{"$error":"#REF!"}},{"$f":"'1.Портфель кредитів'!#REF!","v":{"$error":"#REF!"}},{"$f":"'1.Портфель кредитів'!#REF!","v":{"$error":"#REF!"}},{"$f":"'1.Портфель кредитів'!I796","v":0},{"$f":"'1.Портфель кредитів'!W796","v":0},{"$f":"'1.Портфель кредитів'!Y796","v":""},4,"2018-06-01","_4_43252_2"]
[{"$f":"'1.Портфель кредитів'!H797","v":0},{"$f":"'1.Портфель кредитів'!D797","v":""},{"$f":"'1.Портфель кредитів'!#REF!","v":{"$error":"#REF!"}},{"$f":"'1.Портфель кредитів'!#REF!","v":{"$error":"#REF!"}},{"$f":"'1.Портфель кредитів'!#REF!","v":{"$error":"#REF!"}},{"$f":"'1.Портфель кредитів'!I797","v":0},{"$f":"'1.Портфель кредитів'!W797","v":0},{"$f":"'1.Портфель кредитів'!Y797","v":""},4,"2018-06-01","_4_43252_2"]
[{"$f":"'1.Портфель кредитів'!H798","v":0},{"$f":"'1.Портфель кредитів'!D798","v":""},{"$f":"'1.Портфель кредитів'!#REF!","v":{"$error":"#REF!"}},{"$f":"'1.Портфель кредитів'!#REF!","v":{"$error":"#REF!"}},{"$f":"'1.Портфель кредитів'!#REF!","v":{"$error":"#REF!"}},{"$f":"'1.Портфель кредитів'!I798","v":0},{"$f":"'1.Портфель кредитів'!W798","v":0},{"$f":"'1.Портфель кредитів'!Y798","v":""},4,"2018-06-01","_4_43252_2"]
[{"$f":"'1.Портфель кредитів'!H799","v":0},{"$f":"'1.Портфель кредитів'!D799","v":""},{"$f":"'1.Портфель кредитів'!#REF!","v":{"$error":"#REF!"}},{"$f":"'1.Портфель кредитів'!#REF!","v":{"$error":"#REF!"}},{"$f":"'1.Портфель кредитів'!#REF!","v":{"$error":"#REF!"}},{"$f":"'1.Портфель кредитів'!I799","v":0},{"$f":"'1.Портфель кредитів'!W799","v":0},{"$f":"'1.Портфель кредитів'!Y799","v":""},4,"2018-06-01","_4_43252_2"]
[{"$f":"'1.Портфель кредитів'!H800","v":0},{"$f":"'1.Портфель кредитів'!D800","v":""},{"$f":"'1.Портфель кредитів'!#REF!","v":{"$error":"#REF!"}},{"$f":"'1.Портфель кредитів'!#REF!","v":{"$error":"#REF!"}},{"$f":"'1.Портфель кредитів'!#REF!","v":{"$error":"#REF!"}},{"$f":"'1.Портфель кредитів'!I800","v":0},{"$f":"'1.Портфель кредитів'!W800","v":0},{"$f":"'1.Портфель кредитів'!Y800","v":""},4,"2018-06-01","_4_43252_2"]
[{"$f":"'1.Портфель кредитів'!H801","v":0},{"$f":"'1.Портфель кредитів'!D801","v":""},{"$f":"'1.Портфель кредитів'!#REF!","v":{"$error":"#REF!"}},{"$f":"'1.Портфель кредитів'!#REF!","v":{"$error":"#REF!"}},{"$f":"'1.Портфель кредитів'!#REF!","v":{"$error":"#REF!"}},{"$f":"'1.Портфель кредитів'!I801","v":0},{"$f":"'1.Портфель кредитів'!W801","v":0},{"$f":"'1.Портфель кредитів'!Y801","v":""},4,"2018-06-01","_4_43252_2"]
[{"$f":"'1.Портфель кредитів'!H802","v":0},{"$f":"'1.Портфель кредитів'!D802","v":""},{"$f":"'1.Портфель кредитів'!#REF!","v":{"$error":"#REF!"}},{"$f":"'1.Портфель кредитів'!#REF!","v":{"$error":"#REF!"}},{"$f":"'1.Портфель кредитів'!#REF!","v":{"$error":"#REF!"}},{"$f":"'1.Портфель кредитів'!I802","v":0},{"$f":"'1.Портфель кредитів'!W802","v":0},{"$f":"'1.Портфель кредитів'!Y802","v":""},4,"2018-06-01","_4_43252_2"]
[{"$f":"'1.Портфель кредитів'!H803","v":0},{"$f":"'1.Портфель кредитів'!D803","v":""},{"$f":"'1.Портфель кредитів'!#REF!","v":{"$error":"#REF!"}},{"$f":"'1.Портфель кредитів'!#REF!","v":{"$error":"#REF!"}},{"$f":"'1.Портфель кредитів'!#REF!","v":{"$error":"#REF!"}},{"$f":"'1.Портфель кредитів'!I803","v":0},{"$f":"'1.Портфель кредитів'!W803","v":0},{"$f":"'1.Портфель кредитів'!Y803","v":""},4,"2018-06-01","_4_43252_2"]
[{"$f":"'1.Портфель кредитів'!H804","v":0},{"$f":"'1.Портфель кредитів'!D804","v":""},{"$f":"'1.Портфель кредитів'!#REF!","v":{"$error":"#REF!"}},{"$f":"'1.Портфель кредитів'!#REF!","v":{"$error":"#REF!"}},{"$f":"'1.Портфель кредитів'!#REF!","v":{"$error":"#REF!"}},{"$f":"'1.Портфель кредитів'!I804","v":0},{"$f":"'1.Портфель кредитів'!W804","v":0},{"$f":"'1.Портфель кредитів'!Y804","v":""},4,"2018-06-01","_4_43252_2"]
[{"$f":"'1.Портфель кредитів'!H805","v":0},{"$f":"'1.Портфель кредитів'!D805","v":""},{"$f":"'1.Портфель кредитів'!#REF!","v":{"$error":"#REF!"}},{"$f":"'1.Портфель кредитів'!#REF!","v":{"$error":"#REF!"}},{"$f":"'1.Портфель кредитів'!#REF!","v":{"$error":"#REF!"}},{"$f":"'1.Портфель кредитів'!I805","v":0},{"$f":"'1.Портфель кредитів'!W805","v":0},{"$f":"'1.Портфель кредитів'!Y805","v":""},4,"2018-06-01","_4_43252_2"]
[{"$f":"'1.Портфель кредитів'!H806","v":0},{"$f":"'1.Портфель кредитів'!D806","v":""},{"$f":"'1.Портфель кредитів'!#REF!","v":{"$error":"#REF!"}},{"$f":"'1.Портфель кредитів'!#REF!","v":{"$error":"#REF!"}},{"$f":"'1.Портфель кредитів'!#REF!","v":{"$error":"#REF!"}},{"$f":"'1.Портфель кредитів'!I806","v":0},{"$f":"'1.Портфель кредитів'!W806","v":0},{"$f":"'1.Портфель кредитів'!Y806","v":""},4,"2018-06-01","_4_43252_2"]
[{"$f":"'1.Портфель кредитів'!H807","v":0},{"$f":"'1.Портфель кредитів'!D807","v":""},{"$f":"'1.Портфель кредитів'!#REF!","v":{"$error":"#REF!"}},{"$f":"'1.Портфель кредитів'!#REF!","v":{"$error":"#REF!"}},{"$f":"'1.Портфель кредитів'!#REF!","v":{"$error":"#REF!"}},{"$f":"'1.Портфель кредитів'!I807","v":0},{"$f":"'1.Портфель кредитів'!W807","v":0},{"$f":"'1.Портфель кредитів'!Y807","v":""},4,"2018-06-01","_4_43252_2"]
[{"$f":"'1.Портфель кредитів'!H808","v":0},{"$f":"'1.Портфель кредитів'!D808","v":""},{"$f":"'1.Портфель кредитів'!#REF!","v":{"$error":"#REF!"}},{"$f":"'1.Портфель кредитів'!#REF!","v":{"$error":"#REF!"}},{"$f":"'1.Портфель кредитів'!#REF!","v":{"$error":"#REF!"}},{"$f":"'1.Портфель кредитів'!I808","v":0},{"$f":"'1.Портфель кредитів'!W808","v":0},{"$f":"'1.Портфель кредитів'!Y808","v":""},4,"2018-06-01","_4_43252_2"]
[{"$f":"'1.Портфель кредитів'!H809","v":0},{"$f":"'1.Портфель кредитів'!D809","v":""},{"$f":"'1.Портфель кредитів'!#REF!","v":{"$error":"#REF!"}},{"$f":"'1.Портфель кредитів'!#REF!","v":{"$error":"#REF!"}},{"$f":"'1.Портфель кредитів'!#REF!","v":{"$error":"#REF!"}},{"$f":"'1.Портфель кредитів'!I809","v":0},{"$f":"'1.Портфель кредитів'!W809","v":0},{"$f":"'1.Портфель кредитів'!Y809","v":""},4,"2018-06-01","_4_43252_2"]
[{"$f":"'1.Портфель кредитів'!H810","v":0},{"$f":"'1.Портфель кредитів'!D810","v":""},{"$f":"'1.Портфель кредитів'!#REF!","v":{"$error":"#REF!"}},{"$f":"'1.Портфель кредитів'!#REF!","v":{"$error":"#REF!"}},{"$f":"'1.Портфель кредитів'!#REF!","v":{"$error":"#REF!"}},{"$f":"'1.Портфель кредитів'!I810","v":0},{"$f":"'1.Портфель кредитів'!W810","v":0},{"$f":"'1.Портфель кредитів'!Y810","v":""},4,"2018-06-01","_4_43252_2"]
[{"$f":"'1.Портфель кредитів'!H811","v":0},{"$f":"'1.Портфель кредитів'!D811","v":""},{"$f":"'1.Портфель кредитів'!#REF!","v":{"$error":"#REF!"}},{"$f":"'1.Портфель кредитів'!#REF!","v":{"$error":"#REF!"}},{"$f":"'1.Портфель кредитів'!#REF!","v":{"$error":"#REF!"}},{"$f":"'1.Портфель кредитів'!I811","v":0},{"$f":"'1.Портфель кредитів'!W811","v":0},{"$f":"'1.Портфель кредитів'!Y811","v":""},4,"2018-06-01","_4_43252_2"]
[{"$f":"'1.Портфель кредитів'!H812","v":0},{"$f":"'1.Портфель кредитів'!D812","v":""},{"$f":"'1.Портфель кредитів'!#REF!","v":{"$error":"#REF!"}},{"$f":"'1.Портфель кредитів'!#REF!","v":{"$error":"#REF!"}},{"$f":"'1.Портфель кредитів'!#REF!","v":{"$error":"#REF!"}},{"$f":"'1.Портфель кредитів'!I812","v":0},{"$f":"'1.Портфель кредитів'!W812","v":0},{"$f":"'1.Портфель кредитів'!Y812","v":""},4,"2018-06-01","_4_43252_2"]
[{"$f":"'1.Портфель кредитів'!H813","v":0},{"$f":"'1.Портфель кредитів'!D813","v":""},{"$f":"'1.Портфель кредитів'!#REF!","v":{"$error":"#REF!"}},{"$f":"'1.Портфель кредитів'!#REF!","v":{"$error":"#REF!"}},{"$f":"'1.Портфель кредитів'!#REF!","v":{"$error":"#REF!"}},{"$f":"'1.Портфель кредитів'!I813","v":0},{"$f":"'1.Портфель кредитів'!W813","v":0},{"$f":"'1.Портфель кредитів'!Y813","v":""},{"$f":"$E$1","v":4},{"$f":"$E$2","v":"2018-06-01"},{"$f":"B838&\"_\"&I838&\"_\"&J838&\"_\"&$E$3","v":"_4_43252_2"}]
[{"$f":"'1.Портфель кредитів'!H814","v":0},{"$f":"'1.Портфель кредитів'!D814","v":""},{"$f":"'1.Портфель кредитів'!#REF!","v":{"$error":"#REF!"}},{"$f":"'1.Портфель кредитів'!#REF!","v":{"$error":"#REF!"}},{"$f":"'1.Портфель кредитів'!#REF!","v":{"$error":"#REF!"}},{"$f":"'1.Портфель кредитів'!I814","v":0},{"$f":"'1.Портфель кредитів'!W814","v":0},{"$f":"'1.Портфель кредитів'!Y814","v":""},4,"2018-06-01","_4_43252_2"]
[{"$f":"'1.Портфель кредитів'!H815","v":0},{"$f":"'1.Портфель кредитів'!D815","v":""},{"$f":"'1.Портфель кредитів'!#REF!","v":{"$error":"#REF!"}},{"$f":"'1.Портфель кредитів'!#REF!","v":{"$error":"#REF!"}},{"$f":"'1.Портфель кредитів'!#REF!","v":{"$error":"#REF!"}},{"$f":"'1.Портфель кредитів'!I815","v":0},{"$f":"'1.Портфель кредитів'!W815","v":0},{"$f":"'1.Портфель кредитів'!Y815","v":""},4,"2018-06-01","_4_43252_2"]
[{"$f":"'1.Портфель кредитів'!H816","v":0},{"$f":"'1.Портфель кредитів'!D816","v":""},{"$f":"'1.Портфель кредитів'!#REF!","v":{"$error":"#REF!"}},{"$f":"'1.Портфель кредитів'!#REF!","v":{"$error":"#REF!"}},{"$f":"'1.Портфель кредитів'!#REF!","v":{"$error":"#REF!"}},{"$f":"'1.Портфель кредитів'!I816","v":0},{"$f":"'1.Портфель кредитів'!W816","v":0},{"$f":"'1.Портфель кредитів'!Y816","v":""},4,"2018-06-01","_4_43252_2"]
[{"$f":"'1.Портфель кредитів'!H817","v":0},{"$f":"'1.Портфель кредитів'!D817","v":""},{"$f":"'1.Портфель кредитів'!#REF!","v":{"$error":"#REF!"}},{"$f":"'1.Портфель кредитів'!#REF!","v":{"$error":"#REF!"}},{"$f":"'1.Портфель кредитів'!#REF!","v":{"$error":"#REF!"}},{"$f":"'1.Портфель кредитів'!I817","v":0},{"$f":"'1.Портфель кредитів'!W817","v":0},{"$f":"'1.Портфель кредитів'!Y817","v":""},4,"2018-06-01","_4_43252_2"]
[{"$f":"'1.Портфель кредитів'!H818","v":0},{"$f":"'1.Портфель кредитів'!D818","v":""},{"$f":"'1.Портфель кредитів'!#REF!","v":{"$error":"#REF!"}},{"$f":"'1.Портфель кредитів'!#REF!","v":{"$error":"#REF!"}},{"$f":"'1.Портфель кредитів'!#REF!","v":{"$error":"#REF!"}},{"$f":"'1.Портфель кредитів'!I818","v":0},{"$f":"'1.Портфель кредитів'!W818","v":0},{"$f":"'1.Портфель кредитів'!Y818","v":""},4,"2018-06-01","_4_43252_2"]
[{"$f":"'1.Портфель кредитів'!H819","v":0},{"$f":"'1.Портфель кредитів'!D819","v":""},{"$f":"'1.Портфель кредитів'!#REF!","v":{"$error":"#REF!"}},{"$f":"'1.Портфель кредитів'!#REF!","v":{"$error":"#REF!"}},{"$f":"'1.Портфель кредитів'!#REF!","v":{"$error":"#REF!"}},{"$f":"'1.Портфель кредитів'!I819","v":0},{"$f":"'1.Портфель кредитів'!W819","v":0},{"$f":"'1.Портфель кредитів'!Y819","v":""},4,"2018-06-01","_4_43252_2"]
[{"$f":"'1.Портфель кредитів'!H820","v":0},{"$f":"'1.Портфель кредитів'!D820","v":""},{"$f":"'1.Портфель кредитів'!#REF!","v":{"$error":"#REF!"}},{"$f":"'1.Портфель кредитів'!#REF!","v":{"$error":"#REF!"}},{"$f":"'1.Портфель кредитів'!#REF!","v":{"$error":"#REF!"}},{"$f":"'1.Портфель кредитів'!I820","v":0},{"$f":"'1.Портфель кредитів'!W820","v":0},{"$f":"'1.Портфель кредитів'!Y820","v":""},4,"2018-06-01","_4_43252_2"]
[{"$f":"'1.Портфель кредитів'!H821","v":0},{"$f":"'1.Портфель кредитів'!D821","v":""},{"$f":"'1.Портфель кредитів'!#REF!","v":{"$error":"#REF!"}},{"$f":"'1.Портфель кредитів'!#REF!","v":{"$error":"#REF!"}},{"$f":"'1.Портфель кредитів'!#REF!","v":{"$error":"#REF!"}},{"$f":"'1.Портфель кредитів'!I821","v":0},{"$f":"'1.Портфель кредитів'!W821","v":0},{"$f":"'1.Портфель кредитів'!Y821","v":""},4,"2018-06-01","_4_43252_2"]
[{"$f":"'1.Портфель кредитів'!H822","v":0},{"$f":"'1.Портфель кредитів'!D822","v":""},{"$f":"'1.Портфель кредитів'!#REF!","v":{"$error":"#REF!"}},{"$f":"'1.Портфель кредитів'!#REF!","v":{"$error":"#REF!"}},{"$f":"'1.Портфель кредитів'!#REF!","v":{"$error":"#REF!"}},{"$f":"'1.Портфель кредитів'!I822","v":0},{"$f":"'1.Портфель кредитів'!W822","v":0},{"$f":"'1.Портфель кредитів'!Y822","v":""},4,"2018-06-01","_4_43252_2"]
[{"$f":"'1.Портфель кредитів'!H823","v":0},{"$f":"'1.Портфель кредитів'!D823","v":""},{"$f":"'1.Портфель кредитів'!#REF!","v":{"$error":"#REF!"}},{"$f":"'1.Портфель кредитів'!#REF!","v":{"$error":"#REF!"}},{"$f":"'1.Портфель кредитів'!#REF!","v":{"$error":"#REF!"}},{"$f":"'1.Портфель кредитів'!I823","v":0},{"$f":"'1.Портфель кредитів'!W823","v":0},{"$f":"'1.Портфель кредитів'!Y823","v":""},4,"2018-06-01","_4_43252_2"]
[{"$f":"'1.Портфель кредитів'!H824","v":0},{"$f":"'1.Портфель кредитів'!D824","v":""},{"$f":"'1.Портфель кредитів'!#REF!","v":{"$error":"#REF!"}},{"$f":"'1.Портфель кредитів'!#REF!","v":{"$error":"#REF!"}},{"$f":"'1.Портфель кредитів'!#REF!","v":{"$error":"#REF!"}},{"$f":"'1.Портфель кредитів'!I824","v":0},{"$f":"'1.Портфель кредитів'!W824","v":0},{"$f":"'1.Портфель кредитів'!Y824","v":""},4,"2018-06-01","_4_43252_2"]
[{"$f":"'1.Портфель кредитів'!H825","v":0},{"$f":"'1.Портфель кредитів'!D825","v":""},{"$f":"'1.Портфель кредитів'!#REF!","v":{"$error":"#REF!"}},{"$f":"'1.Портфель кредитів'!#REF!","v":{"$error":"#REF!"}},{"$f":"'1.Портфель кредитів'!#REF!","v":{"$error":"#REF!"}},{"$f":"'1.Портфель кредитів'!I825","v":0},{"$f":"'1.Портфель кредитів'!W825","v":0},{"$f":"'1.Портфель кредитів'!Y825","v":""},4,"2018-06-01","_4_43252_2"]
[{"$f":"'1.Портфель кредитів'!H826","v":0},{"$f":"'1.Портфель кредитів'!D826","v":""},{"$f":"'1.Портфель кредитів'!#REF!","v":{"$error":"#REF!"}},{"$f":"'1.Портфель кредитів'!#REF!","v":{"$error":"#REF!"}},{"$f":"'1.Портфель кредитів'!#REF!","v":{"$error":"#REF!"}},{"$f":"'1.Портфель кредитів'!I826","v":0},{"$f":"'1.Портфель кредитів'!W826","v":0},{"$f":"'1.Портфель кредитів'!Y826","v":""},4,"2018-06-01","_4_43252_2"]
[{"$f":"'1.Портфель кредитів'!H827","v":0},{"$f":"'1.Портфель кредитів'!D827","v":""},{"$f":"'1.Портфель кредитів'!#REF!","v":{"$error":"#REF!"}},{"$f":"'1.Портфель кредитів'!#REF!","v":{"$error":"#REF!"}},{"$f":"'1.Портфель кредитів'!#REF!","v":{"$error":"#REF!"}},{"$f":"'1.Портфель кредитів'!I827","v":0},{"$f":"'1.Портфель кредитів'!W827","v":0},{"$f":"'1.Портфель кредитів'!Y827","v":""},4,"2018-06-01","_4_43252_2"]
[{"$f":"'1.Портфель кредитів'!H828","v":0},{"$f":"'1.Портфель кредитів'!D828","v":""},{"$f":"'1.Портфель кредитів'!#REF!","v":{"$error":"#REF!"}},{"$f":"'1.Портфель кредитів'!#REF!","v":{"$error":"#REF!"}},{"$f":"'1.Портфель кредитів'!#REF!","v":{"$error":"#REF!"}},{"$f":"'1.Портфель кредитів'!I828","v":0},{"$f":"'1.Портфель кредитів'!W828","v":0},{"$f":"'1.Портфель кредитів'!Y828","v":""},4,"2018-06-01","_4_43252_2"]
[{"$f":"'1.Портфель кредитів'!H829","v":0},{"$f":"'1.Портфель кредитів'!D829","v":""},{"$f":"'1.Портфель кредитів'!#REF!","v":{"$error":"#REF!"}},{"$f":"'1.Портфель кредитів'!#REF!","v":{"$error":"#REF!"}},{"$f":"'1.Портфель кредитів'!#REF!","v":{"$error":"#REF!"}},{"$f":"'1.Портфель кредитів'!I829","v":0},{"$f":"'1.Портфель кредитів'!W829","v":0},{"$f":"'1.Портфель кредитів'!Y829","v":""},4,"2018-06-01","_4_43252_2"]
[{"$f":"'1.Портфель кредитів'!H830","v":0},{"$f":"'1.Портфель кредитів'!D830","v":""},{"$f":"'1.Портфель кредитів'!#REF!","v":{"$error":"#REF!"}},{"$f":"'1.Портфель кредитів'!#REF!","v":{"$error":"#REF!"}},{"$f":"'1.Портфель кредитів'!#REF!","v":{"$error":"#REF!"}},{"$f":"'1.Портфель кредитів'!I830","v":0},{"$f":"'1.Портфель кредитів'!W830","v":0},{"$f":"'1.Портфель кредитів'!Y830","v":""},4,"2018-06-01","_4_43252_2"]
[{"$f":"'1.Портфель кредитів'!H831","v":0},{"$f":"'1.Портфель кредитів'!D831","v":""},{"$f":"'1.Портфель кредитів'!#REF!","v":{"$error":"#REF!"}},{"$f":"'1.Портфель кредитів'!#REF!","v":{"$error":"#REF!"}},{"$f":"'1.Портфель кредитів'!#REF!","v":{"$error":"#REF!"}},{"$f":"'1.Портфель кредитів'!I831","v":0},{"$f":"'1.Портфель кредитів'!W831","v":0},{"$f":"'1.Портфель кредитів'!Y831","v":""},4,"2018-06-01","_4_43252_2"]
[{"$f":"'1.Портфель кредитів'!H832","v":0},{"$f":"'1.Портфель кредитів'!D832","v":""},{"$f":"'1.Портфель кредитів'!#REF!","v":{"$error":"#REF!"}},{"$f":"'1.Портфель кредитів'!#REF!","v":{"$error":"#REF!"}},{"$f":"'1.Портфель кредитів'!#REF!","v":{"$error":"#REF!"}},{"$f":"'1.Портфель кредитів'!I832","v":0},{"$f":"'1.Портфель кредитів'!W832","v":0},{"$f":"'1.Портфель кредитів'!Y832","v":""},4,"2018-06-01","_4_43252_2"]
[{"$f":"'1.Портфель кредитів'!H833","v":0},{"$f":"'1.Портфель кредитів'!D833","v":""},{"$f":"'1.Портфель кредитів'!#REF!","v":{"$error":"#REF!"}},{"$f":"'1.Портфель кредитів'!#REF!","v":{"$error":"#REF!"}},{"$f":"'1.Портфель кредитів'!#REF!","v":{"$error":"#REF!"}},{"$f":"'1.Портфель кредитів'!I833","v":0},{"$f":"'1.Портфель кредитів'!W833","v":0},{"$f":"'1.Портфель кредитів'!Y833","v":""},4,"2018-06-01","_4_43252_2"]
[{"$f":"'1.Портфель кредитів'!H834","v":0},{"$f":"'1.Портфель кредитів'!D834","v":""},{"$f":"'1.Портфель кредитів'!#REF!","v":{"$error":"#REF!"}},{"$f":"'1.Портфель кредитів'!#REF!","v":{"$error":"#REF!"}},{"$f":"'1.Портфель кредитів'!#REF!","v":{"$error":"#REF!"}},{"$f":"'1.Портфель кредитів'!I834","v":0},{"$f":"'1.Портфель кредитів'!W834","v":0},{"$f":"'1.Портфель кредитів'!Y834","v":""},4,"2018-06-01","_4_43252_2"]
[{"$f":"'1.Портфель кредитів'!H835","v":0},{"$f":"'1.Портфель кредитів'!D835","v":""},{"$f":"'1.Портфель кредитів'!#REF!","v":{"$error":"#REF!"}},{"$f":"'1.Портфель кредитів'!#REF!","v":{"$error":"#REF!"}},{"$f":"'1.Портфель кредитів'!#REF!","v":{"$error":"#REF!"}},{"$f":"'1.Портфель кредитів'!I835","v":0},{"$f":"'1.Портфель кредитів'!W835","v":0},{"$f":"'1.Портфель кредитів'!Y835","v":""},4,"2018-06-01","_4_43252_2"]
[{"$f":"'1.Портфель кредитів'!H836","v":0},{"$f":"'1.Портфель кредитів'!D836","v":""},{"$f":"'1.Портфель кредитів'!#REF!","v":{"$error":"#REF!"}},{"$f":"'1.Портфель кредитів'!#REF!","v":{"$error":"#REF!"}},{"$f":"'1.Портфель кредитів'!#REF!","v":{"$error":"#REF!"}},{"$f":"'1.Портфель кредитів'!I836","v":0},{"$f":"'1.Портфель кредитів'!W836","v":0},{"$f":"'1.Портфель кредитів'!Y836","v":""},4,"2018-06-01","_4_43252_2"]
[{"$f":"'1.Портфель кредитів'!H837","v":0},{"$f":"'1.Портфель кредитів'!D837","v":""},{"$f":"'1.Портфель кредитів'!#REF!","v":{"$error":"#REF!"}},{"$f":"'1.Портфель кредитів'!#REF!","v":{"$error":"#REF!"}},{"$f":"'1.Портфель кредитів'!#REF!","v":{"$error":"#REF!"}},{"$f":"'1.Портфель кредитів'!I837","v":0},{"$f":"'1.Портфель кредитів'!W837","v":0},{"$f":"'1.Портфель кредитів'!Y837","v":""},4,"2018-06-01","_4_43252_2"]
[{"$f":"'1.Портфель кредитів'!H838","v":0},{"$f":"'1.Портфель кредитів'!D838","v":""},{"$f":"'1.Портфель кредитів'!#REF!","v":{"$error":"#REF!"}},{"$f":"'1.Портфель кредитів'!#REF!","v":{"$error":"#REF!"}},{"$f":"'1.Портфель кредитів'!#REF!","v":{"$error":"#REF!"}},{"$f":"'1.Портфель кредитів'!I838","v":0},{"$f":"'1.Портфель кредитів'!W838","v":0},{"$f":"'1.Портфель кредитів'!Y838","v":""},4,"2018-06-01","_4_43252_2"]
[{"$f":"'1.Портфель кредитів'!H839","v":0},{"$f":"'1.Портфель кредитів'!D839","v":""},{"$f":"'1.Портфель кредитів'!#REF!","v":{"$error":"#REF!"}},{"$f":"'1.Портфель кредитів'!#REF!","v":{"$error":"#REF!"}},{"$f":"'1.Портфель кредитів'!#REF!","v":{"$error":"#REF!"}},{"$f":"'1.Портфель кредитів'!I839","v":0},{"$f":"'1.Портфель кредитів'!W839","v":0},{"$f":"'1.Портфель кредитів'!Y839","v":""},4,"2018-06-01","_4_43252_2"]
[{"$f":"'1.Портфель кредитів'!H840","v":0},{"$f":"'1.Портфель кредитів'!D840","v":""},{"$f":"'1.Портфель кредитів'!#REF!","v":{"$error":"#REF!"}},{"$f":"'1.Портфель кредитів'!#REF!","v":{"$error":"#REF!"}},{"$f":"'1.Портфель кредитів'!#REF!","v":{"$error":"#REF!"}},{"$f":"'1.Портфель кредитів'!I840","v":0},{"$f":"'1.Портфель кредитів'!W840","v":0},{"$f":"'1.Портфель кредитів'!Y840","v":""},4,"2018-06-01","_4_43252_2"]
[{"$f":"'1.Портфель кредитів'!H841","v":0},{"$f":"'1.Портфель кредитів'!D841","v":""},{"$f":"'1.Портфель кредитів'!#REF!","v":{"$error":"#REF!"}},{"$f":"'1.Портфель кредитів'!#REF!","v":{"$error":"#REF!"}},{"$f":"'1.Портфель кредитів'!#REF!","v":{"$error":"#REF!"}},{"$f":"'1.Портфель кредитів'!I841","v":0},{"$f":"'1.Портфель кредитів'!W841","v":0},{"$f":"'1.Портфель кредитів'!Y841","v":""},4,"2018-06-01","_4_43252_2"]
[{"$f":"'1.Портфель кредитів'!H842","v":0},{"$f":"'1.Портфель кредитів'!D842","v":""},{"$f":"'1.Портфель кредитів'!#REF!","v":{"$error":"#REF!"}},{"$f":"'1.Портфель кредитів'!#REF!","v":{"$error":"#REF!"}},{"$f":"'1.Портфель кредитів'!#REF!","v":{"$error":"#REF!"}},{"$f":"'1.Портфель кредитів'!I842","v":0},{"$f":"'1.Портфель кредитів'!W842","v":0},{"$f":"'1.Портфель кредитів'!Y842","v":""},4,"2018-06-01","_4_43252_2"]
[{"$f":"'1.Портфель кредитів'!H843","v":0},{"$f":"'1.Портфель кредитів'!D843","v":""},{"$f":"'1.Портфель кредитів'!#REF!","v":{"$error":"#REF!"}},{"$f":"'1.Портфель кредитів'!#REF!","v":{"$error":"#REF!"}},{"$f":"'1.Портфель кредитів'!#REF!","v":{"$error":"#REF!"}},{"$f":"'1.Портфель кредитів'!I843","v":0},{"$f":"'1.Портфель кредитів'!W843","v":0},{"$f":"'1.Портфель кредитів'!Y843","v":""},4,"2018-06-01","_4_43252_2"]
[{"$f":"'1.Портфель кредитів'!H844","v":0},{"$f":"'1.Портфель кредитів'!D844","v":""},{"$f":"'1.Портфель кредитів'!#REF!","v":{"$error":"#REF!"}},{"$f":"'1.Портфель кредитів'!#REF!","v":{"$error":"#REF!"}},{"$f":"'1.Портфель кредитів'!#REF!","v":{"$error":"#REF!"}},{"$f":"'1.Портфель кредитів'!I844","v":0},{"$f":"'1.Портфель кредитів'!W844","v":0},{"$f":"'1.Портфель кредитів'!Y844","v":""},4,"2018-06-01","_4_43252_2"]
[{"$f":"'1.Портфель кредитів'!H845","v":0},{"$f":"'1.Портфель кредитів'!D845","v":""},{"$f":"'1.Портфель кредитів'!#REF!","v":{"$error":"#REF!"}},{"$f":"'1.Портфель кредитів'!#REF!","v":{"$error":"#REF!"}},{"$f":"'1.Портфель кредитів'!#REF!","v":{"$error":"#REF!"}},{"$f":"'1.Портфель кредитів'!I845","v":0},{"$f":"'1.Портфель кредитів'!W845","v":0},{"$f":"'1.Портфель кредитів'!Y845","v":""},4,"2018-06-01","_4_43252_2"]
[{"$f":"'1.Портфель кредитів'!H846","v":0},{"$f":"'1.Портфель кредитів'!D846","v":""},{"$f":"'1.Портфель кредитів'!#REF!","v":{"$error":"#REF!"}},{"$f":"'1.Портфель кредитів'!#REF!","v":{"$error":"#REF!"}},{"$f":"'1.Портфель кредитів'!#REF!","v":{"$error":"#REF!"}},{"$f":"'1.Портфель кредитів'!I846","v":0},{"$f":"'1.Портфель кредитів'!W846","v":0},{"$f":"'1.Портфель кредитів'!Y846","v":""},4,"2018-06-01","_4_43252_2"]
[{"$f":"'1.Портфель кредитів'!H847","v":0},{"$f":"'1.Портфель кредитів'!D847","v":""},{"$f":"'1.Портфель кредитів'!#REF!","v":{"$error":"#REF!"}},{"$f":"'1.Портфель кредитів'!#REF!","v":{"$error":"#REF!"}},{"$f":"'1.Портфель кредитів'!#REF!","v":{"$error":"#REF!"}},{"$f":"'1.Портфель кредитів'!I847","v":0},{"$f":"'1.Портфель кредитів'!W847","v":0},{"$f":"'1.Портфель кредитів'!Y847","v":""},4,"2018-06-01","_4_43252_2"]
[{"$f":"'1.Портфель кредитів'!H848","v":0},{"$f":"'1.Портфель кредитів'!D848","v":""},{"$f":"'1.Портфель кредитів'!#REF!","v":{"$error":"#REF!"}},{"$f":"'1.Портфель кредитів'!#REF!","v":{"$error":"#REF!"}},{"$f":"'1.Портфель кредитів'!#REF!","v":{"$error":"#REF!"}},{"$f":"'1.Портфель кредитів'!I848","v":0},{"$f":"'1.Портфель кредитів'!W848","v":0},{"$f":"'1.Портфель кредитів'!Y848","v":""},4,"2018-06-01","_4_43252_2"]
[{"$f":"'1.Портфель кредитів'!H849","v":0},{"$f":"'1.Портфель кредитів'!D849","v":""},{"$f":"'1.Портфель кредитів'!#REF!","v":{"$error":"#REF!"}},{"$f":"'1.Портфель кредитів'!#REF!","v":{"$error":"#REF!"}},{"$f":"'1.Портфель кредитів'!#REF!","v":{"$error":"#REF!"}},{"$f":"'1.Портфель кредитів'!I849","v":0},{"$f":"'1.Портфель кредитів'!W849","v":0},{"$f":"'1.Портфель кредитів'!Y849","v":""},4,"2018-06-01","_4_43252_2"]
[{"$f":"'1.Портфель кредитів'!H850","v":0},{"$f":"'1.Портфель кредитів'!D850","v":""},{"$f":"'1.Портфель кредитів'!#REF!","v":{"$error":"#REF!"}},{"$f":"'1.Портфель кредитів'!#REF!","v":{"$error":"#REF!"}},{"$f":"'1.Портфель кредитів'!#REF!","v":{"$error":"#REF!"}},{"$f":"'1.Портфель кредитів'!I850","v":0},{"$f":"'1.Портфель кредитів'!W850","v":0},{"$f":"'1.Портфель кредитів'!Y850","v":""},4,"2018-06-01","_4_43252_2"]
[{"$f":"'1.Портфель кредитів'!H851","v":0},{"$f":"'1.Портфель кредитів'!D851","v":""},{"$f":"'1.Портфель кредитів'!#REF!","v":{"$error":"#REF!"}},{"$f":"'1.Портфель кредитів'!#REF!","v":{"$error":"#REF!"}},{"$f":"'1.Портфель кредитів'!#REF!","v":{"$error":"#REF!"}},{"$f":"'1.Портфель кредитів'!I851","v":0},{"$f":"'1.Портфель кредитів'!W851","v":0},{"$f":"'1.Портфель кредитів'!Y851","v":""},4,"2018-06-01","_4_43252_2"]
[{"$f":"'1.Портфель кредитів'!H852","v":0},{"$f":"'1.Портфель кредитів'!D852","v":""},{"$f":"'1.Портфель кредитів'!#REF!","v":{"$error":"#REF!"}},{"$f":"'1.Портфель кредитів'!#REF!","v":{"$error":"#REF!"}},{"$f":"'1.Портфель кредитів'!#REF!","v":{"$error":"#REF!"}},{"$f":"'1.Портфель кредитів'!I852","v":0},{"$f":"'1.Портфель кредитів'!W852","v":0},{"$f":"'1.Портфель кредитів'!Y852","v":""},4,"2018-06-01","_4_43252_2"]
[{"$f":"'1.Портфель кредитів'!H853","v":0},{"$f":"'1.Портфель кредитів'!D853","v":""},{"$f":"'1.Портфель кредитів'!#REF!","v":{"$error":"#REF!"}},{"$f":"'1.Портфель кредитів'!#REF!","v":{"$error":"#REF!"}},{"$f":"'1.Портфель кредитів'!#REF!","v":{"$error":"#REF!"}},{"$f":"'1.Портфель кредитів'!I853","v":0},{"$f":"'1.Портфель кредитів'!W853","v":0},{"$f":"'1.Портфель кредитів'!Y853","v":""},4,"2018-06-01","_4_43252_2"]
[{"$f":"'1.Портфель кредитів'!H854","v":0},{"$f":"'1.Портфель кредитів'!D854","v":""},{"$f":"'1.Портфель кредитів'!#REF!","v":{"$error":"#REF!"}},{"$f":"'1.Портфель кредитів'!#REF!","v":{"$error":"#REF!"}},{"$f":"'1.Портфель кредитів'!#REF!","v":{"$error":"#REF!"}},{"$f":"'1.Портфель кредитів'!I854","v":0},{"$f":"'1.Портфель кредитів'!W854","v":0},{"$f":"'1.Портфель кредитів'!Y854","v":""},4,"2018-06-01","_4_43252_2"]
[{"$f":"'1.Портфель кредитів'!H855","v":0},{"$f":"'1.Портфель кредитів'!D855","v":""},{"$f":"'1.Портфель кредитів'!#REF!","v":{"$error":"#REF!"}},{"$f":"'1.Портфель кредитів'!#REF!","v":{"$error":"#REF!"}},{"$f":"'1.Портфель кредитів'!#REF!","v":{"$error":"#REF!"}},{"$f":"'1.Портфель кредитів'!I855","v":0},{"$f":"'1.Портфель кредитів'!W855","v":0},{"$f":"'1.Портфель кредитів'!Y855","v":""},4,"2018-06-01","_4_43252_2"]
[{"$f":"'1.Портфель кредитів'!H856","v":0},{"$f":"'1.Портфель кредитів'!D856","v":""},{"$f":"'1.Портфель кредитів'!#REF!","v":{"$error":"#REF!"}},{"$f":"'1.Портфель кредитів'!#REF!","v":{"$error":"#REF!"}},{"$f":"'1.Портфель кредитів'!#REF!","v":{"$error":"#REF!"}},{"$f":"'1.Портфель кредитів'!I856","v":0},{"$f":"'1.Портфель кредитів'!W856","v":0},{"$f":"'1.Портфель кредитів'!Y856","v":""},4,"2018-06-01","_4_43252_2"]
[{"$f":"'1.Портфель кредитів'!H857","v":0},{"$f":"'1.Портфель кредитів'!D857","v":""},{"$f":"'1.Портфель кредитів'!#REF!","v":{"$error":"#REF!"}},{"$f":"'1.Портфель кредитів'!#REF!","v":{"$error":"#REF!"}},{"$f":"'1.Портфель кредитів'!#REF!","v":{"$error":"#REF!"}},{"$f":"'1.Портфель кредитів'!I857","v":0},{"$f":"'1.Портфель кредитів'!W857","v":0},{"$f":"'1.Портфель кредитів'!Y857","v":""},4,"2018-06-01","_4_43252_2"]
[{"$f":"'1.Портфель кредитів'!H858","v":0},{"$f":"'1.Портфель кредитів'!D858","v":""},{"$f":"'1.Портфель кредитів'!#REF!","v":{"$error":"#REF!"}},{"$f":"'1.Портфель кредитів'!#REF!","v":{"$error":"#REF!"}},{"$f":"'1.Портфель кредитів'!#REF!","v":{"$error":"#REF!"}},{"$f":"'1.Портфель кредитів'!I858","v":0},{"$f":"'1.Портфель кредитів'!W858","v":0},{"$f":"'1.Портфель кредитів'!Y858","v":""},4,"2018-06-01","_4_43252_2"]
[{"$f":"'1.Портфель кредитів'!H859","v":0},{"$f":"'1.Портфель кредитів'!D859","v":""},{"$f":"'1.Портфель кредитів'!#REF!","v":{"$error":"#REF!"}},{"$f":"'1.Портфель кредитів'!#REF!","v":{"$error":"#REF!"}},{"$f":"'1.Портфель кредитів'!#REF!","v":{"$error":"#REF!"}},{"$f":"'1.Портфель кредитів'!I859","v":0},{"$f":"'1.Портфель кредитів'!W859","v":0},{"$f":"'1.Портфель кредитів'!Y859","v":""},4,"2018-06-01","_4_43252_2"]
[{"$f":"'1.Портфель кредитів'!H860","v":0},{"$f":"'1.Портфель кредитів'!D860","v":""},{"$f":"'1.Портфель кредитів'!#REF!","v":{"$error":"#REF!"}},{"$f":"'1.Портфель кредитів'!#REF!","v":{"$error":"#REF!"}},{"$f":"'1.Портфель кредитів'!#REF!","v":{"$error":"#REF!"}},{"$f":"'1.Портфель кредитів'!I860","v":0},{"$f":"'1.Портфель кредитів'!W860","v":0},{"$f":"'1.Портфель кредитів'!Y860","v":""},4,"2018-06-01","_4_43252_2"]
[{"$f":"'1.Портфель кредитів'!H861","v":0},{"$f":"'1.Портфель кредитів'!D861","v":""},{"$f":"'1.Портфель кредитів'!#REF!","v":{"$error":"#REF!"}},{"$f":"'1.Портфель кредитів'!#REF!","v":{"$error":"#REF!"}},{"$f":"'1.Портфель кредитів'!#REF!","v":{"$error":"#REF!"}},{"$f":"'1.Портфель кредитів'!I861","v":0},{"$f":"'1.Портфель кредитів'!W861","v":0},{"$f":"'1.Портфель кредитів'!Y861","v":""},4,"2018-06-01","_4_43252_2"]
[{"$f":"'1.Портфель кредитів'!H862","v":0},{"$f":"'1.Портфель кредитів'!D862","v":""},{"$f":"'1.Портфель кредитів'!#REF!","v":{"$error":"#REF!"}},{"$f":"'1.Портфель кредитів'!#REF!","v":{"$error":"#REF!"}},{"$f":"'1.Портфель кредитів'!#REF!","v":{"$error":"#REF!"}},{"$f":"'1.Портфель кредитів'!I862","v":0},{"$f":"'1.Портфель кредитів'!W862","v":0},{"$f":"'1.Портфель кредитів'!Y862","v":""},4,"2018-06-01","_4_43252_2"]
[{"$f":"'1.Портфель кредитів'!H863","v":0},{"$f":"'1.Портфель кредитів'!D863","v":""},{"$f":"'1.Портфель кредитів'!#REF!","v":{"$error":"#REF!"}},{"$f":"'1.Портфель кредитів'!#REF!","v":{"$error":"#REF!"}},{"$f":"'1.Портфель кредитів'!#REF!","v":{"$error":"#REF!"}},{"$f":"'1.Портфель кредитів'!I863","v":0},{"$f":"'1.Портфель кредитів'!W863","v":0},{"$f":"'1.Портфель кредитів'!Y863","v":""},4,"2018-06-01","_4_43252_2"]
[{"$f":"'1.Портфель кредитів'!H864","v":0},{"$f":"'1.Портфель кредитів'!D864","v":""},{"$f":"'1.Портфель кредитів'!#REF!","v":{"$error":"#REF!"}},{"$f":"'1.Портфель кредитів'!#REF!","v":{"$error":"#REF!"}},{"$f":"'1.Портфель кредитів'!#REF!","v":{"$error":"#REF!"}},{"$f":"'1.Портфель кредитів'!I864","v":0},{"$f":"'1.Портфель кредитів'!W864","v":0},{"$f":"'1.Портфель кредитів'!Y864","v":""},4,"2018-06-01","_4_43252_2"]
[{"$f":"'1.Портфель кредитів'!H865","v":0},{"$f":"'1.Портфель кредитів'!D865","v":""},{"$f":"'1.Портфель кредитів'!#REF!","v":{"$error":"#REF!"}},{"$f":"'1.Портфель кредитів'!#REF!","v":{"$error":"#REF!"}},{"$f":"'1.Портфель кредитів'!#REF!","v":{"$error":"#REF!"}},{"$f":"'1.Портфель кредитів'!I865","v":0},{"$f":"'1.Портфель кредитів'!W865","v":0},{"$f":"'1.Портфель кредитів'!Y865","v":""},4,"2018-06-01","_4_43252_2"]
[{"$f":"'1.Портфель кредитів'!H866","v":0},{"$f":"'1.Портфель кредитів'!D866","v":""},{"$f":"'1.Портфель кредитів'!#REF!","v":{"$error":"#REF!"}},{"$f":"'1.Портфель кредитів'!#REF!","v":{"$error":"#REF!"}},{"$f":"'1.Портфель кредитів'!#REF!","v":{"$error":"#REF!"}},{"$f":"'1.Портфель кредитів'!I866","v":0},{"$f":"'1.Портфель кредитів'!W866","v":0},{"$f":"'1.Портфель кредитів'!Y866","v":""},4,"2018-06-01","_4_43252_2"]
[{"$f":"'1.Портфель кредитів'!H867","v":0},{"$f":"'1.Портфель кредитів'!D867","v":""},{"$f":"'1.Портфель кредитів'!#REF!","v":{"$error":"#REF!"}},{"$f":"'1.Портфель кредитів'!#REF!","v":{"$error":"#REF!"}},{"$f":"'1.Портфель кредитів'!#REF!","v":{"$error":"#REF!"}},{"$f":"'1.Портфель кредитів'!I867","v":0},{"$f":"'1.Портфель кредитів'!W867","v":0},{"$f":"'1.Портфель кредитів'!Y867","v":""},4,"2018-06-01","_4_43252_2"]
[{"$f":"'1.Портфель кредитів'!H868","v":0},{"$f":"'1.Портфель кредитів'!D868","v":""},{"$f":"'1.Портфель кредитів'!#REF!","v":{"$error":"#REF!"}},{"$f":"'1.Портфель кредитів'!#REF!","v":{"$error":"#REF!"}},{"$f":"'1.Портфель кредитів'!#REF!","v":{"$error":"#REF!"}},{"$f":"'1.Портфель кредитів'!I868","v":0},{"$f":"'1.Портфель кредитів'!W868","v":0},{"$f":"'1.Портфель кредитів'!Y868","v":""},4,"2018-06-01","_4_43252_2"]
[{"$f":"'1.Портфель кредитів'!H869","v":0},{"$f":"'1.Портфель кредитів'!D869","v":""},{"$f":"'1.Портфель кредитів'!#REF!","v":{"$error":"#REF!"}},{"$f":"'1.Портфель кредитів'!#REF!","v":{"$error":"#REF!"}},{"$f":"'1.Портфель кредитів'!#REF!","v":{"$error":"#REF!"}},{"$f":"'1.Портфель кредитів'!I869","v":0},{"$f":"'1.Портфель кредитів'!W869","v":0},{"$f":"'1.Портфель кредитів'!Y869","v":""},4,"2018-06-01","_4_43252_2"]
[{"$f":"'1.Портфель кредитів'!H870","v":0},{"$f":"'1.Портфель кредитів'!D870","v":""},{"$f":"'1.Портфель кредитів'!#REF!","v":{"$error":"#REF!"}},{"$f":"'1.Портфель кредитів'!#REF!","v":{"$error":"#REF!"}},{"$f":"'1.Портфель кредитів'!#REF!","v":{"$error":"#REF!"}},{"$f":"'1.Портфель кредитів'!I870","v":0},{"$f":"'1.Портфель кредитів'!W870","v":0},{"$f":"'1.Портфель кредитів'!Y870","v":""},4,"2018-06-01","_4_43252_2"]
[{"$f":"'1.Портфель кредитів'!H871","v":0},{"$f":"'1.Портфель кредитів'!D871","v":""},{"$f":"'1.Портфель кредитів'!#REF!","v":{"$error":"#REF!"}},{"$f":"'1.Портфель кредитів'!#REF!","v":{"$error":"#REF!"}},{"$f":"'1.Портфель кредитів'!#REF!","v":{"$error":"#REF!"}},{"$f":"'1.Портфель кредитів'!I871","v":0},{"$f":"'1.Портфель кредитів'!W871","v":0},{"$f":"'1.Портфель кредитів'!Y871","v":""},4,"2018-06-01","_4_43252_2"]
[{"$f":"'1.Портфель кредитів'!H872","v":0},{"$f":"'1.Портфель кредитів'!D872","v":""},{"$f":"'1.Портфель кредитів'!#REF!","v":{"$error":"#REF!"}},{"$f":"'1.Портфель кредитів'!#REF!","v":{"$error":"#REF!"}},{"$f":"'1.Портфель кредитів'!#REF!","v":{"$error":"#REF!"}},{"$f":"'1.Портфель кредитів'!I872","v":0},{"$f":"'1.Портфель кредитів'!W872","v":0},{"$f":"'1.Портфель кредитів'!Y872","v":""},4,"2018-06-01","_4_43252_2"]
[{"$f":"'1.Портфель кредитів'!H873","v":0},{"$f":"'1.Портфель кредитів'!D873","v":""},{"$f":"'1.Портфель кредитів'!#REF!","v":{"$error":"#REF!"}},{"$f":"'1.Портфель кредитів'!#REF!","v":{"$error":"#REF!"}},{"$f":"'1.Портфель кредитів'!#REF!","v":{"$error":"#REF!"}},{"$f":"'1.Портфель кредитів'!I873","v":0},{"$f":"'1.Портфель кредитів'!W873","v":0},{"$f":"'1.Портфель кредитів'!Y873","v":""},4,"2018-06-01","_4_43252_2"]
[{"$f":"'1.Портфель кредитів'!H874","v":0},{"$f":"'1.Портфель кредитів'!D874","v":""},{"$f":"'1.Портфель кредитів'!#REF!","v":{"$error":"#REF!"}},{"$f":"'1.Портфель кредитів'!#REF!","v":{"$error":"#REF!"}},{"$f":"'1.Портфель кредитів'!#REF!","v":{"$error":"#REF!"}},{"$f":"'1.Портфель кредитів'!I874","v":0},{"$f":"'1.Портфель кредитів'!W874","v":0},{"$f":"'1.Портфель кредитів'!Y874","v":""},4,"2018-06-01","_4_43252_2"]
[{"$f":"'1.Портфель кредитів'!H875","v":0},{"$f":"'1.Портфель кредитів'!D875","v":""},{"$f":"'1.Портфель кредитів'!#REF!","v":{"$error":"#REF!"}},{"$f":"'1.Портфель кредитів'!#REF!","v":{"$error":"#REF!"}},{"$f":"'1.Портфель кредитів'!#REF!","v":{"$error":"#REF!"}},{"$f":"'1.Портфель кредитів'!I875","v":0},{"$f":"'1.Портфель кредитів'!W875","v":0},{"$f":"'1.Портфель кредитів'!Y875","v":""},4,"2018-06-01","_4_43252_2"]
[{"$f":"'1.Портфель кредитів'!H876","v":0},{"$f":"'1.Портфель кредитів'!D876","v":""},{"$f":"'1.Портфель кредитів'!#REF!","v":{"$error":"#REF!"}},{"$f":"'1.Портфель кредитів'!#REF!","v":{"$error":"#REF!"}},{"$f":"'1.Портфель кредитів'!#REF!","v":{"$error":"#REF!"}},{"$f":"'1.Портфель кредитів'!I876","v":0},{"$f":"'1.Портфель кредитів'!W876","v":0},{"$f":"'1.Портфель кредитів'!Y876","v":""},4,"2018-06-01","_4_43252_2"]
[{"$f":"'1.Портфель кредитів'!H877","v":0},{"$f":"'1.Портфель кредитів'!D877","v":""},{"$f":"'1.Портфель кредитів'!#REF!","v":{"$error":"#REF!"}},{"$f":"'1.Портфель кредитів'!#REF!","v":{"$error":"#REF!"}},{"$f":"'1.Портфель кредитів'!#REF!","v":{"$error":"#REF!"}},{"$f":"'1.Портфель кредитів'!I877","v":0},{"$f":"'1.Портфель кредитів'!W877","v":0},{"$f":"'1.Портфель кредитів'!Y877","v":""},{"$f":"$E$1","v":4},{"$f":"$E$2","v":"2018-06-01"},{"$f":"B902&\"_\"&I902&\"_\"&J902&\"_\"&$E$3","v":"_4_43252_2"}]
[{"$f":"'1.Портфель кредитів'!H878","v":0},{"$f":"'1.Портфель кредитів'!D878","v":""},{"$f":"'1.Портфель кредитів'!#REF!","v":{"$error":"#REF!"}},{"$f":"'1.Портфель кредитів'!#REF!","v":{"$error":"#REF!"}},{"$f":"'1.Портфель кредитів'!#REF!","v":{"$error":"#REF!"}},{"$f":"'1.Портфель кредитів'!I878","v":0},{"$f":"'1.Портфель кредитів'!W878","v":0},{"$f":"'1.Портфель кредитів'!Y878","v":""},4,"2018-06-01","_4_43252_2"]
[{"$f":"'1.Портфель кредитів'!H879","v":0},{"$f":"'1.Портфель кредитів'!D879","v":""},{"$f":"'1.Портфель кредитів'!#REF!","v":{"$error":"#REF!"}},{"$f":"'1.Портфель кредитів'!#REF!","v":{"$error":"#REF!"}},{"$f":"'1.Портфель кредитів'!#REF!","v":{"$error":"#REF!"}},{"$f":"'1.Портфель кредитів'!I879","v":0},{"$f":"'1.Портфель кредитів'!W879","v":0},{"$f":"'1.Портфель кредитів'!Y879","v":""},4,"2018-06-01","_4_43252_2"]
[{"$f":"'1.Портфель кредитів'!H880","v":0},{"$f":"'1.Портфель кредитів'!D880","v":""},{"$f":"'1.Портфель кредитів'!#REF!","v":{"$error":"#REF!"}},{"$f":"'1.Портфель кредитів'!#REF!","v":{"$error":"#REF!"}},{"$f":"'1.Портфель кредитів'!#REF!","v":{"$error":"#REF!"}},{"$f":"'1.Портфель кредитів'!I880","v":0},{"$f":"'1.Портфель кредитів'!W880","v":0},{"$f":"'1.Портфель кредитів'!Y880","v":""},4,"2018-06-01","_4_43252_2"]
[{"$f":"'1.Портфель кредитів'!H881","v":0},{"$f":"'1.Портфель кредитів'!D881","v":""},{"$f":"'1.Портфель кредитів'!#REF!","v":{"$error":"#REF!"}},{"$f":"'1.Портфель кредитів'!#REF!","v":{"$error":"#REF!"}},{"$f":"'1.Портфель кредитів'!#REF!","v":{"$error":"#REF!"}},{"$f":"'1.Портфель кредитів'!I881","v":0},{"$f":"'1.Портфель кредитів'!W881","v":0},{"$f":"'1.Портфель кредитів'!Y881","v":""},4,"2018-06-01","_4_43252_2"]
[{"$f":"'1.Портфель кредитів'!H882","v":0},{"$f":"'1.Портфель кредитів'!D882","v":""},{"$f":"'1.Портфель кредитів'!#REF!","v":{"$error":"#REF!"}},{"$f":"'1.Портфель кредитів'!#REF!","v":{"$error":"#REF!"}},{"$f":"'1.Портфель кредитів'!#REF!","v":{"$error":"#REF!"}},{"$f":"'1.Портфель кредитів'!I882","v":0},{"$f":"'1.Портфель кредитів'!W882","v":0},{"$f":"'1.Портфель кредитів'!Y882","v":""},4,"2018-06-01","_4_43252_2"]
[{"$f":"'1.Портфель кредитів'!H883","v":0},{"$f":"'1.Портфель кредитів'!D883","v":""},{"$f":"'1.Портфель кредитів'!#REF!","v":{"$error":"#REF!"}},{"$f":"'1.Портфель кредитів'!#REF!","v":{"$error":"#REF!"}},{"$f":"'1.Портфель кредитів'!#REF!","v":{"$error":"#REF!"}},{"$f":"'1.Портфель кредитів'!I883","v":0},{"$f":"'1.Портфель кредитів'!W883","v":0},{"$f":"'1.Портфель кредитів'!Y883","v":""},4,"2018-06-01","_4_43252_2"]
[{"$f":"'1.Портфель кредитів'!H884","v":0},{"$f":"'1.Портфель кредитів'!D884","v":""},{"$f":"'1.Портфель кредитів'!#REF!","v":{"$error":"#REF!"}},{"$f":"'1.Портфель кредитів'!#REF!","v":{"$error":"#REF!"}},{"$f":"'1.Портфель кредитів'!#REF!","v":{"$error":"#REF!"}},{"$f":"'1.Портфель кредитів'!I884","v":0},{"$f":"'1.Портфель кредитів'!W884","v":0},{"$f":"'1.Портфель кредитів'!Y884","v":""},4,"2018-06-01","_4_43252_2"]
[{"$f":"'1.Портфель кредитів'!H885","v":0},{"$f":"'1.Портфель кредитів'!D885","v":""},{"$f":"'1.Портфель кредитів'!#REF!","v":{"$error":"#REF!"}},{"$f":"'1.Портфель кредитів'!#REF!","v":{"$error":"#REF!"}},{"$f":"'1.Портфель кредитів'!#REF!","v":{"$error":"#REF!"}},{"$f":"'1.Портфель кредитів'!I885","v":0},{"$f":"'1.Портфель кредитів'!W885","v":0},{"$f":"'1.Портфель кредитів'!Y885","v":""},4,"2018-06-01","_4_43252_2"]
[{"$f":"'1.Портфель кредитів'!H886","v":0},{"$f":"'1.Портфель кредитів'!D886","v":""},{"$f":"'1.Портфель кредитів'!#REF!","v":{"$error":"#REF!"}},{"$f":"'1.Портфель кредитів'!#REF!","v":{"$error":"#REF!"}},{"$f":"'1.Портфель кредитів'!#REF!","v":{"$error":"#REF!"}},{"$f":"'1.Портфель кредитів'!I886","v":0},{"$f":"'1.Портфель кредитів'!W886","v":0},{"$f":"'1.Портфель кредитів'!Y886","v":""},4,"2018-06-01","_4_43252_2"]
[{"$f":"'1.Портфель кредитів'!H887","v":0},{"$f":"'1.Портфель кредитів'!D887","v":""},{"$f":"'1.Портфель кредитів'!#REF!","v":{"$error":"#REF!"}},{"$f":"'1.Портфель кредитів'!#REF!","v":{"$error":"#REF!"}},{"$f":"'1.Портфель кредитів'!#REF!","v":{"$error":"#REF!"}},{"$f":"'1.Портфель кредитів'!I887","v":0},{"$f":"'1.Портфель кредитів'!W887","v":0},{"$f":"'1.Портфель кредитів'!Y887","v":""},4,"2018-06-01","_4_43252_2"]
[{"$f":"'1.Портфель кредитів'!H888","v":0},{"$f":"'1.Портфель кредитів'!D888","v":""},{"$f":"'1.Портфель кредитів'!#REF!","v":{"$error":"#REF!"}},{"$f":"'1.Портфель кредитів'!#REF!","v":{"$error":"#REF!"}},{"$f":"'1.Портфель кредитів'!#REF!","v":{"$error":"#REF!"}},{"$f":"'1.Портфель кредитів'!I888","v":0},{"$f":"'1.Портфель кредитів'!W888","v":0},{"$f":"'1.Портфель кредитів'!Y888","v":""},4,"2018-06-01","_4_43252_2"]
[{"$f":"'1.Портфель кредитів'!H889","v":0},{"$f":"'1.Портфель кредитів'!D889","v":""},{"$f":"'1.Портфель кредитів'!#REF!","v":{"$error":"#REF!"}},{"$f":"'1.Портфель кредитів'!#REF!","v":{"$error":"#REF!"}},{"$f":"'1.Портфель кредитів'!#REF!","v":{"$error":"#REF!"}},{"$f":"'1.Портфель кредитів'!I889","v":0},{"$f":"'1.Портфель кредитів'!W889","v":0},{"$f":"'1.Портфель кредитів'!Y889","v":""},4,"2018-06-01","_4_43252_2"]
[{"$f":"'1.Портфель кредитів'!H890","v":0},{"$f":"'1.Портфель кредитів'!D890","v":""},{"$f":"'1.Портфель кредитів'!#REF!","v":{"$error":"#REF!"}},{"$f":"'1.Портфель кредитів'!#REF!","v":{"$error":"#REF!"}},{"$f":"'1.Портфель кредитів'!#REF!","v":{"$error":"#REF!"}},{"$f":"'1.Портфель кредитів'!I890","v":0},{"$f":"'1.Портфель кредитів'!W890","v":0},{"$f":"'1.Портфель кредитів'!Y890","v":""},4,"2018-06-01","_4_43252_2"]
[{"$f":"'1.Портфель кредитів'!H891","v":0},{"$f":"'1.Портфель кредитів'!D891","v":""},{"$f":"'1.Портфель кредитів'!#REF!","v":{"$error":"#REF!"}},{"$f":"'1.Портфель кредитів'!#REF!","v":{"$error":"#REF!"}},{"$f":"'1.Портфель кредитів'!#REF!","v":{"$error":"#REF!"}},{"$f":"'1.Портфель кредитів'!I891","v":0},{"$f":"'1.Портфель кредитів'!W891","v":0},{"$f":"'1.Портфель кредитів'!Y891","v":""},4,"2018-06-01","_4_43252_2"]
[{"$f":"'1.Портфель кредитів'!H892","v":0},{"$f":"'1.Портфель кредитів'!D892","v":""},{"$f":"'1.Портфель кредитів'!#REF!","v":{"$error":"#REF!"}},{"$f":"'1.Портфель кредитів'!#REF!","v":{"$error":"#REF!"}},{"$f":"'1.Портфель кредитів'!#REF!","v":{"$error":"#REF!"}},{"$f":"'1.Портфель кредитів'!I892","v":0},{"$f":"'1.Портфель кредитів'!W892","v":0},{"$f":"'1.Портфель кредитів'!Y892","v":""},4,"2018-06-01","_4_43252_2"]
[{"$f":"'1.Портфель кредитів'!H893","v":0},{"$f":"'1.Портфель кредитів'!D893","v":""},{"$f":"'1.Портфель кредитів'!#REF!","v":{"$error":"#REF!"}},{"$f":"'1.Портфель кредитів'!#REF!","v":{"$error":"#REF!"}},{"$f":"'1.Портфель кредитів'!#REF!","v":{"$error":"#REF!"}},{"$f":"'1.Портфель кредитів'!I893","v":0},{"$f":"'1.Портфель кредитів'!W893","v":0},{"$f":"'1.Портфель кредитів'!Y893","v":""},4,"2018-06-01","_4_43252_2"]
[{"$f":"'1.Портфель кредитів'!H894","v":0},{"$f":"'1.Портфель кредитів'!D894","v":""},{"$f":"'1.Портфель кредитів'!#REF!","v":{"$error":"#REF!"}},{"$f":"'1.Портфель кредитів'!#REF!","v":{"$error":"#REF!"}},{"$f":"'1.Портфель кредитів'!#REF!","v":{"$error":"#REF!"}},{"$f":"'1.Портфель кредитів'!I894","v":0},{"$f":"'1.Портфель кредитів'!W894","v":0},{"$f":"'1.Портфель кредитів'!Y894","v":""},4,"2018-06-01","_4_43252_2"]
[{"$f":"'1.Портфель кредитів'!H895","v":0},{"$f":"'1.Портфель кредитів'!D895","v":""},{"$f":"'1.Портфель кредитів'!#REF!","v":{"$error":"#REF!"}},{"$f":"'1.Портфель кредитів'!#REF!","v":{"$error":"#REF!"}},{"$f":"'1.Портфель кредитів'!#REF!","v":{"$error":"#REF!"}},{"$f":"'1.Портфель кредитів'!I895","v":0},{"$f":"'1.Портфель кредитів'!W895","v":0},{"$f":"'1.Портфель кредитів'!Y895","v":""},4,"2018-06-01","_4_43252_2"]
[{"$f":"'1.Портфель кредитів'!H896","v":0},{"$f":"'1.Портфель кредитів'!D896","v":""},{"$f":"'1.Портфель кредитів'!#REF!","v":{"$error":"#REF!"}},{"$f":"'1.Портфель кредитів'!#REF!","v":{"$error":"#REF!"}},{"$f":"'1.Портфель кредитів'!#REF!","v":{"$error":"#REF!"}},{"$f":"'1.Портфель кредитів'!I896","v":0},{"$f":"'1.Портфель кредитів'!W896","v":0},{"$f":"'1.Портфель кредитів'!Y896","v":""},4,"2018-06-01","_4_43252_2"]
[{"$f":"'1.Портфель кредитів'!H897","v":0},{"$f":"'1.Портфель кредитів'!D897","v":""},{"$f":"'1.Портфель кредитів'!#REF!","v":{"$error":"#REF!"}},{"$f":"'1.Портфель кредитів'!#REF!","v":{"$error":"#REF!"}},{"$f":"'1.Портфель кредитів'!#REF!","v":{"$error":"#REF!"}},{"$f":"'1.Портфель кредитів'!I897","v":0},{"$f":"'1.Портфель кредитів'!W897","v":0},{"$f":"'1.Портфель кредитів'!Y897","v":""},4,"2018-06-01","_4_43252_2"]
[{"$f":"'1.Портфель кредитів'!H898","v":0},{"$f":"'1.Портфель кредитів'!D898","v":""},{"$f":"'1.Портфель кредитів'!#REF!","v":{"$error":"#REF!"}},{"$f":"'1.Портфель кредитів'!#REF!","v":{"$error":"#REF!"}},{"$f":"'1.Портфель кредитів'!#REF!","v":{"$error":"#REF!"}},{"$f":"'1.Портфель кредитів'!I898","v":0},{"$f":"'1.Портфель кредитів'!W898","v":0},{"$f":"'1.Портфель кредитів'!Y898","v":""},4,"2018-06-01","_4_43252_2"]
[{"$f":"'1.Портфель кредитів'!H899","v":0},{"$f":"'1.Портфель кредитів'!D899","v":""},{"$f":"'1.Портфель кредитів'!#REF!","v":{"$error":"#REF!"}},{"$f":"'1.Портфель кредитів'!#REF!","v":{"$error":"#REF!"}},{"$f":"'1.Портфель кредитів'!#REF!","v":{"$error":"#REF!"}},{"$f":"'1.Портфель кредитів'!I899","v":0},{"$f":"'1.Портфель кредитів'!W899","v":0},{"$f":"'1.Портфель кредитів'!Y899","v":""},4,"2018-06-01","_4_43252_2"]
[{"$f":"'1.Портфель кредитів'!H900","v":0},{"$f":"'1.Портфель кредитів'!D900","v":""},{"$f":"'1.Портфель кредитів'!#REF!","v":{"$error":"#REF!"}},{"$f":"'1.Портфель кредитів'!#REF!","v":{"$error":"#REF!"}},{"$f":"'1.Портфель кредитів'!#REF!","v":{"$error":"#REF!"}},{"$f":"'1.Портфель кредитів'!I900","v":0},{"$f":"'1.Портфель кредитів'!W900","v":0},{"$f":"'1.Портфель кредитів'!Y900","v":""},4,"2018-06-01","_4_43252_2"]
[{"$f":"'1.Портфель кредитів'!H901","v":0},{"$f":"'1.Портфель кредитів'!D901","v":""},{"$f":"'1.Портфель кредитів'!#REF!","v":{"$error":"#REF!"}},{"$f":"'1.Портфель кредитів'!#REF!","v":{"$error":"#REF!"}},{"$f":"'1.Портфель кредитів'!#REF!","v":{"$error":"#REF!"}},{"$f":"'1.Портфель кредитів'!I901","v":0},{"$f":"'1.Портфель кредитів'!W901","v":0},{"$f":"'1.Портфель кредитів'!Y901","v":""},4,"2018-06-01","_4_43252_2"]
[{"$f":"'1.Портфель кредитів'!H902","v":0},{"$f":"'1.Портфель кредитів'!D902","v":""},{"$f":"'1.Портфель кредитів'!#REF!","v":{"$error":"#REF!"}},{"$f":"'1.Портфель кредитів'!#REF!","v":{"$error":"#REF!"}},{"$f":"'1.Портфель кредитів'!#REF!","v":{"$error":"#REF!"}},{"$f":"'1.Портфель кредитів'!I902","v":0},{"$f":"'1.Портфель кредитів'!W902","v":0},{"$f":"'1.Портфель кредитів'!Y902","v":""},4,"2018-06-01","_4_43252_2"]
[{"$f":"'1.Портфель кредитів'!H903","v":0},{"$f":"'1.Портфель кредитів'!D903","v":""},{"$f":"'1.Портфель кредитів'!#REF!","v":{"$error":"#REF!"}},{"$f":"'1.Портфель кредитів'!#REF!","v":{"$error":"#REF!"}},{"$f":"'1.Портфель кредитів'!#REF!","v":{"$error":"#REF!"}},{"$f":"'1.Портфель кредитів'!I903","v":0},{"$f":"'1.Портфель кредитів'!W903","v":0},{"$f":"'1.Портфель кредитів'!Y903","v":""},4,"2018-06-01","_4_43252_2"]
[{"$f":"'1.Портфель кредитів'!H904","v":0},{"$f":"'1.Портфель кредитів'!D904","v":""},{"$f":"'1.Портфель кредитів'!#REF!","v":{"$error":"#REF!"}},{"$f":"'1.Портфель кредитів'!#REF!","v":{"$error":"#REF!"}},{"$f":"'1.Портфель кредитів'!#REF!","v":{"$error":"#REF!"}},{"$f":"'1.Портфель кредитів'!I904","v":0},{"$f":"'1.Портфель кредитів'!W904","v":0},{"$f":"'1.Портфель кредитів'!Y904","v":""},4,"2018-06-01","_4_43252_2"]
[{"$f":"'1.Портфель кредитів'!H905","v":0},{"$f":"'1.Портфель кредитів'!D905","v":""},{"$f":"'1.Портфель кредитів'!#REF!","v":{"$error":"#REF!"}},{"$f":"'1.Портфель кредитів'!#REF!","v":{"$error":"#REF!"}},{"$f":"'1.Портфель кредитів'!#REF!","v":{"$error":"#REF!"}},{"$f":"'1.Портфель кредитів'!I905","v":0},{"$f":"'1.Портфель кредитів'!W905","v":0},{"$f":"'1.Портфель кредитів'!Y905","v":""},4,"2018-06-01","_4_43252_2"]
[{"$f":"'1.Портфель кредитів'!H906","v":0},{"$f":"'1.Портфель кредитів'!D906","v":""},{"$f":"'1.Портфель кредитів'!#REF!","v":{"$error":"#REF!"}},{"$f":"'1.Портфель кредитів'!#REF!","v":{"$error":"#REF!"}},{"$f":"'1.Портфель кредитів'!#REF!","v":{"$error":"#REF!"}},{"$f":"'1.Портфель кредитів'!I906","v":0},{"$f":"'1.Портфель кредитів'!W906","v":0},{"$f":"'1.Портфель кредитів'!Y906","v":""},4,"2018-06-01","_4_43252_2"]
[{"$f":"'1.Портфель кредитів'!H907","v":0},{"$f":"'1.Портфель кредитів'!D907","v":""},{"$f":"'1.Портфель кредитів'!#REF!","v":{"$error":"#REF!"}},{"$f":"'1.Портфель кредитів'!#REF!","v":{"$error":"#REF!"}},{"$f":"'1.Портфель кредитів'!#REF!","v":{"$error":"#REF!"}},{"$f":"'1.Портфель кредитів'!I907","v":0},{"$f":"'1.Портфель кредитів'!W907","v":0},{"$f":"'1.Портфель кредитів'!Y907","v":""},4,"2018-06-01","_4_43252_2"]
[{"$f":"'1.Портфель кредитів'!H908","v":0},{"$f":"'1.Портфель кредитів'!D908","v":""},{"$f":"'1.Портфель кредитів'!#REF!","v":{"$error":"#REF!"}},{"$f":"'1.Портфель кредитів'!#REF!","v":{"$error":"#REF!"}},{"$f":"'1.Портфель кредитів'!#REF!","v":{"$error":"#REF!"}},{"$f":"'1.Портфель кредитів'!I908","v":0},{"$f":"'1.Портфель кредитів'!W908","v":0},{"$f":"'1.Портфель кредитів'!Y908","v":""},4,"2018-06-01","_4_43252_2"]
[{"$f":"'1.Портфель кредитів'!H909","v":0},{"$f":"'1.Портфель кредитів'!D909","v":""},{"$f":"'1.Портфель кредитів'!#REF!","v":{"$error":"#REF!"}},{"$f":"'1.Портфель кредитів'!#REF!","v":{"$error":"#REF!"}},{"$f":"'1.Портфель кредитів'!#REF!","v":{"$error":"#REF!"}},{"$f":"'1.Портфель кредитів'!I909","v":0},{"$f":"'1.Портфель кредитів'!W909","v":0},{"$f":"'1.Портфель кредитів'!Y909","v":""},4,"2018-06-01","_4_43252_2"]
[{"$f":"'1.Портфель кредитів'!H910","v":0},{"$f":"'1.Портфель кредитів'!D910","v":""},{"$f":"'1.Портфель кредитів'!#REF!","v":{"$error":"#REF!"}},{"$f":"'1.Портфель кредитів'!#REF!","v":{"$error":"#REF!"}},{"$f":"'1.Портфель кредитів'!#REF!","v":{"$error":"#REF!"}},{"$f":"'1.Портфель кредитів'!I910","v":0},{"$f":"'1.Портфель кредитів'!W910","v":0},{"$f":"'1.Портфель кредитів'!Y910","v":""},4,"2018-06-01","_4_43252_2"]
[{"$f":"'1.Портфель кредитів'!H911","v":0},{"$f":"'1.Портфель кредитів'!D911","v":""},{"$f":"'1.Портфель кредитів'!#REF!","v":{"$error":"#REF!"}},{"$f":"'1.Портфель кредитів'!#REF!","v":{"$error":"#REF!"}},{"$f":"'1.Портфель кредитів'!#REF!","v":{"$error":"#REF!"}},{"$f":"'1.Портфель кредитів'!I911","v":0},{"$f":"'1.Портфель кредитів'!W911","v":0},{"$f":"'1.Портфель кредитів'!Y911","v":""},4,"2018-06-01","_4_43252_2"]
[{"$f":"'1.Портфель кредитів'!H912","v":0},{"$f":"'1.Портфель кредитів'!D912","v":""},{"$f":"'1.Портфель кредитів'!#REF!","v":{"$error":"#REF!"}},{"$f":"'1.Портфель кредитів'!#REF!","v":{"$error":"#REF!"}},{"$f":"'1.Портфель кредитів'!#REF!","v":{"$error":"#REF!"}},{"$f":"'1.Портфель кредитів'!I912","v":0},{"$f":"'1.Портфель кредитів'!W912","v":0},{"$f":"'1.Портфель кредитів'!Y912","v":""},4,"2018-06-01","_4_43252_2"]
[{"$f":"'1.Портфель кредитів'!H913","v":0},{"$f":"'1.Портфель кредитів'!D913","v":""},{"$f":"'1.Портфель кредитів'!#REF!","v":{"$error":"#REF!"}},{"$f":"'1.Портфель кредитів'!#REF!","v":{"$error":"#REF!"}},{"$f":"'1.Портфель кредитів'!#REF!","v":{"$error":"#REF!"}},{"$f":"'1.Портфель кредитів'!I913","v":0},{"$f":"'1.Портфель кредитів'!W913","v":0},{"$f":"'1.Портфель кредитів'!Y913","v":""},4,"2018-06-01","_4_43252_2"]
[{"$f":"'1.Портфель кредитів'!H914","v":0},{"$f":"'1.Портфель кредитів'!D914","v":""},{"$f":"'1.Портфель кредитів'!#REF!","v":{"$error":"#REF!"}},{"$f":"'1.Портфель кредитів'!#REF!","v":{"$error":"#REF!"}},{"$f":"'1.Портфель кредитів'!#REF!","v":{"$error":"#REF!"}},{"$f":"'1.Портфель кредитів'!I914","v":0},{"$f":"'1.Портфель кредитів'!W914","v":0},{"$f":"'1.Портфель кредитів'!Y914","v":""},4,"2018-06-01","_4_43252_2"]
[{"$f":"'1.Портфель кредитів'!H915","v":0},{"$f":"'1.Портфель кредитів'!D915","v":""},{"$f":"'1.Портфель кредитів'!#REF!","v":{"$error":"#REF!"}},{"$f":"'1.Портфель кредитів'!#REF!","v":{"$error":"#REF!"}},{"$f":"'1.Портфель кредитів'!#REF!","v":{"$error":"#REF!"}},{"$f":"'1.Портфель кредитів'!I915","v":0},{"$f":"'1.Портфель кредитів'!W915","v":0},{"$f":"'1.Портфель кредитів'!Y915","v":""},4,"2018-06-01","_4_43252_2"]
[{"$f":"'1.Портфель кредитів'!H916","v":0},{"$f":"'1.Портфель кредитів'!D916","v":""},{"$f":"'1.Портфель кредитів'!#REF!","v":{"$error":"#REF!"}},{"$f":"'1.Портфель кредитів'!#REF!","v":{"$error":"#REF!"}},{"$f":"'1.Портфель кредитів'!#REF!","v":{"$error":"#REF!"}},{"$f":"'1.Портфель кредитів'!I916","v":0},{"$f":"'1.Портфель кредитів'!W916","v":0},{"$f":"'1.Портфель кредитів'!Y916","v":""},4,"2018-06-01","_4_43252_2"]
[{"$f":"'1.Портфель кредитів'!H917","v":0},{"$f":"'1.Портфель кредитів'!D917","v":""},{"$f":"'1.Портфель кредитів'!#REF!","v":{"$error":"#REF!"}},{"$f":"'1.Портфель кредитів'!#REF!","v":{"$error":"#REF!"}},{"$f":"'1.Портфель кредитів'!#REF!","v":{"$error":"#REF!"}},{"$f":"'1.Портфель кредитів'!I917","v":0},{"$f":"'1.Портфель кредитів'!W917","v":0},{"$f":"'1.Портфель кредитів'!Y917","v":""},4,"2018-06-01","_4_43252_2"]
[{"$f":"'1.Портфель кредитів'!H918","v":0},{"$f":"'1.Портфель кредитів'!D918","v":""},{"$f":"'1.Портфель кредитів'!#REF!","v":{"$error":"#REF!"}},{"$f":"'1.Портфель кредитів'!#REF!","v":{"$error":"#REF!"}},{"$f":"'1.Портфель кредитів'!#REF!","v":{"$error":"#REF!"}},{"$f":"'1.Портфель кредитів'!I918","v":0},{"$f":"'1.Портфель кредитів'!W918","v":0},{"$f":"'1.Портфель кредитів'!Y918","v":""},4,"2018-06-01","_4_43252_2"]
[{"$f":"'1.Портфель кредитів'!H919","v":0},{"$f":"'1.Портфель кредитів'!D919","v":""},{"$f":"'1.Портфель кредитів'!#REF!","v":{"$error":"#REF!"}},{"$f":"'1.Портфель кредитів'!#REF!","v":{"$error":"#REF!"}},{"$f":"'1.Портфель кредитів'!#REF!","v":{"$error":"#REF!"}},{"$f":"'1.Портфель кредитів'!I919","v":0},{"$f":"'1.Портфель кредитів'!W919","v":0},{"$f":"'1.Портфель кредитів'!Y919","v":""},4,"2018-06-01","_4_43252_2"]
[{"$f":"'1.Портфель кредитів'!H920","v":0},{"$f":"'1.Портфель кредитів'!D920","v":""},{"$f":"'1.Портфель кредитів'!#REF!","v":{"$error":"#REF!"}},{"$f":"'1.Портфель кредитів'!#REF!","v":{"$error":"#REF!"}},{"$f":"'1.Портфель кредитів'!#REF!","v":{"$error":"#REF!"}},{"$f":"'1.Портфель кредитів'!I920","v":0},{"$f":"'1.Портфель кредитів'!W920","v":0},{"$f":"'1.Портфель кредитів'!Y920","v":""},4,"2018-06-01","_4_43252_2"]
[{"$f":"'1.Портфель кредитів'!H921","v":0},{"$f":"'1.Портфель кредитів'!D921","v":""},{"$f":"'1.Портфель кредитів'!#REF!","v":{"$error":"#REF!"}},{"$f":"'1.Портфель кредитів'!#REF!","v":{"$error":"#REF!"}},{"$f":"'1.Портфель кредитів'!#REF!","v":{"$error":"#REF!"}},{"$f":"'1.Портфель кредитів'!I921","v":0},{"$f":"'1.Портфель кредитів'!W921","v":0},{"$f":"'1.Портфель кредитів'!Y921","v":""},4,"2018-06-01","_4_43252_2"]
[{"$f":"'1.Портфель кредитів'!H922","v":0},{"$f":"'1.Портфель кредитів'!D922","v":""},{"$f":"'1.Портфель кредитів'!#REF!","v":{"$error":"#REF!"}},{"$f":"'1.Портфель кредитів'!#REF!","v":{"$error":"#REF!"}},{"$f":"'1.Портфель кредитів'!#REF!","v":{"$error":"#REF!"}},{"$f":"'1.Портфель кредитів'!I922","v":0},{"$f":"'1.Портфель кредитів'!W922","v":0},{"$f":"'1.Портфель кредитів'!Y922","v":""},4,"2018-06-01","_4_43252_2"]
[{"$f":"'1.Портфель кредитів'!H923","v":0},{"$f":"'1.Портфель кредитів'!D923","v":""},{"$f":"'1.Портфель кредитів'!#REF!","v":{"$error":"#REF!"}},{"$f":"'1.Портфель кредитів'!#REF!","v":{"$error":"#REF!"}},{"$f":"'1.Портфель кредитів'!#REF!","v":{"$error":"#REF!"}},{"$f":"'1.Портфель кредитів'!I923","v":0},{"$f":"'1.Портфель кредитів'!W923","v":0},{"$f":"'1.Портфель кредитів'!Y923","v":""},4,"2018-06-01","_4_43252_2"]
[{"$f":"'1.Портфель кредитів'!H924","v":0},{"$f":"'1.Портфель кредитів'!D924","v":""},{"$f":"'1.Портфель кредитів'!#REF!","v":{"$error":"#REF!"}},{"$f":"'1.Портфель кредитів'!#REF!","v":{"$error":"#REF!"}},{"$f":"'1.Портфель кредитів'!#REF!","v":{"$error":"#REF!"}},{"$f":"'1.Портфель кредитів'!I924","v":0},{"$f":"'1.Портфель кредитів'!W924","v":0},{"$f":"'1.Портфель кредитів'!Y924","v":""},4,"2018-06-01","_4_43252_2"]
[{"$f":"'1.Портфель кредитів'!H925","v":0},{"$f":"'1.Портфель кредитів'!D925","v":""},{"$f":"'1.Портфель кредитів'!#REF!","v":{"$error":"#REF!"}},{"$f":"'1.Портфель кредитів'!#REF!","v":{"$error":"#REF!"}},{"$f":"'1.Портфель кредитів'!#REF!","v":{"$error":"#REF!"}},{"$f":"'1.Портфель кредитів'!I925","v":0},{"$f":"'1.Портфель кредитів'!W925","v":0},{"$f":"'1.Портфель кредитів'!Y925","v":""},4,"2018-06-01","_4_43252_2"]
[{"$f":"'1.Портфель кредитів'!H926","v":0},{"$f":"'1.Портфель кредитів'!D926","v":""},{"$f":"'1.Портфель кредитів'!#REF!","v":{"$error":"#REF!"}},{"$f":"'1.Портфель кредитів'!#REF!","v":{"$error":"#REF!"}},{"$f":"'1.Портфель кредитів'!#REF!","v":{"$error":"#REF!"}},{"$f":"'1.Портфель кредитів'!I926","v":0},{"$f":"'1.Портфель кредитів'!W926","v":0},{"$f":"'1.Портфель кредитів'!Y926","v":""},4,"2018-06-01","_4_43252_2"]
[{"$f":"'1.Портфель кредитів'!H927","v":0},{"$f":"'1.Портфель кредитів'!D927","v":""},{"$f":"'1.Портфель кредитів'!#REF!","v":{"$error":"#REF!"}},{"$f":"'1.Портфель кредитів'!#REF!","v":{"$error":"#REF!"}},{"$f":"'1.Портфель кредитів'!#REF!","v":{"$error":"#REF!"}},{"$f":"'1.Портфель кредитів'!I927","v":0},{"$f":"'1.Портфель кредитів'!W927","v":0},{"$f":"'1.Портфель кредитів'!Y927","v":""},4,"2018-06-01","_4_43252_2"]
[{"$f":"'1.Портфель кредитів'!H928","v":0},{"$f":"'1.Портфель кредитів'!D928","v":""},{"$f":"'1.Портфель кредитів'!#REF!","v":{"$error":"#REF!"}},{"$f":"'1.Портфель кредитів'!#REF!","v":{"$error":"#REF!"}},{"$f":"'1.Портфель кредитів'!#REF!","v":{"$error":"#REF!"}},{"$f":"'1.Портфель кредитів'!I928","v":0},{"$f":"'1.Портфель кредитів'!W928","v":0},{"$f":"'1.Портфель кредитів'!Y928","v":""},4,"2018-06-01","_4_43252_2"]
[{"$f":"'1.Портфель кредитів'!H929","v":0},{"$f":"'1.Портфель кредитів'!D929","v":""},{"$f":"'1.Портфель кредитів'!#REF!","v":{"$error":"#REF!"}},{"$f":"'1.Портфель кредитів'!#REF!","v":{"$error":"#REF!"}},{"$f":"'1.Портфель кредитів'!#REF!","v":{"$error":"#REF!"}},{"$f":"'1.Портфель кредитів'!I929","v":0},{"$f":"'1.Портфель кредитів'!W929","v":0},{"$f":"'1.Портфель кредитів'!Y929","v":""},4,"2018-06-01","_4_43252_2"]
[{"$f":"'1.Портфель кредитів'!H930","v":0},{"$f":"'1.Портфель кредитів'!D930","v":""},{"$f":"'1.Портфель кредитів'!#REF!","v":{"$error":"#REF!"}},{"$f":"'1.Портфель кредитів'!#REF!","v":{"$error":"#REF!"}},{"$f":"'1.Портфель кредитів'!#REF!","v":{"$error":"#REF!"}},{"$f":"'1.Портфель кредитів'!I930","v":0},{"$f":"'1.Портфель кредитів'!W930","v":0},{"$f":"'1.Портфель кредитів'!Y930","v":""},4,"2018-06-01","_4_43252_2"]
[{"$f":"'1.Портфель кредитів'!H931","v":0},{"$f":"'1.Портфель кредитів'!D931","v":""},{"$f":"'1.Портфель кредитів'!#REF!","v":{"$error":"#REF!"}},{"$f":"'1.Портфель кредитів'!#REF!","v":{"$error":"#REF!"}},{"$f":"'1.Портфель кредитів'!#REF!","v":{"$error":"#REF!"}},{"$f":"'1.Портфель кредитів'!I931","v":0},{"$f":"'1.Портфель кредитів'!W931","v":0},{"$f":"'1.Портфель кредитів'!Y931","v":""},4,"2018-06-01","_4_43252_2"]
[{"$f":"'1.Портфель кредитів'!H932","v":0},{"$f":"'1.Портфель кредитів'!D932","v":""},{"$f":"'1.Портфель кредитів'!#REF!","v":{"$error":"#REF!"}},{"$f":"'1.Портфель кредитів'!#REF!","v":{"$error":"#REF!"}},{"$f":"'1.Портфель кредитів'!#REF!","v":{"$error":"#REF!"}},{"$f":"'1.Портфель кредитів'!I932","v":0},{"$f":"'1.Портфель кредитів'!W932","v":0},{"$f":"'1.Портфель кредитів'!Y932","v":""},4,"2018-06-01","_4_43252_2"]
[{"$f":"'1.Портфель кредитів'!H933","v":0},{"$f":"'1.Портфель кредитів'!D933","v":""},{"$f":"'1.Портфель кредитів'!#REF!","v":{"$error":"#REF!"}},{"$f":"'1.Портфель кредитів'!#REF!","v":{"$error":"#REF!"}},{"$f":"'1.Портфель кредитів'!#REF!","v":{"$error":"#REF!"}},{"$f":"'1.Портфель кредитів'!I933","v":0},{"$f":"'1.Портфель кредитів'!W933","v":0},{"$f":"'1.Портфель кредитів'!Y933","v":""},4,"2018-06-01","_4_43252_2"]
[{"$f":"'1.Портфель кредитів'!H934","v":0},{"$f":"'1.Портфель кредитів'!D934","v":""},{"$f":"'1.Портфель кредитів'!#REF!","v":{"$error":"#REF!"}},{"$f":"'1.Портфель кредитів'!#REF!","v":{"$error":"#REF!"}},{"$f":"'1.Портфель кредитів'!#REF!","v":{"$error":"#REF!"}},{"$f":"'1.Портфель кредитів'!I934","v":0},{"$f":"'1.Портфель кредитів'!W934","v":0},{"$f":"'1.Портфель кредитів'!Y934","v":""},4,"2018-06-01","_4_43252_2"]
[{"$f":"'1.Портфель кредитів'!H935","v":0},{"$f":"'1.Портфель кредитів'!D935","v":""},{"$f":"'1.Портфель кредитів'!#REF!","v":{"$error":"#REF!"}},{"$f":"'1.Портфель кредитів'!#REF!","v":{"$error":"#REF!"}},{"$f":"'1.Портфель кредитів'!#REF!","v":{"$error":"#REF!"}},{"$f":"'1.Портфель кредитів'!I935","v":0},{"$f":"'1.Портфель кредитів'!W935","v":0},{"$f":"'1.Портфель кредитів'!Y935","v":""},4,"2018-06-01","_4_43252_2"]
[{"$f":"'1.Портфель кредитів'!H936","v":0},{"$f":"'1.Портфель кредитів'!D936","v":""},{"$f":"'1.Портфель кредитів'!#REF!","v":{"$error":"#REF!"}},{"$f":"'1.Портфель кредитів'!#REF!","v":{"$error":"#REF!"}},{"$f":"'1.Портфель кредитів'!#REF!","v":{"$error":"#REF!"}},{"$f":"'1.Портфель кредитів'!I936","v":0},{"$f":"'1.Портфель кредитів'!W936","v":0},{"$f":"'1.Портфель кредитів'!Y936","v":""},4,"2018-06-01","_4_43252_2"]
[{"$f":"'1.Портфель кредитів'!H937","v":0},{"$f":"'1.Портфель кредитів'!D937","v":""},{"$f":"'1.Портфель кредитів'!#REF!","v":{"$error":"#REF!"}},{"$f":"'1.Портфель кредитів'!#REF!","v":{"$error":"#REF!"}},{"$f":"'1.Портфель кредитів'!#REF!","v":{"$error":"#REF!"}},{"$f":"'1.Портфель кредитів'!I937","v":0},{"$f":"'1.Портфель кредитів'!W937","v":0},{"$f":"'1.Портфель кредитів'!Y937","v":""},4,"2018-06-01","_4_43252_2"]
[{"$f":"'1.Портфель кредитів'!H938","v":0},{"$f":"'1.Портфель кредитів'!D938","v":""},{"$f":"'1.Портфель кредитів'!#REF!","v":{"$error":"#REF!"}},{"$f":"'1.Портфель кредитів'!#REF!","v":{"$error":"#REF!"}},{"$f":"'1.Портфель кредитів'!#REF!","v":{"$error":"#REF!"}},{"$f":"'1.Портфель кредитів'!I938","v":0},{"$f":"'1.Портфель кредитів'!W938","v":0},{"$f":"'1.Портфель кредитів'!Y938","v":""},4,"2018-06-01","_4_43252_2"]
[{"$f":"'1.Портфель кредитів'!H939","v":0},{"$f":"'1.Портфель кредитів'!D939","v":""},{"$f":"'1.Портфель кредитів'!#REF!","v":{"$error":"#REF!"}},{"$f":"'1.Портфель кредитів'!#REF!","v":{"$error":"#REF!"}},{"$f":"'1.Портфель кредитів'!#REF!","v":{"$error":"#REF!"}},{"$f":"'1.Портфель кредитів'!I939","v":0},{"$f":"'1.Портфель кредитів'!W939","v":0},{"$f":"'1.Портфель кредитів'!Y939","v":""},4,"2018-06-01","_4_43252_2"]
[{"$f":"'1.Портфель кредитів'!H940","v":0},{"$f":"'1.Портфель кредитів'!D940","v":""},{"$f":"'1.Портфель кредитів'!#REF!","v":{"$error":"#REF!"}},{"$f":"'1.Портфель кредитів'!#REF!","v":{"$error":"#REF!"}},{"$f":"'1.Портфель кредитів'!#REF!","v":{"$error":"#REF!"}},{"$f":"'1.Портфель кредитів'!I940","v":0},{"$f":"'1.Портфель кредитів'!W940","v":0},{"$f":"'1.Портфель кредитів'!Y940","v":""},4,"2018-06-01","_4_43252_2"]
[{"$f":"'1.Портфель кредитів'!H941","v":0},{"$f":"'1.Портфель кредитів'!D941","v":""},{"$f":"'1.Портфель кредитів'!#REF!","v":{"$error":"#REF!"}},{"$f":"'1.Портфель кредитів'!#REF!","v":{"$error":"#REF!"}},{"$f":"'1.Портфель кредитів'!#REF!","v":{"$error":"#REF!"}},{"$f":"'1.Портфель кредитів'!I941","v":0},{"$f":"'1.Портфель кредитів'!W941","v":0},{"$f":"'1.Портфель кредитів'!Y941","v":""},{"$f":"$E$1","v":4},{"$f":"$E$2","v":"2018-06-01"},{"$f":"B966&\"_\"&I966&\"_\"&J966&\"_\"&$E$3","v":"_4_43252_2"}]
[{"$f":"'1.Портфель кредитів'!H942","v":0},{"$f":"'1.Портфель кредитів'!D942","v":""},{"$f":"'1.Портфель кредитів'!#REF!","v":{"$error":"#REF!"}},{"$f":"'1.Портфель кредитів'!#REF!","v":{"$error":"#REF!"}},{"$f":"'1.Портфель кредитів'!#REF!","v":{"$error":"#REF!"}},{"$f":"'1.Портфель кредитів'!I942","v":0},{"$f":"'1.Портфель кредитів'!W942","v":0},{"$f":"'1.Портфель кредитів'!Y942","v":""},4,"2018-06-01","_4_43252_2"]
[{"$f":"'1.Портфель кредитів'!H943","v":0},{"$f":"'1.Портфель кредитів'!D943","v":""},{"$f":"'1.Портфель кредитів'!#REF!","v":{"$error":"#REF!"}},{"$f":"'1.Портфель кредитів'!#REF!","v":{"$error":"#REF!"}},{"$f":"'1.Портфель кредитів'!#REF!","v":{"$error":"#REF!"}},{"$f":"'1.Портфель кредитів'!I943","v":0},{"$f":"'1.Портфель кредитів'!W943","v":0},{"$f":"'1.Портфель кредитів'!Y943","v":""},4,"2018-06-01","_4_43252_2"]
[{"$f":"'1.Портфель кредитів'!H944","v":0},{"$f":"'1.Портфель кредитів'!D944","v":""},{"$f":"'1.Портфель кредитів'!#REF!","v":{"$error":"#REF!"}},{"$f":"'1.Портфель кредитів'!#REF!","v":{"$error":"#REF!"}},{"$f":"'1.Портфель кредитів'!#REF!","v":{"$error":"#REF!"}},{"$f":"'1.Портфель кредитів'!I944","v":0},{"$f":"'1.Портфель кредитів'!W944","v":0},{"$f":"'1.Портфель кредитів'!Y944","v":""},4,"2018-06-01","_4_43252_2"]
[{"$f":"'1.Портфель кредитів'!H945","v":0},{"$f":"'1.Портфель кредитів'!D945","v":""},{"$f":"'1.Портфель кредитів'!#REF!","v":{"$error":"#REF!"}},{"$f":"'1.Портфель кредитів'!#REF!","v":{"$error":"#REF!"}},{"$f":"'1.Портфель кредитів'!#REF!","v":{"$error":"#REF!"}},{"$f":"'1.Портфель кредитів'!I945","v":0},{"$f":"'1.Портфель кредитів'!W945","v":0},{"$f":"'1.Портфель кредитів'!Y945","v":""},4,"2018-06-01","_4_43252_2"]
[{"$f":"'1.Портфель кредитів'!H946","v":0},{"$f":"'1.Портфель кредитів'!D946","v":""},{"$f":"'1.Портфель кредитів'!#REF!","v":{"$error":"#REF!"}},{"$f":"'1.Портфель кредитів'!#REF!","v":{"$error":"#REF!"}},{"$f":"'1.Портфель кредитів'!#REF!","v":{"$error":"#REF!"}},{"$f":"'1.Портфель кредитів'!I946","v":0},{"$f":"'1.Портфель кредитів'!W946","v":0},{"$f":"'1.Портфель кредитів'!Y946","v":""},4,"2018-06-01","_4_43252_2"]
[{"$f":"'1.Портфель кредитів'!H947","v":0},{"$f":"'1.Портфель кредитів'!D947","v":""},{"$f":"'1.Портфель кредитів'!#REF!","v":{"$error":"#REF!"}},{"$f":"'1.Портфель кредитів'!#REF!","v":{"$error":"#REF!"}},{"$f":"'1.Портфель кредитів'!#REF!","v":{"$error":"#REF!"}},{"$f":"'1.Портфель кредитів'!I947","v":0},{"$f":"'1.Портфель кредитів'!W947","v":0},{"$f":"'1.Портфель кредитів'!Y947","v":""},4,"2018-06-01","_4_43252_2"]
[{"$f":"'1.Портфель кредитів'!H948","v":0},{"$f":"'1.Портфель кредитів'!D948","v":""},{"$f":"'1.Портфель кредитів'!#REF!","v":{"$error":"#REF!"}},{"$f":"'1.Портфель кредитів'!#REF!","v":{"$error":"#REF!"}},{"$f":"'1.Портфель кредитів'!#REF!","v":{"$error":"#REF!"}},{"$f":"'1.Портфель кредитів'!I948","v":0},{"$f":"'1.Портфель кредитів'!W948","v":0},{"$f":"'1.Портфель кредитів'!Y948","v":""},4,"2018-06-01","_4_43252_2"]
[{"$f":"'1.Портфель кредитів'!H949","v":0},{"$f":"'1.Портфель кредитів'!D949","v":""},{"$f":"'1.Портфель кредитів'!#REF!","v":{"$error":"#REF!"}},{"$f":"'1.Портфель кредитів'!#REF!","v":{"$error":"#REF!"}},{"$f":"'1.Портфель кредитів'!#REF!","v":{"$error":"#REF!"}},{"$f":"'1.Портфель кредитів'!I949","v":0},{"$f":"'1.Портфель кредитів'!W949","v":0},{"$f":"'1.Портфель кредитів'!Y949","v":""},4,"2018-06-01","_4_43252_2"]
[{"$f":"'1.Портфель кредитів'!H950","v":0},{"$f":"'1.Портфель кредитів'!D950","v":""},{"$f":"'1.Портфель кредитів'!#REF!","v":{"$error":"#REF!"}},{"$f":"'1.Портфель кредитів'!#REF!","v":{"$error":"#REF!"}},{"$f":"'1.Портфель кредитів'!#REF!","v":{"$error":"#REF!"}},{"$f":"'1.Портфель кредитів'!I950","v":0},{"$f":"'1.Портфель кредитів'!W950","v":0},{"$f":"'1.Портфель кредитів'!Y950","v":""},4,"2018-06-01","_4_43252_2"]
[{"$f":"'1.Портфель кредитів'!H951","v":0},{"$f":"'1.Портфель кредитів'!D951","v":""},{"$f":"'1.Портфель кредитів'!#REF!","v":{"$error":"#REF!"}},{"$f":"'1.Портфель кредитів'!#REF!","v":{"$error":"#REF!"}},{"$f":"'1.Портфель кредитів'!#REF!","v":{"$error":"#REF!"}},{"$f":"'1.Портфель кредитів'!I951","v":0},{"$f":"'1.Портфель кредитів'!W951","v":0},{"$f":"'1.Портфель кредитів'!Y951","v":""},4,"2018-06-01","_4_43252_2"]
[{"$f":"'1.Портфель кредитів'!H952","v":0},{"$f":"'1.Портфель кредитів'!D952","v":""},{"$f":"'1.Портфель кредитів'!#REF!","v":{"$error":"#REF!"}},{"$f":"'1.Портфель кредитів'!#REF!","v":{"$error":"#REF!"}},{"$f":"'1.Портфель кредитів'!#REF!","v":{"$error":"#REF!"}},{"$f":"'1.Портфель кредитів'!I952","v":0},{"$f":"'1.Портфель кредитів'!W952","v":0},{"$f":"'1.Портфель кредитів'!Y952","v":""},4,"2018-06-01","_4_43252_2"]
[{"$f":"'1.Портфель кредитів'!H953","v":0},{"$f":"'1.Портфель кредитів'!D953","v":""},{"$f":"'1.Портфель кредитів'!#REF!","v":{"$error":"#REF!"}},{"$f":"'1.Портфель кредитів'!#REF!","v":{"$error":"#REF!"}},{"$f":"'1.Портфель кредитів'!#REF!","v":{"$error":"#REF!"}},{"$f":"'1.Портфель кредитів'!I953","v":0},{"$f":"'1.Портфель кредитів'!W953","v":0},{"$f":"'1.Портфель кредитів'!Y953","v":""},4,"2018-06-01","_4_43252_2"]
[{"$f":"'1.Портфель кредитів'!H954","v":0},{"$f":"'1.Портфель кредитів'!D954","v":""},{"$f":"'1.Портфель кредитів'!#REF!","v":{"$error":"#REF!"}},{"$f":"'1.Портфель кредитів'!#REF!","v":{"$error":"#REF!"}},{"$f":"'1.Портфель кредитів'!#REF!","v":{"$error":"#REF!"}},{"$f":"'1.Портфель кредитів'!I954","v":0},{"$f":"'1.Портфель кредитів'!W954","v":0},{"$f":"'1.Портфель кредитів'!Y954","v":""},4,"2018-06-01","_4_43252_2"]
[{"$f":"'1.Портфель кредитів'!H955","v":0},{"$f":"'1.Портфель кредитів'!D955","v":""},{"$f":"'1.Портфель кредитів'!#REF!","v":{"$error":"#REF!"}},{"$f":"'1.Портфель кредитів'!#REF!","v":{"$error":"#REF!"}},{"$f":"'1.Портфель кредитів'!#REF!","v":{"$error":"#REF!"}},{"$f":"'1.Портфель кредитів'!I955","v":0},{"$f":"'1.Портфель кредитів'!W955","v":0},{"$f":"'1.Портфель кредитів'!Y955","v":""},4,"2018-06-01","_4_43252_2"]
[{"$f":"'1.Портфель кредитів'!H956","v":0},{"$f":"'1.Портфель кредитів'!D956","v":""},{"$f":"'1.Портфель кредитів'!#REF!","v":{"$error":"#REF!"}},{"$f":"'1.Портфель кредитів'!#REF!","v":{"$error":"#REF!"}},{"$f":"'1.Портфель кредитів'!#REF!","v":{"$error":"#REF!"}},{"$f":"'1.Портфель кредитів'!I956","v":0},{"$f":"'1.Портфель кредитів'!W956","v":0},{"$f":"'1.Портфель кредитів'!Y956","v":""},4,"2018-06-01","_4_43252_2"]
[{"$f":"'1.Портфель кредитів'!H957","v":0},{"$f":"'1.Портфель кредитів'!D957","v":""},{"$f":"'1.Портфель кредитів'!#REF!","v":{"$error":"#REF!"}},{"$f":"'1.Портфель кредитів'!#REF!","v":{"$error":"#REF!"}},{"$f":"'1.Портфель кредитів'!#REF!","v":{"$error":"#REF!"}},{"$f":"'1.Портфель кредитів'!I957","v":0},{"$f":"'1.Портфель кредитів'!W957","v":0},{"$f":"'1.Портфель кредитів'!Y957","v":""},4,"2018-06-01","_4_43252_2"]
[{"$f":"'1.Портфель кредитів'!H958","v":0},{"$f":"'1.Портфель кредитів'!D958","v":""},{"$f":"'1.Портфель кредитів'!#REF!","v":{"$error":"#REF!"}},{"$f":"'1.Портфель кредитів'!#REF!","v":{"$error":"#REF!"}},{"$f":"'1.Портфель кредитів'!#REF!","v":{"$error":"#REF!"}},{"$f":"'1.Портфель кредитів'!I958","v":0},{"$f":"'1.Портфель кредитів'!W958","v":0},{"$f":"'1.Портфель кредитів'!Y958","v":""},4,"2018-06-01","_4_43252_2"]
[{"$f":"'1.Портфель кредитів'!H959","v":0},{"$f":"'1.Портфель кредитів'!D959","v":""},{"$f":"'1.Портфель кредитів'!#REF!","v":{"$error":"#REF!"}},{"$f":"'1.Портфель кредитів'!#REF!","v":{"$error":"#REF!"}},{"$f":"'1.Портфель кредитів'!#REF!","v":{"$error":"#REF!"}},{"$f":"'1.Портфель кредитів'!I959","v":0},{"$f":"'1.Портфель кредитів'!W959","v":0},{"$f":"'1.Портфель кредитів'!Y959","v":""},4,"2018-06-01","_4_43252_2"]
[{"$f":"'1.Портфель кредитів'!H960","v":0},{"$f":"'1.Портфель кредитів'!D960","v":""},{"$f":"'1.Портфель кредитів'!#REF!","v":{"$error":"#REF!"}},{"$f":"'1.Портфель кредитів'!#REF!","v":{"$error":"#REF!"}},{"$f":"'1.Портфель кредитів'!#REF!","v":{"$error":"#REF!"}},{"$f":"'1.Портфель кредитів'!I960","v":0},{"$f":"'1.Портфель кредитів'!W960","v":0},{"$f":"'1.Портфель кредитів'!Y960","v":""},4,"2018-06-01","_4_43252_2"]
[{"$f":"'1.Портфель кредитів'!H961","v":0},{"$f":"'1.Портфель кредитів'!D961","v":""},{"$f":"'1.Портфель кредитів'!#REF!","v":{"$error":"#REF!"}},{"$f":"'1.Портфель кредитів'!#REF!","v":{"$error":"#REF!"}},{"$f":"'1.Портфель кредитів'!#REF!","v":{"$error":"#REF!"}},{"$f":"'1.Портфель кредитів'!I961","v":0},{"$f":"'1.Портфель кредитів'!W961","v":0},{"$f":"'1.Портфель кредитів'!Y961","v":""},4,"2018-06-01","_4_43252_2"]
[{"$f":"'1.Портфель кредитів'!H962","v":0},{"$f":"'1.Портфель кредитів'!D962","v":""},{"$f":"'1.Портфель кредитів'!#REF!","v":{"$error":"#REF!"}},{"$f":"'1.Портфель кредитів'!#REF!","v":{"$error":"#REF!"}},{"$f":"'1.Портфель кредитів'!#REF!","v":{"$error":"#REF!"}},{"$f":"'1.Портфель кредитів'!I962","v":0},{"$f":"'1.Портфель кредитів'!W962","v":0},{"$f":"'1.Портфель кредитів'!Y962","v":""},4,"2018-06-01","_4_43252_2"]
[{"$f":"'1.Портфель кредитів'!H963","v":0},{"$f":"'1.Портфель кредитів'!D963","v":""},{"$f":"'1.Портфель кредитів'!#REF!","v":{"$error":"#REF!"}},{"$f":"'1.Портфель кредитів'!#REF!","v":{"$error":"#REF!"}},{"$f":"'1.Портфель кредитів'!#REF!","v":{"$error":"#REF!"}},{"$f":"'1.Портфель кредитів'!I963","v":0},{"$f":"'1.Портфель кредитів'!W963","v":0},{"$f":"'1.Портфель кредитів'!Y963","v":""},4,"2018-06-01","_4_43252_2"]
[{"$f":"'1.Портфель кредитів'!H964","v":0},{"$f":"'1.Портфель кредитів'!D964","v":""},{"$f":"'1.Портфель кредитів'!#REF!","v":{"$error":"#REF!"}},{"$f":"'1.Портфель кредитів'!#REF!","v":{"$error":"#REF!"}},{"$f":"'1.Портфель кредитів'!#REF!","v":{"$error":"#REF!"}},{"$f":"'1.Портфель кредитів'!I964","v":0},{"$f":"'1.Портфель кредитів'!W964","v":0},{"$f":"'1.Портфель кредитів'!Y964","v":""},4,"2018-06-01","_4_43252_2"]
[{"$f":"'1.Портфель кредитів'!H965","v":0},{"$f":"'1.Портфель кредитів'!D965","v":""},{"$f":"'1.Портфель кредитів'!#REF!","v":{"$error":"#REF!"}},{"$f":"'1.Портфель кредитів'!#REF!","v":{"$error":"#REF!"}},{"$f":"'1.Портфель кредитів'!#REF!","v":{"$error":"#REF!"}},{"$f":"'1.Портфель кредитів'!I965","v":0},{"$f":"'1.Портфель кредитів'!W965","v":0},{"$f":"'1.Портфель кредитів'!Y965","v":""},4,"2018-06-01","_4_43252_2"]
[{"$f":"'1.Портфель кредитів'!H966","v":0},{"$f":"'1.Портфель кредитів'!D966","v":""},{"$f":"'1.Портфель кредитів'!#REF!","v":{"$error":"#REF!"}},{"$f":"'1.Портфель кредитів'!#REF!","v":{"$error":"#REF!"}},{"$f":"'1.Портфель кредитів'!#REF!","v":{"$error":"#REF!"}},{"$f":"'1.Портфель кредитів'!I966","v":0},{"$f":"'1.Портфель кредитів'!W966","v":0},{"$f":"'1.Портфель кредитів'!Y966","v":""},4,"2018-06-01","_4_43252_2"]
[{"$f":"'1.Портфель кредитів'!H967","v":0},{"$f":"'1.Портфель кредитів'!D967","v":""},{"$f":"'1.Портфель кредитів'!#REF!","v":{"$error":"#REF!"}},{"$f":"'1.Портфель кредитів'!#REF!","v":{"$error":"#REF!"}},{"$f":"'1.Портфель кредитів'!#REF!","v":{"$error":"#REF!"}},{"$f":"'1.Портфель кредитів'!I967","v":0},{"$f":"'1.Портфель кредитів'!W967","v":0},{"$f":"'1.Портфель кредитів'!Y967","v":""},4,"2018-06-01","_4_43252_2"]
[{"$f":"'1.Портфель кредитів'!H968","v":0},{"$f":"'1.Портфель кредитів'!D968","v":""},{"$f":"'1.Портфель кредитів'!#REF!","v":{"$error":"#REF!"}},{"$f":"'1.Портфель кредитів'!#REF!","v":{"$error":"#REF!"}},{"$f":"'1.Портфель кредитів'!#REF!","v":{"$error":"#REF!"}},{"$f":"'1.Портфель кредитів'!I968","v":0},{"$f":"'1.Портфель кредитів'!W968","v":0},{"$f":"'1.Портфель кредитів'!Y968","v":""},4,"2018-06-01","_4_43252_2"]
[{"$f":"'1.Портфель кредитів'!H969","v":0},{"$f":"'1.Портфель кредитів'!D969","v":""},{"$f":"'1.Портфель кредитів'!#REF!","v":{"$error":"#REF!"}},{"$f":"'1.Портфель кредитів'!#REF!","v":{"$error":"#REF!"}},{"$f":"'1.Портфель кредитів'!#REF!","v":{"$error":"#REF!"}},{"$f":"'1.Портфель кредитів'!I969","v":0},{"$f":"'1.Портфель кредитів'!W969","v":0},{"$f":"'1.Портфель кредитів'!Y969","v":""},4,"2018-06-01","_4_43252_2"]
[{"$f":"'1.Портфель кредитів'!H970","v":0},{"$f":"'1.Портфель кредитів'!D970","v":""},{"$f":"'1.Портфель кредитів'!#REF!","v":{"$error":"#REF!"}},{"$f":"'1.Портфель кредитів'!#REF!","v":{"$error":"#REF!"}},{"$f":"'1.Портфель кредитів'!#REF!","v":{"$error":"#REF!"}},{"$f":"'1.Портфель кредитів'!I970","v":0},{"$f":"'1.Портфель кредитів'!W970","v":0},{"$f":"'1.Портфель кредитів'!Y970","v":""},4,"2018-06-01","_4_43252_2"]
[{"$f":"'1.Портфель кредитів'!H971","v":0},{"$f":"'1.Портфель кредитів'!D971","v":""},{"$f":"'1.Портфель кредитів'!#REF!","v":{"$error":"#REF!"}},{"$f":"'1.Портфель кредитів'!#REF!","v":{"$error":"#REF!"}},{"$f":"'1.Портфель кредитів'!#REF!","v":{"$error":"#REF!"}},{"$f":"'1.Портфель кредитів'!I971","v":0},{"$f":"'1.Портфель кредитів'!W971","v":0},{"$f":"'1.Портфель кредитів'!Y971","v":""},4,"2018-06-01","_4_43252_2"]
[{"$f":"'1.Портфель кредитів'!H972","v":0},{"$f":"'1.Портфель кредитів'!D972","v":""},{"$f":"'1.Портфель кредитів'!#REF!","v":{"$error":"#REF!"}},{"$f":"'1.Портфель кредитів'!#REF!","v":{"$error":"#REF!"}},{"$f":"'1.Портфель кредитів'!#REF!","v":{"$error":"#REF!"}},{"$f":"'1.Портфель кредитів'!I972","v":0},{"$f":"'1.Портфель кредитів'!W972","v":0},{"$f":"'1.Портфель кредитів'!Y972","v":""},4,"2018-06-01","_4_43252_2"]
[{"$f":"'1.Портфель кредитів'!H973","v":0},{"$f":"'1.Портфель кредитів'!D973","v":""},{"$f":"'1.Портфель кредитів'!#REF!","v":{"$error":"#REF!"}},{"$f":"'1.Портфель кредитів'!#REF!","v":{"$error":"#REF!"}},{"$f":"'1.Портфель кредитів'!#REF!","v":{"$error":"#REF!"}},{"$f":"'1.Портфель кредитів'!I973","v":0},{"$f":"'1.Портфель кредитів'!W973","v":0},{"$f":"'1.Портфель кредитів'!Y973","v":""},4,"2018-06-01","_4_43252_2"]
[{"$f":"'1.Портфель кредитів'!H974","v":0},{"$f":"'1.Портфель кредитів'!D974","v":""},{"$f":"'1.Портфель кредитів'!#REF!","v":{"$error":"#REF!"}},{"$f":"'1.Портфель кредитів'!#REF!","v":{"$error":"#REF!"}},{"$f":"'1.Портфель кредитів'!#REF!","v":{"$error":"#REF!"}},{"$f":"'1.Портфель кредитів'!I974","v":0},{"$f":"'1.Портфель кредитів'!W974","v":0},{"$f":"'1.Портфель кредитів'!Y974","v":""},4,"2018-06-01","_4_43252_2"]
[{"$f":"'1.Портфель кредитів'!H975","v":0},{"$f":"'1.Портфель кредитів'!D975","v":""},{"$f":"'1.Портфель кредитів'!#REF!","v":{"$error":"#REF!"}},{"$f":"'1.Портфель кредитів'!#REF!","v":{"$error":"#REF!"}},{"$f":"'1.Портфель кредитів'!#REF!","v":{"$error":"#REF!"}},{"$f":"'1.Портфель кредитів'!I975","v":0},{"$f":"'1.Портфель кредитів'!W975","v":0},{"$f":"'1.Портфель кредитів'!Y975","v":""},4,"2018-06-01","_4_43252_2"]
[{"$f":"'1.Портфель кредитів'!H976","v":0},{"$f":"'1.Портфель кредитів'!D976","v":""},{"$f":"'1.Портфель кредитів'!#REF!","v":{"$error":"#REF!"}},{"$f":"'1.Портфель кредитів'!#REF!","v":{"$error":"#REF!"}},{"$f":"'1.Портфель кредитів'!#REF!","v":{"$error":"#REF!"}},{"$f":"'1.Портфель кредитів'!I976","v":0},{"$f":"'1.Портфель кредитів'!W976","v":0},{"$f":"'1.Портфель кредитів'!Y976","v":""},4,"2018-06-01","_4_43252_2"]

{"sheet":"Hidden_Словник","index":5,"n_rows":19698,"n_cols":47,"rows_kept":1125,"cut":true,"hidden":true,"merged":[],"bounds":{"rows_first":500,"rows_last":125,"rows_between":500,"halvings":2}}
["Коротка назва","Назва банку","МФО","Дата вводу тимч.адм.","Дата рішення про ліквид.",null,null,null,null,"#","область","Регіон",null,null,null,"КВЕД (2010)","NU",null,null,"Банкрутство",null,null,"Тип застави",null,"ТАК/Ні",null,"Вид судового провадження",null,null,"Відповідач (позичальник/поручитель)",null,null,null,"Наявність документів кредитної справи",null,null,null,null,"Одиниці виміру",null,null,"валюта",null,null,null,"область","населений пункт"]
["Авант-Банк","ПАТ \"АВАНТ-БАНК\"","380708",42398,42426,null,null,null,null,1,"Автономна Республіка Крим","КРИМ/АТО",null,null,null,"A","Сільське господарство, лісове господарство та рибне господарство",null,null,"Діюче",null,null,"нерухомість",1,"ТАК",null,"стягнення заборгованості",null,null,"Позичальник",null,null,null,"Наявні документи кредитної справи",null,null,null,null,"га",null,null,"Гривня",980,null,null,"Автономна Республіка Крим","Алупка"]
["АКБ Банк","ПАТ \"АКБ Банк\"","331100",41789,41880,null,null,null,null,2,"Севастополь","КРИМ/АТО",null,null,null,"01","Сільське господарство, мисливство та надання пов'язаних із ними послуг",null,null,"Банкрутство",null,null,"транспорт",2,"НІ",null,"стягнення забезпечення",null,null,"Поручитель",null,null,null,"Наявний кредитний договір",null,null,null,null,"м.кв.",null,null,"Доллар США",840,null,null,"Автономна Республіка Крим","Абрикосівка"]
["Аксіома","ПАТ \"КБ \"АКСІОМА\"","307305",41922,42034,null,null,null,null,3,"Вінницька","ЦЕНТР",null,null,null,"01.1","Вирощування однорічних і дворічних культур",null,null,"В стані припинення (крім банкрутства)",null,null,"обладнання",3,null,null,"банкрутство",null,null,"Солідарно",null,null,null,"Наяваний договір застави",null,null,null,null,"м.куб.",null,null,"Євро",978,null,null,"Автономна Республіка Крим","Абрикосове"]
["Актабанк","ПАТ \"АКТАБАНК\"","307394",41899,42020,null,null,null,null,4,"Волинська","ЗАХІД",null,null,null,"01.11","Вирощування зернових культур (крім рису), бобових культур і насіння олійних культур",null,null,"Ліквідовано",null,null,"товари",4,null,null,"визнання зобов'язань недійсними",null,null,"3-і особи",null,null,null,"Відсутні документи кредитної справи",null,null,null,null,"т",null,null,"Швейцарські франки",756,null,null,"Автономна Республіка Крим","Аврора (Слов'янська сільська рада)"]
["Активбанк","ПАТ \"КБ \"АКТИВ - БАНК\"","300852",41885,41996,null,null,null,null,5,"Дніпропетровська","ПІВДЕНЬ",null,null,null,"01.12","Вирощування рису",null,null,"Санація",null,null,"депозит",5,null,null,"нікчемність правочину",null,null,null,null,null,null,null,null,null,null,null,"шт.",null,null,"Польські злоті",985,null,null,"Автономна Республіка Крим","Аграрне"]
["АРТЕМ-БАНК","АТ «АРТЕМ-БАНК»","300885",42690,42720,null,null,null,null,6,"Донецька","КРИМ/АТО",null,null,null,"01.13","Вирощування овочів і баштанних культур, коренеплодів і бульбоплодів",null,null,"Інше",null,null,"майнові права",6,null,null,"інше",null,null,null,null,null,null,null,null,null,null,null,"од.",null,null,"Фунт стерлінгів",826,null,null,"Автономна Республіка Крим","Аерофлотський"]
["БАНК ПЕТРОКОММЕРЦ-УКРАЇНА","ПАТ \"БАНК ПЕТРОКОММЕРЦ-УКРАЇНА\"","300120",42447,42482,null,null,null,null,7,"Житомирська","ЦЕНТР",null,null,null,"01.14","Вирощування цукрової тростини",null,null,null,null,null,"фінансова порука",7,null,null,null,null,null,null,null,null,null,null,null,null,null,null,null,null,null,"Китайські юані",156,null,null,"Автономна Республіка Крим","Азов"]
["БГ банк","ПАТ \"БГ БАНК\"","320995",41971,42062,null,null,null,null,8,"Закарпатська","ЗАХІД",null,null,null,"01.15","Вирощування тютюну",null,null,null,null,null,"беззаставний",8,null,null,null,null,null,null,null,null,null,null,null,null,null,null,null,null,null,"Рос. рубль",643,null,null,"Автономна Республіка Крим","Азовське"]
["Брокбізнесбанк","АТ \"БРОКБІЗНЕСБАНК\"","300249",41701,41801,null,null,null,null,9,"Запорізька","ПІВДЕНЬ",null,null,null,"01.16","Вирощування прядивних культур",null,null,null,null,null,"інше",null,null,null,null,null,null,null,null,null,null,null,null,null,null,null,null,null,null,"мульт. валютн.",777,null,null,"Автономна Республіка Крим","Айвазовське"]
["ВБР","ПАТ \"ВБР\"","380719",41971,42359,null,null,null,null,10,"Івано_Франківська","ЗАХІД",null,null,null,"01.19","Вирощування інших однорічних і дворічних культур",null,null,null,null,null,null,null,null,null,null,null,null,null,null,null,null,null,null,null,null,null,null,null,null,null,null,null,null,"Автономна Республіка Крим","Айвове"]
["ВЕКТОР","ПАТ \"ВЕКТОР БАНК\"","339038",42797,42816,null,null,null,null,11,"Київ","ЦЕНТР",null,null,null,"01.2","Вирощування багаторічних культур",null,null,null,null,null,null,null,null,null,null,null,null,null,null,null,null,null,null,null,null,null,null,null,null,null,null,null,null,"Автономна Республіка Крим","Айкаван"]
["Велес","АТ \"БАНК ВЕЛЕС\"","322799",null,42349,null,null,null,null,12,"Київська","ЦЕНТР",null,null,null,"01.21","Вирощування винограду",null,null,null,null,null,null,null,null,null,null,null,null,null,null,null,null,null,null,null,null,null,null,null,null,null,null,null,null,"Автономна Республіка Крим","Акрополіс"]
["ВіЕйБі","ПАТ \"ВіЕйБі Банк\"","380537",41964,42083,null,null,null,null,13,"Кіровоградська","ЦЕНТР",null,null,null,"01.22","Вирощування тропічних і субтропічних фруктів",null,null,null,null,null,null,null,null,null,null,null,null,null,null,null,null,null,null,null,null,null,null,null,null,null,null,null,null,"Автономна Республіка Крим","Алмазне"]
["Грінбанк","ПАТ \"Грін Банк\"","322324",41907,42027,null,null,null,null,14,"Луганська","КРИМ/АТО",null,null,null,"01.23","Вирощування цитрусових",null,null,null,null,null,null,null,null,null,null,null,null,null,null,null,null,null,null,null,null,null,null,null,null,null,null,null,null,"Автономна Республіка Крим","Алушта"]
["Даніель","ПАТ \"КБ \"Даніель\"","380980",41656,41745,null,null,null,null,15,"Львівська","ЗАХІД",null,null,null,"01.24","Вирощування зерняткових і кісточкових фруктів",null,null,null,null,null,null,null,null,null,null,null,null,null,null,null,null,null,null,null,null,null,null,null,null,null,null,null,null,"Автономна Республіка Крим","Амурське"]
["Дельта","АТ \"Дельта Банк\"","380236",42066,42279,null,null,null,null,16,"Миколаївська","ПІВДЕНЬ",null,null,null,"01.25","Вирощування ягід, горіхів, інших плодових дерев і чагарників",null,null,null,null,null,null,null,null,null,null,null,null,null,null,null,null,null,null,null,null,null,null,null,null,null,null,null,null,"Автономна Республіка Крим","Ана-Юрт"]
["Демарк","Банк \"Демарк\"","353575",41911,42034,null,null,null,null,17,"Одеська","ПІВДЕНЬ",null,null,null,"01.26","Вирощування олійних плодів",null,null,null,null,null,null,null,null,null,null,null,null,null,null,null,null,null,null,null,null,null,null,null,null,null,null,null,null,"Автономна Республіка Крим","Андрусове"]
["ДЕРЖЗЕМБАНК","ПАТ «ДЕРЖЗЕМБАНК»","380968",42578,42640,null,null,null,null,18,"Полтавська","ЦЕНТР",null,null,null,"01.27","Вирощування культур для виробництва напоїв",null,null,null,null,null,null,null,null,null,null,null,null,null,null,null,null,null,null,null,null,null,null,null,null,null,null,null,null,"Автономна Республіка Крим","Антонівка"]
["ДІАМАНТБАНК","ПАТ \"ДІАМАНТБАНК\"","320854",42849,42910,null,null,null,null,19,"Рівненська","ЗАХІД",null,null,null,"01.28","Вирощування пряних, ароматичних і лікарських культур",null,null,null,null,null,null,null,null,null,null,null,null,null,null,null,null,null,null,null,null,null,null,null,null,null,null,null,null,"Автономна Республіка Крим","Апрелівка"]
["Експобанк","АТ \"КБ \"ЕКСПОБАНК\"","322294",41907,42030,null,null,null,null,20,"Сумська","СХІД",null,null,null,"01.29","Вирощування інших багаторічних культур",null,null,null,null,null,null,null,null,null,null,null,null,null,null,null,null,null,null,null,null,null,null,null,null,null,null,null,null,"Автономна Республіка Крим","Арбузівка"]
["Енергобанк","ПАТ \"ЕНЕРГОБАНК\"","300272",42048,42167,null,null,null,null,21,"Тернопільська","ЗАХІД",null,null,null,"01.3","Відтворення рослин",null,null,null,null,null,null,null,null,null,null,null,null,null,null,null,null,null,null,null,null,null,null,null,null,null,null,null,null,"Автономна Республіка Крим","Арбузове"]
["ЕРДЕ банк","АТ \"ЕРДЕ БАНК\"","380667",41212,41283,null,null,null,null,22,"Харківська","СХІД",null,null,null,"01.30","Відтворення рослин",null,null,null,null,null,null,null,null,null,null,null,null,null,null,null,null,null,null,null,null,null,null,null,null,null,null,null,null,"Автономна Республіка Крим","Аркадіївка"]
["Євробанк","ПАТ \"КБ \"ЄВРОБАНК\"","380355",42538,42599,null,null,null,null,23,"Херсонська","ПІВДЕНЬ",null,null,null,"01.4","Тваринництво",null,null,null,null,null,null,null,null,null,null,null,null,null,null,null,null,null,null,null,null,null,null,null,null,null,null,null,null,"Автономна Республіка Крим","Армійське"]
["Єврогазбанк","АТ \"ЄВРОГАЗБАНК\"","380430",41837,41961,null,null,null,null,24,"Хмельницька","ЦЕНТР",null,null,null,"01.41","Розведення великої рогатої худоби молочних порід",null,null,null,null,null,null,null,null,null,null,null,null,null,null,null,null,null,null,null,null,null,null,null,null,null,null,null,null,"Автономна Республіка Крим","Армянськ"]
["Західінкомбанк","ПАТ \"Західінкомбанк\"","303484",41788,41843,null,null,null,null,25,"Черкаська","ЦЕНТР",null,null,null,"01.42","Розведення іншої великої рогатої худоби та буйволів",null,null,null,null,null,null,null,null,null,null,null,null,null,null,null,null,null,null,null,null,null,null,null,null,null,null,null,null,"Автономна Республіка Крим","Аромат"]
["Златобанк","АТ \"ЗЛАТОБАНК\"","380612",42049,42137,null,null,null,null,26,"Чернівецька","ЗАХІД",null,null,null,"01.43","Розведення коней та інших тварин родини конячих",null,null,null,null,null,null,null,null,null,null,null,null,null,null,null,null,null,null,null,null,null,null,null,null,null,null,null,null,"Автономна Республіка Крим","Ароматне"]
["Золоті ворота","АТ \"БАНК ЗОЛОТІ ВОРОТА\"","351931",41855,41978,null,null,null,null,27,"Чернігівська","СХІД",null,null,null,"01.44","Розведення верблюдів та інших тварин родини верблюдячих",null,null,null,null,null,null,null,null,null,null,null,null,null,null,null,null,null,null,null,null,null,null,null,null,null,null,null,null,"Автономна Республіка Крим","Артемівка"]
["Імексбанк","АТ \"ІМЕКСБАНК\"","328384",42031,42151,null,null,null,null,null,null,null,null,null,null,"01.45","Розведення овець і кіз",null,null,null,null,null,null,null,null,null,null,null,null,null,null,null,null,null,null,null,null,null,null,null,null,null,null,null,null,"Автономна Республіка Крим","Бабенкове"]
["ІНВЕСТБАНК","ПАТ \"КБ \"ІНВЕСТБАНК\"","328210",42720,42748,null,null,null,null,null,null,null,null,null,null,"01.46","Розведення свиней",null,null,null,null,null,null,null,null,null,null,null,null,null,null,null,null,null,null,null,null,null,null,null,null,null,null,null,null,"Автономна Республіка Крим","Багата Ущелина"]
["Інтеграл банк","ПАТ \"Інтеграл-банк\"","320735",42263,42335,null,null,null,null,null,null,null,null,null,null,"01.47","Розведення свійської птиці",null,null,null,null,null,null,null,null,null,null,null,null,null,null,null,null,null,null,null,null,null,null,null,null,null,null,null,null,"Автономна Республіка Крим","Багате"]
["Інтербанк","ПАТ КБ \"ІНТЕРБАНК\"","300216",41753,41843,null,null,null,null,null,null,null,null,null,null,"01.49","Розведення інших тварин",null,null,null,null,null,null,null,null,null,null,null,null,null,null,null,null,null,null,null,null,null,null,null,null,null,null,null,null,"Автономна Республіка Крим","Багатівка"]
["Інтеркредит банк","ПАТ \"ІнтерКредитБанк\"","307424",41922,42021,null,null,null,null,null,null,null,null,null,null,"01.5","Змішане сільське господарство",null,null,null,null,null,null,null,null,null,null,null,null,null,null,null,null,null,null,null,null,null,null,null,null,null,null,null,null,"Автономна Республіка Крим","Багерове"]
["Камбіо","ПАТ \"Банк Камбіо\"","380399",41978,42065,null,null,null,null,null,null,null,null,null,null,"01.50","Змішане сільське господарство",null,null,null,null,null,null,null,null,null,null,null,null,null,null,null,null,null,null,null,null,null,null,null,null,null,null,null,null,"Автономна Республіка Крим","Баланове"]
["Київ","ПАТ \"АКБ \"КИЇВ\"","322498",42060,42180,null,null,null,null,null,null,null,null,null,null,"01.6","Допоміжна діяльність у сільському господарстві та післяурожайна діяльність",null,null,null,null,null,null,null,null,null,null,null,null,null,null,null,null,null,null,null,null,null,null,null,null,null,null,null,null,"Автономна Республіка Крим","Балки"]
["Київськая Русь","ПАТ \"Банк \"Київська Русь\"","319092",42083,42202,null,null,null,null,null,null,null,null,null,null,"01.61","Допоміжна діяльність у рослинництві",null,null,null,null,null,null,null,null,null,null,null,null,null,null,null,null,null,null,null,null,null,null,null,null,null,null,null,null,"Автономна Республіка Крим","Барабанове"]
["КЛАСИКБАНК","ПАТ «КЛАСИКБАНК»","306704",42536,42594,null,null,null,null,null,null,null,null,null,null,"01.62","Допоміжна діяльність у тваринництві",null,null,null,null,null,null,null,null,null,null,null,null,null,null,null,null,null,null,null,null,null,null,null,null,null,null,null,null,"Автономна Республіка Крим","Барсове"]
["Контракт","ПАТ Банк \"Контракт\"","322465",42284,42349,null,null,null,null,null,null,null,null,null,null,"01.63","Післяурожайна діяльність",null,null,null,null,null,null,null,null,null,null,null,null,null,null,null,null,null,null,null,null,null,null,null,null,null,null,null,null,"Автономна Республіка Крим","Батальне"]
["Кредитпромбанк","ПАТ \"КРЕДИТПРОМБАНК\"","300863",42066,42158,null,null,null,null,null,null,null,null,null,null,"01.64","Оброблення насіння для відтворення",null,null,null,null,null,null,null,null,null,null,null,null,null,null,null,null,null,null,null,null,null,null,null,null,null,null,null,null,"Автономна Республіка Крим","Бахчисарай"]
["Легбанк","ПАТ \"Легбанк\"","300056",41971,42062,null,null,null,null,null,null,null,null,null,null,"01.7","Мисливство, відловлювання тварин і надання пов'язаних із ними послуг",null,null,null,null,null,null,null,null,null,null,null,null,null,null,null,null,null,null,null,null,null,null,null,null,null,null,null,null,"Автономна Республіка Крим","Бахчівка (Серебрянська сільська рада)"]
["Меліор","ПАТ \"МЕЛІОР БАНК\"","307435",41922,42046,null,null,null,null,null,null,null,null,null,null,"01.70","Мисливство, відловлювання тварин і надання пов'язаних із ними послуг",null,null,null,null,null,null,null,null,null,null,null,null,null,null,null,null,null,null,null,null,null,null,null,null,null,null,null,null,"Автономна Республіка Крим","Баштанівка"]
["Меркурій","АТ БАНК \"МЕРКУРІЙ\"","351663",41712,41802,null,null,null,null,null,null,null,null,null,null,"02","Лісове господарство та лісозаготівлі",null,null,null,null,null,null,null,null,null,null,null,null,null,null,null,null,null,null,null,null,null,null,null,null,null,null,null,null,"Автономна Республіка Крим","Берегове"]
["Михайлівський","ПАТ \"БАНК МИХАЙЛІВСЬКИЙ\"","380935",42513,42564,null,null,null,null,null,null,null,null,null,null,"02.1","Лісівництво та інша діяльність у лісовому господарстві",null,null,null,null,null,null,null,null,null,null,null,null,null,null,null,null,null,null,null,null,null,null,null,null,null,null,null,null,"Автономна Республіка Крим","Березівка"]
["Міський комерційний банк","ПАТ \"МІСЬКИЙ КОМЕРЦІЙНИЙ БАНК\"","339339",41964,42083,null,null,null,null,null,null,null,null,null,null,"02.10","Лісівництво та інша діяльність у лісовому господарстві",null,null,null,null,null,null,null,null,null,null,null,null,null,null,null,null,null,null,null,null,null,null,null,null,null,null,null,null,"Автономна Республіка Крим","Бєлінське"]
["Надра","ПАТ \"КБ \"Надра\"","380764",42041,42160,null,null,null,null,null,null,null,null,null,null,"02.2","Лісозаготівлі",null,null,null,null,null,null,null,null,null,null,null,null,null,null,null,null,null,null,null,null,null,null,null,null,null,null,null,null,"Автономна Республіка Крим","Біла Скеля"]
["Національний кредит","\"БАНК НАЦІОНАЛЬНИЙ КРЕДИТ\"","320702",42163,42247,null,null,null,null,null,null,null,null,null,null,"02.20","Лісозаготівлі",null,null,null,null,null,null,null,null,null,null,null,null,null,null,null,null,null,null,null,null,null,null,null,null,null,null,null,null,"Автономна Республіка Крим","Білогірськ"]
["Національні інвестиції","БАНК НАЦІОНАЛЬНІ ІНВЕСТИЦІЇ","300498",42265,42339,null,null,null,null,null,null,null,null,null,null,"02.3","Збирання дикорослих недеревних продуктів",null,null,null,null,null,null,null,null,null,null,null,null,null,null,null,null,null,null,null,null,null,null,null,null,null,null,null,null,"Автономна Республіка Крим","Білоглинка"]
["НК БАНК","АТ \"БАНК НАРОДНИЙ КАПІТАЛ\"","322432",42755,42803,null,null,null,null,null,null,null,null,null,null,"02.30","Збирання дикорослих недеревних продуктів",null,null,null,null,null,null,null,null,null,null,null,null,null,null,null,null,null,null,null,null,null,null,null,null,null,null,null,null,"Автономна Республіка Крим","Білокам'яне"]
["Омега","ПАТ \"ОМЕГА БАНК\"","300164",42066,42191,null,null,null,null,null,null,null,null,null,null,"02.4","Надання допоміжних послуг у лісовому господарстві",null,null,null,null,null,null,null,null,null,null,null,null,null,null,null,null,null,null,null,null,null,null,null,null,null,null,null,null,"Автономна Республіка Крим","Бітумне (Гресівська)"]
["Південкомбанк","ПАТ \"КБ \"ПІВДЕНКОМБАНК\"","335946",41785,41908,null,null,null,null,null,null,null,null,null,null,"02.40","Надання допоміжних послуг у лісовому господарстві",null,null,null,null,null,null,null,null,null,null,null,null,null,null,null,null,null,null,null,null,null,null,null,null,null,null,null,null,"Автономна Республіка Крим","Благодатне"]
["Платинум Банк","ПАТ \"Платинум Банк\"","380388",42746,42790,null,null,null,null,null,null,null,null,null,null,"03","Рибне господарство",null,null,null,null,null,null,null,null,null,null,null,null,null,null,null,null,null,null,null,null,null,null,null,null,null,null,null,null,"Автономна Республіка Крим","Ближнє"]
["Праймбанк","ПАТ \"ПРАЙМ-БАНК\"","300669",41915,42018,null,null,null,null,null,null,null,null,null,null,"03.1","Рибальство",null,null,null,null,null,null,null,null,null,null,null,null,null,null,null,null,null,null,null,null,null,null,null,null,null,null,null,null,"Автономна Республіка Крим","Ближньогородське"]
["Промекономбанк","ПАТ \"КБ \"ПРОМЕКОНОМБАНК\"","334992",41781,41890,null,null,null,null,null,null,null,null,null,null,"03.11","Морське рибальство",null,null,null,null,null,null,null,null,null,null,null,null,null,null,null,null,null,null,null,null,null,null,null,null,null,null,null,null,"Автономна Республіка Крим","Богатир"]
["Профінбанк","ПАТ \"ПРОФІН БАНК\"","334594",42024,42114,null,null,null,null,null,null,null,null,null,null,"03.12","Прісноводне рибальство",null,null,null,null,null,null,null,null,null,null,null,null,null,null,null,null,null,null,null,null,null,null,null,null,null,null,null,null,"Автономна Республіка Крим","Богачівка (Магазинська)"]
["Радикал","ПАТ \"РАДИКАЛ БАНК\"","319111",42195,42318,null,null,null,null,null,null,null,null,null,null,"03.2","Рибництво (аквакультура)",null,null,null,null,null,null,null,null,null,null,null,null,null,null,null,null,null,null,null,null,null,null,null,null,null,null,null,null,"Автономна Республіка Крим","Болотне"]
["Реал банк","ПАТ \"РЕАЛ БАНК\"","351588",41701,41780,null,null,null,null,null,null,null,null,null,null,"03.21","Морське рибництво (аквакультура)",null,null,null,null,null,null,null,null,null,null,null,null,null,null,null,null,null,null,null,null,null,null,null,null,null,null,null,null,"Автономна Республіка Крим","Бондаренкове"]
["Смартбанк","ПУАТ «СМАРТБАНК»","380786",42515,42576,null,null,null,null,null,null,null,null,null,null,"03.22","Прісноводне рибництво (аквакультура)",null,null,null,null,null,null,null,null,null,null,null,null,null,null,null,null,null,null,null,null,null,null,null,null,null,null,null,null,"Автономна Республіка Крим","Борисівка"]
["Софіївський","ПАТ \"Банк \"Софійський\"","380861",42361,42485,null,null,null,null,null,null,null,null,null,null,"B","Добувна промисловість і розроблення кар'єрів",null,null,null,null,null,null,null,null,null,null,null,null,null,null,null,null,null,null,null,null,null,null,null,null,null,null,null,null,"Автономна Республіка Крим","Бородіно"]
["Стандарт","ПАТ КБ \"СТАНДАРТ\"","380690",42055,42174,null,null,null,null,null,null,null,null,null,null,"05","Добування кам'яного та бурого вугілля",null,null,null,null,null,null,null,null,null,null,null,null,null,null,null,null,null,null,null,null,null,null,null,null,null,null,null,null,"Автономна Республіка Крим","Ботанічне"]
["Старокиївський","ПАТ \"СТАРОКИЇВСЬКИЙ БАНК\"","321477",41808,41900,null,null,null,null,null,null,null,null,null,null,"05.1","Добування кам'яного вугілля",null,null,null,null,null,null,null,null,null,null,null,null,null,null,null,null,null,null,null,null,null,null,null,null,null,null,null,null,"Автономна Республіка Крим","Братське"]
["Столичний","ПАТ АБ \"СТОЛИЧНИЙ\"","397133",42195,42265,null,null,null,null,null,null,null,null,null,null,"05.10","Добування кам'яного вугілля",null,null,null,null,null,null,null,null,null,null,null,null,null,null,null,null,null,null,null,null,null,null,null,null,null,null,null,null,"Автономна Республіка Крим","Братське (Братської)"]
["Таврика","АТ \"БАНК \"ТАВРИКА\"","300788",41264,41354,null,null,null,null,null,null,null,null,null,null,"05.2","Добування бурого вугілля",null,null,null,null,null,null,null,null,null,null,null,null,null,null,null,null,null,null,null,null,null,null,null,null,null,null,null,null,"Автономна Республіка Крим","Брянське"]
["Терра банк","ПАТ \"ТЕРРА БАНК\"","380601",41873,41997,null,null,null,null,null,null,null,null,null,null,"05.20","Добування бурого вугілля",null,null,null,null,null,null,null,null,null,null,null,null,null,null,null,null,null,null,null,null,null,null,null,null,null,null,null,null,"Автономна Республіка Крим","Буревісник"]
["ТК Кредит","АТ КБ \"ТК Кредит\"","322830",42410,42468,null,null,null,null,null,null,null,null,null,null,"06","Добування сирої нафти та природного газу",null,null,null,null,null,null,null,null,null,null,null,null,null,null,null,null,null,null,null,null,null,null,null,null,null,null,null,null,"Автономна Республіка Крим","Валентинове (Кримська)"]
["ТРАСТ","ПАТ БАНК \"ТРАСТ\"","380474",42711,42734,null,null,null,null,null,null,null,null,null,null,"06.1","Добування сирої нафти",null,null,null,null,null,null,null,null,null,null,null,null,null,null,null,null,null,null,null,null,null,null,null,null,null,null,null,null,"Автономна Республіка Крим","Варварівка"]
["Укоопспілка","АБ \"УКООПСПІЛКА\"","322625",42027,42117,null,null,null,null,null,null,null,null,null,null,"06.10","Добування сирої нафти",null,null,null,null,null,null,null,null,null,null,null,null,null,null,null,null,null,null,null,null,null,null,null,null,null,null,null,null,"Автономна Республіка Крим","Василькове"]
["Укрбізнесбанк","ПАТ \"УКРБІЗНЕСБАНК\"","334969",41999,42118,null,null,null,null,null,null,null,null,null,null,"06.2","Добування природного газу",null,null,null,null,null,null,null,null,null,null,null,null,null,null,null,null,null,null,null,null,null,null,null,null,null,null,null,null,"Автономна Республіка Крим","Велике (Суворовська)"]
["Укргазпромбанк","ПАТ \"УКРГАЗПРОМБАНК\"","320843",42102,42262,null,null,null,null,null,null,null,null,null,null,"06.20","Добування природного газу",null,null,null,null,null,null,null,null,null,null,null,null,null,null,null,null,null,null,null,null,null,null,null,null,null,null,null,null,"Автономна Республіка Крим","Велике Садове (Куйбишевська)"]
["Укрінбанк","ПАТ \"УКРІНБАНК\"","300142",42363,42452,null,null,null,null,null,null,null,null,null,null,"07","Добування металевих руд",null,null,null,null,null,null,null,null,null,null,null,null,null,null,null,null,null,null,null,null,null,null,null,null,null,null,null,null,"Автономна Республіка Крим","Великосілля"]
["Унікомбанк","ПАТ \"УНІКОМБАНК\"","335902",42293,42342,null,null,null,null,null,null,null,null,null,null,"07.1","Добування залізних руд",null,null,null,null,null,null,null,null,null,null,null,null,null,null,null,null,null,null,null,null,null,null,null,null,null,null,null,null,"Автономна Республіка Крим","Вересаєве"]
["УПБ","ПАТ \"УПБ\"","300205",42153,42247,null,null,null,null,null,null,null,null,null,null,"07.10","Добування залізних руд",null,null,null,null,null,null,null,null,null,null,null,null,null,null,null,null,null,null,null,null,null,null,null,null,null,null,null,null,"Автономна Республіка Крим","Верхні Орішники"]
["УФС","ПАТ \"КБ \"УФС\"","377777",41866,41956,null,null,null,null,null,null,null,null,null,null,"07.2","Добування руд кольорових металів",null,null,null,null,null,null,null,null,null,null,null,null,null,null,null,null,null,null,null,null,null,null,null,null,null,null,null,null,"Автономна Республіка Крим","Верхня Кутузовка"]
["ФІДОБАНК","ПУАТ «ФІДОБАНК»","300175",42510,42571,null,null,null,null,null,null,null,null,null,null,"07.21","Добування уранових і торієвих руд",null,null,null,null,null,null,null,null,null,null,null,null,null,null,null,null,null,null,null,null,null,null,null,null,null,null,null,null,"Автономна Республіка Крим","Верхньозаморське"]
["Фінанси та кредит","АТ \"БАНК \"ФІНАНСИ ТА КРЕДИТ\"","300131",42265,42355,null,null,null,null,null,null,null,null,null,null,"07.29","Добування руд інших кольорових металів",null,null,null,null,null,null,null,null,null,null,null,null,null,null,null,null,null,null,null,null,null,null,null,null,null,null,null,null,"Автономна Республіка Крим","Верхньокурганне"]
["ФІНБАНК","ПАТ \"ФІНБАНК\"","328685",42832,42852,null,null,null,null,null,null,null,null,null,null,"08","Добування інших корисних копалин та розроблення кар'єрів",null,null,null,null,null,null,null,null,null,null,null,null,null,null,null,null,null,null,null,null,null,null,null,null,null,null,null,null,"Автономна Республіка Крим","Верхоріччя"]
["Фінростбанк","АТ \"ФІНРОСТБАНК\"","328599",41836,41928,null,null,null,null,null,null,null,null,null,null,"08.1","Добування каменю, піску та глини",null,null,null,null,null,null,null,null,null,null,null,null,null,null,null,null,null,null,null,null,null,null,null,null,null,null,null,null,"Автономна Республіка Крим","Вершинне"]
["ФОРТУНА-БАНК","АТ \"ФОРТУНА-БАНК\"","300904",42762,42788,null,null,null,null,null,null,null,null,null,null,"08.11","Добування декоративного та будівельного каменю, вапняку, гіпсу, крейди та глинистого сланцю",null,null,null,null,null,null,null,null,null,null,null,null,null,null,null,null,null,null,null,null,null,null,null,null,null,null,null,null,"Автономна Республіка Крим","Веселе"]
["Форум","ПАТ \"БАНК ФОРУМ\"","322948",41712,41806,null,null,null,null,null,null,null,null,null,null,"08.12","Добування піску, гравію, глин і каоліну",null,null,null,null,null,null,null,null,null,null,null,null,null,null,null,null,null,null,null,null,null,null,null,null,null,null,null,null,"Автономна Республіка Крим","Веселівка"]
["Хрещатик","ПАТ \"КБ \"Хрещатик\"","300670",42465,42524,null,null,null,null,null,null,null,null,null,null,"08.9","Добування корисних копалин та розроблення кар'єрів, н.в.і.у.",null,null,null,null,null,null,null,null,null,null,null,null,null,null,null,null,null,null,null,null,null,null,null,null,null,null,null,null,"Автономна Республіка Крим","Видне"]
["Юніон стандарт банк","ПАТ \"ЮСБ БАНК\"","305987",42280,42366,null,null,null,null,null,null,null,null,null,null,"08.91","Добування мінеральної сировини для хімічної промисловості та виробництва мінеральних добрив",null,null,null,null,null,null,null,null,null,null,null,null,null,null,null,null,null,null,null,null,null,null,null,null,null,null,null,null,"Автономна Республіка Крим","Виноградне"]
["Новий","ПАТ АКБ Новий",305062,null,null,null,null,null,null,null,null,null,null,null,null,"08.92","Добування торфу",null,null,null,null,null,null,null,null,null,null,null,null,null,null,null,null,null,null,null,null,null,null,null,null,null,null,null,null,"Автономна Республіка Крим","Виноградний"]
[null,null,null,null,null,null,null,null,null,null,null,null,null,null,null,"08.93","Добування солі",null,null,null,null,null,null,null,null,null,null,null,null,null,null,null,null,null,null,null,null,null,null,null,null,null,null,null,null,"Автономна Республіка Крим","Виноградове"]
[null,null,null,null,null,null,null,null,null,null,null,null,null,null,null,"08.99","Добування інших корисних копалин та розроблення кар'єрів, н.в.і.у.",null,null,null,null,null,null,null,null,null,null,null,null,null,null,null,null,null,null,null,null,null,null,null,null,null,null,null,null,"Автономна Республіка Крим","Випасне"]
[null,null,null,null,null,null,null,null,null,null,null,null,null,null,null,"09","Надання допоміжних послуг у сфері добувної промисловості та розроблення кар'єрів",null,null,null,null,null,null,null,null,null,null,null,null,null,null,null,null,null,null,null,null,null,null,null,null,null,null,null,null,"Автономна Республіка Крим","Високогірне"]
[null,null,null,null,null,null,null,null,null,null,null,null,null,null,null,"09.1","Надання допоміжних послуг у сфері добування нафти та природного газу",null,null,null,null,null,null,null,null,null,null,null,null,null,null,null,null,null,null,null,null,null,null,null,null,null,null,null,null,"Автономна Республіка Крим","Вишенне"]
[null,null,null,null,null,null,null,null,null,null,null,null,null,null,null,"09.10","Надання допоміжних послуг у сфері добування нафти та природного газу",null,null,null,null,null,null,null,null,null,null,null,null,null,null,null,null,null,null,null,null,null,null,null,null,null,null,null,null,"Автономна Республіка Крим","Вишнівка (Вишнівської)"]
[null,null,null,null,null,null,null,null,null,null,null,null,null,null,null,"09.9","Надання допоміжних послуг у сфері добування інших корисних копалин та розроблення кар'єрів",null,null,null,null,null,null,null,null,null,null,null,null,null,null,null,null,null,null,null,null,null,null,null,null,null,null,null,null,"Автономна Республіка Крим","Вишняківка"]
[null,null,null,null,null,null,null,null,null,null,null,null,null,null,null,"09.90","Надання допоміжних послуг у сфері добування інших корисних копалин та розроблення кар'єрів",null,null,null,null,null,null,null,null,null,null,null,null,null,null,null,null,null,null,null,null,null,null,null,null,null,null,null,null,"Автономна Республіка Крим","Відважне"]
[null,null,null,null,null,null,null,null,null,null,null,null,null,null,null,"C","Переробна промисловість",null,null,null,null,null,null,null,null,null,null,null,null,null,null,null,null,null,null,null,null,null,null,null,null,null,null,null,null,"Автономна Республіка Крим","Відкрите"]
[null,null,null,null,null,null,null,null,null,null,null,null,null,null,null,"10","Виробництво харчових продуктів",null,null,null,null,null,null,null,null,null,null,null,null,null,null,null,null,null,null,null,null,null,null,null,null,null,null,null,null,"Автономна Республіка Крим","Відрадне"]
[null,null,null,null,null,null,null,null,null,null,null,null,null,null,null,"10.1","Виробництво м'яса та м'ясних продуктів",null,null,null,null,null,null,null,null,null,null,null,null,null,null,null,null,null,null,null,null,null,null,null,null,null,null,null,null,"Автономна Республіка Крим","Відродження"]
[null,null,null,null,null,null,null,null,null,null,null,null,null,null,null,"10.11","Виробництво м'яса",null,null,null,null,null,null,null,null,null,null,null,null,null,null,null,null,null,null,null,null,null,null,null,null,null,null,null,null,"Автономна Республіка Крим","Вікторівка"]
[null,null,null,null,null,null,null,null,null,null,null,null,null,null,null,"10.12","Виробництво м'яса свійської птиці",null,null,null,null,null,null,null,null,null,null,null,null,null,null,null,null,null,null,null,null,null,null,null,null,null,null,null,null,"Автономна Республіка Крим","Віліне"]
[null,null,null,null,null,null,null,null,null,null,null,null,null,null,null,"10.13","Виробництво м'ясних продуктів",null,null,null,null,null,null,null,null,null,null,null,null,null,null,null,null,null,null,null,null,null,null,null,null,null,null,null,null,"Автономна Республіка Крим","Вільне"]
[null,null,null,null,null,null,null,null,null,null,null,null,null,null,null,"10.2","Перероблення та консервування риби, ракоподібних і молюсків",null,null,null,null,null,null,null,null,null,null,null,null,null,null,null,null,null,null,null,null,null,null,null,null,null,null,null,null,"Автономна Республіка Крим","Вітвисте (Єрмаковська)"]
[null,null,null,null,null,null,null,null,null,null,null,null,null,null,null,"10.20","Перероблення та консервування риби, ракоподібних і молюсків",null,null,null,null,null,null,null,null,null,null,null,null,null,null,null,null,null,null,null,null,null,null,null,null,null,null,null,null,"Автономна Республіка Крим","Вітіне"]
[null,null,null,null,null,null,null,null,null,null,null,null,null,null,null,"10.3","Перероблення та консервування фруктів і овочів",null,null,null,null,null,null,null,null,null,null,null,null,null,null,null,null,null,null,null,null,null,null,null,null,null,null,null,null,"Автономна Республіка Крим","Вітрівка (Виноградівська)"]
[null,null,null,null,null,null,null,null,null,null,null,null,null,null,null,"10.31","Перероблення та консервування картоплі",null,null,null,null,null,null,null,null,null,null,null,null,null,null,null,null,null,null,null,null,null,null,null,null,null,null,null,null,"Автономна Республіка Крим","Вітрянка (Ковильнівська сільська рада)"]
[null,null,null,null,null,null,null,null,null,null,null,null,null,null,null,"10.32","Виробництво фруктових і овочевих соків",null,null,null,null,null,null,null,null,null,null,null,null,null,null,null,null,null,null,null,null,null,null,null,null,null,null,null,null,"Автономна Республіка Крим","Владиславівка"]
[null,null,null,null,null,null,null,null,null,null,null,null,null,null,null,"10.39"," Інші види перероблення та консервування фруктів і овочів",null,null,null,null,null,null,null,null,null,null,null,null,null,null,null,null,null,null,null,null,null,null,null,null,null,null,null,null,"Автономна Республіка Крим","Владне"]
[null,null,null,null,null,null,null,null,null,null,null,null,null,null,null,"10.4","Виробництво олії та тваринних жирів",null,null,null,null,null,null,null,null,null,null,null,null,null,null,null,null,null,null,null,null,null,null,null,null,null,null,null,null,"Автономна Республіка Крим","Внукове"]
[null,null,null,null,null,null,null,null,null,null,null,null,null,null,null,"10.41","Виробництво олії та тваринних жирів",null,null,null,null,null,null,null,null,null,null,null,null,null,null,null,null,null,null,null,null,null,null,null,null,null,null,null,null,"Автономна Республіка Крим","Вогневе (Кольцовська)"]
[null,null,null,null,null,null,null,null,null,null,null,null,null,null,null,"10.42","Виробництво маргарину і подібних харчових жирів",null,null,null,null,null,null,null,null,null,null,null,null,null,null,null,null,null,null,null,null,null,null,null,null,null,null,null,null,"Автономна Республіка Крим","Вогні (Кукушкінська сільська рада)"]
[null,null,null,null,null,null,null,null,null,null,null,null,null,null,null,"10.5","Виробництво молочних продуктів",null,null,null,null,null,null,null,null,null,null,null,null,null,null,null,null,null,null,null,null,null,null,null,null,null,null,null,null,"Автономна Республіка Крим","Водне"]
[null,null,null,null,null,null,null,null,null,null,null,null,null,null,null,"10.51","Перероблення молока, виробництво масла та сиру",null,null,null,null,null,null,null,null,null,null,null,null,null,null,null,null,null,null,null,null,null,null,null,null,null,null,null,null,"Автономна Республіка Крим","Водопійне"]
[null,null,null,null,null,null,null,null,null,null,null,null,null,null,null,"10.52","Виробництво морозива",null,null,null,null,null,null,null,null,null,null,null,null,null,null,null,null,null,null,null,null,null,null,null,null,null,null,null,null,"Автономна Республіка Крим","Водопійне (Сизівська)"]
[null,null,null,null,null,null,null,null,null,null,null,null,null,null,null,"10.6","Виробництво продуктів борошномельно-круп'яної промисловості, крохмалів та крохмальних продуктів",null,null,null,null,null,null,null,null,null,null,null,null,null,null,null,null,null,null,null,null,null,null,null,null,null,null,null,null,"Автономна Республіка Крим","Войкове"]
[null,null,null,null,null,null,null,null,null,null,null,null,null,null,null,"10.61","Виробництво продуктів борошномельно-круп'яної промисловості",null,null,null,null,null,null,null,null,null,null,null,null,null,null,null,null,null,null,null,null,null,null,null,null,null,null,null,null,"Автономна Республіка Крим","Воїнка (Воїнська)"]
[null,null,null,null,null,null,null,null,null,null,null,null,null,null,null,"10.62","Виробництво крохмалів та крохмальних продуктів",null,null,null,null,null,null,null,null,null,null,null,null,null,null,null,null,null,null,null,null,null,null,null,null,null,null,null,null,"Автономна Республіка Крим","Володимирівка"]
[null,null,null,null,null,null,null,null,null,null,null,null,null,null,null,"10.7","Виробництво хліба, хлібобулочних і борошняних виробів",null,null,null,null,null,null,null,null,null,null,null,null,null,null,null,null,null,null,null,null,null,null,null,null,null,null,null,null,"Автономна Республіка Крим","Володимирове"]
[null,null,null,null,null,null,null,null,null,null,null,null,null,null,null,"10.71","Виробництво хліба та хлібобулочних виробів; виробництво борошняних кондитерських виробів, тортів і тістечок нетривалого зберігання",null,null,null,null,null,null,null,null,null,null,null,null,null,null,null,null,null,null,null,null,null,null,null,null,null,null,null,null,"Автономна Республіка Крим","Володине"]
[null,null,null,null,null,null,null,null,null,null,null,null,null,null,null,"10.72","Виробництво сухарів і сухого печива; виробництво борошняних кондитерських виробів, тортів і тістечок тривалого зберігання",null,null,null,null,null,null,null,null,null,null,null,null,null,null,null,null,null,null,null,null,null,null,null,null,null,null,null,null,"Автономна Республіка Крим","Волочаївка (Ковильнівська сільська рада)"]
[null,null,null,null,null,null,null,null,null,null,null,null,null,null,null,"10.73","Виробництво макаронних виробів та подібних борошняних виробів",null,null,null,null,null,null,null,null,null,null,null,null,null,null,null,null,null,null,null,null,null,null,null,null,null,null,null,null,"Автономна Республіка Крим","Волошине (Суворівської)"]
[null,null,null,null,null,null,null,null,null,null,null,null,null,null,null,"10.8","Виробництво інших харчових продуктів",null,null,null,null,null,null,null,null,null,null,null,null,null,null,null,null,null,null,null,null,null,null,null,null,null,null,null,null,"Автономна Республіка Крим","Воробйове"]
[null,null,null,null,null,null,null,null,null,null,null,null,null,null,null,"10.81","Виробництво цукру",null,null,null,null,null,null,null,null,null,null,null,null,null,null,null,null,null,null,null,null,null,null,null,null,null,null,null,null,"Автономна Республіка Крим","Ворон"]
[null,null,null,null,null,null,null,null,null,null,null,null,null,null,null,"10.82","Виробництво какао, шоколаду та цукрових кондитерських виробів",null,null,null,null,null,null,null,null,null,null,null,null,null,null,null,null,null,null,null,null,null,null,null,null,null,null,null,null,"Автономна Республіка Крим","Воронки (Зиминська сільська рада)"]
[null,null,null,null,null,null,null,null,null,null,null,null,null,null,null,"10.83","Виробництво чаю та кави",null,null,null,null,null,null,null,null,null,null,null,null,null,null,null,null,null,null,null,null,null,null,null,null,null,null,null,null,"Автономна Республіка Крим","Воронцівка (Ільїнської)"]
[null,null,null,null,null,null,null,null,null,null,null,null,null,null,null,"10.84","Виробництво прянощів і приправ",null,null,null,null,null,null,null,null,null,null,null,null,null,null,null,null,null,null,null,null,null,null,null,null,null,null,null,null,"Автономна Республіка Крим","Восточне"]
[null,null,null,null,null,null,null,null,null,null,null,null,null,null,null,"10.85","Виробництво готової їжі та страв",null,null,null,null,null,null,null,null,null,null,null,null,null,null,null,null,null,null,null,null,null,null,null,null,null,null,null,null,"Автономна Республіка Крим","Восход"]
[null,null,null,null,null,null,null,null,null,null,null,null,null,null,null,"10.86","Виробництво дитячого харчування та дієтичних харчових продуктів",null,null,null,null,null,null,null,null,null,null,null,null,null,null,null,null,null,null,null,null,null,null,null,null,null,null,null,null,"Автономна Республіка Крим","Вузлове"]
[null,null,null,null,null,null,null,null,null,null,null,null,null,null,null,"10.89","Виробництво інших харчових продуктів, н.в.і.у.",null,null,null,null,null,null,null,null,null,null,null,null,null,null,null,null,null,null,null,null,null,null,null,null,null,null,null,null,"Автономна Республіка Крим","Вулканівка"]
[null,null,null,null,null,null,null,null,null,null,null,null,null,null,null,"10.9","Виробництво готових кормів для тварин",null,null,null,null,null,null,null,null,null,null,null,null,null,null,null,null,null,null,null,null,null,null,null,null,null,null,null,null,"Автономна Республіка Крим","В'язникове"]
[null,null,null,null,null,null,null,null,null,null,null,null,null,null,null,"10.91","Виробництво готових кормів для тварин, що утримуються на фермах",null,null,null,null,null,null,null,null,null,null,null,null,null,null,null,null,null,null,null,null,null,null,null,null,null,null,null,null,"Автономна Республіка Крим","Гаршине"]
[null,null,null,null,null,null,null,null,null,null,null,null,null,null,null,"10.92","Виробництво готових кормів для домашніх тварин",null,null,null,null,null,null,null,null,null,null,null,null,null,null,null,null,null,null,null,null,null,null,null,null,null,null,null,null,"Автономна Республіка Крим","Гаспра"]
[null,null,null,null,null,null,null,null,null,null,null,null,null,null,null,"11","Виробництво напоїв",null,null,null,null,null,null,null,null,null,null,null,null,null,null,null,null,null,null,null,null,null,null,null,null,null,null,null,null,"Автономна Республіка Крим","Гвардійське (Гвардійської)"]
[null,null,null,null,null,null,null,null,null,null,null,null,null,null,null,"11.0","Виробництво напоїв",null,null,null,null,null,null,null,null,null,null,null,null,null,null,null,null,null,null,null,null,null,null,null,null,null,null,null,null,"Автономна Республіка Крим","Генеральське"]
[null,null,null,null,null,null,null,null,null,null,null,null,null,null,null,"11.01","Дистиляція, ректифікація та змішування спиртних напоїв",null,null,null,null,null,null,null,null,null,null,null,null,null,null,null,null,null,null,null,null,null,null,null,null,null,null,null,null,"Автономна Республіка Крим","Геройське"]
[null,null,null,null,null,null,null,null,null,null,null,null,null,null,null,"11.02","Виробництво виноградних вин",null,null,null,null,null,null,null,null,null,null,null,null,null,null,null,null,null,null,null,null,null,null,null,null,null,null,null,null,"Автономна Республіка Крим","Гірне"]
[null,null,null,null,null,null,null,null,null,null,null,null,null,null,null,"11.03","Виробництво сидру та інших плодово-ягідних вин",null,null,null,null,null,null,null,null,null,null,null,null,null,null,null,null,null,null,null,null,null,null,null,null,null,null,null,null,"Автономна Республіка Крим","Глазівка"]
[null,null,null,null,null,null,null,null,null,null,null,null,null,null,null,"11.04","Виробництво інших недистильованих напоїв із зброджуваних продуктів",null,null,null,null,null,null,null,null,null,null,null,null,null,null,null,null,null,null,null,null,null,null,null,null,null,null,null,null,"Автономна Республіка Крим","Глибокий Яр"]
[null,null,null,null,null,null,null,null,null,null,null,null,null,null,null,"11.05","Виробництво пива",null,null,null,null,null,null,null,null,null,null,null,null,null,null,null,null,null,null,null,null,null,null,null,null,null,null,null,null,"Автономна Республіка Крим","Глінка (Вересаєвська сільська рада)"]
[null,null,null,null,null,null,null,null,null,null,null,null,null,null,null,"11.06","Виробництво солоду",null,null,null,null,null,null,null,null,null,null,null,null,null,null,null,null,null,null,null,null,null,null,null,null,null,null,null,null,"Автономна Республіка Крим","Голованівка"]
[null,null,null,null,null,null,null,null,null,null,null,null,null,null,null,"11.07","Виробництво безалкогольних напоїв; виробництво мінеральних вод та інших вод, розлитих у пляшки",null,null,null,null,null,null,null,null,null,null,null,null,null,null,null,null,null,null,null,null,null,null,null,null,null,null,null,null,"Автономна Республіка Крим","Голуба Затока"]
[null,null,null,null,null,null,null,null,null,null,null,null,null,null,null,"12","Виробництво тютюнових виробів",null,null,null,null,null,null,null,null,null,null,null,null,null,null,null,null,null,null,null,null,null,null,null,null,null,null,null,null,"Автономна Республіка Крим","Голубинка"]
[null,null,null,null,null,null,null,null,null,null,null,null,null,null,null,"12.0","Виробництво тютюнових виробів",null,null,null,null,null,null,null,null,null,null,null,null,null,null,null,null,null,null,null,null,null,null,null,null,null,null,null,null,"Автономна Республіка Крим","Горлинка"]
[null,null,null,null,null,null,null,null,null,null,null,null,null,null,null,"12.00","Виробництво тютюнових виробів",null,null,null,null,null,null,null,null,null,null,null,null,null,null,null,null,null,null,null,null,null,null,null,null,null,null,null,null,"Автономна Республіка Крим","Горностаївка"]
[null,null,null,null,null,null,null,null,null,null,null,null,null,null,null,"13","Текстильне виробництво",null,null,null,null,null,null,null,null,null,null,null,null,null,null,null,null,null,null,null,null,null,null,null,null,null,null,null,null,"Автономна Республіка Крим","Городнє (Руч'ївська сільська рада)"]
[null,null,null,null,null,null,null,null,null,null,null,null,null,null,null,"13.1","Підготування та прядіння текстильних волокон",null,null,null,null,null,null,null,null,null,null,null,null,null,null,null,null,null,null,null,null,null,null,null,null,null,null,null,null,"Автономна Республіка Крим","Гресівський"]
[null,null,null,null,null,null,null,null,null,null,null,null,null,null,null,"13.10","Підготування та прядіння текстильних волокон",null,null,null,null,null,null,null,null,null,null,null,null,null,null,null,null,null,null,null,null,null,null,null,null,null,null,null,null,"Автономна Республіка Крим","Григорівка"]
[null,null,null,null,null,null,null,null,null,null,null,null,null,null,null,"13.2","Ткацьке виробництво",null,null,null,null,null,null,null,null,null,null,null,null,null,null,null,null,null,null,null,null,null,null,null,null,null,null,null,null,"Автономна Республіка Крим","Гришине (Гришинської)"]
[null,null,null,null,null,null,null,null,null,null,null,null,null,null,null,"13.20","Ткацьке виробництво",null,null,null,null,null,null,null,null,null,null,null,null,null,null,null,null,null,null,null,null,null,null,null,null,null,null,null,null,"Автономна Республіка Крим","Громівка"]
[null,null,null,null,null,null,null,null,null,null,null,null,null,null,null,"13.3","Оздоблення текстильних виробів",null,null,null,null,null,null,null,null,null,null,null,null,null,null,null,null,null,null,null,null,null,null,null,null,null,null,null,null,"Автономна Республіка Крим","Громове"]
[null,null,null,null,null,null,null,null,null,null,null,null,null,null,null,"13.30","Оздоблення текстильних виробів",null,null,null,null,null,null,null,null,null,null,null,null,null,null,null,null,null,null,null,null,null,null,null,null,null,null,null,null,"Автономна Республіка Крим","Громовка"]
[null,null,null,null,null,null,null,null,null,null,null,null,null,null,null,"13.9","Виробництво інших текстильних виробів",null,null,null,null,null,null,null,null,null,null,null,null,null,null,null,null,null,null,null,null,null,null,null,null,null,null,null,null,"Автономна Республіка Крим","Грушеве"]
[null,null,null,null,null,null,null,null,null,null,null,null,null,null,null,"13.91","Виробництво трикотажного полотна",null,null,null,null,null,null,null,null,null,null,null,null,null,null,null,null,null,null,null,null,null,null,null,null,null,null,null,null,"Автономна Республіка Крим","Грушівка"]
[null,null,null,null,null,null,null,null,null,null,null,null,null,null,null,"13.92","Виробництво готових текстильних виробів, крім одягу",null,null,null,null,null,null,null,null,null,null,null,null,null,null,null,null,null,null,null,null,null,null,null,null,null,null,null,null,"Автономна Республіка Крим","Гурзуф"]
[null,null,null,null,null,null,null,null,null,null,null,null,null,null,null,"13.93","Виробництво килимів і килимових виробів",null,null,null,null,null,null,null,null,null,null,null,null,null,null,null,null,null,null,null,null,null,null,null,null,null,null,null,null,"Автономна Республіка Крим","Давидове"]
[null,null,null,null,null,null,null,null,null,null,null,null,null,null,null,"13.94","Виробництво канатів, мотузок, шпагату та сіток",null,null,null,null,null,null,null,null,null,null,null,null,null,null,null,null,null,null,null,null,null,null,null,null,null,null,null,null,"Автономна Республіка Крим","Далеке"]
[null,null,null,null,null,null,null,null,null,null,null,null,null,null,null,"13.95","Виробництво нетканих текстильних матеріалів та виробів із них, крім одягу",null,null,null,null,null,null,null,null,null,null,null,null,null,null,null,null,null,null,null,null,null,null,null,null,null,null,null,null,"Автономна Республіка Крим","Данилівка"]
[null,null,null,null,null,null,null,null,null,null,null,null,null,null,null,"13.96","Виробництво інших текстильних виробів технічного та промислового призначення",null,null,null,null,null,null,null,null,null,null,null,null,null,null,null,null,null,null,null,null,null,null,null,null,null,null,null,null,"Автономна Республіка Крим","Дачне"]
[null,null,null,null,null,null,null,null,null,null,null,null,null,null,null,"13.99","Виробництво інших текстильних виробів, н.в.і.у.",null,null,null,null,null,null,null,null,null,null,null,null,null,null,null,null,null,null,null,null,null,null,null,null,null,null,null,null,"Автономна Республіка Крим","Дворіччя"]
[null,null,null,null,null,null,null,null,null,null,null,null,null,null,null,"14","Виробництво одягу",null,null,null,null,null,null,null,null,null,null,null,null,null,null,null,null,null,null,null,null,null,null,null,null,null,null,null,null,"Автономна Республіка Крим","Дворове"]
[null,null,null,null,null,null,null,null,null,null,null,null,null,null,null,"14.1","Виробництво одягу, крім хутряного",null,null,null,null,null,null,null,null,null,null,null,null,null,null,null,null,null,null,null,null,null,null,null,null,null,null,null,null,"Автономна Республіка Крим","Дем'янівка"]
[null,null,null,null,null,null,null,null,null,null,null,null,null,null,null,"14.11","Виробництво одягу зі шкіри",null,null,null,null,null,null,null,null,null,null,null,null,null,null,null,null,null,null,null,null,null,null,null,null,null,null,null,null,"Автономна Республіка Крим","Денисівка"]
[null,null,null,null,null,null,null,null,null,null,null,null,null,null,null,"14.12","Виробництво робочого одягу",null,null,null,null,null,null,null,null,null,null,null,null,null,null,null,null,null,null,null,null,null,null,null,null,null,null,null,null,"Автономна Республіка Крим","Джанкой"]
[null,null,null,null,null,null,null,null,null,null,null,null,null,null,null,"14.13","Виробництво іншого верхнього одягу",null,null,null,null,null,null,null,null,null,null,null,null,null,null,null,null,null,null,null,null,null,null,null,null,null,null,null,null,"Автономна Республіка Крим","Дивне"]
[null,null,null,null,null,null,null,null,null,null,null,null,null,null,null,"14.14","Виробництво спіднього одягу",null,null,null,null,null,null,null,null,null,null,null,null,null,null,null,null,null,null,null,null,null,null,null,null,null,null,null,null,"Автономна Республіка Крим","Дібрівка"]
[null,null,null,null,null,null,null,null,null,null,null,null,null,null,null,"14.19","Виробництво іншого одягу й аксесуарів",null,null,null,null,null,null,null,null,null,null,null,null,null,null,null,null,null,null,null,null,null,null,null,null,null,null,null,null,"Автономна Республіка Крим","Дібрівське"]
[null,null,null,null,null,null,null,null,null,null,null,null,null,null,null,"14.2","Виготовлення виробів із хутра",null,null,null,null,null,null,null,null,null,null,null,null,null,null,null,null,null,null,null,null,null,null,null,null,null,null,null,null,"Автономна Республіка Крим","Дмитрівка"]
[null,null,null,null,null,null,null,null,null,null,null,null,null,null,null,"14.20","Виготовлення виробів із хутра",null,null,null,null,null,null,null,null,null,null,null,null,null,null,null,null,null,null,null,null,null,null,null,null,null,null,null,null,"Автономна Республіка Крим","Дмитрівка (Войковське)"]
[null,null,null,null,null,null,null,null,null,null,null,null,null,null,null,"14.3","Виробництво трикотажного та в'язаного одягу",null,null,null,null,null,null,null,null,null,null,null,null,null,null,null,null,null,null,null,null,null,null,null,null,null,null,null,null,"Автономна Республіка Крим","Дмитрове"]
[null,null,null,null,null,null,null,null,null,null,null,null,null,null,null,"14.31","Виробництво панчішно-шкарпеткових виробів",null,null,null,null,null,null,null,null,null,null,null,null,null,null,null,null,null,null,null,null,null,null,null,null,null,null,null,null,"Автономна Республіка Крим","Дніпровка"]
[null,null,null,null,null,null,null,null,null,null,null,null,null,null,null,"14.39","Виробництво іншого трикотажного та в'язаного одягу",null,null,null,null,null,null,null,null,null,null,null,null,null,null,null,null,null,null,null,null,null,null,null,null,null,null,null,null,"Автономна Республіка Крим","Добре"]
[null,null,null,null,null,null,null,null,null,null,null,null,null,null,null,"15","Виробництво шкіри, виробів зі шкіри та інших матеріалів",null,null,null,null,null,null,null,null,null,null,null,null,null,null,null,null,null,null,null,null,null,null,null,null,null,null,null,null,"Автономна Республіка Крим","Добролюбовка"]
[null,null,null,null,null,null,null,null,null,null,null,null,null,null,null,"15.1","Дублення шкур і оздоблення шкіри; виробництво дорожніх виробів, сумок, лимарно-сідельних виробів; вичинка та фарбування хутра",null,null,null,null,null,null,null,null,null,null,null,null,null,null,null,null,null,null,null,null,null,null,null,null,null,null,null,null,"Автономна Республіка Крим","Добрушине"]
[null,null,null,null,null,null,null,null,null,null,null,null,null,null,null,"15.11","Дублення шкур і оздоблення шкіри; вичинка та фарбування хутра",null,null,null,null,null,null,null,null,null,null,null,null,null,null,null,null,null,null,null,null,null,null,null,null,null,null,null,null,"Автономна Республіка Крим","Дозорне"]
[null,null,null,null,null,null,null,null,null,null,null,null,null,null,null,"15.12","Виробництво дорожніх виробів, сумок, лимарно-сідельних виробів зі шкіри та інших матеріалів",null,null,null,null,null,null,null,null,null,null,null,null,null,null,null,null,null,null,null,null,null,null,null,null,null,null,null,null,"Автономна Республіка Крим","Докучаєве"]
[null,null,null,null,null,null,null,null,null,null,null,null,null,null,null,"15.2","Виробництво взуття",null,null,null,null,null,null,null,null,null,null,null,null,null,null,null,null,null,null,null,null,null,null,null,null,null,null,null,null,"Автономна Республіка Крим","Долинівка"]
[null,null,null,null,null,null,null,null,null,null,null,null,null,null,null,"15.20","Виробництво взуття",null,null,null,null,null,null,null,null,null,null,null,null,null,null,null,null,null,null,null,null,null,null,null,null,null,null,null,null,"Автономна Республіка Крим","Долинка (Митяївська)"]
[null,null,null,null,null,null,null,null,null,null,null,null,null,null,null,"16","Оброблення деревини та виготовлення виробів з деревини та корка, крім меблів; виготовлення виробів із соломки та рослинних матеріалів для плетіння",null,null,null,null,null,null,null,null,null,null,null,null,null,null,null,null,null,null,null,null,null,null,null,null,null,null,null,null,"Автономна Республіка Крим","Долинка (Новопавлівської)"]
[null,null,null,null,null,null,null,null,null,null,null,null,null,null,null,"16.1","Лісопильне та стругальне виробництво",null,null,null,null,null,null,null,null,null,null,null,null,null,null,null,null,null,null,null,null,null,null,null,null,null,null,null,null,"Автономна Республіка Крим","Долинне"]
[null,null,null,null,null,null,null,null,null,null,null,null,null,null,null,"16.10","Лісопильне та стругальне виробництво",null,null,null,null,null,null,null,null,null,null,null,null,null,null,null,null,null,null,null,null,null,null,null,null,null,null,null,null,"Автономна Республіка Крим","Донське"]
[null,null,null,null,null,null,null,null,null,null,null,null,null,null,null,"16.2","Виготовлення виробів з деревини, корка, соломки та рослинних матеріалів для плетіння",null,null,null,null,null,null,null,null,null,null,null,null,null,null,null,null,null,null,null,null,null,null,null,null,null,null,null,null,"Автономна Республіка Крим","Дорожнє"]
[null,null,null,null,null,null,null,null,null,null,null,null,null,null,null,"16.21","Виробництво фанери, дерев'яних плит і панелей, шпону",null,null,null,null,null,null,null,null,null,null,null,null,null,null,null,null,null,null,null,null,null,null,null,null,null,null,null,null,"Автономна Республіка Крим","Доходне"]
[null,null,null,null,null,null,null,null,null,null,null,null,null,null,null,"16.22","Виробництво щитового паркету",null,null,null,null,null,null,null,null,null,null,null,null,null,null,null,null,null,null,null,null,null,null,null,null,null,null,null,null,"Автономна Республіка Крим","Дрофине"]
[null,null,null,null,null,null,null,null,null,null,null,null,null,null,null,"16.23","Виробництво інших дерев'яних будівельних конструкцій і столярних виробів",null,null,null,null,null,null,null,null,null,null,null,null,null,null,null,null,null,null,null,null,null,null,null,null,null,null,null,null,"Автономна Республіка Крим","Дружне"]
[null,null,null,null,null,null,null,null,null,null,null,null,null,null,null,"16.24","Виробництво дерев'яної тари",null,null,null,null,null,null,null,null,null,null,null,null,null,null,null,null,null,null,null,null,null,null,null,null,null,null,null,null,"Автономна Республіка Крим","Дубки"]
[null,null,null,null,null,null,null,null,null,null,null,null,null,null,null,"16.29","Виробництво інших виробів з деревини; виготовлення виробів з корка, соломки та рослинних матеріалів для плетіння",null,null,null,null,null,null,null,null,null,null,null,null,null,null,null,null,null,null,null,null,null,null,null,null,null,null,null,null,"Автономна Республіка Крим","Дятлівка"]
[null,null,null,null,null,null,null,null,null,null,null,null,null,null,null,"17","Виробництво паперу та паперових виробів",null,null,null,null,null,null,null,null,null,null,null,null,null,null,null,null,null,null,null,null,null,null,null,null,null,null,null,null,"Автономна Республіка Крим","Євпаторія"]
[null,null,null,null,null,null,null,null,null,null,null,null,null,null,null,"17.1","Виробництво паперової маси, паперу та картону",null,null,null,null,null,null,null,null,null,null,null,null,null,null,null,null,null,null,null,null,null,null,null,null,null,null,null,null,"Автономна Республіка Крим","Єгорове"]
[null,null,null,null,null,null,null,null,null,null,null,null,null,null,null,"17.11","Виробництво паперової маси",null,null,null,null,null,null,null,null,null,null,null,null,null,null,null,null,null,null,null,null,null,null,null,null,null,null,null,null,"Автономна Республіка Крим","Єлизаветове"]
[null,null,null,null,null,null,null,null,null,null,null,null,null,null,null,"17.12","Виробництво паперу та картону",null,null,null,null,null,null,null,null,null,null,null,null,null,null,null,null,null,null,null,null,null,null,null,null,null,null,null,null,"Автономна Республіка Крим","Єрмакове"]
[null,null,null,null,null,null,null,null,null,null,null,null,null,null,null,"17.2","Виготовлення виробів з паперу та картону",null,null,null,null,null,null,null,null,null,null,null,null,null,null,null,null,null,null,null,null,null,null,null,null,null,null,null,null,"Автономна Республіка Крим","Єрофєєве"]
[null,null,null,null,null,null,null,null,null,null,null,null,null,null,null,"17.21","Виробництво гофрованого паперу та картону, паперової та картонної тари",null,null,null,null,null,null,null,null,null,null,null,null,null,null,null,null,null,null,null,null,null,null,null,null,null,null,null,null,"Автономна Республіка Крим","Жайворонки"]
[null,null,null,null,null,null,null,null,null,null,null,null,null,null,null,"17.22","Виробництво паперових виробів господарсько-побутового та санітарно-гігієнічного призначення",null,null,null,null,null,null,null,null,null,null,null,null,null,null,null,null,null,null,null,null,null,null,null,null,null,null,null,null,"Автономна Республіка Крим","Желябовка"]
[null,null,null,null,null,null,null,null,null,null,null,null,null,null,null,"17.23","Виробництво паперових канцелярських  виробів",null,null,null,null,null,null,null,null,null,null,null,null,null,null,null,null,null,null,null,null,null,null,null,null,null,null,null,null,"Автономна Республіка Крим","Жемчужина"]
[null,null,null,null,null,null,null,null,null,null,null,null,null,null,null,"17.24","Виробництво шпалер",null,null,null,null,null,null,null,null,null,null,null,null,null,null,null,null,null,null,null,null,null,null,null,null,null,null,null,null,"Автономна Республіка Крим","Жемчужина Криму"]
[null,null,null,null,null,null,null,null,null,null,null,null,null,null,null,"17.29","Виробництво інших виробів з паперу та картону",null,null,null,null,null,null,null,null,null,null,null,null,null,null,null,null,null,null,null,null,null,null,null,null,null,null,null,null,"Автономна Республіка Крим","Живописне"]
[null,null,null,null,null,null,null,null,null,null,null,null,null,null,null,"18","Поліграфічна діяльність, тиражування записаної інформації",null,null,null,null,null,null,null,null,null,null,null,null,null,null,null,null,null,null,null,null,null,null,null,null,null,null,null,null,"Автономна Республіка Крим","Жилине"]
[null,null,null,null,null,null,null,null,null,null,null,null,null,null,null,"18.1","Поліграфічна діяльність і надання пов'язаних із нею послуг",null,null,null,null,null,null,null,null,null,null,null,null,null,null,null,null,null,null,null,null,null,null,null,null,null,null,null,null,"Автономна Республіка Крим","Жовтокам'янка (Суворовська)"]
[null,null,null,null,null,null,null,null,null,null,null,null,null,null,null,"18.11","Друкування газет",null,null,null,null,null,null,null,null,null,null,null,null,null,null,null,null,null,null,null,null,null,null,null,null,null,null,null,null,"Автономна Республіка Крим","Журавки"]
[null,null,null,null,null,null,null,null,null,null,null,null,null,null,null,"18.12","Друкування іншої продукції",null,null,null,null,null,null,null,null,null,null,null,null,null,null,null,null,null,null,null,null,null,null,null,null,null,null,null,null,"Автономна Республіка Крим","Журавлі"]
[null,null,null,null,null,null,null,null,null,null,null,null,null,null,null,"18.13","Виготовлення друкарських форм і надання інших поліграфічних послуг",null,null,null,null,null,null,null,null,null,null,null,null,null,null,null,null,null,null,null,null,null,null,null,null,null,null,null,null,"Автономна Республіка Крим","Журавлівка"]
[null,null,null,null,null,null,null,null,null,null,null,null,null,null,null,"18.14","Брошурувально-палітурна діяльність і надання пов'язаних із нею послуг",null,null,null,null,null,null,null,null,null,null,null,null,null,null,null,null,null,null,null,null,null,null,null,null,null,null,null,null,"Автономна Республіка Крим","Завіт-Ленінський"]
[null,null,null,null,null,null,null,null,null,null,null,null,null,null,null,"18.2","Тиражування звуко-, відеозаписів і програмного забезпечення",null,null,null,null,null,null,null,null,null,null,null,null,null,null,null,null,null,null,null,null,null,null,null,null,null,null,null,null,"Автономна Республіка Крим","Завітне"]
[null,null,null,null,null,null,null,null,null,null,null,null,null,null,null,"18.20","Тиражування звуко-, відеозаписів і програмного забезпечення",null,null,null,null,null,null,null,null,null,null,null,null,null,null,null,null,null,null,null,null,null,null,null,null,null,null,null,null,"Автономна Республіка Крим","Заводське"]
[null,null,null,null,null,null,null,null,null,null,null,null,null,null,null,"19","Виробництво коксу та продуктів нафтоперероблення",null,null,null,null,null,null,null,null,null,null,null,null,null,null,null,null,null,null,null,null,null,null,null,null,null,null,null,null,"Автономна Республіка Крим","Задорне"]
[null,null,null,null,null,null,null,null,null,null,null,null,null,null,null,"19.1","Виробництво коксу та коксопродуктів",null,null,null,null,null,null,null,null,null,null,null,null,null,null,null,null,null,null,null,null,null,null,null,null,null,null,null,null,"Автономна Республіка Крим","Зайцеве"]
[null,null,null,null,null,null,null,null,null,null,null,null,null,null,null,"19.10","Виробництво коксу та коксопродуктів",null,null,null,null,null,null,null,null,null,null,null,null,null,null,null,null,null,null,null,null,null,null,null,null,null,null,null,null,"Автономна Республіка Крим","Заливне"]
[null,null,null,null,null,null,null,null,null,null,null,null,null,null,null,"19.2","Виробництво продуктів нафтоперероблення",null,null,null,null,null,null,null,null,null,null,null,null,null,null,null,null,null,null,null,null,null,null,null,null,null,null,null,null,"Автономна Республіка Крим","Залізничне"]
[null,null,null,null,null,null,null,null,null,null,null,null,null,null,null,"19.20","Виробництво продуктів нафтоперероблення",null,null,null,null,null,null,null,null,null,null,null,null,null,null,null,null,null,null,null,null,null,null,null,null,null,null,null,null,"Автономна Республіка Крим","Залісне"]
[null,null,null,null,null,null,null,null,null,null,null,null,null,null,null,"20","Виробництво хімічних речовин і хімічної продукції",null,null,null,null,null,null,null,null,null,null,null,null,null,null,null,null,null,null,null,null,null,null,null,null,null,null,null,null,"Автономна Республіка Крим","Залісся"]
[null,null,null,null,null,null,null,null,null,null,null,null,null,null,null,"20.1","Виробництво основної хімічної продукції, добрив і азотних сполук, пластмас і синтетичного каучуку в первинних формах",null,null,null,null,null,null,null,null,null,null,null,null,null,null,null,null,null,null,null,null,null,null,null,null,null,null,null,null,"Автономна Республіка Крим","Заозерне"]
[null,null,null,null,null,null,null,null,null,null,null,null,null,null,null,"20.11","Виробництво промислових газів",null,null,null,null,null,null,null,null,null,null,null,null,null,null,null,null,null,null,null,null,null,null,null,null,null,null,null,null,"Автономна Республіка Крим","Запрудне"]
[null,null,null,null,null,null,null,null,null,null,null,null,null,null,null,"20.12","Виробництво барвників і пігментів",null,null,null,null,null,null,null,null,null,null,null,null,null,null,null,null,null,null,null,null,null,null,null,null,null,null,null,null,"Автономна Республіка Крим","Зарічне"]
[null,null,null,null,null,null,null,null,null,null,null,null,null,null,null,"20.13","Виробництво інших основних неорганічних хімічних речовин",null,null,null,null,null,null,null,null,null,null,null,null,null,null,null,null,null,null,null,null,null,null,null,null,null,null,null,null,"Автономна Республіка Крим","Заріччя"]
[null,null,null,null,null,null,null,null,null,null,null,null,null,null,null,"20.14","Виробництво інших основних органічних хімічних речовин",null,null,null,null,null,null,null,null,null,null,null,null,null,null,null,null,null,null,null,null,null,null,null,null,null,null,null,null,"Автономна Республіка Крим","Затишне"]
[null,null,null,null,null,null,null,null,null,null,null,null,null,null,null,"20.15","Виробництво добрив і азотних сполук",null,null,null,null,null,null,null,null,null,null,null,null,null,null,null,null,null,null,null,null,null,null,null,null,null,null,null,null,"Автономна Республіка Крим","Звіздне"]
[null,null,null,null,null,null,null,null,null,null,null,null,null,null,null,"20.16","Виробництво пластмас у первинних формах",null,null,null,null,null,null,null,null,null,null,null,null,null,null,null,null,null,null,null,null,null,null,null,null,null,null,null,null,"Автономна Республіка Крим","Зелена Нива (Вишнівської)"]
[null,null,null,null,null,null,null,null,null,null,null,null,null,null,null,"20.17","Виробництво синтетичного каучуку в первинних формах",null,null,null,null,null,null,null,null,null,null,null,null,null,null,null,null,null,null,null,null,null,null,null,null,null,null,null,null,"Автономна Республіка Крим","Зелене"]
[null,null,null,null,null,null,null,null,null,null,null,null,null,null,null,"20.2","Виробництво пестицидів та іншої агрохімічної продукції",null,null,null,null,null,null,null,null,null,null,null,null,null,null,null,null,null,null,null,null,null,null,null,null,null,null,null,null,"Автономна Республіка Крим","Зелений Яр"]
[null,null,null,null,null,null,null,null,null,null,null,null,null,null,null,"20.20","Виробництво пестицидів та іншої агрохімічної продукції",null,null,null,null,null,null,null,null,null,null,null,null,null,null,null,null,null,null,null,null,null,null,null,null,null,null,null,null,"Автономна Республіка Крим","Зеленогірське"]
[null,null,null,null,null,null,null,null,null,null,null,null,null,null,null,"20.3","Виробництво фарб, лаків і подібної продукції, друкарської фарби та мастик",null,null,null,null,null,null,null,null,null,null,null,null,null,null,null,null,null,null,null,null,null,null,null,null,null,null,null,null,"Автономна Республіка Крим","Зеленогір'я"]
[null,null,null,null,null,null,null,null,null,null,null,null,null,null,null,"20.30","Виробництво фарб, лаків і подібної продукції, друкарської фарби та мастик",null,null,null,null,null,null,null,null,null,null,null,null,null,null,null,null,null,null,null,null,null,null,null,null,null,null,null,null,"Автономна Республіка Крим","Земляничне"]
[null,null,null,null,null,null,null,null,null,null,null,null,null,null,null,"20.4","Виробництво мила та мийних засобів, засобів для чищення та полірування, парфумних і косметичних засобів",null,null,null,null,null,null,null,null,null,null,null,null,null,null,null,null,null,null,null,null,null,null,null,null,null,null,null,null,"Автономна Республіка Крим","Зернове"]
[null,null,null,null,null,null,null,null,null,null,null,null,null,null,null,"20.41","Виробництво мила та мийних засобів, засобів для чищення та полірування",null,null,null,null,null,null,null,null,null,null,null,null,null,null,null,null,null,null,null,null,null,null,null,null,null,null,null,null,"Автономна Республіка Крим","Зибини"]
[null,null,null,null,null,null,null,null,null,null,null,null,null,null,null,"20.42","Виробництво парфумних і косметичних засобів",null,null,null,null,null,null,null,null,null,null,null,null,null,null,null,null,null,null,null,null,null,null,null,null,null,null,null,null,"Автономна Республіка Крим","Зимине"]
[null,null,null,null,null,null,null,null,null,null,null,null,null,null,null,"20.5","Виробництво іншої хімічної продукції",null,null,null,null,null,null,null,null,null,null,null,null,null,null,null,null,null,null,null,null,null,null,null,null,null,null,null,null,"Автономна Республіка Крим","Знам'янка"]
[null,null,null,null,null,null,null,null,null,null,null,null,null,null,null,"20.51","Виробництво вибухових речовин",null,null,null,null,null,null,null,null,null,null,null,null,null,null,null,null,null,null,null,null,null,null,null,null,null,null,null,null,"Автономна Республіка Крим","Знам'янка (Орлівської)"]
[null,null,null,null,null,null,null,null,null,null,null,null,null,null,null,"20.52","Виробництво клеїв",null,null,null,null,null,null,null,null,null,null,null,null,null,null,null,null,null,null,null,null,null,null,null,null,null,null,null,null,"Автономна Республіка Крим","Знам'янське"]
[null,null,null,null,null,null,null,null,null,null,null,null,null,null,null,"20.53","Виробництво ефірних олій",null,null,null,null,null,null,null,null,null,null,null,null,null,null,null,null,null,null,null,null,null,null,null,null,null,null,null,null,"Автономна Республіка Крим","Золоте"]
[null,null,null,null,null,null,null,null,null,null,null,null,null,null,null,"20.59","Виробництво іншої хімічної продукції, н.в.і.у.",null,null,null,null,null,null,null,null,null,null,null,null,null,null,null,null,null,null,null,null,null,null,null,null,null,null,null,null,"Автономна Республіка Крим","Золоте  Поле"]
[null,null,null,null,null,null,null,null,null,null,null,null,null,null,null,"20.6","Виробництво штучних і синтетичних волокон",null,null,null,null,null,null,null,null,null,null,null,null,null,null,null,null,null,null,null,null,null,null,null,null,null,null,null,null,"Автономна Республіка Крим","Зоркіне"]
[null,null,null,null,null,null,null,null,null,null,null,null,null,null,null,"20.60","Виробництво штучних і синтетичних волокон",null,null,null,null,null,null,null,null,null,null,null,null,null,null,null,null,null,null,null,null,null,null,null,null,null,null,null,null,"Автономна Республіка Крим","Зоря"]
[null,null,null,null,null,null,null,null,null,null,null,null,null,null,null,"21","Виробництво основних фармацевтичних продуктів і фармацевтичних препаратів",null,null,null,null,null,null,null,null,null,null,null,null,null,null,null,null,null,null,null,null,null,null,null,null,null,null,null,null,"Автономна Республіка Крим","Зоряне"]
[null,null,null,null,null,null,null,null,null,null,null,null,null,null,null,"21.1","Виробництво основних фармацевтичних продуктів",null,null,null,null,null,null,null,null,null,null,null,null,null,null,null,null,null,null,null,null,null,null,null,null,null,null,null,null,"Автономна Республіка Крим","Зубакіне"]
[null,null,null,null,null,null,null,null,null,null,null,null,null,null,null,"21.10","Виробництво основних фармацевтичних продуктів",null,null,null,null,null,null,null,null,null,null,null,null,null,null,null,null,null,null,null,null,null,null,null,null,null,null,null,null,"Автономна Республіка Крим","Зуя"]
[null,null,null,null,null,null,null,null,null,null,null,null,null,null,null,"21.2","Виробництво фармацевтичних препаратів і матеріалів",null,null,null,null,null,null,null,null,null,null,null,null,null,null,null,null,null,null,null,null,null,null,null,null,null,null,null,null,"Автономна Республіка Крим","Іванівка"]
[null,null,null,null,null,null,null,null,null,null,null,null,null,null,null,"21.20","Виробництво фармацевтичних препаратів і матеріалів",null,null,null,null,null,null,null,null,null,null,null,null,null,null,null,null,null,null,null,null,null,null,null,null,null,null,null,null,"Автономна Республіка Крим","Ізвесткове"]
[null,null,null,null,null,null,null,null,null,null,null,null,null,null,null,"22","Виробництво гумових і пластмасових виробів",null,null,null,null,null,null,null,null,null,null,null,null,null,null,null,null,null,null,null,null,null,null,null,null,null,null,null,null,"Автономна Республіка Крим","Ізобільне"]
[null,null,null,null,null,null,null,null,null,null,null,null,null,null,null,"22.1","Виробництво гумових виробів",null,null,null,null,null,null,null,null,null,null,null,null,null,null,null,null,null,null,null,null,null,null,null,null,null,null,null,null,"Автономна Республіка Крим","Ізумрудне"]
[null,null,null,null,null,null,null,null,null,null,null,null,null,null,null,"22.11","Виробництво гумових шин, покришок і камер; відновлення протектора гумових шин і покришок",null,null,null,null,null,null,null,null,null,null,null,null,null,null,null,null,null,null,null,null,null,null,null,null,null,null,null,null,"Автономна Республіка Крим","Ізюмівка"]
[null,null,null,null,null,null,null,null,null,null,null,null,null,null,null,"22.19","Виробництво інших гумових виробів",null,null,null,null,null,null,null,null,null,null,null,null,null,null,null,null,null,null,null,null,null,null,null,null,null,null,null,null,"Автономна Республіка Крим","Іллінка (Ільїнської)"]
[null,null,null,null,null,null,null,null,null,null,null,null,null,null,null,"22.2","Виробництво пластмасових виробів",null,null,null,null,null,null,null,null,null,null,null,null,null,null,null,null,null,null,null,null,null,null,null,null,null,null,null,null,"Автономна Республіка Крим","Іллінка (Сизівська)"]
[null,null,null,null,null,null,null,null,null,null,null,null,null,null,null,"22.21","Виробництво плит, листів, труб і профілів із пластмас",null,null,null,null,null,null,null,null,null,null,null,null,null,null,null,null,null,null,null,null,null,null,null,null,null,null,null,null,"Автономна Республіка Крим","Іллічеве"]
[null,null,null,null,null,null,null,null,null,null,null,null,null,null,null,"22.22","Виробництво тари з пластмас",null,null,null,null,null,null,null,null,null,null,null,null,null,null,null,null,null,null,null,null,null,null,null,null,null,null,null,null,"Автономна Республіка Крим","Іскра"]
[null,null,null,null,null,null,null,null,null,null,null,null,null,null,null,"22.23","Виробництво будівельних виробів із пластмас",null,null,null,null,null,null,null,null,null,null,null,null,null,null,null,null,null,null,null,null,null,null,null,null,null,null,null,null,"Автономна Республіка Крим","Істочне"]
[null,null,null,null,null,null,null,null,null,null,null,null,null,null,null,"22.29","Виробництво інших виробів із пластмас",null,null,null,null,null,null,null,null,null,null,null,null,null,null,null,null,null,null,null,null,null,null,null,null,null,null,null,null,"Автономна Республіка Крим","Істочне (Воїнської)"]
[null,null,null,null,null,null,null,null,null,null,null,null,null,null,null,"23","Виробництво іншої неметалевої мінеральної продукції",null,null,null,null,null,null,null,null,null,null,null,null,null,null,null,null,null,null,null,null,null,null,null,null,null,null,null,null,"Автономна Республіка Крим","Ішунь (Ішуньської)"]
[null,null,null,null,null,null,null,null,null,null,null,null,null,null,null,"23.1","Виробництво скла та виробів зі скла",null,null,null,null,null,null,null,null,null,null,null,null,null,null,null,null,null,null,null,null,null,null,null,null,null,null,null,null,"Автономна Республіка Крим","Казанки"]
[null,null,null,null,null,null,null,null,null,null,null,null,null,null,null,"23.11","Виробництво листового скла",null,null,null,null,null,null,null,null,null,null,null,null,null,null,null,null,null,null,null,null,null,null,null,null,null,null,null,null,"Автономна Республіка Крим","Калинівка"]
[null,null,null,null,null,null,null,null,null,null,null,null,null,null,null,"23.12","Формування й оброблення листового скла",null,null,null,null,null,null,null,null,null,null,null,null,null,null,null,null,null,null,null,null,null,null,null,null,null,null,null,null,"Автономна Республіка Крим","Калинівка (Оленівська)"]
[null,null,null,null,null,null,null,null,null,null,null,null,null,null,null,"23.13","Виробництво порожнистого скла",null,null,null,null,null,null,null,null,null,null,null,null,null,null,null,null,null,null,null,null,null,null,null,null,null,null,null,null,"Автономна Республіка Крим","Калініне"]
[null,null,null,null,null,null,null,null,null,null,null,null,null,null,null,"23.14","Виробництво скловолокна",null,null,null,null,null,null,null,null,null,null,null,null,null,null,null,null,null,null,null,null,null,null,null,null,null,null,null,null,"Автономна Республіка Крим","Калініне (Калінінської)"]
[null,null,null,null,null,null,null,null,null,null,null,null,null,null,null,"23.19","Виробництво й оброблення інших скляних виробів, у тому числі технічних",null,null,null,null,null,null,null,null,null,null,null,null,null,null,null,null,null,null,null,null,null,null,null,null,null,null,null,null,"Автономна Республіка Крим","Каменоломня"]
[null,null,null,null,null,null,null,null,null,null,null,null,null,null,null,"23.2","Виробництво вогнетривких виробів",null,null,null,null,null,null,null,null,null,null,null,null,null,null,null,null,null,null,null,null,null,null,null,null,null,null,null,null,"Автономна Республіка Крим","Кам'янка (Октябрьської)"]
[null,null,null,null,null,null,null,null,null,null,null,null,null,null,null,"23.20","Виробництво вогнетривких виробів",null,null,null,null,null,null,null,null,null,null,null,null,null,null,null,null,null,null,null,null,null,null,null,null,null,null,null,null,"Автономна Республіка Крим","Кам'янське"]
[null,null,null,null,null,null,null,null,null,null,null,null,null,null,null,"23.3","Виробництво будівельних матеріалів із глини",null,null,null,null,null,null,null,null,null,null,null,null,null,null,null,null,null,null,null,null,null,null,null,null,null,null,null,null,"Автономна Республіка Крим","Карасівка"]
[null,null,null,null,null,null,null,null,null,null,null,null,null,null,null,"23.31","Виробництво керамічних плиток і плит",null,null,null,null,null,null,null,null,null,null,null,null,null,null,null,null,null,null,null,null,null,null,null,null,null,null,null,null,"Автономна Республіка Крим","Кар'єрне"]
[null,null,null,null,null,null,null,null,null,null,null,null,null,null,null,"23.32","Виробництво цегли, черепиці та інших будівельних виробів із випаленої глини",null,null,null,null,null,null,null,null,null,null,null,null,null,null,null,null,null,null,null,null,null,null,null,null,null,null,null,null,"Автономна Республіка Крим","Карпівка"]
[null,null,null,null,null,null,null,null,null,null,null,null,null,null,null,"23.4","Виробництво іншої продукції з фарфору та кераміки",null,null,null,null,null,null,null,null,null,null,null,null,null,null,null,null,null,null,null,null,null,null,null,null,null,null,null,null,"Автономна Республіка Крим","Карпова Балка (Філатівської)"]
[null,null,null,null,null,null,null,null,null,null,null,null,null,null,null,"23.41","Виробництво господарських і декоративних керамічних виробів",null,null,null,null,null,null,null,null,null,null,null,null,null,null,null,null,null,null,null,null,null,null,null,null,null,null,null,null,"Автономна Республіка Крим","Кацівелі"]
[null,null,null,null,null,null,null,null,null,null,null,null,null,null,null,"23.42","Виробництво керамічних санітарно-технічних виробів",null,null,null,null,null,null,null,null,null,null,null,null,null,null,null,null,null,null,null,null,null,null,null,null,null,null,null,null,"Автономна Республіка Крим","Каштани"]
[null,null,null,null,null,null,null,null,null,null,null,null,null,null,null,"23.43","Виробництво керамічних електроізоляторів та ізоляційної арматури",null,null,null,null,null,null,null,null,null,null,null,null,null,null,null,null,null,null,null,null,null,null,null,null,null,null,null,null,"Автономна Республіка Крим","Каштанівка (Серебрянська сільська рада)"]
[null,null,null,null,null,null,null,null,null,null,null,null,null,null,null,"23.44","Виробництво інших керамічних виробів технічного призначення",null,null,null,null,null,null,null,null,null,null,null,null,null,null,null,null,null,null,null,null,null,null,null,null,null,null,null,null,"Автономна Республіка Крим","Каштанівка (Черновської)"]
[null,null,null,null,null,null,null,null,null,null,null,null,null,null,null,"23.49","Виробництво інших керамічних виробів",null,null,null,null,null,null,null,null,null,null,null,null,null,null,null,null,null,null,null,null,null,null,null,null,null,null,null,null,"Автономна Республіка Крим","Каштанове"]
[null,null,null,null,null,null,null,null,null,null,null,null,null,null,null,"23.5","Виробництво цементу, вапна та гіпсових сумішей",null,null,null,null,null,null,null,null,null,null,null,null,null,null,null,null,null,null,null,null,null,null,null,null,null,null,null,null,"Автономна Республіка Крим","Керч"]
[null,null,null,null,null,null,null,null,null,null,null,null,null,null,null,"23.51","Виробництво цементу",null,null,null,null,null,null,null,null,null,null,null,null,null,null,null,null,null,null,null,null,null,null,null,null,null,null,null,null,"Автономна Республіка Крим","Кизилівка"]
[null,null,null,null,null,null,null,null,null,null,null,null,null,null,null,"23.52","Виробництво вапна та гіпсових сумішей",null,null,null,null,null,null,null,null,null,null,null,null,null,null,null,null,null,null,null,null,null,null,null,null,null,null,null,null,"Автономна Республіка Крим","Кипарисне"]
[null,null,null,null,null,null,null,null,null,null,null,null,null,null,null,"23.6","Виготовлення виробів із бетону, гіпсу та цементу",null,null,null,null,null,null,null,null,null,null,null,null,null,null,null,null,null,null,null,null,null,null,null,null,null,null,null,null,"Автономна Республіка Крим","Кирпичне"]
[null,null,null,null,null,null,null,null,null,null,null,null,null,null,null,"23.61","Виготовлення виробів із бетону для будівництва",null,null,null,null,null,null,null,null,null,null,null,null,null,null,null,null,null,null,null,null,null,null,null,null,null,null,null,null,"Автономна Республіка Крим","Кирсанівка"]
[null,null,null,null,null,null,null,null,null,null,null,null,null,null,null,"23.62","Виготовлення виробів із гіпсу для будівництва",null,null,null,null,null,null,null,null,null,null,null,null,null,null,null,null,null,null,null,null,null,null,null,null,null,null,null,null,"Автономна Республіка Крим","Кіндратове"]
[null,null,null,null,null,null,null,null,null,null,null,null,null,null,null,"23.63","Виробництво бетонних розчинів, готових для використання",null,null,null,null,null,null,null,null,null,null,null,null,null,null,null,null,null,null,null,null,null,null,null,null,null,null,null,null,"Автономна Республіка Крим","Кіровське"]
[null,null,null,null,null,null,null,null,null,null,null,null,null,null,null,"23.64","Виробництво сухих будівельних сумішей",null,null,null,null,null,null,null,null,null,null,null,null,null,null,null,null,null,null,null,null,null,null,null,null,null,null,null,null,"Автономна Республіка Крим","Кісточківка"]
[null,null,null,null,null,null,null,null,null,null,null,null,null,null,null,"23.65","Виготовлення виробів із волокнистого цементу",null,null,null,null,null,null,null,null,null,null,null,null,null,null,null,null,null,null,null,null,null,null,null,null,null,null,null,null,"Автономна Республіка Крим","Клепиніне"]
[null,null,null,null,null,null,null,null,null,null,null,null,null,null,null,"23.69","Виробництво інших виробів із бетону, гіпсу та цементу",null,null,null,null,null,null,null,null,null,null,null,null,null,null,null,null,null,null,null,null,null,null,null,null,null,null,null,null,"Автономна Республіка Крим","Климове"]
[null,null,null,null,null,null,null,null,null,null,null,null,null,null,null,"23.7","Різання, оброблення та оздоблення декоративного та будівельного каменю",null,null,null,null,null,null,null,null,null,null,null,null,null,null,null,null,null,null,null,null,null,null,null,null,null,null,null,null,"Автономна Республіка Крим","Клинівка"]
[null,null,null,null,null,null,null,null,null,null,null,null,null,null,null,"23.70","Різання, оброблення та оздоблення декоративного та будівельного каменю",null,null,null,null,null,null,null,null,null,null,null,null,null,null,null,null,null,null,null,null,null,null,null,null,null,null,null,null,"Автономна Республіка Крим","Ключі"]
[null,null,null,null,null,null,null,null,null,null,null,null,null,null,null,"23.9","Виробництво абразивних виробів і неметалевих мінеральних виробів, н.в.і.у.",null,null,null,null,null,null,null,null,null,null,null,null,null,null,null,null,null,null,null,null,null,null,null,null,null,null,null,null,"Автономна Республіка Крим","Ключове"]
[null,null,null,null,null,null,null,null,null,null,null,null,null,null,null,"23.91","Виробництво абразивних виробів",null,null,null,null,null,null,null,null,null,null,null,null,null,null,null,null,null,null,null,null,null,null,null,null,null,null,null,null,"Автономна Республіка Крим","Ковильне"]
[null,null,null,null,null,null,null,null,null,null,null,null,null,null,null,"23.99","Виробництво неметалевих мінеральних виробів, н.в.і.у.",null,null,null,null,null,null,null,null,null,null,null,null,null,null,null,null,null,null,null,null,null,null,null,null,null,null,null,null,"Автономна Республіка Крим","Ковильне (Ковильнівська сільська рада)"]
[null,null,null,null,null,null,null,null,null,null,null,null,null,null,null,"24","Металургійне виробництво",null,null,null,null,null,null,null,null,null,null,null,null,null,null,null,null,null,null,null,null,null,null,null,null,null,null,null,null,"Автономна Республіка Крим","Коврове"]
[null,null,null,null,null,null,null,null,null,null,null,null,null,null,null,"24.1","Виробництво чавуну, сталі та феросплавів",null,null,null,null,null,null,null,null,null,null,null,null,null,null,null,null,null,null,null,null,null,null,null,null,null,null,null,null,"Автономна Республіка Крим","Коктебель"]
[null,null,null,null,null,null,null,null,null,null,null,null,null,null,null,"24.10","Виробництво чавуну, сталі та феросплавів",null,null,null,null,null,null,null,null,null,null,null,null,null,null,null,null,null,null,null,null,null,null,null,null,null,null,null,null,"Автономна Республіка Крим","Колодязне"]
[null,null,null,null,null,null,null,null,null,null,null,null,null,null,null,"24.2","Виробництво труб, порожнистих профілів і фітингів зі сталі",null,null,null,null,null,null,null,null,null,null,null,null,null,null,null,null,null,null,null,null,null,null,null,null,null,null,null,null,"Автономна Республіка Крим","Коломенське"]
[null,null,null,null,null,null,null,null,null,null,null,null,null,null,null,"24.20","Виробництво труб, порожнистих профілів і фітингів зі сталі",null,null,null,null,null,null,null,null,null,null,null,null,null,null,null,null,null,null,null,null,null,null,null,null,null,null,null,null,"Автономна Республіка Крим","Колоски"]
[null,null,null,null,null,null,null,null,null,null,null,null,null,null,null,"24.3","Виробництво іншої продукції первинного оброблення сталі",null,null,null,null,null,null,null,null,null,null,null,null,null,null,null,null,null,null,null,null,null,null,null,null,null,null,null,null,"Автономна Республіка Крим","Кольцове"]
[null,null,null,null,null,null,null,null,null,null,null,null,null,null,null,"24.31","Холодне волочіння прутків і профілів",null,null,null,null,null,null,null,null,null,null,null,null,null,null,null,null,null,null,null,null,null,null,null,null,null,null,null,null,"Автономна Республіка Крим","Кольчугине"]
[null,null,null,null,null,null,null,null,null,null,null,null,null,null,null,"24.32","Холодний прокат вузької штаби",null,null,null,null,null,null,null,null,null,null,null,null,null,null,null,null,null,null,null,null,null,null,null,null,null,null,null,null,"Автономна Республіка Крим","Комарівка"]
[null,null,null,null,null,null,null,null,null,null,null,null,null,null,null,"24.33","Холодне штампування та гнуття",null,null,null,null,null,null,null,null,null,null,null,null,null,null,null,null,null,null,null,null,null,null,null,null,null,null,null,null,"Автономна Республіка Крим","Комишинка"]
[null,null,null,null,null,null,null,null,null,null,null,null,null,null,null,"24.34","Холодне волочіння дроту",null,null,null,null,null,null,null,null,null,null,null,null,null,null,null,null,null,null,null,null,null,null,null,null,null,null,null,null,"Автономна Республіка Крим","Комишне (Руч'ївська сільська рада)"]
[null,null,null,null,null,null,null,null,null,null,null,null,null,null,null,"24.4","Виробництво дорогоцінних та інших кольорових металів",null,null,null,null,null,null,null,null,null,null,null,null,null,null,null,null,null,null,null,null,null,null,null,null,null,null,null,null,"Автономна Республіка Крим","Комсомольське"]
[null,null,null,null,null,null,null,null,null,null,null,null,null,null,null,"24.41","Виробництво дорогоцінних металів",null,null,null,null,null,null,null,null,null,null,null,null,null,null,null,null,null,null,null,null,null,null,null,null,null,null,null,null,"Автономна Республіка Крим","Комунари"]
[null,null,null,null,null,null,null,null,null,null,null,null,null,null,null,"24.42","Виробництво алюмінію",null,null,null,null,null,null,null,null,null,null,null,null,null,null,null,null,null,null,null,null,null,null,null,null,null,null,null,null,"Автономна Республіка Крим","Комунарне (Руч'ївська сільська рада)"]
[null,null,null,null,null,null,null,null,null,null,null,null,null,null,null,"24.43","Виробництво свинцю, цинку й олова",null,null,null,null,null,null,null,null,null,null,null,null,null,null,null,null,null,null,null,null,null,null,null,null,null,null,null,null,"Автономна Республіка Крим","Копані"]
[null,null,null,null,null,null,null,null,null,null,null,null,null,null,null,"24.44","Виробництво міді",null,null,null,null,null,null,null,null,null,null,null,null,null,null,null,null,null,null,null,null,null,null,null,null,null,null,null,null,"Автономна Республіка Крим","Кореїз"]
[null,null,null,null,null,null,null,null,null,null,null,null,null,null,null,"24.45","Виробництво інших кольорових металів",null,null,null,null,null,null,null,null,null,null,null,null,null,null,null,null,null,null,null,null,null,null,null,null,null,null,null,null,"Автономна Республіка Крим","Корінне"]
[null,null,null,null,null,null,null,null,null,null,null,null,null,null,null,"24.46","Виробництво ядерних матеріалів",null,null,null,null,null,null,null,null,null,null,null,null,null,null,null,null,null,null,null,null,null,null,null,null,null,null,null,null,"Автономна Республіка Крим","Кормове (Кормовської)"]
[null,null,null,null,null,null,null,null,null,null,null,null,null,null,null,"24.5","Лиття металів",null,null,null,null,null,null,null,null,null,null,null,null,null,null,null,null,null,null,null,null,null,null,null,null,null,null,null,null,"Автономна Республіка Крим","Корніївка"]
[null,null,null,null,null,null,null,null,null,null,null,null,null,null,null,"24.51","Лиття чавуну",null,null,null,null,null,null,null,null,null,null,null,null,null,null,null,null,null,null,null,null,null,null,null,null,null,null,null,null,"Автономна Республіка Крим","Корольове"]
[null,null,null,null,null,null,null,null,null,null,null,null,null,null,null,"24.52","Лиття сталі",null,null,null,null,null,null,null,null,null,null,null,null,null,null,null,null,null,null,null,null,null,null,null,null,null,null,null,null,"Автономна Республіка Крим","Костиріне"]
[null,null,null,null,null,null,null,null,null,null,null,null,null,null,null,"24.53","Лиття легких кольорових металів",null,null,null,null,null,null,null,null,null,null,null,null,null,null,null,null,null,null,null,null,null,null,null,null,null,null,null,null,"Автономна Республіка Крим","Костянтинівка"]
[null,null,null,null,null,null,null,null,null,null,null,null,null,null,null,"24.54","Лиття інших кольорових металів",null,null,null,null,null,null,null,null,null,null,null,null,null,null,null,null,null,null,null,null,null,null,null,null,null,null,null,null,"Автономна Республіка Крим","Котельникове"]
[null,null,null,null,null,null,null,null,null,null,null,null,null,null,null,"25","Виробництво готових металевих виробів, крім машин і устатковання",null,null,null,null,null,null,null,null,null,null,null,null,null,null,null,null,null,null,null,null,null,null,null,null,null,null,null,null,"Автономна Республіка Крим","Котовське (Славнівська сільська рада)"]
[null,null,null,null,null,null,null,null,null,null,null,null,null,null,null,"25.1","Виробництво будівельних металевих конструкцій і виробів",null,null,null,null,null,null,null,null,null,null,null,null,null,null,null,null,null,null,null,null,null,null,null,null,null,null,null,null,"Автономна Республіка Крим","Кочергіне"]
[null,null,null,null,null,null,null,null,null,null,null,null,null,null,null,"25.11","Виробництво будівельних металевих конструкцій і частин конструкцій",null,null,null,null,null,null,null,null,null,null,null,null,null,null,null,null,null,null,null,null,null,null,null,null,null,null,null,null,"Автономна Республіка Крим","Крайнє (Крайненська)"]
[null,null,null,null,null,null,null,null,null,null,null,null,null,null,null,"25.12","Виробництво металевих дверей і вікон",null,null,null,null,null,null,null,null,null,null,null,null,null,null,null,null,null,null,null,null,null,null,null,null,null,null,null,null,"Автономна Республіка Крим","Красна Долина"]
[null,null,null,null,null,null,null,null,null,null,null,null,null,null,null,"25.2","Виробництво металевих баків, резервуарів і контейнерів",null,null,null,null,null,null,null,null,null,null,null,null,null,null,null,null,null,null,null,null,null,null,null,null,null,null,null,null,"Автономна Республіка Крим","Красна Зорька"]
[null,null,null,null,null,null,null,null,null,null,null,null,null,null,null,"25.21","Виробництво радіаторів і  котлів центрального опалення",null,null,null,null,null,null,null,null,null,null,null,null,null,null,null,null,null,null,null,null,null,null,null,null,null,null,null,null,"Автономна Республіка Крим","Красна Поляна"]
[null,null,null,null,null,null,null,null,null,null,null,null,null,null,null,"25.29","Виробництво інших металевих баків, резервуарів і контейнерів",null,null,null,null,null,null,null,null,null,null,null,null,null,null,null,null,null,null,null,null,null,null,null,null,null,null,null,null,"Автономна Республіка Крим","Красна Слобода"]
[null,null,null,null,null,null,null,null,null,null,null,null,null,null,null,"25.3","Виробництво парових котлів, крім котлів центрального опалення",null,null,null,null,null,null,null,null,null,null,null,null,null,null,null,null,null,null,null,null,null,null,null,null,null,null,null,null,"Автономна Республіка Крим","Красний Мак"]
[null,null,null,null,null,null,null,null,null,null,null,null,null,null,null,"25.30","Виробництво парових котлів, крім котлів центрального опалення",null,null,null,null,null,null,null,null,null,null,null,null,null,null,null,null,null,null,null,null,null,null,null,null,null,null,null,null,"Автономна Республіка Крим","Красний Партизан"]
[null,null,null,null,null,null,null,null,null,null,null,null,null,null,null,"25.4","Виробництво зброї та боєприпасів",null,null,null,null,null,null,null,null,null,null,null,null,null,null,null,null,null,null,null,null,null,null,null,null,null,null,null,null,"Автономна Республіка Крим","Краснівка"]
[null,null,null,null,null,null,null,null,null,null,null,null,null,null,null,"25.40","Виробництво зброї та боєприпасів",null,null,null,null,null,null,null,null,null,null,null,null,null,null,null,null,null,null,null,null,null,null,null,null,null,null,null,null,"Автономна Республіка Крим","Красноармійське (Зиминська сільська рада)"]
[null,null,null,null,null,null,null,null,null,null,null,null,null,null,null,"25.5","Кування, пресування, штампування, профілювання; порошкова металургія",null,null,null,null,null,null,null,null,null,null,null,null,null,null,null,null,null,null,null,null,null,null,null,null,null,null,null,null,"Автономна Республіка Крим","Красноармійське (Красноармійська)"]
[null,null,null,null,null,null,null,null,null,null,null,null,null,null,null,"25.50","Кування, пресування, штампування, профілювання; порошкова металургія",null,null,null,null,null,null,null,null,null,null,null,null,null,null,null,null,null,null,null,null,null,null,null,null,null,null,null,null,"Автономна Республіка Крим","Красногвардійське"]
[null,null,null,null,null,null,null,null,null,null,null,null,null,null,null,"25.6","Оброблення металів та нанесення покриття на метали; механічне оброблення металевих виробів",null,null,null,null,null,null,null,null,null,null,null,null,null,null,null,null,null,null,null,null,null,null,null,null,null,null,null,null,"Автономна Республіка Крим","Красногірка"]
[null,null,null,null,null,null,null,null,null,null,null,null,null,null,null,"25.61","Оброблення металів та нанесення покриття на метали",null,null,null,null,null,null,null,null,null,null,null,null,null,null,null,null,null,null,null,null,null,null,null,null,null,null,null,null,"Автономна Республіка Крим","Красногірське"]
[null,null,null,null,null,null,null,null,null,null,null,null,null,null,null,"25.62","Механічне оброблення металевих виробів",null,null,null,null,null,null,null,null,null,null,null,null,null,null,null,null,null,null,null,null,null,null,null,null,null,null,null,null,"Автономна Республіка Крим","Краснодарка"]
[null,null,null,null,null,null,null,null,null,null,null,null,null,null,null,"25.7","Виробництво столових приборів, інструментів і металевих виробів загального призначення",null,null,null,null,null,null,null,null,null,null,null,null,null,null,null,null,null,null,null,null,null,null,null,null,null,null,null,null,"Автономна Республіка Крим","Краснодольне"]
[null,null,null,null,null,null,null,null,null,null,null,null,null,null,null,"25.71","Виробництво столових приборів",null,null,null,null,null,null,null,null,null,null,null,null,null,null,null,null,null,null,null,null,null,null,null,null,null,null,null,null,"Автономна Республіка Крим","Краснознам'янка"]
[null,null,null,null,null,null,null,null,null,null,null,null,null,null,null,"25.72","Виробництво замків і дверних петель",null,null,null,null,null,null,null,null,null,null,null,null,null,null,null,null,null,null,null,null,null,null,null,null,null,null,null,null,"Автономна Республіка Крим","Краснокам'янка"]
[null,null,null,null,null,null,null,null,null,null,null,null,null,null,null,"25.73","Виробництво інструментів",null,null,null,null,null,null,null,null,null,null,null,null,null,null,null,null,null,null,null,null,null,null,null,null,null,null,null,null,"Автономна Республіка Крим","Краснолісся"]
[null,null,null,null,null,null,null,null,null,null,null,null,null,null,null,"25.9","Виробництво інших готових металевих виробів",null,null,null,null,null,null,null,null,null,null,null,null,null,null,null,null,null,null,null,null,null,null,null,null,null,null,null,null,"Автономна Республіка Крим","Красноперекопськ"]
[null,null,null,null,null,null,null,null,null,null,null,null,null,null,null,"25.91","Виробництво сталевих бочок і подібних контейнерів",null,null,null,null,null,null,null,null,null,null,null,null,null,null,null,null,null,null,null,null,null,null,null,null,null,null,null,null,"Автономна Республіка Крим","Красноселівка"]
[null,null,null,null,null,null,null,null,null,null,null,null,null,null,null,"25.92","Виробництво легких металевих паковань",null,null,null,null,null,null,null,null,null,null,null,null,null,null,null,null,null,null,null,null,null,null,null,null,null,null,null,null,"Автономна Республіка Крим","Красносільське"]
[null,null,null,null,null,null,null,null,null,null,null,null,null,null,null,"25.93","Виробництво виробів із дроту, ланцюгів і пружин",null,null,null,null,null,null,null,null,null,null,null,null,null,null,null,null,null,null,null,null,null,null,null,null,null,null,null,null,"Автономна Республіка Крим","Красносільське (Окунівська)"]
[null,null,null,null,null,null,null,null,null,null,null,null,null,null,null,"25.94","Виробництво кріпильних і ґвинтонарізних виробів",null,null,null,null,null,null,null,null,null,null,null,null,null,null,null,null,null,null,null,null,null,null,null,null,null,null,null,null,"Автономна Республіка Крим","Краснофлотське"]
[null,null,null,null,null,null,null,null,null,null,null,null,null,null,null,"25.99","Виробництво інших готових металевих виробів, н.в.і.у.",null,null,null,null,null,null,null,null,null,null,null,null,null,null,null,null,null,null,null,null,null,null,null,null,null,null,null,null,"Автономна Республіка Крим","Красноярське"]
[null,null,null,null,null,null,null,null,null,null,null,null,null,null,null,"26","Виробництво комп'ютерів, електронної та оптичної продукції",null,null,null,null,null,null,null,null,null,null,null,null,null,null,null,null,null,null,null,null,null,null,null,null,null,null,null,null,"Автономна Республіка Крим","Кремнівка"]
[null,null,null,null,null,null,null,null,null,null,null,null,null,null,null,"26.1","Виробництво електронних компонентів і плат",null,null,null,null,null,null,null,null,null,null,null,null,null,null,null,null,null,null,null,null,null,null,null,null,null,null,null,null,"Автономна Республіка Крим","Крестянівка (Крестянівскої)"]
[null,null,null,null,null,null,null,null,null,null,null,null,null,null,null,"26.11","Виробництво електронних компонентів",null,null,null,null,null,null,null,null,null,null,null,null,null,null,null,null,null,null,null,null,null,null,null,null,null,null,null,null,"Автономна Республіка Крим","Кривцове"]
[null,null,null,null,null,null,null,null,null,null,null,null,null,null,null,"26.12","Виробництво змонтованих електронних плат",null,null,null,null,null,null,null,null,null,null,null,null,null,null,null,null,null,null,null,null,null,null,null,null,null,null,null,null,"Автономна Республіка Крим","Криловка (Степновської)"]
[null,null,null,null,null,null,null,null,null,null,null,null,null,null,null,"26.2","Виробництво комп'ютерів і периферійного устатковання",null,null,null,null,null,null,null,null,null,null,null,null,null,null,null,null,null,null,null,null,null,null,null,null,null,null,null,null,"Автономна Республіка Крим","Криловка (Штормівська)"]
[null,null,null,null,null,null,null,null,null,null,null,null,null,null,null,"26.20","Виробництво комп'ютерів і периферійного устатковання",null,null,null,null,null,null,null,null,null,null,null,null,null,null,null,null,null,null,null,null,null,null,null,null,null,null,null,null,"Автономна Республіка Крим","Кримка"]
[null,null,null,null,null,null,null,null,null,null,null,null,null,null,null,"26.3","Виробництво обладнання зв'язку",null,null,null,null,null,null,null,null,null,null,null,null,null,null,null,null,null,null,null,null,null,null,null,null,null,null,null,null,"Автономна Республіка Крим","Кримська Роза"]
[null,null,null,null,null,null,null,null,null,null,null,null,null,null,null,"26.30","Виробництво обладнання зв'язку",null,null,null,null,null,null,null,null,null,null,null,null,null,null,null,null,null,null,null,null,null,null,null,null,null,null,null,null,"Автономна Республіка Крим","Кримське"]
[null,null,null,null,null,null,null,null,null,null,null,null,null,null,null,"26.4","Виробництво електронної апаратури побутового призначення для приймання, записування та відтворювання звуку й зображення",null,null,null,null,null,null,null,null,null,null,null,null,null,null,null,null,null,null,null,null,null,null,null,null,null,null,null,null,"Автономна Республіка Крим","Кринички"]
[null,null,null,null,null,null,null,null,null,null,null,null,null,null,null,"26.40","Виробництво електронної апаратури побутового призначення для приймання, записування та відтворювання звуку й зображення",null,null,null,null,null,null,null,null,null,null,null,null,null,null,null,null,null,null,null,null,null,null,null,null,null,null,null,null,"Автономна Республіка Крим","Кріпке (Вишнівської)"]
[null,null,null,null,null,null,null,null,null,null,null,null,null,null,null,"26.5","Виробництво інструментів і обладнання для вимірювання, дослідження та навігації; виробництво годинників",null,null,null,null,null,null,null,null,null,null,null,null,null,null,null,null,null,null,null,null,null,null,null,null,null,null,null,null,"Автономна Республіка Крим","Кропоткіне (Чернишівська сільська рада)"]
[null,null,null,null,null,null,null,null,null,null,null,null,null,null,null,"26.51","Виробництво інструментів і обладнання для вимірювання, дослідження та навігації",null,null,null,null,null,null,null,null,null,null,null,null,null,null,null,null,null,null,null,null,null,null,null,null,null,null,null,null,"Автономна Республіка Крим","Кубанське"]
[null,null,null,null,null,null,null,null,null,null,null,null,null,null,null,"26.52","Виробництво годинників",null,null,null,null,null,null,null,null,null,null,null,null,null,null,null,null,null,null,null,null,null,null,null,null,null,null,null,null,"Автономна Республіка Крим","Кудрине"]
[null,null,null,null,null,null,null,null,null,null,null,null,null,null,null,"26.6","Виробництво радіологічного, електромедичного й електротерапевтичного устатковання",null,null,null,null,null,null,null,null,null,null,null,null,null,null,null,null,null,null,null,null,null,null,null,null,null,null,null,null,"Автономна Республіка Крим","Кузнецьке"]
[null,null,null,null,null,null,null,null,null,null,null,null,null,null,null,"26.60","Виробництво радіологічного, електромедичного й електротерапевтичного устатковання",null,null,null,null,null,null,null,null,null,null,null,null,null,null,null,null,null,null,null,null,null,null,null,null,null,null,null,null,"Автономна Республіка Крим","Куйбишеве"]
[null,null,null,null,null,null,null,null,null,null,null,null,null,null,null,"26.7","Виробництво оптичних приладів і фотографічного устатковання",null,null,null,null,null,null,null,null,null,null,null,null,null,null,null,null,null,null,null,null,null,null,null,null,null,null,null,null,"Автономна Республіка Крим","Кукурудзяне"]
[null,null,null,null,null,null,null,null,null,null,null,null,null,null,null,"26.70","Виробництво оптичних приладів і фотографічного устатковання",null,null,null,null,null,null,null,null,null,null,null,null,null,null,null,null,null,null,null,null,null,null,null,null,null,null,null,null,"Автономна Республіка Крим","Кукушкіне"]
[null,null,null,null,null,null,null,null,null,null,null,null,null,null,null,"26.8","Виробництво магнітних і оптичних носіїв даних",null,null,null,null,null,null,null,null,null,null,null,null,null,null,null,null,null,null,null,null,null,null,null,null,null,null,null,null,"Автономна Республіка Крим","Куликівка"]
[null,null,null,null,null,null,null,null,null,null,null,null,null,null,null,"26.80","Виробництво магнітних і оптичних носіїв даних",null,null,null,null,null,null,null,null,null,null,null,null,null,null,null,null,null,null,null,null,null,null,null,null,null,null,null,null,"Автономна Республіка Крим","Кумове (Ботанічна сільська рада)"]
[null,null,null,null,null,null,null,null,null,null,null,null,null,null,null,"27","Виробництво електричного устатковання",null,null,null,null,null,null,null,null,null,null,null,null,null,null,null,null,null,null,null,null,null,null,null,null,null,null,null,null,"Автономна Республіка Крим","Кунцеве"]
[null,null,null,null,null,null,null,null,null,null,null,null,null,null,null,"27.1","Виробництво електродвигунів, генераторів, трансформаторів, електророзподільчої та контрольної апаратури",null,null,null,null,null,null,null,null,null,null,null,null,null,null,null,null,null,null,null,null,null,null,null,null,null,null,null,null,"Автономна Республіка Крим","Купріне"]
[null,null,null,null,null,null,null,null,null,null,null,null,null,null,null,"27.11","Виробництво електродвигунів, генераторів і трансформаторів",null,null,null,null,null,null,null,null,null,null,null,null,null,null,null,null,null,null,null,null,null,null,null,null,null,null,null,null,"Автономна Республіка Крим","Курганне"]
[null,null,null,null,null,null,null,null,null,null,null,null,null,null,null,"27.12","Виробництво електророзподільчої та контрольної апаратури",null,null,null,null,null,null,null,null,null,null,null,null,null,null,null,null,null,null,null,null,null,null,null,null,null,null,null,null,"Автономна Республіка Крим","Курганне (Ільїнка)"]
[null,null,null,null,null,null,null,null,null,null,null,null,null,null,null,"27.2","Виробництво батарей і акумуляторів",null,null,null,null,null,null,null,null,null,null,null,null,null,null,null,null,null,null,null,null,null,null,null,null,null,null,null,null,"Автономна Республіка Крим","Курортне"]
[null,null,null,null,null,null,null,null,null,null,null,null,null,null,null,"27.20","Виробництво батарей і акумуляторів",null,null,null,null,null,null,null,null,null,null,null,null,null,null,null,null,null,null,null,null,null,null,null,null,null,null,null,null,"Автономна Республіка Крим","Курпати"]
[null,null,null,null,null,null,null,null,null,null,null,null,null,null,null,"27.3","Виробництво проводів, кабелів і електромонтажних пристроїв",null,null,null,null,null,null,null,null,null,null,null,null,null,null,null,null,null,null,null,null,null,null,null,null,null,null,null,null,"Автономна Республіка Крим","Курське"]
[null,null,null,null,null,null,null,null,null,null,null,null,null,null,null,"27.31","Виробництво волоконно-оптичних кабелів",null,null,null,null,null,null,null,null,null,null,null,null,null,null,null,null,null,null,null,null,null,null,null,null,null,null,null,null,"Автономна Республіка Крим","Лаванда"]
[null,null,null,null,null,null,null,null,null,null,null,null,null,null,null,"27.32","Виробництво інших видів електронних і електричних проводів та кабелів",null,null,null,null,null,null,null,null,null,null,null,null,null,null,null,null,null,null,null,null,null,null,null,null,null,null,null,null,"Автономна Республіка Крим","Лаврове"]
[null,null,null,null,null,null,null,null,null,null,null,null,null,null,null,"27.33","Виробництво електромонтажних пристроїв",null,null,null,null,null,null,null,null,null,null,null,null,null,null,null,null,null,null,null,null,null,null,null,null,null,null,null,null,"Автономна Республіка Крим","Лазарівка"]
[null,null,null,null,null,null,null,null,null,null,null,null,null,null,null,"27.4","Виробництво електричного освітлювального устатковання",null,null,null,null,null,null,null,null,null,null,null,null,null,null,null,null,null,null,null,null,null,null,null,null,null,null,null,null,"Автономна Республіка Крим","Лазурне"]
[null,null,null,null,null,null,null,null,null,null,null,null,null,null,null,"27.40","Виробництво електричного освітлювального устатковання",null,null,null,null,null,null,null,null,null,null,null,null,null,null,null,null,null,null,null,null,null,null,null,null,null,null,null,null,"Автономна Республіка Крим","Лебединка"]
[null,null,null,null,null,null,null,null,null,null,null,null,null,null,null,"27.5","Виробництво побутових приладів",null,null,null,null,null,null,null,null,null,null,null,null,null,null,null,null,null,null,null,null,null,null,null,null,null,null,null,null,"Автономна Республіка Крим","Левадки"]
[null,null,null,null,null,null,null,null,null,null,null,null,null,null,null,"27.51","Виробництво електричних побутових приладів",null,null,null,null,null,null,null,null,null,null,null,null,null,null,null,null,null,null,null,null,null,null,null,null,null,null,null,null,"Автономна Республіка Крим","Левітанівка (Калінінської)"]
[null,null,null,null,null,null,null,null,null,null,null,null,null,null,null,"27.52","Виробництво неелектричних побутових приладів",null,null,null,null,null,null,null,null,null,null,null,null,null,null,null,null,null,null,null,null,null,null,null,null,null,null,null,null,"Автономна Республіка Крим","Леніне"]
[null,null,null,null,null,null,null,null,null,null,null,null,null,null,null,"27.9","Виробництво іншого електричного устатковання",null,null,null,null,null,null,null,null,null,null,null,null,null,null,null,null,null,null,null,null,null,null,null,null,null,null,null,null,"Автономна Республіка Крим","Ленінське"]
[null,null,null,null,null,null,null,null,null,null,null,null,null,null,null,"27.90","Виробництво іншого електричного устатковання",null,null,null,null,null,null,null,null,null,null,null,null,null,null,null,null,null,null,null,null,null,null,null,null,null,null,null,null,"Автономна Республіка Крим","Ленське"]
[null,null,null,null,null,null,null,null,null,null,null,null,null,null,null,"28","Виробництво машин і устатковання, н.в.і.у.",null,null,null,null,null,null,null,null,null,null,null,null,null,null,null,null,null,null,null,null,null,null,null,null,null,null,null,null,"Автономна Республіка Крим","Лиманне"]
[null,null,null,null,null,null,null,null,null,null,null,null,null,null,null,"28.1","Виробництво машин і устатковання загального призначення",null,null,null,null,null,null,null,null,null,null,null,null,null,null,null,null,null,null,null,null,null,null,null,null,null,null,null,null,"Автономна Республіка Крим","Листвинне"]
[null,null,null,null,null,null,null,null,null,null,null,null,null,null,null,"28.11","Виробництво двигунів і турбін, крім авіаційних, автотранспортних і мотоциклетних двигунів",null,null,null,null,null,null,null,null,null,null,null,null,null,null,null,null,null,null,null,null,null,null,null,null,null,null,null,null,"Автономна Республіка Крим","Листове"]
[null,null,null,null,null,null,null,null,null,null,null,null,null,null,null,"28.12","Виробництво гідравлічного та пневматичного устатковання",null,null,null,null,null,null,null,null,null,null,null,null,null,null,null,null,null,null,null,null,null,null,null,null,null,null,null,null,"Автономна Республіка Крим","Литвиненкове"]
[null,null,null,null,null,null,null,null,null,null,null,null,null,null,null,"28.13","Виробництво інших помп і компресорів",null,null,null,null,null,null,null,null,null,null,null,null,null,null,null,null,null,null,null,null,null,null,null,null,null,null,null,null,"Автономна Республіка Крим","Лібкнехтівка"]
[null,null,null,null,null,null,null,null,null,null,null,null,null,null,null,"28.14","Виробництво інших кранів і клапанів",null,null,null,null,null,null,null,null,null,null,null,null,null,null,null,null,null,null,null,null,null,null,null,null,null,null,null,null,"Автономна Республіка Крим","Лівадія"]
[null,null,null,null,null,null,null,null,null,null,null,null,null,null,null,"28.15","Виробництво підшипників, зубчастих передач, елементів механічних передач і приводів",null,null,null,null,null,null,null,null,null,null,null,null,null,null,null,null,null,null,null,null,null,null,null,null,null,null,null,null,"Автономна Республіка Крим","Лікарственне"]
[null,null,null,null,null,null,null,null,null,null,null,null,null,null,null,"28.2","Виробництво інших машин і устатковання загального призначення",null,null,null,null,null,null,null,null,null,null,null,null,null,null,null,null,null,null,null,null,null,null,null,null,null,null,null,null,"Автономна Республіка Крим","Лінійне"]
[null,null,null,null,null,null,null,null,null,null,null,null,null,null,null,"28.21","Виробництво духових шаф, печей і пічних пальників",null,null,null,null,null,null,null,null,null,null,null,null,null,null,null,null,null,null,null,null,null,null,null,null,null,null,null,null,"Автономна Республіка Крим","Лісне"]
[null,null,null,null,null,null,null,null,null,null,null,null,null,null,null,"28.22","Виробництво підіймального та вантажно-розвантажувального устатковання",null,null,null,null,null,null,null,null,null,null,null,null,null,null,null,null,null,null,null,null,null,null,null,null,null,null,null,null,"Автономна Республіка Крим","Ліснівка"]
[null,null,null,null,null,null,null,null,null,null,null,null,null,null,null,"28.23","Виробництво офісних машин і устатковання, крім комп'ютерів і периферійного устатковання",null,null,null,null,null,null,null,null,null,null,null,null,null,null,null,null,null,null,null,null,null,null,null,null,null,null,null,null,"Автономна Республіка Крим","Лісносілля"]
[null,null,null,null,null,null,null,null,null,null,null,null,null,null,null,"28.24","Виробництво ручних електромеханічних і пневматичних інструментів",null,null,null,null,null,null,null,null,null,null,null,null,null,null,null,null,null,null,null,null,null,null,null,null,null,null,null,null,"Автономна Республіка Крим","Лічебне"]
[null,null,null,null,null,null,null,null,null,null,null,null,null,null,null,"28.25","Виробництво промислового холодильного та вентиляційного устатковання",null,null,null,null,null,null,null,null,null,null,null,null,null,null,null,null,null,null,null,null,null,null,null,null,null,null,null,null,"Автономна Республіка Крим","Лобанове"]
[null,null,null,null,null,null,null,null,null,null,null,null,null,null,null,"28.29","Виробництво інших машин і устатковання загального призначення, н.в.і.у.",null,null,null,null,null,null,null,null,null,null,null,null,null,null,null,null,null,null,null,null,null,null,null,null,null,null,null,null,"Автономна Республіка Крим","Ломоносове"]
[null,null,null,null,null,null,null,null,null,null,null,null,null,null,null,"28.3","Виробництво машин і устатковання для сільського та лісового господарства",null,null,null,null,null,null,null,null,null,null,null,null,null,null,null,null,null,null,null,null,null,null,null,null,null,null,null,null,"Автономна Республіка Крим","Лохівка"]
[null,null,null,null,null,null,null,null,null,null,null,null,null,null,null,"28.30","Виробництво машин і устатковання для сільського та лісового господарства",null,null,null,null,null,null,null,null,null,null,null,null,null,null,null,null,null,null,null,null,null,null,null,null,null,null,null,null,"Автономна Республіка Крим","Луганське"]
[null,null,null,null,null,null,null,null,null,null,null,null,null,null,null,"28.4","Виробництво металообробних машин і верстатів",null,null,null,null,null,null,null,null,null,null,null,null,null,null,null,null,null,null,null,null,null,null,null,null,null,null,null,null,"Автономна Республіка Крим","Лугове"]
[null,null,null,null,null,null,null,null,null,null,null,null,null,null,null,"28.41","Виробництво металообробних машин",null,null,null,null,null,null,null,null,null,null,null,null,null,null,null,null,null,null,null,null,null,null,null,null,null,null,null,null,"Автономна Республіка Крим","Лугове (Сизівська)"]
[null,null,null,null,null,null,null,null,null,null,null,null,null,null,null,"28.49","Виробництво інших верстатів",null,null,null,null,null,null,null,null,null,null,null,null,null,null,null,null,null,null,null,null,null,null,null,null,null,null,null,null,"Автономна Республіка Крим","Лужки"]
[null,null,null,null,null,null,null,null,null,null,null,null,null,null,null,"28.9","Виробництво інших машин і устатковання спеціального призначення",null,null,null,null,null,null,null,null,null,null,null,null,null,null,null,null,null,null,null,null,null,null,null,null,null,null,null,null,"Автономна Республіка Крим","Лучисте"]
[null,null,null,null,null,null,null,null,null,null,null,null,null,null,null,"28.91","Виробництво машин і устатковання для металургії",null,null,null,null,null,null,null,null,null,null,null,null,null,null,null,null,null,null,null,null,null,null,null,null,null,null,null,null,"Автономна Республіка Крим","Лучове"]
[null,null,null,null,null,null,null,null,null,null,null,null,null,null,null,"28.92","Виробництво машин і устатковання для добувної промисловості та будівництва",null,null,null,null,null,null,null,null,null,null,null,null,null,null,null,null,null,null,null,null,null,null,null,null,null,null,null,null,"Автономна Республіка Крим","Лушине (Стовпівська)"]
[null,null,null,null,null,null,null,null,null,null,null,null,null,null,null,"28.93","Виробництво машин і устатковання для виготовлення харчових продуктів і напоїв, перероблення тютюну",null,null,null,null,null,null,null,null,null,null,null,null,null,null,null,null,null,null,null,null,null,null,null,null,null,null,null,null,"Автономна Республіка Крим","Любимівка"]
[null,null,null,null,null,null,null,null,null,null,null,null,null,null,null,"28.94","Виробництво машин і устатковання для виготовлення текстильних, швейних, хутряних і шкіряних виробів",null,null,null,null,null,null,null,null,null,null,null,null,null,null,null,null,null,null,null,null,null,null,null,null,null,null,null,null,"Автономна Республіка Крим","Львове"]
[null,null,null,null,null,null,null,null,null,null,null,null,null,null,null,"28.95","Виробництво машин і устатковання для виготовлення паперу та картону",null,null,null,null,null,null,null,null,null,null,null,null,null,null,null,null,null,null,null,null,null,null,null,null,null,null,null,null,"Автономна Республіка Крим","Льговське"]
[null,null,null,null,null,null,null,null,null,null,null,null,null,null,null,"28.96","Виробництво машин і устатковання для виготовлення пластмас і гуми",null,null,null,null,null,null,null,null,null,null,null,null,null,null,null,null,null,null,null,null,null,null,null,null,null,null,null,null,"Автономна Республіка Крим","Магазинка (Магазинська)"]
[null,null,null,null,null,null,null,null,null,null,null,null,null,null,null,"28.99","Виробництво інших машин і устатковання спеціального призначення, н.в.і.у.",null,null,null,null,null,null,null,null,null,null,null,null,null,null,null,null,null,null,null,null,null,null,null,null,null,null,null,null,"Автономна Республіка Крим","Мазанка"]
[null,null,null,null,null,null,null,null,null,null,null,null,null,null,null,"29","Виробництво автотранспортних засобів, причепів і напівпричепів",null,null,null,null,null,null,null,null,null,null,null,null,null,null,null,null,null,null,null,null,null,null,null,null,null,null,null,null,"Автономна Республіка Крим","Майське"]
[null,null,null,null,null,null,null,null,null,null,null,null,null,null,null,"29.1","Виробництво автотранспортних засобів",null,null,null,null,null,null,null,null,null,null,null,null,null,null,null,null,null,null,null,null,null,null,null,null,null,null,null,null,"Автономна Республіка Крим","Макарівка (Первомайської)"]
[null,null,null,null,null,null,null,null,null,null,null,null,null,null,null,"29.10","Виробництво автотранспортних засобів",null,null,null,null,null,null,null,null,null,null,null,null,null,null,null,null,null,null,null,null,null,null,null,null,null,null,null,null,"Автономна Республіка Крим","Маківка"]
[null,null,null,null,null,null,null,null,null,null,null,null,null,null,null,"29.2","Виробництво кузовів для автотранспортних засобів, причепів і напівпричепів",null,null,null,null,null,null,null,null,null,null,null,null,null,null,null,null,null,null,null,null,null,null,null,null,null,null,null,null,"Автономна Республіка Крим","Маківське"]
[null,null,null,null,null,null,null,null,null,null,null,null,null,null,null,"29.20","Виробництво кузовів для автотранспортних засобів, причепів і напівпричепів",null,null,null,null,null,null,null,null,null,null,null,null,null,null,null,null,null,null,null,null,null,null,null,null,null,null,null,null,"Автономна Республіка Крим","Максимівка (Руч'ївська сільська рада)"]
[null,null,null,null,null,null,null,null,null,null,null,null,null,null,null,"29.3","Виробництво вузлів, деталей і приладдя для автотранспортних засобів",null,null,null,null,null,null,null,null,null,null,null,null,null,null,null,null,null,null,null,null,null,null,null,null,null,null,null,null,"Автономна Республіка Крим","Мале Садове"]
[null,null,null,null,null,null,null,null,null,null,null,null,null,null,null,"29.31","Виробництво електричного й електронного устатковання для автотранспортних засобів",null,null,null,null,null,null,null,null,null,null,null,null,null,null,null,null,null,null,null,null,null,null,null,null,null,null,null,null,"Автономна Республіка Крим","Маленьке"]
[null,null,null,null,null,null,null,null,null,null,null,null,null,null,null,"29.32","Виробництво інших вузлів, деталей і приладдя для автотранспортних засобів",null,null,null,null,null,null,null,null,null,null,null,null,null,null,null,null,null,null,null,null,null,null,null,null,null,null,null,null,"Автономна Республіка Крим","Малий Маяк"]
[null,null,null,null,null,null,null,null,null,null,null,null,null,null,null,"30","Виробництво інших транспортних засобів",null,null,null,null,null,null,null,null,null,null,null,null,null,null,null,null,null,null,null,null,null,null,null,null,null,null,null,null,"Автономна Республіка Крим","Малинівка"]
[null,null,null,null,null,null,null,null,null,null,null,null,null,null,null,"30.1","Будування суден і човнів",null,null,null,null,null,null,null,null,null,null,null,null,null,null,null,null,null,null,null,null,null,null,null,null,null,null,null,null,"Автономна Республіка Крим","Маловидне"]
[null,null,null,null,null,null,null,null,null,null,null,null,null,null,null,"30.11","Будування суден і плавучих конструкцій",null,null,null,null,null,null,null,null,null,null,null,null,null,null,null,null,null,null,null,null,null,null,null,null,null,null,null,null,"Автономна Республіка Крим","Малоріченське"]
[null,null,null,null,null,null,null,null,null,null,null,null,null,null,null,"30.12","Будування прогулянкових і спортивних човнів",null,null,null,null,null,null,null,null,null,null,null,null,null,null,null,null,null,null,null,null,null,null,null,null,null,null,null,null,"Автономна Республіка Крим","Мар'ївка"]
[null,null,null,null,null,null,null,null,null,null,null,null,null,null,null,"30.2","Виробництво залізничних локомотивів і рухомого складу",null,null,null,null,null,null,null,null,null,null,null,null,null,null,null,null,null,null,null,null,null,null,null,null,null,null,null,null,"Автономна Республіка Крим","Мар'їне"]
[null,null,null,null,null,null,null,null,null,null,null,null,null,null,null,"30.20","Виробництво залізничних локомотивів і рухомого складу",null,null,null,null,null,null,null,null,null,null,null,null,null,null,null,null,null,null,null,null,null,null,null,null,null,null,null,null,"Автономна Республіка Крим","Маркове"]
[null,null,null,null,null,null,null,null,null,null,null,null,null,null,null,"30.3","Виробництво повітряних і космічних літальних апаратів, супутнього устатковання",null,null,null,null,null,null,null,null,null,null,null,null,null,null,null,null,null,null,null,null,null,null,null,null,null,null,null,null,"Автономна Республіка Крим","Мартинівка"]
[null,null,null,null,null,null,null,null,null,null,null,null,null,null,null,"30.30","Виробництво повітряних і космічних літальних апаратів, супутнього устатковання",null,null,null,null,null,null,null,null,null,null,null,null,null,null,null,null,null,null,null,null,null,null,null,null,null,null,null,null,"Автономна Республіка Крим","Марфівка"]
[null,null,null,null,null,null,null,null,null,null,null,null,null,null,null,"30.4","Виробництво військових транспортних засобів",null,null,null,null,null,null,null,null,null,null,null,null,null,null,null,null,null,null,null,null,null,null,null,null,null,null,null,null,"Автономна Республіка Крим","Мар'янівка"]
[null,null,null,null,null,null,null,null,null,null,null,null,null,null,null,"30.40","Виробництво військових транспортних засобів",null,null,null,null,null,null,null,null,null,null,null,null,null,null,null,null,null,null,null,null,null,null,null,null,null,null,null,null,"Автономна Республіка Крим","Масандра"]
[null,null,null,null,null,null,null,null,null,null,null,null,null,null,null,"30.9","Виробництво транспортних засобів, н.в.і.у.",null,null,null,null,null,null,null,null,null,null,null,null,null,null,null,null,null,null,null,null,null,null,null,null,null,null,null,null,"Автономна Республіка Крим","Маслове"]
[null,null,null,null,null,null,null,null,null,null,null,null,null,null,null,"30.91","Виробництво мотоциклів",null,null,null,null,null,null,null,null,null,null,null,null,null,null,null,null,null,null,null,null,null,null,null,null,null,null,null,null,"Автономна Республіка Крим","Матвіївка (Правдинської)"]
[null,null,null,null,null,null,null,null,null,null,null,null,null,null,null,"30.92","Виробництво велосипедів, дитячих та інвалідних колясок",null,null,null,null,null,null,null,null,null,null,null,null,null,null,null,null,null,null,null,null,null,null,null,null,null,null,null,null,"Автономна Республіка Крим","Матросівка"]
[null,null,null,null,null,null,null,null,null,null,null,null,null,null,null,"30.99","Виробництво інших транспортних засобів і обладнання, н.в.і.у.",null,null,null,null,null,null,null,null,null,null,null,null,null,null,null,null,null,null,null,null,null,null,null,null,null,null,null,null,"Автономна Республіка Крим","Машине"]
[null,null,null,null,null,null,null,null,null,null,null,null,null,null,null,"31","Виробництво меблів",null,null,null,null,null,null,null,null,null,null,null,null,null,null,null,null,null,null,null,null,null,null,null,null,null,null,null,null,"Автономна Республіка Крим","Маяк"]
[null,null,null,null,null,null,null,null,null,null,null,null,null,null,null,"31.0","Виробництво меблів",null,null,null,null,null,null,null,null,null,null,null,null,null,null,null,null,null,null,null,null,null,null,null,null,null,null,null,null,"Автономна Республіка Крим","Медведеве"]
[null,null,null,null,null,null,null,null,null,null,null,null,null,null,null,"31.01","Виробництво меблів для офісів і підприємств торгівлі",null,null,null,null,null,null,null,null,null,null,null,null,null,null,null,null,null,null,null,null,null,null,null,null,null,null,null,null,"Автономна Республіка Крим","Медведівка"]
[null,null,null,null,null,null,null,null,null,null,null,null,null,null,null,"31.02","Виробництво кухонних меблів",null,null,null,null,null,null,null,null,null,null,null,null,null,null,null,null,null,null,null,null,null,null,null,null,null,null,null,null,"Автономна Республіка Крим","Межове"]
[null,null,null,null,null,null,null,null,null,null,null,null,null,null,null,"31.03","Виробництво матраців",null,null,null,null,null,null,null,null,null,null,null,null,null,null,null,null,null,null,null,null,null,null,null,null,null,null,null,null,"Автономна Республіка Крим","Мелехове"]
[null,null,null,null,null,null,null,null,null,null,null,null,null,null,null,"31.09","Виробництво інших меблів",null,null,null,null,null,null,null,null,null,null,null,null,null,null,null,null,null,null,null,null,null,null,null,null,null,null,null,null,"Автономна Республіка Крим","Мельники"]
[null,null,null,null,null,null,null,null,null,null,null,null,null,null,null,"32","Виробництво іншої продукції",null,null,null,null,null,null,null,null,null,null,null,null,null,null,null,null,null,null,null,null,null,null,null,null,null,null,null,null,"Автономна Республіка Крим","Мельничне"]
[null,null,null,null,null,null,null,null,null,null,null,null,null,null,null,"32.1","Виробництво ювелірних виробів, біжутерії та подібних виробів",null,null,null,null,null,null,null,null,null,null,null,null,null,null,null,null,null,null,null,null,null,null,null,null,null,null,null,null,"Автономна Республіка Крим","Мельничне (Островської)"]
[null,null,null,null,null,null,null,null,null,null,null,null,null,null,null,"32.11","Карбування монет",null,null,null,null,null,null,null,null,null,null,null,null,null,null,null,null,null,null,null,null,null,null,null,null,null,null,null,null,"Автономна Республіка Крим","Менделєєве"]
[null,null,null,null,null,null,null,null,null,null,null,null,null,null,null,"32.12","Виробництво ювелірних і подібних виробів",null,null,null,null,null,null,null,null,null,null,null,null,null,null,null,null,null,null,null,null,null,null,null,null,null,null,null,null,"Автономна Республіка Крим","Миколаївка"]
[null,null,null,null,null,null,null,null,null,null,null,null,null,null,null,"32.13","Виробництво біжутерії та подібних виробів",null,null,null,null,null,null,null,null,null,null,null,null,null,null,null,null,null,null,null,null,null,null,null,null,null,null,null,null,"Автономна Республіка Крим","Миндальне"]
[null,null,null,null,null,null,null,null,null,null,null,null,null,null,null,"32.2","Виробництво музичних інструментів",null,null,null,null,null,null,null,null,null,null,null,null,null,null,null,null,null,null,null,null,null,null,null,null,null,null,null,null,"Автономна Республіка Крим","Мирний"]
[null,null,null,null,null,null,null,null,null,null,null,null,null,null,null,"32.20","Виробництво музичних інструментів",null,null,null,null,null,null,null,null,null,null,null,null,null,null,null,null,null,null,null,null,null,null,null,null,null,null,null,null,"Автономна Республіка Крим","Мирнівка"]
[null,null,null,null,null,null,null,null,null,null,null,null,null,null,null,"32.3","Виробництво спортивних товарів",null,null,null,null,null,null,null,null,null,null,null,null,null,null,null,null,null,null,null,null,null,null,null,null,null,null,null,null,"Автономна Республіка Крим","Миролюбівка"]
[null,null,null,null,null,null,null,null,null,null,null,null,null,null,null,"32.30","Виробництво спортивних товарів",null,null,null,null,null,null,null,null,null,null,null,null,null,null,null,null,null,null,null,null,null,null,null,null,null,null,null,null,"Автономна Республіка Крим","Миронівка"]
[null,null,null,null,null,null,null,null,null,null,null,null,null,null,null,"32.4","Виробництво ігор та іграшок",null,null,null,null,null,null,null,null,null,null,null,null,null,null,null,null,null,null,null,null,null,null,null,null,null,null,null,null,"Автономна Республіка Крим","Мисове"]
[null,null,null,null,null,null,null,null,null,null,null,null,null,null,null,"32.40","Виробництво ігор та іграшок",null,null,null,null,null,null,null,null,null,null,null,null,null,null,null,null,null,null,null,null,null,null,null,null,null,null,null,null,"Автономна Республіка Крим","Митрофанівка"]
[null,null,null,null,null,null,null,null,null,null,null,null,null,null,null,"32.5","Виробництво медичних і стоматологічних інструментів і матеріалів",null,null,null,null,null,null,null,null,null,null,null,null,null,null,null,null,null,null,null,null,null,null,null,null,null,null,null,null,"Автономна Республіка Крим","Митюрине"]
[null,null,null,null,null,null,null,null,null,null,null,null,null,null,null,"32.50","Виробництво медичних і стоматологічних інструментів і матеріалів",null,null,null,null,null,null,null,null,null,null,null,null,null,null,null,null,null,null,null,null,null,null,null,null,null,null,null,null,"Автономна Республіка Крим","Митяєве"]
[null,null,null,null,null,null,null,null,null,null,null,null,null,null,null,"32.9","Виробництво продукції, н.в.і.у.",null,null,null,null,null,null,null,null,null,null,null,null,null,null,null,null,null,null,null,null,null,null,null,null,null,null,null,null,"Автономна Республіка Крим","Михайлівка"]
[null,null,null,null,null,null,null,null,null,null,null,null,null,null,null,"32.91","Виробництво мітел і щіток",null,null,null,null,null,null,null,null,null,null,null,null,null,null,null,null,null,null,null,null,null,null,null,null,null,null,null,null,"Автономна Республіка Крим","Міжводне"]
[null,null,null,null,null,null,null,null,null,null,null,null,null,null,null,"32.99","Виробництво іншої продукції, н.в.і.у.",null,null,null,null,null,null,null,null,null,null,null,null,null,null,null,null,null,null,null,null,null,null,null,null,null,null,null,null,"Автономна Республіка Крим","Міжгірне"]
[null,null,null,null,null,null,null,null,null,null,null,null,null,null,null,"33","Ремонт і монтаж машин і устатковання",null,null,null,null,null,null,null,null,null,null,null,null,null,null,null,null,null,null,null,null,null,null,null,null,null,null,null,null,"Автономна Республіка Крим","Міжгір'я"]
[null,null,null,null,null,null,null,null,null,null,null,null,null,null,null,"33.1","Ремонт і технічне обслуговування готових металевих виробів, машин і устатковання",null,null,null,null,null,null,null,null,null,null,null,null,null,null,null,null,null,null,null,null,null,null,null,null,null,null,null,null,"Автономна Республіка Крим","Міжріччя"]
[null,null,null,null,null,null,null,null,null,null,null,null,null,null,null,"33.11","Ремонт і технічне обслуговування готових металевих виробів",null,null,null,null,null,null,null,null,null,null,null,null,null,null,null,null,null,null,null,null,null,null,null,null,null,null,null,null,"Автономна Республіка Крим","Мілководне"]
[null,null,null,null,null,null,null,null,null,null,null,null,null,null,null,"33.12","Ремонт і технічне обслуговування машин і устатковання промислового призначення",null,null,null,null,null,null,null,null,null,null,null,null,null,null,null,null,null,null,null,null,null,null,null,null,null,null,null,null,"Автономна Республіка Крим","Мічурінівка"]
[null,null,null,null,null,null,null,null,null,null,null,null,null,null,null,"33.13","Ремонт і технічне обслуговування електронного й оптичного устатковання",null,null,null,null,null,null,null,null,null,null,null,null,null,null,null,null,null,null,null,null,null,null,null,null,null,null,null,null,"Автономна Республіка Крим","Мічурінське"]
[null,null,null,null,null,null,null,null,null,null,null,null,null,null,null,"33.14","Ремонт і технічне обслуговування електричного устатковання",null,null,null,null,null,null,null,null,null,null,null,null,null,null,null,null,null,null,null,null,null,null,null,null,null,null,null,null,"Автономна Республіка Крим","Многоводне"]
[null,null,null,null,null,null,null,null,null,null,null,null,null,null,null,"33.15","Ремонт і технічне обслуговування суден і човнів",null,null,null,null,null,null,null,null,null,null,null,null,null,null,null,null,null,null,null,null,null,null,null,null,null,null,null,null,"Автономна Республіка Крим","Многоріччя"]
[null,null,null,null,null,null,null,null,null,null,null,null,null,null,null,"33.16","Ремонт і технічне обслуговування повітряних і космічних літальних апаратів",null,null,null,null,null,null,null,null,null,null,null,null,null,null,null,null,null,null,null,null,null,null,null,null,null,null,null,null,"Автономна Республіка Крим","Молодіжне"]
[null,null,null,null,null,null,null,null,null,null,null,null,null,null,null,"33.17","Ремонт і технічне обслуговування інших транспортних засобів",null,null,null,null,null,null,null,null,null,null,null,null,null,null,null,null,null,null,null,null,null,null,null,null,null,null,null,null,"Автономна Республіка Крим","Молочне"]
[null,null,null,null,null,null,null,null,null,null,null,null,null,null,null,"33.19","Ремонт і технічне обслуговування інших машин і устатковання",null,null,null,null,null,null,null,null,null,null,null,null,null,null,null,null,null,null,null,null,null,null,null,null,null,null,null,null,"Автономна Республіка Крим","Молочне (Ковильнівська сільська рада)"]
[null,null,null,null,null,null,null,null,null,null,null,null,null,null,null,"33.2","Установлення та монтаж машин і устатковання",null,null,null,null,null,null,null,null,null,null,null,null,null,null,null,null,null,null,null,null,null,null,null,null,null,null,null,null,"Автономна Республіка Крим","Морське"]
[null,null,null,null,null,null,null,null,null,null,null,null,null,null,null,"33.20","Установлення та монтаж машин і устатковання",null,null,null,null,null,null,null,null,null,null,null,null,null,null,null,null,null,null,null,null,null,null,null,null,null,null,null,null,"Автономна Республіка Крим","Мостове"]
[null,null,null,null,null,null,null,null,null,null,null,null,null,null,null,"D","Постачання електроенергії, газу, пари та кондиційованого повітря",null,null,null,null,null,null,null,null,null,null,null,null,null,null,null,null,null,null,null,null,null,null,null,null,null,null,null,null,"Автономна Республіка Крим","Мраморне"]
[null,null,null,null,null,null,null,null,null,null,null,null,null,null,null,"35","Постачання електроенергії, газу, пари та кондиційованого повітря",null,null,null,null,null,null,null,null,null,null,null,null,null,null,null,null,null,null,null,null,null,null,null,null,null,null,null,null,"Автономна Республіка Крим","Муромське"]
[null,null,null,null,null,null,null,null,null,null,null,null,null,null,null,"35.1","Виробництво, передача та розподілення електроенергії",null,null,null,null,null,null,null,null,null,null,null,null,null,null,null,null,null,null,null,null,null,null,null,null,null,null,null,null,"Автономна Республіка Крим","Мускатне"]
[null,null,null,null,null,null,null,null,null,null,null,null,null,null,null,"35.11","Виробництво електроенергії",null,null,null,null,null,null,null,null,null,null,null,null,null,null,null,null,null,null,null,null,null,null,null,null,null,null,null,null,"Автономна Республіка Крим","Набережне"]
[null,null,null,null,null,null,null,null,null,null,null,null,null,null,null,"35.12","Передача електроенергії",null,null,null,null,null,null,null,null,null,null,null,null,null,null,null,null,null,null,null,null,null,null,null,null,null,null,null,null,"Автономна Республіка Крим","Нагірне"]
[null,null,null,null,null,null,null,null,null,null,null,null,null,null,null,"35.13","Розподілення електроенергії",null,null,null,null,null,null,null,null,null,null,null,null,null,null,null,null,null,null,null,null,null,null,null,null,null,null,null,null,"Автономна Республіка Крим","Надежда"]
[null,null,null,null,null,null,null,null,null,null,null,null,null,null,null,"35.14","Торгівля електроенергією",null,null,null,null,null,null,null,null,null,null,null,null,null,null,null,null,null,null,null,null,null,null,null,null,null,null,null,null,"Автономна Республіка Крим","Надеждине (Красноармійська)"]
[null,null,null,null,null,null,null,null,null,null,null,null,null,null,null,"35.2","Виробництво газу; розподілення газоподібного палива через місцеві (локальні) трубопроводи",null,null,null,null,null,null,null,null,null,null,null,null,null,null,null,null,null,null,null,null,null,null,null,null,null,null,null,null,"Автономна Республіка Крим","Найдьонівка"]
[null,null,null,null,null,null,null,null,null,null,null,null,null,null,null,"35.21","Виробництво газу",null,null,null,null,null,null,null,null,null,null,null,null,null,null,null,null,null,null,null,null,null,null,null,null,null,null,null,null,"Автономна Республіка Крим","Наникове"]
[null,null,null,null,null,null,null,null,null,null,null,null,null,null,null,"35.22","Розподілення газоподібного палива через місцеві (локальні) трубопроводи",null,null,null,null,null,null,null,null,null,null,null,null,null,null,null,null,null,null,null,null,null,null,null,null,null,null,null,null,"Автономна Республіка Крим","Насипне"]
[null,null,null,null,null,null,null,null,null,null,null,null,null,null,null,"35.23","Торгівля газом через місцеві (локальні) трубопроводи",null,null,null,null,null,null,null,null,null,null,null,null,null,null,null,null,null,null,null,null,null,null,null,null,null,null,null,null,"Автономна Республіка Крим","Наташине"]
[null,null,null,null,null,null,null,null,null,null,null,null,null,null,null,"35.3","Постачання пари, гарячої води та кондиційованого повітря",null,null,null,null,null,null,null,null,null,null,null,null,null,null,null,null,null,null,null,null,null,null,null,null,null,null,null,null,"Автономна Республіка Крим","Наумівка"]
[null,null,null,null,null,null,null,null,null,null,null,null,null,null,null,"35.30","Постачання пари, гарячої води та кондиційованого повітря",null,null,null,null,null,null,null,null,null,null,null,null,null,null,null,null,null,null,null,null,null,null,null,null,null,null,null,null,"Автономна Республіка Крим","Научний"]
[null,null,null,null,null,null,null,null,null,null,null,null,null,null,null,"E","Водопостачання; каналізація, поводження з відходами",null,null,null,null,null,null,null,null,null,null,null,null,null,null,null,null,null,null,null,null,null,null,null,null,null,null,null,null,"Автономна Республіка Крим","Нахідка"]
[null,null,null,null,null,null,null,null,null,null,null,null,null,null,null,"36","Забір, очищення та постачання води",null,null,null,null,null,null,null,null,null,null,null,null,null,null,null,null,null,null,null,null,null,null,null,null,null,null,null,null,"Автономна Республіка Крим","Нахімове"]
[null,null,null,null,null,null,null,null,null,null,null,null,null,null,null,"36.0","Забір, очищення та постачання води",null,null,null,null,null,null,null,null,null,null,null,null,null,null,null,null,null,null,null,null,null,null,null,null,null,null,null,null,"Автономна Республіка Крим","Невське"]
[null,null,null,null,null,null,null,null,null,null,null,null,null,null,null,"36.00","Забір очищення та постачання води",null,null,null,null,null,null,null,null,null,null,null,null,null,null,null,null,null,null,null,null,null,null,null,null,null,null,null,null,"Автономна Республіка Крим","Некрасове"]
[null,null,null,null,null,null,null,null,null,null,null,null,null,null,null,"37","Каналізація, відведення й очищення стічних вод",null,null,null,null,null,null,null,null,null,null,null,null,null,null,null,null,null,null,null,null,null,null,null,null,null,null,null,null,"Автономна Республіка Крим","Некрасовка"]
[null,null,null,null,null,null,null,null,null,null,null,null,null,null,null,"37.0","Каналізація, відведення й очищення стічних вод",null,null,null,null,null,null,null,null,null,null,null,null,null,null,null,null,null,null,null,null,null,null,null,null,null,null,null,null,"Автономна Республіка Крим","Нива"]
[null,null,null,null,null,null,null,null,null,null,null,null,null,null,null,"37.00","Каналізація, відведення й очищення стічних вод",null,null,null,null,null,null,null,null,null,null,null,null,null,null,null,null,null,null,null,null,null,null,null,null,null,null,null,null,"Автономна Республіка Крим","Нива (Березівська)"]
[null,null,null,null,null,null,null,null,null,null,null,null,null,null,null,"38","Збирання, оброблення й видалення відходів; відновлення матеріалів",null,null,null,null,null,null,null,null,null,null,null,null,null,null,null,null,null,null,null,null,null,null,null,null,null,null,null,null,"Автономна Республіка Крим","Нижнє Запрудне"]
[null,null,null,null,null,null,null,null,null,null,null,null,null,null,null,"38.1","Збирання відходів",null,null,null,null,null,null,null,null,null,null,null,null,null,null,null,null,null,null,null,null,null,null,null,null,null,null,null,null,"Автономна Республіка Крим","Нижні Орішники"]
[null,null,null,null,null,null,null,null,null,null,null,null,null,null,null,"38.11","Збирання безпечних відходів",null,null,null,null,null,null,null,null,null,null,null,null,null,null,null,null,null,null,null,null,null,null,null,null,null,null,null,null,"Автономна Республіка Крим","Нижні Острожки"]
[null,null,null,null,null,null,null,null,null,null,null,null,null,null,null,"38.12","Збирання небезпечних відходів",null,null,null,null,null,null,null,null,null,null,null,null,null,null,null,null,null,null,null,null,null,null,null,null,null,null,null,null,"Автономна Республіка Крим","Нижня Голубинка"]
[null,null,null,null,null,null,null,null,null,null,null,null,null,null,null,"38.2","Оброблення та видалення відходів",null,null,null,null,null,null,null,null,null,null,null,null,null,null,null,null,null,null,null,null,null,null,null,null,null,null,null,null,"Автономна Республіка Крим","Нижня Кутузовка"]
[null,null,null,null,null,null,null,null,null,null,null,null,null,null,null,"38.21","Оброблення та видалення безпечних відходів",null,null,null,null,null,null,null,null,null,null,null,null,null,null,null,null,null,null,null,null,null,null,null,null,null,null,null,null,"Автономна Республіка Крим","Нижньогірський"]
[null,null,null,null,null,null,null,null,null,null,null,null,null,null,null,"38.22","Оброблення та видалення небезпечних відходів",null,null,null,null,null,null,null,null,null,null,null,null,null,null,null,null,null,null,null,null,null,null,null,null,null,null,null,null,"Автономна Республіка Крим","Нижньозаморське"]
[null,null,null,null,null,null,null,null,null,null,null,null,null,null,null,"38.3","Відновлення матеріалів",null,null,null,null,null,null,null,null,null,null,null,null,null,null,null,null,null,null,null,null,null,null,null,null,null,null,null,null,"Автономна Республіка Крим","Нижньокурганне"]
[null,null,null,null,null,null,null,null,null,null,null,null,null,null,null,"38.31","Демонтаж (розбирання) машин і устатковання",null,null,null,null,null,null,null,null,null,null,null,null,null,null,null,null,null,null,null,null,null,null,null,null,null,null,null,null,"Автономна Республіка Крим","Низинне"]
[null,null,null,null,null,null,null,null,null,null,null,null,null,null,null,"38.32","Відновлення відсортованих відходів",null,null,null,null,null,null,null,null,null,null,null,null,null,null,null,null,null,null,null,null,null,null,null,null,null,null,null,null,"Автономна Республіка Крим","Низинне (Зерновська)"]
[null,null,null,null,null,null,null,null,null,null,null,null,null,null,null,"39","Інша діяльність щодо поводження з відходами",null,null,null,null,null,null,null,null,null,null,null,null,null,null,null,null,null,null,null,null,null,null,null,null,null,null,null,null,"Автономна Республіка Крим","Низівка"]
[null,null,null,null,null,null,null,null,null,null,null,null,null,null,null,"39.0","Інша діяльність щодо поводження з відходами",null,null,null,null,null,null,null,null,null,null,null,null,null,null,null,null,null,null,null,null,null,null,null,null,null,null,null,null,"Автономна Республіка Крим","Ніжинське"]
[null,null,null,null,null,null,null,null,null,null,null,null,null,null,null,"39.00","Інша діяльність щодо поводження з відходами",null,null,null,null,null,null,null,null,null,null,null,null,null,null,null,null,null,null,null,null,null,null,null,null,null,null,null,null,"Автономна Республіка Крим","Нікіта"]
[null,null,null,null,null,null,null,null,null,null,null,null,null,null,null,"F","Будівництво",null,null,null,null,null,null,null,null,null,null,null,null,null,null,null,null,null,null,null,null,null,null,null,null,null,null,null,null,"Автономна Республіка Крим","Нова Деревня (Крестянівскої)"]
[null,null,null,null,null,null,null,null,null,null,null,null,null,null,null,"41","Будівництво будівель",null,null,null,null,null,null,null,null,null,null,null,null,null,null,null,null,null,null,null,null,null,null,null,null,null,null,null,null,"Автономна Республіка Крим","Нове  Життя"]
[null,null,null,null,null,null,null,null,null,null,null,null,null,null,null,"41.1","Організація будівництва будівель",null,null,null,null,null,null,null,null,null,null,null,null,null,null,null,null,null,null,null,null,null,null,null,null,null,null,null,null,"Автономна Республіка Крим","Новеньке"]
[null,null,null,null,null,null,null,null,null,null,null,null,null,null,null,"41.10","Організація будівництва будівель",null,null,null,null,null,null,null,null,null,null,null,null,null,null,null,null,null,null,null,null,null,null,null,null,null,null,null,null,"Автономна Республіка Крим","Новий Мир"]
[null,null,null,null,null,null,null,null,null,null,null,null,null,null,null,"41.2","Будівництво житлових і нежитлових будівель",null,null,null,null,null,null,null,null,null,null,null,null,null,null,null,null,null,null,null,null,null,null,null,null,null,null,null,null,"Автономна Республіка Крим","Новий Сад"]
[null,null,null,null,null,null,null,null,null,null,null,null,null,null,null,"41.20","Будівництво житлових і нежитлових будівель",null,null,null,null,null,null,null,null,null,null,null,null,null,null,null,null,null,null,null,null,null,null,null,null,null,null,null,null,"Автономна Республіка Крим","Новий Світ"]
[null,null,null,null,null,null,null,null,null,null,null,null,null,null,null,"42","Будівництво споруд",null,null,null,null,null,null,null,null,null,null,null,null,null,null,null,null,null,null,null,null,null,null,null,null,null,null,null,null,"Автономна Республіка Крим","Новоандріївка"]
[null,null,null,null,null,null,null,null,null,null,null,null,null,null,null,"42.1","Будівництво доріг і залізниць",null,null,null,null,null,null,null,null,null,null,null,null,null,null,null,null,null,null,null,null,null,null,null,null,null,null,null,null,"Автономна Республіка Крим","Нововасилівка"]
[null,null,null,null,null,null,null,null,null,null,null,null,null,null,null,"42.11","Будівництво доріг і автострад",null,null,null,null,null,null,null,null,null,null,null,null,null,null,null,null,null,null,null,null,null,null,null,null,null,null,null,null,"Автономна Республіка Крим","Нововідрадне"]
[null,null,null,null,null,null,null,null,null,null,null,null,null,null,null,"42.12","Будівництво залізниць і метрополітену",null,null,null,null,null,null,null,null,null,null,null,null,null,null,null,null,null,null,null,null,null,null,null,null,null,null,null,null,"Автономна Республіка Крим","Новогригорівка"]
[null,null,null,null,null,null,null,null,null,null,null,null,null,null,null,"42.13","Будівництво мостів і тунелів",null,null,null,null,null,null,null,null,null,null,null,null,null,null,null,null,null,null,null,null,null,null,null,null,null,null,null,null,"Автономна Республіка Крим","Новодолинка"]
[null,null,null,null,null,null,null,null,null,null,null,null,null,null,null,"42.2","Будівництво комунікацій",null,null,null,null,null,null,null,null,null,null,null,null,null,null,null,null,null,null,null,null,null,null,null,null,null,null,null,null,"Автономна Республіка Крим","Новоестонія"]
[null,null,null,null,null,null,null,null,null,null,null,null,null,null,null,"42.21","Будівництво трубопроводів",null,null,null,null,null,null,null,null,null,null,null,null,null,null,null,null,null,null,null,null,null,null,null,null,null,null,null,null,"Автономна Республіка Крим","Новожилівка"]
[null,null,null,null,null,null,null,null,null,null,null,null,null,null,null,"42.22","Будівництво споруд електропостачання та телекомунікацій",null,null,null,null,null,null,null,null,null,null,null,null,null,null,null,null,null,null,null,null,null,null,null,null,null,null,null,null,"Автономна Республіка Крим","Новозбур'ївка"]
[null,null,null,null,null,null,null,null,null,null,null,null,null,null,null,"42.9","Будівництво інших споруд",null,null,null,null,null,null,null,null,null,null,null,null,null,null,null,null,null,null,null,null,null,null,null,null,null,null,null,null,"Автономна Республіка Крим","Новозуївка"]
[null,null,null,null,null,null,null,null,null,null,null,null,null,null,null,"42.91","Будівництво водних споруд",null,null,null,null,null,null,null,null,null,null,null,null,null,null,null,null,null,null,null,null,null,null,null,null,null,null,null,null,"Автономна Республіка Крим","Новоіванівка"]
[null,null,null,null,null,null,null,null,null,null,null,null,null,null,null,"42.99","Будівництво інших споруд, н.в.і.у.",null,null,null,null,null,null,null,null,null,null,null,null,null,null,null,null,null,null,null,null,null,null,null,null,null,null,null,null,"Автономна Республіка Крим","Новоіванівка (Магазинська)"]
[null,null,null,null,null,null,null,null,null,null,null,null,null,null,null,"43","Спеціалізовані будівельні роботи",null,null,null,null,null,null,null,null,null,null,null,null,null,null,null,null,null,null,null,null,null,null,null,null,null,null,null,null,"Автономна Республіка Крим","Новокатеринівка"]
[null,null,null,null,null,null,null,null,null,null,null,null,null,null,null,"43.1","Знесення та підготовчі роботи на будівельному майданчику",null,null,null,null,null,null,null,null,null,null,null,null,null,null,null,null,null,null,null,null,null,null,null,null,null,null,null,null,"Автономна Республіка Крим","Новокленове"]
[null,null,null,null,null,null,null,null,null,null,null,null,null,null,null,"43.11","Знесення",null,null,null,null,null,null,null,null,null,null,null,null,null,null,null,null,null,null,null,null,null,null,null,null,null,null,null,null,"Автономна Республіка Крим","Новокостянтинівка"]
[null,null,null,null,null,null,null,null,null,null,null,null,null,null,null,"43.12","Підготовчі роботи на будівельному майданчику",null,null,null,null,null,null,null,null,null,null,null,null,null,null,null,null,null,null,null,null,null,null,null,null,null,null,null,null,"Автономна Республіка Крим","Новокримське"]
[null,null,null,null,null,null,null,null,null,null,null,null,null,null,null,"43.13","Розвідувальне буріння",null,null,null,null,null,null,null,null,null,null,null,null,null,null,null,null,null,null,null,null,null,null,null,null,null,null,null,null,"Автономна Республіка Крим","Новомикільське"]
[null,null,null,null,null,null,null,null,null,null,null,null,null,null,null,"43.2","Електромонтажні, водопровідні та інші будівельно-монтажні роботи",null,null,null,null,null,null,null,null,null,null,null,null,null,null,null,null,null,null,null,null,null,null,null,null,null,null,null,null,"Автономна Республіка Крим","Новомиколаївка"]
[null,null,null,null,null,null,null,null,null,null,null,null,null,null,null,"43.21","Електромонтажні роботи",null,null,null,null,null,null,null,null,null,null,null,null,null,null,null,null,null,null,null,null,null,null,null,null,null,null,null,null,"Автономна Республіка Крим","Новомиколаївка (Орлівської)"]
[null,null,null,null,null,null,null,null,null,null,null,null,null,null,null,"43.22","Монтаж водопровідних мереж, систем опалення та кондиціонування",null,null,null,null,null,null,null,null,null,null,null,null,null,null,null,null,null,null,null,null,null,null,null,null,null,null,null,null,"Автономна Республіка Крим","Новоозерне"]
[null,null,null,null,null,null,null,null,null,null,null,null,null,null,null,"43.29","Інші будівельно-монтажні роботи",null,null,null,null,null,null,null,null,null,null,null,null,null,null,null,null,null,null,null,null,null,null,null,null,null,null,null,null,"Автономна Республіка Крим","Новоолександрівка (Магазинської)"]
[null,null,null,null,null,null,null,null,null,null,null,null,null,null,null,"43.3","Роботи із завершення будівництва",null,null,null,null,null,null,null,null,null,null,null,null,null,null,null,null,null,null,null,null,null,null,null,null,null,null,null,null,"Автономна Республіка Крим","Новоолексіївка"]
[null,null,null,null,null,null,null,null,null,null,null,null,null,null,null,"43.31","Штукатурні роботи",null,null,null,null,null,null,null,null,null,null,null,null,null,null,null,null,null,null,null,null,null,null,null,null,null,null,null,null,"Автономна Республіка Крим","Новопавлівка"]
[null,null,null,null,null,null,null,null,null,null,null,null,null,null,null,"43.32","Установлення столярних виробів",null,null,null,null,null,null,null,null,null,null,null,null,null,null,null,null,null,null,null,null,null,null,null,null,null,null,null,null,"Автономна Республіка Крим","Новопавлівка (Новопавлівської)"]
[null,null,null,null,null,null,null,null,null,null,null,null,null,null,null,"46.24","Оптова торгівля шкірсировиною, шкурами та шкірою",null,null,null,null,null,null,null,null,null,null,null,null,null,null,null,null,null,null,null,null,null,null,null,null,null,null,null,null,"Автономна Республіка Крим","Опушки"]
[null,null,null,null,null,null,null,null,null,null,null,null,null,null,null,"46.61","Оптова торгівля сільськогосподарськими машинами й устаткованням",null,null,null,null,null,null,null,null,null,null,null,null,null,null,null,null,null,null,null,null,null,null,null,null,null,null,null,null,"Автономна Республіка Крим","Первомайське (Первомайської)"]
[null,null,null,null,null,null,null,null,null,null,null,null,null,null,null,"47.11","Роздрібна торгівля в неспеціалізованих магазинах переважно продуктами харчування, напоями та тютюновими виробами",null,null,null,null,null,null,null,null,null,null,null,null,null,null,null,null,null,null,null,null,null,null,null,null,null,null,null,null,"Автономна Республіка Крим","Побєдне"]
[null,null,null,null,null,null,null,null,null,null,null,null,null,null,null,"50.2","Вантажний морський транспорт",null,null,null,null,null,null,null,null,null,null,null,null,null,null,null,null,null,null,null,null,null,null,null,null,null,null,null,null,"Автономна Республіка Крим","Розкішне"]
[null,null,null,null,null,null,null,null,null,null,null,null,null,null,null,"52.24","Транспортне оброблення вантажів",null,null,null,null,null,null,null,null,null,null,null,null,null,null,null,null,null,null,null,null,null,null,null,null,null,null,null,null,"Автономна Республіка Крим","Санаторне"]
[null,null,null,null,null,null,null,null,null,null,null,null,null,null,null,"61.90","Інша діяльність у сфері електрозв'язку",null,null,null,null,null,null,null,null,null,null,null,null,null,null,null,null,null,null,null,null,null,null,null,null,null,null,null,null,"Автономна Республіка Крим","Степне (Степновської)"]
[null,null,null,null,null,null,null,null,null,null,null,null,null,null,null,"64.91","Фінансовий лізинг",null,null,null,null,null,null,null,null,null,null,null,null,null,null,null,null,null,null,null,null,null,null,null,null,null,null,null,null,"Автономна Республіка Крим","Тепле"]
[null,null,null,null,null,null,null,null,null,null,null,null,null,null,null,"73.2","Дослідження кон'юнктури ринку та виявлення громадської думки",null,null,null,null,null,null,null,null,null,null,null,null,null,null,null,null,null,null,null,null,null,null,null,null,null,null,null,null,"Автономна Республіка Крим","Цвіточне"]
[null,null,null,null,null,null,null,null,null,null,null,null,null,null,null,"77.32","Надання в оренду будівельних машин і устатковання",null,null,null,null,null,null,null,null,null,null,null,null,null,null,null,null,null,null,null,null,null,null,null,null,null,null,null,null,"Автономна Республіка Крим","Шаумян"]
[null,null,null,null,null,null,null,null,null,null,null,null,null,null,null,"79.90","Надання інших послуг із бронювання та пов'язана з цим діяльність",null,null,null,null,null,null,null,null,null,null,null,null,null,null,null,null,null,null,null,null,null,null,null,null,null,null,null,null,"Автономна Республіка Крим","Яковлівка"]
[null,null,null,null,null,null,null,null,null,null,null,null,null,null,null,"85.52","Освіта у сфері культури",null,null,null,null,null,null,null,null,null,null,null,null,null,null,null,null,null,null,null,null,null,null,null,null,null,null,null,null,"Вінницька","Бохоники"]
[null,null,null,null,null,null,null,null,null,null,null,null,null,null,null,"88.1","Надання соціальної допомоги без забезпечення проживання для осіб похилого віку та інвалідів",null,null,null,null,null,null,null,null,null,null,null,null,null,null,null,null,null,null,null,null,null,null,null,null,null,null,null,null,"Вінницька","Васютинці"]
[null,null,null,null,null,null,null,null,null,null,null,null,null,null,null,"96.04","Діяльність із забезпечення фізичного комфорту",null,null,null,null,null,null,null,null,null,null,null,null,null,null,null,null,null,null,null,null,null,null,null,null,null,null,null,null,"Вінницька","Глибока долина"]
[null,null,null,null,null,null,null,null,null,null,null,null,null,null,null,null,null,null,null,null,null,null,null,null,null,null,null,null,null,null,null,null,null,null,null,null,null,null,null,null,null,null,null,null,null,"Вінницька","Гриненки"]
[null,null,null,null,null,null,null,null,null,null,null,null,null,null,null,null,null,null,null,null,null,null,null,null,null,null,null,null,null,null,null,null,null,null,null,null,null,null,null,null,null,null,null,null,null,"Вінницька","Жабелівка"]
[null,null,null,null,null,null,null,null,null,null,null,null,null,null,null,null,null,null,null,null,null,null,null,null,null,null,null,null,null,null,null,null,null,null,null,null,null,null,null,null,null,null,null,null,null,"Вінницька","Закриниччя"]
[null,null,null,null,null,null,null,null,null,null,null,null,null,null,null,null,null,null,null,null,null,null,null,null,null,null,null,null,null,null,null,null,null,null,null,null,null,null,null,null,null,null,null,null,null,"Вінницька","Кисляк (Карбівська сільська рада)"]
[null,null,null,null,null,null,null,null,null,null,null,null,null,null,null,null,null,null,null,null,null,null,null,null,null,null,null,null,null,null,null,null,null,null,null,null,null,null,null,null,null,null,null,null,null,"Вінницька","Комаргородське, селище"]
[null,null,null,null,null,null,null,null,null,null,null,null,null,null,null,null,null,null,null,null,null,null,null,null,null,null,null,null,null,null,null,null,null,null,null,null,null,null,null,null,null,null,null,null,null,"Вінницька","Куманівці"]
[null,null,null,null,null,null,null,null,null,null,null,null,null,null,null,null,null,null,null,null,null,null,null,null,null,null,null,null,null,null,null,null,null,null,null,null,null,null,null,null,null,null,null,null,null,"Вінницька","Лип'ятин"]
[null,null,null,null,null,null,null,null,null,null,null,null,null,null,null,null,null,null,null,null,null,null,null,null,null,null,null,null,null,null,null,null,null,null,null,null,null,null,null,null,null,null,null,null,null,"Вінницька","Мар'янівське, селище"]
[null,null,null,null,null,null,null,null,null,null,null,null,null,null,null,null,null,null,null,null,null,null,null,null,null,null,null,null,null,null,null,null,null,null,null,null,null,null,null,null,null,null,null,null,null,"Вінницька","Мончинці"]
[null,null,null,null,null,null,null,null,null,null,null,null,null,null,null,null,null,null,null,null,null,null,null,null,null,null,null,null,null,null,null,null,null,null,null,null,null,null,null,null,null,null,null,null,null,"Вінницька","Нишівці"]
[null,null,null,null,null,null,null,null,null,null,null,null,null,null,null,null,null,null,null,null,null,null,null,null,null,null,null,null,null,null,null,null,null,null,null,null,null,null,null,null,null,null,null,null,null,"Вінницька","Петрунівка"]
[null,null,null,null,null,null,null,null,null,null,null,null,null,null,null,null,null,null,null,null,null,null,null,null,null,null,null,null,null,null,null,null,null,null,null,null,null,null,null,null,null,null,null,null,null,"Вінницька","Польова Лисіївка"]
[null,null,null,null,null,null,null,null,null,null,null,null,null,null,null,null,null,null,null,null,null,null,null,null,null,null,null,null,null,null,null,null,null,null,null,null,null,null,null,null,null,null,null,null,null,"Вінницька","Саїнка"]
[null,null,null,null,null,null,null,null,null,null,null,null,null,null,null,null,null,null,null,null,null,null,null,null,null,null,null,null,null,null,null,null,null,null,null,null,null,null,null,null,null,null,null,null,null,"Вінницька","Сиваківці"]
[null,null,null,null,null,null,null,null,null,null,null,null,null,null,null,null,null,null,null,null,null,null,null,null,null,null,null,null,null,null,null,null,null,null,null,null,null,null,null,null,null,null,null,null,null,"Вінницька","Сподахи"]
[null,null,null,null,null,null,null,null,null,null,null,null,null,null,null,null,null,null,null,null,null,null,null,null,null,null,null,null,null,null,null,null,null,null,null,null,null,null,null,null,null,null,null,null,null,"Вінницька","Теси"]
[null,null,null,null,null,null,null,null,null,null,null,null,null,null,null,null,null,null,null,null,null,null,null,null,null,null,null,null,null,null,null,null,null,null,null,null,null,null,null,null,null,null,null,null,null,"Вінницька","Уладівське"]
[null,null,null,null,null,null,null,null,null,null,null,null,null,null,null,null,null,null,null,null,null,null,null,null,null,null,null,null,null,null,null,null,null,null,null,null,null,null,null,null,null,null,null,null,null,"Вінницька","Шипинки"]
[null,null,null,null,null,null,null,null,null,null,null,null,null,null,null,null,null,null,null,null,null,null,null,null,null,null,null,null,null,null,null,null,null,null,null,null,null,null,null,null,null,null,null,null,null,"Вінницька","Щучинці"]
[null,null,null,null,null,null,null,null,null,null,null,null,null,null,null,null,null,null,null,null,null,null,null,null,null,null,null,null,null,null,null,null,null,null,null,null,null,null,null,null,null,null,null,null,null,"Волинська","Ботин"]
[null,null,null,null,null,null,null,null,null,null,null,null,null,null,null,null,null,null,null,null,null,null,null,null,null,null,null,null,null,null,null,null,null,null,null,null,null,null,null,null,null,null,null,null,null,"Волинська","Буяни"]
[null,null,null,null,null,null,null,null,null,null,null,null,null,null,null,null,null,null,null,null,null,null,null,null,null,null,null,null,null,null,null,null,null,null,null,null,null,null,null,null,null,null,null,null,null,"Волинська","Воля Свійчівська"]
[null,null,null,null,null,null,null,null,null,null,null,null,null,null,null,null,null,null,null,null,null,null,null,null,null,null,null,null,null,null,null,null,null,null,null,null,null,null,null,null,null,null,null,null,null,"Волинська","Горохів"]
[null,null,null,null,null,null,null,null,null,null,null,null,null,null,null,null,null,null,null,null,null,null,null,null,null,null,null,null,null,null,null,null,null,null,null,null,null,null,null,null,null,null,null,null,null,"Волинська","Гупали"]
[null,null,null,null,null,null,null,null,null,null,null,null,null,null,null,null,null,null,null,null,null,null,null,null,null,null,null,null,null,null,null,null,null,null,null,null,null,null,null,null,null,null,null,null,null,"Волинська","Запілля"]
[null,null,null,null,null,null,null,null,null,null,null,null,null,null,null,null,null,null,null,null,null,null,null,null,null,null,null,null,null,null,null,null,null,null,null,null,null,null,null,null,null,null,null,null,null,"Волинська","Зміїнець"]
[null,null,null,null,null,null,null,null,null,null,null,null,null,null,null,null,null,null,null,null,null,null,null,null,null,null,null,null,null,null,null,null,null,null,null,null,null,null,null,null,null,null,null,null,null,"Волинська","Краснодуб'я"]
[null,null,null,null,null,null,null,null,null,null,null,null,null,null,null,null,null,null,null,null,null,null,null,null,null,null,null,null,null,null,null,null,null,null,null,null,null,null,null,null,null,null,null,null,null,"Волинська","Кутрів"]
[null,null,null,null,null,null,null,null,null,null,null,null,null,null,null,null,null,null,null,null,null,null,null,null,null,null,null,null,null,null,null,null,null,null,null,null,null,null,null,null,null,null,null,null,null,"Волинська","Любешівська Воля"]
[null,null,null,null,null,null,null,null,null,null,null,null,null,null,null,null,null,null,null,null,null,null,null,null,null,null,null,null,null,null,null,null,null,null,null,null,null,null,null,null,null,null,null,null,null,"Волинська","Мировичі"]
[null,null,null,null,null,null,null,null,null,null,null,null,null,null,null,null,null,null,null,null,null,null,null,null,null,null,null,null,null,null,null,null,null,null,null,null,null,null,null,null,null,null,null,null,null,"Волинська","Муравище"]
[null,null,null,null,null,null,null,null,null,null,null,null,null,null,null,null,null,null,null,null,null,null,null,null,null,null,null,null,null,null,null,null,null,null,null,null,null,null,null,null,null,null,null,null,null,"Волинська","Осекрів"]
[null,null,null,null,null,null,null,null,null,null,null,null,null,null,null,null,null,null,null,null,null,null,null,null,null,null,null,null,null,null,null,null,null,null,null,null,null,null,null,null,null,null,null,null,null,"Волинська","Писарева Воля"]
[null,null,null,null,null,null,null,null,null,null,null,null,null,null,null,null,null,null,null,null,null,null,null,null,null,null,null,null,null,null,null,null,null,null,null,null,null,null,null,null,null,null,null,null,null,"Волинська","Рокині"]
[null,null,null,null,null,null,null,null,null,null,null,null,null,null,null,null,null,null,null,null,null,null,null,null,null,null,null,null,null,null,null,null,null,null,null,null,null,null,null,null,null,null,null,null,null,"Волинська","Серкизів"]
[null,null,null,null,null,null,null,null,null,null,null,null,null,null,null,null,null,null,null,null,null,null,null,null,null,null,null,null,null,null,null,null,null,null,null,null,null,null,null,null,null,null,null,null,null,"Волинська","Тагачин"]
[null,null,null,null,null,null,null,null,null,null,null,null,null,null,null,null,null,null,null,null,null,null,null,null,null,null,null,null,null,null,null,null,null,null,null,null,null,null,null,null,null,null,null,null,null,"Волинська","Трубки"]
[null,null,null,null,null,null,null,null,null,null,null,null,null,null,null,null,null,null,null,null,null,null,null,null,null,null,null,null,null,null,null,null,null,null,null,null,null,null,null,null,null,null,null,null,null,"Волинська","Холоневичі"]
[null,null,null,null,null,null,null,null,null,null,null,null,null,null,null,null,null,null,null,null,null,null,null,null,null,null,null,null,null,null,null,null,null,null,null,null,null,null,null,null,null,null,null,null,null,"Волинська","Якушів"]
[null,null,null,null,null,null,null,null,null,null,null,null,null,null,null,null,null,null,null,null,null,null,null,null,null,null,null,null,null,null,null,null,null,null,null,null,null,null,null,null,null,null,null,null,null,"Дніпропетровська","Антонівське"]
[null,null,null,null,null,null,null,null,null,null,null,null,null,null,null,null,null,null,null,null,null,null,null,null,null,null,null,null,null,null,null,null,null,null,null,null,null,null,null,null,null,null,null,null,null,"Дніпропетровська","Вербове (Бабайківська сільська рада)"]
[null,null,null,null,null,null,null,null,null,null,null,null,null,null,null,null,null,null,null,null,null,null,null,null,null,null,null,null,null,null,null,null,null,null,null,null,null,null,null,null,null,null,null,null,null,"Дніпропетровська","Веселе (Раївська)"]
[null,null,null,null,null,null,null,null,null,null,null,null,null,null,null,null,null,null,null,null,null,null,null,null,null,null,null,null,null,null,null,null,null,null,null,null,null,null,null,null,null,null,null,null,null,"Дніпропетровська","Гнатівка (Михайлівська сільська рада)"]
[null,null,null,null,null,null,null,null,null,null,null,null,null,null,null,null,null,null,null,null,null,null,null,null,null,null,null,null,null,null,null,null,null,null,null,null,null,null,null,null,null,null,null,null,null,"Дніпропетровська","Гришаї"]
[null,null,null,null,null,null,null,null,null,null,null,null,null,null,null,null,null,null,null,null,null,null,null,null,null,null,null,null,null,null,null,null,null,null,null,null,null,null,null,null,null,null,null,null,null,"Дніпропетровська","Євецько-Миколаївка"]
[null,null,null,null,null,null,null,null,null,null,null,null,null,null,null,null,null,null,null,null,null,null,null,null,null,null,null,null,null,null,null,null,null,null,null,null,null,null,null,null,null,null,null,null,null,"Дніпропетровська","Запорізьке (Запорізька сільська рада)"]
[null,null,null,null,null,null,null,null,null,null,null,null,null,null,null,null,null,null,null,null,null,null,null,null,null,null,null,null,null,null,null,null,null,null,null,null,null,null,null,null,null,null,null,null,null,"Дніпропетровська","Зелений Гай (Українська сільрада)"]
[null,null,null,null,null,null,null,null,null,null,null,null,null,null,null,null,null,null,null,null,null,null,null,null,null,null,null,null,null,null,null,null,null,null,null,null,null,null,null,null,null,null,null,null,null,"Дніпропетровська","Каплистівка"]
[null,null,null,null,null,null,null,null,null,null,null,null,null,null,null,null,null,null,null,null,null,null,null,null,null,null,null,null,null,null,null,null,null,null,null,null,null,null,null,null,null,null,null,null,null,"Дніпропетровська","Козодуб (Червоноіванівська сільська рада)"]
[null,null,null,null,null,null,null,null,null,null,null,null,null,null,null,null,null,null,null,null,null,null,null,null,null,null,null,null,null,null,null,null,null,null,null,null,null,null,null,null,null,null,null,null,null,"Дніпропетровська","Кринички (Марє-Дмитрівська сільська рада)"]
[null,null,null,null,null,null,null,null,null,null,null,null,null,null,null,null,null,null,null,null,null,null,null,null,null,null,null,null,null,null,null,null,null,null,null,null,null,null,null,null,null,null,null,null,null,"Дніпропетровська","Лисківка (Царичанська сільська рада)"]
[null,null,null,null,null,null,null,null,null,null,null,null,null,null,null,null,null,null,null,null,null,null,null,null,null,null,null,null,null,null,null,null,null,null,null,null,null,null,null,null,null,null,null,null,null,"Дніпропетровська","Мар'їнка"]
[null,null,null,null,null,null,null,null,null,null,null,null,null,null,null,null,null,null,null,null,null,null,null,null,null,null,null,null,null,null,null,null,null,null,null,null,null,null,null,null,null,null,null,null,null,"Дніпропетровська","Миколаївка (Миколаївська сільська рада)"]
[null,null,null,null,null,null,null,null,null,null,null,null,null,null,null,null,null,null,null,null,null,null,null,null,null,null,null,null,null,null,null,null,null,null,null,null,null,null,null,null,null,null,null,null,null,"Дніпропетровська","Нові Садки (Красінська сільська рада)"]
[null,null,null,null,null,null,null,null,null,null,null,null,null,null,null,null,null,null,null,null,null,null,null,null,null,null,null,null,null,null,null,null,null,null,null,null,null,null,null,null,null,null,null,null,null,"Дніпропетровська","Новоіванівка (Кам'янська)"]
[null,null,null,null,null,null,null,null,null,null,null,null,null,null,null,null,null,null,null,null,null,null,null,null,null,null,null,null,null,null,null,null,null,null,null,null,null,null,null,null,null,null,null,null,null,"Дніпропетровська","Новостроївка (Бабайківська сільська рада)"]
[null,null,null,null,null,null,null,null,null,null,null,null,null,null,null,null,null,null,null,null,null,null,null,null,null,null,null,null,null,null,null,null,null,null,null,null,null,null,null,null,null,null,null,null,null,"Дніпропетровська","Оленівка (Чапаєвська сільська рада)"]
[null,null,null,null,null,null,null,null,null,null,null,null,null,null,null,null,null,null,null,null,null,null,null,null,null,null,null,null,null,null,null,null,null,null,null,null,null,null,null,null,null,null,null,null,null,"Дніпропетровська","Отрадне (Чапаєвська сільська рада)"]
[null,null,null,null,null,null,null,null,null,null,null,null,null,null,null,null,null,null,null,null,null,null,null,null,null,null,null,null,null,null,null,null,null,null,null,null,null,null,null,null,null,null,null,null,null,"Дніпропетровська","Почино-Софіївка"]
[null,null,null,null,null,null,null,null,null,null,null,null,null,null,null,null,null,null,null,null,null,null,null,null,null,null,null,null,null,null,null,null,null,null,null,null,null,null,null,null,null,null,null,null,null,"Дніпропетровська","Радевичеве (Андріївська сільська рада)"]
[null,null,null,null,null,null,null,null,null,null,null,null,null,null,null,null,null,null,null,null,null,null,null,null,null,null,null,null,null,null,null,null,null,null,null,null,null,null,null,null,null,null,null,null,null,"Дніпропетровська","Сорокопанівка (Покровська сільська рада)"]
[null,null,null,null,null,null,null,null,null,null,null,null,null,null,null,null,null,null,null,null,null,null,null,null,null,null,null,null,null,null,null,null,null,null,null,null,null,null,null,null,null,null,null,null,null,"Дніпропетровська","Сурське"]
[null,null,null,null,null,null,null,null,null,null,null,null,null,null,null,null,null,null,null,null,null,null,null,null,null,null,null,null,null,null,null,null,null,null,null,null,null,null,null,null,null,null,null,null,null,"Дніпропетровська","Томаківка"]
[null,null,null,null,null,null,null,null,null,null,null,null,null,null,null,null,null,null,null,null,null,null,null,null,null,null,null,null,null,null,null,null,null,null,null,null,null,null,null,null,null,null,null,null,null,"Дніпропетровська","Чаус"]
[null,null,null,null,null,null,null,null,null,null,null,null,null,null,null,null,null,null,null,null,null,null,null,null,null,null,null,null,null,null,null,null,null,null,null,null,null,null,null,null,null,null,null,null,null,"Дніпропетровська","Червоний Промінь (Червонопроміньська сільська рада)"]
[null,null,null,null,null,null,null,null,null,null,null,null,null,null,null,null,null,null,null,null,null,null,null,null,null,null,null,null,null,null,null,null,null,null,null,null,null,null,null,null,null,null,null,null,null,"Дніпропетровська","Юр'ївське"]
[null,null,null,null,null,null,null,null,null,null,null,null,null,null,null,null,null,null,null,null,null,null,null,null,null,null,null,null,null,null,null,null,null,null,null,null,null,null,null,null,null,null,null,null,null,"Донецька","Бахчовик"]
[null,null,null,null,null,null,null,null,null,null,null,null,null,null,null,null,null,null,null,null,null,null,null,null,null,null,null,null,null,null,null,null,null,null,null,null,null,null,null,null,null,null,null,null,null,"Донецька","Виселки"]
[null,null,null,null,null,null,null,null,null,null,null,null,null,null,null,null,null,null,null,null,null,null,null,null,null,null,null,null,null,null,null,null,null,null,null,null,null,null,null,null,null,null,null,null,null,"Донецька","Володине (Старомлинівська с/р)"]
[null,null,null,null,null,null,null,null,null,null,null,null,null,null,null,null,null,null,null,null,null,null,null,null,null,null,null,null,null,null,null,null,null,null,null,null,null,null,null,null,null,null,null,null,null,"Донецька","Дробишеве"]
[null,null,null,null,null,null,null,null,null,null,null,null,null,null,null,null,null,null,null,null,null,null,null,null,null,null,null,null,null,null,null,null,null,null,null,null,null,null,null,null,null,null,null,null,null,"Донецька","Заїченко"]
[null,null,null,null,null,null,null,null,null,null,null,null,null,null,null,null,null,null,null,null,null,null,null,null,null,null,null,null,null,null,null,null,null,null,null,null,null,null,null,null,null,null,null,null,null,"Донецька","Зугрес"]
[null,null,null,null,null,null,null,null,null,null,null,null,null,null,null,null,null,null,null,null,null,null,null,null,null,null,null,null,null,null,null,null,null,null,null,null,null,null,null,null,null,null,null,null,null,"Донецька","Котлярівське"]
[null,null,null,null,null,null,null,null,null,null,null,null,null,null,null,null,null,null,null,null,null,null,null,null,null,null,null,null,null,null,null,null,null,null,null,null,null,null,null,null,null,null,null,null,null,"Донецька","Кримки"]
[null,null,null,null,null,null,null,null,null,null,null,null,null,null,null,null,null,null,null,null,null,null,null,null,null,null,null,null,null,null,null,null,null,null,null,null,null,null,null,null,null,null,null,null,null,"Донецька","Миколаївка (Новоекономічна селищна рада)"]
[null,null,null,null,null,null,null,null,null,null,null,null,null,null,null,null,null,null,null,null,null,null,null,null,null,null,null,null,null,null,null,null,null,null,null,null,null,null,null,null,null,null,null,null,null,"Донецька","Моспине"]
[null,null,null,null,null,null,null,null,null,null,null,null,null,null,null,null,null,null,null,null,null,null,null,null,null,null,null,null,null,null,null,null,null,null,null,null,null,null,null,null,null,null,null,null,null,"Донецька","Новогнатівка"]
[null,null,null,null,null,null,null,null,null,null,null,null,null,null,null,null,null,null,null,null,null,null,null,null,null,null,null,null,null,null,null,null,null,null,null,null,null,null,null,null,null,null,null,null,null,"Донецька","Обільне"]
[null,null,null,null,null,null,null,null,null,null,null,null,null,null,null,null,null,null,null,null,null,null,null,null,null,null,null,null,null,null,null,null,null,null,null,null,null,null,null,null,null,null,null,null,null,"Донецька","Пищевик"]
[null,null,null,null,null,null,null,null,null,null,null,null,null,null,null,null,null,null,null,null,null,null,null,null,null,null,null,null,null,null,null,null,null,null,null,null,null,null,null,null,null,null,null,null,null,"Донецька","Прохорівка"]
[null,null,null,null,null,null,null,null,null,null,null,null,null,null,null,null,null,null,null,null,null,null,null,null,null,null,null,null,null,null,null,null,null,null,null,null,null,null,null,null,null,null,null,null,null,"Донецька","Рідкодуб"]
[null,null,null,null,null,null,null,null,null,null,null,null,null,null,null,null,null,null,null,null,null,null,null,null,null,null,null,null,null,null,null,null,null,null,null,null,null,null,null,null,null,null,null,null,null,"Донецька","Сопине"]
[null,null,null,null,null,null,null,null,null,null,null,null,null,null,null,null,null,null,null,null,null,null,null,null,null,null,null,null,null,null,null,null,null,null,null,null,null,null,null,null,null,null,null,null,null,"Донецька","Трепельне"]
[null,null,null,null,null,null,null,null,null,null,null,null,null,null,null,null,null,null,null,null,null,null,null,null,null,null,null,null,null,null,null,null,null,null,null,null,null,null,null,null,null,null,null,null,null,"Донецька","Шабельківка"]
[null,null,null,null,null,null,null,null,null,null,null,null,null,null,null,null,null,null,null,null,null,null,null,null,null,null,null,null,null,null,null,null,null,null,null,null,null,null,null,null,null,null,null,null,null,"Донецька","Ялинське (Новопетриківська с/р)"]
[null,null,null,null,null,null,null,null,null,null,null,null,null,null,null,null,null,null,null,null,null,null,null,null,null,null,null,null,null,null,null,null,null,null,null,null,null,null,null,null,null,null,null,null,null,"Житомирська","Білилівка"]
[null,null,null,null,null,null,null,null,null,null,null,null,null,null,null,null,null,null,null,null,null,null,null,null,null,null,null,null,null,null,null,null,null,null,null,null,null,null,null,null,null,null,null,null,null,"Житомирська","Брід"]
[null,null,null,null,null,null,null,null,null,null,null,null,null,null,null,null,null,null,null,null,null,null,null,null,null,null,null,null,null,null,null,null,null,null,null,null,null,null,null,null,null,null,null,null,null,"Житомирська","Вакуленчук"]
[null,null,null,null,null,null,null,null,null,null,null,null,null,null,null,null,null,null,null,null,null,null,null,null,null,null,null,null,null,null,null,null,null,null,null,null,null,null,null,null,null,null,null,null,null,"Житомирська","Вишнянка"]
[null,null,null,null,null,null,null,null,null,null,null,null,null,null,null,null,null,null,null,null,null,null,null,null,null,null,null,null,null,null,null,null,null,null,null,null,null,null,null,null,null,null,null,null,null,"Житомирська","Голубин"]
[null,null,null,null,null,null,null,null,null,null,null,null,null,null,null,null,null,null,null,null,null,null,null,null,null,null,null,null,null,null,null,null,null,null,null,null,null,null,null,null,null,null,null,null,null,"Житомирська","Гута -Забілоцька"]
[null,null,null,null,null,null,null,null,null,null,null,null,null,null,null,null,null,null,null,null,null,null,null,null,null,null,null,null,null,null,null,null,null,null,null,null,null,null,null,null,null,null,null,null,null,"Житомирська","Дівошин"]
[null,null,null,null,null,null,null,null,null,null,null,null,null,null,null,null,null,null,null,null,null,null,null,null,null,null,null,null,null,null,null,null,null,null,null,null,null,null,null,null,null,null,null,null,null,"Житомирська","Збраньки"]
[null,null,null,null,null,null,null,null,null,null,null,null,null,null,null,null,null,null,null,null,null,null,null,null,null,null,null,null,null,null,null,null,null,null,null,null,null,null,null,null,null,null,null,null,null,"Житомирська","Іванопіль"]
[null,null,null,null,null,null,null,null,null,null,null,null,null,null,null,null,null,null,null,null,null,null,null,null,null,null,null,null,null,null,null,null,null,null,null,null,null,null,null,null,null,null,null,null,null,"Житомирська","Кораки"]
[null,null,null,null,null,null,null,null,null,null,null,null,null,null,null,null,null,null,null,null,null,null,null,null,null,null,null,null,null,null,null,null,null,null,null,null,null,null,null,null,null,null,null,null,null,"Житомирська","Краївщина"]
[null,null,null,null,null,null,null,null,null,null,null,null,null,null,null,null,null,null,null,null,null,null,null,null,null,null,null,null,null,null,null,null,null,null,null,null,null,null,null,null,null,null,null,null,null,"Житомирська","Лизник"]
[null,null,null,null,null,null,null,null,null,null,null,null,null,null,null,null,null,null,null,null,null,null,null,null,null,null,null,null,null,null,null,null,null,null,null,null,null,null,null,null,null,null,null,null,null,"Житомирська","Мала Чернігівка"]
[null,null,null,null,null,null,null,null,null,null,null,null,null,null,null,null,null,null,null,null,null,null,null,null,null,null,null,null,null,null,null,null,null,null,null,null,null,null,null,null,null,null,null,null,null,"Житомирська","Маркова Волиця"]
[null,null,null,null,null,null,null,null,null,null,null,null,null,null,null,null,null,null,null,null,null,null,null,null,null,null,null,null,null,null,null,null,null,null,null,null,null,null,null,null,null,null,null,null,null,"Житомирська","Нивки"]
[null,null,null,null,null,null,null,null,null,null,null,null,null,null,null,null,null,null,null,null,null,null,null,null,null,null,null,null,null,null,null,null,null,null,null,null,null,null,null,null,null,null,null,null,null,"Житомирська","Нові Жадьки"]
[null,null,null,null,null,null,null,null,null,null,null,null,null,null,null,null,null,null,null,null,null,null,null,null,null,null,null,null,null,null,null,null,null,null,null,null,null,null,null,null,null,null,null,null,null,"Житомирська","Павленківка"]
[null,null,null,null,null,null,null,null,null,null,null,null,null,null,null,null,null,null,null,null,null,null,null,null,null,null,null,null,null,null,null,null,null,null,null,null,null,null,null,null,null,null,null,null,null,"Житомирська","Пилипонка"]
[null,null,null,null,null,null,null,null,null,null,null,null,null,null,null,null,null,null,null,null,null,null,null,null,null,null,null,null,null,null,null,null,null,null,null,null,null,null,null,null,null,null,null,null,null,"Житомирська","Привороття"]
[null,null,null,null,null,null,null,null,null,null,null,null,null,null,null,null,null,null,null,null,null,null,null,null,null,null,null,null,null,null,null,null,null,null,null,null,null,null,null,null,null,null,null,null,null,"Житомирська","Рудня-Більківська"]
[null,null,null,null,null,null,null,null,null,null,null,null,null,null,null,null,null,null,null,null,null,null,null,null,null,null,null,null,null,null,null,null,null,null,null,null,null,null,null,null,null,null,null,null,null,"Житомирська","Середи"]
[null,null,null,null,null,null,null,null,null,null,null,null,null,null,null,null,null,null,null,null,null,null,null,null,null,null,null,null,null,null,null,null,null,null,null,null,null,null,null,null,null,null,null,null,null,"Житомирська","Старицьке"]
[null,null,null,null,null,null,null,null,null,null,null,null,null,null,null,null,null,null,null,null,null,null,null,null,null,null,null,null,null,null,null,null,null,null,null,null,null,null,null,null,null,null,null,null,null,"Житомирська","Стриєва"]
[null,null,null,null,null,null,null,null,null,null,null,null,null,null,null,null,null,null,null,null,null,null,null,null,null,null,null,null,null,null,null,null,null,null,null,null,null,null,null,null,null,null,null,null,null,"Житомирська","Хлупляни"]
[null,null,null,null,null,null,null,null,null,null,null,null,null,null,null,null,null,null,null,null,null,null,null,null,null,null,null,null,null,null,null,null,null,null,null,null,null,null,null,null,null,null,null,null,null,"Житомирська","Червона Волока"]
[null,null,null,null,null,null,null,null,null,null,null,null,null,null,null,null,null,null,null,null,null,null,null,null,null,null,null,null,null,null,null,null,null,null,null,null,null,null,null,null,null,null,null,null,null,"Житомирська","Щеніїв"]
[null,null,null,null,null,null,null,null,null,null,null,null,null,null,null,null,null,null,null,null,null,null,null,null,null,null,null,null,null,null,null,null,null,null,null,null,null,null,null,null,null,null,null,null,null,"Закарпатська","Біласовиця (Біласовицька сільська рада)"]
[null,null,null,null,null,null,null,null,null,null,null,null,null,null,null,null,null,null,null,null,null,null,null,null,null,null,null,null,null,null,null,null,null,null,null,null,null,null,null,null,null,null,null,null,null,"Закарпатська","Виноградів (Виноградівська міська рада)"]
[null,null,null,null,null,null,null,null,null,null,null,null,null,null,null,null,null,null,null,null,null,null,null,null,null,null,null,null,null,null,null,null,null,null,null,null,null,null,null,null,null,null,null,null,null,"Закарпатська","Ганьковиця (Ганьковицька сільська рада)"]
[null,null,null,null,null,null,null,null,null,null,null,null,null,null,null,null,null,null,null,null,null,null,null,null,null,null,null,null,null,null,null,null,null,null,null,null,null,null,null,null,null,null,null,null,null,"Закарпатська","Грабово (Пузняковецька сільська рада)"]
[null,null,null,null,null,null,null,null,null,null,null,null,null,null,null,null,null,null,null,null,null,null,null,null,null,null,null,null,null,null,null,null,null,null,null,null,null,null,null,null,null,null,null,null,null,"Закарпатська","Завосино (Малий Березний)"]
[null,null,null,null,null,null,null,null,null,null,null,null,null,null,null,null,null,null,null,null,null,null,null,null,null,null,null,null,null,null,null,null,null,null,null,null,null,null,null,null,null,null,null,null,null,"Закарпатська","Іршава (Іршавська міська рада)"]
[null,null,null,null,null,null,null,null,null,null,null,null,null,null,null,null,null,null,null,null,null,null,null,null,null,null,null,null,null,null,null,null,null,null,null,null,null,null,null,null,null,null,null,null,null,"Закарпатська","Кричово (Кричівська сільська рада)"]
[null,null,null,null,null,null,null,null,null,null,null,null,null,null,null,null,null,null,null,null,null,null,null,null,null,null,null,null,null,null,null,null,null,null,null,null,null,null,null,null,null,null,null,null,null,"Закарпатська","Лопушанка (Дусинська сільська рада)"]
[null,null,null,null,null,null,null,null,null,null,null,null,null,null,null,null,null,null,null,null,null,null,null,null,null,null,null,null,null,null,null,null,null,null,null,null,null,null,null,null,null,null,null,null,null,"Закарпатська","Нове Давидково (Новодавидківська сільська рада)"]
[null,null,null,null,null,null,null,null,null,null,null,null,null,null,null,null,null,null,null,null,null,null,null,null,null,null,null,null,null,null,null,null,null,null,null,null,null,null,null,null,null,null,null,null,null,"Закарпатська","Осій (Осійська сільська рада)"]
[null,null,null,null,null,null,null,null,null,null,null,null,null,null,null,null,null,null,null,null,null,null,null,null,null,null,null,null,null,null,null,null,null,null,null,null,null,null,null,null,null,null,null,null,null,"Закарпатська","Плоскановиця (Брестівська сільська рада)"]
[null,null,null,null,null,null,null,null,null,null,null,null,null,null,null,null,null,null,null,null,null,null,null,null,null,null,null,null,null,null,null,null,null,null,null,null,null,null,null,null,null,null,null,null,null,"Закарпатська","Свалява (Свалявська міська рада)"]
[null,null,null,null,null,null,null,null,null,null,null,null,null,null,null,null,null,null,null,null,null,null,null,null,null,null,null,null,null,null,null,null,null,null,null,null,null,null,null,null,null,null,null,null,null,"Закарпатська","Терново (Тернівська сільська рада)"]
[null,null,null,null,null,null,null,null,null,null,null,null,null,null,null,null,null,null,null,null,null,null,null,null,null,null,null,null,null,null,null,null,null,null,null,null,null,null,null,null,null,null,null,null,null,"Закарпатська","Усть-Чорна (Усть-Чорнянська селищна рада)"]
[null,null,null,null,null,null,null,null,null,null,null,null,null,null,null,null,null,null,null,null,null,null,null,null,null,null,null,null,null,null,null,null,null,null,null,null,null,null,null,null,null,null,null,null,null,"Закарпатська","Червеньово (Зняцівська сільська рада)"]
[null,null,null,null,null,null,null,null,null,null,null,null,null,null,null,null,null,null,null,null,null,null,null,null,null,null,null,null,null,null,null,null,null,null,null,null,null,null,null,null,null,null,null,null,null,"Запорізька","Богунівка"]
[null,null,null,null,null,null,null,null,null,null,null,null,null,null,null,null,null,null,null,null,null,null,null,null,null,null,null,null,null,null,null,null,null,null,null,null,null,null,null,null,null,null,null,null,null,"Запорізька","Веселівське"]
[null,null,null,null,null,null,null,null,null,null,null,null,null,null,null,null,null,null,null,null,null,null,null,null,null,null,null,null,null,null,null,null,null,null,null,null,null,null,null,null,null,null,null,null,null,"Запорізька","Зелена Балка"]
[null,null,null,null,null,null,null,null,null,null,null,null,null,null,null,null,null,null,null,null,null,null,null,null,null,null,null,null,null,null,null,null,null,null,null,null,null,null,null,null,null,null,null,null,null,"Запорізька","Кінські Роздори"]
[null,null,null,null,null,null,null,null,null,null,null,null,null,null,null,null,null,null,null,null,null,null,null,null,null,null,null,null,null,null,null,null,null,null,null,null,null,null,null,null,null,null,null,null,null,"Запорізька","Люцерна"]
[null,null,null,null,null,null,null,null,null,null,null,null,null,null,null,null,null,null,null,null,null,null,null,null,null,null,null,null,null,null,null,null,null,null,null,null,null,null,null,null,null,null,null,null,null,"Запорізька","Новозлатопіль"]
[null,null,null,null,null,null,null,null,null,null,null,null,null,null,null,null,null,null,null,null,null,null,null,null,null,null,null,null,null,null,null,null,null,null,null,null,null,null,null,null,null,null,null,null,null,"Запорізька","Новостепнянське"]
[null,null,null,null,null,null,null,null,null,null,null,null,null,null,null,null,null,null,null,null,null,null,null,null,null,null,null,null,null,null,null,null,null,null,null,null,null,null,null,null,null,null,null,null,null,"Запорізька","Ручаївка"]
[null,null,null,null,null,null,null,null,null,null,null,null,null,null,null,null,null,null,null,null,null,null,null,null,null,null,null,null,null,null,null,null,null,null,null,null,null,null,null,null,null,null,null,null,null,"Запорізька","Стульневе, селище"]
[null,null,null,null,null,null,null,null,null,null,null,null,null,null,null,null,null,null,null,null,null,null,null,null,null,null,null,null,null,null,null,null,null,null,null,null,null,null,null,null,null,null,null,null,null,"Івано_Франківська","Балинці"]
[null,null,null,null,null,null,null,null,null,null,null,null,null,null,null,null,null,null,null,null,null,null,null,null,null,null,null,null,null,null,null,null,null,null,null,null,null,null,null,null,null,null,null,null,null,"Івано_Франківська","Богородчани"]
[null,null,null,null,null,null,null,null,null,null,null,null,null,null,null,null,null,null,null,null,null,null,null,null,null,null,null,null,null,null,null,null,null,null,null,null,null,null,null,null,null,null,null,null,null,"Івано_Франківська","Вербилівці"]
[null,null,null,null,null,null,null,null,null,null,null,null,null,null,null,null,null,null,null,null,null,null,null,null,null,null,null,null,null,null,null,null,null,null,null,null,null,null,null,null,null,null,null,null,null,"Івано_Франківська","Глушків"]
[null,null,null,null,null,null,null,null,null,null,null,null,null,null,null,null,null,null,null,null,null,null,null,null,null,null,null,null,null,null,null,null,null,null,null,null,null,null,null,null,null,null,null,null,null,"Івано_Франківська","Гузіїв"]
[null,null,null,null,null,null,null,null,null,null,null,null,null,null,null,null,null,null,null,null,null,null,null,null,null,null,null,null,null,null,null,null,null,null,null,null,null,null,null,null,null,null,null,null,null,"Івано_Франківська","Заланів"]
[null,null,null,null,null,null,null,null,null,null,null,null,null,null,null,null,null,null,null,null,null,null,null,null,null,null,null,null,null,null,null,null,null,null,null,null,null,null,null,null,null,null,null,null,null,"Івано_Франківська","Ільці"]
[null,null,null,null,null,null,null,null,null,null,null,null,null,null,null,null,null,null,null,null,null,null,null,null,null,null,null,null,null,null,null,null,null,null,null,null,null,null,null,null,null,null,null,null,null,"Івано_Франківська","Кулачківці"]
[null,null,null,null,null,null,null,null,null,null,null,null,null,null,null,null,null,null,null,null,null,null,null,null,null,null,null,null,null,null,null,null,null,null,null,null,null,null,null,null,null,null,null,null,null,"Івано_Франківська","Лісна Тарновиця"]
[null,null,null,null,null,null,null,null,null,null,null,null,null,null,null,null,null,null,null,null,null,null,null,null,null,null,null,null,null,null,null,null,null,null,null,null,null,null,null,null,null,null,null,null,null,"Івано_Франківська","Межигірці"]
[null,null,null,null,null,null,null,null,null,null,null,null,null,null,null,null,null,null,null,null,null,null,null,null,null,null,null,null,null,null,null,null,null,null,null,null,null,null,null,null,null,null,null,null,null,"Івано_Франківська","Олешів"]
[null,null,null,null,null,null,null,null,null,null,null,null,null,null,null,null,null,null,null,null,null,null,null,null,null,null,null,null,null,null,null,null,null,null,null,null,null,null,null,null,null,null,null,null,null,"Івано_Франківська","Перерив"]
[null,null,null,null,null,null,null,null,null,null,null,null,null,null,null,null,null,null,null,null,null,null,null,null,null,null,null,null,null,null,null,null,null,null,null,null,null,null,null,null,null,null,null,null,null,"Івано_Франківська","Рибне"]
[null,null,null,null,null,null,null,null,null,null,null,null,null,null,null,null,null,null,null,null,null,null,null,null,null,null,null,null,null,null,null,null,null,null,null,null,null,null,null,null,null,null,null,null,null,"Івано_Франківська","Саджавка"]
[null,null,null,null,null,null,null,null,null,null,null,null,null,null,null,null,null,null,null,null,null,null,null,null,null,null,null,null,null,null,null,null,null,null,null,null,null,null,null,null,null,null,null,null,null,"Івано_Франківська","Студинець"]
[null,null,null,null,null,null,null,null,null,null,null,null,null,null,null,null,null,null,null,null,null,null,null,null,null,null,null,null,null,null,null,null,null,null,null,null,null,null,null,null,null,null,null,null,null,"Івано_Франківська","Тужилів"]
[null,null,null,null,null,null,null,null,null,null,null,null,null,null,null,null,null,null,null,null,null,null,null,null,null,null,null,null,null,null,null,null,null,null,null,null,null,null,null,null,null,null,null,null,null,"Івано_Франківська","Юнашків"]
[null,null,null,null,null,null,null,null,null,null,null,null,null,null,null,null,null,null,null,null,null,null,null,null,null,null,null,null,null,null,null,null,null,null,null,null,null,null,null,null,null,null,null,null,null,"Київська","Баришівка"]
[null,null,null,null,null,null,null,null,null,null,null,null,null,null,null,null,null,null,null,null,null,null,null,null,null,null,null,null,null,null,null,null,null,null,null,null,null,null,null,null,null,null,null,null,null,"Київська","Велика Вільшанка"]
[null,null,null,null,null,null,null,null,null,null,null,null,null,null,null,null,null,null,null,null,null,null,null,null,null,null,null,null,null,null,null,null,null,null,null,null,null,null,null,null,null,null,null,null,null,"Київська","Вербова"]
[null,null,null,null,null,null,null,null,null,null,null,null,null,null,null,null,null,null,null,null,null,null,null,null,null,null,null,null,null,null,null,null,null,null,null,null,null,null,null,null,null,null,null,null,null,"Київська","Володимирське"]
[null,null,null,null,null,null,null,null,null,null,null,null,null,null,null,null,null,null,null,null,null,null,null,null,null,null,null,null,null,null,null,null,null,null,null,null,null,null,null,null,null,null,null,null,null,"Київська","Гречанівка"]
[null,null,null,null,null,null,null,null,null,null,null,null,null,null,null,null,null,null,null,null,null,null,null,null,null,null,null,null,null,null,null,null,null,null,null,null,null,null,null,null,null,null,null,null,null,"Київська","Дзвеняче"]
[null,null,null,null,null,null,null,null,null,null,null,null,null,null,null,null,null,null,null,null,null,null,null,null,null,null,null,null,null,null,null,null,null,null,null,null,null,null,null,null,null,null,null,null,null,"Київська","Заострівське"]
[null,null,null,null,null,null,null,null,null,null,null,null,null,null,null,null,null,null,null,null,null,null,null,null,null,null,null,null,null,null,null,null,null,null,null,null,null,null,null,null,null,null,null,null,null,"Київська","Кам'яна Гребля"]
[null,null,null,null,null,null,null,null,null,null,null,null,null,null,null,null,null,null,null,null,null,null,null,null,null,null,null,null,null,null,null,null,null,null,null,null,null,null,null,null,null,null,null,null,null,"Київська","Крушинка"]
[null,null,null,null,null,null,null,null,null,null,null,null,null,null,null,null,null,null,null,null,null,null,null,null,null,null,null,null,null,null,null,null,null,null,null,null,null,null,null,null,null,null,null,null,null,"Київська","Лецьки"]
[null,null,null,null,null,null,null,null,null,null,null,null,null,null,null,null,null,null,null,null,null,null,null,null,null,null,null,null,null,null,null,null,null,null,null,null,null,null,null,null,null,null,null,null,null,"Київська","Мала Тарасівка"]
[null,null,null,null,null,null,null,null,null,null,null,null,null,null,null,null,null,null,null,null,null,null,null,null,null,null,null,null,null,null,null,null,null,null,null,null,null,null,null,null,null,null,null,null,null,"Київська","Мисайлівка"]
[null,null,null,null,null,null,null,null,null,null,null,null,null,null,null,null,null,null,null,null,null,null,null,null,null,null,null,null,null,null,null,null,null,null,null,null,null,null,null,null,null,null,null,null,null,"Київська","Насташка"]
[null,null,null,null,null,null,null,null,null,null,null,null,null,null,null,null,null,null,null,null,null,null,null,null,null,null,null,null,null,null,null,null,null,null,null,null,null,null,null,null,null,null,null,null,null,"Київська","Пасківщина"]
[null,null,null,null,null,null,null,null,null,null,null,null,null,null,null,null,null,null,null,null,null,null,null,null,null,null,null,null,null,null,null,null,null,null,null,null,null,null,null,null,null,null,null,null,null,"Київська","Плюти"]
[null,null,null,null,null,null,null,null,null,null,null,null,null,null,null,null,null,null,null,null,null,null,null,null,null,null,null,null,null,null,null,null,null,null,null,null,null,null,null,null,null,null,null,null,null,"Київська","Розважів"]
[null,null,null,null,null,null,null,null,null,null,null,null,null,null,null,null,null,null,null,null,null,null,null,null,null,null,null,null,null,null,null,null,null,null,null,null,null,null,null,null,null,null,null,null,null,"Київська","Саврань"]
[null,null,null,null,null,null,null,null,null,null,null,null,null,null,null,null,null,null,null,null,null,null,null,null,null,null,null,null,null,null,null,null,null,null,null,null,null,null,null,null,null,null,null,null,null,"Київська","Стоянка"]
[null,null,null,null,null,null,null,null,null,null,null,null,null,null,null,null,null,null,null,null,null,null,null,null,null,null,null,null,null,null,null,null,null,null,null,null,null,null,null,null,null,null,null,null,null,"Київська","Тараща"]
[null,null,null,null,null,null,null,null,null,null,null,null,null,null,null,null,null,null,null,null,null,null,null,null,null,null,null,null,null,null,null,null,null,null,null,null,null,null,null,null,null,null,null,null,null,"Київська","Урсалівка"]
[null,null,null,null,null,null,null,null,null,null,null,null,null,null,null,null,null,null,null,null,null,null,null,null,null,null,null,null,null,null,null,null,null,null,null,null,null,null,null,null,null,null,null,null,null,"Київська","Червоне Поле"]
[null,null,null,null,null,null,null,null,null,null,null,null,null,null,null,null,null,null,null,null,null,null,null,null,null,null,null,null,null,null,null,null,null,null,null,null,null,null,null,null,null,null,null,null,null,"Київська","Шевченківка"]
[null,null,null,null,null,null,null,null,null,null,null,null,null,null,null,null,null,null,null,null,null,null,null,null,null,null,null,null,null,null,null,null,null,null,null,null,null,null,null,null,null,null,null,null,null,"Кіровоградська","Бузникувате"]
[null,null,null,null,null,null,null,null,null,null,null,null,null,null,null,null,null,null,null,null,null,null,null,null,null,null,null,null,null,null,null,null,null,null,null,null,null,null,null,null,null,null,null,null,null,"Кіровоградська","Височанове"]
[null,null,null,null,null,null,null,null,null,null,null,null,null,null,null,null,null,null,null,null,null,null,null,null,null,null,null,null,null,null,null,null,null,null,null,null,null,null,null,null,null,null,null,null,null,"Кіровоградська","Звенигородка"]
[null,null,null,null,null,null,null,null,null,null,null,null,null,null,null,null,null,null,null,null,null,null,null,null,null,null,null,null,null,null,null,null,null,null,null,null,null,null,null,null,null,null,null,null,null,"Кіровоградська","Камбурліївка"]
[null,null,null,null,null,null,null,null,null,null,null,null,null,null,null,null,null,null,null,null,null,null,null,null,null,null,null,null,null,null,null,null,null,null,null,null,null,null,null,null,null,null,null,null,null,"Кіровоградська","Лев-балка"]
[null,null,null,null,null,null,null,null,null,null,null,null,null,null,null,null,null,null,null,null,null,null,null,null,null,null,null,null,null,null,null,null,null,null,null,null,null,null,null,null,null,null,null,null,null,"Кіровоградська","Могилів Курінь"]
[null,null,null,null,null,null,null,null,null,null,null,null,null,null,null,null,null,null,null,null,null,null,null,null,null,null,null,null,null,null,null,null,null,null,null,null,null,null,null,null,null,null,null,null,null,"Кіровоградська","Низове"]
[null,null,null,null,null,null,null,null,null,null,null,null,null,null,null,null,null,null,null,null,null,null,null,null,null,null,null,null,null,null,null,null,null,null,null,null,null,null,null,null,null,null,null,null,null,"Кіровоградська","Піщаний  Брід"]
[null,null,null,null,null,null,null,null,null,null,null,null,null,null,null,null,null,null,null,null,null,null,null,null,null,null,null,null,null,null,null,null,null,null,null,null,null,null,null,null,null,null,null,null,null,"Кіровоградська","П'ятомиколаївка"]
[null,null,null,null,null,null,null,null,null,null,null,null,null,null,null,null,null,null,null,null,null,null,null,null,null,null,null,null,null,null,null,null,null,null,null,null,null,null,null,null,null,null,null,null,null,"Кіровоградська","Сухолітівка"]
[null,null,null,null,null,null,null,null,null,null,null,null,null,null,null,null,null,null,null,null,null,null,null,null,null,null,null,null,null,null,null,null,null,null,null,null,null,null,null,null,null,null,null,null,null,"Кіровоградська","Червоний Ташлик"]
[null,null,null,null,null,null,null,null,null,null,null,null,null,null,null,null,null,null,null,null,null,null,null,null,null,null,null,null,null,null,null,null,null,null,null,null,null,null,null,null,null,null,null,null,null,"Луганська","Бокове-Платове"]
[null,null,null,null,null,null,null,null,null,null,null,null,null,null,null,null,null,null,null,null,null,null,null,null,null,null,null,null,null,null,null,null,null,null,null,null,null,null,null,null,null,null,null,null,null,"Луганська","Велика Мартинівка"]
[null,null,null,null,null,null,null,null,null,null,null,null,null,null,null,null,null,null,null,null,null,null,null,null,null,null,null,null,null,null,null,null,null,null,null,null,null,null,null,null,null,null,null,null,null,"Луганська","Верхньокам'янка"]
[null,null,null,null,null,null,null,null,null,null,null,null,null,null,null,null,null,null,null,null,null,null,null,null,null,null,null,null,null,null,null,null,null,null,null,null,null,null,null,null,null,null,null,null,null,"Луганська","Давидівка"]
[null,null,null,null,null,null,null,null,null,null,null,null,null,null,null,null,null,null,null,null,null,null,null,null,null,null,null,null,null,null,null,null,null,null,null,null,null,null,null,null,null,null,null,null,null,"Луганська","Енгельсове (Енгельсовська селещна рада)"]
[null,null,null,null,null,null,null,null,null,null,null,null,null,null,null,null,null,null,null,null,null,null,null,null,null,null,null,null,null,null,null,null,null,null,null,null,null,null,null,null,null,null,null,null,null,"Луганська","Карпати"]
[null,null,null,null,null,null,null,null,null,null,null,null,null,null,null,null,null,null,null,null,null,null,null,null,null,null,null,null,null,null,null,null,null,null,null,null,null,null,null,null,null,null,null,null,null,"Луганська","Козарик"]
[null,null,null,null,null,null,null,null,null,null,null,null,null,null,null,null,null,null,null,null,null,null,null,null,null,null,null,null,null,null,null,null,null,null,null,null,null,null,null,null,null,null,null,null,null,"Луганська","Куплювате"]
[null,null,null,null,null,null,null,null,null,null,null,null,null,null,null,null,null,null,null,null,null,null,null,null,null,null,null,null,null,null,null,null,null,null,null,null,null,null,null,null,null,null,null,null,null,"Луганська","Лоскутівка"]
[null,null,null,null,null,null,null,null,null,null,null,null,null,null,null,null,null,null,null,null,null,null,null,null,null,null,null,null,null,null,null,null,null,null,null,null,null,null,null,null,null,null,null,null,null,"Луганська","Марківське"]
[null,null,null,null,null,null,null,null,null,null,null,null,null,null,null,null,null,null,null,null,null,null,null,null,null,null,null,null,null,null,null,null,null,null,null,null,null,null,null,null,null,null,null,null,null,"Луганська","Новодружеськ"]
[null,null,null,null,null,null,null,null,null,null,null,null,null,null,null,null,null,null,null,null,null,null,null,null,null,null,null,null,null,null,null,null,null,null,null,null,null,null,null,null,null,null,null,null,null,"Луганська","Новоспасівка"]
[null,null,null,null,null,null,null,null,null,null,null,null,null,null,null,null,null,null,null,null,null,null,null,null,null,null,null,null,null,null,null,null,null,null,null,null,null,null,null,null,null,null,null,null,null,"Луганська","Преображенне"]
[null,null,null,null,null,null,null,null,null,null,null,null,null,null,null,null,null,null,null,null,null,null,null,null,null,null,null,null,null,null,null,null,null,null,null,null,null,null,null,null,null,null,null,null,null,"Луганська","Радісне (Білоскелюватська сільська рада)"]
[null,null,null,null,null,null,null,null,null,null,null,null,null,null,null,null,null,null,null,null,null,null,null,null,null,null,null,null,null,null,null,null,null,null,null,null,null,null,null,null,null,null,null,null,null,"Луганська","Станично-Луганське"]
[null,null,null,null,null,null,null,null,null,null,null,null,null,null,null,null,null,null,null,null,null,null,null,null,null,null,null,null,null,null,null,null,null,null,null,null,null,null,null,null,null,null,null,null,null,"Луганська","Тернівка"]
[null,null,null,null,null,null,null,null,null,null,null,null,null,null,null,null,null,null,null,null,null,null,null,null,null,null,null,null,null,null,null,null,null,null,null,null,null,null,null,null,null,null,null,null,null,"Луганська","Червоногвардійське"]
[null,null,null,null,null,null,null,null,null,null,null,null,null,null,null,null,null,null,null,null,null,null,null,null,null,null,null,null,null,null,null,null,null,null,null,null,null,null,null,null,null,null,null,null,null,"Луганська","Щотове"]
[null,null,null,null,null,null,null,null,null,null,null,null,null,null,null,null,null,null,null,null,null,null,null,null,null,null,null,null,null,null,null,null,null,null,null,null,null,null,null,null,null,null,null,null,null,"Львівська","Бишків"]
[null,null,null,null,null,null,null,null,null,null,null,null,null,null,null,null,null,null,null,null,null,null,null,null,null,null,null,null,null,null,null,null,null,null,null,null,null,null,null,null,null,null,null,null,null,"Львівська","Богутин"]
[null,null,null,null,null,null,null,null,null,null,null,null,null,null,null,null,null,null,null,null,null,null,null,null,null,null,null,null,null,null,null,null,null,null,null,null,null,null,null,null,null,null,null,null,null,"Львівська","Бояничі"]
[null,null,null,null,null,null,null,null,null,null,null,null,null,null,null,null,null,null,null,null,null,null,null,null,null,null,null,null,null,null,null,null,null,null,null,null,null,null,null,null,null,null,null,null,null,"Львівська","Велика Лінина"]
[null,null,null,null,null,null,null,null,null,null,null,null,null,null,null,null,null,null,null,null,null,null,null,null,null,null,null,null,null,null,null,null,null,null,null,null,null,null,null,null,null,null,null,null,null,"Львівська","Верхня Лукавиця"]
[null,null,null,null,null,null,null,null,null,null,null,null,null,null,null,null,null,null,null,null,null,null,null,null,null,null,null,null,null,null,null,null,null,null,null,null,null,null,null,null,null,null,null,null,null,"Львівська","Воля Добростанська"]
[null,null,null,null,null,null,null,null,null,null,null,null,null,null,null,null,null,null,null,null,null,null,null,null,null,null,null,null,null,null,null,null,null,null,null,null,null,null,null,null,null,null,null,null,null,"Львівська","Вуйковичі"]
[null,null,null,null,null,null,null,null,null,null,null,null,null,null,null,null,null,null,null,null,null,null,null,null,null,null,null,null,null,null,null,null,null,null,null,null,null,null,null,null,null,null,null,null,null,"Львівська","Грабівниця"]
[null,null,null,null,null,null,null,null,null,null,null,null,null,null,null,null,null,null,null,null,null,null,null,null,null,null,null,null,null,null,null,null,null,null,null,null,null,null,null,null,null,null,null,null,null,"Львівська","Гуманець"]
[null,null,null,null,null,null,null,null,null,null,null,null,null,null,null,null,null,null,null,null,null,null,null,null,null,null,null,null,null,null,null,null,null,null,null,null,null,null,null,null,null,null,null,null,null,"Львівська","Долини (Стародобротвірська сільська рада)"]
[null,null,null,null,null,null,null,null,null,null,null,null,null,null,null,null,null,null,null,null,null,null,null,null,null,null,null,null,null,null,null,null,null,null,null,null,null,null,null,null,null,null,null,null,null,"Львівська","Жирівка"]
[null,null,null,null,null,null,null,null,null,null,null,null,null,null,null,null,null,null,null,null,null,null,null,null,null,null,null,null,null,null,null,null,null,null,null,null,null,null,null,null,null,null,null,null,null,"Львівська","Журавків"]
[null,null,null,null,null,null,null,null,null,null,null,null,null,null,null,null,null,null,null,null,null,null,null,null,null,null,null,null,null,null,null,null,null,null,null,null,null,null,null,null,null,null,null,null,null,"Львівська","Заставне"]
[null,null,null,null,null,null,null,null,null,null,null,null,null,null,null,null,null,null,null,null,null,null,null,null,null,null,null,null,null,null,null,null,null,null,null,null,null,null,null,null,null,null,null,null,null,"Львівська","Золочів"]
[null,null,null,null,null,null,null,null,null,null,null,null,null,null,null,null,null,null,null,null,null,null,null,null,null,null,null,null,null,null,null,null,null,null,null,null,null,null,null,null,null,null,null,null,null,"Львівська","Кобилеччина"]
[null,null,null,null,null,null,null,null,null,null,null,null,null,null,null,null,null,null,null,null,null,null,null,null,null,null,null,null,null,null,null,null,null,null,null,null,null,null,null,null,null,null,null,null,null,"Львівська","Конюхів"]
[null,null,null,null,null,null,null,null,null,null,null,null,null,null,null,null,null,null,null,null,null,null,null,null,null,null,null,null,null,null,null,null,null,null,null,null,null,null,null,null,null,null,null,null,null,"Львівська","Костенів"]
[null,null,null,null,null,null,null,null,null,null,null,null,null,null,null,null,null,null,null,null,null,null,null,null,null,null,null,null,null,null,null,null,null,null,null,null,null,null,null,null,null,null,null,null,null,"Львівська","Ладанці"]
[null,null,null,null,null,null,null,null,null,null,null,null,null,null,null,null,null,null,null,null,null,null,null,null,null,null,null,null,null,null,null,null,null,null,null,null,null,null,null,null,null,null,null,null,null,"Львівська","Листв'яне"]
[null,null,null,null,null,null,null,null,null,null,null,null,null,null,null,null,null,null,null,null,null,null,null,null,null,null,null,null,null,null,null,null,null,null,null,null,null,null,null,null,null,null,null,null,null,"Львівська","Маїки"]
[null,null,null,null,null,null,null,null,null,null,null,null,null,null,null,null,null,null,null,null,null,null,null,null,null,null,null,null,null,null,null,null,null,null,null,null,null,null,null,null,null,null,null,null,null,"Львівська","Малі Ланки"]
[null,null,null,null,null,null,null,null,null,null,null,null,null,null,null,null,null,null,null,null,null,null,null,null,null,null,null,null,null,null,null,null,null,null,null,null,null,null,null,null,null,null,null,null,null,"Львівська","Молотів"]
[null,null,null,null,null,null,null,null,null,null,null,null,null,null,null,null,null,null,null,null,null,null,null,null,null,null,null,null,null,null,null,null,null,null,null,null,null,null,null,null,null,null,null,null,null,"Львівська","Нагачів"]
[null,null,null,null,null,null,null,null,null,null,null,null,null,null,null,null,null,null,null,null,null,null,null,null,null,null,null,null,null,null,null,null,null,null,null,null,null,null,null,null,null,null,null,null,null,"Львівська","Новини"]
[null,null,null,null,null,null,null,null,null,null,null,null,null,null,null,null,null,null,null,null,null,null,null,null,null,null,null,null,null,null,null,null,null,null,null,null,null,null,null,null,null,null,null,null,null,"Львівська","Опори"]
[null,null,null,null,null,null,null,null,null,null,null,null,null,null,null,null,null,null,null,null,null,null,null,null,null,null,null,null,null,null,null,null,null,null,null,null,null,null,null,null,null,null,null,null,null,"Львівська","Папірня"]
[null,null,null,null,null,null,null,null,null,null,null,null,null,null,null,null,null,null,null,null,null,null,null,null,null,null,null,null,null,null,null,null,null,null,null,null,null,null,null,null,null,null,null,null,null,"Львівська","Пісок"]
[null,null,null,null,null,null,null,null,null,null,null,null,null,null,null,null,null,null,null,null,null,null,null,null,null,null,null,null,null,null,null,null,null,null,null,null,null,null,null,null,null,null,null,null,null,"Львівська","Погірці"]
[null,null,null,null,null,null,null,null,null,null,null,null,null,null,null,null,null,null,null,null,null,null,null,null,null,null,null,null,null,null,null,null,null,null,null,null,null,null,null,null,null,null,null,null,null,"Львівська","Раковища"]
[null,null,null,null,null,null,null,null,null,null,null,null,null,null,null,null,null,null,null,null,null,null,null,null,null,null,null,null,null,null,null,null,null,null,null,null,null,null,null,null,null,null,null,null,null,"Львівська","Рішин"]
[null,null,null,null,null,null,null,null,null,null,null,null,null,null,null,null,null,null,null,null,null,null,null,null,null,null,null,null,null,null,null,null,null,null,null,null,null,null,null,null,null,null,null,null,null,"Львівська","Себечів"]
[null,null,null,null,null,null,null,null,null,null,null,null,null,null,null,null,null,null,null,null,null,null,null,null,null,null,null,null,null,null,null,null,null,null,null,null,null,null,null,null,null,null,null,null,null,"Львівська","Слабаш"]
[null,null,null,null,null,null,null,null,null,null,null,null,null,null,null,null,null,null,null,null,null,null,null,null,null,null,null,null,null,null,null,null,null,null,null,null,null,null,null,null,null,null,null,null,null,"Львівська","Стені"]
[null,null,null,null,null,null,null,null,null,null,null,null,null,null,null,null,null,null,null,null,null,null,null,null,null,null,null,null,null,null,null,null,null,null,null,null,null,null,null,null,null,null,null,null,null,"Львівська","Стрілків"]
[null,null,null,null,null,null,null,null,null,null,null,null,null,null,null,null,null,null,null,null,null,null,null,null,null,null,null,null,null,null,null,null,null,null,null,null,null,null,null,null,null,null,null,null,null,"Львівська","Сушно"]
[null,null,null,null,null,null,null,null,null,null,null,null,null,null,null,null,null,null,null,null,null,null,null,null,null,null,null,null,null,null,null,null,null,null,null,null,null,null,null,null,null,null,null,null,null,"Львівська","Тур'я"]
[null,null,null,null,null,null,null,null,null,null,null,null,null,null,null,null,null,null,null,null,null,null,null,null,null,null,null,null,null,null,null,null,null,null,null,null,null,null,null,null,null,null,null,null,null,"Львівська","Фійна"]
[null,null,null,null,null,null,null,null,null,null,null,null,null,null,null,null,null,null,null,null,null,null,null,null,null,null,null,null,null,null,null,null,null,null,null,null,null,null,null,null,null,null,null,null,null,"Львівська","Черневе"]
[null,null,null,null,null,null,null,null,null,null,null,null,null,null,null,null,null,null,null,null,null,null,null,null,null,null,null,null,null,null,null,null,null,null,null,null,null,null,null,null,null,null,null,null,null,"Львівська","Штуковець"]
[null,null,null,null,null,null,null,null,null,null,null,null,null,null,null,null,null,null,null,null,null,null,null,null,null,null,null,null,null,null,null,null,null,null,null,null,null,null,null,null,null,null,null,null,null,"Миколаївська","Афанасівка"]
[null,null,null,null,null,null,null,null,null,null,null,null,null,null,null,null,null,null,null,null,null,null,null,null,null,null,null,null,null,null,null,null,null,null,null,null,null,null,null,null,null,null,null,null,null,"Миколаївська","Біла  Криниця (Білокриницька)"]
[null,null,null,null,null,null,null,null,null,null,null,null,null,null,null,null,null,null,null,null,null,null,null,null,null,null,null,null,null,null,null,null,null,null,null,null,null,null,null,null,null,null,null,null,null,"Миколаївська","Булацелове (Семенівська)"]
[null,null,null,null,null,null,null,null,null,null,null,null,null,null,null,null,null,null,null,null,null,null,null,null,null,null,null,null,null,null,null,null,null,null,null,null,null,null,null,null,null,null,null,null,null,"Миколаївська","Волна (Олександрівська)"]
[null,null,null,null,null,null,null,null,null,null,null,null,null,null,null,null,null,null,null,null,null,null,null,null,null,null,null,null,null,null,null,null,null,null,null,null,null,null,null,null,null,null,null,null,null,"Миколаївська","Гамове (Кубряцька)"]
[null,null,null,null,null,null,null,null,null,null,null,null,null,null,null,null,null,null,null,null,null,null,null,null,null,null,null,null,null,null,null,null,null,null,null,null,null,null,null,null,null,null,null,null,null,"Миколаївська","Зброшкове (Доманівська)"]
[null,null,null,null,null,null,null,null,null,null,null,null,null,null,null,null,null,null,null,null,null,null,null,null,null,null,null,null,null,null,null,null,null,null,null,null,null,null,null,null,null,null,null,null,null,"Миколаївська","Зелений Гай (Кашперо-Миколаївська)"]
[null,null,null,null,null,null,null,null,null,null,null,null,null,null,null,null,null,null,null,null,null,null,null,null,null,null,null,null,null,null,null,null,null,null,null,null,null,null,null,null,null,null,null,null,null,"Миколаївська","Кашперо-Миколаївка (Кашперо-Миколаївська)"]
[null,null,null,null,null,null,null,null,null,null,null,null,null,null,null,null,null,null,null,null,null,null,null,null,null,null,null,null,null,null,null,null,null,null,null,null,null,null,null,null,null,null,null,null,null,"Миколаївська","Колос Добра (Новоселівська)"]
[null,null,null,null,null,null,null,null,null,null,null,null,null,null,null,null,null,null,null,null,null,null,null,null,null,null,null,null,null,null,null,null,null,null,null,null,null,null,null,null,null,null,null,null,null,"Миколаївська","Лісове (Володимирівська)"]
[null,null,null,null,null,null,null,null,null,null,null,null,null,null,null,null,null,null,null,null,null,null,null,null,null,null,null,null,null,null,null,null,null,null,null,null,null,null,null,null,null,null,null,null,null,"Миколаївська","Макарове (Улянівська)"]
[null,null,null,null,null,null,null,null,null,null,null,null,null,null,null,null,null,null,null,null,null,null,null,null,null,null,null,null,null,null,null,null,null,null,null,null,null,null,null,null,null,null,null,null,null,"Миколаївська","Мостове (Ганнівська)"]
[null,null,null,null,null,null,null,null,null,null,null,null,null,null,null,null,null,null,null,null,null,null,null,null,null,null,null,null,null,null,null,null,null,null,null,null,null,null,null,null,null,null,null,null,null,"Миколаївська","Мостове (Мостівське)"]
[null,null,null,null,null,null,null,null,null,null,null,null,null,null,null,null,null,null,null,null,null,null,null,null,null,null,null,null,null,null,null,null,null,null,null,null,null,null,null,null,null,null,null,null,null,"Миколаївська","Новодмитрівка (Новомихайлівська)"]
[null,null,null,null,null,null,null,null,null,null,null,null,null,null,null,null,null,null,null,null,null,null,null,null,null,null,null,null,null,null,null,null,null,null,null,null,null,null,null,null,null,null,null,null,null,"Миколаївська","Новосілка (Подільська)"]
[null,null,null,null,null,null,null,null,null,null,null,null,null,null,null,null,null,null,null,null,null,null,null,null,null,null,null,null,null,null,null,null,null,null,null,null,null,null,null,null,null,null,null,null,null,"Миколаївська","Олександрівка (Антонівська)"]
[null,null,null,null,null,null,null,null,null,null,null,null,null,null,null,null,null,null,null,null,null,null,null,null,null,null,null,null,null,null,null,null,null,null,null,null,null,null,null,null,null,null,null,null,null,"Миколаївська","Показне (Вільнозапорізька)"]
[null,null,null,null,null,null,null,null,null,null,null,null,null,null,null,null,null,null,null,null,null,null,null,null,null,null,null,null,null,null,null,null,null,null,null,null,null,null,null,null,null,null,null,null,null,"Миколаївська","Пришиб (Висунська)"]
[null,null,null,null,null,null,null,null,null,null,null,null,null,null,null,null,null,null,null,null,null,null,null,null,null,null,null,null,null,null,null,null,null,null,null,null,null,null,null,null,null,null,null,null,null,"Миколаївська","Станіславчик (Болеславчицька)"]
[null,null,null,null,null,null,null,null,null,null,null,null,null,null,null,null,null,null,null,null,null,null,null,null,null,null,null,null,null,null,null,null,null,null,null,null,null,null,null,null,null,null,null,null,null,"Миколаївська","Тернові Поди (Краснознам'янська)"]
[null,null,null,null,null,null,null,null,null,null,null,null,null,null,null,null,null,null,null,null,null,null,null,null,null,null,null,null,null,null,null,null,null,null,null,null,null,null,null,null,null,null,null,null,null,"Миколаївська","Улянівка (Воронцівська)"]
[null,null,null,null,null,null,null,null,null,null,null,null,null,null,null,null,null,null,null,null,null,null,null,null,null,null,null,null,null,null,null,null,null,null,null,null,null,null,null,null,null,null,null,null,null,"Миколаївська","Шмідтівка (Матіясівська)"]
[null,null,null,null,null,null,null,null,null,null,null,null,null,null,null,null,null,null,null,null,null,null,null,null,null,null,null,null,null,null,null,null,null,null,null,null,null,null,null,null,null,null,null,null,null,"Миколаївська","Ясна Зоря (Ольшанська)"]
[null,null,null,null,null,null,null,null,null,null,null,null,null,null,null,null,null,null,null,null,null,null,null,null,null,null,null,null,null,null,null,null,null,null,null,null,null,null,null,null,null,null,null,null,null,"Одеська","Борщі"]
[null,null,null,null,null,null,null,null,null,null,null,null,null,null,null,null,null,null,null,null,null,null,null,null,null,null,null,null,null,null,null,null,null,null,null,null,null,null,null,null,null,null,null,null,null,"Одеська","Вапнярка"]
[null,null,null,null,null,null,null,null,null,null,null,null,null,null,null,null,null,null,null,null,null,null,null,null,null,null,null,null,null,null,null,null,null,null,null,null,null,null,null,null,null,null,null,null,null,"Одеська","Дальнічень"]
[null,null,null,null,null,null,null,null,null,null,null,null,null,null,null,null,null,null,null,null,null,null,null,null,null,null,null,null,null,null,null,null,null,null,null,null,null,null,null,null,null,null,null,null,null,"Одеська","Єфросинівка"]
[null,null,null,null,null,null,null,null,null,null,null,null,null,null,null,null,null,null,null,null,null,null,null,null,null,null,null,null,null,null,null,null,null,null,null,null,null,null,null,null,null,null,null,null,null,"Одеська","Кілія"]
[null,null,null,null,null,null,null,null,null,null,null,null,null,null,null,null,null,null,null,null,null,null,null,null,null,null,null,null,null,null,null,null,null,null,null,null,null,null,null,null,null,null,null,null,null,"Одеська","Котовці"]
[null,null,null,null,null,null,null,null,null,null,null,null,null,null,null,null,null,null,null,null,null,null,null,null,null,null,null,null,null,null,null,null,null,null,null,null,null,null,null,null,null,null,null,null,null,"Одеська","Левадівка"]
[null,null,null,null,null,null,null,null,null,null,null,null,null,null,null,null,null,null,null,null,null,null,null,null,null,null,null,null,null,null,null,null,null,null,null,null,null,null,null,null,null,null,null,null,null,"Одеська","Муравлівка"]
[null,null,null,null,null,null,null,null,null,null,null,null,null,null,null,null,null,null,null,null,null,null,null,null,null,null,null,null,null,null,null,null,null,null,null,null,null,null,null,null,null,null,null,null,null,"Одеська","Нова Плахтіївка"]
[null,null,null,null,null,null,null,null,null,null,null,null,null,null,null,null,null,null,null,null,null,null,null,null,null,null,null,null,null,null,null,null,null,null,null,null,null,null,null,null,null,null,null,null,null,"Одеська","Олександрівка (Петрівська)"]
[null,null,null,null,null,null,null,null,null,null,null,null,null,null,null,null,null,null,null,null,null,null,null,null,null,null,null,null,null,null,null,null,null,null,null,null,null,null,null,null,null,null,null,null,null,"Одеська","Полянецьке"]
[null,null,null,null,null,null,null,null,null,null,null,null,null,null,null,null,null,null,null,null,null,null,null,null,null,null,null,null,null,null,null,null,null,null,null,null,null,null,null,null,null,null,null,null,null,"Одеська","Созонівка"]
[null,null,null,null,null,null,null,null,null,null,null,null,null,null,null,null,null,null,null,null,null,null,null,null,null,null,null,null,null,null,null,null,null,null,null,null,null,null,null,null,null,null,null,null,null,"Одеська","Струтинка"]
[null,null,null,null,null,null,null,null,null,null,null,null,null,null,null,null,null,null,null,null,null,null,null,null,null,null,null,null,null,null,null,null,null,null,null,null,null,null,null,null,null,null,null,null,null,"Одеська","Тузли"]
[null,null,null,null,null,null,null,null,null,null,null,null,null,null,null,null,null,null,null,null,null,null,null,null,null,null,null,null,null,null,null,null,null,null,null,null,null,null,null,null,null,null,null,null,null,"Одеська","Якова"]
[null,null,null,null,null,null,null,null,null,null,null,null,null,null,null,null,null,null,null,null,null,null,null,null,null,null,null,null,null,null,null,null,null,null,null,null,null,null,null,null,null,null,null,null,null,"Полтавська","Бабайкове"]
[null,null,null,null,null,null,null,null,null,null,null,null,null,null,null,null,null,null,null,null,null,null,null,null,null,null,null,null,null,null,null,null,null,null,null,null,null,null,null,null,null,null,null,null,null,"Полтавська","Біївці"]
[null,null,null,null,null,null,null,null,null,null,null,null,null,null,null,null,null,null,null,null,null,null,null,null,null,null,null,null,null,null,null,null,null,null,null,null,null,null,null,null,null,null,null,null,null,"Полтавська","Бурімка"]
[null,null,null,null,null,null,null,null,null,null,null,null,null,null,null,null,null,null,null,null,null,null,null,null,null,null,null,null,null,null,null,null,null,null,null,null,null,null,null,null,null,null,null,null,null,"Полтавська","Вили"]
[null,null,null,null,null,null,null,null,null,null,null,null,null,null,null,null,null,null,null,null,null,null,null,null,null,null,null,null,null,null,null,null,null,null,null,null,null,null,null,null,null,null,null,null,null,"Полтавська","Вінтенці"]
[null,null,null,null,null,null,null,null,null,null,null,null,null,null,null,null,null,null,null,null,null,null,null,null,null,null,null,null,null,null,null,null,null,null,null,null,null,null,null,null,null,null,null,null,null,"Полтавська","Голобородьківське"]
[null,null,null,null,null,null,null,null,null,null,null,null,null,null,null,null,null,null,null,null,null,null,null,null,null,null,null,null,null,null,null,null,null,null,null,null,null,null,null,null,null,null,null,null,null,"Полтавська","Григоро-Бригадирівка"]
[null,null,null,null,null,null,null,null,null,null,null,null,null,null,null,null,null,null,null,null,null,null,null,null,null,null,null,null,null,null,null,null,null,null,null,null,null,null,null,null,null,null,null,null,null,"Полтавська","Дашківка"]
[null,null,null,null,null,null,null,null,null,null,null,null,null,null,null,null,null,null,null,null,null,null,null,null,null,null,null,null,null,null,null,null,null,null,null,null,null,null,null,null,null,null,null,null,null,"Полтавська","Жадани"]
[null,null,null,null,null,null,null,null,null,null,null,null,null,null,null,null,null,null,null,null,null,null,null,null,null,null,null,null,null,null,null,null,null,null,null,null,null,null,null,null,null,null,null,null,null,"Полтавська","Ївженки"]
[null,null,null,null,null,null,null,null,null,null,null,null,null,null,null,null,null,null,null,null,null,null,null,null,null,null,null,null,null,null,null,null,null,null,null,null,null,null,null,null,null,null,null,null,null,"Полтавська","Ковердина Балка"]
[null,null,null,null,null,null,null,null,null,null,null,null,null,null,null,null,null,null,null,null,null,null,null,null,null,null,null,null,null,null,null,null,null,null,null,null,null,null,null,null,null,null,null,null,null,"Полтавська","Коновалівка"]
[null,null,null,null,null,null,null,null,null,null,null,null,null,null,null,null,null,null,null,null,null,null,null,null,null,null,null,null,null,null,null,null,null,null,null,null,null,null,null,null,null,null,null,null,null,"Полтавська","Кунівка"]
[null,null,null,null,null,null,null,null,null,null,null,null,null,null,null,null,null,null,null,null,null,null,null,null,null,null,null,null,null,null,null,null,null,null,null,null,null,null,null,null,null,null,null,null,null,"Полтавська","Ламане"]
[null,null,null,null,null,null,null,null,null,null,null,null,null,null,null,null,null,null,null,null,null,null,null,null,null,null,null,null,null,null,null,null,null,null,null,null,null,null,null,null,null,null,null,null,null,"Полтавська","Лізки"]
[null,null,null,null,null,null,null,null,null,null,null,null,null,null,null,null,null,null,null,null,null,null,null,null,null,null,null,null,null,null,null,null,null,null,null,null,null,null,null,null,null,null,null,null,null,"Полтавська","Малютинці"]
[null,null,null,null,null,null,null,null,null,null,null,null,null,null,null,null,null,null,null,null,null,null,null,null,null,null,null,null,null,null,null,null,null,null,null,null,null,null,null,null,null,null,null,null,null,"Полтавська","Мачухи"]
[null,null,null,null,null,null,null,null,null,null,null,null,null,null,null,null,null,null,null,null,null,null,null,null,null,null,null,null,null,null,null,null,null,null,null,null,null,null,null,null,null,null,null,null,null,"Полтавська","Нижні Яреськи"]
[null,null,null,null,null,null,null,null,null,null,null,null,null,null,null,null,null,null,null,null,null,null,null,null,null,null,null,null,null,null,null,null,null,null,null,null,null,null,null,null,null,null,null,null,null,"Полтавська","Новий Виселок"]
[null,null,null,null,null,null,null,null,null,null,null,null,null,null,null,null,null,null,null,null,null,null,null,null,null,null,null,null,null,null,null,null,null,null,null,null,null,null,null,null,null,null,null,null,null,"Полтавська","Панченки"]
[null,null,null,null,null,null,null,null,null,null,null,null,null,null,null,null,null,null,null,null,null,null,null,null,null,null,null,null,null,null,null,null,null,null,null,null,null,null,null,null,null,null,null,null,null,"Полтавська","Першотравневе"]
[null,null,null,null,null,null,null,null,null,null,null,null,null,null,null,null,null,null,null,null,null,null,null,null,null,null,null,null,null,null,null,null,null,null,null,null,null,null,null,null,null,null,null,null,null,"Полтавська","Пристанційне"]
[null,null,null,null,null,null,null,null,null,null,null,null,null,null,null,null,null,null,null,null,null,null,null,null,null,null,null,null,null,null,null,null,null,null,null,null,null,null,null,null,null,null,null,null,null,"Полтавська","Пушкареве"]
[null,null,null,null,null,null,null,null,null,null,null,null,null,null,null,null,null,null,null,null,null,null,null,null,null,null,null,null,null,null,null,null,null,null,null,null,null,null,null,null,null,null,null,null,null,"Полтавська","Свиридівка"]
[null,null,null,null,null,null,null,null,null,null,null,null,null,null,null,null,null,null,null,null,null,null,null,null,null,null,null,null,null,null,null,null,null,null,null,null,null,null,null,null,null,null,null,null,null,"Полтавська","Сиротенки"]
[null,null,null,null,null,null,null,null,null,null,null,null,null,null,null,null,null,null,null,null,null,null,null,null,null,null,null,null,null,null,null,null,null,null,null,null,null,null,null,null,null,null,null,null,null,"Полтавська","Снітине"]
[null,null,null,null,null,null,null,null,null,null,null,null,null,null,null,null,null,null,null,null,null,null,null,null,null,null,null,null,null,null,null,null,null,null,null,null,null,null,null,null,null,null,null,null,null,"Полтавська","Сухорабівка"]
[null,null,null,null,null,null,null,null,null,null,null,null,null,null,null,null,null,null,null,null,null,null,null,null,null,null,null,null,null,null,null,null,null,null,null,null,null,null,null,null,null,null,null,null,null,"Полтавська","Трирогове"]
[null,null,null,null,null,null,null,null,null,null,null,null,null,null,null,null,null,null,null,null,null,null,null,null,null,null,null,null,null,null,null,null,null,null,null,null,null,null,null,null,null,null,null,null,null,"Полтавська","Хорішки"]
[null,null,null,null,null,null,null,null,null,null,null,null,null,null,null,null,null,null,null,null,null,null,null,null,null,null,null,null,null,null,null,null,null,null,null,null,null,null,null,null,null,null,null,null,null,"Полтавська","Червоні Квіти"]
[null,null,null,null,null,null,null,null,null,null,null,null,null,null,null,null,null,null,null,null,null,null,null,null,null,null,null,null,null,null,null,null,null,null,null,null,null,null,null,null,null,null,null,null,null,"Полтавська","Шостаки"]
[null,null,null,null,null,null,null,null,null,null,null,null,null,null,null,null,null,null,null,null,null,null,null,null,null,null,null,null,null,null,null,null,null,null,null,null,null,null,null,null,null,null,null,null,null,"Полтавська","Ялосовецьке"]
[null,null,null,null,null,null,null,null,null,null,null,null,null,null,null,null,null,null,null,null,null,null,null,null,null,null,null,null,null,null,null,null,null,null,null,null,null,null,null,null,null,null,null,null,null,"Рівненська","Бармаки"]
[null,null,null,null,null,null,null,null,null,null,null,null,null,null,null,null,null,null,null,null,null,null,null,null,null,null,null,null,null,null,null,null,null,null,null,null,null,null,null,null,null,null,null,null,null,"Рівненська","Варковичі"]
[null,null,null,null,null,null,null,null,null,null,null,null,null,null,null,null,null,null,null,null,null,null,null,null,null,null,null,null,null,null,null,null,null,null,null,null,null,null,null,null,null,null,null,null,null,"Рівненська","Великі Загірці"]
[null,null,null,null,null,null,null,null,null,null,null,null,null,null,null,null,null,null,null,null,null,null,null,null,null,null,null,null,null,null,null,null,null,null,null,null,null,null,null,null,null,null,null,null,null,"Рівненська","Гільча Перша"]
[null,null,null,null,null,null,null,null,null,null,null,null,null,null,null,null,null,null,null,null,null,null,null,null,null,null,null,null,null,null,null,null,null,null,null,null,null,null,null,null,null,null,null,null,null,"Рівненська","Диків"]
[null,null,null,null,null,null,null,null,null,null,null,null,null,null,null,null,null,null,null,null,null,null,null,null,null,null,null,null,null,null,null,null,null,null,null,null,null,null,null,null,null,null,null,null,null,"Рівненська","Зносичі"]
[null,null,null,null,null,null,null,null,null,null,null,null,null,null,null,null,null,null,null,null,null,null,null,null,null,null,null,null,null,null,null,null,null,null,null,null,null,null,null,null,null,null,null,null,null,"Рівненська","Квасилів"]
[null,null,null,null,null,null,null,null,null,null,null,null,null,null,null,null,null,null,null,null,null,null,null,null,null,null,null,null,null,null,null,null,null,null,null,null,null,null,null,null,null,null,null,null,null,"Рівненська","Кухче"]
[null,null,null,null,null,null,null,null,null,null,null,null,null,null,null,null,null,null,null,null,null,null,null,null,null,null,null,null,null,null,null,null,null,null,null,null,null,null,null,null,null,null,null,null,null,"Рівненська","Макотерти"]
[null,null,null,null,null,null,null,null,null,null,null,null,null,null,null,null,null,null,null,null,null,null,null,null,null,null,null,null,null,null,null,null,null,null,null,null,null,null,null,null,null,null,null,null,null,"Рівненська","Малі Телковичі"]
[null,null,null,null,null,null,null,null,null,null,null,null,null,null,null,null,null,null,null,null,null,null,null,null,null,null,null,null,null,null,null,null,null,null,null,null,null,null,null,null,null,null,null,null,null,"Рівненська","М'ятин"]
[null,null,null,null,null,null,null,null,null,null,null,null,null,null,null,null,null,null,null,null,null,null,null,null,null,null,null,null,null,null,null,null,null,null,null,null,null,null,null,null,null,null,null,null,null,"Рівненська","Олибів"]
[null,null,null,null,null,null,null,null,null,null,null,null,null,null,null,null,null,null,null,null,null,null,null,null,null,null,null,null,null,null,null,null,null,null,null,null,null,null,null,null,null,null,null,null,null,"Рівненська","Працюки"]
[null,null,null,null,null,null,null,null,null,null,null,null,null,null,null,null,null,null,null,null,null,null,null,null,null,null,null,null,null,null,null,null,null,null,null,null,null,null,null,null,null,null,null,null,null,"Рівненська","Річечина"]
[null,null,null,null,null,null,null,null,null,null,null,null,null,null,null,null,null,null,null,null,null,null,null,null,null,null,null,null,null,null,null,null,null,null,null,null,null,null,null,null,null,null,null,null,null,"Рівненська","Степангород"]
[null,null,null,null,null,null,null,null,null,null,null,null,null,null,null,null,null,null,null,null,null,null,null,null,null,null,null,null,null,null,null,null,null,null,null,null,null,null,null,null,null,null,null,null,null,"Рівненська","Тесів"]
[null,null,null,null,null,null,null,null,null,null,null,null,null,null,null,null,null,null,null,null,null,null,null,null,null,null,null,null,null,null,null,null,null,null,null,null,null,null,null,null,null,null,null,null,null,"Рівненська","Удрицьк"]
[null,null,null,null,null,null,null,null,null,null,null,null,null,null,null,null,null,null,null,null,null,null,null,null,null,null,null,null,null,null,null,null,null,null,null,null,null,null,null,null,null,null,null,null,null,"Севастополь","Родніківське"]
[null,null,null,null,null,null,null,null,null,null,null,null,null,null,null,null,null,null,null,null,null,null,null,null,null,null,null,null,null,null,null,null,null,null,null,null,null,null,null,null,null,null,null,null,null,"Сумська","Артемо-растівка (Мартинівка)"]
[null,null,null,null,null,null,null,null,null,null,null,null,null,null,null,null,null,null,null,null,null,null,null,null,null,null,null,null,null,null,null,null,null,null,null,null,null,null,null,null,null,null,null,null,null,"Сумська","Бороданове"]
[null,null,null,null,null,null,null,null,null,null,null,null,null,null,null,null,null,null,null,null,null,null,null,null,null,null,null,null,null,null,null,null,null,null,null,null,null,null,null,null,null,null,null,null,null,"Сумська","Будне (Лантратівка)"]
[null,null,null,null,null,null,null,null,null,null,null,null,null,null,null,null,null,null,null,null,null,null,null,null,null,null,null,null,null,null,null,null,null,null,null,null,null,null,null,null,null,null,null,null,null,"Сумська","Вільна Слобода"]
[null,null,null,null,null,null,null,null,null,null,null,null,null,null,null,null,null,null,null,null,null,null,null,null,null,null,null,null,null,null,null,null,null,null,null,null,null,null,null,null,null,null,null,null,null,"Сумська","Воропаї"]
[null,null,null,null,null,null,null,null,null,null,null,null,null,null,null,null,null,null,null,null,null,null,null,null,null,null,null,null,null,null,null,null,null,null,null,null,null,null,null,null,null,null,null,null,null,"Сумська","Грінченкове"]
[null,null,null,null,null,null,null,null,null,null,null,null,null,null,null,null,null,null,null,null,null,null,null,null,null,null,null,null,null,null,null,null,null,null,null,null,null,null,null,null,null,null,null,null,null,"Сумська","Дернове"]
[null,null,null,null,null,null,null,null,null,null,null,null,null,null,null,null,null,null,null,null,null,null,null,null,null,null,null,null,null,null,null,null,null,null,null,null,null,null,null,null,null,null,null,null,null,"Сумська","Дяківка"]
[null,null,null,null,null,null,null,null,null,null,null,null,null,null,null,null,null,null,null,null,null,null,null,null,null,null,null,null,null,null,null,null,null,null,null,null,null,null,null,null,null,null,null,null,null,"Сумська","Карпенкове"]
[null,null,null,null,null,null,null,null,null,null,null,null,null,null,null,null,null,null,null,null,null,null,null,null,null,null,null,null,null,null,null,null,null,null,null,null,null,null,null,null,null,null,null,null,null,"Сумська","Клочківка"]
[null,null,null,null,null,null,null,null,null,null,null,null,null,null,null,null,null,null,null,null,null,null,null,null,null,null,null,null,null,null,null,null,null,null,null,null,null,null,null,null,null,null,null,null,null,"Сумська","Кудоярове"]
[null,null,null,null,null,null,null,null,null,null,null,null,null,null,null,null,null,null,null,null,null,null,null,null,null,null,null,null,null,null,null,null,null,null,null,null,null,null,null,null,null,null,null,null,null,"Сумська","Липняк"]
[null,null,null,null,null,null,null,null,null,null,null,null,null,null,null,null,null,null,null,null,null,null,null,null,null,null,null,null,null,null,null,null,null,null,null,null,null,null,null,null,null,null,null,null,null,"Сумська","Масензівка"]
[null,null,null,null,null,null,null,null,null,null,null,null,null,null,null,null,null,null,null,null,null,null,null,null,null,null,null,null,null,null,null,null,null,null,null,null,null,null,null,null,null,null,null,null,null,"Сумська","Могриця"]
[null,null,null,null,null,null,null,null,null,null,null,null,null,null,null,null,null,null,null,null,null,null,null,null,null,null,null,null,null,null,null,null,null,null,null,null,null,null,null,null,null,null,null,null,null,"Сумська","Нелени"]
[null,null,null,null,null,null,null,null,null,null,null,null,null,null,null,null,null,null,null,null,null,null,null,null,null,null,null,null,null,null,null,null,null,null,null,null,null,null,null,null,null,null,null,null,null,"Сумська","Осоївка"]
[null,null,null,null,null,null,null,null,null,null,null,null,null,null,null,null,null,null,null,null,null,null,null,null,null,null,null,null,null,null,null,null,null,null,null,null,null,null,null,null,null,null,null,null,null,"Сумська","Перехрестівка (Северинівська)"]
[null,null,null,null,null,null,null,null,null,null,null,null,null,null,null,null,null,null,null,null,null,null,null,null,null,null,null,null,null,null,null,null,null,null,null,null,null,null,null,null,null,null,null,null,null,"Сумська","Радгоспне (Буймер)"]
[null,null,null,null,null,null,null,null,null,null,null,null,null,null,null,null,null,null,null,null,null,null,null,null,null,null,null,null,null,null,null,null,null,null,null,null,null,null,null,null,null,null,null,null,null,"Сумська","Розсохувате (Грінченкове)"]
[null,null,null,null,null,null,null,null,null,null,null,null,null,null,null,null,null,null,null,null,null,null,null,null,null,null,null,null,null,null,null,null,null,null,null,null,null,null,null,null,null,null,null,null,null,"Сумська","Собич"]
[null,null,null,null,null,null,null,null,null,null,null,null,null,null,null,null,null,null,null,null,null,null,null,null,null,null,null,null,null,null,null,null,null,null,null,null,null,null,null,null,null,null,null,null,null,"Сумська","Сорочинське"]
[null,null,null,null,null,null,null,null,null,null,null,null,null,null,null,null,null,null,null,null,null,null,null,null,null,null,null,null,null,null,null,null,null,null,null,null,null,null,null,null,null,null,null,null,null,"Сумська","Хильчичі"]
[null,null,null,null,null,null,null,null,null,null,null,null,null,null,null,null,null,null,null,null,null,null,null,null,null,null,null,null,null,null,null,null,null,null,null,null,null,null,null,null,null,null,null,null,null,"Сумська","Чеберяки"]
[null,null,null,null,null,null,null,null,null,null,null,null,null,null,null,null,null,null,null,null,null,null,null,null,null,null,null,null,null,null,null,null,null,null,null,null,null,null,null,null,null,null,null,null,null,"Сумська","Щекино"]
[null,null,null,null,null,null,null,null,null,null,null,null,null,null,null,null,null,null,null,null,null,null,null,null,null,null,null,null,null,null,null,null,null,null,null,null,null,null,null,null,null,null,null,null,null,"Тернопільська","Антонів (Свидівська сільська рада)"]
[null,null,null,null,null,null,null,null,null,null,null,null,null,null,null,null,null,null,null,null,null,null,null,null,null,null,null,null,null,null,null,null,null,null,null,null,null,null,null,null,null,null,null,null,null,"Тернопільська","Берем'яни (Берем'янська сільська рада)"]
[null,null,null,null,null,null,null,null,null,null,null,null,null,null,null,null,null,null,null,null,null,null,null,null,null,null,null,null,null,null,null,null,null,null,null,null,null,null,null,null,null,null,null,null,null,"Тернопільська","Броварі (Язловецька сільська рада)"]
[null,null,null,null,null,null,null,null,null,null,null,null,null,null,null,null,null,null,null,null,null,null,null,null,null,null,null,null,null,null,null,null,null,null,null,null,null,null,null,null,null,null,null,null,null,"Тернопільська","Великі Кусківці (Великокусковецька сільська рада)"]
[null,null,null,null,null,null,null,null,null,null,null,null,null,null,null,null,null,null,null,null,null,null,null,null,null,null,null,null,null,null,null,null,null,null,null,null,null,null,null,null,null,null,null,null,null,"Тернопільська","Гадинківці (Гадинківська сільська рада)"]
[null,null,null,null,null,null,null,null,null,null,null,null,null,null,null,null,null,null,null,null,null,null,null,null,null,null,null,null,null,null,null,null,null,null,null,null,null,null,null,null,null,null,null,null,null,"Тернопільська","Гнилички (Новосільська сільська рада)"]
[null,null,null,null,null,null,null,null,null,null,null,null,null,null,null,null,null,null,null,null,null,null,null,null,null,null,null,null,null,null,null,null,null,null,null,null,null,null,null,null,null,null,null,null,null,"Тернопільська","Дзвинячка (Дзвиняцька сільська рада)"]
[null,null,null,null,null,null,null,null,null,null,null,null,null,null,null,null,null,null,null,null,null,null,null,null,null,null,null,null,null,null,null,null,null,null,null,null,null,null,null,null,null,null,null,null,null,"Тернопільська","Домаморич (Домаморицька сільська рада)"]
[null,null,null,null,null,null,null,null,null,null,null,null,null,null,null,null,null,null,null,null,null,null,null,null,null,null,null,null,null,null,null,null,null,null,null,null,null,null,null,null,null,null,null,null,null,"Тернопільська","Жуків (Жуківська сільська рада)"]
[null,null,null,null,null,null,null,null,null,null,null,null,null,null,null,null,null,null,null,null,null,null,null,null,null,null,null,null,null,null,null,null,null,null,null,null,null,null,null,null,null,null,null,null,null,"Тернопільська","Іванівка (Іванівська сільська рада)"]
[null,null,null,null,null,null,null,null,null,null,null,null,null,null,null,null,null,null,null,null,null,null,null,null,null,null,null,null,null,null,null,null,null,null,null,null,null,null,null,null,null,null,null,null,null,"Тернопільська","Ілавче (Ілавченська сільська рада)"]
[null,null,null,null,null,null,null,null,null,null,null,null,null,null,null,null,null,null,null,null,null,null,null,null,null,null,null,null,null,null,null,null,null,null,null,null,null,null,null,null,null,null,null,null,null,"Тернопільська","Королівка (Королівська сільська рада)"]
[null,null,null,null,null,null,null,null,null,null,null,null,null,null,null,null,null,null,null,null,null,null,null,null,null,null,null,null,null,null,null,null,null,null,null,null,null,null,null,null,null,null,null,null,null,"Тернопільська","Красівка (Дичківська сільська рада)"]
[null,null,null,null,null,null,null,null,null,null,null,null,null,null,null,null,null,null,null,null,null,null,null,null,null,null,null,null,null,null,null,null,null,null,null,null,null,null,null,null,null,null,null,null,null,"Тернопільська","Лози (Лозівська сільська рада)"]
[null,null,null,null,null,null,null,null,null,null,null,null,null,null,null,null,null,null,null,null,null,null,null,null,null,null,null,null,null,null,null,null,null,null,null,null,null,null,null,null,null,null,null,null,null,"Тернопільська","Мала Березовиця (Іванчанська сільська рада)"]
[null,null,null,null,null,null,null,null,null,null,null,null,null,null,null,null,null,null,null,null,null,null,null,null,null,null,null,null,null,null,null,null,null,null,null,null,null,null,null,null,null,null,null,null,null,"Тернопільська","Мовчанівка (Кам\"янківська сільська рада)"]
[null,null,null,null,null,null,null,null,null,null,null,null,null,null,null,null,null,null,null,null,null,null,null,null,null,null,null,null,null,null,null,null,null,null,null,null,null,null,null,null,null,null,null,null,null,"Тернопільська","Нараїв (Нараївська сільська рада)"]
[null,null,null,null,null,null,null,null,null,null,null,null,null,null,null,null,null,null,null,null,null,null,null,null,null,null,null,null,null,null,null,null,null,null,null,null,null,null,null,null,null,null,null,null,null,"Тернопільська","Новосілка (Малобірківська сільська рада)"]
[null,null,null,null,null,null,null,null,null,null,null,null,null,null,null,null,null,null,null,null,null,null,null,null,null,null,null,null,null,null,null,null,null,null,null,null,null,null,null,null,null,null,null,null,null,"Тернопільська","Пищатинці (Пищатинська сільська рада)"]
[null,null,null,null,null,null,null,null,null,null,null,null,null,null,null,null,null,null,null,null,null,null,null,null,null,null,null,null,null,null,null,null,null,null,null,null,null,null,null,null,null,null,null,null,null,"Тернопільська","Піщане (Ратищівська сільська рада)"]
[null,null,null,null,null,null,null,null,null,null,null,null,null,null,null,null,null,null,null,null,null,null,null,null,null,null,null,null,null,null,null,null,null,null,null,null,null,null,null,null,null,null,null,null,null,"Тернопільська","Розгадів (Розгадівська сільська рада)"]
[null,null,null,null,null,null,null,null,null,null,null,null,null,null,null,null,null,null,null,null,null,null,null,null,null,null,null,null,null,null,null,null,null,null,null,null,null,null,null,null,null,null,null,null,null,"Тернопільська","Сапова (Вишнівчицька сільська рада)"]
[null,null,null,null,null,null,null,null,null,null,null,null,null,null,null,null,null,null,null,null,null,null,null,null,null,null,null,null,null,null,null,null,null,null,null,null,null,null,null,null,null,null,null,null,null,"Тернопільська","Стара Могильниця (Могильницька сільська рада)"]
[null,null,null,null,null,null,null,null,null,null,null,null,null,null,null,null,null,null,null,null,null,null,null,null,null,null,null,null,null,null,null,null,null,null,null,null,null,null,null,null,null,null,null,null,null,"Тернопільська","Сухостав (Сухоставська сільська рада)"]
[null,null,null,null,null,null,null,null,null,null,null,null,null,null,null,null,null,null,null,null,null,null,null,null,null,null,null,null,null,null,null,null,null,null,null,null,null,null,null,null,null,null,null,null,null,"Тернопільська","Товсте (Товстенська сільська рада)"]
[null,null,null,null,null,null,null,null,null,null,null,null,null,null,null,null,null,null,null,null,null,null,null,null,null,null,null,null,null,null,null,null,null,null,null,null,null,null,null,null,null,null,null,null,null,"Тернопільська","Цецівка (Годівська сільська рада)"]
[null,null,null,null,null,null,null,null,null,null,null,null,null,null,null,null,null,null,null,null,null,null,null,null,null,null,null,null,null,null,null,null,null,null,null,null,null,null,null,null,null,null,null,null,null,"Тернопільська","Швайківці (Швайківська сільська рада)"]
[null,null,null,null,null,null,null,null,null,null,null,null,null,null,null,null,null,null,null,null,null,null,null,null,null,null,null,null,null,null,null,null,null,null,null,null,null,null,null,null,null,null,null,null,null,"Харківська","Бабенки"]
[null,null,null,null,null,null,null,null,null,null,null,null,null,null,null,null,null,null,null,null,null,null,null,null,null,null,null,null,null,null,null,null,null,null,null,null,null,null,null,null,null,null,null,null,null,"Харківська","Безпалівка (Таранівська сільська рада)"]
[null,null,null,null,null,null,null,null,null,null,null,null,null,null,null,null,null,null,null,null,null,null,null,null,null,null,null,null,null,null,null,null,null,null,null,null,null,null,null,null,null,null,null,null,null,"Харківська","Василівка (Моначинівська сільрада)"]
[null,null,null,null,null,null,null,null,null,null,null,null,null,null,null,null,null,null,null,null,null,null,null,null,null,null,null,null,null,null,null,null,null,null,null,null,null,null,null,null,null,null,null,null,null,"Харківська","Велика Кадигробівка"]
[null,null,null,null,null,null,null,null,null,null,null,null,null,null,null,null,null,null,null,null,null,null,null,null,null,null,null,null,null,null,null,null,null,null,null,null,null,null,null,null,null,null,null,null,null,"Харківська","Відрожденівське"]
[null,null,null,null,null,null,null,null,null,null,null,null,null,null,null,null,null,null,null,null,null,null,null,null,null,null,null,null,null,null,null,null,null,null,null,null,null,null,null,null,null,null,null,null,null,"Харківська","Глушківка"]
[null,null,null,null,null,null,null,null,null,null,null,null,null,null,null,null,null,null,null,null,null,null,null,null,null,null,null,null,null,null,null,null,null,null,null,null,null,null,null,null,null,null,null,null,null,"Харківська","Гракове"]
[null,null,null,null,null,null,null,null,null,null,null,null,null,null,null,null,null,null,null,null,null,null,null,null,null,null,null,null,null,null,null,null,null,null,null,null,null,null,null,null,null,null,null,null,null,"Харківська","Дудківка"]
[null,null,null,null,null,null,null,null,null,null,null,null,null,null,null,null,null,null,null,null,null,null,null,null,null,null,null,null,null,null,null,null,null,null,null,null,null,null,null,null,null,null,null,null,null,"Харківська","Завадівка"]
[null,null,null,null,null,null,null,null,null,null,null,null,null,null,null,null,null,null,null,null,null,null,null,null,null,null,null,null,null,null,null,null,null,null,null,null,null,null,null,null,null,null,null,null,null,"Харківська","Ізюм"]
[null,null,null,null,null,null,null,null,null,null,null,null,null,null,null,null,null,null,null,null,null,null,null,null,null,null,null,null,null,null,null,null,null,null,null,null,null,null,null,null,null,null,null,null,null,"Харківська","Кобзівка Друга"]
[null,null,null,null,null,null,null,null,null,null,null,null,null,null,null,null,null,null,null,null,null,null,null,null,null,null,null,null,null,null,null,null,null,null,null,null,null,null,null,null,null,null,null,null,null,"Харківська","Кочетівка"]
[null,null,null,null,null,null,null,null,null,null,null,null,null,null,null,null,null,null,null,null,null,null,null,null,null,null,null,null,null,null,null,null,null,null,null,null,null,null,null,null,null,null,null,null,null,"Харківська","Кручик"]
[null,null,null,null,null,null,null,null,null,null,null,null,null,null,null,null,null,null,null,null,null,null,null,null,null,null,null,null,null,null,null,null,null,null,null,null,null,null,null,null,null,null,null,null,null,"Харківська","Ландишеве"]
[null,null,null,null,null,null,null,null,null,null,null,null,null,null,null,null,null,null,null,null,null,null,null,null,null,null,null,null,null,null,null,null,null,null,null,null,null,null,null,null,null,null,null,null,null,"Харківська","Мануїлівка"]
[null,null,null,null,null,null,null,null,null,null,null,null,null,null,null,null,null,null,null,null,null,null,null,null,null,null,null,null,null,null,null,null,null,null,null,null,null,null,null,null,null,null,null,null,null,"Харківська","Миколо-Комишувата"]
[null,null,null,null,null,null,null,null,null,null,null,null,null,null,null,null,null,null,null,null,null,null,null,null,null,null,null,null,null,null,null,null,null,null,null,null,null,null,null,null,null,null,null,null,null,"Харківська","Надеждівка"]
[null,null,null,null,null,null,null,null,null,null,null,null,null,null,null,null,null,null,null,null,null,null,null,null,null,null,null,null,null,null,null,null,null,null,null,null,null,null,null,null,null,null,null,null,null,"Харківська","Новомиколаївка (Асіївська сільська рада)"]
[null,null,null,null,null,null,null,null,null,null,null,null,null,null,null,null,null,null,null,null,null,null,null,null,null,null,null,null,null,null,null,null,null,null,null,null,null,null,null,null,null,null,null,null,null,"Харківська","Паризьке"]
[null,null,null,null,null,null,null,null,null,null,null,null,null,null,null,null,null,null,null,null,null,null,null,null,null,null,null,null,null,null,null,null,null,null,null,null,null,null,null,null,null,null,null,null,null,"Харківська","Петрищеве"]
[null,null,null,null,null,null,null,null,null,null,null,null,null,null,null,null,null,null,null,null,null,null,null,null,null,null,null,null,null,null,null,null,null,null,null,null,null,null,null,null,null,null,null,null,null,"Харківська","П'ятницьке"]
[null,null,null,null,null,null,null,null,null,null,null,null,null,null,null,null,null,null,null,null,null,null,null,null,null,null,null,null,null,null,null,null,null,null,null,null,null,null,null,null,null,null,null,null,null,"Харківська","Рижове"]
[null,null,null,null,null,null,null,null,null,null,null,null,null,null,null,null,null,null,null,null,null,null,null,null,null,null,null,null,null,null,null,null,null,null,null,null,null,null,null,null,null,null,null,null,null,"Харківська","Скиртяне"]
[null,null,null,null,null,null,null,null,null,null,null,null,null,null,null,null,null,null,null,null,null,null,null,null,null,null,null,null,null,null,null,null,null,null,null,null,null,null,null,null,null,null,null,null,null,"Харківська","Соцзмагання"]
[null,null,null,null,null,null,null,null,null,null,null,null,null,null,null,null,null,null,null,null,null,null,null,null,null,null,null,null,null,null,null,null,null,null,null,null,null,null,null,null,null,null,null,null,null,"Харківська","Староволодимирівка"]
[null,null,null,null,null,null,null,null,null,null,null,null,null,null,null,null,null,null,null,null,null,null,null,null,null,null,null,null,null,null,null,null,null,null,null,null,null,null,null,null,null,null,null,null,null,"Харківська","Холодне"]
[null,null,null,null,null,null,null,null,null,null,null,null,null,null,null,null,null,null,null,null,null,null,null,null,null,null,null,null,null,null,null,null,null,null,null,null,null,null,null,null,null,null,null,null,null,"Харківська","Чепіль (Чепільська сільська рада)"]
[null,null,null,null,null,null,null,null,null,null,null,null,null,null,null,null,null,null,null,null,null,null,null,null,null,null,null,null,null,null,null,null,null,null,null,null,null,null,null,null,null,null,null,null,null,"Харківська","Шийчине"]
[null,null,null,null,null,null,null,null,null,null,null,null,null,null,null,null,null,null,null,null,null,null,null,null,null,null,null,null,null,null,null,null,null,null,null,null,null,null,null,null,null,null,null,null,null,"Харківська","Ярошівка"]
[null,null,null,null,null,null,null,null,null,null,null,null,null,null,null,null,null,null,null,null,null,null,null,null,null,null,null,null,null,null,null,null,null,null,null,null,null,null,null,null,null,null,null,null,null,"Херсонська","Гостроподолянське"]
[null,null,null,null,null,null,null,null,null,null,null,null,null,null,null,null,null,null,null,null,null,null,null,null,null,null,null,null,null,null,null,null,null,null,null,null,null,null,null,null,null,null,null,null,null,"Херсонська","Інгулець"]
[null,null,null,null,null,null,null,null,null,null,null,null,null,null,null,null,null,null,null,null,null,null,null,null,null,null,null,null,null,null,null,null,null,null,null,null,null,null,null,null,null,null,null,null,null,"Херсонська","Козачі Лагері"]
[null,null,null,null,null,null,null,null,null,null,null,null,null,null,null,null,null,null,null,null,null,null,null,null,null,null,null,null,null,null,null,null,null,null,null,null,null,null,null,null,null,null,null,null,null,"Херсонська","Новавасилівка"]
[null,null,null,null,null,null,null,null,null,null,null,null,null,null,null,null,null,null,null,null,null,null,null,null,null,null,null,null,null,null,null,null,null,null,null,null,null,null,null,null,null,null,null,null,null,"Херсонська","Новосеменівка"]
[null,null,null,null,null,null,null,null,null,null,null,null,null,null,null,null,null,null,null,null,null,null,null,null,null,null,null,null,null,null,null,null,null,null,null,null,null,null,null,null,null,null,null,null,null,"Херсонська","Скворцівка"]
[null,null,null,null,null,null,null,null,null,null,null,null,null,null,null,null,null,null,null,null,null,null,null,null,null,null,null,null,null,null,null,null,null,null,null,null,null,null,null,null,null,null,null,null,null,"Херсонська","Твердомедове"]
[null,null,null,null,null,null,null,null,null,null,null,null,null,null,null,null,null,null,null,null,null,null,null,null,null,null,null,null,null,null,null,null,null,null,null,null,null,null,null,null,null,null,null,null,null,"Хмельницька","Бальківці"]
[null,null,null,null,null,null,null,null,null,null,null,null,null,null,null,null,null,null,null,null,null,null,null,null,null,null,null,null,null,null,null,null,null,null,null,null,null,null,null,null,null,null,null,null,null,"Хмельницька","Березове"]
[null,null,null,null,null,null,null,null,null,null,null,null,null,null,null,null,null,null,null,null,null,null,null,null,null,null,null,null,null,null,null,null,null,null,null,null,null,null,null,null,null,null,null,null,null,"Хмельницька","Брикуля"]
[null,null,null,null,null,null,null,null,null,null,null,null,null,null,null,null,null,null,null,null,null,null,null,null,null,null,null,null,null,null,null,null,null,null,null,null,null,null,null,null,null,null,null,null,null,"Хмельницька","Верхівці"]
[null,null,null,null,null,null,null,null,null,null,null,null,null,null,null,null,null,null,null,null,null,null,null,null,null,null,null,null,null,null,null,null,null,null,null,null,null,null,null,null,null,null,null,null,null,"Хмельницька","Вікентово"]
[null,null,null,null,null,null,null,null,null,null,null,null,null,null,null,null,null,null,null,null,null,null,null,null,null,null,null,null,null,null,null,null,null,null,null,null,null,null,null,null,null,null,null,null,null,"Хмельницька","Голосків (Голосківська сільська рада)"]
[null,null,null,null,null,null,null,null,null,null,null,null,null,null,null,null,null,null,null,null,null,null,null,null,null,null,null,null,null,null,null,null,null,null,null,null,null,null,null,null,null,null,null,null,null,"Хмельницька","Гриців"]
[null,null,null,null,null,null,null,null,null,null,null,null,null,null,null,null,null,null,null,null,null,null,null,null,null,null,null,null,null,null,null,null,null,null,null,null,null,null,null,null,null,null,null,null,null,"Хмельницька","Дубовий Гай"]
[null,null,null,null,null,null,null,null,null,null,null,null,null,null,null,null,null,null,null,null,null,null,null,null,null,null,null,null,null,null,null,null,null,null,null,null,null,null,null,null,null,null,null,null,null,"Хмельницька","Залуччя (Залучанська сільська рада)"]
[null,null,null,null,null,null,null,null,null,null,null,null,null,null,null,null,null,null,null,null,null,null,null,null,null,null,null,null,null,null,null,null,null,null,null,null,null,null,null,null,null,null,null,null,null,"Хмельницька","Ізяслав"]
[null,null,null,null,null,null,null,null,null,null,null,null,null,null,null,null,null,null,null,null,null,null,null,null,null,null,null,null,null,null,null,null,null,null,null,null,null,null,null,null,null,null,null,null,null,"Хмельницька","Караїна"]
[null,null,null,null,null,null,null,null,null,null,null,null,null,null,null,null,null,null,null,null,null,null,null,null,null,null,null,null,null,null,null,null,null,null,null,null,null,null,null,null,null,null,null,null,null,"Хмельницька","Климківці"]
[null,null,null,null,null,null,null,null,null,null,null,null,null,null,null,null,null,null,null,null,null,null,null,null,null,null,null,null,null,null,null,null,null,null,null,null,null,null,null,null,null,null,null,null,null,"Хмельницька","Кривачинці"]
[null,null,null,null,null,null,null,null,null,null,null,null,null,null,null,null,null,null,null,null,null,null,null,null,null,null,null,null,null,null,null,null,null,null,null,null,null,null,null,null,null,null,null,null,null,"Хмельницька","Кузьминці"]
[null,null,null,null,null,null,null,null,null,null,null,null,null,null,null,null,null,null,null,null,null,null,null,null,null,null,null,null,null,null,null,null,null,null,null,null,null,null,null,null,null,null,null,null,null,"Хмельницька","Літки"]
[null,null,null,null,null,null,null,null,null,null,null,null,null,null,null,null,null,null,null,null,null,null,null,null,null,null,null,null,null,null,null,null,null,null,null,null,null,null,null,null,null,null,null,null,null,"Хмельницька","Малий Правутин"]
[null,null,null,null,null,null,null,null,null,null,null,null,null,null,null,null,null,null,null,null,null,null,null,null,null,null,null,null,null,null,null,null,null,null,null,null,null,null,null,null,null,null,null,null,null,"Хмельницька","Медці"]
[null,null,null,null,null,null,null,null,null,null,null,null,null,null,null,null,null,null,null,null,null,null,null,null,null,null,null,null,null,null,null,null,null,null,null,null,null,null,null,null,null,null,null,null,null,"Хмельницька","Михалківці"]
[null,null,null,null,null,null,null,null,null,null,null,null,null,null,null,null,null,null,null,null,null,null,null,null,null,null,null,null,null,null,null,null,null,null,null,null,null,null,null,null,null,null,null,null,null,"Хмельницька","Мухарів"]
[null,null,null,null,null,null,null,null,null,null,null,null,null,null,null,null,null,null,null,null,null,null,null,null,null,null,null,null,null,null,null,null,null,null,null,null,null,null,null,null,null,null,null,null,null,"Хмельницька","Остапківці"]
[null,null,null,null,null,null,null,null,null,null,null,null,null,null,null,null,null,null,null,null,null,null,null,null,null,null,null,null,null,null,null,null,null,null,null,null,null,null,null,null,null,null,null,null,null,"Хмельницька","Пашуки (Хоровецька сільська Рада)"]
[null,null,null,null,null,null,null,null,null,null,null,null,null,null,null,null,null,null,null,null,null,null,null,null,null,null,null,null,null,null,null,null,null,null,null,null,null,null,null,null,null,null,null,null,null,"Хмельницька","Постолівка"]
[null,null,null,null,null,null,null,null,null,null,null,null,null,null,null,null,null,null,null,null,null,null,null,null,null,null,null,null,null,null,null,null,null,null,null,null,null,null,null,null,null,null,null,null,null,"Хмельницька","Рівки"]
[null,null,null,null,null,null,null,null,null,null,null,null,null,null,null,null,null,null,null,null,null,null,null,null,null,null,null,null,null,null,null,null,null,null,null,null,null,null,null,null,null,null,null,null,null,"Хмельницька","Семереньки (Самченці)"]
[null,null,null,null,null,null,null,null,null,null,null,null,null,null,null,null,null,null,null,null,null,null,null,null,null,null,null,null,null,null,null,null,null,null,null,null,null,null,null,null,null,null,null,null,null,"Хмельницька","Слобідка  Малієвецька"]
[null,null,null,null,null,null,null,null,null,null,null,null,null,null,null,null,null,null,null,null,null,null,null,null,null,null,null,null,null,null,null,null,null,null,null,null,null,null,null,null,null,null,null,null,null,"Хмельницька","Степок (Самчики)"]
[null,null,null,null,null,null,null,null,null,null,null,null,null,null,null,null,null,null,null,null,null,null,null,null,null,null,null,null,null,null,null,null,null,null,null,null,null,null,null,null,null,null,null,null,null,"Хмельницька","Теліжинці"]
[null,null,null,null,null,null,null,null,null,null,null,null,null,null,null,null,null,null,null,null,null,null,null,null,null,null,null,null,null,null,null,null,null,null,null,null,null,null,null,null,null,null,null,null,null,"Хмельницька","Трительники"]
[null,null,null,null,null,null,null,null,null,null,null,null,null,null,null,null,null,null,null,null,null,null,null,null,null,null,null,null,null,null,null,null,null,null,null,null,null,null,null,null,null,null,null,null,null,"Хмельницька","Чернелівці"]
[null,null,null,null,null,null,null,null,null,null,null,null,null,null,null,null,null,null,null,null,null,null,null,null,null,null,null,null,null,null,null,null,null,null,null,null,null,null,null,null,null,null,null,null,null,"Хмельницька","Чотирибоки"]
[null,null,null,null,null,null,null,null,null,null,null,null,null,null,null,null,null,null,null,null,null,null,null,null,null,null,null,null,null,null,null,null,null,null,null,null,null,null,null,null,null,null,null,null,null,"Черкаська","Багачівка"]
[null,null,null,null,null,null,null,null,null,null,null,null,null,null,null,null,null,null,null,null,null,null,null,null,null,null,null,null,null,null,null,null,null,null,null,null,null,null,null,null,null,null,null,null,null,"Черкаська","Босівка"]
[null,null,null,null,null,null,null,null,null,null,null,null,null,null,null,null,null,null,null,null,null,null,null,null,null,null,null,null,null,null,null,null,null,null,null,null,null,null,null,null,null,null,null,null,null,"Черкаська","Гуляйка"]
[null,null,null,null,null,null,null,null,null,null,null,null,null,null,null,null,null,null,null,null,null,null,null,null,null,null,null,null,null,null,null,null,null,null,null,null,null,null,null,null,null,null,null,null,null,"Черкаська","Домантове"]
[null,null,null,null,null,null,null,null,null,null,null,null,null,null,null,null,null,null,null,null,null,null,null,null,null,null,null,null,null,null,null,null,null,null,null,null,null,null,null,null,null,null,null,null,null,"Черкаська","Ковтунівка (Остапівська сільська  рада)"]
[null,null,null,null,null,null,null,null,null,null,null,null,null,null,null,null,null,null,null,null,null,null,null,null,null,null,null,null,null,null,null,null,null,null,null,null,null,null,null,null,null,null,null,null,null,"Черкаська","Коржовий Кут"]
[null,null,null,null,null,null,null,null,null,null,null,null,null,null,null,null,null,null,null,null,null,null,null,null,null,null,null,null,null,null,null,null,null,null,null,null,null,null,null,null,null,null,null,null,null,"Черкаська","Мелесівка"]
[null,null,null,null,null,null,null,null,null,null,null,null,null,null,null,null,null,null,null,null,null,null,null,null,null,null,null,null,null,null,null,null,null,null,null,null,null,null,null,null,null,null,null,null,null,"Черкаська","Нова  Ярославка"]
[null,null,null,null,null,null,null,null,null,null,null,null,null,null,null,null,null,null,null,null,null,null,null,null,null,null,null,null,null,null,null,null,null,null,null,null,null,null,null,null,null,null,null,null,null,"Черкаська","Павлівка Перша"]
[null,null,null,null,null,null,null,null,null,null,null,null,null,null,null,null,null,null,null,null,null,null,null,null,null,null,null,null,null,null,null,null,null,null,null,null,null,null,null,null,null,null,null,null,null,"Черкаська","Санжариха"]
[null,null,null,null,null,null,null,null,null,null,null,null,null,null,null,null,null,null,null,null,null,null,null,null,null,null,null,null,null,null,null,null,null,null,null,null,null,null,null,null,null,null,null,null,null,"Черкаська","Скрипчинці"]
[null,null,null,null,null,null,null,null,null,null,null,null,null,null,null,null,null,null,null,null,null,null,null,null,null,null,null,null,null,null,null,null,null,null,null,null,null,null,null,null,null,null,null,null,null,"Черкаська","Халаїдове"]
[null,null,null,null,null,null,null,null,null,null,null,null,null,null,null,null,null,null,null,null,null,null,null,null,null,null,null,null,null,null,null,null,null,null,null,null,null,null,null,null,null,null,null,null,null,"Черкаська","Ховківка"]
[null,null,null,null,null,null,null,null,null,null,null,null,null,null,null,null,null,null,null,null,null,null,null,null,null,null,null,null,null,null,null,null,null,null,null,null,null,null,null,null,null,null,null,null,null,"Чернівецька","Бузовиця"]
[null,null,null,null,null,null,null,null,null,null,null,null,null,null,null,null,null,null,null,null,null,null,null,null,null,null,null,null,null,null,null,null,null,null,null,null,null,null,null,null,null,null,null,null,null,"Чернівецька","Випчина"]
[null,null,null,null,null,null,null,null,null,null,null,null,null,null,null,null,null,null,null,null,null,null,null,null,null,null,null,null,null,null,null,null,null,null,null,null,null,null,null,null,null,null,null,null,null,"Чернівецька","Горбова"]
[null,null,null,null,null,null,null,null,null,null,null,null,null,null,null,null,null,null,null,null,null,null,null,null,null,null,null,null,null,null,null,null,null,null,null,null,null,null,null,null,null,null,null,null,null,"Чернівецька","Корнешти"]
[null,null,null,null,null,null,null,null,null,null,null,null,null,null,null,null,null,null,null,null,null,null,null,null,null,null,null,null,null,null,null,null,null,null,null,null,null,null,null,null,null,null,null,null,null,"Чернівецька","Лукачівка"]
[null,null,null,null,null,null,null,null,null,null,null,null,null,null,null,null,null,null,null,null,null,null,null,null,null,null,null,null,null,null,null,null,null,null,null,null,null,null,null,null,null,null,null,null,null,"Чернівецька","Ошихліби"]
[null,null,null,null,null,null,null,null,null,null,null,null,null,null,null,null,null,null,null,null,null,null,null,null,null,null,null,null,null,null,null,null,null,null,null,null,null,null,null,null,null,null,null,null,null,"Чернівецька","Погорілівка"]
[null,null,null,null,null,null,null,null,null,null,null,null,null,null,null,null,null,null,null,null,null,null,null,null,null,null,null,null,null,null,null,null,null,null,null,null,null,null,null,null,null,null,null,null,null,"Чернівецька","Хряцька"]
[null,null,null,null,null,null,null,null,null,null,null,null,null,null,null,null,null,null,null,null,null,null,null,null,null,null,null,null,null,null,null,null,null,null,null,null,null,null,null,null,null,null,null,null,null,"Чернівецька","Южинець"]
[null,null,null,null,null,null,null,null,null,null,null,null,null,null,null,null,null,null,null,null,null,null,null,null,null,null,null,null,null,null,null,null,null,null,null,null,null,null,null,null,null,null,null,null,null,"Чернігівська","Бережівка"]
[null,null,null,null,null,null,null,null,null,null,null,null,null,null,null,null,null,null,null,null,null,null,null,null,null,null,null,null,null,null,null,null,null,null,null,null,null,null,null,null,null,null,null,null,null,"Чернігівська","Велика Дорога"]
[null,null,null,null,null,null,null,null,null,null,null,null,null,null,null,null,null,null,null,null,null,null,null,null,null,null,null,null,null,null,null,null,null,null,null,null,null,null,null,null,null,null,null,null,null,"Чернігівська","Вильчики"]
[null,null,null,null,null,null,null,null,null,null,null,null,null,null,null,null,null,null,null,null,null,null,null,null,null,null,null,null,null,null,null,null,null,null,null,null,null,null,null,null,null,null,null,null,null,"Чернігівська","Данівка"]
[null,null,null,null,null,null,null,null,null,null,null,null,null,null,null,null,null,null,null,null,null,null,null,null,null,null,null,null,null,null,null,null,null,null,null,null,null,null,null,null,null,null,null,null,null,"Чернігівська","Жеребецьке"]
[null,null,null,null,null,null,null,null,null,null,null,null,null,null,null,null,null,null,null,null,null,null,null,null,null,null,null,null,null,null,null,null,null,null,null,null,null,null,null,null,null,null,null,null,null,"Чернігівська","Карасинівка"]
[null,null,null,null,null,null,null,null,null,null,null,null,null,null,null,null,null,null,null,null,null,null,null,null,null,null,null,null,null,null,null,null,null,null,null,null,null,null,null,null,null,null,null,null,null,"Чернігівська","Клипин"]
[null,null,null,null,null,null,null,null,null,null,null,null,null,null,null,null,null,null,null,null,null,null,null,null,null,null,null,null,null,null,null,null,null,null,null,null,null,null,null,null,null,null,null,null,null,"Чернігівська","Кугуки"]
[null,null,null,null,null,null,null,null,null,null,null,null,null,null,null,null,null,null,null,null,null,null,null,null,null,null,null,null,null,null,null,null,null,null,null,null,null,null,null,null,null,null,null,null,null,"Чернігівська","Ладинка"]
[null,null,null,null,null,null,null,null,null,null,null,null,null,null,null,null,null,null,null,null,null,null,null,null,null,null,null,null,null,null,null,null,null,null,null,null,null,null,null,null,null,null,null,null,null,"Чернігівська","Лісконоги"]
[null,null,null,null,null,null,null,null,null,null,null,null,null,null,null,null,null,null,null,null,null,null,null,null,null,null,null,null,null,null,null,null,null,null,null,null,null,null,null,null,null,null,null,null,null,"Чернігівська","Мезин"]
[null,null,null,null,null,null,null,null,null,null,null,null,null,null,null,null,null,null,null,null,null,null,null,null,null,null,null,null,null,null,null,null,null,null,null,null,null,null,null,null,null,null,null,null,null,"Чернігівська","Мурав'ї"]
[null,null,null,null,null,null,null,null,null,null,null,null,null,null,null,null,null,null,null,null,null,null,null,null,null,null,null,null,null,null,null,null,null,null,null,null,null,null,null,null,null,null,null,null,null,"Чернігівська","Остер"]
[null,null,null,null,null,null,null,null,null,null,null,null,null,null,null,null,null,null,null,null,null,null,null,null,null,null,null,null,null,null,null,null,null,null,null,null,null,null,null,null,null,null,null,null,null,"Чернігівська","Пересаж"]
[null,null,null,null,null,null,null,null,null,null,null,null,null,null,null,null,null,null,null,null,null,null,null,null,null,null,null,null,null,null,null,null,null,null,null,null,null,null,null,null,null,null,null,null,null,"Чернігівська","Радуль"]
[null,null,null,null,null,null,null,null,null,null,null,null,null,null,null,null,null,null,null,null,null,null,null,null,null,null,null,null,null,null,null,null,null,null,null,null,null,null,null,null,null,null,null,null,null,"Чернігівська","Роїще"]
[null,null,null,null,null,null,null,null,null,null,null,null,null,null,null,null,null,null,null,null,null,null,null,null,null,null,null,null,null,null,null,null,null,null,null,null,null,null,null,null,null,null,null,null,null,"Чернігівська","Сезьки"]
[null,null,null,null,null,null,null,null,null,null,null,null,null,null,null,null,null,null,null,null,null,null,null,null,null,null,null,null,null,null,null,null,null,null,null,null,null,null,null,null,null,null,null,null,null,"Чернігівська","Степанівське"]
[null,null,null,null,null,null,null,null,null,null,null,null,null,null,null,null,null,null,null,null,null,null,null,null,null,null,null,null,null,null,null,null,null,null,null,null,null,null,null,null,null,null,null,null,null,"Чернігівська","Тамарівка"]
[null,null,null,null,null,null,null,null,null,null,null,null,null,null,null,null,null,null,null,null,null,null,null,null,null,null,null,null,null,null,null,null,null,null,null,null,null,null,null,null,null,null,null,null,null,"Чернігівська","Тараса Шевченка"]
[null,null,null,null,null,null,null,null,null,null,null,null,null,null,null,null,null,null,null,null,null,null,null,null,null,null,null,null,null,null,null,null,null,null,null,null,null,null,null,null,null,null,null,null,null,"Чернігівська","Тарасів"]
[null,null,null,null,null,null,null,null,null,null,null,null,null,null,null,null,null,null,null,null,null,null,null,null,null,null,null,null,null,null,null,null,null,null,null,null,null,null,null,null,null,null,null,null,null,"Чернігівська","Тасуїв"]
[null,null,null,null,null,null,null,null,null,null,null,null,null,null,null,null,null,null,null,null,null,null,null,null,null,null,null,null,null,null,null,null,null,null,null,null,null,null,null,null,null,null,null,null,null,"Чернігівська","Татарівка"]
[null,null,null,null,null,null,null,null,null,null,null,null,null,null,null,null,null,null,null,null,null,null,null,null,null,null,null,null,null,null,null,null,null,null,null,null,null,null,null,null,null,null,null,null,null,"Чернігівська","Тельне"]
[null,null,null,null,null,null,null,null,null,null,null,null,null,null,null,null,null,null,null,null,null,null,null,null,null,null,null,null,null,null,null,null,null,null,null,null,null,null,null,null,null,null,null,null,null,"Чернігівська","Терехівка"]
[null,null,null,null,null,null,null,null,null,null,null,null,null,null,null,null,null,null,null,null,null,null,null,null,null,null,null,null,null,null,null,null,null,null,null,null,null,null,null,null,null,null,null,null,null,"Чернігівська","Терешиха"]
[null,null,null,null,null,null,null,null,null,null,null,null,null,null,null,null,null,null,null,null,null,null,null,null,null,null,null,null,null,null,null,null,null,null,null,null,null,null,null,null,null,null,null,null,null,"Чернігівська","Тертишники"]
[null,null,null,null,null,null,null,null,null,null,null,null,null,null,null,null,null,null,null,null,null,null,null,null,null,null,null,null,null,null,null,null,null,null,null,null,null,null,null,null,null,null,null,null,null,"Чернігівська","Тимоновичі"]
[null,null,null,null,null,null,null,null,null,null,null,null,null,null,null,null,null,null,null,null,null,null,null,null,null,null,null,null,null,null,null,null,null,null,null,null,null,null,null,null,null,null,null,null,null,"Чернігівська","Тиниця"]
[null,null,null,null,null,null,null,null,null,null,null,null,null,null,null,null,null,null,null,null,null,null,null,null,null,null,null,null,null,null,null,null,null,null,null,null,null,null,null,null,null,null,null,null,null,"Чернігівська","Титівка"]
[null,null,null,null,null,null,null,null,null,null,null,null,null,null,null,null,null,null,null,null,null,null,null,null,null,null,null,null,null,null,null,null,null,null,null,null,null,null,null,null,null,null,null,null,null,"Чернігівська","Тихонівське"]
[null,null,null,null,null,null,null,null,null,null,null,null,null,null,null,null,null,null,null,null,null,null,null,null,null,null,null,null,null,null,null,null,null,null,null,null,null,null,null,null,null,null,null,null,null,"Чернігівська","Тихоновичі"]
[null,null,null,null,null,null,null,null,null,null,null,null,null,null,null,null,null,null,null,null,null,null,null,null,null,null,null,null,null,null,null,null,null,null,null,null,null,null,null,null,null,null,null,null,null,"Чернігівська","Товкачівка"]
[null,null,null,null,null,null,null,null,null,null,null,null,null,null,null,null,null,null,null,null,null,null,null,null,null,null,null,null,null,null,null,null,null,null,null,null,null,null,null,null,null,null,null,null,null,"Чернігівська","Товстоліс"]
[null,null,null,null,null,null,null,null,null,null,null,null,null,null,null,null,null,null,null,null,null,null,null,null,null,null,null,null,null,null,null,null,null,null,null,null,null,null,null,null,null,null,null,null,null,"Чернігівська","Тонка"]
[null,null,null,null,null,null,null,null,null,null,null,null,null,null,null,null,null,null,null,null,null,null,null,null,null,null,null,null,null,null,null,null,null,null,null,null,null,null,null,null,null,null,null,null,null,"Чернігівська","Топчіївка"]
[null,null,null,null,null,null,null,null,null,null,null,null,null,null,null,null,null,null,null,null,null,null,null,null,null,null,null,null,null,null,null,null,null,null,null,null,null,null,null,null,null,null,null,null,null,"Чернігівська","Точене"]
[null,null,null,null,null,null,null,null,null,null,null,null,null,null,null,null,null,null,null,null,null,null,null,null,null,null,null,null,null,null,null,null,null,null,null,null,null,null,null,null,null,null,null,null,null,"Чернігівська","Травкине"]
[null,null,null,null,null,null,null,null,null,null,null,null,null,null,null,null,null,null,null,null,null,null,null,null,null,null,null,null,null,null,null,null,null,null,null,null,null,null,null,null,null,null,null,null,null,"Чернігівська","Тужар"]
[null,null,null,null,null,null,null,null,null,null,null,null,null,null,null,null,null,null,null,null,null,null,null,null,null,null,null,null,null,null,null,null,null,null,null,null,null,null,null,null,null,null,null,null,null,"Чернігівська","Тулія"]
[null,null,null,null,null,null,null,null,null,null,null,null,null,null,null,null,null,null,null,null,null,null,null,null,null,null,null,null,null,null,null,null,null,null,null,null,null,null,null,null,null,null,null,null,null,"Чернігівська","Туманська Гута"]
[null,null,null,null,null,null,null,null,null,null,null,null,null,null,null,null,null,null,null,null,null,null,null,null,null,null,null,null,null,null,null,null,null,null,null,null,null,null,null,null,null,null,null,null,null,"Чернігівська","Тупичів"]
[null,null,null,null,null,null,null,null,null,null,null,null,null,null,null,null,null,null,null,null,null,null,null,null,null,null,null,null,null,null,null,null,null,null,null,null,null,null,null,null,null,null,null,null,null,"Чернігівська","Турківка"]
[null,null,null,null,null,null,null,null,null,null,null,null,null,null,null,null,null,null,null,null,null,null,null,null,null,null,null,null,null,null,null,null,null,null,null,null,null,null,null,null,null,null,null,null,null,"Чернігівська","Тютюнниця"]
[null,null,null,null,null,null,null,null,null,null,null,null,null,null,null,null,null,null,null,null,null,null,null,null,null,null,null,null,null,null,null,null,null,null,null,null,null,null,null,null,null,null,null,null,null,"Чернігівська","Убіжичі"]
[null,null,null,null,null,null,null,null,null,null,null,null,null,null,null,null,null,null,null,null,null,null,null,null,null,null,null,null,null,null,null,null,null,null,null,null,null,null,null,null,null,null,null,null,null,"Чернігівська","Уборки"]
[null,null,null,null,null,null,null,null,null,null,null,null,null,null,null,null,null,null,null,null,null,null,null,null,null,null,null,null,null,null,null,null,null,null,null,null,null,null,null,null,null,null,null,null,null,"Чернігівська","Углова Рудня"]
[null,null,null,null,null,null,null,null,null,null,null,null,null,null,null,null,null,null,null,null,null,null,null,null,null,null,null,null,null,null,null,null,null,null,null,null,null,null,null,null,null,null,null,null,null,"Чернігівська","Удайці"]
[null,null,null,null,null,null,null,null,null,null,null,null,null,null,null,null,null,null,null,null,null,null,null,null,null,null,null,null,null,null,null,null,null,null,null,null,null,null,null,null,null,null,null,null,null,"Чернігівська","Узруй"]
[null,null,null,null,null,null,null,null,null,null,null,null,null,null,null,null,null,null,null,null,null,null,null,null,null,null,null,null,null,null,null,null,null,null,null,null,null,null,null,null,null,null,null,null,null,"Чернігівська","Українське (курінська)"]
[null,null,null,null,null,null,null,null,null,null,null,null,null,null,null,null,null,null,null,null,null,null,null,null,null,null,null,null,null,null,null,null,null,null,null,null,null,null,null,null,null,null,null,null,null,"Чернігівська","Унучки"]
[null,null,null,null,null,null,null,null,null,null,null,null,null,null,null,null,null,null,null,null,null,null,null,null,null,null,null,null,null,null,null,null,null,null,null,null,null,null,null,null,null,null,null,null,null,"Чернігівська","Ушівка"]
[null,null,null,null,null,null,null,null,null,null,null,null,null,null,null,null,null,null,null,null,null,null,null,null,null,null,null,null,null,null,null,null,null,null,null,null,null,null,null,null,null,null,null,null,null,"Чернігівська","Фаївка"]
[null,null,null,null,null,null,null,null,null,null,null,null,null,null,null,null,null,null,null,null,null,null,null,null,null,null,null,null,null,null,null,null,null,null,null,null,null,null,null,null,null,null,null,null,null,"Чернігівська","Фастівці"]
[null,null,null,null,null,null,null,null,null,null,null,null,null,null,null,null,null,null,null,null,null,null,null,null,null,null,null,null,null,null,null,null,null,null,null,null,null,null,null,null,null,null,null,null,null,"Чернігівська","Ферубки"]
[null,null,null,null,null,null,null,null,null,null,null,null,null,null,null,null,null,null,null,null,null,null,null,null,null,null,null,null,null,null,null,null,null,null,null,null,null,null,null,null,null,null,null,null,null,"Чернігівська","Феськівка"]
[null,null,null,null,null,null,null,null,null,null,null,null,null,null,null,null,null,null,null,null,null,null,null,null,null,null,null,null,null,null,null,null,null,null,null,null,null,null,null,null,null,null,null,null,null,"Чернігівська","Філонівка"]
[null,null,null,null,null,null,null,null,null,null,null,null,null,null,null,null,null,null,null,null,null,null,null,null,null,null,null,null,null,null,null,null,null,null,null,null,null,null,null,null,null,null,null,null,null,"Чернігівська","Форостовичі"]
[null,null,null,null,null,null,null,null,null,null,null,null,null,null,null,null,null,null,null,null,null,null,null,null,null,null,null,null,null,null,null,null,null,null,null,null,null,null,null,null,null,null,null,null,null,"Чернігівська","Фурсове"]
[null,null,null,null,null,null,null,null,null,null,null,null,null,null,null,null,null,null,null,null,null,null,null,null,null,null,null,null,null,null,null,null,null,null,null,null,null,null,null,null,null,null,null,null,null,"Чернігівська","Хаєнки"]
[null,null,null,null,null,null,null,null,null,null,null,null,null,null,null,null,null,null,null,null,null,null,null,null,null,null,null,null,null,null,null,null,null,null,null,null,null,null,null,null,null,null,null,null,null,"Чернігівська","Хаїха"]
[null,null,null,null,null,null,null,null,null,null,null,null,null,null,null,null,null,null,null,null,null,null,null,null,null,null,null,null,null,null,null,null,null,null,null,null,null,null,null,null,null,null,null,null,null,"Чернігівська","Халимонове"]
[null,null,null,null,null,null,null,null,null,null,null,null,null,null,null,null,null,null,null,null,null,null,null,null,null,null,null,null,null,null,null,null,null,null,null,null,null,null,null,null,null,null,null,null,null,"Чернігівська","Халявин"]
[null,null,null,null,null,null,null,null,null,null,null,null,null,null,null,null,null,null,null,null,null,null,null,null,null,null,null,null,null,null,null,null,null,null,null,null,null,null,null,null,null,null,null,null,null,"Чернігівська","Хатилова Гута"]
[null,null,null,null,null,null,null,null,null,null,null,null,null,null,null,null,null,null,null,null,null,null,null,null,null,null,null,null,null,null,null,null,null,null,null,null,null,null,null,null,null,null,null,null,null,"Чернігівська","Хвилівка"]
[null,null,null,null,null,null,null,null,null,null,null,null,null,null,null,null,null,null,null,null,null,null,null,null,null,null,null,null,null,null,null,null,null,null,null,null,null,null,null,null,null,null,null,null,null,"Чернігівська","Хибалівка"]
[null,null,null,null,null,null,null,null,null,null,null,null,null,null,null,null,null,null,null,null,null,null,null,null,null,null,null,null,null,null,null,null,null,null,null,null,null,null,null,null,null,null,null,null,null,"Чернігівська","Хлоп'яники"]
[null,null,null,null,null,null,null,null,null,null,null,null,null,null,null,null,null,null,null,null,null,null,null,null,null,null,null,null,null,null,null,null,null,null,null,null,null,null,null,null,null,null,null,null,null,"Чернігівська","Хмільниця"]
[null,null,null,null,null,null,null,null,null,null,null,null,null,null,null,null,null,null,null,null,null,null,null,null,null,null,null,null,null,null,null,null,null,null,null,null,null,null,null,null,null,null,null,null,null,"Чернігівська","Ховдіївка"]
[null,null,null,null,null,null,null,null,null,null,null,null,null,null,null,null,null,null,null,null,null,null,null,null,null,null,null,null,null,null,null,null,null,null,null,null,null,null,null,null,null,null,null,null,null,"Чернігівська","Ховми"]
[null,null,null,null,null,null,null,null,null,null,null,null,null,null,null,null,null,null,null,null,null,null,null,null,null,null,null,null,null,null,null,null,null,null,null,null,null,null,null,null,null,null,null,null,null,"Чернігівська","Холми"]
[null,null,null,null,null,null,null,null,null,null,null,null,null,null,null,null,null,null,null,null,null,null,null,null,null,null,null,null,null,null,null,null,null,null,null,null,null,null,null,null,null,null,null,null,null,"Чернігівська","Холявки"]
[null,null,null,null,null,null,null,null,null,null,null,null,null,null,null,null,null,null,null,null,null,null,null,null,null,null,null,null,null,null,null,null,null,null,null,null,null,null,null,null,null,null,null,null,null,"Чернігівська","Хоробичі"]
[null,null,null,null,null,null,null,null,null,null,null,null,null,null,null,null,null,null,null,null,null,null,null,null,null,null,null,null,null,null,null,null,null,null,null,null,null,null,null,null,null,null,null,null,null,"Чернігівська","Хороше Озеро"]
[null,null,null,null,null,null,null,null,null,null,null,null,null,null,null,null,null,null,null,null,null,null,null,null,null,null,null,null,null,null,null,null,null,null,null,null,null,null,null,null,null,null,null,null,null,"Чернігівська","Хотівля"]
[null,null,null,null,null,null,null,null,null,null,null,null,null,null,null,null,null,null,null,null,null,null,null,null,null,null,null,null,null,null,null,null,null,null,null,null,null,null,null,null,null,null,null,null,null,"Чернігівська","Хотіївка"]
[null,null,null,null,null,null,null,null,null,null,null,null,null,null,null,null,null,null,null,null,null,null,null,null,null,null,null,null,null,null,null,null,null,null,null,null,null,null,null,null,null,null,null,null,null,"Чернігівська","Хотуничі"]
[null,null,null,null,null,null,null,null,null,null,null,null,null,null,null,null,null,null,null,null,null,null,null,null,null,null,null,null,null,null,null,null,null,null,null,null,null,null,null,null,null,null,null,null,null,"Чернігівська","Храпате"]
[null,null,null,null,null,null,null,null,null,null,null,null,null,null,null,null,null,null,null,null,null,null,null,null,null,null,null,null,null,null,null,null,null,null,null,null,null,null,null,null,null,null,null,null,null,"Чернігівська","Хрипівка"]
[null,null,null,null,null,null,null,null,null,null,null,null,null,null,null,null,null,null,null,null,null,null,null,null,null,null,null,null,null,null,null,null,null,null,null,null,null,null,null,null,null,null,null,null,null,"Чернігівська","Хрінівка"]
[null,null,null,null,null,null,null,null,null,null,null,null,null,null,null,null,null,null,null,null,null,null,null,null,null,null,null,null,null,null,null,null,null,null,null,null,null,null,null,null,null,null,null,null,null,"Чернігівська","Хукалівка"]
[null,null,null,null,null,null,null,null,null,null,null,null,null,null,null,null,null,null,null,null,null,null,null,null,null,null,null,null,null,null,null,null,null,null,null,null,null,null,null,null,null,null,null,null,null,"Чернігівська","Часнівці"]
[null,null,null,null,null,null,null,null,null,null,null,null,null,null,null,null,null,null,null,null,null,null,null,null,null,null,null,null,null,null,null,null,null,null,null,null,null,null,null,null,null,null,null,null,null,"Чернігівська","Чемер"]
[null,null,null,null,null,null,null,null,null,null,null,null,null,null,null,null,null,null,null,null,null,null,null,null,null,null,null,null,null,null,null,null,null,null,null,null,null,null,null,null,null,null,null,null,null,"Чернігівська","Ченчики"]
[null,null,null,null,null,null,null,null,null,null,null,null,null,null,null,null,null,null,null,null,null,null,null,null,null,null,null,null,null,null,null,null,null,null,null,null,null,null,null,null,null,null,null,null,null,"Чернігівська","Чепелів"]
[null,null,null,null,null,null,null,null,null,null,null,null,null,null,null,null,null,null,null,null,null,null,null,null,null,null,null,null,null,null,null,null,null,null,null,null,null,null,null,null,null,null,null,null,null,"Чернігівська","Червона Буда"]
[null,null,null,null,null,null,null,null,null,null,null,null,null,null,null,null,null,null,null,null,null,null,null,null,null,null,null,null,null,null,null,null,null,null,null,null,null,null,null,null,null,null,null,null,null,"Чернігівська","Червона Гута"]
[null,null,null,null,null,null,null,null,null,null,null,null,null,null,null,null,null,null,null,null,null,null,null,null,null,null,null,null,null,null,null,null,null,null,null,null,null,null,null,null,null,null,null,null,null,"Чернігівська","Червона Україна"]
[null,null,null,null,null,null,null,null,null,null,null,null,null,null,null,null,null,null,null,null,null,null,null,null,null,null,null,null,null,null,null,null,null,null,null,null,null,null,null,null,null,null,null,null,null,"Чернігівська","Червоний Гай"]
[null,null,null,null,null,null,null,null,null,null,null,null,null,null,null,null,null,null,null,null,null,null,null,null,null,null,null,null,null,null,null,null,null,null,null,null,null,null,null,null,null,null,null,null,null,"Чернігівська","Червоний Довжик"]
[null,null,null,null,null,null,null,null,null,null,null,null,null,null,null,null,null,null,null,null,null,null,null,null,null,null,null,null,null,null,null,null,null,null,null,null,null,null,null,null,null,null,null,null,null,"Чернігівська","Червоний Колодязь"]
[null,null,null,null,null,null,null,null,null,null,null,null,null,null,null,null,null,null,null,null,null,null,null,null,null,null,null,null,null,null,null,null,null,null,null,null,null,null,null,null,null,null,null,null,null,"Чернігівська","Червоний Остер"]
[null,null,null,null,null,null,null,null,null,null,null,null,null,null,null,null,null,null,null,null,null,null,null,null,null,null,null,null,null,null,null,null,null,null,null,null,null,null,null,null,null,null,null,null,null,"Чернігівська","Червоний Пахар"]
[null,null,null,null,null,null,null,null,null,null,null,null,null,null,null,null,null,null,null,null,null,null,null,null,null,null,null,null,null,null,null,null,null,null,null,null,null,null,null,null,null,null,null,null,null,"Чернігівська","Червоний Плугатор"]
[null,null,null,null,null,null,null,null,null,null,null,null,null,null,null,null,null,null,null,null,null,null,null,null,null,null,null,null,null,null,null,null,null,null,null,null,null,null,null,null,null,null,null,null,null,"Чернігівська","Червоний Шлях"]
[null,null,null,null,null,null,null,null,null,null,null,null,null,null,null,null,null,null,null,null,null,null,null,null,null,null,null,null,null,null,null,null,null,null,null,null,null,null,null,null,null,null,null,null,null,"Чернігівська","Червоні Гори"]
[null,null,null,null,null,null,null,null,null,null,null,null,null,null,null,null,null,null,null,null,null,null,null,null,null,null,null,null,null,null,null,null,null,null,null,null,null,null,null,null,null,null,null,null,null,"Чернігівська","Червоні Партизани"]
[null,null,null,null,null,null,null,null,null,null,null,null,null,null,null,null,null,null,null,null,null,null,null,null,null,null,null,null,null,null,null,null,null,null,null,null,null,null,null,null,null,null,null,null,null,"Чернігівська","Черецьке"]
[null,null,null,null,null,null,null,null,null,null,null,null,null,null,null,null,null,null,null,null,null,null,null,null,null,null,null,null,null,null,null,null,null,null,null,null,null,null,null,null,null,null,null,null,null,"Чернігівська","Черниш"]
[null,null,null,null,null,null,null,null,null,null,null,null,null,null,null,null,null,null,null,null,null,null,null,null,null,null,null,null,null,null,null,null,null,null,null,null,null,null,null,null,null,null,null,null,null,"Чернігівська","Чернігів"]
[null,null,null,null,null,null,null,null,null,null,null,null,null,null,null,null,null,null,null,null,null,null,null,null,null,null,null,null,null,null,null,null,null,null,null,null,null,null,null,null,null,null,null,null,null,"Чернігівська","Чисті Лужи"]
[null,null,null,null,null,null,null,null,null,null,null,null,null,null,null,null,null,null,null,null,null,null,null,null,null,null,null,null,null,null,null,null,null,null,null,null,null,null,null,null,null,null,null,null,null,"Чернігівська","Чорний Ріг"]
[null,null,null,null,null,null,null,null,null,null,null,null,null,null,null,null,null,null,null,null,null,null,null,null,null,null,null,null,null,null,null,null,null,null,null,null,null,null,null,null,null,null,null,null,null,"Чернігівська","Чорногорці"]
[null,null,null,null,null,null,null,null,null,null,null,null,null,null,null,null,null,null,null,null,null,null,null,null,null,null,null,null,null,null,null,null,null,null,null,null,null,null,null,null,null,null,null,null,null,"Чернігівська","Чорнозем"]
[null,null,null,null,null,null,null,null,null,null,null,null,null,null,null,null,null,null,null,null,null,null,null,null,null,null,null,null,null,null,null,null,null,null,null,null,null,null,null,null,null,null,null,null,null,"Чернігівська","Чорнотичі"]
[null,null,null,null,null,null,null,null,null,null,null,null,null,null,null,null,null,null,null,null,null,null,null,null,null,null,null,null,null,null,null,null,null,null,null,null,null,null,null,null,null,null,null,null,null,"Чернігівська","Чудівка"]
[null,null,null,null,null,null,null,null,null,null,null,null,null,null,null,null,null,null,null,null,null,null,null,null,null,null,null,null,null,null,null,null,null,null,null,null,null,null,null,null,null,null,null,null,null,"Чернігівська","Чулатів"]
[null,null,null,null,null,null,null,null,null,null,null,null,null,null,null,null,null,null,null,null,null,null,null,null,null,null,null,null,null,null,null,null,null,null,null,null,null,null,null,null,null,null,null,null,null,"Чернігівська","Чумак"]
[null,null,null,null,null,null,null,null,null,null,null,null,null,null,null,null,null,null,null,null,null,null,null,null,null,null,null,null,null,null,null,null,null,null,null,null,null,null,null,null,null,null,null,null,null,"Чернігівська","Шабалинів"]
[null,null,null,null,null,null,null,null,null,null,null,null,null,null,null,null,null,null,null,null,null,null,null,null,null,null,null,null,null,null,null,null,null,null,null,null,null,null,null,null,null,null,null,null,null,"Чернігівська","Шаболтасівка"]
[null,null,null,null,null,null,null,null,null,null,null,null,null,null,null,null,null,null,null,null,null,null,null,null,null,null,null,null,null,null,null,null,null,null,null,null,null,null,null,null,null,null,null,null,null,"Чернігівська","Шами"]
[null,null,null,null,null,null,null,null,null,null,null,null,null,null,null,null,null,null,null,null,null,null,null,null,null,null,null,null,null,null,null,null,null,null,null,null,null,null,null,null,null,null,null,null,null,"Чернігівська","Шапіхи"]
[null,null,null,null,null,null,null,null,null,null,null,null,null,null,null,null,null,null,null,null,null,null,null,null,null,null,null,null,null,null,null,null,null,null,null,null,null,null,null,null,null,null,null,null,null,"Чернігівська","Шатура"]
[null,null,null,null,null,null,null,null,null,null,null,null,null,null,null,null,null,null,null,null,null,null,null,null,null,null,null,null,null,null,null,null,null,null,null,null,null,null,null,null,null,null,null,null,null,"Чернігівська","Шведчина"]
[null,null,null,null,null,null,null,null,null,null,null,null,null,null,null,null,null,null,null,null,null,null,null,null,null,null,null,null,null,null,null,null,null,null,null,null,null,null,null,null,null,null,null,null,null,"Чернігівська","Шептаки"]
[null,null,null,null,null,null,null,null,null,null,null,null,null,null,null,null,null,null,null,null,null,null,null,null,null,null,null,null,null,null,null,null,null,null,null,null,null,null,null,null,null,null,null,null,null,"Чернігівська","Шестовиця"]
[null,null,null,null,null,null,null,null,null,null,null,null,null,null,null,null,null,null,null,null,null,null,null,null,null,null,null,null,null,null,null,null,null,null,null,null,null,null,null,null,null,null,null,null,null,"Чернігівська","Шибиринівка"]
[null,null,null,null,null,null,null,null,null,null,null,null,null,null,null,null,null,null,null,null,null,null,null,null,null,null,null,null,null,null,null,null,null,null,null,null,null,null,null,null,null,null,null,null,null,"Чернігівська","Шиловичі"]
[null,null,null,null,null,null,null,null,null,null,null,null,null,null,null,null,null,null,null,null,null,null,null,null,null,null,null,null,null,null,null,null,null,null,null,null,null,null,null,null,null,null,null,null,null,"Чернігівська","Шишка"]
[null,null,null,null,null,null,null,null,null,null,null,null,null,null,null,null,null,null,null,null,null,null,null,null,null,null,null,null,null,null,null,null,null,null,null,null,null,null,null,null,null,null,null,null,null,"Чернігівська","Шкробове"]
[null,null,null,null,null,null,null,null,null,null,null,null,null,null,null,null,null,null,null,null,null,null,null,null,null,null,null,null,null,null,null,null,null,null,null,null,null,null,null,null,null,null,null,null,null,"Чернігівська","Шкуранка"]
[null,null,null,null,null,null,null,null,null,null,null,null,null,null,null,null,null,null,null,null,null,null,null,null,null,null,null,null,null,null,null,null,null,null,null,null,null,null,null,null,null,null,null,null,null,"Чернігівська","Шмаївка"]
[null,null,null,null,null,null,null,null,null,null,null,null,null,null,null,null,null,null,null,null,null,null,null,null,null,null,null,null,null,null,null,null,null,null,null,null,null,null,null,null,null,null,null,null,null,"Чернігівська","Шняківка"]
[null,null,null,null,null,null,null,null,null,null,null,null,null,null,null,null,null,null,null,null,null,null,null,null,null,null,null,null,null,null,null,null,null,null,null,null,null,null,null,null,null,null,null,null,null,"Чернігівська","Шолойки"]
[null,null,null,null,null,null,null,null,null,null,null,null,null,null,null,null,null,null,null,null,null,null,null,null,null,null,null,null,null,null,null,null,null,null,null,null,null,null,null,null,null,null,null,null,null,"Чернігівська","Шпаків"]
[null,null,null,null,null,null,null,null,null,null,null,null,null,null,null,null,null,null,null,null,null,null,null,null,null,null,null,null,null,null,null,null,null,null,null,null,null,null,null,null,null,null,null,null,null,"Чернігівська","Шумани"]
[null,null,null,null,null,null,null,null,null,null,null,null,null,null,null,null,null,null,null,null,null,null,null,null,null,null,null,null,null,null,null,null,null,null,null,null,null,null,null,null,null,null,null,null,null,"Чернігівська","Шумейкине (Матіївська)"]
[null,null,null,null,null,null,null,null,null,null,null,null,null,null,null,null,null,null,null,null,null,null,null,null,null,null,null,null,null,null,null,null,null,null,null,null,null,null,null,null,null,null,null,null,null,"Чернігівська","Шумейків"]
[null,null,null,null,null,null,null,null,null,null,null,null,null,null,null,null,null,null,null,null,null,null,null,null,null,null,null,null,null,null,null,null,null,null,null,null,null,null,null,null,null,null,null,null,null,"Чернігівська","Шумин"]
[null,null,null,null,null,null,null,null,null,null,null,null,null,null,null,null,null,null,null,null,null,null,null,null,null,null,null,null,null,null,null,null,null,null,null,null,null,null,null,null,null,null,null,null,null,"Чернігівська","Щокоть"]
[null,null,null,null,null,null,null,null,null,null,null,null,null,null,null,null,null,null,null,null,null,null,null,null,null,null,null,null,null,null,null,null,null,null,null,null,null,null,null,null,null,null,null,null,null,"Чернігівська","Щорс"]
[null,null,null,null,null,null,null,null,null,null,null,null,null,null,null,null,null,null,null,null,null,null,null,null,null,null,null,null,null,null,null,null,null,null,null,null,null,null,null,null,null,null,null,null,null,"Чернігівська","Щурівка"]
[null,null,null,null,null,null,null,null,null,null,null,null,null,null,null,null,null,null,null,null,null,null,null,null,null,null,null,null,null,null,null,null,null,null,null,null,null,null,null,null,null,null,null,null,null,"Чернігівська","Щуча Гребля"]
[null,null,null,null,null,null,null,null,null,null,null,null,null,null,null,null,null,null,null,null,null,null,null,null,null,null,null,null,null,null,null,null,null,null,null,null,null,null,null,null,null,null,null,null,null,"Чернігівська","Юрківщина"]
[null,null,null,null,null,null,null,null,null,null,null,null,null,null,null,null,null,null,null,null,null,null,null,null,null,null,null,null,null,null,null,null,null,null,null,null,null,null,null,null,null,null,null,null,null,"Чернігівська","Юхнове"]
[null,null,null,null,null,null,null,null,null,null,null,null,null,null,null,null,null,null,null,null,null,null,null,null,null,null,null,null,null,null,null,null,null,null,null,null,null,null,null,null,null,null,null,null,null,"Чернігівська","Яблунівське"]
[null,null,null,null,null,null,null,null,null,null,null,null,null,null,null,null,null,null,null,null,null,null,null,null,null,null,null,null,null,null,null,null,null,null,null,null,null,null,null,null,null,null,null,null,null,"Чернігівська","Ядути"]
[null,null,null,null,null,null,null,null,null,null,null,null,null,null,null,null,null,null,null,null,null,null,null,null,null,null,null,null,null,null,null,null,null,null,null,null,null,null,null,null,null,null,null,null,null,"Чернігівська","Якличі"]
[null,null,null,null,null,null,null,null,null,null,null,null,null,null,null,null,null,null,null,null,null,null,null,null,null,null,null,null,null,null,null,null,null,null,null,null,null,null,null,null,null,null,null,null,null,"Чернігівська","Ямище"]
[null,null,null,null,null,null,null,null,null,null,null,null,null,null,null,null,null,null,null,null,null,null,null,null,null,null,null,null,null,null,null,null,null,null,null,null,null,null,null,null,null,null,null,null,null,"Чернігівська","Ярова Білещина"]
[null,null,null,null,null,null,null,null,null,null,null,null,null,null,null,null,null,null,null,null,null,null,null,null,null,null,null,null,null,null,null,null,null,null,null,null,null,null,null,null,null,null,null,null,null,"Чернігівська","Ясна Зірка"]
[null,null,null,null,null,null,null,null,null,null,null,null,null,null,null,null,null,null,null,null,null,null,null,null,null,null,null,null,null,null,null,null,null,null,null,null,null,null,null,null,null,null,null,null,null,"Чернігівська","Яськове"]
[null,null,null,null,null,null,null,null,null,null,null,null,null,null,null,null,null,null,null,null,null,null,null,null,null,null,null,null,null,null,null,null,null,null,null,null,null,null,null,null,null,null,null,null,null,"Чернігівська","Ященків"]