{"text_format":"1","workbook":"xlsx","n_sheets":5,"sheets":["1.Портфель кредитів","2.Забезпечення","3.ППР","4.журнал торгів","Hidden_Словник"],"not_rendered":{"charts":0,"images":1,"macros":1,"external_links":0,"defined_names":32,"comments":0,"pivot_tables":0},"unopened":[],"bounds":{"document_bytes":16777216,"sheet_cells":100000,"rows_first":2000,"rows_last":500,"rows_between":2000,"halvings":0,"cell_chars":16384,"cell_head_chars":4096},"cells_cut":0,"cells_raw":0,"read":"whole","date_system":"1900"}

{"sheet":"1.Портфель кредитів","index":0,"n_rows":1010,"n_cols":478,"rows_kept":1010,"cut":false,"hidden":false,"merged":[[2,2,2,27],[5,2,6,27]]}
[null,null,{"$f":"\"ІНФОРМАЦІЙНО:  Курс НБУ, станом на \"&TEXT(C10,\"dd.mm.yyyy\")&\"р.\"","v":"ІНФОРМАЦІЙНО:  Курс НБУ, станом на 01.01.2019р."}]
[null,null,840,978,null,null,null,null,null,null,null,null,null,null,null,null,null,"БУДЬТЕ УВАЖНІ!\nДану операцію неможливо відмінити.\nПублічний паспорт необхідно формувати лише після збереження копії файлу."]
[]
["Банк заповнює всі стовпчики, що не мають заливки.",null,null,null,null,null,null,null,null,null,null,null,null,null,null,null,null,null,null,null,null,null,null,null,null,null,null,null,null,null,null,null,null,null,null,null,null,null,null,null,null,null,null,null,null,null,null,null,null,null,null,null,null,null,null,null,null,null,null,null,null,null,null,null,null,null,null,null,null,null,null,null,null,null,null,null,null,null,null,null,null,null,null,null,null,null,null,null,null,null,null,null,null,null,null,null,null,null,null,null,null,null,null,null,null,null,null,null,null,null,null,null,null,null,null,null,null,null,null,null,null,null,null,null,null,null,null,null,null,null,null,null,null,null,null,null,null,null,null,null,null,null,null,null,null,null,null,null,null,null,null,null,null,null,null,null,null,null,null,null,null,null,null,null,null,null,null,null,null,null,null,null,null,null,null,null,null,null,null,null,null,null,null,null,null,null,null,null,null,null,null,null,null,null,null,null,null,null,null,null,null,null,null,null,null,null,null,null,null,null,null,null,null,null,null,null,null,null,null,null,null,null,null,null,null,null,null,null,null,null,null,null,null,null,null,null,null,null,null,null,null,null,null,null,null,null,null,null,null,null,null,null,null,null,null,null,null,null,null,null,null,null,null,null,null,null,null,null,null,null,null,null,null,null,null,null,null,null,null,null,null,null,null,null,null,null,null,null,null,null,null,null,null,null,null,null,null,null,null,null,null,null,null,null,null,null,null,null,null,null,null,null,null,null,null,null,null,null,null,null,null,null,null,null,null,null,null,null,null,null,null,null,null,null,null,null,null,null,null,null,null,null,null,null,null,null,null,null,null,null,null,null,null,null,null,null,null,null,null,null,null,null,null,null,null,null,null,null,null,null,null,null,null,null,null,null,null,null,null,null,null,null,null,null,null,null,null,null,null,null,null,null,null,null,null,null,null,null,null,null,null,null,null,null,null,null,null,null,null,null,null,null,null,null,null,null,null,null,null,null,null,null,null,null,null,null,null,null,null,null,null,null,null,null,null,null,null,null,null,null,null,null,null,null,null,null,null,null,null,null,null,null,null,null,null,null,null,null,null,null,null,null,null,null,null,null,null,null,null,null,null,null,null,null,null,null,null,"2019-02-20"]
["Обов'язкове внесення всіх можливих даних."]
["Всі грошові значення заповнюються в грн., або еквіваленті по курсу НБУ, станом на звітну дату.",null,"Цей документ був підготовлений Фондом гарантування вкладів фізичних осіб (далі – Фонд) виключно для інформаційних цілей і не повинен вважатися як спонукання до будь-яких дій чи бездіяльності. \nІнформація, що міститься в цьому документі, була отримана з/або ґрунтується на джерелах, які вважаються надійними, але не є вичерпною та не може сприйматися як повна або актуальна. Зокрема, але не виключно, станом на дату придбання активів допускаються несуттєві зміни лота, в складі якого продаються такі активи. Під несуттєвими змінами лота слід розуміти такі зміни характеристик активів у складі такого лота, які впливають на його балансову вартість, але не більше ніж на 10 відсотків. Рішення покупця щодо будь-яких дій або бездіяльності повинно ґрунтуватися на власних оцінках та дослідженнях майна (активу/активів), котре реалізується. Фонд не несе відповідальності за рішення покупця та його наслідки, що ґрунтується на інформації, викладеній в даному документі."]
["Клітинки із випадаючими списками заповнюються шляхом вибору відповідного значення зі списку."]
[]
[]
["Звітна дата",":","2019-01-01",null,null,null,null,null,null,null,null,null,null,null,null,null,null,null,null,null,null,null,{"$f":"SUM(W13:W1048576)","v":422114383.76601261},1325651244.3400006,2838689270.2599998,1614056257.1500008,1224633013.1100001,556773690.24999988]
[null,null,"Загальні дані",null,null,null,null,"Характеристика активу / фактори впливу",null,null,null,null,null,null,null,null,null,null,null,null,null,null,null,"Заборгованість"]
["unicid","#","Банк","МФО банку","Галузь діяльності позичальника (КВЕД)","Область","Ознака банкрутства/ліквідації (відповідно ЄДР на дату заповнення паспорту)","Група активу","Номер кредитного договору","Тип кредита/активу","Валюта","Відсоткова ставка номінальна","Дата відкриття","Дата закінчення","Відмітка про знаходження права об'єкту в якості забезпечення під рефінансуванням в НБУ","Наявність кредитного договору та договору застави","Кількість днів прострочення оплати боргу на дату заповнення","Сума погашеної заборгованності у поточному році","Сума останнього погашення заборгованності, грн. екв.","Дата останнього погашення заборгованності","Суб'єкт оціночної діяльності","Дата оцінки активу","Оціночна вартість, грн. екв.","Заборгованість на дату формування ліквідаційної маси, грн. екв.",{"$f":"\"Заборгованстіь  на дату заповнення паспорту, грн. екв. \"&TEXT(C10,\"dd.mm.yyyy\")&\"р. (тіло та проценти):\"","v":"Заборгованстіь  на дату заповнення паспорту, грн. екв. 01.01.2019р. (тіло та проценти):"},"Заборгованість по тілу кредиту на дату заповнення паспорту, грн. екв.","Забаргованність по нарах. % за кредитом на дату заповнення паспорту, грн. екв.","Штрафи та пені, грн. екв."]
["320854_37230343_1",1,"ДІАМАНТБАНК","320854","47.11","Автономна Республіка Крим","Діюче",1,"455","фінансовий лізинг","Гривня",0.29952770000000001,"2013-02-15","2015-04-22","НІ","Наявні документи кредитної справи",1898,0,17261,41386,"ТОВ «ОЦІНОЧНА ФІРМА «ДЕ ВІЗУ»","2017-09-01",16640,429065.73,207132.01,207132.01,0,303747.03999999998]
["320854_37230343_2",2,"ДІАМАНТБАНК","320854","47.11","Автономна Республіка Крим","Діюче",1,"456","фінансовий лізинг","Гривня",0.29952770000000001,41346,42116,"НІ","Наявні документи кредитної справи",1168,0,8326,42116,"ТОВ «ОЦІНОЧНА ФІРМА «ДЕ ВІЗУ»",42979,8230,212145.23,102617.24,102617.24,0,150482.54]
["320854_33433758_3",3,"ДІАМАНТБАНК","320854","01.24","Автономна Республіка Крим","Діюче",1,"474","фінансовий лізинг","Гривня",0.32358414000000002,41451,42190,"НІ","Наявні документи кредитної справи",1545,0,6354.61,41739,"ТОВ «ОЦІНОЧНА ФІРМА «ДЕ ВІЗУ»",42979,11470,295638.3,145905.9,145905.9,0,207963.3]
["320854_33433758_4",4,"ДІАМАНТБАНК","320854","01.24","Автономна Республіка Крим","Діюче",1,"475","фінансовий лізинг","Гривня",0.32358414000000002,41451,42190,"НІ","Наявні документи кредитної справи",1540,0,4331.0600000000004,41744,"ТОВ «ОЦІНОЧНА ФІРМА «ДЕ ВІЗУ»",42979,5380,138681.45000000001,69296.960000000006,69296.960000000006,0,97040.51]
["320854_33433758_5",5,"ДІАМАНТБАНК","320854","01.24","Автономна Республіка Крим","Діюче",1,"489","фінансовий лізинг","Гривня",0.32358414000000002,41687,42056,"НІ","Наявні документи кредитної справи",1510,0,1031.55,41774,"ТОВ «ОЦІНОЧНА ФІРМА «ДЕ ВІЗУ»",42979,3700,95404.47,45414.47,45414.47,0,68114.19]
["320854_32764906_6",6,"ДІАМАНТБАНК","320854","23.63","Автономна Республіка Крим","Діюче",1,"483","фінансовий лізинг","Гривня",0.28727966999999999,41556,42284,"НІ","Наявні документи кредитної справи",1511,0,27199.13,41773,"ТОВ «ОЦІНОЧНА ФІРМА «ДЕ ВІЗУ»",42979,30070,775299.48,392761.92,323138.55,69623.37,536059.34]
["320854_37624159_7",7,"ДІАМАНТБАНК","320854","35.23","Кіровоградська","Діюче",1,"517","фінансовий лізинг","Гривня",0.53630504999999995,42790,43520,"НІ","Відсутні документи кредитної справи",0,222000,45523.45,43462,"ТОВ «ОЦІНОЧНА ФІРМА «ДЕ ВІЗУ»",42979,266150,477867.87,371575.86,369176.79,2399.0700000000002,209840.26]
["320854_16322987_1",1,"ДІАМАНТБАНК","320854","29.10","Автономна Республіка Крим","Діюче",1,"094","Кредитни лінія","Гривня",0.25,40403,41779,"НІ","Наявні документи кредитної справи",1694,0,107043.93,41772,"ТОВ «ОЦІНОЧНА \nФІРМА «ДЕ ВІЗУ»",42979,1206290,1651122.36,1950560.16,897700,1052860.1599999999,2827949.98]
["320854_2455612543_2",2,"ДІАМАНТБАНК","320854","51.22","Автономна Республіка Крим","Діюче",1,"04","Кредитни лінія","Гривня",0.25,39345,41171,"НІ","Наявні документи кредитної справи",3428,0,15000,40038,"ТОВ «ОЦІНОЧНА \nФІРМА «ДЕ ВІЗУ»",42979,1512480,4147496.58,4617816.83,1410000,3207816.83,7456801.1200000001]
["320854_39374960_3",3,"ДІАМАНТБАНК","320854","46.73","Київ","Діюче",1,"052","Кредитни лінія","Гривня",0.3,42507,42871,"НІ","Наявні документи кредитної справи",742,0,85473.4,42825,"ТОВ «ОЦІНОЧНА \nФІРМА «ДЕ ВІЗУ»",42979,338740,485880.87,657576.34,428943.35999999999,228632.98,1006709.53]
["320854_36343400_4",4,"ДІАМАНТБАНК","320854","46.73","Одеська","Діюче",1,"226","Кредитни лінія","Гривня",0,40791,41254,"НІ","Відсутні документи кредитної справи",2211,0,0,41255,"ТОВ «ОЦІНОЧНА \nФІРМА «ДЕ ВІЗУ»",42979,9350,241010.44,241010.44,0,241010.44,96766.05]
["320854_04836770_5",5,"ДІАМАНТБАНК","320854","72.19","Херсонська","Діюче",1,"358","Кредитни лінія","Гривня",0.25,41327,42055,"НІ","Відсутні документи кредитної справи",1835,0,33642.6,41656,"ТОВ «ОЦІНОЧНА \nФІРМА «ДЕ ВІЗУ»",42979,6638400,3185196.96,3738206.36,1657894.72,2080311.64,5553009.5999999996]
["320854_32644537_6",6,"ДІАМАНТБАНК","320854","01.50","Волинська","Банкрутство",1,"538","Кредитни лінія","Гривня",0.26,41529,41939,"НІ","Наявні документи кредитної справи",1905,0,7931.51,41988,"ТОВ «ОЦІНОЧНА \nФІРМА «ДЕ ВІЗУ»",42979,13020,335807.36,335807.36,0,335807.36,0]
["320854_33755274_7",7,"ДІАМАНТБАНК","320854","01.11","Волинська","Діюче",1,"558","Кредитни лінія","Гривня",0.3,39861,39989,"НІ","Відсутні документи кредитної справи",2189,0,14000,40282,"ТОВ «ОЦІНОЧНА \nФІРМА «ДЕ ВІЗУ»",42979,9140,235776.29,235776.29,0,235776.29,0]
["380719_05747991_1",1,"ВБР","380719","28.99","Сумська","Діюче",1,"KKPOD.80407.006","Кредитни лінія","мульт. валютн.",0.23,41340,42118,"НІ","Наявні документи кредитної справи",1334,0,99027.78,42013,"ПП “Центр незалежної оцінки та експертизи”",42461,157646730.33000001,115108461.47,532680918.43000001,283909320,248771598.43000001,153523363.94999999]
["380719_05747991_2",2,"ВБР","380719","28.99","Сумська","Діюче",1,"KKPOD.80407.017","Кредитни лінія","мульт. валютн.",0.24,41416,42118,"НІ","Наявні документи кредитної справи",1334,0,51666.67,42013,"ПП “Центр незалежної оцінки та експертизи”",42461,79517440.219999999,57530477.420000002,271748537.25999999,141954660,129793877.26000001,80100014.989999995]
["380719_05747991_3",3,"ВБР","380719","28.99","Сумська","Діюче",1,"KKPOD.80407.024","Кредитни лінія","мульт. валютн.",0.22,41576,42118,"НІ","Наявні документи кредитної справи",1334,0,47361.11,42013,"ПП “Центр незалежної оцінки та експертизи”",42461,78129290,57530477.420000002,260932381.16,141954660,118977721.16,73423637.489999995]
["320702_1899001292_1",1,"Національний кредит","320702","46.90","Запорізька","Банкрутство",1,"54/07",null,"Гривня",0.37,39360,40028,"НІ","Наявні документи кредитної справи",null,0,0,0,"ТОВ \"БК-ЕКСПЕРТ\"",42339,87507.69,1688318.16,1826439.72,409795.53,1416644.19,3439400.53]
["320702_2882405335_2",2,"Національний кредит","320702","46.90","Запорізька","Банкрутство",1,"41/07",null,"Гривня",0.37,39293,39691,"НІ","Наявні документи кредитної справи",null,0,0,0,"ТОВ \"БК-ЕКСПЕРТ\"",42339,43719.17,843465.67,1159739.5899999999,250000,909739.59,1788182.32]
["320702__3",3,"Національний кредит","320702",null,null,null,null,null,null,null,null,null,null,null,null,null,null,null,null,null,42339,120,43620066.030000001,43589986.950000003,43589986.950000003]
["320702__4",4,"Національний кредит","320702",null,null,null,null,null,null,null,null,null,null,null,null,null,null,null,null,null,42339,123095.55,1695903.28,1737815.76,1737815.76]
["320702__5",5,"Національний кредит","320702",null,null,null,null,null,null,null,null,null,null,null,null,null,null,null,null,null,42339,2270,476972,461972,461972]
["320702_22138880_6",6,"Національний кредит","320702","01.1","Запорізька","В стані припинення (крім банкрутства)",1,"08/08",null,"Гривня",0.3,39552,39982,"НІ","Наявні документи кредитної справи",null,0,0,0,"ТОВ \"БК-ЕКСПЕРТ\"",42339,38302.550000000003,742707.58,997420.87,250000,747420.87,1366500.25]
["328210_36849691_1",1,"ІНВЕСТБАНК","328210","47.30","Одеська область","Діюче",1,"104-12","Кредитни лінія",980,0.3,41256,41984,"НІ","Наявні документи кредитної справи",1292,0,0,42212,"ПП «ВІТАЛ-ПРОФІ»",42826,2211.69,27067.58,27067.58,0,27067.58,0]
["328210_22458998_2",2,"ІНВЕСТБАНК","328210","46.90","Одеська область","В стані припинення (крім банкрутства)",2,12,"Кредитни лінія",980,0.4,36592,37184,"ні","Наявні документи кредитної справи",6282,null,null,0,"ПП «ВІТАЛ-ПРОФІ»",42979,462.33,56176.4,56176.4,56176.4,0,0]
["328210_35048706_3",3,"ІНВЕСТБАНК","328210","46.90","Одеська область","В стані припинення (крім банкрутства)",2,"74/08","Кредитни лінія",980,0.25,39610,39975,"ні","Наявні документи кредитної справи",3491,null,null,null,"ПП «ВІТАЛ-ПРОФІ»",42979,141.24,17284.990000000002,17284.990000000002,17284.990000000002,0,0]
["319111_36407233_1",1,"Радикал","319111","45.11","Вінницька","Діюче",1,"6989-О-2","овердрафт",980,0.39,41824,42553,"НІ","так",1225,0,3605.57,42815,"ТОВ \"ВЕРІТАС ПРОПЕРТІ МЕНЕДЖМЕНТ\"",42430,12855,94137.85,19430.870000000003,7500,11930.87,0]
["300056__1",1,"Легбанк","300056",null,null,null,null,null,"Дебіторська заборгованість","Гривня",null,null,null,"НІ",null,null,null,null,null,"ТОВ «Кредитне Брокерське Агентство»",42095,24178.23,58342.59,58342.59,58342.59]
["320995_36336435_1",1,"БГ банк","320995","47.11","Київ","Діюче",1,"22","відновлювальна відклична кредитна лінія","Гривня",0,40780,41145,"НІ","Наявні документи кредитної справи",2318,0,"_",41144,"ТОВ «Кредитне Брокерське Агентство»",42130,72685,72685.25,72685.25,70000,2685.25,"_"]
["320995_37931795_2",2,"БГ банк","320995","94.99","Київська","Діюче",null,"б/н","оренда приміщення","Гривня","_",40910,"_","НІ",null,1646,0,"_","_","ПП «Консалтингова група «АРГО – ЕКСПЕРТ» ",42186,5.6135625000000005,183.3,183.3,183.3,0,"_"]
["320995_37932097_3",3,"БГ банк","320995","28.12","Донецька","Діюче",null,"№ 1-ЕЛ","оренда приміщення","Гривня","_",41579,"_","НІ",null,1523,0,"_","_","ПП «Консалтингова група «АРГО – ЕКСПЕРТ» ",42186,34.35,1773.08,1773.08,1773.08,0,"_"]
["320995_39453057_4",4,"БГ банк","320995","94.99","Автономна Республіка Крим","Діюче",null,"№ 60","оренда приміщення","Гривня","_",42005,"_","НІ",null,1372,0,"_","_","ПП «Консалтингова група «АРГО – ЕКСПЕРТ» ",42186,65.25,1800,1800,1800,0,"_"]
["320995_3217507733_5",5,"БГ банк","320995",null,"Київська","Інше",null,"№ 24/6","оренда приміщення","Гривня","_",41896,"_","НІ",null,1523,0,"_","_","ПП «Консалтингова група «АРГО – ЕКСПЕРТ» ",42186,58.43,3556.98,3556.98,3556.98,0,"_"]
["320995_3160821917_6",6,"БГ банк","320995",null,"Автономна Республіка Крим","Інше",null,"№ 17/9","оренда приміщення","Гривня","_",41944,"_","НІ",null,1403,0,"_","_","ПП «Консалтингова група «АРГО – ЕКСПЕРТ» ",42186,110.72,7384.07,8458.07,8458.07,0,"_"]
["320995_2896708016_7",7,"БГ банк","320995",null,"Київська","Інше",null,"№ 19/6","оренда приміщення","Гривня","_",41944,"_","НІ",null,1431,0,"_","_","ПП «Консалтингова група «АРГО – ЕКСПЕРТ» ",42186,31.98,2131.94,12986.94,12986.94,0,"_"]
["320995_20971504_8",8,"БГ банк","320995","64.19","Київська","В стані припинення (крім банкрутства)",null,"№ 25/06-22-1","оренда приміщення","Гривня","_",40634,"_","НІ",null,1523,0,"_","_","ПП «Консалтингова група «АРГО – ЕКСПЕРТ» ",42186,589.73,38231.69,38231.69,38231.69,0,"_"]
["320995_32323511_9",9,"БГ банк","320995","96.09","Київ","Діюче",null,"б/н","оренда приміщення","Гривня","_",41379,"_","НІ",null,1980,0,"_","_","ПП «Консалтингова група «АРГО – ЕКСПЕРТ» ",42186,1702.51,55592.03,55592.03,55592.03,0,"_"]
["320995_04543795_10",10,"БГ банк","320995","42.2","Київська","Банкрутство",null,"№ ILG/244/12","гарантия","Гривня","_",41170,"_","НІ",null,1462,0,"_","_","ПП «Консалтингова група «АРГО – ЕКСПЕРТ» ",42186,738.42,38112.239999999998,38112.239999999998,38112.239999999998,0,"_"]
["320995_30708792_11",11,"БГ банк","320995","56.10","Донецька","Діюче",null,"№ ILG/217/13","гарантия","Гривня","_",41620,"_","НІ",null,1436,0,"_","_","ПП «Консалтингова група «АРГО – ЕКСПЕРТ» ",42186,480.74,24812.45,24812.45,24812.45,0,"_"]
["320995_02650587_12",12,"БГ банк","320995","86.21","Автономна Республіка Крим","Діюче",null,"№ ILG/218/13","гарантия","Гривня","_",41618,"_","НІ",null,1436,0,"_","_","ПП «Консалтингова група «АРГО – ЕКСПЕРТ» ",42186,370.8,12107.81,12107.81,12107.81,0,"_"]
["320995_02649621_13",13,"БГ банк","320995","86.21","Київська","Діюче",null,"№ ILG/222/13","гарантия","Гривня","_",41620,"_","НІ",null,1436,0,"_","_","ПП «Консалтингова група «АРГО – ЕКСПЕРТ» ",42186,167.18,4611.91,4611.91,4611.91,0,"_"]
["320995_01036313_14",14,"БГ банк","320995","42.22","Автономна Республіка Крим","Діюче",null,"№ ILG/238/12","гарантия","Гривня","_",41152,"_","НІ",null,1371,0,"_","_","ПП «Консалтингова група «АРГО – ЕКСПЕРТ» ",42186,54.76,2826.52,2826.52,2826.52,0,"_"]
["320995_04543795_15",15,"БГ банк","320995","42.2","Київська","Банкрутство",null,"№ ILG/245/12","гарантия","Гривня","_",41170,"_","НІ",null,1462,0,"_","_","ПП «Консалтингова група «АРГО – ЕКСПЕРТ» ",42186,6.8,350.9,350.9,350.9,0,"_"]
["320995_2691209496_16",16,"БГ банк","320995",null,"Чернівецька","Інше",null,"№ 10630702","Комісія ДІУ","Гривня","_",39380,"_","НІ",null,2289,0,"_","_","ПП «Консалтингова група «АРГО – ЕКСПЕРТ» ",42186,26.801774999999999,875.16,875.16,875.16,0,"_"]
["320995_3001224859_17",17,"БГ банк","320995",null,"Харківська","Інше",null,"№ 735-100/ФК -08","Комісія ДІУ ","Гривня","_",39549,"_","НІ",null,1832,0,"_","_","ПП «Консалтингова група «АРГО – ЕКСПЕРТ» ",42186,170.51632499999999,5567.88,5567.88,5567.88,0,"_"]
["320995_2972322340_18",18,"БГ банк","320995",null,"Рівненська","Інше",null,"№ 1785-0201030/ФК-08","Комісія ДІУ ","Гривня","_",39693,"_","НІ",null,2221,0,"_","_","ПП «Консалтингова група «АРГО – ЕКСПЕРТ» ",42186,13.951525,455.56,455.56,455.56,0,"_"]
["320995__19",19,"БГ банк","320995",null,null,"Інше",null,"№ 100412/1","Депозитарні послуги зберігача ЦП","Гривня","_",41009,"_","НІ",null,1471,0,"_","_","ПП «Консалтингова група «АРГО – ЕКСПЕРТ» ",42186,173.94612500000002,12100.6,12100.6,12100.6,0,"_"]
["320995__20",20,"БГ банк","320995",null,null,"Інше",null,"№ 180708/08","Депозитарні послуги зберігача ЦП","Гривня","_",39647,"_","НІ",null,1653,0,"_","_","ПП «Консалтингова група «АРГО – ЕКСПЕРТ» ",42186,62.556406250000002,4003.61,4003.61,4003.61,0,"_"]
["320995__21",21,"БГ банк","320995",null,null,"Інше",null,"№ 240413/6","Депозитарні послуги зберігача ЦП","Гривня","_",41388,"_","НІ",null,1715,0,"_","_","ПП «Консалтингова група «АРГО – ЕКСПЕРТ» ",42186,25.3125,1500,1500,1500,0,"_"]
["320995__22",22,"БГ банк","320995",null,null,"Інше",null,"№ 210114/6","Депозитарні послуги зберігача ЦП","Гривня","_",41660,"_","НІ",null,1715,0,"_","_","ПП «Консалтингова група «АРГО – ЕКСПЕРТ» ",42186,25.3125,1500,1500,1500,0,"_"]
["320995_19409200_23",23,"БГ банк","320995","46.11","Київ","В стані припинення (крім банкрутства)",null,"№ ЦПд-07-10","Депозитарні послуги зберігача ЦП","Гривня","_",40360,"_","НІ",null,2020,0,"_","_","ПП «Консалтингова група «АРГО – ЕКСПЕРТ» ",42186,359.375,23000,23000,23000,0,"_"]
["320995_2972322340_24",24,"БГ банк","320995",null,"Чернівецька","Інше",null,"№ 1785-0201030/ФК-08","Комісія ДІУ ","Гривня","_",39693,"_","НІ",null,1554,0,"_","_","ПП «Консалтингова група «АРГО – ЕКСПЕРТ» ",42186,63.720675,1999.08,1999.08,1999.08,0,"_"]
["320995_3019013333_25",25,"БГ банк","320995",null,"Харківська","Інше",null,"№ 110211/2","Депозитарні послуги зберігача ЦП","Гривня","_",40585,"_","НІ",null,1471,0,"_","_","ПП «Консалтингова група «АРГО – ЕКСПЕРТ» ",42186,9.375,600,600,600,0,"_"]
["320995_2814413533_26",26,"БГ банк","320995",null,"Одеська","Інше",null,"№ 260711/2","Депозитарні послуги зберігача ЦП","Гривня","_",40750,"_","НІ",null,1653,0,"_","_","ПП «Консалтингова група «АРГО – ЕКСПЕРТ» ",42186,10.125,600,600,600,0,"_"]
["320995__27",27,"БГ банк","320995",null,null,"Інше",null,"№ 240413/4","Депозитарні послуги зберігача ЦП","Гривня","_",41388,"_","НІ",null,1715,0,"_","_","ПП «Консалтингова група «АРГО – ЕКСПЕРТ» ",42186,25.3125,1500,1500,1500,0,"_"]
["320995_1080901475_28",28,"БГ банк","320995",null,"Київ","Інше",null,"№ 180411/1","Депозитарні послуги зберігача ЦП","Гривня","_",40651,"_","НІ",null,1988,0,"_","_","ПП «Консалтингова група «АРГО – ЕКСПЕРТ» ",42186,116.43750000000001,6900,6900,6900,0,"_"]
["320995_2870806137_29",29,"БГ банк","320995",null,"Донецька","Інше",null,"№ 9150506","Комісія ДІУ ","Гривня","_",39339,"_","НІ",null,1751,0,"_","_","ПП «Консалтингова група «АРГО – ЕКСПЕРТ» ",42186,20.035349999999998,628.55999999999995,628.55999999999995,628.55999999999995,0,"_"]
["320995_2614517002_30",30,"БГ банк","320995",null,"Київ","Інше",null,"№ 110211/7","Депозитарні послуги зберігача ЦП","Гривня","_",40585,"_","НІ",null,1715,0,"_","_","ПП «Консалтингова група «АРГО – ЕКСПЕРТ» ",42186,6.75,400,400,400,0,"_"]
["320995_2594613538_31",31,"БГ банк","320995",null,"Київська","Інше",null,"№ 050809/15","Депозитарні послуги зберігача ЦП","Гривня","_",40030,"_","НІ",null,1471,0,"_","_","ПП «Консалтингова група «АРГО – ЕКСПЕРТ» ",42186,5.0625,300,300,300,0,"_"]
["320995_2742010177_32",32,"БГ банк","320995",null,"Київ","Інше",null,"№ 111209/6","Депозитарні послуги зберігача ЦП","Гривня","_",40158,"_","НІ",null,1502,0,"_","_","ПП «Консалтингова група «АРГО – ЕКСПЕРТ» ",42186,4.640625,275,275,275,0,"_"]
["320995_1826437306_33",33,"БГ банк","320995",null,"Київ","Інше",null,"№ 050609/11","Депозитарні послуги зберігача ЦП","Гривня","_",39969,"_","НІ",null,1641,0,"_","_","ПП «Консалтингова група «АРГО – ЕКСПЕРТ» ",42186,4.9781250000000004,295,295,295,0,"_"]
["320995_2333010370_34",34,"БГ банк","320995",null,"Київ","Інше",null,"№ 061109/02","Депозитарні послуги зберігача ЦП","Гривня","_",40123,"_","НІ",null,1493,0,"_","_","ПП «Консалтингова група «АРГО – ЕКСПЕРТ» ",42186,2.34375,150,150,150,0,"_"]
["320995__35",35,"БГ банк","320995",null,null,"Інше",null,"№ 210114/1","Депозитарні послуги зберігача ЦП","Гривня","_",41660,"_","НІ",null,1715,0,"_","_","ПП «Консалтингова група «АРГО – ЕКСПЕРТ» ",42186,25.3125,1500,1500,1500,0,"_"]
["320995_38013519_36",36,"БГ банк","320995","64.30","Київ","Діюче",null,"№ 010612/1","Депозитарні послуги зберігача ЦП","Гривня","_",41061,"_","НІ",null,1471,0,"_","_","ПП «Консалтингова група «АРГО – ЕКСПЕРТ» ",42186,8.625,600,600,600,0,"_"]
["320995_32977421_37",37,"БГ банк","320995","64.30","Київська","Діюче",null,"№ 121208/17","Депозитарні послуги зберігача ЦП","Гривня","_",39794,"_","НІ",null,2051,0,"_","_","ПП «Консалтингова група «АРГО – ЕКСПЕРТ» ",42186,6.25,400,400,400,0,"_"]
["320995_2753016709_38",38,"БГ банк","320995",null,"Київська","Інше",null,"№ 240912/1","Депозитарні послуги зберігача ЦП","Гривня","_",41176,"_","НІ",null,1471,0,"_","_","ПП «Консалтингова група «АРГО – ЕКСПЕРТ» ",42186,32.8125,2100,2100,2100,0,"_"]
["320995_2270216829_39",39,"БГ банк","320995",null,"Київська","Інше",null,"№ 110211/9","Депозитарні послуги зберігача ЦП","Гривня","_",40585,"_","НІ",null,1715,0,"_","_","ПП «Консалтингова група «АРГО – ЕКСПЕРТ» ",42186,21.9375,1300,1300,1300,0,"_"]
["320995_2767014220_40",40,"БГ банк","320995",null,"Київ","Інше",null,"№ 110211/10","Депозитарні послуги зберігача ЦП","Гривня","_",40585,"_","НІ",null,1715,0,"_","_","ПП «Консалтингова група «АРГО – ЕКСПЕРТ» ",42186,78.890625,4675,4675,4675,0,"_"]
["320995_2877305617_41",41,"БГ банк","320995",null,"Київ","Інше",null,"№ 110211/11","Депозитарні послуги зберігача ЦП","Гривня","_",40585,"_","НІ",null,1715,0,"_","_","ПП «Консалтингова група «АРГО – ЕКСПЕРТ» ",42186,21.9375,1300,1300,1300,0,"_"]
["320995_2877305617_42",42,"БГ банк","320995",null,"Київ","Інше",null,"№ 580-013/ФКІП-08","Комісія ДІУ ","Гривня","_","_","_","НІ",null,2147,0,"_","_","ПП «Консалтингова група «АРГО – ЕКСПЕРТ» ",42186,81.748856250000003,2564.67,2564.67,2564.67,0,"_"]
["320995_3001224859_43",43,"БГ банк","320995",null,"Київ","Інше",null,"№ 735-100/ФК-08","Комісія ДІУ ","Гривня","_","_","_","НІ",null,2209,0,"_","_","ПП «Консалтингова група «АРГО – ЕКСПЕРТ» ",42186,855.90399375000004,26851.89,26851.89,26851.89,0,"_"]
["320995_2796208369_44",44,"БГ банк","320995",null,"Одеська","Інше",null,"№ 601070001","Комісія ДІУ ","Гривня","_","_","_","НІ",null,1736,0,"_","_","ПП «Консалтингова група «АРГО – ЕКСПЕРТ» ",42186,149.68882500000001,4696.12,4696.12,4696.12,0,"_"]
["320995_2691209496_45",45,"БГ банк","320995",null,"Київська","Інше",null,"№ 10630702","Комісія ДІУ ","Гривня","_",39380,"_","НІ",null,2206,0,"_","_","ПП «Консалтингова група «АРГО – ЕКСПЕРТ» ",42186,118.53196875,3718.65,3718.65,3718.65,0,"_"]
["320995_2881216919_46",46,"БГ банк","320995",null,"Київська","Інше",null,"№ 110211/1","Депозитарні послуги зберігача ЦП","Гривня","_",40585,"_","НІ",null,1471,0,"_","_","ПП «Консалтингова група «АРГО – ЕКСПЕРТ» ",42186,9.375,600,600,600,0,"_"]
["320995_32512346_47",47,"БГ банк","320995","43.99","Київська","Діюче",null,"№ 210409/06","Депозитарні послуги зберігача ЦП","Гривня","_",39924,"_","НІ",null,1533,0,"_","_","ПП «Консалтингова група «АРГО – ЕКСПЕРТ» ",42186,6.25,400,400,400,0,"_"]
["320995_32846139_48",48,"БГ банк","320995","42.13","Київська","В стані припинення (крім банкрутства)",null,"№ 130612/1","Депозитарні послуги зберігача ЦП","Гривня","_",41073,"_","НІ",null,1747,0,"_","_","ПП «Консалтингова група «АРГО – ЕКСПЕРТ» ",42186,45.46875,2910,2910,2910,0,"_"]
["320995_32846139_49",49,"БГ банк","320995","42.13","Київ","В стані припинення (крім банкрутства)",null,"№ 120207/07","Депозитарні послуги зберігача ЦП","Гривня","_",39125,"_","НІ",null,1747,0,"_","_","ПП «Консалтингова група «АРГО – ЕКСПЕРТ» ",42186,185.9375,11900,11900,11900,0,"_"]
["320995_35632299_50",50,"БГ банк","320995","41.2","Київ","Діюче",null,"№ 110808","Депозитарні послуги зберігача ЦП","Гривня","_",39671,"_","НІ",null,1471,0,"_","_","ПП «Консалтингова група «АРГО – ЕКСПЕРТ» ",42186,14.0625,900,900,900,0,"_"]
["320995_37593283_51",51,"БГ банк","320995","46.73","Київ","Діюче",null,"№ 140711/1","Депозитарні послуги зберігача ЦП","Гривня","_",40738,"_","НІ",null,1686,0,"_","_","ПП «Консалтингова група «АРГО – ЕКСПЕРТ» ",42186,4.6875,300,300,300,0,"_"]
["320995_35893575_52",52,"БГ банк","320995","65.12","Київ","В стані припинення (крім банкрутства)",null,"№ 251113/1","Депозитарні послуги зберігача ЦП","Гривня","_",41238,"_","НІ",null,1806,0,"_","_","ПП «Консалтингова група «АРГО – ЕКСПЕРТ» ",42186,187.03125,11970,11970,11970,0,"_"]
["320995_32305870_53",53,"БГ банк","320995","46.9","Київ","Діюче",null,"№ 281207/28","Депозитарні послуги зберігача ЦП","Гривня","_",39444,"_","НІ",null,3816,0,"_","_","ПП «Консалтингова група «АРГО – ЕКСПЕРТ» ",42186,756.25,48400,48400,48400,0,"_"]
["320995_38567851_54",54,"БГ банк","320995","69.10","Київ","Діюче",null,"№ 200213/1","Депозитарні послуги зберігача ЦП","Гривня","_",41325,"_","НІ",null,1686,0,"_","_","ПП «Консалтингова група «АРГО – ЕКСПЕРТ» ",42186,40.625,2600,2600,2600,0,"_"]
["320995_2529906853_55",55,"БГ банк","320995",null,"Київ","Інше",null,"№ 290411/26","Депозитарні послуги зберігача ЦП","Гривня","_",40662,"_","НІ",null,1988,0,"_","_","ПП «Консалтингова група «АРГО – ЕКСПЕРТ» ",42186,116.43750000000001,6900,6900,6900,0,"_"]
["320995_2761501957_56",56,"БГ банк","320995",null,"Закарпатська","Інше",null,"№ 110211/3","Депозитарні послуги зберігача ЦП","Гривня","_",40585,"_","НІ",null,1715,0,"_","_","ПП «Консалтингова група «АРГО – ЕКСПЕРТ» ",42186,21.9375,1300,1300,1300,0,"_"]
["320995_1877505474_57",57,"БГ банк","320995",null,"Київ","Інше",null,"№ 260209/02","Депозитарні послуги зберігача ЦП","Гривня","_",39870,"_","НІ",null,1471,0,"_","_","ПП «Консалтингова група «АРГО – ЕКСПЕРТ» ",42186,35.4375,2100,2100,2100,0,"_"]
["380388_32998525_1",1,"Платинум Банк","380388","82.99","Донецька","Діюче",1,"39г-10","Кредитни лінія","Гривня",0.12,40381,44033,"НІ","Наявні документи кредитної справи",2625,468650,468650,43215,"ТОВ “КАНЗАС РІАЛ ЕСТЕЙТ”",42826,71526.28,710314.86,710314.86,623955.24,86359.62,860354.68]
["380537_31455881_1",1,"ВіЕйБі","380537",null,"Київ","В стані припинення (крім банкрутства)","І","3","комерційний","Гривня",0,39867,40962,"НІ","Наявні документи кредитної справи",3568,0,53082994,41333,"ПП \"Бюро Маркуса\"",42248,1,4508400,29039278.190000001,0,29039278.190000001,9202171.4299999997]
["380537_31032802_2",2,"ВіЕйБі","380537",null,"Київ",null,"ІІ","б/н","комерційний","Гривня",0,39958,40323,"НІ","Наявні документи кредитної справи",3439,0,1033136.57,40473,"ПП \"Бюро Маркуса\"",42248,1,40678534.350000001,40678534.350000001,40678534.350000001,0,0]
["380537_30446130_3",3,"ВіЕйБі","380537",null,"Одеська","Ліквідовано","ІІ","05/К-03ю","комерційний","Доллар США",0,37648,38743,"НІ","Наявні документи кредитної справи",3791,0,null,null,"ПП \"Бюро Маркуса\"",42248,1,7666400,16808546.370000001,16808546.370000001,0,3010597.43]
["380537_31803336_4",4,"ВіЕйБі","380537",null,"Львівська",null,"І","56","комерційний","Доллар США",0,38112,39934,"НІ","Наявні документи кредитної справи",3742,0,243980.79999999999,40008,"ПП \"Бюро Маркуса\"",42248,29984,6036750.7400000002,18551721.199999999,8089941.5599999996,10461779.640000001,3322819.6]
["380537_32277832_5",5,"ВіЕйБі","380537",null,"Одеська","В стані припинення (крім банкрутства)","І","08/06ю","комерційний","Доллар США",0,38786,40026,"НІ","Наявні документи кредитної справи",4566,0,765922.38,39933,"ПП \"Бюро Маркуса\"",42248,1,152263506.25,251711895.72999999,99368262,152343633.72999999,54840767.489999995]
["380537_34431924_6",6,"ВіЕйБі","380537",null,"Київ",null,"ІІ","116","комерційний","Гривня",0,38897,42519,"НІ","Наявні документи кредитної справи",3169,0,11430105.6,41485,"ПП \"Бюро Маркуса\"",42248,1,60791015.990000002,83546980.349999994,42765559.640000001,40781420.710000001,20429378.09]
["380537_33755075_7",7,"ВіЕйБі","380537",null,"Запорізька",null,"ІІ","24-08","комерційний","Гривня",0,39720,40498,"НІ","Наявні документи кредитної справи",3165,0,717871.89,39990,"ПП \"Бюро Маркуса\"",42248,1,136517500,432017828.38,183135193.91999999,248882634.46000001,98881567.870000005]
["380537_32162756_8",8,"ВіЕйБі","380537",null,"Київ",null,"ІІ","10","комерційний","Гривня",0,39505,42061,"НІ","Наявні документи кредитної справи",3649,0,189190.08,"18.08.2014","ПП \"Бюро Маркуса\"",42248,2,74912210.579999998,160149174.37,99765465.400000006,60383708.969999999,30755049.350000001]
["380537_3094722171_9",9,"ВіЕйБі","380537",null,"Луганська","Ліквідовано","І","7/07-SME","комерційний","Гривня",0,39290,42942,"НІ","Наявні документи кредитної справи",2972,0,500,40431,"ПП \"Бюро Маркуса\"",42248,1,41090,41579.980000000003,41000,579.98,13345.4]
["380537__10",10,"ВіЕйБі","380537",null,null,null,null,null,null,"Гривня",null,null,null,"НІ",null,null,null,null,null,"ТОВ «КРЕДИТНЕ БРОКЕРСЬКЕ АГЕНТСТВО», ТОВ «АКО ЕКСПЕРТ»","01.09.2015, 20.06.2018",40054.81,1063099.4899999995,1057178.92,1057178.92]
["380537__11",11,"ВіЕйБі","380537",null,null,null,null,null,null,"Гривня",null,null,null,"НІ",null,null,null,null,null,"ТОВ «КРЕДИТНЕ БРОКЕРСЬКЕ АГЕНТСТВО», ТОВ «АКО ЕКСПЕРТ»","01.09.2015, 20.06.2018",27264.53,1762906.4400000002,1762198.63,1762198.63]
["300131_24725713_1",1,"Фінанси та Кредит","300131","46.90 ","м.Київ","не перебуває в процесі припинення",1,"18-01-07","Відновлювальна кредитна лінія",980,0.46,39171,40266,"ні","так",3501,0,1324632.49,42787,"ТОВ \"Кредитне брокерське агентство\"",42461,855930.17,1491372.72,166740.23000000001,0,166740.23000000001,2886518.62]
["334969_30530740_1",1,"Укрбізнесбанк","334969","41.10","Київ","Діюче",1,"5/ю","кредит","Гривня",0.25,39688,40783,"НІ","Відсутні документи кредитної справи",3593,0,20000,41547,"ТОВ «ОЦІНОЧНА ФІРМА «ДЕ ВІЗУ» ",43230,22600,559026.93000000005,559026.93000000005,393648.89,165378.04,11180.54]
["334969_34541410_2",2,"Укрбізнесбанк","334969","46.33","Севастополь","Діюче",1,"14-CевОв  ","кредит","Гривня",0.17,40807,41711,"НІ","Відсутні документи кредитної справи",1755,0,100000,41827,"ТОВ «ОЦІНОЧНА ФІРМА «ДЕ ВІЗУ» ",43230,38700,948042.12,948042.12,868038.03,80004.09,28441.26]
["334969_31173285_3",3,"Укрбізнесбанк","334969","46.34","Автономна Республіка Крим","Діюче",1,"15-СевВЛ","кредит","Гривня",0.17,40836,41931,"НІ","Відсутні документи кредитної справи",1918,0,3353.43,41605,"ТОВ «ОЦІНОЧНА ФІРМА «ДЕ ВІЗУ» ",43230,2906800,5048686.3600000003,5048686.3600000003,3850000,1198686.3600000001,151460.59]
["380236_31305004_1",1,"Дельта","380236","45.11","Київ","Діюче",1,"837 К-Н","кредитна лінія","Доллар США",7.3285000000000003E-2,39680,42236,"НІ","Наявні документи кредитної справи",2023,0,0,0,"ПП «Габ'яно» ",42370,70389862,368154883.82999998,499101683.81999993,333381373.33999997,165720310.47999999,"згідно умов договору"]
["380236_30333638_2",2,"Дельта","380236","01.61","Миколаївська","Ліквідовано",2,"02/014/08-КЛТ","кредит","Гривня",0,39490,40585,"НІ","Наявні документи кредитної справи",1614,0,0,0,"ТОВ «ОЦІНОЧНА ФІРМА «ДЕ ВІЗУ»",43160,27580,7037499.5599999996,7037499.5599999996,7000000,37499.56,"згідно умов договору"]
["380236_2545308895_3",3,"Дельта","380236",null,"Одеська","Інше",null,"03/1/73/05-Z","кредит","Доллар США",0.24249999999999999,38596,40421,"НІ","Наявні документи кредитної справи",2040,0,0,"погашень не було","ТОВ \"Бізнес Ассіст\"",42370,178779,189318.7,316530.84999999998,132906.16,183624.69,"згідно умов договору"]
["380236_30342773_4",4,"Дельта","380236","01.11","Миколаївська","Ліквідовано",2,"02/020/08-КЛТ","кредит","Гривня",0,39500,40507,"НІ","Наявні документи кредитної справи",1614,0,0,0,"ТОВ «ОЦІНОЧНА ФІРМА «ДЕ ВІЗУ»",43160,6070,1548961.71,1475843.11,1391000,84843.11,"згідно умов договору"]
["380236_31043568_5",5,"Дельта","380236","46.21","Миколаївська","Ліквідовано",2,"02/072/08-КЛТ","кредит","Гривня",0,39632,39996,"НІ","Наявні документи кредитної справи",1614,0,0,0,"ТОВ «ОЦІНОЧНА ФІРМА «ДЕ ВІЗУ»",43160,4500,1149086.28,1149086.28,1000000,149086.28,"згідно умов договору"]
["380236_33188879_6",6,"Дельта","380236","46.21","Миколаївська","Ліквідовано",2,"02/169/07-КЛТ","кредитна лінія","Гривня",0,39353,40129,"НІ","Наявні документи кредитної справи",1614,0,0,0,"ТОВ «ОЦІНОЧНА ФІРМА «ДЕ ВІЗУ»",43160,7640,1948465.63,1948465.63,1948465.63,0,"згідно умов договору"]
["380236_30059514_7",7,"Дельта","380236","11.05","Дніпропетровська","Ліквідовано",2,"05/19/2006-КЛВ","кредитна лінія","Гривня",0,38807,39171,"НІ","Наявні документи кредитної справи",1614,0,0,0,"ТОВ «ОЦІНОЧНА ФІРМА «ДЕ ВІЗУ»",43160,2130,544383.56000000006,544383.56000000006,500000,44383.56,"згідно умов договору"]
["380236_31018374_8",8,"Дельта","380236","24.42","Донецька","Ліквідовано",2,"3.3ДС/268/2008-КЛТ","кредитна лінія","Доллар США",0,39706,40086,"НІ","Наявні документи кредитної справи",1614,0,0,0,"ТОВ «ОЦІНОЧНА ФІРМА «ДЕ ВІЗУ»",43160,38320,11590131.68,11908431.9,11908431.9,0,"згідно умов договору"]
["380236_33080355_9",9,"Дельта","380236","10.91","Миколаївська","Ліквідовано",1,"02/009/09-КЛТ","кредит ","Гривня",0,39904,40172,"НІ","Наявні документи кредитної справи",1614,0,0,0,"ТОВ «ОЦІНОЧНА ФІРМА «ДЕ ВІЗУ»",43160,2390,610547.92000000004,610547.92000000004,500000,110547.92,"згідно умов договору"]
["380236_33080355_10",10,"Дельта","380236","10.91","Миколаївська","Ліквідовано",2,"02/081/08-КЛТ","кредит ","Гривня",0,39650,40014,"НІ","Наявні документи кредитної справи",1614,0,0,0,"ТОВ «ОЦІНОЧНА ФІРМА «ДЕ ВІЗУ»",43160,3390,865687.66,865687.66,800000,65687.66,"згідно умов договору"]
["380236_33080355_11",11,"Дельта","380236","10.91","Миколаївська","Ліквідовано",2,"02/104/08-КЛТ","кредит ","Гривня",0,39703,40795,"НІ","Наявні документи кредитної справи",1614,0,0,0,"ТОВ «ОЦІНОЧНА ФІРМА «ДЕ ВІЗУ»",43160,5910,1508776.37,1508776.37,1350000,158776.37,"згідно умов договору"]
["380236_31042941_12",12,"Дельта","380236","46.11","Миколаївська","Діюче",1,"02/059/08-КЛТ","кредитна лінія","мульт. валютн.",0,39598,40690,"НІ","Наявні документи кредитної справи",1614,0,0,0,"ТОВ «ОЦІНОЧНА ФІРМА «ДЕ ВІЗУ»",43160,2362400,60268998.25,58430926.380000003,58430926.380000003,0,"згідно умов договору"]
["380236_31042941_13",13,"Дельта","380236","46.11","Миколаївська","Діюче",1,"02/107/07-КЛТ","кредитна лінія","Євро",0,39253,40347,"НІ","Наявні документи кредитної справи",1614,0,0,0,"ТОВ «ОЦІНОЧНА ФІРМА «ДЕ ВІЗУ»",43160,1332400,33992083.969999999,32520766.170000002,29697823.510000002,2822942.66,"згідно умов договору"]
["380236_31613639_14",14,"Дельта","380236","46.39","Миколаївська","Діюче",1,"02/106/08-КЛТ","кредит","Гривня",0,39707,40071,"НІ","Наявні документи кредитної справи",1614,0,0,0,"ТОВ «ОЦІНОЧНА ФІРМА «ДЕ ВІЗУ»",43160,338700,8640721.75,8640721.75,7000000,1640721.75,"згідно умов договору"]
["380236_32228880_15",15,"Дельта","380236","10.61","Миколаївська","Діюче",1,"02/186/07-КЛТ","кредитна лінія","Гривня",0,39386,39751,"НІ","Наявні документи кредитної справи",1614,0,0,0,"ТОВ «ОЦІНОЧНА ФІРМА «ДЕ ВІЗУ»",43160,481400,1949999,1949999,1949999,0,"згідно умов договору"]
["380236_31369120_16",16,"Дельта","380236","23.63","Херсонська","Діюче",1,"04.1/55/06-КЛТ","кредит","Гривня",0,38999,40094,"НІ","Наявні документи кредитної справи",1614,0,0,0,"ТОВ «ОЦІНОЧНА ФІРМА «ДЕ ВІЗУ»",43160,152000,3878412.02,3533757.89,3533757.89,0,"згідно умов договору"]
["380236_31463094_17",17,"Дельта","380236","46.77","Запорізька","Ліквідовано",1,"04/22/07-КЛТ","кредит","Гривня",0,39251,39799,"НІ","Наявні документи кредитної справи",1614,0,0,0,"ТОВ «ОЦІНОЧНА ФІРМА «ДЕ ВІЗУ»",43160,4070,1037523.84,1037523.84,1000000,37523.839999999997,"згідно умов договору"]
["380236_33869158_18",18,"Дельта","380236","46.72","Запорізька","Ліквідовано",1,"04/24/07-КЛТ","кредит","Гривня",0,39281,39829,"НІ","Наявні документи кредитної справи",1614,0,0,0,"ТОВ «ОЦІНОЧНА ФІРМА «ДЕ ВІЗУ»",43160,80670,908524.94,908524.94,820000,88524.94,"згідно умов договору"]
["380236_33382337_19",19,"Дельта","380236","20.13","Дніпропетровська","В стані припинення (крім банкрутства)",1,"05/67/2006-КЛВ","кредитна лінія","Гривня",0,39003,39790,"НІ","Наявні документи кредитної справи",1614,0,0,0,"ТОВ «ОЦІНОЧНА ФІРМА «ДЕ ВІЗУ»",43160,990000,1598312.86,1598312.86,1598312.86,0,"згідно умов договору"]
["380236_30511875_20",20,"Дельта","380236","46.75","Харківська","В стані припинення (крім банкрутства)",1,"07/038/06-КЛТ","кредит ","Гривня",0,38817,39181,"НІ","Наявні документи кредитної справи",1614,0,0,0,"ТОВ «ОЦІНОЧНА ФІРМА «ДЕ ВІЗУ»",43160,23700,604597.28,604597.28,500000,104597.28,"згідно умов договору"]
["380236_2819202415_21",21,"Дельта","380236",null,"Харківська","Інше",null,"0709/17/05-А","кредитна лінія","Доллар США",0.13,38534,39477,"НІ","Наявні документи кредитної справи",2040,0,0,"погашень не було","ТОВ \"Бізнес Ассіст\"",42370,351894,856971.66,988641.61,927358.87,61282.74,"згідно умов договору"]
["380236_32843118_22",22,"Дельта","380236","20.15","Вінницька","Ліквідовано",1,"22/88-Т-05","кредит ","Гривня",0,39532,39807,"НІ","Відсутні документи кредитної справи",1614,0,0,0,"ТОВ «ОЦІНОЧНА ФІРМА «ДЕ ВІЗУ»",43160,7840,2000085.63,2000085.63,2000085.63,0,"згідно умов договору"]
["380236_33256640_23",23,"Дельта","380236","46.34","Луганська","Банкрутство",1,"23/К-07","кредит ","Гривня",0,39422,41978,"НІ","Наявні документи кредитної справи",2853,0,250000,41192,"ТОВ «ОЦІНОЧНА ФІРМА «ДЕ ВІЗУ»",43160,122200,356635.67,356635.67,356635.67,0,"згідно умов договору"]
["380236_32284441_24",24,"Дельта","380236","23.61","Чернігівська","Банкрутство",1,"49.8.2/05/2007-К","кредит ","Гривня",0,39258,41082,"НІ","Наявні документи кредитної справи",1614,0,90501.119999999995,43420,"ТОВ «ОЦІНОЧНА ФІРМА «ДЕ ВІЗУ»",43160,175600,116219.59,25718.47,25718.47,0,"згідно умов договору"]
["319092_32979130_1",1,"Київськая Русь","319092","46.90","Київ","Діюче",1,"59106-44.15","відновлювальна відклична кредитна лінія","гривня",0.25,41459,42187,"НІ","Наявні документи кредитної справи",2010,0,172.09,42192,"ПП «ВІ АЙ ПІ ДЕПАРТАМЕНТ»",42278,3968,7743.19,7743.19,7743.19,0,10295.370000000001]
["319092_2261722641_2",2,"Київськая Русь","319092","56.10","АРКрим","діючий",1,"19401-45.12","кредит","гривня",0.25,41339,41907,"НІ","Наявні документи кредитної справи",1558,0,83.33,41765,"ПП «ВІ АЙ ПІ ДЕПАРТАМЕНТ»",42278,579,45027.77,45027.770000000004,40000,5027.7700000000004,104034.51]
["319092_23758308_3",3,"Київськая Русь","319092","47.73","Харківська","Діюче",null,"70376-20/14-7","відступлення прав вимоги за дебіторською заборгованістю","гривня",null,41795,null,"НІ","Наявні документи відступлення прав вимоги за дебіторською заборгованістю",737,0,500,42605,"ПП «ВІ АЙ ПІ ДЕПАРТАМЕНТ»",42278,800,90110.91,36610.910000000003,36610.910000000003,0,0]
["319092_23538073_4",4,"Київськая Русь","319092","47.73","Київ","Діюче",null,"70381-20/14-7","відступлення прав вимоги за дебіторською заборгованістю","гривня",null,41795,null,"НІ","Наявні документи відступлення прав вимоги за дебіторською заборгованістю",1188,0,0,null,"ПП «ВІ АЙ ПІ ДЕПАРТАМЕНТ»",42278,500,62295.49,62295.49,62295.49,0,0]
["319092_31473118_5",5,"Київськая Русь","319092","47.73","Вінницька","Діюче",null,"70517-20/14-7","відступлення прав вимоги (за дебіторською заборгованістю)","Гривня",null,41795,null,"ні","відсутні",1190,0,55000,42292,"ПП «ВІ АЙ ПІ ДЕПАРТАМЕНТ»",42278,600,70000,5000,5000,0,0]
["319092_37501920_6",6,"Київськая Русь","319092","47.11","Київ","Діюче",1,"16202-20/12-1","кредит","Гривня",0.25,40987,42489,"ні","Наявні документи кредитної справи",1281,0,8925.33,42969,"ПП «ВІ АЙ ПІ ДЕПАРТАМЕНТ»",42278,57875,88029.15,91490.62,81862.94,9627.68,110125.03]
["300056_23227999_1",1,"Легбанк","300056","60.2","Кіровоградська","Ліквідовано",2,"07","Кредит","Гривня",0.19,39547,40147,"НІ","Наявні документи кредитної справи",3457,0,0,"-","ТОВ \"Кредитне Брокерське Агентство\"",42095,11020,954468.67,954468.67,950000,4468.67]
["_36135129_1",1,"БАНК БОГУСЛАВ","",null,"Київ",null,1,"15/01-КР-25/2012","кредитна лiнiя ",840,0.11,41180,43728,"ні","так",304,269,269,43055,"ПП \"ТА-Експерт-Сервіс\"",43221,15178290,25312834.190000001,26720060.23,25119651.440000001,1600408.79]
[{"$f":"IF(#REF!>\"\",D146&\"_\"&#REF!&\"_\"&B146,\"\")","v":{"$error":"#REF!"}},{"$f":"IF(#REF!=\"\",\"\",COUNTIF(#REF!,\">\"\"\"))","v":{"$error":"#REF!"}},null,{"$f":"IFERROR(VLOOKUP(C146,Hidden_Словник!$A$2:$C$81,3,FALSE),\"\")","v":""},null,null,null,null,null,null,null,null,null,null,null,null,null,null,null,null,null,null,null,null,{"$f":"IF(Z146+AA146>0,Z146+AA146,\"\")","v":""}]
[{"$f":"IF(#REF!>\"\",D147&\"_\"&#REF!&\"_\"&B147,\"\")","v":{"$error":"#REF!"}},{"$f":"IF(#REF!=\"\",\"\",COUNTIF(#REF!,\">\"\"\"))","v":{"$error":"#REF!"}},null,{"$f":"IFERROR(VLOOKUP(C147,Hidden_Словник!$A$2:$C$81,3,FALSE),\"\")","v":""},null,null,null,null,null,null,null,null,null,null,null,null,null,null,null,null,null,null,null,null,""]
[{"$f":"IF(#REF!>\"\",D148&\"_\"&#REF!&\"_\"&B148,\"\")","v":{"$error":"#REF!"}},{"$f":"IF(#REF!=\"\",\"\",COUNTIF(#REF!,\">\"\"\"))","v":{"$error":"#REF!"}},null,{"$f":"IFERROR(VLOOKUP(C148,Hidden_Словник!$A$2:$C$81,3,FALSE),\"\")","v":""},null,null,null,null,null,null,null,null,null,null,null,null,null,null,null,null,null,null,null,null,""]
[{"$f":"IF(#REF!>\"\",D149&\"_\"&#REF!&\"_\"&B149,\"\")","v":{"$error":"#REF!"}},{"$f":"IF(#REF!=\"\",\"\",COUNTIF(#REF!,\">\"\"\"))","v":{"$error":"#REF!"}},null,{"$f":"IFERROR(VLOOKUP(C149,Hidden_Словник!$A$2:$C$81,3,FALSE),\"\")","v":""},null,null,null,null,null,null,null,null,null,null,null,null,null,null,null,null,null,null,null,null,""]
[{"$f":"IF(#REF!>\"\",D150&\"_\"&#REF!&\"_\"&B150,\"\")","v":{"$error":"#REF!"}},{"$f":"IF(#REF!=\"\",\"\",COUNTIF(#REF!,\">\"\"\"))","v":{"$error":"#REF!"}},null,{"$f":"IFERROR(VLOOKUP(C150,Hidden_Словник!$A$2:$C$81,3,FALSE),\"\")","v":""},null,null,null,null,null,null,null,null,null,null,null,null,null,null,null,null,null,null,null,null,""]
[{"$f":"IF(#REF!>\"\",D151&\"_\"&#REF!&\"_\"&B151,\"\")","v":{"$error":"#REF!"}},{"$f":"IF(#REF!=\"\",\"\",COUNTIF(#REF!,\">\"\"\"))","v":{"$error":"#REF!"}},null,{"$f":"IFERROR(VLOOKUP(C151,Hidden_Словник!$A$2:$C$81,3,FALSE),\"\")","v":""},null,null,null,null,null,null,null,null,null,null,null,null,null,null,null,null,null,null,null,null,""]
[{"$f":"IF(#REF!>\"\",D152&\"_\"&#REF!&\"_\"&B152,\"\")","v":{"$error":"#REF!"}},{"$f":"IF(#REF!=\"\",\"\",COUNTIF(#REF!,\">\"\"\"))","v":{"$error":"#REF!"}},null,{"$f":"IFERROR(VLOOKUP(C152,Hidden_Словник!$A$2:$C$81,3,FALSE),\"\")","v":""},null,null,null,null,null,null,null,null,null,null,null,null,null,null,null,null,null,null,null,null,""]
[{"$f":"IF(#REF!>\"\",D153&\"_\"&#REF!&\"_\"&B153,\"\")","v":{"$error":"#REF!"}},{"$f":"IF(#REF!=\"\",\"\",COUNTIF(#REF!,\">\"\"\"))","v":{"$error":"#REF!"}},null,{"$f":"IFERROR(VLOOKUP(C153,Hidden_Словник!$A$2:$C$81,3,FALSE),\"\")","v":""},null,null,null,null,null,null,null,null,null,null,null,null,null,null,null,null,null,null,null,null,""]
[{"$f":"IF(#REF!>\"\",D154&\"_\"&#REF!&\"_\"&B154,\"\")","v":{"$error":"#REF!"}},{"$f":"IF(#REF!=\"\",\"\",COUNTIF(#REF!,\">\"\"\"))","v":{"$error":"#REF!"}},null,{"$f":"IFERROR(VLOOKUP(C154,Hidden_Словник!$A$2:$C$81,3,FALSE),\"\")","v":""},null,null,null,null,null,null,null,null,null,null,null,null,null,null,null,null,null,null,null,null,""]
[{"$f":"IF(#REF!>\"\",D155&\"_\"&#REF!&\"_\"&B155,\"\")","v":{"$error":"#REF!"}},{"$f":"IF(#REF!=\"\",\"\",COUNTIF(#REF!,\">\"\"\"))","v":{"$error":"#REF!"}},null,{"$f":"IFERROR(VLOOKUP(C155,Hidden_Словник!$A$2:$C$81,3,FALSE),\"\")","v":""},null,null,null,null,null,null,null,null,null,null,null,null,null,null,null,null,null,null,null,null,""]
[{"$f":"IF(#REF!>\"\",D156&\"_\"&#REF!&\"_\"&B156,\"\")","v":{"$error":"#REF!"}},{"$f":"IF(#REF!=\"\",\"\",COUNTIF(#REF!,\">\"\"\"))","v":{"$error":"#REF!"}},null,{"$f":"IFERROR(VLOOKUP(C156,Hidden_Словник!$A$2:$C$81,3,FALSE),\"\")","v":""},null,null,null,null,null,null,null,null,null,null,null,null,null,null,null,null,null,null,null,null,""]
[{"$f":"IF(#REF!>\"\",D157&\"_\"&#REF!&\"_\"&B157,\"\")","v":{"$error":"#REF!"}},{"$f":"IF(#REF!=\"\",\"\",COUNTIF(#REF!,\">\"\"\"))","v":{"$error":"#REF!"}},null,{"$f":"IFERROR(VLOOKUP(C157,Hidden_Словник!$A$2:$C$81,3,FALSE),\"\")","v":""},null,null,null,null,null,null,null,null,null,null,null,null,null,null,null,null,null,null,null,null,""]
[{"$f":"IF(#REF!>\"\",D158&\"_\"&#REF!&\"_\"&B158,\"\")","v":{"$error":"#REF!"}},{"$f":"IF(#REF!=\"\",\"\",COUNTIF(#REF!,\">\"\"\"))","v":{"$error":"#REF!"}},null,{"$f":"IFERROR(VLOOKUP(C158,Hidden_Словник!$A$2:$C$81,3,FALSE),\"\")","v":""},null,null,null,null,null,null,null,null,null,null,null,null,null,null,null,null,null,null,null,null,""]
[{"$f":"IF(#REF!>\"\",D159&\"_\"&#REF!&\"_\"&B159,\"\")","v":{"$error":"#REF!"}},{"$f":"IF(#REF!=\"\",\"\",COUNTIF(#REF!,\">\"\"\"))","v":{"$error":"#REF!"}},null,{"$f":"IFERROR(VLOOKUP(C159,Hidden_Словник!$A$2:$C$81,3,FALSE),\"\")","v":""},null,null,null,null,null,null,null,null,null,null,null,null,null,null,null,null,null,null,null,null,""]
[{"$f":"IF(#REF!>\"\",D160&\"_\"&#REF!&\"_\"&B160,\"\")","v":{"$error":"#REF!"}},{"$f":"IF(#REF!=\"\",\"\",COUNTIF(#REF!,\">\"\"\"))","v":{"$error":"#REF!"}},null,{"$f":"IFERROR(VLOOKUP(C160,Hidden_Словник!$A$2:$C$81,3,FALSE),\"\")","v":""},null,null,null,null,null,null,null,null,null,null,null,null,null,null,null,null,null,null,null,null,""]
[{"$f":"IF(#REF!>\"\",D161&\"_\"&#REF!&\"_\"&B161,\"\")","v":{"$error":"#REF!"}},{"$f":"IF(#REF!=\"\",\"\",COUNTIF(#REF!,\">\"\"\"))","v":{"$error":"#REF!"}},null,{"$f":"IFERROR(VLOOKUP(C161,Hidden_Словник!$A$2:$C$81,3,FALSE),\"\")","v":""},null,null,null,null,null,null,null,null,null,null,null,null,null,null,null,null,null,null,null,null,""]
[{"$f":"IF(#REF!>\"\",D162&\"_\"&#REF!&\"_\"&B162,\"\")","v":{"$error":"#REF!"}},{"$f":"IF(#REF!=\"\",\"\",COUNTIF(#REF!,\">\"\"\"))","v":{"$error":"#REF!"}},null,{"$f":"IFERROR(VLOOKUP(C162,Hidden_Словник!$A$2:$C$81,3,FALSE),\"\")","v":""},null,null,null,null,null,null,null,null,null,null,null,null,null,null,null,null,null,null,null,null,""]
[{"$f":"IF(#REF!>\"\",D163&\"_\"&#REF!&\"_\"&B163,\"\")","v":{"$error":"#REF!"}},{"$f":"IF(#REF!=\"\",\"\",COUNTIF(#REF!,\">\"\"\"))","v":{"$error":"#REF!"}},null,{"$f":"IFERROR(VLOOKUP(C163,Hidden_Словник!$A$2:$C$81,3,FALSE),\"\")","v":""},null,null,null,null,null,null,null,null,null,null,null,null,null,null,null,null,null,null,null,null,""]
[{"$f":"IF(#REF!>\"\",D164&\"_\"&#REF!&\"_\"&B164,\"\")","v":{"$error":"#REF!"}},{"$f":"IF(#REF!=\"\",\"\",COUNTIF(#REF!,\">\"\"\"))","v":{"$error":"#REF!"}},null,{"$f":"IFERROR(VLOOKUP(C164,Hidden_Словник!$A$2:$C$81,3,FALSE),\"\")","v":""},null,null,null,null,null,null,null,null,null,null,null,null,null,null,null,null,null,null,null,null,""]
[{"$f":"IF(#REF!>\"\",D165&\"_\"&#REF!&\"_\"&B165,\"\")","v":{"$error":"#REF!"}},{"$f":"IF(#REF!=\"\",\"\",COUNTIF(#REF!,\">\"\"\"))","v":{"$error":"#REF!"}},null,{"$f":"IFERROR(VLOOKUP(C165,Hidden_Словник!$A$2:$C$81,3,FALSE),\"\")","v":""},null,null,null,null,null,null,null,null,null,null,null,null,null,null,null,null,null,null,null,null,""]
[{"$f":"IF(#REF!>\"\",D166&\"_\"&#REF!&\"_\"&B166,\"\")","v":{"$error":"#REF!"}},{"$f":"IF(#REF!=\"\",\"\",COUNTIF(#REF!,\">\"\"\"))","v":{"$error":"#REF!"}},null,{"$f":"IFERROR(VLOOKUP(C166,Hidden_Словник!$A$2:$C$81,3,FALSE),\"\")","v":""},null,null,null,null,null,null,null,null,null,null,null,null,null,null,null,null,null,null,null,null,""]
[{"$f":"IF(#REF!>\"\",D167&\"_\"&#REF!&\"_\"&B167,\"\")","v":{"$error":"#REF!"}},{"$f":"IF(#REF!=\"\",\"\",COUNTIF(#REF!,\">\"\"\"))","v":{"$error":"#REF!"}},null,{"$f":"IFERROR(VLOOKUP(C167,Hidden_Словник!$A$2:$C$81,3,FALSE),\"\")","v":""},null,null,null,null,null,null,null,null,null,null,null,null,null,null,null,null,null,null,null,null,""]
[{"$f":"IF(#REF!>\"\",D168&\"_\"&#REF!&\"_\"&B168,\"\")","v":{"$error":"#REF!"}},{"$f":"IF(#REF!=\"\",\"\",COUNTIF(#REF!,\">\"\"\"))","v":{"$error":"#REF!"}},null,{"$f":"IFERROR(VLOOKUP(C168,Hidden_Словник!$A$2:$C$81,3,FALSE),\"\")","v":""},null,null,null,null,null,null,null,null,null,null,null,null,null,null,null,null,null,null,null,null,""]
[{"$f":"IF(#REF!>\"\",D169&\"_\"&#REF!&\"_\"&B169,\"\")","v":{"$error":"#REF!"}},{"$f":"IF(#REF!=\"\",\"\",COUNTIF(#REF!,\">\"\"\"))","v":{"$error":"#REF!"}},null,{"$f":"IFERROR(VLOOKUP(C169,Hidden_Словник!$A$2:$C$81,3,FALSE),\"\")","v":""},null,null,null,null,null,null,null,null,null,null,null,null,null,null,null,null,null,null,null,null,""]
[{"$f":"IF(#REF!>\"\",D170&\"_\"&#REF!&\"_\"&B170,\"\")","v":{"$error":"#REF!"}},{"$f":"IF(#REF!=\"\",\"\",COUNTIF(#REF!,\">\"\"\"))","v":{"$error":"#REF!"}},null,{"$f":"IFERROR(VLOOKUP(C170,Hidden_Словник!$A$2:$C$81,3,FALSE),\"\")","v":""},null,null,null,null,null,null,null,null,null,null,null,null,null,null,null,null,null,null,null,null,""]
[{"$f":"IF(#REF!>\"\",D171&\"_\"&#REF!&\"_\"&B171,\"\")","v":{"$error":"#REF!"}},{"$f":"IF(#REF!=\"\",\"\",COUNTIF(#REF!,\">\"\"\"))","v":{"$error":"#REF!"}},null,{"$f":"IFERROR(VLOOKUP(C171,Hidden_Словник!$A$2:$C$81,3,FALSE),\"\")","v":""},null,null,null,null,null,null,null,null,null,null,null,null,null,null,null,null,null,null,null,null,""]
[{"$f":"IF(#REF!>\"\",D172&\"_\"&#REF!&\"_\"&B172,\"\")","v":{"$error":"#REF!"}},{"$f":"IF(#REF!=\"\",\"\",COUNTIF(#REF!,\">\"\"\"))","v":{"$error":"#REF!"}},null,{"$f":"IFERROR(VLOOKUP(C172,Hidden_Словник!$A$2:$C$81,3,FALSE),\"\")","v":""},null,null,null,null,null,null,null,null,null,null,null,null,null,null,null,null,null,null,null,null,""]
[{"$f":"IF(#REF!>\"\",D173&\"_\"&#REF!&\"_\"&B173,\"\")","v":{"$error":"#REF!"}},{"$f":"IF(#REF!=\"\",\"\",COUNTIF(#REF!,\">\"\"\"))","v":{"$error":"#REF!"}},null,{"$f":"IFERROR(VLOOKUP(C173,Hidden_Словник!$A$2:$C$81,3,FALSE),\"\")","v":""},null,null,null,null,null,null,null,null,null,null,null,null,null,null,null,null,null,null,null,null,""]
[{"$f":"IF(#REF!>\"\",D174&\"_\"&#REF!&\"_\"&B174,\"\")","v":{"$error":"#REF!"}},{"$f":"IF(#REF!=\"\",\"\",COUNTIF(#REF!,\">\"\"\"))","v":{"$error":"#REF!"}},null,{"$f":"IFERROR(VLOOKUP(C174,Hidden_Словник!$A$2:$C$81,3,FALSE),\"\")","v":""},null,null,null,null,null,null,null,null,null,null,null,null,null,null,null,null,null,null,null,null,""]
[{"$f":"IF(#REF!>\"\",D175&\"_\"&#REF!&\"_\"&B175,\"\")","v":{"$error":"#REF!"}},{"$f":"IF(#REF!=\"\",\"\",COUNTIF(#REF!,\">\"\"\"))","v":{"$error":"#REF!"}},null,{"$f":"IFERROR(VLOOKUP(C175,Hidden_Словник!$A$2:$C$81,3,FALSE),\"\")","v":""},null,null,null,null,null,null,null,null,null,null,null,null,null,null,null,null,null,null,null,null,""]
[{"$f":"IF(#REF!>\"\",D176&\"_\"&#REF!&\"_\"&B176,\"\")","v":{"$error":"#REF!"}},{"$f":"IF(#REF!=\"\",\"\",COUNTIF(#REF!,\">\"\"\"))","v":{"$error":"#REF!"}},null,{"$f":"IFERROR(VLOOKUP(C176,Hidden_Словник!$A$2:$C$81,3,FALSE),\"\")","v":""},null,null,null,null,null,null,null,null,null,null,null,null,null,null,null,null,null,null,null,null,""]
[{"$f":"IF(#REF!>\"\",D177&\"_\"&#REF!&\"_\"&B177,\"\")","v":{"$error":"#REF!"}},{"$f":"IF(#REF!=\"\",\"\",COUNTIF(#REF!,\">\"\"\"))","v":{"$error":"#REF!"}},null,{"$f":"IFERROR(VLOOKUP(C177,Hidden_Словник!$A$2:$C$81,3,FALSE),\"\")","v":""},null,null,null,null,null,null,null,null,null,null,null,null,null,null,null,null,null,null,null,null,""]
[{"$f":"IF(#REF!>\"\",D178&\"_\"&#REF!&\"_\"&B178,\"\")","v":{"$error":"#REF!"}},{"$f":"IF(#REF!=\"\",\"\",COUNTIF(#REF!,\">\"\"\"))","v":{"$error":"#REF!"}},null,{"$f":"IFERROR(VLOOKUP(C178,Hidden_Словник!$A$2:$C$81,3,FALSE),\"\")","v":""},null,null,null,null,null,null,null,null,null,null,null,null,null,null,null,null,null,null,null,null,""]
[{"$f":"IF(#REF!>\"\",D179&\"_\"&#REF!&\"_\"&B179,\"\")","v":{"$error":"#REF!"}},{"$f":"IF(#REF!=\"\",\"\",COUNTIF(#REF!,\">\"\"\"))","v":{"$error":"#REF!"}},null,{"$f":"IFERROR(VLOOKUP(C179,Hidden_Словник!$A$2:$C$81,3,FALSE),\"\")","v":""},null,null,null,null,null,null,null,null,null,null,null,null,null,null,null,null,null,null,null,null,""]
[{"$f":"IF(#REF!>\"\",D180&\"_\"&#REF!&\"_\"&B180,\"\")","v":{"$error":"#REF!"}},{"$f":"IF(#REF!=\"\",\"\",COUNTIF(#REF!,\">\"\"\"))","v":{"$error":"#REF!"}},null,{"$f":"IFERROR(VLOOKUP(C180,Hidden_Словник!$A$2:$C$81,3,FALSE),\"\")","v":""},null,null,null,null,null,null,null,null,null,null,null,null,null,null,null,null,null,null,null,null,""]
[{"$f":"IF(#REF!>\"\",D181&\"_\"&#REF!&\"_\"&B181,\"\")","v":{"$error":"#REF!"}},{"$f":"IF(#REF!=\"\",\"\",COUNTIF(#REF!,\">\"\"\"))","v":{"$error":"#REF!"}},null,{"$f":"IFERROR(VLOOKUP(C181,Hidden_Словник!$A$2:$C$81,3,FALSE),\"\")","v":""},null,null,null,null,null,null,null,null,null,null,null,null,null,null,null,null,null,null,null,null,""]
[{"$f":"IF(#REF!>\"\",D182&\"_\"&#REF!&\"_\"&B182,\"\")","v":{"$error":"#REF!"}},{"$f":"IF(#REF!=\"\",\"\",COUNTIF(#REF!,\">\"\"\"))","v":{"$error":"#REF!"}},null,{"$f":"IFERROR(VLOOKUP(C182,Hidden_Словник!$A$2:$C$81,3,FALSE),\"\")","v":""},null,null,null,null,null,null,null,null,null,null,null,null,null,null,null,null,null,null,null,null,""]
[{"$f":"IF(#REF!>\"\",D183&\"_\"&#REF!&\"_\"&B183,\"\")","v":{"$error":"#REF!"}},{"$f":"IF(#REF!=\"\",\"\",COUNTIF(#REF!,\">\"\"\"))","v":{"$error":"#REF!"}},null,{"$f":"IFERROR(VLOOKUP(C183,Hidden_Словник!$A$2:$C$81,3,FALSE),\"\")","v":""},null,null,null,null,null,null,null,null,null,null,null,null,null,null,null,null,null,null,null,null,""]
[{"$f":"IF(#REF!>\"\",D184&\"_\"&#REF!&\"_\"&B184,\"\")","v":{"$error":"#REF!"}},{"$f":"IF(#REF!=\"\",\"\",COUNTIF(#REF!,\">\"\"\"))","v":{"$error":"#REF!"}},null,{"$f":"IFERROR(VLOOKUP(C184,Hidden_Словник!$A$2:$C$81,3,FALSE),\"\")","v":""},null,null,null,null,null,null,null,null,null,null,null,null,null,null,null,null,null,null,null,null,""]
[{"$f":"IF(#REF!>\"\",D185&\"_\"&#REF!&\"_\"&B185,\"\")","v":{"$error":"#REF!"}},{"$f":"IF(#REF!=\"\",\"\",COUNTIF(#REF!,\">\"\"\"))","v":{"$error":"#REF!"}},null,{"$f":"IFERROR(VLOOKUP(C185,Hidden_Словник!$A$2:$C$81,3,FALSE),\"\")","v":""},null,null,null,null,null,null,null,null,null,null,null,null,null,null,null,null,null,null,null,null,""]
[{"$f":"IF(#REF!>\"\",D186&\"_\"&#REF!&\"_\"&B186,\"\")","v":{"$error":"#REF!"}},{"$f":"IF(#REF!=\"\",\"\",COUNTIF(#REF!,\">\"\"\"))","v":{"$error":"#REF!"}},null,{"$f":"IFERROR(VLOOKUP(C186,Hidden_Словник!$A$2:$C$81,3,FALSE),\"\")","v":""},null,null,null,null,null,null,null,null,null,null,null,null,null,null,null,null,null,null,null,null,""]
[{"$f":"IF(#REF!>\"\",D187&\"_\"&#REF!&\"_\"&B187,\"\")","v":{"$error":"#REF!"}},{"$f":"IF(#REF!=\"\",\"\",COUNTIF(#REF!,\">\"\"\"))","v":{"$error":"#REF!"}},null,{"$f":"IFERROR(VLOOKUP(C187,Hidden_Словник!$A$2:$C$81,3,FALSE),\"\")","v":""},null,null,null,null,null,null,null,null,null,null,null,null,null,null,null,null,null,null,null,null,""]
[{"$f":"IF(#REF!>\"\",D188&\"_\"&#REF!&\"_\"&B188,\"\")","v":{"$error":"#REF!"}},{"$f":"IF(#REF!=\"\",\"\",COUNTIF(#REF!,\">\"\"\"))","v":{"$error":"#REF!"}},null,{"$f":"IFERROR(VLOOKUP(C188,Hidden_Словник!$A$2:$C$81,3,FALSE),\"\")","v":""},null,null,null,null,null,null,null,null,null,null,null,null,null,null,null,null,null,null,null,null,""]
[{"$f":"IF(#REF!>\"\",D189&\"_\"&#REF!&\"_\"&B189,\"\")","v":{"$error":"#REF!"}},{"$f":"IF(#REF!=\"\",\"\",COUNTIF(#REF!,\">\"\"\"))","v":{"$error":"#REF!"}},null,{"$f":"IFERROR(VLOOKUP(C189,Hidden_Словник!$A$2:$C$81,3,FALSE),\"\")","v":""},null,null,null,null,null,null,null,null,null,null,null,null,null,null,null,null,null,null,null,null,""]
[{"$f":"IF(#REF!>\"\",D190&\"_\"&#REF!&\"_\"&B190,\"\")","v":{"$error":"#REF!"}},{"$f":"IF(#REF!=\"\",\"\",COUNTIF(#REF!,\">\"\"\"))","v":{"$error":"#REF!"}},null,{"$f":"IFERROR(VLOOKUP(C190,Hidden_Словник!$A$2:$C$81,3,FALSE),\"\")","v":""},null,null,null,null,null,null,null,null,null,null,null,null,null,null,null,null,null,null,null,null,""]
[{"$f":"IF(#REF!>\"\",D191&\"_\"&#REF!&\"_\"&B191,\"\")","v":{"$error":"#REF!"}},{"$f":"IF(#REF!=\"\",\"\",COUNTIF(#REF!,\">\"\"\"))","v":{"$error":"#REF!"}},null,{"$f":"IFERROR(VLOOKUP(C191,Hidden_Словник!$A$2:$C$81,3,FALSE),\"\")","v":""},null,null,null,null,null,null,null,null,null,null,null,null,null,null,null,null,null,null,null,null,""]
[{"$f":"IF(#REF!>\"\",D192&\"_\"&#REF!&\"_\"&B192,\"\")","v":{"$error":"#REF!"}},{"$f":"IF(#REF!=\"\",\"\",COUNTIF(#REF!,\">\"\"\"))","v":{"$error":"#REF!"}},null,{"$f":"IFERROR(VLOOKUP(C192,Hidden_Словник!$A$2:$C$81,3,FALSE),\"\")","v":""},null,null,null,null,null,null,null,null,null,null,null,null,null,null,null,null,null,null,null,null,""]
[{"$f":"IF(#REF!>\"\",D193&\"_\"&#REF!&\"_\"&B193,\"\")","v":{"$error":"#REF!"}},{"$f":"IF(#REF!=\"\",\"\",COUNTIF(#REF!,\">\"\"\"))","v":{"$error":"#REF!"}},null,{"$f":"IFERROR(VLOOKUP(C193,Hidden_Словник!$A$2:$C$81,3,FALSE),\"\")","v":""},null,null,null,null,null,null,null,null,null,null,null,null,null,null,null,null,null,null,null,null,""]
[{"$f":"IF(#REF!>\"\",D194&\"_\"&#REF!&\"_\"&B194,\"\")","v":{"$error":"#REF!"}},{"$f":"IF(#REF!=\"\",\"\",COUNTIF(#REF!,\">\"\"\"))","v":{"$error":"#REF!"}},null,{"$f":"IFERROR(VLOOKUP(C194,Hidden_Словник!$A$2:$C$81,3,FALSE),\"\")","v":""},null,null,null,null,null,null,null,null,null,null,null,null,null,null,null,null,null,null,null,null,""]
[{"$f":"IF(#REF!>\"\",D195&\"_\"&#REF!&\"_\"&B195,\"\")","v":{"$error":"#REF!"}},{"$f":"IF(#REF!=\"\",\"\",COUNTIF(#REF!,\">\"\"\"))","v":{"$error":"#REF!"}},null,{"$f":"IFERROR(VLOOKUP(C195,Hidden_Словник!$A$2:$C$81,3,FALSE),\"\")","v":""},null,null,null,null,null,null,null,null,null,null,null,null,null,null,null,null,null,null,null,null,""]
[{"$f":"IF(#REF!>\"\",D196&\"_\"&#REF!&\"_\"&B196,\"\")","v":{"$error":"#REF!"}},{"$f":"IF(#REF!=\"\",\"\",COUNTIF(#REF!,\">\"\"\"))","v":{"$error":"#REF!"}},null,{"$f":"IFERROR(VLOOKUP(C196,Hidden_Словник!$A$2:$C$81,3,FALSE),\"\")","v":""},null,null,null,null,null,null,null,null,null,null,null,null,null,null,null,null,null,null,null,null,""]
[{"$f":"IF(#REF!>\"\",D197&\"_\"&#REF!&\"_\"&B197,\"\")","v":{"$error":"#REF!"}},{"$f":"IF(#REF!=\"\",\"\",COUNTIF(#REF!,\">\"\"\"))","v":{"$error":"#REF!"}},null,{"$f":"IFERROR(VLOOKUP(C197,Hidden_Словник!$A$2:$C$81,3,FALSE),\"\")","v":""},null,null,null,null,null,null,null,null,null,null,null,null,null,null,null,null,null,null,null,null,""]
[{"$f":"IF(#REF!>\"\",D198&\"_\"&#REF!&\"_\"&B198,\"\")","v":{"$error":"#REF!"}},{"$f":"IF(#REF!=\"\",\"\",COUNTIF(#REF!,\">\"\"\"))","v":{"$error":"#REF!"}},null,{"$f":"IFERROR(VLOOKUP(C198,Hidden_Словник!$A$2:$C$81,3,FALSE),\"\")","v":""},null,null,null,null,null,null,null,null,null,null,null,null,null,null,null,null,null,null,null,null,""]
[{"$f":"IF(#REF!>\"\",D199&\"_\"&#REF!&\"_\"&B199,\"\")","v":{"$error":"#REF!"}},{"$f":"IF(#REF!=\"\",\"\",COUNTIF(#REF!,\">\"\"\"))","v":{"$error":"#REF!"}},null,{"$f":"IFERROR(VLOOKUP(C199,Hidden_Словник!$A$2:$C$81,3,FALSE),\"\")","v":""},null,null,null,null,null,null,null,null,null,null,null,null,null,null,null,null,null,null,null,null,""]
[{"$f":"IF(#REF!>\"\",D200&\"_\"&#REF!&\"_\"&B200,\"\")","v":{"$error":"#REF!"}},{"$f":"IF(#REF!=\"\",\"\",COUNTIF(#REF!,\">\"\"\"))","v":{"$error":"#REF!"}},null,{"$f":"IFERROR(VLOOKUP(C200,Hidden_Словник!$A$2:$C$81,3,FALSE),\"\")","v":""},null,null,null,null,null,null,null,null,null,null,null,null,null,null,null,null,null,null,null,null,""]
[{"$f":"IF(#REF!>\"\",D201&\"_\"&#REF!&\"_\"&B201,\"\")","v":{"$error":"#REF!"}},{"$f":"IF(#REF!=\"\",\"\",COUNTIF(#REF!,\">\"\"\"))","v":{"$error":"#REF!"}},null,{"$f":"IFERROR(VLOOKUP(C201,Hidden_Словник!$A$2:$C$81,3,FALSE),\"\")","v":""},null,null,null,null,null,null,null,null,null,null,null,null,null,null,null,null,null,null,null,null,""]
[{"$f":"IF(#REF!>\"\",D202&\"_\"&#REF!&\"_\"&B202,\"\")","v":{"$error":"#REF!"}},{"$f":"IF(#REF!=\"\",\"\",COUNTIF(#REF!,\">\"\"\"))","v":{"$error":"#REF!"}},null,{"$f":"IFERROR(VLOOKUP(C202,Hidden_Словник!$A$2:$C$81,3,FALSE),\"\")","v":""},null,null,null,null,null,null,null,null,null,null,null,null,null,null,null,null,null,null,null,null,""]
[{"$f":"IF(#REF!>\"\",D203&\"_\"&#REF!&\"_\"&B203,\"\")","v":{"$error":"#REF!"}},{"$f":"IF(#REF!=\"\",\"\",COUNTIF(#REF!,\">\"\"\"))","v":{"$error":"#REF!"}},null,{"$f":"IFERROR(VLOOKUP(C203,Hidden_Словник!$A$2:$C$81,3,FALSE),\"\")","v":""},null,null,null,null,null,null,null,null,null,null,null,null,null,null,null,null,null,null,null,null,""]
[{"$f":"IF(#REF!>\"\",D204&\"_\"&#REF!&\"_\"&B204,\"\")","v":{"$error":"#REF!"}},{"$f":"IF(#REF!=\"\",\"\",COUNTIF(#REF!,\">\"\"\"))","v":{"$error":"#REF!"}},null,{"$f":"IFERROR(VLOOKUP(C204,Hidden_Словник!$A$2:$C$81,3,FALSE),\"\")","v":""},null,null,null,null,null,null,null,null,null,null,null,null,null,null,null,null,null,null,null,null,""]
[{"$f":"IF(#REF!>\"\",D205&\"_\"&#REF!&\"_\"&B205,\"\")","v":{"$error":"#REF!"}},{"$f":"IF(#REF!=\"\",\"\",COUNTIF(#REF!,\">\"\"\"))","v":{"$error":"#REF!"}},null,{"$f":"IFERROR(VLOOKUP(C205,Hidden_Словник!$A$2:$C$81,3,FALSE),\"\")","v":""},null,null,null,null,null,null,null,null,null,null,null,null,null,null,null,null,null,null,null,null,""]
[{"$f":"IF(#REF!>\"\",D206&\"_\"&#REF!&\"_\"&B206,\"\")","v":{"$error":"#REF!"}},{"$f":"IF(#REF!=\"\",\"\",COUNTIF(#REF!,\">\"\"\"))","v":{"$error":"#REF!"}},null,{"$f":"IFERROR(VLOOKUP(C206,Hidden_Словник!$A$2:$C$81,3,FALSE),\"\")","v":""},null,null,null,null,null,null,null,null,null,null,null,null,null,null,null,null,null,null,null,null,""]
[{"$f":"IF(#REF!>\"\",D207&\"_\"&#REF!&\"_\"&B207,\"\")","v":{"$error":"#REF!"}},{"$f":"IF(#REF!=\"\",\"\",COUNTIF(#REF!,\">\"\"\"))","v":{"$error":"#REF!"}},null,{"$f":"IFERROR(VLOOKUP(C207,Hidden_Словник!$A$2:$C$81,3,FALSE),\"\")","v":""},null,null,null,null,null,null,null,null,null,null,null,null,null,null,null,null,null,null,null,null,{"$f":"IF(Z207+AA207>0,Z207+AA207,\"\")","v":""}]
[{"$f":"IF(#REF!>\"\",D208&\"_\"&#REF!&\"_\"&B208,\"\")","v":{"$error":"#REF!"}},{"$f":"IF(#REF!=\"\",\"\",COUNTIF(#REF!,\">\"\"\"))","v":{"$error":"#REF!"}},null,{"$f":"IFERROR(VLOOKUP(C208,Hidden_Словник!$A$2:$C$81,3,FALSE),\"\")","v":""},null,null,null,null,null,null,null,null,null,null,null,null,null,null,null,null,null,null,null,null,""]
[{"$f":"IF(#REF!>\"\",D209&\"_\"&#REF!&\"_\"&B209,\"\")","v":{"$error":"#REF!"}},{"$f":"IF(#REF!=\"\",\"\",COUNTIF(#REF!,\">\"\"\"))","v":{"$error":"#REF!"}},null,{"$f":"IFERROR(VLOOKUP(C209,Hidden_Словник!$A$2:$C$81,3,FALSE),\"\")","v":""},null,null,null,null,null,null,null,null,null,null,null,null,null,null,null,null,null,null,null,null,""]
[{"$f":"IF(#REF!>\"\",D210&\"_\"&#REF!&\"_\"&B210,\"\")","v":{"$error":"#REF!"}},{"$f":"IF(#REF!=\"\",\"\",COUNTIF(#REF!,\">\"\"\"))","v":{"$error":"#REF!"}},null,{"$f":"IFERROR(VLOOKUP(C210,Hidden_Словник!$A$2:$C$81,3,FALSE),\"\")","v":""},null,null,null,null,null,null,null,null,null,null,null,null,null,null,null,null,null,null,null,null,""]
[{"$f":"IF(#REF!>\"\",D211&\"_\"&#REF!&\"_\"&B211,\"\")","v":{"$error":"#REF!"}},{"$f":"IF(#REF!=\"\",\"\",COUNTIF(#REF!,\">\"\"\"))","v":{"$error":"#REF!"}},null,{"$f":"IFERROR(VLOOKUP(C211,Hidden_Словник!$A$2:$C$81,3,FALSE),\"\")","v":""},null,null,null,null,null,null,null,null,null,null,null,null,null,null,null,null,null,null,null,null,""]
[{"$f":"IF(#REF!>\"\",D212&\"_\"&#REF!&\"_\"&B212,\"\")","v":{"$error":"#REF!"}},{"$f":"IF(#REF!=\"\",\"\",COUNTIF(#REF!,\">\"\"\"))","v":{"$error":"#REF!"}},null,{"$f":"IFERROR(VLOOKUP(C212,Hidden_Словник!$A$2:$C$81,3,FALSE),\"\")","v":""},null,null,null,null,null,null,null,null,null,null,null,null,null,null,null,null,null,null,null,null,""]
[{"$f":"IF(#REF!>\"\",D213&\"_\"&#REF!&\"_\"&B213,\"\")","v":{"$error":"#REF!"}},{"$f":"IF(#REF!=\"\",\"\",COUNTIF(#REF!,\">\"\"\"))","v":{"$error":"#REF!"}},null,{"$f":"IFERROR(VLOOKUP(C213,Hidden_Словник!$A$2:$C$81,3,FALSE),\"\")","v":""},null,null,null,null,null,null,null,null,null,null,null,null,null,null,null,null,null,null,null,null,""]
[{"$f":"IF(#REF!>\"\",D214&\"_\"&#REF!&\"_\"&B214,\"\")","v":{"$error":"#REF!"}},{"$f":"IF(#REF!=\"\",\"\",COUNTIF(#REF!,\">\"\"\"))","v":{"$error":"#REF!"}},null,{"$f":"IFERROR(VLOOKUP(C214,Hidden_Словник!$A$2:$C$81,3,FALSE),\"\")","v":""},null,null,null,null,null,null,null,null,null,null,null,null,null,null,null,null,null,null,null,null,""]
[{"$f":"IF(#REF!>\"\",D215&\"_\"&#REF!&\"_\"&B215,\"\")","v":{"$error":"#REF!"}},{"$f":"IF(#REF!=\"\",\"\",COUNTIF(#REF!,\">\"\"\"))","v":{"$error":"#REF!"}},null,{"$f":"IFERROR(VLOOKUP(C215,Hidden_Словник!$A$2:$C$81,3,FALSE),\"\")","v":""},null,null,null,null,null,null,null,null,null,null,null,null,null,null,null,null,null,null,null,null,""]
[{"$f":"IF(#REF!>\"\",D216&\"_\"&#REF!&\"_\"&B216,\"\")","v":{"$error":"#REF!"}},{"$f":"IF(#REF!=\"\",\"\",COUNTIF(#REF!,\">\"\"\"))","v":{"$error":"#REF!"}},null,{"$f":"IFERROR(VLOOKUP(C216,Hidden_Словник!$A$2:$C$81,3,FALSE),\"\")","v":""},null,null,null,null,null,null,null,null,null,null,null,null,null,null,null,null,null,null,null,null,""]
[{"$f":"IF(#REF!>\"\",D217&\"_\"&#REF!&\"_\"&B217,\"\")","v":{"$error":"#REF!"}},{"$f":"IF(#REF!=\"\",\"\",COUNTIF(#REF!,\">\"\"\"))","v":{"$error":"#REF!"}},null,{"$f":"IFERROR(VLOOKUP(C217,Hidden_Словник!$A$2:$C$81,3,FALSE),\"\")","v":""},null,null,null,null,null,null,null,null,null,null,null,null,null,null,null,null,null,null,null,null,""]
[{"$f":"IF(#REF!>\"\",D218&\"_\"&#REF!&\"_\"&B218,\"\")","v":{"$error":"#REF!"}},{"$f":"IF(#REF!=\"\",\"\",COUNTIF(#REF!,\">\"\"\"))","v":{"$error":"#REF!"}},null,{"$f":"IFERROR(VLOOKUP(C218,Hidden_Словник!$A$2:$C$81,3,FALSE),\"\")","v":""},null,null,null,null,null,null,null,null,null,null,null,null,null,null,null,null,null,null,null,null,""]
[{"$f":"IF(#REF!>\"\",D219&\"_\"&#REF!&\"_\"&B219,\"\")","v":{"$error":"#REF!"}},{"$f":"IF(#REF!=\"\",\"\",COUNTIF(#REF!,\">\"\"\"))","v":{"$error":"#REF!"}},null,{"$f":"IFERROR(VLOOKUP(C219,Hidden_Словник!$A$2:$C$81,3,FALSE),\"\")","v":""},null,null,null,null,null,null,null,null,null,null,null,null,null,null,null,null,null,null,null,null,""]
[{"$f":"IF(#REF!>\"\",D220&\"_\"&#REF!&\"_\"&B220,\"\")","v":{"$error":"#REF!"}},{"$f":"IF(#REF!=\"\",\"\",COUNTIF(#REF!,\">\"\"\"))","v":{"$error":"#REF!"}},null,{"$f":"IFERROR(VLOOKUP(C220,Hidden_Словник!$A$2:$C$81,3,FALSE),\"\")","v":""},null,null,null,null,null,null,null,null,null,null,null,null,null,null,null,null,null,null,null,null,""]
[{"$f":"IF(#REF!>\"\",D221&\"_\"&#REF!&\"_\"&B221,\"\")","v":{"$error":"#REF!"}},{"$f":"IF(#REF!=\"\",\"\",COUNTIF(#REF!,\">\"\"\"))","v":{"$error":"#REF!"}},null,{"$f":"IFERROR(VLOOKUP(C221,Hidden_Словник!$A$2:$C$81,3,FALSE),\"\")","v":""},null,null,null,null,null,null,null,null,null,null,null,null,null,null,null,null,null,null,null,null,""]
[{"$f":"IF(#REF!>\"\",D222&\"_\"&#REF!&\"_\"&B222,\"\")","v":{"$error":"#REF!"}},{"$f":"IF(#REF!=\"\",\"\",COUNTIF(#REF!,\">\"\"\"))","v":{"$error":"#REF!"}},null,{"$f":"IFERROR(VLOOKUP(C222,Hidden_Словник!$A$2:$C$81,3,FALSE),\"\")","v":""},null,null,null,null,null,null,null,null,null,null,null,null,null,null,null,null,null,null,null,null,""]
[{"$f":"IF(#REF!>\"\",D223&\"_\"&#REF!&\"_\"&B223,\"\")","v":{"$error":"#REF!"}},{"$f":"IF(#REF!=\"\",\"\",COUNTIF(#REF!,\">\"\"\"))","v":{"$error":"#REF!"}},null,{"$f":"IFERROR(VLOOKUP(C223,Hidden_Словник!$A$2:$C$81,3,FALSE),\"\")","v":""},null,null,null,null,null,null,null,null,null,null,null,null,null,null,null,null,null,null,null,null,""]
[{"$f":"IF(#REF!>\"\",D224&\"_\"&#REF!&\"_\"&B224,\"\")","v":{"$error":"#REF!"}},{"$f":"IF(#REF!=\"\",\"\",COUNTIF(#REF!,\">\"\"\"))","v":{"$error":"#REF!"}},null,{"$f":"IFERROR(VLOOKUP(C224,Hidden_Словник!$A$2:$C$81,3,FALSE),\"\")","v":""},null,null,null,null,null,null,null,null,null,null,null,null,null,null,null,null,null,null,null,null,""]
[{"$f":"IF(#REF!>\"\",D225&\"_\"&#REF!&\"_\"&B225,\"\")","v":{"$error":"#REF!"}},{"$f":"IF(#REF!=\"\",\"\",COUNTIF(#REF!,\">\"\"\"))","v":{"$error":"#REF!"}},null,{"$f":"IFERROR(VLOOKUP(C225,Hidden_Словник!$A$2:$C$81,3,FALSE),\"\")","v":""},null,null,null,null,null,null,null,null,null,null,null,null,null,null,null,null,null,null,null,null,""]
[{"$f":"IF(#REF!>\"\",D226&\"_\"&#REF!&\"_\"&B226,\"\")","v":{"$error":"#REF!"}},{"$f":"IF(#REF!=\"\",\"\",COUNTIF(#REF!,\">\"\"\"))","v":{"$error":"#REF!"}},null,{"$f":"IFERROR(VLOOKUP(C226,Hidden_Словник!$A$2:$C$81,3,FALSE),\"\")","v":""},null,null,null,null,null,null,null,null,null,null,null,null,null,null,null,null,null,null,null,null,""]
[{"$f":"IF(#REF!>\"\",D227&\"_\"&#REF!&\"_\"&B227,\"\")","v":{"$error":"#REF!"}},{"$f":"IF(#REF!=\"\",\"\",COUNTIF(#REF!,\">\"\"\"))","v":{"$error":"#REF!"}},null,{"$f":"IFERROR(VLOOKUP(C227,Hidden_Словник!$A$2:$C$81,3,FALSE),\"\")","v":""},null,null,null,null,null,null,null,null,null,null,null,null,null,null,null,null,null,null,null,null,""]
[{"$f":"IF(#REF!>\"\",D228&\"_\"&#REF!&\"_\"&B228,\"\")","v":{"$error":"#REF!"}},{"$f":"IF(#REF!=\"\",\"\",COUNTIF(#REF!,\">\"\"\"))","v":{"$error":"#REF!"}},null,{"$f":"IFERROR(VLOOKUP(C228,Hidden_Словник!$A$2:$C$81,3,FALSE),\"\")","v":""},null,null,null,null,null,null,null,null,null,null,null,null,null,null,null,null,null,null,null,null,""]
[{"$f":"IF(#REF!>\"\",D229&\"_\"&#REF!&\"_\"&B229,\"\")","v":{"$error":"#REF!"}},{"$f":"IF(#REF!=\"\",\"\",COUNTIF(#REF!,\">\"\"\"))","v":{"$error":"#REF!"}},null,{"$f":"IFERROR(VLOOKUP(C229,Hidden_Словник!$A$2:$C$81,3,FALSE),\"\")","v":""},null,null,null,null,null,null,null,null,null,null,null,null,null,null,null,null,null,null,null,null,""]
[{"$f":"IF(#REF!>\"\",D230&\"_\"&#REF!&\"_\"&B230,\"\")","v":{"$error":"#REF!"}},{"$f":"IF(#REF!=\"\",\"\",COUNTIF(#REF!,\">\"\"\"))","v":{"$error":"#REF!"}},null,{"$f":"IFERROR(VLOOKUP(C230,Hidden_Словник!$A$2:$C$81,3,FALSE),\"\")","v":""},null,null,null,null,null,null,null,null,null,null,null,null,null,null,null,null,null,null,null,null,""]
[{"$f":"IF(#REF!>\"\",D231&\"_\"&#REF!&\"_\"&B231,\"\")","v":{"$error":"#REF!"}},{"$f":"IF(#REF!=\"\",\"\",COUNTIF(#REF!,\">\"\"\"))","v":{"$error":"#REF!"}},null,{"$f":"IFERROR(VLOOKUP(C231,Hidden_Словник!$A$2:$C$81,3,FALSE),\"\")","v":""},null,null,null,null,null,null,null,null,null,null,null,null,null,null,null,null,null,null,null,null,""]
[{"$f":"IF(#REF!>\"\",D232&\"_\"&#REF!&\"_\"&B232,\"\")","v":{"$error":"#REF!"}},{"$f":"IF(#REF!=\"\",\"\",COUNTIF(#REF!,\">\"\"\"))","v":{"$error":"#REF!"}},null,{"$f":"IFERROR(VLOOKUP(C232,Hidden_Словник!$A$2:$C$81,3,FALSE),\"\")","v":""},null,null,null,null,null,null,null,null,null,null,null,null,null,null,null,null,null,null,null,null,""]
[{"$f":"IF(#REF!>\"\",D233&\"_\"&#REF!&\"_\"&B233,\"\")","v":{"$error":"#REF!"}},{"$f":"IF(#REF!=\"\",\"\",COUNTIF(#REF!,\">\"\"\"))","v":{"$error":"#REF!"}},null,{"$f":"IFERROR(VLOOKUP(C233,Hidden_Словник!$A$2:$C$81,3,FALSE),\"\")","v":""},null,null,null,null,null,null,null,null,null,null,null,null,null,null,null,null,null,null,null,null,""]
[{"$f":"IF(#REF!>\"\",D234&\"_\"&#REF!&\"_\"&B234,\"\")","v":{"$error":"#REF!"}},{"$f":"IF(#REF!=\"\",\"\",COUNTIF(#REF!,\">\"\"\"))","v":{"$error":"#REF!"}},null,{"$f":"IFERROR(VLOOKUP(C234,Hidden_Словник!$A$2:$C$81,3,FALSE),\"\")","v":""},null,null,null,null,null,null,null,null,null,null,null,null,null,null,null,null,null,null,null,null,""]
[{"$f":"IF(#REF!>\"\",D235&\"_\"&#REF!&\"_\"&B235,\"\")","v":{"$error":"#REF!"}},{"$f":"IF(#REF!=\"\",\"\",COUNTIF(#REF!,\">\"\"\"))","v":{"$error":"#REF!"}},null,{"$f":"IFERROR(VLOOKUP(C235,Hidden_Словник!$A$2:$C$81,3,FALSE),\"\")","v":""},null,null,null,null,null,null,null,null,null,null,null,null,null,null,null,null,null,null,null,null,""]
[{"$f":"IF(#REF!>\"\",D236&\"_\"&#REF!&\"_\"&B236,\"\")","v":{"$error":"#REF!"}},{"$f":"IF(#REF!=\"\",\"\",COUNTIF(#REF!,\">\"\"\"))","v":{"$error":"#REF!"}},null,{"$f":"IFERROR(VLOOKUP(C236,Hidden_Словник!$A$2:$C$81,3,FALSE),\"\")","v":""},null,null,null,null,null,null,null,null,null,null,null,null,null,null,null,null,null,null,null,null,""]
[{"$f":"IF(#REF!>\"\",D237&\"_\"&#REF!&\"_\"&B237,\"\")","v":{"$error":"#REF!"}},{"$f":"IF(#REF!=\"\",\"\",COUNTIF(#REF!,\">\"\"\"))","v":{"$error":"#REF!"}},null,{"$f":"IFERROR(VLOOKUP(C237,Hidden_Словник!$A$2:$C$81,3,FALSE),\"\")","v":""},null,null,null,null,null,null,null,null,null,null,null,null,null,null,null,null,null,null,null,null,""]
[{"$f":"IF(#REF!>\"\",D238&\"_\"&#REF!&\"_\"&B238,\"\")","v":{"$error":"#REF!"}},{"$f":"IF(#REF!=\"\",\"\",COUNTIF(#REF!,\">\"\"\"))","v":{"$error":"#REF!"}},null,{"$f":"IFERROR(VLOOKUP(C238,Hidden_Словник!$A$2:$C$81,3,FALSE),\"\")","v":""},null,null,null,null,null,null,null,null,null,null,null,null,null,null,null,null,null,null,null,null,""]
[{"$f":"IF(#REF!>\"\",D239&\"_\"&#REF!&\"_\"&B239,\"\")","v":{"$error":"#REF!"}},{"$f":"IF(#REF!=\"\",\"\",COUNTIF(#REF!,\">\"\"\"))","v":{"$error":"#REF!"}},null,{"$f":"IFERROR(VLOOKUP(C239,Hidden_Словник!$A$2:$C$81,3,FALSE),\"\")","v":""},null,null,null,null,null,null,null,null,null,null,null,null,null,null,null,null,null,null,null,null,""]
[{"$f":"IF(#REF!>\"\",D240&\"_\"&#REF!&\"_\"&B240,\"\")","v":{"$error":"#REF!"}},{"$f":"IF(#REF!=\"\",\"\",COUNTIF(#REF!,\">\"\"\"))","v":{"$error":"#REF!"}},null,{"$f":"IFERROR(VLOOKUP(C240,Hidden_Словник!$A$2:$C$81,3,FALSE),\"\")","v":""},null,null,null,null,null,null,null,null,null,null,null,null,null,null,null,null,null,null,null,null,""]
[{"$f":"IF(#REF!>\"\",D241&\"_\"&#REF!&\"_\"&B241,\"\")","v":{"$error":"#REF!"}},{"$f":"IF(#REF!=\"\",\"\",COUNTIF(#REF!,\">\"\"\"))","v":{"$error":"#REF!"}},null,{"$f":"IFERROR(VLOOKUP(C241,Hidden_Словник!$A$2:$C$81,3,FALSE),\"\")","v":""},null,null,null,null,null,null,null,null,null,null,null,null,null,null,null,null,null,null,null,null,""]
[{"$f":"IF(#REF!>\"\",D242&\"_\"&#REF!&\"_\"&B242,\"\")","v":{"$error":"#REF!"}},{"$f":"IF(#REF!=\"\",\"\",COUNTIF(#REF!,\">\"\"\"))","v":{"$error":"#REF!"}},null,{"$f":"IFERROR(VLOOKUP(C242,Hidden_Словник!$A$2:$C$81,3,FALSE),\"\")","v":""},null,null,null,null,null,null,null,null,null,null,null,null,null,null,null,null,null,null,null,null,""]
[{"$f":"IF(#REF!>\"\",D243&\"_\"&#REF!&\"_\"&B243,\"\")","v":{"$error":"#REF!"}},{"$f":"IF(#REF!=\"\",\"\",COUNTIF(#REF!,\">\"\"\"))","v":{"$error":"#REF!"}},null,{"$f":"IFERROR(VLOOKUP(C243,Hidden_Словник!$A$2:$C$81,3,FALSE),\"\")","v":""},null,null,null,null,null,null,null,null,null,null,null,null,null,null,null,null,null,null,null,null,""]
[{"$f":"IF(#REF!>\"\",D244&\"_\"&#REF!&\"_\"&B244,\"\")","v":{"$error":"#REF!"}},{"$f":"IF(#REF!=\"\",\"\",COUNTIF(#REF!,\">\"\"\"))","v":{"$error":"#REF!"}},null,{"$f":"IFERROR(VLOOKUP(C244,Hidden_Словник!$A$2:$C$81,3,FALSE),\"\")","v":""},null,null,null,null,null,null,null,null,null,null,null,null,null,null,null,null,null,null,null,null,""]
[{"$f":"IF(#REF!>\"\",D245&\"_\"&#REF!&\"_\"&B245,\"\")","v":{"$error":"#REF!"}},{"$f":"IF(#REF!=\"\",\"\",COUNTIF(#REF!,\">\"\"\"))","v":{"$error":"#REF!"}},null,{"$f":"IFERROR(VLOOKUP(C245,Hidden_Словник!$A$2:$C$81,3,FALSE),\"\")","v":""},null,null,null,null,null,null,null,null,null,null,null,null,null,null,null,null,null,null,null,null,""]
[{"$f":"IF(#REF!>\"\",D246&\"_\"&#REF!&\"_\"&B246,\"\")","v":{"$error":"#REF!"}},{"$f":"IF(#REF!=\"\",\"\",COUNTIF(#REF!,\">\"\"\"))","v":{"$error":"#REF!"}},null,{"$f":"IFERROR(VLOOKUP(C246,Hidden_Словник!$A$2:$C$81,3,FALSE),\"\")","v":""},null,null,null,null,null,null,null,null,null,null,null,null,null,null,null,null,null,null,null,null,""]
[{"$f":"IF(#REF!>\"\",D247&\"_\"&#REF!&\"_\"&B247,\"\")","v":{"$error":"#REF!"}},{"$f":"IF(#REF!=\"\",\"\",COUNTIF(#REF!,\">\"\"\"))","v":{"$error":"#REF!"}},null,{"$f":"IFERROR(VLOOKUP(C247,Hidden_Словник!$A$2:$C$81,3,FALSE),\"\")","v":""},null,null,null,null,null,null,null,null,null,null,null,null,null,null,null,null,null,null,null,null,""]
[{"$f":"IF(#REF!>\"\",D248&\"_\"&#REF!&\"_\"&B248,\"\")","v":{"$error":"#REF!"}},{"$f":"IF(#REF!=\"\",\"\",COUNTIF(#REF!,\">\"\"\"))","v":{"$error":"#REF!"}},null,{"$f":"IFERROR(VLOOKUP(C248,Hidden_Словник!$A$2:$C$81,3,FALSE),\"\")","v":""},null,null,null,null,null,null,null,null,null,null,null,null,null,null,null,null,null,null,null,null,""]
[{"$f":"IF(#REF!>\"\",D249&\"_\"&#REF!&\"_\"&B249,\"\")","v":{"$error":"#REF!"}},{"$f":"IF(#REF!=\"\",\"\",COUNTIF(#REF!,\">\"\"\"))","v":{"$error":"#REF!"}},null,{"$f":"IFERROR(VLOOKUP(C249,Hidden_Словник!$A$2:$C$81,3,FALSE),\"\")","v":""},null,null,null,null,null,null,null,null,null,null,null,null,null,null,null,null,null,null,null,null,""]
[{"$f":"IF(#REF!>\"\",D250&\"_\"&#REF!&\"_\"&B250,\"\")","v":{"$error":"#REF!"}},{"$f":"IF(#REF!=\"\",\"\",COUNTIF(#REF!,\">\"\"\"))","v":{"$error":"#REF!"}},null,{"$f":"IFERROR(VLOOKUP(C250,Hidden_Словник!$A$2:$C$81,3,FALSE),\"\")","v":""},null,null,null,null,null,null,null,null,null,null,null,null,null,null,null,null,null,null,null,null,""]
[{"$f":"IF(#REF!>\"\",D251&\"_\"&#REF!&\"_\"&B251,\"\")","v":{"$error":"#REF!"}},{"$f":"IF(#REF!=\"\",\"\",COUNTIF(#REF!,\">\"\"\"))","v":{"$error":"#REF!"}},null,{"$f":"IFERROR(VLOOKUP(C251,Hidden_Словник!$A$2:$C$81,3,FALSE),\"\")","v":""},null,null,null,null,null,null,null,null,null,null,null,null,null,null,null,null,null,null,null,null,""]
[{"$f":"IF(#REF!>\"\",D252&\"_\"&#REF!&\"_\"&B252,\"\")","v":{"$error":"#REF!"}},{"$f":"IF(#REF!=\"\",\"\",COUNTIF(#REF!,\">\"\"\"))","v":{"$error":"#REF!"}},null,{"$f":"IFERROR(VLOOKUP(C252,Hidden_Словник!$A$2:$C$81,3,FALSE),\"\")","v":""},null,null,null,null,null,null,null,null,null,null,null,null,null,null,null,null,null,null,null,null,""]
[{"$f":"IF(#REF!>\"\",D253&\"_\"&#REF!&\"_\"&B253,\"\")","v":{"$error":"#REF!"}},{"$f":"IF(#REF!=\"\",\"\",COUNTIF(#REF!,\">\"\"\"))","v":{"$error":"#REF!"}},null,{"$f":"IFERROR(VLOOKUP(C253,Hidden_Словник!$A$2:$C$81,3,FALSE),\"\")","v":""},null,null,null,null,null,null,null,null,null,null,null,null,null,null,null,null,null,null,null,null,""]
[{"$f":"IF(#REF!>\"\",D254&\"_\"&#REF!&\"_\"&B254,\"\")","v":{"$error":"#REF!"}},{"$f":"IF(#REF!=\"\",\"\",COUNTIF(#REF!,\">\"\"\"))","v":{"$error":"#REF!"}},null,{"$f":"IFERROR(VLOOKUP(C254,Hidden_Словник!$A$2:$C$81,3,FALSE),\"\")","v":""},null,null,null,null,null,null,null,null,null,null,null,null,null,null,null,null,null,null,null,null,""]
[{"$f":"IF(#REF!>\"\",D255&\"_\"&#REF!&\"_\"&B255,\"\")","v":{"$error":"#REF!"}},{"$f":"IF(#REF!=\"\",\"\",COUNTIF(#REF!,\">\"\"\"))","v":{"$error":"#REF!"}},null,{"$f":"IFERROR(VLOOKUP(C255,Hidden_Словник!$A$2:$C$81,3,FALSE),\"\")","v":""},null,null,null,null,null,null,null,null,null,null,null,null,null,null,null,null,null,null,null,null,""]
[{"$f":"IF(#REF!>\"\",D256&\"_\"&#REF!&\"_\"&B256,\"\")","v":{"$error":"#REF!"}},{"$f":"IF(#REF!=\"\",\"\",COUNTIF(#REF!,\">\"\"\"))","v":{"$error":"#REF!"}},null,{"$f":"IFERROR(VLOOKUP(C256,Hidden_Словник!$A$2:$C$81,3,FALSE),\"\")","v":""},null,null,null,null,null,null,null,null,null,null,null,null,null,null,null,null,null,null,null,null,""]
[{"$f":"IF(#REF!>\"\",D257&\"_\"&#REF!&\"_\"&B257,\"\")","v":{"$error":"#REF!"}},{"$f":"IF(#REF!=\"\",\"\",COUNTIF(#REF!,\">\"\"\"))","v":{"$error":"#REF!"}},null,{"$f":"IFERROR(VLOOKUP(C257,Hidden_Словник!$A$2:$C$81,3,FALSE),\"\")","v":""},null,null,null,null,null,null,null,null,null,null,null,null,null,null,null,null,null,null,null,null,""]
[{"$f":"IF(#REF!>\"\",D258&\"_\"&#REF!&\"_\"&B258,\"\")","v":{"$error":"#REF!"}},{"$f":"IF(#REF!=\"\",\"\",COUNTIF(#REF!,\">\"\"\"))","v":{"$error":"#REF!"}},null,{"$f":"IFERROR(VLOOKUP(C258,Hidden_Словник!$A$2:$C$81,3,FALSE),\"\")","v":""},null,null,null,null,null,null,null,null,null,null,null,null,null,null,null,null,null,null,null,null,""]
[{"$f":"IF(#REF!>\"\",D259&\"_\"&#REF!&\"_\"&B259,\"\")","v":{"$error":"#REF!"}},{"$f":"IF(#REF!=\"\",\"\",COUNTIF(#REF!,\">\"\"\"))","v":{"$error":"#REF!"}},null,{"$f":"IFERROR(VLOOKUP(C259,Hidden_Словник!$A$2:$C$81,3,FALSE),\"\")","v":""},null,null,null,null,null,null,null,null,null,null,null,null,null,null,null,null,null,null,null,null,""]
[{"$f":"IF(#REF!>\"\",D260&\"_\"&#REF!&\"_\"&B260,\"\")","v":{"$error":"#REF!"}},{"$f":"IF(#REF!=\"\",\"\",COUNTIF(#REF!,\">\"\"\"))","v":{"$error":"#REF!"}},null,{"$f":"IFERROR(VLOOKUP(C260,Hidden_Словник!$A$2:$C$81,3,FALSE),\"\")","v":""},null,null,null,null,null,null,null,null,null,null,null,null,null,null,null,null,null,null,null,null,""]
[{"$f":"IF(#REF!>\"\",D261&\"_\"&#REF!&\"_\"&B261,\"\")","v":{"$error":"#REF!"}},{"$f":"IF(#REF!=\"\",\"\",COUNTIF(#REF!,\">\"\"\"))","v":{"$error":"#REF!"}},null,{"$f":"IFERROR(VLOOKUP(C261,Hidden_Словник!$A$2:$C$81,3,FALSE),\"\")","v":""},null,null,null,null,null,null,null,null,null,null,null,null,null,null,null,null,null,null,null,null,""]
[{"$f":"IF(#REF!>\"\",D262&\"_\"&#REF!&\"_\"&B262,\"\")","v":{"$error":"#REF!"}},{"$f":"IF(#REF!=\"\",\"\",COUNTIF(#REF!,\">\"\"\"))","v":{"$error":"#REF!"}},null,{"$f":"IFERROR(VLOOKUP(C262,Hidden_Словник!$A$2:$C$81,3,FALSE),\"\")","v":""},null,null,null,null,null,null,null,null,null,null,null,null,null,null,null,null,null,null,null,null,""]
[{"$f":"IF(#REF!>\"\",D263&\"_\"&#REF!&\"_\"&B263,\"\")","v":{"$error":"#REF!"}},{"$f":"IF(#REF!=\"\",\"\",COUNTIF(#REF!,\">\"\"\"))","v":{"$error":"#REF!"}},null,{"$f":"IFERROR(VLOOKUP(C263,Hidden_Словник!$A$2:$C$81,3,FALSE),\"\")","v":""},null,null,null,null,null,null,null,null,null,null,null,null,null,null,null,null,null,null,null,null,""]
[{"$f":"IF(#REF!>\"\",D264&\"_\"&#REF!&\"_\"&B264,\"\")","v":{"$error":"#REF!"}},{"$f":"IF(#REF!=\"\",\"\",COUNTIF(#REF!,\">\"\"\"))","v":{"$error":"#REF!"}},null,{"$f":"IFERROR(VLOOKUP(C264,Hidden_Словник!$A$2:$C$81,3,FALSE),\"\")","v":""},null,null,null,null,null,null,null,null,null,null,null,null,null,null,null,null,null,null,null,null,""]
[{"$f":"IF(#REF!>\"\",D265&\"_\"&#REF!&\"_\"&B265,\"\")","v":{"$error":"#REF!"}},{"$f":"IF(#REF!=\"\",\"\",COUNTIF(#REF!,\">\"\"\"))","v":{"$error":"#REF!"}},null,{"$f":"IFERROR(VLOOKUP(C265,Hidden_Словник!$A$2:$C$81,3,FALSE),\"\")","v":""},null,null,null,null,null,null,null,null,null,null,null,null,null,null,null,null,null,null,null,null,""]
[{"$f":"IF(#REF!>\"\",D266&\"_\"&#REF!&\"_\"&B266,\"\")","v":{"$error":"#REF!"}},{"$f":"IF(#REF!=\"\",\"\",COUNTIF(#REF!,\">\"\"\"))","v":{"$error":"#REF!"}},null,{"$f":"IFERROR(VLOOKUP(C266,Hidden_Словник!$A$2:$C$81,3,FALSE),\"\")","v":""},null,null,null,null,null,null,null,null,null,null,null,null,null,null,null,null,null,null,null,null,""]
[{"$f":"IF(#REF!>\"\",D267&\"_\"&#REF!&\"_\"&B267,\"\")","v":{"$error":"#REF!"}},{"$f":"IF(#REF!=\"\",\"\",COUNTIF(#REF!,\">\"\"\"))","v":{"$error":"#REF!"}},null,{"$f":"IFERROR(VLOOKUP(C267,Hidden_Словник!$A$2:$C$81,3,FALSE),\"\")","v":""},null,null,null,null,null,null,null,null,null,null,null,null,null,null,null,null,null,null,null,null,""]
[{"$f":"IF(#REF!>\"\",D268&\"_\"&#REF!&\"_\"&B268,\"\")","v":{"$error":"#REF!"}},{"$f":"IF(#REF!=\"\",\"\",COUNTIF(#REF!,\">\"\"\"))","v":{"$error":"#REF!"}},null,{"$f":"IFERROR(VLOOKUP(C268,Hidden_Словник!$A$2:$C$81,3,FALSE),\"\")","v":""},null,null,null,null,null,null,null,null,null,null,null,null,null,null,null,null,null,null,null,null,""]
[{"$f":"IF(#REF!>\"\",D269&\"_\"&#REF!&\"_\"&B269,\"\")","v":{"$error":"#REF!"}},{"$f":"IF(#REF!=\"\",\"\",COUNTIF(#REF!,\">\"\"\"))","v":{"$error":"#REF!"}},null,{"$f":"IFERROR(VLOOKUP(C269,Hidden_Словник!$A$2:$C$81,3,FALSE),\"\")","v":""},null,null,null,null,null,null,null,null,null,null,null,null,null,null,null,null,null,null,null,null,""]
[{"$f":"IF(#REF!>\"\",D270&\"_\"&#REF!&\"_\"&B270,\"\")","v":{"$error":"#REF!"}},{"$f":"IF(#REF!=\"\",\"\",COUNTIF(#REF!,\">\"\"\"))","v":{"$error":"#REF!"}},null,{"$f":"IFERROR(VLOOKUP(C270,Hidden_Словник!$A$2:$C$81,3,FALSE),\"\")","v":""},null,null,null,null,null,null,null,null,null,null,null,null,null,null,null,null,null,null,null,null,""]
[{"$f":"IF(#REF!>\"\",D271&\"_\"&#REF!&\"_\"&B271,\"\")","v":{"$error":"#REF!"}},{"$f":"IF(#REF!=\"\",\"\",COUNTIF(#REF!,\">\"\"\"))","v":{"$error":"#REF!"}},null,{"$f":"IFERROR(VLOOKUP(C271,Hidden_Словник!$A$2:$C$81,3,FALSE),\"\")","v":""},null,null,null,null,null,null,null,null,null,null,null,null,null,null,null,null,null,null,null,null,{"$f":"IF(Z271+AA271>0,Z271+AA271,\"\")","v":""}]
[{"$f":"IF(#REF!>\"\",D272&\"_\"&#REF!&\"_\"&B272,\"\")","v":{"$error":"#REF!"}},{"$f":"IF(#REF!=\"\",\"\",COUNTIF(#REF!,\">\"\"\"))","v":{"$error":"#REF!"}},null,{"$f":"IFERROR(VLOOKUP(C272,Hidden_Словник!$A$2:$C$81,3,FALSE),\"\")","v":""},null,null,null,null,null,null,null,null,null,null,null,null,null,null,null,null,null,null,null,null,""]
[{"$f":"IF(#REF!>\"\",D273&\"_\"&#REF!&\"_\"&B273,\"\")","v":{"$error":"#REF!"}},{"$f":"IF(#REF!=\"\",\"\",COUNTIF(#REF!,\">\"\"\"))","v":{"$error":"#REF!"}},null,{"$f":"IFERROR(VLOOKUP(C273,Hidden_Словник!$A$2:$C$81,3,FALSE),\"\")","v":""},null,null,null,null,null,null,null,null,null,null,null,null,null,null,null,null,null,null,null,null,""]
[{"$f":"IF(#REF!>\"\",D274&\"_\"&#REF!&\"_\"&B274,\"\")","v":{"$error":"#REF!"}},{"$f":"IF(#REF!=\"\",\"\",COUNTIF(#REF!,\">\"\"\"))","v":{"$error":"#REF!"}},null,{"$f":"IFERROR(VLOOKUP(C274,Hidden_Словник!$A$2:$C$81,3,FALSE),\"\")","v":""},null,null,null,null,null,null,null,null,null,null,null,null,null,null,null,null,null,null,null,null,""]
[{"$f":"IF(#REF!>\"\",D275&\"_\"&#REF!&\"_\"&B275,\"\")","v":{"$error":"#REF!"}},{"$f":"IF(#REF!=\"\",\"\",COUNTIF(#REF!,\">\"\"\"))","v":{"$error":"#REF!"}},null,{"$f":"IFERROR(VLOOKUP(C275,Hidden_Словник!$A$2:$C$81,3,FALSE),\"\")","v":""},null,null,null,null,null,null,null,null,null,null,null,null,null,null,null,null,null,null,null,null,""]
[{"$f":"IF(#REF!>\"\",D276&\"_\"&#REF!&\"_\"&B276,\"\")","v":{"$error":"#REF!"}},{"$f":"IF(#REF!=\"\",\"\",COUNTIF(#REF!,\">\"\"\"))","v":{"$error":"#REF!"}},null,{"$f":"IFERROR(VLOOKUP(C276,Hidden_Словник!$A$2:$C$81,3,FALSE),\"\")","v":""},null,null,null,null,null,null,null,null,null,null,null,null,null,null,null,null,null,null,null,null,""]
[{"$f":"IF(#REF!>\"\",D277&\"_\"&#REF!&\"_\"&B277,\"\")","v":{"$error":"#REF!"}},{"$f":"IF(#REF!=\"\",\"\",COUNTIF(#REF!,\">\"\"\"))","v":{"$error":"#REF!"}},null,{"$f":"IFERROR(VLOOKUP(C277,Hidden_Словник!$A$2:$C$81,3,FALSE),\"\")","v":""},null,null,null,null,null,null,null,null,null,null,null,null,null,null,null,null,null,null,null,null,""]
[{"$f":"IF(#REF!>\"\",D278&\"_\"&#REF!&\"_\"&B278,\"\")","v":{"$error":"#REF!"}},{"$f":"IF(#REF!=\"\",\"\",COUNTIF(#REF!,\">\"\"\"))","v":{"$error":"#REF!"}},null,{"$f":"IFERROR(VLOOKUP(C278,Hidden_Словник!$A$2:$C$81,3,FALSE),\"\")","v":""},null,null,null,null,null,null,null,null,null,null,null,null,null,null,null,null,null,null,null,null,""]
[{"$f":"IF(#REF!>\"\",D279&\"_\"&#REF!&\"_\"&B279,\"\")","v":{"$error":"#REF!"}},{"$f":"IF(#REF!=\"\",\"\",COUNTIF(#REF!,\">\"\"\"))","v":{"$error":"#REF!"}},null,{"$f":"IFERROR(VLOOKUP(C279,Hidden_Словник!$A$2:$C$81,3,FALSE),\"\")","v":""},null,null,null,null,null,null,null,null,null,null,null,null,null,null,null,null,null,null,null,null,""]
[{"$f":"IF(#REF!>\"\",D280&\"_\"&#REF!&\"_\"&B280,\"\")","v":{"$error":"#REF!"}},{"$f":"IF(#REF!=\"\",\"\",COUNTIF(#REF!,\">\"\"\"))","v":{"$error":"#REF!"}},null,{"$f":"IFERROR(VLOOKUP(C280,Hidden_Словник!$A$2:$C$81,3,FALSE),\"\")","v":""},null,null,null,null,null,null,null,null,null,null,null,null,null,null,null,null,null,null,null,null,""]
[{"$f":"IF(#REF!>\"\",D281&\"_\"&#REF!&\"_\"&B281,\"\")","v":{"$error":"#REF!"}},{"$f":"IF(#REF!=\"\",\"\",COUNTIF(#REF!,\">\"\"\"))","v":{"$error":"#REF!"}},null,{"$f":"IFERROR(VLOOKUP(C281,Hidden_Словник!$A$2:$C$81,3,FALSE),\"\")","v":""},null,null,null,null,null,null,null,null,null,null,null,null,null,null,null,null,null,null,null,null,""]
[{"$f":"IF(#REF!>\"\",D282&\"_\"&#REF!&\"_\"&B282,\"\")","v":{"$error":"#REF!"}},{"$f":"IF(#REF!=\"\",\"\",COUNTIF(#REF!,\">\"\"\"))","v":{"$error":"#REF!"}},null,{"$f":"IFERROR(VLOOKUP(C282,Hidden_Словник!$A$2:$C$81,3,FALSE),\"\")","v":""},null,null,null,null,null,null,null,null,null,null,null,null,null,null,null,null,null,null,null,null,""]
[{"$f":"IF(#REF!>\"\",D283&\"_\"&#REF!&\"_\"&B283,\"\")","v":{"$error":"#REF!"}},{"$f":"IF(#REF!=\"\",\"\",COUNTIF(#REF!,\">\"\"\"))","v":{"$error":"#REF!"}},null,{"$f":"IFERROR(VLOOKUP(C283,Hidden_Словник!$A$2:$C$81,3,FALSE),\"\")","v":""},null,null,null,null,null,null,null,null,null,null,null,null,null,null,null,null,null,null,null,null,""]
[{"$f":"IF(#REF!>\"\",D284&\"_\"&#REF!&\"_\"&B284,\"\")","v":{"$error":"#REF!"}},{"$f":"IF(#REF!=\"\",\"\",COUNTIF(#REF!,\">\"\"\"))","v":{"$error":"#REF!"}},null,{"$f":"IFERROR(VLOOKUP(C284,Hidden_Словник!$A$2:$C$81,3,FALSE),\"\")","v":""},null,null,null,null,null,null,null,null,null,null,null,null,null,null,null,null,null,null,null,null,""]
[{"$f":"IF(#REF!>\"\",D285&\"_\"&#REF!&\"_\"&B285,\"\")","v":{"$error":"#REF!"}},{"$f":"IF(#REF!=\"\",\"\",COUNTIF(#REF!,\">\"\"\"))","v":{"$error":"#REF!"}},null,{"$f":"IFERROR(VLOOKUP(C285,Hidden_Словник!$A$2:$C$81,3,FALSE),\"\")","v":""},null,null,null,null,null,null,null,null,null,null,null,null,null,null,null,null,null,null,null,null,""]
[{"$f":"IF(#REF!>\"\",D286&\"_\"&#REF!&\"_\"&B286,\"\")","v":{"$error":"#REF!"}},{"$f":"IF(#REF!=\"\",\"\",COUNTIF(#REF!,\">\"\"\"))","v":{"$error":"#REF!"}},null,{"$f":"IFERROR(VLOOKUP(C286,Hidden_Словник!$A$2:$C$81,3,FALSE),\"\")","v":""},null,null,null,null,null,null,null,null,null,null,null,null,null,null,null,null,null,null,null,null,""]
[{"$f":"IF(#REF!>\"\",D287&\"_\"&#REF!&\"_\"&B287,\"\")","v":{"$error":"#REF!"}},{"$f":"IF(#REF!=\"\",\"\",COUNTIF(#REF!,\">\"\"\"))","v":{"$error":"#REF!"}},null,{"$f":"IFERROR(VLOOKUP(C287,Hidden_Словник!$A$2:$C$81,3,FALSE),\"\")","v":""},null,null,null,null,null,null,null,null,null,null,null,null,null,null,null,null,null,null,null,null,""]
[{"$f":"IF(#REF!>\"\",D288&\"_\"&#REF!&\"_\"&B288,\"\")","v":{"$error":"#REF!"}},{"$f":"IF(#REF!=\"\",\"\",COUNTIF(#REF!,\">\"\"\"))","v":{"$error":"#REF!"}},null,{"$f":"IFERROR(VLOOKUP(C288,Hidden_Словник!$A$2:$C$81,3,FALSE),\"\")","v":""},null,null,null,null,null,null,null,null,null,null,null,null,null,null,null,null,null,null,null,null,""]
[{"$f":"IF(#REF!>\"\",D289&\"_\"&#REF!&\"_\"&B289,\"\")","v":{"$error":"#REF!"}},{"$f":"IF(#REF!=\"\",\"\",COUNTIF(#REF!,\">\"\"\"))","v":{"$error":"#REF!"}},null,{"$f":"IFERROR(VLOOKUP(C289,Hidden_Словник!$A$2:$C$81,3,FALSE),\"\")","v":""},null,null,null,null,null,null,null,null,null,null,null,null,null,null,null,null,null,null,null,null,""]
[{"$f":"IF(#REF!>\"\",D290&\"_\"&#REF!&\"_\"&B290,\"\")","v":{"$error":"#REF!"}},{"$f":"IF(#REF!=\"\",\"\",COUNTIF(#REF!,\">\"\"\"))","v":{"$error":"#REF!"}},null,{"$f":"IFERROR(VLOOKUP(C290,Hidden_Словник!$A$2:$C$81,3,FALSE),\"\")","v":""},null,null,null,null,null,null,null,null,null,null,null,null,null,null,null,null,null,null,null,null,""]
[{"$f":"IF(#REF!>\"\",D291&\"_\"&#REF!&\"_\"&B291,\"\")","v":{"$error":"#REF!"}},{"$f":"IF(#REF!=\"\",\"\",COUNTIF(#REF!,\">\"\"\"))","v":{"$error":"#REF!"}},null,{"$f":"IFERROR(VLOOKUP(C291,Hidden_Словник!$A$2:$C$81,3,FALSE),\"\")","v":""},null,null,null,null,null,null,null,null,null,null,null,null,null,null,null,null,null,null,null,null,""]
[{"$f":"IF(#REF!>\"\",D292&\"_\"&#REF!&\"_\"&B292,\"\")","v":{"$error":"#REF!"}},{"$f":"IF(#REF!=\"\",\"\",COUNTIF(#REF!,\">\"\"\"))","v":{"$error":"#REF!"}},null,{"$f":"IFERROR(VLOOKUP(C292,Hidden_Словник!$A$2:$C$81,3,FALSE),\"\")","v":""},null,null,null,null,null,null,null,null,null,null,null,null,null,null,null,null,null,null,null,null,""]
[{"$f":"IF(#REF!>\"\",D293&\"_\"&#REF!&\"_\"&B293,\"\")","v":{"$error":"#REF!"}},{"$f":"IF(#REF!=\"\",\"\",COUNTIF(#REF!,\">\"\"\"))","v":{"$error":"#REF!"}},null,{"$f":"IFERROR(VLOOKUP(C293,Hidden_Словник!$A$2:$C$81,3,FALSE),\"\")","v":""},null,null,null,null,null,null,null,null,null,null,null,null,null,null,null,null,null,null,null,null,""]
[{"$f":"IF(#REF!>\"\",D294&\"_\"&#REF!&\"_\"&B294,\"\")","v":{"$error":"#REF!"}},{"$f":"IF(#REF!=\"\",\"\",COUNTIF(#REF!,\">\"\"\"))","v":{"$error":"#REF!"}},null,{"$f":"IFERROR(VLOOKUP(C294,Hidden_Словник!$A$2:$C$81,3,FALSE),\"\")","v":""},null,null,null,null,null,null,null,null,null,null,null,null,null,null,null,null,null,null,null,null,""]
[{"$f":"IF(#REF!>\"\",D295&\"_\"&#REF!&\"_\"&B295,\"\")","v":{"$error":"#REF!"}},{"$f":"IF(#REF!=\"\",\"\",COUNTIF(#REF!,\">\"\"\"))","v":{"$error":"#REF!"}},null,{"$f":"IFERROR(VLOOKUP(C295,Hidden_Словник!$A$2:$C$81,3,FALSE),\"\")","v":""},null,null,null,null,null,null,null,null,null,null,null,null,null,null,null,null,null,null,null,null,""]
[{"$f":"IF(#REF!>\"\",D296&\"_\"&#REF!&\"_\"&B296,\"\")","v":{"$error":"#REF!"}},{"$f":"IF(#REF!=\"\",\"\",COUNTIF(#REF!,\">\"\"\"))","v":{"$error":"#REF!"}},null,{"$f":"IFERROR(VLOOKUP(C296,Hidden_Словник!$A$2:$C$81,3,FALSE),\"\")","v":""},null,null,null,null,null,null,null,null,null,null,null,null,null,null,null,null,null,null,null,null,""]
[{"$f":"IF(#REF!>\"\",D297&\"_\"&#REF!&\"_\"&B297,\"\")","v":{"$error":"#REF!"}},{"$f":"IF(#REF!=\"\",\"\",COUNTIF(#REF!,\">\"\"\"))","v":{"$error":"#REF!"}},null,{"$f":"IFERROR(VLOOKUP(C297,Hidden_Словник!$A$2:$C$81,3,FALSE),\"\")","v":""},null,null,null,null,null,null,null,null,null,null,null,null,null,null,null,null,null,null,null,null,""]
[{"$f":"IF(#REF!>\"\",D298&\"_\"&#REF!&\"_\"&B298,\"\")","v":{"$error":"#REF!"}},{"$f":"IF(#REF!=\"\",\"\",COUNTIF(#REF!,\">\"\"\"))","v":{"$error":"#REF!"}},null,{"$f":"IFERROR(VLOOKUP(C298,Hidden_Словник!$A$2:$C$81,3,FALSE),\"\")","v":""},null,null,null,null,null,null,null,null,null,null,null,null,null,null,null,null,null,null,null,null,""]
[{"$f":"IF(#REF!>\"\",D299&\"_\"&#REF!&\"_\"&B299,\"\")","v":{"$error":"#REF!"}},{"$f":"IF(#REF!=\"\",\"\",COUNTIF(#REF!,\">\"\"\"))","v":{"$error":"#REF!"}},null,{"$f":"IFERROR(VLOOKUP(C299,Hidden_Словник!$A$2:$C$81,3,FALSE),\"\")","v":""},null,null,null,null,null,null,null,null,null,null,null,null,null,null,null,null,null,null,null,null,""]
[{"$f":"IF(#REF!>\"\",D300&\"_\"&#REF!&\"_\"&B300,\"\")","v":{"$error":"#REF!"}},{"$f":"IF(#REF!=\"\",\"\",COUNTIF(#REF!,\">\"\"\"))","v":{"$error":"#REF!"}},null,{"$f":"IFERROR(VLOOKUP(C300,Hidden_Словник!$A$2:$C$81,3,FALSE),\"\")","v":""},null,null,null,null,null,null,null,null,null,null,null,null,null,null,null,null,null,null,null,null,""]
[{"$f":"IF(#REF!>\"\",D301&\"_\"&#REF!&\"_\"&B301,\"\")","v":{"$error":"#REF!"}},{"$f":"IF(#REF!=\"\",\"\",COUNTIF(#REF!,\">\"\"\"))","v":{"$error":"#REF!"}},null,{"$f":"IFERROR(VLOOKUP(C301,Hidden_Словник!$A$2:$C$81,3,FALSE),\"\")","v":""},null,null,null,null,null,null,null,null,null,null,null,null,null,null,null,null,null,null,null,null,""]
[{"$f":"IF(#REF!>\"\",D302&\"_\"&#REF!&\"_\"&B302,\"\")","v":{"$error":"#REF!"}},{"$f":"IF(#REF!=\"\",\"\",COUNTIF(#REF!,\">\"\"\"))","v":{"$error":"#REF!"}},null,{"$f":"IFERROR(VLOOKUP(C302,Hidden_Словник!$A$2:$C$81,3,FALSE),\"\")","v":""},null,null,null,null,null,null,null,null,null,null,null,null,null,null,null,null,null,null,null,null,""]
[{"$f":"IF(#REF!>\"\",D303&\"_\"&#REF!&\"_\"&B303,\"\")","v":{"$error":"#REF!"}},{"$f":"IF(#REF!=\"\",\"\",COUNTIF(#REF!,\">\"\"\"))","v":{"$error":"#REF!"}},null,{"$f":"IFERROR(VLOOKUP(C303,Hidden_Словник!$A$2:$C$81,3,FALSE),\"\")","v":""},null,null,null,null,null,null,null,null,null,null,null,null,null,null,null,null,null,null,null,null,""]
[{"$f":"IF(#REF!>\"\",D304&\"_\"&#REF!&\"_\"&B304,\"\")","v":{"$error":"#REF!"}},{"$f":"IF(#REF!=\"\",\"\",COUNTIF(#REF!,\">\"\"\"))","v":{"$error":"#REF!"}},null,{"$f":"IFERROR(VLOOKUP(C304,Hidden_Словник!$A$2:$C$81,3,FALSE),\"\")","v":""},null,null,null,null,null,null,null,null,null,null,null,null,null,null,null,null,null,null,null,null,""]
[{"$f":"IF(#REF!>\"\",D305&\"_\"&#REF!&\"_\"&B305,\"\")","v":{"$error":"#REF!"}},{"$f":"IF(#REF!=\"\",\"\",COUNTIF(#REF!,\">\"\"\"))","v":{"$error":"#REF!"}},null,{"$f":"IFERROR(VLOOKUP(C305,Hidden_Словник!$A$2:$C$81,3,FALSE),\"\")","v":""},null,null,null,null,null,null,null,null,null,null,null,null,null,null,null,null,null,null,null,null,""]
[{"$f":"IF(#REF!>\"\",D306&\"_\"&#REF!&\"_\"&B306,\"\")","v":{"$error":"#REF!"}},{"$f":"IF(#REF!=\"\",\"\",COUNTIF(#REF!,\">\"\"\"))","v":{"$error":"#REF!"}},null,{"$f":"IFERROR(VLOOKUP(C306,Hidden_Словник!$A$2:$C$81,3,FALSE),\"\")","v":""},null,null,null,null,null,null,null,null,null,null,null,null,null,null,null,null,null,null,null,null,""]
[{"$f":"IF(#REF!>\"\",D307&\"_\"&#REF!&\"_\"&B307,\"\")","v":{"$error":"#REF!"}},{"$f":"IF(#REF!=\"\",\"\",COUNTIF(#REF!,\">\"\"\"))","v":{"$error":"#REF!"}},null,{"$f":"IFERROR(VLOOKUP(C307,Hidden_Словник!$A$2:$C$81,3,FALSE),\"\")","v":""},null,null,null,null,null,null,null,null,null,null,null,null,null,null,null,null,null,null,null,null,""]
[{"$f":"IF(#REF!>\"\",D308&\"_\"&#REF!&\"_\"&B308,\"\")","v":{"$error":"#REF!"}},{"$f":"IF(#REF!=\"\",\"\",COUNTIF(#REF!,\">\"\"\"))","v":{"$error":"#REF!"}},null,{"$f":"IFERROR(VLOOKUP(C308,Hidden_Словник!$A$2:$C$81,3,FALSE),\"\")","v":""},null,null,null,null,null,null,null,null,null,null,null,null,null,null,null,null,null,null,null,null,""]
[{"$f":"IF(#REF!>\"\",D309&\"_\"&#REF!&\"_\"&B309,\"\")","v":{"$error":"#REF!"}},{"$f":"IF(#REF!=\"\",\"\",COUNTIF(#REF!,\">\"\"\"))","v":{"$error":"#REF!"}},null,{"$f":"IFERROR(VLOOKUP(C309,Hidden_Словник!$A$2:$C$81,3,FALSE),\"\")","v":""},null,null,null,null,null,null,null,null,null,null,null,null,null,null,null,null,null,null,null,null,""]
[{"$f":"IF(#REF!>\"\",D310&\"_\"&#REF!&\"_\"&B310,\"\")","v":{"$error":"#REF!"}},{"$f":"IF(#REF!=\"\",\"\",COUNTIF(#REF!,\">\"\"\"))","v":{"$error":"#REF!"}},null,{"$f":"IFERROR(VLOOKUP(C310,Hidden_Словник!$A$2:$C$81,3,FALSE),\"\")","v":""},null,null,null,null,null,null,null,null,null,null,null,null,null,null,null,null,null,null,null,null,""]
[{"$f":"IF(#REF!>\"\",D311&\"_\"&#REF!&\"_\"&B311,\"\")","v":{"$error":"#REF!"}},{"$f":"IF(#REF!=\"\",\"\",COUNTIF(#REF!,\">\"\"\"))","v":{"$error":"#REF!"}},null,{"$f":"IFERROR(VLOOKUP(C311,Hidden_Словник!$A$2:$C$81,3,FALSE),\"\")","v":""},null,null,null,null,null,null,null,null,null,null,null,null,null,null,null,null,null,null,null,null,""]
[{"$f":"IF(#REF!>\"\",D312&\"_\"&#REF!&\"_\"&B312,\"\")","v":{"$error":"#REF!"}},{"$f":"IF(#REF!=\"\",\"\",COUNTIF(#REF!,\">\"\"\"))","v":{"$error":"#REF!"}},null,{"$f":"IFERROR(VLOOKUP(C312,Hidden_Словник!$A$2:$C$81,3,FALSE),\"\")","v":""},null,null,null,null,null,null,null,null,null,null,null,null,null,null,null,null,null,null,null,null,""]
[{"$f":"IF(#REF!>\"\",D313&\"_\"&#REF!&\"_\"&B313,\"\")","v":{"$error":"#REF!"}},{"$f":"IF(#REF!=\"\",\"\",COUNTIF(#REF!,\">\"\"\"))","v":{"$error":"#REF!"}},null,{"$f":"IFERROR(VLOOKUP(C313,Hidden_Словник!$A$2:$C$81,3,FALSE),\"\")","v":""},null,null,null,null,null,null,null,null,null,null,null,null,null,null,null,null,null,null,null,null,""]
[{"$f":"IF(#REF!>\"\",D314&\"_\"&#REF!&\"_\"&B314,\"\")","v":{"$error":"#REF!"}},{"$f":"IF(#REF!=\"\",\"\",COUNTIF(#REF!,\">\"\"\"))","v":{"$error":"#REF!"}},null,{"$f":"IFERROR(VLOOKUP(C314,Hidden_Словник!$A$2:$C$81,3,FALSE),\"\")","v":""},null,null,null,null,null,null,null,null,null,null,null,null,null,null,null,null,null,null,null,null,""]
[{"$f":"IF(#REF!>\"\",D315&\"_\"&#REF!&\"_\"&B315,\"\")","v":{"$error":"#REF!"}},{"$f":"IF(#REF!=\"\",\"\",COUNTIF(#REF!,\">\"\"\"))","v":{"$error":"#REF!"}},null,{"$f":"IFERROR(VLOOKUP(C315,Hidden_Словник!$A$2:$C$81,3,FALSE),\"\")","v":""},null,null,null,null,null,null,null,null,null,null,null,null,null,null,null,null,null,null,null,null,""]
[{"$f":"IF(#REF!>\"\",D316&\"_\"&#REF!&\"_\"&B316,\"\")","v":{"$error":"#REF!"}},{"$f":"IF(#REF!=\"\",\"\",COUNTIF(#REF!,\">\"\"\"))","v":{"$error":"#REF!"}},null,{"$f":"IFERROR(VLOOKUP(C316,Hidden_Словник!$A$2:$C$81,3,FALSE),\"\")","v":""},null,null,null,null,null,null,null,null,null,null,null,null,null,null,null,null,null,null,null,null,""]
[{"$f":"IF(#REF!>\"\",D317&\"_\"&#REF!&\"_\"&B317,\"\")","v":{"$error":"#REF!"}},{"$f":"IF(#REF!=\"\",\"\",COUNTIF(#REF!,\">\"\"\"))","v":{"$error":"#REF!"}},null,{"$f":"IFERROR(VLOOKUP(C317,Hidden_Словник!$A$2:$C$81,3,FALSE),\"\")","v":""},null,null,null,null,null,null,null,null,null,null,null,null,null,null,null,null,null,null,null,null,""]
[{"$f":"IF(#REF!>\"\",D318&\"_\"&#REF!&\"_\"&B318,\"\")","v":{"$error":"#REF!"}},{"$f":"IF(#REF!=\"\",\"\",COUNTIF(#REF!,\">\"\"\"))","v":{"$error":"#REF!"}},null,{"$f":"IFERROR(VLOOKUP(C318,Hidden_Словник!$A$2:$C$81,3,FALSE),\"\")","v":""},null,null,null,null,null,null,null,null,null,null,null,null,null,null,null,null,null,null,null,null,""]
[{"$f":"IF(#REF!>\"\",D319&\"_\"&#REF!&\"_\"&B319,\"\")","v":{"$error":"#REF!"}},{"$f":"IF(#REF!=\"\",\"\",COUNTIF(#REF!,\">\"\"\"))","v":{"$error":"#REF!"}},null,{"$f":"IFERROR(VLOOKUP(C319,Hidden_Словник!$A$2:$C$81,3,FALSE),\"\")","v":""},null,null,null,null,null,null,null,null,null,null,null,null,null,null,null,null,null,null,null,null,""]
[{"$f":"IF(#REF!>\"\",D320&\"_\"&#REF!&\"_\"&B320,\"\")","v":{"$error":"#REF!"}},{"$f":"IF(#REF!=\"\",\"\",COUNTIF(#REF!,\">\"\"\"))","v":{"$error":"#REF!"}},null,{"$f":"IFERROR(VLOOKUP(C320,Hidden_Словник!$A$2:$C$81,3,FALSE),\"\")","v":""},null,null,null,null,null,null,null,null,null,null,null,null,null,null,null,null,null,null,null,null,""]
[{"$f":"IF(#REF!>\"\",D321&\"_\"&#REF!&\"_\"&B321,\"\")","v":{"$error":"#REF!"}},{"$f":"IF(#REF!=\"\",\"\",COUNTIF(#REF!,\">\"\"\"))","v":{"$error":"#REF!"}},null,{"$f":"IFERROR(VLOOKUP(C321,Hidden_Словник!$A$2:$C$81,3,FALSE),\"\")","v":""},null,null,null,null,null,null,null,null,null,null,null,null,null,null,null,null,null,null,null,null,""]
[{"$f":"IF(#REF!>\"\",D322&\"_\"&#REF!&\"_\"&B322,\"\")","v":{"$error":"#REF!"}},{"$f":"IF(#REF!=\"\",\"\",COUNTIF(#REF!,\">\"\"\"))","v":{"$error":"#REF!"}},null,{"$f":"IFERROR(VLOOKUP(C322,Hidden_Словник!$A$2:$C$81,3,FALSE),\"\")","v":""},null,null,null,null,null,null,null,null,null,null,null,null,null,null,null,null,null,null,null,null,""]
[{"$f":"IF(#REF!>\"\",D323&\"_\"&#REF!&\"_\"&B323,\"\")","v":{"$error":"#REF!"}},{"$f":"IF(#REF!=\"\",\"\",COUNTIF(#REF!,\">\"\"\"))","v":{"$error":"#REF!"}},null,{"$f":"IFERROR(VLOOKUP(C323,Hidden_Словник!$A$2:$C$81,3,FALSE),\"\")","v":""},null,null,null,null,null,null,null,null,null,null,null,null,null,null,null,null,null,null,null,null,""]
[{"$f":"IF(#REF!>\"\",D324&\"_\"&#REF!&\"_\"&B324,\"\")","v":{"$error":"#REF!"}},{"$f":"IF(#REF!=\"\",\"\",COUNTIF(#REF!,\">\"\"\"))","v":{"$error":"#REF!"}},null,{"$f":"IFERROR(VLOOKUP(C324,Hidden_Словник!$A$2:$C$81,3,FALSE),\"\")","v":""},null,null,null,null,null,null,null,null,null,null,null,null,null,null,null,null,null,null,null,null,""]
[{"$f":"IF(#REF!>\"\",D325&\"_\"&#REF!&\"_\"&B325,\"\")","v":{"$error":"#REF!"}},{"$f":"IF(#REF!=\"\",\"\",COUNTIF(#REF!,\">\"\"\"))","v":{"$error":"#REF!"}},null,{"$f":"IFERROR(VLOOKUP(C325,Hidden_Словник!$A$2:$C$81,3,FALSE),\"\")","v":""},null,null,null,null,null,null,null,null,null,null,null,null,null,null,null,null,null,null,null,null,""]
[{"$f":"IF(#REF!>\"\",D326&\"_\"&#REF!&\"_\"&B326,\"\")","v":{"$error":"#REF!"}},{"$f":"IF(#REF!=\"\",\"\",COUNTIF(#REF!,\">\"\"\"))","v":{"$error":"#REF!"}},null,{"$f":"IFERROR(VLOOKUP(C326,Hidden_Словник!$A$2:$C$81,3,FALSE),\"\")","v":""},null,null,null,null,null,null,null,null,null,null,null,null,null,null,null,null,null,null,null,null,""]
[{"$f":"IF(#REF!>\"\",D327&\"_\"&#REF!&\"_\"&B327,\"\")","v":{"$error":"#REF!"}},{"$f":"IF(#REF!=\"\",\"\",COUNTIF(#REF!,\">\"\"\"))","v":{"$error":"#REF!"}},null,{"$f":"IFERROR(VLOOKUP(C327,Hidden_Словник!$A$2:$C$81,3,FALSE),\"\")","v":""},null,null,null,null,null,null,null,null,null,null,null,null,null,null,null,null,null,null,null,null,""]
[{"$f":"IF(#REF!>\"\",D328&\"_\"&#REF!&\"_\"&B328,\"\")","v":{"$error":"#REF!"}},{"$f":"IF(#REF!=\"\",\"\",COUNTIF(#REF!,\">\"\"\"))","v":{"$error":"#REF!"}},null,{"$f":"IFERROR(VLOOKUP(C328,Hidden_Словник!$A$2:$C$81,3,FALSE),\"\")","v":""},null,null,null,null,null,null,null,null,null,null,null,null,null,null,null,null,null,null,null,null,""]
[{"$f":"IF(#REF!>\"\",D329&\"_\"&#REF!&\"_\"&B329,\"\")","v":{"$error":"#REF!"}},{"$f":"IF(#REF!=\"\",\"\",COUNTIF(#REF!,\">\"\"\"))","v":{"$error":"#REF!"}},null,{"$f":"IFERROR(VLOOKUP(C329,Hidden_Словник!$A$2:$C$81,3,FALSE),\"\")","v":""},null,null,null,null,null,null,null,null,null,null,null,null,null,null,null,null,null,null,null,null,""]
[{"$f":"IF(#REF!>\"\",D330&\"_\"&#REF!&\"_\"&B330,\"\")","v":{"$error":"#REF!"}},{"$f":"IF(#REF!=\"\",\"\",COUNTIF(#REF!,\">\"\"\"))","v":{"$error":"#REF!"}},null,{"$f":"IFERROR(VLOOKUP(C330,Hidden_Словник!$A$2:$C$81,3,FALSE),\"\")","v":""},null,null,null,null,null,null,null,null,null,null,null,null,null,null,null,null,null,null,null,null,""]
[{"$f":"IF(#REF!>\"\",D331&\"_\"&#REF!&\"_\"&B331,\"\")","v":{"$error":"#REF!"}},{"$f":"IF(#REF!=\"\",\"\",COUNTIF(#REF!,\">\"\"\"))","v":{"$error":"#REF!"}},null,{"$f":"IFERROR(VLOOKUP(C331,Hidden_Словник!$A$2:$C$81,3,FALSE),\"\")","v":""},null,null,null,null,null,null,null,null,null,null,null,null,null,null,null,null,null,null,null,null,""]
[{"$f":"IF(#REF!>\"\",D332&\"_\"&#REF!&\"_\"&B332,\"\")","v":{"$error":"#REF!"}},{"$f":"IF(#REF!=\"\",\"\",COUNTIF(#REF!,\">\"\"\"))","v":{"$error":"#REF!"}},null,{"$f":"IFERROR(VLOOKUP(C332,Hidden_Словник!$A$2:$C$81,3,FALSE),\"\")","v":""},null,null,null,null,null,null,null,null,null,null,null,null,null,null,null,null,null,null,null,null,""]
[{"$f":"IF(#REF!>\"\",D333&\"_\"&#REF!&\"_\"&B333,\"\")","v":{"$error":"#REF!"}},{"$f":"IF(#REF!=\"\",\"\",COUNTIF(#REF!,\">\"\"\"))","v":{"$error":"#REF!"}},null,{"$f":"IFERROR(VLOOKUP(C333,Hidden_Словник!$A$2:$C$81,3,FALSE),\"\")","v":""},null,null,null,null,null,null,null,null,null,null,null,null,null,null,null,null,null,null,null,null,""]
[{"$f":"IF(#REF!>\"\",D334&\"_\"&#REF!&\"_\"&B334,\"\")","v":{"$error":"#REF!"}},{"$f":"IF(#REF!=\"\",\"\",COUNTIF(#REF!,\">\"\"\"))","v":{"$error":"#REF!"}},null,{"$f":"IFERROR(VLOOKUP(C334,Hidden_Словник!$A$2:$C$81,3,FALSE),\"\")","v":""},null,null,null,null,null,null,null,null,null,null,null,null,null,null,null,null,null,null,null,null,""]
[{"$f":"IF(#REF!>\"\",D335&\"_\"&#REF!&\"_\"&B335,\"\")","v":{"$error":"#REF!"}},{"$f":"IF(#REF!=\"\",\"\",COUNTIF(#REF!,\">\"\"\"))","v":{"$error":"#REF!"}},null,{"$f":"IFERROR(VLOOKUP(C335,Hidden_Словник!$A$2:$C$81,3,FALSE),\"\")","v":""},null,null,null,null,null,null,null,null,null,null,null,null,null,null,null,null,null,null,null,null,{"$f":"IF(Z335+AA335>0,Z335+AA335,\"\")","v":""}]
[{"$f":"IF(#REF!>\"\",D336&\"_\"&#REF!&\"_\"&B336,\"\")","v":{"$error":"#REF!"}},{"$f":"IF(#REF!=\"\",\"\",COUNTIF(#REF!,\">\"\"\"))","v":{"$error":"#REF!"}},null,{"$f":"IFERROR(VLOOKUP(C336,Hidden_Словник!$A$2:$C$81,3,FALSE),\"\")","v":""},null,null,null,null,null,null,null,null,null,null,null,null,null,null,null,null,null,null,null,null,""]
[{"$f":"IF(#REF!>\"\",D337&\"_\"&#REF!&\"_\"&B337,\"\")","v":{"$error":"#REF!"}},{"$f":"IF(#REF!=\"\",\"\",COUNTIF(#REF!,\">\"\"\"))","v":{"$error":"#REF!"}},null,{"$f":"IFERROR(VLOOKUP(C337,Hidden_Словник!$A$2:$C$81,3,FALSE),\"\")","v":""},null,null,null,null,null,null,null,null,null,null,null,null,null,null,null,null,null,null,null,null,""]
[{"$f":"IF(#REF!>\"\",D338&\"_\"&#REF!&\"_\"&B338,\"\")","v":{"$error":"#REF!"}},{"$f":"IF(#REF!=\"\",\"\",COUNTIF(#REF!,\">\"\"\"))","v":{"$error":"#REF!"}},null,{"$f":"IFERROR(VLOOKUP(C338,Hidden_Словник!$A$2:$C$81,3,FALSE),\"\")","v":""},null,null,null,null,null,null,null,null,null,null,null,null,null,null,null,null,null,null,null,null,""]
[{"$f":"IF(#REF!>\"\",D339&\"_\"&#REF!&\"_\"&B339,\"\")","v":{"$error":"#REF!"}},{"$f":"IF(#REF!=\"\",\"\",COUNTIF(#REF!,\">\"\"\"))","v":{"$error":"#REF!"}},null,{"$f":"IFERROR(VLOOKUP(C339,Hidden_Словник!$A$2:$C$81,3,FALSE),\"\")","v":""},null,null,null,null,null,null,null,null,null,null,null,null,null,null,null,null,null,null,null,null,""]
[{"$f":"IF(#REF!>\"\",D340&\"_\"&#REF!&\"_\"&B340,\"\")","v":{"$error":"#REF!"}},{"$f":"IF(#REF!=\"\",\"\",COUNTIF(#REF!,\">\"\"\"))","v":{"$error":"#REF!"}},null,{"$f":"IFERROR(VLOOKUP(C340,Hidden_Словник!$A$2:$C$81,3,FALSE),\"\")","v":""},null,null,null,null,null,null,null,null,null,null,null,null,null,null,null,null,null,null,null,null,""]
[{"$f":"IF(#REF!>\"\",D341&\"_\"&#REF!&\"_\"&B341,\"\")","v":{"$error":"#REF!"}},{"$f":"IF(#REF!=\"\",\"\",COUNTIF(#REF!,\">\"\"\"))","v":{"$error":"#REF!"}},null,{"$f":"IFERROR(VLOOKUP(C341,Hidden_Словник!$A$2:$C$81,3,FALSE),\"\")","v":""},null,null,null,null,null,null,null,null,null,null,null,null,null,null,null,null,null,null,null,null,""]
[{"$f":"IF(#REF!>\"\",D342&\"_\"&#REF!&\"_\"&B342,\"\")","v":{"$error":"#REF!"}},{"$f":"IF(#REF!=\"\",\"\",COUNTIF(#REF!,\">\"\"\"))","v":{"$error":"#REF!"}},null,{"$f":"IFERROR(VLOOKUP(C342,Hidden_Словник!$A$2:$C$81,3,FALSE),\"\")","v":""},null,null,null,null,null,null,null,null,null,null,null,null,null,null,null,null,null,null,null,null,""]
[{"$f":"IF(#REF!>\"\",D343&\"_\"&#REF!&\"_\"&B343,\"\")","v":{"$error":"#REF!"}},{"$f":"IF(#REF!=\"\",\"\",COUNTIF(#REF!,\">\"\"\"))","v":{"$error":"#REF!"}},null,{"$f":"IFERROR(VLOOKUP(C343,Hidden_Словник!$A$2:$C$81,3,FALSE),\"\")","v":""},null,null,null,null,null,null,null,null,null,null,null,null,null,null,null,null,null,null,null,null,""]
[{"$f":"IF(#REF!>\"\",D344&\"_\"&#REF!&\"_\"&B344,\"\")","v":{"$error":"#REF!"}},{"$f":"IF(#REF!=\"\",\"\",COUNTIF(#REF!,\">\"\"\"))","v":{"$error":"#REF!"}},null,{"$f":"IFERROR(VLOOKUP(C344,Hidden_Словник!$A$2:$C$81,3,FALSE),\"\")","v":""},null,null,null,null,null,null,null,null,null,null,null,null,null,null,null,null,null,null,null,null,""]
[{"$f":"IF(#REF!>\"\",D345&\"_\"&#REF!&\"_\"&B345,\"\")","v":{"$error":"#REF!"}},{"$f":"IF(#REF!=\"\",\"\",COUNTIF(#REF!,\">\"\"\"))","v":{"$error":"#REF!"}},null,{"$f":"IFERROR(VLOOKUP(C345,Hidden_Словник!$A$2:$C$81,3,FALSE),\"\")","v":""},null,null,null,null,null,null,null,null,null,null,null,null,null,null,null,null,null,null,null,null,""]
[{"$f":"IF(#REF!>\"\",D346&\"_\"&#REF!&\"_\"&B346,\"\")","v":{"$error":"#REF!"}},{"$f":"IF(#REF!=\"\",\"\",COUNTIF(#REF!,\">\"\"\"))","v":{"$error":"#REF!"}},null,{"$f":"IFERROR(VLOOKUP(C346,Hidden_Словник!$A$2:$C$81,3,FALSE),\"\")","v":""},null,null,null,null,null,null,null,null,null,null,null,null,null,null,null,null,null,null,null,null,""]
[{"$f":"IF(#REF!>\"\",D347&\"_\"&#REF!&\"_\"&B347,\"\")","v":{"$error":"#REF!"}},{"$f":"IF(#REF!=\"\",\"\",COUNTIF(#REF!,\">\"\"\"))","v":{"$error":"#REF!"}},null,{"$f":"IFERROR(VLOOKUP(C347,Hidden_Словник!$A$2:$C$81,3,FALSE),\"\")","v":""},null,null,null,null,null,null,null,null,null,null,null,null,null,null,null,null,null,null,null,null,""]
[{"$f":"IF(#REF!>\"\",D348&\"_\"&#REF!&\"_\"&B348,\"\")","v":{"$error":"#REF!"}},{"$f":"IF(#REF!=\"\",\"\",COUNTIF(#REF!,\">\"\"\"))","v":{"$error":"#REF!"}},null,{"$f":"IFERROR(VLOOKUP(C348,Hidden_Словник!$A$2:$C$81,3,FALSE),\"\")","v":""},null,null,null,null,null,null,null,null,null,null,null,null,null,null,null,null,null,null,null,null,""]
[{"$f":"IF(#REF!>\"\",D349&\"_\"&#REF!&\"_\"&B349,\"\")","v":{"$error":"#REF!"}},{"$f":"IF(#REF!=\"\",\"\",COUNTIF(#REF!,\">\"\"\"))","v":{"$error":"#REF!"}},null,{"$f":"IFERROR(VLOOKUP(C349,Hidden_Словник!$A$2:$C$81,3,FALSE),\"\")","v":""},null,null,null,null,null,null,null,null,null,null,null,null,null,null,null,null,null,null,null,null,""]
[{"$f":"IF(#REF!>\"\",D350&\"_\"&#REF!&\"_\"&B350,\"\")","v":{"$error":"#REF!"}},{"$f":"IF(#REF!=\"\",\"\",COUNTIF(#REF!,\">\"\"\"))","v":{"$error":"#REF!"}},null,{"$f":"IFERROR(VLOOKUP(C350,Hidden_Словник!$A$2:$C$81,3,FALSE),\"\")","v":""},null,null,null,null,null,null,null,null,null,null,null,null,null,null,null,null,null,null,null,null,""]
[{"$f":"IF(#REF!>\"\",D351&\"_\"&#REF!&\"_\"&B351,\"\")","v":{"$error":"#REF!"}},{"$f":"IF(#REF!=\"\",\"\",COUNTIF(#REF!,\">\"\"\"))","v":{"$error":"#REF!"}},null,{"$f":"IFERROR(VLOOKUP(C351,Hidden_Словник!$A$2:$C$81,3,FALSE),\"\")","v":""},null,null,null,null,null,null,null,null,null,null,null,null,null,null,null,null,null,null,null,null,""]
[{"$f":"IF(#REF!>\"\",D352&\"_\"&#REF!&\"_\"&B352,\"\")","v":{"$error":"#REF!"}},{"$f":"IF(#REF!=\"\",\"\",COUNTIF(#REF!,\">\"\"\"))","v":{"$error":"#REF!"}},null,{"$f":"IFERROR(VLOOKUP(C352,Hidden_Словник!$A$2:$C$81,3,FALSE),\"\")","v":""},null,null,null,null,null,null,null,null,null,null,null,null,null,null,null,null,null,null,null,null,""]
[{"$f":"IF(#REF!>\"\",D353&\"_\"&#REF!&\"_\"&B353,\"\")","v":{"$error":"#REF!"}},{"$f":"IF(#REF!=\"\",\"\",COUNTIF(#REF!,\">\"\"\"))","v":{"$error":"#REF!"}},null,{"$f":"IFERROR(VLOOKUP(C353,Hidden_Словник!$A$2:$C$81,3,FALSE),\"\")","v":""},null,null,null,null,null,null,null,null,null,null,null,null,null,null,null,null,null,null,null,null,""]
[{"$f":"IF(#REF!>\"\",D354&\"_\"&#REF!&\"_\"&B354,\"\")","v":{"$error":"#REF!"}},{"$f":"IF(#REF!=\"\",\"\",COUNTIF(#REF!,\">\"\"\"))","v":{"$error":"#REF!"}},null,{"$f":"IFERROR(VLOOKUP(C354,Hidden_Словник!$A$2:$C$81,3,FALSE),\"\")","v":""},null,null,null,null,null,null,null,null,null,null,null,null,null,null,null,null,null,null,null,null,""]
[{"$f":"IF(#REF!>\"\",D355&\"_\"&#REF!&\"_\"&B355,\"\")","v":{"$error":"#REF!"}},{"$f":"IF(#REF!=\"\",\"\",COUNTIF(#REF!,\">\"\"\"))","v":{"$error":"#REF!"}},null,{"$f":"IFERROR(VLOOKUP(C355,Hidden_Словник!$A$2:$C$81,3,FALSE),\"\")","v":""},null,null,null,null,null,null,null,null,null,null,null,null,null,null,null,null,null,null,null,null,""]
[{"$f":"IF(#REF!>\"\",D356&\"_\"&#REF!&\"_\"&B356,\"\")","v":{"$error":"#REF!"}},{"$f":"IF(#REF!=\"\",\"\",COUNTIF(#REF!,\">\"\"\"))","v":{"$error":"#REF!"}},null,{"$f":"IFERROR(VLOOKUP(C356,Hidden_Словник!$A$2:$C$81,3,FALSE),\"\")","v":""},null,null,null,null,null,null,null,null,null,null,null,null,null,null,null,null,null,null,null,null,""]
[{"$f":"IF(#REF!>\"\",D357&\"_\"&#REF!&\"_\"&B357,\"\")","v":{"$error":"#REF!"}},{"$f":"IF(#REF!=\"\",\"\",COUNTIF(#REF!,\">\"\"\"))","v":{"$error":"#REF!"}},null,{"$f":"IFERROR(VLOOKUP(C357,Hidden_Словник!$A$2:$C$81,3,FALSE),\"\")","v":""},null,null,null,null,null,null,null,null,null,null,null,null,null,null,null,null,null,null,null,null,""]
[{"$f":"IF(#REF!>\"\",D358&\"_\"&#REF!&\"_\"&B358,\"\")","v":{"$error":"#REF!"}},{"$f":"IF(#REF!=\"\",\"\",COUNTIF(#REF!,\">\"\"\"))","v":{"$error":"#REF!"}},null,{"$f":"IFERROR(VLOOKUP(C358,Hidden_Словник!$A$2:$C$81,3,FALSE),\"\")","v":""},null,null,null,null,null,null,null,null,null,null,null,null,null,null,null,null,null,null,null,null,""]
[{"$f":"IF(#REF!>\"\",D359&\"_\"&#REF!&\"_\"&B359,\"\")","v":{"$error":"#REF!"}},{"$f":"IF(#REF!=\"\",\"\",COUNTIF(#REF!,\">\"\"\"))","v":{"$error":"#REF!"}},null,{"$f":"IFERROR(VLOOKUP(C359,Hidden_Словник!$A$2:$C$81,3,FALSE),\"\")","v":""},null,null,null,null,null,null,null,null,null,null,null,null,null,null,null,null,null,null,null,null,""]
[{"$f":"IF(#REF!>\"\",D360&\"_\"&#REF!&\"_\"&B360,\"\")","v":{"$error":"#REF!"}},{"$f":"IF(#REF!=\"\",\"\",COUNTIF(#REF!,\">\"\"\"))","v":{"$error":"#REF!"}},null,{"$f":"IFERROR(VLOOKUP(C360,Hidden_Словник!$A$2:$C$81,3,FALSE),\"\")","v":""},null,null,null,null,null,null,null,null,null,null,null,null,null,null,null,null,null,null,null,null,""]
[{"$f":"IF(#REF!>\"\",D361&\"_\"&#REF!&\"_\"&B361,\"\")","v":{"$error":"#REF!"}},{"$f":"IF(#REF!=\"\",\"\",COUNTIF(#REF!,\">\"\"\"))","v":{"$error":"#REF!"}},null,{"$f":"IFERROR(VLOOKUP(C361,Hidden_Словник!$A$2:$C$81,3,FALSE),\"\")","v":""},null,null,null,null,null,null,null,null,null,null,null,null,null,null,null,null,null,null,null,null,""]
[{"$f":"IF(#REF!>\"\",D362&\"_\"&#REF!&\"_\"&B362,\"\")","v":{"$error":"#REF!"}},{"$f":"IF(#REF!=\"\",\"\",COUNTIF(#REF!,\">\"\"\"))","v":{"$error":"#REF!"}},null,{"$f":"IFERROR(VLOOKUP(C362,Hidden_Словник!$A$2:$C$81,3,FALSE),\"\")","v":""},null,null,null,null,null,null,null,null,null,null,null,null,null,null,null,null,null,null,null,null,""]
[{"$f":"IF(#REF!>\"\",D363&\"_\"&#REF!&\"_\"&B363,\"\")","v":{"$error":"#REF!"}},{"$f":"IF(#REF!=\"\",\"\",COUNTIF(#REF!,\">\"\"\"))","v":{"$error":"#REF!"}},null,{"$f":"IFERROR(VLOOKUP(C363,Hidden_Словник!$A$2:$C$81,3,FALSE),\"\")","v":""},null,null,null,null,null,null,null,null,null,null,null,null,null,null,null,null,null,null,null,null,""]
[{"$f":"IF(#REF!>\"\",D364&\"_\"&#REF!&\"_\"&B364,\"\")","v":{"$error":"#REF!"}},{"$f":"IF(#REF!=\"\",\"\",COUNTIF(#REF!,\">\"\"\"))","v":{"$error":"#REF!"}},null,{"$f":"IFERROR(VLOOKUP(C364,Hidden_Словник!$A$2:$C$81,3,FALSE),\"\")","v":""},null,null,null,null,null,null,null,null,null,null,null,null,null,null,null,null,null,null,null,null,""]
[{"$f":"IF(#REF!>\"\",D365&\"_\"&#REF!&\"_\"&B365,\"\")","v":{"$error":"#REF!"}},{"$f":"IF(#REF!=\"\",\"\",COUNTIF(#REF!,\">\"\"\"))","v":{"$error":"#REF!"}},null,{"$f":"IFERROR(VLOOKUP(C365,Hidden_Словник!$A$2:$C$81,3,FALSE),\"\")","v":""},null,null,null,null,null,null,null,null,null,null,null,null,null,null,null,null,null,null,null,null,""]
[{"$f":"IF(#REF!>\"\",D366&\"_\"&#REF!&\"_\"&B366,\"\")","v":{"$error":"#REF!"}},{"$f":"IF(#REF!=\"\",\"\",COUNTIF(#REF!,\">\"\"\"))","v":{"$error":"#REF!"}},null,{"$f":"IFERROR(VLOOKUP(C366,Hidden_Словник!$A$2:$C$81,3,FALSE),\"\")","v":""},null,null,null,null,null,null,null,null,null,null,null,null,null,null,null,null,null,null,null,null,""]
[{"$f":"IF(#REF!>\"\",D367&\"_\"&#REF!&\"_\"&B367,\"\")","v":{"$error":"#REF!"}},{"$f":"IF(#REF!=\"\",\"\",COUNTIF(#REF!,\">\"\"\"))","v":{"$error":"#REF!"}},null,{"$f":"IFERROR(VLOOKUP(C367,Hidden_Словник!$A$2:$C$81,3,FALSE),\"\")","v":""},null,null,null,null,null,null,null,null,null,null,null,null,null,null,null,null,null,null,null,null,""]
[{"$f":"IF(#REF!>\"\",D368&\"_\"&#REF!&\"_\"&B368,\"\")","v":{"$error":"#REF!"}},{"$f":"IF(#REF!=\"\",\"\",COUNTIF(#REF!,\">\"\"\"))","v":{"$error":"#REF!"}},null,{"$f":"IFERROR(VLOOKUP(C368,Hidden_Словник!$A$2:$C$81,3,FALSE),\"\")","v":""},null,null,null,null,null,null,null,null,null,null,null,null,null,null,null,null,null,null,null,null,""]
[{"$f":"IF(#REF!>\"\",D369&\"_\"&#REF!&\"_\"&B369,\"\")","v":{"$error":"#REF!"}},{"$f":"IF(#REF!=\"\",\"\",COUNTIF(#REF!,\">\"\"\"))","v":{"$error":"#REF!"}},null,{"$f":"IFERROR(VLOOKUP(C369,Hidden_Словник!$A$2:$C$81,3,FALSE),\"\")","v":""},null,null,null,null,null,null,null,null,null,null,null,null,null,null,null,null,null,null,null,null,""]
[{"$f":"IF(#REF!>\"\",D370&\"_\"&#REF!&\"_\"&B370,\"\")","v":{"$error":"#REF!"}},{"$f":"IF(#REF!=\"\",\"\",COUNTIF(#REF!,\">\"\"\"))","v":{"$error":"#REF!"}},null,{"$f":"IFERROR(VLOOKUP(C370,Hidden_Словник!$A$2:$C$81,3,FALSE),\"\")","v":""},null,null,null,null,null,null,null,null,null,null,null,null,null,null,null,null,null,null,null,null,""]
[{"$f":"IF(#REF!>\"\",D371&\"_\"&#REF!&\"_\"&B371,\"\")","v":{"$error":"#REF!"}},{"$f":"IF(#REF!=\"\",\"\",COUNTIF(#REF!,\">\"\"\"))","v":{"$error":"#REF!"}},null,{"$f":"IFERROR(VLOOKUP(C371,Hidden_Словник!$A$2:$C$81,3,FALSE),\"\")","v":""},null,null,null,null,null,null,null,null,null,null,null,null,null,null,null,null,null,null,null,null,""]
[{"$f":"IF(#REF!>\"\",D372&\"_\"&#REF!&\"_\"&B372,\"\")","v":{"$error":"#REF!"}},{"$f":"IF(#REF!=\"\",\"\",COUNTIF(#REF!,\">\"\"\"))","v":{"$error":"#REF!"}},null,{"$f":"IFERROR(VLOOKUP(C372,Hidden_Словник!$A$2:$C$81,3,FALSE),\"\")","v":""},null,null,null,null,null,null,null,null,null,null,null,null,null,null,null,null,null,null,null,null,""]
[{"$f":"IF(#REF!>\"\",D373&\"_\"&#REF!&\"_\"&B373,\"\")","v":{"$error":"#REF!"}},{"$f":"IF(#REF!=\"\",\"\",COUNTIF(#REF!,\">\"\"\"))","v":{"$error":"#REF!"}},null,{"$f":"IFERROR(VLOOKUP(C373,Hidden_Словник!$A$2:$C$81,3,FALSE),\"\")","v":""},null,null,null,null,null,null,null,null,null,null,null,null,null,null,null,null,null,null,null,null,""]
[{"$f":"IF(#REF!>\"\",D374&\"_\"&#REF!&\"_\"&B374,\"\")","v":{"$error":"#REF!"}},{"$f":"IF(#REF!=\"\",\"\",COUNTIF(#REF!,\">\"\"\"))","v":{"$error":"#REF!"}},null,{"$f":"IFERROR(VLOOKUP(C374,Hidden_Словник!$A$2:$C$81,3,FALSE),\"\")","v":""},null,null,null,null,null,null,null,null,null,null,null,null,null,null,null,null,null,null,null,null,""]
[{"$f":"IF(#REF!>\"\",D375&\"_\"&#REF!&\"_\"&B375,\"\")","v":{"$error":"#REF!"}},{"$f":"IF(#REF!=\"\",\"\",COUNTIF(#REF!,\">\"\"\"))","v":{"$error":"#REF!"}},null,{"$f":"IFERROR(VLOOKUP(C375,Hidden_Словник!$A$2:$C$81,3,FALSE),\"\")","v":""},null,null,null,null,null,null,null,null,null,null,null,null,null,null,null,null,null,null,null,null,""]
[{"$f":"IF(#REF!>\"\",D376&\"_\"&#REF!&\"_\"&B376,\"\")","v":{"$error":"#REF!"}},{"$f":"IF(#REF!=\"\",\"\",COUNTIF(#REF!,\">\"\"\"))","v":{"$error":"#REF!"}},null,{"$f":"IFERROR(VLOOKUP(C376,Hidden_Словник!$A$2:$C$81,3,FALSE),\"\")","v":""},null,null,null,null,null,null,null,null,null,null,null,null,null,null,null,null,null,null,null,null,""]
[{"$f":"IF(#REF!>\"\",D377&\"_\"&#REF!&\"_\"&B377,\"\")","v":{"$error":"#REF!"}},{"$f":"IF(#REF!=\"\",\"\",COUNTIF(#REF!,\">\"\"\"))","v":{"$error":"#REF!"}},null,{"$f":"IFERROR(VLOOKUP(C377,Hidden_Словник!$A$2:$C$81,3,FALSE),\"\")","v":""},null,null,null,null,null,null,null,null,null,null,null,null,null,null,null,null,null,null,null,null,""]
[{"$f":"IF(#REF!>\"\",D378&\"_\"&#REF!&\"_\"&B378,\"\")","v":{"$error":"#REF!"}},{"$f":"IF(#REF!=\"\",\"\",COUNTIF(#REF!,\">\"\"\"))","v":{"$error":"#REF!"}},null,{"$f":"IFERROR(VLOOKUP(C378,Hidden_Словник!$A$2:$C$81,3,FALSE),\"\")","v":""},null,null,null,null,null,null,null,null,null,null,null,null,null,null,null,null,null,null,null,null,""]
[{"$f":"IF(#REF!>\"\",D379&\"_\"&#REF!&\"_\"&B379,\"\")","v":{"$error":"#REF!"}},{"$f":"IF(#REF!=\"\",\"\",COUNTIF(#REF!,\">\"\"\"))","v":{"$error":"#REF!"}},null,{"$f":"IFERROR(VLOOKUP(C379,Hidden_Словник!$A$2:$C$81,3,FALSE),\"\")","v":""},null,null,null,null,null,null,null,null,null,null,null,null,null,null,null,null,null,null,null,null,""]
[{"$f":"IF(#REF!>\"\",D380&\"_\"&#REF!&\"_\"&B380,\"\")","v":{"$error":"#REF!"}},{"$f":"IF(#REF!=\"\",\"\",COUNTIF(#REF!,\">\"\"\"))","v":{"$error":"#REF!"}},null,{"$f":"IFERROR(VLOOKUP(C380,Hidden_Словник!$A$2:$C$81,3,FALSE),\"\")","v":""},null,null,null,null,null,null,null,null,null,null,null,null,null,null,null,null,null,null,null,null,""]
[{"$f":"IF(#REF!>\"\",D381&\"_\"&#REF!&\"_\"&B381,\"\")","v":{"$error":"#REF!"}},{"$f":"IF(#REF!=\"\",\"\",COUNTIF(#REF!,\">\"\"\"))","v":{"$error":"#REF!"}},null,{"$f":"IFERROR(VLOOKUP(C381,Hidden_Словник!$A$2:$C$81,3,FALSE),\"\")","v":""},null,null,null,null,null,null,null,null,null,null,null,null,null,null,null,null,null,null,null,null,""]
[{"$f":"IF(#REF!>\"\",D382&\"_\"&#REF!&\"_\"&B382,\"\")","v":{"$error":"#REF!"}},{"$f":"IF(#REF!=\"\",\"\",COUNTIF(#REF!,\">\"\"\"))","v":{"$error":"#REF!"}},null,{"$f":"IFERROR(VLOOKUP(C382,Hidden_Словник!$A$2:$C$81,3,FALSE),\"\")","v":""},null,null,null,null,null,null,null,null,null,null,null,null,null,null,null,null,null,null,null,null,""]
[{"$f":"IF(#REF!>\"\",D383&\"_\"&#REF!&\"_\"&B383,\"\")","v":{"$error":"#REF!"}},{"$f":"IF(#REF!=\"\",\"\",COUNTIF(#REF!,\">\"\"\"))","v":{"$error":"#REF!"}},null,{"$f":"IFERROR(VLOOKUP(C383,Hidden_Словник!$A$2:$C$81,3,FALSE),\"\")","v":""},null,null,null,null,null,null,null,null,null,null,null,null,null,null,null,null,null,null,null,null,""]
[{"$f":"IF(#REF!>\"\",D384&\"_\"&#REF!&\"_\"&B384,\"\")","v":{"$error":"#REF!"}},{"$f":"IF(#REF!=\"\",\"\",COUNTIF(#REF!,\">\"\"\"))","v":{"$error":"#REF!"}},null,{"$f":"IFERROR(VLOOKUP(C384,Hidden_Словник!$A$2:$C$81,3,FALSE),\"\")","v":""},null,null,null,null,null,null,null,null,null,null,null,null,null,null,null,null,null,null,null,null,""]
[{"$f":"IF(#REF!>\"\",D385&\"_\"&#REF!&\"_\"&B385,\"\")","v":{"$error":"#REF!"}},{"$f":"IF(#REF!=\"\",\"\",COUNTIF(#REF!,\">\"\"\"))","v":{"$error":"#REF!"}},null,{"$f":"IFERROR(VLOOKUP(C385,Hidden_Словник!$A$2:$C$81,3,FALSE),\"\")","v":""},null,null,null,null,null,null,null,null,null,null,null,null,null,null,null,null,null,null,null,null,""]
[{"$f":"IF(#REF!>\"\",D386&\"_\"&#REF!&\"_\"&B386,\"\")","v":{"$error":"#REF!"}},{"$f":"IF(#REF!=\"\",\"\",COUNTIF(#REF!,\">\"\"\"))","v":{"$error":"#REF!"}},null,{"$f":"IFERROR(VLOOKUP(C386,Hidden_Словник!$A$2:$C$81,3,FALSE),\"\")","v":""},null,null,null,null,null,null,null,null,null,null,null,null,null,null,null,null,null,null,null,null,""]
[{"$f":"IF(#REF!>\"\",D387&\"_\"&#REF!&\"_\"&B387,\"\")","v":{"$error":"#REF!"}},{"$f":"IF(#REF!=\"\",\"\",COUNTIF(#REF!,\">\"\"\"))","v":{"$error":"#REF!"}},null,{"$f":"IFERROR(VLOOKUP(C387,Hidden_Словник!$A$2:$C$81,3,FALSE),\"\")","v":""},null,null,null,null,null,null,null,null,null,null,null,null,null,null,null,null,null,null,null,null,""]
[{"$f":"IF(#REF!>\"\",D388&\"_\"&#REF!&\"_\"&B388,\"\")","v":{"$error":"#REF!"}},{"$f":"IF(#REF!=\"\",\"\",COUNTIF(#REF!,\">\"\"\"))","v":{"$error":"#REF!"}},null,{"$f":"IFERROR(VLOOKUP(C388,Hidden_Словник!$A$2:$C$81,3,FALSE),\"\")","v":""},null,null,null,null,null,null,null,null,null,null,null,null,null,null,null,null,null,null,null,null,""]
[{"$f":"IF(#REF!>\"\",D389&\"_\"&#REF!&\"_\"&B389,\"\")","v":{"$error":"#REF!"}},{"$f":"IF(#REF!=\"\",\"\",COUNTIF(#REF!,\">\"\"\"))","v":{"$error":"#REF!"}},null,{"$f":"IFERROR(VLOOKUP(C389,Hidden_Словник!$A$2:$C$81,3,FALSE),\"\")","v":""},null,null,null,null,null,null,null,null,null,null,null,null,null,null,null,null,null,null,null,null,""]
[{"$f":"IF(#REF!>\"\",D390&\"_\"&#REF!&\"_\"&B390,\"\")","v":{"$error":"#REF!"}},{"$f":"IF(#REF!=\"\",\"\",COUNTIF(#REF!,\">\"\"\"))","v":{"$error":"#REF!"}},null,{"$f":"IFERROR(VLOOKUP(C390,Hidden_Словник!$A$2:$C$81,3,FALSE),\"\")","v":""},null,null,null,null,null,null,null,null,null,null,null,null,null,null,null,null,null,null,null,null,""]
[{"$f":"IF(#REF!>\"\",D391&\"_\"&#REF!&\"_\"&B391,\"\")","v":{"$error":"#REF!"}},{"$f":"IF(#REF!=\"\",\"\",COUNTIF(#REF!,\">\"\"\"))","v":{"$error":"#REF!"}},null,{"$f":"IFERROR(VLOOKUP(C391,Hidden_Словник!$A$2:$C$81,3,FALSE),\"\")","v":""},null,null,null,null,null,null,null,null,null,null,null,null,null,null,null,null,null,null,null,null,""]
[{"$f":"IF(#REF!>\"\",D392&\"_\"&#REF!&\"_\"&B392,\"\")","v":{"$error":"#REF!"}},{"$f":"IF(#REF!=\"\",\"\",COUNTIF(#REF!,\">\"\"\"))","v":{"$error":"#REF!"}},null,{"$f":"IFERROR(VLOOKUP(C392,Hidden_Словник!$A$2:$C$81,3,FALSE),\"\")","v":""},null,null,null,null,null,null,null,null,null,null,null,null,null,null,null,null,null,null,null,null,""]
[{"$f":"IF(#REF!>\"\",D393&\"_\"&#REF!&\"_\"&B393,\"\")","v":{"$error":"#REF!"}},{"$f":"IF(#REF!=\"\",\"\",COUNTIF(#REF!,\">\"\"\"))","v":{"$error":"#REF!"}},null,{"$f":"IFERROR(VLOOKUP(C393,Hidden_Словник!$A$2:$C$81,3,FALSE),\"\")","v":""},null,null,null,null,null,null,null,null,null,null,null,null,null,null,null,null,null,null,null,null,""]
[{"$f":"IF(#REF!>\"\",D394&\"_\"&#REF!&\"_\"&B394,\"\")","v":{"$error":"#REF!"}},{"$f":"IF(#REF!=\"\",\"\",COUNTIF(#REF!,\">\"\"\"))","v":{"$error":"#REF!"}},null,{"$f":"IFERROR(VLOOKUP(C394,Hidden_Словник!$A$2:$C$81,3,FALSE),\"\")","v":""},null,null,null,null,null,null,null,null,null,null,null,null,null,null,null,null,null,null,null,null,""]
[{"$f":"IF(#REF!>\"\",D395&\"_\"&#REF!&\"_\"&B395,\"\")","v":{"$error":"#REF!"}},{"$f":"IF(#REF!=\"\",\"\",COUNTIF(#REF!,\">\"\"\"))","v":{"$error":"#REF!"}},null,{"$f":"IFERROR(VLOOKUP(C395,Hidden_Словник!$A$2:$C$81,3,FALSE),\"\")","v":""},null,null,null,null,null,null,null,null,null,null,null,null,null,null,null,null,null,null,null,null,""]
[{"$f":"IF(#REF!>\"\",D396&\"_\"&#REF!&\"_\"&B396,\"\")","v":{"$error":"#REF!"}},{"$f":"IF(#REF!=\"\",\"\",COUNTIF(#REF!,\">\"\"\"))","v":{"$error":"#REF!"}},null,{"$f":"IFERROR(VLOOKUP(C396,Hidden_Словник!$A$2:$C$81,3,FALSE),\"\")","v":""},null,null,null,null,null,null,null,null,null,null,null,null,null,null,null,null,null,null,null,null,""]
[{"$f":"IF(#REF!>\"\",D397&\"_\"&#REF!&\"_\"&B397,\"\")","v":{"$error":"#REF!"}},{"$f":"IF(#REF!=\"\",\"\",COUNTIF(#REF!,\">\"\"\"))","v":{"$error":"#REF!"}},null,{"$f":"IFERROR(VLOOKUP(C397,Hidden_Словник!$A$2:$C$81,3,FALSE),\"\")","v":""},null,null,null,null,null,null,null,null,null,null,null,null,null,null,null,null,null,null,null,null,""]
[{"$f":"IF(#REF!>\"\",D398&\"_\"&#REF!&\"_\"&B398,\"\")","v":{"$error":"#REF!"}},{"$f":"IF(#REF!=\"\",\"\",COUNTIF(#REF!,\">\"\"\"))","v":{"$error":"#REF!"}},null,{"$f":"IFERROR(VLOOKUP(C398,Hidden_Словник!$A$2:$C$81,3,FALSE),\"\")","v":""},null,null,null,null,null,null,null,null,null,null,null,null,null,null,null,null,null,null,null,null,""]
[{"$f":"IF(#REF!>\"\",D399&\"_\"&#REF!&\"_\"&B399,\"\")","v":{"$error":"#REF!"}},{"$f":"IF(#REF!=\"\",\"\",COUNTIF(#REF!,\">\"\"\"))","v":{"$error":"#REF!"}},null,{"$f":"IFERROR(VLOOKUP(C399,Hidden_Словник!$A$2:$C$81,3,FALSE),\"\")","v":""},null,null,null,null,null,null,null,null,null,null,null,null,null,null,null,null,null,null,null,null,{"$f":"IF(Z399+AA399>0,Z399+AA399,\"\")","v":""}]
[{"$f":"IF(#REF!>\"\",D400&\"_\"&#REF!&\"_\"&B400,\"\")","v":{"$error":"#REF!"}},{"$f":"IF(#REF!=\"\",\"\",COUNTIF(#REF!,\">\"\"\"))","v":{"$error":"#REF!"}},null,{"$f":"IFERROR(VLOOKUP(C400,Hidden_Словник!$A$2:$C$81,3,FALSE),\"\")","v":""},null,null,null,null,null,null,null,null,null,null,null,null,null,null,null,null,null,null,null,null,""]
[{"$f":"IF(#REF!>\"\",D401&\"_\"&#REF!&\"_\"&B401,\"\")","v":{"$error":"#REF!"}},{"$f":"IF(#REF!=\"\",\"\",COUNTIF(#REF!,\">\"\"\"))","v":{"$error":"#REF!"}},null,{"$f":"IFERROR(VLOOKUP(C401,Hidden_Словник!$A$2:$C$81,3,FALSE),\"\")","v":""},null,null,null,null,null,null,null,null,null,null,null,null,null,null,null,null,null,null,null,null,""]
[{"$f":"IF(#REF!>\"\",D402&\"_\"&#REF!&\"_\"&B402,\"\")","v":{"$error":"#REF!"}},{"$f":"IF(#REF!=\"\",\"\",COUNTIF(#REF!,\">\"\"\"))","v":{"$error":"#REF!"}},null,{"$f":"IFERROR(VLOOKUP(C402,Hidden_Словник!$A$2:$C$81,3,FALSE),\"\")","v":""},null,null,null,null,null,null,null,null,null,null,null,null,null,null,null,null,null,null,null,null,""]
[{"$f":"IF(#REF!>\"\",D403&\"_\"&#REF!&\"_\"&B403,\"\")","v":{"$error":"#REF!"}},{"$f":"IF(#REF!=\"\",\"\",COUNTIF(#REF!,\">\"\"\"))","v":{"$error":"#REF!"}},null,{"$f":"IFERROR(VLOOKUP(C403,Hidden_Словник!$A$2:$C$81,3,FALSE),\"\")","v":""},null,null,null,null,null,null,null,null,null,null,null,null,null,null,null,null,null,null,null,null,""]
[{"$f":"IF(#REF!>\"\",D404&\"_\"&#REF!&\"_\"&B404,\"\")","v":{"$error":"#REF!"}},{"$f":"IF(#REF!=\"\",\"\",COUNTIF(#REF!,\">\"\"\"))","v":{"$error":"#REF!"}},null,{"$f":"IFERROR(VLOOKUP(C404,Hidden_Словник!$A$2:$C$81,3,FALSE),\"\")","v":""},null,null,null,null,null,null,null,null,null,null,null,null,null,null,null,null,null,null,null,null,""]
[{"$f":"IF(#REF!>\"\",D405&\"_\"&#REF!&\"_\"&B405,\"\")","v":{"$error":"#REF!"}},{"$f":"IF(#REF!=\"\",\"\",COUNTIF(#REF!,\">\"\"\"))","v":{"$error":"#REF!"}},null,{"$f":"IFERROR(VLOOKUP(C405,Hidden_Словник!$A$2:$C$81,3,FALSE),\"\")","v":""},null,null,null,null,null,null,null,null,null,null,null,null,null,null,null,null,null,null,null,null,""]
[{"$f":"IF(#REF!>\"\",D406&\"_\"&#REF!&\"_\"&B406,\"\")","v":{"$error":"#REF!"}},{"$f":"IF(#REF!=\"\",\"\",COUNTIF(#REF!,\">\"\"\"))","v":{"$error":"#REF!"}},null,{"$f":"IFERROR(VLOOKUP(C406,Hidden_Словник!$A$2:$C$81,3,FALSE),\"\")","v":""},null,null,null,null,null,null,null,null,null,null,null,null,null,null,null,null,null,null,null,null,""]
[{"$f":"IF(#REF!>\"\",D407&\"_\"&#REF!&\"_\"&B407,\"\")","v":{"$error":"#REF!"}},{"$f":"IF(#REF!=\"\",\"\",COUNTIF(#REF!,\">\"\"\"))","v":{"$error":"#REF!"}},null,{"$f":"IFERROR(VLOOKUP(C407,Hidden_Словник!$A$2:$C$81,3,FALSE),\"\")","v":""},null,null,null,null,null,null,null,null,null,null,null,null,null,null,null,null,null,null,null,null,""]
[{"$f":"IF(#REF!>\"\",D408&\"_\"&#REF!&\"_\"&B408,\"\")","v":{"$error":"#REF!"}},{"$f":"IF(#REF!=\"\",\"\",COUNTIF(#REF!,\">\"\"\"))","v":{"$error":"#REF!"}},null,{"$f":"IFERROR(VLOOKUP(C408,Hidden_Словник!$A$2:$C$81,3,FALSE),\"\")","v":""},null,null,null,null,null,null,null,null,null,null,null,null,null,null,null,null,null,null,null,null,""]
[{"$f":"IF(#REF!>\"\",D409&\"_\"&#REF!&\"_\"&B409,\"\")","v":{"$error":"#REF!"}},{"$f":"IF(#REF!=\"\",\"\",COUNTIF(#REF!,\">\"\"\"))","v":{"$error":"#REF!"}},null,{"$f":"IFERROR(VLOOKUP(C409,Hidden_Словник!$A$2:$C$81,3,FALSE),\"\")","v":""},null,null,null,null,null,null,null,null,null,null,null,null,null,null,null,null,null,null,null,null,""]
[{"$f":"IF(#REF!>\"\",D410&\"_\"&#REF!&\"_\"&B410,\"\")","v":{"$error":"#REF!"}},{"$f":"IF(#REF!=\"\",\"\",COUNTIF(#REF!,\">\"\"\"))","v":{"$error":"#REF!"}},null,{"$f":"IFERROR(VLOOKUP(C410,Hidden_Словник!$A$2:$C$81,3,FALSE),\"\")","v":""},null,null,null,null,null,null,null,null,null,null,null,null,null,null,null,null,null,null,null,null,""]
[{"$f":"IF(#REF!>\"\",D411&\"_\"&#REF!&\"_\"&B411,\"\")","v":{"$error":"#REF!"}},{"$f":"IF(#REF!=\"\",\"\",COUNTIF(#REF!,\">\"\"\"))","v":{"$error":"#REF!"}},null,{"$f":"IFERROR(VLOOKUP(C411,Hidden_Словник!$A$2:$C$81,3,FALSE),\"\")","v":""},null,null,null,null,null,null,null,null,null,null,null,null,null,null,null,null,null,null,null,null,""]
[{"$f":"IF(#REF!>\"\",D412&\"_\"&#REF!&\"_\"&B412,\"\")","v":{"$error":"#REF!"}},{"$f":"IF(#REF!=\"\",\"\",COUNTIF(#REF!,\">\"\"\"))","v":{"$error":"#REF!"}},null,{"$f":"IFERROR(VLOOKUP(C412,Hidden_Словник!$A$2:$C$81,3,FALSE),\"\")","v":""},null,null,null,null,null,null,null,null,null,null,null,null,null,null,null,null,null,null,null,null,""]
[{"$f":"IF(#REF!>\"\",D413&\"_\"&#REF!&\"_\"&B413,\"\")","v":{"$error":"#REF!"}},{"$f":"IF(#REF!=\"\",\"\",COUNTIF(#REF!,\">\"\"\"))","v":{"$error":"#REF!"}},null,{"$f":"IFERROR(VLOOKUP(C413,Hidden_Словник!$A$2:$C$81,3,FALSE),\"\")","v":""},null,null,null,null,null,null,null,null,null,null,null,null,null,null,null,null,null,null,null,null,""]
[{"$f":"IF(#REF!>\"\",D414&\"_\"&#REF!&\"_\"&B414,\"\")","v":{"$error":"#REF!"}},{"$f":"IF(#REF!=\"\",\"\",COUNTIF(#REF!,\">\"\"\"))","v":{"$error":"#REF!"}},null,{"$f":"IFERROR(VLOOKUP(C414,Hidden_Словник!$A$2:$C$81,3,FALSE),\"\")","v":""},null,null,null,null,null,null,null,null,null,null,null,null,null,null,null,null,null,null,null,null,""]
[{"$f":"IF(#REF!>\"\",D415&\"_\"&#REF!&\"_\"&B415,\"\")","v":{"$error":"#REF!"}},{"$f":"IF(#REF!=\"\",\"\",COUNTIF(#REF!,\">\"\"\"))","v":{"$error":"#REF!"}},null,{"$f":"IFERROR(VLOOKUP(C415,Hidden_Словник!$A$2:$C$81,3,FALSE),\"\")","v":""},null,null,null,null,null,null,null,null,null,null,null,null,null,null,null,null,null,null,null,null,""]
[{"$f":"IF(#REF!>\"\",D416&\"_\"&#REF!&\"_\"&B416,\"\")","v":{"$error":"#REF!"}},{"$f":"IF(#REF!=\"\",\"\",COUNTIF(#REF!,\">\"\"\"))","v":{"$error":"#REF!"}},null,{"$f":"IFERROR(VLOOKUP(C416,Hidden_Словник!$A$2:$C$81,3,FALSE),\"\")","v":""},null,null,null,null,null,null,null,null,null,null,null,null,null,null,null,null,null,null,null,null,""]
[{"$f":"IF(#REF!>\"\",D417&\"_\"&#REF!&\"_\"&B417,\"\")","v":{"$error":"#REF!"}},{"$f":"IF(#REF!=\"\",\"\",COUNTIF(#REF!,\">\"\"\"))","v":{"$error":"#REF!"}},null,{"$f":"IFERROR(VLOOKUP(C417,Hidden_Словник!$A$2:$C$81,3,FALSE),\"\")","v":""},null,null,null,null,null,null,null,null,null,null,null,null,null,null,null,null,null,null,null,null,""]
[{"$f":"IF(#REF!>\"\",D418&\"_\"&#REF!&\"_\"&B418,\"\")","v":{"$error":"#REF!"}},{"$f":"IF(#REF!=\"\",\"\",COUNTIF(#REF!,\">\"\"\"))","v":{"$error":"#REF!"}},null,{"$f":"IFERROR(VLOOKUP(C418,Hidden_Словник!$A$2:$C$81,3,FALSE),\"\")","v":""},null,null,null,null,null,null,null,null,null,null,null,null,null,null,null,null,null,null,null,null,""]
[{"$f":"IF(#REF!>\"\",D419&\"_\"&#REF!&\"_\"&B419,\"\")","v":{"$error":"#REF!"}},{"$f":"IF(#REF!=\"\",\"\",COUNTIF(#REF!,\">\"\"\"))","v":{"$error":"#REF!"}},null,{"$f":"IFERROR(VLOOKUP(C419,Hidden_Словник!$A$2:$C$81,3,FALSE),\"\")","v":""},null,null,null,null,null,null,null,null,null,null,null,null,null,null,null,null,null,null,null,null,""]
[{"$f":"IF(#REF!>\"\",D420&\"_\"&#REF!&\"_\"&B420,\"\")","v":{"$error":"#REF!"}},{"$f":"IF(#REF!=\"\",\"\",COUNTIF(#REF!,\">\"\"\"))","v":{"$error":"#REF!"}},null,{"$f":"IFERROR(VLOOKUP(C420,Hidden_Словник!$A$2:$C$81,3,FALSE),\"\")","v":""},null,null,null,null,null,null,null,null,null,null,null,null,null,null,null,null,null,null,null,null,""]
[{"$f":"IF(#REF!>\"\",D421&\"_\"&#REF!&\"_\"&B421,\"\")","v":{"$error":"#REF!"}},{"$f":"IF(#REF!=\"\",\"\",COUNTIF(#REF!,\">\"\"\"))","v":{"$error":"#REF!"}},null,{"$f":"IFERROR(VLOOKUP(C421,Hidden_Словник!$A$2:$C$81,3,FALSE),\"\")","v":""},null,null,null,null,null,null,null,null,null,null,null,null,null,null,null,null,null,null,null,null,""]
[{"$f":"IF(#REF!>\"\",D422&\"_\"&#REF!&\"_\"&B422,\"\")","v":{"$error":"#REF!"}},{"$f":"IF(#REF!=\"\",\"\",COUNTIF(#REF!,\">\"\"\"))","v":{"$error":"#REF!"}},null,{"$f":"IFERROR(VLOOKUP(C422,Hidden_Словник!$A$2:$C$81,3,FALSE),\"\")","v":""},null,null,null,null,null,null,null,null,null,null,null,null,null,null,null,null,null,null,null,null,""]
[{"$f":"IF(#REF!>\"\",D423&\"_\"&#REF!&\"_\"&B423,\"\")","v":{"$error":"#REF!"}},{"$f":"IF(#REF!=\"\",\"\",COUNTIF(#REF!,\">\"\"\"))","v":{"$error":"#REF!"}},null,{"$f":"IFERROR(VLOOKUP(C423,Hidden_Словник!$A$2:$C$81,3,FALSE),\"\")","v":""},null,null,null,null,null,null,null,null,null,null,null,null,null,null,null,null,null,null,null,null,""]
[{"$f":"IF(#REF!>\"\",D424&\"_\"&#REF!&\"_\"&B424,\"\")","v":{"$error":"#REF!"}},{"$f":"IF(#REF!=\"\",\"\",COUNTIF(#REF!,\">\"\"\"))","v":{"$error":"#REF!"}},null,{"$f":"IFERROR(VLOOKUP(C424,Hidden_Словник!$A$2:$C$81,3,FALSE),\"\")","v":""},null,null,null,null,null,null,null,null,null,null,null,null,null,null,null,null,null,null,null,null,""]
[{"$f":"IF(#REF!>\"\",D425&\"_\"&#REF!&\"_\"&B425,\"\")","v":{"$error":"#REF!"}},{"$f":"IF(#REF!=\"\",\"\",COUNTIF(#REF!,\">\"\"\"))","v":{"$error":"#REF!"}},null,{"$f":"IFERROR(VLOOKUP(C425,Hidden_Словник!$A$2:$C$81,3,FALSE),\"\")","v":""},null,null,null,null,null,null,null,null,null,null,null,null,null,null,null,null,null,null,null,null,""]
[{"$f":"IF(#REF!>\"\",D426&\"_\"&#REF!&\"_\"&B426,\"\")","v":{"$error":"#REF!"}},{"$f":"IF(#REF!=\"\",\"\",COUNTIF(#REF!,\">\"\"\"))","v":{"$error":"#REF!"}},null,{"$f":"IFERROR(VLOOKUP(C426,Hidden_Словник!$A$2:$C$81,3,FALSE),\"\")","v":""},null,null,null,null,null,null,null,null,null,null,null,null,null,null,null,null,null,null,null,null,""]
[{"$f":"IF(#REF!>\"\",D427&\"_\"&#REF!&\"_\"&B427,\"\")","v":{"$error":"#REF!"}},{"$f":"IF(#REF!=\"\",\"\",COUNTIF(#REF!,\">\"\"\"))","v":{"$error":"#REF!"}},null,{"$f":"IFERROR(VLOOKUP(C427,Hidden_Словник!$A$2:$C$81,3,FALSE),\"\")","v":""},null,null,null,null,null,null,null,null,null,null,null,null,null,null,null,null,null,null,null,null,""]
[{"$f":"IF(#REF!>\"\",D428&\"_\"&#REF!&\"_\"&B428,\"\")","v":{"$error":"#REF!"}},{"$f":"IF(#REF!=\"\",\"\",COUNTIF(#REF!,\">\"\"\"))","v":{"$error":"#REF!"}},null,{"$f":"IFERROR(VLOOKUP(C428,Hidden_Словник!$A$2:$C$81,3,FALSE),\"\")","v":""},null,null,null,null,null,null,null,null,null,null,null,null,null,null,null,null,null,null,null,null,""]
[{"$f":"IF(#REF!>\"\",D429&\"_\"&#REF!&\"_\"&B429,\"\")","v":{"$error":"#REF!"}},{"$f":"IF(#REF!=\"\",\"\",COUNTIF(#REF!,\">\"\"\"))","v":{"$error":"#REF!"}},null,{"$f":"IFERROR(VLOOKUP(C429,Hidden_Словник!$A$2:$C$81,3,FALSE),\"\")","v":""},null,null,null,null,null,null,null,null,null,null,null,null,null,null,null,null,null,null,null,null,""]
[{"$f":"IF(#REF!>\"\",D430&\"_\"&#REF!&\"_\"&B430,\"\")","v":{"$error":"#REF!"}},{"$f":"IF(#REF!=\"\",\"\",COUNTIF(#REF!,\">\"\"\"))","v":{"$error":"#REF!"}},null,{"$f":"IFERROR(VLOOKUP(C430,Hidden_Словник!$A$2:$C$81,3,FALSE),\"\")","v":""},null,null,null,null,null,null,null,null,null,null,null,null,null,null,null,null,null,null,null,null,""]
[{"$f":"IF(#REF!>\"\",D431&\"_\"&#REF!&\"_\"&B431,\"\")","v":{"$error":"#REF!"}},{"$f":"IF(#REF!=\"\",\"\",COUNTIF(#REF!,\">\"\"\"))","v":{"$error":"#REF!"}},null,{"$f":"IFERROR(VLOOKUP(C431,Hidden_Словник!$A$2:$C$81,3,FALSE),\"\")","v":""},null,null,null,null,null,null,null,null,null,null,null,null,null,null,null,null,null,null,null,null,""]
[{"$f":"IF(#REF!>\"\",D432&\"_\"&#REF!&\"_\"&B432,\"\")","v":{"$error":"#REF!"}},{"$f":"IF(#REF!=\"\",\"\",COUNTIF(#REF!,\">\"\"\"))","v":{"$error":"#REF!"}},null,{"$f":"IFERROR(VLOOKUP(C432,Hidden_Словник!$A$2:$C$81,3,FALSE),\"\")","v":""},null,null,null,null,null,null,null,null,null,null,null,null,null,null,null,null,null,null,null,null,""]
[{"$f":"IF(#REF!>\"\",D433&\"_\"&#REF!&\"_\"&B433,\"\")","v":{"$error":"#REF!"}},{"$f":"IF(#REF!=\"\",\"\",COUNTIF(#REF!,\">\"\"\"))","v":{"$error":"#REF!"}},null,{"$f":"IFERROR(VLOOKUP(C433,Hidden_Словник!$A$2:$C$81,3,FALSE),\"\")","v":""},null,null,null,null,null,null,null,null,null,null,null,null,null,null,null,null,null,null,null,null,""]
[{"$f":"IF(#REF!>\"\",D434&\"_\"&#REF!&\"_\"&B434,\"\")","v":{"$error":"#REF!"}},{"$f":"IF(#REF!=\"\",\"\",COUNTIF(#REF!,\">\"\"\"))","v":{"$error":"#REF!"}},null,{"$f":"IFERROR(VLOOKUP(C434,Hidden_Словник!$A$2:$C$81,3,FALSE),\"\")","v":""},null,null,null,null,null,null,null,null,null,null,null,null,null,null,null,null,null,null,null,null,""]
[{"$f":"IF(#REF!>\"\",D435&\"_\"&#REF!&\"_\"&B435,\"\")","v":{"$error":"#REF!"}},{"$f":"IF(#REF!=\"\",\"\",COUNTIF(#REF!,\">\"\"\"))","v":{"$error":"#REF!"}},null,{"$f":"IFERROR(VLOOKUP(C435,Hidden_Словник!$A$2:$C$81,3,FALSE),\"\")","v":""},null,null,null,null,null,null,null,null,null,null,null,null,null,null,null,null,null,null,null,null,""]
[{"$f":"IF(#REF!>\"\",D436&\"_\"&#REF!&\"_\"&B436,\"\")","v":{"$error":"#REF!"}},{"$f":"IF(#REF!=\"\",\"\",COUNTIF(#REF!,\">\"\"\"))","v":{"$error":"#REF!"}},null,{"$f":"IFERROR(VLOOKUP(C436,Hidden_Словник!$A$2:$C$81,3,FALSE),\"\")","v":""},null,null,null,null,null,null,null,null,null,null,null,null,null,null,null,null,null,null,null,null,""]
[{"$f":"IF(#REF!>\"\",D437&\"_\"&#REF!&\"_\"&B437,\"\")","v":{"$error":"#REF!"}},{"$f":"IF(#REF!=\"\",\"\",COUNTIF(#REF!,\">\"\"\"))","v":{"$error":"#REF!"}},null,{"$f":"IFERROR(VLOOKUP(C437,Hidden_Словник!$A$2:$C$81,3,FALSE),\"\")","v":""},null,null,null,null,null,null,null,null,null,null,null,null,null,null,null,null,null,null,null,null,""]
[{"$f":"IF(#REF!>\"\",D438&\"_\"&#REF!&\"_\"&B438,\"\")","v":{"$error":"#REF!"}},{"$f":"IF(#REF!=\"\",\"\",COUNTIF(#REF!,\">\"\"\"))","v":{"$error":"#REF!"}},null,{"$f":"IFERROR(VLOOKUP(C438,Hidden_Словник!$A$2:$C$81,3,FALSE),\"\")","v":""},null,null,null,null,null,null,null,null,null,null,null,null,null,null,null,null,null,null,null,null,""]
[{"$f":"IF(#REF!>\"\",D439&\"_\"&#REF!&\"_\"&B439,\"\")","v":{"$error":"#REF!"}},{"$f":"IF(#REF!=\"\",\"\",COUNTIF(#REF!,\">\"\"\"))","v":{"$error":"#REF!"}},null,{"$f":"IFERROR(VLOOKUP(C439,Hidden_Словник!$A$2:$C$81,3,FALSE),\"\")","v":""},null,null,null,null,null,null,null,null,null,null,null,null,null,null,null,null,null,null,null,null,""]
[{"$f":"IF(#REF!>\"\",D440&\"_\"&#REF!&\"_\"&B440,\"\")","v":{"$error":"#REF!"}},{"$f":"IF(#REF!=\"\",\"\",COUNTIF(#REF!,\">\"\"\"))","v":{"$error":"#REF!"}},null,{"$f":"IFERROR(VLOOKUP(C440,Hidden_Словник!$A$2:$C$81,3,FALSE),\"\")","v":""},null,null,null,null,null,null,null,null,null,null,null,null,null,null,null,null,null,null,null,null,""]
[{"$f":"IF(#REF!>\"\",D441&\"_\"&#REF!&\"_\"&B441,\"\")","v":{"$error":"#REF!"}},{"$f":"IF(#REF!=\"\",\"\",COUNTIF(#REF!,\">\"\"\"))","v":{"$error":"#REF!"}},null,{"$f":"IFERROR(VLOOKUP(C441,Hidden_Словник!$A$2:$C$81,3,FALSE),\"\")","v":""},null,null,null,null,null,null,null,null,null,null,null,null,null,null,null,null,null,null,null,null,""]
[{"$f":"IF(#REF!>\"\",D442&\"_\"&#REF!&\"_\"&B442,\"\")","v":{"$error":"#REF!"}},{"$f":"IF(#REF!=\"\",\"\",COUNTIF(#REF!,\">\"\"\"))","v":{"$error":"#REF!"}},null,{"$f":"IFERROR(VLOOKUP(C442,Hidden_Словник!$A$2:$C$81,3,FALSE),\"\")","v":""},null,null,null,null,null,null,null,null,null,null,null,null,null,null,null,null,null,null,null,null,""]
[{"$f":"IF(#REF!>\"\",D443&\"_\"&#REF!&\"_\"&B443,\"\")","v":{"$error":"#REF!"}},{"$f":"IF(#REF!=\"\",\"\",COUNTIF(#REF!,\">\"\"\"))","v":{"$error":"#REF!"}},null,{"$f":"IFERROR(VLOOKUP(C443,Hidden_Словник!$A$2:$C$81,3,FALSE),\"\")","v":""},null,null,null,null,null,null,null,null,null,null,null,null,null,null,null,null,null,null,null,null,""]
[{"$f":"IF(#REF!>\"\",D444&\"_\"&#REF!&\"_\"&B444,\"\")","v":{"$error":"#REF!"}},{"$f":"IF(#REF!=\"\",\"\",COUNTIF(#REF!,\">\"\"\"))","v":{"$error":"#REF!"}},null,{"$f":"IFERROR(VLOOKUP(C444,Hidden_Словник!$A$2:$C$81,3,FALSE),\"\")","v":""},null,null,null,null,null,null,null,null,null,null,null,null,null,null,null,null,null,null,null,null,""]
[{"$f":"IF(#REF!>\"\",D445&\"_\"&#REF!&\"_\"&B445,\"\")","v":{"$error":"#REF!"}},{"$f":"IF(#REF!=\"\",\"\",COUNTIF(#REF!,\">\"\"\"))","v":{"$error":"#REF!"}},null,{"$f":"IFERROR(VLOOKUP(C445,Hidden_Словник!$A$2:$C$81,3,FALSE),\"\")","v":""},null,null,null,null,null,null,null,null,null,null,null,null,null,null,null,null,null,null,null,null,""]
[{"$f":"IF(#REF!>\"\",D446&\"_\"&#REF!&\"_\"&B446,\"\")","v":{"$error":"#REF!"}},{"$f":"IF(#REF!=\"\",\"\",COUNTIF(#REF!,\">\"\"\"))","v":{"$error":"#REF!"}},null,{"$f":"IFERROR(VLOOKUP(C446,Hidden_Словник!$A$2:$C$81,3,FALSE),\"\")","v":""},null,null,null,null,null,null,null,null,null,null,null,null,null,null,null,null,null,null,null,null,""]
[{"$f":"IF(#REF!>\"\",D447&\"_\"&#REF!&\"_\"&B447,\"\")","v":{"$error":"#REF!"}},{"$f":"IF(#REF!=\"\",\"\",COUNTIF(#REF!,\">\"\"\"))","v":{"$error":"#REF!"}},null,{"$f":"IFERROR(VLOOKUP(C447,Hidden_Словник!$A$2:$C$81,3,FALSE),\"\")","v":""},null,null,null,null,null,null,null,null,null,null,null,null,null,null,null,null,null,null,null,null,""]
[{"$f":"IF(#REF!>\"\",D448&\"_\"&#REF!&\"_\"&B448,\"\")","v":{"$error":"#REF!"}},{"$f":"IF(#REF!=\"\",\"\",COUNTIF(#REF!,\">\"\"\"))","v":{"$error":"#REF!"}},null,{"$f":"IFERROR(VLOOKUP(C448,Hidden_Словник!$A$2:$C$81,3,FALSE),\"\")","v":""},null,null,null,null,null,null,null,null,null,null,null,null,null,null,null,null,null,null,null,null,""]
[{"$f":"IF(#REF!>\"\",D449&\"_\"&#REF!&\"_\"&B449,\"\")","v":{"$error":"#REF!"}},{"$f":"IF(#REF!=\"\",\"\",COUNTIF(#REF!,\">\"\"\"))","v":{"$error":"#REF!"}},null,{"$f":"IFERROR(VLOOKUP(C449,Hidden_Словник!$A$2:$C$81,3,FALSE),\"\")","v":""},null,null,null,null,null,null,null,null,null,null,null,null,null,null,null,null,null,null,null,null,""]
[{"$f":"IF(#REF!>\"\",D450&\"_\"&#REF!&\"_\"&B450,\"\")","v":{"$error":"#REF!"}},{"$f":"IF(#REF!=\"\",\"\",COUNTIF(#REF!,\">\"\"\"))","v":{"$error":"#REF!"}},null,{"$f":"IFERROR(VLOOKUP(C450,Hidden_Словник!$A$2:$C$81,3,FALSE),\"\")","v":""},null,null,null,null,null,null,null,null,null,null,null,null,null,null,null,null,null,null,null,null,""]
[{"$f":"IF(#REF!>\"\",D451&\"_\"&#REF!&\"_\"&B451,\"\")","v":{"$error":"#REF!"}},{"$f":"IF(#REF!=\"\",\"\",COUNTIF(#REF!,\">\"\"\"))","v":{"$error":"#REF!"}},null,{"$f":"IFERROR(VLOOKUP(C451,Hidden_Словник!$A$2:$C$81,3,FALSE),\"\")","v":""},null,null,null,null,null,null,null,null,null,null,null,null,null,null,null,null,null,null,null,null,""]
[{"$f":"IF(#REF!>\"\",D452&\"_\"&#REF!&\"_\"&B452,\"\")","v":{"$error":"#REF!"}},{"$f":"IF(#REF!=\"\",\"\",COUNTIF(#REF!,\">\"\"\"))","v":{"$error":"#REF!"}},null,{"$f":"IFERROR(VLOOKUP(C452,Hidden_Словник!$A$2:$C$81,3,FALSE),\"\")","v":""},null,null,null,null,null,null,null,null,null,null,null,null,null,null,null,null,null,null,null,null,""]
[{"$f":"IF(#REF!>\"\",D453&\"_\"&#REF!&\"_\"&B453,\"\")","v":{"$error":"#REF!"}},{"$f":"IF(#REF!=\"\",\"\",COUNTIF(#REF!,\">\"\"\"))","v":{"$error":"#REF!"}},null,{"$f":"IFERROR(VLOOKUP(C453,Hidden_Словник!$A$2:$C$81,3,FALSE),\"\")","v":""},null,null,null,null,null,null,null,null,null,null,null,null,null,null,null,null,null,null,null,null,""]
[{"$f":"IF(#REF!>\"\",D454&\"_\"&#REF!&\"_\"&B454,\"\")","v":{"$error":"#REF!"}},{"$f":"IF(#REF!=\"\",\"\",COUNTIF(#REF!,\">\"\"\"))","v":{"$error":"#REF!"}},null,{"$f":"IFERROR(VLOOKUP(C454,Hidden_Словник!$A$2:$C$81,3,FALSE),\"\")","v":""},null,null,null,null,null,null,null,null,null,null,null,null,null,null,null,null,null,null,null,null,""]
[{"$f":"IF(#REF!>\"\",D455&\"_\"&#REF!&\"_\"&B455,\"\")","v":{"$error":"#REF!"}},{"$f":"IF(#REF!=\"\",\"\",COUNTIF(#REF!,\">\"\"\"))","v":{"$error":"#REF!"}},null,{"$f":"IFERROR(VLOOKUP(C455,Hidden_Словник!$A$2:$C$81,3,FALSE),\"\")","v":""},null,null,null,null,null,null,null,null,null,null,null,null,null,null,null,null,null,null,null,null,""]
[{"$f":"IF(#REF!>\"\",D456&\"_\"&#REF!&\"_\"&B456,\"\")","v":{"$error":"#REF!"}},{"$f":"IF(#REF!=\"\",\"\",COUNTIF(#REF!,\">\"\"\"))","v":{"$error":"#REF!"}},null,{"$f":"IFERROR(VLOOKUP(C456,Hidden_Словник!$A$2:$C$81,3,FALSE),\"\")","v":""},null,null,null,null,null,null,null,null,null,null,null,null,null,null,null,null,null,null,null,null,""]
[{"$f":"IF(#REF!>\"\",D457&\"_\"&#REF!&\"_\"&B457,\"\")","v":{"$error":"#REF!"}},{"$f":"IF(#REF!=\"\",\"\",COUNTIF(#REF!,\">\"\"\"))","v":{"$error":"#REF!"}},null,{"$f":"IFERROR(VLOOKUP(C457,Hidden_Словник!$A$2:$C$81,3,FALSE),\"\")","v":""},null,null,null,null,null,null,null,null,null,null,null,null,null,null,null,null,null,null,null,null,""]
[{"$f":"IF(#REF!>\"\",D458&\"_\"&#REF!&\"_\"&B458,\"\")","v":{"$error":"#REF!"}},{"$f":"IF(#REF!=\"\",\"\",COUNTIF(#REF!,\">\"\"\"))","v":{"$error":"#REF!"}},null,{"$f":"IFERROR(VLOOKUP(C458,Hidden_Словник!$A$2:$C$81,3,FALSE),\"\")","v":""},null,null,null,null,null,null,null,null,null,null,null,null,null,null,null,null,null,null,null,null,""]
[{"$f":"IF(#REF!>\"\",D459&\"_\"&#REF!&\"_\"&B459,\"\")","v":{"$error":"#REF!"}},{"$f":"IF(#REF!=\"\",\"\",COUNTIF(#REF!,\">\"\"\"))","v":{"$error":"#REF!"}},null,{"$f":"IFERROR(VLOOKUP(C459,Hidden_Словник!$A$2:$C$81,3,FALSE),\"\")","v":""},null,null,null,null,null,null,null,null,null,null,null,null,null,null,null,null,null,null,null,null,""]
[{"$f":"IF(#REF!>\"\",D460&\"_\"&#REF!&\"_\"&B460,\"\")","v":{"$error":"#REF!"}},{"$f":"IF(#REF!=\"\",\"\",COUNTIF(#REF!,\">\"\"\"))","v":{"$error":"#REF!"}},null,{"$f":"IFERROR(VLOOKUP(C460,Hidden_Словник!$A$2:$C$81,3,FALSE),\"\")","v":""},null,null,null,null,null,null,null,null,null,null,null,null,null,null,null,null,null,null,null,null,""]
[{"$f":"IF(#REF!>\"\",D461&\"_\"&#REF!&\"_\"&B461,\"\")","v":{"$error":"#REF!"}},{"$f":"IF(#REF!=\"\",\"\",COUNTIF(#REF!,\">\"\"\"))","v":{"$error":"#REF!"}},null,{"$f":"IFERROR(VLOOKUP(C461,Hidden_Словник!$A$2:$C$81,3,FALSE),\"\")","v":""},null,null,null,null,null,null,null,null,null,null,null,null,null,null,null,null,null,null,null,null,""]
[{"$f":"IF(#REF!>\"\",D462&\"_\"&#REF!&\"_\"&B462,\"\")","v":{"$error":"#REF!"}},{"$f":"IF(#REF!=\"\",\"\",COUNTIF(#REF!,\">\"\"\"))","v":{"$error":"#REF!"}},null,{"$f":"IFERROR(VLOOKUP(C462,Hidden_Словник!$A$2:$C$81,3,FALSE),\"\")","v":""},null,null,null,null,null,null,null,null,null,null,null,null,null,null,null,null,null,null,null,null,""]
[{"$f":"IF(#REF!>\"\",D463&\"_\"&#REF!&\"_\"&B463,\"\")","v":{"$error":"#REF!"}},{"$f":"IF(#REF!=\"\",\"\",COUNTIF(#REF!,\">\"\"\"))","v":{"$error":"#REF!"}},null,{"$f":"IFERROR(VLOOKUP(C463,Hidden_Словник!$A$2:$C$81,3,FALSE),\"\")","v":""},null,null,null,null,null,null,null,null,null,null,null,null,null,null,null,null,null,null,null,null,{"$f":"IF(Z463+AA463>0,Z463+AA463,\"\")","v":""}]
[{"$f":"IF(#REF!>\"\",D464&\"_\"&#REF!&\"_\"&B464,\"\")","v":{"$error":"#REF!"}},{"$f":"IF(#REF!=\"\",\"\",COUNTIF(#REF!,\">\"\"\"))","v":{"$error":"#REF!"}},null,{"$f":"IFERROR(VLOOKUP(C464,Hidden_Словник!$A$2:$C$81,3,FALSE),\"\")","v":""},null,null,null,null,null,null,null,null,null,null,null,null,null,null,null,null,null,null,null,null,""]
[{"$f":"IF(#REF!>\"\",D465&\"_\"&#REF!&\"_\"&B465,\"\")","v":{"$error":"#REF!"}},{"$f":"IF(#REF!=\"\",\"\",COUNTIF(#REF!,\">\"\"\"))","v":{"$error":"#REF!"}},null,{"$f":"IFERROR(VLOOKUP(C465,Hidden_Словник!$A$2:$C$81,3,FALSE),\"\")","v":""},null,null,null,null,null,null,null,null,null,null,null,null,null,null,null,null,null,null,null,null,""]
[{"$f":"IF(#REF!>\"\",D466&\"_\"&#REF!&\"_\"&B466,\"\")","v":{"$error":"#REF!"}},{"$f":"IF(#REF!=\"\",\"\",COUNTIF(#REF!,\">\"\"\"))","v":{"$error":"#REF!"}},null,{"$f":"IFERROR(VLOOKUP(C466,Hidden_Словник!$A$2:$C$81,3,FALSE),\"\")","v":""},null,null,null,null,null,null,null,null,null,null,null,null,null,null,null,null,null,null,null,null,""]
[{"$f":"IF(#REF!>\"\",D467&\"_\"&#REF!&\"_\"&B467,\"\")","v":{"$error":"#REF!"}},{"$f":"IF(#REF!=\"\",\"\",COUNTIF(#REF!,\">\"\"\"))","v":{"$error":"#REF!"}},null,{"$f":"IFERROR(VLOOKUP(C467,Hidden_Словник!$A$2:$C$81,3,FALSE),\"\")","v":""},null,null,null,null,null,null,null,null,null,null,null,null,null,null,null,null,null,null,null,null,""]
[{"$f":"IF(#REF!>\"\",D468&\"_\"&#REF!&\"_\"&B468,\"\")","v":{"$error":"#REF!"}},{"$f":"IF(#REF!=\"\",\"\",COUNTIF(#REF!,\">\"\"\"))","v":{"$error":"#REF!"}},null,{"$f":"IFERROR(VLOOKUP(C468,Hidden_Словник!$A$2:$C$81,3,FALSE),\"\")","v":""},null,null,null,null,null,null,null,null,null,null,null,null,null,null,null,null,null,null,null,null,""]
[{"$f":"IF(#REF!>\"\",D469&\"_\"&#REF!&\"_\"&B469,\"\")","v":{"$error":"#REF!"}},{"$f":"IF(#REF!=\"\",\"\",COUNTIF(#REF!,\">\"\"\"))","v":{"$error":"#REF!"}},null,{"$f":"IFERROR(VLOOKUP(C469,Hidden_Словник!$A$2:$C$81,3,FALSE),\"\")","v":""},null,null,null,null,null,null,null,null,null,null,null,null,null,null,null,null,null,null,null,null,""]
[{"$f":"IF(#REF!>\"\",D470&\"_\"&#REF!&\"_\"&B470,\"\")","v":{"$error":"#REF!"}},{"$f":"IF(#REF!=\"\",\"\",COUNTIF(#REF!,\">\"\"\"))","v":{"$error":"#REF!"}},null,{"$f":"IFERROR(VLOOKUP(C470,Hidden_Словник!$A$2:$C$81,3,FALSE),\"\")","v":""},null,null,null,null,null,null,null,null,null,null,null,null,null,null,null,null,null,null,null,null,""]
[{"$f":"IF(#REF!>\"\",D471&\"_\"&#REF!&\"_\"&B471,\"\")","v":{"$error":"#REF!"}},{"$f":"IF(#REF!=\"\",\"\",COUNTIF(#REF!,\">\"\"\"))","v":{"$error":"#REF!"}},null,{"$f":"IFERROR(VLOOKUP(C471,Hidden_Словник!$A$2:$C$81,3,FALSE),\"\")","v":""},null,null,null,null,null,null,null,null,null,null,null,null,null,null,null,null,null,null,null,null,""]
[{"$f":"IF(#REF!>\"\",D472&\"_\"&#REF!&\"_\"&B472,\"\")","v":{"$error":"#REF!"}},{"$f":"IF(#REF!=\"\",\"\",COUNTIF(#REF!,\">\"\"\"))","v":{"$error":"#REF!"}},null,{"$f":"IFERROR(VLOOKUP(C472,Hidden_Словник!$A$2:$C$81,3,FALSE),\"\")","v":""},null,null,null,null,null,null,null,null,null,null,null,null,null,null,null,null,null,null,null,null,""]
[{"$f":"IF(#REF!>\"\",D473&\"_\"&#REF!&\"_\"&B473,\"\")","v":{"$error":"#REF!"}},{"$f":"IF(#REF!=\"\",\"\",COUNTIF(#REF!,\">\"\"\"))","v":{"$error":"#REF!"}},null,{"$f":"IFERROR(VLOOKUP(C473,Hidden_Словник!$A$2:$C$81,3,FALSE),\"\")","v":""},null,null,null,null,null,null,null,null,null,null,null,null,null,null,null,null,null,null,null,null,""]
[{"$f":"IF(#REF!>\"\",D474&\"_\"&#REF!&\"_\"&B474,\"\")","v":{"$error":"#REF!"}},{"$f":"IF(#REF!=\"\",\"\",COUNTIF(#REF!,\">\"\"\"))","v":{"$error":"#REF!"}},null,{"$f":"IFERROR(VLOOKUP(C474,Hidden_Словник!$A$2:$C$81,3,FALSE),\"\")","v":""},null,null,null,null,null,null,null,null,null,null,null,null,null,null,null,null,null,null,null,null,""]
[{"$f":"IF(#REF!>\"\",D475&\"_\"&#REF!&\"_\"&B475,\"\")","v":{"$error":"#REF!"}},{"$f":"IF(#REF!=\"\",\"\",COUNTIF(#REF!,\">\"\"\"))","v":{"$error":"#REF!"}},null,{"$f":"IFERROR(VLOOKUP(C475,Hidden_Словник!$A$2:$C$81,3,FALSE),\"\")","v":""},null,null,null,null,null,null,null,null,null,null,null,null,null,null,null,null,null,null,null,null,""]
[{"$f":"IF(#REF!>\"\",D476&\"_\"&#REF!&\"_\"&B476,\"\")","v":{"$error":"#REF!"}},{"$f":"IF(#REF!=\"\",\"\",COUNTIF(#REF!,\">\"\"\"))","v":{"$error":"#REF!"}},null,{"$f":"IFERROR(VLOOKUP(C476,Hidden_Словник!$A$2:$C$81,3,FALSE),\"\")","v":""},null,null,null,null,null,null,null,null,null,null,null,null,null,null,null,null,null,null,null,null,""]
[{"$f":"IF(#REF!>\"\",D477&\"_\"&#REF!&\"_\"&B477,\"\")","v":{"$error":"#REF!"}},{"$f":"IF(#REF!=\"\",\"\",COUNTIF(#REF!,\">\"\"\"))","v":{"$error":"#REF!"}},null,{"$f":"IFERROR(VLOOKUP(C477,Hidden_Словник!$A$2:$C$81,3,FALSE),\"\")","v":""},null,null,null,null,null,null,null,null,null,null,null,null,null,null,null,null,null,null,null,null,""]
[{"$f":"IF(#REF!>\"\",D478&\"_\"&#REF!&\"_\"&B478,\"\")","v":{"$error":"#REF!"}},{"$f":"IF(#REF!=\"\",\"\",COUNTIF(#REF!,\">\"\"\"))","v":{"$error":"#REF!"}},null,{"$f":"IFERROR(VLOOKUP(C478,Hidden_Словник!$A$2:$C$81,3,FALSE),\"\")","v":""},null,null,null,null,null,null,null,null,null,null,null,null,null,null,null,null,null,null,null,null,""]
[{"$f":"IF(#REF!>\"\",D479&\"_\"&#REF!&\"_\"&B479,\"\")","v":{"$error":"#REF!"}},{"$f":"IF(#REF!=\"\",\"\",COUNTIF(#REF!,\">\"\"\"))","v":{"$error":"#REF!"}},null,{"$f":"IFERROR(VLOOKUP(C479,Hidden_Словник!$A$2:$C$81,3,FALSE),\"\")","v":""},null,null,null,null,null,null,null,null,null,null,null,null,null,null,null,null,null,null,null,null,""]
[{"$f":"IF(#REF!>\"\",D480&\"_\"&#REF!&\"_\"&B480,\"\")","v":{"$error":"#REF!"}},{"$f":"IF(#REF!=\"\",\"\",COUNTIF(#REF!,\">\"\"\"))","v":{"$error":"#REF!"}},null,{"$f":"IFERROR(VLOOKUP(C480,Hidden_Словник!$A$2:$C$81,3,FALSE),\"\")","v":""},null,null,null,null,null,null,null,null,null,null,null,null,null,null,null,null,null,null,null,null,""]
[{"$f":"IF(#REF!>\"\",D481&\"_\"&#REF!&\"_\"&B481,\"\")","v":{"$error":"#REF!"}},{"$f":"IF(#REF!=\"\",\"\",COUNTIF(#REF!,\">\"\"\"))","v":{"$error":"#REF!"}},null,{"$f":"IFERROR(VLOOKUP(C481,Hidden_Словник!$A$2:$C$81,3,FALSE),\"\")","v":""},null,null,null,null,null,null,null,null,null,null,null,null,null,null,null,null,null,null,null,null,""]
[{"$f":"IF(#REF!>\"\",D482&\"_\"&#REF!&\"_\"&B482,\"\")","v":{"$error":"#REF!"}},{"$f":"IF(#REF!=\"\",\"\",COUNTIF(#REF!,\">\"\"\"))","v":{"$error":"#REF!"}},null,{"$f":"IFERROR(VLOOKUP(C482,Hidden_Словник!$A$2:$C$81,3,FALSE),\"\")","v":""},null,null,null,null,null,null,null,null,null,null,null,null,null,null,null,null,null,null,null,null,""]
[{"$f":"IF(#REF!>\"\",D483&\"_\"&#REF!&\"_\"&B483,\"\")","v":{"$error":"#REF!"}},{"$f":"IF(#REF!=\"\",\"\",COUNTIF(#REF!,\">\"\"\"))","v":{"$error":"#REF!"}},null,{"$f":"IFERROR(VLOOKUP(C483,Hidden_Словник!$A$2:$C$81,3,FALSE),\"\")","v":""},null,null,null,null,null,null,null,null,null,null,null,null,null,null,null,null,null,null,null,null,""]
[{"$f":"IF(#REF!>\"\",D484&\"_\"&#REF!&\"_\"&B484,\"\")","v":{"$error":"#REF!"}},{"$f":"IF(#REF!=\"\",\"\",COUNTIF(#REF!,\">\"\"\"))","v":{"$error":"#REF!"}},null,{"$f":"IFERROR(VLOOKUP(C484,Hidden_Словник!$A$2:$C$81,3,FALSE),\"\")","v":""},null,null,null,null,null,null,null,null,null,null,null,null,null,null,null,null,null,null,null,null,""]
[{"$f":"IF(#REF!>\"\",D485&\"_\"&#REF!&\"_\"&B485,\"\")","v":{"$error":"#REF!"}},{"$f":"IF(#REF!=\"\",\"\",COUNTIF(#REF!,\">\"\"\"))","v":{"$error":"#REF!"}},null,{"$f":"IFERROR(VLOOKUP(C485,Hidden_Словник!$A$2:$C$81,3,FALSE),\"\")","v":""},null,null,null,null,null,null,null,null,null,null,null,null,null,null,null,null,null,null,null,null,""]
[{"$f":"IF(#REF!>\"\",D486&\"_\"&#REF!&\"_\"&B486,\"\")","v":{"$error":"#REF!"}},{"$f":"IF(#REF!=\"\",\"\",COUNTIF(#REF!,\">\"\"\"))","v":{"$error":"#REF!"}},null,{"$f":"IFERROR(VLOOKUP(C486,Hidden_Словник!$A$2:$C$81,3,FALSE),\"\")","v":""},null,null,null,null,null,null,null,null,null,null,null,null,null,null,null,null,null,null,null,null,""]
[{"$f":"IF(#REF!>\"\",D487&\"_\"&#REF!&\"_\"&B487,\"\")","v":{"$error":"#REF!"}},{"$f":"IF(#REF!=\"\",\"\",COUNTIF(#REF!,\">\"\"\"))","v":{"$error":"#REF!"}},null,{"$f":"IFERROR(VLOOKUP(C487,Hidden_Словник!$A$2:$C$81,3,FALSE),\"\")","v":""},null,null,null,null,null,null,null,null,null,null,null,null,null,null,null,null,null,null,null,null,""]
[{"$f":"IF(#REF!>\"\",D488&\"_\"&#REF!&\"_\"&B488,\"\")","v":{"$error":"#REF!"}},{"$f":"IF(#REF!=\"\",\"\",COUNTIF(#REF!,\">\"\"\"))","v":{"$error":"#REF!"}},null,{"$f":"IFERROR(VLOOKUP(C488,Hidden_Словник!$A$2:$C$81,3,FALSE),\"\")","v":""},null,null,null,null,null,null,null,null,null,null,null,null,null,null,null,null,null,null,null,null,""]
[{"$f":"IF(#REF!>\"\",D489&\"_\"&#REF!&\"_\"&B489,\"\")","v":{"$error":"#REF!"}},{"$f":"IF(#REF!=\"\",\"\",COUNTIF(#REF!,\">\"\"\"))","v":{"$error":"#REF!"}},null,{"$f":"IFERROR(VLOOKUP(C489,Hidden_Словник!$A$2:$C$81,3,FALSE),\"\")","v":""},null,null,null,null,null,null,null,null,null,null,null,null,null,null,null,null,null,null,null,null,""]
[{"$f":"IF(#REF!>\"\",D490&\"_\"&#REF!&\"_\"&B490,\"\")","v":{"$error":"#REF!"}},{"$f":"IF(#REF!=\"\",\"\",COUNTIF(#REF!,\">\"\"\"))","v":{"$error":"#REF!"}},null,{"$f":"IFERROR(VLOOKUP(C490,Hidden_Словник!$A$2:$C$81,3,FALSE),\"\")","v":""},null,null,null,null,null,null,null,null,null,null,null,null,null,null,null,null,null,null,null,null,""]
[{"$f":"IF(#REF!>\"\",D491&\"_\"&#REF!&\"_\"&B491,\"\")","v":{"$error":"#REF!"}},{"$f":"IF(#REF!=\"\",\"\",COUNTIF(#REF!,\">\"\"\"))","v":{"$error":"#REF!"}},null,{"$f":"IFERROR(VLOOKUP(C491,Hidden_Словник!$A$2:$C$81,3,FALSE),\"\")","v":""},null,null,null,null,null,null,null,null,null,null,null,null,null,null,null,null,null,null,null,null,""]
[{"$f":"IF(#REF!>\"\",D492&\"_\"&#REF!&\"_\"&B492,\"\")","v":{"$error":"#REF!"}},{"$f":"IF(#REF!=\"\",\"\",COUNTIF(#REF!,\">\"\"\"))","v":{"$error":"#REF!"}},null,{"$f":"IFERROR(VLOOKUP(C492,Hidden_Словник!$A$2:$C$81,3,FALSE),\"\")","v":""},null,null,null,null,null,null,null,null,null,null,null,null,null,null,null,null,null,null,null,null,""]
[{"$f":"IF(#REF!>\"\",D493&\"_\"&#REF!&\"_\"&B493,\"\")","v":{"$error":"#REF!"}},{"$f":"IF(#REF!=\"\",\"\",COUNTIF(#REF!,\">\"\"\"))","v":{"$error":"#REF!"}},null,{"$f":"IFERROR(VLOOKUP(C493,Hidden_Словник!$A$2:$C$81,3,FALSE),\"\")","v":""},null,null,null,null,null,null,null,null,null,null,null,null,null,null,null,null,null,null,null,null,""]
[{"$f":"IF(#REF!>\"\",D494&\"_\"&#REF!&\"_\"&B494,\"\")","v":{"$error":"#REF!"}},{"$f":"IF(#REF!=\"\",\"\",COUNTIF(#REF!,\">\"\"\"))","v":{"$error":"#REF!"}},null,{"$f":"IFERROR(VLOOKUP(C494,Hidden_Словник!$A$2:$C$81,3,FALSE),\"\")","v":""},null,null,null,null,null,null,null,null,null,null,null,null,null,null,null,null,null,null,null,null,""]
[{"$f":"IF(#REF!>\"\",D495&\"_\"&#REF!&\"_\"&B495,\"\")","v":{"$error":"#REF!"}},{"$f":"IF(#REF!=\"\",\"\",COUNTIF(#REF!,\">\"\"\"))","v":{"$error":"#REF!"}},null,{"$f":"IFERROR(VLOOKUP(C495,Hidden_Словник!$A$2:$C$81,3,FALSE),\"\")","v":""},null,null,null,null,null,null,null,null,null,null,null,null,null,null,null,null,null,null,null,null,""]
[{"$f":"IF(#REF!>\"\",D496&\"_\"&#REF!&\"_\"&B496,\"\")","v":{"$error":"#REF!"}},{"$f":"IF(#REF!=\"\",\"\",COUNTIF(#REF!,\">\"\"\"))","v":{"$error":"#REF!"}},null,{"$f":"IFERROR(VLOOKUP(C496,Hidden_Словник!$A$2:$C$81,3,FALSE),\"\")","v":""},null,null,null,null,null,null,null,null,null,null,null,null,null,null,null,null,null,null,null,null,""]
[{"$f":"IF(#REF!>\"\",D497&\"_\"&#REF!&\"_\"&B497,\"\")","v":{"$error":"#REF!"}},{"$f":"IF(#REF!=\"\",\"\",COUNTIF(#REF!,\">\"\"\"))","v":{"$error":"#REF!"}},null,{"$f":"IFERROR(VLOOKUP(C497,Hidden_Словник!$A$2:$C$81,3,FALSE),\"\")","v":""},null,null,null,null,null,null,null,null,null,null,null,null,null,null,null,null,null,null,null,null,""]
[{"$f":"IF(#REF!>\"\",D498&\"_\"&#REF!&\"_\"&B498,\"\")","v":{"$error":"#REF!"}},{"$f":"IF(#REF!=\"\",\"\",COUNTIF(#REF!,\">\"\"\"))","v":{"$error":"#REF!"}},null,{"$f":"IFERROR(VLOOKUP(C498,Hidden_Словник!$A$2:$C$81,3,FALSE),\"\")","v":""},null,null,null,null,null,null,null,null,null,null,null,null,null,null,null,null,null,null,null,null,""]
[{"$f":"IF(#REF!>\"\",D499&\"_\"&#REF!&\"_\"&B499,\"\")","v":{"$error":"#REF!"}},{"$f":"IF(#REF!=\"\",\"\",COUNTIF(#REF!,\">\"\"\"))","v":{"$error":"#REF!"}},null,{"$f":"IFERROR(VLOOKUP(C499,Hidden_Словник!$A$2:$C$81,3,FALSE),\"\")","v":""},null,null,null,null,null,null,null,null,null,null,null,null,null,null,null,null,null,null,null,null,""]
[{"$f":"IF(#REF!>\"\",D500&\"_\"&#REF!&\"_\"&B500,\"\")","v":{"$error":"#REF!"}},{"$f":"IF(#REF!=\"\",\"\",COUNTIF(#REF!,\">\"\"\"))","v":{"$error":"#REF!"}},null,{"$f":"IFERROR(VLOOKUP(C500,Hidden_Словник!$A$2:$C$81,3,FALSE),\"\")","v":""},null,null,null,null,null,null,null,null,null,null,null,null,null,null,null,null,null,null,null,null,""]
[{"$f":"IF(#REF!>\"\",D501&\"_\"&#REF!&\"_\"&B501,\"\")","v":{"$error":"#REF!"}},{"$f":"IF(#REF!=\"\",\"\",COUNTIF(#REF!,\">\"\"\"))","v":{"$error":"#REF!"}},null,{"$f":"IFERROR(VLOOKUP(C501,Hidden_Словник!$A$2:$C$81,3,FALSE),\"\")","v":""},null,null,null,null,null,null,null,null,null,null,null,null,null,null,null,null,null,null,null,null,""]
[{"$f":"IF(#REF!>\"\",D502&\"_\"&#REF!&\"_\"&B502,\"\")","v":{"$error":"#REF!"}},{"$f":"IF(#REF!=\"\",\"\",COUNTIF(#REF!,\">\"\"\"))","v":{"$error":"#REF!"}},null,{"$f":"IFERROR(VLOOKUP(C502,Hidden_Словник!$A$2:$C$81,3,FALSE),\"\")","v":""},null,null,null,null,null,null,null,null,null,null,null,null,null,null,null,null,null,null,null,null,""]
[{"$f":"IF(#REF!>\"\",D503&\"_\"&#REF!&\"_\"&B503,\"\")","v":{"$error":"#REF!"}},{"$f":"IF(#REF!=\"\",\"\",COUNTIF(#REF!,\">\"\"\"))","v":{"$error":"#REF!"}},null,{"$f":"IFERROR(VLOOKUP(C503,Hidden_Словник!$A$2:$C$81,3,FALSE),\"\")","v":""},null,null,null,null,null,null,null,null,null,null,null,null,null,null,null,null,null,null,null,null,""]
[{"$f":"IF(#REF!>\"\",D504&\"_\"&#REF!&\"_\"&B504,\"\")","v":{"$error":"#REF!"}},{"$f":"IF(#REF!=\"\",\"\",COUNTIF(#REF!,\">\"\"\"))","v":{"$error":"#REF!"}},null,{"$f":"IFERROR(VLOOKUP(C504,Hidden_Словник!$A$2:$C$81,3,FALSE),\"\")","v":""},null,null,null,null,null,null,null,null,null,null,null,null,null,null,null,null,null,null,null,null,""]
[{"$f":"IF(#REF!>\"\",D505&\"_\"&#REF!&\"_\"&B505,\"\")","v":{"$error":"#REF!"}},{"$f":"IF(#REF!=\"\",\"\",COUNTIF(#REF!,\">\"\"\"))","v":{"$error":"#REF!"}},null,{"$f":"IFERROR(VLOOKUP(C505,Hidden_Словник!$A$2:$C$81,3,FALSE),\"\")","v":""},null,null,null,null,null,null,null,null,null,null,null,null,null,null,null,null,null,null,null,null,""]
[{"$f":"IF(#REF!>\"\",D506&\"_\"&#REF!&\"_\"&B506,\"\")","v":{"$error":"#REF!"}},{"$f":"IF(#REF!=\"\",\"\",COUNTIF(#REF!,\">\"\"\"))","v":{"$error":"#REF!"}},null,{"$f":"IFERROR(VLOOKUP(C506,Hidden_Словник!$A$2:$C$81,3,FALSE),\"\")","v":""},null,null,null,null,null,null,null,null,null,null,null,null,null,null,null,null,null,null,null,null,""]
[{"$f":"IF(#REF!>\"\",D507&\"_\"&#REF!&\"_\"&B507,\"\")","v":{"$error":"#REF!"}},{"$f":"IF(#REF!=\"\",\"\",COUNTIF(#REF!,\">\"\"\"))","v":{"$error":"#REF!"}},null,{"$f":"IFERROR(VLOOKUP(C507,Hidden_Словник!$A$2:$C$81,3,FALSE),\"\")","v":""},null,null,null,null,null,null,null,null,null,null,null,null,null,null,null,null,null,null,null,null,""]
[{"$f":"IF(#REF!>\"\",D508&\"_\"&#REF!&\"_\"&B508,\"\")","v":{"$error":"#REF!"}},{"$f":"IF(#REF!=\"\",\"\",COUNTIF(#REF!,\">\"\"\"))","v":{"$error":"#REF!"}},null,{"$f":"IFERROR(VLOOKUP(C508,Hidden_Словник!$A$2:$C$81,3,FALSE),\"\")","v":""},null,null,null,null,null,null,null,null,null,null,null,null,null,null,null,null,null,null,null,null,""]
[{"$f":"IF(#REF!>\"\",D509&\"_\"&#REF!&\"_\"&B509,\"\")","v":{"$error":"#REF!"}},{"$f":"IF(#REF!=\"\",\"\",COUNTIF(#REF!,\">\"\"\"))","v":{"$error":"#REF!"}},null,{"$f":"IFERROR(VLOOKUP(C509,Hidden_Словник!$A$2:$C$81,3,FALSE),\"\")","v":""},null,null,null,null,null,null,null,null,null,null,null,null,null,null,null,null,null,null,null,null,""]
[{"$f":"IF(#REF!>\"\",D510&\"_\"&#REF!&\"_\"&B510,\"\")","v":{"$error":"#REF!"}},{"$f":"IF(#REF!=\"\",\"\",COUNTIF(#REF!,\">\"\"\"))","v":{"$error":"#REF!"}},null,{"$f":"IFERROR(VLOOKUP(C510,Hidden_Словник!$A$2:$C$81,3,FALSE),\"\")","v":""},null,null,null,null,null,null,null,null,null,null,null,null,null,null,null,null,null,null,null,null,""]
[{"$f":"IF(#REF!>\"\",D511&\"_\"&#REF!&\"_\"&B511,\"\")","v":{"$error":"#REF!"}},{"$f":"IF(#REF!=\"\",\"\",COUNTIF(#REF!,\">\"\"\"))","v":{"$error":"#REF!"}},null,{"$f":"IFERROR(VLOOKUP(C511,Hidden_Словник!$A$2:$C$81,3,FALSE),\"\")","v":""},null,null,null,null,null,null,null,null,null,null,null,null,null,null,null,null,null,null,null,null,""]
[{"$f":"IF(#REF!>\"\",D512&\"_\"&#REF!&\"_\"&B512,\"\")","v":{"$error":"#REF!"}},{"$f":"IF(#REF!=\"\",\"\",COUNTIF(#REF!,\">\"\"\"))","v":{"$error":"#REF!"}},null,{"$f":"IFERROR(VLOOKUP(C512,Hidden_Словник!$A$2:$C$81,3,FALSE),\"\")","v":""},null,null,null,null,null,null,null,null,null,null,null,null,null,null,null,null,null,null,null,null,""]
[{"$f":"IF(#REF!>\"\",D513&\"_\"&#REF!&\"_\"&B513,\"\")","v":{"$error":"#REF!"}},{"$f":"IF(#REF!=\"\",\"\",COUNTIF(#REF!,\">\"\"\"))","v":{"$error":"#REF!"}},null,{"$f":"IFERROR(VLOOKUP(C513,Hidden_Словник!$A$2:$C$81,3,FALSE),\"\")","v":""},null,null,null,null,null,null,null,null,null,null,null,null,null,null,null,null,null,null,null,null,""]
[{"$f":"IF(#REF!>\"\",D514&\"_\"&#REF!&\"_\"&B514,\"\")","v":{"$error":"#REF!"}},{"$f":"IF(#REF!=\"\",\"\",COUNTIF(#REF!,\">\"\"\"))","v":{"$error":"#REF!"}},null,{"$f":"IFERROR(VLOOKUP(C514,Hidden_Словник!$A$2:$C$81,3,FALSE),\"\")","v":""},null,null,null,null,null,null,null,null,null,null,null,null,null,null,null,null,null,null,null,null,""]
[{"$f":"IF(#REF!>\"\",D515&\"_\"&#REF!&\"_\"&B515,\"\")","v":{"$error":"#REF!"}},{"$f":"IF(#REF!=\"\",\"\",COUNTIF(#REF!,\">\"\"\"))","v":{"$error":"#REF!"}},null,{"$f":"IFERROR(VLOOKUP(C515,Hidden_Словник!$A$2:$C$81,3,FALSE),\"\")","v":""},null,null,null,null,null,null,null,null,null,null,null,null,null,null,null,null,null,null,null,null,""]
[{"$f":"IF(#REF!>\"\",D516&\"_\"&#REF!&\"_\"&B516,\"\")","v":{"$error":"#REF!"}},{"$f":"IF(#REF!=\"\",\"\",COUNTIF(#REF!,\">\"\"\"))","v":{"$error":"#REF!"}},null,{"$f":"IFERROR(VLOOKUP(C516,Hidden_Словник!$A$2:$C$81,3,FALSE),\"\")","v":""},null,null,null,null,null,null,null,null,null,null,null,null,null,null,null,null,null,null,null,null,""]
[{"$f":"IF(#REF!>\"\",D517&\"_\"&#REF!&\"_\"&B517,\"\")","v":{"$error":"#REF!"}},{"$f":"IF(#REF!=\"\",\"\",COUNTIF(#REF!,\">\"\"\"))","v":{"$error":"#REF!"}},null,{"$f":"IFERROR(VLOOKUP(C517,Hidden_Словник!$A$2:$C$81,3,FALSE),\"\")","v":""},null,null,null,null,null,null,null,null,null,null,null,null,null,null,null,null,null,null,null,null,""]
[{"$f":"IF(#REF!>\"\",D518&\"_\"&#REF!&\"_\"&B518,\"\")","v":{"$error":"#REF!"}},{"$f":"IF(#REF!=\"\",\"\",COUNTIF(#REF!,\">\"\"\"))","v":{"$error":"#REF!"}},null,{"$f":"IFERROR(VLOOKUP(C518,Hidden_Словник!$A$2:$C$81,3,FALSE),\"\")","v":""},null,null,null,null,null,null,null,null,null,null,null,null,null,null,null,null,null,null,null,null,""]
[{"$f":"IF(#REF!>\"\",D519&\"_\"&#REF!&\"_\"&B519,\"\")","v":{"$error":"#REF!"}},{"$f":"IF(#REF!=\"\",\"\",COUNTIF(#REF!,\">\"\"\"))","v":{"$error":"#REF!"}},null,{"$f":"IFERROR(VLOOKUP(C519,Hidden_Словник!$A$2:$C$81,3,FALSE),\"\")","v":""},null,null,null,null,null,null,null,null,null,null,null,null,null,null,null,null,null,null,null,null,""]
[{"$f":"IF(#REF!>\"\",D520&\"_\"&#REF!&\"_\"&B520,\"\")","v":{"$error":"#REF!"}},{"$f":"IF(#REF!=\"\",\"\",COUNTIF(#REF!,\">\"\"\"))","v":{"$error":"#REF!"}},null,{"$f":"IFERROR(VLOOKUP(C520,Hidden_Словник!$A$2:$C$81,3,FALSE),\"\")","v":""},null,null,null,null,null,null,null,null,null,null,null,null,null,null,null,null,null,null,null,null,""]
[{"$f":"IF(#REF!>\"\",D521&\"_\"&#REF!&\"_\"&B521,\"\")","v":{"$error":"#REF!"}},{"$f":"IF(#REF!=\"\",\"\",COUNTIF(#REF!,\">\"\"\"))","v":{"$error":"#REF!"}},null,{"$f":"IFERROR(VLOOKUP(C521,Hidden_Словник!$A$2:$C$81,3,FALSE),\"\")","v":""},null,null,null,null,null,null,null,null,null,null,null,null,null,null,null,null,null,null,null,null,""]
[{"$f":"IF(#REF!>\"\",D522&\"_\"&#REF!&\"_\"&B522,\"\")","v":{"$error":"#REF!"}},{"$f":"IF(#REF!=\"\",\"\",COUNTIF(#REF!,\">\"\"\"))","v":{"$error":"#REF!"}},null,{"$f":"IFERROR(VLOOKUP(C522,Hidden_Словник!$A$2:$C$81,3,FALSE),\"\")","v":""},null,null,null,null,null,null,null,null,null,null,null,null,null,null,null,null,null,null,null,null,""]
[{"$f":"IF(#REF!>\"\",D523&\"_\"&#REF!&\"_\"&B523,\"\")","v":{"$error":"#REF!"}},{"$f":"IF(#REF!=\"\",\"\",COUNTIF(#REF!,\">\"\"\"))","v":{"$error":"#REF!"}},null,{"$f":"IFERROR(VLOOKUP(C523,Hidden_Словник!$A$2:$C$81,3,FALSE),\"\")","v":""},null,null,null,null,null,null,null,null,null,null,null,null,null,null,null,null,null,null,null,null,""]
[{"$f":"IF(#REF!>\"\",D524&\"_\"&#REF!&\"_\"&B524,\"\")","v":{"$error":"#REF!"}},{"$f":"IF(#REF!=\"\",\"\",COUNTIF(#REF!,\">\"\"\"))","v":{"$error":"#REF!"}},null,{"$f":"IFERROR(VLOOKUP(C524,Hidden_Словник!$A$2:$C$81,3,FALSE),\"\")","v":""},null,null,null,null,null,null,null,null,null,null,null,null,null,null,null,null,null,null,null,null,""]
[{"$f":"IF(#REF!>\"\",D525&\"_\"&#REF!&\"_\"&B525,\"\")","v":{"$error":"#REF!"}},{"$f":"IF(#REF!=\"\",\"\",COUNTIF(#REF!,\">\"\"\"))","v":{"$error":"#REF!"}},null,{"$f":"IFERROR(VLOOKUP(C525,Hidden_Словник!$A$2:$C$81,3,FALSE),\"\")","v":""},null,null,null,null,null,null,null,null,null,null,null,null,null,null,null,null,null,null,null,null,""]
[{"$f":"IF(#REF!>\"\",D526&\"_\"&#REF!&\"_\"&B526,\"\")","v":{"$error":"#REF!"}},{"$f":"IF(#REF!=\"\",\"\",COUNTIF(#REF!,\">\"\"\"))","v":{"$error":"#REF!"}},null,{"$f":"IFERROR(VLOOKUP(C526,Hidden_Словник!$A$2:$C$81,3,FALSE),\"\")","v":""},null,null,null,null,null,null,null,null,null,null,null,null,null,null,null,null,null,null,null,null,""]
[{"$f":"IF(#REF!>\"\",D527&\"_\"&#REF!&\"_\"&B527,\"\")","v":{"$error":"#REF!"}},{"$f":"IF(#REF!=\"\",\"\",COUNTIF(#REF!,\">\"\"\"))","v":{"$error":"#REF!"}},null,{"$f":"IFERROR(VLOOKUP(C527,Hidden_Словник!$A$2:$C$81,3,FALSE),\"\")","v":""},null,null,null,null,null,null,null,null,null,null,null,null,null,null,null,null,null,null,null,null,{"$f":"IF(Z527+AA527>0,Z527+AA527,\"\")","v":""}]
[{"$f":"IF(#REF!>\"\",D528&\"_\"&#REF!&\"_\"&B528,\"\")","v":{"$error":"#REF!"}},{"$f":"IF(#REF!=\"\",\"\",COUNTIF(#REF!,\">\"\"\"))","v":{"$error":"#REF!"}},null,{"$f":"IFERROR(VLOOKUP(C528,Hidden_Словник!$A$2:$C$81,3,FALSE),\"\")","v":""},null,null,null,null,null,null,null,null,null,null,null,null,null,null,null,null,null,null,null,null,""]
[{"$f":"IF(#REF!>\"\",D529&\"_\"&#REF!&\"_\"&B529,\"\")","v":{"$error":"#REF!"}},{"$f":"IF(#REF!=\"\",\"\",COUNTIF(#REF!,\">\"\"\"))","v":{"$error":"#REF!"}},null,{"$f":"IFERROR(VLOOKUP(C529,Hidden_Словник!$A$2:$C$81,3,FALSE),\"\")","v":""},null,null,null,null,null,null,null,null,null,null,null,null,null,null,null,null,null,null,null,null,""]
[{"$f":"IF(#REF!>\"\",D530&\"_\"&#REF!&\"_\"&B530,\"\")","v":{"$error":"#REF!"}},{"$f":"IF(#REF!=\"\",\"\",COUNTIF(#REF!,\">\"\"\"))","v":{"$error":"#REF!"}},null,{"$f":"IFERROR(VLOOKUP(C530,Hidden_Словник!$A$2:$C$81,3,FALSE),\"\")","v":""},null,null,null,null,null,null,null,null,null,null,null,null,null,null,null,null,null,null,null,null,""]
[{"$f":"IF(#REF!>\"\",D531&\"_\"&#REF!&\"_\"&B531,\"\")","v":{"$error":"#REF!"}},{"$f":"IF(#REF!=\"\",\"\",COUNTIF(#REF!,\">\"\"\"))","v":{"$error":"#REF!"}},null,{"$f":"IFERROR(VLOOKUP(C531,Hidden_Словник!$A$2:$C$81,3,FALSE),\"\")","v":""},null,null,null,null,null,null,null,null,null,null,null,null,null,null,null,null,null,null,null,null,""]
[{"$f":"IF(#REF!>\"\",D532&\"_\"&#REF!&\"_\"&B532,\"\")","v":{"$error":"#REF!"}},{"$f":"IF(#REF!=\"\",\"\",COUNTIF(#REF!,\">\"\"\"))","v":{"$error":"#REF!"}},null,{"$f":"IFERROR(VLOOKUP(C532,Hidden_Словник!$A$2:$C$81,3,FALSE),\"\")","v":""},null,null,null,null,null,null,null,null,null,null,null,null,null,null,null,null,null,null,null,null,""]
[{"$f":"IF(#REF!>\"\",D533&\"_\"&#REF!&\"_\"&B533,\"\")","v":{"$error":"#REF!"}},{"$f":"IF(#REF!=\"\",\"\",COUNTIF(#REF!,\">\"\"\"))","v":{"$error":"#REF!"}},null,{"$f":"IFERROR(VLOOKUP(C533,Hidden_Словник!$A$2:$C$81,3,FALSE),\"\")","v":""},null,null,null,null,null,null,null,null,null,null,null,null,null,null,null,null,null,null,null,null,""]
[{"$f":"IF(#REF!>\"\",D534&\"_\"&#REF!&\"_\"&B534,\"\")","v":{"$error":"#REF!"}},{"$f":"IF(#REF!=\"\",\"\",COUNTIF(#REF!,\">\"\"\"))","v":{"$error":"#REF!"}},null,{"$f":"IFERROR(VLOOKUP(C534,Hidden_Словник!$A$2:$C$81,3,FALSE),\"\")","v":""},null,null,null,null,null,null,null,null,null,null,null,null,null,null,null,null,null,null,null,null,""]
[{"$f":"IF(#REF!>\"\",D535&\"_\"&#REF!&\"_\"&B535,\"\")","v":{"$error":"#REF!"}},{"$f":"IF(#REF!=\"\",\"\",COUNTIF(#REF!,\">\"\"\"))","v":{"$error":"#REF!"}},null,{"$f":"IFERROR(VLOOKUP(C535,Hidden_Словник!$A$2:$C$81,3,FALSE),\"\")","v":""},null,null,null,null,null,null,null,null,null,null,null,null,null,null,null,null,null,null,null,null,""]
[{"$f":"IF(#REF!>\"\",D536&\"_\"&#REF!&\"_\"&B536,\"\")","v":{"$error":"#REF!"}},{"$f":"IF(#REF!=\"\",\"\",COUNTIF(#REF!,\">\"\"\"))","v":{"$error":"#REF!"}},null,{"$f":"IFERROR(VLOOKUP(C536,Hidden_Словник!$A$2:$C$81,3,FALSE),\"\")","v":""},null,null,null,null,null,null,null,null,null,null,null,null,null,null,null,null,null,null,null,null,""]
[{"$f":"IF(#REF!>\"\",D537&\"_\"&#REF!&\"_\"&B537,\"\")","v":{"$error":"#REF!"}},{"$f":"IF(#REF!=\"\",\"\",COUNTIF(#REF!,\">\"\"\"))","v":{"$error":"#REF!"}},null,{"$f":"IFERROR(VLOOKUP(C537,Hidden_Словник!$A$2:$C$81,3,FALSE),\"\")","v":""},null,null,null,null,null,null,null,null,null,null,null,null,null,null,null,null,null,null,null,null,""]
[{"$f":"IF(#REF!>\"\",D538&\"_\"&#REF!&\"_\"&B538,\"\")","v":{"$error":"#REF!"}},{"$f":"IF(#REF!=\"\",\"\",COUNTIF(#REF!,\">\"\"\"))","v":{"$error":"#REF!"}},null,{"$f":"IFERROR(VLOOKUP(C538,Hidden_Словник!$A$2:$C$81,3,FALSE),\"\")","v":""},null,null,null,null,null,null,null,null,null,null,null,null,null,null,null,null,null,null,null,null,""]
[{"$f":"IF(#REF!>\"\",D539&\"_\"&#REF!&\"_\"&B539,\"\")","v":{"$error":"#REF!"}},{"$f":"IF(#REF!=\"\",\"\",COUNTIF(#REF!,\">\"\"\"))","v":{"$error":"#REF!"}},null,{"$f":"IFERROR(VLOOKUP(C539,Hidden_Словник!$A$2:$C$81,3,FALSE),\"\")","v":""},null,null,null,null,null,null,null,null,null,null,null,null,null,null,null,null,null,null,null,null,""]
[{"$f":"IF(#REF!>\"\",D540&\"_\"&#REF!&\"_\"&B540,\"\")","v":{"$error":"#REF!"}},{"$f":"IF(#REF!=\"\",\"\",COUNTIF(#REF!,\">\"\"\"))","v":{"$error":"#REF!"}},null,{"$f":"IFERROR(VLOOKUP(C540,Hidden_Словник!$A$2:$C$81,3,FALSE),\"\")","v":""},null,null,null,null,null,null,null,null,null,null,null,null,null,null,null,null,null,null,null,null,""]
[{"$f":"IF(#REF!>\"\",D541&\"_\"&#REF!&\"_\"&B541,\"\")","v":{"$error":"#REF!"}},{"$f":"IF(#REF!=\"\",\"\",COUNTIF(#REF!,\">\"\"\"))","v":{"$error":"#REF!"}},null,{"$f":"IFERROR(VLOOKUP(C541,Hidden_Словник!$A$2:$C$81,3,FALSE),\"\")","v":""},null,null,null,null,null,null,null,null,null,null,null,null,null,null,null,null,null,null,null,null,""]
[{"$f":"IF(#REF!>\"\",D542&\"_\"&#REF!&\"_\"&B542,\"\")","v":{"$error":"#REF!"}},{"$f":"IF(#REF!=\"\",\"\",COUNTIF(#REF!,\">\"\"\"))","v":{"$error":"#REF!"}},null,{"$f":"IFERROR(VLOOKUP(C542,Hidden_Словник!$A$2:$C$81,3,FALSE),\"\")","v":""},null,null,null,null,null,null,null,null,null,null,null,null,null,null,null,null,null,null,null,null,""]
[{"$f":"IF(#REF!>\"\",D543&\"_\"&#REF!&\"_\"&B543,\"\")","v":{"$error":"#REF!"}},{"$f":"IF(#REF!=\"\",\"\",COUNTIF(#REF!,\">\"\"\"))","v":{"$error":"#REF!"}},null,{"$f":"IFERROR(VLOOKUP(C543,Hidden_Словник!$A$2:$C$81,3,FALSE),\"\")","v":""},null,null,null,null,null,null,null,null,null,null,null,null,null,null,null,null,null,null,null,null,""]
[{"$f":"IF(#REF!>\"\",D544&\"_\"&#REF!&\"_\"&B544,\"\")","v":{"$error":"#REF!"}},{"$f":"IF(#REF!=\"\",\"\",COUNTIF(#REF!,\">\"\"\"))","v":{"$error":"#REF!"}},null,{"$f":"IFERROR(VLOOKUP(C544,Hidden_Словник!$A$2:$C$81,3,FALSE),\"\")","v":""},null,null,null,null,null,null,null,null,null,null,null,null,null,null,null,null,null,null,null,null,""]
[{"$f":"IF(#REF!>\"\",D545&\"_\"&#REF!&\"_\"&B545,\"\")","v":{"$error":"#REF!"}},{"$f":"IF(#REF!=\"\",\"\",COUNTIF(#REF!,\">\"\"\"))","v":{"$error":"#REF!"}},null,{"$f":"IFERROR(VLOOKUP(C545,Hidden_Словник!$A$2:$C$81,3,FALSE),\"\")","v":""},null,null,null,null,null,null,null,null,null,null,null,null,null,null,null,null,null,null,null,null,""]
[{"$f":"IF(#REF!>\"\",D546&\"_\"&#REF!&\"_\"&B546,\"\")","v":{"$error":"#REF!"}},{"$f":"IF(#REF!=\"\",\"\",COUNTIF(#REF!,\">\"\"\"))","v":{"$error":"#REF!"}},null,{"$f":"IFERROR(VLOOKUP(C546,Hidden_Словник!$A$2:$C$81,3,FALSE),\"\")","v":""},null,null,null,null,null,null,null,null,null,null,null,null,null,null,null,null,null,null,null,null,""]
[{"$f":"IF(#REF!>\"\",D547&\"_\"&#REF!&\"_\"&B547,\"\")","v":{"$error":"#REF!"}},{"$f":"IF(#REF!=\"\",\"\",COUNTIF(#REF!,\">\"\"\"))","v":{"$error":"#REF!"}},null,{"$f":"IFERROR(VLOOKUP(C547,Hidden_Словник!$A$2:$C$81,3,FALSE),\"\")","v":""},null,null,null,null,null,null,null,null,null,null,null,null,null,null,null,null,null,null,null,null,""]
[{"$f":"IF(#REF!>\"\",D548&\"_\"&#REF!&\"_\"&B548,\"\")","v":{"$error":"#REF!"}},{"$f":"IF(#REF!=\"\",\"\",COUNTIF(#REF!,\">\"\"\"))","v":{"$error":"#REF!"}},null,{"$f":"IFERROR(VLOOKUP(C548,Hidden_Словник!$A$2:$C$81,3,FALSE),\"\")","v":""},null,null,null,null,null,null,null,null,null,null,null,null,null,null,null,null,null,null,null,null,""]
[{"$f":"IF(#REF!>\"\",D549&\"_\"&#REF!&\"_\"&B549,\"\")","v":{"$error":"#REF!"}},{"$f":"IF(#REF!=\"\",\"\",COUNTIF(#REF!,\">\"\"\"))","v":{"$error":"#REF!"}},null,{"$f":"IFERROR(VLOOKUP(C549,Hidden_Словник!$A$2:$C$81,3,FALSE),\"\")","v":""},null,null,null,null,null,null,null,null,null,null,null,null,null,null,null,null,null,null,null,null,""]
[{"$f":"IF(#REF!>\"\",D550&\"_\"&#REF!&\"_\"&B550,\"\")","v":{"$error":"#REF!"}},{"$f":"IF(#REF!=\"\",\"\",COUNTIF(#REF!,\">\"\"\"))","v":{"$error":"#REF!"}},null,{"$f":"IFERROR(VLOOKUP(C550,Hidden_Словник!$A$2:$C$81,3,FALSE),\"\")","v":""},null,null,null,null,null,null,null,null,null,null,null,null,null,null,null,null,null,null,null,null,""]
[{"$f":"IF(#REF!>\"\",D551&\"_\"&#REF!&\"_\"&B551,\"\")","v":{"$error":"#REF!"}},{"$f":"IF(#REF!=\"\",\"\",COUNTIF(#REF!,\">\"\"\"))","v":{"$error":"#REF!"}},null,{"$f":"IFERROR(VLOOKUP(C551,Hidden_Словник!$A$2:$C$81,3,FALSE),\"\")","v":""},null,null,null,null,null,null,null,null,null,null,null,null,null,null,null,null,null,null,null,null,""]
[{"$f":"IF(#REF!>\"\",D552&\"_\"&#REF!&\"_\"&B552,\"\")","v":{"$error":"#REF!"}},{"$f":"IF(#REF!=\"\",\"\",COUNTIF(#REF!,\">\"\"\"))","v":{"$error":"#REF!"}},null,{"$f":"IFERROR(VLOOKUP(C552,Hidden_Словник!$A$2:$C$81,3,FALSE),\"\")","v":""},null,null,null,null,null,null,null,null,null,null,null,null,null,null,null,null,null,null,null,null,""]
[{"$f":"IF(#REF!>\"\",D553&\"_\"&#REF!&\"_\"&B553,\"\")","v":{"$error":"#REF!"}},{"$f":"IF(#REF!=\"\",\"\",COUNTIF(#REF!,\">\"\"\"))","v":{"$error":"#REF!"}},null,{"$f":"IFERROR(VLOOKUP(C553,Hidden_Словник!$A$2:$C$81,3,FALSE),\"\")","v":""},null,null,null,null,null,null,null,null,null,null,null,null,null,null,null,null,null,null,null,null,""]
[{"$f":"IF(#REF!>\"\",D554&\"_\"&#REF!&\"_\"&B554,\"\")","v":{"$error":"#REF!"}},{"$f":"IF(#REF!=\"\",\"\",COUNTIF(#REF!,\">\"\"\"))","v":{"$error":"#REF!"}},null,{"$f":"IFERROR(VLOOKUP(C554,Hidden_Словник!$A$2:$C$81,3,FALSE),\"\")","v":""},null,null,null,null,null,null,null,null,null,null,null,null,null,null,null,null,null,null,null,null,""]
[{"$f":"IF(#REF!>\"\",D555&\"_\"&#REF!&\"_\"&B555,\"\")","v":{"$error":"#REF!"}},{"$f":"IF(#REF!=\"\",\"\",COUNTIF(#REF!,\">\"\"\"))","v":{"$error":"#REF!"}},null,{"$f":"IFERROR(VLOOKUP(C555,Hidden_Словник!$A$2:$C$81,3,FALSE),\"\")","v":""},null,null,null,null,null,null,null,null,null,null,null,null,null,null,null,null,null,null,null,null,""]
[{"$f":"IF(#REF!>\"\",D556&\"_\"&#REF!&\"_\"&B556,\"\")","v":{"$error":"#REF!"}},{"$f":"IF(#REF!=\"\",\"\",COUNTIF(#REF!,\">\"\"\"))","v":{"$error":"#REF!"}},null,{"$f":"IFERROR(VLOOKUP(C556,Hidden_Словник!$A$2:$C$81,3,FALSE),\"\")","v":""},null,null,null,null,null,null,null,null,null,null,null,null,null,null,null,null,null,null,null,null,""]
[{"$f":"IF(#REF!>\"\",D557&\"_\"&#REF!&\"_\"&B557,\"\")","v":{"$error":"#REF!"}},{"$f":"IF(#REF!=\"\",\"\",COUNTIF(#REF!,\">\"\"\"))","v":{"$error":"#REF!"}},null,{"$f":"IFERROR(VLOOKUP(C557,Hidden_Словник!$A$2:$C$81,3,FALSE),\"\")","v":""},null,null,null,null,null,null,null,null,null,null,null,null,null,null,null,null,null,null,null,null,""]
[{"$f":"IF(#REF!>\"\",D558&\"_\"&#REF!&\"_\"&B558,\"\")","v":{"$error":"#REF!"}},{"$f":"IF(#REF!=\"\",\"\",COUNTIF(#REF!,\">\"\"\"))","v":{"$error":"#REF!"}},null,{"$f":"IFERROR(VLOOKUP(C558,Hidden_Словник!$A$2:$C$81,3,FALSE),\"\")","v":""},null,null,null,null,null,null,null,null,null,null,null,null,null,null,null,null,null,null,null,null,""]
[{"$f":"IF(#REF!>\"\",D559&\"_\"&#REF!&\"_\"&B559,\"\")","v":{"$error":"#REF!"}},{"$f":"IF(#REF!=\"\",\"\",COUNTIF(#REF!,\">\"\"\"))","v":{"$error":"#REF!"}},null,{"$f":"IFERROR(VLOOKUP(C559,Hidden_Словник!$A$2:$C$81,3,FALSE),\"\")","v":""},null,null,null,null,null,null,null,null,null,null,null,null,null,null,null,null,null,null,null,null,""]
[{"$f":"IF(#REF!>\"\",D560&\"_\"&#REF!&\"_\"&B560,\"\")","v":{"$error":"#REF!"}},{"$f":"IF(#REF!=\"\",\"\",COUNTIF(#REF!,\">\"\"\"))","v":{"$error":"#REF!"}},null,{"$f":"IFERROR(VLOOKUP(C560,Hidden_Словник!$A$2:$C$81,3,FALSE),\"\")","v":""},null,null,null,null,null,null,null,null,null,null,null,null,null,null,null,null,null,null,null,null,""]
[{"$f":"IF(#REF!>\"\",D561&\"_\"&#REF!&\"_\"&B561,\"\")","v":{"$error":"#REF!"}},{"$f":"IF(#REF!=\"\",\"\",COUNTIF(#REF!,\">\"\"\"))","v":{"$error":"#REF!"}},null,{"$f":"IFERROR(VLOOKUP(C561,Hidden_Словник!$A$2:$C$81,3,FALSE),\"\")","v":""},null,null,null,null,null,null,null,null,null,null,null,null,null,null,null,null,null,null,null,null,""]
[{"$f":"IF(#REF!>\"\",D562&\"_\"&#REF!&\"_\"&B562,\"\")","v":{"$error":"#REF!"}},{"$f":"IF(#REF!=\"\",\"\",COUNTIF(#REF!,\">\"\"\"))","v":{"$error":"#REF!"}},null,{"$f":"IFERROR(VLOOKUP(C562,Hidden_Словник!$A$2:$C$81,3,FALSE),\"\")","v":""},null,null,null,null,null,null,null,null,null,null,null,null,null,null,null,null,null,null,null,null,""]
[{"$f":"IF(#REF!>\"\",D563&\"_\"&#REF!&\"_\"&B563,\"\")","v":{"$error":"#REF!"}},{"$f":"IF(#REF!=\"\",\"\",COUNTIF(#REF!,\">\"\"\"))","v":{"$error":"#REF!"}},null,{"$f":"IFERROR(VLOOKUP(C563,Hidden_Словник!$A$2:$C$81,3,FALSE),\"\")","v":""},null,null,null,null,null,null,null,null,null,null,null,null,null,null,null,null,null,null,null,null,""]
[{"$f":"IF(#REF!>\"\",D564&\"_\"&#REF!&\"_\"&B564,\"\")","v":{"$error":"#REF!"}},{"$f":"IF(#REF!=\"\",\"\",COUNTIF(#REF!,\">\"\"\"))","v":{"$error":"#REF!"}},null,{"$f":"IFERROR(VLOOKUP(C564,Hidden_Словник!$A$2:$C$81,3,FALSE),\"\")","v":""},null,null,null,null,null,null,null,null,null,null,null,null,null,null,null,null,null,null,null,null,""]
[{"$f":"IF(#REF!>\"\",D565&\"_\"&#REF!&\"_\"&B565,\"\")","v":{"$error":"#REF!"}},{"$f":"IF(#REF!=\"\",\"\",COUNTIF(#REF!,\">\"\"\"))","v":{"$error":"#REF!"}},null,{"$f":"IFERROR(VLOOKUP(C565,Hidden_Словник!$A$2:$C$81,3,FALSE),\"\")","v":""},null,null,null,null,null,null,null,null,null,null,null,null,null,null,null,null,null,null,null,null,""]
[{"$f":"IF(#REF!>\"\",D566&\"_\"&#REF!&\"_\"&B566,\"\")","v":{"$error":"#REF!"}},{"$f":"IF(#REF!=\"\",\"\",COUNTIF(#REF!,\">\"\"\"))","v":{"$error":"#REF!"}},null,{"$f":"IFERROR(VLOOKUP(C566,Hidden_Словник!$A$2:$C$81,3,FALSE),\"\")","v":""},null,null,null,null,null,null,null,null,null,null,null,null,null,null,null,null,null,null,null,null,""]
[{"$f":"IF(#REF!>\"\",D567&\"_\"&#REF!&\"_\"&B567,\"\")","v":{"$error":"#REF!"}},{"$f":"IF(#REF!=\"\",\"\",COUNTIF(#REF!,\">\"\"\"))","v":{"$error":"#REF!"}},null,{"$f":"IFERROR(VLOOKUP(C567,Hidden_Словник!$A$2:$C$81,3,FALSE),\"\")","v":""},null,null,null,null,null,null,null,null,null,null,null,null,null,null,null,null,null,null,null,null,""]
[{"$f":"IF(#REF!>\"\",D568&\"_\"&#REF!&\"_\"&B568,\"\")","v":{"$error":"#REF!"}},{"$f":"IF(#REF!=\"\",\"\",COUNTIF(#REF!,\">\"\"\"))","v":{"$error":"#REF!"}},null,{"$f":"IFERROR(VLOOKUP(C568,Hidden_Словник!$A$2:$C$81,3,FALSE),\"\")","v":""},null,null,null,null,null,null,null,null,null,null,null,null,null,null,null,null,null,null,null,null,""]
[{"$f":"IF(#REF!>\"\",D569&\"_\"&#REF!&\"_\"&B569,\"\")","v":{"$error":"#REF!"}},{"$f":"IF(#REF!=\"\",\"\",COUNTIF(#REF!,\">\"\"\"))","v":{"$error":"#REF!"}},null,{"$f":"IFERROR(VLOOKUP(C569,Hidden_Словник!$A$2:$C$81,3,FALSE),\"\")","v":""},null,null,null,null,null,null,null,null,null,null,null,null,null,null,null,null,null,null,null,null,""]
[{"$f":"IF(#REF!>\"\",D570&\"_\"&#REF!&\"_\"&B570,\"\")","v":{"$error":"#REF!"}},{"$f":"IF(#REF!=\"\",\"\",COUNTIF(#REF!,\">\"\"\"))","v":{"$error":"#REF!"}},null,{"$f":"IFERROR(VLOOKUP(C570,Hidden_Словник!$A$2:$C$81,3,FALSE),\"\")","v":""},null,null,null,null,null,null,null,null,null,null,null,null,null,null,null,null,null,null,null,null,""]
[{"$f":"IF(#REF!>\"\",D571&\"_\"&#REF!&\"_\"&B571,\"\")","v":{"$error":"#REF!"}},{"$f":"IF(#REF!=\"\",\"\",COUNTIF(#REF!,\">\"\"\"))","v":{"$error":"#REF!"}},null,{"$f":"IFERROR(VLOOKUP(C571,Hidden_Словник!$A$2:$C$81,3,FALSE),\"\")","v":""},null,null,null,null,null,null,null,null,null,null,null,null,null,null,null,null,null,null,null,null,""]
[{"$f":"IF(#REF!>\"\",D572&\"_\"&#REF!&\"_\"&B572,\"\")","v":{"$error":"#REF!"}},{"$f":"IF(#REF!=\"\",\"\",COUNTIF(#REF!,\">\"\"\"))","v":{"$error":"#REF!"}},null,{"$f":"IFERROR(VLOOKUP(C572,Hidden_Словник!$A$2:$C$81,3,FALSE),\"\")","v":""},null,null,null,null,null,null,null,null,null,null,null,null,null,null,null,null,null,null,null,null,""]
[{"$f":"IF(#REF!>\"\",D573&\"_\"&#REF!&\"_\"&B573,\"\")","v":{"$error":"#REF!"}},{"$f":"IF(#REF!=\"\",\"\",COUNTIF(#REF!,\">\"\"\"))","v":{"$error":"#REF!"}},null,{"$f":"IFERROR(VLOOKUP(C573,Hidden_Словник!$A$2:$C$81,3,FALSE),\"\")","v":""},null,null,null,null,null,null,null,null,null,null,null,null,null,null,null,null,null,null,null,null,""]
[{"$f":"IF(#REF!>\"\",D574&\"_\"&#REF!&\"_\"&B574,\"\")","v":{"$error":"#REF!"}},{"$f":"IF(#REF!=\"\",\"\",COUNTIF(#REF!,\">\"\"\"))","v":{"$error":"#REF!"}},null,{"$f":"IFERROR(VLOOKUP(C574,Hidden_Словник!$A$2:$C$81,3,FALSE),\"\")","v":""},null,null,null,null,null,null,null,null,null,null,null,null,null,null,null,null,null,null,null,null,""]
[{"$f":"IF(#REF!>\"\",D575&\"_\"&#REF!&\"_\"&B575,\"\")","v":{"$error":"#REF!"}},{"$f":"IF(#REF!=\"\",\"\",COUNTIF(#REF!,\">\"\"\"))","v":{"$error":"#REF!"}},null,{"$f":"IFERROR(VLOOKUP(C575,Hidden_Словник!$A$2:$C$81,3,FALSE),\"\")","v":""},null,null,null,null,null,null,null,null,null,null,null,null,null,null,null,null,null,null,null,null,""]
[{"$f":"IF(#REF!>\"\",D576&\"_\"&#REF!&\"_\"&B576,\"\")","v":{"$error":"#REF!"}},{"$f":"IF(#REF!=\"\",\"\",COUNTIF(#REF!,\">\"\"\"))","v":{"$error":"#REF!"}},null,{"$f":"IFERROR(VLOOKUP(C576,Hidden_Словник!$A$2:$C$81,3,FALSE),\"\")","v":""},null,null,null,null,null,null,null,null,null,null,null,null,null,null,null,null,null,null,null,null,""]
[{"$f":"IF(#REF!>\"\",D577&\"_\"&#REF!&\"_\"&B577,\"\")","v":{"$error":"#REF!"}},{"$f":"IF(#REF!=\"\",\"\",COUNTIF(#REF!,\">\"\"\"))","v":{"$error":"#REF!"}},null,{"$f":"IFERROR(VLOOKUP(C577,Hidden_Словник!$A$2:$C$81,3,FALSE),\"\")","v":""},null,null,null,null,null,null,null,null,null,null,null,null,null,null,null,null,null,null,null,null,""]
[{"$f":"IF(#REF!>\"\",D578&\"_\"&#REF!&\"_\"&B578,\"\")","v":{"$error":"#REF!"}},{"$f":"IF(#REF!=\"\",\"\",COUNTIF(#REF!,\">\"\"\"))","v":{"$error":"#REF!"}},null,{"$f":"IFERROR(VLOOKUP(C578,Hidden_Словник!$A$2:$C$81,3,FALSE),\"\")","v":""},null,null,null,null,null,null,null,null,null,null,null,null,null,null,null,null,null,null,null,null,""]
[{"$f":"IF(#REF!>\"\",D579&\"_\"&#REF!&\"_\"&B579,\"\")","v":{"$error":"#REF!"}},{"$f":"IF(#REF!=\"\",\"\",COUNTIF(#REF!,\">\"\"\"))","v":{"$error":"#REF!"}},null,{"$f":"IFERROR(VLOOKUP(C579,Hidden_Словник!$A$2:$C$81,3,FALSE),\"\")","v":""},null,null,null,null,null,null,null,null,null,null,null,null,null,null,null,null,null,null,null,null,""]
[{"$f":"IF(#REF!>\"\",D580&\"_\"&#REF!&\"_\"&B580,\"\")","v":{"$error":"#REF!"}},{"$f":"IF(#REF!=\"\",\"\",COUNTIF(#REF!,\">\"\"\"))","v":{"$error":"#REF!"}},null,{"$f":"IFERROR(VLOOKUP(C580,Hidden_Словник!$A$2:$C$81,3,FALSE),\"\")","v":""},null,null,null,null,null,null,null,null,null,null,null,null,null,null,null,null,null,null,null,null,""]
[{"$f":"IF(#REF!>\"\",D581&\"_\"&#REF!&\"_\"&B581,\"\")","v":{"$error":"#REF!"}},{"$f":"IF(#REF!=\"\",\"\",COUNTIF(#REF!,\">\"\"\"))","v":{"$error":"#REF!"}},null,{"$f":"IFERROR(VLOOKUP(C581,Hidden_Словник!$A$2:$C$81,3,FALSE),\"\")","v":""},null,null,null,null,null,null,null,null,null,null,null,null,null,null,null,null,null,null,null,null,""]
[{"$f":"IF(#REF!>\"\",D582&\"_\"&#REF!&\"_\"&B582,\"\")","v":{"$error":"#REF!"}},{"$f":"IF(#REF!=\"\",\"\",COUNTIF(#REF!,\">\"\"\"))","v":{"$error":"#REF!"}},null,{"$f":"IFERROR(VLOOKUP(C582,Hidden_Словник!$A$2:$C$81,3,FALSE),\"\")","v":""},null,null,null,null,null,null,null,null,null,null,null,null,null,null,null,null,null,null,null,null,""]
[{"$f":"IF(#REF!>\"\",D583&\"_\"&#REF!&\"_\"&B583,\"\")","v":{"$error":"#REF!"}},{"$f":"IF(#REF!=\"\",\"\",COUNTIF(#REF!,\">\"\"\"))","v":{"$error":"#REF!"}},null,{"$f":"IFERROR(VLOOKUP(C583,Hidden_Словник!$A$2:$C$81,3,FALSE),\"\")","v":""},null,null,null,null,null,null,null,null,null,null,null,null,null,null,null,null,null,null,null,null,""]
[{"$f":"IF(#REF!>\"\",D584&\"_\"&#REF!&\"_\"&B584,\"\")","v":{"$error":"#REF!"}},{"$f":"IF(#REF!=\"\",\"\",COUNTIF(#REF!,\">\"\"\"))","v":{"$error":"#REF!"}},null,{"$f":"IFERROR(VLOOKUP(C584,Hidden_Словник!$A$2:$C$81,3,FALSE),\"\")","v":""},null,null,null,null,null,null,null,null,null,null,null,null,null,null,null,null,null,null,null,null,""]
[{"$f":"IF(#REF!>\"\",D585&\"_\"&#REF!&\"_\"&B585,\"\")","v":{"$error":"#REF!"}},{"$f":"IF(#REF!=\"\",\"\",COUNTIF(#REF!,\">\"\"\"))","v":{"$error":"#REF!"}},null,{"$f":"IFERROR(VLOOKUP(C585,Hidden_Словник!$A$2:$C$81,3,FALSE),\"\")","v":""},null,null,null,null,null,null,null,null,null,null,null,null,null,null,null,null,null,null,null,null,""]
[{"$f":"IF(#REF!>\"\",D586&\"_\"&#REF!&\"_\"&B586,\"\")","v":{"$error":"#REF!"}},{"$f":"IF(#REF!=\"\",\"\",COUNTIF(#REF!,\">\"\"\"))","v":{"$error":"#REF!"}},null,{"$f":"IFERROR(VLOOKUP(C586,Hidden_Словник!$A$2:$C$81,3,FALSE),\"\")","v":""},null,null,null,null,null,null,null,null,null,null,null,null,null,null,null,null,null,null,null,null,""]
[{"$f":"IF(#REF!>\"\",D587&\"_\"&#REF!&\"_\"&B587,\"\")","v":{"$error":"#REF!"}},{"$f":"IF(#REF!=\"\",\"\",COUNTIF(#REF!,\">\"\"\"))","v":{"$error":"#REF!"}},null,{"$f":"IFERROR(VLOOKUP(C587,Hidden_Словник!$A$2:$C$81,3,FALSE),\"\")","v":""},null,null,null,null,null,null,null,null,null,null,null,null,null,null,null,null,null,null,null,null,""]
[{"$f":"IF(#REF!>\"\",D588&\"_\"&#REF!&\"_\"&B588,\"\")","v":{"$error":"#REF!"}},{"$f":"IF(#REF!=\"\",\"\",COUNTIF(#REF!,\">\"\"\"))","v":{"$error":"#REF!"}},null,{"$f":"IFERROR(VLOOKUP(C588,Hidden_Словник!$A$2:$C$81,3,FALSE),\"\")","v":""},null,null,null,null,null,null,null,null,null,null,null,null,null,null,null,null,null,null,null,null,""]
[{"$f":"IF(#REF!>\"\",D589&\"_\"&#REF!&\"_\"&B589,\"\")","v":{"$error":"#REF!"}},{"$f":"IF(#REF!=\"\",\"\",COUNTIF(#REF!,\">\"\"\"))","v":{"$error":"#REF!"}},null,{"$f":"IFERROR(VLOOKUP(C589,Hidden_Словник!$A$2:$C$81,3,FALSE),\"\")","v":""},null,null,null,null,null,null,null,null,null,null,null,null,null,null,null,null,null,null,null,null,""]
[{"$f":"IF(#REF!>\"\",D590&\"_\"&#REF!&\"_\"&B590,\"\")","v":{"$error":"#REF!"}},{"$f":"IF(#REF!=\"\",\"\",COUNTIF(#REF!,\">\"\"\"))","v":{"$error":"#REF!"}},null,{"$f":"IFERROR(VLOOKUP(C590,Hidden_Словник!$A$2:$C$81,3,FALSE),\"\")","v":""},null,null,null,null,null,null,null,null,null,null,null,null,null,null,null,null,null,null,null,null,""]
[{"$f":"IF(#REF!>\"\",D591&\"_\"&#REF!&\"_\"&B591,\"\")","v":{"$error":"#REF!"}},{"$f":"IF(#REF!=\"\",\"\",COUNTIF(#REF!,\">\"\"\"))","v":{"$error":"#REF!"}},null,{"$f":"IFERROR(VLOOKUP(C591,Hidden_Словник!$A$2:$C$81,3,FALSE),\"\")","v":""},null,null,null,null,null,null,null,null,null,null,null,null,null,null,null,null,null,null,null,null,{"$f":"IF(Z591+AA591>0,Z591+AA591,\"\")","v":""}]
[{"$f":"IF(#REF!>\"\",D592&\"_\"&#REF!&\"_\"&B592,\"\")","v":{"$error":"#REF!"}},{"$f":"IF(#REF!=\"\",\"\",COUNTIF(#REF!,\">\"\"\"))","v":{"$error":"#REF!"}},null,{"$f":"IFERROR(VLOOKUP(C592,Hidden_Словник!$A$2:$C$81,3,FALSE),\"\")","v":""},null,null,null,null,null,null,null,null,null,null,null,null,null,null,null,null,null,null,null,null,""]
[{"$f":"IF(#REF!>\"\",D593&\"_\"&#REF!&\"_\"&B593,\"\")","v":{"$error":"#REF!"}},{"$f":"IF(#REF!=\"\",\"\",COUNTIF(#REF!,\">\"\"\"))","v":{"$error":"#REF!"}},null,{"$f":"IFERROR(VLOOKUP(C593,Hidden_Словник!$A$2:$C$81,3,FALSE),\"\")","v":""},null,null,null,null,null,null,null,null,null,null,null,null,null,null,null,null,null,null,null,null,""]
[{"$f":"IF(#REF!>\"\",D594&\"_\"&#REF!&\"_\"&B594,\"\")","v":{"$error":"#REF!"}},{"$f":"IF(#REF!=\"\",\"\",COUNTIF(#REF!,\">\"\"\"))","v":{"$error":"#REF!"}},null,{"$f":"IFERROR(VLOOKUP(C594,Hidden_Словник!$A$2:$C$81,3,FALSE),\"\")","v":""},null,null,null,null,null,null,null,null,null,null,null,null,null,null,null,null,null,null,null,null,""]
[{"$f":"IF(#REF!>\"\",D595&\"_\"&#REF!&\"_\"&B595,\"\")","v":{"$error":"#REF!"}},{"$f":"IF(#REF!=\"\",\"\",COUNTIF(#REF!,\">\"\"\"))","v":{"$error":"#REF!"}},null,{"$f":"IFERROR(VLOOKUP(C595,Hidden_Словник!$A$2:$C$81,3,FALSE),\"\")","v":""},null,null,null,null,null,null,null,null,null,null,null,null,null,null,null,null,null,null,null,null,""]
[{"$f":"IF(#REF!>\"\",D596&\"_\"&#REF!&\"_\"&B596,\"\")","v":{"$error":"#REF!"}},{"$f":"IF(#REF!=\"\",\"\",COUNTIF(#REF!,\">\"\"\"))","v":{"$error":"#REF!"}},null,{"$f":"IFERROR(VLOOKUP(C596,Hidden_Словник!$A$2:$C$81,3,FALSE),\"\")","v":""},null,null,null,null,null,null,null,null,null,null,null,null,null,null,null,null,null,null,null,null,""]
[{"$f":"IF(#REF!>\"\",D597&\"_\"&#REF!&\"_\"&B597,\"\")","v":{"$error":"#REF!"}},{"$f":"IF(#REF!=\"\",\"\",COUNTIF(#REF!,\">\"\"\"))","v":{"$error":"#REF!"}},null,{"$f":"IFERROR(VLOOKUP(C597,Hidden_Словник!$A$2:$C$81,3,FALSE),\"\")","v":""},null,null,null,null,null,null,null,null,null,null,null,null,null,null,null,null,null,null,null,null,""]
[{"$f":"IF(#REF!>\"\",D598&\"_\"&#REF!&\"_\"&B598,\"\")","v":{"$error":"#REF!"}},{"$f":"IF(#REF!=\"\",\"\",COUNTIF(#REF!,\">\"\"\"))","v":{"$error":"#REF!"}},null,{"$f":"IFERROR(VLOOKUP(C598,Hidden_Словник!$A$2:$C$81,3,FALSE),\"\")","v":""},null,null,null,null,null,null,null,null,null,null,null,null,null,null,null,null,null,null,null,null,""]
[{"$f":"IF(#REF!>\"\",D599&\"_\"&#REF!&\"_\"&B599,\"\")","v":{"$error":"#REF!"}},{"$f":"IF(#REF!=\"\",\"\",COUNTIF(#REF!,\">\"\"\"))","v":{"$error":"#REF!"}},null,{"$f":"IFERROR(VLOOKUP(C599,Hidden_Словник!$A$2:$C$81,3,FALSE),\"\")","v":""},null,null,null,null,null,null,null,null,null,null,null,null,null,null,null,null,null,null,null,null,""]
[{"$f":"IF(#REF!>\"\",D600&\"_\"&#REF!&\"_\"&B600,\"\")","v":{"$error":"#REF!"}},{"$f":"IF(#REF!=\"\",\"\",COUNTIF(#REF!,\">\"\"\"))","v":{"$error":"#REF!"}},null,{"$f":"IFERROR(VLOOKUP(C600,Hidden_Словник!$A$2:$C$81,3,FALSE),\"\")","v":""},null,null,null,null,null,null,null,null,null,null,null,null,null,null,null,null,null,null,null,null,""]
[{"$f":"IF(#REF!>\"\",D601&\"_\"&#REF!&\"_\"&B601,\"\")","v":{"$error":"#REF!"}},{"$f":"IF(#REF!=\"\",\"\",COUNTIF(#REF!,\">\"\"\"))","v":{"$error":"#REF!"}},null,{"$f":"IFERROR(VLOOKUP(C601,Hidden_Словник!$A$2:$C$81,3,FALSE),\"\")","v":""},null,null,null,null,null,null,null,null,null,null,null,null,null,null,null,null,null,null,null,null,""]
[{"$f":"IF(#REF!>\"\",D602&\"_\"&#REF!&\"_\"&B602,\"\")","v":{"$error":"#REF!"}},{"$f":"IF(#REF!=\"\",\"\",COUNTIF(#REF!,\">\"\"\"))","v":{"$error":"#REF!"}},null,{"$f":"IFERROR(VLOOKUP(C602,Hidden_Словник!$A$2:$C$81,3,FALSE),\"\")","v":""},null,null,null,null,null,null,null,null,null,null,null,null,null,null,null,null,null,null,null,null,""]
[{"$f":"IF(#REF!>\"\",D603&\"_\"&#REF!&\"_\"&B603,\"\")","v":{"$error":"#REF!"}},{"$f":"IF(#REF!=\"\",\"\",COUNTIF(#REF!,\">\"\"\"))","v":{"$error":"#REF!"}},null,{"$f":"IFERROR(VLOOKUP(C603,Hidden_Словник!$A$2:$C$81,3,FALSE),\"\")","v":""},null,null,null,null,null,null,null,null,null,null,null,null,null,null,null,null,null,null,null,null,""]
[{"$f":"IF(#REF!>\"\",D604&\"_\"&#REF!&\"_\"&B604,\"\")","v":{"$error":"#REF!"}},{"$f":"IF(#REF!=\"\",\"\",COUNTIF(#REF!,\">\"\"\"))","v":{"$error":"#REF!"}},null,{"$f":"IFERROR(VLOOKUP(C604,Hidden_Словник!$A$2:$C$81,3,FALSE),\"\")","v":""},null,null,null,null,null,null,null,null,null,null,null,null,null,null,null,null,null,null,null,null,""]
[{"$f":"IF(#REF!>\"\",D605&\"_\"&#REF!&\"_\"&B605,\"\")","v":{"$error":"#REF!"}},{"$f":"IF(#REF!=\"\",\"\",COUNTIF(#REF!,\">\"\"\"))","v":{"$error":"#REF!"}},null,{"$f":"IFERROR(VLOOKUP(C605,Hidden_Словник!$A$2:$C$81,3,FALSE),\"\")","v":""},null,null,null,null,null,null,null,null,null,null,null,null,null,null,null,null,null,null,null,null,""]
[{"$f":"IF(#REF!>\"\",D606&\"_\"&#REF!&\"_\"&B606,\"\")","v":{"$error":"#REF!"}},{"$f":"IF(#REF!=\"\",\"\",COUNTIF(#REF!,\">\"\"\"))","v":{"$error":"#REF!"}},null,{"$f":"IFERROR(VLOOKUP(C606,Hidden_Словник!$A$2:$C$81,3,FALSE),\"\")","v":""},null,null,null,null,null,null,null,null,null,null,null,null,null,null,null,null,null,null,null,null,""]
[{"$f":"IF(#REF!>\"\",D607&\"_\"&#REF!&\"_\"&B607,\"\")","v":{"$error":"#REF!"}},{"$f":"IF(#REF!=\"\",\"\",COUNTIF(#REF!,\">\"\"\"))","v":{"$error":"#REF!"}},null,{"$f":"IFERROR(VLOOKUP(C607,Hidden_Словник!$A$2:$C$81,3,FALSE),\"\")","v":""},null,null,null,null,null,null,null,null,null,null,null,null,null,null,null,null,null,null,null,null,""]
[{"$f":"IF(#REF!>\"\",D608&\"_\"&#REF!&\"_\"&B608,\"\")","v":{"$error":"#REF!"}},{"$f":"IF(#REF!=\"\",\"\",COUNTIF(#REF!,\">\"\"\"))","v":{"$error":"#REF!"}},null,{"$f":"IFERROR(VLOOKUP(C608,Hidden_Словник!$A$2:$C$81,3,FALSE),\"\")","v":""},null,null,null,null,null,null,null,null,null,null,null,null,null,null,null,null,null,null,null,null,""]
[{"$f":"IF(#REF!>\"\",D609&\"_\"&#REF!&\"_\"&B609,\"\")","v":{"$error":"#REF!"}},{"$f":"IF(#REF!=\"\",\"\",COUNTIF(#REF!,\">\"\"\"))","v":{"$error":"#REF!"}},null,{"$f":"IFERROR(VLOOKUP(C609,Hidden_Словник!$A$2:$C$81,3,FALSE),\"\")","v":""},null,null,null,null,null,null,null,null,null,null,null,null,null,null,null,null,null,null,null,null,""]
[{"$f":"IF(#REF!>\"\",D610&\"_\"&#REF!&\"_\"&B610,\"\")","v":{"$error":"#REF!"}},{"$f":"IF(#REF!=\"\",\"\",COUNTIF(#REF!,\">\"\"\"))","v":{"$error":"#REF!"}},null,{"$f":"IFERROR(VLOOKUP(C610,Hidden_Словник!$A$2:$C$81,3,FALSE),\"\")","v":""},null,null,null,null,null,null,null,null,null,null,null,null,null,null,null,null,null,null,null,null,""]
[{"$f":"IF(#REF!>\"\",D611&\"_\"&#REF!&\"_\"&B611,\"\")","v":{"$error":"#REF!"}},{"$f":"IF(#REF!=\"\",\"\",COUNTIF(#REF!,\">\"\"\"))","v":{"$error":"#REF!"}},null,{"$f":"IFERROR(VLOOKUP(C611,Hidden_Словник!$A$2:$C$81,3,FALSE),\"\")","v":""},null,null,null,null,null,null,null,null,null,null,null,null,null,null,null,null,null,null,null,null,""]
[{"$f":"IF(#REF!>\"\",D612&\"_\"&#REF!&\"_\"&B612,\"\")","v":{"$error":"#REF!"}},{"$f":"IF(#REF!=\"\",\"\",COUNTIF(#REF!,\">\"\"\"))","v":{"$error":"#REF!"}},null,{"$f":"IFERROR(VLOOKUP(C612,Hidden_Словник!$A$2:$C$81,3,FALSE),\"\")","v":""},null,null,null,null,null,null,null,null,null,null,null,null,null,null,null,null,null,null,null,null,""]
[{"$f":"IF(#REF!>\"\",D613&\"_\"&#REF!&\"_\"&B613,\"\")","v":{"$error":"#REF!"}},{"$f":"IF(#REF!=\"\",\"\",COUNTIF(#REF!,\">\"\"\"))","v":{"$error":"#REF!"}},null,{"$f":"IFERROR(VLOOKUP(C613,Hidden_Словник!$A$2:$C$81,3,FALSE),\"\")","v":""},null,null,null,null,null,null,null,null,null,null,null,null,null,null,null,null,null,null,null,null,""]
[{"$f":"IF(#REF!>\"\",D614&\"_\"&#REF!&\"_\"&B614,\"\")","v":{"$error":"#REF!"}},{"$f":"IF(#REF!=\"\",\"\",COUNTIF(#REF!,\">\"\"\"))","v":{"$error":"#REF!"}},null,{"$f":"IFERROR(VLOOKUP(C614,Hidden_Словник!$A$2:$C$81,3,FALSE),\"\")","v":""},null,null,null,null,null,null,null,null,null,null,null,null,null,null,null,null,null,null,null,null,""]
[{"$f":"IF(#REF!>\"\",D615&\"_\"&#REF!&\"_\"&B615,\"\")","v":{"$error":"#REF!"}},{"$f":"IF(#REF!=\"\",\"\",COUNTIF(#REF!,\">\"\"\"))","v":{"$error":"#REF!"}},null,{"$f":"IFERROR(VLOOKUP(C615,Hidden_Словник!$A$2:$C$81,3,FALSE),\"\")","v":""},null,null,null,null,null,null,null,null,null,null,null,null,null,null,null,null,null,null,null,null,""]
[{"$f":"IF(#REF!>\"\",D616&\"_\"&#REF!&\"_\"&B616,\"\")","v":{"$error":"#REF!"}},{"$f":"IF(#REF!=\"\",\"\",COUNTIF(#REF!,\">\"\"\"))","v":{"$error":"#REF!"}},null,{"$f":"IFERROR(VLOOKUP(C616,Hidden_Словник!$A$2:$C$81,3,FALSE),\"\")","v":""},null,null,null,null,null,null,null,null,null,null,null,null,null,null,null,null,null,null,null,null,""]
[{"$f":"IF(#REF!>\"\",D617&\"_\"&#REF!&\"_\"&B617,\"\")","v":{"$error":"#REF!"}},{"$f":"IF(#REF!=\"\",\"\",COUNTIF(#REF!,\">\"\"\"))","v":{"$error":"#REF!"}},null,{"$f":"IFERROR(VLOOKUP(C617,Hidden_Словник!$A$2:$C$81,3,FALSE),\"\")","v":""},null,null,null,null,null,null,null,null,null,null,null,null,null,null,null,null,null,null,null,null,""]
[{"$f":"IF(#REF!>\"\",D618&\"_\"&#REF!&\"_\"&B618,\"\")","v":{"$error":"#REF!"}},{"$f":"IF(#REF!=\"\",\"\",COUNTIF(#REF!,\">\"\"\"))","v":{"$error":"#REF!"}},null,{"$f":"IFERROR(VLOOKUP(C618,Hidden_Словник!$A$2:$C$81,3,FALSE),\"\")","v":""},null,null,null,null,null,null,null,null,null,null,null,null,null,null,null,null,null,null,null,null,""]
[{"$f":"IF(#REF!>\"\",D619&\"_\"&#REF!&\"_\"&B619,\"\")","v":{"$error":"#REF!"}},{"$f":"IF(#REF!=\"\",\"\",COUNTIF(#REF!,\">\"\"\"))","v":{"$error":"#REF!"}},null,{"$f":"IFERROR(VLOOKUP(C619,Hidden_Словник!$A$2:$C$81,3,FALSE),\"\")","v":""},null,null,null,null,null,null,null,null,null,null,null,null,null,null,null,null,null,null,null,null,""]
[{"$f":"IF(#REF!>\"\",D620&\"_\"&#REF!&\"_\"&B620,\"\")","v":{"$error":"#REF!"}},{"$f":"IF(#REF!=\"\",\"\",COUNTIF(#REF!,\">\"\"\"))","v":{"$error":"#REF!"}},null,{"$f":"IFERROR(VLOOKUP(C620,Hidden_Словник!$A$2:$C$81,3,FALSE),\"\")","v":""},null,null,null,null,null,null,null,null,null,null,null,null,null,null,null,null,null,null,null,null,""]
[{"$f":"IF(#REF!>\"\",D621&\"_\"&#REF!&\"_\"&B621,\"\")","v":{"$error":"#REF!"}},{"$f":"IF(#REF!=\"\",\"\",COUNTIF(#REF!,\">\"\"\"))","v":{"$error":"#REF!"}},null,{"$f":"IFERROR(VLOOKUP(C621,Hidden_Словник!$A$2:$C$81,3,FALSE),\"\")","v":""},null,null,null,null,null,null,null,null,null,null,null,null,null,null,null,null,null,null,null,null,""]
[{"$f":"IF(#REF!>\"\",D622&\"_\"&#REF!&\"_\"&B622,\"\")","v":{"$error":"#REF!"}},{"$f":"IF(#REF!=\"\",\"\",COUNTIF(#REF!,\">\"\"\"))","v":{"$error":"#REF!"}},null,{"$f":"IFERROR(VLOOKUP(C622,Hidden_Словник!$A$2:$C$81,3,FALSE),\"\")","v":""},null,null,null,null,null,null,null,null,null,null,null,null,null,null,null,null,null,null,null,null,""]
[{"$f":"IF(#REF!>\"\",D623&\"_\"&#REF!&\"_\"&B623,\"\")","v":{"$error":"#REF!"}},{"$f":"IF(#REF!=\"\",\"\",COUNTIF(#REF!,\">\"\"\"))","v":{"$error":"#REF!"}},null,{"$f":"IFERROR(VLOOKUP(C623,Hidden_Словник!$A$2:$C$81,3,FALSE),\"\")","v":""},null,null,null,null,null,null,null,null,null,null,null,null,null,null,null,null,null,null,null,null,""]
[{"$f":"IF(#REF!>\"\",D624&\"_\"&#REF!&\"_\"&B624,\"\")","v":{"$error":"#REF!"}},{"$f":"IF(#REF!=\"\",\"\",COUNTIF(#REF!,\">\"\"\"))","v":{"$error":"#REF!"}},null,{"$f":"IFERROR(VLOOKUP(C624,Hidden_Словник!$A$2:$C$81,3,FALSE),\"\")","v":""},null,null,null,null,null,null,null,null,null,null,null,null,null,null,null,null,null,null,null,null,""]
[{"$f":"IF(#REF!>\"\",D625&\"_\"&#REF!&\"_\"&B625,\"\")","v":{"$error":"#REF!"}},{"$f":"IF(#REF!=\"\",\"\",COUNTIF(#REF!,\">\"\"\"))","v":{"$error":"#REF!"}},null,{"$f":"IFERROR(VLOOKUP(C625,Hidden_Словник!$A$2:$C$81,3,FALSE),\"\")","v":""},null,null,null,null,null,null,null,null,null,null,null,null,null,null,null,null,null,null,null,null,""]
[{"$f":"IF(#REF!>\"\",D626&\"_\"&#REF!&\"_\"&B626,\"\")","v":{"$error":"#REF!"}},{"$f":"IF(#REF!=\"\",\"\",COUNTIF(#REF!,\">\"\"\"))","v":{"$error":"#REF!"}},null,{"$f":"IFERROR(VLOOKUP(C626,Hidden_Словник!$A$2:$C$81,3,FALSE),\"\")","v":""},null,null,null,null,null,null,null,null,null,null,null,null,null,null,null,null,null,null,null,null,""]
[{"$f":"IF(#REF!>\"\",D627&\"_\"&#REF!&\"_\"&B627,\"\")","v":{"$error":"#REF!"}},{"$f":"IF(#REF!=\"\",\"\",COUNTIF(#REF!,\">\"\"\"))","v":{"$error":"#REF!"}},null,{"$f":"IFERROR(VLOOKUP(C627,Hidden_Словник!$A$2:$C$81,3,FALSE),\"\")","v":""},null,null,null,null,null,null,null,null,null,null,null,null,null,null,null,null,null,null,null,null,""]
[{"$f":"IF(#REF!>\"\",D628&\"_\"&#REF!&\"_\"&B628,\"\")","v":{"$error":"#REF!"}},{"$f":"IF(#REF!=\"\",\"\",COUNTIF(#REF!,\">\"\"\"))","v":{"$error":"#REF!"}},null,{"$f":"IFERROR(VLOOKUP(C628,Hidden_Словник!$A$2:$C$81,3,FALSE),\"\")","v":""},null,null,null,null,null,null,null,null,null,null,null,null,null,null,null,null,null,null,null,null,""]
[{"$f":"IF(#REF!>\"\",D629&\"_\"&#REF!&\"_\"&B629,\"\")","v":{"$error":"#REF!"}},{"$f":"IF(#REF!=\"\",\"\",COUNTIF(#REF!,\">\"\"\"))","v":{"$error":"#REF!"}},null,{"$f":"IFERROR(VLOOKUP(C629,Hidden_Словник!$A$2:$C$81,3,FALSE),\"\")","v":""},null,null,null,null,null,null,null,null,null,null,null,null,null,null,null,null,null,null,null,null,""]
[{"$f":"IF(#REF!>\"\",D630&\"_\"&#REF!&\"_\"&B630,\"\")","v":{"$error":"#REF!"}},{"$f":"IF(#REF!=\"\",\"\",COUNTIF(#REF!,\">\"\"\"))","v":{"$error":"#REF!"}},null,{"$f":"IFERROR(VLOOKUP(C630,Hidden_Словник!$A$2:$C$81,3,FALSE),\"\")","v":""},null,null,null,null,null,null,null,null,null,null,null,null,null,null,null,null,null,null,null,null,""]
[{"$f":"IF(#REF!>\"\",D631&\"_\"&#REF!&\"_\"&B631,\"\")","v":{"$error":"#REF!"}},{"$f":"IF(#REF!=\"\",\"\",COUNTIF(#REF!,\">\"\"\"))","v":{"$error":"#REF!"}},null,{"$f":"IFERROR(VLOOKUP(C631,Hidden_Словник!$A$2:$C$81,3,FALSE),\"\")","v":""},null,null,null,null,null,null,null,null,null,null,null,null,null,null,null,null,null,null,null,null,""]
[{"$f":"IF(#REF!>\"\",D632&\"_\"&#REF!&\"_\"&B632,\"\")","v":{"$error":"#REF!"}},{"$f":"IF(#REF!=\"\",\"\",COUNTIF(#REF!,\">\"\"\"))","v":{"$error":"#REF!"}},null,{"$f":"IFERROR(VLOOKUP(C632,Hidden_Словник!$A$2:$C$81,3,FALSE),\"\")","v":""},null,null,null,null,null,null,null,null,null,null,null,null,null,null,null,null,null,null,null,null,""]
[{"$f":"IF(#REF!>\"\",D633&\"_\"&#REF!&\"_\"&B633,\"\")","v":{"$error":"#REF!"}},{"$f":"IF(#REF!=\"\",\"\",COUNTIF(#REF!,\">\"\"\"))","v":{"$error":"#REF!"}},null,{"$f":"IFERROR(VLOOKUP(C633,Hidden_Словник!$A$2:$C$81,3,FALSE),\"\")","v":""},null,null,null,null,null,null,null,null,null,null,null,null,null,null,null,null,null,null,null,null,""]
[{"$f":"IF(#REF!>\"\",D634&\"_\"&#REF!&\"_\"&B634,\"\")","v":{"$error":"#REF!"}},{"$f":"IF(#REF!=\"\",\"\",COUNTIF(#REF!,\">\"\"\"))","v":{"$error":"#REF!"}},null,{"$f":"IFERROR(VLOOKUP(C634,Hidden_Словник!$A$2:$C$81,3,FALSE),\"\")","v":""},null,null,null,null,null,null,null,null,null,null,null,null,null,null,null,null,null,null,null,null,""]
[{"$f":"IF(#REF!>\"\",D635&\"_\"&#REF!&\"_\"&B635,\"\")","v":{"$error":"#REF!"}},{"$f":"IF(#REF!=\"\",\"\",COUNTIF(#REF!,\">\"\"\"))","v":{"$error":"#REF!"}},null,{"$f":"IFERROR(VLOOKUP(C635,Hidden_Словник!$A$2:$C$81,3,FALSE),\"\")","v":""},null,null,null,null,null,null,null,null,null,null,null,null,null,null,null,null,null,null,null,null,""]
[{"$f":"IF(#REF!>\"\",D636&\"_\"&#REF!&\"_\"&B636,\"\")","v":{"$error":"#REF!"}},{"$f":"IF(#REF!=\"\",\"\",COUNTIF(#REF!,\">\"\"\"))","v":{"$error":"#REF!"}},null,{"$f":"IFERROR(VLOOKUP(C636,Hidden_Словник!$A$2:$C$81,3,FALSE),\"\")","v":""},null,null,null,null,null,null,null,null,null,null,null,null,null,null,null,null,null,null,null,null,""]
[{"$f":"IF(#REF!>\"\",D637&\"_\"&#REF!&\"_\"&B637,\"\")","v":{"$error":"#REF!"}},{"$f":"IF(#REF!=\"\",\"\",COUNTIF(#REF!,\">\"\"\"))","v":{"$error":"#REF!"}},null,{"$f":"IFERROR(VLOOKUP(C637,Hidden_Словник!$A$2:$C$81,3,FALSE),\"\")","v":""},null,null,null,null,null,null,null,null,null,null,null,null,null,null,null,null,null,null,null,null,""]
[{"$f":"IF(#REF!>\"\",D638&\"_\"&#REF!&\"_\"&B638,\"\")","v":{"$error":"#REF!"}},{"$f":"IF(#REF!=\"\",\"\",COUNTIF(#REF!,\">\"\"\"))","v":{"$error":"#REF!"}},null,{"$f":"IFERROR(VLOOKUP(C638,Hidden_Словник!$A$2:$C$81,3,FALSE),\"\")","v":""},null,null,null,null,null,null,null,null,null,null,null,null,null,null,null,null,null,null,null,null,""]
[{"$f":"IF(#REF!>\"\",D639&\"_\"&#REF!&\"_\"&B639,\"\")","v":{"$error":"#REF!"}},{"$f":"IF(#REF!=\"\",\"\",COUNTIF(#REF!,\">\"\"\"))","v":{"$error":"#REF!"}},null,{"$f":"IFERROR(VLOOKUP(C639,Hidden_Словник!$A$2:$C$81,3,FALSE),\"\")","v":""},null,null,null,null,null,null,null,null,null,null,null,null,null,null,null,null,null,null,null,null,""]
[{"$f":"IF(#REF!>\"\",D640&\"_\"&#REF!&\"_\"&B640,\"\")","v":{"$error":"#REF!"}},{"$f":"IF(#REF!=\"\",\"\",COUNTIF(#REF!,\">\"\"\"))","v":{"$error":"#REF!"}},null,{"$f":"IFERROR(VLOOKUP(C640,Hidden_Словник!$A$2:$C$81,3,FALSE),\"\")","v":""},null,null,null,null,null,null,null,null,null,null,null,null,null,null,null,null,null,null,null,null,""]
[{"$f":"IF(#REF!>\"\",D641&\"_\"&#REF!&\"_\"&B641,\"\")","v":{"$error":"#REF!"}},{"$f":"IF(#REF!=\"\",\"\",COUNTIF(#REF!,\">\"\"\"))","v":{"$error":"#REF!"}},null,{"$f":"IFERROR(VLOOKUP(C641,Hidden_Словник!$A$2:$C$81,3,FALSE),\"\")","v":""},null,null,null,null,null,null,null,null,null,null,null,null,null,null,null,null,null,null,null,null,""]
[{"$f":"IF(#REF!>\"\",D642&\"_\"&#REF!&\"_\"&B642,\"\")","v":{"$error":"#REF!"}},{"$f":"IF(#REF!=\"\",\"\",COUNTIF(#REF!,\">\"\"\"))","v":{"$error":"#REF!"}},null,{"$f":"IFERROR(VLOOKUP(C642,Hidden_Словник!$A$2:$C$81,3,FALSE),\"\")","v":""},null,null,null,null,null,null,null,null,null,null,null,null,null,null,null,null,null,null,null,null,""]
[{"$f":"IF(#REF!>\"\",D643&\"_\"&#REF!&\"_\"&B643,\"\")","v":{"$error":"#REF!"}},{"$f":"IF(#REF!=\"\",\"\",COUNTIF(#REF!,\">\"\"\"))","v":{"$error":"#REF!"}},null,{"$f":"IFERROR(VLOOKUP(C643,Hidden_Словник!$A$2:$C$81,3,FALSE),\"\")","v":""},null,null,null,null,null,null,null,null,null,null,null,null,null,null,null,null,null,null,null,null,""]
[{"$f":"IF(#REF!>\"\",D644&\"_\"&#REF!&\"_\"&B644,\"\")","v":{"$error":"#REF!"}},{"$f":"IF(#REF!=\"\",\"\",COUNTIF(#REF!,\">\"\"\"))","v":{"$error":"#REF!"}},null,{"$f":"IFERROR(VLOOKUP(C644,Hidden_Словник!$A$2:$C$81,3,FALSE),\"\")","v":""},null,null,null,null,null,null,null,null,null,null,null,null,null,null,null,null,null,null,null,null,""]
[{"$f":"IF(#REF!>\"\",D645&\"_\"&#REF!&\"_\"&B645,\"\")","v":{"$error":"#REF!"}},{"$f":"IF(#REF!=\"\",\"\",COUNTIF(#REF!,\">\"\"\"))","v":{"$error":"#REF!"}},null,{"$f":"IFERROR(VLOOKUP(C645,Hidden_Словник!$A$2:$C$81,3,FALSE),\"\")","v":""},null,null,null,null,null,null,null,null,null,null,null,null,null,null,null,null,null,null,null,null,""]
[{"$f":"IF(#REF!>\"\",D646&\"_\"&#REF!&\"_\"&B646,\"\")","v":{"$error":"#REF!"}},{"$f":"IF(#REF!=\"\",\"\",COUNTIF(#REF!,\">\"\"\"))","v":{"$error":"#REF!"}},null,{"$f":"IFERROR(VLOOKUP(C646,Hidden_Словник!$A$2:$C$81,3,FALSE),\"\")","v":""},null,null,null,null,null,null,null,null,null,null,null,null,null,null,null,null,null,null,null,null,""]
[{"$f":"IF(#REF!>\"\",D647&\"_\"&#REF!&\"_\"&B647,\"\")","v":{"$error":"#REF!"}},{"$f":"IF(#REF!=\"\",\"\",COUNTIF(#REF!,\">\"\"\"))","v":{"$error":"#REF!"}},null,{"$f":"IFERROR(VLOOKUP(C647,Hidden_Словник!$A$2:$C$81,3,FALSE),\"\")","v":""},null,null,null,null,null,null,null,null,null,null,null,null,null,null,null,null,null,null,null,null,""]
[{"$f":"IF(#REF!>\"\",D648&\"_\"&#REF!&\"_\"&B648,\"\")","v":{"$error":"#REF!"}},{"$f":"IF(#REF!=\"\",\"\",COUNTIF(#REF!,\">\"\"\"))","v":{"$error":"#REF!"}},null,{"$f":"IFERROR(VLOOKUP(C648,Hidden_Словник!$A$2:$C$81,3,FALSE),\"\")","v":""},null,null,null,null,null,null,null,null,null,null,null,null,null,null,null,null,null,null,null,null,""]
[{"$f":"IF(#REF!>\"\",D649&\"_\"&#REF!&\"_\"&B649,\"\")","v":{"$error":"#REF!"}},{"$f":"IF(#REF!=\"\",\"\",COUNTIF(#REF!,\">\"\"\"))","v":{"$error":"#REF!"}},null,{"$f":"IFERROR(VLOOKUP(C649,Hidden_Словник!$A$2:$C$81,3,FALSE),\"\")","v":""},null,null,null,null,null,null,null,null,null,null,null,null,null,null,null,null,null,null,null,null,""]
[{"$f":"IF(#REF!>\"\",D650&\"_\"&#REF!&\"_\"&B650,\"\")","v":{"$error":"#REF!"}},{"$f":"IF(#REF!=\"\",\"\",COUNTIF(#REF!,\">\"\"\"))","v":{"$error":"#REF!"}},null,{"$f":"IFERROR(VLOOKUP(C650,Hidden_Словник!$A$2:$C$81,3,FALSE),\"\")","v":""},null,null,null,null,null,null,null,null,null,null,null,null,null,null,null,null,null,null,null,null,""]
[{"$f":"IF(#REF!>\"\",D651&\"_\"&#REF!&\"_\"&B651,\"\")","v":{"$error":"#REF!"}},{"$f":"IF(#REF!=\"\",\"\",COUNTIF(#REF!,\">\"\"\"))","v":{"$error":"#REF!"}},null,{"$f":"IFERROR(VLOOKUP(C651,Hidden_Словник!$A$2:$C$81,3,FALSE),\"\")","v":""},null,null,null,null,null,null,null,null,null,null,null,null,null,null,null,null,null,null,null,null,""]
[{"$f":"IF(#REF!>\"\",D652&\"_\"&#REF!&\"_\"&B652,\"\")","v":{"$error":"#REF!"}},{"$f":"IF(#REF!=\"\",\"\",COUNTIF(#REF!,\">\"\"\"))","v":{"$error":"#REF!"}},null,{"$f":"IFERROR(VLOOKUP(C652,Hidden_Словник!$A$2:$C$81,3,FALSE),\"\")","v":""},null,null,null,null,null,null,null,null,null,null,null,null,null,null,null,null,null,null,null,null,""]
[{"$f":"IF(#REF!>\"\",D653&\"_\"&#REF!&\"_\"&B653,\"\")","v":{"$error":"#REF!"}},{"$f":"IF(#REF!=\"\",\"\",COUNTIF(#REF!,\">\"\"\"))","v":{"$error":"#REF!"}},null,{"$f":"IFERROR(VLOOKUP(C653,Hidden_Словник!$A$2:$C$81,3,FALSE),\"\")","v":""},null,null,null,null,null,null,null,null,null,null,null,null,null,null,null,null,null,null,null,null,""]
[{"$f":"IF(#REF!>\"\",D654&\"_\"&#REF!&\"_\"&B654,\"\")","v":{"$error":"#REF!"}},{"$f":"IF(#REF!=\"\",\"\",COUNTIF(#REF!,\">\"\"\"))","v":{"$error":"#REF!"}},null,{"$f":"IFERROR(VLOOKUP(C654,Hidden_Словник!$A$2:$C$81,3,FALSE),\"\")","v":""},null,null,null,null,null,null,null,null,null,null,null,null,null,null,null,null,null,null,null,null,""]
[{"$f":"IF(#REF!>\"\",D655&\"_\"&#REF!&\"_\"&B655,\"\")","v":{"$error":"#REF!"}},{"$f":"IF(#REF!=\"\",\"\",COUNTIF(#REF!,\">\"\"\"))","v":{"$error":"#REF!"}},null,{"$f":"IFERROR(VLOOKUP(C655,Hidden_Словник!$A$2:$C$81,3,FALSE),\"\")","v":""},null,null,null,null,null,null,null,null,null,null,null,null,null,null,null,null,null,null,null,null,{"$f":"IF(Z655+AA655>0,Z655+AA655,\"\")","v":""}]
[{"$f":"IF(#REF!>\"\",D656&\"_\"&#REF!&\"_\"&B656,\"\")","v":{"$error":"#REF!"}},{"$f":"IF(#REF!=\"\",\"\",COUNTIF(#REF!,\">\"\"\"))","v":{"$error":"#REF!"}},null,{"$f":"IFERROR(VLOOKUP(C656,Hidden_Словник!$A$2:$C$81,3,FALSE),\"\")","v":""},null,null,null,null,null,null,null,null,null,null,null,null,null,null,null,null,null,null,null,null,""]
[{"$f":"IF(#REF!>\"\",D657&\"_\"&#REF!&\"_\"&B657,\"\")","v":{"$error":"#REF!"}},{"$f":"IF(#REF!=\"\",\"\",COUNTIF(#REF!,\">\"\"\"))","v":{"$error":"#REF!"}},null,{"$f":"IFERROR(VLOOKUP(C657,Hidden_Словник!$A$2:$C$81,3,FALSE),\"\")","v":""},null,null,null,null,null,null,null,null,null,null,null,null,null,null,null,null,null,null,null,null,""]
[{"$f":"IF(#REF!>\"\",D658&\"_\"&#REF!&\"_\"&B658,\"\")","v":{"$error":"#REF!"}},{"$f":"IF(#REF!=\"\",\"\",COUNTIF(#REF!,\">\"\"\"))","v":{"$error":"#REF!"}},null,{"$f":"IFERROR(VLOOKUP(C658,Hidden_Словник!$A$2:$C$81,3,FALSE),\"\")","v":""},null,null,null,null,null,null,null,null,null,null,null,null,null,null,null,null,null,null,null,null,""]
[{"$f":"IF(#REF!>\"\",D659&\"_\"&#REF!&\"_\"&B659,\"\")","v":{"$error":"#REF!"}},{"$f":"IF(#REF!=\"\",\"\",COUNTIF(#REF!,\">\"\"\"))","v":{"$error":"#REF!"}},null,{"$f":"IFERROR(VLOOKUP(C659,Hidden_Словник!$A$2:$C$81,3,FALSE),\"\")","v":""},null,null,null,null,null,null,null,null,null,null,null,null,null,null,null,null,null,null,null,null,""]
[{"$f":"IF(#REF!>\"\",D660&\"_\"&#REF!&\"_\"&B660,\"\")","v":{"$error":"#REF!"}},{"$f":"IF(#REF!=\"\",\"\",COUNTIF(#REF!,\">\"\"\"))","v":{"$error":"#REF!"}},null,{"$f":"IFERROR(VLOOKUP(C660,Hidden_Словник!$A$2:$C$81,3,FALSE),\"\")","v":""},null,null,null,null,null,null,null,null,null,null,null,null,null,null,null,null,null,null,null,null,""]
[{"$f":"IF(#REF!>\"\",D661&\"_\"&#REF!&\"_\"&B661,\"\")","v":{"$error":"#REF!"}},{"$f":"IF(#REF!=\"\",\"\",COUNTIF(#REF!,\">\"\"\"))","v":{"$error":"#REF!"}},null,{"$f":"IFERROR(VLOOKUP(C661,Hidden_Словник!$A$2:$C$81,3,FALSE),\"\")","v":""},null,null,null,null,null,null,null,null,null,null,null,null,null,null,null,null,null,null,null,null,""]
[{"$f":"IF(#REF!>\"\",D662&\"_\"&#REF!&\"_\"&B662,\"\")","v":{"$error":"#REF!"}},{"$f":"IF(#REF!=\"\",\"\",COUNTIF(#REF!,\">\"\"\"))","v":{"$error":"#REF!"}},null,{"$f":"IFERROR(VLOOKUP(C662,Hidden_Словник!$A$2:$C$81,3,FALSE),\"\")","v":""},null,null,null,null,null,null,null,null,null,null,null,null,null,null,null,null,null,null,null,null,""]
[{"$f":"IF(#REF!>\"\",D663&\"_\"&#REF!&\"_\"&B663,\"\")","v":{"$error":"#REF!"}},{"$f":"IF(#REF!=\"\",\"\",COUNTIF(#REF!,\">\"\"\"))","v":{"$error":"#REF!"}},null,{"$f":"IFERROR(VLOOKUP(C663,Hidden_Словник!$A$2:$C$81,3,FALSE),\"\")","v":""},null,null,null,null,null,null,null,null,null,null,null,null,null,null,null,null,null,null,null,null,""]
[{"$f":"IF(#REF!>\"\",D664&\"_\"&#REF!&\"_\"&B664,\"\")","v":{"$error":"#REF!"}},{"$f":"IF(#REF!=\"\",\"\",COUNTIF(#REF!,\">\"\"\"))","v":{"$error":"#REF!"}},null,{"$f":"IFERROR(VLOOKUP(C664,Hidden_Словник!$A$2:$C$81,3,FALSE),\"\")","v":""},null,null,null,null,null,null,null,null,null,null,null,null,null,null,null,null,null,null,null,null,""]
[{"$f":"IF(#REF!>\"\",D665&\"_\"&#REF!&\"_\"&B665,\"\")","v":{"$error":"#REF!"}},{"$f":"IF(#REF!=\"\",\"\",COUNTIF(#REF!,\">\"\"\"))","v":{"$error":"#REF!"}},null,{"$f":"IFERROR(VLOOKUP(C665,Hidden_Словник!$A$2:$C$81,3,FALSE),\"\")","v":""},null,null,null,null,null,null,null,null,null,null,null,null,null,null,null,null,null,null,null,null,""]
[{"$f":"IF(#REF!>\"\",D666&\"_\"&#REF!&\"_\"&B666,\"\")","v":{"$error":"#REF!"}},{"$f":"IF(#REF!=\"\",\"\",COUNTIF(#REF!,\">\"\"\"))","v":{"$error":"#REF!"}},null,{"$f":"IFERROR(VLOOKUP(C666,Hidden_Словник!$A$2:$C$81,3,FALSE),\"\")","v":""},null,null,null,null,null,null,null,null,null,null,null,null,null,null,null,null,null,null,null,null,""]
[{"$f":"IF(#REF!>\"\",D667&\"_\"&#REF!&\"_\"&B667,\"\")","v":{"$error":"#REF!"}},{"$f":"IF(#REF!=\"\",\"\",COUNTIF(#REF!,\">\"\"\"))","v":{"$error":"#REF!"}},null,{"$f":"IFERROR(VLOOKUP(C667,Hidden_Словник!$A$2:$C$81,3,FALSE),\"\")","v":""},null,null,null,null,null,null,null,null,null,null,null,null,null,null,null,null,null,null,null,null,""]
[{"$f":"IF(#REF!>\"\",D668&\"_\"&#REF!&\"_\"&B668,\"\")","v":{"$error":"#REF!"}},{"$f":"IF(#REF!=\"\",\"\",COUNTIF(#REF!,\">\"\"\"))","v":{"$error":"#REF!"}},null,{"$f":"IFERROR(VLOOKUP(C668,Hidden_Словник!$A$2:$C$81,3,FALSE),\"\")","v":""},null,null,null,null,null,null,null,null,null,null,null,null,null,null,null,null,null,null,null,null,""]
[{"$f":"IF(#REF!>\"\",D669&\"_\"&#REF!&\"_\"&B669,\"\")","v":{"$error":"#REF!"}},{"$f":"IF(#REF!=\"\",\"\",COUNTIF(#REF!,\">\"\"\"))","v":{"$error":"#REF!"}},null,{"$f":"IFERROR(VLOOKUP(C669,Hidden_Словник!$A$2:$C$81,3,FALSE),\"\")","v":""},null,null,null,null,null,null,null,null,null,null,null,null,null,null,null,null,null,null,null,null,""]
[{"$f":"IF(#REF!>\"\",D670&\"_\"&#REF!&\"_\"&B670,\"\")","v":{"$error":"#REF!"}},{"$f":"IF(#REF!=\"\",\"\",COUNTIF(#REF!,\">\"\"\"))","v":{"$error":"#REF!"}},null,{"$f":"IFERROR(VLOOKUP(C670,Hidden_Словник!$A$2:$C$81,3,FALSE),\"\")","v":""},null,null,null,null,null,null,null,null,null,null,null,null,null,null,null,null,null,null,null,null,""]
[{"$f":"IF(#REF!>\"\",D671&\"_\"&#REF!&\"_\"&B671,\"\")","v":{"$error":"#REF!"}},{"$f":"IF(#REF!=\"\",\"\",COUNTIF(#REF!,\">\"\"\"))","v":{"$error":"#REF!"}},null,{"$f":"IFERROR(VLOOKUP(C671,Hidden_Словник!$A$2:$C$81,3,FALSE),\"\")","v":""},null,null,null,null,null,null,null,null,null,null,null,null,null,null,null,null,null,null,null,null,""]
[{"$f":"IF(#REF!>\"\",D672&\"_\"&#REF!&\"_\"&B672,\"\")","v":{"$error":"#REF!"}},{"$f":"IF(#REF!=\"\",\"\",COUNTIF(#REF!,\">\"\"\"))","v":{"$error":"#REF!"}},null,{"$f":"IFERROR(VLOOKUP(C672,Hidden_Словник!$A$2:$C$81,3,FALSE),\"\")","v":""},null,null,null,null,null,null,null,null,null,null,null,null,null,null,null,null,null,null,null,null,""]
[{"$f":"IF(#REF!>\"\",D673&\"_\"&#REF!&\"_\"&B673,\"\")","v":{"$error":"#REF!"}},{"$f":"IF(#REF!=\"\",\"\",COUNTIF(#REF!,\">\"\"\"))","v":{"$error":"#REF!"}},null,{"$f":"IFERROR(VLOOKUP(C673,Hidden_Словник!$A$2:$C$81,3,FALSE),\"\")","v":""},null,null,null,null,null,null,null,null,null,null,null,null,null,null,null,null,null,null,null,null,""]
[{"$f":"IF(#REF!>\"\",D674&\"_\"&#REF!&\"_\"&B674,\"\")","v":{"$error":"#REF!"}},{"$f":"IF(#REF!=\"\",\"\",COUNTIF(#REF!,\">\"\"\"))","v":{"$error":"#REF!"}},null,{"$f":"IFERROR(VLOOKUP(C674,Hidden_Словник!$A$2:$C$81,3,FALSE),\"\")","v":""},null,null,null,null,null,null,null,null,null,null,null,null,null,null,null,null,null,null,null,null,""]
[{"$f":"IF(#REF!>\"\",D675&\"_\"&#REF!&\"_\"&B675,\"\")","v":{"$error":"#REF!"}},{"$f":"IF(#REF!=\"\",\"\",COUNTIF(#REF!,\">\"\"\"))","v":{"$error":"#REF!"}},null,{"$f":"IFERROR(VLOOKUP(C675,Hidden_Словник!$A$2:$C$81,3,FALSE),\"\")","v":""},null,null,null,null,null,null,null,null,null,null,null,null,null,null,null,null,null,null,null,null,""]
[{"$f":"IF(#REF!>\"\",D676&\"_\"&#REF!&\"_\"&B676,\"\")","v":{"$error":"#REF!"}},{"$f":"IF(#REF!=\"\",\"\",COUNTIF(#REF!,\">\"\"\"))","v":{"$error":"#REF!"}},null,{"$f":"IFERROR(VLOOKUP(C676,Hidden_Словник!$A$2:$C$81,3,FALSE),\"\")","v":""},null,null,null,null,null,null,null,null,null,null,null,null,null,null,null,null,null,null,null,null,""]
[{"$f":"IF(#REF!>\"\",D677&\"_\"&#REF!&\"_\"&B677,\"\")","v":{"$error":"#REF!"}},{"$f":"IF(#REF!=\"\",\"\",COUNTIF(#REF!,\">\"\"\"))","v":{"$error":"#REF!"}},null,{"$f":"IFERROR(VLOOKUP(C677,Hidden_Словник!$A$2:$C$81,3,FALSE),\"\")","v":""},null,null,null,null,null,null,null,null,null,null,null,null,null,null,null,null,null,null,null,null,""]
[{"$f":"IF(#REF!>\"\",D678&\"_\"&#REF!&\"_\"&B678,\"\")","v":{"$error":"#REF!"}},{"$f":"IF(#REF!=\"\",\"\",COUNTIF(#REF!,\">\"\"\"))","v":{"$error":"#REF!"}},null,{"$f":"IFERROR(VLOOKUP(C678,Hidden_Словник!$A$2:$C$81,3,FALSE),\"\")","v":""},null,null,null,null,null,null,null,null,null,null,null,null,null,null,null,null,null,null,null,null,""]
[{"$f":"IF(#REF!>\"\",D679&\"_\"&#REF!&\"_\"&B679,\"\")","v":{"$error":"#REF!"}},{"$f":"IF(#REF!=\"\",\"\",COUNTIF(#REF!,\">\"\"\"))","v":{"$error":"#REF!"}},null,{"$f":"IFERROR(VLOOKUP(C679,Hidden_Словник!$A$2:$C$81,3,FALSE),\"\")","v":""},null,null,null,null,null,null,null,null,null,null,null,null,null,null,null,null,null,null,null,null,""]
[{"$f":"IF(#REF!>\"\",D680&\"_\"&#REF!&\"_\"&B680,\"\")","v":{"$error":"#REF!"}},{"$f":"IF(#REF!=\"\",\"\",COUNTIF(#REF!,\">\"\"\"))","v":{"$error":"#REF!"}},null,{"$f":"IFERROR(VLOOKUP(C680,Hidden_Словник!$A$2:$C$81,3,FALSE),\"\")","v":""},null,null,null,null,null,null,null,null,null,null,null,null,null,null,null,null,null,null,null,null,""]
[{"$f":"IF(#REF!>\"\",D681&\"_\"&#REF!&\"_\"&B681,\"\")","v":{"$error":"#REF!"}},{"$f":"IF(#REF!=\"\",\"\",COUNTIF(#REF!,\">\"\"\"))","v":{"$error":"#REF!"}},null,{"$f":"IFERROR(VLOOKUP(C681,Hidden_Словник!$A$2:$C$81,3,FALSE),\"\")","v":""},null,null,null,null,null,null,null,null,null,null,null,null,null,null,null,null,null,null,null,null,""]
[{"$f":"IF(#REF!>\"\",D682&\"_\"&#REF!&\"_\"&B682,\"\")","v":{"$error":"#REF!"}},{"$f":"IF(#REF!=\"\",\"\",COUNTIF(#REF!,\">\"\"\"))","v":{"$error":"#REF!"}},null,{"$f":"IFERROR(VLOOKUP(C682,Hidden_Словник!$A$2:$C$81,3,FALSE),\"\")","v":""},null,null,null,null,null,null,null,null,null,null,null,null,null,null,null,null,null,null,null,null,""]
[{"$f":"IF(#REF!>\"\",D683&\"_\"&#REF!&\"_\"&B683,\"\")","v":{"$error":"#REF!"}},{"$f":"IF(#REF!=\"\",\"\",COUNTIF(#REF!,\">\"\"\"))","v":{"$error":"#REF!"}},null,{"$f":"IFERROR(VLOOKUP(C683,Hidden_Словник!$A$2:$C$81,3,FALSE),\"\")","v":""},null,null,null,null,null,null,null,null,null,null,null,null,null,null,null,null,null,null,null,null,""]
[{"$f":"IF(#REF!>\"\",D684&\"_\"&#REF!&\"_\"&B684,\"\")","v":{"$error":"#REF!"}},{"$f":"IF(#REF!=\"\",\"\",COUNTIF(#REF!,\">\"\"\"))","v":{"$error":"#REF!"}},null,{"$f":"IFERROR(VLOOKUP(C684,Hidden_Словник!$A$2:$C$81,3,FALSE),\"\")","v":""},null,null,null,null,null,null,null,null,null,null,null,null,null,null,null,null,null,null,null,null,""]
[{"$f":"IF(#REF!>\"\",D685&\"_\"&#REF!&\"_\"&B685,\"\")","v":{"$error":"#REF!"}},{"$f":"IF(#REF!=\"\",\"\",COUNTIF(#REF!,\">\"\"\"))","v":{"$error":"#REF!"}},null,{"$f":"IFERROR(VLOOKUP(C685,Hidden_Словник!$A$2:$C$81,3,FALSE),\"\")","v":""},null,null,null,null,null,null,null,null,null,null,null,null,null,null,null,null,null,null,null,null,""]
[{"$f":"IF(#REF!>\"\",D686&\"_\"&#REF!&\"_\"&B686,\"\")","v":{"$error":"#REF!"}},{"$f":"IF(#REF!=\"\",\"\",COUNTIF(#REF!,\">\"\"\"))","v":{"$error":"#REF!"}},null,{"$f":"IFERROR(VLOOKUP(C686,Hidden_Словник!$A$2:$C$81,3,FALSE),\"\")","v":""},null,null,null,null,null,null,null,null,null,null,null,null,null,null,null,null,null,null,null,null,""]
[{"$f":"IF(#REF!>\"\",D687&\"_\"&#REF!&\"_\"&B687,\"\")","v":{"$error":"#REF!"}},{"$f":"IF(#REF!=\"\",\"\",COUNTIF(#REF!,\">\"\"\"))","v":{"$error":"#REF!"}},null,{"$f":"IFERROR(VLOOKUP(C687,Hidden_Словник!$A$2:$C$81,3,FALSE),\"\")","v":""},null,null,null,null,null,null,null,null,null,null,null,null,null,null,null,null,null,null,null,null,""]
[{"$f":"IF(#REF!>\"\",D688&\"_\"&#REF!&\"_\"&B688,\"\")","v":{"$error":"#REF!"}},{"$f":"IF(#REF!=\"\",\"\",COUNTIF(#REF!,\">\"\"\"))","v":{"$error":"#REF!"}},null,{"$f":"IFERROR(VLOOKUP(C688,Hidden_Словник!$A$2:$C$81,3,FALSE),\"\")","v":""},null,null,null,null,null,null,null,null,null,null,null,null,null,null,null,null,null,null,null,null,""]
[{"$f":"IF(#REF!>\"\",D689&\"_\"&#REF!&\"_\"&B689,\"\")","v":{"$error":"#REF!"}},{"$f":"IF(#REF!=\"\",\"\",COUNTIF(#REF!,\">\"\"\"))","v":{"$error":"#REF!"}},null,{"$f":"IFERROR(VLOOKUP(C689,Hidden_Словник!$A$2:$C$81,3,FALSE),\"\")","v":""},null,null,null,null,null,null,null,null,null,null,null,null,null,null,null,null,null,null,null,null,""]
[{"$f":"IF(#REF!>\"\",D690&\"_\"&#REF!&\"_\"&B690,\"\")","v":{"$error":"#REF!"}},{"$f":"IF(#REF!=\"\",\"\",COUNTIF(#REF!,\">\"\"\"))","v":{"$error":"#REF!"}},null,{"$f":"IFERROR(VLOOKUP(C690,Hidden_Словник!$A$2:$C$81,3,FALSE),\"\")","v":""},null,null,null,null,null,null,null,null,null,null,null,null,null,null,null,null,null,null,null,null,""]
[{"$f":"IF(#REF!>\"\",D691&\"_\"&#REF!&\"_\"&B691,\"\")","v":{"$error":"#REF!"}},{"$f":"IF(#REF!=\"\",\"\",COUNTIF(#REF!,\">\"\"\"))","v":{"$error":"#REF!"}},null,{"$f":"IFERROR(VLOOKUP(C691,Hidden_Словник!$A$2:$C$81,3,FALSE),\"\")","v":""},null,null,null,null,null,null,null,null,null,null,null,null,null,null,null,null,null,null,null,null,""]
[{"$f":"IF(#REF!>\"\",D692&\"_\"&#REF!&\"_\"&B692,\"\")","v":{"$error":"#REF!"}},{"$f":"IF(#REF!=\"\",\"\",COUNTIF(#REF!,\">\"\"\"))","v":{"$error":"#REF!"}},null,{"$f":"IFERROR(VLOOKUP(C692,Hidden_Словник!$A$2:$C$81,3,FALSE),\"\")","v":""},null,null,null,null,null,null,null,null,null,null,null,null,null,null,null,null,null,null,null,null,""]
[{"$f":"IF(#REF!>\"\",D693&\"_\"&#REF!&\"_\"&B693,\"\")","v":{"$error":"#REF!"}},{"$f":"IF(#REF!=\"\",\"\",COUNTIF(#REF!,\">\"\"\"))","v":{"$error":"#REF!"}},null,{"$f":"IFERROR(VLOOKUP(C693,Hidden_Словник!$A$2:$C$81,3,FALSE),\"\")","v":""},null,null,null,null,null,null,null,null,null,null,null,null,null,null,null,null,null,null,null,null,""]
[{"$f":"IF(#REF!>\"\",D694&\"_\"&#REF!&\"_\"&B694,\"\")","v":{"$error":"#REF!"}},{"$f":"IF(#REF!=\"\",\"\",COUNTIF(#REF!,\">\"\"\"))","v":{"$error":"#REF!"}},null,{"$f":"IFERROR(VLOOKUP(C694,Hidden_Словник!$A$2:$C$81,3,FALSE),\"\")","v":""},null,null,null,null,null,null,null,null,null,null,null,null,null,null,null,null,null,null,null,null,""]
[{"$f":"IF(#REF!>\"\",D695&\"_\"&#REF!&\"_\"&B695,\"\")","v":{"$error":"#REF!"}},{"$f":"IF(#REF!=\"\",\"\",COUNTIF(#REF!,\">\"\"\"))","v":{"$error":"#REF!"}},null,{"$f":"IFERROR(VLOOKUP(C695,Hidden_Словник!$A$2:$C$81,3,FALSE),\"\")","v":""},null,null,null,null,null,null,null,null,null,null,null,null,null,null,null,null,null,null,null,null,""]
[{"$f":"IF(#REF!>\"\",D696&\"_\"&#REF!&\"_\"&B696,\"\")","v":{"$error":"#REF!"}},{"$f":"IF(#REF!=\"\",\"\",COUNTIF(#REF!,\">\"\"\"))","v":{"$error":"#REF!"}},null,{"$f":"IFERROR(VLOOKUP(C696,Hidden_Словник!$A$2:$C$81,3,FALSE),\"\")","v":""},null,null,null,null,null,null,null,null,null,null,null,null,null,null,null,null,null,null,null,null,""]
[{"$f":"IF(#REF!>\"\",D697&\"_\"&#REF!&\"_\"&B697,\"\")","v":{"$error":"#REF!"}},{"$f":"IF(#REF!=\"\",\"\",COUNTIF(#REF!,\">\"\"\"))","v":{"$error":"#REF!"}},null,{"$f":"IFERROR(VLOOKUP(C697,Hidden_Словник!$A$2:$C$81,3,FALSE),\"\")","v":""},null,null,null,null,null,null,null,null,null,null,null,null,null,null,null,null,null,null,null,null,""]
[{"$f":"IF(#REF!>\"\",D698&\"_\"&#REF!&\"_\"&B698,\"\")","v":{"$error":"#REF!"}},{"$f":"IF(#REF!=\"\",\"\",COUNTIF(#REF!,\">\"\"\"))","v":{"$error":"#REF!"}},null,{"$f":"IFERROR(VLOOKUP(C698,Hidden_Словник!$A$2:$C$81,3,FALSE),\"\")","v":""},null,null,null,null,null,null,null,null,null,null,null,null,null,null,null,null,null,null,null,null,""]
[{"$f":"IF(#REF!>\"\",D699&\"_\"&#REF!&\"_\"&B699,\"\")","v":{"$error":"#REF!"}},{"$f":"IF(#REF!=\"\",\"\",COUNTIF(#REF!,\">\"\"\"))","v":{"$error":"#REF!"}},null,{"$f":"IFERROR(VLOOKUP(C699,Hidden_Словник!$A$2:$C$81,3,FALSE),\"\")","v":""},null,null,null,null,null,null,null,null,null,null,null,null,null,null,null,null,null,null,null,null,""]
[{"$f":"IF(#REF!>\"\",D700&\"_\"&#REF!&\"_\"&B700,\"\")","v":{"$error":"#REF!"}},{"$f":"IF(#REF!=\"\",\"\",COUNTIF(#REF!,\">\"\"\"))","v":{"$error":"#REF!"}},null,{"$f":"IFERROR(VLOOKUP(C700,Hidden_Словник!$A$2:$C$81,3,FALSE),\"\")","v":""},null,null,null,null,null,null,null,null,null,null,null,null,null,null,null,null,null,null,null,null,""]
[{"$f":"IF(#REF!>\"\",D701&\"_\"&#REF!&\"_\"&B701,\"\")","v":{"$error":"#REF!"}},{"$f":"IF(#REF!=\"\",\"\",COUNTIF(#REF!,\">\"\"\"))","v":{"$error":"#REF!"}},null,{"$f":"IFERROR(VLOOKUP(C701,Hidden_Словник!$A$2:$C$81,3,FALSE),\"\")","v":""},null,null,null,null,null,null,null,null,null,null,null,null,null,null,null,null,null,null,null,null,""]
[{"$f":"IF(#REF!>\"\",D702&\"_\"&#REF!&\"_\"&B702,\"\")","v":{"$error":"#REF!"}},{"$f":"IF(#REF!=\"\",\"\",COUNTIF(#REF!,\">\"\"\"))","v":{"$error":"#REF!"}},null,{"$f":"IFERROR(VLOOKUP(C702,Hidden_Словник!$A$2:$C$81,3,FALSE),\"\")","v":""},null,null,null,null,null,null,null,null,null,null,null,null,null,null,null,null,null,null,null,null,""]
[{"$f":"IF(#REF!>\"\",D703&\"_\"&#REF!&\"_\"&B703,\"\")","v":{"$error":"#REF!"}},{"$f":"IF(#REF!=\"\",\"\",COUNTIF(#REF!,\">\"\"\"))","v":{"$error":"#REF!"}},null,{"$f":"IFERROR(VLOOKUP(C703,Hidden_Словник!$A$2:$C$81,3,FALSE),\"\")","v":""},null,null,null,null,null,null,null,null,null,null,null,null,null,null,null,null,null,null,null,null,""]
[{"$f":"IF(#REF!>\"\",D704&\"_\"&#REF!&\"_\"&B704,\"\")","v":{"$error":"#REF!"}},{"$f":"IF(#REF!=\"\",\"\",COUNTIF(#REF!,\">\"\"\"))","v":{"$error":"#REF!"}},null,{"$f":"IFERROR(VLOOKUP(C704,Hidden_Словник!$A$2:$C$81,3,FALSE),\"\")","v":""},null,null,null,null,null,null,null,null,null,null,null,null,null,null,null,null,null,null,null,null,""]
[{"$f":"IF(#REF!>\"\",D705&\"_\"&#REF!&\"_\"&B705,\"\")","v":{"$error":"#REF!"}},{"$f":"IF(#REF!=\"\",\"\",COUNTIF(#REF!,\">\"\"\"))","v":{"$error":"#REF!"}},null,{"$f":"IFERROR(VLOOKUP(C705,Hidden_Словник!$A$2:$C$81,3,FALSE),\"\")","v":""},null,null,null,null,null,null,null,null,null,null,null,null,null,null,null,null,null,null,null,null,""]
[{"$f":"IF(#REF!>\"\",D706&\"_\"&#REF!&\"_\"&B706,\"\")","v":{"$error":"#REF!"}},{"$f":"IF(#REF!=\"\",\"\",COUNTIF(#REF!,\">\"\"\"))","v":{"$error":"#REF!"}},null,{"$f":"IFERROR(VLOOKUP(C706,Hidden_Словник!$A$2:$C$81,3,FALSE),\"\")","v":""},null,null,null,null,null,null,null,null,null,null,null,null,null,null,null,null,null,null,null,null,""]
[{"$f":"IF(#REF!>\"\",D707&\"_\"&#REF!&\"_\"&B707,\"\")","v":{"$error":"#REF!"}},{"$f":"IF(#REF!=\"\",\"\",COUNTIF(#REF!,\">\"\"\"))","v":{"$error":"#REF!"}},null,{"$f":"IFERROR(VLOOKUP(C707,Hidden_Словник!$A$2:$C$81,3,FALSE),\"\")","v":""},null,null,null,null,null,null,null,null,null,null,null,null,null,null,null,null,null,null,null,null,""]
[{"$f":"IF(#REF!>\"\",D708&\"_\"&#REF!&\"_\"&B708,\"\")","v":{"$error":"#REF!"}},{"$f":"IF(#REF!=\"\",\"\",COUNTIF(#REF!,\">\"\"\"))","v":{"$error":"#REF!"}},null,{"$f":"IFERROR(VLOOKUP(C708,Hidden_Словник!$A$2:$C$81,3,FALSE),\"\")","v":""},null,null,null,null,null,null,null,null,null,null,null,null,null,null,null,null,null,null,null,null,""]
[{"$f":"IF(#REF!>\"\",D709&\"_\"&#REF!&\"_\"&B709,\"\")","v":{"$error":"#REF!"}},{"$f":"IF(#REF!=\"\",\"\",COUNTIF(#REF!,\">\"\"\"))","v":{"$error":"#REF!"}},null,{"$f":"IFERROR(VLOOKUP(C709,Hidden_Словник!$A$2:$C$81,3,FALSE),\"\")","v":""},null,null,null,null,null,null,null,null,null,null,null,null,null,null,null,null,null,null,null,null,""]
[{"$f":"IF(#REF!>\"\",D710&\"_\"&#REF!&\"_\"&B710,\"\")","v":{"$error":"#REF!"}},{"$f":"IF(#REF!=\"\",\"\",COUNTIF(#REF!,\">\"\"\"))","v":{"$error":"#REF!"}},null,{"$f":"IFERROR(VLOOKUP(C710,Hidden_Словник!$A$2:$C$81,3,FALSE),\"\")","v":""},null,null,null,null,null,null,null,null,null,null,null,null,null,null,null,null,null,null,null,null,""]
[{"$f":"IF(#REF!>\"\",D711&\"_\"&#REF!&\"_\"&B711,\"\")","v":{"$error":"#REF!"}},{"$f":"IF(#REF!=\"\",\"\",COUNTIF(#REF!,\">\"\"\"))","v":{"$error":"#REF!"}},null,{"$f":"IFERROR(VLOOKUP(C711,Hidden_Словник!$A$2:$C$81,3,FALSE),\"\")","v":""},null,null,null,null,null,null,null,null,null,null,null,null,null,null,null,null,null,null,null,null,""]
[{"$f":"IF(#REF!>\"\",D712&\"_\"&#REF!&\"_\"&B712,\"\")","v":{"$error":"#REF!"}},{"$f":"IF(#REF!=\"\",\"\",COUNTIF(#REF!,\">\"\"\"))","v":{"$error":"#REF!"}},null,{"$f":"IFERROR(VLOOKUP(C712,Hidden_Словник!$A$2:$C$81,3,FALSE),\"\")","v":""},null,null,null,null,null,null,null,null,null,null,null,null,null,null,null,null,null,null,null,null,""]
[{"$f":"IF(#REF!>\"\",D713&\"_\"&#REF!&\"_\"&B713,\"\")","v":{"$error":"#REF!"}},{"$f":"IF(#REF!=\"\",\"\",COUNTIF(#REF!,\">\"\"\"))","v":{"$error":"#REF!"}},null,{"$f":"IFERROR(VLOOKUP(C713,Hidden_Словник!$A$2:$C$81,3,FALSE),\"\")","v":""},null,null,null,null,null,null,null,null,null,null,null,null,null,null,null,null,null,null,null,null,""]
[{"$f":"IF(#REF!>\"\",D714&\"_\"&#REF!&\"_\"&B714,\"\")","v":{"$error":"#REF!"}},{"$f":"IF(#REF!=\"\",\"\",COUNTIF(#REF!,\">\"\"\"))","v":{"$error":"#REF!"}},null,{"$f":"IFERROR(VLOOKUP(C714,Hidden_Словник!$A$2:$C$81,3,FALSE),\"\")","v":""},null,null,null,null,null,null,null,null,null,null,null,null,null,null,null,null,null,null,null,null,""]
[{"$f":"IF(#REF!>\"\",D715&\"_\"&#REF!&\"_\"&B715,\"\")","v":{"$error":"#REF!"}},{"$f":"IF(#REF!=\"\",\"\",COUNTIF(#REF!,\">\"\"\"))","v":{"$error":"#REF!"}},null,{"$f":"IFERROR(VLOOKUP(C715,Hidden_Словник!$A$2:$C$81,3,FALSE),\"\")","v":""},null,null,null,null,null,null,null,null,null,null,null,null,null,null,null,null,null,null,null,null,""]
[{"$f":"IF(#REF!>\"\",D716&\"_\"&#REF!&\"_\"&B716,\"\")","v":{"$error":"#REF!"}},{"$f":"IF(#REF!=\"\",\"\",COUNTIF(#REF!,\">\"\"\"))","v":{"$error":"#REF!"}},null,{"$f":"IFERROR(VLOOKUP(C716,Hidden_Словник!$A$2:$C$81,3,FALSE),\"\")","v":""},null,null,null,null,null,null,null,null,null,null,null,null,null,null,null,null,null,null,null,null,""]
[{"$f":"IF(#REF!>\"\",D717&\"_\"&#REF!&\"_\"&B717,\"\")","v":{"$error":"#REF!"}},{"$f":"IF(#REF!=\"\",\"\",COUNTIF(#REF!,\">\"\"\"))","v":{"$error":"#REF!"}},null,{"$f":"IFERROR(VLOOKUP(C717,Hidden_Словник!$A$2:$C$81,3,FALSE),\"\")","v":""},null,null,null,null,null,null,null,null,null,null,null,null,null,null,null,null,null,null,null,null,""]
[{"$f":"IF(#REF!>\"\",D718&\"_\"&#REF!&\"_\"&B718,\"\")","v":{"$error":"#REF!"}},{"$f":"IF(#REF!=\"\",\"\",COUNTIF(#REF!,\">\"\"\"))","v":{"$error":"#REF!"}},null,{"$f":"IFERROR(VLOOKUP(C718,Hidden_Словник!$A$2:$C$81,3,FALSE),\"\")","v":""},null,null,null,null,null,null,null,null,null,null,null,null,null,null,null,null,null,null,null,null,""]
[{"$f":"IF(#REF!>\"\",D719&\"_\"&#REF!&\"_\"&B719,\"\")","v":{"$error":"#REF!"}},{"$f":"IF(#REF!=\"\",\"\",COUNTIF(#REF!,\">\"\"\"))","v":{"$error":"#REF!"}},null,{"$f":"IFERROR(VLOOKUP(C719,Hidden_Словник!$A$2:$C$81,3,FALSE),\"\")","v":""},null,null,null,null,null,null,null,null,null,null,null,null,null,null,null,null,null,null,null,null,{"$f":"IF(Z719+AA719>0,Z719+AA719,\"\")","v":""}]
[{"$f":"IF(#REF!>\"\",D720&\"_\"&#REF!&\"_\"&B720,\"\")","v":{"$error":"#REF!"}},{"$f":"IF(#REF!=\"\",\"\",COUNTIF(#REF!,\">\"\"\"))","v":{"$error":"#REF!"}},null,{"$f":"IFERROR(VLOOKUP(C720,Hidden_Словник!$A$2:$C$81,3,FALSE),\"\")","v":""},null,null,null,null,null,null,null,null,null,null,null,null,null,null,null,null,null,null,null,null,""]
[{"$f":"IF(#REF!>\"\",D721&\"_\"&#REF!&\"_\"&B721,\"\")","v":{"$error":"#REF!"}},{"$f":"IF(#REF!=\"\",\"\",COUNTIF(#REF!,\">\"\"\"))","v":{"$error":"#REF!"}},null,{"$f":"IFERROR(VLOOKUP(C721,Hidden_Словник!$A$2:$C$81,3,FALSE),\"\")","v":""},null,null,null,null,null,null,null,null,null,null,null,null,null,null,null,null,null,null,null,null,""]
[{"$f":"IF(#REF!>\"\",D722&\"_\"&#REF!&\"_\"&B722,\"\")","v":{"$error":"#REF!"}},{"$f":"IF(#REF!=\"\",\"\",COUNTIF(#REF!,\">\"\"\"))","v":{"$error":"#REF!"}},null,{"$f":"IFERROR(VLOOKUP(C722,Hidden_Словник!$A$2:$C$81,3,FALSE),\"\")","v":""},null,null,null,null,null,null,null,null,null,null,null,null,null,null,null,null,null,null,null,null,""]
[{"$f":"IF(#REF!>\"\",D723&\"_\"&#REF!&\"_\"&B723,\"\")","v":{"$error":"#REF!"}},{"$f":"IF(#REF!=\"\",\"\",COUNTIF(#REF!,\">\"\"\"))","v":{"$error":"#REF!"}},null,{"$f":"IFERROR(VLOOKUP(C723,Hidden_Словник!$A$2:$C$81,3,FALSE),\"\")","v":""},null,null,null,null,null,null,null,null,null,null,null,null,null,null,null,null,null,null,null,null,""]
[{"$f":"IF(#REF!>\"\",D724&\"_\"&#REF!&\"_\"&B724,\"\")","v":{"$error":"#REF!"}},{"$f":"IF(#REF!=\"\",\"\",COUNTIF(#REF!,\">\"\"\"))","v":{"$error":"#REF!"}},null,{"$f":"IFERROR(VLOOKUP(C724,Hidden_Словник!$A$2:$C$81,3,FALSE),\"\")","v":""},null,null,null,null,null,null,null,null,null,null,null,null,null,null,null,null,null,null,null,null,""]
[{"$f":"IF(#REF!>\"\",D725&\"_\"&#REF!&\"_\"&B725,\"\")","v":{"$error":"#REF!"}},{"$f":"IF(#REF!=\"\",\"\",COUNTIF(#REF!,\">\"\"\"))","v":{"$error":"#REF!"}},null,{"$f":"IFERROR(VLOOKUP(C725,Hidden_Словник!$A$2:$C$81,3,FALSE),\"\")","v":""},null,null,null,null,null,null,null,null,null,null,null,null,null,null,null,null,null,null,null,null,""]
[{"$f":"IF(#REF!>\"\",D726&\"_\"&#REF!&\"_\"&B726,\"\")","v":{"$error":"#REF!"}},{"$f":"IF(#REF!=\"\",\"\",COUNTIF(#REF!,\">\"\"\"))","v":{"$error":"#REF!"}},null,{"$f":"IFERROR(VLOOKUP(C726,Hidden_Словник!$A$2:$C$81,3,FALSE),\"\")","v":""},null,null,null,null,null,null,null,null,null,null,null,null,null,null,null,null,null,null,null,null,""]
[{"$f":"IF(#REF!>\"\",D727&\"_\"&#REF!&\"_\"&B727,\"\")","v":{"$error":"#REF!"}},{"$f":"IF(#REF!=\"\",\"\",COUNTIF(#REF!,\">\"\"\"))","v":{"$error":"#REF!"}},null,{"$f":"IFERROR(VLOOKUP(C727,Hidden_Словник!$A$2:$C$81,3,FALSE),\"\")","v":""},null,null,null,null,null,null,null,null,null,null,null,null,null,null,null,null,null,null,null,null,""]
[{"$f":"IF(#REF!>\"\",D728&\"_\"&#REF!&\"_\"&B728,\"\")","v":{"$error":"#REF!"}},{"$f":"IF(#REF!=\"\",\"\",COUNTIF(#REF!,\">\"\"\"))","v":{"$error":"#REF!"}},null,{"$f":"IFERROR(VLOOKUP(C728,Hidden_Словник!$A$2:$C$81,3,FALSE),\"\")","v":""},null,null,null,null,null,null,null,null,null,null,null,null,null,null,null,null,null,null,null,null,""]
[{"$f":"IF(#REF!>\"\",D729&\"_\"&#REF!&\"_\"&B729,\"\")","v":{"$error":"#REF!"}},{"$f":"IF(#REF!=\"\",\"\",COUNTIF(#REF!,\">\"\"\"))","v":{"$error":"#REF!"}},null,{"$f":"IFERROR(VLOOKUP(C729,Hidden_Словник!$A$2:$C$81,3,FALSE),\"\")","v":""},null,null,null,null,null,null,null,null,null,null,null,null,null,null,null,null,null,null,null,null,""]
[{"$f":"IF(#REF!>\"\",D730&\"_\"&#REF!&\"_\"&B730,\"\")","v":{"$error":"#REF!"}},{"$f":"IF(#REF!=\"\",\"\",COUNTIF(#REF!,\">\"\"\"))","v":{"$error":"#REF!"}},null,{"$f":"IFERROR(VLOOKUP(C730,Hidden_Словник!$A$2:$C$81,3,FALSE),\"\")","v":""},null,null,null,null,null,null,null,null,null,null,null,null,null,null,null,null,null,null,null,null,""]
[{"$f":"IF(#REF!>\"\",D731&\"_\"&#REF!&\"_\"&B731,\"\")","v":{"$error":"#REF!"}},{"$f":"IF(#REF!=\"\",\"\",COUNTIF(#REF!,\">\"\"\"))","v":{"$error":"#REF!"}},null,{"$f":"IFERROR(VLOOKUP(C731,Hidden_Словник!$A$2:$C$81,3,FALSE),\"\")","v":""},null,null,null,null,null,null,null,null,null,null,null,null,null,null,null,null,null,null,null,null,""]
[{"$f":"IF(#REF!>\"\",D732&\"_\"&#REF!&\"_\"&B732,\"\")","v":{"$error":"#REF!"}},{"$f":"IF(#REF!=\"\",\"\",COUNTIF(#REF!,\">\"\"\"))","v":{"$error":"#REF!"}},null,{"$f":"IFERROR(VLOOKUP(C732,Hidden_Словник!$A$2:$C$81,3,FALSE),\"\")","v":""},null,null,null,null,null,null,null,null,null,null,null,null,null,null,null,null,null,null,null,null,""]
[{"$f":"IF(#REF!>\"\",D733&\"_\"&#REF!&\"_\"&B733,\"\")","v":{"$error":"#REF!"}},{"$f":"IF(#REF!=\"\",\"\",COUNTIF(#REF!,\">\"\"\"))","v":{"$error":"#REF!"}},null,{"$f":"IFERROR(VLOOKUP(C733,Hidden_Словник!$A$2:$C$81,3,FALSE),\"\")","v":""},null,null,null,null,null,null,null,null,null,null,null,null,null,null,null,null,null,null,null,null,""]
[{"$f":"IF(#REF!>\"\",D734&\"_\"&#REF!&\"_\"&B734,\"\")","v":{"$error":"#REF!"}},{"$f":"IF(#REF!=\"\",\"\",COUNTIF(#REF!,\">\"\"\"))","v":{"$error":"#REF!"}},null,{"$f":"IFERROR(VLOOKUP(C734,Hidden_Словник!$A$2:$C$81,3,FALSE),\"\")","v":""},null,null,null,null,null,null,null,null,null,null,null,null,null,null,null,null,null,null,null,null,""]
[{"$f":"IF(#REF!>\"\",D735&\"_\"&#REF!&\"_\"&B735,\"\")","v":{"$error":"#REF!"}},{"$f":"IF(#REF!=\"\",\"\",COUNTIF(#REF!,\">\"\"\"))","v":{"$error":"#REF!"}},null,{"$f":"IFERROR(VLOOKUP(C735,Hidden_Словник!$A$2:$C$81,3,FALSE),\"\")","v":""},null,null,null,null,null,null,null,null,null,null,null,null,null,null,null,null,null,null,null,null,""]
[{"$f":"IF(#REF!>\"\",D736&\"_\"&#REF!&\"_\"&B736,\"\")","v":{"$error":"#REF!"}},{"$f":"IF(#REF!=\"\",\"\",COUNTIF(#REF!,\">\"\"\"))","v":{"$error":"#REF!"}},null,{"$f":"IFERROR(VLOOKUP(C736,Hidden_Словник!$A$2:$C$81,3,FALSE),\"\")","v":""},null,null,null,null,null,null,null,null,null,null,null,null,null,null,null,null,null,null,null,null,""]
[{"$f":"IF(#REF!>\"\",D737&\"_\"&#REF!&\"_\"&B737,\"\")","v":{"$error":"#REF!"}},{"$f":"IF(#REF!=\"\",\"\",COUNTIF(#REF!,\">\"\"\"))","v":{"$error":"#REF!"}},null,{"$f":"IFERROR(VLOOKUP(C737,Hidden_Словник!$A$2:$C$81,3,FALSE),\"\")","v":""},null,null,null,null,null,null,null,null,null,null,null,null,null,null,null,null,null,null,null,null,""]
[{"$f":"IF(#REF!>\"\",D738&\"_\"&#REF!&\"_\"&B738,\"\")","v":{"$error":"#REF!"}},{"$f":"IF(#REF!=\"\",\"\",COUNTIF(#REF!,\">\"\"\"))","v":{"$error":"#REF!"}},null,{"$f":"IFERROR(VLOOKUP(C738,Hidden_Словник!$A$2:$C$81,3,FALSE),\"\")","v":""},null,null,null,null,null,null,null,null,null,null,null,null,null,null,null,null,null,null,null,null,""]
[{"$f":"IF(#REF!>\"\",D739&\"_\"&#REF!&\"_\"&B739,\"\")","v":{"$error":"#REF!"}},{"$f":"IF(#REF!=\"\",\"\",COUNTIF(#REF!,\">\"\"\"))","v":{"$error":"#REF!"}},null,{"$f":"IFERROR(VLOOKUP(C739,Hidden_Словник!$A$2:$C$81,3,FALSE),\"\")","v":""},null,null,null,null,null,null,null,null,null,null,null,null,null,null,null,null,null,null,null,null,""]
[{"$f":"IF(#REF!>\"\",D740&\"_\"&#REF!&\"_\"&B740,\"\")","v":{"$error":"#REF!"}},{"$f":"IF(#REF!=\"\",\"\",COUNTIF(#REF!,\">\"\"\"))","v":{"$error":"#REF!"}},null,{"$f":"IFERROR(VLOOKUP(C740,Hidden_Словник!$A$2:$C$81,3,FALSE),\"\")","v":""},null,null,null,null,null,null,null,null,null,null,null,null,null,null,null,null,null,null,null,null,""]
[{"$f":"IF(#REF!>\"\",D741&\"_\"&#REF!&\"_\"&B741,\"\")","v":{"$error":"#REF!"}},{"$f":"IF(#REF!=\"\",\"\",COUNTIF(#REF!,\">\"\"\"))","v":{"$error":"#REF!"}},null,{"$f":"IFERROR(VLOOKUP(C741,Hidden_Словник!$A$2:$C$81,3,FALSE),\"\")","v":""},null,null,null,null,null,null,null,null,null,null,null,null,null,null,null,null,null,null,null,null,""]
[{"$f":"IF(#REF!>\"\",D742&\"_\"&#REF!&\"_\"&B742,\"\")","v":{"$error":"#REF!"}},{"$f":"IF(#REF!=\"\",\"\",COUNTIF(#REF!,\">\"\"\"))","v":{"$error":"#REF!"}},null,{"$f":"IFERROR(VLOOKUP(C742,Hidden_Словник!$A$2:$C$81,3,FALSE),\"\")","v":""},null,null,null,null,null,null,null,null,null,null,null,null,null,null,null,null,null,null,null,null,""]
[{"$f":"IF(#REF!>\"\",D743&\"_\"&#REF!&\"_\"&B743,\"\")","v":{"$error":"#REF!"}},{"$f":"IF(#REF!=\"\",\"\",COUNTIF(#REF!,\">\"\"\"))","v":{"$error":"#REF!"}},null,{"$f":"IFERROR(VLOOKUP(C743,Hidden_Словник!$A$2:$C$81,3,FALSE),\"\")","v":""},null,null,null,null,null,null,null,null,null,null,null,null,null,null,null,null,null,null,null,null,""]
[{"$f":"IF(#REF!>\"\",D744&\"_\"&#REF!&\"_\"&B744,\"\")","v":{"$error":"#REF!"}},{"$f":"IF(#REF!=\"\",\"\",COUNTIF(#REF!,\">\"\"\"))","v":{"$error":"#REF!"}},null,{"$f":"IFERROR(VLOOKUP(C744,Hidden_Словник!$A$2:$C$81,3,FALSE),\"\")","v":""},null,null,null,null,null,null,null,null,null,null,null,null,null,null,null,null,null,null,null,null,""]
[{"$f":"IF(#REF!>\"\",D745&\"_\"&#REF!&\"_\"&B745,\"\")","v":{"$error":"#REF!"}},{"$f":"IF(#REF!=\"\",\"\",COUNTIF(#REF!,\">\"\"\"))","v":{"$error":"#REF!"}},null,{"$f":"IFERROR(VLOOKUP(C745,Hidden_Словник!$A$2:$C$81,3,FALSE),\"\")","v":""},null,null,null,null,null,null,null,null,null,null,null,null,null,null,null,null,null,null,null,null,""]
[{"$f":"IF(#REF!>\"\",D746&\"_\"&#REF!&\"_\"&B746,\"\")","v":{"$error":"#REF!"}},{"$f":"IF(#REF!=\"\",\"\",COUNTIF(#REF!,\">\"\"\"))","v":{"$error":"#REF!"}},null,{"$f":"IFERROR(VLOOKUP(C746,Hidden_Словник!$A$2:$C$81,3,FALSE),\"\")","v":""},null,null,null,null,null,null,null,null,null,null,null,null,null,null,null,null,null,null,null,null,""]
[{"$f":"IF(#REF!>\"\",D747&\"_\"&#REF!&\"_\"&B747,\"\")","v":{"$error":"#REF!"}},{"$f":"IF(#REF!=\"\",\"\",COUNTIF(#REF!,\">\"\"\"))","v":{"$error":"#REF!"}},null,{"$f":"IFERROR(VLOOKUP(C747,Hidden_Словник!$A$2:$C$81,3,FALSE),\"\")","v":""},null,null,null,null,null,null,null,null,null,null,null,null,null,null,null,null,null,null,null,null,""]
[{"$f":"IF(#REF!>\"\",D748&\"_\"&#REF!&\"_\"&B748,\"\")","v":{"$error":"#REF!"}},{"$f":"IF(#REF!=\"\",\"\",COUNTIF(#REF!,\">\"\"\"))","v":{"$error":"#REF!"}},null,{"$f":"IFERROR(VLOOKUP(C748,Hidden_Словник!$A$2:$C$81,3,FALSE),\"\")","v":""},null,null,null,null,null,null,null,null,null,null,null,null,null,null,null,null,null,null,null,null,""]
[{"$f":"IF(#REF!>\"\",D749&\"_\"&#REF!&\"_\"&B749,\"\")","v":{"$error":"#REF!"}},{"$f":"IF(#REF!=\"\",\"\",COUNTIF(#REF!,\">\"\"\"))","v":{"$error":"#REF!"}},null,{"$f":"IFERROR(VLOOKUP(C749,Hidden_Словник!$A$2:$C$81,3,FALSE),\"\")","v":""},null,null,null,null,null,null,null,null,null,null,null,null,null,null,null,null,null,null,null,null,""]
[{"$f":"IF(#REF!>\"\",D750&\"_\"&#REF!&\"_\"&B750,\"\")","v":{"$error":"#REF!"}},{"$f":"IF(#REF!=\"\",\"\",COUNTIF(#REF!,\">\"\"\"))","v":{"$error":"#REF!"}},null,{"$f":"IFERROR(VLOOKUP(C750,Hidden_Словник!$A$2:$C$81,3,FALSE),\"\")","v":""},null,null,null,null,null,null,null,null,null,null,null,null,null,null,null,null,null,null,null,null,""]
[{"$f":"IF(#REF!>\"\",D751&\"_\"&#REF!&\"_\"&B751,\"\")","v":{"$error":"#REF!"}},{"$f":"IF(#REF!=\"\",\"\",COUNTIF(#REF!,\">\"\"\"))","v":{"$error":"#REF!"}},null,{"$f":"IFERROR(VLOOKUP(C751,Hidden_Словник!$A$2:$C$81,3,FALSE),\"\")","v":""},null,null,null,null,null,null,null,null,null,null,null,null,null,null,null,null,null,null,null,null,""]
[{"$f":"IF(#REF!>\"\",D752&\"_\"&#REF!&\"_\"&B752,\"\")","v":{"$error":"#REF!"}},{"$f":"IF(#REF!=\"\",\"\",COUNTIF(#REF!,\">\"\"\"))","v":{"$error":"#REF!"}},null,{"$f":"IFERROR(VLOOKUP(C752,Hidden_Словник!$A$2:$C$81,3,FALSE),\"\")","v":""},null,null,null,null,null,null,null,null,null,null,null,null,null,null,null,null,null,null,null,null,""]
[{"$f":"IF(#REF!>\"\",D753&\"_\"&#REF!&\"_\"&B753,\"\")","v":{"$error":"#REF!"}},{"$f":"IF(#REF!=\"\",\"\",COUNTIF(#REF!,\">\"\"\"))","v":{"$error":"#REF!"}},null,{"$f":"IFERROR(VLOOKUP(C753,Hidden_Словник!$A$2:$C$81,3,FALSE),\"\")","v":""},null,null,null,null,null,null,null,null,null,null,null,null,null,null,null,null,null,null,null,null,""]
[{"$f":"IF(#REF!>\"\",D754&\"_\"&#REF!&\"_\"&B754,\"\")","v":{"$error":"#REF!"}},{"$f":"IF(#REF!=\"\",\"\",COUNTIF(#REF!,\">\"\"\"))","v":{"$error":"#REF!"}},null,{"$f":"IFERROR(VLOOKUP(C754,Hidden_Словник!$A$2:$C$81,3,FALSE),\"\")","v":""},null,null,null,null,null,null,null,null,null,null,null,null,null,null,null,null,null,null,null,null,""]
[{"$f":"IF(#REF!>\"\",D755&\"_\"&#REF!&\"_\"&B755,\"\")","v":{"$error":"#REF!"}},{"$f":"IF(#REF!=\"\",\"\",COUNTIF(#REF!,\">\"\"\"))","v":{"$error":"#REF!"}},null,{"$f":"IFERROR(VLOOKUP(C755,Hidden_Словник!$A$2:$C$81,3,FALSE),\"\")","v":""},null,null,null,null,null,null,null,null,null,null,null,null,null,null,null,null,null,null,null,null,""]
[{"$f":"IF(#REF!>\"\",D756&\"_\"&#REF!&\"_\"&B756,\"\")","v":{"$error":"#REF!"}},{"$f":"IF(#REF!=\"\",\"\",COUNTIF(#REF!,\">\"\"\"))","v":{"$error":"#REF!"}},null,{"$f":"IFERROR(VLOOKUP(C756,Hidden_Словник!$A$2:$C$81,3,FALSE),\"\")","v":""},null,null,null,null,null,null,null,null,null,null,null,null,null,null,null,null,null,null,null,null,""]
[{"$f":"IF(#REF!>\"\",D757&\"_\"&#REF!&\"_\"&B757,\"\")","v":{"$error":"#REF!"}},{"$f":"IF(#REF!=\"\",\"\",COUNTIF(#REF!,\">\"\"\"))","v":{"$error":"#REF!"}},null,{"$f":"IFERROR(VLOOKUP(C757,Hidden_Словник!$A$2:$C$81,3,FALSE),\"\")","v":""},null,null,null,null,null,null,null,null,null,null,null,null,null,null,null,null,null,null,null,null,""]
[{"$f":"IF(#REF!>\"\",D758&\"_\"&#REF!&\"_\"&B758,\"\")","v":{"$error":"#REF!"}},{"$f":"IF(#REF!=\"\",\"\",COUNTIF(#REF!,\">\"\"\"))","v":{"$error":"#REF!"}},null,{"$f":"IFERROR(VLOOKUP(C758,Hidden_Словник!$A$2:$C$81,3,FALSE),\"\")","v":""},null,null,null,null,null,null,null,null,null,null,null,null,null,null,null,null,null,null,null,null,""]
[{"$f":"IF(#REF!>\"\",D759&\"_\"&#REF!&\"_\"&B759,\"\")","v":{"$error":"#REF!"}},{"$f":"IF(#REF!=\"\",\"\",COUNTIF(#REF!,\">\"\"\"))","v":{"$error":"#REF!"}},null,{"$f":"IFERROR(VLOOKUP(C759,Hidden_Словник!$A$2:$C$81,3,FALSE),\"\")","v":""},null,null,null,null,null,null,null,null,null,null,null,null,null,null,null,null,null,null,null,null,""]
[{"$f":"IF(#REF!>\"\",D760&\"_\"&#REF!&\"_\"&B760,\"\")","v":{"$error":"#REF!"}},{"$f":"IF(#REF!=\"\",\"\",COUNTIF(#REF!,\">\"\"\"))","v":{"$error":"#REF!"}},null,{"$f":"IFERROR(VLOOKUP(C760,Hidden_Словник!$A$2:$C$81,3,FALSE),\"\")","v":""},null,null,null,null,null,null,null,null,null,null,null,null,null,null,null,null,null,null,null,null,""]
[{"$f":"IF(#REF!>\"\",D761&\"_\"&#REF!&\"_\"&B761,\"\")","v":{"$error":"#REF!"}},{"$f":"IF(#REF!=\"\",\"\",COUNTIF(#REF!,\">\"\"\"))","v":{"$error":"#REF!"}},null,{"$f":"IFERROR(VLOOKUP(C761,Hidden_Словник!$A$2:$C$81,3,FALSE),\"\")","v":""},null,null,null,null,null,null,null,null,null,null,null,null,null,null,null,null,null,null,null,null,""]
[{"$f":"IF(#REF!>\"\",D762&\"_\"&#REF!&\"_\"&B762,\"\")","v":{"$error":"#REF!"}},{"$f":"IF(#REF!=\"\",\"\",COUNTIF(#REF!,\">\"\"\"))","v":{"$error":"#REF!"}},null,{"$f":"IFERROR(VLOOKUP(C762,Hidden_Словник!$A$2:$C$81,3,FALSE),\"\")","v":""},null,null,null,null,null,null,null,null,null,null,null,null,null,null,null,null,null,null,null,null,""]
[{"$f":"IF(#REF!>\"\",D763&\"_\"&#REF!&\"_\"&B763,\"\")","v":{"$error":"#REF!"}},{"$f":"IF(#REF!=\"\",\"\",COUNTIF(#REF!,\">\"\"\"))","v":{"$error":"#REF!"}},null,{"$f":"IFERROR(VLOOKUP(C763,Hidden_Словник!$A$2:$C$81,3,FALSE),\"\")","v":""},null,null,null,null,null,null,null,null,null,null,null,null,null,null,null,null,null,null,null,null,""]
[{"$f":"IF(#REF!>\"\",D764&\"_\"&#REF!&\"_\"&B764,\"\")","v":{"$error":"#REF!"}},{"$f":"IF(#REF!=\"\",\"\",COUNTIF(#REF!,\">\"\"\"))","v":{"$error":"#REF!"}},null,{"$f":"IFERROR(VLOOKUP(C764,Hidden_Словник!$A$2:$C$81,3,FALSE),\"\")","v":""},null,null,null,null,null,null,null,null,null,null,null,null,null,null,null,null,null,null,null,null,""]
[{"$f":"IF(#REF!>\"\",D765&\"_\"&#REF!&\"_\"&B765,\"\")","v":{"$error":"#REF!"}},{"$f":"IF(#REF!=\"\",\"\",COUNTIF(#REF!,\">\"\"\"))","v":{"$error":"#REF!"}},null,{"$f":"IFERROR(VLOOKUP(C765,Hidden_Словник!$A$2:$C$81,3,FALSE),\"\")","v":""},null,null,null,null,null,null,null,null,null,null,null,null,null,null,null,null,null,null,null,null,""]
[{"$f":"IF(#REF!>\"\",D766&\"_\"&#REF!&\"_\"&B766,\"\")","v":{"$error":"#REF!"}},{"$f":"IF(#REF!=\"\",\"\",COUNTIF(#REF!,\">\"\"\"))","v":{"$error":"#REF!"}},null,{"$f":"IFERROR(VLOOKUP(C766,Hidden_Словник!$A$2:$C$81,3,FALSE),\"\")","v":""},null,null,null,null,null,null,null,null,null,null,null,null,null,null,null,null,null,null,null,null,""]
[{"$f":"IF(#REF!>\"\",D767&\"_\"&#REF!&\"_\"&B767,\"\")","v":{"$error":"#REF!"}},{"$f":"IF(#REF!=\"\",\"\",COUNTIF(#REF!,\">\"\"\"))","v":{"$error":"#REF!"}},null,{"$f":"IFERROR(VLOOKUP(C767,Hidden_Словник!$A$2:$C$81,3,FALSE),\"\")","v":""},null,null,null,null,null,null,null,null,null,null,null,null,null,null,null,null,null,null,null,null,""]
[{"$f":"IF(#REF!>\"\",D768&\"_\"&#REF!&\"_\"&B768,\"\")","v":{"$error":"#REF!"}},{"$f":"IF(#REF!=\"\",\"\",COUNTIF(#REF!,\">\"\"\"))","v":{"$error":"#REF!"}},null,{"$f":"IFERROR(VLOOKUP(C768,Hidden_Словник!$A$2:$C$81,3,FALSE),\"\")","v":""},null,null,null,null,null,null,null,null,null,null,null,null,null,null,null,null,null,null,null,null,""]
[{"$f":"IF(#REF!>\"\",D769&\"_\"&#REF!&\"_\"&B769,\"\")","v":{"$error":"#REF!"}},{"$f":"IF(#REF!=\"\",\"\",COUNTIF(#REF!,\">\"\"\"))","v":{"$error":"#REF!"}},null,{"$f":"IFERROR(VLOOKUP(C769,Hidden_Словник!$A$2:$C$81,3,FALSE),\"\")","v":""},null,null,null,null,null,null,null,null,null,null,null,null,null,null,null,null,null,null,null,null,""]
[{"$f":"IF(#REF!>\"\",D770&\"_\"&#REF!&\"_\"&B770,\"\")","v":{"$error":"#REF!"}},{"$f":"IF(#REF!=\"\",\"\",COUNTIF(#REF!,\">\"\"\"))","v":{"$error":"#REF!"}},null,{"$f":"IFERROR(VLOOKUP(C770,Hidden_Словник!$A$2:$C$81,3,FALSE),\"\")","v":""},null,null,null,null,null,null,null,null,null,null,null,null,null,null,null,null,null,null,null,null,""]
[{"$f":"IF(#REF!>\"\",D771&\"_\"&#REF!&\"_\"&B771,\"\")","v":{"$error":"#REF!"}},{"$f":"IF(#REF!=\"\",\"\",COUNTIF(#REF!,\">\"\"\"))","v":{"$error":"#REF!"}},null,{"$f":"IFERROR(VLOOKUP(C771,Hidden_Словник!$A$2:$C$81,3,FALSE),\"\")","v":""},null,null,null,null,null,null,null,null,null,null,null,null,null,null,null,null,null,null,null,null,""]
[{"$f":"IF(#REF!>\"\",D772&\"_\"&#REF!&\"_\"&B772,\"\")","v":{"$error":"#REF!"}},{"$f":"IF(#REF!=\"\",\"\",COUNTIF(#REF!,\">\"\"\"))","v":{"$error":"#REF!"}},null,{"$f":"IFERROR(VLOOKUP(C772,Hidden_Словник!$A$2:$C$81,3,FALSE),\"\")","v":""},null,null,null,null,null,null,null,null,null,null,null,null,null,null,null,null,null,null,null,null,""]
[{"$f":"IF(#REF!>\"\",D773&\"_\"&#REF!&\"_\"&B773,\"\")","v":{"$error":"#REF!"}},{"$f":"IF(#REF!=\"\",\"\",COUNTIF(#REF!,\">\"\"\"))","v":{"$error":"#REF!"}},null,{"$f":"IFERROR(VLOOKUP(C773,Hidden_Словник!$A$2:$C$81,3,FALSE),\"\")","v":""},null,null,null,null,null,null,null,null,null,null,null,null,null,null,null,null,null,null,null,null,""]
[{"$f":"IF(#REF!>\"\",D774&\"_\"&#REF!&\"_\"&B774,\"\")","v":{"$error":"#REF!"}},{"$f":"IF(#REF!=\"\",\"\",COUNTIF(#REF!,\">\"\"\"))","v":{"$error":"#REF!"}},null,{"$f":"IFERROR(VLOOKUP(C774,Hidden_Словник!$A$2:$C$81,3,FALSE),\"\")","v":""},null,null,null,null,null,null,null,null,null,null,null,null,null,null,null,null,null,null,null,null,""]
[{"$f":"IF(#REF!>\"\",D775&\"_\"&#REF!&\"_\"&B775,\"\")","v":{"$error":"#REF!"}},{"$f":"IF(#REF!=\"\",\"\",COUNTIF(#REF!,\">\"\"\"))","v":{"$error":"#REF!"}},null,{"$f":"IFERROR(VLOOKUP(C775,Hidden_Словник!$A$2:$C$81,3,FALSE),\"\")","v":""},null,null,null,null,null,null,null,null,null,null,null,null,null,null,null,null,null,null,null,null,""]
[{"$f":"IF(#REF!>\"\",D776&\"_\"&#REF!&\"_\"&B776,\"\")","v":{"$error":"#REF!"}},{"$f":"IF(#REF!=\"\",\"\",COUNTIF(#REF!,\">\"\"\"))","v":{"$error":"#REF!"}},null,{"$f":"IFERROR(VLOOKUP(C776,Hidden_Словник!$A$2:$C$81,3,FALSE),\"\")","v":""},null,null,null,null,null,null,null,null,null,null,null,null,null,null,null,null,null,null,null,null,""]
[{"$f":"IF(#REF!>\"\",D777&\"_\"&#REF!&\"_\"&B777,\"\")","v":{"$error":"#REF!"}},{"$f":"IF(#REF!=\"\",\"\",COUNTIF(#REF!,\">\"\"\"))","v":{"$error":"#REF!"}},null,{"$f":"IFERROR(VLOOKUP(C777,Hidden_Словник!$A$2:$C$81,3,FALSE),\"\")","v":""},null,null,null,null,null,null,null,null,null,null,null,null,null,null,null,null,null,null,null,null,""]
[{"$f":"IF(#REF!>\"\",D778&\"_\"&#REF!&\"_\"&B778,\"\")","v":{"$error":"#REF!"}},{"$f":"IF(#REF!=\"\",\"\",COUNTIF(#REF!,\">\"\"\"))","v":{"$error":"#REF!"}},null,{"$f":"IFERROR(VLOOKUP(C778,Hidden_Словник!$A$2:$C$81,3,FALSE),\"\")","v":""},null,null,null,null,null,null,null,null,null,null,null,null,null,null,null,null,null,null,null,null,""]
[{"$f":"IF(#REF!>\"\",D779&\"_\"&#REF!&\"_\"&B779,\"\")","v":{"$error":"#REF!"}},{"$f":"IF(#REF!=\"\",\"\",COUNTIF(#REF!,\">\"\"\"))","v":{"$error":"#REF!"}},null,{"$f":"IFERROR(VLOOKUP(C779,Hidden_Словник!$A$2:$C$81,3,FALSE),\"\")","v":""},null,null,null,null,null,null,null,null,null,null,null,null,null,null,null,null,null,null,null,null,""]
[{"$f":"IF(#REF!>\"\",D780&\"_\"&#REF!&\"_\"&B780,\"\")","v":{"$error":"#REF!"}},{"$f":"IF(#REF!=\"\",\"\",COUNTIF(#REF!,\">\"\"\"))","v":{"$error":"#REF!"}},null,{"$f":"IFERROR(VLOOKUP(C780,Hidden_Словник!$A$2:$C$81,3,FALSE),\"\")","v":""},null,null,null,null,null,null,null,null,null,null,null,null,null,null,null,null,null,null,null,null,""]
[{"$f":"IF(#REF!>\"\",D781&\"_\"&#REF!&\"_\"&B781,\"\")","v":{"$error":"#REF!"}},{"$f":"IF(#REF!=\"\",\"\",COUNTIF(#REF!,\">\"\"\"))","v":{"$error":"#REF!"}},null,{"$f":"IFERROR(VLOOKUP(C781,Hidden_Словник!$A$2:$C$81,3,FALSE),\"\")","v":""},null,null,null,null,null,null,null,null,null,null,null,null,null,null,null,null,null,null,null,null,""]
[{"$f":"IF(#REF!>\"\",D782&\"_\"&#REF!&\"_\"&B782,\"\")","v":{"$error":"#REF!"}},{"$f":"IF(#REF!=\"\",\"\",COUNTIF(#REF!,\">\"\"\"))","v":{"$error":"#REF!"}},null,{"$f":"IFERROR(VLOOKUP(C782,Hidden_Словник!$A$2:$C$81,3,FALSE),\"\")","v":""},null,null,null,null,null,null,null,null,null,null,null,null,null,null,null,null,null,null,null,null,""]
[{"$f":"IF(#REF!>\"\",D783&\"_\"&#REF!&\"_\"&B783,\"\")","v":{"$error":"#REF!"}},{"$f":"IF(#REF!=\"\",\"\",COUNTIF(#REF!,\">\"\"\"))","v":{"$error":"#REF!"}},null,{"$f":"IFERROR(VLOOKUP(C783,Hidden_Словник!$A$2:$C$81,3,FALSE),\"\")","v":""},null,null,null,null,null,null,null,null,null,null,null,null,null,null,null,null,null,null,null,null,{"$f":"IF(Z783+AA783>0,Z783+AA783,\"\")","v":""}]
[{"$f":"IF(#REF!>\"\",D784&\"_\"&#REF!&\"_\"&B784,\"\")","v":{"$error":"#REF!"}},{"$f":"IF(#REF!=\"\",\"\",COUNTIF(#REF!,\">\"\"\"))","v":{"$error":"#REF!"}},null,{"$f":"IFERROR(VLOOKUP(C784,Hidden_Словник!$A$2:$C$81,3,FALSE),\"\")","v":""},null,null,null,null,null,null,null,null,null,null,null,null,null,null,null,null,null,null,null,null,""]
[{"$f":"IF(#REF!>\"\",D785&\"_\"&#REF!&\"_\"&B785,\"\")","v":{"$error":"#REF!"}},{"$f":"IF(#REF!=\"\",\"\",COUNTIF(#REF!,\">\"\"\"))","v":{"$error":"#REF!"}},null,{"$f":"IFERROR(VLOOKUP(C785,Hidden_Словник!$A$2:$C$81,3,FALSE),\"\")","v":""},null,null,null,null,null,null,null,null,null,null,null,null,null,null,null,null,null,null,null,null,""]
[{"$f":"IF(#REF!>\"\",D786&\"_\"&#REF!&\"_\"&B786,\"\")","v":{"$error":"#REF!"}},{"$f":"IF(#REF!=\"\",\"\",COUNTIF(#REF!,\">\"\"\"))","v":{"$error":"#REF!"}},null,{"$f":"IFERROR(VLOOKUP(C786,Hidden_Словник!$A$2:$C$81,3,FALSE),\"\")","v":""},null,null,null,null,null,null,null,null,null,null,null,null,null,null,null,null,null,null,null,null,""]
[{"$f":"IF(#REF!>\"\",D787&\"_\"&#REF!&\"_\"&B787,\"\")","v":{"$error":"#REF!"}},{"$f":"IF(#REF!=\"\",\"\",COUNTIF(#REF!,\">\"\"\"))","v":{"$error":"#REF!"}},null,{"$f":"IFERROR(VLOOKUP(C787,Hidden_Словник!$A$2:$C$81,3,FALSE),\"\")","v":""},null,null,null,null,null,null,null,null,null,null,null,null,null,null,null,null,null,null,null,null,""]
[{"$f":"IF(#REF!>\"\",D788&\"_\"&#REF!&\"_\"&B788,\"\")","v":{"$error":"#REF!"}},{"$f":"IF(#REF!=\"\",\"\",COUNTIF(#REF!,\">\"\"\"))","v":{"$error":"#REF!"}},null,{"$f":"IFERROR(VLOOKUP(C788,Hidden_Словник!$A$2:$C$81,3,FALSE),\"\")","v":""},null,null,null,null,null,null,null,null,null,null,null,null,null,null,null,null,null,null,null,null,""]
[{"$f":"IF(#REF!>\"\",D789&\"_\"&#REF!&\"_\"&B789,\"\")","v":{"$error":"#REF!"}},{"$f":"IF(#REF!=\"\",\"\",COUNTIF(#REF!,\">\"\"\"))","v":{"$error":"#REF!"}},null,{"$f":"IFERROR(VLOOKUP(C789,Hidden_Словник!$A$2:$C$81,3,FALSE),\"\")","v":""},null,null,null,null,null,null,null,null,null,null,null,null,null,null,null,null,null,null,null,null,""]
[{"$f":"IF(#REF!>\"\",D790&\"_\"&#REF!&\"_\"&B790,\"\")","v":{"$error":"#REF!"}},{"$f":"IF(#REF!=\"\",\"\",COUNTIF(#REF!,\">\"\"\"))","v":{"$error":"#REF!"}},null,{"$f":"IFERROR(VLOOKUP(C790,Hidden_Словник!$A$2:$C$81,3,FALSE),\"\")","v":""},null,null,null,null,null,null,null,null,null,null,null,null,null,null,null,null,null,null,null,null,""]
[{"$f":"IF(#REF!>\"\",D791&\"_\"&#REF!&\"_\"&B791,\"\")","v":{"$error":"#REF!"}},{"$f":"IF(#REF!=\"\",\"\",COUNTIF(#REF!,\">\"\"\"))","v":{"$error":"#REF!"}},null,{"$f":"IFERROR(VLOOKUP(C791,Hidden_Словник!$A$2:$C$81,3,FALSE),\"\")","v":""},null,null,null,null,null,null,null,null,null,null,null,null,null,null,null,null,null,null,null,null,""]
[{"$f":"IF(#REF!>\"\",D792&\"_\"&#REF!&\"_\"&B792,\"\")","v":{"$error":"#REF!"}},{"$f":"IF(#REF!=\"\",\"\",COUNTIF(#REF!,\">\"\"\"))","v":{"$error":"#REF!"}},null,{"$f":"IFERROR(VLOOKUP(C792,Hidden_Словник!$A$2:$C$81,3,FALSE),\"\")","v":""},null,null,null,null,null,null,null,null,null,null,null,null,null,null,null,null,null,null,null,null,""]
[{"$f":"IF(#REF!>\"\",D793&\"_\"&#REF!&\"_\"&B793,\"\")","v":{"$error":"#REF!"}},{"$f":"IF(#REF!=\"\",\"\",COUNTIF(#REF!,\">\"\"\"))","v":{"$error":"#REF!"}},null,{"$f":"IFERROR(VLOOKUP(C793,Hidden_Словник!$A$2:$C$81,3,FALSE),\"\")","v":""},null,null,null,null,null,null,null,null,null,null,null,null,null,null,null,null,null,null,null,null,""]
[{"$f":"IF(#REF!>\"\",D794&\"_\"&#REF!&\"_\"&B794,\"\")","v":{"$error":"#REF!"}},{"$f":"IF(#REF!=\"\",\"\",COUNTIF(#REF!,\">\"\"\"))","v":{"$error":"#REF!"}},null,{"$f":"IFERROR(VLOOKUP(C794,Hidden_Словник!$A$2:$C$81,3,FALSE),\"\")","v":""},null,null,null,null,null,null,null,null,null,null,null,null,null,null,null,null,null,null,null,null,""]
[{"$f":"IF(#REF!>\"\",D795&\"_\"&#REF!&\"_\"&B795,\"\")","v":{"$error":"#REF!"}},{"$f":"IF(#REF!=\"\",\"\",COUNTIF(#REF!,\">\"\"\"))","v":{"$error":"#REF!"}},null,{"$f":"IFERROR(VLOOKUP(C795,Hidden_Словник!$A$2:$C$81,3,FALSE),\"\")","v":""},null,null,null,null,null,null,null,null,null,null,null,null,null,null,null,null,null,null,null,null,""]
[{"$f":"IF(#REF!>\"\",D796&\"_\"&#REF!&\"_\"&B796,\"\")","v":{"$error":"#REF!"}},{"$f":"IF(#REF!=\"\",\"\",COUNTIF(#REF!,\">\"\"\"))","v":{"$error":"#REF!"}},null,{"$f":"IFERROR(VLOOKUP(C796,Hidden_Словник!$A$2:$C$81,3,FALSE),\"\")","v":""},null,null,null,null,null,null,null,null,null,null,null,null,null,null,null,null,null,null,null,null,""]
[{"$f":"IF(#REF!>\"\",D797&\"_\"&#REF!&\"_\"&B797,\"\")","v":{"$error":"#REF!"}},{"$f":"IF(#REF!=\"\",\"\",COUNTIF(#REF!,\">\"\"\"))","v":{"$error":"#REF!"}},null,{"$f":"IFERROR(VLOOKUP(C797,Hidden_Словник!$A$2:$C$81,3,FALSE),\"\")","v":""},null,null,null,null,null,null,null,null,null,null,null,null,null,null,null,null,null,null,null,null,""]
[{"$f":"IF(#REF!>\"\",D798&\"_\"&#REF!&\"_\"&B798,\"\")","v":{"$error":"#REF!"}},{"$f":"IF(#REF!=\"\",\"\",COUNTIF(#REF!,\">\"\"\"))","v":{"$error":"#REF!"}},null,{"$f":"IFERROR(VLOOKUP(C798,Hidden_Словник!$A$2:$C$81,3,FALSE),\"\")","v":""},null,null,null,null,null,null,null,null,null,null,null,null,null,null,null,null,null,null,null,null,""]
[{"$f":"IF(#REF!>\"\",D799&\"_\"&#REF!&\"_\"&B799,\"\")","v":{"$error":"#REF!"}},{"$f":"IF(#REF!=\"\",\"\",COUNTIF(#REF!,\">\"\"\"))","v":{"$error":"#REF!"}},null,{"$f":"IFERROR(VLOOKUP(C799,Hidden_Словник!$A$2:$C$81,3,FALSE),\"\")","v":""},null,null,null,null,null,null,null,null,null,null,null,null,null,null,null,null,null,null,null,null,""]
[{"$f":"IF(#REF!>\"\",D800&\"_\"&#REF!&\"_\"&B800,\"\")","v":{"$error":"#REF!"}},{"$f":"IF(#REF!=\"\",\"\",COUNTIF(#REF!,\">\"\"\"))","v":{"$error":"#REF!"}},null,{"$f":"IFERROR(VLOOKUP(C800,Hidden_Словник!$A$2:$C$81,3,FALSE),\"\")","v":""},null,null,null,null,null,null,null,null,null,null,null,null,null,null,null,null,null,null,null,null,""]
[{"$f":"IF(#REF!>\"\",D801&\"_\"&#REF!&\"_\"&B801,\"\")","v":{"$error":"#REF!"}},{"$f":"IF(#REF!=\"\",\"\",COUNTIF(#REF!,\">\"\"\"))","v":{"$error":"#REF!"}},null,{"$f":"IFERROR(VLOOKUP(C801,Hidden_Словник!$A$2:$C$81,3,FALSE),\"\")","v":""},null,null,null,null,null,null,null,null,null,null,null,null,null,null,null,null,null,null,null,null,""]
[{"$f":"IF(#REF!>\"\",D802&\"_\"&#REF!&\"_\"&B802,\"\")","v":{"$error":"#REF!"}},{"$f":"IF(#REF!=\"\",\"\",COUNTIF(#REF!,\">\"\"\"))","v":{"$error":"#REF!"}},null,{"$f":"IFERROR(VLOOKUP(C802,Hidden_Словник!$A$2:$C$81,3,FALSE),\"\")","v":""},null,null,null,null,null,null,null,null,null,null,null,null,null,null,null,null,null,null,null,null,""]
[{"$f":"IF(#REF!>\"\",D803&\"_\"&#REF!&\"_\"&B803,\"\")","v":{"$error":"#REF!"}},{"$f":"IF(#REF!=\"\",\"\",COUNTIF(#REF!,\">\"\"\"))","v":{"$error":"#REF!"}},null,{"$f":"IFERROR(VLOOKUP(C803,Hidden_Словник!$A$2:$C$81,3,FALSE),\"\")","v":""},null,null,null,null,null,null,null,null,null,null,null,null,null,null,null,null,null,null,null,null,""]
[{"$f":"IF(#REF!>\"\",D804&\"_\"&#REF!&\"_\"&B804,\"\")","v":{"$error":"#REF!"}},{"$f":"IF(#REF!=\"\",\"\",COUNTIF(#REF!,\">\"\"\"))","v":{"$error":"#REF!"}},null,{"$f":"IFERROR(VLOOKUP(C804,Hidden_Словник!$A$2:$C$81,3,FALSE),\"\")","v":""},null,null,null,null,null,null,null,null,null,null,null,null,null,null,null,null,null,null,null,null,""]
[{"$f":"IF(#REF!>\"\",D805&\"_\"&#REF!&\"_\"&B805,\"\")","v":{"$error":"#REF!"}},{"$f":"IF(#REF!=\"\",\"\",COUNTIF(#REF!,\">\"\"\"))","v":{"$error":"#REF!"}},null,{"$f":"IFERROR(VLOOKUP(C805,Hidden_Словник!$A$2:$C$81,3,FALSE),\"\")","v":""},null,null,null,null,null,null,null,null,null,null,null,null,null,null,null,null,null,null,null,null,""]
[{"$f":"IF(#REF!>\"\",D806&\"_\"&#REF!&\"_\"&B806,\"\")","v":{"$error":"#REF!"}},{"$f":"IF(#REF!=\"\",\"\",COUNTIF(#REF!,\">\"\"\"))","v":{"$error":"#REF!"}},null,{"$f":"IFERROR(VLOOKUP(C806,Hidden_Словник!$A$2:$C$81,3,FALSE),\"\")","v":""},null,null,null,null,null,null,null,null,null,null,null,null,null,null,null,null,null,null,null,null,""]
[{"$f":"IF(#REF!>\"\",D807&\"_\"&#REF!&\"_\"&B807,\"\")","v":{"$error":"#REF!"}},{"$f":"IF(#REF!=\"\",\"\",COUNTIF(#REF!,\">\"\"\"))","v":{"$error":"#REF!"}},null,{"$f":"IFERROR(VLOOKUP(C807,Hidden_Словник!$A$2:$C$81,3,FALSE),\"\")","v":""},null,null,null,null,null,null,null,null,null,null,null,null,null,null,null,null,null,null,null,null,""]
[{"$f":"IF(#REF!>\"\",D808&\"_\"&#REF!&\"_\"&B808,\"\")","v":{"$error":"#REF!"}},{"$f":"IF(#REF!=\"\",\"\",COUNTIF(#REF!,\">\"\"\"))","v":{"$error":"#REF!"}},null,{"$f":"IFERROR(VLOOKUP(C808,Hidden_Словник!$A$2:$C$81,3,FALSE),\"\")","v":""},null,null,null,null,null,null,null,null,null,null,null,null,null,null,null,null,null,null,null,null,""]
[{"$f":"IF(#REF!>\"\",D809&\"_\"&#REF!&\"_\"&B809,\"\")","v":{"$error":"#REF!"}},{"$f":"IF(#REF!=\"\",\"\",COUNTIF(#REF!,\">\"\"\"))","v":{"$error":"#REF!"}},null,{"$f":"IFERROR(VLOOKUP(C809,Hidden_Словник!$A$2:$C$81,3,FALSE),\"\")","v":""},null,null,null,null,null,null,null,null,null,null,null,null,null,null,null,null,null,null,null,null,""]
[{"$f":"IF(#REF!>\"\",D810&\"_\"&#REF!&\"_\"&B810,\"\")","v":{"$error":"#REF!"}},{"$f":"IF(#REF!=\"\",\"\",COUNTIF(#REF!,\">\"\"\"))","v":{"$error":"#REF!"}},null,{"$f":"IFERROR(VLOOKUP(C810,Hidden_Словник!$A$2:$C$81,3,FALSE),\"\")","v":""},null,null,null,null,null,null,null,null,null,null,null,null,null,null,null,null,null,null,null,null,""]
[{"$f":"IF(#REF!>\"\",D811&\"_\"&#REF!&\"_\"&B811,\"\")","v":{"$error":"#REF!"}},{"$f":"IF(#REF!=\"\",\"\",COUNTIF(#REF!,\">\"\"\"))","v":{"$error":"#REF!"}},null,{"$f":"IFERROR(VLOOKUP(C811,Hidden_Словник!$A$2:$C$81,3,FALSE),\"\")","v":""},null,null,null,null,null,null,null,null,null,null,null,null,null,null,null,null,null,null,null,null,""]
[{"$f":"IF(#REF!>\"\",D812&\"_\"&#REF!&\"_\"&B812,\"\")","v":{"$error":"#REF!"}},{"$f":"IF(#REF!=\"\",\"\",COUNTIF(#REF!,\">\"\"\"))","v":{"$error":"#REF!"}},null,{"$f":"IFERROR(VLOOKUP(C812,Hidden_Словник!$A$2:$C$81,3,FALSE),\"\")","v":""},null,null,null,null,null,null,null,null,null,null,null,null,null,null,null,null,null,null,null,null,""]
[{"$f":"IF(#REF!>\"\",D813&\"_\"&#REF!&\"_\"&B813,\"\")","v":{"$error":"#REF!"}},{"$f":"IF(#REF!=\"\",\"\",COUNTIF(#REF!,\">\"\"\"))","v":{"$error":"#REF!"}},null,{"$f":"IFERROR(VLOOKUP(C813,Hidden_Словник!$A$2:$C$81,3,FALSE),\"\")","v":""},null,null,null,null,null,null,null,null,null,null,null,null,null,null,null,null,null,null,null,null,""]
[{"$f":"IF(#REF!>\"\",D814&\"_\"&#REF!&\"_\"&B814,\"\")","v":{"$error":"#REF!"}},{"$f":"IF(#REF!=\"\",\"\",COUNTIF(#REF!,\">\"\"\"))","v":{"$error":"#REF!"}},null,{"$f":"IFERROR(VLOOKUP(C814,Hidden_Словник!$A$2:$C$81,3,FALSE),\"\")","v":""},null,null,null,null,null,null,null,null,null,null,null,null,null,null,null,null,null,null,null,null,""]
[{"$f":"IF(#REF!>\"\",D815&\"_\"&#REF!&\"_\"&B815,\"\")","v":{"$error":"#REF!"}},{"$f":"IF(#REF!=\"\",\"\",COUNTIF(#REF!,\">\"\"\"))","v":{"$error":"#REF!"}},null,{"$f":"IFERROR(VLOOKUP(C815,Hidden_Словник!$A$2:$C$81,3,FALSE),\"\")","v":""},null,null,null,null,null,null,null,null,null,null,null,null,null,null,null,null,null,null,null,null,""]
[{"$f":"IF(#REF!>\"\",D816&\"_\"&#REF!&\"_\"&B816,\"\")","v":{"$error":"#REF!"}},{"$f":"IF(#REF!=\"\",\"\",COUNTIF(#REF!,\">\"\"\"))","v":{"$error":"#REF!"}},null,{"$f":"IFERROR(VLOOKUP(C816,Hidden_Словник!$A$2:$C$81,3,FALSE),\"\")","v":""},null,null,null,null,null,null,null,null,null,null,null,null,null,null,null,null,null,null,null,null,""]
[{"$f":"IF(#REF!>\"\",D817&\"_\"&#REF!&\"_\"&B817,\"\")","v":{"$error":"#REF!"}},{"$f":"IF(#REF!=\"\",\"\",COUNTIF(#REF!,\">\"\"\"))","v":{"$error":"#REF!"}},null,{"$f":"IFERROR(VLOOKUP(C817,Hidden_Словник!$A$2:$C$81,3,FALSE),\"\")","v":""},null,null,null,null,null,null,null,null,null,null,null,null,null,null,null,null,null,null,null,null,""]
[{"$f":"IF(#REF!>\"\",D818&\"_\"&#REF!&\"_\"&B818,\"\")","v":{"$error":"#REF!"}},{"$f":"IF(#REF!=\"\",\"\",COUNTIF(#REF!,\">\"\"\"))","v":{"$error":"#REF!"}},null,{"$f":"IFERROR(VLOOKUP(C818,Hidden_Словник!$A$2:$C$81,3,FALSE),\"\")","v":""},null,null,null,null,null,null,null,null,null,null,null,null,null,null,null,null,null,null,null,null,""]
[{"$f":"IF(#REF!>\"\",D819&\"_\"&#REF!&\"_\"&B819,\"\")","v":{"$error":"#REF!"}},{"$f":"IF(#REF!=\"\",\"\",COUNTIF(#REF!,\">\"\"\"))","v":{"$error":"#REF!"}},null,{"$f":"IFERROR(VLOOKUP(C819,Hidden_Словник!$A$2:$C$81,3,FALSE),\"\")","v":""},null,null,null,null,null,null,null,null,null,null,null,null,null,null,null,null,null,null,null,null,""]
[{"$f":"IF(#REF!>\"\",D820&\"_\"&#REF!&\"_\"&B820,\"\")","v":{"$error":"#REF!"}},{"$f":"IF(#REF!=\"\",\"\",COUNTIF(#REF!,\">\"\"\"))","v":{"$error":"#REF!"}},null,{"$f":"IFERROR(VLOOKUP(C820,Hidden_Словник!$A$2:$C$81,3,FALSE),\"\")","v":""},null,null,null,null,null,null,null,null,null,null,null,null,null,null,null,null,null,null,null,null,""]
[{"$f":"IF(#REF!>\"\",D821&\"_\"&#REF!&\"_\"&B821,\"\")","v":{"$error":"#REF!"}},{"$f":"IF(#REF!=\"\",\"\",COUNTIF(#REF!,\">\"\"\"))","v":{"$error":"#REF!"}},null,{"$f":"IFERROR(VLOOKUP(C821,Hidden_Словник!$A$2:$C$81,3,FALSE),\"\")","v":""},null,null,null,null,null,null,null,null,null,null,null,null,null,null,null,null,null,null,null,null,""]
[{"$f":"IF(#REF!>\"\",D822&\"_\"&#REF!&\"_\"&B822,\"\")","v":{"$error":"#REF!"}},{"$f":"IF(#REF!=\"\",\"\",COUNTIF(#REF!,\">\"\"\"))","v":{"$error":"#REF!"}},null,{"$f":"IFERROR(VLOOKUP(C822,Hidden_Словник!$A$2:$C$81,3,FALSE),\"\")","v":""},null,null,null,null,null,null,null,null,null,null,null,null,null,null,null,null,null,null,null,null,""]
[{"$f":"IF(#REF!>\"\",D823&\"_\"&#REF!&\"_\"&B823,\"\")","v":{"$error":"#REF!"}},{"$f":"IF(#REF!=\"\",\"\",COUNTIF(#REF!,\">\"\"\"))","v":{"$error":"#REF!"}},null,{"$f":"IFERROR(VLOOKUP(C823,Hidden_Словник!$A$2:$C$81,3,FALSE),\"\")","v":""},null,null,null,null,null,null,null,null,null,null,null,null,null,null,null,null,null,null,null,null,""]
[{"$f":"IF(#REF!>\"\",D824&\"_\"&#REF!&\"_\"&B824,\"\")","v":{"$error":"#REF!"}},{"$f":"IF(#REF!=\"\",\"\",COUNTIF(#REF!,\">\"\"\"))","v":{"$error":"#REF!"}},null,{"$f":"IFERROR(VLOOKUP(C824,Hidden_Словник!$A$2:$C$81,3,FALSE),\"\")","v":""},null,null,null,null,null,null,null,null,null,null,null,null,null,null,null,null,null,null,null,null,""]
[{"$f":"IF(#REF!>\"\",D825&\"_\"&#REF!&\"_\"&B825,\"\")","v":{"$error":"#REF!"}},{"$f":"IF(#REF!=\"\",\"\",COUNTIF(#REF!,\">\"\"\"))","v":{"$error":"#REF!"}},null,{"$f":"IFERROR(VLOOKUP(C825,Hidden_Словник!$A$2:$C$81,3,FALSE),\"\")","v":""},null,null,null,null,null,null,null,null,null,null,null,null,null,null,null,null,null,null,null,null,""]
[{"$f":"IF(#REF!>\"\",D826&\"_\"&#REF!&\"_\"&B826,\"\")","v":{"$error":"#REF!"}},{"$f":"IF(#REF!=\"\",\"\",COUNTIF(#REF!,\">\"\"\"))","v":{"$error":"#REF!"}},null,{"$f":"IFERROR(VLOOKUP(C826,Hidden_Словник!$A$2:$C$81,3,FALSE),\"\")","v":""},null,null,null,null,null,null,null,null,null,null,null,null,null,null,null,null,null,null,null,null,""]
[{"$f":"IF(#REF!>\"\",D827&\"_\"&#REF!&\"_\"&B827,\"\")","v":{"$error":"#REF!"}},{"$f":"IF(#REF!=\"\",\"\",COUNTIF(#REF!,\">\"\"\"))","v":{"$error":"#REF!"}},null,{"$f":"IFERROR(VLOOKUP(C827,Hidden_Словник!$A$2:$C$81,3,FALSE),\"\")","v":""},null,null,null,null,null,null,null,null,null,null,null,null,null,null,null,null,null,null,null,null,""]
[{"$f":"IF(#REF!>\"\",D828&\"_\"&#REF!&\"_\"&B828,\"\")","v":{"$error":"#REF!"}},{"$f":"IF(#REF!=\"\",\"\",COUNTIF(#REF!,\">\"\"\"))","v":{"$error":"#REF!"}},null,{"$f":"IFERROR(VLOOKUP(C828,Hidden_Словник!$A$2:$C$81,3,FALSE),\"\")","v":""},null,null,null,null,null,null,null,null,null,null,null,null,null,null,null,null,null,null,null,null,""]
[{"$f":"IF(#REF!>\"\",D829&\"_\"&#REF!&\"_\"&B829,\"\")","v":{"$error":"#REF!"}},{"$f":"IF(#REF!=\"\",\"\",COUNTIF(#REF!,\">\"\"\"))","v":{"$error":"#REF!"}},null,{"$f":"IFERROR(VLOOKUP(C829,Hidden_Словник!$A$2:$C$81,3,FALSE),\"\")","v":""},null,null,null,null,null,null,null,null,null,null,null,null,null,null,null,null,null,null,null,null,""]
[{"$f":"IF(#REF!>\"\",D830&\"_\"&#REF!&\"_\"&B830,\"\")","v":{"$error":"#REF!"}},{"$f":"IF(#REF!=\"\",\"\",COUNTIF(#REF!,\">\"\"\"))","v":{"$error":"#REF!"}},null,{"$f":"IFERROR(VLOOKUP(C830,Hidden_Словник!$A$2:$C$81,3,FALSE),\"\")","v":""},null,null,null,null,null,null,null,null,null,null,null,null,null,null,null,null,null,null,null,null,""]
[{"$f":"IF(#REF!>\"\",D831&\"_\"&#REF!&\"_\"&B831,\"\")","v":{"$error":"#REF!"}},{"$f":"IF(#REF!=\"\",\"\",COUNTIF(#REF!,\">\"\"\"))","v":{"$error":"#REF!"}},null,{"$f":"IFERROR(VLOOKUP(C831,Hidden_Словник!$A$2:$C$81,3,FALSE),\"\")","v":""},null,null,null,null,null,null,null,null,null,null,null,null,null,null,null,null,null,null,null,null,""]
[{"$f":"IF(#REF!>\"\",D832&\"_\"&#REF!&\"_\"&B832,\"\")","v":{"$error":"#REF!"}},{"$f":"IF(#REF!=\"\",\"\",COUNTIF(#REF!,\">\"\"\"))","v":{"$error":"#REF!"}},null,{"$f":"IFERROR(VLOOKUP(C832,Hidden_Словник!$A$2:$C$81,3,FALSE),\"\")","v":""},null,null,null,null,null,null,null,null,null,null,null,null,null,null,null,null,null,null,null,null,""]
[{"$f":"IF(#REF!>\"\",D833&\"_\"&#REF!&\"_\"&B833,\"\")","v":{"$error":"#REF!"}},{"$f":"IF(#REF!=\"\",\"\",COUNTIF(#REF!,\">\"\"\"))","v":{"$error":"#REF!"}},null,{"$f":"IFERROR(VLOOKUP(C833,Hidden_Словник!$A$2:$C$81,3,FALSE),\"\")","v":""},null,null,null,null,null,null,null,null,null,null,null,null,null,null,null,null,null,null,null,null,""]
[{"$f":"IF(#REF!>\"\",D834&\"_\"&#REF!&\"_\"&B834,\"\")","v":{"$error":"#REF!"}},{"$f":"IF(#REF!=\"\",\"\",COUNTIF(#REF!,\">\"\"\"))","v":{"$error":"#REF!"}},null,{"$f":"IFERROR(VLOOKUP(C834,Hidden_Словник!$A$2:$C$81,3,FALSE),\"\")","v":""},null,null,null,null,null,null,null,null,null,null,null,null,null,null,null,null,null,null,null,null,""]
[{"$f":"IF(#REF!>\"\",D835&\"_\"&#REF!&\"_\"&B835,\"\")","v":{"$error":"#REF!"}},{"$f":"IF(#REF!=\"\",\"\",COUNTIF(#REF!,\">\"\"\"))","v":{"$error":"#REF!"}},null,{"$f":"IFERROR(VLOOKUP(C835,Hidden_Словник!$A$2:$C$81,3,FALSE),\"\")","v":""},null,null,null,null,null,null,null,null,null,null,null,null,null,null,null,null,null,null,null,null,""]
[{"$f":"IF(#REF!>\"\",D836&\"_\"&#REF!&\"_\"&B836,\"\")","v":{"$error":"#REF!"}},{"$f":"IF(#REF!=\"\",\"\",COUNTIF(#REF!,\">\"\"\"))","v":{"$error":"#REF!"}},null,{"$f":"IFERROR(VLOOKUP(C836,Hidden_Словник!$A$2:$C$81,3,FALSE),\"\")","v":""},null,null,null,null,null,null,null,null,null,null,null,null,null,null,null,null,null,null,null,null,""]
[{"$f":"IF(#REF!>\"\",D837&\"_\"&#REF!&\"_\"&B837,\"\")","v":{"$error":"#REF!"}},{"$f":"IF(#REF!=\"\",\"\",COUNTIF(#REF!,\">\"\"\"))","v":{"$error":"#REF!"}},null,{"$f":"IFERROR(VLOOKUP(C837,Hidden_Словник!$A$2:$C$81,3,FALSE),\"\")","v":""},null,null,null,null,null,null,null,null,null,null,null,null,null,null,null,null,null,null,null,null,""]
[{"$f":"IF(#REF!>\"\",D838&\"_\"&#REF!&\"_\"&B838,\"\")","v":{"$error":"#REF!"}},{"$f":"IF(#REF!=\"\",\"\",COUNTIF(#REF!,\">\"\"\"))","v":{"$error":"#REF!"}},null,{"$f":"IFERROR(VLOOKUP(C838,Hidden_Словник!$A$2:$C$81,3,FALSE),\"\")","v":""},null,null,null,null,null,null,null,null,null,null,null,null,null,null,null,null,null,null,null,null,""]
[{"$f":"IF(#REF!>\"\",D839&\"_\"&#REF!&\"_\"&B839,\"\")","v":{"$error":"#REF!"}},{"$f":"IF(#REF!=\"\",\"\",COUNTIF(#REF!,\">\"\"\"))","v":{"$error":"#REF!"}},null,{"$f":"IFERROR(VLOOKUP(C839,Hidden_Словник!$A$2:$C$81,3,FALSE),\"\")","v":""},null,null,null,null,null,null,null,null,null,null,null,null,null,null,null,null,null,null,null,null,""]
[{"$f":"IF(#REF!>\"\",D840&\"_\"&#REF!&\"_\"&B840,\"\")","v":{"$error":"#REF!"}},{"$f":"IF(#REF!=\"\",\"\",COUNTIF(#REF!,\">\"\"\"))","v":{"$error":"#REF!"}},null,{"$f":"IFERROR(VLOOKUP(C840,Hidden_Словник!$A$2:$C$81,3,FALSE),\"\")","v":""},null,null,null,null,null,null,null,null,null,null,null,null,null,null,null,null,null,null,null,null,""]
[{"$f":"IF(#REF!>\"\",D841&\"_\"&#REF!&\"_\"&B841,\"\")","v":{"$error":"#REF!"}},{"$f":"IF(#REF!=\"\",\"\",COUNTIF(#REF!,\">\"\"\"))","v":{"$error":"#REF!"}},null,{"$f":"IFERROR(VLOOKUP(C841,Hidden_Словник!$A$2:$C$81,3,FALSE),\"\")","v":""},null,null,null,null,null,null,null,null,null,null,null,null,null,null,null,null,null,null,null,null,""]
[{"$f":"IF(#REF!>\"\",D842&\"_\"&#REF!&\"_\"&B842,\"\")","v":{"$error":"#REF!"}},{"$f":"IF(#REF!=\"\",\"\",COUNTIF(#REF!,\">\"\"\"))","v":{"$error":"#REF!"}},null,{"$f":"IFERROR(VLOOKUP(C842,Hidden_Словник!$A$2:$C$81,3,FALSE),\"\")","v":""},null,null,null,null,null,null,null,null,null,null,null,null,null,null,null,null,null,null,null,null,""]
[{"$f":"IF(#REF!>\"\",D843&\"_\"&#REF!&\"_\"&B843,\"\")","v":{"$error":"#REF!"}},{"$f":"IF(#REF!=\"\",\"\",COUNTIF(#REF!,\">\"\"\"))","v":{"$error":"#REF!"}},null,{"$f":"IFERROR(VLOOKUP(C843,Hidden_Словник!$A$2:$C$81,3,FALSE),\"\")","v":""},null,null,null,null,null,null,null,null,null,null,null,null,null,null,null,null,null,null,null,null,""]
[{"$f":"IF(#REF!>\"\",D844&\"_\"&#REF!&\"_\"&B844,\"\")","v":{"$error":"#REF!"}},{"$f":"IF(#REF!=\"\",\"\",COUNTIF(#REF!,\">\"\"\"))","v":{"$error":"#REF!"}},null,{"$f":"IFERROR(VLOOKUP(C844,Hidden_Словник!$A$2:$C$81,3,FALSE),\"\")","v":""},null,null,null,null,null,null,null,null,null,null,null,null,null,null,null,null,null,null,null,null,""]
[{"$f":"IF(#REF!>\"\",D845&\"_\"&#REF!&\"_\"&B845,\"\")","v":{"$error":"#REF!"}},{"$f":"IF(#REF!=\"\",\"\",COUNTIF(#REF!,\">\"\"\"))","v":{"$error":"#REF!"}},null,{"$f":"IFERROR(VLOOKUP(C845,Hidden_Словник!$A$2:$C$81,3,FALSE),\"\")","v":""},null,null,null,null,null,null,null,null,null,null,null,null,null,null,null,null,null,null,null,null,""]
[{"$f":"IF(#REF!>\"\",D846&\"_\"&#REF!&\"_\"&B846,\"\")","v":{"$error":"#REF!"}},{"$f":"IF(#REF!=\"\",\"\",COUNTIF(#REF!,\">\"\"\"))","v":{"$error":"#REF!"}},null,{"$f":"IFERROR(VLOOKUP(C846,Hidden_Словник!$A$2:$C$81,3,FALSE),\"\")","v":""},null,null,null,null,null,null,null,null,null,null,null,null,null,null,null,null,null,null,null,null,""]
[{"$f":"IF(#REF!>\"\",D847&\"_\"&#REF!&\"_\"&B847,\"\")","v":{"$error":"#REF!"}},{"$f":"IF(#REF!=\"\",\"\",COUNTIF(#REF!,\">\"\"\"))","v":{"$error":"#REF!"}},null,{"$f":"IFERROR(VLOOKUP(C847,Hidden_Словник!$A$2:$C$81,3,FALSE),\"\")","v":""},null,null,null,null,null,null,null,null,null,null,null,null,null,null,null,null,null,null,null,null,{"$f":"IF(Z847+AA847>0,Z847+AA847,\"\")","v":""}]
[{"$f":"IF(#REF!>\"\",D848&\"_\"&#REF!&\"_\"&B848,\"\")","v":{"$error":"#REF!"}},{"$f":"IF(#REF!=\"\",\"\",COUNTIF(#REF!,\">\"\"\"))","v":{"$error":"#REF!"}},null,{"$f":"IFERROR(VLOOKUP(C848,Hidden_Словник!$A$2:$C$81,3,FALSE),\"\")","v":""},null,null,null,null,null,null,null,null,null,null,null,null,null,null,null,null,null,null,null,null,""]
[{"$f":"IF(#REF!>\"\",D849&\"_\"&#REF!&\"_\"&B849,\"\")","v":{"$error":"#REF!"}},{"$f":"IF(#REF!=\"\",\"\",COUNTIF(#REF!,\">\"\"\"))","v":{"$error":"#REF!"}},null,{"$f":"IFERROR(VLOOKUP(C849,Hidden_Словник!$A$2:$C$81,3,FALSE),\"\")","v":""},null,null,null,null,null,null,null,null,null,null,null,null,null,null,null,null,null,null,null,null,""]
[{"$f":"IF(#REF!>\"\",D850&\"_\"&#REF!&\"_\"&B850,\"\")","v":{"$error":"#REF!"}},{"$f":"IF(#REF!=\"\",\"\",COUNTIF(#REF!,\">\"\"\"))","v":{"$error":"#REF!"}},null,{"$f":"IFERROR(VLOOKUP(C850,Hidden_Словник!$A$2:$C$81,3,FALSE),\"\")","v":""},null,null,null,null,null,null,null,null,null,null,null,null,null,null,null,null,null,null,null,null,""]
[{"$f":"IF(#REF!>\"\",D851&\"_\"&#REF!&\"_\"&B851,\"\")","v":{"$error":"#REF!"}},{"$f":"IF(#REF!=\"\",\"\",COUNTIF(#REF!,\">\"\"\"))","v":{"$error":"#REF!"}},null,{"$f":"IFERROR(VLOOKUP(C851,Hidden_Словник!$A$2:$C$81,3,FALSE),\"\")","v":""},null,null,null,null,null,null,null,null,null,null,null,null,null,null,null,null,null,null,null,null,""]
[{"$f":"IF(#REF!>\"\",D852&\"_\"&#REF!&\"_\"&B852,\"\")","v":{"$error":"#REF!"}},{"$f":"IF(#REF!=\"\",\"\",COUNTIF(#REF!,\">\"\"\"))","v":{"$error":"#REF!"}},null,{"$f":"IFERROR(VLOOKUP(C852,Hidden_Словник!$A$2:$C$81,3,FALSE),\"\")","v":""},null,null,null,null,null,null,null,null,null,null,null,null,null,null,null,null,null,null,null,null,""]
[{"$f":"IF(#REF!>\"\",D853&\"_\"&#REF!&\"_\"&B853,\"\")","v":{"$error":"#REF!"}},{"$f":"IF(#REF!=\"\",\"\",COUNTIF(#REF!,\">\"\"\"))","v":{"$error":"#REF!"}},null,{"$f":"IFERROR(VLOOKUP(C853,Hidden_Словник!$A$2:$C$81,3,FALSE),\"\")","v":""},null,null,null,null,null,null,null,null,null,null,null,null,null,null,null,null,null,null,null,null,""]
[{"$f":"IF(#REF!>\"\",D854&\"_\"&#REF!&\"_\"&B854,\"\")","v":{"$error":"#REF!"}},{"$f":"IF(#REF!=\"\",\"\",COUNTIF(#REF!,\">\"\"\"))","v":{"$error":"#REF!"}},null,{"$f":"IFERROR(VLOOKUP(C854,Hidden_Словник!$A$2:$C$81,3,FALSE),\"\")","v":""},null,null,null,null,null,null,null,null,null,null,null,null,null,null,null,null,null,null,null,null,""]
[{"$f":"IF(#REF!>\"\",D855&\"_\"&#REF!&\"_\"&B855,\"\")","v":{"$error":"#REF!"}},{"$f":"IF(#REF!=\"\",\"\",COUNTIF(#REF!,\">\"\"\"))","v":{"$error":"#REF!"}},null,{"$f":"IFERROR(VLOOKUP(C855,Hidden_Словник!$A$2:$C$81,3,FALSE),\"\")","v":""},null,null,null,null,null,null,null,null,null,null,null,null,null,null,null,null,null,null,null,null,""]
[{"$f":"IF(#REF!>\"\",D856&\"_\"&#REF!&\"_\"&B856,\"\")","v":{"$error":"#REF!"}},{"$f":"IF(#REF!=\"\",\"\",COUNTIF(#REF!,\">\"\"\"))","v":{"$error":"#REF!"}},null,{"$f":"IFERROR(VLOOKUP(C856,Hidden_Словник!$A$2:$C$81,3,FALSE),\"\")","v":""},null,null,null,null,null,null,null,null,null,null,null,null,null,null,null,null,null,null,null,null,""]
[{"$f":"IF(#REF!>\"\",D857&\"_\"&#REF!&\"_\"&B857,\"\")","v":{"$error":"#REF!"}},{"$f":"IF(#REF!=\"\",\"\",COUNTIF(#REF!,\">\"\"\"))","v":{"$error":"#REF!"}},null,{"$f":"IFERROR(VLOOKUP(C857,Hidden_Словник!$A$2:$C$81,3,FALSE),\"\")","v":""},null,null,null,null,null,null,null,null,null,null,null,null,null,null,null,null,null,null,null,null,""]
[{"$f":"IF(#REF!>\"\",D858&\"_\"&#REF!&\"_\"&B858,\"\")","v":{"$error":"#REF!"}},{"$f":"IF(#REF!=\"\",\"\",COUNTIF(#REF!,\">\"\"\"))","v":{"$error":"#REF!"}},null,{"$f":"IFERROR(VLOOKUP(C858,Hidden_Словник!$A$2:$C$81,3,FALSE),\"\")","v":""},null,null,null,null,null,null,null,null,null,null,null,null,null,null,null,null,null,null,null,null,""]
[{"$f":"IF(#REF!>\"\",D859&\"_\"&#REF!&\"_\"&B859,\"\")","v":{"$error":"#REF!"}},{"$f":"IF(#REF!=\"\",\"\",COUNTIF(#REF!,\">\"\"\"))","v":{"$error":"#REF!"}},null,{"$f":"IFERROR(VLOOKUP(C859,Hidden_Словник!$A$2:$C$81,3,FALSE),\"\")","v":""},null,null,null,null,null,null,null,null,null,null,null,null,null,null,null,null,null,null,null,null,""]
[{"$f":"IF(#REF!>\"\",D860&\"_\"&#REF!&\"_\"&B860,\"\")","v":{"$error":"#REF!"}},{"$f":"IF(#REF!=\"\",\"\",COUNTIF(#REF!,\">\"\"\"))","v":{"$error":"#REF!"}},null,{"$f":"IFERROR(VLOOKUP(C860,Hidden_Словник!$A$2:$C$81,3,FALSE),\"\")","v":""},null,null,null,null,null,null,null,null,null,null,null,null,null,null,null,null,null,null,null,null,""]
[{"$f":"IF(#REF!>\"\",D861&\"_\"&#REF!&\"_\"&B861,\"\")","v":{"$error":"#REF!"}},{"$f":"IF(#REF!=\"\",\"\",COUNTIF(#REF!,\">\"\"\"))","v":{"$error":"#REF!"}},null,{"$f":"IFERROR(VLOOKUP(C861,Hidden_Словник!$A$2:$C$81,3,FALSE),\"\")","v":""},null,null,null,null,null,null,null,null,null,null,null,null,null,null,null,null,null,null,null,null,""]
[{"$f":"IF(#REF!>\"\",D862&\"_\"&#REF!&\"_\"&B862,\"\")","v":{"$error":"#REF!"}},{"$f":"IF(#REF!=\"\",\"\",COUNTIF(#REF!,\">\"\"\"))","v":{"$error":"#REF!"}},null,{"$f":"IFERROR(VLOOKUP(C862,Hidden_Словник!$A$2:$C$81,3,FALSE),\"\")","v":""},null,null,null,null,null,null,null,null,null,null,null,null,null,null,null,null,null,null,null,null,""]
[{"$f":"IF(#REF!>\"\",D863&\"_\"&#REF!&\"_\"&B863,\"\")","v":{"$error":"#REF!"}},{"$f":"IF(#REF!=\"\",\"\",COUNTIF(#REF!,\">\"\"\"))","v":{"$error":"#REF!"}},null,{"$f":"IFERROR(VLOOKUP(C863,Hidden_Словник!$A$2:$C$81,3,FALSE),\"\")","v":""},null,null,null,null,null,null,null,null,null,null,null,null,null,null,null,null,null,null,null,null,""]
[{"$f":"IF(#REF!>\"\",D864&\"_\"&#REF!&\"_\"&B864,\"\")","v":{"$error":"#REF!"}},{"$f":"IF(#REF!=\"\",\"\",COUNTIF(#REF!,\">\"\"\"))","v":{"$error":"#REF!"}},null,{"$f":"IFERROR(VLOOKUP(C864,Hidden_Словник!$A$2:$C$81,3,FALSE),\"\")","v":""},null,null,null,null,null,null,null,null,null,null,null,null,null,null,null,null,null,null,null,null,""]
[{"$f":"IF(#REF!>\"\",D865&\"_\"&#REF!&\"_\"&B865,\"\")","v":{"$error":"#REF!"}},{"$f":"IF(#REF!=\"\",\"\",COUNTIF(#REF!,\">\"\"\"))","v":{"$error":"#REF!"}},null,{"$f":"IFERROR(VLOOKUP(C865,Hidden_Словник!$A$2:$C$81,3,FALSE),\"\")","v":""},null,null,null,null,null,null,null,null,null,null,null,null,null,null,null,null,null,null,null,null,""]
[{"$f":"IF(#REF!>\"\",D866&\"_\"&#REF!&\"_\"&B866,\"\")","v":{"$error":"#REF!"}},{"$f":"IF(#REF!=\"\",\"\",COUNTIF(#REF!,\">\"\"\"))","v":{"$error":"#REF!"}},null,{"$f":"IFERROR(VLOOKUP(C866,Hidden_Словник!$A$2:$C$81,3,FALSE),\"\")","v":""},null,null,null,null,null,null,null,null,null,null,null,null,null,null,null,null,null,null,null,null,""]
[{"$f":"IF(#REF!>\"\",D867&\"_\"&#REF!&\"_\"&B867,\"\")","v":{"$error":"#REF!"}},{"$f":"IF(#REF!=\"\",\"\",COUNTIF(#REF!,\">\"\"\"))","v":{"$error":"#REF!"}},null,{"$f":"IFERROR(VLOOKUP(C867,Hidden_Словник!$A$2:$C$81,3,FALSE),\"\")","v":""},null,null,null,null,null,null,null,null,null,null,null,null,null,null,null,null,null,null,null,null,""]
[{"$f":"IF(#REF!>\"\",D868&\"_\"&#REF!&\"_\"&B868,\"\")","v":{"$error":"#REF!"}},{"$f":"IF(#REF!=\"\",\"\",COUNTIF(#REF!,\">\"\"\"))","v":{"$error":"#REF!"}},null,{"$f":"IFERROR(VLOOKUP(C868,Hidden_Словник!$A$2:$C$81,3,FALSE),\"\")","v":""},null,null,null,null,null,null,null,null,null,null,null,null,null,null,null,null,null,null,null,null,""]
[{"$f":"IF(#REF!>\"\",D869&\"_\"&#REF!&\"_\"&B869,\"\")","v":{"$error":"#REF!"}},{"$f":"IF(#REF!=\"\",\"\",COUNTIF(#REF!,\">\"\"\"))","v":{"$error":"#REF!"}},null,{"$f":"IFERROR(VLOOKUP(C869,Hidden_Словник!$A$2:$C$81,3,FALSE),\"\")","v":""},null,null,null,null,null,null,null,null,null,null,null,null,null,null,null,null,null,null,null,null,""]
[{"$f":"IF(#REF!>\"\",D870&\"_\"&#REF!&\"_\"&B870,\"\")","v":{"$error":"#REF!"}},{"$f":"IF(#REF!=\"\",\"\",COUNTIF(#REF!,\">\"\"\"))","v":{"$error":"#REF!"}},null,{"$f":"IFERROR(VLOOKUP(C870,Hidden_Словник!$A$2:$C$81,3,FALSE),\"\")","v":""},null,null,null,null,null,null,null,null,null,null,null,null,null,null,null,null,null,null,null,null,""]
[{"$f":"IF(#REF!>\"\",D871&\"_\"&#REF!&\"_\"&B871,\"\")","v":{"$error":"#REF!"}},{"$f":"IF(#REF!=\"\",\"\",COUNTIF(#REF!,\">\"\"\"))","v":{"$error":"#REF!"}},null,{"$f":"IFERROR(VLOOKUP(C871,Hidden_Словник!$A$2:$C$81,3,FALSE),\"\")","v":""},null,null,null,null,null,null,null,null,null,null,null,null,null,null,null,null,null,null,null,null,""]
[{"$f":"IF(#REF!>\"\",D872&\"_\"&#REF!&\"_\"&B872,\"\")","v":{"$error":"#REF!"}},{"$f":"IF(#REF!=\"\",\"\",COUNTIF(#REF!,\">\"\"\"))","v":{"$error":"#REF!"}},null,{"$f":"IFERROR(VLOOKUP(C872,Hidden_Словник!$A$2:$C$81,3,FALSE),\"\")","v":""},null,null,null,null,null,null,null,null,null,null,null,null,null,null,null,null,null,null,null,null,""]
[{"$f":"IF(#REF!>\"\",D873&\"_\"&#REF!&\"_\"&B873,\"\")","v":{"$error":"#REF!"}},{"$f":"IF(#REF!=\"\",\"\",COUNTIF(#REF!,\">\"\"\"))","v":{"$error":"#REF!"}},null,{"$f":"IFERROR(VLOOKUP(C873,Hidden_Словник!$A$2:$C$81,3,FALSE),\"\")","v":""},null,null,null,null,null,null,null,null,null,null,null,null,null,null,null,null,null,null,null,null,""]
[{"$f":"IF(#REF!>\"\",D874&\"_\"&#REF!&\"_\"&B874,\"\")","v":{"$error":"#REF!"}},{"$f":"IF(#REF!=\"\",\"\",COUNTIF(#REF!,\">\"\"\"))","v":{"$error":"#REF!"}},null,{"$f":"IFERROR(VLOOKUP(C874,Hidden_Словник!$A$2:$C$81,3,FALSE),\"\")","v":""},null,null,null,null,null,null,null,null,null,null,null,null,null,null,null,null,null,null,null,null,""]
[{"$f":"IF(#REF!>\"\",D875&\"_\"&#REF!&\"_\"&B875,\"\")","v":{"$error":"#REF!"}},{"$f":"IF(#REF!=\"\",\"\",COUNTIF(#REF!,\">\"\"\"))","v":{"$error":"#REF!"}},null,{"$f":"IFERROR(VLOOKUP(C875,Hidden_Словник!$A$2:$C$81,3,FALSE),\"\")","v":""},null,null,null,null,null,null,null,null,null,null,null,null,null,null,null,null,null,null,null,null,""]
[{"$f":"IF(#REF!>\"\",D876&\"_\"&#REF!&\"_\"&B876,\"\")","v":{"$error":"#REF!"}},{"$f":"IF(#REF!=\"\",\"\",COUNTIF(#REF!,\">\"\"\"))","v":{"$error":"#REF!"}},null,{"$f":"IFERROR(VLOOKUP(C876,Hidden_Словник!$A$2:$C$81,3,FALSE),\"\")","v":""},null,null,null,null,null,null,null,null,null,null,null,null,null,null,null,null,null,null,null,null,""]
[{"$f":"IF(#REF!>\"\",D877&\"_\"&#REF!&\"_\"&B877,\"\")","v":{"$error":"#REF!"}},{"$f":"IF(#REF!=\"\",\"\",COUNTIF(#REF!,\">\"\"\"))","v":{"$error":"#REF!"}},null,{"$f":"IFERROR(VLOOKUP(C877,Hidden_Словник!$A$2:$C$81,3,FALSE),\"\")","v":""},null,null,null,null,null,null,null,null,null,null,null,null,null,null,null,null,null,null,null,null,""]
[{"$f":"IF(#REF!>\"\",D878&\"_\"&#REF!&\"_\"&B878,\"\")","v":{"$error":"#REF!"}},{"$f":"IF(#REF!=\"\",\"\",COUNTIF(#REF!,\">\"\"\"))","v":{"$error":"#REF!"}},null,{"$f":"IFERROR(VLOOKUP(C878,Hidden_Словник!$A$2:$C$81,3,FALSE),\"\")","v":""},null,null,null,null,null,null,null,null,null,null,null,null,null,null,null,null,null,null,null,null,""]
[{"$f":"IF(#REF!>\"\",D879&\"_\"&#REF!&\"_\"&B879,\"\")","v":{"$error":"#REF!"}},{"$f":"IF(#REF!=\"\",\"\",COUNTIF(#REF!,\">\"\"\"))","v":{"$error":"#REF!"}},null,{"$f":"IFERROR(VLOOKUP(C879,Hidden_Словник!$A$2:$C$81,3,FALSE),\"\")","v":""},null,null,null,null,null,null,null,null,null,null,null,null,null,null,null,null,null,null,null,null,""]
[{"$f":"IF(#REF!>\"\",D880&\"_\"&#REF!&\"_\"&B880,\"\")","v":{"$error":"#REF!"}},{"$f":"IF(#REF!=\"\",\"\",COUNTIF(#REF!,\">\"\"\"))","v":{"$error":"#REF!"}},null,{"$f":"IFERROR(VLOOKUP(C880,Hidden_Словник!$A$2:$C$81,3,FALSE),\"\")","v":""},null,null,null,null,null,null,null,null,null,null,null,null,null,null,null,null,null,null,null,null,""]
[{"$f":"IF(#REF!>\"\",D881&\"_\"&#REF!&\"_\"&B881,\"\")","v":{"$error":"#REF!"}},{"$f":"IF(#REF!=\"\",\"\",COUNTIF(#REF!,\">\"\"\"))","v":{"$error":"#REF!"}},null,{"$f":"IFERROR(VLOOKUP(C881,Hidden_Словник!$A$2:$C$81,3,FALSE),\"\")","v":""},null,null,null,null,null,null,null,null,null,null,null,null,null,null,null,null,null,null,null,null,""]
[{"$f":"IF(#REF!>\"\",D882&\"_\"&#REF!&\"_\"&B882,\"\")","v":{"$error":"#REF!"}},{"$f":"IF(#REF!=\"\",\"\",COUNTIF(#REF!,\">\"\"\"))","v":{"$error":"#REF!"}},null,{"$f":"IFERROR(VLOOKUP(C882,Hidden_Словник!$A$2:$C$81,3,FALSE),\"\")","v":""},null,null,null,null,null,null,null,null,null,null,null,null,null,null,null,null,null,null,null,null,""]
[{"$f":"IF(#REF!>\"\",D883&\"_\"&#REF!&\"_\"&B883,\"\")","v":{"$error":"#REF!"}},{"$f":"IF(#REF!=\"\",\"\",COUNTIF(#REF!,\">\"\"\"))","v":{"$error":"#REF!"}},null,{"$f":"IFERROR(VLOOKUP(C883,Hidden_Словник!$A$2:$C$81,3,FALSE),\"\")","v":""},null,null,null,null,null,null,null,null,null,null,null,null,null,null,null,null,null,null,null,null,""]
[{"$f":"IF(#REF!>\"\",D884&\"_\"&#REF!&\"_\"&B884,\"\")","v":{"$error":"#REF!"}},{"$f":"IF(#REF!=\"\",\"\",COUNTIF(#REF!,\">\"\"\"))","v":{"$error":"#REF!"}},null,{"$f":"IFERROR(VLOOKUP(C884,Hidden_Словник!$A$2:$C$81,3,FALSE),\"\")","v":""},null,null,null,null,null,null,null,null,null,null,null,null,null,null,null,null,null,null,null,null,""]
[{"$f":"IF(#REF!>\"\",D885&\"_\"&#REF!&\"_\"&B885,\"\")","v":{"$error":"#REF!"}},{"$f":"IF(#REF!=\"\",\"\",COUNTIF(#REF!,\">\"\"\"))","v":{"$error":"#REF!"}},null,{"$f":"IFERROR(VLOOKUP(C885,Hidden_Словник!$A$2:$C$81,3,FALSE),\"\")","v":""},null,null,null,null,null,null,null,null,null,null,null,null,null,null,null,null,null,null,null,null,""]
[{"$f":"IF(#REF!>\"\",D886&\"_\"&#REF!&\"_\"&B886,\"\")","v":{"$error":"#REF!"}},{"$f":"IF(#REF!=\"\",\"\",COUNTIF(#REF!,\">\"\"\"))","v":{"$error":"#REF!"}},null,{"$f":"IFERROR(VLOOKUP(C886,Hidden_Словник!$A$2:$C$81,3,FALSE),\"\")","v":""},null,null,null,null,null,null,null,null,null,null,null,null,null,null,null,null,null,null,null,null,""]
[{"$f":"IF(#REF!>\"\",D887&\"_\"&#REF!&\"_\"&B887,\"\")","v":{"$error":"#REF!"}},{"$f":"IF(#REF!=\"\",\"\",COUNTIF(#REF!,\">\"\"\"))","v":{"$error":"#REF!"}},null,{"$f":"IFERROR(VLOOKUP(C887,Hidden_Словник!$A$2:$C$81,3,FALSE),\"\")","v":""},null,null,null,null,null,null,null,null,null,null,null,null,null,null,null,null,null,null,null,null,""]
[{"$f":"IF(#REF!>\"\",D888&\"_\"&#REF!&\"_\"&B888,\"\")","v":{"$error":"#REF!"}},{"$f":"IF(#REF!=\"\",\"\",COUNTIF(#REF!,\">\"\"\"))","v":{"$error":"#REF!"}},null,{"$f":"IFERROR(VLOOKUP(C888,Hidden_Словник!$A$2:$C$81,3,FALSE),\"\")","v":""},null,null,null,null,null,null,null,null,null,null,null,null,null,null,null,null,null,null,null,null,""]
[{"$f":"IF(#REF!>\"\",D889&\"_\"&#REF!&\"_\"&B889,\"\")","v":{"$error":"#REF!"}},{"$f":"IF(#REF!=\"\",\"\",COUNTIF(#REF!,\">\"\"\"))","v":{"$error":"#REF!"}},null,{"$f":"IFERROR(VLOOKUP(C889,Hidden_Словник!$A$2:$C$81,3,FALSE),\"\")","v":""},null,null,null,null,null,null,null,null,null,null,null,null,null,null,null,null,null,null,null,null,""]
[{"$f":"IF(#REF!>\"\",D890&\"_\"&#REF!&\"_\"&B890,\"\")","v":{"$error":"#REF!"}},{"$f":"IF(#REF!=\"\",\"\",COUNTIF(#REF!,\">\"\"\"))","v":{"$error":"#REF!"}},null,{"$f":"IFERROR(VLOOKUP(C890,Hidden_Словник!$A$2:$C$81,3,FALSE),\"\")","v":""},null,null,null,null,null,null,null,null,null,null,null,null,null,null,null,null,null,null,null,null,""]
[{"$f":"IF(#REF!>\"\",D891&\"_\"&#REF!&\"_\"&B891,\"\")","v":{"$error":"#REF!"}},{"$f":"IF(#REF!=\"\",\"\",COUNTIF(#REF!,\">\"\"\"))","v":{"$error":"#REF!"}},null,{"$f":"IFERROR(VLOOKUP(C891,Hidden_Словник!$A$2:$C$81,3,FALSE),\"\")","v":""},null,null,null,null,null,null,null,null,null,null,null,null,null,null,null,null,null,null,null,null,""]
[{"$f":"IF(#REF!>\"\",D892&\"_\"&#REF!&\"_\"&B892,\"\")","v":{"$error":"#REF!"}},{"$f":"IF(#REF!=\"\",\"\",COUNTIF(#REF!,\">\"\"\"))","v":{"$error":"#REF!"}},null,{"$f":"IFERROR(VLOOKUP(C892,Hidden_Словник!$A$2:$C$81,3,FALSE),\"\")","v":""},null,null,null,null,null,null,null,null,null,null,null,null,null,null,null,null,null,null,null,null,""]
[{"$f":"IF(#REF!>\"\",D893&\"_\"&#REF!&\"_\"&B893,\"\")","v":{"$error":"#REF!"}},{"$f":"IF(#REF!=\"\",\"\",COUNTIF(#REF!,\">\"\"\"))","v":{"$error":"#REF!"}},null,{"$f":"IFERROR(VLOOKUP(C893,Hidden_Словник!$A$2:$C$81,3,FALSE),\"\")","v":""},null,null,null,null,null,null,null,null,null,null,null,null,null,null,null,null,null,null,null,null,""]
[{"$f":"IF(#REF!>\"\",D894&\"_\"&#REF!&\"_\"&B894,\"\")","v":{"$error":"#REF!"}},{"$f":"IF(#REF!=\"\",\"\",COUNTIF(#REF!,\">\"\"\"))","v":{"$error":"#REF!"}},null,{"$f":"IFERROR(VLOOKUP(C894,Hidden_Словник!$A$2:$C$81,3,FALSE),\"\")","v":""},null,null,null,null,null,null,null,null,null,null,null,null,null,null,null,null,null,null,null,null,""]
[{"$f":"IF(#REF!>\"\",D895&\"_\"&#REF!&\"_\"&B895,\"\")","v":{"$error":"#REF!"}},{"$f":"IF(#REF!=\"\",\"\",COUNTIF(#REF!,\">\"\"\"))","v":{"$error":"#REF!"}},null,{"$f":"IFERROR(VLOOKUP(C895,Hidden_Словник!$A$2:$C$81,3,FALSE),\"\")","v":""},null,null,null,null,null,null,null,null,null,null,null,null,null,null,null,null,null,null,null,null,""]
[{"$f":"IF(#REF!>\"\",D896&\"_\"&#REF!&\"_\"&B896,\"\")","v":{"$error":"#REF!"}},{"$f":"IF(#REF!=\"\",\"\",COUNTIF(#REF!,\">\"\"\"))","v":{"$error":"#REF!"}},null,{"$f":"IFERROR(VLOOKUP(C896,Hidden_Словник!$A$2:$C$81,3,FALSE),\"\")","v":""},null,null,null,null,null,null,null,null,null,null,null,null,null,null,null,null,null,null,null,null,""]
[{"$f":"IF(#REF!>\"\",D897&\"_\"&#REF!&\"_\"&B897,\"\")","v":{"$error":"#REF!"}},{"$f":"IF(#REF!=\"\",\"\",COUNTIF(#REF!,\">\"\"\"))","v":{"$error":"#REF!"}},null,{"$f":"IFERROR(VLOOKUP(C897,Hidden_Словник!$A$2:$C$81,3,FALSE),\"\")","v":""},null,null,null,null,null,null,null,null,null,null,null,null,null,null,null,null,null,null,null,null,""]
[{"$f":"IF(#REF!>\"\",D898&\"_\"&#REF!&\"_\"&B898,\"\")","v":{"$error":"#REF!"}},{"$f":"IF(#REF!=\"\",\"\",COUNTIF(#REF!,\">\"\"\"))","v":{"$error":"#REF!"}},null,{"$f":"IFERROR(VLOOKUP(C898,Hidden_Словник!$A$2:$C$81,3,FALSE),\"\")","v":""},null,null,null,null,null,null,null,null,null,null,null,null,null,null,null,null,null,null,null,null,""]
[{"$f":"IF(#REF!>\"\",D899&\"_\"&#REF!&\"_\"&B899,\"\")","v":{"$error":"#REF!"}},{"$f":"IF(#REF!=\"\",\"\",COUNTIF(#REF!,\">\"\"\"))","v":{"$error":"#REF!"}},null,{"$f":"IFERROR(VLOOKUP(C899,Hidden_Словник!$A$2:$C$81,3,FALSE),\"\")","v":""},null,null,null,null,null,null,null,null,null,null,null,null,null,null,null,null,null,null,null,null,""]
[{"$f":"IF(#REF!>\"\",D900&\"_\"&#REF!&\"_\"&B900,\"\")","v":{"$error":"#REF!"}},{"$f":"IF(#REF!=\"\",\"\",COUNTIF(#REF!,\">\"\"\"))","v":{"$error":"#REF!"}},null,{"$f":"IFERROR(VLOOKUP(C900,Hidden_Словник!$A$2:$C$81,3,FALSE),\"\")","v":""},null,null,null,null,null,null,null,null,null,null,null,null,null,null,null,null,null,null,null,null,""]
[{"$f":"IF(#REF!>\"\",D901&\"_\"&#REF!&\"_\"&B901,\"\")","v":{"$error":"#REF!"}},{"$f":"IF(#REF!=\"\",\"\",COUNTIF(#REF!,\">\"\"\"))","v":{"$error":"#REF!"}},null,{"$f":"IFERROR(VLOOKUP(C901,Hidden_Словник!$A$2:$C$81,3,FALSE),\"\")","v":""},null,null,null,null,null,null,null,null,null,null,null,null,null,null,null,null,null,null,null,null,""]
[{"$f":"IF(#REF!>\"\",D902&\"_\"&#REF!&\"_\"&B902,\"\")","v":{"$error":"#REF!"}},{"$f":"IF(#REF!=\"\",\"\",COUNTIF(#REF!,\">\"\"\"))","v":{"$error":"#REF!"}},null,{"$f":"IFERROR(VLOOKUP(C902,Hidden_Словник!$A$2:$C$81,3,FALSE),\"\")","v":""},null,null,null,null,null,null,null,null,null,null,null,null,null,null,null,null,null,null,null,null,""]
[{"$f":"IF(#REF!>\"\",D903&\"_\"&#REF!&\"_\"&B903,\"\")","v":{"$error":"#REF!"}},{"$f":"IF(#REF!=\"\",\"\",COUNTIF(#REF!,\">\"\"\"))","v":{"$error":"#REF!"}},null,{"$f":"IFERROR(VLOOKUP(C903,Hidden_Словник!$A$2:$C$81,3,FALSE),\"\")","v":""},null,null,null,null,null,null,null,null,null,null,null,null,null,null,null,null,null,null,null,null,""]
[{"$f":"IF(#REF!>\"\",D904&\"_\"&#REF!&\"_\"&B904,\"\")","v":{"$error":"#REF!"}},{"$f":"IF(#REF!=\"\",\"\",COUNTIF(#REF!,\">\"\"\"))","v":{"$error":"#REF!"}},null,{"$f":"IFERROR(VLOOKUP(C904,Hidden_Словник!$A$2:$C$81,3,FALSE),\"\")","v":""},null,null,null,null,null,null,null,null,null,null,null,null,null,null,null,null,null,null,null,null,""]
[{"$f":"IF(#REF!>\"\",D905&\"_\"&#REF!&\"_\"&B905,\"\")","v":{"$error":"#REF!"}},{"$f":"IF(#REF!=\"\",\"\",COUNTIF(#REF!,\">\"\"\"))","v":{"$error":"#REF!"}},null,{"$f":"IFERROR(VLOOKUP(C905,Hidden_Словник!$A$2:$C$81,3,FALSE),\"\")","v":""},null,null,null,null,null,null,null,null,null,null,null,null,null,null,null,null,null,null,null,null,""]
[{"$f":"IF(#REF!>\"\",D906&\"_\"&#REF!&\"_\"&B906,\"\")","v":{"$error":"#REF!"}},{"$f":"IF(#REF!=\"\",\"\",COUNTIF(#REF!,\">\"\"\"))","v":{"$error":"#REF!"}},null,{"$f":"IFERROR(VLOOKUP(C906,Hidden_Словник!$A$2:$C$81,3,FALSE),\"\")","v":""},null,null,null,null,null,null,null,null,null,null,null,null,null,null,null,null,null,null,null,null,""]
[{"$f":"IF(#REF!>\"\",D907&\"_\"&#REF!&\"_\"&B907,\"\")","v":{"$error":"#REF!"}},{"$f":"IF(#REF!=\"\",\"\",COUNTIF(#REF!,\">\"\"\"))","v":{"$error":"#REF!"}},null,{"$f":"IFERROR(VLOOKUP(C907,Hidden_Словник!$A$2:$C$81,3,FALSE),\"\")","v":""},null,null,null,null,null,null,null,null,null,null,null,null,null,null,null,null,null,null,null,null,""]
[{"$f":"IF(#REF!>\"\",D908&\"_\"&#REF!&\"_\"&B908,\"\")","v":{"$error":"#REF!"}},{"$f":"IF(#REF!=\"\",\"\",COUNTIF(#REF!,\">\"\"\"))","v":{"$error":"#REF!"}},null,{"$f":"IFERROR(VLOOKUP(C908,Hidden_Словник!$A$2:$C$81,3,FALSE),\"\")","v":""},null,null,null,null,null,null,null,null,null,null,null,null,null,null,null,null,null,null,null,null,""]
[{"$f":"IF(#REF!>\"\",D909&\"_\"&#REF!&\"_\"&B909,\"\")","v":{"$error":"#REF!"}},{"$f":"IF(#REF!=\"\",\"\",COUNTIF(#REF!,\">\"\"\"))","v":{"$error":"#REF!"}},null,{"$f":"IFERROR(VLOOKUP(C909,Hidden_Словник!$A$2:$C$81,3,FALSE),\"\")","v":""},null,null,null,null,null,null,null,null,null,null,null,null,null,null,null,null,null,null,null,null,""]
[{"$f":"IF(#REF!>\"\",D910&\"_\"&#REF!&\"_\"&B910,\"\")","v":{"$error":"#REF!"}},{"$f":"IF(#REF!=\"\",\"\",COUNTIF(#REF!,\">\"\"\"))","v":{"$error":"#REF!"}},null,{"$f":"IFERROR(VLOOKUP(C910,Hidden_Словник!$A$2:$C$81,3,FALSE),\"\")","v":""},null,null,null,null,null,null,null,null,null,null,null,null,null,null,null,null,null,null,null,null,""]
[{"$f":"IF(#REF!>\"\",D911&\"_\"&#REF!&\"_\"&B911,\"\")","v":{"$error":"#REF!"}},{"$f":"IF(#REF!=\"\",\"\",COUNTIF(#REF!,\">\"\"\"))","v":{"$error":"#REF!"}},null,{"$f":"IFERROR(VLOOKUP(C911,Hidden_Словник!$A$2:$C$81,3,FALSE),\"\")","v":""},null,null,null,null,null,null,null,null,null,null,null,null,null,null,null,null,null,null,null,null,{"$f":"IF(Z911+AA911>0,Z911+AA911,\"\")","v":""}]
[{"$f":"IF(#REF!>\"\",D912&\"_\"&#REF!&\"_\"&B912,\"\")","v":{"$error":"#REF!"}},{"$f":"IF(#REF!=\"\",\"\",COUNTIF(#REF!,\">\"\"\"))","v":{"$error":"#REF!"}},null,{"$f":"IFERROR(VLOOKUP(C912,Hidden_Словник!$A$2:$C$81,3,FALSE),\"\")","v":""},null,null,null,null,null,null,null,null,null,null,null,null,null,null,null,null,null,null,null,null,""]
[{"$f":"IF(#REF!>\"\",D913&\"_\"&#REF!&\"_\"&B913,\"\")","v":{"$error":"#REF!"}},{"$f":"IF(#REF!=\"\",\"\",COUNTIF(#REF!,\">\"\"\"))","v":{"$error":"#REF!"}},null,{"$f":"IFERROR(VLOOKUP(C913,Hidden_Словник!$A$2:$C$81,3,FALSE),\"\")","v":""},null,null,null,null,null,null,null,null,null,null,null,null,null,null,null,null,null,null,null,null,""]
[{"$f":"IF(#REF!>\"\",D914&\"_\"&#REF!&\"_\"&B914,\"\")","v":{"$error":"#REF!"}},{"$f":"IF(#REF!=\"\",\"\",COUNTIF(#REF!,\">\"\"\"))","v":{"$error":"#REF!"}},null,{"$f":"IFERROR(VLOOKUP(C914,Hidden_Словник!$A$2:$C$81,3,FALSE),\"\")","v":""},null,null,null,null,null,null,null,null,null,null,null,null,null,null,null,null,null,null,null,null,""]
[{"$f":"IF(#REF!>\"\",D915&\"_\"&#REF!&\"_\"&B915,\"\")","v":{"$error":"#REF!"}},{"$f":"IF(#REF!=\"\",\"\",COUNTIF(#REF!,\">\"\"\"))","v":{"$error":"#REF!"}},null,{"$f":"IFERROR(VLOOKUP(C915,Hidden_Словник!$A$2:$C$81,3,FALSE),\"\")","v":""},null,null,null,null,null,null,null,null,null,null,null,null,null,null,null,null,null,null,null,null,""]
[{"$f":"IF(#REF!>\"\",D916&\"_\"&#REF!&\"_\"&B916,\"\")","v":{"$error":"#REF!"}},{"$f":"IF(#REF!=\"\",\"\",COUNTIF(#REF!,\">\"\"\"))","v":{"$error":"#REF!"}},null,{"$f":"IFERROR(VLOOKUP(C916,Hidden_Словник!$A$2:$C$81,3,FALSE),\"\")","v":""},null,null,null,null,null,null,null,null,null,null,null,null,null,null,null,null,null,null,null,null,""]
[{"$f":"IF(#REF!>\"\",D917&\"_\"&#REF!&\"_\"&B917,\"\")","v":{"$error":"#REF!"}},{"$f":"IF(#REF!=\"\",\"\",COUNTIF(#REF!,\">\"\"\"))","v":{"$error":"#REF!"}},null,{"$f":"IFERROR(VLOOKUP(C917,Hidden_Словник!$A$2:$C$81,3,FALSE),\"\")","v":""},null,null,null,null,null,null,null,null,null,null,null,null,null,null,null,null,null,null,null,null,""]
[{"$f":"IF(#REF!>\"\",D918&\"_\"&#REF!&\"_\"&B918,\"\")","v":{"$error":"#REF!"}},{"$f":"IF(#REF!=\"\",\"\",COUNTIF(#REF!,\">\"\"\"))","v":{"$error":"#REF!"}},null,{"$f":"IFERROR(VLOOKUP(C918,Hidden_Словник!$A$2:$C$81,3,FALSE),\"\")","v":""},null,null,null,null,null,null,null,null,null,null,null,null,null,null,null,null,null,null,null,null,""]
[{"$f":"IF(#REF!>\"\",D919&\"_\"&#REF!&\"_\"&B919,\"\")","v":{"$error":"#REF!"}},{"$f":"IF(#REF!=\"\",\"\",COUNTIF(#REF!,\">\"\"\"))","v":{"$error":"#REF!"}},null,{"$f":"IFERROR(VLOOKUP(C919,Hidden_Словник!$A$2:$C$81,3,FALSE),\"\")","v":""},null,null,null,null,null,null,null,null,null,null,null,null,null,null,null,null,null,null,null,null,""]
[{"$f":"IF(#REF!>\"\",D920&\"_\"&#REF!&\"_\"&B920,\"\")","v":{"$error":"#REF!"}},{"$f":"IF(#REF!=\"\",\"\",COUNTIF(#REF!,\">\"\"\"))","v":{"$error":"#REF!"}},null,{"$f":"IFERROR(VLOOKUP(C920,Hidden_Словник!$A$2:$C$81,3,FALSE),\"\")","v":""},null,null,null,null,null,null,null,null,null,null,null,null,null,null,null,null,null,null,null,null,""]
[{"$f":"IF(#REF!>\"\",D921&\"_\"&#REF!&\"_\"&B921,\"\")","v":{"$error":"#REF!"}},{"$f":"IF(#REF!=\"\",\"\",COUNTIF(#REF!,\">\"\"\"))","v":{"$error":"#REF!"}},null,{"$f":"IFERROR(VLOOKUP(C921,Hidden_Словник!$A$2:$C$81,3,FALSE),\"\")","v":""},null,null,null,null,null,null,null,null,null,null,null,null,null,null,null,null,null,null,null,null,""]
[{"$f":"IF(#REF!>\"\",D922&\"_\"&#REF!&\"_\"&B922,\"\")","v":{"$error":"#REF!"}},{"$f":"IF(#REF!=\"\",\"\",COUNTIF(#REF!,\">\"\"\"))","v":{"$error":"#REF!"}},null,{"$f":"IFERROR(VLOOKUP(C922,Hidden_Словник!$A$2:$C$81,3,FALSE),\"\")","v":""},null,null,null,null,null,null,null,null,null,null,null,null,null,null,null,null,null,null,null,null,""]
[{"$f":"IF(#REF!>\"\",D923&\"_\"&#REF!&\"_\"&B923,\"\")","v":{"$error":"#REF!"}},{"$f":"IF(#REF!=\"\",\"\",COUNTIF(#REF!,\">\"\"\"))","v":{"$error":"#REF!"}},null,{"$f":"IFERROR(VLOOKUP(C923,Hidden_Словник!$A$2:$C$81,3,FALSE),\"\")","v":""},null,null,null,null,null,null,null,null,null,null,null,null,null,null,null,null,null,null,null,null,""]
[{"$f":"IF(#REF!>\"\",D924&\"_\"&#REF!&\"_\"&B924,\"\")","v":{"$error":"#REF!"}},{"$f":"IF(#REF!=\"\",\"\",COUNTIF(#REF!,\">\"\"\"))","v":{"$error":"#REF!"}},null,{"$f":"IFERROR(VLOOKUP(C924,Hidden_Словник!$A$2:$C$81,3,FALSE),\"\")","v":""},null,null,null,null,null,null,null,null,null,null,null,null,null,null,null,null,null,null,null,null,""]
[{"$f":"IF(#REF!>\"\",D925&\"_\"&#REF!&\"_\"&B925,\"\")","v":{"$error":"#REF!"}},{"$f":"IF(#REF!=\"\",\"\",COUNTIF(#REF!,\">\"\"\"))","v":{"$error":"#REF!"}},null,{"$f":"IFERROR(VLOOKUP(C925,Hidden_Словник!$A$2:$C$81,3,FALSE),\"\")","v":""},null,null,null,null,null,null,null,null,null,null,null,null,null,null,null,null,null,null,null,null,""]
[{"$f":"IF(#REF!>\"\",D926&\"_\"&#REF!&\"_\"&B926,\"\")","v":{"$error":"#REF!"}},{"$f":"IF(#REF!=\"\",\"\",COUNTIF(#REF!,\">\"\"\"))","v":{"$error":"#REF!"}},null,{"$f":"IFERROR(VLOOKUP(C926,Hidden_Словник!$A$2:$C$81,3,FALSE),\"\")","v":""},null,null,null,null,null,null,null,null,null,null,null,null,null,null,null,null,null,null,null,null,""]
[{"$f":"IF(#REF!>\"\",D927&\"_\"&#REF!&\"_\"&B927,\"\")","v":{"$error":"#REF!"}},{"$f":"IF(#REF!=\"\",\"\",COUNTIF(#REF!,\">\"\"\"))","v":{"$error":"#REF!"}},null,{"$f":"IFERROR(VLOOKUP(C927,Hidden_Словник!$A$2:$C$81,3,FALSE),\"\")","v":""},null,null,null,null,null,null,null,null,null,null,null,null,null,null,null,null,null,null,null,null,""]
[{"$f":"IF(#REF!>\"\",D928&\"_\"&#REF!&\"_\"&B928,\"\")","v":{"$error":"#REF!"}},{"$f":"IF(#REF!=\"\",\"\",COUNTIF(#REF!,\">\"\"\"))","v":{"$error":"#REF!"}},null,{"$f":"IFERROR(VLOOKUP(C928,Hidden_Словник!$A$2:$C$81,3,FALSE),\"\")","v":""},null,null,null,null,null,null,null,null,null,null,null,null,null,null,null,null,null,null,null,null,""]
[{"$f":"IF(#REF!>\"\",D929&\"_\"&#REF!&\"_\"&B929,\"\")","v":{"$error":"#REF!"}},{"$f":"IF(#REF!=\"\",\"\",COUNTIF(#REF!,\">\"\"\"))","v":{"$error":"#REF!"}},null,{"$f":"IFERROR(VLOOKUP(C929,Hidden_Словник!$A$2:$C$81,3,FALSE),\"\")","v":""},null,null,null,null,null,null,null,null,null,null,null,null,null,null,null,null,null,null,null,null,""]
[{"$f":"IF(#REF!>\"\",D930&\"_\"&#REF!&\"_\"&B930,\"\")","v":{"$error":"#REF!"}},{"$f":"IF(#REF!=\"\",\"\",COUNTIF(#REF!,\">\"\"\"))","v":{"$error":"#REF!"}},null,{"$f":"IFERROR(VLOOKUP(C930,Hidden_Словник!$A$2:$C$81,3,FALSE),\"\")","v":""},null,null,null,null,null,null,null,null,null,null,null,null,null,null,null,null,null,null,null,null,""]
[{"$f":"IF(#REF!>\"\",D931&\"_\"&#REF!&\"_\"&B931,\"\")","v":{"$error":"#REF!"}},{"$f":"IF(#REF!=\"\",\"\",COUNTIF(#REF!,\">\"\"\"))","v":{"$error":"#REF!"}},null,{"$f":"IFERROR(VLOOKUP(C931,Hidden_Словник!$A$2:$C$81,3,FALSE),\"\")","v":""},null,null,null,null,null,null,null,null,null,null,null,null,null,null,null,null,null,null,null,null,""]
[{"$f":"IF(#REF!>\"\",D932&\"_\"&#REF!&\"_\"&B932,\"\")","v":{"$error":"#REF!"}},{"$f":"IF(#REF!=\"\",\"\",COUNTIF(#REF!,\">\"\"\"))","v":{"$error":"#REF!"}},null,{"$f":"IFERROR(VLOOKUP(C932,Hidden_Словник!$A$2:$C$81,3,FALSE),\"\")","v":""},null,null,null,null,null,null,null,null,null,null,null,null,null,null,null,null,null,null,null,null,""]
[{"$f":"IF(#REF!>\"\",D933&\"_\"&#REF!&\"_\"&B933,\"\")","v":{"$error":"#REF!"}},{"$f":"IF(#REF!=\"\",\"\",COUNTIF(#REF!,\">\"\"\"))","v":{"$error":"#REF!"}},null,{"$f":"IFERROR(VLOOKUP(C933,Hidden_Словник!$A$2:$C$81,3,FALSE),\"\")","v":""},null,null,null,null,null,null,null,null,null,null,null,null,null,null,null,null,null,null,null,null,""]
[{"$f":"IF(#REF!>\"\",D934&\"_\"&#REF!&\"_\"&B934,\"\")","v":{"$error":"#REF!"}},{"$f":"IF(#REF!=\"\",\"\",COUNTIF(#REF!,\">\"\"\"))","v":{"$error":"#REF!"}},null,{"$f":"IFERROR(VLOOKUP(C934,Hidden_Словник!$A$2:$C$81,3,FALSE),\"\")","v":""},null,null,null,null,null,null,null,null,null,null,null,null,null,null,null,null,null,null,null,null,""]
[{"$f":"IF(#REF!>\"\",D935&\"_\"&#REF!&\"_\"&B935,\"\")","v":{"$error":"#REF!"}},{"$f":"IF(#REF!=\"\",\"\",COUNTIF(#REF!,\">\"\"\"))","v":{"$error":"#REF!"}},null,{"$f":"IFERROR(VLOOKUP(C935,Hidden_Словник!$A$2:$C$81,3,FALSE),\"\")","v":""},null,null,null,null,null,null,null,null,null,null,null,null,null,null,null,null,null,null,null,null,""]
[{"$f":"IF(#REF!>\"\",D936&\"_\"&#REF!&\"_\"&B936,\"\")","v":{"$error":"#REF!"}},{"$f":"IF(#REF!=\"\",\"\",COUNTIF(#REF!,\">\"\"\"))","v":{"$error":"#REF!"}},null,{"$f":"IFERROR(VLOOKUP(C936,Hidden_Словник!$A$2:$C$81,3,FALSE),\"\")","v":""},null,null,null,null,null,null,null,null,null,null,null,null,null,null,null,null,null,null,null,null,""]
[{"$f":"IF(#REF!>\"\",D937&\"_\"&#REF!&\"_\"&B937,\"\")","v":{"$error":"#REF!"}},{"$f":"IF(#REF!=\"\",\"\",COUNTIF(#REF!,\">\"\"\"))","v":{"$error":"#REF!"}},null,{"$f":"IFERROR(VLOOKUP(C937,Hidden_Словник!$A$2:$C$81,3,FALSE),\"\")","v":""},null,null,null,null,null,null,null,null,null,null,null,null,null,null,null,null,null,null,null,null,""]
[{"$f":"IF(#REF!>\"\",D938&\"_\"&#REF!&\"_\"&B938,\"\")","v":{"$error":"#REF!"}},{"$f":"IF(#REF!=\"\",\"\",COUNTIF(#REF!,\">\"\"\"))","v":{"$error":"#REF!"}},null,{"$f":"IFERROR(VLOOKUP(C938,Hidden_Словник!$A$2:$C$81,3,FALSE),\"\")","v":""},null,null,null,null,null,null,null,null,null,null,null,null,null,null,null,null,null,null,null,null,""]
[{"$f":"IF(#REF!>\"\",D939&\"_\"&#REF!&\"_\"&B939,\"\")","v":{"$error":"#REF!"}},{"$f":"IF(#REF!=\"\",\"\",COUNTIF(#REF!,\">\"\"\"))","v":{"$error":"#REF!"}},null,{"$f":"IFERROR(VLOOKUP(C939,Hidden_Словник!$A$2:$C$81,3,FALSE),\"\")","v":""},null,null,null,null,null,null,null,null,null,null,null,null,null,null,null,null,null,null,null,null,""]
[{"$f":"IF(#REF!>\"\",D940&\"_\"&#REF!&\"_\"&B940,\"\")","v":{"$error":"#REF!"}},{"$f":"IF(#REF!=\"\",\"\",COUNTIF(#REF!,\">\"\"\"))","v":{"$error":"#REF!"}},null,{"$f":"IFERROR(VLOOKUP(C940,Hidden_Словник!$A$2:$C$81,3,FALSE),\"\")","v":""},null,null,null,null,null,null,null,null,null,null,null,null,null,null,null,null,null,null,null,null,""]
[{"$f":"IF(#REF!>\"\",D941&\"_\"&#REF!&\"_\"&B941,\"\")","v":{"$error":"#REF!"}},{"$f":"IF(#REF!=\"\",\"\",COUNTIF(#REF!,\">\"\"\"))","v":{"$error":"#REF!"}},null,{"$f":"IFERROR(VLOOKUP(C941,Hidden_Словник!$A$2:$C$81,3,FALSE),\"\")","v":""},null,null,null,null,null,null,null,null,null,null,null,null,null,null,null,null,null,null,null,null,""]
[{"$f":"IF(#REF!>\"\",D942&\"_\"&#REF!&\"_\"&B942,\"\")","v":{"$error":"#REF!"}},{"$f":"IF(#REF!=\"\",\"\",COUNTIF(#REF!,\">\"\"\"))","v":{"$error":"#REF!"}},null,{"$f":"IFERROR(VLOOKUP(C942,Hidden_Словник!$A$2:$C$81,3,FALSE),\"\")","v":""},null,null,null,null,null,null,null,null,null,null,null,null,null,null,null,null,null,null,null,null,""]
[{"$f":"IF(#REF!>\"\",D943&\"_\"&#REF!&\"_\"&B943,\"\")","v":{"$error":"#REF!"}},{"$f":"IF(#REF!=\"\",\"\",COUNTIF(#REF!,\">\"\"\"))","v":{"$error":"#REF!"}},null,{"$f":"IFERROR(VLOOKUP(C943,Hidden_Словник!$A$2:$C$81,3,FALSE),\"\")","v":""},null,null,null,null,null,null,null,null,null,null,null,null,null,null,null,null,null,null,null,null,""]
[{"$f":"IF(#REF!>\"\",D944&\"_\"&#REF!&\"_\"&B944,\"\")","v":{"$error":"#REF!"}},{"$f":"IF(#REF!=\"\",\"\",COUNTIF(#REF!,\">\"\"\"))","v":{"$error":"#REF!"}},null,{"$f":"IFERROR(VLOOKUP(C944,Hidden_Словник!$A$2:$C$81,3,FALSE),\"\")","v":""},null,null,null,null,null,null,null,null,null,null,null,null,null,null,null,null,null,null,null,null,""]
[{"$f":"IF(#REF!>\"\",D945&\"_\"&#REF!&\"_\"&B945,\"\")","v":{"$error":"#REF!"}},{"$f":"IF(#REF!=\"\",\"\",COUNTIF(#REF!,\">\"\"\"))","v":{"$error":"#REF!"}},null,{"$f":"IFERROR(VLOOKUP(C945,Hidden_Словник!$A$2:$C$81,3,FALSE),\"\")","v":""},null,null,null,null,null,null,null,null,null,null,null,null,null,null,null,null,null,null,null,null,""]
[{"$f":"IF(#REF!>\"\",D946&\"_\"&#REF!&\"_\"&B946,\"\")","v":{"$error":"#REF!"}},{"$f":"IF(#REF!=\"\",\"\",COUNTIF(#REF!,\">\"\"\"))","v":{"$error":"#REF!"}},null,{"$f":"IFERROR(VLOOKUP(C946,Hidden_Словник!$A$2:$C$81,3,FALSE),\"\")","v":""},null,null,null,null,null,null,null,null,null,null,null,null,null,null,null,null,null,null,null,null,""]
[{"$f":"IF(#REF!>\"\",D947&\"_\"&#REF!&\"_\"&B947,\"\")","v":{"$error":"#REF!"}},{"$f":"IF(#REF!=\"\",\"\",COUNTIF(#REF!,\">\"\"\"))","v":{"$error":"#REF!"}},null,{"$f":"IFERROR(VLOOKUP(C947,Hidden_Словник!$A$2:$C$81,3,FALSE),\"\")","v":""},null,null,null,null,null,null,null,null,null,null,null,null,null,null,null,null,null,null,null,null,""]
[{"$f":"IF(#REF!>\"\",D948&\"_\"&#REF!&\"_\"&B948,\"\")","v":{"$error":"#REF!"}},{"$f":"IF(#REF!=\"\",\"\",COUNTIF(#REF!,\">\"\"\"))","v":{"$error":"#REF!"}},null,{"$f":"IFERROR(VLOOKUP(C948,Hidden_Словник!$A$2:$C$81,3,FALSE),\"\")","v":""},null,null,null,null,null,null,null,null,null,null,null,null,null,null,null,null,null,null,null,null,""]
[{"$f":"IF(#REF!>\"\",D949&\"_\"&#REF!&\"_\"&B949,\"\")","v":{"$error":"#REF!"}},{"$f":"IF(#REF!=\"\",\"\",COUNTIF(#REF!,\">\"\"\"))","v":{"$error":"#REF!"}},null,{"$f":"IFERROR(VLOOKUP(C949,Hidden_Словник!$A$2:$C$81,3,FALSE),\"\")","v":""},null,null,null,null,null,null,null,null,null,null,null,null,null,null,null,null,null,null,null,null,""]
[{"$f":"IF(#REF!>\"\",D950&\"_\"&#REF!&\"_\"&B950,\"\")","v":{"$error":"#REF!"}},{"$f":"IF(#REF!=\"\",\"\",COUNTIF(#REF!,\">\"\"\"))","v":{"$error":"#REF!"}},null,{"$f":"IFERROR(VLOOKUP(C950,Hidden_Словник!$A$2:$C$81,3,FALSE),\"\")","v":""},null,null,null,null,null,null,null,null,null,null,null,null,null,null,null,null,null,null,null,null,""]
[{"$f":"IF(#REF!>\"\",D951&\"_\"&#REF!&\"_\"&B951,\"\")","v":{"$error":"#REF!"}},{"$f":"IF(#REF!=\"\",\"\",COUNTIF(#REF!,\">\"\"\"))","v":{"$error":"#REF!"}},null,{"$f":"IFERROR(VLOOKUP(C951,Hidden_Словник!$A$2:$C$81,3,FALSE),\"\")","v":""},null,null,null,null,null,null,null,null,null,null,null,null,null,null,null,null,null,null,null,null,""]
[{"$f":"IF(#REF!>\"\",D952&\"_\"&#REF!&\"_\"&B952,\"\")","v":{"$error":"#REF!"}},{"$f":"IF(#REF!=\"\",\"\",COUNTIF(#REF!,\">\"\"\"))","v":{"$error":"#REF!"}},null,{"$f":"IFERROR(VLOOKUP(C952,Hidden_Словник!$A$2:$C$81,3,FALSE),\"\")","v":""},null,null,null,null,null,null,null,null,null,null,null,null,null,null,null,null,null,null,null,null,""]
[{"$f":"IF(#REF!>\"\",D953&\"_\"&#REF!&\"_\"&B953,\"\")","v":{"$error":"#REF!"}},{"$f":"IF(#REF!=\"\",\"\",COUNTIF(#REF!,\">\"\"\"))","v":{"$error":"#REF!"}},null,{"$f":"IFERROR(VLOOKUP(C953,Hidden_Словник!$A$2:$C$81,3,FALSE),\"\")","v":""},null,null,null,null,null,null,null,null,null,null,null,null,null,null,null,null,null,null,null,null,""]
[{"$f":"IF(#REF!>\"\",D954&\"_\"&#REF!&\"_\"&B954,\"\")","v":{"$error":"#REF!"}},{"$f":"IF(#REF!=\"\",\"\",COUNTIF(#REF!,\">\"\"\"))","v":{"$error":"#REF!"}},null,{"$f":"IFERROR(VLOOKUP(C954,Hidden_Словник!$A$2:$C$81,3,FALSE),\"\")","v":""},null,null,null,null,null,null,null,null,null,null,null,null,null,null,null,null,null,null,null,null,""]
[{"$f":"IF(#REF!>\"\",D955&\"_\"&#REF!&\"_\"&B955,\"\")","v":{"$error":"#REF!"}},{"$f":"IF(#REF!=\"\",\"\",COUNTIF(#REF!,\">\"\"\"))","v":{"$error":"#REF!"}},null,{"$f":"IFERROR(VLOOKUP(C955,Hidden_Словник!$A$2:$C$81,3,FALSE),\"\")","v":""},null,null,null,null,null,null,null,null,null,null,null,null,null,null,null,null,null,null,null,null,""]
[{"$f":"IF(#REF!>\"\",D956&\"_\"&#REF!&\"_\"&B956,\"\")","v":{"$error":"#REF!"}},{"$f":"IF(#REF!=\"\",\"\",COUNTIF(#REF!,\">\"\"\"))","v":{"$error":"#REF!"}},null,{"$f":"IFERROR(VLOOKUP(C956,Hidden_Словник!$A$2:$C$81,3,FALSE),\"\")","v":""},null,null,null,null,null,null,null,null,null,null,null,null,null,null,null,null,null,null,null,null,""]
[{"$f":"IF(#REF!>\"\",D957&\"_\"&#REF!&\"_\"&B957,\"\")","v":{"$error":"#REF!"}},{"$f":"IF(#REF!=\"\",\"\",COUNTIF(#REF!,\">\"\"\"))","v":{"$error":"#REF!"}},null,{"$f":"IFERROR(VLOOKUP(C957,Hidden_Словник!$A$2:$C$81,3,FALSE),\"\")","v":""},null,null,null,null,null,null,null,null,null,null,null,null,null,null,null,null,null,null,null,null,""]
[{"$f":"IF(#REF!>\"\",D958&\"_\"&#REF!&\"_\"&B958,\"\")","v":{"$error":"#REF!"}},{"$f":"IF(#REF!=\"\",\"\",COUNTIF(#REF!,\">\"\"\"))","v":{"$error":"#REF!"}},null,{"$f":"IFERROR(VLOOKUP(C958,Hidden_Словник!$A$2:$C$81,3,FALSE),\"\")","v":""},null,null,null,null,null,null,null,null,null,null,null,null,null,null,null,null,null,null,null,null,""]
[{"$f":"IF(#REF!>\"\",D959&\"_\"&#REF!&\"_\"&B959,\"\")","v":{"$error":"#REF!"}},{"$f":"IF(#REF!=\"\",\"\",COUNTIF(#REF!,\">\"\"\"))","v":{"$error":"#REF!"}},null,{"$f":"IFERROR(VLOOKUP(C959,Hidden_Словник!$A$2:$C$81,3,FALSE),\"\")","v":""},null,null,null,null,null,null,null,null,null,null,null,null,null,null,null,null,null,null,null,null,""]
[{"$f":"IF(#REF!>\"\",D960&\"_\"&#REF!&\"_\"&B960,\"\")","v":{"$error":"#REF!"}},{"$f":"IF(#REF!=\"\",\"\",COUNTIF(#REF!,\">\"\"\"))","v":{"$error":"#REF!"}},null,{"$f":"IFERROR(VLOOKUP(C960,Hidden_Словник!$A$2:$C$81,3,FALSE),\"\")","v":""},null,null,null,null,null,null,null,null,null,null,null,null,null,null,null,null,null,null,null,null,""]
[{"$f":"IF(#REF!>\"\",D961&\"_\"&#REF!&\"_\"&B961,\"\")","v":{"$error":"#REF!"}},{"$f":"IF(#REF!=\"\",\"\",COUNTIF(#REF!,\">\"\"\"))","v":{"$error":"#REF!"}},null,{"$f":"IFERROR(VLOOKUP(C961,Hidden_Словник!$A$2:$C$81,3,FALSE),\"\")","v":""},null,null,null,null,null,null,null,null,null,null,null,null,null,null,null,null,null,null,null,null,""]
[{"$f":"IF(#REF!>\"\",D962&\"_\"&#REF!&\"_\"&B962,\"\")","v":{"$error":"#REF!"}},{"$f":"IF(#REF!=\"\",\"\",COUNTIF(#REF!,\">\"\"\"))","v":{"$error":"#REF!"}},null,{"$f":"IFERROR(VLOOKUP(C962,Hidden_Словник!$A$2:$C$81,3,FALSE),\"\")","v":""},null,null,null,null,null,null,null,null,null,null,null,null,null,null,null,null,null,null,null,null,""]
[{"$f":"IF(#REF!>\"\",D963&\"_\"&#REF!&\"_\"&B963,\"\")","v":{"$error":"#REF!"}},{"$f":"IF(#REF!=\"\",\"\",COUNTIF(#REF!,\">\"\"\"))","v":{"$error":"#REF!"}},null,{"$f":"IFERROR(VLOOKUP(C963,Hidden_Словник!$A$2:$C$81,3,FALSE),\"\")","v":""},null,null,null,null,null,null,null,null,null,null,null,null,null,null,null,null,null,null,null,null,""]
[{"$f":"IF(#REF!>\"\",D964&\"_\"&#REF!&\"_\"&B964,\"\")","v":{"$error":"#REF!"}},{"$f":"IF(#REF!=\"\",\"\",COUNTIF(#REF!,\">\"\"\"))","v":{"$error":"#REF!"}},null,{"$f":"IFERROR(VLOOKUP(C964,Hidden_Словник!$A$2:$C$81,3,FALSE),\"\")","v":""},null,null,null,null,null,null,null,null,null,null,null,null,null,null,null,null,null,null,null,null,""]
[{"$f":"IF(#REF!>\"\",D965&\"_\"&#REF!&\"_\"&B965,\"\")","v":{"$error":"#REF!"}},{"$f":"IF(#REF!=\"\",\"\",COUNTIF(#REF!,\">\"\"\"))","v":{"$error":"#REF!"}},null,{"$f":"IFERROR(VLOOKUP(C965,Hidden_Словник!$A$2:$C$81,3,FALSE),\"\")","v":""},null,null,null,null,null,null,null,null,null,null,null,null,null,null,null,null,null,null,null,null,""]
[{"$f":"IF(#REF!>\"\",D966&\"_\"&#REF!&\"_\"&B966,\"\")","v":{"$error":"#REF!"}},{"$f":"IF(#REF!=\"\",\"\",COUNTIF(#REF!,\">\"\"\"))","v":{"$error":"#REF!"}},null,{"$f":"IFERROR(VLOOKUP(C966,Hidden_Словник!$A$2:$C$81,3,FALSE),\"\")","v":""},null,null,null,null,null,null,null,null,null,null,null,null,null,null,null,null,null,null,null,null,""]
[{"$f":"IF(#REF!>\"\",D967&\"_\"&#REF!&\"_\"&B967,\"\")","v":{"$error":"#REF!"}},{"$f":"IF(#REF!=\"\",\"\",COUNTIF(#REF!,\">\"\"\"))","v":{"$error":"#REF!"}},null,{"$f":"IFERROR(VLOOKUP(C967,Hidden_Словник!$A$2:$C$81,3,FALSE),\"\")","v":""},null,null,null,null,null,null,null,null,null,null,null,null,null,null,null,null,null,null,null,null,""]
[{"$f":"IF(#REF!>\"\",D968&\"_\"&#REF!&\"_\"&B968,\"\")","v":{"$error":"#REF!"}},{"$f":"IF(#REF!=\"\",\"\",COUNTIF(#REF!,\">\"\"\"))","v":{"$error":"#REF!"}},null,{"$f":"IFERROR(VLOOKUP(C968,Hidden_Словник!$A$2:$C$81,3,FALSE),\"\")","v":""},null,null,null,null,null,null,null,null,null,null,null,null,null,null,null,null,null,null,null,null,""]
[{"$f":"IF(#REF!>\"\",D969&\"_\"&#REF!&\"_\"&B969,\"\")","v":{"$error":"#REF!"}},{"$f":"IF(#REF!=\"\",\"\",COUNTIF(#REF!,\">\"\"\"))","v":{"$error":"#REF!"}},null,{"$f":"IFERROR(VLOOKUP(C969,Hidden_Словник!$A$2:$C$81,3,FALSE),\"\")","v":""},null,null,null,null,null,null,null,null,null,null,null,null,null,null,null,null,null,null,null,null,""]
[{"$f":"IF(#REF!>\"\",D970&\"_\"&#REF!&\"_\"&B970,\"\")","v":{"$error":"#REF!"}},{"$f":"IF(#REF!=\"\",\"\",COUNTIF(#REF!,\">\"\"\"))","v":{"$error":"#REF!"}},null,{"$f":"IFERROR(VLOOKUP(C970,Hidden_Словник!$A$2:$C$81,3,FALSE),\"\")","v":""},null,null,null,null,null,null,null,null,null,null,null,null,null,null,null,null,null,null,null,null,""]
[{"$f":"IF(#REF!>\"\",D971&\"_\"&#REF!&\"_\"&B971,\"\")","v":{"$error":"#REF!"}},{"$f":"IF(#REF!=\"\",\"\",COUNTIF(#REF!,\">\"\"\"))","v":{"$error":"#REF!"}},null,{"$f":"IFERROR(VLOOKUP(C971,Hidden_Словник!$A$2:$C$81,3,FALSE),\"\")","v":""},null,null,null,null,null,null,null,null,null,null,null,null,null,null,null,null,null,null,null,null,""]
[{"$f":"IF(#REF!>\"\",D972&\"_\"&#REF!&\"_\"&B972,\"\")","v":{"$error":"#REF!"}},{"$f":"IF(#REF!=\"\",\"\",COUNTIF(#REF!,\">\"\"\"))","v":{"$error":"#REF!"}},null,{"$f":"IFERROR(VLOOKUP(C972,Hidden_Словник!$A$2:$C$81,3,FALSE),\"\")","v":""},null,null,null,null,null,null,null,null,null,null,null,null,null,null,null,null,null,null,null,null,""]
[{"$f":"IF(#REF!>\"\",D973&\"_\"&#REF!&\"_\"&B973,\"\")","v":{"$error":"#REF!"}},{"$f":"IF(#REF!=\"\",\"\",COUNTIF(#REF!,\">\"\"\"))","v":{"$error":"#REF!"}},null,{"$f":"IFERROR(VLOOKUP(C973,Hidden_Словник!$A$2:$C$81,3,FALSE),\"\")","v":""},null,null,null,null,null,null,null,null,null,null,null,null,null,null,null,null,null,null,null,null,""]
[{"$f":"IF(#REF!>\"\",D974&\"_\"&#REF!&\"_\"&B974,\"\")","v":{"$error":"#REF!"}},{"$f":"IF(#REF!=\"\",\"\",COUNTIF(#REF!,\">\"\"\"))","v":{"$error":"#REF!"}},null,{"$f":"IFERROR(VLOOKUP(C974,Hidden_Словник!$A$2:$C$81,3,FALSE),\"\")","v":""},null,null,null,null,null,null,null,null,null,null,null,null,null,null,null,null,null,null,null,null,""]
[{"$f":"IF(#REF!>\"\",D975&\"_\"&#REF!&\"_\"&B975,\"\")","v":{"$error":"#REF!"}},{"$f":"IF(#REF!=\"\",\"\",COUNTIF(#REF!,\">\"\"\"))","v":{"$error":"#REF!"}},null,{"$f":"IFERROR(VLOOKUP(C975,Hidden_Словник!$A$2:$C$81,3,FALSE),\"\")","v":""},null,null,null,null,null,null,null,null,null,null,null,null,null,null,null,null,null,null,null,null,{"$f":"IF(Z975+AA975>0,Z975+AA975,\"\")","v":""}]
[{"$f":"IF(#REF!>\"\",D976&\"_\"&#REF!&\"_\"&B976,\"\")","v":{"$error":"#REF!"}},{"$f":"IF(#REF!=\"\",\"\",COUNTIF(#REF!,\">\"\"\"))","v":{"$error":"#REF!"}},null,{"$f":"IFERROR(VLOOKUP(C976,Hidden_Словник!$A$2:$C$81,3,FALSE),\"\")","v":""},null,null,null,null,null,null,null,null,null,null,null,null,null,null,null,null,null,null,null,null,""]
[{"$f":"IF(#REF!>\"\",D977&\"_\"&#REF!&\"_\"&B977,\"\")","v":{"$error":"#REF!"}},{"$f":"IF(#REF!=\"\",\"\",COUNTIF(#REF!,\">\"\"\"))","v":{"$error":"#REF!"}},null,{"$f":"IFERROR(VLOOKUP(C977,Hidden_Словник!$A$2:$C$81,3,FALSE),\"\")","v":""},null,null,null,null,null,null,null,null,null,null,null,null,null,null,null,null,null,null,null,null,""]
[{"$f":"IF(#REF!>\"\",D978&\"_\"&#REF!&\"_\"&B978,\"\")","v":{"$error":"#REF!"}},{"$f":"IF(#REF!=\"\",\"\",COUNTIF(#REF!,\">\"\"\"))","v":{"$error":"#REF!"}},null,{"$f":"IFERROR(VLOOKUP(C978,Hidden_Словник!$A$2:$C$81,3,FALSE),\"\")","v":""},null,null,null,null,null,null,null,null,null,null,null,null,null,null,null,null,null,null,null,null,""]
[{"$f":"IF(#REF!>\"\",D979&\"_\"&#REF!&\"_\"&B979,\"\")","v":{"$error":"#REF!"}},{"$f":"IF(#REF!=\"\",\"\",COUNTIF(#REF!,\">\"\"\"))","v":{"$error":"#REF!"}},null,{"$f":"IFERROR(VLOOKUP(C979,Hidden_Словник!$A$2:$C$81,3,FALSE),\"\")","v":""},null,null,null,null,null,null,null,null,null,null,null,null,null,null,null,null,null,null,null,null,""]
[{"$f":"IF(#REF!>\"\",D980&\"_\"&#REF!&\"_\"&B980,\"\")","v":{"$error":"#REF!"}},{"$f":"IF(#REF!=\"\",\"\",COUNTIF(#REF!,\">\"\"\"))","v":{"$error":"#REF!"}},null,{"$f":"IFERROR(VLOOKUP(C980,Hidden_Словник!$A$2:$C$81,3,FALSE),\"\")","v":""},null,null,null,null,null,null,null,null,null,null,null,null,null,null,null,null,null,null,null,null,""]
[{"$f":"IF(#REF!>\"\",D981&\"_\"&#REF!&\"_\"&B981,\"\")","v":{"$error":"#REF!"}},{"$f":"IF(#REF!=\"\",\"\",COUNTIF(#REF!,\">\"\"\"))","v":{"$error":"#REF!"}},null,{"$f":"IFERROR(VLOOKUP(C981,Hidden_Словник!$A$2:$C$81,3,FALSE),\"\")","v":""},null,null,null,null,null,null,null,null,null,null,null,null,null,null,null,null,null,null,null,null,""]
[{"$f":"IF(#REF!>\"\",D982&\"_\"&#REF!&\"_\"&B982,\"\")","v":{"$error":"#REF!"}},{"$f":"IF(#REF!=\"\",\"\",COUNTIF(#REF!,\">\"\"\"))","v":{"$error":"#REF!"}},null,{"$f":"IFERROR(VLOOKUP(C982,Hidden_Словник!$A$2:$C$81,3,FALSE),\"\")","v":""},null,null,null,null,null,null,null,null,null,null,null,null,null,null,null,null,null,null,null,null,""]
[{"$f":"IF(#REF!>\"\",D983&\"_\"&#REF!&\"_\"&B983,\"\")","v":{"$error":"#REF!"}},{"$f":"IF(#REF!=\"\",\"\",COUNTIF(#REF!,\">\"\"\"))","v":{"$error":"#REF!"}},null,{"$f":"IFERROR(VLOOKUP(C983,Hidden_Словник!$A$2:$C$81,3,FALSE),\"\")","v":""},null,null,null,null,null,null,null,null,null,null,null,null,null,null,null,null,null,null,null,null,""]
[{"$f":"IF(#REF!>\"\",D984&\"_\"&#REF!&\"_\"&B984,\"\")","v":{"$error":"#REF!"}},{"$f":"IF(#REF!=\"\",\"\",COUNTIF(#REF!,\">\"\"\"))","v":{"$error":"#REF!"}},null,{"$f":"IFERROR(VLOOKUP(C984,Hidden_Словник!$A$2:$C$81,3,FALSE),\"\")","v":""},null,null,null,null,null,null,null,null,null,null,null,null,null,null,null,null,null,null,null,null,""]
[{"$f":"IF(#REF!>\"\",D985&\"_\"&#REF!&\"_\"&B985,\"\")","v":{"$error":"#REF!"}},{"$f":"IF(#REF!=\"\",\"\",COUNTIF(#REF!,\">\"\"\"))","v":{"$error":"#REF!"}},null,{"$f":"IFERROR(VLOOKUP(C985,Hidden_Словник!$A$2:$C$81,3,FALSE),\"\")","v":""},null,null,null,null,null,null,null,null,null,null,null,null,null,null,null,null,null,null,null,null,""]
[{"$f":"IF(#REF!>\"\",D986&\"_\"&#REF!&\"_\"&B986,\"\")","v":{"$error":"#REF!"}},{"$f":"IF(#REF!=\"\",\"\",COUNTIF(#REF!,\">\"\"\"))","v":{"$error":"#REF!"}},null,{"$f":"IFERROR(VLOOKUP(C986,Hidden_Словник!$A$2:$C$81,3,FALSE),\"\")","v":""},null,null,null,null,null,null,null,null,null,null,null,null,null,null,null,null,null,null,null,null,""]
[{"$f":"IF(#REF!>\"\",D987&\"_\"&#REF!&\"_\"&B987,\"\")","v":{"$error":"#REF!"}},{"$f":"IF(#REF!=\"\",\"\",COUNTIF(#REF!,\">\"\"\"))","v":{"$error":"#REF!"}},null,{"$f":"IFERROR(VLOOKUP(C987,Hidden_Словник!$A$2:$C$81,3,FALSE),\"\")","v":""},null,null,null,null,null,null,null,null,null,null,null,null,null,null,null,null,null,null,null,null,""]
[{"$f":"IF(#REF!>\"\",D988&\"_\"&#REF!&\"_\"&B988,\"\")","v":{"$error":"#REF!"}},{"$f":"IF(#REF!=\"\",\"\",COUNTIF(#REF!,\">\"\"\"))","v":{"$error":"#REF!"}},null,{"$f":"IFERROR(VLOOKUP(C988,Hidden_Словник!$A$2:$C$81,3,FALSE),\"\")","v":""},null,null,null,null,null,null,null,null,null,null,null,null,null,null,null,null,null,null,null,null,""]
[{"$f":"IF(#REF!>\"\",D989&\"_\"&#REF!&\"_\"&B989,\"\")","v":{"$error":"#REF!"}},{"$f":"IF(#REF!=\"\",\"\",COUNTIF(#REF!,\">\"\"\"))","v":{"$error":"#REF!"}},null,{"$f":"IFERROR(VLOOKUP(C989,Hidden_Словник!$A$2:$C$81,3,FALSE),\"\")","v":""},null,null,null,null,null,null,null,null,null,null,null,null,null,null,null,null,null,null,null,null,""]
[{"$f":"IF(#REF!>\"\",D990&\"_\"&#REF!&\"_\"&B990,\"\")","v":{"$error":"#REF!"}},{"$f":"IF(#REF!=\"\",\"\",COUNTIF(#REF!,\">\"\"\"))","v":{"$error":"#REF!"}},null,{"$f":"IFERROR(VLOOKUP(C990,Hidden_Словник!$A$2:$C$81,3,FALSE),\"\")","v":""},null,null,null,null,null,null,null,null,null,null,null,null,null,null,null,null,null,null,null,null,""]
[{"$f":"IF(#REF!>\"\",D991&\"_\"&#REF!&\"_\"&B991,\"\")","v":{"$error":"#REF!"}},{"$f":"IF(#REF!=\"\",\"\",COUNTIF(#REF!,\">\"\"\"))","v":{"$error":"#REF!"}},null,{"$f":"IFERROR(VLOOKUP(C991,Hidden_Словник!$A$2:$C$81,3,FALSE),\"\")","v":""},null,null,null,null,null,null,null,null,null,null,null,null,null,null,null,null,null,null,null,null,""]
[{"$f":"IF(#REF!>\"\",D992&\"_\"&#REF!&\"_\"&B992,\"\")","v":{"$error":"#REF!"}},{"$f":"IF(#REF!=\"\",\"\",COUNTIF(#REF!,\">\"\"\"))","v":{"$error":"#REF!"}},null,{"$f":"IFERROR(VLOOKUP(C992,Hidden_Словник!$A$2:$C$81,3,FALSE),\"\")","v":""},null,null,null,null,null,null,null,null,null,null,null,null,null,null,null,null,null,null,null,null,""]
[{"$f":"IF(#REF!>\"\",D993&\"_\"&#REF!&\"_\"&B993,\"\")","v":{"$error":"#REF!"}},{"$f":"IF(#REF!=\"\",\"\",COUNTIF(#REF!,\">\"\"\"))","v":{"$error":"#REF!"}},null,{"$f":"IFERROR(VLOOKUP(C993,Hidden_Словник!$A$2:$C$81,3,FALSE),\"\")","v":""},null,null,null,null,null,null,null,null,null,null,null,null,null,null,null,null,null,null,null,null,""]
[{"$f":"IF(#REF!>\"\",D994&\"_\"&#REF!&\"_\"&B994,\"\")","v":{"$error":"#REF!"}},{"$f":"IF(#REF!=\"\",\"\",COUNTIF(#REF!,\">\"\"\"))","v":{"$error":"#REF!"}},null,{"$f":"IFERROR(VLOOKUP(C994,Hidden_Словник!$A$2:$C$81,3,FALSE),\"\")","v":""},null,null,null,null,null,null,null,null,null,null,null,null,null,null,null,null,null,null,null,null,""]
[{"$f":"IF(#REF!>\"\",D995&\"_\"&#REF!&\"_\"&B995,\"\")","v":{"$error":"#REF!"}},{"$f":"IF(#REF!=\"\",\"\",COUNTIF(#REF!,\">\"\"\"))","v":{"$error":"#REF!"}},null,{"$f":"IFERROR(VLOOKUP(C995,Hidden_Словник!$A$2:$C$81,3,FALSE),\"\")","v":""},null,null,null,null,null,null,null,null,null,null,null,null,null,null,null,null,null,null,null,null,""]
[{"$f":"IF(#REF!>\"\",D996&\"_\"&#REF!&\"_\"&B996,\"\")","v":{"$error":"#REF!"}},{"$f":"IF(#REF!=\"\",\"\",COUNTIF(#REF!,\">\"\"\"))","v":{"$error":"#REF!"}},null,{"$f":"IFERROR(VLOOKUP(C996,Hidden_Словник!$A$2:$C$81,3,FALSE),\"\")","v":""},null,null,null,null,null,null,null,null,null,null,null,null,null,null,null,null,null,null,null,null,""]
[{"$f":"IF(#REF!>\"\",D997&\"_\"&#REF!&\"_\"&B997,\"\")","v":{"$error":"#REF!"}},{"$f":"IF(#REF!=\"\",\"\",COUNTIF(#REF!,\">\"\"\"))","v":{"$error":"#REF!"}},null,{"$f":"IFERROR(VLOOKUP(C997,Hidden_Словник!$A$2:$C$81,3,FALSE),\"\")","v":""},null,null,null,null,null,null,null,null,null,null,null,null,null,null,null,null,null,null,null,null,""]
[{"$f":"IF(#REF!>\"\",D998&\"_\"&#REF!&\"_\"&B998,\"\")","v":{"$error":"#REF!"}},{"$f":"IF(#REF!=\"\",\"\",COUNTIF(#REF!,\">\"\"\"))","v":{"$error":"#REF!"}},null,{"$f":"IFERROR(VLOOKUP(C998,Hidden_Словник!$A$2:$C$81,3,FALSE),\"\")","v":""},null,null,null,null,null,null,null,null,null,null,null,null,null,null,null,null,null,null,null,null,""]
[{"$f":"IF(#REF!>\"\",D999&\"_\"&#REF!&\"_\"&B999,\"\")","v":{"$error":"#REF!"}},{"$f":"IF(#REF!=\"\",\"\",COUNTIF(#REF!,\">\"\"\"))","v":{"$error":"#REF!"}},null,{"$f":"IFERROR(VLOOKUP(C999,Hidden_Словник!$A$2:$C$81,3,FALSE),\"\")","v":""},null,null,null,null,null,null,null,null,null,null,null,null,null,null,null,null,null,null,null,null,""]
[{"$f":"IF(#REF!>\"\",D1000&\"_\"&#REF!&\"_\"&B1000,\"\")","v":{"$error":"#REF!"}},{"$f":"IF(#REF!=\"\",\"\",COUNTIF(#REF!,\">\"\"\"))","v":{"$error":"#REF!"}},null,{"$f":"IFERROR(VLOOKUP(C1000,Hidden_Словник!$A$2:$C$81,3,FALSE),\"\")","v":""},null,null,null,null,null,null,null,null,null,null,null,null,null,null,null,null,null,null,null,null,""]
[{"$f":"IF(#REF!>\"\",D1001&\"_\"&#REF!&\"_\"&B1001,\"\")","v":{"$error":"#REF!"}},{"$f":"IF(#REF!=\"\",\"\",COUNTIF(#REF!,\">\"\"\"))","v":{"$error":"#REF!"}},null,{"$f":"IFERROR(VLOOKUP(C1001,Hidden_Словник!$A$2:$C$81,3,FALSE),\"\")","v":""},null,null,null,null,null,null,null,null,null,null,null,null,null,null,null,null,null,null,null,null,""]
[{"$f":"IF(#REF!>\"\",D1002&\"_\"&#REF!&\"_\"&B1002,\"\")","v":{"$error":"#REF!"}},{"$f":"IF(#REF!=\"\",\"\",COUNTIF(#REF!,\">\"\"\"))","v":{"$error":"#REF!"}},null,{"$f":"IFERROR(VLOOKUP(C1002,Hidden_Словник!$A$2:$C$81,3,FALSE),\"\")","v":""},null,null,null,null,null,null,null,null,null,null,null,null,null,null,null,null,null,null,null,null,""]
[{"$f":"IF(#REF!>\"\",D1003&\"_\"&#REF!&\"_\"&B1003,\"\")","v":{"$error":"#REF!"}},{"$f":"IF(#REF!=\"\",\"\",COUNTIF(#REF!,\">\"\"\"))","v":{"$error":"#REF!"}},null,{"$f":"IFERROR(VLOOKUP(C1003,Hidden_Словник!$A$2:$C$81,3,FALSE),\"\")","v":""},null,null,null,null,null,null,null,null,null,null,null,null,null,null,null,null,null,null,null,null,""]
[{"$f":"IF(#REF!>\"\",D1004&\"_\"&#REF!&\"_\"&B1004,\"\")","v":{"$error":"#REF!"}},{"$f":"IF(#REF!=\"\",\"\",COUNTIF(#REF!,\">\"\"\"))","v":{"$error":"#REF!"}},null,{"$f":"IFERROR(VLOOKUP(C1004,Hidden_Словник!$A$2:$C$81,3,FALSE),\"\")","v":""},null,null,null,null,null,null,null,null,null,null,null,null,null,null,null,null,null,null,null,null,""]
[{"$f":"IF(#REF!>\"\",D1005&\"_\"&#REF!&\"_\"&B1005,\"\")","v":{"$error":"#REF!"}},{"$f":"IF(#REF!=\"\",\"\",COUNTIF(#REF!,\">\"\"\"))","v":{"$error":"#REF!"}},null,{"$f":"IFERROR(VLOOKUP(C1005,Hidden_Словник!$A$2:$C$81,3,FALSE),\"\")","v":""},null,null,null,null,null,null,null,null,null,null,null,null,null,null,null,null,null,null,null,null,""]
[{"$f":"IF(#REF!>\"\",D1006&\"_\"&#REF!&\"_\"&B1006,\"\")","v":{"$error":"#REF!"}},{"$f":"IF(#REF!=\"\",\"\",COUNTIF(#REF!,\">\"\"\"))","v":{"$error":"#REF!"}},null,{"$f":"IFERROR(VLOOKUP(C1006,Hidden_Словник!$A$2:$C$81,3,FALSE),\"\")","v":""},null,null,null,null,null,null,null,null,null,null,null,null,null,null,null,null,null,null,null,null,""]
[{"$f":"IF(#REF!>\"\",D1007&\"_\"&#REF!&\"_\"&B1007,\"\")","v":{"$error":"#REF!"}},{"$f":"IF(#REF!=\"\",\"\",COUNTIF(#REF!,\">\"\"\"))","v":{"$error":"#REF!"}},null,{"$f":"IFERROR(VLOOKUP(C1007,Hidden_Словник!$A$2:$C$81,3,FALSE),\"\")","v":""},null,null,null,null,null,null,null,null,null,null,null,null,null,null,null,null,null,null,null,null,""]
[{"$f":"IF(#REF!>\"\",D1008&\"_\"&#REF!&\"_\"&B1008,\"\")","v":{"$error":"#REF!"}},{"$f":"IF(#REF!=\"\",\"\",COUNTIF(#REF!,\">\"\"\"))","v":{"$error":"#REF!"}},null,{"$f":"IFERROR(VLOOKUP(C1008,Hidden_Словник!$A$2:$C$81,3,FALSE),\"\")","v":""},null,null,null,null,null,null,null,null,null,null,null,null,null,null,null,null,null,null,null,null,""]
[{"$f":"IF(#REF!>\"\",D1009&\"_\"&#REF!&\"_\"&B1009,\"\")","v":{"$error":"#REF!"}},{"$f":"IF(#REF!=\"\",\"\",COUNTIF(#REF!,\">\"\"\"))","v":{"$error":"#REF!"}},null,{"$f":"IFERROR(VLOOKUP(C1009,Hidden_Словник!$A$2:$C$81,3,FALSE),\"\")","v":""},null,null,null,null,null,null,null,null,null,null,null,null,null,null,null,null,null,null,null,null,""]
[{"$f":"IF(#REF!>\"\",D1010&\"_\"&#REF!&\"_\"&B1010,\"\")","v":{"$error":"#REF!"}},{"$f":"IF(#REF!=\"\",\"\",COUNTIF(#REF!,\">\"\"\"))","v":{"$error":"#REF!"}},null,{"$f":"IFERROR(VLOOKUP(C1010,Hidden_Словник!$A$2:$C$81,3,FALSE),\"\")","v":""},null,null,null,null,null,null,null,null,null,null,null,null,null,null,null,null,null,null,null,null,""]

{"sheet":"2.Забезпечення","index":1,"n_rows":1089,"n_cols":13,"rows_kept":1089,"cut":false,"hidden":false,"merged":[[0,1,5,12]]}
[null,"Цей документ був підготовлений Фондом гарантування вкладів фізичних осіб (далі – Фонд) виключно для інформаційних цілей і не повинен вважатися як спонукання до будь-яких дій чи бездіяльності. \nІнформація, що міститься в цьому документі, була отримана з/або ґрунтується на джерелах, які вважаються надійними, але не є вичерпною та не може сприйматися як повна або актуальна. Зокрема, але не виключно, станом на дату придбання активів допускаються несуттєві зміни лота, в складі якого продаються такі активи. Під несуттєвими змінами лота слід розуміти такі зміни характеристик активів у складі такого лота, які впливають на його балансову вартість, але не більше ніж на 10 відсотків. Рішення покупця щодо будь-яких дій або бездіяльності повинно ґрунтуватися на власних оцінках та дослідженнях майна (активу/активів), котре реалізується. Фонд не несе відповідальності за рішення покупця та його наслідки, що ґрунтується на інформації, викладеній в даному документі."]
[]
[]
[]
[]
[]
[]
[]
["Звітна дата",":","2019-01-01"]
["unicid","Colateral_ID","Банк","№ кред. Дог","Тип застави","Кількість застави","(га, м2, шт., тощо)","Область знаходження застави","Населений пункт (місто/село/смт.)","Сума/вартість за договором (грн.екв.)","Реєстрація у держ. Реєстрі (обтяження)\n(так/ні)","Ознака банкрутства/ліквідації заставодавця/фінансового поручителя(відповідно ЄДР на дату заповнення паспорту)","Додаткові коментарі про заставу (у випадку наявності в Банку інформації, в т.ч. щодо виведення застави, руйнування, знаходження в розшуку, тощо)"]
["320854_37230343_1","320854_411796323362711","ДІАМАНТБАНК","455","обладнання",113,"шт.","Автономна Республіка Крим","Сімферополь",411796,"НІ","Діюче","невідомо (АР Крим)"]
["320854_37230343_2","320854_199302323362711","ДІАМАНТБАНК","456","обладнання",5,"шт.","Автономна Республіка Крим","Сімферополь",199302,"НІ","Діюче","невідомо (АР Крим)"]
["320854_33433758_3","320854_227000223362711","ДІАМАНТБАНК","474","транспорт",1,"шт.","Автономна Республіка Крим","Сімферополь",227000,"НІ","Діюче","невідомо (АР Крим)"]
["320854_33433758_4","320854_104860323362711","ДІАМАНТБАНК","475","обладнання",1,"шт.","Автономна Республіка Крим","Сімферополь",104860,"НІ","Діюче","невідомо (АР Крим)"]
["320854_33433758_5","320854_67581323362711","ДІАМАНТБАНК","489","обладнання",1,"шт.","Автономна Республіка Крим","Сімферополь",67580.95,"НІ","Діюче","невідомо (АР Крим)"]
["320854_32764906_6","320854_651708023362711","ДІАМАНТБАНК","483","інше",987,"шт.","Автономна Республіка Крим","Ялта",651708,"НІ","Діюче","невідомо (АР Крим)"]
["320854_37624159_7","320854_780800223362711","ДІАМАНТБАНК","517","транспорт",1,"шт.","Кіровоградська","Кропивницький",780800,"ТАК","Діюче","Наявне"]
["320854_16322987_1","320854_248682302037714312; 16322987","ДІАМАНТБАНК","094","інше",3,"шт.","Автономна Республіка Крим","Сімферополь",2486822.11,"ТАК","Діюче","невідомо"]
["320854_2455612543_2","320854_126000012455612543","ДІАМАНТБАНК","04","нерухомість",1,"шт.","Автономна Республіка Крим","Сімферополь",1260000,"ТАК","Діюче","невідомо"]
["320854_39374960_3","320854_105840023087718437","ДІАМАНТБАНК","052","транспорт",1,"шт.","Київ","Київ",1058400,"ТАК","Діюче","Відсутнє (інше)"]
["320854_36343400_4","320854_080","ДІАМАНТБАНК","226","беззаставний"]
["320854_04836770_5","320854_5632459004836770","ДІАМАНТБАНК","358","інше",3,"од.","Автономна Республіка Крим","Саки",5632459,"ТАК","Діюче","невідомо"]
["320854_32644537_6","320854_080","ДІАМАНТБАНК","538","беззаставний"]
["320854_33755274_7","320854_080","ДІАМАНТБАНК","558","беззаставний"]
["380719_05747991_1","380719_88495576605747991","ВБР","KKPOD.80407.006","майнові права","-","-","-","-",88495575.219999999,"ТАК","Діюче","Наявне"]
["380719_05747991_1","380719_88495576605747991","ВБР","KKPOD.80407.006","майнові права","-","-","-","-",88495575.219999999,"ТАК","Діюче","Наявне"]
["380719_05747991_1","380719_88495576605747991","ВБР","KKPOD.80407.006","майнові права","-","-","-","-",88495575.219999999,"ТАК","Діюче","Наявне"]
["380719_05747991_1","380719_92709651605747991","ВБР","KKPOD.80407.006","майнові права","-","-","-","-",92709650.230000004,"ТАК","Діюче","Наявне"]
["380719_05747991_1","380719_112247635605747991","ВБР","KKPOD.80407.006","майнові права","-","-","-","-",112247634.37,"ТАК","Діюче","Наявне"]
["380719_05747991_1","380719_105351876605747991","ВБР","KKPOD.80407.006","майнові права","-","-","-","-",105351875.26000001,"ТАК","Діюче","Наявне"]
["380719_05747991_1","380719_13839081605747991","ВБР","KKPOD.80407.006","майнові права","-","-","-","-",13839080.199999999,"ТАК","Діюче","Наявне"]
["380719_05747991_1","380719_12533024605747991","ВБР","KKPOD.80407.006","майнові права","-","-","-","-",12533024,"ТАК","Діюче","Наявне"]
["380719_05747991_1","380719_69090910605747991","ВБР","KKPOD.80407.006","майнові права","-","-","-","-",69090909.090000004,"ТАК","Діюче","Наявне"]
["380719_05747991_1","380719_36530284605747991","ВБР","KKPOD.80407.006","майнові права","-","-","-","-",36530283.875399999,"ТАК","Діюче","Наявне"]
["380719_05747991_2","380719_88495576605747991","ВБР","KKPOD.80407.017","майнові права","-","-","-","-",88495575.219999999,"ТАК","Діюче","Наявне"]
["380719_05747991_2","380719_88495576605747991","ВБР","KKPOD.80407.017","майнові права","-","-","-","-",88495575.219999999,"ТАК","Діюче","Наявне"]
["380719_05747991_2","380719_88495576605747991","ВБР","KKPOD.80407.017","майнові права","-","-","-","-",88495575.219999999,"ТАК","Діюче","Наявне"]
["380719_05747991_2","380719_92709651605747991","ВБР","KKPOD.80407.017","майнові права","-","-","-","-",92709650.230000004,"ТАК","Діюче","Наявне"]
["380719_05747991_2","380719_112247635605747991","ВБР","KKPOD.80407.017","майнові права","-","-","-","-",112247634.37,"ТАК","Діюче","Наявне"]
["380719_05747991_2","380719_105351876605747991","ВБР","KKPOD.80407.017","майнові права","-","-","-","-",105351875.26000001,"ТАК","Діюче","Наявне"]
["380719_05747991_2","380719_13839081605747991","ВБР","KKPOD.80407.017","майнові права","-","-","-","-",13839080.199999999,"ТАК","Діюче","Наявне"]
["380719_05747991_2","380719_12533024605747991","ВБР","KKPOD.80407.017","майнові права","-","-","-","-",12533024,"ТАК","Діюче","Наявне"]
["380719_05747991_2","380719_69090910605747991","ВБР","KKPOD.80407.017","майнові права","-","-","-","-",69090909.090000004,"ТАК","Діюче","Наявне"]
["380719_05747991_2","380719_36530284605747991","ВБР","KKPOD.80407.017","майнові права","-","-","-","-",36530283.875399999,"ТАК","Діюче","Наявне"]
["380719_05747991_3","380719_88495576605747991","ВБР","KKPOD.80407.024","майнові права","-","-","-","-",88495575.219999999,"ТАК","Діюче","Наявне"]
["380719_05747991_3","380719_88495576605747991","ВБР","KKPOD.80407.024","майнові права","-","-","-","-",88495575.219999999,"ТАК","Діюче","Наявне"]
["380719_05747991_3","380719_88495576605747991","ВБР","KKPOD.80407.024","майнові права","-","-","-","-",88495575.219999999,"ТАК","Діюче","Наявне"]
["380719_05747991_3","380719_92709651605747991","ВБР","KKPOD.80407.024","майнові права","-","-","-","-",92709650.230000004,"ТАК","Діюче","Наявне"]
["380719_05747991_3","380719_112247635605747991","ВБР","KKPOD.80407.024","майнові права","-","-","-","-",112247634.37,"ТАК","Діюче","Наявне"]
["380719_05747991_3","380719_105351876605747991","ВБР","KKPOD.80407.024","майнові права","-","-","-","-",105351875.26000001,"ТАК","Діюче","Наявне"]
["380719_05747991_3","380719_13839081605747991","ВБР","KKPOD.80407.024","майнові права","-","-","-","-",13839080.199999999,"ТАК","Діюче","Наявне"]
["380719_05747991_3","380719_12533024605747991","ВБР","KKPOD.80407.024","майнові права","-","-","-","-",12533024,"ТАК","Діюче","Наявне"]
["380719_05747991_3","380719_69090910605747991","ВБР","KKPOD.80407.024","майнові права","-","-","-","-",69090909.090000004,"ТАК","Діюче","Наявне"]
["380719_05747991_3","380719_36530284605747991","ВБР","KKPOD.80407.024","майнові права","-","-","-","-",36530283.875399999,"ТАК","Діюче","Наявне"]
["320702_1899001292_1","320702_41500041899001292","Національний кредит","54/07","товари",590,"т","Запорізька","Запоріжжя",415000,null,null,"Відсутнє (інше)"]
["320702_1899001292_1","320702_3500031899001292","Національний кредит","54/07","обладнання",null,null,"Запорізька","Запоріжжя",35000,null,null,"Відсутнє (інше)"]
["320702_2882405335_2","320702_080","Національний кредит","41/07","беззаставний"]
["320702__3","","Національний кредит",0]
["320702__4","","Національний кредит",0]
["320702__5","","Національний кредит",0]
["320702_22138880_6","320702_5900003 2606007471","Національний кредит","08/08","обладнання",null,null,"Запорізька","Запоріжжя",590000,null,null,"Відсутнє (інше)"]
["320702_22138880_6","320702_6600004 2606007471","Національний кредит","08/08","товари",null,null,"Запорізька","Запоріжжя",660000,null,null,"Відсутнє (інше)"]
["328210_36849691_1","328210_139852272907214737/38016918","ІНВЕСТБАНК","104-12","фінансова порука",null,null,null,null,1398521.63,null,"Діюче"]
["328210_22458998_2","328210_080","ІНВЕСТБАНК",12,"беззаставний"]
["328210_35048706_3","328210_080","ІНВЕСТБАНК","74/08","беззаставний"]
["319111_36407233_1","","Радикал","6989-О-2","Порука"," ",null,null,null,180000,null,"Діюче"]
["300056__1","300056_080","Легбанк",0,"беззаставний"]
["320995_36336435_1","320995_195176336336435","БГ банк","22","обладнання",56,"шт.","Київ","Київ",195175.07,"ТАК","Діюче","Наявне"]
["320995_36336435_1","320995_7999670","БГ банк","22","фінансова порука",1,"од.",null,null,79995.08,null,null,"Наявне"]
["320995_36336435_1","320995_7999670","БГ банк","22","фінансова порука",1,"од.",null,null,79995.08,null,null,"Наявне"]
["380388_32998525_1","380388_71400072800609560","Платинум Банк","39г-10","фінансова порука",null,null,null,null,714000,null,null,"Наявне"]
["380388_32998525_1","380388_71400072761818817","Платинум Банк","39г-10","фінансова порука",null,null,null,null,714000,null,null,"Наявне"]
["380388_32998525_1","380388_71400072517611099","Платинум Банк","39г-10","фінансова порука",null,null,null,null,714000,null,null,"Наявне"]
["380537_31455881_1","380537_402710000631455881","ВіЕйБі","3","майнові права",null,null,null,null,402710000,"ТАК",null,"Відсутнє (інше)"]
["380537_31032802_2","380537_080","ВіЕйБі","б/н","беззаставний"]
["380537_30446130_3","380537_080","ВіЕйБі","05/К-03ю","беззаставний"]
["380537_31803336_4","380537_080","ВіЕйБі","56","беззаставний"]
["380537_32277832_5","380537_44379205632277832","ВіЕйБі","08/06ю","майнові права",null,null,null,null,44379205,"ТАК","Банкрутство","Відсутнє (інше)"]
["380537_34431924_6","380537_48131550634431924","ВіЕйБі","116","майнові права",null,null,null,null,48131550,"ТАК","Ліквідовано","Наявне"]
["380537_33755075_7","380537_080","ВіЕйБі","24-08","беззаставний"]
["380537_32162756_8","380537_080","ВіЕйБі","10","беззаставний"]
["380537_3094722171_9","380537_9053012510502091","ВіЕйБі","7/07-SME","нерухомість",93.7,"м.кв.","Луганська","Алчевськ",90530,"ТАК","Ліквідовано","Наявне"]
["300131_24725713_1","","Фінанси та Кредит","18-01-07","без забезпечення","-","-","-","-","-","-","-","-"]
["334969_30530740_1","334969_420000030530740","Укрбізнесбанк","5/ю","інше",1,"од.","Донецька","Донецьк",420000,"ТАК","Діюче","Наявне"]
["334969_30530740_1","334969_51000330530740","Укрбізнесбанк","5/ю","обладнання",1,"од.","Донецька","Донецьк",51000,"ТАК","Діюче","Наявне"]
["334969_34541410_2","334969_080","Укрбізнесбанк","14-CевОв  ","беззаставний"]
["334969_31173285_3","334969_3990191130480449","Укрбізнесбанк","15-СевВЛ","нерухомість",205.1,"м.кв.","Автономна Республіка Крим","Ялта",3990191,"НІ","Діюче","Наявне"]
["334969_31173285_3","334969_21275330480449","Укрбізнесбанк","15-СевВЛ","обладнання",491,"шт.","Автономна Республіка Крим","Ялта",21275,"НІ","Діюче","Наявне"]
["334969_31173285_3","334969_450000072724011777","Укрбізнесбанк","15-СевВЛ","фінансова порука",1,"од.","Автономна Республіка Крим","Сімферополь",4500000,"НІ","Діюче","Наявне"]
["380236_31305004_1","380236_19099080131305004","Дельта","837 К-Н","нерухомість",1342.2,"м.кв.","Чернівецька",null,19099080,"ТАК","Діюче"]
["380236_31305004_1","380236_1165000631305004","Дельта","837 К-Н","майнові права",1,"шт.","Київ","Київ",1165000,"ТАК","Діюче"]
["380236_31305004_1","380236_3523300631305004","Дельта","837 К-Н","майнові права",1,"шт.","Київ","Київ",3523300,"ТАК","Діюче"]
["380236_31305004_1","380236_6172700631305004","Дельта","837 К-Н","майнові права",1,"шт.","Київ","Київ",6172700,"ТАК","Діюче"]
["380236_31305004_1","380236_5606873467 30113927","Дельта","837 К-Н","фінансова порука",1,"од.","Київ","Київ",560687346,"ТАК","Діюче"]
["380236_31305004_1","380236_36737224131305004, 32182882","Дельта","837 К-Н","нерухомість",2932.3,"м.кв.","Донецька","Донецьк",36737224,"ТАК","Діюче"]
["380236_31305004_1","380236_32140080131305004","Дельта","837 К-Н","нерухомість",2590.6999999999998,"м.кв.","Дніпропетровська","Дніпро (Дніпропетровськ)",32140080,"ТАК","Діюче"]
["380236_30333638_2","380236_080","Дельта","02/014/08-КЛТ","беззаставний"]
["380236_2545308895_3","380236_10000022432000113","Дельта","03/1/73/05-Z","транспорт",2,"од.","Миколаївська",null,100000,"НІ","Інше"]
["380236_2545308895_3","380236_13700022545308895","Дельта","03/1/73/05-Z","транспорт",1,"од.","Одеська","Одеса",137000,"НІ","Інше"]
["380236_30342773_4","380236_080","Дельта","02/020/08-КЛТ","беззаставний"]
["380236_31043568_5","380236_080","Дельта","02/072/08-КЛТ","беззаставний"]
["380236_33188879_6","380236_080","Дельта","02/169/07-КЛТ","беззаставний"]
["380236_30059514_7","380236_080","Дельта","05/19/2006-КЛВ","беззаставний"]
["380236_31018374_8","380236_080","Дельта","3.3ДС/268/2008-КЛТ","беззаставний"]
["380236_33080355_9","380236_1053664335521039","Дельта","02/009/09-КЛТ","обладнання",101,"од.","Миколаївська",null,1053664,"ТАК","Діюче"]
["380236_33080355_10","380236_080","Дельта","02/081/08-КЛТ","беззаставний"]
["380236_33080355_11","380236_080","Дельта","02/104/08-КЛТ","беззаставний"]
["380236_31042941_12","380236_080","Дельта","02/059/08-КЛТ","беззаставний"]
["380236_31042941_13","380236_080","Дельта","02/107/07-КЛТ","беззаставний"]
["380236_31613639_14","380236_15959460431613639","Дельта","02/106/08-КЛТ","товари",2901.72,"т","Миколаївська",null,15959460,"ТАК","Діюче"]
["380236_32228880_15","380236_866580234949789","Дельта","02/186/07-КЛТ","транспорт",3,"од.","Миколаївська",null,866580,"ТАК","Банкрутство"]
["380236_32228880_15","380236_3215300432228880","Дельта","02/186/07-КЛТ","товари",407,"т","Миколаївська",null,3215300,"НІ","Діюче"]
["380236_31369120_16","380236_227349334074599 ","Дельта","04.1/55/06-КЛТ","обладнання",4,"од.","Херсонська","Херсон",227349,"ТАК","Діюче"]
["380236_31463094_17","380236_2000099432875218","Дельта","04/22/07-КЛТ","товари",9139,"шт.","Хмельницька","Дунаївці",2000098.8,"ТАК","Банкрутство"]
["380236_33869158_18","380236_123083322897603658 ","Дельта","04/24/07-КЛТ","транспорт",1,"од.","Запорізька","Токмак",1230833,"ТАК","Інше"]
["380236_33382337_19","380236_1450197333382337","Дельта","05/67/2006-КЛВ","обладнання",7,"од.","Дніпропетровська",null,1450197,"ТАК","В стані припинення (крім банкрутства)"]
["380236_30511875_20","380236_1008334430511875","Дельта","07/038/06-КЛТ","товари",50,"шт.","Харківська","Харків",1008333.5,"ТАК","В стані припинення (крім банкрутства)"]
["380236_2819202415_21","380236_080","Дельта","0709/17/05-А","беззаставний"]
["380236_32843118_22","380236_080","Дельта","22/88-Т-05","беззаставний"]
["380236_33256640_23","380236_080","Дельта","23/К-07","беззаставний"]
["380236_32284441_24","380236_080","Дельта","49.8.2/05/2007-К","беззаставний"]
["319092_32979130_1","319092_21868022730920681","Київськая Русь","59106-44.15","транспорт",1,"од.","Київська"," с. Н. Петрівці",218680,"ТАК","Громадянка Білорусії - фізична особа","Наявне"]
["319092_32979130_1","319092_10000072322402454","Київськая Русь","59106-44.15","фінансова порука",100000,"грн."," Київ"," Київ",100000,null,"фізична особа"]
["319092_2261722641_2","319092_34889412321420237","Київськая Русь","19401-45.12","нерухомість",48.2,"кв.м.","АРКрим","м.Феодосія",348894,"ТАК","фізична особа","Наявне (знаходиться в АРК)"]
["319092_2261722641_2","319092_22000072321420237","Київськая Русь","19401-45.12","фінансова порука",220000,"грн.","АРКрим","м.Феодосія",220000,null,"фізична особа"]
["319092_37501920_6","319092_7148822699011638","Київськая Русь","16202-20/12-1","транспорт",1,"шт","Київ","Київ",71488,"НІ","фізична особа","відсутнє (інше)"]
["319092_37501920_6","","Київськая Русь","16202-20/12-1","товари в обороті",22,"позиції","Київ","Київ",577577,"НІ","Діюче","відсутнє (інше)"]
["319092_37501920_6","319092_427126337501920","Київськая Русь","16202-20/12-1","обладнання",4,"од.","Київ","Київ",427126,"НІ","Діюче","відсутнє (інше)"]
["319092_37501920_6","319092_40000072699011638","Київськая Русь","16202-20/12-1","фінансова порука",400000,"грн.","Київ","Київ",400000,null,"фізична особа"]
["300056_23227999_1","300056_080","Легбанк","07","беззаставний"]
["_36135129_1","","БАНК БОГУСЛАВ","15/01-КР-25/2012","нерухомість",201.4,"м2","Київ","Київ",10049000,"так",null,"наявне"]
["_36135129_1","","БАНК БОГУСЛАВ","15/01-КР-25/2012","нерухомість",225.7,"м2","Київ","Київ",6917000,"так",null,"наявне"]
["_36135129_1","","БАНК БОГУСЛАВ","15/01-КР-25/2012","нерухомість",141.5,"м2","Київ","Київ",11661000,"так",null,"наявне"]
["_36135129_1","","БАНК БОГУСЛАВ","15/01-КР-25/2012","товари",2594,"найменувань","Київ","Київ",16000003.560000001,"так",null,"відсутнє"]
["_36135129_1","","БАНК БОГУСЛАВ","15/01-КР-25/2012","майнові права",1,"шт",null,null,8026564.2000000011,"так",null,"відсутнє"]
["_36135129_1","","БАНК БОГУСЛАВ","15/01-КР-25/2012","майнові права",1,"шт",null,null,4013282.1000000006,"так",null,"відсутнє"]
["_36135129_1","","БАНК БОГУСЛАВ","15/01-КР-25/2012","майнові права",1,"шт",null,null,3126079.2,"так",null,"відсутнє"]
[null,"","",""]
[null,"","",""]
[null,"","",""]
[null,"","",""]
[null,"","",""]
[null,"","",""]
[null,"","",""]
[null,"","",""]
[null,"","",""]
[null,"","",""]
[null,"","",""]
[null,"","",""]
[null,"","",""]
[null,"","",""]
[null,"","",""]
[null,"","",""]
[null,"","",""]
[null,"","",""]
[null,"","",""]
[null,"","",""]
[null,"","",""]
[null,"","",""]
[null,"","",""]
[null,"","",""]
[null,"","",""]
[null,"","",""]
[null,"","",""]
[null,"","",""]
[null,"","",""]
[null,"","",""]
[null,"","",""]
[null,"","",""]
[null,"","",""]
[null,"","",""]
[null,"","",""]
[null,"","",""]
[null,"","",""]
[null,"","",""]
[null,"","",""]
[null,"","",""]
[null,"","",""]
[null,"","",""]
[null,"","",""]
[null,"","",""]
[null,"","",""]
[null,"","",""]
[null,"","",""]
[null,"","",""]
[null,"","",""]
[null,"","",""]
[null,"","",""]
[null,"","",""]
[null,"","",""]
[null,"","",""]
[null,"","",""]
[null,"","",""]
[null,"","",""]
[null,"","",""]
[null,"","",""]
[null,"","",""]
[null,"","",""]
[null,"","",""]
[null,"","",""]
[null,"","",""]
[null,"","",""]
[null,"","",""]
[null,"","",""]
[null,"","",""]
[null,"","",""]
[null,"","",""]
[null,"","",""]
[null,"","",""]
[null,"","",""]
[null,"","",""]
[null,"","",""]
[null,"","",""]
[null,"","",""]
[null,"","",""]
[null,"","",""]
[null,"","",""]
[null,"","",""]
[null,"","",""]
[null,"","",""]
[null,"","",""]
[null,"","",""]
[null,"","",""]
[null,"","",""]
[null,"","",""]
[null,"","",""]
[null,"","",""]
[null,"","",""]
[null,"","",""]
[null,"","",""]
[null,"","",""]
[null,"","",""]
[null,"","",""]
[null,"","",""]
[null,"","",""]
[null,"","",""]
[null,"","",""]
[null,"","",""]
[null,"","",""]
[null,"","",""]
[null,"","",""]
[null,"","",""]
[null,"","",""]
[null,"","",""]
[null,"","",""]
[null,"","",""]
[null,"","",""]
[null,"","",""]
[null,"","",""]
[null,"","",""]
[null,"","",""]
[null,"","",""]
[null,"","",""]
[null,"","",""]
[null,"","",""]
[null,"","",""]
[null,"","",""]
[null,"","",""]
[null,"","",""]
[null,"","",""]
[null,"","",""]
[null,"","",""]
[null,"","",""]
[null,"","",""]
[null,"","",""]
[null,"","",""]
[null,"","",""]
[null,"","",""]
[null,"","",""]
[null,"","",""]
[null,"","",""]
[null,"","",""]
[null,"","",""]
[null,"","",""]
[null,"","",""]
[null,"","",""]
[null,"","",""]
[null,"","",""]
[null,"","",""]
[null,"","",""]
[null,"","",""]
[null,"","",""]
[null,"","",""]
[null,"","",""]
[null,"","",""]
[null,"","",""]
[null,"","",""]
[null,"","",""]
[null,"","",""]
[null,"","",""]
[null,"","",""]
[null,"","",""]
[null,"","",""]
[null,"","",""]
[null,"","",""]
[null,"","",""]
[null,"","",""]
[null,"","",""]
[null,"","",""]
[null,"","",""]
[null,"","",""]
[null,"","",""]
[null,"","",""]
[null,"","",""]
[null,"","",""]
[null,"","",""]
[null,"","",""]
[null,"","",""]
[null,"","",""]
[null,"","",""]
[null,"","",""]
[null,"","",""]
[null,"","",""]
[null,"","",""]
[null,"","",""]
[null,"","",""]
[null,"","",""]
[null,"","",""]
[null,"","",""]
[null,"","",""]
[null,"","",""]
[null,"","",""]
[null,"","",""]
[null,"","",""]
[null,"","",""]
[null,"","",""]
[null,"","",""]
[null,"","",""]
[null,"","",""]
[null,"","",""]
[null,"","",""]
[null,"","",""]
[null,"","",""]
[null,"","",""]
[null,"","",""]
[null,"","",""]
[null,"","",""]
[null,"","",""]
[null,"","",""]
[null,"","",""]
[null,"","",""]
[null,"","",""]
[null,"","",""]
[null,"","",""]
[null,"","",""]
[null,"","",""]
[null,"","",""]
[null,"","",""]
[null,"","",""]
[null,"","",""]
[null,"","",""]
[null,"","",""]
[null,"","",""]
[null,"","",""]
[null,"","",""]
[null,"","",""]
[null,"","",""]
[null,"","",""]
[null,"","",""]
[null,"","",""]
[null,"","",""]
[null,"","",""]
[null,"","",""]
[null,"","",""]
[null,"","",""]
[null,"","",""]
[null,"","",""]
[null,"","",""]
[null,"","",""]
[null,"","",""]
[null,"","",""]
[null,"","",""]
[null,"","",""]
[null,"","",""]
[null,"","",""]
[null,"","",""]
[null,"","",""]
[null,"","",""]
[null,"","",""]
[null,"","",""]
[null,"","",""]
[null,"","",""]
[null,"","",""]
[null,"","",""]
[null,"","",""]
[null,"","",""]
[null,"","",""]
[null,"","",""]
[null,"","",""]
[null,"","",""]
[null,"","",""]
[null,"","",""]
[null,"","",""]
[null,"","",""]
[null,"","",""]
[null,"","",""]
[null,"","",""]
[null,"","",""]
[null,"","",""]
[null,"","",""]
[null,"","",""]
[null,"","",""]
[null,"","",""]
[null,"","",""]
[null,"","",""]
[null,"","",""]
[null,"","",""]
[null,"","",""]
[null,"","",""]
[null,"","",""]
[null,"","",""]
[null,"","",""]
[null,"","",""]
[null,"","",""]
[null,"","",""]
[null,"","",""]
[null,"","",""]
[null,"","",""]
[null,"","",""]
[null,"","",""]
[null,"","",""]
[null,"","",""]
[null,"","",""]
[null,"","",""]
[null,"","",""]
[null,"","",""]
[null,"","",""]
[null,"","",""]
[null,"","",""]
[null,"","",""]
[null,"","",""]
[null,"","",""]
[null,"","",""]
[null,"","",""]
[null,"","",""]
[null,"","",""]
[null,"","",""]
[null,"","",""]
[null,"","",""]
[null,"","",""]
[null,"","",""]
[null,"","",""]
[null,"","",""]
[null,"","",""]
[null,"","",""]
[null,"","",""]
[null,"","",""]
[null,"","",""]
[null,"","",""]
[null,"","",""]
[null,"","",""]
[null,"","",""]
[null,"","",""]
[null,"","",""]
[null,"","",""]
[null,"","",""]
[null,"","",""]
[null,"","",""]
[null,"","",""]
[null,"","",""]
[null,"","",""]
[null,"","",""]
[null,"","",""]
[null,"","",""]
[null,"","",""]
[null,"","",""]
[null,"","",""]
[null,"","",""]
[null,"","",""]
[null,"","",""]
[null,"","",""]
[null,"","",""]
[null,"","",""]
[null,"","",""]
[null,"","",""]
[null,"","",""]
[null,"","",""]
[null,"","",""]
[null,"","",""]
[null,"","",""]
[null,"","",""]
[null,"","",""]
[null,"","",""]
[null,"","",""]
[null,"","",""]
[null,"","",""]
[null,"","",""]
[null,"","",""]
[null,"","",""]
[null,"","",""]
[null,"","",""]
[null,"","",""]
[null,"","",""]
[null,"","",""]
[null,"","",""]
[null,"","",""]
[null,"","",""]
[null,"","",""]
[null,"","",""]
[null,"","",""]
[null,"","",""]
[null,"","",""]
[null,"","",""]
[null,"","",""]
[null,"","",""]
[null,"","",""]
[null,"","",""]
[null,"","",""]
[null,"","",""]
[null,"","",""]
[null,"","",""]
[null,"","",""]
[null,"","",""]
[null,"","",""]
[null,"","",""]
[null,"","",""]
[null,"","",""]
[null,"","",""]
[null,"","",""]
[null,"","",""]
[null,"","",""]
[null,"","",""]
[null,"","",""]
[null,"","",""]
[null,"","",""]
[null,"","",""]
[null,"","",""]
[null,"","",""]
[null,"","",""]
[null,"","",""]
[null,"","",""]
[null,"","",""]
[null,"","",""]
[null,"","",""]
[null,"","",""]
[null,"","",""]
[null,"","",""]
[null,"","",""]
[null,"","",""]
[null,"","",""]
[null,"","",""]
[null,"","",""]
[null,"","",""]
[null,"","",""]
[null,"","",""]
[null,"","",""]
[null,"","",""]
[null,"","",""]
[null,"","",""]
[null,"","",""]
[null,"","",""]
[null,"","",""]
[null,"","",""]
[null,"","",""]
[null,"","",""]
[null,"","",""]
[null,"","",""]
[null,"","",""]
[null,"","",""]
[null,"","",""]
[null,"","",""]
[null,"","",""]
[null,"","",""]
[null,"","",""]
[null,"","",""]
[null,"","",""]
[null,"","",""]
[null,"","",""]
[null,"","",""]
[null,"","",""]
[null,"","",""]
[null,"","",""]
[null,"","",""]
[null,"","",""]
[null,"","",""]
[null,"","",""]
[null,"","",""]
[null,"","",""]
[null,"","",""]
[null,"","",""]
[null,"","",""]
[null,"","",""]
[null,"","",""]
[null,"","",""]
[null,"","",""]
[null,"","",""]
[null,"","",""]
[null,"","",""]
[null,"","",""]
[null,"","",""]
[null,"","",""]
[null,"","",""]
[null,"","",""]
[null,"","",""]
[null,"","",""]
[null,"","",""]
[null,"","",""]
[null,"","",""]
[null,"","",""]
[null,"","",""]
[null,"","",""]
[null,"","",""]
[null,"","",""]
[null,"","",""]
[null,"","",""]
[null,"","",""]
[null,"","",""]
[null,"","",""]
[null,"","",""]
[null,"","",""]
[null,"","",""]
[null,"","",""]
[null,"","",""]
[null,"","",""]
[null,"","",""]
[null,"","",""]
[null,"","",""]
[null,"","",""]
[null,"","",""]
[null,"","",""]
[null,"","",""]
[null,"","",""]
[null,"","",""]
[null,"","",""]
[null,"","",""]
[null,"","",""]
[null,"","",""]
[null,"","",""]
[null,"","",""]
[null,"","",""]
[null,"","",""]
[null,"","",""]
[null,"","",""]
[null,"","",""]
[null,"","",""]
[null,"","",""]
[null,"","",""]
[null,"","",""]
[null,"","",""]
[null,"","",""]
[null,"","",""]
[null,"","",""]
[null,"","",""]
[null,"","",""]
[null,"","",""]
[null,"","",""]
[null,"","",""]
[null,"","",""]
[null,"","",""]
[null,"","",""]
[null,"","",""]
[null,"","",""]
[null,"","",""]
[null,"","",""]
[null,"","",""]
[null,"","",""]
[null,"","",""]
[null,"","",""]
[null,"","",""]
[null,"","",""]
[null,"","",""]
[null,"","",""]
[null,"","",""]
[null,"","",""]
[null,"","",""]
[null,"","",""]
[null,"","",""]
[null,"","",""]
[null,"","",""]
[null,"","",""]
[null,"","",""]
[null,"","",""]
[null,"","",""]
[null,"","",""]
[null,"","",""]
[null,"","",""]
[null,"","",""]
[null,"","",""]
[null,"","",""]
[null,"","",""]
[null,"","",""]
[null,"","",""]
[null,"","",""]
[null,"","",""]
[null,"","",""]
[null,"","",""]
[null,"","",""]
[null,"","",""]
[null,"","",""]
[null,"","",""]
[null,"","",""]
[null,"","",""]
[null,"","",""]
[null,"","",""]
[null,"","",""]
[null,"","",""]
[null,"","",""]
[null,"","",""]
[null,"","",""]
[null,"","",""]
[null,"","",""]
[null,"","",""]
[null,"","",""]
[null,"","",""]
[null,"","",""]
[null,"","",""]
[null,"","",""]
[null,"","",""]
[null,"","",""]
[null,"","",""]
[null,"","",""]
[null,"","",""]
[null,"","",""]
[null,"","",""]
[null,"","",""]
[null,"","",""]
[null,"","",""]
[null,"","",""]
[null,"","",""]
[null,"","",""]
[null,"","",""]
[null,"","",""]
[null,"","",""]
[null,"","",""]
[null,"","",""]
[null,"","",""]
[null,"","",""]
[null,"","",""]
[null,"","",""]
[null,"","",""]
[null,"","",""]
[null,"","",""]
[null,"","",""]
[null,"","",""]
[null,"","",""]
[null,"","",""]
[null,"","",""]
[null,"","",""]
[null,"","",""]
[null,"","",""]
[null,"","",""]
[null,"","",""]
[null,"","",""]
[null,"","",""]
[null,"","",""]
[null,"","",""]
[null,"","",""]
[null,"","",""]
[null,"","",""]
[null,"","",""]
[null,"","",""]
[null,"","",""]
[null,"","",""]
[null,"","",""]
[null,"","",""]
[null,"","",""]
[null,"","",""]
[null,"","",""]
[null,"","",""]
[null,"","",""]
[null,"","",""]
[null,"","",""]
[null,"","",""]
[null,"","",""]
[null,"","",""]
[null,"","",""]
[null,"","",""]
[null,"","",""]
[null,"","",""]
[null,"","",""]
[null,"","",""]
[null,"","",""]
[null,"","",""]
[null,"","",""]
[null,"","",""]
[null,"","",""]
[null,"","",""]
[null,"","",""]
[null,"","",""]
[null,"","",""]
[null,"","",""]
[null,"","",""]
[null,"","",""]
[null,"","",""]
[null,"","",""]
[null,"","",""]
[null,"","",""]
[null,"","",""]
[null,"","",""]
[null,"","",""]
[null,"","",""]
[null,"","",""]
[null,"","",""]
[null,"","",""]
[null,"","",""]
[null,"","",""]
[null,"","",""]
[null,"","",""]
[null,"","",""]
[null,"","",""]
[null,"","",""]
[null,"","",""]
[null,"","",""]
[null,"","",""]
[null,"","",""]
[null,"","",""]
[null,"","",""]
[null,"","",""]
[null,"","",""]
[null,"","",""]
[null,"","",""]
[null,"","",""]
[null,"","",""]
[null,"","",""]
[null,"","",""]
[null,"","",""]
[null,"","",""]
[null,"","",""]
[null,"","",""]
[null,"","",""]
[null,"","",""]
[null,"","",""]
[null,"","",""]
[null,"","",""]
[null,"","",""]
[null,"","",""]
[null,"","",""]
[null,"","",""]
[null,"","",""]
[null,"","",""]
[null,"","",""]
[null,"","",""]
[null,"","",""]
[null,"","",""]
[null,"","",""]
[null,"","",""]
[null,"","",""]
[null,"","",""]
[null,"","",""]
[null,"","",""]
[null,"","",""]
[null,"","",""]
[null,"","",""]
[null,"","",""]
[null,"","",""]
[null,"","",""]
[null,"","",""]
[null,"","",""]
[null,"","",""]
[null,"","",""]
[null,"","",""]
[null,"","",""]
[null,"","",""]
[null,"","",""]
[null,"","",""]
[null,"","",""]
[null,"","",""]
[null,"","",""]
[null,"","",""]
[null,"","",""]
[null,"","",""]
[null,"","",""]
[null,"","",""]
[null,"","",""]
[null,"","",""]
[null,"","",""]
[null,"","",""]
[null,"","",""]
[null,"","",""]
[null,"","",""]
[null,"","",""]
[null,"","",""]
[null,"","",""]
[null,"","",""]
[null,"","",""]
[null,"","",""]
[null,"","",""]
[null,"","",""]
[null,"","",""]
[null,"","",""]
[null,"","",""]
[null,"","",""]
[null,"","",""]
[null,"","",""]
[null,"","",""]
[null,"","",""]
[null,"","",""]
[null,"","",""]
[null,"","",""]
[null,"","",""]
[null,"","",""]
[null,"","",""]
[null,"","",""]
[null,"","",""]
[null,"","",""]
[null,"","",""]
[null,"","",""]
[null,"","",""]
[null,"","",""]
[null,"","",""]
[null,"","",""]
[null,"","",""]
[null,"","",""]
[null,"","",""]
[null,"","",""]
[null,"","",""]
[null,"","",""]
[null,"","",""]
[null,"","",""]
[null,"","",""]
[null,"","",""]
[null,"","",""]
[null,"","",""]
[null,"","",""]
[null,"","",""]
[null,"","",""]
[null,"","",""]
[null,"","",""]
[null,"","",""]
[null,"","",""]
[null,"","",""]
[null,"","",""]
[null,"","",""]
[null,"","",""]
[null,"","",""]
[null,"","",""]
[null,"","",""]
[null,"","",""]
[null,"","",""]
[null,"","",""]
[null,"","",""]
[null,"","",""]
[null,"","",""]
[null,"","",""]
[null,"","",""]
[null,"","",""]
[null,"","",""]
[null,"","",""]
[null,"","",""]
[null,"","",""]
[null,"","",""]
[null,"","",""]
[null,"","",""]
[null,"","",""]
[null,"","",""]
[null,"","",""]
[null,"","",""]
[null,"","",""]
[null,"","",""]
[null,"","",""]
[null,"","",""]
[null,"","",""]
[null,"","",""]
[null,"","",""]
[null,"","",""]
[null,"","",""]
[null,"","",""]
[null,"","",""]
[null,"","",""]
[null,"","",""]
[null,"","",""]
[null,"","",""]
[null,"","",""]
[null,"","",""]
[null,"","",""]
[null,"","",""]
[null,"","",""]
[null,"","",""]
[null,"","",""]
[null,"","",""]
[null,"","",""]
[null,"","",""]
[null,"","",""]
[null,"","",""]
[null,"","",""]
[null,"","",""]
[null,"","",""]
[null,"","",""]
[null,"","",""]
[null,"","",""]
[null,"","",""]
[null,"","",""]
[null,"","",""]
[null,"","",""]
[null,"","",""]
[null,"","",""]
[null,"","",""]
[null,"","",""]
[null,"","",""]
[null,"","",""]
[null,"","",""]
[null,"","",""]
[null,"","",""]
[null,"","",""]
[null,"","",""]
[null,"","",""]
[null,"","",""]
[null,"","",""]
[null,"","",""]
[null,"","",""]
[null,"","",""]
[null,"","",""]
[null,"","",""]
[null,"","",""]
[null,"","",""]
[null,"","",""]
[null,"","",""]
[null,"","",""]
[null,"","",""]
[null,"","",""]
[null,"","",""]
[null,"","",""]
[null,"","",""]
[null,"","",""]
[null,"","",""]
[null,"","",""]
[null,"","",""]
[null,"","",""]
[null,"","",""]
[null,"","",""]
[null,"","",""]
[null,"","",""]
[null,"","",""]
[null,"","",""]
[null,"","",""]
[null,"","",""]
[null,"","",""]
[null,"","",""]
[null,"","",""]
[null,"","",""]
[null,"","",""]
[null,"","",""]
[null,"","",""]
[null,"","",""]
[null,"","",""]
[null,"","",""]
[null,"","",""]
[null,"","",""]
[null,"","",""]
[null,"","",""]
[null,"","",""]
[null,"","",""]
[null,"","",""]
[null,"","",""]
[null,"","",""]
[null,"","",""]
[null,"","",""]
[null,"","",""]
[null,"","",""]
[null,"","",""]
[null,"","",""]
[null,"","",""]
[null,"","",""]
[null,"","",""]
[null,"","",""]
[null,"","",""]
[null,"","",""]
[null,"","",""]
[null,"","",""]
[null,"","",""]
[null,"","",""]
[null,"","",""]
[null,"","",""]
[null,"","",""]
[null,"","",""]
[null,"","",""]
[null,"","",""]
[null,"","",""]
[null,"","",""]
[null,"","",""]
[null,"","",""]
[null,"","",""]
[null,"","",""]
[null,"","",""]
[null,"","",""]
[null,"","",""]
[null,"","",""]
[null,"","",""]
[null,"","",""]
[null,"","",""]
[null,"","",""]
[null,"","",""]
[null,"","",""]
[null,"","",""]
[null,"","",""]
[null,"","",""]
[null,"","",""]
[null,"","",""]
[null,"","",""]

{"sheet":"3.ППР","index":2,"n_rows":1567,"n_cols":17,"rows_kept":1567,"cut":false,"hidden":false,"merged":[]}
[null,"Цей документ був підготовлений Фондом гарантування вкладів фізичних осіб (далі – Фонд) виключно для інформаційних цілей і не повинен вважатися як спонукання до будь-яких дій чи бездіяльності. \nІнформація, що міститься в цьому документі, була отримана з/або ґрунтується на джерелах, які вважаються надійними, але не є вичерпною та не може сприйматися як повна або актуальна. Зокрема, але не виключно, станом на дату придбання активів допускаються несуттєві зміни лота, в складі якого продаються такі активи. Під несуттєвими змінами лота слід розуміти такі зміни характеристик активів у складі такого лота, які впливають на його балансову вартість, але не більше ніж на 10 відсотків. Рішення покупця щодо будь-яких дій або бездіяльності повинно ґрунтуватися на власних оцінках та дослідженнях майна (активу/активів), котре реалізується. Фонд не несе відповідальності за рішення покупця та його наслідки, що ґрунтується на інформації, викладеній в даному документі."]
[]
[]
[]
[]
[]
["unicid","Банк","№ кред. Дог","Розгляд справи у суді",null,null,null,"ДВС",null,null,"Банкрутство",null,null,null,null,null,"Кримінальне провадження за кредитною угодою\n(Так/Ні)"]
[null,null,null,"Предмет спору","Відповідач (позичальник/поручитель)","Дата надіслання вимоги / претензії","Дати звернення до суду","Дата провадження","Процесс (Так/Ні)","Реалізація майна (Так/Ні)","Дата провадження","Банк заявлений як кредитор (Так/Ні)","Банк внесенний в реєстр кредиторів (Так/Ні)","Дата визнання позичальника банкрутом","Дата визнання підприємства ліквідованим","Банкрутство фінансового поручителя"]
["320854_37230343_1","ДІАМАНТБАНК","455","інше","Позичальник","17.09.2018, 12.10.2018","ні","ні","-","-","ні","-","-","-","-","-","НІ"]
["320854_37230343_2","ДІАМАНТБАНК","456","інше","Позичальник","17.09.2018, 12.10.2018","ні","ні","-","-","ні","-","-","-","-","-","НІ"]
["320854_33433758_3","ДІАМАНТБАНК","474","інше","Позичальник","17.09.2018, 12.10.2018","ні","ні","-","-","ні","-","-","-","-","-","НІ"]
["320854_33433758_4","ДІАМАНТБАНК","475","інше","Позичальник","17.09.2018, 12.10.2018","ні","ні","-","-","ні","-","-","-","-","-","НІ"]
["320854_33433758_5","ДІАМАНТБАНК","489","інше","Позичальник","17.09.2018, 12.10.2018","ні","ні","-","-","ні","-","-","-","-","-","НІ"]
["320854_32764906_6","ДІАМАНТБАНК","483","інше","Позичальник","17.09.2018, 12.10.2018","ні","ні","-","-","ні","-","-","-","-","-","НІ"]
["320854_37624159_7","ДІАМАНТБАНК","517","ППР не здійснюється",null,"-","ні","ні","-","-","ні","-","-","-","-","-","ні"]
["320854_16322987_1","ДІАМАНТБАНК","094","стягнення заборгованості","Позичальник","2017-12-15"," -"," - ","НІ","НІ"," -","НІ","НІ"," - "," - "," - ","НІ"]
["320854_2455612543_2","ДІАМАНТБАНК","04","ППР не здійснюється",null," - "," - "," - ","НІ","НІ"," - ","НІ","НІ"," - "," - "," - ","НІ"]
["320854_39374960_3","ДІАМАНТБАНК","052","банкрутство","Позичальник"," - ","2018-08-20",42951,"ТАК","НІ",42951,"ТАК","ТАК",43131," - "," - ","НІ"]
["320854_36343400_4","ДІАМАНТБАНК","226","стягнення заборгованості","Солідарно"," -","00.00. 2014",2014,"ТАК","НІ"," -","НІ","НІ"," - ",null," - ","НІ"]
["320854_04836770_5","ДІАМАНТБАНК","358","ППР не здійснюється",null," - "," - "," - ","НІ","НІ"," - ","НІ","НІ"," - "," - "," - ","НІ"]
["320854_32644537_6","ДІАМАНТБАНК","538","стягнення заборгованості","Солідарно","2017-11-15"," - "," - ","НІ","НІ"," -","НІ","НІ"," - "," - "," - ","НІ"]
["320854_33755274_7","ДІАМАНТБАНК","558","стягнення заборгованості","Солідарно"," - ","00.00.2010"," - ","НІ","НІ"," - ","НІ","НІ"," - "," - "," - ","НІ"]
["380719_05747991_1","ВБР","KKPOD.80407.006","стягнення заборгованості в розмірі 11 276 307,60 доларів США","Позичальник","2015-05-08","2015-08-27","-","ні","ні","-","ні","ні","ні","ні","ні","ні"]
["380719_05747991_2","ВБР","KKPOD.80407.017","стягнення заборгованості в розмірі 7 364 444,43 доларів США  ","Позичальник","2015-05-08","2015-08-27","-","ні","ні","-","ні","ні","ні","ні","ні","ні"]
["380719_05747991_3","ВБР","KKPOD.80407.024","стягнення заборгованості в розмірі 7 166 392,06  доларів США","Позичальник","2015-05-08","2015-08-27","-","ні","ні","-","ні","ні","ні","ні","ні","ні"]
["320702_1899001292_1","Національний кредит","54/07","стягнення заборгованості","Позичальник",null,null,42458,"НІ","НІ",null,null,null,null,null,null,"НІ"]
["320702_2882405335_2","Національний кредит","41/07",null,null,null,null,"ні","НІ",null,null,null,null,null,null,null,"НІ"]
["320702__3","Національний кредит",0]
["320702__4","Національний кредит",0]
["320702__5","Національний кредит",0,null,null,null,null,43298,"ТАК","НІ"]
["320702_22138880_6","Національний кредит","08/08"]
["328210_36849691_1","ІНВЕСТБАНК","104-12","стягнення заборгованості","Позичальник",null,"2016-09-22"]
["328210_22458998_2","ІНВЕСТБАНК",12,"банкрутство","Позичальник",null,"2009-06-23",null,null,null,null,"НІ","НІ","2009-08-31"]
["328210_35048706_3","ІНВЕСТБАНК","74/08","стягнення заборгованості","Позичальник",null,"2009-06-20",null,"НІ","НІ",null,"НІ","НІ","2012-04-25"]
["328210_35048706_3","ІНВЕСТБАНК","74/08","банкрутство","Позичальник",null,"2011-11-21",null,null,null,null,"НІ","НІ","2012-04-25"]
["319111_36407233_1","Радикал","6989-О-2","Стягнення заборгованості","Позичальник, поручитель","2016-04-19",null,43014,"так","ні",null,null,null,null,null,null,"ні"]
["300056__1","Легбанк",0,"ППР не здійснюється"]
["320995_36336435_1","БГ банк","22","стягнення заборгованості","Позичальник","_","2013-01-05",null,"НІ","НІ",null,null,null,null,null,null,"НІ"]
["320995_37931795_2","БГ банк","б/н","ППР не здійснюється",null,"Відсутня"]
["320995_37932097_3","БГ банк","№ 1-ЕЛ","ППР не здійснюється",null,"Відсутня"]
["320995_39453057_4","БГ банк","№ 60","ППР не здійснюється",null,"Відсутня"]
["320995_3217507733_5","БГ банк","№ 24/6","стягнення заборгованості",null,"2018-06-21"]
["320995_3160821917_6","БГ банк","№ 17/9","стягнення заборгованості",null,"2018-06-21"]
["320995_2896708016_7","БГ банк","№ 19/6","стягнення заборгованості",null,"2018-06-21"]
["320995_20971504_8","БГ банк","№ 25/06-22-1","ППР не здійснюється",null,"-"]
["320995_32323511_9","БГ банк","б/н","стягнення заборгованості",null,"04.05.2016 подано заява про відкриття ВП, 22.11.2016 та 01.06.2017 направлено запити про стан ВП, відповіді не отримано. Готується скарга на бездіяльність ДВС.   справа № 910/3302/13. Виконавець Жирновой Павел Викторович   інформацію про хід виконавчого провадження очікується з письмової відповіді.",null,42494,"ТАК"]
["320995_04543795_10","БГ банк","№ ILG/244/12","ППР не здійснюється",null,"Відсутня",null,null,null,null,42836,"НІ","НІ"]
["320995_30708792_11","БГ банк","№ ILG/217/13","ППР не здійснюється",null,"Відсутня"]
["320995_02650587_12","БГ банк","№ ILG/218/13","ППР не здійснюється",null,"Відсутня"]
["320995_02649621_13","БГ банк","№ ILG/222/13","стягнення заборгованості",null,"12.09.2016 відкрито ВП . Приєднано до зведеного. Проводяться виконавчі дії.",null,42625,"ТАК"]
["320995_01036313_14","БГ банк","№ ILG/238/12","ППР не здійснюється",null,"Відсутня"]
["320995_04543795_15","БГ банк","№ ILG/245/12","ППР не здійснюється",null,"Відсутня"]
["320995_2691209496_16","БГ банк","№ 10630702","ППР не здійснюється",null,"-"]
["320995_3001224859_17","БГ банк","№ 735-100/ФК -08","стягнення заборгованості",null,"2017-12-20"]
["320995_2972322340_18","БГ банк","№ 1785-0201030/ФК-08","стягнення заборгованості",null,"20.07.2016 року відкрито ВП . 13.09.2018 виїздом за місцем знаходження майна встановлено що боржник за данною адресою не проживає про що складено акт. ДВ зроблно офіційний запит про місце проживання боржника . Готується виїзд з метою опису майна боржника.",null,42571,"ТАК"]
["320995__19","БГ банк","№ 100412/1","ППР не здійснюється",null,"Відсутня"]
["320995__20","БГ банк","№ 180708/08","ППР не здійснюється",null,"Відсутня"]
["320995__21","БГ банк","№ 240413/6","ППР не здійснюється",null,"Відсутня"]
["320995__22","БГ банк","№ 210114/6","ППР не здійснюється",null,"Відсутня"]
["320995_19409200_23","БГ банк","№ ЦПд-07-10","інше",null,"-"]
["320995_2972322340_24","БГ банк","№ 1785-0201030/ФК-08","стягнення заборгованості",null,"20.07.2016 року відкрито ВП . 13.09.2018 виїздом за місцем знаходження майна встановлено що боржник за данною адресою не проживає про що складено акт. ДВ зроблно офіційний запит про місце проживання боржника . Готується виїзд з метою опису майна боржника.",null,42571,"ТАК"]
["320995_3019013333_25","БГ банк","№ 110211/2","ППР не здійснюється",null,"Відсутня"]
["320995_2814413533_26","БГ банк","№ 260711/2","ППР не здійснюється",null,"Відсутня"]
["320995__27","БГ банк","№ 240413/4","ППР не здійснюється",null,"Відсутня"]
["320995_1080901475_28","БГ банк","№ 180411/1","ППР не здійснюється",null,"Відсутня"]
["320995_2870806137_29","БГ банк","№ 9150506","ППР не здійснюється",null,"Відсутня"]
["320995_2614517002_30","БГ банк","№ 110211/7","стягнення заборгованості",null,"Відсутня"]
["320995_2594613538_31","БГ банк","№ 050809/15","ППР не здійснюється",null,"Відсутня"]
["320995_2742010177_32","БГ банк","№ 111209/6","ППР не здійснюється",null,"Відсутня"]
["320995_1826437306_33","БГ банк","№ 050609/11","ППР не здійснюється",null,"Відсутня"]
["320995_2333010370_34","БГ банк","№ 061109/02","ППР не здійснюється",null,"Відсутня"]
["320995__35","БГ банк","№ 210114/1","ППР не здійснюється",null,"Відсутня"]
["320995_38013519_36","БГ банк","№ 010612/1","ППР не здійснюється",null,"Відсутня"]
["320995_32977421_37","БГ банк","№ 121208/17","ППР не здійснюється",null,"Відсутня"]
["320995_2753016709_38","БГ банк","№ 240912/1","ППР не здійснюється",null,"Відсутня"]
["320995_2270216829_39","БГ банк","№ 110211/9","ППР не здійснюється",null,"Відсутня"]
["320995_2767014220_40","БГ банк","№ 110211/10","ППР не здійснюється",null,"Відсутня"]
["320995_2877305617_41","БГ банк","№ 110211/11","ППР не здійснюється",null,"Відсутня"]
["320995_2877305617_42","БГ банк","№ 580-013/ФКІП-08","ППР не здійснюється",null,"Відсутня"]
["320995_3001224859_43","БГ банк","№ 735-100/ФК-08","ППР не здійснюється",null,"2017-12-20"]
["320995_2796208369_44","БГ банк","№ 601070001","ППР не здійснюється",null,"Відсутня"]
["320995_2691209496_45","БГ банк","№ 10630702","ППР не здійснюється",null,"Відсутня"]
["320995_2881216919_46","БГ банк","№ 110211/1","ППР не здійснюється",null,"Відсутня"]
["320995_32512346_47","БГ банк","№ 210409/06","ППР не здійснюється",null,"Відсутня"]
["320995_32846139_48","БГ банк","№ 130612/1","інше",null,"-"]
["320995_32846139_49","БГ банк","№ 120207/07","інше",null,"-"]
["320995_35632299_50","БГ банк","№ 110808","ППР не здійснюється",null,"Відсутня"]
["320995_37593283_51","БГ банк","№ 140711/1","ППР не здійснюється",null,"Відсутня"]
["320995_35893575_52","БГ банк","№ 251113/1","інше",null,"-"]
["320995_32305870_53","БГ банк","№ 281207/28","ППР не здійснюється",null,"Відсутня"]
["320995_38567851_54","БГ банк","№ 200213/1","ППР не здійснюється",null,"Відсутня"]
["320995_2529906853_55","БГ банк","№ 290411/26","ППР не здійснюється",null,"Відсутня"]
["320995_2761501957_56","БГ банк","№ 110211/3","ППР не здійснюється",null,"Відсутня"]
["320995_1877505474_57","БГ банк","№ 260209/02","ППР не здійснюється",null,"Відсутня"]
["380388_32998525_1","Платинум Банк","39г-10","стягнення забезпечення","Позичальник","-","2016-10-26",42929,"ТАК","НІ",null,null,null,null,null,null,"НІ"]
["380537_31455881_1","ВіЕйБі","3","банкрутство","Позичальник",null,"1905-07-04",null,"НІ","НІ",41113,"ТАК","ТАК",41429,null,null,"ТАК"]
["380537_31032802_2","ВіЕйБі","б/н","банкрутство","Позичальник",null,"2011-11-10"]
["380537_30446130_3","ВіЕйБі","05/К-03ю","банкрутство","Позичальник",null,"1905-06-26",null,"НІ","НІ",38345,"ТАК","ТАК",38658,39232,38506,"НІ"]
["380537_31803336_4","ВіЕйБі","56",null,null,null,null,null,null,null,null,null,null,null,null,null,"ТАК"]
["380537_32277832_5","ВіЕйБі","08/06ю","банкрутство","Позичальник",null,"1905-07-05",null,"НІ","НІ",41407,"ТАК","ТАК",41551,null,null,"ТАК"]
["380537_34431924_6","ВіЕйБі","116",null,null,null,null,null,null,null,null,null,null,null,null,null,"ТАК"]
["380537_33755075_7","ВіЕйБі","24-08","банкрутство","Позичальник",null,"2012-05-21",null,"НІ","НІ",null,"ТАК","ТАК",41074,41935,null,"ТАК"]
["380537_32162756_8","ВіЕйБі","10","банкрутство","Позичальник",null,"2013-03-27",null,null,null,null,null,null,null,null,null,"ТАК"]
["380537_32277832_5","ВіЕйБі","08/06ю","інше","Позичальник",null,"1905-07-03",null,"НІ","НІ",null,null,null,null,null,null,"НІ"]
["380537_3094722171_9","ВіЕйБі","7/07-SME","стягнення забезпечення","Поручитель",null,"2015-08-28",null,"НІ","НІ",null,"НІ","НІ",null,40442," 12.05.2015","так"]
["380537_3094722171_9","ВіЕйБі","7/07-SME","стягнення заборгованості","Позичальник",null,"2017-08-23",null,"НІ","НІ",null,"НІ","НІ",null," 12.05.2015",null,"НІ"]
["300131_24725713_1","Фінанси та Кредит","18-01-07","стягнення заборгованості/про визнання договору іпотеки припиненим","позичальник","2009-09-22","2010 рік",42073,"-","так","-","-","-","-","-","-","ні"]
["334969_30530740_1","Укрбізнесбанк","5/ю","стягнення заборгованості","Позичальник","-","2012-09-25",41338,"НІ","НІ","-",null,null,"-","-","-","НІ"]
["334969_34541410_2","Укрбізнесбанк","14-CевОв  ","ППР не здійснюється",null,null,null,"-",null,null,"-",null,null,"-","-","-","НІ"]
["334969_31173285_3","Укрбізнесбанк","15-СевВЛ","ППР не здійснюється",null,null,null,"-",null,null,"-",null,null,"-","-","-","НІ"]
["380236_31305004_1","Дельта","837 К-Н","інше","3-і особи","Невідомо","2015 рік ",null,null,null,"ні","ні","ні","ні","ні","ні","НІ"]
["380236_30333638_2","Дельта","02/014/08-КЛТ","стягнення забезпечення","Поручитель","Невідомо","2011 рік",null,null,null,40822,"ТАК","ТАК",40835,41562,"ні","НІ"]
["380236_2545308895_3","Дельта","03/1/73/05-Z","стягнення заборгованості","Позичальник","Невідомо","2011 рік",40966,"так","НІ",null,null,null,null,null,null,"НІ"]
["380236_30342773_4","Дельта","02/020/08-КЛТ","стягнення заборгованості","Поручитель","Невідомо","2011 рік",null,null,null,39094,"ТАК","ТАК",40618,41906,"ні","НІ"]
["380236_31043568_5","Дельта","02/072/08-КЛТ","інше",null,null,null,null,null,null,39962,"ТАК","ТАК",40147,40196,"ні","НІ"]
["380236_33188879_6","Дельта","02/169/07-КЛТ","стягнення заборгованості","Позичальник","Невідомо","2009 рік",null,null,null,40562,"ТАК","ТАК",40582,40680,"ні","НІ"]
["380236_30059514_7","Дельта","05/19/2006-КЛВ","стягнення заборгованості","Поручитель","Невідомо","2007 рік",null,null,null,39759,"ТАК","ТАК",39938,42185,"ні","НІ"]
["380236_31018374_8","Дельта","3.3ДС/268/2008-КЛТ","визнання зобов'язань недійсними","3-і особи","Невідомо","2011 рік",null,null,null,40998,"ТАК","ТАК",41156,41393,"ні","НІ"]
["380236_33080355_9","Дельта","02/009/09-КЛТ","стягнення забезпечення","Поручитель","Невідомо","2009 рік",42445,"НІ","НІ",40350,"ТАК","ТАК",40360,40540,"ні","НІ"]
["380236_33080355_10","Дельта","02/081/08-КЛТ","ППР не здійснюється",null,null,null,null,null,null,40350,"ТАК","ТАК",40360,40540,"ні","НІ"]
["380236_33080355_11","Дельта","02/104/08-КЛТ","ППР не здійснюється",null,null,null,null,null,null,40350,"ТАК","ТАК",40360,40540,"ні","НІ"]
["380236_31042941_12","Дельта","02/059/08-КЛТ","нікчемність правочину","Позичальник","Невідомо","2018 рік ",null,null,null,"ні","ні","ні","ні","ні","ні","НІ"]
["380236_31042941_13","Дельта","02/107/07-КЛТ","стягнення заборгованості","Позичальник","невідомо","2009 рік ","22.02.2010, 31.07.2018","ТАК","НІ","ні","ні","ні","ні","ні","ні","НІ"]
["380236_31613639_14","Дельта","02/106/08-КЛТ","стягнення заборгованості","Позичальник","Невідомо","2014 рік","21.04.2016, 10.01.2017","НІ","НІ","ні","ні","ні","ні","ні","ні","НІ"]
["380236_32228880_15","Дельта","02/186/07-КЛТ","стягнення заборгованості","Позичальник","Невідомо","2012 рік",null,null,null,"ні","ні","ні","ні","ні","так","НІ"]
["380236_31369120_16","Дельта","04.1/55/06-КЛТ","стягнення забезпечення","Поручитель","Невідомо","2012 рік",null,null,null,"ні","ні","ні","ні","ні","ні","НІ"]
["380236_31463094_17","Дельта","04/22/07-КЛТ","стягнення заборгованості","Солідарно","Невідомо","2011 рік",null,null,null,40291,"ТАК","НІ",40320,42285,"так","ТАК"]
["380236_33869158_18","Дельта","04/24/07-КЛТ","стягнення заборгованості","Поручитель","Невідомо","2009 рік",null,null,null,39643,"ТАК","ТАК",40056,40638,"ні","НІ"]
["380236_33382337_19","Дельта","05/67/2006-КЛВ","ППР не здійснюється",null,null,null,null,null,null,"ні","ні","ні","ні","ні","ні","НІ"]
["380236_30511875_20","Дельта","07/038/06-КЛТ","ППР не здійснюється",null,null,null,null,null,null,"ні","ні","ні","ні","ні","ні","НІ"]
["380236_2819202415_21","Дельта","0709/17/05-А","стягнення заборгованості","Солідарно","Невідомо","2009 рік",40386,"ТАК","НІ",null,null,null,null,null,null,"НІ"]
["380236_32843118_22","Дельта","22/88-Т-05","стягнення заборгованості","Поручитель","Невідомо","2007 рік",null,null,null,40280,"ТАК","ТАК",40325,43186,"ні","НІ"]
["380236_33256640_23","Дельта","23/К-07","інше","3-і особи","Невідомо","2010 рік",null,null,null,40612,"ТАК","ТАК",40639,"ні","ні","НІ"]
["380236_32284441_24","Дельта","49.8.2/05/2007-К","стягнення заборгованості","Позичальник","Невідомо","2009 рік",null,null,null,40154,"ТАК","ТАК",40303,"ні","ні","НІ"]
["380236_30333638_2","Дельта","02/014/08-КЛТ","стягнення заборгованості","Позичальник","Невідомо","2011 рік",null,null,null,null,null,null,null,null,null,"НІ"]
["380236_30333638_2","Дельта","02/014/08-КЛТ","стягнення забезпечення","Поручитель","Невідомо","2011 рік",null,null,null,null,null,null,null,null,null,"НІ"]
["380236_30059514_7","Дельта","05/19/2006-КЛВ","стягнення заборгованості","Позичальник","Невідомо","2007 рік",null,null,null,null,null,null,null,null,null,"НІ"]
["380236_33080355_9","Дельта","02/009/09-КЛТ","стягнення заборгованості","Солідарно","Невідомо","2010 рік",null,null,null,null,null,null,null,null,null,"НІ"]
["380236_31369120_16","Дельта","04.1/55/06-КЛТ","стягнення заборгованості","Солідарно","Невідомо","2012 рік",null,null,null,null,null,null,null,null,null,"НІ"]
["380236_32843118_22","Дельта","22/88-Т-05","стягнення заборгованості","Солідарно","Невідомо","2008 рік",null,null,null,null,null,null,null,null,null,"НІ"]
["380236_31018374_8","Дельта","3.3ДС/268/2008-КЛТ","інше","3-і особи","Невідомо","2011 рік",null,null,null,null,null,null,null,null,null,"НІ"]
["380236_31018374_8","Дельта","3.3ДС/268/2008-КЛТ","визнання зобов'язань недійсними","3-і особи","Невідомо","2011 рік",null,null,null,null,null,null,null,null,null,"НІ"]
["380236_31018374_8","Дельта","3.3ДС/268/2008-КЛТ","визнання зобов'язань недійсними","Позичальник","Невідомо","2012 рік",null,null,null,null,null,null,null,null,null,"НІ"]
["380236_33256640_23","Дельта","23/К-07","інше","3-і особи","Невідомо","2010 рік",null,null,null,null,null,null,null,null,null,"НІ"]
["380236_31305004_1","Дельта","837 К-Н","стягнення заборгованості","Солідарно","Невідомо","2013 рік ",null,null,null,null,null,null,null,null,null,"НІ"]
["380236_31305004_1","Дельта","837 К-Н","визнання зобов'язань недійсними","3-і особи","Невідомо","2016 рік",null,null,null,null,null,null,null,null,null,"НІ"]
["380236_31305004_1","Дельта","837 К-Н","стягнення заборгованості","3-і особи","Невідомо","2016 рік ",null,null,null,null,null,null,null,null,null,"НІ"]
["380236_31305004_1","Дельта","837 К-Н","визнання зобов'язань недійсними","Позичальник","невідомо","2014 рік ",null,null,null,null,null,null,null,null,null,"НІ"]
["380236_31305004_1","Дельта","837 К-Н","визнання зобов'язань недійсними","Позичальник","Невідомо","2013 рік "]
["380236_31305004_1","Дельта","837 К-Н","інше","3-і особи","Невідомо","2017 рік"]
["380236_31305004_1","Дельта","837 К-Н","нікчемність правочину","3-і особи","Невідомо","2015 рік "]
["380236_31305004_1","Дельта","837 К-Н","нікчемність правочину","3-і особи","Невідомо","2016 рік"]
["380236_31305004_1","Дельта","837 К-Н","інше","3-і особи","Невідомо","2016 рік "]
["380236_2545308895_3","Дельта","03/1/73/05-Z","стягнення заборгованості","Позичальник","Невідомо","2015 рік "]
["380236_31042941_12","Дельта","02/059/08-КЛТ","стягнення заборгованості","Позичальник","Невідомо","2018 рік "]
["380236_31042941_12","Дельта","02/059/08-КЛТ","стягнення заборгованості","Солідарно","Невідомо","2009 рік ","14.02.2011, 18.09.2018","ТАК","НІ"]
["380236_31042941_12","Дельта","02/059/08-КЛТ","стягнення заборгованості","Позичальник","Невідомо","2009 рік"]
["380236_31042941_13","Дельта","02/107/07-КЛТ","стягнення заборгованості","Позичальник","Невідомо","2009 рік "]
["380236_31042941_13","Дельта","02/107/07-КЛТ","стягнення заборгованості","Солідарно","Невідомо","2009 рік "]
["380236_31042941_13","Дельта","02/107/07-КЛТ","інше","Позичальник","Невідомо","2010  рік "]
["380236_31042941_13","Дельта","02/107/07-КЛТ","нікчемність правочину","Позичальник","Невідомо","2018 рік "]
["380236_2819202415_21","Дельта","0709/17/05-А","стягнення заборгованості","Солідарно","Невідомо","2014 рік"]
["380236_30511875_20","Дельта","07/038/06-КЛТ",null,null,null,null,"\"-\"","НІ","НІ"]
["319092_32979130_1","Київськая Русь","59106-44.15","ППР не здійснюється",null,null,null,null,null,null,null,null,null,null,null,null,"ні"]
["319092_2261722641_2","Київськая Русь","19401-45.12","ППР не здійснюється",null,null,null,null,null,null,null,null,null,null,null,null,"ні"]
["319092_23758308_3","Київськая Русь","70376-20/14-7","ППР не здійснюється",null,null,null,null,null,null,null,null,null,null,null,null,"ні"]
["319092_23538073_4","Київськая Русь","70381-20/14-7","ППР не здійснюється",null,null,null,null,null,null,null,null,null,null,null,null,"ні"]
["319092_31473118_5","Київськая Русь","70517-20/14-7","ППР не здійснюється",null,null,null,null,null,null,null,null,null,null,null,null,"ні"]
["319092_37501920_6","Київськая Русь","16202-20/12-1","ППР не здійснюється",null,null,null,null,null,null,null,null,null,null,null,null,"ні"]
["300056_23227999_1","Легбанк","07","стягнення заборгованості","Позичальник",null,null,null,"ні","так",null,"так","так",41307,41976,null,"НІ"]
["_36135129_1","БАНК БОГУСЛАВ","15/01-КР-25/2012","стягнення заборгованості за кредитним договором","Позичальник/поручителі",null,"2018-05-02",null,null,null,null,null,null,null,null,null,"ні"]
[null,"",""]
[null,"",""]
[null,"",""]
[null,"",""]
[null,"",""]
[null,"",""]
[null,"",""]
[null,"",""]
[null,"",""]
[null,"",""]
[null,"",""]
[null,"",""]
[null,"",""]
[null,"",""]
[null,"",""]
[null,"",""]
[null,"",""]
[null,"",""]
[null,"",""]
[null,"",""]
[null,"",""]
[null,"",""]
[null,"",""]
[null,"",""]
[null,"",""]
[null,"",""]
[null,"",""]
[null,"",""]
[null,"",""]
[null,"",""]
[null,"",""]
[null,"",""]
[null,"",""]
[null,"",""]
[null,"",""]
[null,"",""]
[null,"",""]
[null,"",""]
[null,"",""]
[null,"",""]
[null,"",""]
[null,"",""]
[null,"",""]
[null,"",""]
[null,"",""]
[null,"",""]
[null,"",""]
[null,"",""]
[null,"",""]
[null,"",""]
[null,"",""]
[null,"",""]
[null,"",""]
[null,"",""]
[null,"",""]
[null,"",""]
[null,"",""]
[null,"",""]
[null,"",""]
[null,"",""]
[null,"",""]
[null,"",""]
[null,"",""]
[null,"",""]
[null,"",""]
[null,"",""]
[null,"",""]
[null,"",""]
[null,"",""]
[null,"",""]
[null,"",""]
[null,"",""]
[null,"",""]
[null,"",""]
[null,"",""]
[null,"",""]
[null,"",""]
[null,"",""]
[null,"",""]
[null,"",""]
[null,"",""]
[null,"",""]
[null,"",""]
[null,"",""]
[null,"",""]
[null,"",""]
[null,"",""]
[null,"",""]
[null,"",""]
[null,"",""]
[null,"",""]
[null,"",""]
[null,"",""]
[null,"",""]
[null,"",""]
[null,"",""]
[null,"",""]
[null,"",""]
[null,"",""]
[null,"",""]
[null,"",""]
[null,"",""]
[null,"",""]
[null,"",""]
[null,"",""]
[null,"",""]
[null,"",""]
[null,"",""]
[null,"",""]
[null,"",""]
[null,"",""]
[null,"",""]
[null,"",""]
[null,"",""]
[null,"",""]
[null,"",""]
[null,"",""]
[null,"",""]
[null,"",""]
[null,"",""]
[null,"",""]
[null,"",""]
[null,"",""]
[null,"",""]
[null,"",""]
[null,"",""]
[null,"",""]
[null,"",""]
[null,"",""]
[null,"",""]
[null,"",""]
[null,"",""]
[null,"",""]
[null,"",""]
[null,"",""]
[null,"",""]
[null,"",""]
[null,"",""]
[null,"",""]
[null,"",""]
[null,"",""]
[null,"",""]
[null,"",""]
[null,"",""]
[null,"",""]
[null,"",""]
[null,"",""]
[null,"",""]
[null,"",""]
[null,"",""]
[null,"",""]
[null,"",""]
[null,"",""]
[null,"",""]
[null,"",""]
[null,"",""]
[null,"",""]
[null,"",""]
[null,"",""]
[null,"",""]
[null,"",""]
[null,"",""]
[null,"",""]
[null,"",""]
[null,"",""]
[null,"",""]
[null,"",""]
[null,"",""]
[null,"",""]
[null,"",""]
[null,"",""]
[null,"",""]
[null,"",""]
[null,"",""]
[null,"",""]
[null,"",""]
[null,"",""]
[null,"",""]
[null,"",""]
[null,"",""]
[null,"",""]
[null,"",""]
[null,"",""]
[null,"",""]
[null,"",""]
[null,"",""]
[null,"",""]
[null,"",""]
[null,"",""]
[null,"",""]
[null,"",""]
[null,"",""]
[null,"",""]
[null,"",""]
[null,"",""]
[null,"",""]
[null,"",""]
[null,"",""]
[null,"",""]
[null,"",""]
[null,"",""]
[null,"",""]
[null,"",""]
[null,"",""]
[null,"",""]
[null,"",""]
[null,"",""]
[null,"",""]
[null,"",""]
[null,"",""]
[null,"",""]
[null,"",""]
[null,"",""]
[null,"",""]
[null,"",""]
[null,"",""]
[null,"",""]
[null,"",""]
[null,"",""]
[null,"",""]
[null,"",""]
[null,"",""]
[null,"",""]
[null,"",""]
[null,"",""]
[null,"",""]
[null,"",""]
[null,"",""]
[null,"",""]
[null,"",""]
[null,"",""]
[null,"",""]
[null,"",""]
[null,"",""]
[null,"",""]
[null,"",""]
[null,"",""]
[null,"",""]
[null,"",""]
[null,"",""]
[null,"",""]
[null,"",""]
[null,"",""]
[null,"",""]
[null,"",""]
[null,"",""]
[null,"",""]
[null,"",""]
[null,"",""]
[null,"",""]
[null,"",""]
[null,"",""]
[null,"",""]
[null,"",""]
[null,"",""]
[null,"",""]
[null,"",""]
[null,"",""]
[null,"",""]
[null,"",""]
[null,"",""]
[null,"",""]
[null,"",""]
[null,"",""]
[null,"",""]
[null,"",""]
[null,"",""]
[null,"",""]
[null,"",""]
[null,"",""]
[null,"",""]
[null,"",""]
[null,"",""]
[null,"",""]
[null,"",""]
[null,"",""]
[null,"",""]
[null,"",""]
[null,"",""]
[null,"",""]
[null,"",""]
[null,"",""]
[null,"",""]
[null,"",""]
[null,"",""]
[null,"",""]
[null,"",""]
[null,"",""]
[null,"",""]
[null,"",""]
[null,"",""]
[null,"",""]
[null,"",""]
[null,"",""]
[null,"",""]
[null,"",""]
[null,"",""]
[null,"",""]
[null,"",""]
[null,"",""]
[null,"",""]
[null,"",""]
[null,"",""]
[null,"",""]
[null,"",""]
[null,"",""]
[null,"",""]
[null,"",""]
[null,"",""]
[null,"",""]
[null,"",""]
[null,"",""]
[null,"",""]
[null,"",""]
[null,"",""]
[null,"",""]
[null,"",""]
[null,"",""]
[null,"",""]
[null,"",""]
[null,"",""]
[null,"",""]
[null,"",""]
[null,"",""]
[null,"",""]
[null,"",""]
[null,"",""]
[null,"",""]
[null,"",""]
[null,"",""]
[null,"",""]
[null,"",""]
[null,"",""]
[null,"",""]
[null,"",""]
[null,"",""]
[null,"",""]
[null,"",""]
[null,"",""]
[null,"",""]
[null,"",""]
[null,"",""]
[null,"",""]
[null,"",""]
[null,"",""]
[null,"",""]
[null,"",""]
[null,"",""]
[null,"",""]
[null,"",""]
[null,"",""]
[null,"",""]
[null,"",""]
[null,"",""]
[null,"",""]
[null,"",""]
[null,"",""]
[null,"",""]
[null,"",""]
[null,"",""]
[null,"",""]
[null,"",""]
[null,"",""]
[null,"",""]
[null,"",""]
[null,"",""]
[null,"",""]
[null,"",""]
[null,"",""]
[null,"",""]
[null,"",""]
[null,"",""]
[null,"",""]
[null,"",""]
[null,"",""]
[null,"",""]
[null,"",""]
[null,"",""]
[null,"",""]
[null,"",""]
[null,"",""]
[null,"",""]
[null,"",""]
[null,"",""]
[null,"",""]
[null,"",""]
[null,"",""]
[null,"",""]
[null,"",""]
[null,"",""]
[null,"",""]
[null,"",""]
[null,"",""]
[null,"",""]
[null,"",""]
[null,"",""]
[null,"",""]
[null,"",""]
[null,"",""]
[null,"",""]
[null,"",""]
[null,"",""]
[null,"",""]
[null,"",""]
[null,"",""]
[null,"",""]
[null,"",""]
[null,"",""]
[null,"",""]
[null,"",""]
[null,"",""]
[null,"",""]
[null,"",""]
[null,"",""]
[null,"",""]
[null,"",""]
[null,"",""]
[null,"",""]
[null,"",""]
[null,"",""]
[null,"",""]
[null,"",""]
[null,"",""]
[null,"",""]
[null,"",""]
[null,"",""]
[null,"",""]
[null,"",""]
[null,"",""]
[null,"",""]
[null,"",""]
[null,"",""]
[null,"",""]
[null,"",""]
[null,"",""]
[null,"",""]
[null,"",""]
[null,"",""]
[null,"",""]
[null,"",""]
[null,"",""]
[null,"",""]
[null,"",""]
[null,"",""]
[null,"",""]
[null,"",""]
[null,"",""]
[null,"",""]
[null,"",""]
[null,"",""]
[null,"",""]
[null,"",""]
[null,"",""]
[null,"",""]
[null,"",""]
[null,"",""]
[null,"",""]
[null,"",""]
[null,"",""]
[null,"",""]
[null,"",""]
[null,"",""]
[null,"",""]
[null,"",""]
[null,"",""]
[null,"",""]
[null,"",""]
[null,"",""]
[null,"",""]
[null,"",""]
[null,"",""]
[null,"",""]
[null,"",""]
[null,"",""]
[null,"",""]
[null,"",""]
[null,"",""]
[null,"",""]
[null,"",""]
[null,"",""]
[null,"",""]
[null,"",""]
[null,"",""]
[null,"",""]
[null,"",""]
[null,"",""]
[null,"",""]
[null,"",""]
[null,"",""]
[null,"",""]
[null,"",""]
[null,"",""]
[null,"",""]
[null,"",""]
[null,"",""]
[null,"",""]
[null,"",""]
[null,"",""]
[null,"",""]
[null,"",""]
[null,"",""]
[null,"",""]
[null,"",""]
[null,"",""]
[null,"",""]
[null,"",""]
[null,"",""]
[null,"",""]
[null,"",""]
[null,"",""]
[null,"",""]
[null,"",""]
[null,"",""]
[null,"",""]
[null,"",""]
[null,"",""]
[null,"",""]
[null,"",""]
[null,"",""]
[null,"",""]
[null,"",""]
[null,"",""]
[null,"",""]
[null,"",""]
[null,"",""]
[null,"",""]
[null,"",""]
[null,"",""]
[null,"",""]
[null,"",""]
[null,"",""]
[null,"",""]
[null,"",""]
[null,"",""]
[null,"",""]
[null,"",""]
[null,"",""]
[null,"",""]
[null,"",""]
[null,"",""]
[null,"",""]
[null,"",""]
[null,"",""]
[null,"",""]
[null,"",""]
[null,"",""]
[null,"",""]
[null,"",""]
[null,"",""]
[null,"",""]
[null,"",""]
[null,"",""]
[null,"",""]
[null,"",""]
[null,"",""]
[null,"",""]
[null,"",""]
[null,"",""]
[null,"",""]
[null,"",""]
[null,"",""]
[null,"",""]
[null,"",""]
[null,"",""]
[null,"",""]
[null,"",""]
[null,"",""]
[null,"",""]
[null,"",""]
[null,"",""]
[null,"",""]
[null,"",""]
[null,"",""]
[null,"",""]
[null,"",""]
[null,"",""]
[null,"",""]
[null,"",""]
[null,"",""]
[null,"",""]
[null,"",""]
[null,"",""]
[null,"",""]
[null,"",""]
[null,"",""]
[null,"",""]
[null,"",""]
[null,"",""]
[null,"",""]
[null,"",""]
[null,"",""]
[null,"",""]
[null,"",""]
[null,"",""]
[null,"",""]
[null,"",""]
[null,"",""]
[null,"",""]
[null,"",""]
[null,"",""]
[null,"",""]
[null,"",""]
[null,"",""]
[null,"",""]
[null,"",""]
[null,"",""]
[null,"",""]
[null,"",""]
[null,"",""]
[null,"",""]
[null,"",""]
[null,"",""]
[null,"",""]
[null,"",""]
[null,"",""]
[null,"",""]
[null,"",""]
[null,"",""]
[null,"",""]
[null,"",""]
[null,"",""]
[null,"",""]
[null,"",""]
[null,"",""]
[null,"",""]
[null,"",""]
[null,"",""]
[null,"",""]
[null,"",""]
[null,"",""]
[null,"",""]
[null,"",""]
[null,"",""]
[null,"",""]
[null,"",""]
[null,"",""]
[null,"",""]
[null,"",""]
[null,"",""]
[null,"",""]
[null,"",""]
[null,"",""]
[null,"",""]
[null,"",""]
[null,"",""]
[null,"",""]
[null,"",""]
[null,"",""]
[null,"",""]
[null,"",""]
[null,"",""]
[null,"",""]
[null,"",""]
[null,"",""]
[null,"",""]
[null,"",""]
[null,"",""]
[null,"",""]
[null,"",""]
[null,"",""]
[null,"",""]
[null,"",""]
[null,"",""]
[null,"",""]
[null,"",""]
[null,"",""]
[null,"",""]
[null,"",""]
[null,"",""]
[null,"",""]
[null,"",""]
[null,"",""]
[null,"",""]
[null,"",""]
[null,"",""]
[null,"",""]
[null,"",""]
[null,"",""]
[null,"",""]
[null,"",""]
[null,"",""]
[null,"",""]
[null,"",""]
[null,"",""]
[null,"",""]
[null,"",""]
[null,"",""]
[null,"",""]
[null,"",""]
[null,"",""]
[null,"",""]
[null,"",""]
[null,"",""]
[null,"",""]
[null,"",""]
[null,"",""]
[null,"",""]
[null,"",""]
[null,"",""]
[null,"",""]
[null,"",""]
[null,"",""]
[null,"",""]
[null,"",""]
[null,"",""]
[null,"",""]
[null,"",""]
[null,"",""]
[null,"",""]
[null,"",""]
[null,"",""]
[null,"",""]
[null,"",""]
[null,"",""]
[null,"",""]
[null,"",""]
[null,"",""]
[null,"",""]
[null,"",""]
[null,"",""]
[null,"",""]
[null,"",""]
[null,"",""]
[null,"",""]
[null,"",""]
[null,"",""]
[null,"",""]
[null,"",""]
[null,"",""]
[null,"",""]
[null,"",""]
[null,"",""]
[null,"",""]
[null,"",""]
[null,"",""]
[null,"",""]
[null,"",""]
[null,"",""]
[null,"",""]
[null,"",""]
[null,"",""]
[null,"",""]
[null,"",""]
[null,"",""]
[null,"",""]
[null,"",""]
[null,"",""]
[null,"",""]
[null,"",""]
[null,"",""]
[null,"",""]
[null,"",""]
[null,"",""]
[null,"",""]
[null,"",""]
[null,"",""]
[null,"",""]
[null,"",""]
[null,"",""]
[null,"",""]
[null,"",""]
[null,"",""]
[null,"",""]
[null,"",""]
[null,"",""]
[null,"",""]
[null,"",""]
[null,"",""]
[null,"",""]
[null,"",""]
[null,"",""]
[null,"",""]
[null,"",""]
[null,"",""]
[null,"",""]
[null,"",""]
[null,"",""]
[null,"",""]
[null,"",""]
[null,"",""]
[null,"",""]
[null,"",""]
[null,"",""]
[null,"",""]
[null,"",""]
[null,"",""]
[null,"",""]
[null,"",""]
[null,"",""]
[null,"",""]
[null,"",""]
[null,"",""]
[null,"",""]
[null,"",""]
[null,"",""]
[null,"",""]
[null,"",""]
[null,"",""]
[null,"",""]
[null,"",""]
[null,"",""]
[null,"",""]
[null,"",""]
[null,"",""]
[null,"",""]
[null,"",""]
[null,"",""]
[null,"",""]
[null,"",""]
[null,"",""]
[null,"",""]
[null,"",""]
[null,"",""]
[null,"",""]
[null,"",""]
[null,"",""]
[null,"",""]
[null,"",""]
[null,"",""]
[null,"",""]
[null,"",""]
[null,"",""]
[null,"",""]
[null,"",""]
[null,"",""]
[null,"",""]
[null,"",""]
[null,"",""]
[null,"",""]
[null,"",""]
[null,"",""]
[null,"",""]
[null,"",""]
[null,"",""]
[null,"",""]
[null,"",""]
[null,"",""]
[null,"",""]
[null,"",""]
[null,"",""]
[null,"",""]
[null,"",""]
[null,"",""]
[null,"",""]
[null,"",""]
[null,"",""]
[null,"",""]
[null,"",""]
[null,"",""]
[null,"",""]
[null,"",""]
[null,"",""]
[null,"",""]
[null,"",""]
[null,"",""]
[null,"",""]
[null,"",""]
[null,"",""]
[null,"",""]
[null,"",""]
[null,"",""]
[null,"",""]
[null,"",""]
[null,"",""]
[null,"",""]
[null,"",""]
[null,"",""]
[null,"",""]
[null,"",""]
[null,"",""]
[null,"",""]
[null,"",""]
[null,"",""]
[null,"",""]
[null,"",""]
[null,"",""]
[null,"",""]
[null,"",""]
[null,"",""]
[null,"",""]
[null,"",""]
[null,"",""]
[null,"",""]
[null,"",""]
[null,"",""]
[null,"",""]
[null,"",""]
[null,"",""]
[null,"",""]
[null,"",""]
[null,"",""]
[null,"",""]
[null,"",""]
[null,"",""]
[null,"",""]
[null,"",""]
[null,"",""]
[null,"",""]
[null,"",""]
[null,"",""]
[null,"",""]
[null,"",""]
[null,"",""]
[null,"",""]
[null,"",""]
[null,"",""]
[null,"",""]
[null,"",""]
[null,"",""]
[null,"",""]
[null,"",""]
[null,"",""]
[null,"",""]
[null,"",""]
[null,"",""]
[null,"",""]
[null,"",""]
[null,"",""]
[null,"",""]
[null,"",""]
[null,"",""]
[null,"",""]
[null,"",""]
[null,"",""]
[null,"",""]
[null,"",""]
[null,"",""]
[null,"",""]
[null,"",""]
[null,"",""]
[null,"",""]
[null,"",""]
[null,"",""]
[null,"",""]
[null,"",""]
[null,"",""]
[null,"",""]
[null,"",""]
[null,"",""]
[null,"",""]
[null,"",""]
[null,"",""]
[null,"",""]
[null,"",""]
[null,"",""]
[null,"",""]
[null,"",""]
[null,"",""]
[null,"",""]
[null,"",""]
[null,"",""]
[null,"",""]
[null,"",""]
[null,"",""]
[null,"",""]
[null,"",""]
[null,"",""]
[null,"",""]
[null,"",""]
[null,"",""]
[null,"",""]
[null,"",""]
[null,"",""]
[null,"",""]
[null,"",""]
[null,"",""]
[null,"",""]
[null,"",""]
[null,"",""]
[null,"",""]
[null,"",""]
[null,"",""]
[null,"",""]
[null,"",""]
[null,"",""]
[null,"",""]
[null,"",""]
[null,"",""]
[null,"",""]
[null,"",""]
[null,"",""]
[null,"",""]
[null,"",""]
[null,"",""]
[null,"",""]
[null,"",""]
[null,"",""]
[null,"",""]
[null,"",""]
[null,"",""]
[null,"",""]
[null,"",""]
[null,"",""]
[null,"",""]
[null,"",""]
[null,"",""]
[null,"",""]
[null,"",""]
[null,"",""]
[null,"",""]
[null,"",""]
[null,"",""]
[null,"",""]
[null,"",""]
[null,"",""]
[null,"",""]
[null,"",""]
[null,"",""]
[null,"",""]
[null,"",""]
[null,"",""]
[null,"",""]
[null,"",""]
[null,"",""]
[null,"",""]
[null,"",""]
[null,"",""]
[null,"",""]
[null,"",""]
[null,"",""]
[null,"",""]
[null,"",""]
[null,"",""]
[null,"",""]
[null,"",""]
[null,"",""]
[null,"",""]
[null,"",""]
[null,"",""]
[null,"",""]
[null,"",""]
[null,"",""]
[null,"",""]
[null,"",""]
[null,"",""]
[null,"",""]
[null,"",""]
[null,"",""]
[null,"",""]
[null,"",""]
[null,"",""]
[null,"",""]
[null,"",""]
[null,"",""]
[null,"",""]
[null,"",""]
[null,"",""]
[null,"",""]
[null,"",""]
[null,"",""]
[null,"",""]
[null,"",""]
[null,"",""]
[null,"",""]
[null,"",""]
[null,"",""]
[null,"",""]
[null,"",""]
[null,"",""]
[null,"",""]
[null,"",""]
[null,"",""]
[null,"",""]
[null,"",""]
[null,"",""]
[null,"",""]
[null,"",""]
[null,"",""]
[null,"",""]
[null,"",""]
[null,"",""]
[null,"",""]
[null,"",""]
[null,"",""]
[null,"",""]
[null,"",""]
[null,"",""]
[null,"",""]
[null,"",""]
[null,"",""]
[null,"",""]
[null,"",""]
[null,"",""]
[null,"",""]
[null,"",""]
[null,"",""]
[null,"",""]
[null,"",""]
[null,"",""]
[null,"",""]
[null,"",""]
[null,"",""]
[null,"",""]
[null,"",""]
[null,"",""]
[null,"",""]
[null,"",""]
[null,"",""]
[null,"",""]
[null,"",""]
[null,"",""]
[null,"",""]
[null,"",""]
[null,"",""]
[null,"",""]
[null,"",""]
[null,"",""]
[null,"",""]
[null,"",""]
[null,"",""]
[null,"",""]
[null,"",""]
[null,"",""]
[null,"",""]
[null,"",""]
[null,"",""]
[null,"",""]
[null,"",""]
[null,"",""]
[null,"",""]
[null,"",""]
[null,"",""]
[null,"",""]
[null,"",""]
[null,"",""]
[null,"",""]
[null,"",""]
[null,"",""]
[null,"",""]
[null,"",""]
[null,"",""]
[null,"",""]
[null,"",""]
[null,"",""]
[null,"",""]
[null,"",""]
[null,"",""]
[null,"",""]
[null,"",""]
[null,"",""]
[null,"",""]
[null,"",""]
[null,"",""]
[null,"",""]
[null,"",""]
[null,"",""]
[null,"",""]
[null,"",""]
[null,"",""]
[null,"",""]
[null,"",""]
[null,"",""]
[null,"",""]
[null,"",""]
[null,"",""]
[null,"",""]
[null,"",""]
[null,"",""]
[null,"",""]
[null,"",""]
[null,"",""]
[null,"",""]
[null,"",""]
[null,"",""]
[null,"",""]
[null,"",""]
[null,"",""]
[null,"",""]
[null,"",""]
[null,"",""]
[null,"",""]
[null,"",""]
[null,"",""]
[null,"",""]
[null,"",""]
[null,"",""]
[null,"",""]
[null,"",""]
[null,"",""]
[null,"",""]
[null,"",""]
[null,"",""]
[null,"",""]
[null,"",""]
[null,"",""]
[null,"",""]
[null,"",""]
[null,"",""]
[null,"",""]
[null,"",""]
[null,"",""]
[null,"",""]
[null,"",""]
[null,"",""]
[null,"",""]
[null,"",""]
[null,"",""]
[null,"",""]
[null,"",""]
[null,"",""]
[null,"",""]
[null,"",""]
[null,"",""]
[null,"",""]
[null,"",""]
[null,"",""]
[null,"",""]
[null,"",""]
[null,"",""]
[null,"",""]
[null,"",""]
[null,"",""]
[null,"",""]
[null,"",""]
[null,"",""]
[null,"",""]
[null,"",""]
[null,"",""]
[null,"",""]
[null,"",""]
[null,"",""]
[null,"",""]
[null,"",""]
[null,"",""]
[null,"",""]
[null,"",""]
[null,"",""]
[null,"",""]
[null,"",""]
[null,"",""]
[null,"",""]
[null,"",""]
[null,"",""]
[null,"",""]
[null,"",""]
[null,"",""]
[null,"",""]
[null,"",""]
[null,"",""]
[null,"",""]
[null,"",""]
[null,"",""]
[null,"",""]
[null,"",""]
[null,"",""]
[null,"",""]
[null,"",""]
[null,"",""]
[null,"",""]
[null,"",""]
[null,"",""]
[null,"",""]
[null,"",""]
[null,"",""]
[null,"",""]
[null,"",""]
[null,"",""]
[null,"",""]
[null,"",""]
[null,"",""]
[null,"",""]
[null,"",""]
[null,"",""]
[null,"",""]
[null,"",""]
[null,"",""]
[null,"",""]
[null,"",""]
[null,"",""]
[null,"",""]
[null,"",""]
[null,"",""]
[null,"",""]
[null,"",""]
[null,"",""]
[null,"",""]
[null,"",""]
[null,"",""]
[null,"",""]
[null,"",""]
[null,"",""]
[null,"",""]
[null,"",""]
[null,"",""]
[null,"",""]
[null,"",""]
[null,"",""]
[null,"",""]
[null,"",""]
[null,"",""]
[null,"",""]
[null,"",""]
[null,"",""]
[null,"",""]
[null,"",""]
[null,"",""]
[null,"",""]
[null,"",""]
[null,"",""]
[null,"",""]
[null,"",""]
[null,"",""]
[null,"",""]
[null,"",""]
[null,"",""]
[null,"",""]
[null,"",""]
[null,"",""]
[null,"",""]
[null,"",""]
[null,"",""]
[null,"",""]
[null,"",""]
[null,"",""]
[null,"",""]
[null,"",""]
[null,"",""]
[null,"",""]
[null,"",""]
[null,"",""]
[null,"",""]
[null,"",""]
[null,"",""]
[null,"",""]
[null,"",""]
[null,"",""]
[null,"",""]
[null,"",""]
[null,"",""]
[null,"",""]
[null,"",""]
[null,"",""]
[null,"",""]
[null,"",""]
[null,"",""]
[null,"",""]
[null,"",""]
[null,"",""]
[null,"",""]
[null,"",""]
[null,"",""]
[null,"",""]
[null,"",""]
[null,"",""]
[null,"",""]
[null,"",""]
[null,"",""]
[null,"",""]
[null,"",""]
[null,"",""]
[null,"",""]
[null,"",""]
[null,"",""]
[null,"",""]
[null,"",""]
[null,"",""]
[null,"",""]
[null,"",""]
[null,"",""]
[null,"",""]
[null,"",""]
[null,"",""]
[null,"",""]
[null,"",""]
[null,"",""]
[null,"",""]
[null,"",""]
[null,"",""]
[null,"",""]
[null,"",""]
[null,"",""]
[null,"",""]
[null,"",""]
[null,"",""]
[null,"",""]
[null,"",""]
[null,"",""]
[null,"",""]
[null,"",""]
[null,"",""]
[null,"",""]
[null,"",""]
[null,"",""]
[null,"",""]
[null,"",""]
[null,"",""]
[null,"",""]
[null,"",""]
[null,"",""]
[null,"",""]
[null,"",""]
[null,"",""]
[null,"",""]
[null,"",""]
[null,"",""]
[null,"",""]

{"sheet":"4.журнал торгів","index":3,"n_rows":1210,"n_cols":8,"rows_kept":1210,"cut":false,"hidden":false,"merged":[]}
[null,"Цей документ був підготовлений Фондом гарантування вкладів фізичних осіб (далі – Фонд) виключно для інформаційних цілей і не повинен вважатися як спонукання до будь-яких дій чи бездіяльності. \nІнформація, що міститься в цьому документі, була отримана з/або ґрунтується на джерелах, які вважаються надійними, але не є вичерпною та не може сприйматися як повна або актуальна. Зокрема, але не виключно, станом на дату придбання активів допускаються несуттєві зміни лота, в складі якого продаються такі активи. Під несуттєвими змінами лота слід розуміти такі зміни характеристик активів у складі такого лота, які впливають на його балансову вартість, але не більше ніж на 10 відсотків. Рішення покупця щодо будь-яких дій або бездіяльності повинно ґрунтуватися на власних оцінках та дослідженнях майна (активу/активів), котре реалізується. Фонд не несе відповідальності за рішення покупця та його наслідки, що ґрунтується на інформації, викладеній в даному документі."]
[]
[]
[]
[]
[]
["unicid","Банк","№ кред. Дог","Кількість торгів","Початкова вартість реалізації (голландський аукціон)","Мінімальна ціна на останніх торгах (голландський аукціон)","№ лота","Дата проведення останнього аукціону "]
["320854_37230343_1","ДІАМАНТБАНК","455",1,207132.01,41426.400000000001,"F42GL23075","2018-06-04"]
["320854_37230343_2","ДІАМАНТБАНК","456",1,102617.24,20523.43,"F42GL23075",43255]
["320854_33433758_3","ДІАМАНТБАНК","474",1,145905.9,29181.18,"F42GL23076",43255]
["320854_33433758_4","ДІАМАНТБАНК","475",1,69296.960000000006,13859.39,"F42GL23076",43255]
["320854_33433758_5","ДІАМАНТБАНК","489",1,45414.47,9082.89,"F42GL23076",43255]
["320854_32764906_6","ДІАМАНТБАНК","483",1,392761.92,78552.38,"F42GL23077",43255]
["320854_37624159_7","ДІАМАНТБАНК","517",1,543195.39,108639.08,"F42GL23073",43255]
["320854_16322987_1","ДІАМАНТБАНК","094",1,1875546.88,375109.38,"F42GL36998",43439]
["320854_2455612543_2","ДІАМАНТБАНК","04",1,4499995.33,899999.07,"F42GL36999",43439]
["320854_39374960_3","ДІАМАНТБАНК","052",1,614564.48,122912.9,"F42GL37001",43439]
["320854_36343400_4","ДІАМАНТБАНК","226",1,241010.44,48202.09,"F42GL37002",43439]
["320854_04836770_5","ДІАМАНТБАНК","358",1,6638400,1327680,"F42GL37003",43439]
["320854_32644537_6","ДІАМАНТБАНК","538",1,335807.36,67161.47,"F42GL37004",43439]
["320854_33755274_7","ДІАМАНТБАНК","558",1,235776.29,47155.26,"F42GL37005",43439]
["380719_05747991_1","ВБР","KKPOD.80407.006",15,1028295316.7,205659063.34,"F37GL34171",43395]
["380719_05747991_2","ВБР","KKPOD.80407.017","-","-","-","-","-"]
["380719_05747991_3","ВБР","KKPOD.80407.024","-","-","-","-","-"]
["320702_1899001292_1","Національний кредит","54/07",17,1762882.12,352576.42,"F33GL34516",43406]
["320702_2882405335_2","Національний кредит","41/07",9,1120965.6299999999,224193.13,"F33GL34516",43406]
["320702__3","Національний кредит",0,1,43645113.850000001,8729022.7899999991,"F33GL35835",43425]
["320702__4","Національний кредит",0,1,1724028.13,344805.63,"F33GL35836",43425]
["320702__5","Національний кредит",0,1,461972,92394.4,"F33GL35834",43425]
["320702_22138880_6","Національний кредит","08/08",9,968332.53,193666.51,"F33GL34517",43406]
["328210_36849691_1","ІНВЕСТБАНК","104-12",null,27067.58,5413.52,"F158GL34908",43411]
["328210_22458998_2","ІНВЕСТБАНК",12,null,56176.4,11235.28,"F158GL34908",43411]
["328210_35048706_3","ІНВЕСТБАНК","74/08",null,17284.990000000002,3457,"F158GL34908",43411]
["319111_36407233_1","Радикал","6989-О-2",1,18204.79,3640.96,"F158GL34908",43411]
["300056__1","Легбанк",0,1,58342.59,11668.52,"F158GL34908",43411]
["320995_36336435_1","БГ банк","22",2,726853,14537.05,"F36GL35499",43419]
["320995_37931795_2","БГ банк","б/н",1,183.3,36.660000000000004,"F36GL35499",43419]
["320995_37932097_3","БГ банк","№ 1-ЕЛ",1,1773.08,354.61599999999999,"F36GL35499",43419]
["320995_39453057_4","БГ банк","№ 60",1,1800,360,"F36GL35499",43419]
["320995_3217507733_5","БГ банк","№ 24/6",1,3556.98,711.39600000000007,"F36GL35499",43419]
["320995_3160821917_6","БГ банк","№ 17/9",1,8458.07,1691.614,"F36GL35499",43419]
["320995_2896708016_7","БГ банк","№ 19/6",1,12986.94,2597.3880000000004,"F36GL35499",43419]
["320995_20971504_8","БГ банк","№ 25/06-22-1",1,38231.69,7646.3380000000006,"F36GL35499",43419]
["320995_32323511_9","БГ банк","б/н",1,55592.03,11118.406000000001,"F36GL35499",43419]
["320995_04543795_10","БГ банк","№ ILG/244/12",1,38112.239999999998,7622.4480000000003,"F36GL35499",43419]
["320995_30708792_11","БГ банк","№ ILG/217/13",1,24812.45,4962.4900000000007,"F36GL35499",43419]
["320995_02650587_12","БГ банк","№ ILG/218/13",1,12107.81,2421.5619999999999,"F36GL35499",43419]
["320995_02649621_13","БГ банк","№ ILG/222/13",1,4611.91,922.38200000000006,"F36GL35499",43419]
["320995_01036313_14","БГ банк","№ ILG/238/12",1,2826.52,565.30399999999997,"F36GL35499",43419]
["320995_04543795_15","БГ банк","№ ILG/245/12",1,350.9,70.179999999999993,"F36GL35499",43419]
["320995_2691209496_16","БГ банк","№ 10630702",1,875.16,175.03200000000001,"F36GL35499",43419]
["320995_3001224859_17","БГ банк","№ 735-100/ФК -08",1,5567.88,1113.576,"F36GL35499",43419]
["320995_2972322340_18","БГ банк","№ 1785-0201030/ФК-08",1,455.56,91.112000000000009,"F36GL35499",43419]
["320995__19","БГ банк","№ 100412/1",1,12100.6,2420.1200000000003,"F36GL35499",43419]
["320995__20","БГ банк","№ 180708/08",1,4003.61,800.72200000000009,"F36GL35499",43419]
["320995__21","БГ банк","№ 240413/6",1,1500,300,"F36GL35499",43419]
["320995__22","БГ банк","№ 210114/6",1,1500,300,"F36GL35499",43419]
["320995_19409200_23","БГ банк","№ ЦПд-07-10",1,23000,4600,"F36GL35499",43419]
["320995_2972322340_24","БГ банк","№ 1785-0201030/ФК-08",1,1999.08,399.81600000000003,"F36GL35499",43419]
["320995_3019013333_25","БГ банк","№ 110211/2",1,600,120,"F36GL35499",43419]
["320995_2814413533_26","БГ банк","№ 260711/2",1,600,120,"F36GL35499",43419]
["320995__27","БГ банк","№ 240413/4",1,1500,300,"F36GL35499",43419]
["320995_1080901475_28","БГ банк","№ 180411/1",1,6900,1380,"F36GL35499",43419]
["320995_2870806137_29","БГ банк","№ 9150506",1,628.55999999999995,125.71199999999999,"F36GL35499",43419]
["320995_2614517002_30","БГ банк","№ 110211/7",1,400,80,"F36GL35499",43419]
["320995_2594613538_31","БГ банк","№ 050809/15",1,300,60,"F36GL35499",43419]
["320995_2742010177_32","БГ банк","№ 111209/6",1,275,55,"F36GL35499",43419]
["320995_1826437306_33","БГ банк","№ 050609/11",1,295,59,"F36GL35499",43419]
["320995_2333010370_34","БГ банк","№ 061109/02",1,150,30,"F36GL35499",43419]
["320995__35","БГ банк","№ 210114/1",1,1500,300,"F36GL35499",43419]
["320995_38013519_36","БГ банк","№ 010612/1",1,600,120,"F36GL35499",43419]
["320995_32977421_37","БГ банк","№ 121208/17",1,400,80,"F36GL35499",43419]
["320995_2753016709_38","БГ банк","№ 240912/1",1,2100,420,"F36GL35499",43419]
["320995_2270216829_39","БГ банк","№ 110211/9",1,1300,260,"F36GL35499",43419]
["320995_2767014220_40","БГ банк","№ 110211/10",1,4675,935,"F36GL35499",43419]
["320995_2877305617_41","БГ банк","№ 110211/11",1,1300,260,"F36GL35499",43419]
["320995_2877305617_42","БГ банк","№ 580-013/ФКІП-08",1,2564.67,512.93400000000008,"F36GL35499",43419]
["320995_3001224859_43","БГ банк","№ 735-100/ФК-08",1,26851.89,5370.3780000000006,"F36GL35499",43419]
["320995_2796208369_44","БГ банк","№ 601070001",1,4696.12,939.22400000000005,"F36GL35499",43419]
["320995_2691209496_45","БГ банк","№ 10630702",1,3718.65,743.73,"F36GL35499",43419]
["320995_2881216919_46","БГ банк","№ 110211/1",1,600,120,"F36GL35499",43419]
["320995_32512346_47","БГ банк","№ 210409/06",1,400,80,"F36GL35499",43419]
["320995_32846139_48","БГ банк","№ 130612/1",1,2910,582,"F36GL35499",43419]
["320995_32846139_49","БГ банк","№ 120207/07",1,11900,2380,"F36GL35499",43419]
["320995_35632299_50","БГ банк","№ 110808",1,900,180,"F36GL35499",43419]
["320995_37593283_51","БГ банк","№ 140711/1",1,300,60,"F36GL35499",43419]
["320995_35893575_52","БГ банк","№ 251113/1",1,11970,2394,"F36GL35499",43419]
["320995_32305870_53","БГ банк","№ 281207/28",1,48400,9680,"F36GL35499",43419]
["320995_38567851_54","БГ банк","№ 200213/1",1,2600,520,"F36GL35499",43419]
["320995_2529906853_55","БГ банк","№ 290411/26",1,6900,1380,"F36GL35499",43419]
["320995_2761501957_56","БГ банк","№ 110211/3",1,1300,260,"F36GL35499",43419]
["320995_1877505474_57","БГ банк","№ 260209/02",1,2100,420,"F36GL35499",43419]
["380388_32998525_1","Платинум Банк","39г-10",1,678657.5,135731.5,"F65GL36381",43427]
["380537_31455881_1","ВіЕйБі","3",1,28967149.629999999,5793429.9299999997,"F39GL37481",43451]
["380537_31032802_2","ВіЕйБі","б/н",1,40678534.350000001,8135706.8700000001,"F39GL37481",43451]
["380537_30446130_3","ВіЕйБі","05/К-03ю",1,16742536.949999999,3348507.39,"F39GL37481",43451]
["380537_31803336_4","ВіЕйБі","56",1,18478866.109999999,3695773.22,"F39GL37481",43451]
["380537_32277832_5","ВіЕйБі","08/06ю",1,250723424.68000001,50144684.939999998,"F39GL37481",43451]
["380537_34431924_6","ВіЕйБі","116",1,83546980.349999994,16709396.07,"F39GL37481",43451]
["380537_33755075_7","ВіЕйБі","24-08",1,432475883.33999997,86495176.670000002,"F39GL37481",43451]
["380537_32162756_8","ВіЕйБі","10",1,159534320.41999999,31906864.079999998,"F39GL37481",43451]
["380537_3094722171_9","ВіЕйБі","7/07-SME",1,41579.980000000003,8316,"F39GL36788",41241]
["380537__10","ВіЕйБі",0,null,1057178.92,211435.77,"F39GL36788",41241]
["380537__11","ВіЕйБі",0,null,1762202.96,352440.65,"F39GL36788",41241]
["300131_24725713_1","Фінанси та Кредит","18-01-07",2,855930.17,171186.03,"F07GL36780",43433]
["334969_30530740_1","Укрбізнесбанк","5/ю",1,559026.93000000005,111805.39,"F72GL36776",43433]
["334969_34541410_2","Укрбізнесбанк","14-CевОв  ",1,948042.12,189608.42,"F72GL36777",43433]
["334969_31173285_3","Укрбізнесбанк","15-СевВЛ",1,5048686.3600000003,1009737.27,"F72GL36778",43433]
["380236_31305004_1","Дельта","837 К-Н",6,503716103.93000001,100743220.79000001,"F11GL36962",43438]
["380236_30333638_2","Дельта","02/014/08-КЛТ",1,7037499.5599999996,1407499.91,"F11GL37380",43448]
["380236_2545308895_3","Дельта","03/1/73/05-Z",1,312133.43,62426.69,"F11GL37380",43448]
["380236_30342773_4","Дельта","02/020/08-КЛТ",1,1475843.11,295168.62,"F11GL37376",43448]
["380236_31043568_5","Дельта","02/072/08-КЛТ",1,1149086.28,229817.26,"F11GL37382",43448]
["380236_33188879_6","Дельта","02/169/07-КЛТ",1,1948465.63,389693.13,"F11GL37385",43448]
["380236_30059514_7","Дельта","05/19/2006-КЛВ",1,544383.56000000006,108876.71,"F11GL37383",43448]
["380236_31018374_8","Дельта","3.3ДС/268/2008-КЛТ",1,12162689.199999999,2432537.84,"F11GL37384",43448]
["380236_33080355_9","Дельта","02/009/09-КЛТ",1,610547.92000000004,122109.58,"F11GL37389",43448]
["380236_33080355_10","Дельта","02/081/08-КЛТ",1,865687.66,173137.53,"F11GL37389",43448]
["380236_33080355_11","Дельта","02/104/08-КЛТ",1,1508776.37,301755.27,"F11GL37389",43448]
["380236_31042941_12","Дельта","02/059/08-КЛТ",1,60667265.57,12133453.109999999,"F11GL37387",43448]
["380236_31042941_13","Дельта","02/107/07-КЛТ",1,33905287.109999999,6781057.4199999999,"F11GL37387",43448]
["380236_31613639_14","Дельта","02/106/08-КЛТ",1,8640721.75,1728144.35,"F11GL37379",43448]
["380236_32228880_15","Дельта","02/186/07-КЛТ",1,1949999,389999.8,"F11GL37386",43448]
["380236_31369120_16","Дельта","04.1/55/06-КЛТ",1,3533757.89,706751.58,"F11GL37391",43448]
["380236_31463094_17","Дельта","04/22/07-КЛТ",1,1037523.84,207504.77,"F11GL37381",43448]
["380236_33869158_18","Дельта","04/24/07-КЛТ",1,908524.94,181704.99,"F11GL37388",43448]
["380236_33382337_19","Дельта","05/67/2006-КЛВ",1,1598312.86,319662.57,"F11GL37378",43448]
["380236_30511875_20","Дельта","07/038/06-КЛТ",1,604597.28,120919.46,"F11GL37377",43448]
["380236_2819202415_21","Дельта","0709/17/05-А",1,1009750.1,201950.02,"F11GL37377",43448]
["380236_32843118_22","Дельта","22/88-Т-05",1,2000085.63,400017.13,"F11GL37392",43448]
["380236_33256640_23","Дельта","23/К-07",1,356635.67,71327.13,"F11GL37375",43448]
["380236_32284441_24","Дельта","49.8.2/05/2007-К",1,175600,35120,"F11GL37390",43448]
["319092_32979130_1","Київськая Русь","59106-44.15",1,7743.19,1548.64,"F29GL36997",43439]
["319092_2261722641_2","Київськая Русь","19401-45.12",1,45027.77,9005.5499999999993,"F29GL36997",43439]
["319092_23758308_3","Київськая Русь","70376-20/14-7",1,36610.910000000003,7322.18,"F29GL36997",43439]
["319092_23538073_4","Київськая Русь","70381-20/14-7",1,62295.49,12459.1,"F29GL36997",43439]
["319092_31473118_5","Київськая Русь","70517-20/14-7",1,5000,1000,"F29GL36997",43439]
["319092_37501920_6","Київськая Русь","16202-20/12-1",1,91490.62,18298.12,"F29GL36997",43439]
["300056_23227999_1","Легбанк","07",1,954468.67,190893.73,"F61GL37407",43446]
["_36135129_1","БАНК БОГУСЛАВ","15/01-КР-25/2012",1,27179582.399999999,5435916.4800000004,"F121GL37442",43448]
[null,{"$f":"IFERROR(VLOOKUP(A141,'1.Портфель кредитів'!A:AB,3,FALSE),\"\")","v":""},{"$f":"IFERROR(VLOOKUP(A141,'1.Портфель кредитів'!A:AB,14,FALSE),\"\")","v":""}]
[null,{"$f":"IFERROR(VLOOKUP(A142,'1.Портфель кредитів'!A:AB,3,FALSE),\"\")","v":""},{"$f":"IFERROR(VLOOKUP(A142,'1.Портфель кредитів'!A:AB,14,FALSE),\"\")","v":""}]
[null,{"$f":"IFERROR(VLOOKUP(A143,'1.Портфель кредитів'!A:AB,3,FALSE),\"\")","v":""},{"$f":"IFERROR(VLOOKUP(A143,'1.Портфель кредитів'!A:AB,14,FALSE),\"\")","v":""}]
[null,{"$f":"IFERROR(VLOOKUP(A144,'1.Портфель кредитів'!A:AB,3,FALSE),\"\")","v":""},{"$f":"IFERROR(VLOOKUP(A144,'1.Портфель кредитів'!A:AB,14,FALSE),\"\")","v":""}]
[null,{"$f":"IFERROR(VLOOKUP(A145,'1.Портфель кредитів'!A:AB,3,FALSE),\"\")","v":""},{"$f":"IFERROR(VLOOKUP(A145,'1.Портфель кредитів'!A:AB,14,FALSE),\"\")","v":""}]
[null,{"$f":"IFERROR(VLOOKUP(A146,'1.Портфель кредитів'!A:AB,3,FALSE),\"\")","v":""},{"$f":"IFERROR(VLOOKUP(A146,'1.Портфель кредитів'!A:AB,14,FALSE),\"\")","v":""}]
[null,{"$f":"IFERROR(VLOOKUP(A147,'1.Портфель кредитів'!A:AB,3,FALSE),\"\")","v":""},{"$f":"IFERROR(VLOOKUP(A147,'1.Портфель кредитів'!A:AB,14,FALSE),\"\")","v":""}]
[null,{"$f":"IFERROR(VLOOKUP(A148,'1.Портфель кредитів'!A:AB,3,FALSE),\"\")","v":""},{"$f":"IFERROR(VLOOKUP(A148,'1.Портфель кредитів'!A:AB,14,FALSE),\"\")","v":""}]
[null,{"$f":"IFERROR(VLOOKUP(A149,'1.Портфель кредитів'!A:AB,3,FALSE),\"\")","v":""},{"$f":"IFERROR(VLOOKUP(A149,'1.Портфель кредитів'!A:AB,14,FALSE),\"\")","v":""}]
[null,{"$f":"IFERROR(VLOOKUP(A150,'1.Портфель кредитів'!A:AB,3,FALSE),\"\")","v":""},{"$f":"IFERROR(VLOOKUP(A150,'1.Портфель кредитів'!A:AB,14,FALSE),\"\")","v":""}]
[null,{"$f":"IFERROR(VLOOKUP(A151,'1.Портфель кредитів'!A:AB,3,FALSE),\"\")","v":""},{"$f":"IFERROR(VLOOKUP(A151,'1.Портфель кредитів'!A:AB,14,FALSE),\"\")","v":""}]
[null,{"$f":"IFERROR(VLOOKUP(A152,'1.Портфель кредитів'!A:AB,3,FALSE),\"\")","v":""},{"$f":"IFERROR(VLOOKUP(A152,'1.Портфель кредитів'!A:AB,14,FALSE),\"\")","v":""}]
[null,{"$f":"IFERROR(VLOOKUP(A153,'1.Портфель кредитів'!A:AB,3,FALSE),\"\")","v":""},{"$f":"IFERROR(VLOOKUP(A153,'1.Портфель кредитів'!A:AB,14,FALSE),\"\")","v":""}]
[null,{"$f":"IFERROR(VLOOKUP(A154,'1.Портфель кредитів'!A:AB,3,FALSE),\"\")","v":""},{"$f":"IFERROR(VLOOKUP(A154,'1.Портфель кредитів'!A:AB,14,FALSE),\"\")","v":""}]
[null,{"$f":"IFERROR(VLOOKUP(A155,'1.Портфель кредитів'!A:AB,3,FALSE),\"\")","v":""},{"$f":"IFERROR(VLOOKUP(A155,'1.Портфель кредитів'!A:AB,14,FALSE),\"\")","v":""}]
[null,{"$f":"IFERROR(VLOOKUP(A156,'1.Портфель кредитів'!A:AB,3,FALSE),\"\")","v":""},{"$f":"IFERROR(VLOOKUP(A156,'1.Портфель кредитів'!A:AB,14,FALSE),\"\")","v":""}]
[null,{"$f":"IFERROR(VLOOKUP(A157,'1.Портфель кредитів'!A:AB,3,FALSE),\"\")","v":""},{"$f":"IFERROR(VLOOKUP(A157,'1.Портфель кредитів'!A:AB,14,FALSE),\"\")","v":""}]
[null,{"$f":"IFERROR(VLOOKUP(A158,'1.Портфель кредитів'!A:AB,3,FALSE),\"\")","v":""},{"$f":"IFERROR(VLOOKUP(A158,'1.Портфель кредитів'!A:AB,14,FALSE),\"\")","v":""}]
[null,{"$f":"IFERROR(VLOOKUP(A159,'1.Портфель кредитів'!A:AB,3,FALSE),\"\")","v":""},{"$f":"IFERROR(VLOOKUP(A159,'1.Портфель кредитів'!A:AB,14,FALSE),\"\")","v":""}]
[null,{"$f":"IFERROR(VLOOKUP(A160,'1.Портфель кредитів'!A:AB,3,FALSE),\"\")","v":""},{"$f":"IFERROR(VLOOKUP(A160,'1.Портфель кредитів'!A:AB,14,FALSE),\"\")","v":""}]
[null,{"$f":"IFERROR(VLOOKUP(A161,'1.Портфель кредитів'!A:AB,3,FALSE),\"\")","v":""},{"$f":"IFERROR(VLOOKUP(A161,'1.Портфель кредитів'!A:AB,14,FALSE),\"\")","v":""}]
[null,{"$f":"IFERROR(VLOOKUP(A162,'1.Портфель кредитів'!A:AB,3,FALSE),\"\")","v":""},{"$f":"IFERROR(VLOOKUP(A162,'1.Портфель кредитів'!A:AB,14,FALSE),\"\")","v":""}]
[null,{"$f":"IFERROR(VLOOKUP(A163,'1.Портфель кредитів'!A:AB,3,FALSE),\"\")","v":""},{"$f":"IFERROR(VLOOKUP(A163,'1.Портфель кредитів'!A:AB,14,FALSE),\"\")","v":""}]
[null,{"$f":"IFERROR(VLOOKUP(A164,'1.Портфель кредитів'!A:AB,3,FALSE),\"\")","v":""},{"$f":"IFERROR(VLOOKUP(A164,'1.Портфель кредитів'!A:AB,14,FALSE),\"\")","v":""}]
[null,{"$f":"IFERROR(VLOOKUP(A165,'1.Портфель кредитів'!A:AB,3,FALSE),\"\")","v":""},{"$f":"IFERROR(VLOOKUP(A165,'1.Портфель кредитів'!A:AB,14,FALSE),\"\")","v":""}]
[null,{"$f":"IFERROR(VLOOKUP(A166,'1.Портфель кредитів'!A:AB,3,FALSE),\"\")","v":""},{"$f":"IFERROR(VLOOKUP(A166,'1.Портфель кредитів'!A:AB,14,FALSE),\"\")","v":""}]
[null,{"$f":"IFERROR(VLOOKUP(A167,'1.Портфель кредитів'!A:AB,3,FALSE),\"\")","v":""},{"$f":"IFERROR(VLOOKUP(A167,'1.Портфель кредитів'!A:AB,14,FALSE),\"\")","v":""}]
[null,{"$f":"IFERROR(VLOOKUP(A168,'1.Портфель кредитів'!A:AB,3,FALSE),\"\")","v":""},{"$f":"IFERROR(VLOOKUP(A168,'1.Портфель кредитів'!A:AB,14,FALSE),\"\")","v":""}]
[null,{"$f":"IFERROR(VLOOKUP(A169,'1.Портфель кредитів'!A:AB,3,FALSE),\"\")","v":""},{"$f":"IFERROR(VLOOKUP(A169,'1.Портфель кредитів'!A:AB,14,FALSE),\"\")","v":""}]
[null,{"$f":"IFERROR(VLOOKUP(A170,'1.Портфель кредитів'!A:AB,3,FALSE),\"\")","v":""},{"$f":"IFERROR(VLOOKUP(A170,'1.Портфель кредитів'!A:AB,14,FALSE),\"\")","v":""}]
[null,{"$f":"IFERROR(VLOOKUP(A171,'1.Портфель кредитів'!A:AB,3,FALSE),\"\")","v":""},{"$f":"IFERROR(VLOOKUP(A171,'1.Портфель кредитів'!A:AB,14,FALSE),\"\")","v":""}]
[null,{"$f":"IFERROR(VLOOKUP(A172,'1.Портфель кредитів'!A:AB,3,FALSE),\"\")","v":""},{"$f":"IFERROR(VLOOKUP(A172,'1.Портфель кредитів'!A:AB,14,FALSE),\"\")","v":""}]
[null,{"$f":"IFERROR(VLOOKUP(A173,'1.Портфель кредитів'!A:AB,3,FALSE),\"\")","v":""},{"$f":"IFERROR(VLOOKUP(A173,'1.Портфель кредитів'!A:AB,14,FALSE),\"\")","v":""}]
[null,{"$f":"IFERROR(VLOOKUP(A174,'1.Портфель кредитів'!A:AB,3,FALSE),\"\")","v":""},{"$f":"IFERROR(VLOOKUP(A174,'1.Портфель кредитів'!A:AB,14,FALSE),\"\")","v":""}]
[null,{"$f":"IFERROR(VLOOKUP(A175,'1.Портфель кредитів'!A:AB,3,FALSE),\"\")","v":""},{"$f":"IFERROR(VLOOKUP(A175,'1.Портфель кредитів'!A:AB,14,FALSE),\"\")","v":""}]
[null,{"$f":"IFERROR(VLOOKUP(A176,'1.Портфель кредитів'!A:AB,3,FALSE),\"\")","v":""},{"$f":"IFERROR(VLOOKUP(A176,'1.Портфель кредитів'!A:AB,14,FALSE),\"\")","v":""}]
[null,{"$f":"IFERROR(VLOOKUP(A177,'1.Портфель кредитів'!A:AB,3,FALSE),\"\")","v":""},{"$f":"IFERROR(VLOOKUP(A177,'1.Портфель кредитів'!A:AB,14,FALSE),\"\")","v":""}]
[null,{"$f":"IFERROR(VLOOKUP(A178,'1.Портфель кредитів'!A:AB,3,FALSE),\"\")","v":""},{"$f":"IFERROR(VLOOKUP(A178,'1.Портфель кредитів'!A:AB,14,FALSE),\"\")","v":""}]
[null,{"$f":"IFERROR(VLOOKUP(A179,'1.Портфель кредитів'!A:AB,3,FALSE),\"\")","v":""},{"$f":"IFERROR(VLOOKUP(A179,'1.Портфель кредитів'!A:AB,14,FALSE),\"\")","v":""}]
[null,{"$f":"IFERROR(VLOOKUP(A180,'1.Портфель кредитів'!A:AB,3,FALSE),\"\")","v":""},{"$f":"IFERROR(VLOOKUP(A180,'1.Портфель кредитів'!A:AB,14,FALSE),\"\")","v":""}]
[null,{"$f":"IFERROR(VLOOKUP(A181,'1.Портфель кредитів'!A:AB,3,FALSE),\"\")","v":""},{"$f":"IFERROR(VLOOKUP(A181,'1.Портфель кредитів'!A:AB,14,FALSE),\"\")","v":""}]
[null,{"$f":"IFERROR(VLOOKUP(A182,'1.Портфель кредитів'!A:AB,3,FALSE),\"\")","v":""},{"$f":"IFERROR(VLOOKUP(A182,'1.Портфель кредитів'!A:AB,14,FALSE),\"\")","v":""}]
[null,{"$f":"IFERROR(VLOOKUP(A183,'1.Портфель кредитів'!A:AB,3,FALSE),\"\")","v":""},{"$f":"IFERROR(VLOOKUP(A183,'1.Портфель кредитів'!A:AB,14,FALSE),\"\")","v":""}]
[null,{"$f":"IFERROR(VLOOKUP(A184,'1.Портфель кредитів'!A:AB,3,FALSE),\"\")","v":""},{"$f":"IFERROR(VLOOKUP(A184,'1.Портфель кредитів'!A:AB,14,FALSE),\"\")","v":""}]
[null,{"$f":"IFERROR(VLOOKUP(A185,'1.Портфель кредитів'!A:AB,3,FALSE),\"\")","v":""},{"$f":"IFERROR(VLOOKUP(A185,'1.Портфель кредитів'!A:AB,14,FALSE),\"\")","v":""}]
[null,{"$f":"IFERROR(VLOOKUP(A186,'1.Портфель кредитів'!A:AB,3,FALSE),\"\")","v":""},{"$f":"IFERROR(VLOOKUP(A186,'1.Портфель кредитів'!A:AB,14,FALSE),\"\")","v":""}]
[null,{"$f":"IFERROR(VLOOKUP(A187,'1.Портфель кредитів'!A:AB,3,FALSE),\"\")","v":""},{"$f":"IFERROR(VLOOKUP(A187,'1.Портфель кредитів'!A:AB,14,FALSE),\"\")","v":""}]
[null,{"$f":"IFERROR(VLOOKUP(A188,'1.Портфель кредитів'!A:AB,3,FALSE),\"\")","v":""},{"$f":"IFERROR(VLOOKUP(A188,'1.Портфель кредитів'!A:AB,14,FALSE),\"\")","v":""}]
[null,{"$f":"IFERROR(VLOOKUP(A189,'1.Портфель кредитів'!A:AB,3,FALSE),\"\")","v":""},{"$f":"IFERROR(VLOOKUP(A189,'1.Портфель кредитів'!A:AB,14,FALSE),\"\")","v":""}]
[null,{"$f":"IFERROR(VLOOKUP(A190,'1.Портфель кредитів'!A:AB,3,FALSE),\"\")","v":""},{"$f":"IFERROR(VLOOKUP(A190,'1.Портфель кредитів'!A:AB,14,FALSE),\"\")","v":""}]
[null,{"$f":"IFERROR(VLOOKUP(A191,'1.Портфель кредитів'!A:AB,3,FALSE),\"\")","v":""},{"$f":"IFERROR(VLOOKUP(A191,'1.Портфель кредитів'!A:AB,14,FALSE),\"\")","v":""}]
[null,{"$f":"IFERROR(VLOOKUP(A192,'1.Портфель кредитів'!A:AB,3,FALSE),\"\")","v":""},{"$f":"IFERROR(VLOOKUP(A192,'1.Портфель кредитів'!A:AB,14,FALSE),\"\")","v":""}]
[null,{"$f":"IFERROR(VLOOKUP(A193,'1.Портфель кредитів'!A:AB,3,FALSE),\"\")","v":""},{"$f":"IFERROR(VLOOKUP(A193,'1.Портфель кредитів'!A:AB,14,FALSE),\"\")","v":""}]
[null,{"$f":"IFERROR(VLOOKUP(A194,'1.Портфель кредитів'!A:AB,3,FALSE),\"\")","v":""},{"$f":"IFERROR(VLOOKUP(A194,'1.Портфель кредитів'!A:AB,14,FALSE),\"\")","v":""}]
[null,{"$f":"IFERROR(VLOOKUP(A195,'1.Портфель кредитів'!A:AB,3,FALSE),\"\")","v":""},{"$f":"IFERROR(VLOOKUP(A195,'1.Портфель кредитів'!A:AB,14,FALSE),\"\")","v":""}]
[null,{"$f":"IFERROR(VLOOKUP(A196,'1.Портфель кредитів'!A:AB,3,FALSE),\"\")","v":""},{"$f":"IFERROR(VLOOKUP(A196,'1.Портфель кредитів'!A:AB,14,FALSE),\"\")","v":""}]
[null,{"$f":"IFERROR(VLOOKUP(A197,'1.Портфель кредитів'!A:AB,3,FALSE),\"\")","v":""},{"$f":"IFERROR(VLOOKUP(A197,'1.Портфель кредитів'!A:AB,14,FALSE),\"\")","v":""}]
[null,{"$f":"IFERROR(VLOOKUP(A198,'1.Портфель кредитів'!A:AB,3,FALSE),\"\")","v":""},{"$f":"IFERROR(VLOOKUP(A198,'1.Портфель кредитів'!A:AB,14,FALSE),\"\")","v":""}]
[null,{"$f":"IFERROR(VLOOKUP(A199,'1.Портфель кредитів'!A:AB,3,FALSE),\"\")","v":""},{"$f":"IFERROR(VLOOKUP(A199,'1.Портфель кредитів'!A:AB,14,FALSE),\"\")","v":""}]
[null,{"$f":"IFERROR(VLOOKUP(A200,'1.Портфель кредитів'!A:AB,3,FALSE),\"\")","v":""},{"$f":"IFERROR(VLOOKUP(A200,'1.Портфель кредитів'!A:AB,14,FALSE),\"\")","v":""}]
[null,{"$f":"IFERROR(VLOOKUP(A201,'1.Портфель кредитів'!A:AB,3,FALSE),\"\")","v":""},{"$f":"IFERROR(VLOOKUP(A201,'1.Портфель кредитів'!A:AB,14,FALSE),\"\")","v":""}]
[null,{"$f":"IFERROR(VLOOKUP(A202,'1.Портфель кредитів'!A:AB,3,FALSE),\"\")","v":""},{"$f":"IFERROR(VLOOKUP(A202,'1.Портфель кредитів'!A:AB,14,FALSE),\"\")","v":""}]
[null,{"$f":"IFERROR(VLOOKUP(A203,'1.Портфель кредитів'!A:AB,3,FALSE),\"\")","v":""},{"$f":"IFERROR(VLOOKUP(A203,'1.Портфель кредитів'!A:AB,14,FALSE),\"\")","v":""}]
[null,{"$f":"IFERROR(VLOOKUP(A204,'1.Портфель кредитів'!A:AB,3,FALSE),\"\")","v":""},{"$f":"IFERROR(VLOOKUP(A204,'1.Портфель кредитів'!A:AB,14,FALSE),\"\")","v":""}]
[null,{"$f":"IFERROR(VLOOKUP(A205,'1.Портфель кредитів'!A:AB,3,FALSE),\"\")","v":""},{"$f":"IFERROR(VLOOKUP(A205,'1.Портфель кредитів'!A:AB,14,FALSE),\"\")","v":""}]
[null,{"$f":"IFERROR(VLOOKUP(A206,'1.Портфель кредитів'!A:AB,3,FALSE),\"\")","v":""},{"$f":"IFERROR(VLOOKUP(A206,'1.Портфель кредитів'!A:AB,14,FALSE),\"\")","v":""}]
[null,{"$f":"IFERROR(VLOOKUP(A207,'1.Портфель кредитів'!A:AB,3,FALSE),\"\")","v":""},{"$f":"IFERROR(VLOOKUP(A207,'1.Портфель кредитів'!A:AB,14,FALSE),\"\")","v":""}]
[null,{"$f":"IFERROR(VLOOKUP(A208,'1.Портфель кредитів'!A:AB,3,FALSE),\"\")","v":""},{"$f":"IFERROR(VLOOKUP(A208,'1.Портфель кредитів'!A:AB,14,FALSE),\"\")","v":""}]
[null,{"$f":"IFERROR(VLOOKUP(A209,'1.Портфель кредитів'!A:AB,3,FALSE),\"\")","v":""},{"$f":"IFERROR(VLOOKUP(A209,'1.Портфель кредитів'!A:AB,14,FALSE),\"\")","v":""}]
[null,{"$f":"IFERROR(VLOOKUP(A210,'1.Портфель кредитів'!A:AB,3,FALSE),\"\")","v":""},{"$f":"IFERROR(VLOOKUP(A210,'1.Портфель кредитів'!A:AB,14,FALSE),\"\")","v":""}]
[null,{"$f":"IFERROR(VLOOKUP(A211,'1.Портфель кредитів'!A:AB,3,FALSE),\"\")","v":""},{"$f":"IFERROR(VLOOKUP(A211,'1.Портфель кредитів'!A:AB,14,FALSE),\"\")","v":""}]
[null,{"$f":"IFERROR(VLOOKUP(A212,'1.Портфель кредитів'!A:AB,3,FALSE),\"\")","v":""},{"$f":"IFERROR(VLOOKUP(A212,'1.Портфель кредитів'!A:AB,14,FALSE),\"\")","v":""}]
[null,{"$f":"IFERROR(VLOOKUP(A213,'1.Портфель кредитів'!A:AB,3,FALSE),\"\")","v":""},{"$f":"IFERROR(VLOOKUP(A213,'1.Портфель кредитів'!A:AB,14,FALSE),\"\")","v":""}]
[null,{"$f":"IFERROR(VLOOKUP(A214,'1.Портфель кредитів'!A:AB,3,FALSE),\"\")","v":""},{"$f":"IFERROR(VLOOKUP(A214,'1.Портфель кредитів'!A:AB,14,FALSE),\"\")","v":""}]
[null,{"$f":"IFERROR(VLOOKUP(A215,'1.Портфель кредитів'!A:AB,3,FALSE),\"\")","v":""},{"$f":"IFERROR(VLOOKUP(A215,'1.Портфель кредитів'!A:AB,14,FALSE),\"\")","v":""}]
[null,{"$f":"IFERROR(VLOOKUP(A216,'1.Портфель кредитів'!A:AB,3,FALSE),\"\")","v":""},{"$f":"IFERROR(VLOOKUP(A216,'1.Портфель кредитів'!A:AB,14,FALSE),\"\")","v":""}]
[null,{"$f":"IFERROR(VLOOKUP(A217,'1.Портфель кредитів'!A:AB,3,FALSE),\"\")","v":""},{"$f":"IFERROR(VLOOKUP(A217,'1.Портфель кредитів'!A:AB,14,FALSE),\"\")","v":""}]
[null,{"$f":"IFERROR(VLOOKUP(A218,'1.Портфель кредитів'!A:AB,3,FALSE),\"\")","v":""},{"$f":"IFERROR(VLOOKUP(A218,'1.Портфель кредитів'!A:AB,14,FALSE),\"\")","v":""}]
[null,{"$f":"IFERROR(VLOOKUP(A219,'1.Портфель кредитів'!A:AB,3,FALSE),\"\")","v":""},{"$f":"IFERROR(VLOOKUP(A219,'1.Портфель кредитів'!A:AB,14,FALSE),\"\")","v":""}]
[null,{"$f":"IFERROR(VLOOKUP(A220,'1.Портфель кредитів'!A:AB,3,FALSE),\"\")","v":""},{"$f":"IFERROR(VLOOKUP(A220,'1.Портфель кредитів'!A:AB,14,FALSE),\"\")","v":""}]
[null,{"$f":"IFERROR(VLOOKUP(A221,'1.Портфель кредитів'!A:AB,3,FALSE),\"\")","v":""},{"$f":"IFERROR(VLOOKUP(A221,'1.Портфель кредитів'!A:AB,14,FALSE),\"\")","v":""}]
[null,{"$f":"IFERROR(VLOOKUP(A222,'1.Портфель кредитів'!A:AB,3,FALSE),\"\")","v":""},{"$f":"IFERROR(VLOOKUP(A222,'1.Портфель кредитів'!A:AB,14,FALSE),\"\")","v":""}]
[null,{"$f":"IFERROR(VLOOKUP(A223,'1.Портфель кредитів'!A:AB,3,FALSE),\"\")","v":""},{"$f":"IFERROR(VLOOKUP(A223,'1.Портфель кредитів'!A:AB,14,FALSE),\"\")","v":""}]
[null,{"$f":"IFERROR(VLOOKUP(A224,'1.Портфель кредитів'!A:AB,3,FALSE),\"\")","v":""},{"$f":"IFERROR(VLOOKUP(A224,'1.Портфель кредитів'!A:AB,14,FALSE),\"\")","v":""}]
[null,{"$f":"IFERROR(VLOOKUP(A225,'1.Портфель кредитів'!A:AB,3,FALSE),\"\")","v":""},{"$f":"IFERROR(VLOOKUP(A225,'1.Портфель кредитів'!A:AB,14,FALSE),\"\")","v":""}]
[null,{"$f":"IFERROR(VLOOKUP(A226,'1.Портфель кредитів'!A:AB,3,FALSE),\"\")","v":""},{"$f":"IFERROR(VLOOKUP(A226,'1.Портфель кредитів'!A:AB,14,FALSE),\"\")","v":""}]
[null,{"$f":"IFERROR(VLOOKUP(A227,'1.Портфель кредитів'!A:AB,3,FALSE),\"\")","v":""},{"$f":"IFERROR(VLOOKUP(A227,'1.Портфель кредитів'!A:AB,14,FALSE),\"\")","v":""}]
[null,{"$f":"IFERROR(VLOOKUP(A228,'1.Портфель кредитів'!A:AB,3,FALSE),\"\")","v":""},{"$f":"IFERROR(VLOOKUP(A228,'1.Портфель кредитів'!A:AB,14,FALSE),\"\")","v":""}]
[null,{"$f":"IFERROR(VLOOKUP(A229,'1.Портфель кредитів'!A:AB,3,FALSE),\"\")","v":""},{"$f":"IFERROR(VLOOKUP(A229,'1.Портфель кредитів'!A:AB,14,FALSE),\"\")","v":""}]
[null,{"$f":"IFERROR(VLOOKUP(A230,'1.Портфель кредитів'!A:AB,3,FALSE),\"\")","v":""},{"$f":"IFERROR(VLOOKUP(A230,'1.Портфель кредитів'!A:AB,14,FALSE),\"\")","v":""}]
[null,{"$f":"IFERROR(VLOOKUP(A231,'1.Портфель кредитів'!A:AB,3,FALSE),\"\")","v":""},{"$f":"IFERROR(VLOOKUP(A231,'1.Портфель кредитів'!A:AB,14,FALSE),\"\")","v":""}]
[null,{"$f":"IFERROR(VLOOKUP(A232,'1.Портфель кредитів'!A:AB,3,FALSE),\"\")","v":""},{"$f":"IFERROR(VLOOKUP(A232,'1.Портфель кредитів'!A:AB,14,FALSE),\"\")","v":""}]
[null,{"$f":"IFERROR(VLOOKUP(A233,'1.Портфель кредитів'!A:AB,3,FALSE),\"\")","v":""},{"$f":"IFERROR(VLOOKUP(A233,'1.Портфель кредитів'!A:AB,14,FALSE),\"\")","v":""}]
[null,{"$f":"IFERROR(VLOOKUP(A234,'1.Портфель кредитів'!A:AB,3,FALSE),\"\")","v":""},{"$f":"IFERROR(VLOOKUP(A234,'1.Портфель кредитів'!A:AB,14,FALSE),\"\")","v":""}]
[null,{"$f":"IFERROR(VLOOKUP(A235,'1.Портфель кредитів'!A:AB,3,FALSE),\"\")","v":""},{"$f":"IFERROR(VLOOKUP(A235,'1.Портфель кредитів'!A:AB,14,FALSE),\"\")","v":""}]
[null,{"$f":"IFERROR(VLOOKUP(A236,'1.Портфель кредитів'!A:AB,3,FALSE),\"\")","v":""},{"$f":"IFERROR(VLOOKUP(A236,'1.Портфель кредитів'!A:AB,14,FALSE),\"\")","v":""}]
[null,{"$f":"IFERROR(VLOOKUP(A237,'1.Портфель кредитів'!A:AB,3,FALSE),\"\")","v":""},{"$f":"IFERROR(VLOOKUP(A237,'1.Портфель кредитів'!A:AB,14,FALSE),\"\")","v":""}]
[null,{"$f":"IFERROR(VLOOKUP(A238,'1.Портфель кредитів'!A:AB,3,FALSE),\"\")","v":""},{"$f":"IFERROR(VLOOKUP(A238,'1.Портфель кредитів'!A:AB,14,FALSE),\"\")","v":""}]
[null,{"$f":"IFERROR(VLOOKUP(A239,'1.Портфель кредитів'!A:AB,3,FALSE),\"\")","v":""},{"$f":"IFERROR(VLOOKUP(A239,'1.Портфель кредитів'!A:AB,14,FALSE),\"\")","v":""}]
[null,{"$f":"IFERROR(VLOOKUP(A240,'1.Портфель кредитів'!A:AB,3,FALSE),\"\")","v":""},{"$f":"IFERROR(VLOOKUP(A240,'1.Портфель кредитів'!A:AB,14,FALSE),\"\")","v":""}]
[null,{"$f":"IFERROR(VLOOKUP(A241,'1.Портфель кредитів'!A:AB,3,FALSE),\"\")","v":""},{"$f":"IFERROR(VLOOKUP(A241,'1.Портфель кредитів'!A:AB,14,FALSE),\"\")","v":""}]
[null,{"$f":"IFERROR(VLOOKUP(A242,'1.Портфель кредитів'!A:AB,3,FALSE),\"\")","v":""},{"$f":"IFERROR(VLOOKUP(A242,'1.Портфель кредитів'!A:AB,14,FALSE),\"\")","v":""}]
[null,{"$f":"IFERROR(VLOOKUP(A243,'1.Портфель кредитів'!A:AB,3,FALSE),\"\")","v":""},{"$f":"IFERROR(VLOOKUP(A243,'1.Портфель кредитів'!A:AB,14,FALSE),\"\")","v":""}]
[null,{"$f":"IFERROR(VLOOKUP(A244,'1.Портфель кредитів'!A:AB,3,FALSE),\"\")","v":""},{"$f":"IFERROR(VLOOKUP(A244,'1.Портфель кредитів'!A:AB,14,FALSE),\"\")","v":""}]
[null,{"$f":"IFERROR(VLOOKUP(A245,'1.Портфель кредитів'!A:AB,3,FALSE),\"\")","v":""},{"$f":"IFERROR(VLOOKUP(A245,'1.Портфель кредитів'!A:AB,14,FALSE),\"\")","v":""}]
[null,{"$f":"IFERROR(VLOOKUP(A246,'1.Портфель кредитів'!A:AB,3,FALSE),\"\")","v":""},{"$f":"IFERROR(VLOOKUP(A246,'1.Портфель кредитів'!A:AB,14,FALSE),\"\")","v":""}]
[null,{"$f":"IFERROR(VLOOKUP(A247,'1.Портфель кредитів'!A:AB,3,FALSE),\"\")","v":""},{"$f":"IFERROR(VLOOKUP(A247,'1.Портфель кредитів'!A:AB,14,FALSE),\"\")","v":""}]
[null,{"$f":"IFERROR(VLOOKUP(A248,'1.Портфель кредитів'!A:AB,3,FALSE),\"\")","v":""},{"$f":"IFERROR(VLOOKUP(A248,'1.Портфель кредитів'!A:AB,14,FALSE),\"\")","v":""}]
[null,{"$f":"IFERROR(VLOOKUP(A249,'1.Портфель кредитів'!A:AB,3,FALSE),\"\")","v":""},{"$f":"IFERROR(VLOOKUP(A249,'1.Портфель кредитів'!A:AB,14,FALSE),\"\")","v":""}]
[null,{"$f":"IFERROR(VLOOKUP(A250,'1.Портфель кредитів'!A:AB,3,FALSE),\"\")","v":""},{"$f":"IFERROR(VLOOKUP(A250,'1.Портфель кредитів'!A:AB,14,FALSE),\"\")","v":""}]
[null,{"$f":"IFERROR(VLOOKUP(A251,'1.Портфель кредитів'!A:AB,3,FALSE),\"\")","v":""},{"$f":"IFERROR(VLOOKUP(A251,'1.Портфель кредитів'!A:AB,14,FALSE),\"\")","v":""}]
[null,{"$f":"IFERROR(VLOOKUP(A252,'1.Портфель кредитів'!A:AB,3,FALSE),\"\")","v":""},{"$f":"IFERROR(VLOOKUP(A252,'1.Портфель кредитів'!A:AB,14,FALSE),\"\")","v":""}]
[null,{"$f":"IFERROR(VLOOKUP(A253,'1.Портфель кредитів'!A:AB,3,FALSE),\"\")","v":""},{"$f":"IFERROR(VLOOKUP(A253,'1.Портфель кредитів'!A:AB,14,FALSE),\"\")","v":""}]
[null,{"$f":"IFERROR(VLOOKUP(A254,'1.Портфель кредитів'!A:AB,3,FALSE),\"\")","v":""},{"$f":"IFERROR(VLOOKUP(A254,'1.Портфель кредитів'!A:AB,14,FALSE),\"\")","v":""}]
[null,{"$f":"IFERROR(VLOOKUP(A255,'1.Портфель кредитів'!A:AB,3,FALSE),\"\")","v":""},{"$f":"IFERROR(VLOOKUP(A255,'1.Портфель кредитів'!A:AB,14,FALSE),\"\")","v":""}]
[null,{"$f":"IFERROR(VLOOKUP(A256,'1.Портфель кредитів'!A:AB,3,FALSE),\"\")","v":""},{"$f":"IFERROR(VLOOKUP(A256,'1.Портфель кредитів'!A:AB,14,FALSE),\"\")","v":""}]
[null,{"$f":"IFERROR(VLOOKUP(A257,'1.Портфель кредитів'!A:AB,3,FALSE),\"\")","v":""},{"$f":"IFERROR(VLOOKUP(A257,'1.Портфель кредитів'!A:AB,14,FALSE),\"\")","v":""}]
[null,{"$f":"IFERROR(VLOOKUP(A258,'1.Портфель кредитів'!A:AB,3,FALSE),\"\")","v":""},{"$f":"IFERROR(VLOOKUP(A258,'1.Портфель кредитів'!A:AB,14,FALSE),\"\")","v":""}]
[null,{"$f":"IFERROR(VLOOKUP(A259,'1.Портфель кредитів'!A:AB,3,FALSE),\"\")","v":""},{"$f":"IFERROR(VLOOKUP(A259,'1.Портфель кредитів'!A:AB,14,FALSE),\"\")","v":""}]
[null,{"$f":"IFERROR(VLOOKUP(A260,'1.Портфель кредитів'!A:AB,3,FALSE),\"\")","v":""},{"$f":"IFERROR(VLOOKUP(A260,'1.Портфель кредитів'!A:AB,14,FALSE),\"\")","v":""}]
[null,{"$f":"IFERROR(VLOOKUP(A261,'1.Портфель кредитів'!A:AB,3,FALSE),\"\")","v":""},{"$f":"IFERROR(VLOOKUP(A261,'1.Портфель кредитів'!A:AB,14,FALSE),\"\")","v":""}]
[null,{"$f":"IFERROR(VLOOKUP(A262,'1.Портфель кредитів'!A:AB,3,FALSE),\"\")","v":""},{"$f":"IFERROR(VLOOKUP(A262,'1.Портфель кредитів'!A:AB,14,FALSE),\"\")","v":""}]
[null,{"$f":"IFERROR(VLOOKUP(A263,'1.Портфель кредитів'!A:AB,3,FALSE),\"\")","v":""},{"$f":"IFERROR(VLOOKUP(A263,'1.Портфель кредитів'!A:AB,14,FALSE),\"\")","v":""}]
[null,{"$f":"IFERROR(VLOOKUP(A264,'1.Портфель кредитів'!A:AB,3,FALSE),\"\")","v":""},{"$f":"IFERROR(VLOOKUP(A264,'1.Портфель кредитів'!A:AB,14,FALSE),\"\")","v":""}]
[null,{"$f":"IFERROR(VLOOKUP(A265,'1.Портфель кредитів'!A:AB,3,FALSE),\"\")","v":""},{"$f":"IFERROR(VLOOKUP(A265,'1.Портфель кредитів'!A:AB,14,FALSE),\"\")","v":""}]
[null,{"$f":"IFERROR(VLOOKUP(A266,'1.Портфель кредитів'!A:AB,3,FALSE),\"\")","v":""},{"$f":"IFERROR(VLOOKUP(A266,'1.Портфель кредитів'!A:AB,14,FALSE),\"\")","v":""}]
[null,{"$f":"IFERROR(VLOOKUP(A267,'1.Портфель кредитів'!A:AB,3,FALSE),\"\")","v":""},{"$f":"IFERROR(VLOOKUP(A267,'1.Портфель кредитів'!A:AB,14,FALSE),\"\")","v":""}]
[null,{"$f":"IFERROR(VLOOKUP(A268,'1.Портфель кредитів'!A:AB,3,FALSE),\"\")","v":""},{"$f":"IFERROR(VLOOKUP(A268,'1.Портфель кредитів'!A:AB,14,FALSE),\"\")","v":""}]
[null,{"$f":"IFERROR(VLOOKUP(A269,'1.Портфель кредитів'!A:AB,3,FALSE),\"\")","v":""},{"$f":"IFERROR(VLOOKUP(A269,'1.Портфель кредитів'!A:AB,14,FALSE),\"\")","v":""}]
[null,{"$f":"IFERROR(VLOOKUP(A270,'1.Портфель кредитів'!A:AB,3,FALSE),\"\")","v":""},{"$f":"IFERROR(VLOOKUP(A270,'1.Портфель кредитів'!A:AB,14,FALSE),\"\")","v":""}]
[null,{"$f":"IFERROR(VLOOKUP(A271,'1.Портфель кредитів'!A:AB,3,FALSE),\"\")","v":""},{"$f":"IFERROR(VLOOKUP(A271,'1.Портфель кредитів'!A:AB,14,FALSE),\"\")","v":""}]
[null,{"$f":"IFERROR(VLOOKUP(A272,'1.Портфель кредитів'!A:AB,3,FALSE),\"\")","v":""},{"$f":"IFERROR(VLOOKUP(A272,'1.Портфель кредитів'!A:AB,14,FALSE),\"\")","v":""}]
[null,{"$f":"IFERROR(VLOOKUP(A273,'1.Портфель кредитів'!A:AB,3,FALSE),\"\")","v":""},{"$f":"IFERROR(VLOOKUP(A273,'1.Портфель кредитів'!A:AB,14,FALSE),\"\")","v":""}]
[null,{"$f":"IFERROR(VLOOKUP(A274,'1.Портфель кредитів'!A:AB,3,FALSE),\"\")","v":""},{"$f":"IFERROR(VLOOKUP(A274,'1.Портфель кредитів'!A:AB,14,FALSE),\"\")","v":""}]
[null,{"$f":"IFERROR(VLOOKUP(A275,'1.Портфель кредитів'!A:AB,3,FALSE),\"\")","v":""},{"$f":"IFERROR(VLOOKUP(A275,'1.Портфель кредитів'!A:AB,14,FALSE),\"\")","v":""}]
[null,{"$f":"IFERROR(VLOOKUP(A276,'1.Портфель кредитів'!A:AB,3,FALSE),\"\")","v":""},{"$f":"IFERROR(VLOOKUP(A276,'1.Портфель кредитів'!A:AB,14,FALSE),\"\")","v":""}]
[null,{"$f":"IFERROR(VLOOKUP(A277,'1.Портфель кредитів'!A:AB,3,FALSE),\"\")","v":""},{"$f":"IFERROR(VLOOKUP(A277,'1.Портфель кредитів'!A:AB,14,FALSE),\"\")","v":""}]
[null,{"$f":"IFERROR(VLOOKUP(A278,'1.Портфель кредитів'!A:AB,3,FALSE),\"\")","v":""},{"$f":"IFERROR(VLOOKUP(A278,'1.Портфель кредитів'!A:AB,14,FALSE),\"\")","v":""}]
[null,{"$f":"IFERROR(VLOOKUP(A279,'1.Портфель кредитів'!A:AB,3,FALSE),\"\")","v":""},{"$f":"IFERROR(VLOOKUP(A279,'1.Портфель кредитів'!A:AB,14,FALSE),\"\")","v":""}]
[null,{"$f":"IFERROR(VLOOKUP(A280,'1.Портфель кредитів'!A:AB,3,FALSE),\"\")","v":""},{"$f":"IFERROR(VLOOKUP(A280,'1.Портфель кредитів'!A:AB,14,FALSE),\"\")","v":""}]
[null,{"$f":"IFERROR(VLOOKUP(A281,'1.Портфель кредитів'!A:AB,3,FALSE),\"\")","v":""},{"$f":"IFERROR(VLOOKUP(A281,'1.Портфель кредитів'!A:AB,14,FALSE),\"\")","v":""}]
[null,{"$f":"IFERROR(VLOOKUP(A282,'1.Портфель кредитів'!A:AB,3,FALSE),\"\")","v":""},{"$f":"IFERROR(VLOOKUP(A282,'1.Портфель кредитів'!A:AB,14,FALSE),\"\")","v":""}]
[null,{"$f":"IFERROR(VLOOKUP(A283,'1.Портфель кредитів'!A:AB,3,FALSE),\"\")","v":""},{"$f":"IFERROR(VLOOKUP(A283,'1.Портфель кредитів'!A:AB,14,FALSE),\"\")","v":""}]
[null,{"$f":"IFERROR(VLOOKUP(A284,'1.Портфель кредитів'!A:AB,3,FALSE),\"\")","v":""},{"$f":"IFERROR(VLOOKUP(A284,'1.Портфель кредитів'!A:AB,14,FALSE),\"\")","v":""}]
[null,{"$f":"IFERROR(VLOOKUP(A285,'1.Портфель кредитів'!A:AB,3,FALSE),\"\")","v":""},{"$f":"IFERROR(VLOOKUP(A285,'1.Портфель кредитів'!A:AB,14,FALSE),\"\")","v":""}]
[null,{"$f":"IFERROR(VLOOKUP(A286,'1.Портфель кредитів'!A:AB,3,FALSE),\"\")","v":""},{"$f":"IFERROR(VLOOKUP(A286,'1.Портфель кредитів'!A:AB,14,FALSE),\"\")","v":""}]
[null,{"$f":"IFERROR(VLOOKUP(A287,'1.Портфель кредитів'!A:AB,3,FALSE),\"\")","v":""},{"$f":"IFERROR(VLOOKUP(A287,'1.Портфель кредитів'!A:AB,14,FALSE),\"\")","v":""}]
[null,{"$f":"IFERROR(VLOOKUP(A288,'1.Портфель кредитів'!A:AB,3,FALSE),\"\")","v":""},{"$f":"IFERROR(VLOOKUP(A288,'1.Портфель кредитів'!A:AB,14,FALSE),\"\")","v":""}]
[null,{"$f":"IFERROR(VLOOKUP(A289,'1.Портфель кредитів'!A:AB,3,FALSE),\"\")","v":""},{"$f":"IFERROR(VLOOKUP(A289,'1.Портфель кредитів'!A:AB,14,FALSE),\"\")","v":""}]
[null,{"$f":"IFERROR(VLOOKUP(A290,'1.Портфель кредитів'!A:AB,3,FALSE),\"\")","v":""},{"$f":"IFERROR(VLOOKUP(A290,'1.Портфель кредитів'!A:AB,14,FALSE),\"\")","v":""}]
[null,{"$f":"IFERROR(VLOOKUP(A291,'1.Портфель кредитів'!A:AB,3,FALSE),\"\")","v":""},{"$f":"IFERROR(VLOOKUP(A291,'1.Портфель кредитів'!A:AB,14,FALSE),\"\")","v":""}]
[null,{"$f":"IFERROR(VLOOKUP(A292,'1.Портфель кредитів'!A:AB,3,FALSE),\"\")","v":""},{"$f":"IFERROR(VLOOKUP(A292,'1.Портфель кредитів'!A:AB,14,FALSE),\"\")","v":""}]
[null,{"$f":"IFERROR(VLOOKUP(A293,'1.Портфель кредитів'!A:AB,3,FALSE),\"\")","v":""},{"$f":"IFERROR(VLOOKUP(A293,'1.Портфель кредитів'!A:AB,14,FALSE),\"\")","v":""}]
[null,{"$f":"IFERROR(VLOOKUP(A294,'1.Портфель кредитів'!A:AB,3,FALSE),\"\")","v":""},{"$f":"IFERROR(VLOOKUP(A294,'1.Портфель кредитів'!A:AB,14,FALSE),\"\")","v":""}]
[null,{"$f":"IFERROR(VLOOKUP(A295,'1.Портфель кредитів'!A:AB,3,FALSE),\"\")","v":""},{"$f":"IFERROR(VLOOKUP(A295,'1.Портфель кредитів'!A:AB,14,FALSE),\"\")","v":""}]
[null,{"$f":"IFERROR(VLOOKUP(A296,'1.Портфель кредитів'!A:AB,3,FALSE),\"\")","v":""},{"$f":"IFERROR(VLOOKUP(A296,'1.Портфель кредитів'!A:AB,14,FALSE),\"\")","v":""}]
[null,{"$f":"IFERROR(VLOOKUP(A297,'1.Портфель кредитів'!A:AB,3,FALSE),\"\")","v":""},{"$f":"IFERROR(VLOOKUP(A297,'1.Портфель кредитів'!A:AB,14,FALSE),\"\")","v":""}]
[null,{"$f":"IFERROR(VLOOKUP(A298,'1.Портфель кредитів'!A:AB,3,FALSE),\"\")","v":""},{"$f":"IFERROR(VLOOKUP(A298,'1.Портфель кредитів'!A:AB,14,FALSE),\"\")","v":""}]
[null,{"$f":"IFERROR(VLOOKUP(A299,'1.Портфель кредитів'!A:AB,3,FALSE),\"\")","v":""},{"$f":"IFERROR(VLOOKUP(A299,'1.Портфель кредитів'!A:AB,14,FALSE),\"\")","v":""}]
[null,{"$f":"IFERROR(VLOOKUP(A300,'1.Портфель кредитів'!A:AB,3,FALSE),\"\")","v":""},{"$f":"IFERROR(VLOOKUP(A300,'1.Портфель кредитів'!A:AB,14,FALSE),\"\")","v":""}]
[null,{"$f":"IFERROR(VLOOKUP(A301,'1.Портфель кредитів'!A:AB,3,FALSE),\"\")","v":""},{"$f":"IFERROR(VLOOKUP(A301,'1.Портфель кредитів'!A:AB,14,FALSE),\"\")","v":""}]
[null,{"$f":"IFERROR(VLOOKUP(A302,'1.Портфель кредитів'!A:AB,3,FALSE),\"\")","v":""},{"$f":"IFERROR(VLOOKUP(A302,'1.Портфель кредитів'!A:AB,14,FALSE),\"\")","v":""}]
[null,{"$f":"IFERROR(VLOOKUP(A303,'1.Портфель кредитів'!A:AB,3,FALSE),\"\")","v":""},{"$f":"IFERROR(VLOOKUP(A303,'1.Портфель кредитів'!A:AB,14,FALSE),\"\")","v":""}]
[null,{"$f":"IFERROR(VLOOKUP(A304,'1.Портфель кредитів'!A:AB,3,FALSE),\"\")","v":""},{"$f":"IFERROR(VLOOKUP(A304,'1.Портфель кредитів'!A:AB,14,FALSE),\"\")","v":""}]
[null,{"$f":"IFERROR(VLOOKUP(A305,'1.Портфель кредитів'!A:AB,3,FALSE),\"\")","v":""},{"$f":"IFERROR(VLOOKUP(A305,'1.Портфель кредитів'!A:AB,14,FALSE),\"\")","v":""}]
[null,{"$f":"IFERROR(VLOOKUP(A306,'1.Портфель кредитів'!A:AB,3,FALSE),\"\")","v":""},{"$f":"IFERROR(VLOOKUP(A306,'1.Портфель кредитів'!A:AB,14,FALSE),\"\")","v":""}]
[null,{"$f":"IFERROR(VLOOKUP(A307,'1.Портфель кредитів'!A:AB,3,FALSE),\"\")","v":""},{"$f":"IFERROR(VLOOKUP(A307,'1.Портфель кредитів'!A:AB,14,FALSE),\"\")","v":""}]
[null,{"$f":"IFERROR(VLOOKUP(A308,'1.Портфель кредитів'!A:AB,3,FALSE),\"\")","v":""},{"$f":"IFERROR(VLOOKUP(A308,'1.Портфель кредитів'!A:AB,14,FALSE),\"\")","v":""}]
[null,{"$f":"IFERROR(VLOOKUP(A309,'1.Портфель кредитів'!A:AB,3,FALSE),\"\")","v":""},{"$f":"IFERROR(VLOOKUP(A309,'1.Портфель кредитів'!A:AB,14,FALSE),\"\")","v":""}]
[null,{"$f":"IFERROR(VLOOKUP(A310,'1.Портфель кредитів'!A:AB,3,FALSE),\"\")","v":""},{"$f":"IFERROR(VLOOKUP(A310,'1.Портфель кредитів'!A:AB,14,FALSE),\"\")","v":""}]
[null,{"$f":"IFERROR(VLOOKUP(A311,'1.Портфель кредитів'!A:AB,3,FALSE),\"\")","v":""},{"$f":"IFERROR(VLOOKUP(A311,'1.Портфель кредитів'!A:AB,14,FALSE),\"\")","v":""}]
[null,{"$f":"IFERROR(VLOOKUP(A312,'1.Портфель кредитів'!A:AB,3,FALSE),\"\")","v":""},{"$f":"IFERROR(VLOOKUP(A312,'1.Портфель кредитів'!A:AB,14,FALSE),\"\")","v":""}]
[null,{"$f":"IFERROR(VLOOKUP(A313,'1.Портфель кредитів'!A:AB,3,FALSE),\"\")","v":""},{"$f":"IFERROR(VLOOKUP(A313,'1.Портфель кредитів'!A:AB,14,FALSE),\"\")","v":""}]
[null,{"$f":"IFERROR(VLOOKUP(A314,'1.Портфель кредитів'!A:AB,3,FALSE),\"\")","v":""},{"$f":"IFERROR(VLOOKUP(A314,'1.Портфель кредитів'!A:AB,14,FALSE),\"\")","v":""}]
[null,{"$f":"IFERROR(VLOOKUP(A315,'1.Портфель кредитів'!A:AB,3,FALSE),\"\")","v":""},{"$f":"IFERROR(VLOOKUP(A315,'1.Портфель кредитів'!A:AB,14,FALSE),\"\")","v":""}]
[null,{"$f":"IFERROR(VLOOKUP(A316,'1.Портфель кредитів'!A:AB,3,FALSE),\"\")","v":""},{"$f":"IFERROR(VLOOKUP(A316,'1.Портфель кредитів'!A:AB,14,FALSE),\"\")","v":""}]
[null,{"$f":"IFERROR(VLOOKUP(A317,'1.Портфель кредитів'!A:AB,3,FALSE),\"\")","v":""},{"$f":"IFERROR(VLOOKUP(A317,'1.Портфель кредитів'!A:AB,14,FALSE),\"\")","v":""}]
[null,{"$f":"IFERROR(VLOOKUP(A318,'1.Портфель кредитів'!A:AB,3,FALSE),\"\")","v":""},{"$f":"IFERROR(VLOOKUP(A318,'1.Портфель кредитів'!A:AB,14,FALSE),\"\")","v":""}]
[null,{"$f":"IFERROR(VLOOKUP(A319,'1.Портфель кредитів'!A:AB,3,FALSE),\"\")","v":""},{"$f":"IFERROR(VLOOKUP(A319,'1.Портфель кредитів'!A:AB,14,FALSE),\"\")","v":""}]
[null,{"$f":"IFERROR(VLOOKUP(A320,'1.Портфель кредитів'!A:AB,3,FALSE),\"\")","v":""},{"$f":"IFERROR(VLOOKUP(A320,'1.Портфель кредитів'!A:AB,14,FALSE),\"\")","v":""}]
[null,{"$f":"IFERROR(VLOOKUP(A321,'1.Портфель кредитів'!A:AB,3,FALSE),\"\")","v":""},{"$f":"IFERROR(VLOOKUP(A321,'1.Портфель кредитів'!A:AB,14,FALSE),\"\")","v":""}]
[null,{"$f":"IFERROR(VLOOKUP(A322,'1.Портфель кредитів'!A:AB,3,FALSE),\"\")","v":""},{"$f":"IFERROR(VLOOKUP(A322,'1.Портфель кредитів'!A:AB,14,FALSE),\"\")","v":""}]
[null,{"$f":"IFERROR(VLOOKUP(A323,'1.Портфель кредитів'!A:AB,3,FALSE),\"\")","v":""},{"$f":"IFERROR(VLOOKUP(A323,'1.Портфель кредитів'!A:AB,14,FALSE),\"\")","v":""}]
[null,{"$f":"IFERROR(VLOOKUP(A324,'1.Портфель кредитів'!A:AB,3,FALSE),\"\")","v":""},{"$f":"IFERROR(VLOOKUP(A324,'1.Портфель кредитів'!A:AB,14,FALSE),\"\")","v":""}]
[null,{"$f":"IFERROR(VLOOKUP(A325,'1.Портфель кредитів'!A:AB,3,FALSE),\"\")","v":""},{"$f":"IFERROR(VLOOKUP(A325,'1.Портфель кредитів'!A:AB,14,FALSE),\"\")","v":""}]
[null,{"$f":"IFERROR(VLOOKUP(A326,'1.Портфель кредитів'!A:AB,3,FALSE),\"\")","v":""},{"$f":"IFERROR(VLOOKUP(A326,'1.Портфель кредитів'!A:AB,14,FALSE),\"\")","v":""}]
[null,{"$f":"IFERROR(VLOOKUP(A327,'1.Портфель кредитів'!A:AB,3,FALSE),\"\")","v":""},{"$f":"IFERROR(VLOOKUP(A327,'1.Портфель кредитів'!A:AB,14,FALSE),\"\")","v":""}]
[null,{"$f":"IFERROR(VLOOKUP(A328,'1.Портфель кредитів'!A:AB,3,FALSE),\"\")","v":""},{"$f":"IFERROR(VLOOKUP(A328,'1.Портфель кредитів'!A:AB,14,FALSE),\"\")","v":""}]
[null,{"$f":"IFERROR(VLOOKUP(A329,'1.Портфель кредитів'!A:AB,3,FALSE),\"\")","v":""},{"$f":"IFERROR(VLOOKUP(A329,'1.Портфель кредитів'!A:AB,14,FALSE),\"\")","v":""}]
[null,{"$f":"IFERROR(VLOOKUP(A330,'1.Портфель кредитів'!A:AB,3,FALSE),\"\")","v":""},{"$f":"IFERROR(VLOOKUP(A330,'1.Портфель кредитів'!A:AB,14,FALSE),\"\")","v":""}]
[null,{"$f":"IFERROR(VLOOKUP(A331,'1.Портфель кредитів'!A:AB,3,FALSE),\"\")","v":""},{"$f":"IFERROR(VLOOKUP(A331,'1.Портфель кредитів'!A:AB,14,FALSE),\"\")","v":""}]
[null,{"$f":"IFERROR(VLOOKUP(A332,'1.Портфель кредитів'!A:AB,3,FALSE),\"\")","v":""},{"$f":"IFERROR(VLOOKUP(A332,'1.Портфель кредитів'!A:AB,14,FALSE),\"\")","v":""}]
[null,{"$f":"IFERROR(VLOOKUP(A333,'1.Портфель кредитів'!A:AB,3,FALSE),\"\")","v":""},{"$f":"IFERROR(VLOOKUP(A333,'1.Портфель кредитів'!A:AB,14,FALSE),\"\")","v":""}]
[null,{"$f":"IFERROR(VLOOKUP(A334,'1.Портфель кредитів'!A:AB,3,FALSE),\"\")","v":""},{"$f":"IFERROR(VLOOKUP(A334,'1.Портфель кредитів'!A:AB,14,FALSE),\"\")","v":""}]
[null,{"$f":"IFERROR(VLOOKUP(A335,'1.Портфель кредитів'!A:AB,3,FALSE),\"\")","v":""},{"$f":"IFERROR(VLOOKUP(A335,'1.Портфель кредитів'!A:AB,14,FALSE),\"\")","v":""}]
[null,{"$f":"IFERROR(VLOOKUP(A336,'1.Портфель кредитів'!A:AB,3,FALSE),\"\")","v":""},{"$f":"IFERROR(VLOOKUP(A336,'1.Портфель кредитів'!A:AB,14,FALSE),\"\")","v":""}]
[null,{"$f":"IFERROR(VLOOKUP(A337,'1.Портфель кредитів'!A:AB,3,FALSE),\"\")","v":""},{"$f":"IFERROR(VLOOKUP(A337,'1.Портфель кредитів'!A:AB,14,FALSE),\"\")","v":""}]
[null,{"$f":"IFERROR(VLOOKUP(A338,'1.Портфель кредитів'!A:AB,3,FALSE),\"\")","v":""},{"$f":"IFERROR(VLOOKUP(A338,'1.Портфель кредитів'!A:AB,14,FALSE),\"\")","v":""}]
[null,{"$f":"IFERROR(VLOOKUP(A339,'1.Портфель кредитів'!A:AB,3,FALSE),\"\")","v":""},{"$f":"IFERROR(VLOOKUP(A339,'1.Портфель кредитів'!A:AB,14,FALSE),\"\")","v":""}]
[null,{"$f":"IFERROR(VLOOKUP(A340,'1.Портфель кредитів'!A:AB,3,FALSE),\"\")","v":""},{"$f":"IFERROR(VLOOKUP(A340,'1.Портфель кредитів'!A:AB,14,FALSE),\"\")","v":""}]
[null,{"$f":"IFERROR(VLOOKUP(A341,'1.Портфель кредитів'!A:AB,3,FALSE),\"\")","v":""},{"$f":"IFERROR(VLOOKUP(A341,'1.Портфель кредитів'!A:AB,14,FALSE),\"\")","v":""}]
[null,{"$f":"IFERROR(VLOOKUP(A342,'1.Портфель кредитів'!A:AB,3,FALSE),\"\")","v":""},{"$f":"IFERROR(VLOOKUP(A342,'1.Портфель кредитів'!A:AB,14,FALSE),\"\")","v":""}]
[null,{"$f":"IFERROR(VLOOKUP(A343,'1.Портфель кредитів'!A:AB,3,FALSE),\"\")","v":""},{"$f":"IFERROR(VLOOKUP(A343,'1.Портфель кредитів'!A:AB,14,FALSE),\"\")","v":""}]
[null,{"$f":"IFERROR(VLOOKUP(A344,'1.Портфель кредитів'!A:AB,3,FALSE),\"\")","v":""},{"$f":"IFERROR(VLOOKUP(A344,'1.Портфель кредитів'!A:AB,14,FALSE),\"\")","v":""}]
[null,{"$f":"IFERROR(VLOOKUP(A345,'1.Портфель кредитів'!A:AB,3,FALSE),\"\")","v":""},{"$f":"IFERROR(VLOOKUP(A345,'1.Портфель кредитів'!A:AB,14,FALSE),\"\")","v":""}]
[null,{"$f":"IFERROR(VLOOKUP(A346,'1.Портфель кредитів'!A:AB,3,FALSE),\"\")","v":""},{"$f":"IFERROR(VLOOKUP(A346,'1.Портфель кредитів'!A:AB,14,FALSE),\"\")","v":""}]
[null,{"$f":"IFERROR(VLOOKUP(A347,'1.Портфель кредитів'!A:AB,3,FALSE),\"\")","v":""},{"$f":"IFERROR(VLOOKUP(A347,'1.Портфель кредитів'!A:AB,14,FALSE),\"\")","v":""}]
[null,{"$f":"IFERROR(VLOOKUP(A348,'1.Портфель кредитів'!A:AB,3,FALSE),\"\")","v":""},{"$f":"IFERROR(VLOOKUP(A348,'1.Портфель кредитів'!A:AB,14,FALSE),\"\")","v":""}]
[null,{"$f":"IFERROR(VLOOKUP(A349,'1.Портфель кредитів'!A:AB,3,FALSE),\"\")","v":""},{"$f":"IFERROR(VLOOKUP(A349,'1.Портфель кредитів'!A:AB,14,FALSE),\"\")","v":""}]
[null,{"$f":"IFERROR(VLOOKUP(A350,'1.Портфель кредитів'!A:AB,3,FALSE),\"\")","v":""},{"$f":"IFERROR(VLOOKUP(A350,'1.Портфель кредитів'!A:AB,14,FALSE),\"\")","v":""}]
[null,{"$f":"IFERROR(VLOOKUP(A351,'1.Портфель кредитів'!A:AB,3,FALSE),\"\")","v":""},{"$f":"IFERROR(VLOOKUP(A351,'1.Портфель кредитів'!A:AB,14,FALSE),\"\")","v":""}]
[null,{"$f":"IFERROR(VLOOKUP(A352,'1.Портфель кредитів'!A:AB,3,FALSE),\"\")","v":""},{"$f":"IFERROR(VLOOKUP(A352,'1.Портфель кредитів'!A:AB,14,FALSE),\"\")","v":""}]
[null,{"$f":"IFERROR(VLOOKUP(A353,'1.Портфель кредитів'!A:AB,3,FALSE),\"\")","v":""},{"$f":"IFERROR(VLOOKUP(A353,'1.Портфель кредитів'!A:AB,14,FALSE),\"\")","v":""}]
[null,{"$f":"IFERROR(VLOOKUP(A354,'1.Портфель кредитів'!A:AB,3,FALSE),\"\")","v":""},{"$f":"IFERROR(VLOOKUP(A354,'1.Портфель кредитів'!A:AB,14,FALSE),\"\")","v":""}]
[null,{"$f":"IFERROR(VLOOKUP(A355,'1.Портфель кредитів'!A:AB,3,FALSE),\"\")","v":""},{"$f":"IFERROR(VLOOKUP(A355,'1.Портфель кредитів'!A:AB,14,FALSE),\"\")","v":""}]
[null,{"$f":"IFERROR(VLOOKUP(A356,'1.Портфель кредитів'!A:AB,3,FALSE),\"\")","v":""},{"$f":"IFERROR(VLOOKUP(A356,'1.Портфель кредитів'!A:AB,14,FALSE),\"\")","v":""}]
[null,{"$f":"IFERROR(VLOOKUP(A357,'1.Портфель кредитів'!A:AB,3,FALSE),\"\")","v":""},{"$f":"IFERROR(VLOOKUP(A357,'1.Портфель кредитів'!A:AB,14,FALSE),\"\")","v":""}]
[null,{"$f":"IFERROR(VLOOKUP(A358,'1.Портфель кредитів'!A:AB,3,FALSE),\"\")","v":""},{"$f":"IFERROR(VLOOKUP(A358,'1.Портфель кредитів'!A:AB,14,FALSE),\"\")","v":""}]
[null,{"$f":"IFERROR(VLOOKUP(A359,'1.Портфель кредитів'!A:AB,3,FALSE),\"\")","v":""},{"$f":"IFERROR(VLOOKUP(A359,'1.Портфель кредитів'!A:AB,14,FALSE),\"\")","v":""}]
[null,{"$f":"IFERROR(VLOOKUP(A360,'1.Портфель кредитів'!A:AB,3,FALSE),\"\")","v":""},{"$f":"IFERROR(VLOOKUP(A360,'1.Портфель кредитів'!A:AB,14,FALSE),\"\")","v":""}]
[null,{"$f":"IFERROR(VLOOKUP(A361,'1.Портфель кредитів'!A:AB,3,FALSE),\"\")","v":""},{"$f":"IFERROR(VLOOKUP(A361,'1.Портфель кредитів'!A:AB,14,FALSE),\"\")","v":""}]
[null,{"$f":"IFERROR(VLOOKUP(A362,'1.Портфель кредитів'!A:AB,3,FALSE),\"\")","v":""},{"$f":"IFERROR(VLOOKUP(A362,'1.Портфель кредитів'!A:AB,14,FALSE),\"\")","v":""}]
[null,{"$f":"IFERROR(VLOOKUP(A363,'1.Портфель кредитів'!A:AB,3,FALSE),\"\")","v":""},{"$f":"IFERROR(VLOOKUP(A363,'1.Портфель кредитів'!A:AB,14,FALSE),\"\")","v":""}]
[null,{"$f":"IFERROR(VLOOKUP(A364,'1.Портфель кредитів'!A:AB,3,FALSE),\"\")","v":""},{"$f":"IFERROR(VLOOKUP(A364,'1.Портфель кредитів'!A:AB,14,FALSE),\"\")","v":""}]
[null,{"$f":"IFERROR(VLOOKUP(A365,'1.Портфель кредитів'!A:AB,3,FALSE),\"\")","v":""},{"$f":"IFERROR(VLOOKUP(A365,'1.Портфель кредитів'!A:AB,14,FALSE),\"\")","v":""}]
[null,{"$f":"IFERROR(VLOOKUP(A366,'1.Портфель кредитів'!A:AB,3,FALSE),\"\")","v":""},{"$f":"IFERROR(VLOOKUP(A366,'1.Портфель кредитів'!A:AB,14,FALSE),\"\")","v":""}]
[null,{"$f":"IFERROR(VLOOKUP(A367,'1.Портфель кредитів'!A:AB,3,FALSE),\"\")","v":""},{"$f":"IFERROR(VLOOKUP(A367,'1.Портфель кредитів'!A:AB,14,FALSE),\"\")","v":""}]
[null,{"$f":"IFERROR(VLOOKUP(A368,'1.Портфель кредитів'!A:AB,3,FALSE),\"\")","v":""},{"$f":"IFERROR(VLOOKUP(A368,'1.Портфель кредитів'!A:AB,14,FALSE),\"\")","v":""}]
[null,{"$f":"IFERROR(VLOOKUP(A369,'1.Портфель кредитів'!A:AB,3,FALSE),\"\")","v":""},{"$f":"IFERROR(VLOOKUP(A369,'1.Портфель кредитів'!A:AB,14,FALSE),\"\")","v":""}]
[null,{"$f":"IFERROR(VLOOKUP(A370,'1.Портфель кредитів'!A:AB,3,FALSE),\"\")","v":""},{"$f":"IFERROR(VLOOKUP(A370,'1.Портфель кредитів'!A:AB,14,FALSE),\"\")","v":""}]
[null,{"$f":"IFERROR(VLOOKUP(A371,'1.Портфель кредитів'!A:AB,3,FALSE),\"\")","v":""},{"$f":"IFERROR(VLOOKUP(A371,'1.Портфель кредитів'!A:AB,14,FALSE),\"\")","v":""}]
[null,{"$f":"IFERROR(VLOOKUP(A372,'1.Портфель кредитів'!A:AB,3,FALSE),\"\")","v":""},{"$f":"IFERROR(VLOOKUP(A372,'1.Портфель кредитів'!A:AB,14,FALSE),\"\")","v":""}]
[null,{"$f":"IFERROR(VLOOKUP(A373,'1.Портфель кредитів'!A:AB,3,FALSE),\"\")","v":""},{"$f":"IFERROR(VLOOKUP(A373,'1.Портфель кредитів'!A:AB,14,FALSE),\"\")","v":""}]
[null,{"$f":"IFERROR(VLOOKUP(A374,'1.Портфель кредитів'!A:AB,3,FALSE),\"\")","v":""},{"$f":"IFERROR(VLOOKUP(A374,'1.Портфель кредитів'!A:AB,14,FALSE),\"\")","v":""}]
[null,{"$f":"IFERROR(VLOOKUP(A375,'1.Портфель кредитів'!A:AB,3,FALSE),\"\")","v":""},{"$f":"IFERROR(VLOOKUP(A375,'1.Портфель кредитів'!A:AB,14,FALSE),\"\")","v":""}]
[null,{"$f":"IFERROR(VLOOKUP(A376,'1.Портфель кредитів'!A:AB,3,FALSE),\"\")","v":""},{"$f":"IFERROR(VLOOKUP(A376,'1.Портфель кредитів'!A:AB,14,FALSE),\"\")","v":""}]
[null,{"$f":"IFERROR(VLOOKUP(A377,'1.Портфель кредитів'!A:AB,3,FALSE),\"\")","v":""},{"$f":"IFERROR(VLOOKUP(A377,'1.Портфель кредитів'!A:AB,14,FALSE),\"\")","v":""}]
[null,{"$f":"IFERROR(VLOOKUP(A378,'1.Портфель кредитів'!A:AB,3,FALSE),\"\")","v":""},{"$f":"IFERROR(VLOOKUP(A378,'1.Портфель кредитів'!A:AB,14,FALSE),\"\")","v":""}]
[null,{"$f":"IFERROR(VLOOKUP(A379,'1.Портфель кредитів'!A:AB,3,FALSE),\"\")","v":""},{"$f":"IFERROR(VLOOKUP(A379,'1.Портфель кредитів'!A:AB,14,FALSE),\"\")","v":""}]
[null,{"$f":"IFERROR(VLOOKUP(A380,'1.Портфель кредитів'!A:AB,3,FALSE),\"\")","v":""},{"$f":"IFERROR(VLOOKUP(A380,'1.Портфель кредитів'!A:AB,14,FALSE),\"\")","v":""}]
[null,{"$f":"IFERROR(VLOOKUP(A381,'1.Портфель кредитів'!A:AB,3,FALSE),\"\")","v":""},{"$f":"IFERROR(VLOOKUP(A381,'1.Портфель кредитів'!A:AB,14,FALSE),\"\")","v":""}]
[null,{"$f":"IFERROR(VLOOKUP(A382,'1.Портфель кредитів'!A:AB,3,FALSE),\"\")","v":""},{"$f":"IFERROR(VLOOKUP(A382,'1.Портфель кредитів'!A:AB,14,FALSE),\"\")","v":""}]
[null,{"$f":"IFERROR(VLOOKUP(A383,'1.Портфель кредитів'!A:AB,3,FALSE),\"\")","v":""},{"$f":"IFERROR(VLOOKUP(A383,'1.Портфель кредитів'!A:AB,14,FALSE),\"\")","v":""}]
[null,{"$f":"IFERROR(VLOOKUP(A384,'1.Портфель кредитів'!A:AB,3,FALSE),\"\")","v":""},{"$f":"IFERROR(VLOOKUP(A384,'1.Портфель кредитів'!A:AB,14,FALSE),\"\")","v":""}]
[null,{"$f":"IFERROR(VLOOKUP(A385,'1.Портфель кредитів'!A:AB,3,FALSE),\"\")","v":""},{"$f":"IFERROR(VLOOKUP(A385,'1.Портфель кредитів'!A:AB,14,FALSE),\"\")","v":""}]
[null,{"$f":"IFERROR(VLOOKUP(A386,'1.Портфель кредитів'!A:AB,3,FALSE),\"\")","v":""},{"$f":"IFERROR(VLOOKUP(A386,'1.Портфель кредитів'!A:AB,14,FALSE),\"\")","v":""}]
[null,{"$f":"IFERROR(VLOOKUP(A387,'1.Портфель кредитів'!A:AB,3,FALSE),\"\")","v":""},{"$f":"IFERROR(VLOOKUP(A387,'1.Портфель кредитів'!A:AB,14,FALSE),\"\")","v":""}]
[null,{"$f":"IFERROR(VLOOKUP(A388,'1.Портфель кредитів'!A:AB,3,FALSE),\"\")","v":""},{"$f":"IFERROR(VLOOKUP(A388,'1.Портфель кредитів'!A:AB,14,FALSE),\"\")","v":""}]
[null,{"$f":"IFERROR(VLOOKUP(A389,'1.Портфель кредитів'!A:AB,3,FALSE),\"\")","v":""},{"$f":"IFERROR(VLOOKUP(A389,'1.Портфель кредитів'!A:AB,14,FALSE),\"\")","v":""}]
[null,{"$f":"IFERROR(VLOOKUP(A390,'1.Портфель кредитів'!A:AB,3,FALSE),\"\")","v":""},{"$f":"IFERROR(VLOOKUP(A390,'1.Портфель кредитів'!A:AB,14,FALSE),\"\")","v":""}]
[null,{"$f":"IFERROR(VLOOKUP(A391,'1.Портфель кредитів'!A:AB,3,FALSE),\"\")","v":""},{"$f":"IFERROR(VLOOKUP(A391,'1.Портфель кредитів'!A:AB,14,FALSE),\"\")","v":""}]
[null,{"$f":"IFERROR(VLOOKUP(A392,'1.Портфель кредитів'!A:AB,3,FALSE),\"\")","v":""},{"$f":"IFERROR(VLOOKUP(A392,'1.Портфель кредитів'!A:AB,14,FALSE),\"\")","v":""}]
[null,{"$f":"IFERROR(VLOOKUP(A393,'1.Портфель кредитів'!A:AB,3,FALSE),\"\")","v":""},{"$f":"IFERROR(VLOOKUP(A393,'1.Портфель кредитів'!A:AB,14,FALSE),\"\")","v":""}]
[null,{"$f":"IFERROR(VLOOKUP(A394,'1.Портфель кредитів'!A:AB,3,FALSE),\"\")","v":""},{"$f":"IFERROR(VLOOKUP(A394,'1.Портфель кредитів'!A:AB,14,FALSE),\"\")","v":""}]
[null,{"$f":"IFERROR(VLOOKUP(A395,'1.Портфель кредитів'!A:AB,3,FALSE),\"\")","v":""},{"$f":"IFERROR(VLOOKUP(A395,'1.Портфель кредитів'!A:AB,14,FALSE),\"\")","v":""}]
[null,{"$f":"IFERROR(VLOOKUP(A396,'1.Портфель кредитів'!A:AB,3,FALSE),\"\")","v":""},{"$f":"IFERROR(VLOOKUP(A396,'1.Портфель кредитів'!A:AB,14,FALSE),\"\")","v":""}]
[null,{"$f":"IFERROR(VLOOKUP(A397,'1.Портфель кредитів'!A:AB,3,FALSE),\"\")","v":""},{"$f":"IFERROR(VLOOKUP(A397,'1.Портфель кредитів'!A:AB,14,FALSE),\"\")","v":""}]
[null,{"$f":"IFERROR(VLOOKUP(A398,'1.Портфель кредитів'!A:AB,3,FALSE),\"\")","v":""},{"$f":"IFERROR(VLOOKUP(A398,'1.Портфель кредитів'!A:AB,14,FALSE),\"\")","v":""}]
[null,{"$f":"IFERROR(VLOOKUP(A399,'1.Портфель кредитів'!A:AB,3,FALSE),\"\")","v":""},{"$f":"IFERROR(VLOOKUP(A399,'1.Портфель кредитів'!A:AB,14,FALSE),\"\")","v":""}]
[null,{"$f":"IFERROR(VLOOKUP(A400,'1.Портфель кредитів'!A:AB,3,FALSE),\"\")","v":""},{"$f":"IFERROR(VLOOKUP(A400,'1.Портфель кредитів'!A:AB,14,FALSE),\"\")","v":""}]
[null,{"$f":"IFERROR(VLOOKUP(A401,'1.Портфель кредитів'!A:AB,3,FALSE),\"\")","v":""},{"$f":"IFERROR(VLOOKUP(A401,'1.Портфель кредитів'!A:AB,14,FALSE),\"\")","v":""}]
[null,{"$f":"IFERROR(VLOOKUP(A402,'1.Портфель кредитів'!A:AB,3,FALSE),\"\")","v":""},{"$f":"IFERROR(VLOOKUP(A402,'1.Портфель кредитів'!A:AB,14,FALSE),\"\")","v":""}]
[null,{"$f":"IFERROR(VLOOKUP(A403,'1.Портфель кредитів'!A:AB,3,FALSE),\"\")","v":""},{"$f":"IFERROR(VLOOKUP(A403,'1.Портфель кредитів'!A:AB,14,FALSE),\"\")","v":""}]
[null,{"$f":"IFERROR(VLOOKUP(A404,'1.Портфель кредитів'!A:AB,3,FALSE),\"\")","v":""},{"$f":"IFERROR(VLOOKUP(A404,'1.Портфель кредитів'!A:AB,14,FALSE),\"\")","v":""}]
[null,{"$f":"IFERROR(VLOOKUP(A405,'1.Портфель кредитів'!A:AB,3,FALSE),\"\")","v":""},{"$f":"IFERROR(VLOOKUP(A405,'1.Портфель кредитів'!A:AB,14,FALSE),\"\")","v":""}]
[null,{"$f":"IFERROR(VLOOKUP(A406,'1.Портфель кредитів'!A:AB,3,FALSE),\"\")","v":""},{"$f":"IFERROR(VLOOKUP(A406,'1.Портфель кредитів'!A:AB,14,FALSE),\"\")","v":""}]
[null,{"$f":"IFERROR(VLOOKUP(A407,'1.Портфель кредитів'!A:AB,3,FALSE),\"\")","v":""},{"$f":"IFERROR(VLOOKUP(A407,'1.Портфель кредитів'!A:AB,14,FALSE),\"\")","v":""}]
[null,{"$f":"IFERROR(VLOOKUP(A408,'1.Портфель кредитів'!A:AB,3,FALSE),\"\")","v":""},{"$f":"IFERROR(VLOOKUP(A408,'1.Портфель кредитів'!A:AB,14,FALSE),\"\")","v":""}]
[null,{"$f":"IFERROR(VLOOKUP(A409,'1.Портфель кредитів'!A:AB,3,FALSE),\"\")","v":""},{"$f":"IFERROR(VLOOKUP(A409,'1.Портфель кредитів'!A:AB,14,FALSE),\"\")","v":""}]
[null,{"$f":"IFERROR(VLOOKUP(A410,'1.Портфель кредитів'!A:AB,3,FALSE),\"\")","v":""},{"$f":"IFERROR(VLOOKUP(A410,'1.Портфель кредитів'!A:AB,14,FALSE),\"\")","v":""}]
[null,{"$f":"IFERROR(VLOOKUP(A411,'1.Портфель кредитів'!A:AB,3,FALSE),\"\")","v":""},{"$f":"IFERROR(VLOOKUP(A411,'1.Портфель кредитів'!A:AB,14,FALSE),\"\")","v":""}]
[null,{"$f":"IFERROR(VLOOKUP(A412,'1.Портфель кредитів'!A:AB,3,FALSE),\"\")","v":""},{"$f":"IFERROR(VLOOKUP(A412,'1.Портфель кредитів'!A:AB,14,FALSE),\"\")","v":""}]
[null,{"$f":"IFERROR(VLOOKUP(A413,'1.Портфель кредитів'!A:AB,3,FALSE),\"\")","v":""},{"$f":"IFERROR(VLOOKUP(A413,'1.Портфель кредитів'!A:AB,14,FALSE),\"\")","v":""}]
[null,{"$f":"IFERROR(VLOOKUP(A414,'1.Портфель кредитів'!A:AB,3,FALSE),\"\")","v":""},{"$f":"IFERROR(VLOOKUP(A414,'1.Портфель кредитів'!A:AB,14,FALSE),\"\")","v":""}]
[null,{"$f":"IFERROR(VLOOKUP(A415,'1.Портфель кредитів'!A:AB,3,FALSE),\"\")","v":""},{"$f":"IFERROR(VLOOKUP(A415,'1.Портфель кредитів'!A:AB,14,FALSE),\"\")","v":""}]
[null,{"$f":"IFERROR(VLOOKUP(A416,'1.Портфель кредитів'!A:AB,3,FALSE),\"\")","v":""},{"$f":"IFERROR(VLOOKUP(A416,'1.Портфель кредитів'!A:AB,14,FALSE),\"\")","v":""}]
[null,{"$f":"IFERROR(VLOOKUP(A417,'1.Портфель кредитів'!A:AB,3,FALSE),\"\")","v":""},{"$f":"IFERROR(VLOOKUP(A417,'1.Портфель кредитів'!A:AB,14,FALSE),\"\")","v":""}]
[null,{"$f":"IFERROR(VLOOKUP(A418,'1.Портфель кредитів'!A:AB,3,FALSE),\"\")","v":""},{"$f":"IFERROR(VLOOKUP(A418,'1.Портфель кредитів'!A:AB,14,FALSE),\"\")","v":""}]
[null,{"$f":"IFERROR(VLOOKUP(A419,'1.Портфель кредитів'!A:AB,3,FALSE),\"\")","v":""},{"$f":"IFERROR(VLOOKUP(A419,'1.Портфель кредитів'!A:AB,14,FALSE),\"\")","v":""}]
[null,{"$f":"IFERROR(VLOOKUP(A420,'1.Портфель кредитів'!A:AB,3,FALSE),\"\")","v":""},{"$f":"IFERROR(VLOOKUP(A420,'1.Портфель кредитів'!A:AB,14,FALSE),\"\")","v":""}]
[null,{"$f":"IFERROR(VLOOKUP(A421,'1.Портфель кредитів'!A:AB,3,FALSE),\"\")","v":""},{"$f":"IFERROR(VLOOKUP(A421,'1.Портфель кредитів'!A:AB,14,FALSE),\"\")","v":""}]
[null,{"$f":"IFERROR(VLOOKUP(A422,'1.Портфель кредитів'!A:AB,3,FALSE),\"\")","v":""},{"$f":"IFERROR(VLOOKUP(A422,'1.Портфель кредитів'!A:AB,14,FALSE),\"\")","v":""}]
[null,{"$f":"IFERROR(VLOOKUP(A423,'1.Портфель кредитів'!A:AB,3,FALSE),\"\")","v":""},{"$f":"IFERROR(VLOOKUP(A423,'1.Портфель кредитів'!A:AB,14,FALSE),\"\")","v":""}]
[null,{"$f":"IFERROR(VLOOKUP(A424,'1.Портфель кредитів'!A:AB,3,FALSE),\"\")","v":""},{"$f":"IFERROR(VLOOKUP(A424,'1.Портфель кредитів'!A:AB,14,FALSE),\"\")","v":""}]
[null,{"$f":"IFERROR(VLOOKUP(A425,'1.Портфель кредитів'!A:AB,3,FALSE),\"\")","v":""},{"$f":"IFERROR(VLOOKUP(A425,'1.Портфель кредитів'!A:AB,14,FALSE),\"\")","v":""}]
[null,{"$f":"IFERROR(VLOOKUP(A426,'1.Портфель кредитів'!A:AB,3,FALSE),\"\")","v":""},{"$f":"IFERROR(VLOOKUP(A426,'1.Портфель кредитів'!A:AB,14,FALSE),\"\")","v":""}]
[null,{"$f":"IFERROR(VLOOKUP(A427,'1.Портфель кредитів'!A:AB,3,FALSE),\"\")","v":""},{"$f":"IFERROR(VLOOKUP(A427,'1.Портфель кредитів'!A:AB,14,FALSE),\"\")","v":""}]
[null,{"$f":"IFERROR(VLOOKUP(A428,'1.Портфель кредитів'!A:AB,3,FALSE),\"\")","v":""},{"$f":"IFERROR(VLOOKUP(A428,'1.Портфель кредитів'!A:AB,14,FALSE),\"\")","v":""}]
[null,{"$f":"IFERROR(VLOOKUP(A429,'1.Портфель кредитів'!A:AB,3,FALSE),\"\")","v":""},{"$f":"IFERROR(VLOOKUP(A429,'1.Портфель кредитів'!A:AB,14,FALSE),\"\")","v":""}]
[null,{"$f":"IFERROR(VLOOKUP(A430,'1.Портфель кредитів'!A:AB,3,FALSE),\"\")","v":""},{"$f":"IFERROR(VLOOKUP(A430,'1.Портфель кредитів'!A:AB,14,FALSE),\"\")","v":""}]
[null,{"$f":"IFERROR(VLOOKUP(A431,'1.Портфель кредитів'!A:AB,3,FALSE),\"\")","v":""},{"$f":"IFERROR(VLOOKUP(A431,'1.Портфель кредитів'!A:AB,14,FALSE),\"\")","v":""}]
[null,{"$f":"IFERROR(VLOOKUP(A432,'1.Портфель кредитів'!A:AB,3,FALSE),\"\")","v":""},{"$f":"IFERROR(VLOOKUP(A432,'1.Портфель кредитів'!A:AB,14,FALSE),\"\")","v":""}]
[null,{"$f":"IFERROR(VLOOKUP(A433,'1.Портфель кредитів'!A:AB,3,FALSE),\"\")","v":""},{"$f":"IFERROR(VLOOKUP(A433,'1.Портфель кредитів'!A:AB,14,FALSE),\"\")","v":""}]
[null,{"$f":"IFERROR(VLOOKUP(A434,'1.Портфель кредитів'!A:AB,3,FALSE),\"\")","v":""},{"$f":"IFERROR(VLOOKUP(A434,'1.Портфель кредитів'!A:AB,14,FALSE),\"\")","v":""}]
[null,{"$f":"IFERROR(VLOOKUP(A435,'1.Портфель кредитів'!A:AB,3,FALSE),\"\")","v":""},{"$f":"IFERROR(VLOOKUP(A435,'1.Портфель кредитів'!A:AB,14,FALSE),\"\")","v":""}]
[null,{"$f":"IFERROR(VLOOKUP(A436,'1.Портфель кредитів'!A:AB,3,FALSE),\"\")","v":""},{"$f":"IFERROR(VLOOKUP(A436,'1.Портфель кредитів'!A:AB,14,FALSE),\"\")","v":""}]
[null,{"$f":"IFERROR(VLOOKUP(A437,'1.Портфель кредитів'!A:AB,3,FALSE),\"\")","v":""},{"$f":"IFERROR(VLOOKUP(A437,'1.Портфель кредитів'!A:AB,14,FALSE),\"\")","v":""}]
[null,{"$f":"IFERROR(VLOOKUP(A438,'1.Портфель кредитів'!A:AB,3,FALSE),\"\")","v":""},{"$f":"IFERROR(VLOOKUP(A438,'1.Портфель кредитів'!A:AB,14,FALSE),\"\")","v":""}]
[null,{"$f":"IFERROR(VLOOKUP(A439,'1.Портфель кредитів'!A:AB,3,FALSE),\"\")","v":""},{"$f":"IFERROR(VLOOKUP(A439,'1.Портфель кредитів'!A:AB,14,FALSE),\"\")","v":""}]
[null,{"$f":"IFERROR(VLOOKUP(A440,'1.Портфель кредитів'!A:AB,3,FALSE),\"\")","v":""},{"$f":"IFERROR(VLOOKUP(A440,'1.Портфель кредитів'!A:AB,14,FALSE),\"\")","v":""}]
[null,{"$f":"IFERROR(VLOOKUP(A441,'1.Портфель кредитів'!A:AB,3,FALSE),\"\")","v":""},{"$f":"IFERROR(VLOOKUP(A441,'1.Портфель кредитів'!A:AB,14,FALSE),\"\")","v":""}]
[null,{"$f":"IFERROR(VLOOKUP(A442,'1.Портфель кредитів'!A:AB,3,FALSE),\"\")","v":""},{"$f":"IFERROR(VLOOKUP(A442,'1.Портфель кредитів'!A:AB,14,FALSE),\"\")","v":""}]
[null,{"$f":"IFERROR(VLOOKUP(A443,'1.Портфель кредитів'!A:AB,3,FALSE),\"\")","v":""},{"$f":"IFERROR(VLOOKUP(A443,'1.Портфель кредитів'!A:AB,14,FALSE),\"\")","v":""}]
[null,{"$f":"IFERROR(VLOOKUP(A444,'1.Портфель кредитів'!A:AB,3,FALSE),\"\")","v":""},{"$f":"IFERROR(VLOOKUP(A444,'1.Портфель кредитів'!A:AB,14,FALSE),\"\")","v":""}]
[null,{"$f":"IFERROR(VLOOKUP(A445,'1.Портфель кредитів'!A:AB,3,FALSE),\"\")","v":""},{"$f":"IFERROR(VLOOKUP(A445,'1.Портфель кредитів'!A:AB,14,FALSE),\"\")","v":""}]
[null,{"$f":"IFERROR(VLOOKUP(A446,'1.Портфель кредитів'!A:AB,3,FALSE),\"\")","v":""},{"$f":"IFERROR(VLOOKUP(A446,'1.Портфель кредитів'!A:AB,14,FALSE),\"\")","v":""}]
[null,{"$f":"IFERROR(VLOOKUP(A447,'1.Портфель кредитів'!A:AB,3,FALSE),\"\")","v":""},{"$f":"IFERROR(VLOOKUP(A447,'1.Портфель кредитів'!A:AB,14,FALSE),\"\")","v":""}]
[null,{"$f":"IFERROR(VLOOKUP(A448,'1.Портфель кредитів'!A:AB,3,FALSE),\"\")","v":""},{"$f":"IFERROR(VLOOKUP(A448,'1.Портфель кредитів'!A:AB,14,FALSE),\"\")","v":""}]
[null,{"$f":"IFERROR(VLOOKUP(A449,'1.Портфель кредитів'!A:AB,3,FALSE),\"\")","v":""},{"$f":"IFERROR(VLOOKUP(A449,'1.Портфель кредитів'!A:AB,14,FALSE),\"\")","v":""}]
[null,{"$f":"IFERROR(VLOOKUP(A450,'1.Портфель кредитів'!A:AB,3,FALSE),\"\")","v":""},{"$f":"IFERROR(VLOOKUP(A450,'1.Портфель кредитів'!A:AB,14,FALSE),\"\")","v":""}]
[null,{"$f":"IFERROR(VLOOKUP(A451,'1.Портфель кредитів'!A:AB,3,FALSE),\"\")","v":""},{"$f":"IFERROR(VLOOKUP(A451,'1.Портфель кредитів'!A:AB,14,FALSE),\"\")","v":""}]
[null,{"$f":"IFERROR(VLOOKUP(A452,'1.Портфель кредитів'!A:AB,3,FALSE),\"\")","v":""},{"$f":"IFERROR(VLOOKUP(A452,'1.Портфель кредитів'!A:AB,14,FALSE),\"\")","v":""}]
[null,{"$f":"IFERROR(VLOOKUP(A453,'1.Портфель кредитів'!A:AB,3,FALSE),\"\")","v":""},{"$f":"IFERROR(VLOOKUP(A453,'1.Портфель кредитів'!A:AB,14,FALSE),\"\")","v":""}]
[null,{"$f":"IFERROR(VLOOKUP(A454,'1.Портфель кредитів'!A:AB,3,FALSE),\"\")","v":""},{"$f":"IFERROR(VLOOKUP(A454,'1.Портфель кредитів'!A:AB,14,FALSE),\"\")","v":""}]
[null,{"$f":"IFERROR(VLOOKUP(A455,'1.Портфель кредитів'!A:AB,3,FALSE),\"\")","v":""},{"$f":"IFERROR(VLOOKUP(A455,'1.Портфель кредитів'!A:AB,14,FALSE),\"\")","v":""}]
[null,{"$f":"IFERROR(VLOOKUP(A456,'1.Портфель кредитів'!A:AB,3,FALSE),\"\")","v":""},{"$f":"IFERROR(VLOOKUP(A456,'1.Портфель кредитів'!A:AB,14,FALSE),\"\")","v":""}]
[null,{"$f":"IFERROR(VLOOKUP(A457,'1.Портфель кредитів'!A:AB,3,FALSE),\"\")","v":""},{"$f":"IFERROR(VLOOKUP(A457,'1.Портфель кредитів'!A:AB,14,FALSE),\"\")","v":""}]
[null,{"$f":"IFERROR(VLOOKUP(A458,'1.Портфель кредитів'!A:AB,3,FALSE),\"\")","v":""},{"$f":"IFERROR(VLOOKUP(A458,'1.Портфель кредитів'!A:AB,14,FALSE),\"\")","v":""}]
[null,{"$f":"IFERROR(VLOOKUP(A459,'1.Портфель кредитів'!A:AB,3,FALSE),\"\")","v":""},{"$f":"IFERROR(VLOOKUP(A459,'1.Портфель кредитів'!A:AB,14,FALSE),\"\")","v":""}]
[null,{"$f":"IFERROR(VLOOKUP(A460,'1.Портфель кредитів'!A:AB,3,FALSE),\"\")","v":""},{"$f":"IFERROR(VLOOKUP(A460,'1.Портфель кредитів'!A:AB,14,FALSE),\"\")","v":""}]
[null,{"$f":"IFERROR(VLOOKUP(A461,'1.Портфель кредитів'!A:AB,3,FALSE),\"\")","v":""},{"$f":"IFERROR(VLOOKUP(A461,'1.Портфель кредитів'!A:AB,14,FALSE),\"\")","v":""}]
[null,{"$f":"IFERROR(VLOOKUP(A462,'1.Портфель кредитів'!A:AB,3,FALSE),\"\")","v":""},{"$f":"IFERROR(VLOOKUP(A462,'1.Портфель кредитів'!A:AB,14,FALSE),\"\")","v":""}]
[null,{"$f":"IFERROR(VLOOKUP(A463,'1.Портфель кредитів'!A:AB,3,FALSE),\"\")","v":""},{"$f":"IFERROR(VLOOKUP(A463,'1.Портфель кредитів'!A:AB,14,FALSE),\"\")","v":""}]
[null,{"$f":"IFERROR(VLOOKUP(A464,'1.Портфель кредитів'!A:AB,3,FALSE),\"\")","v":""},{"$f":"IFERROR(VLOOKUP(A464,'1.Портфель кредитів'!A:AB,14,FALSE),\"\")","v":""}]
[null,{"$f":"IFERROR(VLOOKUP(A465,'1.Портфель кредитів'!A:AB,3,FALSE),\"\")","v":""},{"$f":"IFERROR(VLOOKUP(A465,'1.Портфель кредитів'!A:AB,14,FALSE),\"\")","v":""}]
[null,{"$f":"IFERROR(VLOOKUP(A466,'1.Портфель кредитів'!A:AB,3,FALSE),\"\")","v":""},{"$f":"IFERROR(VLOOKUP(A466,'1.Портфель кредитів'!A:AB,14,FALSE),\"\")","v":""}]
[null,{"$f":"IFERROR(VLOOKUP(A467,'1.Портфель кредитів'!A:AB,3,FALSE),\"\")","v":""},{"$f":"IFERROR(VLOOKUP(A467,'1.Портфель кредитів'!A:AB,14,FALSE),\"\")","v":""}]
[null,{"$f":"IFERROR(VLOOKUP(A468,'1.Портфель кредитів'!A:AB,3,FALSE),\"\")","v":""},{"$f":"IFERROR(VLOOKUP(A468,'1.Портфель кредитів'!A:AB,14,FALSE),\"\")","v":""}]
[null,{"$f":"IFERROR(VLOOKUP(A469,'1.Портфель кредитів'!A:AB,3,FALSE),\"\")","v":""},{"$f":"IFERROR(VLOOKUP(A469,'1.Портфель кредитів'!A:AB,14,FALSE),\"\")","v":""}]
[null,{"$f":"IFERROR(VLOOKUP(A470,'1.Портфель кредитів'!A:AB,3,FALSE),\"\")","v":""},{"$f":"IFERROR(VLOOKUP(A470,'1.Портфель кредитів'!A:AB,14,FALSE),\"\")","v":""}]
[null,{"$f":"IFERROR(VLOOKUP(A471,'1.Портфель кредитів'!A:AB,3,FALSE),\"\")","v":""},{"$f":"IFERROR(VLOOKUP(A471,'1.Портфель кредитів'!A:AB,14,FALSE),\"\")","v":""}]
[null,{"$f":"IFERROR(VLOOKUP(A472,'1.Портфель кредитів'!A:AB,3,FALSE),\"\")","v":""},{"$f":"IFERROR(VLOOKUP(A472,'1.Портфель кредитів'!A:AB,14,FALSE),\"\")","v":""}]
[null,{"$f":"IFERROR(VLOOKUP(A473,'1.Портфель кредитів'!A:AB,3,FALSE),\"\")","v":""},{"$f":"IFERROR(VLOOKUP(A473,'1.Портфель кредитів'!A:AB,14,FALSE),\"\")","v":""}]
[null,{"$f":"IFERROR(VLOOKUP(A474,'1.Портфель кредитів'!A:AB,3,FALSE),\"\")","v":""},{"$f":"IFERROR(VLOOKUP(A474,'1.Портфель кредитів'!A:AB,14,FALSE),\"\")","v":""}]
[null,{"$f":"IFERROR(VLOOKUP(A475,'1.Портфель кредитів'!A:AB,3,FALSE),\"\")","v":""},{"$f":"IFERROR(VLOOKUP(A475,'1.Портфель кредитів'!A:AB,14,FALSE),\"\")","v":""}]
[null,{"$f":"IFERROR(VLOOKUP(A476,'1.Портфель кредитів'!A:AB,3,FALSE),\"\")","v":""},{"$f":"IFERROR(VLOOKUP(A476,'1.Портфель кредитів'!A:AB,14,FALSE),\"\")","v":""}]
[null,{"$f":"IFERROR(VLOOKUP(A477,'1.Портфель кредитів'!A:AB,3,FALSE),\"\")","v":""},{"$f":"IFERROR(VLOOKUP(A477,'1.Портфель кредитів'!A:AB,14,FALSE),\"\")","v":""}]
[null,{"$f":"IFERROR(VLOOKUP(A478,'1.Портфель кредитів'!A:AB,3,FALSE),\"\")","v":""},{"$f":"IFERROR(VLOOKUP(A478,'1.Портфель кредитів'!A:AB,14,FALSE),\"\")","v":""}]
[null,{"$f":"IFERROR(VLOOKUP(A479,'1.Портфель кредитів'!A:AB,3,FALSE),\"\")","v":""},{"$f":"IFERROR(VLOOKUP(A479,'1.Портфель кредитів'!A:AB,14,FALSE),\"\")","v":""}]
[null,{"$f":"IFERROR(VLOOKUP(A480,'1.Портфель кредитів'!A:AB,3,FALSE),\"\")","v":""},{"$f":"IFERROR(VLOOKUP(A480,'1.Портфель кредитів'!A:AB,14,FALSE),\"\")","v":""}]
[null,{"$f":"IFERROR(VLOOKUP(A481,'1.Портфель кредитів'!A:AB,3,FALSE),\"\")","v":""},{"$f":"IFERROR(VLOOKUP(A481,'1.Портфель кредитів'!A:AB,14,FALSE),\"\")","v":""}]
[null,{"$f":"IFERROR(VLOOKUP(A482,'1.Портфель кредитів'!A:AB,3,FALSE),\"\")","v":""},{"$f":"IFERROR(VLOOKUP(A482,'1.Портфель кредитів'!A:AB,14,FALSE),\"\")","v":""}]
[null,{"$f":"IFERROR(VLOOKUP(A483,'1.Портфель кредитів'!A:AB,3,FALSE),\"\")","v":""},{"$f":"IFERROR(VLOOKUP(A483,'1.Портфель кредитів'!A:AB,14,FALSE),\"\")","v":""}]
[null,{"$f":"IFERROR(VLOOKUP(A484,'1.Портфель кредитів'!A:AB,3,FALSE),\"\")","v":""},{"$f":"IFERROR(VLOOKUP(A484,'1.Портфель кредитів'!A:AB,14,FALSE),\"\")","v":""}]
[null,{"$f":"IFERROR(VLOOKUP(A485,'1.Портфель кредитів'!A:AB,3,FALSE),\"\")","v":""},{"$f":"IFERROR(VLOOKUP(A485,'1.Портфель кредитів'!A:AB,14,FALSE),\"\")","v":""}]
[null,{"$f":"IFERROR(VLOOKUP(A486,'1.Портфель кредитів'!A:AB,3,FALSE),\"\")","v":""},{"$f":"IFERROR(VLOOKUP(A486,'1.Портфель кредитів'!A:AB,14,FALSE),\"\")","v":""}]
[null,{"$f":"IFERROR(VLOOKUP(A487,'1.Портфель кредитів'!A:AB,3,FALSE),\"\")","v":""},{"$f":"IFERROR(VLOOKUP(A487,'1.Портфель кредитів'!A:AB,14,FALSE),\"\")","v":""}]
[null,{"$f":"IFERROR(VLOOKUP(A488,'1.Портфель кредитів'!A:AB,3,FALSE),\"\")","v":""},{"$f":"IFERROR(VLOOKUP(A488,'1.Портфель кредитів'!A:AB,14,FALSE),\"\")","v":""}]
[null,{"$f":"IFERROR(VLOOKUP(A489,'1.Портфель кредитів'!A:AB,3,FALSE),\"\")","v":""},{"$f":"IFERROR(VLOOKUP(A489,'1.Портфель кредитів'!A:AB,14,FALSE),\"\")","v":""}]
[null,{"$f":"IFERROR(VLOOKUP(A490,'1.Портфель кредитів'!A:AB,3,FALSE),\"\")","v":""},{"$f":"IFERROR(VLOOKUP(A490,'1.Портфель кредитів'!A:AB,14,FALSE),\"\")","v":""}]
[null,{"$f":"IFERROR(VLOOKUP(A491,'1.Портфель кредитів'!A:AB,3,FALSE),\"\")","v":""},{"$f":"IFERROR(VLOOKUP(A491,'1.Портфель кредитів'!A:AB,14,FALSE),\"\")","v":""}]
[null,{"$f":"IFERROR(VLOOKUP(A492,'1.Портфель кредитів'!A:AB,3,FALSE),\"\")","v":""},{"$f":"IFERROR(VLOOKUP(A492,'1.Портфель кредитів'!A:AB,14,FALSE),\"\")","v":""}]
[null,{"$f":"IFERROR(VLOOKUP(A493,'1.Портфель кредитів'!A:AB,3,FALSE),\"\")","v":""},{"$f":"IFERROR(VLOOKUP(A493,'1.Портфель кредитів'!A:AB,14,FALSE),\"\")","v":""}]
[null,{"$f":"IFERROR(VLOOKUP(A494,'1.Портфель кредитів'!A:AB,3,FALSE),\"\")","v":""},{"$f":"IFERROR(VLOOKUP(A494,'1.Портфель кредитів'!A:AB,14,FALSE),\"\")","v":""}]
[null,{"$f":"IFERROR(VLOOKUP(A495,'1.Портфель кредитів'!A:AB,3,FALSE),\"\")","v":""},{"$f":"IFERROR(VLOOKUP(A495,'1.Портфель кредитів'!A:AB,14,FALSE),\"\")","v":""}]
[null,{"$f":"IFERROR(VLOOKUP(A496,'1.Портфель кредитів'!A:AB,3,FALSE),\"\")","v":""},{"$f":"IFERROR(VLOOKUP(A496,'1.Портфель кредитів'!A:AB,14,FALSE),\"\")","v":""}]
[null,{"$f":"IFERROR(VLOOKUP(A497,'1.Портфель кредитів'!A:AB,3,FALSE),\"\")","v":""},{"$f":"IFERROR(VLOOKUP(A497,'1.Портфель кредитів'!A:AB,14,FALSE),\"\")","v":""}]
[null,{"$f":"IFERROR(VLOOKUP(A498,'1.Портфель кредитів'!A:AB,3,FALSE),\"\")","v":""},{"$f":"IFERROR(VLOOKUP(A498,'1.Портфель кредитів'!A:AB,14,FALSE),\"\")","v":""}]
[null,{"$f":"IFERROR(VLOOKUP(A499,'1.Портфель кредитів'!A:AB,3,FALSE),\"\")","v":""},{"$f":"IFERROR(VLOOKUP(A499,'1.Портфель кредитів'!A:AB,14,FALSE),\"\")","v":""}]
[null,{"$f":"IFERROR(VLOOKUP(A500,'1.Портфель кредитів'!A:AB,3,FALSE),\"\")","v":""},{"$f":"IFERROR(VLOOKUP(A500,'1.Портфель кредитів'!A:AB,14,FALSE),\"\")","v":""}]
[null,{"$f":"IFERROR(VLOOKUP(A501,'1.Портфель кредитів'!A:AB,3,FALSE),\"\")","v":""},{"$f":"IFERROR(VLOOKUP(A501,'1.Портфель кредитів'!A:AB,14,FALSE),\"\")","v":""}]
[null,{"$f":"IFERROR(VLOOKUP(A502,'1.Портфель кредитів'!A:AB,3,FALSE),\"\")","v":""},{"$f":"IFERROR(VLOOKUP(A502,'1.Портфель кредитів'!A:AB,14,FALSE),\"\")","v":""}]
[null,{"$f":"IFERROR(VLOOKUP(A503,'1.Портфель кредитів'!A:AB,3,FALSE),\"\")","v":""},{"$f":"IFERROR(VLOOKUP(A503,'1.Портфель кредитів'!A:AB,14,FALSE),\"\")","v":""}]
[null,{"$f":"IFERROR(VLOOKUP(A504,'1.Портфель кредитів'!A:AB,3,FALSE),\"\")","v":""},{"$f":"IFERROR(VLOOKUP(A504,'1.Портфель кредитів'!A:AB,14,FALSE),\"\")","v":""}]
[null,{"$f":"IFERROR(VLOOKUP(A505,'1.Портфель кредитів'!A:AB,3,FALSE),\"\")","v":""},{"$f":"IFERROR(VLOOKUP(A505,'1.Портфель кредитів'!A:AB,14,FALSE),\"\")","v":""}]
[null,{"$f":"IFERROR(VLOOKUP(A506,'1.Портфель кредитів'!A:AB,3,FALSE),\"\")","v":""},{"$f":"IFERROR(VLOOKUP(A506,'1.Портфель кредитів'!A:AB,14,FALSE),\"\")","v":""}]
[null,{"$f":"IFERROR(VLOOKUP(A507,'1.Портфель кредитів'!A:AB,3,FALSE),\"\")","v":""},{"$f":"IFERROR(VLOOKUP(A507,'1.Портфель кредитів'!A:AB,14,FALSE),\"\")","v":""}]
[null,{"$f":"IFERROR(VLOOKUP(A508,'1.Портфель кредитів'!A:AB,3,FALSE),\"\")","v":""},{"$f":"IFERROR(VLOOKUP(A508,'1.Портфель кредитів'!A:AB,14,FALSE),\"\")","v":""}]
[null,{"$f":"IFERROR(VLOOKUP(A509,'1.Портфель кредитів'!A:AB,3,FALSE),\"\")","v":""},{"$f":"IFERROR(VLOOKUP(A509,'1.Портфель кредитів'!A:AB,14,FALSE),\"\")","v":""}]
[null,{"$f":"IFERROR(VLOOKUP(A510,'1.Портфель кредитів'!A:AB,3,FALSE),\"\")","v":""},{"$f":"IFERROR(VLOOKUP(A510,'1.Портфель кредитів'!A:AB,14,FALSE),\"\")","v":""}]
[null,{"$f":"IFERROR(VLOOKUP(A511,'1.Портфель кредитів'!A:AB,3,FALSE),\"\")","v":""},{"$f":"IFERROR(VLOOKUP(A511,'1.Портфель кредитів'!A:AB,14,FALSE),\"\")","v":""}]
[null,{"$f":"IFERROR(VLOOKUP(A512,'1.Портфель кредитів'!A:AB,3,FALSE),\"\")","v":""},{"$f":"IFERROR(VLOOKUP(A512,'1.Портфель кредитів'!A:AB,14,FALSE),\"\")","v":""}]
[null,{"$f":"IFERROR(VLOOKUP(A513,'1.Портфель кредитів'!A:AB,3,FALSE),\"\")","v":""},{"$f":"IFERROR(VLOOKUP(A513,'1.Портфель кредитів'!A:AB,14,FALSE),\"\")","v":""}]
[null,{"$f":"IFERROR(VLOOKUP(A514,'1.Портфель кредитів'!A:AB,3,FALSE),\"\")","v":""},{"$f":"IFERROR(VLOOKUP(A514,'1.Портфель кредитів'!A:AB,14,FALSE),\"\")","v":""}]
[null,{"$f":"IFERROR(VLOOKUP(A515,'1.Портфель кредитів'!A:AB,3,FALSE),\"\")","v":""},{"$f":"IFERROR(VLOOKUP(A515,'1.Портфель кредитів'!A:AB,14,FALSE),\"\")","v":""}]
[null,{"$f":"IFERROR(VLOOKUP(A516,'1.Портфель кредитів'!A:AB,3,FALSE),\"\")","v":""},{"$f":"IFERROR(VLOOKUP(A516,'1.Портфель кредитів'!A:AB,14,FALSE),\"\")","v":""}]
[null,{"$f":"IFERROR(VLOOKUP(A517,'1.Портфель кредитів'!A:AB,3,FALSE),\"\")","v":""},{"$f":"IFERROR(VLOOKUP(A517,'1.Портфель кредитів'!A:AB,14,FALSE),\"\")","v":""}]
[null,{"$f":"IFERROR(VLOOKUP(A518,'1.Портфель кредитів'!A:AB,3,FALSE),\"\")","v":""},{"$f":"IFERROR(VLOOKUP(A518,'1.Портфель кредитів'!A:AB,14,FALSE),\"\")","v":""}]
[null,{"$f":"IFERROR(VLOOKUP(A519,'1.Портфель кредитів'!A:AB,3,FALSE),\"\")","v":""},{"$f":"IFERROR(VLOOKUP(A519,'1.Портфель кредитів'!A:AB,14,FALSE),\"\")","v":""}]
[null,{"$f":"IFERROR(VLOOKUP(A520,'1.Портфель кредитів'!A:AB,3,FALSE),\"\")","v":""},{"$f":"IFERROR(VLOOKUP(A520,'1.Портфель кредитів'!A:AB,14,FALSE),\"\")","v":""}]
[null,{"$f":"IFERROR(VLOOKUP(A521,'1.Портфель кредитів'!A:AB,3,FALSE),\"\")","v":""},{"$f":"IFERROR(VLOOKUP(A521,'1.Портфель кредитів'!A:AB,14,FALSE),\"\")","v":""}]
[null,{"$f":"IFERROR(VLOOKUP(A522,'1.Портфель кредитів'!A:AB,3,FALSE),\"\")","v":""},{"$f":"IFERROR(VLOOKUP(A522,'1.Портфель кредитів'!A:AB,14,FALSE),\"\")","v":""}]
[null,{"$f":"IFERROR(VLOOKUP(A523,'1.Портфель кредитів'!A:AB,3,FALSE),\"\")","v":""},{"$f":"IFERROR(VLOOKUP(A523,'1.Портфель кредитів'!A:AB,14,FALSE),\"\")","v":""}]
[null,{"$f":"IFERROR(VLOOKUP(A524,'1.Портфель кредитів'!A:AB,3,FALSE),\"\")","v":""},{"$f":"IFERROR(VLOOKUP(A524,'1.Портфель кредитів'!A:AB,14,FALSE),\"\")","v":""}]
[null,{"$f":"IFERROR(VLOOKUP(A525,'1.Портфель кредитів'!A:AB,3,FALSE),\"\")","v":""},{"$f":"IFERROR(VLOOKUP(A525,'1.Портфель кредитів'!A:AB,14,FALSE),\"\")","v":""}]
[null,{"$f":"IFERROR(VLOOKUP(A526,'1.Портфель кредитів'!A:AB,3,FALSE),\"\")","v":""},{"$f":"IFERROR(VLOOKUP(A526,'1.Портфель кредитів'!A:AB,14,FALSE),\"\")","v":""}]
[null,{"$f":"IFERROR(VLOOKUP(A527,'1.Портфель кредитів'!A:AB,3,FALSE),\"\")","v":""},{"$f":"IFERROR(VLOOKUP(A527,'1.Портфель кредитів'!A:AB,14,FALSE),\"\")","v":""}]
[null,{"$f":"IFERROR(VLOOKUP(A528,'1.Портфель кредитів'!A:AB,3,FALSE),\"\")","v":""},{"$f":"IFERROR(VLOOKUP(A528,'1.Портфель кредитів'!A:AB,14,FALSE),\"\")","v":""}]
[null,{"$f":"IFERROR(VLOOKUP(A529,'1.Портфель кредитів'!A:AB,3,FALSE),\"\")","v":""},{"$f":"IFERROR(VLOOKUP(A529,'1.Портфель кредитів'!A:AB,14,FALSE),\"\")","v":""}]
[null,{"$f":"IFERROR(VLOOKUP(A530,'1.Портфель кредитів'!A:AB,3,FALSE),\"\")","v":""},{"$f":"IFERROR(VLOOKUP(A530,'1.Портфель кредитів'!A:AB,14,FALSE),\"\")","v":""}]
[null,{"$f":"IFERROR(VLOOKUP(A531,'1.Портфель кредитів'!A:AB,3,FALSE),\"\")","v":""},{"$f":"IFERROR(VLOOKUP(A531,'1.Портфель кредитів'!A:AB,14,FALSE),\"\")","v":""}]
[null,{"$f":"IFERROR(VLOOKUP(A532,'1.Портфель кредитів'!A:AB,3,FALSE),\"\")","v":""},{"$f":"IFERROR(VLOOKUP(A532,'1.Портфель кредитів'!A:AB,14,FALSE),\"\")","v":""}]
[null,{"$f":"IFERROR(VLOOKUP(A533,'1.Портфель кредитів'!A:AB,3,FALSE),\"\")","v":""},{"$f":"IFERROR(VLOOKUP(A533,'1.Портфель кредитів'!A:AB,14,FALSE),\"\")","v":""}]
[null,{"$f":"IFERROR(VLOOKUP(A534,'1.Портфель кредитів'!A:AB,3,FALSE),\"\")","v":""},{"$f":"IFERROR(VLOOKUP(A534,'1.Портфель кредитів'!A:AB,14,FALSE),\"\")","v":""}]
[null,{"$f":"IFERROR(VLOOKUP(A535,'1.Портфель кредитів'!A:AB,3,FALSE),\"\")","v":""},{"$f":"IFERROR(VLOOKUP(A535,'1.Портфель кредитів'!A:AB,14,FALSE),\"\")","v":""}]
[null,{"$f":"IFERROR(VLOOKUP(A536,'1.Портфель кредитів'!A:AB,3,FALSE),\"\")","v":""},{"$f":"IFERROR(VLOOKUP(A536,'1.Портфель кредитів'!A:AB,14,FALSE),\"\")","v":""}]
[null,{"$f":"IFERROR(VLOOKUP(A537,'1.Портфель кредитів'!A:AB,3,FALSE),\"\")","v":""},{"$f":"IFERROR(VLOOKUP(A537,'1.Портфель кредитів'!A:AB,14,FALSE),\"\")","v":""}]
[null,{"$f":"IFERROR(VLOOKUP(A538,'1.Портфель кредитів'!A:AB,3,FALSE),\"\")","v":""},{"$f":"IFERROR(VLOOKUP(A538,'1.Портфель кредитів'!A:AB,14,FALSE),\"\")","v":""}]
[null,{"$f":"IFERROR(VLOOKUP(A539,'1.Портфель кредитів'!A:AB,3,FALSE),\"\")","v":""},{"$f":"IFERROR(VLOOKUP(A539,'1.Портфель кредитів'!A:AB,14,FALSE),\"\")","v":""}]
[null,{"$f":"IFERROR(VLOOKUP(A540,'1.Портфель кредитів'!A:AB,3,FALSE),\"\")","v":""},{"$f":"IFERROR(VLOOKUP(A540,'1.Портфель кредитів'!A:AB,14,FALSE),\"\")","v":""}]
[null,{"$f":"IFERROR(VLOOKUP(A541,'1.Портфель кредитів'!A:AB,3,FALSE),\"\")","v":""},{"$f":"IFERROR(VLOOKUP(A541,'1.Портфель кредитів'!A:AB,14,FALSE),\"\")","v":""}]
[null,{"$f":"IFERROR(VLOOKUP(A542,'1.Портфель кредитів'!A:AB,3,FALSE),\"\")","v":""},{"$f":"IFERROR(VLOOKUP(A542,'1.Портфель кредитів'!A:AB,14,FALSE),\"\")","v":""}]
[null,{"$f":"IFERROR(VLOOKUP(A543,'1.Портфель кредитів'!A:AB,3,FALSE),\"\")","v":""},{"$f":"IFERROR(VLOOKUP(A543,'1.Портфель кредитів'!A:AB,14,FALSE),\"\")","v":""}]
[null,{"$f":"IFERROR(VLOOKUP(A544,'1.Портфель кредитів'!A:AB,3,FALSE),\"\")","v":""},{"$f":"IFERROR(VLOOKUP(A544,'1.Портфель кредитів'!A:AB,14,FALSE),\"\")","v":""}]
[null,{"$f":"IFERROR(VLOOKUP(A545,'1.Портфель кредитів'!A:AB,3,FALSE),\"\")","v":""},{"$f":"IFERROR(VLOOKUP(A545,'1.Портфель кредитів'!A:AB,14,FALSE),\"\")","v":""}]
[null,{"$f":"IFERROR(VLOOKUP(A546,'1.Портфель кредитів'!A:AB,3,FALSE),\"\")","v":""},{"$f":"IFERROR(VLOOKUP(A546,'1.Портфель кредитів'!A:AB,14,FALSE),\"\")","v":""}]
[null,{"$f":"IFERROR(VLOOKUP(A547,'1.Портфель кредитів'!A:AB,3,FALSE),\"\")","v":""},{"$f":"IFERROR(VLOOKUP(A547,'1.Портфель кредитів'!A:AB,14,FALSE),\"\")","v":""}]
[null,{"$f":"IFERROR(VLOOKUP(A548,'1.Портфель кредитів'!A:AB,3,FALSE),\"\")","v":""},{"$f":"IFERROR(VLOOKUP(A548,'1.Портфель кредитів'!A:AB,14,FALSE),\"\")","v":""}]
[null,{"$f":"IFERROR(VLOOKUP(A549,'1.Портфель кредитів'!A:AB,3,FALSE),\"\")","v":""},{"$f":"IFERROR(VLOOKUP(A549,'1.Портфель кредитів'!A:AB,14,FALSE),\"\")","v":""}]
[null,{"$f":"IFERROR(VLOOKUP(A550,'1.Портфель кредитів'!A:AB,3,FALSE),\"\")","v":""},{"$f":"IFERROR(VLOOKUP(A550,'1.Портфель кредитів'!A:AB,14,FALSE),\"\")","v":""}]
[null,{"$f":"IFERROR(VLOOKUP(A551,'1.Портфель кредитів'!A:AB,3,FALSE),\"\")","v":""},{"$f":"IFERROR(VLOOKUP(A551,'1.Портфель кредитів'!A:AB,14,FALSE),\"\")","v":""}]
[null,{"$f":"IFERROR(VLOOKUP(A552,'1.Портфель кредитів'!A:AB,3,FALSE),\"\")","v":""},{"$f":"IFERROR(VLOOKUP(A552,'1.Портфель кредитів'!A:AB,14,FALSE),\"\")","v":""}]
[null,{"$f":"IFERROR(VLOOKUP(A553,'1.Портфель кредитів'!A:AB,3,FALSE),\"\")","v":""},{"$f":"IFERROR(VLOOKUP(A553,'1.Портфель кредитів'!A:AB,14,FALSE),\"\")","v":""}]
[null,{"$f":"IFERROR(VLOOKUP(A554,'1.Портфель кредитів'!A:AB,3,FALSE),\"\")","v":""},{"$f":"IFERROR(VLOOKUP(A554,'1.Портфель кредитів'!A:AB,14,FALSE),\"\")","v":""}]
[null,{"$f":"IFERROR(VLOOKUP(A555,'1.Портфель кредитів'!A:AB,3,FALSE),\"\")","v":""},{"$f":"IFERROR(VLOOKUP(A555,'1.Портфель кредитів'!A:AB,14,FALSE),\"\")","v":""}]
[null,{"$f":"IFERROR(VLOOKUP(A556,'1.Портфель кредитів'!A:AB,3,FALSE),\"\")","v":""},{"$f":"IFERROR(VLOOKUP(A556,'1.Портфель кредитів'!A:AB,14,FALSE),\"\")","v":""}]
[null,{"$f":"IFERROR(VLOOKUP(A557,'1.Портфель кредитів'!A:AB,3,FALSE),\"\")","v":""},{"$f":"IFERROR(VLOOKUP(A557,'1.Портфель кредитів'!A:AB,14,FALSE),\"\")","v":""}]
[null,{"$f":"IFERROR(VLOOKUP(A558,'1.Портфель кредитів'!A:AB,3,FALSE),\"\")","v":""},{"$f":"IFERROR(VLOOKUP(A558,'1.Портфель кредитів'!A:AB,14,FALSE),\"\")","v":""}]
[null,{"$f":"IFERROR(VLOOKUP(A559,'1.Портфель кредитів'!A:AB,3,FALSE),\"\")","v":""},{"$f":"IFERROR(VLOOKUP(A559,'1.Портфель кредитів'!A:AB,14,FALSE),\"\")","v":""}]
[null,{"$f":"IFERROR(VLOOKUP(A560,'1.Портфель кредитів'!A:AB,3,FALSE),\"\")","v":""},{"$f":"IFERROR(VLOOKUP(A560,'1.Портфель кредитів'!A:AB,14,FALSE),\"\")","v":""}]
[null,{"$f":"IFERROR(VLOOKUP(A561,'1.Портфель кредитів'!A:AB,3,FALSE),\"\")","v":""},{"$f":"IFERROR(VLOOKUP(A561,'1.Портфель кредитів'!A:AB,14,FALSE),\"\")","v":""}]
[null,{"$f":"IFERROR(VLOOKUP(A562,'1.Портфель кредитів'!A:AB,3,FALSE),\"\")","v":""},{"$f":"IFERROR(VLOOKUP(A562,'1.Портфель кредитів'!A:AB,14,FALSE),\"\")","v":""}]
[null,{"$f":"IFERROR(VLOOKUP(A563,'1.Портфель кредитів'!A:AB,3,FALSE),\"\")","v":""},{"$f":"IFERROR(VLOOKUP(A563,'1.Портфель кредитів'!A:AB,14,FALSE),\"\")","v":""}]
[null,{"$f":"IFERROR(VLOOKUP(A564,'1.Портфель кредитів'!A:AB,3,FALSE),\"\")","v":""},{"$f":"IFERROR(VLOOKUP(A564,'1.Портфель кредитів'!A:AB,14,FALSE),\"\")","v":""}]
[null,{"$f":"IFERROR(VLOOKUP(A565,'1.Портфель кредитів'!A:AB,3,FALSE),\"\")","v":""},{"$f":"IFERROR(VLOOKUP(A565,'1.Портфель кредитів'!A:AB,14,FALSE),\"\")","v":""}]
[null,{"$f":"IFERROR(VLOOKUP(A566,'1.Портфель кредитів'!A:AB,3,FALSE),\"\")","v":""},{"$f":"IFERROR(VLOOKUP(A566,'1.Портфель кредитів'!A:AB,14,FALSE),\"\")","v":""}]
[null,{"$f":"IFERROR(VLOOKUP(A567,'1.Портфель кредитів'!A:AB,3,FALSE),\"\")","v":""},{"$f":"IFERROR(VLOOKUP(A567,'1.Портфель кредитів'!A:AB,14,FALSE),\"\")","v":""}]
[null,{"$f":"IFERROR(VLOOKUP(A568,'1.Портфель кредитів'!A:AB,3,FALSE),\"\")","v":""},{"$f":"IFERROR(VLOOKUP(A568,'1.Портфель кредитів'!A:AB,14,FALSE),\"\")","v":""}]
[null,{"$f":"IFERROR(VLOOKUP(A569,'1.Портфель кредитів'!A:AB,3,FALSE),\"\")","v":""},{"$f":"IFERROR(VLOOKUP(A569,'1.Портфель кредитів'!A:AB,14,FALSE),\"\")","v":""}]
[null,{"$f":"IFERROR(VLOOKUP(A570,'1.Портфель кредитів'!A:AB,3,FALSE),\"\")","v":""},{"$f":"IFERROR(VLOOKUP(A570,'1.Портфель кредитів'!A:AB,14,FALSE),\"\")","v":""}]
[null,{"$f":"IFERROR(VLOOKUP(A571,'1.Портфель кредитів'!A:AB,3,FALSE),\"\")","v":""},{"$f":"IFERROR(VLOOKUP(A571,'1.Портфель кредитів'!A:AB,14,FALSE),\"\")","v":""}]
[null,{"$f":"IFERROR(VLOOKUP(A572,'1.Портфель кредитів'!A:AB,3,FALSE),\"\")","v":""},{"$f":"IFERROR(VLOOKUP(A572,'1.Портфель кредитів'!A:AB,14,FALSE),\"\")","v":""}]
[null,{"$f":"IFERROR(VLOOKUP(A573,'1.Портфель кредитів'!A:AB,3,FALSE),\"\")","v":""},{"$f":"IFERROR(VLOOKUP(A573,'1.Портфель кредитів'!A:AB,14,FALSE),\"\")","v":""}]
[null,{"$f":"IFERROR(VLOOKUP(A574,'1.Портфель кредитів'!A:AB,3,FALSE),\"\")","v":""},{"$f":"IFERROR(VLOOKUP(A574,'1.Портфель кредитів'!A:AB,14,FALSE),\"\")","v":""}]
[null,{"$f":"IFERROR(VLOOKUP(A575,'1.Портфель кредитів'!A:AB,3,FALSE),\"\")","v":""},{"$f":"IFERROR(VLOOKUP(A575,'1.Портфель кредитів'!A:AB,14,FALSE),\"\")","v":""}]
[null,{"$f":"IFERROR(VLOOKUP(A576,'1.Портфель кредитів'!A:AB,3,FALSE),\"\")","v":""},{"$f":"IFERROR(VLOOKUP(A576,'1.Портфель кредитів'!A:AB,14,FALSE),\"\")","v":""}]
[null,{"$f":"IFERROR(VLOOKUP(A577,'1.Портфель кредитів'!A:AB,3,FALSE),\"\")","v":""},{"$f":"IFERROR(VLOOKUP(A577,'1.Портфель кредитів'!A:AB,14,FALSE),\"\")","v":""}]
[null,{"$f":"IFERROR(VLOOKUP(A578,'1.Портфель кредитів'!A:AB,3,FALSE),\"\")","v":""},{"$f":"IFERROR(VLOOKUP(A578,'1.Портфель кредитів'!A:AB,14,FALSE),\"\")","v":""}]
[null,{"$f":"IFERROR(VLOOKUP(A579,'1.Портфель кредитів'!A:AB,3,FALSE),\"\")","v":""},{"$f":"IFERROR(VLOOKUP(A579,'1.Портфель кредитів'!A:AB,14,FALSE),\"\")","v":""}]
[null,{"$f":"IFERROR(VLOOKUP(A580,'1.Портфель кредитів'!A:AB,3,FALSE),\"\")","v":""},{"$f":"IFERROR(VLOOKUP(A580,'1.Портфель кредитів'!A:AB,14,FALSE),\"\")","v":""}]
[null,{"$f":"IFERROR(VLOOKUP(A581,'1.Портфель кредитів'!A:AB,3,FALSE),\"\")","v":""},{"$f":"IFERROR(VLOOKUP(A581,'1.Портфель кредитів'!A:AB,14,FALSE),\"\")","v":""}]
[null,{"$f":"IFERROR(VLOOKUP(A582,'1.Портфель кредитів'!A:AB,3,FALSE),\"\")","v":""},{"$f":"IFERROR(VLOOKUP(A582,'1.Портфель кредитів'!A:AB,14,FALSE),\"\")","v":""}]
[null,{"$f":"IFERROR(VLOOKUP(A583,'1.Портфель кредитів'!A:AB,3,FALSE),\"\")","v":""},{"$f":"IFERROR(VLOOKUP(A583,'1.Портфель кредитів'!A:AB,14,FALSE),\"\")","v":""}]
[null,{"$f":"IFERROR(VLOOKUP(A584,'1.Портфель кредитів'!A:AB,3,FALSE),\"\")","v":""},{"$f":"IFERROR(VLOOKUP(A584,'1.Портфель кредитів'!A:AB,14,FALSE),\"\")","v":""}]
[null,{"$f":"IFERROR(VLOOKUP(A585,'1.Портфель кредитів'!A:AB,3,FALSE),\"\")","v":""},{"$f":"IFERROR(VLOOKUP(A585,'1.Портфель кредитів'!A:AB,14,FALSE),\"\")","v":""}]
[null,{"$f":"IFERROR(VLOOKUP(A586,'1.Портфель кредитів'!A:AB,3,FALSE),\"\")","v":""},{"$f":"IFERROR(VLOOKUP(A586,'1.Портфель кредитів'!A:AB,14,FALSE),\"\")","v":""}]
[null,{"$f":"IFERROR(VLOOKUP(A587,'1.Портфель кредитів'!A:AB,3,FALSE),\"\")","v":""},{"$f":"IFERROR(VLOOKUP(A587,'1.Портфель кредитів'!A:AB,14,FALSE),\"\")","v":""}]
[null,{"$f":"IFERROR(VLOOKUP(A588,'1.Портфель кредитів'!A:AB,3,FALSE),\"\")","v":""},{"$f":"IFERROR(VLOOKUP(A588,'1.Портфель кредитів'!A:AB,14,FALSE),\"\")","v":""}]
[null,{"$f":"IFERROR(VLOOKUP(A589,'1.Портфель кредитів'!A:AB,3,FALSE),\"\")","v":""},{"$f":"IFERROR(VLOOKUP(A589,'1.Портфель кредитів'!A:AB,14,FALSE),\"\")","v":""}]
[null,{"$f":"IFERROR(VLOOKUP(A590,'1.Портфель кредитів'!A:AB,3,FALSE),\"\")","v":""},{"$f":"IFERROR(VLOOKUP(A590,'1.Портфель кредитів'!A:AB,14,FALSE),\"\")","v":""}]
[null,{"$f":"IFERROR(VLOOKUP(A591,'1.Портфель кредитів'!A:AB,3,FALSE),\"\")","v":""},{"$f":"IFERROR(VLOOKUP(A591,'1.Портфель кредитів'!A:AB,14,FALSE),\"\")","v":""}]
[null,{"$f":"IFERROR(VLOOKUP(A592,'1.Портфель кредитів'!A:AB,3,FALSE),\"\")","v":""},{"$f":"IFERROR(VLOOKUP(A592,'1.Портфель кредитів'!A:AB,14,FALSE),\"\")","v":""}]
[null,{"$f":"IFERROR(VLOOKUP(A593,'1.Портфель кредитів'!A:AB,3,FALSE),\"\")","v":""},{"$f":"IFERROR(VLOOKUP(A593,'1.Портфель кредитів'!A:AB,14,FALSE),\"\")","v":""}]
[null,{"$f":"IFERROR(VLOOKUP(A594,'1.Портфель кредитів'!A:AB,3,FALSE),\"\")","v":""},{"$f":"IFERROR(VLOOKUP(A594,'1.Портфель кредитів'!A:AB,14,FALSE),\"\")","v":""}]
[null,{"$f":"IFERROR(VLOOKUP(A595,'1.Портфель кредитів'!A:AB,3,FALSE),\"\")","v":""},{"$f":"IFERROR(VLOOKUP(A595,'1.Портфель кредитів'!A:AB,14,FALSE),\"\")","v":""}]
[null,{"$f":"IFERROR(VLOOKUP(A596,'1.Портфель кредитів'!A:AB,3,FALSE),\"\")","v":""},{"$f":"IFERROR(VLOOKUP(A596,'1.Портфель кредитів'!A:AB,14,FALSE),\"\")","v":""}]
[null,{"$f":"IFERROR(VLOOKUP(A597,'1.Портфель кредитів'!A:AB,3,FALSE),\"\")","v":""},{"$f":"IFERROR(VLOOKUP(A597,'1.Портфель кредитів'!A:AB,14,FALSE),\"\")","v":""}]
[null,{"$f":"IFERROR(VLOOKUP(A598,'1.Портфель кредитів'!A:AB,3,FALSE),\"\")","v":""},{"$f":"IFERROR(VLOOKUP(A598,'1.Портфель кредитів'!A:AB,14,FALSE),\"\")","v":""}]
[null,{"$f":"IFERROR(VLOOKUP(A599,'1.Портфель кредитів'!A:AB,3,FALSE),\"\")","v":""},{"$f":"IFERROR(VLOOKUP(A599,'1.Портфель кредитів'!A:AB,14,FALSE),\"\")","v":""}]
[null,{"$f":"IFERROR(VLOOKUP(A600,'1.Портфель кредитів'!A:AB,3,FALSE),\"\")","v":""},{"$f":"IFERROR(VLOOKUP(A600,'1.Портфель кредитів'!A:AB,14,FALSE),\"\")","v":""}]
[null,{"$f":"IFERROR(VLOOKUP(A601,'1.Портфель кредитів'!A:AB,3,FALSE),\"\")","v":""},{"$f":"IFERROR(VLOOKUP(A601,'1.Портфель кредитів'!A:AB,14,FALSE),\"\")","v":""}]
[null,{"$f":"IFERROR(VLOOKUP(A602,'1.Портфель кредитів'!A:AB,3,FALSE),\"\")","v":""},{"$f":"IFERROR(VLOOKUP(A602,'1.Портфель кредитів'!A:AB,14,FALSE),\"\")","v":""}]
[null,{"$f":"IFERROR(VLOOKUP(A603,'1.Портфель кредитів'!A:AB,3,FALSE),\"\")","v":""},{"$f":"IFERROR(VLOOKUP(A603,'1.Портфель кредитів'!A:AB,14,FALSE),\"\")","v":""}]
[null,{"$f":"IFERROR(VLOOKUP(A604,'1.Портфель кредитів'!A:AB,3,FALSE),\"\")","v":""},{"$f":"IFERROR(VLOOKUP(A604,'1.Портфель кредитів'!A:AB,14,FALSE),\"\")","v":""}]
[null,{"$f":"IFERROR(VLOOKUP(A605,'1.Портфель кредитів'!A:AB,3,FALSE),\"\")","v":""},{"$f":"IFERROR(VLOOKUP(A605,'1.Портфель кредитів'!A:AB,14,FALSE),\"\")","v":""}]
[null,{"$f":"IFERROR(VLOOKUP(A606,'1.Портфель кредитів'!A:AB,3,FALSE),\"\")","v":""},{"$f":"IFERROR(VLOOKUP(A606,'1.Портфель кредитів'!A:AB,14,FALSE),\"\")","v":""}]
[null,{"$f":"IFERROR(VLOOKUP(A607,'1.Портфель кредитів'!A:AB,3,FALSE),\"\")","v":""},{"$f":"IFERROR(VLOOKUP(A607,'1.Портфель кредитів'!A:AB,14,FALSE),\"\")","v":""}]
[null,{"$f":"IFERROR(VLOOKUP(A608,'1.Портфель кредитів'!A:AB,3,FALSE),\"\")","v":""},{"$f":"IFERROR(VLOOKUP(A608,'1.Портфель кредитів'!A:AB,14,FALSE),\"\")","v":""}]
[null,{"$f":"IFERROR(VLOOKUP(A609,'1.Портфель кредитів'!A:AB,3,FALSE),\"\")","v":""},{"$f":"IFERROR(VLOOKUP(A609,'1.Портфель кредитів'!A:AB,14,FALSE),\"\")","v":""}]
[null,{"$f":"IFERROR(VLOOKUP(A610,'1.Портфель кредитів'!A:AB,3,FALSE),\"\")","v":""},{"$f":"IFERROR(VLOOKUP(A610,'1.Портфель кредитів'!A:AB,14,FALSE),\"\")","v":""}]
[null,{"$f":"IFERROR(VLOOKUP(A611,'1.Портфель кредитів'!A:AB,3,FALSE),\"\")","v":""},{"$f":"IFERROR(VLOOKUP(A611,'1.Портфель кредитів'!A:AB,14,FALSE),\"\")","v":""}]
[null,{"$f":"IFERROR(VLOOKUP(A612,'1.Портфель кредитів'!A:AB,3,FALSE),\"\")","v":""},{"$f":"IFERROR(VLOOKUP(A612,'1.Портфель кредитів'!A:AB,14,FALSE),\"\")","v":""}]
[null,{"$f":"IFERROR(VLOOKUP(A613,'1.Портфель кредитів'!A:AB,3,FALSE),\"\")","v":""},{"$f":"IFERROR(VLOOKUP(A613,'1.Портфель кредитів'!A:AB,14,FALSE),\"\")","v":""}]
[null,{"$f":"IFERROR(VLOOKUP(A614,'1.Портфель кредитів'!A:AB,3,FALSE),\"\")","v":""},{"$f":"IFERROR(VLOOKUP(A614,'1.Портфель кредитів'!A:AB,14,FALSE),\"\")","v":""}]
[null,{"$f":"IFERROR(VLOOKUP(A615,'1.Портфель кредитів'!A:AB,3,FALSE),\"\")","v":""},{"$f":"IFERROR(VLOOKUP(A615,'1.Портфель кредитів'!A:AB,14,FALSE),\"\")","v":""}]
[null,{"$f":"IFERROR(VLOOKUP(A616,'1.Портфель кредитів'!A:AB,3,FALSE),\"\")","v":""},{"$f":"IFERROR(VLOOKUP(A616,'1.Портфель кредитів'!A:AB,14,FALSE),\"\")","v":""}]
[null,{"$f":"IFERROR(VLOOKUP(A617,'1.Портфель кредитів'!A:AB,3,FALSE),\"\")","v":""},{"$f":"IFERROR(VLOOKUP(A617,'1.Портфель кредитів'!A:AB,14,FALSE),\"\")","v":""}]
[null,{"$f":"IFERROR(VLOOKUP(A618,'1.Портфель кредитів'!A:AB,3,FALSE),\"\")","v":""},{"$f":"IFERROR(VLOOKUP(A618,'1.Портфель кредитів'!A:AB,14,FALSE),\"\")","v":""}]
[null,{"$f":"IFERROR(VLOOKUP(A619,'1.Портфель кредитів'!A:AB,3,FALSE),\"\")","v":""},{"$f":"IFERROR(VLOOKUP(A619,'1.Портфель кредитів'!A:AB,14,FALSE),\"\")","v":""}]
[null,{"$f":"IFERROR(VLOOKUP(A620,'1.Портфель кредитів'!A:AB,3,FALSE),\"\")","v":""},{"$f":"IFERROR(VLOOKUP(A620,'1.Портфель кредитів'!A:AB,14,FALSE),\"\")","v":""}]
[null,{"$f":"IFERROR(VLOOKUP(A621,'1.Портфель кредитів'!A:AB,3,FALSE),\"\")","v":""},{"$f":"IFERROR(VLOOKUP(A621,'1.Портфель кредитів'!A:AB,14,FALSE),\"\")","v":""}]
[null,{"$f":"IFERROR(VLOOKUP(A622,'1.Портфель кредитів'!A:AB,3,FALSE),\"\")","v":""},{"$f":"IFERROR(VLOOKUP(A622,'1.Портфель кредитів'!A:AB,14,FALSE),\"\")","v":""}]
[null,{"$f":"IFERROR(VLOOKUP(A623,'1.Портфель кредитів'!A:AB,3,FALSE),\"\")","v":""},{"$f":"IFERROR(VLOOKUP(A623,'1.Портфель кредитів'!A:AB,14,FALSE),\"\")","v":""}]
[null,{"$f":"IFERROR(VLOOKUP(A624,'1.Портфель кредитів'!A:AB,3,FALSE),\"\")","v":""},{"$f":"IFERROR(VLOOKUP(A624,'1.Портфель кредитів'!A:AB,14,FALSE),\"\")","v":""}]
[null,{"$f":"IFERROR(VLOOKUP(A625,'1.Портфель кредитів'!A:AB,3,FALSE),\"\")","v":""},{"$f":"IFERROR(VLOOKUP(A625,'1.Портфель кредитів'!A:AB,14,FALSE),\"\")","v":""}]
[null,{"$f":"IFERROR(VLOOKUP(A626,'1.Портфель кредитів'!A:AB,3,FALSE),\"\")","v":""},{"$f":"IFERROR(VLOOKUP(A626,'1.Портфель кредитів'!A:AB,14,FALSE),\"\")","v":""}]
[null,{"$f":"IFERROR(VLOOKUP(A627,'1.Портфель кредитів'!A:AB,3,FALSE),\"\")","v":""},{"$f":"IFERROR(VLOOKUP(A627,'1.Портфель кредитів'!A:AB,14,FALSE),\"\")","v":""}]
[null,{"$f":"IFERROR(VLOOKUP(A628,'1.Портфель кредитів'!A:AB,3,FALSE),\"\")","v":""},{"$f":"IFERROR(VLOOKUP(A628,'1.Портфель кредитів'!A:AB,14,FALSE),\"\")","v":""}]
[null,{"$f":"IFERROR(VLOOKUP(A629,'1.Портфель кредитів'!A:AB,3,FALSE),\"\")","v":""},{"$f":"IFERROR(VLOOKUP(A629,'1.Портфель кредитів'!A:AB,14,FALSE),\"\")","v":""}]
[null,{"$f":"IFERROR(VLOOKUP(A630,'1.Портфель кредитів'!A:AB,3,FALSE),\"\")","v":""},{"$f":"IFERROR(VLOOKUP(A630,'1.Портфель кредитів'!A:AB,14,FALSE),\"\")","v":""}]
[null,{"$f":"IFERROR(VLOOKUP(A631,'1.Портфель кредитів'!A:AB,3,FALSE),\"\")","v":""},{"$f":"IFERROR(VLOOKUP(A631,'1.Портфель кредитів'!A:AB,14,FALSE),\"\")","v":""}]
[null,{"$f":"IFERROR(VLOOKUP(A632,'1.Портфель кредитів'!A:AB,3,FALSE),\"\")","v":""},{"$f":"IFERROR(VLOOKUP(A632,'1.Портфель кредитів'!A:AB,14,FALSE),\"\")","v":""}]
[null,{"$f":"IFERROR(VLOOKUP(A633,'1.Портфель кредитів'!A:AB,3,FALSE),\"\")","v":""},{"$f":"IFERROR(VLOOKUP(A633,'1.Портфель кредитів'!A:AB,14,FALSE),\"\")","v":""}]
[null,{"$f":"IFERROR(VLOOKUP(A634,'1.Портфель кредитів'!A:AB,3,FALSE),\"\")","v":""},{"$f":"IFERROR(VLOOKUP(A634,'1.Портфель кредитів'!A:AB,14,FALSE),\"\")","v":""}]
[null,{"$f":"IFERROR(VLOOKUP(A635,'1.Портфель кредитів'!A:AB,3,FALSE),\"\")","v":""},{"$f":"IFERROR(VLOOKUP(A635,'1.Портфель кредитів'!A:AB,14,FALSE),\"\")","v":""}]
[null,{"$f":"IFERROR(VLOOKUP(A636,'1.Портфель кредитів'!A:AB,3,FALSE),\"\")","v":""},{"$f":"IFERROR(VLOOKUP(A636,'1.Портфель кредитів'!A:AB,14,FALSE),\"\")","v":""}]
[null,{"$f":"IFERROR(VLOOKUP(A637,'1.Портфель кредитів'!A:AB,3,FALSE),\"\")","v":""},{"$f":"IFERROR(VLOOKUP(A637,'1.Портфель кредитів'!A:AB,14,FALSE),\"\")","v":""}]
[null,{"$f":"IFERROR(VLOOKUP(A638,'1.Портфель кредитів'!A:AB,3,FALSE),\"\")","v":""},{"$f":"IFERROR(VLOOKUP(A638,'1.Портфель кредитів'!A:AB,14,FALSE),\"\")","v":""}]
[null,{"$f":"IFERROR(VLOOKUP(A639,'1.Портфель кредитів'!A:AB,3,FALSE),\"\")","v":""},{"$f":"IFERROR(VLOOKUP(A639,'1.Портфель кредитів'!A:AB,14,FALSE),\"\")","v":""}]
[null,{"$f":"IFERROR(VLOOKUP(A640,'1.Портфель кредитів'!A:AB,3,FALSE),\"\")","v":""},{"$f":"IFERROR(VLOOKUP(A640,'1.Портфель кредитів'!A:AB,14,FALSE),\"\")","v":""}]
[null,{"$f":"IFERROR(VLOOKUP(A641,'1.Портфель кредитів'!A:AB,3,FALSE),\"\")","v":""},{"$f":"IFERROR(VLOOKUP(A641,'1.Портфель кредитів'!A:AB,14,FALSE),\"\")","v":""}]
[null,{"$f":"IFERROR(VLOOKUP(A642,'1.Портфель кредитів'!A:AB,3,FALSE),\"\")","v":""},{"$f":"IFERROR(VLOOKUP(A642,'1.Портфель кредитів'!A:AB,14,FALSE),\"\")","v":""}]
[null,{"$f":"IFERROR(VLOOKUP(A643,'1.Портфель кредитів'!A:AB,3,FALSE),\"\")","v":""},{"$f":"IFERROR(VLOOKUP(A643,'1.Портфель кредитів'!A:AB,14,FALSE),\"\")","v":""}]
[null,{"$f":"IFERROR(VLOOKUP(A644,'1.Портфель кредитів'!A:AB,3,FALSE),\"\")","v":""},{"$f":"IFERROR(VLOOKUP(A644,'1.Портфель кредитів'!A:AB,14,FALSE),\"\")","v":""}]
[null,{"$f":"IFERROR(VLOOKUP(A645,'1.Портфель кредитів'!A:AB,3,FALSE),\"\")","v":""},{"$f":"IFERROR(VLOOKUP(A645,'1.Портфель кредитів'!A:AB,14,FALSE),\"\")","v":""}]
[null,{"$f":"IFERROR(VLOOKUP(A646,'1.Портфель кредитів'!A:AB,3,FALSE),\"\")","v":""},{"$f":"IFERROR(VLOOKUP(A646,'1.Портфель кредитів'!A:AB,14,FALSE),\"\")","v":""}]
[null,{"$f":"IFERROR(VLOOKUP(A647,'1.Портфель кредитів'!A:AB,3,FALSE),\"\")","v":""},{"$f":"IFERROR(VLOOKUP(A647,'1.Портфель кредитів'!A:AB,14,FALSE),\"\")","v":""}]
[null,{"$f":"IFERROR(VLOOKUP(A648,'1.Портфель кредитів'!A:AB,3,FALSE),\"\")","v":""},{"$f":"IFERROR(VLOOKUP(A648,'1.Портфель кредитів'!A:AB,14,FALSE),\"\")","v":""}]
[null,{"$f":"IFERROR(VLOOKUP(A649,'1.Портфель кредитів'!A:AB,3,FALSE),\"\")","v":""},{"$f":"IFERROR(VLOOKUP(A649,'1.Портфель кредитів'!A:AB,14,FALSE),\"\")","v":""}]
[null,{"$f":"IFERROR(VLOOKUP(A650,'1.Портфель кредитів'!A:AB,3,FALSE),\"\")","v":""},{"$f":"IFERROR(VLOOKUP(A650,'1.Портфель кредитів'!A:AB,14,FALSE),\"\")","v":""}]
[null,{"$f":"IFERROR(VLOOKUP(A651,'1.Портфель кредитів'!A:AB,3,FALSE),\"\")","v":""},{"$f":"IFERROR(VLOOKUP(A651,'1.Портфель кредитів'!A:AB,14,FALSE),\"\")","v":""}]
[null,{"$f":"IFERROR(VLOOKUP(A652,'1.Портфель кредитів'!A:AB,3,FALSE),\"\")","v":""},{"$f":"IFERROR(VLOOKUP(A652,'1.Портфель кредитів'!A:AB,14,FALSE),\"\")","v":""}]
[null,{"$f":"IFERROR(VLOOKUP(A653,'1.Портфель кредитів'!A:AB,3,FALSE),\"\")","v":""},{"$f":"IFERROR(VLOOKUP(A653,'1.Портфель кредитів'!A:AB,14,FALSE),\"\")","v":""}]
[null,{"$f":"IFERROR(VLOOKUP(A654,'1.Портфель кредитів'!A:AB,3,FALSE),\"\")","v":""},{"$f":"IFERROR(VLOOKUP(A654,'1.Портфель кредитів'!A:AB,14,FALSE),\"\")","v":""}]
[null,{"$f":"IFERROR(VLOOKUP(A655,'1.Портфель кредитів'!A:AB,3,FALSE),\"\")","v":""},{"$f":"IFERROR(VLOOKUP(A655,'1.Портфель кредитів'!A:AB,14,FALSE),\"\")","v":""}]
[null,{"$f":"IFERROR(VLOOKUP(A656,'1.Портфель кредитів'!A:AB,3,FALSE),\"\")","v":""},{"$f":"IFERROR(VLOOKUP(A656,'1.Портфель кредитів'!A:AB,14,FALSE),\"\")","v":""}]
[null,{"$f":"IFERROR(VLOOKUP(A657,'1.Портфель кредитів'!A:AB,3,FALSE),\"\")","v":""},{"$f":"IFERROR(VLOOKUP(A657,'1.Портфель кредитів'!A:AB,14,FALSE),\"\")","v":""}]
[null,{"$f":"IFERROR(VLOOKUP(A658,'1.Портфель кредитів'!A:AB,3,FALSE),\"\")","v":""},{"$f":"IFERROR(VLOOKUP(A658,'1.Портфель кредитів'!A:AB,14,FALSE),\"\")","v":""}]
[null,{"$f":"IFERROR(VLOOKUP(A659,'1.Портфель кредитів'!A:AB,3,FALSE),\"\")","v":""},{"$f":"IFERROR(VLOOKUP(A659,'1.Портфель кредитів'!A:AB,14,FALSE),\"\")","v":""}]
[null,{"$f":"IFERROR(VLOOKUP(A660,'1.Портфель кредитів'!A:AB,3,FALSE),\"\")","v":""},{"$f":"IFERROR(VLOOKUP(A660,'1.Портфель кредитів'!A:AB,14,FALSE),\"\")","v":""}]
[null,{"$f":"IFERROR(VLOOKUP(A661,'1.Портфель кредитів'!A:AB,3,FALSE),\"\")","v":""},{"$f":"IFERROR(VLOOKUP(A661,'1.Портфель кредитів'!A:AB,14,FALSE),\"\")","v":""}]
[null,{"$f":"IFERROR(VLOOKUP(A662,'1.Портфель кредитів'!A:AB,3,FALSE),\"\")","v":""},{"$f":"IFERROR(VLOOKUP(A662,'1.Портфель кредитів'!A:AB,14,FALSE),\"\")","v":""}]
[null,{"$f":"IFERROR(VLOOKUP(A663,'1.Портфель кредитів'!A:AB,3,FALSE),\"\")","v":""},{"$f":"IFERROR(VLOOKUP(A663,'1.Портфель кредитів'!A:AB,14,FALSE),\"\")","v":""}]
[null,{"$f":"IFERROR(VLOOKUP(A664,'1.Портфель кредитів'!A:AB,3,FALSE),\"\")","v":""},{"$f":"IFERROR(VLOOKUP(A664,'1.Портфель кредитів'!A:AB,14,FALSE),\"\")","v":""}]
[null,{"$f":"IFERROR(VLOOKUP(A665,'1.Портфель кредитів'!A:AB,3,FALSE),\"\")","v":""},{"$f":"IFERROR(VLOOKUP(A665,'1.Портфель кредитів'!A:AB,14,FALSE),\"\")","v":""}]
[null,{"$f":"IFERROR(VLOOKUP(A666,'1.Портфель кредитів'!A:AB,3,FALSE),\"\")","v":""},{"$f":"IFERROR(VLOOKUP(A666,'1.Портфель кредитів'!A:AB,14,FALSE),\"\")","v":""}]
[null,{"$f":"IFERROR(VLOOKUP(A667,'1.Портфель кредитів'!A:AB,3,FALSE),\"\")","v":""},{"$f":"IFERROR(VLOOKUP(A667,'1.Портфель кредитів'!A:AB,14,FALSE),\"\")","v":""}]
[null,{"$f":"IFERROR(VLOOKUP(A668,'1.Портфель кредитів'!A:AB,3,FALSE),\"\")","v":""},{"$f":"IFERROR(VLOOKUP(A668,'1.Портфель кредитів'!A:AB,14,FALSE),\"\")","v":""}]
[null,{"$f":"IFERROR(VLOOKUP(A669,'1.Портфель кредитів'!A:AB,3,FALSE),\"\")","v":""},{"$f":"IFERROR(VLOOKUP(A669,'1.Портфель кредитів'!A:AB,14,FALSE),\"\")","v":""}]
[null,{"$f":"IFERROR(VLOOKUP(A670,'1.Портфель кредитів'!A:AB,3,FALSE),\"\")","v":""},{"$f":"IFERROR(VLOOKUP(A670,'1.Портфель кредитів'!A:AB,14,FALSE),\"\")","v":""}]
[null,{"$f":"IFERROR(VLOOKUP(A671,'1.Портфель кредитів'!A:AB,3,FALSE),\"\")","v":""},{"$f":"IFERROR(VLOOKUP(A671,'1.Портфель кредитів'!A:AB,14,FALSE),\"\")","v":""}]
[null,{"$f":"IFERROR(VLOOKUP(A672,'1.Портфель кредитів'!A:AB,3,FALSE),\"\")","v":""},{"$f":"IFERROR(VLOOKUP(A672,'1.Портфель кредитів'!A:AB,14,FALSE),\"\")","v":""}]
[null,{"$f":"IFERROR(VLOOKUP(A673,'1.Портфель кредитів'!A:AB,3,FALSE),\"\")","v":""},{"$f":"IFERROR(VLOOKUP(A673,'1.Портфель кредитів'!A:AB,14,FALSE),\"\")","v":""}]
[null,{"$f":"IFERROR(VLOOKUP(A674,'1.Портфель кредитів'!A:AB,3,FALSE),\"\")","v":""},{"$f":"IFERROR(VLOOKUP(A674,'1.Портфель кредитів'!A:AB,14,FALSE),\"\")","v":""}]
[null,{"$f":"IFERROR(VLOOKUP(A675,'1.Портфель кредитів'!A:AB,3,FALSE),\"\")","v":""},{"$f":"IFERROR(VLOOKUP(A675,'1.Портфель кредитів'!A:AB,14,FALSE),\"\")","v":""}]
[null,{"$f":"IFERROR(VLOOKUP(A676,'1.Портфель кредитів'!A:AB,3,FALSE),\"\")","v":""},{"$f":"IFERROR(VLOOKUP(A676,'1.Портфель кредитів'!A:AB,14,FALSE),\"\")","v":""}]
[null,{"$f":"IFERROR(VLOOKUP(A677,'1.Портфель кредитів'!A:AB,3,FALSE),\"\")","v":""},{"$f":"IFERROR(VLOOKUP(A677,'1.Портфель кредитів'!A:AB,14,FALSE),\"\")","v":""}]
[null,{"$f":"IFERROR(VLOOKUP(A678,'1.Портфель кредитів'!A:AB,3,FALSE),\"\")","v":""},{"$f":"IFERROR(VLOOKUP(A678,'1.Портфель кредитів'!A:AB,14,FALSE),\"\")","v":""}]
[null,{"$f":"IFERROR(VLOOKUP(A679,'1.Портфель кредитів'!A:AB,3,FALSE),\"\")","v":""},{"$f":"IFERROR(VLOOKUP(A679,'1.Портфель кредитів'!A:AB,14,FALSE),\"\")","v":""}]
[null,{"$f":"IFERROR(VLOOKUP(A680,'1.Портфель кредитів'!A:AB,3,FALSE),\"\")","v":""},{"$f":"IFERROR(VLOOKUP(A680,'1.Портфель кредитів'!A:AB,14,FALSE),\"\")","v":""}]
[null,{"$f":"IFERROR(VLOOKUP(A681,'1.Портфель кредитів'!A:AB,3,FALSE),\"\")","v":""},{"$f":"IFERROR(VLOOKUP(A681,'1.Портфель кредитів'!A:AB,14,FALSE),\"\")","v":""}]
[null,{"$f":"IFERROR(VLOOKUP(A682,'1.Портфель кредитів'!A:AB,3,FALSE),\"\")","v":""},{"$f":"IFERROR(VLOOKUP(A682,'1.Портфель кредитів'!A:AB,14,FALSE),\"\")","v":""}]
[null,{"$f":"IFERROR(VLOOKUP(A683,'1.Портфель кредитів'!A:AB,3,FALSE),\"\")","v":""},{"$f":"IFERROR(VLOOKUP(A683,'1.Портфель кредитів'!A:AB,14,FALSE),\"\")","v":""}]
[null,{"$f":"IFERROR(VLOOKUP(A684,'1.Портфель кредитів'!A:AB,3,FALSE),\"\")","v":""},{"$f":"IFERROR(VLOOKUP(A684,'1.Портфель кредитів'!A:AB,14,FALSE),\"\")","v":""}]
[null,{"$f":"IFERROR(VLOOKUP(A685,'1.Портфель кредитів'!A:AB,3,FALSE),\"\")","v":""},{"$f":"IFERROR(VLOOKUP(A685,'1.Портфель кредитів'!A:AB,14,FALSE),\"\")","v":""}]
[null,{"$f":"IFERROR(VLOOKUP(A686,'1.Портфель кредитів'!A:AB,3,FALSE),\"\")","v":""},{"$f":"IFERROR(VLOOKUP(A686,'1.Портфель кредитів'!A:AB,14,FALSE),\"\")","v":""}]
[null,{"$f":"IFERROR(VLOOKUP(A687,'1.Портфель кредитів'!A:AB,3,FALSE),\"\")","v":""},{"$f":"IFERROR(VLOOKUP(A687,'1.Портфель кредитів'!A:AB,14,FALSE),\"\")","v":""}]
[null,{"$f":"IFERROR(VLOOKUP(A688,'1.Портфель кредитів'!A:AB,3,FALSE),\"\")","v":""},{"$f":"IFERROR(VLOOKUP(A688,'1.Портфель кредитів'!A:AB,14,FALSE),\"\")","v":""}]
[null,{"$f":"IFERROR(VLOOKUP(A689,'1.Портфель кредитів'!A:AB,3,FALSE),\"\")","v":""},{"$f":"IFERROR(VLOOKUP(A689,'1.Портфель кредитів'!A:AB,14,FALSE),\"\")","v":""}]
[null,{"$f":"IFERROR(VLOOKUP(A690,'1.Портфель кредитів'!A:AB,3,FALSE),\"\")","v":""},{"$f":"IFERROR(VLOOKUP(A690,'1.Портфель кредитів'!A:AB,14,FALSE),\"\")","v":""}]
[null,{"$f":"IFERROR(VLOOKUP(A691,'1.Портфель кредитів'!A:AB,3,FALSE),\"\")","v":""},{"$f":"IFERROR(VLOOKUP(A691,'1.Портфель кредитів'!A:AB,14,FALSE),\"\")","v":""}]
[null,{"$f":"IFERROR(VLOOKUP(A692,'1.Портфель кредитів'!A:AB,3,FALSE),\"\")","v":""},{"$f":"IFERROR(VLOOKUP(A692,'1.Портфель кредитів'!A:AB,14,FALSE),\"\")","v":""}]
[null,{"$f":"IFERROR(VLOOKUP(A693,'1.Портфель кредитів'!A:AB,3,FALSE),\"\")","v":""},{"$f":"IFERROR(VLOOKUP(A693,'1.Портфель кредитів'!A:AB,14,FALSE),\"\")","v":""}]
[null,{"$f":"IFERROR(VLOOKUP(A694,'1.Портфель кредитів'!A:AB,3,FALSE),\"\")","v":""},{"$f":"IFERROR(VLOOKUP(A694,'1.Портфель кредитів'!A:AB,14,FALSE),\"\")","v":""}]
[null,{"$f":"IFERROR(VLOOKUP(A695,'1.Портфель кредитів'!A:AB,3,FALSE),\"\")","v":""},{"$f":"IFERROR(VLOOKUP(A695,'1.Портфель кредитів'!A:AB,14,FALSE),\"\")","v":""}]
[null,{"$f":"IFERROR(VLOOKUP(A696,'1.Портфель кредитів'!A:AB,3,FALSE),\"\")","v":""},{"$f":"IFERROR(VLOOKUP(A696,'1.Портфель кредитів'!A:AB,14,FALSE),\"\")","v":""}]
[null,{"$f":"IFERROR(VLOOKUP(A697,'1.Портфель кредитів'!A:AB,3,FALSE),\"\")","v":""},{"$f":"IFERROR(VLOOKUP(A697,'1.Портфель кредитів'!A:AB,14,FALSE),\"\")","v":""}]
[null,{"$f":"IFERROR(VLOOKUP(A698,'1.Портфель кредитів'!A:AB,3,FALSE),\"\")","v":""},{"$f":"IFERROR(VLOOKUP(A698,'1.Портфель кредитів'!A:AB,14,FALSE),\"\")","v":""}]
[null,{"$f":"IFERROR(VLOOKUP(A699,'1.Портфель кредитів'!A:AB,3,FALSE),\"\")","v":""},{"$f":"IFERROR(VLOOKUP(A699,'1.Портфель кредитів'!A:AB,14,FALSE),\"\")","v":""}]
[null,{"$f":"IFERROR(VLOOKUP(A700,'1.Портфель кредитів'!A:AB,3,FALSE),\"\")","v":""},{"$f":"IFERROR(VLOOKUP(A700,'1.Портфель кредитів'!A:AB,14,FALSE),\"\")","v":""}]
[null,{"$f":"IFERROR(VLOOKUP(A701,'1.Портфель кредитів'!A:AB,3,FALSE),\"\")","v":""},{"$f":"IFERROR(VLOOKUP(A701,'1.Портфель кредитів'!A:AB,14,FALSE),\"\")","v":""}]
[null,{"$f":"IFERROR(VLOOKUP(A702,'1.Портфель кредитів'!A:AB,3,FALSE),\"\")","v":""},{"$f":"IFERROR(VLOOKUP(A702,'1.Портфель кредитів'!A:AB,14,FALSE),\"\")","v":""}]
[null,{"$f":"IFERROR(VLOOKUP(A703,'1.Портфель кредитів'!A:AB,3,FALSE),\"\")","v":""},{"$f":"IFERROR(VLOOKUP(A703,'1.Портфель кредитів'!A:AB,14,FALSE),\"\")","v":""}]
[null,{"$f":"IFERROR(VLOOKUP(A704,'1.Портфель кредитів'!A:AB,3,FALSE),\"\")","v":""},{"$f":"IFERROR(VLOOKUP(A704,'1.Портфель кредитів'!A:AB,14,FALSE),\"\")","v":""}]
[null,{"$f":"IFERROR(VLOOKUP(A705,'1.Портфель кредитів'!A:AB,3,FALSE),\"\")","v":""},{"$f":"IFERROR(VLOOKUP(A705,'1.Портфель кредитів'!A:AB,14,FALSE),\"\")","v":""}]
[null,{"$f":"IFERROR(VLOOKUP(A706,'1.Портфель кредитів'!A:AB,3,FALSE),\"\")","v":""},{"$f":"IFERROR(VLOOKUP(A706,'1.Портфель кредитів'!A:AB,14,FALSE),\"\")","v":""}]
[null,{"$f":"IFERROR(VLOOKUP(A707,'1.Портфель кредитів'!A:AB,3,FALSE),\"\")","v":""},{"$f":"IFERROR(VLOOKUP(A707,'1.Портфель кредитів'!A:AB,14,FALSE),\"\")","v":""}]
[null,{"$f":"IFERROR(VLOOKUP(A708,'1.Портфель кредитів'!A:AB,3,FALSE),\"\")","v":""},{"$f":"IFERROR(VLOOKUP(A708,'1.Портфель кредитів'!A:AB,14,FALSE),\"\")","v":""}]
[null,{"$f":"IFERROR(VLOOKUP(A709,'1.Портфель кредитів'!A:AB,3,FALSE),\"\")","v":""},{"$f":"IFERROR(VLOOKUP(A709,'1.Портфель кредитів'!A:AB,14,FALSE),\"\")","v":""}]
[null,{"$f":"IFERROR(VLOOKUP(A710,'1.Портфель кредитів'!A:AB,3,FALSE),\"\")","v":""},{"$f":"IFERROR(VLOOKUP(A710,'1.Портфель кредитів'!A:AB,14,FALSE),\"\")","v":""}]
[null,{"$f":"IFERROR(VLOOKUP(A711,'1.Портфель кредитів'!A:AB,3,FALSE),\"\")","v":""},{"$f":"IFERROR(VLOOKUP(A711,'1.Портфель кредитів'!A:AB,14,FALSE),\"\")","v":""}]
[null,{"$f":"IFERROR(VLOOKUP(A712,'1.Портфель кредитів'!A:AB,3,FALSE),\"\")","v":""},{"$f":"IFERROR(VLOOKUP(A712,'1.Портфель кредитів'!A:AB,14,FALSE),\"\")","v":""}]
[null,{"$f":"IFERROR(VLOOKUP(A713,'1.Портфель кредитів'!A:AB,3,FALSE),\"\")","v":""},{"$f":"IFERROR(VLOOKUP(A713,'1.Портфель кредитів'!A:AB,14,FALSE),\"\")","v":""}]
[null,{"$f":"IFERROR(VLOOKUP(A714,'1.Портфель кредитів'!A:AB,3,FALSE),\"\")","v":""},{"$f":"IFERROR(VLOOKUP(A714,'1.Портфель кредитів'!A:AB,14,FALSE),\"\")","v":""}]
[null,{"$f":"IFERROR(VLOOKUP(A715,'1.Портфель кредитів'!A:AB,3,FALSE),\"\")","v":""},{"$f":"IFERROR(VLOOKUP(A715,'1.Портфель кредитів'!A:AB,14,FALSE),\"\")","v":""}]
[null,{"$f":"IFERROR(VLOOKUP(A716,'1.Портфель кредитів'!A:AB,3,FALSE),\"\")","v":""},{"$f":"IFERROR(VLOOKUP(A716,'1.Портфель кредитів'!A:AB,14,FALSE),\"\")","v":""}]
[null,{"$f":"IFERROR(VLOOKUP(A717,'1.Портфель кредитів'!A:AB,3,FALSE),\"\")","v":""},{"$f":"IFERROR(VLOOKUP(A717,'1.Портфель кредитів'!A:AB,14,FALSE),\"\")","v":""}]
[null,{"$f":"IFERROR(VLOOKUP(A718,'1.Портфель кредитів'!A:AB,3,FALSE),\"\")","v":""},{"$f":"IFERROR(VLOOKUP(A718,'1.Портфель кредитів'!A:AB,14,FALSE),\"\")","v":""}]
[null,{"$f":"IFERROR(VLOOKUP(A719,'1.Портфель кредитів'!A:AB,3,FALSE),\"\")","v":""},{"$f":"IFERROR(VLOOKUP(A719,'1.Портфель кредитів'!A:AB,14,FALSE),\"\")","v":""}]
[null,{"$f":"IFERROR(VLOOKUP(A720,'1.Портфель кредитів'!A:AB,3,FALSE),\"\")","v":""},{"$f":"IFERROR(VLOOKUP(A720,'1.Портфель кредитів'!A:AB,14,FALSE),\"\")","v":""}]
[null,{"$f":"IFERROR(VLOOKUP(A721,'1.Портфель кредитів'!A:AB,3,FALSE),\"\")","v":""},{"$f":"IFERROR(VLOOKUP(A721,'1.Портфель кредитів'!A:AB,14,FALSE),\"\")","v":""}]
[null,{"$f":"IFERROR(VLOOKUP(A722,'1.Портфель кредитів'!A:AB,3,FALSE),\"\")","v":""},{"$f":"IFERROR(VLOOKUP(A722,'1.Портфель кредитів'!A:AB,14,FALSE),\"\")","v":""}]
[null,{"$f":"IFERROR(VLOOKUP(A723,'1.Портфель кредитів'!A:AB,3,FALSE),\"\")","v":""},{"$f":"IFERROR(VLOOKUP(A723,'1.Портфель кредитів'!A:AB,14,FALSE),\"\")","v":""}]
[null,{"$f":"IFERROR(VLOOKUP(A724,'1.Портфель кредитів'!A:AB,3,FALSE),\"\")","v":""},{"$f":"IFERROR(VLOOKUP(A724,'1.Портфель кредитів'!A:AB,14,FALSE),\"\")","v":""}]
[null,{"$f":"IFERROR(VLOOKUP(A725,'1.Портфель кредитів'!A:AB,3,FALSE),\"\")","v":""},{"$f":"IFERROR(VLOOKUP(A725,'1.Портфель кредитів'!A:AB,14,FALSE),\"\")","v":""}]
[null,{"$f":"IFERROR(VLOOKUP(A726,'1.Портфель кредитів'!A:AB,3,FALSE),\"\")","v":""},{"$f":"IFERROR(VLOOKUP(A726,'1.Портфель кредитів'!A:AB,14,FALSE),\"\")","v":""}]
[null,{"$f":"IFERROR(VLOOKUP(A727,'1.Портфель кредитів'!A:AB,3,FALSE),\"\")","v":""},{"$f":"IFERROR(VLOOKUP(A727,'1.Портфель кредитів'!A:AB,14,FALSE),\"\")","v":""}]
[null,{"$f":"IFERROR(VLOOKUP(A728,'1.Портфель кредитів'!A:AB,3,FALSE),\"\")","v":""},{"$f":"IFERROR(VLOOKUP(A728,'1.Портфель кредитів'!A:AB,14,FALSE),\"\")","v":""}]
[null,{"$f":"IFERROR(VLOOKUP(A729,'1.Портфель кредитів'!A:AB,3,FALSE),\"\")","v":""},{"$f":"IFERROR(VLOOKUP(A729,'1.Портфель кредитів'!A:AB,14,FALSE),\"\")","v":""}]
[null,{"$f":"IFERROR(VLOOKUP(A730,'1.Портфель кредитів'!A:AB,3,FALSE),\"\")","v":""},{"$f":"IFERROR(VLOOKUP(A730,'1.Портфель кредитів'!A:AB,14,FALSE),\"\")","v":""}]
[null,{"$f":"IFERROR(VLOOKUP(A731,'1.Портфель кредитів'!A:AB,3,FALSE),\"\")","v":""},{"$f":"IFERROR(VLOOKUP(A731,'1.Портфель кредитів'!A:AB,14,FALSE),\"\")","v":""}]
[null,{"$f":"IFERROR(VLOOKUP(A732,'1.Портфель кредитів'!A:AB,3,FALSE),\"\")","v":""},{"$f":"IFERROR(VLOOKUP(A732,'1.Портфель кредитів'!A:AB,14,FALSE),\"\")","v":""}]
[null,{"$f":"IFERROR(VLOOKUP(A733,'1.Портфель кредитів'!A:AB,3,FALSE),\"\")","v":""},{"$f":"IFERROR(VLOOKUP(A733,'1.Портфель кредитів'!A:AB,14,FALSE),\"\")","v":""}]
[null,{"$f":"IFERROR(VLOOKUP(A734,'1.Портфель кредитів'!A:AB,3,FALSE),\"\")","v":""},{"$f":"IFERROR(VLOOKUP(A734,'1.Портфель кредитів'!A:AB,14,FALSE),\"\")","v":""}]
[null,{"$f":"IFERROR(VLOOKUP(A735,'1.Портфель кредитів'!A:AB,3,FALSE),\"\")","v":""},{"$f":"IFERROR(VLOOKUP(A735,'1.Портфель кредитів'!A:AB,14,FALSE),\"\")","v":""}]
[null,{"$f":"IFERROR(VLOOKUP(A736,'1.Портфель кредитів'!A:AB,3,FALSE),\"\")","v":""},{"$f":"IFERROR(VLOOKUP(A736,'1.Портфель кредитів'!A:AB,14,FALSE),\"\")","v":""}]
[null,{"$f":"IFERROR(VLOOKUP(A737,'1.Портфель кредитів'!A:AB,3,FALSE),\"\")","v":""},{"$f":"IFERROR(VLOOKUP(A737,'1.Портфель кредитів'!A:AB,14,FALSE),\"\")","v":""}]
[null,{"$f":"IFERROR(VLOOKUP(A738,'1.Портфель кредитів'!A:AB,3,FALSE),\"\")","v":""},{"$f":"IFERROR(VLOOKUP(A738,'1.Портфель кредитів'!A:AB,14,FALSE),\"\")","v":""}]
[null,{"$f":"IFERROR(VLOOKUP(A739,'1.Портфель кредитів'!A:AB,3,FALSE),\"\")","v":""},{"$f":"IFERROR(VLOOKUP(A739,'1.Портфель кредитів'!A:AB,14,FALSE),\"\")","v":""}]
[null,{"$f":"IFERROR(VLOOKUP(A740,'1.Портфель кредитів'!A:AB,3,FALSE),\"\")","v":""},{"$f":"IFERROR(VLOOKUP(A740,'1.Портфель кредитів'!A:AB,14,FALSE),\"\")","v":""}]
[null,{"$f":"IFERROR(VLOOKUP(A741,'1.Портфель кредитів'!A:AB,3,FALSE),\"\")","v":""},{"$f":"IFERROR(VLOOKUP(A741,'1.Портфель кредитів'!A:AB,14,FALSE),\"\")","v":""}]
[null,{"$f":"IFERROR(VLOOKUP(A742,'1.Портфель кредитів'!A:AB,3,FALSE),\"\")","v":""},{"$f":"IFERROR(VLOOKUP(A742,'1.Портфель кредитів'!A:AB,14,FALSE),\"\")","v":""}]
[null,{"$f":"IFERROR(VLOOKUP(A743,'1.Портфель кредитів'!A:AB,3,FALSE),\"\")","v":""},{"$f":"IFERROR(VLOOKUP(A743,'1.Портфель кредитів'!A:AB,14,FALSE),\"\")","v":""}]
[null,{"$f":"IFERROR(VLOOKUP(A744,'1.Портфель кредитів'!A:AB,3,FALSE),\"\")","v":""},{"$f":"IFERROR(VLOOKUP(A744,'1.Портфель кредитів'!A:AB,14,FALSE),\"\")","v":""}]
[null,{"$f":"IFERROR(VLOOKUP(A745,'1.Портфель кредитів'!A:AB,3,FALSE),\"\")","v":""},{"$f":"IFERROR(VLOOKUP(A745,'1.Портфель кредитів'!A:AB,14,FALSE),\"\")","v":""}]
[null,{"$f":"IFERROR(VLOOKUP(A746,'1.Портфель кредитів'!A:AB,3,FALSE),\"\")","v":""},{"$f":"IFERROR(VLOOKUP(A746,'1.Портфель кредитів'!A:AB,14,FALSE),\"\")","v":""}]
[null,{"$f":"IFERROR(VLOOKUP(A747,'1.Портфель кредитів'!A:AB,3,FALSE),\"\")","v":""},{"$f":"IFERROR(VLOOKUP(A747,'1.Портфель кредитів'!A:AB,14,FALSE),\"\")","v":""}]
[null,{"$f":"IFERROR(VLOOKUP(A748,'1.Портфель кредитів'!A:AB,3,FALSE),\"\")","v":""},{"$f":"IFERROR(VLOOKUP(A748,'1.Портфель кредитів'!A:AB,14,FALSE),\"\")","v":""}]
[null,{"$f":"IFERROR(VLOOKUP(A749,'1.Портфель кредитів'!A:AB,3,FALSE),\"\")","v":""},{"$f":"IFERROR(VLOOKUP(A749,'1.Портфель кредитів'!A:AB,14,FALSE),\"\")","v":""}]
[null,{"$f":"IFERROR(VLOOKUP(A750,'1.Портфель кредитів'!A:AB,3,FALSE),\"\")","v":""},{"$f":"IFERROR(VLOOKUP(A750,'1.Портфель кредитів'!A:AB,14,FALSE),\"\")","v":""}]
[null,{"$f":"IFERROR(VLOOKUP(A751,'1.Портфель кредитів'!A:AB,3,FALSE),\"\")","v":""},{"$f":"IFERROR(VLOOKUP(A751,'1.Портфель кредитів'!A:AB,14,FALSE),\"\")","v":""}]
[null,{"$f":"IFERROR(VLOOKUP(A752,'1.Портфель кредитів'!A:AB,3,FALSE),\"\")","v":""},{"$f":"IFERROR(VLOOKUP(A752,'1.Портфель кредитів'!A:AB,14,FALSE),\"\")","v":""}]
[null,{"$f":"IFERROR(VLOOKUP(A753,'1.Портфель кредитів'!A:AB,3,FALSE),\"\")","v":""},{"$f":"IFERROR(VLOOKUP(A753,'1.Портфель кредитів'!A:AB,14,FALSE),\"\")","v":""}]
[null,{"$f":"IFERROR(VLOOKUP(A754,'1.Портфель кредитів'!A:AB,3,FALSE),\"\")","v":""},{"$f":"IFERROR(VLOOKUP(A754,'1.Портфель кредитів'!A:AB,14,FALSE),\"\")","v":""}]
[null,{"$f":"IFERROR(VLOOKUP(A755,'1.Портфель кредитів'!A:AB,3,FALSE),\"\")","v":""},{"$f":"IFERROR(VLOOKUP(A755,'1.Портфель кредитів'!A:AB,14,FALSE),\"\")","v":""}]
[null,{"$f":"IFERROR(VLOOKUP(A756,'1.Портфель кредитів'!A:AB,3,FALSE),\"\")","v":""},{"$f":"IFERROR(VLOOKUP(A756,'1.Портфель кредитів'!A:AB,14,FALSE),\"\")","v":""}]
[null,{"$f":"IFERROR(VLOOKUP(A757,'1.Портфель кредитів'!A:AB,3,FALSE),\"\")","v":""},{"$f":"IFERROR(VLOOKUP(A757,'1.Портфель кредитів'!A:AB,14,FALSE),\"\")","v":""}]
[null,{"$f":"IFERROR(VLOOKUP(A758,'1.Портфель кредитів'!A:AB,3,FALSE),\"\")","v":""},{"$f":"IFERROR(VLOOKUP(A758,'1.Портфель кредитів'!A:AB,14,FALSE),\"\")","v":""}]
[null,{"$f":"IFERROR(VLOOKUP(A759,'1.Портфель кредитів'!A:AB,3,FALSE),\"\")","v":""},{"$f":"IFERROR(VLOOKUP(A759,'1.Портфель кредитів'!A:AB,14,FALSE),\"\")","v":""}]
[null,{"$f":"IFERROR(VLOOKUP(A760,'1.Портфель кредитів'!A:AB,3,FALSE),\"\")","v":""},{"$f":"IFERROR(VLOOKUP(A760,'1.Портфель кредитів'!A:AB,14,FALSE),\"\")","v":""}]
[null,{"$f":"IFERROR(VLOOKUP(A761,'1.Портфель кредитів'!A:AB,3,FALSE),\"\")","v":""},{"$f":"IFERROR(VLOOKUP(A761,'1.Портфель кредитів'!A:AB,14,FALSE),\"\")","v":""}]
[null,{"$f":"IFERROR(VLOOKUP(A762,'1.Портфель кредитів'!A:AB,3,FALSE),\"\")","v":""},{"$f":"IFERROR(VLOOKUP(A762,'1.Портфель кредитів'!A:AB,14,FALSE),\"\")","v":""}]
[null,{"$f":"IFERROR(VLOOKUP(A763,'1.Портфель кредитів'!A:AB,3,FALSE),\"\")","v":""},{"$f":"IFERROR(VLOOKUP(A763,'1.Портфель кредитів'!A:AB,14,FALSE),\"\")","v":""}]
[null,{"$f":"IFERROR(VLOOKUP(A764,'1.Портфель кредитів'!A:AB,3,FALSE),\"\")","v":""},{"$f":"IFERROR(VLOOKUP(A764,'1.Портфель кредитів'!A:AB,14,FALSE),\"\")","v":""}]
[null,{"$f":"IFERROR(VLOOKUP(A765,'1.Портфель кредитів'!A:AB,3,FALSE),\"\")","v":""},{"$f":"IFERROR(VLOOKUP(A765,'1.Портфель кредитів'!A:AB,14,FALSE),\"\")","v":""}]
[null,{"$f":"IFERROR(VLOOKUP(A766,'1.Портфель кредитів'!A:AB,3,FALSE),\"\")","v":""},{"$f":"IFERROR(VLOOKUP(A766,'1.Портфель кредитів'!A:AB,14,FALSE),\"\")","v":""}]
[null,{"$f":"IFERROR(VLOOKUP(A767,'1.Портфель кредитів'!A:AB,3,FALSE),\"\")","v":""},{"$f":"IFERROR(VLOOKUP(A767,'1.Портфель кредитів'!A:AB,14,FALSE),\"\")","v":""}]
[null,{"$f":"IFERROR(VLOOKUP(A768,'1.Портфель кредитів'!A:AB,3,FALSE),\"\")","v":""},{"$f":"IFERROR(VLOOKUP(A768,'1.Портфель кредитів'!A:AB,14,FALSE),\"\")","v":""}]
[null,{"$f":"IFERROR(VLOOKUP(A769,'1.Портфель кредитів'!A:AB,3,FALSE),\"\")","v":""},{"$f":"IFERROR(VLOOKUP(A769,'1.Портфель кредитів'!A:AB,14,FALSE),\"\")","v":""}]
[null,{"$f":"IFERROR(VLOOKUP(A770,'1.Портфель кредитів'!A:AB,3,FALSE),\"\")","v":""},{"$f":"IFERROR(VLOOKUP(A770,'1.Портфель кредитів'!A:AB,14,FALSE),\"\")","v":""}]
[null,{"$f":"IFERROR(VLOOKUP(A771,'1.Портфель кредитів'!A:AB,3,FALSE),\"\")","v":""},{"$f":"IFERROR(VLOOKUP(A771,'1.Портфель кредитів'!A:AB,14,FALSE),\"\")","v":""}]
[null,{"$f":"IFERROR(VLOOKUP(A772,'1.Портфель кредитів'!A:AB,3,FALSE),\"\")","v":""},{"$f":"IFERROR(VLOOKUP(A772,'1.Портфель кредитів'!A:AB,14,FALSE),\"\")","v":""}]
[null,{"$f":"IFERROR(VLOOKUP(A773,'1.Портфель кредитів'!A:AB,3,FALSE),\"\")","v":""},{"$f":"IFERROR(VLOOKUP(A773,'1.Портфель кредитів'!A:AB,14,FALSE),\"\")","v":""}]
[null,{"$f":"IFERROR(VLOOKUP(A774,'1.Портфель кредитів'!A:AB,3,FALSE),\"\")","v":""},{"$f":"IFERROR(VLOOKUP(A774,'1.Портфель кредитів'!A:AB,14,FALSE),\"\")","v":""}]
[null,{"$f":"IFERROR(VLOOKUP(A775,'1.Портфель кредитів'!A:AB,3,FALSE),\"\")","v":""},{"$f":"IFERROR(VLOOKUP(A775,'1.Портфель кредитів'!A:AB,14,FALSE),\"\")","v":""}]
[null,{"$f":"IFERROR(VLOOKUP(A776,'1.Портфель кредитів'!A:AB,3,FALSE),\"\")","v":""},{"$f":"IFERROR(VLOOKUP(A776,'1.Портфель кредитів'!A:AB,14,FALSE),\"\")","v":""}]
[null,{"$f":"IFERROR(VLOOKUP(A777,'1.Портфель кредитів'!A:AB,3,FALSE),\"\")","v":""},{"$f":"IFERROR(VLOOKUP(A777,'1.Портфель кредитів'!A:AB,14,FALSE),\"\")","v":""}]
[null,{"$f":"IFERROR(VLOOKUP(A778,'1.Портфель кредитів'!A:AB,3,FALSE),\"\")","v":""},{"$f":"IFERROR(VLOOKUP(A778,'1.Портфель кредитів'!A:AB,14,FALSE),\"\")","v":""}]
[null,{"$f":"IFERROR(VLOOKUP(A779,'1.Портфель кредитів'!A:AB,3,FALSE),\"\")","v":""},{"$f":"IFERROR(VLOOKUP(A779,'1.Портфель кредитів'!A:AB,14,FALSE),\"\")","v":""}]
[null,{"$f":"IFERROR(VLOOKUP(A780,'1.Портфель кредитів'!A:AB,3,FALSE),\"\")","v":""},{"$f":"IFERROR(VLOOKUP(A780,'1.Портфель кредитів'!A:AB,14,FALSE),\"\")","v":""}]
[null,{"$f":"IFERROR(VLOOKUP(A781,'1.Портфель кредитів'!A:AB,3,FALSE),\"\")","v":""},{"$f":"IFERROR(VLOOKUP(A781,'1.Портфель кредитів'!A:AB,14,FALSE),\"\")","v":""}]
[null,{"$f":"IFERROR(VLOOKUP(A782,'1.Портфель кредитів'!A:AB,3,FALSE),\"\")","v":""},{"$f":"IFERROR(VLOOKUP(A782,'1.Портфель кредитів'!A:AB,14,FALSE),\"\")","v":""}]
[null,{"$f":"IFERROR(VLOOKUP(A783,'1.Портфель кредитів'!A:AB,3,FALSE),\"\")","v":""},{"$f":"IFERROR(VLOOKUP(A783,'1.Портфель кредитів'!A:AB,14,FALSE),\"\")","v":""}]
[null,{"$f":"IFERROR(VLOOKUP(A784,'1.Портфель кредитів'!A:AB,3,FALSE),\"\")","v":""},{"$f":"IFERROR(VLOOKUP(A784,'1.Портфель кредитів'!A:AB,14,FALSE),\"\")","v":""}]
[null,{"$f":"IFERROR(VLOOKUP(A785,'1.Портфель кредитів'!A:AB,3,FALSE),\"\")","v":""},{"$f":"IFERROR(VLOOKUP(A785,'1.Портфель кредитів'!A:AB,14,FALSE),\"\")","v":""}]
[null,{"$f":"IFERROR(VLOOKUP(A786,'1.Портфель кредитів'!A:AB,3,FALSE),\"\")","v":""},{"$f":"IFERROR(VLOOKUP(A786,'1.Портфель кредитів'!A:AB,14,FALSE),\"\")","v":""}]
[null,{"$f":"IFERROR(VLOOKUP(A787,'1.Портфель кредитів'!A:AB,3,FALSE),\"\")","v":""},{"$f":"IFERROR(VLOOKUP(A787,'1.Портфель кредитів'!A:AB,14,FALSE),\"\")","v":""}]
[null,{"$f":"IFERROR(VLOOKUP(A788,'1.Портфель кредитів'!A:AB,3,FALSE),\"\")","v":""},{"$f":"IFERROR(VLOOKUP(A788,'1.Портфель кредитів'!A:AB,14,FALSE),\"\")","v":""}]
[null,{"$f":"IFERROR(VLOOKUP(A789,'1.Портфель кредитів'!A:AB,3,FALSE),\"\")","v":""},{"$f":"IFERROR(VLOOKUP(A789,'1.Портфель кредитів'!A:AB,14,FALSE),\"\")","v":""}]
[null,{"$f":"IFERROR(VLOOKUP(A790,'1.Портфель кредитів'!A:AB,3,FALSE),\"\")","v":""},{"$f":"IFERROR(VLOOKUP(A790,'1.Портфель кредитів'!A:AB,14,FALSE),\"\")","v":""}]
[null,{"$f":"IFERROR(VLOOKUP(A791,'1.Портфель кредитів'!A:AB,3,FALSE),\"\")","v":""},{"$f":"IFERROR(VLOOKUP(A791,'1.Портфель кредитів'!A:AB,14,FALSE),\"\")","v":""}]
[null,{"$f":"IFERROR(VLOOKUP(A792,'1.Портфель кредитів'!A:AB,3,FALSE),\"\")","v":""},{"$f":"IFERROR(VLOOKUP(A792,'1.Портфель кредитів'!A:AB,14,FALSE),\"\")","v":""}]
[null,{"$f":"IFERROR(VLOOKUP(A793,'1.Портфель кредитів'!A:AB,3,FALSE),\"\")","v":""},{"$f":"IFERROR(VLOOKUP(A793,'1.Портфель кредитів'!A:AB,14,FALSE),\"\")","v":""}]
[null,{"$f":"IFERROR(VLOOKUP(A794,'1.Портфель кредитів'!A:AB,3,FALSE),\"\")","v":""},{"$f":"IFERROR(VLOOKUP(A794,'1.Портфель кредитів'!A:AB,14,FALSE),\"\")","v":""}]
[null,{"$f":"IFERROR(VLOOKUP(A795,'1.Портфель кредитів'!A:AB,3,FALSE),\"\")","v":""},{"$f":"IFERROR(VLOOKUP(A795,'1.Портфель кредитів'!A:AB,14,FALSE),\"\")","v":""}]
[null,{"$f":"IFERROR(VLOOKUP(A796,'1.Портфель кредитів'!A:AB,3,FALSE),\"\")","v":""},{"$f":"IFERROR(VLOOKUP(A796,'1.Портфель кредитів'!A:AB,14,FALSE),\"\")","v":""}]
[null,{"$f":"IFERROR(VLOOKUP(A797,'1.Портфель кредитів'!A:AB,3,FALSE),\"\")","v":""},{"$f":"IFERROR(VLOOKUP(A797,'1.Портфель кредитів'!A:AB,14,FALSE),\"\")","v":""}]
[null,{"$f":"IFERROR(VLOOKUP(A798,'1.Портфель кредитів'!A:AB,3,FALSE),\"\")","v":""},{"$f":"IFERROR(VLOOKUP(A798,'1.Портфель кредитів'!A:AB,14,FALSE),\"\")","v":""}]
[null,{"$f":"IFERROR(VLOOKUP(A799,'1.Портфель кредитів'!A:AB,3,FALSE),\"\")","v":""},{"$f":"IFERROR(VLOOKUP(A799,'1.Портфель кредитів'!A:AB,14,FALSE),\"\")","v":""}]
[null,{"$f":"IFERROR(VLOOKUP(A800,'1.Портфель кредитів'!A:AB,3,FALSE),\"\")","v":""},{"$f":"IFERROR(VLOOKUP(A800,'1.Портфель кредитів'!A:AB,14,FALSE),\"\")","v":""}]
[null,{"$f":"IFERROR(VLOOKUP(A801,'1.Портфель кредитів'!A:AB,3,FALSE),\"\")","v":""},{"$f":"IFERROR(VLOOKUP(A801,'1.Портфель кредитів'!A:AB,14,FALSE),\"\")","v":""}]
[null,{"$f":"IFERROR(VLOOKUP(A802,'1.Портфель кредитів'!A:AB,3,FALSE),\"\")","v":""},{"$f":"IFERROR(VLOOKUP(A802,'1.Портфель кредитів'!A:AB,14,FALSE),\"\")","v":""}]
[null,{"$f":"IFERROR(VLOOKUP(A803,'1.Портфель кредитів'!A:AB,3,FALSE),\"\")","v":""},{"$f":"IFERROR(VLOOKUP(A803,'1.Портфель кредитів'!A:AB,14,FALSE),\"\")","v":""}]
[null,{"$f":"IFERROR(VLOOKUP(A804,'1.Портфель кредитів'!A:AB,3,FALSE),\"\")","v":""},{"$f":"IFERROR(VLOOKUP(A804,'1.Портфель кредитів'!A:AB,14,FALSE),\"\")","v":""}]
[null,{"$f":"IFERROR(VLOOKUP(A805,'1.Портфель кредитів'!A:AB,3,FALSE),\"\")","v":""},{"$f":"IFERROR(VLOOKUP(A805,'1.Портфель кредитів'!A:AB,14,FALSE),\"\")","v":""}]
[null,{"$f":"IFERROR(VLOOKUP(A806,'1.Портфель кредитів'!A:AB,3,FALSE),\"\")","v":""},{"$f":"IFERROR(VLOOKUP(A806,'1.Портфель кредитів'!A:AB,14,FALSE),\"\")","v":""}]
[null,{"$f":"IFERROR(VLOOKUP(A807,'1.Портфель кредитів'!A:AB,3,FALSE),\"\")","v":""},{"$f":"IFERROR(VLOOKUP(A807,'1.Портфель кредитів'!A:AB,14,FALSE),\"\")","v":""}]
[null,{"$f":"IFERROR(VLOOKUP(A808,'1.Портфель кредитів'!A:AB,3,FALSE),\"\")","v":""},{"$f":"IFERROR(VLOOKUP(A808,'1.Портфель кредитів'!A:AB,14,FALSE),\"\")","v":""}]
[null,{"$f":"IFERROR(VLOOKUP(A809,'1.Портфель кредитів'!A:AB,3,FALSE),\"\")","v":""},{"$f":"IFERROR(VLOOKUP(A809,'1.Портфель кредитів'!A:AB,14,FALSE),\"\")","v":""}]
[null,{"$f":"IFERROR(VLOOKUP(A810,'1.Портфель кредитів'!A:AB,3,FALSE),\"\")","v":""},{"$f":"IFERROR(VLOOKUP(A810,'1.Портфель кредитів'!A:AB,14,FALSE),\"\")","v":""}]
[null,{"$f":"IFERROR(VLOOKUP(A811,'1.Портфель кредитів'!A:AB,3,FALSE),\"\")","v":""},{"$f":"IFERROR(VLOOKUP(A811,'1.Портфель кредитів'!A:AB,14,FALSE),\"\")","v":""}]
[null,{"$f":"IFERROR(VLOOKUP(A812,'1.Портфель кредитів'!A:AB,3,FALSE),\"\")","v":""},{"$f":"IFERROR(VLOOKUP(A812,'1.Портфель кредитів'!A:AB,14,FALSE),\"\")","v":""}]
[null,{"$f":"IFERROR(VLOOKUP(A813,'1.Портфель кредитів'!A:AB,3,FALSE),\"\")","v":""},{"$f":"IFERROR(VLOOKUP(A813,'1.Портфель кредитів'!A:AB,14,FALSE),\"\")","v":""}]
[null,{"$f":"IFERROR(VLOOKUP(A814,'1.Портфель кредитів'!A:AB,3,FALSE),\"\")","v":""},{"$f":"IFERROR(VLOOKUP(A814,'1.Портфель кредитів'!A:AB,14,FALSE),\"\")","v":""}]
[null,{"$f":"IFERROR(VLOOKUP(A815,'1.Портфель кредитів'!A:AB,3,FALSE),\"\")","v":""},{"$f":"IFERROR(VLOOKUP(A815,'1.Портфель кредитів'!A:AB,14,FALSE),\"\")","v":""}]
[null,{"$f":"IFERROR(VLOOKUP(A816,'1.Портфель кредитів'!A:AB,3,FALSE),\"\")","v":""},{"$f":"IFERROR(VLOOKUP(A816,'1.Портфель кредитів'!A:AB,14,FALSE),\"\")","v":""}]
[null,{"$f":"IFERROR(VLOOKUP(A817,'1.Портфель кредитів'!A:AB,3,FALSE),\"\")","v":""},{"$f":"IFERROR(VLOOKUP(A817,'1.Портфель кредитів'!A:AB,14,FALSE),\"\")","v":""}]
[null,{"$f":"IFERROR(VLOOKUP(A818,'1.Портфель кредитів'!A:AB,3,FALSE),\"\")","v":""},{"$f":"IFERROR(VLOOKUP(A818,'1.Портфель кредитів'!A:AB,14,FALSE),\"\")","v":""}]
[null,{"$f":"IFERROR(VLOOKUP(A819,'1.Портфель кредитів'!A:AB,3,FALSE),\"\")","v":""},{"$f":"IFERROR(VLOOKUP(A819,'1.Портфель кредитів'!A:AB,14,FALSE),\"\")","v":""}]
[null,{"$f":"IFERROR(VLOOKUP(A820,'1.Портфель кредитів'!A:AB,3,FALSE),\"\")","v":""},{"$f":"IFERROR(VLOOKUP(A820,'1.Портфель кредитів'!A:AB,14,FALSE),\"\")","v":""}]
[null,{"$f":"IFERROR(VLOOKUP(A821,'1.Портфель кредитів'!A:AB,3,FALSE),\"\")","v":""},{"$f":"IFERROR(VLOOKUP(A821,'1.Портфель кредитів'!A:AB,14,FALSE),\"\")","v":""}]
[null,{"$f":"IFERROR(VLOOKUP(A822,'1.Портфель кредитів'!A:AB,3,FALSE),\"\")","v":""},{"$f":"IFERROR(VLOOKUP(A822,'1.Портфель кредитів'!A:AB,14,FALSE),\"\")","v":""}]
[null,{"$f":"IFERROR(VLOOKUP(A823,'1.Портфель кредитів'!A:AB,3,FALSE),\"\")","v":""},{"$f":"IFERROR(VLOOKUP(A823,'1.Портфель кредитів'!A:AB,14,FALSE),\"\")","v":""}]
[null,{"$f":"IFERROR(VLOOKUP(A824,'1.Портфель кредитів'!A:AB,3,FALSE),\"\")","v":""},{"$f":"IFERROR(VLOOKUP(A824,'1.Портфель кредитів'!A:AB,14,FALSE),\"\")","v":""}]
[null,{"$f":"IFERROR(VLOOKUP(A825,'1.Портфель кредитів'!A:AB,3,FALSE),\"\")","v":""},{"$f":"IFERROR(VLOOKUP(A825,'1.Портфель кредитів'!A:AB,14,FALSE),\"\")","v":""}]
[null,{"$f":"IFERROR(VLOOKUP(A826,'1.Портфель кредитів'!A:AB,3,FALSE),\"\")","v":""},{"$f":"IFERROR(VLOOKUP(A826,'1.Портфель кредитів'!A:AB,14,FALSE),\"\")","v":""}]
[null,{"$f":"IFERROR(VLOOKUP(A827,'1.Портфель кредитів'!A:AB,3,FALSE),\"\")","v":""},{"$f":"IFERROR(VLOOKUP(A827,'1.Портфель кредитів'!A:AB,14,FALSE),\"\")","v":""}]
[null,{"$f":"IFERROR(VLOOKUP(A828,'1.Портфель кредитів'!A:AB,3,FALSE),\"\")","v":""},{"$f":"IFERROR(VLOOKUP(A828,'1.Портфель кредитів'!A:AB,14,FALSE),\"\")","v":""}]
[null,{"$f":"IFERROR(VLOOKUP(A829,'1.Портфель кредитів'!A:AB,3,FALSE),\"\")","v":""},{"$f":"IFERROR(VLOOKUP(A829,'1.Портфель кредитів'!A:AB,14,FALSE),\"\")","v":""}]
[null,{"$f":"IFERROR(VLOOKUP(A830,'1.Портфель кредитів'!A:AB,3,FALSE),\"\")","v":""},{"$f":"IFERROR(VLOOKUP(A830,'1.Портфель кредитів'!A:AB,14,FALSE),\"\")","v":""}]
[null,{"$f":"IFERROR(VLOOKUP(A831,'1.Портфель кредитів'!A:AB,3,FALSE),\"\")","v":""},{"$f":"IFERROR(VLOOKUP(A831,'1.Портфель кредитів'!A:AB,14,FALSE),\"\")","v":""}]
[null,{"$f":"IFERROR(VLOOKUP(A832,'1.Портфель кредитів'!A:AB,3,FALSE),\"\")","v":""},{"$f":"IFERROR(VLOOKUP(A832,'1.Портфель кредитів'!A:AB,14,FALSE),\"\")","v":""}]
[null,{"$f":"IFERROR(VLOOKUP(A833,'1.Портфель кредитів'!A:AB,3,FALSE),\"\")","v":""},{"$f":"IFERROR(VLOOKUP(A833,'1.Портфель кредитів'!A:AB,14,FALSE),\"\")","v":""}]
[null,{"$f":"IFERROR(VLOOKUP(A834,'1.Портфель кредитів'!A:AB,3,FALSE),\"\")","v":""},{"$f":"IFERROR(VLOOKUP(A834,'1.Портфель кредитів'!A:AB,14,FALSE),\"\")","v":""}]
[null,{"$f":"IFERROR(VLOOKUP(A835,'1.Портфель кредитів'!A:AB,3,FALSE),\"\")","v":""},{"$f":"IFERROR(VLOOKUP(A835,'1.Портфель кредитів'!A:AB,14,FALSE),\"\")","v":""}]
[null,{"$f":"IFERROR(VLOOKUP(A836,'1.Портфель кредитів'!A:AB,3,FALSE),\"\")","v":""},{"$f":"IFERROR(VLOOKUP(A836,'1.Портфель кредитів'!A:AB,14,FALSE),\"\")","v":""}]
[null,{"$f":"IFERROR(VLOOKUP(A837,'1.Портфель кредитів'!A:AB,3,FALSE),\"\")","v":""},{"$f":"IFERROR(VLOOKUP(A837,'1.Портфель кредитів'!A:AB,14,FALSE),\"\")","v":""}]
[null,{"$f":"IFERROR(VLOOKUP(A838,'1.Портфель кредитів'!A:AB,3,FALSE),\"\")","v":""},{"$f":"IFERROR(VLOOKUP(A838,'1.Портфель кредитів'!A:AB,14,FALSE),\"\")","v":""}]
[null,{"$f":"IFERROR(VLOOKUP(A839,'1.Портфель кредитів'!A:AB,3,FALSE),\"\")","v":""},{"$f":"IFERROR(VLOOKUP(A839,'1.Портфель кредитів'!A:AB,14,FALSE),\"\")","v":""}]
[null,{"$f":"IFERROR(VLOOKUP(A840,'1.Портфель кредитів'!A:AB,3,FALSE),\"\")","v":""},{"$f":"IFERROR(VLOOKUP(A840,'1.Портфель кредитів'!A:AB,14,FALSE),\"\")","v":""}]
[null,{"$f":"IFERROR(VLOOKUP(A841,'1.Портфель кредитів'!A:AB,3,FALSE),\"\")","v":""},{"$f":"IFERROR(VLOOKUP(A841,'1.Портфель кредитів'!A:AB,14,FALSE),\"\")","v":""}]
[null,{"$f":"IFERROR(VLOOKUP(A842,'1.Портфель кредитів'!A:AB,3,FALSE),\"\")","v":""},{"$f":"IFERROR(VLOOKUP(A842,'1.Портфель кредитів'!A:AB,14,FALSE),\"\")","v":""}]
[null,{"$f":"IFERROR(VLOOKUP(A843,'1.Портфель кредитів'!A:AB,3,FALSE),\"\")","v":""},{"$f":"IFERROR(VLOOKUP(A843,'1.Портфель кредитів'!A:AB,14,FALSE),\"\")","v":""}]
[null,{"$f":"IFERROR(VLOOKUP(A844,'1.Портфель кредитів'!A:AB,3,FALSE),\"\")","v":""},{"$f":"IFERROR(VLOOKUP(A844,'1.Портфель кредитів'!A:AB,14,FALSE),\"\")","v":""}]
[null,{"$f":"IFERROR(VLOOKUP(A845,'1.Портфель кредитів'!A:AB,3,FALSE),\"\")","v":""},{"$f":"IFERROR(VLOOKUP(A845,'1.Портфель кредитів'!A:AB,14,FALSE),\"\")","v":""}]
[null,{"$f":"IFERROR(VLOOKUP(A846,'1.Портфель кредитів'!A:AB,3,FALSE),\"\")","v":""},{"$f":"IFERROR(VLOOKUP(A846,'1.Портфель кредитів'!A:AB,14,FALSE),\"\")","v":""}]
[null,{"$f":"IFERROR(VLOOKUP(A847,'1.Портфель кредитів'!A:AB,3,FALSE),\"\")","v":""},{"$f":"IFERROR(VLOOKUP(A847,'1.Портфель кредитів'!A:AB,14,FALSE),\"\")","v":""}]
[null,{"$f":"IFERROR(VLOOKUP(A848,'1.Портфель кредитів'!A:AB,3,FALSE),\"\")","v":""},{"$f":"IFERROR(VLOOKUP(A848,'1.Портфель кредитів'!A:AB,14,FALSE),\"\")","v":""}]
[null,{"$f":"IFERROR(VLOOKUP(A849,'1.Портфель кредитів'!A:AB,3,FALSE),\"\")","v":""},{"$f":"IFERROR(VLOOKUP(A849,'1.Портфель кредитів'!A:AB,14,FALSE),\"\")","v":""}]
[null,{"$f":"IFERROR(VLOOKUP(A850,'1.Портфель кредитів'!A:AB,3,FALSE),\"\")","v":""},{"$f":"IFERROR(VLOOKUP(A850,'1.Портфель кредитів'!A:AB,14,FALSE),\"\")","v":""}]
[null,{"$f":"IFERROR(VLOOKUP(A851,'1.Портфель кредитів'!A:AB,3,FALSE),\"\")","v":""},{"$f":"IFERROR(VLOOKUP(A851,'1.Портфель кредитів'!A:AB,14,FALSE),\"\")","v":""}]
[null,{"$f":"IFERROR(VLOOKUP(A852,'1.Портфель кредитів'!A:AB,3,FALSE),\"\")","v":""},{"$f":"IFERROR(VLOOKUP(A852,'1.Портфель кредитів'!A:AB,14,FALSE),\"\")","v":""}]
[null,{"$f":"IFERROR(VLOOKUP(A853,'1.Портфель кредитів'!A:AB,3,FALSE),\"\")","v":""},{"$f":"IFERROR(VLOOKUP(A853,'1.Портфель кредитів'!A:AB,14,FALSE),\"\")","v":""}]
[null,{"$f":"IFERROR(VLOOKUP(A854,'1.Портфель кредитів'!A:AB,3,FALSE),\"\")","v":""},{"$f":"IFERROR(VLOOKUP(A854,'1.Портфель кредитів'!A:AB,14,FALSE),\"\")","v":""}]
[null,{"$f":"IFERROR(VLOOKUP(A855,'1.Портфель кредитів'!A:AB,3,FALSE),\"\")","v":""},{"$f":"IFERROR(VLOOKUP(A855,'1.Портфель кредитів'!A:AB,14,FALSE),\"\")","v":""}]
[null,{"$f":"IFERROR(VLOOKUP(A856,'1.Портфель кредитів'!A:AB,3,FALSE),\"\")","v":""},{"$f":"IFERROR(VLOOKUP(A856,'1.Портфель кредитів'!A:AB,14,FALSE),\"\")","v":""}]
[null,{"$f":"IFERROR(VLOOKUP(A857,'1.Портфель кредитів'!A:AB,3,FALSE),\"\")","v":""},{"$f":"IFERROR(VLOOKUP(A857,'1.Портфель кредитів'!A:AB,14,FALSE),\"\")","v":""}]
[null,{"$f":"IFERROR(VLOOKUP(A858,'1.Портфель кредитів'!A:AB,3,FALSE),\"\")","v":""},{"$f":"IFERROR(VLOOKUP(A858,'1.Портфель кредитів'!A:AB,14,FALSE),\"\")","v":""}]
[null,{"$f":"IFERROR(VLOOKUP(A859,'1.Портфель кредитів'!A:AB,3,FALSE),\"\")","v":""},{"$f":"IFERROR(VLOOKUP(A859,'1.Портфель кредитів'!A:AB,14,FALSE),\"\")","v":""}]
[null,{"$f":"IFERROR(VLOOKUP(A860,'1.Портфель кредитів'!A:AB,3,FALSE),\"\")","v":""},{"$f":"IFERROR(VLOOKUP(A860,'1.Портфель кредитів'!A:AB,14,FALSE),\"\")","v":""}]
[null,{"$f":"IFERROR(VLOOKUP(A861,'1.Портфель кредитів'!A:AB,3,FALSE),\"\")","v":""},{"$f":"IFERROR(VLOOKUP(A861,'1.Портфель кредитів'!A:AB,14,FALSE),\"\")","v":""}]
[null,{"$f":"IFERROR(VLOOKUP(A862,'1.Портфель кредитів'!A:AB,3,FALSE),\"\")","v":""},{"$f":"IFERROR(VLOOKUP(A862,'1.Портфель кредитів'!A:AB,14,FALSE),\"\")","v":""}]
[null,{"$f":"IFERROR(VLOOKUP(A863,'1.Портфель кредитів'!A:AB,3,FALSE),\"\")","v":""},{"$f":"IFERROR(VLOOKUP(A863,'1.Портфель кредитів'!A:AB,14,FALSE),\"\")","v":""}]
[null,{"$f":"IFERROR(VLOOKUP(A864,'1.Портфель кредитів'!A:AB,3,FALSE),\"\")","v":""},{"$f":"IFERROR(VLOOKUP(A864,'1.Портфель кредитів'!A:AB,14,FALSE),\"\")","v":""}]
[null,{"$f":"IFERROR(VLOOKUP(A865,'1.Портфель кредитів'!A:AB,3,FALSE),\"\")","v":""},{"$f":"IFERROR(VLOOKUP(A865,'1.Портфель кредитів'!A:AB,14,FALSE),\"\")","v":""}]
[null,{"$f":"IFERROR(VLOOKUP(A866,'1.Портфель кредитів'!A:AB,3,FALSE),\"\")","v":""},{"$f":"IFERROR(VLOOKUP(A866,'1.Портфель кредитів'!A:AB,14,FALSE),\"\")","v":""}]
[null,{"$f":"IFERROR(VLOOKUP(A867,'1.Портфель кредитів'!A:AB,3,FALSE),\"\")","v":""},{"$f":"IFERROR(VLOOKUP(A867,'1.Портфель кредитів'!A:AB,14,FALSE),\"\")","v":""}]
[null,{"$f":"IFERROR(VLOOKUP(A868,'1.Портфель кредитів'!A:AB,3,FALSE),\"\")","v":""},{"$f":"IFERROR(VLOOKUP(A868,'1.Портфель кредитів'!A:AB,14,FALSE),\"\")","v":""}]
[null,{"$f":"IFERROR(VLOOKUP(A869,'1.Портфель кредитів'!A:AB,3,FALSE),\"\")","v":""},{"$f":"IFERROR(VLOOKUP(A869,'1.Портфель кредитів'!A:AB,14,FALSE),\"\")","v":""}]
[null,{"$f":"IFERROR(VLOOKUP(A870,'1.Портфель кредитів'!A:AB,3,FALSE),\"\")","v":""},{"$f":"IFERROR(VLOOKUP(A870,'1.Портфель кредитів'!A:AB,14,FALSE),\"\")","v":""}]
[null,{"$f":"IFERROR(VLOOKUP(A871,'1.Портфель кредитів'!A:AB,3,FALSE),\"\")","v":""},{"$f":"IFERROR(VLOOKUP(A871,'1.Портфель кредитів'!A:AB,14,FALSE),\"\")","v":""}]
[null,{"$f":"IFERROR(VLOOKUP(A872,'1.Портфель кредитів'!A:AB,3,FALSE),\"\")","v":""},{"$f":"IFERROR(VLOOKUP(A872,'1.Портфель кредитів'!A:AB,14,FALSE),\"\")","v":""}]
[null,{"$f":"IFERROR(VLOOKUP(A873,'1.Портфель кредитів'!A:AB,3,FALSE),\"\")","v":""},{"$f":"IFERROR(VLOOKUP(A873,'1.Портфель кредитів'!A:AB,14,FALSE),\"\")","v":""}]
[null,{"$f":"IFERROR(VLOOKUP(A874,'1.Портфель кредитів'!A:AB,3,FALSE),\"\")","v":""},{"$f":"IFERROR(VLOOKUP(A874,'1.Портфель кредитів'!A:AB,14,FALSE),\"\")","v":""}]
[null,{"$f":"IFERROR(VLOOKUP(A875,'1.Портфель кредитів'!A:AB,3,FALSE),\"\")","v":""},{"$f":"IFERROR(VLOOKUP(A875,'1.Портфель кредитів'!A:AB,14,FALSE),\"\")","v":""}]
[null,{"$f":"IFERROR(VLOOKUP(A876,'1.Портфель кредитів'!A:AB,3,FALSE),\"\")","v":""},{"$f":"IFERROR(VLOOKUP(A876,'1.Портфель кредитів'!A:AB,14,FALSE),\"\")","v":""}]
[null,{"$f":"IFERROR(VLOOKUP(A877,'1.Портфель кредитів'!A:AB,3,FALSE),\"\")","v":""},{"$f":"IFERROR(VLOOKUP(A877,'1.Портфель кредитів'!A:AB,14,FALSE),\"\")","v":""}]
[null,{"$f":"IFERROR(VLOOKUP(A878,'1.Портфель кредитів'!A:AB,3,FALSE),\"\")","v":""},{"$f":"IFERROR(VLOOKUP(A878,'1.Портфель кредитів'!A:AB,14,FALSE),\"\")","v":""}]
[null,{"$f":"IFERROR(VLOOKUP(A879,'1.Портфель кредитів'!A:AB,3,FALSE),\"\")","v":""},{"$f":"IFERROR(VLOOKUP(A879,'1.Портфель кредитів'!A:AB,14,FALSE),\"\")","v":""}]
[null,{"$f":"IFERROR(VLOOKUP(A880,'1.Портфель кредитів'!A:AB,3,FALSE),\"\")","v":""},{"$f":"IFERROR(VLOOKUP(A880,'1.Портфель кредитів'!A:AB,14,FALSE),\"\")","v":""}]
[null,{"$f":"IFERROR(VLOOKUP(A881,'1.Портфель кредитів'!A:AB,3,FALSE),\"\")","v":""},{"$f":"IFERROR(VLOOKUP(A881,'1.Портфель кредитів'!A:AB,14,FALSE),\"\")","v":""}]
[null,{"$f":"IFERROR(VLOOKUP(A882,'1.Портфель кредитів'!A:AB,3,FALSE),\"\")","v":""},{"$f":"IFERROR(VLOOKUP(A882,'1.Портфель кредитів'!A:AB,14,FALSE),\"\")","v":""}]
[null,{"$f":"IFERROR(VLOOKUP(A883,'1.Портфель кредитів'!A:AB,3,FALSE),\"\")","v":""},{"$f":"IFERROR(VLOOKUP(A883,'1.Портфель кредитів'!A:AB,14,FALSE),\"\")","v":""}]
[null,{"$f":"IFERROR(VLOOKUP(A884,'1.Портфель кредитів'!A:AB,3,FALSE),\"\")","v":""},{"$f":"IFERROR(VLOOKUP(A884,'1.Портфель кредитів'!A:AB,14,FALSE),\"\")","v":""}]
[null,{"$f":"IFERROR(VLOOKUP(A885,'1.Портфель кредитів'!A:AB,3,FALSE),\"\")","v":""},{"$f":"IFERROR(VLOOKUP(A885,'1.Портфель кредитів'!A:AB,14,FALSE),\"\")","v":""}]
[null,{"$f":"IFERROR(VLOOKUP(A886,'1.Портфель кредитів'!A:AB,3,FALSE),\"\")","v":""},{"$f":"IFERROR(VLOOKUP(A886,'1.Портфель кредитів'!A:AB,14,FALSE),\"\")","v":""}]
[null,{"$f":"IFERROR(VLOOKUP(A887,'1.Портфель кредитів'!A:AB,3,FALSE),\"\")","v":""},{"$f":"IFERROR(VLOOKUP(A887,'1.Портфель кредитів'!A:AB,14,FALSE),\"\")","v":""}]
[null,{"$f":"IFERROR(VLOOKUP(A888,'1.Портфель кредитів'!A:AB,3,FALSE),\"\")","v":""},{"$f":"IFERROR(VLOOKUP(A888,'1.Портфель кредитів'!A:AB,14,FALSE),\"\")","v":""}]
[null,{"$f":"IFERROR(VLOOKUP(A889,'1.Портфель кредитів'!A:AB,3,FALSE),\"\")","v":""},{"$f":"IFERROR(VLOOKUP(A889,'1.Портфель кредитів'!A:AB,14,FALSE),\"\")","v":""}]
[null,{"$f":"IFERROR(VLOOKUP(A890,'1.Портфель кредитів'!A:AB,3,FALSE),\"\")","v":""},{"$f":"IFERROR(VLOOKUP(A890,'1.Портфель кредитів'!A:AB,14,FALSE),\"\")","v":""}]
[null,{"$f":"IFERROR(VLOOKUP(A891,'1.Портфель кредитів'!A:AB,3,FALSE),\"\")","v":""},{"$f":"IFERROR(VLOOKUP(A891,'1.Портфель кредитів'!A:AB,14,FALSE),\"\")","v":""}]
[null,{"$f":"IFERROR(VLOOKUP(A892,'1.Портфель кредитів'!A:AB,3,FALSE),\"\")","v":""},{"$f":"IFERROR(VLOOKUP(A892,'1.Портфель кредитів'!A:AB,14,FALSE),\"\")","v":""}]
[null,{"$f":"IFERROR(VLOOKUP(A893,'1.Портфель кредитів'!A:AB,3,FALSE),\"\")","v":""},{"$f":"IFERROR(VLOOKUP(A893,'1.Портфель кредитів'!A:AB,14,FALSE),\"\")","v":""}]
[null,{"$f":"IFERROR(VLOOKUP(A894,'1.Портфель кредитів'!A:AB,3,FALSE),\"\")","v":""},{"$f":"IFERROR(VLOOKUP(A894,'1.Портфель кредитів'!A:AB,14,FALSE),\"\")","v":""}]
[null,{"$f":"IFERROR(VLOOKUP(A895,'1.Портфель кредитів'!A:AB,3,FALSE),\"\")","v":""},{"$f":"IFERROR(VLOOKUP(A895,'1.Портфель кредитів'!A:AB,14,FALSE),\"\")","v":""}]
[null,{"$f":"IFERROR(VLOOKUP(A896,'1.Портфель кредитів'!A:AB,3,FALSE),\"\")","v":""},{"$f":"IFERROR(VLOOKUP(A896,'1.Портфель кредитів'!A:AB,14,FALSE),\"\")","v":""}]
[null,{"$f":"IFERROR(VLOOKUP(A897,'1.Портфель кредитів'!A:AB,3,FALSE),\"\")","v":""},{"$f":"IFERROR(VLOOKUP(A897,'1.Портфель кредитів'!A:AB,14,FALSE),\"\")","v":""}]
[null,{"$f":"IFERROR(VLOOKUP(A898,'1.Портфель кредитів'!A:AB,3,FALSE),\"\")","v":""},{"$f":"IFERROR(VLOOKUP(A898,'1.Портфель кредитів'!A:AB,14,FALSE),\"\")","v":""}]
[null,{"$f":"IFERROR(VLOOKUP(A899,'1.Портфель кредитів'!A:AB,3,FALSE),\"\")","v":""},{"$f":"IFERROR(VLOOKUP(A899,'1.Портфель кредитів'!A:AB,14,FALSE),\"\")","v":""}]
[null,{"$f":"IFERROR(VLOOKUP(A900,'1.Портфель кредитів'!A:AB,3,FALSE),\"\")","v":""},{"$f":"IFERROR(VLOOKUP(A900,'1.Портфель кредитів'!A:AB,14,FALSE),\"\")","v":""}]
[null,{"$f":"IFERROR(VLOOKUP(A901,'1.Портфель кредитів'!A:AB,3,FALSE),\"\")","v":""},{"$f":"IFERROR(VLOOKUP(A901,'1.Портфель кредитів'!A:AB,14,FALSE),\"\")","v":""}]
[null,{"$f":"IFERROR(VLOOKUP(A902,'1.Портфель кредитів'!A:AB,3,FALSE),\"\")","v":""},{"$f":"IFERROR(VLOOKUP(A902,'1.Портфель кредитів'!A:AB,14,FALSE),\"\")","v":""}]
[null,{"$f":"IFERROR(VLOOKUP(A903,'1.Портфель кредитів'!A:AB,3,FALSE),\"\")","v":""},{"$f":"IFERROR(VLOOKUP(A903,'1.Портфель кредитів'!A:AB,14,FALSE),\"\")","v":""}]
[null,{"$f":"IFERROR(VLOOKUP(A904,'1.Портфель кредитів'!A:AB,3,FALSE),\"\")","v":""},{"$f":"IFERROR(VLOOKUP(A904,'1.Портфель кредитів'!A:AB,14,FALSE),\"\")","v":""}]
[null,{"$f":"IFERROR(VLOOKUP(A905,'1.Портфель кредитів'!A:AB,3,FALSE),\"\")","v":""},{"$f":"IFERROR(VLOOKUP(A905,'1.Портфель кредитів'!A:AB,14,FALSE),\"\")","v":""}]
[null,{"$f":"IFERROR(VLOOKUP(A906,'1.Портфель кредитів'!A:AB,3,FALSE),\"\")","v":""},{"$f":"IFERROR(VLOOKUP(A906,'1.Портфель кредитів'!A:AB,14,FALSE),\"\")","v":""}]
[null,{"$f":"IFERROR(VLOOKUP(A907,'1.Портфель кредитів'!A:AB,3,FALSE),\"\")","v":""},{"$f":"IFERROR(VLOOKUP(A907,'1.Портфель кредитів'!A:AB,14,FALSE),\"\")","v":""}]
[null,{"$f":"IFERROR(VLOOKUP(A908,'1.Портфель кредитів'!A:AB,3,FALSE),\"\")","v":""},{"$f":"IFERROR(VLOOKUP(A908,'1.Портфель кредитів'!A:AB,14,FALSE),\"\")","v":""}]
[null,{"$f":"IFERROR(VLOOKUP(A909,'1.Портфель кредитів'!A:AB,3,FALSE),\"\")","v":""},{"$f":"IFERROR(VLOOKUP(A909,'1.Портфель кредитів'!A:AB,14,FALSE),\"\")","v":""}]
[null,{"$f":"IFERROR(VLOOKUP(A910,'1.Портфель кредитів'!A:AB,3,FALSE),\"\")","v":""},{"$f":"IFERROR(VLOOKUP(A910,'1.Портфель кредитів'!A:AB,14,FALSE),\"\")","v":""}]
[null,{"$f":"IFERROR(VLOOKUP(A911,'1.Портфель кредитів'!A:AB,3,FALSE),\"\")","v":""},{"$f":"IFERROR(VLOOKUP(A911,'1.Портфель кредитів'!A:AB,14,FALSE),\"\")","v":""}]
[null,{"$f":"IFERROR(VLOOKUP(A912,'1.Портфель кредитів'!A:AB,3,FALSE),\"\")","v":""},{"$f":"IFERROR(VLOOKUP(A912,'1.Портфель кредитів'!A:AB,14,FALSE),\"\")","v":""}]
[null,{"$f":"IFERROR(VLOOKUP(A913,'1.Портфель кредитів'!A:AB,3,FALSE),\"\")","v":""},{"$f":"IFERROR(VLOOKUP(A913,'1.Портфель кредитів'!A:AB,14,FALSE),\"\")","v":""}]
[null,{"$f":"IFERROR(VLOOKUP(A914,'1.Портфель кредитів'!A:AB,3,FALSE),\"\")","v":""},{"$f":"IFERROR(VLOOKUP(A914,'1.Портфель кредитів'!A:AB,14,FALSE),\"\")","v":""}]
[null,{"$f":"IFERROR(VLOOKUP(A915,'1.Портфель кредитів'!A:AB,3,FALSE),\"\")","v":""},{"$f":"IFERROR(VLOOKUP(A915,'1.Портфель кредитів'!A:AB,14,FALSE),\"\")","v":""}]
[null,{"$f":"IFERROR(VLOOKUP(A916,'1.Портфель кредитів'!A:AB,3,FALSE),\"\")","v":""},{"$f":"IFERROR(VLOOKUP(A916,'1.Портфель кредитів'!A:AB,14,FALSE),\"\")","v":""}]
[null,{"$f":"IFERROR(VLOOKUP(A917,'1.Портфель кредитів'!A:AB,3,FALSE),\"\")","v":""},{"$f":"IFERROR(VLOOKUP(A917,'1.Портфель кредитів'!A:AB,14,FALSE),\"\")","v":""}]
[null,{"$f":"IFERROR(VLOOKUP(A918,'1.Портфель кредитів'!A:AB,3,FALSE),\"\")","v":""},{"$f":"IFERROR(VLOOKUP(A918,'1.Портфель кредитів'!A:AB,14,FALSE),\"\")","v":""}]
[null,{"$f":"IFERROR(VLOOKUP(A919,'1.Портфель кредитів'!A:AB,3,FALSE),\"\")","v":""},{"$f":"IFERROR(VLOOKUP(A919,'1.Портфель кредитів'!A:AB,14,FALSE),\"\")","v":""}]
[null,{"$f":"IFERROR(VLOOKUP(A920,'1.Портфель кредитів'!A:AB,3,FALSE),\"\")","v":""},{"$f":"IFERROR(VLOOKUP(A920,'1.Портфель кредитів'!A:AB,14,FALSE),\"\")","v":""}]
[null,{"$f":"IFERROR(VLOOKUP(A921,'1.Портфель кредитів'!A:AB,3,FALSE),\"\")","v":""},{"$f":"IFERROR(VLOOKUP(A921,'1.Портфель кредитів'!A:AB,14,FALSE),\"\")","v":""}]
[null,{"$f":"IFERROR(VLOOKUP(A922,'1.Портфель кредитів'!A:AB,3,FALSE),\"\")","v":""},{"$f":"IFERROR(VLOOKUP(A922,'1.Портфель кредитів'!A:AB,14,FALSE),\"\")","v":""}]
[null,{"$f":"IFERROR(VLOOKUP(A923,'1.Портфель кредитів'!A:AB,3,FALSE),\"\")","v":""},{"$f":"IFERROR(VLOOKUP(A923,'1.Портфель кредитів'!A:AB,14,FALSE),\"\")","v":""}]
[null,{"$f":"IFERROR(VLOOKUP(A924,'1.Портфель кредитів'!A:AB,3,FALSE),\"\")","v":""},{"$f":"IFERROR(VLOOKUP(A924,'1.Портфель кредитів'!A:AB,14,FALSE),\"\")","v":""}]
[null,{"$f":"IFERROR(VLOOKUP(A925,'1.Портфель кредитів'!A:AB,3,FALSE),\"\")","v":""},{"$f":"IFERROR(VLOOKUP(A925,'1.Портфель кредитів'!A:AB,14,FALSE),\"\")","v":""}]
[null,{"$f":"IFERROR(VLOOKUP(A926,'1.Портфель кредитів'!A:AB,3,FALSE),\"\")","v":""},{"$f":"IFERROR(VLOOKUP(A926,'1.Портфель кредитів'!A:AB,14,FALSE),\"\")","v":""}]
[null,{"$f":"IFERROR(VLOOKUP(A927,'1.Портфель кредитів'!A:AB,3,FALSE),\"\")","v":""},{"$f":"IFERROR(VLOOKUP(A927,'1.Портфель кредитів'!A:AB,14,FALSE),\"\")","v":""}]
[null,{"$f":"IFERROR(VLOOKUP(A928,'1.Портфель кредитів'!A:AB,3,FALSE),\"\")","v":""},{"$f":"IFERROR(VLOOKUP(A928,'1.Портфель кредитів'!A:AB,14,FALSE),\"\")","v":""}]
[null,{"$f":"IFERROR(VLOOKUP(A929,'1.Портфель кредитів'!A:AB,3,FALSE),\"\")","v":""},{"$f":"IFERROR(VLOOKUP(A929,'1.Портфель кредитів'!A:AB,14,FALSE),\"\")","v":""}]
[null,{"$f":"IFERROR(VLOOKUP(A930,'1.Портфель кредитів'!A:AB,3,FALSE),\"\")","v":""},{"$f":"IFERROR(VLOOKUP(A930,'1.Портфель кредитів'!A:AB,14,FALSE),\"\")","v":""}]
[null,{"$f":"IFERROR(VLOOKUP(A931,'1.Портфель кредитів'!A:AB,3,FALSE),\"\")","v":""},{"$f":"IFERROR(VLOOKUP(A931,'1.Портфель кредитів'!A:AB,14,FALSE),\"\")","v":""}]
[null,{"$f":"IFERROR(VLOOKUP(A932,'1.Портфель кредитів'!A:AB,3,FALSE),\"\")","v":""},{"$f":"IFERROR(VLOOKUP(A932,'1.Портфель кредитів'!A:AB,14,FALSE),\"\")","v":""}]
[null,{"$f":"IFERROR(VLOOKUP(A933,'1.Портфель кредитів'!A:AB,3,FALSE),\"\")","v":""},{"$f":"IFERROR(VLOOKUP(A933,'1.Портфель кредитів'!A:AB,14,FALSE),\"\")","v":""}]
[null,{"$f":"IFERROR(VLOOKUP(A934,'1.Портфель кредитів'!A:AB,3,FALSE),\"\")","v":""},{"$f":"IFERROR(VLOOKUP(A934,'1.Портфель кредитів'!A:AB,14,FALSE),\"\")","v":""}]
[null,{"$f":"IFERROR(VLOOKUP(A935,'1.Портфель кредитів'!A:AB,3,FALSE),\"\")","v":""},{"$f":"IFERROR(VLOOKUP(A935,'1.Портфель кредитів'!A:AB,14,FALSE),\"\")","v":""}]
[null,{"$f":"IFERROR(VLOOKUP(A936,'1.Портфель кредитів'!A:AB,3,FALSE),\"\")","v":""},{"$f":"IFERROR(VLOOKUP(A936,'1.Портфель кредитів'!A:AB,14,FALSE),\"\")","v":""}]
[null,{"$f":"IFERROR(VLOOKUP(A937,'1.Портфель кредитів'!A:AB,3,FALSE),\"\")","v":""},{"$f":"IFERROR(VLOOKUP(A937,'1.Портфель кредитів'!A:AB,14,FALSE),\"\")","v":""}]
[null,{"$f":"IFERROR(VLOOKUP(A938,'1.Портфель кредитів'!A:AB,3,FALSE),\"\")","v":""},{"$f":"IFERROR(VLOOKUP(A938,'1.Портфель кредитів'!A:AB,14,FALSE),\"\")","v":""}]
[null,{"$f":"IFERROR(VLOOKUP(A939,'1.Портфель кредитів'!A:AB,3,FALSE),\"\")","v":""},{"$f":"IFERROR(VLOOKUP(A939,'1.Портфель кредитів'!A:AB,14,FALSE),\"\")","v":""}]
[null,{"$f":"IFERROR(VLOOKUP(A940,'1.Портфель кредитів'!A:AB,3,FALSE),\"\")","v":""},{"$f":"IFERROR(VLOOKUP(A940,'1.Портфель кредитів'!A:AB,14,FALSE),\"\")","v":""}]
[null,{"$f":"IFERROR(VLOOKUP(A941,'1.Портфель кредитів'!A:AB,3,FALSE),\"\")","v":""},{"$f":"IFERROR(VLOOKUP(A941,'1.Портфель кредитів'!A:AB,14,FALSE),\"\")","v":""}]
[null,{"$f":"IFERROR(VLOOKUP(A942,'1.Портфель кредитів'!A:AB,3,FALSE),\"\")","v":""},{"$f":"IFERROR(VLOOKUP(A942,'1.Портфель кредитів'!A:AB,14,FALSE),\"\")","v":""}]
[null,{"$f":"IFERROR(VLOOKUP(A943,'1.Портфель кредитів'!A:AB,3,FALSE),\"\")","v":""},{"$f":"IFERROR(VLOOKUP(A943,'1.Портфель кредитів'!A:AB,14,FALSE),\"\")","v":""}]
[null,{"$f":"IFERROR(VLOOKUP(A944,'1.Портфель кредитів'!A:AB,3,FALSE),\"\")","v":""},{"$f":"IFERROR(VLOOKUP(A944,'1.Портфель кредитів'!A:AB,14,FALSE),\"\")","v":""}]
[null,{"$f":"IFERROR(VLOOKUP(A945,'1.Портфель кредитів'!A:AB,3,FALSE),\"\")","v":""},{"$f":"IFERROR(VLOOKUP(A945,'1.Портфель кредитів'!A:AB,14,FALSE),\"\")","v":""}]
[null,{"$f":"IFERROR(VLOOKUP(A946,'1.Портфель кредитів'!A:AB,3,FALSE),\"\")","v":""},{"$f":"IFERROR(VLOOKUP(A946,'1.Портфель кредитів'!A:AB,14,FALSE),\"\")","v":""}]
[null,{"$f":"IFERROR(VLOOKUP(A947,'1.Портфель кредитів'!A:AB,3,FALSE),\"\")","v":""},{"$f":"IFERROR(VLOOKUP(A947,'1.Портфель кредитів'!A:AB,14,FALSE),\"\")","v":""}]
[null,{"$f":"IFERROR(VLOOKUP(A948,'1.Портфель кредитів'!A:AB,3,FALSE),\"\")","v":""},{"$f":"IFERROR(VLOOKUP(A948,'1.Портфель кредитів'!A:AB,14,FALSE),\"\")","v":""}]
[null,{"$f":"IFERROR(VLOOKUP(A949,'1.Портфель кредитів'!A:AB,3,FALSE),\"\")","v":""},{"$f":"IFERROR(VLOOKUP(A949,'1.Портфель кредитів'!A:AB,14,FALSE),\"\")","v":""}]
[null,{"$f":"IFERROR(VLOOKUP(A950,'1.Портфель кредитів'!A:AB,3,FALSE),\"\")","v":""},{"$f":"IFERROR(VLOOKUP(A950,'1.Портфель кредитів'!A:AB,14,FALSE),\"\")","v":""}]
[null,{"$f":"IFERROR(VLOOKUP(A951,'1.Портфель кредитів'!A:AB,3,FALSE),\"\")","v":""},{"$f":"IFERROR(VLOOKUP(A951,'1.Портфель кредитів'!A:AB,14,FALSE),\"\")","v":""}]
[null,{"$f":"IFERROR(VLOOKUP(A952,'1.Портфель кредитів'!A:AB,3,FALSE),\"\")","v":""},{"$f":"IFERROR(VLOOKUP(A952,'1.Портфель кредитів'!A:AB,14,FALSE),\"\")","v":""}]
[null,{"$f":"IFERROR(VLOOKUP(A953,'1.Портфель кредитів'!A:AB,3,FALSE),\"\")","v":""},{"$f":"IFERROR(VLOOKUP(A953,'1.Портфель кредитів'!A:AB,14,FALSE),\"\")","v":""}]
[null,{"$f":"IFERROR(VLOOKUP(A954,'1.Портфель кредитів'!A:AB,3,FALSE),\"\")","v":""},{"$f":"IFERROR(VLOOKUP(A954,'1.Портфель кредитів'!A:AB,14,FALSE),\"\")","v":""}]
[null,{"$f":"IFERROR(VLOOKUP(A955,'1.Портфель кредитів'!A:AB,3,FALSE),\"\")","v":""},{"$f":"IFERROR(VLOOKUP(A955,'1.Портфель кредитів'!A:AB,14,FALSE),\"\")","v":""}]
[null,{"$f":"IFERROR(VLOOKUP(A956,'1.Портфель кредитів'!A:AB,3,FALSE),\"\")","v":""},{"$f":"IFERROR(VLOOKUP(A956,'1.Портфель кредитів'!A:AB,14,FALSE),\"\")","v":""}]
[null,{"$f":"IFERROR(VLOOKUP(A957,'1.Портфель кредитів'!A:AB,3,FALSE),\"\")","v":""},{"$f":"IFERROR(VLOOKUP(A957,'1.Портфель кредитів'!A:AB,14,FALSE),\"\")","v":""}]
[null,{"$f":"IFERROR(VLOOKUP(A958,'1.Портфель кредитів'!A:AB,3,FALSE),\"\")","v":""},{"$f":"IFERROR(VLOOKUP(A958,'1.Портфель кредитів'!A:AB,14,FALSE),\"\")","v":""}]
[null,{"$f":"IFERROR(VLOOKUP(A959,'1.Портфель кредитів'!A:AB,3,FALSE),\"\")","v":""},{"$f":"IFERROR(VLOOKUP(A959,'1.Портфель кредитів'!A:AB,14,FALSE),\"\")","v":""}]
[null,{"$f":"IFERROR(VLOOKUP(A960,'1.Портфель кредитів'!A:AB,3,FALSE),\"\")","v":""},{"$f":"IFERROR(VLOOKUP(A960,'1.Портфель кредитів'!A:AB,14,FALSE),\"\")","v":""}]
[null,{"$f":"IFERROR(VLOOKUP(A961,'1.Портфель кредитів'!A:AB,3,FALSE),\"\")","v":""},{"$f":"IFERROR(VLOOKUP(A961,'1.Портфель кредитів'!A:AB,14,FALSE),\"\")","v":""}]
[null,{"$f":"IFERROR(VLOOKUP(A962,'1.Портфель кредитів'!A:AB,3,FALSE),\"\")","v":""},{"$f":"IFERROR(VLOOKUP(A962,'1.Портфель кредитів'!A:AB,14,FALSE),\"\")","v":""}]
[null,{"$f":"IFERROR(VLOOKUP(A963,'1.Портфель кредитів'!A:AB,3,FALSE),\"\")","v":""},{"$f":"IFERROR(VLOOKUP(A963,'1.Портфель кредитів'!A:AB,14,FALSE),\"\")","v":""}]
[null,{"$f":"IFERROR(VLOOKUP(A964,'1.Портфель кредитів'!A:AB,3,FALSE),\"\")","v":""},{"$f":"IFERROR(VLOOKUP(A964,'1.Портфель кредитів'!A:AB,14,FALSE),\"\")","v":""}]
[null,{"$f":"IFERROR(VLOOKUP(A965,'1.Портфель кредитів'!A:AB,3,FALSE),\"\")","v":""},{"$f":"IFERROR(VLOOKUP(A965,'1.Портфель кредитів'!A:AB,14,FALSE),\"\")","v":""}]
[null,{"$f":"IFERROR(VLOOKUP(A966,'1.Портфель кредитів'!A:AB,3,FALSE),\"\")","v":""},{"$f":"IFERROR(VLOOKUP(A966,'1.Портфель кредитів'!A:AB,14,FALSE),\"\")","v":""}]
[null,{"$f":"IFERROR(VLOOKUP(A967,'1.Портфель кредитів'!A:AB,3,FALSE),\"\")","v":""},{"$f":"IFERROR(VLOOKUP(A967,'1.Портфель кредитів'!A:AB,14,FALSE),\"\")","v":""}]
[null,{"$f":"IFERROR(VLOOKUP(A968,'1.Портфель кредитів'!A:AB,3,FALSE),\"\")","v":""},{"$f":"IFERROR(VLOOKUP(A968,'1.Портфель кредитів'!A:AB,14,FALSE),\"\")","v":""}]
[null,{"$f":"IFERROR(VLOOKUP(A969,'1.Портфель кредитів'!A:AB,3,FALSE),\"\")","v":""},{"$f":"IFERROR(VLOOKUP(A969,'1.Портфель кредитів'!A:AB,14,FALSE),\"\")","v":""}]
[null,{"$f":"IFERROR(VLOOKUP(A970,'1.Портфель кредитів'!A:AB,3,FALSE),\"\")","v":""},{"$f":"IFERROR(VLOOKUP(A970,'1.Портфель кредитів'!A:AB,14,FALSE),\"\")","v":""}]
[null,{"$f":"IFERROR(VLOOKUP(A971,'1.Портфель кредитів'!A:AB,3,FALSE),\"\")","v":""},{"$f":"IFERROR(VLOOKUP(A971,'1.Портфель кредитів'!A:AB,14,FALSE),\"\")","v":""}]
[null,{"$f":"IFERROR(VLOOKUP(A972,'1.Портфель кредитів'!A:AB,3,FALSE),\"\")","v":""},{"$f":"IFERROR(VLOOKUP(A972,'1.Портфель кредитів'!A:AB,14,FALSE),\"\")","v":""}]
[null,{"$f":"IFERROR(VLOOKUP(A973,'1.Портфель кредитів'!A:AB,3,FALSE),\"\")","v":""},{"$f":"IFERROR(VLOOKUP(A973,'1.Портфель кредитів'!A:AB,14,FALSE),\"\")","v":""}]
[null,{"$f":"IFERROR(VLOOKUP(A974,'1.Портфель кредитів'!A:AB,3,FALSE),\"\")","v":""},{"$f":"IFERROR(VLOOKUP(A974,'1.Портфель кредитів'!A:AB,14,FALSE),\"\")","v":""}]
[null,{"$f":"IFERROR(VLOOKUP(A975,'1.Портфель кредитів'!A:AB,3,FALSE),\"\")","v":""},{"$f":"IFERROR(VLOOKUP(A975,'1.Портфель кредитів'!A:AB,14,FALSE),\"\")","v":""}]
[null,{"$f":"IFERROR(VLOOKUP(A976,'1.Портфель кредитів'!A:AB,3,FALSE),\"\")","v":""},{"$f":"IFERROR(VLOOKUP(A976,'1.Портфель кредитів'!A:AB,14,FALSE),\"\")","v":""}]
[null,{"$f":"IFERROR(VLOOKUP(A977,'1.Портфель кредитів'!A:AB,3,FALSE),\"\")","v":""},{"$f":"IFERROR(VLOOKUP(A977,'1.Портфель кредитів'!A:AB,14,FALSE),\"\")","v":""}]
[null,{"$f":"IFERROR(VLOOKUP(A978,'1.Портфель кредитів'!A:AB,3,FALSE),\"\")","v":""},{"$f":"IFERROR(VLOOKUP(A978,'1.Портфель кредитів'!A:AB,14,FALSE),\"\")","v":""}]
[null,{"$f":"IFERROR(VLOOKUP(A979,'1.Портфель кредитів'!A:AB,3,FALSE),\"\")","v":""},{"$f":"IFERROR(VLOOKUP(A979,'1.Портфель кредитів'!A:AB,14,FALSE),\"\")","v":""}]
[null,{"$f":"IFERROR(VLOOKUP(A980,'1.Портфель кредитів'!A:AB,3,FALSE),\"\")","v":""},{"$f":"IFERROR(VLOOKUP(A980,'1.Портфель кредитів'!A:AB,14,FALSE),\"\")","v":""}]
[null,{"$f":"IFERROR(VLOOKUP(A981,'1.Портфель кредитів'!A:AB,3,FALSE),\"\")","v":""},{"$f":"IFERROR(VLOOKUP(A981,'1.Портфель кредитів'!A:AB,14,FALSE),\"\")","v":""}]
[null,{"$f":"IFERROR(VLOOKUP(A982,'1.Портфель кредитів'!A:AB,3,FALSE),\"\")","v":""},{"$f":"IFERROR(VLOOKUP(A982,'1.Портфель кредитів'!A:AB,14,FALSE),\"\")","v":""}]
[null,{"$f":"IFERROR(VLOOKUP(A983,'1.Портфель кредитів'!A:AB,3,FALSE),\"\")","v":""},{"$f":"IFERROR(VLOOKUP(A983,'1.Портфель кредитів'!A:AB,14,FALSE),\"\")","v":""}]
[null,{"$f":"IFERROR(VLOOKUP(A984,'1.Портфель кредитів'!A:AB,3,FALSE),\"\")","v":""},{"$f":"IFERROR(VLOOKUP(A984,'1.Портфель кредитів'!A:AB,14,FALSE),\"\")","v":""}]
[null,{"$f":"IFERROR(VLOOKUP(A985,'1.Портфель кредитів'!A:AB,3,FALSE),\"\")","v":""},{"$f":"IFERROR(VLOOKUP(A985,'1.Портфель кредитів'!A:AB,14,FALSE),\"\")","v":""}]
[null,{"$f":"IFERROR(VLOOKUP(A986,'1.Портфель кредитів'!A:AB,3,FALSE),\"\")","v":""},{"$f":"IFERROR(VLOOKUP(A986,'1.Портфель кредитів'!A:AB,14,FALSE),\"\")","v":""}]
[null,{"$f":"IFERROR(VLOOKUP(A987,'1.Портфель кредитів'!A:AB,3,FALSE),\"\")","v":""},{"$f":"IFERROR(VLOOKUP(A987,'1.Портфель кредитів'!A:AB,14,FALSE),\"\")","v":""}]
[null,{"$f":"IFERROR(VLOOKUP(A988,'1.Портфель кредитів'!A:AB,3,FALSE),\"\")","v":""},{"$f":"IFERROR(VLOOKUP(A988,'1.Портфель кредитів'!A:AB,14,FALSE),\"\")","v":""}]
[null,{"$f":"IFERROR(VLOOKUP(A989,'1.Портфель кредитів'!A:AB,3,FALSE),\"\")","v":""},{"$f":"IFERROR(VLOOKUP(A989,'1.Портфель кредитів'!A:AB,14,FALSE),\"\")","v":""}]
[null,{"$f":"IFERROR(VLOOKUP(A990,'1.Портфель кредитів'!A:AB,3,FALSE),\"\")","v":""},{"$f":"IFERROR(VLOOKUP(A990,'1.Портфель кредитів'!A:AB,14,FALSE),\"\")","v":""}]
[null,{"$f":"IFERROR(VLOOKUP(A991,'1.Портфель кредитів'!A:AB,3,FALSE),\"\")","v":""},{"$f":"IFERROR(VLOOKUP(A991,'1.Портфель кредитів'!A:AB,14,FALSE),\"\")","v":""}]
[null,{"$f":"IFERROR(VLOOKUP(A992,'1.Портфель кредитів'!A:AB,3,FALSE),\"\")","v":""},{"$f":"IFERROR(VLOOKUP(A992,'1.Портфель кредитів'!A:AB,14,FALSE),\"\")","v":""}]
[null,{"$f":"IFERROR(VLOOKUP(A993,'1.Портфель кредитів'!A:AB,3,FALSE),\"\")","v":""},{"$f":"IFERROR(VLOOKUP(A993,'1.Портфель кредитів'!A:AB,14,FALSE),\"\")","v":""}]
[null,{"$f":"IFERROR(VLOOKUP(A994,'1.Портфель кредитів'!A:AB,3,FALSE),\"\")","v":""},{"$f":"IFERROR(VLOOKUP(A994,'1.Портфель кредитів'!A:AB,14,FALSE),\"\")","v":""}]
[null,{"$f":"IFERROR(VLOOKUP(A995,'1.Портфель кредитів'!A:AB,3,FALSE),\"\")","v":""},{"$f":"IFERROR(VLOOKUP(A995,'1.Портфель кредитів'!A:AB,14,FALSE),\"\")","v":""}]
[null,{"$f":"IFERROR(VLOOKUP(A996,'1.Портфель кредитів'!A:AB,3,FALSE),\"\")","v":""},{"$f":"IFERROR(VLOOKUP(A996,'1.Портфель кредитів'!A:AB,14,FALSE),\"\")","v":""}]
[null,{"$f":"IFERROR(VLOOKUP(A997,'1.Портфель кредитів'!A:AB,3,FALSE),\"\")","v":""},{"$f":"IFERROR(VLOOKUP(A997,'1.Портфель кредитів'!A:AB,14,FALSE),\"\")","v":""}]
[null,{"$f":"IFERROR(VLOOKUP(A998,'1.Портфель кредитів'!A:AB,3,FALSE),\"\")","v":""},{"$f":"IFERROR(VLOOKUP(A998,'1.Портфель кредитів'!A:AB,14,FALSE),\"\")","v":""}]
[null,{"$f":"IFERROR(VLOOKUP(A999,'1.Портфель кредитів'!A:AB,3,FALSE),\"\")","v":""},{"$f":"IFERROR(VLOOKUP(A999,'1.Портфель кредитів'!A:AB,14,FALSE),\"\")","v":""}]
[null,{"$f":"IFERROR(VLOOKUP(A1000,'1.Портфель кредитів'!A:AB,3,FALSE),\"\")","v":""},{"$f":"IFERROR(VLOOKUP(A1000,'1.Портфель кредитів'!A:AB,14,FALSE),\"\")","v":""}]
[null,{"$f":"IFERROR(VLOOKUP(A1001,'1.Портфель кредитів'!A:AB,3,FALSE),\"\")","v":""},{"$f":"IFERROR(VLOOKUP(A1001,'1.Портфель кредитів'!A:AB,14,FALSE),\"\")","v":""}]
[null,{"$f":"IFERROR(VLOOKUP(A1002,'1.Портфель кредитів'!A:AB,3,FALSE),\"\")","v":""},{"$f":"IFERROR(VLOOKUP(A1002,'1.Портфель кредитів'!A:AB,14,FALSE),\"\")","v":""}]
[null,{"$f":"IFERROR(VLOOKUP(A1003,'1.Портфель кредитів'!A:AB,3,FALSE),\"\")","v":""},{"$f":"IFERROR(VLOOKUP(A1003,'1.Портфель кредитів'!A:AB,14,FALSE),\"\")","v":""}]
[null,{"$f":"IFERROR(VLOOKUP(A1004,'1.Портфель кредитів'!A:AB,3,FALSE),\"\")","v":""},{"$f":"IFERROR(VLOOKUP(A1004,'1.Портфель кредитів'!A:AB,14,FALSE),\"\")","v":""}]
[null,{"$f":"IFERROR(VLOOKUP(A1005,'1.Портфель кредитів'!A:AB,3,FALSE),\"\")","v":""},{"$f":"IFERROR(VLOOKUP(A1005,'1.Портфель кредитів'!A:AB,14,FALSE),\"\")","v":""}]
[null,{"$f":"IFERROR(VLOOKUP(A1006,'1.Портфель кредитів'!A:AB,3,FALSE),\"\")","v":""},{"$f":"IFERROR(VLOOKUP(A1006,'1.Портфель кредитів'!A:AB,14,FALSE),\"\")","v":""}]
[null,{"$f":"IFERROR(VLOOKUP(A1007,'1.Портфель кредитів'!A:AB,3,FALSE),\"\")","v":""},{"$f":"IFERROR(VLOOKUP(A1007,'1.Портфель кредитів'!A:AB,14,FALSE),\"\")","v":""}]
[null,{"$f":"IFERROR(VLOOKUP(A1008,'1.Портфель кредитів'!A:AB,3,FALSE),\"\")","v":""},{"$f":"IFERROR(VLOOKUP(A1008,'1.Портфель кредитів'!A:AB,14,FALSE),\"\")","v":""}]
[null,{"$f":"IFERROR(VLOOKUP(A1009,'1.Портфель кредитів'!A:AB,3,FALSE),\"\")","v":""},{"$f":"IFERROR(VLOOKUP(A1009,'1.Портфель кредитів'!A:AB,14,FALSE),\"\")","v":""}]
[null,{"$f":"IFERROR(VLOOKUP(A1010,'1.Портфель кредитів'!A:AB,3,FALSE),\"\")","v":""},{"$f":"IFERROR(VLOOKUP(A1010,'1.Портфель кредитів'!A:AB,14,FALSE),\"\")","v":""}]
[null,{"$f":"IFERROR(VLOOKUP(A1011,'1.Портфель кредитів'!A:AB,3,FALSE),\"\")","v":""},{"$f":"IFERROR(VLOOKUP(A1011,'1.Портфель кредитів'!A:AB,14,FALSE),\"\")","v":""}]
[null,{"$f":"IFERROR(VLOOKUP(A1012,'1.Портфель кредитів'!A:AB,3,FALSE),\"\")","v":""},{"$f":"IFERROR(VLOOKUP(A1012,'1.Портфель кредитів'!A:AB,14,FALSE),\"\")","v":""}]
[null,{"$f":"IFERROR(VLOOKUP(A1013,'1.Портфель кредитів'!A:AB,3,FALSE),\"\")","v":""},{"$f":"IFERROR(VLOOKUP(A1013,'1.Портфель кредитів'!A:AB,14,FALSE),\"\")","v":""}]
[null,{"$f":"IFERROR(VLOOKUP(A1014,'1.Портфель кредитів'!A:AB,3,FALSE),\"\")","v":""},{"$f":"IFERROR(VLOOKUP(A1014,'1.Портфель кредитів'!A:AB,14,FALSE),\"\")","v":""}]
[null,{"$f":"IFERROR(VLOOKUP(A1015,'1.Портфель кредитів'!A:AB,3,FALSE),\"\")","v":""},{"$f":"IFERROR(VLOOKUP(A1015,'1.Портфель кредитів'!A:AB,14,FALSE),\"\")","v":""}]
[null,{"$f":"IFERROR(VLOOKUP(A1016,'1.Портфель кредитів'!A:AB,3,FALSE),\"\")","v":""},{"$f":"IFERROR(VLOOKUP(A1016,'1.Портфель кредитів'!A:AB,14,FALSE),\"\")","v":""}]
[null,{"$f":"IFERROR(VLOOKUP(A1017,'1.Портфель кредитів'!A:AB,3,FALSE),\"\")","v":""},{"$f":"IFERROR(VLOOKUP(A1017,'1.Портфель кредитів'!A:AB,14,FALSE),\"\")","v":""}]
[null,{"$f":"IFERROR(VLOOKUP(A1018,'1.Портфель кредитів'!A:AB,3,FALSE),\"\")","v":""},{"$f":"IFERROR(VLOOKUP(A1018,'1.Портфель кредитів'!A:AB,14,FALSE),\"\")","v":""}]
[null,{"$f":"IFERROR(VLOOKUP(A1019,'1.Портфель кредитів'!A:AB,3,FALSE),\"\")","v":""},{"$f":"IFERROR(VLOOKUP(A1019,'1.Портфель кредитів'!A:AB,14,FALSE),\"\")","v":""}]
[null,{"$f":"IFERROR(VLOOKUP(A1020,'1.Портфель кредитів'!A:AB,3,FALSE),\"\")","v":""},{"$f":"IFERROR(VLOOKUP(A1020,'1.Портфель кредитів'!A:AB,14,FALSE),\"\")","v":""}]
[null,{"$f":"IFERROR(VLOOKUP(A1021,'1.Портфель кредитів'!A:AB,3,FALSE),\"\")","v":""},{"$f":"IFERROR(VLOOKUP(A1021,'1.Портфель кредитів'!A:AB,14,FALSE),\"\")","v":""}]
[null,{"$f":"IFERROR(VLOOKUP(A1022,'1.Портфель кредитів'!A:AB,3,FALSE),\"\")","v":""},{"$f":"IFERROR(VLOOKUP(A1022,'1.Портфель кредитів'!A:AB,14,FALSE),\"\")","v":""}]
[null,{"$f":"IFERROR(VLOOKUP(A1023,'1.Портфель кредитів'!A:AB,3,FALSE),\"\")","v":""},{"$f":"IFERROR(VLOOKUP(A1023,'1.Портфель кредитів'!A:AB,14,FALSE),\"\")","v":""}]
[null,{"$f":"IFERROR(VLOOKUP(A1024,'1.Портфель кредитів'!A:AB,3,FALSE),\"\")","v":""},{"$f":"IFERROR(VLOOKUP(A1024,'1.Портфель кредитів'!A:AB,14,FALSE),\"\")","v":""}]
[null,{"$f":"IFERROR(VLOOKUP(A1025,'1.Портфель кредитів'!A:AB,3,FALSE),\"\")","v":""},{"$f":"IFERROR(VLOOKUP(A1025,'1.Портфель кредитів'!A:AB,14,FALSE),\"\")","v":""}]
[null,{"$f":"IFERROR(VLOOKUP(A1026,'1.Портфель кредитів'!A:AB,3,FALSE),\"\")","v":""},{"$f":"IFERROR(VLOOKUP(A1026,'1.Портфель кредитів'!A:AB,14,FALSE),\"\")","v":""}]
[null,{"$f":"IFERROR(VLOOKUP(A1027,'1.Портфель кредитів'!A:AB,3,FALSE),\"\")","v":""},{"$f":"IFERROR(VLOOKUP(A1027,'1.Портфель кредитів'!A:AB,14,FALSE),\"\")","v":""}]
[null,{"$f":"IFERROR(VLOOKUP(A1028,'1.Портфель кредитів'!A:AB,3,FALSE),\"\")","v":""},{"$f":"IFERROR(VLOOKUP(A1028,'1.Портфель кредитів'!A:AB,14,FALSE),\"\")","v":""}]
[null,{"$f":"IFERROR(VLOOKUP(A1029,'1.Портфель кредитів'!A:AB,3,FALSE),\"\")","v":""},{"$f":"IFERROR(VLOOKUP(A1029,'1.Портфель кредитів'!A:AB,14,FALSE),\"\")","v":""}]
[null,{"$f":"IFERROR(VLOOKUP(A1030,'1.Портфель кредитів'!A:AB,3,FALSE),\"\")","v":""},{"$f":"IFERROR(VLOOKUP(A1030,'1.Портфель кредитів'!A:AB,14,FALSE),\"\")","v":""}]
[null,{"$f":"IFERROR(VLOOKUP(A1031,'1.Портфель кредитів'!A:AB,3,FALSE),\"\")","v":""},{"$f":"IFERROR(VLOOKUP(A1031,'1.Портфель кредитів'!A:AB,14,FALSE),\"\")","v":""}]
[null,{"$f":"IFERROR(VLOOKUP(A1032,'1.Портфель кредитів'!A:AB,3,FALSE),\"\")","v":""},{"$f":"IFERROR(VLOOKUP(A1032,'1.Портфель кредитів'!A:AB,14,FALSE),\"\")","v":""}]
[null,{"$f":"IFERROR(VLOOKUP(A1033,'1.Портфель кредитів'!A:AB,3,FALSE),\"\")","v":""},{"$f":"IFERROR(VLOOKUP(A1033,'1.Портфель кредитів'!A:AB,14,FALSE),\"\")","v":""}]
[null,{"$f":"IFERROR(VLOOKUP(A1034,'1.Портфель кредитів'!A:AB,3,FALSE),\"\")","v":""},{"$f":"IFERROR(VLOOKUP(A1034,'1.Портфель кредитів'!A:AB,14,FALSE),\"\")","v":""}]
[null,{"$f":"IFERROR(VLOOKUP(A1035,'1.Портфель кредитів'!A:AB,3,FALSE),\"\")","v":""},{"$f":"IFERROR(VLOOKUP(A1035,'1.Портфель кредитів'!A:AB,14,FALSE),\"\")","v":""}]
[null,{"$f":"IFERROR(VLOOKUP(A1036,'1.Портфель кредитів'!A:AB,3,FALSE),\"\")","v":""},{"$f":"IFERROR(VLOOKUP(A1036,'1.Портфель кредитів'!A:AB,14,FALSE),\"\")","v":""}]
[null,{"$f":"IFERROR(VLOOKUP(A1037,'1.Портфель кредитів'!A:AB,3,FALSE),\"\")","v":""},{"$f":"IFERROR(VLOOKUP(A1037,'1.Портфель кредитів'!A:AB,14,FALSE),\"\")","v":""}]
[null,{"$f":"IFERROR(VLOOKUP(A1038,'1.Портфель кредитів'!A:AB,3,FALSE),\"\")","v":""},{"$f":"IFERROR(VLOOKUP(A1038,'1.Портфель кредитів'!A:AB,14,FALSE),\"\")","v":""}]
[null,{"$f":"IFERROR(VLOOKUP(A1039,'1.Портфель кредитів'!A:AB,3,FALSE),\"\")","v":""},{"$f":"IFERROR(VLOOKUP(A1039,'1.Портфель кредитів'!A:AB,14,FALSE),\"\")","v":""}]
[null,{"$f":"IFERROR(VLOOKUP(A1040,'1.Портфель кредитів'!A:AB,3,FALSE),\"\")","v":""},{"$f":"IFERROR(VLOOKUP(A1040,'1.Портфель кредитів'!A:AB,14,FALSE),\"\")","v":""}]
[null,{"$f":"IFERROR(VLOOKUP(A1041,'1.Портфель кредитів'!A:AB,3,FALSE),\"\")","v":""},{"$f":"IFERROR(VLOOKUP(A1041,'1.Портфель кредитів'!A:AB,14,FALSE),\"\")","v":""}]
[null,{"$f":"IFERROR(VLOOKUP(A1042,'1.Портфель кредитів'!A:AB,3,FALSE),\"\")","v":""},{"$f":"IFERROR(VLOOKUP(A1042,'1.Портфель кредитів'!A:AB,14,FALSE),\"\")","v":""}]
[null,{"$f":"IFERROR(VLOOKUP(A1043,'1.Портфель кредитів'!A:AB,3,FALSE),\"\")","v":""},{"$f":"IFERROR(VLOOKUP(A1043,'1.Портфель кредитів'!A:AB,14,FALSE),\"\")","v":""}]
[null,{"$f":"IFERROR(VLOOKUP(A1044,'1.Портфель кредитів'!A:AB,3,FALSE),\"\")","v":""},{"$f":"IFERROR(VLOOKUP(A1044,'1.Портфель кредитів'!A:AB,14,FALSE),\"\")","v":""}]
[null,{"$f":"IFERROR(VLOOKUP(A1045,'1.Портфель кредитів'!A:AB,3,FALSE),\"\")","v":""},{"$f":"IFERROR(VLOOKUP(A1045,'1.Портфель кредитів'!A:AB,14,FALSE),\"\")","v":""}]
[null,{"$f":"IFERROR(VLOOKUP(A1046,'1.Портфель кредитів'!A:AB,3,FALSE),\"\")","v":""},{"$f":"IFERROR(VLOOKUP(A1046,'1.Портфель кредитів'!A:AB,14,FALSE),\"\")","v":""}]
[null,{"$f":"IFERROR(VLOOKUP(A1047,'1.Портфель кредитів'!A:AB,3,FALSE),\"\")","v":""},{"$f":"IFERROR(VLOOKUP(A1047,'1.Портфель кредитів'!A:AB,14,FALSE),\"\")","v":""}]
[null,{"$f":"IFERROR(VLOOKUP(A1048,'1.Портфель кредитів'!A:AB,3,FALSE),\"\")","v":""},{"$f":"IFERROR(VLOOKUP(A1048,'1.Портфель кредитів'!A:AB,14,FALSE),\"\")","v":""}]
[null,{"$f":"IFERROR(VLOOKUP(A1049,'1.Портфель кредитів'!A:AB,3,FALSE),\"\")","v":""},{"$f":"IFERROR(VLOOKUP(A1049,'1.Портфель кредитів'!A:AB,14,FALSE),\"\")","v":""}]
[null,{"$f":"IFERROR(VLOOKUP(A1050,'1.Портфель кредитів'!A:AB,3,FALSE),\"\")","v":""},{"$f":"IFERROR(VLOOKUP(A1050,'1.Портфель кредитів'!A:AB,14,FALSE),\"\")","v":""}]
[null,{"$f":"IFERROR(VLOOKUP(A1051,'1.Портфель кредитів'!A:AB,3,FALSE),\"\")","v":""},{"$f":"IFERROR(VLOOKUP(A1051,'1.Портфель кредитів'!A:AB,14,FALSE),\"\")","v":""}]
[null,{"$f":"IFERROR(VLOOKUP(A1052,'1.Портфель кредитів'!A:AB,3,FALSE),\"\")","v":""},{"$f":"IFERROR(VLOOKUP(A1052,'1.Портфель кредитів'!A:AB,14,FALSE),\"\")","v":""}]
[null,{"$f":"IFERROR(VLOOKUP(A1053,'1.Портфель кредитів'!A:AB,3,FALSE),\"\")","v":""},{"$f":"IFERROR(VLOOKUP(A1053,'1.Портфель кредитів'!A:AB,14,FALSE),\"\")","v":""}]
[null,{"$f":"IFERROR(VLOOKUP(A1054,'1.Портфель кредитів'!A:AB,3,FALSE),\"\")","v":""},{"$f":"IFERROR(VLOOKUP(A1054,'1.Портфель кредитів'!A:AB,14,FALSE),\"\")","v":""}]
[null,{"$f":"IFERROR(VLOOKUP(A1055,'1.Портфель кредитів'!A:AB,3,FALSE),\"\")","v":""},{"$f":"IFERROR(VLOOKUP(A1055,'1.Портфель кредитів'!A:AB,14,FALSE),\"\")","v":""}]
[null,{"$f":"IFERROR(VLOOKUP(A1056,'1.Портфель кредитів'!A:AB,3,FALSE),\"\")","v":""},{"$f":"IFERROR(VLOOKUP(A1056,'1.Портфель кредитів'!A:AB,14,FALSE),\"\")","v":""}]
[null,{"$f":"IFERROR(VLOOKUP(A1057,'1.Портфель кредитів'!A:AB,3,FALSE),\"\")","v":""},{"$f":"IFERROR(VLOOKUP(A1057,'1.Портфель кредитів'!A:AB,14,FALSE),\"\")","v":""}]
[null,{"$f":"IFERROR(VLOOKUP(A1058,'1.Портфель кредитів'!A:AB,3,FALSE),\"\")","v":""},{"$f":"IFERROR(VLOOKUP(A1058,'1.Портфель кредитів'!A:AB,14,FALSE),\"\")","v":""}]
[null,{"$f":"IFERROR(VLOOKUP(A1059,'1.Портфель кредитів'!A:AB,3,FALSE),\"\")","v":""},{"$f":"IFERROR(VLOOKUP(A1059,'1.Портфель кредитів'!A:AB,14,FALSE),\"\")","v":""}]
[null,{"$f":"IFERROR(VLOOKUP(A1060,'1.Портфель кредитів'!A:AB,3,FALSE),\"\")","v":""},{"$f":"IFERROR(VLOOKUP(A1060,'1.Портфель кредитів'!A:AB,14,FALSE),\"\")","v":""}]
[null,{"$f":"IFERROR(VLOOKUP(A1061,'1.Портфель кредитів'!A:AB,3,FALSE),\"\")","v":""},{"$f":"IFERROR(VLOOKUP(A1061,'1.Портфель кредитів'!A:AB,14,FALSE),\"\")","v":""}]
[null,{"$f":"IFERROR(VLOOKUP(A1062,'1.Портфель кредитів'!A:AB,3,FALSE),\"\")","v":""},{"$f":"IFERROR(VLOOKUP(A1062,'1.Портфель кредитів'!A:AB,14,FALSE),\"\")","v":""}]
[null,{"$f":"IFERROR(VLOOKUP(A1063,'1.Портфель кредитів'!A:AB,3,FALSE),\"\")","v":""},{"$f":"IFERROR(VLOOKUP(A1063,'1.Портфель кредитів'!A:AB,14,FALSE),\"\")","v":""}]
[null,{"$f":"IFERROR(VLOOKUP(A1064,'1.Портфель кредитів'!A:AB,3,FALSE),\"\")","v":""},{"$f":"IFERROR(VLOOKUP(A1064,'1.Портфель кредитів'!A:AB,14,FALSE),\"\")","v":""}]
[null,{"$f":"IFERROR(VLOOKUP(A1065,'1.Портфель кредитів'!A:AB,3,FALSE),\"\")","v":""},{"$f":"IFERROR(VLOOKUP(A1065,'1.Портфель кредитів'!A:AB,14,FALSE),\"\")","v":""}]
[null,{"$f":"IFERROR(VLOOKUP(A1066,'1.Портфель кредитів'!A:AB,3,FALSE),\"\")","v":""},{"$f":"IFERROR(VLOOKUP(A1066,'1.Портфель кредитів'!A:AB,14,FALSE),\"\")","v":""}]
[null,{"$f":"IFERROR(VLOOKUP(A1067,'1.Портфель кредитів'!A:AB,3,FALSE),\"\")","v":""},{"$f":"IFERROR(VLOOKUP(A1067,'1.Портфель кредитів'!A:AB,14,FALSE),\"\")","v":""}]
[null,{"$f":"IFERROR(VLOOKUP(A1068,'1.Портфель кредитів'!A:AB,3,FALSE),\"\")","v":""},{"$f":"IFERROR(VLOOKUP(A1068,'1.Портфель кредитів'!A:AB,14,FALSE),\"\")","v":""}]
[null,{"$f":"IFERROR(VLOOKUP(A1069,'1.Портфель кредитів'!A:AB,3,FALSE),\"\")","v":""},{"$f":"IFERROR(VLOOKUP(A1069,'1.Портфель кредитів'!A:AB,14,FALSE),\"\")","v":""}]
[null,{"$f":"IFERROR(VLOOKUP(A1070,'1.Портфель кредитів'!A:AB,3,FALSE),\"\")","v":""},{"$f":"IFERROR(VLOOKUP(A1070,'1.Портфель кредитів'!A:AB,14,FALSE),\"\")","v":""}]
[null,{"$f":"IFERROR(VLOOKUP(A1071,'1.Портфель кредитів'!A:AB,3,FALSE),\"\")","v":""},{"$f":"IFERROR(VLOOKUP(A1071,'1.Портфель кредитів'!A:AB,14,FALSE),\"\")","v":""}]
[null,{"$f":"IFERROR(VLOOKUP(A1072,'1.Портфель кредитів'!A:AB,3,FALSE),\"\")","v":""},{"$f":"IFERROR(VLOOKUP(A1072,'1.Портфель кредитів'!A:AB,14,FALSE),\"\")","v":""}]
[null,{"$f":"IFERROR(VLOOKUP(A1073,'1.Портфель кредитів'!A:AB,3,FALSE),\"\")","v":""},{"$f":"IFERROR(VLOOKUP(A1073,'1.Портфель кредитів'!A:AB,14,FALSE),\"\")","v":""}]
[null,{"$f":"IFERROR(VLOOKUP(A1074,'1.Портфель кредитів'!A:AB,3,FALSE),\"\")","v":""},{"$f":"IFERROR(VLOOKUP(A1074,'1.Портфель кредитів'!A:AB,14,FALSE),\"\")","v":""}]
[null,{"$f":"IFERROR(VLOOKUP(A1075,'1.Портфель кредитів'!A:AB,3,FALSE),\"\")","v":""},{"$f":"IFERROR(VLOOKUP(A1075,'1.Портфель кредитів'!A:AB,14,FALSE),\"\")","v":""}]
[null,{"$f":"IFERROR(VLOOKUP(A1076,'1.Портфель кредитів'!A:AB,3,FALSE),\"\")","v":""},{"$f":"IFERROR(VLOOKUP(A1076,'1.Портфель кредитів'!A:AB,14,FALSE),\"\")","v":""}]
[null,{"$f":"IFERROR(VLOOKUP(A1077,'1.Портфель кредитів'!A:AB,3,FALSE),\"\")","v":""},{"$f":"IFERROR(VLOOKUP(A1077,'1.Портфель кредитів'!A:AB,14,FALSE),\"\")","v":""}]
[null,{"$f":"IFERROR(VLOOKUP(A1078,'1.Портфель кредитів'!A:AB,3,FALSE),\"\")","v":""},{"$f":"IFERROR(VLOOKUP(A1078,'1.Портфель кредитів'!A:AB,14,FALSE),\"\")","v":""}]
[null,{"$f":"IFERROR(VLOOKUP(A1079,'1.Портфель кредитів'!A:AB,3,FALSE),\"\")","v":""},{"$f":"IFERROR(VLOOKUP(A1079,'1.Портфель кредитів'!A:AB,14,FALSE),\"\")","v":""}]
[null,{"$f":"IFERROR(VLOOKUP(A1080,'1.Портфель кредитів'!A:AB,3,FALSE),\"\")","v":""},{"$f":"IFERROR(VLOOKUP(A1080,'1.Портфель кредитів'!A:AB,14,FALSE),\"\")","v":""}]
[null,{"$f":"IFERROR(VLOOKUP(A1081,'1.Портфель кредитів'!A:AB,3,FALSE),\"\")","v":""},{"$f":"IFERROR(VLOOKUP(A1081,'1.Портфель кредитів'!A:AB,14,FALSE),\"\")","v":""}]
[null,{"$f":"IFERROR(VLOOKUP(A1082,'1.Портфель кредитів'!A:AB,3,FALSE),\"\")","v":""},{"$f":"IFERROR(VLOOKUP(A1082,'1.Портфель кредитів'!A:AB,14,FALSE),\"\")","v":""}]
[null,{"$f":"IFERROR(VLOOKUP(A1083,'1.Портфель кредитів'!A:AB,3,FALSE),\"\")","v":""},{"$f":"IFERROR(VLOOKUP(A1083,'1.Портфель кредитів'!A:AB,14,FALSE),\"\")","v":""}]
[null,{"$f":"IFERROR(VLOOKUP(A1084,'1.Портфель кредитів'!A:AB,3,FALSE),\"\")","v":""},{"$f":"IFERROR(VLOOKUP(A1084,'1.Портфель кредитів'!A:AB,14,FALSE),\"\")","v":""}]
[null,{"$f":"IFERROR(VLOOKUP(A1085,'1.Портфель кредитів'!A:AB,3,FALSE),\"\")","v":""},{"$f":"IFERROR(VLOOKUP(A1085,'1.Портфель кредитів'!A:AB,14,FALSE),\"\")","v":""}]
[null,{"$f":"IFERROR(VLOOKUP(A1086,'1.Портфель кредитів'!A:AB,3,FALSE),\"\")","v":""},{"$f":"IFERROR(VLOOKUP(A1086,'1.Портфель кредитів'!A:AB,14,FALSE),\"\")","v":""}]
[null,{"$f":"IFERROR(VLOOKUP(A1087,'1.Портфель кредитів'!A:AB,3,FALSE),\"\")","v":""},{"$f":"IFERROR(VLOOKUP(A1087,'1.Портфель кредитів'!A:AB,14,FALSE),\"\")","v":""}]
[null,{"$f":"IFERROR(VLOOKUP(A1088,'1.Портфель кредитів'!A:AB,3,FALSE),\"\")","v":""},{"$f":"IFERROR(VLOOKUP(A1088,'1.Портфель кредитів'!A:AB,14,FALSE),\"\")","v":""}]
[null,{"$f":"IFERROR(VLOOKUP(A1089,'1.Портфель кредитів'!A:AB,3,FALSE),\"\")","v":""},{"$f":"IFERROR(VLOOKUP(A1089,'1.Портфель кредитів'!A:AB,14,FALSE),\"\")","v":""}]
[null,{"$f":"IFERROR(VLOOKUP(A1090,'1.Портфель кредитів'!A:AB,3,FALSE),\"\")","v":""},{"$f":"IFERROR(VLOOKUP(A1090,'1.Портфель кредитів'!A:AB,14,FALSE),\"\")","v":""}]
[null,{"$f":"IFERROR(VLOOKUP(A1091,'1.Портфель кредитів'!A:AB,3,FALSE),\"\")","v":""},{"$f":"IFERROR(VLOOKUP(A1091,'1.Портфель кредитів'!A:AB,14,FALSE),\"\")","v":""}]
[null,{"$f":"IFERROR(VLOOKUP(A1092,'1.Портфель кредитів'!A:AB,3,FALSE),\"\")","v":""},{"$f":"IFERROR(VLOOKUP(A1092,'1.Портфель кредитів'!A:AB,14,FALSE),\"\")","v":""}]
[null,{"$f":"IFERROR(VLOOKUP(A1093,'1.Портфель кредитів'!A:AB,3,FALSE),\"\")","v":""},{"$f":"IFERROR(VLOOKUP(A1093,'1.Портфель кредитів'!A:AB,14,FALSE),\"\")","v":""}]
[null,{"$f":"IFERROR(VLOOKUP(A1094,'1.Портфель кредитів'!A:AB,3,FALSE),\"\")","v":""},{"$f":"IFERROR(VLOOKUP(A1094,'1.Портфель кредитів'!A:AB,14,FALSE),\"\")","v":""}]
[null,{"$f":"IFERROR(VLOOKUP(A1095,'1.Портфель кредитів'!A:AB,3,FALSE),\"\")","v":""},{"$f":"IFERROR(VLOOKUP(A1095,'1.Портфель кредитів'!A:AB,14,FALSE),\"\")","v":""}]
[null,{"$f":"IFERROR(VLOOKUP(A1096,'1.Портфель кредитів'!A:AB,3,FALSE),\"\")","v":""},{"$f":"IFERROR(VLOOKUP(A1096,'1.Портфель кредитів'!A:AB,14,FALSE),\"\")","v":""}]
[null,{"$f":"IFERROR(VLOOKUP(A1097,'1.Портфель кредитів'!A:AB,3,FALSE),\"\")","v":""},{"$f":"IFERROR(VLOOKUP(A1097,'1.Портфель кредитів'!A:AB,14,FALSE),\"\")","v":""}]
[null,{"$f":"IFERROR(VLOOKUP(A1098,'1.Портфель кредитів'!A:AB,3,FALSE),\"\")","v":""},{"$f":"IFERROR(VLOOKUP(A1098,'1.Портфель кредитів'!A:AB,14,FALSE),\"\")","v":""}]
[null,{"$f":"IFERROR(VLOOKUP(A1099,'1.Портфель кредитів'!A:AB,3,FALSE),\"\")","v":""},{"$f":"IFERROR(VLOOKUP(A1099,'1.Портфель кредитів'!A:AB,14,FALSE),\"\")","v":""}]
[null,{"$f":"IFERROR(VLOOKUP(A1100,'1.Портфель кредитів'!A:AB,3,FALSE),\"\")","v":""},{"$f":"IFERROR(VLOOKUP(A1100,'1.Портфель кредитів'!A:AB,14,FALSE),\"\")","v":""}]
[null,{"$f":"IFERROR(VLOOKUP(A1101,'1.Портфель кредитів'!A:AB,3,FALSE),\"\")","v":""},{"$f":"IFERROR(VLOOKUP(A1101,'1.Портфель кредитів'!A:AB,14,FALSE),\"\")","v":""}]
[null,{"$f":"IFERROR(VLOOKUP(A1102,'1.Портфель кредитів'!A:AB,3,FALSE),\"\")","v":""},{"$f":"IFERROR(VLOOKUP(A1102,'1.Портфель кредитів'!A:AB,14,FALSE),\"\")","v":""}]
[null,{"$f":"IFERROR(VLOOKUP(A1103,'1.Портфель кредитів'!A:AB,3,FALSE),\"\")","v":""},{"$f":"IFERROR(VLOOKUP(A1103,'1.Портфель кредитів'!A:AB,14,FALSE),\"\")","v":""}]
[null,{"$f":"IFERROR(VLOOKUP(A1104,'1.Портфель кредитів'!A:AB,3,FALSE),\"\")","v":""},{"$f":"IFERROR(VLOOKUP(A1104,'1.Портфель кредитів'!A:AB,14,FALSE),\"\")","v":""}]
[null,{"$f":"IFERROR(VLOOKUP(A1105,'1.Портфель кредитів'!A:AB,3,FALSE),\"\")","v":""},{"$f":"IFERROR(VLOOKUP(A1105,'1.Портфель кредитів'!A:AB,14,FALSE),\"\")","v":""}]
[null,{"$f":"IFERROR(VLOOKUP(A1106,'1.Портфель кредитів'!A:AB,3,FALSE),\"\")","v":""},{"$f":"IFERROR(VLOOKUP(A1106,'1.Портфель кредитів'!A:AB,14,FALSE),\"\")","v":""}]
[null,{"$f":"IFERROR(VLOOKUP(A1107,'1.Портфель кредитів'!A:AB,3,FALSE),\"\")","v":""},{"$f":"IFERROR(VLOOKUP(A1107,'1.Портфель кредитів'!A:AB,14,FALSE),\"\")","v":""}]
[null,{"$f":"IFERROR(VLOOKUP(A1108,'1.Портфель кредитів'!A:AB,3,FALSE),\"\")","v":""},{"$f":"IFERROR(VLOOKUP(A1108,'1.Портфель кредитів'!A:AB,14,FALSE),\"\")","v":""}]
[null,{"$f":"IFERROR(VLOOKUP(A1109,'1.Портфель кредитів'!A:AB,3,FALSE),\"\")","v":""},{"$f":"IFERROR(VLOOKUP(A1109,'1.Портфель кредитів'!A:AB,14,FALSE),\"\")","v":""}]
[null,{"$f":"IFERROR(VLOOKUP(A1110,'1.Портфель кредитів'!A:AB,3,FALSE),\"\")","v":""},{"$f":"IFERROR(VLOOKUP(A1110,'1.Портфель кредитів'!A:AB,14,FALSE),\"\")","v":""}]
[null,{"$f":"IFERROR(VLOOKUP(A1111,'1.Портфель кредитів'!A:AB,3,FALSE),\"\")","v":""},{"$f":"IFERROR(VLOOKUP(A1111,'1.Портфель кредитів'!A:AB,14,FALSE),\"\")","v":""}]
[null,{"$f":"IFERROR(VLOOKUP(A1112,'1.Портфель кредитів'!A:AB,3,FALSE),\"\")","v":""},{"$f":"IFERROR(VLOOKUP(A1112,'1.Портфель кредитів'!A:AB,14,FALSE),\"\")","v":""}]
[null,{"$f":"IFERROR(VLOOKUP(A1113,'1.Портфель кредитів'!A:AB,3,FALSE),\"\")","v":""},{"$f":"IFERROR(VLOOKUP(A1113,'1.Портфель кредитів'!A:AB,14,FALSE),\"\")","v":""}]
[null,{"$f":"IFERROR(VLOOKUP(A1114,'1.Портфель кредитів'!A:AB,3,FALSE),\"\")","v":""},{"$f":"IFERROR(VLOOKUP(A1114,'1.Портфель кредитів'!A:AB,14,FALSE),\"\")","v":""}]
[null,{"$f":"IFERROR(VLOOKUP(A1115,'1.Портфель кредитів'!A:AB,3,FALSE),\"\")","v":""},{"$f":"IFERROR(VLOOKUP(A1115,'1.Портфель кредитів'!A:AB,14,FALSE),\"\")","v":""}]
[null,{"$f":"IFERROR(VLOOKUP(A1116,'1.Портфель кредитів'!A:AB,3,FALSE),\"\")","v":""},{"$f":"IFERROR(VLOOKUP(A1116,'1.Портфель кредитів'!A:AB,14,FALSE),\"\")","v":""}]
[null,{"$f":"IFERROR(VLOOKUP(A1117,'1.Портфель кредитів'!A:AB,3,FALSE),\"\")","v":""},{"$f":"IFERROR(VLOOKUP(A1117,'1.Портфель кредитів'!A:AB,14,FALSE),\"\")","v":""}]
[null,{"$f":"IFERROR(VLOOKUP(A1118,'1.Портфель кредитів'!A:AB,3,FALSE),\"\")","v":""},{"$f":"IFERROR(VLOOKUP(A1118,'1.Портфель кредитів'!A:AB,14,FALSE),\"\")","v":""}]
[null,{"$f":"IFERROR(VLOOKUP(A1119,'1.Портфель кредитів'!A:AB,3,FALSE),\"\")","v":""},{"$f":"IFERROR(VLOOKUP(A1119,'1.Портфель кредитів'!A:AB,14,FALSE),\"\")","v":""}]
[null,{"$f":"IFERROR(VLOOKUP(A1120,'1.Портфель кредитів'!A:AB,3,FALSE),\"\")","v":""},{"$f":"IFERROR(VLOOKUP(A1120,'1.Портфель кредитів'!A:AB,14,FALSE),\"\")","v":""}]
[null,{"$f":"IFERROR(VLOOKUP(A1121,'1.Портфель кредитів'!A:AB,3,FALSE),\"\")","v":""},{"$f":"IFERROR(VLOOKUP(A1121,'1.Портфель кредитів'!A:AB,14,FALSE),\"\")","v":""}]
[null,{"$f":"IFERROR(VLOOKUP(A1122,'1.Портфель кредитів'!A:AB,3,FALSE),\"\")","v":""},{"$f":"IFERROR(VLOOKUP(A1122,'1.Портфель кредитів'!A:AB,14,FALSE),\"\")","v":""}]
[null,{"$f":"IFERROR(VLOOKUP(A1123,'1.Портфель кредитів'!A:AB,3,FALSE),\"\")","v":""},{"$f":"IFERROR(VLOOKUP(A1123,'1.Портфель кредитів'!A:AB,14,FALSE),\"\")","v":""}]
[null,{"$f":"IFERROR(VLOOKUP(A1124,'1.Портфель кредитів'!A:AB,3,FALSE),\"\")","v":""},{"$f":"IFERROR(VLOOKUP(A1124,'1.Портфель кредитів'!A:AB,14,FALSE),\"\")","v":""}]
[null,{"$f":"IFERROR(VLOOKUP(A1125,'1.Портфель кредитів'!A:AB,3,FALSE),\"\")","v":""},{"$f":"IFERROR(VLOOKUP(A1125,'1.Портфель кредитів'!A:AB,14,FALSE),\"\")","v":""}]
[null,{"$f":"IFERROR(VLOOKUP(A1126,'1.Портфель кредитів'!A:AB,3,FALSE),\"\")","v":""},{"$f":"IFERROR(VLOOKUP(A1126,'1.Портфель кредитів'!A:AB,14,FALSE),\"\")","v":""}]
[null,{"$f":"IFERROR(VLOOKUP(A1127,'1.Портфель кредитів'!A:AB,3,FALSE),\"\")","v":""},{"$f":"IFERROR(VLOOKUP(A1127,'1.Портфель кредитів'!A:AB,14,FALSE),\"\")","v":""}]
[null,{"$f":"IFERROR(VLOOKUP(A1128,'1.Портфель кредитів'!A:AB,3,FALSE),\"\")","v":""},{"$f":"IFERROR(VLOOKUP(A1128,'1.Портфель кредитів'!A:AB,14,FALSE),\"\")","v":""}]
[null,{"$f":"IFERROR(VLOOKUP(A1129,'1.Портфель кредитів'!A:AB,3,FALSE),\"\")","v":""},{"$f":"IFERROR(VLOOKUP(A1129,'1.Портфель кредитів'!A:AB,14,FALSE),\"\")","v":""}]
[null,{"$f":"IFERROR(VLOOKUP(A1130,'1.Портфель кредитів'!A:AB,3,FALSE),\"\")","v":""},{"$f":"IFERROR(VLOOKUP(A1130,'1.Портфель кредитів'!A:AB,14,FALSE),\"\")","v":""}]
[null,{"$f":"IFERROR(VLOOKUP(A1131,'1.Портфель кредитів'!A:AB,3,FALSE),\"\")","v":""},{"$f":"IFERROR(VLOOKUP(A1131,'1.Портфель кредитів'!A:AB,14,FALSE),\"\")","v":""}]
[null,{"$f":"IFERROR(VLOOKUP(A1132,'1.Портфель кредитів'!A:AB,3,FALSE),\"\")","v":""},{"$f":"IFERROR(VLOOKUP(A1132,'1.Портфель кредитів'!A:AB,14,FALSE),\"\")","v":""}]
[null,{"$f":"IFERROR(VLOOKUP(A1133,'1.Портфель кредитів'!A:AB,3,FALSE),\"\")","v":""},{"$f":"IFERROR(VLOOKUP(A1133,'1.Портфель кредитів'!A:AB,14,FALSE),\"\")","v":""}]
[null,{"$f":"IFERROR(VLOOKUP(A1134,'1.Портфель кредитів'!A:AB,3,FALSE),\"\")","v":""},{"$f":"IFERROR(VLOOKUP(A1134,'1.Портфель кредитів'!A:AB,14,FALSE),\"\")","v":""}]
[null,{"$f":"IFERROR(VLOOKUP(A1135,'1.Портфель кредитів'!A:AB,3,FALSE),\"\")","v":""},{"$f":"IFERROR(VLOOKUP(A1135,'1.Портфель кредитів'!A:AB,14,FALSE),\"\")","v":""}]
[null,{"$f":"IFERROR(VLOOKUP(A1136,'1.Портфель кредитів'!A:AB,3,FALSE),\"\")","v":""},{"$f":"IFERROR(VLOOKUP(A1136,'1.Портфель кредитів'!A:AB,14,FALSE),\"\")","v":""}]
[null,{"$f":"IFERROR(VLOOKUP(A1137,'1.Портфель кредитів'!A:AB,3,FALSE),\"\")","v":""},{"$f":"IFERROR(VLOOKUP(A1137,'1.Портфель кредитів'!A:AB,14,FALSE),\"\")","v":""}]
[null,{"$f":"IFERROR(VLOOKUP(A1138,'1.Портфель кредитів'!A:AB,3,FALSE),\"\")","v":""},{"$f":"IFERROR(VLOOKUP(A1138,'1.Портфель кредитів'!A:AB,14,FALSE),\"\")","v":""}]
[null,{"$f":"IFERROR(VLOOKUP(A1139,'1.Портфель кредитів'!A:AB,3,FALSE),\"\")","v":""},{"$f":"IFERROR(VLOOKUP(A1139,'1.Портфель кредитів'!A:AB,14,FALSE),\"\")","v":""}]
[null,{"$f":"IFERROR(VLOOKUP(A1140,'1.Портфель кредитів'!A:AB,3,FALSE),\"\")","v":""},{"$f":"IFERROR(VLOOKUP(A1140,'1.Портфель кредитів'!A:AB,14,FALSE),\"\")","v":""}]
[null,{"$f":"IFERROR(VLOOKUP(A1141,'1.Портфель кредитів'!A:AB,3,FALSE),\"\")","v":""},{"$f":"IFERROR(VLOOKUP(A1141,'1.Портфель кредитів'!A:AB,14,FALSE),\"\")","v":""}]
[null,{"$f":"IFERROR(VLOOKUP(A1142,'1.Портфель кредитів'!A:AB,3,FALSE),\"\")","v":""},{"$f":"IFERROR(VLOOKUP(A1142,'1.Портфель кредитів'!A:AB,14,FALSE),\"\")","v":""}]
[null,{"$f":"IFERROR(VLOOKUP(A1143,'1.Портфель кредитів'!A:AB,3,FALSE),\"\")","v":""},{"$f":"IFERROR(VLOOKUP(A1143,'1.Портфель кредитів'!A:AB,14,FALSE),\"\")","v":""}]
[null,{"$f":"IFERROR(VLOOKUP(A1144,'1.Портфель кредитів'!A:AB,3,FALSE),\"\")","v":""},{"$f":"IFERROR(VLOOKUP(A1144,'1.Портфель кредитів'!A:AB,14,FALSE),\"\")","v":""}]
[null,{"$f":"IFERROR(VLOOKUP(A1145,'1.Портфель кредитів'!A:AB,3,FALSE),\"\")","v":""},{"$f":"IFERROR(VLOOKUP(A1145,'1.Портфель кредитів'!A:AB,14,FALSE),\"\")","v":""}]
[null,{"$f":"IFERROR(VLOOKUP(A1146,'1.Портфель кредитів'!A:AB,3,FALSE),\"\")","v":""},{"$f":"IFERROR(VLOOKUP(A1146,'1.Портфель кредитів'!A:AB,14,FALSE),\"\")","v":""}]
[null,{"$f":"IFERROR(VLOOKUP(A1147,'1.Портфель кредитів'!A:AB,3,FALSE),\"\")","v":""},{"$f":"IFERROR(VLOOKUP(A1147,'1.Портфель кредитів'!A:AB,14,FALSE),\"\")","v":""}]
[null,{"$f":"IFERROR(VLOOKUP(A1148,'1.Портфель кредитів'!A:AB,3,FALSE),\"\")","v":""},{"$f":"IFERROR(VLOOKUP(A1148,'1.Портфель кредитів'!A:AB,14,FALSE),\"\")","v":""}]
[null,{"$f":"IFERROR(VLOOKUP(A1149,'1.Портфель кредитів'!A:AB,3,FALSE),\"\")","v":""},{"$f":"IFERROR(VLOOKUP(A1149,'1.Портфель кредитів'!A:AB,14,FALSE),\"\")","v":""}]
[null,{"$f":"IFERROR(VLOOKUP(A1150,'1.Портфель кредитів'!A:AB,3,FALSE),\"\")","v":""},{"$f":"IFERROR(VLOOKUP(A1150,'1.Портфель кредитів'!A:AB,14,FALSE),\"\")","v":""}]
[null,{"$f":"IFERROR(VLOOKUP(A1151,'1.Портфель кредитів'!A:AB,3,FALSE),\"\")","v":""},{"$f":"IFERROR(VLOOKUP(A1151,'1.Портфель кредитів'!A:AB,14,FALSE),\"\")","v":""}]
[null,{"$f":"IFERROR(VLOOKUP(A1152,'1.Портфель кредитів'!A:AB,3,FALSE),\"\")","v":""},{"$f":"IFERROR(VLOOKUP(A1152,'1.Портфель кредитів'!A:AB,14,FALSE),\"\")","v":""}]
[null,{"$f":"IFERROR(VLOOKUP(A1153,'1.Портфель кредитів'!A:AB,3,FALSE),\"\")","v":""},{"$f":"IFERROR(VLOOKUP(A1153,'1.Портфель кредитів'!A:AB,14,FALSE),\"\")","v":""}]
[null,{"$f":"IFERROR(VLOOKUP(A1154,'1.Портфель кредитів'!A:AB,3,FALSE),\"\")","v":""},{"$f":"IFERROR(VLOOKUP(A1154,'1.Портфель кредитів'!A:AB,14,FALSE),\"\")","v":""}]
[null,{"$f":"IFERROR(VLOOKUP(A1155,'1.Портфель кредитів'!A:AB,3,FALSE),\"\")","v":""},{"$f":"IFERROR(VLOOKUP(A1155,'1.Портфель кредитів'!A:AB,14,FALSE),\"\")","v":""}]
[null,{"$f":"IFERROR(VLOOKUP(A1156,'1.Портфель кредитів'!A:AB,3,FALSE),\"\")","v":""},{"$f":"IFERROR(VLOOKUP(A1156,'1.Портфель кредитів'!A:AB,14,FALSE),\"\")","v":""}]
[null,{"$f":"IFERROR(VLOOKUP(A1157,'1.Портфель кредитів'!A:AB,3,FALSE),\"\")","v":""},{"$f":"IFERROR(VLOOKUP(A1157,'1.Портфель кредитів'!A:AB,14,FALSE),\"\")","v":""}]
[null,{"$f":"IFERROR(VLOOKUP(A1158,'1.Портфель кредитів'!A:AB,3,FALSE),\"\")","v":""},{"$f":"IFERROR(VLOOKUP(A1158,'1.Портфель кредитів'!A:AB,14,FALSE),\"\")","v":""}]
[null,{"$f":"IFERROR(VLOOKUP(A1159,'1.Портфель кредитів'!A:AB,3,FALSE),\"\")","v":""},{"$f":"IFERROR(VLOOKUP(A1159,'1.Портфель кредитів'!A:AB,14,FALSE),\"\")","v":""}]
[null,{"$f":"IFERROR(VLOOKUP(A1160,'1.Портфель кредитів'!A:AB,3,FALSE),\"\")","v":""},{"$f":"IFERROR(VLOOKUP(A1160,'1.Портфель кредитів'!A:AB,14,FALSE),\"\")","v":""}]
[null,{"$f":"IFERROR(VLOOKUP(A1161,'1.Портфель кредитів'!A:AB,3,FALSE),\"\")","v":""},{"$f":"IFERROR(VLOOKUP(A1161,'1.Портфель кредитів'!A:AB,14,FALSE),\"\")","v":""}]
[null,{"$f":"IFERROR(VLOOKUP(A1162,'1.Портфель кредитів'!A:AB,3,FALSE),\"\")","v":""},{"$f":"IFERROR(VLOOKUP(A1162,'1.Портфель кредитів'!A:AB,14,FALSE),\"\")","v":""}]
[null,{"$f":"IFERROR(VLOOKUP(A1163,'1.Портфель кредитів'!A:AB,3,FALSE),\"\")","v":""},{"$f":"IFERROR(VLOOKUP(A1163,'1.Портфель кредитів'!A:AB,14,FALSE),\"\")","v":""}]
[null,{"$f":"IFERROR(VLOOKUP(A1164,'1.Портфель кредитів'!A:AB,3,FALSE),\"\")","v":""},{"$f":"IFERROR(VLOOKUP(A1164,'1.Портфель кредитів'!A:AB,14,FALSE),\"\")","v":""}]
[null,{"$f":"IFERROR(VLOOKUP(A1165,'1.Портфель кредитів'!A:AB,3,FALSE),\"\")","v":""},{"$f":"IFERROR(VLOOKUP(A1165,'1.Портфель кредитів'!A:AB,14,FALSE),\"\")","v":""}]
[null,{"$f":"IFERROR(VLOOKUP(A1166,'1.Портфель кредитів'!A:AB,3,FALSE),\"\")","v":""},{"$f":"IFERROR(VLOOKUP(A1166,'1.Портфель кредитів'!A:AB,14,FALSE),\"\")","v":""}]
[null,{"$f":"IFERROR(VLOOKUP(A1167,'1.Портфель кредитів'!A:AB,3,FALSE),\"\")","v":""},{"$f":"IFERROR(VLOOKUP(A1167,'1.Портфель кредитів'!A:AB,14,FALSE),\"\")","v":""}]
[null,{"$f":"IFERROR(VLOOKUP(A1168,'1.Портфель кредитів'!A:AB,3,FALSE),\"\")","v":""},{"$f":"IFERROR(VLOOKUP(A1168,'1.Портфель кредитів'!A:AB,14,FALSE),\"\")","v":""}]
[null,{"$f":"IFERROR(VLOOKUP(A1169,'1.Портфель кредитів'!A:AB,3,FALSE),\"\")","v":""},{"$f":"IFERROR(VLOOKUP(A1169,'1.Портфель кредитів'!A:AB,14,FALSE),\"\")","v":""}]
[null,{"$f":"IFERROR(VLOOKUP(A1170,'1.Портфель кредитів'!A:AB,3,FALSE),\"\")","v":""},{"$f":"IFERROR(VLOOKUP(A1170,'1.Портфель кредитів'!A:AB,14,FALSE),\"\")","v":""}]
[null,{"$f":"IFERROR(VLOOKUP(A1171,'1.Портфель кредитів'!A:AB,3,FALSE),\"\")","v":""},{"$f":"IFERROR(VLOOKUP(A1171,'1.Портфель кредитів'!A:AB,14,FALSE),\"\")","v":""}]
[null,{"$f":"IFERROR(VLOOKUP(A1172,'1.Портфель кредитів'!A:AB,3,FALSE),\"\")","v":""},{"$f":"IFERROR(VLOOKUP(A1172,'1.Портфель кредитів'!A:AB,14,FALSE),\"\")","v":""}]
[null,{"$f":"IFERROR(VLOOKUP(A1173,'1.Портфель кредитів'!A:AB,3,FALSE),\"\")","v":""},{"$f":"IFERROR(VLOOKUP(A1173,'1.Портфель кредитів'!A:AB,14,FALSE),\"\")","v":""}]
[null,{"$f":"IFERROR(VLOOKUP(A1174,'1.Портфель кредитів'!A:AB,3,FALSE),\"\")","v":""},{"$f":"IFERROR(VLOOKUP(A1174,'1.Портфель кредитів'!A:AB,14,FALSE),\"\")","v":""}]
[null,{"$f":"IFERROR(VLOOKUP(A1175,'1.Портфель кредитів'!A:AB,3,FALSE),\"\")","v":""},{"$f":"IFERROR(VLOOKUP(A1175,'1.Портфель кредитів'!A:AB,14,FALSE),\"\")","v":""}]
[null,{"$f":"IFERROR(VLOOKUP(A1176,'1.Портфель кредитів'!A:AB,3,FALSE),\"\")","v":""},{"$f":"IFERROR(VLOOKUP(A1176,'1.Портфель кредитів'!A:AB,14,FALSE),\"\")","v":""}]
[null,{"$f":"IFERROR(VLOOKUP(A1177,'1.Портфель кредитів'!A:AB,3,FALSE),\"\")","v":""},{"$f":"IFERROR(VLOOKUP(A1177,'1.Портфель кредитів'!A:AB,14,FALSE),\"\")","v":""}]
[null,{"$f":"IFERROR(VLOOKUP(A1178,'1.Портфель кредитів'!A:AB,3,FALSE),\"\")","v":""},{"$f":"IFERROR(VLOOKUP(A1178,'1.Портфель кредитів'!A:AB,14,FALSE),\"\")","v":""}]
[null,{"$f":"IFERROR(VLOOKUP(A1179,'1.Портфель кредитів'!A:AB,3,FALSE),\"\")","v":""},{"$f":"IFERROR(VLOOKUP(A1179,'1.Портфель кредитів'!A:AB,14,FALSE),\"\")","v":""}]
[null,{"$f":"IFERROR(VLOOKUP(A1180,'1.Портфель кредитів'!A:AB,3,FALSE),\"\")","v":""},{"$f":"IFERROR(VLOOKUP(A1180,'1.Портфель кредитів'!A:AB,14,FALSE),\"\")","v":""}]
[null,{"$f":"IFERROR(VLOOKUP(A1181,'1.Портфель кредитів'!A:AB,3,FALSE),\"\")","v":""},{"$f":"IFERROR(VLOOKUP(A1181,'1.Портфель кредитів'!A:AB,14,FALSE),\"\")","v":""}]
[null,{"$f":"IFERROR(VLOOKUP(A1182,'1.Портфель кредитів'!A:AB,3,FALSE),\"\")","v":""},{"$f":"IFERROR(VLOOKUP(A1182,'1.Портфель кредитів'!A:AB,14,FALSE),\"\")","v":""}]
[null,{"$f":"IFERROR(VLOOKUP(A1183,'1.Портфель кредитів'!A:AB,3,FALSE),\"\")","v":""},{"$f":"IFERROR(VLOOKUP(A1183,'1.Портфель кредитів'!A:AB,14,FALSE),\"\")","v":""}]
[null,{"$f":"IFERROR(VLOOKUP(A1184,'1.Портфель кредитів'!A:AB,3,FALSE),\"\")","v":""},{"$f":"IFERROR(VLOOKUP(A1184,'1.Портфель кредитів'!A:AB,14,FALSE),\"\")","v":""}]
[null,{"$f":"IFERROR(VLOOKUP(A1185,'1.Портфель кредитів'!A:AB,3,FALSE),\"\")","v":""},{"$f":"IFERROR(VLOOKUP(A1185,'1.Портфель кредитів'!A:AB,14,FALSE),\"\")","v":""}]
[null,{"$f":"IFERROR(VLOOKUP(A1186,'1.Портфель кредитів'!A:AB,3,FALSE),\"\")","v":""},{"$f":"IFERROR(VLOOKUP(A1186,'1.Портфель кредитів'!A:AB,14,FALSE),\"\")","v":""}]
[null,{"$f":"IFERROR(VLOOKUP(A1187,'1.Портфель кредитів'!A:AB,3,FALSE),\"\")","v":""},{"$f":"IFERROR(VLOOKUP(A1187,'1.Портфель кредитів'!A:AB,14,FALSE),\"\")","v":""}]
[null,{"$f":"IFERROR(VLOOKUP(A1188,'1.Портфель кредитів'!A:AB,3,FALSE),\"\")","v":""},{"$f":"IFERROR(VLOOKUP(A1188,'1.Портфель кредитів'!A:AB,14,FALSE),\"\")","v":""}]
[null,{"$f":"IFERROR(VLOOKUP(A1189,'1.Портфель кредитів'!A:AB,3,FALSE),\"\")","v":""},{"$f":"IFERROR(VLOOKUP(A1189,'1.Портфель кредитів'!A:AB,14,FALSE),\"\")","v":""}]
[null,{"$f":"IFERROR(VLOOKUP(A1190,'1.Портфель кредитів'!A:AB,3,FALSE),\"\")","v":""},{"$f":"IFERROR(VLOOKUP(A1190,'1.Портфель кредитів'!A:AB,14,FALSE),\"\")","v":""}]
[null,{"$f":"IFERROR(VLOOKUP(A1191,'1.Портфель кредитів'!A:AB,3,FALSE),\"\")","v":""},{"$f":"IFERROR(VLOOKUP(A1191,'1.Портфель кредитів'!A:AB,14,FALSE),\"\")","v":""}]
[null,{"$f":"IFERROR(VLOOKUP(A1192,'1.Портфель кредитів'!A:AB,3,FALSE),\"\")","v":""},{"$f":"IFERROR(VLOOKUP(A1192,'1.Портфель кредитів'!A:AB,14,FALSE),\"\")","v":""}]
[null,{"$f":"IFERROR(VLOOKUP(A1193,'1.Портфель кредитів'!A:AB,3,FALSE),\"\")","v":""},{"$f":"IFERROR(VLOOKUP(A1193,'1.Портфель кредитів'!A:AB,14,FALSE),\"\")","v":""}]
[null,{"$f":"IFERROR(VLOOKUP(A1194,'1.Портфель кредитів'!A:AB,3,FALSE),\"\")","v":""},{"$f":"IFERROR(VLOOKUP(A1194,'1.Портфель кредитів'!A:AB,14,FALSE),\"\")","v":""}]
[null,{"$f":"IFERROR(VLOOKUP(A1195,'1.Портфель кредитів'!A:AB,3,FALSE),\"\")","v":""},{"$f":"IFERROR(VLOOKUP(A1195,'1.Портфель кредитів'!A:AB,14,FALSE),\"\")","v":""}]
[null,{"$f":"IFERROR(VLOOKUP(A1196,'1.Портфель кредитів'!A:AB,3,FALSE),\"\")","v":""},{"$f":"IFERROR(VLOOKUP(A1196,'1.Портфель кредитів'!A:AB,14,FALSE),\"\")","v":""}]
[null,{"$f":"IFERROR(VLOOKUP(A1197,'1.Портфель кредитів'!A:AB,3,FALSE),\"\")","v":""},{"$f":"IFERROR(VLOOKUP(A1197,'1.Портфель кредитів'!A:AB,14,FALSE),\"\")","v":""}]
[null,{"$f":"IFERROR(VLOOKUP(A1198,'1.Портфель кредитів'!A:AB,3,FALSE),\"\")","v":""},{"$f":"IFERROR(VLOOKUP(A1198,'1.Портфель кредитів'!A:AB,14,FALSE),\"\")","v":""}]
[null,{"$f":"IFERROR(VLOOKUP(A1199,'1.Портфель кредитів'!A:AB,3,FALSE),\"\")","v":""},{"$f":"IFERROR(VLOOKUP(A1199,'1.Портфель кредитів'!A:AB,14,FALSE),\"\")","v":""}]
[null,{"$f":"IFERROR(VLOOKUP(A1200,'1.Портфель кредитів'!A:AB,3,FALSE),\"\")","v":""},{"$f":"IFERROR(VLOOKUP(A1200,'1.Портфель кредитів'!A:AB,14,FALSE),\"\")","v":""}]
[null,{"$f":"IFERROR(VLOOKUP(A1201,'1.Портфель кредитів'!A:AB,3,FALSE),\"\")","v":""},{"$f":"IFERROR(VLOOKUP(A1201,'1.Портфель кредитів'!A:AB,14,FALSE),\"\")","v":""}]
[null,{"$f":"IFERROR(VLOOKUP(A1202,'1.Портфель кредитів'!A:AB,3,FALSE),\"\")","v":""},{"$f":"IFERROR(VLOOKUP(A1202,'1.Портфель кредитів'!A:AB,14,FALSE),\"\")","v":""}]
[null,{"$f":"IFERROR(VLOOKUP(A1203,'1.Портфель кредитів'!A:AB,3,FALSE),\"\")","v":""},{"$f":"IFERROR(VLOOKUP(A1203,'1.Портфель кредитів'!A:AB,14,FALSE),\"\")","v":""}]
[null,{"$f":"IFERROR(VLOOKUP(A1204,'1.Портфель кредитів'!A:AB,3,FALSE),\"\")","v":""},{"$f":"IFERROR(VLOOKUP(A1204,'1.Портфель кредитів'!A:AB,14,FALSE),\"\")","v":""}]
[null,{"$f":"IFERROR(VLOOKUP(A1205,'1.Портфель кредитів'!A:AB,3,FALSE),\"\")","v":""},{"$f":"IFERROR(VLOOKUP(A1205,'1.Портфель кредитів'!A:AB,14,FALSE),\"\")","v":""}]
[null,{"$f":"IFERROR(VLOOKUP(A1206,'1.Портфель кредитів'!A:AB,3,FALSE),\"\")","v":""},{"$f":"IFERROR(VLOOKUP(A1206,'1.Портфель кредитів'!A:AB,14,FALSE),\"\")","v":""}]
[null,{"$f":"IFERROR(VLOOKUP(A1207,'1.Портфель кредитів'!A:AB,3,FALSE),\"\")","v":""},{"$f":"IFERROR(VLOOKUP(A1207,'1.Портфель кредитів'!A:AB,14,FALSE),\"\")","v":""}]
[null,{"$f":"IFERROR(VLOOKUP(A1208,'1.Портфель кредитів'!A:AB,3,FALSE),\"\")","v":""},{"$f":"IFERROR(VLOOKUP(A1208,'1.Портфель кредитів'!A:AB,14,FALSE),\"\")","v":""}]
[null,{"$f":"IFERROR(VLOOKUP(A1209,'1.Портфель кредитів'!A:AB,3,FALSE),\"\")","v":""},{"$f":"IFERROR(VLOOKUP(A1209,'1.Портфель кредитів'!A:AB,14,FALSE),\"\")","v":""}]
[null,{"$f":"IFERROR(VLOOKUP(A1210,'1.Портфель кредитів'!A:AB,3,FALSE),\"\")","v":""},{"$f":"IFERROR(VLOOKUP(A1210,'1.Портфель кредитів'!A:AB,14,FALSE),\"\")","v":""}]

{"sheet":"Hidden_Словник","index":4,"n_rows":19698,"n_cols":50,"rows_kept":1125,"cut":true,"hidden":true,"merged":[],"bounds":{"rows_first":500,"rows_last":125,"rows_between":500,"halvings":2}}
["Коротка назва","Назва банку","МФО","Дата вводу тимч.адм.","Дата рішення про ліквид.",null,null,null,null,"#","область","Регіон",null,null,null,"КВЕД (2010)","NU",null,null,"Банкрутство",null,null,"Тип застави",null,"ТАК/Ні",null,"Вид судового провадження",null,null,"Відповідач (позичальник/поручитель)",null,null,null,"Наявність документів кредитної справи",null,null,null,null,"Одиниці виміру",null,null,"валюта",null,null,null,"область","населений пункт",null,null,"Наявність забезпечення"]
["Авант-Банк","ПАТ \"АВАНТ-БАНК\"","380708",42398,42426,null,null,null,null,1,"Автономна Республіка Крим","КРИМ/АТО",null,null,null,"A","Сільське господарство, лісове господарство та рибне господарство",null,null,"Діюче",null,null,"нерухомість",1,"ТАК",null,"стягнення заборгованості",null,null,"Позичальник",null,null,null,"Наявні документи кредитної справи",null,null,null,null,"га",null,null,"Гривня",980,null,null,"Автономна Республіка Крим","Алупка",null,null,"Наявне"]
["АКБ Банк","ПАТ \"АКБ Банк\"","331100",41789,41880,null,null,null,null,2,"Севастополь","КРИМ/АТО",null,null,null,"01","Сільське господарство, мисливство та надання пов'язаних із ними послуг",null,null,"Банкрутство",null,null,"транспорт",2,"НІ",null,"стягнення забезпечення",null,null,"Поручитель",null,null,null,"Наявний кредитний договір",null,null,null,null,"м.кв.",null,null,"Доллар США",840,null,null,"Автономна Республіка Крим","Абрикосівка",null,null,"Відсутнє (реалізовано)"]
["Аксіома","ПАТ \"КБ \"АКСІОМА\"","307305",41922,42034,null,null,null,null,3,"Вінницька","ЦЕНТР",null,null,null,"01.1","Вирощування однорічних і дворічних культур",null,null,"В стані припинення (крім банкрутства)",null,null,"обладнання",3,null,null,"банкрутство",null,null,"Солідарно",null,null,null,"Наяваний договір застави",null,null,null,null,"м.куб.",null,null,"Євро",978,null,null,"Автономна Республіка Крим","Абрикосове",null,null,"Відсутнє (виведено)"]
["Актабанк","ПАТ \"АКТАБАНК\"","307394",41899,42020,null,null,null,null,4,"Волинська","ЗАХІД",null,null,null,"01.11","Вирощування зернових культур (крім рису), бобових культур і насіння олійних культур",null,null,"Ліквідовано",null,null,"товари",4,null,null,"визнання зобов'язань недійсними",null,null,"3-і особи",null,null,null,"Відсутні документи кредитної справи",null,null,null,null,"т",null,null,"Швейцарські франки",756,null,null,"Автономна Республіка Крим","Аврора (Слов'янська сільська рада)",null,null,"Відсутнє (інше)"]
["Активбанк","ПАТ \"КБ \"АКТИВ - БАНК\"","300852",41885,41996,null,null,null,null,5,"Дніпропетровська","ПІВДЕНЬ",null,null,null,"01.12","Вирощування рису",null,null,"Санація",null,null,"депозит",5,null,null,"нікчемність правочину",null,null,null,null,null,null,null,null,null,null,null,"шт.",null,null,"Польські злоті",985,null,null,"Автономна Республіка Крим","Аграрне"]
["АРТЕМ-БАНК","АТ «АРТЕМ-БАНК»","300885",42690,42720,null,null,null,null,6,"Донецька","КРИМ/АТО",null,null,null,"01.13","Вирощування овочів і баштанних культур, коренеплодів і бульбоплодів",null,null,"Інше",null,null,"майнові права",6,null,null,"інше",null,null,null,null,null,null,null,null,null,null,null,"од.",null,null,"Фунт стерлінгів",826,null,null,"Автономна Республіка Крим","Аерофлотський"]
["БАНК ПЕТРОКОММЕРЦ-УКРАЇНА","ПАТ \"БАНК ПЕТРОКОММЕРЦ-УКРАЇНА\"","300120",42447,42482,null,null,null,null,7,"Житомирська","ЦЕНТР",null,null,null,"01.14","Вирощування цукрової тростини",null,null,null,null,null,"фінансова порука",7,null,null,"ППР не здійснюється",null,null,null,null,null,null,null,null,null,null,null,null,null,null,"Китайські юані",156,null,null,"Автономна Республіка Крим","Азов"]
["БГ банк","ПАТ \"БГ БАНК\"","320995",41971,42062,null,null,null,null,8,"Закарпатська","ЗАХІД",null,null,null,"01.15","Вирощування тютюну",null,null,null,null,null,"беззаставний",8,null,null,null,null,null,null,null,null,null,null,null,null,null,null,null,null,null,"Рос. рубль",643,null,null,"Автономна Республіка Крим","Азовське"]
["Брокбізнесбанк","АТ \"БРОКБІЗНЕСБАНК\"","300249",41701,41801,null,null,null,null,9,"Запорізька","ПІВДЕНЬ",null,null,null,"01.16","Вирощування прядивних культур",null,null,null,null,null,"інше",null,null,null,null,null,null,null,null,null,null,null,null,null,null,null,null,null,null,"мульт. валютн.",777,null,null,"Автономна Республіка Крим","Айвазовське"]
["ВБР","ПАТ \"ВБР\"","380719",41971,42359,null,null,null,null,10,"Івано_Франківська","ЗАХІД",null,null,null,"01.19","Вирощування інших однорічних і дворічних культур",null,null,null,null,null,null,null,null,null,null,null,null,null,null,null,null,null,null,null,null,null,null,null,null,null,null,null,null,"Автономна Республіка Крим","Айвове"]
["ВЕКТОР","ПАТ \"ВЕКТОР БАНК\"","339038",42797,42816,null,null,null,null,11,"Київ","ЦЕНТР",null,null,null,"01.2","Вирощування багаторічних культур",null,null,null,null,null,null,null,null,null,null,null,null,null,null,null,null,null,null,null,null,null,null,null,null,null,null,null,null,"Автономна Республіка Крим","Айкаван"]
["Велес","АТ \"БАНК ВЕЛЕС\"","322799",null,42349,null,null,null,null,12,"Київська","ЦЕНТР",null,null,null,"01.21","Вирощування винограду",null,null,null,null,null,null,null,null,null,null,null,null,null,null,null,null,null,null,null,null,null,null,null,null,null,null,null,null,"Автономна Республіка Крим","Акрополіс"]
["ВіЕйБі","ПАТ \"ВіЕйБі Банк\"","380537",41964,42083,null,null,null,null,13,"Кіровоградська","ЦЕНТР",null,null,null,"01.22","Вирощування тропічних і субтропічних фруктів",null,null,null,null,null,null,null,null,null,null,null,null,null,null,null,null,null,null,null,null,null,null,null,null,null,null,null,null,"Автономна Республіка Крим","Алмазне"]
["Грінбанк","ПАТ \"Грін Банк\"","322324",41907,42027,null,null,null,null,14,"Луганська","КРИМ/АТО",null,null,null,"01.23","Вирощування цитрусових",null,null,null,null,null,null,null,null,null,null,null,null,null,null,null,null,null,null,null,null,null,null,null,null,null,null,null,null,"Автономна Республіка Крим","Алушта"]
["Даніель","ПАТ \"КБ \"Даніель\"","380980",41656,41745,null,null,null,null,15,"Львівська","ЗАХІД",null,null,null,"01.24","Вирощування зерняткових і кісточкових фруктів",null,null,null,null,null,null,null,null,null,null,null,null,null,null,null,null,null,null,null,null,null,null,null,null,null,null,null,null,"Автономна Республіка Крим","Амурське"]
["Дельта","АТ \"Дельта Банк\"","380236",42066,42279,null,null,null,null,16,"Миколаївська","ПІВДЕНЬ",null,null,null,"01.25","Вирощування ягід, горіхів, інших плодових дерев і чагарників",null,null,null,null,null,null,null,null,null,null,null,null,null,null,null,null,null,null,null,null,null,null,null,null,null,null,null,null,"Автономна Республіка Крим","Ана-Юрт"]
["Демарк","Банк \"Демарк\"","353575",41911,42034,null,null,null,null,17,"Одеська","ПІВДЕНЬ",null,null,null,"01.26","Вирощування олійних плодів",null,null,null,null,null,null,null,null,null,null,null,null,null,null,null,null,null,null,null,null,null,null,null,null,null,null,null,null,"Автономна Республіка Крим","Андрусове"]
["ДЕРЖЗЕМБАНК","ПАТ «ДЕРЖЗЕМБАНК»","380968",42578,42640,null,null,null,null,18,"Полтавська","ЦЕНТР",null,null,null,"01.27","Вирощування культур для виробництва напоїв",null,null,null,null,null,null,null,null,null,null,null,null,null,null,null,null,null,null,null,null,null,null,null,null,null,null,null,null,"Автономна Республіка Крим","Антонівка"]
["ДІАМАНТБАНК","ПАТ \"ДІАМАНТБАНК\"","320854",42849,42910,null,null,null,null,19,"Рівненська","ЗАХІД",null,null,null,"01.28","Вирощування пряних, ароматичних і лікарських культур",null,null,null,null,null,null,null,null,null,null,null,null,null,null,null,null,null,null,null,null,null,null,null,null,null,null,null,null,"Автономна Республіка Крим","Апрелівка"]
["Експобанк","АТ \"КБ \"ЕКСПОБАНК\"","322294",41907,42030,null,null,null,null,20,"Сумська","СХІД",null,null,null,"01.29","Вирощування інших багаторічних культур",null,null,null,null,null,null,null,null,null,null,null,null,null,null,null,null,null,null,null,null,null,null,null,null,null,null,null,null,"Автономна Республіка Крим","Арбузівка"]
["Енергобанк","ПАТ \"ЕНЕРГОБАНК\"","300272",42048,42167,null,null,null,null,21,"Тернопільська","ЗАХІД",null,null,null,"01.3","Відтворення рослин",null,null,null,null,null,null,null,null,null,null,null,null,null,null,null,null,null,null,null,null,null,null,null,null,null,null,null,null,"Автономна Республіка Крим","Арбузове"]
["ЕРДЕ банк","АТ \"ЕРДЕ БАНК\"","380667",41212,41283,null,null,null,null,22,"Харківська","СХІД",null,null,null,"01.30","Відтворення рослин",null,null,null,null,null,null,null,null,null,null,null,null,null,null,null,null,null,null,null,null,null,null,null,null,null,null,null,null,"Автономна Республіка Крим","Аркадіївка"]
["Євробанк","ПАТ \"КБ \"ЄВРОБАНК\"","380355",42538,42599,null,null,null,null,23,"Херсонська","ПІВДЕНЬ",null,null,null,"01.4","Тваринництво",null,null,null,null,null,null,null,null,null,null,null,null,null,null,null,null,null,null,null,null,null,null,null,null,null,null,null,null,"Автономна Республіка Крим","Армійське"]
["Єврогазбанк","АТ \"ЄВРОГАЗБАНК\"","380430",41837,41961,null,null,null,null,24,"Хмельницька","ЦЕНТР",null,null,null,"01.41","Розведення великої рогатої худоби молочних порід",null,null,null,null,null,null,null,null,null,null,null,null,null,null,null,null,null,null,null,null,null,null,null,null,null,null,null,null,"Автономна Республіка Крим","Армянськ"]
["Західінкомбанк","ПАТ \"Західінкомбанк\"","303484",41788,41843,null,null,null,null,25,"Черкаська","ЦЕНТР",null,null,null,"01.42","Розведення іншої великої рогатої худоби та буйволів",null,null,null,null,null,null,null,null,null,null,null,null,null,null,null,null,null,null,null,null,null,null,null,null,null,null,null,null,"Автономна Республіка Крим","Аромат"]
["Златобанк","АТ \"ЗЛАТОБАНК\"","380612",42049,42137,null,null,null,null,26,"Чернівецька","ЗАХІД",null,null,null,"01.43","Розведення коней та інших тварин родини конячих",null,null,null,null,null,null,null,null,null,null,null,null,null,null,null,null,null,null,null,null,null,null,null,null,null,null,null,null,"Автономна Республіка Крим","Ароматне"]
["Золоті ворота","АТ \"БАНК ЗОЛОТІ ВОРОТА\"","351931",41855,41978,null,null,null,null,27,"Чернігівська","СХІД",null,null,null,"01.44","Розведення верблюдів та інших тварин родини верблюдячих",null,null,null,null,null,null,null,null,null,null,null,null,null,null,null,null,null,null,null,null,null,null,null,null,null,null,null,null,"Автономна Республіка Крим","Артемівка"]
["Імексбанк","АТ \"ІМЕКСБАНК\"","328384",42031,42151,null,null,null,null,null,null,null,null,null,null,"01.45","Розведення овець і кіз",null,null,null,null,null,null,null,null,null,null,null,null,null,null,null,null,null,null,null,null,null,null,null,null,null,null,null,null,"Автономна Республіка Крим","Бабенкове"]
["ІНВЕСТБАНК","ПАТ \"КБ \"ІНВЕСТБАНК\"","328210",42720,42748,null,null,null,null,null,null,null,null,null,null,"01.46","Розведення свиней",null,null,null,null,null,null,null,null,null,null,null,null,null,null,null,null,null,null,null,null,null,null,null,null,null,null,null,null,"Автономна Республіка Крим","Багата Ущелина"]
["Інтеграл банк","ПАТ \"Інтеграл-банк\"","320735",42263,42335,null,null,null,null,null,null,null,null,null,null,"01.47","Розведення свійської птиці",null,null,null,null,null,null,null,null,null,null,null,null,null,null,null,null,null,null,null,null,null,null,null,null,null,null,null,null,"Автономна Республіка Крим","Багате"]
["Інтербанк","ПАТ КБ \"ІНТЕРБАНК\"","300216",41753,41843,null,null,null,null,null,null,null,null,null,null,"01.49","Розведення інших тварин",null,null,null,null,null,null,null,null,null,null,null,null,null,null,null,null,null,null,null,null,null,null,null,null,null,null,null,null,"Автономна Республіка Крим","Багатівка"]
["Інтеркредит банк","ПАТ \"ІнтерКредитБанк\"","307424",41922,42021,null,null,null,null,null,null,null,null,null,null,"01.5","Змішане сільське господарство",null,null,null,null,null,null,null,null,null,null,null,null,null,null,null,null,null,null,null,null,null,null,null,null,null,null,null,null,"Автономна Республіка Крим","Багерове"]
["Камбіо","ПАТ \"Банк Камбіо\"","380399",41978,42065,null,null,null,null,null,null,null,null,null,null,"01.50","Змішане сільське господарство",null,null,null,null,null,null,null,null,null,null,null,null,null,null,null,null,null,null,null,null,null,null,null,null,null,null,null,null,"Автономна Республіка Крим","Баланове"]
["Київ","ПАТ \"АКБ \"КИЇВ\"","322498",42060,42180,null,null,null,null,null,null,null,null,null,null,"01.6","Допоміжна діяльність у сільському господарстві та післяурожайна діяльність",null,null,null,null,null,null,null,null,null,null,null,null,null,null,null,null,null,null,null,null,null,null,null,null,null,null,null,null,"Автономна Республіка Крим","Балки"]
["Київськая Русь","ПАТ \"Банк \"Київська Русь\"","319092",42083,42202,null,null,null,null,null,null,null,null,null,null,"01.61","Допоміжна діяльність у рослинництві",null,null,null,null,null,null,null,null,null,null,null,null,null,null,null,null,null,null,null,null,null,null,null,null,null,null,null,null,"Автономна Республіка Крим","Барабанове"]
["КЛАСИКБАНК","ПАТ «КЛАСИКБАНК»","306704",42536,42594,null,null,null,null,null,null,null,null,null,null,"01.62","Допоміжна діяльність у тваринництві",null,null,null,null,null,null,null,null,null,null,null,null,null,null,null,null,null,null,null,null,null,null,null,null,null,null,null,null,"Автономна Республіка Крим","Барсове"]
["Контракт","ПАТ Банк \"Контракт\"","322465",42284,42349,null,null,null,null,null,null,null,null,null,null,"01.63","Післяурожайна діяльність",null,null,null,null,null,null,null,null,null,null,null,null,null,null,null,null,null,null,null,null,null,null,null,null,null,null,null,null,"Автономна Республіка Крим","Батальне"]
["Кредитпромбанк","ПАТ \"КРЕДИТПРОМБАНК\"","300863",42066,42158,null,null,null,null,null,null,null,null,null,null,"01.64","Оброблення насіння для відтворення",null,null,null,null,null,null,null,null,null,null,null,null,null,null,null,null,null,null,null,null,null,null,null,null,null,null,null,null,"Автономна Республіка Крим","Бахчисарай"]
["Легбанк","ПАТ \"Легбанк\"","300056",41971,42062,null,null,null,null,null,null,null,null,null,null,"01.7","Мисливство, відловлювання тварин і надання пов'язаних із ними послуг",null,null,null,null,null,null,null,null,null,null,null,null,null,null,null,null,null,null,null,null,null,null,null,null,null,null,null,null,"Автономна Республіка Крим","Бахчівка (Серебрянська сільська рада)"]
["Меліор","ПАТ \"МЕЛІОР БАНК\"","307435",41922,42046,null,null,null,null,null,null,null,null,null,null,"01.70","Мисливство, відловлювання тварин і надання пов'язаних із ними послуг",null,null,null,null,null,null,null,null,null,null,null,null,null,null,null,null,null,null,null,null,null,null,null,null,null,null,null,null,"Автономна Республіка Крим","Баштанівка"]
["Меркурій","АТ БАНК \"МЕРКУРІЙ\"","351663",41712,41802,null,null,null,null,null,null,null,null,null,null,"02","Лісове господарство та лісозаготівлі",null,null,null,null,null,null,null,null,null,null,null,null,null,null,null,null,null,null,null,null,null,null,null,null,null,null,null,null,"Автономна Республіка Крим","Берегове"]
["Михайлівський","ПАТ \"БАНК МИХАЙЛІВСЬКИЙ\"","380935",42513,42564,null,null,null,null,null,null,null,null,null,null,"02.1","Лісівництво та інша діяльність у лісовому господарстві",null,null,null,null,null,null,null,null,null,null,null,null,null,null,null,null,null,null,null,null,null,null,null,null,null,null,null,null,"Автономна Республіка Крим","Березівка"]
["Міський комерційний банк","ПАТ \"МІСЬКИЙ КОМЕРЦІЙНИЙ БАНК\"","339339",41964,42083,null,null,null,null,null,null,null,null,null,null,"02.10","Лісівництво та інша діяльність у лісовому господарстві",null,null,null,null,null,null,null,null,null,null,null,null,null,null,null,null,null,null,null,null,null,null,null,null,null,null,null,null,"Автономна Республіка Крим","Бєлінське"]
["Надра","ПАТ \"КБ \"Надра\"","380764",42041,42160,null,null,null,null,null,null,null,null,null,null,"02.2","Лісозаготівлі",null,null,null,null,null,null,null,null,null,null,null,null,null,null,null,null,null,null,null,null,null,null,null,null,null,null,null,null,"Автономна Республіка Крим","Біла Скеля"]
["Національний кредит","\"БАНК НАЦІОНАЛЬНИЙ КРЕДИТ\"","320702",42163,42247,null,null,null,null,null,null,null,null,null,null,"02.20","Лісозаготівлі",null,null,null,null,null,null,null,null,null,null,null,null,null,null,null,null,null,null,null,null,null,null,null,null,null,null,null,null,"Автономна Республіка Крим","Білогірськ"]
["Національні інвестиції","БАНК НАЦІОНАЛЬНІ ІНВЕСТИЦІЇ","300498",42265,42339,null,null,null,null,null,null,null,null,null,null,"02.3","Збирання дикорослих недеревних продуктів",null,null,null,null,null,null,null,null,null,null,null,null,null,null,null,null,null,null,null,null,null,null,null,null,null,null,null,null,"Автономна Республіка Крим","Білоглинка"]
["НК БАНК","АТ \"БАНК НАРОДНИЙ КАПІТАЛ\"","322432",42755,42803,null,null,null,null,null,null,null,null,null,null,"02.30","Збирання дикорослих недеревних продуктів",null,null,null,null,null,null,null,null,null,null,null,null,null,null,null,null,null,null,null,null,null,null,null,null,null,null,null,null,"Автономна Республіка Крим","Білокам'яне"]
["Омега","ПАТ \"ОМЕГА БАНК\"","300164",42066,42191,null,null,null,null,null,null,null,null,null,null,"02.4","Надання допоміжних послуг у лісовому господарстві",null,null,null,null,null,null,null,null,null,null,null,null,null,null,null,null,null,null,null,null,null,null,null,null,null,null,null,null,"Автономна Республіка Крим","Бітумне (Гресівська)"]
["Південкомбанк","ПАТ \"КБ \"ПІВДЕНКОМБАНК\"","335946",41785,41908,null,null,null,null,null,null,null,null,null,null,"02.40","Надання допоміжних послуг у лісовому господарстві",null,null,null,null,null,null,null,null,null,null,null,null,null,null,null,null,null,null,null,null,null,null,null,null,null,null,null,null,"Автономна Республіка Крим","Благодатне"]
["Платинум Банк","ПАТ \"Платинум Банк\"","380388",42746,42790,null,null,null,null,null,null,null,null,null,null,"03","Рибне господарство",null,null,null,null,null,null,null,null,null,null,null,null,null,null,null,null,null,null,null,null,null,null,null,null,null,null,null,null,"Автономна Республіка Крим","Ближнє"]
["Праймбанк","ПАТ \"ПРАЙМ-БАНК\"","300669",41915,42018,null,null,null,null,null,null,null,null,null,null,"03.1","Рибальство",null,null,null,null,null,null,null,null,null,null,null,null,null,null,null,null,null,null,null,null,null,null,null,null,null,null,null,null,"Автономна Республіка Крим","Ближньогородське"]
["Промекономбанк","ПАТ \"КБ \"ПРОМЕКОНОМБАНК\"","334992",41781,41890,null,null,null,null,null,null,null,null,null,null,"03.11","Морське рибальство",null,null,null,null,null,null,null,null,null,null,null,null,null,null,null,null,null,null,null,null,null,null,null,null,null,null,null,null,"Автономна Республіка Крим","Богатир"]
["Профінбанк","ПАТ \"ПРОФІН БАНК\"","334594",42024,42114,null,null,null,null,null,null,null,null,null,null,"03.12","Прісноводне рибальство",null,null,null,null,null,null,null,null,null,null,null,null,null,null,null,null,null,null,null,null,null,null,null,null,null,null,null,null,"Автономна Республіка Крим","Богачівка (Магазинська)"]
["Радикал","ПАТ \"РАДИКАЛ БАНК\"","319111",42195,42318,null,null,null,null,null,null,null,null,null,null,"03.2","Рибництво (аквакультура)",null,null,null,null,null,null,null,null,null,null,null,null,null,null,null,null,null,null,null,null,null,null,null,null,null,null,null,null,"Автономна Республіка Крим","Болотне"]
["Реал банк","ПАТ \"РЕАЛ БАНК\"","351588",41701,41780,null,null,null,null,null,null,null,null,null,null,"03.21","Морське рибництво (аквакультура)",null,null,null,null,null,null,null,null,null,null,null,null,null,null,null,null,null,null,null,null,null,null,null,null,null,null,null,null,"Автономна Республіка Крим","Бондаренкове"]
["Смартбанк","ПУАТ «СМАРТБАНК»","380786",42515,42576,null,null,null,null,null,null,null,null,null,null,"03.22","Прісноводне рибництво (аквакультура)",null,null,null,null,null,null,null,null,null,null,null,null,null,null,null,null,null,null,null,null,null,null,null,null,null,null,null,null,"Автономна Республіка Крим","Борисівка"]
["Софіївський","ПАТ \"Банк \"Софійський\"","380861",42361,42485,null,null,null,null,null,null,null,null,null,null,"B","Добувна промисловість і розроблення кар'єрів",null,null,null,null,null,null,null,null,null,null,null,null,null,null,null,null,null,null,null,null,null,null,null,null,null,null,null,null,"Автономна Республіка Крим","Бородіно"]
["Стандарт","ПАТ КБ \"СТАНДАРТ\"","380690",42055,42174,null,null,null,null,null,null,null,null,null,null,"05","Добування кам'яного та бурого вугілля",null,null,null,null,null,null,null,null,null,null,null,null,null,null,null,null,null,null,null,null,null,null,null,null,null,null,null,null,"Автономна Республіка Крим","Ботанічне"]
["Старокиївський","ПАТ \"СТАРОКИЇВСЬКИЙ БАНК\"","321477",41808,41900,null,null,null,null,null,null,null,null,null,null,"05.1","Добування кам'яного вугілля",null,null,null,null,null,null,null,null,null,null,null,null,null,null,null,null,null,null,null,null,null,null,null,null,null,null,null,null,"Автономна Республіка Крим","Братське"]
["Столичний","ПАТ АБ \"СТОЛИЧНИЙ\"","397133",42195,42265,null,null,null,null,null,null,null,null,null,null,"05.10","Добування кам'яного вугілля",null,null,null,null,null,null,null,null,null,null,null,null,null,null,null,null,null,null,null,null,null,null,null,null,null,null,null,null,"Автономна Республіка Крим","Братське (Братської)"]
["Таврика","АТ \"БАНК \"ТАВРИКА\"","300788",41264,41354,null,null,null,null,null,null,null,null,null,null,"05.2","Добування бурого вугілля",null,null,null,null,null,null,null,null,null,null,null,null,null,null,null,null,null,null,null,null,null,null,null,null,null,null,null,null,"Автономна Республіка Крим","Брянське"]
["Терра банк","ПАТ \"ТЕРРА БАНК\"","380601",41873,41997,null,null,null,null,null,null,null,null,null,null,"05.20","Добування бурого вугілля",null,null,null,null,null,null,null,null,null,null,null,null,null,null,null,null,null,null,null,null,null,null,null,null,null,null,null,null,"Автономна Республіка Крим","Буревісник"]
["ТК Кредит","АТ КБ \"ТК Кредит\"","322830",42410,42468,null,null,null,null,null,null,null,null,null,null,"06","Добування сирої нафти та природного газу",null,null,null,null,null,null,null,null,null,null,null,null,null,null,null,null,null,null,null,null,null,null,null,null,null,null,null,null,"Автономна Республіка Крим","Валентинове (Кримська)"]
["ТРАСТ","ПАТ БАНК \"ТРАСТ\"","380474",42711,42734,null,null,null,null,null,null,null,null,null,null,"06.1","Добування сирої нафти",null,null,null,null,null,null,null,null,null,null,null,null,null,null,null,null,null,null,null,null,null,null,null,null,null,null,null,null,"Автономна Республіка Крим","Варварівка"]
["Укоопспілка","АБ \"УКООПСПІЛКА\"","322625",42027,42117,null,null,null,null,null,null,null,null,null,null,"06.10","Добування сирої нафти",null,null,null,null,null,null,null,null,null,null,null,null,null,null,null,null,null,null,null,null,null,null,null,null,null,null,null,null,"Автономна Республіка Крим","Василькове"]
["Укрбізнесбанк","ПАТ \"УКРБІЗНЕСБАНК\"","334969",41999,42118,null,null,null,null,null,null,null,null,null,null,"06.2","Добування природного газу",null,null,null,null,null,null,null,null,null,null,null,null,null,null,null,null,null,null,null,null,null,null,null,null,null,null,null,null,"Автономна Республіка Крим","Велике (Суворовська)"]
["Укргазпромбанк","ПАТ \"УКРГАЗПРОМБАНК\"","320843",42102,42262,null,null,null,null,null,null,null,null,null,null,"06.20","Добування природного газу",null,null,null,null,null,null,null,null,null,null,null,null,null,null,null,null,null,null,null,null,null,null,null,null,null,null,null,null,"Автономна Республіка Крим","Велике Садове (Куйбишевська)"]
["Укрінбанк","ПАТ \"УКРІНБАНК\"","300142",42363,42452,null,null,null,null,null,null,null,null,null,null,"07","Добування металевих руд",null,null,null,null,null,null,null,null,null,null,null,null,null,null,null,null,null,null,null,null,null,null,null,null,null,null,null,null,"Автономна Республіка Крим","Великосілля"]
["Унікомбанк","ПАТ \"УНІКОМБАНК\"","335902",42293,42342,null,null,null,null,null,null,null,null,null,null,"07.1","Добування залізних руд",null,null,null,null,null,null,null,null,null,null,null,null,null,null,null,null,null,null,null,null,null,null,null,null,null,null,null,null,"Автономна Республіка Крим","Вересаєве"]
["УПБ","ПАТ \"УПБ\"","300205",42153,42247,null,null,null,null,null,null,null,null,null,null,"07.10","Добування залізних руд",null,null,null,null,null,null,null,null,null,null,null,null,null,null,null,null,null,null,null,null,null,null,null,null,null,null,null,null,"Автономна Республіка Крим","Верхні Орішники"]
["УФС","ПАТ \"КБ \"УФС\"","377777",41866,41956,null,null,null,null,null,null,null,null,null,null,"07.2","Добування руд кольорових металів",null,null,null,null,null,null,null,null,null,null,null,null,null,null,null,null,null,null,null,null,null,null,null,null,null,null,null,null,"Автономна Республіка Крим","Верхня Кутузовка"]
["ФІДОБАНК","ПУАТ «ФІДОБАНК»","300175",42510,42571,null,null,null,null,null,null,null,null,null,null,"07.21","Добування уранових і торієвих руд",null,null,null,null,null,null,null,null,null,null,null,null,null,null,null,null,null,null,null,null,null,null,null,null,null,null,null,null,"Автономна Республіка Крим","Верхньозаморське"]
["Фінанси та кредит","АТ \"БАНК \"ФІНАНСИ ТА КРЕДИТ\"","300131",42265,42355,null,null,null,null,null,null,null,null,null,null,"07.29","Добування руд інших кольорових металів",null,null,null,null,null,null,null,null,null,null,null,null,null,null,null,null,null,null,null,null,null,null,null,null,null,null,null,null,"Автономна Республіка Крим","Верхньокурганне"]
["ФІНБАНК","ПАТ \"ФІНБАНК\"","328685",42832,42852,null,null,null,null,null,null,null,null,null,null,"08","Добування інших корисних копалин та розроблення кар'єрів",null,null,null,null,null,null,null,null,null,null,null,null,null,null,null,null,null,null,null,null,null,null,null,null,null,null,null,null,"Автономна Республіка Крим","Верхоріччя"]
["Фінростбанк","АТ \"ФІНРОСТБАНК\"","328599",41836,41928,null,null,null,null,null,null,null,null,null,null,"08.1","Добування каменю, піску та глини",null,null,null,null,null,null,null,null,null,null,null,null,null,null,null,null,null,null,null,null,null,null,null,null,null,null,null,null,"Автономна Республіка Крим","Вершинне"]
["ФОРТУНА-БАНК","АТ \"ФОРТУНА-БАНК\"","300904",42762,42788,null,null,null,null,null,null,null,null,null,null,"08.11","Добування декоративного та будівельного каменю, вапняку, гіпсу, крейди та глинистого сланцю",null,null,null,null,null,null,null,null,null,null,null,null,null,null,null,null,null,null,null,null,null,null,null,null,null,null,null,null,"Автономна Республіка Крим","Веселе"]
["Форум","ПАТ \"БАНК ФОРУМ\"","322948",41712,41806,null,null,null,null,null,null,null,null,null,null,"08.12","Добування піску, гравію, глин і каоліну",null,null,null,null,null,null,null,null,null,null,null,null,null,null,null,null,null,null,null,null,null,null,null,null,null,null,null,null,"Автономна Республіка Крим","Веселівка"]
["Хрещатик","ПАТ \"КБ \"Хрещатик\"","300670",42465,42524,null,null,null,null,null,null,null,null,null,null,"08.9","Добування корисних копалин та розроблення кар'єрів, н.в.і.у.",null,null,null,null,null,null,null,null,null,null,null,null,null,null,null,null,null,null,null,null,null,null,null,null,null,null,null,null,"Автономна Республіка Крим","Видне"]
["Юніон стандарт банк","ПАТ \"ЮСБ БАНК\"","305987",42280,42366,null,null,null,null,null,null,null,null,null,null,"08.91","Добування мінеральної сировини для хімічної промисловості та виробництва мінеральних добрив",null,null,null,null,null,null,null,null,null,null,null,null,null,null,null,null,null,null,null,null,null,null,null,null,null,null,null,null,"Автономна Республіка Крим","Виноградне"]
["Новий","ПАТ АКБ Новий",305062,null,null,null,null,null,null,null,null,null,null,null,null,"08.92","Добування торфу",null,null,null,null,null,null,null,null,null,null,null,null,null,null,null,null,null,null,null,null,null,null,null,null,null,null,null,null,"Автономна Республіка Крим","Виноградний"]
[null,null,null,null,null,null,null,null,null,null,null,null,null,null,null,"08.93","Добування солі",null,null,null,null,null,null,null,null,null,null,null,null,null,null,null,null,null,null,null,null,null,null,null,null,null,null,null,null,"Автономна Республіка Крим","Виноградове"]
[null,null,null,null,null,null,null,null,null,null,null,null,null,null,null,"08.99","Добування інших корисних копалин та розроблення кар'єрів, н.в.і.у.",null,null,null,null,null,null,null,null,null,null,null,null,null,null,null,null,null,null,null,null,null,null,null,null,null,null,null,null,"Автономна Республіка Крим","Випасне"]
[null,null,null,null,null,null,null,null,null,null,null,null,null,null,null,"09","Надання допоміжних послуг у сфері добувної промисловості та розроблення кар'єрів",null,null,null,null,null,null,null,null,null,null,null,null,null,null,null,null,null,null,null,null,null,null,null,null,null,null,null,null,"Автономна Республіка Крим","Високогірне"]
[null,null,null,null,null,null,null,null,null,null,null,null,null,null,null,"09.1","Надання допоміжних послуг у сфері добування нафти та природного газу",null,null,null,null,null,null,null,null,null,null,null,null,null,null,null,null,null,null,null,null,null,null,null,null,null,null,null,null,"Автономна Республіка Крим","Вишенне"]
[null,null,null,null,null,null,null,null,null,null,null,null,null,null,null,"09.10","Надання допоміжних послуг у сфері добування нафти та природного газу",null,null,null,null,null,null,null,null,null,null,null,null,null,null,null,null,null,null,null,null,null,null,null,null,null,null,null,null,"Автономна Республіка Крим","Вишнівка (Вишнівської)"]
[null,null,null,null,null,null,null,null,null,null,null,null,null,null,null,"09.9","Надання допоміжних послуг у сфері добування інших корисних копалин та розроблення кар'єрів",null,null,null,null,null,null,null,null,null,null,null,null,null,null,null,null,null,null,null,null,null,null,null,null,null,null,null,null,"Автономна Республіка Крим","Вишняківка"]
[null,null,null,null,null,null,null,null,null,null,null,null,null,null,null,"09.90","Надання допоміжних послуг у сфері добування інших корисних копалин та розроблення кар'єрів",null,null,null,null,null,null,null,null,null,null,null,null,null,null,null,null,null,null,null,null,null,null,null,null,null,null,null,null,"Автономна Республіка Крим","Відважне"]
[null,null,null,null,null,null,null,null,null,null,null,null,null,null,null,"C","Переробна промисловість",null,null,null,null,null,null,null,null,null,null,null,null,null,null,null,null,null,null,null,null,null,null,null,null,null,null,null,null,"Автономна Республіка Крим","Відкрите"]
[null,null,null,null,null,null,null,null,null,null,null,null,null,null,null,"10","Виробництво харчових продуктів",null,null,null,null,null,null,null,null,null,null,null,null,null,null,null,null,null,null,null,null,null,null,null,null,null,null,null,null,"Автономна Республіка Крим","Відрадне"]
[null,null,null,null,null,null,null,null,null,null,null,null,null,null,null,"10.1","Виробництво м'яса та м'ясних продуктів",null,null,null,null,null,null,null,null,null,null,null,null,null,null,null,null,null,null,null,null,null,null,null,null,null,null,null,null,"Автономна Республіка Крим","Відродження"]
[null,null,null,null,null,null,null,null,null,null,null,null,null,null,null,"10.11","Виробництво м'яса",null,null,null,null,null,null,null,null,null,null,null,null,null,null,null,null,null,null,null,null,null,null,null,null,null,null,null,null,"Автономна Республіка Крим","Вікторівка"]
[null,null,null,null,null,null,null,null,null,null,null,null,null,null,null,"10.12","Виробництво м'яса свійської птиці",null,null,null,null,null,null,null,null,null,null,null,null,null,null,null,null,null,null,null,null,null,null,null,null,null,null,null,null,"Автономна Республіка Крим","Віліне"]
[null,null,null,null,null,null,null,null,null,null,null,null,null,null,null,"10.13","Виробництво м'ясних продуктів",null,null,null,null,null,null,null,null,null,null,null,null,null,null,null,null,null,null,null,null,null,null,null,null,null,null,null,null,"Автономна Республіка Крим","Вільне"]
[null,null,null,null,null,null,null,null,null,null,null,null,null,null,null,"10.2","Перероблення та консервування риби, ракоподібних і молюсків",null,null,null,null,null,null,null,null,null,null,null,null,null,null,null,null,null,null,null,null,null,null,null,null,null,null,null,null,"Автономна Республіка Крим","Вітвисте (Єрмаковська)"]
[null,null,null,null,null,null,null,null,null,null,null,null,null,null,null,"10.20","Перероблення та консервування риби, ракоподібних і молюсків",null,null,null,null,null,null,null,null,null,null,null,null,null,null,null,null,null,null,null,null,null,null,null,null,null,null,null,null,"Автономна Республіка Крим","Вітіне"]
[null,null,null,null,null,null,null,null,null,null,null,null,null,null,null,"10.3","Перероблення та консервування фруктів і овочів",null,null,null,null,null,null,null,null,null,null,null,null,null,null,null,null,null,null,null,null,null,null,null,null,null,null,null,null,"Автономна Республіка Крим","Вітрівка (Виноградівська)"]
[null,null,null,null,null,null,null,null,null,null,null,null,null,null,null,"10.31","Перероблення та консервування картоплі",null,null,null,null,null,null,null,null,null,null,null,null,null,null,null,null,null,null,null,null,null,null,null,null,null,null,null,null,"Автономна Республіка Крим","Вітрянка (Ковильнівська сільська рада)"]
[null,null,null,null,null,null,null,null,null,null,null,null,null,null,null,"10.32","Виробництво фруктових і овочевих соків",null,null,null,null,null,null,null,null,null,null,null,null,null,null,null,null,null,null,null,null,null,null,null,null,null,null,null,null,"Автономна Республіка Крим","Владиславівка"]
[null,null,null,null,null,null,null,null,null,null,null,null,null,null,null,"10.39"," Інші види перероблення та консервування фруктів і овочів",null,null,null,null,null,null,null,null,null,null,null,null,null,null,null,null,null,null,null,null,null,null,null,null,null,null,null,null,"Автономна Республіка Крим","Владне"]
[null,null,null,null,null,null,null,null,null,null,null,null,null,null,null,"10.4","Виробництво олії та тваринних жирів",null,null,null,null,null,null,null,null,null,null,null,null,null,null,null,null,null,null,null,null,null,null,null,null,null,null,null,null,"Автономна Республіка Крим","Внукове"]
[null,null,null,null,null,null,null,null,null,null,null,null,null,null,null,"10.41","Виробництво олії та тваринних жирів",null,null,null,null,null,null,null,null,null,null,null,null,null,null,null,null,null,null,null,null,null,null,null,null,null,null,null,null,"Автономна Республіка Крим","Вогневе (Кольцовська)"]
[null,null,null,null,null,null,null,null,null,null,null,null,null,null,null,"10.42","Виробництво маргарину і подібних харчових жирів",null,null,null,null,null,null,null,null,null,null,null,null,null,null,null,null,null,null,null,null,null,null,null,null,null,null,null,null,"Автономна Республіка Крим","Вогні (Кукушкінська сільська рада)"]
[null,null,null,null,null,null,null,null,null,null,null,null,null,null,null,"10.5","Виробництво молочних продуктів",null,null,null,null,null,null,null,null,null,null,null,null,null,null,null,null,null,null,null,null,null,null,null,null,null,null,null,null,"Автономна Республіка Крим","Водне"]
[null,null,null,null,null,null,null,null,null,null,null,null,null,null,null,"10.51","Перероблення молока, виробництво масла та сиру",null,null,null,null,null,null,null,null,null,null,null,null,null,null,null,null,null,null,null,null,null,null,null,null,null,null,null,null,"Автономна Республіка Крим","Водопійне"]
[null,null,null,null,null,null,null,null,null,null,null,null,null,null,null,"10.52","Виробництво морозива",null,null,null,null,null,null,null,null,null,null,null,null,null,null,null,null,null,null,null,null,null,null,null,null,null,null,null,null,"Автономна Республіка Крим","Водопійне (Сизівська)"]
[null,null,null,null,null,null,null,null,null,null,null,null,null,null,null,"10.6","Виробництво продуктів борошномельно-круп'яної промисловості, крохмалів та крохмальних продуктів",null,null,null,null,null,null,null,null,null,null,null,null,null,null,null,null,null,null,null,null,null,null,null,null,null,null,null,null,"Автономна Республіка Крим","Войкове"]
[null,null,null,null,null,null,null,null,null,null,null,null,null,null,null,"10.61","Виробництво продуктів борошномельно-круп'яної промисловості",null,null,null,null,null,null,null,null,null,null,null,null,null,null,null,null,null,null,null,null,null,null,null,null,null,null,null,null,"Автономна Республіка Крим","Воїнка (Воїнська)"]
[null,null,null,null,null,null,null,null,null,null,null,null,null,null,null,"10.62","Виробництво крохмалів та крохмальних продуктів",null,null,null,null,null,null,null,null,null,null,null,null,null,null,null,null,null,null,null,null,null,null,null,null,null,null,null,null,"Автономна Республіка Крим","Володимирівка"]
[null,null,null,null,null,null,null,null,null,null,null,null,null,null,null,"10.7","Виробництво хліба, хлібобулочних і борошняних виробів",null,null,null,null,null,null,null,null,null,null,null,null,null,null,null,null,null,null,null,null,null,null,null,null,null,null,null,null,"Автономна Республіка Крим","Володимирове"]
[null,null,null,null,null,null,null,null,null,null,null,null,null,null,null,"10.71","Виробництво хліба та хлібобулочних виробів; виробництво борошняних кондитерських виробів, тортів і тістечок нетривалого зберігання",null,null,null,null,null,null,null,null,null,null,null,null,null,null,null,null,null,null,null,null,null,null,null,null,null,null,null,null,"Автономна Республіка Крим","Володине"]
[null,null,null,null,null,null,null,null,null,null,null,null,null,null,null,"10.72","Виробництво сухарів і сухого печива; виробництво борошняних кондитерських виробів, тортів і тістечок тривалого зберігання",null,null,null,null,null,null,null,null,null,null,null,null,null,null,null,null,null,null,null,null,null,null,null,null,null,null,null,null,"Автономна Республіка Крим","Волочаївка (Ковильнівська сільська рада)"]
[null,null,null,null,null,null,null,null,null,null,null,null,null,null,null,"10.73","Виробництво макаронних виробів та подібних борошняних виробів",null,null,null,null,null,null,null,null,null,null,null,null,null,null,null,null,null,null,null,null,null,null,null,null,null,null,null,null,"Автономна Республіка Крим","Волошине (Суворівської)"]
[null,null,null,null,null,null,null,null,null,null,null,null,null,null,null,"10.8","Виробництво інших харчових продуктів",null,null,null,null,null,null,null,null,null,null,null,null,null,null,null,null,null,null,null,null,null,null,null,null,null,null,null,null,"Автономна Республіка Крим","Воробйове"]
[null,null,null,null,null,null,null,null,null,null,null,null,null,null,null,"10.81","Виробництво цукру",null,null,null,null,null,null,null,null,null,null,null,null,null,null,null,null,null,null,null,null,null,null,null,null,null,null,null,null,"Автономна Республіка Крим","Ворон"]
[null,null,null,null,null,null,null,null,null,null,null,null,null,null,null,"10.82","Виробництво какао, шоколаду та цукрових кондитерських виробів",null,null,null,null,null,null,null,null,null,null,null,null,null,null,null,null,null,null,null,null,null,null,null,null,null,null,null,null,"Автономна Республіка Крим","Воронки (Зиминська сільська рада)"]
[null,null,null,null,null,null,null,null,null,null,null,null,null,null,null,"10.83","Виробництво чаю та кави",null,null,null,null,null,null,null,null,null,null,null,null,null,null,null,null,null,null,null,null,null,null,null,null,null,null,null,null,"Автономна Республіка Крим","Воронцівка (Ільїнської)"]
[null,null,null,null,null,null,null,null,null,null,null,null,null,null,null,"10.84","Виробництво прянощів і приправ",null,null,null,null,null,null,null,null,null,null,null,null,null,null,null,null,null,null,null,null,null,null,null,null,null,null,null,null,"Автономна Республіка Крим","Восточне"]
[null,null,null,null,null,null,null,null,null,null,null,null,null,null,null,"10.85","Виробництво готової їжі та страв",null,null,null,null,null,null,null,null,null,null,null,null,null,null,null,null,null,null,null,null,null,null,null,null,null,null,null,null,"Автономна Республіка Крим","Восход"]
[null,null,null,null,null,null,null,null,null,null,null,null,null,null,null,"10.86","Виробництво дитячого харчування та дієтичних харчових продуктів",null,null,null,null,null,null,null,null,null,null,null,null,null,null,null,null,null,null,null,null,null,null,null,null,null,null,null,null,"Автономна Республіка Крим","Вузлове"]
[null,null,null,null,null,null,null,null,null,null,null,null,null,null,null,"10.89","Виробництво інших харчових продуктів, н.в.і.у.",null,null,null,null,null,null,null,null,null,null,null,null,null,null,null,null,null,null,null,null,null,null,null,null,null,null,null,null,"Автономна Республіка Крим","Вулканівка"]
[null,null,null,null,null,null,null,null,null,null,null,null,null,null,null,"10.9","Виробництво готових кормів для тварин",null,null,null,null,null,null,null,null,null,null,null,null,null,null,null,null,null,null,null,null,null,null,null,null,null,null,null,null,"Автономна Республіка Крим","В'язникове"]
[null,null,null,null,null,null,null,null,null,null,null,null,null,null,null,"10.91","Виробництво готових кормів для тварин, що утримуються на фермах",null,null,null,null,null,null,null,null,null,null,null,null,null,null,null,null,null,null,null,null,null,null,null,null,null,null,null,null,"Автономна Республіка Крим","Гаршине"]
[null,null,null,null,null,null,null,null,null,null,null,null,null,null,null,"10.92","Виробництво готових кормів для домашніх тварин",null,null,null,null,null,null,null,null,null,null,null,null,null,null,null,null,null,null,null,null,null,null,null,null,null,null,null,null,"Автономна Республіка Крим","Гаспра"]
[null,null,null,null,null,null,null,null,null,null,null,null,null,null,null,"11","Виробництво напоїв",null,null,null,null,null,null,null,null,null,null,null,null,null,null,null,null,null,null,null,null,null,null,null,null,null,null,null,null,"Автономна Республіка Крим","Гвардійське (Гвардійської)"]
[null,null,null,null,null,null,null,null,null,null,null,null,null,null,null,"11.0","Виробництво напоїв",null,null,null,null,null,null,null,null,null,null,null,null,null,null,null,null,null,null,null,null,null,null,null,null,null,null,null,null,"Автономна Республіка Крим","Генеральське"]
[null,null,null,null,null,null,null,null,null,null,null,null,null,null,null,"11.01","Дистиляція, ректифікація та змішування спиртних напоїв",null,null,null,null,null,null,null,null,null,null,null,null,null,null,null,null,null,null,null,null,null,null,null,null,null,null,null,null,"Автономна Республіка Крим","Геройське"]
[null,null,null,null,null,null,null,null,null,null,null,null,null,null,null,"11.02","Виробництво виноградних вин",null,null,null,null,null,null,null,null,null,null,null,null,null,null,null,null,null,null,null,null,null,null,null,null,null,null,null,null,"Автономна Республіка Крим","Гірне"]
[null,null,null,null,null,null,null,null,null,null,null,null,null,null,null,"11.03","Виробництво сидру та інших плодово-ягідних вин",null,null,null,null,null,null,null,null,null,null,null,null,null,null,null,null,null,null,null,null,null,null,null,null,null,null,null,null,"Автономна Республіка Крим","Глазівка"]
[null,null,null,null,null,null,null,null,null,null,null,null,null,null,null,"11.04","Виробництво інших недистильованих напоїв із зброджуваних продуктів",null,null,null,null,null,null,null,null,null,null,null,null,null,null,null,null,null,null,null,null,null,null,null,null,null,null,null,null,"Автономна Республіка Крим","Глибокий Яр"]
[null,null,null,null,null,null,null,null,null,null,null,null,null,null,null,"11.05","Виробництво пива",null,null,null,null,null,null,null,null,null,null,null,null,null,null,null,null,null,null,null,null,null,null,null,null,null,null,null,null,"Автономна Республіка Крим","Глінка (Вересаєвська сільська рада)"]
[null,null,null,null,null,null,null,null,null,null,null,null,null,null,null,"11.06","Виробництво солоду",null,null,null,null,null,null,null,null,null,null,null,null,null,null,null,null,null,null,null,null,null,null,null,null,null,null,null,null,"Автономна Республіка Крим","Голованівка"]
[null,null,null,null,null,null,null,null,null,null,null,null,null,null,null,"11.07","Виробництво безалкогольних напоїв; виробництво мінеральних вод та інших вод, розлитих у пляшки",null,null,null,null,null,null,null,null,null,null,null,null,null,null,null,null,null,null,null,null,null,null,null,null,null,null,null,null,"Автономна Республіка Крим","Голуба Затока"]
[null,null,null,null,null,null,null,null,null,null,null,null,null,null,null,"12","Виробництво тютюнових виробів",null,null,null,null,null,null,null,null,null,null,null,null,null,null,null,null,null,null,null,null,null,null,null,null,null,null,null,null,"Автономна Республіка Крим","Голубинка"]
[null,null,null,null,null,null,null,null,null,null,null,null,null,null,null,"12.0","Виробництво тютюнових виробів",null,null,null,null,null,null,null,null,null,null,null,null,null,null,null,null,null,null,null,null,null,null,null,null,null,null,null,null,"Автономна Республіка Крим","Горлинка"]
[null,null,null,null,null,null,null,null,null,null,null,null,null,null,null,"12.00","Виробництво тютюнових виробів",null,null,null,null,null,null,null,null,null,null,null,null,null,null,null,null,null,null,null,null,null,null,null,null,null,null,null,null,"Автономна Республіка Крим","Горностаївка"]
[null,null,null,null,null,null,null,null,null,null,null,null,null,null,null,"13","Текстильне виробництво",null,null,null,null,null,null,null,null,null,null,null,null,null,null,null,null,null,null,null,null,null,null,null,null,null,null,null,null,"Автономна Республіка Крим","Городнє (Руч'ївська сільська рада)"]
[null,null,null,null,null,null,null,null,null,null,null,null,null,null,null,"13.1","Підготування та прядіння текстильних волокон",null,null,null,null,null,null,null,null,null,null,null,null,null,null,null,null,null,null,null,null,null,null,null,null,null,null,null,null,"Автономна Республіка Крим","Гресівський"]
[null,null,null,null,null,null,null,null,null,null,null,null,null,null,null,"13.10","Підготування та прядіння текстильних волокон",null,null,null,null,null,null,null,null,null,null,null,null,null,null,null,null,null,null,null,null,null,null,null,null,null,null,null,null,"Автономна Республіка Крим","Григорівка"]
[null,null,null,null,null,null,null,null,null,null,null,null,null,null,null,"13.2","Ткацьке виробництво",null,null,null,null,null,null,null,null,null,null,null,null,null,null,null,null,null,null,null,null,null,null,null,null,null,null,null,null,"Автономна Республіка Крим","Гришине (Гришинської)"]
[null,null,null,null,null,null,null,null,null,null,null,null,null,null,null,"13.20","Ткацьке виробництво",null,null,null,null,null,null,null,null,null,null,null,null,null,null,null,null,null,null,null,null,null,null,null,null,null,null,null,null,"Автономна Республіка Крим","Громівка"]
[null,null,null,null,null,null,null,null,null,null,null,null,null,null,null,"13.3","Оздоблення текстильних виробів",null,null,null,null,null,null,null,null,null,null,null,null,null,null,null,null,null,null,null,null,null,null,null,null,null,null,null,null,"Автономна Республіка Крим","Громове"]
[null,null,null,null,null,null,null,null,null,null,null,null,null,null,null,"13.30","Оздоблення текстильних виробів",null,null,null,null,null,null,null,null,null,null,null,null,null,null,null,null,null,null,null,null,null,null,null,null,null,null,null,null,"Автономна Республіка Крим","Громовка"]
[null,null,null,null,null,null,null,null,null,null,null,null,null,null,null,"13.9","Виробництво інших текстильних виробів",null,null,null,null,null,null,null,null,null,null,null,null,null,null,null,null,null,null,null,null,null,null,null,null,null,null,null,null,"Автономна Республіка Крим","Грушеве"]
[null,null,null,null,null,null,null,null,null,null,null,null,null,null,null,"13.91","Виробництво трикотажного полотна",null,null,null,null,null,null,null,null,null,null,null,null,null,null,null,null,null,null,null,null,null,null,null,null,null,null,null,null,"Автономна Республіка Крим","Грушівка"]
[null,null,null,null,null,null,null,null,null,null,null,null,null,null,null,"13.92","Виробництво готових текстильних виробів, крім одягу",null,null,null,null,null,null,null,null,null,null,null,null,null,null,null,null,null,null,null,null,null,null,null,null,null,null,null,null,"Автономна Республіка Крим","Гурзуф"]
[null,null,null,null,null,null,null,null,null,null,null,null,null,null,null,"13.93","Виробництво килимів і килимових виробів",null,null,null,null,null,null,null,null,null,null,null,null,null,null,null,null,null,null,null,null,null,null,null,null,null,null,null,null,"Автономна Республіка Крим","Давидове"]
[null,null,null,null,null,null,null,null,null,null,null,null,null,null,null,"13.94","Виробництво канатів, мотузок, шпагату та сіток",null,null,null,null,null,null,null,null,null,null,null,null,null,null,null,null,null,null,null,null,null,null,null,null,null,null,null,null,"Автономна Республіка Крим","Далеке"]
[null,null,null,null,null,null,null,null,null,null,null,null,null,null,null,"13.95","Виробництво нетканих текстильних матеріалів та виробів із них, крім одягу",null,null,null,null,null,null,null,null,null,null,null,null,null,null,null,null,null,null,null,null,null,null,null,null,null,null,null,null,"Автономна Республіка Крим","Данилівка"]
[null,null,null,null,null,null,null,null,null,null,null,null,null,null,null,"13.96","Виробництво інших текстильних виробів технічного та промислового призначення",null,null,null,null,null,null,null,null,null,null,null,null,null,null,null,null,null,null,null,null,null,null,null,null,null,null,null,null,"Автономна Республіка Крим","Дачне"]
[null,null,null,null,null,null,null,null,null,null,null,null,null,null,null,"13.99","Виробництво інших текстильних виробів, н.в.і.у.",null,null,null,null,null,null,null,null,null,null,null,null,null,null,null,null,null,null,null,null,null,null,null,null,null,null,null,null,"Автономна Республіка Крим","Дворіччя"]
[null,null,null,null,null,null,null,null,null,null,null,null,null,null,null,"14","Виробництво одягу",null,null,null,null,null,null,null,null,null,null,null,null,null,null,null,null,null,null,null,null,null,null,null,null,null,null,null,null,"Автономна Республіка Крим","Дворове"]
[null,null,null,null,null,null,null,null,null,null,null,null,null,null,null,"14.1","Виробництво одягу, крім хутряного",null,null,null,null,null,null,null,null,null,null,null,null,null,null,null,null,null,null,null,null,null,null,null,null,null,null,null,null,"Автономна Республіка Крим","Дем'янівка"]
[null,null,null,null,null,null,null,null,null,null,null,null,null,null,null,"14.11","Виробництво одягу зі шкіри",null,null,null,null,null,null,null,null,null,null,null,null,null,null,null,null,null,null,null,null,null,null,null,null,null,null,null,null,"Автономна Республіка Крим","Денисівка"]
[null,null,null,null,null,null,null,null,null,null,null,null,null,null,null,"14.12","Виробництво робочого одягу",null,null,null,null,null,null,null,null,null,null,null,null,null,null,null,null,null,null,null,null,null,null,null,null,null,null,null,null,"Автономна Республіка Крим","Джанкой"]
[null,null,null,null,null,null,null,null,null,null,null,null,null,null,null,"14.13","Виробництво іншого верхнього одягу",null,null,null,null,null,null,null,null,null,null,null,null,null,null,null,null,null,null,null,null,null,null,null,null,null,null,null,null,"Автономна Республіка Крим","Дивне"]
[null,null,null,null,null,null,null,null,null,null,null,null,null,null,null,"14.14","Виробництво спіднього одягу",null,null,null,null,null,null,null,null,null,null,null,null,null,null,null,null,null,null,null,null,null,null,null,null,null,null,null,null,"Автономна Республіка Крим","Дібрівка"]
[null,null,null,null,null,null,null,null,null,null,null,null,null,null,null,"14.19","Виробництво іншого одягу й аксесуарів",null,null,null,null,null,null,null,null,null,null,null,null,null,null,null,null,null,null,null,null,null,null,null,null,null,null,null,null,"Автономна Республіка Крим","Дібрівське"]
[null,null,null,null,null,null,null,null,null,null,null,null,null,null,null,"14.2","Виготовлення виробів із хутра",null,null,null,null,null,null,null,null,null,null,null,null,null,null,null,null,null,null,null,null,null,null,null,null,null,null,null,null,"Автономна Республіка Крим","Дмитрівка"]
[null,null,null,null,null,null,null,null,null,null,null,null,null,null,null,"14.20","Виготовлення виробів із хутра",null,null,null,null,null,null,null,null,null,null,null,null,null,null,null,null,null,null,null,null,null,null,null,null,null,null,null,null,"Автономна Республіка Крим","Дмитрівка (Войковське)"]
[null,null,null,null,null,null,null,null,null,null,null,null,null,null,null,"14.3","Виробництво трикотажного та в'язаного одягу",null,null,null,null,null,null,null,null,null,null,null,null,null,null,null,null,null,null,null,null,null,null,null,null,null,null,null,null,"Автономна Республіка Крим","Дмитрове"]
[null,null,null,null,null,null,null,null,null,null,null,null,null,null,null,"14.31","Виробництво панчішно-шкарпеткових виробів",null,null,null,null,null,null,null,null,null,null,null,null,null,null,null,null,null,null,null,null,null,null,null,null,null,null,null,null,"Автономна Республіка Крим","Дніпровка"]
[null,null,null,null,null,null,null,null,null,null,null,null,null,null,null,"14.39","Виробництво іншого трикотажного та в'язаного одягу",null,null,null,null,null,null,null,null,null,null,null,null,null,null,null,null,null,null,null,null,null,null,null,null,null,null,null,null,"Автономна Республіка Крим","Добре"]
[null,null,null,null,null,null,null,null,null,null,null,null,null,null,null,"15","Виробництво шкіри, виробів зі шкіри та інших матеріалів",null,null,null,null,null,null,null,null,null,null,null,null,null,null,null,null,null,null,null,null,null,null,null,null,null,null,null,null,"Автономна Республіка Крим","Добролюбовка"]
[null,null,null,null,null,null,null,null,null,null,null,null,null,null,null,"15.1","Дублення шкур і оздоблення шкіри; виробництво дорожніх виробів, сумок, лимарно-сідельних виробів; вичинка та фарбування хутра",null,null,null,null,null,null,null,null,null,null,null,null,null,null,null,null,null,null,null,null,null,null,null,null,null,null,null,null,"Автономна Республіка Крим","Добрушине"]
[null,null,null,null,null,null,null,null,null,null,null,null,null,null,null,"15.11","Дублення шкур і оздоблення шкіри; вичинка та фарбування хутра",null,null,null,null,null,null,null,null,null,null,null,null,null,null,null,null,null,null,null,null,null,null,null,null,null,null,null,null,"Автономна Республіка Крим","Дозорне"]
[null,null,null,null,null,null,null,null,null,null,null,null,null,null,null,"15.12","Виробництво дорожніх виробів, сумок, лимарно-сідельних виробів зі шкіри та інших матеріалів",null,null,null,null,null,null,null,null,null,null,null,null,null,null,null,null,null,null,null,null,null,null,null,null,null,null,null,null,"Автономна Республіка Крим","Докучаєве"]
[null,null,null,null,null,null,null,null,null,null,null,null,null,null,null,"15.2","Виробництво взуття",null,null,null,null,null,null,null,null,null,null,null,null,null,null,null,null,null,null,null,null,null,null,null,null,null,null,null,null,"Автономна Республіка Крим","Долинівка"]
[null,null,null,null,null,null,null,null,null,null,null,null,null,null,null,"15.20","Виробництво взуття",null,null,null,null,null,null,null,null,null,null,null,null,null,null,null,null,null,null,null,null,null,null,null,null,null,null,null,null,"Автономна Республіка Крим","Долинка (Митяївська)"]
[null,null,null,null,null,null,null,null,null,null,null,null,null,null,null,"16","Оброблення деревини та виготовлення виробів з деревини та корка, крім меблів; виготовлення виробів із соломки та рослинних матеріалів для плетіння",null,null,null,null,null,null,null,null,null,null,null,null,null,null,null,null,null,null,null,null,null,null,null,null,null,null,null,null,"Автономна Республіка Крим","Долинка (Новопавлівської)"]
[null,null,null,null,null,null,null,null,null,null,null,null,null,null,null,"16.1","Лісопильне та стругальне виробництво",null,null,null,null,null,null,null,null,null,null,null,null,null,null,null,null,null,null,null,null,null,null,null,null,null,null,null,null,"Автономна Республіка Крим","Долинне"]
[null,null,null,null,null,null,null,null,null,null,null,null,null,null,null,"16.10","Лісопильне та стругальне виробництво",null,null,null,null,null,null,null,null,null,null,null,null,null,null,null,null,null,null,null,null,null,null,null,null,null,null,null,null,"Автономна Республіка Крим","Донське"]
[null,null,null,null,null,null,null,null,null,null,null,null,null,null,null,"16.2","Виготовлення виробів з деревини, корка, соломки та рослинних матеріалів для плетіння",null,null,null,null,null,null,null,null,null,null,null,null,null,null,null,null,null,null,null,null,null,null,null,null,null,null,null,null,"Автономна Республіка Крим","Дорожнє"]
[null,null,null,null,null,null,null,null,null,null,null,null,null,null,null,"16.21","Виробництво фанери, дерев'яних плит і панелей, шпону",null,null,null,null,null,null,null,null,null,null,null,null,null,null,null,null,null,null,null,null,null,null,null,null,null,null,null,null,"Автономна Республіка Крим","Доходне"]
[null,null,null,null,null,null,null,null,null,null,null,null,null,null,null,"16.22","Виробництво щитового паркету",null,null,null,null,null,null,null,null,null,null,null,null,null,null,null,null,null,null,null,null,null,null,null,null,null,null,null,null,"Автономна Республіка Крим","Дрофине"]
[null,null,null,null,null,null,null,null,null,null,null,null,null,null,null,"16.23","Виробництво інших дерев'яних будівельних конструкцій і столярних виробів",null,null,null,null,null,null,null,null,null,null,null,null,null,null,null,null,null,null,null,null,null,null,null,null,null,null,null,null,"Автономна Республіка Крим","Дружне"]
[null,null,null,null,null,null,null,null,null,null,null,null,null,null,null,"16.24","Виробництво дерев'яної тари",null,null,null,null,null,null,null,null,null,null,null,null,null,null,null,null,null,null,null,null,null,null,null,null,null,null,null,null,"Автономна Республіка Крим","Дубки"]
[null,null,null,null,null,null,null,null,null,null,null,null,null,null,null,"16.29","Виробництво інших виробів з деревини; виготовлення виробів з корка, соломки та рослинних матеріалів для плетіння",null,null,null,null,null,null,null,null,null,null,null,null,null,null,null,null,null,null,null,null,null,null,null,null,null,null,null,null,"Автономна Республіка Крим","Дятлівка"]
[null,null,null,null,null,null,null,null,null,null,null,null,null,null,null,"17","Виробництво паперу та паперових виробів",null,null,null,null,null,null,null,null,null,null,null,null,null,null,null,null,null,null,null,null,null,null,null,null,null,null,null,null,"Автономна Республіка Крим","Євпаторія"]
[null,null,null,null,null,null,null,null,null,null,null,null,null,null,null,"17.1","Виробництво паперової маси, паперу та картону",null,null,null,null,null,null,null,null,null,null,null,null,null,null,null,null,null,null,null,null,null,null,null,null,null,null,null,null,"Автономна Республіка Крим","Єгорове"]
[null,null,null,null,null,null,null,null,null,null,null,null,null,null,null,"17.11","Виробництво паперової маси",null,null,null,null,null,null,null,null,null,null,null,null,null,null,null,null,null,null,null,null,null,null,null,null,null,null,null,null,"Автономна Республіка Крим","Єлизаветове"]
[null,null,null,null,null,null,null,null,null,null,null,null,null,null,null,"17.12","Виробництво паперу та картону",null,null,null,null,null,null,null,null,null,null,null,null,null,null,null,null,null,null,null,null,null,null,null,null,null,null,null,null,"Автономна Республіка Крим","Єрмакове"]
[null,null,null,null,null,null,null,null,null,null,null,null,null,null,null,"17.2","Виготовлення виробів з паперу та картону",null,null,null,null,null,null,null,null,null,null,null,null,null,null,null,null,null,null,null,null,null,null,null,null,null,null,null,null,"Автономна Республіка Крим","Єрофєєве"]
[null,null,null,null,null,null,null,null,null,null,null,null,null,null,null,"17.21","Виробництво гофрованого паперу та картону, паперової та картонної тари",null,null,null,null,null,null,null,null,null,null,null,null,null,null,null,null,null,null,null,null,null,null,null,null,null,null,null,null,"Автономна Республіка Крим","Жайворонки"]
[null,null,null,null,null,null,null,null,null,null,null,null,null,null,null,"17.22","Виробництво паперових виробів господарсько-побутового та санітарно-гігієнічного призначення",null,null,null,null,null,null,null,null,null,null,null,null,null,null,null,null,null,null,null,null,null,null,null,null,null,null,null,null,"Автономна Республіка Крим","Желябовка"]
[null,null,null,null,null,null,null,null,null,null,null,null,null,null,null,"17.23","Виробництво паперових канцелярських  виробів",null,null,null,null,null,null,null,null,null,null,null,null,null,null,null,null,null,null,null,null,null,null,null,null,null,null,null,null,"Автономна Республіка Крим","Жемчужина"]
[null,null,null,null,null,null,null,null,null,null,null,null,null,null,null,"17.24","Виробництво шпалер",null,null,null,null,null,null,null,null,null,null,null,null,null,null,null,null,null,null,null,null,null,null,null,null,null,null,null,null,"Автономна Республіка Крим","Жемчужина Криму"]
[null,null,null,null,null,null,null,null,null,null,null,null,null,null,null,"17.29","Виробництво інших виробів з паперу та картону",null,null,null,null,null,null,null,null,null,null,null,null,null,null,null,null,null,null,null,null,null,null,null,null,null,null,null,null,"Автономна Республіка Крим","Живописне"]
[null,null,null,null,null,null,null,null,null,null,null,null,null,null,null,"18","Поліграфічна діяльність, тиражування записаної інформації",null,null,null,null,null,null,null,null,null,null,null,null,null,null,null,null,null,null,null,null,null,null,null,null,null,null,null,null,"Автономна Республіка Крим","Жилине"]
[null,null,null,null,null,null,null,null,null,null,null,null,null,null,null,"18.1","Поліграфічна діяльність і надання пов'язаних із нею послуг",null,null,null,null,null,null,null,null,null,null,null,null,null,null,null,null,null,null,null,null,null,null,null,null,null,null,null,null,"Автономна Республіка Крим","Жовтокам'янка (Суворовська)"]
[null,null,null,null,null,null,null,null,null,null,null,null,null,null,null,"18.11","Друкування газет",null,null,null,null,null,null,null,null,null,null,null,null,null,null,null,null,null,null,null,null,null,null,null,null,null,null,null,null,"Автономна Республіка Крим","Журавки"]
[null,null,null,null,null,null,null,null,null,null,null,null,null,null,null,"18.12","Друкування іншої продукції",null,null,null,null,null,null,null,null,null,null,null,null,null,null,null,null,null,null,null,null,null,null,null,null,null,null,null,null,"Автономна Республіка Крим","Журавлі"]
[null,null,null,null,null,null,null,null,null,null,null,null,null,null,null,"18.13","Виготовлення друкарських форм і надання інших поліграфічних послуг",null,null,null,null,null,null,null,null,null,null,null,null,null,null,null,null,null,null,null,null,null,null,null,null,null,null,null,null,"Автономна Республіка Крим","Журавлівка"]
[null,null,null,null,null,null,null,null,null,null,null,null,null,null,null,"18.14","Брошурувально-палітурна діяльність і надання пов'язаних із нею послуг",null,null,null,null,null,null,null,null,null,null,null,null,null,null,null,null,null,null,null,null,null,null,null,null,null,null,null,null,"Автономна Республіка Крим","Завіт-Ленінський"]
[null,null,null,null,null,null,null,null,null,null,null,null,null,null,null,"18.2","Тиражування звуко-, відеозаписів і програмного забезпечення",null,null,null,null,null,null,null,null,null,null,null,null,null,null,null,null,null,null,null,null,null,null,null,null,null,null,null,null,"Автономна Республіка Крим","Завітне"]
[null,null,null,null,null,null,null,null,null,null,null,null,null,null,null,"18.20","Тиражування звуко-, відеозаписів і програмного забезпечення",null,null,null,null,null,null,null,null,null,null,null,null,null,null,null,null,null,null,null,null,null,null,null,null,null,null,null,null,"Автономна Республіка Крим","Заводське"]
[null,null,null,null,null,null,null,null,null,null,null,null,null,null,null,"19","Виробництво коксу та продуктів нафтоперероблення",null,null,null,null,null,null,null,null,null,null,null,null,null,null,null,null,null,null,null,null,null,null,null,null,null,null,null,null,"Автономна Республіка Крим","Задорне"]
[null,null,null,null,null,null,null,null,null,null,null,null,null,null,null,"19.1","Виробництво коксу та коксопродуктів",null,null,null,null,null,null,null,null,null,null,null,null,null,null,null,null,null,null,null,null,null,null,null,null,null,null,null,null,"Автономна Республіка Крим","Зайцеве"]
[null,null,null,null,null,null,null,null,null,null,null,null,null,null,null,"19.10","Виробництво коксу та коксопродуктів",null,null,null,null,null,null,null,null,null,null,null,null,null,null,null,null,null,null,null,null,null,null,null,null,null,null,null,null,"Автономна Республіка Крим","Заливне"]
[null,null,null,null,null,null,null,null,null,null,null,null,null,null,null,"19.2","Виробництво продуктів нафтоперероблення",null,null,null,null,null,null,null,null,null,null,null,null,null,null,null,null,null,null,null,null,null,null,null,null,null,null,null,null,"Автономна Республіка Крим","Залізничне"]
[null,null,null,null,null,null,null,null,null,null,null,null,null,null,null,"19.20","Виробництво продуктів нафтоперероблення",null,null,null,null,null,null,null,null,null,null,null,null,null,null,null,null,null,null,null,null,null,null,null,null,null,null,null,null,"Автономна Республіка Крим","Залісне"]
[null,null,null,null,null,null,null,null,null,null,null,null,null,null,null,"20","Виробництво хімічних речовин і хімічної продукції",null,null,null,null,null,null,null,null,null,null,null,null,null,null,null,null,null,null,null,null,null,null,null,null,null,null,null,null,"Автономна Республіка Крим","Залісся"]
[null,null,null,null,null,null,null,null,null,null,null,null,null,null,null,"20.1","Виробництво основної хімічної продукції, добрив і азотних сполук, пластмас і синтетичного каучуку в первинних формах",null,null,null,null,null,null,null,null,null,null,null,null,null,null,null,null,null,null,null,null,null,null,null,null,null,null,null,null,"Автономна Республіка Крим","Заозерне"]
[null,null,null,null,null,null,null,null,null,null,null,null,null,null,null,"20.11","Виробництво промислових газів",null,null,null,null,null,null,null,null,null,null,null,null,null,null,null,null,null,null,null,null,null,null,null,null,null,null,null,null,"Автономна Республіка Крим","Запрудне"]
[null,null,null,null,null,null,null,null,null,null,null,null,null,null,null,"20.12","Виробництво барвників і пігментів",null,null,null,null,null,null,null,null,null,null,null,null,null,null,null,null,null,null,null,null,null,null,null,null,null,null,null,null,"Автономна Республіка Крим","Зарічне"]
[null,null,null,null,null,null,null,null,null,null,null,null,null,null,null,"20.13","Виробництво інших основних неорганічних хімічних речовин",null,null,null,null,null,null,null,null,null,null,null,null,null,null,null,null,null,null,null,null,null,null,null,null,null,null,null,null,"Автономна Республіка Крим","Заріччя"]
[null,null,null,null,null,null,null,null,null,null,null,null,null,null,null,"20.14","Виробництво інших основних органічних хімічних речовин",null,null,null,null,null,null,null,null,null,null,null,null,null,null,null,null,null,null,null,null,null,null,null,null,null,null,null,null,"Автономна Республіка Крим","Затишне"]
[null,null,null,null,null,null,null,null,null,null,null,null,null,null,null,"20.15","Виробництво добрив і азотних сполук",null,null,null,null,null,null,null,null,null,null,null,null,null,null,null,null,null,null,null,null,null,null,null,null,null,null,null,null,"Автономна Республіка Крим","Звіздне"]
[null,null,null,null,null,null,null,null,null,null,null,null,null,null,null,"20.16","Виробництво пластмас у первинних формах",null,null,null,null,null,null,null,null,null,null,null,null,null,null,null,null,null,null,null,null,null,null,null,null,null,null,null,null,"Автономна Республіка Крим","Зелена Нива (Вишнівської)"]
[null,null,null,null,null,null,null,null,null,null,null,null,null,null,null,"20.17","Виробництво синтетичного каучуку в первинних формах",null,null,null,null,null,null,null,null,null,null,null,null,null,null,null,null,null,null,null,null,null,null,null,null,null,null,null,null,"Автономна Республіка Крим","Зелене"]
[null,null,null,null,null,null,null,null,null,null,null,null,null,null,null,"20.2","Виробництво пестицидів та іншої агрохімічної продукції",null,null,null,null,null,null,null,null,null,null,null,null,null,null,null,null,null,null,null,null,null,null,null,null,null,null,null,null,"Автономна Республіка Крим","Зелений Яр"]
[null,null,null,null,null,null,null,null,null,null,null,null,null,null,null,"20.20","Виробництво пестицидів та іншої агрохімічної продукції",null,null,null,null,null,null,null,null,null,null,null,null,null,null,null,null,null,null,null,null,null,null,null,null,null,null,null,null,"Автономна Республіка Крим","Зеленогірське"]
[null,null,null,null,null,null,null,null,null,null,null,null,null,null,null,"20.3","Виробництво фарб, лаків і подібної продукції, друкарської фарби та мастик",null,null,null,null,null,null,null,null,null,null,null,null,null,null,null,null,null,null,null,null,null,null,null,null,null,null,null,null,"Автономна Республіка Крим","Зеленогір'я"]
[null,null,null,null,null,null,null,null,null,null,null,null,null,null,null,"20.30","Виробництво фарб, лаків і подібної продукції, друкарської фарби та мастик",null,null,null,null,null,null,null,null,null,null,null,null,null,null,null,null,null,null,null,null,null,null,null,null,null,null,null,null,"Автономна Республіка Крим","Земляничне"]
[null,null,null,null,null,null,null,null,null,null,null,null,null,null,null,"20.4","Виробництво мила та мийних засобів, засобів для чищення та полірування, парфумних і косметичних засобів",null,null,null,null,null,null,null,null,null,null,null,null,null,null,null,null,null,null,null,null,null,null,null,null,null,null,null,null,"Автономна Республіка Крим","Зернове"]
[null,null,null,null,null,null,null,null,null,null,null,null,null,null,null,"20.41","Виробництво мила та мийних засобів, засобів для чищення та полірування",null,null,null,null,null,null,null,null,null,null,null,null,null,null,null,null,null,null,null,null,null,null,null,null,null,null,null,null,"Автономна Республіка Крим","Зибини"]
[null,null,null,null,null,null,null,null,null,null,null,null,null,null,null,"20.42","Виробництво парфумних і косметичних засобів",null,null,null,null,null,null,null,null,null,null,null,null,null,null,null,null,null,null,null,null,null,null,null,null,null,null,null,null,"Автономна Республіка Крим","Зимине"]
[null,null,null,null,null,null,null,null,null,null,null,null,null,null,null,"20.5","Виробництво іншої хімічної продукції",null,null,null,null,null,null,null,null,null,null,null,null,null,null,null,null,null,null,null,null,null,null,null,null,null,null,null,null,"Автономна Республіка Крим","Знам'янка"]
[null,null,null,null,null,null,null,null,null,null,null,null,null,null,null,"20.51","Виробництво вибухових речовин",null,null,null,null,null,null,null,null,null,null,null,null,null,null,null,null,null,null,null,null,null,null,null,null,null,null,null,null,"Автономна Республіка Крим","Знам'янка (Орлівської)"]
[null,null,null,null,null,null,null,null,null,null,null,null,null,null,null,"20.52","Виробництво клеїв",null,null,null,null,null,null,null,null,null,null,null,null,null,null,null,null,null,null,null,null,null,null,null,null,null,null,null,null,"Автономна Республіка Крим","Знам'янське"]
[null,null,null,null,null,null,null,null,null,null,null,null,null,null,null,"20.53","Виробництво ефірних олій",null,null,null,null,null,null,null,null,null,null,null,null,null,null,null,null,null,null,null,null,null,null,null,null,null,null,null,null,"Автономна Республіка Крим","Золоте"]
[null,null,null,null,null,null,null,null,null,null,null,null,null,null,null,"20.59","Виробництво іншої хімічної продукції, н.в.і.у.",null,null,null,null,null,null,null,null,null,null,null,null,null,null,null,null,null,null,null,null,null,null,null,null,null,null,null,null,"Автономна Республіка Крим","Золоте  Поле"]
[null,null,null,null,null,null,null,null,null,null,null,null,null,null,null,"20.6","Виробництво штучних і синтетичних волокон",null,null,null,null,null,null,null,null,null,null,null,null,null,null,null,null,null,null,null,null,null,null,null,null,null,null,null,null,"Автономна Республіка Крим","Зоркіне"]
[null,null,null,null,null,null,null,null,null,null,null,null,null,null,null,"20.60","Виробництво штучних і синтетичних волокон",null,null,null,null,null,null,null,null,null,null,null,null,null,null,null,null,null,null,null,null,null,null,null,null,null,null,null,null,"Автономна Республіка Крим","Зоря"]
[null,null,null,null,null,null,null,null,null,null,null,null,null,null,null,"21","Виробництво основних фармацевтичних продуктів і фармацевтичних препаратів",null,null,null,null,null,null,null,null,null,null,null,null,null,null,null,null,null,null,null,null,null,null,null,null,null,null,null,null,"Автономна Республіка Крим","Зоряне"]
[null,null,null,null,null,null,null,null,null,null,null,null,null,null,null,"21.1","Виробництво основних фармацевтичних продуктів",null,null,null,null,null,null,null,null,null,null,null,null,null,null,null,null,null,null,null,null,null,null,null,null,null,null,null,null,"Автономна Республіка Крим","Зубакіне"]
[null,null,null,null,null,null,null,null,null,null,null,null,null,null,null,"21.10","Виробництво основних фармацевтичних продуктів",null,null,null,null,null,null,null,null,null,null,null,null,null,null,null,null,null,null,null,null,null,null,null,null,null,null,null,null,"Автономна Республіка Крим","Зуя"]
[null,null,null,null,null,null,null,null,null,null,null,null,null,null,null,"21.2","Виробництво фармацевтичних препаратів і матеріалів",null,null,null,null,null,null,null,null,null,null,null,null,null,null,null,null,null,null,null,null,null,null,null,null,null,null,null,null,"Автономна Республіка Крим","Іванівка"]
[null,null,null,null,null,null,null,null,null,null,null,null,null,null,null,"21.20","Виробництво фармацевтичних препаратів і матеріалів",null,null,null,null,null,null,null,null,null,null,null,null,null,null,null,null,null,null,null,null,null,null,null,null,null,null,null,null,"Автономна Республіка Крим","Ізвесткове"]
[null,null,null,null,null,null,null,null,null,null,null,null,null,null,null,"22","Виробництво гумових і пластмасових виробів",null,null,null,null,null,null,null,null,null,null,null,null,null,null,null,null,null,null,null,null,null,null,null,null,null,null,null,null,"Автономна Республіка Крим","Ізобільне"]
[null,null,null,null,null,null,null,null,null,null,null,null,null,null,null,"22.1","Виробництво гумових виробів",null,null,null,null,null,null,null,null,null,null,null,null,null,null,null,null,null,null,null,null,null,null,null,null,null,null,null,null,"Автономна Республіка Крим","Ізумрудне"]
[null,null,null,null,null,null,null,null,null,null,null,null,null,null,null,"22.11","Виробництво гумових шин, покришок і камер; відновлення протектора гумових шин і покришок",null,null,null,null,null,null,null,null,null,null,null,null,null,null,null,null,null,null,null,null,null,null,null,null,null,null,null,null,"Автономна Республіка Крим","Ізюмівка"]
[null,null,null,null,null,null,null,null,null,null,null,null,null,null,null,"22.19","Виробництво інших гумових виробів",null,null,null,null,null,null,null,null,null,null,null,null,null,null,null,null,null,null,null,null,null,null,null,null,null,null,null,null,"Автономна Республіка Крим","Іллінка (Ільїнської)"]
[null,null,null,null,null,null,null,null,null,null,null,null,null,null,null,"22.2","Виробництво пластмасових виробів",null,null,null,null,null,null,null,null,null,null,null,null,null,null,null,null,null,null,null,null,null,null,null,null,null,null,null,null,"Автономна Республіка Крим","Іллінка (Сизівська)"]
[null,null,null,null,null,null,null,null,null,null,null,null,null,null,null,"22.21","Виробництво плит, листів, труб і профілів із пластмас",null,null,null,null,null,null,null,null,null,null,null,null,null,null,null,null,null,null,null,null,null,null,null,null,null,null,null,null,"Автономна Республіка Крим","Іллічеве"]
[null,null,null,null,null,null,null,null,null,null,null,null,null,null,null,"22.22","Виробництво тари з пластмас",null,null,null,null,null,null,null,null,null,null,null,null,null,null,null,null,null,null,null,null,null,null,null,null,null,null,null,null,"Автономна Республіка Крим","Іскра"]
[null,null,null,null,null,null,null,null,null,null,null,null,null,null,null,"22.23","Виробництво будівельних виробів із пластмас",null,null,null,null,null,null,null,null,null,null,null,null,null,null,null,null,null,null,null,null,null,null,null,null,null,null,null,null,"Автономна Республіка Крим","Істочне"]
[null,null,null,null,null,null,null,null,null,null,null,null,null,null,null,"22.29","Виробництво інших виробів із пластмас",null,null,null,null,null,null,null,null,null,null,null,null,null,null,null,null,null,null,null,null,null,null,null,null,null,null,null,null,"Автономна Республіка Крим","Істочне (Воїнської)"]
[null,null,null,null,null,null,null,null,null,null,null,null,null,null,null,"23","Виробництво іншої неметалевої мінеральної продукції",null,null,null,null,null,null,null,null,null,null,null,null,null,null,null,null,null,null,null,null,null,null,null,null,null,null,null,null,"Автономна Республіка Крим","Ішунь (Ішуньської)"]
[null,null,null,null,null,null,null,null,null,null,null,null,null,null,null,"23.1","Виробництво скла та виробів зі скла",null,null,null,null,null,null,null,null,null,null,null,null,null,null,null,null,null,null,null,null,null,null,null,null,null,null,null,null,"Автономна Республіка Крим","Казанки"]
[null,null,null,null,null,null,null,null,null,null,null,null,null,null,null,"23.11","Виробництво листового скла",null,null,null,null,null,null,null,null,null,null,null,null,null,null,null,null,null,null,null,null,null,null,null,null,null,null,null,null,"Автономна Республіка Крим","Калинівка"]
[null,null,null,null,null,null,null,null,null,null,null,null,null,null,null,"23.12","Формування й оброблення листового скла",null,null,null,null,null,null,null,null,null,null,null,null,null,null,null,null,null,null,null,null,null,null,null,null,null,null,null,null,"Автономна Республіка Крим","Калинівка (Оленівська)"]
[null,null,null,null,null,null,null,null,null,null,null,null,null,null,null,"23.13","Виробництво порожнистого скла",null,null,null,null,null,null,null,null,null,null,null,null,null,null,null,null,null,null,null,null,null,null,null,null,null,null,null,null,"Автономна Республіка Крим","Калініне"]
[null,null,null,null,null,null,null,null,null,null,null,null,null,null,null,"23.14","Виробництво скловолокна",null,null,null,null,null,null,null,null,null,null,null,null,null,null,null,null,null,null,null,null,null,null,null,null,null,null,null,null,"Автономна Республіка Крим","Калініне (Калінінської)"]
[null,null,null,null,null,null,null,null,null,null,null,null,null,null,null,"23.19","Виробництво й оброблення інших скляних виробів, у тому числі технічних",null,null,null,null,null,null,null,null,null,null,null,null,null,null,null,null,null,null,null,null,null,null,null,null,null,null,null,null,"Автономна Республіка Крим","Каменоломня"]
[null,null,null,null,null,null,null,null,null,null,null,null,null,null,null,"23.2","Виробництво вогнетривких виробів",null,null,null,null,null,null,null,null,null,null,null,null,null,null,null,null,null,null,null,null,null,null,null,null,null,null,null,null,"Автономна Республіка Крим","Кам'янка (Октябрьської)"]
[null,null,null,null,null,null,null,null,null,null,null,null,null,null,null,"23.20","Виробництво вогнетривких виробів",null,null,null,null,null,null,null,null,null,null,null,null,null,null,null,null,null,null,null,null,null,null,null,null,null,null,null,null,"Автономна Республіка Крим","Кам'янське"]
[null,null,null,null,null,null,null,null,null,null,null,null,null,null,null,"23.3","Виробництво будівельних матеріалів із глини",null,null,null,null,null,null,null,null,null,null,null,null,null,null,null,null,null,null,null,null,null,null,null,null,null,null,null,null,"Автономна Республіка Крим","Карасівка"]
[null,null,null,null,null,null,null,null,null,null,null,null,null,null,null,"23.31","Виробництво керамічних плиток і плит",null,null,null,null,null,null,null,null,null,null,null,null,null,null,null,null,null,null,null,null,null,null,null,null,null,null,null,null,"Автономна Республіка Крим","Кар'єрне"]
[null,null,null,null,null,null,null,null,null,null,null,null,null,null,null,"23.32","Виробництво цегли, черепиці та інших будівельних виробів із випаленої глини",null,null,null,null,null,null,null,null,null,null,null,null,null,null,null,null,null,null,null,null,null,null,null,null,null,null,null,null,"Автономна Республіка Крим","Карпівка"]
[null,null,null,null,null,null,null,null,null,null,null,null,null,null,null,"23.4","Виробництво іншої продукції з фарфору та кераміки",null,null,null,null,null,null,null,null,null,null,null,null,null,null,null,null,null,null,null,null,null,null,null,null,null,null,null,null,"Автономна Республіка Крим","Карпова Балка (Філатівської)"]
[null,null,null,null,null,null,null,null,null,null,null,null,null,null,null,"23.41","Виробництво господарських і декоративних керамічних виробів",null,null,null,null,null,null,null,null,null,null,null,null,null,null,null,null,null,null,null,null,null,null,null,null,null,null,null,null,"Автономна Республіка Крим","Кацівелі"]
[null,null,null,null,null,null,null,null,null,null,null,null,null,null,null,"23.42","Виробництво керамічних санітарно-технічних виробів",null,null,null,null,null,null,null,null,null,null,null,null,null,null,null,null,null,null,null,null,null,null,null,null,null,null,null,null,"Автономна Республіка Крим","Каштани"]
[null,null,null,null,null,null,null,null,null,null,null,null,null,null,null,"23.43","Виробництво керамічних електроізоляторів та ізоляційної арматури",null,null,null,null,null,null,null,null,null,null,null,null,null,null,null,null,null,null,null,null,null,null,null,null,null,null,null,null,"Автономна Республіка Крим","Каштанівка (Серебрянська сільська рада)"]
[null,null,null,null,null,null,null,null,null,null,null,null,null,null,null,"23.44","Виробництво інших керамічних виробів технічного призначення",null,null,null,null,null,null,null,null,null,null,null,null,null,null,null,null,null,null,null,null,null,null,null,null,null,null,null,null,"Автономна Республіка Крим","Каштанівка (Черновської)"]
[null,null,null,null,null,null,null,null,null,null,null,null,null,null,null,"23.49","Виробництво інших керамічних виробів",null,null,null,null,null,null,null,null,null,null,null,null,null,null,null,null,null,null,null,null,null,null,null,null,null,null,null,null,"Автономна Республіка Крим","Каштанове"]
[null,null,null,null,null,null,null,null,null,null,null,null,null,null,null,"23.5","Виробництво цементу, вапна та гіпсових сумішей",null,null,null,null,null,null,null,null,null,null,null,null,null,null,null,null,null,null,null,null,null,null,null,null,null,null,null,null,"Автономна Республіка Крим","Керч"]
[null,null,null,null,null,null,null,null,null,null,null,null,null,null,null,"23.51","Виробництво цементу",null,null,null,null,null,null,null,null,null,null,null,null,null,null,null,null,null,null,null,null,null,null,null,null,null,null,null,null,"Автономна Республіка Крим","Кизилівка"]
[null,null,null,null,null,null,null,null,null,null,null,null,null,null,null,"23.52","Виробництво вапна та гіпсових сумішей",null,null,null,null,null,null,null,null,null,null,null,null,null,null,null,null,null,null,null,null,null,null,null,null,null,null,null,null,"Автономна Республіка Крим","Кипарисне"]
[null,null,null,null,null,null,null,null,null,null,null,null,null,null,null,"23.6","Виготовлення виробів із бетону, гіпсу та цементу",null,null,null,null,null,null,null,null,null,null,null,null,null,null,null,null,null,null,null,null,null,null,null,null,null,null,null,null,"Автономна Республіка Крим","Кирпичне"]
[null,null,null,null,null,null,null,null,null,null,null,null,null,null,null,"23.61","Виготовлення виробів із бетону для будівництва",null,null,null,null,null,null,null,null,null,null,null,null,null,null,null,null,null,null,null,null,null,null,null,null,null,null,null,null,"Автономна Республіка Крим","Кирсанівка"]
[null,null,null,null,null,null,null,null,null,null,null,null,null,null,null,"23.62","Виготовлення виробів із гіпсу для будівництва",null,null,null,null,null,null,null,null,null,null,null,null,null,null,null,null,null,null,null,null,null,null,null,null,null,null,null,null,"Автономна Республіка Крим","Кіндратове"]
[null,null,null,null,null,null,null,null,null,null,null,null,null,null,null,"23.63","Виробництво бетонних розчинів, готових для використання",null,null,null,null,null,null,null,null,null,null,null,null,null,null,null,null,null,null,null,null,null,null,null,null,null,null,null,null,"Автономна Республіка Крим","Кіровське"]
[null,null,null,null,null,null,null,null,null,null,null,null,null,null,null,"23.64","Виробництво сухих будівельних сумішей",null,null,null,null,null,null,null,null,null,null,null,null,null,null,null,null,null,null,null,null,null,null,null,null,null,null,null,null,"Автономна Республіка Крим","Кісточківка"]
[null,null,null,null,null,null,null,null,null,null,null,null,null,null,null,"23.65","Виготовлення виробів із волокнистого цементу",null,null,null,null,null,null,null,null,null,null,null,null,null,null,null,null,null,null,null,null,null,null,null,null,null,null,null,null,"Автономна Республіка Крим","Клепиніне"]
[null,null,null,null,null,null,null,null,null,null,null,null,null,null,null,"23.69","Виробництво інших виробів із бетону, гіпсу та цементу",null,null,null,null,null,null,null,null,null,null,null,null,null,null,null,null,null,null,null,null,null,null,null,null,null,null,null,null,"Автономна Республіка Крим","Климове"]
[null,null,null,null,null,null,null,null,null,null,null,null,null,null,null,"23.7","Різання, оброблення та оздоблення декоративного та будівельного каменю",null,null,null,null,null,null,null,null,null,null,null,null,null,null,null,null,null,null,null,null,null,null,null,null,null,null,null,null,"Автономна Республіка Крим","Клинівка"]
[null,null,null,null,null,null,null,null,null,null,null,null,null,null,null,"23.70","Різання, оброблення та оздоблення декоративного та будівельного каменю",null,null,null,null,null,null,null,null,null,null,null,null,null,null,null,null,null,null,null,null,null,null,null,null,null,null,null,null,"Автономна Республіка Крим","Ключі"]
[null,null,null,null,null,null,null,null,null,null,null,null,null,null,null,"23.9","Виробництво абразивних виробів і неметалевих мінеральних виробів, н.в.і.у.",null,null,null,null,null,null,null,null,null,null,null,null,null,null,null,null,null,null,null,null,null,null,null,null,null,null,null,null,"Автономна Республіка Крим","Ключове"]
[null,null,null,null,null,null,null,null,null,null,null,null,null,null,null,"23.91","Виробництво абразивних виробів",null,null,null,null,null,null,null,null,null,null,null,null,null,null,null,null,null,null,null,null,null,null,null,null,null,null,null,null,"Автономна Республіка Крим","Ковильне"]
[null,null,null,null,null,null,null,null,null,null,null,null,null,null,null,"23.99","Виробництво неметалевих мінеральних виробів, н.в.і.у.",null,null,null,null,null,null,null,null,null,null,null,null,null,null,null,null,null,null,null,null,null,null,null,null,null,null,null,null,"Автономна Республіка Крим","Ковильне (Ковильнівська сільська рада)"]
[null,null,null,null,null,null,null,null,null,null,null,null,null,null,null,"24","Металургійне виробництво",null,null,null,null,null,null,null,null,null,null,null,null,null,null,null,null,null,null,null,null,null,null,null,null,null,null,null,null,"Автономна Республіка Крим","Коврове"]
[null,null,null,null,null,null,null,null,null,null,null,null,null,null,null,"24.1","Виробництво чавуну, сталі та феросплавів",null,null,null,null,null,null,null,null,null,null,null,null,null,null,null,null,null,null,null,null,null,null,null,null,null,null,null,null,"Автономна Республіка Крим","Коктебель"]
[null,null,null,null,null,null,null,null,null,null,null,null,null,null,null,"24.10","Виробництво чавуну, сталі та феросплавів",null,null,null,null,null,null,null,null,null,null,null,null,null,null,null,null,null,null,null,null,null,null,null,null,null,null,null,null,"Автономна Республіка Крим","Колодязне"]
[null,null,null,null,null,null,null,null,null,null,null,null,null,null,null,"24.2","Виробництво труб, порожнистих профілів і фітингів зі сталі",null,null,null,null,null,null,null,null,null,null,null,null,null,null,null,null,null,null,null,null,null,null,null,null,null,null,null,null,"Автономна Республіка Крим","Коломенське"]
[null,null,null,null,null,null,null,null,null,null,null,null,null,null,null,"24.20","Виробництво труб, порожнистих профілів і фітингів зі сталі",null,null,null,null,null,null,null,null,null,null,null,null,null,null,null,null,null,null,null,null,null,null,null,null,null,null,null,null,"Автономна Республіка Крим","Колоски"]
[null,null,null,null,null,null,null,null,null,null,null,null,null,null,null,"24.3","Виробництво іншої продукції первинного оброблення сталі",null,null,null,null,null,null,null,null,null,null,null,null,null,null,null,null,null,null,null,null,null,null,null,null,null,null,null,null,"Автономна Республіка Крим","Кольцове"]
[null,null,null,null,null,null,null,null,null,null,null,null,null,null,null,"24.31","Холодне волочіння прутків і профілів",null,null,null,null,null,null,null,null,null,null,null,null,null,null,null,null,null,null,null,null,null,null,null,null,null,null,null,null,"Автономна Республіка Крим","Кольчугине"]
[null,null,null,null,null,null,null,null,null,null,null,null,null,null,null,"24.32","Холодний прокат вузької штаби",null,null,null,null,null,null,null,null,null,null,null,null,null,null,null,null,null,null,null,null,null,null,null,null,null,null,null,null,"Автономна Республіка Крим","Комарівка"]
[null,null,null,null,null,null,null,null,null,null,null,null,null,null,null,"24.33","Холодне штампування та гнуття",null,null,null,null,null,null,null,null,null,null,null,null,null,null,null,null,null,null,null,null,null,null,null,null,null,null,null,null,"Автономна Республіка Крим","Комишинка"]
[null,null,null,null,null,null,null,null,null,null,null,null,null,null,null,"24.34","Холодне волочіння дроту",null,null,null,null,null,null,null,null,null,null,null,null,null,null,null,null,null,null,null,null,null,null,null,null,null,null,null,null,"Автономна Республіка Крим","Комишне (Руч'ївська сільська рада)"]
[null,null,null,null,null,null,null,null,null,null,null,null,null,null,null,"24.4","Виробництво дорогоцінних та інших кольорових металів",null,null,null,null,null,null,null,null,null,null,null,null,null,null,null,null,null,null,null,null,null,null,null,null,null,null,null,null,"Автономна Республіка Крим","Комсомольське"]
[null,null,null,null,null,null,null,null,null,null,null,null,null,null,null,"24.41","Виробництво дорогоцінних металів",null,null,null,null,null,null,null,null,null,null,null,null,null,null,null,null,null,null,null,null,null,null,null,null,null,null,null,null,"Автономна Республіка Крим","Комунари"]
[null,null,null,null,null,null,null,null,null,null,null,null,null,null,null,"24.42","Виробництво алюмінію",null,null,null,null,null,null,null,null,null,null,null,null,null,null,null,null,null,null,null,null,null,null,null,null,null,null,null,null,"Автономна Республіка Крим","Комунарне (Руч'ївська сільська рада)"]
[null,null,null,null,null,null,null,null,null,null,null,null,null,null,null,"24.43","Виробництво свинцю, цинку й олова",null,null,null,null,null,null,null,null,null,null,null,null,null,null,null,null,null,null,null,null,null,null,null,null,null,null,null,null,"Автономна Республіка Крим","Копані"]
[null,null,null,null,null,null,null,null,null,null,null,null,null,null,null,"24.44","Виробництво міді",null,null,null,null,null,null,null,null,null,null,null,null,null,null,null,null,null,null,null,null,null,null,null,null,null,null,null,null,"Автономна Республіка Крим","Кореїз"]
[null,null,null,null,null,null,null,null,null,null,null,null,null,null,null,"24.45","Виробництво інших кольорових металів",null,null,null,null,null,null,null,null,null,null,null,null,null,null,null,null,null,null,null,null,null,null,null,null,null,null,null,null,"Автономна Республіка Крим","Корінне"]
[null,null,null,null,null,null,null,null,null,null,null,null,null,null,null,"24.46","Виробництво ядерних матеріалів",null,null,null,null,null,null,null,null,null,null,null,null,null,null,null,null,null,null,null,null,null,null,null,null,null,null,null,null,"Автономна Республіка Крим","Кормове (Кормовської)"]
[null,null,null,null,null,null,null,null,null,null,null,null,null,null,null,"24.5","Лиття металів",null,null,null,null,null,null,null,null,null,null,null,null,null,null,null,null,null,null,null,null,null,null,null,null,null,null,null,null,"Автономна Республіка Крим","Корніївка"]
[null,null,null,null,null,null,null,null,null,null,null,null,null,null,null,"24.51","Лиття чавуну",null,null,null,null,null,null,null,null,null,null,null,null,null,null,null,null,null,null,null,null,null,null,null,null,null,null,null,null,"Автономна Республіка Крим","Корольове"]
[null,null,null,null,null,null,null,null,null,null,null,null,null,null,null,"24.52","Лиття сталі",null,null,null,null,null,null,null,null,null,null,null,null,null,null,null,null,null,null,null,null,null,null,null,null,null,null,null,null,"Автономна Республіка Крим","Костиріне"]
[null,null,null,null,null,null,null,null,null,null,null,null,null,null,null,"24.53","Лиття легких кольорових металів",null,null,null,null,null,null,null,null,null,null,null,null,null,null,null,null,null,null,null,null,null,null,null,null,null,null,null,null,"Автономна Республіка Крим","Костянтинівка"]
[null,null,null,null,null,null,null,null,null,null,null,null,null,null,null,"24.54","Лиття інших кольорових металів",null,null,null,null,null,null,null,null,null,null,null,null,null,null,null,null,null,null,null,null,null,null,null,null,null,null,null,null,"Автономна Республіка Крим","Котельникове"]
[null,null,null,null,null,null,null,null,null,null,null,null,null,null,null,"25","Виробництво готових металевих виробів, крім машин і устатковання",null,null,null,null,null,null,null,null,null,null,null,null,null,null,null,null,null,null,null,null,null,null,null,null,null,null,null,null,"Автономна Республіка Крим","Котовське (Славнівська сільська рада)"]
[null,null,null,null,null,null,null,null,null,null,null,null,null,null,null,"25.1","Виробництво будівельних металевих конструкцій і виробів",null,null,null,null,null,null,null,null,null,null,null,null,null,null,null,null,null,null,null,null,null,null,null,null,null,null,null,null,"Автономна Республіка Крим","Кочергіне"]
[null,null,null,null,null,null,null,null,null,null,null,null,null,null,null,"25.11","Виробництво будівельних металевих конструкцій і частин конструкцій",null,null,null,null,null,null,null,null,null,null,null,null,null,null,null,null,null,null,null,null,null,null,null,null,null,null,null,null,"Автономна Республіка Крим","Крайнє (Крайненська)"]
[null,null,null,null,null,null,null,null,null,null,null,null,null,null,null,"25.12","Виробництво металевих дверей і вікон",null,null,null,null,null,null,null,null,null,null,null,null,null,null,null,null,null,null,null,null,null,null,null,null,null,null,null,null,"Автономна Республіка Крим","Красна Долина"]
[null,null,null,null,null,null,null,null,null,null,null,null,null,null,null,"25.2","Виробництво металевих баків, резервуарів і контейнерів",null,null,null,null,null,null,null,null,null,null,null,null,null,null,null,null,null,null,null,null,null,null,null,null,null,null,null,null,"Автономна Республіка Крим","Красна Зорька"]
[null,null,null,null,null,null,null,null,null,null,null,null,null,null,null,"25.21","Виробництво радіаторів і  котлів центрального опалення",null,null,null,null,null,null,null,null,null,null,null,null,null,null,null,null,null,null,null,null,null,null,null,null,null,null,null,null,"Автономна Республіка Крим","Красна Поляна"]
[null,null,null,null,null,null,null,null,null,null,null,null,null,null,null,"25.29","Виробництво інших металевих баків, резервуарів і контейнерів",null,null,null,null,null,null,null,null,null,null,null,null,null,null,null,null,null,null,null,null,null,null,null,null,null,null,null,null,"Автономна Республіка Крим","Красна Слобода"]
[null,null,null,null,null,null,null,null,null,null,null,null,null,null,null,"25.3","Виробництво парових котлів, крім котлів центрального опалення",null,null,null,null,null,null,null,null,null,null,null,null,null,null,null,null,null,null,null,null,null,null,null,null,null,null,null,null,"Автономна Республіка Крим","Красний Мак"]
[null,null,null,null,null,null,null,null,null,null,null,null,null,null,null,"25.30","Виробництво парових котлів, крім котлів центрального опалення",null,null,null,null,null,null,null,null,null,null,null,null,null,null,null,null,null,null,null,null,null,null,null,null,null,null,null,null,"Автономна Республіка Крим","Красний Партизан"]
[null,null,null,null,null,null,null,null,null,null,null,null,null,null,null,"25.4","Виробництво зброї та боєприпасів",null,null,null,null,null,null,null,null,null,null,null,null,null,null,null,null,null,null,null,null,null,null,null,null,null,null,null,null,"Автономна Республіка Крим","Краснівка"]
[null,null,null,null,null,null,null,null,null,null,null,null,null,null,null,"25.40","Виробництво зброї та боєприпасів",null,null,null,null,null,null,null,null,null,null,null,null,null,null,null,null,null,null,null,null,null,null,null,null,null,null,null,null,"Автономна Республіка Крим","Красноармійське (Зиминська сільська рада)"]
[null,null,null,null,null,null,null,null,null,null,null,null,null,null,null,"25.5","Кування, пресування, штампування, профілювання; порошкова металургія",null,null,null,null,null,null,null,null,null,null,null,null,null,null,null,null,null,null,null,null,null,null,null,null,null,null,null,null,"Автономна Республіка Крим","Красноармійське (Красноармійська)"]
[null,null,null,null,null,null,null,null,null,null,null,null,null,null,null,"25.50","Кування, пресування, штампування, профілювання; порошкова металургія",null,null,null,null,null,null,null,null,null,null,null,null,null,null,null,null,null,null,null,null,null,null,null,null,null,null,null,null,"Автономна Республіка Крим","Красногвардійське"]
[null,null,null,null,null,null,null,null,null,null,null,null,null,null,null,"25.6","Оброблення металів та нанесення покриття на метали; механічне оброблення металевих виробів",null,null,null,null,null,null,null,null,null,null,null,null,null,null,null,null,null,null,null,null,null,null,null,null,null,null,null,null,"Автономна Республіка Крим","Красногірка"]
[null,null,null,null,null,null,null,null,null,null,null,null,null,null,null,"25.61","Оброблення металів та нанесення покриття на метали",null,null,null,null,null,null,null,null,null,null,null,null,null,null,null,null,null,null,null,null,null,null,null,null,null,null,null,null,"Автономна Республіка Крим","Красногірське"]
[null,null,null,null,null,null,null,null,null,null,null,null,null,null,null,"25.62","Механічне оброблення металевих виробів",null,null,null,null,null,null,null,null,null,null,null,null,null,null,null,null,null,null,null,null,null,null,null,null,null,null,null,null,"Автономна Республіка Крим","Краснодарка"]
[null,null,null,null,null,null,null,null,null,null,null,null,null,null,null,"25.7","Виробництво столових приборів, інструментів і металевих виробів загального призначення",null,null,null,null,null,null,null,null,null,null,null,null,null,null,null,null,null,null,null,null,null,null,null,null,null,null,null,null,"Автономна Республіка Крим","Краснодольне"]
[null,null,null,null,null,null,null,null,null,null,null,null,null,null,null,"25.71","Виробництво столових приборів",null,null,null,null,null,null,null,null,null,null,null,null,null,null,null,null,null,null,null,null,null,null,null,null,null,null,null,null,"Автономна Республіка Крим","Краснознам'янка"]
[null,null,null,null,null,null,null,null,null,null,null,null,null,null,null,"25.72","Виробництво замків і дверних петель",null,null,null,null,null,null,null,null,null,null,null,null,null,null,null,null,null,null,null,null,null,null,null,null,null,null,null,null,"Автономна Республіка Крим","Краснокам'янка"]
[null,null,null,null,null,null,null,null,null,null,null,null,null,null,null,"25.73","Виробництво інструментів",null,null,null,null,null,null,null,null,null,null,null,null,null,null,null,null,null,null,null,null,null,null,null,null,null,null,null,null,"Автономна Республіка Крим","Краснолісся"]
[null,null,null,null,null,null,null,null,null,null,null,null,null,null,null,"25.9","Виробництво інших готових металевих виробів",null,null,null,null,null,null,null,null,null,null,null,null,null,null,null,null,null,null,null,null,null,null,null,null,null,null,null,null,"Автономна Республіка Крим","Красноперекопськ"]
[null,null,null,null,null,null,null,null,null,null,null,null,null,null,null,"25.91","Виробництво сталевих бочок і подібних контейнерів",null,null,null,null,null,null,null,null,null,null,null,null,null,null,null,null,null,null,null,null,null,null,null,null,null,null,null,null,"Автономна Республіка Крим","Красноселівка"]
[null,null,null,null,null,null,null,null,null,null,null,null,null,null,null,"25.92","Виробництво легких металевих паковань",null,null,null,null,null,null,null,null,null,null,null,null,null,null,null,null,null,null,null,null,null,null,null,null,null,null,null,null,"Автономна Республіка Крим","Красносільське"]
[null,null,null,null,null,null,null,null,null,null,null,null,null,null,null,"25.93","Виробництво виробів із дроту, ланцюгів і пружин",null,null,null,null,null,null,null,null,null,null,null,null,null,null,null,null,null,null,null,null,null,null,null,null,null,null,null,null,"Автономна Республіка Крим","Красносільське (Окунівська)"]
[null,null,null,null,null,null,null,null,null,null,null,null,null,null,null,"25.94","Виробництво кріпильних і ґвинтонарізних виробів",null,null,null,null,null,null,null,null,null,null,null,null,null,null,null,null,null,null,null,null,null,null,null,null,null,null,null,null,"Автономна Республіка Крим","Краснофлотське"]
[null,null,null,null,null,null,null,null,null,null,null,null,null,null,null,"25.99","Виробництво інших готових металевих виробів, н.в.і.у.",null,null,null,null,null,null,null,null,null,null,null,null,null,null,null,null,null,null,null,null,null,null,null,null,null,null,null,null,"Автономна Республіка Крим","Красноярське"]
[null,null,null,null,null,null,null,null,null,null,null,null,null,null,null,"26","Виробництво комп'ютерів, електронної та оптичної продукції",null,null,null,null,null,null,null,null,null,null,null,null,null,null,null,null,null,null,null,null,null,null,null,null,null,null,null,null,"Автономна Республіка Крим","Кремнівка"]
[null,null,null,null,null,null,null,null,null,null,null,null,null,null,null,"26.1","Виробництво електронних компонентів і плат",null,null,null,null,null,null,null,null,null,null,null,null,null,null,null,null,null,null,null,null,null,null,null,null,null,null,null,null,"Автономна Республіка Крим","Крестянівка (Крестянівскої)"]
[null,null,null,null,null,null,null,null,null,null,null,null,null,null,null,"26.11","Виробництво електронних компонентів",null,null,null,null,null,null,null,null,null,null,null,null,null,null,null,null,null,null,null,null,null,null,null,null,null,null,null,null,"Автономна Республіка Крим","Кривцове"]
[null,null,null,null,null,null,null,null,null,null,null,null,null,null,null,"26.12","Виробництво змонтованих електронних плат",null,null,null,null,null,null,null,null,null,null,null,null,null,null,null,null,null,null,null,null,null,null,null,null,null,null,null,null,"Автономна Республіка Крим","Криловка (Степновської)"]
[null,null,null,null,null,null,null,null,null,null,null,null,null,null,null,"26.2","Виробництво комп'ютерів і периферійного устатковання",null,null,null,null,null,null,null,null,null,null,null,null,null,null,null,null,null,null,null,null,null,null,null,null,null,null,null,null,"Автономна Республіка Крим","Криловка (Штормівська)"]
[null,null,null,null,null,null,null,null,null,null,null,null,null,null,null,"26.20","Виробництво комп'ютерів і периферійного устатковання",null,null,null,null,null,null,null,null,null,null,null,null,null,null,null,null,null,null,null,null,null,null,null,null,null,null,null,null,"Автономна Республіка Крим","Кримка"]
[null,null,null,null,null,null,null,null,null,null,null,null,null,null,null,"26.3","Виробництво обладнання зв'язку",null,null,null,null,null,null,null,null,null,null,null,null,null,null,null,null,null,null,null,null,null,null,null,null,null,null,null,null,"Автономна Республіка Крим","Кримська Роза"]
[null,null,null,null,null,null,null,null,null,null,null,null,null,null,null,"26.30","Виробництво обладнання зв'язку",null,null,null,null,null,null,null,null,null,null,null,null,null,null,null,null,null,null,null,null,null,null,null,null,null,null,null,null,"Автономна Республіка Крим","Кримське"]
[null,null,null,null,null,null,null,null,null,null,null,null,null,null,null,"26.4","Виробництво електронної апаратури побутового призначення для приймання, записування та відтворювання звуку й зображення",null,null,null,null,null,null,null,null,null,null,null,null,null,null,null,null,null,null,null,null,null,null,null,null,null,null,null,null,"Автономна Республіка Крим","Кринички"]
[null,null,null,null,null,null,null,null,null,null,null,null,null,null,null,"26.40","Виробництво електронної апаратури побутового призначення для приймання, записування та відтворювання звуку й зображення",null,null,null,null,null,null,null,null,null,null,null,null,null,null,null,null,null,null,null,null,null,null,null,null,null,null,null,null,"Автономна Республіка Крим","Кріпке (Вишнівської)"]
[null,null,null,null,null,null,null,null,null,null,null,null,null,null,null,"26.5","Виробництво інструментів і обладнання для вимірювання, дослідження та навігації; виробництво годинників",null,null,null,null,null,null,null,null,null,null,null,null,null,null,null,null,null,null,null,null,null,null,null,null,null,null,null,null,"Автономна Республіка Крим","Кропоткіне (Чернишівська сільська рада)"]
[null,null,null,null,null,null,null,null,null,null,null,null,null,null,null,"26.51","Виробництво інструментів і обладнання для вимірювання, дослідження та навігації",null,null,null,null,null,null,null,null,null,null,null,null,null,null,null,null,null,null,null,null,null,null,null,null,null,null,null,null,"Автономна Республіка Крим","Кубанське"]
[null,null,null,null,null,null,null,null,null,null,null,null,null,null,null,"26.52","Виробництво годинників",null,null,null,null,null,null,null,null,null,null,null,null,null,null,null,null,null,null,null,null,null,null,null,null,null,null,null,null,"Автономна Республіка Крим","Кудрине"]
[null,null,null,null,null,null,null,null,null,null,null,null,null,null,null,"26.6","Виробництво радіологічного, електромедичного й електротерапевтичного устатковання",null,null,null,null,null,null,null,null,null,null,null,null,null,null,null,null,null,null,null,null,null,null,null,null,null,null,null,null,"Автономна Республіка Крим","Кузнецьке"]
[null,null,null,null,null,null,null,null,null,null,null,null,null,null,null,"26.60","Виробництво радіологічного, електромедичного й електротерапевтичного устатковання",null,null,null,null,null,null,null,null,null,null,null,null,null,null,null,null,null,null,null,null,null,null,null,null,null,null,null,null,"Автономна Республіка Крим","Куйбишеве"]
[null,null,null,null,null,null,null,null,null,null,null,null,null,null,null,"26.7","Виробництво оптичних приладів і фотографічного устатковання",null,null,null,null,null,null,null,null,null,null,null,null,null,null,null,null,null,null,null,null,null,null,null,null,null,null,null,null,"Автономна Республіка Крим","Кукурудзяне"]
[null,null,null,null,null,null,null,null,null,null,null,null,null,null,null,"26.70","Виробництво оптичних приладів і фотографічного устатковання",null,null,null,null,null,null,null,null,null,null,null,null,null,null,null,null,null,null,null,null,null,null,null,null,null,null,null,null,"Автономна Республіка Крим","Кукушкіне"]
[null,null,null,null,null,null,null,null,null,null,null,null,null,null,null,"26.8","Виробництво магнітних і оптичних носіїв даних",null,null,null,null,null,null,null,null,null,null,null,null,null,null,null,null,null,null,null,null,null,null,null,null,null,null,null,null,"Автономна Республіка Крим","Куликівка"]
[null,null,null,null,null,null,null,null,null,null,null,null,null,null,null,"26.80","Виробництво магнітних і оптичних носіїв даних",null,null,null,null,null,null,null,null,null,null,null,null,null,null,null,null,null,null,null,null,null,null,null,null,null,null,null,null,"Автономна Республіка Крим","Кумове (Ботанічна сільська рада)"]
[null,null,null,null,null,null,null,null,null,null,null,null,null,null,null,"27","Виробництво електричного устатковання",null,null,null,null,null,null,null,null,null,null,null,null,null,null,null,null,null,null,null,null,null,null,null,null,null,null,null,null,"Автономна Республіка Крим","Кунцеве"]
[null,null,null,null,null,null,null,null,null,null,null,null,null,null,null,"27.1","Виробництво електродвигунів, генераторів, трансформаторів, електророзподільчої та контрольної апаратури",null,null,null,null,null,null,null,null,null,null,null,null,null,null,null,null,null,null,null,null,null,null,null,null,null,null,null,null,"Автономна Республіка Крим","Купріне"]
[null,null,null,null,null,null,null,null,null,null,null,null,null,null,null,"27.11","Виробництво електродвигунів, генераторів і трансформаторів",null,null,null,null,null,null,null,null,null,null,null,null,null,null,null,null,null,null,null,null,null,null,null,null,null,null,null,null,"Автономна Республіка Крим","Курганне"]
[null,null,null,null,null,null,null,null,null,null,null,null,null,null,null,"27.12","Виробництво електророзподільчої та контрольної апаратури",null,null,null,null,null,null,null,null,null,null,null,null,null,null,null,null,null,null,null,null,null,null,null,null,null,null,null,null,"Автономна Республіка Крим","Курганне (Ільїнка)"]
[null,null,null,null,null,null,null,null,null,null,null,null,null,null,null,"27.2","Виробництво батарей і акумуляторів",null,null,null,null,null,null,null,null,null,null,null,null,null,null,null,null,null,null,null,null,null,null,null,null,null,null,null,null,"Автономна Республіка Крим","Курортне"]
[null,null,null,null,null,null,null,null,null,null,null,null,null,null,null,"27.20","Виробництво батарей і акумуляторів",null,null,null,null,null,null,null,null,null,null,null,null,null,null,null,null,null,null,null,null,null,null,null,null,null,null,null,null,"Автономна Республіка Крим","Курпати"]
[null,null,null,null,null,null,null,null,null,null,null,null,null,null,null,"27.3","Виробництво проводів, кабелів і електромонтажних пристроїв",null,null,null,null,null,null,null,null,null,null,null,null,null,null,null,null,null,null,null,null,null,null,null,null,null,null,null,null,"Автономна Республіка Крим","Курське"]
[null,null,null,null,null,null,null,null,null,null,null,null,null,null,null,"27.31","Виробництво волоконно-оптичних кабелів",null,null,null,null,null,null,null,null,null,null,null,null,null,null,null,null,null,null,null,null,null,null,null,null,null,null,null,null,"Автономна Республіка Крим","Лаванда"]
[null,null,null,null,null,null,null,null,null,null,null,null,null,null,null,"27.32","Виробництво інших видів електронних і електричних проводів та кабелів",null,null,null,null,null,null,null,null,null,null,null,null,null,null,null,null,null,null,null,null,null,null,null,null,null,null,null,null,"Автономна Республіка Крим","Лаврове"]
[null,null,null,null,null,null,null,null,null,null,null,null,null,null,null,"27.33","Виробництво електромонтажних пристроїв",null,null,null,null,null,null,null,null,null,null,null,null,null,null,null,null,null,null,null,null,null,null,null,null,null,null,null,null,"Автономна Республіка Крим","Лазарівка"]
[null,null,null,null,null,null,null,null,null,null,null,null,null,null,null,"27.4","Виробництво електричного освітлювального устатковання",null,null,null,null,null,null,null,null,null,null,null,null,null,null,null,null,null,null,null,null,null,null,null,null,null,null,null,null,"Автономна Республіка Крим","Лазурне"]
[null,null,null,null,null,null,null,null,null,null,null,null,null,null,null,"27.40","Виробництво електричного освітлювального устатковання",null,null,null,null,null,null,null,null,null,null,null,null,null,null,null,null,null,null,null,null,null,null,null,null,null,null,null,null,"Автономна Республіка Крим","Лебединка"]
[null,null,null,null,null,null,null,null,null,null,null,null,null,null,null,"27.5","Виробництво побутових приладів",null,null,null,null,null,null,null,null,null,null,null,null,null,null,null,null,null,null,null,null,null,null,null,null,null,null,null,null,"Автономна Республіка Крим","Левадки"]
[null,null,null,null,null,null,null,null,null,null,null,null,null,null,null,"27.51","Виробництво електричних побутових приладів",null,null,null,null,null,null,null,null,null,null,null,null,null,null,null,null,null,null,null,null,null,null,null,null,null,null,null,null,"Автономна Республіка Крим","Левітанівка (Калінінської)"]
[null,null,null,null,null,null,null,null,null,null,null,null,null,null,null,"27.52","Виробництво неелектричних побутових приладів",null,null,null,null,null,null,null,null,null,null,null,null,null,null,null,null,null,null,null,null,null,null,null,null,null,null,null,null,"Автономна Республіка Крим","Леніне"]
[null,null,null,null,null,null,null,null,null,null,null,null,null,null,null,"27.9","Виробництво іншого електричного устатковання",null,null,null,null,null,null,null,null,null,null,null,null,null,null,null,null,null,null,null,null,null,null,null,null,null,null,null,null,"Автономна Республіка Крим","Ленінське"]
[null,null,null,null,null,null,null,null,null,null,null,null,null,null,null,"27.90","Виробництво іншого електричного устатковання",null,null,null,null,null,null,null,null,null,null,null,null,null,null,null,null,null,null,null,null,null,null,null,null,null,null,null,null,"Автономна Республіка Крим","Ленське"]
[null,null,null,null,null,null,null,null,null,null,null,null,null,null,null,"28","Виробництво машин і устатковання, н.в.і.у.",null,null,null,null,null,null,null,null,null,null,null,null,null,null,null,null,null,null,null,null,null,null,null,null,null,null,null,null,"Автономна Республіка Крим","Лиманне"]
[null,null,null,null,null,null,null,null,null,null,null,null,null,null,null,"28.1","Виробництво машин і устатковання загального призначення",null,null,null,null,null,null,null,null,null,null,null,null,null,null,null,null,null,null,null,null,null,null,null,null,null,null,null,null,"Автономна Республіка Крим","Листвинне"]
[null,null,null,null,null,null,null,null,null,null,null,null,null,null,null,"28.11","Виробництво двигунів і турбін, крім авіаційних, автотранспортних і мотоциклетних двигунів",null,null,null,null,null,null,null,null,null,null,null,null,null,null,null,null,null,null,null,null,null,null,null,null,null,null,null,null,"Автономна Республіка Крим","Листове"]
[null,null,null,null,null,null,null,null,null,null,null,null,null,null,null,"28.12","Виробництво гідравлічного та пневматичного устатковання",null,null,null,null,null,null,null,null,null,null,null,null,null,null,null,null,null,null,null,null,null,null,null,null,null,null,null,null,"Автономна Республіка Крим","Литвиненкове"]
[null,null,null,null,null,null,null,null,null,null,null,null,null,null,null,"28.13","Виробництво інших помп і компресорів",null,null,null,null,null,null,null,null,null,null,null,null,null,null,null,null,null,null,null,null,null,null,null,null,null,null,null,null,"Автономна Республіка Крим","Лібкнехтівка"]
[null,null,null,null,null,null,null,null,null,null,null,null,null,null,null,"28.14","Виробництво інших кранів і клапанів",null,null,null,null,null,null,null,null,null,null,null,null,null,null,null,null,null,null,null,null,null,null,null,null,null,null,null,null,"Автономна Республіка Крим","Лівадія"]
[null,null,null,null,null,null,null,null,null,null,null,null,null,null,null,"28.15","Виробництво підшипників, зубчастих передач, елементів механічних передач і приводів",null,null,null,null,null,null,null,null,null,null,null,null,null,null,null,null,null,null,null,null,null,null,null,null,null,null,null,null,"Автономна Республіка Крим","Лікарственне"]
[null,null,null,null,null,null,null,null,null,null,null,null,null,null,null,"28.2","Виробництво інших машин і устатковання загального призначення",null,null,null,null,null,null,null,null,null,null,null,null,null,null,null,null,null,null,null,null,null,null,null,null,null,null,null,null,"Автономна Республіка Крим","Лінійне"]
[null,null,null,null,null,null,null,null,null,null,null,null,null,null,null,"28.21","Виробництво духових шаф, печей і пічних пальників",null,null,null,null,null,null,null,null,null,null,null,null,null,null,null,null,null,null,null,null,null,null,null,null,null,null,null,null,"Автономна Республіка Крим","Лісне"]
[null,null,null,null,null,null,null,null,null,null,null,null,null,null,null,"28.22","Виробництво підіймального та вантажно-розвантажувального устатковання",null,null,null,null,null,null,null,null,null,null,null,null,null,null,null,null,null,null,null,null,null,null,null,null,null,null,null,null,"Автономна Республіка Крим","Ліснівка"]
[null,null,null,null,null,null,null,null,null,null,null,null,null,null,null,"28.23","Виробництво офісних машин і устатковання, крім комп'ютерів і периферійного устатковання",null,null,null,null,null,null,null,null,null,null,null,null,null,null,null,null,null,null,null,null,null,null,null,null,null,null,null,null,"Автономна Республіка Крим","Лісносілля"]
[null,null,null,null,null,null,null,null,null,null,null,null,null,null,null,"28.24","Виробництво ручних електромеханічних і пневматичних інструментів",null,null,null,null,null,null,null,null,null,null,null,null,null,null,null,null,null,null,null,null,null,null,null,null,null,null,null,null,"Автономна Республіка Крим","Лічебне"]
[null,null,null,null,null,null,null,null,null,null,null,null,null,null,null,"28.25","Виробництво промислового холодильного та вентиляційного устатковання",null,null,null,null,null,null,null,null,null,null,null,null,null,null,null,null,null,null,null,null,null,null,null,null,null,null,null,null,"Автономна Республіка Крим","Лобанове"]
[null,null,null,null,null,null,null,null,null,null,null,null,null,null,null,"28.29","Виробництво інших машин і устатковання загального призначення, н.в.і.у.",null,null,null,null,null,null,null,null,null,null,null,null,null,null,null,null,null,null,null,null,null,null,null,null,null,null,null,null,"Автономна Республіка Крим","Ломоносове"]
[null,null,null,null,null,null,null,null,null,null,null,null,null,null,null,"28.3","Виробництво машин і устатковання для сільського та лісового господарства",null,null,null,null,null,null,null,null,null,null,null,null,null,null,null,null,null,null,null,null,null,null,null,null,null,null,null,null,"Автономна Республіка Крим","Лохівка"]
[null,null,null,null,null,null,null,null,null,null,null,null,null,null,null,"28.30","Виробництво машин і устатковання для сільського та лісового господарства",null,null,null,null,null,null,null,null,null,null,null,null,null,null,null,null,null,null,null,null,null,null,null,null,null,null,null,null,"Автономна Республіка Крим","Луганське"]
[null,null,null,null,null,null,null,null,null,null,null,null,null,null,null,"28.4","Виробництво металообробних машин і верстатів",null,null,null,null,null,null,null,null,null,null,null,null,null,null,null,null,null,null,null,null,null,null,null,null,null,null,null,null,"Автономна Республіка Крим","Лугове"]
[null,null,null,null,null,null,null,null,null,null,null,null,null,null,null,"28.41","Виробництво металообробних машин",null,null,null,null,null,null,null,null,null,null,null,null,null,null,null,null,null,null,null,null,null,null,null,null,null,null,null,null,"Автономна Республіка Крим","Лугове (Сизівська)"]
[null,null,null,null,null,null,null,null,null,null,null,null,null,null,null,"28.49","Виробництво інших верстатів",null,null,null,null,null,null,null,null,null,null,null,null,null,null,null,null,null,null,null,null,null,null,null,null,null,null,null,null,"Автономна Республіка Крим","Лужки"]
[null,null,null,null,null,null,null,null,null,null,null,null,null,null,null,"28.9","Виробництво інших машин і устатковання спеціального призначення",null,null,null,null,null,null,null,null,null,null,null,null,null,null,null,null,null,null,null,null,null,null,null,null,null,null,null,null,"Автономна Республіка Крим","Лучисте"]
[null,null,null,null,null,null,null,null,null,null,null,null,null,null,null,"28.91","Виробництво машин і устатковання для металургії",null,null,null,null,null,null,null,null,null,null,null,null,null,null,null,null,null,null,null,null,null,null,null,null,null,null,null,null,"Автономна Республіка Крим","Лучове"]
[null,null,null,null,null,null,null,null,null,null,null,null,null,null,null,"28.92","Виробництво машин і устатковання для добувної промисловості та будівництва",null,null,null,null,null,null,null,null,null,null,null,null,null,null,null,null,null,null,null,null,null,null,null,null,null,null,null,null,"Автономна Республіка Крим","Лушине (Стовпівська)"]
[null,null,null,null,null,null,null,null,null,null,null,null,null,null,null,"28.93","Виробництво машин і устатковання для виготовлення харчових продуктів і напоїв, перероблення тютюну",null,null,null,null,null,null,null,null,null,null,null,null,null,null,null,null,null,null,null,null,null,null,null,null,null,null,null,null,"Автономна Республіка Крим","Любимівка"]
[null,null,null,null,null,null,null,null,null,null,null,null,null,null,null,"28.94","Виробництво машин і устатковання для виготовлення текстильних, швейних, хутряних і шкіряних виробів",null,null,null,null,null,null,null,null,null,null,null,null,null,null,null,null,null,null,null,null,null,null,null,null,null,null,null,null,"Автономна Республіка Крим","Львове"]
[null,null,null,null,null,null,null,null,null,null,null,null,null,null,null,"28.95","Виробництво машин і устатковання для виготовлення паперу та картону",null,null,null,null,null,null,null,null,null,null,null,null,null,null,null,null,null,null,null,null,null,null,null,null,null,null,null,null,"Автономна Республіка Крим","Льговське"]
[null,null,null,null,null,null,null,null,null,null,null,null,null,null,null,"28.96","Виробництво машин і устатковання для виготовлення пластмас і гуми",null,null,null,null,null,null,null,null,null,null,null,null,null,null,null,null,null,null,null,null,null,null,null,null,null,null,null,null,"Автономна Республіка Крим","Магазинка (Магазинська)"]
[null,null,null,null,null,null,null,null,null,null,null,null,null,null,null,"28.99","Виробництво інших машин і устатковання спеціального призначення, н.в.і.у.",null,null,null,null,null,null,null,null,null,null,null,null,null,null,null,null,null,null,null,null,null,null,null,null,null,null,null,null,"Автономна Республіка Крим","Мазанка"]
[null,null,null,null,null,null,null,null,null,null,null,null,null,null,null,"29","Виробництво автотранспортних засобів, причепів і напівпричепів",null,null,null,null,null,null,null,null,null,null,null,null,null,null,null,null,null,null,null,null,null,null,null,null,null,null,null,null,"Автономна Республіка Крим","Майське"]
[null,null,null,null,null,null,null,null,null,null,null,null,null,null,null,"29.1","Виробництво автотранспортних засобів",null,null,null,null,null,null,null,null,null,null,null,null,null,null,null,null,null,null,null,null,null,null,null,null,null,null,null,null,"Автономна Республіка Крим","Макарівка (Первомайської)"]
[null,null,null,null,null,null,null,null,null,null,null,null,null,null,null,"29.10","Виробництво автотранспортних засобів",null,null,null,null,null,null,null,null,null,null,null,null,null,null,null,null,null,null,null,null,null,null,null,null,null,null,null,null,"Автономна Республіка Крим","Маківка"]
[null,null,null,null,null,null,null,null,null,null,null,null,null,null,null,"29.2","Виробництво кузовів для автотранспортних засобів, причепів і напівпричепів",null,null,null,null,null,null,null,null,null,null,null,null,null,null,null,null,null,null,null,null,null,null,null,null,null,null,null,null,"Автономна Республіка Крим","Маківське"]
[null,null,null,null,null,null,null,null,null,null,null,null,null,null,null,"29.20","Виробництво кузовів для автотранспортних засобів, причепів і напівпричепів",null,null,null,null,null,null,null,null,null,null,null,null,null,null,null,null,null,null,null,null,null,null,null,null,null,null,null,null,"Автономна Республіка Крим","Максимівка (Руч'ївська сільська рада)"]
[null,null,null,null,null,null,null,null,null,null,null,null,null,null,null,"29.3","Виробництво вузлів, деталей і приладдя для автотранспортних засобів",null,null,null,null,null,null,null,null,null,null,null,null,null,null,null,null,null,null,null,null,null,null,null,null,null,null,null,null,"Автономна Республіка Крим","Мале Садове"]
[null,null,null,null,null,null,null,null,null,null,null,null,null,null,null,"29.31","Виробництво електричного й електронного устатковання для автотранспортних засобів",null,null,null,null,null,null,null,null,null,null,null,null,null,null,null,null,null,null,null,null,null,null,null,null,null,null,null,null,"Автономна Республіка Крим","Маленьке"]
[null,null,null,null,null,null,null,null,null,null,null,null,null,null,null,"29.32","Виробництво інших вузлів, деталей і приладдя для автотранспортних засобів",null,null,null,null,null,null,null,null,null,null,null,null,null,null,null,null,null,null,null,null,null,null,null,null,null,null,null,null,"Автономна Республіка Крим","Малий Маяк"]
[null,null,null,null,null,null,null,null,null,null,null,null,null,null,null,"30","Виробництво інших транспортних засобів",null,null,null,null,null,null,null,null,null,null,null,null,null,null,null,null,null,null,null,null,null,null,null,null,null,null,null,null,"Автономна Республіка Крим","Малинівка"]
[null,null,null,null,null,null,null,null,null,null,null,null,null,null,null,"30.1","Будування суден і човнів",null,null,null,null,null,null,null,null,null,null,null,null,null,null,null,null,null,null,null,null,null,null,null,null,null,null,null,null,"Автономна Республіка Крим","Маловидне"]
[null,null,null,null,null,null,null,null,null,null,null,null,null,null,null,"30.11","Будування суден і плавучих конструкцій",null,null,null,null,null,null,null,null,null,null,null,null,null,null,null,null,null,null,null,null,null,null,null,null,null,null,null,null,"Автономна Республіка Крим","Малоріченське"]
[null,null,null,null,null,null,null,null,null,null,null,null,null,null,null,"30.12","Будування прогулянкових і спортивних човнів",null,null,null,null,null,null,null,null,null,null,null,null,null,null,null,null,null,null,null,null,null,null,null,null,null,null,null,null,"Автономна Республіка Крим","Мар'ївка"]
[null,null,null,null,null,null,null,null,null,null,null,null,null,null,null,"30.2","Виробництво залізничних локомотивів і рухомого складу",null,null,null,null,null,null,null,null,null,null,null,null,null,null,null,null,null,null,null,null,null,null,null,null,null,null,null,null,"Автономна Республіка Крим","Мар'їне"]
[null,null,null,null,null,null,null,null,null,null,null,null,null,null,null,"30.20","Виробництво залізничних локомотивів і рухомого складу",null,null,null,null,null,null,null,null,null,null,null,null,null,null,null,null,null,null,null,null,null,null,null,null,null,null,null,null,"Автономна Республіка Крим","Маркове"]
[null,null,null,null,null,null,null,null,null,null,null,null,null,null,null,"30.3","Виробництво повітряних і космічних літальних апаратів, супутнього устатковання",null,null,null,null,null,null,null,null,null,null,null,null,null,null,null,null,null,null,null,null,null,null,null,null,null,null,null,null,"Автономна Республіка Крим","Мартинівка"]
[null,null,null,null,null,null,null,null,null,null,null,null,null,null,null,"30.30","Виробництво повітряних і космічних літальних апаратів, супутнього устатковання",null,null,null,null,null,null,null,null,null,null,null,null,null,null,null,null,null,null,null,null,null,null,null,null,null,null,null,null,"Автономна Республіка Крим","Марфівка"]
[null,null,null,null,null,null,null,null,null,null,null,null,null,null,null,"30.4","Виробництво військових транспортних засобів",null,null,null,null,null,null,null,null,null,null,null,null,null,null,null,null,null,null,null,null,null,null,null,null,null,null,null,null,"Автономна Республіка Крим","Мар'янівка"]
[null,null,null,null,null,null,null,null,null,null,null,null,null,null,null,"30.40","Виробництво військових транспортних засобів",null,null,null,null,null,null,null,null,null,null,null,null,null,null,null,null,null,null,null,null,null,null,null,null,null,null,null,null,"Автономна Республіка Крим","Масандра"]
[null,null,null,null,null,null,null,null,null,null,null,null,null,null,null,"30.9","Виробництво транспортних засобів, н.в.і.у.",null,null,null,null,null,null,null,null,null,null,null,null,null,null,null,null,null,null,null,null,null,null,null,null,null,null,null,null,"Автономна Республіка Крим","Маслове"]
[null,null,null,null,null,null,null,null,null,null,null,null,null,null,null,"30.91","Виробництво мотоциклів",null,null,null,null,null,null,null,null,null,null,null,null,null,null,null,null,null,null,null,null,null,null,null,null,null,null,null,null,"Автономна Республіка Крим","Матвіївка (Правдинської)"]
[null,null,null,null,null,null,null,null,null,null,null,null,null,null,null,"30.92","Виробництво велосипедів, дитячих та інвалідних колясок",null,null,null,null,null,null,null,null,null,null,null,null,null,null,null,null,null,null,null,null,null,null,null,null,null,null,null,null,"Автономна Республіка Крим","Матросівка"]
[null,null,null,null,null,null,null,null,null,null,null,null,null,null,null,"30.99","Виробництво інших транспортних засобів і обладнання, н.в.і.у.",null,null,null,null,null,null,null,null,null,null,null,null,null,null,null,null,null,null,null,null,null,null,null,null,null,null,null,null,"Автономна Республіка Крим","Машине"]
[null,null,null,null,null,null,null,null,null,null,null,null,null,null,null,"31","Виробництво меблів",null,null,null,null,null,null,null,null,null,null,null,null,null,null,null,null,null,null,null,null,null,null,null,null,null,null,null,null,"Автономна Республіка Крим","Маяк"]
[null,null,null,null,null,null,null,null,null,null,null,null,null,null,null,"31.0","Виробництво меблів",null,null,null,null,null,null,null,null,null,null,null,null,null,null,null,null,null,null,null,null,null,null,null,null,null,null,null,null,"Автономна Республіка Крим","Медведеве"]
[null,null,null,null,null,null,null,null,null,null,null,null,null,null,null,"31.01","Виробництво меблів для офісів і підприємств торгівлі",null,null,null,null,null,null,null,null,null,null,null,null,null,null,null,null,null,null,null,null,null,null,null,null,null,null,null,null,"Автономна Республіка Крим","Медведівка"]
[null,null,null,null,null,null,null,null,null,null,null,null,null,null,null,"31.02","Виробництво кухонних меблів",null,null,null,null,null,null,null,null,null,null,null,null,null,null,null,null,null,null,null,null,null,null,null,null,null,null,null,null,"Автономна Республіка Крим","Межове"]
[null,null,null,null,null,null,null,null,null,null,null,null,null,null,null,"31.03","Виробництво матраців",null,null,null,null,null,null,null,null,null,null,null,null,null,null,null,null,null,null,null,null,null,null,null,null,null,null,null,null,"Автономна Республіка Крим","Мелехове"]
[null,null,null,null,null,null,null,null,null,null,null,null,null,null,null,"31.09","Виробництво інших меблів",null,null,null,null,null,null,null,null,null,null,null,null,null,null,null,null,null,null,null,null,null,null,null,null,null,null,null,null,"Автономна Республіка Крим","Мельники"]
[null,null,null,null,null,null,null,null,null,null,null,null,null,null,null,"32","Виробництво іншої продукції",null,null,null,null,null,null,null,null,null,null,null,null,null,null,null,null,null,null,null,null,null,null,null,null,null,null,null,null,"Автономна Республіка Крим","Мельничне"]
[null,null,null,null,null,null,null,null,null,null,null,null,null,null,null,"32.1","Виробництво ювелірних виробів, біжутерії та подібних виробів",null,null,null,null,null,null,null,null,null,null,null,null,null,null,null,null,null,null,null,null,null,null,null,null,null,null,null,null,"Автономна Республіка Крим","Мельничне (Островської)"]
[null,null,null,null,null,null,null,null,null,null,null,null,null,null,null,"32.11","Карбування монет",null,null,null,null,null,null,null,null,null,null,null,null,null,null,null,null,null,null,null,null,null,null,null,null,null,null,null,null,"Автономна Республіка Крим","Менделєєве"]
[null,null,null,null,null,null,null,null,null,null,null,null,null,null,null,"32.12","Виробництво ювелірних і подібних виробів",null,null,null,null,null,null,null,null,null,null,null,null,null,null,null,null,null,null,null,null,null,null,null,null,null,null,null,null,"Автономна Республіка Крим","Миколаївка"]
[null,null,null,null,null,null,null,null,null,null,null,null,null,null,null,"32.13","Виробництво біжутерії та подібних виробів",null,null,null,null,null,null,null,null,null,null,null,null,null,null,null,null,null,null,null,null,null,null,null,null,null,null,null,null,"Автономна Республіка Крим","Миндальне"]
[null,null,null,null,null,null,null,null,null,null,null,null,null,null,null,"32.2","Виробництво музичних інструментів",null,null,null,null,null,null,null,null,null,null,null,null,null,null,null,null,null,null,null,null,null,null,null,null,null,null,null,null,"Автономна Республіка Крим","Мирний"]
[null,null,null,null,null,null,null,null,null,null,null,null,null,null,null,"32.20","Виробництво музичних інструментів",null,null,null,null,null,null,null,null,null,null,null,null,null,null,null,null,null,null,null,null,null,null,null,null,null,null,null,null,"Автономна Республіка Крим","Мирнівка"]
[null,null,null,null,null,null,null,null,null,null,null,null,null,null,null,"32.3","Виробництво спортивних товарів",null,null,null,null,null,null,null,null,null,null,null,null,null,null,null,null,null,null,null,null,null,null,null,null,null,null,null,null,"Автономна Республіка Крим","Миролюбівка"]
[null,null,null,null,null,null,null,null,null,null,null,null,null,null,null,"32.30","Виробництво спортивних товарів",null,null,null,null,null,null,null,null,null,null,null,null,null,null,null,null,null,null,null,null,null,null,null,null,null,null,null,null,"Автономна Республіка Крим","Миронівка"]
[null,null,null,null,null,null,null,null,null,null,null,null,null,null,null,"32.4","Виробництво ігор та іграшок",null,null,null,null,null,null,null,null,null,null,null,null,null,null,null,null,null,null,null,null,null,null,null,null,null,null,null,null,"Автономна Республіка Крим","Мисове"]
[null,null,null,null,null,null,null,null,null,null,null,null,null,null,null,"32.40","Виробництво ігор та іграшок",null,null,null,null,null,null,null,null,null,null,null,null,null,null,null,null,null,null,null,null,null,null,null,null,null,null,null,null,"Автономна Республіка Крим","Митрофанівка"]
[null,null,null,null,null,null,null,null,null,null,null,null,null,null,null,"32.5","Виробництво медичних і стоматологічних інструментів і матеріалів",null,null,null,null,null,null,null,null,null,null,null,null,null,null,null,null,null,null,null,null,null,null,null,null,null,null,null,null,"Автономна Республіка Крим","Митюрине"]
[null,null,null,null,null,null,null,null,null,null,null,null,null,null,null,"32.50","Виробництво медичних і стоматологічних інструментів і матеріалів",null,null,null,null,null,null,null,null,null,null,null,null,null,null,null,null,null,null,null,null,null,null,null,null,null,null,null,null,"Автономна Республіка Крим","Митяєве"]
[null,null,null,null,null,null,null,null,null,null,null,null,null,null,null,"32.9","Виробництво продукції, н.в.і.у.",null,null,null,null,null,null,null,null,null,null,null,null,null,null,null,null,null,null,null,null,null,null,null,null,null,null,null,null,"Автономна Республіка Крим","Михайлівка"]
[null,null,null,null,null,null,null,null,null,null,null,null,null,null,null,"32.91","Виробництво мітел і щіток",null,null,null,null,null,null,null,null,null,null,null,null,null,null,null,null,null,null,null,null,null,null,null,null,null,null,null,null,"Автономна Республіка Крим","Міжводне"]
[null,null,null,null,null,null,null,null,null,null,null,null,null,null,null,"32.99","Виробництво іншої продукції, н.в.і.у.",null,null,null,null,null,null,null,null,null,null,null,null,null,null,null,null,null,null,null,null,null,null,null,null,null,null,null,null,"Автономна Республіка Крим","Міжгірне"]
[null,null,null,null,null,null,null,null,null,null,null,null,null,null,null,"33","Ремонт і монтаж машин і устатковання",null,null,null,null,null,null,null,null,null,null,null,null,null,null,null,null,null,null,null,null,null,null,null,null,null,null,null,null,"Автономна Республіка Крим","Міжгір'я"]
[null,null,null,null,null,null,null,null,null,null,null,null,null,null,null,"33.1","Ремонт і технічне обслуговування готових металевих виробів, машин і устатковання",null,null,null,null,null,null,null,null,null,null,null,null,null,null,null,null,null,null,null,null,null,null,null,null,null,null,null,null,"Автономна Республіка Крим","Міжріччя"]
[null,null,null,null,null,null,null,null,null,null,null,null,null,null,null,"33.11","Ремонт і технічне обслуговування готових металевих виробів",null,null,null,null,null,null,null,null,null,null,null,null,null,null,null,null,null,null,null,null,null,null,null,null,null,null,null,null,"Автономна Республіка Крим","Мілководне"]
[null,null,null,null,null,null,null,null,null,null,null,null,null,null,null,"33.12","Ремонт і технічне обслуговування машин і устатковання промислового призначення",null,null,null,null,null,null,null,null,null,null,null,null,null,null,null,null,null,null,null,null,null,null,null,null,null,null,null,null,"Автономна Республіка Крим","Мічурінівка"]
[null,null,null,null,null,null,null,null,null,null,null,null,null,null,null,"33.13","Ремонт і технічне обслуговування електронного й оптичного устатковання",null,null,null,null,null,null,null,null,null,null,null,null,null,null,null,null,null,null,null,null,null,null,null,null,null,null,null,null,"Автономна Республіка Крим","Мічурінське"]
[null,null,null,null,null,null,null,null,null,null,null,null,null,null,null,"33.14","Ремонт і технічне обслуговування електричного устатковання",null,null,null,null,null,null,null,null,null,null,null,null,null,null,null,null,null,null,null,null,null,null,null,null,null,null,null,null,"Автономна Республіка Крим","Многоводне"]
[null,null,null,null,null,null,null,null,null,null,null,null,null,null,null,"33.15","Ремонт і технічне обслуговування суден і човнів",null,null,null,null,null,null,null,null,null,null,null,null,null,null,null,null,null,null,null,null,null,null,null,null,null,null,null,null,"Автономна Республіка Крим","Многоріччя"]
[null,null,null,null,null,null,null,null,null,null,null,null,null,null,null,"33.16","Ремонт і технічне обслуговування повітряних і космічних літальних апаратів",null,null,null,null,null,null,null,null,null,null,null,null,null,null,null,null,null,null,null,null,null,null,null,null,null,null,null,null,"Автономна Республіка Крим","Молодіжне"]
[null,null,null,null,null,null,null,null,null,null,null,null,null,null,null,"33.17","Ремонт і технічне обслуговування інших транспортних засобів",null,null,null,null,null,null,null,null,null,null,null,null,null,null,null,null,null,null,null,null,null,null,null,null,null,null,null,null,"Автономна Республіка Крим","Молочне"]
[null,null,null,null,null,null,null,null,null,null,null,null,null,null,null,"33.19","Ремонт і технічне обслуговування інших машин і устатковання",null,null,null,null,null,null,null,null,null,null,null,null,null,null,null,null,null,null,null,null,null,null,null,null,null,null,null,null,"Автономна Республіка Крим","Молочне (Ковильнівська сільська рада)"]
[null,null,null,null,null,null,null,null,null,null,null,null,null,null,null,"33.2","Установлення та монтаж машин і устатковання",null,null,null,null,null,null,null,null,null,null,null,null,null,null,null,null,null,null,null,null,null,null,null,null,null,null,null,null,"Автономна Республіка Крим","Морське"]
[null,null,null,null,null,null,null,null,null,null,null,null,null,null,null,"33.20","Установлення та монтаж машин і устатковання",null,null,null,null,null,null,null,null,null,null,null,null,null,null,null,null,null,null,null,null,null,null,null,null,null,null,null,null,"Автономна Республіка Крим","Мостове"]
[null,null,null,null,null,null,null,null,null,null,null,null,null,null,null,"D","Постачання електроенергії, газу, пари та кондиційованого повітря",null,null,null,null,null,null,null,null,null,null,null,null,null,null,null,null,null,null,null,null,null,null,null,null,null,null,null,null,"Автономна Республіка Крим","Мраморне"]
[null,null,null,null,null,null,null,null,null,null,null,null,null,null,null,"35","Постачання електроенергії, газу, пари та кондиційованого повітря",null,null,null,null,null,null,null,null,null,null,null,null,null,null,null,null,null,null,null,null,null,null,null,null,null,null,null,null,"Автономна Республіка Крим","Муромське"]
[null,null,null,null,null,null,null,null,null,null,null,null,null,null,null,"35.1","Виробництво, передача та розподілення електроенергії",null,null,null,null,null,null,null,null,null,null,null,null,null,null,null,null,null,null,null,null,null,null,null,null,null,null,null,null,"Автономна Республіка Крим","Мускатне"]
[null,null,null,null,null,null,null,null,null,null,null,null,null,null,null,"35.11","Виробництво електроенергії",null,null,null,null,null,null,null,null,null,null,null,null,null,null,null,null,null,null,null,null,null,null,null,null,null,null,null,null,"Автономна Республіка Крим","Набережне"]
[null,null,null,null,null,null,null,null,null,null,null,null,null,null,null,"35.12","Передача електроенергії",null,null,null,null,null,null,null,null,null,null,null,null,null,null,null,null,null,null,null,null,null,null,null,null,null,null,null,null,"Автономна Республіка Крим","Нагірне"]
[null,null,null,null,null,null,null,null,null,null,null,null,null,null,null,"35.13","Розподілення електроенергії",null,null,null,null,null,null,null,null,null,null,null,null,null,null,null,null,null,null,null,null,null,null,null,null,null,null,null,null,"Автономна Республіка Крим","Надежда"]
[null,null,null,null,null,null,null,null,null,null,null,null,null,null,null,"35.14","Торгівля електроенергією",null,null,null,null,null,null,null,null,null,null,null,null,null,null,null,null,null,null,null,null,null,null,null,null,null,null,null,null,"Автономна Республіка Крим","Надеждине (Красноармійська)"]
[null,null,null,null,null,null,null,null,null,null,null,null,null,null,null,"35.2","Виробництво газу; розподілення газоподібного палива через місцеві (локальні) трубопроводи",null,null,null,null,null,null,null,null,null,null,null,null,null,null,null,null,null,null,null,null,null,null,null,null,null,null,null,null,"Автономна Республіка Крим","Найдьонівка"]
[null,null,null,null,null,null,null,null,null,null,null,null,null,null,null,"35.21","Виробництво газу",null,null,null,null,null,null,null,null,null,null,null,null,null,null,null,null,null,null,null,null,null,null,null,null,null,null,null,null,"Автономна Республіка Крим","Наникове"]
[null,null,null,null,null,null,null,null,null,null,null,null,null,null,null,"35.22","Розподілення газоподібного палива через місцеві (локальні) трубопроводи",null,null,null,null,null,null,null,null,null,null,null,null,null,null,null,null,null,null,null,null,null,null,null,null,null,null,null,null,"Автономна Республіка Крим","Насипне"]
[null,null,null,null,null,null,null,null,null,null,null,null,null,null,null,"35.23","Торгівля газом через місцеві (локальні) трубопроводи",null,null,null,null,null,null,null,null,null,null,null,null,null,null,null,null,null,null,null,null,null,null,null,null,null,null,null,null,"Автономна Республіка Крим","Наташине"]
[null,null,null,null,null,null,null,null,null,null,null,null,null,null,null,"35.3","Постачання пари, гарячої води та кондиційованого повітря",null,null,null,null,null,null,null,null,null,null,null,null,null,null,null,null,null,null,null,null,null,null,null,null,null,null,null,null,"Автономна Республіка Крим","Наумівка"]
[null,null,null,null,null,null,null,null,null,null,null,null,null,null,null,"35.30","Постачання пари, гарячої води та кондиційованого повітря",null,null,null,null,null,null,null,null,null,null,null,null,null,null,null,null,null,null,null,null,null,null,null,null,null,null,null,null,"Автономна Республіка Крим","Научний"]
[null,null,null,null,null,null,null,null,null,null,null,null,null,null,null,"E","Водопостачання; каналізація, поводження з відходами",null,null,null,null,null,null,null,null,null,null,null,null,null,null,null,null,null,null,null,null,null,null,null,null,null,null,null,null,"Автономна Республіка Крим","Нахідка"]
[null,null,null,null,null,null,null,null,null,null,null,null,null,null,null,"36","Забір, очищення та постачання води",null,null,null,null,null,null,null,null,null,null,null,null,null,null,null,null,null,null,null,null,null,null,null,null,null,null,null,null,"Автономна Республіка Крим","Нахімове"]
[null,null,null,null,null,null,null,null,null,null,null,null,null,null,null,"36.0","Забір, очищення та постачання води",null,null,null,null,null,null,null,null,null,null,null,null,null,null,null,null,null,null,null,null,null,null,null,null,null,null,null,null,"Автономна Республіка Крим","Невське"]
[null,null,null,null,null,null,null,null,null,null,null,null,null,null,null,"36.00","Забір очищення та постачання води",null,null,null,null,null,null,null,null,null,null,null,null,null,null,null,null,null,null,null,null,null,null,null,null,null,null,null,null,"Автономна Республіка Крим","Некрасове"]
[null,null,null,null,null,null,null,null,null,null,null,null,null,null,null,"37","Каналізація, відведення й очищення стічних вод",null,null,null,null,null,null,null,null,null,null,null,null,null,null,null,null,null,null,null,null,null,null,null,null,null,null,null,null,"Автономна Республіка Крим","Некрасовка"]
[null,null,null,null,null,null,null,null,null,null,null,null,null,null,null,"37.0","Каналізація, відведення й очищення стічних вод",null,null,null,null,null,null,null,null,null,null,null,null,null,null,null,null,null,null,null,null,null,null,null,null,null,null,null,null,"Автономна Республіка Крим","Нива"]
[null,null,null,null,null,null,null,null,null,null,null,null,null,null,null,"37.00","Каналізація, відведення й очищення стічних вод",null,null,null,null,null,null,null,null,null,null,null,null,null,null,null,null,null,null,null,null,null,null,null,null,null,null,null,null,"Автономна Республіка Крим","Нива (Березівська)"]
[null,null,null,null,null,null,null,null,null,null,null,null,null,null,null,"38","Збирання, оброблення й видалення відходів; відновлення матеріалів",null,null,null,null,null,null,null,null,null,null,null,null,null,null,null,null,null,null,null,null,null,null,null,null,null,null,null,null,"Автономна Республіка Крим","Нижнє Запрудне"]
[null,null,null,null,null,null,null,null,null,null,null,null,null,null,null,"38.1","Збирання відходів",null,null,null,null,null,null,null,null,null,null,null,null,null,null,null,null,null,null,null,null,null,null,null,null,null,null,null,null,"Автономна Республіка Крим","Нижні Орішники"]
[null,null,null,null,null,null,null,null,null,null,null,null,null,null,null,"38.11","Збирання безпечних відходів",null,null,null,null,null,null,null,null,null,null,null,null,null,null,null,null,null,null,null,null,null,null,null,null,null,null,null,null,"Автономна Республіка Крим","Нижні Острожки"]
[null,null,null,null,null,null,null,null,null,null,null,null,null,null,null,"38.12","Збирання небезпечних відходів",null,null,null,null,null,null,null,null,null,null,null,null,null,null,null,null,null,null,null,null,null,null,null,null,null,null,null,null,"Автономна Республіка Крим","Нижня Голубинка"]
[null,null,null,null,null,null,null,null,null,null,null,null,null,null,null,"38.2","Оброблення та видалення відходів",null,null,null,null,null,null,null,null,null,null,null,null,null,null,null,null,null,null,null,null,null,null,null,null,null,null,null,null,"Автономна Республіка Крим","Нижня Кутузовка"]
[null,null,null,null,null,null,null,null,null,null,null,null,null,null,null,"38.21","Оброблення та видалення безпечних відходів",null,null,null,null,null,null,null,null,null,null,null,null,null,null,null,null,null,null,null,null,null,null,null,null,null,null,null,null,"Автономна Республіка Крим","Нижньогірський"]
[null,null,null,null,null,null,null,null,null,null,null,null,null,null,null,"38.22","Оброблення та видалення небезпечних відходів",null,null,null,null,null,null,null,null,null,null,null,null,null,null,null,null,null,null,null,null,null,null,null,null,null,null,null,null,"Автономна Республіка Крим","Нижньозаморське"]
[null,null,null,null,null,null,null,null,null,null,null,null,null,null,null,"38.3","Відновлення матеріалів",null,null,null,null,null,null,null,null,null,null,null,null,null,null,null,null,null,null,null,null,null,null,null,null,null,null,null,null,"Автономна Республіка Крим","Нижньокурганне"]
[null,null,null,null,null,null,null,null,null,null,null,null,null,null,null,"38.31","Демонтаж (розбирання) машин і устатковання",null,null,null,null,null,null,null,null,null,null,null,null,null,null,null,null,null,null,null,null,null,null,null,null,null,null,null,null,"Автономна Республіка Крим","Низинне"]
[null,null,null,null,null,null,null,null,null,null,null,null,null,null,null,"38.32","Відновлення відсортованих відходів",null,null,null,null,null,null,null,null,null,null,null,null,null,null,null,null,null,null,null,null,null,null,null,null,null,null,null,null,"Автономна Республіка Крим","Низинне (Зерновська)"]
[null,null,null,null,null,null,null,null,null,null,null,null,null,null,null,"39","Інша діяльність щодо поводження з відходами",null,null,null,null,null,null,null,null,null,null,null,null,null,null,null,null,null,null,null,null,null,null,null,null,null,null,null,null,"Автономна Республіка Крим","Низівка"]
[null,null,null,null,null,null,null,null,null,null,null,null,null,null,null,"39.0","Інша діяльність щодо поводження з відходами",null,null,null,null,null,null,null,null,null,null,null,null,null,null,null,null,null,null,null,null,null,null,null,null,null,null,null,null,"Автономна Республіка Крим","Ніжинське"]
[null,null,null,null,null,null,null,null,null,null,null,null,null,null,null,"39.00","Інша діяльність щодо поводження з відходами",null,null,null,null,null,null,null,null,null,null,null,null,null,null,null,null,null,null,null,null,null,null,null,null,null,null,null,null,"Автономна Республіка Крим","Нікіта"]
[null,null,null,null,null,null,null,null,null,null,null,null,null,null,null,"F","Будівництво",null,null,null,null,null,null,null,null,null,null,null,null,null,null,null,null,null,null,null,null,null,null,null,null,null,null,null,null,"Автономна Республіка Крим","Нова Деревня (Крестянівскої)"]
[null,null,null,null,null,null,null,null,null,null,null,null,null,null,null,"41","Будівництво будівель",null,null,null,null,null,null,null,null,null,null,null,null,null,null,null,null,null,null,null,null,null,null,null,null,null,null,null,null,"Автономна Республіка Крим","Нове  Життя"]
[null,null,null,null,null,null,null,null,null,null,null,null,null,null,null,"41.1","Організація будівництва будівель",null,null,null,null,null,null,null,null,null,null,null,null,null,null,null,null,null,null,null,null,null,null,null,null,null,null,null,null,"Автономна Республіка Крим","Новеньке"]
[null,null,null,null,null,null,null,null,null,null,null,null,null,null,null,"41.10","Організація будівництва будівель",null,null,null,null,null,null,null,null,null,null,null,null,null,null,null,null,null,null,null,null,null,null,null,null,null,null,null,null,"Автономна Республіка Крим","Новий Мир"]
[null,null,null,null,null,null,null,null,null,null,null,null,null,null,null,"41.2","Будівництво житлових і нежитлових будівель",null,null,null,null,null,null,null,null,null,null,null,null,null,null,null,null,null,null,null,null,null,null,null,null,null,null,null,null,"Автономна Республіка Крим","Новий Сад"]
[null,null,null,null,null,null,null,null,null,null,null,null,null,null,null,"41.20","Будівництво житлових і нежитлових будівель",null,null,null,null,null,null,null,null,null,null,null,null,null,null,null,null,null,null,null,null,null,null,null,null,null,null,null,null,"Автономна Республіка Крим","Новий Світ"]
[null,null,null,null,null,null,null,null,null,null,null,null,null,null,null,"42","Будівництво споруд",null,null,null,null,null,null,null,null,null,null,null,null,null,null,null,null,null,null,null,null,null,null,null,null,null,null,null,null,"Автономна Республіка Крим","Новоандріївка"]
[null,null,null,null,null,null,null,null,null,null,null,null,null,null,null,"42.1","Будівництво доріг і залізниць",null,null,null,null,null,null,null,null,null,null,null,null,null,null,null,null,null,null,null,null,null,null,null,null,null,null,null,null,"Автономна Республіка Крим","Нововасилівка"]
[null,null,null,null,null,null,null,null,null,null,null,null,null,null,null,"42.11","Будівництво доріг і автострад",null,null,null,null,null,null,null,null,null,null,null,null,null,null,null,null,null,null,null,null,null,null,null,null,null,null,null,null,"Автономна Республіка Крим","Нововідрадне"]
[null,null,null,null,null,null,null,null,null,null,null,null,null,null,null,"42.12","Будівництво залізниць і метрополітену",null,null,null,null,null,null,null,null,null,null,null,null,null,null,null,null,null,null,null,null,null,null,null,null,null,null,null,null,"Автономна Республіка Крим","Новогригорівка"]
[null,null,null,null,null,null,null,null,null,null,null,null,null,null,null,"42.13","Будівництво мостів і тунелів",null,null,null,null,null,null,null,null,null,null,null,null,null,null,null,null,null,null,null,null,null,null,null,null,null,null,null,null,"Автономна Республіка Крим","Новодолинка"]
[null,null,null,null,null,null,null,null,null,null,null,null,null,null,null,"42.2","Будівництво комунікацій",null,null,null,null,null,null,null,null,null,null,null,null,null,null,null,null,null,null,null,null,null,null,null,null,null,null,null,null,"Автономна Республіка Крим","Новоестонія"]
[null,null,null,null,null,null,null,null,null,null,null,null,null,null,null,"42.21","Будівництво трубопроводів",null,null,null,null,null,null,null,null,null,null,null,null,null,null,null,null,null,null,null,null,null,null,null,null,null,null,null,null,"Автономна Республіка Крим","Новожилівка"]
[null,null,null,null,null,null,null,null,null,null,null,null,null,null,null,"42.22","Будівництво споруд електропостачання та телекомунікацій",null,null,null,null,null,null,null,null,null,null,null,null,null,null,null,null,null,null,null,null,null,null,null,null,null,null,null,null,"Автономна Республіка Крим","Новозбур'ївка"]
[null,null,null,null,null,null,null,null,null,null,null,null,null,null,null,"42.9","Будівництво інших споруд",null,null,null,null,null,null,null,null,null,null,null,null,null,null,null,null,null,null,null,null,null,null,null,null,null,null,null,null,"Автономна Республіка Крим","Новозуївка"]
[null,null,null,null,null,null,null,null,null,null,null,null,null,null,null,"42.91","Будівництво водних споруд",null,null,null,null,null,null,null,null,null,null,null,null,null,null,null,null,null,null,null,null,null,null,null,null,null,null,null,null,"Автономна Республіка Крим","Новоіванівка"]
[null,null,null,null,null,null,null,null,null,null,null,null,null,null,null,"42.99","Будівництво інших споруд, н.в.і.у.",null,null,null,null,null,null,null,null,null,null,null,null,null,null,null,null,null,null,null,null,null,null,null,null,null,null,null,null,"Автономна Республіка Крим","Новоіванівка (Магазинська)"]
[null,null,null,null,null,null,null,null,null,null,null,null,null,null,null,"43","Спеціалізовані будівельні роботи",null,null,null,null,null,null,null,null,null,null,null,null,null,null,null,null,null,null,null,null,null,null,null,null,null,null,null,null,"Автономна Республіка Крим","Новокатеринівка"]
[null,null,null,null,null,null,null,null,null,null,null,null,null,null,null,"43.1","Знесення та підготовчі роботи на будівельному майданчику",null,null,null,null,null,null,null,null,null,null,null,null,null,null,null,null,null,null,null,null,null,null,null,null,null,null,null,null,"Автономна Республіка Крим","Новокленове"]
[null,null,null,null,null,null,null,null,null,null,null,null,null,null,null,"43.11","Знесення",null,null,null,null,null,null,null,null,null,null,null,null,null,null,null,null,null,null,null,null,null,null,null,null,null,null,null,null,"Автономна Республіка Крим","Новокостянтинівка"]
[null,null,null,null,null,null,null,null,null,null,null,null,null,null,null,"43.12","Підготовчі роботи на будівельному майданчику",null,null,null,null,null,null,null,null,null,null,null,null,null,null,null,null,null,null,null,null,null,null,null,null,null,null,null,null,"Автономна Республіка Крим","Новокримське"]
[null,null,null,null,null,null,null,null,null,null,null,null,null,null,null,"43.13","Розвідувальне буріння",null,null,null,null,null,null,null,null,null,null,null,null,null,null,null,null,null,null,null,null,null,null,null,null,null,null,null,null,"Автономна Республіка Крим","Новомикільське"]
[null,null,null,null,null,null,null,null,null,null,null,null,null,null,null,"43.2","Електромонтажні, водопровідні та інші будівельно-монтажні роботи",null,null,null,null,null,null,null,null,null,null,null,null,null,null,null,null,null,null,null,null,null,null,null,null,null,null,null,null,"Автономна Республіка Крим","Новомиколаївка"]
[null,null,null,null,null,null,null,null,null,null,null,null,null,null,null,"43.21","Електромонтажні роботи",null,null,null,null,null,null,null,null,null,null,null,null,null,null,null,null,null,null,null,null,null,null,null,null,null,null,null,null,"Автономна Республіка Крим","Новомиколаївка (Орлівської)"]
[null,null,null,null,null,null,null,null,null,null,null,null,null,null,null,"43.22","Монтаж водопровідних мереж, систем опалення та кондиціонування",null,null,null,null,null,null,null,null,null,null,null,null,null,null,null,null,null,null,null,null,null,null,null,null,null,null,null,null,"Автономна Республіка Крим","Новоозерне"]
[null,null,null,null,null,null,null,null,null,null,null,null,null,null,null,"43.29","Інші будівельно-монтажні роботи",null,null,null,null,null,null,null,null,null,null,null,null,null,null,null,null,null,null,null,null,null,null,null,null,null,null,null,null,"Автономна Республіка Крим","Новоолександрівка (Магазинської)"]
[null,null,null,null,null,null,null,null,null,null,null,null,null,null,null,"43.3","Роботи із завершення будівництва",null,null,null,null,null,null,null,null,null,null,null,null,null,null,null,null,null,null,null,null,null,null,null,null,null,null,null,null,"Автономна Республіка Крим","Новоолексіївка"]
[null,null,null,null,null,null,null,null,null,null,null,null,null,null,null,"43.31","Штукатурні роботи",null,null,null,null,null,null,null,null,null,null,null,null,null,null,null,null,null,null,null,null,null,null,null,null,null,null,null,null,"Автономна Республіка Крим","Новопавлівка"]
[null,null,null,null,null,null,null,null,null,null,null,null,null,null,null,"43.32","Установлення столярних виробів",null,null,null,null,null,null,null,null,null,null,null,null,null,null,null,null,null,null,null,null,null,null,null,null,null,null,null,null,"Автономна Республіка Крим","Новопавлівка (Новопавлівської)"]
[null,null,null,null,null,null,null,null,null,null,null,null,null,null,null,"46.24","Оптова торгівля шкірсировиною, шкурами та шкірою",null,null,null,null,null,null,null,null,null,null,null,null,null,null,null,null,null,null,null,null,null,null,null,null,null,null,null,null,"Автономна Республіка Крим","Опушки"]
[null,null,null,null,null,null,null,null,null,null,null,null,null,null,null,"46.61","Оптова торгівля сільськогосподарськими машинами й устаткованням",null,null,null,null,null,null,null,null,null,null,null,null,null,null,null,null,null,null,null,null,null,null,null,null,null,null,null,null,"Автономна Республіка Крим","Первомайське (Первомайської)"]
[null,null,null,null,null,null,null,null,null,null,null,null,null,null,null,"47.11","Роздрібна торгівля в неспеціалізованих магазинах переважно продуктами харчування, напоями та тютюновими виробами",null,null,null,null,null,null,null,null,null,null,null,null,null,null,null,null,null,null,null,null,null,null,null,null,null,null,null,null,"Автономна Республіка Крим","Побєдне"]
[null,null,null,null,null,null,null,null,null,null,null,null,null,null,null,"50.2","Вантажний морський транспорт",null,null,null,null,null,null,null,null,null,null,null,null,null,null,null,null,null,null,null,null,null,null,null,null,null,null,null,null,"Автономна Республіка Крим","Розкішне"]
[null,null,null,null,null,null,null,null,null,null,null,null,null,null,null,"52.24","Транспортне оброблення вантажів",null,null,null,null,null,null,null,null,null,null,null,null,null,null,null,null,null,null,null,null,null,null,null,null,null,null,null,null,"Автономна Республіка Крим","Санаторне"]
[null,null,null,null,null,null,null,null,null,null,null,null,null,null,null,"61.90","Інша діяльність у сфері електрозв'язку",null,null,null,null,null,null,null,null,null,null,null,null,null,null,null,null,null,null,null,null,null,null,null,null,null,null,null,null,"Автономна Республіка Крим","Степне (Степновської)"]
[null,null,null,null,null,null,null,null,null,null,null,null,null,null,null,"64.91","Фінансовий лізинг",null,null,null,null,null,null,null,null,null,null,null,null,null,null,null,null,null,null,null,null,null,null,null,null,null,null,null,null,"Автономна Республіка Крим","Тепле"]
[null,null,null,null,null,null,null,null,null,null,null,null,null,null,null,"73.2","Дослідження кон'юнктури ринку та виявлення громадської думки",null,null,null,null,null,null,null,null,null,null,null,null,null,null,null,null,null,null,null,null,null,null,null,null,null,null,null,null,"Автономна Республіка Крим","Цвіточне"]
[null,null,null,null,null,null,null,null,null,null,null,null,null,null,null,"77.32","Надання в оренду будівельних машин і устатковання",null,null,null,null,null,null,null,null,null,null,null,null,null,null,null,null,null,null,null,null,null,null,null,null,null,null,null,null,"Автономна Республіка Крим","Шаумян"]
[null,null,null,null,null,null,null,null,null,null,null,null,null,null,null,"79.90","Надання інших послуг із бронювання та пов'язана з цим діяльність",null,null,null,null,null,null,null,null,null,null,null,null,null,null,null,null,null,null,null,null,null,null,null,null,null,null,null,null,"Автономна Республіка Крим","Яковлівка"]
[null,null,null,null,null,null,null,null,null,null,null,null,null,null,null,"85.52","Освіта у сфері культури",null,null,null,null,null,null,null,null,null,null,null,null,null,null,null,null,null,null,null,null,null,null,null,null,null,null,null,null,"Вінницька","Бохоники"]
[null,null,null,null,null,null,null,null,null,null,null,null,null,null,null,"88.1","Надання соціальної допомоги без забезпечення проживання для осіб похилого віку та інвалідів",null,null,null,null,null,null,null,null,null,null,null,null,null,null,null,null,null,null,null,null,null,null,null,null,null,null,null,null,"Вінницька","Васютинці"]
[null,null,null,null,null,null,null,null,null,null,null,null,null,null,null,"96.04","Діяльність із забезпечення фізичного комфорту",null,null,null,null,null,null,null,null,null,null,null,null,null,null,null,null,null,null,null,null,null,null,null,null,null,null,null,null,"Вінницька","Глибока долина"]
[null,null,null,null,null,null,null,null,null,null,null,null,null,null,null,null,null,null,null,null,null,null,null,null,null,null,null,null,null,null,null,null,null,null,null,null,null,null,null,null,null,null,null,null,null,"Вінницька","Гриненки"]
[null,null,null,null,null,null,null,null,null,null,null,null,null,null,null,null,null,null,null,null,null,null,null,null,null,null,null,null,null,null,null,null,null,null,null,null,null,null,null,null,null,null,null,null,null,"Вінницька","Жабелівка"]
[null,null,null,null,null,null,null,null,null,null,null,null,null,null,null,null,null,null,null,null,null,null,null,null,null,null,null,null,null,null,null,null,null,null,null,null,null,null,null,null,null,null,null,null,null,"Вінницька","Закриниччя"]
[null,null,null,null,null,null,null,null,null,null,null,null,null,null,null,null,null,null,null,null,null,null,null,null,null,null,null,null,null,null,null,null,null,null,null,null,null,null,null,null,null,null,null,null,null,"Вінницька","Кисляк (Карбівська сільська рада)"]
[null,null,null,null,null,null,null,null,null,null,null,null,null,null,null,null,null,null,null,null,null,null,null,null,null,null,null,null,null,null,null,null,null,null,null,null,null,null,null,null,null,null,null,null,null,"Вінницька","Комаргородське, селище"]
[null,null,null,null,null,null,null,null,null,null,null,null,null,null,null,null,null,null,null,null,null,null,null,null,null,null,null,null,null,null,null,null,null,null,null,null,null,null,null,null,null,null,null,null,null,"Вінницька","Куманівці"]
[null,null,null,null,null,null,null,null,null,null,null,null,null,null,null,null,null,null,null,null,null,null,null,null,null,null,null,null,null,null,null,null,null,null,null,null,null,null,null,null,null,null,null,null,null,"Вінницька","Лип'ятин"]
[null,null,null,null,null,null,null,null,null,null,null,null,null,null,null,null,null,null,null,null,null,null,null,null,null,null,null,null,null,null,null,null,null,null,null,null,null,null,null,null,null,null,null,null,null,"Вінницька","Мар'янівське, селище"]
[null,null,null,null,null,null,null,null,null,null,null,null,null,null,null,null,null,null,null,null,null,null,null,null,null,null,null,null,null,null,null,null,null,null,null,null,null,null,null,null,null,null,null,null,null,"Вінницька","Мончинці"]
[null,null,null,null,null,null,null,null,null,null,null,null,null,null,null,null,null,null,null,null,null,null,null,null,null,null,null,null,null,null,null,null,null,null,null,null,null,null,null,null,null,null,null,null,null,"Вінницька","Нишівці"]
[null,null,null,null,null,null,null,null,null,null,null,null,null,null,null,null,null,null,null,null,null,null,null,null,null,null,null,null,null,null,null,null,null,null,null,null,null,null,null,null,null,null,null,null,null,"Вінницька","Петрунівка"]
[null,null,null,null,null,null,null,null,null,null,null,null,null,null,null,null,null,null,null,null,null,null,null,null,null,null,null,null,null,null,null,null,null,null,null,null,null,null,null,null,null,null,null,null,null,"Вінницька","Польова Лисіївка"]
[null,null,null,null,null,null,null,null,null,null,null,null,null,null,null,null,null,null,null,null,null,null,null,null,null,null,null,null,null,null,null,null,null,null,null,null,null,null,null,null,null,null,null,null,null,"Вінницька","Саїнка"]
[null,null,null,null,null,null,null,null,null,null,null,null,null,null,null,null,null,null,null,null,null,null,null,null,null,null,null,null,null,null,null,null,null,null,null,null,null,null,null,null,null,null,null,null,null,"Вінницька","Сиваківці"]
[null,null,null,null,null,null,null,null,null,null,null,null,null,null,null,null,null,null,null,null,null,null,null,null,null,null,null,null,null,null,null,null,null,null,null,null,null,null,null,null,null,null,null,null,null,"Вінницька","Сподахи"]
[null,null,null,null,null,null,null,null,null,null,null,null,null,null,null,null,null,null,null,null,null,null,null,null,null,null,null,null,null,null,null,null,null,null,null,null,null,null,null,null,null,null,null,null,null,"Вінницька","Теси"]
[null,null,null,null,null,null,null,null,null,null,null,null,null,null,null,null,null,null,null,null,null,null,null,null,null,null,null,null,null,null,null,null,null,null,null,null,null,null,null,null,null,null,null,null,null,"Вінницька","Уладівське"]
[null,null,null,null,null,null,null,null,null,null,null,null,null,null,null,null,null,null,null,null,null,null,null,null,null,null,null,null,null,null,null,null,null,null,null,null,null,null,null,null,null,null,null,null,null,"Вінницька","Шипинки"]
[null,null,null,null,null,null,null,null,null,null,null,null,null,null,null,null,null,null,null,null,null,null,null,null,null,null,null,null,null,null,null,null,null,null,null,null,null,null,null,null,null,null,null,null,null,"Вінницька","Щучинці"]
[null,null,null,null,null,null,null,null,null,null,null,null,null,null,null,null,null,null,null,null,null,null,null,null,null,null,null,null,null,null,null,null,null,null,null,null,null,null,null,null,null,null,null,null,null,"Волинська","Ботин"]
[null,null,null,null,null,null,null,null,null,null,null,null,null,null,null,null,null,null,null,null,null,null,null,null,null,null,null,null,null,null,null,null,null,null,null,null,null,null,null,null,null,null,null,null,null,"Волинська","Буяни"]
[null,null,null,null,null,null,null,null,null,null,null,null,null,null,null,null,null,null,null,null,null,null,null,null,null,null,null,null,null,null,null,null,null,null,null,null,null,null,null,null,null,null,null,null,null,"Волинська","Воля Свійчівська"]
[null,null,null,null,null,null,null,null,null,null,null,null,null,null,null,null,null,null,null,null,null,null,null,null,null,null,null,null,null,null,null,null,null,null,null,null,null,null,null,null,null,null,null,null,null,"Волинська","Горохів"]
[null,null,null,null,null,null,null,null,null,null,null,null,null,null,null,null,null,null,null,null,null,null,null,null,null,null,null,null,null,null,null,null,null,null,null,null,null,null,null,null,null,null,null,null,null,"Волинська","Гупали"]
[null,null,null,null,null,null,null,null,null,null,null,null,null,null,null,null,null,null,null,null,null,null,null,null,null,null,null,null,null,null,null,null,null,null,null,null,null,null,null,null,null,null,null,null,null,"Волинська","Запілля"]
[null,null,null,null,null,null,null,null,null,null,null,null,null,null,null,null,null,null,null,null,null,null,null,null,null,null,null,null,null,null,null,null,null,null,null,null,null,null,null,null,null,null,null,null,null,"Волинська","Зміїнець"]
[null,null,null,null,null,null,null,null,null,null,null,null,null,null,null,null,null,null,null,null,null,null,null,null,null,null,null,null,null,null,null,null,null,null,null,null,null,null,null,null,null,null,null,null,null,"Волинська","Краснодуб'я"]
[null,null,null,null,null,null,null,null,null,null,null,null,null,null,null,null,null,null,null,null,null,null,null,null,null,null,null,null,null,null,null,null,null,null,null,null,null,null,null,null,null,null,null,null,null,"Волинська","Кутрів"]
[null,null,null,null,null,null,null,null,null,null,null,null,null,null,null,null,null,null,null,null,null,null,null,null,null,null,null,null,null,null,null,null,null,null,null,null,null,null,null,null,null,null,null,null,null,"Волинська","Любешівська Воля"]
[null,null,null,null,null,null,null,null,null,null,null,null,null,null,null,null,null,null,null,null,null,null,null,null,null,null,null,null,null,null,null,null,null,null,null,null,null,null,null,null,null,null,null,null,null,"Волинська","Мировичі"]
[null,null,null,null,null,null,null,null,null,null,null,null,null,null,null,null,null,null,null,null,null,null,null,null,null,null,null,null,null,null,null,null,null,null,null,null,null,null,null,null,null,null,null,null,null,"Волинська","Муравище"]
[null,null,null,null,null,null,null,null,null,null,null,null,null,null,null,null,null,null,null,null,null,null,null,null,null,null,null,null,null,null,null,null,null,null,null,null,null,null,null,null,null,null,null,null,null,"Волинська","Осекрів"]
[null,null,null,null,null,null,null,null,null,null,null,null,null,null,null,null,null,null,null,null,null,null,null,null,null,null,null,null,null,null,null,null,null,null,null,null,null,null,null,null,null,null,null,null,null,"Волинська","Писарева Воля"]
[null,null,null,null,null,null,null,null,null,null,null,null,null,null,null,null,null,null,null,null,null,null,null,null,null,null,null,null,null,null,null,null,null,null,null,null,null,null,null,null,null,null,null,null,null,"Волинська","Рокині"]
[null,null,null,null,null,null,null,null,null,null,null,null,null,null,null,null,null,null,null,null,null,null,null,null,null,null,null,null,null,null,null,null,null,null,null,null,null,null,null,null,null,null,null,null,null,"Волинська","Серкизів"]
[null,null,null,null,null,null,null,null,null,null,null,null,null,null,null,null,null,null,null,null,null,null,null,null,null,null,null,null,null,null,null,null,null,null,null,null,null,null,null,null,null,null,null,null,null,"Волинська","Тагачин"]
[null,null,null,null,null,null,null,null,null,null,null,null,null,null,null,null,null,null,null,null,null,null,null,null,null,null,null,null,null,null,null,null,null,null,null,null,null,null,null,null,null,null,null,null,null,"Волинська","Трубки"]
[null,null,null,null,null,null,null,null,null,null,null,null,null,null,null,null,null,null,null,null,null,null,null,null,null,null,null,null,null,null,null,null,null,null,null,null,null,null,null,null,null,null,null,null,null,"Волинська","Холоневичі"]
[null,null,null,null,null,null,null,null,null,null,null,null,null,null,null,null,null,null,null,null,null,null,null,null,null,null,null,null,null,null,null,null,null,null,null,null,null,null,null,null,null,null,null,null,null,"Волинська","Якушів"]
[null,null,null,null,null,null,null,null,null,null,null,null,null,null,null,null,null,null,null,null,null,null,null,null,null,null,null,null,null,null,null,null,null,null,null,null,null,null,null,null,null,null,null,null,null,"Дніпропетровська","Антонівське"]
[null,null,null,null,null,null,null,null,null,null,null,null,null,null,null,null,null,null,null,null,null,null,null,null,null,null,null,null,null,null,null,null,null,null,null,null,null,null,null,null,null,null,null,null,null,"Дніпропетровська","Вербове (Бабайківська сільська рада)"]
[null,null,null,null,null,null,null,null,null,null,null,null,null,null,null,null,null,null,null,null,null,null,null,null,null,null,null,null,null,null,null,null,null,null,null,null,null,null,null,null,null,null,null,null,null,"Дніпропетровська","Веселе (Раївська)"]
[null,null,null,null,null,null,null,null,null,null,null,null,null,null,null,null,null,null,null,null,null,null,null,null,null,null,null,null,null,null,null,null,null,null,null,null,null,null,null,null,null,null,null,null,null,"Дніпропетровська","Гнатівка (Михайлівська сільська рада)"]
[null,null,null,null,null,null,null,null,null,null,null,null,null,null,null,null,null,null,null,null,null,null,null,null,null,null,null,null,null,null,null,null,null,null,null,null,null,null,null,null,null,null,null,null,null,"Дніпропетровська","Гришаї"]
[null,null,null,null,null,null,null,null,null,null,null,null,null,null,null,null,null,null,null,null,null,null,null,null,null,null,null,null,null,null,null,null,null,null,null,null,null,null,null,null,null,null,null,null,null,"Дніпропетровська","Євецько-Миколаївка"]
[null,null,null,null,null,null,null,null,null,null,null,null,null,null,null,null,null,null,null,null,null,null,null,null,null,null,null,null,null,null,null,null,null,null,null,null,null,null,null,null,null,null,null,null,null,"Дніпропетровська","Запорізьке (Запорізька сільська рада)"]
[null,null,null,null,null,null,null,null,null,null,null,null,null,null,null,null,null,null,null,null,null,null,null,null,null,null,null,null,null,null,null,null,null,null,null,null,null,null,null,null,null,null,null,null,null,"Дніпропетровська","Зелений Гай (Українська сільрада)"]
[null,null,null,null,null,null,null,null,null,null,null,null,null,null,null,null,null,null,null,null,null,null,null,null,null,null,null,null,null,null,null,null,null,null,null,null,null,null,null,null,null,null,null,null,null,"Дніпропетровська","Каплистівка"]
[null,null,null,null,null,null,null,null,null,null,null,null,null,null,null,null,null,null,null,null,null,null,null,null,null,null,null,null,null,null,null,null,null,null,null,null,null,null,null,null,null,null,null,null,null,"Дніпропетровська","Козодуб (Червоноіванівська сільська рада)"]
[null,null,null,null,null,null,null,null,null,null,null,null,null,null,null,null,null,null,null,null,null,null,null,null,null,null,null,null,null,null,null,null,null,null,null,null,null,null,null,null,null,null,null,null,null,"Дніпропетровська","Кринички (Марє-Дмитрівська сільська рада)"]
[null,null,null,null,null,null,null,null,null,null,null,null,null,null,null,null,null,null,null,null,null,null,null,null,null,null,null,null,null,null,null,null,null,null,null,null,null,null,null,null,null,null,null,null,null,"Дніпропетровська","Лисківка (Царичанська сільська рада)"]
[null,null,null,null,null,null,null,null,null,null,null,null,null,null,null,null,null,null,null,null,null,null,null,null,null,null,null,null,null,null,null,null,null,null,null,null,null,null,null,null,null,null,null,null,null,"Дніпропетровська","Мар'їнка"]
[null,null,null,null,null,null,null,null,null,null,null,null,null,null,null,null,null,null,null,null,null,null,null,null,null,null,null,null,null,null,null,null,null,null,null,null,null,null,null,null,null,null,null,null,null,"Дніпропетровська","Миколаївка (Миколаївська сільська рада)"]
[null,null,null,null,null,null,null,null,null,null,null,null,null,null,null,null,null,null,null,null,null,null,null,null,null,null,null,null,null,null,null,null,null,null,null,null,null,null,null,null,null,null,null,null,null,"Дніпропетровська","Нові Садки (Красінська сільська рада)"]
[null,null,null,null,null,null,null,null,null,null,null,null,null,null,null,null,null,null,null,null,null,null,null,null,null,null,null,null,null,null,null,null,null,null,null,null,null,null,null,null,null,null,null,null,null,"Дніпропетровська","Новоіванівка (Кам'янська)"]
[null,null,null,null,null,null,null,null,null,null,null,null,null,null,null,null,null,null,null,null,null,null,null,null,null,null,null,null,null,null,null,null,null,null,null,null,null,null,null,null,null,null,null,null,null,"Дніпропетровська","Новостроївка (Бабайківська сільська рада)"]
[null,null,null,null,null,null,null,null,null,null,null,null,null,null,null,null,null,null,null,null,null,null,null,null,null,null,null,null,null,null,null,null,null,null,null,null,null,null,null,null,null,null,null,null,null,"Дніпропетровська","Оленівка (Чапаєвська сільська рада)"]
[null,null,null,null,null,null,null,null,null,null,null,null,null,null,null,null,null,null,null,null,null,null,null,null,null,null,null,null,null,null,null,null,null,null,null,null,null,null,null,null,null,null,null,null,null,"Дніпропетровська","Отрадне (Чапаєвська сільська рада)"]
[null,null,null,null,null,null,null,null,null,null,null,null,null,null,null,null,null,null,null,null,null,null,null,null,null,null,null,null,null,null,null,null,null,null,null,null,null,null,null,null,null,null,null,null,null,"Дніпропетровська","Почино-Софіївка"]
[null,null,null,null,null,null,null,null,null,null,null,null,null,null,null,null,null,null,null,null,null,null,null,null,null,null,null,null,null,null,null,null,null,null,null,null,null,null,null,null,null,null,null,null,null,"Дніпропетровська","Радевичеве (Андріївська сільська рада)"]
[null,null,null,null,null,null,null,null,null,null,null,null,null,null,null,null,null,null,null,null,null,null,null,null,null,null,null,null,null,null,null,null,null,null,null,null,null,null,null,null,null,null,null,null,null,"Дніпропетровська","Сорокопанівка (Покровська сільська рада)"]
[null,null,null,null,null,null,null,null,null,null,null,null,null,null,null,null,null,null,null,null,null,null,null,null,null,null,null,null,null,null,null,null,null,null,null,null,null,null,null,null,null,null,null,null,null,"Дніпропетровська","Сурське"]
[null,null,null,null,null,null,null,null,null,null,null,null,null,null,null,null,null,null,null,null,null,null,null,null,null,null,null,null,null,null,null,null,null,null,null,null,null,null,null,null,null,null,null,null,null,"Дніпропетровська","Томаківка"]
[null,null,null,null,null,null,null,null,null,null,null,null,null,null,null,null,null,null,null,null,null,null,null,null,null,null,null,null,null,null,null,null,null,null,null,null,null,null,null,null,null,null,null,null,null,"Дніпропетровська","Чаус"]
[null,null,null,null,null,null,null,null,null,null,null,null,null,null,null,null,null,null,null,null,null,null,null,null,null,null,null,null,null,null,null,null,null,null,null,null,null,null,null,null,null,null,null,null,null,"Дніпропетровська","Червоний Промінь (Червонопроміньська сільська рада)"]
[null,null,null,null,null,null,null,null,null,null,null,null,null,null,null,null,null,null,null,null,null,null,null,null,null,null,null,null,null,null,null,null,null,null,null,null,null,null,null,null,null,null,null,null,null,"Дніпропетровська","Юр'ївське"]
[null,null,null,null,null,null,null,null,null,null,null,null,null,null,null,null,null,null,null,null,null,null,null,null,null,null,null,null,null,null,null,null,null,null,null,null,null,null,null,null,null,null,null,null,null,"Донецька","Бахчовик"]
[null,null,null,null,null,null,null,null,null,null,null,null,null,null,null,null,null,null,null,null,null,null,null,null,null,null,null,null,null,null,null,null,null,null,null,null,null,null,null,null,null,null,null,null,null,"Донецька","Виселки"]
[null,null,null,null,null,null,null,null,null,null,null,null,null,null,null,null,null,null,null,null,null,null,null,null,null,null,null,null,null,null,null,null,null,null,null,null,null,null,null,null,null,null,null,null,null,"Донецька","Володине (Старомлинівська с/р)"]
[null,null,null,null,null,null,null,null,null,null,null,null,null,null,null,null,null,null,null,null,null,null,null,null,null,null,null,null,null,null,null,null,null,null,null,null,null,null,null,null,null,null,null,null,null,"Донецька","Дробишеве"]
[null,null,null,null,null,null,null,null,null,null,null,null,null,null,null,null,null,null,null,null,null,null,null,null,null,null,null,null,null,null,null,null,null,null,null,null,null,null,null,null,null,null,null,null,null,"Донецька","Заїченко"]
[null,null,null,null,null,null,null,null,null,null,null,null,null,null,null,null,null,null,null,null,null,null,null,null,null,null,null,null,null,null,null,null,null,null,null,null,null,null,null,null,null,null,null,null,null,"Донецька","Зугрес"]
[null,null,null,null,null,null,null,null,null,null,null,null,null,null,null,null,null,null,null,null,null,null,null,null,null,null,null,null,null,null,null,null,null,null,null,null,null,null,null,null,null,null,null,null,null,"Донецька","Котлярівське"]
[null,null,null,null,null,null,null,null,null,null,null,null,null,null,null,null,null,null,null,null,null,null,null,null,null,null,null,null,null,null,null,null,null,null,null,null,null,null,null,null,null,null,null,null,null,"Донецька","Кримки"]
[null,null,null,null,null,null,null,null,null,null,null,null,null,null,null,null,null,null,null,null,null,null,null,null,null,null,null,null,null,null,null,null,null,null,null,null,null,null,null,null,null,null,null,null,null,"Донецька","Миколаївка (Новоекономічна селищна рада)"]
[null,null,null,null,null,null,null,null,null,null,null,null,null,null,null,null,null,null,null,null,null,null,null,null,null,null,null,null,null,null,null,null,null,null,null,null,null,null,null,null,null,null,null,null,null,"Донецька","Моспине"]
[null,null,null,null,null,null,null,null,null,null,null,null,null,null,null,null,null,null,null,null,null,null,null,null,null,null,null,null,null,null,null,null,null,null,null,null,null,null,null,null,null,null,null,null,null,"Донецька","Новогнатівка"]
[null,null,null,null,null,null,null,null,null,null,null,null,null,null,null,null,null,null,null,null,null,null,null,null,null,null,null,null,null,null,null,null,null,null,null,null,null,null,null,null,null,null,null,null,null,"Донецька","Обільне"]
[null,null,null,null,null,null,null,null,null,null,null,null,null,null,null,null,null,null,null,null,null,null,null,null,null,null,null,null,null,null,null,null,null,null,null,null,null,null,null,null,null,null,null,null,null,"Донецька","Пищевик"]
[null,null,null,null,null,null,null,null,null,null,null,null,null,null,null,null,null,null,null,null,null,null,null,null,null,null,null,null,null,null,null,null,null,null,null,null,null,null,null,null,null,null,null,null,null,"Донецька","Прохорівка"]
[null,null,null,null,null,null,null,null,null,null,null,null,null,null,null,null,null,null,null,null,null,null,null,null,null,null,null,null,null,null,null,null,null,null,null,null,null,null,null,null,null,null,null,null,null,"Донецька","Рідкодуб"]
[null,null,null,null,null,null,null,null,null,null,null,null,null,null,null,null,null,null,null,null,null,null,null,null,null,null,null,null,null,null,null,null,null,null,null,null,null,null,null,null,null,null,null,null,null,"Донецька","Сопине"]
[null,null,null,null,null,null,null,null,null,null,null,null,null,null,null,null,null,null,null,null,null,null,null,null,null,null,null,null,null,null,null,null,null,null,null,null,null,null,null,null,null,null,null,null,null,"Донецька","Трепельне"]
[null,null,null,null,null,null,null,null,null,null,null,null,null,null,null,null,null,null,null,null,null,null,null,null,null,null,null,null,null,null,null,null,null,null,null,null,null,null,null,null,null,null,null,null,null,"Донецька","Шабельківка"]
[null,null,null,null,null,null,null,null,null,null,null,null,null,null,null,null,null,null,null,null,null,null,null,null,null,null,null,null,null,null,null,null,null,null,null,null,null,null,null,null,null,null,null,null,null,"Донецька","Ялинське (Новопетриківська с/р)"]
[null,null,null,null,null,null,null,null,null,null,null,null,null,null,null,null,null,null,null,null,null,null,null,null,null,null,null,null,null,null,null,null,null,null,null,null,null,null,null,null,null,null,null,null,null,"Житомирська","Білилівка"]
[null,null,null,null,null,null,null,null,null,null,null,null,null,null,null,null,null,null,null,null,null,null,null,null,null,null,null,null,null,null,null,null,null,null,null,null,null,null,null,null,null,null,null,null,null,"Житомирська","Брід"]
[null,null,null,null,null,null,null,null,null,null,null,null,null,null,null,null,null,null,null,null,null,null,null,null,null,null,null,null,null,null,null,null,null,null,null,null,null,null,null,null,null,null,null,null,null,"Житомирська","Вакуленчук"]
[null,null,null,null,null,null,null,null,null,null,null,null,null,null,null,null,null,null,null,null,null,null,null,null,null,null,null,null,null,null,null,null,null,null,null,null,null,null,null,null,null,null,null,null,null,"Житомирська","Вишнянка"]
[null,null,null,null,null,null,null,null,null,null,null,null,null,null,null,null,null,null,null,null,null,null,null,null,null,null,null,null,null,null,null,null,null,null,null,null,null,null,null,null,null,null,null,null,null,"Житомирська","Голубин"]
[null,null,null,null,null,null,null,null,null,null,null,null,null,null,null,null,null,null,null,null,null,null,null,null,null,null,null,null,null,null,null,null,null,null,null,null,null,null,null,null,null,null,null,null,null,"Житомирська","Гута -Забілоцька"]
[null,null,null,null,null,null,null,null,null,null,null,null,null,null,null,null,null,null,null,null,null,null,null,null,null,null,null,null,null,null,null,null,null,null,null,null,null,null,null,null,null,null,null,null,null,"Житомирська","Дівошин"]
[null,null,null,null,null,null,null,null,null,null,null,null,null,null,null,null,null,null,null,null,null,null,null,null,null,null,null,null,null,null,null,null,null,null,null,null,null,null,null,null,null,null,null,null,null,"Житомирська","Збраньки"]
[null,null,null,null,null,null,null,null,null,null,null,null,null,null,null,null,null,null,null,null,null,null,null,null,null,null,null,null,null,null,null,null,null,null,null,null,null,null,null,null,null,null,null,null,null,"Житомирська","Іванопіль"]
[null,null,null,null,null,null,null,null,null,null,null,null,null,null,null,null,null,null,null,null,null,null,null,null,null,null,null,null,null,null,null,null,null,null,null,null,null,null,null,null,null,null,null,null,null,"Житомирська","Кораки"]
[null,null,null,null,null,null,null,null,null,null,null,null,null,null,null,null,null,null,null,null,null,null,null,null,null,null,null,null,null,null,null,null,null,null,null,null,null,null,null,null,null,null,null,null,null,"Житомирська","Краївщина"]
[null,null,null,null,null,null,null,null,null,null,null,null,null,null,null,null,null,null,null,null,null,null,null,null,null,null,null,null,null,null,null,null,null,null,null,null,null,null,null,null,null,null,null,null,null,"Житомирська","Лизник"]
[null,null,null,null,null,null,null,null,null,null,null,null,null,null,null,null,null,null,null,null,null,null,null,null,null,null,null,null,null,null,null,null,null,null,null,null,null,null,null,null,null,null,null,null,null,"Житомирська","Мала Чернігівка"]
[null,null,null,null,null,null,null,null,null,null,null,null,null,null,null,null,null,null,null,null,null,null,null,null,null,null,null,null,null,null,null,null,null,null,null,null,null,null,null,null,null,null,null,null,null,"Житомирська","Маркова Волиця"]
[null,null,null,null,null,null,null,null,null,null,null,null,null,null,null,null,null,null,null,null,null,null,null,null,null,null,null,null,null,null,null,null,null,null,null,null,null,null,null,null,null,null,null,null,null,"Житомирська","Нивки"]
[null,null,null,null,null,null,null,null,null,null,null,null,null,null,null,null,null,null,null,null,null,null,null,null,null,null,null,null,null,null,null,null,null,null,null,null,null,null,null,null,null,null,null,null,null,"Житомирська","Нові Жадьки"]
[null,null,null,null,null,null,null,null,null,null,null,null,null,null,null,null,null,null,null,null,null,null,null,null,null,null,null,null,null,null,null,null,null,null,null,null,null,null,null,null,null,null,null,null,null,"Житомирська","Павленківка"]
[null,null,null,null,null,null,null,null,null,null,null,null,null,null,null,null,null,null,null,null,null,null,null,null,null,null,null,null,null,null,null,null,null,null,null,null,null,null,null,null,null,null,null,null,null,"Житомирська","Пилипонка"]
[null,null,null,null,null,null,null,null,null,null,null,null,null,null,null,null,null,null,null,null,null,null,null,null,null,null,null,null,null,null,null,null,null,null,null,null,null,null,null,null,null,null,null,null,null,"Житомирська","Привороття"]
[null,null,null,null,null,null,null,null,null,null,null,null,null,null,null,null,null,null,null,null,null,null,null,null,null,null,null,null,null,null,null,null,null,null,null,null,null,null,null,null,null,null,null,null,null,"Житомирська","Рудня-Більківська"]
[null,null,null,null,null,null,null,null,null,null,null,null,null,null,null,null,null,null,null,null,null,null,null,null,null,null,null,null,null,null,null,null,null,null,null,null,null,null,null,null,null,null,null,null,null,"Житомирська","Середи"]
[null,null,null,null,null,null,null,null,null,null,null,null,null,null,null,null,null,null,null,null,null,null,null,null,null,null,null,null,null,null,null,null,null,null,null,null,null,null,null,null,null,null,null,null,null,"Житомирська","Старицьке"]
[null,null,null,null,null,null,null,null,null,null,null,null,null,null,null,null,null,null,null,null,null,null,null,null,null,null,null,null,null,null,null,null,null,null,null,null,null,null,null,null,null,null,null,null,null,"Житомирська","Стриєва"]
[null,null,null,null,null,null,null,null,null,null,null,null,null,null,null,null,null,null,null,null,null,null,null,null,null,null,null,null,null,null,null,null,null,null,null,null,null,null,null,null,null,null,null,null,null,"Житомирська","Хлупляни"]
[null,null,null,null,null,null,null,null,null,null,null,null,null,null,null,null,null,null,null,null,null,null,null,null,null,null,null,null,null,null,null,null,null,null,null,null,null,null,null,null,null,null,null,null,null,"Житомирська","Червона Волока"]
[null,null,null,null,null,null,null,null,null,null,null,null,null,null,null,null,null,null,null,null,null,null,null,null,null,null,null,null,null,null,null,null,null,null,null,null,null,null,null,null,null,null,null,null,null,"Житомирська","Щеніїв"]
[null,null,null,null,null,null,null,null,null,null,null,null,null,null,null,null,null,null,null,null,null,null,null,null,null,null,null,null,null,null,null,null,null,null,null,null,null,null,null,null,null,null,null,null,null,"Закарпатська","Біласовиця (Біласовицька сільська рада)"]
[null,null,null,null,null,null,null,null,null,null,null,null,null,null,null,null,null,null,null,null,null,null,null,null,null,null,null,null,null,null,null,null,null,null,null,null,null,null,null,null,null,null,null,null,null,"Закарпатська","Виноградів (Виноградівська міська рада)"]
[null,null,null,null,null,null,null,null,null,null,null,null,null,null,null,null,null,null,null,null,null,null,null,null,null,null,null,null,null,null,null,null,null,null,null,null,null,null,null,null,null,null,null,null,null,"Закарпатська","Ганьковиця (Ганьковицька сільська рада)"]
[null,null,null,null,null,null,null,null,null,null,null,null,null,null,null,null,null,null,null,null,null,null,null,null,null,null,null,null,null,null,null,null,null,null,null,null,null,null,null,null,null,null,null,null,null,"Закарпатська","Грабово (Пузняковецька сільська рада)"]
[null,null,null,null,null,null,null,null,null,null,null,null,null,null,null,null,null,null,null,null,null,null,null,null,null,null,null,null,null,null,null,null,null,null,null,null,null,null,null,null,null,null,null,null,null,"Закарпатська","Завосино (Малий Березний)"]
[null,null,null,null,null,null,null,null,null,null,null,null,null,null,null,null,null,null,null,null,null,null,null,null,null,null,null,null,null,null,null,null,null,null,null,null,null,null,null,null,null,null,null,null,null,"Закарпатська","Іршава (Іршавська міська рада)"]
[null,null,null,null,null,null,null,null,null,null,null,null,null,null,null,null,null,null,null,null,null,null,null,null,null,null,null,null,null,null,null,null,null,null,null,null,null,null,null,null,null,null,null,null,null,"Закарпатська","Кричово (Кричівська сільська рада)"]
[null,null,null,null,null,null,null,null,null,null,null,null,null,null,null,null,null,null,null,null,null,null,null,null,null,null,null,null,null,null,null,null,null,null,null,null,null,null,null,null,null,null,null,null,null,"Закарпатська","Лопушанка (Дусинська сільська рада)"]
[null,null,null,null,null,null,null,null,null,null,null,null,null,null,null,null,null,null,null,null,null,null,null,null,null,null,null,null,null,null,null,null,null,null,null,null,null,null,null,null,null,null,null,null,null,"Закарпатська","Нове Давидково (Новодавидківська сільська рада)"]
[null,null,null,null,null,null,null,null,null,null,null,null,null,null,null,null,null,null,null,null,null,null,null,null,null,null,null,null,null,null,null,null,null,null,null,null,null,null,null,null,null,null,null,null,null,"Закарпатська","Осій (Осійська сільська рада)"]
[null,null,null,null,null,null,null,null,null,null,null,null,null,null,null,null,null,null,null,null,null,null,null,null,null,null,null,null,null,null,null,null,null,null,null,null,null,null,null,null,null,null,null,null,null,"Закарпатська","Плоскановиця (Брестівська сільська рада)"]
[null,null,null,null,null,null,null,null,null,null,null,null,null,null,null,null,null,null,null,null,null,null,null,null,null,null,null,null,null,null,null,null,null,null,null,null,null,null,null,null,null,null,null,null,null,"Закарпатська","Свалява (Свалявська міська рада)"]
[null,null,null,null,null,null,null,null,null,null,null,null,null,null,null,null,null,null,null,null,null,null,null,null,null,null,null,null,null,null,null,null,null,null,null,null,null,null,null,null,null,null,null,null,null,"Закарпатська","Терново (Тернівська сільська рада)"]
[null,null,null,null,null,null,null,null,null,null,null,null,null,null,null,null,null,null,null,null,null,null,null,null,null,null,null,null,null,null,null,null,null,null,null,null,null,null,null,null,null,null,null,null,null,"Закарпатська","Усть-Чорна (Усть-Чорнянська селищна рада)"]
[null,null,null,null,null,null,null,null,null,null,null,null,null,null,null,null,null,null,null,null,null,null,null,null,null,null,null,null,null,null,null,null,null,null,null,null,null,null,null,null,null,null,null,null,null,"Закарпатська","Червеньово (Зняцівська сільська рада)"]
[null,null,null,null,null,null,null,null,null,null,null,null,null,null,null,null,null,null,null,null,null,null,null,null,null,null,null,null,null,null,null,null,null,null,null,null,null,null,null,null,null,null,null,null,null,"Запорізька","Богунівка"]
[null,null,null,null,null,null,null,null,null,null,null,null,null,null,null,null,null,null,null,null,null,null,null,null,null,null,null,null,null,null,null,null,null,null,null,null,null,null,null,null,null,null,null,null,null,"Запорізька","Веселівське"]
[null,null,null,null,null,null,null,null,null,null,null,null,null,null,null,null,null,null,null,null,null,null,null,null,null,null,null,null,null,null,null,null,null,null,null,null,null,null,null,null,null,null,null,null,null,"Запорізька","Зелена Балка"]
[null,null,null,null,null,null,null,null,null,null,null,null,null,null,null,null,null,null,null,null,null,null,null,null,null,null,null,null,null,null,null,null,null,null,null,null,null,null,null,null,null,null,null,null,null,"Запорізька","Кінські Роздори"]
[null,null,null,null,null,null,null,null,null,null,null,null,null,null,null,null,null,null,null,null,null,null,null,null,null,null,null,null,null,null,null,null,null,null,null,null,null,null,null,null,null,null,null,null,null,"Запорізька","Люцерна"]
[null,null,null,null,null,null,null,null,null,null,null,null,null,null,null,null,null,null,null,null,null,null,null,null,null,null,null,null,null,null,null,null,null,null,null,null,null,null,null,null,null,null,null,null,null,"Запорізька","Новозлатопіль"]
[null,null,null,null,null,null,null,null,null,null,null,null,null,null,null,null,null,null,null,null,null,null,null,null,null,null,null,null,null,null,null,null,null,null,null,null,null,null,null,null,null,null,null,null,null,"Запорізька","Новостепнянське"]
[null,null,null,null,null,null,null,null,null,null,null,null,null,null,null,null,null,null,null,null,null,null,null,null,null,null,null,null,null,null,null,null,null,null,null,null,null,null,null,null,null,null,null,null,null,"Запорізька","Ручаївка"]
[null,null,null,null,null,null,null,null,null,null,null,null,null,null,null,null,null,null,null,null,null,null,null,null,null,null,null,null,null,null,null,null,null,null,null,null,null,null,null,null,null,null,null,null,null,"Запорізька","Стульневе, селище"]
[null,null,null,null,null,null,null,null,null,null,null,null,null,null,null,null,null,null,null,null,null,null,null,null,null,null,null,null,null,null,null,null,null,null,null,null,null,null,null,null,null,null,null,null,null,"Івано_Франківська","Балинці"]
[null,null,null,null,null,null,null,null,null,null,null,null,null,null,null,null,null,null,null,null,null,null,null,null,null,null,null,null,null,null,null,null,null,null,null,null,null,null,null,null,null,null,null,null,null,"Івано_Франківська","Богородчани"]
[null,null,null,null,null,null,null,null,null,null,null,null,null,null,null,null,null,null,null,null,null,null,null,null,null,null,null,null,null,null,null,null,null,null,null,null,null,null,null,null,null,null,null,null,null,"Івано_Франківська","Вербилівці"]
[null,null,null,null,null,null,null,null,null,null,null,null,null,null,null,null,null,null,null,null,null,null,null,null,null,null,null,null,null,null,null,null,null,null,null,null,null,null,null,null,null,null,null,null,null,"Івано_Франківська","Глушків"]
[null,null,null,null,null,null,null,null,null,null,null,null,null,null,null,null,null,null,null,null,null,null,null,null,null,null,null,null,null,null,null,null,null,null,null,null,null,null,null,null,null,null,null,null,null,"Івано_Франківська","Гузіїв"]
[null,null,null,null,null,null,null,null,null,null,null,null,null,null,null,null,null,null,null,null,null,null,null,null,null,null,null,null,null,null,null,null,null,null,null,null,null,null,null,null,null,null,null,null,null,"Івано_Франківська","Заланів"]
[null,null,null,null,null,null,null,null,null,null,null,null,null,null,null,null,null,null,null,null,null,null,null,null,null,null,null,null,null,null,null,null,null,null,null,null,null,null,null,null,null,null,null,null,null,"Івано_Франківська","Ільці"]
[null,null,null,null,null,null,null,null,null,null,null,null,null,null,null,null,null,null,null,null,null,null,null,null,null,null,null,null,null,null,null,null,null,null,null,null,null,null,null,null,null,null,null,null,null,"Івано_Франківська","Кулачківці"]
[null,null,null,null,null,null,null,null,null,null,null,null,null,null,null,null,null,null,null,null,null,null,null,null,null,null,null,null,null,null,null,null,null,null,null,null,null,null,null,null,null,null,null,null,null,"Івано_Франківська","Лісна Тарновиця"]
[null,null,null,null,null,null,null,null,null,null,null,null,null,null,null,null,null,null,null,null,null,null,null,null,null,null,null,null,null,null,null,null,null,null,null,null,null,null,null,null,null,null,null,null,null,"Івано_Франківська","Межигірці"]
[null,null,null,null,null,null,null,null,null,null,null,null,null,null,null,null,null,null,null,null,null,null,null,null,null,null,null,null,null,null,null,null,null,null,null,null,null,null,null,null,null,null,null,null,null,"Івано_Франківська","Олешів"]
[null,null,null,null,null,null,null,null,null,null,null,null,null,null,null,null,null,null,null,null,null,null,null,null,null,null,null,null,null,null,null,null,null,null,null,null,null,null,null,null,null,null,null,null,null,"Івано_Франківська","Перерив"]
[null,null,null,null,null,null,null,null,null,null,null,null,null,null,null,null,null,null,null,null,null,null,null,null,null,null,null,null,null,null,null,null,null,null,null,null,null,null,null,null,null,null,null,null,null,"Івано_Франківська","Рибне"]
[null,null,null,null,null,null,null,null,null,null,null,null,null,null,null,null,null,null,null,null,null,null,null,null,null,null,null,null,null,null,null,null,null,null,null,null,null,null,null,null,null,null,null,null,null,"Івано_Франківська","Саджавка"]
[null,null,null,null,null,null,null,null,null,null,null,null,null,null,null,null,null,null,null,null,null,null,null,null,null,null,null,null,null,null,null,null,null,null,null,null,null,null,null,null,null,null,null,null,null,"Івано_Франківська","Студинець"]
[null,null,null,null,null,null,null,null,null,null,null,null,null,null,null,null,null,null,null,null,null,null,null,null,null,null,null,null,null,null,null,null,null,null,null,null,null,null,null,null,null,null,null,null,null,"Івано_Франківська","Тужилів"]
[null,null,null,null,null,null,null,null,null,null,null,null,null,null,null,null,null,null,null,null,null,null,null,null,null,null,null,null,null,null,null,null,null,null,null,null,null,null,null,null,null,null,null,null,null,"Івано_Франківська","Юнашків"]
[null,null,null,null,null,null,null,null,null,null,null,null,null,null,null,null,null,null,null,null,null,null,null,null,null,null,null,null,null,null,null,null,null,null,null,null,null,null,null,null,null,null,null,null,null,"Київська","Баришівка"]
[null,null,null,null,null,null,null,null,null,null,null,null,null,null,null,null,null,null,null,null,null,null,null,null,null,null,null,null,null,null,null,null,null,null,null,null,null,null,null,null,null,null,null,null,null,"Київська","Велика Вільшанка"]
[null,null,null,null,null,null,null,null,null,null,null,null,null,null,null,null,null,null,null,null,null,null,null,null,null,null,null,null,null,null,null,null,null,null,null,null,null,null,null,null,null,null,null,null,null,"Київська","Вербова"]
[null,null,null,null,null,null,null,null,null,null,null,null,null,null,null,null,null,null,null,null,null,null,null,null,null,null,null,null,null,null,null,null,null,null,null,null,null,null,null,null,null,null,null,null,null,"Київська","Володимирське"]
[null,null,null,null,null,null,null,null,null,null,null,null,null,null,null,null,null,null,null,null,null,null,null,null,null,null,null,null,null,null,null,null,null,null,null,null,null,null,null,null,null,null,null,null,null,"Київська","Гречанівка"]
[null,null,null,null,null,null,null,null,null,null,null,null,null,null,null,null,null,null,null,null,null,null,null,null,null,null,null,null,null,null,null,null,null,null,null,null,null,null,null,null,null,null,null,null,null,"Київська","Дзвеняче"]
[null,null,null,null,null,null,null,null,null,null,null,null,null,null,null,null,null,null,null,null,null,null,null,null,null,null,null,null,null,null,null,null,null,null,null,null,null,null,null,null,null,null,null,null,null,"Київська","Заострівське"]
[null,null,null,null,null,null,null,null,null,null,null,null,null,null,null,null,null,null,null,null,null,null,null,null,null,null,null,null,null,null,null,null,null,null,null,null,null,null,null,null,null,null,null,null,null,"Київська","Кам'яна Гребля"]
[null,null,null,null,null,null,null,null,null,null,null,null,null,null,null,null,null,null,null,null,null,null,null,null,null,null,null,null,null,null,null,null,null,null,null,null,null,null,null,null,null,null,null,null,null,"Київська","Крушинка"]
[null,null,null,null,null,null,null,null,null,null,null,null,null,null,null,null,null,null,null,null,null,null,null,null,null,null,null,null,null,null,null,null,null,null,null,null,null,null,null,null,null,null,null,null,null,"Київська","Лецьки"]
[null,null,null,null,null,null,null,null,null,null,null,null,null,null,null,null,null,null,null,null,null,null,null,null,null,null,null,null,null,null,null,null,null,null,null,null,null,null,null,null,null,null,null,null,null,"Київська","Мала Тарасівка"]
[null,null,null,null,null,null,null,null,null,null,null,null,null,null,null,null,null,null,null,null,null,null,null,null,null,null,null,null,null,null,null,null,null,null,null,null,null,null,null,null,null,null,null,null,null,"Київська","Мисайлівка"]
[null,null,null,null,null,null,null,null,null,null,null,null,null,null,null,null,null,null,null,null,null,null,null,null,null,null,null,null,null,null,null,null,null,null,null,null,null,null,null,null,null,null,null,null,null,"Київська","Насташка"]
[null,null,null,null,null,null,null,null,null,null,null,null,null,null,null,null,null,null,null,null,null,null,null,null,null,null,null,null,null,null,null,null,null,null,null,null,null,null,null,null,null,null,null,null,null,"Київська","Пасківщина"]
[null,null,null,null,null,null,null,null,null,null,null,null,null,null,null,null,null,null,null,null,null,null,null,null,null,null,null,null,null,null,null,null,null,null,null,null,null,null,null,null,null,null,null,null,null,"Київська","Плюти"]
[null,null,null,null,null,null,null,null,null,null,null,null,null,null,null,null,null,null,null,null,null,null,null,null,null,null,null,null,null,null,null,null,null,null,null,null,null,null,null,null,null,null,null,null,null,"Київська","Розважів"]
[null,null,null,null,null,null,null,null,null,null,null,null,null,null,null,null,null,null,null,null,null,null,null,null,null,null,null,null,null,null,null,null,null,null,null,null,null,null,null,null,null,null,null,null,null,"Київська","Саврань"]
[null,null,null,null,null,null,null,null,null,null,null,null,null,null,null,null,null,null,null,null,null,null,null,null,null,null,null,null,null,null,null,null,null,null,null,null,null,null,null,null,null,null,null,null,null,"Київська","Стоянка"]
[null,null,null,null,null,null,null,null,null,null,null,null,null,null,null,null,null,null,null,null,null,null,null,null,null,null,null,null,null,null,null,null,null,null,null,null,null,null,null,null,null,null,null,null,null,"Київська","Тараща"]
[null,null,null,null,null,null,null,null,null,null,null,null,null,null,null,null,null,null,null,null,null,null,null,null,null,null,null,null,null,null,null,null,null,null,null,null,null,null,null,null,null,null,null,null,null,"Київська","Урсалівка"]
[null,null,null,null,null,null,null,null,null,null,null,null,null,null,null,null,null,null,null,null,null,null,null,null,null,null,null,null,null,null,null,null,null,null,null,null,null,null,null,null,null,null,null,null,null,"Київська","Червоне Поле"]
[null,null,null,null,null,null,null,null,null,null,null,null,null,null,null,null,null,null,null,null,null,null,null,null,null,null,null,null,null,null,null,null,null,null,null,null,null,null,null,null,null,null,null,null,null,"Київська","Шевченківка"]
[null,null,null,null,null,null,null,null,null,null,null,null,null,null,null,null,null,null,null,null,null,null,null,null,null,null,null,null,null,null,null,null,null,null,null,null,null,null,null,null,null,null,null,null,null,"Кіровоградська","Бузникувате"]
[null,null,null,null,null,null,null,null,null,null,null,null,null,null,null,null,null,null,null,null,null,null,null,null,null,null,null,null,null,null,null,null,null,null,null,null,null,null,null,null,null,null,null,null,null,"Кіровоградська","Височанове"]
[null,null,null,null,null,null,null,null,null,null,null,null,null,null,null,null,null,null,null,null,null,null,null,null,null,null,null,null,null,null,null,null,null,null,null,null,null,null,null,null,null,null,null,null,null,"Кіровоградська","Звенигородка"]
[null,null,null,null,null,null,null,null,null,null,null,null,null,null,null,null,null,null,null,null,null,null,null,null,null,null,null,null,null,null,null,null,null,null,null,null,null,null,null,null,null,null,null,null,null,"Кіровоградська","Камбурліївка"]
[null,null,null,null,null,null,null,null,null,null,null,null,null,null,null,null,null,null,null,null,null,null,null,null,null,null,null,null,null,null,null,null,null,null,null,null,null,null,null,null,null,null,null,null,null,"Кіровоградська","Лев-балка"]
[null,null,null,null,null,null,null,null,null,null,null,null,null,null,null,null,null,null,null,null,null,null,null,null,null,null,null,null,null,null,null,null,null,null,null,null,null,null,null,null,null,null,null,null,null,"Кіровоградська","Могилів Курінь"]
[null,null,null,null,null,null,null,null,null,null,null,null,null,null,null,null,null,null,null,null,null,null,null,null,null,null,null,null,null,null,null,null,null,null,null,null,null,null,null,null,null,null,null,null,null,"Кіровоградська","Низове"]
[null,null,null,null,null,null,null,null,null,null,null,null,null,null,null,null,null,null,null,null,null,null,null,null,null,null,null,null,null,null,null,null,null,null,null,null,null,null,null,null,null,null,null,null,null,"Кіровоградська","Піщаний  Брід"]
[null,null,null,null,null,null,null,null,null,null,null,null,null,null,null,null,null,null,null,null,null,null,null,null,null,null,null,null,null,null,null,null,null,null,null,null,null,null,null,null,null,null,null,null,null,"Кіровоградська","П'ятомиколаївка"]
[null,null,null,null,null,null,null,null,null,null,null,null,null,null,null,null,null,null,null,null,null,null,null,null,null,null,null,null,null,null,null,null,null,null,null,null,null,null,null,null,null,null,null,null,null,"Кіровоградська","Сухолітівка"]
[null,null,null,null,null,null,null,null,null,null,null,null,null,null,null,null,null,null,null,null,null,null,null,null,null,null,null,null,null,null,null,null,null,null,null,null,null,null,null,null,null,null,null,null,null,"Кіровоградська","Червоний Ташлик"]
[null,null,null,null,null,null,null,null,null,null,null,null,null,null,null,null,null,null,null,null,null,null,null,null,null,null,null,null,null,null,null,null,null,null,null,null,null,null,null,null,null,null,null,null,null,"Луганська","Бокове-Платове"]
[null,null,null,null,null,null,null,null,null,null,null,null,null,null,null,null,null,null,null,null,null,null,null,null,null,null,null,null,null,null,null,null,null,null,null,null,null,null,null,null,null,null,null,null,null,"Луганська","Велика Мартинівка"]
[null,null,null,null,null,null,null,null,null,null,null,null,null,null,null,null,null,null,null,null,null,null,null,null,null,null,null,null,null,null,null,null,null,null,null,null,null,null,null,null,null,null,null,null,null,"Луганська","Верхньокам'янка"]
[null,null,null,null,null,null,null,null,null,null,null,null,null,null,null,null,null,null,null,null,null,null,null,null,null,null,null,null,null,null,null,null,null,null,null,null,null,null,null,null,null,null,null,null,null,"Луганська","Давидівка"]
[null,null,null,null,null,null,null,null,null,null,null,null,null,null,null,null,null,null,null,null,null,null,null,null,null,null,null,null,null,null,null,null,null,null,null,null,null,null,null,null,null,null,null,null,null,"Луганська","Енгельсове (Енгельсовська селещна рада)"]
[null,null,null,null,null,null,null,null,null,null,null,null,null,null,null,null,null,null,null,null,null,null,null,null,null,null,null,null,null,null,null,null,null,null,null,null,null,null,null,null,null,null,null,null,null,"Луганська","Карпати"]
[null,null,null,null,null,null,null,null,null,null,null,null,null,null,null,null,null,null,null,null,null,null,null,null,null,null,null,null,null,null,null,null,null,null,null,null,null,null,null,null,null,null,null,null,null,"Луганська","Козарик"]
[null,null,null,null,null,null,null,null,null,null,null,null,null,null,null,null,null,null,null,null,null,null,null,null,null,null,null,null,null,null,null,null,null,null,null,null,null,null,null,null,null,null,null,null,null,"Луганська","Куплювате"]
[null,null,null,null,null,null,null,null,null,null,null,null,null,null,null,null,null,null,null,null,null,null,null,null,null,null,null,null,null,null,null,null,null,null,null,null,null,null,null,null,null,null,null,null,null,"Луганська","Лоскутівка"]
[null,null,null,null,null,null,null,null,null,null,null,null,null,null,null,null,null,null,null,null,null,null,null,null,null,null,null,null,null,null,null,null,null,null,null,null,null,null,null,null,null,null,null,null,null,"Луганська","Марківське"]
[null,null,null,null,null,null,null,null,null,null,null,null,null,null,null,null,null,null,null,null,null,null,null,null,null,null,null,null,null,null,null,null,null,null,null,null,null,null,null,null,null,null,null,null,null,"Луганська","Новодружеськ"]
[null,null,null,null,null,null,null,null,null,null,null,null,null,null,null,null,null,null,null,null,null,null,null,null,null,null,null,null,null,null,null,null,null,null,null,null,null,null,null,null,null,null,null,null,null,"Луганська","Новоспасівка"]
[null,null,null,null,null,null,null,null,null,null,null,null,null,null,null,null,null,null,null,null,null,null,null,null,null,null,null,null,null,null,null,null,null,null,null,null,null,null,null,null,null,null,null,null,null,"Луганська","Преображенне"]
[null,null,null,null,null,null,null,null,null,null,null,null,null,null,null,null,null,null,null,null,null,null,null,null,null,null,null,null,null,null,null,null,null,null,null,null,null,null,null,null,null,null,null,null,null,"Луганська","Радісне (Білоскелюватська сільська рада)"]
[null,null,null,null,null,null,null,null,null,null,null,null,null,null,null,null,null,null,null,null,null,null,null,null,null,null,null,null,null,null,null,null,null,null,null,null,null,null,null,null,null,null,null,null,null,"Луганська","Станично-Луганське"]
[null,null,null,null,null,null,null,null,null,null,null,null,null,null,null,null,null,null,null,null,null,null,null,null,null,null,null,null,null,null,null,null,null,null,null,null,null,null,null,null,null,null,null,null,null,"Луганська","Тернівка"]
[null,null,null,null,null,null,null,null,null,null,null,null,null,null,null,null,null,null,null,null,null,null,null,null,null,null,null,null,null,null,null,null,null,null,null,null,null,null,null,null,null,null,null,null,null,"Луганська","Червоногвардійське"]
[null,null,null,null,null,null,null,null,null,null,null,null,null,null,null,null,null,null,null,null,null,null,null,null,null,null,null,null,null,null,null,null,null,null,null,null,null,null,null,null,null,null,null,null,null,"Луганська","Щотове"]
[null,null,null,null,null,null,null,null,null,null,null,null,null,null,null,null,null,null,null,null,null,null,null,null,null,null,null,null,null,null,null,null,null,null,null,null,null,null,null,null,null,null,null,null,null,"Львівська","Бишків"]
[null,null,null,null,null,null,null,null,null,null,null,null,null,null,null,null,null,null,null,null,null,null,null,null,null,null,null,null,null,null,null,null,null,null,null,null,null,null,null,null,null,null,null,null,null,"Львівська","Богутин"]
[null,null,null,null,null,null,null,null,null,null,null,null,null,null,null,null,null,null,null,null,null,null,null,null,null,null,null,null,null,null,null,null,null,null,null,null,null,null,null,null,null,null,null,null,null,"Львівська","Бояничі"]
[null,null,null,null,null,null,null,null,null,null,null,null,null,null,null,null,null,null,null,null,null,null,null,null,null,null,null,null,null,null,null,null,null,null,null,null,null,null,null,null,null,null,null,null,null,"Львівська","Велика Лінина"]
[null,null,null,null,null,null,null,null,null,null,null,null,null,null,null,null,null,null,null,null,null,null,null,null,null,null,null,null,null,null,null,null,null,null,null,null,null,null,null,null,null,null,null,null,null,"Львівська","Верхня Лукавиця"]
[null,null,null,null,null,null,null,null,null,null,null,null,null,null,null,null,null,null,null,null,null,null,null,null,null,null,null,null,null,null,null,null,null,null,null,null,null,null,null,null,null,null,null,null,null,"Львівська","Воля Добростанська"]
[null,null,null,null,null,null,null,null,null,null,null,null,null,null,null,null,null,null,null,null,null,null,null,null,null,null,null,null,null,null,null,null,null,null,null,null,null,null,null,null,null,null,null,null,null,"Львівська","Вуйковичі"]
[null,null,null,null,null,null,null,null,null,null,null,null,null,null,null,null,null,null,null,null,null,null,null,null,null,null,null,null,null,null,null,null,null,null,null,null,null,null,null,null,null,null,null,null,null,"Львівська","Грабівниця"]
[null,null,null,null,null,null,null,null,null,null,null,null,null,null,null,null,null,null,null,null,null,null,null,null,null,null,null,null,null,null,null,null,null,null,null,null,null,null,null,null,null,null,null,null,null,"Львівська","Гуманець"]
[null,null,null,null,null,null,null,null,null,null,null,null,null,null,null,null,null,null,null,null,null,null,null,null,null,null,null,null,null,null,null,null,null,null,null,null,null,null,null,null,null,null,null,null,null,"Львівська","Долини (Стародобротвірська сільська рада)"]
[null,null,null,null,null,null,null,null,null,null,null,null,null,null,null,null,null,null,null,null,null,null,null,null,null,null,null,null,null,null,null,null,null,null,null,null,null,null,null,null,null,null,null,null,null,"Львівська","Жирівка"]
[null,null,null,null,null,null,null,null,null,null,null,null,null,null,null,null,null,null,null,null,null,null,null,null,null,null,null,null,null,null,null,null,null,null,null,null,null,null,null,null,null,null,null,null,null,"Львівська","Журавків"]
[null,null,null,null,null,null,null,null,null,null,null,null,null,null,null,null,null,null,null,null,null,null,null,null,null,null,null,null,null,null,null,null,null,null,null,null,null,null,null,null,null,null,null,null,null,"Львівська","Заставне"]
[null,null,null,null,null,null,null,null,null,null,null,null,null,null,null,null,null,null,null,null,null,null,null,null,null,null,null,null,null,null,null,null,null,null,null,null,null,null,null,null,null,null,null,null,null,"Львівська","Золочів"]
[null,null,null,null,null,null,null,null,null,null,null,null,null,null,null,null,null,null,null,null,null,null,null,null,null,null,null,null,null,null,null,null,null,null,null,null,null,null,null,null,null,null,null,null,null,"Львівська","Кобилеччина"]
[null,null,null,null,null,null,null,null,null,null,null,null,null,null,null,null,null,null,null,null,null,null,null,null,null,null,null,null,null,null,null,null,null,null,null,null,null,null,null,null,null,null,null,null,null,"Львівська","Конюхів"]
[null,null,null,null,null,null,null,null,null,null,null,null,null,null,null,null,null,null,null,null,null,null,null,null,null,null,null,null,null,null,null,null,null,null,null,null,null,null,null,null,null,null,null,null,null,"Львівська","Костенів"]
[null,null,null,null,null,null,null,null,null,null,null,null,null,null,null,null,null,null,null,null,null,null,null,null,null,null,null,null,null,null,null,null,null,null,null,null,null,null,null,null,null,null,null,null,null,"Львівська","Ладанці"]
[null,null,null,null,null,null,null,null,null,null,null,null,null,null,null,null,null,null,null,null,null,null,null,null,null,null,null,null,null,null,null,null,null,null,null,null,null,null,null,null,null,null,null,null,null,"Львівська","Листв'яне"]
[null,null,null,null,null,null,null,null,null,null,null,null,null,null,null,null,null,null,null,null,null,null,null,null,null,null,null,null,null,null,null,null,null,null,null,null,null,null,null,null,null,null,null,null,null,"Львівська","Маїки"]
[null,null,null,null,null,null,null,null,null,null,null,null,null,null,null,null,null,null,null,null,null,null,null,null,null,null,null,null,null,null,null,null,null,null,null,null,null,null,null,null,null,null,null,null,null,"Львівська","Малі Ланки"]
[null,null,null,null,null,null,null,null,null,null,null,null,null,null,null,null,null,null,null,null,null,null,null,null,null,null,null,null,null,null,null,null,null,null,null,null,null,null,null,null,null,null,null,null,null,"Львівська","Молотів"]
[null,null,null,null,null,null,null,null,null,null,null,null,null,null,null,null,null,null,null,null,null,null,null,null,null,null,null,null,null,null,null,null,null,null,null,null,null,null,null,null,null,null,null,null,null,"Львівська","Нагачів"]
[null,null,null,null,null,null,null,null,null,null,null,null,null,null,null,null,null,null,null,null,null,null,null,null,null,null,null,null,null,null,null,null,null,null,null,null,null,null,null,null,null,null,null,null,null,"Львівська","Новини"]
[null,null,null,null,null,null,null,null,null,null,null,null,null,null,null,null,null,null,null,null,null,null,null,null,null,null,null,null,null,null,null,null,null,null,null,null,null,null,null,null,null,null,null,null,null,"Львівська","Опори"]
[null,null,null,null,null,null,null,null,null,null,null,null,null,null,null,null,null,null,null,null,null,null,null,null,null,null,null,null,null,null,null,null,null,null,null,null,null,null,null,null,null,null,null,null,null,"Львівська","Папірня"]
[null,null,null,null,null,null,null,null,null,null,null,null,null,null,null,null,null,null,null,null,null,null,null,null,null,null,null,null,null,null,null,null,null,null,null,null,null,null,null,null,null,null,null,null,null,"Львівська","Пісок"]
[null,null,null,null,null,null,null,null,null,null,null,null,null,null,null,null,null,null,null,null,null,null,null,null,null,null,null,null,null,null,null,null,null,null,null,null,null,null,null,null,null,null,null,null,null,"Львівська","Погірці"]
[null,null,null,null,null,null,null,null,null,null,null,null,null,null,null,null,null,null,null,null,null,null,null,null,null,null,null,null,null,null,null,null,null,null,null,null,null,null,null,null,null,null,null,null,null,"Львівська","Раковища"]
[null,null,null,null,null,null,null,null,null,null,null,null,null,null,null,null,null,null,null,null,null,null,null,null,null,null,null,null,null,null,null,null,null,null,null,null,null,null,null,null,null,null,null,null,null,"Львівська","Рішин"]
[null,null,null,null,null,null,null,null,null,null,null,null,null,null,null,null,null,null,null,null,null,null,null,null,null,null,null,null,null,null,null,null,null,null,null,null,null,null,null,null,null,null,null,null,null,"Львівська","Себечів"]
[null,null,null,null,null,null,null,null,null,null,null,null,null,null,null,null,null,null,null,null,null,null,null,null,null,null,null,null,null,null,null,null,null,null,null,null,null,null,null,null,null,null,null,null,null,"Львівська","Слабаш"]
[null,null,null,null,null,null,null,null,null,null,null,null,null,null,null,null,null,null,null,null,null,null,null,null,null,null,null,null,null,null,null,null,null,null,null,null,null,null,null,null,null,null,null,null,null,"Львівська","Стені"]
[null,null,null,null,null,null,null,null,null,null,null,null,null,null,null,null,null,null,null,null,null,null,null,null,null,null,null,null,null,null,null,null,null,null,null,null,null,null,null,null,null,null,null,null,null,"Львівська","Стрілків"]
[null,null,null,null,null,null,null,null,null,null,null,null,null,null,null,null,null,null,null,null,null,null,null,null,null,null,null,null,null,null,null,null,null,null,null,null,null,null,null,null,null,null,null,null,null,"Львівська","Сушно"]
[null,null,null,null,null,null,null,null,null,null,null,null,null,null,null,null,null,null,null,null,null,null,null,null,null,null,null,null,null,null,null,null,null,null,null,null,null,null,null,null,null,null,null,null,null,"Львівська","Тур'я"]
[null,null,null,null,null,null,null,null,null,null,null,null,null,null,null,null,null,null,null,null,null,null,null,null,null,null,null,null,null,null,null,null,null,null,null,null,null,null,null,null,null,null,null,null,null,"Львівська","Фійна"]
[null,null,null,null,null,null,null,null,null,null,null,null,null,null,null,null,null,null,null,null,null,null,null,null,null,null,null,null,null,null,null,null,null,null,null,null,null,null,null,null,null,null,null,null,null,"Львівська","Черневе"]
[null,null,null,null,null,null,null,null,null,null,null,null,null,null,null,null,null,null,null,null,null,null,null,null,null,null,null,null,null,null,null,null,null,null,null,null,null,null,null,null,null,null,null,null,null,"Львівська","Штуковець"]
[null,null,null,null,null,null,null,null,null,null,null,null,null,null,null,null,null,null,null,null,null,null,null,null,null,null,null,null,null,null,null,null,null,null,null,null,null,null,null,null,null,null,null,null,null,"Миколаївська","Афанасівка"]
[null,null,null,null,null,null,null,null,null,null,null,null,null,null,null,null,null,null,null,null,null,null,null,null,null,null,null,null,null,null,null,null,null,null,null,null,null,null,null,null,null,null,null,null,null,"Миколаївська","Біла  Криниця (Білокриницька)"]
[null,null,null,null,null,null,null,null,null,null,null,null,null,null,null,null,null,null,null,null,null,null,null,null,null,null,null,null,null,null,null,null,null,null,null,null,null,null,null,null,null,null,null,null,null,"Миколаївська","Булацелове (Семенівська)"]
[null,null,null,null,null,null,null,null,null,null,null,null,null,null,null,null,null,null,null,null,null,null,null,null,null,null,null,null,null,null,null,null,null,null,null,null,null,null,null,null,null,null,null,null,null,"Миколаївська","Волна (Олександрівська)"]
[null,null,null,null,null,null,null,null,null,null,null,null,null,null,null,null,null,null,null,null,null,null,null,null,null,null,null,null,null,null,null,null,null,null,null,null,null,null,null,null,null,null,null,null,null,"Миколаївська","Гамове (Кубряцька)"]
[null,null,null,null,null,null,null,null,null,null,null,null,null,null,null,null,null,null,null,null,null,null,null,null,null,null,null,null,null,null,null,null,null,null,null,null,null,null,null,null,null,null,null,null,null,"Миколаївська","Зброшкове (Доманівська)"]
[null,null,null,null,null,null,null,null,null,null,null,null,null,null,null,null,null,null,null,null,null,null,null,null,null,null,null,null,null,null,null,null,null,null,null,null,null,null,null,null,null,null,null,null,null,"Миколаївська","Зелений Гай (Кашперо-Миколаївська)"]
[null,null,null,null,null,null,null,null,null,null,null,null,null,null,null,null,null,null,null,null,null,null,null,null,null,null,null,null,null,null,null,null,null,null,null,null,null,null,null,null,null,null,null,null,null,"Миколаївська","Кашперо-Миколаївка (Кашперо-Миколаївська)"]
[null,null,null,null,null,null,null,null,null,null,null,null,null,null,null,null,null,null,null,null,null,null,null,null,null,null,null,null,null,null,null,null,null,null,null,null,null,null,null,null,null,null,null,null,null,"Миколаївська","Колос Добра (Новоселівська)"]
[null,null,null,null,null,null,null,null,null,null,null,null,null,null,null,null,null,null,null,null,null,null,null,null,null,null,null,null,null,null,null,null,null,null,null,null,null,null,null,null,null,null,null,null,null,"Миколаївська","Лісове (Володимирівська)"]
[null,null,null,null,null,null,null,null,null,null,null,null,null,null,null,null,null,null,null,null,null,null,null,null,null,null,null,null,null,null,null,null,null,null,null,null,null,null,null,null,null,null,null,null,null,"Миколаївська","Макарове (Улянівська)"]
[null,null,null,null,null,null,null,null,null,null,null,null,null,null,null,null,null,null,null,null,null,null,null,null,null,null,null,null,null,null,null,null,null,null,null,null,null,null,null,null,null,null,null,null,null,"Миколаївська","Мостове (Ганнівська)"]
[null,null,null,null,null,null,null,null,null,null,null,null,null,null,null,null,null,null,null,null,null,null,null,null,null,null,null,null,null,null,null,null,null,null,null,null,null,null,null,null,null,null,null,null,null,"Миколаївська","Мостове (Мостівське)"]
[null,null,null,null,null,null,null,null,null,null,null,null,null,null,null,null,null,null,null,null,null,null,null,null,null,null,null,null,null,null,null,null,null,null,null,null,null,null,null,null,null,null,null,null,null,"Миколаївська","Новодмитрівка (Новомихайлівська)"]
[null,null,null,null,null,null,null,null,null,null,null,null,null,null,null,null,null,null,null,null,null,null,null,null,null,null,null,null,null,null,null,null,null,null,null,null,null,null,null,null,null,null,null,null,null,"Миколаївська","Новосілка (Подільська)"]
[null,null,null,null,null,null,null,null,null,null,null,null,null,null,null,null,null,null,null,null,null,null,null,null,null,null,null,null,null,null,null,null,null,null,null,null,null,null,null,null,null,null,null,null,null,"Миколаївська","Олександрівка (Антонівська)"]
[null,null,null,null,null,null,null,null,null,null,null,null,null,null,null,null,null,null,null,null,null,null,null,null,null,null,null,null,null,null,null,null,null,null,null,null,null,null,null,null,null,null,null,null,null,"Миколаївська","Показне (Вільнозапорізька)"]
[null,null,null,null,null,null,null,null,null,null,null,null,null,null,null,null,null,null,null,null,null,null,null,null,null,null,null,null,null,null,null,null,null,null,null,null,null,null,null,null,null,null,null,null,null,"Миколаївська","Пришиб (Висунська)"]
[null,null,null,null,null,null,null,null,null,null,null,null,null,null,null,null,null,null,null,null,null,null,null,null,null,null,null,null,null,null,null,null,null,null,null,null,null,null,null,null,null,null,null,null,null,"Миколаївська","Станіславчик (Болеславчицька)"]
[null,null,null,null,null,null,null,null,null,null,null,null,null,null,null,null,null,null,null,null,null,null,null,null,null,null,null,null,null,null,null,null,null,null,null,null,null,null,null,null,null,null,null,null,null,"Миколаївська","Тернові Поди (Краснознам'янська)"]
[null,null,null,null,null,null,null,null,null,null,null,null,null,null,null,null,null,null,null,null,null,null,null,null,null,null,null,null,null,null,null,null,null,null,null,null,null,null,null,null,null,null,null,null,null,"Миколаївська","Улянівка (Воронцівська)"]
[null,null,null,null,null,null,null,null,null,null,null,null,null,null,null,null,null,null,null,null,null,null,null,null,null,null,null,null,null,null,null,null,null,null,null,null,null,null,null,null,null,null,null,null,null,"Миколаївська","Шмідтівка (Матіясівська)"]
[null,null,null,null,null,null,null,null,null,null,null,null,null,null,null,null,null,null,null,null,null,null,null,null,null,null,null,null,null,null,null,null,null,null,null,null,null,null,null,null,null,null,null,null,null,"Миколаївська","Ясна Зоря (Ольшанська)"]
[null,null,null,null,null,null,null,null,null,null,null,null,null,null,null,null,null,null,null,null,null,null,null,null,null,null,null,null,null,null,null,null,null,null,null,null,null,null,null,null,null,null,null,null,null,"Одеська","Борщі"]
[null,null,null,null,null,null,null,null,null,null,null,null,null,null,null,null,null,null,null,null,null,null,null,null,null,null,null,null,null,null,null,null,null,null,null,null,null,null,null,null,null,null,null,null,null,"Одеська","Вапнярка"]
[null,null,null,null,null,null,null,null,null,null,null,null,null,null,null,null,null,null,null,null,null,null,null,null,null,null,null,null,null,null,null,null,null,null,null,null,null,null,null,null,null,null,null,null,null,"Одеська","Дальнічень"]
[null,null,null,null,null,null,null,null,null,null,null,null,null,null,null,null,null,null,null,null,null,null,null,null,null,null,null,null,null,null,null,null,null,null,null,null,null,null,null,null,null,null,null,null,null,"Одеська","Єфросинівка"]
[null,null,null,null,null,null,null,null,null,null,null,null,null,null,null,null,null,null,null,null,null,null,null,null,null,null,null,null,null,null,null,null,null,null,null,null,null,null,null,null,null,null,null,null,null,"Одеська","Кілія"]
[null,null,null,null,null,null,null,null,null,null,null,null,null,null,null,null,null,null,null,null,null,null,null,null,null,null,null,null,null,null,null,null,null,null,null,null,null,null,null,null,null,null,null,null,null,"Одеська","Котовці"]
[null,null,null,null,null,null,null,null,null,null,null,null,null,null,null,null,null,null,null,null,null,null,null,null,null,null,null,null,null,null,null,null,null,null,null,null,null,null,null,null,null,null,null,null,null,"Одеська","Левадівка"]
[null,null,null,null,null,null,null,null,null,null,null,null,null,null,null,null,null,null,null,null,null,null,null,null,null,null,null,null,null,null,null,null,null,null,null,null,null,null,null,null,null,null,null,null,null,"Одеська","Муравлівка"]
[null,null,null,null,null,null,null,null,null,null,null,null,null,null,null,null,null,null,null,null,null,null,null,null,null,null,null,null,null,null,null,null,null,null,null,null,null,null,null,null,null,null,null,null,null,"Одеська","Нова Плахтіївка"]
[null,null,null,null,null,null,null,null,null,null,null,null,null,null,null,null,null,null,null,null,null,null,null,null,null,null,null,null,null,null,null,null,null,null,null,null,null,null,null,null,null,null,null,null,null,"Одеська","Олександрівка (Петрівська)"]
[null,null,null,null,null,null,null,null,null,null,null,null,null,null,null,null,null,null,null,null,null,null,null,null,null,null,null,null,null,null,null,null,null,null,null,null,null,null,null,null,null,null,null,null,null,"Одеська","Полянецьке"]
[null,null,null,null,null,null,null,null,null,null,null,null,null,null,null,null,null,null,null,null,null,null,null,null,null,null,null,null,null,null,null,null,null,null,null,null,null,null,null,null,null,null,null,null,null,"Одеська","Созонівка"]
[null,null,null,null,null,null,null,null,null,null,null,null,null,null,null,null,null,null,null,null,null,null,null,null,null,null,null,null,null,null,null,null,null,null,null,null,null,null,null,null,null,null,null,null,null,"Одеська","Струтинка"]
[null,null,null,null,null,null,null,null,null,null,null,null,null,null,null,null,null,null,null,null,null,null,null,null,null,null,null,null,null,null,null,null,null,null,null,null,null,null,null,null,null,null,null,null,null,"Одеська","Тузли"]
[null,null,null,null,null,null,null,null,null,null,null,null,null,null,null,null,null,null,null,null,null,null,null,null,null,null,null,null,null,null,null,null,null,null,null,null,null,null,null,null,null,null,null,null,null,"Одеська","Якова"]
[null,null,null,null,null,null,null,null,null,null,null,null,null,null,null,null,null,null,null,null,null,null,null,null,null,null,null,null,null,null,null,null,null,null,null,null,null,null,null,null,null,null,null,null,null,"Полтавська","Бабайкове"]
[null,null,null,null,null,null,null,null,null,null,null,null,null,null,null,null,null,null,null,null,null,null,null,null,null,null,null,null,null,null,null,null,null,null,null,null,null,null,null,null,null,null,null,null,null,"Полтавська","Біївці"]
[null,null,null,null,null,null,null,null,null,null,null,null,null,null,null,null,null,null,null,null,null,null,null,null,null,null,null,null,null,null,null,null,null,null,null,null,null,null,null,null,null,null,null,null,null,"Полтавська","Бурімка"]
[null,null,null,null,null,null,null,null,null,null,null,null,null,null,null,null,null,null,null,null,null,null,null,null,null,null,null,null,null,null,null,null,null,null,null,null,null,null,null,null,null,null,null,null,null,"Полтавська","Вили"]
[null,null,null,null,null,null,null,null,null,null,null,null,null,null,null,null,null,null,null,null,null,null,null,null,null,null,null,null,null,null,null,null,null,null,null,null,null,null,null,null,null,null,null,null,null,"Полтавська","Вінтенці"]
[null,null,null,null,null,null,null,null,null,null,null,null,null,null,null,null,null,null,null,null,null,null,null,null,null,null,null,null,null,null,null,null,null,null,null,null,null,null,null,null,null,null,null,null,null,"Полтавська","Голобородьківське"]
[null,null,null,null,null,null,null,null,null,null,null,null,null,null,null,null,null,null,null,null,null,null,null,null,null,null,null,null,null,null,null,null,null,null,null,null,null,null,null,null,null,null,null,null,null,"Полтавська","Григоро-Бригадирівка"]
[null,null,null,null,null,null,null,null,null,null,null,null,null,null,null,null,null,null,null,null,null,null,null,null,null,null,null,null,null,null,null,null,null,null,null,null,null,null,null,null,null,null,null,null,null,"Полтавська","Дашківка"]
[null,null,null,null,null,null,null,null,null,null,null,null,null,null,null,null,null,null,null,null,null,null,null,null,null,null,null,null,null,null,null,null,null,null,null,null,null,null,null,null,null,null,null,null,null,"Полтавська","Жадани"]
[null,null,null,null,null,null,null,null,null,null,null,null,null,null,null,null,null,null,null,null,null,null,null,null,null,null,null,null,null,null,null,null,null,null,null,null,null,null,null,null,null,null,null,null,null,"Полтавська","Ївженки"]
[null,null,null,null,null,null,null,null,null,null,null,null,null,null,null,null,null,null,null,null,null,null,null,null,null,null,null,null,null,null,null,null,null,null,null,null,null,null,null,null,null,null,null,null,null,"Полтавська","Ковердина Балка"]
[null,null,null,null,null,null,null,null,null,null,null,null,null,null,null,null,null,null,null,null,null,null,null,null,null,null,null,null,null,null,null,null,null,null,null,null,null,null,null,null,null,null,null,null,null,"Полтавська","Коновалівка"]
[null,null,null,null,null,null,null,null,null,null,null,null,null,null,null,null,null,null,null,null,null,null,null,null,null,null,null,null,null,null,null,null,null,null,null,null,null,null,null,null,null,null,null,null,null,"Полтавська","Кунівка"]
[null,null,null,null,null,null,null,null,null,null,null,null,null,null,null,null,null,null,null,null,null,null,null,null,null,null,null,null,null,null,null,null,null,null,null,null,null,null,null,null,null,null,null,null,null,"Полтавська","Ламане"]
[null,null,null,null,null,null,null,null,null,null,null,null,null,null,null,null,null,null,null,null,null,null,null,null,null,null,null,null,null,null,null,null,null,null,null,null,null,null,null,null,null,null,null,null,null,"Полтавська","Лізки"]
[null,null,null,null,null,null,null,null,null,null,null,null,null,null,null,null,null,null,null,null,null,null,null,null,null,null,null,null,null,null,null,null,null,null,null,null,null,null,null,null,null,null,null,null,null,"Полтавська","Малютинці"]
[null,null,null,null,null,null,null,null,null,null,null,null,null,null,null,null,null,null,null,null,null,null,null,null,null,null,null,null,null,null,null,null,null,null,null,null,null,null,null,null,null,null,null,null,null,"Полтавська","Мачухи"]
[null,null,null,null,null,null,null,null,null,null,null,null,null,null,null,null,null,null,null,null,null,null,null,null,null,null,null,null,null,null,null,null,null,null,null,null,null,null,null,null,null,null,null,null,null,"Полтавська","Нижні Яреськи"]
[null,null,null,null,null,null,null,null,null,null,null,null,null,null,null,null,null,null,null,null,null,null,null,null,null,null,null,null,null,null,null,null,null,null,null,null,null,null,null,null,null,null,null,null,null,"Полтавська","Новий Виселок"]
[null,null,null,null,null,null,null,null,null,null,null,null,null,null,null,null,null,null,null,null,null,null,null,null,null,null,null,null,null,null,null,null,null,null,null,null,null,null,null,null,null,null,null,null,null,"Полтавська","Панченки"]
[null,null,null,null,null,null,null,null,null,null,null,null,null,null,null,null,null,null,null,null,null,null,null,null,null,null,null,null,null,null,null,null,null,null,null,null,null,null,null,null,null,null,null,null,null,"Полтавська","Першотравневе"]
[null,null,null,null,null,null,null,null,null,null,null,null,null,null,null,null,null,null,null,null,null,null,null,null,null,null,null,null,null,null,null,null,null,null,null,null,null,null,null,null,null,null,null,null,null,"Полтавська","Пристанційне"]
[null,null,null,null,null,null,null,null,null,null,null,null,null,null,null,null,null,null,null,null,null,null,null,null,null,null,null,null,null,null,null,null,null,null,null,null,null,null,null,null,null,null,null,null,null,"Полтавська","Пушкареве"]
[null,null,null,null,null,null,null,null,null,null,null,null,null,null,null,null,null,null,null,null,null,null,null,null,null,null,null,null,null,null,null,null,null,null,null,null,null,null,null,null,null,null,null,null,null,"Полтавська","Свиридівка"]
[null,null,null,null,null,null,null,null,null,null,null,null,null,null,null,null,null,null,null,null,null,null,null,null,null,null,null,null,null,null,null,null,null,null,null,null,null,null,null,null,null,null,null,null,null,"Полтавська","Сиротенки"]
[null,null,null,null,null,null,null,null,null,null,null,null,null,null,null,null,null,null,null,null,null,null,null,null,null,null,null,null,null,null,null,null,null,null,null,null,null,null,null,null,null,null,null,null,null,"Полтавська","Снітине"]
[null,null,null,null,null,null,null,null,null,null,null,null,null,null,null,null,null,null,null,null,null,null,null,null,null,null,null,null,null,null,null,null,null,null,null,null,null,null,null,null,null,null,null,null,null,"Полтавська","Сухорабівка"]
[null,null,null,null,null,null,null,null,null,null,null,null,null,null,null,null,null,null,null,null,null,null,null,null,null,null,null,null,null,null,null,null,null,null,null,null,null,null,null,null,null,null,null,null,null,"Полтавська","Трирогове"]
[null,null,null,null,null,null,null,null,null,null,null,null,null,null,null,null,null,null,null,null,null,null,null,null,null,null,null,null,null,null,null,null,null,null,null,null,null,null,null,null,null,null,null,null,null,"Полтавська","Хорішки"]
[null,null,null,null,null,null,null,null,null,null,null,null,null,null,null,null,null,null,null,null,null,null,null,null,null,null,null,null,null,null,null,null,null,null,null,null,null,null,null,null,null,null,null,null,null,"Полтавська","Червоні Квіти"]
[null,null,null,null,null,null,null,null,null,null,null,null,null,null,null,null,null,null,null,null,null,null,null,null,null,null,null,null,null,null,null,null,null,null,null,null,null,null,null,null,null,null,null,null,null,"Полтавська","Шостаки"]
[null,null,null,null,null,null,null,null,null,null,null,null,null,null,null,null,null,null,null,null,null,null,null,null,null,null,null,null,null,null,null,null,null,null,null,null,null,null,null,null,null,null,null,null,null,"Полтавська","Ялосовецьке"]
[null,null,null,null,null,null,null,null,null,null,null,null,null,null,null,null,null,null,null,null,null,null,null,null,null,null,null,null,null,null,null,null,null,null,null,null,null,null,null,null,null,null,null,null,null,"Рівненська","Бармаки"]
[null,null,null,null,null,null,null,null,null,null,null,null,null,null,null,null,null,null,null,null,null,null,null,null,null,null,null,null,null,null,null,null,null,null,null,null,null,null,null,null,null,null,null,null,null,"Рівненська","Варковичі"]
[null,null,null,null,null,null,null,null,null,null,null,null,null,null,null,null,null,null,null,null,null,null,null,null,null,null,null,null,null,null,null,null,null,null,null,null,null,null,null,null,null,null,null,null,null,"Рівненська","Великі Загірці"]
[null,null,null,null,null,null,null,null,null,null,null,null,null,null,null,null,null,null,null,null,null,null,null,null,null,null,null,null,null,null,null,null,null,null,null,null,null,null,null,null,null,null,null,null,null,"Рівненська","Гільча Перша"]
[null,null,null,null,null,null,null,null,null,null,null,null,null,null,null,null,null,null,null,null,null,null,null,null,null,null,null,null,null,null,null,null,null,null,null,null,null,null,null,null,null,null,null,null,null,"Рівненська","Диків"]
[null,null,null,null,null,null,null,null,null,null,null,null,null,null,null,null,null,null,null,null,null,null,null,null,null,null,null,null,null,null,null,null,null,null,null,null,null,null,null,null,null,null,null,null,null,"Рівненська","Зносичі"]
[null,null,null,null,null,null,null,null,null,null,null,null,null,null,null,null,null,null,null,null,null,null,null,null,null,null,null,null,null,null,null,null,null,null,null,null,null,null,null,null,null,null,null,null,null,"Рівненська","Квасилів"]
[null,null,null,null,null,null,null,null,null,null,null,null,null,null,null,null,null,null,null,null,null,null,null,null,null,null,null,null,null,null,null,null,null,null,null,null,null,null,null,null,null,null,null,null,null,"Рівненська","Кухче"]
[null,null,null,null,null,null,null,null,null,null,null,null,null,null,null,null,null,null,null,null,null,null,null,null,null,null,null,null,null,null,null,null,null,null,null,null,null,null,null,null,null,null,null,null,null,"Рівненська","Макотерти"]
[null,null,null,null,null,null,null,null,null,null,null,null,null,null,null,null,null,null,null,null,null,null,null,null,null,null,null,null,null,null,null,null,null,null,null,null,null,null,null,null,null,null,null,null,null,"Рівненська","Малі Телковичі"]
[null,null,null,null,null,null,null,null,null,null,null,null,null,null,null,null,null,null,null,null,null,null,null,null,null,null,null,null,null,null,null,null,null,null,null,null,null,null,null,null,null,null,null,null,null,"Рівненська","М'ятин"]
[null,null,null,null,null,null,null,null,null,null,null,null,null,null,null,null,null,null,null,null,null,null,null,null,null,null,null,null,null,null,null,null,null,null,null,null,null,null,null,null,null,null,null,null,null,"Рівненська","Олибів"]
[null,null,null,null,null,null,null,null,null,null,null,null,null,null,null,null,null,null,null,null,null,null,null,null,null,null,null,null,null,null,null,null,null,null,null,null,null,null,null,null,null,null,null,null,null,"Рівненська","Працюки"]
[null,null,null,null,null,null,null,null,null,null,null,null,null,null,null,null,null,null,null,null,null,null,null,null,null,null,null,null,null,null,null,null,null,null,null,null,null,null,null,null,null,null,null,null,null,"Рівненська","Річечина"]
[null,null,null,null,null,null,null,null,null,null,null,null,null,null,null,null,null,null,null,null,null,null,null,null,null,null,null,null,null,null,null,null,null,null,null,null,null,null,null,null,null,null,null,null,null,"Рівненська","Степангород"]
[null,null,null,null,null,null,null,null,null,null,null,null,null,null,null,null,null,null,null,null,null,null,null,null,null,null,null,null,null,null,null,null,null,null,null,null,null,null,null,null,null,null,null,null,null,"Рівненська","Тесів"]
[null,null,null,null,null,null,null,null,null,null,null,null,null,null,null,null,null,null,null,null,null,null,null,null,null,null,null,null,null,null,null,null,null,null,null,null,null,null,null,null,null,null,null,null,null,"Рівненська","Удрицьк"]
[null,null,null,null,null,null,null,null,null,null,null,null,null,null,null,null,null,null,null,null,null,null,null,null,null,null,null,null,null,null,null,null,null,null,null,null,null,null,null,null,null,null,null,null,null,"Севастополь","Родніківське"]
[null,null,null,null,null,null,null,null,null,null,null,null,null,null,null,null,null,null,null,null,null,null,null,null,null,null,null,null,null,null,null,null,null,null,null,null,null,null,null,null,null,null,null,null,null,"Сумська","Артемо-растівка (Мартинівка)"]
[null,null,null,null,null,null,null,null,null,null,null,null,null,null,null,null,null,null,null,null,null,null,null,null,null,null,null,null,null,null,null,null,null,null,null,null,null,null,null,null,null,null,null,null,null,"Сумська","Бороданове"]
[null,null,null,null,null,null,null,null,null,null,null,null,null,null,null,null,null,null,null,null,null,null,null,null,null,null,null,null,null,null,null,null,null,null,null,null,null,null,null,null,null,null,null,null,null,"Сумська","Будне (Лантратівка)"]
[null,null,null,null,null,null,null,null,null,null,null,null,null,null,null,null,null,null,null,null,null,null,null,null,null,null,null,null,null,null,null,null,null,null,null,null,null,null,null,null,null,null,null,null,null,"Сумська","Вільна Слобода"]
[null,null,null,null,null,null,null,null,null,null,null,null,null,null,null,null,null,null,null,null,null,null,null,null,null,null,null,null,null,null,null,null,null,null,null,null,null,null,null,null,null,null,null,null,null,"Сумська","Воропаї"]
[null,null,null,null,null,null,null,null,null,null,null,null,null,null,null,null,null,null,null,null,null,null,null,null,null,null,null,null,null,null,null,null,null,null,null,null,null,null,null,null,null,null,null,null,null,"Сумська","Грінченкове"]
[null,null,null,null,null,null,null,null,null,null,null,null,null,null,null,null,null,null,null,null,null,null,null,null,null,null,null,null,null,null,null,null,null,null,null,null,null,null,null,null,null,null,null,null,null,"Сумська","Дернове"]
[null,null,null,null,null,null,null,null,null,null,null,null,null,null,null,null,null,null,null,null,null,null,null,null,null,null,null,null,null,null,null,null,null,null,null,null,null,null,null,null,null,null,null,null,null,"Сумська","Дяківка"]
[null,null,null,null,null,null,null,null,null,null,null,null,null,null,null,null,null,null,null,null,null,null,null,null,null,null,null,null,null,null,null,null,null,null,null,null,null,null,null,null,null,null,null,null,null,"Сумська","Карпенкове"]
[null,null,null,null,null,null,null,null,null,null,null,null,null,null,null,null,null,null,null,null,null,null,null,null,null,null,null,null,null,null,null,null,null,null,null,null,null,null,null,null,null,null,null,null,null,"Сумська","Клочківка"]
[null,null,null,null,null,null,null,null,null,null,null,null,null,null,null,null,null,null,null,null,null,null,null,null,null,null,null,null,null,null,null,null,null,null,null,null,null,null,null,null,null,null,null,null,null,"Сумська","Кудоярове"]
[null,null,null,null,null,null,null,null,null,null,null,null,null,null,null,null,null,null,null,null,null,null,null,null,null,null,null,null,null,null,null,null,null,null,null,null,null,null,null,null,null,null,null,null,null,"Сумська","Липняк"]
[null,null,null,null,null,null,null,null,null,null,null,null,null,null,null,null,null,null,null,null,null,null,null,null,null,null,null,null,null,null,null,null,null,null,null,null,null,null,null,null,null,null,null,null,null,"Сумська","Масензівка"]
[null,null,null,null,null,null,null,null,null,null,null,null,null,null,null,null,null,null,null,null,null,null,null,null,null,null,null,null,null,null,null,null,null,null,null,null,null,null,null,null,null,null,null,null,null,"Сумська","Могриця"]
[null,null,null,null,null,null,null,null,null,null,null,null,null,null,null,null,null,null,null,null,null,null,null,null,null,null,null,null,null,null,null,null,null,null,null,null,null,null,null,null,null,null,null,null,null,"Сумська","Нелени"]
[null,null,null,null,null,null,null,null,null,null,null,null,null,null,null,null,null,null,null,null,null,null,null,null,null,null,null,null,null,null,null,null,null,null,null,null,null,null,null,null,null,null,null,null,null,"Сумська","Осоївка"]
[null,null,null,null,null,null,null,null,null,null,null,null,null,null,null,null,null,null,null,null,null,null,null,null,null,null,null,null,null,null,null,null,null,null,null,null,null,null,null,null,null,null,null,null,null,"Сумська","Перехрестівка (Северинівська)"]
[null,null,null,null,null,null,null,null,null,null,null,null,null,null,null,null,null,null,null,null,null,null,null,null,null,null,null,null,null,null,null,null,null,null,null,null,null,null,null,null,null,null,null,null,null,"Сумська","Радгоспне (Буймер)"]
[null,null,null,null,null,null,null,null,null,null,null,null,null,null,null,null,null,null,null,null,null,null,null,null,null,null,null,null,null,null,null,null,null,null,null,null,null,null,null,null,null,null,null,null,null,"Сумська","Розсохувате (Грінченкове)"]
[null,null,null,null,null,null,null,null,null,null,null,null,null,null,null,null,null,null,null,null,null,null,null,null,null,null,null,null,null,null,null,null,null,null,null,null,null,null,null,null,null,null,null,null,null,"Сумська","Собич"]
[null,null,null,null,null,null,null,null,null,null,null,null,null,null,null,null,null,null,null,null,null,null,null,null,null,null,null,null,null,null,null,null,null,null,null,null,null,null,null,null,null,null,null,null,null,"Сумська","Сорочинське"]
[null,null,null,null,null,null,null,null,null,null,null,null,null,null,null,null,null,null,null,null,null,null,null,null,null,null,null,null,null,null,null,null,null,null,null,null,null,null,null,null,null,null,null,null,null,"Сумська","Хильчичі"]
[null,null,null,null,null,null,null,null,null,null,null,null,null,null,null,null,null,null,null,null,null,null,null,null,null,null,null,null,null,null,null,null,null,null,null,null,null,null,null,null,null,null,null,null,null,"Сумська","Чеберяки"]
[null,null,null,null,null,null,null,null,null,null,null,null,null,null,null,null,null,null,null,null,null,null,null,null,null,null,null,null,null,null,null,null,null,null,null,null,null,null,null,null,null,null,null,null,null,"Сумська","Щекино"]
[null,null,null,null,null,null,null,null,null,null,null,null,null,null,null,null,null,null,null,null,null,null,null,null,null,null,null,null,null,null,null,null,null,null,null,null,null,null,null,null,null,null,null,null,null,"Тернопільська","Антонів (Свидівська сільська рада)"]
[null,null,null,null,null,null,null,null,null,null,null,null,null,null,null,null,null,null,null,null,null,null,null,null,null,null,null,null,null,null,null,null,null,null,null,null,null,null,null,null,null,null,null,null,null,"Тернопільська","Берем'яни (Берем'янська сільська рада)"]
[null,null,null,null,null,null,null,null,null,null,null,null,null,null,null,null,null,null,null,null,null,null,null,null,null,null,null,null,null,null,null,null,null,null,null,null,null,null,null,null,null,null,null,null,null,"Тернопільська","Броварі (Язловецька сільська рада)"]
[null,null,null,null,null,null,null,null,null,null,null,null,null,null,null,null,null,null,null,null,null,null,null,null,null,null,null,null,null,null,null,null,null,null,null,null,null,null,null,null,null,null,null,null,null,"Тернопільська","Великі Кусківці (Великокусковецька сільська рада)"]
[null,null,null,null,null,null,null,null,null,null,null,null,null,null,null,null,null,null,null,null,null,null,null,null,null,null,null,null,null,null,null,null,null,null,null,null,null,null,null,null,null,null,null,null,null,"Тернопільська","Гадинківці (Гадинківська сільська рада)"]
[null,null,null,null,null,null,null,null,null,null,null,null,null,null,null,null,null,null,null,null,null,null,null,null,null,null,null,null,null,null,null,null,null,null,null,null,null,null,null,null,null,null,null,null,null,"Тернопільська","Гнилички (Новосільська сільська рада)"]
[null,null,null,null,null,null,null,null,null,null,null,null,null,null,null,null,null,null,null,null,null,null,null,null,null,null,null,null,null,null,null,null,null,null,null,null,null,null,null,null,null,null,null,null,null,"Тернопільська","Дзвинячка (Дзвиняцька сільська рада)"]
[null,null,null,null,null,null,null,null,null,null,null,null,null,null,null,null,null,null,null,null,null,null,null,null,null,null,null,null,null,null,null,null,null,null,null,null,null,null,null,null,null,null,null,null,null,"Тернопільська","Домаморич (Домаморицька сільська рада)"]
[null,null,null,null,null,null,null,null,null,null,null,null,null,null,null,null,null,null,null,null,null,null,null,null,null,null,null,null,null,null,null,null,null,null,null,null,null,null,null,null,null,null,null,null,null,"Тернопільська","Жуків (Жуківська сільська рада)"]
[null,null,null,null,null,null,null,null,null,null,null,null,null,null,null,null,null,null,null,null,null,null,null,null,null,null,null,null,null,null,null,null,null,null,null,null,null,null,null,null,null,null,null,null,null,"Тернопільська","Іванівка (Іванівська сільська рада)"]
[null,null,null,null,null,null,null,null,null,null,null,null,null,null,null,null,null,null,null,null,null,null,null,null,null,null,null,null,null,null,null,null,null,null,null,null,null,null,null,null,null,null,null,null,null,"Тернопільська","Ілавче (Ілавченська сільська рада)"]
[null,null,null,null,null,null,null,null,null,null,null,null,null,null,null,null,null,null,null,null,null,null,null,null,null,null,null,null,null,null,null,null,null,null,null,null,null,null,null,null,null,null,null,null,null,"Тернопільська","Королівка (Королівська сільська рада)"]
[null,null,null,null,null,null,null,null,null,null,null,null,null,null,null,null,null,null,null,null,null,null,null,null,null,null,null,null,null,null,null,null,null,null,null,null,null,null,null,null,null,null,null,null,null,"Тернопільська","Красівка (Дичківська сільська рада)"]
[null,null,null,null,null,null,null,null,null,null,null,null,null,null,null,null,null,null,null,null,null,null,null,null,null,null,null,null,null,null,null,null,null,null,null,null,null,null,null,null,null,null,null,null,null,"Тернопільська","Лози (Лозівська сільська рада)"]
[null,null,null,null,null,null,null,null,null,null,null,null,null,null,null,null,null,null,null,null,null,null,null,null,null,null,null,null,null,null,null,null,null,null,null,null,null,null,null,null,null,null,null,null,null,"Тернопільська","Мала Березовиця (Іванчанська сільська рада)"]
[null,null,null,null,null,null,null,null,null,null,null,null,null,null,null,null,null,null,null,null,null,null,null,null,null,null,null,null,null,null,null,null,null,null,null,null,null,null,null,null,null,null,null,null,null,"Тернопільська","Мовчанівка (Кам\"янківська сільська рада)"]
[null,null,null,null,null,null,null,null,null,null,null,null,null,null,null,null,null,null,null,null,null,null,null,null,null,null,null,null,null,null,null,null,null,null,null,null,null,null,null,null,null,null,null,null,null,"Тернопільська","Нараїв (Нараївська сільська рада)"]
[null,null,null,null,null,null,null,null,null,null,null,null,null,null,null,null,null,null,null,null,null,null,null,null,null,null,null,null,null,null,null,null,null,null,null,null,null,null,null,null,null,null,null,null,null,"Тернопільська","Новосілка (Малобірківська сільська рада)"]
[null,null,null,null,null,null,null,null,null,null,null,null,null,null,null,null,null,null,null,null,null,null,null,null,null,null,null,null,null,null,null,null,null,null,null,null,null,null,null,null,null,null,null,null,null,"Тернопільська","Пищатинці (Пищатинська сільська рада)"]
[null,null,null,null,null,null,null,null,null,null,null,null,null,null,null,null,null,null,null,null,null,null,null,null,null,null,null,null,null,null,null,null,null,null,null,null,null,null,null,null,null,null,null,null,null,"Тернопільська","Піщане (Ратищівська сільська рада)"]
[null,null,null,null,null,null,null,null,null,null,null,null,null,null,null,null,null,null,null,null,null,null,null,null,null,null,null,null,null,null,null,null,null,null,null,null,null,null,null,null,null,null,null,null,null,"Тернопільська","Розгадів (Розгадівська сільська рада)"]
[null,null,null,null,null,null,null,null,null,null,null,null,null,null,null,null,null,null,null,null,null,null,null,null,null,null,null,null,null,null,null,null,null,null,null,null,null,null,null,null,null,null,null,null,null,"Тернопільська","Сапова (Вишнівчицька сільська рада)"]
[null,null,null,null,null,null,null,null,null,null,null,null,null,null,null,null,null,null,null,null,null,null,null,null,null,null,null,null,null,null,null,null,null,null,null,null,null,null,null,null,null,null,null,null,null,"Тернопільська","Стара Могильниця (Могильницька сільська рада)"]
[null,null,null,null,null,null,null,null,null,null,null,null,null,null,null,null,null,null,null,null,null,null,null,null,null,null,null,null,null,null,null,null,null,null,null,null,null,null,null,null,null,null,null,null,null,"Тернопільська","Сухостав (Сухоставська сільська рада)"]
[null,null,null,null,null,null,null,null,null,null,null,null,null,null,null,null,null,null,null,null,null,null,null,null,null,null,null,null,null,null,null,null,null,null,null,null,null,null,null,null,null,null,null,null,null,"Тернопільська","Товсте (Товстенська сільська рада)"]
[null,null,null,null,null,null,null,null,null,null,null,null,null,null,null,null,null,null,null,null,null,null,null,null,null,null,null,null,null,null,null,null,null,null,null,null,null,null,null,null,null,null,null,null,null,"Тернопільська","Цецівка (Годівська сільська рада)"]
[null,null,null,null,null,null,null,null,null,null,null,null,null,null,null,null,null,null,null,null,null,null,null,null,null,null,null,null,null,null,null,null,null,null,null,null,null,null,null,null,null,null,null,null,null,"Тернопільська","Швайківці (Швайківська сільська рада)"]
[null,null,null,null,null,null,null,null,null,null,null,null,null,null,null,null,null,null,null,null,null,null,null,null,null,null,null,null,null,null,null,null,null,null,null,null,null,null,null,null,null,null,null,null,null,"Харківська","Бабенки"]
[null,null,null,null,null,null,null,null,null,null,null,null,null,null,null,null,null,null,null,null,null,null,null,null,null,null,null,null,null,null,null,null,null,null,null,null,null,null,null,null,null,null,null,null,null,"Харківська","Безпалівка (Таранівська сільська рада)"]
[null,null,null,null,null,null,null,null,null,null,null,null,null,null,null,null,null,null,null,null,null,null,null,null,null,null,null,null,null,null,null,null,null,null,null,null,null,null,null,null,null,null,null,null,null,"Харківська","Василівка (Моначинівська сільрада)"]
[null,null,null,null,null,null,null,null,null,null,null,null,null,null,null,null,null,null,null,null,null,null,null,null,null,null,null,null,null,null,null,null,null,null,null,null,null,null,null,null,null,null,null,null,null,"Харківська","Велика Кадигробівка"]
[null,null,null,null,null,null,null,null,null,null,null,null,null,null,null,null,null,null,null,null,null,null,null,null,null,null,null,null,null,null,null,null,null,null,null,null,null,null,null,null,null,null,null,null,null,"Харківська","Відрожденівське"]
[null,null,null,null,null,null,null,null,null,null,null,null,null,null,null,null,null,null,null,null,null,null,null,null,null,null,null,null,null,null,null,null,null,null,null,null,null,null,null,null,null,null,null,null,null,"Харківська","Глушківка"]
[null,null,null,null,null,null,null,null,null,null,null,null,null,null,null,null,null,null,null,null,null,null,null,null,null,null,null,null,null,null,null,null,null,null,null,null,null,null,null,null,null,null,null,null,null,"Харківська","Гракове"]
[null,null,null,null,null,null,null,null,null,null,null,null,null,null,null,null,null,null,null,null,null,null,null,null,null,null,null,null,null,null,null,null,null,null,null,null,null,null,null,null,null,null,null,null,null,"Харківська","Дудківка"]
[null,null,null,null,null,null,null,null,null,null,null,null,null,null,null,null,null,null,null,null,null,null,null,null,null,null,null,null,null,null,null,null,null,null,null,null,null,null,null,null,null,null,null,null,null,"Харківська","Завадівка"]
[null,null,null,null,null,null,null,null,null,null,null,null,null,null,null,null,null,null,null,null,null,null,null,null,null,null,null,null,null,null,null,null,null,null,null,null,null,null,null,null,null,null,null,null,null,"Харківська","Ізюм"]
[null,null,null,null,null,null,null,null,null,null,null,null,null,null,null,null,null,null,null,null,null,null,null,null,null,null,null,null,null,null,null,null,null,null,null,null,null,null,null,null,null,null,null,null,null,"Харківська","Кобзівка Друга"]
[null,null,null,null,null,null,null,null,null,null,null,null,null,null,null,null,null,null,null,null,null,null,null,null,null,null,null,null,null,null,null,null,null,null,null,null,null,null,null,null,null,null,null,null,null,"Харківська","Кочетівка"]
[null,null,null,null,null,null,null,null,null,null,null,null,null,null,null,null,null,null,null,null,null,null,null,null,null,null,null,null,null,null,null,null,null,null,null,null,null,null,null,null,null,null,null,null,null,"Харківська","Кручик"]
[null,null,null,null,null,null,null,null,null,null,null,null,null,null,null,null,null,null,null,null,null,null,null,null,null,null,null,null,null,null,null,null,null,null,null,null,null,null,null,null,null,null,null,null,null,"Харківська","Ландишеве"]
[null,null,null,null,null,null,null,null,null,null,null,null,null,null,null,null,null,null,null,null,null,null,null,null,null,null,null,null,null,null,null,null,null,null,null,null,null,null,null,null,null,null,null,null,null,"Харківська","Мануїлівка"]
[null,null,null,null,null,null,null,null,null,null,null,null,null,null,null,null,null,null,null,null,null,null,null,null,null,null,null,null,null,null,null,null,null,null,null,null,null,null,null,null,null,null,null,null,null,"Харківська","Миколо-Комишувата"]
[null,null,null,null,null,null,null,null,null,null,null,null,null,null,null,null,null,null,null,null,null,null,null,null,null,null,null,null,null,null,null,null,null,null,null,null,null,null,null,null,null,null,null,null,null,"Харківська","Надеждівка"]
[null,null,null,null,null,null,null,null,null,null,null,null,null,null,null,null,null,null,null,null,null,null,null,null,null,null,null,null,null,null,null,null,null,null,null,null,null,null,null,null,null,null,null,null,null,"Харківська","Новомиколаївка (Асіївська сільська рада)"]
[null,null,null,null,null,null,null,null,null,null,null,null,null,null,null,null,null,null,null,null,null,null,null,null,null,null,null,null,null,null,null,null,null,null,null,null,null,null,null,null,null,null,null,null,null,"Харківська","Паризьке"]
[null,null,null,null,null,null,null,null,null,null,null,null,null,null,null,null,null,null,null,null,null,null,null,null,null,null,null,null,null,null,null,null,null,null,null,null,null,null,null,null,null,null,null,null,null,"Харківська","Петрищеве"]
[null,null,null,null,null,null,null,null,null,null,null,null,null,null,null,null,null,null,null,null,null,null,null,null,null,null,null,null,null,null,null,null,null,null,null,null,null,null,null,null,null,null,null,null,null,"Харківська","П'ятницьке"]
[null,null,null,null,null,null,null,null,null,null,null,null,null,null,null,null,null,null,null,null,null,null,null,null,null,null,null,null,null,null,null,null,null,null,null,null,null,null,null,null,null,null,null,null,null,"Харківська","Рижове"]
[null,null,null,null,null,null,null,null,null,null,null,null,null,null,null,null,null,null,null,null,null,null,null,null,null,null,null,null,null,null,null,null,null,null,null,null,null,null,null,null,null,null,null,null,null,"Харківська","Скиртяне"]
[null,null,null,null,null,null,null,null,null,null,null,null,null,null,null,null,null,null,null,null,null,null,null,null,null,null,null,null,null,null,null,null,null,null,null,null,null,null,null,null,null,null,null,null,null,"Харківська","Соцзмагання"]
[null,null,null,null,null,null,null,null,null,null,null,null,null,null,null,null,null,null,null,null,null,null,null,null,null,null,null,null,null,null,null,null,null,null,null,null,null,null,null,null,null,null,null,null,null,"Харківська","Староволодимирівка"]
[null,null,null,null,null,null,null,null,null,null,null,null,null,null,null,null,null,null,null,null,null,null,null,null,null,null,null,null,null,null,null,null,null,null,null,null,null,null,null,null,null,null,null,null,null,"Харківська","Холодне"]
[null,null,null,null,null,null,null,null,null,null,null,null,null,null,null,null,null,null,null,null,null,null,null,null,null,null,null,null,null,null,null,null,null,null,null,null,null,null,null,null,null,null,null,null,null,"Харківська","Чепіль (Чепільська сільська рада)"]
[null,null,null,null,null,null,null,null,null,null,null,null,null,null,null,null,null,null,null,null,null,null,null,null,null,null,null,null,null,null,null,null,null,null,null,null,null,null,null,null,null,null,null,null,null,"Харківська","Шийчине"]
[null,null,null,null,null,null,null,null,null,null,null,null,null,null,null,null,null,null,null,null,null,null,null,null,null,null,null,null,null,null,null,null,null,null,null,null,null,null,null,null,null,null,null,null,null,"Харківська","Ярошівка"]
[null,null,null,null,null,null,null,null,null,null,null,null,null,null,null,null,null,null,null,null,null,null,null,null,null,null,null,null,null,null,null,null,null,null,null,null,null,null,null,null,null,null,null,null,null,"Херсонська","Гостроподолянське"]
[null,null,null,null,null,null,null,null,null,null,null,null,null,null,null,null,null,null,null,null,null,null,null,null,null,null,null,null,null,null,null,null,null,null,null,null,null,null,null,null,null,null,null,null,null,"Херсонська","Інгулець"]
[null,null,null,null,null,null,null,null,null,null,null,null,null,null,null,null,null,null,null,null,null,null,null,null,null,null,null,null,null,null,null,null,null,null,null,null,null,null,null,null,null,null,null,null,null,"Херсонська","Козачі Лагері"]
[null,null,null,null,null,null,null,null,null,null,null,null,null,null,null,null,null,null,null,null,null,null,null,null,null,null,null,null,null,null,null,null,null,null,null,null,null,null,null,null,null,null,null,null,null,"Херсонська","Новавасилівка"]
[null,null,null,null,null,null,null,null,null,null,null,null,null,null,null,null,null,null,null,null,null,null,null,null,null,null,null,null,null,null,null,null,null,null,null,null,null,null,null,null,null,null,null,null,null,"Херсонська","Новосеменівка"]
[null,null,null,null,null,null,null,null,null,null,null,null,null,null,null,null,null,null,null,null,null,null,null,null,null,null,null,null,null,null,null,null,null,null,null,null,null,null,null,null,null,null,null,null,null,"Херсонська","Скворцівка"]
[null,null,null,null,null,null,null,null,null,null,null,null,null,null,null,null,null,null,null,null,null,null,null,null,null,null,null,null,null,null,null,null,null,null,null,null,null,null,null,null,null,null,null,null,null,"Херсонська","Твердомедове"]
[null,null,null,null,null,null,null,null,null,null,null,null,null,null,null,null,null,null,null,null,null,null,null,null,null,null,null,null,null,null,null,null,null,null,null,null,null,null,null,null,null,null,null,null,null,"Хмельницька","Бальківці"]
[null,null,null,null,null,null,null,null,null,null,null,null,null,null,null,null,null,null,null,null,null,null,null,null,null,null,null,null,null,null,null,null,null,null,null,null,null,null,null,null,null,null,null,null,null,"Хмельницька","Березове"]
[null,null,null,null,null,null,null,null,null,null,null,null,null,null,null,null,null,null,null,null,null,null,null,null,null,null,null,null,null,null,null,null,null,null,null,null,null,null,null,null,null,null,null,null,null,"Хмельницька","Брикуля"]
[null,null,null,null,null,null,null,null,null,null,null,null,null,null,null,null,null,null,null,null,null,null,null,null,null,null,null,null,null,null,null,null,null,null,null,null,null,null,null,null,null,null,null,null,null,"Хмельницька","Верхівці"]
[null,null,null,null,null,null,null,null,null,null,null,null,null,null,null,null,null,null,null,null,null,null,null,null,null,null,null,null,null,null,null,null,null,null,null,null,null,null,null,null,null,null,null,null,null,"Хмельницька","Вікентово"]
[null,null,null,null,null,null,null,null,null,null,null,null,null,null,null,null,null,null,null,null,null,null,null,null,null,null,null,null,null,null,null,null,null,null,null,null,null,null,null,null,null,null,null,null,null,"Хмельницька","Голосків (Голосківська сільська рада)"]
[null,null,null,null,null,null,null,null,null,null,null,null,null,null,null,null,null,null,null,null,null,null,null,null,null,null,null,null,null,null,null,null,null,null,null,null,null,null,null,null,null,null,null,null,null,"Хмельницька","Гриців"]
[null,null,null,null,null,null,null,null,null,null,null,null,null,null,null,null,null,null,null,null,null,null,null,null,null,null,null,null,null,null,null,null,null,null,null,null,null,null,null,null,null,null,null,null,null,"Хмельницька","Дубовий Гай"]
[null,null,null,null,null,null,null,null,null,null,null,null,null,null,null,null,null,null,null,null,null,null,null,null,null,null,null,null,null,null,null,null,null,null,null,null,null,null,null,null,null,null,null,null,null,"Хмельницька","Залуччя (Залучанська сільська рада)"]
[null,null,null,null,null,null,null,null,null,null,null,null,null,null,null,null,null,null,null,null,null,null,null,null,null,null,null,null,null,null,null,null,null,null,null,null,null,null,null,null,null,null,null,null,null,"Хмельницька","Ізяслав"]
[null,null,null,null,null,null,null,null,null,null,null,null,null,null,null,null,null,null,null,null,null,null,null,null,null,null,null,null,null,null,null,null,null,null,null,null,null,null,null,null,null,null,null,null,null,"Хмельницька","Караїна"]
[null,null,null,null,null,null,null,null,null,null,null,null,null,null,null,null,null,null,null,null,null,null,null,null,null,null,null,null,null,null,null,null,null,null,null,null,null,null,null,null,null,null,null,null,null,"Хмельницька","Климківці"]
[null,null,null,null,null,null,null,null,null,null,null,null,null,null,null,null,null,null,null,null,null,null,null,null,null,null,null,null,null,null,null,null,null,null,null,null,null,null,null,null,null,null,null,null,null,"Хмельницька","Кривачинці"]
[null,null,null,null,null,null,null,null,null,null,null,null,null,null,null,null,null,null,null,null,null,null,null,null,null,null,null,null,null,null,null,null,null,null,null,null,null,null,null,null,null,null,null,null,null,"Хмельницька","Кузьминці"]
[null,null,null,null,null,null,null,null,null,null,null,null,null,null,null,null,null,null,null,null,null,null,null,null,null,null,null,null,null,null,null,null,null,null,null,null,null,null,null,null,null,null,null,null,null,"Хмельницька","Літки"]
[null,null,null,null,null,null,null,null,null,null,null,null,null,null,null,null,null,null,null,null,null,null,null,null,null,null,null,null,null,null,null,null,null,null,null,null,null,null,null,null,null,null,null,null,null,"Хмельницька","Малий Правутин"]
[null,null,null,null,null,null,null,null,null,null,null,null,null,null,null,null,null,null,null,null,null,null,null,null,null,null,null,null,null,null,null,null,null,null,null,null,null,null,null,null,null,null,null,null,null,"Хмельницька","Медці"]
[null,null,null,null,null,null,null,null,null,null,null,null,null,null,null,null,null,null,null,null,null,null,null,null,null,null,null,null,null,null,null,null,null,null,null,null,null,null,null,null,null,null,null,null,null,"Хмельницька","Михалківці"]
[null,null,null,null,null,null,null,null,null,null,null,null,null,null,null,null,null,null,null,null,null,null,null,null,null,null,null,null,null,null,null,null,null,null,null,null,null,null,null,null,null,null,null,null,null,"Хмельницька","Мухарів"]
[null,null,null,null,null,null,null,null,null,null,null,null,null,null,null,null,null,null,null,null,null,null,null,null,null,null,null,null,null,null,null,null,null,null,null,null,null,null,null,null,null,null,null,null,null,"Хмельницька","Остапківці"]
[null,null,null,null,null,null,null,null,null,null,null,null,null,null,null,null,null,null,null,null,null,null,null,null,null,null,null,null,null,null,null,null,null,null,null,null,null,null,null,null,null,null,null,null,null,"Хмельницька","Пашуки (Хоровецька сільська Рада)"]
[null,null,null,null,null,null,null,null,null,null,null,null,null,null,null,null,null,null,null,null,null,null,null,null,null,null,null,null,null,null,null,null,null,null,null,null,null,null,null,null,null,null,null,null,null,"Хмельницька","Постолівка"]
[null,null,null,null,null,null,null,null,null,null,null,null,null,null,null,null,null,null,null,null,null,null,null,null,null,null,null,null,null,null,null,null,null,null,null,null,null,null,null,null,null,null,null,null,null,"Хмельницька","Рівки"]
[null,null,null,null,null,null,null,null,null,null,null,null,null,null,null,null,null,null,null,null,null,null,null,null,null,null,null,null,null,null,null,null,null,null,null,null,null,null,null,null,null,null,null,null,null,"Хмельницька","Семереньки (Самченці)"]
[null,null,null,null,null,null,null,null,null,null,null,null,null,null,null,null,null,null,null,null,null,null,null,null,null,null,null,null,null,null,null,null,null,null,null,null,null,null,null,null,null,null,null,null,null,"Хмельницька","Слобідка  Малієвецька"]
[null,null,null,null,null,null,null,null,null,null,null,null,null,null,null,null,null,null,null,null,null,null,null,null,null,null,null,null,null,null,null,null,null,null,null,null,null,null,null,null,null,null,null,null,null,"Хмельницька","Степок (Самчики)"]
[null,null,null,null,null,null,null,null,null,null,null,null,null,null,null,null,null,null,null,null,null,null,null,null,null,null,null,null,null,null,null,null,null,null,null,null,null,null,null,null,null,null,null,null,null,"Хмельницька","Теліжинці"]
[null,null,null,null,null,null,null,null,null,null,null,null,null,null,null,null,null,null,null,null,null,null,null,null,null,null,null,null,null,null,null,null,null,null,null,null,null,null,null,null,null,null,null,null,null,"Хмельницька","Трительники"]
[null,null,null,null,null,null,null,null,null,null,null,null,null,null,null,null,null,null,null,null,null,null,null,null,null,null,null,null,null,null,null,null,null,null,null,null,null,null,null,null,null,null,null,null,null,"Хмельницька","Чернелівці"]
[null,null,null,null,null,null,null,null,null,null,null,null,null,null,null,null,null,null,null,null,null,null,null,null,null,null,null,null,null,null,null,null,null,null,null,null,null,null,null,null,null,null,null,null,null,"Хмельницька","Чотирибоки"]
[null,null,null,null,null,null,null,null,null,null,null,null,null,null,null,null,null,null,null,null,null,null,null,null,null,null,null,null,null,null,null,null,null,null,null,null,null,null,null,null,null,null,null,null,null,"Черкаська","Багачівка"]
[null,null,null,null,null,null,null,null,null,null,null,null,null,null,null,null,null,null,null,null,null,null,null,null,null,null,null,null,null,null,null,null,null,null,null,null,null,null,null,null,null,null,null,null,null,"Черкаська","Босівка"]
[null,null,null,null,null,null,null,null,null,null,null,null,null,null,null,null,null,null,null,null,null,null,null,null,null,null,null,null,null,null,null,null,null,null,null,null,null,null,null,null,null,null,null,null,null,"Черкаська","Гуляйка"]
[null,null,null,null,null,null,null,null,null,null,null,null,null,null,null,null,null,null,null,null,null,null,null,null,null,null,null,null,null,null,null,null,null,null,null,null,null,null,null,null,null,null,null,null,null,"Черкаська","Домантове"]
[null,null,null,null,null,null,null,null,null,null,null,null,null,null,null,null,null,null,null,null,null,null,null,null,null,null,null,null,null,null,null,null,null,null,null,null,null,null,null,null,null,null,null,null,null,"Черкаська","Ковтунівка (Остапівська сільська  рада)"]
[null,null,null,null,null,null,null,null,null,null,null,null,null,null,null,null,null,null,null,null,null,null,null,null,null,null,null,null,null,null,null,null,null,null,null,null,null,null,null,null,null,null,null,null,null,"Черкаська","Коржовий Кут"]
[null,null,null,null,null,null,null,null,null,null,null,null,null,null,null,null,null,null,null,null,null,null,null,null,null,null,null,null,null,null,null,null,null,null,null,null,null,null,null,null,null,null,null,null,null,"Черкаська","Мелесівка"]
[null,null,null,null,null,null,null,null,null,null,null,null,null,null,null,null,null,null,null,null,null,null,null,null,null,null,null,null,null,null,null,null,null,null,null,null,null,null,null,null,null,null,null,null,null,"Черкаська","Нова  Ярославка"]
[null,null,null,null,null,null,null,null,null,null,null,null,null,null,null,null,null,null,null,null,null,null,null,null,null,null,null,null,null,null,null,null,null,null,null,null,null,null,null,null,null,null,null,null,null,"Черкаська","Павлівка Перша"]
[null,null,null,null,null,null,null,null,null,null,null,null,null,null,null,null,null,null,null,null,null,null,null,null,null,null,null,null,null,null,null,null,null,null,null,null,null,null,null,null,null,null,null,null,null,"Черкаська","Санжариха"]
[null,null,null,null,null,null,null,null,null,null,null,null,null,null,null,null,null,null,null,null,null,null,null,null,null,null,null,null,null,null,null,null,null,null,null,null,null,null,null,null,null,null,null,null,null,"Черкаська","Скрипчинці"]
[null,null,null,null,null,null,null,null,null,null,null,null,null,null,null,null,null,null,null,null,null,null,null,null,null,null,null,null,null,null,null,null,null,null,null,null,null,null,null,null,null,null,null,null,null,"Черкаська","Халаїдове"]
[null,null,null,null,null,null,null,null,null,null,null,null,null,null,null,null,null,null,null,null,null,null,null,null,null,null,null,null,null,null,null,null,null,null,null,null,null,null,null,null,null,null,null,null,null,"Черкаська","Ховківка"]
[null,null,null,null,null,null,null,null,null,null,null,null,null,null,null,null,null,null,null,null,null,null,null,null,null,null,null,null,null,null,null,null,null,null,null,null,null,null,null,null,null,null,null,null,null,"Чернівецька","Бузовиця"]
[null,null,null,null,null,null,null,null,null,null,null,null,null,null,null,null,null,null,null,null,null,null,null,null,null,null,null,null,null,null,null,null,null,null,null,null,null,null,null,null,null,null,null,null,null,"Чернівецька","Випчина"]
[null,null,null,null,null,null,null,null,null,null,null,null,null,null,null,null,null,null,null,null,null,null,null,null,null,null,null,null,null,null,null,null,null,null,null,null,null,null,null,null,null,null,null,null,null,"Чернівецька","Горбова"]
[null,null,null,null,null,null,null,null,null,null,null,null,null,null,null,null,null,null,null,null,null,null,null,null,null,null,null,null,null,null,null,null,null,null,null,null,null,null,null,null,null,null,null,null,null,"Чернівецька","Корнешти"]
[null,null,null,null,null,null,null,null,null,null,null,null,null,null,null,null,null,null,null,null,null,null,null,null,null,null,null,null,null,null,null,null,null,null,null,null,null,null,null,null,null,null,null,null,null,"Чернівецька","Лукачівка"]
[null,null,null,null,null,null,null,null,null,null,null,null,null,null,null,null,null,null,null,null,null,null,null,null,null,null,null,null,null,null,null,null,null,null,null,null,null,null,null,null,null,null,null,null,null,"Чернівецька","Ошихліби"]
[null,null,null,null,null,null,null,null,null,null,null,null,null,null,null,null,null,null,null,null,null,null,null,null,null,null,null,null,null,null,null,null,null,null,null,null,null,null,null,null,null,null,null,null,null,"Чернівецька","Погорілівка"]
[null,null,null,null,null,null,null,null,null,null,null,null,null,null,null,null,null,null,null,null,null,null,null,null,null,null,null,null,null,null,null,null,null,null,null,null,null,null,null,null,null,null,null,null,null,"Чернівецька","Хряцька"]
[null,null,null,null,null,null,null,null,null,null,null,null,null,null,null,null,null,null,null,null,null,null,null,null,null,null,null,null,null,null,null,null,null,null,null,null,null,null,null,null,null,null,null,null,null,"Чернівецька","Южинець"]
[null,null,null,null,null,null,null,null,null,null,null,null,null,null,null,null,null,null,null,null,null,null,null,null,null,null,null,null,null,null,null,null,null,null,null,null,null,null,null,null,null,null,null,null,null,"Чернігівська","Бережівка"]
[null,null,null,null,null,null,null,null,null,null,null,null,null,null,null,null,null,null,null,null,null,null,null,null,null,null,null,null,null,null,null,null,null,null,null,null,null,null,null,null,null,null,null,null,null,"Чернігівська","Велика Дорога"]
[null,null,null,null,null,null,null,null,null,null,null,null,null,null,null,null,null,null,null,null,null,null,null,null,null,null,null,null,null,null,null,null,null,null,null,null,null,null,null,null,null,null,null,null,null,"Чернігівська","Вильчики"]
[null,null,null,null,null,null,null,null,null,null,null,null,null,null,null,null,null,null,null,null,null,null,null,null,null,null,null,null,null,null,null,null,null,null,null,null,null,null,null,null,null,null,null,null,null,"Чернігівська","Данівка"]
[null,null,null,null,null,null,null,null,null,null,null,null,null,null,null,null,null,null,null,null,null,null,null,null,null,null,null,null,null,null,null,null,null,null,null,null,null,null,null,null,null,null,null,null,null,"Чернігівська","Жеребецьке"]
[null,null,null,null,null,null,null,null,null,null,null,null,null,null,null,null,null,null,null,null,null,null,null,null,null,null,null,null,null,null,null,null,null,null,null,null,null,null,null,null,null,null,null,null,null,"Чернігівська","Карасинівка"]
[null,null,null,null,null,null,null,null,null,null,null,null,null,null,null,null,null,null,null,null,null,null,null,null,null,null,null,null,null,null,null,null,null,null,null,null,null,null,null,null,null,null,null,null,null,"Чернігівська","Клипин"]
[null,null,null,null,null,null,null,null,null,null,null,null,null,null,null,null,null,null,null,null,null,null,null,null,null,null,null,null,null,null,null,null,null,null,null,null,null,null,null,null,null,null,null,null,null,"Чернігівська","Кугуки"]
[null,null,null,null,null,null,null,null,null,null,null,null,null,null,null,null,null,null,null,null,null,null,null,null,null,null,null,null,null,null,null,null,null,null,null,null,null,null,null,null,null,null,null,null,null,"Чернігівська","Ладинка"]
[null,null,null,null,null,null,null,null,null,null,null,null,null,null,null,null,null,null,null,null,null,null,null,null,null,null,null,null,null,null,null,null,null,null,null,null,null,null,null,null,null,null,null,null,null,"Чернігівська","Лісконоги"]
[null,null,null,null,null,null,null,null,null,null,null,null,null,null,null,null,null,null,null,null,null,null,null,null,null,null,null,null,null,null,null,null,null,null,null,null,null,null,null,null,null,null,null,null,null,"Чернігівська","Мезин"]
[null,null,null,null,null,null,null,null,null,null,null,null,null,null,null,null,null,null,null,null,null,null,null,null,null,null,null,null,null,null,null,null,null,null,null,null,null,null,null,null,null,null,null,null,null,"Чернігівська","Мурав'ї"]
[null,null,null,null,null,null,null,null,null,null,null,null,null,null,null,null,null,null,null,null,null,null,null,null,null,null,null,null,null,null,null,null,null,null,null,null,null,null,null,null,null,null,null,null,null,"Чернігівська","Остер"]
[null,null,null,null,null,null,null,null,null,null,null,null,null,null,null,null,null,null,null,null,null,null,null,null,null,null,null,null,null,null,null,null,null,null,null,null,null,null,null,null,null,null,null,null,null,"Чернігівська","Пересаж"]
[null,null,null,null,null,null,null,null,null,null,null,null,null,null,null,null,null,null,null,null,null,null,null,null,null,null,null,null,null,null,null,null,null,null,null,null,null,null,null,null,null,null,null,null,null,"Чернігівська","Радуль"]
[null,null,null,null,null,null,null,null,null,null,null,null,null,null,null,null,null,null,null,null,null,null,null,null,null,null,null,null,null,null,null,null,null,null,null,null,null,null,null,null,null,null,null,null,null,"Чернігівська","Роїще"]
[null,null,null,null,null,null,null,null,null,null,null,null,null,null,null,null,null,null,null,null,null,null,null,null,null,null,null,null,null,null,null,null,null,null,null,null,null,null,null,null,null,null,null,null,null,"Чернігівська","Сезьки"]
[null,null,null,null,null,null,null,null,null,null,null,null,null,null,null,null,null,null,null,null,null,null,null,null,null,null,null,null,null,null,null,null,null,null,null,null,null,null,null,null,null,null,null,null,null,"Чернігівська","Степанівське"]
[null,null,null,null,null,null,null,null,null,null,null,null,null,null,null,null,null,null,null,null,null,null,null,null,null,null,null,null,null,null,null,null,null,null,null,null,null,null,null,null,null,null,null,null,null,"Чернігівська","Тамарівка"]
[null,null,null,null,null,null,null,null,null,null,null,null,null,null,null,null,null,null,null,null,null,null,null,null,null,null,null,null,null,null,null,null,null,null,null,null,null,null,null,null,null,null,null,null,null,"Чернігівська","Тараса Шевченка"]
[null,null,null,null,null,null,null,null,null,null,null,null,null,null,null,null,null,null,null,null,null,null,null,null,null,null,null,null,null,null,null,null,null,null,null,null,null,null,null,null,null,null,null,null,null,"Чернігівська","Тарасів"]
[null,null,null,null,null,null,null,null,null,null,null,null,null,null,null,null,null,null,null,null,null,null,null,null,null,null,null,null,null,null,null,null,null,null,null,null,null,null,null,null,null,null,null,null,null,"Чернігівська","Тасуїв"]
[null,null,null,null,null,null,null,null,null,null,null,null,null,null,null,null,null,null,null,null,null,null,null,null,null,null,null,null,null,null,null,null,null,null,null,null,null,null,null,null,null,null,null,null,null,"Чернігівська","Татарівка"]
[null,null,null,null,null,null,null,null,null,null,null,null,null,null,null,null,null,null,null,null,null,null,null,null,null,null,null,null,null,null,null,null,null,null,null,null,null,null,null,null,null,null,null,null,null,"Чернігівська","Тельне"]
[null,null,null,null,null,null,null,null,null,null,null,null,null,null,null,null,null,null,null,null,null,null,null,null,null,null,null,null,null,null,null,null,null,null,null,null,null,null,null,null,null,null,null,null,null,"Чернігівська","Терехівка"]
[null,null,null,null,null,null,null,null,null,null,null,null,null,null,null,null,null,null,null,null,null,null,null,null,null,null,null,null,null,null,null,null,null,null,null,null,null,null,null,null,null,null,null,null,null,"Чернігівська","Терешиха"]
[null,null,null,null,null,null,null,null,null,null,null,null,null,null,null,null,null,null,null,null,null,null,null,null,null,null,null,null,null,null,null,null,null,null,null,null,null,null,null,null,null,null,null,null,null,"Чернігівська","Тертишники"]
[null,null,null,null,null,null,null,null,null,null,null,null,null,null,null,null,null,null,null,null,null,null,null,null,null,null,null,null,null,null,null,null,null,null,null,null,null,null,null,null,null,null,null,null,null,"Чернігівська","Тимоновичі"]
[null,null,null,null,null,null,null,null,null,null,null,null,null,null,null,null,null,null,null,null,null,null,null,null,null,null,null,null,null,null,null,null,null,null,null,null,null,null,null,null,null,null,null,null,null,"Чернігівська","Тиниця"]
[null,null,null,null,null,null,null,null,null,null,null,null,null,null,null,null,null,null,null,null,null,null,null,null,null,null,null,null,null,null,null,null,null,null,null,null,null,null,null,null,null,null,null,null,null,"Чернігівська","Титівка"]
[null,null,null,null,null,null,null,null,null,null,null,null,null,null,null,null,null,null,null,null,null,null,null,null,null,null,null,null,null,null,null,null,null,null,null,null,null,null,null,null,null,null,null,null,null,"Чернігівська","Тихонівське"]
[null,null,null,null,null,null,null,null,null,null,null,null,null,null,null,null,null,null,null,null,null,null,null,null,null,null,null,null,null,null,null,null,null,null,null,null,null,null,null,null,null,null,null,null,null,"Чернігівська","Тихоновичі"]
[null,null,null,null,null,null,null,null,null,null,null,null,null,null,null,null,null,null,null,null,null,null,null,null,null,null,null,null,null,null,null,null,null,null,null,null,null,null,null,null,null,null,null,null,null,"Чернігівська","Товкачівка"]
[null,null,null,null,null,null,null,null,null,null,null,null,null,null,null,null,null,null,null,null,null,null,null,null,null,null,null,null,null,null,null,null,null,null,null,null,null,null,null,null,null,null,null,null,null,"Чернігівська","Товстоліс"]
[null,null,null,null,null,null,null,null,null,null,null,null,null,null,null,null,null,null,null,null,null,null,null,null,null,null,null,null,null,null,null,null,null,null,null,null,null,null,null,null,null,null,null,null,null,"Чернігівська","Тонка"]
[null,null,null,null,null,null,null,null,null,null,null,null,null,null,null,null,null,null,null,null,null,null,null,null,null,null,null,null,null,null,null,null,null,null,null,null,null,null,null,null,null,null,null,null,null,"Чернігівська","Топчіївка"]
[null,null,null,null,null,null,null,null,null,null,null,null,null,null,null,null,null,null,null,null,null,null,null,null,null,null,null,null,null,null,null,null,null,null,null,null,null,null,null,null,null,null,null,null,null,"Чернігівська","Точене"]
[null,null,null,null,null,null,null,null,null,null,null,null,null,null,null,null,null,null,null,null,null,null,null,null,null,null,null,null,null,null,null,null,null,null,null,null,null,null,null,null,null,null,null,null,null,"Чернігівська","Травкине"]
[null,null,null,null,null,null,null,null,null,null,null,null,null,null,null,null,null,null,null,null,null,null,null,null,null,null,null,null,null,null,null,null,null,null,null,null,null,null,null,null,null,null,null,null,null,"Чернігівська","Тужар"]
[null,null,null,null,null,null,null,null,null,null,null,null,null,null,null,null,null,null,null,null,null,null,null,null,null,null,null,null,null,null,null,null,null,null,null,null,null,null,null,null,null,null,null,null,null,"Чернігівська","Тулія"]
[null,null,null,null,null,null,null,null,null,null,null,null,null,null,null,null,null,null,null,null,null,null,null,null,null,null,null,null,null,null,null,null,null,null,null,null,null,null,null,null,null,null,null,null,null,"Чернігівська","Туманська Гута"]
[null,null,null,null,null,null,null,null,null,null,null,null,null,null,null,null,null,null,null,null,null,null,null,null,null,null,null,null,null,null,null,null,null,null,null,null,null,null,null,null,null,null,null,null,null,"Чернігівська","Тупичів"]
[null,null,null,null,null,null,null,null,null,null,null,null,null,null,null,null,null,null,null,null,null,null,null,null,null,null,null,null,null,null,null,null,null,null,null,null,null,null,null,null,null,null,null,null,null,"Чернігівська","Турківка"]
[null,null,null,null,null,null,null,null,null,null,null,null,null,null,null,null,null,null,null,null,null,null,null,null,null,null,null,null,null,null,null,null,null,null,null,null,null,null,null,null,null,null,null,null,null,"Чернігівська","Тютюнниця"]
[null,null,null,null,null,null,null,null,null,null,null,null,null,null,null,null,null,null,null,null,null,null,null,null,null,null,null,null,null,null,null,null,null,null,null,null,null,null,null,null,null,null,null,null,null,"Чернігівська","Убіжичі"]
[null,null,null,null,null,null,null,null,null,null,null,null,null,null,null,null,null,null,null,null,null,null,null,null,null,null,null,null,null,null,null,null,null,null,null,null,null,null,null,null,null,null,null,null,null,"Чернігівська","Уборки"]
[null,null,null,null,null,null,null,null,null,null,null,null,null,null,null,null,null,null,null,null,null,null,null,null,null,null,null,null,null,null,null,null,null,null,null,null,null,null,null,null,null,null,null,null,null,"Чернігівська","Углова Рудня"]
[null,null,null,null,null,null,null,null,null,null,null,null,null,null,null,null,null,null,null,null,null,null,null,null,null,null,null,null,null,null,null,null,null,null,null,null,null,null,null,null,null,null,null,null,null,"Чернігівська","Удайці"]
[null,null,null,null,null,null,null,null,null,null,null,null,null,null,null,null,null,null,null,null,null,null,null,null,null,null,null,null,null,null,null,null,null,null,null,null,null,null,null,null,null,null,null,null,null,"Чернігівська","Узруй"]
[null,null,null,null,null,null,null,null,null,null,null,null,null,null,null,null,null,null,null,null,null,null,null,null,null,null,null,null,null,null,null,null,null,null,null,null,null,null,null,null,null,null,null,null,null,"Чернігівська","Українське (курінська)"]
[null,null,null,null,null,null,null,null,null,null,null,null,null,null,null,null,null,null,null,null,null,null,null,null,null,null,null,null,null,null,null,null,null,null,null,null,null,null,null,null,null,null,null,null,null,"Чернігівська","Унучки"]
[null,null,null,null,null,null,null,null,null,null,null,null,null,null,null,null,null,null,null,null,null,null,null,null,null,null,null,null,null,null,null,null,null,null,null,null,null,null,null,null,null,null,null,null,null,"Чернігівська","Ушівка"]
[null,null,null,null,null,null,null,null,null,null,null,null,null,null,null,null,null,null,null,null,null,null,null,null,null,null,null,null,null,null,null,null,null,null,null,null,null,null,null,null,null,null,null,null,null,"Чернігівська","Фаївка"]
[null,null,null,null,null,null,null,null,null,null,null,null,null,null,null,null,null,null,null,null,null,null,null,null,null,null,null,null,null,null,null,null,null,null,null,null,null,null,null,null,null,null,null,null,null,"Чернігівська","Фастівці"]
[null,null,null,null,null,null,null,null,null,null,null,null,null,null,null,null,null,null,null,null,null,null,null,null,null,null,null,null,null,null,null,null,null,null,null,null,null,null,null,null,null,null,null,null,null,"Чернігівська","Ферубки"]
[null,null,null,null,null,null,null,null,null,null,null,null,null,null,null,null,null,null,null,null,null,null,null,null,null,null,null,null,null,null,null,null,null,null,null,null,null,null,null,null,null,null,null,null,null,"Чернігівська","Феськівка"]
[null,null,null,null,null,null,null,null,null,null,null,null,null,null,null,null,null,null,null,null,null,null,null,null,null,null,null,null,null,null,null,null,null,null,null,null,null,null,null,null,null,null,null,null,null,"Чернігівська","Філонівка"]
[null,null,null,null,null,null,null,null,null,null,null,null,null,null,null,null,null,null,null,null,null,null,null,null,null,null,null,null,null,null,null,null,null,null,null,null,null,null,null,null,null,null,null,null,null,"Чернігівська","Форостовичі"]
[null,null,null,null,null,null,null,null,null,null,null,null,null,null,null,null,null,null,null,null,null,null,null,null,null,null,null,null,null,null,null,null,null,null,null,null,null,null,null,null,null,null,null,null,null,"Чернігівська","Фурсове"]
[null,null,null,null,null,null,null,null,null,null,null,null,null,null,null,null,null,null,null,null,null,null,null,null,null,null,null,null,null,null,null,null,null,null,null,null,null,null,null,null,null,null,null,null,null,"Чернігівська","Хаєнки"]
[null,null,null,null,null,null,null,null,null,null,null,null,null,null,null,null,null,null,null,null,null,null,null,null,null,null,null,null,null,null,null,null,null,null,null,null,null,null,null,null,null,null,null,null,null,"Чернігівська","Хаїха"]
[null,null,null,null,null,null,null,null,null,null,null,null,null,null,null,null,null,null,null,null,null,null,null,null,null,null,null,null,null,null,null,null,null,null,null,null,null,null,null,null,null,null,null,null,null,"Чернігівська","Халимонове"]
[null,null,null,null,null,null,null,null,null,null,null,null,null,null,null,null,null,null,null,null,null,null,null,null,null,null,null,null,null,null,null,null,null,null,null,null,null,null,null,null,null,null,null,null,null,"Чернігівська","Халявин"]
[null,null,null,null,null,null,null,null,null,null,null,null,null,null,null,null,null,null,null,null,null,null,null,null,null,null,null,null,null,null,null,null,null,null,null,null,null,null,null,null,null,null,null,null,null,"Чернігівська","Хатилова Гута"]
[null,null,null,null,null,null,null,null,null,null,null,null,null,null,null,null,null,null,null,null,null,null,null,null,null,null,null,null,null,null,null,null,null,null,null,null,null,null,null,null,null,null,null,null,null,"Чернігівська","Хвилівка"]
[null,null,null,null,null,null,null,null,null,null,null,null,null,null,null,null,null,null,null,null,null,null,null,null,null,null,null,null,null,null,null,null,null,null,null,null,null,null,null,null,null,null,null,null,null,"Чернігівська","Хибалівка"]
[null,null,null,null,null,null,null,null,null,null,null,null,null,null,null,null,null,null,null,null,null,null,null,null,null,null,null,null,null,null,null,null,null,null,null,null,null,null,null,null,null,null,null,null,null,"Чернігівська","Хлоп'яники"]
[null,null,null,null,null,null,null,null,null,null,null,null,null,null,null,null,null,null,null,null,null,null,null,null,null,null,null,null,null,null,null,null,null,null,null,null,null,null,null,null,null,null,null,null,null,"Чернігівська","Хмільниця"]
[null,null,null,null,null,null,null,null,null,null,null,null,null,null,null,null,null,null,null,null,null,null,null,null,null,null,null,null,null,null,null,null,null,null,null,null,null,null,null,null,null,null,null,null,null,"Чернігівська","Ховдіївка"]
[null,null,null,null,null,null,null,null,null,null,null,null,null,null,null,null,null,null,null,null,null,null,null,null,null,null,null,null,null,null,null,null,null,null,null,null,null,null,null,null,null,null,null,null,null,"Чернігівська","Ховми"]
[null,null,null,null,null,null,null,null,null,null,null,null,null,null,null,null,null,null,null,null,null,null,null,null,null,null,null,null,null,null,null,null,null,null,null,null,null,null,null,null,null,null,null,null,null,"Чернігівська","Холми"]
[null,null,null,null,null,null,null,null,null,null,null,null,null,null,null,null,null,null,null,null,null,null,null,null,null,null,null,null,null,null,null,null,null,null,null,null,null,null,null,null,null,null,null,null,null,"Чернігівська","Холявки"]
[null,null,null,null,null,null,null,null,null,null,null,null,null,null,null,null,null,null,null,null,null,null,null,null,null,null,null,null,null,null,null,null,null,null,null,null,null,null,null,null,null,null,null,null,null,"Чернігівська","Хоробичі"]
[null,null,null,null,null,null,null,null,null,null,null,null,null,null,null,null,null,null,null,null,null,null,null,null,null,null,null,null,null,null,null,null,null,null,null,null,null,null,null,null,null,null,null,null,null,"Чернігівська","Хороше Озеро"]
[null,null,null,null,null,null,null,null,null,null,null,null,null,null,null,null,null,null,null,null,null,null,null,null,null,null,null,null,null,null,null,null,null,null,null,null,null,null,null,null,null,null,null,null,null,"Чернігівська","Хотівля"]
[null,null,null,null,null,null,null,null,null,null,null,null,null,null,null,null,null,null,null,null,null,null,null,null,null,null,null,null,null,null,null,null,null,null,null,null,null,null,null,null,null,null,null,null,null,"Чернігівська","Хотіївка"]
[null,null,null,null,null,null,null,null,null,null,null,null,null,null,null,null,null,null,null,null,null,null,null,null,null,null,null,null,null,null,null,null,null,null,null,null,null,null,null,null,null,null,null,null,null,"Чернігівська","Хотуничі"]
[null,null,null,null,null,null,null,null,null,null,null,null,null,null,null,null,null,null,null,null,null,null,null,null,null,null,null,null,null,null,null,null,null,null,null,null,null,null,null,null,null,null,null,null,null,"Чернігівська","Храпате"]
[null,null,null,null,null,null,null,null,null,null,null,null,null,null,null,null,null,null,null,null,null,null,null,null,null,null,null,null,null,null,null,null,null,null,null,null,null,null,null,null,null,null,null,null,null,"Чернігівська","Хрипівка"]
[null,null,null,null,null,null,null,null,null,null,null,null,null,null,null,null,null,null,null,null,null,null,null,null,null,null,null,null,null,null,null,null,null,null,null,null,null,null,null,null,null,null,null,null,null,"Чернігівська","Хрінівка"]
[null,null,null,null,null,null,null,null,null,null,null,null,null,null,null,null,null,null,null,null,null,null,null,null,null,null,null,null,null,null,null,null,null,null,null,null,null,null,null,null,null,null,null,null,null,"Чернігівська","Хукалівка"]
[null,null,null,null,null,null,null,null,null,null,null,null,null,null,null,null,null,null,null,null,null,null,null,null,null,null,null,null,null,null,null,null,null,null,null,null,null,null,null,null,null,null,null,null,null,"Чернігівська","Часнівці"]
[null,null,null,null,null,null,null,null,null,null,null,null,null,null,null,null,null,null,null,null,null,null,null,null,null,null,null,null,null,null,null,null,null,null,null,null,null,null,null,null,null,null,null,null,null,"Чернігівська","Чемер"]
[null,null,null,null,null,null,null,null,null,null,null,null,null,null,null,null,null,null,null,null,null,null,null,null,null,null,null,null,null,null,null,null,null,null,null,null,null,null,null,null,null,null,null,null,null,"Чернігівська","Ченчики"]
[null,null,null,null,null,null,null,null,null,null,null,null,null,null,null,null,null,null,null,null,null,null,null,null,null,null,null,null,null,null,null,null,null,null,null,null,null,null,null,null,null,null,null,null,null,"Чернігівська","Чепелів"]
[null,null,null,null,null,null,null,null,null,null,null,null,null,null,null,null,null,null,null,null,null,null,null,null,null,null,null,null,null,null,null,null,null,null,null,null,null,null,null,null,null,null,null,null,null,"Чернігівська","Червона Буда"]
[null,null,null,null,null,null,null,null,null,null,null,null,null,null,null,null,null,null,null,null,null,null,null,null,null,null,null,null,null,null,null,null,null,null,null,null,null,null,null,null,null,null,null,null,null,"Чернігівська","Червона Гута"]
[null,null,null,null,null,null,null,null,null,null,null,null,null,null,null,null,null,null,null,null,null,null,null,null,null,null,null,null,null,null,null,null,null,null,null,null,null,null,null,null,null,null,null,null,null,"Чернігівська","Червона Україна"]
[null,null,null,null,null,null,null,null,null,null,null,null,null,null,null,null,null,null,null,null,null,null,null,null,null,null,null,null,null,null,null,null,null,null,null,null,null,null,null,null,null,null,null,null,null,"Чернігівська","Червоний Гай"]
[null,null,null,null,null,null,null,null,null,null,null,null,null,null,null,null,null,null,null,null,null,null,null,null,null,null,null,null,null,null,null,null,null,null,null,null,null,null,null,null,null,null,null,null,null,"Чернігівська","Червоний Довжик"]
[null,null,null,null,null,null,null,null,null,null,null,null,null,null,null,null,null,null,null,null,null,null,null,null,null,null,null,null,null,null,null,null,null,null,null,null,null,null,null,null,null,null,null,null,null,"Чернігівська","Червоний Колодязь"]
[null,null,null,null,null,null,null,null,null,null,null,null,null,null,null,null,null,null,null,null,null,null,null,null,null,null,null,null,null,null,null,null,null,null,null,null,null,null,null,null,null,null,null,null,null,"Чернігівська","Червоний Остер"]
[null,null,null,null,null,null,null,null,null,null,null,null,null,null,null,null,null,null,null,null,null,null,null,null,null,null,null,null,null,null,null,null,null,null,null,null,null,null,null,null,null,null,null,null,null,"Чернігівська","Червоний Пахар"]
[null,null,null,null,null,null,null,null,null,null,null,null,null,null,null,null,null,null,null,null,null,null,null,null,null,null,null,null,null,null,null,null,null,null,null,null,null,null,null,null,null,null,null,null,null,"Чернігівська","Червоний Плугатор"]
[null,null,null,null,null,null,null,null,null,null,null,null,null,null,null,null,null,null,null,null,null,null,null,null,null,null,null,null,null,null,null,null,null,null,null,null,null,null,null,null,null,null,null,null,null,"Чернігівська","Червоний Шлях"]
[null,null,null,null,null,null,null,null,null,null,null,null,null,null,null,null,null,null,null,null,null,null,null,null,null,null,null,null,null,null,null,null,null,null,null,null,null,null,null,null,null,null,null,null,null,"Чернігівська","Червоні Гори"]
[null,null,null,null,null,null,null,null,null,null,null,null,null,null,null,null,null,null,null,null,null,null,null,null,null,null,null,null,null,null,null,null,null,null,null,null,null,null,null,null,null,null,null,null,null,"Чернігівська","Червоні Партизани"]
[null,null,null,null,null,null,null,null,null,null,null,null,null,null,null,null,null,null,null,null,null,null,null,null,null,null,null,null,null,null,null,null,null,null,null,null,null,null,null,null,null,null,null,null,null,"Чернігівська","Черецьке"]
[null,null,null,null,null,null,null,null,null,null,null,null,null,null,null,null,null,null,null,null,null,null,null,null,null,null,null,null,null,null,null,null,null,null,null,null,null,null,null,null,null,null,null,null,null,"Чернігівська","Черниш"]
[null,null,null,null,null,null,null,null,null,null,null,null,null,null,null,null,null,null,null,null,null,null,null,null,null,null,null,null,null,null,null,null,null,null,null,null,null,null,null,null,null,null,null,null,null,"Чернігівська","Чернігів"]
[null,null,null,null,null,null,null,null,null,null,null,null,null,null,null,null,null,null,null,null,null,null,null,null,null,null,null,null,null,null,null,null,null,null,null,null,null,null,null,null,null,null,null,null,null,"Чернігівська","Чисті Лужи"]
[null,null,null,null,null,null,null,null,null,null,null,null,null,null,null,null,null,null,null,null,null,null,null,null,null,null,null,null,null,null,null,null,null,null,null,null,null,null,null,null,null,null,null,null,null,"Чернігівська","Чорний Ріг"]
[null,null,null,null,null,null,null,null,null,null,null,null,null,null,null,null,null,null,null,null,null,null,null,null,null,null,null,null,null,null,null,null,null,null,null,null,null,null,null,null,null,null,null,null,null,"Чернігівська","Чорногорці"]
[null,null,null,null,null,null,null,null,null,null,null,null,null,null,null,null,null,null,null,null,null,null,null,null,null,null,null,null,null,null,null,null,null,null,null,null,null,null,null,null,null,null,null,null,null,"Чернігівська","Чорнозем"]
[null,null,null,null,null,null,null,null,null,null,null,null,null,null,null,null,null,null,null,null,null,null,null,null,null,null,null,null,null,null,null,null,null,null,null,null,null,null,null,null,null,null,null,null,null,"Чернігівська","Чорнотичі"]
[null,null,null,null,null,null,null,null,null,null,null,null,null,null,null,null,null,null,null,null,null,null,null,null,null,null,null,null,null,null,null,null,null,null,null,null,null,null,null,null,null,null,null,null,null,"Чернігівська","Чудівка"]
[null,null,null,null,null,null,null,null,null,null,null,null,null,null,null,null,null,null,null,null,null,null,null,null,null,null,null,null,null,null,null,null,null,null,null,null,null,null,null,null,null,null,null,null,null,"Чернігівська","Чулатів"]
[null,null,null,null,null,null,null,null,null,null,null,null,null,null,null,null,null,null,null,null,null,null,null,null,null,null,null,null,null,null,null,null,null,null,null,null,null,null,null,null,null,null,null,null,null,"Чернігівська","Чумак"]
[null,null,null,null,null,null,null,null,null,null,null,null,null,null,null,null,null,null,null,null,null,null,null,null,null,null,null,null,null,null,null,null,null,null,null,null,null,null,null,null,null,null,null,null,null,"Чернігівська","Шабалинів"]
[null,null,null,null,null,null,null,null,null,null,null,null,null,null,null,null,null,null,null,null,null,null,null,null,null,null,null,null,null,null,null,null,null,null,null,null,null,null,null,null,null,null,null,null,null,"Чернігівська","Шаболтасівка"]
[null,null,null,null,null,null,null,null,null,null,null,null,null,null,null,null,null,null,null,null,null,null,null,null,null,null,null,null,null,null,null,null,null,null,null,null,null,null,null,null,null,null,null,null,null,"Чернігівська","Шами"]
[null,null,null,null,null,null,null,null,null,null,null,null,null,null,null,null,null,null,null,null,null,null,null,null,null,null,null,null,null,null,null,null,null,null,null,null,null,null,null,null,null,null,null,null,null,"Чернігівська","Шапіхи"]
[null,null,null,null,null,null,null,null,null,null,null,null,null,null,null,null,null,null,null,null,null,null,null,null,null,null,null,null,null,null,null,null,null,null,null,null,null,null,null,null,null,null,null,null,null,"Чернігівська","Шатура"]
[null,null,null,null,null,null,null,null,null,null,null,null,null,null,null,null,null,null,null,null,null,null,null,null,null,null,null,null,null,null,null,null,null,null,null,null,null,null,null,null,null,null,null,null,null,"Чернігівська","Шведчина"]
[null,null,null,null,null,null,null,null,null,null,null,null,null,null,null,null,null,null,null,null,null,null,null,null,null,null,null,null,null,null,null,null,null,null,null,null,null,null,null,null,null,null,null,null,null,"Чернігівська","Шептаки"]
[null,null,null,null,null,null,null,null,null,null,null,null,null,null,null,null,null,null,null,null,null,null,null,null,null,null,null,null,null,null,null,null,null,null,null,null,null,null,null,null,null,null,null,null,null,"Чернігівська","Шестовиця"]
[null,null,null,null,null,null,null,null,null,null,null,null,null,null,null,null,null,null,null,null,null,null,null,null,null,null,null,null,null,null,null,null,null,null,null,null,null,null,null,null,null,null,null,null,null,"Чернігівська","Шибиринівка"]
[null,null,null,null,null,null,null,null,null,null,null,null,null,null,null,null,null,null,null,null,null,null,null,null,null,null,null,null,null,null,null,null,null,null,null,null,null,null,null,null,null,null,null,null,null,"Чернігівська","Шиловичі"]
[null,null,null,null,null,null,null,null,null,null,null,null,null,null,null,null,null,null,null,null,null,null,null,null,null,null,null,null,null,null,null,null,null,null,null,null,null,null,null,null,null,null,null,null,null,"Чернігівська","Шишка"]
[null,null,null,null,null,null,null,null,null,null,null,null,null,null,null,null,null,null,null,null,null,null,null,null,null,null,null,null,null,null,null,null,null,null,null,null,null,null,null,null,null,null,null,null,null,"Чернігівська","Шкробове"]
[null,null,null,null,null,null,null,null,null,null,null,null,null,null,null,null,null,null,null,null,null,null,null,null,null,null,null,null,null,null,null,null,null,null,null,null,null,null,null,null,null,null,null,null,null,"Чернігівська","Шкуранка"]
[null,null,null,null,null,null,null,null,null,null,null,null,null,null,null,null,null,null,null,null,null,null,null,null,null,null,null,null,null,null,null,null,null,null,null,null,null,null,null,null,null,null,null,null,null,"Чернігівська","Шмаївка"]
[null,null,null,null,null,null,null,null,null,null,null,null,null,null,null,null,null,null,null,null,null,null,null,null,null,null,null,null,null,null,null,null,null,null,null,null,null,null,null,null,null,null,null,null,null,"Чернігівська","Шняківка"]
[null,null,null,null,null,null,null,null,null,null,null,null,null,null,null,null,null,null,null,null,null,null,null,null,null,null,null,null,null,null,null,null,null,null,null,null,null,null,null,null,null,null,null,null,null,"Чернігівська","Шолойки"]
[null,null,null,null,null,null,null,null,null,null,null,null,null,null,null,null,null,null,null,null,null,null,null,null,null,null,null,null,null,null,null,null,null,null,null,null,null,null,null,null,null,null,null,null,null,"Чернігівська","Шпаків"]
[null,null,null,null,null,null,null,null,null,null,null,null,null,null,null,null,null,null,null,null,null,null,null,null,null,null,null,null,null,null,null,null,null,null,null,null,null,null,null,null,null,null,null,null,null,"Чернігівська","Шумани"]
[null,null,null,null,null,null,null,null,null,null,null,null,null,null,null,null,null,null,null,null,null,null,null,null,null,null,null,null,null,null,null,null,null,null,null,null,null,null,null,null,null,null,null,null,null,"Чернігівська","Шумейкине (Матіївська)"]
[null,null,null,null,null,null,null,null,null,null,null,null,null,null,null,null,null,null,null,null,null,null,null,null,null,null,null,null,null,null,null,null,null,null,null,null,null,null,null,null,null,null,null,null,null,"Чернігівська","Шумейків"]
[null,null,null,null,null,null,null,null,null,null,null,null,null,null,null,null,null,null,null,null,null,null,null,null,null,null,null,null,null,null,null,null,null,null,null,null,null,null,null,null,null,null,null,null,null,"Чернігівська","Шумин"]
[null,null,null,null,null,null,null,null,null,null,null,null,null,null,null,null,null,null,null,null,null,null,null,null,null,null,null,null,null,null,null,null,null,null,null,null,null,null,null,null,null,null,null,null,null,"Чернігівська","Щокоть"]
[null,null,null,null,null,null,null,null,null,null,null,null,null,null,null,null,null,null,null,null,null,null,null,null,null,null,null,null,null,null,null,null,null,null,null,null,null,null,null,null,null,null,null,null,null,"Чернігівська","Щорс"]
[null,null,null,null,null,null,null,null,null,null,null,null,null,null,null,null,null,null,null,null,null,null,null,null,null,null,null,null,null,null,null,null,null,null,null,null,null,null,null,null,null,null,null,null,null,"Чернігівська","Щурівка"]
[null,null,null,null,null,null,null,null,null,null,null,null,null,null,null,null,null,null,null,null,null,null,null,null,null,null,null,null,null,null,null,null,null,null,null,null,null,null,null,null,null,null,null,null,null,"Чернігівська","Щуча Гребля"]
[null,null,null,null,null,null,null,null,null,null,null,null,null,null,null,null,null,null,null,null,null,null,null,null,null,null,null,null,null,null,null,null,null,null,null,null,null,null,null,null,null,null,null,null,null,"Чернігівська","Юрківщина"]
[null,null,null,null,null,null,null,null,null,null,null,null,null,null,null,null,null,null,null,null,null,null,null,null,null,null,null,null,null,null,null,null,null,null,null,null,null,null,null,null,null,null,null,null,null,"Чернігівська","Юхнове"]
[null,null,null,null,null,null,null,null,null,null,null,null,null,null,null,null,null,null,null,null,null,null,null,null,null,null,null,null,null,null,null,null,null,null,null,null,null,null,null,null,null,null,null,null,null,"Чернігівська","Яблунівське"]
[null,null,null,null,null,null,null,null,null,null,null,null,null,null,null,null,null,null,null,null,null,null,null,null,null,null,null,null,null,null,null,null,null,null,null,null,null,null,null,null,null,null,null,null,null,"Чернігівська","Ядути"]
[null,null,null,null,null,null,null,null,null,null,null,null,null,null,null,null,null,null,null,null,null,null,null,null,null,null,null,null,null,null,null,null,null,null,null,null,null,null,null,null,null,null,null,null,null,"Чернігівська","Якличі"]
[null,null,null,null,null,null,null,null,null,null,null,null,null,null,null,null,null,null,null,null,null,null,null,null,null,null,null,null,null,null,null,null,null,null,null,null,null,null,null,null,null,null,null,null,null,"Чернігівська","Ямище"]
[null,null,null,null,null,null,null,null,null,null,null,null,null,null,null,null,null,null,null,null,null,null,null,null,null,null,null,null,null,null,null,null,null,null,null,null,null,null,null,null,null,null,null,null,null,"Чернігівська","Ярова Білещина"]
[null,null,null,null,null,null,null,null,null,null,null,null,null,null,null,null,null,null,null,null,null,null,null,null,null,null,null,null,null,null,null,null,null,null,null,null,null,null,null,null,null,null,null,null,null,"Чернігівська","Ясна Зірка"]
[null,null,null,null,null,null,null,null,null,null,null,null,null,null,null,null,null,null,null,null,null,null,null,null,null,null,null,null,null,null,null,null,null,null,null,null,null,null,null,null,null,null,null,null,null,"Чернігівська","Яськове"]
[null,null,null,null,null,null,null,null,null,null,null,null,null,null,null,null,null,null,null,null,null,null,null,null,null,null,null,null,null,null,null,null,null,null,null,null,null,null,null,null,null,null,null,null,null,"Чернігівська","Ященків"]