{"text_format":"1","workbook":"xlsx","n_sheets":6,"sheets":["1.Портфель кредитів","2.Забезпечення","3.ППР","4.журнал торгів","журнал_пулів","Hidden_Словник"],"not_rendered":{"charts":0,"images":1,"macros":1,"external_links":1,"defined_names":32,"comments":0,"pivot_tables":0},"unopened":[],"bounds":{"document_bytes":16777216,"sheet_cells":100000,"rows_first":2000,"rows_last":500,"rows_between":2000,"halvings":0,"cell_chars":16384,"cell_head_chars":4096},"cells_cut":0,"cells_raw":0,"read":"whole","date_system":"1900"}

{"sheet":"1.Портфель кредитів","index":0,"n_rows":1005,"n_cols":33,"rows_kept":1005,"cut":false,"hidden":false,"merged":[]}
[]
[null,null,"Цей документ був підготовлений Фондом гарантування вкладів фізичних осіб (далі – Фонд) виключно для інформаційних цілей і не повинен вважатися як спонукання до будь-яких дій чи бездіяльності. \nІнформація, що міститься в цьому документі, була отримана з/або ґрунтується на джерелах які вважаються надійними, але не є вичерпною та не може сприйматися як повна або актуальна. Рішення покупця щодо будь яких дій або бездіяльності повинно ґрунтуватися на власних оцінках та дослідженнях майна (активу/активів) котре реалізуються. Фонд не несе відповідальності за рішення покупця та його наслідки, що ґрунтується на інформації викладеній в даному документі."]
[]
[]
[]
["Звітна дата",":","2018-06-01",null,null,null,null,null,null,null,null,null,null,null,null,null,null,null,null,null,null,null,null,null,null,null,null,0]
[null,null,"Загальні дані",null,null,null,null,"Характеристика активу / фактори впливу",null,null,null,null,null,null,null,null,null,null,null,null,null,null,null,"Заборгованість"]
["unicid","#","Банк","МФО банку","Галузь діяльності позичальника (КВЕД)","Область","Ознака банкрутства/ліквідації (відповідно ЄДР на дату заповнення паспорту)","Група активу","Номер кредитного договору","Тип кредита/активу","Валюта","Відсоткова ставка номінальна","Дата відкриття","Дата закінчення","Відмітка про знаходження права об'єкту в якості забезпечення під рефінансуванням в НБУ","Наявність кредитного договору та договору застави","Кількість днів прострочення оплати боргу на дату заповнення","Сума погашеної заборгованності у поточному році","Сума останнього погашення заборгованності","Дата останнього погашення заборгованності","Суб'єкт оціночної діяльності","Дата оцінки активу","Оціночна вартість","Заборгованість на дату формування ліквідаційної маси","Заборгованстіь  на дату заповнення паспорту dd.mm.yyyyр. (тіло та проценти):","Заборгованість по тілу кредиту на дату заповнення паспорту","Забаргованність по нарах. % за кредитом на дату заповнення паспорту","Штрафи та пені"]
["380236_31553711_1",1,"Дельта","380236","51.21","Миколаївська","Ліквідовано",2,"02/158/07-КЛТ","Кредитна лінія","Гривня",0,"2007-09-12","2009-09-11","НІ","Наявні документи кредитної справи",1399,0,0,"відсутня","СОД ПП «Габ'яно»","2016-01-01",2509658,5337623.54,5337623.54,4600000,737623.54,"зг. умов кредитного договору"]
["380236_31553711_2",2,"Дельта","380236","51.21","Миколаївська","Ліквідовано",2,"02/179/07-КЛТ","Кредитна лінія","Гривня",0,"2007-10-19","2009-10-16","НІ","Наявні документи кредитної справи",1399,0,null,"відсутня","СОД ПП «Габ'яно»","2016-01-01",1721178,3537654.95,3537654.95,3500000,37654.949999999997,"зг. умов кредитного договору"]
["380236_2570501675_3",3,"Дельта","380236",null,"Миколаївська","Інше",1,"15/038/08-ZKLN","Кредитна лінія","Гривня",0.152,"2008-03-07","2010-04-02","НІ","Наявні документи кредитної справи",1826,0,534.05999999999995,"2017-12-19","ТОВ \"Бізнес Ассіст\"","2016-01-01",12710,348794,439726.54000000004,249307.62,190418.92,"зг. умов кредитного договору"]
["380236_2570503638_4",4,"Дельта","380236","45.20","Вінницька","Діюче",1,"11328116000","Кредит","Доллар США",0.26,"2008-04-04","2015-04-04","НІ","Наявні документи кредитної справи",2356,0,0,"відсутня","СОД ПП «Габ'яно»","2016-01-01",81189,514154.04,708707.96,236842.77,471865.19,"зг. умов кредитного договору"]
["380236_23461005_5",5,"Дельта","380236",null,"Харківська","Ліквідовано",2,"07/059/06-КЛТ","Кредитна лінія","Гривня",0,"2006-06-02","2009-06-01","НІ","Наявні документи кредитної справи",1399,0,0,"відсутня","СОД ПП «Габ'яно»","2016-01-01",2466492,5069548.7,5069548.7,4755170,314378.7,"зг. умов кредитного договору"]
["380236_34383703_6",6,"Дельта","380236","45.11","Донецька","Діюче",1,"33/КВ-08","Кредитна лінія","Гривня",0.26,"2008-08-21","2011-01-28","НІ","Наявні документи кредитної справи",2890,0,0,"відсутня","СОД ПП «Габ'яно»","2016-01-01",15016,71841.23,128143.67999999999,40000,88143.679999999993,"зг. умов кредитного договору"]
["380236_3151219640_7",7,"Дельта","380236","45.20","Одеська","Діюче",1,"11406970000","Кредит","Гривня",0.5,"2008-10-29","2011-10-31","НІ","Наявні документи кредитної справи",2356,0,0,"відсутня","СОД ПП «Габ'яно»","2016-01-01",21959,517892.54,700900.23,151454.75,549445.48,"зг. умов кредитного договору"]
["380236_33110948_8",8,"Дельта","380236","16.10","Чернігівська","Банкрутство",1,"11399961000","Кредит (ОВЕРДРАФТ)","Гривня",0.27,"2008-04-03","2009-03-31","НІ","Наявні документи кредитної справи",2356,0,0,"відсутня","СОД ПП «Габ'яно»","2016-01-01",12336,290950.34999999998,355478.95999999996,99016.03,256462.93,"зг. умов кредитного договору"]
["380236_2966112741_9",9,"Дельта","380236","51.21","Кіровоградська","Діюче",1,"11173398000","Кредит","Доллар США",0.28000000000000003,"2007-07-02","2010-07-02","НІ","Наявні документи кредитної справи",2356,0,0,"відсутня","СОД ПП «Габ'яно»","2016-01-01",238561,1084839.51,1986051.33,549160.04,1436891.29,"зг. умов кредитного договору"]
["380236_2966112741_10",10,"Дельта","380236",null,"Кіровоградська","Інше",1,"11187599000","Кредит","Доллар США",0.15,"2007-07-23","2014-07-23","НІ","Наявні документи кредитної справи",2356,0,0,"погашень не було","ТОВ \"Бізнес Ассіст\"","2016-01-01",367649,1266728.08,1750291.88,504590.37,1245701.51,"зг. умов кредитного договору"]
["380236_04541632_11",11,"Дельта","380236","10.13","Донецька","Банкрутство",1,"3.3ДС/243/2006-КЛТ  ","Кредитна лінія","Гривня",0,"2006-09-04","2009-07-06","НІ","Наявні документи кредитної справи",1399,0,0,"відсутня","СОД ПП «Габ'яно»","2016-01-01",1895409,4506365.91,4506365.91,4506365.91,0,"зг. умов кредитного договору"]
["380236_2271005012_12",12,"Дельта","380236",null,"Севастополь","Ліквідовано",1,"10938875000","Кредит","Гривня",0,"2005-02-17","2008-02-17","НІ","Відсутні документи кредитної справи",2356,0,0,"відсутня","СОД ПП «Габ'яно»","2016-01-01",3260,38150.99,38150.99,1270.8399999999999,36880.15,"зг. умов кредитного договору"]
["380236_2271005012_13",13,"Дельта","380236",null,"Севастополь","Ліквідовано",1,"10938900000","Кредит","Гривня",0,"2005-07-26","2008-07-26","НІ","Відсутні документи кредитної справи",2356,0,0,"відсутня","СОД ПП «Габ'яно»","2016-01-01",27020,316214.2,316214.2,97843.01,218371.19,"зг. умов кредитного договору"]
["380236_35907006_14",14,"Дельта","380236","17.21","Сумська","Діюче",1,"КЮ-О-2011019","Кредит (ОВЕРДРАФТ)","Гривня",0.38,"2012-10-26","2013-10-25","НІ","Наявні документи кредитної справи",1912,0,5000,"2013-12-31","СОД ПП «Габ'яно»","2016-01-01",10501,247675.37,366733.20999999996,129805,236928.21,"зг. умов кредитного договору"]
["380236_35907006_15",15,"Дельта","380236","17.21","Сумська","Діюче",null,"18/2011019-14623","дебіторська заборгованість за розрахунково-касове обслуговування поточного рахунку","Гривня",null,"2012-09-13","-",null,"Наявні документи кредитної справи",1980,0,0,"відсутня","ЗАТ \"Консалтингюрсервіс\" ","2016-01-01",16.07,600,600,600,0,"зг. Умов договору"]
["380236_32143995_16",16,"Дельта","380236","03.12","Миколаївська","Діюче",1,"11186006000","Кредитна лінія","Доллар США",0.3,"2007-07-19","2018-07-18","НІ","Наявні документи кредитної справи",2356,0,0,"відсутня","СОД ПП «Габ'яно»","2016-01-01",2070841,3778892.29,7026731.75,2257102.2200000002,4769629.53,"зг. умов кредитного договору"]
["380236_31043568_17",17,"Дельта","380236","51.21","Миколаївська","Ліквідовано",2,"02/149/07-КЛТ","Кредитна лінія","Гривня",0,"2007-08-28","2009-08-27","НІ","Наявні документи кредитної справи",1399,0,0,"відсутня","СОД ПП «Габ'яно»","2016-01-01",1601011,3290666.41,3290666.41,2750000,540666.41,"зг. умов кредитного договору"]
["380236_32663497_18",18,"Дельта","380236","46.42","Київ","В стані припинення (крім банкрутства)",1,"278/КВ-07","Кредит","Доллар США",0.16,"2007-08-31","2010-08-30","НІ","Наявні документи кредитної справи",2890,0,1003.79,"2012-02-29","СОД ПП «Габ'яно»","2016-01-01",221862,391106.29,708338.6,297522.3,410816.3,"зг. умов кредитного договору"]
["380236_01412845_19",19,"Дельта","380236","28.22","Дніпропетровська","Банкрутство",1,"11355256000","Кредит","Доллар США",0,"2008-06-03","2014-06-02","НІ","Наявні документи кредитної справи",2356,0,0,"відсутня","СОД ПП «Габ'яно»","2016-01-01",121393,1556407.25,1198317.28,702060.32,496256.96,"зг. умов кредитного договору"]
["380236_33554188_20",20,"Дельта","380236","46.43","Донецька","Діюче",1,"3.3ДС/226/2007-КЛТ","Кредитна лінія","Доллар США",0,"2008-07-25","2009-07-17","НІ","Наявні документи кредитної справи",1708,0,0,"відсутня","СОД ПП «Габ'яно»","2016-01-01",186890,2356070.6,2565671.61,2565671.61,0,"зг. умов кредитного договору"]
["380236_37385352_21",21,"Дельта","380236","70.22","Миколаївська","Діюче",1,"02/011/11-КЛТ","Кредитна лінія","Гривня",0,"2011-07-20","2014-07-19","НІ","Наявні документи кредитної справи",1708,0,0,"відсутня","СОД ПП «Габ'яно»","2016-01-01",344580,459670,465427.4,459670,5757.4,"зг. умов кредитного договору"]
["380236_25591321_22",22,"Дельта","380236","46.75","Київ","Банкрутство",1,"45/КВ-07","Кредитна лінія","Євро",0,"2007-02-15","2010-02-12","НІ","Наявні документи кредитної справи",2638,0,0,"відсутня","СОД ПП «Габ'яно»","2016-01-01",262417,1304833.1100000001,1322654.0899999999,776230.34,546423.75,"зг. умов кредитного договору"]
["380236_25591321_23",23,"Дельта","380236","46.75","Київ","Банкрутство",1,"378/КВ-06","Кредит","Євро",0,"2006-12-26","2009-12-25","НІ","Наявні документи кредитної справи",2638,0,0,"відсутня","СОД ПП «Габ'яно»","2016-01-01",1468906,3251689.69,3700576.3200000003,2562311.64,1138264.6800000002,"зг. умов кредитного договору"]
["380236_2703619911_24",24,"Дельта","380236","46.19","Хмельницька","Ліквідовано",1,"11384098000","Кредит","Гривня",0.44800000000000001,"2008-08-18","2012-08-17","НІ","Наявні документи кредитної справи",2356,0,0,"відсутня","СОД ПП «Габ'яно»","2016-01-01",72250,124945.57,253054.4,54962.49,198091.91,"зг. умов кредитного договору"]
["380236_2703619911_25",25,"Дельта","380236",null,"Хмельницька","Інше",1,"11197813000","Кредит","Доллар США",0.14399999999999999,"2007-08-14","2027-07-14","НІ","Наявні документи кредитної справи",2356,0,0,"погашень не було","ТОВ \"Бізнес Ассіст\"","2016-01-01",406847,815569.79,1374795.98,550088.64,824707.34,"зг. умов кредитного договору"]
["380236_20906719_26",26,"Дельта","380236","01.11","Миколаївська","Діюче",1,"02/107/08-КЛТ","Кредит","Гривня",0,"2008-09-22","2009-09-21","НІ","Наявні документи кредитної справи",1708,0,0,"відсутня","СОД ПП «Габ'яно»","2016-01-01",2143538,2143538,5223249.8499999996,4200000,1023249.85,"зг. умов кредитного договору"]
["380236_2763223178_27",27,"Дельта","380236","20.51","Полтавська","Ліквідовано",1,"11320937000","Кредит","Гривня",0.28999999999999998,"2008-04-16","2013-04-15","НІ","Наявні документи кредитної справи",2356,0,37588.67,"2012-02-09","ЗАТ «Консалтингюрсевіс»","2016-01-01",7105.8,7105.8,325188.47999999998,104204.16,220984.32000000001,"зг. умов кредитного договору"]
["380236_31792492_28",28,"Дельта","380236","15.11","Івано_Франківська","Банкрутство",1,"08/33/07-КЛТ ","Кредитна лінія","Гривня",0,"2007-12-26","2010-12-24","НІ","Наявні документи кредитної справи",1708,0,0,"відсутня","СОД ПП «Габ'яно»","2016-01-01",1659294,1659294,3410460.06,2500000,910460.06,"зг. умов кредитного договору"]
["380236_32475362_29",29,"Дельта","380236","42.22","Вінницька","Діюче",1,"11122813000","Кредит","Швейцарські франки",0.219,"2007-02-28","2011-02-25","НІ","Наявні документи кредитної справи",2356,278.68,278.68,"2018-04-25","СОД ПП «Габ'яно»","2016-01-01",1750121,1750121,4039647.8200000003,1452327.86,2587319.96,"зг. умов кредитного договору"]
["380236_32475362_30",30,"Дельта","380236","42.22","Вінницька","Діюче",1,"11145702000","Кредит","Швейцарські франки",0.219,"2007-04-24","2011-04-22","НІ","Наявні документи кредитної справи",2356,7.93,7.93,"2018-06-11","СОД ПП «Габ'яно»","2016-01-01",1441953,1441953,3294533.13,1188268.25,2106264.88,"зг. умов кредитного договору"]
["380236_31325209_31",31,"Дельта","380236","46.35","Одеська","Банкрутство",1,"22/33/08-КЛТ","Кредитна лінія","Гривня",0,"2008-07-04","2009-07-03","НІ","Наявні документи кредитної справи",1708,0,0,"відсутня","СОД ПП «Габ'яно»","2016-01-01",247624,247624,588729.73,550000,38729.730000000003,"зг. умов кредитного договору"]
["380236_31325209_32",32,"Дельта","380236","46.35","Одеська","Банкрутство",1,"22/63/08-КЛТ","Кредитна лінія","Гривня",0,"2008-10-16","2009-02-13","НІ","Наявні документи кредитної справи",1708,0,0,"відсутня","СОД ПП «Габ'яно»","2016-01-01",861403,861403,2201434.0900000003,2081794.86,119639.23,"зг. умов кредитного договору"]
["380236_31325209_33",33,"Дельта","380236","46.35","Одеська","Банкрутство",1,"22/82/07-КЛТ","Кредитна лінія","Гривня",0,"2007-12-11","2010-12-11","НІ","Наявні документи кредитної справи",1708,0,0,"відсутня","СОД ПП «Габ'яно»","2016-01-01",1314985,1314985,4763552.55,4394480.22,369072.33,"зг. умов кредитного договору"]
["380236_31740926_34",34,"Дельта","380236","10.51","Київська","Діюче",1,"11253511000","Кредит","Доллар США",0.29799999999999999,"2007-11-15","2018-11-15","НІ","Наявні документи кредитної справи",2356,0,0,"відсутня","ПП «Габ'яно»","2016-01-01",3391396,3391396,16847129.079999998,5301838.13,11545290.949999999,"зг. умов кредитного договору"]
["380236_33336280_35",35,"Дельта","380236","82.92","Чернігівська","Діюче",1,"11020848000","Кредит","Доллар США",0.26,"2006-07-20","2017-07-19","НІ","Наявні документи кредитної справи",2356,0,63060.58,"2015-11-16","ПП «Габ'яно»","2016-01-01",5735828,5735828,13348554.640000001,5452825.5300000003,7895729.1100000003,"зг. умов кредитного договору"]
["380236_2741902742_36",36,"Дельта","380236","46.36","Чернігівська","Ліквідовано",1,"11284520000","Кредит","Гривня",0.3,"2008-01-16","2019-01-15","НІ","Наявні документи кредитної справи",2356,0,0,"відсутня","ПП «Габ'яно»","2016-01-01",169902,169902,999156.49,367918.91,631237.57999999996,"зг. умов кредитного договору"]
["380236_13332413_37",37,"Дельта","380236","31.01","Вінницька","Діюче",1,"11072223000","Кредит","Швейцарські франки",0.16980000000000001,"2006-11-07","2017-11-06","НІ","Наявні документи кредитної справи",2356,0,0,"відсутня","ПП «Габ'яно» ","2016-01-01",1909619,1909619,16562109.74,7709299.2699999996,8852810.4700000007,"зг. умов кредитного договору"]
["380236_20211130_38",38,"Дельта","380236","10.52","Дніпропетровська","Діюче",1,"04/09/11-КЛТ","Кредитна лінія","Гривня",0.24,"2011-08-18","2014-08-15","НІ","Наявні документи кредитної справи",1800,0,57679.73,"2014-03-20","ПП «Габ'яно» ","2016-01-01",897115,897115,7370000,3650000,3720000,"зг. умов кредитного договору"]
["380236_20211130_39",39,"Дельта","380236","10.52","Дніпропетровська","Діюче",1,"04/14/11-КЛТ","Кредитна лінія","Гривня",0.24,"2011-11-16","2014-11-14","НІ","Наявні документи кредитної справи",1800,0,25622.9,"2014-03-13","ПП «Габ'яно» ","2016-01-01",1502994,1502994,11852930.42,5868222.0999999996,5984708.3200000003,"зг. умов кредитного договору"]
["380236_31716783_40",40,"Дельта","380236","10.51","Дніпропетровська","Банкрутство",1,"05/09/2008-КЛТ","Кредитна лінія","Гривня",0,"2008-04-14","2010-12-27","НІ","Наявні документи кредитної справи",1399,0,0,"відсутня","ПП «Габ'яно» ","2016-01-01",6636347,6636347,13640135.210000001,10859500,2780635.21,"зг. умов кредитного договору"]
["380236_20474467_41",41,"Дельта","380236","46.69","Запорізька","Діюче",1,"11351678000","Кредитна лінія","Доллар США",0.27800000000000002,"2008-05-27","2011-05-26","НІ","Наявні документи кредитної справи",2356,0,0,"відсутня","ПП «Габ'яно» ","2016-01-01",1128937,1128937,17297721.09,5118177.04,12179544.050000001,"зг. умов кредитного договору"]
["380236_32819389_42",42,"Дельта","380236","47.73","Миколаївська","Діюче",1,"11356273000","Кредит","Доллар США",0.27700000000000002,"2008-06-06","2011-06-03","НІ","Наявні документи кредитної справи",2356,0,0,"відсутня","ПП «Габ'яно» ","2016-01-01",721884,721884,13202276.399999999,3789447.53,9412828.8699999992,"зг. умов кредитного договору"]
["322294_05414930_1",1,"Експобанк","322294","43.99","Харківська","Ліквідовано",2,"МКЛ-06/04","кредитна лінія","Доллар США",0,38282,39931,"ні","так",3290,0,76588.100000000006,40541,"Товариство з обмеженою відповідальністю \"Експертна компанія \"ПРОФЕСІОНАЛ\"",42095,11771391,51322713.100000001,57207337.619999997,57106760.149999999,100577.47,0]
["322294_32828901_2",2,"Експобанк","322294","27.90","Київ","Діюче",1,"22/05","кредитна лінія","Гривня",0,38547,40373,"ні","так",3224,0,70000,42053,"Товариство з обмеженою відповідальністю \"Експертна компанія \"ПРОФЕСІОНАЛ\"",42095,1203258,13803304.449999999,13803304.449999999,11457000,2346304.4500000002,0]
["322294_2948914139_3",3,"Експобанк","322294","16.10","Закарпатська ","Діюче",1,"337/АК-2008","кредит","Гривня",0.14399999999999999,39491,44046,"ні","так",2808,0,3006.89,40464,"Товариство з обмеженою відповідальністю \"Експертна компанія \"ПРОФЕСІОНАЛ\"",42095,580948,2139014.09,2478402.46,1347938.35,1130464.1099999999,0]
["322294_2910419879_4",4,"Експобанк","322294","49.32","Київ","Діюче",1,"10/2007USD","кредит","Доллар США",0.12,39423,41978,"ні","так",3677,0,1060.4100000000001,39644,"Товариство з обмеженою відповідальністю \"Експертна компанія \"ПРОФЕСІОНАЛ\"",42095,446555,3589998.58,3998392.4299999997,2833376.86,1165015.5699999998,635585.66]
["322294_2769202575_5",5,"Експобанк","322294","49.32","Київ","Ліквідовано",1,"348/АК-2008","кредит","Доллар США",0.12,39499,42055,"ні","так",3508,0,1669.08,39631,"Товариство з обмеженою відповідальністю \"Експертна компанія \"ПРОФЕСІОНАЛ\"",42095,84772,1148558.28,1279243.95,863832.14,415411.81,160075.4]
["322294_3142613997_6",6,"Експобанк","322294","43.21","Київ","Діюче",1,"9/2008USD","кредит","Доллар США",0.12,39563,42118,"ні","так",3452,0,3995.34,39631,"Товариство з обмеженою відповідальністю \"Експертна компанія \"ПРОФЕСІОНАЛ\"",42095,89311,1376431.25,1533086.53,987613.98,545472.55000000005,29716.9]
["322294_3142613997_7",7,"Експобанк","322294","43.21","Київ","Діюче",1,"362/АК-2008","кредит","Доллар США",0.12,39520,42075,"ні","так",3656,0,75648.92,40843,"Товариство з обмеженою відповідальністю \"Експертна компанія \"ПРОФЕСІОНАЛ\"",42095,84199,445628.36,496824.11,426255.05,70569.06,96052.1]
["322294_3056001530_8",8,"Експобанк","322294","31.02","Хмельницька","Діюче",1,"237/АК-2007","кредит","Доллар США",0.12,39421,41977,"ні","так",3449,0,708.43,39631,"Товариство з обмеженою відповідальністю \"Експертна компанія \"ПРОФЕСІОНАЛ\"",42095,84772,626814.78,698114.6399999999,473597.47,224517.16999999998,0]
["322294_2520354658_9",9,"Експобанк","322294","31.02","Хмельницька","Діюче",1,"2/2008USD","кредит","Доллар США",0.12,39503,42059,"ні","так",3719,0,4148.91,39906,"Товариство з обмеженою відповідальністю \"Експертна компанія \"ПРОФЕСІОНАЛ\"",42095,162286,563917.5,3263882.02,2253870.79,1010011.23,563917.5]
["322294_2851805590_10",10,"Експобанк","322294","46.19","Київ","Діюче",1,"4/2008USD","кредит","Доллар США",0.12,39524,42079,"ні","так",3657,0,102234.04,43046,"Товариство з обмеженою відповідальністю \"Експертна компанія \"ПРОФЕСІОНАЛ\"",42095,93471,1252554.06,1295174.52,974892.89,320281.63,3998.25]
["322294_1972604829_11",11,"Експобанк","322294","47.59","Київ","Ліквідовано",1,"6/2008USD","кредит","Доллар США",0.12,39527,42082,"ні","так",3692,0,500,40267,"Товариство з обмеженою відповідальністю \"Експертна компанія \"ПРОФЕСІОНАЛ\"",42095,84772,2167888.36,2415346.34,1720275.16,695071.18,31073.8]
["322294_2754323735_12",12,"Експобанк","322294","46.19","Сумська","Ліквідовано",1,"73/08","кредит","Доллар США",0.14499999999999999,39703,40459,"ні","так",2921,0,810179,42391,"Товариство з обмеженою відповідальністю \"Експертна компанія \"ПРОФЕСІОНАЛ\"",42095,8592017,25091642.77,27110774.190000001,26135817,974957.19,1327932.1499999999]
["322294_2959710515_13",13,"Експобанк","322294","56.10","Київська","Діюче",1,"144/AK-2007","кредит","Доллар США",0.12,39385,41941,"ні","так",3559,0,59114.49,39994,"Товариство з обмеженою відповідальністю \"Експертна компанія \"ПРОФЕСІОНАЛ\"",42095,124532,1192413.33,1327874.5,951009.98,376864.51999999996,11896.14]
["322294_3017921419_14",14,"Експобанк","322294","45.20","Київ","Ліквідовано",1,"360/АК-2008","кредит","Доллар США",0.12,39519,42074,"ні","так",3547,0,3828.79,39678,"Товариство з обмеженою відповідальністю \"Експертна компанія \"ПРОФЕСІОНАЛ\"",42095,311310,2713487.32,3022295,2036952.4,985342.6,961574.25]
["322294_3165522553_15",15,"Експобанк","322294","49.32","Київ","Діюче",1,"36/2008USD","кредит","Доллар США",0.12,39491,42047,"ні","так",3669,0,756.14,39590,"Товариство з обмеженою відповідальністю \"Експертна компанія \"ПРОФЕСІОНАЛ\"",42095,89311,1644758.8699999999,1832013.0300000003,1286121.3400000001,545891.69000000006,24632.32]
["322294_3165522553_16",16,"Експобанк","322294","49.32","Київ","Діюче",1,"1/2008USD","кредит","Доллар США",0.12,39497,42053,"ні","так",3724,0,5403.15,39527,"Товариство з обмеженою відповідальністю \"Експертна компанія \"ПРОФЕСІОНАЛ\"",42095,89311,2501353.81,2785808.93,1941041.53,844767.4,37720.94]
["322294_2652902233_17",17,"Експобанк","322294","49.32","Київська","Діюче",1,"8/2008USD","кредит","Доллар США",0.12,39562,42117,"ні","так",3655,0,1011.02,39626,"Товариство з обмеженою відповідальністю \"Експертна компанія \"ПРОФЕСІОНАЛ\"",42095,80055,867800.0399999998,966567.09999999986,622967.05999999994,343600.04,13588.55]
["322294_2749703563_18",18,"Експобанк","322294","47.89","Київська","Діюче",1,"309/AK-2008","кредит","Доллар США",0.12,39457,42013,"ні","так",3501,0,744.39,40072,"Товариство з обмеженою відповідальністю \"Експертна компанія \"ПРОФЕСІОНАЛ\"",42095,105647,1177572.47,1311573.1500000001,889774.81,421798.34,45873.09]
["322294_2630510319_19",19,"Експобанк","322294","41.20","Київська","Діюче",1,"3/2008USD","кредит","Доллар США",0.12,39512,42067,"ні","так",3706,0,5204.08,39644,"Товариство з обмеженою відповідальністю \"Експертна компанія \"ПРОФЕСІОНАЛ\"",42095,320218,3520211.1799999997,3920659.72,2763703.22,1156956.5,53723.32]
["322294_34443505_20",20,"Експобанк","322294","28.22","Миколаївська","Діюче",1,"17/10-ОВ","кредит у формі овердрафту","Гривня",0,40350,40893,"ні","так",2356,0,273703.87,40828,"Товариство з обмеженою відповідальністю \"Експертна компанія \"ПРОФЕСІОНАЛ\"",42095,363423,16519227.57,16519227.57,14375823.34,2143404.23,5337470.12]
["322294_32957211_21",21,"Експобанк","322294","46.19","м. Київ","Діюче",1,26,"кредитна лінія","Гривня",0,39220,41409,"ні","так (оригінал договору іпотеки нежилих приміщень в суді) ",1842,0,451444,42969,"Товариство з обмеженою відповідальністю \"Експертна компанія \"ПРОФЕСІОНАЛ\"",42095,1708416,6996587.4699999997,6545143.4699999997,6200000,345143.47,1632217.59]
["322294_32385871_22",22,"Експобанк","322294","45.31","м. Київ","Діюче",1,54,"кредитна лінія","Гривня",0,39500,41325,"ні","так",1926,0,762.2,41282,"Товариство з обмеженою відповідальністю \"Експертна компанія \"ПРОФЕСІОНАЛ\"",42095,8489638,21929048.059999999,21929048.059999999,20100000,1829048.06,4638143.8600000003]
["322294_2373910472_23",23,"Експобанк","322294",null,"м. Київ","Діюче",1,"33","кредитна лінія","Гривня",0,39295,41623,"ні","так",3135,0,20800000,41697,"Товариство з обмеженою відповідальністю \"Експертна компанія \"ПРОФЕСІОНАЛ\"",42095,2453651,6036902.3200000003,6036902.3200000003,6036902.3200000003,0,0]
["380708__1",1,"Авант-Банк","380708","47.30","Київська","Ліквідовано",2,"К-Ю/12/009",null,"Гривня",null,null,null,null,null,null,null,null,null,"ТОВ «Експертна компанія «ПРОФЕСІОНАЛ»",43282,219641,5743000,5743000,5743000]
["320702_33578062_1",1,"Національний кредит","320702","46.9","Закарпатська","Ліквідовано",1,"53/3-08","кредит","Гривня",0.2,39540,39904,"ні","Наявні документи кредитної справи",3017,0,3000,40267,"ТОВ \"БК-ЕКСПЕРТ\"",42339,16734.16,334689.28000000003,407599.31000000006,145900,261699.31000000003,435359.06]
["320702_34718537_2",2,"Національний кредит","320702","46.9","Запорізька","Ліквідовано",2,"62-07","кредитна лінія","Гривня",0.37,39386,39742,"ні","Відсутні документи кредитної справи",3045,0,222881.15,42103,"ТОВ \"БК-ЕКСПЕРТ\"",42339,23095.03,465100.63,492121.81,27118.85,465002.96,997090.9]
["320702_34344109_3",3,"Національний кредит","320702","46.73","Одеська","Ліквідовано",2,"16ю/2008/02-382/2-1","кредитна лінія","Гривня",1E-4,39601,39965,"НІ","Наявний кредитний договір",3298,0,389998.28,41165,"ТОВ \"БК-ЕКСПЕРТ\"",42339,30513.43,610268.6,610421.02999999991,610069.21,351.82,1101025.57]
["320702_37911098_4",4,"Національний кредит","320702","41.20","Київська","В стані припинення (крім банкрутства)",1,"ID5201196","овердрафт","Гривня",0.4,41830,42014,"НІ","Відсутні документи кредитної справи",1389,0,0,null,"ТОВ \"БК-ЕКСПЕРТ\"",42339,2887.63,288762.88,481286.22000000009,189782.01,291504.21000000008,424358.33]
["_32166813_1",1,"ПАТ \"ВБР\"",380719,"4522","Донецька","Діюче","ІІ","MSBKOB4.2686.010","Овердрафт","Гривня","24","29.01.2014",42032,"ні","Наявні документи кредитної справи",1269,0,0,"не було","ПП “Центр незалежної оцінки та експертизи”",42461,780.62,86391.65,137124.99,50000,87124.99,1963.87,0,null,"НІ","НІ","НІ"]
["_32166813_2",2,"ПАТ \"ВБР\"",380719,"4522","Донецька","Діюче","ІІ","KCCGMCG.2686.007","карткові","Гривня","20","25.10.2011",41938,"ні","Відсутні документи кредитної справи",1323,0,0,"не було","ПП “Центр незалежної оцінки та експертизи”",42461,148.66,16404.7,24854.36,9993.02,14861.34,1762,0,null,"НІ","НІ","НІ"]
["_37095386_3",3,"ПАТ \"ВБР\"",380719,"2030","Київська","Діюче","ІІ","MSBKOB3.9737.001","Овердрафт","Гривня","21","15.08.2011",41997,"ні","Наявні документи кредитної справи",2255,0,0,"не було","ПП “Центр незалежної оцінки та експертизи”",42461,5284.38,571284.55000000005,571293.81000000006,438159.69,133134.12,420584.99,0,null,"НІ","НІ","НІ"]
["_37331878_4",4,"ПАТ \"ВБР\"",380719,"4120","Київська","Діюче","ІІ","MSBKOB3.199144.002","Овердрафт","Гривня","16","03.12.2013",41975,"ні","Наявні документи кредитної справи",1522,0,143.1,"16.05.2018","ПП “Центр незалежної оцінки та експертизи”",42461,3319.08,364647.88,511633.35,218555.6,293077.75,301376.90999999997,0,null,"НІ","НІ","НІ"]
["_32727466_5",5,"ПАТ \"ВБР\"",380719,"5229","Київська","Діюче","ІІ","MKLNU4.517.009","Кредитна лінія","Гривня","18","05.10.2011",42281,"ні","Відсутні документи кредитної справи",1028,0,786999.44,"20.02.2017","ПП “Центр незалежної оцінки та експертизи”",42461,312387.8,959645.86,364583.45,0,364583.45,0,3000000,null,"НІ","НІ","НІ"]
["_32727466_6",6,"ПАТ \"ВБР\"",380719,"5229","Київська","Діюче","ІІ","MKLNU4.517.018","Кредитна лінія","Гривня","19","19.03.2012",42081,"ні","Відсутні документи кредитної справи",1028,0,44596.37,"20.02.2017","ПП “Центр незалежної оцінки та експертизи”",42461,17566.990000000002,53942.8,20842.7,0,20842.7,0,623800,null,"НІ","НІ","НІ"]
["_36935542_7",7,"ПАТ \"ВБР\"",380719,"5153","Донецька","Діюче","ІІ","MSBKOB1.5819.011","Овердрафт","Гривня","23","08.10.2013",41919,"ні","Відсутні документи кредитної справи",1331,0,0,"не було","ПП “Центр незалежної оцінки та експертизи”",42461,715.31,79073.3,123274.26000000001,45456.05,77818.210000000006,0,0,null,"НІ","НІ","НІ"]
["380537_2915201630_1",1,"ВіЕйБі","380537",null,"Одеська",null,1,"154/05ф","автокредит","Доллар США",0.13500000000000001,"22.12.2005","21.12.2008","НІ",null,3773,0,0,"20.12.2012","ПП \"Бюро Маркуса\"",42248,2511,627661.06000000006,1650411.5,679531.24,970880.26,437873.75100709987]
["380537_2394816673_2",2,"ВіЕйБі","380537",null,"Одеська",null,1,"59/05ф","автокредит","Доллар США",0.155,"29.04.2005","28.04.2008","НІ",null,3742,0,1327.44,"30.01.2008","ПП \"Бюро Маркуса\"",42248,1989,497151.33,1400624.44,531871.18999999994,868753.25,417061.92747278675]
["380537_2563511597_3",3,"ВіЕйБі","380537",null,"Одеська",null,1,"96/05ф","автокредит","Доллар США",0.155,"20.07.2005","19.07.2010","НІ",null,3742,0,1105.04,"30.01.2008","ПП \"Бюро Маркуса\"",42248,1656,413954.19,1166076.6499999999,442760.6,723316.05,364452.77]
["380537_2235418578_4",4,"ВіЕйБі","380537",null,"Одеська",null,1,"94/05ф","автокредит","Доллар США",0.15,"20.07.2005","19.07.2010","НІ",null,3643,0,2578.12,"05.05.2008","ПП \"Бюро Маркуса\"",42248,1242,310556.53000000003,886828.77,351623.96,535204.81000000006,193670.7]
["380537_1907501987_5",5,"ВіЕйБі","380537",null,"Одеська",null,1,"127/04ф","автокредит","Доллар США",0.155,"29.09.2004","28.09.2007","НІ",null,3742,0,668.77,"30.01.2008","ПП \"Бюро Маркуса\"",42248,1002,250513.82,705692.67999999993,267957.73,437734.95,220561.42]
["380537_2799416397_6",6,"ВіЕйБі","380537",null,"Одеська",null,1,"97/04ф","автокредит","Доллар США",0.155,"23.07.2004","22.07.2007","НІ",null,3742,0,802.54,"30.01.2008","ПП \"Бюро Маркуса\"",42248,1203,300808.26,847095.28,321570.39,525524.89,250817.63981956619]
["380537_2528218818_7",7,"ВіЕйБі","380537",null,"Одеська",null,1,"60/05ф","автокредит","Доллар США",0.155,"29.04.2005","28.04.2008","НІ",null,3742,0,10.18,"04.04.2011","ПП \"Бюро Маркуса\"",42248,1856,463996.11,1307108.6600000001,496327.53,810781.13,397427.864532309]
["380537_2815604274_8",8,"ВіЕйБі","380537",null,"Одеська",null,1,"01/05ф","автокредит","Доллар США",0.16,"20.01.2005","19.01.2008","НІ",null,3643,0,2310,"17.04.2009","ПП \"Бюро Маркуса\"",42248,1060,265009.31,395717.95999999996,154150.88,241567.08,123950.99]
["380537_2127002193_9",9,"ВіЕйБі","380537",null,"Одеська",null,1,"150/05ф","автокредит","Доллар США",0.13500000000000001,"09.12.2005","08.12.2010","НІ",null,2983,0,92946.31,"18.04.2018","ПП \"Бюро Маркуса\"",42248,3818,381823.09,476549.77,195207.63,281342.14,147752.63]
["380537_3003800778_10",10,"ВіЕйБі","380537",null,"Одеська",null,1,"140/05ф","автокредит","Доллар США",0,"07.11.2005","06.11.2010","НІ",null,3796,0,null,"20.12.2012","ПП \"Бюро Маркуса\"",42248,2452,612970.43999999994,756202.49,657996.9,98205.59,0]
["380537_2458406816_11",11,"ВіЕйБі","380537",null,"Одеська",null,1,"90/05ф","автокредит","Доллар США",0.155,"13.07.2005","12.07.2008","НІ",null,3742,0,1246.79,"30.01.2008","ПП \"Бюро Маркуса\"",42248,1868,466973.09,1315566.73,499567.06,815999.67,391142.12205649843]
["380537_2350220452_12",12,"ВіЕйБі","380537",null,"Одеська",null,1,"178/07ф","автокредит","Доллар США",0.17,"18.06.2007","17.06.2012","НІ",null,3530,0,46.64,"04.04.2011","ПП \"Бюро Маркуса\"",42248,2439,609835.21,1960279.32,750581.2,1209698.1200000001,651359.11946477857]
["380537_2588608926_13",13,"ВіЕйБі","380537",null,"Одеська",null,1,"45/06ф","автокредит","Доллар США",0.13500000000000001,"18.04.2006","17.04.2009","НІ",null,3742,0,786.38,"30.01.2008","ПП \"Бюро Маркуса\"",42248,1513,378182.79,845578.10000000009,350100.51,495477.59,224302.0694058162]
["380537_2853420118_14",14,"ВіЕйБі","380537",null,"Одеська",null,1,"91/05ф","автокредит","Доллар США",0.15,"13.07.2005","12.07.2010","НІ",null,3742,0,7213.32,"05.11.2009","ПП \"Бюро Маркуса\"",42248,1842,460580.39,1287648.98,502234.75,785414.23,378952.73479251325]
["380537_3048914979_15",15,"ВіЕйБі","380537",null,"Одеська",null,1,"29/06ф","автокредит","Доллар США",0.13500000000000001,"17.03.2006","16.03.2009","НІ",null,3363,0,30445.99,"03.06.2009","ПП \"Бюро Маркуса\"",42248,1999,499852.47,1413033.21,616652.39,796380.82,384639.35]
["380537_1939121633_16",16,"ВіЕйБі","380537",null,"Одеська",null,1,"26/06ф","автокредит","Доллар США",0.13500000000000001,"14.03.2006","13.03.2011","НІ",null,3530,2556.58,853.97,"02.05.2018","ПП \"Бюро Маркуса\"",42248,1902,475532.65,1276039.45,547719.68999999994,728319.76,349683.09]
["380537_3022714454_17",17,"ВіЕйБі","380537",null,"Одеська",null,1,"24/05ф","автокредит","Доллар США",0.155,"24.02.2005","23.02.2008","НІ",null,3742,0,1071.5,"30.01.2008","ПП \"Бюро Маркуса\"",42248,1606,401494.83,1130839.5699999998,429334.37,701505.2,335758.84390363476]
["380537_2425113539_18",18,"ВіЕйБі","380537",null,"Одеська",null,1,"47/05ф","автокредит","Гривня",0.2,"06.04.2005","05.04.2008","НІ",null,3713,0,1500,"30.05.2008","ПП \"Бюро Маркуса\"",42248,476,119085.02,313518.3,103271.5,210246.8,119691.75164444445]
["380537_2822705432_19",19,"ВіЕйБі","380537",null,"Одеська",null,1,"07/05ф","автокредит","Доллар США",0.155,"28.01.2005","27.01.2008","НІ",null,3796,0,15370.27,"08.11.2007","ПП \"Бюро Маркуса\"",42248,1748,436882.35,1215753,457215.54,758537.46,380099.38]
["380537_2822412335_20",20,"ВіЕйБі","380537",null,"Одеська",null,1,"158/05ф","автокредит","Доллар США",0.13500000000000001,"29.12.2005","28.12.2008","НІ",null,3643,0,11983.8,"02.12.2009","ПП \"Бюро Маркуса\"",42248,1867,466739,1270261.8700000001,538658.67000000004,731603.2,343877.74]
["380537_2998808594_21",21,"ВіЕйБі","380537",null,"Одеська",null,1,"52/05ф","автокредит","Доллар США",0.155,"12.04.2005","11.04.2008","НІ",null,3742,0,1052.82,"30.01.2008","ПП \"Бюро Маркуса\"",42248,1578,394381.81,1110969.29,421842.8,689126.49,347228.92]
["380537_2529107595_22",22,"ВіЕйБі","380537",null,"Одеська",null,1,"141/05ф","автокредит","Доллар США",0.13500000000000001,"18.11.2005","17.11.2008","НІ",null,3650,0,11983.8,"02.12.2009","ПП \"Бюро Маркуса\"",42248,1683,420871.24,1158601.03,495931.57,662669.46,315581.3]
["380537_2894322736_23",23,"ВіЕйБі","380537",null,"Одеська",null,1,"155/05ф","автокредит","Доллар США",0.13500000000000001,"22.12.2005","21.12.2008","НІ",null,3669,0,28489.99,"30.07.2009","ПП \"Бюро Маркуса\"",42248,1685,421128.43,1189559.95,519533,670026.94999999995,312204.4853250584]
["380537_2573421455_24",24,"ВіЕйБі","380537",null,"Одеська",null,1,"132/04ф","автокредит","Доллар США",0.155,"06.10.2004","05.10.2007","НІ",null,3642,0,7467.81,"31.05.2011","ПП \"Бюро Маркуса\"",42248,1279,319730.88,934150.8,359251.96,574898.84,291840.59000000003]
["380537_2456615918_25",25,"ВіЕйБі","380537",null,"Одеська",null,1,"34/05ф","автокредит","Доллар США",0.15,"18.03.2005","17.03.2010","НІ",null,3742,0,2525,"21.01.2008","ПП \"Бюро Маркуса\"",42248,756,188983.45,526175.93999999994,204559.03,321616.90999999997,159197.56]
["380537_2930706717_26",26,"ВіЕйБі","380537",null,"Одеська",null,1,"152/04ф","автокредит","Гривня",0.23,"17.11.2004","16.11.2007","НІ",null,3742,0,1466.39,"30.01.2008","ПП \"Бюро Маркуса\"",42248,386,96622.1,266992.5,78687.64,188304.86,119905.62316944444]
["380537_2900521050_27",27,"ВіЕйБі","380537",null,"Одеська",null,1,"158/04ф","автокредит","Гривня",0.23,"30.11.2004","29.11.2007","НІ",null,3742,0,1526.26,"30.01.2008","ПП \"Бюро Маркуса\"",42248,402,100581.81,277909.27,81900.77,196008.5,126549.3]
["380537_2856608017_28",28,"ВіЕйБі","380537",null,"Одеська",null,1,"161/06ф","автокредит","Доллар США",0.13,"23.08.2006","22.08.2011","НІ",null,3742,0,1746.34,"07.02.2008","ПП \"Бюро Маркуса\"",42248,2843,710686.17,1847770.64,782134.71,1065635.93,485411.1]
["380537_2905719371_29",29,"ВіЕйБі","380537",null,"Одеська",null,1,"01/07ф","автокредит","Доллар США",0.13500000000000001,"11.01.2007","10.01.2012","НІ",null,3530,0,4621.1099999999997,"10.09.2009","ПП \"Бюро Маркуса\"",42248,2229,557254.21,1560488.0899999999,687467.12,873020.97,424643.71]
["380537_2530201235_30",30,"ВіЕйБі","380537",null,"Одеська",null,1,"71/05ф","автокредит","Доллар США",0.155,"27.05.2005","26.05.2008","НІ",null,3742,0,8.19,"04.04.2011","ПП \"Бюро Маркуса\"",42248,1807,451723.81,1272611.48,483253.35,789358.13,399267.78466739872]
["380537_2793608293_31",31,"ВіЕйБі","380537",null,"Одеська",null,1,"79/04ф","автокредит","Доллар США",0.155,"30.06.2004","29.06.2007","НІ",null,3742,0,623.37,"30.01.2008","ПП \"Бюро Маркуса\"",42248,1113,278155.73,658022.26,249767.2,408255.06,205664.69]
["380537_2884304316_32",32,"ВіЕйБі","380537",null,"Одеська",null,1,"94/07ф","автокредит","Доллар США",0.17499999999999999,"05.04.2007","04.04.2012","НІ",null,3497,0,2632.86,"13.11.2009","ПП \"Бюро Маркуса\"",42248,5959,1489753.44,2268526.98,882413.14,1386113.84,774623.60930592509]
["380537_3037012119_33",33,"ВіЕйБі","380537",null,"Одеська",null,1,"102/06ф","автокредит","Доллар США",0.13,"27.06.2006","26.06.2011","НІ",null,3643,0,4275.97,"27.11.2008","ПП \"Бюро Маркуса\"",42248,2441,610291.32999999996,1667044.87,736333,930711.87,425458.34996771725]
["380537_2852216052_34",34,"ВіЕйБі","380537",null,"Одеська",null,1,"121/05ф","автокредит","Доллар США",0.13500000000000001,"29.09.2005","28.09.2010","НІ",null,3796,0,0,"20.12.2012","ПП \"Бюро Маркуса\"",42248,2545,636198.37,1665320.42,682931.51,982388.91,441885.46725742175]
["380537_2036615437_35",35,"ВіЕйБі","380537",null,"Одеська",null,1,"220/06ф","автокредит","Доллар США",0.13,"05.10.2006","04.10.2011","НІ",null,3643,0,2880.19,"30.10.2008","ПП \"Бюро Маркуса\"",42248,2813,703267.66,1601382.79,703856.89,897525.9,420185.12]
["380537_2756316557_36",36,"ВіЕйБі","380537",null,"Одеська",null,1,"143/05ф","автокредит","Доллар США",0.13500000000000001,"23.11.2005","22.11.2010","НІ",null,3643,0,361.88,"09.08.2011","ПП \"Бюро Маркуса\"",42248,1949,487203.49,1354204.35,581794,772410.35,368815.8]
["380537_2998700891_37",37,"ВіЕйБі","380537",null,"Одеська",null,1,"32/05ф","автокредит","Доллар США",0.155,"15.03.2005","14.03.2008","НІ",null,3742,0,1091,"30.01.2008","ПП \"Бюро Маркуса\"",42248,1635,408709.95,1151286.3900000001,437145.58,714140.81,359830.24]
["380537_1986119158_38",38,"ВіЕйБі","380537",null,"Одеська",null,1,"08/05ф","автокредит","Доллар США",0.155,"28.01.2005","27.01.2008","НІ",null,3643,0,7970,"22.12.2009","ПП \"Бюро Маркуса\"",42248,1517,379182.75,1101516.75,428120.63,673396.12,344004.98]
["380537_2619016397_39",39,"ВіЕйБі","380537",null,"Одеська",null,1,"73/05ф","автокредит","Доллар США",0.155,"31.05.2005","30.05.2008","НІ",null,3742,0,1187.7,"30.01.2008","ПП \"Бюро Маркуса\"",42248,2146,536553.07999999996,1253464.1000000001,475884.61,777579.49,391766.76]
["380537_2616107612_40",40,"ВіЕйБі","380537",null,"Одеська",null,1,"105/06ф","автокредит","Доллар США",0.13,"30.06.2006","29.06.2009","НІ",null,3257,0,136893.20000000001,"22.11.2017","ПП \"Бюро Маркуса\"",42248,3245,811182.06,1526969.69,734143.08,792826.61,388574.36890177219]
["380537_2589809317_41",41,"ВіЕйБі","380537",null,"Одеська",null,1,"21/05ф","автокредит","Доллар США",0.155,"18.02.2005","17.02.2008","НІ",null,3742,0,1078.27,"30.01.2008","ПП \"Бюро Маркуса\"",42248,1616,403915.27,1137811.29,432030.28,705781.01,355618.38]
["380537_2803612256_42",42,"ВіЕйБі","380537",null,"Одеська",null,1,"122/06ф","автокредит","Доллар США",0.13,"18.07.2006","17.07.2009","НІ",null,3742,0,0,"20.12.2012","ПП \"Бюро Маркуса\"",42248,2625,656147.64,1705674.91,721881.46,983793.45,448084.64]
["380537_2579614476_43",43,"ВіЕйБі","380537",null,"Одеська",null,1,"132/06ф","автокредит","Доллар США",0.13,"27.07.2006","26.07.2011","НІ",null,3559,0,3876.07,"31.07.2008","ПП \"Бюро Маркуса\"",42248,2505,626374.25,1661103.92,723123.43,937980.49,435989.16]
["380537_2761203591_44",44,"ВіЕйБі","380537",null,"Одеська",null,1,"137/04ф","автокредит","Гривня",0.19500000000000001,"19.10.2004","18.10.2007","НІ",null,3643,0,500,"05.05.2009","ПП \"Бюро Маркуса\"",42248,287,71797.27,202505.55,71797.27,130708.28,77046.122291666674]
["380537_2175901859_45",45,"ВіЕйБі","380537",null,"Одеська",null,1,"145/04ф","автокредит","Гривня",0.19500000000000001,"28.10.2004","27.10.2009","НІ",null,3742,0,0.54,"04.04.2011","ПП \"Бюро Маркуса\"",42248,348,86893.08,222181.94,73700.100000000006,148481.84,85925.73]
["380537_2552800900_46",46,"ВіЕйБі","380537",null,"Одеська",null,1,"153/04ф","автокредит","Гривня",0.23,"17.11.2004","16.11.2007","НІ",null,3742,0,1457.48,"30.01.2008","ПП \"Бюро Маркуса\"",42248,384,96105.96,265441.12,78209.490000000005,187231.63,120872.77]
["380537_2480818478_47",47,"ВіЕйБі","380537",null,"Одеська",null,1,"156/04ф","автокредит","Гривня",0.23,"19.11.2004","18.11.2007","НІ",null,3742,0,1394.86,"30.01.2008","ПП \"Бюро Маркуса\"",42248,368,91958.24,254018.05,74849.289999999994,179168.76,114079.68123277777]
["380537_2062818894_48",48,"ВіЕйБі","380537",null,"Одеська",null,1,"78/04ф","автокредит","Доллар США",0.15,"30.06.2004","29.06.2009","НІ",null,3643,0,7681.5,"05.08.2009","ПП \"Бюро Маркуса\"",42248,1161,290166.39,840635.3,336933.54,503701.76000000001,247168.21537503862]
["380537_2197325139_49",49,"ВіЕйБі","380537",null,"Одеська",null,1,"284/06ф","автокредит","Доллар США",0.13,"11.12.2006","10.12.2011","НІ",null,3591,0,194.25,"08.10.2014","ПП \"Бюро Маркуса\"",42248,2273,568178.91,1588476.15,700944.58,887531.57,405419.11086869653]
["380537_2879809138_50",50,"ВіЕйБі","380537",null,"Одеська",null,1,"75/06ф","автокредит","Доллар США",0.17499999999999999,"26.05.2006","25.05.2011","НІ",null,3068,0,0,"25.12.2012","ПП \"Бюро Маркуса\"",42248,8345,834517.61,1674805.1099999999,668742.12,1006062.99,571293.15696288599]
["380537_2531407715_51",51,"ВіЕйБі","380537",null,"Одеська",null,1,"87/04ф","автокредит","Доллар США",0.15,"09.07.2004","08.07.2009","НІ",null,3647,0,485,"03.09.2008","ПП \"Бюро Маркуса\"",42248,1010,252387.03,732429.87999999989,293942.21999999997,438487.66,215343.64965760612]
["380537_2455516353_52",52,"ВіЕйБі","380537",null,"Одеська",null,1,"49/05ф","автокредит","Доллар США",0.155,"11.04.2005","10.04.2008","НІ",null,3742,0,1177.71,"30.01.2008","ПП \"Бюро Маркуса\"",42248,1764,441112.88,1242682.8199999998,471883.48,770799.34,369288.3767463424]
["380537_2740707550_53",53,"ВіЕйБі","380537",null,"Одеська",null,1,"200/06ф","автокредит","Доллар США",0.13,"19.09.2006","18.09.2011","НІ",null,3773,0,2524.94,"27.12.2007","ПП \"Бюро Маркуса\"",42248,1662,415386.33,1074207.42,452482.6,621724.81999999995,274573.94773619657]
["380537_2735604494_54",54,"ВіЕйБі","380537",null,"Одеська",null,1,"75/05ф","автокредит","Доллар США",0.155,"08.06.2005","07.06.2008","НІ",null,3742,0,1217.95,"30.01.2008","ПП \"Бюро Маркуса\"",42248,1825,456263.86,1285235.8500000001,487998.3,797237.55,401695.67]
["380537_2765403533_55",55,"ВіЕйБі","380537",null,"Одеська",null,1,"58/06ф","автокредит","Доллар США",0,"06.05.2006","05.05.2011","НІ",null,2859,0,0,"20.12.2012","ПП \"Бюро Маркуса\"",42248,2548,636984.99,1784314.3,771690.05,1012624.25,466884.02]
["380537_2338818454_56",56,"ВіЕйБі","380537",null,"Одеська",null,1,"110/05ф","автокредит","Доллар США",0.13500000000000001,"02.09.2005","01.09.2010","НІ",null,3497,0,2391.1799999999998,"31.05.2011","ПП \"Бюро Маркуса\"",42248,1722,430569.09,1232955.07,531179.64,701775.43,335763.29]
["380537_2067608693_57",57,"ВіЕйБі","380537",null,"Одеська",null,1,"151/05ф","автокредит","Доллар США",0.13500000000000001,"09.12.2005","08.12.2008","НІ",null,3461,0,39542.89,"08.12.2011","ПП \"Бюро Маркуса\"",42248,806,201509.98,614344.32000000007,248596.57,365747.75,163082.04993826727]
["380537_2513101139_58",58,"ВіЕйБі","380537",null,"Одеська",null,1,"80/06ф","автокредит","Доллар США",0.13,"05.06.2006","04.06.2011","НІ",null,3796,0,969.94,"24.06.2008","ПП \"Бюро Маркуса\"",42248,1804,451014.53,1160520.43,486597.42,673923.01,296678.62733051938]
["380537_2790900695_59",59,"ВіЕйБі","380537",null,"Одеська",null,1,"58/05ф","автокредит","Доллар США",0.155,"29.04.2005","28.04.2008","НІ",null,3742,0,1219.17,"30.01.2008","ПП \"Бюро Маркуса\"",42248,1827,456692.86,1286505.8,488493.58,798012.22,402092.05]
["380537_1708808730_60",60,"ВіЕйБі","380537",null,"Одеська","Інше",1,"06/05ф","автокредит","Доллар США",0.155,"28.01.2005","27.01.2008","НІ",null,3643,0,50100.9,"01.09.2017","ПП \"Бюро Маркуса\"",42248,722,180564.57,519180.42000000004,168366.15,350814.27,162957.81]
["380537_2965418334_61",61,"ВіЕйБі","380537",null,"Одеська",null,1,"55/05ф","автокредит","Гривня",0.2,"15.04.2005","14.04.2008","НІ",null,3796,0,20419.04,"08.11.2007","ПП \"Бюро Маркуса\"",42248,530,132389.60999999999,337202.93,108784.8,228418.13,133764.32999999999]
["380537_2934217663_62",62,"ВіЕйБі","380537",null,"Одеська",null,1,"280/06ф","автокредит","Доллар США",0.13,"11.12.2006","10.12.2011","НІ",null,3865,0,2019.99,"05.12.2007","ПП \"Бюро Маркуса\"",42248,3116,779039.3,2004644.0899999999,840569.69,1164074.3999999999,22158.35]
["380537_2804421218_63",63,"ВіЕйБі","380537",null,"Одеська",null,1,"83/05ф","автокредит","Доллар США",0.155,"17.06.2005","16.06.2008","НІ",null,3742,0,1303.4000000000001,"30.01.2008","ПП \"Бюро Маркуса\"",42248,1953,488196.24,1375320.27,522245.63,853074.64,429742.83]
["380537_2499015250_64",64,"ВіЕйБі","380537",null,"Одеська",null,1,"54/06ф","автокредит","Доллар США",0.13500000000000001,"26.04.2006","25.04.2011","НІ",null,3796,0,1033.43,"30.11.2007","ПП \"Бюро Маркуса\"",42248,1787,446758.36,1169442.44,479575.52,689866.92,310306.4228416346]
["380537_2812535119_65",65,"ВіЕйБі","380537",null,"Одеська",null,1,"145/06Ф","автокредит","Доллар США",0.13,"14.08.2006","13.08.2011","НІ",null,3742,0,1619.53,"30.01.2008","ПП \"Бюро Маркуса\"",42248,2722,680569.15,1769166.91,748748.82,1020418.09,452142.70828273374]
["380537_2391813296_66",66,"ВіЕйБі","380537",null,"Одеська",null,1,"116/04ф","автокредит","Доллар США",0.15,"27.08.2004","26.08.2009","НІ",null,3643,0,5543.99,"06.02.2009","ПП \"Бюро Маркуса\"",42248,979,244719.81,730634.09000000008,301903.19,428730.9,214596.12499868829]
["380537_2093026433_67",67,"ВіЕйБі","380537",null,"Одеська",null,1,"123/05ф","автокредит","Доллар США",0.13500000000000001,"04.10.2005","03.10.2010","НІ",null,3713,0,0,"20.12.2012","ПП \"Бюро Маркуса\"",42248,3153,788149.25,1789535.3199999998,744285.86,1045249.46,487886.15]
["380537_2612807556_68",68,"ВіЕйБі","380537",null,"Одеська",null,1,"57/05ф","автокредит","Доллар США",0.155,"26.04.2005","25.04.2008","НІ",null,3742,0,1218.1099999999999,"30.01.2008","ПП \"Бюро Маркуса\"",42248,1825,456298.81,1285384.83,488070.18,797314.65,401741.82]
["380537_2960220270_69",69,"ВіЕйБі","380537",null,"Одеська",null,1,"32/06ф","автокредит","Доллар США",0.13500000000000001,"23.03.2006","22.03.2011","НІ",null,3833,0,4967.6099999999997,"08.11.2007","ПП \"Бюро Маркуса\"",42248,1445,361164.95,940658.64,384022.97,556635.67000000004,256603.74]
["380537_2970513906_70",70,"ВіЕйБі","380537",null,"Одеська",null,1,"157/07ф","іпотека","Доллар США",0.13500000000000001,"01.06.2007","31.05.2017","НІ",null,2677,0,5580.6,"13.09.2011","ПП \"Бюро Маркуса\"",42248,8620,861975.7,1459087.96,758040.88,701047.08,23264.6]
["380537_2037610312_71",71,"ВіЕйБі","380537",null,"Одеська",null,1,"39/06ф","автокредит","Доллар США",0.13500000000000001,"31.03.2006","30.03.2011","НІ",null,3642,0,3881.59,"30.05.2008","ПП \"Бюро Маркуса\"",42248,3073,768130.28,1744601.8599999999,736157.1,1008444.76,368544.33]
["380537_3050225277_72",72,"ВіЕйБі","380537",null,"Одеська",null,1,"14/06ф","автокредит","Доллар США",0,"15.02.2006","14.02.2009","НІ",null,3833,0,181.13,"08.11.2007","ПП \"Бюро Маркуса\"",42248,2303,575758.64,710295.45,612257.39,98038.06,0]
["380537_2076114294_73",73,"ВіЕйБі","380537",null,"Одеська","Діюче",1,"93/04ф","автокредит","Доллар США",0.15,"16.07.2004","15.07.2009","НІ",null,3742,0,790.32,"30.01.2008","ПП \"Бюро Маркуса\"",42248,1170,292617.12,814612.38,316659.73,497952.65,233242.43200518019]
["380537_2208615397_74",74,"ВіЕйБі","380537",null,"Одеська",null,1,"78/05ф","автокредит","Доллар США",0.155,"14.06.2005","13.06.2008","НІ",null,3714,0,1977.89,"31.03.2009","ПП \"Бюро Маркуса\"",42248,1912,477971.72,1327490.94,502990.33,824500.61,394863.46219986049]
["380537_2826907734_75",75,"ВіЕйБі","380537",null,"Одеська",null,1,"144/05ф","автокредит","Доллар США",0.13500000000000001,"29.11.2005","28.11.2010","НІ",null,3647,363.62,181.77,"05.05.2018","ПП \"Бюро Маркуса\"",42248,1756,439031.19,1037151.55,452296.78,584854.77,282635.42]
["380537_2767607217_76",76,"ВіЕйБі","380537",null,"Одеська",null,1,"56/05ф","автокредит","Доллар США",0.155,"22.04.2005","21.04.2008","НІ",null,3742,0,1206.49,"30.01.2008","ПП \"Бюро Маркуса\"",42248,1808,451974.02,1273171.56,483417.74,789753.82,378266.91581017926]
["380537_2870704217_77",77,"ВіЕйБі","380537",null,"Одеська",null,1,"74/05ф","автокредит","Доллар США",0.155,"03.06.2005","02.06.2008","НІ",null,3773,0,2018.32,"28.12.2007","ПП \"Бюро Маркуса\"",42248,1918,479444.11,1341909.55,506961.15,834948.4,399266.79193468962]
["380537_3053621994_78",78,"ВіЕйБі","380537",null,"Одеська",null,1,"36/05ф","автокредит","Доллар США",0.155,"22.03.2005","21.03.2008","НІ",null,3742,0,1061.9100000000001,"30.01.2008","ПП \"Бюро Маркуса\"",42248,1591,397708.14,1120464.1599999999,425482.21,694981.95,332568.54104019032]
["380537_2417901475_79",79,"ВіЕйБі","380537",null,"Одеська",null,1,"86/06ф","автокредит","Доллар США",0.13,"08.06.2006","07.06.2009","НІ",null,3497,0,3985.25,"11.07.2011","ПП \"Бюро Маркуса\"",42248,284,71066.350000000006,212458.32,87672.34,124785.98,54340.280387214698]
["380537_2898414255_80",80,"ВіЕйБі","380537",null,"Одеська",null,1,"77/05ф","автокредит","Доллар США",0.155,"14.06.2005","13.06.2008","НІ",null,3647,0,3663.01,"03.07.2008","ПП \"Бюро Маркуса\"",42248,1764,440880.04,1283406.0899999999,499588.23,783817.86,381627.72608659032]
["380537_2725507959_81",81,"ВіЕйБі","380537",null,"Одеська",null,1,"169/06ф","автокредит","Доллар США",0.13,"01.09.2006","31.08.2009","НІ",null,3647,0,1597.8,"27.08.2009","ПП \"Бюро Маркуса\"",42248,907,226801.59,615075.09,270067.93,345007.16,157008.40932396386]
["380537_2866623452_82",82,"ВіЕйБі","380537",null,"Одеська",null,1,"76/05ф","автокредит","Доллар США",0.155,"08.06.2005","07.06.2008","НІ",null,3742,0,1263.8599999999999,"30.01.2008","ПП \"Бюро Маркуса\"",42248,1895,473791.84,1334672.81,506782.12,827890.69,396981.49018051103]
["380537_2722123357_83",83,"ВіЕйБі","380537",null,"Одеська",null,1,"81/06ф","автокредит","Доллар США",0.13,"05.06.2006","04.06.2011","НІ",null,3796,0,1515,"26.12.2007","ПП \"Бюро Маркуса\"",42248,1791,447827.81,1154986.45,485306.32,669680.13,295244.26900973223]
["380537_2144109036_84",84,"ВіЕйБі","380537",null,"Одеська","Інше",1,"98/04ф","автокредит","Доллар США",0.155,"23.07.2004","22.07.2007","НІ",null,3773,0,697.45,"30.01.2008","ПП \"Бюро Маркуса\"",42248,1095,273845.96999999997,765943.83,289213.71999999997,476730.11,226151.37314136294]
["380537_2797816676_85",85,"ВіЕйБі","380537",null,"Одеська",null,1,"208/06ф","автокредит","Доллар США",0.13,"27.09.2006","26.09.2011","НІ",null,3468,0,1674.53,"03.06.2009","ПП \"Бюро Маркуса\"",42248,2099,524841.97,775711.05,353688.43,422022.62,203293.23]
["380537_2782216899_86",86,"ВіЕйБі","380537",null,"Одеська",null,1,"04/06ф","автокредит","Доллар США",0.13500000000000001,"31.01.2006","30.01.2011","НІ",null,3559,0,1532.11,"03.08.2009","ПП \"Бюро Маркуса\"",42248,1692,422932.37,989501.25,432050.67,557450.57999999996,269345.73]
["380537_2230415299_87",87,"ВіЕйБі","380537",null,"Одеська",null,1,"185/07ф","іпотека","Доллар США",0.17,"21.06.2007","20.06.2017","НІ",null,3405,0,44659.99,"17.04.2009","ПП \"Бюро Маркуса\"",42248,2559746,4058568.22,6133353.5899999999,2375866.77,3757486.82,97355.14]
["380537_2673709570_88",88,"ВіЕйБі","380537",null,"Одеська",null,1,"72/05ф","автокредит","Доллар США",0.155,"31.05.2005","30.05.2008","НІ",null,3703,0,1658.16,"06.06.2008","ПП \"Бюро Маркуса\"",42248,1790,447542.87,1284171.6099999999,494540.88,789630.73,401173.11]
["380537_2672201290_89",89,"ВіЕйБі","380537",null,"Одеська",null,1,"26/05ф","автокредит","Доллар США",0.155,"24.02.2005","23.02.2008","НІ",null,3742,0,865.62,"30.01.2008","ПП \"Бюро Маркуса\"",42248,1297,324184.90999999997,913331.28,346831.96,566499.31999999995,285457.15999999997]
["380537_2939726418_90",90,"ВіЕйБі","380537",null,"Одеська",null,1,"66/05ф","автокредит","Доллар США",0.155,"20.05.2005","19.05.2008","НІ",null,3742,0,8.59,"04.04.2011","ПП \"Бюро Маркуса\"",42248,1824,455938.44,1289891.1600000001,491413.99,798477.17,403105.6]
["380537_2555316619_91",91,"ВіЕйБі","380537",null,"Одеська",null,1,"46/05ф","автокредит","Гривня",0.2,"06.04.2005","05.04.2008","НІ",null,3742,0,1171.22,"30.01.2008","ПП \"Бюро Маркуса\"",42248,327,81826.990000000005,211987.35,69133.570000000007,142853.78,84059.89]
["380537_2751813779_92",92,"ВіЕйБі","380537",null,"Одеська",null,1,"116/06ф","автокредит","Доллар США",0.13,"11.07.2006","10.07.2009","НІ",null,3713,0,2018.61,"29.02.2008","ПП \"Бюро Маркуса\"",42248,1350,337553.98,747871.44,317927.06,429944.38,191105.4049347422]
["380537_2406111594_93",93,"ВіЕйБі","380537",null,"Одеська",null,1,"95/05ф","автокредит","Доллар США",0.155,"20.07.2005","19.07.2008","НІ",null,3742,0,1044.3900000000001,"04.01.2008","ПП \"Бюро Маркуса\"",42248,1565,391157.6,1102001.57,418468.41,683533.16,344425.18]
["380537_2773917158_94",94,"ВіЕйБі","380537",null,"Одеська",null,1,"67/05ф","автокредит","Доллар США",0.155,"20.05.2005","19.05.2008","НІ",null,3773,0,474.04,"31.01.2008","ПП \"Бюро Маркуса\"",42248,2052,512977.07,1439652.54,545052.01,894600.53,450001.15]
["380537_2515201116_95",95,"ВіЕйБі","380537",null,"Одеська",null,1,"209/06ф","автокредит","Доллар США",0.13,"27.09.2006","26.09.2011","НІ",null,3286,0,4583.6899999999996,"02.07.2009","ПП \"Бюро Маркуса\"",42248,2975,743736.51,1100910.1299999999,505812.74,595097.39,280599.57]
["380537_3005201092_96",96,"ВіЕйБі","380537",null,"Одеська",null,1,"25/05ф","автокредит","Доллар США",0.155,"24.02.2005","23.02.2008","НІ",null,3742,0,968.33,"30.01.2008","ПП \"Бюро Маркуса\"",42248,1451,362757.04,1021842.75,387991.43,633851.31999999995,319373.12]
["380537_2161318038_97",97,"ВіЕйБі","380537",null,"Одеська",null,1,"124/06ф","автокредит","Доллар США",0.13,"20.07.2006","19.07.2011","НІ",null,3642,0,3876.07,"31.07.2008","ПП \"Бюро Маркуса\"",42248,2628,656885.1,1742005.52,758347.72,983657.8,444800.30393848894]
["380537_1807701154_98",98,"ВіЕйБі","380537",null,"Одеська",null,1,"100/04ф","автокредит","Доллар США",0.155,"23.07.2004","22.07.2007","НІ",null,3643,0,8788.1200000000008,"02.12.2009","ПП \"Бюро Маркуса\"",42248,1153,288356.31,848980.73,333209.19,515771.54,265049.03000000003]
["380537_2640512231_99",99,"ВіЕйБі","380537",null,"Одеська","Ліквідовано",1,"21/07ю","автокредит","Доллар США",0,"29.03.2007","28.03.2010","НІ",null,3651,0,136486.70000000001,"12.03.2013","ПП \"Бюро Маркуса\"",42248,1,5301951.72,10218728.620000001,6528779.3600000003,3689949.26,2310248.63]
["380537_2330800170_100",100,"ВіЕйБі","380537",null,"Одеська","Ліквідовано",1,"10/07ю","автокредит","Доллар США",0,"16.02.2007","15.02.2010","НІ",null,3559,0,111336.08,"31.01.2013","ПП \"Бюро Маркуса\"",42248,1,4700066.1399999997,9332684.1699999999,5798324.8300000001,3534359.34,2166586.3199999998]
["380537_2764112250_101",101,"ВіЕйБі","380537",null,"Одеська","Ліквідовано",1,"09/07ю","автокредит","Доллар США",0,"12.02.2007","11.02.2010","НІ",null,3651,0,86590.56,"25.06.2013","ПП \"Бюро Маркуса\"",42248,1,5421316.6399999997,11180201.289999999,6425438.3399999999,4754762.95,2466140.6800000002]
["380537_2390519256_102",102,"ВіЕйБі","380537",null,"Одеська",null,1,"35/06ю","автокредит","Доллар США",0,"20.11.2006","19.11.2009","НІ",null,3679,0,8546,"03.08.2009","ПП \"Бюро Маркуса\"",42248,1,5686159.0199999996,10445146.6,6358320.7800000003,4086825.82,2346960.04]
["380537_2265924457_103",103,"ВіЕйБі","380537",null,"Одеська",null,1,"03/07ю","автокредит","Доллар США",0,"18.01.2007","15.01.2010","НІ",null,3591,0,127467.16,"10.01.2013","ПП \"Бюро Маркуса\"",42248,1,4488168.7300000004,9242797.0800000001,5536913.5999999996,3705883.48,2152012.2000000002]
["380537_2586613959_104",104,"ВіЕйБі","380537",null,"Одеська","Ліквідовано",1,"19/07ю","автокредит","Доллар США",0,"20.03.2007","19.03.2010","НІ",null,3227,0,1911405.7,"31.07.2009","ПП \"Бюро Маркуса\"",42248,2,1297650,1478598.2,1120053.21,358544.99,317422.24]
["380537_2177316971_105",105,"ВіЕйБі","380537",null,"Одеська",null,1,"36/06ю","автокредит","Доллар США",0,"13.12.2006","11.12.2009","НІ",null,3651,0,null,"30.09.2014","ПП \"Бюро Маркуса\"",42248,1,3360980,10407390.530000001,6371498.4500000002,4035892.08,2340838.25]
["380537_2248719053_106",106,"ВіЕйБі","380537",null,"Одеська","Ліквідовано",1,"26/06ю","автокредит","Доллар США",0,"11.09.2006","10.09.2009","НІ",null,3651,0,25381.24,"02.06.2008","ПП \"Бюро Маркуса\"",42248,1,4723551.6900000004,9806317.4499999993,5394373.04,4411944.41,2243380.66]
["380537_2291419034_107",107,"ВіЕйБі","380537",null,"Одеська","Ліквідовано",1,"30/06ю","автокредит","Доллар США",0,"19.10.2006","18.10.2011","НІ",null,3622,0,161272.04,"08.12.2011","ПП \"Бюро Маркуса\"",42248,1,4953867.09,10354797.16,6111431.1299999999,4243366.03,2332310.92]
["380537_2487612754_108",108,"ВіЕйБі","380537",null,"Одеська","Ліквідовано",1,"27/07ю","автокредит","Гривня",0,"25.05.2007","24.05.2010","НІ",null,3434,0,794945.15,"30.09.2014","ПП \"Бюро Маркуса\"",42248,1,794900,1430740.78,770623.02,660117.76000000001,355050.92000000004]
["380537_2772306398_109",109,"ВіЕйБі","380537",null,"Одеська",null,1,"01/07ю","автокредит","Доллар США",0,"11.01.2007","10.01.2012","НІ",null,3713,0,6056.25,"12.08.2008","ПП \"Бюро Маркуса\"",42248,1,5290981.2699999996,12598323.140000001,5907237.7400000002,6691085.4000000004,2696073.66]
["380537_2392201171_110",110,"ВіЕйБі","380537",null,"Одеська","Ліквідовано",1,"31/06ю","автокредит","Доллар США",0,"01.11.2006","31.10.2011","НІ",null,3651,0,14363.97,"03.08.2009","ПП \"Бюро Маркуса\"",42248,1,5244297.03,9537053.4499999993,6310649.8300000001,3226403.62,2199722.35]
["380537_1142700047_111",111,"ВіЕйБі","380537",null,"Одеська","Ліквідовано",1,"34/06ю","автокредит","Доллар США",0,"14.11.2006","11.11.2011","НІ",null,3622,0,14363.97,"03.08.2009","ПП \"Бюро Маркуса\"",42248,1,5013584.4000000004,9333264.120000001,6130793.3300000001,3202470.79,2166680.14]
["380537_3020900418_112",112,"ВіЕйБі","380537",null,"Одеська",null,1,"37/06ю","автокредит","Доллар США",0,"18.12.2006","17.12.2009","НІ",null,3679,0,21766.93,"04.04.2011","ПП \"Бюро Маркуса\"",42248,1,5760037.5199999996,10475579.67,6404393.2599999998,4071186.41,2025196.5]
["380537_2948400993_113",113,"ВіЕйБі","380537",null,"Одеська","Ліквідовано",1,"23/07ю","автокредит","Доллар США",0,"13.04.2007","12.04.2010","НІ",null,3591,0,13951.93,"01.10.2008","ПП \"Бюро Маркуса\"",42248,1,5707624.3200000003,10298499.57,6203500.8200000003,4094998.75,2323182.98]
["380537_32696344_114",114,"ВіЕйБі","380537",null,"Одеська",null,1,"31/07ю","автокредит","Доллар США",0,"16.07.2007","15.07.2012","НІ",null,3591,0,9354.7900000000009,"28.08.2009","ПП \"Бюро Маркуса\"",42248,1,4690950.68,8803643.2200000007,5787079.3700000001,3016563.85,1583441.09]
["380537_35226749_115",115,"ВіЕйБі","380537",null,"Одеська",null,1,"17/07 SME","автокредит","Гривня",0,"05.12.2007","03.12.2010","НІ",null,3377,0,26506.32,"22.12.2017","ПП \"Бюро Маркуса\"",42248,1,645300,1732076.45,645309.03,1086767.42,396549.03]
["339339_35520700_1",1,"Міський комерційний банк","339339","15.32.0 ","Київська","Діюче",1,"430/980-ЮО","Кредитни лінія","Гривня",0.3,39689,40057,"НІ","Відсутні документи кредитної справи",3237,0,13000,39743,"ТОВ \"Міжнародна юридична компанія \"Соломон - Груп\" ",42370,410588,1962656.76,5774286.0300000003,1494997.54,4279288.49,0]
["300175_25488379_1",1,"ФІДОБАНК","300175","46.71","Запорізька","Діюче",1,"1717","Кредитни лінія","Гривня",0.24,38910,41870,"НІ","Наявні документи кредитної справи",2091,0,140000,42270,"ТОВ \"ВЕРІТАС ПРОПЕРТІ МЕНЕДЖМЕНТ\"",42675,676141.4,1094417.26,1094417.26,1032021.91,62395.35,9931277.9100000001]
["300175_2629916367_2",2,"ФІДОБАНК","300175","73.12","Кіровоградська","Ліквідовано",1,"012/0456/1/15458","Кредитни лінія","Гривня",0.13,39590,42510,"НІ","Наявні документи кредитної справи",741,0,1,42430,"ТОВ \"ВЕРІТАС ПРОПЕРТІ МЕНЕДЖМЕНТ\"",42675,395258.18,956204.63,1053325.51,945458.45,107867.06,458486.35]
["300175_34305960_3",3,"ФІДОБАНК","300175","46.73","Донецька","Діюче",1,"2241Ю","Кредитни лінія","Гривня",0.5,42202,42567,"НІ","Наявні документи кредитної справи",885,0,2663.57,42320,"ТОВ \"ВЕРІТАС ПРОПЕРТІ МЕНЕДЖМЕНТ\"",42675,13545.89,818908.8,1265362,565000,700362,0]
["300175_34669380_4",4,"ФІДОБАНК","300175","45.31","Хмельницька","Діюче",1,"229Ю","Кредитни лінія","Гривня",0.215,41466,41830,"НІ","Наявні документи кредитної справи",1421,0,215000,42136,"ТОВ \"ВЕРІТАС ПРОПЕРТІ МЕНЕДЖМЕНТ\"",42675,4724225.1399999997,5328646.84,7474281.5600000005,4224486,3249795.56,6894234.3899999997]
["300175_39197628_5",5,"ФІДОБАНК","300175","63.11","Харківська","Діюче",1,"1697Ю","Кредитни лінія","Гривня",0.435,41836,42746,"НІ","Наявні документи кредитної справи",729,0,58.2,42496,"ТОВ \"ВЕРІТАС ПРОПЕРТІ МЕНЕДЖМЕНТ\"",42675,695158.49,8820400.0099999998,13701358.27,7100000,6601358.2699999996,3279887.75]
["300175_39197900_6",6,"ФІДОБАНК","300175","82.99","Київ","Діюче",1,"1781Ю","Кредитни лінія","Гривня",0.435,41855,42725,"НІ","Наявні документи кредитної справи",729,0,2.0499999999999998,42501,"ТОВ \"ВЕРІТАС ПРОПЕРТІ МЕНЕДЖМЕНТ\"",42675,22794.560000000001,289224.87,461089.6,250000,211089.6,110408.97]
["300175_39197900_7",7,"ФІДОБАНК","300175","82.99","Київ","Діюче",1,"2188Ю","Кредитни лінія","Гривня",0.435,41996,42725,"НІ","Наявні документи кредитної справи",729,0,5.94,42501,"ТОВ \"ВЕРІТАС ПРОПЕРТІ МЕНЕДЖМЕНТ\"",42675,66085.98,838520.72,1336790.8799999999,724800,611990.88,320099.95]
["300175_39197900_8",8,"ФІДОБАНК","300175","82.99","Київ","Діюче",1,"502015К","Кредитни лінія","Гривня",0.435,42124,42725,"НІ","Наявні документи кредитної справи",729,0,4.0999999999999996,42501,"ТОВ \"ВЕРІТАС ПРОПЕРТІ МЕНЕДЖМЕНТ\"",42675,45589.120000000003,578449.72,922179.14,500000,422179.14,220819.65]
["300175_39197900_9",9,"ФІДОБАНК","300175","82.99","Київ","Діюче",1,"622015К","Кредитни лінія","Гривня",0.435,42172,42725,"НІ","Наявні документи кредитної справи",729,0,18.36,42501,"ТОВ \"ВЕРІТАС ПРОПЕРТІ МЕНЕДЖМЕНТ\"",42675,204284.83,2592033.23,4132284.8899999997,2240500,1891784.89,989491.84]
["300175_25425083_10",10,"ФІДОБАНК","300175","17.21","Одеська","Діюче",1,"011-05/1174","Кредитни лінія","Гривня",1E-4,40527,40724,"НІ","Наявні документи кредитної справи",2527,0,17819.71,42494,"ТОВ \"ВЕРІТАС ПРОПЕРТІ МЕНЕДЖМЕНТ\"",42675,1140978.8999999999,3041509.42,3041989.15,1981538.7,1060450.45,4203627.3600000003]
["300175_25425083_11",11,"ФІДОБАНК","300175","17.21","Одеська","Діюче",1,"012-05/808","Кредитни лінія","Доллар США",1E-4,40421,40633,"НІ","Наявні документи кредитної справи",2618,0,395675,40451,"ТОВ \"ВЕРІТАС ПРОПЕРТІ МЕНЕДЖМЕНТ\"",42675,1140978.8999999999,9575596.6699999999,9817768.3300000001,7422572.0300000003,2395196.2999999998,11442696.630000001]
["300175_32913627_12",12,"ФІДОБАНК","300175","70.2","Київ","Діюче",1,"012-05/936","Кредитни лінія","Гривня",1E-4,39540,41332,"НІ","Наявні документи кредитної справи",2404,0,521496,39570,"ТОВ \"ВЕРІТАС ПРОПЕРТІ МЕНЕДЖМЕНТ\"",42675,1819.61,415597.22,415684.26,371950.4,43733.86,581484.37]
["300175_32913627_13",13,"ФІДОБАНК","300175","70.2","Київ","Діюче",1,"012-05/920","Кредитни лінія","Євро",1E-4,39527,41332,"НІ","Наявні документи кредитної справи",2404,0,1641289.24,39558,"ТОВ \"ВЕРІТАС ПРОПЕРТІ МЕНЕДЖМЕНТ\"",42675,22060.79,5038659.51,5501655.0900000008,4907915.4400000004,593739.65,6281571.0199999996]
["320995_21925618_1",1,"БГ банк","320995","01.11","Дніпропетровська","В стані припинення (крім банкрутства)",1,"02КР-13","Кредит","Гривня",0.27,41351,42062,"НІ","Відсутні документи кредитної справи",1306,674606.03,674606.03,43122,"ТОВ «Кредитне Брокерське Агентство»",42130,8570201,9241635.6999999993,14333785.870000001,7320000,7013785.8700000001,0]
["300272_34566283_1",1,"Енергобанк","300272","51","Миколаївська","Ліквідовано",2,"8","овердрафт за поточним рахунком","Гривня",0.25,39232,39324,"НІ","Відсутні документи кредитної справи",">3000",0,14093.89,39444,"ТОВ «Канзас Ріал Естейт» ",42278,18597.689999999999,419518.97,419518.97,419518.97,0,0]
["380474_37955952_1",1,"ТРАСТ","380474",6499,"Київ","діючє",1,"Договір факторингу №20150430","ЮО",980,0,42124,42155,"ні","так/ні",1096,0,42.29,43004,"ТОВ «ВЕРІТЕКС»",42795,20907.580000000002,806411.88,798309.74,798309.74,0,1938881.2]
["305062_33124030_1",1,"Новий",305062,"01.11","Кіровоградська","Ліквідовано",2,"78307/01","Кредит","Гривня",0.21,39303,39821,"НІ","Відсутні документи кредитної справи",3430,0,78,39766,"ТОВ «ОФ «ДЕ ВІЗУ»",43040,8720,275835.89,275835.89,150000,125835.89,0]
["305062_32906083_2",2,"Новий",305062,"46.90","Дніпропетровська","Ліквідовано",2,"1450607/01","Кредитна лінія","Гривня",0.12,39332,41622,"НІ","Наявні документи кредитної справи",1630,0,6552639.4199999999,41271,"ТОВ «ОФ «ДЕ ВІЗУ»",43040,17760,562054.79,562054.79,562054.79,0,0]
["300131_33386745_1",1,"Фінанси та Кредит","300131","45.11 ","Одеська","припинено",1,"18-01-08","відновлювальна кредитна лінія",980,0.3075,"2008-04-01","2013-09-27","ні","так",3042,null,8455566.9100000001,"2017-12-11","ТОВ «Кредитне Брокерське Агентство»","01.04.2016",7307146.1799999997,12904135.199999999,7834124.25,0,7834124.25,14841927.439999999]
["351931_37878936_1",1,"Золоті Ворота","351931","68.20 "," Харківська область ","діюче",1,"18","Кредитни лінія","Гривня",0.29499999999999998,40940,41999,"НІ","Наявні документи кредитної справи",1315,0,209675.92,41817,null,42036,1,15252133.49,28556313.050000001,13867821,14688492.050000001,25988145.879999999]
["351931_37878936_2",2,"Золоті Ворота","351931","68.20 "," Харківська область ","діюче",1,18,"Кредитни лінія","Гривня",0.29499999999999998,41150,41999,"НІ","Наявні документи кредитної справи",1315,0,8649.9599999999991,41817,null,42036,1,616219.22,1153736.8799999999,560290,593446.87999999989,1049830.6599999999]
["351931_37878674_3",3,"Золоті Ворота","351931","64.19"," Харківська область ","діюче",1,"29","Кредитни лінія","Гривня",0.28000000000000003,41689,42065,"НІ","Наявні документи кредитної справи",1029,0,0,"-",null,42036,1,38679501.18,72077435,35355402.689999998,36722032.310000002,63601713.630000003]
["351931_36033910_4",4,"Золоті Ворота","351931","46.90"," Харківська область ","в стані припинення",1,"253","Кредитни лінія","Гривня",0.27500000000000002,40506,41997,"НІ","Наявні документи кредитної справи",1367,0,66453,41765,null,42036,1,11482895.539999999,20812837.5,10432500,10380337.5,19257303.829999998]
["351931_36033910_5",5,"Золоті Ворота","351931","46.90"," Харківська область ","в стані припинення",1,"81","Кредитни лінія","Гривня",0.26500000000000001,40826,41990,"НІ","Наявні документи кредитної справи",1351,0,15010.46,41765,null,42036,1,6086788.6799999997,10884829.67,5567500,5317329.67,10157849.01]
["351931_36033910_6",6,"Золоті Ворота","351931","46.90"," Харківська область ","в стані припинення",1,"81","Кредитни лінія","Гривня",0.29499999999999998,41271,41995,"НІ","Наявні документи кредитної справи",1351,0,90823.55,41603,null,42036,1,10968582.08,20472064.890000001,9887342.3300000001,10584722.560000001,18720660.399999999]
["351931_36033910_7",7,"Золоті Ворота","351931","46.90"," Харківська область ","в стані припинення",1,"81","Кредитни лінія","Гривня",0.29499999999999998,40661,41990,"НІ","Наявні документи кредитної справи",1351,0,100971.64,41603,null,42036,1,13324451.23,24800108.490000002,11961832,12838276.49,22735227.449999999]
["351931_36816266_8",8,"Золоті Ворота","351931","46.19"," Харківська область ","діюче",1,"82","Кредитни лінія","Гривня",0.26500000000000001,40661,41990,"НІ","Наявні документи кредитної справи",1329,0,31139.759999999998,41803,null,42036,1,27088343.52,22502415.23,11550000,10952415.23,20963829.329999998]
["351931_36816266_9",9,"Золоті Ворота","351931","46.19"," Харківська область ","діюче",1,"184","Кредитни лінія","Гривня",0.26500000000000001,40826,41990,"НІ","Наявні документи кредитної справи",1172,0,70098.240000000005,41803,null,42036,1,23082441.379999999,50633794.370000005,26000000,24633794.370000005,47161881.780000001]
["351931_36816266_10",10,"Золоті Ворота","351931","46.19"," Харківська область ","діюче",1,"184","Кредитни лінія","Гривня",0.41,41452,41990,"НІ","Наявні документи кредитної справи",1172,0,215753.42,41786,null,42036,1,1420457.93,4037610.96,1600000,2437610.96,3507205.6]
["351931_32031993_11",11,"Золоті Ворота","351931","46.90"," Харківська область ","в стані припинення",1,"188","Кредитни лінія","Гривня",0.26500000000000001,40830,41990,"НІ","Наявні документи кредитної справи",1329,0,30445.55,41803,null,42036,1,12269069.220000001,22000883.84,11292500,10708383.84,20496515.239999998]
["351931_32031993_12",12,"Золоті Ворота","351931","46.90"," Харківська область ","в стані припинення",1,"49","Кредитни лінія","Гривня",0.12,41808,42089,"НІ","Наявні документи кредитної справи",1377,0,0,"-",null,42036,1,11648911.58,15912587.289999999,11069362.23,4843225.0599999996,15551319.42]
["351931_36224590_13",13,"Золоті Ворота","351931","71.12 "," Харківська область ","діюче",1,"55","Кредитни лінія","Гривня",0.27500000000000002,40632,41992,"НІ","Наявні документи кредитної справи",1295,0,1518,41837,null,42036,1,259911.64,473202.2,238496,234706.2,437066.45]
["351931_36224590_14",14,"Золоті Ворота","351931","71.12 "," Харківська область ","діюче",1,"55","Кредитни лінія","Гривня",0.26500000000000001,40823,41990,"НІ","Наявні документи кредитної справи",1295,0,36456.980000000003,41837,null,42036,1,18531007.530000001,49819873.969999999,25590000,24229873.969999999,46397218.75]
["351931_36224590_15",15,"Золоті Ворота","351931","71.12 "," Харківська область ","діюче",1,"55","Кредитни лінія","Гривня",0.27500000000000002,41508,41990,"НІ","Наявні документи кредитної справи",1295,0,108096.58,41837,null,42036,1,27766552.190000001,33707534.25,16970000,16737534.25,31199780.989999998]
["351931_37574936_16",16,"Золоті Ворота","351931","68.10"," Харківська область ",null,1,"61","Кредитни лінія","Гривня",0.29499999999999998,40634,41905,"НІ","Наявні документи кредитної справи",1350,0,37468.339999999997,41757,null,42036,1,29048540.739999998,53065491.120000005,25034446.300000001,28031044.82,50627876.509999998]
["351931_37574920_17",17,"Золоті Ворота","351931","68.20"," Харківська область ",null,1,"62","Кредитни лінія","Гривня",0.27500000000000002,40634,41983,"НІ","Наявні документи кредитної справи",1070,0,0,"-",null,42036,1,9375794.1899999995,16981129.550000001,8504089.4800000004,8477040.0700000003,15799699.369999999]
["","",null,"",null,null,null,null,null,null,null,null,null,null,null,null,null,null,null,null,null,null,null,null,""]
["","",null,"",null,null,null,null,null,null,null,null,null,null,null,null,null,null,null,null,null,null,null,null,""]
["","",null,"",null,null,null,null,null,null,null,null,null,null,null,null,null,null,null,null,null,null,null,null,""]
["","",null,"",null,null,null,null,null,null,null,null,null,null,null,null,null,null,null,null,null,null,null,null,"",null,1161860040]
["","",null,"",null,null,null,null,null,null,null,null,null,null,null,null,null,null,null,null,null,null,null,null,"",null,1161861410.8]
["","",null,"",null,null,null,null,null,null,null,null,null,null,null,null,null,null,null,null,null,null,null,null,"",null,{"$f":"AA241-AA242","v":-1370.7999999523163}]
["","",null,"",null,null,null,null,null,null,null,null,null,null,null,null,null,null,null,null,null,null,null,null,""]
["","",null,"",null,null,null,null,null,null,null,null,null,null,null,null,null,null,null,null,null,null,null,null,""]
["","",null,"",null,null,null,null,null,null,null,null,null,null,null,null,null,null,null,null,null,null,null,null,""]
["","",null,"",null,null,null,null,null,null,null,null,null,null,null,null,null,null,null,null,null,null,null,null,""]
["","",null,"",null,null,null,null,null,null,null,null,null,null,null,null,null,null,null,null,null,null,null,null,""]
["","",null,"",null,null,null,null,null,null,null,null,null,null,null,null,null,null,null,null,null,null,null,null,""]
["","",null,"",null,null,null,null,null,null,null,null,null,null,null,null,null,null,null,null,null,null,null,null,""]
["","",null,"",null,null,null,null,null,null,null,null,null,null,null,null,null,null,null,null,null,null,null,null,""]
["","",null,"",null,null,null,null,null,null,null,null,null,null,null,null,null,null,null,null,null,null,null,null,""]
["","",null,"",null,null,null,null,null,null,null,null,null,null,null,null,null,null,null,null,null,null,null,null,""]
["","",null,"",null,null,null,null,null,null,null,null,null,null,null,null,null,null,null,null,null,null,null,null,""]
["","",null,"",null,null,null,null,null,null,null,null,null,null,null,null,null,null,null,null,null,null,null,null,""]
["","",null,"",null,null,null,null,null,null,null,null,null,null,null,null,null,null,null,null,null,null,null,null,""]
["","",null,"",null,null,null,null,null,null,null,null,null,null,null,null,null,null,null,null,null,null,null,null,""]
["","",null,"",null,null,null,null,null,null,null,null,null,null,null,null,null,null,null,null,null,null,null,null,""]
["","",null,"",null,null,null,null,null,null,null,null,null,null,null,null,null,null,null,null,null,null,null,null,""]
["","",null,"",null,null,null,null,null,null,null,null,null,null,null,null,null,null,null,null,null,null,null,null,""]
["","",null,"",null,null,null,null,null,null,null,null,null,null,null,null,null,null,null,null,null,null,null,null,""]
["","",null,"",null,null,null,null,null,null,null,null,null,null,null,null,null,null,null,null,null,null,null,null,""]
["","",null,"",null,null,null,null,null,null,null,null,null,null,null,null,null,null,null,null,null,null,null,null,""]
["","",null,"",null,null,null,null,null,null,null,null,null,null,null,null,null,null,null,null,null,null,null,null,""]
["","",null,"",null,null,null,null,null,null,null,null,null,null,null,null,null,null,null,null,null,null,null,null,""]
["","",null,"",null,null,null,null,null,null,null,null,null,null,null,null,null,null,null,null,null,null,null,null,""]
["","",null,"",null,null,null,null,null,null,null,null,null,null,null,null,null,null,null,null,null,null,null,null,""]
["","",null,"",null,null,null,null,null,null,null,null,null,null,null,null,null,null,null,null,null,null,null,null,""]
["","",null,"",null,null,null,null,null,null,null,null,null,null,null,null,null,null,null,null,null,null,null,null,""]
["","",null,"",null,null,null,null,null,null,null,null,null,null,null,null,null,null,null,null,null,null,null,null,""]
["","",null,"",null,null,null,null,null,null,null,null,null,null,null,null,null,null,null,null,null,null,null,null,""]
["","",null,"",null,null,null,null,null,null,null,null,null,null,null,null,null,null,null,null,null,null,null,null,""]
["","",null,"",null,null,null,null,null,null,null,null,null,null,null,null,null,null,null,null,null,null,null,null,""]
["","",null,"",null,null,null,null,null,null,null,null,null,null,null,null,null,null,null,null,null,null,null,null,""]
["","",null,"",null,null,null,null,null,null,null,null,null,null,null,null,null,null,null,null,null,null,null,null,""]
["","",null,"",null,null,null,null,null,null,null,null,null,null,null,null,null,null,null,null,null,null,null,null,""]
["","",null,"",null,null,null,null,null,null,null,null,null,null,null,null,null,null,null,null,null,null,null,null,""]
["","",null,"",null,null,null,null,null,null,null,null,null,null,null,null,null,null,null,null,null,null,null,null,""]
["","",null,"",null,null,null,null,null,null,null,null,null,null,null,null,null,null,null,null,null,null,null,null,""]
["","",null,"",null,null,null,null,null,null,null,null,null,null,null,null,null,null,null,null,null,null,null,null,""]
["","",null,"",null,null,null,null,null,null,null,null,null,null,null,null,null,null,null,null,null,null,null,null,""]
["","",null,"",null,null,null,null,null,null,null,null,null,null,null,null,null,null,null,null,null,null,null,null,""]
["","",null,"",null,null,null,null,null,null,null,null,null,null,null,null,null,null,null,null,null,null,null,null,""]
["","",null,"",null,null,null,null,null,null,null,null,null,null,null,null,null,null,null,null,null,null,null,null,""]
["","",null,"",null,null,null,null,null,null,null,null,null,null,null,null,null,null,null,null,null,null,null,null,""]
["","",null,"",null,null,null,null,null,null,null,null,null,null,null,null,null,null,null,null,null,null,null,null,""]
["","",null,"",null,null,null,null,null,null,null,null,null,null,null,null,null,null,null,null,null,null,null,null,""]
["","",null,"",null,null,null,null,null,null,null,null,null,null,null,null,null,null,null,null,null,null,null,null,""]
["","",null,"",null,null,null,null,null,null,null,null,null,null,null,null,null,null,null,null,null,null,null,null,""]
["","",null,"",null,null,null,null,null,null,null,null,null,null,null,null,null,null,null,null,null,null,null,null,""]
["","",null,"",null,null,null,null,null,null,null,null,null,null,null,null,null,null,null,null,null,null,null,null,""]
["","",null,"",null,null,null,null,null,null,null,null,null,null,null,null,null,null,null,null,null,null,null,null,""]
["","",null,"",null,null,null,null,null,null,null,null,null,null,null,null,null,null,null,null,null,null,null,null,""]
["","",null,"",null,null,null,null,null,null,null,null,null,null,null,null,null,null,null,null,null,null,null,null,""]
["","",null,"",null,null,null,null,null,null,null,null,null,null,null,null,null,null,null,null,null,null,null,null,""]
["","",null,"",null,null,null,null,null,null,null,null,null,null,null,null,null,null,null,null,null,null,null,null,""]
["","",null,"",null,null,null,null,null,null,null,null,null,null,null,null,null,null,null,null,null,null,null,null,""]
["","",null,"",null,null,null,null,null,null,null,null,null,null,null,null,null,null,null,null,null,null,null,null,""]
["","",null,"",null,null,null,null,null,null,null,null,null,null,null,null,null,null,null,null,null,null,null,null,""]
["","",null,"",null,null,null,null,null,null,null,null,null,null,null,null,null,null,null,null,null,null,null,null,""]
["","",null,"",null,null,null,null,null,null,null,null,null,null,null,null,null,null,null,null,null,null,null,null,""]
["","",null,"",null,null,null,null,null,null,null,null,null,null,null,null,null,null,null,null,null,null,null,null,""]
["","",null,"",null,null,null,null,null,null,null,null,null,null,null,null,null,null,null,null,null,null,null,null,""]
["","",null,"",null,null,null,null,null,null,null,null,null,null,null,null,null,null,null,null,null,null,null,null,""]
["","",null,"",null,null,null,null,null,null,null,null,null,null,null,null,null,null,null,null,null,null,null,null,""]
["","",null,"",null,null,null,null,null,null,null,null,null,null,null,null,null,null,null,null,null,null,null,null,""]
["","",null,"",null,null,null,null,null,null,null,null,null,null,null,null,null,null,null,null,null,null,null,null,""]
["","",null,"",null,null,null,null,null,null,null,null,null,null,null,null,null,null,null,null,null,null,null,null,""]
["","",null,"",null,null,null,null,null,null,null,null,null,null,null,null,null,null,null,null,null,null,null,null,""]
["","",null,"",null,null,null,null,null,null,null,null,null,null,null,null,null,null,null,null,null,null,null,null,""]
["","",null,"",null,null,null,null,null,null,null,null,null,null,null,null,null,null,null,null,null,null,null,null,""]
["","",null,"",null,null,null,null,null,null,null,null,null,null,null,null,null,null,null,null,null,null,null,null,""]
["","",null,"",null,null,null,null,null,null,null,null,null,null,null,null,null,null,null,null,null,null,null,null,""]
["","",null,"",null,null,null,null,null,null,null,null,null,null,null,null,null,null,null,null,null,null,null,null,""]
["","",null,"",null,null,null,null,null,null,null,null,null,null,null,null,null,null,null,null,null,null,null,null,""]
["","",null,"",null,null,null,null,null,null,null,null,null,null,null,null,null,null,null,null,null,null,null,null,""]
["","",null,"",null,null,null,null,null,null,null,null,null,null,null,null,null,null,null,null,null,null,null,null,""]
["","",null,"",null,null,null,null,null,null,null,null,null,null,null,null,null,null,null,null,null,null,null,null,""]
["","",null,"",null,null,null,null,null,null,null,null,null,null,null,null,null,null,null,null,null,null,null,null,""]
["","",null,"",null,null,null,null,null,null,null,null,null,null,null,null,null,null,null,null,null,null,null,null,""]
["","",null,"",null,null,null,null,null,null,null,null,null,null,null,null,null,null,null,null,null,null,null,null,""]
["","",null,"",null,null,null,null,null,null,null,null,null,null,null,null,null,null,null,null,null,null,null,null,""]
["","",null,"",null,null,null,null,null,null,null,null,null,null,null,null,null,null,null,null,null,null,null,null,""]
["","",null,"",null,null,null,null,null,null,null,null,null,null,null,null,null,null,null,null,null,null,null,null,""]
["","",null,"",null,null,null,null,null,null,null,null,null,null,null,null,null,null,null,null,null,null,null,null,""]
["","",null,"",null,null,null,null,null,null,null,null,null,null,null,null,null,null,null,null,null,null,null,null,""]
["","",null,"",null,null,null,null,null,null,null,null,null,null,null,null,null,null,null,null,null,null,null,null,""]
["","",null,"",null,null,null,null,null,null,null,null,null,null,null,null,null,null,null,null,null,null,null,null,""]
["","",null,"",null,null,null,null,null,null,null,null,null,null,null,null,null,null,null,null,null,null,null,null,""]
["","",null,"",null,null,null,null,null,null,null,null,null,null,null,null,null,null,null,null,null,null,null,null,""]
["","",null,"",null,null,null,null,null,null,null,null,null,null,null,null,null,null,null,null,null,null,null,null,""]
["","",null,"",null,null,null,null,null,null,null,null,null,null,null,null,null,null,null,null,null,null,null,null,""]
["","",null,"",null,null,null,null,null,null,null,null,null,null,null,null,null,null,null,null,null,null,null,null,""]
["","",null,"",null,null,null,null,null,null,null,null,null,null,null,null,null,null,null,null,null,null,null,null,""]
["","",null,"",null,null,null,null,null,null,null,null,null,null,null,null,null,null,null,null,null,null,null,null,""]
["","",null,"",null,null,null,null,null,null,null,null,null,null,null,null,null,null,null,null,null,null,null,null,""]
["","",null,"",null,null,null,null,null,null,null,null,null,null,null,null,null,null,null,null,null,null,null,null,""]
["","",null,"",null,null,null,null,null,null,null,null,null,null,null,null,null,null,null,null,null,null,null,null,""]
["","",null,"",null,null,null,null,null,null,null,null,null,null,null,null,null,null,null,null,null,null,null,null,""]
["","",null,"",null,null,null,null,null,null,null,null,null,null,null,null,null,null,null,null,null,null,null,null,""]
["","",null,"",null,null,null,null,null,null,null,null,null,null,null,null,null,null,null,null,null,null,null,null,""]
["","",null,"",null,null,null,null,null,null,null,null,null,null,null,null,null,null,null,null,null,null,null,null,""]
["","",null,"",null,null,null,null,null,null,null,null,null,null,null,null,null,null,null,null,null,null,null,null,""]
["","",null,"",null,null,null,null,null,null,null,null,null,null,null,null,null,null,null,null,null,null,null,null,""]
["","",null,"",null,null,null,null,null,null,null,null,null,null,null,null,null,null,null,null,null,null,null,null,""]
["","",null,"",null,null,null,null,null,null,null,null,null,null,null,null,null,null,null,null,null,null,null,null,""]
["","",null,"",null,null,null,null,null,null,null,null,null,null,null,null,null,null,null,null,null,null,null,null,""]
["","",null,"",null,null,null,null,null,null,null,null,null,null,null,null,null,null,null,null,null,null,null,null,""]
["","",null,"",null,null,null,null,null,null,null,null,null,null,null,null,null,null,null,null,null,null,null,null,""]
["","",null,"",null,null,null,null,null,null,null,null,null,null,null,null,null,null,null,null,null,null,null,null,""]
["","",null,"",null,null,null,null,null,null,null,null,null,null,null,null,null,null,null,null,null,null,null,null,""]
["","",null,"",null,null,null,null,null,null,null,null,null,null,null,null,null,null,null,null,null,null,null,null,""]
["","",null,"",null,null,null,null,null,null,null,null,null,null,null,null,null,null,null,null,null,null,null,null,""]
["","",null,"",null,null,null,null,null,null,null,null,null,null,null,null,null,null,null,null,null,null,null,null,""]
["","",null,"",null,null,null,null,null,null,null,null,null,null,null,null,null,null,null,null,null,null,null,null,""]
["","",null,"",null,null,null,null,null,null,null,null,null,null,null,null,null,null,null,null,null,null,null,null,""]
["","",null,"",null,null,null,null,null,null,null,null,null,null,null,null,null,null,null,null,null,null,null,null,""]
["","",null,"",null,null,null,null,null,null,null,null,null,null,null,null,null,null,null,null,null,null,null,null,""]
["","",null,"",null,null,null,null,null,null,null,null,null,null,null,null,null,null,null,null,null,null,null,null,""]
["","",null,"",null,null,null,null,null,null,null,null,null,null,null,null,null,null,null,null,null,null,null,null,""]
["","",null,"",null,null,null,null,null,null,null,null,null,null,null,null,null,null,null,null,null,null,null,null,""]
["","",null,"",null,null,null,null,null,null,null,null,null,null,null,null,null,null,null,null,null,null,null,null,""]
["","",null,"",null,null,null,null,null,null,null,null,null,null,null,null,null,null,null,null,null,null,null,null,""]
["","",null,"",null,null,null,null,null,null,null,null,null,null,null,null,null,null,null,null,null,null,null,null,""]
["","",null,"",null,null,null,null,null,null,null,null,null,null,null,null,null,null,null,null,null,null,null,null,""]
["","",null,"",null,null,null,null,null,null,null,null,null,null,null,null,null,null,null,null,null,null,null,null,""]
["","",null,"",null,null,null,null,null,null,null,null,null,null,null,null,null,null,null,null,null,null,null,null,""]
["","",null,"",null,null,null,null,null,null,null,null,null,null,null,null,null,null,null,null,null,null,null,null,""]
["","",null,"",null,null,null,null,null,null,null,null,null,null,null,null,null,null,null,null,null,null,null,null,""]
["","",null,"",null,null,null,null,null,null,null,null,null,null,null,null,null,null,null,null,null,null,null,null,""]
["","",null,"",null,null,null,null,null,null,null,null,null,null,null,null,null,null,null,null,null,null,null,null,""]
["","",null,"",null,null,null,null,null,null,null,null,null,null,null,null,null,null,null,null,null,null,null,null,""]
["","",null,"",null,null,null,null,null,null,null,null,null,null,null,null,null,null,null,null,null,null,null,null,""]
["","",null,"",null,null,null,null,null,null,null,null,null,null,null,null,null,null,null,null,null,null,null,null,""]
["","",null,"",null,null,null,null,null,null,null,null,null,null,null,null,null,null,null,null,null,null,null,null,""]
["","",null,"",null,null,null,null,null,null,null,null,null,null,null,null,null,null,null,null,null,null,null,null,""]
["","",null,"",null,null,null,null,null,null,null,null,null,null,null,null,null,null,null,null,null,null,null,null,""]
["","",null,"",null,null,null,null,null,null,null,null,null,null,null,null,null,null,null,null,null,null,null,null,""]
["","",null,"",null,null,null,null,null,null,null,null,null,null,null,null,null,null,null,null,null,null,null,null,""]
["","",null,"",null,null,null,null,null,null,null,null,null,null,null,null,null,null,null,null,null,null,null,null,""]
["","",null,"",null,null,null,null,null,null,null,null,null,null,null,null,null,null,null,null,null,null,null,null,""]
["","",null,"",null,null,null,null,null,null,null,null,null,null,null,null,null,null,null,null,null,null,null,null,""]
["","",null,"",null,null,null,null,null,null,null,null,null,null,null,null,null,null,null,null,null,null,null,null,""]
["","",null,"",null,null,null,null,null,null,null,null,null,null,null,null,null,null,null,null,null,null,null,null,""]
["","",null,"",null,null,null,null,null,null,null,null,null,null,null,null,null,null,null,null,null,null,null,null,""]
["","",null,"",null,null,null,null,null,null,null,null,null,null,null,null,null,null,null,null,null,null,null,null,""]
["","",null,"",null,null,null,null,null,null,null,null,null,null,null,null,null,null,null,null,null,null,null,null,""]
["","",null,"",null,null,null,null,null,null,null,null,null,null,null,null,null,null,null,null,null,null,null,null,""]
["","",null,"",null,null,null,null,null,null,null,null,null,null,null,null,null,null,null,null,null,null,null,null,""]
["","",null,"",null,null,null,null,null,null,null,null,null,null,null,null,null,null,null,null,null,null,null,null,""]
["","",null,"",null,null,null,null,null,null,null,null,null,null,null,null,null,null,null,null,null,null,null,null,""]
["","",null,"",null,null,null,null,null,null,null,null,null,null,null,null,null,null,null,null,null,null,null,null,""]
["","",null,"",null,null,null,null,null,null,null,null,null,null,null,null,null,null,null,null,null,null,null,null,""]
["","",null,"",null,null,null,null,null,null,null,null,null,null,null,null,null,null,null,null,null,null,null,null,""]
["","",null,"",null,null,null,null,null,null,null,null,null,null,null,null,null,null,null,null,null,null,null,null,""]
["","",null,"",null,null,null,null,null,null,null,null,null,null,null,null,null,null,null,null,null,null,null,null,""]
["","",null,"",null,null,null,null,null,null,null,null,null,null,null,null,null,null,null,null,null,null,null,null,""]
["","",null,"",null,null,null,null,null,null,null,null,null,null,null,null,null,null,null,null,null,null,null,null,""]
["","",null,"",null,null,null,null,null,null,null,null,null,null,null,null,null,null,null,null,null,null,null,null,""]
["","",null,"",null,null,null,null,null,null,null,null,null,null,null,null,null,null,null,null,null,null,null,null,""]
["","",null,"",null,null,null,null,null,null,null,null,null,null,null,null,null,null,null,null,null,null,null,null,""]
["","",null,"",null,null,null,null,null,null,null,null,null,null,null,null,null,null,null,null,null,null,null,null,""]
["","",null,"",null,null,null,null,null,null,null,null,null,null,null,null,null,null,null,null,null,null,null,null,""]
["","",null,"",null,null,null,null,null,null,null,null,null,null,null,null,null,null,null,null,null,null,null,null,""]
["","",null,"",null,null,null,null,null,null,null,null,null,null,null,null,null,null,null,null,null,null,null,null,""]
["","",null,"",null,null,null,null,null,null,null,null,null,null,null,null,null,null,null,null,null,null,null,null,""]
["","",null,"",null,null,null,null,null,null,null,null,null,null,null,null,null,null,null,null,null,null,null,null,""]
["","",null,"",null,null,null,null,null,null,null,null,null,null,null,null,null,null,null,null,null,null,null,null,""]
["","",null,"",null,null,null,null,null,null,null,null,null,null,null,null,null,null,null,null,null,null,null,null,""]
["","",null,"",null,null,null,null,null,null,null,null,null,null,null,null,null,null,null,null,null,null,null,null,""]
["","",null,"",null,null,null,null,null,null,null,null,null,null,null,null,null,null,null,null,null,null,null,null,""]
["","",null,"",null,null,null,null,null,null,null,null,null,null,null,null,null,null,null,null,null,null,null,null,""]
["","",null,"",null,null,null,null,null,null,null,null,null,null,null,null,null,null,null,null,null,null,null,null,""]
["","",null,"",null,null,null,null,null,null,null,null,null,null,null,null,null,null,null,null,null,null,null,null,""]
["","",null,"",null,null,null,null,null,null,null,null,null,null,null,null,null,null,null,null,null,null,null,null,""]
["","",null,"",null,null,null,null,null,null,null,null,null,null,null,null,null,null,null,null,null,null,null,null,""]
["","",null,"",null,null,null,null,null,null,null,null,null,null,null,null,null,null,null,null,null,null,null,null,""]
["","",null,"",null,null,null,null,null,null,null,null,null,null,null,null,null,null,null,null,null,null,null,null,""]
["","",null,"",null,null,null,null,null,null,null,null,null,null,null,null,null,null,null,null,null,null,null,null,""]
["","",null,"",null,null,null,null,null,null,null,null,null,null,null,null,null,null,null,null,null,null,null,null,""]
["","",null,"",null,null,null,null,null,null,null,null,null,null,null,null,null,null,null,null,null,null,null,null,""]
["","",null,"",null,null,null,null,null,null,null,null,null,null,null,null,null,null,null,null,null,null,null,null,""]
["","",null,"",null,null,null,null,null,null,null,null,null,null,null,null,null,null,null,null,null,null,null,null,""]
["","",null,"",null,null,null,null,null,null,null,null,null,null,null,null,null,null,null,null,null,null,null,null,""]
["","",null,"",null,null,null,null,null,null,null,null,null,null,null,null,null,null,null,null,null,null,null,null,""]
["","",null,"",null,null,null,null,null,null,null,null,null,null,null,null,null,null,null,null,null,null,null,null,""]
["","",null,"",null,null,null,null,null,null,null,null,null,null,null,null,null,null,null,null,null,null,null,null,""]
["","",null,"",null,null,null,null,null,null,null,null,null,null,null,null,null,null,null,null,null,null,null,null,""]
["","",null,"",null,null,null,null,null,null,null,null,null,null,null,null,null,null,null,null,null,null,null,null,""]
["","",null,"",null,null,null,null,null,null,null,null,null,null,null,null,null,null,null,null,null,null,null,null,""]
["","",null,"",null,null,null,null,null,null,null,null,null,null,null,null,null,null,null,null,null,null,null,null,""]
["","",null,"",null,null,null,null,null,null,null,null,null,null,null,null,null,null,null,null,null,null,null,null,""]
["","",null,"",null,null,null,null,null,null,null,null,null,null,null,null,null,null,null,null,null,null,null,null,""]
["","",null,"",null,null,null,null,null,null,null,null,null,null,null,null,null,null,null,null,null,null,null,null,""]
["","",null,"",null,null,null,null,null,null,null,null,null,null,null,null,null,null,null,null,null,null,null,null,""]
["","",null,"",null,null,null,null,null,null,null,null,null,null,null,null,null,null,null,null,null,null,null,null,""]
["","",null,"",null,null,null,null,null,null,null,null,null,null,null,null,null,null,null,null,null,null,null,null,""]
["","",null,"",null,null,null,null,null,null,null,null,null,null,null,null,null,null,null,null,null,null,null,null,""]
["","",null,"",null,null,null,null,null,null,null,null,null,null,null,null,null,null,null,null,null,null,null,null,""]
["","",null,"",null,null,null,null,null,null,null,null,null,null,null,null,null,null,null,null,null,null,null,null,""]
["","",null,"",null,null,null,null,null,null,null,null,null,null,null,null,null,null,null,null,null,null,null,null,""]
["","",null,"",null,null,null,null,null,null,null,null,null,null,null,null,null,null,null,null,null,null,null,null,""]
["","",null,"",null,null,null,null,null,null,null,null,null,null,null,null,null,null,null,null,null,null,null,null,""]
["","",null,"",null,null,null,null,null,null,null,null,null,null,null,null,null,null,null,null,null,null,null,null,""]
["","",null,"",null,null,null,null,null,null,null,null,null,null,null,null,null,null,null,null,null,null,null,null,""]
["","",null,"",null,null,null,null,null,null,null,null,null,null,null,null,null,null,null,null,null,null,null,null,""]
["","",null,"",null,null,null,null,null,null,null,null,null,null,null,null,null,null,null,null,null,null,null,null,""]
["","",null,"",null,null,null,null,null,null,null,null,null,null,null,null,null,null,null,null,null,null,null,null,""]
["","",null,"",null,null,null,null,null,null,null,null,null,null,null,null,null,null,null,null,null,null,null,null,""]
["","",null,"",null,null,null,null,null,null,null,null,null,null,null,null,null,null,null,null,null,null,null,null,""]
["","",null,"",null,null,null,null,null,null,null,null,null,null,null,null,null,null,null,null,null,null,null,null,""]
["","",null,"",null,null,null,null,null,null,null,null,null,null,null,null,null,null,null,null,null,null,null,null,""]
["","",null,"",null,null,null,null,null,null,null,null,null,null,null,null,null,null,null,null,null,null,null,null,""]
["","",null,"",null,null,null,null,null,null,null,null,null,null,null,null,null,null,null,null,null,null,null,null,""]
["","",null,"",null,null,null,null,null,null,null,null,null,null,null,null,null,null,null,null,null,null,null,null,""]
["","",null,"",null,null,null,null,null,null,null,null,null,null,null,null,null,null,null,null,null,null,null,null,""]
["","",null,"",null,null,null,null,null,null,null,null,null,null,null,null,null,null,null,null,null,null,null,null,""]
["","",null,"",null,null,null,null,null,null,null,null,null,null,null,null,null,null,null,null,null,null,null,null,""]
["","",null,"",null,null,null,null,null,null,null,null,null,null,null,null,null,null,null,null,null,null,null,null,""]
["","",null,"",null,null,null,null,null,null,null,null,null,null,null,null,null,null,null,null,null,null,null,null,""]
["","",null,"",null,null,null,null,null,null,null,null,null,null,null,null,null,null,null,null,null,null,null,null,""]
["","",null,"",null,null,null,null,null,null,null,null,null,null,null,null,null,null,null,null,null,null,null,null,""]
["","",null,"",null,null,null,null,null,null,null,null,null,null,null,null,null,null,null,null,null,null,null,null,""]
["","",null,"",null,null,null,null,null,null,null,null,null,null,null,null,null,null,null,null,null,null,null,null,""]
["","",null,"",null,null,null,null,null,null,null,null,null,null,null,null,null,null,null,null,null,null,null,null,""]
["","",null,"",null,null,null,null,null,null,null,null,null,null,null,null,null,null,null,null,null,null,null,null,""]
["","",null,"",null,null,null,null,null,null,null,null,null,null,null,null,null,null,null,null,null,null,null,null,""]
["","",null,"",null,null,null,null,null,null,null,null,null,null,null,null,null,null,null,null,null,null,null,null,""]
["","",null,"",null,null,null,null,null,null,null,null,null,null,null,null,null,null,null,null,null,null,null,null,""]
["","",null,"",null,null,null,null,null,null,null,null,null,null,null,null,null,null,null,null,null,null,null,null,""]
["","",null,"",null,null,null,null,null,null,null,null,null,null,null,null,null,null,null,null,null,null,null,null,""]
["","",null,"",null,null,null,null,null,null,null,null,null,null,null,null,null,null,null,null,null,null,null,null,""]
["","",null,"",null,null,null,null,null,null,null,null,null,null,null,null,null,null,null,null,null,null,null,null,""]
["","",null,"",null,null,null,null,null,null,null,null,null,null,null,null,null,null,null,null,null,null,null,null,""]
["","",null,"",null,null,null,null,null,null,null,null,null,null,null,null,null,null,null,null,null,null,null,null,""]
["","",null,"",null,null,null,null,null,null,null,null,null,null,null,null,null,null,null,null,null,null,null,null,""]
["","",null,"",null,null,null,null,null,null,null,null,null,null,null,null,null,null,null,null,null,null,null,null,""]
["","",null,"",null,null,null,null,null,null,null,null,null,null,null,null,null,null,null,null,null,null,null,null,""]
["","",null,"",null,null,null,null,null,null,null,null,null,null,null,null,null,null,null,null,null,null,null,null,""]
["","",null,"",null,null,null,null,null,null,null,null,null,null,null,null,null,null,null,null,null,null,null,null,""]
["","",null,"",null,null,null,null,null,null,null,null,null,null,null,null,null,null,null,null,null,null,null,null,""]
["","",null,"",null,null,null,null,null,null,null,null,null,null,null,null,null,null,null,null,null,null,null,null,""]
["","",null,"",null,null,null,null,null,null,null,null,null,null,null,null,null,null,null,null,null,null,null,null,""]
["","",null,"",null,null,null,null,null,null,null,null,null,null,null,null,null,null,null,null,null,null,null,null,""]
["","",null,"",null,null,null,null,null,null,null,null,null,null,null,null,null,null,null,null,null,null,null,null,""]
["","",null,"",null,null,null,null,null,null,null,null,null,null,null,null,null,null,null,null,null,null,null,null,""]
["","",null,"",null,null,null,null,null,null,null,null,null,null,null,null,null,null,null,null,null,null,null,null,""]
["","",null,"",null,null,null,null,null,null,null,null,null,null,null,null,null,null,null,null,null,null,null,null,""]
["","",null,"",null,null,null,null,null,null,null,null,null,null,null,null,null,null,null,null,null,null,null,null,""]
["","",null,"",null,null,null,null,null,null,null,null,null,null,null,null,null,null,null,null,null,null,null,null,""]
["","",null,"",null,null,null,null,null,null,null,null,null,null,null,null,null,null,null,null,null,null,null,null,""]
["","",null,"",null,null,null,null,null,null,null,null,null,null,null,null,null,null,null,null,null,null,null,null,""]
["","",null,"",null,null,null,null,null,null,null,null,null,null,null,null,null,null,null,null,null,null,null,null,""]
["","",null,"",null,null,null,null,null,null,null,null,null,null,null,null,null,null,null,null,null,null,null,null,""]
["","",null,"",null,null,null,null,null,null,null,null,null,null,null,null,null,null,null,null,null,null,null,null,""]
["","",null,"",null,null,null,null,null,null,null,null,null,null,null,null,null,null,null,null,null,null,null,null,""]
["","",null,"",null,null,null,null,null,null,null,null,null,null,null,null,null,null,null,null,null,null,null,null,""]
["","",null,"",null,null,null,null,null,null,null,null,null,null,null,null,null,null,null,null,null,null,null,null,""]
["","",null,"",null,null,null,null,null,null,null,null,null,null,null,null,null,null,null,null,null,null,null,null,""]
["","",null,"",null,null,null,null,null,null,null,null,null,null,null,null,null,null,null,null,null,null,null,null,""]
["","",null,"",null,null,null,null,null,null,null,null,null,null,null,null,null,null,null,null,null,null,null,null,""]
["","",null,"",null,null,null,null,null,null,null,null,null,null,null,null,null,null,null,null,null,null,null,null,""]
["","",null,"",null,null,null,null,null,null,null,null,null,null,null,null,null,null,null,null,null,null,null,null,""]
["","",null,"",null,null,null,null,null,null,null,null,null,null,null,null,null,null,null,null,null,null,null,null,""]
["","",null,"",null,null,null,null,null,null,null,null,null,null,null,null,null,null,null,null,null,null,null,null,""]
["","",null,"",null,null,null,null,null,null,null,null,null,null,null,null,null,null,null,null,null,null,null,null,""]
["","",null,"",null,null,null,null,null,null,null,null,null,null,null,null,null,null,null,null,null,null,null,null,""]
["","",null,"",null,null,null,null,null,null,null,null,null,null,null,null,null,null,null,null,null,null,null,null,""]
["","",null,"",null,null,null,null,null,null,null,null,null,null,null,null,null,null,null,null,null,null,null,null,""]
["","",null,"",null,null,null,null,null,null,null,null,null,null,null,null,null,null,null,null,null,null,null,null,""]
["","",null,"",null,null,null,null,null,null,null,null,null,null,null,null,null,null,null,null,null,null,null,null,""]
["","",null,"",null,null,null,null,null,null,null,null,null,null,null,null,null,null,null,null,null,null,null,null,""]
["","",null,"",null,null,null,null,null,null,null,null,null,null,null,null,null,null,null,null,null,null,null,null,""]
["","",null,"",null,null,null,null,null,null,null,null,null,null,null,null,null,null,null,null,null,null,null,null,""]
["","",null,"",null,null,null,null,null,null,null,null,null,null,null,null,null,null,null,null,null,null,null,null,""]
["","",null,"",null,null,null,null,null,null,null,null,null,null,null,null,null,null,null,null,null,null,null,null,""]
["","",null,"",null,null,null,null,null,null,null,null,null,null,null,null,null,null,null,null,null,null,null,null,""]
["","",null,"",null,null,null,null,null,null,null,null,null,null,null,null,null,null,null,null,null,null,null,null,""]
["","",null,"",null,null,null,null,null,null,null,null,null,null,null,null,null,null,null,null,null,null,null,null,""]
["","",null,"",null,null,null,null,null,null,null,null,null,null,null,null,null,null,null,null,null,null,null,null,""]
["","",null,"",null,null,null,null,null,null,null,null,null,null,null,null,null,null,null,null,null,null,null,null,""]
["","",null,"",null,null,null,null,null,null,null,null,null,null,null,null,null,null,null,null,null,null,null,null,""]
["","",null,"",null,null,null,null,null,null,null,null,null,null,null,null,null,null,null,null,null,null,null,null,""]
["","",null,"",null,null,null,null,null,null,null,null,null,null,null,null,null,null,null,null,null,null,null,null,""]
["","",null,"",null,null,null,null,null,null,null,null,null,null,null,null,null,null,null,null,null,null,null,null,""]
["","",null,"",null,null,null,null,null,null,null,null,null,null,null,null,null,null,null,null,null,null,null,null,""]
["","",null,"",null,null,null,null,null,null,null,null,null,null,null,null,null,null,null,null,null,null,null,null,""]
["","",null,"",null,null,null,null,null,null,null,null,null,null,null,null,null,null,null,null,null,null,null,null,""]
["","",null,"",null,null,null,null,null,null,null,null,null,null,null,null,null,null,null,null,null,null,null,null,""]
["","",null,"",null,null,null,null,null,null,null,null,null,null,null,null,null,null,null,null,null,null,null,null,""]
["","",null,"",null,null,null,null,null,null,null,null,null,null,null,null,null,null,null,null,null,null,null,null,""]
["","",null,"",null,null,null,null,null,null,null,null,null,null,null,null,null,null,null,null,null,null,null,null,""]
["","",null,"",null,null,null,null,null,null,null,null,null,null,null,null,null,null,null,null,null,null,null,null,""]
["","",null,"",null,null,null,null,null,null,null,null,null,null,null,null,null,null,null,null,null,null,null,null,""]
["","",null,"",null,null,null,null,null,null,null,null,null,null,null,null,null,null,null,null,null,null,null,null,""]
["","",null,"",null,null,null,null,null,null,null,null,null,null,null,null,null,null,null,null,null,null,null,null,""]
["","",null,"",null,null,null,null,null,null,null,null,null,null,null,null,null,null,null,null,null,null,null,null,""]
["","",null,"",null,null,null,null,null,null,null,null,null,null,null,null,null,null,null,null,null,null,null,null,""]
["","",null,"",null,null,null,null,null,null,null,null,null,null,null,null,null,null,null,null,null,null,null,null,""]
["","",null,"",null,null,null,null,null,null,null,null,null,null,null,null,null,null,null,null,null,null,null,null,""]
["","",null,"",null,null,null,null,null,null,null,null,null,null,null,null,null,null,null,null,null,null,null,null,""]
["","",null,"",null,null,null,null,null,null,null,null,null,null,null,null,null,null,null,null,null,null,null,null,""]
["","",null,"",null,null,null,null,null,null,null,null,null,null,null,null,null,null,null,null,null,null,null,null,""]
["","",null,"",null,null,null,null,null,null,null,null,null,null,null,null,null,null,null,null,null,null,null,null,""]
["","",null,"",null,null,null,null,null,null,null,null,null,null,null,null,null,null,null,null,null,null,null,null,""]
["","",null,"",null,null,null,null,null,null,null,null,null,null,null,null,null,null,null,null,null,null,null,null,""]
["","",null,"",null,null,null,null,null,null,null,null,null,null,null,null,null,null,null,null,null,null,null,null,""]
["","",null,"",null,null,null,null,null,null,null,null,null,null,null,null,null,null,null,null,null,null,null,null,""]
["","",null,"",null,null,null,null,null,null,null,null,null,null,null,null,null,null,null,null,null,null,null,null,""]
["","",null,"",null,null,null,null,null,null,null,null,null,null,null,null,null,null,null,null,null,null,null,null,""]
["","",null,"",null,null,null,null,null,null,null,null,null,null,null,null,null,null,null,null,null,null,null,null,""]
["","",null,"",null,null,null,null,null,null,null,null,null,null,null,null,null,null,null,null,null,null,null,null,""]
["","",null,"",null,null,null,null,null,null,null,null,null,null,null,null,null,null,null,null,null,null,null,null,""]
["","",null,"",null,null,null,null,null,null,null,null,null,null,null,null,null,null,null,null,null,null,null,null,""]
["","",null,"",null,null,null,null,null,null,null,null,null,null,null,null,null,null,null,null,null,null,null,null,""]
["","",null,"",null,null,null,null,null,null,null,null,null,null,null,null,null,null,null,null,null,null,null,null,""]
["","",null,"",null,null,null,null,null,null,null,null,null,null,null,null,null,null,null,null,null,null,null,null,""]
["","",null,"",null,null,null,null,null,null,null,null,null,null,null,null,null,null,null,null,null,null,null,null,""]
["","",null,"",null,null,null,null,null,null,null,null,null,null,null,null,null,null,null,null,null,null,null,null,""]
["","",null,"",null,null,null,null,null,null,null,null,null,null,null,null,null,null,null,null,null,null,null,null,""]
["","",null,"",null,null,null,null,null,null,null,null,null,null,null,null,null,null,null,null,null,null,null,null,""]
["","",null,"",null,null,null,null,null,null,null,null,null,null,null,null,null,null,null,null,null,null,null,null,""]
["","",null,"",null,null,null,null,null,null,null,null,null,null,null,null,null,null,null,null,null,null,null,null,""]
["","",null,"",null,null,null,null,null,null,null,null,null,null,null,null,null,null,null,null,null,null,null,null,""]
["","",null,"",null,null,null,null,null,null,null,null,null,null,null,null,null,null,null,null,null,null,null,null,""]
["","",null,"",null,null,null,null,null,null,null,null,null,null,null,null,null,null,null,null,null,null,null,null,""]
["","",null,"",null,null,null,null,null,null,null,null,null,null,null,null,null,null,null,null,null,null,null,null,""]
["","",null,"",null,null,null,null,null,null,null,null,null,null,null,null,null,null,null,null,null,null,null,null,""]
["","",null,"",null,null,null,null,null,null,null,null,null,null,null,null,null,null,null,null,null,null,null,null,""]
["","",null,"",null,null,null,null,null,null,null,null,null,null,null,null,null,null,null,null,null,null,null,null,""]
["","",null,"",null,null,null,null,null,null,null,null,null,null,null,null,null,null,null,null,null,null,null,null,""]
["","",null,"",null,null,null,null,null,null,null,null,null,null,null,null,null,null,null,null,null,null,null,null,""]
["","",null,"",null,null,null,null,null,null,null,null,null,null,null,null,null,null,null,null,null,null,null,null,""]
["","",null,"",null,null,null,null,null,null,null,null,null,null,null,null,null,null,null,null,null,null,null,null,""]
["","",null,"",null,null,null,null,null,null,null,null,null,null,null,null,null,null,null,null,null,null,null,null,""]
["","",null,"",null,null,null,null,null,null,null,null,null,null,null,null,null,null,null,null,null,null,null,null,""]
["","",null,"",null,null,null,null,null,null,null,null,null,null,null,null,null,null,null,null,null,null,null,null,""]
["","",null,"",null,null,null,null,null,null,null,null,null,null,null,null,null,null,null,null,null,null,null,null,""]
["","",null,"",null,null,null,null,null,null,null,null,null,null,null,null,null,null,null,null,null,null,null,null,""]
["","",null,"",null,null,null,null,null,null,null,null,null,null,null,null,null,null,null,null,null,null,null,null,""]
["","",null,"",null,null,null,null,null,null,null,null,null,null,null,null,null,null,null,null,null,null,null,null,""]
["","",null,"",null,null,null,null,null,null,null,null,null,null,null,null,null,null,null,null,null,null,null,null,""]
["","",null,"",null,null,null,null,null,null,null,null,null,null,null,null,null,null,null,null,null,null,null,null,""]
["","",null,"",null,null,null,null,null,null,null,null,null,null,null,null,null,null,null,null,null,null,null,null,""]
["","",null,"",null,null,null,null,null,null,null,null,null,null,null,null,null,null,null,null,null,null,null,null,""]
["","",null,"",null,null,null,null,null,null,null,null,null,null,null,null,null,null,null,null,null,null,null,null,""]
["","",null,"",null,null,null,null,null,null,null,null,null,null,null,null,null,null,null,null,null,null,null,null,""]
["","",null,"",null,null,null,null,null,null,null,null,null,null,null,null,null,null,null,null,null,null,null,null,""]
["","",null,"",null,null,null,null,null,null,null,null,null,null,null,null,null,null,null,null,null,null,null,null,""]
["","",null,"",null,null,null,null,null,null,null,null,null,null,null,null,null,null,null,null,null,null,null,null,""]
["","",null,"",null,null,null,null,null,null,null,null,null,null,null,null,null,null,null,null,null,null,null,null,""]
["","",null,"",null,null,null,null,null,null,null,null,null,null,null,null,null,null,null,null,null,null,null,null,""]
["","",null,"",null,null,null,null,null,null,null,null,null,null,null,null,null,null,null,null,null,null,null,null,""]
["","",null,"",null,null,null,null,null,null,null,null,null,null,null,null,null,null,null,null,null,null,null,null,""]
["","",null,"",null,null,null,null,null,null,null,null,null,null,null,null,null,null,null,null,null,null,null,null,""]
["","",null,"",null,null,null,null,null,null,null,null,null,null,null,null,null,null,null,null,null,null,null,null,""]
["","",null,"",null,null,null,null,null,null,null,null,null,null,null,null,null,null,null,null,null,null,null,null,""]
["","",null,"",null,null,null,null,null,null,null,null,null,null,null,null,null,null,null,null,null,null,null,null,""]
["","",null,"",null,null,null,null,null,null,null,null,null,null,null,null,null,null,null,null,null,null,null,null,""]
["","",null,"",null,null,null,null,null,null,null,null,null,null,null,null,null,null,null,null,null,null,null,null,""]
["","",null,"",null,null,null,null,null,null,null,null,null,null,null,null,null,null,null,null,null,null,null,null,""]
["","",null,"",null,null,null,null,null,null,null,null,null,null,null,null,null,null,null,null,null,null,null,null,""]
["","",null,"",null,null,null,null,null,null,null,null,null,null,null,null,null,null,null,null,null,null,null,null,""]
["","",null,"",null,null,null,null,null,null,null,null,null,null,null,null,null,null,null,null,null,null,null,null,""]
["","",null,"",null,null,null,null,null,null,null,null,null,null,null,null,null,null,null,null,null,null,null,null,""]
["","",null,"",null,null,null,null,null,null,null,null,null,null,null,null,null,null,null,null,null,null,null,null,""]
["","",null,"",null,null,null,null,null,null,null,null,null,null,null,null,null,null,null,null,null,null,null,null,""]
["","",null,"",null,null,null,null,null,null,null,null,null,null,null,null,null,null,null,null,null,null,null,null,""]
["","",null,"",null,null,null,null,null,null,null,null,null,null,null,null,null,null,null,null,null,null,null,null,""]
["","",null,"",null,null,null,null,null,null,null,null,null,null,null,null,null,null,null,null,null,null,null,null,""]
["","",null,"",null,null,null,null,null,null,null,null,null,null,null,null,null,null,null,null,null,null,null,null,""]
["","",null,"",null,null,null,null,null,null,null,null,null,null,null,null,null,null,null,null,null,null,null,null,""]
["","",null,"",null,null,null,null,null,null,null,null,null,null,null,null,null,null,null,null,null,null,null,null,""]
["","",null,"",null,null,null,null,null,null,null,null,null,null,null,null,null,null,null,null,null,null,null,null,""]
["","",null,"",null,null,null,null,null,null,null,null,null,null,null,null,null,null,null,null,null,null,null,null,""]
["","",null,"",null,null,null,null,null,null,null,null,null,null,null,null,null,null,null,null,null,null,null,null,""]
["","",null,"",null,null,null,null,null,null,null,null,null,null,null,null,null,null,null,null,null,null,null,null,""]
["","",null,"",null,null,null,null,null,null,null,null,null,null,null,null,null,null,null,null,null,null,null,null,""]
["","",null,"",null,null,null,null,null,null,null,null,null,null,null,null,null,null,null,null,null,null,null,null,""]
["","",null,"",null,null,null,null,null,null,null,null,null,null,null,null,null,null,null,null,null,null,null,null,""]
["","",null,"",null,null,null,null,null,null,null,null,null,null,null,null,null,null,null,null,null,null,null,null,""]
["","",null,"",null,null,null,null,null,null,null,null,null,null,null,null,null,null,null,null,null,null,null,null,""]
["","",null,"",null,null,null,null,null,null,null,null,null,null,null,null,null,null,null,null,null,null,null,null,""]
["","",null,"",null,null,null,null,null,null,null,null,null,null,null,null,null,null,null,null,null,null,null,null,""]
["","",null,"",null,null,null,null,null,null,null,null,null,null,null,null,null,null,null,null,null,null,null,null,""]
["","",null,"",null,null,null,null,null,null,null,null,null,null,null,null,null,null,null,null,null,null,null,null,""]
["","",null,"",null,null,null,null,null,null,null,null,null,null,null,null,null,null,null,null,null,null,null,null,""]
["","",null,"",null,null,null,null,null,null,null,null,null,null,null,null,null,null,null,null,null,null,null,null,""]
["","",null,"",null,null,null,null,null,null,null,null,null,null,null,null,null,null,null,null,null,null,null,null,""]
["","",null,"",null,null,null,null,null,null,null,null,null,null,null,null,null,null,null,null,null,null,null,null,""]
["","",null,"",null,null,null,null,null,null,null,null,null,null,null,null,null,null,null,null,null,null,null,null,""]
["","",null,"",null,null,null,null,null,null,null,null,null,null,null,null,null,null,null,null,null,null,null,null,""]
["","",null,"",null,null,null,null,null,null,null,null,null,null,null,null,null,null,null,null,null,null,null,null,""]
["","",null,"",null,null,null,null,null,null,null,null,null,null,null,null,null,null,null,null,null,null,null,null,""]
["","",null,"",null,null,null,null,null,null,null,null,null,null,null,null,null,null,null,null,null,null,null,null,""]
["","",null,"",null,null,null,null,null,null,null,null,null,null,null,null,null,null,null,null,null,null,null,null,""]
["","",null,"",null,null,null,null,null,null,null,null,null,null,null,null,null,null,null,null,null,null,null,null,""]
["","",null,"",null,null,null,null,null,null,null,null,null,null,null,null,null,null,null,null,null,null,null,null,""]
["","",null,"",null,null,null,null,null,null,null,null,null,null,null,null,null,null,null,null,null,null,null,null,""]
["","",null,"",null,null,null,null,null,null,null,null,null,null,null,null,null,null,null,null,null,null,null,null,""]
["","",null,"",null,null,null,null,null,null,null,null,null,null,null,null,null,null,null,null,null,null,null,null,""]
["","",null,"",null,null,null,null,null,null,null,null,null,null,null,null,null,null,null,null,null,null,null,null,""]
["","",null,"",null,null,null,null,null,null,null,null,null,null,null,null,null,null,null,null,null,null,null,null,""]
["","",null,"",null,null,null,null,null,null,null,null,null,null,null,null,null,null,null,null,null,null,null,null,""]
["","",null,"",null,null,null,null,null,null,null,null,null,null,null,null,null,null,null,null,null,null,null,null,""]
["","",null,"",null,null,null,null,null,null,null,null,null,null,null,null,null,null,null,null,null,null,null,null,""]
["","",null,"",null,null,null,null,null,null,null,null,null,null,null,null,null,null,null,null,null,null,null,null,""]
["","",null,"",null,null,null,null,null,null,null,null,null,null,null,null,null,null,null,null,null,null,null,null,""]
["","",null,"",null,null,null,null,null,null,null,null,null,null,null,null,null,null,null,null,null,null,null,null,""]
["","",null,"",null,null,null,null,null,null,null,null,null,null,null,null,null,null,null,null,null,null,null,null,""]
["","",null,"",null,null,null,null,null,null,null,null,null,null,null,null,null,null,null,null,null,null,null,null,""]
["","",null,"",null,null,null,null,null,null,null,null,null,null,null,null,null,null,null,null,null,null,null,null,""]
["","",null,"",null,null,null,null,null,null,null,null,null,null,null,null,null,null,null,null,null,null,null,null,""]
["","",null,"",null,null,null,null,null,null,null,null,null,null,null,null,null,null,null,null,null,null,null,null,""]
["","",null,"",null,null,null,null,null,null,null,null,null,null,null,null,null,null,null,null,null,null,null,null,""]
["","",null,"",null,null,null,null,null,null,null,null,null,null,null,null,null,null,null,null,null,null,null,null,""]
["","",null,"",null,null,null,null,null,null,null,null,null,null,null,null,null,null,null,null,null,null,null,null,""]
["","",null,"",null,null,null,null,null,null,null,null,null,null,null,null,null,null,null,null,null,null,null,null,""]
["","",null,"",null,null,null,null,null,null,null,null,null,null,null,null,null,null,null,null,null,null,null,null,""]
["","",null,"",null,null,null,null,null,null,null,null,null,null,null,null,null,null,null,null,null,null,null,null,""]
["","",null,"",null,null,null,null,null,null,null,null,null,null,null,null,null,null,null,null,null,null,null,null,""]
["","",null,"",null,null,null,null,null,null,null,null,null,null,null,null,null,null,null,null,null,null,null,null,""]
["","",null,"",null,null,null,null,null,null,null,null,null,null,null,null,null,null,null,null,null,null,null,null,""]
["","",null,"",null,null,null,null,null,null,null,null,null,null,null,null,null,null,null,null,null,null,null,null,""]
["","",null,"",null,null,null,null,null,null,null,null,null,null,null,null,null,null,null,null,null,null,null,null,""]
["","",null,"",null,null,null,null,null,null,null,null,null,null,null,null,null,null,null,null,null,null,null,null,""]
["","",null,"",null,null,null,null,null,null,null,null,null,null,null,null,null,null,null,null,null,null,null,null,""]
["","",null,"",null,null,null,null,null,null,null,null,null,null,null,null,null,null,null,null,null,null,null,null,""]
["","",null,"",null,null,null,null,null,null,null,null,null,null,null,null,null,null,null,null,null,null,null,null,""]
["","",null,"",null,null,null,null,null,null,null,null,null,null,null,null,null,null,null,null,null,null,null,null,""]
["","",null,"",null,null,null,null,null,null,null,null,null,null,null,null,null,null,null,null,null,null,null,null,""]
["","",null,"",null,null,null,null,null,null,null,null,null,null,null,null,null,null,null,null,null,null,null,null,""]
["","",null,"",null,null,null,null,null,null,null,null,null,null,null,null,null,null,null,null,null,null,null,null,""]
["","",null,"",null,null,null,null,null,null,null,null,null,null,null,null,null,null,null,null,null,null,null,null,""]
["","",null,"",null,null,null,null,null,null,null,null,null,null,null,null,null,null,null,null,null,null,null,null,""]
["","",null,"",null,null,null,null,null,null,null,null,null,null,null,null,null,null,null,null,null,null,null,null,""]
["","",null,"",null,null,null,null,null,null,null,null,null,null,null,null,null,null,null,null,null,null,null,null,""]
["","",null,"",null,null,null,null,null,null,null,null,null,null,null,null,null,null,null,null,null,null,null,null,""]
["","",null,"",null,null,null,null,null,null,null,null,null,null,null,null,null,null,null,null,null,null,null,null,""]
["","",null,"",null,null,null,null,null,null,null,null,null,null,null,null,null,null,null,null,null,null,null,null,""]
["","",null,"",null,null,null,null,null,null,null,null,null,null,null,null,null,null,null,null,null,null,null,null,""]
["","",null,"",null,null,null,null,null,null,null,null,null,null,null,null,null,null,null,null,null,null,null,null,""]
["","",null,"",null,null,null,null,null,null,null,null,null,null,null,null,null,null,null,null,null,null,null,null,""]
["","",null,"",null,null,null,null,null,null,null,null,null,null,null,null,null,null,null,null,null,null,null,null,""]
["","",null,"",null,null,null,null,null,null,null,null,null,null,null,null,null,null,null,null,null,null,null,null,""]
["","",null,"",null,null,null,null,null,null,null,null,null,null,null,null,null,null,null,null,null,null,null,null,""]
["","",null,"",null,null,null,null,null,null,null,null,null,null,null,null,null,null,null,null,null,null,null,null,""]
["","",null,"",null,null,null,null,null,null,null,null,null,null,null,null,null,null,null,null,null,null,null,null,""]
["","",null,"",null,null,null,null,null,null,null,null,null,null,null,null,null,null,null,null,null,null,null,null,""]
["","",null,"",null,null,null,null,null,null,null,null,null,null,null,null,null,null,null,null,null,null,null,null,""]
["","",null,"",null,null,null,null,null,null,null,null,null,null,null,null,null,null,null,null,null,null,null,null,""]
["","",null,"",null,null,null,null,null,null,null,null,null,null,null,null,null,null,null,null,null,null,null,null,""]
["","",null,"",null,null,null,null,null,null,null,null,null,null,null,null,null,null,null,null,null,null,null,null,""]
["","",null,"",null,null,null,null,null,null,null,null,null,null,null,null,null,null,null,null,null,null,null,null,""]
["","",null,"",null,null,null,null,null,null,null,null,null,null,null,null,null,null,null,null,null,null,null,null,""]
["","",null,"",null,null,null,null,null,null,null,null,null,null,null,null,null,null,null,null,null,null,null,null,""]
["","",null,"",null,null,null,null,null,null,null,null,null,null,null,null,null,null,null,null,null,null,null,null,""]
["","",null,"",null,null,null,null,null,null,null,null,null,null,null,null,null,null,null,null,null,null,null,null,""]
["","",null,"",null,null,null,null,null,null,null,null,null,null,null,null,null,null,null,null,null,null,null,null,""]
["","",null,"",null,null,null,null,null,null,null,null,null,null,null,null,null,null,null,null,null,null,null,null,""]
["","",null,"",null,null,null,null,null,null,null,null,null,null,null,null,null,null,null,null,null,null,null,null,""]
["","",null,"",null,null,null,null,null,null,null,null,null,null,null,null,null,null,null,null,null,null,null,null,""]
["","",null,"",null,null,null,null,null,null,null,null,null,null,null,null,null,null,null,null,null,null,null,null,""]
["","",null,"",null,null,null,null,null,null,null,null,null,null,null,null,null,null,null,null,null,null,null,null,""]
["","",null,"",null,null,null,null,null,null,null,null,null,null,null,null,null,null,null,null,null,null,null,null,""]
["","",null,"",null,null,null,null,null,null,null,null,null,null,null,null,null,null,null,null,null,null,null,null,""]
["","",null,"",null,null,null,null,null,null,null,null,null,null,null,null,null,null,null,null,null,null,null,null,""]
["","",null,"",null,null,null,null,null,null,null,null,null,null,null,null,null,null,null,null,null,null,null,null,""]
["","",null,"",null,null,null,null,null,null,null,null,null,null,null,null,null,null,null,null,null,null,null,null,""]
["","",null,"",null,null,null,null,null,null,null,null,null,null,null,null,null,null,null,null,null,null,null,null,""]
["","",null,"",null,null,null,null,null,null,null,null,null,null,null,null,null,null,null,null,null,null,null,null,""]
["","",null,"",null,null,null,null,null,null,null,null,null,null,null,null,null,null,null,null,null,null,null,null,""]
["","",null,"",null,null,null,null,null,null,null,null,null,null,null,null,null,null,null,null,null,null,null,null,""]
["","",null,"",null,null,null,null,null,null,null,null,null,null,null,null,null,null,null,null,null,null,null,null,""]
["","",null,"",null,null,null,null,null,null,null,null,null,null,null,null,null,null,null,null,null,null,null,null,""]
["","",null,"",null,null,null,null,null,null,null,null,null,null,null,null,null,null,null,null,null,null,null,null,""]
["","",null,"",null,null,null,null,null,null,null,null,null,null,null,null,null,null,null,null,null,null,null,null,""]
["","",null,"",null,null,null,null,null,null,null,null,null,null,null,null,null,null,null,null,null,null,null,null,""]
["","",null,"",null,null,null,null,null,null,null,null,null,null,null,null,null,null,null,null,null,null,null,null,""]
["","",null,"",null,null,null,null,null,null,null,null,null,null,null,null,null,null,null,null,null,null,null,null,""]
["","",null,"",null,null,null,null,null,null,null,null,null,null,null,null,null,null,null,null,null,null,null,null,""]
["","",null,"",null,null,null,null,null,null,null,null,null,null,null,null,null,null,null,null,null,null,null,null,""]
["","",null,"",null,null,null,null,null,null,null,null,null,null,null,null,null,null,null,null,null,null,null,null,""]
["","",null,"",null,null,null,null,null,null,null,null,null,null,null,null,null,null,null,null,null,null,null,null,""]
["","",null,"",null,null,null,null,null,null,null,null,null,null,null,null,null,null,null,null,null,null,null,null,""]
["","",null,"",null,null,null,null,null,null,null,null,null,null,null,null,null,null,null,null,null,null,null,null,""]
["","",null,"",null,null,null,null,null,null,null,null,null,null,null,null,null,null,null,null,null,null,null,null,""]
["","",null,"",null,null,null,null,null,null,null,null,null,null,null,null,null,null,null,null,null,null,null,null,""]
["","",null,"",null,null,null,null,null,null,null,null,null,null,null,null,null,null,null,null,null,null,null,null,""]
["","",null,"",null,null,null,null,null,null,null,null,null,null,null,null,null,null,null,null,null,null,null,null,""]
["","",null,"",null,null,null,null,null,null,null,null,null,null,null,null,null,null,null,null,null,null,null,null,""]
["","",null,"",null,null,null,null,null,null,null,null,null,null,null,null,null,null,null,null,null,null,null,null,""]
["","",null,"",null,null,null,null,null,null,null,null,null,null,null,null,null,null,null,null,null,null,null,null,""]
["","",null,"",null,null,null,null,null,null,null,null,null,null,null,null,null,null,null,null,null,null,null,null,""]
["","",null,"",null,null,null,null,null,null,null,null,null,null,null,null,null,null,null,null,null,null,null,null,""]
["","",null,"",null,null,null,null,null,null,null,null,null,null,null,null,null,null,null,null,null,null,null,null,""]
["","",null,"",null,null,null,null,null,null,null,null,null,null,null,null,null,null,null,null,null,null,null,null,""]
["","",null,"",null,null,null,null,null,null,null,null,null,null,null,null,null,null,null,null,null,null,null,null,""]
["","",null,"",null,null,null,null,null,null,null,null,null,null,null,null,null,null,null,null,null,null,null,null,""]
["","",null,"",null,null,null,null,null,null,null,null,null,null,null,null,null,null,null,null,null,null,null,null,""]
["","",null,"",null,null,null,null,null,null,null,null,null,null,null,null,null,null,null,null,null,null,null,null,""]
["","",null,"",null,null,null,null,null,null,null,null,null,null,null,null,null,null,null,null,null,null,null,null,""]
["","",null,"",null,null,null,null,null,null,null,null,null,null,null,null,null,null,null,null,null,null,null,null,""]
["","",null,"",null,null,null,null,null,null,null,null,null,null,null,null,null,null,null,null,null,null,null,null,""]
["","",null,"",null,null,null,null,null,null,null,null,null,null,null,null,null,null,null,null,null,null,null,null,""]
["","",null,"",null,null,null,null,null,null,null,null,null,null,null,null,null,null,null,null,null,null,null,null,""]
["","",null,"",null,null,null,null,null,null,null,null,null,null,null,null,null,null,null,null,null,null,null,null,""]
["","",null,"",null,null,null,null,null,null,null,null,null,null,null,null,null,null,null,null,null,null,null,null,""]
["","",null,"",null,null,null,null,null,null,null,null,null,null,null,null,null,null,null,null,null,null,null,null,""]
["","",null,"",null,null,null,null,null,null,null,null,null,null,null,null,null,null,null,null,null,null,null,null,""]
["","",null,"",null,null,null,null,null,null,null,null,null,null,null,null,null,null,null,null,null,null,null,null,""]
["","",null,"",null,null,null,null,null,null,null,null,null,null,null,null,null,null,null,null,null,null,null,null,""]
["","",null,"",null,null,null,null,null,null,null,null,null,null,null,null,null,null,null,null,null,null,null,null,""]
["","",null,"",null,null,null,null,null,null,null,null,null,null,null,null,null,null,null,null,null,null,null,null,""]
["","",null,"",null,null,null,null,null,null,null,null,null,null,null,null,null,null,null,null,null,null,null,null,""]
["","",null,"",null,null,null,null,null,null,null,null,null,null,null,null,null,null,null,null,null,null,null,null,""]
["","",null,"",null,null,null,null,null,null,null,null,null,null,null,null,null,null,null,null,null,null,null,null,""]
["","",null,"",null,null,null,null,null,null,null,null,null,null,null,null,null,null,null,null,null,null,null,null,""]
["","",null,"",null,null,null,null,null,null,null,null,null,null,null,null,null,null,null,null,null,null,null,null,""]
["","",null,"",null,null,null,null,null,null,null,null,null,null,null,null,null,null,null,null,null,null,null,null,""]
["","",null,"",null,null,null,null,null,null,null,null,null,null,null,null,null,null,null,null,null,null,null,null,""]
["","",null,"",null,null,null,null,null,null,null,null,null,null,null,null,null,null,null,null,null,null,null,null,""]
["","",null,"",null,null,null,null,null,null,null,null,null,null,null,null,null,null,null,null,null,null,null,null,""]
["","",null,"",null,null,null,null,null,null,null,null,null,null,null,null,null,null,null,null,null,null,null,null,""]
["","",null,"",null,null,null,null,null,null,null,null,null,null,null,null,null,null,null,null,null,null,null,null,""]
["","",null,"",null,null,null,null,null,null,null,null,null,null,null,null,null,null,null,null,null,null,null,null,""]
["","",null,"",null,null,null,null,null,null,null,null,null,null,null,null,null,null,null,null,null,null,null,null,""]
["","",null,"",null,null,null,null,null,null,null,null,null,null,null,null,null,null,null,null,null,null,null,null,""]
["","",null,"",null,null,null,null,null,null,null,null,null,null,null,null,null,null,null,null,null,null,null,null,""]
["","",null,"",null,null,null,null,null,null,null,null,null,null,null,null,null,null,null,null,null,null,null,null,""]
["","",null,"",null,null,null,null,null,null,null,null,null,null,null,null,null,null,null,null,null,null,null,null,""]
["","",null,"",null,null,null,null,null,null,null,null,null,null,null,null,null,null,null,null,null,null,null,null,""]
["","",null,"",null,null,null,null,null,null,null,null,null,null,null,null,null,null,null,null,null,null,null,null,""]
["","",null,"",null,null,null,null,null,null,null,null,null,null,null,null,null,null,null,null,null,null,null,null,""]
["","",null,"",null,null,null,null,null,null,null,null,null,null,null,null,null,null,null,null,null,null,null,null,""]
["","",null,"",null,null,null,null,null,null,null,null,null,null,null,null,null,null,null,null,null,null,null,null,""]
["","",null,"",null,null,null,null,null,null,null,null,null,null,null,null,null,null,null,null,null,null,null,null,""]
["","",null,"",null,null,null,null,null,null,null,null,null,null,null,null,null,null,null,null,null,null,null,null,""]
["","",null,"",null,null,null,null,null,null,null,null,null,null,null,null,null,null,null,null,null,null,null,null,""]
["","",null,"",null,null,null,null,null,null,null,null,null,null,null,null,null,null,null,null,null,null,null,null,""]
["","",null,"",null,null,null,null,null,null,null,null,null,null,null,null,null,null,null,null,null,null,null,null,""]
["","",null,"",null,null,null,null,null,null,null,null,null,null,null,null,null,null,null,null,null,null,null,null,""]
["","",null,"",null,null,null,null,null,null,null,null,null,null,null,null,null,null,null,null,null,null,null,null,""]
["","",null,"",null,null,null,null,null,null,null,null,null,null,null,null,null,null,null,null,null,null,null,null,""]
["","",null,"",null,null,null,null,null,null,null,null,null,null,null,null,null,null,null,null,null,null,null,null,""]
["","",null,"",null,null,null,null,null,null,null,null,null,null,null,null,null,null,null,null,null,null,null,null,""]
["","",null,"",null,null,null,null,null,null,null,null,null,null,null,null,null,null,null,null,null,null,null,null,""]
["","",null,"",null,null,null,null,null,null,null,null,null,null,null,null,null,null,null,null,null,null,null,null,""]
["","",null,"",null,null,null,null,null,null,null,null,null,null,null,null,null,null,null,null,null,null,null,null,""]
["","",null,"",null,null,null,null,null,null,null,null,null,null,null,null,null,null,null,null,null,null,null,null,""]
["","",null,"",null,null,null,null,null,null,null,null,null,null,null,null,null,null,null,null,null,null,null,null,""]
["","",null,"",null,null,null,null,null,null,null,null,null,null,null,null,null,null,null,null,null,null,null,null,""]
["","",null,"",null,null,null,null,null,null,null,null,null,null,null,null,null,null,null,null,null,null,null,null,""]
["","",null,"",null,null,null,null,null,null,null,null,null,null,null,null,null,null,null,null,null,null,null,null,""]
["","",null,"",null,null,null,null,null,null,null,null,null,null,null,null,null,null,null,null,null,null,null,null,""]
["","",null,"",null,null,null,null,null,null,null,null,null,null,null,null,null,null,null,null,null,null,null,null,""]
["","",null,"",null,null,null,null,null,null,null,null,null,null,null,null,null,null,null,null,null,null,null,null,""]
["","",null,"",null,null,null,null,null,null,null,null,null,null,null,null,null,null,null,null,null,null,null,null,""]
["","",null,"",null,null,null,null,null,null,null,null,null,null,null,null,null,null,null,null,null,null,null,null,""]
["","",null,"",null,null,null,null,null,null,null,null,null,null,null,null,null,null,null,null,null,null,null,null,""]
["","",null,"",null,null,null,null,null,null,null,null,null,null,null,null,null,null,null,null,null,null,null,null,""]
["","",null,"",null,null,null,null,null,null,null,null,null,null,null,null,null,null,null,null,null,null,null,null,""]
["","",null,"",null,null,null,null,null,null,null,null,null,null,null,null,null,null,null,null,null,null,null,null,""]
["","",null,"",null,null,null,null,null,null,null,null,null,null,null,null,null,null,null,null,null,null,null,null,""]
["","",null,"",null,null,null,null,null,null,null,null,null,null,null,null,null,null,null,null,null,null,null,null,""]
["","",null,"",null,null,null,null,null,null,null,null,null,null,null,null,null,null,null,null,null,null,null,null,""]
["","",null,"",null,null,null,null,null,null,null,null,null,null,null,null,null,null,null,null,null,null,null,null,""]
["","",null,"",null,null,null,null,null,null,null,null,null,null,null,null,null,null,null,null,null,null,null,null,""]
["","",null,"",null,null,null,null,null,null,null,null,null,null,null,null,null,null,null,null,null,null,null,null,""]
["","",null,"",null,null,null,null,null,null,null,null,null,null,null,null,null,null,null,null,null,null,null,null,""]
["","",null,"",null,null,null,null,null,null,null,null,null,null,null,null,null,null,null,null,null,null,null,null,""]
["","",null,"",null,null,null,null,null,null,null,null,null,null,null,null,null,null,null,null,null,null,null,null,""]
["","",null,"",null,null,null,null,null,null,null,null,null,null,null,null,null,null,null,null,null,null,null,null,""]
["","",null,"",null,null,null,null,null,null,null,null,null,null,null,null,null,null,null,null,null,null,null,null,""]
["","",null,"",null,null,null,null,null,null,null,null,null,null,null,null,null,null,null,null,null,null,null,null,""]
["","",null,"",null,null,null,null,null,null,null,null,null,null,null,null,null,null,null,null,null,null,null,null,""]
["","",null,"",null,null,null,null,null,null,null,null,null,null,null,null,null,null,null,null,null,null,null,null,""]
["","",null,"",null,null,null,null,null,null,null,null,null,null,null,null,null,null,null,null,null,null,null,null,""]
["","",null,"",null,null,null,null,null,null,null,null,null,null,null,null,null,null,null,null,null,null,null,null,""]
["","",null,"",null,null,null,null,null,null,null,null,null,null,null,null,null,null,null,null,null,null,null,null,""]
["","",null,"",null,null,null,null,null,null,null,null,null,null,null,null,null,null,null,null,null,null,null,null,""]
["","",null,"",null,null,null,null,null,null,null,null,null,null,null,null,null,null,null,null,null,null,null,null,""]
["","",null,"",null,null,null,null,null,null,null,null,null,null,null,null,null,null,null,null,null,null,null,null,""]
["","",null,"",null,null,null,null,null,null,null,null,null,null,null,null,null,null,null,null,null,null,null,null,""]
["","",null,"",null,null,null,null,null,null,null,null,null,null,null,null,null,null,null,null,null,null,null,null,""]
["","",null,"",null,null,null,null,null,null,null,null,null,null,null,null,null,null,null,null,null,null,null,null,""]
["","",null,"",null,null,null,null,null,null,null,null,null,null,null,null,null,null,null,null,null,null,null,null,""]
["","",null,"",null,null,null,null,null,null,null,null,null,null,null,null,null,null,null,null,null,null,null,null,""]
["","",null,"",null,null,null,null,null,null,null,null,null,null,null,null,null,null,null,null,null,null,null,null,""]
["","",null,"",null,null,null,null,null,null,null,null,null,null,null,null,null,null,null,null,null,null,null,null,""]
["","",null,"",null,null,null,null,null,null,null,null,null,null,null,null,null,null,null,null,null,null,null,null,""]
["","",null,"",null,null,null,null,null,null,null,null,null,null,null,null,null,null,null,null,null,null,null,null,""]
["","",null,"",null,null,null,null,null,null,null,null,null,null,null,null,null,null,null,null,null,null,null,null,""]
["","",null,"",null,null,null,null,null,null,null,null,null,null,null,null,null,null,null,null,null,null,null,null,""]
["","",null,"",null,null,null,null,null,null,null,null,null,null,null,null,null,null,null,null,null,null,null,null,""]
["","",null,"",null,null,null,null,null,null,null,null,null,null,null,null,null,null,null,null,null,null,null,null,""]
["","",null,"",null,null,null,null,null,null,null,null,null,null,null,null,null,null,null,null,null,null,null,null,""]
["","",null,"",null,null,null,null,null,null,null,null,null,null,null,null,null,null,null,null,null,null,null,null,""]
["","",null,"",null,null,null,null,null,null,null,null,null,null,null,null,null,null,null,null,null,null,null,null,""]
["","",null,"",null,null,null,null,null,null,null,null,null,null,null,null,null,null,null,null,null,null,null,null,""]
["","",null,"",null,null,null,null,null,null,null,null,null,null,null,null,null,null,null,null,null,null,null,null,""]
["","",null,"",null,null,null,null,null,null,null,null,null,null,null,null,null,null,null,null,null,null,null,null,""]
["","",null,"",null,null,null,null,null,null,null,null,null,null,null,null,null,null,null,null,null,null,null,null,""]
["","",null,"",null,null,null,null,null,null,null,null,null,null,null,null,null,null,null,null,null,null,null,null,""]
["","",null,"",null,null,null,null,null,null,null,null,null,null,null,null,null,null,null,null,null,null,null,null,""]
["","",null,"",null,null,null,null,null,null,null,null,null,null,null,null,null,null,null,null,null,null,null,null,""]
["","",null,"",null,null,null,null,null,null,null,null,null,null,null,null,null,null,null,null,null,null,null,null,""]
["","",null,"",null,null,null,null,null,null,null,null,null,null,null,null,null,null,null,null,null,null,null,null,""]
["","",null,"",null,null,null,null,null,null,null,null,null,null,null,null,null,null,null,null,null,null,null,null,""]
["","",null,"",null,null,null,null,null,null,null,null,null,null,null,null,null,null,null,null,null,null,null,null,""]
["","",null,"",null,null,null,null,null,null,null,null,null,null,null,null,null,null,null,null,null,null,null,null,""]
["","",null,"",null,null,null,null,null,null,null,null,null,null,null,null,null,null,null,null,null,null,null,null,""]
["","",null,"",null,null,null,null,null,null,null,null,null,null,null,null,null,null,null,null,null,null,null,null,""]
["","",null,"",null,null,null,null,null,null,null,null,null,null,null,null,null,null,null,null,null,null,null,null,""]
["","",null,"",null,null,null,null,null,null,null,null,null,null,null,null,null,null,null,null,null,null,null,null,""]
["","",null,"",null,null,null,null,null,null,null,null,null,null,null,null,null,null,null,null,null,null,null,null,""]
["","",null,"",null,null,null,null,null,null,null,null,null,null,null,null,null,null,null,null,null,null,null,null,""]
["","",null,"",null,null,null,null,null,null,null,null,null,null,null,null,null,null,null,null,null,null,null,null,""]
["","",null,"",null,null,null,null,null,null,null,null,null,null,null,null,null,null,null,null,null,null,null,null,""]
["","",null,"",null,null,null,null,null,null,null,null,null,null,null,null,null,null,null,null,null,null,null,null,""]
["","",null,"",null,null,null,null,null,null,null,null,null,null,null,null,null,null,null,null,null,null,null,null,""]
["","",null,"",null,null,null,null,null,null,null,null,null,null,null,null,null,null,null,null,null,null,null,null,""]
["","",null,"",null,null,null,null,null,null,null,null,null,null,null,null,null,null,null,null,null,null,null,null,""]
["","",null,"",null,null,null,null,null,null,null,null,null,null,null,null,null,null,null,null,null,null,null,null,""]
["","",null,"",null,null,null,null,null,null,null,null,null,null,null,null,null,null,null,null,null,null,null,null,""]
["","",null,"",null,null,null,null,null,null,null,null,null,null,null,null,null,null,null,null,null,null,null,null,""]
["","",null,"",null,null,null,null,null,null,null,null,null,null,null,null,null,null,null,null,null,null,null,null,""]
["","",null,"",null,null,null,null,null,null,null,null,null,null,null,null,null,null,null,null,null,null,null,null,""]
["","",null,"",null,null,null,null,null,null,null,null,null,null,null,null,null,null,null,null,null,null,null,null,""]
["","",null,"",null,null,null,null,null,null,null,null,null,null,null,null,null,null,null,null,null,null,null,null,""]
["","",null,"",null,null,null,null,null,null,null,null,null,null,null,null,null,null,null,null,null,null,null,null,""]
["","",null,"",null,null,null,null,null,null,null,null,null,null,null,null,null,null,null,null,null,null,null,null,""]
["","",null,"",null,null,null,null,null,null,null,null,null,null,null,null,null,null,null,null,null,null,null,null,""]
["","",null,"",null,null,null,null,null,null,null,null,null,null,null,null,null,null,null,null,null,null,null,null,""]
["","",null,"",null,null,null,null,null,null,null,null,null,null,null,null,null,null,null,null,null,null,null,null,""]
["","",null,"",null,null,null,null,null,null,null,null,null,null,null,null,null,null,null,null,null,null,null,null,""]
["","",null,"",null,null,null,null,null,null,null,null,null,null,null,null,null,null,null,null,null,null,null,null,""]
["","",null,"",null,null,null,null,null,null,null,null,null,null,null,null,null,null,null,null,null,null,null,null,""]
["","",null,"",null,null,null,null,null,null,null,null,null,null,null,null,null,null,null,null,null,null,null,null,""]
["","",null,"",null,null,null,null,null,null,null,null,null,null,null,null,null,null,null,null,null,null,null,null,""]
["","",null,"",null,null,null,null,null,null,null,null,null,null,null,null,null,null,null,null,null,null,null,null,""]
["","",null,"",null,null,null,null,null,null,null,null,null,null,null,null,null,null,null,null,null,null,null,null,""]
["","",null,"",null,null,null,null,null,null,null,null,null,null,null,null,null,null,null,null,null,null,null,null,""]
["","",null,"",null,null,null,null,null,null,null,null,null,null,null,null,null,null,null,null,null,null,null,null,""]
["","",null,"",null,null,null,null,null,null,null,null,null,null,null,null,null,null,null,null,null,null,null,null,""]
["","",null,"",null,null,null,null,null,null,null,null,null,null,null,null,null,null,null,null,null,null,null,null,""]
["","",null,"",null,null,null,null,null,null,null,null,null,null,null,null,null,null,null,null,null,null,null,null,""]
["","",null,"",null,null,null,null,null,null,null,null,null,null,null,null,null,null,null,null,null,null,null,null,""]
["","",null,"",null,null,null,null,null,null,null,null,null,null,null,null,null,null,null,null,null,null,null,null,""]
["","",null,"",null,null,null,null,null,null,null,null,null,null,null,null,null,null,null,null,null,null,null,null,""]
["","",null,"",null,null,null,null,null,null,null,null,null,null,null,null,null,null,null,null,null,null,null,null,""]
["","",null,"",null,null,null,null,null,null,null,null,null,null,null,null,null,null,null,null,null,null,null,null,""]
["","",null,"",null,null,null,null,null,null,null,null,null,null,null,null,null,null,null,null,null,null,null,null,""]
["","",null,"",null,null,null,null,null,null,null,null,null,null,null,null,null,null,null,null,null,null,null,null,""]
["","",null,"",null,null,null,null,null,null,null,null,null,null,null,null,null,null,null,null,null,null,null,null,""]
["","",null,"",null,null,null,null,null,null,null,null,null,null,null,null,null,null,null,null,null,null,null,null,""]
["","",null,"",null,null,null,null,null,null,null,null,null,null,null,null,null,null,null,null,null,null,null,null,""]
["","",null,"",null,null,null,null,null,null,null,null,null,null,null,null,null,null,null,null,null,null,null,null,""]
["","",null,"",null,null,null,null,null,null,null,null,null,null,null,null,null,null,null,null,null,null,null,null,""]
["","",null,"",null,null,null,null,null,null,null,null,null,null,null,null,null,null,null,null,null,null,null,null,""]
["","",null,"",null,null,null,null,null,null,null,null,null,null,null,null,null,null,null,null,null,null,null,null,""]
["","",null,"",null,null,null,null,null,null,null,null,null,null,null,null,null,null,null,null,null,null,null,null,""]
["","",null,"",null,null,null,null,null,null,null,null,null,null,null,null,null,null,null,null,null,null,null,null,""]
["","",null,"",null,null,null,null,null,null,null,null,null,null,null,null,null,null,null,null,null,null,null,null,""]
["","",null,"",null,null,null,null,null,null,null,null,null,null,null,null,null,null,null,null,null,null,null,null,""]
["","",null,"",null,null,null,null,null,null,null,null,null,null,null,null,null,null,null,null,null,null,null,null,""]
["","",null,"",null,null,null,null,null,null,null,null,null,null,null,null,null,null,null,null,null,null,null,null,""]
["","",null,"",null,null,null,null,null,null,null,null,null,null,null,null,null,null,null,null,null,null,null,null,""]
["","",null,"",null,null,null,null,null,null,null,null,null,null,null,null,null,null,null,null,null,null,null,null,""]
["","",null,"",null,null,null,null,null,null,null,null,null,null,null,null,null,null,null,null,null,null,null,null,""]
["","",null,"",null,null,null,null,null,null,null,null,null,null,null,null,null,null,null,null,null,null,null,null,""]
["","",null,"",null,null,null,null,null,null,null,null,null,null,null,null,null,null,null,null,null,null,null,null,""]
["","",null,"",null,null,null,null,null,null,null,null,null,null,null,null,null,null,null,null,null,null,null,null,""]
["","",null,"",null,null,null,null,null,null,null,null,null,null,null,null,null,null,null,null,null,null,null,null,""]
["","",null,"",null,null,null,null,null,null,null,null,null,null,null,null,null,null,null,null,null,null,null,null,""]
["","",null,"",null,null,null,null,null,null,null,null,null,null,null,null,null,null,null,null,null,null,null,null,""]
["","",null,"",null,null,null,null,null,null,null,null,null,null,null,null,null,null,null,null,null,null,null,null,""]
["","",null,"",null,null,null,null,null,null,null,null,null,null,null,null,null,null,null,null,null,null,null,null,""]
["","",null,"",null,null,null,null,null,null,null,null,null,null,null,null,null,null,null,null,null,null,null,null,""]
["","",null,"",null,null,null,null,null,null,null,null,null,null,null,null,null,null,null,null,null,null,null,null,""]
["","",null,"",null,null,null,null,null,null,null,null,null,null,null,null,null,null,null,null,null,null,null,null,""]
["","",null,"",null,null,null,null,null,null,null,null,null,null,null,null,null,null,null,null,null,null,null,null,""]
["","",null,"",null,null,null,null,null,null,null,null,null,null,null,null,null,null,null,null,null,null,null,null,""]
["","",null,"",null,null,null,null,null,null,null,null,null,null,null,null,null,null,null,null,null,null,null,null,""]
["","",null,"",null,null,null,null,null,null,null,null,null,null,null,null,null,null,null,null,null,null,null,null,""]
["","",null,"",null,null,null,null,null,null,null,null,null,null,null,null,null,null,null,null,null,null,null,null,""]
["","",null,"",null,null,null,null,null,null,null,null,null,null,null,null,null,null,null,null,null,null,null,null,""]
["","",null,"",null,null,null,null,null,null,null,null,null,null,null,null,null,null,null,null,null,null,null,null,""]
["","",null,"",null,null,null,null,null,null,null,null,null,null,null,null,null,null,null,null,null,null,null,null,""]
["","",null,"",null,null,null,null,null,null,null,null,null,null,null,null,null,null,null,null,null,null,null,null,""]
["","",null,"",null,null,null,null,null,null,null,null,null,null,null,null,null,null,null,null,null,null,null,null,""]
["","",null,"",null,null,null,null,null,null,null,null,null,null,null,null,null,null,null,null,null,null,null,null,""]
["","",null,"",null,null,null,null,null,null,null,null,null,null,null,null,null,null,null,null,null,null,null,null,""]
["","",null,"",null,null,null,null,null,null,null,null,null,null,null,null,null,null,null,null,null,null,null,null,""]
["","",null,"",null,null,null,null,null,null,null,null,null,null,null,null,null,null,null,null,null,null,null,null,""]
["","",null,"",null,null,null,null,null,null,null,null,null,null,null,null,null,null,null,null,null,null,null,null,""]
["","",null,"",null,null,null,null,null,null,null,null,null,null,null,null,null,null,null,null,null,null,null,null,""]
["","",null,"",null,null,null,null,null,null,null,null,null,null,null,null,null,null,null,null,null,null,null,null,""]
["","",null,"",null,null,null,null,null,null,null,null,null,null,null,null,null,null,null,null,null,null,null,null,""]
["","",null,"",null,null,null,null,null,null,null,null,null,null,null,null,null,null,null,null,null,null,null,null,""]
["","",null,"",null,null,null,null,null,null,null,null,null,null,null,null,null,null,null,null,null,null,null,null,""]
["","",null,"",null,null,null,null,null,null,null,null,null,null,null,null,null,null,null,null,null,null,null,null,""]
["","",null,"",null,null,null,null,null,null,null,null,null,null,null,null,null,null,null,null,null,null,null,null,""]
["","",null,"",null,null,null,null,null,null,null,null,null,null,null,null,null,null,null,null,null,null,null,null,""]
["","",null,"",null,null,null,null,null,null,null,null,null,null,null,null,null,null,null,null,null,null,null,null,""]
["","",null,"",null,null,null,null,null,null,null,null,null,null,null,null,null,null,null,null,null,null,null,null,""]
["","",null,"",null,null,null,null,null,null,null,null,null,null,null,null,null,null,null,null,null,null,null,null,""]
["","",null,"",null,null,null,null,null,null,null,null,null,null,null,null,null,null,null,null,null,null,null,null,""]
["","",null,"",null,null,null,null,null,null,null,null,null,null,null,null,null,null,null,null,null,null,null,null,""]
["","",null,"",null,null,null,null,null,null,null,null,null,null,null,null,null,null,null,null,null,null,null,null,""]
["","",null,"",null,null,null,null,null,null,null,null,null,null,null,null,null,null,null,null,null,null,null,null,""]
["","",null,"",null,null,null,null,null,null,null,null,null,null,null,null,null,null,null,null,null,null,null,null,""]
["","",null,"",null,null,null,null,null,null,null,null,null,null,null,null,null,null,null,null,null,null,null,null,""]
["","",null,"",null,null,null,null,null,null,null,null,null,null,null,null,null,null,null,null,null,null,null,null,""]
["","",null,"",null,null,null,null,null,null,null,null,null,null,null,null,null,null,null,null,null,null,null,null,""]
["","",null,"",null,null,null,null,null,null,null,null,null,null,null,null,null,null,null,null,null,null,null,null,""]
["","",null,"",null,null,null,null,null,null,null,null,null,null,null,null,null,null,null,null,null,null,null,null,""]
["","",null,"",null,null,null,null,null,null,null,null,null,null,null,null,null,null,null,null,null,null,null,null,""]
["","",null,"",null,null,null,null,null,null,null,null,null,null,null,null,null,null,null,null,null,null,null,null,""]
["","",null,"",null,null,null,null,null,null,null,null,null,null,null,null,null,null,null,null,null,null,null,null,""]
["","",null,"",null,null,null,null,null,null,null,null,null,null,null,null,null,null,null,null,null,null,null,null,""]
["","",null,"",null,null,null,null,null,null,null,null,null,null,null,null,null,null,null,null,null,null,null,null,""]
["","",null,"",null,null,null,null,null,null,null,null,null,null,null,null,null,null,null,null,null,null,null,null,""]
["","",null,"",null,null,null,null,null,null,null,null,null,null,null,null,null,null,null,null,null,null,null,null,""]
["","",null,"",null,null,null,null,null,null,null,null,null,null,null,null,null,null,null,null,null,null,null,null,""]
["","",null,"",null,null,null,null,null,null,null,null,null,null,null,null,null,null,null,null,null,null,null,null,""]
["","",null,"",null,null,null,null,null,null,null,null,null,null,null,null,null,null,null,null,null,null,null,null,""]
["","",null,"",null,null,null,null,null,null,null,null,null,null,null,null,null,null,null,null,null,null,null,null,""]
["","",null,"",null,null,null,null,null,null,null,null,null,null,null,null,null,null,null,null,null,null,null,null,""]
["","",null,"",null,null,null,null,null,null,null,null,null,null,null,null,null,null,null,null,null,null,null,null,""]
["","",null,"",null,null,null,null,null,null,null,null,null,null,null,null,null,null,null,null,null,null,null,null,""]
["","",null,"",null,null,null,null,null,null,null,null,null,null,null,null,null,null,null,null,null,null,null,null,""]
["","",null,"",null,null,null,null,null,null,null,null,null,null,null,null,null,null,null,null,null,null,null,null,""]
["","",null,"",null,null,null,null,null,null,null,null,null,null,null,null,null,null,null,null,null,null,null,null,""]
["","",null,"",null,null,null,null,null,null,null,null,null,null,null,null,null,null,null,null,null,null,null,null,""]
["","",null,"",null,null,null,null,null,null,null,null,null,null,null,null,null,null,null,null,null,null,null,null,""]
["","",null,"",null,null,null,null,null,null,null,null,null,null,null,null,null,null,null,null,null,null,null,null,""]
["","",null,"",null,null,null,null,null,null,null,null,null,null,null,null,null,null,null,null,null,null,null,null,""]
["","",null,"",null,null,null,null,null,null,null,null,null,null,null,null,null,null,null,null,null,null,null,null,""]
["","",null,"",null,null,null,null,null,null,null,null,null,null,null,null,null,null,null,null,null,null,null,null,""]
["","",null,"",null,null,null,null,null,null,null,null,null,null,null,null,null,null,null,null,null,null,null,null,""]
["","",null,"",null,null,null,null,null,null,null,null,null,null,null,null,null,null,null,null,null,null,null,null,""]
["","",null,"",null,null,null,null,null,null,null,null,null,null,null,null,null,null,null,null,null,null,null,null,""]
["","",null,"",null,null,null,null,null,null,null,null,null,null,null,null,null,null,null,null,null,null,null,null,""]
["","",null,"",null,null,null,null,null,null,null,null,null,null,null,null,null,null,null,null,null,null,null,null,""]
["","",null,"",null,null,null,null,null,null,null,null,null,null,null,null,null,null,null,null,null,null,null,null,""]
["","",null,"",null,null,null,null,null,null,null,null,null,null,null,null,null,null,null,null,null,null,null,null,""]
["","",null,"",null,null,null,null,null,null,null,null,null,null,null,null,null,null,null,null,null,null,null,null,""]
["","",null,"",null,null,null,null,null,null,null,null,null,null,null,null,null,null,null,null,null,null,null,null,""]
["","",null,"",null,null,null,null,null,null,null,null,null,null,null,null,null,null,null,null,null,null,null,null,""]
["","",null,"",null,null,null,null,null,null,null,null,null,null,null,null,null,null,null,null,null,null,null,null,""]
["","",null,"",null,null,null,null,null,null,null,null,null,null,null,null,null,null,null,null,null,null,null,null,""]
["","",null,"",null,null,null,null,null,null,null,null,null,null,null,null,null,null,null,null,null,null,null,null,""]
["","",null,"",null,null,null,null,null,null,null,null,null,null,null,null,null,null,null,null,null,null,null,null,""]
["","",null,"",null,null,null,null,null,null,null,null,null,null,null,null,null,null,null,null,null,null,null,null,""]
["","",null,"",null,null,null,null,null,null,null,null,null,null,null,null,null,null,null,null,null,null,null,null,""]
["","",null,"",null,null,null,null,null,null,null,null,null,null,null,null,null,null,null,null,null,null,null,null,""]
["","",null,"",null,null,null,null,null,null,null,null,null,null,null,null,null,null,null,null,null,null,null,null,""]
["","",null,"",null,null,null,null,null,null,null,null,null,null,null,null,null,null,null,null,null,null,null,null,""]
["","",null,"",null,null,null,null,null,null,null,null,null,null,null,null,null,null,null,null,null,null,null,null,""]
["","",null,"",null,null,null,null,null,null,null,null,null,null,null,null,null,null,null,null,null,null,null,null,""]
["","",null,"",null,null,null,null,null,null,null,null,null,null,null,null,null,null,null,null,null,null,null,null,""]
["","",null,"",null,null,null,null,null,null,null,null,null,null,null,null,null,null,null,null,null,null,null,null,""]
["","",null,"",null,null,null,null,null,null,null,null,null,null,null,null,null,null,null,null,null,null,null,null,""]
["","",null,"",null,null,null,null,null,null,null,null,null,null,null,null,null,null,null,null,null,null,null,null,""]

{"sheet":"2.Забезпечення","index":1,"n_rows":1088,"n_cols":15,"rows_kept":1088,"cut":false,"hidden":false,"merged":[]}
[null,"Цей документ був підготовлений Фондом гарантування вкладів фізичних осіб (далі – Фонд) виключно для інформаційних цілей і не повинен вважатися як спонукання до будь-яких дій чи бездіяльності. \nІнформація, що міститься в цьому документі, була отримана з/або ґрунтується на джерелах які вважаються надійними, але не є вичерпною та не може сприйматися як повна або актуальна. Рішення покупця щодо будь яких дій або бездіяльності повинно ґрунтуватися на власних оцінках та дослідженнях майна (активу/активів) котре реалізуються. Фонд не несе відповідальності за рішення покупця та його наслідки, що ґрунтується на інформації викладеній в даному документі."]
[]
[]
[]
[]
[]
[]
[]
["Звітна дата",":","2018-06-01"]
["unicid","Colateral_ID","Банк","№ кред. Дог","Тип застави","Кількість застави","(га, м2, шт., тощо)","Область знаходження застави","Населений пункт (місто/село/смт.)","Сума/вартість за договором (грн.екв.)","Реєстрація у держ. Реєстрі (обтяження)\n(так/ні)","Ознака банкрутства/ліквідації заставодавця/фінансового поручителя(відповідно ЄДР на дату заповнення паспорту)"]
["380236_31553711_1","380236_080","Дельта","02/158/07-КЛТ","беззаставний"]
["380236_31553711_2","380236_080","Дельта","02/179/07-КЛТ","беззаставний"]
["380236_2570501675_3","380236_080","Дельта","15/038/08-ZKLN","беззаставний"]
["380236_2570503638_4","380236_6359822570503638","Дельта","11328116000","транспорт",1,"од.","Одеська","Одеса",63598,"ТАК","Інше"]
["380236_2570503638_4","380236_26318872533715334","Дельта","11328116000","фінансова порука",1,"од.","Одеська","Одеса",263187.67719000002,"НІ","Інше"]
["380236_23461005_5","380236_080","Дельта","07/059/06-КЛТ","беззаставний"]
["380236_34383703_6","380236_609235134383703","Дельта","33/КВ-08","нерухомість",451.1,"м.кв.","Донецька","Горлівка",609235,"НІ","Діюче"]
["380236_3151219640_7","380236_29426733151219640","Дельта","11406970000","обладнання",2,"од.","Одеська","Одеса",294267,"ТАК","Інше"]
["380236_3151219640_7","380236_20590072810805211","Дельта","11406970000","фінансова порука",1,"од.","Одеська","Одеса",205900,"НІ","Інше"]
["380236_33110948_8","380236_10100072488013397","Дельта","11399961000","фінансова порука",1,"од.","Чернігівська","Чернігів",101000,"НІ","Інше"]
["380236_2966112741_9","380236_23950032966112741","Дельта","11173398000","обладнання",19,"од.","Кіровоградська",null,239500,"ТАК","Інше"]
["380236_2966112741_9","380236_86766272578120936","Дельта","11173398000","фінансова порука",1,"од.","Кіровоградська","Світловодськ",867661.2958548899,"НІ","Інше"]
["380236_2966112741_10","380236_11700022966112741","Дельта","11187599000","транспорт",1,"од.","Кіровоградська",null,117000,"ТАК","Інше"]
["380236_2966112741_10","380236_60551572578120936","Дельта","11187599000","фінансова порука",1,"од.","Кіровоградська","Світловодськ",605514.60825599998,"НІ","Інше"]
["380236_04541632_11","380236_439307414541632","Дельта","3.3ДС/243/2006-КЛТ  ","нерухомість",3459.9,"м.кв.","Донецька",null,4393074,"ТАК","Банкрутство"]
["380236_04541632_11","380236_109115434541632","Дельта","3.3ДС/243/2006-КЛТ  ","обладнання","згідно переліку наведеному  у Договорі застави","од.","Донецька",null,1091154,"ТАК","Банкрутство"]
["380236_2271005012_12","380236_16800022271005012","Дельта","10938875000","транспорт",1,"од.","Севастополь","Севастополь",168000,"ТАК","Інше"]
["380236_2271005012_13","380236_30450022271005012","Дельта","10938900000","транспорт",1,"од.","Севастополь","Севастополь",304500,"ТАК","Інше"]
["380236_35907006_14","380236_13000073137103946","Дельта","КЮ-О-2011019","фінансова порука",1,"од.","Сумська","Суми",130000,"НІ","Інше"]
["380236_32143995_16","380236_1006568132143995","Дельта","11186006000","нерухомість",8014,"м.кв.","Миколаївська",null,1006568,"ТАК","Діюче"]
["380236_35907006_15","","Дельта","18/2011019-14623"]
["380236_31043568_17","380236_080","Дельта","02/149/07-КЛТ","беззаставний"]
["380236_32663497_18","380236_222971232663497","Дельта","278/КВ-07","транспорт",1,"од.","Київ","Київ",222970.13,"ТАК","В стані припинення (крім банкрутства)"]
["380236_32663497_18","380236_80778072279125374","Дельта","278/КВ-07","фінансова порука",1,"од.",null,null,807779.69601900002,"НІ","Інше"]
["380236_32663497_18","380236_53082972820323914","Дельта","278/КВ-07","фінансова порука",1,"од.","Київ","Київ",530828.8975968,"НІ","Інше"]
["380236_01412845_19","380236_174467201412845","Дельта","11355256000","транспорт",1,"од.","Дніпропетровська","Дніпро (Дніпропетровськ)",174467,"ТАК","Банкрутство"]
["380236_33554188_20","380236_17423433554188","Дельта","3.3ДС/226/2007-КЛТ","товари",59,"шт.","Донецька","Донецьк",17422.5,"ТАК","Діюче"]
["380236_33554188_20","380236_78368342564612885","Дельта","3.3ДС/226/2007-КЛТ","товари",4789,"шт.","Донецька","Донецьк",783682.14,"ТАК","Ліквідовано"]
["380236_37385352_21","380236_4600012663117112","Дельта","02/011/11-КЛТ","нерухомість",0.15310000000000001,"га","Миколаївська",null,46000,"НІ","Інше"]
["380236_37385352_21","380236_4997211821814722","Дельта","02/011/11-КЛТ","нерухомість",0.1,"га","Миколаївська",null,49971.9,"НІ","Інше"]
["380236_37385352_21","380236_1001000437385352","Дельта","02/011/11-КЛТ","товари",115,"т","Миколаївська","Горохівка (Воскресенська)",1001000,"ТАК","Діюче"]
["380236_37385352_21","380236_500000736587200","Дельта","02/011/11-КЛТ","фінансова порука",1,"од.","Миколаївська","Горохівка (Воскресенська)",500000,"НІ","Діюче"]
["380236_37385352_21","380236_50000072663117112","Дельта","02/011/11-КЛТ","фінансова порука",1,"од.","Миколаївська",null,500000,"НІ","Інше"]
["380236_25591321_22","380236_263980225591321","Дельта","45/КВ-07","транспорт",1,"од.","Київ","Київ",263980,"ТАК","Банкрутство"]
["380236_25591321_23","380236_2119250225591321","Дельта","378/КВ-06","транспорт",22,"од.","Київ","Київ",2119249.2999999998,"ТАК","Банкрутство"]
["380236_2703619911_24","380236_8040022703619911","Дельта","11384098000","транспорт",1,"од.","Хмельницька","Самчики",80400,"ТАК","Інше"]
["380236_2703619911_24","380236_6430072755123321","Дельта","11384098000","фінансова порука",1,"од.","Хмельницька","Самчики",64300,"НІ","Інше"]
["380236_2703619911_25","380236_16398612217208808","Дельта","11197813000","нерухомість",52.9,"м.кв.","Хмельницька","Старокостянтинів",163986,"ТАК","Інше"]
["380236_2703619911_25","380236_63510172755123321","Дельта","11197813000","фінансова порука",1,"од.","Хмельницька","Самчики",635100.35309999995,"НІ","Інше"]
["380236_20906719_26","380236_8605000420906719","Дельта","02/107/08-КЛТ","товари",5950,"т","Миколаївська",null,8605000,"ТАК","Діюче"]
["380236_2763223178_27","380236_080","Дельта","11320937000","беззаставний"]
["380236_31792492_28","380236_4278102131792492","Дельта","08/33/07-КЛТ ","нерухомість",9448,"м.кв.","Івано_Франківська","Коломия",4278102,"ТАК","Банкрутство"]
["380236_32475362_29","380236_450327132475362","Дельта","11122813000","нерухомість",805.4,"м.кв.","Вінницька","Копайгород",450326.21,"НІ","Діюче"]
["380236_32475362_29","380236_145232872680612873","Дельта","11122813000","фінансова порука",1,"од.","Вінницька","Зарванці",1452327.855,"НІ","Інше"]
["380236_32475362_29","380236_145232871932405479","Дельта","11122813000","фінансова порука",1,"од.","Вінницька","Копайгород",1452327.855,"НІ","Інше"]
["380236_32475362_29","380236_1452328730453368","Дельта","11122813000","фінансова порука",1,"од.","Вінницька","Вінниця",1452327.855,"НІ","Діюче"]
["380236_32475362_30","380236_379180132475362","Дельта","11145702000","нерухомість",2173.6,"м.кв.","Вінницька","Копайгород",379179.98,"НІ","Діюче"]
["380236_32475362_30","380236_118826972680612873","Дельта","11145702000","фінансова порука",1,"од.","Вінницька","Зарванці",1188268.2450000001,"НІ","Інше"]
["380236_32475362_30","380236_118826971932405479","Дельта","11145702000","фінансова порука",1,"од.","Вінницька","Копайгород",1188268.2450000001,"НІ","Інше"]
["380236_32475362_30","380236_1188269730453368","Дельта","11145702000","фінансова порука",1,"од.","Вінницька","Вінниця",1188268.2450000001,"НІ","Діюче"]
["380236_31325209_31","380236_1190000431325209","Дельта","22/33/08-КЛТ","товари",null,null,"Вінницька","Вінниця",1190000,"ТАК","Банкрутство"]
["380236_31325209_32","380236_4000000431325209","Дельта","22/63/08-КЛТ","товари",null,null,"Вінницька","Вінниця",4000000,"ТАК","Банкрутство"]
["380236_31325209_33","380236_3564139131325209","Дельта","22/82/07-КЛТ","нерухомість",302.8,"м.кв.","Вінницька","Вінниця",3564138.5,"НІ","Банкрутство"]
["380236_31325209_33","380236_439448172740510753","Дельта","22/82/07-КЛТ","фінансова порука",1,"од.","Київ","Київ",4394480.22,"НІ","Інше"]
["380236_31325209_33","380236_4394481732168611","Дельта","22/82/07-КЛТ","фінансова порука",1,"од.","Київ","Київ",4394480.22,"НІ","Діюче"]
["380236_34383703_6","380236_40000072322913036","Дельта","33/КВ-08","фінансова порука",1,"од.","Донецька","Горлівка",400000,"НІ","Інше"]
["380236_34383703_6","380236_40000072337682171","Дельта","33/КВ-08","фінансова порука",1,"од.","Донецька","Горлівка",400000,"НІ","Інше"]
["380236_34383703_6","380236_40000072578619999","Дельта","33/КВ-08","фінансова порука",1,"од.","Донецька","Горлівка",400000,"НІ","Інше"]
["380236_31740926_34","380236_2978528131740926","Дельта","11253511000","нерухомість",0.76500000000000001,"га","Київська",null,2978527.5,"ТАК","Діюче"]
["380236_31740926_34","380236_541343131740926","Дельта","11253511000","нерухомість",713,"м.кв.","Київська",null,541342.15,"ТАК","Діюче"]
["380236_31740926_34","380236_1149976072307816629","Дельта","11253511000","фінансова порука",1,"шт.","Київська",null,11499759.48,"НІ","Інше"]
["380236_31740926_34","380236_1149976072346419730","Дельта","11253511000","фінансова порука",1,"шт.","Київ","Київ",11499759.48,"НІ","Інше"]
["380236_31740926_34","380236_1149976072352418646","Дельта","11253511000","фінансова порука",1,"шт.","Київська",null,11499759.48,"НІ","Інше"]
["380236_33336280_35","380236_080","Дельта","11020848000","беззаставний"]
["380236_2741902742_36","380236_46700072568521956","Дельта","11284520000","фінансова порука",1,"шт.","Чернігівська","Чернігів",467000,"НІ","Інше"]
["380236_2741902742_36","380236_46700072664516818","Дельта","11284520000","фінансова порука",1,"шт.","Чернігівська","Чернігів",467000,"НІ","Інше"]
["380236_13332413_37","380236_2348250113332413","Дельта","11072223000","нерухомість",421.8,"м.кв.","Вінницька","Вінниця",2348250,"НІ","Діюче"]
["380236_13332413_37","380236_977020671913806070","Дельта","11072223000","фінансова порука",1,"шт.","Вінницька","Вінниця",9770205.5700000003,"НІ","Інше"]
["380236_20211130_38","380236_1685890320211130","Дельта","04/09/11-КЛТ","обладнання",3,"од.","Дніпропетровська","Дніпро",1685890,"ТАК","Діюче"]
["380236_20211130_38","380236_193074532073500544","Дельта","04/09/11-КЛТ","обладнання",3,"од.","Дніпропетровська","Дніпро",1930745,"ТАК","Діюче"]
["380236_20211130_38","380236_277193031905915572","Дельта","04/09/11-КЛТ","обладнання",4,"од.","Дніпропетровська","Дніпро",2771930,"ТАК","Діюче"]
["380236_20211130_39","380236_654660011905915572","Дельта","04/14/11-КЛТ","нерухомість",2206.4,"м.кв.","Дніпропетровська","Дніпро",6546600,"НІ","Інше"]
["380236_20211130_39","380236_93940011905915572","Дельта","04/14/11-КЛТ","нерухомість",0.26840000000000003,"га","Дніпропетровська","Дніпро",939400,"НІ","Інше"]
["380236_20211130_39","380236_3002500320211130","Дельта","04/14/11-КЛТ","обладнання",2,"од.","Дніпропетровська","Дніпро",3002500,"ТАК","Діюче"]
["380236_31716783_40","380236_12413275131716783","Дельта","05/09/2008-КЛТ","нерухомість",5223.8,"м.кв.","Дніпропетровська","Верхньодніпровськ",12413275,"ТАК","Банкрутство"]
["380236_31716783_40","380236_6015664331716783","Дельта","05/09/2008-КЛТ","обладнання",401,"од.","Дніпропетровська","Верхньодніпровськ",6015663.9000000004,"ТАК","Банкрутство"]
["380236_31716783_40","380236_220214231716783","Дельта","05/09/2008-КЛТ","транспорт",2,"од.","Дніпропетровська","Верхньодніпровськ",220214,"ТАК","Банкрутство"]
["380236_31716783_40","380236_731264331716783","Дельта","05/09/2008-КЛТ","обладнання",80,"од.","Дніпропетровська","Верхньодніпровськ",731263.09,"ТАК","Банкрутство"]
["380236_20474467_41","380236_1797190120474467","Дельта","11351678000","нерухомість",1119.2,"м.кв.","Запорізька","Бердянськ",1797190,"ТАК","Діюче"]
["380236_20474467_41","380236_5224550723880185","Дельта","11351678000","фінансова порука",1,"шт.","Запорізька","Бердянськ",5224549.8182999995,"НІ","Діюче"]
["380236_20474467_41","380236_522455072015605839","Дельта","11351678000","фінансова порука",1,"шт.","Запорізька","Бердянськ",5224549.8182999995,"НІ","Інше"]
["380236_20474467_41","380236_522455072462103194","Дельта","11351678000","фінансова порука",1,"шт.","Запорізька","Бердянськ",5224549.8182999995,"НІ","Інше"]
["380236_32819389_42","380236_1188199132819389","Дельта","11356273000","нерухомість",89.1,"м.кв.","Миколаївська","Миколаїв",1188199,"ТАК","Діюче"]
["380236_32819389_42","380236_378969472588801479","Дельта","11356273000","фінансова порука",1,"шт.","Миколаївська","Миколаїв",3789693.4649999999,"НІ","Інше"]
["380236_32819389_42","380236_378969472654001665","Дельта","11356273000","фінансова порука",1,"шт.","Миколаївська","Миколаїв",3789693.4649999999,"НІ","Інше"]
["322294_05414930_1","322294_080","Експобанк","МКЛ-06/04","беззаставний",null,null,null,null,null,null,"Діюче"]
["322294_32828901_2","322294_24000000132828901","Експобанк","22/05","нерухомість",null,null,"Донецька","Слов'янськ",24000000,"ТАК","Діюче"]
["322294_32828901_2","322294_2264873332828901","Експобанк","22/05","Обладнання",434,"шт.","Донецька","Слов'янськ",2264872.7799999998,"ТАК","Діюче"]
["322294_32828901_2","322294_1200000072384608820","Експобанк","22/05","фінансова порука",null,null,null,null,12000000]
["322294_2948914139_3","322294_75000022948914139","Експобанк","337/АК-2008","транспорт",3,"шт.","Закарпатська","Ганичі (Ганичівська сільська рада)",750000,"ТАК","Діюче"]
["322294_2948914139_3","322294_3920373735197949","Експобанк","337/АК-2008","фінансова порука",null,null,null,null,3920372.55,null,"Діюче"]
["322294_2948914139_3","322294_392037373080208155","Експобанк","337/АК-2008","фінансова порука",null,null,null,null,3920372.55]
["322294_2948914139_3","322294_392037372983200306","Експобанк","337/АК-2008","фінансова порука",null,null,null,null,3920372.55]
["322294_2910419879_4","322294_575000235197949","Експобанк","10/2007USD","транспорт",5,"шт.","Київ","Київ",575000,"ТАК"]
["322294_2910419879_4","322294_3005619735197949","Експобанк","10/2007USD","фінансова порука",null,null,null,null,3005618.96]
["322294_2910419879_4","322294_3005619735197949","Експобанк","10/2007USD","фінансова порука",null,null,null,null,3005618.96]
["322294_2769202575_5","322294_17118222769202575","Експобанк","348/АК-2008","транспорт",1,"шт.","Київ","Київ",171182,"ТАК","Діюче"]
["322294_2769202575_5","322294_891232735197949","Експобанк","348/АК-2008","фінансова порука",null,null,null,null,891231.36,null,"Діюче"]
["322294_3142613997_6","322294_101281623142613997","Експобанк","9/2008USD","транспорт",2,"шт.","Київ","Київ",1012815.18,"ТАК","Діюче"]
["322294_3142613997_6","322294_101281673142613997","Експобанк","9/2008USD","фінансова порука",null,null,null,null,1012815.18]
["322294_3142613997_6","322294_1012816735197949","Експобанк","9/2008USD","фінансова порука",null,null,null,null,1012815.18,null,"Діюче"]
["322294_3142613997_7","322294_9723523142613997","Експобанк","362/АК-2008","транспорт",1,"шт.","Київ","Київ",97235,"ТАК"]
["322294_3142613997_7","322294_508264735197949","Експобанк","362/АК-2008","фінансова порука",null,null,null,null,508263.23,null,"Діюче"]
["322294_3056001530_8","322294_9538023056001530","Експобанк","237/АК-2007","транспорт",1,"шт.","Хмельницька","Славута",95380,"ТАК","Діюче"]
["322294_3056001530_8","322294_49658173080208155","Експобанк","237/АК-2007","фінансова порука",null,null,null,null,496580.52]
["322294_3056001530_8","322294_49658172882914346","Експобанк","237/АК-2007","фінансова порука",null,null,null,null,496580.52]
["322294_3056001530_8","322294_496581735197949","Експобанк","237/АК-2007","фінансова порука",null,null,null,null,496580.52,null,"Діюче"]
["322294_2520354658_9","322294_230883922520354658","Експобанк","2/2008USD","транспорт",4,"шт.","Київ","Київ",2308838.0699999998,"ТАК"]
["322294_2520354658_9","322294_2308839735197949","Експобанк","2/2008USD","фінансова порука",null,null,null,null,2308838.0699999998,null,"Діюче"]
["322294_2520354658_9","322294_230883973080208155","Експобанк","2/2008USD","фінансова порука",null,null,null,null,2308838.0699999998]
["322294_2520354658_9","322294_230883972520354658","Експобанк","2/2008USD","фінансова порука",null,null,null,null,2308838.0699999998]
["322294_2851805590_10","322294_50156022851805590","Експобанк","4/2008USD","транспорт",1,"шт.","Київ","Київ",501559.4,"ТАК"]
["322294_2851805590_10","322294_1003119735197949","Експобанк","4/2008USD","фінансова порука",null,null,null,null,1003118.79,null,"Діюче"]
["322294_2851805590_10","322294_100311973080208155","Експобанк","4/2008USD","фінансова порука",null,null,null,null,1003118.79]
["322294_2851805590_10","322294_100311972851805590","Експобанк","4/2008USD","фінансова порука",null,null,null,null,1003118.79]
["322294_1972604829_11","322294_178651421972604829","Експобанк","6/2008USD","транспорт",3,"шт.","Київ","Київ",1786513.77,"ТАК","Ліквідовано"]
["322294_1972604829_11","322294_1786514735197949","Експобанк","6/2008USD","фінансова порука",null,null,null,null,1786513.77]
["322294_1972604829_11","322294_178651473080208155","Експобанк","6/2008USD","фінансова порука",null,null,null,null,1786513.77]
["322294_1972604829_11","322294_178651471972604829","Експобанк","6/2008USD","фінансова порука",null,null,null,null,1786513.77]
["322294_2754323735_12","322294_8480000633651634","Експобанк","73/08","майнові права","6 784.00","т",null,null,8480000,"ТАК"]
["322294_2754323735_12","322294_2613581772370218896","Експобанк","73/08","фінансова порука",null,null,null,null,26135817]
["322294_2754323735_12","322294_26135817734443505","Експобанк","73/08","фінансова порука",null,null,null,null,26135817,null,"Діюче"]
["322294_2959710515_13","322294_21292522959710515","Експобанк","144/AK-2007","транспорт",1,"шт.","Київська","Маслівка",212925,"ТАК","Діюче"]
["322294_2959710515_13","322294_1110773735197949","Експобанк","144/AK-2007","фінансова порука",null,null,null,null,1110772.22,null,"Діюче"]
["322294_2959710515_13","322294_111077373080208155","Експобанк","144/AK-2007","фінансова порука",null,null,null,null,1110772.22]
["322294_3017921419_14","322294_40190023017921419","Експобанк","360/АК-2008","транспорт",2,"шт.","Київ","Київ",401900,"ТАК","Діюче"]
["322294_3017921419_14","322294_2100797735197949","Експобанк","360/АК-2008","фінансова порука",null,null,null,null,2100796.9700000002,null,"Діюче"]
["322294_3165522553_15","322294_133292723165522553","Експобанк","36/2008USD","транспорт",2,"шт.","Київ","Київ",1332926.67,"ТАК","Діюче"]
["322294_3165522553_15","322294_1332927735197949","Експобанк","36/2008USD","фінансова порука",null,null,null,null,1332926.67,null,"Діюче"]
["322294_3165522553_15","322294_133292773080208155","Експобанк","36/2008USD","фінансова порука",null,null,null,null,1332926.67]
["322294_3165522553_15","322294_133292773165522553","Експобанк","36/2008USD","фінансова порука",null,null,null,null,1332926.67]
["322294_3165522553_16","322294_199939023165522553","Експобанк","1/2008USD","транспорт",3,"шт.","Київ","Київ",1999390,"ТАК"]
["322294_3165522553_16","322294_1999390735197949","Експобанк","1/2008USD","фінансова порука",null,null,null,null,1999390,null,"Діюче"]
["322294_3165522553_16","322294_199939073080208155","Експобанк","1/2008USD","фінансова порука",null,null,null,null,1999390]
["322294_3165522553_16","322294_199939073165522553","Експобанк","1/2008USD","фінансова порука",null,null,null,null,1999390,null,"Діюче"]
["322294_2652902233_17","322294_63776722652902233","Експобанк","8/2008USD","транспорт",1,"шт.","Київська","Сквира",637766.21,"ТАК"]
["322294_2652902233_17","322294_637767735197949","Експобанк","8/2008USD","фінансова порука",null,null,null,null,637766.21,null,"Діюче"]
["322294_2652902233_17","322294_63776772652902233","Експобанк","8/2008USD","фінансова порука",null,null,null,null,637766.21]
["322294_2749703563_18","322294_18072022749703563","Експобанк","309/AK-2008","транспорт",1,"шт.","Київська","Турівка",180720,"ТАК","Діюче"]
["322294_2749703563_18","322294_940890735197949","Експобанк","309/AK-2008","фінансова порука",null,null,null,null,940889.41,null,"Діюче"]
["322294_2749703563_18","322294_94089073080208155","Експобанк","309/AK-2008","фінансова порука",null,null,null,null,940889.41]
["322294_2630510319_19","322294_285528622630510319","Експобанк","3/2008USD","транспорт",5,"шт.","Київська","Сквира",2855285.74,"ТАК","Діюче"]
["322294_2630510319_19","322294_2855286735197949","Експобанк","3/2008USD","фінансова порука",null,null,null,null,2855285.74,null,"Діюче"]
["322294_2630510319_19","322294_285528673080208155","Експобанк","3/2008USD","фінансова порука",null,null,null,null,2855285.74]
["322294_2630510319_19","322294_285528672630510319","Експобанк","3/2008USD","фінансова порука",null,null,null,null,2855285.74,null,"Діюче"]
["322294_34443505_20","322294_080","Експобанк","17/10-ОВ","беззаставний"]
["322294_32957211_21","322294_43600012304204606","Експобанк",26,"нерухомість",0.15040000000000001,"га","Київська","Горбовичі",436000,"ТАК"]
["322294_32957211_21","322294_59807213176117021","Експобанк",26,"нерухомість",0.14929999999999999,"га","Київська","Горбовичі",598072,"ТАК"]
["322294_32957211_21","322294_43000011348002224","Експобанк",26,"нерухомість",0.1482,"га","Київська","Горбовичі",430000,"ТАК"]
["322294_32957211_21","322294_148400012373910472","Експобанк",26,"нерухомість",265.5,"м2","Київ","Київ",1484000,"ТАК"]
["322294_32957211_21","322294_768971332373910472","Експобанк",26,"обладнання",42,"од.","Київ","Київ",7689713,"ТАК"]
["322294_32385871_22","322294_1968872012373910472","Експобанк",54,"нерухомість",3.2557,"га","Київська","Горбовичі",19688720,"ТАК"]
["322294_32385871_22","322294_2010000072373910472","Експобанк",54,"фінансова порука",null,null,null,null,20100000]
["322294_2373910472_23","322294_748660012373910472","Експобанк","33","нерухомість",16.165600000000001,"га","Київська",null,7486600,"ТАК"]
["322294_2373910472_23","322294_1338400012373910472","Експобанк","33","нерухомість",28.612500000000001,"га","Київська",null,13384000,"ТАК"]
["322294_2373910472_23","322294_692800012373910472","Експобанк","33","нерухомість","724,40","м2","Київ","Київ",6928000,"ТАК"]
["322294_2373910472_23","322294_2210000072501402563","Експобанк","33","фінансова порука",null,null,null,null,22100000]
["380708__1",null,"",""]
["320702_33578062_1","320702_624930333578062","Національний кредит","53/3-08","обладнання",10,"од.","Закарпатська","Нижнє Солотвино (Руськокомарівська сільська рада)",624930,null,"Ліквідовано"]
["320702_33578062_1","320702_17700072537719719","Національний кредит","53/3-08","фінансова порука",null,null,null,null,177000,"ні","Діюче"]
["320702_34718537_2","320702_080","Національний кредит","62-07","беззаставний",null,null,null,null,0]
["320702_34344109_3","320702_080","Національний кредит","16ю/2008/02-382/2-1","беззаставний",null,null,null,null,0]
["320702_37911098_4","320702_400000072662612491","Національний кредит","ID5201196","фінансова порука",null,null,null,null,4000000,"ні","Діюче"]
["320702_33578062_1","320702_624930333578062","Національний кредит","53/3-08","обладнання",10,"од.","Закарпатська","Нижнє Солотвино (Руськокомарівська сільська рада)",624930,null,"Ліквідовано"]
["320702_33578062_1","320702_17700072537719719","Національний кредит","53/3-08","фінансова порука",null,null,null,null,177000,"ні","Діюче"]
["320702_34718537_2","320702_080","Національний кредит","62-07","беззаставний",null,null,null,null,0]
["320702_34344109_3","320702_080","Національний кредит","16ю/2008/02-382/2-1","беззаставний",null,null,null,null,0]
["320702_37911098_4","320702_400000072662612491","Національний кредит","ID5201196","фінансова порука",null,null,null,null,4000000,"ні","Діюче"]
["_32166813_1","32166813","ПАТ \"ВБР\"","MSBKOB4.2686.010","Фінансова порука",0,0,"Донецька","Донецьк",75000,"ні","Діюче","ні","ні","ні"]
["_37095386_3","37095386","ПАТ \"ВБР\"","MSBKOB3.9737.001","Фінансова порука",0,0,"Київ","Київ",475000,"ні","Діюче","ні","ні","ні"]
["_37331878_4","37331878","ПАТ \"ВБР\"","MSBKOB3.199144.002","Фінансова порука",0,0,"Київ","Київ",250000,"ні","Діюче","ні","ні","ні"]
["_37331878_4","37331878","ПАТ \"ВБР\"","MSBKOB3.199144.002","Фінансова порука",0,0,"Київ","Київ",250000,"ні","Діюче","ні","ні","ні"]
["_32727466_5","32727466","ПАТ \"ВБР\"","MKLNU4.517.009","Інші транспортні засоби та спецтехніка",2,"од.","Донецька","Донецьк",1200000,"ТАК","Діюче","ні","ні","ні"]
["_32727466_5","32727466","ПАТ \"ВБР\"","MKLNU4.517.009","Інші транспортні засоби та спецтехніка",1,"од.","Донецька","Донецьк",1800000,"ТАК","Діюче","ні","ні","ні"]
["_32727466_5","32727466","ПАТ \"ВБР\"","MKLNU4.517.009","Фінансова порука",0,0,"Донецька","Донецьк",2100000,"ні","Діюче","ні","ні","ні"]
["_32727466_6","32727466","ПАТ \"ВБР\"","MKLNU4.517.018","Інші транспортні засоби та спецтехніка",3,"од.","Донецька","Донецьк",623800,"ТАК","Діюче","ні","ні","ні"]
["_32727466_6","32727466","ПАТ \"ВБР\"","MKLNU4.517.018","Фінансова порука",0,0,"Донецька","Донецьк",436660,"ні","Діюче","ні","ні","ні"]
["_32727466_7",36935542,"ПАТ \"ВБР\"","MSBKOB1.5819.011","Фінансова порука",0,0,"Донецька","Донецьк",200000,"ні","Діюче","ні","ні","ні"]
["_32727466_7",36935542,"ПАТ \"ВБР\"","MSBKOB1.5819.011","Фінансова порука",0,0,"Донецька","Донецьк",200000,"ні","Діюче","ні","ні","ні"]
["_36935542_7",36935542,"ПАТ \"ВБР\"","MSBKOB1.5819.011","Фінансова порука",0,0,"Донецька","Донецьк",200000,"ні","діюче","ні","ні","ні"]
["380537_2915201630_1","380537_17170522915201630","ВіЕйБі","154/05ф","транспорт",null,null,null,null,171704.99950000001]
["380537_2915201630_1","380537_072350220452","ВіЕйБі","154/05ф","фінансова порука"]
["380537_2394816673_2","380537_11615022230415299","ВіЕйБі","59/05ф","транспорт",null,null,null,null,116150]
["380537_2394816673_2","380537_17725922394816673","ВіЕйБі","59/05ф","транспорт",null,null,null,null,177258.9895]
["380537_2394816673_2","380537_072350220452","ВіЕйБі","59/05ф","фінансова порука"]
["380537_2563511597_3","380537_18013222563511597","ВіЕйБі","96/05ф","транспорт",null,null,null,null,180131.99309999999]
["380537_2563511597_3","380537_072350220452","ВіЕйБі","96/05ф","фінансова порука"]
["380537_2235418578_4","380537_17736622235418578","ВіЕйБі","94/05ф","транспорт",null,null,null,null,177365.9982]
["380537_2235418578_4","380537_072350220452","ВіЕйБі","94/05ф","фінансова порука"]
["380537_1907501987_5","380537_15843821907501987","ВіЕйБі","127/04ф","транспорт",null,null,null,null,158437.82999999999]
["380537_1907501987_5","380537_072454221436","ВіЕйБі","127/04ф","фінансова порука"]
["380537_1907501987_5","380537_072683117180","ВіЕйБі","127/04ф","фінансова порука"]
["380537_1907501987_5","380537_072350220452","ВіЕйБі","127/04ф","фінансова порука"]
["380537_2799416397_6","380537_16315222799416397","ВіЕйБі","97/04ф","транспорт",null,null,null,null,163151.97789000001]
["380537_2528218818_7","380537_11615022528218818","ВіЕйБі","60/05ф","транспорт",null,null,null,null,116150]
["380537_2528218818_7","380537_17775922528218818","ВіЕйБі","60/05ф","транспорт",null,null,null,null,177758.99]
["380537_2528218818_7","380537_072350220452","ВіЕйБі","60/05ф","фінансова порука"]
["380537_2815604274_8","380537_16887022815604274","ВіЕйБі","01/05ф","транспорт",null,null,null,null,168869.975649]
["380537_2815604274_8","380537_072350220452","ВіЕйБі","01/05ф","фінансова порука"]
["380537_2127002193_9","380537_17170622127002193","ВіЕйБі","150/05ф","транспорт",null,null,null,null,171705.05]
["380537_2127002193_9","380537_072350220452","ВіЕйБі","150/05ф","фінансова порука"]
["380537_3003800778_10","380537_21210023003800778","ВіЕйБі","140/05ф","транспорт",null,null,null,null,212100]
["380537_2458406816_11","380537_18013222458406816","ВіЕйБі","90/05ф","транспорт",null,null,null,null,180131.99309999999]
["380537_2458406816_11","380537_072350220452","ВіЕйБі","90/05ф","фінансова порука"]
["380537_2350220452_12","380537_46460022350220452","ВіЕйБі","178/07ф","транспорт",null,null,null,null,464600]
["380537_2588608926_13","380537_11444222588608926","ВіЕйБі","45/06ф","транспорт",null,null,null,null,114441.989]
["380537_2853420118_14","380537_17736622853420118","ВіЕйБі","91/05ф","транспорт",null,null,null,null,177365.9982]
["380537_2853420118_14","380537_072350220452","ВіЕйБі","91/05ф","фінансова порука"]
["380537_3048914979_15","380537_20225123048914979","ВіЕйБі","29/06ф","транспорт",null,null,null,null,202250.98499999999]
["380537_3048914979_15","380537_072350220452","ВіЕйБі","29/06ф","фінансова порука"]
["380537_3048914979_15","380537_072144703477","ВіЕйБі","29/06ф","фінансова порука"]
["380537_1939121633_16","380537_16666121939121633","ВіЕйБі","26/06ф","транспорт",null,null,null,null,166660.1]
["380537_3022714454_17","380537_9595022190312151","ВіЕйБі","24/05ф","транспорт",null,null,null,null,95950]
["380537_3022714454_17","380537_17623423022714454","ВіЕйБі","24/05ф","транспорт",null,null,null,null,176233.01655599999]
["380537_3022714454_17","380537_072350220452","ВіЕйБі","24/05ф","фінансова порука"]
["380537_2425113539_18","380537_11500022375112876","ВіЕйБі","47/05ф","транспорт",null,null,null,null,115000]
["380537_2425113539_18","380537_18520522425113539","ВіЕйБі","47/05ф","транспорт",null,null,null,null,185205]
["380537_2425113539_18","380537_072350220452","ВіЕйБі","47/05ф","фінансова порука"]
["380537_2425113539_18","380537_072778519012","ВіЕйБі","47/05ф","фінансова порука"]
["380537_2822705432_19","380537_17724422822705432","ВіЕйБі","07/05ф","транспорт",null,null,null,null,177243.02544]
["380537_2822705432_19","380537_072350220452","ВіЕйБі","07/05ф","фінансова порука"]
["380537_2822412335_20","380537_17170522822412335","ВіЕйБі","158/05ф","транспорт",null,null,null,null,171704.99950000001]
["380537_2822412335_20","380537_072350220452","ВіЕйБі","158/05ф","фінансова порука"]
["380537_2998808594_21","380537_12118722998808594","ВіЕйБі","52/05ф","транспорт",null,null,null,null,121187]
["380537_2998808594_21","380537_18491022998808594","ВіЕйБі","52/05ф","транспорт",null,null,null,null,184909.02144000001]
["380537_2998808594_21","380537_072350220452","ВіЕйБі","52/05ф","фінансова порука"]
["380537_2529107595_22","380537_17170622529107595","ВіЕйБі","141/05ф","транспорт",null,null,null,null,171705.05]
["380537_2529107595_22","380537_072904913716","ВіЕйБі","141/05ф","фінансова порука"]
["380537_2894322736_23","380537_17170522894322736","ВіЕйБі","155/05ф","транспорт",null,null,null,null,171704.99950000001]
["380537_2573421455_24","380537_16336922573421455","ВіЕйБі","132/04ф","транспорт",null,null,null,null,163368.14087999999]
["380537_2573421455_24","380537_072350220452","ВіЕйБі","132/04ф","фінансова порука"]
["380537_2456615918_25","380537_10601522604501433","ВіЕйБі","34/05ф","транспорт",null,null,null,null,106015]
["380537_2456615918_25","380537_17690622456615918","ВіЕйБі","34/05ф","транспорт",null,null,null,null,176905.98058999999]
["380537_2456615918_25","380537_072350220452","ВіЕйБі","34/05ф","фінансова порука"]
["380537_2930706717_26","380537_16945622930706717","ВіЕйБі","152/04ф","транспорт",null,null,null,null,169456]
["380537_2930706717_26","380537_072350220452","ВіЕйБі","152/04ф","фінансова порука"]
["380537_2900521050_27","380537_16887022900521050","ВіЕйБі","158/04ф","транспорт",null,null,null,null,168870]
["380537_2900521050_27","380537_072350220452","ВіЕйБі","158/04ф","фінансова порука"]
["380537_2856608017_28","380537_7500022369701295","ВіЕйБі","161/06ф","транспорт",null,null,null,null,75000]
["380537_2856608017_28","380537_17983122856608017","ВіЕйБі","161/06ф","транспорт",null,null,null,null,179830.5]
["380537_2856608017_28","380537_072350220452","ВіЕйБі","161/06ф","фінансова порука"]
["380537_2905719371_29","380537_7322522905719371","ВіЕйБі","01/07ф","транспорт",null,null,null,null,73225]
["380537_2905719371_29","380537_17699222905719371","ВіЕйБі","01/07ф","транспорт",null,null,null,null,176991.99600000001]
["380537_2905719371_29","380537_072350220452","ВіЕйБі","01/07ф","фінансова порука"]
["380537_2530201235_30","380537_11615022887110557","ВіЕйБі","71/05ф","транспорт",null,null,null,null,116150]
["380537_2530201235_30","380537_17719122530201235","ВіЕйБі","71/05ф","транспорт",null,null,null,null,177190.00649999999]
["380537_2530201235_30","380537_072350220452","ВіЕйБі","71/05ф","фінансова порука"]
["380537_2793608293_31","380537_16184722793608293","ВіЕйБі","79/04ф","транспорт",null,null,null,null,161846.01032599999]
["380537_2793608293_31","380537_072350220452","ВіЕйБі","79/04ф","фінансова порука"]
["380537_2884304316_32","380537_27118022884304316","ВіЕйБі","94/07ф","транспорт",null,null,null,null,271179.95]
["380537_2884304316_32","380537_11587822884304316","ВіЕйБі","94/07ф","транспорт",null,null,null,null,115877.3]
["380537_2884304316_32","380537_11812022884304316","ВіЕйБі","94/07ф","транспорт",null,null,null,null,118119.5]
["380537_2884304316_32","380537_072017402139","ВіЕйБі","94/07ф","фінансова порука"]
["380537_3037012119_33","380537_10100022037610312","ВіЕйБі","102/06ф","транспорт",null,null,null,null,101000]
["380537_3037012119_33","380537_18018623037012119","ВіЕйБі","102/06ф","транспорт",null,null,null,null,180185.01]
["380537_3037012119_33","380537_072350220452","ВіЕйБі","102/06ф","фінансова порука"]
["380537_2852216052_34","380537_22220222852216052","ВіЕйБі","121/05ф","транспорт",null,null,null,null,222201.01]
["380537_2852216052_34","380537_072350220452","ВіЕйБі","121/05ф","фінансова порука"]
["380537_2036615437_35","380537_7575022036615437","ВіЕйБі","220/06ф","транспорт",null,null,null,null,75750]
["380537_2036615437_35","380537_18149722036615437","ВіЕйБі","220/06ф","транспорт",null,null,null,null,181497]
["380537_2036615437_35","380537_072350220452","ВіЕйБі","220/06ф","фінансова порука"]
["380537_2756316557_36","380537_22223622756316557","ВіЕйБі","143/05ф","транспорт",null,null,null,null,222235.35]
["380537_2998700891_37","380537_10561622613916378","ВіЕйБі","32/05ф","транспорт",null,null,null,null,105616]
["380537_2998700891_37","380537_17702322998700891","ВіЕйБі","32/05ф","транспорт",null,null,null,null,177022.00899500001]
["380537_2998700891_37","380537_072350220452","ВіЕйБі","32/05ф","фінансова порука"]
["380537_1986119158_38","380537_17724421986119158","ВіЕйБі","08/05ф","транспорт",null,null,null,null,177243.02544]
["380537_1986119158_38","380537_072350220452","ВіЕйБі","08/05ф","фінансова порука"]
["380537_2619016397_39","380537_11110022558511931","ВіЕйБі","73/05ф","транспорт",null,null,null,null,111100]
["380537_2619016397_39","380537_17995522619016397","ВіЕйБі","73/05ф","транспорт",null,null,null,null,179954.02299999999]
["380537_2619016397_39","380537_072350220452","ВіЕйБі","73/05ф","фінансова порука"]
["380537_2616107612_40","380537_11110022772306398","ВіЕйБі","105/06ф","транспорт",null,null,null,null,111100]
["380537_2616107612_40","380537_17907322616107612","ВіЕйБі","105/06ф","транспорт",null,null,null,null,179073]
["380537_2616107612_40","380537_072350220452","ВіЕйБі","105/06ф","фінансова порука"]
["380537_2589809317_41","380537_17708722589809317","ВіЕйБі","21/05ф","транспорт",null,null,null,null,177086.01268300001]
["380537_2589809317_41","380537_072350220452","ВіЕйБі","21/05ф","фінансова порука"]
["380537_2803612256_42","380537_10100022167123415","ВіЕйБі","122/06ф","транспорт",null,null,null,null,101000]
["380537_2803612256_42","380537_18016322803612256","ВіЕйБі","122/06ф","транспорт",null,null,null,null,180162.992]
["380537_2803612256_42","380537_072350220452","ВіЕйБі","122/06ф","фінансова порука"]
["380537_2579614476_43","380537_8080022579614476","ВіЕйБі","132/06ф","транспорт",null,null,null,null,80800]
["380537_2579614476_43","380537_17679222579614476","ВіЕйБі","132/06ф","транспорт",null,null,null,null,176791.00599999999]
["380537_2579614476_43","380537_072487612754","ВіЕйБі","132/06ф","фінансова порука"]
["380537_2579614476_43","380537_072350220452","ВіЕйБі","132/06ф","фінансова порука"]
["380537_2761203591_44","380537_16990022761203591","ВіЕйБі","137/04ф","транспорт",null,null,null,null,169900]
["380537_2761203591_44","380537_072350220452","ВіЕйБі","137/04ф","фінансова порука"]
["380537_2175901859_45","380537_16946622175901859","ВіЕйБі","145/04ф","транспорт",null,null,null,null,169466]
["380537_2175901859_45","380537_072350220452","ВіЕйБі","145/04ф","фінансова порука"]
["380537_2552800900_46","380537_17096522552800900","ВіЕйБі","153/04ф","транспорт",null,null,null,null,170965]
["380537_2552800900_46","380537_072350220452","ВіЕйБі","153/04ф","фінансова порука"]
["380537_2480818478_47","380537_16945322480818478","ВіЕйБі","156/04ф","транспорт",null,null,null,null,169453]
["380537_2480818478_47","380537_072350220452","ВіЕйБі","156/04ф","фінансова порука"]
["380537_2062818894_48","380537_16184722062818894","ВіЕйБі","78/04ф","транспорт",null,null,null,null,161846.01032599999]
["380537_2062818894_48","380537_072350220452","ВіЕйБі","78/04ф","фінансова порука"]
["380537_2197325139_49","380537_18021922197325139","ВіЕйБі","284/06ф","транспорт",null,null,null,null,180218.99650000001]
["380537_2197325139_49","380537_6060022197325139","ВіЕйБі","284/06ф","транспорт",null,null,null,null,60600]
["380537_2197325139_49","380537_072350220452","ВіЕйБі","284/06ф","фінансова порука"]
["380537_2879809138_50","380537_10100022879809138","ВіЕйБі","75/06ф","транспорт",null,null,null,null,101000]
["380537_2879809138_50","380537_18089622879809138","ВіЕйБі","75/06ф","транспорт",null,null,null,null,180895.99950000001]
["380537_2879809138_50","380537_072350220452","ВіЕйБі","75/06ф","фінансова порука"]
["380537_2531407715_51","380537_15919022531407715","ВіЕйБі","87/04ф","транспорт",null,null,null,null,159189.01642]
["380537_2531407715_51","380537_072350220452","ВіЕйБі","87/04ф","фінансова порука"]
["380537_2455516353_52","380537_12121022680812495","ВіЕйБі","49/05ф","транспорт",null,null,null,null,121210]
["380537_2455516353_52","380537_18487822455516353","ВіЕйБі","49/05ф","транспорт",null,null,null,null,184877.9767]
["380537_2455516353_52","380537_072350220452","ВіЕйБі","49/05ф","фінансова порука"]
["380537_2740707550_53","380537_13701822740707550","ВіЕйБі","200/06ф","транспорт",null,null,null,null,137017.00399999999]
["380537_2740707550_53","380537_072350220452","ВіЕйБі","200/06ф","фінансова порука"]
["380537_2735604494_54","380537_11110022875215132","ВіЕйБі","75/05ф","транспорт",null,null,null,null,111100]
["380537_2735604494_54","380537_17719022735604494","ВіЕйБі","75/05ф","транспорт",null,null,null,null,177189.98310000001]
["380537_2735604494_54","380537_072350220452","ВіЕйБі","75/05ф","фінансова порука"]
["380537_2765403533_55","380537_22094622765403533","ВіЕйБі","58/06ф","транспорт",null,null,null,null,220945.984]
["380537_2765403533_55","380537_072350220452","ВіЕйБі","58/06ф","фінансова порука"]
["380537_2338818454_56","380537_23008322338818454","ВіЕйБі","110/05ф","транспорт",null,null,null,null,230082.99950000001]
["380537_2338818454_56","380537_072350220452","ВіЕйБі","110/05ф","фінансова порука"]
["380537_2513101139_58","380537_13252522513101139","ВіЕйБі","80/06ф","транспорт",null,null,null,null,132524.9785]
["380537_2513101139_58","380537_072350220452","ВіЕйБі","80/06ф","фінансова порука"]
["380537_2790900695_59","380537_11110022772306398","ВіЕйБі","58/05ф","транспорт",null,null,null,null,111100]
["380537_2790900695_59","380537_17995522790900695","ВіЕйБі","58/05ф","транспорт",null,null,null,null,179954.02299999999]
["380537_2790900695_59","380537_072350220452","ВіЕйБі","58/05ф","фінансова порука"]
["380537_1708808730_60","380537_17724821708808730","ВіЕйБі","06/05ф","транспорт",null,null,null,null,177247.00344]
["380537_1708808730_60","380537_072350220452","ВіЕйБі","06/05ф","фінансова порука"]
["380537_2965418334_61","380537_12000022488915773","ВіЕйБі","55/05ф","транспорт",null,null,null,null,120000]
["380537_2965418334_61","380537_18745622965418334","ВіЕйБі","55/05ф","транспорт",null,null,null,null,187456]
["380537_2965418334_61","380537_072350220452","ВіЕйБі","55/05ф","фінансова порука"]
["380537_2934217663_62","380537_23987522934217663","ВіЕйБі","280/06ф","транспорт",null,null,null,null,239875]
["380537_2804421218_63","380537_17736622804421218","ВіЕйБі","83/05ф","транспорт",null,null,null,null,177365.9982]
["380537_2499015250_64","380537_14463922499015250","ВіЕйБі","54/06ф","транспорт",null,null,null,null,144638.00949999999]
["380537_2499015250_64","380537_072350220452","ВіЕйБі","54/06ф","фінансова порука"]
["380537_2812535119_65","380537_6060021955213617","ВіЕйБі","145/06Ф","транспорт",null,null,null,null,60600]
["380537_2812535119_65","380537_17681322812535119","ВіЕйБі","145/06Ф","транспорт",null,null,null,null,176812.014]
["380537_2812535119_65","380537_072350220452","ВіЕйБі","145/06Ф","фінансова порука"]
["380537_2391813296_66","380537_16304522391813296","ВіЕйБі","116/04ф","транспорт",null,null,null,null,163044.56255999999]
["380537_2391813296_66","380537_072350220452","ВіЕйБі","116/04ф","фінансова порука"]
["380537_2093026433_67","380537_22835222093026433","ВіЕйБі","123/05ф","транспорт",null,null,null,null,228351.00099999999]
["380537_2093026433_67","380537_072707223630","ВіЕйБі","123/05ф","фінансова порука"]
["380537_2093026433_67","380537_072707223630","ВіЕйБі","123/05ф","фінансова порука"]
["380537_2612807556_68","380537_11615023003800778","ВіЕйБі","57/05ф","транспорт",null,null,null,null,116150]
["380537_2612807556_68","380537_17995522612807556","ВіЕйБі","57/05ф","транспорт",null,null,null,null,179954.02299999999]
["380537_2612807556_68","380537_072350220452","ВіЕйБі","57/05ф","фінансова порука"]
["380537_2960220270_69","380537_12046622960220270","ВіЕйБі","32/06ф","транспорт",null,null,null,null,120465.023]
["380537_2970513906_70","380537_36127712350220452","ВіЕйБі","157/07ф","нерухомість",0.06,"га","Одеська","Таїрове",361277]
["380537_2037610312_71","380537_22114022037610312","ВіЕйБі","39/06ф","транспорт",null,null,null,null,221139.5]
["380537_2037610312_71","380537_072883503374","ВіЕйБі","39/06ф","фінансова порука"]
["380537_3050225277_72","380537_17170523050225277","ВіЕйБі","14/06ф","транспорт",null,null,null,null,171704.99950000001]
["380537_2076114294_73","380537_16319922076114294","ВіЕйБі","93/04ф","транспорт",null,null,null,null,163198.00189700001,null,"Діюче"]
["380537_2076114294_73","380537_072350220452","ВіЕйБі","93/04ф","фінансова порука"]
["380537_2208615397_74","380537_18013222208615397","ВіЕйБі","78/05ф","транспорт",null,null,null,null,180131.99309999999]
["380537_2208615397_74","380537_072350220452","ВіЕйБі","78/05ф","фінансова порука"]
["380537_2826907734_75","380537_21210622826907734","ВіЕйБі","144/05ф","транспорт",null,null,null,null,212105.05]
["380537_2767607217_76","380537_11110022448601250","ВіЕйБі","56/05ф","транспорт",null,null,null,null,111100]
["380537_2767607217_76","380537_18712222767607217","ВіЕйБі","56/05ф","транспорт",null,null,null,null,187121.99299999999]
["380537_2767607217_76","380537_072350220452","ВіЕйБі","56/05ф","фінансова порука"]
["380537_2870704217_77","380537_11110022364400938","ВіЕйБі","74/05ф","транспорт",null,null,null,null,111100]
["380537_2870704217_77","380537_17995522870704217","ВіЕйБі","74/05ф","транспорт",null,null,null,null,179954.00654999999]
["380537_2870704217_77","380537_072350220452","ВіЕйБі","74/05ф","фінансова порука"]
["380537_3053621994_78","380537_10100022857818615","ВіЕйБі","36/05ф","транспорт",null,null,null,null,101000]
["380537_3053621994_78","380537_17733923053621994","ВіЕйБі","36/05ф","транспорт",null,null,null,null,177338.9761]
["380537_3053621994_78","380537_072350220452","ВіЕйБі","36/05ф","фінансова порука"]
["380537_2417901475_79","380537_9499222417901475","ВіЕйБі","86/06ф","транспорт",null,null,null,null,94991.005000000005]
["380537_2898414255_80","380537_18013222898414255","ВіЕйБі","77/05ф","транспорт",null,null,null,null,180131.99309999999]
["380537_2898414255_80","380537_072350220452","ВіЕйБі","77/05ф","фінансова порука"]
["380537_2725507959_81","380537_10857622725507959","ВіЕйБі","169/06ф","транспорт",null,null,null,null,108576]
["380537_2725507959_81","380537_072350220452","ВіЕйБі","169/06ф","фінансова порука"]
["380537_2866623452_82","380537_18013222866623452","ВіЕйБі","76/05ф","транспорт",null,null,null,null,180131.99309999999]
["380537_2866623452_82","380537_072350220452","ВіЕйБі","76/05ф","фінансова порука"]
["380537_2722123357_83","380537_10100022933706254","ВіЕйБі","81/06ф","транспорт",null,null,null,null,101000]
["380537_2722123357_83","380537_11846122722123357","ВіЕйБі","81/06ф","транспорт",null,null,null,null,118460.0215]
["380537_2722123357_83","380537_072350220452","ВіЕйБі","81/06ф","фінансова порука"]
["380537_2144109036_84","380537_16315222144109036","ВіЕйБі","98/04ф","транспорт",null,null,null,null,163151.97789000001]
["380537_2144109036_84","380537_072350220452","ВіЕйБі","98/04ф","фінансова порука"]
["380537_2797816676_85","380537_13306922797816676","ВіЕйБі","208/06ф","транспорт",null,null,null,null,133068.005]
["380537_2797816676_85","380537_072350220452","ВіЕйБі","208/06ф","фінансова порука"]
["380537_2782216899_86","380537_17170622782216899","ВіЕйБі","04/06ф","транспорт",null,null,null,null,171705.05]
["380537_2230415299_87","380537_60002711071113161","ВіЕйБі","185/07ф","нерухомість",159.69999999999999,"м.кв.","Одеська","Усатове",600026.00150000001]
["380537_2230415299_87","380537_33510111071113161","ВіЕйБі","185/07ф","нерухомість",0.13,"га","Одеська","Усатове",335100.022]
["380537_2673709570_88","380537_11615022538401694","ВіЕйБі","72/05ф","транспорт",null,null,null,null,116150]
["380537_2673709570_88","380537_17719122673709570","ВіЕйБі","72/05ф","транспорт",null,null,null,null,177190.00649999999]
["380537_2673709570_88","380537_072350220452","ВіЕйБі","72/05ф","фінансова порука"]
["380537_2672201290_89","380537_10561622485319574","ВіЕйБі","26/05ф","транспорт",null,null,null,null,105616]
["380537_2672201290_89","380537_17752122672201290","ВіЕйБі","26/05ф","транспорт",null,null,null,null,177520.00897299999]
["380537_2672201290_89","380537_072350220452","ВіЕйБі","26/05ф","фінансова порука"]
["380537_2939726418_90","380537_11626522284802178","ВіЕйБі","66/05ф","транспорт",null,null,null,null,116265]
["380537_2939726418_90","380537_17995522939726418","ВіЕйБі","66/05ф","транспорт",null,null,null,null,179954.02299999999]
["380537_2939726418_90","380537_072350220452","ВіЕйБі","66/05ф","фінансова порука"]
["380537_2555316619_91","380537_11200022202600152","ВіЕйБі","46/05ф","транспорт",null,null,null,null,112000]
["380537_2555316619_91","380537_18486822555316619","ВіЕйБі","46/05ф","транспорт",null,null,null,null,184868]
["380537_2555316619_91","380537_072350220452","ВіЕйБі","46/05ф","фінансова порука"]
["380537_2751813779_92","380537_9561622751813779","ВіЕйБі","116/06ф","транспорт",null,null,null,null,95615.993000000002]
["380537_2751813779_92","380537_072350220452","ВіЕйБі","116/06ф","фінансова порука"]
["380537_2406111594_93","380537_18013222406111594","ВіЕйБі","95/05ф","транспорт",null,null,null,null,180131.99309999999]
["380537_2406111594_93","380537_072350220452","ВіЕйБі","95/05ф","фінансова порука"]
["380537_2773917158_94","380537_12132022136001976","ВіЕйБі","67/05ф","транспорт",null,null,null,null,121320]
["380537_2773917158_94","380537_17995522773917158","ВіЕйБі","67/05ф","транспорт",null,null,null,null,179954.02299999999]
["380537_2773917158_94","380537_072350220452","ВіЕйБі","67/05ф","фінансова порука"]
["380537_2515201116_95","380537_7575022515201116","ВіЕйБі","209/06ф","транспорт",null,null,null,null,75750]
["380537_2515201116_95","380537_17708122515201116","ВіЕйБі","209/06ф","транспорт",null,null,null,null,177080.97700000001]
["380537_2515201116_95","380537_072350220452","ВіЕйБі","209/06ф","фінансова порука"]
["380537_3005201092_96","380537_16021223005201092","ВіЕйБі","25/05ф","транспорт",null,null,null,null,160211.982571]
["380537_3005201092_96","380537_072350220452","ВіЕйБі","25/05ф","фінансова порука"]
["380537_2161318038_97","380537_10100022794303997","ВіЕйБі","124/06ф","транспорт",null,null,null,null,101000]
["380537_2161318038_97","380537_18024822161318038","ВіЕйБі","124/06ф","транспорт",null,null,null,null,180247.024]
["380537_2161318038_97","380537_072350220452","ВіЕйБі","124/06ф","фінансова порука"]
["380537_1807701154_98","380537_16315221807701154","ВіЕйБі","100/04ф","транспорт",null,null,null,null,163151.97789000001]
["380537_1807701154_98","380537_072350220452","ВіЕйБі","100/04ф","фінансова порука"]
["380537_2640512231_99","380537_10605022640512231","ВіЕйБі","21/07ю","транспорт",null,null,null,null,106050,null,"Ліквідовано"]
["380537_2640512231_99","380537_0732696344","ВіЕйБі","21/07ю","фінансова порука",null,null,null,null,null,null,"Ліквідовано"]
["380537_2330800170_100","380537_11110022330800170","ВіЕйБі","10/07ю","транспорт",null,null,null,null,111100,null,"Ліквідовано"]
["380537_2330800170_100","380537_0732696344","ВіЕйБі","10/07ю","фінансова порука",null,null,null,null,null,null,"Ліквідовано"]
["380537_2764112250_101","380537_0732696344","ВіЕйБі","09/07ю","фінансова порука",null,null,null,null,null,null,"Ліквідовано"]
["380537_2390519256_102","380537_154519222390519256","ВіЕйБі","35/06ю","транспорт",null,null,null,null,1545191.9805000001,null,"Банкрутство"]
["380537_2390519256_102","380537_0732696344","ВіЕйБі","35/06ю","фінансова порука"]
["380537_2265924457_103","380537_18008322265924457","ВіЕйБі","03/07ю","транспорт",null,null,null,null,180083]
["380537_2265924457_103","380537_0732696344","ВіЕйБі","03/07ю","фінансова порука"]
["380537_2586613959_104","380537_10100022586613959","ВіЕйБі","19/07ю","транспорт",null,null,null,null,101000,null,"Ліквідовано"]
["380537_2586613959_104","380537_0732696344","ВіЕйБі","19/07ю","фінансова порука"]
["380537_2177316971_105","380537_17995222177316971","ВіЕйБі","36/06ю","транспорт",null,null,null,null,179951.7]
["380537_2177316971_105","380537_142538122177316971","ВіЕйБі","36/06ю","транспорт",null,null,null,null,1425380.0234999999]
["380537_2177316971_105","380537_0732696344","ВіЕйБі","36/06ю","фінансова порука"]
["380537_2248719053_106","380537_21210022248719053","ВіЕйБі","26/06ю","транспорт",null,null,null,null,212100,null,"Ліквідовано"]
["380537_2248719053_106","380537_141426122248719053","ВіЕйБі","26/06ю","транспорт",null,null,null,null,1414260.0245000001,null,"Ліквідовано"]
["380537_2248719053_106","380537_0732696344","ВіЕйБі","26/06ю","фінансова порука"]
["380537_2291419034_107","380537_0732696344","ВіЕйБі","30/06ю","фінансова порука",null,null,null,null,null,null,"Ліквідовано"]
["380537_2487612754_108","380537_11200022487612754","ВіЕйБі","27/07ю","транспорт",null,null,null,null,112000,null,"Ліквідовано"]
["380537_2487612754_108","380537_141561622487612754","ВіЕйБі","27/07ю","транспорт",null,null,null,null,1415616,null,"Ліквідовано"]
["380537_2487612754_108","380537_0732696344","ВіЕйБі","27/07ю","фінансова порука",null,null,null,null,null,null,"Ліквідовано"]
["380537_2772306398_109","380537_142646822772306398","ВіЕйБі","01/07ю","транспорт",null,null,null,null,1426467.9955]
["380537_2772306398_109","380537_22624622772306398","ВіЕйБі","01/07ю","транспорт",null,null,null,null,226245.05]
["380537_2772306398_109","380537_0732696344","ВіЕйБі","01/07ю","фінансова порука"]
["380537_2392201171_110","380537_17806322392201171","ВіЕйБі","31/06ю","транспорт",null,null,null,null,178063]
["380537_2392201171_110","380537_141392822392201171","ВіЕйБі","31/06ю","транспорт",null,null,null,null,1413927.987]
["380537_2392201171_110","380537_0732696344","ВіЕйБі","31/06ю","фінансова порука"]
["380537_1142700047_111","380537_153029121142700047","ВіЕйБі","34/06ю","транспорт",null,null,null,null,1530290.996,null,"Ліквідовано"]
["380537_1142700047_111","380537_0732696344","ВіЕйБі","34/06ю","фінансова порука"]
["380537_3020900418_112","380537_21775623020900418","ВіЕйБі","37/06ю","транспорт",null,null,null,null,217756]
["380537_3020900418_112","380537_142538123020900418","ВіЕйБі","37/06ю","транспорт",null,null,null,null,1425380.0234999999]
["380537_3020900418_112","380537_0732696344","ВіЕйБі","37/06ю","фінансова порука"]
["380537_2948400993_113","380537_11110022948400993","ВіЕйБі","23/07ю","транспорт",null,null,null,null,111100,null,"Ліквідовано"]
["380537_2948400993_113","380537_141561622948400993","ВіЕйБі","23/07ю","транспорт",null,null,null,null,1415616,null,"Ліквідовано"]
["380537_2948400993_113","380537_0732696344","ВіЕйБі","23/07ю","фінансова порука",null,null,null,null,null,null,"Ліквідовано"]
["380537_32696344_114","380537_1414000232696344","ВіЕйБі","31/07ю","транспорт",null,null,null,null,1414000]
["380537_35226749_115","380537_494570235226749","ВіЕйБі","17/07 SME","транспорт",null,null,null,null,494570]
["339339_35520700_1","339339_080","Міський комерційний банк","430/980-ЮО","беззаставний",null,null,null,null,null,"НІ","Діюче"]
["300175_25488379_1","300175_192900325488379","ФІДОБАНК","1717","обладнання",11,"шт.","Запорізька","Запоріжжя",192900,"ТАК","Діюче"]
["300175_25488379_1","300175_227992225488379","ФІДОБАНК","1717","транспорт",4,"шт.","Запорізька","Запоріжжя",227992,"ТАК","Діюче"]
["300175_25488379_1","300175_313300225488379","ФІДОБАНК","1717","транспорт",1,"шт.","Запорізька","Запоріжжя",313300,"ТАК","Діюче"]
["300175_25488379_1","300175_109450072212504853","ФІДОБАНК","1717","фінансова порука",1,"од.","Запорізька","Запоріжжя",1094500,"ТАК","Діюче"]
["300175_25488379_1","300175_109450072176308584","ФІДОБАНК","1717","фінансова порука",1,"од.","Запорізька","Запоріжжя",1094500,"ТАК","Діюче"]
["300175_25488379_1","300175_3998930125488379","ФІДОБАНК","1717","нерухомість",414.2,"м.кв.","Запорізька","Запоріжжя",3998930,"ТАК","Діюче"]
["300175_25488379_1","300175_1094500731775587","ФІДОБАНК","1717","фінансова порука",1,"од.","Запорізька","Запоріжжя",1094500,"ТАК","Діюче"]
["300175_2629916367_2","300175_94546072629916367","ФІДОБАНК","012/0456/1/15458","фінансова порука",1,"од.","Кіровоградська","Кіровоград",945459.45,"ТАК","Діюче"]
["300175_2629916367_2","300175_118476632629916367","ФІДОБАНК","012/0456/1/15458","обладнання",1,"од.","Кіровоградська","Кіровоград",1184765.8,"ТАК","Ліквідовано"]
["300175_34305960_3","300175_56500072645608398","ФІДОБАНК","2241Ю","фінансова порука",1,"од.","Запорізька","Мелітополь",565000,"ТАК","Діюче"]
["300175_34669380_4","300175_4203000434669380","ФІДОБАНК","229Ю","товари","невідомо","од.","Хмельницька","Хмельницький",4203000,"ТАК","Діюче"]
["300175_34669380_4","300175_396018134669380","ФІДОБАНК","229Ю","нерухомість",233.9,"м.кв.","Хмельницька","Хмельницький",396018,"ТАК","Діюче"]
["300175_34669380_4","300175_3891644134669380","ФІДОБАНК","229Ю","нерухомість",2298.6,"м.кв.","Хмельницька","Хмельницький",3891644,"ТАК","Діюче"]
["300175_34669380_4","300175_422448672065511754","ФІДОБАНК","229Ю","фінансова порука",1,"од.","Хмельницька","Хмельницький",4224486,"ТАК","Діюче"]
["300175_39197628_5","300175_18000000639197628","ФІДОБАНК","1697Ю","майнові права",1,"од.","Київська","Київ",18000000,"ТАК","Діюче"]
["300175_39197900_6","300175_349905639197900","ФІДОБАНК","1781Ю","майнові права",1,"од.","Київська","Київ",349904.46,"ТАК","Діюче"]
["300175_39197900_7","300175_1014443639197900","ФІДОБАНК","2188Ю","майнові права",1,"од.","Київська","Київ",1014442.99,"ТАК","Діюче"]
["300175_39197900_8","300175_699809639197900","ФІДОБАНК","502015К","майнові права",1,"од.","Київська","Київ",699808.88,"ТАК","Діюче"]
["300175_39197900_9","300175_3135844639197900","ФІДОБАНК","622015К","майнові права",1,"од.","Київська","Київ",3135843.67,"ТАК","Діюче"]
["300175_25425083_10","300175_2000000726302709","ФІДОБАНК","011-05/1174","фінансова порука",1,"од.","Одеська","Одеса",2000000,"ТАК","Діюче"]
["300175_25425083_10","300175_012209716293","ФІДОБАНК","011-05/1174","нерухомість",105.4,"м.кв.","Одеська","Одеса",0,"ТАК","Діюче"]
["300175_25425083_10","300175_156107326302709","ФІДОБАНК","011-05/1174","обладнання",11,"од.","Херсонська","Херсон",156107,"ТАК","Діюче"]
["300175_25425083_10","300175_6483767625425083","ФІДОБАНК","011-05/1174","майнові права",1,"од.","Одеська","Одеса",6483766.4400000004,"ТАК","Діюче"]
["300175_25425083_10","300175_200000072209716293","ФІДОБАНК","011-05/1174","фінансова порука",1,"од.","Одеська","Одеса",2000000,"ТАК","Діюче"]
["300175_25425083_10","300175_200000072411210196","ФІДОБАНК","011-05/1174","фінансова порука",1,"од.","Одеська","Одеса",2000000,"ТАК","Діюче"]
["300175_25425083_10","300175_3202626425425083","ФІДОБАНК","011-05/1174","товари",669,"т","Одеська","Іллічівськ",3202626,"ТАК","Діюче"]
["300175_25425083_10","300175_340374126302709","ФІДОБАНК","011-05/1174","нерухомість",1889.4,"м.кв.","Херсонська","Херсон",340373.09,"ТАК","Діюче"]
["300175_25425083_11","300175_21661310072411210196","ФІДОБАНК","012-05/808","фінансова порука",1,"од.","Одеська","Одеса",216613099.05000001,"ТАК","Діюче"]
["300175_25425083_11","300175_216613100726302709","ФІДОБАНК","012-05/808","фінансова порука",1,"од.","Одеська","Одеса",216613099.05000001,"ТАК","Діюче"]
["300175_25425083_11","300175_012209716293","ФІДОБАНК","012-05/808","нерухомість",105.4,"м.кв.","Одеська","Одеса",0,"ТАК","Діюче"]
["300175_25425083_11","300175_156107326302709","ФІДОБАНК","012-05/808","обладнання",11,"од.","Херсонська","Херсон",156107,"ТАК","Діюче"]
["300175_25425083_11","300175_5854497625425083","ФІДОБАНК","012-05/808","майнові права",1,"од.","Одеська","Одеса",5854496.5700000003,"ТАК","Діюче"]
["300175_25425083_11","300175_21661310072209716293","ФІДОБАНК","012-05/808","фінансова порука",1,"од.","Одеська","Одеса",216613099.05000001,"ТАК","Діюче"]
["300175_25425083_11","300175_3202626425425083","ФІДОБАНК","012-05/808","товари",669,"т","Одеська","Іллічівськ",3202626,"ТАК","Діюче"]
["300175_25425083_11","300175_1274991126302709","ФІДОБАНК","012-05/808","нерухомість",1889.4,"м.кв.","Херсонська","Херсон",1274990.9099999999,"ТАК","Діюче"]
["300175_32913627_12","300175_2629806072825003772","ФІДОБАНК","012-05/936","фінансова порука",1,"од.","Київська","Київ",26298059.690000001,"ТАК","Діюче"]
["300175_32913627_12","300175_3437781332913627","ФІДОБАНК","012-05/936","обладнання",3,"од.","Київська","Київ",3437780.68,"ТАК","Діюче"]
["300175_32913627_12","300175_40191212894621160","ФІДОБАНК","012-05/936","нерухомість",121.8,"м.кв.","Київська","Київ",401911.21,"ТАК","Діюче"]
["300175_32913627_13","300175_530325112894621160","ФІДОБАНК","012-05/920","нерухомість",121.8,"м.кв.","Київська","Київ",5303250.79,"ТАК","Діюче"]
["300175_32913627_13","300175_34700502172825003772","ФІДОБАНК","012-05/920","фінансова порука",1,"од.","Київська","Київ",347005020.51999998,"ТАК","Діюче"]
["300175_32913627_13","300175_3437781332913627","ФІДОБАНК","012-05/920","обладнання",3,"од.","Київська","Київ",3437780.68,"ТАК","Діюче"]
["320995_21925618_1","320995_2922143121925618","БГ банк","02КР-13","нерухомість",726.1,"м.кв.","Дніпропетровська","Кривий Ріг",2922143,"ТАК","В стані припинення (крім банкрутства)"]
["320995_21925618_1","320995_4864550121925618","БГ банк","02КР-13","нерухомість",2664.6,"м.кв.","Дніпропетровська","Сергіївка (Ордоваслівська сільська рада)",4864550,"ТАК","В стані припинення (крім банкрутства)"]
["320995_21925618_1","320995_72406121925618","БГ банк","02КР-13","нерухомість",167.2,"м.кв.","Дніпропетровська","Сергіївка (Ордоваслівська сільська рада)",72406,"ТАК","В стані припинення (крім банкрутства)"]
["320995_21925618_1","320995_2107581121925618","БГ банк","02КР-13","нерухомість",3603.7,"м.кв.","Дніпропетровська","Володимирівка (Володимирівська сільська рада)",2107581,"ТАК","В стані припинення (крім банкрутства)"]
["320995_21925618_1","320995_1355139121925618","БГ банк","02КР-13","нерухомість",3129.4,"м.кв.","Дніпропетровська","Райполе",1355139,"ТАК","В стані припинення (крім банкрутства)"]
["320995_21925618_1","320995_2079602221925618","БГ банк","02КР-13","транспорт",2,"од.","Дніпропетровська","Сергіївка (Ордоваслівська сільська рада)",2079602,"ТАК","В стані припинення (крім банкрутства)"]
["320995_21925618_1","320995_4669917221925618","БГ банк","02КР-13","транспорт",3,"од.","Дніпропетровська","Сергіївка (Ордоваслівська сільська рада)",4669917,"ТАК","В стані припинення (крім банкрутства)"]
["320995_21925618_1","320995_1179167221925618","БГ банк","02КР-13","транспорт",5,"од.","Дніпропетровська","Сергіївка (Ордоваслівська сільська рада)",1179166.6599999999,"ТАК","В стані припинення (крім банкрутства)"]
["320995_21925618_1","320995_2791720321925618","БГ банк","02КР-13","обладнання",null,"од.","Дніпропетровська","Сергіївка (Ордоваслівська сільська рада)",2791719.59,"ТАК","В стані припинення (крім банкрутства)"]
["320995_21925618_1","320995_1114057421925618","БГ банк","02КР-13","товари",null,"од.","Дніпропетровська","Кривий Ріг",1114056.1100000001,"ТАК","В стані припинення (крім банкрутства)"]
["320995_21925618_1","320995_1150635172232618032","БГ банк","02КР-13","фінансова порука",null,"од.",null,null,11506350.68]
["300272_34566283_1","300272_2879578634566283","Енергобанк",8,"майнові права","-","-","Миколаївська","-",2879578,"НІ","Ліквідовано"]
["300272_34566283_1","300272_38000072774816352","Енергобанк",8,"фінансова порука","-","-","-","-",380000,"-","-"]
["380474_37955952_1","","ТРАСТ","Договір факторингу №20150430"]
["305062_33124030_1","305062_38160333124030","Новий","78307/01","обладнання",1,"шт.","Кіровоградська","Веселий Кут",38160,"ТАК","Ліквідовано"]
["305062_33124030_1","305062_26190022615106311","Новий","78307/01","транспорт",2,"шт.","Кіровоградська","Веселий Кут",261900,"ТАК","Діюче"]
["305062_32906083_2","305062_6111803432906083","Новий","1450607/01","товари",181069.5,"од.","Дніпропетровська","Дніпро",6111802.7800000003,"ТАК","Ліквідовано"]
["305062_32906083_2","305062_623000072407311776","Новий","1450607/01","фінансова порука",null,null,"Дніпропетровська","Дніпро",6230000,"НІ","Діюче"]
["300131_33386745_1","","Фінанси та Кредит","18-01-08","товари в обороті",2490,"шт.","Одеська","м.Одеса",1089089.07,"так","припинено"]
["300131_33386745_1","","Фінанси та Кредит","18-01-08","рухоме майно",11,"шт.","Одеська","м.Одеса",1696982.4,"так","дані відсутні"]
["300131_33386745_1","300131_60000062464207038","Фінанси та Кредит","18-01-08","майнові права",null,null,"Одеська","м.Одеса",600000,"так"]
["351931_37878674_3","351931_14640000637878674","Золоті Ворота","29","майнові права",1,"шт.",null,null,14640000,"ТАК","Діюче"]
["351931_36033910_4","","Золоті Ворота","253","Цінні папери",520200,"шт.",null,null,12287124,"ТАК","Діюче"]
["351931_36033910_5","","Золоті Ворота","81","Цінні папери",77172,"шт.",null,null,1991809.32,"ТАК","в стані припинення"]
["351931_36033910_5","","Золоті Ворота","81","Цінні папери",479045,"шт.",null,null,12364151.449999999,"ТАК","Діюче"]
["351931_36033910_6","","Золоті Ворота","81","Цінні папери",77172,"шт.",null,null,1991809.32,"ТАК","в стані припинення"]
["351931_36033910_6","","Золоті Ворота","81","Цінні папери",479045,"шт.",null,null,12364151.449999999,"ТАК","Діюче"]
["351931_36033910_7","","Золоті Ворота","81","Цінні папери",77172,"шт.",null,null,1991809.32,"ТАК","в стані припинення"]
["351931_36033910_7","","Золоті Ворота","81","Цінні папери",479045,"шт.",null,null,12364151.449999999,"ТАК","Діюче"]
["351931_36816266_8","","Золоті Ворота","82","Цінні папери",17225,"шт.",null,null,407390.55,"ТАК","Діюче"]
["351931_36816266_8","","Золоті Ворота","82","Цінні папери",269600,"шт.",null,null,6365256,"ТАК","Діюче"]
["351931_36816266_8","","Золоті Ворота","82","Цінні папери",1471500,"шт.",null,null,34742115,"ТАК","Діюче"]
["351931_36816266_8","","Золоті Ворота","82","Цінні папери",2003900,"шт.",null,null,47312079,"ТАК","Діюче"]
["351931_36816266_9","","Золоті Ворота","184","Цінні папери",621749,"шт.",null,null,11813231,"ТАК","в стані припинення"]
["351931_36816266_9","","Золоті Ворота","184","Цінні папери",1471500,"шт.",null,null,34742115,"ТАК","Діюче"]
["351931_36816266_10","","Золоті Ворота","184","Цінні папери",621749,"шт.",null,null,11813231,"ТАК","в стані припинення"]
["351931_36816266_10","","Золоті Ворота","184","Цінні папери",1471500,"шт.",null,null,34742115,"ТАК","Діюче"]
["351931_32031993_11","351931_23001476636033910","Золоті Ворота","188","майнові права",5,"шт.",null,null,23001476,"ТАК","в стані припинення"]
["351931_32031993_11","","Золоті Ворота","188","Цінні папери",681500,"шт.",null,null,16090215,"ТАК","Діюче"]
["351931_36224590_13","","Золоті Ворота","55","Цінні папери",2003900,"шт.",null,null,47312079,"ТАК","Діюче"]
["351931_36224590_13","351931_44351819631152642","Золоті Ворота","55","майнові права",2,"шт.",null,null,44351818.030000001,"ТАК","Діюче"]
["351931_36224590_13","351931_9024581636816266","Золоті Ворота","55","майнові права",1,"шт.",null,null,9024581,"ТАК","Діюче"]
["351931_36224590_13","351931_9117784636033910","Золоті Ворота","55","майнові права",3,"шт.",null,null,9117783.9199999999,"ТАК","в стані припинення"]
["351931_36224590_14","","Золоті Ворота","55","Цінні папери",2003900,"шт.",null,null,47312079,"ТАК","Діюче"]
["351931_36224590_14","351931_44351819631152642","Золоті Ворота","55","майнові права",2,"шт.",null,null,44351818.030000001,"ТАК","Діюче"]
["351931_36224590_14","351931_9024581636816266","Золоті Ворота","55","майнові права",1,"шт.",null,null,9024581,"ТАК","Діюче"]
["351931_36224590_14","351931_9117784636033910","Золоті Ворота","55","майнові права",3,"шт.",null,null,9117783.9199999999,"ТАК","в стані припинення"]
["351931_36224590_15","","Золоті Ворота","55","Цінні папери",2003900,"шт.",null,null,47312079,"ТАК","Діюче"]
["351931_36224590_15","351931_44351819631152642","Золоті Ворота","55","майнові права",2,"шт.",null,null,44351818.030000001,"ТАК","Діюче"]
["351931_36224590_15","351931_9024581636816266","Золоті Ворота","55","майнові права",1,"шт.",null,null,9024581,"ТАК","Діюче"]
["351931_36224590_15","351931_9117784636033910","Золоті Ворота","55","майнові права",3,"шт.",null,null,9117783.9199999999,"ТАК","в стані припинення"]
["351931_37574936_16","351931_1980229633118671","Золоті Ворота","61","майнові права",1,"шт.",null,null,1980228.57,"ТАК","Діюче"]
[null,"","",""]
[null,"","",""]
[null,"","",""]
[null,"","",""]
[null,"","",""]
[null,"","",""]
[null,"","",""]
[null,"","",""]
[null,"","",""]
[null,"","",""]
[null,"","",""]
[null,"","",""]
[null,"","",""]
[null,"","",""]
[null,"","",""]
[null,"","",""]
[null,"","",""]
[null,"","",""]
[null,"","",""]
[null,"","",""]
[null,"","",""]
[null,"","",""]
[null,"","",""]
[null,"","",""]
[null,"","",""]
[null,"","",""]
[null,"","",""]
[null,"","",""]
[null,"","",""]
[null,"","",""]
[null,"","",""]
[null,"","",""]
[null,"","",""]
[null,"","",""]
[null,"","",""]
[null,"","",""]
[null,"","",""]
[null,"","",""]
[null,"","",""]
[null,"","",""]
[null,"","",""]
[null,"","",""]
[null,"","",""]
[null,"","",""]
[null,"","",""]
[null,"","",""]
[null,"","",""]
[null,"","",""]
[null,"","",""]
[null,"","",""]
[null,"","",""]
[null,"","",""]
[null,"","",""]
[null,"","",""]
[null,"","",""]
[null,"","",""]
[null,"","",""]
[null,"","",""]
[null,"","",""]
[null,"","",""]
[null,"","",""]
[null,"","",""]
[null,"","",""]
[null,"","",""]
[null,"","",""]
[null,"","",""]
[null,"","",""]
[null,"","",""]
[null,"","",""]
[null,"","",""]
[null,"","",""]
[null,"","",""]
[null,"","",""]
[null,"","",""]
[null,"","",""]
[null,"","",""]
[null,"","",""]
[null,"","",""]
[null,"","",""]
[null,"","",""]
[null,"","",""]
[null,"","",""]
[null,"","",""]
[null,"","",""]
[null,"","",""]
[null,"","",""]
[null,"","",""]
[null,"","",""]
[null,"","",""]
[null,"","",""]
[null,"","",""]
[null,"","",""]
[null,"","",""]
[null,"","",""]
[null,"","",""]
[null,"","",""]
[null,"","",""]
[null,"","",""]
[null,"","",""]
[null,"","",""]
[null,"","",""]
[null,"","",""]
[null,"","",""]
[null,"","",""]
[null,"","",""]
[null,"","",""]
[null,"","",""]
[null,"","",""]
[null,"","",""]
[null,"","",""]
[null,"","",""]
[null,"","",""]
[null,"","",""]
[null,"","",""]
[null,"","",""]
[null,"","",""]
[null,"","",""]
[null,"","",""]
[null,"","",""]
[null,"","",""]
[null,"","",""]
[null,"","",""]
[null,"","",""]
[null,"","",""]
[null,"","",""]
[null,"","",""]
[null,"","",""]
[null,"","",""]
[null,"","",""]
[null,"","",""]
[null,"","",""]
[null,"","",""]
[null,"","",""]
[null,"","",""]
[null,"","",""]
[null,"","",""]
[null,"","",""]
[null,"","",""]
[null,"","",""]
[null,"","",""]
[null,"","",""]
[null,"","",""]
[null,"","",""]
[null,"","",""]
[null,"","",""]
[null,"","",""]
[null,"","",""]
[null,"","",""]
[null,"","",""]
[null,"","",""]
[null,"","",""]
[null,"","",""]
[null,"","",""]
[null,"","",""]
[null,"","",""]
[null,"","",""]
[null,"","",""]
[null,"","",""]
[null,"","",""]
[null,"","",""]
[null,"","",""]
[null,"","",""]
[null,"","",""]
[null,"","",""]
[null,"","",""]
[null,"","",""]
[null,"","",""]
[null,"","",""]
[null,"","",""]
[null,"","",""]
[null,"","",""]
[null,"","",""]
[null,"","",""]
[null,"","",""]
[null,"","",""]
[null,"","",""]
[null,"","",""]
[null,"","",""]
[null,"","",""]
[null,"","",""]
[null,"","",""]
[null,"","",""]
[null,"","",""]
[null,"","",""]
[null,"","",""]
[null,"","",""]
[null,"","",""]
[null,"","",""]
[null,"","",""]
[null,"","",""]
[null,"","",""]
[null,"","",""]
[null,"","",""]
[null,"","",""]
[null,"","",""]
[null,"","",""]
[null,"","",""]
[null,"","",""]
[null,"","",""]
[null,"","",""]
[null,"","",""]
[null,"","",""]
[null,"","",""]
[null,"","",""]
[null,"","",""]
[null,"","",""]
[null,"","",""]
[null,"","",""]
[null,"","",""]
[null,"","",""]
[null,"","",""]
[null,"","",""]
[null,"","",""]
[null,"","",""]
[null,"","",""]
[null,"","",""]
[null,"","",""]
[null,"","",""]
[null,"","",""]
[null,"","",""]
[null,"","",""]
[null,"","",""]
[null,"","",""]
[null,"","",""]
[null,"","",""]
[null,"","",""]
[null,"","",""]
[null,"","",""]
[null,"","",""]
[null,"","",""]
[null,"","",""]
[null,"","",""]
[null,"","",""]
[null,"","",""]
[null,"","",""]
[null,"","",""]
[null,"","",""]
[null,"","",""]
[null,"","",""]
[null,"","",""]
[null,"","",""]
[null,"","",""]
[null,"","",""]
[null,"","",""]
[null,"","",""]
[null,"","",""]
[null,"","",""]
[null,"","",""]
[null,"","",""]
[null,"","",""]
[null,"","",""]
[null,"","",""]
[null,"","",""]
[null,"","",""]
[null,"","",""]
[null,"","",""]
[null,"","",""]
[null,"","",""]
[null,"","",""]
[null,"","",""]
[null,"","",""]
[null,"","",""]
[null,"","",""]
[null,"","",""]
[null,"","",""]
[null,"","",""]
[null,"","",""]
[null,"","",""]
[null,"","",""]
[null,"","",""]
[null,"","",""]
[null,"","",""]
[null,"","",""]
[null,"","",""]
[null,"","",""]
[null,"","",""]
[null,"","",""]
[null,"","",""]
[null,"","",""]
[null,"","",""]
[null,"","",""]
[null,"","",""]
[null,"","",""]
[null,"","",""]
[null,"","",""]
[null,"","",""]
[null,"","",""]
[null,"","",""]
[null,"","",""]
[null,"","",""]
[null,"","",""]
[null,"","",""]
[null,"","",""]
[null,"","",""]
[null,"","",""]
[null,"","",""]
[null,"","",""]
[null,"","",""]
[null,"","",""]
[null,"","",""]
[null,"","",""]
[null,"","",""]
[null,"","",""]
[null,"","",""]
[null,"","",""]
[null,"","",""]
[null,"","",""]
[null,"","",""]
[null,"","",""]
[null,"","",""]
[null,"","",""]
[null,"","",""]
[null,"","",""]
[null,"","",""]
[null,"","",""]
[null,"","",""]
[null,"","",""]
[null,"","",""]
[null,"","",""]
[null,"","",""]
[null,"","",""]
[null,"","",""]
[null,"","",""]
[null,"","",""]
[null,"","",""]
[null,"","",""]
[null,"","",""]
[null,"","",""]
[null,"","",""]
[null,"","",""]
[null,"","",""]
[null,"","",""]
[null,"","",""]
[null,"","",""]
[null,"","",""]
[null,"","",""]
[null,"","",""]
[null,"","",""]
[null,"","",""]
[null,"","",""]
[null,"","",""]
[null,"","",""]
[null,"","",""]
[null,"","",""]
[null,"","",""]
[null,"","",""]
[null,"","",""]
[null,"","",""]
[null,"","",""]
[null,"","",""]
[null,"","",""]
[null,"","",""]
[null,"","",""]
[null,"","",""]
[null,"","",""]
[null,"","",""]
[null,"","",""]
[null,"","",""]
[null,"","",""]
[null,"","",""]
[null,"","",""]
[null,"","",""]
[null,"","",""]
[null,"","",""]
[null,"","",""]
[null,"","",""]
[null,"","",""]
[null,"","",""]
[null,"","",""]
[null,"","",""]
[null,"","",""]
[null,"","",""]
[null,"","",""]
[null,"","",""]
[null,"","",""]
[null,"","",""]
[null,"","",""]
[null,"","",""]
[null,"","",""]
[null,"","",""]
[null,"","",""]
[null,"","",""]
[null,"","",""]
[null,"","",""]
[null,"","",""]
[null,"","",""]
[null,"","",""]
[null,"","",""]
[null,"","",""]
[null,"","",""]
[null,"","",""]
[null,"","",""]
[null,"","",""]
[null,"","",""]
[null,"","",""]
[null,"","",""]
[null,"","",""]
[null,"","",""]
[null,"","",""]
[null,"","",""]
[null,"","",""]
[null,"","",""]
[null,"","",""]
[null,"","",""]
[null,"","",""]
[null,"","",""]
[null,"","",""]
[null,"","",""]
[null,"","",""]
[null,"","",""]
[null,"","",""]
[null,"","",""]
[null,"","",""]
[null,"","",""]
[null,"","",""]
[null,"","",""]
[null,"","",""]
[null,"","",""]
[null,"","",""]
[null,"","",""]
[null,"","",""]
[null,"","",""]
[null,"","",""]
[null,"","",""]
[null,"","",""]
[null,"","",""]
[null,"","",""]
[null,"","",""]
[null,"","",""]
[null,"","",""]
[null,"","",""]
[null,"","",""]
[null,"","",""]
[null,"","",""]
[null,"","",""]
[null,"","",""]
[null,"","",""]
[null,"","",""]
[null,"","",""]
[null,"","",""]
[null,"","",""]
[null,"","",""]
[null,"","",""]
[null,"","",""]
[null,"","",""]
[null,"","",""]
[null,"","",""]
[null,"","",""]
[null,"","",""]
[null,"","",""]
[null,"","",""]
[null,"","",""]
[null,"","",""]
[null,"","",""]
[null,"","",""]
[null,"","",""]
[null,"","",""]
[null,"","",""]
[null,"","",""]
[null,"","",""]
[null,"","",""]
[null,"","",""]
[null,"","",""]
[null,"","",""]
[null,"","",""]
[null,"","",""]
[null,"","",""]
[null,"","",""]
[null,"","",""]
[null,"","",""]
[null,"","",""]
[null,"","",""]
[null,"","",""]
[null,"","",""]
[null,"","",""]
[null,"","",""]
[null,"","",""]
[null,"","",""]
[null,"","",""]
[null,"","",""]
[null,"","",""]
[null,"","",""]
[null,"","",""]
[null,"","",""]
[null,"","",""]
[null,"","",""]
[null,"","",""]
[null,"","",""]
[null,"","",""]
[null,"","",""]
[null,"","",""]
[null,"","",""]
[null,"","",""]
[null,"","",""]
[null,"","",""]
[null,"","",""]
[null,"","",""]
[null,"","",""]
[null,"","",""]
[null,"","",""]
[null,"","",""]
[null,"","",""]
[null,"","",""]
[null,"","",""]
[null,"","",""]
[null,"","",""]
[null,"","",""]
[null,"","",""]
[null,"","",""]
[null,"","",""]
[null,"","",""]
[null,"","",""]
[null,"","",""]
[null,"","",""]
[null,"","",""]
[null,"","",""]
[null,"","",""]
[null,"","",""]
[null,"","",""]
[null,"","",""]
[null,"","",""]
[null,"","",""]
[null,"","",""]
[null,"","",""]
[null,"","",""]
[null,"","",""]
[null,"","",""]
[null,"","",""]
[null,"","",""]
[null,"","",""]
[null,"","",""]
[null,"","",""]
[null,"","",""]
[null,"","",""]
[null,"","",""]
[null,"","",""]
[null,"","",""]
[null,"","",""]
[null,"","",""]
[null,"","",""]
[null,"","",""]
[null,"","",""]
[null,"","",""]
[null,"","",""]
[null,"","",""]

{"sheet":"3.ППР","index":2,"n_rows":1566,"n_cols":17,"rows_kept":1566,"cut":false,"hidden":false,"merged":[]}
[null,"Цей документ був підготовлений Фондом гарантування вкладів фізичних осіб (далі – Фонд) виключно для інформаційних цілей і не повинен вважатися як спонукання до будь-яких дій чи бездіяльності. \nІнформація, що міститься в цьому документі, була отримана з/або ґрунтується на джерелах які вважаються надійними, але не є вичерпною та не може сприйматися як повна або актуальна. Рішення покупця щодо будь яких дій або бездіяльності повинно ґрунтуватися на власних оцінках та дослідженнях майна (активу/активів) котре реалізуються. Фонд не несе відповідальності за рішення покупця та його наслідки, що ґрунтується на інформації викладеній в даному документі."]
[]
[]
[]
[]
[]
["unicid","Банк","№ кред. Дог","Розгляд справи у суді",null,null,null,"ДВС",null,null,"Банкрутство",null,null,null,null,null,"Кримінальне провадження за кредитною угодою\n(Так/Ні)"]
[null,null,null,"Предмет спору","Відповідач (позичальник/поручитель)","Дата надіслання вимоги / претензії","Дати звернення до суду","Дата провадження","Процесс (Так/Ні)","Реалізація майна (Так/Ні)","Дата провадження","Банк заявлений як кредитор (Так/Ні)","Банк внесенний в реєстр кредиторів (Так/Ні)","Дата визнання позичальника банкрутом","Дата визнання підприємства ліквідованим","Банкрутство фінансового поручителя"]
["380236_31553711_1","Дельта","02/158/07-КЛТ","стягнення заборгованості","Поручитель","невідомо","2009 рік",null,null,null,"ні","ні","ні","ні","ні","ні","ні"]
["380236_31553711_2","Дельта","02/179/07-КЛТ","стягнення заборгованості","Поручитель","невідомо","2009 рік",null,null,null,"ні","ні","ні","ні","ні","ні","ні"]
["380236_2570501675_3","Дельта","15/038/08-ZKLN","стягнення заборгованості","Позичальник","невідомо","2015 рік",null,null,null,null,null,null,null,null,null,"ні"]
["380236_2570503638_4","Дельта","11328116000","стягнення заборгованості","Поручитель","невідомо","2014 рік",null,null,null,"ні","ні","ні","ні","ні","ні","ні"]
["380236_23461005_5","Дельта","07/059/06-КЛТ","інше","3-і особи","невідомо","2009 рік",null,null,null,"ні","ні","ні","ні","ні","ні","ні"]
["380236_34383703_6","Дельта","33/КВ-08","стягнення заборгованості","Позичальник","не відомо","2012 рік","ні","ні","ні","ні","ні","ні","ні","ні","ні","ні"]
["380236_3151219640_7","Дельта","11406970000",null,null,null,null,null,null,null,"ні","ні","ні","ні","ні","ні","ні"]
["380236_33110948_8","Дельта","11399961000",null,null,null,null,null,null,null,"ні","ні","ні","ні","ні","ні","ні"]
["380236_2966112741_9","Дельта","11173398000","стягнення заборгованості","Позичальник","невідомо","2013 рік",null,null,null,"ні","ні","ні","ні","ні","ні","ні"]
["380236_2966112741_10","Дельта","11187599000","стягнення заборгованості","Солідарно","невідомо","2014 рік",null,null,null,null,null,null,null,null,null,"ні"]
["380236_04541632_11","Дельта","3.3ДС/243/2006-КЛТ  ","стягнення забезпечення","Позичальник","невідомо","2011 рік",null,null,null,"2012-08-14","ТАК","ТАК","2012-10-02","ні","ні","ні"]
["380236_2271005012_12","Дельта","10938875000",null,null,null,null,null,null,null,"2008-02-11","ТАК","ТАК","2008-11-13","2013-11-14","ні","ні"]
["380236_2271005012_13","Дельта","10938900000",null,null,null,null,null,null,null,"2008-02-11","ТАК","ТАК","2008-11-13","2013-11-14","ні","ні"]
["380236_35907006_14","Дельта","КЮ-О-2011019","стягнення заборгованості","Позичальник","не відомо","2015 рік",null,null,null,"ні","ні","ні","ні","ні","ні","ні"]
["380236_35907006_15","Дельта","18/2011019-14623",null,null,null,null,null,null,null,"ні","ні","ні","ні","ні","ні","ні"]
["380236_32143995_16","Дельта","11186006000","стягнення заборгованості","Солідарно","не відомо","2014 рік",null,null,null,"ні","ні","ні","ні","ні","ні","ні"]
["380236_31043568_17","Дельта","02/149/07-КЛТ","стягнення забезпечення","Поручитель","не відомо","2010 рік",null,null,null,"ні","ні","ні","ні","ні","ні","ні"]
["380236_32663497_18","Дельта","278/КВ-07",null,null,null,null,"2015-07-14","так","ні","ні","ні","ні","ні","ні","ні","ні"]
["380236_01412845_19","Дельта","11355256000","стягнення заборгованості","Позичальник","не відомо","2010 рік",null,null,null,"2010-03-04","ТАК","ТАК","2013-08-06","ні","ні","ні"]
["380236_33554188_20","Дельта","3.3ДС/226/2007-КЛТ","стягнення забезпечення","Солідарно","невідомо","2010 рік",null,null,null,"ні","ні","ні","ні","ні","ні","ні"]
["380236_37385352_21","Дельта","02/011/11-КЛТ","стягнення забезпечення","Поручитель","не відомо","2013 рік",null,null,null,"ні","ні","ні","ні","ні","ні","ні"]
["380236_25591321_22","Дельта","45/КВ-07","визнання зобов'язань недійсними","Позичальник","невідомо","2010 рік",null,null,null,"2011-01-31","ТАК","ТАК","2014-07-01","ні","ні","ні"]
["380236_25591321_23","Дельта","378/КВ-06","визнання зобов'язань недійсними","Позичальник","невідомо","2010 рік",null,null,null,"2011-01-31","ТАК","ТАК","2014-07-01","ні","ні","ні"]
["380236_2703619911_24","Дельта","11384098000","стягнення заборгованості","Позичальник","невідомо","2014 рік",null,null,null,"ні","ні","ні","ні","ні","ні","ні"]
["380236_2703619911_25","Дельта","11197813000","стягнення забезпечення","Поручитель","невідомо","2013 рік",null,null,null,null,null,null,null,null,null,"ні"]
["380236_20906719_26","Дельта","02/107/08-КЛТ","стягнення заборгованості","Позичальник","невідомо","2011 рік",null,null,null,"ні","ні","ні","ні","ні","ні","ні"]
["380236_2763223178_27","Дельта","11320937000","стягнення заборгованості","Позичальник","невідомо","2010 рік",null,null,null,"ні","ні","ні","ні","ні","ні","ні"]
["380236_31792492_28","Дельта","08/33/07-КЛТ ","визнання зобов'язань недійсними","Поручитель","невідомо","2010 рік",null,null,null,"2011-09-21","ТАК","ТАК","2012-03-29","ні","так","ні"]
["380236_32475362_29","Дельта","11122813000","стягнення заборгованості","Солідарно","не відомо","2010 рік","09.06.2014, 05.11.2015, 05.06.2016, 27.04.2017","так","ні","ні","ні","ні","ні","ні","ні","ні"]
["380236_32475362_30","Дельта","11145702000","стягнення заборгованості","Солідарно","не відомо","2010 рік","09.06.2016, 04.11.2015, 28.02.2018, 27.04.2017",null,"НІ","ні","ні","ні","ні","ні","ні","ні"]
["380236_31325209_31","Дельта","22/33/08-КЛТ",null,null,null,null,null,null,null,"2011-11-14","ТАК","ТАК","2012-08-09","ні","ні","ні"]
["380236_31325209_32","Дельта","22/63/08-КЛТ",null,null,null,null,null,null,null,"2011-11-14","ТАК","ТАК","2012-08-09","ні","ні","ні"]
["380236_31325209_33","Дельта","22/82/07-КЛТ",null,null,null,null,null,null,null,"2011-11-14","ТАК","ТАК","2012-08-09","ні","ні","ні"]
["380236_31740926_34","Дельта","11253511000",null,null,null,null,"26.02.2016, 31.05.2018,04.10.2016,28.10.2013",null,null,"ні","ні","ні","ні","ні","ні","ні"]
["380236_33336280_35","Дельта","11020848000",null,null,null,null,"2013-07-25","НІ","ТАК","ні","ні","ні","ні","ні","ні","ні"]
["380236_2741902742_36","Дельта","11284520000","стягнення забезпечення","Поручитель","не відомо","2012 рік",null,null,null,"ні","ні","ні","ні","2011-02-21","ні","ні"]
["380236_13332413_37","Дельта","11072223000","стягнення заборгованості","Солідарно","не відомо","2013 рік",null,null,null,"ні","ні","ні","ні","ні","ні","ні"]
["380236_20211130_38","Дельта","04/09/11-КЛТ","стягнення заборгованості","Поручитель","невідомо","2015 рік","2015-03-10","НІ","НІ","ні","ні","ні","ні","ні","ні","ні"]
["380236_20211130_39","Дельта","04/14/11-КЛТ",null,null,null,null,"2015-03-10","НІ","НІ","ні","ні","ні","ні","ні","ні","ні"]
["380236_31716783_40","Дельта","05/09/2008-КЛТ","стягнення заборгованості","Солідарно","невідомо","2012 рік",null,null,null,"2012-05-28","ТАК","ТАК","2012-06-11","ні","ні","ні"]
["380236_20474467_41","Дельта","11351678000","стягнення заборгованості","Солідарно","не відомо","2011 рік","2014-07-08","ТАК","НІ","ні","ні","ні","ні","ні","ні","ні"]
["380236_32819389_42","Дельта","11356273000",null,null,null,null,"03.07.2014, 15.0.5.2017","ТАК","НІ","ні","ні","ні","ні","ні","ні","ні"]
["380236_20474467_41","Дельта","11351678000","стягнення заборгованості","Поручитель","не відомо","2015 рік",null,null,null,null,null,null,null,null,null,"ні"]
["380236_20474467_41","Дельта","11351678000","стягнення заборгованості","Солідарно","не відомо","2011 рік",null,null,null,null,null,null,null,null,null,"ні"]
["380236_20474467_41","Дельта","11351678000","стягнення заборгованості","Солідарно","не відомо","2011 рік",null,null,null,null,null,null,null,null,null,"ні"]
["380236_20474467_41","Дельта","11351678000","стягнення заборгованості","Солідарно","не відомо","2015 рік",null,null,null,null,null,null,null,null,null,"ні"]
["380236_13332413_37","Дельта","11072223000","інше",null,null,"2015 рік",null,null,null,null,null,null,null,null,null,"ні"]
["380236_13332413_37","Дельта","11072223000","визнання зобов'язань недійсними",null,null,"2010 рік",null,null,null,null,null,null,null,null,null,"ні"]
["380236_13332413_37","Дельта","11072223000","визнання зобов'язань недійсними",null,null,"2011 рік",null,null,null,null,null,null,null,null,null,"ні"]
["380236_13332413_37","Дельта","11072223000","інше",null,null,"2015 рік",null,null,null,null,null,null,null,null,null,"ні"]
["380236_13332413_37","Дельта","11072223000","інше",null,null,"2014 рік",null,null,null,null,null,null,null,null,null,"ні"]
["380236_13332413_37","Дельта","11072223000","інше",null,null,"2014 рік",null,null,null,null,null,null,null,null,null,"ні"]
["380236_13332413_37","Дельта","11072223000","стягнення забезпечення","Позичальник","не відомо","2018 рік",null,null,null,null,null,null,null,null,null,"ні"]
["380236_37385352_21","Дельта","02/011/11-КЛТ","стягнення заборгованості","Солідарно","не відомо","2013 рік",null,null,null,null,null,null,null,null,null,"ні"]
["380236_37385352_21","Дельта","02/011/11-КЛТ","стягнення забезпечення","Поручитель","не відомо","2017 рік",null,null,null,null,null,null,null,null,null,"ні"]
["380236_31043568_17","Дельта","02/149/07-КЛТ","інше",null,"не відомо","2009 рік",null,null,null,null,null,null,null,null,null,"ні"]
["380236_34383703_6","Дельта","33/КВ-08","інше",null,null,"2010 рік",null,null,null,null,null,null,null,null,null,"ні"]
["380236_2570503638_4","Дельта","11328116000","стягнення заборгованості","Солідарно","невідомо","2014 рік",null,null,null,null,null,null,null,null,null,"ні"]
["380236_2570503638_4","Дельта","11328116000","стягнення заборгованості","Позичальник","невідомо","2017 рік","2018-04-25","ТАК","НІ",null,null,null,null,null,null,"ні"]
["380236_2570503638_4","Дельта","11328116000","стягнення заборгованості","Позичальник","невідомо","2018 рік",null,null,null,null,null,null,null,null,null,"ні"]
["380236_31792492_28","Дельта","08/33/07-КЛТ ","стягнення забезпечення","Поручитель","невідомо","2010 рік","2010-06-09","ТАК","НІ",null,null,null,null,null,null,"ні"]
["380236_23461005_5","Дельта","07/059/06-КЛТ","інше","3-і особи","невідомо","2010 рік"]
["380236_23461005_5","Дельта","07/059/06-КЛТ","визнання зобов'язань недійсними","3-і особи","невідомо","2010 рік"]
["380236_23461005_5","Дельта","07/059/06-КЛТ","стягнення забезпечення","Поручитель","невідомо","2010 рік"]
["380236_23461005_5","Дельта","07/059/06-КЛТ","інше","3-і особи","невідомо","2010 рік"]
["380236_23461005_5","Дельта","07/059/06-КЛТ","інше","3-і особи","невідомо","2011 рік"]
["380236_23461005_5","Дельта","07/059/06-КЛТ","інше","3-і особи","невідомо","2012 рік"]
["380236_23461005_5","Дельта","07/059/06-КЛТ","інше","3-і особи","невідомо","2012 рік"]
["380236_23461005_5","Дельта","07/059/06-КЛТ","визнання зобов'язань недійсними","3-і особи","невідомо","2012 рік"]
["380236_23461005_5","Дельта","07/059/06-КЛТ","визнання зобов'язань недійсними","3-і особи","невідомо","2013 рік"]
["380236_33336280_35","Дельта","11020848000",null,null,null,null,"16.07.2015, 03.01.2017 ","НІ","НІ"]
["380236_20211130_38","Дельта","04/09/11-КЛТ","стягнення заборгованості","Поручитель","невідомо","2015 рік","2017-12-26","ТАК","НІ"]
["380236_20211130_39","Дельта","04/14/11-КЛТ","стягнення заборгованості","Позичальник","невідомо","2014 рік","2017-05-22","НІ","НІ"]
["380236_04541632_11","Дельта","3.3ДС/243/2006-КЛТ  ","визнання зобов'язань недійсними","3-і особи","невідомо","2010 рік"]
["380236_25591321_22","Дельта","45/КВ-07","визнання зобов'язань недійсними","Позичальник","невідомо","2010 рік"]
["380236_25591321_22","Дельта","45/КВ-07","стягнення забезпечення","Позичальник","невідомо","2011 рік"]
["380236_25591321_23","Дельта","378/КВ-06","стягнення забезпечення","Позичальник","невідомо","2011 рік"]
["380236_20211130_38","Дельта","04/09/11-КЛТ","стягнення заборгованості","Позичальник","невідомо","2014 рік"]
["380236_20211130_38","Дельта","04/09/11-КЛТ","стягнення забезпечення","Поручитель","невідомо","2017 рік"]
["380236_20211130_39","Дельта","04/14/11-КЛТ","стягнення забезпечення","Поручитель","невідомо","2017 рік"]
["380236_20211130_39","Дельта","04/14/11-КЛТ","визнання зобов'язань недійсними","3-і особи","невідомо","2016 рік"]
["380236_20211130_39","Дельта","04/14/11-КЛТ","інше","3-і особи","невідомо","2016 рік"]
["380236_2570501675_3","Дельта","15/038/08-ZKLN","стягнення заборгованості","Позичальник","невідомо","2010 рік"]
["322294_05414930_1","Експобанк","МКЛ-06/04",null,null,null,null,null,null,null,"2009-12-15","ТАК","ТАК","2009-12-15","2017-04-27",null,"НІ"]
["322294_32828901_2","Експобанк","22/05","стягнення заборгованості","Позичальник","2009-11-11","2011-04-14","2012-07-30","НІ","НІ",null,null,null,null,null,null,"НІ"]
["322294_32828901_2","Експобанк","22/05","стягнення заборгованості","Поручитель","2009-11-11","2011-04-12","2012-07-30","НІ","НІ",null,null,null,null,null,null,"НІ"]
["322294_2948914139_3","Експобанк","337/АК-2008","стягнення заборгованості","Позичальник","2010-11-04","2014-01-17","2014-07-16","НІ","НІ",null,null,null,null,null,null,"НІ"]
["322294_2910419879_4","Експобанк","10/2007USD","стягнення заборгованості","Позичальник","2011-06-06","2011-07-04","2012-07-24","НІ","НІ",null,null,null,null,null,null,"НІ"]
["322294_2769202575_5","Експобанк","348/АК-2008","стягнення заборгованості","Позичальник","2010-11-03","2011-09-28",null,null,null,null,null,null,null,null,null,"НІ"]
["322294_3142613997_6","Експобанк","9/2008USD","стягнення заборгованості","Позичальник","2011-06-09","2011-07-25","2012-02-09","НІ","НІ",null,null,null,null,null,null,"НІ"]
["322294_3142613997_7","Експобанк","362/АК-2008","стягнення заборгованості","Позичальник","2011-04-14","2011-06-16","2013-09-09","НІ","НІ",null,null,null,null,null,null,"НІ"]
["322294_3056001530_8","Експобанк","237/АК-2007","стягнення заборгованості","Позичальник","2016-06-01","2016-06-22",null,null,null,null,null,null,null,null,null,"НІ"]
["322294_2520354658_9","Експобанк","2/2008USD","стягнення заборгованості","Позичальник","2008-04-30","2011-08-19","2012-01-23","НІ","НІ",null,null,null,null,null,null,"НІ"]
["322294_2851805590_10","Експобанк","4/2008USD","стягнення заборгованості","Позичальник"," -","2011-08-02","2012-02-13","ТАК","ТАК",null,null,null,null,null,null,"НІ"]
["322294_1972604829_11","Експобанк","6/2008USD","стягнення заборгованості","Позичальник","2011-06-16","2012-04-27","2013-01-10","ТАК","НІ",null,null,null,null,null,null,"НІ"]
["322294_2754323735_12","Експобанк","73/08","стягнення заборгованості","Позичальник","2010-07-30","2011-03-04","2014-09-02","НІ","ТАК",null,null,null,null,null,null,"НІ"]
["322294_2959710515_13","Експобанк","144/AK-2007","стягнення заборгованості","Позичальник","2009-11-03","2012-11-02","2015-01-29","ТАК","НІ",null,null,null,null,null,null,"НІ"]
["322294_3017921419_14","Експобанк","360/АК-2008","стягнення заборгованості","Позичальник","2009-10-12","2013-03-24","2013-08-01","ТАК","НІ",null,null,null,null,null,null,"НІ"]
["322294_3165522553_15","Експобанк","36/2008USD","стягнення заборгованості","Позичальник","2009-11-16","2011-07-26","2011-11-04","ТАК","НІ",null,null,null,null,null,null,"НІ"]
["322294_3165522553_16","Експобанк","1/2008USD","стягнення заборгованості","Позичальник","2008-04-22","2011-07-08","2011-11-04","ТАК","НІ",null,null,null,null,null,null,"НІ"]
["322294_2749703563_18","Експобанк","309/AK-2008","стягнення заборгованості","Позичальник","2008-04-14","2011-06-14","2016-03-18","НІ","НІ",null,null,null,null,null,null,"НІ"]
["322294_2630510319_19","Експобанк","3/2008USD","стягнення заборгованості","Позичальник","2011-06-07","2011-07-21","2011-10-12","НІ","НІ",null,null,null,null,null,null,"НІ"]
["322294_34443505_20","Експобанк","17/10-ОВ","стягнення заборгованості","Позичальник","2013-04-18","2013-02-14"," 21.07.2015","НІ","НІ",null,null,null,null,null,null,"НІ"]
["322294_32957211_21","Експобанк",26,"стягнення заборгованості","Позичальник","2013-05-20","2013-08-02","04.09.2017 постанова про повернення виконавчого документа стягувачеві","НІ","НІ",null,null,null,null,null,null,"НІ"]
["322294_32957211_21","Експобанк",26,"стягнення забезпечення","Поручитель","2013-05-22","2014-07-16",null,"НІ","НІ",null,null,null,null,null,null,"НІ"]
["322294_32957211_21","Експобанк",26,"стягнення забезпечення","Поручитель","2014-07-14","2014-08-16","18.01.2016 постанова про відмову у відкритіт виконавчого провдження","НІ","НІ",null,null,null,null,null,null,"НІ"]
["322294_32957211_21","Експобанк",26,"стягнення забезпечення","Поручитель","2013-05-22","2014-07-22",null,"НІ","НІ",null,null,null,null,null,null,"НІ"]
["322294_32957211_21","Експобанк",26,"стягнення забезпечення","Поручитель","2013-05-22","2014-07-22",null,"НІ","НІ",null,null,null,null,null,null,"НІ"]
["322294_32385871_22","Експобанк",54,"стягнення заборгованості","Солідарно","2013-02-21","2013-03-28","Постанова від 20.11.2017 та постанова від 12.12.2016 про поверненян виконавчого документа стягувачеві","НІ","НІ",null,null,null,null,null,null,"НІ"]
["322294_32385871_22","Експобанк",54,"стягнення забезпечення","Поручитель","2015-07-27","2015-08-28",null,"НІ","НІ",null,null,null,null,null,null,"НІ"]
["322294_2373910472_23","Експобанк","33","стягнення заборгованості","Солідарно",null,"2015-12-24",null,"НІ","НІ",null,null,null,null,null,null,"НІ"]
["322294_2373910472_23","Експобанк","33","інше","Поручитель",null,"2017-06-12",null,"НІ","НІ",null,null,null,null,null,null,"НІ"]
["322294_2373910472_23","Експобанк","33","інше","Поручитель",null,"2017-08-07",null,"НІ","НІ",null,null,null,null,null,null,"НІ"]
["322294_2373910472_23","Експобанк","33","інше","Поручитель",null,"2015-12-17",null,"НІ","НІ",null,null,null,null,null,null,"НІ"]
["380708__1","380708__1",""]
["320702_33578062_1","Національний кредит","53/3-08","стягнення заборгованості","Позичальник",null,"2010-12-08","ні","ні","ні","ні","Ні","Ні",null,"2015-10-05","ні","НІ"]
["320702_34718537_2","Національний кредит","62-07","стягнення забезпечення","Поручитель",null,"2013-07-15","ні","ні",null,"ні",null,null,null,"2017-08-17",null,"НІ"]
["320702_34344109_3","Національний кредит","16ю/2008/02-382/2-1","стягнення заборгованості","Позичальник",null,null,"2016-02-04","ні","ні","ні",null,null,null,null,null,"НІ"]
["320702_37911098_4","Національний кредит","ID5201196","стягнення заборгованості","Позичальник",null,null,"ні","ні","ні","ні",null,null,null,null,null,"НІ"]
["_32166813_1","ПАТ \"ВБР\"","MSBKOB4.2686.010","стягнення заборгованості в розмірі 130 924,99 грн.","позичальник/поручитель","не відправлялась","2018-04-25","ні","ні","ні","ні","ні","ні","ні","ні","ні","ні"]
["_32166813_2","ПАТ \"ВБР\"","KCCGMCG.2686.007","стягнення заборгованості в розмірі 23 821,79 грн.","позичальник","не відправлялась","2018-04-20","ні","ні","ні","ні","ні","ні","ні","ні","ні","ні"]
["_37095386_3","ПАТ \"ВБР\"","MSBKOB3.9737.001","стягнення заборгованості в розмірі 479 961,50 грн.","позичальник/поручитель","не має інформації","2012-07-02","ні","ні","ні","ні","ні","ні","ні","ні","ні","ні"]
["_37331878_4","ПАТ \"ВБР\"","MSBKOB3.199144.002","стягнення заборгованості в розмірі 257 310,79 грн.","позичальник/поручитель","не має інформації","2014-10-27","14.07.2015; 13.11.2017","так","ні","ні","ні","ні","ні","ні","ні","ні"]
["_32727466_5","ПАТ \"ВБР\"","MKLNU4.517.009","стягнення заборгованості в розмірі 786 369,44 грн.","позичальник/поручитель","не відправлялась","2015-07-16","ні","ні","ні","ні","ні","ні","ні","ні","ні","ні"]
["_32727466_6","ПАТ \"ВБР\"","MKLNU4.517.018","стягнення заборгованості в розмірі 43 966,37 грн.","позичальник/поручитель","не відправлялась","2015-07-16","ні","ні","ні","ні","ні","ні","ні","ні","ні","ні"]
["_32727466_6","ПАТ \"ВБР\"","MKLNU4.517.018","стягнення заборгованості в розмірі 20842,70 грн.","позичальник","не відправлялась","2018-05-30","ні","ні","ні","ні","ні","ні","ні","ні","ні","ні"]
["_36935542_7","ПАТ \"ВБР\"","MSBKOB1.5819.011","готується позов","позичальник/ поручитель","не відправлялась","не звертались","ні","ні","ні","ні","ні","ні","ні","ні","ні","ні"]
["380537_2915201630_1","ВіЕйБі","154/05ф","стягнення заборгованості","Позичальник",null,"2008-11-05",null,"НІ","НІ"]
["380537_2394816673_2","ВіЕйБі","59/05ф","стягнення заборгованості","Позичальник",null,"11.08.2008\n",null,"НІ","НІ"]
["380537_2394816673_2","ВіЕйБі","59/05ф","стягнення заборгованості","Позичальник",null,"2016-11-25"]
["380537_2563511597_3","ВіЕйБі","96/05ф","стягнення заборгованості","Позичальник",null,"2008-08-25",null,"НІ","НІ"]
["380537_2235418578_4","ВіЕйБі","94/05ф","визнання зобов'язань недійсними","Позичальник",null,null,null,"НІ","НІ"]
["380537_2235418578_4","ВіЕйБі","94/05ф","стягнення заборгованості","Позичальник","2017-10-26","2008-10-02",null,"НІ","НІ"]
["380537_1907501987_5","ВіЕйБі","127/04ф","стягнення заборгованості","Позичальник",null,null,null,"НІ","НІ"]
["380537_2799416397_6","ВіЕйБі","97/04ф","стягнення заборгованості","Позичальник",null,"інформація відсутня"]
["380537_2528218818_7","ВіЕйБі","60/05ф","стягнення заборгованості","Позичальник",null,"2008-06-10",null,"НІ","НІ"]
["380537_2528218818_7","ВіЕйБі","60/05ф",null,null,null,null,null,"НІ","НІ",null,"НІ","НІ"]
["380537_2815604274_8","ВіЕйБі","01/05ф","стягнення заборгованості","Позичальник",null,null,null,"НІ","НІ"]
["380537_2127002193_9","ВіЕйБі","150/05ф","стягнення заборгованості","Солідарно"]
["380537_3003800778_10","ВіЕйБі","140/05ф","стягнення заборгованості","Позичальник",null,null,null,"НІ","ні",null,"НІ","НІ"]
["380537_2458406816_11","ВіЕйБі","90/05ф","стягнення заборгованості","Солідарно",null,"2008-08-26"]
["380537_2350220452_12","ВіЕйБі","178/07ф","стягнення заборгованості","Позичальник",null,null,null,"НІ","НІ",null,"НІ","НІ"]
["380537_2588608926_13","ВіЕйБі","45/06ф","стягнення заборгованості","Позичальник",null,"1905-07-01",null,"НІ","НІ"]
["380537_2853420118_14","ВіЕйБі","91/05ф","стягнення заборгованості","Позичальник"]
["380537_3048914979_15","ВіЕйБі","29/06ф","стягнення заборгованості","Позичальник",null,"2008-06-20","ні"]
["380537_3048914979_15","ВіЕйБі","29/06ф","стягнення заборгованості","Позичальник",null,"2008-06-20",null,"ні","ні"]
["380537_3048914979_15","ВіЕйБі","29/06ф","стягнення заборгованості","Позичальник",null,"2018-06-19",null,"НІ","НІ",null,"НІ"]
["380537_1939121633_16","ВіЕйБі","26/06ф","стягнення заборгованості","Позичальник",null,"2017-01-17",null,"НІ","НІ"]
["380537_3022714454_17","ВіЕйБі","24/05ф","стягнення заборгованості","Позичальник",null,null,null,"НІ","НІ","ні","ні","НІ"]
["380537_3022714454_17","ВіЕйБі","24/05ф",null,null,null,null,"ні","НІ","НІ","ні","НІ","НІ"]
["380537_2425113539_18","ВіЕйБі","47/05ф","стягнення заборгованості","Позичальник",null,"2017-08-10",null,"НІ","НІ"]
["380537_2822705432_19","ВіЕйБі","07/05ф","стягнення заборгованості","Позичальник",null,"2008-06-18","2016-04-04","ТАК","НІ"]
["380537_2822705432_19","ВіЕйБі","07/05ф","стягнення заборгованості","Позичальник",null,"2008-11-05",null,"НІ","НІ"]
["380537_2822412335_20","ВіЕйБі","158/05ф","стягнення заборгованості","Позичальник",null,"2008-08-18","2016-10-21","ТАК","НІ"]
["380537_2998808594_21","ВіЕйБі","52/05ф","стягнення заборгованості","Позичальник",null,"2008-08-22",null,"НІ","НІ",null,"НІ","НІ"]
["380537_2529107595_22","ВіЕйБі","141/05ф","стягнення заборгованості","Позичальник",null,null,"ні","НІ","НІ",null,"НІ"]
["380537_2894322736_23","ВіЕйБі","155/05ф","стягнення заборгованості","Позичальник",null,"2008-06-11",null,"НІ","НІ"]
["380537_2573421455_24","ВіЕйБі","132/04ф","стягнення заборгованості","Позичальник",null,null,null,"НІ","НІ",null,"НІ","НІ"]
["380537_2456615918_25","ВіЕйБі","34/05ф","стягнення заборгованості","Солідарно"]
["380537_2930706717_26","ВіЕйБі","152/04ф"]
["380537_2930706717_26","ВіЕйБі","152/04ф","стягнення заборгованості","Позичальник",null,null,null,"НІ","НІ",null,"НІ","НІ"]
["380537_2900521050_27","ВіЕйБі","158/04ф","стягнення заборгованості","Позичальник",null,null,null,"НІ","НІ"]
["380537_2856608017_28","ВіЕйБі","161/06ф","стягнення заборгованості","Позичальник",null,"2008-11-04",null,"НІ"]
["380537_2856608017_28","ВіЕйБі","161/06ф","стягнення заборгованості","Поручитель",null,"2008-11-04",null,"НІ"]
["380537_2905719371_29","ВіЕйБі","01/07ф","стягнення заборгованості","Позичальник",null,"2008-06-23",null,"НІ"]
["380537_2905719371_29","ВіЕйБі","01/07ф","стягнення заборгованості","Поручитель",null,"2008-06-23",null,"НІ"]
["380537_2530201235_30","ВіЕйБі","71/05ф","стягнення заборгованості","Солідарно"]
["380537_2793608293_31","ВіЕйБі","79/04ф","стягнення заборгованості","Позичальник"]
["380537_2884304316_32","ВіЕйБі","94/07ф","стягнення заборгованості","Солідарно",null,"2010-09-13",null,"НІ","НІ"]
["380537_2884304316_32","ВіЕйБі","94/07ф","стягнення заборгованості","Солідарно",null,"2015-12-29",null,"НІ","НІ"]
["380537_3037012119_33","ВіЕйБі","102/06ф","стягнення заборгованості","Позичальник",null,"2017-05-23","2018-01-16","ТАК","НІ"]
["380537_2852216052_34","ВіЕйБі","121/05ф","стягнення заборгованості","Позичальник","2008-02-28","2008-06-19",null,"НІ"]
["380537_2852216052_34","ВіЕйБі","121/05ф","стягнення заборгованості","Позичальник",null,"2017-07-26",null,"НІ"]
["380537_2036615437_35","ВіЕйБі","220/06ф","стягнення заборгованості","Солідарно",null,"2010-07-16",null,"НІ","НІ"]
["380537_2756316557_36","ВіЕйБі","143/05ф","стягнення заборгованості","Позичальник",null,"2008-06-18",null,"НІ","НІ"]
["380537_2998700891_37","ВіЕйБі","32/05ф","стягнення заборгованості","Солідарно",null,"2008-08-10",null,"НІ","НІ"]
["380537_1986119158_38","ВіЕйБі","08/05ф","стягнення забезпечення","3-і особи",null,"2009-02-16",null,"НІ"]
["380537_2619016397_39","ВіЕйБі","73/05ф","стягнення заборгованості","Позичальник","2008-03-20","2010-07-14",null,"НІ"]
["380537_2619016397_39","ВіЕйБі","73/05ф","стягнення заборгованості","Поручитель","2008-03-20","2010-07-14",null,"НІ"]
["380537_2619016397_39","ВіЕйБі","73/05ф","стягнення заборгованості","Поручитель","2008-03-20","2010-07-14","2017-01-25","ТАК"]
["380537_2616107612_40","ВіЕйБі","105/06ф","стягнення заборгованості","Солідарно",null,"2010-09-19",null,"НІ","НІ"]
["380537_2589809317_41","ВіЕйБі","21/05ф","стягнення заборгованості","Солідарно",null,"2008-08-18",null,"ТАК"]
["380537_2589809317_41","ВіЕйБі","21/05ф",null,null,null,null,null,"НІ"]
["380537_2803612256_42","ВіЕйБі","122/06ф","стягнення заборгованості","Солідарно",null,null,null,"НІ"]
["380537_2803612256_42","ВіЕйБі","122/06ф","стягнення заборгованості","Позичальник",null,"2017-03-07",null,"НІ"]
["380537_2803612256_42","ВіЕйБі","122/06ф","стягнення забезпечення","Поручитель",null,null,null,"НІ"]
["380537_2579614476_43","ВіЕйБі","132/06ф","стягнення заборгованості","Солідарно",null,"2009-02-05"]
["380537_2761203591_44","ВіЕйБі","137/04ф","стягнення заборгованості","Солідарно",null,"2008-06-18",null,"ні","ні"]
["380537_2175901859_45","ВіЕйБі","145/04ф","стягнення заборгованості","Солідарно",null,"2008-06-09",null,"НІ","НІ"]
["380537_2552800900_46","ВіЕйБі","153/04ф","стягнення заборгованості","Солідарно",null,"2008-11-05","2010-08-04","НІ","НІ"]
["380537_2480818478_47","ВіЕйБі","156/04ф","стягнення заборгованості","Солідарно",null,"2008-08-29",null,"НІ","НІ"]
["380537_2480818478_47","ВіЕйБі","156/04ф","стягнення заборгованості","Солідарно",null,"2008-08-29",null,"НІ","НІ"]
["380537_2062818894_48","ВіЕйБі","78/04ф","стягнення заборгованості","Солідарно",null,"2008-07-29",null,"НІ","НІ"]
["380537_2197325139_49","ВіЕйБі","284/06ф","стягнення заборгованості","Солідарно",null,"2008-06-23",null,"НІ","НІ"]
["380537_2197325139_49","ВіЕйБі","284/06ф",null,null,null,null,null,"НІ","НІ"]
["380537_2879809138_50","ВіЕйБі","75/06ф","стягнення заборгованості","Позичальник",null,"2010-08-25",null,null,"НІ"]
["380537_2879809138_50","ВіЕйБі","75/06ф",null,null,null,null,null,null,"НІ"]
["380537_2531407715_51","ВіЕйБі","87/04ф","стягнення заборгованості","Солідарно",null,"2008-10-02",null,"НІ","НІ"]
["380537_2531407715_51","ВіЕйБі","87/04ф",null,null,null,null,null,"НІ","НІ"]
["380537_2455516353_52","ВіЕйБі","49/05ф","стягнення заборгованості","Солідарно",null,"2008-06-09",null,null,"НІ"]
["380537_2455516353_52","ВіЕйБі","49/05ф",null,null,null,null,null,null,"НІ"]
["380537_2455516353_52","ВіЕйБі","49/05ф",null,null,null,null,null,null,"НІ"]
["380537_2740707550_53","ВіЕйБі","200/06ф","стягнення заборгованості","Солідарно",null,"2008-06-12",null,null,"НІ"]
["380537_2740707550_53","ВіЕйБі","200/06ф",null,null,null,null,null,null,"НІ"]
["380537_2735604494_54","ВіЕйБі","75/05ф","стягнення заборгованості","Солідарно",null,"2008-08-13",null,"НІ","НІ"]
["380537_2735604494_54","ВіЕйБі","75/05ф",null,null,null,null,null,"НІ","НІ"]
["380537_2735604494_54","ВіЕйБі","75/05ф",null,null,null,null,null,"НІ","НІ"]
["380537_2765403533_55","ВіЕйБі","58/06ф","стягнення заборгованості","Позичальник",null,"2008-10-29",null,"НІ","НІ"]
["380537_2338818454_56","ВіЕйБі","110/05ф","стягнення заборгованості","Позичальник",null,"2008-08-22"]
["380537_2513101139_58","ВіЕйБі","80/06ф","стягнення заборгованості","Солідарно"]
["380537_2790900695_59","ВіЕйБі","58/05ф","стягнення заборгованості","Солідарно",null,"2008-08-18"]
["380537_1708808730_60","ВіЕйБі","06/05ф","стягнення заборгованості","Солідарно",null,null,null,"НІ","НІ"]
["380537_2965418334_61","ВіЕйБі","55/05ф","стягнення заборгованості","Солідарно",null,"2008-08-29"]
["380537_2934217663_62","ВіЕйБі","280/06ф","стягнення заборгованості","Позичальник"]
["380537_2804421218_63","ВіЕйБі","83/05ф","стягнення забезпечення","Позичальник",null,"2008-07-18"]
["380537_2499015250_64","ВіЕйБі","54/06ф","стягнення заборгованості","Солідарно",null,"2008-06-23",null,"НІ","НІ"]
["380537_2812535119_65","ВіЕйБі","145/06Ф","стягнення заборгованості","Солідарно",null,"2008-08-27"]
["380537_2812535119_65","ВіЕйБі","145/06Ф","стягнення заборгованості","Солідарно",null,"2018-03-02"]
["380537_2391813296_66","ВіЕйБі","116/04ф","стягнення заборгованості","Солідарно",null,"2008-08-18",null,"НІ"]
["380537_2391813296_66","ВіЕйБі","116/04ф",null,null,null,null,null,"НІ"]
["380537_2093026433_67","ВіЕйБі","123/05ф","стягнення заборгованості","Солідарно",null,"2011-05-12",null,"НІ"]
["380537_2612807556_68","ВіЕйБі","57/05ф","стягнення заборгованості","Солідарно","2008-03-20","2008-06-17",null,"НІ"]
["380537_2612807556_68","ВіЕйБі","57/05ф",null,null,null,null,null,"НІ"]
["380537_2612807556_68","ВіЕйБі","57/05ф",null,null,null,null,null,"НІ"]
["380537_2960220270_69","ВіЕйБі","32/06ф","стягнення заборгованості","Позичальник",null,"2010-08-06","2017-08-16","ТАК","НІ"]
["380537_2970513906_70","ВіЕйБі","157/07ф","стягнення заборгованості","Позичальник",null,null,null,"НІ"]
["380537_2037610312_71","ВіЕйБі","39/06ф","стягнення заборгованості","Солідарно",null,"2010-07-16","2016-12-09","ТАК"]
["380537_3050225277_72","ВіЕйБі","14/06ф",null,"Позичальник"]
["380537_2076114294_73","ВіЕйБі","93/04ф",null,null,null,null,null,"НІ","НІ",null,"НІ","НІ"]
["380537_2076114294_73","ВіЕйБі","93/04ф","стягнення заборгованості","Позичальник",null,"2008-08-18",null,"НІ","НІ"]
["380537_2208615397_74","ВіЕйБі","78/05ф","стягнення заборгованості","Позичальник",null,"2009-03-13",null,"НІ","НІ"]
["380537_2826907734_75","ВіЕйБі","144/05ф","стягнення заборгованості","Позичальник",null,"2010-07-12",null,"ні","ні"]
["380537_2767607217_76","ВіЕйБі","56/05ф","стягнення заборгованості","Солідарно",null,"2008-08-29",null,"НІ","НІ"]
["380537_2870704217_77","ВіЕйБі","74/05ф","стягнення заборгованості","Солідарно",null,"2008-08-01",null,"НІ","НІ"]
["380537_3053621994_78","ВіЕйБі","36/05ф","стягнення заборгованості","Солідарно","2008-04-07","2008-06-23",null,"НІ","НІ"]
["380537_2417901475_79","ВіЕйБі","86/06ф","стягнення заборгованості","Позичальник",null,null,null,"НІ","НІ"]
["380537_2898414255_80","ВіЕйБі","77/05ф","стягнення заборгованості","Позичальник",null,"2008-07-01"]
["380537_2725507959_81","ВіЕйБі","169/06ф","стягнення заборгованості","Солідарно",null,"2008-06-13",null,"НІ","НІ"]
["380537_2866623452_82","ВіЕйБі","76/05ф","стягнення заборгованості","Солідарно",null,"2008-06-20"]
["380537_2722123357_83","ВіЕйБі","81/06ф","стягнення заборгованості","Солідарно",null,null,null,"НІ","НІ"]
["380537_2144109036_84","ВіЕйБі","98/04ф","стягнення заборгованості","Солідарно",null,null,null,"НІ","НІ"]
["380537_2797816676_85","ВіЕйБі","208/06ф","стягнення заборгованості","Позичальник",null,"2010-10-27","2018-03-06","ТАК","НІ"]
["380537_2782216899_86","ВіЕйБі","04/06ф","стягнення заборгованості","Позичальник",null,"2010-07-23",null,"ні","ні"]
["380537_2230415299_87","ВіЕйБі","185/07ф","стягнення заборгованості","Позичальник",null,"2015-08-11"]
["380537_2230415299_87","ВіЕйБі","185/07ф","стягнення забезпечення","Поручитель",null,"2015-08-11"]
["380537_2673709570_88","ВіЕйБі","72/05ф","стягнення заборгованості","Позичальник",null,"2008-06-23",null,"ні","ні"]
["380537_2673709570_88","ВіЕйБі","72/05ф","про стягнення заборгованості","Позичальник",null,"2016-12-27",null,"ні"]
["380537_2672201290_89","ВіЕйБі","26/05ф","стягнення заборгованості","Позичальник",null,"2008-08-27"]
["380537_2939726418_90","ВіЕйБі","66/05ф","стягнення заборгованості","Солідарно","2008-06-16","2010-06-17"]
["380537_2555316619_91","ВіЕйБі","46/05ф","стягнення заборгованості","Позичальник",null,"2010-07-05",null,"НІ","НІ"]
["380537_2751813779_92","ВіЕйБі","116/06ф","про стягнення заборгованості","Позичальник",null,"2010-07-27",null,"ні","ні"]
["380537_2406111594_93","ВіЕйБі","95/05ф","про стягнення заборгованості","Позичальник"]
["380537_2406111594_93","ВіЕйБі","95/05ф","про видачу дублікату виконавчого листа та поновлення строку на його виконання","Солідарно"]
["380537_2773917158_94","ВіЕйБі","67/05ф","про стягнення заборгованості","Позичальник",null,"2008-08-27",null,"ні","ні"]
["380537_2773917158_94","ВіЕйБі","67/05ф","про стягнення заборгованості","Позичальник",null,"27.12.2016р."]
["380537_2515201116_95","ВіЕйБі","209/06ф",null,null,null,null,null,"ні","ні"]
["380537_3005201092_96","ВіЕйБі","25/05ф","про стягнення заборгованості","Позичальник",null,"2008-06-23",null,"ні","ні"]
["380537_3005201092_96","ВіЕйБі","25/05ф","про стягнення заборгованості","Позичальник",null,"2016-12-27",null,"ні","ні"]
["380537_2161318038_97","ВіЕйБі","124/06ф","про стягнення заборгованості","Позичальник",null,"2009-02-05",null,"ні","ні"]
["380537_1807701154_98","ВіЕйБі","100/04ф","про стягнення заборгованості","Позичальник",null,"2008-08-22",null,"ні","ні"]
["380537_1807701154_98","ВіЕйБі","100/04ф",null,null,null,null,null,"ні","ні"]
["380537_2640512231_99","ВіЕйБі","21/07ю","про стягнення заборгованості","Позичальник",null,null,null,"ні","ні","2011-10-10","так","так","2011-10-31","2013-04-10","ні"]
["380537_2640512231_99","ВіЕйБі","21/07ю","банкрутство","Позичальник",null,null,null,"ні","ні","2011-10-10","так","так","2011-10-31","2013-04-10","ні"]
["380537_2330800170_100","ВіЕйБі","10/07ю","стягнення заборгованості","Солідарно",null,"2009-03-25",null,"НІ","НІ","2011-10-07","ТАК","ТАК","2012-01-24","2013-05-21"]
["380537_2764112250_101","ВіЕйБі","09/07ю","стягнення заборгованості","Позичальник",null,"2016-10-26",null,"НІ","НІ","2013-01-08","ТАК","ТАК","2013-01-29","2014-05-22"]
["380537_2390519256_102","ВіЕйБі","35/06ю","банкрутство","Позичальник",null,"2013-02-27",null,null,null,"2013-02-27","ТАК","ТАК","2013-03-06",null,null,"НІ"]
["380537_2265924457_103","ВіЕйБі","03/07ю","банкрутство","Позичальник",null,"2013-10-09",null,"ні","ні","2013-10-09","ТАК","ТАК","2013-10-30","2017-11-15",null,"ТАК"]
["380537_2586613959_104","ВіЕйБі","19/07ю","стягнення заборгованості","Позичальник",null,"2016-10-20",null,"НІ","НІ",null,"ТАК","ТАК","2012-06-12","2015-01-15"]
["380537_2177316971_105","ВіЕйБі","36/06ю","стягнення заборгованості","Позичальник"]
["380537_2177316971_105","ВіЕйБі","36/06ю","банкрутство","Позичальник"]
["380537_2177316971_105","ВіЕйБі","36/06ю","стягнення заборгованості","Позичальник"]
["380537_2248719053_106","ВіЕйБі","26/06ю","стягнення заборгованості","Позичальник",null,"2016-10-19",null,"НІ","НІ","2013-01-18","ТАК","ТАК","2013-03-07","2014-05-22"]
["380537_2291419034_107","ВіЕйБі","30/06ю","банкрутство","Позичальник",null,"2013-02-05",null,"НІ",null,"2013-03-20","ТАК","ТАК","2013-03-06","2013-09-18"]
["380537_2487612754_108","ВіЕйБі","27/07ю","про стягнення заборгованості","Позичальник",null,null,null,"ні","ні","2013-01-17","так","так","2013-02-06","2014-03-05","ні"]
["380537_2487612754_108","ВіЕйБі","27/07ю","банкрутство","Позичальник",null,null,null,"ні","ні","2013-01-17","так","так","2013-02-06","2014-03-05","ні"]
["380537_2487612754_108","ВіЕйБі","27/07ю","про стягнення заборгованості","Позичальник",null,"2016-10-20","2018-05-10","так","ні","2013-01-17","так","так","2013-02-06","2014-03-05","ні"]
["380537_2772306398_109","ВіЕйБі","01/07ю","банкрутство","Позичальник",null,"2012-12-28",null,null,null,null,"ТАК","ТАК","2013-01-02","2016-10-17",null,"НІ"]
["380537_2392201171_110","ВіЕйБі","31/06ю","банкрутство","Позичальник",null,null,null,"НІ",null,"2012-01-12","ТАК","ТАК","2012-03-01","2012-10-09"]
["380537_2392201171_110","ВіЕйБі","31/06ю","стягнення заборгованості","Позичальник",null,"2016-10-19",null,"НІ"]
["380537_1142700047_111","ВіЕйБі","34/06ю","банкрутство","Позичальник",null,"2011-02-10",null,"НІ",null,"2011-02-15","ТАК","ТАК","2011-03-21","2012-11-05"]
["380537_1142700047_111","ВіЕйБі","34/06ю","стягнення заборгованості","Позичальник",null,"2018-04-10",null,"НІ"]
["380537_3020900418_112","ВіЕйБі","37/06ю","банкрутство","Позичальник",null,"2012-12-29",null,"ТАК","НІ",null,null,null,"2013-01-28",null,null,"НІ"]
["380537_2948400993_113","ВіЕйБі","23/07ю","про стягнення заборгованості","Позичальник",null,null,null,"ні","ні","2013-01-08","так","так","2013-01-29","2013-10-03"]
["380537_2948400993_113","ВіЕйБі","23/07ю","банкрутство","Позичальник",null,null,null,"ні","ні","2013-01-08","так","так","2013-01-29","2013-10-03"]
["380537_2948400993_113","ВіЕйБі","23/07ю","про стягнення заборгованості","Позичальник",null,null,null,"ні","ні","2013-01-08","так","так","2013-01-29","2013-10-03"]
["380537_32696344_114","ВіЕйБі","31/07ю","банкрутство","Позичальник",null,"2013-02-05",null,"ТАК","НІ","2014-12-26","ТАК","ТАК"]
["380537_35226749_115","ВіЕйБі","17/07 SME","банкрутство","Позичальник ",null,"1905-07-03"]
["380537_2588608926_13","ВіЕйБі","45/06ф","стягнення заборгованості","Позичальник",null,null,null,"ні","ні"]
["380537_2894322736_23","ВіЕйБі","155/05ф","стягнення заборгованості",null,null,null,null,"ні","ні"]
["380537_2350220452_12","ВіЕйБі","178/07ф","стягнення заборгованості","Позичальник",null,null,null,"НІ","НІ"]
["380537_1939121633_16","ВіЕйБі","26/06ф","стягнення заборгованості","Позичальник",null,null,null,"НІ","НІ"]
["380537_2291419034_107","ВіЕйБі","30/06ю","стягнення заборгованості","Позичальник",null,"2017-01-27",null,"НІ"]
["380537_3005201092_96","ВіЕйБі","25/05ф","поновлення строку виконавчого листа","Позичальник",null,"2017-01-18"]
["380537_1807701154_98","ВіЕйБі","100/04ф","про стягнення заборгованості","Позичальник",null,"2017-01-04",null,"ні","ні"]
["380537_2782216899_86","ВіЕйБі","04/06ф","поновлення строку виконавчого листа","Позичальник",null,"2016-07-20"]
["380537_2782216899_86","ВіЕйБі","04/06ф","про стягнення заборгованості","Позичальник",null,"2016-12-26"]
["380537_2970513906_70","ВіЕйБі","157/07ф","стягнення заборгованості","Поручитель",null,null,null,"НІ"]
["380537_2826907734_75","ВіЕйБі","144/05ф","стягнення заборгованості","Позичальник",null,"2017-03-29","2017-05-22","ТАК"]
["339339_35520700_1","Міський комерційний банк","430/980-ЮО","стягнення заборгованості","Позичальник",null,"2009-02-03",null,"НІ","НІ",null,null,null,null,null,null,"НІ"]
["339339_35520700_1","Міський комерційний банк","430/980-ЮО","стягнення заборгованості","Позичальник",null,"2015-06-10","2015-07-29","НІ","НІ",null,null,null,null,null,null,"НІ"]
["300175_25488379_1","ФІДОБАНК","1717","стягнення заборгованості","Солідарно","2013-01-23","2013-08-15",null,null,null,null,null,null,null,null,null,"НІ"]
["300175_2629916367_2","ФІДОБАНК","012/0456/1/15458","інше",null,"не надсил.",null,null,null,null,null,null,null,null,null,null,"НІ"]
["300175_34305960_3","ФІДОБАНК","2241Ю","стягнення заборгованості","Позичальник","не надсил.","2016-11-04",null,null,null,null,null,null,null,null,null,"НІ"]
["300175_34669380_4","ФІДОБАНК","229Ю","стягнення заборгованості","Солідарно",null,"2016-04-04","2017-11-21","ТАК","НІ",null,null,null,null,null,null,"НІ"]
["300175_39197628_5","ФІДОБАНК","1697Ю","стягнення заборгованості","Позичальник",null,"2017-03-24",null,null,null,null,null,null,null,null,null,"НІ"]
["300175_39197900_6","ФІДОБАНК","1781Ю","інше",null,null,null,null,null,null,null,null,null,null,null,null,"НІ"]
["300175_39197900_7","ФІДОБАНК","2188Ю","інше",null,null,null,null,null,null,null,null,null,null,null,null,"НІ"]
["300175_39197900_8","ФІДОБАНК","502015К","інше",null,null,null,null,null,null,null,null,null,null,null,null,"НІ"]
["300175_39197900_9","ФІДОБАНК","622015К","інше",null,null,null,null,null,null,null,null,null,null,null,null,"НІ"]
["300175_25425083_10","ФІДОБАНК","011-05/1174","стягнення заборгованості","Солідарно",null,"2012-02-23","2017-03-05","ТАК","ТАК",null,null,null,null,null,null,"НІ"]
["300175_25425083_11","ФІДОБАНК","012-05/808","стягнення заборгованості","Солідарно",null,"2012-02-23","2017-03-05","ТАК","ТАК",null,null,null,null,null,null,"НІ"]
["300175_32913627_12","ФІДОБАНК","012-05/936","стягнення заборгованості","Солідарно","2014-07-04","2014-08-28","2016-05-11","ТАК","НІ",null,null,null,null,null,null,"НІ"]
["300175_32913627_13","ФІДОБАНК","012-05/920","стягнення заборгованості","Солідарно","2014-07-04","2014-08-28","2016-05-11","ТАК","НІ",null,null,null,null,null,null,"НІ"]
["320995_21925618_1","БГ банк","02КР-13",null,null,null,null,null,null,null,"2016-02-16","так","так","2016-08-22"]
["300272_34566283_1","Енергобанк",8,"банкрутство","Позичальник","-","2008-08-08","-","НІ","НІ","2008-07-14","ТАК","ТАК","2008-07-30","2009-12-24","-","НІ"]
["380474_37955952_1","ТРАСТ","Договір факторингу №20150430","стягнення заборгованості","Позичальник","2017-02-08","2017-05-11","2017-08-14","так","ні"]
["305062_33124030_1","Новий","78307/01","стягнення заборгованості","Позичальник","2012-10-04","2010-11-19","2011-02-23","НІ","НІ",null,"ТАК","ТАК","2011-08-25","2016-01-11","НІ","НІ"]
["305062_32906083_2","Новий","1450607/01","стягнення заборгованості","Позичальник","2011-09-02","2012-05-22",null,"НІ","НІ",null,"ТАК","ТАК","2012-07-12","2015-08-19","НІ","НІ"]
["300131_33386745_1","Фінанси та Кредит","18-01-08","1)Звернення стягнення на заставне майно 2)Інше 3)Стягнення боргу 4)Інше","позичальник/поручителі","1)04.02.2014 2)18.06.2015 3)20.03.2015 4)08.04.2015","1)04.10.2014 2)18.06.2015 3)03.06.2015 4)08.04.2015",null,null,null,"2015-04-14",null,null,"2017-05-15",null,"дані відсутні"]
["351931_37878936_1","Золоті Ворота","18","стягнення заборгованості","Позичальник",null,"2015-06-09","2015-11-05","ні","ні",null,null,null,null,null,null,"ні"]
["351931_37878936_2","Золоті Ворота",18,"стягнення заборгованості","Позичальник",null,"2015-06-09","2015-11-05","ні","ні",null,null,null,null,null,null,"ні"]
["351931_37878674_3","Золоті Ворота","29","стягнення заборгованості","Позичальник",null,"2015-01-28","2015-12-15","ні","ні",null,null,null,null,null,null,"ні"]
["351931_36033910_4","Золоті Ворота","253","стягнення заборгованості","Позичальник",null,"2015-01-30","2016-05-11","так","ні",null,null,null,null,null,null,"ні"]
["351931_36033910_5","Золоті Ворота","81","стягнення заборгованості","Позичальник",null,"2015-01-28",null,null,null,null,null,null,null,null,null,"ні"]
["351931_36033910_6","Золоті Ворота","81","стягнення заборгованості","Позичальник",null,"2015-01-28",null,null,null,null,null,null,null,null,null,"ні"]
["351931_36033910_7","Золоті Ворота","81","стягнення заборгованості","Позичальник",null,"2015-01-28",null,null,null,null,null,null,null,null,null,"ні"]
["351931_36816266_8","Золоті Ворота","82","стягнення заборгованості","Позичальник",null,"2015-01-28","2016-08-05","ні","ні",null,null,null,null,null,null,"ні"]
["351931_36816266_9","Золоті Ворота","184","стягнення заборгованості","Позичальник",null,"2015-01-28","2016-08-05","ні","ні",null,null,null,null,null,null,"ні"]
["351931_36816266_10","Золоті Ворота","184","стягнення заборгованості","Позичальник",null,"2015-01-28","2016-08-05","ні","ні",null,null,null,null,null,null,"ні"]
["351931_32031993_11","Золоті Ворота","188","стягнення заборгованості","Позичальник",null,"2015-01-23","2016-02-15","ні","ні",null,null,null,null,null,null,"ні"]
["351931_32031993_12","Золоті Ворота","49","стягнення заборгованості","Позичальник",null,"2015-01-28","2016-02-11","ні","ні",null,null,null,null,null,null,"ні"]
["351931_36224590_13","Золоті Ворота","55","стягнення заборгованості","Позичальник","2014-07-21","2015-01-26","2015-01-30","ні","ні",null,null,null,null,null,null,"ні"]
["351931_36224590_14","Золоті Ворота","55","стягнення заборгованості","Позичальник","2014-07-21","2015-01-26","2015-01-30","ні","ні",null,null,null,null,null,null,"ні"]
["351931_36224590_15","Золоті Ворота","55","стягнення заборгованості","Позичальник","2014-07-21","2015-01-26","2015-01-30","ні","ні",null,null,null,null,null,null,"ні"]
["351931_37574936_16","Золоті Ворота","61","стягнення заборгованості","Позичальник",null,"2015-06-22","2016-09-29","ні","ні",null,null,null,null,null,null,"ні"]
["351931_37574920_17","Золоті Ворота","62","стягнення заборгованості","Позичальник",null,"2016-02-02",null,null,null,null,null,null,null,null,null,"так"]
[null,"",""]
[null,"",""]
[null,"",""]
[null,"",""]
[null,"",""]
[null,"",""]
[null,"",""]
[null,"",""]
[null,"",""]
[null,"",""]
[null,"",""]
[null,"",""]
[null,"",""]
[null,"",""]
[null,"",""]
[null,"",""]
[null,"",""]
[null,"",""]
[null,"",""]
[null,"",""]
[null,"",""]
[null,"",""]
[null,"",""]
[null,"",""]
[null,"",""]
[null,"",""]
[null,"",""]
[null,"",""]
[null,"",""]
[null,"",""]
[null,"",""]
[null,"",""]
[null,"",""]
[null,"",""]
[null,"",""]
[null,"",""]
[null,"",""]
[null,"",""]
[null,"",""]
[null,"",""]
[null,"",""]
[null,"",""]
[null,"",""]
[null,"",""]
[null,"",""]
[null,"",""]
[null,"",""]
[null,"",""]
[null,"",""]
[null,"",""]
[null,"",""]
[null,"",""]
[null,"",""]
[null,"",""]
[null,"",""]
[null,"",""]
[null,"",""]
[null,"",""]
[null,"",""]
[null,"",""]
[null,"",""]
[null,"",""]
[null,"",""]
[null,"",""]
[null,"",""]
[null,"",""]
[null,"",""]
[null,"",""]
[null,"",""]
[null,"",""]
[null,"",""]
[null,"",""]
[null,"",""]
[null,"",""]
[null,"",""]
[null,"",""]
[null,"",""]
[null,"",""]
[null,"",""]
[null,"",""]
[null,"",""]
[null,"",""]
[null,"",""]
[null,"",""]
[null,"",""]
[null,"",""]
[null,"",""]
[null,"",""]
[null,"",""]
[null,"",""]
[null,"",""]
[null,"",""]
[null,"",""]
[null,"",""]
[null,"",""]
[null,"",""]
[null,"",""]
[null,"",""]
[null,"",""]
[null,"",""]
[null,"",""]
[null,"",""]
[null,"",""]
[null,"",""]
[null,"",""]
[null,"",""]
[null,"",""]
[null,"",""]
[null,"",""]
[null,"",""]
[null,"",""]
[null,"",""]
[null,"",""]
[null,"",""]
[null,"",""]
[null,"",""]
[null,"",""]
[null,"",""]
[null,"",""]
[null,"",""]
[null,"",""]
[null,"",""]
[null,"",""]
[null,"",""]
[null,"",""]
[null,"",""]
[null,"",""]
[null,"",""]
[null,"",""]
[null,"",""]
[null,"",""]
[null,"",""]
[null,"",""]
[null,"",""]
[null,"",""]
[null,"",""]
[null,"",""]
[null,"",""]
[null,"",""]
[null,"",""]
[null,"",""]
[null,"",""]
[null,"",""]
[null,"",""]
[null,"",""]
[null,"",""]
[null,"",""]
[null,"",""]
[null,"",""]
[null,"",""]
[null,"",""]
[null,"",""]
[null,"",""]
[null,"",""]
[null,"",""]
[null,"",""]
[null,"",""]
[null,"",""]
[null,"",""]
[null,"",""]
[null,"",""]
[null,"",""]
[null,"",""]
[null,"",""]
[null,"",""]
[null,"",""]
[null,"",""]
[null,"",""]
[null,"",""]
[null,"",""]
[null,"",""]
[null,"",""]
[null,"",""]
[null,"",""]
[null,"",""]
[null,"",""]
[null,"",""]
[null,"",""]
[null,"",""]
[null,"",""]
[null,"",""]
[null,"",""]
[null,"",""]
[null,"",""]
[null,"",""]
[null,"",""]
[null,"",""]
[null,"",""]
[null,"",""]
[null,"",""]
[null,"",""]
[null,"",""]
[null,"",""]
[null,"",""]
[null,"",""]
[null,"",""]
[null,"",""]
[null,"",""]
[null,"",""]
[null,"",""]
[null,"",""]
[null,"",""]
[null,"",""]
[null,"",""]
[null,"",""]
[null,"",""]
[null,"",""]
[null,"",""]
[null,"",""]
[null,"",""]
[null,"",""]
[null,"",""]
[null,"",""]
[null,"",""]
[null,"",""]
[null,"",""]
[null,"",""]
[null,"",""]
[null,"",""]
[null,"",""]
[null,"",""]
[null,"",""]
[null,"",""]
[null,"",""]
[null,"",""]
[null,"",""]
[null,"",""]
[null,"",""]
[null,"",""]
[null,"",""]
[null,"",""]
[null,"",""]
[null,"",""]
[null,"",""]
[null,"",""]
[null,"",""]
[null,"",""]
[null,"",""]
[null,"",""]
[null,"",""]
[null,"",""]
[null,"",""]
[null,"",""]
[null,"",""]
[null,"",""]
[null,"",""]
[null,"",""]
[null,"",""]
[null,"",""]
[null,"",""]
[null,"",""]
[null,"",""]
[null,"",""]
[null,"",""]
[null,"",""]
[null,"",""]
[null,"",""]
[null,"",""]
[null,"",""]
[null,"",""]
[null,"",""]
[null,"",""]
[null,"",""]
[null,"",""]
[null,"",""]
[null,"",""]
[null,"",""]
[null,"",""]
[null,"",""]
[null,"",""]
[null,"",""]
[null,"",""]
[null,"",""]
[null,"",""]
[null,"",""]
[null,"",""]
[null,"",""]
[null,"",""]
[null,"",""]
[null,"",""]
[null,"",""]
[null,"",""]
[null,"",""]
[null,"",""]
[null,"",""]
[null,"",""]
[null,"",""]
[null,"",""]
[null,"",""]
[null,"",""]
[null,"",""]
[null,"",""]
[null,"",""]
[null,"",""]
[null,"",""]
[null,"",""]
[null,"",""]
[null,"",""]
[null,"",""]
[null,"",""]
[null,"",""]
[null,"",""]
[null,"",""]
[null,"",""]
[null,"",""]
[null,"",""]
[null,"",""]
[null,"",""]
[null,"",""]
[null,"",""]
[null,"",""]
[null,"",""]
[null,"",""]
[null,"",""]
[null,"",""]
[null,"",""]
[null,"",""]
[null,"",""]
[null,"",""]
[null,"",""]
[null,"",""]
[null,"",""]
[null,"",""]
[null,"",""]
[null,"",""]
[null,"",""]
[null,"",""]
[null,"",""]
[null,"",""]
[null,"",""]
[null,"",""]
[null,"",""]
[null,"",""]
[null,"",""]
[null,"",""]
[null,"",""]
[null,"",""]
[null,"",""]
[null,"",""]
[null,"",""]
[null,"",""]
[null,"",""]
[null,"",""]
[null,"",""]
[null,"",""]
[null,"",""]
[null,"",""]
[null,"",""]
[null,"",""]
[null,"",""]
[null,"",""]
[null,"",""]
[null,"",""]
[null,"",""]
[null,"",""]
[null,"",""]
[null,"",""]
[null,"",""]
[null,"",""]
[null,"",""]
[null,"",""]
[null,"",""]
[null,"",""]
[null,"",""]
[null,"",""]
[null,"",""]
[null,"",""]
[null,"",""]
[null,"",""]
[null,"",""]
[null,"",""]
[null,"",""]
[null,"",""]
[null,"",""]
[null,"",""]
[null,"",""]
[null,"",""]
[null,"",""]
[null,"",""]
[null,"",""]
[null,"",""]
[null,"",""]
[null,"",""]
[null,"",""]
[null,"",""]
[null,"",""]
[null,"",""]
[null,"",""]
[null,"",""]
[null,"",""]
[null,"",""]
[null,"",""]
[null,"",""]
[null,"",""]
[null,"",""]
[null,"",""]
[null,"",""]
[null,"",""]
[null,"",""]
[null,"",""]
[null,"",""]
[null,"",""]
[null,"",""]
[null,"",""]
[null,"",""]
[null,"",""]
[null,"",""]
[null,"",""]
[null,"",""]
[null,"",""]
[null,"",""]
[null,"",""]
[null,"",""]
[null,"",""]
[null,"",""]
[null,"",""]
[null,"",""]
[null,"",""]
[null,"",""]
[null,"",""]
[null,"",""]
[null,"",""]
[null,"",""]
[null,"",""]
[null,"",""]
[null,"",""]
[null,"",""]
[null,"",""]
[null,"",""]
[null,"",""]
[null,"",""]
[null,"",""]
[null,"",""]
[null,"",""]
[null,"",""]
[null,"",""]
[null,"",""]
[null,"",""]
[null,"",""]
[null,"",""]
[null,"",""]
[null,"",""]
[null,"",""]
[null,"",""]
[null,"",""]
[null,"",""]
[null,"",""]
[null,"",""]
[null,"",""]
[null,"",""]
[null,"",""]
[null,"",""]
[null,"",""]
[null,"",""]
[null,"",""]
[null,"",""]
[null,"",""]
[null,"",""]
[null,"",""]
[null,"",""]
[null,"",""]
[null,"",""]
[null,"",""]
[null,"",""]
[null,"",""]
[null,"",""]
[null,"",""]
[null,"",""]
[null,"",""]
[null,"",""]
[null,"",""]
[null,"",""]
[null,"",""]
[null,"",""]
[null,"",""]
[null,"",""]
[null,"",""]
[null,"",""]
[null,"",""]
[null,"",""]
[null,"",""]
[null,"",""]
[null,"",""]
[null,"",""]
[null,"",""]
[null,"",""]
[null,"",""]
[null,"",""]
[null,"",""]
[null,"",""]
[null,"",""]
[null,"",""]
[null,"",""]
[null,"",""]
[null,"",""]
[null,"",""]
[null,"",""]
[null,"",""]
[null,"",""]
[null,"",""]
[null,"",""]
[null,"",""]
[null,"",""]
[null,"",""]
[null,"",""]
[null,"",""]
[null,"",""]
[null,"",""]
[null,"",""]
[null,"",""]
[null,"",""]
[null,"",""]
[null,"",""]
[null,"",""]
[null,"",""]
[null,"",""]
[null,"",""]
[null,"",""]
[null,"",""]
[null,"",""]
[null,"",""]
[null,"",""]
[null,"",""]
[null,"",""]
[null,"",""]
[null,"",""]
[null,"",""]
[null,"",""]
[null,"",""]
[null,"",""]
[null,"",""]
[null,"",""]
[null,"",""]
[null,"",""]
[null,"",""]
[null,"",""]
[null,"",""]
[null,"",""]
[null,"",""]
[null,"",""]
[null,"",""]
[null,"",""]
[null,"",""]
[null,"",""]
[null,"",""]
[null,"",""]
[null,"",""]
[null,"",""]
[null,"",""]
[null,"",""]
[null,"",""]
[null,"",""]
[null,"",""]
[null,"",""]
[null,"",""]
[null,"",""]
[null,"",""]
[null,"",""]
[null,"",""]
[null,"",""]
[null,"",""]
[null,"",""]
[null,"",""]
[null,"",""]
[null,"",""]
[null,"",""]
[null,"",""]
[null,"",""]
[null,"",""]
[null,"",""]
[null,"",""]
[null,"",""]
[null,"",""]
[null,"",""]
[null,"",""]
[null,"",""]
[null,"",""]
[null,"",""]
[null,"",""]
[null,"",""]
[null,"",""]
[null,"",""]
[null,"",""]
[null,"",""]
[null,"",""]
[null,"",""]
[null,"",""]
[null,"",""]
[null,"",""]
[null,"",""]
[null,"",""]
[null,"",""]
[null,"",""]
[null,"",""]
[null,"",""]
[null,"",""]
[null,"",""]
[null,"",""]
[null,"",""]
[null,"",""]
[null,"",""]
[null,"",""]
[null,"",""]
[null,"",""]
[null,"",""]
[null,"",""]
[null,"",""]
[null,"",""]
[null,"",""]
[null,"",""]
[null,"",""]
[null,"",""]
[null,"",""]
[null,"",""]
[null,"",""]
[null,"",""]
[null,"",""]
[null,"",""]
[null,"",""]
[null,"",""]
[null,"",""]
[null,"",""]
[null,"",""]
[null,"",""]
[null,"",""]
[null,"",""]
[null,"",""]
[null,"",""]
[null,"",""]
[null,"",""]
[null,"",""]
[null,"",""]
[null,"",""]
[null,"",""]
[null,"",""]
[null,"",""]
[null,"",""]
[null,"",""]
[null,"",""]
[null,"",""]
[null,"",""]
[null,"",""]
[null,"",""]
[null,"",""]
[null,"",""]
[null,"",""]
[null,"",""]
[null,"",""]
[null,"",""]
[null,"",""]
[null,"",""]
[null,"",""]
[null,"",""]
[null,"",""]
[null,"",""]
[null,"",""]
[null,"",""]
[null,"",""]
[null,"",""]
[null,"",""]
[null,"",""]
[null,"",""]
[null,"",""]
[null,"",""]
[null,"",""]
[null,"",""]
[null,"",""]
[null,"",""]
[null,"",""]
[null,"",""]
[null,"",""]
[null,"",""]
[null,"",""]
[null,"",""]
[null,"",""]
[null,"",""]
[null,"",""]
[null,"",""]
[null,"",""]
[null,"",""]
[null,"",""]
[null,"",""]
[null,"",""]
[null,"",""]
[null,"",""]
[null,"",""]
[null,"",""]
[null,"",""]
[null,"",""]
[null,"",""]
[null,"",""]
[null,"",""]
[null,"",""]
[null,"",""]
[null,"",""]
[null,"",""]
[null,"",""]
[null,"",""]
[null,"",""]
[null,"",""]
[null,"",""]
[null,"",""]
[null,"",""]
[null,"",""]
[null,"",""]
[null,"",""]
[null,"",""]
[null,"",""]
[null,"",""]
[null,"",""]
[null,"",""]
[null,"",""]
[null,"",""]
[null,"",""]
[null,"",""]
[null,"",""]
[null,"",""]
[null,"",""]
[null,"",""]
[null,"",""]
[null,"",""]
[null,"",""]
[null,"",""]
[null,"",""]
[null,"",""]
[null,"",""]
[null,"",""]
[null,"",""]
[null,"",""]
[null,"",""]
[null,"",""]
[null,"",""]
[null,"",""]
[null,"",""]
[null,"",""]
[null,"",""]
[null,"",""]
[null,"",""]
[null,"",""]
[null,"",""]
[null,"",""]
[null,"",""]
[null,"",""]
[null,"",""]
[null,"",""]
[null,"",""]
[null,"",""]
[null,"",""]
[null,"",""]
[null,"",""]
[null,"",""]
[null,"",""]
[null,"",""]
[null,"",""]
[null,"",""]
[null,"",""]
[null,"",""]
[null,"",""]
[null,"",""]
[null,"",""]
[null,"",""]
[null,"",""]
[null,"",""]
[null,"",""]
[null,"",""]
[null,"",""]
[null,"",""]
[null,"",""]
[null,"",""]
[null,"",""]
[null,"",""]
[null,"",""]
[null,"",""]
[null,"",""]
[null,"",""]
[null,"",""]
[null,"",""]
[null,"",""]
[null,"",""]
[null,"",""]
[null,"",""]
[null,"",""]
[null,"",""]
[null,"",""]
[null,"",""]
[null,"",""]
[null,"",""]
[null,"",""]
[null,"",""]
[null,"",""]
[null,"",""]
[null,"",""]
[null,"",""]
[null,"",""]
[null,"",""]
[null,"",""]
[null,"",""]
[null,"",""]
[null,"",""]
[null,"",""]
[null,"",""]
[null,"",""]
[null,"",""]
[null,"",""]
[null,"",""]
[null,"",""]
[null,"",""]
[null,"",""]
[null,"",""]
[null,"",""]
[null,"",""]
[null,"",""]
[null,"",""]
[null,"",""]
[null,"",""]
[null,"",""]
[null,"",""]
[null,"",""]
[null,"",""]
[null,"",""]
[null,"",""]
[null,"",""]
[null,"",""]
[null,"",""]
[null,"",""]
[null,"",""]
[null,"",""]
[null,"",""]
[null,"",""]
[null,"",""]
[null,"",""]
[null,"",""]
[null,"",""]
[null,"",""]
[null,"",""]
[null,"",""]
[null,"",""]
[null,"",""]
[null,"",""]
[null,"",""]
[null,"",""]
[null,"",""]
[null,"",""]
[null,"",""]
[null,"",""]
[null,"",""]
[null,"",""]
[null,"",""]
[null,"",""]
[null,"",""]
[null,"",""]
[null,"",""]
[null,"",""]
[null,"",""]
[null,"",""]
[null,"",""]
[null,"",""]
[null,"",""]
[null,"",""]
[null,"",""]
[null,"",""]
[null,"",""]
[null,"",""]
[null,"",""]
[null,"",""]
[null,"",""]
[null,"",""]
[null,"",""]
[null,"",""]
[null,"",""]
[null,"",""]
[null,"",""]
[null,"",""]
[null,"",""]
[null,"",""]
[null,"",""]
[null,"",""]
[null,"",""]
[null,"",""]
[null,"",""]
[null,"",""]
[null,"",""]
[null,"",""]
[null,"",""]
[null,"",""]
[null,"",""]
[null,"",""]
[null,"",""]
[null,"",""]
[null,"",""]
[null,"",""]
[null,"",""]
[null,"",""]
[null,"",""]
[null,"",""]
[null,"",""]
[null,"",""]
[null,"",""]
[null,"",""]
[null,"",""]
[null,"",""]
[null,"",""]
[null,"",""]
[null,"",""]
[null,"",""]
[null,"",""]
[null,"",""]
[null,"",""]
[null,"",""]
[null,"",""]
[null,"",""]
[null,"",""]
[null,"",""]
[null,"",""]
[null,"",""]
[null,"",""]
[null,"",""]
[null,"",""]
[null,"",""]
[null,"",""]
[null,"",""]
[null,"",""]
[null,"",""]
[null,"",""]
[null,"",""]
[null,"",""]
[null,"",""]
[null,"",""]
[null,"",""]
[null,"",""]
[null,"",""]
[null,"",""]
[null,"",""]
[null,"",""]
[null,"",""]
[null,"",""]
[null,"",""]
[null,"",""]
[null,"",""]
[null,"",""]
[null,"",""]
[null,"",""]
[null,"",""]
[null,"",""]
[null,"",""]
[null,"",""]
[null,"",""]
[null,"",""]
[null,"",""]
[null,"",""]
[null,"",""]
[null,"",""]
[null,"",""]
[null,"",""]
[null,"",""]
[null,"",""]
[null,"",""]
[null,"",""]
[null,"",""]
[null,"",""]
[null,"",""]
[null,"",""]
[null,"",""]
[null,"",""]
[null,"",""]
[null,"",""]
[null,"",""]
[null,"",""]
[null,"",""]
[null,"",""]
[null,"",""]
[null,"",""]
[null,"",""]
[null,"",""]
[null,"",""]
[null,"",""]
[null,"",""]
[null,"",""]
[null,"",""]
[null,"",""]
[null,"",""]
[null,"",""]
[null,"",""]
[null,"",""]
[null,"",""]
[null,"",""]
[null,"",""]
[null,"",""]
[null,"",""]
[null,"",""]
[null,"",""]
[null,"",""]
[null,"",""]
[null,"",""]
[null,"",""]
[null,"",""]
[null,"",""]
[null,"",""]
[null,"",""]
[null,"",""]
[null,"",""]
[null,"",""]
[null,"",""]
[null,"",""]
[null,"",""]
[null,"",""]
[null,"",""]
[null,"",""]
[null,"",""]
[null,"",""]
[null,"",""]
[null,"",""]
[null,"",""]
[null,"",""]
[null,"",""]
[null,"",""]
[null,"",""]
[null,"",""]
[null,"",""]
[null,"",""]
[null,"",""]
[null,"",""]
[null,"",""]
[null,"",""]
[null,"",""]
[null,"",""]
[null,"",""]
[null,"",""]
[null,"",""]
[null,"",""]
[null,"",""]
[null,"",""]
[null,"",""]
[null,"",""]
[null,"",""]
[null,"",""]
[null,"",""]
[null,"",""]
[null,"",""]
[null,"",""]
[null,"",""]
[null,"",""]
[null,"",""]
[null,"",""]
[null,"",""]
[null,"",""]
[null,"",""]
[null,"",""]
[null,"",""]
[null,"",""]
[null,"",""]
[null,"",""]
[null,"",""]
[null,"",""]
[null,"",""]
[null,"",""]
[null,"",""]
[null,"",""]
[null,"",""]
[null,"",""]
[null,"",""]
[null,"",""]
[null,"",""]
[null,"",""]
[null,"",""]
[null,"",""]
[null,"",""]
[null,"",""]
[null,"",""]
[null,"",""]
[null,"",""]
[null,"",""]
[null,"",""]
[null,"",""]
[null,"",""]
[null,"",""]
[null,"",""]
[null,"",""]
[null,"",""]
[null,"",""]
[null,"",""]
[null,"",""]
[null,"",""]
[null,"",""]
[null,"",""]
[null,"",""]
[null,"",""]
[null,"",""]
[null,"",""]
[null,"",""]
[null,"",""]
[null,"",""]
[null,"",""]
[null,"",""]
[null,"",""]
[null,"",""]
[null,"",""]
[null,"",""]
[null,"",""]
[null,"",""]
[null,"",""]
[null,"",""]
[null,"",""]
[null,"",""]
[null,"",""]
[null,"",""]
[null,"",""]
[null,"",""]
[null,"",""]
[null,"",""]
[null,"",""]
[null,"",""]
[null,"",""]
[null,"",""]
[null,"",""]
[null,"",""]
[null,"",""]
[null,"",""]
[null,"",""]
[null,"",""]
[null,"",""]
[null,"",""]
[null,"",""]
[null,"",""]
[null,"",""]
[null,"",""]
[null,"",""]
[null,"",""]
[null,"",""]
[null,"",""]
[null,"",""]
[null,"",""]
[null,"",""]
[null,"",""]
[null,"",""]
[null,"",""]
[null,"",""]
[null,"",""]
[null,"",""]
[null,"",""]
[null,"",""]
[null,"",""]
[null,"",""]
[null,"",""]
[null,"",""]
[null,"",""]
[null,"",""]
[null,"",""]
[null,"",""]
[null,"",""]
[null,"",""]
[null,"",""]
[null,"",""]
[null,"",""]
[null,"",""]
[null,"",""]
[null,"",""]
[null,"",""]
[null,"",""]
[null,"",""]
[null,"",""]
[null,"",""]
[null,"",""]
[null,"",""]
[null,"",""]
[null,"",""]
[null,"",""]
[null,"",""]
[null,"",""]
[null,"",""]
[null,"",""]
[null,"",""]
[null,"",""]
[null,"",""]
[null,"",""]
[null,"",""]
[null,"",""]
[null,"",""]
[null,"",""]
[null,"",""]
[null,"",""]
[null,"",""]
[null,"",""]
[null,"",""]
[null,"",""]
[null,"",""]
[null,"",""]
[null,"",""]
[null,"",""]
[null,"",""]
[null,"",""]
[null,"",""]
[null,"",""]
[null,"",""]
[null,"",""]
[null,"",""]
[null,"",""]
[null,"",""]
[null,"",""]
[null,"",""]
[null,"",""]
[null,"",""]
[null,"",""]
[null,"",""]
[null,"",""]
[null,"",""]
[null,"",""]
[null,"",""]
[null,"",""]
[null,"",""]
[null,"",""]
[null,"",""]
[null,"",""]
[null,"",""]
[null,"",""]
[null,"",""]
[null,"",""]
[null,"",""]
[null,"",""]
[null,"",""]
[null,"",""]
[null,"",""]

{"sheet":"4.журнал торгів","index":3,"n_rows":1209,"n_cols":8,"rows_kept":1209,"cut":false,"hidden":false,"merged":[[150,3,152,3],[150,4,152,4],[150,5,152,5],[150,6,152,6],[150,7,152,7]]}
[null,"Цей документ був підготовлений Фондом гарантування вкладів фізичних осіб (далі – Фонд) виключно для інформаційних цілей і не повинен вважатися як спонукання до будь-яких дій чи бездіяльності. \nІнформація, що міститься в цьому документі, була отримана з/або ґрунтується на джерелах які вважаються надійними, але не є вичерпною та не може сприйматися як повна або актуальна. Рішення покупця щодо будь яких дій або бездіяльності повинно ґрунтуватися на власних оцінках та дослідженнях майна (активу/активів) котре реалізуються. Фонд не несе відповідальності за рішення покупця та його наслідки, що ґрунтується на інформації викладеній в даному документі."]
[]
[]
[]
[]
[]
["unicid","Банк","№ кред. Дог","Кількість торгів","Початкова вартість реалізації","Ціна на останніх торгах","№ лота","Дата проведення останнього аукціону "]
["380236_31553711_1","Дельта","02/158/07-КЛТ",9,5337623.54,1067524.71,"F11GL15965","2018-04-18"]
["380236_31553711_2","Дельта","02/179/07-КЛТ",9,3537654.95,707530.99,"F11GL15965","2018-04-18"]
["380236_2570501675_3","Дельта","15/038/08-ZKLN",9,427267.98,85453.59,"F11GL15965","2018-04-18"]
["380236_2570503638_4","Дельта","11328116000",9,737499.19,147499.84,"F11GL18397","2018-04-18"]
["380236_23461005_5","Дельта","07/059/06-КЛТ",9,5069548.7,1013909.74,"F11GL15967","2018-04-18"]
["380236_34383703_6","Дельта","33/КВ-08",9,124724.5,24944.9,"F11GL18388","2018-04-18"]
["380236_3151219640_7","Дельта","11406970000",9,675657.79,135131.56,"F11GL18398","2018-04-18"]
["380236_33110948_8","Дельта","11399961000",9,346689.59,69337.919999999998,"F11GL18399","2018-04-18"]
["380236_2966112741_9","Дельта","11173398000",9,2073449.9,414689.98,"F11GL18396","2018-04-18"]
["380236_2966112741_10","Дельта","11187599000",9,1821648.35,364329.67,"F11GL18396","2018-04-18"]
["380236_04541632_11","Дельта","3.3ДС/243/2006-КЛТ  ",9,4506365.91,901273.18,"F11GL15964","2018-04-18"]
["380236_2271005012_12","Дельта","10938875000",9,38150.99,7630.2,"F11GL18389","2018-04-18"]
["380236_2271005012_13","Дельта","10938900000",9,316214.2,63242.84,"F11GL18389","2018-04-18"]
["380236_35907006_14","Дельта","КЮ-О-2011019",9,350516.49,70103.3,"F11GL18366","2018-04-18"]
["380236_35907006_15","Дельта","18/2011019-14623",9,600,120,"F11GL18366","2018-04-18"]
["380236_32143995_16","Дельта","11186006000",9,7288403.9000000004,1457680.78,"F11GL18367","2018-04-18"]
["380236_31043568_17","Дельта","02/149/07-КЛТ",9,3290666.41,658133.28,"F11GL15966","2018-04-18"]
["380236_32663497_18","Дельта","278/КВ-07",9,738754.38,147750.88,"F11GL18390","2018-04-18"]
["380236_01412845_19","Дельта","11355256000",9,1284192.42,256838.48,"F11GL18391","2018-04-18"]
["380236_33554188_20","Дельта","3.3ДС/226/2007-КЛТ",9,2749535.63,549907.13,"F11GL18392","2018-04-18"]
["380236_37385352_21","Дельта","02/011/11-КЛТ",9,465427.4,93085.48,"F11GL18393","2018-04-18"]
["380236_25591321_22","Дельта","45/КВ-07",9,1509668.53,301933.71000000002,"F11GL18400","2018-04-18"]
["380236_25591321_23","Дельта","378/КВ-06",9,4292960.76,858592.15,"F11GL18400","2018-04-18"]
["380236_2703619911_24","Дельта","11384098000",9,244846.68,48969.34,"F11GL18368","2018-04-18"]
["380236_2703619911_25","Дельта","11197813000",9,1438070.76,287614.15000000002,"F11GL18368","2018-04-18"]
["380236_20906719_26","Дельта","02/107/08-КЛТ",9,5223249.8499999996,1044649.97,"F11GL18401","2018-04-18"]
["380236_2763223178_27","Дельта","11320937000",9,315115.40999999997,63023.08,"F11GL18369","2018-04-18"]
["380236_31792492_28","Дельта","08/33/07-КЛТ ",9,3410460.06,682092.01,"F11GL17994","2018-04-19"]
["380236_32475362_29","Дельта","11122813000",9,4613711.4400000004,922742.29,"F11GL17995","2018-04-19"]
["380236_32475362_30","Дельта","11145702000",9,3647366.58,729473.32,"F11GL17995","2018-04-19"]
["380236_31325209_31","Дельта","22/33/08-КЛТ",9,588729.73,117745.95,"F11GL17996","2018-04-19"]
["380236_31325209_32","Дельта","22/63/08-КЛТ",9,2201434.09,440286.82,"F11GL17996","2018-04-19"]
["380236_31325209_33","Дельта","22/82/07-КЛТ",9,4763552.55,952710.51,"F11GL17996","2018-04-19"]
["380236_31740926_34","Дельта","11253511000",9,17490056.210000001,3498011.24,"F11GL18365","2018-04-18"]
["380236_33336280_35","Дельта","11020848000",9,13798708.74,2759741.75,"F11GL18395","2018-04-18"]
["380236_2741902742_36","Дельта","11284520000",9,964104.06,192820.81,"F11GL18395","2018-04-18"]
["380236_13332413_37","Дельта","11072223000",9,18332566.300000001,3666513.26,"F11GL15963","2018-04-18"]
["380236_20211130_38","Дельта","04/09/11-КЛТ",9,7082000,1416400,"F11GL18394","2018-04-18"]
["380236_20211130_39","Дельта","04/14/11-КЛТ",9,11389903.6,2277980.7200000002,"F11GL18394","2018-04-18"]
["380236_31716783_40","Дельта","05/09/2008-КЛТ",9,13640135.210000001,2728027.04,"F11GL17993","2018-04-19"]
["380236_20474467_41","Дельта","11351678000",9,17955982.84,3591196.57,"F11GL17997","2018-04-19"]
["380236_32819389_42","Дельта","11356273000",9,13773425.76,2754685.15,"F11GL17998","2018-04-19"]
["322294_05414930_1","Експобанк","МКЛ-06/04",11,58115502.280000001,61299785.810000002,"F13GL19163","2018-04-19"]
["322294_32828901_2","Експобанк","22/05",11,1443909.6,13803304.449999999,"F13GL18842","2018-04-18"]
["322294_2948914139_3","Експобанк","337/АК-2008",13,2139014.09,2453667.13,"F13GL18843","2018-04-18"]
["322294_2910419879_4","Експобанк","10/2007USD",13,3589998.58,4282408.97,"F13GL18843","2018-04-18"]
["322294_2769202575_5","Експобанк","348/АК-2008",13,1148558.28,1370128.98,"F13GL18843","2018-04-18"]
["322294_3142613997_6","Експобанк","9/2008USD",13,1376431.25,1642032.07,"F13GL18843","2018-04-18"]
["322294_3142613997_7","Експобанк","362/АК-2008",13,445628.36,532428.06999999995,"F13GL18843","2018-04-18"]
["322294_3056001530_8","Експобанк","237/АК-2007",13,626814.78,747699.97,"F13GL18843","2018-04-18"]
["322294_2520354658_9","Експобанк","2/2008USD",13,2930173.4,3495958.9,"F13GL18843","2018-04-18"]
["322294_2851805590_10","Експобанк","4/2008USD",13,1252554.06,1387990.76,"F13GL18843","2018-04-18"]
["322294_1972604829_11","Експобанк","6/2008USD",13,2167888.36,2587440.39,"F13GL18843","2018-04-18"]
["322294_2754323735_12","Експобанк","73/08",10,25091642.77,12940953.300000001,"F13GL18844","2018-04-18"]
["322294_2959710515_13","Експобанк","144/AK-2007",13,1192413.33,1422080.66,"F13GL18843","2018-04-18"]
["322294_3017921419_14","Експобанк","360/АК-2008",13,2713487.32,3237054.56,"F13GL18843","2018-04-18"]
["322294_3165522553_15","Експобанк","36/2008USD",13,1644758.87,1962238.5,"F13GL18843","2018-04-18"]
["322294_3165522553_16","Експобанк","1/2008USD",13,2501353.81,2983632.58,"F13GL18843","2018-04-18"]
["322294_2652902233_17","Експобанк","8/2008USD",13,"867 800.04",1035254.41,"F13GL18843","2018-04-18"]
["322294_2749703563_18","Експобанк","309/AK-2008",13,"1 177 572.47",1404763.61,"F13GL18843","2018-04-18"]
["322294_2630510319_19","Експобанк","3/2008USD",13,"3 520 211.18",4199150.7,"F13GL18843","2018-04-18"]
["322294_34443505_20","Експобанк","17/10-ОВ",9,16519227.57,16519227.57,"F13GL18844","2018-04-18"]
["322294_32957211_21","Експобанк",26,16,"34 511 093.85",6545143.4699999997,"F13GL18841","2018-04-18"]
["322294_32385871_22","Експобанк",54,16,13783000,21929048.059999999,"F13GL18841","2018-04-18"]
["322294_2373910472_23","Експобанк","33",16,4225831.62,6036902.3200000003,"F13GL18841","2018-04-18"]
["322294_05414930_1","Експобанк","МКЛ-06/04",11,58115502.280000001,61299785.810000002,"F13GL19163","2018-04-19"]
["322294_32828901_2","Експобанк","22/05",11,1443909.6,13803304.449999999,"F13GL18842","2018-04-18"]
["322294_2948914139_3","Експобанк","337/АК-2008",13,2139014.09,2453667.13,"F13GL18843","2018-04-18"]
["322294_2910419879_4","Експобанк","10/2007USD",13,3589998.58,4282408.97,"F13GL18843","2018-04-18"]
["322294_2769202575_5","Експобанк","348/АК-2008",13,1148558.28,1370128.98,"F13GL18843","2018-04-18"]
["322294_3142613997_6","Експобанк","9/2008USD",13,1376431.25,1642032.07,"F13GL18843","2018-04-18"]
["322294_3142613997_7","Експобанк","362/АК-2008",13,445628.36,532428.06999999995,"F13GL18843","2018-04-18"]
["322294_3056001530_8","Експобанк","237/АК-2007",13,626814.78,747699.97,"F13GL18843","2018-04-18"]
["322294_2520354658_9","Експобанк","2/2008USD",13,2930173.4,3495958.9,"F13GL18843","2018-04-18"]
["322294_2851805590_10","Експобанк","4/2008USD",13,1252554.06,1387990.76,"F13GL18843","2018-04-18"]
["322294_1972604829_11","Експобанк","6/2008USD",13,2167888.36,2587440.39,"F13GL18843","2018-04-18"]
["322294_2754323735_12","Експобанк","73/08",10,25091642.77,12940953.300000001,"F13GL18844","2018-04-18"]
["322294_2959710515_13","Експобанк","144/AK-2007",13,1192413.33,1422080.66,"F13GL18843","2018-04-18"]
["322294_3017921419_14","Експобанк","360/АК-2008",13,2713487.32,3237054.56,"F13GL18843","2018-04-18"]
["322294_3165522553_15","Експобанк","36/2008USD",13,1644758.87,1962238.5,"F13GL18843","2018-04-18"]
["322294_3165522553_16","Експобанк","1/2008USD",13,2501353.81,2983632.58,"F13GL18843","2018-04-18"]
["322294_2652902233_17","Експобанк","8/2008USD",13,"867 800.04",1035254.41,"F13GL18843","2018-04-18"]
["322294_2749703563_18","Експобанк","309/AK-2008",13,"1 177 572.47",1404763.61,"F13GL18843","2018-04-18"]
["322294_2630510319_19","Експобанк","3/2008USD",13,"3 520 211.18",4199150.7,"F13GL18843","2018-04-18"]
["322294_34443505_20","Експобанк","17/10-ОВ",9,16519227.57,16519227.57,"F13GL18844","2018-04-18"]
["322294_32957211_21","Експобанк",26,16,"34 511 093.85",6545143.4699999997,"F13GL18841","2018-04-18"]
["322294_32385871_22","Експобанк",54,16,13783000,21929048.059999999,"F13GL18841","2018-04-18"]
["322294_2373910472_23","Експобанк","33",16,4225831.62,6036902.3200000003,"F13GL18841","2018-04-18"]
["322294_05414930_1","Експобанк","МКЛ-06/04",11,58115502.280000001,61299785.810000002,"F13GL19163","2018-04-19"]
["322294_32828901_2","Експобанк","22/05",11,1443909.6,13803304.449999999,"F13GL18842","2018-04-18"]
["322294_2948914139_3","Експобанк","337/АК-2008",13,2139014.09,2453667.13,"F13GL18843","2018-04-18"]
["322294_2910419879_4","Експобанк","10/2007USD",13,3589998.58,4282408.97,"F13GL18843","2018-04-18"]
["322294_2769202575_5","Експобанк","348/АК-2008",13,1148558.28,1370128.98,"F13GL18843","2018-04-18"]
["322294_3142613997_6","Експобанк","9/2008USD",13,1376431.25,1642032.07,"F13GL18843","2018-04-18"]
["322294_3142613997_7","Експобанк","362/АК-2008",13,445628.36,532428.06999999995,"F13GL18843","2018-04-18"]
["322294_3056001530_8","Експобанк","237/АК-2007",13,626814.78,747699.97,"F13GL18843","2018-04-18"]
["322294_2520354658_9","Експобанк","2/2008USD",13,2930173.4,3495958.9,"F13GL18843","2018-04-18"]
["322294_2851805590_10","Експобанк","4/2008USD",13,1252554.06,1387990.76,"F13GL18843","2018-04-18"]
["322294_1972604829_11","Експобанк","6/2008USD",13,2167888.36,2587440.39,"F13GL18843","2018-04-18"]
["322294_2754323735_12","Експобанк","73/08",10,25091642.77,12940953.300000001,"F13GL18844","2018-04-18"]
["322294_2959710515_13","Експобанк","144/AK-2007",13,1192413.33,1422080.66,"F13GL18843","2018-04-18"]
["322294_3017921419_14","Експобанк","360/АК-2008",13,2713487.32,3237054.56,"F13GL18843","2018-04-18"]
["322294_3165522553_15","Експобанк","36/2008USD",13,1644758.87,1962238.5,"F13GL18843","2018-04-18"]
["322294_3165522553_16","Експобанк","1/2008USD",13,2501353.81,2983632.58,"F13GL18843","2018-04-18"]
["322294_2652902233_17","Експобанк","8/2008USD",13,"867 800.04",1035254.41,"F13GL18843","2018-04-18"]
["322294_2749703563_18","Експобанк","309/AK-2008",13,"1 177 572.47",1404763.61,"F13GL18843","2018-04-18"]
["322294_2630510319_19","Експобанк","3/2008USD",13,"3 520 211.18",4199150.7,"F13GL18843","2018-04-18"]
["322294_34443505_20","Експобанк","17/10-ОВ",9,16519227.57,16519227.57,"F13GL18844","2018-04-18"]
["322294_32957211_21","Експобанк",26,16,"34 511 093.85",6545143.4699999997,"F13GL18841","2018-04-18"]
["322294_32385871_22","Експобанк",54,16,13783000,21929048.059999999,"F13GL18841","2018-04-18"]
["322294_2373910472_23","Експобанк","33",16,4225831.62,6036902.3200000003,"F13GL18841","2018-04-18"]
["322294_05414930_1","Експобанк","МКЛ-06/04",11,58115502.280000001,61299785.810000002,"F13GL19163","2018-04-19"]
["322294_32828901_2","Експобанк","22/05",11,1443909.6,13803304.449999999,"F13GL18842","2018-04-18"]
["322294_2948914139_3","Експобанк","337/АК-2008",13,2139014.09,2453667.13,"F13GL18843","2018-04-18"]
["322294_2910419879_4","Експобанк","10/2007USD",13,3589998.58,4282408.97,"F13GL18843","2018-04-18"]
["322294_2769202575_5","Експобанк","348/АК-2008",13,1148558.28,1370128.98,"F13GL18843","2018-04-18"]
["322294_3142613997_6","Експобанк","9/2008USD",13,1376431.25,1642032.07,"F13GL18843","2018-04-18"]
["322294_3142613997_7","Експобанк","362/АК-2008",13,445628.36,532428.06999999995,"F13GL18843","2018-04-18"]
["322294_3056001530_8","Експобанк","237/АК-2007",13,626814.78,747699.97,"F13GL18843","2018-04-18"]
["322294_2520354658_9","Експобанк","2/2008USD",13,2930173.4,3495958.9,"F13GL18843","2018-04-18"]
["322294_2851805590_10","Експобанк","4/2008USD",13,1252554.06,1387990.76,"F13GL18843","2018-04-18"]
["322294_1972604829_11","Експобанк","6/2008USD",13,2167888.36,2587440.39,"F13GL18843","2018-04-18"]
["322294_2754323735_12","Експобанк","73/08",10,25091642.77,12940953.300000001,"F13GL18844","2018-04-18"]
["322294_2959710515_13","Експобанк","144/AK-2007",13,1192413.33,1422080.66,"F13GL18843","2018-04-18"]
["322294_3017921419_14","Експобанк","360/АК-2008",13,2713487.32,3237054.56,"F13GL18843","2018-04-18"]
["322294_3165522553_15","Експобанк","36/2008USD",13,1644758.87,1962238.5,"F13GL18843","2018-04-18"]
["322294_3165522553_16","Експобанк","1/2008USD",13,2501353.81,2983632.58,"F13GL18843","2018-04-18"]
["322294_2652902233_17","Експобанк","8/2008USD",13,"867 800.04",1035254.41,"F13GL18843","2018-04-18"]
["322294_2749703563_18","Експобанк","309/AK-2008",13,"1 177 572.47",1404763.61,"F13GL18843","2018-04-18"]
["322294_2630510319_19","Експобанк","3/2008USD",13,"3 520 211.18",4199150.7,"F13GL18843","2018-04-18"]
["322294_34443505_20","Експобанк","17/10-ОВ",9,16519227.57,16519227.57,"F13GL18844","2018-04-18"]
["322294_32957211_21","Експобанк",26,16,"34 511 093.85",6545143.4699999997,"F13GL18841","2018-04-18"]
["322294_32385871_22","Експобанк",54,16,13783000,21929048.059999999,"F13GL18841","2018-04-18"]
["322294_2373910472_23","Експобанк","33",16,4225831.62,6036902.3200000003,"F13GL18841","2018-04-18"]
["380708_1","","",9,1435750,5743000,"F24GL17972","2018-04-18"]
["320702_33578062_1","Національний кредит","53/3-08",9,368825.87,79601.17,"F33GL18770","2018-04-18"]
["320702_34718537_2","Національний кредит","62-07",9,478539,97064.83,"F33GL18768","2018-04-18"]
["320702_34344109_3","Національний кредит","16ю/2008/02-382/2-1",9,610339.98,122068,"F33GL18769","2018-04-18"]
["320702_37911098_4","Національний кредит","ID5201196",9,429834.21,89931.18,"F33GL18771","2018-04-18"]
["_32166813_1","ПАТ \"ВБР\"","MSBKOB4.2686.010",1,152646.94,152646.94,"F37GL16265","2018-04-18"]
["_32166813_2","ПАТ \"ВБР\"","KCCGMCG.2686.007"]
["_37095386_3","ПАТ \"ВБР\"","MSBKOB3.9737.001",1,571292.35,571292.35,"F37GL16268","2018-04-18"]
["_37331878_4","ПАТ \"ВБР\"","MSBKOB3.199144.002",1,488320.75,488320.75,"F37GL16269","2018-04-18"]
["_32727466_5","ПАТ \"ВБР\"","MKLNU4.517.009",9,449304.99,501730.48,"F37GL16270","2018-04-18"]
["_32727466_6","ПАТ \"ВБР\"","MKLNU4.517.018"]
["_36935542_7","ПАТ \"ВБР\"","MSBKOB1.5819.011"]
["380537_2915201630_1","ВіЕйБі","154/05ф",2,263738066.47,52747613.289999999,"F39GL14563","2018-04-18"]
["380537_2394816673_2","ВіЕйБі","59/05ф"]
["380537_2563511597_3","ВіЕйБі","96/05ф"]
["380537_2235418578_4","ВіЕйБі","94/05ф"]
["380537_1907501987_5","ВіЕйБі","127/04ф"]
["380537_2799416397_6","ВіЕйБі","97/04ф"]
["380537_2528218818_7","ВіЕйБі","60/05ф"]
["380537_2815604274_8","ВіЕйБі","01/05ф"]
["380537_2127002193_9","ВіЕйБі","150/05ф"]
["380537_3003800778_10","ВіЕйБі","140/05ф"]
["380537_2458406816_11","ВіЕйБі","90/05ф"]
["380537_2350220452_12","ВіЕйБі","178/07ф"]
["380537_2588608926_13","ВіЕйБі","45/06ф"]
["380537_2853420118_14","ВіЕйБі","91/05ф"]
["380537_3048914979_15","ВіЕйБі","29/06ф"]
["380537_1939121633_16","ВіЕйБі","26/06ф"]
["380537_3022714454_17","ВіЕйБі","24/05ф"]
["380537_2425113539_18","ВіЕйБі","47/05ф"]
["380537_2822705432_19","ВіЕйБі","07/05ф"]
["380537_2822412335_20","ВіЕйБі","158/05ф"]
["380537_2998808594_21","ВіЕйБі","52/05ф"]
["380537_2529107595_22","ВіЕйБі","141/05ф"]
["380537_2894322736_23","ВіЕйБі","155/05ф"]
["380537_2573421455_24","ВіЕйБі","132/04ф"]
["380537_2456615918_25","ВіЕйБі","34/05ф"]
["380537_2930706717_26","ВіЕйБі","152/04ф"]
["380537_2900521050_27","ВіЕйБі","158/04ф"]
["380537_2856608017_28","ВіЕйБі","161/06ф"]
["380537_2905719371_29","ВіЕйБі","01/07ф"]
["380537_2530201235_30","ВіЕйБі","71/05ф"]
["380537_2793608293_31","ВіЕйБі","79/04ф"]
["380537_2884304316_32","ВіЕйБі","94/07ф"]
["380537_3037012119_33","ВіЕйБі","102/06ф"]
["380537_2852216052_34","ВіЕйБі","121/05ф"]
["380537_2036615437_35","ВіЕйБі","220/06ф"]
["380537_2756316557_36","ВіЕйБі","143/05ф"]
["380537_2998700891_37","ВіЕйБі","32/05ф"]
["380537_1986119158_38","ВіЕйБі","08/05ф"]
["380537_2619016397_39","ВіЕйБі","73/05ф"]
["380537_2616107612_40","ВіЕйБі","105/06ф"]
["380537_2589809317_41","ВіЕйБі","21/05ф"]
["380537_2803612256_42","ВіЕйБі","122/06ф"]
["380537_2579614476_43","ВіЕйБі","132/06ф"]
["380537_2761203591_44","ВіЕйБі","137/04ф"]
["380537_2175901859_45","ВіЕйБі","145/04ф"]
["380537_2552800900_46","ВіЕйБі","153/04ф"]
["380537_2480818478_47","ВіЕйБі","156/04ф"]
["380537_2062818894_48","ВіЕйБі","78/04ф"]
["380537_2197325139_49","ВіЕйБі","284/06ф"]
["380537_2879809138_50","ВіЕйБі","75/06ф"]
["380537_2531407715_51","ВіЕйБі","87/04ф"]
["380537_2455516353_52","ВіЕйБі","49/05ф"]
["380537_2740707550_53","ВіЕйБі","200/06ф"]
["380537_2735604494_54","ВіЕйБі","75/05ф"]
["380537_2765403533_55","ВіЕйБі","58/06ф"]
["380537_2338818454_56","ВіЕйБі","110/05ф"]
["380537_2067608693_57","ВіЕйБі","151/05ф"]
["380537_2513101139_58","ВіЕйБі","80/06ф"]
["380537_2790900695_59","ВіЕйБі","58/05ф"]
["380537_1708808730_60","ВіЕйБі","06/05ф"]
["380537_2965418334_61","ВіЕйБі","55/05ф"]
["380537_2934217663_62","ВіЕйБі","280/06ф"]
["380537_2804421218_63","ВіЕйБі","83/05ф"]
["380537_2499015250_64","ВіЕйБі","54/06ф"]
["380537_2812535119_65","ВіЕйБі","145/06Ф"]
["380537_2391813296_66","ВіЕйБі","116/04ф"]
["380537_2093026433_67","ВіЕйБі","123/05ф"]
["380537_2612807556_68","ВіЕйБі","57/05ф"]
["380537_2960220270_69","ВіЕйБі","32/06ф"]
["380537_2970513906_70","ВіЕйБі","157/07ф"]
["380537_2037610312_71","ВіЕйБі","39/06ф"]
["380537_3050225277_72","ВіЕйБі","14/06ф"]
["380537_2076114294_73","ВіЕйБі","93/04ф"]
["380537_2208615397_74","ВіЕйБі","78/05ф"]
["380537_2826907734_75","ВіЕйБі","144/05ф"]
["380537_2767607217_76","ВіЕйБі","56/05ф"]
["380537_2870704217_77","ВіЕйБі","74/05ф"]
["380537_3053621994_78","ВіЕйБі","36/05ф"]
["380537_2417901475_79","ВіЕйБі","86/06ф"]
["380537_2898414255_80","ВіЕйБі","77/05ф"]
["380537_2725507959_81","ВіЕйБі","169/06ф"]
["380537_2866623452_82","ВіЕйБі","76/05ф"]
["380537_2722123357_83","ВіЕйБі","81/06ф"]
["380537_2144109036_84","ВіЕйБі","98/04ф"]
["380537_2797816676_85","ВіЕйБі","208/06ф"]
["380537_2782216899_86","ВіЕйБі","04/06ф"]
["380537_2230415299_87","ВіЕйБі","185/07ф"]
["380537_2673709570_88","ВіЕйБі","72/05ф"]
["380537_2672201290_89","ВіЕйБі","26/05ф"]
["380537_2939726418_90","ВіЕйБі","66/05ф"]
["380537_2555316619_91","ВіЕйБі","46/05ф"]
["380537_2751813779_92","ВіЕйБі","116/06ф"]
["380537_2406111594_93","ВіЕйБі","95/05ф"]
["380537_2773917158_94","ВіЕйБі","67/05ф"]
["380537_2515201116_95","ВіЕйБі","209/06ф"]
["380537_3005201092_96","ВіЕйБі","25/05ф"]
["380537_2161318038_97","ВіЕйБі","124/06ф"]
["380537_1807701154_98","ВіЕйБі","100/04ф"]
["380537_2640512231_99","ВіЕйБі","21/07ю"]
["380537_2330800170_100","ВіЕйБі","10/07ю"]
["380537_2764112250_101","ВіЕйБі","09/07ю"]
["380537_2390519256_102","ВіЕйБі","35/06ю"]
["380537_2265924457_103","ВіЕйБі","03/07ю"]
["380537_2586613959_104","ВіЕйБі","19/07ю"]
["380537_2177316971_105","ВіЕйБі","36/06ю"]
["380537_2248719053_106","ВіЕйБі","26/06ю"]
["380537_2291419034_107","ВіЕйБі","30/06ю"]
["380537_2487612754_108","ВіЕйБі","27/07ю"]
["380537_2772306398_109","ВіЕйБі","01/07ю"]
["380537_2392201171_110","ВіЕйБі","31/06ю"]
["380537_1142700047_111","ВіЕйБі","34/06ю"]
["380537_3020900418_112","ВіЕйБі","37/06ю"]
["380537_2948400993_113","ВіЕйБі","23/07ю"]
["380537_32696344_114","ВіЕйБі","31/07ю"]
["380537_35226749_115","ВіЕйБі","17/07 SME"]
["339339_35520700_1","Міський комерційний банк","430/980-ЮО",12,414317.3,5626834.2199999997,"F63GL17973","2018-04-18"]
["300175_25488379_1","ФІДОБАНК","1717",9,1094417.26,1094417.26,"F90GL18402","2018-04-18"]
["300175_2629916367_2","ФІДОБАНК","012/0456/1/15458",9,991870.81,1033121.22,"F90GL18403","2018-04-18"]
["300175_34305960_3","ФІДОБАНК","2241Ю",9,958868.85,1172485.29,"F90GL18404","2018-04-18"]
["300175_34669380_4","ФІДОБАНК","229Ю",9,6488876.7999999998,7175674.0599999996,"F90GL18405","2018-04-18"]
["300175_39197628_5","ФІДОБАНК","1697Ю",9,10350547.279999999,12685961,"F90GL18407","2018-04-18"]
["300175_39197900_6","ФІДОБАНК","1781Ю",9,343103.29,425336.17,"F90GL18408","2018-04-18"]
["300175_39197900_7","ФІДОБАНК","2188Ю",9,994725.04,1233134.56,"F90GL18408","2018-04-18"]
["300175_39197900_8","ФІДОБАНК","502015К",9,686206.57,850672.3,"F90GL18408","2018-04-18"]
["300175_39197900_9","ФІДОБАНК","622015К",9,3074891.67,3811862.7,"F90GL18408","2018-04-18"]
["300175_25425083_10","ФІДОБАНК","011-05/1174",9,3041774.15,3041924,"F90GL18409","2018-04-18"]
["300175_25425083_11","ФІДОБАНК","012-05/808",9,9973082.3399999999,10521078.84,"F90GL18409","2018-04-18"]
["300175_32913627_12","ФІДОБАНК","012-05/936",9,415643.89,415672.03,"F90GL18410","2018-04-18"]
["300175_32913627_13","ФІДОБАНК","012-05/920",9,5227787.74,6295657.1299999999,"F90GL18410","2018-04-18"]
["320995_21925618_1","БГ банк","02КР-13",9,13530152.98,13684010.52,"F36GL18654","2018-04-19"]
["300272_34566283_1","Енергобанк",8,9,419518.97,419518.97,"F43GL18662","2018-04-19"]
["380474_37955952_1","ТРАСТ","Договір факторингу №20150430",9,806411.88,798309.74,"F84GL18838","2018-04-19"]
["305062_33124030_1","Новий","78307/01",1,275835.89,55167.18,"F03GL18839 ","2012-04-20"]
["305062_32906083_2","Новий","1450607/01",1,562054.79,112410.96,"F03GL18840","2018-04-20"]
["300131_33386745_1","Фінанси та Кредит","18-01-08",7,15530095.470000001,7834124.25,"F07GL18845","2018-04-20"]
["351931_37878936_1","Золоті Ворота","18",18,4760505.82,27211324.379999999,"F09GL18015","2018-04-20"]
["351931_37878936_2","Золоті Ворота",18,18,null,1099396.43,"F09GL18015","2018-04-20"]
["351931_37878674_3","Золоті Ворота","29",23,14640000,68696995.859999999,"F09GL18008","2018-04-20"]
["351931_36033910_4","Золоті Ворота","253",19,4022586.22,19869625.170000002,"F09GL18014","2018-04-20"]
["351931_36033910_5","Золоті Ворота","81",19,4707917.3499999996,10399770.77,"F09GL18014","2018-04-20"]
["351931_36033910_6","Золоті Ворота","81",19,3883323.39,19513128.129999999,"F09GL18014","2018-04-20"]
["351931_36033910_7","Золоті Ворота","81",19,2123135.1800000002,23639974.649999999,"F09GL18014","2018-04-20"]
["351931_36816266_8","Золоті Ворота","82",19,4380994.1100000003,21496141.260000002,"F09GL18013","2018-04-20"]
["351931_36816266_9","Золоті Ворота","184",19,9855579.4100000001,48368588.890000001,"F09GL18013","2018-04-20"]
["351931_36816266_10","Золоті Ворота","184",19,703377.53,3821939.73,"F09GL18013","2018-04-20"]
["351931_32031993_11","Золоті Ворота","188",19,4283322.5999999996,21017044.109999999,"F09GL18012","2018-04-20"]
["351931_32031993_12","Золоті Ворота","49",19,3745326.29,15475878.199999999,"F09GL18012","2018-04-20"]
["351931_36224590_13","Золоті Ворота","55",19,91180.62,451639.55,"F09GL18011","2018-04-20"]
["351931_36224590_14","Золоті Ворота","55",19,6499045.0700000003,47590389.039999999,"F09GL18011","2018-04-20"]
["351931_36224590_15","Золоті Ворота","55",19,9695525.1799999997,32173260.27,"F09GL18011","2018-04-20"]
["351931_37574936_16","Золоті Ворота","61",19,10201711.220000001,50637492.770000003,"F09GL18010","2018-04-20"]
["351931_37574920_17","Золоті Ворота","62",23,2929989.85,16212266.67,"F09GL18009","2018-04-20"]
[null,"",""]
[null,"",""]
[null,"",""]
[null,"",""]
[null,"",""]
[null,"",""]
[null,"",""]
[null,"",""]
[null,"",""]
[null,"",""]
[null,"",""]
[null,"",""]
[null,"",""]
[null,"",""]
[null,"",""]
[null,"",""]
[null,"",""]
[null,"",""]
[null,"",""]
[null,"",""]
[null,"",""]
[null,"",""]
[null,"",""]
[null,"",""]
[null,"",""]
[null,"",""]
[null,"",""]
[null,"",""]
[null,"",""]
[null,"",""]
[null,"",""]
[null,"",""]
[null,"",""]
[null,"",""]
[null,"",""]
[null,"",""]
[null,"",""]
[null,"",""]
[null,"",""]
[null,"",""]
[null,"",""]
[null,"",""]
[null,"",""]
[null,"",""]
[null,"",""]
[null,"",""]
[null,"",""]
[null,"",""]
[null,"",""]
[null,"",""]
[null,"",""]
[null,"",""]
[null,"",""]
[null,"",""]
[null,"",""]
[null,"",""]
[null,"",""]
[null,"",""]
[null,"",""]
[null,"",""]
[null,"",""]
[null,"",""]
[null,"",""]
[null,"",""]
[null,"",""]
[null,"",""]
[null,"",""]
[null,"",""]
[null,"",""]
[null,"",""]
[null,"",""]
[null,"",""]
[null,"",""]
[null,"",""]
[null,"",""]
[null,"",""]
[null,"",""]
[null,"",""]
[null,"",""]
[null,"",""]
[null,"",""]
[null,"",""]
[null,"",""]
[null,"",""]
[null,"",""]
[null,"",""]
[null,"",""]
[null,"",""]
[null,"",""]
[null,"",""]
[null,"",""]
[null,"",""]
[null,"",""]
[null,"",""]
[null,"",""]
[null,"",""]
[null,"",""]
[null,"",""]
[null,"",""]
[null,"",""]
[null,"",""]
[null,"",""]
[null,"",""]
[null,"",""]
[null,"",""]
[null,"",""]
[null,"",""]
[null,"",""]
[null,"",""]
[null,"",""]
[null,"",""]
[null,"",""]
[null,"",""]
[null,"",""]
[null,"",""]
[null,"",""]
[null,"",""]
[null,"",""]
[null,"",""]
[null,"",""]
[null,"",""]
[null,"",""]
[null,"",""]
[null,"",""]
[null,"",""]
[null,"",""]
[null,"",""]
[null,"",""]
[null,"",""]
[null,"",""]
[null,"",""]
[null,"",""]
[null,"",""]
[null,"",""]
[null,"",""]
[null,"",""]
[null,"",""]
[null,"",""]
[null,"",""]
[null,"",""]
[null,"",""]
[null,"",""]
[null,"",""]
[null,"",""]
[null,"",""]
[null,"",""]
[null,"",""]
[null,"",""]
[null,"",""]
[null,"",""]
[null,"",""]
[null,"",""]
[null,"",""]
[null,"",""]
[null,"",""]
[null,"",""]
[null,"",""]
[null,"",""]
[null,"",""]
[null,"",""]
[null,"",""]
[null,"",""]
[null,"",""]
[null,"",""]
[null,"",""]
[null,"",""]
[null,"",""]
[null,"",""]
[null,"",""]
[null,"",""]
[null,"",""]
[null,"",""]
[null,"",""]
[null,"",""]
[null,"",""]
[null,"",""]
[null,"",""]
[null,"",""]
[null,"",""]
[null,"",""]
[null,"",""]
[null,"",""]
[null,"",""]
[null,"",""]
[null,"",""]
[null,"",""]
[null,"",""]
[null,"",""]
[null,"",""]
[null,"",""]
[null,"",""]
[null,"",""]
[null,"",""]
[null,"",""]
[null,"",""]
[null,"",""]
[null,"",""]
[null,"",""]
[null,"",""]
[null,"",""]
[null,"",""]
[null,"",""]
[null,"",""]
[null,"",""]
[null,"",""]
[null,"",""]
[null,"",""]
[null,"",""]
[null,"",""]
[null,"",""]
[null,"",""]
[null,"",""]
[null,"",""]
[null,"",""]
[null,"",""]
[null,"",""]
[null,"",""]
[null,"",""]
[null,"",""]
[null,"",""]
[null,"",""]
[null,"",""]
[null,"",""]
[null,"",""]
[null,"",""]
[null,"",""]
[null,"",""]
[null,"",""]
[null,"",""]
[null,"",""]
[null,"",""]
[null,"",""]
[null,"",""]
[null,"",""]
[null,"",""]
[null,"",""]
[null,"",""]
[null,"",""]
[null,"",""]
[null,"",""]
[null,"",""]
[null,"",""]
[null,"",""]
[null,"",""]
[null,"",""]
[null,"",""]
[null,"",""]
[null,"",""]
[null,"",""]
[null,"",""]
[null,"",""]
[null,"",""]
[null,"",""]
[null,"",""]
[null,"",""]
[null,"",""]
[null,"",""]
[null,"",""]
[null,"",""]
[null,"",""]
[null,"",""]
[null,"",""]
[null,"",""]
[null,"",""]
[null,"",""]
[null,"",""]
[null,"",""]
[null,"",""]
[null,"",""]
[null,"",""]
[null,"",""]
[null,"",""]
[null,"",""]
[null,"",""]
[null,"",""]
[null,"",""]
[null,"",""]
[null,"",""]
[null,"",""]
[null,"",""]
[null,"",""]
[null,"",""]
[null,"",""]
[null,"",""]
[null,"",""]
[null,"",""]
[null,"",""]
[null,"",""]
[null,"",""]
[null,"",""]
[null,"",""]
[null,"",""]
[null,"",""]
[null,"",""]
[null,"",""]
[null,"",""]
[null,"",""]
[null,"",""]
[null,"",""]
[null,"",""]
[null,"",""]
[null,"",""]
[null,"",""]
[null,"",""]
[null,"",""]
[null,"",""]
[null,"",""]
[null,"",""]
[null,"",""]
[null,"",""]
[null,"",""]
[null,"",""]
[null,"",""]
[null,"",""]
[null,"",""]
[null,"",""]
[null,"",""]
[null,"",""]
[null,"",""]
[null,"",""]
[null,"",""]
[null,"",""]
[null,"",""]
[null,"",""]
[null,"",""]
[null,"",""]
[null,"",""]
[null,"",""]
[null,"",""]
[null,"",""]
[null,"",""]
[null,"",""]
[null,"",""]
[null,"",""]
[null,"",""]
[null,"",""]
[null,"",""]
[null,"",""]
[null,"",""]
[null,"",""]
[null,"",""]
[null,"",""]
[null,"",""]
[null,"",""]
[null,"",""]
[null,"",""]
[null,"",""]
[null,"",""]
[null,"",""]
[null,"",""]
[null,"",""]
[null,"",""]
[null,"",""]
[null,"",""]
[null,"",""]
[null,"",""]
[null,"",""]
[null,"",""]
[null,"",""]
[null,"",""]
[null,"",""]
[null,"",""]
[null,"",""]
[null,"",""]
[null,"",""]
[null,"",""]
[null,"",""]
[null,"",""]
[null,"",""]
[null,"",""]
[null,"",""]
[null,"",""]
[null,"",""]
[null,"",""]
[null,"",""]
[null,"",""]
[null,"",""]
[null,"",""]
[null,"",""]
[null,"",""]
[null,"",""]
[null,"",""]
[null,"",""]
[null,"",""]
[null,"",""]
[null,"",""]
[null,"",""]
[null,"",""]
[null,"",""]
[null,"",""]
[null,"",""]
[null,"",""]
[null,"",""]
[null,"",""]
[null,"",""]
[null,"",""]
[null,"",""]
[null,"",""]
[null,"",""]
[null,"",""]
[null,"",""]
[null,"",""]
[null,"",""]
[null,"",""]
[null,"",""]
[null,"",""]
[null,"",""]
[null,"",""]
[null,"",""]
[null,"",""]
[null,"",""]
[null,"",""]
[null,"",""]
[null,"",""]
[null,"",""]
[null,"",""]
[null,"",""]
[null,"",""]
[null,"",""]
[null,"",""]
[null,"",""]
[null,"",""]
[null,"",""]
[null,"",""]
[null,"",""]
[null,"",""]
[null,"",""]
[null,"",""]
[null,"",""]
[null,"",""]
[null,"",""]
[null,"",""]
[null,"",""]
[null,"",""]
[null,"",""]
[null,"",""]
[null,"",""]
[null,"",""]
[null,"",""]
[null,"",""]
[null,"",""]
[null,"",""]
[null,"",""]
[null,"",""]
[null,"",""]
[null,"",""]
[null,"",""]
[null,"",""]
[null,"",""]
[null,"",""]
[null,"",""]
[null,"",""]
[null,"",""]
[null,"",""]
[null,"",""]
[null,"",""]
[null,"",""]
[null,"",""]
[null,"",""]
[null,"",""]
[null,"",""]
[null,"",""]
[null,"",""]
[null,"",""]
[null,"",""]
[null,"",""]
[null,"",""]
[null,"",""]
[null,"",""]
[null,"",""]
[null,"",""]
[null,"",""]
[null,"",""]
[null,"",""]
[null,"",""]
[null,"",""]
[null,"",""]
[null,"",""]
[null,"",""]
[null,"",""]
[null,"",""]
[null,"",""]
[null,"",""]
[null,"",""]
[null,"",""]
[null,"",""]
[null,"",""]
[null,"",""]
[null,"",""]
[null,"",""]
[null,"",""]
[null,"",""]
[null,"",""]
[null,"",""]
[null,"",""]
[null,"",""]
[null,"",""]
[null,"",""]
[null,"",""]
[null,"",""]
[null,"",""]
[null,"",""]
[null,"",""]
[null,"",""]
[null,"",""]
[null,"",""]
[null,"",""]
[null,"",""]
[null,"",""]
[null,"",""]
[null,"",""]
[null,"",""]
[null,"",""]
[null,"",""]
[null,"",""]
[null,"",""]
[null,"",""]
[null,"",""]
[null,"",""]
[null,"",""]
[null,"",""]
[null,"",""]
[null,"",""]
[null,"",""]
[null,"",""]
[null,"",""]
[null,"",""]
[null,"",""]
[null,"",""]
[null,"",""]
[null,"",""]
[null,"",""]
[null,"",""]
[null,"",""]
[null,"",""]
[null,"",""]
[null,"",""]
[null,"",""]
[null,"",""]
[null,"",""]
[null,"",""]
[null,"",""]
[null,"",""]
[null,"",""]
[null,"",""]
[null,"",""]
[null,"",""]
[null,"",""]
[null,"",""]
[null,"",""]
[null,"",""]
[null,"",""]
[null,"",""]
[null,"",""]
[null,"",""]
[null,"",""]
[null,"",""]
[null,"",""]
[null,"",""]
[null,"",""]
[null,"",""]
[null,"",""]
[null,"",""]
[null,"",""]
[null,"",""]
[null,"",""]
[null,"",""]
[null,"",""]
[null,"",""]
[null,"",""]
[null,"",""]
[null,"",""]
[null,"",""]
[null,"",""]
[null,"",""]
[null,"",""]
[null,"",""]
[null,"",""]
[null,"",""]
[null,"",""]
[null,"",""]
[null,"",""]
[null,"",""]
[null,"",""]
[null,"",""]
[null,"",""]
[null,"",""]
[null,"",""]
[null,"",""]
[null,"",""]
[null,"",""]
[null,"",""]
[null,"",""]
[null,"",""]
[null,"",""]
[null,"",""]
[null,"",""]
[null,"",""]
[null,"",""]
[null,"",""]
[null,"",""]
[null,"",""]
[null,"",""]
[null,"",""]
[null,"",""]
[null,"",""]
[null,"",""]
[null,"",""]
[null,"",""]
[null,"",""]
[null,"",""]
[null,"",""]
[null,"",""]
[null,"",""]
[null,"",""]
[null,"",""]
[null,"",""]
[null,"",""]
[null,"",""]
[null,"",""]
[null,"",""]
[null,"",""]
[null,"",""]
[null,"",""]
[null,"",""]
[null,"",""]
[null,"",""]
[null,"",""]
[null,"",""]
[null,"",""]
[null,"",""]
[null,"",""]
[null,"",""]
[null,"",""]
[null,"",""]
[null,"",""]
[null,"",""]
[null,"",""]
[null,"",""]
[null,"",""]
[null,"",""]
[null,"",""]
[null,"",""]
[null,"",""]
[null,"",""]
[null,"",""]
[null,"",""]
[null,"",""]
[null,"",""]
[null,"",""]
[null,"",""]
[null,"",""]
[null,"",""]
[null,"",""]
[null,"",""]
[null,"",""]
[null,"",""]
[null,"",""]
[null,"",""]
[null,"",""]
[null,"",""]
[null,"",""]
[null,"",""]
[null,"",""]
[null,"",""]
[null,"",""]
[null,"",""]
[null,"",""]
[null,"",""]
[null,"",""]
[null,"",""]
[null,"",""]
[null,"",""]
[null,"",""]
[null,"",""]
[null,"",""]
[null,"",""]
[null,"",""]
[null,"",""]
[null,"",""]
[null,"",""]
[null,"",""]
[null,"",""]
[null,"",""]
[null,"",""]
[null,"",""]
[null,"",""]
[null,"",""]
[null,"",""]
[null,"",""]
[null,"",""]
[null,"",""]
[null,"",""]
[null,"",""]
[null,"",""]
[null,"",""]
[null,"",""]
[null,"",""]
[null,"",""]
[null,"",""]
[null,"",""]
[null,"",""]
[null,"",""]
[null,"",""]
[null,"",""]
[null,"",""]
[null,"",""]
[null,"",""]
[null,"",""]
[null,"",""]
[null,"",""]
[null,"",""]
[null,"",""]
[null,"",""]
[null,"",""]
[null,"",""]
[null,"",""]
[null,"",""]
[null,"",""]
[null,"",""]
[null,"",""]
[null,"",""]
[null,"",""]
[null,"",""]
[null,"",""]
[null,"",""]
[null,"",""]
[null,"",""]
[null,"",""]
[null,"",""]
[null,"",""]
[null,"",""]
[null,"",""]
[null,"",""]
[null,"",""]
[null,"",""]
[null,"",""]
[null,"",""]
[null,"",""]
[null,"",""]
[null,"",""]
[null,"",""]
[null,"",""]
[null,"",""]
[null,"",""]
[null,"",""]
[null,"",""]
[null,"",""]
[null,"",""]
[null,"",""]
[null,"",""]
[null,"",""]
[null,"",""]
[null,"",""]
[null,"",""]
[null,"",""]
[null,"",""]
[null,"",""]
[null,"",""]
[null,"",""]
[null,"",""]
[null,"",""]
[null,"",""]
[null,"",""]
[null,"",""]
[null,"",""]
[null,"",""]
[null,"",""]
[null,"",""]
[null,"",""]
[null,"",""]
[null,"",""]
[null,"",""]
[null,"",""]
[null,"",""]
[null,"",""]
[null,"",""]
[null,"",""]
[null,"",""]
[null,"",""]
[null,"",""]
[null,"",""]
[null,"",""]
[null,"",""]
[null,"",""]
[null,"",""]
[null,"",""]
[null,"",""]
[null,"",""]
[null,"",""]
[null,"",""]
[null,"",""]
[null,"",""]
[null,"",""]
[null,"",""]
[null,"",""]
[null,"",""]
[null,"",""]
[null,"",""]
[null,"",""]
[null,"",""]
[null,"",""]
[null,"",""]
[null,"",""]
[null,"",""]
[null,"",""]
[null,"",""]
[null,"",""]
[null,"",""]
[null,"",""]
[null,"",""]
[null,"",""]
[null,"",""]
[null,"",""]
[null,"",""]
[null,"",""]
[null,"",""]
[null,"",""]
[null,"",""]
[null,"",""]
[null,"",""]
[null,"",""]
[null,"",""]
[null,"",""]
[null,"",""]
[null,"",""]
[null,"",""]
[null,"",""]
[null,"",""]
[null,"",""]
[null,"",""]
[null,"",""]
[null,"",""]
[null,"",""]
[null,"",""]
[null,"",""]
[null,"",""]
[null,"",""]
[null,"",""]
[null,"",""]
[null,"",""]
[null,"",""]
[null,"",""]
[null,"",""]
[null,"",""]
[null,"",""]
[null,"",""]
[null,"",""]
[null,"",""]
[null,"",""]
[null,"",""]
[null,"",""]
[null,"",""]
[null,"",""]
[null,"",""]
[null,"",""]
[null,"",""]
[null,"",""]
[null,"",""]
[null,"",""]
[null,"",""]
[null,"",""]
[null,"",""]
[null,"",""]
[null,"",""]
[null,"",""]
[null,"",""]
[null,"",""]
[null,"",""]
[null,"",""]
[null,"",""]
[null,"",""]
[null,"",""]
[null,"",""]
[null,"",""]
[null,"",""]
[null,"",""]
[null,"",""]
[null,"",""]
[null,"",""]
[null,"",""]
[null,"",""]
[null,"",""]
[null,"",""]
[null,"",""]
[null,"",""]
[null,"",""]
[null,"",""]
[null,"",""]
[null,"",""]
[null,"",""]
[null,"",""]
[null,"",""]
[null,"",""]
[null,"",""]
[null,"",""]
[null,"",""]
[null,"",""]
[null,"",""]
[null,"",""]
[null,"",""]
[null,"",""]
[null,"",""]
[null,"",""]

{"sheet":"журнал_пулів","index":4,"n_rows":1001,"n_cols":11,"rows_kept":1001,"cut":false,"hidden":true,"merged":[[0,2,0,3],[1,2,1,3],[2,2,2,3]]}
[null,null,"Тип пулу",null,4]
[null,null,"Дата надходження",null,"2018-06-01"]
[null,null,{"$f":"\"Номер пулу типу \"&E1&\" на дату \"&TEXT(E2,\"dd.mm.yyyy\")","v":"Номер пулу типу 4 на дату 01.06.2018"},null,2]
["Група активу","МФО",{"$f":"'[1]1.Портфель кредитів'!F15","v":"Найменування Позичальника"},{"$f":"'[1]1.Портфель кредитів'!G15","v":"Група Позичальників"},{"$f":"'[1]1.Портфель кредитів'!H15","v":"ЄДРПОУ"},{"$f":"'[1]1.Портфель кредитів'!M15","v":"Номер кредитного договору"},{"$f":"'[1]1.Портфель кредитів'!AA15","v":"Оціночна вартість"},{"$f":"'[1]1.Портфель кредитів'!AC15","v":"Заборгованстіь  на дату заповнення паспорту 01.02.2018р. (тіло та проценти):"},"Тип пулу","Дата надходження","ID_pool"]
[{"$f":"'1.Портфель кредитів'!H9","v":2},{"$f":"'1.Портфель кредитів'!D9","v":"380236"},{"$f":"'1.Портфель кредитів'!#REF!","v":{"$error":"#REF!"}},{"$f":"'1.Портфель кредитів'!#REF!","v":{"$error":"#REF!"}},{"$f":"'1.Портфель кредитів'!#REF!","v":{"$error":"#REF!"}},{"$f":"'1.Портфель кредитів'!I9","v":"02/158/07-КЛТ"},{"$f":"'1.Портфель кредитів'!W9","v":2509658},{"$f":"'1.Портфель кредитів'!Y9","v":5337623.54},{"$f":"$E$1","v":4},{"$f":"$E$2","v":"2018-06-01"},{"$f":"B5&\"_\"&I5&\"_\"&J5&\"_\"&$E$3","v":"380236_4_43252_2"}]
[{"$f":"'1.Портфель кредитів'!H10","v":2},{"$f":"'1.Портфель кредитів'!D10","v":"380236"},{"$f":"'1.Портфель кредитів'!#REF!","v":{"$error":"#REF!"}},{"$f":"'1.Портфель кредитів'!#REF!","v":{"$error":"#REF!"}},{"$f":"'1.Портфель кредитів'!#REF!","v":{"$error":"#REF!"}},{"$f":"'1.Портфель кредитів'!I10","v":"02/179/07-КЛТ"},{"$f":"'1.Портфель кредитів'!W10","v":1721178},{"$f":"'1.Портфель кредитів'!Y10","v":3537654.95},{"$f":"$E$1","v":4},{"$f":"$E$2","v":"2018-06-01"},{"$f":"B6&\"_\"&I6&\"_\"&J6&\"_\"&$E$3","v":"380236_4_43252_2"}]
[{"$f":"'1.Портфель кредитів'!H11","v":1},{"$f":"'1.Портфель кредитів'!D11","v":"380236"},{"$f":"'1.Портфель кредитів'!#REF!","v":{"$error":"#REF!"}},{"$f":"'1.Портфель кредитів'!#REF!","v":{"$error":"#REF!"}},{"$f":"'1.Портфель кредитів'!#REF!","v":{"$error":"#REF!"}},{"$f":"'1.Портфель кредитів'!I11","v":"15/038/08-ZKLN"},{"$f":"'1.Портфель кредитів'!W11","v":12710},{"$f":"'1.Портфель кредитів'!Y11","v":439726.54000000004},4,"2018-06-01","380236_4_43252_2"]
[{"$f":"'1.Портфель кредитів'!H12","v":1},{"$f":"'1.Портфель кредитів'!D12","v":"380236"},{"$f":"'1.Портфель кредитів'!#REF!","v":{"$error":"#REF!"}},{"$f":"'1.Портфель кредитів'!#REF!","v":{"$error":"#REF!"}},{"$f":"'1.Портфель кредитів'!#REF!","v":{"$error":"#REF!"}},{"$f":"'1.Портфель кредитів'!I12","v":"11328116000"},{"$f":"'1.Портфель кредитів'!W12","v":81189},{"$f":"'1.Портфель кредитів'!Y12","v":708707.96},4,"2018-06-01","380236_4_43252_2"]
[{"$f":"'1.Портфель кредитів'!H13","v":2},{"$f":"'1.Портфель кредитів'!D13","v":"380236"},{"$f":"'1.Портфель кредитів'!#REF!","v":{"$error":"#REF!"}},{"$f":"'1.Портфель кредитів'!#REF!","v":{"$error":"#REF!"}},{"$f":"'1.Портфель кредитів'!#REF!","v":{"$error":"#REF!"}},{"$f":"'1.Портфель кредитів'!I13","v":"07/059/06-КЛТ"},{"$f":"'1.Портфель кредитів'!W13","v":2466492},{"$f":"'1.Портфель кредитів'!Y13","v":5069548.7},4,"2018-06-01","380236_4_43252_2"]
[{"$f":"'1.Портфель кредитів'!H14","v":1},{"$f":"'1.Портфель кредитів'!D14","v":"380236"},{"$f":"'1.Портфель кредитів'!#REF!","v":{"$error":"#REF!"}},{"$f":"'1.Портфель кредитів'!#REF!","v":{"$error":"#REF!"}},{"$f":"'1.Портфель кредитів'!#REF!","v":{"$error":"#REF!"}},{"$f":"'1.Портфель кредитів'!I14","v":"33/КВ-08"},{"$f":"'1.Портфель кредитів'!W14","v":15016},{"$f":"'1.Портфель кредитів'!Y14","v":128143.67999999999},4,"2018-06-01","380236_4_43252_2"]
[{"$f":"'1.Портфель кредитів'!H15","v":1},{"$f":"'1.Портфель кредитів'!D15","v":"380236"},{"$f":"'1.Портфель кредитів'!#REF!","v":{"$error":"#REF!"}},{"$f":"'1.Портфель кредитів'!#REF!","v":{"$error":"#REF!"}},{"$f":"'1.Портфель кредитів'!#REF!","v":{"$error":"#REF!"}},{"$f":"'1.Портфель кредитів'!I15","v":"11406970000"},{"$f":"'1.Портфель кредитів'!W15","v":21959},{"$f":"'1.Портфель кредитів'!Y15","v":700900.23},4,"2018-06-01","380236_4_43252_2"]
[{"$f":"'1.Портфель кредитів'!H16","v":1},{"$f":"'1.Портфель кредитів'!D16","v":"380236"},{"$f":"'1.Портфель кредитів'!#REF!","v":{"$error":"#REF!"}},{"$f":"'1.Портфель кредитів'!#REF!","v":{"$error":"#REF!"}},{"$f":"'1.Портфель кредитів'!#REF!","v":{"$error":"#REF!"}},{"$f":"'1.Портфель кредитів'!I16","v":"11399961000"},{"$f":"'1.Портфель кредитів'!W16","v":12336},{"$f":"'1.Портфель кредитів'!Y16","v":355478.95999999996},4,"2018-06-01","380236_4_43252_2"]
[{"$f":"'1.Портфель кредитів'!H17","v":1},{"$f":"'1.Портфель кредитів'!D17","v":"380236"},{"$f":"'1.Портфель кредитів'!#REF!","v":{"$error":"#REF!"}},{"$f":"'1.Портфель кредитів'!#REF!","v":{"$error":"#REF!"}},{"$f":"'1.Портфель кредитів'!#REF!","v":{"$error":"#REF!"}},{"$f":"'1.Портфель кредитів'!I17","v":"11173398000"},{"$f":"'1.Портфель кредитів'!W17","v":238561},{"$f":"'1.Портфель кредитів'!Y17","v":1986051.33},4,"2018-06-01","380236_4_43252_2"]
[{"$f":"'1.Портфель кредитів'!H18","v":1},{"$f":"'1.Портфель кредитів'!D18","v":"380236"},{"$f":"'1.Портфель кредитів'!#REF!","v":{"$error":"#REF!"}},{"$f":"'1.Портфель кредитів'!#REF!","v":{"$error":"#REF!"}},{"$f":"'1.Портфель кредитів'!#REF!","v":{"$error":"#REF!"}},{"$f":"'1.Портфель кредитів'!I18","v":"11187599000"},{"$f":"'1.Портфель кредитів'!W18","v":367649},{"$f":"'1.Портфель кредитів'!Y18","v":1750291.88},4,"2018-06-01","380236_4_43252_2"]
[{"$f":"'1.Портфель кредитів'!H19","v":1},{"$f":"'1.Портфель кредитів'!D19","v":"380236"},{"$f":"'1.Портфель кредитів'!#REF!","v":{"$error":"#REF!"}},{"$f":"'1.Портфель кредитів'!#REF!","v":{"$error":"#REF!"}},{"$f":"'1.Портфель кредитів'!#REF!","v":{"$error":"#REF!"}},{"$f":"'1.Портфель кредитів'!I19","v":"3.3ДС/243/2006-КЛТ  "},{"$f":"'1.Портфель кредитів'!W19","v":1895409},{"$f":"'1.Портфель кредитів'!Y19","v":4506365.91},4,"2018-06-01","380236_4_43252_2"]
[{"$f":"'1.Портфель кредитів'!H20","v":1},{"$f":"'1.Портфель кредитів'!D20","v":"380236"},{"$f":"'1.Портфель кредитів'!#REF!","v":{"$error":"#REF!"}},{"$f":"'1.Портфель кредитів'!#REF!","v":{"$error":"#REF!"}},{"$f":"'1.Портфель кредитів'!#REF!","v":{"$error":"#REF!"}},{"$f":"'1.Портфель кредитів'!I20","v":"10938875000"},{"$f":"'1.Портфель кредитів'!W20","v":3260},{"$f":"'1.Портфель кредитів'!Y20","v":38150.99},4,"2018-06-01","380236_4_43252_2"]
[{"$f":"'1.Портфель кредитів'!H21","v":1},{"$f":"'1.Портфель кредитів'!D21","v":"380236"},{"$f":"'1.Портфель кредитів'!#REF!","v":{"$error":"#REF!"}},{"$f":"'1.Портфель кредитів'!#REF!","v":{"$error":"#REF!"}},{"$f":"'1.Портфель кредитів'!#REF!","v":{"$error":"#REF!"}},{"$f":"'1.Портфель кредитів'!I21","v":"10938900000"},{"$f":"'1.Портфель кредитів'!W21","v":27020},{"$f":"'1.Портфель кредитів'!Y21","v":316214.2},4,"2018-06-01","380236_4_43252_2"]
[{"$f":"'1.Портфель кредитів'!H22","v":1},{"$f":"'1.Портфель кредитів'!D22","v":"380236"},{"$f":"'1.Портфель кредитів'!#REF!","v":{"$error":"#REF!"}},{"$f":"'1.Портфель кредитів'!#REF!","v":{"$error":"#REF!"}},{"$f":"'1.Портфель кредитів'!#REF!","v":{"$error":"#REF!"}},{"$f":"'1.Портфель кредитів'!I22","v":"КЮ-О-2011019"},{"$f":"'1.Портфель кредитів'!W22","v":10501},{"$f":"'1.Портфель кредитів'!Y22","v":366733.20999999996},4,"2018-06-01","380236_4_43252_2"]
[{"$f":"'1.Портфель кредитів'!H23","v":0},{"$f":"'1.Портфель кредитів'!D23","v":"380236"},{"$f":"'1.Портфель кредитів'!#REF!","v":{"$error":"#REF!"}},{"$f":"'1.Портфель кредитів'!#REF!","v":{"$error":"#REF!"}},{"$f":"'1.Портфель кредитів'!#REF!","v":{"$error":"#REF!"}},{"$f":"'1.Портфель кредитів'!I23","v":"18/2011019-14623"},{"$f":"'1.Портфель кредитів'!W23","v":16.07},{"$f":"'1.Портфель кредитів'!Y23","v":600},4,"2018-06-01","380236_4_43252_2"]
[{"$f":"'1.Портфель кредитів'!H24","v":1},{"$f":"'1.Портфель кредитів'!D24","v":"380236"},{"$f":"'1.Портфель кредитів'!#REF!","v":{"$error":"#REF!"}},{"$f":"'1.Портфель кредитів'!#REF!","v":{"$error":"#REF!"}},{"$f":"'1.Портфель кредитів'!#REF!","v":{"$error":"#REF!"}},{"$f":"'1.Портфель кредитів'!I24","v":"11186006000"},{"$f":"'1.Портфель кредитів'!W24","v":2070841},{"$f":"'1.Портфель кредитів'!Y24","v":7026731.75},4,"2018-06-01","380236_4_43252_2"]
[{"$f":"'1.Портфель кредитів'!H25","v":2},{"$f":"'1.Портфель кредитів'!D25","v":"380236"},{"$f":"'1.Портфель кредитів'!#REF!","v":{"$error":"#REF!"}},{"$f":"'1.Портфель кредитів'!#REF!","v":{"$error":"#REF!"}},{"$f":"'1.Портфель кредитів'!#REF!","v":{"$error":"#REF!"}},{"$f":"'1.Портфель кредитів'!I25","v":"02/149/07-КЛТ"},{"$f":"'1.Портфель кредитів'!W25","v":1601011},{"$f":"'1.Портфель кредитів'!Y25","v":3290666.41},4,"2018-06-01","380236_4_43252_2"]
[{"$f":"'1.Портфель кредитів'!H26","v":1},{"$f":"'1.Портфель кредитів'!D26","v":"380236"},{"$f":"'1.Портфель кредитів'!#REF!","v":{"$error":"#REF!"}},{"$f":"'1.Портфель кредитів'!#REF!","v":{"$error":"#REF!"}},{"$f":"'1.Портфель кредитів'!#REF!","v":{"$error":"#REF!"}},{"$f":"'1.Портфель кредитів'!I26","v":"278/КВ-07"},{"$f":"'1.Портфель кредитів'!W26","v":221862},{"$f":"'1.Портфель кредитів'!Y26","v":708338.6},4,"2018-06-01","380236_4_43252_2"]
[{"$f":"'1.Портфель кредитів'!H27","v":1},{"$f":"'1.Портфель кредитів'!D27","v":"380236"},{"$f":"'1.Портфель кредитів'!#REF!","v":{"$error":"#REF!"}},{"$f":"'1.Портфель кредитів'!#REF!","v":{"$error":"#REF!"}},{"$f":"'1.Портфель кредитів'!#REF!","v":{"$error":"#REF!"}},{"$f":"'1.Портфель кредитів'!I27","v":"11355256000"},{"$f":"'1.Портфель кредитів'!W27","v":121393},{"$f":"'1.Портфель кредитів'!Y27","v":1198317.28},4,"2018-06-01","380236_4_43252_2"]
[{"$f":"'1.Портфель кредитів'!H28","v":1},{"$f":"'1.Портфель кредитів'!D28","v":"380236"},{"$f":"'1.Портфель кредитів'!#REF!","v":{"$error":"#REF!"}},{"$f":"'1.Портфель кредитів'!#REF!","v":{"$error":"#REF!"}},{"$f":"'1.Портфель кредитів'!#REF!","v":{"$error":"#REF!"}},{"$f":"'1.Портфель кредитів'!I28","v":"3.3ДС/226/2007-КЛТ"},{"$f":"'1.Портфель кредитів'!W28","v":186890},{"$f":"'1.Портфель кредитів'!Y28","v":2565671.61},4,"2018-06-01","380236_4_43252_2"]
[{"$f":"'1.Портфель кредитів'!H29","v":1},{"$f":"'1.Портфель кредитів'!D29","v":"380236"},{"$f":"'1.Портфель кредитів'!#REF!","v":{"$error":"#REF!"}},{"$f":"'1.Портфель кредитів'!#REF!","v":{"$error":"#REF!"}},{"$f":"'1.Портфель кредитів'!#REF!","v":{"$error":"#REF!"}},{"$f":"'1.Портфель кредитів'!I29","v":"02/011/11-КЛТ"},{"$f":"'1.Портфель кредитів'!W29","v":344580},{"$f":"'1.Портфель кредитів'!Y29","v":465427.4},4,"2018-06-01","380236_4_43252_2"]
[{"$f":"'1.Портфель кредитів'!H30","v":1},{"$f":"'1.Портфель кредитів'!D30","v":"380236"},{"$f":"'1.Портфель кредитів'!#REF!","v":{"$error":"#REF!"}},{"$f":"'1.Портфель кредитів'!#REF!","v":{"$error":"#REF!"}},{"$f":"'1.Портфель кредитів'!#REF!","v":{"$error":"#REF!"}},{"$f":"'1.Портфель кредитів'!I30","v":"45/КВ-07"},{"$f":"'1.Портфель кредитів'!W30","v":262417},{"$f":"'1.Портфель кредитів'!Y30","v":1322654.0899999999},4,"2018-06-01","380236_4_43252_2"]
[{"$f":"'1.Портфель кредитів'!H31","v":1},{"$f":"'1.Портфель кредитів'!D31","v":"380236"},{"$f":"'1.Портфель кредитів'!#REF!","v":{"$error":"#REF!"}},{"$f":"'1.Портфель кредитів'!#REF!","v":{"$error":"#REF!"}},{"$f":"'1.Портфель кредитів'!#REF!","v":{"$error":"#REF!"}},{"$f":"'1.Портфель кредитів'!I31","v":"378/КВ-06"},{"$f":"'1.Портфель кредитів'!W31","v":1468906},{"$f":"'1.Портфель кредитів'!Y31","v":3700576.3200000003},4,"2018-06-01","380236_4_43252_2"]
[{"$f":"'1.Портфель кредитів'!H32","v":1},{"$f":"'1.Портфель кредитів'!D32","v":"380236"},{"$f":"'1.Портфель кредитів'!#REF!","v":{"$error":"#REF!"}},{"$f":"'1.Портфель кредитів'!#REF!","v":{"$error":"#REF!"}},{"$f":"'1.Портфель кредитів'!#REF!","v":{"$error":"#REF!"}},{"$f":"'1.Портфель кредитів'!I32","v":"11384098000"},{"$f":"'1.Портфель кредитів'!W32","v":72250},{"$f":"'1.Портфель кредитів'!Y32","v":253054.4},4,"2018-06-01","380236_4_43252_2"]
[{"$f":"'1.Портфель кредитів'!H33","v":1},{"$f":"'1.Портфель кредитів'!D33","v":"380236"},{"$f":"'1.Портфель кредитів'!#REF!","v":{"$error":"#REF!"}},{"$f":"'1.Портфель кредитів'!#REF!","v":{"$error":"#REF!"}},{"$f":"'1.Портфель кредитів'!#REF!","v":{"$error":"#REF!"}},{"$f":"'1.Портфель кредитів'!I33","v":"11197813000"},{"$f":"'1.Портфель кредитів'!W33","v":406847},{"$f":"'1.Портфель кредитів'!Y33","v":1374795.98},4,"2018-06-01","380236_4_43252_2"]
[{"$f":"'1.Портфель кредитів'!H34","v":1},{"$f":"'1.Портфель кредитів'!D34","v":"380236"},{"$f":"'1.Портфель кредитів'!#REF!","v":{"$error":"#REF!"}},{"$f":"'1.Портфель кредитів'!#REF!","v":{"$error":"#REF!"}},{"$f":"'1.Портфель кредитів'!#REF!","v":{"$error":"#REF!"}},{"$f":"'1.Портфель кредитів'!I34","v":"02/107/08-КЛТ"},{"$f":"'1.Портфель кредитів'!W34","v":2143538},{"$f":"'1.Портфель кредитів'!Y34","v":5223249.8499999996},4,"2018-06-01","380236_4_43252_2"]
[{"$f":"'1.Портфель кредитів'!H35","v":1},{"$f":"'1.Портфель кредитів'!D35","v":"380236"},{"$f":"'1.Портфель кредитів'!#REF!","v":{"$error":"#REF!"}},{"$f":"'1.Портфель кредитів'!#REF!","v":{"$error":"#REF!"}},{"$f":"'1.Портфель кредитів'!#REF!","v":{"$error":"#REF!"}},{"$f":"'1.Портфель кредитів'!I35","v":"11320937000"},{"$f":"'1.Портфель кредитів'!W35","v":7105.8},{"$f":"'1.Портфель кредитів'!Y35","v":325188.47999999998},4,"2018-06-01","380236_4_43252_2"]
[{"$f":"'1.Портфель кредитів'!H36","v":1},{"$f":"'1.Портфель кредитів'!D36","v":"380236"},{"$f":"'1.Портфель кредитів'!#REF!","v":{"$error":"#REF!"}},{"$f":"'1.Портфель кредитів'!#REF!","v":{"$error":"#REF!"}},{"$f":"'1.Портфель кредитів'!#REF!","v":{"$error":"#REF!"}},{"$f":"'1.Портфель кредитів'!I36","v":"08/33/07-КЛТ "},{"$f":"'1.Портфель кредитів'!W36","v":1659294},{"$f":"'1.Портфель кредитів'!Y36","v":3410460.06},4,"2018-06-01","380236_4_43252_2"]
[{"$f":"'1.Портфель кредитів'!H37","v":1},{"$f":"'1.Портфель кредитів'!D37","v":"380236"},{"$f":"'1.Портфель кредитів'!#REF!","v":{"$error":"#REF!"}},{"$f":"'1.Портфель кредитів'!#REF!","v":{"$error":"#REF!"}},{"$f":"'1.Портфель кредитів'!#REF!","v":{"$error":"#REF!"}},{"$f":"'1.Портфель кредитів'!I37","v":"11122813000"},{"$f":"'1.Портфель кредитів'!W37","v":1750121},{"$f":"'1.Портфель кредитів'!Y37","v":4039647.8200000003},4,"2018-06-01","380236_4_43252_2"]
[{"$f":"'1.Портфель кредитів'!H38","v":1},{"$f":"'1.Портфель кредитів'!D38","v":"380236"},{"$f":"'1.Портфель кредитів'!#REF!","v":{"$error":"#REF!"}},{"$f":"'1.Портфель кредитів'!#REF!","v":{"$error":"#REF!"}},{"$f":"'1.Портфель кредитів'!#REF!","v":{"$error":"#REF!"}},{"$f":"'1.Портфель кредитів'!I38","v":"11145702000"},{"$f":"'1.Портфель кредитів'!W38","v":1441953},{"$f":"'1.Портфель кредитів'!Y38","v":3294533.13},4,"2018-06-01","380236_4_43252_2"]
[{"$f":"'1.Портфель кредитів'!H39","v":1},{"$f":"'1.Портфель кредитів'!D39","v":"380236"},{"$f":"'1.Портфель кредитів'!#REF!","v":{"$error":"#REF!"}},{"$f":"'1.Портфель кредитів'!#REF!","v":{"$error":"#REF!"}},{"$f":"'1.Портфель кредитів'!#REF!","v":{"$error":"#REF!"}},{"$f":"'1.Портфель кредитів'!I39","v":"22/33/08-КЛТ"},{"$f":"'1.Портфель кредитів'!W39","v":247624},{"$f":"'1.Портфель кредитів'!Y39","v":588729.73},4,"2018-06-01","380236_4_43252_2"]
[{"$f":"'1.Портфель кредитів'!H40","v":1},{"$f":"'1.Портфель кредитів'!D40","v":"380236"},{"$f":"'1.Портфель кредитів'!#REF!","v":{"$error":"#REF!"}},{"$f":"'1.Портфель кредитів'!#REF!","v":{"$error":"#REF!"}},{"$f":"'1.Портфель кредитів'!#REF!","v":{"$error":"#REF!"}},{"$f":"'1.Портфель кредитів'!I40","v":"22/63/08-КЛТ"},{"$f":"'1.Портфель кредитів'!W40","v":861403},{"$f":"'1.Портфель кредитів'!Y40","v":2201434.0900000003},4,"2018-06-01","380236_4_43252_2"]
[{"$f":"'1.Портфель кредитів'!H41","v":1},{"$f":"'1.Портфель кредитів'!D41","v":"380236"},{"$f":"'1.Портфель кредитів'!#REF!","v":{"$error":"#REF!"}},{"$f":"'1.Портфель кредитів'!#REF!","v":{"$error":"#REF!"}},{"$f":"'1.Портфель кредитів'!#REF!","v":{"$error":"#REF!"}},{"$f":"'1.Портфель кредитів'!I41","v":"22/82/07-КЛТ"},{"$f":"'1.Портфель кредитів'!W41","v":1314985},{"$f":"'1.Портфель кредитів'!Y41","v":4763552.55},4,"2018-06-01","380236_4_43252_2"]
[{"$f":"'1.Портфель кредитів'!H42","v":1},{"$f":"'1.Портфель кредитів'!D42","v":"380236"},{"$f":"'1.Портфель кредитів'!#REF!","v":{"$error":"#REF!"}},{"$f":"'1.Портфель кредитів'!#REF!","v":{"$error":"#REF!"}},{"$f":"'1.Портфель кредитів'!#REF!","v":{"$error":"#REF!"}},{"$f":"'1.Портфель кредитів'!I42","v":"11253511000"},{"$f":"'1.Портфель кредитів'!W42","v":3391396},{"$f":"'1.Портфель кредитів'!Y42","v":16847129.079999998},4,"2018-06-01","380236_4_43252_2"]
[{"$f":"'1.Портфель кредитів'!H43","v":1},{"$f":"'1.Портфель кредитів'!D43","v":"380236"},{"$f":"'1.Портфель кредитів'!#REF!","v":{"$error":"#REF!"}},{"$f":"'1.Портфель кредитів'!#REF!","v":{"$error":"#REF!"}},{"$f":"'1.Портфель кредитів'!#REF!","v":{"$error":"#REF!"}},{"$f":"'1.Портфель кредитів'!I43","v":"11020848000"},{"$f":"'1.Портфель кредитів'!W43","v":5735828},{"$f":"'1.Портфель кредитів'!Y43","v":13348554.640000001},4,"2018-06-01","380236_4_43252_2"]
[{"$f":"'1.Портфель кредитів'!H44","v":1},{"$f":"'1.Портфель кредитів'!D44","v":"380236"},{"$f":"'1.Портфель кредитів'!#REF!","v":{"$error":"#REF!"}},{"$f":"'1.Портфель кредитів'!#REF!","v":{"$error":"#REF!"}},{"$f":"'1.Портфель кредитів'!#REF!","v":{"$error":"#REF!"}},{"$f":"'1.Портфель кредитів'!I44","v":"11284520000"},{"$f":"'1.Портфель кредитів'!W44","v":169902},{"$f":"'1.Портфель кредитів'!Y44","v":999156.49},4,"2018-06-01","380236_4_43252_2"]
[{"$f":"'1.Портфель кредитів'!H45","v":1},{"$f":"'1.Портфель кредитів'!D45","v":"380236"},{"$f":"'1.Портфель кредитів'!#REF!","v":{"$error":"#REF!"}},{"$f":"'1.Портфель кредитів'!#REF!","v":{"$error":"#REF!"}},{"$f":"'1.Портфель кредитів'!#REF!","v":{"$error":"#REF!"}},{"$f":"'1.Портфель кредитів'!I45","v":"11072223000"},{"$f":"'1.Портфель кредитів'!W45","v":1909619},{"$f":"'1.Портфель кредитів'!Y45","v":16562109.74},4,"2018-06-01","380236_4_43252_2"]
[{"$f":"'1.Портфель кредитів'!H46","v":1},{"$f":"'1.Портфель кредитів'!D46","v":"380236"},{"$f":"'1.Портфель кредитів'!#REF!","v":{"$error":"#REF!"}},{"$f":"'1.Портфель кредитів'!#REF!","v":{"$error":"#REF!"}},{"$f":"'1.Портфель кредитів'!#REF!","v":{"$error":"#REF!"}},{"$f":"'1.Портфель кредитів'!I46","v":"04/09/11-КЛТ"},{"$f":"'1.Портфель кредитів'!W46","v":897115},{"$f":"'1.Портфель кредитів'!Y46","v":7370000},4,"2018-06-01","380236_4_43252_2"]
[{"$f":"'1.Портфель кредитів'!H47","v":1},{"$f":"'1.Портфель кредитів'!D47","v":"380236"},{"$f":"'1.Портфель кредитів'!#REF!","v":{"$error":"#REF!"}},{"$f":"'1.Портфель кредитів'!#REF!","v":{"$error":"#REF!"}},{"$f":"'1.Портфель кредитів'!#REF!","v":{"$error":"#REF!"}},{"$f":"'1.Портфель кредитів'!I47","v":"04/14/11-КЛТ"},{"$f":"'1.Портфель кредитів'!W47","v":1502994},{"$f":"'1.Портфель кредитів'!Y47","v":11852930.42},4,"2018-06-01","380236_4_43252_2"]
[{"$f":"'1.Портфель кредитів'!H48","v":1},{"$f":"'1.Портфель кредитів'!D48","v":"380236"},{"$f":"'1.Портфель кредитів'!#REF!","v":{"$error":"#REF!"}},{"$f":"'1.Портфель кредитів'!#REF!","v":{"$error":"#REF!"}},{"$f":"'1.Портфель кредитів'!#REF!","v":{"$error":"#REF!"}},{"$f":"'1.Портфель кредитів'!I48","v":"05/09/2008-КЛТ"},{"$f":"'1.Портфель кредитів'!W48","v":6636347},{"$f":"'1.Портфель кредитів'!Y48","v":13640135.210000001},4,"2018-06-01","380236_4_43252_2"]
[{"$f":"'1.Портфель кредитів'!H49","v":1},{"$f":"'1.Портфель кредитів'!D49","v":"380236"},{"$f":"'1.Портфель кредитів'!#REF!","v":{"$error":"#REF!"}},{"$f":"'1.Портфель кредитів'!#REF!","v":{"$error":"#REF!"}},{"$f":"'1.Портфель кредитів'!#REF!","v":{"$error":"#REF!"}},{"$f":"'1.Портфель кредитів'!I49","v":"11351678000"},{"$f":"'1.Портфель кредитів'!W49","v":1128937},{"$f":"'1.Портфель кредитів'!Y49","v":17297721.09},4,"2018-06-01","380236_4_43252_2"]
[{"$f":"'1.Портфель кредитів'!H50","v":1},{"$f":"'1.Портфель кредитів'!D50","v":"380236"},{"$f":"'1.Портфель кредитів'!#REF!","v":{"$error":"#REF!"}},{"$f":"'1.Портфель кредитів'!#REF!","v":{"$error":"#REF!"}},{"$f":"'1.Портфель кредитів'!#REF!","v":{"$error":"#REF!"}},{"$f":"'1.Портфель кредитів'!I50","v":"11356273000"},{"$f":"'1.Портфель кредитів'!W50","v":721884},{"$f":"'1.Портфель кредитів'!Y50","v":13202276.399999999},4,"2018-06-01","380236_4_43252_2"]
[{"$f":"'1.Портфель кредитів'!H51","v":2},{"$f":"'1.Портфель кредитів'!D51","v":"322294"},{"$f":"'1.Портфель кредитів'!#REF!","v":{"$error":"#REF!"}},{"$f":"'1.Портфель кредитів'!#REF!","v":{"$error":"#REF!"}},{"$f":"'1.Портфель кредитів'!#REF!","v":{"$error":"#REF!"}},{"$f":"'1.Портфель кредитів'!I51","v":"МКЛ-06/04"},{"$f":"'1.Портфель кредитів'!W51","v":11771391},{"$f":"'1.Портфель кредитів'!Y51","v":57207337.619999997},4,"2018-06-01","322294_4_43252_2"]
[{"$f":"'1.Портфель кредитів'!H52","v":1},{"$f":"'1.Портфель кредитів'!D52","v":"322294"},{"$f":"'1.Портфель кредитів'!#REF!","v":{"$error":"#REF!"}},{"$f":"'1.Портфель кредитів'!#REF!","v":{"$error":"#REF!"}},{"$f":"'1.Портфель кредитів'!#REF!","v":{"$error":"#REF!"}},{"$f":"'1.Портфель кредитів'!I52","v":"22/05"},{"$f":"'1.Портфель кредитів'!W52","v":1203258},{"$f":"'1.Портфель кредитів'!Y52","v":13803304.449999999},4,"2018-06-01","322294_4_43252_2"]
[{"$f":"'1.Портфель кредитів'!H53","v":1},{"$f":"'1.Портфель кредитів'!D53","v":"322294"},{"$f":"'1.Портфель кредитів'!#REF!","v":{"$error":"#REF!"}},{"$f":"'1.Портфель кредитів'!#REF!","v":{"$error":"#REF!"}},{"$f":"'1.Портфель кредитів'!#REF!","v":{"$error":"#REF!"}},{"$f":"'1.Портфель кредитів'!I53","v":"337/АК-2008"},{"$f":"'1.Портфель кредитів'!W53","v":580948},{"$f":"'1.Портфель кредитів'!Y53","v":2478402.46},4,"2018-06-01","322294_4_43252_2"]
[{"$f":"'1.Портфель кредитів'!H54","v":1},{"$f":"'1.Портфель кредитів'!D54","v":"322294"},{"$f":"'1.Портфель кредитів'!#REF!","v":{"$error":"#REF!"}},{"$f":"'1.Портфель кредитів'!#REF!","v":{"$error":"#REF!"}},{"$f":"'1.Портфель кредитів'!#REF!","v":{"$error":"#REF!"}},{"$f":"'1.Портфель кредитів'!I54","v":"10/2007USD"},{"$f":"'1.Портфель кредитів'!W54","v":446555},{"$f":"'1.Портфель кредитів'!Y54","v":3998392.4299999997},4,"2018-06-01","322294_4_43252_2"]
[{"$f":"'1.Портфель кредитів'!H55","v":1},{"$f":"'1.Портфель кредитів'!D55","v":"322294"},{"$f":"'1.Портфель кредитів'!#REF!","v":{"$error":"#REF!"}},{"$f":"'1.Портфель кредитів'!#REF!","v":{"$error":"#REF!"}},{"$f":"'1.Портфель кредитів'!#REF!","v":{"$error":"#REF!"}},{"$f":"'1.Портфель кредитів'!I55","v":"348/АК-2008"},{"$f":"'1.Портфель кредитів'!W55","v":84772},{"$f":"'1.Портфель кредитів'!Y55","v":1279243.95},4,"2018-06-01","322294_4_43252_2"]
[{"$f":"'1.Портфель кредитів'!H56","v":1},{"$f":"'1.Портфель кредитів'!D56","v":"322294"},{"$f":"'1.Портфель кредитів'!#REF!","v":{"$error":"#REF!"}},{"$f":"'1.Портфель кредитів'!#REF!","v":{"$error":"#REF!"}},{"$f":"'1.Портфель кредитів'!#REF!","v":{"$error":"#REF!"}},{"$f":"'1.Портфель кредитів'!I56","v":"9/2008USD"},{"$f":"'1.Портфель кредитів'!W56","v":89311},{"$f":"'1.Портфель кредитів'!Y56","v":1533086.53},4,"2018-06-01","322294_4_43252_2"]
[{"$f":"'1.Портфель кредитів'!H57","v":1},{"$f":"'1.Портфель кредитів'!D57","v":"322294"},{"$f":"'1.Портфель кредитів'!#REF!","v":{"$error":"#REF!"}},{"$f":"'1.Портфель кредитів'!#REF!","v":{"$error":"#REF!"}},{"$f":"'1.Портфель кредитів'!#REF!","v":{"$error":"#REF!"}},{"$f":"'1.Портфель кредитів'!I57","v":"362/АК-2008"},{"$f":"'1.Портфель кредитів'!W57","v":84199},{"$f":"'1.Портфель кредитів'!Y57","v":496824.11},4,"2018-06-01","322294_4_43252_2"]
[{"$f":"'1.Портфель кредитів'!H58","v":1},{"$f":"'1.Портфель кредитів'!D58","v":"322294"},{"$f":"'1.Портфель кредитів'!#REF!","v":{"$error":"#REF!"}},{"$f":"'1.Портфель кредитів'!#REF!","v":{"$error":"#REF!"}},{"$f":"'1.Портфель кредитів'!#REF!","v":{"$error":"#REF!"}},{"$f":"'1.Портфель кредитів'!I58","v":"237/АК-2007"},{"$f":"'1.Портфель кредитів'!W58","v":84772},{"$f":"'1.Портфель кредитів'!Y58","v":698114.6399999999},4,"2018-06-01","322294_4_43252_2"]
[{"$f":"'1.Портфель кредитів'!H59","v":1},{"$f":"'1.Портфель кредитів'!D59","v":"322294"},{"$f":"'1.Портфель кредитів'!#REF!","v":{"$error":"#REF!"}},{"$f":"'1.Портфель кредитів'!#REF!","v":{"$error":"#REF!"}},{"$f":"'1.Портфель кредитів'!#REF!","v":{"$error":"#REF!"}},{"$f":"'1.Портфель кредитів'!I59","v":"2/2008USD"},{"$f":"'1.Портфель кредитів'!W59","v":162286},{"$f":"'1.Портфель кредитів'!Y59","v":3263882.02},4,"2018-06-01","322294_4_43252_2"]
[{"$f":"'1.Портфель кредитів'!H60","v":1},{"$f":"'1.Портфель кредитів'!D60","v":"322294"},{"$f":"'1.Портфель кредитів'!#REF!","v":{"$error":"#REF!"}},{"$f":"'1.Портфель кредитів'!#REF!","v":{"$error":"#REF!"}},{"$f":"'1.Портфель кредитів'!#REF!","v":{"$error":"#REF!"}},{"$f":"'1.Портфель кредитів'!I60","v":"4/2008USD"},{"$f":"'1.Портфель кредитів'!W60","v":93471},{"$f":"'1.Портфель кредитів'!Y60","v":1295174.52},4,"2018-06-01","322294_4_43252_2"]
[{"$f":"'1.Портфель кредитів'!H61","v":1},{"$f":"'1.Портфель кредитів'!D61","v":"322294"},{"$f":"'1.Портфель кредитів'!#REF!","v":{"$error":"#REF!"}},{"$f":"'1.Портфель кредитів'!#REF!","v":{"$error":"#REF!"}},{"$f":"'1.Портфель кредитів'!#REF!","v":{"$error":"#REF!"}},{"$f":"'1.Портфель кредитів'!I61","v":"6/2008USD"},{"$f":"'1.Портфель кредитів'!W61","v":84772},{"$f":"'1.Портфель кредитів'!Y61","v":2415346.34},4,"2018-06-01","322294_4_43252_2"]
[{"$f":"'1.Портфель кредитів'!H62","v":1},{"$f":"'1.Портфель кредитів'!D62","v":"322294"},{"$f":"'1.Портфель кредитів'!#REF!","v":{"$error":"#REF!"}},{"$f":"'1.Портфель кредитів'!#REF!","v":{"$error":"#REF!"}},{"$f":"'1.Портфель кредитів'!#REF!","v":{"$error":"#REF!"}},{"$f":"'1.Портфель кредитів'!I62","v":"73/08"},{"$f":"'1.Портфель кредитів'!W62","v":8592017},{"$f":"'1.Портфель кредитів'!Y62","v":27110774.190000001},4,"2018-06-01","322294_4_43252_2"]
[{"$f":"'1.Портфель кредитів'!H63","v":1},{"$f":"'1.Портфель кредитів'!D63","v":"322294"},{"$f":"'1.Портфель кредитів'!#REF!","v":{"$error":"#REF!"}},{"$f":"'1.Портфель кредитів'!#REF!","v":{"$error":"#REF!"}},{"$f":"'1.Портфель кредитів'!#REF!","v":{"$error":"#REF!"}},{"$f":"'1.Портфель кредитів'!I63","v":"144/AK-2007"},{"$f":"'1.Портфель кредитів'!W63","v":124532},{"$f":"'1.Портфель кредитів'!Y63","v":1327874.5},4,"2018-06-01","322294_4_43252_2"]
[{"$f":"'1.Портфель кредитів'!H64","v":1},{"$f":"'1.Портфель кредитів'!D64","v":"322294"},{"$f":"'1.Портфель кредитів'!#REF!","v":{"$error":"#REF!"}},{"$f":"'1.Портфель кредитів'!#REF!","v":{"$error":"#REF!"}},{"$f":"'1.Портфель кредитів'!#REF!","v":{"$error":"#REF!"}},{"$f":"'1.Портфель кредитів'!I64","v":"360/АК-2008"},{"$f":"'1.Портфель кредитів'!W64","v":311310},{"$f":"'1.Портфель кредитів'!Y64","v":3022295},4,"2018-06-01","322294_4_43252_2"]
[{"$f":"'1.Портфель кредитів'!H65","v":1},{"$f":"'1.Портфель кредитів'!D65","v":"322294"},{"$f":"'1.Портфель кредитів'!#REF!","v":{"$error":"#REF!"}},{"$f":"'1.Портфель кредитів'!#REF!","v":{"$error":"#REF!"}},{"$f":"'1.Портфель кредитів'!#REF!","v":{"$error":"#REF!"}},{"$f":"'1.Портфель кредитів'!I65","v":"36/2008USD"},{"$f":"'1.Портфель кредитів'!W65","v":89311},{"$f":"'1.Портфель кредитів'!Y65","v":1832013.0300000003},4,"2018-06-01","322294_4_43252_2"]
[{"$f":"'1.Портфель кредитів'!H66","v":1},{"$f":"'1.Портфель кредитів'!D66","v":"322294"},{"$f":"'1.Портфель кредитів'!#REF!","v":{"$error":"#REF!"}},{"$f":"'1.Портфель кредитів'!#REF!","v":{"$error":"#REF!"}},{"$f":"'1.Портфель кредитів'!#REF!","v":{"$error":"#REF!"}},{"$f":"'1.Портфель кредитів'!I66","v":"1/2008USD"},{"$f":"'1.Портфель кредитів'!W66","v":89311},{"$f":"'1.Портфель кредитів'!Y66","v":2785808.93},4,"2018-06-01","322294_4_43252_2"]
[{"$f":"'1.Портфель кредитів'!H67","v":1},{"$f":"'1.Портфель кредитів'!D67","v":"322294"},{"$f":"'1.Портфель кредитів'!#REF!","v":{"$error":"#REF!"}},{"$f":"'1.Портфель кредитів'!#REF!","v":{"$error":"#REF!"}},{"$f":"'1.Портфель кредитів'!#REF!","v":{"$error":"#REF!"}},{"$f":"'1.Портфель кредитів'!I67","v":"8/2008USD"},{"$f":"'1.Портфель кредитів'!W67","v":80055},{"$f":"'1.Портфель кредитів'!Y67","v":966567.09999999986},4,"2018-06-01","322294_4_43252_2"]
[{"$f":"'1.Портфель кредитів'!H68","v":1},{"$f":"'1.Портфель кредитів'!D68","v":"322294"},{"$f":"'1.Портфель кредитів'!#REF!","v":{"$error":"#REF!"}},{"$f":"'1.Портфель кредитів'!#REF!","v":{"$error":"#REF!"}},{"$f":"'1.Портфель кредитів'!#REF!","v":{"$error":"#REF!"}},{"$f":"'1.Портфель кредитів'!I68","v":"309/AK-2008"},{"$f":"'1.Портфель кредитів'!W68","v":105647},{"$f":"'1.Портфель кредитів'!Y68","v":1311573.1500000001},4,"2018-06-01","322294_4_43252_2"]
[{"$f":"'1.Портфель кредитів'!H69","v":1},{"$f":"'1.Портфель кредитів'!D69","v":"322294"},{"$f":"'1.Портфель кредитів'!#REF!","v":{"$error":"#REF!"}},{"$f":"'1.Портфель кредитів'!#REF!","v":{"$error":"#REF!"}},{"$f":"'1.Портфель кредитів'!#REF!","v":{"$error":"#REF!"}},{"$f":"'1.Портфель кредитів'!I69","v":"3/2008USD"},{"$f":"'1.Портфель кредитів'!W69","v":320218},{"$f":"'1.Портфель кредитів'!Y69","v":3920659.72},4,"2018-06-01","322294_4_43252_2"]
[{"$f":"'1.Портфель кредитів'!H70","v":1},{"$f":"'1.Портфель кредитів'!D70","v":"322294"},{"$f":"'1.Портфель кредитів'!#REF!","v":{"$error":"#REF!"}},{"$f":"'1.Портфель кредитів'!#REF!","v":{"$error":"#REF!"}},{"$f":"'1.Портфель кредитів'!#REF!","v":{"$error":"#REF!"}},{"$f":"'1.Портфель кредитів'!I70","v":"17/10-ОВ"},{"$f":"'1.Портфель кредитів'!W70","v":363423},{"$f":"'1.Портфель кредитів'!Y70","v":16519227.57},4,"2018-06-01","322294_4_43252_2"]
[{"$f":"'1.Портфель кредитів'!H71","v":1},{"$f":"'1.Портфель кредитів'!D71","v":"322294"},{"$f":"'1.Портфель кредитів'!#REF!","v":{"$error":"#REF!"}},{"$f":"'1.Портфель кредитів'!#REF!","v":{"$error":"#REF!"}},{"$f":"'1.Портфель кредитів'!#REF!","v":{"$error":"#REF!"}},{"$f":"'1.Портфель кредитів'!I71","v":26},{"$f":"'1.Портфель кредитів'!W71","v":1708416},{"$f":"'1.Портфель кредитів'!Y71","v":6545143.4699999997},4,"2018-06-01","322294_4_43252_2"]
[{"$f":"'1.Портфель кредитів'!H72","v":1},{"$f":"'1.Портфель кредитів'!D72","v":"322294"},{"$f":"'1.Портфель кредитів'!#REF!","v":{"$error":"#REF!"}},{"$f":"'1.Портфель кредитів'!#REF!","v":{"$error":"#REF!"}},{"$f":"'1.Портфель кредитів'!#REF!","v":{"$error":"#REF!"}},{"$f":"'1.Портфель кредитів'!I72","v":54},{"$f":"'1.Портфель кредитів'!W72","v":8489638},{"$f":"'1.Портфель кредитів'!Y72","v":21929048.059999999},4,"2018-06-01","322294_4_43252_2"]
[{"$f":"'1.Портфель кредитів'!H73","v":1},{"$f":"'1.Портфель кредитів'!D73","v":"322294"},{"$f":"'1.Портфель кредитів'!#REF!","v":{"$error":"#REF!"}},{"$f":"'1.Портфель кредитів'!#REF!","v":{"$error":"#REF!"}},{"$f":"'1.Портфель кредитів'!#REF!","v":{"$error":"#REF!"}},{"$f":"'1.Портфель кредитів'!I73","v":"33"},{"$f":"'1.Портфель кредитів'!W73","v":2453651},{"$f":"'1.Портфель кредитів'!Y73","v":6036902.3200000003},4,"2018-06-01","322294_4_43252_2"]
[{"$f":"'1.Портфель кредитів'!H74","v":2},{"$f":"'1.Портфель кредитів'!D74","v":"380708"},{"$f":"'1.Портфель кредитів'!#REF!","v":{"$error":"#REF!"}},{"$f":"'1.Портфель кредитів'!#REF!","v":{"$error":"#REF!"}},{"$f":"'1.Портфель кредитів'!#REF!","v":{"$error":"#REF!"}},{"$f":"'1.Портфель кредитів'!I74","v":"К-Ю/12/009"},{"$f":"'1.Портфель кредитів'!W74","v":219641},{"$f":"'1.Портфель кредитів'!Y74","v":5743000},{"$f":"$E$1","v":4},{"$f":"$E$2","v":"2018-06-01"},{"$f":"B70&\"_\"&I70&\"_\"&J70&\"_\"&$E$3","v":"380708_4_43252_2"}]
[{"$f":"'1.Портфель кредитів'!H75","v":1},{"$f":"'1.Портфель кредитів'!D75","v":"320702"},{"$f":"'1.Портфель кредитів'!#REF!","v":{"$error":"#REF!"}},{"$f":"'1.Портфель кредитів'!#REF!","v":{"$error":"#REF!"}},{"$f":"'1.Портфель кредитів'!#REF!","v":{"$error":"#REF!"}},{"$f":"'1.Портфель кредитів'!I75","v":"53/3-08"},{"$f":"'1.Портфель кредитів'!W75","v":16734.16},{"$f":"'1.Портфель кредитів'!Y75","v":407599.31000000006},4,"2018-06-01","320702_4_43252_2"]
[{"$f":"'1.Портфель кредитів'!H76","v":2},{"$f":"'1.Портфель кредитів'!D76","v":"320702"},{"$f":"'1.Портфель кредитів'!#REF!","v":{"$error":"#REF!"}},{"$f":"'1.Портфель кредитів'!#REF!","v":{"$error":"#REF!"}},{"$f":"'1.Портфель кредитів'!#REF!","v":{"$error":"#REF!"}},{"$f":"'1.Портфель кредитів'!I76","v":"62-07"},{"$f":"'1.Портфель кредитів'!W76","v":23095.03},{"$f":"'1.Портфель кредитів'!Y76","v":492121.81},4,"2018-06-01","320702_4_43252_2"]
[{"$f":"'1.Портфель кредитів'!H77","v":2},{"$f":"'1.Портфель кредитів'!D77","v":"320702"},{"$f":"'1.Портфель кредитів'!#REF!","v":{"$error":"#REF!"}},{"$f":"'1.Портфель кредитів'!#REF!","v":{"$error":"#REF!"}},{"$f":"'1.Портфель кредитів'!#REF!","v":{"$error":"#REF!"}},{"$f":"'1.Портфель кредитів'!I77","v":"16ю/2008/02-382/2-1"},{"$f":"'1.Портфель кредитів'!W77","v":30513.43},{"$f":"'1.Портфель кредитів'!Y77","v":610421.02999999991},4,"2018-06-01","320702_4_43252_2"]
[{"$f":"'1.Портфель кредитів'!H78","v":1},{"$f":"'1.Портфель кредитів'!D78","v":"320702"},{"$f":"'1.Портфель кредитів'!#REF!","v":{"$error":"#REF!"}},{"$f":"'1.Портфель кредитів'!#REF!","v":{"$error":"#REF!"}},{"$f":"'1.Портфель кредитів'!#REF!","v":{"$error":"#REF!"}},{"$f":"'1.Портфель кредитів'!I78","v":"ID5201196"},{"$f":"'1.Портфель кредитів'!W78","v":2887.63},{"$f":"'1.Портфель кредитів'!Y78","v":481286.22000000009},4,"2018-06-01","320702_4_43252_2"]
[{"$f":"'1.Портфель кредитів'!H79","v":"ІІ"},{"$f":"'1.Портфель кредитів'!D79","v":380719},{"$f":"'1.Портфель кредитів'!#REF!","v":{"$error":"#REF!"}},{"$f":"'1.Портфель кредитів'!#REF!","v":{"$error":"#REF!"}},{"$f":"'1.Портфель кредитів'!#REF!","v":{"$error":"#REF!"}},{"$f":"'1.Портфель кредитів'!I79","v":"MSBKOB4.2686.010"},{"$f":"'1.Портфель кредитів'!W79","v":780.62},{"$f":"'1.Портфель кредитів'!Y79","v":137124.99},4,"2018-06-01","380719_4_43252_2"]
[{"$f":"'1.Портфель кредитів'!H80","v":"ІІ"},{"$f":"'1.Портфель кредитів'!D80","v":380719},{"$f":"'1.Портфель кредитів'!#REF!","v":{"$error":"#REF!"}},{"$f":"'1.Портфель кредитів'!#REF!","v":{"$error":"#REF!"}},{"$f":"'1.Портфель кредитів'!#REF!","v":{"$error":"#REF!"}},{"$f":"'1.Портфель кредитів'!I80","v":"KCCGMCG.2686.007"},{"$f":"'1.Портфель кредитів'!W80","v":148.66},{"$f":"'1.Портфель кредитів'!Y80","v":24854.36},4,"2018-06-01","380719_4_43252_2"]
[{"$f":"'1.Портфель кредитів'!H81","v":"ІІ"},{"$f":"'1.Портфель кредитів'!D81","v":380719},{"$f":"'1.Портфель кредитів'!#REF!","v":{"$error":"#REF!"}},{"$f":"'1.Портфель кредитів'!#REF!","v":{"$error":"#REF!"}},{"$f":"'1.Портфель кредитів'!#REF!","v":{"$error":"#REF!"}},{"$f":"'1.Портфель кредитів'!I81","v":"MSBKOB3.9737.001"},{"$f":"'1.Портфель кредитів'!W81","v":5284.38},{"$f":"'1.Портфель кредитів'!Y81","v":571293.81000000006},4,"2018-06-01","380719_4_43252_2"]
[{"$f":"'1.Портфель кредитів'!H82","v":"ІІ"},{"$f":"'1.Портфель кредитів'!D82","v":380719},{"$f":"'1.Портфель кредитів'!#REF!","v":{"$error":"#REF!"}},{"$f":"'1.Портфель кредитів'!#REF!","v":{"$error":"#REF!"}},{"$f":"'1.Портфель кредитів'!#REF!","v":{"$error":"#REF!"}},{"$f":"'1.Портфель кредитів'!I82","v":"MSBKOB3.199144.002"},{"$f":"'1.Портфель кредитів'!W82","v":3319.08},{"$f":"'1.Портфель кредитів'!Y82","v":511633.35},4,"2018-06-01","380719_4_43252_2"]
[{"$f":"'1.Портфель кредитів'!H83","v":"ІІ"},{"$f":"'1.Портфель кредитів'!D83","v":380719},{"$f":"'1.Портфель кредитів'!#REF!","v":{"$error":"#REF!"}},{"$f":"'1.Портфель кредитів'!#REF!","v":{"$error":"#REF!"}},{"$f":"'1.Портфель кредитів'!#REF!","v":{"$error":"#REF!"}},{"$f":"'1.Портфель кредитів'!I83","v":"MKLNU4.517.009"},{"$f":"'1.Портфель кредитів'!W83","v":312387.8},{"$f":"'1.Портфель кредитів'!Y83","v":364583.45},4,"2018-06-01","380719_4_43252_2"]
[{"$f":"'1.Портфель кредитів'!H84","v":"ІІ"},{"$f":"'1.Портфель кредитів'!D84","v":380719},{"$f":"'1.Портфель кредитів'!#REF!","v":{"$error":"#REF!"}},{"$f":"'1.Портфель кредитів'!#REF!","v":{"$error":"#REF!"}},{"$f":"'1.Портфель кредитів'!#REF!","v":{"$error":"#REF!"}},{"$f":"'1.Портфель кредитів'!I84","v":"MKLNU4.517.018"},{"$f":"'1.Портфель кредитів'!W84","v":17566.990000000002},{"$f":"'1.Портфель кредитів'!Y84","v":20842.7},4,"2018-06-01","380719_4_43252_2"]
[{"$f":"'1.Портфель кредитів'!H85","v":"ІІ"},{"$f":"'1.Портфель кредитів'!D85","v":380719},{"$f":"'1.Портфель кредитів'!#REF!","v":{"$error":"#REF!"}},{"$f":"'1.Портфель кредитів'!#REF!","v":{"$error":"#REF!"}},{"$f":"'1.Портфель кредитів'!#REF!","v":{"$error":"#REF!"}},{"$f":"'1.Портфель кредитів'!I85","v":"MSBKOB1.5819.011"},{"$f":"'1.Портфель кредитів'!W85","v":715.31},{"$f":"'1.Портфель кредитів'!Y85","v":123274.26000000001},4,"2018-06-01","380719_4_43252_2"]
[{"$f":"'1.Портфель кредитів'!H86","v":1},{"$f":"'1.Портфель кредитів'!D86","v":"380537"},{"$f":"'1.Портфель кредитів'!#REF!","v":{"$error":"#REF!"}},{"$f":"'1.Портфель кредитів'!#REF!","v":{"$error":"#REF!"}},{"$f":"'1.Портфель кредитів'!#REF!","v":{"$error":"#REF!"}},{"$f":"'1.Портфель кредитів'!I86","v":"154/05ф"},{"$f":"'1.Портфель кредитів'!W86","v":2511},{"$f":"'1.Портфель кредитів'!Y86","v":1650411.5},4,"2018-06-01","380537_4_43252_2"]
[{"$f":"'1.Портфель кредитів'!H87","v":1},{"$f":"'1.Портфель кредитів'!D87","v":"380537"},{"$f":"'1.Портфель кредитів'!#REF!","v":{"$error":"#REF!"}},{"$f":"'1.Портфель кредитів'!#REF!","v":{"$error":"#REF!"}},{"$f":"'1.Портфель кредитів'!#REF!","v":{"$error":"#REF!"}},{"$f":"'1.Портфель кредитів'!I87","v":"59/05ф"},{"$f":"'1.Портфель кредитів'!W87","v":1989},{"$f":"'1.Портфель кредитів'!Y87","v":1400624.44},4,"2018-06-01","380537_4_43252_2"]
[{"$f":"'1.Портфель кредитів'!H88","v":1},{"$f":"'1.Портфель кредитів'!D88","v":"380537"},{"$f":"'1.Портфель кредитів'!#REF!","v":{"$error":"#REF!"}},{"$f":"'1.Портфель кредитів'!#REF!","v":{"$error":"#REF!"}},{"$f":"'1.Портфель кредитів'!#REF!","v":{"$error":"#REF!"}},{"$f":"'1.Портфель кредитів'!I88","v":"96/05ф"},{"$f":"'1.Портфель кредитів'!W88","v":1656},{"$f":"'1.Портфель кредитів'!Y88","v":1166076.6499999999},4,"2018-06-01","380537_4_43252_2"]
[{"$f":"'1.Портфель кредитів'!H89","v":1},{"$f":"'1.Портфель кредитів'!D89","v":"380537"},{"$f":"'1.Портфель кредитів'!#REF!","v":{"$error":"#REF!"}},{"$f":"'1.Портфель кредитів'!#REF!","v":{"$error":"#REF!"}},{"$f":"'1.Портфель кредитів'!#REF!","v":{"$error":"#REF!"}},{"$f":"'1.Портфель кредитів'!I89","v":"94/05ф"},{"$f":"'1.Портфель кредитів'!W89","v":1242},{"$f":"'1.Портфель кредитів'!Y89","v":886828.77},4,"2018-06-01","380537_4_43252_2"]
[{"$f":"'1.Портфель кредитів'!H90","v":1},{"$f":"'1.Портфель кредитів'!D90","v":"380537"},{"$f":"'1.Портфель кредитів'!#REF!","v":{"$error":"#REF!"}},{"$f":"'1.Портфель кредитів'!#REF!","v":{"$error":"#REF!"}},{"$f":"'1.Портфель кредитів'!#REF!","v":{"$error":"#REF!"}},{"$f":"'1.Портфель кредитів'!I90","v":"127/04ф"},{"$f":"'1.Портфель кредитів'!W90","v":1002},{"$f":"'1.Портфель кредитів'!Y90","v":705692.67999999993},4,"2018-06-01","380537_4_43252_2"]
[{"$f":"'1.Портфель кредитів'!H91","v":1},{"$f":"'1.Портфель кредитів'!D91","v":"380537"},{"$f":"'1.Портфель кредитів'!#REF!","v":{"$error":"#REF!"}},{"$f":"'1.Портфель кредитів'!#REF!","v":{"$error":"#REF!"}},{"$f":"'1.Портфель кредитів'!#REF!","v":{"$error":"#REF!"}},{"$f":"'1.Портфель кредитів'!I91","v":"97/04ф"},{"$f":"'1.Портфель кредитів'!W91","v":1203},{"$f":"'1.Портфель кредитів'!Y91","v":847095.28},4,"2018-06-01","380537_4_43252_2"]
[{"$f":"'1.Портфель кредитів'!H92","v":1},{"$f":"'1.Портфель кредитів'!D92","v":"380537"},{"$f":"'1.Портфель кредитів'!#REF!","v":{"$error":"#REF!"}},{"$f":"'1.Портфель кредитів'!#REF!","v":{"$error":"#REF!"}},{"$f":"'1.Портфель кредитів'!#REF!","v":{"$error":"#REF!"}},{"$f":"'1.Портфель кредитів'!I92","v":"60/05ф"},{"$f":"'1.Портфель кредитів'!W92","v":1856},{"$f":"'1.Портфель кредитів'!Y92","v":1307108.6600000001},4,"2018-06-01","380537_4_43252_2"]
[{"$f":"'1.Портфель кредитів'!H93","v":1},{"$f":"'1.Портфель кредитів'!D93","v":"380537"},{"$f":"'1.Портфель кредитів'!#REF!","v":{"$error":"#REF!"}},{"$f":"'1.Портфель кредитів'!#REF!","v":{"$error":"#REF!"}},{"$f":"'1.Портфель кредитів'!#REF!","v":{"$error":"#REF!"}},{"$f":"'1.Портфель кредитів'!I93","v":"01/05ф"},{"$f":"'1.Портфель кредитів'!W93","v":1060},{"$f":"'1.Портфель кредитів'!Y93","v":395717.95999999996},4,"2018-06-01","380537_4_43252_2"]
[{"$f":"'1.Портфель кредитів'!H94","v":1},{"$f":"'1.Портфель кредитів'!D94","v":"380537"},{"$f":"'1.Портфель кредитів'!#REF!","v":{"$error":"#REF!"}},{"$f":"'1.Портфель кредитів'!#REF!","v":{"$error":"#REF!"}},{"$f":"'1.Портфель кредитів'!#REF!","v":{"$error":"#REF!"}},{"$f":"'1.Портфель кредитів'!I94","v":"150/05ф"},{"$f":"'1.Портфель кредитів'!W94","v":3818},{"$f":"'1.Портфель кредитів'!Y94","v":476549.77},4,"2018-06-01","380537_4_43252_2"]
[{"$f":"'1.Портфель кредитів'!H95","v":1},{"$f":"'1.Портфель кредитів'!D95","v":"380537"},{"$f":"'1.Портфель кредитів'!#REF!","v":{"$error":"#REF!"}},{"$f":"'1.Портфель кредитів'!#REF!","v":{"$error":"#REF!"}},{"$f":"'1.Портфель кредитів'!#REF!","v":{"$error":"#REF!"}},{"$f":"'1.Портфель кредитів'!I95","v":"140/05ф"},{"$f":"'1.Портфель кредитів'!W95","v":2452},{"$f":"'1.Портфель кредитів'!Y95","v":756202.49},4,"2018-06-01","380537_4_43252_2"]
[{"$f":"'1.Портфель кредитів'!H96","v":1},{"$f":"'1.Портфель кредитів'!D96","v":"380537"},{"$f":"'1.Портфель кредитів'!#REF!","v":{"$error":"#REF!"}},{"$f":"'1.Портфель кредитів'!#REF!","v":{"$error":"#REF!"}},{"$f":"'1.Портфель кредитів'!#REF!","v":{"$error":"#REF!"}},{"$f":"'1.Портфель кредитів'!I96","v":"90/05ф"},{"$f":"'1.Портфель кредитів'!W96","v":1868},{"$f":"'1.Портфель кредитів'!Y96","v":1315566.73},4,"2018-06-01","380537_4_43252_2"]
[{"$f":"'1.Портфель кредитів'!H97","v":1},{"$f":"'1.Портфель кредитів'!D97","v":"380537"},{"$f":"'1.Портфель кредитів'!#REF!","v":{"$error":"#REF!"}},{"$f":"'1.Портфель кредитів'!#REF!","v":{"$error":"#REF!"}},{"$f":"'1.Портфель кредитів'!#REF!","v":{"$error":"#REF!"}},{"$f":"'1.Портфель кредитів'!I97","v":"178/07ф"},{"$f":"'1.Портфель кредитів'!W97","v":2439},{"$f":"'1.Портфель кредитів'!Y97","v":1960279.32},4,"2018-06-01","380537_4_43252_2"]
[{"$f":"'1.Портфель кредитів'!H98","v":1},{"$f":"'1.Портфель кредитів'!D98","v":"380537"},{"$f":"'1.Портфель кредитів'!#REF!","v":{"$error":"#REF!"}},{"$f":"'1.Портфель кредитів'!#REF!","v":{"$error":"#REF!"}},{"$f":"'1.Портфель кредитів'!#REF!","v":{"$error":"#REF!"}},{"$f":"'1.Портфель кредитів'!I98","v":"45/06ф"},{"$f":"'1.Портфель кредитів'!W98","v":1513},{"$f":"'1.Портфель кредитів'!Y98","v":845578.10000000009},4,"2018-06-01","380537_4_43252_2"]
[{"$f":"'1.Портфель кредитів'!H99","v":1},{"$f":"'1.Портфель кредитів'!D99","v":"380537"},{"$f":"'1.Портфель кредитів'!#REF!","v":{"$error":"#REF!"}},{"$f":"'1.Портфель кредитів'!#REF!","v":{"$error":"#REF!"}},{"$f":"'1.Портфель кредитів'!#REF!","v":{"$error":"#REF!"}},{"$f":"'1.Портфель кредитів'!I99","v":"91/05ф"},{"$f":"'1.Портфель кредитів'!W99","v":1842},{"$f":"'1.Портфель кредитів'!Y99","v":1287648.98},4,"2018-06-01","380537_4_43252_2"]
[{"$f":"'1.Портфель кредитів'!H100","v":1},{"$f":"'1.Портфель кредитів'!D100","v":"380537"},{"$f":"'1.Портфель кредитів'!#REF!","v":{"$error":"#REF!"}},{"$f":"'1.Портфель кредитів'!#REF!","v":{"$error":"#REF!"}},{"$f":"'1.Портфель кредитів'!#REF!","v":{"$error":"#REF!"}},{"$f":"'1.Портфель кредитів'!I100","v":"29/06ф"},{"$f":"'1.Портфель кредитів'!W100","v":1999},{"$f":"'1.Портфель кредитів'!Y100","v":1413033.21},4,"2018-06-01","380537_4_43252_2"]
[{"$f":"'1.Портфель кредитів'!H101","v":1},{"$f":"'1.Портфель кредитів'!D101","v":"380537"},{"$f":"'1.Портфель кредитів'!#REF!","v":{"$error":"#REF!"}},{"$f":"'1.Портфель кредитів'!#REF!","v":{"$error":"#REF!"}},{"$f":"'1.Портфель кредитів'!#REF!","v":{"$error":"#REF!"}},{"$f":"'1.Портфель кредитів'!I101","v":"26/06ф"},{"$f":"'1.Портфель кредитів'!W101","v":1902},{"$f":"'1.Портфель кредитів'!Y101","v":1276039.45},4,"2018-06-01","380537_4_43252_2"]
[{"$f":"'1.Портфель кредитів'!H102","v":1},{"$f":"'1.Портфель кредитів'!D102","v":"380537"},{"$f":"'1.Портфель кредитів'!#REF!","v":{"$error":"#REF!"}},{"$f":"'1.Портфель кредитів'!#REF!","v":{"$error":"#REF!"}},{"$f":"'1.Портфель кредитів'!#REF!","v":{"$error":"#REF!"}},{"$f":"'1.Портфель кредитів'!I102","v":"24/05ф"},{"$f":"'1.Портфель кредитів'!W102","v":1606},{"$f":"'1.Портфель кредитів'!Y102","v":1130839.5699999998},4,"2018-06-01","380537_4_43252_2"]
[{"$f":"'1.Портфель кредитів'!H103","v":1},{"$f":"'1.Портфель кредитів'!D103","v":"380537"},{"$f":"'1.Портфель кредитів'!#REF!","v":{"$error":"#REF!"}},{"$f":"'1.Портфель кредитів'!#REF!","v":{"$error":"#REF!"}},{"$f":"'1.Портфель кредитів'!#REF!","v":{"$error":"#REF!"}},{"$f":"'1.Портфель кредитів'!I103","v":"47/05ф"},{"$f":"'1.Портфель кредитів'!W103","v":476},{"$f":"'1.Портфель кредитів'!Y103","v":313518.3},4,"2018-06-01","380537_4_43252_2"]
[{"$f":"'1.Портфель кредитів'!H104","v":1},{"$f":"'1.Портфель кредитів'!D104","v":"380537"},{"$f":"'1.Портфель кредитів'!#REF!","v":{"$error":"#REF!"}},{"$f":"'1.Портфель кредитів'!#REF!","v":{"$error":"#REF!"}},{"$f":"'1.Портфель кредитів'!#REF!","v":{"$error":"#REF!"}},{"$f":"'1.Портфель кредитів'!I104","v":"07/05ф"},{"$f":"'1.Портфель кредитів'!W104","v":1748},{"$f":"'1.Портфель кредитів'!Y104","v":1215753},4,"2018-06-01","380537_4_43252_2"]
[{"$f":"'1.Портфель кредитів'!H105","v":1},{"$f":"'1.Портфель кредитів'!D105","v":"380537"},{"$f":"'1.Портфель кредитів'!#REF!","v":{"$error":"#REF!"}},{"$f":"'1.Портфель кредитів'!#REF!","v":{"$error":"#REF!"}},{"$f":"'1.Портфель кредитів'!#REF!","v":{"$error":"#REF!"}},{"$f":"'1.Портфель кредитів'!I105","v":"158/05ф"},{"$f":"'1.Портфель кредитів'!W105","v":1867},{"$f":"'1.Портфель кредитів'!Y105","v":1270261.8700000001},4,"2018-06-01","380537_4_43252_2"]
[{"$f":"'1.Портфель кредитів'!H106","v":1},{"$f":"'1.Портфель кредитів'!D106","v":"380537"},{"$f":"'1.Портфель кредитів'!#REF!","v":{"$error":"#REF!"}},{"$f":"'1.Портфель кредитів'!#REF!","v":{"$error":"#REF!"}},{"$f":"'1.Портфель кредитів'!#REF!","v":{"$error":"#REF!"}},{"$f":"'1.Портфель кредитів'!I106","v":"52/05ф"},{"$f":"'1.Портфель кредитів'!W106","v":1578},{"$f":"'1.Портфель кредитів'!Y106","v":1110969.29},4,"2018-06-01","380537_4_43252_2"]
[{"$f":"'1.Портфель кредитів'!H107","v":1},{"$f":"'1.Портфель кредитів'!D107","v":"380537"},{"$f":"'1.Портфель кредитів'!#REF!","v":{"$error":"#REF!"}},{"$f":"'1.Портфель кредитів'!#REF!","v":{"$error":"#REF!"}},{"$f":"'1.Портфель кредитів'!#REF!","v":{"$error":"#REF!"}},{"$f":"'1.Портфель кредитів'!I107","v":"141/05ф"},{"$f":"'1.Портфель кредитів'!W107","v":1683},{"$f":"'1.Портфель кредитів'!Y107","v":1158601.03},4,"2018-06-01","380537_4_43252_2"]
[{"$f":"'1.Портфель кредитів'!H108","v":1},{"$f":"'1.Портфель кредитів'!D108","v":"380537"},{"$f":"'1.Портфель кредитів'!#REF!","v":{"$error":"#REF!"}},{"$f":"'1.Портфель кредитів'!#REF!","v":{"$error":"#REF!"}},{"$f":"'1.Портфель кредитів'!#REF!","v":{"$error":"#REF!"}},{"$f":"'1.Портфель кредитів'!I108","v":"155/05ф"},{"$f":"'1.Портфель кредитів'!W108","v":1685},{"$f":"'1.Портфель кредитів'!Y108","v":1189559.95},4,"2018-06-01","380537_4_43252_2"]
[{"$f":"'1.Портфель кредитів'!H109","v":1},{"$f":"'1.Портфель кредитів'!D109","v":"380537"},{"$f":"'1.Портфель кредитів'!#REF!","v":{"$error":"#REF!"}},{"$f":"'1.Портфель кредитів'!#REF!","v":{"$error":"#REF!"}},{"$f":"'1.Портфель кредитів'!#REF!","v":{"$error":"#REF!"}},{"$f":"'1.Портфель кредитів'!I109","v":"132/04ф"},{"$f":"'1.Портфель кредитів'!W109","v":1279},{"$f":"'1.Портфель кредитів'!Y109","v":934150.8},4,"2018-06-01","380537_4_43252_2"]
[{"$f":"'1.Портфель кредитів'!H110","v":1},{"$f":"'1.Портфель кредитів'!D110","v":"380537"},{"$f":"'1.Портфель кредитів'!#REF!","v":{"$error":"#REF!"}},{"$f":"'1.Портфель кредитів'!#REF!","v":{"$error":"#REF!"}},{"$f":"'1.Портфель кредитів'!#REF!","v":{"$error":"#REF!"}},{"$f":"'1.Портфель кредитів'!I110","v":"34/05ф"},{"$f":"'1.Портфель кредитів'!W110","v":756},{"$f":"'1.Портфель кредитів'!Y110","v":526175.93999999994},4,"2018-06-01","380537_4_43252_2"]
[{"$f":"'1.Портфель кредитів'!H111","v":1},{"$f":"'1.Портфель кредитів'!D111","v":"380537"},{"$f":"'1.Портфель кредитів'!#REF!","v":{"$error":"#REF!"}},{"$f":"'1.Портфель кредитів'!#REF!","v":{"$error":"#REF!"}},{"$f":"'1.Портфель кредитів'!#REF!","v":{"$error":"#REF!"}},{"$f":"'1.Портфель кредитів'!I111","v":"152/04ф"},{"$f":"'1.Портфель кредитів'!W111","v":386},{"$f":"'1.Портфель кредитів'!Y111","v":266992.5},4,"2018-06-01","380537_4_43252_2"]
[{"$f":"'1.Портфель кредитів'!H112","v":1},{"$f":"'1.Портфель кредитів'!D112","v":"380537"},{"$f":"'1.Портфель кредитів'!#REF!","v":{"$error":"#REF!"}},{"$f":"'1.Портфель кредитів'!#REF!","v":{"$error":"#REF!"}},{"$f":"'1.Портфель кредитів'!#REF!","v":{"$error":"#REF!"}},{"$f":"'1.Портфель кредитів'!I112","v":"158/04ф"},{"$f":"'1.Портфель кредитів'!W112","v":402},{"$f":"'1.Портфель кредитів'!Y112","v":277909.27},4,"2018-06-01","380537_4_43252_2"]
[{"$f":"'1.Портфель кредитів'!H113","v":1},{"$f":"'1.Портфель кредитів'!D113","v":"380537"},{"$f":"'1.Портфель кредитів'!#REF!","v":{"$error":"#REF!"}},{"$f":"'1.Портфель кредитів'!#REF!","v":{"$error":"#REF!"}},{"$f":"'1.Портфель кредитів'!#REF!","v":{"$error":"#REF!"}},{"$f":"'1.Портфель кредитів'!I113","v":"161/06ф"},{"$f":"'1.Портфель кредитів'!W113","v":2843},{"$f":"'1.Портфель кредитів'!Y113","v":1847770.64},4,"2018-06-01","380537_4_43252_2"]
[{"$f":"'1.Портфель кредитів'!H114","v":1},{"$f":"'1.Портфель кредитів'!D114","v":"380537"},{"$f":"'1.Портфель кредитів'!#REF!","v":{"$error":"#REF!"}},{"$f":"'1.Портфель кредитів'!#REF!","v":{"$error":"#REF!"}},{"$f":"'1.Портфель кредитів'!#REF!","v":{"$error":"#REF!"}},{"$f":"'1.Портфель кредитів'!I114","v":"01/07ф"},{"$f":"'1.Портфель кредитів'!W114","v":2229},{"$f":"'1.Портфель кредитів'!Y114","v":1560488.0899999999},4,"2018-06-01","380537_4_43252_2"]
[{"$f":"'1.Портфель кредитів'!H115","v":1},{"$f":"'1.Портфель кредитів'!D115","v":"380537"},{"$f":"'1.Портфель кредитів'!#REF!","v":{"$error":"#REF!"}},{"$f":"'1.Портфель кредитів'!#REF!","v":{"$error":"#REF!"}},{"$f":"'1.Портфель кредитів'!#REF!","v":{"$error":"#REF!"}},{"$f":"'1.Портфель кредитів'!I115","v":"71/05ф"},{"$f":"'1.Портфель кредитів'!W115","v":1807},{"$f":"'1.Портфель кредитів'!Y115","v":1272611.48},4,"2018-06-01","380537_4_43252_2"]
[{"$f":"'1.Портфель кредитів'!H116","v":1},{"$f":"'1.Портфель кредитів'!D116","v":"380537"},{"$f":"'1.Портфель кредитів'!#REF!","v":{"$error":"#REF!"}},{"$f":"'1.Портфель кредитів'!#REF!","v":{"$error":"#REF!"}},{"$f":"'1.Портфель кредитів'!#REF!","v":{"$error":"#REF!"}},{"$f":"'1.Портфель кредитів'!I116","v":"79/04ф"},{"$f":"'1.Портфель кредитів'!W116","v":1113},{"$f":"'1.Портфель кредитів'!Y116","v":658022.26},4,"2018-06-01","380537_4_43252_2"]
[{"$f":"'1.Портфель кредитів'!H117","v":1},{"$f":"'1.Портфель кредитів'!D117","v":"380537"},{"$f":"'1.Портфель кредитів'!#REF!","v":{"$error":"#REF!"}},{"$f":"'1.Портфель кредитів'!#REF!","v":{"$error":"#REF!"}},{"$f":"'1.Портфель кредитів'!#REF!","v":{"$error":"#REF!"}},{"$f":"'1.Портфель кредитів'!I117","v":"94/07ф"},{"$f":"'1.Портфель кредитів'!W117","v":5959},{"$f":"'1.Портфель кредитів'!Y117","v":2268526.98},4,"2018-06-01","380537_4_43252_2"]
[{"$f":"'1.Портфель кредитів'!H118","v":1},{"$f":"'1.Портфель кредитів'!D118","v":"380537"},{"$f":"'1.Портфель кредитів'!#REF!","v":{"$error":"#REF!"}},{"$f":"'1.Портфель кредитів'!#REF!","v":{"$error":"#REF!"}},{"$f":"'1.Портфель кредитів'!#REF!","v":{"$error":"#REF!"}},{"$f":"'1.Портфель кредитів'!I118","v":"102/06ф"},{"$f":"'1.Портфель кредитів'!W118","v":2441},{"$f":"'1.Портфель кредитів'!Y118","v":1667044.87},4,"2018-06-01","380537_4_43252_2"]
[{"$f":"'1.Портфель кредитів'!H119","v":1},{"$f":"'1.Портфель кредитів'!D119","v":"380537"},{"$f":"'1.Портфель кредитів'!#REF!","v":{"$error":"#REF!"}},{"$f":"'1.Портфель кредитів'!#REF!","v":{"$error":"#REF!"}},{"$f":"'1.Портфель кредитів'!#REF!","v":{"$error":"#REF!"}},{"$f":"'1.Портфель кредитів'!I119","v":"121/05ф"},{"$f":"'1.Портфель кредитів'!W119","v":2545},{"$f":"'1.Портфель кредитів'!Y119","v":1665320.42},4,"2018-06-01","380537_4_43252_2"]
[{"$f":"'1.Портфель кредитів'!H120","v":1},{"$f":"'1.Портфель кредитів'!D120","v":"380537"},{"$f":"'1.Портфель кредитів'!#REF!","v":{"$error":"#REF!"}},{"$f":"'1.Портфель кредитів'!#REF!","v":{"$error":"#REF!"}},{"$f":"'1.Портфель кредитів'!#REF!","v":{"$error":"#REF!"}},{"$f":"'1.Портфель кредитів'!I120","v":"220/06ф"},{"$f":"'1.Портфель кредитів'!W120","v":2813},{"$f":"'1.Портфель кредитів'!Y120","v":1601382.79},4,"2018-06-01","380537_4_43252_2"]
[{"$f":"'1.Портфель кредитів'!H121","v":1},{"$f":"'1.Портфель кредитів'!D121","v":"380537"},{"$f":"'1.Портфель кредитів'!#REF!","v":{"$error":"#REF!"}},{"$f":"'1.Портфель кредитів'!#REF!","v":{"$error":"#REF!"}},{"$f":"'1.Портфель кредитів'!#REF!","v":{"$error":"#REF!"}},{"$f":"'1.Портфель кредитів'!I121","v":"143/05ф"},{"$f":"'1.Портфель кредитів'!W121","v":1949},{"$f":"'1.Портфель кредитів'!Y121","v":1354204.35},4,"2018-06-01","380537_4_43252_2"]
[{"$f":"'1.Портфель кредитів'!H122","v":1},{"$f":"'1.Портфель кредитів'!D122","v":"380537"},{"$f":"'1.Портфель кредитів'!#REF!","v":{"$error":"#REF!"}},{"$f":"'1.Портфель кредитів'!#REF!","v":{"$error":"#REF!"}},{"$f":"'1.Портфель кредитів'!#REF!","v":{"$error":"#REF!"}},{"$f":"'1.Портфель кредитів'!I122","v":"32/05ф"},{"$f":"'1.Портфель кредитів'!W122","v":1635},{"$f":"'1.Портфель кредитів'!Y122","v":1151286.3900000001},4,"2018-06-01","380537_4_43252_2"]
[{"$f":"'1.Портфель кредитів'!H123","v":1},{"$f":"'1.Портфель кредитів'!D123","v":"380537"},{"$f":"'1.Портфель кредитів'!#REF!","v":{"$error":"#REF!"}},{"$f":"'1.Портфель кредитів'!#REF!","v":{"$error":"#REF!"}},{"$f":"'1.Портфель кредитів'!#REF!","v":{"$error":"#REF!"}},{"$f":"'1.Портфель кредитів'!I123","v":"08/05ф"},{"$f":"'1.Портфель кредитів'!W123","v":1517},{"$f":"'1.Портфель кредитів'!Y123","v":1101516.75},4,"2018-06-01","380537_4_43252_2"]
[{"$f":"'1.Портфель кредитів'!H124","v":1},{"$f":"'1.Портфель кредитів'!D124","v":"380537"},{"$f":"'1.Портфель кредитів'!#REF!","v":{"$error":"#REF!"}},{"$f":"'1.Портфель кредитів'!#REF!","v":{"$error":"#REF!"}},{"$f":"'1.Портфель кредитів'!#REF!","v":{"$error":"#REF!"}},{"$f":"'1.Портфель кредитів'!I124","v":"73/05ф"},{"$f":"'1.Портфель кредитів'!W124","v":2146},{"$f":"'1.Портфель кредитів'!Y124","v":1253464.1000000001},4,"2018-06-01","380537_4_43252_2"]
[{"$f":"'1.Портфель кредитів'!H125","v":1},{"$f":"'1.Портфель кредитів'!D125","v":"380537"},{"$f":"'1.Портфель кредитів'!#REF!","v":{"$error":"#REF!"}},{"$f":"'1.Портфель кредитів'!#REF!","v":{"$error":"#REF!"}},{"$f":"'1.Портфель кредитів'!#REF!","v":{"$error":"#REF!"}},{"$f":"'1.Портфель кредитів'!I125","v":"105/06ф"},{"$f":"'1.Портфель кредитів'!W125","v":3245},{"$f":"'1.Портфель кредитів'!Y125","v":1526969.69},4,"2018-06-01","380537_4_43252_2"]
[{"$f":"'1.Портфель кредитів'!H126","v":1},{"$f":"'1.Портфель кредитів'!D126","v":"380537"},{"$f":"'1.Портфель кредитів'!#REF!","v":{"$error":"#REF!"}},{"$f":"'1.Портфель кредитів'!#REF!","v":{"$error":"#REF!"}},{"$f":"'1.Портфель кредитів'!#REF!","v":{"$error":"#REF!"}},{"$f":"'1.Портфель кредитів'!I126","v":"21/05ф"},{"$f":"'1.Портфель кредитів'!W126","v":1616},{"$f":"'1.Портфель кредитів'!Y126","v":1137811.29},4,"2018-06-01","380537_4_43252_2"]
[{"$f":"'1.Портфель кредитів'!H127","v":1},{"$f":"'1.Портфель кредитів'!D127","v":"380537"},{"$f":"'1.Портфель кредитів'!#REF!","v":{"$error":"#REF!"}},{"$f":"'1.Портфель кредитів'!#REF!","v":{"$error":"#REF!"}},{"$f":"'1.Портфель кредитів'!#REF!","v":{"$error":"#REF!"}},{"$f":"'1.Портфель кредитів'!I127","v":"122/06ф"},{"$f":"'1.Портфель кредитів'!W127","v":2625},{"$f":"'1.Портфель кредитів'!Y127","v":1705674.91},4,"2018-06-01","380537_4_43252_2"]
[{"$f":"'1.Портфель кредитів'!H128","v":1},{"$f":"'1.Портфель кредитів'!D128","v":"380537"},{"$f":"'1.Портфель кредитів'!#REF!","v":{"$error":"#REF!"}},{"$f":"'1.Портфель кредитів'!#REF!","v":{"$error":"#REF!"}},{"$f":"'1.Портфель кредитів'!#REF!","v":{"$error":"#REF!"}},{"$f":"'1.Портфель кредитів'!I128","v":"132/06ф"},{"$f":"'1.Портфель кредитів'!W128","v":2505},{"$f":"'1.Портфель кредитів'!Y128","v":1661103.92},4,"2018-06-01","380537_4_43252_2"]
[{"$f":"'1.Портфель кредитів'!H129","v":1},{"$f":"'1.Портфель кредитів'!D129","v":"380537"},{"$f":"'1.Портфель кредитів'!#REF!","v":{"$error":"#REF!"}},{"$f":"'1.Портфель кредитів'!#REF!","v":{"$error":"#REF!"}},{"$f":"'1.Портфель кредитів'!#REF!","v":{"$error":"#REF!"}},{"$f":"'1.Портфель кредитів'!I129","v":"137/04ф"},{"$f":"'1.Портфель кредитів'!W129","v":287},{"$f":"'1.Портфель кредитів'!Y129","v":202505.55},4,"2018-06-01","380537_4_43252_2"]
[{"$f":"'1.Портфель кредитів'!H130","v":1},{"$f":"'1.Портфель кредитів'!D130","v":"380537"},{"$f":"'1.Портфель кредитів'!#REF!","v":{"$error":"#REF!"}},{"$f":"'1.Портфель кредитів'!#REF!","v":{"$error":"#REF!"}},{"$f":"'1.Портфель кредитів'!#REF!","v":{"$error":"#REF!"}},{"$f":"'1.Портфель кредитів'!I130","v":"145/04ф"},{"$f":"'1.Портфель кредитів'!W130","v":348},{"$f":"'1.Портфель кредитів'!Y130","v":222181.94},4,"2018-06-01","380537_4_43252_2"]
[{"$f":"'1.Портфель кредитів'!H131","v":1},{"$f":"'1.Портфель кредитів'!D131","v":"380537"},{"$f":"'1.Портфель кредитів'!#REF!","v":{"$error":"#REF!"}},{"$f":"'1.Портфель кредитів'!#REF!","v":{"$error":"#REF!"}},{"$f":"'1.Портфель кредитів'!#REF!","v":{"$error":"#REF!"}},{"$f":"'1.Портфель кредитів'!I131","v":"153/04ф"},{"$f":"'1.Портфель кредитів'!W131","v":384},{"$f":"'1.Портфель кредитів'!Y131","v":265441.12},4,"2018-06-01","380537_4_43252_2"]
[{"$f":"'1.Портфель кредитів'!H132","v":1},{"$f":"'1.Портфель кредитів'!D132","v":"380537"},{"$f":"'1.Портфель кредитів'!#REF!","v":{"$error":"#REF!"}},{"$f":"'1.Портфель кредитів'!#REF!","v":{"$error":"#REF!"}},{"$f":"'1.Портфель кредитів'!#REF!","v":{"$error":"#REF!"}},{"$f":"'1.Портфель кредитів'!I132","v":"156/04ф"},{"$f":"'1.Портфель кредитів'!W132","v":368},{"$f":"'1.Портфель кредитів'!Y132","v":254018.05},4,"2018-06-01","380537_4_43252_2"]
[{"$f":"'1.Портфель кредитів'!H133","v":1},{"$f":"'1.Портфель кредитів'!D133","v":"380537"},{"$f":"'1.Портфель кредитів'!#REF!","v":{"$error":"#REF!"}},{"$f":"'1.Портфель кредитів'!#REF!","v":{"$error":"#REF!"}},{"$f":"'1.Портфель кредитів'!#REF!","v":{"$error":"#REF!"}},{"$f":"'1.Портфель кредитів'!I133","v":"78/04ф"},{"$f":"'1.Портфель кредитів'!W133","v":1161},{"$f":"'1.Портфель кредитів'!Y133","v":840635.3},4,"2018-06-01","380537_4_43252_2"]
[{"$f":"'1.Портфель кредитів'!H134","v":1},{"$f":"'1.Портфель кредитів'!D134","v":"380537"},{"$f":"'1.Портфель кредитів'!#REF!","v":{"$error":"#REF!"}},{"$f":"'1.Портфель кредитів'!#REF!","v":{"$error":"#REF!"}},{"$f":"'1.Портфель кредитів'!#REF!","v":{"$error":"#REF!"}},{"$f":"'1.Портфель кредитів'!I134","v":"284/06ф"},{"$f":"'1.Портфель кредитів'!W134","v":2273},{"$f":"'1.Портфель кредитів'!Y134","v":1588476.15},4,"2018-06-01","380537_4_43252_2"]
[{"$f":"'1.Портфель кредитів'!H135","v":1},{"$f":"'1.Портфель кредитів'!D135","v":"380537"},{"$f":"'1.Портфель кредитів'!#REF!","v":{"$error":"#REF!"}},{"$f":"'1.Портфель кредитів'!#REF!","v":{"$error":"#REF!"}},{"$f":"'1.Портфель кредитів'!#REF!","v":{"$error":"#REF!"}},{"$f":"'1.Портфель кредитів'!I135","v":"75/06ф"},{"$f":"'1.Портфель кредитів'!W135","v":8345},{"$f":"'1.Портфель кредитів'!Y135","v":1674805.1099999999},4,"2018-06-01","380537_4_43252_2"]
[{"$f":"'1.Портфель кредитів'!H136","v":1},{"$f":"'1.Портфель кредитів'!D136","v":"380537"},{"$f":"'1.Портфель кредитів'!#REF!","v":{"$error":"#REF!"}},{"$f":"'1.Портфель кредитів'!#REF!","v":{"$error":"#REF!"}},{"$f":"'1.Портфель кредитів'!#REF!","v":{"$error":"#REF!"}},{"$f":"'1.Портфель кредитів'!I136","v":"87/04ф"},{"$f":"'1.Портфель кредитів'!W136","v":1010},{"$f":"'1.Портфель кредитів'!Y136","v":732429.87999999989},4,"2018-06-01","380537_4_43252_2"]
[{"$f":"'1.Портфель кредитів'!H137","v":1},{"$f":"'1.Портфель кредитів'!D137","v":"380537"},{"$f":"'1.Портфель кредитів'!#REF!","v":{"$error":"#REF!"}},{"$f":"'1.Портфель кредитів'!#REF!","v":{"$error":"#REF!"}},{"$f":"'1.Портфель кредитів'!#REF!","v":{"$error":"#REF!"}},{"$f":"'1.Портфель кредитів'!I137","v":"49/05ф"},{"$f":"'1.Портфель кредитів'!W137","v":1764},{"$f":"'1.Портфель кредитів'!Y137","v":1242682.8199999998},4,"2018-06-01","380537_4_43252_2"]
[{"$f":"'1.Портфель кредитів'!H138","v":1},{"$f":"'1.Портфель кредитів'!D138","v":"380537"},{"$f":"'1.Портфель кредитів'!#REF!","v":{"$error":"#REF!"}},{"$f":"'1.Портфель кредитів'!#REF!","v":{"$error":"#REF!"}},{"$f":"'1.Портфель кредитів'!#REF!","v":{"$error":"#REF!"}},{"$f":"'1.Портфель кредитів'!I138","v":"200/06ф"},{"$f":"'1.Портфель кредитів'!W138","v":1662},{"$f":"'1.Портфель кредитів'!Y138","v":1074207.42},{"$f":"$E$1","v":4},{"$f":"$E$2","v":"2018-06-01"},{"$f":"B134&\"_\"&I134&\"_\"&J134&\"_\"&$E$3","v":"380537_4_43252_2"}]
[{"$f":"'1.Портфель кредитів'!H139","v":1},{"$f":"'1.Портфель кредитів'!D139","v":"380537"},{"$f":"'1.Портфель кредитів'!#REF!","v":{"$error":"#REF!"}},{"$f":"'1.Портфель кредитів'!#REF!","v":{"$error":"#REF!"}},{"$f":"'1.Портфель кредитів'!#REF!","v":{"$error":"#REF!"}},{"$f":"'1.Портфель кредитів'!I139","v":"75/05ф"},{"$f":"'1.Портфель кредитів'!W139","v":1825},{"$f":"'1.Портфель кредитів'!Y139","v":1285235.8500000001},4,"2018-06-01","380537_4_43252_2"]
[{"$f":"'1.Портфель кредитів'!H140","v":1},{"$f":"'1.Портфель кредитів'!D140","v":"380537"},{"$f":"'1.Портфель кредитів'!#REF!","v":{"$error":"#REF!"}},{"$f":"'1.Портфель кредитів'!#REF!","v":{"$error":"#REF!"}},{"$f":"'1.Портфель кредитів'!#REF!","v":{"$error":"#REF!"}},{"$f":"'1.Портфель кредитів'!I140","v":"58/06ф"},{"$f":"'1.Портфель кредитів'!W140","v":2548},{"$f":"'1.Портфель кредитів'!Y140","v":1784314.3},4,"2018-06-01","380537_4_43252_2"]
[{"$f":"'1.Портфель кредитів'!H141","v":1},{"$f":"'1.Портфель кредитів'!D141","v":"380537"},{"$f":"'1.Портфель кредитів'!#REF!","v":{"$error":"#REF!"}},{"$f":"'1.Портфель кредитів'!#REF!","v":{"$error":"#REF!"}},{"$f":"'1.Портфель кредитів'!#REF!","v":{"$error":"#REF!"}},{"$f":"'1.Портфель кредитів'!I141","v":"110/05ф"},{"$f":"'1.Портфель кредитів'!W141","v":1722},{"$f":"'1.Портфель кредитів'!Y141","v":1232955.07},4,"2018-06-01","380537_4_43252_2"]
[{"$f":"'1.Портфель кредитів'!H142","v":1},{"$f":"'1.Портфель кредитів'!D142","v":"380537"},{"$f":"'1.Портфель кредитів'!#REF!","v":{"$error":"#REF!"}},{"$f":"'1.Портфель кредитів'!#REF!","v":{"$error":"#REF!"}},{"$f":"'1.Портфель кредитів'!#REF!","v":{"$error":"#REF!"}},{"$f":"'1.Портфель кредитів'!I142","v":"151/05ф"},{"$f":"'1.Портфель кредитів'!W142","v":806},{"$f":"'1.Портфель кредитів'!Y142","v":614344.32000000007},4,"2018-06-01","380537_4_43252_2"]
[{"$f":"'1.Портфель кредитів'!H143","v":1},{"$f":"'1.Портфель кредитів'!D143","v":"380537"},{"$f":"'1.Портфель кредитів'!#REF!","v":{"$error":"#REF!"}},{"$f":"'1.Портфель кредитів'!#REF!","v":{"$error":"#REF!"}},{"$f":"'1.Портфель кредитів'!#REF!","v":{"$error":"#REF!"}},{"$f":"'1.Портфель кредитів'!I143","v":"80/06ф"},{"$f":"'1.Портфель кредитів'!W143","v":1804},{"$f":"'1.Портфель кредитів'!Y143","v":1160520.43},4,"2018-06-01","380537_4_43252_2"]
[{"$f":"'1.Портфель кредитів'!H144","v":1},{"$f":"'1.Портфель кредитів'!D144","v":"380537"},{"$f":"'1.Портфель кредитів'!#REF!","v":{"$error":"#REF!"}},{"$f":"'1.Портфель кредитів'!#REF!","v":{"$error":"#REF!"}},{"$f":"'1.Портфель кредитів'!#REF!","v":{"$error":"#REF!"}},{"$f":"'1.Портфель кредитів'!I144","v":"58/05ф"},{"$f":"'1.Портфель кредитів'!W144","v":1827},{"$f":"'1.Портфель кредитів'!Y144","v":1286505.8},4,"2018-06-01","380537_4_43252_2"]
[{"$f":"'1.Портфель кредитів'!H145","v":1},{"$f":"'1.Портфель кредитів'!D145","v":"380537"},{"$f":"'1.Портфель кредитів'!#REF!","v":{"$error":"#REF!"}},{"$f":"'1.Портфель кредитів'!#REF!","v":{"$error":"#REF!"}},{"$f":"'1.Портфель кредитів'!#REF!","v":{"$error":"#REF!"}},{"$f":"'1.Портфель кредитів'!I145","v":"06/05ф"},{"$f":"'1.Портфель кредитів'!W145","v":722},{"$f":"'1.Портфель кредитів'!Y145","v":519180.42000000004},4,"2018-06-01","380537_4_43252_2"]
[{"$f":"'1.Портфель кредитів'!H146","v":1},{"$f":"'1.Портфель кредитів'!D146","v":"380537"},{"$f":"'1.Портфель кредитів'!#REF!","v":{"$error":"#REF!"}},{"$f":"'1.Портфель кредитів'!#REF!","v":{"$error":"#REF!"}},{"$f":"'1.Портфель кредитів'!#REF!","v":{"$error":"#REF!"}},{"$f":"'1.Портфель кредитів'!I146","v":"55/05ф"},{"$f":"'1.Портфель кредитів'!W146","v":530},{"$f":"'1.Портфель кредитів'!Y146","v":337202.93},4,"2018-06-01","380537_4_43252_2"]
[{"$f":"'1.Портфель кредитів'!H147","v":1},{"$f":"'1.Портфель кредитів'!D147","v":"380537"},{"$f":"'1.Портфель кредитів'!#REF!","v":{"$error":"#REF!"}},{"$f":"'1.Портфель кредитів'!#REF!","v":{"$error":"#REF!"}},{"$f":"'1.Портфель кредитів'!#REF!","v":{"$error":"#REF!"}},{"$f":"'1.Портфель кредитів'!I147","v":"280/06ф"},{"$f":"'1.Портфель кредитів'!W147","v":3116},{"$f":"'1.Портфель кредитів'!Y147","v":2004644.0899999999},4,"2018-06-01","380537_4_43252_2"]
[{"$f":"'1.Портфель кредитів'!H148","v":1},{"$f":"'1.Портфель кредитів'!D148","v":"380537"},{"$f":"'1.Портфель кредитів'!#REF!","v":{"$error":"#REF!"}},{"$f":"'1.Портфель кредитів'!#REF!","v":{"$error":"#REF!"}},{"$f":"'1.Портфель кредитів'!#REF!","v":{"$error":"#REF!"}},{"$f":"'1.Портфель кредитів'!I148","v":"83/05ф"},{"$f":"'1.Портфель кредитів'!W148","v":1953},{"$f":"'1.Портфель кредитів'!Y148","v":1375320.27},4,"2018-06-01","380537_4_43252_2"]
[{"$f":"'1.Портфель кредитів'!H149","v":1},{"$f":"'1.Портфель кредитів'!D149","v":"380537"},{"$f":"'1.Портфель кредитів'!#REF!","v":{"$error":"#REF!"}},{"$f":"'1.Портфель кредитів'!#REF!","v":{"$error":"#REF!"}},{"$f":"'1.Портфель кредитів'!#REF!","v":{"$error":"#REF!"}},{"$f":"'1.Портфель кредитів'!I149","v":"54/06ф"},{"$f":"'1.Портфель кредитів'!W149","v":1787},{"$f":"'1.Портфель кредитів'!Y149","v":1169442.44},4,"2018-06-01","380537_4_43252_2"]
[{"$f":"'1.Портфель кредитів'!H150","v":1},{"$f":"'1.Портфель кредитів'!D150","v":"380537"},{"$f":"'1.Портфель кредитів'!#REF!","v":{"$error":"#REF!"}},{"$f":"'1.Портфель кредитів'!#REF!","v":{"$error":"#REF!"}},{"$f":"'1.Портфель кредитів'!#REF!","v":{"$error":"#REF!"}},{"$f":"'1.Портфель кредитів'!I150","v":"145/06Ф"},{"$f":"'1.Портфель кредитів'!W150","v":2722},{"$f":"'1.Портфель кредитів'!Y150","v":1769166.91},4,"2018-06-01","380537_4_43252_2"]
[{"$f":"'1.Портфель кредитів'!H151","v":1},{"$f":"'1.Портфель кредитів'!D151","v":"380537"},{"$f":"'1.Портфель кредитів'!#REF!","v":{"$error":"#REF!"}},{"$f":"'1.Портфель кредитів'!#REF!","v":{"$error":"#REF!"}},{"$f":"'1.Портфель кредитів'!#REF!","v":{"$error":"#REF!"}},{"$f":"'1.Портфель кредитів'!I151","v":"116/04ф"},{"$f":"'1.Портфель кредитів'!W151","v":979},{"$f":"'1.Портфель кредитів'!Y151","v":730634.09000000008},4,"2018-06-01","380537_4_43252_2"]
[{"$f":"'1.Портфель кредитів'!H152","v":1},{"$f":"'1.Портфель кредитів'!D152","v":"380537"},{"$f":"'1.Портфель кредитів'!#REF!","v":{"$error":"#REF!"}},{"$f":"'1.Портфель кредитів'!#REF!","v":{"$error":"#REF!"}},{"$f":"'1.Портфель кредитів'!#REF!","v":{"$error":"#REF!"}},{"$f":"'1.Портфель кредитів'!I152","v":"123/05ф"},{"$f":"'1.Портфель кредитів'!W152","v":3153},{"$f":"'1.Портфель кредитів'!Y152","v":1789535.3199999998},4,"2018-06-01","380537_4_43252_2"]
[{"$f":"'1.Портфель кредитів'!H153","v":1},{"$f":"'1.Портфель кредитів'!D153","v":"380537"},{"$f":"'1.Портфель кредитів'!#REF!","v":{"$error":"#REF!"}},{"$f":"'1.Портфель кредитів'!#REF!","v":{"$error":"#REF!"}},{"$f":"'1.Портфель кредитів'!#REF!","v":{"$error":"#REF!"}},{"$f":"'1.Портфель кредитів'!I153","v":"57/05ф"},{"$f":"'1.Портфель кредитів'!W153","v":1825},{"$f":"'1.Портфель кредитів'!Y153","v":1285384.83},4,"2018-06-01","380537_4_43252_2"]
[{"$f":"'1.Портфель кредитів'!H154","v":1},{"$f":"'1.Портфель кредитів'!D154","v":"380537"},{"$f":"'1.Портфель кредитів'!#REF!","v":{"$error":"#REF!"}},{"$f":"'1.Портфель кредитів'!#REF!","v":{"$error":"#REF!"}},{"$f":"'1.Портфель кредитів'!#REF!","v":{"$error":"#REF!"}},{"$f":"'1.Портфель кредитів'!I154","v":"32/06ф"},{"$f":"'1.Портфель кредитів'!W154","v":1445},{"$f":"'1.Портфель кредитів'!Y154","v":940658.64},4,"2018-06-01","380537_4_43252_2"]
[{"$f":"'1.Портфель кредитів'!H155","v":1},{"$f":"'1.Портфель кредитів'!D155","v":"380537"},{"$f":"'1.Портфель кредитів'!#REF!","v":{"$error":"#REF!"}},{"$f":"'1.Портфель кредитів'!#REF!","v":{"$error":"#REF!"}},{"$f":"'1.Портфель кредитів'!#REF!","v":{"$error":"#REF!"}},{"$f":"'1.Портфель кредитів'!I155","v":"157/07ф"},{"$f":"'1.Портфель кредитів'!W155","v":8620},{"$f":"'1.Портфель кредитів'!Y155","v":1459087.96},4,"2018-06-01","380537_4_43252_2"]
[{"$f":"'1.Портфель кредитів'!H156","v":1},{"$f":"'1.Портфель кредитів'!D156","v":"380537"},{"$f":"'1.Портфель кредитів'!#REF!","v":{"$error":"#REF!"}},{"$f":"'1.Портфель кредитів'!#REF!","v":{"$error":"#REF!"}},{"$f":"'1.Портфель кредитів'!#REF!","v":{"$error":"#REF!"}},{"$f":"'1.Портфель кредитів'!I156","v":"39/06ф"},{"$f":"'1.Портфель кредитів'!W156","v":3073},{"$f":"'1.Портфель кредитів'!Y156","v":1744601.8599999999},4,"2018-06-01","380537_4_43252_2"]
[{"$f":"'1.Портфель кредитів'!H157","v":1},{"$f":"'1.Портфель кредитів'!D157","v":"380537"},{"$f":"'1.Портфель кредитів'!#REF!","v":{"$error":"#REF!"}},{"$f":"'1.Портфель кредитів'!#REF!","v":{"$error":"#REF!"}},{"$f":"'1.Портфель кредитів'!#REF!","v":{"$error":"#REF!"}},{"$f":"'1.Портфель кредитів'!I157","v":"14/06ф"},{"$f":"'1.Портфель кредитів'!W157","v":2303},{"$f":"'1.Портфель кредитів'!Y157","v":710295.45},4,"2018-06-01","380537_4_43252_2"]
[{"$f":"'1.Портфель кредитів'!H158","v":1},{"$f":"'1.Портфель кредитів'!D158","v":"380537"},{"$f":"'1.Портфель кредитів'!#REF!","v":{"$error":"#REF!"}},{"$f":"'1.Портфель кредитів'!#REF!","v":{"$error":"#REF!"}},{"$f":"'1.Портфель кредитів'!#REF!","v":{"$error":"#REF!"}},{"$f":"'1.Портфель кредитів'!I158","v":"93/04ф"},{"$f":"'1.Портфель кредитів'!W158","v":1170},{"$f":"'1.Портфель кредитів'!Y158","v":814612.38},4,"2018-06-01","380537_4_43252_2"]
[{"$f":"'1.Портфель кредитів'!H159","v":1},{"$f":"'1.Портфель кредитів'!D159","v":"380537"},{"$f":"'1.Портфель кредитів'!#REF!","v":{"$error":"#REF!"}},{"$f":"'1.Портфель кредитів'!#REF!","v":{"$error":"#REF!"}},{"$f":"'1.Портфель кредитів'!#REF!","v":{"$error":"#REF!"}},{"$f":"'1.Портфель кредитів'!I159","v":"78/05ф"},{"$f":"'1.Портфель кредитів'!W159","v":1912},{"$f":"'1.Портфель кредитів'!Y159","v":1327490.94},4,"2018-06-01","380537_4_43252_2"]
[{"$f":"'1.Портфель кредитів'!H160","v":1},{"$f":"'1.Портфель кредитів'!D160","v":"380537"},{"$f":"'1.Портфель кредитів'!#REF!","v":{"$error":"#REF!"}},{"$f":"'1.Портфель кредитів'!#REF!","v":{"$error":"#REF!"}},{"$f":"'1.Портфель кредитів'!#REF!","v":{"$error":"#REF!"}},{"$f":"'1.Портфель кредитів'!I160","v":"144/05ф"},{"$f":"'1.Портфель кредитів'!W160","v":1756},{"$f":"'1.Портфель кредитів'!Y160","v":1037151.55},4,"2018-06-01","380537_4_43252_2"]
[{"$f":"'1.Портфель кредитів'!H161","v":1},{"$f":"'1.Портфель кредитів'!D161","v":"380537"},{"$f":"'1.Портфель кредитів'!#REF!","v":{"$error":"#REF!"}},{"$f":"'1.Портфель кредитів'!#REF!","v":{"$error":"#REF!"}},{"$f":"'1.Портфель кредитів'!#REF!","v":{"$error":"#REF!"}},{"$f":"'1.Портфель кредитів'!I161","v":"56/05ф"},{"$f":"'1.Портфель кредитів'!W161","v":1808},{"$f":"'1.Портфель кредитів'!Y161","v":1273171.56},4,"2018-06-01","380537_4_43252_2"]
[{"$f":"'1.Портфель кредитів'!H162","v":1},{"$f":"'1.Портфель кредитів'!D162","v":"380537"},{"$f":"'1.Портфель кредитів'!#REF!","v":{"$error":"#REF!"}},{"$f":"'1.Портфель кредитів'!#REF!","v":{"$error":"#REF!"}},{"$f":"'1.Портфель кредитів'!#REF!","v":{"$error":"#REF!"}},{"$f":"'1.Портфель кредитів'!I162","v":"74/05ф"},{"$f":"'1.Портфель кредитів'!W162","v":1918},{"$f":"'1.Портфель кредитів'!Y162","v":1341909.55},4,"2018-06-01","380537_4_43252_2"]
[{"$f":"'1.Портфель кредитів'!H163","v":1},{"$f":"'1.Портфель кредитів'!D163","v":"380537"},{"$f":"'1.Портфель кредитів'!#REF!","v":{"$error":"#REF!"}},{"$f":"'1.Портфель кредитів'!#REF!","v":{"$error":"#REF!"}},{"$f":"'1.Портфель кредитів'!#REF!","v":{"$error":"#REF!"}},{"$f":"'1.Портфель кредитів'!I163","v":"36/05ф"},{"$f":"'1.Портфель кредитів'!W163","v":1591},{"$f":"'1.Портфель кредитів'!Y163","v":1120464.1599999999},4,"2018-06-01","380537_4_43252_2"]
[{"$f":"'1.Портфель кредитів'!H164","v":1},{"$f":"'1.Портфель кредитів'!D164","v":"380537"},{"$f":"'1.Портфель кредитів'!#REF!","v":{"$error":"#REF!"}},{"$f":"'1.Портфель кредитів'!#REF!","v":{"$error":"#REF!"}},{"$f":"'1.Портфель кредитів'!#REF!","v":{"$error":"#REF!"}},{"$f":"'1.Портфель кредитів'!I164","v":"86/06ф"},{"$f":"'1.Портфель кредитів'!W164","v":284},{"$f":"'1.Портфель кредитів'!Y164","v":212458.32},4,"2018-06-01","380537_4_43252_2"]
[{"$f":"'1.Портфель кредитів'!H165","v":1},{"$f":"'1.Портфель кредитів'!D165","v":"380537"},{"$f":"'1.Портфель кредитів'!#REF!","v":{"$error":"#REF!"}},{"$f":"'1.Портфель кредитів'!#REF!","v":{"$error":"#REF!"}},{"$f":"'1.Портфель кредитів'!#REF!","v":{"$error":"#REF!"}},{"$f":"'1.Портфель кредитів'!I165","v":"77/05ф"},{"$f":"'1.Портфель кредитів'!W165","v":1764},{"$f":"'1.Портфель кредитів'!Y165","v":1283406.0899999999},4,"2018-06-01","380537_4_43252_2"]
[{"$f":"'1.Портфель кредитів'!H166","v":1},{"$f":"'1.Портфель кредитів'!D166","v":"380537"},{"$f":"'1.Портфель кредитів'!#REF!","v":{"$error":"#REF!"}},{"$f":"'1.Портфель кредитів'!#REF!","v":{"$error":"#REF!"}},{"$f":"'1.Портфель кредитів'!#REF!","v":{"$error":"#REF!"}},{"$f":"'1.Портфель кредитів'!I166","v":"169/06ф"},{"$f":"'1.Портфель кредитів'!W166","v":907},{"$f":"'1.Портфель кредитів'!Y166","v":615075.09},4,"2018-06-01","380537_4_43252_2"]
[{"$f":"'1.Портфель кредитів'!H167","v":1},{"$f":"'1.Портфель кредитів'!D167","v":"380537"},{"$f":"'1.Портфель кредитів'!#REF!","v":{"$error":"#REF!"}},{"$f":"'1.Портфель кредитів'!#REF!","v":{"$error":"#REF!"}},{"$f":"'1.Портфель кредитів'!#REF!","v":{"$error":"#REF!"}},{"$f":"'1.Портфель кредитів'!I167","v":"76/05ф"},{"$f":"'1.Портфель кредитів'!W167","v":1895},{"$f":"'1.Портфель кредитів'!Y167","v":1334672.81},4,"2018-06-01","380537_4_43252_2"]
[{"$f":"'1.Портфель кредитів'!H168","v":1},{"$f":"'1.Портфель кредитів'!D168","v":"380537"},{"$f":"'1.Портфель кредитів'!#REF!","v":{"$error":"#REF!"}},{"$f":"'1.Портфель кредитів'!#REF!","v":{"$error":"#REF!"}},{"$f":"'1.Портфель кредитів'!#REF!","v":{"$error":"#REF!"}},{"$f":"'1.Портфель кредитів'!I168","v":"81/06ф"},{"$f":"'1.Портфель кредитів'!W168","v":1791},{"$f":"'1.Портфель кредитів'!Y168","v":1154986.45},4,"2018-06-01","380537_4_43252_2"]
[{"$f":"'1.Портфель кредитів'!H169","v":1},{"$f":"'1.Портфель кредитів'!D169","v":"380537"},{"$f":"'1.Портфель кредитів'!#REF!","v":{"$error":"#REF!"}},{"$f":"'1.Портфель кредитів'!#REF!","v":{"$error":"#REF!"}},{"$f":"'1.Портфель кредитів'!#REF!","v":{"$error":"#REF!"}},{"$f":"'1.Портфель кредитів'!I169","v":"98/04ф"},{"$f":"'1.Портфель кредитів'!W169","v":1095},{"$f":"'1.Портфель кредитів'!Y169","v":765943.83},4,"2018-06-01","380537_4_43252_2"]
[{"$f":"'1.Портфель кредитів'!H170","v":1},{"$f":"'1.Портфель кредитів'!D170","v":"380537"},{"$f":"'1.Портфель кредитів'!#REF!","v":{"$error":"#REF!"}},{"$f":"'1.Портфель кредитів'!#REF!","v":{"$error":"#REF!"}},{"$f":"'1.Портфель кредитів'!#REF!","v":{"$error":"#REF!"}},{"$f":"'1.Портфель кредитів'!I170","v":"208/06ф"},{"$f":"'1.Портфель кредитів'!W170","v":2099},{"$f":"'1.Портфель кредитів'!Y170","v":775711.05},4,"2018-06-01","380537_4_43252_2"]
[{"$f":"'1.Портфель кредитів'!H171","v":1},{"$f":"'1.Портфель кредитів'!D171","v":"380537"},{"$f":"'1.Портфель кредитів'!#REF!","v":{"$error":"#REF!"}},{"$f":"'1.Портфель кредитів'!#REF!","v":{"$error":"#REF!"}},{"$f":"'1.Портфель кредитів'!#REF!","v":{"$error":"#REF!"}},{"$f":"'1.Портфель кредитів'!I171","v":"04/06ф"},{"$f":"'1.Портфель кредитів'!W171","v":1692},{"$f":"'1.Портфель кредитів'!Y171","v":989501.25},4,"2018-06-01","380537_4_43252_2"]
[{"$f":"'1.Портфель кредитів'!H172","v":1},{"$f":"'1.Портфель кредитів'!D172","v":"380537"},{"$f":"'1.Портфель кредитів'!#REF!","v":{"$error":"#REF!"}},{"$f":"'1.Портфель кредитів'!#REF!","v":{"$error":"#REF!"}},{"$f":"'1.Портфель кредитів'!#REF!","v":{"$error":"#REF!"}},{"$f":"'1.Портфель кредитів'!I172","v":"185/07ф"},{"$f":"'1.Портфель кредитів'!W172","v":2559746},{"$f":"'1.Портфель кредитів'!Y172","v":6133353.5899999999},4,"2018-06-01","380537_4_43252_2"]
[{"$f":"'1.Портфель кредитів'!H173","v":1},{"$f":"'1.Портфель кредитів'!D173","v":"380537"},{"$f":"'1.Портфель кредитів'!#REF!","v":{"$error":"#REF!"}},{"$f":"'1.Портфель кредитів'!#REF!","v":{"$error":"#REF!"}},{"$f":"'1.Портфель кредитів'!#REF!","v":{"$error":"#REF!"}},{"$f":"'1.Портфель кредитів'!I173","v":"72/05ф"},{"$f":"'1.Портфель кредитів'!W173","v":1790},{"$f":"'1.Портфель кредитів'!Y173","v":1284171.6099999999},4,"2018-06-01","380537_4_43252_2"]
[{"$f":"'1.Портфель кредитів'!H174","v":1},{"$f":"'1.Портфель кредитів'!D174","v":"380537"},{"$f":"'1.Портфель кредитів'!#REF!","v":{"$error":"#REF!"}},{"$f":"'1.Портфель кредитів'!#REF!","v":{"$error":"#REF!"}},{"$f":"'1.Портфель кредитів'!#REF!","v":{"$error":"#REF!"}},{"$f":"'1.Портфель кредитів'!I174","v":"26/05ф"},{"$f":"'1.Портфель кредитів'!W174","v":1297},{"$f":"'1.Портфель кредитів'!Y174","v":913331.28},4,"2018-06-01","380537_4_43252_2"]
[{"$f":"'1.Портфель кредитів'!H175","v":1},{"$f":"'1.Портфель кредитів'!D175","v":"380537"},{"$f":"'1.Портфель кредитів'!#REF!","v":{"$error":"#REF!"}},{"$f":"'1.Портфель кредитів'!#REF!","v":{"$error":"#REF!"}},{"$f":"'1.Портфель кредитів'!#REF!","v":{"$error":"#REF!"}},{"$f":"'1.Портфель кредитів'!I175","v":"66/05ф"},{"$f":"'1.Портфель кредитів'!W175","v":1824},{"$f":"'1.Портфель кредитів'!Y175","v":1289891.1600000001},4,"2018-06-01","380537_4_43252_2"]
[{"$f":"'1.Портфель кредитів'!H176","v":1},{"$f":"'1.Портфель кредитів'!D176","v":"380537"},{"$f":"'1.Портфель кредитів'!#REF!","v":{"$error":"#REF!"}},{"$f":"'1.Портфель кредитів'!#REF!","v":{"$error":"#REF!"}},{"$f":"'1.Портфель кредитів'!#REF!","v":{"$error":"#REF!"}},{"$f":"'1.Портфель кредитів'!I176","v":"46/05ф"},{"$f":"'1.Портфель кредитів'!W176","v":327},{"$f":"'1.Портфель кредитів'!Y176","v":211987.35},4,"2018-06-01","380537_4_43252_2"]
[{"$f":"'1.Портфель кредитів'!H177","v":1},{"$f":"'1.Портфель кредитів'!D177","v":"380537"},{"$f":"'1.Портфель кредитів'!#REF!","v":{"$error":"#REF!"}},{"$f":"'1.Портфель кредитів'!#REF!","v":{"$error":"#REF!"}},{"$f":"'1.Портфель кредитів'!#REF!","v":{"$error":"#REF!"}},{"$f":"'1.Портфель кредитів'!I177","v":"116/06ф"},{"$f":"'1.Портфель кредитів'!W177","v":1350},{"$f":"'1.Портфель кредитів'!Y177","v":747871.44},4,"2018-06-01","380537_4_43252_2"]
[{"$f":"'1.Портфель кредитів'!H178","v":1},{"$f":"'1.Портфель кредитів'!D178","v":"380537"},{"$f":"'1.Портфель кредитів'!#REF!","v":{"$error":"#REF!"}},{"$f":"'1.Портфель кредитів'!#REF!","v":{"$error":"#REF!"}},{"$f":"'1.Портфель кредитів'!#REF!","v":{"$error":"#REF!"}},{"$f":"'1.Портфель кредитів'!I178","v":"95/05ф"},{"$f":"'1.Портфель кредитів'!W178","v":1565},{"$f":"'1.Портфель кредитів'!Y178","v":1102001.57},4,"2018-06-01","380537_4_43252_2"]
[{"$f":"'1.Портфель кредитів'!H179","v":1},{"$f":"'1.Портфель кредитів'!D179","v":"380537"},{"$f":"'1.Портфель кредитів'!#REF!","v":{"$error":"#REF!"}},{"$f":"'1.Портфель кредитів'!#REF!","v":{"$error":"#REF!"}},{"$f":"'1.Портфель кредитів'!#REF!","v":{"$error":"#REF!"}},{"$f":"'1.Портфель кредитів'!I179","v":"67/05ф"},{"$f":"'1.Портфель кредитів'!W179","v":2052},{"$f":"'1.Портфель кредитів'!Y179","v":1439652.54},4,"2018-06-01","380537_4_43252_2"]
[{"$f":"'1.Портфель кредитів'!H180","v":1},{"$f":"'1.Портфель кредитів'!D180","v":"380537"},{"$f":"'1.Портфель кредитів'!#REF!","v":{"$error":"#REF!"}},{"$f":"'1.Портфель кредитів'!#REF!","v":{"$error":"#REF!"}},{"$f":"'1.Портфель кредитів'!#REF!","v":{"$error":"#REF!"}},{"$f":"'1.Портфель кредитів'!I180","v":"209/06ф"},{"$f":"'1.Портфель кредитів'!W180","v":2975},{"$f":"'1.Портфель кредитів'!Y180","v":1100910.1299999999},4,"2018-06-01","380537_4_43252_2"]
[{"$f":"'1.Портфель кредитів'!H181","v":1},{"$f":"'1.Портфель кредитів'!D181","v":"380537"},{"$f":"'1.Портфель кредитів'!#REF!","v":{"$error":"#REF!"}},{"$f":"'1.Портфель кредитів'!#REF!","v":{"$error":"#REF!"}},{"$f":"'1.Портфель кредитів'!#REF!","v":{"$error":"#REF!"}},{"$f":"'1.Портфель кредитів'!I181","v":"25/05ф"},{"$f":"'1.Портфель кредитів'!W181","v":1451},{"$f":"'1.Портфель кредитів'!Y181","v":1021842.75},4,"2018-06-01","380537_4_43252_2"]
[{"$f":"'1.Портфель кредитів'!H182","v":1},{"$f":"'1.Портфель кредитів'!D182","v":"380537"},{"$f":"'1.Портфель кредитів'!#REF!","v":{"$error":"#REF!"}},{"$f":"'1.Портфель кредитів'!#REF!","v":{"$error":"#REF!"}},{"$f":"'1.Портфель кредитів'!#REF!","v":{"$error":"#REF!"}},{"$f":"'1.Портфель кредитів'!I182","v":"124/06ф"},{"$f":"'1.Портфель кредитів'!W182","v":2628},{"$f":"'1.Портфель кредитів'!Y182","v":1742005.52},4,"2018-06-01","380537_4_43252_2"]
[{"$f":"'1.Портфель кредитів'!H183","v":1},{"$f":"'1.Портфель кредитів'!D183","v":"380537"},{"$f":"'1.Портфель кредитів'!#REF!","v":{"$error":"#REF!"}},{"$f":"'1.Портфель кредитів'!#REF!","v":{"$error":"#REF!"}},{"$f":"'1.Портфель кредитів'!#REF!","v":{"$error":"#REF!"}},{"$f":"'1.Портфель кредитів'!I183","v":"100/04ф"},{"$f":"'1.Портфель кредитів'!W183","v":1153},{"$f":"'1.Портфель кредитів'!Y183","v":848980.73},4,"2018-06-01","380537_4_43252_2"]
[{"$f":"'1.Портфель кредитів'!H184","v":1},{"$f":"'1.Портфель кредитів'!D184","v":"380537"},{"$f":"'1.Портфель кредитів'!#REF!","v":{"$error":"#REF!"}},{"$f":"'1.Портфель кредитів'!#REF!","v":{"$error":"#REF!"}},{"$f":"'1.Портфель кредитів'!#REF!","v":{"$error":"#REF!"}},{"$f":"'1.Портфель кредитів'!I184","v":"21/07ю"},{"$f":"'1.Портфель кредитів'!W184","v":1},{"$f":"'1.Портфель кредитів'!Y184","v":10218728.620000001},4,"2018-06-01","380537_4_43252_2"]
[{"$f":"'1.Портфель кредитів'!H185","v":1},{"$f":"'1.Портфель кредитів'!D185","v":"380537"},{"$f":"'1.Портфель кредитів'!#REF!","v":{"$error":"#REF!"}},{"$f":"'1.Портфель кредитів'!#REF!","v":{"$error":"#REF!"}},{"$f":"'1.Портфель кредитів'!#REF!","v":{"$error":"#REF!"}},{"$f":"'1.Портфель кредитів'!I185","v":"10/07ю"},{"$f":"'1.Портфель кредитів'!W185","v":1},{"$f":"'1.Портфель кредитів'!Y185","v":9332684.1699999999},4,"2018-06-01","380537_4_43252_2"]
[{"$f":"'1.Портфель кредитів'!H186","v":1},{"$f":"'1.Портфель кредитів'!D186","v":"380537"},{"$f":"'1.Портфель кредитів'!#REF!","v":{"$error":"#REF!"}},{"$f":"'1.Портфель кредитів'!#REF!","v":{"$error":"#REF!"}},{"$f":"'1.Портфель кредитів'!#REF!","v":{"$error":"#REF!"}},{"$f":"'1.Портфель кредитів'!I186","v":"09/07ю"},{"$f":"'1.Портфель кредитів'!W186","v":1},{"$f":"'1.Портфель кредитів'!Y186","v":11180201.289999999},4,"2018-06-01","380537_4_43252_2"]
[{"$f":"'1.Портфель кредитів'!H187","v":1},{"$f":"'1.Портфель кредитів'!D187","v":"380537"},{"$f":"'1.Портфель кредитів'!#REF!","v":{"$error":"#REF!"}},{"$f":"'1.Портфель кредитів'!#REF!","v":{"$error":"#REF!"}},{"$f":"'1.Портфель кредитів'!#REF!","v":{"$error":"#REF!"}},{"$f":"'1.Портфель кредитів'!I187","v":"35/06ю"},{"$f":"'1.Портфель кредитів'!W187","v":1},{"$f":"'1.Портфель кредитів'!Y187","v":10445146.6},4,"2018-06-01","380537_4_43252_2"]
[{"$f":"'1.Портфель кредитів'!H188","v":1},{"$f":"'1.Портфель кредитів'!D188","v":"380537"},{"$f":"'1.Портфель кредитів'!#REF!","v":{"$error":"#REF!"}},{"$f":"'1.Портфель кредитів'!#REF!","v":{"$error":"#REF!"}},{"$f":"'1.Портфель кредитів'!#REF!","v":{"$error":"#REF!"}},{"$f":"'1.Портфель кредитів'!I188","v":"03/07ю"},{"$f":"'1.Портфель кредитів'!W188","v":1},{"$f":"'1.Портфель кредитів'!Y188","v":9242797.0800000001},4,"2018-06-01","380537_4_43252_2"]
[{"$f":"'1.Портфель кредитів'!H189","v":1},{"$f":"'1.Портфель кредитів'!D189","v":"380537"},{"$f":"'1.Портфель кредитів'!#REF!","v":{"$error":"#REF!"}},{"$f":"'1.Портфель кредитів'!#REF!","v":{"$error":"#REF!"}},{"$f":"'1.Портфель кредитів'!#REF!","v":{"$error":"#REF!"}},{"$f":"'1.Портфель кредитів'!I189","v":"19/07ю"},{"$f":"'1.Портфель кредитів'!W189","v":2},{"$f":"'1.Портфель кредитів'!Y189","v":1478598.2},4,"2018-06-01","380537_4_43252_2"]
[{"$f":"'1.Портфель кредитів'!H190","v":1},{"$f":"'1.Портфель кредитів'!D190","v":"380537"},{"$f":"'1.Портфель кредитів'!#REF!","v":{"$error":"#REF!"}},{"$f":"'1.Портфель кредитів'!#REF!","v":{"$error":"#REF!"}},{"$f":"'1.Портфель кредитів'!#REF!","v":{"$error":"#REF!"}},{"$f":"'1.Портфель кредитів'!I190","v":"36/06ю"},{"$f":"'1.Портфель кредитів'!W190","v":1},{"$f":"'1.Портфель кредитів'!Y190","v":10407390.530000001},4,"2018-06-01","380537_4_43252_2"]
[{"$f":"'1.Портфель кредитів'!H191","v":1},{"$f":"'1.Портфель кредитів'!D191","v":"380537"},{"$f":"'1.Портфель кредитів'!#REF!","v":{"$error":"#REF!"}},{"$f":"'1.Портфель кредитів'!#REF!","v":{"$error":"#REF!"}},{"$f":"'1.Портфель кредитів'!#REF!","v":{"$error":"#REF!"}},{"$f":"'1.Портфель кредитів'!I191","v":"26/06ю"},{"$f":"'1.Портфель кредитів'!W191","v":1},{"$f":"'1.Портфель кредитів'!Y191","v":9806317.4499999993},4,"2018-06-01","380537_4_43252_2"]
[{"$f":"'1.Портфель кредитів'!H192","v":1},{"$f":"'1.Портфель кредитів'!D192","v":"380537"},{"$f":"'1.Портфель кредитів'!#REF!","v":{"$error":"#REF!"}},{"$f":"'1.Портфель кредитів'!#REF!","v":{"$error":"#REF!"}},{"$f":"'1.Портфель кредитів'!#REF!","v":{"$error":"#REF!"}},{"$f":"'1.Портфель кредитів'!I192","v":"30/06ю"},{"$f":"'1.Портфель кредитів'!W192","v":1},{"$f":"'1.Портфель кредитів'!Y192","v":10354797.16},4,"2018-06-01","380537_4_43252_2"]
[{"$f":"'1.Портфель кредитів'!H193","v":1},{"$f":"'1.Портфель кредитів'!D193","v":"380537"},{"$f":"'1.Портфель кредитів'!#REF!","v":{"$error":"#REF!"}},{"$f":"'1.Портфель кредитів'!#REF!","v":{"$error":"#REF!"}},{"$f":"'1.Портфель кредитів'!#REF!","v":{"$error":"#REF!"}},{"$f":"'1.Портфель кредитів'!I193","v":"27/07ю"},{"$f":"'1.Портфель кредитів'!W193","v":1},{"$f":"'1.Портфель кредитів'!Y193","v":1430740.78},4,"2018-06-01","380537_4_43252_2"]
[{"$f":"'1.Портфель кредитів'!H194","v":1},{"$f":"'1.Портфель кредитів'!D194","v":"380537"},{"$f":"'1.Портфель кредитів'!#REF!","v":{"$error":"#REF!"}},{"$f":"'1.Портфель кредитів'!#REF!","v":{"$error":"#REF!"}},{"$f":"'1.Портфель кредитів'!#REF!","v":{"$error":"#REF!"}},{"$f":"'1.Портфель кредитів'!I194","v":"01/07ю"},{"$f":"'1.Портфель кредитів'!W194","v":1},{"$f":"'1.Портфель кредитів'!Y194","v":12598323.140000001},4,"2018-06-01","380537_4_43252_2"]
[{"$f":"'1.Портфель кредитів'!H195","v":1},{"$f":"'1.Портфель кредитів'!D195","v":"380537"},{"$f":"'1.Портфель кредитів'!#REF!","v":{"$error":"#REF!"}},{"$f":"'1.Портфель кредитів'!#REF!","v":{"$error":"#REF!"}},{"$f":"'1.Портфель кредитів'!#REF!","v":{"$error":"#REF!"}},{"$f":"'1.Портфель кредитів'!I195","v":"31/06ю"},{"$f":"'1.Портфель кредитів'!W195","v":1},{"$f":"'1.Портфель кредитів'!Y195","v":9537053.4499999993},4,"2018-06-01","380537_4_43252_2"]
[{"$f":"'1.Портфель кредитів'!H196","v":1},{"$f":"'1.Портфель кредитів'!D196","v":"380537"},{"$f":"'1.Портфель кредитів'!#REF!","v":{"$error":"#REF!"}},{"$f":"'1.Портфель кредитів'!#REF!","v":{"$error":"#REF!"}},{"$f":"'1.Портфель кредитів'!#REF!","v":{"$error":"#REF!"}},{"$f":"'1.Портфель кредитів'!I196","v":"34/06ю"},{"$f":"'1.Портфель кредитів'!W196","v":1},{"$f":"'1.Портфель кредитів'!Y196","v":9333264.120000001},4,"2018-06-01","380537_4_43252_2"]
[{"$f":"'1.Портфель кредитів'!H197","v":1},{"$f":"'1.Портфель кредитів'!D197","v":"380537"},{"$f":"'1.Портфель кредитів'!#REF!","v":{"$error":"#REF!"}},{"$f":"'1.Портфель кредитів'!#REF!","v":{"$error":"#REF!"}},{"$f":"'1.Портфель кредитів'!#REF!","v":{"$error":"#REF!"}},{"$f":"'1.Портфель кредитів'!I197","v":"37/06ю"},{"$f":"'1.Портфель кредитів'!W197","v":1},{"$f":"'1.Портфель кредитів'!Y197","v":10475579.67},4,"2018-06-01","380537_4_43252_2"]
[{"$f":"'1.Портфель кредитів'!H198","v":1},{"$f":"'1.Портфель кредитів'!D198","v":"380537"},{"$f":"'1.Портфель кредитів'!#REF!","v":{"$error":"#REF!"}},{"$f":"'1.Портфель кредитів'!#REF!","v":{"$error":"#REF!"}},{"$f":"'1.Портфель кредитів'!#REF!","v":{"$error":"#REF!"}},{"$f":"'1.Портфель кредитів'!I198","v":"23/07ю"},{"$f":"'1.Портфель кредитів'!W198","v":1},{"$f":"'1.Портфель кредитів'!Y198","v":10298499.57},4,"2018-06-01","380537_4_43252_2"]
[{"$f":"'1.Портфель кредитів'!H199","v":1},{"$f":"'1.Портфель кредитів'!D199","v":"380537"},{"$f":"'1.Портфель кредитів'!#REF!","v":{"$error":"#REF!"}},{"$f":"'1.Портфель кредитів'!#REF!","v":{"$error":"#REF!"}},{"$f":"'1.Портфель кредитів'!#REF!","v":{"$error":"#REF!"}},{"$f":"'1.Портфель кредитів'!I199","v":"31/07ю"},{"$f":"'1.Портфель кредитів'!W199","v":1},{"$f":"'1.Портфель кредитів'!Y199","v":8803643.2200000007},4,"2018-06-01","380537_4_43252_2"]
[{"$f":"'1.Портфель кредитів'!H200","v":1},{"$f":"'1.Портфель кредитів'!D200","v":"380537"},{"$f":"'1.Портфель кредитів'!#REF!","v":{"$error":"#REF!"}},{"$f":"'1.Портфель кредитів'!#REF!","v":{"$error":"#REF!"}},{"$f":"'1.Портфель кредитів'!#REF!","v":{"$error":"#REF!"}},{"$f":"'1.Портфель кредитів'!I200","v":"17/07 SME"},{"$f":"'1.Портфель кредитів'!W200","v":1},{"$f":"'1.Портфель кредитів'!Y200","v":1732076.45},4,"2018-06-01","380537_4_43252_2"]
[{"$f":"'1.Портфель кредитів'!H201","v":1},{"$f":"'1.Портфель кредитів'!D201","v":"339339"},{"$f":"'1.Портфель кредитів'!#REF!","v":{"$error":"#REF!"}},{"$f":"'1.Портфель кредитів'!#REF!","v":{"$error":"#REF!"}},{"$f":"'1.Портфель кредитів'!#REF!","v":{"$error":"#REF!"}},{"$f":"'1.Портфель кредитів'!I201","v":"430/980-ЮО"},{"$f":"'1.Портфель кредитів'!W201","v":410588},{"$f":"'1.Портфель кредитів'!Y201","v":5774286.0300000003},4,"2018-06-01","339339_4_43252_2"]
[{"$f":"'1.Портфель кредитів'!H202","v":1},{"$f":"'1.Портфель кредитів'!D202","v":"300175"},{"$f":"'1.Портфель кредитів'!#REF!","v":{"$error":"#REF!"}},{"$f":"'1.Портфель кредитів'!#REF!","v":{"$error":"#REF!"}},{"$f":"'1.Портфель кредитів'!#REF!","v":{"$error":"#REF!"}},{"$f":"'1.Портфель кредитів'!I202","v":"1717"},{"$f":"'1.Портфель кредитів'!W202","v":676141.4},{"$f":"'1.Портфель кредитів'!Y202","v":1094417.26},{"$f":"$E$1","v":4},{"$f":"$E$2","v":"2018-06-01"},{"$f":"B198&\"_\"&I198&\"_\"&J198&\"_\"&$E$3","v":"300175_4_43252_2"}]
[{"$f":"'1.Портфель кредитів'!H203","v":1},{"$f":"'1.Портфель кредитів'!D203","v":"300175"},{"$f":"'1.Портфель кредитів'!#REF!","v":{"$error":"#REF!"}},{"$f":"'1.Портфель кредитів'!#REF!","v":{"$error":"#REF!"}},{"$f":"'1.Портфель кредитів'!#REF!","v":{"$error":"#REF!"}},{"$f":"'1.Портфель кредитів'!I203","v":"012/0456/1/15458"},{"$f":"'1.Портфель кредитів'!W203","v":395258.18},{"$f":"'1.Портфель кредитів'!Y203","v":1053325.51},4,"2018-06-01","300175_4_43252_2"]
[{"$f":"'1.Портфель кредитів'!H204","v":1},{"$f":"'1.Портфель кредитів'!D204","v":"300175"},{"$f":"'1.Портфель кредитів'!#REF!","v":{"$error":"#REF!"}},{"$f":"'1.Портфель кредитів'!#REF!","v":{"$error":"#REF!"}},{"$f":"'1.Портфель кредитів'!#REF!","v":{"$error":"#REF!"}},{"$f":"'1.Портфель кредитів'!I204","v":"2241Ю"},{"$f":"'1.Портфель кредитів'!W204","v":13545.89},{"$f":"'1.Портфель кредитів'!Y204","v":1265362},4,"2018-06-01","300175_4_43252_2"]
[{"$f":"'1.Портфель кредитів'!H205","v":1},{"$f":"'1.Портфель кредитів'!D205","v":"300175"},{"$f":"'1.Портфель кредитів'!#REF!","v":{"$error":"#REF!"}},{"$f":"'1.Портфель кредитів'!#REF!","v":{"$error":"#REF!"}},{"$f":"'1.Портфель кредитів'!#REF!","v":{"$error":"#REF!"}},{"$f":"'1.Портфель кредитів'!I205","v":"229Ю"},{"$f":"'1.Портфель кредитів'!W205","v":4724225.1399999997},{"$f":"'1.Портфель кредитів'!Y205","v":7474281.5600000005},4,"2018-06-01","300175_4_43252_2"]
[{"$f":"'1.Портфель кредитів'!H206","v":1},{"$f":"'1.Портфель кредитів'!D206","v":"300175"},{"$f":"'1.Портфель кредитів'!#REF!","v":{"$error":"#REF!"}},{"$f":"'1.Портфель кредитів'!#REF!","v":{"$error":"#REF!"}},{"$f":"'1.Портфель кредитів'!#REF!","v":{"$error":"#REF!"}},{"$f":"'1.Портфель кредитів'!I206","v":"1697Ю"},{"$f":"'1.Портфель кредитів'!W206","v":695158.49},{"$f":"'1.Портфель кредитів'!Y206","v":13701358.27},4,"2018-06-01","300175_4_43252_2"]
[{"$f":"'1.Портфель кредитів'!H207","v":1},{"$f":"'1.Портфель кредитів'!D207","v":"300175"},{"$f":"'1.Портфель кредитів'!#REF!","v":{"$error":"#REF!"}},{"$f":"'1.Портфель кредитів'!#REF!","v":{"$error":"#REF!"}},{"$f":"'1.Портфель кредитів'!#REF!","v":{"$error":"#REF!"}},{"$f":"'1.Портфель кредитів'!I207","v":"1781Ю"},{"$f":"'1.Портфель кредитів'!W207","v":22794.560000000001},{"$f":"'1.Портфель кредитів'!Y207","v":461089.6},4,"2018-06-01","300175_4_43252_2"]
[{"$f":"'1.Портфель кредитів'!H208","v":1},{"$f":"'1.Портфель кредитів'!D208","v":"300175"},{"$f":"'1.Портфель кредитів'!#REF!","v":{"$error":"#REF!"}},{"$f":"'1.Портфель кредитів'!#REF!","v":{"$error":"#REF!"}},{"$f":"'1.Портфель кредитів'!#REF!","v":{"$error":"#REF!"}},{"$f":"'1.Портфель кредитів'!I208","v":"2188Ю"},{"$f":"'1.Портфель кредитів'!W208","v":66085.98},{"$f":"'1.Портфель кредитів'!Y208","v":1336790.8799999999},4,"2018-06-01","300175_4_43252_2"]
[{"$f":"'1.Портфель кредитів'!H209","v":1},{"$f":"'1.Портфель кредитів'!D209","v":"300175"},{"$f":"'1.Портфель кредитів'!#REF!","v":{"$error":"#REF!"}},{"$f":"'1.Портфель кредитів'!#REF!","v":{"$error":"#REF!"}},{"$f":"'1.Портфель кредитів'!#REF!","v":{"$error":"#REF!"}},{"$f":"'1.Портфель кредитів'!I209","v":"502015К"},{"$f":"'1.Портфель кредитів'!W209","v":45589.120000000003},{"$f":"'1.Портфель кредитів'!Y209","v":922179.14},4,"2018-06-01","300175_4_43252_2"]
[{"$f":"'1.Портфель кредитів'!H210","v":1},{"$f":"'1.Портфель кредитів'!D210","v":"300175"},{"$f":"'1.Портфель кредитів'!#REF!","v":{"$error":"#REF!"}},{"$f":"'1.Портфель кредитів'!#REF!","v":{"$error":"#REF!"}},{"$f":"'1.Портфель кредитів'!#REF!","v":{"$error":"#REF!"}},{"$f":"'1.Портфель кредитів'!I210","v":"622015К"},{"$f":"'1.Портфель кредитів'!W210","v":204284.83},{"$f":"'1.Портфель кредитів'!Y210","v":4132284.8899999997},4,"2018-06-01","300175_4_43252_2"]
[{"$f":"'1.Портфель кредитів'!H211","v":1},{"$f":"'1.Портфель кредитів'!D211","v":"300175"},{"$f":"'1.Портфель кредитів'!#REF!","v":{"$error":"#REF!"}},{"$f":"'1.Портфель кредитів'!#REF!","v":{"$error":"#REF!"}},{"$f":"'1.Портфель кредитів'!#REF!","v":{"$error":"#REF!"}},{"$f":"'1.Портфель кредитів'!I211","v":"011-05/1174"},{"$f":"'1.Портфель кредитів'!W211","v":1140978.8999999999},{"$f":"'1.Портфель кредитів'!Y211","v":3041989.15},4,"2018-06-01","300175_4_43252_2"]
[{"$f":"'1.Портфель кредитів'!H212","v":1},{"$f":"'1.Портфель кредитів'!D212","v":"300175"},{"$f":"'1.Портфель кредитів'!#REF!","v":{"$error":"#REF!"}},{"$f":"'1.Портфель кредитів'!#REF!","v":{"$error":"#REF!"}},{"$f":"'1.Портфель кредитів'!#REF!","v":{"$error":"#REF!"}},{"$f":"'1.Портфель кредитів'!I212","v":"012-05/808"},{"$f":"'1.Портфель кредитів'!W212","v":1140978.8999999999},{"$f":"'1.Портфель кредитів'!Y212","v":9817768.3300000001},4,"2018-06-01","300175_4_43252_2"]
[{"$f":"'1.Портфель кредитів'!H213","v":1},{"$f":"'1.Портфель кредитів'!D213","v":"300175"},{"$f":"'1.Портфель кредитів'!#REF!","v":{"$error":"#REF!"}},{"$f":"'1.Портфель кредитів'!#REF!","v":{"$error":"#REF!"}},{"$f":"'1.Портфель кредитів'!#REF!","v":{"$error":"#REF!"}},{"$f":"'1.Портфель кредитів'!I213","v":"012-05/936"},{"$f":"'1.Портфель кредитів'!W213","v":1819.61},{"$f":"'1.Портфель кредитів'!Y213","v":415684.26},4,"2018-06-01","300175_4_43252_2"]
[{"$f":"'1.Портфель кредитів'!H214","v":1},{"$f":"'1.Портфель кредитів'!D214","v":"300175"},{"$f":"'1.Портфель кредитів'!#REF!","v":{"$error":"#REF!"}},{"$f":"'1.Портфель кредитів'!#REF!","v":{"$error":"#REF!"}},{"$f":"'1.Портфель кредитів'!#REF!","v":{"$error":"#REF!"}},{"$f":"'1.Портфель кредитів'!I214","v":"012-05/920"},{"$f":"'1.Портфель кредитів'!W214","v":22060.79},{"$f":"'1.Портфель кредитів'!Y214","v":5501655.0900000008},4,"2018-06-01","300175_4_43252_2"]
[{"$f":"'1.Портфель кредитів'!H215","v":1},{"$f":"'1.Портфель кредитів'!D215","v":"320995"},{"$f":"'1.Портфель кредитів'!#REF!","v":{"$error":"#REF!"}},{"$f":"'1.Портфель кредитів'!#REF!","v":{"$error":"#REF!"}},{"$f":"'1.Портфель кредитів'!#REF!","v":{"$error":"#REF!"}},{"$f":"'1.Портфель кредитів'!I215","v":"02КР-13"},{"$f":"'1.Портфель кредитів'!W215","v":8570201},{"$f":"'1.Портфель кредитів'!Y215","v":14333785.870000001},4,"2018-06-01","320995_4_43252_2"]
[{"$f":"'1.Портфель кредитів'!H216","v":2},{"$f":"'1.Портфель кредитів'!D216","v":"300272"},{"$f":"'1.Портфель кредитів'!#REF!","v":{"$error":"#REF!"}},{"$f":"'1.Портфель кредитів'!#REF!","v":{"$error":"#REF!"}},{"$f":"'1.Портфель кредитів'!#REF!","v":{"$error":"#REF!"}},{"$f":"'1.Портфель кредитів'!I216","v":"8"},{"$f":"'1.Портфель кредитів'!W216","v":18597.689999999999},{"$f":"'1.Портфель кредитів'!Y216","v":419518.97},4,"2018-06-01","300272_4_43252_2"]
[{"$f":"'1.Портфель кредитів'!H217","v":1},{"$f":"'1.Портфель кредитів'!D217","v":"380474"},{"$f":"'1.Портфель кредитів'!#REF!","v":{"$error":"#REF!"}},{"$f":"'1.Портфель кредитів'!#REF!","v":{"$error":"#REF!"}},{"$f":"'1.Портфель кредитів'!#REF!","v":{"$error":"#REF!"}},{"$f":"'1.Портфель кредитів'!I217","v":"Договір факторингу №20150430"},{"$f":"'1.Портфель кредитів'!W217","v":20907.580000000002},{"$f":"'1.Портфель кредитів'!Y217","v":798309.74},4,"2018-06-01","380474_4_43252_2"]
[{"$f":"'1.Портфель кредитів'!H218","v":2},{"$f":"'1.Портфель кредитів'!D218","v":305062},{"$f":"'1.Портфель кредитів'!#REF!","v":{"$error":"#REF!"}},{"$f":"'1.Портфель кредитів'!#REF!","v":{"$error":"#REF!"}},{"$f":"'1.Портфель кредитів'!#REF!","v":{"$error":"#REF!"}},{"$f":"'1.Портфель кредитів'!I218","v":"78307/01"},{"$f":"'1.Портфель кредитів'!W218","v":8720},{"$f":"'1.Портфель кредитів'!Y218","v":275835.89},4,"2018-06-01","305062_4_43252_2"]
[{"$f":"'1.Портфель кредитів'!H219","v":2},{"$f":"'1.Портфель кредитів'!D219","v":305062},{"$f":"'1.Портфель кредитів'!#REF!","v":{"$error":"#REF!"}},{"$f":"'1.Портфель кредитів'!#REF!","v":{"$error":"#REF!"}},{"$f":"'1.Портфель кредитів'!#REF!","v":{"$error":"#REF!"}},{"$f":"'1.Портфель кредитів'!I219","v":"1450607/01"},{"$f":"'1.Портфель кредитів'!W219","v":17760},{"$f":"'1.Портфель кредитів'!Y219","v":562054.79},4,"2018-06-01","305062_4_43252_2"]
[{"$f":"'1.Портфель кредитів'!H220","v":1},{"$f":"'1.Портфель кредитів'!D220","v":"300131"},{"$f":"'1.Портфель кредитів'!#REF!","v":{"$error":"#REF!"}},{"$f":"'1.Портфель кредитів'!#REF!","v":{"$error":"#REF!"}},{"$f":"'1.Портфель кредитів'!#REF!","v":{"$error":"#REF!"}},{"$f":"'1.Портфель кредитів'!I220","v":"18-01-08"},{"$f":"'1.Портфель кредитів'!W220","v":7307146.1799999997},{"$f":"'1.Портфель кредитів'!Y220","v":7834124.25},4,"2018-06-01","300131_4_43252_2"]
[{"$f":"'1.Портфель кредитів'!H221","v":1},{"$f":"'1.Портфель кредитів'!D221","v":"351931"},{"$f":"'1.Портфель кредитів'!#REF!","v":{"$error":"#REF!"}},{"$f":"'1.Портфель кредитів'!#REF!","v":{"$error":"#REF!"}},{"$f":"'1.Портфель кредитів'!#REF!","v":{"$error":"#REF!"}},{"$f":"'1.Портфель кредитів'!I221","v":"18"},{"$f":"'1.Портфель кредитів'!W221","v":1},{"$f":"'1.Портфель кредитів'!Y221","v":28556313.050000001},4,"2018-06-01","351931_4_43252_2"]
[{"$f":"'1.Портфель кредитів'!H222","v":1},{"$f":"'1.Портфель кредитів'!D222","v":"351931"},{"$f":"'1.Портфель кредитів'!#REF!","v":{"$error":"#REF!"}},{"$f":"'1.Портфель кредитів'!#REF!","v":{"$error":"#REF!"}},{"$f":"'1.Портфель кредитів'!#REF!","v":{"$error":"#REF!"}},{"$f":"'1.Портфель кредитів'!I222","v":18},{"$f":"'1.Портфель кредитів'!W222","v":1},{"$f":"'1.Портфель кредитів'!Y222","v":1153736.8799999999},4,"2018-06-01","351931_4_43252_2"]
[{"$f":"'1.Портфель кредитів'!H223","v":1},{"$f":"'1.Портфель кредитів'!D223","v":"351931"},{"$f":"'1.Портфель кредитів'!#REF!","v":{"$error":"#REF!"}},{"$f":"'1.Портфель кредитів'!#REF!","v":{"$error":"#REF!"}},{"$f":"'1.Портфель кредитів'!#REF!","v":{"$error":"#REF!"}},{"$f":"'1.Портфель кредитів'!I223","v":"29"},{"$f":"'1.Портфель кредитів'!W223","v":1},{"$f":"'1.Портфель кредитів'!Y223","v":72077435},4,"2018-06-01","351931_4_43252_2"]
[{"$f":"'1.Портфель кредитів'!H224","v":1},{"$f":"'1.Портфель кредитів'!D224","v":"351931"},{"$f":"'1.Портфель кредитів'!#REF!","v":{"$error":"#REF!"}},{"$f":"'1.Портфель кредитів'!#REF!","v":{"$error":"#REF!"}},{"$f":"'1.Портфель кредитів'!#REF!","v":{"$error":"#REF!"}},{"$f":"'1.Портфель кредитів'!I224","v":"253"},{"$f":"'1.Портфель кредитів'!W224","v":1},{"$f":"'1.Портфель кредитів'!Y224","v":20812837.5},4,"2018-06-01","351931_4_43252_2"]
[{"$f":"'1.Портфель кредитів'!H225","v":1},{"$f":"'1.Портфель кредитів'!D225","v":"351931"},{"$f":"'1.Портфель кредитів'!#REF!","v":{"$error":"#REF!"}},{"$f":"'1.Портфель кредитів'!#REF!","v":{"$error":"#REF!"}},{"$f":"'1.Портфель кредитів'!#REF!","v":{"$error":"#REF!"}},{"$f":"'1.Портфель кредитів'!I225","v":"81"},{"$f":"'1.Портфель кредитів'!W225","v":1},{"$f":"'1.Портфель кредитів'!Y225","v":10884829.67},4,"2018-06-01","351931_4_43252_2"]
[{"$f":"'1.Портфель кредитів'!H226","v":1},{"$f":"'1.Портфель кредитів'!D226","v":"351931"},{"$f":"'1.Портфель кредитів'!#REF!","v":{"$error":"#REF!"}},{"$f":"'1.Портфель кредитів'!#REF!","v":{"$error":"#REF!"}},{"$f":"'1.Портфель кредитів'!#REF!","v":{"$error":"#REF!"}},{"$f":"'1.Портфель кредитів'!I226","v":"81"},{"$f":"'1.Портфель кредитів'!W226","v":1},{"$f":"'1.Портфель кредитів'!Y226","v":20472064.890000001},4,"2018-06-01","351931_4_43252_2"]
[{"$f":"'1.Портфель кредитів'!H227","v":1},{"$f":"'1.Портфель кредитів'!D227","v":"351931"},{"$f":"'1.Портфель кредитів'!#REF!","v":{"$error":"#REF!"}},{"$f":"'1.Портфель кредитів'!#REF!","v":{"$error":"#REF!"}},{"$f":"'1.Портфель кредитів'!#REF!","v":{"$error":"#REF!"}},{"$f":"'1.Портфель кредитів'!I227","v":"81"},{"$f":"'1.Портфель кредитів'!W227","v":1},{"$f":"'1.Портфель кредитів'!Y227","v":24800108.490000002},4,"2018-06-01","351931_4_43252_2"]
[{"$f":"'1.Портфель кредитів'!H228","v":1},{"$f":"'1.Портфель кредитів'!D228","v":"351931"},{"$f":"'1.Портфель кредитів'!#REF!","v":{"$error":"#REF!"}},{"$f":"'1.Портфель кредитів'!#REF!","v":{"$error":"#REF!"}},{"$f":"'1.Портфель кредитів'!#REF!","v":{"$error":"#REF!"}},{"$f":"'1.Портфель кредитів'!I228","v":"82"},{"$f":"'1.Портфель кредитів'!W228","v":1},{"$f":"'1.Портфель кредитів'!Y228","v":22502415.23},4,"2018-06-01","351931_4_43252_2"]
[{"$f":"'1.Портфель кредитів'!H229","v":1},{"$f":"'1.Портфель кредитів'!D229","v":"351931"},{"$f":"'1.Портфель кредитів'!#REF!","v":{"$error":"#REF!"}},{"$f":"'1.Портфель кредитів'!#REF!","v":{"$error":"#REF!"}},{"$f":"'1.Портфель кредитів'!#REF!","v":{"$error":"#REF!"}},{"$f":"'1.Портфель кредитів'!I229","v":"184"},{"$f":"'1.Портфель кредитів'!W229","v":1},{"$f":"'1.Портфель кредитів'!Y229","v":50633794.370000005},4,"2018-06-01","351931_4_43252_2"]
[{"$f":"'1.Портфель кредитів'!H230","v":1},{"$f":"'1.Портфель кредитів'!D230","v":"351931"},{"$f":"'1.Портфель кредитів'!#REF!","v":{"$error":"#REF!"}},{"$f":"'1.Портфель кредитів'!#REF!","v":{"$error":"#REF!"}},{"$f":"'1.Портфель кредитів'!#REF!","v":{"$error":"#REF!"}},{"$f":"'1.Портфель кредитів'!I230","v":"184"},{"$f":"'1.Портфель кредитів'!W230","v":1},{"$f":"'1.Портфель кредитів'!Y230","v":4037610.96},4,"2018-06-01","351931_4_43252_2"]
[{"$f":"'1.Портфель кредитів'!H231","v":1},{"$f":"'1.Портфель кредитів'!D231","v":"351931"},{"$f":"'1.Портфель кредитів'!#REF!","v":{"$error":"#REF!"}},{"$f":"'1.Портфель кредитів'!#REF!","v":{"$error":"#REF!"}},{"$f":"'1.Портфель кредитів'!#REF!","v":{"$error":"#REF!"}},{"$f":"'1.Портфель кредитів'!I231","v":"188"},{"$f":"'1.Портфель кредитів'!W231","v":1},{"$f":"'1.Портфель кредитів'!Y231","v":22000883.84},4,"2018-06-01","351931_4_43252_2"]
[{"$f":"'1.Портфель кредитів'!H232","v":1},{"$f":"'1.Портфель кредитів'!D232","v":"351931"},{"$f":"'1.Портфель кредитів'!#REF!","v":{"$error":"#REF!"}},{"$f":"'1.Портфель кредитів'!#REF!","v":{"$error":"#REF!"}},{"$f":"'1.Портфель кредитів'!#REF!","v":{"$error":"#REF!"}},{"$f":"'1.Портфель кредитів'!I232","v":"49"},{"$f":"'1.Портфель кредитів'!W232","v":1},{"$f":"'1.Портфель кредитів'!Y232","v":15912587.289999999},4,"2018-06-01","351931_4_43252_2"]
[{"$f":"'1.Портфель кредитів'!H233","v":1},{"$f":"'1.Портфель кредитів'!D233","v":"351931"},{"$f":"'1.Портфель кредитів'!#REF!","v":{"$error":"#REF!"}},{"$f":"'1.Портфель кредитів'!#REF!","v":{"$error":"#REF!"}},{"$f":"'1.Портфель кредитів'!#REF!","v":{"$error":"#REF!"}},{"$f":"'1.Портфель кредитів'!I233","v":"55"},{"$f":"'1.Портфель кредитів'!W233","v":1},{"$f":"'1.Портфель кредитів'!Y233","v":473202.2},4,"2018-06-01","351931_4_43252_2"]
[{"$f":"'1.Портфель кредитів'!H234","v":1},{"$f":"'1.Портфель кредитів'!D234","v":"351931"},{"$f":"'1.Портфель кредитів'!#REF!","v":{"$error":"#REF!"}},{"$f":"'1.Портфель кредитів'!#REF!","v":{"$error":"#REF!"}},{"$f":"'1.Портфель кредитів'!#REF!","v":{"$error":"#REF!"}},{"$f":"'1.Портфель кредитів'!I234","v":"55"},{"$f":"'1.Портфель кредитів'!W234","v":1},{"$f":"'1.Портфель кредитів'!Y234","v":49819873.969999999},4,"2018-06-01","351931_4_43252_2"]
[{"$f":"'1.Портфель кредитів'!H235","v":1},{"$f":"'1.Портфель кредитів'!D235","v":"351931"},{"$f":"'1.Портфель кредитів'!#REF!","v":{"$error":"#REF!"}},{"$f":"'1.Портфель кредитів'!#REF!","v":{"$error":"#REF!"}},{"$f":"'1.Портфель кредитів'!#REF!","v":{"$error":"#REF!"}},{"$f":"'1.Портфель кредитів'!I235","v":"55"},{"$f":"'1.Портфель кредитів'!W235","v":1},{"$f":"'1.Портфель кредитів'!Y235","v":33707534.25},4,"2018-06-01","351931_4_43252_2"]
[{"$f":"'1.Портфель кредитів'!H236","v":1},{"$f":"'1.Портфель кредитів'!D236","v":"351931"},{"$f":"'1.Портфель кредитів'!#REF!","v":{"$error":"#REF!"}},{"$f":"'1.Портфель кредитів'!#REF!","v":{"$error":"#REF!"}},{"$f":"'1.Портфель кредитів'!#REF!","v":{"$error":"#REF!"}},{"$f":"'1.Портфель кредитів'!I236","v":"61"},{"$f":"'1.Портфель кредитів'!W236","v":1},{"$f":"'1.Портфель кредитів'!Y236","v":53065491.120000005},4,"2018-06-01","351931_4_43252_2"]
[{"$f":"'1.Портфель кредитів'!H237","v":1},{"$f":"'1.Портфель кредитів'!D237","v":"351931"},{"$f":"'1.Портфель кредитів'!#REF!","v":{"$error":"#REF!"}},{"$f":"'1.Портфель кредитів'!#REF!","v":{"$error":"#REF!"}},{"$f":"'1.Портфель кредитів'!#REF!","v":{"$error":"#REF!"}},{"$f":"'1.Портфель кредитів'!I237","v":"62"},{"$f":"'1.Портфель кредитів'!W237","v":1},{"$f":"'1.Портфель кредитів'!Y237","v":16981129.550000001},4,"2018-06-01","351931_4_43252_2"]
[{"$f":"'1.Портфель кредитів'!H238","v":0},{"$f":"'1.Портфель кредитів'!D238","v":""},{"$f":"'1.Портфель кредитів'!#REF!","v":{"$error":"#REF!"}},{"$f":"'1.Портфель кредитів'!#REF!","v":{"$error":"#REF!"}},{"$f":"'1.Портфель кредитів'!#REF!","v":{"$error":"#REF!"}},{"$f":"'1.Портфель кредитів'!I238","v":0},{"$f":"'1.Портфель кредитів'!W238","v":0},{"$f":"'1.Портфель кредитів'!Y238","v":""},4,"2018-06-01","_4_43252_2"]
[{"$f":"'1.Портфель кредитів'!H239","v":0},{"$f":"'1.Портфель кредитів'!D239","v":""},{"$f":"'1.Портфель кредитів'!#REF!","v":{"$error":"#REF!"}},{"$f":"'1.Портфель кредитів'!#REF!","v":{"$error":"#REF!"}},{"$f":"'1.Портфель кредитів'!#REF!","v":{"$error":"#REF!"}},{"$f":"'1.Портфель кредитів'!I239","v":0},{"$f":"'1.Портфель кредитів'!W239","v":0},{"$f":"'1.Портфель кредитів'!Y239","v":""},4,"2018-06-01","_4_43252_2"]
[{"$f":"'1.Портфель кредитів'!H240","v":0},{"$f":"'1.Портфель кредитів'!D240","v":""},{"$f":"'1.Портфель кредитів'!#REF!","v":{"$error":"#REF!"}},{"$f":"'1.Портфель кредитів'!#REF!","v":{"$error":"#REF!"}},{"$f":"'1.Портфель кредитів'!#REF!","v":{"$error":"#REF!"}},{"$f":"'1.Портфель кредитів'!I240","v":0},{"$f":"'1.Портфель кредитів'!W240","v":0},{"$f":"'1.Портфель кредитів'!Y240","v":""},4,"2018-06-01","_4_43252_2"]
[{"$f":"'1.Портфель кредитів'!H241","v":0},{"$f":"'1.Портфель кредитів'!D241","v":""},{"$f":"'1.Портфель кредитів'!#REF!","v":{"$error":"#REF!"}},{"$f":"'1.Портфель кредитів'!#REF!","v":{"$error":"#REF!"}},{"$f":"'1.Портфель кредитів'!#REF!","v":{"$error":"#REF!"}},{"$f":"'1.Портфель кредитів'!I241","v":0},{"$f":"'1.Портфель кредитів'!W241","v":0},{"$f":"'1.Портфель кредитів'!Y241","v":""},4,"2018-06-01","_4_43252_2"]
[{"$f":"'1.Портфель кредитів'!H242","v":0},{"$f":"'1.Портфель кредитів'!D242","v":""},{"$f":"'1.Портфель кредитів'!#REF!","v":{"$error":"#REF!"}},{"$f":"'1.Портфель кредитів'!#REF!","v":{"$error":"#REF!"}},{"$f":"'1.Портфель кредитів'!#REF!","v":{"$error":"#REF!"}},{"$f":"'1.Портфель кредитів'!I242","v":0},{"$f":"'1.Портфель кредитів'!W242","v":0},{"$f":"'1.Портфель кредитів'!Y242","v":""},4,"2018-06-01","_4_43252_2"]
[{"$f":"'1.Портфель кредитів'!H243","v":0},{"$f":"'1.Портфель кредитів'!D243","v":""},{"$f":"'1.Портфель кредитів'!#REF!","v":{"$error":"#REF!"}},{"$f":"'1.Портфель кредитів'!#REF!","v":{"$error":"#REF!"}},{"$f":"'1.Портфель кредитів'!#REF!","v":{"$error":"#REF!"}},{"$f":"'1.Портфель кредитів'!I243","v":0},{"$f":"'1.Портфель кредитів'!W243","v":0},{"$f":"'1.Портфель кредитів'!Y243","v":""},4,"2018-06-01","_4_43252_2"]
[{"$f":"'1.Портфель кредитів'!H244","v":0},{"$f":"'1.Портфель кредитів'!D244","v":""},{"$f":"'1.Портфель кредитів'!#REF!","v":{"$error":"#REF!"}},{"$f":"'1.Портфель кредитів'!#REF!","v":{"$error":"#REF!"}},{"$f":"'1.Портфель кредитів'!#REF!","v":{"$error":"#REF!"}},{"$f":"'1.Портфель кредитів'!I244","v":0},{"$f":"'1.Портфель кредитів'!W244","v":0},{"$f":"'1.Портфель кредитів'!Y244","v":""},4,"2018-06-01","_4_43252_2"]
[{"$f":"'1.Портфель кредитів'!H245","v":0},{"$f":"'1.Портфель кредитів'!D245","v":""},{"$f":"'1.Портфель кредитів'!#REF!","v":{"$error":"#REF!"}},{"$f":"'1.Портфель кредитів'!#REF!","v":{"$error":"#REF!"}},{"$f":"'1.Портфель кредитів'!#REF!","v":{"$error":"#REF!"}},{"$f":"'1.Портфель кредитів'!I245","v":0},{"$f":"'1.Портфель кредитів'!W245","v":0},{"$f":"'1.Портфель кредитів'!Y245","v":""},4,"2018-06-01","_4_43252_2"]
[{"$f":"'1.Портфель кредитів'!H246","v":0},{"$f":"'1.Портфель кредитів'!D246","v":""},{"$f":"'1.Портфель кредитів'!#REF!","v":{"$error":"#REF!"}},{"$f":"'1.Портфель кредитів'!#REF!","v":{"$error":"#REF!"}},{"$f":"'1.Портфель кредитів'!#REF!","v":{"$error":"#REF!"}},{"$f":"'1.Портфель кредитів'!I246","v":0},{"$f":"'1.Портфель кредитів'!W246","v":0},{"$f":"'1.Портфель кредитів'!Y246","v":""},4,"2018-06-01","_4_43252_2"]
[{"$f":"'1.Портфель кредитів'!H247","v":0},{"$f":"'1.Портфель кредитів'!D247","v":""},{"$f":"'1.Портфель кредитів'!#REF!","v":{"$error":"#REF!"}},{"$f":"'1.Портфель кредитів'!#REF!","v":{"$error":"#REF!"}},{"$f":"'1.Портфель кредитів'!#REF!","v":{"$error":"#REF!"}},{"$f":"'1.Портфель кредитів'!I247","v":0},{"$f":"'1.Портфель кредитів'!W247","v":0},{"$f":"'1.Портфель кредитів'!Y247","v":""},4,"2018-06-01","_4_43252_2"]
[{"$f":"'1.Портфель кредитів'!H248","v":0},{"$f":"'1.Портфель кредитів'!D248","v":""},{"$f":"'1.Портфель кредитів'!#REF!","v":{"$error":"#REF!"}},{"$f":"'1.Портфель кредитів'!#REF!","v":{"$error":"#REF!"}},{"$f":"'1.Портфель кредитів'!#REF!","v":{"$error":"#REF!"}},{"$f":"'1.Портфель кредитів'!I248","v":0},{"$f":"'1.Портфель кредитів'!W248","v":0},{"$f":"'1.Портфель кредитів'!Y248","v":""},4,"2018-06-01","_4_43252_2"]
[{"$f":"'1.Портфель кредитів'!H249","v":0},{"$f":"'1.Портфель кредитів'!D249","v":""},{"$f":"'1.Портфель кредитів'!#REF!","v":{"$error":"#REF!"}},{"$f":"'1.Портфель кредитів'!#REF!","v":{"$error":"#REF!"}},{"$f":"'1.Портфель кредитів'!#REF!","v":{"$error":"#REF!"}},{"$f":"'1.Портфель кредитів'!I249","v":0},{"$f":"'1.Портфель кредитів'!W249","v":0},{"$f":"'1.Портфель кредитів'!Y249","v":""},4,"2018-06-01","_4_43252_2"]
[{"$f":"'1.Портфель кредитів'!H250","v":0},{"$f":"'1.Портфель кредитів'!D250","v":""},{"$f":"'1.Портфель кредитів'!#REF!","v":{"$error":"#REF!"}},{"$f":"'1.Портфель кредитів'!#REF!","v":{"$error":"#REF!"}},{"$f":"'1.Портфель кредитів'!#REF!","v":{"$error":"#REF!"}},{"$f":"'1.Портфель кредитів'!I250","v":0},{"$f":"'1.Портфель кредитів'!W250","v":0},{"$f":"'1.Портфель кредитів'!Y250","v":""},4,"2018-06-01","_4_43252_2"]
[{"$f":"'1.Портфель кредитів'!H251","v":0},{"$f":"'1.Портфель кредитів'!D251","v":""},{"$f":"'1.Портфель кредитів'!#REF!","v":{"$error":"#REF!"}},{"$f":"'1.Портфель кредитів'!#REF!","v":{"$error":"#REF!"}},{"$f":"'1.Портфель кредитів'!#REF!","v":{"$error":"#REF!"}},{"$f":"'1.Портфель кредитів'!I251","v":0},{"$f":"'1.Портфель кредитів'!W251","v":0},{"$f":"'1.Портфель кредитів'!Y251","v":""},4,"2018-06-01","_4_43252_2"]
[{"$f":"'1.Портфель кредитів'!H252","v":0},{"$f":"'1.Портфель кредитів'!D252","v":""},{"$f":"'1.Портфель кредитів'!#REF!","v":{"$error":"#REF!"}},{"$f":"'1.Портфель кредитів'!#REF!","v":{"$error":"#REF!"}},{"$f":"'1.Портфель кредитів'!#REF!","v":{"$error":"#REF!"}},{"$f":"'1.Портфель кредитів'!I252","v":0},{"$f":"'1.Портфель кредитів'!W252","v":0},{"$f":"'1.Портфель кредитів'!Y252","v":""},4,"2018-06-01","_4_43252_2"]
[{"$f":"'1.Портфель кредитів'!H253","v":0},{"$f":"'1.Портфель кредитів'!D253","v":""},{"$f":"'1.Портфель кредитів'!#REF!","v":{"$error":"#REF!"}},{"$f":"'1.Портфель кредитів'!#REF!","v":{"$error":"#REF!"}},{"$f":"'1.Портфель кредитів'!#REF!","v":{"$error":"#REF!"}},{"$f":"'1.Портфель кредитів'!I253","v":0},{"$f":"'1.Портфель кредитів'!W253","v":0},{"$f":"'1.Портфель кредитів'!Y253","v":""},4,"2018-06-01","_4_43252_2"]
[{"$f":"'1.Портфель кредитів'!H254","v":0},{"$f":"'1.Портфель кредитів'!D254","v":""},{"$f":"'1.Портфель кредитів'!#REF!","v":{"$error":"#REF!"}},{"$f":"'1.Портфель кредитів'!#REF!","v":{"$error":"#REF!"}},{"$f":"'1.Портфель кредитів'!#REF!","v":{"$error":"#REF!"}},{"$f":"'1.Портфель кредитів'!I254","v":0},{"$f":"'1.Портфель кредитів'!W254","v":0},{"$f":"'1.Портфель кредитів'!Y254","v":""},4,"2018-06-01","_4_43252_2"]
[{"$f":"'1.Портфель кредитів'!H255","v":0},{"$f":"'1.Портфель кредитів'!D255","v":""},{"$f":"'1.Портфель кредитів'!#REF!","v":{"$error":"#REF!"}},{"$f":"'1.Портфель кредитів'!#REF!","v":{"$error":"#REF!"}},{"$f":"'1.Портфель кредитів'!#REF!","v":{"$error":"#REF!"}},{"$f":"'1.Портфель кредитів'!I255","v":0},{"$f":"'1.Портфель кредитів'!W255","v":0},{"$f":"'1.Портфель кредитів'!Y255","v":""},4,"2018-06-01","_4_43252_2"]
[{"$f":"'1.Портфель кредитів'!H256","v":0},{"$f":"'1.Портфель кредитів'!D256","v":""},{"$f":"'1.Портфель кредитів'!#REF!","v":{"$error":"#REF!"}},{"$f":"'1.Портфель кредитів'!#REF!","v":{"$error":"#REF!"}},{"$f":"'1.Портфель кредитів'!#REF!","v":{"$error":"#REF!"}},{"$f":"'1.Портфель кредитів'!I256","v":0},{"$f":"'1.Портфель кредитів'!W256","v":0},{"$f":"'1.Портфель кредитів'!Y256","v":""},4,"2018-06-01","_4_43252_2"]
[{"$f":"'1.Портфель кредитів'!H257","v":0},{"$f":"'1.Портфель кредитів'!D257","v":""},{"$f":"'1.Портфель кредитів'!#REF!","v":{"$error":"#REF!"}},{"$f":"'1.Портфель кредитів'!#REF!","v":{"$error":"#REF!"}},{"$f":"'1.Портфель кредитів'!#REF!","v":{"$error":"#REF!"}},{"$f":"'1.Портфель кредитів'!I257","v":0},{"$f":"'1.Портфель кредитів'!W257","v":0},{"$f":"'1.Портфель кредитів'!Y257","v":""},4,"2018-06-01","_4_43252_2"]
[{"$f":"'1.Портфель кредитів'!H258","v":0},{"$f":"'1.Портфель кредитів'!D258","v":""},{"$f":"'1.Портфель кредитів'!#REF!","v":{"$error":"#REF!"}},{"$f":"'1.Портфель кредитів'!#REF!","v":{"$error":"#REF!"}},{"$f":"'1.Портфель кредитів'!#REF!","v":{"$error":"#REF!"}},{"$f":"'1.Портфель кредитів'!I258","v":0},{"$f":"'1.Портфель кредитів'!W258","v":0},{"$f":"'1.Портфель кредитів'!Y258","v":""},4,"2018-06-01","_4_43252_2"]
[{"$f":"'1.Портфель кредитів'!H259","v":0},{"$f":"'1.Портфель кредитів'!D259","v":""},{"$f":"'1.Портфель кредитів'!#REF!","v":{"$error":"#REF!"}},{"$f":"'1.Портфель кредитів'!#REF!","v":{"$error":"#REF!"}},{"$f":"'1.Портфель кредитів'!#REF!","v":{"$error":"#REF!"}},{"$f":"'1.Портфель кредитів'!I259","v":0},{"$f":"'1.Портфель кредитів'!W259","v":0},{"$f":"'1.Портфель кредитів'!Y259","v":""},4,"2018-06-01","_4_43252_2"]
[{"$f":"'1.Портфель кредитів'!H260","v":0},{"$f":"'1.Портфель кредитів'!D260","v":""},{"$f":"'1.Портфель кредитів'!#REF!","v":{"$error":"#REF!"}},{"$f":"'1.Портфель кредитів'!#REF!","v":{"$error":"#REF!"}},{"$f":"'1.Портфель кредитів'!#REF!","v":{"$error":"#REF!"}},{"$f":"'1.Портфель кредитів'!I260","v":0},{"$f":"'1.Портфель кредитів'!W260","v":0},{"$f":"'1.Портфель кредитів'!Y260","v":""},4,"2018-06-01","_4_43252_2"]
[{"$f":"'1.Портфель кредитів'!H261","v":0},{"$f":"'1.Портфель кредитів'!D261","v":""},{"$f":"'1.Портфель кредитів'!#REF!","v":{"$error":"#REF!"}},{"$f":"'1.Портфель кредитів'!#REF!","v":{"$error":"#REF!"}},{"$f":"'1.Портфель кредитів'!#REF!","v":{"$error":"#REF!"}},{"$f":"'1.Портфель кредитів'!I261","v":0},{"$f":"'1.Портфель кредитів'!W261","v":0},{"$f":"'1.Портфель кредитів'!Y261","v":""},4,"2018-06-01","_4_43252_2"]
[{"$f":"'1.Портфель кредитів'!H262","v":0},{"$f":"'1.Портфель кредитів'!D262","v":""},{"$f":"'1.Портфель кредитів'!#REF!","v":{"$error":"#REF!"}},{"$f":"'1.Портфель кредитів'!#REF!","v":{"$error":"#REF!"}},{"$f":"'1.Портфель кредитів'!#REF!","v":{"$error":"#REF!"}},{"$f":"'1.Портфель кредитів'!I262","v":0},{"$f":"'1.Портфель кредитів'!W262","v":0},{"$f":"'1.Портфель кредитів'!Y262","v":""},4,"2018-06-01","_4_43252_2"]
[{"$f":"'1.Портфель кредитів'!H263","v":0},{"$f":"'1.Портфель кредитів'!D263","v":""},{"$f":"'1.Портфель кредитів'!#REF!","v":{"$error":"#REF!"}},{"$f":"'1.Портфель кредитів'!#REF!","v":{"$error":"#REF!"}},{"$f":"'1.Портфель кредитів'!#REF!","v":{"$error":"#REF!"}},{"$f":"'1.Портфель кредитів'!I263","v":0},{"$f":"'1.Портфель кредитів'!W263","v":0},{"$f":"'1.Портфель кредитів'!Y263","v":""},4,"2018-06-01","_4_43252_2"]
[{"$f":"'1.Портфель кредитів'!H264","v":0},{"$f":"'1.Портфель кредитів'!D264","v":""},{"$f":"'1.Портфель кредитів'!#REF!","v":{"$error":"#REF!"}},{"$f":"'1.Портфель кредитів'!#REF!","v":{"$error":"#REF!"}},{"$f":"'1.Портфель кредитів'!#REF!","v":{"$error":"#REF!"}},{"$f":"'1.Портфель кредитів'!I264","v":0},{"$f":"'1.Портфель кредитів'!W264","v":0},{"$f":"'1.Портфель кредитів'!Y264","v":""},4,"2018-06-01","_4_43252_2"]
[{"$f":"'1.Портфель кредитів'!H265","v":0},{"$f":"'1.Портфель кредитів'!D265","v":""},{"$f":"'1.Портфель кредитів'!#REF!","v":{"$error":"#REF!"}},{"$f":"'1.Портфель кредитів'!#REF!","v":{"$error":"#REF!"}},{"$f":"'1.Портфель кредитів'!#REF!","v":{"$error":"#REF!"}},{"$f":"'1.Портфель кредитів'!I265","v":0},{"$f":"'1.Портфель кредитів'!W265","v":0},{"$f":"'1.Портфель кредитів'!Y265","v":""},4,"2018-06-01","_4_43252_2"]
[{"$f":"'1.Портфель кредитів'!H266","v":0},{"$f":"'1.Портфель кредитів'!D266","v":""},{"$f":"'1.Портфель кредитів'!#REF!","v":{"$error":"#REF!"}},{"$f":"'1.Портфель кредитів'!#REF!","v":{"$error":"#REF!"}},{"$f":"'1.Портфель кредитів'!#REF!","v":{"$error":"#REF!"}},{"$f":"'1.Портфель кредитів'!I266","v":0},{"$f":"'1.Портфель кредитів'!W266","v":0},{"$f":"'1.Портфель кредитів'!Y266","v":""},{"$f":"$E$1","v":4},{"$f":"$E$2","v":"2018-06-01"},{"$f":"B262&\"_\"&I262&\"_\"&J262&\"_\"&$E$3","v":"_4_43252_2"}]
[{"$f":"'1.Портфель кредитів'!H267","v":0},{"$f":"'1.Портфель кредитів'!D267","v":""},{"$f":"'1.Портфель кредитів'!#REF!","v":{"$error":"#REF!"}},{"$f":"'1.Портфель кредитів'!#REF!","v":{"$error":"#REF!"}},{"$f":"'1.Портфель кредитів'!#REF!","v":{"$error":"#REF!"}},{"$f":"'1.Портфель кредитів'!I267","v":0},{"$f":"'1.Портфель кредитів'!W267","v":0},{"$f":"'1.Портфель кредитів'!Y267","v":""},4,"2018-06-01","_4_43252_2"]
[{"$f":"'1.Портфель кредитів'!H268","v":0},{"$f":"'1.Портфель кредитів'!D268","v":""},{"$f":"'1.Портфель кредитів'!#REF!","v":{"$error":"#REF!"}},{"$f":"'1.Портфель кредитів'!#REF!","v":{"$error":"#REF!"}},{"$f":"'1.Портфель кредитів'!#REF!","v":{"$error":"#REF!"}},{"$f":"'1.Портфель кредитів'!I268","v":0},{"$f":"'1.Портфель кредитів'!W268","v":0},{"$f":"'1.Портфель кредитів'!Y268","v":""},4,"2018-06-01","_4_43252_2"]
[{"$f":"'1.Портфель кредитів'!H269","v":0},{"$f":"'1.Портфель кредитів'!D269","v":""},{"$f":"'1.Портфель кредитів'!#REF!","v":{"$error":"#REF!"}},{"$f":"'1.Портфель кредитів'!#REF!","v":{"$error":"#REF!"}},{"$f":"'1.Портфель кредитів'!#REF!","v":{"$error":"#REF!"}},{"$f":"'1.Портфель кредитів'!I269","v":0},{"$f":"'1.Портфель кредитів'!W269","v":0},{"$f":"'1.Портфель кредитів'!Y269","v":""},4,"2018-06-01","_4_43252_2"]
[{"$f":"'1.Портфель кредитів'!H270","v":0},{"$f":"'1.Портфель кредитів'!D270","v":""},{"$f":"'1.Портфель кредитів'!#REF!","v":{"$error":"#REF!"}},{"$f":"'1.Портфель кредитів'!#REF!","v":{"$error":"#REF!"}},{"$f":"'1.Портфель кредитів'!#REF!","v":{"$error":"#REF!"}},{"$f":"'1.Портфель кредитів'!I270","v":0},{"$f":"'1.Портфель кредитів'!W270","v":0},{"$f":"'1.Портфель кредитів'!Y270","v":""},4,"2018-06-01","_4_43252_2"]
[{"$f":"'1.Портфель кредитів'!H271","v":0},{"$f":"'1.Портфель кредитів'!D271","v":""},{"$f":"'1.Портфель кредитів'!#REF!","v":{"$error":"#REF!"}},{"$f":"'1.Портфель кредитів'!#REF!","v":{"$error":"#REF!"}},{"$f":"'1.Портфель кредитів'!#REF!","v":{"$error":"#REF!"}},{"$f":"'1.Портфель кредитів'!I271","v":0},{"$f":"'1.Портфель кредитів'!W271","v":0},{"$f":"'1.Портфель кредитів'!Y271","v":""},4,"2018-06-01","_4_43252_2"]
[{"$f":"'1.Портфель кредитів'!H272","v":0},{"$f":"'1.Портфель кредитів'!D272","v":""},{"$f":"'1.Портфель кредитів'!#REF!","v":{"$error":"#REF!"}},{"$f":"'1.Портфель кредитів'!#REF!","v":{"$error":"#REF!"}},{"$f":"'1.Портфель кредитів'!#REF!","v":{"$error":"#REF!"}},{"$f":"'1.Портфель кредитів'!I272","v":0},{"$f":"'1.Портфель кредитів'!W272","v":0},{"$f":"'1.Портфель кредитів'!Y272","v":""},4,"2018-06-01","_4_43252_2"]
[{"$f":"'1.Портфель кредитів'!H273","v":0},{"$f":"'1.Портфель кредитів'!D273","v":""},{"$f":"'1.Портфель кредитів'!#REF!","v":{"$error":"#REF!"}},{"$f":"'1.Портфель кредитів'!#REF!","v":{"$error":"#REF!"}},{"$f":"'1.Портфель кредитів'!#REF!","v":{"$error":"#REF!"}},{"$f":"'1.Портфель кредитів'!I273","v":0},{"$f":"'1.Портфель кредитів'!W273","v":0},{"$f":"'1.Портфель кредитів'!Y273","v":""},4,"2018-06-01","_4_43252_2"]
[{"$f":"'1.Портфель кредитів'!H274","v":0},{"$f":"'1.Портфель кредитів'!D274","v":""},{"$f":"'1.Портфель кредитів'!#REF!","v":{"$error":"#REF!"}},{"$f":"'1.Портфель кредитів'!#REF!","v":{"$error":"#REF!"}},{"$f":"'1.Портфель кредитів'!#REF!","v":{"$error":"#REF!"}},{"$f":"'1.Портфель кредитів'!I274","v":0},{"$f":"'1.Портфель кредитів'!W274","v":0},{"$f":"'1.Портфель кредитів'!Y274","v":""},4,"2018-06-01","_4_43252_2"]
[{"$f":"'1.Портфель кредитів'!H275","v":0},{"$f":"'1.Портфель кредитів'!D275","v":""},{"$f":"'1.Портфель кредитів'!#REF!","v":{"$error":"#REF!"}},{"$f":"'1.Портфель кредитів'!#REF!","v":{"$error":"#REF!"}},{"$f":"'1.Портфель кредитів'!#REF!","v":{"$error":"#REF!"}},{"$f":"'1.Портфель кредитів'!I275","v":0},{"$f":"'1.Портфель кредитів'!W275","v":0},{"$f":"'1.Портфель кредитів'!Y275","v":""},4,"2018-06-01","_4_43252_2"]
[{"$f":"'1.Портфель кредитів'!H276","v":0},{"$f":"'1.Портфель кредитів'!D276","v":""},{"$f":"'1.Портфель кредитів'!#REF!","v":{"$error":"#REF!"}},{"$f":"'1.Портфель кредитів'!#REF!","v":{"$error":"#REF!"}},{"$f":"'1.Портфель кредитів'!#REF!","v":{"$error":"#REF!"}},{"$f":"'1.Портфель кредитів'!I276","v":0},{"$f":"'1.Портфель кредитів'!W276","v":0},{"$f":"'1.Портфель кредитів'!Y276","v":""},4,"2018-06-01","_4_43252_2"]
[{"$f":"'1.Портфель кредитів'!H277","v":0},{"$f":"'1.Портфель кредитів'!D277","v":""},{"$f":"'1.Портфель кредитів'!#REF!","v":{"$error":"#REF!"}},{"$f":"'1.Портфель кредитів'!#REF!","v":{"$error":"#REF!"}},{"$f":"'1.Портфель кредитів'!#REF!","v":{"$error":"#REF!"}},{"$f":"'1.Портфель кредитів'!I277","v":0},{"$f":"'1.Портфель кредитів'!W277","v":0},{"$f":"'1.Портфель кредитів'!Y277","v":""},4,"2018-06-01","_4_43252_2"]
[{"$f":"'1.Портфель кредитів'!H278","v":0},{"$f":"'1.Портфель кредитів'!D278","v":""},{"$f":"'1.Портфель кредитів'!#REF!","v":{"$error":"#REF!"}},{"$f":"'1.Портфель кредитів'!#REF!","v":{"$error":"#REF!"}},{"$f":"'1.Портфель кредитів'!#REF!","v":{"$error":"#REF!"}},{"$f":"'1.Портфель кредитів'!I278","v":0},{"$f":"'1.Портфель кредитів'!W278","v":0},{"$f":"'1.Портфель кредитів'!Y278","v":""},4,"2018-06-01","_4_43252_2"]
[{"$f":"'1.Портфель кредитів'!H279","v":0},{"$f":"'1.Портфель кредитів'!D279","v":""},{"$f":"'1.Портфель кредитів'!#REF!","v":{"$error":"#REF!"}},{"$f":"'1.Портфель кредитів'!#REF!","v":{"$error":"#REF!"}},{"$f":"'1.Портфель кредитів'!#REF!","v":{"$error":"#REF!"}},{"$f":"'1.Портфель кредитів'!I279","v":0},{"$f":"'1.Портфель кредитів'!W279","v":0},{"$f":"'1.Портфель кредитів'!Y279","v":""},4,"2018-06-01","_4_43252_2"]
[{"$f":"'1.Портфель кредитів'!H280","v":0},{"$f":"'1.Портфель кредитів'!D280","v":""},{"$f":"'1.Портфель кредитів'!#REF!","v":{"$error":"#REF!"}},{"$f":"'1.Портфель кредитів'!#REF!","v":{"$error":"#REF!"}},{"$f":"'1.Портфель кредитів'!#REF!","v":{"$error":"#REF!"}},{"$f":"'1.Портфель кредитів'!I280","v":0},{"$f":"'1.Портфель кредитів'!W280","v":0},{"$f":"'1.Портфель кредитів'!Y280","v":""},4,"2018-06-01","_4_43252_2"]
[{"$f":"'1.Портфель кредитів'!H281","v":0},{"$f":"'1.Портфель кредитів'!D281","v":""},{"$f":"'1.Портфель кредитів'!#REF!","v":{"$error":"#REF!"}},{"$f":"'1.Портфель кредитів'!#REF!","v":{"$error":"#REF!"}},{"$f":"'1.Портфель кредитів'!#REF!","v":{"$error":"#REF!"}},{"$f":"'1.Портфель кредитів'!I281","v":0},{"$f":"'1.Портфель кредитів'!W281","v":0},{"$f":"'1.Портфель кредитів'!Y281","v":""},4,"2018-06-01","_4_43252_2"]
[{"$f":"'1.Портфель кредитів'!H282","v":0},{"$f":"'1.Портфель кредитів'!D282","v":""},{"$f":"'1.Портфель кредитів'!#REF!","v":{"$error":"#REF!"}},{"$f":"'1.Портфель кредитів'!#REF!","v":{"$error":"#REF!"}},{"$f":"'1.Портфель кредитів'!#REF!","v":{"$error":"#REF!"}},{"$f":"'1.Портфель кредитів'!I282","v":0},{"$f":"'1.Портфель кредитів'!W282","v":0},{"$f":"'1.Портфель кредитів'!Y282","v":""},4,"2018-06-01","_4_43252_2"]
[{"$f":"'1.Портфель кредитів'!H283","v":0},{"$f":"'1.Портфель кредитів'!D283","v":""},{"$f":"'1.Портфель кредитів'!#REF!","v":{"$error":"#REF!"}},{"$f":"'1.Портфель кредитів'!#REF!","v":{"$error":"#REF!"}},{"$f":"'1.Портфель кредитів'!#REF!","v":{"$error":"#REF!"}},{"$f":"'1.Портфель кредитів'!I283","v":0},{"$f":"'1.Портфель кредитів'!W283","v":0},{"$f":"'1.Портфель кредитів'!Y283","v":""},4,"2018-06-01","_4_43252_2"]
[{"$f":"'1.Портфель кредитів'!H284","v":0},{"$f":"'1.Портфель кредитів'!D284","v":""},{"$f":"'1.Портфель кредитів'!#REF!","v":{"$error":"#REF!"}},{"$f":"'1.Портфель кредитів'!#REF!","v":{"$error":"#REF!"}},{"$f":"'1.Портфель кредитів'!#REF!","v":{"$error":"#REF!"}},{"$f":"'1.Портфель кредитів'!I284","v":0},{"$f":"'1.Портфель кредитів'!W284","v":0},{"$f":"'1.Портфель кредитів'!Y284","v":""},4,"2018-06-01","_4_43252_2"]
[{"$f":"'1.Портфель кредитів'!H285","v":0},{"$f":"'1.Портфель кредитів'!D285","v":""},{"$f":"'1.Портфель кредитів'!#REF!","v":{"$error":"#REF!"}},{"$f":"'1.Портфель кредитів'!#REF!","v":{"$error":"#REF!"}},{"$f":"'1.Портфель кредитів'!#REF!","v":{"$error":"#REF!"}},{"$f":"'1.Портфель кредитів'!I285","v":0},{"$f":"'1.Портфель кредитів'!W285","v":0},{"$f":"'1.Портфель кредитів'!Y285","v":""},4,"2018-06-01","_4_43252_2"]
[{"$f":"'1.Портфель кредитів'!H286","v":0},{"$f":"'1.Портфель кредитів'!D286","v":""},{"$f":"'1.Портфель кредитів'!#REF!","v":{"$error":"#REF!"}},{"$f":"'1.Портфель кредитів'!#REF!","v":{"$error":"#REF!"}},{"$f":"'1.Портфель кредитів'!#REF!","v":{"$error":"#REF!"}},{"$f":"'1.Портфель кредитів'!I286","v":0},{"$f":"'1.Портфель кредитів'!W286","v":0},{"$f":"'1.Портфель кредитів'!Y286","v":""},4,"2018-06-01","_4_43252_2"]
[{"$f":"'1.Портфель кредитів'!H287","v":0},{"$f":"'1.Портфель кредитів'!D287","v":""},{"$f":"'1.Портфель кредитів'!#REF!","v":{"$error":"#REF!"}},{"$f":"'1.Портфель кредитів'!#REF!","v":{"$error":"#REF!"}},{"$f":"'1.Портфель кредитів'!#REF!","v":{"$error":"#REF!"}},{"$f":"'1.Портфель кредитів'!I287","v":0},{"$f":"'1.Портфель кредитів'!W287","v":0},{"$f":"'1.Портфель кредитів'!Y287","v":""},4,"2018-06-01","_4_43252_2"]
[{"$f":"'1.Портфель кредитів'!H288","v":0},{"$f":"'1.Портфель кредитів'!D288","v":""},{"$f":"'1.Портфель кредитів'!#REF!","v":{"$error":"#REF!"}},{"$f":"'1.Портфель кредитів'!#REF!","v":{"$error":"#REF!"}},{"$f":"'1.Портфель кредитів'!#REF!","v":{"$error":"#REF!"}},{"$f":"'1.Портфель кредитів'!I288","v":0},{"$f":"'1.Портфель кредитів'!W288","v":0},{"$f":"'1.Портфель кредитів'!Y288","v":""},4,"2018-06-01","_4_43252_2"]
[{"$f":"'1.Портфель кредитів'!H289","v":0},{"$f":"'1.Портфель кредитів'!D289","v":""},{"$f":"'1.Портфель кредитів'!#REF!","v":{"$error":"#REF!"}},{"$f":"'1.Портфель кредитів'!#REF!","v":{"$error":"#REF!"}},{"$f":"'1.Портфель кредитів'!#REF!","v":{"$error":"#REF!"}},{"$f":"'1.Портфель кредитів'!I289","v":0},{"$f":"'1.Портфель кредитів'!W289","v":0},{"$f":"'1.Портфель кредитів'!Y289","v":""},4,"2018-06-01","_4_43252_2"]
[{"$f":"'1.Портфель кредитів'!H290","v":0},{"$f":"'1.Портфель кредитів'!D290","v":""},{"$f":"'1.Портфель кредитів'!#REF!","v":{"$error":"#REF!"}},{"$f":"'1.Портфель кредитів'!#REF!","v":{"$error":"#REF!"}},{"$f":"'1.Портфель кредитів'!#REF!","v":{"$error":"#REF!"}},{"$f":"'1.Портфель кредитів'!I290","v":0},{"$f":"'1.Портфель кредитів'!W290","v":0},{"$f":"'1.Портфель кредитів'!Y290","v":""},4,"2018-06-01","_4_43252_2"]
[{"$f":"'1.Портфель кредитів'!H291","v":0},{"$f":"'1.Портфель кредитів'!D291","v":""},{"$f":"'1.Портфель кредитів'!#REF!","v":{"$error":"#REF!"}},{"$f":"'1.Портфель кредитів'!#REF!","v":{"$error":"#REF!"}},{"$f":"'1.Портфель кредитів'!#REF!","v":{"$error":"#REF!"}},{"$f":"'1.Портфель кредитів'!I291","v":0},{"$f":"'1.Портфель кредитів'!W291","v":0},{"$f":"'1.Портфель кредитів'!Y291","v":""},4,"2018-06-01","_4_43252_2"]
[{"$f":"'1.Портфель кредитів'!H292","v":0},{"$f":"'1.Портфель кредитів'!D292","v":""},{"$f":"'1.Портфель кредитів'!#REF!","v":{"$error":"#REF!"}},{"$f":"'1.Портфель кредитів'!#REF!","v":{"$error":"#REF!"}},{"$f":"'1.Портфель кредитів'!#REF!","v":{"$error":"#REF!"}},{"$f":"'1.Портфель кредитів'!I292","v":0},{"$f":"'1.Портфель кредитів'!W292","v":0},{"$f":"'1.Портфель кредитів'!Y292","v":""},4,"2018-06-01","_4_43252_2"]
[{"$f":"'1.Портфель кредитів'!H293","v":0},{"$f":"'1.Портфель кредитів'!D293","v":""},{"$f":"'1.Портфель кредитів'!#REF!","v":{"$error":"#REF!"}},{"$f":"'1.Портфель кредитів'!#REF!","v":{"$error":"#REF!"}},{"$f":"'1.Портфель кредитів'!#REF!","v":{"$error":"#REF!"}},{"$f":"'1.Портфель кредитів'!I293","v":0},{"$f":"'1.Портфель кредитів'!W293","v":0},{"$f":"'1.Портфель кредитів'!Y293","v":""},4,"2018-06-01","_4_43252_2"]
[{"$f":"'1.Портфель кредитів'!H294","v":0},{"$f":"'1.Портфель кредитів'!D294","v":""},{"$f":"'1.Портфель кредитів'!#REF!","v":{"$error":"#REF!"}},{"$f":"'1.Портфель кредитів'!#REF!","v":{"$error":"#REF!"}},{"$f":"'1.Портфель кредитів'!#REF!","v":{"$error":"#REF!"}},{"$f":"'1.Портфель кредитів'!I294","v":0},{"$f":"'1.Портфель кредитів'!W294","v":0},{"$f":"'1.Портфель кредитів'!Y294","v":""},4,"2018-06-01","_4_43252_2"]
[{"$f":"'1.Портфель кредитів'!H295","v":0},{"$f":"'1.Портфель кредитів'!D295","v":""},{"$f":"'1.Портфель кредитів'!#REF!","v":{"$error":"#REF!"}},{"$f":"'1.Портфель кредитів'!#REF!","v":{"$error":"#REF!"}},{"$f":"'1.Портфель кредитів'!#REF!","v":{"$error":"#REF!"}},{"$f":"'1.Портфель кредитів'!I295","v":0},{"$f":"'1.Портфель кредитів'!W295","v":0},{"$f":"'1.Портфель кредитів'!Y295","v":""},4,"2018-06-01","_4_43252_2"]
[{"$f":"'1.Портфель кредитів'!H296","v":0},{"$f":"'1.Портфель кредитів'!D296","v":""},{"$f":"'1.Портфель кредитів'!#REF!","v":{"$error":"#REF!"}},{"$f":"'1.Портфель кредитів'!#REF!","v":{"$error":"#REF!"}},{"$f":"'1.Портфель кредитів'!#REF!","v":{"$error":"#REF!"}},{"$f":"'1.Портфель кредитів'!I296","v":0},{"$f":"'1.Портфель кредитів'!W296","v":0},{"$f":"'1.Портфель кредитів'!Y296","v":""},4,"2018-06-01","_4_43252_2"]
[{"$f":"'1.Портфель кредитів'!H297","v":0},{"$f":"'1.Портфель кредитів'!D297","v":""},{"$f":"'1.Портфель кредитів'!#REF!","v":{"$error":"#REF!"}},{"$f":"'1.Портфель кредитів'!#REF!","v":{"$error":"#REF!"}},{"$f":"'1.Портфель кредитів'!#REF!","v":{"$error":"#REF!"}},{"$f":"'1.Портфель кредитів'!I297","v":0},{"$f":"'1.Портфель кредитів'!W297","v":0},{"$f":"'1.Портфель кредитів'!Y297","v":""},4,"2018-06-01","_4_43252_2"]
[{"$f":"'1.Портфель кредитів'!H298","v":0},{"$f":"'1.Портфель кредитів'!D298","v":""},{"$f":"'1.Портфель кредитів'!#REF!","v":{"$error":"#REF!"}},{"$f":"'1.Портфель кредитів'!#REF!","v":{"$error":"#REF!"}},{"$f":"'1.Портфель кредитів'!#REF!","v":{"$error":"#REF!"}},{"$f":"'1.Портфель кредитів'!I298","v":0},{"$f":"'1.Портфель кредитів'!W298","v":0},{"$f":"'1.Портфель кредитів'!Y298","v":""},4,"2018-06-01","_4_43252_2"]
[{"$f":"'1.Портфель кредитів'!H299","v":0},{"$f":"'1.Портфель кредитів'!D299","v":""},{"$f":"'1.Портфель кредитів'!#REF!","v":{"$error":"#REF!"}},{"$f":"'1.Портфель кредитів'!#REF!","v":{"$error":"#REF!"}},{"$f":"'1.Портфель кредитів'!#REF!","v":{"$error":"#REF!"}},{"$f":"'1.Портфель кредитів'!I299","v":0},{"$f":"'1.Портфель кредитів'!W299","v":0},{"$f":"'1.Портфель кредитів'!Y299","v":""},4,"2018-06-01","_4_43252_2"]
[{"$f":"'1.Портфель кредитів'!H300","v":0},{"$f":"'1.Портфель кредитів'!D300","v":""},{"$f":"'1.Портфель кредитів'!#REF!","v":{"$error":"#REF!"}},{"$f":"'1.Портфель кредитів'!#REF!","v":{"$error":"#REF!"}},{"$f":"'1.Портфель кредитів'!#REF!","v":{"$error":"#REF!"}},{"$f":"'1.Портфель кредитів'!I300","v":0},{"$f":"'1.Портфель кредитів'!W300","v":0},{"$f":"'1.Портфель кредитів'!Y300","v":""},4,"2018-06-01","_4_43252_2"]
[{"$f":"'1.Портфель кредитів'!H301","v":0},{"$f":"'1.Портфель кредитів'!D301","v":""},{"$f":"'1.Портфель кредитів'!#REF!","v":{"$error":"#REF!"}},{"$f":"'1.Портфель кредитів'!#REF!","v":{"$error":"#REF!"}},{"$f":"'1.Портфель кредитів'!#REF!","v":{"$error":"#REF!"}},{"$f":"'1.Портфель кредитів'!I301","v":0},{"$f":"'1.Портфель кредитів'!W301","v":0},{"$f":"'1.Портфель кредитів'!Y301","v":""},4,"2018-06-01","_4_43252_2"]
[{"$f":"'1.Портфель кредитів'!H302","v":0},{"$f":"'1.Портфель кредитів'!D302","v":""},{"$f":"'1.Портфель кредитів'!#REF!","v":{"$error":"#REF!"}},{"$f":"'1.Портфель кредитів'!#REF!","v":{"$error":"#REF!"}},{"$f":"'1.Портфель кредитів'!#REF!","v":{"$error":"#REF!"}},{"$f":"'1.Портфель кредитів'!I302","v":0},{"$f":"'1.Портфель кредитів'!W302","v":0},{"$f":"'1.Портфель кредитів'!Y302","v":""},4,"2018-06-01","_4_43252_2"]
[{"$f":"'1.Портфель кредитів'!H303","v":0},{"$f":"'1.Портфель кредитів'!D303","v":""},{"$f":"'1.Портфель кредитів'!#REF!","v":{"$error":"#REF!"}},{"$f":"'1.Портфель кредитів'!#REF!","v":{"$error":"#REF!"}},{"$f":"'1.Портфель кредитів'!#REF!","v":{"$error":"#REF!"}},{"$f":"'1.Портфель кредитів'!I303","v":0},{"$f":"'1.Портфель кредитів'!W303","v":0},{"$f":"'1.Портфель кредитів'!Y303","v":""},4,"2018-06-01","_4_43252_2"]
[{"$f":"'1.Портфель кредитів'!H304","v":0},{"$f":"'1.Портфель кредитів'!D304","v":""},{"$f":"'1.Портфель кредитів'!#REF!","v":{"$error":"#REF!"}},{"$f":"'1.Портфель кредитів'!#REF!","v":{"$error":"#REF!"}},{"$f":"'1.Портфель кредитів'!#REF!","v":{"$error":"#REF!"}},{"$f":"'1.Портфель кредитів'!I304","v":0},{"$f":"'1.Портфель кредитів'!W304","v":0},{"$f":"'1.Портфель кредитів'!Y304","v":""},4,"2018-06-01","_4_43252_2"]
[{"$f":"'1.Портфель кредитів'!H305","v":0},{"$f":"'1.Портфель кредитів'!D305","v":""},{"$f":"'1.Портфель кредитів'!#REF!","v":{"$error":"#REF!"}},{"$f":"'1.Портфель кредитів'!#REF!","v":{"$error":"#REF!"}},{"$f":"'1.Портфель кредитів'!#REF!","v":{"$error":"#REF!"}},{"$f":"'1.Портфель кредитів'!I305","v":0},{"$f":"'1.Портфель кредитів'!W305","v":0},{"$f":"'1.Портфель кредитів'!Y305","v":""},4,"2018-06-01","_4_43252_2"]
[{"$f":"'1.Портфель кредитів'!H306","v":0},{"$f":"'1.Портфель кредитів'!D306","v":""},{"$f":"'1.Портфель кредитів'!#REF!","v":{"$error":"#REF!"}},{"$f":"'1.Портфель кредитів'!#REF!","v":{"$error":"#REF!"}},{"$f":"'1.Портфель кредитів'!#REF!","v":{"$error":"#REF!"}},{"$f":"'1.Портфель кредитів'!I306","v":0},{"$f":"'1.Портфель кредитів'!W306","v":0},{"$f":"'1.Портфель кредитів'!Y306","v":""},4,"2018-06-01","_4_43252_2"]
[{"$f":"'1.Портфель кредитів'!H307","v":0},{"$f":"'1.Портфель кредитів'!D307","v":""},{"$f":"'1.Портфель кредитів'!#REF!","v":{"$error":"#REF!"}},{"$f":"'1.Портфель кредитів'!#REF!","v":{"$error":"#REF!"}},{"$f":"'1.Портфель кредитів'!#REF!","v":{"$error":"#REF!"}},{"$f":"'1.Портфель кредитів'!I307","v":0},{"$f":"'1.Портфель кредитів'!W307","v":0},{"$f":"'1.Портфель кредитів'!Y307","v":""},4,"2018-06-01","_4_43252_2"]
[{"$f":"'1.Портфель кредитів'!H308","v":0},{"$f":"'1.Портфель кредитів'!D308","v":""},{"$f":"'1.Портфель кредитів'!#REF!","v":{"$error":"#REF!"}},{"$f":"'1.Портфель кредитів'!#REF!","v":{"$error":"#REF!"}},{"$f":"'1.Портфель кредитів'!#REF!","v":{"$error":"#REF!"}},{"$f":"'1.Портфель кредитів'!I308","v":0},{"$f":"'1.Портфель кредитів'!W308","v":0},{"$f":"'1.Портфель кредитів'!Y308","v":""},4,"2018-06-01","_4_43252_2"]
[{"$f":"'1.Портфель кредитів'!H309","v":0},{"$f":"'1.Портфель кредитів'!D309","v":""},{"$f":"'1.Портфель кредитів'!#REF!","v":{"$error":"#REF!"}},{"$f":"'1.Портфель кредитів'!#REF!","v":{"$error":"#REF!"}},{"$f":"'1.Портфель кредитів'!#REF!","v":{"$error":"#REF!"}},{"$f":"'1.Портфель кредитів'!I309","v":0},{"$f":"'1.Портфель кредитів'!W309","v":0},{"$f":"'1.Портфель кредитів'!Y309","v":""},4,"2018-06-01","_4_43252_2"]
[{"$f":"'1.Портфель кредитів'!H310","v":0},{"$f":"'1.Портфель кредитів'!D310","v":""},{"$f":"'1.Портфель кредитів'!#REF!","v":{"$error":"#REF!"}},{"$f":"'1.Портфель кредитів'!#REF!","v":{"$error":"#REF!"}},{"$f":"'1.Портфель кредитів'!#REF!","v":{"$error":"#REF!"}},{"$f":"'1.Портфель кредитів'!I310","v":0},{"$f":"'1.Портфель кредитів'!W310","v":0},{"$f":"'1.Портфель кредитів'!Y310","v":""},4,"2018-06-01","_4_43252_2"]
[{"$f":"'1.Портфель кредитів'!H311","v":0},{"$f":"'1.Портфель кредитів'!D311","v":""},{"$f":"'1.Портфель кредитів'!#REF!","v":{"$error":"#REF!"}},{"$f":"'1.Портфель кредитів'!#REF!","v":{"$error":"#REF!"}},{"$f":"'1.Портфель кредитів'!#REF!","v":{"$error":"#REF!"}},{"$f":"'1.Портфель кредитів'!I311","v":0},{"$f":"'1.Портфель кредитів'!W311","v":0},{"$f":"'1.Портфель кредитів'!Y311","v":""},4,"2018-06-01","_4_43252_2"]
[{"$f":"'1.Портфель кредитів'!H312","v":0},{"$f":"'1.Портфель кредитів'!D312","v":""},{"$f":"'1.Портфель кредитів'!#REF!","v":{"$error":"#REF!"}},{"$f":"'1.Портфель кредитів'!#REF!","v":{"$error":"#REF!"}},{"$f":"'1.Портфель кредитів'!#REF!","v":{"$error":"#REF!"}},{"$f":"'1.Портфель кредитів'!I312","v":0},{"$f":"'1.Портфель кредитів'!W312","v":0},{"$f":"'1.Портфель кредитів'!Y312","v":""},4,"2018-06-01","_4_43252_2"]
[{"$f":"'1.Портфель кредитів'!H313","v":0},{"$f":"'1.Портфель кредитів'!D313","v":""},{"$f":"'1.Портфель кредитів'!#REF!","v":{"$error":"#REF!"}},{"$f":"'1.Портфель кредитів'!#REF!","v":{"$error":"#REF!"}},{"$f":"'1.Портфель кредитів'!#REF!","v":{"$error":"#REF!"}},{"$f":"'1.Портфель кредитів'!I313","v":0},{"$f":"'1.Портфель кредитів'!W313","v":0},{"$f":"'1.Портфель кредитів'!Y313","v":""},4,"2018-06-01","_4_43252_2"]
[{"$f":"'1.Портфель кредитів'!H314","v":0},{"$f":"'1.Портфель кредитів'!D314","v":""},{"$f":"'1.Портфель кредитів'!#REF!","v":{"$error":"#REF!"}},{"$f":"'1.Портфель кредитів'!#REF!","v":{"$error":"#REF!"}},{"$f":"'1.Портфель кредитів'!#REF!","v":{"$error":"#REF!"}},{"$f":"'1.Портфель кредитів'!I314","v":0},{"$f":"'1.Портфель кредитів'!W314","v":0},{"$f":"'1.Портфель кредитів'!Y314","v":""},4,"2018-06-01","_4_43252_2"]
[{"$f":"'1.Портфель кредитів'!H315","v":0},{"$f":"'1.Портфель кредитів'!D315","v":""},{"$f":"'1.Портфель кредитів'!#REF!","v":{"$error":"#REF!"}},{"$f":"'1.Портфель кредитів'!#REF!","v":{"$error":"#REF!"}},{"$f":"'1.Портфель кредитів'!#REF!","v":{"$error":"#REF!"}},{"$f":"'1.Портфель кредитів'!I315","v":0},{"$f":"'1.Портфель кредитів'!W315","v":0},{"$f":"'1.Портфель кредитів'!Y315","v":""},4,"2018-06-01","_4_43252_2"]
[{"$f":"'1.Портфель кредитів'!H316","v":0},{"$f":"'1.Портфель кредитів'!D316","v":""},{"$f":"'1.Портфель кредитів'!#REF!","v":{"$error":"#REF!"}},{"$f":"'1.Портфель кредитів'!#REF!","v":{"$error":"#REF!"}},{"$f":"'1.Портфель кредитів'!#REF!","v":{"$error":"#REF!"}},{"$f":"'1.Портфель кредитів'!I316","v":0},{"$f":"'1.Портфель кредитів'!W316","v":0},{"$f":"'1.Портфель кредитів'!Y316","v":""},4,"2018-06-01","_4_43252_2"]
[{"$f":"'1.Портфель кредитів'!H317","v":0},{"$f":"'1.Портфель кредитів'!D317","v":""},{"$f":"'1.Портфель кредитів'!#REF!","v":{"$error":"#REF!"}},{"$f":"'1.Портфель кредитів'!#REF!","v":{"$error":"#REF!"}},{"$f":"'1.Портфель кредитів'!#REF!","v":{"$error":"#REF!"}},{"$f":"'1.Портфель кредитів'!I317","v":0},{"$f":"'1.Портфель кредитів'!W317","v":0},{"$f":"'1.Портфель кредитів'!Y317","v":""},4,"2018-06-01","_4_43252_2"]
[{"$f":"'1.Портфель кредитів'!H318","v":0},{"$f":"'1.Портфель кредитів'!D318","v":""},{"$f":"'1.Портфель кредитів'!#REF!","v":{"$error":"#REF!"}},{"$f":"'1.Портфель кредитів'!#REF!","v":{"$error":"#REF!"}},{"$f":"'1.Портфель кредитів'!#REF!","v":{"$error":"#REF!"}},{"$f":"'1.Портфель кредитів'!I318","v":0},{"$f":"'1.Портфель кредитів'!W318","v":0},{"$f":"'1.Портфель кредитів'!Y318","v":""},4,"2018-06-01","_4_43252_2"]
[{"$f":"'1.Портфель кредитів'!H319","v":0},{"$f":"'1.Портфель кредитів'!D319","v":""},{"$f":"'1.Портфель кредитів'!#REF!","v":{"$error":"#REF!"}},{"$f":"'1.Портфель кредитів'!#REF!","v":{"$error":"#REF!"}},{"$f":"'1.Портфель кредитів'!#REF!","v":{"$error":"#REF!"}},{"$f":"'1.Портфель кредитів'!I319","v":0},{"$f":"'1.Портфель кредитів'!W319","v":0},{"$f":"'1.Портфель кредитів'!Y319","v":""},4,"2018-06-01","_4_43252_2"]
[{"$f":"'1.Портфель кредитів'!H320","v":0},{"$f":"'1.Портфель кредитів'!D320","v":""},{"$f":"'1.Портфель кредитів'!#REF!","v":{"$error":"#REF!"}},{"$f":"'1.Портфель кредитів'!#REF!","v":{"$error":"#REF!"}},{"$f":"'1.Портфель кредитів'!#REF!","v":{"$error":"#REF!"}},{"$f":"'1.Портфель кредитів'!I320","v":0},{"$f":"'1.Портфель кредитів'!W320","v":0},{"$f":"'1.Портфель кредитів'!Y320","v":""},4,"2018-06-01","_4_43252_2"]
[{"$f":"'1.Портфель кредитів'!H321","v":0},{"$f":"'1.Портфель кредитів'!D321","v":""},{"$f":"'1.Портфель кредитів'!#REF!","v":{"$error":"#REF!"}},{"$f":"'1.Портфель кредитів'!#REF!","v":{"$error":"#REF!"}},{"$f":"'1.Портфель кредитів'!#REF!","v":{"$error":"#REF!"}},{"$f":"'1.Портфель кредитів'!I321","v":0},{"$f":"'1.Портфель кредитів'!W321","v":0},{"$f":"'1.Портфель кредитів'!Y321","v":""},4,"2018-06-01","_4_43252_2"]
[{"$f":"'1.Портфель кредитів'!H322","v":0},{"$f":"'1.Портфель кредитів'!D322","v":""},{"$f":"'1.Портфель кредитів'!#REF!","v":{"$error":"#REF!"}},{"$f":"'1.Портфель кредитів'!#REF!","v":{"$error":"#REF!"}},{"$f":"'1.Портфель кредитів'!#REF!","v":{"$error":"#REF!"}},{"$f":"'1.Портфель кредитів'!I322","v":0},{"$f":"'1.Портфель кредитів'!W322","v":0},{"$f":"'1.Портфель кредитів'!Y322","v":""},4,"2018-06-01","_4_43252_2"]
[{"$f":"'1.Портфель кредитів'!H323","v":0},{"$f":"'1.Портфель кредитів'!D323","v":""},{"$f":"'1.Портфель кредитів'!#REF!","v":{"$error":"#REF!"}},{"$f":"'1.Портфель кредитів'!#REF!","v":{"$error":"#REF!"}},{"$f":"'1.Портфель кредитів'!#REF!","v":{"$error":"#REF!"}},{"$f":"'1.Портфель кредитів'!I323","v":0},{"$f":"'1.Портфель кредитів'!W323","v":0},{"$f":"'1.Портфель кредитів'!Y323","v":""},4,"2018-06-01","_4_43252_2"]
[{"$f":"'1.Портфель кредитів'!H324","v":0},{"$f":"'1.Портфель кредитів'!D324","v":""},{"$f":"'1.Портфель кредитів'!#REF!","v":{"$error":"#REF!"}},{"$f":"'1.Портфель кредитів'!#REF!","v":{"$error":"#REF!"}},{"$f":"'1.Портфель кредитів'!#REF!","v":{"$error":"#REF!"}},{"$f":"'1.Портфель кредитів'!I324","v":0},{"$f":"'1.Портфель кредитів'!W324","v":0},{"$f":"'1.Портфель кредитів'!Y324","v":""},4,"2018-06-01","_4_43252_2"]
[{"$f":"'1.Портфель кредитів'!H325","v":0},{"$f":"'1.Портфель кредитів'!D325","v":""},{"$f":"'1.Портфель кредитів'!#REF!","v":{"$error":"#REF!"}},{"$f":"'1.Портфель кредитів'!#REF!","v":{"$error":"#REF!"}},{"$f":"'1.Портфель кредитів'!#REF!","v":{"$error":"#REF!"}},{"$f":"'1.Портфель кредитів'!I325","v":0},{"$f":"'1.Портфель кредитів'!W325","v":0},{"$f":"'1.Портфель кредитів'!Y325","v":""},4,"2018-06-01","_4_43252_2"]
[{"$f":"'1.Портфель кредитів'!H326","v":0},{"$f":"'1.Портфель кредитів'!D326","v":""},{"$f":"'1.Портфель кредитів'!#REF!","v":{"$error":"#REF!"}},{"$f":"'1.Портфель кредитів'!#REF!","v":{"$error":"#REF!"}},{"$f":"'1.Портфель кредитів'!#REF!","v":{"$error":"#REF!"}},{"$f":"'1.Портфель кредитів'!I326","v":0},{"$f":"'1.Портфель кредитів'!W326","v":0},{"$f":"'1.Портфель кредитів'!Y326","v":""},4,"2018-06-01","_4_43252_2"]
[{"$f":"'1.Портфель кредитів'!H327","v":0},{"$f":"'1.Портфель кредитів'!D327","v":""},{"$f":"'1.Портфель кредитів'!#REF!","v":{"$error":"#REF!"}},{"$f":"'1.Портфель кредитів'!#REF!","v":{"$error":"#REF!"}},{"$f":"'1.Портфель кредитів'!#REF!","v":{"$error":"#REF!"}},{"$f":"'1.Портфель кредитів'!I327","v":0},{"$f":"'1.Портфель кредитів'!W327","v":0},{"$f":"'1.Портфель кредитів'!Y327","v":""},4,"2018-06-01","_4_43252_2"]
[{"$f":"'1.Портфель кредитів'!H328","v":0},{"$f":"'1.Портфель кредитів'!D328","v":""},{"$f":"'1.Портфель кредитів'!#REF!","v":{"$error":"#REF!"}},{"$f":"'1.Портфель кредитів'!#REF!","v":{"$error":"#REF!"}},{"$f":"'1.Портфель кредитів'!#REF!","v":{"$error":"#REF!"}},{"$f":"'1.Портфель кредитів'!I328","v":0},{"$f":"'1.Портфель кредитів'!W328","v":0},{"$f":"'1.Портфель кредитів'!Y328","v":""},4,"2018-06-01","_4_43252_2"]
[{"$f":"'1.Портфель кредитів'!H329","v":0},{"$f":"'1.Портфель кредитів'!D329","v":""},{"$f":"'1.Портфель кредитів'!#REF!","v":{"$error":"#REF!"}},{"$f":"'1.Портфель кредитів'!#REF!","v":{"$error":"#REF!"}},{"$f":"'1.Портфель кредитів'!#REF!","v":{"$error":"#REF!"}},{"$f":"'1.Портфель кредитів'!I329","v":0},{"$f":"'1.Портфель кредитів'!W329","v":0},{"$f":"'1.Портфель кредитів'!Y329","v":""},4,"2018-06-01","_4_43252_2"]
[{"$f":"'1.Портфель кредитів'!H330","v":0},{"$f":"'1.Портфель кредитів'!D330","v":""},{"$f":"'1.Портфель кредитів'!#REF!","v":{"$error":"#REF!"}},{"$f":"'1.Портфель кредитів'!#REF!","v":{"$error":"#REF!"}},{"$f":"'1.Портфель кредитів'!#REF!","v":{"$error":"#REF!"}},{"$f":"'1.Портфель кредитів'!I330","v":0},{"$f":"'1.Портфель кредитів'!W330","v":0},{"$f":"'1.Портфель кредитів'!Y330","v":""},{"$f":"$E$1","v":4},{"$f":"$E$2","v":"2018-06-01"},{"$f":"B326&\"_\"&I326&\"_\"&J326&\"_\"&$E$3","v":"_4_43252_2"}]
[{"$f":"'1.Портфель кредитів'!H331","v":0},{"$f":"'1.Портфель кредитів'!D331","v":""},{"$f":"'1.Портфель кредитів'!#REF!","v":{"$error":"#REF!"}},{"$f":"'1.Портфель кредитів'!#REF!","v":{"$error":"#REF!"}},{"$f":"'1.Портфель кредитів'!#REF!","v":{"$error":"#REF!"}},{"$f":"'1.Портфель кредитів'!I331","v":0},{"$f":"'1.Портфель кредитів'!W331","v":0},{"$f":"'1.Портфель кредитів'!Y331","v":""},4,"2018-06-01","_4_43252_2"]
[{"$f":"'1.Портфель кредитів'!H332","v":0},{"$f":"'1.Портфель кредитів'!D332","v":""},{"$f":"'1.Портфель кредитів'!#REF!","v":{"$error":"#REF!"}},{"$f":"'1.Портфель кредитів'!#REF!","v":{"$error":"#REF!"}},{"$f":"'1.Портфель кредитів'!#REF!","v":{"$error":"#REF!"}},{"$f":"'1.Портфель кредитів'!I332","v":0},{"$f":"'1.Портфель кредитів'!W332","v":0},{"$f":"'1.Портфель кредитів'!Y332","v":""},4,"2018-06-01","_4_43252_2"]
[{"$f":"'1.Портфель кредитів'!H333","v":0},{"$f":"'1.Портфель кредитів'!D333","v":""},{"$f":"'1.Портфель кредитів'!#REF!","v":{"$error":"#REF!"}},{"$f":"'1.Портфель кредитів'!#REF!","v":{"$error":"#REF!"}},{"$f":"'1.Портфель кредитів'!#REF!","v":{"$error":"#REF!"}},{"$f":"'1.Портфель кредитів'!I333","v":0},{"$f":"'1.Портфель кредитів'!W333","v":0},{"$f":"'1.Портфель кредитів'!Y333","v":""},4,"2018-06-01","_4_43252_2"]
[{"$f":"'1.Портфель кредитів'!H334","v":0},{"$f":"'1.Портфель кредитів'!D334","v":""},{"$f":"'1.Портфель кредитів'!#REF!","v":{"$error":"#REF!"}},{"$f":"'1.Портфель кредитів'!#REF!","v":{"$error":"#REF!"}},{"$f":"'1.Портфель кредитів'!#REF!","v":{"$error":"#REF!"}},{"$f":"'1.Портфель кредитів'!I334","v":0},{"$f":"'1.Портфель кредитів'!W334","v":0},{"$f":"'1.Портфель кредитів'!Y334","v":""},4,"2018-06-01","_4_43252_2"]
[{"$f":"'1.Портфель кредитів'!H335","v":0},{"$f":"'1.Портфель кредитів'!D335","v":""},{"$f":"'1.Портфель кредитів'!#REF!","v":{"$error":"#REF!"}},{"$f":"'1.Портфель кредитів'!#REF!","v":{"$error":"#REF!"}},{"$f":"'1.Портфель кредитів'!#REF!","v":{"$error":"#REF!"}},{"$f":"'1.Портфель кредитів'!I335","v":0},{"$f":"'1.Портфель кредитів'!W335","v":0},{"$f":"'1.Портфель кредитів'!Y335","v":""},4,"2018-06-01","_4_43252_2"]
[{"$f":"'1.Портфель кредитів'!H336","v":0},{"$f":"'1.Портфель кредитів'!D336","v":""},{"$f":"'1.Портфель кредитів'!#REF!","v":{"$error":"#REF!"}},{"$f":"'1.Портфель кредитів'!#REF!","v":{"$error":"#REF!"}},{"$f":"'1.Портфель кредитів'!#REF!","v":{"$error":"#REF!"}},{"$f":"'1.Портфель кредитів'!I336","v":0},{"$f":"'1.Портфель кредитів'!W336","v":0},{"$f":"'1.Портфель кредитів'!Y336","v":""},4,"2018-06-01","_4_43252_2"]
[{"$f":"'1.Портфель кредитів'!H337","v":0},{"$f":"'1.Портфель кредитів'!D337","v":""},{"$f":"'1.Портфель кредитів'!#REF!","v":{"$error":"#REF!"}},{"$f":"'1.Портфель кредитів'!#REF!","v":{"$error":"#REF!"}},{"$f":"'1.Портфель кредитів'!#REF!","v":{"$error":"#REF!"}},{"$f":"'1.Портфель кредитів'!I337","v":0},{"$f":"'1.Портфель кредитів'!W337","v":0},{"$f":"'1.Портфель кредитів'!Y337","v":""},4,"2018-06-01","_4_43252_2"]
[{"$f":"'1.Портфель кредитів'!H338","v":0},{"$f":"'1.Портфель кредитів'!D338","v":""},{"$f":"'1.Портфель кредитів'!#REF!","v":{"$error":"#REF!"}},{"$f":"'1.Портфель кредитів'!#REF!","v":{"$error":"#REF!"}},{"$f":"'1.Портфель кредитів'!#REF!","v":{"$error":"#REF!"}},{"$f":"'1.Портфель кредитів'!I338","v":0},{"$f":"'1.Портфель кредитів'!W338","v":0},{"$f":"'1.Портфель кредитів'!Y338","v":""},4,"2018-06-01","_4_43252_2"]
[{"$f":"'1.Портфель кредитів'!H339","v":0},{"$f":"'1.Портфель кредитів'!D339","v":""},{"$f":"'1.Портфель кредитів'!#REF!","v":{"$error":"#REF!"}},{"$f":"'1.Портфель кредитів'!#REF!","v":{"$error":"#REF!"}},{"$f":"'1.Портфель кредитів'!#REF!","v":{"$error":"#REF!"}},{"$f":"'1.Портфель кредитів'!I339","v":0},{"$f":"'1.Портфель кредитів'!W339","v":0},{"$f":"'1.Портфель кредитів'!Y339","v":""},4,"2018-06-01","_4_43252_2"]
[{"$f":"'1.Портфель кредитів'!H340","v":0},{"$f":"'1.Портфель кредитів'!D340","v":""},{"$f":"'1.Портфель кредитів'!#REF!","v":{"$error":"#REF!"}},{"$f":"'1.Портфель кредитів'!#REF!","v":{"$error":"#REF!"}},{"$f":"'1.Портфель кредитів'!#REF!","v":{"$error":"#REF!"}},{"$f":"'1.Портфель кредитів'!I340","v":0},{"$f":"'1.Портфель кредитів'!W340","v":0},{"$f":"'1.Портфель кредитів'!Y340","v":""},4,"2018-06-01","_4_43252_2"]
[{"$f":"'1.Портфель кредитів'!H341","v":0},{"$f":"'1.Портфель кредитів'!D341","v":""},{"$f":"'1.Портфель кредитів'!#REF!","v":{"$error":"#REF!"}},{"$f":"'1.Портфель кредитів'!#REF!","v":{"$error":"#REF!"}},{"$f":"'1.Портфель кредитів'!#REF!","v":{"$error":"#REF!"}},{"$f":"'1.Портфель кредитів'!I341","v":0},{"$f":"'1.Портфель кредитів'!W341","v":0},{"$f":"'1.Портфель кредитів'!Y341","v":""},4,"2018-06-01","_4_43252_2"]
[{"$f":"'1.Портфель кредитів'!H342","v":0},{"$f":"'1.Портфель кредитів'!D342","v":""},{"$f":"'1.Портфель кредитів'!#REF!","v":{"$error":"#REF!"}},{"$f":"'1.Портфель кредитів'!#REF!","v":{"$error":"#REF!"}},{"$f":"'1.Портфель кредитів'!#REF!","v":{"$error":"#REF!"}},{"$f":"'1.Портфель кредитів'!I342","v":0},{"$f":"'1.Портфель кредитів'!W342","v":0},{"$f":"'1.Портфель кредитів'!Y342","v":""},4,"2018-06-01","_4_43252_2"]
[{"$f":"'1.Портфель кредитів'!H343","v":0},{"$f":"'1.Портфель кредитів'!D343","v":""},{"$f":"'1.Портфель кредитів'!#REF!","v":{"$error":"#REF!"}},{"$f":"'1.Портфель кредитів'!#REF!","v":{"$error":"#REF!"}},{"$f":"'1.Портфель кредитів'!#REF!","v":{"$error":"#REF!"}},{"$f":"'1.Портфель кредитів'!I343","v":0},{"$f":"'1.Портфель кредитів'!W343","v":0},{"$f":"'1.Портфель кредитів'!Y343","v":""},4,"2018-06-01","_4_43252_2"]
[{"$f":"'1.Портфель кредитів'!H344","v":0},{"$f":"'1.Портфель кредитів'!D344","v":""},{"$f":"'1.Портфель кредитів'!#REF!","v":{"$error":"#REF!"}},{"$f":"'1.Портфель кредитів'!#REF!","v":{"$error":"#REF!"}},{"$f":"'1.Портфель кредитів'!#REF!","v":{"$error":"#REF!"}},{"$f":"'1.Портфель кредитів'!I344","v":0},{"$f":"'1.Портфель кредитів'!W344","v":0},{"$f":"'1.Портфель кредитів'!Y344","v":""},4,"2018-06-01","_4_43252_2"]
[{"$f":"'1.Портфель кредитів'!H345","v":0},{"$f":"'1.Портфель кредитів'!D345","v":""},{"$f":"'1.Портфель кредитів'!#REF!","v":{"$error":"#REF!"}},{"$f":"'1.Портфель кредитів'!#REF!","v":{"$error":"#REF!"}},{"$f":"'1.Портфель кредитів'!#REF!","v":{"$error":"#REF!"}},{"$f":"'1.Портфель кредитів'!I345","v":0},{"$f":"'1.Портфель кредитів'!W345","v":0},{"$f":"'1.Портфель кредитів'!Y345","v":""},4,"2018-06-01","_4_43252_2"]
[{"$f":"'1.Портфель кредитів'!H346","v":0},{"$f":"'1.Портфель кредитів'!D346","v":""},{"$f":"'1.Портфель кредитів'!#REF!","v":{"$error":"#REF!"}},{"$f":"'1.Портфель кредитів'!#REF!","v":{"$error":"#REF!"}},{"$f":"'1.Портфель кредитів'!#REF!","v":{"$error":"#REF!"}},{"$f":"'1.Портфель кредитів'!I346","v":0},{"$f":"'1.Портфель кредитів'!W346","v":0},{"$f":"'1.Портфель кредитів'!Y346","v":""},4,"2018-06-01","_4_43252_2"]
[{"$f":"'1.Портфель кредитів'!H347","v":0},{"$f":"'1.Портфель кредитів'!D347","v":""},{"$f":"'1.Портфель кредитів'!#REF!","v":{"$error":"#REF!"}},{"$f":"'1.Портфель кредитів'!#REF!","v":{"$error":"#REF!"}},{"$f":"'1.Портфель кредитів'!#REF!","v":{"$error":"#REF!"}},{"$f":"'1.Портфель кредитів'!I347","v":0},{"$f":"'1.Портфель кредитів'!W347","v":0},{"$f":"'1.Портфель кредитів'!Y347","v":""},4,"2018-06-01","_4_43252_2"]
[{"$f":"'1.Портфель кредитів'!H348","v":0},{"$f":"'1.Портфель кредитів'!D348","v":""},{"$f":"'1.Портфель кредитів'!#REF!","v":{"$error":"#REF!"}},{"$f":"'1.Портфель кредитів'!#REF!","v":{"$error":"#REF!"}},{"$f":"'1.Портфель кредитів'!#REF!","v":{"$error":"#REF!"}},{"$f":"'1.Портфель кредитів'!I348","v":0},{"$f":"'1.Портфель кредитів'!W348","v":0},{"$f":"'1.Портфель кредитів'!Y348","v":""},4,"2018-06-01","_4_43252_2"]
[{"$f":"'1.Портфель кредитів'!H349","v":0},{"$f":"'1.Портфель кредитів'!D349","v":""},{"$f":"'1.Портфель кредитів'!#REF!","v":{"$error":"#REF!"}},{"$f":"'1.Портфель кредитів'!#REF!","v":{"$error":"#REF!"}},{"$f":"'1.Портфель кредитів'!#REF!","v":{"$error":"#REF!"}},{"$f":"'1.Портфель кредитів'!I349","v":0},{"$f":"'1.Портфель кредитів'!W349","v":0},{"$f":"'1.Портфель кредитів'!Y349","v":""},4,"2018-06-01","_4_43252_2"]
[{"$f":"'1.Портфель кредитів'!H350","v":0},{"$f":"'1.Портфель кредитів'!D350","v":""},{"$f":"'1.Портфель кредитів'!#REF!","v":{"$error":"#REF!"}},{"$f":"'1.Портфель кредитів'!#REF!","v":{"$error":"#REF!"}},{"$f":"'1.Портфель кредитів'!#REF!","v":{"$error":"#REF!"}},{"$f":"'1.Портфель кредитів'!I350","v":0},{"$f":"'1.Портфель кредитів'!W350","v":0},{"$f":"'1.Портфель кредитів'!Y350","v":""},4,"2018-06-01","_4_43252_2"]
[{"$f":"'1.Портфель кредитів'!H351","v":0},{"$f":"'1.Портфель кредитів'!D351","v":""},{"$f":"'1.Портфель кредитів'!#REF!","v":{"$error":"#REF!"}},{"$f":"'1.Портфель кредитів'!#REF!","v":{"$error":"#REF!"}},{"$f":"'1.Портфель кредитів'!#REF!","v":{"$error":"#REF!"}},{"$f":"'1.Портфель кредитів'!I351","v":0},{"$f":"'1.Портфель кредитів'!W351","v":0},{"$f":"'1.Портфель кредитів'!Y351","v":""},4,"2018-06-01","_4_43252_2"]
[{"$f":"'1.Портфель кредитів'!H352","v":0},{"$f":"'1.Портфель кредитів'!D352","v":""},{"$f":"'1.Портфель кредитів'!#REF!","v":{"$error":"#REF!"}},{"$f":"'1.Портфель кредитів'!#REF!","v":{"$error":"#REF!"}},{"$f":"'1.Портфель кредитів'!#REF!","v":{"$error":"#REF!"}},{"$f":"'1.Портфель кредитів'!I352","v":0},{"$f":"'1.Портфель кредитів'!W352","v":0},{"$f":"'1.Портфель кредитів'!Y352","v":""},4,"2018-06-01","_4_43252_2"]
[{"$f":"'1.Портфель кредитів'!H353","v":0},{"$f":"'1.Портфель кредитів'!D353","v":""},{"$f":"'1.Портфель кредитів'!#REF!","v":{"$error":"#REF!"}},{"$f":"'1.Портфель кредитів'!#REF!","v":{"$error":"#REF!"}},{"$f":"'1.Портфель кредитів'!#REF!","v":{"$error":"#REF!"}},{"$f":"'1.Портфель кредитів'!I353","v":0},{"$f":"'1.Портфель кредитів'!W353","v":0},{"$f":"'1.Портфель кредитів'!Y353","v":""},4,"2018-06-01","_4_43252_2"]
[{"$f":"'1.Портфель кредитів'!H354","v":0},{"$f":"'1.Портфель кредитів'!D354","v":""},{"$f":"'1.Портфель кредитів'!#REF!","v":{"$error":"#REF!"}},{"$f":"'1.Портфель кредитів'!#REF!","v":{"$error":"#REF!"}},{"$f":"'1.Портфель кредитів'!#REF!","v":{"$error":"#REF!"}},{"$f":"'1.Портфель кредитів'!I354","v":0},{"$f":"'1.Портфель кредитів'!W354","v":0},{"$f":"'1.Портфель кредитів'!Y354","v":""},4,"2018-06-01","_4_43252_2"]
[{"$f":"'1.Портфель кредитів'!H355","v":0},{"$f":"'1.Портфель кредитів'!D355","v":""},{"$f":"'1.Портфель кредитів'!#REF!","v":{"$error":"#REF!"}},{"$f":"'1.Портфель кредитів'!#REF!","v":{"$error":"#REF!"}},{"$f":"'1.Портфель кредитів'!#REF!","v":{"$error":"#REF!"}},{"$f":"'1.Портфель кредитів'!I355","v":0},{"$f":"'1.Портфель кредитів'!W355","v":0},{"$f":"'1.Портфель кредитів'!Y355","v":""},4,"2018-06-01","_4_43252_2"]
[{"$f":"'1.Портфель кредитів'!H356","v":0},{"$f":"'1.Портфель кредитів'!D356","v":""},{"$f":"'1.Портфель кредитів'!#REF!","v":{"$error":"#REF!"}},{"$f":"'1.Портфель кредитів'!#REF!","v":{"$error":"#REF!"}},{"$f":"'1.Портфель кредитів'!#REF!","v":{"$error":"#REF!"}},{"$f":"'1.Портфель кредитів'!I356","v":0},{"$f":"'1.Портфель кредитів'!W356","v":0},{"$f":"'1.Портфель кредитів'!Y356","v":""},4,"2018-06-01","_4_43252_2"]
[{"$f":"'1.Портфель кредитів'!H357","v":0},{"$f":"'1.Портфель кредитів'!D357","v":""},{"$f":"'1.Портфель кредитів'!#REF!","v":{"$error":"#REF!"}},{"$f":"'1.Портфель кредитів'!#REF!","v":{"$error":"#REF!"}},{"$f":"'1.Портфель кредитів'!#REF!","v":{"$error":"#REF!"}},{"$f":"'1.Портфель кредитів'!I357","v":0},{"$f":"'1.Портфель кредитів'!W357","v":0},{"$f":"'1.Портфель кредитів'!Y357","v":""},4,"2018-06-01","_4_43252_2"]
[{"$f":"'1.Портфель кредитів'!H358","v":0},{"$f":"'1.Портфель кредитів'!D358","v":""},{"$f":"'1.Портфель кредитів'!#REF!","v":{"$error":"#REF!"}},{"$f":"'1.Портфель кредитів'!#REF!","v":{"$error":"#REF!"}},{"$f":"'1.Портфель кредитів'!#REF!","v":{"$error":"#REF!"}},{"$f":"'1.Портфель кредитів'!I358","v":0},{"$f":"'1.Портфель кредитів'!W358","v":0},{"$f":"'1.Портфель кредитів'!Y358","v":""},4,"2018-06-01","_4_43252_2"]
[{"$f":"'1.Портфель кредитів'!H359","v":0},{"$f":"'1.Портфель кредитів'!D359","v":""},{"$f":"'1.Портфель кредитів'!#REF!","v":{"$error":"#REF!"}},{"$f":"'1.Портфель кредитів'!#REF!","v":{"$error":"#REF!"}},{"$f":"'1.Портфель кредитів'!#REF!","v":{"$error":"#REF!"}},{"$f":"'1.Портфель кредитів'!I359","v":0},{"$f":"'1.Портфель кредитів'!W359","v":0},{"$f":"'1.Портфель кредитів'!Y359","v":""},4,"2018-06-01","_4_43252_2"]
[{"$f":"'1.Портфель кредитів'!H360","v":0},{"$f":"'1.Портфель кредитів'!D360","v":""},{"$f":"'1.Портфель кредитів'!#REF!","v":{"$error":"#REF!"}},{"$f":"'1.Портфель кредитів'!#REF!","v":{"$error":"#REF!"}},{"$f":"'1.Портфель кредитів'!#REF!","v":{"$error":"#REF!"}},{"$f":"'1.Портфель кредитів'!I360","v":0},{"$f":"'1.Портфель кредитів'!W360","v":0},{"$f":"'1.Портфель кредитів'!Y360","v":""},4,"2018-06-01","_4_43252_2"]
[{"$f":"'1.Портфель кредитів'!H361","v":0},{"$f":"'1.Портфель кредитів'!D361","v":""},{"$f":"'1.Портфель кредитів'!#REF!","v":{"$error":"#REF!"}},{"$f":"'1.Портфель кредитів'!#REF!","v":{"$error":"#REF!"}},{"$f":"'1.Портфель кредитів'!#REF!","v":{"$error":"#REF!"}},{"$f":"'1.Портфель кредитів'!I361","v":0},{"$f":"'1.Портфель кредитів'!W361","v":0},{"$f":"'1.Портфель кредитів'!Y361","v":""},4,"2018-06-01","_4_43252_2"]
[{"$f":"'1.Портфель кредитів'!H362","v":0},{"$f":"'1.Портфель кредитів'!D362","v":""},{"$f":"'1.Портфель кредитів'!#REF!","v":{"$error":"#REF!"}},{"$f":"'1.Портфель кредитів'!#REF!","v":{"$error":"#REF!"}},{"$f":"'1.Портфель кредитів'!#REF!","v":{"$error":"#REF!"}},{"$f":"'1.Портфель кредитів'!I362","v":0},{"$f":"'1.Портфель кредитів'!W362","v":0},{"$f":"'1.Портфель кредитів'!Y362","v":""},4,"2018-06-01","_4_43252_2"]
[{"$f":"'1.Портфель кредитів'!H363","v":0},{"$f":"'1.Портфель кредитів'!D363","v":""},{"$f":"'1.Портфель кредитів'!#REF!","v":{"$error":"#REF!"}},{"$f":"'1.Портфель кредитів'!#REF!","v":{"$error":"#REF!"}},{"$f":"'1.Портфель кредитів'!#REF!","v":{"$error":"#REF!"}},{"$f":"'1.Портфель кредитів'!I363","v":0},{"$f":"'1.Портфель кредитів'!W363","v":0},{"$f":"'1.Портфель кредитів'!Y363","v":""},4,"2018-06-01","_4_43252_2"]
[{"$f":"'1.Портфель кредитів'!H364","v":0},{"$f":"'1.Портфель кредитів'!D364","v":""},{"$f":"'1.Портфель кредитів'!#REF!","v":{"$error":"#REF!"}},{"$f":"'1.Портфель кредитів'!#REF!","v":{"$error":"#REF!"}},{"$f":"'1.Портфель кредитів'!#REF!","v":{"$error":"#REF!"}},{"$f":"'1.Портфель кредитів'!I364","v":0},{"$f":"'1.Портфель кредитів'!W364","v":0},{"$f":"'1.Портфель кредитів'!Y364","v":""},4,"2018-06-01","_4_43252_2"]
[{"$f":"'1.Портфель кредитів'!H365","v":0},{"$f":"'1.Портфель кредитів'!D365","v":""},{"$f":"'1.Портфель кредитів'!#REF!","v":{"$error":"#REF!"}},{"$f":"'1.Портфель кредитів'!#REF!","v":{"$error":"#REF!"}},{"$f":"'1.Портфель кредитів'!#REF!","v":{"$error":"#REF!"}},{"$f":"'1.Портфель кредитів'!I365","v":0},{"$f":"'1.Портфель кредитів'!W365","v":0},{"$f":"'1.Портфель кредитів'!Y365","v":""},4,"2018-06-01","_4_43252_2"]
[{"$f":"'1.Портфель кредитів'!H366","v":0},{"$f":"'1.Портфель кредитів'!D366","v":""},{"$f":"'1.Портфель кредитів'!#REF!","v":{"$error":"#REF!"}},{"$f":"'1.Портфель кредитів'!#REF!","v":{"$error":"#REF!"}},{"$f":"'1.Портфель кредитів'!#REF!","v":{"$error":"#REF!"}},{"$f":"'1.Портфель кредитів'!I366","v":0},{"$f":"'1.Портфель кредитів'!W366","v":0},{"$f":"'1.Портфель кредитів'!Y366","v":""},4,"2018-06-01","_4_43252_2"]
[{"$f":"'1.Портфель кредитів'!H367","v":0},{"$f":"'1.Портфель кредитів'!D367","v":""},{"$f":"'1.Портфель кредитів'!#REF!","v":{"$error":"#REF!"}},{"$f":"'1.Портфель кредитів'!#REF!","v":{"$error":"#REF!"}},{"$f":"'1.Портфель кредитів'!#REF!","v":{"$error":"#REF!"}},{"$f":"'1.Портфель кредитів'!I367","v":0},{"$f":"'1.Портфель кредитів'!W367","v":0},{"$f":"'1.Портфель кредитів'!Y367","v":""},4,"2018-06-01","_4_43252_2"]
[{"$f":"'1.Портфель кредитів'!H368","v":0},{"$f":"'1.Портфель кредитів'!D368","v":""},{"$f":"'1.Портфель кредитів'!#REF!","v":{"$error":"#REF!"}},{"$f":"'1.Портфель кредитів'!#REF!","v":{"$error":"#REF!"}},{"$f":"'1.Портфель кредитів'!#REF!","v":{"$error":"#REF!"}},{"$f":"'1.Портфель кредитів'!I368","v":0},{"$f":"'1.Портфель кредитів'!W368","v":0},{"$f":"'1.Портфель кредитів'!Y368","v":""},4,"2018-06-01","_4_43252_2"]
[{"$f":"'1.Портфель кредитів'!H369","v":0},{"$f":"'1.Портфель кредитів'!D369","v":""},{"$f":"'1.Портфель кредитів'!#REF!","v":{"$error":"#REF!"}},{"$f":"'1.Портфель кредитів'!#REF!","v":{"$error":"#REF!"}},{"$f":"'1.Портфель кредитів'!#REF!","v":{"$error":"#REF!"}},{"$f":"'1.Портфель кредитів'!I369","v":0},{"$f":"'1.Портфель кредитів'!W369","v":0},{"$f":"'1.Портфель кредитів'!Y369","v":""},4,"2018-06-01","_4_43252_2"]
[{"$f":"'1.Портфель кредитів'!H370","v":0},{"$f":"'1.Портфель кредитів'!D370","v":""},{"$f":"'1.Портфель кредитів'!#REF!","v":{"$error":"#REF!"}},{"$f":"'1.Портфель кредитів'!#REF!","v":{"$error":"#REF!"}},{"$f":"'1.Портфель кредитів'!#REF!","v":{"$error":"#REF!"}},{"$f":"'1.Портфель кредитів'!I370","v":0},{"$f":"'1.Портфель кредитів'!W370","v":0},{"$f":"'1.Портфель кредитів'!Y370","v":""},4,"2018-06-01","_4_43252_2"]
[{"$f":"'1.Портфель кредитів'!H371","v":0},{"$f":"'1.Портфель кредитів'!D371","v":""},{"$f":"'1.Портфель кредитів'!#REF!","v":{"$error":"#REF!"}},{"$f":"'1.Портфель кредитів'!#REF!","v":{"$error":"#REF!"}},{"$f":"'1.Портфель кредитів'!#REF!","v":{"$error":"#REF!"}},{"$f":"'1.Портфель кредитів'!I371","v":0},{"$f":"'1.Портфель кредитів'!W371","v":0},{"$f":"'1.Портфель кредитів'!Y371","v":""},4,"2018-06-01","_4_43252_2"]
[{"$f":"'1.Портфель кредитів'!H372","v":0},{"$f":"'1.Портфель кредитів'!D372","v":""},{"$f":"'1.Портфель кредитів'!#REF!","v":{"$error":"#REF!"}},{"$f":"'1.Портфель кредитів'!#REF!","v":{"$error":"#REF!"}},{"$f":"'1.Портфель кредитів'!#REF!","v":{"$error":"#REF!"}},{"$f":"'1.Портфель кредитів'!I372","v":0},{"$f":"'1.Портфель кредитів'!W372","v":0},{"$f":"'1.Портфель кредитів'!Y372","v":""},4,"2018-06-01","_4_43252_2"]
[{"$f":"'1.Портфель кредитів'!H373","v":0},{"$f":"'1.Портфель кредитів'!D373","v":""},{"$f":"'1.Портфель кредитів'!#REF!","v":{"$error":"#REF!"}},{"$f":"'1.Портфель кредитів'!#REF!","v":{"$error":"#REF!"}},{"$f":"'1.Портфель кредитів'!#REF!","v":{"$error":"#REF!"}},{"$f":"'1.Портфель кредитів'!I373","v":0},{"$f":"'1.Портфель кредитів'!W373","v":0},{"$f":"'1.Портфель кредитів'!Y373","v":""},4,"2018-06-01","_4_43252_2"]
[{"$f":"'1.Портфель кредитів'!H374","v":0},{"$f":"'1.Портфель кредитів'!D374","v":""},{"$f":"'1.Портфель кредитів'!#REF!","v":{"$error":"#REF!"}},{"$f":"'1.Портфель кредитів'!#REF!","v":{"$error":"#REF!"}},{"$f":"'1.Портфель кредитів'!#REF!","v":{"$error":"#REF!"}},{"$f":"'1.Портфель кредитів'!I374","v":0},{"$f":"'1.Портфель кредитів'!W374","v":0},{"$f":"'1.Портфель кредитів'!Y374","v":""},4,"2018-06-01","_4_43252_2"]
[{"$f":"'1.Портфель кредитів'!H375","v":0},{"$f":"'1.Портфель кредитів'!D375","v":""},{"$f":"'1.Портфель кредитів'!#REF!","v":{"$error":"#REF!"}},{"$f":"'1.Портфель кредитів'!#REF!","v":{"$error":"#REF!"}},{"$f":"'1.Портфель кредитів'!#REF!","v":{"$error":"#REF!"}},{"$f":"'1.Портфель кредитів'!I375","v":0},{"$f":"'1.Портфель кредитів'!W375","v":0},{"$f":"'1.Портфель кредитів'!Y375","v":""},4,"2018-06-01","_4_43252_2"]
[{"$f":"'1.Портфель кредитів'!H376","v":0},{"$f":"'1.Портфель кредитів'!D376","v":""},{"$f":"'1.Портфель кредитів'!#REF!","v":{"$error":"#REF!"}},{"$f":"'1.Портфель кредитів'!#REF!","v":{"$error":"#REF!"}},{"$f":"'1.Портфель кредитів'!#REF!","v":{"$error":"#REF!"}},{"$f":"'1.Портфель кредитів'!I376","v":0},{"$f":"'1.Портфель кредитів'!W376","v":0},{"$f":"'1.Портфель кредитів'!Y376","v":""},4,"2018-06-01","_4_43252_2"]
[{"$f":"'1.Портфель кредитів'!H377","v":0},{"$f":"'1.Портфель кредитів'!D377","v":""},{"$f":"'1.Портфель кредитів'!#REF!","v":{"$error":"#REF!"}},{"$f":"'1.Портфель кредитів'!#REF!","v":{"$error":"#REF!"}},{"$f":"'1.Портфель кредитів'!#REF!","v":{"$error":"#REF!"}},{"$f":"'1.Портфель кредитів'!I377","v":0},{"$f":"'1.Портфель кредитів'!W377","v":0},{"$f":"'1.Портфель кредитів'!Y377","v":""},4,"2018-06-01","_4_43252_2"]
[{"$f":"'1.Портфель кредитів'!H378","v":0},{"$f":"'1.Портфель кредитів'!D378","v":""},{"$f":"'1.Портфель кредитів'!#REF!","v":{"$error":"#REF!"}},{"$f":"'1.Портфель кредитів'!#REF!","v":{"$error":"#REF!"}},{"$f":"'1.Портфель кредитів'!#REF!","v":{"$error":"#REF!"}},{"$f":"'1.Портфель кредитів'!I378","v":0},{"$f":"'1.Портфель кредитів'!W378","v":0},{"$f":"'1.Портфель кредитів'!Y378","v":""},4,"2018-06-01","_4_43252_2"]
[{"$f":"'1.Портфель кредитів'!H379","v":0},{"$f":"'1.Портфель кредитів'!D379","v":""},{"$f":"'1.Портфель кредитів'!#REF!","v":{"$error":"#REF!"}},{"$f":"'1.Портфель кредитів'!#REF!","v":{"$error":"#REF!"}},{"$f":"'1.Портфель кредитів'!#REF!","v":{"$error":"#REF!"}},{"$f":"'1.Портфель кредитів'!I379","v":0},{"$f":"'1.Портфель кредитів'!W379","v":0},{"$f":"'1.Портфель кредитів'!Y379","v":""},4,"2018-06-01","_4_43252_2"]
[{"$f":"'1.Портфель кредитів'!H380","v":0},{"$f":"'1.Портфель кредитів'!D380","v":""},{"$f":"'1.Портфель кредитів'!#REF!","v":{"$error":"#REF!"}},{"$f":"'1.Портфель кредитів'!#REF!","v":{"$error":"#REF!"}},{"$f":"'1.Портфель кредитів'!#REF!","v":{"$error":"#REF!"}},{"$f":"'1.Портфель кредитів'!I380","v":0},{"$f":"'1.Портфель кредитів'!W380","v":0},{"$f":"'1.Портфель кредитів'!Y380","v":""},4,"2018-06-01","_4_43252_2"]
[{"$f":"'1.Портфель кредитів'!H381","v":0},{"$f":"'1.Портфель кредитів'!D381","v":""},{"$f":"'1.Портфель кредитів'!#REF!","v":{"$error":"#REF!"}},{"$f":"'1.Портфель кредитів'!#REF!","v":{"$error":"#REF!"}},{"$f":"'1.Портфель кредитів'!#REF!","v":{"$error":"#REF!"}},{"$f":"'1.Портфель кредитів'!I381","v":0},{"$f":"'1.Портфель кредитів'!W381","v":0},{"$f":"'1.Портфель кредитів'!Y381","v":""},4,"2018-06-01","_4_43252_2"]
[{"$f":"'1.Портфель кредитів'!H382","v":0},{"$f":"'1.Портфель кредитів'!D382","v":""},{"$f":"'1.Портфель кредитів'!#REF!","v":{"$error":"#REF!"}},{"$f":"'1.Портфель кредитів'!#REF!","v":{"$error":"#REF!"}},{"$f":"'1.Портфель кредитів'!#REF!","v":{"$error":"#REF!"}},{"$f":"'1.Портфель кредитів'!I382","v":0},{"$f":"'1.Портфель кредитів'!W382","v":0},{"$f":"'1.Портфель кредитів'!Y382","v":""},4,"2018-06-01","_4_43252_2"]
[{"$f":"'1.Портфель кредитів'!H383","v":0},{"$f":"'1.Портфель кредитів'!D383","v":""},{"$f":"'1.Портфель кредитів'!#REF!","v":{"$error":"#REF!"}},{"$f":"'1.Портфель кредитів'!#REF!","v":{"$error":"#REF!"}},{"$f":"'1.Портфель кредитів'!#REF!","v":{"$error":"#REF!"}},{"$f":"'1.Портфель кредитів'!I383","v":0},{"$f":"'1.Портфель кредитів'!W383","v":0},{"$f":"'1.Портфель кредитів'!Y383","v":""},4,"2018-06-01","_4_43252_2"]
[{"$f":"'1.Портфель кредитів'!H384","v":0},{"$f":"'1.Портфель кредитів'!D384","v":""},{"$f":"'1.Портфель кредитів'!#REF!","v":{"$error":"#REF!"}},{"$f":"'1.Портфель кредитів'!#REF!","v":{"$error":"#REF!"}},{"$f":"'1.Портфель кредитів'!#REF!","v":{"$error":"#REF!"}},{"$f":"'1.Портфель кредитів'!I384","v":0},{"$f":"'1.Портфель кредитів'!W384","v":0},{"$f":"'1.Портфель кредитів'!Y384","v":""},4,"2018-06-01","_4_43252_2"]
[{"$f":"'1.Портфель кредитів'!H385","v":0},{"$f":"'1.Портфель кредитів'!D385","v":""},{"$f":"'1.Портфель кредитів'!#REF!","v":{"$error":"#REF!"}},{"$f":"'1.Портфель кредитів'!#REF!","v":{"$error":"#REF!"}},{"$f":"'1.Портфель кредитів'!#REF!","v":{"$error":"#REF!"}},{"$f":"'1.Портфель кредитів'!I385","v":0},{"$f":"'1.Портфель кредитів'!W385","v":0},{"$f":"'1.Портфель кредитів'!Y385","v":""},4,"2018-06-01","_4_43252_2"]
[{"$f":"'1.Портфель кредитів'!H386","v":0},{"$f":"'1.Портфель кредитів'!D386","v":""},{"$f":"'1.Портфель кредитів'!#REF!","v":{"$error":"#REF!"}},{"$f":"'1.Портфель кредитів'!#REF!","v":{"$error":"#REF!"}},{"$f":"'1.Портфель кредитів'!#REF!","v":{"$error":"#REF!"}},{"$f":"'1.Портфель кредитів'!I386","v":0},{"$f":"'1.Портфель кредитів'!W386","v":0},{"$f":"'1.Портфель кредитів'!Y386","v":""},4,"2018-06-01","_4_43252_2"]
[{"$f":"'1.Портфель кредитів'!H387","v":0},{"$f":"'1.Портфель кредитів'!D387","v":""},{"$f":"'1.Портфель кредитів'!#REF!","v":{"$error":"#REF!"}},{"$f":"'1.Портфель кредитів'!#REF!","v":{"$error":"#REF!"}},{"$f":"'1.Портфель кредитів'!#REF!","v":{"$error":"#REF!"}},{"$f":"'1.Портфель кредитів'!I387","v":0},{"$f":"'1.Портфель кредитів'!W387","v":0},{"$f":"'1.Портфель кредитів'!Y387","v":""},4,"2018-06-01","_4_43252_2"]
[{"$f":"'1.Портфель кредитів'!H388","v":0},{"$f":"'1.Портфель кредитів'!D388","v":""},{"$f":"'1.Портфель кредитів'!#REF!","v":{"$error":"#REF!"}},{"$f":"'1.Портфель кредитів'!#REF!","v":{"$error":"#REF!"}},{"$f":"'1.Портфель кредитів'!#REF!","v":{"$error":"#REF!"}},{"$f":"'1.Портфель кредитів'!I388","v":0},{"$f":"'1.Портфель кредитів'!W388","v":0},{"$f":"'1.Портфель кредитів'!Y388","v":""},4,"2018-06-01","_4_43252_2"]
[{"$f":"'1.Портфель кредитів'!H389","v":0},{"$f":"'1.Портфель кредитів'!D389","v":""},{"$f":"'1.Портфель кредитів'!#REF!","v":{"$error":"#REF!"}},{"$f":"'1.Портфель кредитів'!#REF!","v":{"$error":"#REF!"}},{"$f":"'1.Портфель кредитів'!#REF!","v":{"$error":"#REF!"}},{"$f":"'1.Портфель кредитів'!I389","v":0},{"$f":"'1.Портфель кредитів'!W389","v":0},{"$f":"'1.Портфель кредитів'!Y389","v":""},4,"2018-06-01","_4_43252_2"]
[{"$f":"'1.Портфель кредитів'!H390","v":0},{"$f":"'1.Портфель кредитів'!D390","v":""},{"$f":"'1.Портфель кредитів'!#REF!","v":{"$error":"#REF!"}},{"$f":"'1.Портфель кредитів'!#REF!","v":{"$error":"#REF!"}},{"$f":"'1.Портфель кредитів'!#REF!","v":{"$error":"#REF!"}},{"$f":"'1.Портфель кредитів'!I390","v":0},{"$f":"'1.Портфель кредитів'!W390","v":0},{"$f":"'1.Портфель кредитів'!Y390","v":""},4,"2018-06-01","_4_43252_2"]
[{"$f":"'1.Портфель кредитів'!H391","v":0},{"$f":"'1.Портфель кредитів'!D391","v":""},{"$f":"'1.Портфель кредитів'!#REF!","v":{"$error":"#REF!"}},{"$f":"'1.Портфель кредитів'!#REF!","v":{"$error":"#REF!"}},{"$f":"'1.Портфель кредитів'!#REF!","v":{"$error":"#REF!"}},{"$f":"'1.Портфель кредитів'!I391","v":0},{"$f":"'1.Портфель кредитів'!W391","v":0},{"$f":"'1.Портфель кредитів'!Y391","v":""},4,"2018-06-01","_4_43252_2"]
[{"$f":"'1.Портфель кредитів'!H392","v":0},{"$f":"'1.Портфель кредитів'!D392","v":""},{"$f":"'1.Портфель кредитів'!#REF!","v":{"$error":"#REF!"}},{"$f":"'1.Портфель кредитів'!#REF!","v":{"$error":"#REF!"}},{"$f":"'1.Портфель кредитів'!#REF!","v":{"$error":"#REF!"}},{"$f":"'1.Портфель кредитів'!I392","v":0},{"$f":"'1.Портфель кредитів'!W392","v":0},{"$f":"'1.Портфель кредитів'!Y392","v":""},4,"2018-06-01","_4_43252_2"]
[{"$f":"'1.Портфель кредитів'!H393","v":0},{"$f":"'1.Портфель кредитів'!D393","v":""},{"$f":"'1.Портфель кредитів'!#REF!","v":{"$error":"#REF!"}},{"$f":"'1.Портфель кредитів'!#REF!","v":{"$error":"#REF!"}},{"$f":"'1.Портфель кредитів'!#REF!","v":{"$error":"#REF!"}},{"$f":"'1.Портфель кредитів'!I393","v":0},{"$f":"'1.Портфель кредитів'!W393","v":0},{"$f":"'1.Портфель кредитів'!Y393","v":""},4,"2018-06-01","_4_43252_2"]
[{"$f":"'1.Портфель кредитів'!H394","v":0},{"$f":"'1.Портфель кредитів'!D394","v":""},{"$f":"'1.Портфель кредитів'!#REF!","v":{"$error":"#REF!"}},{"$f":"'1.Портфель кредитів'!#REF!","v":{"$error":"#REF!"}},{"$f":"'1.Портфель кредитів'!#REF!","v":{"$error":"#REF!"}},{"$f":"'1.Портфель кредитів'!I394","v":0},{"$f":"'1.Портфель кредитів'!W394","v":0},{"$f":"'1.Портфель кредитів'!Y394","v":""},{"$f":"$E$1","v":4},{"$f":"$E$2","v":"2018-06-01"},{"$f":"B390&\"_\"&I390&\"_\"&J390&\"_\"&$E$3","v":"_4_43252_2"}]
[{"$f":"'1.Портфель кредитів'!H395","v":0},{"$f":"'1.Портфель кредитів'!D395","v":""},{"$f":"'1.Портфель кредитів'!#REF!","v":{"$error":"#REF!"}},{"$f":"'1.Портфель кредитів'!#REF!","v":{"$error":"#REF!"}},{"$f":"'1.Портфель кредитів'!#REF!","v":{"$error":"#REF!"}},{"$f":"'1.Портфель кредитів'!I395","v":0},{"$f":"'1.Портфель кредитів'!W395","v":0},{"$f":"'1.Портфель кредитів'!Y395","v":""},4,"2018-06-01","_4_43252_2"]
[{"$f":"'1.Портфель кредитів'!H396","v":0},{"$f":"'1.Портфель кредитів'!D396","v":""},{"$f":"'1.Портфель кредитів'!#REF!","v":{"$error":"#REF!"}},{"$f":"'1.Портфель кредитів'!#REF!","v":{"$error":"#REF!"}},{"$f":"'1.Портфель кредитів'!#REF!","v":{"$error":"#REF!"}},{"$f":"'1.Портфель кредитів'!I396","v":0},{"$f":"'1.Портфель кредитів'!W396","v":0},{"$f":"'1.Портфель кредитів'!Y396","v":""},4,"2018-06-01","_4_43252_2"]
[{"$f":"'1.Портфель кредитів'!H397","v":0},{"$f":"'1.Портфель кредитів'!D397","v":""},{"$f":"'1.Портфель кредитів'!#REF!","v":{"$error":"#REF!"}},{"$f":"'1.Портфель кредитів'!#REF!","v":{"$error":"#REF!"}},{"$f":"'1.Портфель кредитів'!#REF!","v":{"$error":"#REF!"}},{"$f":"'1.Портфель кредитів'!I397","v":0},{"$f":"'1.Портфель кредитів'!W397","v":0},{"$f":"'1.Портфель кредитів'!Y397","v":""},4,"2018-06-01","_4_43252_2"]
[{"$f":"'1.Портфель кредитів'!H398","v":0},{"$f":"'1.Портфель кредитів'!D398","v":""},{"$f":"'1.Портфель кредитів'!#REF!","v":{"$error":"#REF!"}},{"$f":"'1.Портфель кредитів'!#REF!","v":{"$error":"#REF!"}},{"$f":"'1.Портфель кредитів'!#REF!","v":{"$error":"#REF!"}},{"$f":"'1.Портфель кредитів'!I398","v":0},{"$f":"'1.Портфель кредитів'!W398","v":0},{"$f":"'1.Портфель кредитів'!Y398","v":""},4,"2018-06-01","_4_43252_2"]
[{"$f":"'1.Портфель кредитів'!H399","v":0},{"$f":"'1.Портфель кредитів'!D399","v":""},{"$f":"'1.Портфель кредитів'!#REF!","v":{"$error":"#REF!"}},{"$f":"'1.Портфель кредитів'!#REF!","v":{"$error":"#REF!"}},{"$f":"'1.Портфель кредитів'!#REF!","v":{"$error":"#REF!"}},{"$f":"'1.Портфель кредитів'!I399","v":0},{"$f":"'1.Портфель кредитів'!W399","v":0},{"$f":"'1.Портфель кредитів'!Y399","v":""},4,"2018-06-01","_4_43252_2"]
[{"$f":"'1.Портфель кредитів'!H400","v":0},{"$f":"'1.Портфель кредитів'!D400","v":""},{"$f":"'1.Портфель кредитів'!#REF!","v":{"$error":"#REF!"}},{"$f":"'1.Портфель кредитів'!#REF!","v":{"$error":"#REF!"}},{"$f":"'1.Портфель кредитів'!#REF!","v":{"$error":"#REF!"}},{"$f":"'1.Портфель кредитів'!I400","v":0},{"$f":"'1.Портфель кредитів'!W400","v":0},{"$f":"'1.Портфель кредитів'!Y400","v":""},4,"2018-06-01","_4_43252_2"]
[{"$f":"'1.Портфель кредитів'!H401","v":0},{"$f":"'1.Портфель кредитів'!D401","v":""},{"$f":"'1.Портфель кредитів'!#REF!","v":{"$error":"#REF!"}},{"$f":"'1.Портфель кредитів'!#REF!","v":{"$error":"#REF!"}},{"$f":"'1.Портфель кредитів'!#REF!","v":{"$error":"#REF!"}},{"$f":"'1.Портфель кредитів'!I401","v":0},{"$f":"'1.Портфель кредитів'!W401","v":0},{"$f":"'1.Портфель кредитів'!Y401","v":""},4,"2018-06-01","_4_43252_2"]
[{"$f":"'1.Портфель кредитів'!H402","v":0},{"$f":"'1.Портфель кредитів'!D402","v":""},{"$f":"'1.Портфель кредитів'!#REF!","v":{"$error":"#REF!"}},{"$f":"'1.Портфель кредитів'!#REF!","v":{"$error":"#REF!"}},{"$f":"'1.Портфель кредитів'!#REF!","v":{"$error":"#REF!"}},{"$f":"'1.Портфель кредитів'!I402","v":0},{"$f":"'1.Портфель кредитів'!W402","v":0},{"$f":"'1.Портфель кредитів'!Y402","v":""},4,"2018-06-01","_4_43252_2"]
[{"$f":"'1.Портфель кредитів'!H403","v":0},{"$f":"'1.Портфель кредитів'!D403","v":""},{"$f":"'1.Портфель кредитів'!#REF!","v":{"$error":"#REF!"}},{"$f":"'1.Портфель кредитів'!#REF!","v":{"$error":"#REF!"}},{"$f":"'1.Портфель кредитів'!#REF!","v":{"$error":"#REF!"}},{"$f":"'1.Портфель кредитів'!I403","v":0},{"$f":"'1.Портфель кредитів'!W403","v":0},{"$f":"'1.Портфель кредитів'!Y403","v":""},4,"2018-06-01","_4_43252_2"]
[{"$f":"'1.Портфель кредитів'!H404","v":0},{"$f":"'1.Портфель кредитів'!D404","v":""},{"$f":"'1.Портфель кредитів'!#REF!","v":{"$error":"#REF!"}},{"$f":"'1.Портфель кредитів'!#REF!","v":{"$error":"#REF!"}},{"$f":"'1.Портфель кредитів'!#REF!","v":{"$error":"#REF!"}},{"$f":"'1.Портфель кредитів'!I404","v":0},{"$f":"'1.Портфель кредитів'!W404","v":0},{"$f":"'1.Портфель кредитів'!Y404","v":""},4,"2018-06-01","_4_43252_2"]
[{"$f":"'1.Портфель кредитів'!H405","v":0},{"$f":"'1.Портфель кредитів'!D405","v":""},{"$f":"'1.Портфель кредитів'!#REF!","v":{"$error":"#REF!"}},{"$f":"'1.Портфель кредитів'!#REF!","v":{"$error":"#REF!"}},{"$f":"'1.Портфель кредитів'!#REF!","v":{"$error":"#REF!"}},{"$f":"'1.Портфель кредитів'!I405","v":0},{"$f":"'1.Портфель кредитів'!W405","v":0},{"$f":"'1.Портфель кредитів'!Y405","v":""},4,"2018-06-01","_4_43252_2"]
[{"$f":"'1.Портфель кредитів'!H406","v":0},{"$f":"'1.Портфель кредитів'!D406","v":""},{"$f":"'1.Портфель кредитів'!#REF!","v":{"$error":"#REF!"}},{"$f":"'1.Портфель кредитів'!#REF!","v":{"$error":"#REF!"}},{"$f":"'1.Портфель кредитів'!#REF!","v":{"$error":"#REF!"}},{"$f":"'1.Портфель кредитів'!I406","v":0},{"$f":"'1.Портфель кредитів'!W406","v":0},{"$f":"'1.Портфель кредитів'!Y406","v":""},4,"2018-06-01","_4_43252_2"]
[{"$f":"'1.Портфель кредитів'!H407","v":0},{"$f":"'1.Портфель кредитів'!D407","v":""},{"$f":"'1.Портфель кредитів'!#REF!","v":{"$error":"#REF!"}},{"$f":"'1.Портфель кредитів'!#REF!","v":{"$error":"#REF!"}},{"$f":"'1.Портфель кредитів'!#REF!","v":{"$error":"#REF!"}},{"$f":"'1.Портфель кредитів'!I407","v":0},{"$f":"'1.Портфель кредитів'!W407","v":0},{"$f":"'1.Портфель кредитів'!Y407","v":""},4,"2018-06-01","_4_43252_2"]
[{"$f":"'1.Портфель кредитів'!H408","v":0},{"$f":"'1.Портфель кредитів'!D408","v":""},{"$f":"'1.Портфель кредитів'!#REF!","v":{"$error":"#REF!"}},{"$f":"'1.Портфель кредитів'!#REF!","v":{"$error":"#REF!"}},{"$f":"'1.Портфель кредитів'!#REF!","v":{"$error":"#REF!"}},{"$f":"'1.Портфель кредитів'!I408","v":0},{"$f":"'1.Портфель кредитів'!W408","v":0},{"$f":"'1.Портфель кредитів'!Y408","v":""},4,"2018-06-01","_4_43252_2"]
[{"$f":"'1.Портфель кредитів'!H409","v":0},{"$f":"'1.Портфель кредитів'!D409","v":""},{"$f":"'1.Портфель кредитів'!#REF!","v":{"$error":"#REF!"}},{"$f":"'1.Портфель кредитів'!#REF!","v":{"$error":"#REF!"}},{"$f":"'1.Портфель кредитів'!#REF!","v":{"$error":"#REF!"}},{"$f":"'1.Портфель кредитів'!I409","v":0},{"$f":"'1.Портфель кредитів'!W409","v":0},{"$f":"'1.Портфель кредитів'!Y409","v":""},4,"2018-06-01","_4_43252_2"]
[{"$f":"'1.Портфель кредитів'!H410","v":0},{"$f":"'1.Портфель кредитів'!D410","v":""},{"$f":"'1.Портфель кредитів'!#REF!","v":{"$error":"#REF!"}},{"$f":"'1.Портфель кредитів'!#REF!","v":{"$error":"#REF!"}},{"$f":"'1.Портфель кредитів'!#REF!","v":{"$error":"#REF!"}},{"$f":"'1.Портфель кредитів'!I410","v":0},{"$f":"'1.Портфель кредитів'!W410","v":0},{"$f":"'1.Портфель кредитів'!Y410","v":""},4,"2018-06-01","_4_43252_2"]
[{"$f":"'1.Портфель кредитів'!H411","v":0},{"$f":"'1.Портфель кредитів'!D411","v":""},{"$f":"'1.Портфель кредитів'!#REF!","v":{"$error":"#REF!"}},{"$f":"'1.Портфель кредитів'!#REF!","v":{"$error":"#REF!"}},{"$f":"'1.Портфель кредитів'!#REF!","v":{"$error":"#REF!"}},{"$f":"'1.Портфель кредитів'!I411","v":0},{"$f":"'1.Портфель кредитів'!W411","v":0},{"$f":"'1.Портфель кредитів'!Y411","v":""},4,"2018-06-01","_4_43252_2"]
[{"$f":"'1.Портфель кредитів'!H412","v":0},{"$f":"'1.Портфель кредитів'!D412","v":""},{"$f":"'1.Портфель кредитів'!#REF!","v":{"$error":"#REF!"}},{"$f":"'1.Портфель кредитів'!#REF!","v":{"$error":"#REF!"}},{"$f":"'1.Портфель кредитів'!#REF!","v":{"$error":"#REF!"}},{"$f":"'1.Портфель кредитів'!I412","v":0},{"$f":"'1.Портфель кредитів'!W412","v":0},{"$f":"'1.Портфель кредитів'!Y412","v":""},4,"2018-06-01","_4_43252_2"]
[{"$f":"'1.Портфель кредитів'!H413","v":0},{"$f":"'1.Портфель кредитів'!D413","v":""},{"$f":"'1.Портфель кредитів'!#REF!","v":{"$error":"#REF!"}},{"$f":"'1.Портфель кредитів'!#REF!","v":{"$error":"#REF!"}},{"$f":"'1.Портфель кредитів'!#REF!","v":{"$error":"#REF!"}},{"$f":"'1.Портфель кредитів'!I413","v":0},{"$f":"'1.Портфель кредитів'!W413","v":0},{"$f":"'1.Портфель кредитів'!Y413","v":""},4,"2018-06-01","_4_43252_2"]
[{"$f":"'1.Портфель кредитів'!H414","v":0},{"$f":"'1.Портфель кредитів'!D414","v":""},{"$f":"'1.Портфель кредитів'!#REF!","v":{"$error":"#REF!"}},{"$f":"'1.Портфель кредитів'!#REF!","v":{"$error":"#REF!"}},{"$f":"'1.Портфель кредитів'!#REF!","v":{"$error":"#REF!"}},{"$f":"'1.Портфель кредитів'!I414","v":0},{"$f":"'1.Портфель кредитів'!W414","v":0},{"$f":"'1.Портфель кредитів'!Y414","v":""},4,"2018-06-01","_4_43252_2"]
[{"$f":"'1.Портфель кредитів'!H415","v":0},{"$f":"'1.Портфель кредитів'!D415","v":""},{"$f":"'1.Портфель кредитів'!#REF!","v":{"$error":"#REF!"}},{"$f":"'1.Портфель кредитів'!#REF!","v":{"$error":"#REF!"}},{"$f":"'1.Портфель кредитів'!#REF!","v":{"$error":"#REF!"}},{"$f":"'1.Портфель кредитів'!I415","v":0},{"$f":"'1.Портфель кредитів'!W415","v":0},{"$f":"'1.Портфель кредитів'!Y415","v":""},4,"2018-06-01","_4_43252_2"]
[{"$f":"'1.Портфель кредитів'!H416","v":0},{"$f":"'1.Портфель кредитів'!D416","v":""},{"$f":"'1.Портфель кредитів'!#REF!","v":{"$error":"#REF!"}},{"$f":"'1.Портфель кредитів'!#REF!","v":{"$error":"#REF!"}},{"$f":"'1.Портфель кредитів'!#REF!","v":{"$error":"#REF!"}},{"$f":"'1.Портфель кредитів'!I416","v":0},{"$f":"'1.Портфель кредитів'!W416","v":0},{"$f":"'1.Портфель кредитів'!Y416","v":""},4,"2018-06-01","_4_43252_2"]
[{"$f":"'1.Портфель кредитів'!H417","v":0},{"$f":"'1.Портфель кредитів'!D417","v":""},{"$f":"'1.Портфель кредитів'!#REF!","v":{"$error":"#REF!"}},{"$f":"'1.Портфель кредитів'!#REF!","v":{"$error":"#REF!"}},{"$f":"'1.Портфель кредитів'!#REF!","v":{"$error":"#REF!"}},{"$f":"'1.Портфель кредитів'!I417","v":0},{"$f":"'1.Портфель кредитів'!W417","v":0},{"$f":"'1.Портфель кредитів'!Y417","v":""},4,"2018-06-01","_4_43252_2"]
[{"$f":"'1.Портфель кредитів'!H418","v":0},{"$f":"'1.Портфель кредитів'!D418","v":""},{"$f":"'1.Портфель кредитів'!#REF!","v":{"$error":"#REF!"}},{"$f":"'1.Портфель кредитів'!#REF!","v":{"$error":"#REF!"}},{"$f":"'1.Портфель кредитів'!#REF!","v":{"$error":"#REF!"}},{"$f":"'1.Портфель кредитів'!I418","v":0},{"$f":"'1.Портфель кредитів'!W418","v":0},{"$f":"'1.Портфель кредитів'!Y418","v":""},4,"2018-06-01","_4_43252_2"]
[{"$f":"'1.Портфель кредитів'!H419","v":0},{"$f":"'1.Портфель кредитів'!D419","v":""},{"$f":"'1.Портфель кредитів'!#REF!","v":{"$error":"#REF!"}},{"$f":"'1.Портфель кредитів'!#REF!","v":{"$error":"#REF!"}},{"$f":"'1.Портфель кредитів'!#REF!","v":{"$error":"#REF!"}},{"$f":"'1.Портфель кредитів'!I419","v":0},{"$f":"'1.Портфель кредитів'!W419","v":0},{"$f":"'1.Портфель кредитів'!Y419","v":""},4,"2018-06-01","_4_43252_2"]
[{"$f":"'1.Портфель кредитів'!H420","v":0},{"$f":"'1.Портфель кредитів'!D420","v":""},{"$f":"'1.Портфель кредитів'!#REF!","v":{"$error":"#REF!"}},{"$f":"'1.Портфель кредитів'!#REF!","v":{"$error":"#REF!"}},{"$f":"'1.Портфель кредитів'!#REF!","v":{"$error":"#REF!"}},{"$f":"'1.Портфель кредитів'!I420","v":0},{"$f":"'1.Портфель кредитів'!W420","v":0},{"$f":"'1.Портфель кредитів'!Y420","v":""},4,"2018-06-01","_4_43252_2"]
[{"$f":"'1.Портфель кредитів'!H421","v":0},{"$f":"'1.Портфель кредитів'!D421","v":""},{"$f":"'1.Портфель кредитів'!#REF!","v":{"$error":"#REF!"}},{"$f":"'1.Портфель кредитів'!#REF!","v":{"$error":"#REF!"}},{"$f":"'1.Портфель кредитів'!#REF!","v":{"$error":"#REF!"}},{"$f":"'1.Портфель кредитів'!I421","v":0},{"$f":"'1.Портфель кредитів'!W421","v":0},{"$f":"'1.Портфель кредитів'!Y421","v":""},4,"2018-06-01","_4_43252_2"]
[{"$f":"'1.Портфель кредитів'!H422","v":0},{"$f":"'1.Портфель кредитів'!D422","v":""},{"$f":"'1.Портфель кредитів'!#REF!","v":{"$error":"#REF!"}},{"$f":"'1.Портфель кредитів'!#REF!","v":{"$error":"#REF!"}},{"$f":"'1.Портфель кредитів'!#REF!","v":{"$error":"#REF!"}},{"$f":"'1.Портфель кредитів'!I422","v":0},{"$f":"'1.Портфель кредитів'!W422","v":0},{"$f":"'1.Портфель кредитів'!Y422","v":""},4,"2018-06-01","_4_43252_2"]
[{"$f":"'1.Портфель кредитів'!H423","v":0},{"$f":"'1.Портфель кредитів'!D423","v":""},{"$f":"'1.Портфель кредитів'!#REF!","v":{"$error":"#REF!"}},{"$f":"'1.Портфель кредитів'!#REF!","v":{"$error":"#REF!"}},{"$f":"'1.Портфель кредитів'!#REF!","v":{"$error":"#REF!"}},{"$f":"'1.Портфель кредитів'!I423","v":0},{"$f":"'1.Портфель кредитів'!W423","v":0},{"$f":"'1.Портфель кредитів'!Y423","v":""},4,"2018-06-01","_4_43252_2"]
[{"$f":"'1.Портфель кредитів'!H424","v":0},{"$f":"'1.Портфель кредитів'!D424","v":""},{"$f":"'1.Портфель кредитів'!#REF!","v":{"$error":"#REF!"}},{"$f":"'1.Портфель кредитів'!#REF!","v":{"$error":"#REF!"}},{"$f":"'1.Портфель кредитів'!#REF!","v":{"$error":"#REF!"}},{"$f":"'1.Портфель кредитів'!I424","v":0},{"$f":"'1.Портфель кредитів'!W424","v":0},{"$f":"'1.Портфель кредитів'!Y424","v":""},4,"2018-06-01","_4_43252_2"]
[{"$f":"'1.Портфель кредитів'!H425","v":0},{"$f":"'1.Портфель кредитів'!D425","v":""},{"$f":"'1.Портфель кредитів'!#REF!","v":{"$error":"#REF!"}},{"$f":"'1.Портфель кредитів'!#REF!","v":{"$error":"#REF!"}},{"$f":"'1.Портфель кредитів'!#REF!","v":{"$error":"#REF!"}},{"$f":"'1.Портфель кредитів'!I425","v":0},{"$f":"'1.Портфель кредитів'!W425","v":0},{"$f":"'1.Портфель кредитів'!Y425","v":""},4,"2018-06-01","_4_43252_2"]
[{"$f":"'1.Портфель кредитів'!H426","v":0},{"$f":"'1.Портфель кредитів'!D426","v":""},{"$f":"'1.Портфель кредитів'!#REF!","v":{"$error":"#REF!"}},{"$f":"'1.Портфель кредитів'!#REF!","v":{"$error":"#REF!"}},{"$f":"'1.Портфель кредитів'!#REF!","v":{"$error":"#REF!"}},{"$f":"'1.Портфель кредитів'!I426","v":0},{"$f":"'1.Портфель кредитів'!W426","v":0},{"$f":"'1.Портфель кредитів'!Y426","v":""},4,"2018-06-01","_4_43252_2"]
[{"$f":"'1.Портфель кредитів'!H427","v":0},{"$f":"'1.Портфель кредитів'!D427","v":""},{"$f":"'1.Портфель кредитів'!#REF!","v":{"$error":"#REF!"}},{"$f":"'1.Портфель кредитів'!#REF!","v":{"$error":"#REF!"}},{"$f":"'1.Портфель кредитів'!#REF!","v":{"$error":"#REF!"}},{"$f":"'1.Портфель кредитів'!I427","v":0},{"$f":"'1.Портфель кредитів'!W427","v":0},{"$f":"'1.Портфель кредитів'!Y427","v":""},4,"2018-06-01","_4_43252_2"]
[{"$f":"'1.Портфель кредитів'!H428","v":0},{"$f":"'1.Портфель кредитів'!D428","v":""},{"$f":"'1.Портфель кредитів'!#REF!","v":{"$error":"#REF!"}},{"$f":"'1.Портфель кредитів'!#REF!","v":{"$error":"#REF!"}},{"$f":"'1.Портфель кредитів'!#REF!","v":{"$error":"#REF!"}},{"$f":"'1.Портфель кредитів'!I428","v":0},{"$f":"'1.Портфель кредитів'!W428","v":0},{"$f":"'1.Портфель кредитів'!Y428","v":""},4,"2018-06-01","_4_43252_2"]
[{"$f":"'1.Портфель кредитів'!H429","v":0},{"$f":"'1.Портфель кредитів'!D429","v":""},{"$f":"'1.Портфель кредитів'!#REF!","v":{"$error":"#REF!"}},{"$f":"'1.Портфель кредитів'!#REF!","v":{"$error":"#REF!"}},{"$f":"'1.Портфель кредитів'!#REF!","v":{"$error":"#REF!"}},{"$f":"'1.Портфель кредитів'!I429","v":0},{"$f":"'1.Портфель кредитів'!W429","v":0},{"$f":"'1.Портфель кредитів'!Y429","v":""},4,"2018-06-01","_4_43252_2"]
[{"$f":"'1.Портфель кредитів'!H430","v":0},{"$f":"'1.Портфель кредитів'!D430","v":""},{"$f":"'1.Портфель кредитів'!#REF!","v":{"$error":"#REF!"}},{"$f":"'1.Портфель кредитів'!#REF!","v":{"$error":"#REF!"}},{"$f":"'1.Портфель кредитів'!#REF!","v":{"$error":"#REF!"}},{"$f":"'1.Портфель кредитів'!I430","v":0},{"$f":"'1.Портфель кредитів'!W430","v":0},{"$f":"'1.Портфель кредитів'!Y430","v":""},4,"2018-06-01","_4_43252_2"]
[{"$f":"'1.Портфель кредитів'!H431","v":0},{"$f":"'1.Портфель кредитів'!D431","v":""},{"$f":"'1.Портфель кредитів'!#REF!","v":{"$error":"#REF!"}},{"$f":"'1.Портфель кредитів'!#REF!","v":{"$error":"#REF!"}},{"$f":"'1.Портфель кредитів'!#REF!","v":{"$error":"#REF!"}},{"$f":"'1.Портфель кредитів'!I431","v":0},{"$f":"'1.Портфель кредитів'!W431","v":0},{"$f":"'1.Портфель кредитів'!Y431","v":""},4,"2018-06-01","_4_43252_2"]
[{"$f":"'1.Портфель кредитів'!H432","v":0},{"$f":"'1.Портфель кредитів'!D432","v":""},{"$f":"'1.Портфель кредитів'!#REF!","v":{"$error":"#REF!"}},{"$f":"'1.Портфель кредитів'!#REF!","v":{"$error":"#REF!"}},{"$f":"'1.Портфель кредитів'!#REF!","v":{"$error":"#REF!"}},{"$f":"'1.Портфель кредитів'!I432","v":0},{"$f":"'1.Портфель кредитів'!W432","v":0},{"$f":"'1.Портфель кредитів'!Y432","v":""},4,"2018-06-01","_4_43252_2"]
[{"$f":"'1.Портфель кредитів'!H433","v":0},{"$f":"'1.Портфель кредитів'!D433","v":""},{"$f":"'1.Портфель кредитів'!#REF!","v":{"$error":"#REF!"}},{"$f":"'1.Портфель кредитів'!#REF!","v":{"$error":"#REF!"}},{"$f":"'1.Портфель кредитів'!#REF!","v":{"$error":"#REF!"}},{"$f":"'1.Портфель кредитів'!I433","v":0},{"$f":"'1.Портфель кредитів'!W433","v":0},{"$f":"'1.Портфель кредитів'!Y433","v":""},4,"2018-06-01","_4_43252_2"]
[{"$f":"'1.Портфель кредитів'!H434","v":0},{"$f":"'1.Портфель кредитів'!D434","v":""},{"$f":"'1.Портфель кредитів'!#REF!","v":{"$error":"#REF!"}},{"$f":"'1.Портфель кредитів'!#REF!","v":{"$error":"#REF!"}},{"$f":"'1.Портфель кредитів'!#REF!","v":{"$error":"#REF!"}},{"$f":"'1.Портфель кредитів'!I434","v":0},{"$f":"'1.Портфель кредитів'!W434","v":0},{"$f":"'1.Портфель кредитів'!Y434","v":""},4,"2018-06-01","_4_43252_2"]
[{"$f":"'1.Портфель кредитів'!H435","v":0},{"$f":"'1.Портфель кредитів'!D435","v":""},{"$f":"'1.Портфель кредитів'!#REF!","v":{"$error":"#REF!"}},{"$f":"'1.Портфель кредитів'!#REF!","v":{"$error":"#REF!"}},{"$f":"'1.Портфель кредитів'!#REF!","v":{"$error":"#REF!"}},{"$f":"'1.Портфель кредитів'!I435","v":0},{"$f":"'1.Портфель кредитів'!W435","v":0},{"$f":"'1.Портфель кредитів'!Y435","v":""},4,"2018-06-01","_4_43252_2"]
[{"$f":"'1.Портфель кредитів'!H436","v":0},{"$f":"'1.Портфель кредитів'!D436","v":""},{"$f":"'1.Портфель кредитів'!#REF!","v":{"$error":"#REF!"}},{"$f":"'1.Портфель кредитів'!#REF!","v":{"$error":"#REF!"}},{"$f":"'1.Портфель кредитів'!#REF!","v":{"$error":"#REF!"}},{"$f":"'1.Портфель кредитів'!I436","v":0},{"$f":"'1.Портфель кредитів'!W436","v":0},{"$f":"'1.Портфель кредитів'!Y436","v":""},4,"2018-06-01","_4_43252_2"]
[{"$f":"'1.Портфель кредитів'!H437","v":0},{"$f":"'1.Портфель кредитів'!D437","v":""},{"$f":"'1.Портфель кредитів'!#REF!","v":{"$error":"#REF!"}},{"$f":"'1.Портфель кредитів'!#REF!","v":{"$error":"#REF!"}},{"$f":"'1.Портфель кредитів'!#REF!","v":{"$error":"#REF!"}},{"$f":"'1.Портфель кредитів'!I437","v":0},{"$f":"'1.Портфель кредитів'!W437","v":0},{"$f":"'1.Портфель кредитів'!Y437","v":""},4,"2018-06-01","_4_43252_2"]
[{"$f":"'1.Портфель кредитів'!H438","v":0},{"$f":"'1.Портфель кредитів'!D438","v":""},{"$f":"'1.Портфель кредитів'!#REF!","v":{"$error":"#REF!"}},{"$f":"'1.Портфель кредитів'!#REF!","v":{"$error":"#REF!"}},{"$f":"'1.Портфель кредитів'!#REF!","v":{"$error":"#REF!"}},{"$f":"'1.Портфель кредитів'!I438","v":0},{"$f":"'1.Портфель кредитів'!W438","v":0},{"$f":"'1.Портфель кредитів'!Y438","v":""},4,"2018-06-01","_4_43252_2"]
[{"$f":"'1.Портфель кредитів'!H439","v":0},{"$f":"'1.Портфель кредитів'!D439","v":""},{"$f":"'1.Портфель кредитів'!#REF!","v":{"$error":"#REF!"}},{"$f":"'1.Портфель кредитів'!#REF!","v":{"$error":"#REF!"}},{"$f":"'1.Портфель кредитів'!#REF!","v":{"$error":"#REF!"}},{"$f":"'1.Портфель кредитів'!I439","v":0},{"$f":"'1.Портфель кредитів'!W439","v":0},{"$f":"'1.Портфель кредитів'!Y439","v":""},4,"2018-06-01","_4_43252_2"]
[{"$f":"'1.Портфель кредитів'!H440","v":0},{"$f":"'1.Портфель кредитів'!D440","v":""},{"$f":"'1.Портфель кредитів'!#REF!","v":{"$error":"#REF!"}},{"$f":"'1.Портфель кредитів'!#REF!","v":{"$error":"#REF!"}},{"$f":"'1.Портфель кредитів'!#REF!","v":{"$error":"#REF!"}},{"$f":"'1.Портфель кредитів'!I440","v":0},{"$f":"'1.Портфель кредитів'!W440","v":0},{"$f":"'1.Портфель кредитів'!Y440","v":""},4,"2018-06-01","_4_43252_2"]
[{"$f":"'1.Портфель кредитів'!H441","v":0},{"$f":"'1.Портфель кредитів'!D441","v":""},{"$f":"'1.Портфель кредитів'!#REF!","v":{"$error":"#REF!"}},{"$f":"'1.Портфель кредитів'!#REF!","v":{"$error":"#REF!"}},{"$f":"'1.Портфель кредитів'!#REF!","v":{"$error":"#REF!"}},{"$f":"'1.Портфель кредитів'!I441","v":0},{"$f":"'1.Портфель кредитів'!W441","v":0},{"$f":"'1.Портфель кредитів'!Y441","v":""},4,"2018-06-01","_4_43252_2"]
[{"$f":"'1.Портфель кредитів'!H442","v":0},{"$f":"'1.Портфель кредитів'!D442","v":""},{"$f":"'1.Портфель кредитів'!#REF!","v":{"$error":"#REF!"}},{"$f":"'1.Портфель кредитів'!#REF!","v":{"$error":"#REF!"}},{"$f":"'1.Портфель кредитів'!#REF!","v":{"$error":"#REF!"}},{"$f":"'1.Портфель кредитів'!I442","v":0},{"$f":"'1.Портфель кредитів'!W442","v":0},{"$f":"'1.Портфель кредитів'!Y442","v":""},4,"2018-06-01","_4_43252_2"]
[{"$f":"'1.Портфель кредитів'!H443","v":0},{"$f":"'1.Портфель кредитів'!D443","v":""},{"$f":"'1.Портфель кредитів'!#REF!","v":{"$error":"#REF!"}},{"$f":"'1.Портфель кредитів'!#REF!","v":{"$error":"#REF!"}},{"$f":"'1.Портфель кредитів'!#REF!","v":{"$error":"#REF!"}},{"$f":"'1.Портфель кредитів'!I443","v":0},{"$f":"'1.Портфель кредитів'!W443","v":0},{"$f":"'1.Портфель кредитів'!Y443","v":""},4,"2018-06-01","_4_43252_2"]
[{"$f":"'1.Портфель кредитів'!H444","v":0},{"$f":"'1.Портфель кредитів'!D444","v":""},{"$f":"'1.Портфель кредитів'!#REF!","v":{"$error":"#REF!"}},{"$f":"'1.Портфель кредитів'!#REF!","v":{"$error":"#REF!"}},{"$f":"'1.Портфель кредитів'!#REF!","v":{"$error":"#REF!"}},{"$f":"'1.Портфель кредитів'!I444","v":0},{"$f":"'1.Портфель кредитів'!W444","v":0},{"$f":"'1.Портфель кредитів'!Y444","v":""},4,"2018-06-01","_4_43252_2"]
[{"$f":"'1.Портфель кредитів'!H445","v":0},{"$f":"'1.Портфель кредитів'!D445","v":""},{"$f":"'1.Портфель кредитів'!#REF!","v":{"$error":"#REF!"}},{"$f":"'1.Портфель кредитів'!#REF!","v":{"$error":"#REF!"}},{"$f":"'1.Портфель кредитів'!#REF!","v":{"$error":"#REF!"}},{"$f":"'1.Портфель кредитів'!I445","v":0},{"$f":"'1.Портфель кредитів'!W445","v":0},{"$f":"'1.Портфель кредитів'!Y445","v":""},4,"2018-06-01","_4_43252_2"]
[{"$f":"'1.Портфель кредитів'!H446","v":0},{"$f":"'1.Портфель кредитів'!D446","v":""},{"$f":"'1.Портфель кредитів'!#REF!","v":{"$error":"#REF!"}},{"$f":"'1.Портфель кредитів'!#REF!","v":{"$error":"#REF!"}},{"$f":"'1.Портфель кредитів'!#REF!","v":{"$error":"#REF!"}},{"$f":"'1.Портфель кредитів'!I446","v":0},{"$f":"'1.Портфель кредитів'!W446","v":0},{"$f":"'1.Портфель кредитів'!Y446","v":""},4,"2018-06-01","_4_43252_2"]
[{"$f":"'1.Портфель кредитів'!H447","v":0},{"$f":"'1.Портфель кредитів'!D447","v":""},{"$f":"'1.Портфель кредитів'!#REF!","v":{"$error":"#REF!"}},{"$f":"'1.Портфель кредитів'!#REF!","v":{"$error":"#REF!"}},{"$f":"'1.Портфель кредитів'!#REF!","v":{"$error":"#REF!"}},{"$f":"'1.Портфель кредитів'!I447","v":0},{"$f":"'1.Портфель кредитів'!W447","v":0},{"$f":"'1.Портфель кредитів'!Y447","v":""},4,"2018-06-01","_4_43252_2"]
[{"$f":"'1.Портфель кредитів'!H448","v":0},{"$f":"'1.Портфель кредитів'!D448","v":""},{"$f":"'1.Портфель кредитів'!#REF!","v":{"$error":"#REF!"}},{"$f":"'1.Портфель кредитів'!#REF!","v":{"$error":"#REF!"}},{"$f":"'1.Портфель кредитів'!#REF!","v":{"$error":"#REF!"}},{"$f":"'1.Портфель кредитів'!I448","v":0},{"$f":"'1.Портфель кредитів'!W448","v":0},{"$f":"'1.Портфель кредитів'!Y448","v":""},4,"2018-06-01","_4_43252_2"]
[{"$f":"'1.Портфель кредитів'!H449","v":0},{"$f":"'1.Портфель кредитів'!D449","v":""},{"$f":"'1.Портфель кредитів'!#REF!","v":{"$error":"#REF!"}},{"$f":"'1.Портфель кредитів'!#REF!","v":{"$error":"#REF!"}},{"$f":"'1.Портфель кредитів'!#REF!","v":{"$error":"#REF!"}},{"$f":"'1.Портфель кредитів'!I449","v":0},{"$f":"'1.Портфель кредитів'!W449","v":0},{"$f":"'1.Портфель кредитів'!Y449","v":""},4,"2018-06-01","_4_43252_2"]
[{"$f":"'1.Портфель кредитів'!H450","v":0},{"$f":"'1.Портфель кредитів'!D450","v":""},{"$f":"'1.Портфель кредитів'!#REF!","v":{"$error":"#REF!"}},{"$f":"'1.Портфель кредитів'!#REF!","v":{"$error":"#REF!"}},{"$f":"'1.Портфель кредитів'!#REF!","v":{"$error":"#REF!"}},{"$f":"'1.Портфель кредитів'!I450","v":0},{"$f":"'1.Портфель кредитів'!W450","v":0},{"$f":"'1.Портфель кредитів'!Y450","v":""},4,"2018-06-01","_4_43252_2"]
[{"$f":"'1.Портфель кредитів'!H451","v":0},{"$f":"'1.Портфель кредитів'!D451","v":""},{"$f":"'1.Портфель кредитів'!#REF!","v":{"$error":"#REF!"}},{"$f":"'1.Портфель кредитів'!#REF!","v":{"$error":"#REF!"}},{"$f":"'1.Портфель кредитів'!#REF!","v":{"$error":"#REF!"}},{"$f":"'1.Портфель кредитів'!I451","v":0},{"$f":"'1.Портфель кредитів'!W451","v":0},{"$f":"'1.Портфель кредитів'!Y451","v":""},4,"2018-06-01","_4_43252_2"]
[{"$f":"'1.Портфель кредитів'!H452","v":0},{"$f":"'1.Портфель кредитів'!D452","v":""},{"$f":"'1.Портфель кредитів'!#REF!","v":{"$error":"#REF!"}},{"$f":"'1.Портфель кредитів'!#REF!","v":{"$error":"#REF!"}},{"$f":"'1.Портфель кредитів'!#REF!","v":{"$error":"#REF!"}},{"$f":"'1.Портфель кредитів'!I452","v":0},{"$f":"'1.Портфель кредитів'!W452","v":0},{"$f":"'1.Портфель кредитів'!Y452","v":""},4,"2018-06-01","_4_43252_2"]
[{"$f":"'1.Портфель кредитів'!H453","v":0},{"$f":"'1.Портфель кредитів'!D453","v":""},{"$f":"'1.Портфель кредитів'!#REF!","v":{"$error":"#REF!"}},{"$f":"'1.Портфель кредитів'!#REF!","v":{"$error":"#REF!"}},{"$f":"'1.Портфель кредитів'!#REF!","v":{"$error":"#REF!"}},{"$f":"'1.Портфель кредитів'!I453","v":0},{"$f":"'1.Портфель кредитів'!W453","v":0},{"$f":"'1.Портфель кредитів'!Y453","v":""},4,"2018-06-01","_4_43252_2"]
[{"$f":"'1.Портфель кредитів'!H454","v":0},{"$f":"'1.Портфель кредитів'!D454","v":""},{"$f":"'1.Портфель кредитів'!#REF!","v":{"$error":"#REF!"}},{"$f":"'1.Портфель кредитів'!#REF!","v":{"$error":"#REF!"}},{"$f":"'1.Портфель кредитів'!#REF!","v":{"$error":"#REF!"}},{"$f":"'1.Портфель кредитів'!I454","v":0},{"$f":"'1.Портфель кредитів'!W454","v":0},{"$f":"'1.Портфель кредитів'!Y454","v":""},4,"2018-06-01","_4_43252_2"]
[{"$f":"'1.Портфель кредитів'!H455","v":0},{"$f":"'1.Портфель кредитів'!D455","v":""},{"$f":"'1.Портфель кредитів'!#REF!","v":{"$error":"#REF!"}},{"$f":"'1.Портфель кредитів'!#REF!","v":{"$error":"#REF!"}},{"$f":"'1.Портфель кредитів'!#REF!","v":{"$error":"#REF!"}},{"$f":"'1.Портфель кредитів'!I455","v":0},{"$f":"'1.Портфель кредитів'!W455","v":0},{"$f":"'1.Портфель кредитів'!Y455","v":""},4,"2018-06-01","_4_43252_2"]
[{"$f":"'1.Портфель кредитів'!H456","v":0},{"$f":"'1.Портфель кредитів'!D456","v":""},{"$f":"'1.Портфель кредитів'!#REF!","v":{"$error":"#REF!"}},{"$f":"'1.Портфель кредитів'!#REF!","v":{"$error":"#REF!"}},{"$f":"'1.Портфель кредитів'!#REF!","v":{"$error":"#REF!"}},{"$f":"'1.Портфель кредитів'!I456","v":0},{"$f":"'1.Портфель кредитів'!W456","v":0},{"$f":"'1.Портфель кредитів'!Y456","v":""},4,"2018-06-01","_4_43252_2"]
[{"$f":"'1.Портфель кредитів'!H457","v":0},{"$f":"'1.Портфель кредитів'!D457","v":""},{"$f":"'1.Портфель кредитів'!#REF!","v":{"$error":"#REF!"}},{"$f":"'1.Портфель кредитів'!#REF!","v":{"$error":"#REF!"}},{"$f":"'1.Портфель кредитів'!#REF!","v":{"$error":"#REF!"}},{"$f":"'1.Портфель кредитів'!I457","v":0},{"$f":"'1.Портфель кредитів'!W457","v":0},{"$f":"'1.Портфель кредитів'!Y457","v":""},4,"2018-06-01","_4_43252_2"]
[{"$f":"'1.Портфель кредитів'!H458","v":0},{"$f":"'1.Портфель кредитів'!D458","v":""},{"$f":"'1.Портфель кредитів'!#REF!","v":{"$error":"#REF!"}},{"$f":"'1.Портфель кредитів'!#REF!","v":{"$error":"#REF!"}},{"$f":"'1.Портфель кредитів'!#REF!","v":{"$error":"#REF!"}},{"$f":"'1.Портфель кредитів'!I458","v":0},{"$f":"'1.Портфель кредитів'!W458","v":0},{"$f":"'1.Портфель кредитів'!Y458","v":""},{"$f":"$E$1","v":4},{"$f":"$E$2","v":"2018-06-01"},{"$f":"B454&\"_\"&I454&\"_\"&J454&\"_\"&$E$3","v":"_4_43252_2"}]
[{"$f":"'1.Портфель кредитів'!H459","v":0},{"$f":"'1.Портфель кредитів'!D459","v":""},{"$f":"'1.Портфель кредитів'!#REF!","v":{"$error":"#REF!"}},{"$f":"'1.Портфель кредитів'!#REF!","v":{"$error":"#REF!"}},{"$f":"'1.Портфель кредитів'!#REF!","v":{"$error":"#REF!"}},{"$f":"'1.Портфель кредитів'!I459","v":0},{"$f":"'1.Портфель кредитів'!W459","v":0},{"$f":"'1.Портфель кредитів'!Y459","v":""},4,"2018-06-01","_4_43252_2"]
[{"$f":"'1.Портфель кредитів'!H460","v":0},{"$f":"'1.Портфель кредитів'!D460","v":""},{"$f":"'1.Портфель кредитів'!#REF!","v":{"$error":"#REF!"}},{"$f":"'1.Портфель кредитів'!#REF!","v":{"$error":"#REF!"}},{"$f":"'1.Портфель кредитів'!#REF!","v":{"$error":"#REF!"}},{"$f":"'1.Портфель кредитів'!I460","v":0},{"$f":"'1.Портфель кредитів'!W460","v":0},{"$f":"'1.Портфель кредитів'!Y460","v":""},4,"2018-06-01","_4_43252_2"]
[{"$f":"'1.Портфель кредитів'!H461","v":0},{"$f":"'1.Портфель кредитів'!D461","v":""},{"$f":"'1.Портфель кредитів'!#REF!","v":{"$error":"#REF!"}},{"$f":"'1.Портфель кредитів'!#REF!","v":{"$error":"#REF!"}},{"$f":"'1.Портфель кредитів'!#REF!","v":{"$error":"#REF!"}},{"$f":"'1.Портфель кредитів'!I461","v":0},{"$f":"'1.Портфель кредитів'!W461","v":0},{"$f":"'1.Портфель кредитів'!Y461","v":""},4,"2018-06-01","_4_43252_2"]
[{"$f":"'1.Портфель кредитів'!H462","v":0},{"$f":"'1.Портфель кредитів'!D462","v":""},{"$f":"'1.Портфель кредитів'!#REF!","v":{"$error":"#REF!"}},{"$f":"'1.Портфель кредитів'!#REF!","v":{"$error":"#REF!"}},{"$f":"'1.Портфель кредитів'!#REF!","v":{"$error":"#REF!"}},{"$f":"'1.Портфель кредитів'!I462","v":0},{"$f":"'1.Портфель кредитів'!W462","v":0},{"$f":"'1.Портфель кредитів'!Y462","v":""},4,"2018-06-01","_4_43252_2"]
[{"$f":"'1.Портфель кредитів'!H463","v":0},{"$f":"'1.Портфель кредитів'!D463","v":""},{"$f":"'1.Портфель кредитів'!#REF!","v":{"$error":"#REF!"}},{"$f":"'1.Портфель кредитів'!#REF!","v":{"$error":"#REF!"}},{"$f":"'1.Портфель кредитів'!#REF!","v":{"$error":"#REF!"}},{"$f":"'1.Портфель кредитів'!I463","v":0},{"$f":"'1.Портфель кредитів'!W463","v":0},{"$f":"'1.Портфель кредитів'!Y463","v":""},4,"2018-06-01","_4_43252_2"]
[{"$f":"'1.Портфель кредитів'!H464","v":0},{"$f":"'1.Портфель кредитів'!D464","v":""},{"$f":"'1.Портфель кредитів'!#REF!","v":{"$error":"#REF!"}},{"$f":"'1.Портфель кредитів'!#REF!","v":{"$error":"#REF!"}},{"$f":"'1.Портфель кредитів'!#REF!","v":{"$error":"#REF!"}},{"$f":"'1.Портфель кредитів'!I464","v":0},{"$f":"'1.Портфель кредитів'!W464","v":0},{"$f":"'1.Портфель кредитів'!Y464","v":""},4,"2018-06-01","_4_43252_2"]
[{"$f":"'1.Портфель кредитів'!H465","v":0},{"$f":"'1.Портфель кредитів'!D465","v":""},{"$f":"'1.Портфель кредитів'!#REF!","v":{"$error":"#REF!"}},{"$f":"'1.Портфель кредитів'!#REF!","v":{"$error":"#REF!"}},{"$f":"'1.Портфель кредитів'!#REF!","v":{"$error":"#REF!"}},{"$f":"'1.Портфель кредитів'!I465","v":0},{"$f":"'1.Портфель кредитів'!W465","v":0},{"$f":"'1.Портфель кредитів'!Y465","v":""},4,"2018-06-01","_4_43252_2"]
[{"$f":"'1.Портфель кредитів'!H466","v":0},{"$f":"'1.Портфель кредитів'!D466","v":""},{"$f":"'1.Портфель кредитів'!#REF!","v":{"$error":"#REF!"}},{"$f":"'1.Портфель кредитів'!#REF!","v":{"$error":"#REF!"}},{"$f":"'1.Портфель кредитів'!#REF!","v":{"$error":"#REF!"}},{"$f":"'1.Портфель кредитів'!I466","v":0},{"$f":"'1.Портфель кредитів'!W466","v":0},{"$f":"'1.Портфель кредитів'!Y466","v":""},4,"2018-06-01","_4_43252_2"]
[{"$f":"'1.Портфель кредитів'!H467","v":0},{"$f":"'1.Портфель кредитів'!D467","v":""},{"$f":"'1.Портфель кредитів'!#REF!","v":{"$error":"#REF!"}},{"$f":"'1.Портфель кредитів'!#REF!","v":{"$error":"#REF!"}},{"$f":"'1.Портфель кредитів'!#REF!","v":{"$error":"#REF!"}},{"$f":"'1.Портфель кредитів'!I467","v":0},{"$f":"'1.Портфель кредитів'!W467","v":0},{"$f":"'1.Портфель кредитів'!Y467","v":""},4,"2018-06-01","_4_43252_2"]
[{"$f":"'1.Портфель кредитів'!H468","v":0},{"$f":"'1.Портфель кредитів'!D468","v":""},{"$f":"'1.Портфель кредитів'!#REF!","v":{"$error":"#REF!"}},{"$f":"'1.Портфель кредитів'!#REF!","v":{"$error":"#REF!"}},{"$f":"'1.Портфель кредитів'!#REF!","v":{"$error":"#REF!"}},{"$f":"'1.Портфель кредитів'!I468","v":0},{"$f":"'1.Портфель кредитів'!W468","v":0},{"$f":"'1.Портфель кредитів'!Y468","v":""},4,"2018-06-01","_4_43252_2"]
[{"$f":"'1.Портфель кредитів'!H469","v":0},{"$f":"'1.Портфель кредитів'!D469","v":""},{"$f":"'1.Портфель кредитів'!#REF!","v":{"$error":"#REF!"}},{"$f":"'1.Портфель кредитів'!#REF!","v":{"$error":"#REF!"}},{"$f":"'1.Портфель кредитів'!#REF!","v":{"$error":"#REF!"}},{"$f":"'1.Портфель кредитів'!I469","v":0},{"$f":"'1.Портфель кредитів'!W469","v":0},{"$f":"'1.Портфель кредитів'!Y469","v":""},4,"2018-06-01","_4_43252_2"]
[{"$f":"'1.Портфель кредитів'!H470","v":0},{"$f":"'1.Портфель кредитів'!D470","v":""},{"$f":"'1.Портфель кредитів'!#REF!","v":{"$error":"#REF!"}},{"$f":"'1.Портфель кредитів'!#REF!","v":{"$error":"#REF!"}},{"$f":"'1.Портфель кредитів'!#REF!","v":{"$error":"#REF!"}},{"$f":"'1.Портфель кредитів'!I470","v":0},{"$f":"'1.Портфель кредитів'!W470","v":0},{"$f":"'1.Портфель кредитів'!Y470","v":""},4,"2018-06-01","_4_43252_2"]
[{"$f":"'1.Портфель кредитів'!H471","v":0},{"$f":"'1.Портфель кредитів'!D471","v":""},{"$f":"'1.Портфель кредитів'!#REF!","v":{"$error":"#REF!"}},{"$f":"'1.Портфель кредитів'!#REF!","v":{"$error":"#REF!"}},{"$f":"'1.Портфель кредитів'!#REF!","v":{"$error":"#REF!"}},{"$f":"'1.Портфель кредитів'!I471","v":0},{"$f":"'1.Портфель кредитів'!W471","v":0},{"$f":"'1.Портфель кредитів'!Y471","v":""},4,"2018-06-01","_4_43252_2"]
[{"$f":"'1.Портфель кредитів'!H472","v":0},{"$f":"'1.Портфель кредитів'!D472","v":""},{"$f":"'1.Портфель кредитів'!#REF!","v":{"$error":"#REF!"}},{"$f":"'1.Портфель кредитів'!#REF!","v":{"$error":"#REF!"}},{"$f":"'1.Портфель кредитів'!#REF!","v":{"$error":"#REF!"}},{"$f":"'1.Портфель кредитів'!I472","v":0},{"$f":"'1.Портфель кредитів'!W472","v":0},{"$f":"'1.Портфель кредитів'!Y472","v":""},4,"2018-06-01","_4_43252_2"]
[{"$f":"'1.Портфель кредитів'!H473","v":0},{"$f":"'1.Портфель кредитів'!D473","v":""},{"$f":"'1.Портфель кредитів'!#REF!","v":{"$error":"#REF!"}},{"$f":"'1.Портфель кредитів'!#REF!","v":{"$error":"#REF!"}},{"$f":"'1.Портфель кредитів'!#REF!","v":{"$error":"#REF!"}},{"$f":"'1.Портфель кредитів'!I473","v":0},{"$f":"'1.Портфель кредитів'!W473","v":0},{"$f":"'1.Портфель кредитів'!Y473","v":""},4,"2018-06-01","_4_43252_2"]
[{"$f":"'1.Портфель кредитів'!H474","v":0},{"$f":"'1.Портфель кредитів'!D474","v":""},{"$f":"'1.Портфель кредитів'!#REF!","v":{"$error":"#REF!"}},{"$f":"'1.Портфель кредитів'!#REF!","v":{"$error":"#REF!"}},{"$f":"'1.Портфель кредитів'!#REF!","v":{"$error":"#REF!"}},{"$f":"'1.Портфель кредитів'!I474","v":0},{"$f":"'1.Портфель кредитів'!W474","v":0},{"$f":"'1.Портфель кредитів'!Y474","v":""},4,"2018-06-01","_4_43252_2"]
[{"$f":"'1.Портфель кредитів'!H475","v":0},{"$f":"'1.Портфель кредитів'!D475","v":""},{"$f":"'1.Портфель кредитів'!#REF!","v":{"$error":"#REF!"}},{"$f":"'1.Портфель кредитів'!#REF!","v":{"$error":"#REF!"}},{"$f":"'1.Портфель кредитів'!#REF!","v":{"$error":"#REF!"}},{"$f":"'1.Портфель кредитів'!I475","v":0},{"$f":"'1.Портфель кредитів'!W475","v":0},{"$f":"'1.Портфель кредитів'!Y475","v":""},4,"2018-06-01","_4_43252_2"]
[{"$f":"'1.Портфель кредитів'!H476","v":0},{"$f":"'1.Портфель кредитів'!D476","v":""},{"$f":"'1.Портфель кредитів'!#REF!","v":{"$error":"#REF!"}},{"$f":"'1.Портфель кредитів'!#REF!","v":{"$error":"#REF!"}},{"$f":"'1.Портфель кредитів'!#REF!","v":{"$error":"#REF!"}},{"$f":"'1.Портфель кредитів'!I476","v":0},{"$f":"'1.Портфель кредитів'!W476","v":0},{"$f":"'1.Портфель кредитів'!Y476","v":""},4,"2018-06-01","_4_43252_2"]
[{"$f":"'1.Портфель кредитів'!H477","v":0},{"$f":"'1.Портфель кредитів'!D477","v":""},{"$f":"'1.Портфель кредитів'!#REF!","v":{"$error":"#REF!"}},{"$f":"'1.Портфель кредитів'!#REF!","v":{"$error":"#REF!"}},{"$f":"'1.Портфель кредитів'!#REF!","v":{"$error":"#REF!"}},{"$f":"'1.Портфель кредитів'!I477","v":0},{"$f":"'1.Портфель кредитів'!W477","v":0},{"$f":"'1.Портфель кредитів'!Y477","v":""},4,"2018-06-01","_4_43252_2"]
[{"$f":"'1.Портфель кредитів'!H478","v":0},{"$f":"'1.Портфель кредитів'!D478","v":""},{"$f":"'1.Портфель кредитів'!#REF!","v":{"$error":"#REF!"}},{"$f":"'1.Портфель кредитів'!#REF!","v":{"$error":"#REF!"}},{"$f":"'1.Портфель кредитів'!#REF!","v":{"$error":"#REF!"}},{"$f":"'1.Портфель кредитів'!I478","v":0},{"$f":"'1.Портфель кредитів'!W478","v":0},{"$f":"'1.Портфель кредитів'!Y478","v":""},4,"2018-06-01","_4_43252_2"]
[{"$f":"'1.Портфель кредитів'!H479","v":0},{"$f":"'1.Портфель кредитів'!D479","v":""},{"$f":"'1.Портфель кредитів'!#REF!","v":{"$error":"#REF!"}},{"$f":"'1.Портфель кредитів'!#REF!","v":{"$error":"#REF!"}},{"$f":"'1.Портфель кредитів'!#REF!","v":{"$error":"#REF!"}},{"$f":"'1.Портфель кредитів'!I479","v":0},{"$f":"'1.Портфель кредитів'!W479","v":0},{"$f":"'1.Портфель кредитів'!Y479","v":""},4,"2018-06-01","_4_43252_2"]
[{"$f":"'1.Портфель кредитів'!H480","v":0},{"$f":"'1.Портфель кредитів'!D480","v":""},{"$f":"'1.Портфель кредитів'!#REF!","v":{"$error":"#REF!"}},{"$f":"'1.Портфель кредитів'!#REF!","v":{"$error":"#REF!"}},{"$f":"'1.Портфель кредитів'!#REF!","v":{"$error":"#REF!"}},{"$f":"'1.Портфель кредитів'!I480","v":0},{"$f":"'1.Портфель кредитів'!W480","v":0},{"$f":"'1.Портфель кредитів'!Y480","v":""},4,"2018-06-01","_4_43252_2"]
[{"$f":"'1.Портфель кредитів'!H481","v":0},{"$f":"'1.Портфель кредитів'!D481","v":""},{"$f":"'1.Портфель кредитів'!#REF!","v":{"$error":"#REF!"}},{"$f":"'1.Портфель кредитів'!#REF!","v":{"$error":"#REF!"}},{"$f":"'1.Портфель кредитів'!#REF!","v":{"$error":"#REF!"}},{"$f":"'1.Портфель кредитів'!I481","v":0},{"$f":"'1.Портфель кредитів'!W481","v":0},{"$f":"'1.Портфель кредитів'!Y481","v":""},4,"2018-06-01","_4_43252_2"]
[{"$f":"'1.Портфель кредитів'!H482","v":0},{"$f":"'1.Портфель кредитів'!D482","v":""},{"$f":"'1.Портфель кредитів'!#REF!","v":{"$error":"#REF!"}},{"$f":"'1.Портфель кредитів'!#REF!","v":{"$error":"#REF!"}},{"$f":"'1.Портфель кредитів'!#REF!","v":{"$error":"#REF!"}},{"$f":"'1.Портфель кредитів'!I482","v":0},{"$f":"'1.Портфель кредитів'!W482","v":0},{"$f":"'1.Портфель кредитів'!Y482","v":""},4,"2018-06-01","_4_43252_2"]
[{"$f":"'1.Портфель кредитів'!H483","v":0},{"$f":"'1.Портфель кредитів'!D483","v":""},{"$f":"'1.Портфель кредитів'!#REF!","v":{"$error":"#REF!"}},{"$f":"'1.Портфель кредитів'!#REF!","v":{"$error":"#REF!"}},{"$f":"'1.Портфель кредитів'!#REF!","v":{"$error":"#REF!"}},{"$f":"'1.Портфель кредитів'!I483","v":0},{"$f":"'1.Портфель кредитів'!W483","v":0},{"$f":"'1.Портфель кредитів'!Y483","v":""},4,"2018-06-01","_4_43252_2"]
[{"$f":"'1.Портфель кредитів'!H484","v":0},{"$f":"'1.Портфель кредитів'!D484","v":""},{"$f":"'1.Портфель кредитів'!#REF!","v":{"$error":"#REF!"}},{"$f":"'1.Портфель кредитів'!#REF!","v":{"$error":"#REF!"}},{"$f":"'1.Портфель кредитів'!#REF!","v":{"$error":"#REF!"}},{"$f":"'1.Портфель кредитів'!I484","v":0},{"$f":"'1.Портфель кредитів'!W484","v":0},{"$f":"'1.Портфель кредитів'!Y484","v":""},4,"2018-06-01","_4_43252_2"]
[{"$f":"'1.Портфель кредитів'!H485","v":0},{"$f":"'1.Портфель кредитів'!D485","v":""},{"$f":"'1.Портфель кредитів'!#REF!","v":{"$error":"#REF!"}},{"$f":"'1.Портфель кредитів'!#REF!","v":{"$error":"#REF!"}},{"$f":"'1.Портфель кредитів'!#REF!","v":{"$error":"#REF!"}},{"$f":"'1.Портфель кредитів'!I485","v":0},{"$f":"'1.Портфель кредитів'!W485","v":0},{"$f":"'1.Портфель кредитів'!Y485","v":""},4,"2018-06-01","_4_43252_2"]
[{"$f":"'1.Портфель кредитів'!H486","v":0},{"$f":"'1.Портфель кредитів'!D486","v":""},{"$f":"'1.Портфель кредитів'!#REF!","v":{"$error":"#REF!"}},{"$f":"'1.Портфель кредитів'!#REF!","v":{"$error":"#REF!"}},{"$f":"'1.Портфель кредитів'!#REF!","v":{"$error":"#REF!"}},{"$f":"'1.Портфель кредитів'!I486","v":0},{"$f":"'1.Портфель кредитів'!W486","v":0},{"$f":"'1.Портфель кредитів'!Y486","v":""},4,"2018-06-01","_4_43252_2"]
[{"$f":"'1.Портфель кредитів'!H487","v":0},{"$f":"'1.Портфель кредитів'!D487","v":""},{"$f":"'1.Портфель кредитів'!#REF!","v":{"$error":"#REF!"}},{"$f":"'1.Портфель кредитів'!#REF!","v":{"$error":"#REF!"}},{"$f":"'1.Портфель кредитів'!#REF!","v":{"$error":"#REF!"}},{"$f":"'1.Портфель кредитів'!I487","v":0},{"$f":"'1.Портфель кредитів'!W487","v":0},{"$f":"'1.Портфель кредитів'!Y487","v":""},4,"2018-06-01","_4_43252_2"]
[{"$f":"'1.Портфель кредитів'!H488","v":0},{"$f":"'1.Портфель кредитів'!D488","v":""},{"$f":"'1.Портфель кредитів'!#REF!","v":{"$error":"#REF!"}},{"$f":"'1.Портфель кредитів'!#REF!","v":{"$error":"#REF!"}},{"$f":"'1.Портфель кредитів'!#REF!","v":{"$error":"#REF!"}},{"$f":"'1.Портфель кредитів'!I488","v":0},{"$f":"'1.Портфель кредитів'!W488","v":0},{"$f":"'1.Портфель кредитів'!Y488","v":""},4,"2018-06-01","_4_43252_2"]
[{"$f":"'1.Портфель кредитів'!H489","v":0},{"$f":"'1.Портфель кредитів'!D489","v":""},{"$f":"'1.Портфель кредитів'!#REF!","v":{"$error":"#REF!"}},{"$f":"'1.Портфель кредитів'!#REF!","v":{"$error":"#REF!"}},{"$f":"'1.Портфель кредитів'!#REF!","v":{"$error":"#REF!"}},{"$f":"'1.Портфель кредитів'!I489","v":0},{"$f":"'1.Портфель кредитів'!W489","v":0},{"$f":"'1.Портфель кредитів'!Y489","v":""},4,"2018-06-01","_4_43252_2"]
[{"$f":"'1.Портфель кредитів'!H490","v":0},{"$f":"'1.Портфель кредитів'!D490","v":""},{"$f":"'1.Портфель кредитів'!#REF!","v":{"$error":"#REF!"}},{"$f":"'1.Портфель кредитів'!#REF!","v":{"$error":"#REF!"}},{"$f":"'1.Портфель кредитів'!#REF!","v":{"$error":"#REF!"}},{"$f":"'1.Портфель кредитів'!I490","v":0},{"$f":"'1.Портфель кредитів'!W490","v":0},{"$f":"'1.Портфель кредитів'!Y490","v":""},4,"2018-06-01","_4_43252_2"]
[{"$f":"'1.Портфель кредитів'!H491","v":0},{"$f":"'1.Портфель кредитів'!D491","v":""},{"$f":"'1.Портфель кредитів'!#REF!","v":{"$error":"#REF!"}},{"$f":"'1.Портфель кредитів'!#REF!","v":{"$error":"#REF!"}},{"$f":"'1.Портфель кредитів'!#REF!","v":{"$error":"#REF!"}},{"$f":"'1.Портфель кредитів'!I491","v":0},{"$f":"'1.Портфель кредитів'!W491","v":0},{"$f":"'1.Портфель кредитів'!Y491","v":""},4,"2018-06-01","_4_43252_2"]
[{"$f":"'1.Портфель кредитів'!H492","v":0},{"$f":"'1.Портфель кредитів'!D492","v":""},{"$f":"'1.Портфель кредитів'!#REF!","v":{"$error":"#REF!"}},{"$f":"'1.Портфель кредитів'!#REF!","v":{"$error":"#REF!"}},{"$f":"'1.Портфель кредитів'!#REF!","v":{"$error":"#REF!"}},{"$f":"'1.Портфель кредитів'!I492","v":0},{"$f":"'1.Портфель кредитів'!W492","v":0},{"$f":"'1.Портфель кредитів'!Y492","v":""},4,"2018-06-01","_4_43252_2"]
[{"$f":"'1.Портфель кредитів'!H493","v":0},{"$f":"'1.Портфель кредитів'!D493","v":""},{"$f":"'1.Портфель кредитів'!#REF!","v":{"$error":"#REF!"}},{"$f":"'1.Портфель кредитів'!#REF!","v":{"$error":"#REF!"}},{"$f":"'1.Портфель кредитів'!#REF!","v":{"$error":"#REF!"}},{"$f":"'1.Портфель кредитів'!I493","v":0},{"$f":"'1.Портфель кредитів'!W493","v":0},{"$f":"'1.Портфель кредитів'!Y493","v":""},4,"2018-06-01","_4_43252_2"]
[{"$f":"'1.Портфель кредитів'!H494","v":0},{"$f":"'1.Портфель кредитів'!D494","v":""},{"$f":"'1.Портфель кредитів'!#REF!","v":{"$error":"#REF!"}},{"$f":"'1.Портфель кредитів'!#REF!","v":{"$error":"#REF!"}},{"$f":"'1.Портфель кредитів'!#REF!","v":{"$error":"#REF!"}},{"$f":"'1.Портфель кредитів'!I494","v":0},{"$f":"'1.Портфель кредитів'!W494","v":0},{"$f":"'1.Портфель кредитів'!Y494","v":""},4,"2018-06-01","_4_43252_2"]
[{"$f":"'1.Портфель кредитів'!H495","v":0},{"$f":"'1.Портфель кредитів'!D495","v":""},{"$f":"'1.Портфель кредитів'!#REF!","v":{"$error":"#REF!"}},{"$f":"'1.Портфель кредитів'!#REF!","v":{"$error":"#REF!"}},{"$f":"'1.Портфель кредитів'!#REF!","v":{"$error":"#REF!"}},{"$f":"'1.Портфель кредитів'!I495","v":0},{"$f":"'1.Портфель кредитів'!W495","v":0},{"$f":"'1.Портфель кредитів'!Y495","v":""},4,"2018-06-01","_4_43252_2"]
[{"$f":"'1.Портфель кредитів'!H496","v":0},{"$f":"'1.Портфель кредитів'!D496","v":""},{"$f":"'1.Портфель кредитів'!#REF!","v":{"$error":"#REF!"}},{"$f":"'1.Портфель кредитів'!#REF!","v":{"$error":"#REF!"}},{"$f":"'1.Портфель кредитів'!#REF!","v":{"$error":"#REF!"}},{"$f":"'1.Портфель кредитів'!I496","v":0},{"$f":"'1.Портфель кредитів'!W496","v":0},{"$f":"'1.Портфель кредитів'!Y496","v":""},4,"2018-06-01","_4_43252_2"]
[{"$f":"'1.Портфель кредитів'!H497","v":0},{"$f":"'1.Портфель кредитів'!D497","v":""},{"$f":"'1.Портфель кредитів'!#REF!","v":{"$error":"#REF!"}},{"$f":"'1.Портфель кредитів'!#REF!","v":{"$error":"#REF!"}},{"$f":"'1.Портфель кредитів'!#REF!","v":{"$error":"#REF!"}},{"$f":"'1.Портфель кредитів'!I497","v":0},{"$f":"'1.Портфель кредитів'!W497","v":0},{"$f":"'1.Портфель кредитів'!Y497","v":""},4,"2018-06-01","_4_43252_2"]
[{"$f":"'1.Портфель кредитів'!H498","v":0},{"$f":"'1.Портфель кредитів'!D498","v":""},{"$f":"'1.Портфель кредитів'!#REF!","v":{"$error":"#REF!"}},{"$f":"'1.Портфель кредитів'!#REF!","v":{"$error":"#REF!"}},{"$f":"'1.Портфель кредитів'!#REF!","v":{"$error":"#REF!"}},{"$f":"'1.Портфель кредитів'!I498","v":0},{"$f":"'1.Портфель кредитів'!W498","v":0},{"$f":"'1.Портфель кредитів'!Y498","v":""},4,"2018-06-01","_4_43252_2"]
[{"$f":"'1.Портфель кредитів'!H499","v":0},{"$f":"'1.Портфель кредитів'!D499","v":""},{"$f":"'1.Портфель кредитів'!#REF!","v":{"$error":"#REF!"}},{"$f":"'1.Портфель кредитів'!#REF!","v":{"$error":"#REF!"}},{"$f":"'1.Портфель кредитів'!#REF!","v":{"$error":"#REF!"}},{"$f":"'1.Портфель кредитів'!I499","v":0},{"$f":"'1.Портфель кредитів'!W499","v":0},{"$f":"'1.Портфель кредитів'!Y499","v":""},4,"2018-06-01","_4_43252_2"]
[{"$f":"'1.Портфель кредитів'!H500","v":0},{"$f":"'1.Портфель кредитів'!D500","v":""},{"$f":"'1.Портфель кредитів'!#REF!","v":{"$error":"#REF!"}},{"$f":"'1.Портфель кредитів'!#REF!","v":{"$error":"#REF!"}},{"$f":"'1.Портфель кредитів'!#REF!","v":{"$error":"#REF!"}},{"$f":"'1.Портфель кредитів'!I500","v":0},{"$f":"'1.Портфель кредитів'!W500","v":0},{"$f":"'1.Портфель кредитів'!Y500","v":""},4,"2018-06-01","_4_43252_2"]
[{"$f":"'1.Портфель кредитів'!H501","v":0},{"$f":"'1.Портфель кредитів'!D501","v":""},{"$f":"'1.Портфель кредитів'!#REF!","v":{"$error":"#REF!"}},{"$f":"'1.Портфель кредитів'!#REF!","v":{"$error":"#REF!"}},{"$f":"'1.Портфель кредитів'!#REF!","v":{"$error":"#REF!"}},{"$f":"'1.Портфель кредитів'!I501","v":0},{"$f":"'1.Портфель кредитів'!W501","v":0},{"$f":"'1.Портфель кредитів'!Y501","v":""},4,"2018-06-01","_4_43252_2"]
[{"$f":"'1.Портфель кредитів'!H502","v":0},{"$f":"'1.Портфель кредитів'!D502","v":""},{"$f":"'1.Портфель кредитів'!#REF!","v":{"$error":"#REF!"}},{"$f":"'1.Портфель кредитів'!#REF!","v":{"$error":"#REF!"}},{"$f":"'1.Портфель кредитів'!#REF!","v":{"$error":"#REF!"}},{"$f":"'1.Портфель кредитів'!I502","v":0},{"$f":"'1.Портфель кредитів'!W502","v":0},{"$f":"'1.Портфель кредитів'!Y502","v":""},4,"2018-06-01","_4_43252_2"]
[{"$f":"'1.Портфель кредитів'!H503","v":0},{"$f":"'1.Портфель кредитів'!D503","v":""},{"$f":"'1.Портфель кредитів'!#REF!","v":{"$error":"#REF!"}},{"$f":"'1.Портфель кредитів'!#REF!","v":{"$error":"#REF!"}},{"$f":"'1.Портфель кредитів'!#REF!","v":{"$error":"#REF!"}},{"$f":"'1.Портфель кредитів'!I503","v":0},{"$f":"'1.Портфель кредитів'!W503","v":0},{"$f":"'1.Портфель кредитів'!Y503","v":""},4,"2018-06-01","_4_43252_2"]
[{"$f":"'1.Портфель кредитів'!H504","v":0},{"$f":"'1.Портфель кредитів'!D504","v":""},{"$f":"'1.Портфель кредитів'!#REF!","v":{"$error":"#REF!"}},{"$f":"'1.Портфель кредитів'!#REF!","v":{"$error":"#REF!"}},{"$f":"'1.Портфель кредитів'!#REF!","v":{"$error":"#REF!"}},{"$f":"'1.Портфель кредитів'!I504","v":0},{"$f":"'1.Портфель кредитів'!W504","v":0},{"$f":"'1.Портфель кредитів'!Y504","v":""},4,"2018-06-01","_4_43252_2"]
[{"$f":"'1.Портфель кредитів'!H505","v":0},{"$f":"'1.Портфель кредитів'!D505","v":""},{"$f":"'1.Портфель кредитів'!#REF!","v":{"$error":"#REF!"}},{"$f":"'1.Портфель кредитів'!#REF!","v":{"$error":"#REF!"}},{"$f":"'1.Портфель кредитів'!#REF!","v":{"$error":"#REF!"}},{"$f":"'1.Портфель кредитів'!I505","v":0},{"$f":"'1.Портфель кредитів'!W505","v":0},{"$f":"'1.Портфель кредитів'!Y505","v":""},4,"2018-06-01","_4_43252_2"]
[{"$f":"'1.Портфель кредитів'!H506","v":0},{"$f":"'1.Портфель кредитів'!D506","v":""},{"$f":"'1.Портфель кредитів'!#REF!","v":{"$error":"#REF!"}},{"$f":"'1.Портфель кредитів'!#REF!","v":{"$error":"#REF!"}},{"$f":"'1.Портфель кредитів'!#REF!","v":{"$error":"#REF!"}},{"$f":"'1.Портфель кредитів'!I506","v":0},{"$f":"'1.Портфель кредитів'!W506","v":0},{"$f":"'1.Портфель кредитів'!Y506","v":""},4,"2018-06-01","_4_43252_2"]
[{"$f":"'1.Портфель кредитів'!H507","v":0},{"$f":"'1.Портфель кредитів'!D507","v":""},{"$f":"'1.Портфель кредитів'!#REF!","v":{"$error":"#REF!"}},{"$f":"'1.Портфель кредитів'!#REF!","v":{"$error":"#REF!"}},{"$f":"'1.Портфель кредитів'!#REF!","v":{"$error":"#REF!"}},{"$f":"'1.Портфель кредитів'!I507","v":0},{"$f":"'1.Портфель кредитів'!W507","v":0},{"$f":"'1.Портфель кредитів'!Y507","v":""},4,"2018-06-01","_4_43252_2"]
[{"$f":"'1.Портфель кредитів'!H508","v":0},{"$f":"'1.Портфель кредитів'!D508","v":""},{"$f":"'1.Портфель кредитів'!#REF!","v":{"$error":"#REF!"}},{"$f":"'1.Портфель кредитів'!#REF!","v":{"$error":"#REF!"}},{"$f":"'1.Портфель кредитів'!#REF!","v":{"$error":"#REF!"}},{"$f":"'1.Портфель кредитів'!I508","v":0},{"$f":"'1.Портфель кредитів'!W508","v":0},{"$f":"'1.Портфель кредитів'!Y508","v":""},4,"2018-06-01","_4_43252_2"]
[{"$f":"'1.Портфель кредитів'!H509","v":0},{"$f":"'1.Портфель кредитів'!D509","v":""},{"$f":"'1.Портфель кредитів'!#REF!","v":{"$error":"#REF!"}},{"$f":"'1.Портфель кредитів'!#REF!","v":{"$error":"#REF!"}},{"$f":"'1.Портфель кредитів'!#REF!","v":{"$error":"#REF!"}},{"$f":"'1.Портфель кредитів'!I509","v":0},{"$f":"'1.Портфель кредитів'!W509","v":0},{"$f":"'1.Портфель кредитів'!Y509","v":""},4,"2018-06-01","_4_43252_2"]
[{"$f":"'1.Портфель кредитів'!H510","v":0},{"$f":"'1.Портфель кредитів'!D510","v":""},{"$f":"'1.Портфель кредитів'!#REF!","v":{"$error":"#REF!"}},{"$f":"'1.Портфель кредитів'!#REF!","v":{"$error":"#REF!"}},{"$f":"'1.Портфель кредитів'!#REF!","v":{"$error":"#REF!"}},{"$f":"'1.Портфель кредитів'!I510","v":0},{"$f":"'1.Портфель кредитів'!W510","v":0},{"$f":"'1.Портфель кредитів'!Y510","v":""},4,"2018-06-01","_4_43252_2"]
[{"$f":"'1.Портфель кредитів'!H511","v":0},{"$f":"'1.Портфель кредитів'!D511","v":""},{"$f":"'1.Портфель кредитів'!#REF!","v":{"$error":"#REF!"}},{"$f":"'1.Портфель кредитів'!#REF!","v":{"$error":"#REF!"}},{"$f":"'1.Портфель кредитів'!#REF!","v":{"$error":"#REF!"}},{"$f":"'1.Портфель кредитів'!I511","v":0},{"$f":"'1.Портфель кредитів'!W511","v":0},{"$f":"'1.Портфель кредитів'!Y511","v":""},4,"2018-06-01","_4_43252_2"]
[{"$f":"'1.Портфель кредитів'!H512","v":0},{"$f":"'1.Портфель кредитів'!D512","v":""},{"$f":"'1.Портфель кредитів'!#REF!","v":{"$error":"#REF!"}},{"$f":"'1.Портфель кредитів'!#REF!","v":{"$error":"#REF!"}},{"$f":"'1.Портфель кредитів'!#REF!","v":{"$error":"#REF!"}},{"$f":"'1.Портфель кредитів'!I512","v":0},{"$f":"'1.Портфель кредитів'!W512","v":0},{"$f":"'1.Портфель кредитів'!Y512","v":""},4,"2018-06-01","_4_43252_2"]
[{"$f":"'1.Портфель кредитів'!H513","v":0},{"$f":"'1.Портфель кредитів'!D513","v":""},{"$f":"'1.Портфель кредитів'!#REF!","v":{"$error":"#REF!"}},{"$f":"'1.Портфель кредитів'!#REF!","v":{"$error":"#REF!"}},{"$f":"'1.Портфель кредитів'!#REF!","v":{"$error":"#REF!"}},{"$f":"'1.Портфель кредитів'!I513","v":0},{"$f":"'1.Портфель кредитів'!W513","v":0},{"$f":"'1.Портфель кредитів'!Y513","v":""},4,"2018-06-01","_4_43252_2"]
[{"$f":"'1.Портфель кредитів'!H514","v":0},{"$f":"'1.Портфель кредитів'!D514","v":""},{"$f":"'1.Портфель кредитів'!#REF!","v":{"$error":"#REF!"}},{"$f":"'1.Портфель кредитів'!#REF!","v":{"$error":"#REF!"}},{"$f":"'1.Портфель кредитів'!#REF!","v":{"$error":"#REF!"}},{"$f":"'1.Портфель кредитів'!I514","v":0},{"$f":"'1.Портфель кредитів'!W514","v":0},{"$f":"'1.Портфель кредитів'!Y514","v":""},4,"2018-06-01","_4_43252_2"]
[{"$f":"'1.Портфель кредитів'!H515","v":0},{"$f":"'1.Портфель кредитів'!D515","v":""},{"$f":"'1.Портфель кредитів'!#REF!","v":{"$error":"#REF!"}},{"$f":"'1.Портфель кредитів'!#REF!","v":{"$error":"#REF!"}},{"$f":"'1.Портфель кредитів'!#REF!","v":{"$error":"#REF!"}},{"$f":"'1.Портфель кредитів'!I515","v":0},{"$f":"'1.Портфель кредитів'!W515","v":0},{"$f":"'1.Портфель кредитів'!Y515","v":""},4,"2018-06-01","_4_43252_2"]
[{"$f":"'1.Портфель кредитів'!H516","v":0},{"$f":"'1.Портфель кредитів'!D516","v":""},{"$f":"'1.Портфель кредитів'!#REF!","v":{"$error":"#REF!"}},{"$f":"'1.Портфель кредитів'!#REF!","v":{"$error":"#REF!"}},{"$f":"'1.Портфель кредитів'!#REF!","v":{"$error":"#REF!"}},{"$f":"'1.Портфель кредитів'!I516","v":0},{"$f":"'1.Портфель кредитів'!W516","v":0},{"$f":"'1.Портфель кредитів'!Y516","v":""},4,"2018-06-01","_4_43252_2"]
[{"$f":"'1.Портфель кредитів'!H517","v":0},{"$f":"'1.Портфель кредитів'!D517","v":""},{"$f":"'1.Портфель кредитів'!#REF!","v":{"$error":"#REF!"}},{"$f":"'1.Портфель кредитів'!#REF!","v":{"$error":"#REF!"}},{"$f":"'1.Портфель кредитів'!#REF!","v":{"$error":"#REF!"}},{"$f":"'1.Портфель кредитів'!I517","v":0},{"$f":"'1.Портфель кредитів'!W517","v":0},{"$f":"'1.Портфель кредитів'!Y517","v":""},4,"2018-06-01","_4_43252_2"]
[{"$f":"'1.Портфель кредитів'!H518","v":0},{"$f":"'1.Портфель кредитів'!D518","v":""},{"$f":"'1.Портфель кредитів'!#REF!","v":{"$error":"#REF!"}},{"$f":"'1.Портфель кредитів'!#REF!","v":{"$error":"#REF!"}},{"$f":"'1.Портфель кредитів'!#REF!","v":{"$error":"#REF!"}},{"$f":"'1.Портфель кредитів'!I518","v":0},{"$f":"'1.Портфель кредитів'!W518","v":0},{"$f":"'1.Портфель кредитів'!Y518","v":""},4,"2018-06-01","_4_43252_2"]
[{"$f":"'1.Портфель кредитів'!H519","v":0},{"$f":"'1.Портфель кредитів'!D519","v":""},{"$f":"'1.Портфель кредитів'!#REF!","v":{"$error":"#REF!"}},{"$f":"'1.Портфель кредитів'!#REF!","v":{"$error":"#REF!"}},{"$f":"'1.Портфель кредитів'!#REF!","v":{"$error":"#REF!"}},{"$f":"'1.Портфель кредитів'!I519","v":0},{"$f":"'1.Портфель кредитів'!W519","v":0},{"$f":"'1.Портфель кредитів'!Y519","v":""},4,"2018-06-01","_4_43252_2"]
[{"$f":"'1.Портфель кредитів'!H520","v":0},{"$f":"'1.Портфель кредитів'!D520","v":""},{"$f":"'1.Портфель кредитів'!#REF!","v":{"$error":"#REF!"}},{"$f":"'1.Портфель кредитів'!#REF!","v":{"$error":"#REF!"}},{"$f":"'1.Портфель кредитів'!#REF!","v":{"$error":"#REF!"}},{"$f":"'1.Портфель кредитів'!I520","v":0},{"$f":"'1.Портфель кредитів'!W520","v":0},{"$f":"'1.Портфель кредитів'!Y520","v":""},4,"2018-06-01","_4_43252_2"]
[{"$f":"'1.Портфель кредитів'!H521","v":0},{"$f":"'1.Портфель кредитів'!D521","v":""},{"$f":"'1.Портфель кредитів'!#REF!","v":{"$error":"#REF!"}},{"$f":"'1.Портфель кредитів'!#REF!","v":{"$error":"#REF!"}},{"$f":"'1.Портфель кредитів'!#REF!","v":{"$error":"#REF!"}},{"$f":"'1.Портфель кредитів'!I521","v":0},{"$f":"'1.Портфель кредитів'!W521","v":0},{"$f":"'1.Портфель кредитів'!Y521","v":""},4,"2018-06-01","_4_43252_2"]
[{"$f":"'1.Портфель кредитів'!H522","v":0},{"$f":"'1.Портфель кредитів'!D522","v":""},{"$f":"'1.Портфель кредитів'!#REF!","v":{"$error":"#REF!"}},{"$f":"'1.Портфель кредитів'!#REF!","v":{"$error":"#REF!"}},{"$f":"'1.Портфель кредитів'!#REF!","v":{"$error":"#REF!"}},{"$f":"'1.Портфель кредитів'!I522","v":0},{"$f":"'1.Портфель кредитів'!W522","v":0},{"$f":"'1.Портфель кредитів'!Y522","v":""},{"$f":"$E$1","v":4},{"$f":"$E$2","v":"2018-06-01"},{"$f":"B518&\"_\"&I518&\"_\"&J518&\"_\"&$E$3","v":"_4_43252_2"}]
[{"$f":"'1.Портфель кредитів'!H523","v":0},{"$f":"'1.Портфель кредитів'!D523","v":""},{"$f":"'1.Портфель кредитів'!#REF!","v":{"$error":"#REF!"}},{"$f":"'1.Портфель кредитів'!#REF!","v":{"$error":"#REF!"}},{"$f":"'1.Портфель кредитів'!#REF!","v":{"$error":"#REF!"}},{"$f":"'1.Портфель кредитів'!I523","v":0},{"$f":"'1.Портфель кредитів'!W523","v":0},{"$f":"'1.Портфель кредитів'!Y523","v":""},4,"2018-06-01","_4_43252_2"]
[{"$f":"'1.Портфель кредитів'!H524","v":0},{"$f":"'1.Портфель кредитів'!D524","v":""},{"$f":"'1.Портфель кредитів'!#REF!","v":{"$error":"#REF!"}},{"$f":"'1.Портфель кредитів'!#REF!","v":{"$error":"#REF!"}},{"$f":"'1.Портфель кредитів'!#REF!","v":{"$error":"#REF!"}},{"$f":"'1.Портфель кредитів'!I524","v":0},{"$f":"'1.Портфель кредитів'!W524","v":0},{"$f":"'1.Портфель кредитів'!Y524","v":""},4,"2018-06-01","_4_43252_2"]
[{"$f":"'1.Портфель кредитів'!H525","v":0},{"$f":"'1.Портфель кредитів'!D525","v":""},{"$f":"'1.Портфель кредитів'!#REF!","v":{"$error":"#REF!"}},{"$f":"'1.Портфель кредитів'!#REF!","v":{"$error":"#REF!"}},{"$f":"'1.Портфель кредитів'!#REF!","v":{"$error":"#REF!"}},{"$f":"'1.Портфель кредитів'!I525","v":0},{"$f":"'1.Портфель кредитів'!W525","v":0},{"$f":"'1.Портфель кредитів'!Y525","v":""},4,"2018-06-01","_4_43252_2"]
[{"$f":"'1.Портфель кредитів'!H526","v":0},{"$f":"'1.Портфель кредитів'!D526","v":""},{"$f":"'1.Портфель кредитів'!#REF!","v":{"$error":"#REF!"}},{"$f":"'1.Портфель кредитів'!#REF!","v":{"$error":"#REF!"}},{"$f":"'1.Портфель кредитів'!#REF!","v":{"$error":"#REF!"}},{"$f":"'1.Портфель кредитів'!I526","v":0},{"$f":"'1.Портфель кредитів'!W526","v":0},{"$f":"'1.Портфель кредитів'!Y526","v":""},4,"2018-06-01","_4_43252_2"]
[{"$f":"'1.Портфель кредитів'!H527","v":0},{"$f":"'1.Портфель кредитів'!D527","v":""},{"$f":"'1.Портфель кредитів'!#REF!","v":{"$error":"#REF!"}},{"$f":"'1.Портфель кредитів'!#REF!","v":{"$error":"#REF!"}},{"$f":"'1.Портфель кредитів'!#REF!","v":{"$error":"#REF!"}},{"$f":"'1.Портфель кредитів'!I527","v":0},{"$f":"'1.Портфель кредитів'!W527","v":0},{"$f":"'1.Портфель кредитів'!Y527","v":""},4,"2018-06-01","_4_43252_2"]
[{"$f":"'1.Портфель кредитів'!H528","v":0},{"$f":"'1.Портфель кредитів'!D528","v":""},{"$f":"'1.Портфель кредитів'!#REF!","v":{"$error":"#REF!"}},{"$f":"'1.Портфель кредитів'!#REF!","v":{"$error":"#REF!"}},{"$f":"'1.Портфель кредитів'!#REF!","v":{"$error":"#REF!"}},{"$f":"'1.Портфель кредитів'!I528","v":0},{"$f":"'1.Портфель кредитів'!W528","v":0},{"$f":"'1.Портфель кредитів'!Y528","v":""},4,"2018-06-01","_4_43252_2"]
[{"$f":"'1.Портфель кредитів'!H529","v":0},{"$f":"'1.Портфель кредитів'!D529","v":""},{"$f":"'1.Портфель кредитів'!#REF!","v":{"$error":"#REF!"}},{"$f":"'1.Портфель кредитів'!#REF!","v":{"$error":"#REF!"}},{"$f":"'1.Портфель кредитів'!#REF!","v":{"$error":"#REF!"}},{"$f":"'1.Портфель кредитів'!I529","v":0},{"$f":"'1.Портфель кредитів'!W529","v":0},{"$f":"'1.Портфель кредитів'!Y529","v":""},4,"2018-06-01","_4_43252_2"]
[{"$f":"'1.Портфель кредитів'!H530","v":0},{"$f":"'1.Портфель кредитів'!D530","v":""},{"$f":"'1.Портфель кредитів'!#REF!","v":{"$error":"#REF!"}},{"$f":"'1.Портфель кредитів'!#REF!","v":{"$error":"#REF!"}},{"$f":"'1.Портфель кредитів'!#REF!","v":{"$error":"#REF!"}},{"$f":"'1.Портфель кредитів'!I530","v":0},{"$f":"'1.Портфель кредитів'!W530","v":0},{"$f":"'1.Портфель кредитів'!Y530","v":""},4,"2018-06-01","_4_43252_2"]
[{"$f":"'1.Портфель кредитів'!H531","v":0},{"$f":"'1.Портфель кредитів'!D531","v":""},{"$f":"'1.Портфель кредитів'!#REF!","v":{"$error":"#REF!"}},{"$f":"'1.Портфель кредитів'!#REF!","v":{"$error":"#REF!"}},{"$f":"'1.Портфель кредитів'!#REF!","v":{"$error":"#REF!"}},{"$f":"'1.Портфель кредитів'!I531","v":0},{"$f":"'1.Портфель кредитів'!W531","v":0},{"$f":"'1.Портфель кредитів'!Y531","v":""},4,"2018-06-01","_4_43252_2"]
[{"$f":"'1.Портфель кредитів'!H532","v":0},{"$f":"'1.Портфель кредитів'!D532","v":""},{"$f":"'1.Портфель кредитів'!#REF!","v":{"$error":"#REF!"}},{"$f":"'1.Портфель кредитів'!#REF!","v":{"$error":"#REF!"}},{"$f":"'1.Портфель кредитів'!#REF!","v":{"$error":"#REF!"}},{"$f":"'1.Портфель кредитів'!I532","v":0},{"$f":"'1.Портфель кредитів'!W532","v":0},{"$f":"'1.Портфель кредитів'!Y532","v":""},4,"2018-06-01","_4_43252_2"]
[{"$f":"'1.Портфель кредитів'!H533","v":0},{"$f":"'1.Портфель кредитів'!D533","v":""},{"$f":"'1.Портфель кредитів'!#REF!","v":{"$error":"#REF!"}},{"$f":"'1.Портфель кредитів'!#REF!","v":{"$error":"#REF!"}},{"$f":"'1.Портфель кредитів'!#REF!","v":{"$error":"#REF!"}},{"$f":"'1.Портфель кредитів'!I533","v":0},{"$f":"'1.Портфель кредитів'!W533","v":0},{"$f":"'1.Портфель кредитів'!Y533","v":""},4,"2018-06-01","_4_43252_2"]
[{"$f":"'1.Портфель кредитів'!H534","v":0},{"$f":"'1.Портфель кредитів'!D534","v":""},{"$f":"'1.Портфель кредитів'!#REF!","v":{"$error":"#REF!"}},{"$f":"'1.Портфель кредитів'!#REF!","v":{"$error":"#REF!"}},{"$f":"'1.Портфель кредитів'!#REF!","v":{"$error":"#REF!"}},{"$f":"'1.Портфель кредитів'!I534","v":0},{"$f":"'1.Портфель кредитів'!W534","v":0},{"$f":"'1.Портфель кредитів'!Y534","v":""},4,"2018-06-01","_4_43252_2"]
[{"$f":"'1.Портфель кредитів'!H535","v":0},{"$f":"'1.Портфель кредитів'!D535","v":""},{"$f":"'1.Портфель кредитів'!#REF!","v":{"$error":"#REF!"}},{"$f":"'1.Портфель кредитів'!#REF!","v":{"$error":"#REF!"}},{"$f":"'1.Портфель кредитів'!#REF!","v":{"$error":"#REF!"}},{"$f":"'1.Портфель кредитів'!I535","v":0},{"$f":"'1.Портфель кредитів'!W535","v":0},{"$f":"'1.Портфель кредитів'!Y535","v":""},4,"2018-06-01","_4_43252_2"]
[{"$f":"'1.Портфель кредитів'!H536","v":0},{"$f":"'1.Портфель кредитів'!D536","v":""},{"$f":"'1.Портфель кредитів'!#REF!","v":{"$error":"#REF!"}},{"$f":"'1.Портфель кредитів'!#REF!","v":{"$error":"#REF!"}},{"$f":"'1.Портфель кредитів'!#REF!","v":{"$error":"#REF!"}},{"$f":"'1.Портфель кредитів'!I536","v":0},{"$f":"'1.Портфель кредитів'!W536","v":0},{"$f":"'1.Портфель кредитів'!Y536","v":""},4,"2018-06-01","_4_43252_2"]
[{"$f":"'1.Портфель кредитів'!H537","v":0},{"$f":"'1.Портфель кредитів'!D537","v":""},{"$f":"'1.Портфель кредитів'!#REF!","v":{"$error":"#REF!"}},{"$f":"'1.Портфель кредитів'!#REF!","v":{"$error":"#REF!"}},{"$f":"'1.Портфель кредитів'!#REF!","v":{"$error":"#REF!"}},{"$f":"'1.Портфель кредитів'!I537","v":0},{"$f":"'1.Портфель кредитів'!W537","v":0},{"$f":"'1.Портфель кредитів'!Y537","v":""},4,"2018-06-01","_4_43252_2"]
[{"$f":"'1.Портфель кредитів'!H538","v":0},{"$f":"'1.Портфель кредитів'!D538","v":""},{"$f":"'1.Портфель кредитів'!#REF!","v":{"$error":"#REF!"}},{"$f":"'1.Портфель кредитів'!#REF!","v":{"$error":"#REF!"}},{"$f":"'1.Портфель кредитів'!#REF!","v":{"$error":"#REF!"}},{"$f":"'1.Портфель кредитів'!I538","v":0},{"$f":"'1.Портфель кредитів'!W538","v":0},{"$f":"'1.Портфель кредитів'!Y538","v":""},4,"2018-06-01","_4_43252_2"]
[{"$f":"'1.Портфель кредитів'!H539","v":0},{"$f":"'1.Портфель кредитів'!D539","v":""},{"$f":"'1.Портфель кредитів'!#REF!","v":{"$error":"#REF!"}},{"$f":"'1.Портфель кредитів'!#REF!","v":{"$error":"#REF!"}},{"$f":"'1.Портфель кредитів'!#REF!","v":{"$error":"#REF!"}},{"$f":"'1.Портфель кредитів'!I539","v":0},{"$f":"'1.Портфель кредитів'!W539","v":0},{"$f":"'1.Портфель кредитів'!Y539","v":""},4,"2018-06-01","_4_43252_2"]
[{"$f":"'1.Портфель кредитів'!H540","v":0},{"$f":"'1.Портфель кредитів'!D540","v":""},{"$f":"'1.Портфель кредитів'!#REF!","v":{"$error":"#REF!"}},{"$f":"'1.Портфель кредитів'!#REF!","v":{"$error":"#REF!"}},{"$f":"'1.Портфель кредитів'!#REF!","v":{"$error":"#REF!"}},{"$f":"'1.Портфель кредитів'!I540","v":0},{"$f":"'1.Портфель кредитів'!W540","v":0},{"$f":"'1.Портфель кредитів'!Y540","v":""},4,"2018-06-01","_4_43252_2"]
[{"$f":"'1.Портфель кредитів'!H541","v":0},{"$f":"'1.Портфель кредитів'!D541","v":""},{"$f":"'1.Портфель кредитів'!#REF!","v":{"$error":"#REF!"}},{"$f":"'1.Портфель кредитів'!#REF!","v":{"$error":"#REF!"}},{"$f":"'1.Портфель кредитів'!#REF!","v":{"$error":"#REF!"}},{"$f":"'1.Портфель кредитів'!I541","v":0},{"$f":"'1.Портфель кредитів'!W541","v":0},{"$f":"'1.Портфель кредитів'!Y541","v":""},4,"2018-06-01","_4_43252_2"]
[{"$f":"'1.Портфель кредитів'!H542","v":0},{"$f":"'1.Портфель кредитів'!D542","v":""},{"$f":"'1.Портфель кредитів'!#REF!","v":{"$error":"#REF!"}},{"$f":"'1.Портфель кредитів'!#REF!","v":{"$error":"#REF!"}},{"$f":"'1.Портфель кредитів'!#REF!","v":{"$error":"#REF!"}},{"$f":"'1.Портфель кредитів'!I542","v":0},{"$f":"'1.Портфель кредитів'!W542","v":0},{"$f":"'1.Портфель кредитів'!Y542","v":""},4,"2018-06-01","_4_43252_2"]
[{"$f":"'1.Портфель кредитів'!H543","v":0},{"$f":"'1.Портфель кредитів'!D543","v":""},{"$f":"'1.Портфель кредитів'!#REF!","v":{"$error":"#REF!"}},{"$f":"'1.Портфель кредитів'!#REF!","v":{"$error":"#REF!"}},{"$f":"'1.Портфель кредитів'!#REF!","v":{"$error":"#REF!"}},{"$f":"'1.Портфель кредитів'!I543","v":0},{"$f":"'1.Портфель кредитів'!W543","v":0},{"$f":"'1.Портфель кредитів'!Y543","v":""},4,"2018-06-01","_4_43252_2"]
[{"$f":"'1.Портфель кредитів'!H544","v":0},{"$f":"'1.Портфель кредитів'!D544","v":""},{"$f":"'1.Портфель кредитів'!#REF!","v":{"$error":"#REF!"}},{"$f":"'1.Портфель кредитів'!#REF!","v":{"$error":"#REF!"}},{"$f":"'1.Портфель кредитів'!#REF!","v":{"$error":"#REF!"}},{"$f":"'1.Портфель кредитів'!I544","v":0},{"$f":"'1.Портфель кредитів'!W544","v":0},{"$f":"'1.Портфель кредитів'!Y544","v":""},4,"2018-06-01","_4_43252_2"]
[{"$f":"'1.Портфель кредитів'!H545","v":0},{"$f":"'1.Портфель кредитів'!D545","v":""},{"$f":"'1.Портфель кредитів'!#REF!","v":{"$error":"#REF!"}},{"$f":"'1.Портфель кредитів'!#REF!","v":{"$error":"#REF!"}},{"$f":"'1.Портфель кредитів'!#REF!","v":{"$error":"#REF!"}},{"$f":"'1.Портфель кредитів'!I545","v":0},{"$f":"'1.Портфель кредитів'!W545","v":0},{"$f":"'1.Портфель кредитів'!Y545","v":""},4,"2018-06-01","_4_43252_2"]
[{"$f":"'1.Портфель кредитів'!H546","v":0},{"$f":"'1.Портфель кредитів'!D546","v":""},{"$f":"'1.Портфель кредитів'!#REF!","v":{"$error":"#REF!"}},{"$f":"'1.Портфель кредитів'!#REF!","v":{"$error":"#REF!"}},{"$f":"'1.Портфель кредитів'!#REF!","v":{"$error":"#REF!"}},{"$f":"'1.Портфель кредитів'!I546","v":0},{"$f":"'1.Портфель кредитів'!W546","v":0},{"$f":"'1.Портфель кредитів'!Y546","v":""},4,"2018-06-01","_4_43252_2"]
[{"$f":"'1.Портфель кредитів'!H547","v":0},{"$f":"'1.Портфель кредитів'!D547","v":""},{"$f":"'1.Портфель кредитів'!#REF!","v":{"$error":"#REF!"}},{"$f":"'1.Портфель кредитів'!#REF!","v":{"$error":"#REF!"}},{"$f":"'1.Портфель кредитів'!#REF!","v":{"$error":"#REF!"}},{"$f":"'1.Портфель кредитів'!I547","v":0},{"$f":"'1.Портфель кредитів'!W547","v":0},{"$f":"'1.Портфель кредитів'!Y547","v":""},4,"2018-06-01","_4_43252_2"]
[{"$f":"'1.Портфель кредитів'!H548","v":0},{"$f":"'1.Портфель кредитів'!D548","v":""},{"$f":"'1.Портфель кредитів'!#REF!","v":{"$error":"#REF!"}},{"$f":"'1.Портфель кредитів'!#REF!","v":{"$error":"#REF!"}},{"$f":"'1.Портфель кредитів'!#REF!","v":{"$error":"#REF!"}},{"$f":"'1.Портфель кредитів'!I548","v":0},{"$f":"'1.Портфель кредитів'!W548","v":0},{"$f":"'1.Портфель кредитів'!Y548","v":""},4,"2018-06-01","_4_43252_2"]
[{"$f":"'1.Портфель кредитів'!H549","v":0},{"$f":"'1.Портфель кредитів'!D549","v":""},{"$f":"'1.Портфель кредитів'!#REF!","v":{"$error":"#REF!"}},{"$f":"'1.Портфель кредитів'!#REF!","v":{"$error":"#REF!"}},{"$f":"'1.Портфель кредитів'!#REF!","v":{"$error":"#REF!"}},{"$f":"'1.Портфель кредитів'!I549","v":0},{"$f":"'1.Портфель кредитів'!W549","v":0},{"$f":"'1.Портфель кредитів'!Y549","v":""},4,"2018-06-01","_4_43252_2"]
[{"$f":"'1.Портфель кредитів'!H550","v":0},{"$f":"'1.Портфель кредитів'!D550","v":""},{"$f":"'1.Портфель кредитів'!#REF!","v":{"$error":"#REF!"}},{"$f":"'1.Портфель кредитів'!#REF!","v":{"$error":"#REF!"}},{"$f":"'1.Портфель кредитів'!#REF!","v":{"$error":"#REF!"}},{"$f":"'1.Портфель кредитів'!I550","v":0},{"$f":"'1.Портфель кредитів'!W550","v":0},{"$f":"'1.Портфель кредитів'!Y550","v":""},4,"2018-06-01","_4_43252_2"]
[{"$f":"'1.Портфель кредитів'!H551","v":0},{"$f":"'1.Портфель кредитів'!D551","v":""},{"$f":"'1.Портфель кредитів'!#REF!","v":{"$error":"#REF!"}},{"$f":"'1.Портфель кредитів'!#REF!","v":{"$error":"#REF!"}},{"$f":"'1.Портфель кредитів'!#REF!","v":{"$error":"#REF!"}},{"$f":"'1.Портфель кредитів'!I551","v":0},{"$f":"'1.Портфель кредитів'!W551","v":0},{"$f":"'1.Портфель кредитів'!Y551","v":""},4,"2018-06-01","_4_43252_2"]
[{"$f":"'1.Портфель кредитів'!H552","v":0},{"$f":"'1.Портфель кредитів'!D552","v":""},{"$f":"'1.Портфель кредитів'!#REF!","v":{"$error":"#REF!"}},{"$f":"'1.Портфель кредитів'!#REF!","v":{"$error":"#REF!"}},{"$f":"'1.Портфель кредитів'!#REF!","v":{"$error":"#REF!"}},{"$f":"'1.Портфель кредитів'!I552","v":0},{"$f":"'1.Портфель кредитів'!W552","v":0},{"$f":"'1.Портфель кредитів'!Y552","v":""},4,"2018-06-01","_4_43252_2"]
[{"$f":"'1.Портфель кредитів'!H553","v":0},{"$f":"'1.Портфель кредитів'!D553","v":""},{"$f":"'1.Портфель кредитів'!#REF!","v":{"$error":"#REF!"}},{"$f":"'1.Портфель кредитів'!#REF!","v":{"$error":"#REF!"}},{"$f":"'1.Портфель кредитів'!#REF!","v":{"$error":"#REF!"}},{"$f":"'1.Портфель кредитів'!I553","v":0},{"$f":"'1.Портфель кредитів'!W553","v":0},{"$f":"'1.Портфель кредитів'!Y553","v":""},4,"2018-06-01","_4_43252_2"]
[{"$f":"'1.Портфель кредитів'!H554","v":0},{"$f":"'1.Портфель кредитів'!D554","v":""},{"$f":"'1.Портфель кредитів'!#REF!","v":{"$error":"#REF!"}},{"$f":"'1.Портфель кредитів'!#REF!","v":{"$error":"#REF!"}},{"$f":"'1.Портфель кредитів'!#REF!","v":{"$error":"#REF!"}},{"$f":"'1.Портфель кредитів'!I554","v":0},{"$f":"'1.Портфель кредитів'!W554","v":0},{"$f":"'1.Портфель кредитів'!Y554","v":""},4,"2018-06-01","_4_43252_2"]
[{"$f":"'1.Портфель кредитів'!H555","v":0},{"$f":"'1.Портфель кредитів'!D555","v":""},{"$f":"'1.Портфель кредитів'!#REF!","v":{"$error":"#REF!"}},{"$f":"'1.Портфель кредитів'!#REF!","v":{"$error":"#REF!"}},{"$f":"'1.Портфель кредитів'!#REF!","v":{"$error":"#REF!"}},{"$f":"'1.Портфель кредитів'!I555","v":0},{"$f":"'1.Портфель кредитів'!W555","v":0},{"$f":"'1.Портфель кредитів'!Y555","v":""},4,"2018-06-01","_4_43252_2"]
[{"$f":"'1.Портфель кредитів'!H556","v":0},{"$f":"'1.Портфель кредитів'!D556","v":""},{"$f":"'1.Портфель кредитів'!#REF!","v":{"$error":"#REF!"}},{"$f":"'1.Портфель кредитів'!#REF!","v":{"$error":"#REF!"}},{"$f":"'1.Портфель кредитів'!#REF!","v":{"$error":"#REF!"}},{"$f":"'1.Портфель кредитів'!I556","v":0},{"$f":"'1.Портфель кредитів'!W556","v":0},{"$f":"'1.Портфель кредитів'!Y556","v":""},4,"2018-06-01","_4_43252_2"]
[{"$f":"'1.Портфель кредитів'!H557","v":0},{"$f":"'1.Портфель кредитів'!D557","v":""},{"$f":"'1.Портфель кредитів'!#REF!","v":{"$error":"#REF!"}},{"$f":"'1.Портфель кредитів'!#REF!","v":{"$error":"#REF!"}},{"$f":"'1.Портфель кредитів'!#REF!","v":{"$error":"#REF!"}},{"$f":"'1.Портфель кредитів'!I557","v":0},{"$f":"'1.Портфель кредитів'!W557","v":0},{"$f":"'1.Портфель кредитів'!Y557","v":""},4,"2018-06-01","_4_43252_2"]
[{"$f":"'1.Портфель кредитів'!H558","v":0},{"$f":"'1.Портфель кредитів'!D558","v":""},{"$f":"'1.Портфель кредитів'!#REF!","v":{"$error":"#REF!"}},{"$f":"'1.Портфель кредитів'!#REF!","v":{"$error":"#REF!"}},{"$f":"'1.Портфель кредитів'!#REF!","v":{"$error":"#REF!"}},{"$f":"'1.Портфель кредитів'!I558","v":0},{"$f":"'1.Портфель кредитів'!W558","v":0},{"$f":"'1.Портфель кредитів'!Y558","v":""},4,"2018-06-01","_4_43252_2"]
[{"$f":"'1.Портфель кредитів'!H559","v":0},{"$f":"'1.Портфель кредитів'!D559","v":""},{"$f":"'1.Портфель кредитів'!#REF!","v":{"$error":"#REF!"}},{"$f":"'1.Портфель кредитів'!#REF!","v":{"$error":"#REF!"}},{"$f":"'1.Портфель кредитів'!#REF!","v":{"$error":"#REF!"}},{"$f":"'1.Портфель кредитів'!I559","v":0},{"$f":"'1.Портфель кредитів'!W559","v":0},{"$f":"'1.Портфель кредитів'!Y559","v":""},4,"2018-06-01","_4_43252_2"]
[{"$f":"'1.Портфель кредитів'!H560","v":0},{"$f":"'1.Портфель кредитів'!D560","v":""},{"$f":"'1.Портфель кредитів'!#REF!","v":{"$error":"#REF!"}},{"$f":"'1.Портфель кредитів'!#REF!","v":{"$error":"#REF!"}},{"$f":"'1.Портфель кредитів'!#REF!","v":{"$error":"#REF!"}},{"$f":"'1.Портфель кредитів'!I560","v":0},{"$f":"'1.Портфель кредитів'!W560","v":0},{"$f":"'1.Портфель кредитів'!Y560","v":""},4,"2018-06-01","_4_43252_2"]
[{"$f":"'1.Портфель кредитів'!H561","v":0},{"$f":"'1.Портфель кредитів'!D561","v":""},{"$f":"'1.Портфель кредитів'!#REF!","v":{"$error":"#REF!"}},{"$f":"'1.Портфель кредитів'!#REF!","v":{"$error":"#REF!"}},{"$f":"'1.Портфель кредитів'!#REF!","v":{"$error":"#REF!"}},{"$f":"'1.Портфель кредитів'!I561","v":0},{"$f":"'1.Портфель кредитів'!W561","v":0},{"$f":"'1.Портфель кредитів'!Y561","v":""},4,"2018-06-01","_4_43252_2"]
[{"$f":"'1.Портфель кредитів'!H562","v":0},{"$f":"'1.Портфель кредитів'!D562","v":""},{"$f":"'1.Портфель кредитів'!#REF!","v":{"$error":"#REF!"}},{"$f":"'1.Портфель кредитів'!#REF!","v":{"$error":"#REF!"}},{"$f":"'1.Портфель кредитів'!#REF!","v":{"$error":"#REF!"}},{"$f":"'1.Портфель кредитів'!I562","v":0},{"$f":"'1.Портфель кредитів'!W562","v":0},{"$f":"'1.Портфель кредитів'!Y562","v":""},4,"2018-06-01","_4_43252_2"]
[{"$f":"'1.Портфель кредитів'!H563","v":0},{"$f":"'1.Портфель кредитів'!D563","v":""},{"$f":"'1.Портфель кредитів'!#REF!","v":{"$error":"#REF!"}},{"$f":"'1.Портфель кредитів'!#REF!","v":{"$error":"#REF!"}},{"$f":"'1.Портфель кредитів'!#REF!","v":{"$error":"#REF!"}},{"$f":"'1.Портфель кредитів'!I563","v":0},{"$f":"'1.Портфель кредитів'!W563","v":0},{"$f":"'1.Портфель кредитів'!Y563","v":""},4,"2018-06-01","_4_43252_2"]
[{"$f":"'1.Портфель кредитів'!H564","v":0},{"$f":"'1.Портфель кредитів'!D564","v":""},{"$f":"'1.Портфель кредитів'!#REF!","v":{"$error":"#REF!"}},{"$f":"'1.Портфель кредитів'!#REF!","v":{"$error":"#REF!"}},{"$f":"'1.Портфель кредитів'!#REF!","v":{"$error":"#REF!"}},{"$f":"'1.Портфель кредитів'!I564","v":0},{"$f":"'1.Портфель кредитів'!W564","v":0},{"$f":"'1.Портфель кредитів'!Y564","v":""},4,"2018-06-01","_4_43252_2"]
[{"$f":"'1.Портфель кредитів'!H565","v":0},{"$f":"'1.Портфель кредитів'!D565","v":""},{"$f":"'1.Портфель кредитів'!#REF!","v":{"$error":"#REF!"}},{"$f":"'1.Портфель кредитів'!#REF!","v":{"$error":"#REF!"}},{"$f":"'1.Портфель кредитів'!#REF!","v":{"$error":"#REF!"}},{"$f":"'1.Портфель кредитів'!I565","v":0},{"$f":"'1.Портфель кредитів'!W565","v":0},{"$f":"'1.Портфель кредитів'!Y565","v":""},4,"2018-06-01","_4_43252_2"]
[{"$f":"'1.Портфель кредитів'!H566","v":0},{"$f":"'1.Портфель кредитів'!D566","v":""},{"$f":"'1.Портфель кредитів'!#REF!","v":{"$error":"#REF!"}},{"$f":"'1.Портфель кредитів'!#REF!","v":{"$error":"#REF!"}},{"$f":"'1.Портфель кредитів'!#REF!","v":{"$error":"#REF!"}},{"$f":"'1.Портфель кредитів'!I566","v":0},{"$f":"'1.Портфель кредитів'!W566","v":0},{"$f":"'1.Портфель кредитів'!Y566","v":""},4,"2018-06-01","_4_43252_2"]
[{"$f":"'1.Портфель кредитів'!H567","v":0},{"$f":"'1.Портфель кредитів'!D567","v":""},{"$f":"'1.Портфель кредитів'!#REF!","v":{"$error":"#REF!"}},{"$f":"'1.Портфель кредитів'!#REF!","v":{"$error":"#REF!"}},{"$f":"'1.Портфель кредитів'!#REF!","v":{"$error":"#REF!"}},{"$f":"'1.Портфель кредитів'!I567","v":0},{"$f":"'1.Портфель кредитів'!W567","v":0},{"$f":"'1.Портфель кредитів'!Y567","v":""},4,"2018-06-01","_4_43252_2"]
[{"$f":"'1.Портфель кредитів'!H568","v":0},{"$f":"'1.Портфель кредитів'!D568","v":""},{"$f":"'1.Портфель кредитів'!#REF!","v":{"$error":"#REF!"}},{"$f":"'1.Портфель кредитів'!#REF!","v":{"$error":"#REF!"}},{"$f":"'1.Портфель кредитів'!#REF!","v":{"$error":"#REF!"}},{"$f":"'1.Портфель кредитів'!I568","v":0},{"$f":"'1.Портфель кредитів'!W568","v":0},{"$f":"'1.Портфель кредитів'!Y568","v":""},4,"2018-06-01","_4_43252_2"]
[{"$f":"'1.Портфель кредитів'!H569","v":0},{"$f":"'1.Портфель кредитів'!D569","v":""},{"$f":"'1.Портфель кредитів'!#REF!","v":{"$error":"#REF!"}},{"$f":"'1.Портфель кредитів'!#REF!","v":{"$error":"#REF!"}},{"$f":"'1.Портфель кредитів'!#REF!","v":{"$error":"#REF!"}},{"$f":"'1.Портфель кредитів'!I569","v":0},{"$f":"'1.Портфель кредитів'!W569","v":0},{"$f":"'1.Портфель кредитів'!Y569","v":""},4,"2018-06-01","_4_43252_2"]
[{"$f":"'1.Портфель кредитів'!H570","v":0},{"$f":"'1.Портфель кредитів'!D570","v":""},{"$f":"'1.Портфель кредитів'!#REF!","v":{"$error":"#REF!"}},{"$f":"'1.Портфель кредитів'!#REF!","v":{"$error":"#REF!"}},{"$f":"'1.Портфель кредитів'!#REF!","v":{"$error":"#REF!"}},{"$f":"'1.Портфель кредитів'!I570","v":0},{"$f":"'1.Портфель кредитів'!W570","v":0},{"$f":"'1.Портфель кредитів'!Y570","v":""},4,"2018-06-01","_4_43252_2"]
[{"$f":"'1.Портфель кредитів'!H571","v":0},{"$f":"'1.Портфель кредитів'!D571","v":""},{"$f":"'1.Портфель кредитів'!#REF!","v":{"$error":"#REF!"}},{"$f":"'1.Портфель кредитів'!#REF!","v":{"$error":"#REF!"}},{"$f":"'1.Портфель кредитів'!#REF!","v":{"$error":"#REF!"}},{"$f":"'1.Портфель кредитів'!I571","v":0},{"$f":"'1.Портфель кредитів'!W571","v":0},{"$f":"'1.Портфель кредитів'!Y571","v":""},4,"2018-06-01","_4_43252_2"]
[{"$f":"'1.Портфель кредитів'!H572","v":0},{"$f":"'1.Портфель кредитів'!D572","v":""},{"$f":"'1.Портфель кредитів'!#REF!","v":{"$error":"#REF!"}},{"$f":"'1.Портфель кредитів'!#REF!","v":{"$error":"#REF!"}},{"$f":"'1.Портфель кредитів'!#REF!","v":{"$error":"#REF!"}},{"$f":"'1.Портфель кредитів'!I572","v":0},{"$f":"'1.Портфель кредитів'!W572","v":0},{"$f":"'1.Портфель кредитів'!Y572","v":""},4,"2018-06-01","_4_43252_2"]
[{"$f":"'1.Портфель кредитів'!H573","v":0},{"$f":"'1.Портфель кредитів'!D573","v":""},{"$f":"'1.Портфель кредитів'!#REF!","v":{"$error":"#REF!"}},{"$f":"'1.Портфель кредитів'!#REF!","v":{"$error":"#REF!"}},{"$f":"'1.Портфель кредитів'!#REF!","v":{"$error":"#REF!"}},{"$f":"'1.Портфель кредитів'!I573","v":0},{"$f":"'1.Портфель кредитів'!W573","v":0},{"$f":"'1.Портфель кредитів'!Y573","v":""},4,"2018-06-01","_4_43252_2"]
[{"$f":"'1.Портфель кредитів'!H574","v":0},{"$f":"'1.Портфель кредитів'!D574","v":""},{"$f":"'1.Портфель кредитів'!#REF!","v":{"$error":"#REF!"}},{"$f":"'1.Портфель кредитів'!#REF!","v":{"$error":"#REF!"}},{"$f":"'1.Портфель кредитів'!#REF!","v":{"$error":"#REF!"}},{"$f":"'1.Портфель кредитів'!I574","v":0},{"$f":"'1.Портфель кредитів'!W574","v":0},{"$f":"'1.Портфель кредитів'!Y574","v":""},4,"2018-06-01","_4_43252_2"]
[{"$f":"'1.Портфель кредитів'!H575","v":0},{"$f":"'1.Портфель кредитів'!D575","v":""},{"$f":"'1.Портфель кредитів'!#REF!","v":{"$error":"#REF!"}},{"$f":"'1.Портфель кредитів'!#REF!","v":{"$error":"#REF!"}},{"$f":"'1.Портфель кредитів'!#REF!","v":{"$error":"#REF!"}},{"$f":"'1.Портфель кредитів'!I575","v":0},{"$f":"'1.Портфель кредитів'!W575","v":0},{"$f":"'1.Портфель кредитів'!Y575","v":""},4,"2018-06-01","_4_43252_2"]
[{"$f":"'1.Портфель кредитів'!H576","v":0},{"$f":"'1.Портфель кредитів'!D576","v":""},{"$f":"'1.Портфель кредитів'!#REF!","v":{"$error":"#REF!"}},{"$f":"'1.Портфель кредитів'!#REF!","v":{"$error":"#REF!"}},{"$f":"'1.Портфель кредитів'!#REF!","v":{"$error":"#REF!"}},{"$f":"'1.Портфель кредитів'!I576","v":0},{"$f":"'1.Портфель кредитів'!W576","v":0},{"$f":"'1.Портфель кредитів'!Y576","v":""},4,"2018-06-01","_4_43252_2"]
[{"$f":"'1.Портфель кредитів'!H577","v":0},{"$f":"'1.Портфель кредитів'!D577","v":""},{"$f":"'1.Портфель кредитів'!#REF!","v":{"$error":"#REF!"}},{"$f":"'1.Портфель кредитів'!#REF!","v":{"$error":"#REF!"}},{"$f":"'1.Портфель кредитів'!#REF!","v":{"$error":"#REF!"}},{"$f":"'1.Портфель кредитів'!I577","v":0},{"$f":"'1.Портфель кредитів'!W577","v":0},{"$f":"'1.Портфель кредитів'!Y577","v":""},4,"2018-06-01","_4_43252_2"]
[{"$f":"'1.Портфель кредитів'!H578","v":0},{"$f":"'1.Портфель кредитів'!D578","v":""},{"$f":"'1.Портфель кредитів'!#REF!","v":{"$error":"#REF!"}},{"$f":"'1.Портфель кредитів'!#REF!","v":{"$error":"#REF!"}},{"$f":"'1.Портфель кредитів'!#REF!","v":{"$error":"#REF!"}},{"$f":"'1.Портфель кредитів'!I578","v":0},{"$f":"'1.Портфель кредитів'!W578","v":0},{"$f":"'1.Портфель кредитів'!Y578","v":""},4,"2018-06-01","_4_43252_2"]
[{"$f":"'1.Портфель кредитів'!H579","v":0},{"$f":"'1.Портфель кредитів'!D579","v":""},{"$f":"'1.Портфель кредитів'!#REF!","v":{"$error":"#REF!"}},{"$f":"'1.Портфель кредитів'!#REF!","v":{"$error":"#REF!"}},{"$f":"'1.Портфель кредитів'!#REF!","v":{"$error":"#REF!"}},{"$f":"'1.Портфель кредитів'!I579","v":0},{"$f":"'1.Портфель кредитів'!W579","v":0},{"$f":"'1.Портфель кредитів'!Y579","v":""},4,"2018-06-01","_4_43252_2"]
[{"$f":"'1.Портфель кредитів'!H580","v":0},{"$f":"'1.Портфель кредитів'!D580","v":""},{"$f":"'1.Портфель кредитів'!#REF!","v":{"$error":"#REF!"}},{"$f":"'1.Портфель кредитів'!#REF!","v":{"$error":"#REF!"}},{"$f":"'1.Портфель кредитів'!#REF!","v":{"$error":"#REF!"}},{"$f":"'1.Портфель кредитів'!I580","v":0},{"$f":"'1.Портфель кредитів'!W580","v":0},{"$f":"'1.Портфель кредитів'!Y580","v":""},4,"2018-06-01","_4_43252_2"]
[{"$f":"'1.Портфель кредитів'!H581","v":0},{"$f":"'1.Портфель кредитів'!D581","v":""},{"$f":"'1.Портфель кредитів'!#REF!","v":{"$error":"#REF!"}},{"$f":"'1.Портфель кредитів'!#REF!","v":{"$error":"#REF!"}},{"$f":"'1.Портфель кредитів'!#REF!","v":{"$error":"#REF!"}},{"$f":"'1.Портфель кредитів'!I581","v":0},{"$f":"'1.Портфель кредитів'!W581","v":0},{"$f":"'1.Портфель кредитів'!Y581","v":""},4,"2018-06-01","_4_43252_2"]
[{"$f":"'1.Портфель кредитів'!H582","v":0},{"$f":"'1.Портфель кредитів'!D582","v":""},{"$f":"'1.Портфель кредитів'!#REF!","v":{"$error":"#REF!"}},{"$f":"'1.Портфель кредитів'!#REF!","v":{"$error":"#REF!"}},{"$f":"'1.Портфель кредитів'!#REF!","v":{"$error":"#REF!"}},{"$f":"'1.Портфель кредитів'!I582","v":0},{"$f":"'1.Портфель кредитів'!W582","v":0},{"$f":"'1.Портфель кредитів'!Y582","v":""},4,"2018-06-01","_4_43252_2"]
[{"$f":"'1.Портфель кредитів'!H583","v":0},{"$f":"'1.Портфель кредитів'!D583","v":""},{"$f":"'1.Портфель кредитів'!#REF!","v":{"$error":"#REF!"}},{"$f":"'1.Портфель кредитів'!#REF!","v":{"$error":"#REF!"}},{"$f":"'1.Портфель кредитів'!#REF!","v":{"$error":"#REF!"}},{"$f":"'1.Портфель кредитів'!I583","v":0},{"$f":"'1.Портфель кредитів'!W583","v":0},{"$f":"'1.Портфель кредитів'!Y583","v":""},4,"2018-06-01","_4_43252_2"]
[{"$f":"'1.Портфель кредитів'!H584","v":0},{"$f":"'1.Портфель кредитів'!D584","v":""},{"$f":"'1.Портфель кредитів'!#REF!","v":{"$error":"#REF!"}},{"$f":"'1.Портфель кредитів'!#REF!","v":{"$error":"#REF!"}},{"$f":"'1.Портфель кредитів'!#REF!","v":{"$error":"#REF!"}},{"$f":"'1.Портфель кредитів'!I584","v":0},{"$f":"'1.Портфель кредитів'!W584","v":0},{"$f":"'1.Портфель кредитів'!Y584","v":""},4,"2018-06-01","_4_43252_2"]
[{"$f":"'1.Портфель кредитів'!H585","v":0},{"$f":"'1.Портфель кредитів'!D585","v":""},{"$f":"'1.Портфель кредитів'!#REF!","v":{"$error":"#REF!"}},{"$f":"'1.Портфель кредитів'!#REF!","v":{"$error":"#REF!"}},{"$f":"'1.Портфель кредитів'!#REF!","v":{"$error":"#REF!"}},{"$f":"'1.Портфель кредитів'!I585","v":0},{"$f":"'1.Портфель кредитів'!W585","v":0},{"$f":"'1.Портфель кредитів'!Y585","v":""},4,"2018-06-01","_4_43252_2"]
[{"$f":"'1.Портфель кредитів'!H586","v":0},{"$f":"'1.Портфель кредитів'!D586","v":""},{"$f":"'1.Портфель кредитів'!#REF!","v":{"$error":"#REF!"}},{"$f":"'1.Портфель кредитів'!#REF!","v":{"$error":"#REF!"}},{"$f":"'1.Портфель кредитів'!#REF!","v":{"$error":"#REF!"}},{"$f":"'1.Портфель кредитів'!I586","v":0},{"$f":"'1.Портфель кредитів'!W586","v":0},{"$f":"'1.Портфель кредитів'!Y586","v":""},{"$f":"$E$1","v":4},{"$f":"$E$2","v":"2018-06-01"},{"$f":"B582&\"_\"&I582&\"_\"&J582&\"_\"&$E$3","v":"_4_43252_2"}]
[{"$f":"'1.Портфель кредитів'!H587","v":0},{"$f":"'1.Портфель кредитів'!D587","v":""},{"$f":"'1.Портфель кредитів'!#REF!","v":{"$error":"#REF!"}},{"$f":"'1.Портфель кредитів'!#REF!","v":{"$error":"#REF!"}},{"$f":"'1.Портфель кредитів'!#REF!","v":{"$error":"#REF!"}},{"$f":"'1.Портфель кредитів'!I587","v":0},{"$f":"'1.Портфель кредитів'!W587","v":0},{"$f":"'1.Портфель кредитів'!Y587","v":""},4,"2018-06-01","_4_43252_2"]
[{"$f":"'1.Портфель кредитів'!H588","v":0},{"$f":"'1.Портфель кредитів'!D588","v":""},{"$f":"'1.Портфель кредитів'!#REF!","v":{"$error":"#REF!"}},{"$f":"'1.Портфель кредитів'!#REF!","v":{"$error":"#REF!"}},{"$f":"'1.Портфель кредитів'!#REF!","v":{"$error":"#REF!"}},{"$f":"'1.Портфель кредитів'!I588","v":0},{"$f":"'1.Портфель кредитів'!W588","v":0},{"$f":"'1.Портфель кредитів'!Y588","v":""},4,"2018-06-01","_4_43252_2"]
[{"$f":"'1.Портфель кредитів'!H589","v":0},{"$f":"'1.Портфель кредитів'!D589","v":""},{"$f":"'1.Портфель кредитів'!#REF!","v":{"$error":"#REF!"}},{"$f":"'1.Портфель кредитів'!#REF!","v":{"$error":"#REF!"}},{"$f":"'1.Портфель кредитів'!#REF!","v":{"$error":"#REF!"}},{"$f":"'1.Портфель кредитів'!I589","v":0},{"$f":"'1.Портфель кредитів'!W589","v":0},{"$f":"'1.Портфель кредитів'!Y589","v":""},4,"2018-06-01","_4_43252_2"]
[{"$f":"'1.Портфель кредитів'!H590","v":0},{"$f":"'1.Портфель кредитів'!D590","v":""},{"$f":"'1.Портфель кредитів'!#REF!","v":{"$error":"#REF!"}},{"$f":"'1.Портфель кредитів'!#REF!","v":{"$error":"#REF!"}},{"$f":"'1.Портфель кредитів'!#REF!","v":{"$error":"#REF!"}},{"$f":"'1.Портфель кредитів'!I590","v":0},{"$f":"'1.Портфель кредитів'!W590","v":0},{"$f":"'1.Портфель кредитів'!Y590","v":""},4,"2018-06-01","_4_43252_2"]
[{"$f":"'1.Портфель кредитів'!H591","v":0},{"$f":"'1.Портфель кредитів'!D591","v":""},{"$f":"'1.Портфель кредитів'!#REF!","v":{"$error":"#REF!"}},{"$f":"'1.Портфель кредитів'!#REF!","v":{"$error":"#REF!"}},{"$f":"'1.Портфель кредитів'!#REF!","v":{"$error":"#REF!"}},{"$f":"'1.Портфель кредитів'!I591","v":0},{"$f":"'1.Портфель кредитів'!W591","v":0},{"$f":"'1.Портфель кредитів'!Y591","v":""},4,"2018-06-01","_4_43252_2"]
[{"$f":"'1.Портфель кредитів'!H592","v":0},{"$f":"'1.Портфель кредитів'!D592","v":""},{"$f":"'1.Портфель кредитів'!#REF!","v":{"$error":"#REF!"}},{"$f":"'1.Портфель кредитів'!#REF!","v":{"$error":"#REF!"}},{"$f":"'1.Портфель кредитів'!#REF!","v":{"$error":"#REF!"}},{"$f":"'1.Портфель кредитів'!I592","v":0},{"$f":"'1.Портфель кредитів'!W592","v":0},{"$f":"'1.Портфель кредитів'!Y592","v":""},4,"2018-06-01","_4_43252_2"]
[{"$f":"'1.Портфель кредитів'!H593","v":0},{"$f":"'1.Портфель кредитів'!D593","v":""},{"$f":"'1.Портфель кредитів'!#REF!","v":{"$error":"#REF!"}},{"$f":"'1.Портфель кредитів'!#REF!","v":{"$error":"#REF!"}},{"$f":"'1.Портфель кредитів'!#REF!","v":{"$error":"#REF!"}},{"$f":"'1.Портфель кредитів'!I593","v":0},{"$f":"'1.Портфель кредитів'!W593","v":0},{"$f":"'1.Портфель кредитів'!Y593","v":""},4,"2018-06-01","_4_43252_2"]
[{"$f":"'1.Портфель кредитів'!H594","v":0},{"$f":"'1.Портфель кредитів'!D594","v":""},{"$f":"'1.Портфель кредитів'!#REF!","v":{"$error":"#REF!"}},{"$f":"'1.Портфель кредитів'!#REF!","v":{"$error":"#REF!"}},{"$f":"'1.Портфель кредитів'!#REF!","v":{"$error":"#REF!"}},{"$f":"'1.Портфель кредитів'!I594","v":0},{"$f":"'1.Портфель кредитів'!W594","v":0},{"$f":"'1.Портфель кредитів'!Y594","v":""},4,"2018-06-01","_4_43252_2"]
[{"$f":"'1.Портфель кредитів'!H595","v":0},{"$f":"'1.Портфель кредитів'!D595","v":""},{"$f":"'1.Портфель кредитів'!#REF!","v":{"$error":"#REF!"}},{"$f":"'1.Портфель кредитів'!#REF!","v":{"$error":"#REF!"}},{"$f":"'1.Портфель кредитів'!#REF!","v":{"$error":"#REF!"}},{"$f":"'1.Портфель кредитів'!I595","v":0},{"$f":"'1.Портфель кредитів'!W595","v":0},{"$f":"'1.Портфель кредитів'!Y595","v":""},4,"2018-06-01","_4_43252_2"]
[{"$f":"'1.Портфель кредитів'!H596","v":0},{"$f":"'1.Портфель кредитів'!D596","v":""},{"$f":"'1.Портфель кредитів'!#REF!","v":{"$error":"#REF!"}},{"$f":"'1.Портфель кредитів'!#REF!","v":{"$error":"#REF!"}},{"$f":"'1.Портфель кредитів'!#REF!","v":{"$error":"#REF!"}},{"$f":"'1.Портфель кредитів'!I596","v":0},{"$f":"'1.Портфель кредитів'!W596","v":0},{"$f":"'1.Портфель кредитів'!Y596","v":""},4,"2018-06-01","_4_43252_2"]
[{"$f":"'1.Портфель кредитів'!H597","v":0},{"$f":"'1.Портфель кредитів'!D597","v":""},{"$f":"'1.Портфель кредитів'!#REF!","v":{"$error":"#REF!"}},{"$f":"'1.Портфель кредитів'!#REF!","v":{"$error":"#REF!"}},{"$f":"'1.Портфель кредитів'!#REF!","v":{"$error":"#REF!"}},{"$f":"'1.Портфель кредитів'!I597","v":0},{"$f":"'1.Портфель кредитів'!W597","v":0},{"$f":"'1.Портфель кредитів'!Y597","v":""},4,"2018-06-01","_4_43252_2"]
[{"$f":"'1.Портфель кредитів'!H598","v":0},{"$f":"'1.Портфель кредитів'!D598","v":""},{"$f":"'1.Портфель кредитів'!#REF!","v":{"$error":"#REF!"}},{"$f":"'1.Портфель кредитів'!#REF!","v":{"$error":"#REF!"}},{"$f":"'1.Портфель кредитів'!#REF!","v":{"$error":"#REF!"}},{"$f":"'1.Портфель кредитів'!I598","v":0},{"$f":"'1.Портфель кредитів'!W598","v":0},{"$f":"'1.Портфель кредитів'!Y598","v":""},4,"2018-06-01","_4_43252_2"]
[{"$f":"'1.Портфель кредитів'!H599","v":0},{"$f":"'1.Портфель кредитів'!D599","v":""},{"$f":"'1.Портфель кредитів'!#REF!","v":{"$error":"#REF!"}},{"$f":"'1.Портфель кредитів'!#REF!","v":{"$error":"#REF!"}},{"$f":"'1.Портфель кредитів'!#REF!","v":{"$error":"#REF!"}},{"$f":"'1.Портфель кредитів'!I599","v":0},{"$f":"'1.Портфель кредитів'!W599","v":0},{"$f":"'1.Портфель кредитів'!Y599","v":""},4,"2018-06-01","_4_43252_2"]
[{"$f":"'1.Портфель кредитів'!H600","v":0},{"$f":"'1.Портфель кредитів'!D600","v":""},{"$f":"'1.Портфель кредитів'!#REF!","v":{"$error":"#REF!"}},{"$f":"'1.Портфель кредитів'!#REF!","v":{"$error":"#REF!"}},{"$f":"'1.Портфель кредитів'!#REF!","v":{"$error":"#REF!"}},{"$f":"'1.Портфель кредитів'!I600","v":0},{"$f":"'1.Портфель кредитів'!W600","v":0},{"$f":"'1.Портфель кредитів'!Y600","v":""},4,"2018-06-01","_4_43252_2"]
[{"$f":"'1.Портфель кредитів'!H601","v":0},{"$f":"'1.Портфель кредитів'!D601","v":""},{"$f":"'1.Портфель кредитів'!#REF!","v":{"$error":"#REF!"}},{"$f":"'1.Портфель кредитів'!#REF!","v":{"$error":"#REF!"}},{"$f":"'1.Портфель кредитів'!#REF!","v":{"$error":"#REF!"}},{"$f":"'1.Портфель кредитів'!I601","v":0},{"$f":"'1.Портфель кредитів'!W601","v":0},{"$f":"'1.Портфель кредитів'!Y601","v":""},4,"2018-06-01","_4_43252_2"]
[{"$f":"'1.Портфель кредитів'!H602","v":0},{"$f":"'1.Портфель кредитів'!D602","v":""},{"$f":"'1.Портфель кредитів'!#REF!","v":{"$error":"#REF!"}},{"$f":"'1.Портфель кредитів'!#REF!","v":{"$error":"#REF!"}},{"$f":"'1.Портфель кредитів'!#REF!","v":{"$error":"#REF!"}},{"$f":"'1.Портфель кредитів'!I602","v":0},{"$f":"'1.Портфель кредитів'!W602","v":0},{"$f":"'1.Портфель кредитів'!Y602","v":""},4,"2018-06-01","_4_43252_2"]
[{"$f":"'1.Портфель кредитів'!H603","v":0},{"$f":"'1.Портфель кредитів'!D603","v":""},{"$f":"'1.Портфель кредитів'!#REF!","v":{"$error":"#REF!"}},{"$f":"'1.Портфель кредитів'!#REF!","v":{"$error":"#REF!"}},{"$f":"'1.Портфель кредитів'!#REF!","v":{"$error":"#REF!"}},{"$f":"'1.Портфель кредитів'!I603","v":0},{"$f":"'1.Портфель кредитів'!W603","v":0},{"$f":"'1.Портфель кредитів'!Y603","v":""},4,"2018-06-01","_4_43252_2"]
[{"$f":"'1.Портфель кредитів'!H604","v":0},{"$f":"'1.Портфель кредитів'!D604","v":""},{"$f":"'1.Портфель кредитів'!#REF!","v":{"$error":"#REF!"}},{"$f":"'1.Портфель кредитів'!#REF!","v":{"$error":"#REF!"}},{"$f":"'1.Портфель кредитів'!#REF!","v":{"$error":"#REF!"}},{"$f":"'1.Портфель кредитів'!I604","v":0},{"$f":"'1.Портфель кредитів'!W604","v":0},{"$f":"'1.Портфель кредитів'!Y604","v":""},4,"2018-06-01","_4_43252_2"]
[{"$f":"'1.Портфель кредитів'!H605","v":0},{"$f":"'1.Портфель кредитів'!D605","v":""},{"$f":"'1.Портфель кредитів'!#REF!","v":{"$error":"#REF!"}},{"$f":"'1.Портфель кредитів'!#REF!","v":{"$error":"#REF!"}},{"$f":"'1.Портфель кредитів'!#REF!","v":{"$error":"#REF!"}},{"$f":"'1.Портфель кредитів'!I605","v":0},{"$f":"'1.Портфель кредитів'!W605","v":0},{"$f":"'1.Портфель кредитів'!Y605","v":""},4,"2018-06-01","_4_43252_2"]
[{"$f":"'1.Портфель кредитів'!H606","v":0},{"$f":"'1.Портфель кредитів'!D606","v":""},{"$f":"'1.Портфель кредитів'!#REF!","v":{"$error":"#REF!"}},{"$f":"'1.Портфель кредитів'!#REF!","v":{"$error":"#REF!"}},{"$f":"'1.Портфель кредитів'!#REF!","v":{"$error":"#REF!"}},{"$f":"'1.Портфель кредитів'!I606","v":0},{"$f":"'1.Портфель кредитів'!W606","v":0},{"$f":"'1.Портфель кредитів'!Y606","v":""},4,"2018-06-01","_4_43252_2"]
[{"$f":"'1.Портфель кредитів'!H607","v":0},{"$f":"'1.Портфель кредитів'!D607","v":""},{"$f":"'1.Портфель кредитів'!#REF!","v":{"$error":"#REF!"}},{"$f":"'1.Портфель кредитів'!#REF!","v":{"$error":"#REF!"}},{"$f":"'1.Портфель кредитів'!#REF!","v":{"$error":"#REF!"}},{"$f":"'1.Портфель кредитів'!I607","v":0},{"$f":"'1.Портфель кредитів'!W607","v":0},{"$f":"'1.Портфель кредитів'!Y607","v":""},4,"2018-06-01","_4_43252_2"]
[{"$f":"'1.Портфель кредитів'!H608","v":0},{"$f":"'1.Портфель кредитів'!D608","v":""},{"$f":"'1.Портфель кредитів'!#REF!","v":{"$error":"#REF!"}},{"$f":"'1.Портфель кредитів'!#REF!","v":{"$error":"#REF!"}},{"$f":"'1.Портфель кредитів'!#REF!","v":{"$error":"#REF!"}},{"$f":"'1.Портфель кредитів'!I608","v":0},{"$f":"'1.Портфель кредитів'!W608","v":0},{"$f":"'1.Портфель кредитів'!Y608","v":""},4,"2018-06-01","_4_43252_2"]
[{"$f":"'1.Портфель кредитів'!H609","v":0},{"$f":"'1.Портфель кредитів'!D609","v":""},{"$f":"'1.Портфель кредитів'!#REF!","v":{"$error":"#REF!"}},{"$f":"'1.Портфель кредитів'!#REF!","v":{"$error":"#REF!"}},{"$f":"'1.Портфель кредитів'!#REF!","v":{"$error":"#REF!"}},{"$f":"'1.Портфель кредитів'!I609","v":0},{"$f":"'1.Портфель кредитів'!W609","v":0},{"$f":"'1.Портфель кредитів'!Y609","v":""},4,"2018-06-01","_4_43252_2"]
[{"$f":"'1.Портфель кредитів'!H610","v":0},{"$f":"'1.Портфель кредитів'!D610","v":""},{"$f":"'1.Портфель кредитів'!#REF!","v":{"$error":"#REF!"}},{"$f":"'1.Портфель кредитів'!#REF!","v":{"$error":"#REF!"}},{"$f":"'1.Портфель кредитів'!#REF!","v":{"$error":"#REF!"}},{"$f":"'1.Портфель кредитів'!I610","v":0},{"$f":"'1.Портфель кредитів'!W610","v":0},{"$f":"'1.Портфель кредитів'!Y610","v":""},4,"2018-06-01","_4_43252_2"]
[{"$f":"'1.Портфель кредитів'!H611","v":0},{"$f":"'1.Портфель кредитів'!D611","v":""},{"$f":"'1.Портфель кредитів'!#REF!","v":{"$error":"#REF!"}},{"$f":"'1.Портфель кредитів'!#REF!","v":{"$error":"#REF!"}},{"$f":"'1.Портфель кредитів'!#REF!","v":{"$error":"#REF!"}},{"$f":"'1.Портфель кредитів'!I611","v":0},{"$f":"'1.Портфель кредитів'!W611","v":0},{"$f":"'1.Портфель кредитів'!Y611","v":""},4,"2018-06-01","_4_43252_2"]
[{"$f":"'1.Портфель кредитів'!H612","v":0},{"$f":"'1.Портфель кредитів'!D612","v":""},{"$f":"'1.Портфель кредитів'!#REF!","v":{"$error":"#REF!"}},{"$f":"'1.Портфель кредитів'!#REF!","v":{"$error":"#REF!"}},{"$f":"'1.Портфель кредитів'!#REF!","v":{"$error":"#REF!"}},{"$f":"'1.Портфель кредитів'!I612","v":0},{"$f":"'1.Портфель кредитів'!W612","v":0},{"$f":"'1.Портфель кредитів'!Y612","v":""},4,"2018-06-01","_4_43252_2"]
[{"$f":"'1.Портфель кредитів'!H613","v":0},{"$f":"'1.Портфель кредитів'!D613","v":""},{"$f":"'1.Портфель кредитів'!#REF!","v":{"$error":"#REF!"}},{"$f":"'1.Портфель кредитів'!#REF!","v":{"$error":"#REF!"}},{"$f":"'1.Портфель кредитів'!#REF!","v":{"$error":"#REF!"}},{"$f":"'1.Портфель кредитів'!I613","v":0},{"$f":"'1.Портфель кредитів'!W613","v":0},{"$f":"'1.Портфель кредитів'!Y613","v":""},4,"2018-06-01","_4_43252_2"]
[{"$f":"'1.Портфель кредитів'!H614","v":0},{"$f":"'1.Портфель кредитів'!D614","v":""},{"$f":"'1.Портфель кредитів'!#REF!","v":{"$error":"#REF!"}},{"$f":"'1.Портфель кредитів'!#REF!","v":{"$error":"#REF!"}},{"$f":"'1.Портфель кредитів'!#REF!","v":{"$error":"#REF!"}},{"$f":"'1.Портфель кредитів'!I614","v":0},{"$f":"'1.Портфель кредитів'!W614","v":0},{"$f":"'1.Портфель кредитів'!Y614","v":""},4,"2018-06-01","_4_43252_2"]
[{"$f":"'1.Портфель кредитів'!H615","v":0},{"$f":"'1.Портфель кредитів'!D615","v":""},{"$f":"'1.Портфель кредитів'!#REF!","v":{"$error":"#REF!"}},{"$f":"'1.Портфель кредитів'!#REF!","v":{"$error":"#REF!"}},{"$f":"'1.Портфель кредитів'!#REF!","v":{"$error":"#REF!"}},{"$f":"'1.Портфель кредитів'!I615","v":0},{"$f":"'1.Портфель кредитів'!W615","v":0},{"$f":"'1.Портфель кредитів'!Y615","v":""},4,"2018-06-01","_4_43252_2"]
[{"$f":"'1.Портфель кредитів'!H616","v":0},{"$f":"'1.Портфель кредитів'!D616","v":""},{"$f":"'1.Портфель кредитів'!#REF!","v":{"$error":"#REF!"}},{"$f":"'1.Портфель кредитів'!#REF!","v":{"$error":"#REF!"}},{"$f":"'1.Портфель кредитів'!#REF!","v":{"$error":"#REF!"}},{"$f":"'1.Портфель кредитів'!I616","v":0},{"$f":"'1.Портфель кредитів'!W616","v":0},{"$f":"'1.Портфель кредитів'!Y616","v":""},4,"2018-06-01","_4_43252_2"]
[{"$f":"'1.Портфель кредитів'!H617","v":0},{"$f":"'1.Портфель кредитів'!D617","v":""},{"$f":"'1.Портфель кредитів'!#REF!","v":{"$error":"#REF!"}},{"$f":"'1.Портфель кредитів'!#REF!","v":{"$error":"#REF!"}},{"$f":"'1.Портфель кредитів'!#REF!","v":{"$error":"#REF!"}},{"$f":"'1.Портфель кредитів'!I617","v":0},{"$f":"'1.Портфель кредитів'!W617","v":0},{"$f":"'1.Портфель кредитів'!Y617","v":""},4,"2018-06-01","_4_43252_2"]
[{"$f":"'1.Портфель кредитів'!H618","v":0},{"$f":"'1.Портфель кредитів'!D618","v":""},{"$f":"'1.Портфель кредитів'!#REF!","v":{"$error":"#REF!"}},{"$f":"'1.Портфель кредитів'!#REF!","v":{"$error":"#REF!"}},{"$f":"'1.Портфель кредитів'!#REF!","v":{"$error":"#REF!"}},{"$f":"'1.Портфель кредитів'!I618","v":0},{"$f":"'1.Портфель кредитів'!W618","v":0},{"$f":"'1.Портфель кредитів'!Y618","v":""},4,"2018-06-01","_4_43252_2"]
[{"$f":"'1.Портфель кредитів'!H619","v":0},{"$f":"'1.Портфель кредитів'!D619","v":""},{"$f":"'1.Портфель кредитів'!#REF!","v":{"$error":"#REF!"}},{"$f":"'1.Портфель кредитів'!#REF!","v":{"$error":"#REF!"}},{"$f":"'1.Портфель кредитів'!#REF!","v":{"$error":"#REF!"}},{"$f":"'1.Портфель кредитів'!I619","v":0},{"$f":"'1.Портфель кредитів'!W619","v":0},{"$f":"'1.Портфель кредитів'!Y619","v":""},4,"2018-06-01","_4_43252_2"]
[{"$f":"'1.Портфель кредитів'!H620","v":0},{"$f":"'1.Портфель кредитів'!D620","v":""},{"$f":"'1.Портфель кредитів'!#REF!","v":{"$error":"#REF!"}},{"$f":"'1.Портфель кредитів'!#REF!","v":{"$error":"#REF!"}},{"$f":"'1.Портфель кредитів'!#REF!","v":{"$error":"#REF!"}},{"$f":"'1.Портфель кредитів'!I620","v":0},{"$f":"'1.Портфель кредитів'!W620","v":0},{"$f":"'1.Портфель кредитів'!Y620","v":""},4,"2018-06-01","_4_43252_2"]
[{"$f":"'1.Портфель кредитів'!H621","v":0},{"$f":"'1.Портфель кредитів'!D621","v":""},{"$f":"'1.Портфель кредитів'!#REF!","v":{"$error":"#REF!"}},{"$f":"'1.Портфель кредитів'!#REF!","v":{"$error":"#REF!"}},{"$f":"'1.Портфель кредитів'!#REF!","v":{"$error":"#REF!"}},{"$f":"'1.Портфель кредитів'!I621","v":0},{"$f":"'1.Портфель кредитів'!W621","v":0},{"$f":"'1.Портфель кредитів'!Y621","v":""},4,"2018-06-01","_4_43252_2"]
[{"$f":"'1.Портфель кредитів'!H622","v":0},{"$f":"'1.Портфель кредитів'!D622","v":""},{"$f":"'1.Портфель кредитів'!#REF!","v":{"$error":"#REF!"}},{"$f":"'1.Портфель кредитів'!#REF!","v":{"$error":"#REF!"}},{"$f":"'1.Портфель кредитів'!#REF!","v":{"$error":"#REF!"}},{"$f":"'1.Портфель кредитів'!I622","v":0},{"$f":"'1.Портфель кредитів'!W622","v":0},{"$f":"'1.Портфель кредитів'!Y622","v":""},4,"2018-06-01","_4_43252_2"]
[{"$f":"'1.Портфель кредитів'!H623","v":0},{"$f":"'1.Портфель кредитів'!D623","v":""},{"$f":"'1.Портфель кредитів'!#REF!","v":{"$error":"#REF!"}},{"$f":"'1.Портфель кредитів'!#REF!","v":{"$error":"#REF!"}},{"$f":"'1.Портфель кредитів'!#REF!","v":{"$error":"#REF!"}},{"$f":"'1.Портфель кредитів'!I623","v":0},{"$f":"'1.Портфель кредитів'!W623","v":0},{"$f":"'1.Портфель кредитів'!Y623","v":""},4,"2018-06-01","_4_43252_2"]
[{"$f":"'1.Портфель кредитів'!H624","v":0},{"$f":"'1.Портфель кредитів'!D624","v":""},{"$f":"'1.Портфель кредитів'!#REF!","v":{"$error":"#REF!"}},{"$f":"'1.Портфель кредитів'!#REF!","v":{"$error":"#REF!"}},{"$f":"'1.Портфель кредитів'!#REF!","v":{"$error":"#REF!"}},{"$f":"'1.Портфель кредитів'!I624","v":0},{"$f":"'1.Портфель кредитів'!W624","v":0},{"$f":"'1.Портфель кредитів'!Y624","v":""},4,"2018-06-01","_4_43252_2"]
[{"$f":"'1.Портфель кредитів'!H625","v":0},{"$f":"'1.Портфель кредитів'!D625","v":""},{"$f":"'1.Портфель кредитів'!#REF!","v":{"$error":"#REF!"}},{"$f":"'1.Портфель кредитів'!#REF!","v":{"$error":"#REF!"}},{"$f":"'1.Портфель кредитів'!#REF!","v":{"$error":"#REF!"}},{"$f":"'1.Портфель кредитів'!I625","v":0},{"$f":"'1.Портфель кредитів'!W625","v":0},{"$f":"'1.Портфель кредитів'!Y625","v":""},4,"2018-06-01","_4_43252_2"]
[{"$f":"'1.Портфель кредитів'!H626","v":0},{"$f":"'1.Портфель кредитів'!D626","v":""},{"$f":"'1.Портфель кредитів'!#REF!","v":{"$error":"#REF!"}},{"$f":"'1.Портфель кредитів'!#REF!","v":{"$error":"#REF!"}},{"$f":"'1.Портфель кредитів'!#REF!","v":{"$error":"#REF!"}},{"$f":"'1.Портфель кредитів'!I626","v":0},{"$f":"'1.Портфель кредитів'!W626","v":0},{"$f":"'1.Портфель кредитів'!Y626","v":""},4,"2018-06-01","_4_43252_2"]
[{"$f":"'1.Портфель кредитів'!H627","v":0},{"$f":"'1.Портфель кредитів'!D627","v":""},{"$f":"'1.Портфель кредитів'!#REF!","v":{"$error":"#REF!"}},{"$f":"'1.Портфель кредитів'!#REF!","v":{"$error":"#REF!"}},{"$f":"'1.Портфель кредитів'!#REF!","v":{"$error":"#REF!"}},{"$f":"'1.Портфель кредитів'!I627","v":0},{"$f":"'1.Портфель кредитів'!W627","v":0},{"$f":"'1.Портфель кредитів'!Y627","v":""},4,"2018-06-01","_4_43252_2"]
[{"$f":"'1.Портфель кредитів'!H628","v":0},{"$f":"'1.Портфель кредитів'!D628","v":""},{"$f":"'1.Портфель кредитів'!#REF!","v":{"$error":"#REF!"}},{"$f":"'1.Портфель кредитів'!#REF!","v":{"$error":"#REF!"}},{"$f":"'1.Портфель кредитів'!#REF!","v":{"$error":"#REF!"}},{"$f":"'1.Портфель кредитів'!I628","v":0},{"$f":"'1.Портфель кредитів'!W628","v":0},{"$f":"'1.Портфель кредитів'!Y628","v":""},4,"2018-06-01","_4_43252_2"]
[{"$f":"'1.Портфель кредитів'!H629","v":0},{"$f":"'1.Портфель кредитів'!D629","v":""},{"$f":"'1.Портфель кредитів'!#REF!","v":{"$error":"#REF!"}},{"$f":"'1.Портфель кредитів'!#REF!","v":{"$error":"#REF!"}},{"$f":"'1.Портфель кредитів'!#REF!","v":{"$error":"#REF!"}},{"$f":"'1.Портфель кредитів'!I629","v":0},{"$f":"'1.Портфель кредитів'!W629","v":0},{"$f":"'1.Портфель кредитів'!Y629","v":""},4,"2018-06-01","_4_43252_2"]
[{"$f":"'1.Портфель кредитів'!H630","v":0},{"$f":"'1.Портфель кредитів'!D630","v":""},{"$f":"'1.Портфель кредитів'!#REF!","v":{"$error":"#REF!"}},{"$f":"'1.Портфель кредитів'!#REF!","v":{"$error":"#REF!"}},{"$f":"'1.Портфель кредитів'!#REF!","v":{"$error":"#REF!"}},{"$f":"'1.Портфель кредитів'!I630","v":0},{"$f":"'1.Портфель кредитів'!W630","v":0},{"$f":"'1.Портфель кредитів'!Y630","v":""},4,"2018-06-01","_4_43252_2"]
[{"$f":"'1.Портфель кредитів'!H631","v":0},{"$f":"'1.Портфель кредитів'!D631","v":""},{"$f":"'1.Портфель кредитів'!#REF!","v":{"$error":"#REF!"}},{"$f":"'1.Портфель кредитів'!#REF!","v":{"$error":"#REF!"}},{"$f":"'1.Портфель кредитів'!#REF!","v":{"$error":"#REF!"}},{"$f":"'1.Портфель кредитів'!I631","v":0},{"$f":"'1.Портфель кредитів'!W631","v":0},{"$f":"'1.Портфель кредитів'!Y631","v":""},4,"2018-06-01","_4_43252_2"]
[{"$f":"'1.Портфель кредитів'!H632","v":0},{"$f":"'1.Портфель кредитів'!D632","v":""},{"$f":"'1.Портфель кредитів'!#REF!","v":{"$error":"#REF!"}},{"$f":"'1.Портфель кредитів'!#REF!","v":{"$error":"#REF!"}},{"$f":"'1.Портфель кредитів'!#REF!","v":{"$error":"#REF!"}},{"$f":"'1.Портфель кредитів'!I632","v":0},{"$f":"'1.Портфель кредитів'!W632","v":0},{"$f":"'1.Портфель кредитів'!Y632","v":""},4,"2018-06-01","_4_43252_2"]
[{"$f":"'1.Портфель кредитів'!H633","v":0},{"$f":"'1.Портфель кредитів'!D633","v":""},{"$f":"'1.Портфель кредитів'!#REF!","v":{"$error":"#REF!"}},{"$f":"'1.Портфель кредитів'!#REF!","v":{"$error":"#REF!"}},{"$f":"'1.Портфель кредитів'!#REF!","v":{"$error":"#REF!"}},{"$f":"'1.Портфель кредитів'!I633","v":0},{"$f":"'1.Портфель кредитів'!W633","v":0},{"$f":"'1.Портфель кредитів'!Y633","v":""},4,"2018-06-01","_4_43252_2"]
[{"$f":"'1.Портфель кредитів'!H634","v":0},{"$f":"'1.Портфель кредитів'!D634","v":""},{"$f":"'1.Портфель кредитів'!#REF!","v":{"$error":"#REF!"}},{"$f":"'1.Портфель кредитів'!#REF!","v":{"$error":"#REF!"}},{"$f":"'1.Портфель кредитів'!#REF!","v":{"$error":"#REF!"}},{"$f":"'1.Портфель кредитів'!I634","v":0},{"$f":"'1.Портфель кредитів'!W634","v":0},{"$f":"'1.Портфель кредитів'!Y634","v":""},4,"2018-06-01","_4_43252_2"]
[{"$f":"'1.Портфель кредитів'!H635","v":0},{"$f":"'1.Портфель кредитів'!D635","v":""},{"$f":"'1.Портфель кредитів'!#REF!","v":{"$error":"#REF!"}},{"$f":"'1.Портфель кредитів'!#REF!","v":{"$error":"#REF!"}},{"$f":"'1.Портфель кредитів'!#REF!","v":{"$error":"#REF!"}},{"$f":"'1.Портфель кредитів'!I635","v":0},{"$f":"'1.Портфель кредитів'!W635","v":0},{"$f":"'1.Портфель кредитів'!Y635","v":""},4,"2018-06-01","_4_43252_2"]
[{"$f":"'1.Портфель кредитів'!H636","v":0},{"$f":"'1.Портфель кредитів'!D636","v":""},{"$f":"'1.Портфель кредитів'!#REF!","v":{"$error":"#REF!"}},{"$f":"'1.Портфель кредитів'!#REF!","v":{"$error":"#REF!"}},{"$f":"'1.Портфель кредитів'!#REF!","v":{"$error":"#REF!"}},{"$f":"'1.Портфель кредитів'!I636","v":0},{"$f":"'1.Портфель кредитів'!W636","v":0},{"$f":"'1.Портфель кредитів'!Y636","v":""},4,"2018-06-01","_4_43252_2"]
[{"$f":"'1.Портфель кредитів'!H637","v":0},{"$f":"'1.Портфель кредитів'!D637","v":""},{"$f":"'1.Портфель кредитів'!#REF!","v":{"$error":"#REF!"}},{"$f":"'1.Портфель кредитів'!#REF!","v":{"$error":"#REF!"}},{"$f":"'1.Портфель кредитів'!#REF!","v":{"$error":"#REF!"}},{"$f":"'1.Портфель кредитів'!I637","v":0},{"$f":"'1.Портфель кредитів'!W637","v":0},{"$f":"'1.Портфель кредитів'!Y637","v":""},4,"2018-06-01","_4_43252_2"]
[{"$f":"'1.Портфель кредитів'!H638","v":0},{"$f":"'1.Портфель кредитів'!D638","v":""},{"$f":"'1.Портфель кредитів'!#REF!","v":{"$error":"#REF!"}},{"$f":"'1.Портфель кредитів'!#REF!","v":{"$error":"#REF!"}},{"$f":"'1.Портфель кредитів'!#REF!","v":{"$error":"#REF!"}},{"$f":"'1.Портфель кредитів'!I638","v":0},{"$f":"'1.Портфель кредитів'!W638","v":0},{"$f":"'1.Портфель кредитів'!Y638","v":""},4,"2018-06-01","_4_43252_2"]
[{"$f":"'1.Портфель кредитів'!H639","v":0},{"$f":"'1.Портфель кредитів'!D639","v":""},{"$f":"'1.Портфель кредитів'!#REF!","v":{"$error":"#REF!"}},{"$f":"'1.Портфель кредитів'!#REF!","v":{"$error":"#REF!"}},{"$f":"'1.Портфель кредитів'!#REF!","v":{"$error":"#REF!"}},{"$f":"'1.Портфель кредитів'!I639","v":0},{"$f":"'1.Портфель кредитів'!W639","v":0},{"$f":"'1.Портфель кредитів'!Y639","v":""},4,"2018-06-01","_4_43252_2"]
[{"$f":"'1.Портфель кредитів'!H640","v":0},{"$f":"'1.Портфель кредитів'!D640","v":""},{"$f":"'1.Портфель кредитів'!#REF!","v":{"$error":"#REF!"}},{"$f":"'1.Портфель кредитів'!#REF!","v":{"$error":"#REF!"}},{"$f":"'1.Портфель кредитів'!#REF!","v":{"$error":"#REF!"}},{"$f":"'1.Портфель кредитів'!I640","v":0},{"$f":"'1.Портфель кредитів'!W640","v":0},{"$f":"'1.Портфель кредитів'!Y640","v":""},4,"2018-06-01","_4_43252_2"]
[{"$f":"'1.Портфель кредитів'!H641","v":0},{"$f":"'1.Портфель кредитів'!D641","v":""},{"$f":"'1.Портфель кредитів'!#REF!","v":{"$error":"#REF!"}},{"$f":"'1.Портфель кредитів'!#REF!","v":{"$error":"#REF!"}},{"$f":"'1.Портфель кредитів'!#REF!","v":{"$error":"#REF!"}},{"$f":"'1.Портфель кредитів'!I641","v":0},{"$f":"'1.Портфель кредитів'!W641","v":0},{"$f":"'1.Портфель кредитів'!Y641","v":""},4,"2018-06-01","_4_43252_2"]
[{"$f":"'1.Портфель кредитів'!H642","v":0},{"$f":"'1.Портфель кредитів'!D642","v":""},{"$f":"'1.Портфель кредитів'!#REF!","v":{"$error":"#REF!"}},{"$f":"'1.Портфель кредитів'!#REF!","v":{"$error":"#REF!"}},{"$f":"'1.Портфель кредитів'!#REF!","v":{"$error":"#REF!"}},{"$f":"'1.Портфель кредитів'!I642","v":0},{"$f":"'1.Портфель кредитів'!W642","v":0},{"$f":"'1.Портфель кредитів'!Y642","v":""},4,"2018-06-01","_4_43252_2"]
[{"$f":"'1.Портфель кредитів'!H643","v":0},{"$f":"'1.Портфель кредитів'!D643","v":""},{"$f":"'1.Портфель кредитів'!#REF!","v":{"$error":"#REF!"}},{"$f":"'1.Портфель кредитів'!#REF!","v":{"$error":"#REF!"}},{"$f":"'1.Портфель кредитів'!#REF!","v":{"$error":"#REF!"}},{"$f":"'1.Портфель кредитів'!I643","v":0},{"$f":"'1.Портфель кредитів'!W643","v":0},{"$f":"'1.Портфель кредитів'!Y643","v":""},4,"2018-06-01","_4_43252_2"]
[{"$f":"'1.Портфель кредитів'!H644","v":0},{"$f":"'1.Портфель кредитів'!D644","v":""},{"$f":"'1.Портфель кредитів'!#REF!","v":{"$error":"#REF!"}},{"$f":"'1.Портфель кредитів'!#REF!","v":{"$error":"#REF!"}},{"$f":"'1.Портфель кредитів'!#REF!","v":{"$error":"#REF!"}},{"$f":"'1.Портфель кредитів'!I644","v":0},{"$f":"'1.Портфель кредитів'!W644","v":0},{"$f":"'1.Портфель кредитів'!Y644","v":""},4,"2018-06-01","_4_43252_2"]
[{"$f":"'1.Портфель кредитів'!H645","v":0},{"$f":"'1.Портфель кредитів'!D645","v":""},{"$f":"'1.Портфель кредитів'!#REF!","v":{"$error":"#REF!"}},{"$f":"'1.Портфель кредитів'!#REF!","v":{"$error":"#REF!"}},{"$f":"'1.Портфель кредитів'!#REF!","v":{"$error":"#REF!"}},{"$f":"'1.Портфель кредитів'!I645","v":0},{"$f":"'1.Портфель кредитів'!W645","v":0},{"$f":"'1.Портфель кредитів'!Y645","v":""},4,"2018-06-01","_4_43252_2"]
[{"$f":"'1.Портфель кредитів'!H646","v":0},{"$f":"'1.Портфель кредитів'!D646","v":""},{"$f":"'1.Портфель кредитів'!#REF!","v":{"$error":"#REF!"}},{"$f":"'1.Портфель кредитів'!#REF!","v":{"$error":"#REF!"}},{"$f":"'1.Портфель кредитів'!#REF!","v":{"$error":"#REF!"}},{"$f":"'1.Портфель кредитів'!I646","v":0},{"$f":"'1.Портфель кредитів'!W646","v":0},{"$f":"'1.Портфель кредитів'!Y646","v":""},4,"2018-06-01","_4_43252_2"]
[{"$f":"'1.Портфель кредитів'!H647","v":0},{"$f":"'1.Портфель кредитів'!D647","v":""},{"$f":"'1.Портфель кредитів'!#REF!","v":{"$error":"#REF!"}},{"$f":"'1.Портфель кредитів'!#REF!","v":{"$error":"#REF!"}},{"$f":"'1.Портфель кредитів'!#REF!","v":{"$error":"#REF!"}},{"$f":"'1.Портфель кредитів'!I647","v":0},{"$f":"'1.Портфель кредитів'!W647","v":0},{"$f":"'1.Портфель кредитів'!Y647","v":""},4,"2018-06-01","_4_43252_2"]
[{"$f":"'1.Портфель кредитів'!H648","v":0},{"$f":"'1.Портфель кредитів'!D648","v":""},{"$f":"'1.Портфель кредитів'!#REF!","v":{"$error":"#REF!"}},{"$f":"'1.Портфель кредитів'!#REF!","v":{"$error":"#REF!"}},{"$f":"'1.Портфель кредитів'!#REF!","v":{"$error":"#REF!"}},{"$f":"'1.Портфель кредитів'!I648","v":0},{"$f":"'1.Портфель кредитів'!W648","v":0},{"$f":"'1.Портфель кредитів'!Y648","v":""},4,"2018-06-01","_4_43252_2"]
[{"$f":"'1.Портфель кредитів'!H649","v":0},{"$f":"'1.Портфель кредитів'!D649","v":""},{"$f":"'1.Портфель кредитів'!#REF!","v":{"$error":"#REF!"}},{"$f":"'1.Портфель кредитів'!#REF!","v":{"$error":"#REF!"}},{"$f":"'1.Портфель кредитів'!#REF!","v":{"$error":"#REF!"}},{"$f":"'1.Портфель кредитів'!I649","v":0},{"$f":"'1.Портфель кредитів'!W649","v":0},{"$f":"'1.Портфель кредитів'!Y649","v":""},4,"2018-06-01","_4_43252_2"]
[{"$f":"'1.Портфель кредитів'!H650","v":0},{"$f":"'1.Портфель кредитів'!D650","v":""},{"$f":"'1.Портфель кредитів'!#REF!","v":{"$error":"#REF!"}},{"$f":"'1.Портфель кредитів'!#REF!","v":{"$error":"#REF!"}},{"$f":"'1.Портфель кредитів'!#REF!","v":{"$error":"#REF!"}},{"$f":"'1.Портфель кредитів'!I650","v":0},{"$f":"'1.Портфель кредитів'!W650","v":0},{"$f":"'1.Портфель кредитів'!Y650","v":""},{"$f":"$E$1","v":4},{"$f":"$E$2","v":"2018-06-01"},{"$f":"B646&\"_\"&I646&\"_\"&J646&\"_\"&$E$3","v":"_4_43252_2"}]
[{"$f":"'1.Портфель кредитів'!H651","v":0},{"$f":"'1.Портфель кредитів'!D651","v":""},{"$f":"'1.Портфель кредитів'!#REF!","v":{"$error":"#REF!"}},{"$f":"'1.Портфель кредитів'!#REF!","v":{"$error":"#REF!"}},{"$f":"'1.Портфель кредитів'!#REF!","v":{"$error":"#REF!"}},{"$f":"'1.Портфель кредитів'!I651","v":0},{"$f":"'1.Портфель кредитів'!W651","v":0},{"$f":"'1.Портфель кредитів'!Y651","v":""},4,"2018-06-01","_4_43252_2"]
[{"$f":"'1.Портфель кредитів'!H652","v":0},{"$f":"'1.Портфель кредитів'!D652","v":""},{"$f":"'1.Портфель кредитів'!#REF!","v":{"$error":"#REF!"}},{"$f":"'1.Портфель кредитів'!#REF!","v":{"$error":"#REF!"}},{"$f":"'1.Портфель кредитів'!#REF!","v":{"$error":"#REF!"}},{"$f":"'1.Портфель кредитів'!I652","v":0},{"$f":"'1.Портфель кредитів'!W652","v":0},{"$f":"'1.Портфель кредитів'!Y652","v":""},4,"2018-06-01","_4_43252_2"]
[{"$f":"'1.Портфель кредитів'!H653","v":0},{"$f":"'1.Портфель кредитів'!D653","v":""},{"$f":"'1.Портфель кредитів'!#REF!","v":{"$error":"#REF!"}},{"$f":"'1.Портфель кредитів'!#REF!","v":{"$error":"#REF!"}},{"$f":"'1.Портфель кредитів'!#REF!","v":{"$error":"#REF!"}},{"$f":"'1.Портфель кредитів'!I653","v":0},{"$f":"'1.Портфель кредитів'!W653","v":0},{"$f":"'1.Портфель кредитів'!Y653","v":""},4,"2018-06-01","_4_43252_2"]
[{"$f":"'1.Портфель кредитів'!H654","v":0},{"$f":"'1.Портфель кредитів'!D654","v":""},{"$f":"'1.Портфель кредитів'!#REF!","v":{"$error":"#REF!"}},{"$f":"'1.Портфель кредитів'!#REF!","v":{"$error":"#REF!"}},{"$f":"'1.Портфель кредитів'!#REF!","v":{"$error":"#REF!"}},{"$f":"'1.Портфель кредитів'!I654","v":0},{"$f":"'1.Портфель кредитів'!W654","v":0},{"$f":"'1.Портфель кредитів'!Y654","v":""},4,"2018-06-01","_4_43252_2"]
[{"$f":"'1.Портфель кредитів'!H655","v":0},{"$f":"'1.Портфель кредитів'!D655","v":""},{"$f":"'1.Портфель кредитів'!#REF!","v":{"$error":"#REF!"}},{"$f":"'1.Портфель кредитів'!#REF!","v":{"$error":"#REF!"}},{"$f":"'1.Портфель кредитів'!#REF!","v":{"$error":"#REF!"}},{"$f":"'1.Портфель кредитів'!I655","v":0},{"$f":"'1.Портфель кредитів'!W655","v":0},{"$f":"'1.Портфель кредитів'!Y655","v":""},4,"2018-06-01","_4_43252_2"]
[{"$f":"'1.Портфель кредитів'!H656","v":0},{"$f":"'1.Портфель кредитів'!D656","v":""},{"$f":"'1.Портфель кредитів'!#REF!","v":{"$error":"#REF!"}},{"$f":"'1.Портфель кредитів'!#REF!","v":{"$error":"#REF!"}},{"$f":"'1.Портфель кредитів'!#REF!","v":{"$error":"#REF!"}},{"$f":"'1.Портфель кредитів'!I656","v":0},{"$f":"'1.Портфель кредитів'!W656","v":0},{"$f":"'1.Портфель кредитів'!Y656","v":""},4,"2018-06-01","_4_43252_2"]
[{"$f":"'1.Портфель кредитів'!H657","v":0},{"$f":"'1.Портфель кредитів'!D657","v":""},{"$f":"'1.Портфель кредитів'!#REF!","v":{"$error":"#REF!"}},{"$f":"'1.Портфель кредитів'!#REF!","v":{"$error":"#REF!"}},{"$f":"'1.Портфель кредитів'!#REF!","v":{"$error":"#REF!"}},{"$f":"'1.Портфель кредитів'!I657","v":0},{"$f":"'1.Портфель кредитів'!W657","v":0},{"$f":"'1.Портфель кредитів'!Y657","v":""},4,"2018-06-01","_4_43252_2"]
[{"$f":"'1.Портфель кредитів'!H658","v":0},{"$f":"'1.Портфель кредитів'!D658","v":""},{"$f":"'1.Портфель кредитів'!#REF!","v":{"$error":"#REF!"}},{"$f":"'1.Портфель кредитів'!#REF!","v":{"$error":"#REF!"}},{"$f":"'1.Портфель кредитів'!#REF!","v":{"$error":"#REF!"}},{"$f":"'1.Портфель кредитів'!I658","v":0},{"$f":"'1.Портфель кредитів'!W658","v":0},{"$f":"'1.Портфель кредитів'!Y658","v":""},4,"2018-06-01","_4_43252_2"]
[{"$f":"'1.Портфель кредитів'!H659","v":0},{"$f":"'1.Портфель кредитів'!D659","v":""},{"$f":"'1.Портфель кредитів'!#REF!","v":{"$error":"#REF!"}},{"$f":"'1.Портфель кредитів'!#REF!","v":{"$error":"#REF!"}},{"$f":"'1.Портфель кредитів'!#REF!","v":{"$error":"#REF!"}},{"$f":"'1.Портфель кредитів'!I659","v":0},{"$f":"'1.Портфель кредитів'!W659","v":0},{"$f":"'1.Портфель кредитів'!Y659","v":""},4,"2018-06-01","_4_43252_2"]
[{"$f":"'1.Портфель кредитів'!H660","v":0},{"$f":"'1.Портфель кредитів'!D660","v":""},{"$f":"'1.Портфель кредитів'!#REF!","v":{"$error":"#REF!"}},{"$f":"'1.Портфель кредитів'!#REF!","v":{"$error":"#REF!"}},{"$f":"'1.Портфель кредитів'!#REF!","v":{"$error":"#REF!"}},{"$f":"'1.Портфель кредитів'!I660","v":0},{"$f":"'1.Портфель кредитів'!W660","v":0},{"$f":"'1.Портфель кредитів'!Y660","v":""},4,"2018-06-01","_4_43252_2"]
[{"$f":"'1.Портфель кредитів'!H661","v":0},{"$f":"'1.Портфель кредитів'!D661","v":""},{"$f":"'1.Портфель кредитів'!#REF!","v":{"$error":"#REF!"}},{"$f":"'1.Портфель кредитів'!#REF!","v":{"$error":"#REF!"}},{"$f":"'1.Портфель кредитів'!#REF!","v":{"$error":"#REF!"}},{"$f":"'1.Портфель кредитів'!I661","v":0},{"$f":"'1.Портфель кредитів'!W661","v":0},{"$f":"'1.Портфель кредитів'!Y661","v":""},4,"2018-06-01","_4_43252_2"]
[{"$f":"'1.Портфель кредитів'!H662","v":0},{"$f":"'1.Портфель кредитів'!D662","v":""},{"$f":"'1.Портфель кредитів'!#REF!","v":{"$error":"#REF!"}},{"$f":"'1.Портфель кредитів'!#REF!","v":{"$error":"#REF!"}},{"$f":"'1.Портфель кредитів'!#REF!","v":{"$error":"#REF!"}},{"$f":"'1.Портфель кредитів'!I662","v":0},{"$f":"'1.Портфель кредитів'!W662","v":0},{"$f":"'1.Портфель кредитів'!Y662","v":""},4,"2018-06-01","_4_43252_2"]
[{"$f":"'1.Портфель кредитів'!H663","v":0},{"$f":"'1.Портфель кредитів'!D663","v":""},{"$f":"'1.Портфель кредитів'!#REF!","v":{"$error":"#REF!"}},{"$f":"'1.Портфель кредитів'!#REF!","v":{"$error":"#REF!"}},{"$f":"'1.Портфель кредитів'!#REF!","v":{"$error":"#REF!"}},{"$f":"'1.Портфель кредитів'!I663","v":0},{"$f":"'1.Портфель кредитів'!W663","v":0},{"$f":"'1.Портфель кредитів'!Y663","v":""},4,"2018-06-01","_4_43252_2"]
[{"$f":"'1.Портфель кредитів'!H664","v":0},{"$f":"'1.Портфель кредитів'!D664","v":""},{"$f":"'1.Портфель кредитів'!#REF!","v":{"$error":"#REF!"}},{"$f":"'1.Портфель кредитів'!#REF!","v":{"$error":"#REF!"}},{"$f":"'1.Портфель кредитів'!#REF!","v":{"$error":"#REF!"}},{"$f":"'1.Портфель кредитів'!I664","v":0},{"$f":"'1.Портфель кредитів'!W664","v":0},{"$f":"'1.Портфель кредитів'!Y664","v":""},4,"2018-06-01","_4_43252_2"]
[{"$f":"'1.Портфель кредитів'!H665","v":0},{"$f":"'1.Портфель кредитів'!D665","v":""},{"$f":"'1.Портфель кредитів'!#REF!","v":{"$error":"#REF!"}},{"$f":"'1.Портфель кредитів'!#REF!","v":{"$error":"#REF!"}},{"$f":"'1.Портфель кредитів'!#REF!","v":{"$error":"#REF!"}},{"$f":"'1.Портфель кредитів'!I665","v":0},{"$f":"'1.Портфель кредитів'!W665","v":0},{"$f":"'1.Портфель кредитів'!Y665","v":""},4,"2018-06-01","_4_43252_2"]
[{"$f":"'1.Портфель кредитів'!H666","v":0},{"$f":"'1.Портфель кредитів'!D666","v":""},{"$f":"'1.Портфель кредитів'!#REF!","v":{"$error":"#REF!"}},{"$f":"'1.Портфель кредитів'!#REF!","v":{"$error":"#REF!"}},{"$f":"'1.Портфель кредитів'!#REF!","v":{"$error":"#REF!"}},{"$f":"'1.Портфель кредитів'!I666","v":0},{"$f":"'1.Портфель кредитів'!W666","v":0},{"$f":"'1.Портфель кредитів'!Y666","v":""},4,"2018-06-01","_4_43252_2"]
[{"$f":"'1.Портфель кредитів'!H667","v":0},{"$f":"'1.Портфель кредитів'!D667","v":""},{"$f":"'1.Портфель кредитів'!#REF!","v":{"$error":"#REF!"}},{"$f":"'1.Портфель кредитів'!#REF!","v":{"$error":"#REF!"}},{"$f":"'1.Портфель кредитів'!#REF!","v":{"$error":"#REF!"}},{"$f":"'1.Портфель кредитів'!I667","v":0},{"$f":"'1.Портфель кредитів'!W667","v":0},{"$f":"'1.Портфель кредитів'!Y667","v":""},4,"2018-06-01","_4_43252_2"]
[{"$f":"'1.Портфель кредитів'!H668","v":0},{"$f":"'1.Портфель кредитів'!D668","v":""},{"$f":"'1.Портфель кредитів'!#REF!","v":{"$error":"#REF!"}},{"$f":"'1.Портфель кредитів'!#REF!","v":{"$error":"#REF!"}},{"$f":"'1.Портфель кредитів'!#REF!","v":{"$error":"#REF!"}},{"$f":"'1.Портфель кредитів'!I668","v":0},{"$f":"'1.Портфель кредитів'!W668","v":0},{"$f":"'1.Портфель кредитів'!Y668","v":""},4,"2018-06-01","_4_43252_2"]
[{"$f":"'1.Портфель кредитів'!H669","v":0},{"$f":"'1.Портфель кредитів'!D669","v":""},{"$f":"'1.Портфель кредитів'!#REF!","v":{"$error":"#REF!"}},{"$f":"'1.Портфель кредитів'!#REF!","v":{"$error":"#REF!"}},{"$f":"'1.Портфель кредитів'!#REF!","v":{"$error":"#REF!"}},{"$f":"'1.Портфель кредитів'!I669","v":0},{"$f":"'1.Портфель кредитів'!W669","v":0},{"$f":"'1.Портфель кредитів'!Y669","v":""},4,"2018-06-01","_4_43252_2"]
[{"$f":"'1.Портфель кредитів'!H670","v":0},{"$f":"'1.Портфель кредитів'!D670","v":""},{"$f":"'1.Портфель кредитів'!#REF!","v":{"$error":"#REF!"}},{"$f":"'1.Портфель кредитів'!#REF!","v":{"$error":"#REF!"}},{"$f":"'1.Портфель кредитів'!#REF!","v":{"$error":"#REF!"}},{"$f":"'1.Портфель кредитів'!I670","v":0},{"$f":"'1.Портфель кредитів'!W670","v":0},{"$f":"'1.Портфель кредитів'!Y670","v":""},4,"2018-06-01","_4_43252_2"]
[{"$f":"'1.Портфель кредитів'!H671","v":0},{"$f":"'1.Портфель кредитів'!D671","v":""},{"$f":"'1.Портфель кредитів'!#REF!","v":{"$error":"#REF!"}},{"$f":"'1.Портфель кредитів'!#REF!","v":{"$error":"#REF!"}},{"$f":"'1.Портфель кредитів'!#REF!","v":{"$error":"#REF!"}},{"$f":"'1.Портфель кредитів'!I671","v":0},{"$f":"'1.Портфель кредитів'!W671","v":0},{"$f":"'1.Портфель кредитів'!Y671","v":""},4,"2018-06-01","_4_43252_2"]
[{"$f":"'1.Портфель кредитів'!H672","v":0},{"$f":"'1.Портфель кредитів'!D672","v":""},{"$f":"'1.Портфель кредитів'!#REF!","v":{"$error":"#REF!"}},{"$f":"'1.Портфель кредитів'!#REF!","v":{"$error":"#REF!"}},{"$f":"'1.Портфель кредитів'!#REF!","v":{"$error":"#REF!"}},{"$f":"'1.Портфель кредитів'!I672","v":0},{"$f":"'1.Портфель кредитів'!W672","v":0},{"$f":"'1.Портфель кредитів'!Y672","v":""},4,"2018-06-01","_4_43252_2"]
[{"$f":"'1.Портфель кредитів'!H673","v":0},{"$f":"'1.Портфель кредитів'!D673","v":""},{"$f":"'1.Портфель кредитів'!#REF!","v":{"$error":"#REF!"}},{"$f":"'1.Портфель кредитів'!#REF!","v":{"$error":"#REF!"}},{"$f":"'1.Портфель кредитів'!#REF!","v":{"$error":"#REF!"}},{"$f":"'1.Портфель кредитів'!I673","v":0},{"$f":"'1.Портфель кредитів'!W673","v":0},{"$f":"'1.Портфель кредитів'!Y673","v":""},4,"2018-06-01","_4_43252_2"]
[{"$f":"'1.Портфель кредитів'!H674","v":0},{"$f":"'1.Портфель кредитів'!D674","v":""},{"$f":"'1.Портфель кредитів'!#REF!","v":{"$error":"#REF!"}},{"$f":"'1.Портфель кредитів'!#REF!","v":{"$error":"#REF!"}},{"$f":"'1.Портфель кредитів'!#REF!","v":{"$error":"#REF!"}},{"$f":"'1.Портфель кредитів'!I674","v":0},{"$f":"'1.Портфель кредитів'!W674","v":0},{"$f":"'1.Портфель кредитів'!Y674","v":""},4,"2018-06-01","_4_43252_2"]
[{"$f":"'1.Портфель кредитів'!H675","v":0},{"$f":"'1.Портфель кредитів'!D675","v":""},{"$f":"'1.Портфель кредитів'!#REF!","v":{"$error":"#REF!"}},{"$f":"'1.Портфель кредитів'!#REF!","v":{"$error":"#REF!"}},{"$f":"'1.Портфель кредитів'!#REF!","v":{"$error":"#REF!"}},{"$f":"'1.Портфель кредитів'!I675","v":0},{"$f":"'1.Портфель кредитів'!W675","v":0},{"$f":"'1.Портфель кредитів'!Y675","v":""},4,"2018-06-01","_4_43252_2"]
[{"$f":"'1.Портфель кредитів'!H676","v":0},{"$f":"'1.Портфель кредитів'!D676","v":""},{"$f":"'1.Портфель кредитів'!#REF!","v":{"$error":"#REF!"}},{"$f":"'1.Портфель кредитів'!#REF!","v":{"$error":"#REF!"}},{"$f":"'1.Портфель кредитів'!#REF!","v":{"$error":"#REF!"}},{"$f":"'1.Портфель кредитів'!I676","v":0},{"$f":"'1.Портфель кредитів'!W676","v":0},{"$f":"'1.Портфель кредитів'!Y676","v":""},4,"2018-06-01","_4_43252_2"]
[{"$f":"'1.Портфель кредитів'!H677","v":0},{"$f":"'1.Портфель кредитів'!D677","v":""},{"$f":"'1.Портфель кредитів'!#REF!","v":{"$error":"#REF!"}},{"$f":"'1.Портфель кредитів'!#REF!","v":{"$error":"#REF!"}},{"$f":"'1.Портфель кредитів'!#REF!","v":{"$error":"#REF!"}},{"$f":"'1.Портфель кредитів'!I677","v":0},{"$f":"'1.Портфель кредитів'!W677","v":0},{"$f":"'1.Портфель кредитів'!Y677","v":""},4,"2018-06-01","_4_43252_2"]
[{"$f":"'1.Портфель кредитів'!H678","v":0},{"$f":"'1.Портфель кредитів'!D678","v":""},{"$f":"'1.Портфель кредитів'!#REF!","v":{"$error":"#REF!"}},{"$f":"'1.Портфель кредитів'!#REF!","v":{"$error":"#REF!"}},{"$f":"'1.Портфель кредитів'!#REF!","v":{"$error":"#REF!"}},{"$f":"'1.Портфель кредитів'!I678","v":0},{"$f":"'1.Портфель кредитів'!W678","v":0},{"$f":"'1.Портфель кредитів'!Y678","v":""},4,"2018-06-01","_4_43252_2"]
[{"$f":"'1.Портфель кредитів'!H679","v":0},{"$f":"'1.Портфель кредитів'!D679","v":""},{"$f":"'1.Портфель кредитів'!#REF!","v":{"$error":"#REF!"}},{"$f":"'1.Портфель кредитів'!#REF!","v":{"$error":"#REF!"}},{"$f":"'1.Портфель кредитів'!#REF!","v":{"$error":"#REF!"}},{"$f":"'1.Портфель кредитів'!I679","v":0},{"$f":"'1.Портфель кредитів'!W679","v":0},{"$f":"'1.Портфель кредитів'!Y679","v":""},4,"2018-06-01","_4_43252_2"]
[{"$f":"'1.Портфель кредитів'!H680","v":0},{"$f":"'1.Портфель кредитів'!D680","v":""},{"$f":"'1.Портфель кредитів'!#REF!","v":{"$error":"#REF!"}},{"$f":"'1.Портфель кредитів'!#REF!","v":{"$error":"#REF!"}},{"$f":"'1.Портфель кредитів'!#REF!","v":{"$error":"#REF!"}},{"$f":"'1.Портфель кредитів'!I680","v":0},{"$f":"'1.Портфель кредитів'!W680","v":0},{"$f":"'1.Портфель кредитів'!Y680","v":""},4,"2018-06-01","_4_43252_2"]
[{"$f":"'1.Портфель кредитів'!H681","v":0},{"$f":"'1.Портфель кредитів'!D681","v":""},{"$f":"'1.Портфель кредитів'!#REF!","v":{"$error":"#REF!"}},{"$f":"'1.Портфель кредитів'!#REF!","v":{"$error":"#REF!"}},{"$f":"'1.Портфель кредитів'!#REF!","v":{"$error":"#REF!"}},{"$f":"'1.Портфель кредитів'!I681","v":0},{"$f":"'1.Портфель кредитів'!W681","v":0},{"$f":"'1.Портфель кредитів'!Y681","v":""},4,"2018-06-01","_4_43252_2"]
[{"$f":"'1.Портфель кредитів'!H682","v":0},{"$f":"'1.Портфель кредитів'!D682","v":""},{"$f":"'1.Портфель кредитів'!#REF!","v":{"$error":"#REF!"}},{"$f":"'1.Портфель кредитів'!#REF!","v":{"$error":"#REF!"}},{"$f":"'1.Портфель кредитів'!#REF!","v":{"$error":"#REF!"}},{"$f":"'1.Портфель кредитів'!I682","v":0},{"$f":"'1.Портфель кредитів'!W682","v":0},{"$f":"'1.Портфель кредитів'!Y682","v":""},4,"2018-06-01","_4_43252_2"]
[{"$f":"'1.Портфель кредитів'!H683","v":0},{"$f":"'1.Портфель кредитів'!D683","v":""},{"$f":"'1.Портфель кредитів'!#REF!","v":{"$error":"#REF!"}},{"$f":"'1.Портфель кредитів'!#REF!","v":{"$error":"#REF!"}},{"$f":"'1.Портфель кредитів'!#REF!","v":{"$error":"#REF!"}},{"$f":"'1.Портфель кредитів'!I683","v":0},{"$f":"'1.Портфель кредитів'!W683","v":0},{"$f":"'1.Портфель кредитів'!Y683","v":""},4,"2018-06-01","_4_43252_2"]
[{"$f":"'1.Портфель кредитів'!H684","v":0},{"$f":"'1.Портфель кредитів'!D684","v":""},{"$f":"'1.Портфель кредитів'!#REF!","v":{"$error":"#REF!"}},{"$f":"'1.Портфель кредитів'!#REF!","v":{"$error":"#REF!"}},{"$f":"'1.Портфель кредитів'!#REF!","v":{"$error":"#REF!"}},{"$f":"'1.Портфель кредитів'!I684","v":0},{"$f":"'1.Портфель кредитів'!W684","v":0},{"$f":"'1.Портфель кредитів'!Y684","v":""},4,"2018-06-01","_4_43252_2"]
[{"$f":"'1.Портфель кредитів'!H685","v":0},{"$f":"'1.Портфель кредитів'!D685","v":""},{"$f":"'1.Портфель кредитів'!#REF!","v":{"$error":"#REF!"}},{"$f":"'1.Портфель кредитів'!#REF!","v":{"$error":"#REF!"}},{"$f":"'1.Портфель кредитів'!#REF!","v":{"$error":"#REF!"}},{"$f":"'1.Портфель кредитів'!I685","v":0},{"$f":"'1.Портфель кредитів'!W685","v":0},{"$f":"'1.Портфель кредитів'!Y685","v":""},4,"2018-06-01","_4_43252_2"]
[{"$f":"'1.Портфель кредитів'!H686","v":0},{"$f":"'1.Портфель кредитів'!D686","v":""},{"$f":"'1.Портфель кредитів'!#REF!","v":{"$error":"#REF!"}},{"$f":"'1.Портфель кредитів'!#REF!","v":{"$error":"#REF!"}},{"$f":"'1.Портфель кредитів'!#REF!","v":{"$error":"#REF!"}},{"$f":"'1.Портфель кредитів'!I686","v":0},{"$f":"'1.Портфель кредитів'!W686","v":0},{"$f":"'1.Портфель кредитів'!Y686","v":""},4,"2018-06-01","_4_43252_2"]
[{"$f":"'1.Портфель кредитів'!H687","v":0},{"$f":"'1.Портфель кредитів'!D687","v":""},{"$f":"'1.Портфель кредитів'!#REF!","v":{"$error":"#REF!"}},{"$f":"'1.Портфель кредитів'!#REF!","v":{"$error":"#REF!"}},{"$f":"'1.Портфель кредитів'!#REF!","v":{"$error":"#REF!"}},{"$f":"'1.Портфель кредитів'!I687","v":0},{"$f":"'1.Портфель кредитів'!W687","v":0},{"$f":"'1.Портфель кредитів'!Y687","v":""},4,"2018-06-01","_4_43252_2"]
[{"$f":"'1.Портфель кредитів'!H688","v":0},{"$f":"'1.Портфель кредитів'!D688","v":""},{"$f":"'1.Портфель кредитів'!#REF!","v":{"$error":"#REF!"}},{"$f":"'1.Портфель кредитів'!#REF!","v":{"$error":"#REF!"}},{"$f":"'1.Портфель кредитів'!#REF!","v":{"$error":"#REF!"}},{"$f":"'1.Портфель кредитів'!I688","v":0},{"$f":"'1.Портфель кредитів'!W688","v":0},{"$f":"'1.Портфель кредитів'!Y688","v":""},4,"2018-06-01","_4_43252_2"]
[{"$f":"'1.Портфель кредитів'!H689","v":0},{"$f":"'1.Портфель кредитів'!D689","v":""},{"$f":"'1.Портфель кредитів'!#REF!","v":{"$error":"#REF!"}},{"$f":"'1.Портфель кредитів'!#REF!","v":{"$error":"#REF!"}},{"$f":"'1.Портфель кредитів'!#REF!","v":{"$error":"#REF!"}},{"$f":"'1.Портфель кредитів'!I689","v":0},{"$f":"'1.Портфель кредитів'!W689","v":0},{"$f":"'1.Портфель кредитів'!Y689","v":""},4,"2018-06-01","_4_43252_2"]
[{"$f":"'1.Портфель кредитів'!H690","v":0},{"$f":"'1.Портфель кредитів'!D690","v":""},{"$f":"'1.Портфель кредитів'!#REF!","v":{"$error":"#REF!"}},{"$f":"'1.Портфель кредитів'!#REF!","v":{"$error":"#REF!"}},{"$f":"'1.Портфель кредитів'!#REF!","v":{"$error":"#REF!"}},{"$f":"'1.Портфель кредитів'!I690","v":0},{"$f":"'1.Портфель кредитів'!W690","v":0},{"$f":"'1.Портфель кредитів'!Y690","v":""},4,"2018-06-01","_4_43252_2"]
[{"$f":"'1.Портфель кредитів'!H691","v":0},{"$f":"'1.Портфель кредитів'!D691","v":""},{"$f":"'1.Портфель кредитів'!#REF!","v":{"$error":"#REF!"}},{"$f":"'1.Портфель кредитів'!#REF!","v":{"$error":"#REF!"}},{"$f":"'1.Портфель кредитів'!#REF!","v":{"$error":"#REF!"}},{"$f":"'1.Портфель кредитів'!I691","v":0},{"$f":"'1.Портфель кредитів'!W691","v":0},{"$f":"'1.Портфель кредитів'!Y691","v":""},4,"2018-06-01","_4_43252_2"]
[{"$f":"'1.Портфель кредитів'!H692","v":0},{"$f":"'1.Портфель кредитів'!D692","v":""},{"$f":"'1.Портфель кредитів'!#REF!","v":{"$error":"#REF!"}},{"$f":"'1.Портфель кредитів'!#REF!","v":{"$error":"#REF!"}},{"$f":"'1.Портфель кредитів'!#REF!","v":{"$error":"#REF!"}},{"$f":"'1.Портфель кредитів'!I692","v":0},{"$f":"'1.Портфель кредитів'!W692","v":0},{"$f":"'1.Портфель кредитів'!Y692","v":""},4,"2018-06-01","_4_43252_2"]
[{"$f":"'1.Портфель кредитів'!H693","v":0},{"$f":"'1.Портфель кредитів'!D693","v":""},{"$f":"'1.Портфель кредитів'!#REF!","v":{"$error":"#REF!"}},{"$f":"'1.Портфель кредитів'!#REF!","v":{"$error":"#REF!"}},{"$f":"'1.Портфель кредитів'!#REF!","v":{"$error":"#REF!"}},{"$f":"'1.Портфель кредитів'!I693","v":0},{"$f":"'1.Портфель кредитів'!W693","v":0},{"$f":"'1.Портфель кредитів'!Y693","v":""},4,"2018-06-01","_4_43252_2"]
[{"$f":"'1.Портфель кредитів'!H694","v":0},{"$f":"'1.Портфель кредитів'!D694","v":""},{"$f":"'1.Портфель кредитів'!#REF!","v":{"$error":"#REF!"}},{"$f":"'1.Портфель кредитів'!#REF!","v":{"$error":"#REF!"}},{"$f":"'1.Портфель кредитів'!#REF!","v":{"$error":"#REF!"}},{"$f":"'1.Портфель кредитів'!I694","v":0},{"$f":"'1.Портфель кредитів'!W694","v":0},{"$f":"'1.Портфель кредитів'!Y694","v":""},4,"2018-06-01","_4_43252_2"]
[{"$f":"'1.Портфель кредитів'!H695","v":0},{"$f":"'1.Портфель кредитів'!D695","v":""},{"$f":"'1.Портфель кредитів'!#REF!","v":{"$error":"#REF!"}},{"$f":"'1.Портфель кредитів'!#REF!","v":{"$error":"#REF!"}},{"$f":"'1.Портфель кредитів'!#REF!","v":{"$error":"#REF!"}},{"$f":"'1.Портфель кредитів'!I695","v":0},{"$f":"'1.Портфель кредитів'!W695","v":0},{"$f":"'1.Портфель кредитів'!Y695","v":""},4,"2018-06-01","_4_43252_2"]
[{"$f":"'1.Портфель кредитів'!H696","v":0},{"$f":"'1.Портфель кредитів'!D696","v":""},{"$f":"'1.Портфель кредитів'!#REF!","v":{"$error":"#REF!"}},{"$f":"'1.Портфель кредитів'!#REF!","v":{"$error":"#REF!"}},{"$f":"'1.Портфель кредитів'!#REF!","v":{"$error":"#REF!"}},{"$f":"'1.Портфель кредитів'!I696","v":0},{"$f":"'1.Портфель кредитів'!W696","v":0},{"$f":"'1.Портфель кредитів'!Y696","v":""},4,"2018-06-01","_4_43252_2"]
[{"$f":"'1.Портфель кредитів'!H697","v":0},{"$f":"'1.Портфель кредитів'!D697","v":""},{"$f":"'1.Портфель кредитів'!#REF!","v":{"$error":"#REF!"}},{"$f":"'1.Портфель кредитів'!#REF!","v":{"$error":"#REF!"}},{"$f":"'1.Портфель кредитів'!#REF!","v":{"$error":"#REF!"}},{"$f":"'1.Портфель кредитів'!I697","v":0},{"$f":"'1.Портфель кредитів'!W697","v":0},{"$f":"'1.Портфель кредитів'!Y697","v":""},4,"2018-06-01","_4_43252_2"]
[{"$f":"'1.Портфель кредитів'!H698","v":0},{"$f":"'1.Портфель кредитів'!D698","v":""},{"$f":"'1.Портфель кредитів'!#REF!","v":{"$error":"#REF!"}},{"$f":"'1.Портфель кредитів'!#REF!","v":{"$error":"#REF!"}},{"$f":"'1.Портфель кредитів'!#REF!","v":{"$error":"#REF!"}},{"$f":"'1.Портфель кредитів'!I698","v":0},{"$f":"'1.Портфель кредитів'!W698","v":0},{"$f":"'1.Портфель кредитів'!Y698","v":""},4,"2018-06-01","_4_43252_2"]
[{"$f":"'1.Портфель кредитів'!H699","v":0},{"$f":"'1.Портфель кредитів'!D699","v":""},{"$f":"'1.Портфель кредитів'!#REF!","v":{"$error":"#REF!"}},{"$f":"'1.Портфель кредитів'!#REF!","v":{"$error":"#REF!"}},{"$f":"'1.Портфель кредитів'!#REF!","v":{"$error":"#REF!"}},{"$f":"'1.Портфель кредитів'!I699","v":0},{"$f":"'1.Портфель кредитів'!W699","v":0},{"$f":"'1.Портфель кредитів'!Y699","v":""},4,"2018-06-01","_4_43252_2"]
[{"$f":"'1.Портфель кредитів'!H700","v":0},{"$f":"'1.Портфель кредитів'!D700","v":""},{"$f":"'1.Портфель кредитів'!#REF!","v":{"$error":"#REF!"}},{"$f":"'1.Портфель кредитів'!#REF!","v":{"$error":"#REF!"}},{"$f":"'1.Портфель кредитів'!#REF!","v":{"$error":"#REF!"}},{"$f":"'1.Портфель кредитів'!I700","v":0},{"$f":"'1.Портфель кредитів'!W700","v":0},{"$f":"'1.Портфель кредитів'!Y700","v":""},4,"2018-06-01","_4_43252_2"]
[{"$f":"'1.Портфель кредитів'!H701","v":0},{"$f":"'1.Портфель кредитів'!D701","v":""},{"$f":"'1.Портфель кредитів'!#REF!","v":{"$error":"#REF!"}},{"$f":"'1.Портфель кредитів'!#REF!","v":{"$error":"#REF!"}},{"$f":"'1.Портфель кредитів'!#REF!","v":{"$error":"#REF!"}},{"$f":"'1.Портфель кредитів'!I701","v":0},{"$f":"'1.Портфель кредитів'!W701","v":0},{"$f":"'1.Портфель кредитів'!Y701","v":""},4,"2018-06-01","_4_43252_2"]
[{"$f":"'1.Портфель кредитів'!H702","v":0},{"$f":"'1.Портфель кредитів'!D702","v":""},{"$f":"'1.Портфель кредитів'!#REF!","v":{"$error":"#REF!"}},{"$f":"'1.Портфель кредитів'!#REF!","v":{"$error":"#REF!"}},{"$f":"'1.Портфель кредитів'!#REF!","v":{"$error":"#REF!"}},{"$f":"'1.Портфель кредитів'!I702","v":0},{"$f":"'1.Портфель кредитів'!W702","v":0},{"$f":"'1.Портфель кредитів'!Y702","v":""},4,"2018-06-01","_4_43252_2"]
[{"$f":"'1.Портфель кредитів'!H703","v":0},{"$f":"'1.Портфель кредитів'!D703","v":""},{"$f":"'1.Портфель кредитів'!#REF!","v":{"$error":"#REF!"}},{"$f":"'1.Портфель кредитів'!#REF!","v":{"$error":"#REF!"}},{"$f":"'1.Портфель кредитів'!#REF!","v":{"$error":"#REF!"}},{"$f":"'1.Портфель кредитів'!I703","v":0},{"$f":"'1.Портфель кредитів'!W703","v":0},{"$f":"'1.Портфель кредитів'!Y703","v":""},4,"2018-06-01","_4_43252_2"]
[{"$f":"'1.Портфель кредитів'!H704","v":0},{"$f":"'1.Портфель кредитів'!D704","v":""},{"$f":"'1.Портфель кредитів'!#REF!","v":{"$error":"#REF!"}},{"$f":"'1.Портфель кредитів'!#REF!","v":{"$error":"#REF!"}},{"$f":"'1.Портфель кредитів'!#REF!","v":{"$error":"#REF!"}},{"$f":"'1.Портфель кредитів'!I704","v":0},{"$f":"'1.Портфель кредитів'!W704","v":0},{"$f":"'1.Портфель кредитів'!Y704","v":""},4,"2018-06-01","_4_43252_2"]
[{"$f":"'1.Портфель кредитів'!H705","v":0},{"$f":"'1.Портфель кредитів'!D705","v":""},{"$f":"'1.Портфель кредитів'!#REF!","v":{"$error":"#REF!"}},{"$f":"'1.Портфель кредитів'!#REF!","v":{"$error":"#REF!"}},{"$f":"'1.Портфель кредитів'!#REF!","v":{"$error":"#REF!"}},{"$f":"'1.Портфель кредитів'!I705","v":0},{"$f":"'1.Портфель кредитів'!W705","v":0},{"$f":"'1.Портфель кредитів'!Y705","v":""},4,"2018-06-01","_4_43252_2"]
[{"$f":"'1.Портфель кредитів'!H706","v":0},{"$f":"'1.Портфель кредитів'!D706","v":""},{"$f":"'1.Портфель кредитів'!#REF!","v":{"$error":"#REF!"}},{"$f":"'1.Портфель кредитів'!#REF!","v":{"$error":"#REF!"}},{"$f":"'1.Портфель кредитів'!#REF!","v":{"$error":"#REF!"}},{"$f":"'1.Портфель кредитів'!I706","v":0},{"$f":"'1.Портфель кредитів'!W706","v":0},{"$f":"'1.Портфель кредитів'!Y706","v":""},4,"2018-06-01","_4_43252_2"]
[{"$f":"'1.Портфель кредитів'!H707","v":0},{"$f":"'1.Портфель кредитів'!D707","v":""},{"$f":"'1.Портфель кредитів'!#REF!","v":{"$error":"#REF!"}},{"$f":"'1.Портфель кредитів'!#REF!","v":{"$error":"#REF!"}},{"$f":"'1.Портфель кредитів'!#REF!","v":{"$error":"#REF!"}},{"$f":"'1.Портфель кредитів'!I707","v":0},{"$f":"'1.Портфель кредитів'!W707","v":0},{"$f":"'1.Портфель кредитів'!Y707","v":""},4,"2018-06-01","_4_43252_2"]
[{"$f":"'1.Портфель кредитів'!H708","v":0},{"$f":"'1.Портфель кредитів'!D708","v":""},{"$f":"'1.Портфель кредитів'!#REF!","v":{"$error":"#REF!"}},{"$f":"'1.Портфель кредитів'!#REF!","v":{"$error":"#REF!"}},{"$f":"'1.Портфель кредитів'!#REF!","v":{"$error":"#REF!"}},{"$f":"'1.Портфель кредитів'!I708","v":0},{"$f":"'1.Портфель кредитів'!W708","v":0},{"$f":"'1.Портфель кредитів'!Y708","v":""},4,"2018-06-01","_4_43252_2"]
[{"$f":"'1.Портфель кредитів'!H709","v":0},{"$f":"'1.Портфель кредитів'!D709","v":""},{"$f":"'1.Портфель кредитів'!#REF!","v":{"$error":"#REF!"}},{"$f":"'1.Портфель кредитів'!#REF!","v":{"$error":"#REF!"}},{"$f":"'1.Портфель кредитів'!#REF!","v":{"$error":"#REF!"}},{"$f":"'1.Портфель кредитів'!I709","v":0},{"$f":"'1.Портфель кредитів'!W709","v":0},{"$f":"'1.Портфель кредитів'!Y709","v":""},4,"2018-06-01","_4_43252_2"]
[{"$f":"'1.Портфель кредитів'!H710","v":0},{"$f":"'1.Портфель кредитів'!D710","v":""},{"$f":"'1.Портфель кредитів'!#REF!","v":{"$error":"#REF!"}},{"$f":"'1.Портфель кредитів'!#REF!","v":{"$error":"#REF!"}},{"$f":"'1.Портфель кредитів'!#REF!","v":{"$error":"#REF!"}},{"$f":"'1.Портфель кредитів'!I710","v":0},{"$f":"'1.Портфель кредитів'!W710","v":0},{"$f":"'1.Портфель кредитів'!Y710","v":""},4,"2018-06-01","_4_43252_2"]
[{"$f":"'1.Портфель кредитів'!H711","v":0},{"$f":"'1.Портфель кредитів'!D711","v":""},{"$f":"'1.Портфель кредитів'!#REF!","v":{"$error":"#REF!"}},{"$f":"'1.Портфель кредитів'!#REF!","v":{"$error":"#REF!"}},{"$f":"'1.Портфель кредитів'!#REF!","v":{"$error":"#REF!"}},{"$f":"'1.Портфель кредитів'!I711","v":0},{"$f":"'1.Портфель кредитів'!W711","v":0},{"$f":"'1.Портфель кредитів'!Y711","v":""},4,"2018-06-01","_4_43252_2"]
[{"$f":"'1.Портфель кредитів'!H712","v":0},{"$f":"'1.Портфель кредитів'!D712","v":""},{"$f":"'1.Портфель кредитів'!#REF!","v":{"$error":"#REF!"}},{"$f":"'1.Портфель кредитів'!#REF!","v":{"$error":"#REF!"}},{"$f":"'1.Портфель кредитів'!#REF!","v":{"$error":"#REF!"}},{"$f":"'1.Портфель кредитів'!I712","v":0},{"$f":"'1.Портфель кредитів'!W712","v":0},{"$f":"'1.Портфель кредитів'!Y712","v":""},4,"2018-06-01","_4_43252_2"]
[{"$f":"'1.Портфель кредитів'!H713","v":0},{"$f":"'1.Портфель кредитів'!D713","v":""},{"$f":"'1.Портфель кредитів'!#REF!","v":{"$error":"#REF!"}},{"$f":"'1.Портфель кредитів'!#REF!","v":{"$error":"#REF!"}},{"$f":"'1.Портфель кредитів'!#REF!","v":{"$error":"#REF!"}},{"$f":"'1.Портфель кредитів'!I713","v":0},{"$f":"'1.Портфель кредитів'!W713","v":0},{"$f":"'1.Портфель кредитів'!Y713","v":""},4,"2018-06-01","_4_43252_2"]
[{"$f":"'1.Портфель кредитів'!H714","v":0},{"$f":"'1.Портфель кредитів'!D714","v":""},{"$f":"'1.Портфель кредитів'!#REF!","v":{"$error":"#REF!"}},{"$f":"'1.Портфель кредитів'!#REF!","v":{"$error":"#REF!"}},{"$f":"'1.Портфель кредитів'!#REF!","v":{"$error":"#REF!"}},{"$f":"'1.Портфель кредитів'!I714","v":0},{"$f":"'1.Портфель кредитів'!W714","v":0},{"$f":"'1.Портфель кредитів'!Y714","v":""},{"$f":"$E$1","v":4},{"$f":"$E$2","v":"2018-06-01"},{"$f":"B710&\"_\"&I710&\"_\"&J710&\"_\"&$E$3","v":"_4_43252_2"}]
[{"$f":"'1.Портфель кредитів'!H715","v":0},{"$f":"'1.Портфель кредитів'!D715","v":""},{"$f":"'1.Портфель кредитів'!#REF!","v":{"$error":"#REF!"}},{"$f":"'1.Портфель кредитів'!#REF!","v":{"$error":"#REF!"}},{"$f":"'1.Портфель кредитів'!#REF!","v":{"$error":"#REF!"}},{"$f":"'1.Портфель кредитів'!I715","v":0},{"$f":"'1.Портфель кредитів'!W715","v":0},{"$f":"'1.Портфель кредитів'!Y715","v":""},4,"2018-06-01","_4_43252_2"]
[{"$f":"'1.Портфель кредитів'!H716","v":0},{"$f":"'1.Портфель кредитів'!D716","v":""},{"$f":"'1.Портфель кредитів'!#REF!","v":{"$error":"#REF!"}},{"$f":"'1.Портфель кредитів'!#REF!","v":{"$error":"#REF!"}},{"$f":"'1.Портфель кредитів'!#REF!","v":{"$error":"#REF!"}},{"$f":"'1.Портфель кредитів'!I716","v":0},{"$f":"'1.Портфель кредитів'!W716","v":0},{"$f":"'1.Портфель кредитів'!Y716","v":""},4,"2018-06-01","_4_43252_2"]
[{"$f":"'1.Портфель кредитів'!H717","v":0},{"$f":"'1.Портфель кредитів'!D717","v":""},{"$f":"'1.Портфель кредитів'!#REF!","v":{"$error":"#REF!"}},{"$f":"'1.Портфель кредитів'!#REF!","v":{"$error":"#REF!"}},{"$f":"'1.Портфель кредитів'!#REF!","v":{"$error":"#REF!"}},{"$f":"'1.Портфель кредитів'!I717","v":0},{"$f":"'1.Портфель кредитів'!W717","v":0},{"$f":"'1.Портфель кредитів'!Y717","v":""},4,"2018-06-01","_4_43252_2"]
[{"$f":"'1.Портфель кредитів'!H718","v":0},{"$f":"'1.Портфель кредитів'!D718","v":""},{"$f":"'1.Портфель кредитів'!#REF!","v":{"$error":"#REF!"}},{"$f":"'1.Портфель кредитів'!#REF!","v":{"$error":"#REF!"}},{"$f":"'1.Портфель кредитів'!#REF!","v":{"$error":"#REF!"}},{"$f":"'1.Портфель кредитів'!I718","v":0},{"$f":"'1.Портфель кредитів'!W718","v":0},{"$f":"'1.Портфель кредитів'!Y718","v":""},4,"2018-06-01","_4_43252_2"]
[{"$f":"'1.Портфель кредитів'!H719","v":0},{"$f":"'1.Портфель кредитів'!D719","v":""},{"$f":"'1.Портфель кредитів'!#REF!","v":{"$error":"#REF!"}},{"$f":"'1.Портфель кредитів'!#REF!","v":{"$error":"#REF!"}},{"$f":"'1.Портфель кредитів'!#REF!","v":{"$error":"#REF!"}},{"$f":"'1.Портфель кредитів'!I719","v":0},{"$f":"'1.Портфель кредитів'!W719","v":0},{"$f":"'1.Портфель кредитів'!Y719","v":""},4,"2018-06-01","_4_43252_2"]
[{"$f":"'1.Портфель кредитів'!H720","v":0},{"$f":"'1.Портфель кредитів'!D720","v":""},{"$f":"'1.Портфель кредитів'!#REF!","v":{"$error":"#REF!"}},{"$f":"'1.Портфель кредитів'!#REF!","v":{"$error":"#REF!"}},{"$f":"'1.Портфель кредитів'!#REF!","v":{"$error":"#REF!"}},{"$f":"'1.Портфель кредитів'!I720","v":0},{"$f":"'1.Портфель кредитів'!W720","v":0},{"$f":"'1.Портфель кредитів'!Y720","v":""},4,"2018-06-01","_4_43252_2"]
[{"$f":"'1.Портфель кредитів'!H721","v":0},{"$f":"'1.Портфель кредитів'!D721","v":""},{"$f":"'1.Портфель кредитів'!#REF!","v":{"$error":"#REF!"}},{"$f":"'1.Портфель кредитів'!#REF!","v":{"$error":"#REF!"}},{"$f":"'1.Портфель кредитів'!#REF!","v":{"$error":"#REF!"}},{"$f":"'1.Портфель кредитів'!I721","v":0},{"$f":"'1.Портфель кредитів'!W721","v":0},{"$f":"'1.Портфель кредитів'!Y721","v":""},4,"2018-06-01","_4_43252_2"]
[{"$f":"'1.Портфель кредитів'!H722","v":0},{"$f":"'1.Портфель кредитів'!D722","v":""},{"$f":"'1.Портфель кредитів'!#REF!","v":{"$error":"#REF!"}},{"$f":"'1.Портфель кредитів'!#REF!","v":{"$error":"#REF!"}},{"$f":"'1.Портфель кредитів'!#REF!","v":{"$error":"#REF!"}},{"$f":"'1.Портфель кредитів'!I722","v":0},{"$f":"'1.Портфель кредитів'!W722","v":0},{"$f":"'1.Портфель кредитів'!Y722","v":""},4,"2018-06-01","_4_43252_2"]
[{"$f":"'1.Портфель кредитів'!H723","v":0},{"$f":"'1.Портфель кредитів'!D723","v":""},{"$f":"'1.Портфель кредитів'!#REF!","v":{"$error":"#REF!"}},{"$f":"'1.Портфель кредитів'!#REF!","v":{"$error":"#REF!"}},{"$f":"'1.Портфель кредитів'!#REF!","v":{"$error":"#REF!"}},{"$f":"'1.Портфель кредитів'!I723","v":0},{"$f":"'1.Портфель кредитів'!W723","v":0},{"$f":"'1.Портфель кредитів'!Y723","v":""},4,"2018-06-01","_4_43252_2"]
[{"$f":"'1.Портфель кредитів'!H724","v":0},{"$f":"'1.Портфель кредитів'!D724","v":""},{"$f":"'1.Портфель кредитів'!#REF!","v":{"$error":"#REF!"}},{"$f":"'1.Портфель кредитів'!#REF!","v":{"$error":"#REF!"}},{"$f":"'1.Портфель кредитів'!#REF!","v":{"$error":"#REF!"}},{"$f":"'1.Портфель кредитів'!I724","v":0},{"$f":"'1.Портфель кредитів'!W724","v":0},{"$f":"'1.Портфель кредитів'!Y724","v":""},4,"2018-06-01","_4_43252_2"]
[{"$f":"'1.Портфель кредитів'!H725","v":0},{"$f":"'1.Портфель кредитів'!D725","v":""},{"$f":"'1.Портфель кредитів'!#REF!","v":{"$error":"#REF!"}},{"$f":"'1.Портфель кредитів'!#REF!","v":{"$error":"#REF!"}},{"$f":"'1.Портфель кредитів'!#REF!","v":{"$error":"#REF!"}},{"$f":"'1.Портфель кредитів'!I725","v":0},{"$f":"'1.Портфель кредитів'!W725","v":0},{"$f":"'1.Портфель кредитів'!Y725","v":""},4,"2018-06-01","_4_43252_2"]
[{"$f":"'1.Портфель кредитів'!H726","v":0},{"$f":"'1.Портфель кредитів'!D726","v":""},{"$f":"'1.Портфель кредитів'!#REF!","v":{"$error":"#REF!"}},{"$f":"'1.Портфель кредитів'!#REF!","v":{"$error":"#REF!"}},{"$f":"'1.Портфель кредитів'!#REF!","v":{"$error":"#REF!"}},{"$f":"'1.Портфель кредитів'!I726","v":0},{"$f":"'1.Портфель кредитів'!W726","v":0},{"$f":"'1.Портфель кредитів'!Y726","v":""},4,"2018-06-01","_4_43252_2"]
[{"$f":"'1.Портфель кредитів'!H727","v":0},{"$f":"'1.Портфель кредитів'!D727","v":""},{"$f":"'1.Портфель кредитів'!#REF!","v":{"$error":"#REF!"}},{"$f":"'1.Портфель кредитів'!#REF!","v":{"$error":"#REF!"}},{"$f":"'1.Портфель кредитів'!#REF!","v":{"$error":"#REF!"}},{"$f":"'1.Портфель кредитів'!I727","v":0},{"$f":"'1.Портфель кредитів'!W727","v":0},{"$f":"'1.Портфель кредитів'!Y727","v":""},4,"2018-06-01","_4_43252_2"]
[{"$f":"'1.Портфель кредитів'!H728","v":0},{"$f":"'1.Портфель кредитів'!D728","v":""},{"$f":"'1.Портфель кредитів'!#REF!","v":{"$error":"#REF!"}},{"$f":"'1.Портфель кредитів'!#REF!","v":{"$error":"#REF!"}},{"$f":"'1.Портфель кредитів'!#REF!","v":{"$error":"#REF!"}},{"$f":"'1.Портфель кредитів'!I728","v":0},{"$f":"'1.Портфель кредитів'!W728","v":0},{"$f":"'1.Портфель кредитів'!Y728","v":""},4,"2018-06-01","_4_43252_2"]
[{"$f":"'1.Портфель кредитів'!H729","v":0},{"$f":"'1.Портфель кредитів'!D729","v":""},{"$f":"'1.Портфель кредитів'!#REF!","v":{"$error":"#REF!"}},{"$f":"'1.Портфель кредитів'!#REF!","v":{"$error":"#REF!"}},{"$f":"'1.Портфель кредитів'!#REF!","v":{"$error":"#REF!"}},{"$f":"'1.Портфель кредитів'!I729","v":0},{"$f":"'1.Портфель кредитів'!W729","v":0},{"$f":"'1.Портфель кредитів'!Y729","v":""},4,"2018-06-01","_4_43252_2"]
[{"$f":"'1.Портфель кредитів'!H730","v":0},{"$f":"'1.Портфель кредитів'!D730","v":""},{"$f":"'1.Портфель кредитів'!#REF!","v":{"$error":"#REF!"}},{"$f":"'1.Портфель кредитів'!#REF!","v":{"$error":"#REF!"}},{"$f":"'1.Портфель кредитів'!#REF!","v":{"$error":"#REF!"}},{"$f":"'1.Портфель кредитів'!I730","v":0},{"$f":"'1.Портфель кредитів'!W730","v":0},{"$f":"'1.Портфель кредитів'!Y730","v":""},4,"2018-06-01","_4_43252_2"]
[{"$f":"'1.Портфель кредитів'!H731","v":0},{"$f":"'1.Портфель кредитів'!D731","v":""},{"$f":"'1.Портфель кредитів'!#REF!","v":{"$error":"#REF!"}},{"$f":"'1.Портфель кредитів'!#REF!","v":{"$error":"#REF!"}},{"$f":"'1.Портфель кредитів'!#REF!","v":{"$error":"#REF!"}},{"$f":"'1.Портфель кредитів'!I731","v":0},{"$f":"'1.Портфель кредитів'!W731","v":0},{"$f":"'1.Портфель кредитів'!Y731","v":""},4,"2018-06-01","_4_43252_2"]
[{"$f":"'1.Портфель кредитів'!H732","v":0},{"$f":"'1.Портфель кредитів'!D732","v":""},{"$f":"'1.Портфель кредитів'!#REF!","v":{"$error":"#REF!"}},{"$f":"'1.Портфель кредитів'!#REF!","v":{"$error":"#REF!"}},{"$f":"'1.Портфель кредитів'!#REF!","v":{"$error":"#REF!"}},{"$f":"'1.Портфель кредитів'!I732","v":0},{"$f":"'1.Портфель кредитів'!W732","v":0},{"$f":"'1.Портфель кредитів'!Y732","v":""},4,"2018-06-01","_4_43252_2"]
[{"$f":"'1.Портфель кредитів'!H733","v":0},{"$f":"'1.Портфель кредитів'!D733","v":""},{"$f":"'1.Портфель кредитів'!#REF!","v":{"$error":"#REF!"}},{"$f":"'1.Портфель кредитів'!#REF!","v":{"$error":"#REF!"}},{"$f":"'1.Портфель кредитів'!#REF!","v":{"$error":"#REF!"}},{"$f":"'1.Портфель кредитів'!I733","v":0},{"$f":"'1.Портфель кредитів'!W733","v":0},{"$f":"'1.Портфель кредитів'!Y733","v":""},4,"2018-06-01","_4_43252_2"]
[{"$f":"'1.Портфель кредитів'!H734","v":0},{"$f":"'1.Портфель кредитів'!D734","v":""},{"$f":"'1.Портфель кредитів'!#REF!","v":{"$error":"#REF!"}},{"$f":"'1.Портфель кредитів'!#REF!","v":{"$error":"#REF!"}},{"$f":"'1.Портфель кредитів'!#REF!","v":{"$error":"#REF!"}},{"$f":"'1.Портфель кредитів'!I734","v":0},{"$f":"'1.Портфель кредитів'!W734","v":0},{"$f":"'1.Портфель кредитів'!Y734","v":""},4,"2018-06-01","_4_43252_2"]
[{"$f":"'1.Портфель кредитів'!H735","v":0},{"$f":"'1.Портфель кредитів'!D735","v":""},{"$f":"'1.Портфель кредитів'!#REF!","v":{"$error":"#REF!"}},{"$f":"'1.Портфель кредитів'!#REF!","v":{"$error":"#REF!"}},{"$f":"'1.Портфель кредитів'!#REF!","v":{"$error":"#REF!"}},{"$f":"'1.Портфель кредитів'!I735","v":0},{"$f":"'1.Портфель кредитів'!W735","v":0},{"$f":"'1.Портфель кредитів'!Y735","v":""},4,"2018-06-01","_4_43252_2"]
[{"$f":"'1.Портфель кредитів'!H736","v":0},{"$f":"'1.Портфель кредитів'!D736","v":""},{"$f":"'1.Портфель кредитів'!#REF!","v":{"$error":"#REF!"}},{"$f":"'1.Портфель кредитів'!#REF!","v":{"$error":"#REF!"}},{"$f":"'1.Портфель кредитів'!#REF!","v":{"$error":"#REF!"}},{"$f":"'1.Портфель кредитів'!I736","v":0},{"$f":"'1.Портфель кредитів'!W736","v":0},{"$f":"'1.Портфель кредитів'!Y736","v":""},4,"2018-06-01","_4_43252_2"]
[{"$f":"'1.Портфель кредитів'!H737","v":0},{"$f":"'1.Портфель кредитів'!D737","v":""},{"$f":"'1.Портфель кредитів'!#REF!","v":{"$error":"#REF!"}},{"$f":"'1.Портфель кредитів'!#REF!","v":{"$error":"#REF!"}},{"$f":"'1.Портфель кредитів'!#REF!","v":{"$error":"#REF!"}},{"$f":"'1.Портфель кредитів'!I737","v":0},{"$f":"'1.Портфель кредитів'!W737","v":0},{"$f":"'1.Портфель кредитів'!Y737","v":""},4,"2018-06-01","_4_43252_2"]
[{"$f":"'1.Портфель кредитів'!H738","v":0},{"$f":"'1.Портфель кредитів'!D738","v":""},{"$f":"'1.Портфель кредитів'!#REF!","v":{"$error":"#REF!"}},{"$f":"'1.Портфель кредитів'!#REF!","v":{"$error":"#REF!"}},{"$f":"'1.Портфель кредитів'!#REF!","v":{"$error":"#REF!"}},{"$f":"'1.Портфель кредитів'!I738","v":0},{"$f":"'1.Портфель кредитів'!W738","v":0},{"$f":"'1.Портфель кредитів'!Y738","v":""},4,"2018-06-01","_4_43252_2"]
[{"$f":"'1.Портфель кредитів'!H739","v":0},{"$f":"'1.Портфель кредитів'!D739","v":""},{"$f":"'1.Портфель кредитів'!#REF!","v":{"$error":"#REF!"}},{"$f":"'1.Портфель кредитів'!#REF!","v":{"$error":"#REF!"}},{"$f":"'1.Портфель кредитів'!#REF!","v":{"$error":"#REF!"}},{"$f":"'1.Портфель кредитів'!I739","v":0},{"$f":"'1.Портфель кредитів'!W739","v":0},{"$f":"'1.Портфель кредитів'!Y739","v":""},4,"2018-06-01","_4_43252_2"]
[{"$f":"'1.Портфель кредитів'!H740","v":0},{"$f":"'1.Портфель кредитів'!D740","v":""},{"$f":"'1.Портфель кредитів'!#REF!","v":{"$error":"#REF!"}},{"$f":"'1.Портфель кредитів'!#REF!","v":{"$error":"#REF!"}},{"$f":"'1.Портфель кредитів'!#REF!","v":{"$error":"#REF!"}},{"$f":"'1.Портфель кредитів'!I740","v":0},{"$f":"'1.Портфель кредитів'!W740","v":0},{"$f":"'1.Портфель кредитів'!Y740","v":""},4,"2018-06-01","_4_43252_2"]
[{"$f":"'1.Портфель кредитів'!H741","v":0},{"$f":"'1.Портфель кредитів'!D741","v":""},{"$f":"'1.Портфель кредитів'!#REF!","v":{"$error":"#REF!"}},{"$f":"'1.Портфель кредитів'!#REF!","v":{"$error":"#REF!"}},{"$f":"'1.Портфель кредитів'!#REF!","v":{"$error":"#REF!"}},{"$f":"'1.Портфель кредитів'!I741","v":0},{"$f":"'1.Портфель кредитів'!W741","v":0},{"$f":"'1.Портфель кредитів'!Y741","v":""},4,"2018-06-01","_4_43252_2"]
[{"$f":"'1.Портфель кредитів'!H742","v":0},{"$f":"'1.Портфель кредитів'!D742","v":""},{"$f":"'1.Портфель кредитів'!#REF!","v":{"$error":"#REF!"}},{"$f":"'1.Портфель кредитів'!#REF!","v":{"$error":"#REF!"}},{"$f":"'1.Портфель кредитів'!#REF!","v":{"$error":"#REF!"}},{"$f":"'1.Портфель кредитів'!I742","v":0},{"$f":"'1.Портфель кредитів'!W742","v":0},{"$f":"'1.Портфель кредитів'!Y742","v":""},4,"2018-06-01","_4_43252_2"]
[{"$f":"'1.Портфель кредитів'!H743","v":0},{"$f":"'1.Портфель кредитів'!D743","v":""},{"$f":"'1.Портфель кредитів'!#REF!","v":{"$error":"#REF!"}},{"$f":"'1.Портфель кредитів'!#REF!","v":{"$error":"#REF!"}},{"$f":"'1.Портфель кредитів'!#REF!","v":{"$error":"#REF!"}},{"$f":"'1.Портфель кредитів'!I743","v":0},{"$f":"'1.Портфель кредитів'!W743","v":0},{"$f":"'1.Портфель кредитів'!Y743","v":""},4,"2018-06-01","_4_43252_2"]
[{"$f":"'1.Портфель кредитів'!H744","v":0},{"$f":"'1.Портфель кредитів'!D744","v":""},{"$f":"'1.Портфель кредитів'!#REF!","v":{"$error":"#REF!"}},{"$f":"'1.Портфель кредитів'!#REF!","v":{"$error":"#REF!"}},{"$f":"'1.Портфель кредитів'!#REF!","v":{"$error":"#REF!"}},{"$f":"'1.Портфель кредитів'!I744","v":0},{"$f":"'1.Портфель кредитів'!W744","v":0},{"$f":"'1.Портфель кредитів'!Y744","v":""},4,"2018-06-01","_4_43252_2"]
[{"$f":"'1.Портфель кредитів'!H745","v":0},{"$f":"'1.Портфель кредитів'!D745","v":""},{"$f":"'1.Портфель кредитів'!#REF!","v":{"$error":"#REF!"}},{"$f":"'1.Портфель кредитів'!#REF!","v":{"$error":"#REF!"}},{"$f":"'1.Портфель кредитів'!#REF!","v":{"$error":"#REF!"}},{"$f":"'1.Портфель кредитів'!I745","v":0},{"$f":"'1.Портфель кредитів'!W745","v":0},{"$f":"'1.Портфель кредитів'!Y745","v":""},4,"2018-06-01","_4_43252_2"]
[{"$f":"'1.Портфель кредитів'!H746","v":0},{"$f":"'1.Портфель кредитів'!D746","v":""},{"$f":"'1.Портфель кредитів'!#REF!","v":{"$error":"#REF!"}},{"$f":"'1.Портфель кредитів'!#REF!","v":{"$error":"#REF!"}},{"$f":"'1.Портфель кредитів'!#REF!","v":{"$error":"#REF!"}},{"$f":"'1.Портфель кредитів'!I746","v":0},{"$f":"'1.Портфель кредитів'!W746","v":0},{"$f":"'1.Портфель кредитів'!Y746","v":""},4,"2018-06-01","_4_43252_2"]
[{"$f":"'1.Портфель кредитів'!H747","v":0},{"$f":"'1.Портфель кредитів'!D747","v":""},{"$f":"'1.Портфель кредитів'!#REF!","v":{"$error":"#REF!"}},{"$f":"'1.Портфель кредитів'!#REF!","v":{"$error":"#REF!"}},{"$f":"'1.Портфель кредитів'!#REF!","v":{"$error":"#REF!"}},{"$f":"'1.Портфель кредитів'!I747","v":0},{"$f":"'1.Портфель кредитів'!W747","v":0},{"$f":"'1.Портфель кредитів'!Y747","v":""},4,"2018-06-01","_4_43252_2"]
[{"$f":"'1.Портфель кредитів'!H748","v":0},{"$f":"'1.Портфель кредитів'!D748","v":""},{"$f":"'1.Портфель кредитів'!#REF!","v":{"$error":"#REF!"}},{"$f":"'1.Портфель кредитів'!#REF!","v":{"$error":"#REF!"}},{"$f":"'1.Портфель кредитів'!#REF!","v":{"$error":"#REF!"}},{"$f":"'1.Портфель кредитів'!I748","v":0},{"$f":"'1.Портфель кредитів'!W748","v":0},{"$f":"'1.Портфель кредитів'!Y748","v":""},4,"2018-06-01","_4_43252_2"]
[{"$f":"'1.Портфель кредитів'!H749","v":0},{"$f":"'1.Портфель кредитів'!D749","v":""},{"$f":"'1.Портфель кредитів'!#REF!","v":{"$error":"#REF!"}},{"$f":"'1.Портфель кредитів'!#REF!","v":{"$error":"#REF!"}},{"$f":"'1.Портфель кредитів'!#REF!","v":{"$error":"#REF!"}},{"$f":"'1.Портфель кредитів'!I749","v":0},{"$f":"'1.Портфель кредитів'!W749","v":0},{"$f":"'1.Портфель кредитів'!Y749","v":""},4,"2018-06-01","_4_43252_2"]
[{"$f":"'1.Портфель кредитів'!H750","v":0},{"$f":"'1.Портфель кредитів'!D750","v":""},{"$f":"'1.Портфель кредитів'!#REF!","v":{"$error":"#REF!"}},{"$f":"'1.Портфель кредитів'!#REF!","v":{"$error":"#REF!"}},{"$f":"'1.Портфель кредитів'!#REF!","v":{"$error":"#REF!"}},{"$f":"'1.Портфель кредитів'!I750","v":0},{"$f":"'1.Портфель кредитів'!W750","v":0},{"$f":"'1.Портфель кредитів'!Y750","v":""},4,"2018-06-01","_4_43252_2"]
[{"$f":"'1.Портфель кредитів'!H751","v":0},{"$f":"'1.Портфель кредитів'!D751","v":""},{"$f":"'1.Портфель кредитів'!#REF!","v":{"$error":"#REF!"}},{"$f":"'1.Портфель кредитів'!#REF!","v":{"$error":"#REF!"}},{"$f":"'1.Портфель кредитів'!#REF!","v":{"$error":"#REF!"}},{"$f":"'1.Портфель кредитів'!I751","v":0},{"$f":"'1.Портфель кредитів'!W751","v":0},{"$f":"'1.Портфель кредитів'!Y751","v":""},4,"2018-06-01","_4_43252_2"]
[{"$f":"'1.Портфель кредитів'!H752","v":0},{"$f":"'1.Портфель кредитів'!D752","v":""},{"$f":"'1.Портфель кредитів'!#REF!","v":{"$error":"#REF!"}},{"$f":"'1.Портфель кредитів'!#REF!","v":{"$error":"#REF!"}},{"$f":"'1.Портфель кредитів'!#REF!","v":{"$error":"#REF!"}},{"$f":"'1.Портфель кредитів'!I752","v":0},{"$f":"'1.Портфель кредитів'!W752","v":0},{"$f":"'1.Портфель кредитів'!Y752","v":""},4,"2018-06-01","_4_43252_2"]
[{"$f":"'1.Портфель кредитів'!H753","v":0},{"$f":"'1.Портфель кредитів'!D753","v":""},{"$f":"'1.Портфель кредитів'!#REF!","v":{"$error":"#REF!"}},{"$f":"'1.Портфель кредитів'!#REF!","v":{"$error":"#REF!"}},{"$f":"'1.Портфель кредитів'!#REF!","v":{"$error":"#REF!"}},{"$f":"'1.Портфель кредитів'!I753","v":0},{"$f":"'1.Портфель кредитів'!W753","v":0},{"$f":"'1.Портфель кредитів'!Y753","v":""},4,"2018-06-01","_4_43252_2"]
[{"$f":"'1.Портфель кредитів'!H754","v":0},{"$f":"'1.Портфель кредитів'!D754","v":""},{"$f":"'1.Портфель кредитів'!#REF!","v":{"$error":"#REF!"}},{"$f":"'1.Портфель кредитів'!#REF!","v":{"$error":"#REF!"}},{"$f":"'1.Портфель кредитів'!#REF!","v":{"$error":"#REF!"}},{"$f":"'1.Портфель кредитів'!I754","v":0},{"$f":"'1.Портфель кредитів'!W754","v":0},{"$f":"'1.Портфель кредитів'!Y754","v":""},4,"2018-06-01","_4_43252_2"]
[{"$f":"'1.Портфель кредитів'!H755","v":0},{"$f":"'1.Портфель кредитів'!D755","v":""},{"$f":"'1.Портфель кредитів'!#REF!","v":{"$error":"#REF!"}},{"$f":"'1.Портфель кредитів'!#REF!","v":{"$error":"#REF!"}},{"$f":"'1.Портфель кредитів'!#REF!","v":{"$error":"#REF!"}},{"$f":"'1.Портфель кредитів'!I755","v":0},{"$f":"'1.Портфель кредитів'!W755","v":0},{"$f":"'1.Портфель кредитів'!Y755","v":""},4,"2018-06-01","_4_43252_2"]
[{"$f":"'1.Портфель кредитів'!H756","v":0},{"$f":"'1.Портфель кредитів'!D756","v":""},{"$f":"'1.Портфель кредитів'!#REF!","v":{"$error":"#REF!"}},{"$f":"'1.Портфель кредитів'!#REF!","v":{"$error":"#REF!"}},{"$f":"'1.Портфель кредитів'!#REF!","v":{"$error":"#REF!"}},{"$f":"'1.Портфель кредитів'!I756","v":0},{"$f":"'1.Портфель кредитів'!W756","v":0},{"$f":"'1.Портфель кредитів'!Y756","v":""},4,"2018-06-01","_4_43252_2"]
[{"$f":"'1.Портфель кредитів'!H757","v":0},{"$f":"'1.Портфель кредитів'!D757","v":""},{"$f":"'1.Портфель кредитів'!#REF!","v":{"$error":"#REF!"}},{"$f":"'1.Портфель кредитів'!#REF!","v":{"$error":"#REF!"}},{"$f":"'1.Портфель кредитів'!#REF!","v":{"$error":"#REF!"}},{"$f":"'1.Портфель кредитів'!I757","v":0},{"$f":"'1.Портфель кредитів'!W757","v":0},{"$f":"'1.Портфель кредитів'!Y757","v":""},4,"2018-06-01","_4_43252_2"]
[{"$f":"'1.Портфель кредитів'!H758","v":0},{"$f":"'1.Портфель кредитів'!D758","v":""},{"$f":"'1.Портфель кредитів'!#REF!","v":{"$error":"#REF!"}},{"$f":"'1.Портфель кредитів'!#REF!","v":{"$error":"#REF!"}},{"$f":"'1.Портфель кредитів'!#REF!","v":{"$error":"#REF!"}},{"$f":"'1.Портфель кредитів'!I758","v":0},{"$f":"'1.Портфель кредитів'!W758","v":0},{"$f":"'1.Портфель кредитів'!Y758","v":""},4,"2018-06-01","_4_43252_2"]
[{"$f":"'1.Портфель кредитів'!H759","v":0},{"$f":"'1.Портфель кредитів'!D759","v":""},{"$f":"'1.Портфель кредитів'!#REF!","v":{"$error":"#REF!"}},{"$f":"'1.Портфель кредитів'!#REF!","v":{"$error":"#REF!"}},{"$f":"'1.Портфель кредитів'!#REF!","v":{"$error":"#REF!"}},{"$f":"'1.Портфель кредитів'!I759","v":0},{"$f":"'1.Портфель кредитів'!W759","v":0},{"$f":"'1.Портфель кредитів'!Y759","v":""},4,"2018-06-01","_4_43252_2"]
[{"$f":"'1.Портфель кредитів'!H760","v":0},{"$f":"'1.Портфель кредитів'!D760","v":""},{"$f":"'1.Портфель кредитів'!#REF!","v":{"$error":"#REF!"}},{"$f":"'1.Портфель кредитів'!#REF!","v":{"$error":"#REF!"}},{"$f":"'1.Портфель кредитів'!#REF!","v":{"$error":"#REF!"}},{"$f":"'1.Портфель кредитів'!I760","v":0},{"$f":"'1.Портфель кредитів'!W760","v":0},{"$f":"'1.Портфель кредитів'!Y760","v":""},4,"2018-06-01","_4_43252_2"]
[{"$f":"'1.Портфель кредитів'!H761","v":0},{"$f":"'1.Портфель кредитів'!D761","v":""},{"$f":"'1.Портфель кредитів'!#REF!","v":{"$error":"#REF!"}},{"$f":"'1.Портфель кредитів'!#REF!","v":{"$error":"#REF!"}},{"$f":"'1.Портфель кредитів'!#REF!","v":{"$error":"#REF!"}},{"$f":"'1.Портфель кредитів'!I761","v":0},{"$f":"'1.Портфель кредитів'!W761","v":0},{"$f":"'1.Портфель кредитів'!Y761","v":""},4,"2018-06-01","_4_43252_2"]
[{"$f":"'1.Портфель кредитів'!H762","v":0},{"$f":"'1.Портфель кредитів'!D762","v":""},{"$f":"'1.Портфель кредитів'!#REF!","v":{"$error":"#REF!"}},{"$f":"'1.Портфель кредитів'!#REF!","v":{"$error":"#REF!"}},{"$f":"'1.Портфель кредитів'!#REF!","v":{"$error":"#REF!"}},{"$f":"'1.Портфель кредитів'!I762","v":0},{"$f":"'1.Портфель кредитів'!W762","v":0},{"$f":"'1.Портфель кредитів'!Y762","v":""},4,"2018-06-01","_4_43252_2"]
[{"$f":"'1.Портфель кредитів'!H763","v":0},{"$f":"'1.Портфель кредитів'!D763","v":""},{"$f":"'1.Портфель кредитів'!#REF!","v":{"$error":"#REF!"}},{"$f":"'1.Портфель кредитів'!#REF!","v":{"$error":"#REF!"}},{"$f":"'1.Портфель кредитів'!#REF!","v":{"$error":"#REF!"}},{"$f":"'1.Портфель кредитів'!I763","v":0},{"$f":"'1.Портфель кредитів'!W763","v":0},{"$f":"'1.Портфель кредитів'!Y763","v":""},4,"2018-06-01","_4_43252_2"]
[{"$f":"'1.Портфель кредитів'!H764","v":0},{"$f":"'1.Портфель кредитів'!D764","v":""},{"$f":"'1.Портфель кредитів'!#REF!","v":{"$error":"#REF!"}},{"$f":"'1.Портфель кредитів'!#REF!","v":{"$error":"#REF!"}},{"$f":"'1.Портфель кредитів'!#REF!","v":{"$error":"#REF!"}},{"$f":"'1.Портфель кредитів'!I764","v":0},{"$f":"'1.Портфель кредитів'!W764","v":0},{"$f":"'1.Портфель кредитів'!Y764","v":""},4,"2018-06-01","_4_43252_2"]
[{"$f":"'1.Портфель кредитів'!H765","v":0},{"$f":"'1.Портфель кредитів'!D765","v":""},{"$f":"'1.Портфель кредитів'!#REF!","v":{"$error":"#REF!"}},{"$f":"'1.Портфель кредитів'!#REF!","v":{"$error":"#REF!"}},{"$f":"'1.Портфель кредитів'!#REF!","v":{"$error":"#REF!"}},{"$f":"'1.Портфель кредитів'!I765","v":0},{"$f":"'1.Портфель кредитів'!W765","v":0},{"$f":"'1.Портфель кредитів'!Y765","v":""},4,"2018-06-01","_4_43252_2"]
[{"$f":"'1.Портфель кредитів'!H766","v":0},{"$f":"'1.Портфель кредитів'!D766","v":""},{"$f":"'1.Портфель кредитів'!#REF!","v":{"$error":"#REF!"}},{"$f":"'1.Портфель кредитів'!#REF!","v":{"$error":"#REF!"}},{"$f":"'1.Портфель кредитів'!#REF!","v":{"$error":"#REF!"}},{"$f":"'1.Портфель кредитів'!I766","v":0},{"$f":"'1.Портфель кредитів'!W766","v":0},{"$f":"'1.Портфель кредитів'!Y766","v":""},4,"2018-06-01","_4_43252_2"]
[{"$f":"'1.Портфель кредитів'!H767","v":0},{"$f":"'1.Портфель кредитів'!D767","v":""},{"$f":"'1.Портфель кредитів'!#REF!","v":{"$error":"#REF!"}},{"$f":"'1.Портфель кредитів'!#REF!","v":{"$error":"#REF!"}},{"$f":"'1.Портфель кредитів'!#REF!","v":{"$error":"#REF!"}},{"$f":"'1.Портфель кредитів'!I767","v":0},{"$f":"'1.Портфель кредитів'!W767","v":0},{"$f":"'1.Портфель кредитів'!Y767","v":""},4,"2018-06-01","_4_43252_2"]
[{"$f":"'1.Портфель кредитів'!H768","v":0},{"$f":"'1.Портфель кредитів'!D768","v":""},{"$f":"'1.Портфель кредитів'!#REF!","v":{"$error":"#REF!"}},{"$f":"'1.Портфель кредитів'!#REF!","v":{"$error":"#REF!"}},{"$f":"'1.Портфель кредитів'!#REF!","v":{"$error":"#REF!"}},{"$f":"'1.Портфель кредитів'!I768","v":0},{"$f":"'1.Портфель кредитів'!W768","v":0},{"$f":"'1.Портфель кредитів'!Y768","v":""},4,"2018-06-01","_4_43252_2"]
[{"$f":"'1.Портфель кредитів'!H769","v":0},{"$f":"'1.Портфель кредитів'!D769","v":""},{"$f":"'1.Портфель кредитів'!#REF!","v":{"$error":"#REF!"}},{"$f":"'1.Портфель кредитів'!#REF!","v":{"$error":"#REF!"}},{"$f":"'1.Портфель кредитів'!#REF!","v":{"$error":"#REF!"}},{"$f":"'1.Портфель кредитів'!I769","v":0},{"$f":"'1.Портфель кредитів'!W769","v":0},{"$f":"'1.Портфель кредитів'!Y769","v":""},4,"2018-06-01","_4_43252_2"]
[{"$f":"'1.Портфель кредитів'!H770","v":0},{"$f":"'1.Портфель кредитів'!D770","v":""},{"$f":"'1.Портфель кредитів'!#REF!","v":{"$error":"#REF!"}},{"$f":"'1.Портфель кредитів'!#REF!","v":{"$error":"#REF!"}},{"$f":"'1.Портфель кредитів'!#REF!","v":{"$error":"#REF!"}},{"$f":"'1.Портфель кредитів'!I770","v":0},{"$f":"'1.Портфель кредитів'!W770","v":0},{"$f":"'1.Портфель кредитів'!Y770","v":""},4,"2018-06-01","_4_43252_2"]
[{"$f":"'1.Портфель кредитів'!H771","v":0},{"$f":"'1.Портфель кредитів'!D771","v":""},{"$f":"'1.Портфель кредитів'!#REF!","v":{"$error":"#REF!"}},{"$f":"'1.Портфель кредитів'!#REF!","v":{"$error":"#REF!"}},{"$f":"'1.Портфель кредитів'!#REF!","v":{"$error":"#REF!"}},{"$f":"'1.Портфель кредитів'!I771","v":0},{"$f":"'1.Портфель кредитів'!W771","v":0},{"$f":"'1.Портфель кредитів'!Y771","v":""},4,"2018-06-01","_4_43252_2"]
[{"$f":"'1.Портфель кредитів'!H772","v":0},{"$f":"'1.Портфель кредитів'!D772","v":""},{"$f":"'1.Портфель кредитів'!#REF!","v":{"$error":"#REF!"}},{"$f":"'1.Портфель кредитів'!#REF!","v":{"$error":"#REF!"}},{"$f":"'1.Портфель кредитів'!#REF!","v":{"$error":"#REF!"}},{"$f":"'1.Портфель кредитів'!I772","v":0},{"$f":"'1.Портфель кредитів'!W772","v":0},{"$f":"'1.Портфель кредитів'!Y772","v":""},4,"2018-06-01","_4_43252_2"]
[{"$f":"'1.Портфель кредитів'!H773","v":0},{"$f":"'1.Портфель кредитів'!D773","v":""},{"$f":"'1.Портфель кредитів'!#REF!","v":{"$error":"#REF!"}},{"$f":"'1.Портфель кредитів'!#REF!","v":{"$error":"#REF!"}},{"$f":"'1.Портфель кредитів'!#REF!","v":{"$error":"#REF!"}},{"$f":"'1.Портфель кредитів'!I773","v":0},{"$f":"'1.Портфель кредитів'!W773","v":0},{"$f":"'1.Портфель кредитів'!Y773","v":""},4,"2018-06-01","_4_43252_2"]
[{"$f":"'1.Портфель кредитів'!H774","v":0},{"$f":"'1.Портфель кредитів'!D774","v":""},{"$f":"'1.Портфель кредитів'!#REF!","v":{"$error":"#REF!"}},{"$f":"'1.Портфель кредитів'!#REF!","v":{"$error":"#REF!"}},{"$f":"'1.Портфель кредитів'!#REF!","v":{"$error":"#REF!"}},{"$f":"'1.Портфель кредитів'!I774","v":0},{"$f":"'1.Портфель кредитів'!W774","v":0},{"$f":"'1.Портфель кредитів'!Y774","v":""},4,"2018-06-01","_4_43252_2"]
[{"$f":"'1.Портфель кредитів'!H775","v":0},{"$f":"'1.Портфель кредитів'!D775","v":""},{"$f":"'1.Портфель кредитів'!#REF!","v":{"$error":"#REF!"}},{"$f":"'1.Портфель кредитів'!#REF!","v":{"$error":"#REF!"}},{"$f":"'1.Портфель кредитів'!#REF!","v":{"$error":"#REF!"}},{"$f":"'1.Портфель кредитів'!I775","v":0},{"$f":"'1.Портфель кредитів'!W775","v":0},{"$f":"'1.Портфель кредитів'!Y775","v":""},4,"2018-06-01","_4_43252_2"]
[{"$f":"'1.Портфель кредитів'!H776","v":0},{"$f":"'1.Портфель кредитів'!D776","v":""},{"$f":"'1.Портфель кредитів'!#REF!","v":{"$error":"#REF!"}},{"$f":"'1.Портфель кредитів'!#REF!","v":{"$error":"#REF!"}},{"$f":"'1.Портфель кредитів'!#REF!","v":{"$error":"#REF!"}},{"$f":"'1.Портфель кредитів'!I776","v":0},{"$f":"'1.Портфель кредитів'!W776","v":0},{"$f":"'1.Портфель кредитів'!Y776","v":""},4,"2018-06-01","_4_43252_2"]
[{"$f":"'1.Портфель кредитів'!H777","v":0},{"$f":"'1.Портфель кредитів'!D777","v":""},{"$f":"'1.Портфель кредитів'!#REF!","v":{"$error":"#REF!"}},{"$f":"'1.Портфель кредитів'!#REF!","v":{"$error":"#REF!"}},{"$f":"'1.Портфель кредитів'!#REF!","v":{"$error":"#REF!"}},{"$f":"'1.Портфель кредитів'!I777","v":0},{"$f":"'1.Портфель кредитів'!W777","v":0},{"$f":"'1.Портфель кредитів'!Y777","v":""},4,"2018-06-01","_4_43252_2"]
[{"$f":"'1.Портфель кредитів'!H778","v":0},{"$f":"'1.Портфель кредитів'!D778","v":""},{"$f":"'1.Портфель кредитів'!#REF!","v":{"$error":"#REF!"}},{"$f":"'1.Портфель кредитів'!#REF!","v":{"$error":"#REF!"}},{"$f":"'1.Портфель кредитів'!#REF!","v":{"$error":"#REF!"}},{"$f":"'1.Портфель кредитів'!I778","v":0},{"$f":"'1.Портфель кредитів'!W778","v":0},{"$f":"'1.Портфель кредитів'!Y778","v":""},{"$f":"$E$1","v":4},{"$f":"$E$2","v":"2018-06-01"},{"$f":"B774&\"_\"&I774&\"_\"&J774&\"_\"&$E$3","v":"_4_43252_2"}]
[{"$f":"'1.Портфель кредитів'!H779","v":0},{"$f":"'1.Портфель кредитів'!D779","v":""},{"$f":"'1.Портфель кредитів'!#REF!","v":{"$error":"#REF!"}},{"$f":"'1.Портфель кредитів'!#REF!","v":{"$error":"#REF!"}},{"$f":"'1.Портфель кредитів'!#REF!","v":{"$error":"#REF!"}},{"$f":"'1.Портфель кредитів'!I779","v":0},{"$f":"'1.Портфель кредитів'!W779","v":0},{"$f":"'1.Портфель кредитів'!Y779","v":""},4,"2018-06-01","_4_43252_2"]
[{"$f":"'1.Портфель кредитів'!H780","v":0},{"$f":"'1.Портфель кредитів'!D780","v":""},{"$f":"'1.Портфель кредитів'!#REF!","v":{"$error":"#REF!"}},{"$f":"'1.Портфель кредитів'!#REF!","v":{"$error":"#REF!"}},{"$f":"'1.Портфель кредитів'!#REF!","v":{"$error":"#REF!"}},{"$f":"'1.Портфель кредитів'!I780","v":0},{"$f":"'1.Портфель кредитів'!W780","v":0},{"$f":"'1.Портфель кредитів'!Y780","v":""},4,"2018-06-01","_4_43252_2"]
[{"$f":"'1.Портфель кредитів'!H781","v":0},{"$f":"'1.Портфель кредитів'!D781","v":""},{"$f":"'1.Портфель кредитів'!#REF!","v":{"$error":"#REF!"}},{"$f":"'1.Портфель кредитів'!#REF!","v":{"$error":"#REF!"}},{"$f":"'1.Портфель кредитів'!#REF!","v":{"$error":"#REF!"}},{"$f":"'1.Портфель кредитів'!I781","v":0},{"$f":"'1.Портфель кредитів'!W781","v":0},{"$f":"'1.Портфель кредитів'!Y781","v":""},4,"2018-06-01","_4_43252_2"]
[{"$f":"'1.Портфель кредитів'!H782","v":0},{"$f":"'1.Портфель кредитів'!D782","v":""},{"$f":"'1.Портфель кредитів'!#REF!","v":{"$error":"#REF!"}},{"$f":"'1.Портфель кредитів'!#REF!","v":{"$error":"#REF!"}},{"$f":"'1.Портфель кредитів'!#REF!","v":{"$error":"#REF!"}},{"$f":"'1.Портфель кредитів'!I782","v":0},{"$f":"'1.Портфель кредитів'!W782","v":0},{"$f":"'1.Портфель кредитів'!Y782","v":""},4,"2018-06-01","_4_43252_2"]
[{"$f":"'1.Портфель кредитів'!H783","v":0},{"$f":"'1.Портфель кредитів'!D783","v":""},{"$f":"'1.Портфель кредитів'!#REF!","v":{"$error":"#REF!"}},{"$f":"'1.Портфель кредитів'!#REF!","v":{"$error":"#REF!"}},{"$f":"'1.Портфель кредитів'!#REF!","v":{"$error":"#REF!"}},{"$f":"'1.Портфель кредитів'!I783","v":0},{"$f":"'1.Портфель кредитів'!W783","v":0},{"$f":"'1.Портфель кредитів'!Y783","v":""},4,"2018-06-01","_4_43252_2"]
[{"$f":"'1.Портфель кредитів'!H784","v":0},{"$f":"'1.Портфель кредитів'!D784","v":""},{"$f":"'1.Портфель кредитів'!#REF!","v":{"$error":"#REF!"}},{"$f":"'1.Портфель кредитів'!#REF!","v":{"$error":"#REF!"}},{"$f":"'1.Портфель кредитів'!#REF!","v":{"$error":"#REF!"}},{"$f":"'1.Портфель кредитів'!I784","v":0},{"$f":"'1.Портфель кредитів'!W784","v":0},{"$f":"'1.Портфель кредитів'!Y784","v":""},4,"2018-06-01","_4_43252_2"]
[{"$f":"'1.Портфель кредитів'!H785","v":0},{"$f":"'1.Портфель кредитів'!D785","v":""},{"$f":"'1.Портфель кредитів'!#REF!","v":{"$error":"#REF!"}},{"$f":"'1.Портфель кредитів'!#REF!","v":{"$error":"#REF!"}},{"$f":"'1.Портфель кредитів'!#REF!","v":{"$error":"#REF!"}},{"$f":"'1.Портфель кредитів'!I785","v":0},{"$f":"'1.Портфель кредитів'!W785","v":0},{"$f":"'1.Портфель кредитів'!Y785","v":""},4,"2018-06-01","_4_43252_2"]
[{"$f":"'1.Портфель кредитів'!H786","v":0},{"$f":"'1.Портфель кредитів'!D786","v":""},{"$f":"'1.Портфель кредитів'!#REF!","v":{"$error":"#REF!"}},{"$f":"'1.Портфель кредитів'!#REF!","v":{"$error":"#REF!"}},{"$f":"'1.Портфель кредитів'!#REF!","v":{"$error":"#REF!"}},{"$f":"'1.Портфель кредитів'!I786","v":0},{"$f":"'1.Портфель кредитів'!W786","v":0},{"$f":"'1.Портфель кредитів'!Y786","v":""},4,"2018-06-01","_4_43252_2"]
[{"$f":"'1.Портфель кредитів'!H787","v":0},{"$f":"'1.Портфель кредитів'!D787","v":""},{"$f":"'1.Портфель кредитів'!#REF!","v":{"$error":"#REF!"}},{"$f":"'1.Портфель кредитів'!#REF!","v":{"$error":"#REF!"}},{"$f":"'1.Портфель кредитів'!#REF!","v":{"$error":"#REF!"}},{"$f":"'1.Портфель кредитів'!I787","v":0},{"$f":"'1.Портфель кредитів'!W787","v":0},{"$f":"'1.Портфель кредитів'!Y787","v":""},4,"2018-06-01","_4_43252_2"]
[{"$f":"'1.Портфель кредитів'!H788","v":0},{"$f":"'1.Портфель кредитів'!D788","v":""},{"$f":"'1.Портфель кредитів'!#REF!","v":{"$error":"#REF!"}},{"$f":"'1.Портфель кредитів'!#REF!","v":{"$error":"#REF!"}},{"$f":"'1.Портфель кредитів'!#REF!","v":{"$error":"#REF!"}},{"$f":"'1.Портфель кредитів'!I788","v":0},{"$f":"'1.Портфель кредитів'!W788","v":0},{"$f":"'1.Портфель кредитів'!Y788","v":""},4,"2018-06-01","_4_43252_2"]
[{"$f":"'1.Портфель кредитів'!H789","v":0},{"$f":"'1.Портфель кредитів'!D789","v":""},{"$f":"'1.Портфель кредитів'!#REF!","v":{"$error":"#REF!"}},{"$f":"'1.Портфель кредитів'!#REF!","v":{"$error":"#REF!"}},{"$f":"'1.Портфель кредитів'!#REF!","v":{"$error":"#REF!"}},{"$f":"'1.Портфель кредитів'!I789","v":0},{"$f":"'1.Портфель кредитів'!W789","v":0},{"$f":"'1.Портфель кредитів'!Y789","v":""},4,"2018-06-01","_4_43252_2"]
[{"$f":"'1.Портфель кредитів'!H790","v":0},{"$f":"'1.Портфель кредитів'!D790","v":""},{"$f":"'1.Портфель кредитів'!#REF!","v":{"$error":"#REF!"}},{"$f":"'1.Портфель кредитів'!#REF!","v":{"$error":"#REF!"}},{"$f":"'1.Портфель кредитів'!#REF!","v":{"$error":"#REF!"}},{"$f":"'1.Портфель кредитів'!I790","v":0},{"$f":"'1.Портфель кредитів'!W790","v":0},{"$f":"'1.Портфель кредитів'!Y790","v":""},4,"2018-06-01","_4_43252_2"]
[{"$f":"'1.Портфель кредитів'!H791","v":0},{"$f":"'1.Портфель кредитів'!D791","v":""},{"$f":"'1.Портфель кредитів'!#REF!","v":{"$error":"#REF!"}},{"$f":"'1.Портфель кредитів'!#REF!","v":{"$error":"#REF!"}},{"$f":"'1.Портфель кредитів'!#REF!","v":{"$error":"#REF!"}},{"$f":"'1.Портфель кредитів'!I791","v":0},{"$f":"'1.Портфель кредитів'!W791","v":0},{"$f":"'1.Портфель кредитів'!Y791","v":""},4,"2018-06-01","_4_43252_2"]
[{"$f":"'1.Портфель кредитів'!H792","v":0},{"$f":"'1.Портфель кредитів'!D792","v":""},{"$f":"'1.Портфель кредитів'!#REF!","v":{"$error":"#REF!"}},{"$f":"'1.Портфель кредитів'!#REF!","v":{"$error":"#REF!"}},{"$f":"'1.Портфель кредитів'!#REF!","v":{"$error":"#REF!"}},{"$f":"'1.Портфель кредитів'!I792","v":0},{"$f":"'1.Портфель кредитів'!W792","v":0},{"$f":"'1.Портфель кредитів'!Y792","v":""},4,"2018-06-01","_4_43252_2"]
[{"$f":"'1.Портфель кредитів'!H793","v":0},{"$f":"'1.Портфель кредитів'!D793","v":""},{"$f":"'1.Портфель кредитів'!#REF!","v":{"$error":"#REF!"}},{"$f":"'1.Портфель кредитів'!#REF!","v":{"$error":"#REF!"}},{"$f":"'1.Портфель кредитів'!#REF!","v":{"$error":"#REF!"}},{"$f":"'1.Портфель кредитів'!I793","v":0},{"$f":"'1.Портфель кредитів'!W793","v":0},{"$f":"'1.Портфель кредитів'!Y793","v":""},4,"2018-06-01","_4_43252_2"]
[{"$f":"'1.Портфель кредитів'!H794","v":0},{"$f":"'1.Портфель кредитів'!D794","v":""},{"$f":"'1.Портфель кредитів'!#REF!","v":{"$error":"#REF!"}},{"$f":"'1.Портфель кредитів'!#REF!","v":{"$error":"#REF!"}},{"$f":"'1.Портфель кредитів'!#REF!","v":{"$error":"#REF!"}},{"$f":"'1.Портфель кредитів'!I794","v":0},{"$f":"'1.Портфель кредитів'!W794","v":0},{"$f":"'1.Портфель кредитів'!Y794","v":""},4,"2018-06-01","_4_43252_2"]
[{"$f":"'1.Портфель кредитів'!H795","v":0},{"$f":"'1.Портфель кредитів'!D795","v":""},{"$f":"'1.Портфель кредитів'!#REF!","v":{"$error":"#REF!"}},{"$f":"'1.Портфель кредитів'!#REF!","v":{"$error":"#REF!"}},{"$f":"'1.Портфель кредитів'!#REF!","v":{"$error":"#REF!"}},{"$f":"'1.Портфель кредитів'!I795","v":0},{"$f":"'1.Портфель кредитів'!W795","v":0},{"$f":"'1.Портфель кредитів'!Y795","v":""},4,"2018-06-01","_4_43252_2"]
[{"$f":"'1.Портфель кредитів'!H796","v":0},{"$f":"'1.Портфель кредитів'!D796","v":""},{"$f":"'1.Портфель кредитів'!#REF!","v":{"$error":"#REF!"}},{"$f":"'1.Портфель кредитів'!#REF!","v":{"$error":"#REF!"}},{"$f":"'1.Портфель кредитів'!#REF!","v":{"$error":"#REF!"}},{"$f":"'1.Портфель кредитів'!I796","v":0},{"$f":"'1.Портфель кредитів'!W796","v":0},{"$f":"'1.Портфель кредитів'!Y796","v":""},4,"2018-06-01","_4_43252_2"]
[{"$f":"'1.Портфель кредитів'!H797","v":0},{"$f":"'1.Портфель кредитів'!D797","v":""},{"$f":"'1.Портфель кредитів'!#REF!","v":{"$error":"#REF!"}},{"$f":"'1.Портфель кредитів'!#REF!","v":{"$error":"#REF!"}},{"$f":"'1.Портфель кредитів'!#REF!","v":{"$error":"#REF!"}},{"$f":"'1.Портфель кредитів'!I797","v":0},{"$f":"'1.Портфель кредитів'!W797","v":0},{"$f":"'1.Портфель кредитів'!Y797","v":""},4,"2018-06-01","_4_43252_2"]
[{"$f":"'1.Портфель кредитів'!H798","v":0},{"$f":"'1.Портфель кредитів'!D798","v":""},{"$f":"'1.Портфель кредитів'!#REF!","v":{"$error":"#REF!"}},{"$f":"'1.Портфель кредитів'!#REF!","v":{"$error":"#REF!"}},{"$f":"'1.Портфель кредитів'!#REF!","v":{"$error":"#REF!"}},{"$f":"'1.Портфель кредитів'!I798","v":0},{"$f":"'1.Портфель кредитів'!W798","v":0},{"$f":"'1.Портфель кредитів'!Y798","v":""},4,"2018-06-01","_4_43252_2"]
[{"$f":"'1.Портфель кредитів'!H799","v":0},{"$f":"'1.Портфель кредитів'!D799","v":""},{"$f":"'1.Портфель кредитів'!#REF!","v":{"$error":"#REF!"}},{"$f":"'1.Портфель кредитів'!#REF!","v":{"$error":"#REF!"}},{"$f":"'1.Портфель кредитів'!#REF!","v":{"$error":"#REF!"}},{"$f":"'1.Портфель кредитів'!I799","v":0},{"$f":"'1.Портфель кредитів'!W799","v":0},{"$f":"'1.Портфель кредитів'!Y799","v":""},4,"2018-06-01","_4_43252_2"]
[{"$f":"'1.Портфель кредитів'!H800","v":0},{"$f":"'1.Портфель кредитів'!D800","v":""},{"$f":"'1.Портфель кредитів'!#REF!","v":{"$error":"#REF!"}},{"$f":"'1.Портфель кредитів'!#REF!","v":{"$error":"#REF!"}},{"$f":"'1.Портфель кредитів'!#REF!","v":{"$error":"#REF!"}},{"$f":"'1.Портфель кредитів'!I800","v":0},{"$f":"'1.Портфель кредитів'!W800","v":0},{"$f":"'1.Портфель кредитів'!Y800","v":""},4,"2018-06-01","_4_43252_2"]
[{"$f":"'1.Портфель кредитів'!H801","v":0},{"$f":"'1.Портфель кредитів'!D801","v":""},{"$f":"'1.Портфель кредитів'!#REF!","v":{"$error":"#REF!"}},{"$f":"'1.Портфель кредитів'!#REF!","v":{"$error":"#REF!"}},{"$f":"'1.Портфель кредитів'!#REF!","v":{"$error":"#REF!"}},{"$f":"'1.Портфель кредитів'!I801","v":0},{"$f":"'1.Портфель кредитів'!W801","v":0},{"$f":"'1.Портфель кредитів'!Y801","v":""},4,"2018-06-01","_4_43252_2"]
[{"$f":"'1.Портфель кредитів'!H802","v":0},{"$f":"'1.Портфель кредитів'!D802","v":""},{"$f":"'1.Портфель кредитів'!#REF!","v":{"$error":"#REF!"}},{"$f":"'1.Портфель кредитів'!#REF!","v":{"$error":"#REF!"}},{"$f":"'1.Портфель кредитів'!#REF!","v":{"$error":"#REF!"}},{"$f":"'1.Портфель кредитів'!I802","v":0},{"$f":"'1.Портфель кредитів'!W802","v":0},{"$f":"'1.Портфель кредитів'!Y802","v":""},4,"2018-06-01","_4_43252_2"]
[{"$f":"'1.Портфель кредитів'!H803","v":0},{"$f":"'1.Портфель кредитів'!D803","v":""},{"$f":"'1.Портфель кредитів'!#REF!","v":{"$error":"#REF!"}},{"$f":"'1.Портфель кредитів'!#REF!","v":{"$error":"#REF!"}},{"$f":"'1.Портфель кредитів'!#REF!","v":{"$error":"#REF!"}},{"$f":"'1.Портфель кредитів'!I803","v":0},{"$f":"'1.Портфель кредитів'!W803","v":0},{"$f":"'1.Портфель кредитів'!Y803","v":""},4,"2018-06-01","_4_43252_2"]
[{"$f":"'1.Портфель кредитів'!H804","v":0},{"$f":"'1.Портфель кредитів'!D804","v":""},{"$f":"'1.Портфель кредитів'!#REF!","v":{"$error":"#REF!"}},{"$f":"'1.Портфель кредитів'!#REF!","v":{"$error":"#REF!"}},{"$f":"'1.Портфель кредитів'!#REF!","v":{"$error":"#REF!"}},{"$f":"'1.Портфель кредитів'!I804","v":0},{"$f":"'1.Портфель кредитів'!W804","v":0},{"$f":"'1.Портфель кредитів'!Y804","v":""},4,"2018-06-01","_4_43252_2"]
[{"$f":"'1.Портфель кредитів'!H805","v":0},{"$f":"'1.Портфель кредитів'!D805","v":""},{"$f":"'1.Портфель кредитів'!#REF!","v":{"$error":"#REF!"}},{"$f":"'1.Портфель кредитів'!#REF!","v":{"$error":"#REF!"}},{"$f":"'1.Портфель кредитів'!#REF!","v":{"$error":"#REF!"}},{"$f":"'1.Портфель кредитів'!I805","v":0},{"$f":"'1.Портфель кредитів'!W805","v":0},{"$f":"'1.Портфель кредитів'!Y805","v":""},4,"2018-06-01","_4_43252_2"]
[{"$f":"'1.Портфель кредитів'!H806","v":0},{"$f":"'1.Портфель кредитів'!D806","v":""},{"$f":"'1.Портфель кредитів'!#REF!","v":{"$error":"#REF!"}},{"$f":"'1.Портфель кредитів'!#REF!","v":{"$error":"#REF!"}},{"$f":"'1.Портфель кредитів'!#REF!","v":{"$error":"#REF!"}},{"$f":"'1.Портфель кредитів'!I806","v":0},{"$f":"'1.Портфель кредитів'!W806","v":0},{"$f":"'1.Портфель кредитів'!Y806","v":""},4,"2018-06-01","_4_43252_2"]
[{"$f":"'1.Портфель кредитів'!H807","v":0},{"$f":"'1.Портфель кредитів'!D807","v":""},{"$f":"'1.Портфель кредитів'!#REF!","v":{"$error":"#REF!"}},{"$f":"'1.Портфель кредитів'!#REF!","v":{"$error":"#REF!"}},{"$f":"'1.Портфель кредитів'!#REF!","v":{"$error":"#REF!"}},{"$f":"'1.Портфель кредитів'!I807","v":0},{"$f":"'1.Портфель кредитів'!W807","v":0},{"$f":"'1.Портфель кредитів'!Y807","v":""},4,"2018-06-01","_4_43252_2"]
[{"$f":"'1.Портфель кредитів'!H808","v":0},{"$f":"'1.Портфель кредитів'!D808","v":""},{"$f":"'1.Портфель кредитів'!#REF!","v":{"$error":"#REF!"}},{"$f":"'1.Портфель кредитів'!#REF!","v":{"$error":"#REF!"}},{"$f":"'1.Портфель кредитів'!#REF!","v":{"$error":"#REF!"}},{"$f":"'1.Портфель кредитів'!I808","v":0},{"$f":"'1.Портфель кредитів'!W808","v":0},{"$f":"'1.Портфель кредитів'!Y808","v":""},4,"2018-06-01","_4_43252_2"]
[{"$f":"'1.Портфель кредитів'!H809","v":0},{"$f":"'1.Портфель кредитів'!D809","v":""},{"$f":"'1.Портфель кредитів'!#REF!","v":{"$error":"#REF!"}},{"$f":"'1.Портфель кредитів'!#REF!","v":{"$error":"#REF!"}},{"$f":"'1.Портфель кредитів'!#REF!","v":{"$error":"#REF!"}},{"$f":"'1.Портфель кредитів'!I809","v":0},{"$f":"'1.Портфель кредитів'!W809","v":0},{"$f":"'1.Портфель кредитів'!Y809","v":""},4,"2018-06-01","_4_43252_2"]
[{"$f":"'1.Портфель кредитів'!H810","v":0},{"$f":"'1.Портфель кредитів'!D810","v":""},{"$f":"'1.Портфель кредитів'!#REF!","v":{"$error":"#REF!"}},{"$f":"'1.Портфель кредитів'!#REF!","v":{"$error":"#REF!"}},{"$f":"'1.Портфель кредитів'!#REF!","v":{"$error":"#REF!"}},{"$f":"'1.Портфель кредитів'!I810","v":0},{"$f":"'1.Портфель кредитів'!W810","v":0},{"$f":"'1.Портфель кредитів'!Y810","v":""},4,"2018-06-01","_4_43252_2"]
[{"$f":"'1.Портфель кредитів'!H811","v":0},{"$f":"'1.Портфель кредитів'!D811","v":""},{"$f":"'1.Портфель кредитів'!#REF!","v":{"$error":"#REF!"}},{"$f":"'1.Портфель кредитів'!#REF!","v":{"$error":"#REF!"}},{"$f":"'1.Портфель кредитів'!#REF!","v":{"$error":"#REF!"}},{"$f":"'1.Портфель кредитів'!I811","v":0},{"$f":"'1.Портфель кредитів'!W811","v":0},{"$f":"'1.Портфель кредитів'!Y811","v":""},4,"2018-06-01","_4_43252_2"]
[{"$f":"'1.Портфель кредитів'!H812","v":0},{"$f":"'1.Портфель кредитів'!D812","v":""},{"$f":"'1.Портфель кредитів'!#REF!","v":{"$error":"#REF!"}},{"$f":"'1.Портфель кредитів'!#REF!","v":{"$error":"#REF!"}},{"$f":"'1.Портфель кредитів'!#REF!","v":{"$error":"#REF!"}},{"$f":"'1.Портфель кредитів'!I812","v":0},{"$f":"'1.Портфель кредитів'!W812","v":0},{"$f":"'1.Портфель кредитів'!Y812","v":""},4,"2018-06-01","_4_43252_2"]
[{"$f":"'1.Портфель кредитів'!H813","v":0},{"$f":"'1.Портфель кредитів'!D813","v":""},{"$f":"'1.Портфель кредитів'!#REF!","v":{"$error":"#REF!"}},{"$f":"'1.Портфель кредитів'!#REF!","v":{"$error":"#REF!"}},{"$f":"'1.Портфель кредитів'!#REF!","v":{"$error":"#REF!"}},{"$f":"'1.Портфель кредитів'!I813","v":0},{"$f":"'1.Портфель кредитів'!W813","v":0},{"$f":"'1.Портфель кредитів'!Y813","v":""},4,"2018-06-01","_4_43252_2"]
[{"$f":"'1.Портфель кредитів'!H814","v":0},{"$f":"'1.Портфель кредитів'!D814","v":""},{"$f":"'1.Портфель кредитів'!#REF!","v":{"$error":"#REF!"}},{"$f":"'1.Портфель кредитів'!#REF!","v":{"$error":"#REF!"}},{"$f":"'1.Портфель кредитів'!#REF!","v":{"$error":"#REF!"}},{"$f":"'1.Портфель кредитів'!I814","v":0},{"$f":"'1.Портфель кредитів'!W814","v":0},{"$f":"'1.Портфель кредитів'!Y814","v":""},4,"2018-06-01","_4_43252_2"]
[{"$f":"'1.Портфель кредитів'!H815","v":0},{"$f":"'1.Портфель кредитів'!D815","v":""},{"$f":"'1.Портфель кредитів'!#REF!","v":{"$error":"#REF!"}},{"$f":"'1.Портфель кредитів'!#REF!","v":{"$error":"#REF!"}},{"$f":"'1.Портфель кредитів'!#REF!","v":{"$error":"#REF!"}},{"$f":"'1.Портфель кредитів'!I815","v":0},{"$f":"'1.Портфель кредитів'!W815","v":0},{"$f":"'1.Портфель кредитів'!Y815","v":""},4,"2018-06-01","_4_43252_2"]
[{"$f":"'1.Портфель кредитів'!H816","v":0},{"$f":"'1.Портфель кредитів'!D816","v":""},{"$f":"'1.Портфель кредитів'!#REF!","v":{"$error":"#REF!"}},{"$f":"'1.Портфель кредитів'!#REF!","v":{"$error":"#REF!"}},{"$f":"'1.Портфель кредитів'!#REF!","v":{"$error":"#REF!"}},{"$f":"'1.Портфель кредитів'!I816","v":0},{"$f":"'1.Портфель кредитів'!W816","v":0},{"$f":"'1.Портфель кредитів'!Y816","v":""},4,"2018-06-01","_4_43252_2"]
[{"$f":"'1.Портфель кредитів'!H817","v":0},{"$f":"'1.Портфель кредитів'!D817","v":""},{"$f":"'1.Портфель кредитів'!#REF!","v":{"$error":"#REF!"}},{"$f":"'1.Портфель кредитів'!#REF!","v":{"$error":"#REF!"}},{"$f":"'1.Портфель кредитів'!#REF!","v":{"$error":"#REF!"}},{"$f":"'1.Портфель кредитів'!I817","v":0},{"$f":"'1.Портфель кредитів'!W817","v":0},{"$f":"'1.Портфель кредитів'!Y817","v":""},4,"2018-06-01","_4_43252_2"]
[{"$f":"'1.Портфель кредитів'!H818","v":0},{"$f":"'1.Портфель кредитів'!D818","v":""},{"$f":"'1.Портфель кредитів'!#REF!","v":{"$error":"#REF!"}},{"$f":"'1.Портфель кредитів'!#REF!","v":{"$error":"#REF!"}},{"$f":"'1.Портфель кредитів'!#REF!","v":{"$error":"#REF!"}},{"$f":"'1.Портфель кредитів'!I818","v":0},{"$f":"'1.Портфель кредитів'!W818","v":0},{"$f":"'1.Портфель кредитів'!Y818","v":""},4,"2018-06-01","_4_43252_2"]
[{"$f":"'1.Портфель кредитів'!H819","v":0},{"$f":"'1.Портфель кредитів'!D819","v":""},{"$f":"'1.Портфель кредитів'!#REF!","v":{"$error":"#REF!"}},{"$f":"'1.Портфель кредитів'!#REF!","v":{"$error":"#REF!"}},{"$f":"'1.Портфель кредитів'!#REF!","v":{"$error":"#REF!"}},{"$f":"'1.Портфель кредитів'!I819","v":0},{"$f":"'1.Портфель кредитів'!W819","v":0},{"$f":"'1.Портфель кредитів'!Y819","v":""},4,"2018-06-01","_4_43252_2"]
[{"$f":"'1.Портфель кредитів'!H820","v":0},{"$f":"'1.Портфель кредитів'!D820","v":""},{"$f":"'1.Портфель кредитів'!#REF!","v":{"$error":"#REF!"}},{"$f":"'1.Портфель кредитів'!#REF!","v":{"$error":"#REF!"}},{"$f":"'1.Портфель кредитів'!#REF!","v":{"$error":"#REF!"}},{"$f":"'1.Портфель кредитів'!I820","v":0},{"$f":"'1.Портфель кредитів'!W820","v":0},{"$f":"'1.Портфель кредитів'!Y820","v":""},4,"2018-06-01","_4_43252_2"]
[{"$f":"'1.Портфель кредитів'!H821","v":0},{"$f":"'1.Портфель кредитів'!D821","v":""},{"$f":"'1.Портфель кредитів'!#REF!","v":{"$error":"#REF!"}},{"$f":"'1.Портфель кредитів'!#REF!","v":{"$error":"#REF!"}},{"$f":"'1.Портфель кредитів'!#REF!","v":{"$error":"#REF!"}},{"$f":"'1.Портфель кредитів'!I821","v":0},{"$f":"'1.Портфель кредитів'!W821","v":0},{"$f":"'1.Портфель кредитів'!Y821","v":""},4,"2018-06-01","_4_43252_2"]
[{"$f":"'1.Портфель кредитів'!H822","v":0},{"$f":"'1.Портфель кредитів'!D822","v":""},{"$f":"'1.Портфель кредитів'!#REF!","v":{"$error":"#REF!"}},{"$f":"'1.Портфель кредитів'!#REF!","v":{"$error":"#REF!"}},{"$f":"'1.Портфель кредитів'!#REF!","v":{"$error":"#REF!"}},{"$f":"'1.Портфель кредитів'!I822","v":0},{"$f":"'1.Портфель кредитів'!W822","v":0},{"$f":"'1.Портфель кредитів'!Y822","v":""},4,"2018-06-01","_4_43252_2"]
[{"$f":"'1.Портфель кредитів'!H823","v":0},{"$f":"'1.Портфель кредитів'!D823","v":""},{"$f":"'1.Портфель кредитів'!#REF!","v":{"$error":"#REF!"}},{"$f":"'1.Портфель кредитів'!#REF!","v":{"$error":"#REF!"}},{"$f":"'1.Портфель кредитів'!#REF!","v":{"$error":"#REF!"}},{"$f":"'1.Портфель кредитів'!I823","v":0},{"$f":"'1.Портфель кредитів'!W823","v":0},{"$f":"'1.Портфель кредитів'!Y823","v":""},4,"2018-06-01","_4_43252_2"]
[{"$f":"'1.Портфель кредитів'!H824","v":0},{"$f":"'1.Портфель кредитів'!D824","v":""},{"$f":"'1.Портфель кредитів'!#REF!","v":{"$error":"#REF!"}},{"$f":"'1.Портфель кредитів'!#REF!","v":{"$error":"#REF!"}},{"$f":"'1.Портфель кредитів'!#REF!","v":{"$error":"#REF!"}},{"$f":"'1.Портфель кредитів'!I824","v":0},{"$f":"'1.Портфель кредитів'!W824","v":0},{"$f":"'1.Портфель кредитів'!Y824","v":""},4,"2018-06-01","_4_43252_2"]
[{"$f":"'1.Портфель кредитів'!H825","v":0},{"$f":"'1.Портфель кредитів'!D825","v":""},{"$f":"'1.Портфель кредитів'!#REF!","v":{"$error":"#REF!"}},{"$f":"'1.Портфель кредитів'!#REF!","v":{"$error":"#REF!"}},{"$f":"'1.Портфель кредитів'!#REF!","v":{"$error":"#REF!"}},{"$f":"'1.Портфель кредитів'!I825","v":0},{"$f":"'1.Портфель кредитів'!W825","v":0},{"$f":"'1.Портфель кредитів'!Y825","v":""},4,"2018-06-01","_4_43252_2"]
[{"$f":"'1.Портфель кредитів'!H826","v":0},{"$f":"'1.Портфель кредитів'!D826","v":""},{"$f":"'1.Портфель кредитів'!#REF!","v":{"$error":"#REF!"}},{"$f":"'1.Портфель кредитів'!#REF!","v":{"$error":"#REF!"}},{"$f":"'1.Портфель кредитів'!#REF!","v":{"$error":"#REF!"}},{"$f":"'1.Портфель кредитів'!I826","v":0},{"$f":"'1.Портфель кредитів'!W826","v":0},{"$f":"'1.Портфель кредитів'!Y826","v":""},4,"2018-06-01","_4_43252_2"]
[{"$f":"'1.Портфель кредитів'!H827","v":0},{"$f":"'1.Портфель кредитів'!D827","v":""},{"$f":"'1.Портфель кредитів'!#REF!","v":{"$error":"#REF!"}},{"$f":"'1.Портфель кредитів'!#REF!","v":{"$error":"#REF!"}},{"$f":"'1.Портфель кредитів'!#REF!","v":{"$error":"#REF!"}},{"$f":"'1.Портфель кредитів'!I827","v":0},{"$f":"'1.Портфель кредитів'!W827","v":0},{"$f":"'1.Портфель кредитів'!Y827","v":""},4,"2018-06-01","_4_43252_2"]
[{"$f":"'1.Портфель кредитів'!H828","v":0},{"$f":"'1.Портфель кредитів'!D828","v":""},{"$f":"'1.Портфель кредитів'!#REF!","v":{"$error":"#REF!"}},{"$f":"'1.Портфель кредитів'!#REF!","v":{"$error":"#REF!"}},{"$f":"'1.Портфель кредитів'!#REF!","v":{"$error":"#REF!"}},{"$f":"'1.Портфель кредитів'!I828","v":0},{"$f":"'1.Портфель кредитів'!W828","v":0},{"$f":"'1.Портфель кредитів'!Y828","v":""},4,"2018-06-01","_4_43252_2"]
[{"$f":"'1.Портфель кредитів'!H829","v":0},{"$f":"'1.Портфель кредитів'!D829","v":""},{"$f":"'1.Портфель кредитів'!#REF!","v":{"$error":"#REF!"}},{"$f":"'1.Портфель кредитів'!#REF!","v":{"$error":"#REF!"}},{"$f":"'1.Портфель кредитів'!#REF!","v":{"$error":"#REF!"}},{"$f":"'1.Портфель кредитів'!I829","v":0},{"$f":"'1.Портфель кредитів'!W829","v":0},{"$f":"'1.Портфель кредитів'!Y829","v":""},4,"2018-06-01","_4_43252_2"]
[{"$f":"'1.Портфель кредитів'!H830","v":0},{"$f":"'1.Портфель кредитів'!D830","v":""},{"$f":"'1.Портфель кредитів'!#REF!","v":{"$error":"#REF!"}},{"$f":"'1.Портфель кредитів'!#REF!","v":{"$error":"#REF!"}},{"$f":"'1.Портфель кредитів'!#REF!","v":{"$error":"#REF!"}},{"$f":"'1.Портфель кредитів'!I830","v":0},{"$f":"'1.Портфель кредитів'!W830","v":0},{"$f":"'1.Портфель кредитів'!Y830","v":""},4,"2018-06-01","_4_43252_2"]
[{"$f":"'1.Портфель кредитів'!H831","v":0},{"$f":"'1.Портфель кредитів'!D831","v":""},{"$f":"'1.Портфель кредитів'!#REF!","v":{"$error":"#REF!"}},{"$f":"'1.Портфель кредитів'!#REF!","v":{"$error":"#REF!"}},{"$f":"'1.Портфель кредитів'!#REF!","v":{"$error":"#REF!"}},{"$f":"'1.Портфель кредитів'!I831","v":0},{"$f":"'1.Портфель кредитів'!W831","v":0},{"$f":"'1.Портфель кредитів'!Y831","v":""},4,"2018-06-01","_4_43252_2"]
[{"$f":"'1.Портфель кредитів'!H832","v":0},{"$f":"'1.Портфель кредитів'!D832","v":""},{"$f":"'1.Портфель кредитів'!#REF!","v":{"$error":"#REF!"}},{"$f":"'1.Портфель кредитів'!#REF!","v":{"$error":"#REF!"}},{"$f":"'1.Портфель кредитів'!#REF!","v":{"$error":"#REF!"}},{"$f":"'1.Портфель кредитів'!I832","v":0},{"$f":"'1.Портфель кредитів'!W832","v":0},{"$f":"'1.Портфель кредитів'!Y832","v":""},4,"2018-06-01","_4_43252_2"]
[{"$f":"'1.Портфель кредитів'!H833","v":0},{"$f":"'1.Портфель кредитів'!D833","v":""},{"$f":"'1.Портфель кредитів'!#REF!","v":{"$error":"#REF!"}},{"$f":"'1.Портфель кредитів'!#REF!","v":{"$error":"#REF!"}},{"$f":"'1.Портфель кредитів'!#REF!","v":{"$error":"#REF!"}},{"$f":"'1.Портфель кредитів'!I833","v":0},{"$f":"'1.Портфель кредитів'!W833","v":0},{"$f":"'1.Портфель кредитів'!Y833","v":""},4,"2018-06-01","_4_43252_2"]
[{"$f":"'1.Портфель кредитів'!H834","v":0},{"$f":"'1.Портфель кредитів'!D834","v":""},{"$f":"'1.Портфель кредитів'!#REF!","v":{"$error":"#REF!"}},{"$f":"'1.Портфель кредитів'!#REF!","v":{"$error":"#REF!"}},{"$f":"'1.Портфель кредитів'!#REF!","v":{"$error":"#REF!"}},{"$f":"'1.Портфель кредитів'!I834","v":0},{"$f":"'1.Портфель кредитів'!W834","v":0},{"$f":"'1.Портфель кредитів'!Y834","v":""},4,"2018-06-01","_4_43252_2"]
[{"$f":"'1.Портфель кредитів'!H835","v":0},{"$f":"'1.Портфель кредитів'!D835","v":""},{"$f":"'1.Портфель кредитів'!#REF!","v":{"$error":"#REF!"}},{"$f":"'1.Портфель кредитів'!#REF!","v":{"$error":"#REF!"}},{"$f":"'1.Портфель кредитів'!#REF!","v":{"$error":"#REF!"}},{"$f":"'1.Портфель кредитів'!I835","v":0},{"$f":"'1.Портфель кредитів'!W835","v":0},{"$f":"'1.Портфель кредитів'!Y835","v":""},4,"2018-06-01","_4_43252_2"]
[{"$f":"'1.Портфель кредитів'!H836","v":0},{"$f":"'1.Портфель кредитів'!D836","v":""},{"$f":"'1.Портфель кредитів'!#REF!","v":{"$error":"#REF!"}},{"$f":"'1.Портфель кредитів'!#REF!","v":{"$error":"#REF!"}},{"$f":"'1.Портфель кредитів'!#REF!","v":{"$error":"#REF!"}},{"$f":"'1.Портфель кредитів'!I836","v":0},{"$f":"'1.Портфель кредитів'!W836","v":0},{"$f":"'1.Портфель кредитів'!Y836","v":""},4,"2018-06-01","_4_43252_2"]
[{"$f":"'1.Портфель кредитів'!H837","v":0},{"$f":"'1.Портфель кредитів'!D837","v":""},{"$f":"'1.Портфель кредитів'!#REF!","v":{"$error":"#REF!"}},{"$f":"'1.Портфель кредитів'!#REF!","v":{"$error":"#REF!"}},{"$f":"'1.Портфель кредитів'!#REF!","v":{"$error":"#REF!"}},{"$f":"'1.Портфель кредитів'!I837","v":0},{"$f":"'1.Портфель кредитів'!W837","v":0},{"$f":"'1.Портфель кредитів'!Y837","v":""},4,"2018-06-01","_4_43252_2"]
[{"$f":"'1.Портфель кредитів'!H838","v":0},{"$f":"'1.Портфель кредитів'!D838","v":""},{"$f":"'1.Портфель кредитів'!#REF!","v":{"$error":"#REF!"}},{"$f":"'1.Портфель кредитів'!#REF!","v":{"$error":"#REF!"}},{"$f":"'1.Портфель кредитів'!#REF!","v":{"$error":"#REF!"}},{"$f":"'1.Портфель кредитів'!I838","v":0},{"$f":"'1.Портфель кредитів'!W838","v":0},{"$f":"'1.Портфель кредитів'!Y838","v":""},4,"2018-06-01","_4_43252_2"]
[{"$f":"'1.Портфель кредитів'!H839","v":0},{"$f":"'1.Портфель кредитів'!D839","v":""},{"$f":"'1.Портфель кредитів'!#REF!","v":{"$error":"#REF!"}},{"$f":"'1.Портфель кредитів'!#REF!","v":{"$error":"#REF!"}},{"$f":"'1.Портфель кредитів'!#REF!","v":{"$error":"#REF!"}},{"$f":"'1.Портфель кредитів'!I839","v":0},{"$f":"'1.Портфель кредитів'!W839","v":0},{"$f":"'1.Портфель кредитів'!Y839","v":""},4,"2018-06-01","_4_43252_2"]
[{"$f":"'1.Портфель кредитів'!H840","v":0},{"$f":"'1.Портфель кредитів'!D840","v":""},{"$f":"'1.Портфель кредитів'!#REF!","v":{"$error":"#REF!"}},{"$f":"'1.Портфель кредитів'!#REF!","v":{"$error":"#REF!"}},{"$f":"'1.Портфель кредитів'!#REF!","v":{"$error":"#REF!"}},{"$f":"'1.Портфель кредитів'!I840","v":0},{"$f":"'1.Портфель кредитів'!W840","v":0},{"$f":"'1.Портфель кредитів'!Y840","v":""},4,"2018-06-01","_4_43252_2"]
[{"$f":"'1.Портфель кредитів'!H841","v":0},{"$f":"'1.Портфель кредитів'!D841","v":""},{"$f":"'1.Портфель кредитів'!#REF!","v":{"$error":"#REF!"}},{"$f":"'1.Портфель кредитів'!#REF!","v":{"$error":"#REF!"}},{"$f":"'1.Портфель кредитів'!#REF!","v":{"$error":"#REF!"}},{"$f":"'1.Портфель кредитів'!I841","v":0},{"$f":"'1.Портфель кредитів'!W841","v":0},{"$f":"'1.Портфель кредитів'!Y841","v":""},4,"2018-06-01","_4_43252_2"]
[{"$f":"'1.Портфель кредитів'!H842","v":0},{"$f":"'1.Портфель кредитів'!D842","v":""},{"$f":"'1.Портфель кредитів'!#REF!","v":{"$error":"#REF!"}},{"$f":"'1.Портфель кредитів'!#REF!","v":{"$error":"#REF!"}},{"$f":"'1.Портфель кредитів'!#REF!","v":{"$error":"#REF!"}},{"$f":"'1.Портфель кредитів'!I842","v":0},{"$f":"'1.Портфель кредитів'!W842","v":0},{"$f":"'1.Портфель кредитів'!Y842","v":""},{"$f":"$E$1","v":4},{"$f":"$E$2","v":"2018-06-01"},{"$f":"B838&\"_\"&I838&\"_\"&J838&\"_\"&$E$3","v":"_4_43252_2"}]
[{"$f":"'1.Портфель кредитів'!H843","v":0},{"$f":"'1.Портфель кредитів'!D843","v":""},{"$f":"'1.Портфель кредитів'!#REF!","v":{"$error":"#REF!"}},{"$f":"'1.Портфель кредитів'!#REF!","v":{"$error":"#REF!"}},{"$f":"'1.Портфель кредитів'!#REF!","v":{"$error":"#REF!"}},{"$f":"'1.Портфель кредитів'!I843","v":0},{"$f":"'1.Портфель кредитів'!W843","v":0},{"$f":"'1.Портфель кредитів'!Y843","v":""},4,"2018-06-01","_4_43252_2"]
[{"$f":"'1.Портфель кредитів'!H844","v":0},{"$f":"'1.Портфель кредитів'!D844","v":""},{"$f":"'1.Портфель кредитів'!#REF!","v":{"$error":"#REF!"}},{"$f":"'1.Портфель кредитів'!#REF!","v":{"$error":"#REF!"}},{"$f":"'1.Портфель кредитів'!#REF!","v":{"$error":"#REF!"}},{"$f":"'1.Портфель кредитів'!I844","v":0},{"$f":"'1.Портфель кредитів'!W844","v":0},{"$f":"'1.Портфель кредитів'!Y844","v":""},4,"2018-06-01","_4_43252_2"]
[{"$f":"'1.Портфель кредитів'!H845","v":0},{"$f":"'1.Портфель кредитів'!D845","v":""},{"$f":"'1.Портфель кредитів'!#REF!","v":{"$error":"#REF!"}},{"$f":"'1.Портфель кредитів'!#REF!","v":{"$error":"#REF!"}},{"$f":"'1.Портфель кредитів'!#REF!","v":{"$error":"#REF!"}},{"$f":"'1.Портфель кредитів'!I845","v":0},{"$f":"'1.Портфель кредитів'!W845","v":0},{"$f":"'1.Портфель кредитів'!Y845","v":""},4,"2018-06-01","_4_43252_2"]
[{"$f":"'1.Портфель кредитів'!H846","v":0},{"$f":"'1.Портфель кредитів'!D846","v":""},{"$f":"'1.Портфель кредитів'!#REF!","v":{"$error":"#REF!"}},{"$f":"'1.Портфель кредитів'!#REF!","v":{"$error":"#REF!"}},{"$f":"'1.Портфель кредитів'!#REF!","v":{"$error":"#REF!"}},{"$f":"'1.Портфель кредитів'!I846","v":0},{"$f":"'1.Портфель кредитів'!W846","v":0},{"$f":"'1.Портфель кредитів'!Y846","v":""},4,"2018-06-01","_4_43252_2"]
[{"$f":"'1.Портфель кредитів'!H847","v":0},{"$f":"'1.Портфель кредитів'!D847","v":""},{"$f":"'1.Портфель кредитів'!#REF!","v":{"$error":"#REF!"}},{"$f":"'1.Портфель кредитів'!#REF!","v":{"$error":"#REF!"}},{"$f":"'1.Портфель кредитів'!#REF!","v":{"$error":"#REF!"}},{"$f":"'1.Портфель кредитів'!I847","v":0},{"$f":"'1.Портфель кредитів'!W847","v":0},{"$f":"'1.Портфель кредитів'!Y847","v":""},4,"2018-06-01","_4_43252_2"]
[{"$f":"'1.Портфель кредитів'!H848","v":0},{"$f":"'1.Портфель кредитів'!D848","v":""},{"$f":"'1.Портфель кредитів'!#REF!","v":{"$error":"#REF!"}},{"$f":"'1.Портфель кредитів'!#REF!","v":{"$error":"#REF!"}},{"$f":"'1.Портфель кредитів'!#REF!","v":{"$error":"#REF!"}},{"$f":"'1.Портфель кредитів'!I848","v":0},{"$f":"'1.Портфель кредитів'!W848","v":0},{"$f":"'1.Портфель кредитів'!Y848","v":""},4,"2018-06-01","_4_43252_2"]
[{"$f":"'1.Портфель кредитів'!H849","v":0},{"$f":"'1.Портфель кредитів'!D849","v":""},{"$f":"'1.Портфель кредитів'!#REF!","v":{"$error":"#REF!"}},{"$f":"'1.Портфель кредитів'!#REF!","v":{"$error":"#REF!"}},{"$f":"'1.Портфель кредитів'!#REF!","v":{"$error":"#REF!"}},{"$f":"'1.Портфель кредитів'!I849","v":0},{"$f":"'1.Портфель кредитів'!W849","v":0},{"$f":"'1.Портфель кредитів'!Y849","v":""},4,"2018-06-01","_4_43252_2"]
[{"$f":"'1.Портфель кредитів'!H850","v":0},{"$f":"'1.Портфель кредитів'!D850","v":""},{"$f":"'1.Портфель кредитів'!#REF!","v":{"$error":"#REF!"}},{"$f":"'1.Портфель кредитів'!#REF!","v":{"$error":"#REF!"}},{"$f":"'1.Портфель кредитів'!#REF!","v":{"$error":"#REF!"}},{"$f":"'1.Портфель кредитів'!I850","v":0},{"$f":"'1.Портфель кредитів'!W850","v":0},{"$f":"'1.Портфель кредитів'!Y850","v":""},4,"2018-06-01","_4_43252_2"]
[{"$f":"'1.Портфель кредитів'!H851","v":0},{"$f":"'1.Портфель кредитів'!D851","v":""},{"$f":"'1.Портфель кредитів'!#REF!","v":{"$error":"#REF!"}},{"$f":"'1.Портфель кредитів'!#REF!","v":{"$error":"#REF!"}},{"$f":"'1.Портфель кредитів'!#REF!","v":{"$error":"#REF!"}},{"$f":"'1.Портфель кредитів'!I851","v":0},{"$f":"'1.Портфель кредитів'!W851","v":0},{"$f":"'1.Портфель кредитів'!Y851","v":""},4,"2018-06-01","_4_43252_2"]
[{"$f":"'1.Портфель кредитів'!H852","v":0},{"$f":"'1.Портфель кредитів'!D852","v":""},{"$f":"'1.Портфель кредитів'!#REF!","v":{"$error":"#REF!"}},{"$f":"'1.Портфель кредитів'!#REF!","v":{"$error":"#REF!"}},{"$f":"'1.Портфель кредитів'!#REF!","v":{"$error":"#REF!"}},{"$f":"'1.Портфель кредитів'!I852","v":0},{"$f":"'1.Портфель кредитів'!W852","v":0},{"$f":"'1.Портфель кредитів'!Y852","v":""},4,"2018-06-01","_4_43252_2"]
[{"$f":"'1.Портфель кредитів'!H853","v":0},{"$f":"'1.Портфель кредитів'!D853","v":""},{"$f":"'1.Портфель кредитів'!#REF!","v":{"$error":"#REF!"}},{"$f":"'1.Портфель кредитів'!#REF!","v":{"$error":"#REF!"}},{"$f":"'1.Портфель кредитів'!#REF!","v":{"$error":"#REF!"}},{"$f":"'1.Портфель кредитів'!I853","v":0},{"$f":"'1.Портфель кредитів'!W853","v":0},{"$f":"'1.Портфель кредитів'!Y853","v":""},4,"2018-06-01","_4_43252_2"]
[{"$f":"'1.Портфель кредитів'!H854","v":0},{"$f":"'1.Портфель кредитів'!D854","v":""},{"$f":"'1.Портфель кредитів'!#REF!","v":{"$error":"#REF!"}},{"$f":"'1.Портфель кредитів'!#REF!","v":{"$error":"#REF!"}},{"$f":"'1.Портфель кредитів'!#REF!","v":{"$error":"#REF!"}},{"$f":"'1.Портфель кредитів'!I854","v":0},{"$f":"'1.Портфель кредитів'!W854","v":0},{"$f":"'1.Портфель кредитів'!Y854","v":""},4,"2018-06-01","_4_43252_2"]
[{"$f":"'1.Портфель кредитів'!H855","v":0},{"$f":"'1.Портфель кредитів'!D855","v":""},{"$f":"'1.Портфель кредитів'!#REF!","v":{"$error":"#REF!"}},{"$f":"'1.Портфель кредитів'!#REF!","v":{"$error":"#REF!"}},{"$f":"'1.Портфель кредитів'!#REF!","v":{"$error":"#REF!"}},{"$f":"'1.Портфель кредитів'!I855","v":0},{"$f":"'1.Портфель кредитів'!W855","v":0},{"$f":"'1.Портфель кредитів'!Y855","v":""},4,"2018-06-01","_4_43252_2"]
[{"$f":"'1.Портфель кредитів'!H856","v":0},{"$f":"'1.Портфель кредитів'!D856","v":""},{"$f":"'1.Портфель кредитів'!#REF!","v":{"$error":"#REF!"}},{"$f":"'1.Портфель кредитів'!#REF!","v":{"$error":"#REF!"}},{"$f":"'1.Портфель кредитів'!#REF!","v":{"$error":"#REF!"}},{"$f":"'1.Портфель кредитів'!I856","v":0},{"$f":"'1.Портфель кредитів'!W856","v":0},{"$f":"'1.Портфель кредитів'!Y856","v":""},4,"2018-06-01","_4_43252_2"]
[{"$f":"'1.Портфель кредитів'!H857","v":0},{"$f":"'1.Портфель кредитів'!D857","v":""},{"$f":"'1.Портфель кредитів'!#REF!","v":{"$error":"#REF!"}},{"$f":"'1.Портфель кредитів'!#REF!","v":{"$error":"#REF!"}},{"$f":"'1.Портфель кредитів'!#REF!","v":{"$error":"#REF!"}},{"$f":"'1.Портфель кредитів'!I857","v":0},{"$f":"'1.Портфель кредитів'!W857","v":0},{"$f":"'1.Портфель кредитів'!Y857","v":""},4,"2018-06-01","_4_43252_2"]
[{"$f":"'1.Портфель кредитів'!H858","v":0},{"$f":"'1.Портфель кредитів'!D858","v":""},{"$f":"'1.Портфель кредитів'!#REF!","v":{"$error":"#REF!"}},{"$f":"'1.Портфель кредитів'!#REF!","v":{"$error":"#REF!"}},{"$f":"'1.Портфель кредитів'!#REF!","v":{"$error":"#REF!"}},{"$f":"'1.Портфель кредитів'!I858","v":0},{"$f":"'1.Портфель кредитів'!W858","v":0},{"$f":"'1.Портфель кредитів'!Y858","v":""},4,"2018-06-01","_4_43252_2"]
[{"$f":"'1.Портфель кредитів'!H859","v":0},{"$f":"'1.Портфель кредитів'!D859","v":""},{"$f":"'1.Портфель кредитів'!#REF!","v":{"$error":"#REF!"}},{"$f":"'1.Портфель кредитів'!#REF!","v":{"$error":"#REF!"}},{"$f":"'1.Портфель кредитів'!#REF!","v":{"$error":"#REF!"}},{"$f":"'1.Портфель кредитів'!I859","v":0},{"$f":"'1.Портфель кредитів'!W859","v":0},{"$f":"'1.Портфель кредитів'!Y859","v":""},4,"2018-06-01","_4_43252_2"]
[{"$f":"'1.Портфель кредитів'!H860","v":0},{"$f":"'1.Портфель кредитів'!D860","v":""},{"$f":"'1.Портфель кредитів'!#REF!","v":{"$error":"#REF!"}},{"$f":"'1.Портфель кредитів'!#REF!","v":{"$error":"#REF!"}},{"$f":"'1.Портфель кредитів'!#REF!","v":{"$error":"#REF!"}},{"$f":"'1.Портфель кредитів'!I860","v":0},{"$f":"'1.Портфель кредитів'!W860","v":0},{"$f":"'1.Портфель кредитів'!Y860","v":""},4,"2018-06-01","_4_43252_2"]
[{"$f":"'1.Портфель кредитів'!H861","v":0},{"$f":"'1.Портфель кредитів'!D861","v":""},{"$f":"'1.Портфель кредитів'!#REF!","v":{"$error":"#REF!"}},{"$f":"'1.Портфель кредитів'!#REF!","v":{"$error":"#REF!"}},{"$f":"'1.Портфель кредитів'!#REF!","v":{"$error":"#REF!"}},{"$f":"'1.Портфель кредитів'!I861","v":0},{"$f":"'1.Портфель кредитів'!W861","v":0},{"$f":"'1.Портфель кредитів'!Y861","v":""},4,"2018-06-01","_4_43252_2"]
[{"$f":"'1.Портфель кредитів'!H862","v":0},{"$f":"'1.Портфель кредитів'!D862","v":""},{"$f":"'1.Портфель кредитів'!#REF!","v":{"$error":"#REF!"}},{"$f":"'1.Портфель кредитів'!#REF!","v":{"$error":"#REF!"}},{"$f":"'1.Портфель кредитів'!#REF!","v":{"$error":"#REF!"}},{"$f":"'1.Портфель кредитів'!I862","v":0},{"$f":"'1.Портфель кредитів'!W862","v":0},{"$f":"'1.Портфель кредитів'!Y862","v":""},4,"2018-06-01","_4_43252_2"]
[{"$f":"'1.Портфель кредитів'!H863","v":0},{"$f":"'1.Портфель кредитів'!D863","v":""},{"$f":"'1.Портфель кредитів'!#REF!","v":{"$error":"#REF!"}},{"$f":"'1.Портфель кредитів'!#REF!","v":{"$error":"#REF!"}},{"$f":"'1.Портфель кредитів'!#REF!","v":{"$error":"#REF!"}},{"$f":"'1.Портфель кредитів'!I863","v":0},{"$f":"'1.Портфель кредитів'!W863","v":0},{"$f":"'1.Портфель кредитів'!Y863","v":""},4,"2018-06-01","_4_43252_2"]
[{"$f":"'1.Портфель кредитів'!H864","v":0},{"$f":"'1.Портфель кредитів'!D864","v":""},{"$f":"'1.Портфель кредитів'!#REF!","v":{"$error":"#REF!"}},{"$f":"'1.Портфель кредитів'!#REF!","v":{"$error":"#REF!"}},{"$f":"'1.Портфель кредитів'!#REF!","v":{"$error":"#REF!"}},{"$f":"'1.Портфель кредитів'!I864","v":0},{"$f":"'1.Портфель кредитів'!W864","v":0},{"$f":"'1.Портфель кредитів'!Y864","v":""},4,"2018-06-01","_4_43252_2"]
[{"$f":"'1.Портфель кредитів'!H865","v":0},{"$f":"'1.Портфель кредитів'!D865","v":""},{"$f":"'1.Портфель кредитів'!#REF!","v":{"$error":"#REF!"}},{"$f":"'1.Портфель кредитів'!#REF!","v":{"$error":"#REF!"}},{"$f":"'1.Портфель кредитів'!#REF!","v":{"$error":"#REF!"}},{"$f":"'1.Портфель кредитів'!I865","v":0},{"$f":"'1.Портфель кредитів'!W865","v":0},{"$f":"'1.Портфель кредитів'!Y865","v":""},4,"2018-06-01","_4_43252_2"]
[{"$f":"'1.Портфель кредитів'!H866","v":0},{"$f":"'1.Портфель кредитів'!D866","v":""},{"$f":"'1.Портфель кредитів'!#REF!","v":{"$error":"#REF!"}},{"$f":"'1.Портфель кредитів'!#REF!","v":{"$error":"#REF!"}},{"$f":"'1.Портфель кредитів'!#REF!","v":{"$error":"#REF!"}},{"$f":"'1.Портфель кредитів'!I866","v":0},{"$f":"'1.Портфель кредитів'!W866","v":0},{"$f":"'1.Портфель кредитів'!Y866","v":""},4,"2018-06-01","_4_43252_2"]
[{"$f":"'1.Портфель кредитів'!H867","v":0},{"$f":"'1.Портфель кредитів'!D867","v":""},{"$f":"'1.Портфель кредитів'!#REF!","v":{"$error":"#REF!"}},{"$f":"'1.Портфель кредитів'!#REF!","v":{"$error":"#REF!"}},{"$f":"'1.Портфель кредитів'!#REF!","v":{"$error":"#REF!"}},{"$f":"'1.Портфель кредитів'!I867","v":0},{"$f":"'1.Портфель кредитів'!W867","v":0},{"$f":"'1.Портфель кредитів'!Y867","v":""},4,"2018-06-01","_4_43252_2"]
[{"$f":"'1.Портфель кредитів'!H868","v":0},{"$f":"'1.Портфель кредитів'!D868","v":""},{"$f":"'1.Портфель кредитів'!#REF!","v":{"$error":"#REF!"}},{"$f":"'1.Портфель кредитів'!#REF!","v":{"$error":"#REF!"}},{"$f":"'1.Портфель кредитів'!#REF!","v":{"$error":"#REF!"}},{"$f":"'1.Портфель кредитів'!I868","v":0},{"$f":"'1.Портфель кредитів'!W868","v":0},{"$f":"'1.Портфель кредитів'!Y868","v":""},4,"2018-06-01","_4_43252_2"]
[{"$f":"'1.Портфель кредитів'!H869","v":0},{"$f":"'1.Портфель кредитів'!D869","v":""},{"$f":"'1.Портфель кредитів'!#REF!","v":{"$error":"#REF!"}},{"$f":"'1.Портфель кредитів'!#REF!","v":{"$error":"#REF!"}},{"$f":"'1.Портфель кредитів'!#REF!","v":{"$error":"#REF!"}},{"$f":"'1.Портфель кредитів'!I869","v":0},{"$f":"'1.Портфель кредитів'!W869","v":0},{"$f":"'1.Портфель кредитів'!Y869","v":""},4,"2018-06-01","_4_43252_2"]
[{"$f":"'1.Портфель кредитів'!H870","v":0},{"$f":"'1.Портфель кредитів'!D870","v":""},{"$f":"'1.Портфель кредитів'!#REF!","v":{"$error":"#REF!"}},{"$f":"'1.Портфель кредитів'!#REF!","v":{"$error":"#REF!"}},{"$f":"'1.Портфель кредитів'!#REF!","v":{"$error":"#REF!"}},{"$f":"'1.Портфель кредитів'!I870","v":0},{"$f":"'1.Портфель кредитів'!W870","v":0},{"$f":"'1.Портфель кредитів'!Y870","v":""},4,"2018-06-01","_4_43252_2"]
[{"$f":"'1.Портфель кредитів'!H871","v":0},{"$f":"'1.Портфель кредитів'!D871","v":""},{"$f":"'1.Портфель кредитів'!#REF!","v":{"$error":"#REF!"}},{"$f":"'1.Портфель кредитів'!#REF!","v":{"$error":"#REF!"}},{"$f":"'1.Портфель кредитів'!#REF!","v":{"$error":"#REF!"}},{"$f":"'1.Портфель кредитів'!I871","v":0},{"$f":"'1.Портфель кредитів'!W871","v":0},{"$f":"'1.Портфель кредитів'!Y871","v":""},4,"2018-06-01","_4_43252_2"]
[{"$f":"'1.Портфель кредитів'!H872","v":0},{"$f":"'1.Портфель кредитів'!D872","v":""},{"$f":"'1.Портфель кредитів'!#REF!","v":{"$error":"#REF!"}},{"$f":"'1.Портфель кредитів'!#REF!","v":{"$error":"#REF!"}},{"$f":"'1.Портфель кредитів'!#REF!","v":{"$error":"#REF!"}},{"$f":"'1.Портфель кредитів'!I872","v":0},{"$f":"'1.Портфель кредитів'!W872","v":0},{"$f":"'1.Портфель кредитів'!Y872","v":""},4,"2018-06-01","_4_43252_2"]
[{"$f":"'1.Портфель кредитів'!H873","v":0},{"$f":"'1.Портфель кредитів'!D873","v":""},{"$f":"'1.Портфель кредитів'!#REF!","v":{"$error":"#REF!"}},{"$f":"'1.Портфель кредитів'!#REF!","v":{"$error":"#REF!"}},{"$f":"'1.Портфель кредитів'!#REF!","v":{"$error":"#REF!"}},{"$f":"'1.Портфель кредитів'!I873","v":0},{"$f":"'1.Портфель кредитів'!W873","v":0},{"$f":"'1.Портфель кредитів'!Y873","v":""},4,"2018-06-01","_4_43252_2"]
[{"$f":"'1.Портфель кредитів'!H874","v":0},{"$f":"'1.Портфель кредитів'!D874","v":""},{"$f":"'1.Портфель кредитів'!#REF!","v":{"$error":"#REF!"}},{"$f":"'1.Портфель кредитів'!#REF!","v":{"$error":"#REF!"}},{"$f":"'1.Портфель кредитів'!#REF!","v":{"$error":"#REF!"}},{"$f":"'1.Портфель кредитів'!I874","v":0},{"$f":"'1.Портфель кредитів'!W874","v":0},{"$f":"'1.Портфель кредитів'!Y874","v":""},4,"2018-06-01","_4_43252_2"]
[{"$f":"'1.Портфель кредитів'!H875","v":0},{"$f":"'1.Портфель кредитів'!D875","v":""},{"$f":"'1.Портфель кредитів'!#REF!","v":{"$error":"#REF!"}},{"$f":"'1.Портфель кредитів'!#REF!","v":{"$error":"#REF!"}},{"$f":"'1.Портфель кредитів'!#REF!","v":{"$error":"#REF!"}},{"$f":"'1.Портфель кредитів'!I875","v":0},{"$f":"'1.Портфель кредитів'!W875","v":0},{"$f":"'1.Портфель кредитів'!Y875","v":""},4,"2018-06-01","_4_43252_2"]
[{"$f":"'1.Портфель кредитів'!H876","v":0},{"$f":"'1.Портфель кредитів'!D876","v":""},{"$f":"'1.Портфель кредитів'!#REF!","v":{"$error":"#REF!"}},{"$f":"'1.Портфель кредитів'!#REF!","v":{"$error":"#REF!"}},{"$f":"'1.Портфель кредитів'!#REF!","v":{"$error":"#REF!"}},{"$f":"'1.Портфель кредитів'!I876","v":0},{"$f":"'1.Портфель кредитів'!W876","v":0},{"$f":"'1.Портфель кредитів'!Y876","v":""},4,"2018-06-01","_4_43252_2"]
[{"$f":"'1.Портфель кредитів'!H877","v":0},{"$f":"'1.Портфель кредитів'!D877","v":""},{"$f":"'1.Портфель кредитів'!#REF!","v":{"$error":"#REF!"}},{"$f":"'1.Портфель кредитів'!#REF!","v":{"$error":"#REF!"}},{"$f":"'1.Портфель кредитів'!#REF!","v":{"$error":"#REF!"}},{"$f":"'1.Портфель кредитів'!I877","v":0},{"$f":"'1.Портфель кредитів'!W877","v":0},{"$f":"'1.Портфель кредитів'!Y877","v":""},4,"2018-06-01","_4_43252_2"]
[{"$f":"'1.Портфель кредитів'!H878","v":0},{"$f":"'1.Портфель кредитів'!D878","v":""},{"$f":"'1.Портфель кредитів'!#REF!","v":{"$error":"#REF!"}},{"$f":"'1.Портфель кредитів'!#REF!","v":{"$error":"#REF!"}},{"$f":"'1.Портфель кредитів'!#REF!","v":{"$error":"#REF!"}},{"$f":"'1.Портфель кредитів'!I878","v":0},{"$f":"'1.Портфель кредитів'!W878","v":0},{"$f":"'1.Портфель кредитів'!Y878","v":""},4,"2018-06-01","_4_43252_2"]
[{"$f":"'1.Портфель кредитів'!H879","v":0},{"$f":"'1.Портфель кредитів'!D879","v":""},{"$f":"'1.Портфель кредитів'!#REF!","v":{"$error":"#REF!"}},{"$f":"'1.Портфель кредитів'!#REF!","v":{"$error":"#REF!"}},{"$f":"'1.Портфель кредитів'!#REF!","v":{"$error":"#REF!"}},{"$f":"'1.Портфель кредитів'!I879","v":0},{"$f":"'1.Портфель кредитів'!W879","v":0},{"$f":"'1.Портфель кредитів'!Y879","v":""},4,"2018-06-01","_4_43252_2"]
[{"$f":"'1.Портфель кредитів'!H880","v":0},{"$f":"'1.Портфель кредитів'!D880","v":""},{"$f":"'1.Портфель кредитів'!#REF!","v":{"$error":"#REF!"}},{"$f":"'1.Портфель кредитів'!#REF!","v":{"$error":"#REF!"}},{"$f":"'1.Портфель кредитів'!#REF!","v":{"$error":"#REF!"}},{"$f":"'1.Портфель кредитів'!I880","v":0},{"$f":"'1.Портфель кредитів'!W880","v":0},{"$f":"'1.Портфель кредитів'!Y880","v":""},4,"2018-06-01","_4_43252_2"]
[{"$f":"'1.Портфель кредитів'!H881","v":0},{"$f":"'1.Портфель кредитів'!D881","v":""},{"$f":"'1.Портфель кредитів'!#REF!","v":{"$error":"#REF!"}},{"$f":"'1.Портфель кредитів'!#REF!","v":{"$error":"#REF!"}},{"$f":"'1.Портфель кредитів'!#REF!","v":{"$error":"#REF!"}},{"$f":"'1.Портфель кредитів'!I881","v":0},{"$f":"'1.Портфель кредитів'!W881","v":0},{"$f":"'1.Портфель кредитів'!Y881","v":""},4,"2018-06-01","_4_43252_2"]
[{"$f":"'1.Портфель кредитів'!H882","v":0},{"$f":"'1.Портфель кредитів'!D882","v":""},{"$f":"'1.Портфель кредитів'!#REF!","v":{"$error":"#REF!"}},{"$f":"'1.Портфель кредитів'!#REF!","v":{"$error":"#REF!"}},{"$f":"'1.Портфель кредитів'!#REF!","v":{"$error":"#REF!"}},{"$f":"'1.Портфель кредитів'!I882","v":0},{"$f":"'1.Портфель кредитів'!W882","v":0},{"$f":"'1.Портфель кредитів'!Y882","v":""},4,"2018-06-01","_4_43252_2"]
[{"$f":"'1.Портфель кредитів'!H883","v":0},{"$f":"'1.Портфель кредитів'!D883","v":""},{"$f":"'1.Портфель кредитів'!#REF!","v":{"$error":"#REF!"}},{"$f":"'1.Портфель кредитів'!#REF!","v":{"$error":"#REF!"}},{"$f":"'1.Портфель кредитів'!#REF!","v":{"$error":"#REF!"}},{"$f":"'1.Портфель кредитів'!I883","v":0},{"$f":"'1.Портфель кредитів'!W883","v":0},{"$f":"'1.Портфель кредитів'!Y883","v":""},4,"2018-06-01","_4_43252_2"]
[{"$f":"'1.Портфель кредитів'!H884","v":0},{"$f":"'1.Портфель кредитів'!D884","v":""},{"$f":"'1.Портфель кредитів'!#REF!","v":{"$error":"#REF!"}},{"$f":"'1.Портфель кредитів'!#REF!","v":{"$error":"#REF!"}},{"$f":"'1.Портфель кредитів'!#REF!","v":{"$error":"#REF!"}},{"$f":"'1.Портфель кредитів'!I884","v":0},{"$f":"'1.Портфель кредитів'!W884","v":0},{"$f":"'1.Портфель кредитів'!Y884","v":""},4,"2018-06-01","_4_43252_2"]
[{"$f":"'1.Портфель кредитів'!H885","v":0},{"$f":"'1.Портфель кредитів'!D885","v":""},{"$f":"'1.Портфель кредитів'!#REF!","v":{"$error":"#REF!"}},{"$f":"'1.Портфель кредитів'!#REF!","v":{"$error":"#REF!"}},{"$f":"'1.Портфель кредитів'!#REF!","v":{"$error":"#REF!"}},{"$f":"'1.Портфель кредитів'!I885","v":0},{"$f":"'1.Портфель кредитів'!W885","v":0},{"$f":"'1.Портфель кредитів'!Y885","v":""},4,"2018-06-01","_4_43252_2"]
[{"$f":"'1.Портфель кредитів'!H886","v":0},{"$f":"'1.Портфель кредитів'!D886","v":""},{"$f":"'1.Портфель кредитів'!#REF!","v":{"$error":"#REF!"}},{"$f":"'1.Портфель кредитів'!#REF!","v":{"$error":"#REF!"}},{"$f":"'1.Портфель кредитів'!#REF!","v":{"$error":"#REF!"}},{"$f":"'1.Портфель кредитів'!I886","v":0},{"$f":"'1.Портфель кредитів'!W886","v":0},{"$f":"'1.Портфель кредитів'!Y886","v":""},4,"2018-06-01","_4_43252_2"]
[{"$f":"'1.Портфель кредитів'!H887","v":0},{"$f":"'1.Портфель кредитів'!D887","v":""},{"$f":"'1.Портфель кредитів'!#REF!","v":{"$error":"#REF!"}},{"$f":"'1.Портфель кредитів'!#REF!","v":{"$error":"#REF!"}},{"$f":"'1.Портфель кредитів'!#REF!","v":{"$error":"#REF!"}},{"$f":"'1.Портфель кредитів'!I887","v":0},{"$f":"'1.Портфель кредитів'!W887","v":0},{"$f":"'1.Портфель кредитів'!Y887","v":""},4,"2018-06-01","_4_43252_2"]
[{"$f":"'1.Портфель кредитів'!H888","v":0},{"$f":"'1.Портфель кредитів'!D888","v":""},{"$f":"'1.Портфель кредитів'!#REF!","v":{"$error":"#REF!"}},{"$f":"'1.Портфель кредитів'!#REF!","v":{"$error":"#REF!"}},{"$f":"'1.Портфель кредитів'!#REF!","v":{"$error":"#REF!"}},{"$f":"'1.Портфель кредитів'!I888","v":0},{"$f":"'1.Портфель кредитів'!W888","v":0},{"$f":"'1.Портфель кредитів'!Y888","v":""},4,"2018-06-01","_4_43252_2"]
[{"$f":"'1.Портфель кредитів'!H889","v":0},{"$f":"'1.Портфель кредитів'!D889","v":""},{"$f":"'1.Портфель кредитів'!#REF!","v":{"$error":"#REF!"}},{"$f":"'1.Портфель кредитів'!#REF!","v":{"$error":"#REF!"}},{"$f":"'1.Портфель кредитів'!#REF!","v":{"$error":"#REF!"}},{"$f":"'1.Портфель кредитів'!I889","v":0},{"$f":"'1.Портфель кредитів'!W889","v":0},{"$f":"'1.Портфель кредитів'!Y889","v":""},4,"2018-06-01","_4_43252_2"]
[{"$f":"'1.Портфель кредитів'!H890","v":0},{"$f":"'1.Портфель кредитів'!D890","v":""},{"$f":"'1.Портфель кредитів'!#REF!","v":{"$error":"#REF!"}},{"$f":"'1.Портфель кредитів'!#REF!","v":{"$error":"#REF!"}},{"$f":"'1.Портфель кредитів'!#REF!","v":{"$error":"#REF!"}},{"$f":"'1.Портфель кредитів'!I890","v":0},{"$f":"'1.Портфель кредитів'!W890","v":0},{"$f":"'1.Портфель кредитів'!Y890","v":""},4,"2018-06-01","_4_43252_2"]
[{"$f":"'1.Портфель кредитів'!H891","v":0},{"$f":"'1.Портфель кредитів'!D891","v":""},{"$f":"'1.Портфель кредитів'!#REF!","v":{"$error":"#REF!"}},{"$f":"'1.Портфель кредитів'!#REF!","v":{"$error":"#REF!"}},{"$f":"'1.Портфель кредитів'!#REF!","v":{"$error":"#REF!"}},{"$f":"'1.Портфель кредитів'!I891","v":0},{"$f":"'1.Портфель кредитів'!W891","v":0},{"$f":"'1.Портфель кредитів'!Y891","v":""},4,"2018-06-01","_4_43252_2"]
[{"$f":"'1.Портфель кредитів'!H892","v":0},{"$f":"'1.Портфель кредитів'!D892","v":""},{"$f":"'1.Портфель кредитів'!#REF!","v":{"$error":"#REF!"}},{"$f":"'1.Портфель кредитів'!#REF!","v":{"$error":"#REF!"}},{"$f":"'1.Портфель кредитів'!#REF!","v":{"$error":"#REF!"}},{"$f":"'1.Портфель кредитів'!I892","v":0},{"$f":"'1.Портфель кредитів'!W892","v":0},{"$f":"'1.Портфель кредитів'!Y892","v":""},4,"2018-06-01","_4_43252_2"]
[{"$f":"'1.Портфель кредитів'!H893","v":0},{"$f":"'1.Портфель кредитів'!D893","v":""},{"$f":"'1.Портфель кредитів'!#REF!","v":{"$error":"#REF!"}},{"$f":"'1.Портфель кредитів'!#REF!","v":{"$error":"#REF!"}},{"$f":"'1.Портфель кредитів'!#REF!","v":{"$error":"#REF!"}},{"$f":"'1.Портфель кредитів'!I893","v":0},{"$f":"'1.Портфель кредитів'!W893","v":0},{"$f":"'1.Портфель кредитів'!Y893","v":""},4,"2018-06-01","_4_43252_2"]
[{"$f":"'1.Портфель кредитів'!H894","v":0},{"$f":"'1.Портфель кредитів'!D894","v":""},{"$f":"'1.Портфель кредитів'!#REF!","v":{"$error":"#REF!"}},{"$f":"'1.Портфель кредитів'!#REF!","v":{"$error":"#REF!"}},{"$f":"'1.Портфель кредитів'!#REF!","v":{"$error":"#REF!"}},{"$f":"'1.Портфель кредитів'!I894","v":0},{"$f":"'1.Портфель кредитів'!W894","v":0},{"$f":"'1.Портфель кредитів'!Y894","v":""},4,"2018-06-01","_4_43252_2"]
[{"$f":"'1.Портфель кредитів'!H895","v":0},{"$f":"'1.Портфель кредитів'!D895","v":""},{"$f":"'1.Портфель кредитів'!#REF!","v":{"$error":"#REF!"}},{"$f":"'1.Портфель кредитів'!#REF!","v":{"$error":"#REF!"}},{"$f":"'1.Портфель кредитів'!#REF!","v":{"$error":"#REF!"}},{"$f":"'1.Портфель кредитів'!I895","v":0},{"$f":"'1.Портфель кредитів'!W895","v":0},{"$f":"'1.Портфель кредитів'!Y895","v":""},4,"2018-06-01","_4_43252_2"]
[{"$f":"'1.Портфель кредитів'!H896","v":0},{"$f":"'1.Портфель кредитів'!D896","v":""},{"$f":"'1.Портфель кредитів'!#REF!","v":{"$error":"#REF!"}},{"$f":"'1.Портфель кредитів'!#REF!","v":{"$error":"#REF!"}},{"$f":"'1.Портфель кредитів'!#REF!","v":{"$error":"#REF!"}},{"$f":"'1.Портфель кредитів'!I896","v":0},{"$f":"'1.Портфель кредитів'!W896","v":0},{"$f":"'1.Портфель кредитів'!Y896","v":""},4,"2018-06-01","_4_43252_2"]
[{"$f":"'1.Портфель кредитів'!H897","v":0},{"$f":"'1.Портфель кредитів'!D897","v":""},{"$f":"'1.Портфель кредитів'!#REF!","v":{"$error":"#REF!"}},{"$f":"'1.Портфель кредитів'!#REF!","v":{"$error":"#REF!"}},{"$f":"'1.Портфель кредитів'!#REF!","v":{"$error":"#REF!"}},{"$f":"'1.Портфель кредитів'!I897","v":0},{"$f":"'1.Портфель кредитів'!W897","v":0},{"$f":"'1.Портфель кредитів'!Y897","v":""},4,"2018-06-01","_4_43252_2"]
[{"$f":"'1.Портфель кредитів'!H898","v":0},{"$f":"'1.Портфель кредитів'!D898","v":""},{"$f":"'1.Портфель кредитів'!#REF!","v":{"$error":"#REF!"}},{"$f":"'1.Портфель кредитів'!#REF!","v":{"$error":"#REF!"}},{"$f":"'1.Портфель кредитів'!#REF!","v":{"$error":"#REF!"}},{"$f":"'1.Портфель кредитів'!I898","v":0},{"$f":"'1.Портфель кредитів'!W898","v":0},{"$f":"'1.Портфель кредитів'!Y898","v":""},4,"2018-06-01","_4_43252_2"]
[{"$f":"'1.Портфель кредитів'!H899","v":0},{"$f":"'1.Портфель кредитів'!D899","v":""},{"$f":"'1.Портфель кредитів'!#REF!","v":{"$error":"#REF!"}},{"$f":"'1.Портфель кредитів'!#REF!","v":{"$error":"#REF!"}},{"$f":"'1.Портфель кредитів'!#REF!","v":{"$error":"#REF!"}},{"$f":"'1.Портфель кредитів'!I899","v":0},{"$f":"'1.Портфель кредитів'!W899","v":0},{"$f":"'1.Портфель кредитів'!Y899","v":""},4,"2018-06-01","_4_43252_2"]
[{"$f":"'1.Портфель кредитів'!H900","v":0},{"$f":"'1.Портфель кредитів'!D900","v":""},{"$f":"'1.Портфель кредитів'!#REF!","v":{"$error":"#REF!"}},{"$f":"'1.Портфель кредитів'!#REF!","v":{"$error":"#REF!"}},{"$f":"'1.Портфель кредитів'!#REF!","v":{"$error":"#REF!"}},{"$f":"'1.Портфель кредитів'!I900","v":0},{"$f":"'1.Портфель кредитів'!W900","v":0},{"$f":"'1.Портфель кредитів'!Y900","v":""},4,"2018-06-01","_4_43252_2"]
[{"$f":"'1.Портфель кредитів'!H901","v":0},{"$f":"'1.Портфель кредитів'!D901","v":""},{"$f":"'1.Портфель кредитів'!#REF!","v":{"$error":"#REF!"}},{"$f":"'1.Портфель кредитів'!#REF!","v":{"$error":"#REF!"}},{"$f":"'1.Портфель кредитів'!#REF!","v":{"$error":"#REF!"}},{"$f":"'1.Портфель кредитів'!I901","v":0},{"$f":"'1.Портфель кредитів'!W901","v":0},{"$f":"'1.Портфель кредитів'!Y901","v":""},4,"2018-06-01","_4_43252_2"]
[{"$f":"'1.Портфель кредитів'!H902","v":0},{"$f":"'1.Портфель кредитів'!D902","v":""},{"$f":"'1.Портфель кредитів'!#REF!","v":{"$error":"#REF!"}},{"$f":"'1.Портфель кредитів'!#REF!","v":{"$error":"#REF!"}},{"$f":"'1.Портфель кредитів'!#REF!","v":{"$error":"#REF!"}},{"$f":"'1.Портфель кредитів'!I902","v":0},{"$f":"'1.Портфель кредитів'!W902","v":0},{"$f":"'1.Портфель кредитів'!Y902","v":""},4,"2018-06-01","_4_43252_2"]
[{"$f":"'1.Портфель кредитів'!H903","v":0},{"$f":"'1.Портфель кредитів'!D903","v":""},{"$f":"'1.Портфель кредитів'!#REF!","v":{"$error":"#REF!"}},{"$f":"'1.Портфель кредитів'!#REF!","v":{"$error":"#REF!"}},{"$f":"'1.Портфель кредитів'!#REF!","v":{"$error":"#REF!"}},{"$f":"'1.Портфель кредитів'!I903","v":0},{"$f":"'1.Портфель кредитів'!W903","v":0},{"$f":"'1.Портфель кредитів'!Y903","v":""},4,"2018-06-01","_4_43252_2"]
[{"$f":"'1.Портфель кредитів'!H904","v":0},{"$f":"'1.Портфель кредитів'!D904","v":""},{"$f":"'1.Портфель кредитів'!#REF!","v":{"$error":"#REF!"}},{"$f":"'1.Портфель кредитів'!#REF!","v":{"$error":"#REF!"}},{"$f":"'1.Портфель кредитів'!#REF!","v":{"$error":"#REF!"}},{"$f":"'1.Портфель кредитів'!I904","v":0},{"$f":"'1.Портфель кредитів'!W904","v":0},{"$f":"'1.Портфель кредитів'!Y904","v":""},4,"2018-06-01","_4_43252_2"]
[{"$f":"'1.Портфель кредитів'!H905","v":0},{"$f":"'1.Портфель кредитів'!D905","v":""},{"$f":"'1.Портфель кредитів'!#REF!","v":{"$error":"#REF!"}},{"$f":"'1.Портфель кредитів'!#REF!","v":{"$error":"#REF!"}},{"$f":"'1.Портфель кредитів'!#REF!","v":{"$error":"#REF!"}},{"$f":"'1.Портфель кредитів'!I905","v":0},{"$f":"'1.Портфель кредитів'!W905","v":0},{"$f":"'1.Портфель кредитів'!Y905","v":""},4,"2018-06-01","_4_43252_2"]
[{"$f":"'1.Портфель кредитів'!H906","v":0},{"$f":"'1.Портфель кредитів'!D906","v":""},{"$f":"'1.Портфель кредитів'!#REF!","v":{"$error":"#REF!"}},{"$f":"'1.Портфель кредитів'!#REF!","v":{"$error":"#REF!"}},{"$f":"'1.Портфель кредитів'!#REF!","v":{"$error":"#REF!"}},{"$f":"'1.Портфель кредитів'!I906","v":0},{"$f":"'1.Портфель кредитів'!W906","v":0},{"$f":"'1.Портфель кредитів'!Y906","v":""},{"$f":"$E$1","v":4},{"$f":"$E$2","v":"2018-06-01"},{"$f":"B902&\"_\"&I902&\"_\"&J902&\"_\"&$E$3","v":"_4_43252_2"}]
[{"$f":"'1.Портфель кредитів'!H907","v":0},{"$f":"'1.Портфель кредитів'!D907","v":""},{"$f":"'1.Портфель кредитів'!#REF!","v":{"$error":"#REF!"}},{"$f":"'1.Портфель кредитів'!#REF!","v":{"$error":"#REF!"}},{"$f":"'1.Портфель кредитів'!#REF!","v":{"$error":"#REF!"}},{"$f":"'1.Портфель кредитів'!I907","v":0},{"$f":"'1.Портфель кредитів'!W907","v":0},{"$f":"'1.Портфель кредитів'!Y907","v":""},4,"2018-06-01","_4_43252_2"]
[{"$f":"'1.Портфель кредитів'!H908","v":0},{"$f":"'1.Портфель кредитів'!D908","v":""},{"$f":"'1.Портфель кредитів'!#REF!","v":{"$error":"#REF!"}},{"$f":"'1.Портфель кредитів'!#REF!","v":{"$error":"#REF!"}},{"$f":"'1.Портфель кредитів'!#REF!","v":{"$error":"#REF!"}},{"$f":"'1.Портфель кредитів'!I908","v":0},{"$f":"'1.Портфель кредитів'!W908","v":0},{"$f":"'1.Портфель кредитів'!Y908","v":""},4,"2018-06-01","_4_43252_2"]
[{"$f":"'1.Портфель кредитів'!H909","v":0},{"$f":"'1.Портфель кредитів'!D909","v":""},{"$f":"'1.Портфель кредитів'!#REF!","v":{"$error":"#REF!"}},{"$f":"'1.Портфель кредитів'!#REF!","v":{"$error":"#REF!"}},{"$f":"'1.Портфель кредитів'!#REF!","v":{"$error":"#REF!"}},{"$f":"'1.Портфель кредитів'!I909","v":0},{"$f":"'1.Портфель кредитів'!W909","v":0},{"$f":"'1.Портфель кредитів'!Y909","v":""},4,"2018-06-01","_4_43252_2"]
[{"$f":"'1.Портфель кредитів'!H910","v":0},{"$f":"'1.Портфель кредитів'!D910","v":""},{"$f":"'1.Портфель кредитів'!#REF!","v":{"$error":"#REF!"}},{"$f":"'1.Портфель кредитів'!#REF!","v":{"$error":"#REF!"}},{"$f":"'1.Портфель кредитів'!#REF!","v":{"$error":"#REF!"}},{"$f":"'1.Портфель кредитів'!I910","v":0},{"$f":"'1.Портфель кредитів'!W910","v":0},{"$f":"'1.Портфель кредитів'!Y910","v":""},4,"2018-06-01","_4_43252_2"]
[{"$f":"'1.Портфель кредитів'!H911","v":0},{"$f":"'1.Портфель кредитів'!D911","v":""},{"$f":"'1.Портфель кредитів'!#REF!","v":{"$error":"#REF!"}},{"$f":"'1.Портфель кредитів'!#REF!","v":{"$error":"#REF!"}},{"$f":"'1.Портфель кредитів'!#REF!","v":{"$error":"#REF!"}},{"$f":"'1.Портфель кредитів'!I911","v":0},{"$f":"'1.Портфель кредитів'!W911","v":0},{"$f":"'1.Портфель кредитів'!Y911","v":""},4,"2018-06-01","_4_43252_2"]
[{"$f":"'1.Портфель кредитів'!H912","v":0},{"$f":"'1.Портфель кредитів'!D912","v":""},{"$f":"'1.Портфель кредитів'!#REF!","v":{"$error":"#REF!"}},{"$f":"'1.Портфель кредитів'!#REF!","v":{"$error":"#REF!"}},{"$f":"'1.Портфель кредитів'!#REF!","v":{"$error":"#REF!"}},{"$f":"'1.Портфель кредитів'!I912","v":0},{"$f":"'1.Портфель кредитів'!W912","v":0},{"$f":"'1.Портфель кредитів'!Y912","v":""},4,"2018-06-01","_4_43252_2"]
[{"$f":"'1.Портфель кредитів'!H913","v":0},{"$f":"'1.Портфель кредитів'!D913","v":""},{"$f":"'1.Портфель кредитів'!#REF!","v":{"$error":"#REF!"}},{"$f":"'1.Портфель кредитів'!#REF!","v":{"$error":"#REF!"}},{"$f":"'1.Портфель кредитів'!#REF!","v":{"$error":"#REF!"}},{"$f":"'1.Портфель кредитів'!I913","v":0},{"$f":"'1.Портфель кредитів'!W913","v":0},{"$f":"'1.Портфель кредитів'!Y913","v":""},4,"2018-06-01","_4_43252_2"]
[{"$f":"'1.Портфель кредитів'!H914","v":0},{"$f":"'1.Портфель кредитів'!D914","v":""},{"$f":"'1.Портфель кредитів'!#REF!","v":{"$error":"#REF!"}},{"$f":"'1.Портфель кредитів'!#REF!","v":{"$error":"#REF!"}},{"$f":"'1.Портфель кредитів'!#REF!","v":{"$error":"#REF!"}},{"$f":"'1.Портфель кредитів'!I914","v":0},{"$f":"'1.Портфель кредитів'!W914","v":0},{"$f":"'1.Портфель кредитів'!Y914","v":""},4,"2018-06-01","_4_43252_2"]
[{"$f":"'1.Портфель кредитів'!H915","v":0},{"$f":"'1.Портфель кредитів'!D915","v":""},{"$f":"'1.Портфель кредитів'!#REF!","v":{"$error":"#REF!"}},{"$f":"'1.Портфель кредитів'!#REF!","v":{"$error":"#REF!"}},{"$f":"'1.Портфель кредитів'!#REF!","v":{"$error":"#REF!"}},{"$f":"'1.Портфель кредитів'!I915","v":0},{"$f":"'1.Портфель кредитів'!W915","v":0},{"$f":"'1.Портфель кредитів'!Y915","v":""},4,"2018-06-01","_4_43252_2"]
[{"$f":"'1.Портфель кредитів'!H916","v":0},{"$f":"'1.Портфель кредитів'!D916","v":""},{"$f":"'1.Портфель кредитів'!#REF!","v":{"$error":"#REF!"}},{"$f":"'1.Портфель кредитів'!#REF!","v":{"$error":"#REF!"}},{"$f":"'1.Портфель кредитів'!#REF!","v":{"$error":"#REF!"}},{"$f":"'1.Портфель кредитів'!I916","v":0},{"$f":"'1.Портфель кредитів'!W916","v":0},{"$f":"'1.Портфель кредитів'!Y916","v":""},4,"2018-06-01","_4_43252_2"]
[{"$f":"'1.Портфель кредитів'!H917","v":0},{"$f":"'1.Портфель кредитів'!D917","v":""},{"$f":"'1.Портфель кредитів'!#REF!","v":{"$error":"#REF!"}},{"$f":"'1.Портфель кредитів'!#REF!","v":{"$error":"#REF!"}},{"$f":"'1.Портфель кредитів'!#REF!","v":{"$error":"#REF!"}},{"$f":"'1.Портфель кредитів'!I917","v":0},{"$f":"'1.Портфель кредитів'!W917","v":0},{"$f":"'1.Портфель кредитів'!Y917","v":""},4,"2018-06-01","_4_43252_2"]
[{"$f":"'1.Портфель кредитів'!H918","v":0},{"$f":"'1.Портфель кредитів'!D918","v":""},{"$f":"'1.Портфель кредитів'!#REF!","v":{"$error":"#REF!"}},{"$f":"'1.Портфель кредитів'!#REF!","v":{"$error":"#REF!"}},{"$f":"'1.Портфель кредитів'!#REF!","v":{"$error":"#REF!"}},{"$f":"'1.Портфель кредитів'!I918","v":0},{"$f":"'1.Портфель кредитів'!W918","v":0},{"$f":"'1.Портфель кредитів'!Y918","v":""},4,"2018-06-01","_4_43252_2"]
[{"$f":"'1.Портфель кредитів'!H919","v":0},{"$f":"'1.Портфель кредитів'!D919","v":""},{"$f":"'1.Портфель кредитів'!#REF!","v":{"$error":"#REF!"}},{"$f":"'1.Портфель кредитів'!#REF!","v":{"$error":"#REF!"}},{"$f":"'1.Портфель кредитів'!#REF!","v":{"$error":"#REF!"}},{"$f":"'1.Портфель кредитів'!I919","v":0},{"$f":"'1.Портфель кредитів'!W919","v":0},{"$f":"'1.Портфель кредитів'!Y919","v":""},4,"2018-06-01","_4_43252_2"]
[{"$f":"'1.Портфель кредитів'!H920","v":0},{"$f":"'1.Портфель кредитів'!D920","v":""},{"$f":"'1.Портфель кредитів'!#REF!","v":{"$error":"#REF!"}},{"$f":"'1.Портфель кредитів'!#REF!","v":{"$error":"#REF!"}},{"$f":"'1.Портфель кредитів'!#REF!","v":{"$error":"#REF!"}},{"$f":"'1.Портфель кредитів'!I920","v":0},{"$f":"'1.Портфель кредитів'!W920","v":0},{"$f":"'1.Портфель кредитів'!Y920","v":""},4,"2018-06-01","_4_43252_2"]
[{"$f":"'1.Портфель кредитів'!H921","v":0},{"$f":"'1.Портфель кредитів'!D921","v":""},{"$f":"'1.Портфель кредитів'!#REF!","v":{"$error":"#REF!"}},{"$f":"'1.Портфель кредитів'!#REF!","v":{"$error":"#REF!"}},{"$f":"'1.Портфель кредитів'!#REF!","v":{"$error":"#REF!"}},{"$f":"'1.Портфель кредитів'!I921","v":0},{"$f":"'1.Портфель кредитів'!W921","v":0},{"$f":"'1.Портфель кредитів'!Y921","v":""},4,"2018-06-01","_4_43252_2"]
[{"$f":"'1.Портфель кредитів'!H922","v":0},{"$f":"'1.Портфель кредитів'!D922","v":""},{"$f":"'1.Портфель кредитів'!#REF!","v":{"$error":"#REF!"}},{"$f":"'1.Портфель кредитів'!#REF!","v":{"$error":"#REF!"}},{"$f":"'1.Портфель кредитів'!#REF!","v":{"$error":"#REF!"}},{"$f":"'1.Портфель кредитів'!I922","v":0},{"$f":"'1.Портфель кредитів'!W922","v":0},{"$f":"'1.Портфель кредитів'!Y922","v":""},4,"2018-06-01","_4_43252_2"]
[{"$f":"'1.Портфель кредитів'!H923","v":0},{"$f":"'1.Портфель кредитів'!D923","v":""},{"$f":"'1.Портфель кредитів'!#REF!","v":{"$error":"#REF!"}},{"$f":"'1.Портфель кредитів'!#REF!","v":{"$error":"#REF!"}},{"$f":"'1.Портфель кредитів'!#REF!","v":{"$error":"#REF!"}},{"$f":"'1.Портфель кредитів'!I923","v":0},{"$f":"'1.Портфель кредитів'!W923","v":0},{"$f":"'1.Портфель кредитів'!Y923","v":""},4,"2018-06-01","_4_43252_2"]
[{"$f":"'1.Портфель кредитів'!H924","v":0},{"$f":"'1.Портфель кредитів'!D924","v":""},{"$f":"'1.Портфель кредитів'!#REF!","v":{"$error":"#REF!"}},{"$f":"'1.Портфель кредитів'!#REF!","v":{"$error":"#REF!"}},{"$f":"'1.Портфель кредитів'!#REF!","v":{"$error":"#REF!"}},{"$f":"'1.Портфель кредитів'!I924","v":0},{"$f":"'1.Портфель кредитів'!W924","v":0},{"$f":"'1.Портфель кредитів'!Y924","v":""},4,"2018-06-01","_4_43252_2"]
[{"$f":"'1.Портфель кредитів'!H925","v":0},{"$f":"'1.Портфель кредитів'!D925","v":""},{"$f":"'1.Портфель кредитів'!#REF!","v":{"$error":"#REF!"}},{"$f":"'1.Портфель кредитів'!#REF!","v":{"$error":"#REF!"}},{"$f":"'1.Портфель кредитів'!#REF!","v":{"$error":"#REF!"}},{"$f":"'1.Портфель кредитів'!I925","v":0},{"$f":"'1.Портфель кредитів'!W925","v":0},{"$f":"'1.Портфель кредитів'!Y925","v":""},4,"2018-06-01","_4_43252_2"]
[{"$f":"'1.Портфель кредитів'!H926","v":0},{"$f":"'1.Портфель кредитів'!D926","v":""},{"$f":"'1.Портфель кредитів'!#REF!","v":{"$error":"#REF!"}},{"$f":"'1.Портфель кредитів'!#REF!","v":{"$error":"#REF!"}},{"$f":"'1.Портфель кредитів'!#REF!","v":{"$error":"#REF!"}},{"$f":"'1.Портфель кредитів'!I926","v":0},{"$f":"'1.Портфель кредитів'!W926","v":0},{"$f":"'1.Портфель кредитів'!Y926","v":""},4,"2018-06-01","_4_43252_2"]
[{"$f":"'1.Портфель кредитів'!H927","v":0},{"$f":"'1.Портфель кредитів'!D927","v":""},{"$f":"'1.Портфель кредитів'!#REF!","v":{"$error":"#REF!"}},{"$f":"'1.Портфель кредитів'!#REF!","v":{"$error":"#REF!"}},{"$f":"'1.Портфель кредитів'!#REF!","v":{"$error":"#REF!"}},{"$f":"'1.Портфель кредитів'!I927","v":0},{"$f":"'1.Портфель кредитів'!W927","v":0},{"$f":"'1.Портфель кредитів'!Y927","v":""},4,"2018-06-01","_4_43252_2"]
[{"$f":"'1.Портфель кредитів'!H928","v":0},{"$f":"'1.Портфель кредитів'!D928","v":""},{"$f":"'1.Портфель кредитів'!#REF!","v":{"$error":"#REF!"}},{"$f":"'1.Портфель кредитів'!#REF!","v":{"$error":"#REF!"}},{"$f":"'1.Портфель кредитів'!#REF!","v":{"$error":"#REF!"}},{"$f":"'1.Портфель кредитів'!I928","v":0},{"$f":"'1.Портфель кредитів'!W928","v":0},{"$f":"'1.Портфель кредитів'!Y928","v":""},4,"2018-06-01","_4_43252_2"]
[{"$f":"'1.Портфель кредитів'!H929","v":0},{"$f":"'1.Портфель кредитів'!D929","v":""},{"$f":"'1.Портфель кредитів'!#REF!","v":{"$error":"#REF!"}},{"$f":"'1.Портфель кредитів'!#REF!","v":{"$error":"#REF!"}},{"$f":"'1.Портфель кредитів'!#REF!","v":{"$error":"#REF!"}},{"$f":"'1.Портфель кредитів'!I929","v":0},{"$f":"'1.Портфель кредитів'!W929","v":0},{"$f":"'1.Портфель кредитів'!Y929","v":""},4,"2018-06-01","_4_43252_2"]
[{"$f":"'1.Портфель кредитів'!H930","v":0},{"$f":"'1.Портфель кредитів'!D930","v":""},{"$f":"'1.Портфель кредитів'!#REF!","v":{"$error":"#REF!"}},{"$f":"'1.Портфель кредитів'!#REF!","v":{"$error":"#REF!"}},{"$f":"'1.Портфель кредитів'!#REF!","v":{"$error":"#REF!"}},{"$f":"'1.Портфель кредитів'!I930","v":0},{"$f":"'1.Портфель кредитів'!W930","v":0},{"$f":"'1.Портфель кредитів'!Y930","v":""},4,"2018-06-01","_4_43252_2"]
[{"$f":"'1.Портфель кредитів'!H931","v":0},{"$f":"'1.Портфель кредитів'!D931","v":""},{"$f":"'1.Портфель кредитів'!#REF!","v":{"$error":"#REF!"}},{"$f":"'1.Портфель кредитів'!#REF!","v":{"$error":"#REF!"}},{"$f":"'1.Портфель кредитів'!#REF!","v":{"$error":"#REF!"}},{"$f":"'1.Портфель кредитів'!I931","v":0},{"$f":"'1.Портфель кредитів'!W931","v":0},{"$f":"'1.Портфель кредитів'!Y931","v":""},4,"2018-06-01","_4_43252_2"]
[{"$f":"'1.Портфель кредитів'!H932","v":0},{"$f":"'1.Портфель кредитів'!D932","v":""},{"$f":"'1.Портфель кредитів'!#REF!","v":{"$error":"#REF!"}},{"$f":"'1.Портфель кредитів'!#REF!","v":{"$error":"#REF!"}},{"$f":"'1.Портфель кредитів'!#REF!","v":{"$error":"#REF!"}},{"$f":"'1.Портфель кредитів'!I932","v":0},{"$f":"'1.Портфель кредитів'!W932","v":0},{"$f":"'1.Портфель кредитів'!Y932","v":""},4,"2018-06-01","_4_43252_2"]
[{"$f":"'1.Портфель кредитів'!H933","v":0},{"$f":"'1.Портфель кредитів'!D933","v":""},{"$f":"'1.Портфель кредитів'!#REF!","v":{"$error":"#REF!"}},{"$f":"'1.Портфель кредитів'!#REF!","v":{"$error":"#REF!"}},{"$f":"'1.Портфель кредитів'!#REF!","v":{"$error":"#REF!"}},{"$f":"'1.Портфель кредитів'!I933","v":0},{"$f":"'1.Портфель кредитів'!W933","v":0},{"$f":"'1.Портфель кредитів'!Y933","v":""},4,"2018-06-01","_4_43252_2"]
[{"$f":"'1.Портфель кредитів'!H934","v":0},{"$f":"'1.Портфель кредитів'!D934","v":""},{"$f":"'1.Портфель кредитів'!#REF!","v":{"$error":"#REF!"}},{"$f":"'1.Портфель кредитів'!#REF!","v":{"$error":"#REF!"}},{"$f":"'1.Портфель кредитів'!#REF!","v":{"$error":"#REF!"}},{"$f":"'1.Портфель кредитів'!I934","v":0},{"$f":"'1.Портфель кредитів'!W934","v":0},{"$f":"'1.Портфель кредитів'!Y934","v":""},4,"2018-06-01","_4_43252_2"]
[{"$f":"'1.Портфель кредитів'!H935","v":0},{"$f":"'1.Портфель кредитів'!D935","v":""},{"$f":"'1.Портфель кредитів'!#REF!","v":{"$error":"#REF!"}},{"$f":"'1.Портфель кредитів'!#REF!","v":{"$error":"#REF!"}},{"$f":"'1.Портфель кредитів'!#REF!","v":{"$error":"#REF!"}},{"$f":"'1.Портфель кредитів'!I935","v":0},{"$f":"'1.Портфель кредитів'!W935","v":0},{"$f":"'1.Портфель кредитів'!Y935","v":""},4,"2018-06-01","_4_43252_2"]
[{"$f":"'1.Портфель кредитів'!H936","v":0},{"$f":"'1.Портфель кредитів'!D936","v":""},{"$f":"'1.Портфель кредитів'!#REF!","v":{"$error":"#REF!"}},{"$f":"'1.Портфель кредитів'!#REF!","v":{"$error":"#REF!"}},{"$f":"'1.Портфель кредитів'!#REF!","v":{"$error":"#REF!"}},{"$f":"'1.Портфель кредитів'!I936","v":0},{"$f":"'1.Портфель кредитів'!W936","v":0},{"$f":"'1.Портфель кредитів'!Y936","v":""},4,"2018-06-01","_4_43252_2"]
[{"$f":"'1.Портфель кредитів'!H937","v":0},{"$f":"'1.Портфель кредитів'!D937","v":""},{"$f":"'1.Портфель кредитів'!#REF!","v":{"$error":"#REF!"}},{"$f":"'1.Портфель кредитів'!#REF!","v":{"$error":"#REF!"}},{"$f":"'1.Портфель кредитів'!#REF!","v":{"$error":"#REF!"}},{"$f":"'1.Портфель кредитів'!I937","v":0},{"$f":"'1.Портфель кредитів'!W937","v":0},{"$f":"'1.Портфель кредитів'!Y937","v":""},4,"2018-06-01","_4_43252_2"]
[{"$f":"'1.Портфель кредитів'!H938","v":0},{"$f":"'1.Портфель кредитів'!D938","v":""},{"$f":"'1.Портфель кредитів'!#REF!","v":{"$error":"#REF!"}},{"$f":"'1.Портфель кредитів'!#REF!","v":{"$error":"#REF!"}},{"$f":"'1.Портфель кредитів'!#REF!","v":{"$error":"#REF!"}},{"$f":"'1.Портфель кредитів'!I938","v":0},{"$f":"'1.Портфель кредитів'!W938","v":0},{"$f":"'1.Портфель кредитів'!Y938","v":""},4,"2018-06-01","_4_43252_2"]
[{"$f":"'1.Портфель кредитів'!H939","v":0},{"$f":"'1.Портфель кредитів'!D939","v":""},{"$f":"'1.Портфель кредитів'!#REF!","v":{"$error":"#REF!"}},{"$f":"'1.Портфель кредитів'!#REF!","v":{"$error":"#REF!"}},{"$f":"'1.Портфель кредитів'!#REF!","v":{"$error":"#REF!"}},{"$f":"'1.Портфель кредитів'!I939","v":0},{"$f":"'1.Портфель кредитів'!W939","v":0},{"$f":"'1.Портфель кредитів'!Y939","v":""},4,"2018-06-01","_4_43252_2"]
[{"$f":"'1.Портфель кредитів'!H940","v":0},{"$f":"'1.Портфель кредитів'!D940","v":""},{"$f":"'1.Портфель кредитів'!#REF!","v":{"$error":"#REF!"}},{"$f":"'1.Портфель кредитів'!#REF!","v":{"$error":"#REF!"}},{"$f":"'1.Портфель кредитів'!#REF!","v":{"$error":"#REF!"}},{"$f":"'1.Портфель кредитів'!I940","v":0},{"$f":"'1.Портфель кредитів'!W940","v":0},{"$f":"'1.Портфель кредитів'!Y940","v":""},4,"2018-06-01","_4_43252_2"]
[{"$f":"'1.Портфель кредитів'!H941","v":0},{"$f":"'1.Портфель кредитів'!D941","v":""},{"$f":"'1.Портфель кредитів'!#REF!","v":{"$error":"#REF!"}},{"$f":"'1.Портфель кредитів'!#REF!","v":{"$error":"#REF!"}},{"$f":"'1.Портфель кредитів'!#REF!","v":{"$error":"#REF!"}},{"$f":"'1.Портфель кредитів'!I941","v":0},{"$f":"'1.Портфель кредитів'!W941","v":0},{"$f":"'1.Портфель кредитів'!Y941","v":""},4,"2018-06-01","_4_43252_2"]
[{"$f":"'1.Портфель кредитів'!H942","v":0},{"$f":"'1.Портфель кредитів'!D942","v":""},{"$f":"'1.Портфель кредитів'!#REF!","v":{"$error":"#REF!"}},{"$f":"'1.Портфель кредитів'!#REF!","v":{"$error":"#REF!"}},{"$f":"'1.Портфель кредитів'!#REF!","v":{"$error":"#REF!"}},{"$f":"'1.Портфель кредитів'!I942","v":0},{"$f":"'1.Портфель кредитів'!W942","v":0},{"$f":"'1.Портфель кредитів'!Y942","v":""},4,"2018-06-01","_4_43252_2"]
[{"$f":"'1.Портфель кредитів'!H943","v":0},{"$f":"'1.Портфель кредитів'!D943","v":""},{"$f":"'1.Портфель кредитів'!#REF!","v":{"$error":"#REF!"}},{"$f":"'1.Портфель кредитів'!#REF!","v":{"$error":"#REF!"}},{"$f":"'1.Портфель кредитів'!#REF!","v":{"$error":"#REF!"}},{"$f":"'1.Портфель кредитів'!I943","v":0},{"$f":"'1.Портфель кредитів'!W943","v":0},{"$f":"'1.Портфель кредитів'!Y943","v":""},4,"2018-06-01","_4_43252_2"]
[{"$f":"'1.Портфель кредитів'!H944","v":0},{"$f":"'1.Портфель кредитів'!D944","v":""},{"$f":"'1.Портфель кредитів'!#REF!","v":{"$error":"#REF!"}},{"$f":"'1.Портфель кредитів'!#REF!","v":{"$error":"#REF!"}},{"$f":"'1.Портфель кредитів'!#REF!","v":{"$error":"#REF!"}},{"$f":"'1.Портфель кредитів'!I944","v":0},{"$f":"'1.Портфель кредитів'!W944","v":0},{"$f":"'1.Портфель кредитів'!Y944","v":""},4,"2018-06-01","_4_43252_2"]
[{"$f":"'1.Портфель кредитів'!H945","v":0},{"$f":"'1.Портфель кредитів'!D945","v":""},{"$f":"'1.Портфель кредитів'!#REF!","v":{"$error":"#REF!"}},{"$f":"'1.Портфель кредитів'!#REF!","v":{"$error":"#REF!"}},{"$f":"'1.Портфель кредитів'!#REF!","v":{"$error":"#REF!"}},{"$f":"'1.Портфель кредитів'!I945","v":0},{"$f":"'1.Портфель кредитів'!W945","v":0},{"$f":"'1.Портфель кредитів'!Y945","v":""},4,"2018-06-01","_4_43252_2"]
[{"$f":"'1.Портфель кредитів'!H946","v":0},{"$f":"'1.Портфель кредитів'!D946","v":""},{"$f":"'1.Портфель кредитів'!#REF!","v":{"$error":"#REF!"}},{"$f":"'1.Портфель кредитів'!#REF!","v":{"$error":"#REF!"}},{"$f":"'1.Портфель кредитів'!#REF!","v":{"$error":"#REF!"}},{"$f":"'1.Портфель кредитів'!I946","v":0},{"$f":"'1.Портфель кредитів'!W946","v":0},{"$f":"'1.Портфель кредитів'!Y946","v":""},4,"2018-06-01","_4_43252_2"]
[{"$f":"'1.Портфель кредитів'!H947","v":0},{"$f":"'1.Портфель кредитів'!D947","v":""},{"$f":"'1.Портфель кредитів'!#REF!","v":{"$error":"#REF!"}},{"$f":"'1.Портфель кредитів'!#REF!","v":{"$error":"#REF!"}},{"$f":"'1.Портфель кредитів'!#REF!","v":{"$error":"#REF!"}},{"$f":"'1.Портфель кредитів'!I947","v":0},{"$f":"'1.Портфель кредитів'!W947","v":0},{"$f":"'1.Портфель кредитів'!Y947","v":""},4,"2018-06-01","_4_43252_2"]
[{"$f":"'1.Портфель кредитів'!H948","v":0},{"$f":"'1.Портфель кредитів'!D948","v":""},{"$f":"'1.Портфель кредитів'!#REF!","v":{"$error":"#REF!"}},{"$f":"'1.Портфель кредитів'!#REF!","v":{"$error":"#REF!"}},{"$f":"'1.Портфель кредитів'!#REF!","v":{"$error":"#REF!"}},{"$f":"'1.Портфель кредитів'!I948","v":0},{"$f":"'1.Портфель кредитів'!W948","v":0},{"$f":"'1.Портфель кредитів'!Y948","v":""},4,"2018-06-01","_4_43252_2"]
[{"$f":"'1.Портфель кредитів'!H949","v":0},{"$f":"'1.Портфель кредитів'!D949","v":""},{"$f":"'1.Портфель кредитів'!#REF!","v":{"$error":"#REF!"}},{"$f":"'1.Портфель кредитів'!#REF!","v":{"$error":"#REF!"}},{"$f":"'1.Портфель кредитів'!#REF!","v":{"$error":"#REF!"}},{"$f":"'1.Портфель кредитів'!I949","v":0},{"$f":"'1.Портфель кредитів'!W949","v":0},{"$f":"'1.Портфель кредитів'!Y949","v":""},4,"2018-06-01","_4_43252_2"]
[{"$f":"'1.Портфель кредитів'!H950","v":0},{"$f":"'1.Портфель кредитів'!D950","v":""},{"$f":"'1.Портфель кредитів'!#REF!","v":{"$error":"#REF!"}},{"$f":"'1.Портфель кредитів'!#REF!","v":{"$error":"#REF!"}},{"$f":"'1.Портфель кредитів'!#REF!","v":{"$error":"#REF!"}},{"$f":"'1.Портфель кредитів'!I950","v":0},{"$f":"'1.Портфель кредитів'!W950","v":0},{"$f":"'1.Портфель кредитів'!Y950","v":""},4,"2018-06-01","_4_43252_2"]
[{"$f":"'1.Портфель кредитів'!H951","v":0},{"$f":"'1.Портфель кредитів'!D951","v":""},{"$f":"'1.Портфель кредитів'!#REF!","v":{"$error":"#REF!"}},{"$f":"'1.Портфель кредитів'!#REF!","v":{"$error":"#REF!"}},{"$f":"'1.Портфель кредитів'!#REF!","v":{"$error":"#REF!"}},{"$f":"'1.Портфель кредитів'!I951","v":0},{"$f":"'1.Портфель кредитів'!W951","v":0},{"$f":"'1.Портфель кредитів'!Y951","v":""},4,"2018-06-01","_4_43252_2"]
[{"$f":"'1.Портфель кредитів'!H952","v":0},{"$f":"'1.Портфель кредитів'!D952","v":""},{"$f":"'1.Портфель кредитів'!#REF!","v":{"$error":"#REF!"}},{"$f":"'1.Портфель кредитів'!#REF!","v":{"$error":"#REF!"}},{"$f":"'1.Портфель кредитів'!#REF!","v":{"$error":"#REF!"}},{"$f":"'1.Портфель кредитів'!I952","v":0},{"$f":"'1.Портфель кредитів'!W952","v":0},{"$f":"'1.Портфель кредитів'!Y952","v":""},4,"2018-06-01","_4_43252_2"]
[{"$f":"'1.Портфель кредитів'!H953","v":0},{"$f":"'1.Портфель кредитів'!D953","v":""},{"$f":"'1.Портфель кредитів'!#REF!","v":{"$error":"#REF!"}},{"$f":"'1.Портфель кредитів'!#REF!","v":{"$error":"#REF!"}},{"$f":"'1.Портфель кредитів'!#REF!","v":{"$error":"#REF!"}},{"$f":"'1.Портфель кредитів'!I953","v":0},{"$f":"'1.Портфель кредитів'!W953","v":0},{"$f":"'1.Портфель кредитів'!Y953","v":""},4,"2018-06-01","_4_43252_2"]
[{"$f":"'1.Портфель кредитів'!H954","v":0},{"$f":"'1.Портфель кредитів'!D954","v":""},{"$f":"'1.Портфель кредитів'!#REF!","v":{"$error":"#REF!"}},{"$f":"'1.Портфель кредитів'!#REF!","v":{"$error":"#REF!"}},{"$f":"'1.Портфель кредитів'!#REF!","v":{"$error":"#REF!"}},{"$f":"'1.Портфель кредитів'!I954","v":0},{"$f":"'1.Портфель кредитів'!W954","v":0},{"$f":"'1.Портфель кредитів'!Y954","v":""},4,"2018-06-01","_4_43252_2"]
[{"$f":"'1.Портфель кредитів'!H955","v":0},{"$f":"'1.Портфель кредитів'!D955","v":""},{"$f":"'1.Портфель кредитів'!#REF!","v":{"$error":"#REF!"}},{"$f":"'1.Портфель кредитів'!#REF!","v":{"$error":"#REF!"}},{"$f":"'1.Портфель кредитів'!#REF!","v":{"$error":"#REF!"}},{"$f":"'1.Портфель кредитів'!I955","v":0},{"$f":"'1.Портфель кредитів'!W955","v":0},{"$f":"'1.Портфель кредитів'!Y955","v":""},4,"2018-06-01","_4_43252_2"]
[{"$f":"'1.Портфель кредитів'!H956","v":0},{"$f":"'1.Портфель кредитів'!D956","v":""},{"$f":"'1.Портфель кредитів'!#REF!","v":{"$error":"#REF!"}},{"$f":"'1.Портфель кредитів'!#REF!","v":{"$error":"#REF!"}},{"$f":"'1.Портфель кредитів'!#REF!","v":{"$error":"#REF!"}},{"$f":"'1.Портфель кредитів'!I956","v":0},{"$f":"'1.Портфель кредитів'!W956","v":0},{"$f":"'1.Портфель кредитів'!Y956","v":""},4,"2018-06-01","_4_43252_2"]
[{"$f":"'1.Портфель кредитів'!H957","v":0},{"$f":"'1.Портфель кредитів'!D957","v":""},{"$f":"'1.Портфель кредитів'!#REF!","v":{"$error":"#REF!"}},{"$f":"'1.Портфель кредитів'!#REF!","v":{"$error":"#REF!"}},{"$f":"'1.Портфель кредитів'!#REF!","v":{"$error":"#REF!"}},{"$f":"'1.Портфель кредитів'!I957","v":0},{"$f":"'1.Портфель кредитів'!W957","v":0},{"$f":"'1.Портфель кредитів'!Y957","v":""},4,"2018-06-01","_4_43252_2"]
[{"$f":"'1.Портфель кредитів'!H958","v":0},{"$f":"'1.Портфель кредитів'!D958","v":""},{"$f":"'1.Портфель кредитів'!#REF!","v":{"$error":"#REF!"}},{"$f":"'1.Портфель кредитів'!#REF!","v":{"$error":"#REF!"}},{"$f":"'1.Портфель кредитів'!#REF!","v":{"$error":"#REF!"}},{"$f":"'1.Портфель кредитів'!I958","v":0},{"$f":"'1.Портфель кредитів'!W958","v":0},{"$f":"'1.Портфель кредитів'!Y958","v":""},4,"2018-06-01","_4_43252_2"]
[{"$f":"'1.Портфель кредитів'!H959","v":0},{"$f":"'1.Портфель кредитів'!D959","v":""},{"$f":"'1.Портфель кредитів'!#REF!","v":{"$error":"#REF!"}},{"$f":"'1.Портфель кредитів'!#REF!","v":{"$error":"#REF!"}},{"$f":"'1.Портфель кредитів'!#REF!","v":{"$error":"#REF!"}},{"$f":"'1.Портфель кредитів'!I959","v":0},{"$f":"'1.Портфель кредитів'!W959","v":0},{"$f":"'1.Портфель кредитів'!Y959","v":""},4,"2018-06-01","_4_43252_2"]
[{"$f":"'1.Портфель кредитів'!H960","v":0},{"$f":"'1.Портфель кредитів'!D960","v":""},{"$f":"'1.Портфель кредитів'!#REF!","v":{"$error":"#REF!"}},{"$f":"'1.Портфель кредитів'!#REF!","v":{"$error":"#REF!"}},{"$f":"'1.Портфель кредитів'!#REF!","v":{"$error":"#REF!"}},{"$f":"'1.Портфель кредитів'!I960","v":0},{"$f":"'1.Портфель кредитів'!W960","v":0},{"$f":"'1.Портфель кредитів'!Y960","v":""},4,"2018-06-01","_4_43252_2"]
[{"$f":"'1.Портфель кредитів'!H961","v":0},{"$f":"'1.Портфель кредитів'!D961","v":""},{"$f":"'1.Портфель кредитів'!#REF!","v":{"$error":"#REF!"}},{"$f":"'1.Портфель кредитів'!#REF!","v":{"$error":"#REF!"}},{"$f":"'1.Портфель кредитів'!#REF!","v":{"$error":"#REF!"}},{"$f":"'1.Портфель кредитів'!I961","v":0},{"$f":"'1.Портфель кредитів'!W961","v":0},{"$f":"'1.Портфель кредитів'!Y961","v":""},4,"2018-06-01","_4_43252_2"]
[{"$f":"'1.Портфель кредитів'!H962","v":0},{"$f":"'1.Портфель кредитів'!D962","v":""},{"$f":"'1.Портфель кредитів'!#REF!","v":{"$error":"#REF!"}},{"$f":"'1.Портфель кредитів'!#REF!","v":{"$error":"#REF!"}},{"$f":"'1.Портфель кредитів'!#REF!","v":{"$error":"#REF!"}},{"$f":"'1.Портфель кредитів'!I962","v":0},{"$f":"'1.Портфель кредитів'!W962","v":0},{"$f":"'1.Портфель кредитів'!Y962","v":""},4,"2018-06-01","_4_43252_2"]
[{"$f":"'1.Портфель кредитів'!H963","v":0},{"$f":"'1.Портфель кредитів'!D963","v":""},{"$f":"'1.Портфель кредитів'!#REF!","v":{"$error":"#REF!"}},{"$f":"'1.Портфель кредитів'!#REF!","v":{"$error":"#REF!"}},{"$f":"'1.Портфель кредитів'!#REF!","v":{"$error":"#REF!"}},{"$f":"'1.Портфель кредитів'!I963","v":0},{"$f":"'1.Портфель кредитів'!W963","v":0},{"$f":"'1.Портфель кредитів'!Y963","v":""},4,"2018-06-01","_4_43252_2"]
[{"$f":"'1.Портфель кредитів'!H964","v":0},{"$f":"'1.Портфель кредитів'!D964","v":""},{"$f":"'1.Портфель кредитів'!#REF!","v":{"$error":"#REF!"}},{"$f":"'1.Портфель кредитів'!#REF!","v":{"$error":"#REF!"}},{"$f":"'1.Портфель кредитів'!#REF!","v":{"$error":"#REF!"}},{"$f":"'1.Портфель кредитів'!I964","v":0},{"$f":"'1.Портфель кредитів'!W964","v":0},{"$f":"'1.Портфель кредитів'!Y964","v":""},4,"2018-06-01","_4_43252_2"]
[{"$f":"'1.Портфель кредитів'!H965","v":0},{"$f":"'1.Портфель кредитів'!D965","v":""},{"$f":"'1.Портфель кредитів'!#REF!","v":{"$error":"#REF!"}},{"$f":"'1.Портфель кредитів'!#REF!","v":{"$error":"#REF!"}},{"$f":"'1.Портфель кредитів'!#REF!","v":{"$error":"#REF!"}},{"$f":"'1.Портфель кредитів'!I965","v":0},{"$f":"'1.Портфель кредитів'!W965","v":0},{"$f":"'1.Портфель кредитів'!Y965","v":""},4,"2018-06-01","_4_43252_2"]
[{"$f":"'1.Портфель кредитів'!H966","v":0},{"$f":"'1.Портфель кредитів'!D966","v":""},{"$f":"'1.Портфель кредитів'!#REF!","v":{"$error":"#REF!"}},{"$f":"'1.Портфель кредитів'!#REF!","v":{"$error":"#REF!"}},{"$f":"'1.Портфель кредитів'!#REF!","v":{"$error":"#REF!"}},{"$f":"'1.Портфель кредитів'!I966","v":0},{"$f":"'1.Портфель кредитів'!W966","v":0},{"$f":"'1.Портфель кредитів'!Y966","v":""},4,"2018-06-01","_4_43252_2"]
[{"$f":"'1.Портфель кредитів'!H967","v":0},{"$f":"'1.Портфель кредитів'!D967","v":""},{"$f":"'1.Портфель кредитів'!#REF!","v":{"$error":"#REF!"}},{"$f":"'1.Портфель кредитів'!#REF!","v":{"$error":"#REF!"}},{"$f":"'1.Портфель кредитів'!#REF!","v":{"$error":"#REF!"}},{"$f":"'1.Портфель кредитів'!I967","v":0},{"$f":"'1.Портфель кредитів'!W967","v":0},{"$f":"'1.Портфель кредитів'!Y967","v":""},4,"2018-06-01","_4_43252_2"]
[{"$f":"'1.Портфель кредитів'!H968","v":0},{"$f":"'1.Портфель кредитів'!D968","v":""},{"$f":"'1.Портфель кредитів'!#REF!","v":{"$error":"#REF!"}},{"$f":"'1.Портфель кредитів'!#REF!","v":{"$error":"#REF!"}},{"$f":"'1.Портфель кредитів'!#REF!","v":{"$error":"#REF!"}},{"$f":"'1.Портфель кредитів'!I968","v":0},{"$f":"'1.Портфель кредитів'!W968","v":0},{"$f":"'1.Портфель кредитів'!Y968","v":""},4,"2018-06-01","_4_43252_2"]
[{"$f":"'1.Портфель кредитів'!H969","v":0},{"$f":"'1.Портфель кредитів'!D969","v":""},{"$f":"'1.Портфель кредитів'!#REF!","v":{"$error":"#REF!"}},{"$f":"'1.Портфель кредитів'!#REF!","v":{"$error":"#REF!"}},{"$f":"'1.Портфель кредитів'!#REF!","v":{"$error":"#REF!"}},{"$f":"'1.Портфель кредитів'!I969","v":0},{"$f":"'1.Портфель кредитів'!W969","v":0},{"$f":"'1.Портфель кредитів'!Y969","v":""},4,"2018-06-01","_4_43252_2"]
[{"$f":"'1.Портфель кредитів'!H970","v":0},{"$f":"'1.Портфель кредитів'!D970","v":""},{"$f":"'1.Портфель кредитів'!#REF!","v":{"$error":"#REF!"}},{"$f":"'1.Портфель кредитів'!#REF!","v":{"$error":"#REF!"}},{"$f":"'1.Портфель кредитів'!#REF!","v":{"$error":"#REF!"}},{"$f":"'1.Портфель кредитів'!I970","v":0},{"$f":"'1.Портфель кредитів'!W970","v":0},{"$f":"'1.Портфель кредитів'!Y970","v":""},{"$f":"$E$1","v":4},{"$f":"$E$2","v":"2018-06-01"},{"$f":"B966&\"_\"&I966&\"_\"&J966&\"_\"&$E$3","v":"_4_43252_2"}]
[{"$f":"'1.Портфель кредитів'!H971","v":0},{"$f":"'1.Портфель кредитів'!D971","v":""},{"$f":"'1.Портфель кредитів'!#REF!","v":{"$error":"#REF!"}},{"$f":"'1.Портфель кредитів'!#REF!","v":{"$error":"#REF!"}},{"$f":"'1.Портфель кредитів'!#REF!","v":{"$error":"#REF!"}},{"$f":"'1.Портфель кредитів'!I971","v":0},{"$f":"'1.Портфель кредитів'!W971","v":0},{"$f":"'1.Портфель кредитів'!Y971","v":""},4,"2018-06-01","_4_43252_2"]
[{"$f":"'1.Портфель кредитів'!H972","v":0},{"$f":"'1.Портфель кредитів'!D972","v":""},{"$f":"'1.Портфель кредитів'!#REF!","v":{"$error":"#REF!"}},{"$f":"'1.Портфель кредитів'!#REF!","v":{"$error":"#REF!"}},{"$f":"'1.Портфель кредитів'!#REF!","v":{"$error":"#REF!"}},{"$f":"'1.Портфель кредитів'!I972","v":0},{"$f":"'1.Портфель кредитів'!W972","v":0},{"$f":"'1.Портфель кредитів'!Y972","v":""},4,"2018-06-01","_4_43252_2"]
[{"$f":"'1.Портфель кредитів'!H973","v":0},{"$f":"'1.Портфель кредитів'!D973","v":""},{"$f":"'1.Портфель кредитів'!#REF!","v":{"$error":"#REF!"}},{"$f":"'1.Портфель кредитів'!#REF!","v":{"$error":"#REF!"}},{"$f":"'1.Портфель кредитів'!#REF!","v":{"$error":"#REF!"}},{"$f":"'1.Портфель кредитів'!I973","v":0},{"$f":"'1.Портфель кредитів'!W973","v":0},{"$f":"'1.Портфель кредитів'!Y973","v":""},4,"2018-06-01","_4_43252_2"]
[{"$f":"'1.Портфель кредитів'!H974","v":0},{"$f":"'1.Портфель кредитів'!D974","v":""},{"$f":"'1.Портфель кредитів'!#REF!","v":{"$error":"#REF!"}},{"$f":"'1.Портфель кредитів'!#REF!","v":{"$error":"#REF!"}},{"$f":"'1.Портфель кредитів'!#REF!","v":{"$error":"#REF!"}},{"$f":"'1.Портфель кредитів'!I974","v":0},{"$f":"'1.Портфель кредитів'!W974","v":0},{"$f":"'1.Портфель кредитів'!Y974","v":""},4,"2018-06-01","_4_43252_2"]
[{"$f":"'1.Портфель кредитів'!H975","v":0},{"$f":"'1.Портфель кредитів'!D975","v":""},{"$f":"'1.Портфель кредитів'!#REF!","v":{"$error":"#REF!"}},{"$f":"'1.Портфель кредитів'!#REF!","v":{"$error":"#REF!"}},{"$f":"'1.Портфель кредитів'!#REF!","v":{"$error":"#REF!"}},{"$f":"'1.Портфель кредитів'!I975","v":0},{"$f":"'1.Портфель кредитів'!W975","v":0},{"$f":"'1.Портфель кредитів'!Y975","v":""},4,"2018-06-01","_4_43252_2"]
[{"$f":"'1.Портфель кредитів'!H976","v":0},{"$f":"'1.Портфель кредитів'!D976","v":""},{"$f":"'1.Портфель кредитів'!#REF!","v":{"$error":"#REF!"}},{"$f":"'1.Портфель кредитів'!#REF!","v":{"$error":"#REF!"}},{"$f":"'1.Портфель кредитів'!#REF!","v":{"$error":"#REF!"}},{"$f":"'1.Портфель кредитів'!I976","v":0},{"$f":"'1.Портфель кредитів'!W976","v":0},{"$f":"'1.Портфель кредитів'!Y976","v":""},4,"2018-06-01","_4_43252_2"]
[{"$f":"'1.Портфель кредитів'!H977","v":0},{"$f":"'1.Портфель кредитів'!D977","v":""},{"$f":"'1.Портфель кредитів'!#REF!","v":{"$error":"#REF!"}},{"$f":"'1.Портфель кредитів'!#REF!","v":{"$error":"#REF!"}},{"$f":"'1.Портфель кредитів'!#REF!","v":{"$error":"#REF!"}},{"$f":"'1.Портфель кредитів'!I977","v":0},{"$f":"'1.Портфель кредитів'!W977","v":0},{"$f":"'1.Портфель кредитів'!Y977","v":""},4,"2018-06-01","_4_43252_2"]
[{"$f":"'1.Портфель кредитів'!H978","v":0},{"$f":"'1.Портфель кредитів'!D978","v":""},{"$f":"'1.Портфель кредитів'!#REF!","v":{"$error":"#REF!"}},{"$f":"'1.Портфель кредитів'!#REF!","v":{"$error":"#REF!"}},{"$f":"'1.Портфель кредитів'!#REF!","v":{"$error":"#REF!"}},{"$f":"'1.Портфель кредитів'!I978","v":0},{"$f":"'1.Портфель кредитів'!W978","v":0},{"$f":"'1.Портфель кредитів'!Y978","v":""},4,"2018-06-01","_4_43252_2"]
[{"$f":"'1.Портфель кредитів'!H979","v":0},{"$f":"'1.Портфель кредитів'!D979","v":""},{"$f":"'1.Портфель кредитів'!#REF!","v":{"$error":"#REF!"}},{"$f":"'1.Портфель кредитів'!#REF!","v":{"$error":"#REF!"}},{"$f":"'1.Портфель кредитів'!#REF!","v":{"$error":"#REF!"}},{"$f":"'1.Портфель кредитів'!I979","v":0},{"$f":"'1.Портфель кредитів'!W979","v":0},{"$f":"'1.Портфель кредитів'!Y979","v":""},4,"2018-06-01","_4_43252_2"]
[{"$f":"'1.Портфель кредитів'!H980","v":0},{"$f":"'1.Портфель кредитів'!D980","v":""},{"$f":"'1.Портфель кредитів'!#REF!","v":{"$error":"#REF!"}},{"$f":"'1.Портфель кредитів'!#REF!","v":{"$error":"#REF!"}},{"$f":"'1.Портфель кредитів'!#REF!","v":{"$error":"#REF!"}},{"$f":"'1.Портфель кредитів'!I980","v":0},{"$f":"'1.Портфель кредитів'!W980","v":0},{"$f":"'1.Портфель кредитів'!Y980","v":""},4,"2018-06-01","_4_43252_2"]
[{"$f":"'1.Портфель кредитів'!H981","v":0},{"$f":"'1.Портфель кредитів'!D981","v":""},{"$f":"'1.Портфель кредитів'!#REF!","v":{"$error":"#REF!"}},{"$f":"'1.Портфель кредитів'!#REF!","v":{"$error":"#REF!"}},{"$f":"'1.Портфель кредитів'!#REF!","v":{"$error":"#REF!"}},{"$f":"'1.Портфель кредитів'!I981","v":0},{"$f":"'1.Портфель кредитів'!W981","v":0},{"$f":"'1.Портфель кредитів'!Y981","v":""},4,"2018-06-01","_4_43252_2"]
[{"$f":"'1.Портфель кредитів'!H982","v":0},{"$f":"'1.Портфель кредитів'!D982","v":""},{"$f":"'1.Портфель кредитів'!#REF!","v":{"$error":"#REF!"}},{"$f":"'1.Портфель кредитів'!#REF!","v":{"$error":"#REF!"}},{"$f":"'1.Портфель кредитів'!#REF!","v":{"$error":"#REF!"}},{"$f":"'1.Портфель кредитів'!I982","v":0},{"$f":"'1.Портфель кредитів'!W982","v":0},{"$f":"'1.Портфель кредитів'!Y982","v":""},4,"2018-06-01","_4_43252_2"]
[{"$f":"'1.Портфель кредитів'!H983","v":0},{"$f":"'1.Портфель кредитів'!D983","v":""},{"$f":"'1.Портфель кредитів'!#REF!","v":{"$error":"#REF!"}},{"$f":"'1.Портфель кредитів'!#REF!","v":{"$error":"#REF!"}},{"$f":"'1.Портфель кредитів'!#REF!","v":{"$error":"#REF!"}},{"$f":"'1.Портфель кредитів'!I983","v":0},{"$f":"'1.Портфель кредитів'!W983","v":0},{"$f":"'1.Портфель кредитів'!Y983","v":""},4,"2018-06-01","_4_43252_2"]
[{"$f":"'1.Портфель кредитів'!H984","v":0},{"$f":"'1.Портфель кредитів'!D984","v":""},{"$f":"'1.Портфель кредитів'!#REF!","v":{"$error":"#REF!"}},{"$f":"'1.Портфель кредитів'!#REF!","v":{"$error":"#REF!"}},{"$f":"'1.Портфель кредитів'!#REF!","v":{"$error":"#REF!"}},{"$f":"'1.Портфель кредитів'!I984","v":0},{"$f":"'1.Портфель кредитів'!W984","v":0},{"$f":"'1.Портфель кредитів'!Y984","v":""},4,"2018-06-01","_4_43252_2"]
[{"$f":"'1.Портфель кредитів'!H985","v":0},{"$f":"'1.Портфель кредитів'!D985","v":""},{"$f":"'1.Портфель кредитів'!#REF!","v":{"$error":"#REF!"}},{"$f":"'1.Портфель кредитів'!#REF!","v":{"$error":"#REF!"}},{"$f":"'1.Портфель кредитів'!#REF!","v":{"$error":"#REF!"}},{"$f":"'1.Портфель кредитів'!I985","v":0},{"$f":"'1.Портфель кредитів'!W985","v":0},{"$f":"'1.Портфель кредитів'!Y985","v":""},4,"2018-06-01","_4_43252_2"]
[{"$f":"'1.Портфель кредитів'!H986","v":0},{"$f":"'1.Портфель кредитів'!D986","v":""},{"$f":"'1.Портфель кредитів'!#REF!","v":{"$error":"#REF!"}},{"$f":"'1.Портфель кредитів'!#REF!","v":{"$error":"#REF!"}},{"$f":"'1.Портфель кредитів'!#REF!","v":{"$error":"#REF!"}},{"$f":"'1.Портфель кредитів'!I986","v":0},{"$f":"'1.Портфель кредитів'!W986","v":0},{"$f":"'1.Портфель кредитів'!Y986","v":""},4,"2018-06-01","_4_43252_2"]
[{"$f":"'1.Портфель кредитів'!H987","v":0},{"$f":"'1.Портфель кредитів'!D987","v":""},{"$f":"'1.Портфель кредитів'!#REF!","v":{"$error":"#REF!"}},{"$f":"'1.Портфель кредитів'!#REF!","v":{"$error":"#REF!"}},{"$f":"'1.Портфель кредитів'!#REF!","v":{"$error":"#REF!"}},{"$f":"'1.Портфель кредитів'!I987","v":0},{"$f":"'1.Портфель кредитів'!W987","v":0},{"$f":"'1.Портфель кредитів'!Y987","v":""},4,"2018-06-01","_4_43252_2"]
[{"$f":"'1.Портфель кредитів'!H988","v":0},{"$f":"'1.Портфель кредитів'!D988","v":""},{"$f":"'1.Портфель кредитів'!#REF!","v":{"$error":"#REF!"}},{"$f":"'1.Портфель кредитів'!#REF!","v":{"$error":"#REF!"}},{"$f":"'1.Портфель кредитів'!#REF!","v":{"$error":"#REF!"}},{"$f":"'1.Портфель кредитів'!I988","v":0},{"$f":"'1.Портфель кредитів'!W988","v":0},{"$f":"'1.Портфель кредитів'!Y988","v":""},4,"2018-06-01","_4_43252_2"]
[{"$f":"'1.Портфель кредитів'!H989","v":0},{"$f":"'1.Портфель кредитів'!D989","v":""},{"$f":"'1.Портфель кредитів'!#REF!","v":{"$error":"#REF!"}},{"$f":"'1.Портфель кредитів'!#REF!","v":{"$error":"#REF!"}},{"$f":"'1.Портфель кредитів'!#REF!","v":{"$error":"#REF!"}},{"$f":"'1.Портфель кредитів'!I989","v":0},{"$f":"'1.Портфель кредитів'!W989","v":0},{"$f":"'1.Портфель кредитів'!Y989","v":""},4,"2018-06-01","_4_43252_2"]
[{"$f":"'1.Портфель кредитів'!H990","v":0},{"$f":"'1.Портфель кредитів'!D990","v":""},{"$f":"'1.Портфель кредитів'!#REF!","v":{"$error":"#REF!"}},{"$f":"'1.Портфель кредитів'!#REF!","v":{"$error":"#REF!"}},{"$f":"'1.Портфель кредитів'!#REF!","v":{"$error":"#REF!"}},{"$f":"'1.Портфель кредитів'!I990","v":0},{"$f":"'1.Портфель кредитів'!W990","v":0},{"$f":"'1.Портфель кредитів'!Y990","v":""},4,"2018-06-01","_4_43252_2"]
[{"$f":"'1.Портфель кредитів'!H991","v":0},{"$f":"'1.Портфель кредитів'!D991","v":""},{"$f":"'1.Портфель кредитів'!#REF!","v":{"$error":"#REF!"}},{"$f":"'1.Портфель кредитів'!#REF!","v":{"$error":"#REF!"}},{"$f":"'1.Портфель кредитів'!#REF!","v":{"$error":"#REF!"}},{"$f":"'1.Портфель кредитів'!I991","v":0},{"$f":"'1.Портфель кредитів'!W991","v":0},{"$f":"'1.Портфель кредитів'!Y991","v":""},4,"2018-06-01","_4_43252_2"]
[{"$f":"'1.Портфель кредитів'!H992","v":0},{"$f":"'1.Портфель кредитів'!D992","v":""},{"$f":"'1.Портфель кредитів'!#REF!","v":{"$error":"#REF!"}},{"$f":"'1.Портфель кредитів'!#REF!","v":{"$error":"#REF!"}},{"$f":"'1.Портфель кредитів'!#REF!","v":{"$error":"#REF!"}},{"$f":"'1.Портфель кредитів'!I992","v":0},{"$f":"'1.Портфель кредитів'!W992","v":0},{"$f":"'1.Портфель кредитів'!Y992","v":""},4,"2018-06-01","_4_43252_2"]
[{"$f":"'1.Портфель кредитів'!H993","v":0},{"$f":"'1.Портфель кредитів'!D993","v":""},{"$f":"'1.Портфель кредитів'!#REF!","v":{"$error":"#REF!"}},{"$f":"'1.Портфель кредитів'!#REF!","v":{"$error":"#REF!"}},{"$f":"'1.Портфель кредитів'!#REF!","v":{"$error":"#REF!"}},{"$f":"'1.Портфель кредитів'!I993","v":0},{"$f":"'1.Портфель кредитів'!W993","v":0},{"$f":"'1.Портфель кредитів'!Y993","v":""},4,"2018-06-01","_4_43252_2"]
[{"$f":"'1.Портфель кредитів'!H994","v":0},{"$f":"'1.Портфель кредитів'!D994","v":""},{"$f":"'1.Портфель кредитів'!#REF!","v":{"$error":"#REF!"}},{"$f":"'1.Портфель кредитів'!#REF!","v":{"$error":"#REF!"}},{"$f":"'1.Портфель кредитів'!#REF!","v":{"$error":"#REF!"}},{"$f":"'1.Портфель кредитів'!I994","v":0},{"$f":"'1.Портфель кредитів'!W994","v":0},{"$f":"'1.Портфель кредитів'!Y994","v":""},4,"2018-06-01","_4_43252_2"]
[{"$f":"'1.Портфель кредитів'!H995","v":0},{"$f":"'1.Портфель кредитів'!D995","v":""},{"$f":"'1.Портфель кредитів'!#REF!","v":{"$error":"#REF!"}},{"$f":"'1.Портфель кредитів'!#REF!","v":{"$error":"#REF!"}},{"$f":"'1.Портфель кредитів'!#REF!","v":{"$error":"#REF!"}},{"$f":"'1.Портфель кредитів'!I995","v":0},{"$f":"'1.Портфель кредитів'!W995","v":0},{"$f":"'1.Портфель кредитів'!Y995","v":""},4,"2018-06-01","_4_43252_2"]
[{"$f":"'1.Портфель кредитів'!H996","v":0},{"$f":"'1.Портфель кредитів'!D996","v":""},{"$f":"'1.Портфель кредитів'!#REF!","v":{"$error":"#REF!"}},{"$f":"'1.Портфель кредитів'!#REF!","v":{"$error":"#REF!"}},{"$f":"'1.Портфель кредитів'!#REF!","v":{"$error":"#REF!"}},{"$f":"'1.Портфель кредитів'!I996","v":0},{"$f":"'1.Портфель кредитів'!W996","v":0},{"$f":"'1.Портфель кредитів'!Y996","v":""},4,"2018-06-01","_4_43252_2"]
[{"$f":"'1.Портфель кредитів'!H997","v":0},{"$f":"'1.Портфель кредитів'!D997","v":""},{"$f":"'1.Портфель кредитів'!#REF!","v":{"$error":"#REF!"}},{"$f":"'1.Портфель кредитів'!#REF!","v":{"$error":"#REF!"}},{"$f":"'1.Портфель кредитів'!#REF!","v":{"$error":"#REF!"}},{"$f":"'1.Портфель кредитів'!I997","v":0},{"$f":"'1.Портфель кредитів'!W997","v":0},{"$f":"'1.Портфель кредитів'!Y997","v":""},4,"2018-06-01","_4_43252_2"]
[{"$f":"'1.Портфель кредитів'!H998","v":0},{"$f":"'1.Портфель кредитів'!D998","v":""},{"$f":"'1.Портфель кредитів'!#REF!","v":{"$error":"#REF!"}},{"$f":"'1.Портфель кредитів'!#REF!","v":{"$error":"#REF!"}},{"$f":"'1.Портфель кредитів'!#REF!","v":{"$error":"#REF!"}},{"$f":"'1.Портфель кредитів'!I998","v":0},{"$f":"'1.Портфель кредитів'!W998","v":0},{"$f":"'1.Портфель кредитів'!Y998","v":""},4,"2018-06-01","_4_43252_2"]
[{"$f":"'1.Портфель кредитів'!H999","v":0},{"$f":"'1.Портфель кредитів'!D999","v":""},{"$f":"'1.Портфель кредитів'!#REF!","v":{"$error":"#REF!"}},{"$f":"'1.Портфель кредитів'!#REF!","v":{"$error":"#REF!"}},{"$f":"'1.Портфель кредитів'!#REF!","v":{"$error":"#REF!"}},{"$f":"'1.Портфель кредитів'!I999","v":0},{"$f":"'1.Портфель кредитів'!W999","v":0},{"$f":"'1.Портфель кредитів'!Y999","v":""},4,"2018-06-01","_4_43252_2"]
[{"$f":"'1.Портфель кредитів'!H1000","v":0},{"$f":"'1.Портфель кредитів'!D1000","v":""},{"$f":"'1.Портфель кредитів'!#REF!","v":{"$error":"#REF!"}},{"$f":"'1.Портфель кредитів'!#REF!","v":{"$error":"#REF!"}},{"$f":"'1.Портфель кредитів'!#REF!","v":{"$error":"#REF!"}},{"$f":"'1.Портфель кредитів'!I1000","v":0},{"$f":"'1.Портфель кредитів'!W1000","v":0},{"$f":"'1.Портфель кредитів'!Y1000","v":""},4,"2018-06-01","_4_43252_2"]
[{"$f":"'1.Портфель кредитів'!H1001","v":0},{"$f":"'1.Портфель кредитів'!D1001","v":""},{"$f":"'1.Портфель кредитів'!#REF!","v":{"$error":"#REF!"}},{"$f":"'1.Портфель кредитів'!#REF!","v":{"$error":"#REF!"}},{"$f":"'1.Портфель кредитів'!#REF!","v":{"$error":"#REF!"}},{"$f":"'1.Портфель кредитів'!I1001","v":0},{"$f":"'1.Портфель кредитів'!W1001","v":0},{"$f":"'1.Портфель кредитів'!Y1001","v":""},4,"2018-06-01","_4_43252_2"]
[{"$f":"'1.Портфель кредитів'!H1002","v":0},{"$f":"'1.Портфель кредитів'!D1002","v":""},{"$f":"'1.Портфель кредитів'!#REF!","v":{"$error":"#REF!"}},{"$f":"'1.Портфель кредитів'!#REF!","v":{"$error":"#REF!"}},{"$f":"'1.Портфель кредитів'!#REF!","v":{"$error":"#REF!"}},{"$f":"'1.Портфель кредитів'!I1002","v":0},{"$f":"'1.Портфель кредитів'!W1002","v":0},{"$f":"'1.Портфель кредитів'!Y1002","v":""},4,"2018-06-01","_4_43252_2"]
[{"$f":"'1.Портфель кредитів'!H1003","v":0},{"$f":"'1.Портфель кредитів'!D1003","v":""},{"$f":"'1.Портфель кредитів'!#REF!","v":{"$error":"#REF!"}},{"$f":"'1.Портфель кредитів'!#REF!","v":{"$error":"#REF!"}},{"$f":"'1.Портфель кредитів'!#REF!","v":{"$error":"#REF!"}},{"$f":"'1.Портфель кредитів'!I1003","v":0},{"$f":"'1.Портфель кредитів'!W1003","v":0},{"$f":"'1.Портфель кредитів'!Y1003","v":""},4,"2018-06-01","_4_43252_2"]
[{"$f":"'1.Портфель кредитів'!H1004","v":0},{"$f":"'1.Портфель кредитів'!D1004","v":""},{"$f":"'1.Портфель кредитів'!#REF!","v":{"$error":"#REF!"}},{"$f":"'1.Портфель кредитів'!#REF!","v":{"$error":"#REF!"}},{"$f":"'1.Портфель кредитів'!#REF!","v":{"$error":"#REF!"}},{"$f":"'1.Портфель кредитів'!I1004","v":0},{"$f":"'1.Портфель кредитів'!W1004","v":0},{"$f":"'1.Портфель кредитів'!Y1004","v":""},4,"2018-06-01","_4_43252_2"]
[{"$f":"'1.Портфель кредитів'!H1005","v":0},{"$f":"'1.Портфель кредитів'!D1005","v":""},{"$f":"'1.Портфель кредитів'!#REF!","v":{"$error":"#REF!"}},{"$f":"'1.Портфель кредитів'!#REF!","v":{"$error":"#REF!"}},{"$f":"'1.Портфель кредитів'!#REF!","v":{"$error":"#REF!"}},{"$f":"'1.Портфель кредитів'!I1005","v":0},{"$f":"'1.Портфель кредитів'!W1005","v":0},{"$f":"'1.Портфель кредитів'!Y1005","v":""},4,"2018-06-01","_4_43252_2"]

{"sheet":"Hidden_Словник","index":5,"n_rows":19698,"n_cols":47,"rows_kept":1125,"cut":true,"hidden":true,"merged":[],"bounds":{"rows_first":500,"rows_last":125,"rows_between":500,"halvings":2}}
["Коротка назва","Назва банку","МФО","Дата вводу тимч.адм.","Дата рішення про ліквид.",null,null,null,null,"#","область","Регіон",null,null,null,"КВЕД (2010)","NU",null,null,"Банкрутство",null,null,"Тип застави",null,"ТАК/Ні",null,"Вид судового провадження",null,null,"Відповідач (позичальник/поручитель)",null,null,null,"Наявність документів кредитної справи",null,null,null,null,"Одиниці виміру",null,null,"валюта",null,null,null,"область","населений пункт"]
["Авант-Банк","ПАТ \"АВАНТ-БАНК\"","380708",42398,42426,null,null,null,null,1,"Автономна Республіка Крим","КРИМ/АТО",null,null,null,"A","Сільське господарство, лісове господарство та рибне господарство",null,null,"Діюче",null,null,"нерухомість",1,"ТАК",null,"стягнення заборгованості",null,null,"Позичальник",null,null,null,"Наявні документи кредитної справи",null,null,null,null,"га",null,null,"Гривня",980,null,null,"Автономна Республіка Крим","Алупка"]
["АКБ Банк","ПАТ \"АКБ Банк\"","331100",41789,41880,null,null,null,null,2,"Севастополь","КРИМ/АТО",null,null,null,"01","Сільське господарство, мисливство та надання пов'язаних із ними послуг",null,null,"Банкрутство",null,null,"транспорт",2,"НІ",null,"стягнення забезпечення",null,null,"Поручитель",null,null,null,"Наявний кредитний договір",null,null,null,null,"м.кв.",null,null,"Доллар США",840,null,null,"Автономна Республіка Крим","Абрикосівка"]
["Аксіома","ПАТ \"КБ \"АКСІОМА\"","307305",41922,42034,null,null,null,null,3,"Вінницька","ЦЕНТР",null,null,null,"01.1","Вирощування однорічних і дворічних культур",null,null,"В стані припинення (крім банкрутства)",null,null,"обладнання",3,null,null,"банкрутство",null,null,"Солідарно",null,null,null,"Наяваний договір застави",null,null,null,null,"м.куб.",null,null,"Євро",978,null,null,"Автономна Республіка Крим","Абрикосове"]
["Актабанк","ПАТ \"АКТАБАНК\"","307394",41899,42020,null,null,null,null,4,"Волинська","ЗАХІД",null,null,null,"01.11","Вирощування зернових культур (крім рису), бобових культур і насіння олійних культур",null,null,"Ліквідовано",null,null,"товари",4,null,null,"визнання зобов'язань недійсними",null,null,"3-і особи",null,null,null,"Відсутні документи кредитної справи",null,null,null,null,"т",null,null,"Швейцарські франки",756,null,null,"Автономна Республіка Крим","Аврора (Слов'янська сільська рада)"]
["Активбанк","ПАТ \"КБ \"АКТИВ - БАНК\"","300852",41885,41996,null,null,null,null,5,"Дніпропетровська","ПІВДЕНЬ",null,null,null,"01.12","Вирощування рису",null,null,"Санація",null,null,"депозит",5,null,null,"нікчемність правочину",null,null,null,null,null,null,null,null,null,null,null,"шт.",null,null,"Польські злоті",985,null,null,"Автономна Республіка Крим","Аграрне"]
["АРТЕМ-БАНК","АТ «АРТЕМ-БАНК»","300885",42690,42720,null,null,null,null,6,"Донецька","КРИМ/АТО",null,null,null,"01.13","Вирощування овочів і баштанних культур, коренеплодів і бульбоплодів",null,null,"Інше",null,null,"майнові права",6,null,null,"інше",null,null,null,null,null,null,null,null,null,null,null,"од.",null,null,"Фунт стерлінгів",826,null,null,"Автономна Республіка Крим","Аерофлотський"]
["БАНК ПЕТРОКОММЕРЦ-УКРАЇНА","ПАТ \"БАНК ПЕТРОКОММЕРЦ-УКРАЇНА\"","300120",42447,42482,null,null,null,null,7,"Житомирська","ЦЕНТР",null,null,null,"01.14","Вирощування цукрової тростини",null,null,null,null,null,"фінансова порука",7,null,null,null,null,null,null,null,null,null,null,null,null,null,null,null,null,null,"Китайські юані",156,null,null,"Автономна Республіка Крим","Азов"]
["БГ банк","ПАТ \"БГ БАНК\"","320995",41971,42062,null,null,null,null,8,"Закарпатська","ЗАХІД",null,null,null,"01.15","Вирощування тютюну",null,null,null,null,null,"беззаставний",8,null,null,null,null,null,null,null,null,null,null,null,null,null,null,null,null,null,"Рос. рубль",643,null,null,"Автономна Республіка Крим","Азовське"]
["Брокбізнесбанк","АТ \"БРОКБІЗНЕСБАНК\"","300249",41701,41801,null,null,null,null,9,"Запорізька","ПІВДЕНЬ",null,null,null,"01.16","Вирощування прядивних культур",null,null,null,null,null,"інше",null,null,null,null,null,null,null,null,null,null,null,null,null,null,null,null,null,null,null,null,null,null,"Автономна Республіка Крим","Айвазовське"]
["ВБР","ПАТ \"ВБР\"","380719",41971,42359,null,null,null,null,10,"Івано_Франківська","ЗАХІД",null,null,null,"01.19","Вирощування інших однорічних і дворічних культур",null,null,null,null,null,null,null,null,null,null,null,null,null,null,null,null,null,null,null,null,null,null,null,null,null,null,null,null,"Автономна Республіка Крим","Айвове"]
["ВЕКТОР","ПАТ \"ВЕКТОР БАНК\"","339038",42797,42816,null,null,null,null,11,"Київ","ЦЕНТР",null,null,null,"01.2","Вирощування багаторічних культур",null,null,null,null,null,null,null,null,null,null,null,null,null,null,null,null,null,null,null,null,null,null,null,null,null,null,null,null,"Автономна Республіка Крим","Айкаван"]
["Велес","АТ \"БАНК ВЕЛЕС\"","322799",null,42349,null,null,null,null,12,"Київська","ЦЕНТР",null,null,null,"01.21","Вирощування винограду",null,null,null,null,null,null,null,null,null,null,null,null,null,null,null,null,null,null,null,null,null,null,null,null,null,null,null,null,"Автономна Республіка Крим","Акрополіс"]
["ВіЕйБі","ПАТ \"ВіЕйБі Банк\"","380537",41964,42083,null,null,null,null,13,"Кіровоградська","ЦЕНТР",null,null,null,"01.22","Вирощування тропічних і субтропічних фруктів",null,null,null,null,null,null,null,null,null,null,null,null,null,null,null,null,null,null,null,null,null,null,null,null,null,null,null,null,"Автономна Республіка Крим","Алмазне"]
["Грінбанк","ПАТ \"Грін Банк\"","322324",41907,42027,null,null,null,null,14,"Луганська","КРИМ/АТО",null,null,null,"01.23","Вирощування цитрусових",null,null,null,null,null,null,null,null,null,null,null,null,null,null,null,null,null,null,null,null,null,null,null,null,null,null,null,null,"Автономна Республіка Крим","Алушта"]
["Даніель","ПАТ \"КБ \"Даніель\"","380980",41656,41745,null,null,null,null,15,"Львівська","ЗАХІД",null,null,null,"01.24","Вирощування зерняткових і кісточкових фруктів",null,null,null,null,null,null,null,null,null,null,null,null,null,null,null,null,null,null,null,null,null,null,null,null,null,null,null,null,"Автономна Республіка Крим","Амурське"]
["Дельта","АТ \"Дельта Банк\"","380236",42066,42279,null,null,null,null,16,"Миколаївська","ПІВДЕНЬ",null,null,null,"01.25","Вирощування ягід, горіхів, інших плодових дерев і чагарників",null,null,null,null,null,null,null,null,null,null,null,null,null,null,null,null,null,null,null,null,null,null,null,null,null,null,null,null,"Автономна Республіка Крим","Ана-Юрт"]
["Демарк","Банк \"Демарк\"","353575",41911,42034,null,null,null,null,17,"Одеська","ПІВДЕНЬ",null,null,null,"01.26","Вирощування олійних плодів",null,null,null,null,null,null,null,null,null,null,null,null,null,null,null,null,null,null,null,null,null,null,null,null,null,null,null,null,"Автономна Республіка Крим","Андрусове"]
["ДЕРЖЗЕМБАНК","ПАТ «ДЕРЖЗЕМБАНК»","380968",42578,42640,null,null,null,null,18,"Полтавська","ЦЕНТР",null,null,null,"01.27","Вирощування культур для виробництва напоїв",null,null,null,null,null,null,null,null,null,null,null,null,null,null,null,null,null,null,null,null,null,null,null,null,null,null,null,null,"Автономна Республіка Крим","Антонівка"]
["ДІАМАНТБАНК","ПАТ \"ДІАМАНТБАНК\"","320854",42849,42910,null,null,null,null,19,"Рівненська","ЗАХІД",null,null,null,"01.28","Вирощування пряних, ароматичних і лікарських культур",null,null,null,null,null,null,null,null,null,null,null,null,null,null,null,null,null,null,null,null,null,null,null,null,null,null,null,null,"Автономна Республіка Крим","Апрелівка"]
["Експобанк","АТ \"КБ \"ЕКСПОБАНК\"","322294",41907,42030,null,null,null,null,20,"Сумська","СХІД",null,null,null,"01.29","Вирощування інших багаторічних культур",null,null,null,null,null,null,null,null,null,null,null,null,null,null,null,null,null,null,null,null,null,null,null,null,null,null,null,null,"Автономна Республіка Крим","Арбузівка"]
["Енергобанк","ПАТ \"ЕНЕРГОБАНК\"","300272",42048,42167,null,null,null,null,21,"Тернопільська","ЗАХІД",null,null,null,"01.3","Відтворення рослин",null,null,null,null,null,null,null,null,null,null,null,null,null,null,null,null,null,null,null,null,null,null,null,null,null,null,null,null,"Автономна Республіка Крим","Арбузове"]
["ЕРДЕ банк","АТ \"ЕРДЕ БАНК\"","380667",41212,41283,null,null,null,null,22,"Харківська","СХІД",null,null,null,"01.30","Відтворення рослин",null,null,null,null,null,null,null,null,null,null,null,null,null,null,null,null,null,null,null,null,null,null,null,null,null,null,null,null,"Автономна Республіка Крим","Аркадіївка"]
["Євробанк","ПАТ \"КБ \"ЄВРОБАНК\"","380355",42538,42599,null,null,null,null,23,"Херсонська","ПІВДЕНЬ",null,null,null,"01.4","Тваринництво",null,null,null,null,null,null,null,null,null,null,null,null,null,null,null,null,null,null,null,null,null,null,null,null,null,null,null,null,"Автономна Республіка Крим","Армійське"]
["Єврогазбанк","АТ \"ЄВРОГАЗБАНК\"","380430",41837,41961,null,null,null,null,24,"Хмельницька","ЦЕНТР",null,null,null,"01.41","Розведення великої рогатої худоби молочних порід",null,null,null,null,null,null,null,null,null,null,null,null,null,null,null,null,null,null,null,null,null,null,null,null,null,null,null,null,"Автономна Республіка Крим","Армянськ"]
["Західінкомбанк","ПАТ \"Західінкомбанк\"","303484",41788,41843,null,null,null,null,25,"Черкаська","ЦЕНТР",null,null,null,"01.42","Розведення іншої великої рогатої худоби та буйволів",null,null,null,null,null,null,null,null,null,null,null,null,null,null,null,null,null,null,null,null,null,null,null,null,null,null,null,null,"Автономна Республіка Крим","Аромат"]
["Златобанк","АТ \"ЗЛАТОБАНК\"","380612",42049,42137,null,null,null,null,26,"Чернівецька","ЗАХІД",null,null,null,"01.43","Розведення коней та інших тварин родини конячих",null,null,null,null,null,null,null,null,null,null,null,null,null,null,null,null,null,null,null,null,null,null,null,null,null,null,null,null,"Автономна Республіка Крим","Ароматне"]
["Золоті ворота","АТ \"БАНК ЗОЛОТІ ВОРОТА\"","351931",41855,41978,null,null,null,null,27,"Чернігівська","СХІД",null,null,null,"01.44","Розведення верблюдів та інших тварин родини верблюдячих",null,null,null,null,null,null,null,null,null,null,null,null,null,null,null,null,null,null,null,null,null,null,null,null,null,null,null,null,"Автономна Республіка Крим","Артемівка"]
["Імексбанк","АТ \"ІМЕКСБАНК\"","328384",42031,42151,null,null,null,null,null,null,null,null,null,null,"01.45","Розведення овець і кіз",null,null,null,null,null,null,null,null,null,null,null,null,null,null,null,null,null,null,null,null,null,null,null,null,null,null,null,null,"Автономна Республіка Крим","Бабенкове"]
["ІНВЕСТБАНК","ПАТ \"КБ \"ІНВЕСТБАНК\"","328210",42720,42748,null,null,null,null,null,null,null,null,null,null,"01.46","Розведення свиней",null,null,null,null,null,null,null,null,null,null,null,null,null,null,null,null,null,null,null,null,null,null,null,null,null,null,null,null,"Автономна Республіка Крим","Багата Ущелина"]
["Інтеграл банк","ПАТ \"Інтеграл-банк\"","320735",42263,42335,null,null,null,null,null,null,null,null,null,null,"01.47","Розведення свійської птиці",null,null,null,null,null,null,null,null,null,null,null,null,null,null,null,null,null,null,null,null,null,null,null,null,null,null,null,null,"Автономна Республіка Крим","Багате"]
["Інтербанк","ПАТ КБ \"ІНТЕРБАНК\"","300216",41753,41843,null,null,null,null,null,null,null,null,null,null,"01.49","Розведення інших тварин",null,null,null,null,null,null,null,null,null,null,null,null,null,null,null,null,null,null,null,null,null,null,null,null,null,null,null,null,"Автономна Республіка Крим","Багатівка"]
["Інтеркредит банк","ПАТ \"ІнтерКредитБанк\"","307424",41922,42021,null,null,null,null,null,null,null,null,null,null,"01.5","Змішане сільське господарство",null,null,null,null,null,null,null,null,null,null,null,null,null,null,null,null,null,null,null,null,null,null,null,null,null,null,null,null,"Автономна Республіка Крим","Багерове"]
["Камбіо","ПАТ \"Банк Камбіо\"","380399",41978,42065,null,null,null,null,null,null,null,null,null,null,"01.50","Змішане сільське господарство",null,null,null,null,null,null,null,null,null,null,null,null,null,null,null,null,null,null,null,null,null,null,null,null,null,null,null,null,"Автономна Республіка Крим","Баланове"]
["Київ","ПАТ \"АКБ \"КИЇВ\"","322498",42060,42180,null,null,null,null,null,null,null,null,null,null,"01.6","Допоміжна діяльність у сільському господарстві та післяурожайна діяльність",null,null,null,null,null,null,null,null,null,null,null,null,null,null,null,null,null,null,null,null,null,null,null,null,null,null,null,null,"Автономна Республіка Крим","Балки"]
["Київськая Русь","ПАТ \"Банк \"Київська Русь\"","319092",42083,42202,null,null,null,null,null,null,null,null,null,null,"01.61","Допоміжна діяльність у рослинництві",null,null,null,null,null,null,null,null,null,null,null,null,null,null,null,null,null,null,null,null,null,null,null,null,null,null,null,null,"Автономна Республіка Крим","Барабанове"]
["КЛАСИКБАНК","ПАТ «КЛАСИКБАНК»","306704",42536,42594,null,null,null,null,null,null,null,null,null,null,"01.62","Допоміжна діяльність у тваринництві",null,null,null,null,null,null,null,null,null,null,null,null,null,null,null,null,null,null,null,null,null,null,null,null,null,null,null,null,"Автономна Республіка Крим","Барсове"]
["Контракт","ПАТ Банк \"Контракт\"","322465",42284,42349,null,null,null,null,null,null,null,null,null,null,"01.63","Післяурожайна діяльність",null,null,null,null,null,null,null,null,null,null,null,null,null,null,null,null,null,null,null,null,null,null,null,null,null,null,null,null,"Автономна Республіка Крим","Батальне"]
["Кредитпромбанк","ПАТ \"КРЕДИТПРОМБАНК\"","300863",42066,42158,null,null,null,null,null,null,null,null,null,null,"01.64","Оброблення насіння для відтворення",null,null,null,null,null,null,null,null,null,null,null,null,null,null,null,null,null,null,null,null,null,null,null,null,null,null,null,null,"Автономна Республіка Крим","Бахчисарай"]
["Легбанк","ПАТ \"Легбанк\"","300056",41971,42062,null,null,null,null,null,null,null,null,null,null,"01.7","Мисливство, відловлювання тварин і надання пов'язаних із ними послуг",null,null,null,null,null,null,null,null,null,null,null,null,null,null,null,null,null,null,null,null,null,null,null,null,null,null,null,null,"Автономна Республіка Крим","Бахчівка (Серебрянська сільська рада)"]
["Меліор","ПАТ \"МЕЛІОР БАНК\"","307435",41922,42046,null,null,null,null,null,null,null,null,null,null,"01.70","Мисливство, відловлювання тварин і надання пов'язаних із ними послуг",null,null,null,null,null,null,null,null,null,null,null,null,null,null,null,null,null,null,null,null,null,null,null,null,null,null,null,null,"Автономна Республіка Крим","Баштанівка"]
["Меркурій","АТ БАНК \"МЕРКУРІЙ\"","351663",41712,41802,null,null,null,null,null,null,null,null,null,null,"02","Лісове господарство та лісозаготівлі",null,null,null,null,null,null,null,null,null,null,null,null,null,null,null,null,null,null,null,null,null,null,null,null,null,null,null,null,"Автономна Республіка Крим","Берегове"]
["Михайлівський","ПАТ \"БАНК МИХАЙЛІВСЬКИЙ\"","380935",42513,42564,null,null,null,null,null,null,null,null,null,null,"02.1","Лісівництво та інша діяльність у лісовому господарстві",null,null,null,null,null,null,null,null,null,null,null,null,null,null,null,null,null,null,null,null,null,null,null,null,null,null,null,null,"Автономна Республіка Крим","Березівка"]
["Міський комерційний банк","ПАТ \"МІСЬКИЙ КОМЕРЦІЙНИЙ БАНК\"","339339",41964,42083,null,null,null,null,null,null,null,null,null,null,"02.10","Лісівництво та інша діяльність у лісовому господарстві",null,null,null,null,null,null,null,null,null,null,null,null,null,null,null,null,null,null,null,null,null,null,null,null,null,null,null,null,"Автономна Республіка Крим","Бєлінське"]
["Надра","ПАТ \"КБ \"Надра\"","380764",42041,42160,null,null,null,null,null,null,null,null,null,null,"02.2","Лісозаготівлі",null,null,null,null,null,null,null,null,null,null,null,null,null,null,null,null,null,null,null,null,null,null,null,null,null,null,null,null,"Автономна Республіка Крим","Біла Скеля"]
["Національний кредит","\"БАНК НАЦІОНАЛЬНИЙ КРЕДИТ\"","320702",42163,42247,null,null,null,null,null,null,null,null,null,null,"02.20","Лісозаготівлі",null,null,null,null,null,null,null,null,null,null,null,null,null,null,null,null,null,null,null,null,null,null,null,null,null,null,null,null,"Автономна Республіка Крим","Білогірськ"]
["Національні інвестиції","БАНК НАЦІОНАЛЬНІ ІНВЕСТИЦІЇ","300498",42265,42339,null,null,null,null,null,null,null,null,null,null,"02.3","Збирання дикорослих недеревних продуктів",null,null,null,null,null,null,null,null,null,null,null,null,null,null,null,null,null,null,null,null,null,null,null,null,null,null,null,null,"Автономна Республіка Крим","Білоглинка"]
["НК БАНК","АТ \"БАНК НАРОДНИЙ КАПІТАЛ\"","322432",42755,42803,null,null,null,null,null,null,null,null,null,null,"02.30","Збирання дикорослих недеревних продуктів",null,null,null,null,null,null,null,null,null,null,null,null,null,null,null,null,null,null,null,null,null,null,null,null,null,null,null,null,"Автономна Республіка Крим","Білокам'яне"]
["Омега","ПАТ \"ОМЕГА БАНК\"","300164",42066,42191,null,null,null,null,null,null,null,null,null,null,"02.4","Надання допоміжних послуг у лісовому господарстві",null,null,null,null,null,null,null,null,null,null,null,null,null,null,null,null,null,null,null,null,null,null,null,null,null,null,null,null,"Автономна Республіка Крим","Бітумне (Гресівська)"]
["Південкомбанк","ПАТ \"КБ \"ПІВДЕНКОМБАНК\"","335946",41785,41908,null,null,null,null,null,null,null,null,null,null,"02.40","Надання допоміжних послуг у лісовому господарстві",null,null,null,null,null,null,null,null,null,null,null,null,null,null,null,null,null,null,null,null,null,null,null,null,null,null,null,null,"Автономна Республіка Крим","Благодатне"]
["Платинум Банк","ПАТ \"Платинум Банк\"","380388",42746,42790,null,null,null,null,null,null,null,null,null,null,"03","Рибне господарство",null,null,null,null,null,null,null,null,null,null,null,null,null,null,null,null,null,null,null,null,null,null,null,null,null,null,null,null,"Автономна Республіка Крим","Ближнє"]
["Праймбанк","ПАТ \"ПРАЙМ-БАНК\"","300669",41915,42018,null,null,null,null,null,null,null,null,null,null,"03.1","Рибальство",null,null,null,null,null,null,null,null,null,null,null,null,null,null,null,null,null,null,null,null,null,null,null,null,null,null,null,null,"Автономна Республіка Крим","Ближньогородське"]
["Промекономбанк","ПАТ \"КБ \"ПРОМЕКОНОМБАНК\"","334992",41781,41890,null,null,null,null,null,null,null,null,null,null,"03.11","Морське рибальство",null,null,null,null,null,null,null,null,null,null,null,null,null,null,null,null,null,null,null,null,null,null,null,null,null,null,null,null,"Автономна Республіка Крим","Богатир"]
["Профінбанк","ПАТ \"ПРОФІН БАНК\"","334594",42024,42114,null,null,null,null,null,null,null,null,null,null,"03.12","Прісноводне рибальство",null,null,null,null,null,null,null,null,null,null,null,null,null,null,null,null,null,null,null,null,null,null,null,null,null,null,null,null,"Автономна Республіка Крим","Богачівка (Магазинська)"]
["Радикал","ПАТ \"РАДИКАЛ БАНК\"","319111",42195,42318,null,null,null,null,null,null,null,null,null,null,"03.2","Рибництво (аквакультура)",null,null,null,null,null,null,null,null,null,null,null,null,null,null,null,null,null,null,null,null,null,null,null,null,null,null,null,null,"Автономна Республіка Крим","Болотне"]
["Реал банк","ПАТ \"РЕАЛ БАНК\"","351588",41701,41780,null,null,null,null,null,null,null,null,null,null,"03.21","Морське рибництво (аквакультура)",null,null,null,null,null,null,null,null,null,null,null,null,null,null,null,null,null,null,null,null,null,null,null,null,null,null,null,null,"Автономна Республіка Крим","Бондаренкове"]
["Смартбанк","ПУАТ «СМАРТБАНК»","380786",42515,42576,null,null,null,null,null,null,null,null,null,null,"03.22","Прісноводне рибництво (аквакультура)",null,null,null,null,null,null,null,null,null,null,null,null,null,null,null,null,null,null,null,null,null,null,null,null,null,null,null,null,"Автономна Республіка Крим","Борисівка"]
["Софіївський","ПАТ \"Банк \"Софійський\"","380861",42361,42485,null,null,null,null,null,null,null,null,null,null,"B","Добувна промисловість і розроблення кар'єрів",null,null,null,null,null,null,null,null,null,null,null,null,null,null,null,null,null,null,null,null,null,null,null,null,null,null,null,null,"Автономна Республіка Крим","Бородіно"]
["Стандарт","ПАТ КБ \"СТАНДАРТ\"","380690",42055,42174,null,null,null,null,null,null,null,null,null,null,"05","Добування кам'яного та бурого вугілля",null,null,null,null,null,null,null,null,null,null,null,null,null,null,null,null,null,null,null,null,null,null,null,null,null,null,null,null,"Автономна Республіка Крим","Ботанічне"]
["Старокиївський","ПАТ \"СТАРОКИЇВСЬКИЙ БАНК\"","321477",41808,41900,null,null,null,null,null,null,null,null,null,null,"05.1","Добування кам'яного вугілля",null,null,null,null,null,null,null,null,null,null,null,null,null,null,null,null,null,null,null,null,null,null,null,null,null,null,null,null,"Автономна Республіка Крим","Братське"]
["Столичний","ПАТ АБ \"СТОЛИЧНИЙ\"","397133",42195,42265,null,null,null,null,null,null,null,null,null,null,"05.10","Добування кам'яного вугілля",null,null,null,null,null,null,null,null,null,null,null,null,null,null,null,null,null,null,null,null,null,null,null,null,null,null,null,null,"Автономна Республіка Крим","Братське (Братської)"]
["Таврика","АТ \"БАНК \"ТАВРИКА\"","300788",41264,41354,null,null,null,null,null,null,null,null,null,null,"05.2","Добування бурого вугілля",null,null,null,null,null,null,null,null,null,null,null,null,null,null,null,null,null,null,null,null,null,null,null,null,null,null,null,null,"Автономна Республіка Крим","Брянське"]
["Терра банк","ПАТ \"ТЕРРА БАНК\"","380601",41873,41997,null,null,null,null,null,null,null,null,null,null,"05.20","Добування бурого вугілля",null,null,null,null,null,null,null,null,null,null,null,null,null,null,null,null,null,null,null,null,null,null,null,null,null,null,null,null,"Автономна Республіка Крим","Буревісник"]
["ТК Кредит","АТ КБ \"ТК Кредит\"","322830",42410,42468,null,null,null,null,null,null,null,null,null,null,"06","Добування сирої нафти та природного газу",null,null,null,null,null,null,null,null,null,null,null,null,null,null,null,null,null,null,null,null,null,null,null,null,null,null,null,null,"Автономна Республіка Крим","Валентинове (Кримська)"]
["ТРАСТ","ПАТ БАНК \"ТРАСТ\"","380474",42711,42734,null,null,null,null,null,null,null,null,null,null,"06.1","Добування сирої нафти",null,null,null,null,null,null,null,null,null,null,null,null,null,null,null,null,null,null,null,null,null,null,null,null,null,null,null,null,"Автономна Республіка Крим","Варварівка"]
["Укоопспілка","АБ \"УКООПСПІЛКА\"","322625",42027,42117,null,null,null,null,null,null,null,null,null,null,"06.10","Добування сирої нафти",null,null,null,null,null,null,null,null,null,null,null,null,null,null,null,null,null,null,null,null,null,null,null,null,null,null,null,null,"Автономна Республіка Крим","Василькове"]
["Укрбізнесбанк","ПАТ \"УКРБІЗНЕСБАНК\"","334969",41999,42118,null,null,null,null,null,null,null,null,null,null,"06.2","Добування природного газу",null,null,null,null,null,null,null,null,null,null,null,null,null,null,null,null,null,null,null,null,null,null,null,null,null,null,null,null,"Автономна Республіка Крим","Велике (Суворовська)"]
["Укргазпромбанк","ПАТ \"УКРГАЗПРОМБАНК\"","320843",42102,42262,null,null,null,null,null,null,null,null,null,null,"06.20","Добування природного газу",null,null,null,null,null,null,null,null,null,null,null,null,null,null,null,null,null,null,null,null,null,null,null,null,null,null,null,null,"Автономна Республіка Крим","Велике Садове (Куйбишевська)"]
["Укрінбанк","ПАТ \"УКРІНБАНК\"","300142",42363,42452,null,null,null,null,null,null,null,null,null,null,"07","Добування металевих руд",null,null,null,null,null,null,null,null,null,null,null,null,null,null,null,null,null,null,null,null,null,null,null,null,null,null,null,null,"Автономна Республіка Крим","Великосілля"]
["Унікомбанк","ПАТ \"УНІКОМБАНК\"","335902",42293,42342,null,null,null,null,null,null,null,null,null,null,"07.1","Добування залізних руд",null,null,null,null,null,null,null,null,null,null,null,null,null,null,null,null,null,null,null,null,null,null,null,null,null,null,null,null,"Автономна Республіка Крим","Вересаєве"]
["УПБ","ПАТ \"УПБ\"","300205",42153,42247,null,null,null,null,null,null,null,null,null,null,"07.10","Добування залізних руд",null,null,null,null,null,null,null,null,null,null,null,null,null,null,null,null,null,null,null,null,null,null,null,null,null,null,null,null,"Автономна Республіка Крим","Верхні Орішники"]
["УФС","ПАТ \"КБ \"УФС\"","377777",41866,41956,null,null,null,null,null,null,null,null,null,null,"07.2","Добування руд кольорових металів",null,null,null,null,null,null,null,null,null,null,null,null,null,null,null,null,null,null,null,null,null,null,null,null,null,null,null,null,"Автономна Республіка Крим","Верхня Кутузовка"]
["ФІДОБАНК","ПУАТ «ФІДОБАНК»","300175",42510,42571,null,null,null,null,null,null,null,null,null,null,"07.21","Добування уранових і торієвих руд",null,null,null,null,null,null,null,null,null,null,null,null,null,null,null,null,null,null,null,null,null,null,null,null,null,null,null,null,"Автономна Республіка Крим","Верхньозаморське"]
["Фінанси та кредит","АТ \"БАНК \"ФІНАНСИ ТА КРЕДИТ\"","300131",42265,42355,null,null,null,null,null,null,null,null,null,null,"07.29","Добування руд інших кольорових металів",null,null,null,null,null,null,null,null,null,null,null,null,null,null,null,null,null,null,null,null,null,null,null,null,null,null,null,null,"Автономна Республіка Крим","Верхньокурганне"]
["ФІНБАНК","ПАТ \"ФІНБАНК\"","328685",42832,42852,null,null,null,null,null,null,null,null,null,null,"08","Добування інших корисних копалин та розроблення кар'єрів",null,null,null,null,null,null,null,null,null,null,null,null,null,null,null,null,null,null,null,null,null,null,null,null,null,null,null,null,"Автономна Республіка Крим","Верхоріччя"]
["Фінростбанк","АТ \"ФІНРОСТБАНК\"","328599",41836,41928,null,null,null,null,null,null,null,null,null,null,"08.1","Добування каменю, піску та глини",null,null,null,null,null,null,null,null,null,null,null,null,null,null,null,null,null,null,null,null,null,null,null,null,null,null,null,null,"Автономна Республіка Крим","Вершинне"]
["ФОРТУНА-БАНК","АТ \"ФОРТУНА-БАНК\"","300904",42762,42788,null,null,null,null,null,null,null,null,null,null,"08.11","Добування декоративного та будівельного каменю, вапняку, гіпсу, крейди та глинистого сланцю",null,null,null,null,null,null,null,null,null,null,null,null,null,null,null,null,null,null,null,null,null,null,null,null,null,null,null,null,"Автономна Республіка Крим","Веселе"]
["Форум","ПАТ \"БАНК ФОРУМ\"","322948",41712,41806,null,null,null,null,null,null,null,null,null,null,"08.12","Добування піску, гравію, глин і каоліну",null,null,null,null,null,null,null,null,null,null,null,null,null,null,null,null,null,null,null,null,null,null,null,null,null,null,null,null,"Автономна Республіка Крим","Веселівка"]
["Хрещатик","ПАТ \"КБ \"Хрещатик\"","300670",42465,42524,null,null,null,null,null,null,null,null,null,null,"08.9","Добування корисних копалин та розроблення кар'єрів, н.в.і.у.",null,null,null,null,null,null,null,null,null,null,null,null,null,null,null,null,null,null,null,null,null,null,null,null,null,null,null,null,"Автономна Республіка Крим","Видне"]
["Юніон стандарт банк","ПАТ \"ЮСБ БАНК\"","305987",42280,42366,null,null,null,null,null,null,null,null,null,null,"08.91","Добування мінеральної сировини для хімічної промисловості та виробництва мінеральних добрив",null,null,null,null,null,null,null,null,null,null,null,null,null,null,null,null,null,null,null,null,null,null,null,null,null,null,null,null,"Автономна Республіка Крим","Виноградне"]
["Новий","ПАТ АКБ Новий",305062,null,null,null,null,null,null,null,null,null,null,null,null,"08.92","Добування торфу",null,null,null,null,null,null,null,null,null,null,null,null,null,null,null,null,null,null,null,null,null,null,null,null,null,null,null,null,"Автономна Республіка Крим","Виноградний"]
[null,null,null,null,null,null,null,null,null,null,null,null,null,null,null,"08.93","Добування солі",null,null,null,null,null,null,null,null,null,null,null,null,null,null,null,null,null,null,null,null,null,null,null,null,null,null,null,null,"Автономна Республіка Крим","Виноградове"]
[null,null,null,null,null,null,null,null,null,null,null,null,null,null,null,"08.99","Добування інших корисних копалин та розроблення кар'єрів, н.в.і.у.",null,null,null,null,null,null,null,null,null,null,null,null,null,null,null,null,null,null,null,null,null,null,null,null,null,null,null,null,"Автономна Республіка Крим","Випасне"]
[null,null,null,null,null,null,null,null,null,null,null,null,null,null,null,"09","Надання допоміжних послуг у сфері добувної промисловості та розроблення кар'єрів",null,null,null,null,null,null,null,null,null,null,null,null,null,null,null,null,null,null,null,null,null,null,null,null,null,null,null,null,"Автономна Республіка Крим","Високогірне"]
[null,null,null,null,null,null,null,null,null,null,null,null,null,null,null,"09.1","Надання допоміжних послуг у сфері добування нафти та природного газу",null,null,null,null,null,null,null,null,null,null,null,null,null,null,null,null,null,null,null,null,null,null,null,null,null,null,null,null,"Автономна Республіка Крим","Вишенне"]
[null,null,null,null,null,null,null,null,null,null,null,null,null,null,null,"09.10","Надання допоміжних послуг у сфері добування нафти та природного газу",null,null,null,null,null,null,null,null,null,null,null,null,null,null,null,null,null,null,null,null,null,null,null,null,null,null,null,null,"Автономна Республіка Крим","Вишнівка (Вишнівської)"]
[null,null,null,null,null,null,null,null,null,null,null,null,null,null,null,"09.9","Надання допоміжних послуг у сфері добування інших корисних копалин та розроблення кар'єрів",null,null,null,null,null,null,null,null,null,null,null,null,null,null,null,null,null,null,null,null,null,null,null,null,null,null,null,null,"Автономна Республіка Крим","Вишняківка"]
[null,null,null,null,null,null,null,null,null,null,null,null,null,null,null,"09.90","Надання допоміжних послуг у сфері добування інших корисних копалин та розроблення кар'єрів",null,null,null,null,null,null,null,null,null,null,null,null,null,null,null,null,null,null,null,null,null,null,null,null,null,null,null,null,"Автономна Республіка Крим","Відважне"]
[null,null,null,null,null,null,null,null,null,null,null,null,null,null,null,"C","Переробна промисловість",null,null,null,null,null,null,null,null,null,null,null,null,null,null,null,null,null,null,null,null,null,null,null,null,null,null,null,null,"Автономна Республіка Крим","Відкрите"]
[null,null,null,null,null,null,null,null,null,null,null,null,null,null,null,"10","Виробництво харчових продуктів",null,null,null,null,null,null,null,null,null,null,null,null,null,null,null,null,null,null,null,null,null,null,null,null,null,null,null,null,"Автономна Республіка Крим","Відрадне"]
[null,null,null,null,null,null,null,null,null,null,null,null,null,null,null,"10.1","Виробництво м'яса та м'ясних продуктів",null,null,null,null,null,null,null,null,null,null,null,null,null,null,null,null,null,null,null,null,null,null,null,null,null,null,null,null,"Автономна Республіка Крим","Відродження"]
[null,null,null,null,null,null,null,null,null,null,null,null,null,null,null,"10.11","Виробництво м'яса",null,null,null,null,null,null,null,null,null,null,null,null,null,null,null,null,null,null,null,null,null,null,null,null,null,null,null,null,"Автономна Республіка Крим","Вікторівка"]
[null,null,null,null,null,null,null,null,null,null,null,null,null,null,null,"10.12","Виробництво м'яса свійської птиці",null,null,null,null,null,null,null,null,null,null,null,null,null,null,null,null,null,null,null,null,null,null,null,null,null,null,null,null,"Автономна Республіка Крим","Віліне"]
[null,null,null,null,null,null,null,null,null,null,null,null,null,null,null,"10.13","Виробництво м'ясних продуктів",null,null,null,null,null,null,null,null,null,null,null,null,null,null,null,null,null,null,null,null,null,null,null,null,null,null,null,null,"Автономна Республіка Крим","Вільне"]
[null,null,null,null,null,null,null,null,null,null,null,null,null,null,null,"10.2","Перероблення та консервування риби, ракоподібних і молюсків",null,null,null,null,null,null,null,null,null,null,null,null,null,null,null,null,null,null,null,null,null,null,null,null,null,null,null,null,"Автономна Республіка Крим","Вітвисте (Єрмаковська)"]
[null,null,null,null,null,null,null,null,null,null,null,null,null,null,null,"10.20","Перероблення та консервування риби, ракоподібних і молюсків",null,null,null,null,null,null,null,null,null,null,null,null,null,null,null,null,null,null,null,null,null,null,null,null,null,null,null,null,"Автономна Республіка Крим","Вітіне"]
[null,null,null,null,null,null,null,null,null,null,null,null,null,null,null,"10.3","Перероблення та консервування фруктів і овочів",null,null,null,null,null,null,null,null,null,null,null,null,null,null,null,null,null,null,null,null,null,null,null,null,null,null,null,null,"Автономна Республіка Крим","Вітрівка (Виноградівська)"]
[null,null,null,null,null,null,null,null,null,null,null,null,null,null,null,"10.31","Перероблення та консервування картоплі",null,null,null,null,null,null,null,null,null,null,null,null,null,null,null,null,null,null,null,null,null,null,null,null,null,null,null,null,"Автономна Республіка Крим","Вітрянка (Ковильнівська сільська рада)"]
[null,null,null,null,null,null,null,null,null,null,null,null,null,null,null,"10.32","Виробництво фруктових і овочевих соків",null,null,null,null,null,null,null,null,null,null,null,null,null,null,null,null,null,null,null,null,null,null,null,null,null,null,null,null,"Автономна Республіка Крим","Владиславівка"]
[null,null,null,null,null,null,null,null,null,null,null,null,null,null,null,"10.39"," Інші види перероблення та консервування фруктів і овочів",null,null,null,null,null,null,null,null,null,null,null,null,null,null,null,null,null,null,null,null,null,null,null,null,null,null,null,null,"Автономна Республіка Крим","Владне"]
[null,null,null,null,null,null,null,null,null,null,null,null,null,null,null,"10.4","Виробництво олії та тваринних жирів",null,null,null,null,null,null,null,null,null,null,null,null,null,null,null,null,null,null,null,null,null,null,null,null,null,null,null,null,"Автономна Республіка Крим","Внукове"]
[null,null,null,null,null,null,null,null,null,null,null,null,null,null,null,"10.41","Виробництво олії та тваринних жирів",null,null,null,null,null,null,null,null,null,null,null,null,null,null,null,null,null,null,null,null,null,null,null,null,null,null,null,null,"Автономна Республіка Крим","Вогневе (Кольцовська)"]
[null,null,null,null,null,null,null,null,null,null,null,null,null,null,null,"10.42","Виробництво маргарину і подібних харчових жирів",null,null,null,null,null,null,null,null,null,null,null,null,null,null,null,null,null,null,null,null,null,null,null,null,null,null,null,null,"Автономна Республіка Крим","Вогні (Кукушкінська сільська рада)"]
[null,null,null,null,null,null,null,null,null,null,null,null,null,null,null,"10.5","Виробництво молочних продуктів",null,null,null,null,null,null,null,null,null,null,null,null,null,null,null,null,null,null,null,null,null,null,null,null,null,null,null,null,"Автономна Республіка Крим","Водне"]
[null,null,null,null,null,null,null,null,null,null,null,null,null,null,null,"10.51","Перероблення молока, виробництво масла та сиру",null,null,null,null,null,null,null,null,null,null,null,null,null,null,null,null,null,null,null,null,null,null,null,null,null,null,null,null,"Автономна Республіка Крим","Водопійне"]
[null,null,null,null,null,null,null,null,null,null,null,null,null,null,null,"10.52","Виробництво морозива",null,null,null,null,null,null,null,null,null,null,null,null,null,null,null,null,null,null,null,null,null,null,null,null,null,null,null,null,"Автономна Республіка Крим","Водопійне (Сизівська)"]
[null,null,null,null,null,null,null,null,null,null,null,null,null,null,null,"10.6","Виробництво продуктів борошномельно-круп'яної промисловості, крохмалів та крохмальних продуктів",null,null,null,null,null,null,null,null,null,null,null,null,null,null,null,null,null,null,null,null,null,null,null,null,null,null,null,null,"Автономна Республіка Крим","Войкове"]
[null,null,null,null,null,null,null,null,null,null,null,null,null,null,null,"10.61","Виробництво продуктів борошномельно-круп'яної промисловості",null,null,null,null,null,null,null,null,null,null,null,null,null,null,null,null,null,null,null,null,null,null,null,null,null,null,null,null,"Автономна Республіка Крим","Воїнка (Воїнська)"]
[null,null,null,null,null,null,null,null,null,null,null,null,null,null,null,"10.62","Виробництво крохмалів та крохмальних продуктів",null,null,null,null,null,null,null,null,null,null,null,null,null,null,null,null,null,null,null,null,null,null,null,null,null,null,null,null,"Автономна Республіка Крим","Володимирівка"]
[null,null,null,null,null,null,null,null,null,null,null,null,null,null,null,"10.7","Виробництво хліба, хлібобулочних і борошняних виробів",null,null,null,null,null,null,null,null,null,null,null,null,null,null,null,null,null,null,null,null,null,null,null,null,null,null,null,null,"Автономна Республіка Крим","Володимирове"]
[null,null,null,null,null,null,null,null,null,null,null,null,null,null,null,"10.71","Виробництво хліба та хлібобулочних виробів; виробництво борошняних кондитерських виробів, тортів і тістечок нетривалого зберігання",null,null,null,null,null,null,null,null,null,null,null,null,null,null,null,null,null,null,null,null,null,null,null,null,null,null,null,null,"Автономна Республіка Крим","Володине"]
[null,null,null,null,null,null,null,null,null,null,null,null,null,null,null,"10.72","Виробництво сухарів і сухого печива; виробництво борошняних кондитерських виробів, тортів і тістечок тривалого зберігання",null,null,null,null,null,null,null,null,null,null,null,null,null,null,null,null,null,null,null,null,null,null,null,null,null,null,null,null,"Автономна Республіка Крим","Волочаївка (Ковильнівська сільська рада)"]
[null,null,null,null,null,null,null,null,null,null,null,null,null,null,null,"10.73","Виробництво макаронних виробів та подібних борошняних виробів",null,null,null,null,null,null,null,null,null,null,null,null,null,null,null,null,null,null,null,null,null,null,null,null,null,null,null,null,"Автономна Республіка Крим","Волошине (Суворівської)"]
[null,null,null,null,null,null,null,null,null,null,null,null,null,null,null,"10.8","Виробництво інших харчових продуктів",null,null,null,null,null,null,null,null,null,null,null,null,null,null,null,null,null,null,null,null,null,null,null,null,null,null,null,null,"Автономна Республіка Крим","Воробйове"]
[null,null,null,null,null,null,null,null,null,null,null,null,null,null,null,"10.81","Виробництво цукру",null,null,null,null,null,null,null,null,null,null,null,null,null,null,null,null,null,null,null,null,null,null,null,null,null,null,null,null,"Автономна Республіка Крим","Ворон"]
[null,null,null,null,null,null,null,null,null,null,null,null,null,null,null,"10.82","Виробництво какао, шоколаду та цукрових кондитерських виробів",null,null,null,null,null,null,null,null,null,null,null,null,null,null,null,null,null,null,null,null,null,null,null,null,null,null,null,null,"Автономна Республіка Крим","Воронки (Зиминська сільська рада)"]
[null,null,null,null,null,null,null,null,null,null,null,null,null,null,null,"10.83","Виробництво чаю та кави",null,null,null,null,null,null,null,null,null,null,null,null,null,null,null,null,null,null,null,null,null,null,null,null,null,null,null,null,"Автономна Республіка Крим","Воронцівка (Ільїнської)"]
[null,null,null,null,null,null,null,null,null,null,null,null,null,null,null,"10.84","Виробництво прянощів і приправ",null,null,null,null,null,null,null,null,null,null,null,null,null,null,null,null,null,null,null,null,null,null,null,null,null,null,null,null,"Автономна Республіка Крим","Восточне"]
[null,null,null,null,null,null,null,null,null,null,null,null,null,null,null,"10.85","Виробництво готової їжі та страв",null,null,null,null,null,null,null,null,null,null,null,null,null,null,null,null,null,null,null,null,null,null,null,null,null,null,null,null,"Автономна Республіка Крим","Восход"]
[null,null,null,null,null,null,null,null,null,null,null,null,null,null,null,"10.86","Виробництво дитячого харчування та дієтичних харчових продуктів",null,null,null,null,null,null,null,null,null,null,null,null,null,null,null,null,null,null,null,null,null,null,null,null,null,null,null,null,"Автономна Республіка Крим","Вузлове"]
[null,null,null,null,null,null,null,null,null,null,null,null,null,null,null,"10.89","Виробництво інших харчових продуктів, н.в.і.у.",null,null,null,null,null,null,null,null,null,null,null,null,null,null,null,null,null,null,null,null,null,null,null,null,null,null,null,null,"Автономна Республіка Крим","Вулканівка"]
[null,null,null,null,null,null,null,null,null,null,null,null,null,null,null,"10.9","Виробництво готових кормів для тварин",null,null,null,null,null,null,null,null,null,null,null,null,null,null,null,null,null,null,null,null,null,null,null,null,null,null,null,null,"Автономна Республіка Крим","В'язникове"]
[null,null,null,null,null,null,null,null,null,null,null,null,null,null,null,"10.91","Виробництво готових кормів для тварин, що утримуються на фермах",null,null,null,null,null,null,null,null,null,null,null,null,null,null,null,null,null,null,null,null,null,null,null,null,null,null,null,null,"Автономна Республіка Крим","Гаршине"]
[null,null,null,null,null,null,null,null,null,null,null,null,null,null,null,"10.92","Виробництво готових кормів для домашніх тварин",null,null,null,null,null,null,null,null,null,null,null,null,null,null,null,null,null,null,null,null,null,null,null,null,null,null,null,null,"Автономна Республіка Крим","Гаспра"]
[null,null,null,null,null,null,null,null,null,null,null,null,null,null,null,"11","Виробництво напоїв",null,null,null,null,null,null,null,null,null,null,null,null,null,null,null,null,null,null,null,null,null,null,null,null,null,null,null,null,"Автономна Республіка Крим","Гвардійське (Гвардійської)"]
[null,null,null,null,null,null,null,null,null,null,null,null,null,null,null,"11.0","Виробництво напоїв",null,null,null,null,null,null,null,null,null,null,null,null,null,null,null,null,null,null,null,null,null,null,null,null,null,null,null,null,"Автономна Республіка Крим","Генеральське"]
[null,null,null,null,null,null,null,null,null,null,null,null,null,null,null,"11.01","Дистиляція, ректифікація та змішування спиртних напоїв",null,null,null,null,null,null,null,null,null,null,null,null,null,null,null,null,null,null,null,null,null,null,null,null,null,null,null,null,"Автономна Республіка Крим","Геройське"]
[null,null,null,null,null,null,null,null,null,null,null,null,null,null,null,"11.02","Виробництво виноградних вин",null,null,null,null,null,null,null,null,null,null,null,null,null,null,null,null,null,null,null,null,null,null,null,null,null,null,null,null,"Автономна Республіка Крим","Гірне"]
[null,null,null,null,null,null,null,null,null,null,null,null,null,null,null,"11.03","Виробництво сидру та інших плодово-ягідних вин",null,null,null,null,null,null,null,null,null,null,null,null,null,null,null,null,null,null,null,null,null,null,null,null,null,null,null,null,"Автономна Республіка Крим","Глазівка"]
[null,null,null,null,null,null,null,null,null,null,null,null,null,null,null,"11.04","Виробництво інших недистильованих напоїв із зброджуваних продуктів",null,null,null,null,null,null,null,null,null,null,null,null,null,null,null,null,null,null,null,null,null,null,null,null,null,null,null,null,"Автономна Республіка Крим","Глибокий Яр"]
[null,null,null,null,null,null,null,null,null,null,null,null,null,null,null,"11.05","Виробництво пива",null,null,null,null,null,null,null,null,null,null,null,null,null,null,null,null,null,null,null,null,null,null,null,null,null,null,null,null,"Автономна Республіка Крим","Глінка (Вересаєвська сільська рада)"]
[null,null,null,null,null,null,null,null,null,null,null,null,null,null,null,"11.06","Виробництво солоду",null,null,null,null,null,null,null,null,null,null,null,null,null,null,null,null,null,null,null,null,null,null,null,null,null,null,null,null,"Автономна Республіка Крим","Голованівка"]
[null,null,null,null,null,null,null,null,null,null,null,null,null,null,null,"11.07","Виробництво безалкогольних напоїв; виробництво мінеральних вод та інших вод, розлитих у пляшки",null,null,null,null,null,null,null,null,null,null,null,null,null,null,null,null,null,null,null,null,null,null,null,null,null,null,null,null,"Автономна Республіка Крим","Голуба Затока"]
[null,null,null,null,null,null,null,null,null,null,null,null,null,null,null,"12","Виробництво тютюнових виробів",null,null,null,null,null,null,null,null,null,null,null,null,null,null,null,null,null,null,null,null,null,null,null,null,null,null,null,null,"Автономна Республіка Крим","Голубинка"]
[null,null,null,null,null,null,null,null,null,null,null,null,null,null,null,"12.0","Виробництво тютюнових виробів",null,null,null,null,null,null,null,null,null,null,null,null,null,null,null,null,null,null,null,null,null,null,null,null,null,null,null,null,"Автономна Республіка Крим","Горлинка"]
[null,null,null,null,null,null,null,null,null,null,null,null,null,null,null,"12.00","Виробництво тютюнових виробів",null,null,null,null,null,null,null,null,null,null,null,null,null,null,null,null,null,null,null,null,null,null,null,null,null,null,null,null,"Автономна Республіка Крим","Горностаївка"]
[null,null,null,null,null,null,null,null,null,null,null,null,null,null,null,"13","Текстильне виробництво",null,null,null,null,null,null,null,null,null,null,null,null,null,null,null,null,null,null,null,null,null,null,null,null,null,null,null,null,"Автономна Республіка Крим","Городнє (Руч'ївська сільська рада)"]
[null,null,null,null,null,null,null,null,null,null,null,null,null,null,null,"13.1","Підготування та прядіння текстильних волокон",null,null,null,null,null,null,null,null,null,null,null,null,null,null,null,null,null,null,null,null,null,null,null,null,null,null,null,null,"Автономна Республіка Крим","Гресівський"]
[null,null,null,null,null,null,null,null,null,null,null,null,null,null,null,"13.10","Підготування та прядіння текстильних волокон",null,null,null,null,null,null,null,null,null,null,null,null,null,null,null,null,null,null,null,null,null,null,null,null,null,null,null,null,"Автономна Республіка Крим","Григорівка"]
[null,null,null,null,null,null,null,null,null,null,null,null,null,null,null,"13.2","Ткацьке виробництво",null,null,null,null,null,null,null,null,null,null,null,null,null,null,null,null,null,null,null,null,null,null,null,null,null,null,null,null,"Автономна Республіка Крим","Гришине (Гришинської)"]
[null,null,null,null,null,null,null,null,null,null,null,null,null,null,null,"13.20","Ткацьке виробництво",null,null,null,null,null,null,null,null,null,null,null,null,null,null,null,null,null,null,null,null,null,null,null,null,null,null,null,null,"Автономна Республіка Крим","Громівка"]
[null,null,null,null,null,null,null,null,null,null,null,null,null,null,null,"13.3","Оздоблення текстильних виробів",null,null,null,null,null,null,null,null,null,null,null,null,null,null,null,null,null,null,null,null,null,null,null,null,null,null,null,null,"Автономна Республіка Крим","Громове"]
[null,null,null,null,null,null,null,null,null,null,null,null,null,null,null,"13.30","Оздоблення текстильних виробів",null,null,null,null,null,null,null,null,null,null,null,null,null,null,null,null,null,null,null,null,null,null,null,null,null,null,null,null,"Автономна Республіка Крим","Громовка"]
[null,null,null,null,null,null,null,null,null,null,null,null,null,null,null,"13.9","Виробництво інших текстильних виробів",null,null,null,null,null,null,null,null,null,null,null,null,null,null,null,null,null,null,null,null,null,null,null,null,null,null,null,null,"Автономна Республіка Крим","Грушеве"]
[null,null,null,null,null,null,null,null,null,null,null,null,null,null,null,"13.91","Виробництво трикотажного полотна",null,null,null,null,null,null,null,null,null,null,null,null,null,null,null,null,null,null,null,null,null,null,null,null,null,null,null,null,"Автономна Республіка Крим","Грушівка"]
[null,null,null,null,null,null,null,null,null,null,null,null,null,null,null,"13.92","Виробництво готових текстильних виробів, крім одягу",null,null,null,null,null,null,null,null,null,null,null,null,null,null,null,null,null,null,null,null,null,null,null,null,null,null,null,null,"Автономна Республіка Крим","Гурзуф"]
[null,null,null,null,null,null,null,null,null,null,null,null,null,null,null,"13.93","Виробництво килимів і килимових виробів",null,null,null,null,null,null,null,null,null,null,null,null,null,null,null,null,null,null,null,null,null,null,null,null,null,null,null,null,"Автономна Республіка Крим","Давидове"]
[null,null,null,null,null,null,null,null,null,null,null,null,null,null,null,"13.94","Виробництво канатів, мотузок, шпагату та сіток",null,null,null,null,null,null,null,null,null,null,null,null,null,null,null,null,null,null,null,null,null,null,null,null,null,null,null,null,"Автономна Республіка Крим","Далеке"]
[null,null,null,null,null,null,null,null,null,null,null,null,null,null,null,"13.95","Виробництво нетканих текстильних матеріалів та виробів із них, крім одягу",null,null,null,null,null,null,null,null,null,null,null,null,null,null,null,null,null,null,null,null,null,null,null,null,null,null,null,null,"Автономна Республіка Крим","Данилівка"]
[null,null,null,null,null,null,null,null,null,null,null,null,null,null,null,"13.96","Виробництво інших текстильних виробів технічного та промислового призначення",null,null,null,null,null,null,null,null,null,null,null,null,null,null,null,null,null,null,null,null,null,null,null,null,null,null,null,null,"Автономна Республіка Крим","Дачне"]
[null,null,null,null,null,null,null,null,null,null,null,null,null,null,null,"13.99","Виробництво інших текстильних виробів, н.в.і.у.",null,null,null,null,null,null,null,null,null,null,null,null,null,null,null,null,null,null,null,null,null,null,null,null,null,null,null,null,"Автономна Республіка Крим","Дворіччя"]
[null,null,null,null,null,null,null,null,null,null,null,null,null,null,null,"14","Виробництво одягу",null,null,null,null,null,null,null,null,null,null,null,null,null,null,null,null,null,null,null,null,null,null,null,null,null,null,null,null,"Автономна Республіка Крим","Дворове"]
[null,null,null,null,null,null,null,null,null,null,null,null,null,null,null,"14.1","Виробництво одягу, крім хутряного",null,null,null,null,null,null,null,null,null,null,null,null,null,null,null,null,null,null,null,null,null,null,null,null,null,null,null,null,"Автономна Республіка Крим","Дем'янівка"]
[null,null,null,null,null,null,null,null,null,null,null,null,null,null,null,"14.11","Виробництво одягу зі шкіри",null,null,null,null,null,null,null,null,null,null,null,null,null,null,null,null,null,null,null,null,null,null,null,null,null,null,null,null,"Автономна Республіка Крим","Денисівка"]
[null,null,null,null,null,null,null,null,null,null,null,null,null,null,null,"14.12","Виробництво робочого одягу",null,null,null,null,null,null,null,null,null,null,null,null,null,null,null,null,null,null,null,null,null,null,null,null,null,null,null,null,"Автономна Республіка Крим","Джанкой"]
[null,null,null,null,null,null,null,null,null,null,null,null,null,null,null,"14.13","Виробництво іншого верхнього одягу",null,null,null,null,null,null,null,null,null,null,null,null,null,null,null,null,null,null,null,null,null,null,null,null,null,null,null,null,"Автономна Республіка Крим","Дивне"]
[null,null,null,null,null,null,null,null,null,null,null,null,null,null,null,"14.14","Виробництво спіднього одягу",null,null,null,null,null,null,null,null,null,null,null,null,null,null,null,null,null,null,null,null,null,null,null,null,null,null,null,null,"Автономна Республіка Крим","Дібрівка"]
[null,null,null,null,null,null,null,null,null,null,null,null,null,null,null,"14.19","Виробництво іншого одягу й аксесуарів",null,null,null,null,null,null,null,null,null,null,null,null,null,null,null,null,null,null,null,null,null,null,null,null,null,null,null,null,"Автономна Республіка Крим","Дібрівське"]
[null,null,null,null,null,null,null,null,null,null,null,null,null,null,null,"14.2","Виготовлення виробів із хутра",null,null,null,null,null,null,null,null,null,null,null,null,null,null,null,null,null,null,null,null,null,null,null,null,null,null,null,null,"Автономна Республіка Крим","Дмитрівка"]
[null,null,null,null,null,null,null,null,null,null,null,null,null,null,null,"14.20","Виготовлення виробів із хутра",null,null,null,null,null,null,null,null,null,null,null,null,null,null,null,null,null,null,null,null,null,null,null,null,null,null,null,null,"Автономна Республіка Крим","Дмитрівка (Войковське)"]
[null,null,null,null,null,null,null,null,null,null,null,null,null,null,null,"14.3","Виробництво трикотажного та в'язаного одягу",null,null,null,null,null,null,null,null,null,null,null,null,null,null,null,null,null,null,null,null,null,null,null,null,null,null,null,null,"Автономна Республіка Крим","Дмитрове"]
[null,null,null,null,null,null,null,null,null,null,null,null,null,null,null,"14.31","Виробництво панчішно-шкарпеткових виробів",null,null,null,null,null,null,null,null,null,null,null,null,null,null,null,null,null,null,null,null,null,null,null,null,null,null,null,null,"Автономна Республіка Крим","Дніпровка"]
[null,null,null,null,null,null,null,null,null,null,null,null,null,null,null,"14.39","Виробництво іншого трикотажного та в'язаного одягу",null,null,null,null,null,null,null,null,null,null,null,null,null,null,null,null,null,null,null,null,null,null,null,null,null,null,null,null,"Автономна Республіка Крим","Добре"]
[null,null,null,null,null,null,null,null,null,null,null,null,null,null,null,"15","Виробництво шкіри, виробів зі шкіри та інших матеріалів",null,null,null,null,null,null,null,null,null,null,null,null,null,null,null,null,null,null,null,null,null,null,null,null,null,null,null,null,"Автономна Республіка Крим","Добролюбовка"]
[null,null,null,null,null,null,null,null,null,null,null,null,null,null,null,"15.1","Дублення шкур і оздоблення шкіри; виробництво дорожніх виробів, сумок, лимарно-сідельних виробів; вичинка та фарбування хутра",null,null,null,null,null,null,null,null,null,null,null,null,null,null,null,null,null,null,null,null,null,null,null,null,null,null,null,null,"Автономна Республіка Крим","Добрушине"]
[null,null,null,null,null,null,null,null,null,null,null,null,null,null,null,"15.11","Дублення шкур і оздоблення шкіри; вичинка та фарбування хутра",null,null,null,null,null,null,null,null,null,null,null,null,null,null,null,null,null,null,null,null,null,null,null,null,null,null,null,null,"Автономна Республіка Крим","Дозорне"]
[null,null,null,null,null,null,null,null,null,null,null,null,null,null,null,"15.12","Виробництво дорожніх виробів, сумок, лимарно-сідельних виробів зі шкіри та інших матеріалів",null,null,null,null,null,null,null,null,null,null,null,null,null,null,null,null,null,null,null,null,null,null,null,null,null,null,null,null,"Автономна Республіка Крим","Докучаєве"]
[null,null,null,null,null,null,null,null,null,null,null,null,null,null,null,"15.2","Виробництво взуття",null,null,null,null,null,null,null,null,null,null,null,null,null,null,null,null,null,null,null,null,null,null,null,null,null,null,null,null,"Автономна Республіка Крим","Долинівка"]
[null,null,null,null,null,null,null,null,null,null,null,null,null,null,null,"15.20","Виробництво взуття",null,null,null,null,null,null,null,null,null,null,null,null,null,null,null,null,null,null,null,null,null,null,null,null,null,null,null,null,"Автономна Республіка Крим","Долинка (Митяївська)"]
[null,null,null,null,null,null,null,null,null,null,null,null,null,null,null,"16","Оброблення деревини та виготовлення виробів з деревини та корка, крім меблів; виготовлення виробів із соломки та рослинних матеріалів для плетіння",null,null,null,null,null,null,null,null,null,null,null,null,null,null,null,null,null,null,null,null,null,null,null,null,null,null,null,null,"Автономна Республіка Крим","Долинка (Новопавлівської)"]
[null,null,null,null,null,null,null,null,null,null,null,null,null,null,null,"16.1","Лісопильне та стругальне виробництво",null,null,null,null,null,null,null,null,null,null,null,null,null,null,null,null,null,null,null,null,null,null,null,null,null,null,null,null,"Автономна Республіка Крим","Долинне"]
[null,null,null,null,null,null,null,null,null,null,null,null,null,null,null,"16.10","Лісопильне та стругальне виробництво",null,null,null,null,null,null,null,null,null,null,null,null,null,null,null,null,null,null,null,null,null,null,null,null,null,null,null,null,"Автономна Республіка Крим","Донське"]
[null,null,null,null,null,null,null,null,null,null,null,null,null,null,null,"16.2","Виготовлення виробів з деревини, корка, соломки та рослинних матеріалів для плетіння",null,null,null,null,null,null,null,null,null,null,null,null,null,null,null,null,null,null,null,null,null,null,null,null,null,null,null,null,"Автономна Республіка Крим","Дорожнє"]
[null,null,null,null,null,null,null,null,null,null,null,null,null,null,null,"16.21","Виробництво фанери, дерев'яних плит і панелей, шпону",null,null,null,null,null,null,null,null,null,null,null,null,null,null,null,null,null,null,null,null,null,null,null,null,null,null,null,null,"Автономна Республіка Крим","Доходне"]
[null,null,null,null,null,null,null,null,null,null,null,null,null,null,null,"16.22","Виробництво щитового паркету",null,null,null,null,null,null,null,null,null,null,null,null,null,null,null,null,null,null,null,null,null,null,null,null,null,null,null,null,"Автономна Республіка Крим","Дрофине"]
[null,null,null,null,null,null,null,null,null,null,null,null,null,null,null,"16.23","Виробництво інших дерев'яних будівельних конструкцій і столярних виробів",null,null,null,null,null,null,null,null,null,null,null,null,null,null,null,null,null,null,null,null,null,null,null,null,null,null,null,null,"Автономна Республіка Крим","Дружне"]
[null,null,null,null,null,null,null,null,null,null,null,null,null,null,null,"16.24","Виробництво дерев'яної тари",null,null,null,null,null,null,null,null,null,null,null,null,null,null,null,null,null,null,null,null,null,null,null,null,null,null,null,null,"Автономна Республіка Крим","Дубки"]
[null,null,null,null,null,null,null,null,null,null,null,null,null,null,null,"16.29","Виробництво інших виробів з деревини; виготовлення виробів з корка, соломки та рослинних матеріалів для плетіння",null,null,null,null,null,null,null,null,null,null,null,null,null,null,null,null,null,null,null,null,null,null,null,null,null,null,null,null,"Автономна Республіка Крим","Дятлівка"]
[null,null,null,null,null,null,null,null,null,null,null,null,null,null,null,"17","Виробництво паперу та паперових виробів",null,null,null,null,null,null,null,null,null,null,null,null,null,null,null,null,null,null,null,null,null,null,null,null,null,null,null,null,"Автономна Республіка Крим","Євпаторія"]
[null,null,null,null,null,null,null,null,null,null,null,null,null,null,null,"17.1","Виробництво паперової маси, паперу та картону",null,null,null,null,null,null,null,null,null,null,null,null,null,null,null,null,null,null,null,null,null,null,null,null,null,null,null,null,"Автономна Республіка Крим","Єгорове"]
[null,null,null,null,null,null,null,null,null,null,null,null,null,null,null,"17.11","Виробництво паперової маси",null,null,null,null,null,null,null,null,null,null,null,null,null,null,null,null,null,null,null,null,null,null,null,null,null,null,null,null,"Автономна Республіка Крим","Єлизаветове"]
[null,null,null,null,null,null,null,null,null,null,null,null,null,null,null,"17.12","Виробництво паперу та картону",null,null,null,null,null,null,null,null,null,null,null,null,null,null,null,null,null,null,null,null,null,null,null,null,null,null,null,null,"Автономна Республіка Крим","Єрмакове"]
[null,null,null,null,null,null,null,null,null,null,null,null,null,null,null,"17.2","Виготовлення виробів з паперу та картону",null,null,null,null,null,null,null,null,null,null,null,null,null,null,null,null,null,null,null,null,null,null,null,null,null,null,null,null,"Автономна Республіка Крим","Єрофєєве"]
[null,null,null,null,null,null,null,null,null,null,null,null,null,null,null,"17.21","Виробництво гофрованого паперу та картону, паперової та картонної тари",null,null,null,null,null,null,null,null,null,null,null,null,null,null,null,null,null,null,null,null,null,null,null,null,null,null,null,null,"Автономна Республіка Крим","Жайворонки"]
[null,null,null,null,null,null,null,null,null,null,null,null,null,null,null,"17.22","Виробництво паперових виробів господарсько-побутового та санітарно-гігієнічного призначення",null,null,null,null,null,null,null,null,null,null,null,null,null,null,null,null,null,null,null,null,null,null,null,null,null,null,null,null,"Автономна Республіка Крим","Желябовка"]
[null,null,null,null,null,null,null,null,null,null,null,null,null,null,null,"17.23","Виробництво паперових канцелярських  виробів",null,null,null,null,null,null,null,null,null,null,null,null,null,null,null,null,null,null,null,null,null,null,null,null,null,null,null,null,"Автономна Республіка Крим","Жемчужина"]
[null,null,null,null,null,null,null,null,null,null,null,null,null,null,null,"17.24","Виробництво шпалер",null,null,null,null,null,null,null,null,null,null,null,null,null,null,null,null,null,null,null,null,null,null,null,null,null,null,null,null,"Автономна Республіка Крим","Жемчужина Криму"]
[null,null,null,null,null,null,null,null,null,null,null,null,null,null,null,"17.29","Виробництво інших виробів з паперу та картону",null,null,null,null,null,null,null,null,null,null,null,null,null,null,null,null,null,null,null,null,null,null,null,null,null,null,null,null,"Автономна Республіка Крим","Живописне"]
[null,null,null,null,null,null,null,null,null,null,null,null,null,null,null,"18","Поліграфічна діяльність, тиражування записаної інформації",null,null,null,null,null,null,null,null,null,null,null,null,null,null,null,null,null,null,null,null,null,null,null,null,null,null,null,null,"Автономна Республіка Крим","Жилине"]
[null,null,null,null,null,null,null,null,null,null,null,null,null,null,null,"18.1","Поліграфічна діяльність і надання пов'язаних із нею послуг",null,null,null,null,null,null,null,null,null,null,null,null,null,null,null,null,null,null,null,null,null,null,null,null,null,null,null,null,"Автономна Республіка Крим","Жовтокам'янка (Суворовська)"]
[null,null,null,null,null,null,null,null,null,null,null,null,null,null,null,"18.11","Друкування газет",null,null,null,null,null,null,null,null,null,null,null,null,null,null,null,null,null,null,null,null,null,null,null,null,null,null,null,null,"Автономна Республіка Крим","Журавки"]
[null,null,null,null,null,null,null,null,null,null,null,null,null,null,null,"18.12","Друкування іншої продукції",null,null,null,null,null,null,null,null,null,null,null,null,null,null,null,null,null,null,null,null,null,null,null,null,null,null,null,null,"Автономна Республіка Крим","Журавлі"]
[null,null,null,null,null,null,null,null,null,null,null,null,null,null,null,"18.13","Виготовлення друкарських форм і надання інших поліграфічних послуг",null,null,null,null,null,null,null,null,null,null,null,null,null,null,null,null,null,null,null,null,null,null,null,null,null,null,null,null,"Автономна Республіка Крим","Журавлівка"]
[null,null,null,null,null,null,null,null,null,null,null,null,null,null,null,"18.14","Брошурувально-палітурна діяльність і надання пов'язаних із нею послуг",null,null,null,null,null,null,null,null,null,null,null,null,null,null,null,null,null,null,null,null,null,null,null,null,null,null,null,null,"Автономна Республіка Крим","Завіт-Ленінський"]
[null,null,null,null,null,null,null,null,null,null,null,null,null,null,null,"18.2","Тиражування звуко-, відеозаписів і програмного забезпечення",null,null,null,null,null,null,null,null,null,null,null,null,null,null,null,null,null,null,null,null,null,null,null,null,null,null,null,null,"Автономна Республіка Крим","Завітне"]
[null,null,null,null,null,null,null,null,null,null,null,null,null,null,null,"18.20","Тиражування звуко-, відеозаписів і програмного забезпечення",null,null,null,null,null,null,null,null,null,null,null,null,null,null,null,null,null,null,null,null,null,null,null,null,null,null,null,null,"Автономна Республіка Крим","Заводське"]
[null,null,null,null,null,null,null,null,null,null,null,null,null,null,null,"19","Виробництво коксу та продуктів нафтоперероблення",null,null,null,null,null,null,null,null,null,null,null,null,null,null,null,null,null,null,null,null,null,null,null,null,null,null,null,null,"Автономна Республіка Крим","Задорне"]
[null,null,null,null,null,null,null,null,null,null,null,null,null,null,null,"19.1","Виробництво коксу та коксопродуктів",null,null,null,null,null,null,null,null,null,null,null,null,null,null,null,null,null,null,null,null,null,null,null,null,null,null,null,null,"Автономна Республіка Крим","Зайцеве"]
[null,null,null,null,null,null,null,null,null,null,null,null,null,null,null,"19.10","Виробництво коксу та коксопродуктів",null,null,null,null,null,null,null,null,null,null,null,null,null,null,null,null,null,null,null,null,null,null,null,null,null,null,null,null,"Автономна Республіка Крим","Заливне"]
[null,null,null,null,null,null,null,null,null,null,null,null,null,null,null,"19.2","Виробництво продуктів нафтоперероблення",null,null,null,null,null,null,null,null,null,null,null,null,null,null,null,null,null,null,null,null,null,null,null,null,null,null,null,null,"Автономна Республіка Крим","Залізничне"]
[null,null,null,null,null,null,null,null,null,null,null,null,null,null,null,"19.20","Виробництво продуктів нафтоперероблення",null,null,null,null,null,null,null,null,null,null,null,null,null,null,null,null,null,null,null,null,null,null,null,null,null,null,null,null,"Автономна Республіка Крим","Залісне"]
[null,null,null,null,null,null,null,null,null,null,null,null,null,null,null,"20","Виробництво хімічних речовин і хімічної продукції",null,null,null,null,null,null,null,null,null,null,null,null,null,null,null,null,null,null,null,null,null,null,null,null,null,null,null,null,"Автономна Республіка Крим","Залісся"]
[null,null,null,null,null,null,null,null,null,null,null,null,null,null,null,"20.1","Виробництво основної хімічної продукції, добрив і азотних сполук, пластмас і синтетичного каучуку в первинних формах",null,null,null,null,null,null,null,null,null,null,null,null,null,null,null,null,null,null,null,null,null,null,null,null,null,null,null,null,"Автономна Республіка Крим","Заозерне"]
[null,null,null,null,null,null,null,null,null,null,null,null,null,null,null,"20.11","Виробництво промислових газів",null,null,null,null,null,null,null,null,null,null,null,null,null,null,null,null,null,null,null,null,null,null,null,null,null,null,null,null,"Автономна Республіка Крим","Запрудне"]
[null,null,null,null,null,null,null,null,null,null,null,null,null,null,null,"20.12","Виробництво барвників і пігментів",null,null,null,null,null,null,null,null,null,null,null,null,null,null,null,null,null,null,null,null,null,null,null,null,null,null,null,null,"Автономна Республіка Крим","Зарічне"]
[null,null,null,null,null,null,null,null,null,null,null,null,null,null,null,"20.13","Виробництво інших основних неорганічних хімічних речовин",null,null,null,null,null,null,null,null,null,null,null,null,null,null,null,null,null,null,null,null,null,null,null,null,null,null,null,null,"Автономна Республіка Крим","Заріччя"]
[null,null,null,null,null,null,null,null,null,null,null,null,null,null,null,"20.14","Виробництво інших основних органічних хімічних речовин",null,null,null,null,null,null,null,null,null,null,null,null,null,null,null,null,null,null,null,null,null,null,null,null,null,null,null,null,"Автономна Республіка Крим","Затишне"]
[null,null,null,null,null,null,null,null,null,null,null,null,null,null,null,"20.15","Виробництво добрив і азотних сполук",null,null,null,null,null,null,null,null,null,null,null,null,null,null,null,null,null,null,null,null,null,null,null,null,null,null,null,null,"Автономна Республіка Крим","Звіздне"]
[null,null,null,null,null,null,null,null,null,null,null,null,null,null,null,"20.16","Виробництво пластмас у первинних формах",null,null,null,null,null,null,null,null,null,null,null,null,null,null,null,null,null,null,null,null,null,null,null,null,null,null,null,null,"Автономна Республіка Крим","Зелена Нива (Вишнівської)"]
[null,null,null,null,null,null,null,null,null,null,null,null,null,null,null,"20.17","Виробництво синтетичного каучуку в первинних формах",null,null,null,null,null,null,null,null,null,null,null,null,null,null,null,null,null,null,null,null,null,null,null,null,null,null,null,null,"Автономна Республіка Крим","Зелене"]
[null,null,null,null,null,null,null,null,null,null,null,null,null,null,null,"20.2","Виробництво пестицидів та іншої агрохімічної продукції",null,null,null,null,null,null,null,null,null,null,null,null,null,null,null,null,null,null,null,null,null,null,null,null,null,null,null,null,"Автономна Республіка Крим","Зелений Яр"]
[null,null,null,null,null,null,null,null,null,null,null,null,null,null,null,"20.20","Виробництво пестицидів та іншої агрохімічної продукції",null,null,null,null,null,null,null,null,null,null,null,null,null,null,null,null,null,null,null,null,null,null,null,null,null,null,null,null,"Автономна Республіка Крим","Зеленогірське"]
[null,null,null,null,null,null,null,null,null,null,null,null,null,null,null,"20.3","Виробництво фарб, лаків і подібної продукції, друкарської фарби та мастик",null,null,null,null,null,null,null,null,null,null,null,null,null,null,null,null,null,null,null,null,null,null,null,null,null,null,null,null,"Автономна Республіка Крим","Зеленогір'я"]
[null,null,null,null,null,null,null,null,null,null,null,null,null,null,null,"20.30","Виробництво фарб, лаків і подібної продукції, друкарської фарби та мастик",null,null,null,null,null,null,null,null,null,null,null,null,null,null,null,null,null,null,null,null,null,null,null,null,null,null,null,null,"Автономна Республіка Крим","Земляничне"]
[null,null,null,null,null,null,null,null,null,null,null,null,null,null,null,"20.4","Виробництво мила та мийних засобів, засобів для чищення та полірування, парфумних і косметичних засобів",null,null,null,null,null,null,null,null,null,null,null,null,null,null,null,null,null,null,null,null,null,null,null,null,null,null,null,null,"Автономна Республіка Крим","Зернове"]
[null,null,null,null,null,null,null,null,null,null,null,null,null,null,null,"20.41","Виробництво мила та мийних засобів, засобів для чищення та полірування",null,null,null,null,null,null,null,null,null,null,null,null,null,null,null,null,null,null,null,null,null,null,null,null,null,null,null,null,"Автономна Республіка Крим","Зибини"]
[null,null,null,null,null,null,null,null,null,null,null,null,null,null,null,"20.42","Виробництво парфумних і косметичних засобів",null,null,null,null,null,null,null,null,null,null,null,null,null,null,null,null,null,null,null,null,null,null,null,null,null,null,null,null,"Автономна Республіка Крим","Зимине"]
[null,null,null,null,null,null,null,null,null,null,null,null,null,null,null,"20.5","Виробництво іншої хімічної продукції",null,null,null,null,null,null,null,null,null,null,null,null,null,null,null,null,null,null,null,null,null,null,null,null,null,null,null,null,"Автономна Республіка Крим","Знам'янка"]
[null,null,null,null,null,null,null,null,null,null,null,null,null,null,null,"20.51","Виробництво вибухових речовин",null,null,null,null,null,null,null,null,null,null,null,null,null,null,null,null,null,null,null,null,null,null,null,null,null,null,null,null,"Автономна Республіка Крим","Знам'янка (Орлівської)"]
[null,null,null,null,null,null,null,null,null,null,null,null,null,null,null,"20.52","Виробництво клеїв",null,null,null,null,null,null,null,null,null,null,null,null,null,null,null,null,null,null,null,null,null,null,null,null,null,null,null,null,"Автономна Республіка Крим","Знам'янське"]
[null,null,null,null,null,null,null,null,null,null,null,null,null,null,null,"20.53","Виробництво ефірних олій",null,null,null,null,null,null,null,null,null,null,null,null,null,null,null,null,null,null,null,null,null,null,null,null,null,null,null,null,"Автономна Республіка Крим","Золоте"]
[null,null,null,null,null,null,null,null,null,null,null,null,null,null,null,"20.59","Виробництво іншої хімічної продукції, н.в.і.у.",null,null,null,null,null,null,null,null,null,null,null,null,null,null,null,null,null,null,null,null,null,null,null,null,null,null,null,null,"Автономна Республіка Крим","Золоте  Поле"]
[null,null,null,null,null,null,null,null,null,null,null,null,null,null,null,"20.6","Виробництво штучних і синтетичних волокон",null,null,null,null,null,null,null,null,null,null,null,null,null,null,null,null,null,null,null,null,null,null,null,null,null,null,null,null,"Автономна Республіка Крим","Зоркіне"]
[null,null,null,null,null,null,null,null,null,null,null,null,null,null,null,"20.60","Виробництво штучних і синтетичних волокон",null,null,null,null,null,null,null,null,null,null,null,null,null,null,null,null,null,null,null,null,null,null,null,null,null,null,null,null,"Автономна Республіка Крим","Зоря"]
[null,null,null,null,null,null,null,null,null,null,null,null,null,null,null,"21","Виробництво основних фармацевтичних продуктів і фармацевтичних препаратів",null,null,null,null,null,null,null,null,null,null,null,null,null,null,null,null,null,null,null,null,null,null,null,null,null,null,null,null,"Автономна Республіка Крим","Зоряне"]
[null,null,null,null,null,null,null,null,null,null,null,null,null,null,null,"21.1","Виробництво основних фармацевтичних продуктів",null,null,null,null,null,null,null,null,null,null,null,null,null,null,null,null,null,null,null,null,null,null,null,null,null,null,null,null,"Автономна Республіка Крим","Зубакіне"]
[null,null,null,null,null,null,null,null,null,null,null,null,null,null,null,"21.10","Виробництво основних фармацевтичних продуктів",null,null,null,null,null,null,null,null,null,null,null,null,null,null,null,null,null,null,null,null,null,null,null,null,null,null,null,null,"Автономна Республіка Крим","Зуя"]
[null,null,null,null,null,null,null,null,null,null,null,null,null,null,null,"21.2","Виробництво фармацевтичних препаратів і матеріалів",null,null,null,null,null,null,null,null,null,null,null,null,null,null,null,null,null,null,null,null,null,null,null,null,null,null,null,null,"Автономна Республіка Крим","Іванівка"]
[null,null,null,null,null,null,null,null,null,null,null,null,null,null,null,"21.20","Виробництво фармацевтичних препаратів і матеріалів",null,null,null,null,null,null,null,null,null,null,null,null,null,null,null,null,null,null,null,null,null,null,null,null,null,null,null,null,"Автономна Республіка Крим","Ізвесткове"]
[null,null,null,null,null,null,null,null,null,null,null,null,null,null,null,"22","Виробництво гумових і пластмасових виробів",null,null,null,null,null,null,null,null,null,null,null,null,null,null,null,null,null,null,null,null,null,null,null,null,null,null,null,null,"Автономна Республіка Крим","Ізобільне"]
[null,null,null,null,null,null,null,null,null,null,null,null,null,null,null,"22.1","Виробництво гумових виробів",null,null,null,null,null,null,null,null,null,null,null,null,null,null,null,null,null,null,null,null,null,null,null,null,null,null,null,null,"Автономна Республіка Крим","Ізумрудне"]
[null,null,null,null,null,null,null,null,null,null,null,null,null,null,null,"22.11","Виробництво гумових шин, покришок і камер; відновлення протектора гумових шин і покришок",null,null,null,null,null,null,null,null,null,null,null,null,null,null,null,null,null,null,null,null,null,null,null,null,null,null,null,null,"Автономна Республіка Крим","Ізюмівка"]
[null,null,null,null,null,null,null,null,null,null,null,null,null,null,null,"22.19","Виробництво інших гумових виробів",null,null,null,null,null,null,null,null,null,null,null,null,null,null,null,null,null,null,null,null,null,null,null,null,null,null,null,null,"Автономна Республіка Крим","Іллінка (Ільїнської)"]
[null,null,null,null,null,null,null,null,null,null,null,null,null,null,null,"22.2","Виробництво пластмасових виробів",null,null,null,null,null,null,null,null,null,null,null,null,null,null,null,null,null,null,null,null,null,null,null,null,null,null,null,null,"Автономна Республіка Крим","Іллінка (Сизівська)"]
[null,null,null,null,null,null,null,null,null,null,null,null,null,null,null,"22.21","Виробництво плит, листів, труб і профілів із пластмас",null,null,null,null,null,null,null,null,null,null,null,null,null,null,null,null,null,null,null,null,null,null,null,null,null,null,null,null,"Автономна Республіка Крим","Іллічеве"]
[null,null,null,null,null,null,null,null,null,null,null,null,null,null,null,"22.22","Виробництво тари з пластмас",null,null,null,null,null,null,null,null,null,null,null,null,null,null,null,null,null,null,null,null,null,null,null,null,null,null,null,null,"Автономна Республіка Крим","Іскра"]
[null,null,null,null,null,null,null,null,null,null,null,null,null,null,null,"22.23","Виробництво будівельних виробів із пластмас",null,null,null,null,null,null,null,null,null,null,null,null,null,null,null,null,null,null,null,null,null,null,null,null,null,null,null,null,"Автономна Республіка Крим","Істочне"]
[null,null,null,null,null,null,null,null,null,null,null,null,null,null,null,"22.29","Виробництво інших виробів із пластмас",null,null,null,null,null,null,null,null,null,null,null,null,null,null,null,null,null,null,null,null,null,null,null,null,null,null,null,null,"Автономна Республіка Крим","Істочне (Воїнської)"]
[null,null,null,null,null,null,null,null,null,null,null,null,null,null,null,"23","Виробництво іншої неметалевої мінеральної продукції",null,null,null,null,null,null,null,null,null,null,null,null,null,null,null,null,null,null,null,null,null,null,null,null,null,null,null,null,"Автономна Республіка Крим","Ішунь (Ішуньської)"]
[null,null,null,null,null,null,null,null,null,null,null,null,null,null,null,"23.1","Виробництво скла та виробів зі скла",null,null,null,null,null,null,null,null,null,null,null,null,null,null,null,null,null,null,null,null,null,null,null,null,null,null,null,null,"Автономна Республіка Крим","Казанки"]
[null,null,null,null,null,null,null,null,null,null,null,null,null,null,null,"23.11","Виробництво листового скла",null,null,null,null,null,null,null,null,null,null,null,null,null,null,null,null,null,null,null,null,null,null,null,null,null,null,null,null,"Автономна Республіка Крим","Калинівка"]
[null,null,null,null,null,null,null,null,null,null,null,null,null,null,null,"23.12","Формування й оброблення листового скла",null,null,null,null,null,null,null,null,null,null,null,null,null,null,null,null,null,null,null,null,null,null,null,null,null,null,null,null,"Автономна Республіка Крим","Калинівка (Оленівська)"]
[null,null,null,null,null,null,null,null,null,null,null,null,null,null,null,"23.13","Виробництво порожнистого скла",null,null,null,null,null,null,null,null,null,null,null,null,null,null,null,null,null,null,null,null,null,null,null,null,null,null,null,null,"Автономна Республіка Крим","Калініне"]
[null,null,null,null,null,null,null,null,null,null,null,null,null,null,null,"23.14","Виробництво скловолокна",null,null,null,null,null,null,null,null,null,null,null,null,null,null,null,null,null,null,null,null,null,null,null,null,null,null,null,null,"Автономна Республіка Крим","Калініне (Калінінської)"]
[null,null,null,null,null,null,null,null,null,null,null,null,null,null,null,"23.19","Виробництво й оброблення інших скляних виробів, у тому числі технічних",null,null,null,null,null,null,null,null,null,null,null,null,null,null,null,null,null,null,null,null,null,null,null,null,null,null,null,null,"Автономна Республіка Крим","Каменоломня"]
[null,null,null,null,null,null,null,null,null,null,null,null,null,null,null,"23.2","Виробництво вогнетривких виробів",null,null,null,null,null,null,null,null,null,null,null,null,null,null,null,null,null,null,null,null,null,null,null,null,null,null,null,null,"Автономна Республіка Крим","Кам'янка (Октябрьської)"]
[null,null,null,null,null,null,null,null,null,null,null,null,null,null,null,"23.20","Виробництво вогнетривких виробів",null,null,null,null,null,null,null,null,null,null,null,null,null,null,null,null,null,null,null,null,null,null,null,null,null,null,null,null,"Автономна Республіка Крим","Кам'янське"]
[null,null,null,null,null,null,null,null,null,null,null,null,null,null,null,"23.3","Виробництво будівельних матеріалів із глини",null,null,null,null,null,null,null,null,null,null,null,null,null,null,null,null,null,null,null,null,null,null,null,null,null,null,null,null,"Автономна Республіка Крим","Карасівка"]
[null,null,null,null,null,null,null,null,null,null,null,null,null,null,null,"23.31","Виробництво керамічних плиток і плит",null,null,null,null,null,null,null,null,null,null,null,null,null,null,null,null,null,null,null,null,null,null,null,null,null,null,null,null,"Автономна Республіка Крим","Кар'єрне"]
[null,null,null,null,null,null,null,null,null,null,null,null,null,null,null,"23.32","Виробництво цегли, черепиці та інших будівельних виробів із випаленої глини",null,null,null,null,null,null,null,null,null,null,null,null,null,null,null,null,null,null,null,null,null,null,null,null,null,null,null,null,"Автономна Республіка Крим","Карпівка"]
[null,null,null,null,null,null,null,null,null,null,null,null,null,null,null,"23.4","Виробництво іншої продукції з фарфору та кераміки",null,null,null,null,null,null,null,null,null,null,null,null,null,null,null,null,null,null,null,null,null,null,null,null,null,null,null,null,"Автономна Республіка Крим","Карпова Балка (Філатівської)"]
[null,null,null,null,null,null,null,null,null,null,null,null,null,null,null,"23.41","Виробництво господарських і декоративних керамічних виробів",null,null,null,null,null,null,null,null,null,null,null,null,null,null,null,null,null,null,null,null,null,null,null,null,null,null,null,null,"Автономна Республіка Крим","Кацівелі"]
[null,null,null,null,null,null,null,null,null,null,null,null,null,null,null,"23.42","Виробництво керамічних санітарно-технічних виробів",null,null,null,null,null,null,null,null,null,null,null,null,null,null,null,null,null,null,null,null,null,null,null,null,null,null,null,null,"Автономна Республіка Крим","Каштани"]
[null,null,null,null,null,null,null,null,null,null,null,null,null,null,null,"23.43","Виробництво керамічних електроізоляторів та ізоляційної арматури",null,null,null,null,null,null,null,null,null,null,null,null,null,null,null,null,null,null,null,null,null,null,null,null,null,null,null,null,"Автономна Республіка Крим","Каштанівка (Серебрянська сільська рада)"]
[null,null,null,null,null,null,null,null,null,null,null,null,null,null,null,"23.44","Виробництво інших керамічних виробів технічного призначення",null,null,null,null,null,null,null,null,null,null,null,null,null,null,null,null,null,null,null,null,null,null,null,null,null,null,null,null,"Автономна Республіка Крим","Каштанівка (Черновської)"]
[null,null,null,null,null,null,null,null,null,null,null,null,null,null,null,"23.49","Виробництво інших керамічних виробів",null,null,null,null,null,null,null,null,null,null,null,null,null,null,null,null,null,null,null,null,null,null,null,null,null,null,null,null,"Автономна Республіка Крим","Каштанове"]
[null,null,null,null,null,null,null,null,null,null,null,null,null,null,null,"23.5","Виробництво цементу, вапна та гіпсових сумішей",null,null,null,null,null,null,null,null,null,null,null,null,null,null,null,null,null,null,null,null,null,null,null,null,null,null,null,null,"Автономна Республіка Крим","Керч"]
[null,null,null,null,null,null,null,null,null,null,null,null,null,null,null,"23.51","Виробництво цементу",null,null,null,null,null,null,null,null,null,null,null,null,null,null,null,null,null,null,null,null,null,null,null,null,null,null,null,null,"Автономна Республіка Крим","Кизилівка"]
[null,null,null,null,null,null,null,null,null,null,null,null,null,null,null,"23.52","Виробництво вапна та гіпсових сумішей",null,null,null,null,null,null,null,null,null,null,null,null,null,null,null,null,null,null,null,null,null,null,null,null,null,null,null,null,"Автономна Республіка Крим","Кипарисне"]
[null,null,null,null,null,null,null,null,null,null,null,null,null,null,null,"23.6","Виготовлення виробів із бетону, гіпсу та цементу",null,null,null,null,null,null,null,null,null,null,null,null,null,null,null,null,null,null,null,null,null,null,null,null,null,null,null,null,"Автономна Республіка Крим","Кирпичне"]
[null,null,null,null,null,null,null,null,null,null,null,null,null,null,null,"23.61","Виготовлення виробів із бетону для будівництва",null,null,null,null,null,null,null,null,null,null,null,null,null,null,null,null,null,null,null,null,null,null,null,null,null,null,null,null,"Автономна Республіка Крим","Кирсанівка"]
[null,null,null,null,null,null,null,null,null,null,null,null,null,null,null,"23.62","Виготовлення виробів із гіпсу для будівництва",null,null,null,null,null,null,null,null,null,null,null,null,null,null,null,null,null,null,null,null,null,null,null,null,null,null,null,null,"Автономна Республіка Крим","Кіндратове"]
[null,null,null,null,null,null,null,null,null,null,null,null,null,null,null,"23.63","Виробництво бетонних розчинів, готових для використання",null,null,null,null,null,null,null,null,null,null,null,null,null,null,null,null,null,null,null,null,null,null,null,null,null,null,null,null,"Автономна Республіка Крим","Кіровське"]
[null,null,null,null,null,null,null,null,null,null,null,null,null,null,null,"23.64","Виробництво сухих будівельних сумішей",null,null,null,null,null,null,null,null,null,null,null,null,null,null,null,null,null,null,null,null,null,null,null,null,null,null,null,null,"Автономна Республіка Крим","Кісточківка"]
[null,null,null,null,null,null,null,null,null,null,null,null,null,null,null,"23.65","Виготовлення виробів із волокнистого цементу",null,null,null,null,null,null,null,null,null,null,null,null,null,null,null,null,null,null,null,null,null,null,null,null,null,null,null,null,"Автономна Республіка Крим","Клепиніне"]
[null,null,null,null,null,null,null,null,null,null,null,null,null,null,null,"23.69","Виробництво інших виробів із бетону, гіпсу та цементу",null,null,null,null,null,null,null,null,null,null,null,null,null,null,null,null,null,null,null,null,null,null,null,null,null,null,null,null,"Автономна Республіка Крим","Климове"]
[null,null,null,null,null,null,null,null,null,null,null,null,null,null,null,"23.7","Різання, оброблення та оздоблення декоративного та будівельного каменю",null,null,null,null,null,null,null,null,null,null,null,null,null,null,null,null,null,null,null,null,null,null,null,null,null,null,null,null,"Автономна Республіка Крим","Клинівка"]
[null,null,null,null,null,null,null,null,null,null,null,null,null,null,null,"23.70","Різання, оброблення та оздоблення декоративного та будівельного каменю",null,null,null,null,null,null,null,null,null,null,null,null,null,null,null,null,null,null,null,null,null,null,null,null,null,null,null,null,"Автономна Республіка Крим","Ключі"]
[null,null,null,null,null,null,null,null,null,null,null,null,null,null,null,"23.9","Виробництво абразивних виробів і неметалевих мінеральних виробів, н.в.і.у.",null,null,null,null,null,null,null,null,null,null,null,null,null,null,null,null,null,null,null,null,null,null,null,null,null,null,null,null,"Автономна Республіка Крим","Ключове"]
[null,null,null,null,null,null,null,null,null,null,null,null,null,null,null,"23.91","Виробництво абразивних виробів",null,null,null,null,null,null,null,null,null,null,null,null,null,null,null,null,null,null,null,null,null,null,null,null,null,null,null,null,"Автономна Республіка Крим","Ковильне"]
[null,null,null,null,null,null,null,null,null,null,null,null,null,null,null,"23.99","Виробництво неметалевих мінеральних виробів, н.в.і.у.",null,null,null,null,null,null,null,null,null,null,null,null,null,null,null,null,null,null,null,null,null,null,null,null,null,null,null,null,"Автономна Республіка Крим","Ковильне (Ковильнівська сільська рада)"]
[null,null,null,null,null,null,null,null,null,null,null,null,null,null,null,"24","Металургійне виробництво",null,null,null,null,null,null,null,null,null,null,null,null,null,null,null,null,null,null,null,null,null,null,null,null,null,null,null,null,"Автономна Республіка Крим","Коврове"]
[null,null,null,null,null,null,null,null,null,null,null,null,null,null,null,"24.1","Виробництво чавуну, сталі та феросплавів",null,null,null,null,null,null,null,null,null,null,null,null,null,null,null,null,null,null,null,null,null,null,null,null,null,null,null,null,"Автономна Республіка Крим","Коктебель"]
[null,null,null,null,null,null,null,null,null,null,null,null,null,null,null,"24.10","Виробництво чавуну, сталі та феросплавів",null,null,null,null,null,null,null,null,null,null,null,null,null,null,null,null,null,null,null,null,null,null,null,null,null,null,null,null,"Автономна Республіка Крим","Колодязне"]
[null,null,null,null,null,null,null,null,null,null,null,null,null,null,null,"24.2","Виробництво труб, порожнистих профілів і фітингів зі сталі",null,null,null,null,null,null,null,null,null,null,null,null,null,null,null,null,null,null,null,null,null,null,null,null,null,null,null,null,"Автономна Республіка Крим","Коломенське"]
[null,null,null,null,null,null,null,null,null,null,null,null,null,null,null,"24.20","Виробництво труб, порожнистих профілів і фітингів зі сталі",null,null,null,null,null,null,null,null,null,null,null,null,null,null,null,null,null,null,null,null,null,null,null,null,null,null,null,null,"Автономна Республіка Крим","Колоски"]
[null,null,null,null,null,null,null,null,null,null,null,null,null,null,null,"24.3","Виробництво іншої продукції первинного оброблення сталі",null,null,null,null,null,null,null,null,null,null,null,null,null,null,null,null,null,null,null,null,null,null,null,null,null,null,null,null,"Автономна Республіка Крим","Кольцове"]
[null,null,null,null,null,null,null,null,null,null,null,null,null,null,null,"24.31","Холодне волочіння прутків і профілів",null,null,null,null,null,null,null,null,null,null,null,null,null,null,null,null,null,null,null,null,null,null,null,null,null,null,null,null,"Автономна Республіка Крим","Кольчугине"]
[null,null,null,null,null,null,null,null,null,null,null,null,null,null,null,"24.32","Холодний прокат вузької штаби",null,null,null,null,null,null,null,null,null,null,null,null,null,null,null,null,null,null,null,null,null,null,null,null,null,null,null,null,"Автономна Республіка Крим","Комарівка"]
[null,null,null,null,null,null,null,null,null,null,null,null,null,null,null,"24.33","Холодне штампування та гнуття",null,null,null,null,null,null,null,null,null,null,null,null,null,null,null,null,null,null,null,null,null,null,null,null,null,null,null,null,"Автономна Республіка Крим","Комишинка"]
[null,null,null,null,null,null,null,null,null,null,null,null,null,null,null,"24.34","Холодне волочіння дроту",null,null,null,null,null,null,null,null,null,null,null,null,null,null,null,null,null,null,null,null,null,null,null,null,null,null,null,null,"Автономна Республіка Крим","Комишне (Руч'ївська сільська рада)"]
[null,null,null,null,null,null,null,null,null,null,null,null,null,null,null,"24.4","Виробництво дорогоцінних та інших кольорових металів",null,null,null,null,null,null,null,null,null,null,null,null,null,null,null,null,null,null,null,null,null,null,null,null,null,null,null,null,"Автономна Республіка Крим","Комсомольське"]
[null,null,null,null,null,null,null,null,null,null,null,null,null,null,null,"24.41","Виробництво дорогоцінних металів",null,null,null,null,null,null,null,null,null,null,null,null,null,null,null,null,null,null,null,null,null,null,null,null,null,null,null,null,"Автономна Республіка Крим","Комунари"]
[null,null,null,null,null,null,null,null,null,null,null,null,null,null,null,"24.42","Виробництво алюмінію",null,null,null,null,null,null,null,null,null,null,null,null,null,null,null,null,null,null,null,null,null,null,null,null,null,null,null,null,"Автономна Республіка Крим","Комунарне (Руч'ївська сільська рада)"]
[null,null,null,null,null,null,null,null,null,null,null,null,null,null,null,"24.43","Виробництво свинцю, цинку й олова",null,null,null,null,null,null,null,null,null,null,null,null,null,null,null,null,null,null,null,null,null,null,null,null,null,null,null,null,"Автономна Республіка Крим","Копані"]
[null,null,null,null,null,null,null,null,null,null,null,null,null,null,null,"24.44","Виробництво міді",null,null,null,null,null,null,null,null,null,null,null,null,null,null,null,null,null,null,null,null,null,null,null,null,null,null,null,null,"Автономна Республіка Крим","Кореїз"]
[null,null,null,null,null,null,null,null,null,null,null,null,null,null,null,"24.45","Виробництво інших кольорових металів",null,null,null,null,null,null,null,null,null,null,null,null,null,null,null,null,null,null,null,null,null,null,null,null,null,null,null,null,"Автономна Республіка Крим","Корінне"]
[null,null,null,null,null,null,null,null,null,null,null,null,null,null,null,"24.46","Виробництво ядерних матеріалів",null,null,null,null,null,null,null,null,null,null,null,null,null,null,null,null,null,null,null,null,null,null,null,null,null,null,null,null,"Автономна Республіка Крим","Кормове (Кормовської)"]
[null,null,null,null,null,null,null,null,null,null,null,null,null,null,null,"24.5","Лиття металів",null,null,null,null,null,null,null,null,null,null,null,null,null,null,null,null,null,null,null,null,null,null,null,null,null,null,null,null,"Автономна Республіка Крим","Корніївка"]
[null,null,null,null,null,null,null,null,null,null,null,null,null,null,null,"24.51","Лиття чавуну",null,null,null,null,null,null,null,null,null,null,null,null,null,null,null,null,null,null,null,null,null,null,null,null,null,null,null,null,"Автономна Республіка Крим","Корольове"]
[null,null,null,null,null,null,null,null,null,null,null,null,null,null,null,"24.52","Лиття сталі",null,null,null,null,null,null,null,null,null,null,null,null,null,null,null,null,null,null,null,null,null,null,null,null,null,null,null,null,"Автономна Республіка Крим","Костиріне"]
[null,null,null,null,null,null,null,null,null,null,null,null,null,null,null,"24.53","Лиття легких кольорових металів",null,null,null,null,null,null,null,null,null,null,null,null,null,null,null,null,null,null,null,null,null,null,null,null,null,null,null,null,"Автономна Республіка Крим","Костянтинівка"]
[null,null,null,null,null,null,null,null,null,null,null,null,null,null,null,"24.54","Лиття інших кольорових металів",null,null,null,null,null,null,null,null,null,null,null,null,null,null,null,null,null,null,null,null,null,null,null,null,null,null,null,null,"Автономна Республіка Крим","Котельникове"]
[null,null,null,null,null,null,null,null,null,null,null,null,null,null,null,"25","Виробництво готових металевих виробів, крім машин і устатковання",null,null,null,null,null,null,null,null,null,null,null,null,null,null,null,null,null,null,null,null,null,null,null,null,null,null,null,null,"Автономна Республіка Крим","Котовське (Славнівська сільська рада)"]
[null,null,null,null,null,null,null,null,null,null,null,null,null,null,null,"25.1","Виробництво будівельних металевих конструкцій і виробів",null,null,null,null,null,null,null,null,null,null,null,null,null,null,null,null,null,null,null,null,null,null,null,null,null,null,null,null,"Автономна Республіка Крим","Кочергіне"]
[null,null,null,null,null,null,null,null,null,null,null,null,null,null,null,"25.11","Виробництво будівельних металевих конструкцій і частин конструкцій",null,null,null,null,null,null,null,null,null,null,null,null,null,null,null,null,null,null,null,null,null,null,null,null,null,null,null,null,"Автономна Республіка Крим","Крайнє (Крайненська)"]
[null,null,null,null,null,null,null,null,null,null,null,null,null,null,null,"25.12","Виробництво металевих дверей і вікон",null,null,null,null,null,null,null,null,null,null,null,null,null,null,null,null,null,null,null,null,null,null,null,null,null,null,null,null,"Автономна Республіка Крим","Красна Долина"]
[null,null,null,null,null,null,null,null,null,null,null,null,null,null,null,"25.2","Виробництво металевих баків, резервуарів і контейнерів",null,null,null,null,null,null,null,null,null,null,null,null,null,null,null,null,null,null,null,null,null,null,null,null,null,null,null,null,"Автономна Республіка Крим","Красна Зорька"]
[null,null,null,null,null,null,null,null,null,null,null,null,null,null,null,"25.21","Виробництво радіаторів і  котлів центрального опалення",null,null,null,null,null,null,null,null,null,null,null,null,null,null,null,null,null,null,null,null,null,null,null,null,null,null,null,null,"Автономна Республіка Крим","Красна Поляна"]
[null,null,null,null,null,null,null,null,null,null,null,null,null,null,null,"25.29","Виробництво інших металевих баків, резервуарів і контейнерів",null,null,null,null,null,null,null,null,null,null,null,null,null,null,null,null,null,null,null,null,null,null,null,null,null,null,null,null,"Автономна Республіка Крим","Красна Слобода"]
[null,null,null,null,null,null,null,null,null,null,null,null,null,null,null,"25.3","Виробництво парових котлів, крім котлів центрального опалення",null,null,null,null,null,null,null,null,null,null,null,null,null,null,null,null,null,null,null,null,null,null,null,null,null,null,null,null,"Автономна Республіка Крим","Красний Мак"]
[null,null,null,null,null,null,null,null,null,null,null,null,null,null,null,"25.30","Виробництво парових котлів, крім котлів центрального опалення",null,null,null,null,null,null,null,null,null,null,null,null,null,null,null,null,null,null,null,null,null,null,null,null,null,null,null,null,"Автономна Республіка Крим","Красний Партизан"]
[null,null,null,null,null,null,null,null,null,null,null,null,null,null,null,"25.4","Виробництво зброї та боєприпасів",null,null,null,null,null,null,null,null,null,null,null,null,null,null,null,null,null,null,null,null,null,null,null,null,null,null,null,null,"Автономна Республіка Крим","Краснівка"]
[null,null,null,null,null,null,null,null,null,null,null,null,null,null,null,"25.40","Виробництво зброї та боєприпасів",null,null,null,null,null,null,null,null,null,null,null,null,null,null,null,null,null,null,null,null,null,null,null,null,null,null,null,null,"Автономна Республіка Крим","Красноармійське (Зиминська сільська рада)"]
[null,null,null,null,null,null,null,null,null,null,null,null,null,null,null,"25.5","Кування, пресування, штампування, профілювання; порошкова металургія",null,null,null,null,null,null,null,null,null,null,null,null,null,null,null,null,null,null,null,null,null,null,null,null,null,null,null,null,"Автономна Республіка Крим","Красноармійське (Красноармійська)"]
[null,null,null,null,null,null,null,null,null,null,null,null,null,null,null,"25.50","Кування, пресування, штампування, профілювання; порошкова металургія",null,null,null,null,null,null,null,null,null,null,null,null,null,null,null,null,null,null,null,null,null,null,null,null,null,null,null,null,"Автономна Республіка Крим","Красногвардійське"]
[null,null,null,null,null,null,null,null,null,null,null,null,null,null,null,"25.6","Оброблення металів та нанесення покриття на метали; механічне оброблення металевих виробів",null,null,null,null,null,null,null,null,null,null,null,null,null,null,null,null,null,null,null,null,null,null,null,null,null,null,null,null,"Автономна Республіка Крим","Красногірка"]
[null,null,null,null,null,null,null,null,null,null,null,null,null,null,null,"25.61","Оброблення металів та нанесення покриття на метали",null,null,null,null,null,null,null,null,null,null,null,null,null,null,null,null,null,null,null,null,null,null,null,null,null,null,null,null,"Автономна Республіка Крим","Красногірське"]
[null,null,null,null,null,null,null,null,null,null,null,null,null,null,null,"25.62","Механічне оброблення металевих виробів",null,null,null,null,null,null,null,null,null,null,null,null,null,null,null,null,null,null,null,null,null,null,null,null,null,null,null,null,"Автономна Республіка Крим","Краснодарка"]
[null,null,null,null,null,null,null,null,null,null,null,null,null,null,null,"25.7","Виробництво столових приборів, інструментів і металевих виробів загального призначення",null,null,null,null,null,null,null,null,null,null,null,null,null,null,null,null,null,null,null,null,null,null,null,null,null,null,null,null,"Автономна Республіка Крим","Краснодольне"]
[null,null,null,null,null,null,null,null,null,null,null,null,null,null,null,"25.71","Виробництво столових приборів",null,null,null,null,null,null,null,null,null,null,null,null,null,null,null,null,null,null,null,null,null,null,null,null,null,null,null,null,"Автономна Республіка Крим","Краснознам'янка"]
[null,null,null,null,null,null,null,null,null,null,null,null,null,null,null,"25.72","Виробництво замків і дверних петель",null,null,null,null,null,null,null,null,null,null,null,null,null,null,null,null,null,null,null,null,null,null,null,null,null,null,null,null,"Автономна Республіка Крим","Краснокам'янка"]
[null,null,null,null,null,null,null,null,null,null,null,null,null,null,null,"25.73","Виробництво інструментів",null,null,null,null,null,null,null,null,null,null,null,null,null,null,null,null,null,null,null,null,null,null,null,null,null,null,null,null,"Автономна Республіка Крим","Краснолісся"]
[null,null,null,null,null,null,null,null,null,null,null,null,null,null,null,"25.9","Виробництво інших готових металевих виробів",null,null,null,null,null,null,null,null,null,null,null,null,null,null,null,null,null,null,null,null,null,null,null,null,null,null,null,null,"Автономна Республіка Крим","Красноперекопськ"]
[null,null,null,null,null,null,null,null,null,null,null,null,null,null,null,"25.91","Виробництво сталевих бочок і подібних контейнерів",null,null,null,null,null,null,null,null,null,null,null,null,null,null,null,null,null,null,null,null,null,null,null,null,null,null,null,null,"Автономна Республіка Крим","Красноселівка"]
[null,null,null,null,null,null,null,null,null,null,null,null,null,null,null,"25.92","Виробництво легких металевих паковань",null,null,null,null,null,null,null,null,null,null,null,null,null,null,null,null,null,null,null,null,null,null,null,null,null,null,null,null,"Автономна Республіка Крим","Красносільське"]
[null,null,null,null,null,null,null,null,null,null,null,null,null,null,null,"25.93","Виробництво виробів із дроту, ланцюгів і пружин",null,null,null,null,null,null,null,null,null,null,null,null,null,null,null,null,null,null,null,null,null,null,null,null,null,null,null,null,"Автономна Республіка Крим","Красносільське (Окунівська)"]
[null,null,null,null,null,null,null,null,null,null,null,null,null,null,null,"25.94","Виробництво кріпильних і ґвинтонарізних виробів",null,null,null,null,null,null,null,null,null,null,null,null,null,null,null,null,null,null,null,null,null,null,null,null,null,null,null,null,"Автономна Республіка Крим","Краснофлотське"]
[null,null,null,null,null,null,null,null,null,null,null,null,null,null,null,"25.99","Виробництво інших готових металевих виробів, н.в.і.у.",null,null,null,null,null,null,null,null,null,null,null,null,null,null,null,null,null,null,null,null,null,null,null,null,null,null,null,null,"Автономна Республіка Крим","Красноярське"]
[null,null,null,null,null,null,null,null,null,null,null,null,null,null,null,"26","Виробництво комп'ютерів, електронної та оптичної продукції",null,null,null,null,null,null,null,null,null,null,null,null,null,null,null,null,null,null,null,null,null,null,null,null,null,null,null,null,"Автономна Республіка Крим","Кремнівка"]
[null,null,null,null,null,null,null,null,null,null,null,null,null,null,null,"26.1","Виробництво електронних компонентів і плат",null,null,null,null,null,null,null,null,null,null,null,null,null,null,null,null,null,null,null,null,null,null,null,null,null,null,null,null,"Автономна Республіка Крим","Крестянівка (Крестянівскої)"]
[null,null,null,null,null,null,null,null,null,null,null,null,null,null,null,"26.11","Виробництво електронних компонентів",null,null,null,null,null,null,null,null,null,null,null,null,null,null,null,null,null,null,null,null,null,null,null,null,null,null,null,null,"Автономна Республіка Крим","Кривцове"]
[null,null,null,null,null,null,null,null,null,null,null,null,null,null,null,"26.12","Виробництво змонтованих електронних плат",null,null,null,null,null,null,null,null,null,null,null,null,null,null,null,null,null,null,null,null,null,null,null,null,null,null,null,null,"Автономна Республіка Крим","Криловка (Степновської)"]
[null,null,null,null,null,null,null,null,null,null,null,null,null,null,null,"26.2","Виробництво комп'ютерів і периферійного устатковання",null,null,null,null,null,null,null,null,null,null,null,null,null,null,null,null,null,null,null,null,null,null,null,null,null,null,null,null,"Автономна Республіка Крим","Криловка (Штормівська)"]
[null,null,null,null,null,null,null,null,null,null,null,null,null,null,null,"26.20","Виробництво комп'ютерів і периферійного устатковання",null,null,null,null,null,null,null,null,null,null,null,null,null,null,null,null,null,null,null,null,null,null,null,null,null,null,null,null,"Автономна Республіка Крим","Кримка"]
[null,null,null,null,null,null,null,null,null,null,null,null,null,null,null,"26.3","Виробництво обладнання зв'язку",null,null,null,null,null,null,null,null,null,null,null,null,null,null,null,null,null,null,null,null,null,null,null,null,null,null,null,null,"Автономна Республіка Крим","Кримська Роза"]
[null,null,null,null,null,null,null,null,null,null,null,null,null,null,null,"26.30","Виробництво обладнання зв'язку",null,null,null,null,null,null,null,null,null,null,null,null,null,null,null,null,null,null,null,null,null,null,null,null,null,null,null,null,"Автономна Республіка Крим","Кримське"]
[null,null,null,null,null,null,null,null,null,null,null,null,null,null,null,"26.4","Виробництво електронної апаратури побутового призначення для приймання, записування та відтворювання звуку й зображення",null,null,null,null,null,null,null,null,null,null,null,null,null,null,null,null,null,null,null,null,null,null,null,null,null,null,null,null,"Автономна Республіка Крим","Кринички"]
[null,null,null,null,null,null,null,null,null,null,null,null,null,null,null,"26.40","Виробництво електронної апаратури побутового призначення для приймання, записування та відтворювання звуку й зображення",null,null,null,null,null,null,null,null,null,null,null,null,null,null,null,null,null,null,null,null,null,null,null,null,null,null,null,null,"Автономна Республіка Крим","Кріпке (Вишнівської)"]
[null,null,null,null,null,null,null,null,null,null,null,null,null,null,null,"26.5","Виробництво інструментів і обладнання для вимірювання, дослідження та навігації; виробництво годинників",null,null,null,null,null,null,null,null,null,null,null,null,null,null,null,null,null,null,null,null,null,null,null,null,null,null,null,null,"Автономна Республіка Крим","Кропоткіне (Чернишівська сільська рада)"]
[null,null,null,null,null,null,null,null,null,null,null,null,null,null,null,"26.51","Виробництво інструментів і обладнання для вимірювання, дослідження та навігації",null,null,null,null,null,null,null,null,null,null,null,null,null,null,null,null,null,null,null,null,null,null,null,null,null,null,null,null,"Автономна Республіка Крим","Кубанське"]
[null,null,null,null,null,null,null,null,null,null,null,null,null,null,null,"26.52","Виробництво годинників",null,null,null,null,null,null,null,null,null,null,null,null,null,null,null,null,null,null,null,null,null,null,null,null,null,null,null,null,"Автономна Республіка Крим","Кудрине"]
[null,null,null,null,null,null,null,null,null,null,null,null,null,null,null,"26.6","Виробництво радіологічного, електромедичного й електротерапевтичного устатковання",null,null,null,null,null,null,null,null,null,null,null,null,null,null,null,null,null,null,null,null,null,null,null,null,null,null,null,null,"Автономна Республіка Крим","Кузнецьке"]
[null,null,null,null,null,null,null,null,null,null,null,null,null,null,null,"26.60","Виробництво радіологічного, електромедичного й електротерапевтичного устатковання",null,null,null,null,null,null,null,null,null,null,null,null,null,null,null,null,null,null,null,null,null,null,null,null,null,null,null,null,"Автономна Республіка Крим","Куйбишеве"]
[null,null,null,null,null,null,null,null,null,null,null,null,null,null,null,"26.7","Виробництво оптичних приладів і фотографічного устатковання",null,null,null,null,null,null,null,null,null,null,null,null,null,null,null,null,null,null,null,null,null,null,null,null,null,null,null,null,"Автономна Республіка Крим","Кукурудзяне"]
[null,null,null,null,null,null,null,null,null,null,null,null,null,null,null,"26.70","Виробництво оптичних приладів і фотографічного устатковання",null,null,null,null,null,null,null,null,null,null,null,null,null,null,null,null,null,null,null,null,null,null,null,null,null,null,null,null,"Автономна Республіка Крим","Кукушкіне"]
[null,null,null,null,null,null,null,null,null,null,null,null,null,null,null,"26.8","Виробництво магнітних і оптичних носіїв даних",null,null,null,null,null,null,null,null,null,null,null,null,null,null,null,null,null,null,null,null,null,null,null,null,null,null,null,null,"Автономна Республіка Крим","Куликівка"]
[null,null,null,null,null,null,null,null,null,null,null,null,null,null,null,"26.80","Виробництво магнітних і оптичних носіїв даних",null,null,null,null,null,null,null,null,null,null,null,null,null,null,null,null,null,null,null,null,null,null,null,null,null,null,null,null,"Автономна Республіка Крим","Кумове (Ботанічна сільська рада)"]
[null,null,null,null,null,null,null,null,null,null,null,null,null,null,null,"27","Виробництво електричного устатковання",null,null,null,null,null,null,null,null,null,null,null,null,null,null,null,null,null,null,null,null,null,null,null,null,null,null,null,null,"Автономна Республіка Крим","Кунцеве"]
[null,null,null,null,null,null,null,null,null,null,null,null,null,null,null,"27.1","Виробництво електродвигунів, генераторів, трансформаторів, електророзподільчої та контрольної апаратури",null,null,null,null,null,null,null,null,null,null,null,null,null,null,null,null,null,null,null,null,null,null,null,null,null,null,null,null,"Автономна Республіка Крим","Купріне"]
[null,null,null,null,null,null,null,null,null,null,null,null,null,null,null,"27.11","Виробництво електродвигунів, генераторів і трансформаторів",null,null,null,null,null,null,null,null,null,null,null,null,null,null,null,null,null,null,null,null,null,null,null,null,null,null,null,null,"Автономна Республіка Крим","Курганне"]
[null,null,null,null,null,null,null,null,null,null,null,null,null,null,null,"27.12","Виробництво електророзподільчої та контрольної апаратури",null,null,null,null,null,null,null,null,null,null,null,null,null,null,null,null,null,null,null,null,null,null,null,null,null,null,null,null,"Автономна Республіка Крим","Курганне (Ільїнка)"]
[null,null,null,null,null,null,null,null,null,null,null,null,null,null,null,"27.2","Виробництво батарей і акумуляторів",null,null,null,null,null,null,null,null,null,null,null,null,null,null,null,null,null,null,null,null,null,null,null,null,null,null,null,null,"Автономна Республіка Крим","Курортне"]
[null,null,null,null,null,null,null,null,null,null,null,null,null,null,null,"27.20","Виробництво батарей і акумуляторів",null,null,null,null,null,null,null,null,null,null,null,null,null,null,null,null,null,null,null,null,null,null,null,null,null,null,null,null,"Автономна Республіка Крим","Курпати"]
[null,null,null,null,null,null,null,null,null,null,null,null,null,null,null,"27.3","Виробництво проводів, кабелів і електромонтажних пристроїв",null,null,null,null,null,null,null,null,null,null,null,null,null,null,null,null,null,null,null,null,null,null,null,null,null,null,null,null,"Автономна Республіка Крим","Курське"]
[null,null,null,null,null,null,null,null,null,null,null,null,null,null,null,"27.31","Виробництво волоконно-оптичних кабелів",null,null,null,null,null,null,null,null,null,null,null,null,null,null,null,null,null,null,null,null,null,null,null,null,null,null,null,null,"Автономна Республіка Крим","Лаванда"]
[null,null,null,null,null,null,null,null,null,null,null,null,null,null,null,"27.32","Виробництво інших видів електронних і електричних проводів та кабелів",null,null,null,null,null,null,null,null,null,null,null,null,null,null,null,null,null,null,null,null,null,null,null,null,null,null,null,null,"Автономна Республіка Крим","Лаврове"]
[null,null,null,null,null,null,null,null,null,null,null,null,null,null,null,"27.33","Виробництво електромонтажних пристроїв",null,null,null,null,null,null,null,null,null,null,null,null,null,null,null,null,null,null,null,null,null,null,null,null,null,null,null,null,"Автономна Республіка Крим","Лазарівка"]
[null,null,null,null,null,null,null,null,null,null,null,null,null,null,null,"27.4","Виробництво електричного освітлювального устатковання",null,null,null,null,null,null,null,null,null,null,null,null,null,null,null,null,null,null,null,null,null,null,null,null,null,null,null,null,"Автономна Республіка Крим","Лазурне"]
[null,null,null,null,null,null,null,null,null,null,null,null,null,null,null,"27.40","Виробництво електричного освітлювального устатковання",null,null,null,null,null,null,null,null,null,null,null,null,null,null,null,null,null,null,null,null,null,null,null,null,null,null,null,null,"Автономна Республіка Крим","Лебединка"]
[null,null,null,null,null,null,null,null,null,null,null,null,null,null,null,"27.5","Виробництво побутових приладів",null,null,null,null,null,null,null,null,null,null,null,null,null,null,null,null,null,null,null,null,null,null,null,null,null,null,null,null,"Автономна Республіка Крим","Левадки"]
[null,null,null,null,null,null,null,null,null,null,null,null,null,null,null,"27.51","Виробництво електричних побутових приладів",null,null,null,null,null,null,null,null,null,null,null,null,null,null,null,null,null,null,null,null,null,null,null,null,null,null,null,null,"Автономна Республіка Крим","Левітанівка (Калінінської)"]
[null,null,null,null,null,null,null,null,null,null,null,null,null,null,null,"27.52","Виробництво неелектричних побутових приладів",null,null,null,null,null,null,null,null,null,null,null,null,null,null,null,null,null,null,null,null,null,null,null,null,null,null,null,null,"Автономна Республіка Крим","Леніне"]
[null,null,null,null,null,null,null,null,null,null,null,null,null,null,null,"27.9","Виробництво іншого електричного устатковання",null,null,null,null,null,null,null,null,null,null,null,null,null,null,null,null,null,null,null,null,null,null,null,null,null,null,null,null,"Автономна Республіка Крим","Ленінське"]
[null,null,null,null,null,null,null,null,null,null,null,null,null,null,null,"27.90","Виробництво іншого електричного устатковання",null,null,null,null,null,null,null,null,null,null,null,null,null,null,null,null,null,null,null,null,null,null,null,null,null,null,null,null,"Автономна Республіка Крим","Ленське"]
[null,null,null,null,null,null,null,null,null,null,null,null,null,null,null,"28","Виробництво машин і устатковання, н.в.і.у.",null,null,null,null,null,null,null,null,null,null,null,null,null,null,null,null,null,null,null,null,null,null,null,null,null,null,null,null,"Автономна Республіка Крим","Лиманне"]
[null,null,null,null,null,null,null,null,null,null,null,null,null,null,null,"28.1","Виробництво машин і устатковання загального призначення",null,null,null,null,null,null,null,null,null,null,null,null,null,null,null,null,null,null,null,null,null,null,null,null,null,null,null,null,"Автономна Республіка Крим","Листвинне"]
[null,null,null,null,null,null,null,null,null,null,null,null,null,null,null,"28.11","Виробництво двигунів і турбін, крім авіаційних, автотранспортних і мотоциклетних двигунів",null,null,null,null,null,null,null,null,null,null,null,null,null,null,null,null,null,null,null,null,null,null,null,null,null,null,null,null,"Автономна Республіка Крим","Листове"]
[null,null,null,null,null,null,null,null,null,null,null,null,null,null,null,"28.12","Виробництво гідравлічного та пневматичного устатковання",null,null,null,null,null,null,null,null,null,null,null,null,null,null,null,null,null,null,null,null,null,null,null,null,null,null,null,null,"Автономна Республіка Крим","Литвиненкове"]
[null,null,null,null,null,null,null,null,null,null,null,null,null,null,null,"28.13","Виробництво інших помп і компресорів",null,null,null,null,null,null,null,null,null,null,null,null,null,null,null,null,null,null,null,null,null,null,null,null,null,null,null,null,"Автономна Республіка Крим","Лібкнехтівка"]
[null,null,null,null,null,null,null,null,null,null,null,null,null,null,null,"28.14","Виробництво інших кранів і клапанів",null,null,null,null,null,null,null,null,null,null,null,null,null,null,null,null,null,null,null,null,null,null,null,null,null,null,null,null,"Автономна Республіка Крим","Лівадія"]
[null,null,null,null,null,null,null,null,null,null,null,null,null,null,null,"28.15","Виробництво підшипників, зубчастих передач, елементів механічних передач і приводів",null,null,null,null,null,null,null,null,null,null,null,null,null,null,null,null,null,null,null,null,null,null,null,null,null,null,null,null,"Автономна Республіка Крим","Лікарственне"]
[null,null,null,null,null,null,null,null,null,null,null,null,null,null,null,"28.2","Виробництво інших машин і устатковання загального призначення",null,null,null,null,null,null,null,null,null,null,null,null,null,null,null,null,null,null,null,null,null,null,null,null,null,null,null,null,"Автономна Республіка Крим","Лінійне"]
[null,null,null,null,null,null,null,null,null,null,null,null,null,null,null,"28.21","Виробництво духових шаф, печей і пічних пальників",null,null,null,null,null,null,null,null,null,null,null,null,null,null,null,null,null,null,null,null,null,null,null,null,null,null,null,null,"Автономна Республіка Крим","Лісне"]
[null,null,null,null,null,null,null,null,null,null,null,null,null,null,null,"28.22","Виробництво підіймального та вантажно-розвантажувального устатковання",null,null,null,null,null,null,null,null,null,null,null,null,null,null,null,null,null,null,null,null,null,null,null,null,null,null,null,null,"Автономна Республіка Крим","Ліснівка"]
[null,null,null,null,null,null,null,null,null,null,null,null,null,null,null,"28.23","Виробництво офісних машин і устатковання, крім комп'ютерів і периферійного устатковання",null,null,null,null,null,null,null,null,null,null,null,null,null,null,null,null,null,null,null,null,null,null,null,null,null,null,null,null,"Автономна Республіка Крим","Лісносілля"]
[null,null,null,null,null,null,null,null,null,null,null,null,null,null,null,"28.24","Виробництво ручних електромеханічних і пневматичних інструментів",null,null,null,null,null,null,null,null,null,null,null,null,null,null,null,null,null,null,null,null,null,null,null,null,null,null,null,null,"Автономна Республіка Крим","Лічебне"]
[null,null,null,null,null,null,null,null,null,null,null,null,null,null,null,"28.25","Виробництво промислового холодильного та вентиляційного устатковання",null,null,null,null,null,null,null,null,null,null,null,null,null,null,null,null,null,null,null,null,null,null,null,null,null,null,null,null,"Автономна Республіка Крим","Лобанове"]
[null,null,null,null,null,null,null,null,null,null,null,null,null,null,null,"28.29","Виробництво інших машин і устатковання загального призначення, н.в.і.у.",null,null,null,null,null,null,null,null,null,null,null,null,null,null,null,null,null,null,null,null,null,null,null,null,null,null,null,null,"Автономна Республіка Крим","Ломоносове"]
[null,null,null,null,null,null,null,null,null,null,null,null,null,null,null,"28.3","Виробництво машин і устатковання для сільського та лісового господарства",null,null,null,null,null,null,null,null,null,null,null,null,null,null,null,null,null,null,null,null,null,null,null,null,null,null,null,null,"Автономна Республіка Крим","Лохівка"]
[null,null,null,null,null,null,null,null,null,null,null,null,null,null,null,"28.30","Виробництво машин і устатковання для сільського та лісового господарства",null,null,null,null,null,null,null,null,null,null,null,null,null,null,null,null,null,null,null,null,null,null,null,null,null,null,null,null,"Автономна Республіка Крим","Луганське"]
[null,null,null,null,null,null,null,null,null,null,null,null,null,null,null,"28.4","Виробництво металообробних машин і верстатів",null,null,null,null,null,null,null,null,null,null,null,null,null,null,null,null,null,null,null,null,null,null,null,null,null,null,null,null,"Автономна Республіка Крим","Лугове"]
[null,null,null,null,null,null,null,null,null,null,null,null,null,null,null,"28.41","Виробництво металообробних машин",null,null,null,null,null,null,null,null,null,null,null,null,null,null,null,null,null,null,null,null,null,null,null,null,null,null,null,null,"Автономна Республіка Крим","Лугове (Сизівська)"]
[null,null,null,null,null,null,null,null,null,null,null,null,null,null,null,"28.49","Виробництво інших верстатів",null,null,null,null,null,null,null,null,null,null,null,null,null,null,null,null,null,null,null,null,null,null,null,null,null,null,null,null,"Автономна Республіка Крим","Лужки"]
[null,null,null,null,null,null,null,null,null,null,null,null,null,null,null,"28.9","Виробництво інших машин і устатковання спеціального призначення",null,null,null,null,null,null,null,null,null,null,null,null,null,null,null,null,null,null,null,null,null,null,null,null,null,null,null,null,"Автономна Республіка Крим","Лучисте"]
[null,null,null,null,null,null,null,null,null,null,null,null,null,null,null,"28.91","Виробництво машин і устатковання для металургії",null,null,null,null,null,null,null,null,null,null,null,null,null,null,null,null,null,null,null,null,null,null,null,null,null,null,null,null,"Автономна Республіка Крим","Лучове"]
[null,null,null,null,null,null,null,null,null,null,null,null,null,null,null,"28.92","Виробництво машин і устатковання для добувної промисловості та будівництва",null,null,null,null,null,null,null,null,null,null,null,null,null,null,null,null,null,null,null,null,null,null,null,null,null,null,null,null,"Автономна Республіка Крим","Лушине (Стовпівська)"]
[null,null,null,null,null,null,null,null,null,null,null,null,null,null,null,"28.93","Виробництво машин і устатковання для виготовлення харчових продуктів і напоїв, перероблення тютюну",null,null,null,null,null,null,null,null,null,null,null,null,null,null,null,null,null,null,null,null,null,null,null,null,null,null,null,null,"Автономна Республіка Крим","Любимівка"]
[null,null,null,null,null,null,null,null,null,null,null,null,null,null,null,"28.94","Виробництво машин і устатковання для виготовлення текстильних, швейних, хутряних і шкіряних виробів",null,null,null,null,null,null,null,null,null,null,null,null,null,null,null,null,null,null,null,null,null,null,null,null,null,null,null,null,"Автономна Республіка Крим","Львове"]
[null,null,null,null,null,null,null,null,null,null,null,null,null,null,null,"28.95","Виробництво машин і устатковання для виготовлення паперу та картону",null,null,null,null,null,null,null,null,null,null,null,null,null,null,null,null,null,null,null,null,null,null,null,null,null,null,null,null,"Автономна Республіка Крим","Льговське"]
[null,null,null,null,null,null,null,null,null,null,null,null,null,null,null,"28.96","Виробництво машин і устатковання для виготовлення пластмас і гуми",null,null,null,null,null,null,null,null,null,null,null,null,null,null,null,null,null,null,null,null,null,null,null,null,null,null,null,null,"Автономна Республіка Крим","Магазинка (Магазинська)"]
[null,null,null,null,null,null,null,null,null,null,null,null,null,null,null,"28.99","Виробництво інших машин і устатковання спеціального призначення, н.в.і.у.",null,null,null,null,null,null,null,null,null,null,null,null,null,null,null,null,null,null,null,null,null,null,null,null,null,null,null,null,"Автономна Республіка Крим","Мазанка"]
[null,null,null,null,null,null,null,null,null,null,null,null,null,null,null,"29","Виробництво автотранспортних засобів, причепів і напівпричепів",null,null,null,null,null,null,null,null,null,null,null,null,null,null,null,null,null,null,null,null,null,null,null,null,null,null,null,null,"Автономна Республіка Крим","Майське"]
[null,null,null,null,null,null,null,null,null,null,null,null,null,null,null,"29.1","Виробництво автотранспортних засобів",null,null,null,null,null,null,null,null,null,null,null,null,null,null,null,null,null,null,null,null,null,null,null,null,null,null,null,null,"Автономна Республіка Крим","Макарівка (Первомайської)"]
[null,null,null,null,null,null,null,null,null,null,null,null,null,null,null,"29.10","Виробництво автотранспортних засобів",null,null,null,null,null,null,null,null,null,null,null,null,null,null,null,null,null,null,null,null,null,null,null,null,null,null,null,null,"Автономна Республіка Крим","Маківка"]
[null,null,null,null,null,null,null,null,null,null,null,null,null,null,null,"29.2","Виробництво кузовів для автотранспортних засобів, причепів і напівпричепів",null,null,null,null,null,null,null,null,null,null,null,null,null,null,null,null,null,null,null,null,null,null,null,null,null,null,null,null,"Автономна Республіка Крим","Маківське"]
[null,null,null,null,null,null,null,null,null,null,null,null,null,null,null,"29.20","Виробництво кузовів для автотранспортних засобів, причепів і напівпричепів",null,null,null,null,null,null,null,null,null,null,null,null,null,null,null,null,null,null,null,null,null,null,null,null,null,null,null,null,"Автономна Республіка Крим","Максимівка (Руч'ївська сільська рада)"]
[null,null,null,null,null,null,null,null,null,null,null,null,null,null,null,"29.3","Виробництво вузлів, деталей і приладдя для автотранспортних засобів",null,null,null,null,null,null,null,null,null,null,null,null,null,null,null,null,null,null,null,null,null,null,null,null,null,null,null,null,"Автономна Республіка Крим","Мале Садове"]
[null,null,null,null,null,null,null,null,null,null,null,null,null,null,null,"29.31","Виробництво електричного й електронного устатковання для автотранспортних засобів",null,null,null,null,null,null,null,null,null,null,null,null,null,null,null,null,null,null,null,null,null,null,null,null,null,null,null,null,"Автономна Республіка Крим","Маленьке"]
[null,null,null,null,null,null,null,null,null,null,null,null,null,null,null,"29.32","Виробництво інших вузлів, деталей і приладдя для автотранспортних засобів",null,null,null,null,null,null,null,null,null,null,null,null,null,null,null,null,null,null,null,null,null,null,null,null,null,null,null,null,"Автономна Республіка Крим","Малий Маяк"]
[null,null,null,null,null,null,null,null,null,null,null,null,null,null,null,"30","Виробництво інших транспортних засобів",null,null,null,null,null,null,null,null,null,null,null,null,null,null,null,null,null,null,null,null,null,null,null,null,null,null,null,null,"Автономна Республіка Крим","Малинівка"]
[null,null,null,null,null,null,null,null,null,null,null,null,null,null,null,"30.1","Будування суден і човнів",null,null,null,null,null,null,null,null,null,null,null,null,null,null,null,null,null,null,null,null,null,null,null,null,null,null,null,null,"Автономна Республіка Крим","Маловидне"]
[null,null,null,null,null,null,null,null,null,null,null,null,null,null,null,"30.11","Будування суден і плавучих конструкцій",null,null,null,null,null,null,null,null,null,null,null,null,null,null,null,null,null,null,null,null,null,null,null,null,null,null,null,null,"Автономна Республіка Крим","Малоріченське"]
[null,null,null,null,null,null,null,null,null,null,null,null,null,null,null,"30.12","Будування прогулянкових і спортивних човнів",null,null,null,null,null,null,null,null,null,null,null,null,null,null,null,null,null,null,null,null,null,null,null,null,null,null,null,null,"Автономна Республіка Крим","Мар'ївка"]
[null,null,null,null,null,null,null,null,null,null,null,null,null,null,null,"30.2","Виробництво залізничних локомотивів і рухомого складу",null,null,null,null,null,null,null,null,null,null,null,null,null,null,null,null,null,null,null,null,null,null,null,null,null,null,null,null,"Автономна Республіка Крим","Мар'їне"]
[null,null,null,null,null,null,null,null,null,null,null,null,null,null,null,"30.20","Виробництво залізничних локомотивів і рухомого складу",null,null,null,null,null,null,null,null,null,null,null,null,null,null,null,null,null,null,null,null,null,null,null,null,null,null,null,null,"Автономна Республіка Крим","Маркове"]
[null,null,null,null,null,null,null,null,null,null,null,null,null,null,null,"30.3","Виробництво повітряних і космічних літальних апаратів, супутнього устатковання",null,null,null,null,null,null,null,null,null,null,null,null,null,null,null,null,null,null,null,null,null,null,null,null,null,null,null,null,"Автономна Республіка Крим","Мартинівка"]
[null,null,null,null,null,null,null,null,null,null,null,null,null,null,null,"30.30","Виробництво повітряних і космічних літальних апаратів, супутнього устатковання",null,null,null,null,null,null,null,null,null,null,null,null,null,null,null,null,null,null,null,null,null,null,null,null,null,null,null,null,"Автономна Республіка Крим","Марфівка"]
[null,null,null,null,null,null,null,null,null,null,null,null,null,null,null,"30.4","Виробництво військових транспортних засобів",null,null,null,null,null,null,null,null,null,null,null,null,null,null,null,null,null,null,null,null,null,null,null,null,null,null,null,null,"Автономна Республіка Крим","Мар'янівка"]
[null,null,null,null,null,null,null,null,null,null,null,null,null,null,null,"30.40","Виробництво військових транспортних засобів",null,null,null,null,null,null,null,null,null,null,null,null,null,null,null,null,null,null,null,null,null,null,null,null,null,null,null,null,"Автономна Республіка Крим","Масандра"]
[null,null,null,null,null,null,null,null,null,null,null,null,null,null,null,"30.9","Виробництво транспортних засобів, н.в.і.у.",null,null,null,null,null,null,null,null,null,null,null,null,null,null,null,null,null,null,null,null,null,null,null,null,null,null,null,null,"Автономна Республіка Крим","Маслове"]
[null,null,null,null,null,null,null,null,null,null,null,null,null,null,null,"30.91","Виробництво мотоциклів",null,null,null,null,null,null,null,null,null,null,null,null,null,null,null,null,null,null,null,null,null,null,null,null,null,null,null,null,"Автономна Республіка Крим","Матвіївка (Правдинської)"]
[null,null,null,null,null,null,null,null,null,null,null,null,null,null,null,"30.92","Виробництво велосипедів, дитячих та інвалідних колясок",null,null,null,null,null,null,null,null,null,null,null,null,null,null,null,null,null,null,null,null,null,null,null,null,null,null,null,null,"Автономна Республіка Крим","Матросівка"]
[null,null,null,null,null,null,null,null,null,null,null,null,null,null,null,"30.99","Виробництво інших транспортних засобів і обладнання, н.в.і.у.",null,null,null,null,null,null,null,null,null,null,null,null,null,null,null,null,null,null,null,null,null,null,null,null,null,null,null,null,"Автономна Республіка Крим","Машине"]
[null,null,null,null,null,null,null,null,null,null,null,null,null,null,null,"31","Виробництво меблів",null,null,null,null,null,null,null,null,null,null,null,null,null,null,null,null,null,null,null,null,null,null,null,null,null,null,null,null,"Автономна Республіка Крим","Маяк"]
[null,null,null,null,null,null,null,null,null,null,null,null,null,null,null,"31.0","Виробництво меблів",null,null,null,null,null,null,null,null,null,null,null,null,null,null,null,null,null,null,null,null,null,null,null,null,null,null,null,null,"Автономна Республіка Крим","Медведеве"]
[null,null,null,null,null,null,null,null,null,null,null,null,null,null,null,"31.01","Виробництво меблів для офісів і підприємств торгівлі",null,null,null,null,null,null,null,null,null,null,null,null,null,null,null,null,null,null,null,null,null,null,null,null,null,null,null,null,"Автономна Республіка Крим","Медведівка"]
[null,null,null,null,null,null,null,null,null,null,null,null,null,null,null,"31.02","Виробництво кухонних меблів",null,null,null,null,null,null,null,null,null,null,null,null,null,null,null,null,null,null,null,null,null,null,null,null,null,null,null,null,"Автономна Республіка Крим","Межове"]
[null,null,null,null,null,null,null,null,null,null,null,null,null,null,null,"31.03","Виробництво матраців",null,null,null,null,null,null,null,null,null,null,null,null,null,null,null,null,null,null,null,null,null,null,null,null,null,null,null,null,"Автономна Республіка Крим","Мелехове"]
[null,null,null,null,null,null,null,null,null,null,null,null,null,null,null,"31.09","Виробництво інших меблів",null,null,null,null,null,null,null,null,null,null,null,null,null,null,null,null,null,null,null,null,null,null,null,null,null,null,null,null,"Автономна Республіка Крим","Мельники"]
[null,null,null,null,null,null,null,null,null,null,null,null,null,null,null,"32","Виробництво іншої продукції",null,null,null,null,null,null,null,null,null,null,null,null,null,null,null,null,null,null,null,null,null,null,null,null,null,null,null,null,"Автономна Республіка Крим","Мельничне"]
[null,null,null,null,null,null,null,null,null,null,null,null,null,null,null,"32.1","Виробництво ювелірних виробів, біжутерії та подібних виробів",null,null,null,null,null,null,null,null,null,null,null,null,null,null,null,null,null,null,null,null,null,null,null,null,null,null,null,null,"Автономна Республіка Крим","Мельничне (Островської)"]
[null,null,null,null,null,null,null,null,null,null,null,null,null,null,null,"32.11","Карбування монет",null,null,null,null,null,null,null,null,null,null,null,null,null,null,null,null,null,null,null,null,null,null,null,null,null,null,null,null,"Автономна Республіка Крим","Менделєєве"]
[null,null,null,null,null,null,null,null,null,null,null,null,null,null,null,"32.12","Виробництво ювелірних і подібних виробів",null,null,null,null,null,null,null,null,null,null,null,null,null,null,null,null,null,null,null,null,null,null,null,null,null,null,null,null,"Автономна Республіка Крим","Миколаївка"]
[null,null,null,null,null,null,null,null,null,null,null,null,null,null,null,"32.13","Виробництво біжутерії та подібних виробів",null,null,null,null,null,null,null,null,null,null,null,null,null,null,null,null,null,null,null,null,null,null,null,null,null,null,null,null,"Автономна Республіка Крим","Миндальне"]
[null,null,null,null,null,null,null,null,null,null,null,null,null,null,null,"32.2","Виробництво музичних інструментів",null,null,null,null,null,null,null,null,null,null,null,null,null,null,null,null,null,null,null,null,null,null,null,null,null,null,null,null,"Автономна Республіка Крим","Мирний"]
[null,null,null,null,null,null,null,null,null,null,null,null,null,null,null,"32.20","Виробництво музичних інструментів",null,null,null,null,null,null,null,null,null,null,null,null,null,null,null,null,null,null,null,null,null,null,null,null,null,null,null,null,"Автономна Республіка Крим","Мирнівка"]
[null,null,null,null,null,null,null,null,null,null,null,null,null,null,null,"32.3","Виробництво спортивних товарів",null,null,null,null,null,null,null,null,null,null,null,null,null,null,null,null,null,null,null,null,null,null,null,null,null,null,null,null,"Автономна Республіка Крим","Миролюбівка"]
[null,null,null,null,null,null,null,null,null,null,null,null,null,null,null,"32.30","Виробництво спортивних товарів",null,null,null,null,null,null,null,null,null,null,null,null,null,null,null,null,null,null,null,null,null,null,null,null,null,null,null,null,"Автономна Республіка Крим","Миронівка"]
[null,null,null,null,null,null,null,null,null,null,null,null,null,null,null,"32.4","Виробництво ігор та іграшок",null,null,null,null,null,null,null,null,null,null,null,null,null,null,null,null,null,null,null,null,null,null,null,null,null,null,null,null,"Автономна Республіка Крим","Мисове"]
[null,null,null,null,null,null,null,null,null,null,null,null,null,null,null,"32.40","Виробництво ігор та іграшок",null,null,null,null,null,null,null,null,null,null,null,null,null,null,null,null,null,null,null,null,null,null,null,null,null,null,null,null,"Автономна Республіка Крим","Митрофанівка"]
[null,null,null,null,null,null,null,null,null,null,null,null,null,null,null,"32.5","Виробництво медичних і стоматологічних інструментів і матеріалів",null,null,null,null,null,null,null,null,null,null,null,null,null,null,null,null,null,null,null,null,null,null,null,null,null,null,null,null,"Автономна Республіка Крим","Митюрине"]
[null,null,null,null,null,null,null,null,null,null,null,null,null,null,null,"32.50","Виробництво медичних і стоматологічних інструментів і матеріалів",null,null,null,null,null,null,null,null,null,null,null,null,null,null,null,null,null,null,null,null,null,null,null,null,null,null,null,null,"Автономна Республіка Крим","Митяєве"]
[null,null,null,null,null,null,null,null,null,null,null,null,null,null,null,"32.9","Виробництво продукції, н.в.і.у.",null,null,null,null,null,null,null,null,null,null,null,null,null,null,null,null,null,null,null,null,null,null,null,null,null,null,null,null,"Автономна Республіка Крим","Михайлівка"]
[null,null,null,null,null,null,null,null,null,null,null,null,null,null,null,"32.91","Виробництво мітел і щіток",null,null,null,null,null,null,null,null,null,null,null,null,null,null,null,null,null,null,null,null,null,null,null,null,null,null,null,null,"Автономна Республіка Крим","Міжводне"]
[null,null,null,null,null,null,null,null,null,null,null,null,null,null,null,"32.99","Виробництво іншої продукції, н.в.і.у.",null,null,null,null,null,null,null,null,null,null,null,null,null,null,null,null,null,null,null,null,null,null,null,null,null,null,null,null,"Автономна Республіка Крим","Міжгірне"]
[null,null,null,null,null,null,null,null,null,null,null,null,null,null,null,"33","Ремонт і монтаж машин і устатковання",null,null,null,null,null,null,null,null,null,null,null,null,null,null,null,null,null,null,null,null,null,null,null,null,null,null,null,null,"Автономна Республіка Крим","Міжгір'я"]
[null,null,null,null,null,null,null,null,null,null,null,null,null,null,null,"33.1","Ремонт і технічне обслуговування готових металевих виробів, машин і устатковання",null,null,null,null,null,null,null,null,null,null,null,null,null,null,null,null,null,null,null,null,null,null,null,null,null,null,null,null,"Автономна Республіка Крим","Міжріччя"]
[null,null,null,null,null,null,null,null,null,null,null,null,null,null,null,"33.11","Ремонт і технічне обслуговування готових металевих виробів",null,null,null,null,null,null,null,null,null,null,null,null,null,null,null,null,null,null,null,null,null,null,null,null,null,null,null,null,"Автономна Республіка Крим","Мілководне"]
[null,null,null,null,null,null,null,null,null,null,null,null,null,null,null,"33.12","Ремонт і технічне обслуговування машин і устатковання промислового призначення",null,null,null,null,null,null,null,null,null,null,null,null,null,null,null,null,null,null,null,null,null,null,null,null,null,null,null,null,"Автономна Республіка Крим","Мічурінівка"]
[null,null,null,null,null,null,null,null,null,null,null,null,null,null,null,"33.13","Ремонт і технічне обслуговування електронного й оптичного устатковання",null,null,null,null,null,null,null,null,null,null,null,null,null,null,null,null,null,null,null,null,null,null,null,null,null,null,null,null,"Автономна Республіка Крим","Мічурінське"]
[null,null,null,null,null,null,null,null,null,null,null,null,null,null,null,"33.14","Ремонт і технічне обслуговування електричного устатковання",null,null,null,null,null,null,null,null,null,null,null,null,null,null,null,null,null,null,null,null,null,null,null,null,null,null,null,null,"Автономна Республіка Крим","Многоводне"]
[null,null,null,null,null,null,null,null,null,null,null,null,null,null,null,"33.15","Ремонт і технічне обслуговування суден і човнів",null,null,null,null,null,null,null,null,null,null,null,null,null,null,null,null,null,null,null,null,null,null,null,null,null,null,null,null,"Автономна Республіка Крим","Многоріччя"]
[null,null,null,null,null,null,null,null,null,null,null,null,null,null,null,"33.16","Ремонт і технічне обслуговування повітряних і космічних літальних апаратів",null,null,null,null,null,null,null,null,null,null,null,null,null,null,null,null,null,null,null,null,null,null,null,null,null,null,null,null,"Автономна Республіка Крим","Молодіжне"]
[null,null,null,null,null,null,null,null,null,null,null,null,null,null,null,"33.17","Ремонт і технічне обслуговування інших транспортних засобів",null,null,null,null,null,null,null,null,null,null,null,null,null,null,null,null,null,null,null,null,null,null,null,null,null,null,null,null,"Автономна Республіка Крим","Молочне"]
[null,null,null,null,null,null,null,null,null,null,null,null,null,null,null,"33.19","Ремонт і технічне обслуговування інших машин і устатковання",null,null,null,null,null,null,null,null,null,null,null,null,null,null,null,null,null,null,null,null,null,null,null,null,null,null,null,null,"Автономна Республіка Крим","Молочне (Ковильнівська сільська рада)"]
[null,null,null,null,null,null,null,null,null,null,null,null,null,null,null,"33.2","Установлення та монтаж машин і устатковання",null,null,null,null,null,null,null,null,null,null,null,null,null,null,null,null,null,null,null,null,null,null,null,null,null,null,null,null,"Автономна Республіка Крим","Морське"]
[null,null,null,null,null,null,null,null,null,null,null,null,null,null,null,"33.20","Установлення та монтаж машин і устатковання",null,null,null,null,null,null,null,null,null,null,null,null,null,null,null,null,null,null,null,null,null,null,null,null,null,null,null,null,"Автономна Республіка Крим","Мостове"]
[null,null,null,null,null,null,null,null,null,null,null,null,null,null,null,"D","Постачання електроенергії, газу, пари та кондиційованого повітря",null,null,null,null,null,null,null,null,null,null,null,null,null,null,null,null,null,null,null,null,null,null,null,null,null,null,null,null,"Автономна Республіка Крим","Мраморне"]
[null,null,null,null,null,null,null,null,null,null,null,null,null,null,null,"35","Постачання електроенергії, газу, пари та кондиційованого повітря",null,null,null,null,null,null,null,null,null,null,null,null,null,null,null,null,null,null,null,null,null,null,null,null,null,null,null,null,"Автономна Республіка Крим","Муромське"]
[null,null,null,null,null,null,null,null,null,null,null,null,null,null,null,"35.1","Виробництво, передача та розподілення електроенергії",null,null,null,null,null,null,null,null,null,null,null,null,null,null,null,null,null,null,null,null,null,null,null,null,null,null,null,null,"Автономна Республіка Крим","Мускатне"]
[null,null,null,null,null,null,null,null,null,null,null,null,null,null,null,"35.11","Виробництво електроенергії",null,null,null,null,null,null,null,null,null,null,null,null,null,null,null,null,null,null,null,null,null,null,null,null,null,null,null,null,"Автономна Республіка Крим","Набережне"]
[null,null,null,null,null,null,null,null,null,null,null,null,null,null,null,"35.12","Передача електроенергії",null,null,null,null,null,null,null,null,null,null,null,null,null,null,null,null,null,null,null,null,null,null,null,null,null,null,null,null,"Автономна Республіка Крим","Нагірне"]
[null,null,null,null,null,null,null,null,null,null,null,null,null,null,null,"35.13","Розподілення електроенергії",null,null,null,null,null,null,null,null,null,null,null,null,null,null,null,null,null,null,null,null,null,null,null,null,null,null,null,null,"Автономна Республіка Крим","Надежда"]
[null,null,null,null,null,null,null,null,null,null,null,null,null,null,null,"35.14","Торгівля електроенергією",null,null,null,null,null,null,null,null,null,null,null,null,null,null,null,null,null,null,null,null,null,null,null,null,null,null,null,null,"Автономна Республіка Крим","Надеждине (Красноармійська)"]
[null,null,null,null,null,null,null,null,null,null,null,null,null,null,null,"35.2","Виробництво газу; розподілення газоподібного палива через місцеві (локальні) трубопроводи",null,null,null,null,null,null,null,null,null,null,null,null,null,null,null,null,null,null,null,null,null,null,null,null,null,null,null,null,"Автономна Республіка Крим","Найдьонівка"]
[null,null,null,null,null,null,null,null,null,null,null,null,null,null,null,"35.21","Виробництво газу",null,null,null,null,null,null,null,null,null,null,null,null,null,null,null,null,null,null,null,null,null,null,null,null,null,null,null,null,"Автономна Республіка Крим","Наникове"]
[null,null,null,null,null,null,null,null,null,null,null,null,null,null,null,"35.22","Розподілення газоподібного палива через місцеві (локальні) трубопроводи",null,null,null,null,null,null,null,null,null,null,null,null,null,null,null,null,null,null,null,null,null,null,null,null,null,null,null,null,"Автономна Республіка Крим","Насипне"]
[null,null,null,null,null,null,null,null,null,null,null,null,null,null,null,"35.23","Торгівля газом через місцеві (локальні) трубопроводи",null,null,null,null,null,null,null,null,null,null,null,null,null,null,null,null,null,null,null,null,null,null,null,null,null,null,null,null,"Автономна Республіка Крим","Наташине"]
[null,null,null,null,null,null,null,null,null,null,null,null,null,null,null,"35.3","Постачання пари, гарячої води та кондиційованого повітря",null,null,null,null,null,null,null,null,null,null,null,null,null,null,null,null,null,null,null,null,null,null,null,null,null,null,null,null,"Автономна Республіка Крим","Наумівка"]
[null,null,null,null,null,null,null,null,null,null,null,null,null,null,null,"35.30","Постачання пари, гарячої води та кондиційованого повітря",null,null,null,null,null,null,null,null,null,null,null,null,null,null,null,null,null,null,null,null,null,null,null,null,null,null,null,null,"Автономна Республіка Крим","Научний"]
[null,null,null,null,null,null,null,null,null,null,null,null,null,null,null,"E","Водопостачання; каналізація, поводження з відходами",null,null,null,null,null,null,null,null,null,null,null,null,null,null,null,null,null,null,null,null,null,null,null,null,null,null,null,null,"Автономна Республіка Крим","Нахідка"]
[null,null,null,null,null,null,null,null,null,null,null,null,null,null,null,"36","Забір, очищення та постачання води",null,null,null,null,null,null,null,null,null,null,null,null,null,null,null,null,null,null,null,null,null,null,null,null,null,null,null,null,"Автономна Республіка Крим","Нахімове"]
[null,null,null,null,null,null,null,null,null,null,null,null,null,null,null,"36.0","Забір, очищення та постачання води",null,null,null,null,null,null,null,null,null,null,null,null,null,null,null,null,null,null,null,null,null,null,null,null,null,null,null,null,"Автономна Республіка Крим","Невське"]
[null,null,null,null,null,null,null,null,null,null,null,null,null,null,null,"36.00","Забір очищення та постачання води",null,null,null,null,null,null,null,null,null,null,null,null,null,null,null,null,null,null,null,null,null,null,null,null,null,null,null,null,"Автономна Республіка Крим","Некрасове"]
[null,null,null,null,null,null,null,null,null,null,null,null,null,null,null,"37","Каналізація, відведення й очищення стічних вод",null,null,null,null,null,null,null,null,null,null,null,null,null,null,null,null,null,null,null,null,null,null,null,null,null,null,null,null,"Автономна Республіка Крим","Некрасовка"]
[null,null,null,null,null,null,null,null,null,null,null,null,null,null,null,"37.0","Каналізація, відведення й очищення стічних вод",null,null,null,null,null,null,null,null,null,null,null,null,null,null,null,null,null,null,null,null,null,null,null,null,null,null,null,null,"Автономна Республіка Крим","Нива"]
[null,null,null,null,null,null,null,null,null,null,null,null,null,null,null,"37.00","Каналізація, відведення й очищення стічних вод",null,null,null,null,null,null,null,null,null,null,null,null,null,null,null,null,null,null,null,null,null,null,null,null,null,null,null,null,"Автономна Республіка Крим","Нива (Березівська)"]
[null,null,null,null,null,null,null,null,null,null,null,null,null,null,null,"38","Збирання, оброблення й видалення відходів; відновлення матеріалів",null,null,null,null,null,null,null,null,null,null,null,null,null,null,null,null,null,null,null,null,null,null,null,null,null,null,null,null,"Автономна Республіка Крим","Нижнє Запрудне"]
[null,null,null,null,null,null,null,null,null,null,null,null,null,null,null,"38.1","Збирання відходів",null,null,null,null,null,null,null,null,null,null,null,null,null,null,null,null,null,null,null,null,null,null,null,null,null,null,null,null,"Автономна Республіка Крим","Нижні Орішники"]
[null,null,null,null,null,null,null,null,null,null,null,null,null,null,null,"38.11","Збирання безпечних відходів",null,null,null,null,null,null,null,null,null,null,null,null,null,null,null,null,null,null,null,null,null,null,null,null,null,null,null,null,"Автономна Республіка Крим","Нижні Острожки"]
[null,null,null,null,null,null,null,null,null,null,null,null,null,null,null,"38.12","Збирання небезпечних відходів",null,null,null,null,null,null,null,null,null,null,null,null,null,null,null,null,null,null,null,null,null,null,null,null,null,null,null,null,"Автономна Республіка Крим","Нижня Голубинка"]
[null,null,null,null,null,null,null,null,null,null,null,null,null,null,null,"38.2","Оброблення та видалення відходів",null,null,null,null,null,null,null,null,null,null,null,null,null,null,null,null,null,null,null,null,null,null,null,null,null,null,null,null,"Автономна Республіка Крим","Нижня Кутузовка"]
[null,null,null,null,null,null,null,null,null,null,null,null,null,null,null,"38.21","Оброблення та видалення безпечних відходів",null,null,null,null,null,null,null,null,null,null,null,null,null,null,null,null,null,null,null,null,null,null,null,null,null,null,null,null,"Автономна Республіка Крим","Нижньогірський"]
[null,null,null,null,null,null,null,null,null,null,null,null,null,null,null,"38.22","Оброблення та видалення небезпечних відходів",null,null,null,null,null,null,null,null,null,null,null,null,null,null,null,null,null,null,null,null,null,null,null,null,null,null,null,null,"Автономна Республіка Крим","Нижньозаморське"]
[null,null,null,null,null,null,null,null,null,null,null,null,null,null,null,"38.3","Відновлення матеріалів",null,null,null,null,null,null,null,null,null,null,null,null,null,null,null,null,null,null,null,null,null,null,null,null,null,null,null,null,"Автономна Республіка Крим","Нижньокурганне"]
[null,null,null,null,null,null,null,null,null,null,null,null,null,null,null,"38.31","Демонтаж (розбирання) машин і устатковання",null,null,null,null,null,null,null,null,null,null,null,null,null,null,null,null,null,null,null,null,null,null,null,null,null,null,null,null,"Автономна Республіка Крим","Низинне"]
[null,null,null,null,null,null,null,null,null,null,null,null,null,null,null,"38.32","Відновлення відсортованих відходів",null,null,null,null,null,null,null,null,null,null,null,null,null,null,null,null,null,null,null,null,null,null,null,null,null,null,null,null,"Автономна Республіка Крим","Низинне (Зерновська)"]
[null,null,null,null,null,null,null,null,null,null,null,null,null,null,null,"39","Інша діяльність щодо поводження з відходами",null,null,null,null,null,null,null,null,null,null,null,null,null,null,null,null,null,null,null,null,null,null,null,null,null,null,null,null,"Автономна Республіка Крим","Низівка"]
[null,null,null,null,null,null,null,null,null,null,null,null,null,null,null,"39.0","Інша діяльність щодо поводження з відходами",null,null,null,null,null,null,null,null,null,null,null,null,null,null,null,null,null,null,null,null,null,null,null,null,null,null,null,null,"Автономна Республіка Крим","Ніжинське"]
[null,null,null,null,null,null,null,null,null,null,null,null,null,null,null,"39.00","Інша діяльність щодо поводження з відходами",null,null,null,null,null,null,null,null,null,null,null,null,null,null,null,null,null,null,null,null,null,null,null,null,null,null,null,null,"Автономна Республіка Крим","Нікіта"]
[null,null,null,null,null,null,null,null,null,null,null,null,null,null,null,"F","Будівництво",null,null,null,null,null,null,null,null,null,null,null,null,null,null,null,null,null,null,null,null,null,null,null,null,null,null,null,null,"Автономна Республіка Крим","Нова Деревня (Крестянівскої)"]
[null,null,null,null,null,null,null,null,null,null,null,null,null,null,null,"41","Будівництво будівель",null,null,null,null,null,null,null,null,null,null,null,null,null,null,null,null,null,null,null,null,null,null,null,null,null,null,null,null,"Автономна Республіка Крим","Нове  Життя"]
[null,null,null,null,null,null,null,null,null,null,null,null,null,null,null,"41.1","Організація будівництва будівель",null,null,null,null,null,null,null,null,null,null,null,null,null,null,null,null,null,null,null,null,null,null,null,null,null,null,null,null,"Автономна Республіка Крим","Новеньке"]
[null,null,null,null,null,null,null,null,null,null,null,null,null,null,null,"41.10","Організація будівництва будівель",null,null,null,null,null,null,null,null,null,null,null,null,null,null,null,null,null,null,null,null,null,null,null,null,null,null,null,null,"Автономна Республіка Крим","Новий Мир"]
[null,null,null,null,null,null,null,null,null,null,null,null,null,null,null,"41.2","Будівництво житлових і нежитлових будівель",null,null,null,null,null,null,null,null,null,null,null,null,null,null,null,null,null,null,null,null,null,null,null,null,null,null,null,null,"Автономна Республіка Крим","Новий Сад"]
[null,null,null,null,null,null,null,null,null,null,null,null,null,null,null,"41.20","Будівництво житлових і нежитлових будівель",null,null,null,null,null,null,null,null,null,null,null,null,null,null,null,null,null,null,null,null,null,null,null,null,null,null,null,null,"Автономна Республіка Крим","Новий Світ"]
[null,null,null,null,null,null,null,null,null,null,null,null,null,null,null,"42","Будівництво споруд",null,null,null,null,null,null,null,null,null,null,null,null,null,null,null,null,null,null,null,null,null,null,null,null,null,null,null,null,"Автономна Республіка Крим","Новоандріївка"]
[null,null,null,null,null,null,null,null,null,null,null,null,null,null,null,"42.1","Будівництво доріг і залізниць",null,null,null,null,null,null,null,null,null,null,null,null,null,null,null,null,null,null,null,null,null,null,null,null,null,null,null,null,"Автономна Республіка Крим","Нововасилівка"]
[null,null,null,null,null,null,null,null,null,null,null,null,null,null,null,"42.11","Будівництво доріг і автострад",null,null,null,null,null,null,null,null,null,null,null,null,null,null,null,null,null,null,null,null,null,null,null,null,null,null,null,null,"Автономна Республіка Крим","Нововідрадне"]
[null,null,null,null,null,null,null,null,null,null,null,null,null,null,null,"42.12","Будівництво залізниць і метрополітену",null,null,null,null,null,null,null,null,null,null,null,null,null,null,null,null,null,null,null,null,null,null,null,null,null,null,null,null,"Автономна Республіка Крим","Новогригорівка"]
[null,null,null,null,null,null,null,null,null,null,null,null,null,null,null,"42.13","Будівництво мостів і тунелів",null,null,null,null,null,null,null,null,null,null,null,null,null,null,null,null,null,null,null,null,null,null,null,null,null,null,null,null,"Автономна Республіка Крим","Новодолинка"]
[null,null,null,null,null,null,null,null,null,null,null,null,null,null,null,"42.2","Будівництво комунікацій",null,null,null,null,null,null,null,null,null,null,null,null,null,null,null,null,null,null,null,null,null,null,null,null,null,null,null,null,"Автономна Республіка Крим","Новоестонія"]
[null,null,null,null,null,null,null,null,null,null,null,null,null,null,null,"42.21","Будівництво трубопроводів",null,null,null,null,null,null,null,null,null,null,null,null,null,null,null,null,null,null,null,null,null,null,null,null,null,null,null,null,"Автономна Республіка Крим","Новожилівка"]
[null,null,null,null,null,null,null,null,null,null,null,null,null,null,null,"42.22","Будівництво споруд електропостачання та телекомунікацій",null,null,null,null,null,null,null,null,null,null,null,null,null,null,null,null,null,null,null,null,null,null,null,null,null,null,null,null,"Автономна Республіка Крим","Новозбур'ївка"]
[null,null,null,null,null,null,null,null,null,null,null,null,null,null,null,"42.9","Будівництво інших споруд",null,null,null,null,null,null,null,null,null,null,null,null,null,null,null,null,null,null,null,null,null,null,null,null,null,null,null,null,"Автономна Республіка Крим","Новозуївка"]
[null,null,null,null,null,null,null,null,null,null,null,null,null,null,null,"42.91","Будівництво водних споруд",null,null,null,null,null,null,null,null,null,null,null,null,null,null,null,null,null,null,null,null,null,null,null,null,null,null,null,null,"Автономна Республіка Крим","Новоіванівка"]
[null,null,null,null,null,null,null,null,null,null,null,null,null,null,null,"42.99","Будівництво інших споруд, н.в.і.у.",null,null,null,null,null,null,null,null,null,null,null,null,null,null,null,null,null,null,null,null,null,null,null,null,null,null,null,null,"Автономна Республіка Крим","Новоіванівка (Магазинська)"]
[null,null,null,null,null,null,null,null,null,null,null,null,null,null,null,"43","Спеціалізовані будівельні роботи",null,null,null,null,null,null,null,null,null,null,null,null,null,null,null,null,null,null,null,null,null,null,null,null,null,null,null,null,"Автономна Республіка Крим","Новокатеринівка"]
[null,null,null,null,null,null,null,null,null,null,null,null,null,null,null,"43.1","Знесення та підготовчі роботи на будівельному майданчику",null,null,null,null,null,null,null,null,null,null,null,null,null,null,null,null,null,null,null,null,null,null,null,null,null,null,null,null,"Автономна Республіка Крим","Новокленове"]
[null,null,null,null,null,null,null,null,null,null,null,null,null,null,null,"43.11","Знесення",null,null,null,null,null,null,null,null,null,null,null,null,null,null,null,null,null,null,null,null,null,null,null,null,null,null,null,null,"Автономна Республіка Крим","Новокостянтинівка"]
[null,null,null,null,null,null,null,null,null,null,null,null,null,null,null,"43.12","Підготовчі роботи на будівельному майданчику",null,null,null,null,null,null,null,null,null,null,null,null,null,null,null,null,null,null,null,null,null,null,null,null,null,null,null,null,"Автономна Республіка Крим","Новокримське"]
[null,null,null,null,null,null,null,null,null,null,null,null,null,null,null,"43.13","Розвідувальне буріння",null,null,null,null,null,null,null,null,null,null,null,null,null,null,null,null,null,null,null,null,null,null,null,null,null,null,null,null,"Автономна Республіка Крим","Новомикільське"]
[null,null,null,null,null,null,null,null,null,null,null,null,null,null,null,"43.2","Електромонтажні, водопровідні та інші будівельно-монтажні роботи",null,null,null,null,null,null,null,null,null,null,null,null,null,null,null,null,null,null,null,null,null,null,null,null,null,null,null,null,"Автономна Республіка Крим","Новомиколаївка"]
[null,null,null,null,null,null,null,null,null,null,null,null,null,null,null,"43.21","Електромонтажні роботи",null,null,null,null,null,null,null,null,null,null,null,null,null,null,null,null,null,null,null,null,null,null,null,null,null,null,null,null,"Автономна Республіка Крим","Новомиколаївка (Орлівської)"]
[null,null,null,null,null,null,null,null,null,null,null,null,null,null,null,"43.22","Монтаж водопровідних мереж, систем опалення та кондиціонування",null,null,null,null,null,null,null,null,null,null,null,null,null,null,null,null,null,null,null,null,null,null,null,null,null,null,null,null,"Автономна Республіка Крим","Новоозерне"]
[null,null,null,null,null,null,null,null,null,null,null,null,null,null,null,"43.29","Інші будівельно-монтажні роботи",null,null,null,null,null,null,null,null,null,null,null,null,null,null,null,null,null,null,null,null,null,null,null,null,null,null,null,null,"Автономна Республіка Крим","Новоолександрівка (Магазинської)"]
[null,null,null,null,null,null,null,null,null,null,null,null,null,null,null,"43.3","Роботи із завершення будівництва",null,null,null,null,null,null,null,null,null,null,null,null,null,null,null,null,null,null,null,null,null,null,null,null,null,null,null,null,"Автономна Республіка Крим","Новоолексіївка"]
[null,null,null,null,null,null,null,null,null,null,null,null,null,null,null,"43.31","Штукатурні роботи",null,null,null,null,null,null,null,null,null,null,null,null,null,null,null,null,null,null,null,null,null,null,null,null,null,null,null,null,"Автономна Республіка Крим","Новопавлівка"]
[null,null,null,null,null,null,null,null,null,null,null,null,null,null,null,"43.32","Установлення столярних виробів",null,null,null,null,null,null,null,null,null,null,null,null,null,null,null,null,null,null,null,null,null,null,null,null,null,null,null,null,"Автономна Республіка Крим","Новопавлівка (Новопавлівської)"]
[null,null,null,null,null,null,null,null,null,null,null,null,null,null,null,"46.24","Оптова торгівля шкірсировиною, шкурами та шкірою",null,null,null,null,null,null,null,null,null,null,null,null,null,null,null,null,null,null,null,null,null,null,null,null,null,null,null,null,"Автономна Республіка Крим","Опушки"]
[null,null,null,null,null,null,null,null,null,null,null,null,null,null,null,"46.61","Оптова торгівля сільськогосподарськими машинами й устаткованням",null,null,null,null,null,null,null,null,null,null,null,null,null,null,null,null,null,null,null,null,null,null,null,null,null,null,null,null,"Автономна Республіка Крим","Первомайське (Первомайської)"]
[null,null,null,null,null,null,null,null,null,null,null,null,null,null,null,"47.11","Роздрібна торгівля в неспеціалізованих магазинах переважно продуктами харчування, напоями та тютюновими виробами",null,null,null,null,null,null,null,null,null,null,null,null,null,null,null,null,null,null,null,null,null,null,null,null,null,null,null,null,"Автономна Республіка Крим","Побєдне"]
[null,null,null,null,null,null,null,null,null,null,null,null,null,null,null,"50.2","Вантажний морський транспорт",null,null,null,null,null,null,null,null,null,null,null,null,null,null,null,null,null,null,null,null,null,null,null,null,null,null,null,null,"Автономна Республіка Крим","Розкішне"]
[null,null,null,null,null,null,null,null,null,null,null,null,null,null,null,"52.24","Транспортне оброблення вантажів",null,null,null,null,null,null,null,null,null,null,null,null,null,null,null,null,null,null,null,null,null,null,null,null,null,null,null,null,"Автономна Республіка Крим","Санаторне"]
[null,null,null,null,null,null,null,null,null,null,null,null,null,null,null,"61.90","Інша діяльність у сфері електрозв'язку",null,null,null,null,null,null,null,null,null,null,null,null,null,null,null,null,null,null,null,null,null,null,null,null,null,null,null,null,"Автономна Республіка Крим","Степне (Степновської)"]
[null,null,null,null,null,null,null,null,null,null,null,null,null,null,null,"64.91","Фінансовий лізинг",null,null,null,null,null,null,null,null,null,null,null,null,null,null,null,null,null,null,null,null,null,null,null,null,null,null,null,null,"Автономна Республіка Крим","Тепле"]
[null,null,null,null,null,null,null,null,null,null,null,null,null,null,null,"73.2","Дослідження кон'юнктури ринку та виявлення громадської думки",null,null,null,null,null,null,null,null,null,null,null,null,null,null,null,null,null,null,null,null,null,null,null,null,null,null,null,null,"Автономна Республіка Крим","Цвіточне"]
[null,null,null,null,null,null,null,null,null,null,null,null,null,null,null,"77.32","Надання в оренду будівельних машин і устатковання",null,null,null,null,null,null,null,null,null,null,null,null,null,null,null,null,null,null,null,null,null,null,null,null,null,null,null,null,"Автономна Республіка Крим","Шаумян"]
[null,null,null,null,null,null,null,null,null,null,null,null,null,null,null,"79.90","Надання інших послуг із бронювання та пов'язана з цим діяльність",null,null,null,null,null,null,null,null,null,null,null,null,null,null,null,null,null,null,null,null,null,null,null,null,null,null,null,null,"Автономна Республіка Крим","Яковлівка"]
[null,null,null,null,null,null,null,null,null,null,null,null,null,null,null,"85.52","Освіта у сфері культури",null,null,null,null,null,null,null,null,null,null,null,null,null,null,null,null,null,null,null,null,null,null,null,null,null,null,null,null,"Вінницька","Бохоники"]
[null,null,null,null,null,null,null,null,null,null,null,null,null,null,null,"88.1","Надання соціальної допомоги без забезпечення проживання для осіб похилого віку та інвалідів",null,null,null,null,null,null,null,null,null,null,null,null,null,null,null,null,null,null,null,null,null,null,null,null,null,null,null,null,"Вінницька","Васютинці"]
[null,null,null,null,null,null,null,null,null,null,null,null,null,null,null,"96.04","Діяльність із забезпечення фізичного комфорту",null,null,null,null,null,null,null,null,null,null,null,null,null,null,null,null,null,null,null,null,null,null,null,null,null,null,null,null,"Вінницька","Глибока долина"]
[null,null,null,null,null,null,null,null,null,null,null,null,null,null,null,null,null,null,null,null,null,null,null,null,null,null,null,null,null,null,null,null,null,null,null,null,null,null,null,null,null,null,null,null,null,"Вінницька","Гриненки"]
[null,null,null,null,null,null,null,null,null,null,null,null,null,null,null,null,null,null,null,null,null,null,null,null,null,null,null,null,null,null,null,null,null,null,null,null,null,null,null,null,null,null,null,null,null,"Вінницька","Жабелівка"]
[null,null,null,null,null,null,null,null,null,null,null,null,null,null,null,null,null,null,null,null,null,null,null,null,null,null,null,null,null,null,null,null,null,null,null,null,null,null,null,null,null,null,null,null,null,"Вінницька","Закриниччя"]
[null,null,null,null,null,null,null,null,null,null,null,null,null,null,null,null,null,null,null,null,null,null,null,null,null,null,null,null,null,null,null,null,null,null,null,null,null,null,null,null,null,null,null,null,null,"Вінницька","Кисляк (Карбівська сільська рада)"]
[null,null,null,null,null,null,null,null,null,null,null,null,null,null,null,null,null,null,null,null,null,null,null,null,null,null,null,null,null,null,null,null,null,null,null,null,null,null,null,null,null,null,null,null,null,"Вінницька","Комаргородське, селище"]
[null,null,null,null,null,null,null,null,null,null,null,null,null,null,null,null,null,null,null,null,null,null,null,null,null,null,null,null,null,null,null,null,null,null,null,null,null,null,null,null,null,null,null,null,null,"Вінницька","Куманівці"]
[null,null,null,null,null,null,null,null,null,null,null,null,null,null,null,null,null,null,null,null,null,null,null,null,null,null,null,null,null,null,null,null,null,null,null,null,null,null,null,null,null,null,null,null,null,"Вінницька","Лип'ятин"]
[null,null,null,null,null,null,null,null,null,null,null,null,null,null,null,null,null,null,null,null,null,null,null,null,null,null,null,null,null,null,null,null,null,null,null,null,null,null,null,null,null,null,null,null,null,"Вінницька","Мар'янівське, селище"]
[null,null,null,null,null,null,null,null,null,null,null,null,null,null,null,null,null,null,null,null,null,null,null,null,null,null,null,null,null,null,null,null,null,null,null,null,null,null,null,null,null,null,null,null,null,"Вінницька","Мончинці"]
[null,null,null,null,null,null,null,null,null,null,null,null,null,null,null,null,null,null,null,null,null,null,null,null,null,null,null,null,null,null,null,null,null,null,null,null,null,null,null,null,null,null,null,null,null,"Вінницька","Нишівці"]
[null,null,null,null,null,null,null,null,null,null,null,null,null,null,null,null,null,null,null,null,null,null,null,null,null,null,null,null,null,null,null,null,null,null,null,null,null,null,null,null,null,null,null,null,null,"Вінницька","Петрунівка"]
[null,null,null,null,null,null,null,null,null,null,null,null,null,null,null,null,null,null,null,null,null,null,null,null,null,null,null,null,null,null,null,null,null,null,null,null,null,null,null,null,null,null,null,null,null,"Вінницька","Польова Лисіївка"]
[null,null,null,null,null,null,null,null,null,null,null,null,null,null,null,null,null,null,null,null,null,null,null,null,null,null,null,null,null,null,null,null,null,null,null,null,null,null,null,null,null,null,null,null,null,"Вінницька","Саїнка"]
[null,null,null,null,null,null,null,null,null,null,null,null,null,null,null,null,null,null,null,null,null,null,null,null,null,null,null,null,null,null,null,null,null,null,null,null,null,null,null,null,null,null,null,null,null,"Вінницька","Сиваківці"]
[null,null,null,null,null,null,null,null,null,null,null,null,null,null,null,null,null,null,null,null,null,null,null,null,null,null,null,null,null,null,null,null,null,null,null,null,null,null,null,null,null,null,null,null,null,"Вінницька","Сподахи"]
[null,null,null,null,null,null,null,null,null,null,null,null,null,null,null,null,null,null,null,null,null,null,null,null,null,null,null,null,null,null,null,null,null,null,null,null,null,null,null,null,null,null,null,null,null,"Вінницька","Теси"]
[null,null,null,null,null,null,null,null,null,null,null,null,null,null,null,null,null,null,null,null,null,null,null,null,null,null,null,null,null,null,null,null,null,null,null,null,null,null,null,null,null,null,null,null,null,"Вінницька","Уладівське"]
[null,null,null,null,null,null,null,null,null,null,null,null,null,null,null,null,null,null,null,null,null,null,null,null,null,null,null,null,null,null,null,null,null,null,null,null,null,null,null,null,null,null,null,null,null,"Вінницька","Шипинки"]
[null,null,null,null,null,null,null,null,null,null,null,null,null,null,null,null,null,null,null,null,null,null,null,null,null,null,null,null,null,null,null,null,null,null,null,null,null,null,null,null,null,null,null,null,null,"Вінницька","Щучинці"]
[null,null,null,null,null,null,null,null,null,null,null,null,null,null,null,null,null,null,null,null,null,null,null,null,null,null,null,null,null,null,null,null,null,null,null,null,null,null,null,null,null,null,null,null,null,"Волинська","Ботин"]
[null,null,null,null,null,null,null,null,null,null,null,null,null,null,null,null,null,null,null,null,null,null,null,null,null,null,null,null,null,null,null,null,null,null,null,null,null,null,null,null,null,null,null,null,null,"Волинська","Буяни"]
[null,null,null,null,null,null,null,null,null,null,null,null,null,null,null,null,null,null,null,null,null,null,null,null,null,null,null,null,null,null,null,null,null,null,null,null,null,null,null,null,null,null,null,null,null,"Волинська","Воля Свійчівська"]
[null,null,null,null,null,null,null,null,null,null,null,null,null,null,null,null,null,null,null,null,null,null,null,null,null,null,null,null,null,null,null,null,null,null,null,null,null,null,null,null,null,null,null,null,null,"Волинська","Горохів"]
[null,null,null,null,null,null,null,null,null,null,null,null,null,null,null,null,null,null,null,null,null,null,null,null,null,null,null,null,null,null,null,null,null,null,null,null,null,null,null,null,null,null,null,null,null,"Волинська","Гупали"]
[null,null,null,null,null,null,null,null,null,null,null,null,null,null,null,null,null,null,null,null,null,null,null,null,null,null,null,null,null,null,null,null,null,null,null,null,null,null,null,null,null,null,null,null,null,"Волинська","Запілля"]
[null,null,null,null,null,null,null,null,null,null,null,null,null,null,null,null,null,null,null,null,null,null,null,null,null,null,null,null,null,null,null,null,null,null,null,null,null,null,null,null,null,null,null,null,null,"Волинська","Зміїнець"]
[null,null,null,null,null,null,null,null,null,null,null,null,null,null,null,null,null,null,null,null,null,null,null,null,null,null,null,null,null,null,null,null,null,null,null,null,null,null,null,null,null,null,null,null,null,"Волинська","Краснодуб'я"]
[null,null,null,null,null,null,null,null,null,null,null,null,null,null,null,null,null,null,null,null,null,null,null,null,null,null,null,null,null,null,null,null,null,null,null,null,null,null,null,null,null,null,null,null,null,"Волинська","Кутрів"]
[null,null,null,null,null,null,null,null,null,null,null,null,null,null,null,null,null,null,null,null,null,null,null,null,null,null,null,null,null,null,null,null,null,null,null,null,null,null,null,null,null,null,null,null,null,"Волинська","Любешівська Воля"]
[null,null,null,null,null,null,null,null,null,null,null,null,null,null,null,null,null,null,null,null,null,null,null,null,null,null,null,null,null,null,null,null,null,null,null,null,null,null,null,null,null,null,null,null,null,"Волинська","Мировичі"]
[null,null,null,null,null,null,null,null,null,null,null,null,null,null,null,null,null,null,null,null,null,null,null,null,null,null,null,null,null,null,null,null,null,null,null,null,null,null,null,null,null,null,null,null,null,"Волинська","Муравище"]
[null,null,null,null,null,null,null,null,null,null,null,null,null,null,null,null,null,null,null,null,null,null,null,null,null,null,null,null,null,null,null,null,null,null,null,null,null,null,null,null,null,null,null,null,null,"Волинська","Осекрів"]
[null,null,null,null,null,null,null,null,null,null,null,null,null,null,null,null,null,null,null,null,null,null,null,null,null,null,null,null,null,null,null,null,null,null,null,null,null,null,null,null,null,null,null,null,null,"Волинська","Писарева Воля"]
[null,null,null,null,null,null,null,null,null,null,null,null,null,null,null,null,null,null,null,null,null,null,null,null,null,null,null,null,null,null,null,null,null,null,null,null,null,null,null,null,null,null,null,null,null,"Волинська","Рокині"]
[null,null,null,null,null,null,null,null,null,null,null,null,null,null,null,null,null,null,null,null,null,null,null,null,null,null,null,null,null,null,null,null,null,null,null,null,null,null,null,null,null,null,null,null,null,"Волинська","Серкизів"]
[null,null,null,null,null,null,null,null,null,null,null,null,null,null,null,null,null,null,null,null,null,null,null,null,null,null,null,null,null,null,null,null,null,null,null,null,null,null,null,null,null,null,null,null,null,"Волинська","Тагачин"]
[null,null,null,null,null,null,null,null,null,null,null,null,null,null,null,null,null,null,null,null,null,null,null,null,null,null,null,null,null,null,null,null,null,null,null,null,null,null,null,null,null,null,null,null,null,"Волинська","Трубки"]
[null,null,null,null,null,null,null,null,null,null,null,null,null,null,null,null,null,null,null,null,null,null,null,null,null,null,null,null,null,null,null,null,null,null,null,null,null,null,null,null,null,null,null,null,null,"Волинська","Холоневичі"]
[null,null,null,null,null,null,null,null,null,null,null,null,null,null,null,null,null,null,null,null,null,null,null,null,null,null,null,null,null,null,null,null,null,null,null,null,null,null,null,null,null,null,null,null,null,"Волинська","Якушів"]
[null,null,null,null,null,null,null,null,null,null,null,null,null,null,null,null,null,null,null,null,null,null,null,null,null,null,null,null,null,null,null,null,null,null,null,null,null,null,null,null,null,null,null,null,null,"Дніпропетровська","Антонівське"]
[null,null,null,null,null,null,null,null,null,null,null,null,null,null,null,null,null,null,null,null,null,null,null,null,null,null,null,null,null,null,null,null,null,null,null,null,null,null,null,null,null,null,null,null,null,"Дніпропетровська","Вербове (Бабайківська сільська рада)"]
[null,null,null,null,null,null,null,null,null,null,null,null,null,null,null,null,null,null,null,null,null,null,null,null,null,null,null,null,null,null,null,null,null,null,null,null,null,null,null,null,null,null,null,null,null,"Дніпропетровська","Веселе (Раївська)"]
[null,null,null,null,null,null,null,null,null,null,null,null,null,null,null,null,null,null,null,null,null,null,null,null,null,null,null,null,null,null,null,null,null,null,null,null,null,null,null,null,null,null,null,null,null,"Дніпропетровська","Гнатівка (Михайлівська сільська рада)"]
[null,null,null,null,null,null,null,null,null,null,null,null,null,null,null,null,null,null,null,null,null,null,null,null,null,null,null,null,null,null,null,null,null,null,null,null,null,null,null,null,null,null,null,null,null,"Дніпропетровська","Гришаї"]
[null,null,null,null,null,null,null,null,null,null,null,null,null,null,null,null,null,null,null,null,null,null,null,null,null,null,null,null,null,null,null,null,null,null,null,null,null,null,null,null,null,null,null,null,null,"Дніпропетровська","Євецько-Миколаївка"]
[null,null,null,null,null,null,null,null,null,null,null,null,null,null,null,null,null,null,null,null,null,null,null,null,null,null,null,null,null,null,null,null,null,null,null,null,null,null,null,null,null,null,null,null,null,"Дніпропетровська","Запорізьке (Запорізька сільська рада)"]
[null,null,null,null,null,null,null,null,null,null,null,null,null,null,null,null,null,null,null,null,null,null,null,null,null,null,null,null,null,null,null,null,null,null,null,null,null,null,null,null,null,null,null,null,null,"Дніпропетровська","Зелений Гай (Українська сільрада)"]
[null,null,null,null,null,null,null,null,null,null,null,null,null,null,null,null,null,null,null,null,null,null,null,null,null,null,null,null,null,null,null,null,null,null,null,null,null,null,null,null,null,null,null,null,null,"Дніпропетровська","Каплистівка"]
[null,null,null,null,null,null,null,null,null,null,null,null,null,null,null,null,null,null,null,null,null,null,null,null,null,null,null,null,null,null,null,null,null,null,null,null,null,null,null,null,null,null,null,null,null,"Дніпропетровська","Козодуб (Червоноіванівська сільська рада)"]
[null,null,null,null,null,null,null,null,null,null,null,null,null,null,null,null,null,null,null,null,null,null,null,null,null,null,null,null,null,null,null,null,null,null,null,null,null,null,null,null,null,null,null,null,null,"Дніпропетровська","Кринички (Марє-Дмитрівська сільська рада)"]
[null,null,null,null,null,null,null,null,null,null,null,null,null,null,null,null,null,null,null,null,null,null,null,null,null,null,null,null,null,null,null,null,null,null,null,null,null,null,null,null,null,null,null,null,null,"Дніпропетровська","Лисківка (Царичанська сільська рада)"]
[null,null,null,null,null,null,null,null,null,null,null,null,null,null,null,null,null,null,null,null,null,null,null,null,null,null,null,null,null,null,null,null,null,null,null,null,null,null,null,null,null,null,null,null,null,"Дніпропетровська","Мар'їнка"]
[null,null,null,null,null,null,null,null,null,null,null,null,null,null,null,null,null,null,null,null,null,null,null,null,null,null,null,null,null,null,null,null,null,null,null,null,null,null,null,null,null,null,null,null,null,"Дніпропетровська","Миколаївка (Миколаївська сільська рада)"]
[null,null,null,null,null,null,null,null,null,null,null,null,null,null,null,null,null,null,null,null,null,null,null,null,null,null,null,null,null,null,null,null,null,null,null,null,null,null,null,null,null,null,null,null,null,"Дніпропетровська","Нові Садки (Красінська сільська рада)"]
[null,null,null,null,null,null,null,null,null,null,null,null,null,null,null,null,null,null,null,null,null,null,null,null,null,null,null,null,null,null,null,null,null,null,null,null,null,null,null,null,null,null,null,null,null,"Дніпропетровська","Новоіванівка (Кам'янська)"]
[null,null,null,null,null,null,null,null,null,null,null,null,null,null,null,null,null,null,null,null,null,null,null,null,null,null,null,null,null,null,null,null,null,null,null,null,null,null,null,null,null,null,null,null,null,"Дніпропетровська","Новостроївка (Бабайківська сільська рада)"]
[null,null,null,null,null,null,null,null,null,null,null,null,null,null,null,null,null,null,null,null,null,null,null,null,null,null,null,null,null,null,null,null,null,null,null,null,null,null,null,null,null,null,null,null,null,"Дніпропетровська","Оленівка (Чапаєвська сільська рада)"]
[null,null,null,null,null,null,null,null,null,null,null,null,null,null,null,null,null,null,null,null,null,null,null,null,null,null,null,null,null,null,null,null,null,null,null,null,null,null,null,null,null,null,null,null,null,"Дніпропетровська","Отрадне (Чапаєвська сільська рада)"]
[null,null,null,null,null,null,null,null,null,null,null,null,null,null,null,null,null,null,null,null,null,null,null,null,null,null,null,null,null,null,null,null,null,null,null,null,null,null,null,null,null,null,null,null,null,"Дніпропетровська","Почино-Софіївка"]
[null,null,null,null,null,null,null,null,null,null,null,null,null,null,null,null,null,null,null,null,null,null,null,null,null,null,null,null,null,null,null,null,null,null,null,null,null,null,null,null,null,null,null,null,null,"Дніпропетровська","Радевичеве (Андріївська сільська рада)"]
[null,null,null,null,null,null,null,null,null,null,null,null,null,null,null,null,null,null,null,null,null,null,null,null,null,null,null,null,null,null,null,null,null,null,null,null,null,null,null,null,null,null,null,null,null,"Дніпропетровська","Сорокопанівка (Покровська сільська рада)"]
[null,null,null,null,null,null,null,null,null,null,null,null,null,null,null,null,null,null,null,null,null,null,null,null,null,null,null,null,null,null,null,null,null,null,null,null,null,null,null,null,null,null,null,null,null,"Дніпропетровська","Сурське"]
[null,null,null,null,null,null,null,null,null,null,null,null,null,null,null,null,null,null,null,null,null,null,null,null,null,null,null,null,null,null,null,null,null,null,null,null,null,null,null,null,null,null,null,null,null,"Дніпропетровська","Томаківка"]
[null,null,null,null,null,null,null,null,null,null,null,null,null,null,null,null,null,null,null,null,null,null,null,null,null,null,null,null,null,null,null,null,null,null,null,null,null,null,null,null,null,null,null,null,null,"Дніпропетровська","Чаус"]
[null,null,null,null,null,null,null,null,null,null,null,null,null,null,null,null,null,null,null,null,null,null,null,null,null,null,null,null,null,null,null,null,null,null,null,null,null,null,null,null,null,null,null,null,null,"Дніпропетровська","Червоний Промінь (Червонопроміньська сільська рада)"]
[null,null,null,null,null,null,null,null,null,null,null,null,null,null,null,null,null,null,null,null,null,null,null,null,null,null,null,null,null,null,null,null,null,null,null,null,null,null,null,null,null,null,null,null,null,"Дніпропетровська","Юр'ївське"]
[null,null,null,null,null,null,null,null,null,null,null,null,null,null,null,null,null,null,null,null,null,null,null,null,null,null,null,null,null,null,null,null,null,null,null,null,null,null,null,null,null,null,null,null,null,"Донецька","Бахчовик"]
[null,null,null,null,null,null,null,null,null,null,null,null,null,null,null,null,null,null,null,null,null,null,null,null,null,null,null,null,null,null,null,null,null,null,null,null,null,null,null,null,null,null,null,null,null,"Донецька","Виселки"]
[null,null,null,null,null,null,null,null,null,null,null,null,null,null,null,null,null,null,null,null,null,null,null,null,null,null,null,null,null,null,null,null,null,null,null,null,null,null,null,null,null,null,null,null,null,"Донецька","Володине (Старомлинівська с/р)"]
[null,null,null,null,null,null,null,null,null,null,null,null,null,null,null,null,null,null,null,null,null,null,null,null,null,null,null,null,null,null,null,null,null,null,null,null,null,null,null,null,null,null,null,null,null,"Донецька","Дробишеве"]
[null,null,null,null,null,null,null,null,null,null,null,null,null,null,null,null,null,null,null,null,null,null,null,null,null,null,null,null,null,null,null,null,null,null,null,null,null,null,null,null,null,null,null,null,null,"Донецька","Заїченко"]
[null,null,null,null,null,null,null,null,null,null,null,null,null,null,null,null,null,null,null,null,null,null,null,null,null,null,null,null,null,null,null,null,null,null,null,null,null,null,null,null,null,null,null,null,null,"Донецька","Зугрес"]
[null,null,null,null,null,null,null,null,null,null,null,null,null,null,null,null,null,null,null,null,null,null,null,null,null,null,null,null,null,null,null,null,null,null,null,null,null,null,null,null,null,null,null,null,null,"Донецька","Котлярівське"]
[null,null,null,null,null,null,null,null,null,null,null,null,null,null,null,null,null,null,null,null,null,null,null,null,null,null,null,null,null,null,null,null,null,null,null,null,null,null,null,null,null,null,null,null,null,"Донецька","Кримки"]
[null,null,null,null,null,null,null,null,null,null,null,null,null,null,null,null,null,null,null,null,null,null,null,null,null,null,null,null,null,null,null,null,null,null,null,null,null,null,null,null,null,null,null,null,null,"Донецька","Миколаївка (Новоекономічна селищна рада)"]
[null,null,null,null,null,null,null,null,null,null,null,null,null,null,null,null,null,null,null,null,null,null,null,null,null,null,null,null,null,null,null,null,null,null,null,null,null,null,null,null,null,null,null,null,null,"Донецька","Моспине"]
[null,null,null,null,null,null,null,null,null,null,null,null,null,null,null,null,null,null,null,null,null,null,null,null,null,null,null,null,null,null,null,null,null,null,null,null,null,null,null,null,null,null,null,null,null,"Донецька","Новогнатівка"]
[null,null,null,null,null,null,null,null,null,null,null,null,null,null,null,null,null,null,null,null,null,null,null,null,null,null,null,null,null,null,null,null,null,null,null,null,null,null,null,null,null,null,null,null,null,"Донецька","Обільне"]
[null,null,null,null,null,null,null,null,null,null,null,null,null,null,null,null,null,null,null,null,null,null,null,null,null,null,null,null,null,null,null,null,null,null,null,null,null,null,null,null,null,null,null,null,null,"Донецька","Пищевик"]
[null,null,null,null,null,null,null,null,null,null,null,null,null,null,null,null,null,null,null,null,null,null,null,null,null,null,null,null,null,null,null,null,null,null,null,null,null,null,null,null,null,null,null,null,null,"Донецька","Прохорівка"]
[null,null,null,null,null,null,null,null,null,null,null,null,null,null,null,null,null,null,null,null,null,null,null,null,null,null,null,null,null,null,null,null,null,null,null,null,null,null,null,null,null,null,null,null,null,"Донецька","Рідкодуб"]
[null,null,null,null,null,null,null,null,null,null,null,null,null,null,null,null,null,null,null,null,null,null,null,null,null,null,null,null,null,null,null,null,null,null,null,null,null,null,null,null,null,null,null,null,null,"Донецька","Сопине"]
[null,null,null,null,null,null,null,null,null,null,null,null,null,null,null,null,null,null,null,null,null,null,null,null,null,null,null,null,null,null,null,null,null,null,null,null,null,null,null,null,null,null,null,null,null,"Донецька","Трепельне"]
[null,null,null,null,null,null,null,null,null,null,null,null,null,null,null,null,null,null,null,null,null,null,null,null,null,null,null,null,null,null,null,null,null,null,null,null,null,null,null,null,null,null,null,null,null,"Донецька","Шабельківка"]
[null,null,null,null,null,null,null,null,null,null,null,null,null,null,null,null,null,null,null,null,null,null,null,null,null,null,null,null,null,null,null,null,null,null,null,null,null,null,null,null,null,null,null,null,null,"Донецька","Ялинське (Новопетриківська с/р)"]
[null,null,null,null,null,null,null,null,null,null,null,null,null,null,null,null,null,null,null,null,null,null,null,null,null,null,null,null,null,null,null,null,null,null,null,null,null,null,null,null,null,null,null,null,null,"Житомирська","Білилівка"]
[null,null,null,null,null,null,null,null,null,null,null,null,null,null,null,null,null,null,null,null,null,null,null,null,null,null,null,null,null,null,null,null,null,null,null,null,null,null,null,null,null,null,null,null,null,"Житомирська","Брід"]
[null,null,null,null,null,null,null,null,null,null,null,null,null,null,null,null,null,null,null,null,null,null,null,null,null,null,null,null,null,null,null,null,null,null,null,null,null,null,null,null,null,null,null,null,null,"Житомирська","Вакуленчук"]
[null,null,null,null,null,null,null,null,null,null,null,null,null,null,null,null,null,null,null,null,null,null,null,null,null,null,null,null,null,null,null,null,null,null,null,null,null,null,null,null,null,null,null,null,null,"Житомирська","Вишнянка"]
[null,null,null,null,null,null,null,null,null,null,null,null,null,null,null,null,null,null,null,null,null,null,null,null,null,null,null,null,null,null,null,null,null,null,null,null,null,null,null,null,null,null,null,null,null,"Житомирська","Голубин"]
[null,null,null,null,null,null,null,null,null,null,null,null,null,null,null,null,null,null,null,null,null,null,null,null,null,null,null,null,null,null,null,null,null,null,null,null,null,null,null,null,null,null,null,null,null,"Житомирська","Гута -Забілоцька"]
[null,null,null,null,null,null,null,null,null,null,null,null,null,null,null,null,null,null,null,null,null,null,null,null,null,null,null,null,null,null,null,null,null,null,null,null,null,null,null,null,null,null,null,null,null,"Житомирська","Дівошин"]
[null,null,null,null,null,null,null,null,null,null,null,null,null,null,null,null,null,null,null,null,null,null,null,null,null,null,null,null,null,null,null,null,null,null,null,null,null,null,null,null,null,null,null,null,null,"Житомирська","Збраньки"]
[null,null,null,null,null,null,null,null,null,null,null,null,null,null,null,null,null,null,null,null,null,null,null,null,null,null,null,null,null,null,null,null,null,null,null,null,null,null,null,null,null,null,null,null,null,"Житомирська","Іванопіль"]
[null,null,null,null,null,null,null,null,null,null,null,null,null,null,null,null,null,null,null,null,null,null,null,null,null,null,null,null,null,null,null,null,null,null,null,null,null,null,null,null,null,null,null,null,null,"Житомирська","Кораки"]
[null,null,null,null,null,null,null,null,null,null,null,null,null,null,null,null,null,null,null,null,null,null,null,null,null,null,null,null,null,null,null,null,null,null,null,null,null,null,null,null,null,null,null,null,null,"Житомирська","Краївщина"]
[null,null,null,null,null,null,null,null,null,null,null,null,null,null,null,null,null,null,null,null,null,null,null,null,null,null,null,null,null,null,null,null,null,null,null,null,null,null,null,null,null,null,null,null,null,"Житомирська","Лизник"]
[null,null,null,null,null,null,null,null,null,null,null,null,null,null,null,null,null,null,null,null,null,null,null,null,null,null,null,null,null,null,null,null,null,null,null,null,null,null,null,null,null,null,null,null,null,"Житомирська","Мала Чернігівка"]
[null,null,null,null,null,null,null,null,null,null,null,null,null,null,null,null,null,null,null,null,null,null,null,null,null,null,null,null,null,null,null,null,null,null,null,null,null,null,null,null,null,null,null,null,null,"Житомирська","Маркова Волиця"]
[null,null,null,null,null,null,null,null,null,null,null,null,null,null,null,null,null,null,null,null,null,null,null,null,null,null,null,null,null,null,null,null,null,null,null,null,null,null,null,null,null,null,null,null,null,"Житомирська","Нивки"]
[null,null,null,null,null,null,null,null,null,null,null,null,null,null,null,null,null,null,null,null,null,null,null,null,null,null,null,null,null,null,null,null,null,null,null,null,null,null,null,null,null,null,null,null,null,"Житомирська","Нові Жадьки"]
[null,null,null,null,null,null,null,null,null,null,null,null,null,null,null,null,null,null,null,null,null,null,null,null,null,null,null,null,null,null,null,null,null,null,null,null,null,null,null,null,null,null,null,null,null,"Житомирська","Павленківка"]
[null,null,null,null,null,null,null,null,null,null,null,null,null,null,null,null,null,null,null,null,null,null,null,null,null,null,null,null,null,null,null,null,null,null,null,null,null,null,null,null,null,null,null,null,null,"Житомирська","Пилипонка"]
[null,null,null,null,null,null,null,null,null,null,null,null,null,null,null,null,null,null,null,null,null,null,null,null,null,null,null,null,null,null,null,null,null,null,null,null,null,null,null,null,null,null,null,null,null,"Житомирська","Привороття"]
[null,null,null,null,null,null,null,null,null,null,null,null,null,null,null,null,null,null,null,null,null,null,null,null,null,null,null,null,null,null,null,null,null,null,null,null,null,null,null,null,null,null,null,null,null,"Житомирська","Рудня-Більківська"]
[null,null,null,null,null,null,null,null,null,null,null,null,null,null,null,null,null,null,null,null,null,null,null,null,null,null,null,null,null,null,null,null,null,null,null,null,null,null,null,null,null,null,null,null,null,"Житомирська","Середи"]
[null,null,null,null,null,null,null,null,null,null,null,null,null,null,null,null,null,null,null,null,null,null,null,null,null,null,null,null,null,null,null,null,null,null,null,null,null,null,null,null,null,null,null,null,null,"Житомирська","Старицьке"]
[null,null,null,null,null,null,null,null,null,null,null,null,null,null,null,null,null,null,null,null,null,null,null,null,null,null,null,null,null,null,null,null,null,null,null,null,null,null,null,null,null,null,null,null,null,"Житомирська","Стриєва"]
[null,null,null,null,null,null,null,null,null,null,null,null,null,null,null,null,null,null,null,null,null,null,null,null,null,null,null,null,null,null,null,null,null,null,null,null,null,null,null,null,null,null,null,null,null,"Житомирська","Хлупляни"]
[null,null,null,null,null,null,null,null,null,null,null,null,null,null,null,null,null,null,null,null,null,null,null,null,null,null,null,null,null,null,null,null,null,null,null,null,null,null,null,null,null,null,null,null,null,"Житомирська","Червона Волока"]
[null,null,null,null,null,null,null,null,null,null,null,null,null,null,null,null,null,null,null,null,null,null,null,null,null,null,null,null,null,null,null,null,null,null,null,null,null,null,null,null,null,null,null,null,null,"Житомирська","Щеніїв"]
[null,null,null,null,null,null,null,null,null,null,null,null,null,null,null,null,null,null,null,null,null,null,null,null,null,null,null,null,null,null,null,null,null,null,null,null,null,null,null,null,null,null,null,null,null,"Закарпатська","Біласовиця (Біласовицька сільська рада)"]
[null,null,null,null,null,null,null,null,null,null,null,null,null,null,null,null,null,null,null,null,null,null,null,null,null,null,null,null,null,null,null,null,null,null,null,null,null,null,null,null,null,null,null,null,null,"Закарпатська","Виноградів (Виноградівська міська рада)"]
[null,null,null,null,null,null,null,null,null,null,null,null,null,null,null,null,null,null,null,null,null,null,null,null,null,null,null,null,null,null,null,null,null,null,null,null,null,null,null,null,null,null,null,null,null,"Закарпатська","Ганьковиця (Ганьковицька сільська рада)"]
[null,null,null,null,null,null,null,null,null,null,null,null,null,null,null,null,null,null,null,null,null,null,null,null,null,null,null,null,null,null,null,null,null,null,null,null,null,null,null,null,null,null,null,null,null,"Закарпатська","Грабово (Пузняковецька сільська рада)"]
[null,null,null,null,null,null,null,null,null,null,null,null,null,null,null,null,null,null,null,null,null,null,null,null,null,null,null,null,null,null,null,null,null,null,null,null,null,null,null,null,null,null,null,null,null,"Закарпатська","Завосино (Малий Березний)"]
[null,null,null,null,null,null,null,null,null,null,null,null,null,null,null,null,null,null,null,null,null,null,null,null,null,null,null,null,null,null,null,null,null,null,null,null,null,null,null,null,null,null,null,null,null,"Закарпатська","Іршава (Іршавська міська рада)"]
[null,null,null,null,null,null,null,null,null,null,null,null,null,null,null,null,null,null,null,null,null,null,null,null,null,null,null,null,null,null,null,null,null,null,null,null,null,null,null,null,null,null,null,null,null,"Закарпатська","Кричово (Кричівська сільська рада)"]
[null,null,null,null,null,null,null,null,null,null,null,null,null,null,null,null,null,null,null,null,null,null,null,null,null,null,null,null,null,null,null,null,null,null,null,null,null,null,null,null,null,null,null,null,null,"Закарпатська","Лопушанка (Дусинська сільська рада)"]
[null,null,null,null,null,null,null,null,null,null,null,null,null,null,null,null,null,null,null,null,null,null,null,null,null,null,null,null,null,null,null,null,null,null,null,null,null,null,null,null,null,null,null,null,null,"Закарпатська","Нове Давидково (Новодавидківська сільська рада)"]
[null,null,null,null,null,null,null,null,null,null,null,null,null,null,null,null,null,null,null,null,null,null,null,null,null,null,null,null,null,null,null,null,null,null,null,null,null,null,null,null,null,null,null,null,null,"Закарпатська","Осій (Осійська сільська рада)"]
[null,null,null,null,null,null,null,null,null,null,null,null,null,null,null,null,null,null,null,null,null,null,null,null,null,null,null,null,null,null,null,null,null,null,null,null,null,null,null,null,null,null,null,null,null,"Закарпатська","Плоскановиця (Брестівська сільська рада)"]
[null,null,null,null,null,null,null,null,null,null,null,null,null,null,null,null,null,null,null,null,null,null,null,null,null,null,null,null,null,null,null,null,null,null,null,null,null,null,null,null,null,null,null,null,null,"Закарпатська","Свалява (Свалявська міська рада)"]
[null,null,null,null,null,null,null,null,null,null,null,null,null,null,null,null,null,null,null,null,null,null,null,null,null,null,null,null,null,null,null,null,null,null,null,null,null,null,null,null,null,null,null,null,null,"Закарпатська","Терново (Тернівська сільська рада)"]
[null,null,null,null,null,null,null,null,null,null,null,null,null,null,null,null,null,null,null,null,null,null,null,null,null,null,null,null,null,null,null,null,null,null,null,null,null,null,null,null,null,null,null,null,null,"Закарпатська","Усть-Чорна (Усть-Чорнянська селищна рада)"]
[null,null,null,null,null,null,null,null,null,null,null,null,null,null,null,null,null,null,null,null,null,null,null,null,null,null,null,null,null,null,null,null,null,null,null,null,null,null,null,null,null,null,null,null,null,"Закарпатська","Червеньово (Зняцівська сільська рада)"]
[null,null,null,null,null,null,null,null,null,null,null,null,null,null,null,null,null,null,null,null,null,null,null,null,null,null,null,null,null,null,null,null,null,null,null,null,null,null,null,null,null,null,null,null,null,"Запорізька","Богунівка"]
[null,null,null,null,null,null,null,null,null,null,null,null,null,null,null,null,null,null,null,null,null,null,null,null,null,null,null,null,null,null,null,null,null,null,null,null,null,null,null,null,null,null,null,null,null,"Запорізька","Веселівське"]
[null,null,null,null,null,null,null,null,null,null,null,null,null,null,null,null,null,null,null,null,null,null,null,null,null,null,null,null,null,null,null,null,null,null,null,null,null,null,null,null,null,null,null,null,null,"Запорізька","Зелена Балка"]
[null,null,null,null,null,null,null,null,null,null,null,null,null,null,null,null,null,null,null,null,null,null,null,null,null,null,null,null,null,null,null,null,null,null,null,null,null,null,null,null,null,null,null,null,null,"Запорізька","Кінські Роздори"]
[null,null,null,null,null,null,null,null,null,null,null,null,null,null,null,null,null,null,null,null,null,null,null,null,null,null,null,null,null,null,null,null,null,null,null,null,null,null,null,null,null,null,null,null,null,"Запорізька","Люцерна"]
[null,null,null,null,null,null,null,null,null,null,null,null,null,null,null,null,null,null,null,null,null,null,null,null,null,null,null,null,null,null,null,null,null,null,null,null,null,null,null,null,null,null,null,null,null,"Запорізька","Новозлатопіль"]
[null,null,null,null,null,null,null,null,null,null,null,null,null,null,null,null,null,null,null,null,null,null,null,null,null,null,null,null,null,null,null,null,null,null,null,null,null,null,null,null,null,null,null,null,null,"Запорізька","Новостепнянське"]
[null,null,null,null,null,null,null,null,null,null,null,null,null,null,null,null,null,null,null,null,null,null,null,null,null,null,null,null,null,null,null,null,null,null,null,null,null,null,null,null,null,null,null,null,null,"Запорізька","Ручаївка"]
[null,null,null,null,null,null,null,null,null,null,null,null,null,null,null,null,null,null,null,null,null,null,null,null,null,null,null,null,null,null,null,null,null,null,null,null,null,null,null,null,null,null,null,null,null,"Запорізька","Стульневе, селище"]
[null,null,null,null,null,null,null,null,null,null,null,null,null,null,null,null,null,null,null,null,null,null,null,null,null,null,null,null,null,null,null,null,null,null,null,null,null,null,null,null,null,null,null,null,null,"Івано_Франківська","Балинці"]
[null,null,null,null,null,null,null,null,null,null,null,null,null,null,null,null,null,null,null,null,null,null,null,null,null,null,null,null,null,null,null,null,null,null,null,null,null,null,null,null,null,null,null,null,null,"Івано_Франківська","Богородчани"]
[null,null,null,null,null,null,null,null,null,null,null,null,null,null,null,null,null,null,null,null,null,null,null,null,null,null,null,null,null,null,null,null,null,null,null,null,null,null,null,null,null,null,null,null,null,"Івано_Франківська","Вербилівці"]
[null,null,null,null,null,null,null,null,null,null,null,null,null,null,null,null,null,null,null,null,null,null,null,null,null,null,null,null,null,null,null,null,null,null,null,null,null,null,null,null,null,null,null,null,null,"Івано_Франківська","Глушків"]
[null,null,null,null,null,null,null,null,null,null,null,null,null,null,null,null,null,null,null,null,null,null,null,null,null,null,null,null,null,null,null,null,null,null,null,null,null,null,null,null,null,null,null,null,null,"Івано_Франківська","Гузіїв"]
[null,null,null,null,null,null,null,null,null,null,null,null,null,null,null,null,null,null,null,null,null,null,null,null,null,null,null,null,null,null,null,null,null,null,null,null,null,null,null,null,null,null,null,null,null,"Івано_Франківська","Заланів"]
[null,null,null,null,null,null,null,null,null,null,null,null,null,null,null,null,null,null,null,null,null,null,null,null,null,null,null,null,null,null,null,null,null,null,null,null,null,null,null,null,null,null,null,null,null,"Івано_Франківська","Ільці"]
[null,null,null,null,null,null,null,null,null,null,null,null,null,null,null,null,null,null,null,null,null,null,null,null,null,null,null,null,null,null,null,null,null,null,null,null,null,null,null,null,null,null,null,null,null,"Івано_Франківська","Кулачківці"]
[null,null,null,null,null,null,null,null,null,null,null,null,null,null,null,null,null,null,null,null,null,null,null,null,null,null,null,null,null,null,null,null,null,null,null,null,null,null,null,null,null,null,null,null,null,"Івано_Франківська","Лісна Тарновиця"]
[null,null,null,null,null,null,null,null,null,null,null,null,null,null,null,null,null,null,null,null,null,null,null,null,null,null,null,null,null,null,null,null,null,null,null,null,null,null,null,null,null,null,null,null,null,"Івано_Франківська","Межигірці"]
[null,null,null,null,null,null,null,null,null,null,null,null,null,null,null,null,null,null,null,null,null,null,null,null,null,null,null,null,null,null,null,null,null,null,null,null,null,null,null,null,null,null,null,null,null,"Івано_Франківська","Олешів"]
[null,null,null,null,null,null,null,null,null,null,null,null,null,null,null,null,null,null,null,null,null,null,null,null,null,null,null,null,null,null,null,null,null,null,null,null,null,null,null,null,null,null,null,null,null,"Івано_Франківська","Перерив"]
[null,null,null,null,null,null,null,null,null,null,null,null,null,null,null,null,null,null,null,null,null,null,null,null,null,null,null,null,null,null,null,null,null,null,null,null,null,null,null,null,null,null,null,null,null,"Івано_Франківська","Рибне"]
[null,null,null,null,null,null,null,null,null,null,null,null,null,null,null,null,null,null,null,null,null,null,null,null,null,null,null,null,null,null,null,null,null,null,null,null,null,null,null,null,null,null,null,null,null,"Івано_Франківська","Саджавка"]
[null,null,null,null,null,null,null,null,null,null,null,null,null,null,null,null,null,null,null,null,null,null,null,null,null,null,null,null,null,null,null,null,null,null,null,null,null,null,null,null,null,null,null,null,null,"Івано_Франківська","Студинець"]
[null,null,null,null,null,null,null,null,null,null,null,null,null,null,null,null,null,null,null,null,null,null,null,null,null,null,null,null,null,null,null,null,null,null,null,null,null,null,null,null,null,null,null,null,null,"Івано_Франківська","Тужилів"]
[null,null,null,null,null,null,null,null,null,null,null,null,null,null,null,null,null,null,null,null,null,null,null,null,null,null,null,null,null,null,null,null,null,null,null,null,null,null,null,null,null,null,null,null,null,"Івано_Франківська","Юнашків"]
[null,null,null,null,null,null,null,null,null,null,null,null,null,null,null,null,null,null,null,null,null,null,null,null,null,null,null,null,null,null,null,null,null,null,null,null,null,null,null,null,null,null,null,null,null,"Київська","Баришівка"]
[null,null,null,null,null,null,null,null,null,null,null,null,null,null,null,null,null,null,null,null,null,null,null,null,null,null,null,null,null,null,null,null,null,null,null,null,null,null,null,null,null,null,null,null,null,"Київська","Велика Вільшанка"]
[null,null,null,null,null,null,null,null,null,null,null,null,null,null,null,null,null,null,null,null,null,null,null,null,null,null,null,null,null,null,null,null,null,null,null,null,null,null,null,null,null,null,null,null,null,"Київська","Вербова"]
[null,null,null,null,null,null,null,null,null,null,null,null,null,null,null,null,null,null,null,null,null,null,null,null,null,null,null,null,null,null,null,null,null,null,null,null,null,null,null,null,null,null,null,null,null,"Київська","Володимирське"]
[null,null,null,null,null,null,null,null,null,null,null,null,null,null,null,null,null,null,null,null,null,null,null,null,null,null,null,null,null,null,null,null,null,null,null,null,null,null,null,null,null,null,null,null,null,"Київська","Гречанівка"]
[null,null,null,null,null,null,null,null,null,null,null,null,null,null,null,null,null,null,null,null,null,null,null,null,null,null,null,null,null,null,null,null,null,null,null,null,null,null,null,null,null,null,null,null,null,"Київська","Дзвеняче"]
[null,null,null,null,null,null,null,null,null,null,null,null,null,null,null,null,null,null,null,null,null,null,null,null,null,null,null,null,null,null,null,null,null,null,null,null,null,null,null,null,null,null,null,null,null,"Київська","Заострівське"]
[null,null,null,null,null,null,null,null,null,null,null,null,null,null,null,null,null,null,null,null,null,null,null,null,null,null,null,null,null,null,null,null,null,null,null,null,null,null,null,null,null,null,null,null,null,"Київська","Кам'яна Гребля"]
[null,null,null,null,null,null,null,null,null,null,null,null,null,null,null,null,null,null,null,null,null,null,null,null,null,null,null,null,null,null,null,null,null,null,null,null,null,null,null,null,null,null,null,null,null,"Київська","Крушинка"]
[null,null,null,null,null,null,null,null,null,null,null,null,null,null,null,null,null,null,null,null,null,null,null,null,null,null,null,null,null,null,null,null,null,null,null,null,null,null,null,null,null,null,null,null,null,"Київська","Лецьки"]
[null,null,null,null,null,null,null,null,null,null,null,null,null,null,null,null,null,null,null,null,null,null,null,null,null,null,null,null,null,null,null,null,null,null,null,null,null,null,null,null,null,null,null,null,null,"Київська","Мала Тарасівка"]
[null,null,null,null,null,null,null,null,null,null,null,null,null,null,null,null,null,null,null,null,null,null,null,null,null,null,null,null,null,null,null,null,null,null,null,null,null,null,null,null,null,null,null,null,null,"Київська","Мисайлівка"]
[null,null,null,null,null,null,null,null,null,null,null,null,null,null,null,null,null,null,null,null,null,null,null,null,null,null,null,null,null,null,null,null,null,null,null,null,null,null,null,null,null,null,null,null,null,"Київська","Насташка"]
[null,null,null,null,null,null,null,null,null,null,null,null,null,null,null,null,null,null,null,null,null,null,null,null,null,null,null,null,null,null,null,null,null,null,null,null,null,null,null,null,null,null,null,null,null,"Київська","Пасківщина"]
[null,null,null,null,null,null,null,null,null,null,null,null,null,null,null,null,null,null,null,null,null,null,null,null,null,null,null,null,null,null,null,null,null,null,null,null,null,null,null,null,null,null,null,null,null,"Київська","Плюти"]
[null,null,null,null,null,null,null,null,null,null,null,null,null,null,null,null,null,null,null,null,null,null,null,null,null,null,null,null,null,null,null,null,null,null,null,null,null,null,null,null,null,null,null,null,null,"Київська","Розважів"]
[null,null,null,null,null,null,null,null,null,null,null,null,null,null,null,null,null,null,null,null,null,null,null,null,null,null,null,null,null,null,null,null,null,null,null,null,null,null,null,null,null,null,null,null,null,"Київська","Саврань"]
[null,null,null,null,null,null,null,null,null,null,null,null,null,null,null,null,null,null,null,null,null,null,null,null,null,null,null,null,null,null,null,null,null,null,null,null,null,null,null,null,null,null,null,null,null,"Київська","Стоянка"]
[null,null,null,null,null,null,null,null,null,null,null,null,null,null,null,null,null,null,null,null,null,null,null,null,null,null,null,null,null,null,null,null,null,null,null,null,null,null,null,null,null,null,null,null,null,"Київська","Тараща"]
[null,null,null,null,null,null,null,null,null,null,null,null,null,null,null,null,null,null,null,null,null,null,null,null,null,null,null,null,null,null,null,null,null,null,null,null,null,null,null,null,null,null,null,null,null,"Київська","Урсалівка"]
[null,null,null,null,null,null,null,null,null,null,null,null,null,null,null,null,null,null,null,null,null,null,null,null,null,null,null,null,null,null,null,null,null,null,null,null,null,null,null,null,null,null,null,null,null,"Київська","Червоне Поле"]
[null,null,null,null,null,null,null,null,null,null,null,null,null,null,null,null,null,null,null,null,null,null,null,null,null,null,null,null,null,null,null,null,null,null,null,null,null,null,null,null,null,null,null,null,null,"Київська","Шевченківка"]
[null,null,null,null,null,null,null,null,null,null,null,null,null,null,null,null,null,null,null,null,null,null,null,null,null,null,null,null,null,null,null,null,null,null,null,null,null,null,null,null,null,null,null,null,null,"Кіровоградська","Бузникувате"]
[null,null,null,null,null,null,null,null,null,null,null,null,null,null,null,null,null,null,null,null,null,null,null,null,null,null,null,null,null,null,null,null,null,null,null,null,null,null,null,null,null,null,null,null,null,"Кіровоградська","Височанове"]
[null,null,null,null,null,null,null,null,null,null,null,null,null,null,null,null,null,null,null,null,null,null,null,null,null,null,null,null,null,null,null,null,null,null,null,null,null,null,null,null,null,null,null,null,null,"Кіровоградська","Звенигородка"]
[null,null,null,null,null,null,null,null,null,null,null,null,null,null,null,null,null,null,null,null,null,null,null,null,null,null,null,null,null,null,null,null,null,null,null,null,null,null,null,null,null,null,null,null,null,"Кіровоградська","Камбурліївка"]
[null,null,null,null,null,null,null,null,null,null,null,null,null,null,null,null,null,null,null,null,null,null,null,null,null,null,null,null,null,null,null,null,null,null,null,null,null,null,null,null,null,null,null,null,null,"Кіровоградська","Лев-балка"]
[null,null,null,null,null,null,null,null,null,null,null,null,null,null,null,null,null,null,null,null,null,null,null,null,null,null,null,null,null,null,null,null,null,null,null,null,null,null,null,null,null,null,null,null,null,"Кіровоградська","Могилів Курінь"]
[null,null,null,null,null,null,null,null,null,null,null,null,null,null,null,null,null,null,null,null,null,null,null,null,null,null,null,null,null,null,null,null,null,null,null,null,null,null,null,null,null,null,null,null,null,"Кіровоградська","Низове"]
[null,null,null,null,null,null,null,null,null,null,null,null,null,null,null,null,null,null,null,null,null,null,null,null,null,null,null,null,null,null,null,null,null,null,null,null,null,null,null,null,null,null,null,null,null,"Кіровоградська","Піщаний  Брід"]
[null,null,null,null,null,null,null,null,null,null,null,null,null,null,null,null,null,null,null,null,null,null,null,null,null,null,null,null,null,null,null,null,null,null,null,null,null,null,null,null,null,null,null,null,null,"Кіровоградська","П'ятомиколаївка"]
[null,null,null,null,null,null,null,null,null,null,null,null,null,null,null,null,null,null,null,null,null,null,null,null,null,null,null,null,null,null,null,null,null,null,null,null,null,null,null,null,null,null,null,null,null,"Кіровоградська","Сухолітівка"]
[null,null,null,null,null,null,null,null,null,null,null,null,null,null,null,null,null,null,null,null,null,null,null,null,null,null,null,null,null,null,null,null,null,null,null,null,null,null,null,null,null,null,null,null,null,"Кіровоградська","Червоний Ташлик"]
[null,null,null,null,null,null,null,null,null,null,null,null,null,null,null,null,null,null,null,null,null,null,null,null,null,null,null,null,null,null,null,null,null,null,null,null,null,null,null,null,null,null,null,null,null,"Луганська","Бокове-Платове"]
[null,null,null,null,null,null,null,null,null,null,null,null,null,null,null,null,null,null,null,null,null,null,null,null,null,null,null,null,null,null,null,null,null,null,null,null,null,null,null,null,null,null,null,null,null,"Луганська","Велика Мартинівка"]
[null,null,null,null,null,null,null,null,null,null,null,null,null,null,null,null,null,null,null,null,null,null,null,null,null,null,null,null,null,null,null,null,null,null,null,null,null,null,null,null,null,null,null,null,null,"Луганська","Верхньокам'янка"]
[null,null,null,null,null,null,null,null,null,null,null,null,null,null,null,null,null,null,null,null,null,null,null,null,null,null,null,null,null,null,null,null,null,null,null,null,null,null,null,null,null,null,null,null,null,"Луганська","Давидівка"]
[null,null,null,null,null,null,null,null,null,null,null,null,null,null,null,null,null,null,null,null,null,null,null,null,null,null,null,null,null,null,null,null,null,null,null,null,null,null,null,null,null,null,null,null,null,"Луганська","Енгельсове (Енгельсовська селещна рада)"]
[null,null,null,null,null,null,null,null,null,null,null,null,null,null,null,null,null,null,null,null,null,null,null,null,null,null,null,null,null,null,null,null,null,null,null,null,null,null,null,null,null,null,null,null,null,"Луганська","Карпати"]
[null,null,null,null,null,null,null,null,null,null,null,null,null,null,null,null,null,null,null,null,null,null,null,null,null,null,null,null,null,null,null,null,null,null,null,null,null,null,null,null,null,null,null,null,null,"Луганська","Козарик"]
[null,null,null,null,null,null,null,null,null,null,null,null,null,null,null,null,null,null,null,null,null,null,null,null,null,null,null,null,null,null,null,null,null,null,null,null,null,null,null,null,null,null,null,null,null,"Луганська","Куплювате"]
[null,null,null,null,null,null,null,null,null,null,null,null,null,null,null,null,null,null,null,null,null,null,null,null,null,null,null,null,null,null,null,null,null,null,null,null,null,null,null,null,null,null,null,null,null,"Луганська","Лоскутівка"]
[null,null,null,null,null,null,null,null,null,null,null,null,null,null,null,null,null,null,null,null,null,null,null,null,null,null,null,null,null,null,null,null,null,null,null,null,null,null,null,null,null,null,null,null,null,"Луганська","Марківське"]
[null,null,null,null,null,null,null,null,null,null,null,null,null,null,null,null,null,null,null,null,null,null,null,null,null,null,null,null,null,null,null,null,null,null,null,null,null,null,null,null,null,null,null,null,null,"Луганська","Новодружеськ"]
[null,null,null,null,null,null,null,null,null,null,null,null,null,null,null,null,null,null,null,null,null,null,null,null,null,null,null,null,null,null,null,null,null,null,null,null,null,null,null,null,null,null,null,null,null,"Луганська","Новоспасівка"]
[null,null,null,null,null,null,null,null,null,null,null,null,null,null,null,null,null,null,null,null,null,null,null,null,null,null,null,null,null,null,null,null,null,null,null,null,null,null,null,null,null,null,null,null,null,"Луганська","Преображенне"]
[null,null,null,null,null,null,null,null,null,null,null,null,null,null,null,null,null,null,null,null,null,null,null,null,null,null,null,null,null,null,null,null,null,null,null,null,null,null,null,null,null,null,null,null,null,"Луганська","Радісне (Білоскелюватська сільська рада)"]
[null,null,null,null,null,null,null,null,null,null,null,null,null,null,null,null,null,null,null,null,null,null,null,null,null,null,null,null,null,null,null,null,null,null,null,null,null,null,null,null,null,null,null,null,null,"Луганська","Станично-Луганське"]
[null,null,null,null,null,null,null,null,null,null,null,null,null,null,null,null,null,null,null,null,null,null,null,null,null,null,null,null,null,null,null,null,null,null,null,null,null,null,null,null,null,null,null,null,null,"Луганська","Тернівка"]
[null,null,null,null,null,null,null,null,null,null,null,null,null,null,null,null,null,null,null,null,null,null,null,null,null,null,null,null,null,null,null,null,null,null,null,null,null,null,null,null,null,null,null,null,null,"Луганська","Червоногвардійське"]
[null,null,null,null,null,null,null,null,null,null,null,null,null,null,null,null,null,null,null,null,null,null,null,null,null,null,null,null,null,null,null,null,null,null,null,null,null,null,null,null,null,null,null,null,null,"Луганська","Щотове"]
[null,null,null,null,null,null,null,null,null,null,null,null,null,null,null,null,null,null,null,null,null,null,null,null,null,null,null,null,null,null,null,null,null,null,null,null,null,null,null,null,null,null,null,null,null,"Львівська","Бишків"]
[null,null,null,null,null,null,null,null,null,null,null,null,null,null,null,null,null,null,null,null,null,null,null,null,null,null,null,null,null,null,null,null,null,null,null,null,null,null,null,null,null,null,null,null,null,"Львівська","Богутин"]
[null,null,null,null,null,null,null,null,null,null,null,null,null,null,null,null,null,null,null,null,null,null,null,null,null,null,null,null,null,null,null,null,null,null,null,null,null,null,null,null,null,null,null,null,null,"Львівська","Бояничі"]
[null,null,null,null,null,null,null,null,null,null,null,null,null,null,null,null,null,null,null,null,null,null,null,null,null,null,null,null,null,null,null,null,null,null,null,null,null,null,null,null,null,null,null,null,null,"Львівська","Велика Лінина"]
[null,null,null,null,null,null,null,null,null,null,null,null,null,null,null,null,null,null,null,null,null,null,null,null,null,null,null,null,null,null,null,null,null,null,null,null,null,null,null,null,null,null,null,null,null,"Львівська","Верхня Лукавиця"]
[null,null,null,null,null,null,null,null,null,null,null,null,null,null,null,null,null,null,null,null,null,null,null,null,null,null,null,null,null,null,null,null,null,null,null,null,null,null,null,null,null,null,null,null,null,"Львівська","Воля Добростанська"]
[null,null,null,null,null,null,null,null,null,null,null,null,null,null,null,null,null,null,null,null,null,null,null,null,null,null,null,null,null,null,null,null,null,null,null,null,null,null,null,null,null,null,null,null,null,"Львівська","Вуйковичі"]
[null,null,null,null,null,null,null,null,null,null,null,null,null,null,null,null,null,null,null,null,null,null,null,null,null,null,null,null,null,null,null,null,null,null,null,null,null,null,null,null,null,null,null,null,null,"Львівська","Грабівниця"]
[null,null,null,null,null,null,null,null,null,null,null,null,null,null,null,null,null,null,null,null,null,null,null,null,null,null,null,null,null,null,null,null,null,null,null,null,null,null,null,null,null,null,null,null,null,"Львівська","Гуманець"]
[null,null,null,null,null,null,null,null,null,null,null,null,null,null,null,null,null,null,null,null,null,null,null,null,null,null,null,null,null,null,null,null,null,null,null,null,null,null,null,null,null,null,null,null,null,"Львівська","Долини (Стародобротвірська сільська рада)"]
[null,null,null,null,null,null,null,null,null,null,null,null,null,null,null,null,null,null,null,null,null,null,null,null,null,null,null,null,null,null,null,null,null,null,null,null,null,null,null,null,null,null,null,null,null,"Львівська","Жирівка"]
[null,null,null,null,null,null,null,null,null,null,null,null,null,null,null,null,null,null,null,null,null,null,null,null,null,null,null,null,null,null,null,null,null,null,null,null,null,null,null,null,null,null,null,null,null,"Львівська","Журавків"]
[null,null,null,null,null,null,null,null,null,null,null,null,null,null,null,null,null,null,null,null,null,null,null,null,null,null,null,null,null,null,null,null,null,null,null,null,null,null,null,null,null,null,null,null,null,"Львівська","Заставне"]
[null,null,null,null,null,null,null,null,null,null,null,null,null,null,null,null,null,null,null,null,null,null,null,null,null,null,null,null,null,null,null,null,null,null,null,null,null,null,null,null,null,null,null,null,null,"Львівська","Золочів"]
[null,null,null,null,null,null,null,null,null,null,null,null,null,null,null,null,null,null,null,null,null,null,null,null,null,null,null,null,null,null,null,null,null,null,null,null,null,null,null,null,null,null,null,null,null,"Львівська","Кобилеччина"]
[null,null,null,null,null,null,null,null,null,null,null,null,null,null,null,null,null,null,null,null,null,null,null,null,null,null,null,null,null,null,null,null,null,null,null,null,null,null,null,null,null,null,null,null,null,"Львівська","Конюхів"]
[null,null,null,null,null,null,null,null,null,null,null,null,null,null,null,null,null,null,null,null,null,null,null,null,null,null,null,null,null,null,null,null,null,null,null,null,null,null,null,null,null,null,null,null,null,"Львівська","Костенів"]
[null,null,null,null,null,null,null,null,null,null,null,null,null,null,null,null,null,null,null,null,null,null,null,null,null,null,null,null,null,null,null,null,null,null,null,null,null,null,null,null,null,null,null,null,null,"Львівська","Ладанці"]
[null,null,null,null,null,null,null,null,null,null,null,null,null,null,null,null,null,null,null,null,null,null,null,null,null,null,null,null,null,null,null,null,null,null,null,null,null,null,null,null,null,null,null,null,null,"Львівська","Листв'яне"]
[null,null,null,null,null,null,null,null,null,null,null,null,null,null,null,null,null,null,null,null,null,null,null,null,null,null,null,null,null,null,null,null,null,null,null,null,null,null,null,null,null,null,null,null,null,"Львівська","Маїки"]
[null,null,null,null,null,null,null,null,null,null,null,null,null,null,null,null,null,null,null,null,null,null,null,null,null,null,null,null,null,null,null,null,null,null,null,null,null,null,null,null,null,null,null,null,null,"Львівська","Малі Ланки"]
[null,null,null,null,null,null,null,null,null,null,null,null,null,null,null,null,null,null,null,null,null,null,null,null,null,null,null,null,null,null,null,null,null,null,null,null,null,null,null,null,null,null,null,null,null,"Львівська","Молотів"]
[null,null,null,null,null,null,null,null,null,null,null,null,null,null,null,null,null,null,null,null,null,null,null,null,null,null,null,null,null,null,null,null,null,null,null,null,null,null,null,null,null,null,null,null,null,"Львівська","Нагачів"]
[null,null,null,null,null,null,null,null,null,null,null,null,null,null,null,null,null,null,null,null,null,null,null,null,null,null,null,null,null,null,null,null,null,null,null,null,null,null,null,null,null,null,null,null,null,"Львівська","Новини"]
[null,null,null,null,null,null,null,null,null,null,null,null,null,null,null,null,null,null,null,null,null,null,null,null,null,null,null,null,null,null,null,null,null,null,null,null,null,null,null,null,null,null,null,null,null,"Львівська","Опори"]
[null,null,null,null,null,null,null,null,null,null,null,null,null,null,null,null,null,null,null,null,null,null,null,null,null,null,null,null,null,null,null,null,null,null,null,null,null,null,null,null,null,null,null,null,null,"Львівська","Папірня"]
[null,null,null,null,null,null,null,null,null,null,null,null,null,null,null,null,null,null,null,null,null,null,null,null,null,null,null,null,null,null,null,null,null,null,null,null,null,null,null,null,null,null,null,null,null,"Львівська","Пісок"]
[null,null,null,null,null,null,null,null,null,null,null,null,null,null,null,null,null,null,null,null,null,null,null,null,null,null,null,null,null,null,null,null,null,null,null,null,null,null,null,null,null,null,null,null,null,"Львівська","Погірці"]
[null,null,null,null,null,null,null,null,null,null,null,null,null,null,null,null,null,null,null,null,null,null,null,null,null,null,null,null,null,null,null,null,null,null,null,null,null,null,null,null,null,null,null,null,null,"Львівська","Раковища"]
[null,null,null,null,null,null,null,null,null,null,null,null,null,null,null,null,null,null,null,null,null,null,null,null,null,null,null,null,null,null,null,null,null,null,null,null,null,null,null,null,null,null,null,null,null,"Львівська","Рішин"]
[null,null,null,null,null,null,null,null,null,null,null,null,null,null,null,null,null,null,null,null,null,null,null,null,null,null,null,null,null,null,null,null,null,null,null,null,null,null,null,null,null,null,null,null,null,"Львівська","Себечів"]
[null,null,null,null,null,null,null,null,null,null,null,null,null,null,null,null,null,null,null,null,null,null,null,null,null,null,null,null,null,null,null,null,null,null,null,null,null,null,null,null,null,null,null,null,null,"Львівська","Слабаш"]
[null,null,null,null,null,null,null,null,null,null,null,null,null,null,null,null,null,null,null,null,null,null,null,null,null,null,null,null,null,null,null,null,null,null,null,null,null,null,null,null,null,null,null,null,null,"Львівська","Стені"]
[null,null,null,null,null,null,null,null,null,null,null,null,null,null,null,null,null,null,null,null,null,null,null,null,null,null,null,null,null,null,null,null,null,null,null,null,null,null,null,null,null,null,null,null,null,"Львівська","Стрілків"]
[null,null,null,null,null,null,null,null,null,null,null,null,null,null,null,null,null,null,null,null,null,null,null,null,null,null,null,null,null,null,null,null,null,null,null,null,null,null,null,null,null,null,null,null,null,"Львівська","Сушно"]
[null,null,null,null,null,null,null,null,null,null,null,null,null,null,null,null,null,null,null,null,null,null,null,null,null,null,null,null,null,null,null,null,null,null,null,null,null,null,null,null,null,null,null,null,null,"Львівська","Тур'я"]
[null,null,null,null,null,null,null,null,null,null,null,null,null,null,null,null,null,null,null,null,null,null,null,null,null,null,null,null,null,null,null,null,null,null,null,null,null,null,null,null,null,null,null,null,null,"Львівська","Фійна"]
[null,null,null,null,null,null,null,null,null,null,null,null,null,null,null,null,null,null,null,null,null,null,null,null,null,null,null,null,null,null,null,null,null,null,null,null,null,null,null,null,null,null,null,null,null,"Львівська","Черневе"]
[null,null,null,null,null,null,null,null,null,null,null,null,null,null,null,null,null,null,null,null,null,null,null,null,null,null,null,null,null,null,null,null,null,null,null,null,null,null,null,null,null,null,null,null,null,"Львівська","Штуковець"]
[null,null,null,null,null,null,null,null,null,null,null,null,null,null,null,null,null,null,null,null,null,null,null,null,null,null,null,null,null,null,null,null,null,null,null,null,null,null,null,null,null,null,null,null,null,"Миколаївська","Афанасівка"]
[null,null,null,null,null,null,null,null,null,null,null,null,null,null,null,null,null,null,null,null,null,null,null,null,null,null,null,null,null,null,null,null,null,null,null,null,null,null,null,null,null,null,null,null,null,"Миколаївська","Біла  Криниця (Білокриницька)"]
[null,null,null,null,null,null,null,null,null,null,null,null,null,null,null,null,null,null,null,null,null,null,null,null,null,null,null,null,null,null,null,null,null,null,null,null,null,null,null,null,null,null,null,null,null,"Миколаївська","Булацелове (Семенівська)"]
[null,null,null,null,null,null,null,null,null,null,null,null,null,null,null,null,null,null,null,null,null,null,null,null,null,null,null,null,null,null,null,null,null,null,null,null,null,null,null,null,null,null,null,null,null,"Миколаївська","Волна (Олександрівська)"]
[null,null,null,null,null,null,null,null,null,null,null,null,null,null,null,null,null,null,null,null,null,null,null,null,null,null,null,null,null,null,null,null,null,null,null,null,null,null,null,null,null,null,null,null,null,"Миколаївська","Гамове (Кубряцька)"]
[null,null,null,null,null,null,null,null,null,null,null,null,null,null,null,null,null,null,null,null,null,null,null,null,null,null,null,null,null,null,null,null,null,null,null,null,null,null,null,null,null,null,null,null,null,"Миколаївська","Зброшкове (Доманівська)"]
[null,null,null,null,null,null,null,null,null,null,null,null,null,null,null,null,null,null,null,null,null,null,null,null,null,null,null,null,null,null,null,null,null,null,null,null,null,null,null,null,null,null,null,null,null,"Миколаївська","Зелений Гай (Кашперо-Миколаївська)"]
[null,null,null,null,null,null,null,null,null,null,null,null,null,null,null,null,null,null,null,null,null,null,null,null,null,null,null,null,null,null,null,null,null,null,null,null,null,null,null,null,null,null,null,null,null,"Миколаївська","Кашперо-Миколаївка (Кашперо-Миколаївська)"]
[null,null,null,null,null,null,null,null,null,null,null,null,null,null,null,null,null,null,null,null,null,null,null,null,null,null,null,null,null,null,null,null,null,null,null,null,null,null,null,null,null,null,null,null,null,"Миколаївська","Колос Добра (Новоселівська)"]
[null,null,null,null,null,null,null,null,null,null,null,null,null,null,null,null,null,null,null,null,null,null,null,null,null,null,null,null,null,null,null,null,null,null,null,null,null,null,null,null,null,null,null,null,null,"Миколаївська","Лісове (Володимирівська)"]
[null,null,null,null,null,null,null,null,null,null,null,null,null,null,null,null,null,null,null,null,null,null,null,null,null,null,null,null,null,null,null,null,null,null,null,null,null,null,null,null,null,null,null,null,null,"Миколаївська","Макарове (Улянівська)"]
[null,null,null,null,null,null,null,null,null,null,null,null,null,null,null,null,null,null,null,null,null,null,null,null,null,null,null,null,null,null,null,null,null,null,null,null,null,null,null,null,null,null,null,null,null,"Миколаївська","Мостове (Ганнівська)"]
[null,null,null,null,null,null,null,null,null,null,null,null,null,null,null,null,null,null,null,null,null,null,null,null,null,null,null,null,null,null,null,null,null,null,null,null,null,null,null,null,null,null,null,null,null,"Миколаївська","Мостове (Мостівське)"]
[null,null,null,null,null,null,null,null,null,null,null,null,null,null,null,null,null,null,null,null,null,null,null,null,null,null,null,null,null,null,null,null,null,null,null,null,null,null,null,null,null,null,null,null,null,"Миколаївська","Новодмитрівка (Новомихайлівська)"]
[null,null,null,null,null,null,null,null,null,null,null,null,null,null,null,null,null,null,null,null,null,null,null,null,null,null,null,null,null,null,null,null,null,null,null,null,null,null,null,null,null,null,null,null,null,"Миколаївська","Новосілка (Подільська)"]
[null,null,null,null,null,null,null,null,null,null,null,null,null,null,null,null,null,null,null,null,null,null,null,null,null,null,null,null,null,null,null,null,null,null,null,null,null,null,null,null,null,null,null,null,null,"Миколаївська","Олександрівка (Антонівська)"]
[null,null,null,null,null,null,null,null,null,null,null,null,null,null,null,null,null,null,null,null,null,null,null,null,null,null,null,null,null,null,null,null,null,null,null,null,null,null,null,null,null,null,null,null,null,"Миколаївська","Показне (Вільнозапорізька)"]
[null,null,null,null,null,null,null,null,null,null,null,null,null,null,null,null,null,null,null,null,null,null,null,null,null,null,null,null,null,null,null,null,null,null,null,null,null,null,null,null,null,null,null,null,null,"Миколаївська","Пришиб (Висунська)"]
[null,null,null,null,null,null,null,null,null,null,null,null,null,null,null,null,null,null,null,null,null,null,null,null,null,null,null,null,null,null,null,null,null,null,null,null,null,null,null,null,null,null,null,null,null,"Миколаївська","Станіславчик (Болеславчицька)"]
[null,null,null,null,null,null,null,null,null,null,null,null,null,null,null,null,null,null,null,null,null,null,null,null,null,null,null,null,null,null,null,null,null,null,null,null,null,null,null,null,null,null,null,null,null,"Миколаївська","Тернові Поди (Краснознам'янська)"]
[null,null,null,null,null,null,null,null,null,null,null,null,null,null,null,null,null,null,null,null,null,null,null,null,null,null,null,null,null,null,null,null,null,null,null,null,null,null,null,null,null,null,null,null,null,"Миколаївська","Улянівка (Воронцівська)"]
[null,null,null,null,null,null,null,null,null,null,null,null,null,null,null,null,null,null,null,null,null,null,null,null,null,null,null,null,null,null,null,null,null,null,null,null,null,null,null,null,null,null,null,null,null,"Миколаївська","Шмідтівка (Матіясівська)"]
[null,null,null,null,null,null,null,null,null,null,null,null,null,null,null,null,null,null,null,null,null,null,null,null,null,null,null,null,null,null,null,null,null,null,null,null,null,null,null,null,null,null,null,null,null,"Миколаївська","Ясна Зоря (Ольшанська)"]
[null,null,null,null,null,null,null,null,null,null,null,null,null,null,null,null,null,null,null,null,null,null,null,null,null,null,null,null,null,null,null,null,null,null,null,null,null,null,null,null,null,null,null,null,null,"Одеська","Борщі"]
[null,null,null,null,null,null,null,null,null,null,null,null,null,null,null,null,null,null,null,null,null,null,null,null,null,null,null,null,null,null,null,null,null,null,null,null,null,null,null,null,null,null,null,null,null,"Одеська","Вапнярка"]
[null,null,null,null,null,null,null,null,null,null,null,null,null,null,null,null,null,null,null,null,null,null,null,null,null,null,null,null,null,null,null,null,null,null,null,null,null,null,null,null,null,null,null,null,null,"Одеська","Дальнічень"]
[null,null,null,null,null,null,null,null,null,null,null,null,null,null,null,null,null,null,null,null,null,null,null,null,null,null,null,null,null,null,null,null,null,null,null,null,null,null,null,null,null,null,null,null,null,"Одеська","Єфросинівка"]
[null,null,null,null,null,null,null,null,null,null,null,null,null,null,null,null,null,null,null,null,null,null,null,null,null,null,null,null,null,null,null,null,null,null,null,null,null,null,null,null,null,null,null,null,null,"Одеська","Кілія"]
[null,null,null,null,null,null,null,null,null,null,null,null,null,null,null,null,null,null,null,null,null,null,null,null,null,null,null,null,null,null,null,null,null,null,null,null,null,null,null,null,null,null,null,null,null,"Одеська","Котовці"]
[null,null,null,null,null,null,null,null,null,null,null,null,null,null,null,null,null,null,null,null,null,null,null,null,null,null,null,null,null,null,null,null,null,null,null,null,null,null,null,null,null,null,null,null,null,"Одеська","Левадівка"]
[null,null,null,null,null,null,null,null,null,null,null,null,null,null,null,null,null,null,null,null,null,null,null,null,null,null,null,null,null,null,null,null,null,null,null,null,null,null,null,null,null,null,null,null,null,"Одеська","Муравлівка"]
[null,null,null,null,null,null,null,null,null,null,null,null,null,null,null,null,null,null,null,null,null,null,null,null,null,null,null,null,null,null,null,null,null,null,null,null,null,null,null,null,null,null,null,null,null,"Одеська","Нова Плахтіївка"]
[null,null,null,null,null,null,null,null,null,null,null,null,null,null,null,null,null,null,null,null,null,null,null,null,null,null,null,null,null,null,null,null,null,null,null,null,null,null,null,null,null,null,null,null,null,"Одеська","Олександрівка (Петрівська)"]
[null,null,null,null,null,null,null,null,null,null,null,null,null,null,null,null,null,null,null,null,null,null,null,null,null,null,null,null,null,null,null,null,null,null,null,null,null,null,null,null,null,null,null,null,null,"Одеська","Полянецьке"]
[null,null,null,null,null,null,null,null,null,null,null,null,null,null,null,null,null,null,null,null,null,null,null,null,null,null,null,null,null,null,null,null,null,null,null,null,null,null,null,null,null,null,null,null,null,"Одеська","Созонівка"]
[null,null,null,null,null,null,null,null,null,null,null,null,null,null,null,null,null,null,null,null,null,null,null,null,null,null,null,null,null,null,null,null,null,null,null,null,null,null,null,null,null,null,null,null,null,"Одеська","Струтинка"]
[null,null,null,null,null,null,null,null,null,null,null,null,null,null,null,null,null,null,null,null,null,null,null,null,null,null,null,null,null,null,null,null,null,null,null,null,null,null,null,null,null,null,null,null,null,"Одеська","Тузли"]
[null,null,null,null,null,null,null,null,null,null,null,null,null,null,null,null,null,null,null,null,null,null,null,null,null,null,null,null,null,null,null,null,null,null,null,null,null,null,null,null,null,null,null,null,null,"Одеська","Якова"]
[null,null,null,null,null,null,null,null,null,null,null,null,null,null,null,null,null,null,null,null,null,null,null,null,null,null,null,null,null,null,null,null,null,null,null,null,null,null,null,null,null,null,null,null,null,"Полтавська","Бабайкове"]
[null,null,null,null,null,null,null,null,null,null,null,null,null,null,null,null,null,null,null,null,null,null,null,null,null,null,null,null,null,null,null,null,null,null,null,null,null,null,null,null,null,null,null,null,null,"Полтавська","Біївці"]
[null,null,null,null,null,null,null,null,null,null,null,null,null,null,null,null,null,null,null,null,null,null,null,null,null,null,null,null,null,null,null,null,null,null,null,null,null,null,null,null,null,null,null,null,null,"Полтавська","Бурімка"]
[null,null,null,null,null,null,null,null,null,null,null,null,null,null,null,null,null,null,null,null,null,null,null,null,null,null,null,null,null,null,null,null,null,null,null,null,null,null,null,null,null,null,null,null,null,"Полтавська","Вили"]
[null,null,null,null,null,null,null,null,null,null,null,null,null,null,null,null,null,null,null,null,null,null,null,null,null,null,null,null,null,null,null,null,null,null,null,null,null,null,null,null,null,null,null,null,null,"Полтавська","Вінтенці"]
[null,null,null,null,null,null,null,null,null,null,null,null,null,null,null,null,null,null,null,null,null,null,null,null,null,null,null,null,null,null,null,null,null,null,null,null,null,null,null,null,null,null,null,null,null,"Полтавська","Голобородьківське"]
[null,null,null,null,null,null,null,null,null,null,null,null,null,null,null,null,null,null,null,null,null,null,null,null,null,null,null,null,null,null,null,null,null,null,null,null,null,null,null,null,null,null,null,null,null,"Полтавська","Григоро-Бригадирівка"]
[null,null,null,null,null,null,null,null,null,null,null,null,null,null,null,null,null,null,null,null,null,null,null,null,null,null,null,null,null,null,null,null,null,null,null,null,null,null,null,null,null,null,null,null,null,"Полтавська","Дашківка"]
[null,null,null,null,null,null,null,null,null,null,null,null,null,null,null,null,null,null,null,null,null,null,null,null,null,null,null,null,null,null,null,null,null,null,null,null,null,null,null,null,null,null,null,null,null,"Полтавська","Жадани"]
[null,null,null,null,null,null,null,null,null,null,null,null,null,null,null,null,null,null,null,null,null,null,null,null,null,null,null,null,null,null,null,null,null,null,null,null,null,null,null,null,null,null,null,null,null,"Полтавська","Ївженки"]
[null,null,null,null,null,null,null,null,null,null,null,null,null,null,null,null,null,null,null,null,null,null,null,null,null,null,null,null,null,null,null,null,null,null,null,null,null,null,null,null,null,null,null,null,null,"Полтавська","Ковердина Балка"]
[null,null,null,null,null,null,null,null,null,null,null,null,null,null,null,null,null,null,null,null,null,null,null,null,null,null,null,null,null,null,null,null,null,null,null,null,null,null,null,null,null,null,null,null,null,"Полтавська","Коновалівка"]
[null,null,null,null,null,null,null,null,null,null,null,null,null,null,null,null,null,null,null,null,null,null,null,null,null,null,null,null,null,null,null,null,null,null,null,null,null,null,null,null,null,null,null,null,null,"Полтавська","Кунівка"]
[null,null,null,null,null,null,null,null,null,null,null,null,null,null,null,null,null,null,null,null,null,null,null,null,null,null,null,null,null,null,null,null,null,null,null,null,null,null,null,null,null,null,null,null,null,"Полтавська","Ламане"]
[null,null,null,null,null,null,null,null,null,null,null,null,null,null,null,null,null,null,null,null,null,null,null,null,null,null,null,null,null,null,null,null,null,null,null,null,null,null,null,null,null,null,null,null,null,"Полтавська","Лізки"]
[null,null,null,null,null,null,null,null,null,null,null,null,null,null,null,null,null,null,null,null,null,null,null,null,null,null,null,null,null,null,null,null,null,null,null,null,null,null,null,null,null,null,null,null,null,"Полтавська","Малютинці"]
[null,null,null,null,null,null,null,null,null,null,null,null,null,null,null,null,null,null,null,null,null,null,null,null,null,null,null,null,null,null,null,null,null,null,null,null,null,null,null,null,null,null,null,null,null,"Полтавська","Мачухи"]
[null,null,null,null,null,null,null,null,null,null,null,null,null,null,null,null,null,null,null,null,null,null,null,null,null,null,null,null,null,null,null,null,null,null,null,null,null,null,null,null,null,null,null,null,null,"Полтавська","Нижні Яреськи"]
[null,null,null,null,null,null,null,null,null,null,null,null,null,null,null,null,null,null,null,null,null,null,null,null,null,null,null,null,null,null,null,null,null,null,null,null,null,null,null,null,null,null,null,null,null,"Полтавська","Новий Виселок"]
[null,null,null,null,null,null,null,null,null,null,null,null,null,null,null,null,null,null,null,null,null,null,null,null,null,null,null,null,null,null,null,null,null,null,null,null,null,null,null,null,null,null,null,null,null,"Полтавська","Панченки"]
[null,null,null,null,null,null,null,null,null,null,null,null,null,null,null,null,null,null,null,null,null,null,null,null,null,null,null,null,null,null,null,null,null,null,null,null,null,null,null,null,null,null,null,null,null,"Полтавська","Першотравневе"]
[null,null,null,null,null,null,null,null,null,null,null,null,null,null,null,null,null,null,null,null,null,null,null,null,null,null,null,null,null,null,null,null,null,null,null,null,null,null,null,null,null,null,null,null,null,"Полтавська","Пристанційне"]
[null,null,null,null,null,null,null,null,null,null,null,null,null,null,null,null,null,null,null,null,null,null,null,null,null,null,null,null,null,null,null,null,null,null,null,null,null,null,null,null,null,null,null,null,null,"Полтавська","Пушкареве"]
[null,null,null,null,null,null,null,null,null,null,null,null,null,null,null,null,null,null,null,null,null,null,null,null,null,null,null,null,null,null,null,null,null,null,null,null,null,null,null,null,null,null,null,null,null,"Полтавська","Свиридівка"]
[null,null,null,null,null,null,null,null,null,null,null,null,null,null,null,null,null,null,null,null,null,null,null,null,null,null,null,null,null,null,null,null,null,null,null,null,null,null,null,null,null,null,null,null,null,"Полтавська","Сиротенки"]
[null,null,null,null,null,null,null,null,null,null,null,null,null,null,null,null,null,null,null,null,null,null,null,null,null,null,null,null,null,null,null,null,null,null,null,null,null,null,null,null,null,null,null,null,null,"Полтавська","Снітине"]
[null,null,null,null,null,null,null,null,null,null,null,null,null,null,null,null,null,null,null,null,null,null,null,null,null,null,null,null,null,null,null,null,null,null,null,null,null,null,null,null,null,null,null,null,null,"Полтавська","Сухорабівка"]
[null,null,null,null,null,null,null,null,null,null,null,null,null,null,null,null,null,null,null,null,null,null,null,null,null,null,null,null,null,null,null,null,null,null,null,null,null,null,null,null,null,null,null,null,null,"Полтавська","Трирогове"]
[null,null,null,null,null,null,null,null,null,null,null,null,null,null,null,null,null,null,null,null,null,null,null,null,null,null,null,null,null,null,null,null,null,null,null,null,null,null,null,null,null,null,null,null,null,"Полтавська","Хорішки"]
[null,null,null,null,null,null,null,null,null,null,null,null,null,null,null,null,null,null,null,null,null,null,null,null,null,null,null,null,null,null,null,null,null,null,null,null,null,null,null,null,null,null,null,null,null,"Полтавська","Червоні Квіти"]
[null,null,null,null,null,null,null,null,null,null,null,null,null,null,null,null,null,null,null,null,null,null,null,null,null,null,null,null,null,null,null,null,null,null,null,null,null,null,null,null,null,null,null,null,null,"Полтавська","Шостаки"]
[null,null,null,null,null,null,null,null,null,null,null,null,null,null,null,null,null,null,null,null,null,null,null,null,null,null,null,null,null,null,null,null,null,null,null,null,null,null,null,null,null,null,null,null,null,"Полтавська","Ялосовецьке"]
[null,null,null,null,null,null,null,null,null,null,null,null,null,null,null,null,null,null,null,null,null,null,null,null,null,null,null,null,null,null,null,null,null,null,null,null,null,null,null,null,null,null,null,null,null,"Рівненська","Бармаки"]
[null,null,null,null,null,null,null,null,null,null,null,null,null,null,null,null,null,null,null,null,null,null,null,null,null,null,null,null,null,null,null,null,null,null,null,null,null,null,null,null,null,null,null,null,null,"Рівненська","Варковичі"]
[null,null,null,null,null,null,null,null,null,null,null,null,null,null,null,null,null,null,null,null,null,null,null,null,null,null,null,null,null,null,null,null,null,null,null,null,null,null,null,null,null,null,null,null,null,"Рівненська","Великі Загірці"]
[null,null,null,null,null,null,null,null,null,null,null,null,null,null,null,null,null,null,null,null,null,null,null,null,null,null,null,null,null,null,null,null,null,null,null,null,null,null,null,null,null,null,null,null,null,"Рівненська","Гільча Перша"]
[null,null,null,null,null,null,null,null,null,null,null,null,null,null,null,null,null,null,null,null,null,null,null,null,null,null,null,null,null,null,null,null,null,null,null,null,null,null,null,null,null,null,null,null,null,"Рівненська","Диків"]
[null,null,null,null,null,null,null,null,null,null,null,null,null,null,null,null,null,null,null,null,null,null,null,null,null,null,null,null,null,null,null,null,null,null,null,null,null,null,null,null,null,null,null,null,null,"Рівненська","Зносичі"]
[null,null,null,null,null,null,null,null,null,null,null,null,null,null,null,null,null,null,null,null,null,null,null,null,null,null,null,null,null,null,null,null,null,null,null,null,null,null,null,null,null,null,null,null,null,"Рівненська","Квасилів"]
[null,null,null,null,null,null,null,null,null,null,null,null,null,null,null,null,null,null,null,null,null,null,null,null,null,null,null,null,null,null,null,null,null,null,null,null,null,null,null,null,null,null,null,null,null,"Рівненська","Кухче"]
[null,null,null,null,null,null,null,null,null,null,null,null,null,null,null,null,null,null,null,null,null,null,null,null,null,null,null,null,null,null,null,null,null,null,null,null,null,null,null,null,null,null,null,null,null,"Рівненська","Макотерти"]
[null,null,null,null,null,null,null,null,null,null,null,null,null,null,null,null,null,null,null,null,null,null,null,null,null,null,null,null,null,null,null,null,null,null,null,null,null,null,null,null,null,null,null,null,null,"Рівненська","Малі Телковичі"]
[null,null,null,null,null,null,null,null,null,null,null,null,null,null,null,null,null,null,null,null,null,null,null,null,null,null,null,null,null,null,null,null,null,null,null,null,null,null,null,null,null,null,null,null,null,"Рівненська","М'ятин"]
[null,null,null,null,null,null,null,null,null,null,null,null,null,null,null,null,null,null,null,null,null,null,null,null,null,null,null,null,null,null,null,null,null,null,null,null,null,null,null,null,null,null,null,null,null,"Рівненська","Олибів"]
[null,null,null,null,null,null,null,null,null,null,null,null,null,null,null,null,null,null,null,null,null,null,null,null,null,null,null,null,null,null,null,null,null,null,null,null,null,null,null,null,null,null,null,null,null,"Рівненська","Працюки"]
[null,null,null,null,null,null,null,null,null,null,null,null,null,null,null,null,null,null,null,null,null,null,null,null,null,null,null,null,null,null,null,null,null,null,null,null,null,null,null,null,null,null,null,null,null,"Рівненська","Річечина"]
[null,null,null,null,null,null,null,null,null,null,null,null,null,null,null,null,null,null,null,null,null,null,null,null,null,null,null,null,null,null,null,null,null,null,null,null,null,null,null,null,null,null,null,null,null,"Рівненська","Степангород"]
[null,null,null,null,null,null,null,null,null,null,null,null,null,null,null,null,null,null,null,null,null,null,null,null,null,null,null,null,null,null,null,null,null,null,null,null,null,null,null,null,null,null,null,null,null,"Рівненська","Тесів"]
[null,null,null,null,null,null,null,null,null,null,null,null,null,null,null,null,null,null,null,null,null,null,null,null,null,null,null,null,null,null,null,null,null,null,null,null,null,null,null,null,null,null,null,null,null,"Рівненська","Удрицьк"]
[null,null,null,null,null,null,null,null,null,null,null,null,null,null,null,null,null,null,null,null,null,null,null,null,null,null,null,null,null,null,null,null,null,null,null,null,null,null,null,null,null,null,null,null,null,"Севастополь","Родніківське"]
[null,null,null,null,null,null,null,null,null,null,null,null,null,null,null,null,null,null,null,null,null,null,null,null,null,null,null,null,null,null,null,null,null,null,null,null,null,null,null,null,null,null,null,null,null,"Сумська","Артемо-растівка (Мартинівка)"]
[null,null,null,null,null,null,null,null,null,null,null,null,null,null,null,null,null,null,null,null,null,null,null,null,null,null,null,null,null,null,null,null,null,null,null,null,null,null,null,null,null,null,null,null,null,"Сумська","Бороданове"]
[null,null,null,null,null,null,null,null,null,null,null,null,null,null,null,null,null,null,null,null,null,null,null,null,null,null,null,null,null,null,null,null,null,null,null,null,null,null,null,null,null,null,null,null,null,"Сумська","Будне (Лантратівка)"]
[null,null,null,null,null,null,null,null,null,null,null,null,null,null,null,null,null,null,null,null,null,null,null,null,null,null,null,null,null,null,null,null,null,null,null,null,null,null,null,null,null,null,null,null,null,"Сумська","Вільна Слобода"]
[null,null,null,null,null,null,null,null,null,null,null,null,null,null,null,null,null,null,null,null,null,null,null,null,null,null,null,null,null,null,null,null,null,null,null,null,null,null,null,null,null,null,null,null,null,"Сумська","Воропаї"]
[null,null,null,null,null,null,null,null,null,null,null,null,null,null,null,null,null,null,null,null,null,null,null,null,null,null,null,null,null,null,null,null,null,null,null,null,null,null,null,null,null,null,null,null,null,"Сумська","Грінченкове"]
[null,null,null,null,null,null,null,null,null,null,null,null,null,null,null,null,null,null,null,null,null,null,null,null,null,null,null,null,null,null,null,null,null,null,null,null,null,null,null,null,null,null,null,null,null,"Сумська","Дернове"]
[null,null,null,null,null,null,null,null,null,null,null,null,null,null,null,null,null,null,null,null,null,null,null,null,null,null,null,null,null,null,null,null,null,null,null,null,null,null,null,null,null,null,null,null,null,"Сумська","Дяківка"]
[null,null,null,null,null,null,null,null,null,null,null,null,null,null,null,null,null,null,null,null,null,null,null,null,null,null,null,null,null,null,null,null,null,null,null,null,null,null,null,null,null,null,null,null,null,"Сумська","Карпенкове"]
[null,null,null,null,null,null,null,null,null,null,null,null,null,null,null,null,null,null,null,null,null,null,null,null,null,null,null,null,null,null,null,null,null,null,null,null,null,null,null,null,null,null,null,null,null,"Сумська","Клочківка"]
[null,null,null,null,null,null,null,null,null,null,null,null,null,null,null,null,null,null,null,null,null,null,null,null,null,null,null,null,null,null,null,null,null,null,null,null,null,null,null,null,null,null,null,null,null,"Сумська","Кудоярове"]
[null,null,null,null,null,null,null,null,null,null,null,null,null,null,null,null,null,null,null,null,null,null,null,null,null,null,null,null,null,null,null,null,null,null,null,null,null,null,null,null,null,null,null,null,null,"Сумська","Липняк"]
[null,null,null,null,null,null,null,null,null,null,null,null,null,null,null,null,null,null,null,null,null,null,null,null,null,null,null,null,null,null,null,null,null,null,null,null,null,null,null,null,null,null,null,null,null,"Сумська","Масензівка"]
[null,null,null,null,null,null,null,null,null,null,null,null,null,null,null,null,null,null,null,null,null,null,null,null,null,null,null,null,null,null,null,null,null,null,null,null,null,null,null,null,null,null,null,null,null,"Сумська","Могриця"]
[null,null,null,null,null,null,null,null,null,null,null,null,null,null,null,null,null,null,null,null,null,null,null,null,null,null,null,null,null,null,null,null,null,null,null,null,null,null,null,null,null,null,null,null,null,"Сумська","Нелени"]
[null,null,null,null,null,null,null,null,null,null,null,null,null,null,null,null,null,null,null,null,null,null,null,null,null,null,null,null,null,null,null,null,null,null,null,null,null,null,null,null,null,null,null,null,null,"Сумська","Осоївка"]
[null,null,null,null,null,null,null,null,null,null,null,null,null,null,null,null,null,null,null,null,null,null,null,null,null,null,null,null,null,null,null,null,null,null,null,null,null,null,null,null,null,null,null,null,null,"Сумська","Перехрестівка (Северинівська)"]
[null,null,null,null,null,null,null,null,null,null,null,null,null,null,null,null,null,null,null,null,null,null,null,null,null,null,null,null,null,null,null,null,null,null,null,null,null,null,null,null,null,null,null,null,null,"Сумська","Радгоспне (Буймер)"]
[null,null,null,null,null,null,null,null,null,null,null,null,null,null,null,null,null,null,null,null,null,null,null,null,null,null,null,null,null,null,null,null,null,null,null,null,null,null,null,null,null,null,null,null,null,"Сумська","Розсохувате (Грінченкове)"]
[null,null,null,null,null,null,null,null,null,null,null,null,null,null,null,null,null,null,null,null,null,null,null,null,null,null,null,null,null,null,null,null,null,null,null,null,null,null,null,null,null,null,null,null,null,"Сумська","Собич"]
[null,null,null,null,null,null,null,null,null,null,null,null,null,null,null,null,null,null,null,null,null,null,null,null,null,null,null,null,null,null,null,null,null,null,null,null,null,null,null,null,null,null,null,null,null,"Сумська","Сорочинське"]
[null,null,null,null,null,null,null,null,null,null,null,null,null,null,null,null,null,null,null,null,null,null,null,null,null,null,null,null,null,null,null,null,null,null,null,null,null,null,null,null,null,null,null,null,null,"Сумська","Хильчичі"]
[null,null,null,null,null,null,null,null,null,null,null,null,null,null,null,null,null,null,null,null,null,null,null,null,null,null,null,null,null,null,null,null,null,null,null,null,null,null,null,null,null,null,null,null,null,"Сумська","Чеберяки"]
[null,null,null,null,null,null,null,null,null,null,null,null,null,null,null,null,null,null,null,null,null,null,null,null,null,null,null,null,null,null,null,null,null,null,null,null,null,null,null,null,null,null,null,null,null,"Сумська","Щекино"]
[null,null,null,null,null,null,null,null,null,null,null,null,null,null,null,null,null,null,null,null,null,null,null,null,null,null,null,null,null,null,null,null,null,null,null,null,null,null,null,null,null,null,null,null,null,"Тернопільська","Антонів (Свидівська сільська рада)"]
[null,null,null,null,null,null,null,null,null,null,null,null,null,null,null,null,null,null,null,null,null,null,null,null,null,null,null,null,null,null,null,null,null,null,null,null,null,null,null,null,null,null,null,null,null,"Тернопільська","Берем'яни (Берем'янська сільська рада)"]
[null,null,null,null,null,null,null,null,null,null,null,null,null,null,null,null,null,null,null,null,null,null,null,null,null,null,null,null,null,null,null,null,null,null,null,null,null,null,null,null,null,null,null,null,null,"Тернопільська","Броварі (Язловецька сільська рада)"]
[null,null,null,null,null,null,null,null,null,null,null,null,null,null,null,null,null,null,null,null,null,null,null,null,null,null,null,null,null,null,null,null,null,null,null,null,null,null,null,null,null,null,null,null,null,"Тернопільська","Великі Кусківці (Великокусковецька сільська рада)"]
[null,null,null,null,null,null,null,null,null,null,null,null,null,null,null,null,null,null,null,null,null,null,null,null,null,null,null,null,null,null,null,null,null,null,null,null,null,null,null,null,null,null,null,null,null,"Тернопільська","Гадинківці (Гадинківська сільська рада)"]
[null,null,null,null,null,null,null,null,null,null,null,null,null,null,null,null,null,null,null,null,null,null,null,null,null,null,null,null,null,null,null,null,null,null,null,null,null,null,null,null,null,null,null,null,null,"Тернопільська","Гнилички (Новосільська сільська рада)"]
[null,null,null,null,null,null,null,null,null,null,null,null,null,null,null,null,null,null,null,null,null,null,null,null,null,null,null,null,null,null,null,null,null,null,null,null,null,null,null,null,null,null,null,null,null,"Тернопільська","Дзвинячка (Дзвиняцька сільська рада)"]
[null,null,null,null,null,null,null,null,null,null,null,null,null,null,null,null,null,null,null,null,null,null,null,null,null,null,null,null,null,null,null,null,null,null,null,null,null,null,null,null,null,null,null,null,null,"Тернопільська","Домаморич (Домаморицька сільська рада)"]
[null,null,null,null,null,null,null,null,null,null,null,null,null,null,null,null,null,null,null,null,null,null,null,null,null,null,null,null,null,null,null,null,null,null,null,null,null,null,null,null,null,null,null,null,null,"Тернопільська","Жуків (Жуківська сільська рада)"]
[null,null,null,null,null,null,null,null,null,null,null,null,null,null,null,null,null,null,null,null,null,null,null,null,null,null,null,null,null,null,null,null,null,null,null,null,null,null,null,null,null,null,null,null,null,"Тернопільська","Іванівка (Іванівська сільська рада)"]
[null,null,null,null,null,null,null,null,null,null,null,null,null,null,null,null,null,null,null,null,null,null,null,null,null,null,null,null,null,null,null,null,null,null,null,null,null,null,null,null,null,null,null,null,null,"Тернопільська","Ілавче (Ілавченська сільська рада)"]
[null,null,null,null,null,null,null,null,null,null,null,null,null,null,null,null,null,null,null,null,null,null,null,null,null,null,null,null,null,null,null,null,null,null,null,null,null,null,null,null,null,null,null,null,null,"Тернопільська","Королівка (Королівська сільська рада)"]
[null,null,null,null,null,null,null,null,null,null,null,null,null,null,null,null,null,null,null,null,null,null,null,null,null,null,null,null,null,null,null,null,null,null,null,null,null,null,null,null,null,null,null,null,null,"Тернопільська","Красівка (Дичківська сільська рада)"]
[null,null,null,null,null,null,null,null,null,null,null,null,null,null,null,null,null,null,null,null,null,null,null,null,null,null,null,null,null,null,null,null,null,null,null,null,null,null,null,null,null,null,null,null,null,"Тернопільська","Лози (Лозівська сільська рада)"]
[null,null,null,null,null,null,null,null,null,null,null,null,null,null,null,null,null,null,null,null,null,null,null,null,null,null,null,null,null,null,null,null,null,null,null,null,null,null,null,null,null,null,null,null,null,"Тернопільська","Мала Березовиця (Іванчанська сільська рада)"]
[null,null,null,null,null,null,null,null,null,null,null,null,null,null,null,null,null,null,null,null,null,null,null,null,null,null,null,null,null,null,null,null,null,null,null,null,null,null,null,null,null,null,null,null,null,"Тернопільська","Мовчанівка (Кам\"янківська сільська рада)"]
[null,null,null,null,null,null,null,null,null,null,null,null,null,null,null,null,null,null,null,null,null,null,null,null,null,null,null,null,null,null,null,null,null,null,null,null,null,null,null,null,null,null,null,null,null,"Тернопільська","Нараїв (Нараївська сільська рада)"]
[null,null,null,null,null,null,null,null,null,null,null,null,null,null,null,null,null,null,null,null,null,null,null,null,null,null,null,null,null,null,null,null,null,null,null,null,null,null,null,null,null,null,null,null,null,"Тернопільська","Новосілка (Малобірківська сільська рада)"]
[null,null,null,null,null,null,null,null,null,null,null,null,null,null,null,null,null,null,null,null,null,null,null,null,null,null,null,null,null,null,null,null,null,null,null,null,null,null,null,null,null,null,null,null,null,"Тернопільська","Пищатинці (Пищатинська сільська рада)"]
[null,null,null,null,null,null,null,null,null,null,null,null,null,null,null,null,null,null,null,null,null,null,null,null,null,null,null,null,null,null,null,null,null,null,null,null,null,null,null,null,null,null,null,null,null,"Тернопільська","Піщане (Ратищівська сільська рада)"]
[null,null,null,null,null,null,null,null,null,null,null,null,null,null,null,null,null,null,null,null,null,null,null,null,null,null,null,null,null,null,null,null,null,null,null,null,null,null,null,null,null,null,null,null,null,"Тернопільська","Розгадів (Розгадівська сільська рада)"]
[null,null,null,null,null,null,null,null,null,null,null,null,null,null,null,null,null,null,null,null,null,null,null,null,null,null,null,null,null,null,null,null,null,null,null,null,null,null,null,null,null,null,null,null,null,"Тернопільська","Сапова (Вишнівчицька сільська рада)"]
[null,null,null,null,null,null,null,null,null,null,null,null,null,null,null,null,null,null,null,null,null,null,null,null,null,null,null,null,null,null,null,null,null,null,null,null,null,null,null,null,null,null,null,null,null,"Тернопільська","Стара Могильниця (Могильницька сільська рада)"]
[null,null,null,null,null,null,null,null,null,null,null,null,null,null,null,null,null,null,null,null,null,null,null,null,null,null,null,null,null,null,null,null,null,null,null,null,null,null,null,null,null,null,null,null,null,"Тернопільська","Сухостав (Сухоставська сільська рада)"]
[null,null,null,null,null,null,null,null,null,null,null,null,null,null,null,null,null,null,null,null,null,null,null,null,null,null,null,null,null,null,null,null,null,null,null,null,null,null,null,null,null,null,null,null,null,"Тернопільська","Товсте (Товстенська сільська рада)"]
[null,null,null,null,null,null,null,null,null,null,null,null,null,null,null,null,null,null,null,null,null,null,null,null,null,null,null,null,null,null,null,null,null,null,null,null,null,null,null,null,null,null,null,null,null,"Тернопільська","Цецівка (Годівська сільська рада)"]
[null,null,null,null,null,null,null,null,null,null,null,null,null,null,null,null,null,null,null,null,null,null,null,null,null,null,null,null,null,null,null,null,null,null,null,null,null,null,null,null,null,null,null,null,null,"Тернопільська","Швайківці (Швайківська сільська рада)"]
[null,null,null,null,null,null,null,null,null,null,null,null,null,null,null,null,null,null,null,null,null,null,null,null,null,null,null,null,null,null,null,null,null,null,null,null,null,null,null,null,null,null,null,null,null,"Харківська","Бабенки"]
[null,null,null,null,null,null,null,null,null,null,null,null,null,null,null,null,null,null,null,null,null,null,null,null,null,null,null,null,null,null,null,null,null,null,null,null,null,null,null,null,null,null,null,null,null,"Харківська","Безпалівка (Таранівська сільська рада)"]
[null,null,null,null,null,null,null,null,null,null,null,null,null,null,null,null,null,null,null,null,null,null,null,null,null,null,null,null,null,null,null,null,null,null,null,null,null,null,null,null,null,null,null,null,null,"Харківська","Василівка (Моначинівська сільрада)"]
[null,null,null,null,null,null,null,null,null,null,null,null,null,null,null,null,null,null,null,null,null,null,null,null,null,null,null,null,null,null,null,null,null,null,null,null,null,null,null,null,null,null,null,null,null,"Харківська","Велика Кадигробівка"]
[null,null,null,null,null,null,null,null,null,null,null,null,null,null,null,null,null,null,null,null,null,null,null,null,null,null,null,null,null,null,null,null,null,null,null,null,null,null,null,null,null,null,null,null,null,"Харківська","Відрожденівське"]
[null,null,null,null,null,null,null,null,null,null,null,null,null,null,null,null,null,null,null,null,null,null,null,null,null,null,null,null,null,null,null,null,null,null,null,null,null,null,null,null,null,null,null,null,null,"Харківська","Глушківка"]
[null,null,null,null,null,null,null,null,null,null,null,null,null,null,null,null,null,null,null,null,null,null,null,null,null,null,null,null,null,null,null,null,null,null,null,null,null,null,null,null,null,null,null,null,null,"Харківська","Гракове"]
[null,null,null,null,null,null,null,null,null,null,null,null,null,null,null,null,null,null,null,null,null,null,null,null,null,null,null,null,null,null,null,null,null,null,null,null,null,null,null,null,null,null,null,null,null,"Харківська","Дудківка"]
[null,null,null,null,null,null,null,null,null,null,null,null,null,null,null,null,null,null,null,null,null,null,null,null,null,null,null,null,null,null,null,null,null,null,null,null,null,null,null,null,null,null,null,null,null,"Харківська","Завадівка"]
[null,null,null,null,null,null,null,null,null,null,null,null,null,null,null,null,null,null,null,null,null,null,null,null,null,null,null,null,null,null,null,null,null,null,null,null,null,null,null,null,null,null,null,null,null,"Харківська","Ізюм"]
[null,null,null,null,null,null,null,null,null,null,null,null,null,null,null,null,null,null,null,null,null,null,null,null,null,null,null,null,null,null,null,null,null,null,null,null,null,null,null,null,null,null,null,null,null,"Харківська","Кобзівка Друга"]
[null,null,null,null,null,null,null,null,null,null,null,null,null,null,null,null,null,null,null,null,null,null,null,null,null,null,null,null,null,null,null,null,null,null,null,null,null,null,null,null,null,null,null,null,null,"Харківська","Кочетівка"]
[null,null,null,null,null,null,null,null,null,null,null,null,null,null,null,null,null,null,null,null,null,null,null,null,null,null,null,null,null,null,null,null,null,null,null,null,null,null,null,null,null,null,null,null,null,"Харківська","Кручик"]
[null,null,null,null,null,null,null,null,null,null,null,null,null,null,null,null,null,null,null,null,null,null,null,null,null,null,null,null,null,null,null,null,null,null,null,null,null,null,null,null,null,null,null,null,null,"Харківська","Ландишеве"]
[null,null,null,null,null,null,null,null,null,null,null,null,null,null,null,null,null,null,null,null,null,null,null,null,null,null,null,null,null,null,null,null,null,null,null,null,null,null,null,null,null,null,null,null,null,"Харківська","Мануїлівка"]
[null,null,null,null,null,null,null,null,null,null,null,null,null,null,null,null,null,null,null,null,null,null,null,null,null,null,null,null,null,null,null,null,null,null,null,null,null,null,null,null,null,null,null,null,null,"Харківська","Миколо-Комишувата"]
[null,null,null,null,null,null,null,null,null,null,null,null,null,null,null,null,null,null,null,null,null,null,null,null,null,null,null,null,null,null,null,null,null,null,null,null,null,null,null,null,null,null,null,null,null,"Харківська","Надеждівка"]
[null,null,null,null,null,null,null,null,null,null,null,null,null,null,null,null,null,null,null,null,null,null,null,null,null,null,null,null,null,null,null,null,null,null,null,null,null,null,null,null,null,null,null,null,null,"Харківська","Новомиколаївка (Асіївська сільська рада)"]
[null,null,null,null,null,null,null,null,null,null,null,null,null,null,null,null,null,null,null,null,null,null,null,null,null,null,null,null,null,null,null,null,null,null,null,null,null,null,null,null,null,null,null,null,null,"Харківська","Паризьке"]
[null,null,null,null,null,null,null,null,null,null,null,null,null,null,null,null,null,null,null,null,null,null,null,null,null,null,null,null,null,null,null,null,null,null,null,null,null,null,null,null,null,null,null,null,null,"Харківська","Петрищеве"]
[null,null,null,null,null,null,null,null,null,null,null,null,null,null,null,null,null,null,null,null,null,null,null,null,null,null,null,null,null,null,null,null,null,null,null,null,null,null,null,null,null,null,null,null,null,"Харківська","П'ятницьке"]
[null,null,null,null,null,null,null,null,null,null,null,null,null,null,null,null,null,null,null,null,null,null,null,null,null,null,null,null,null,null,null,null,null,null,null,null,null,null,null,null,null,null,null,null,null,"Харківська","Рижове"]
[null,null,null,null,null,null,null,null,null,null,null,null,null,null,null,null,null,null,null,null,null,null,null,null,null,null,null,null,null,null,null,null,null,null,null,null,null,null,null,null,null,null,null,null,null,"Харківська","Скиртяне"]
[null,null,null,null,null,null,null,null,null,null,null,null,null,null,null,null,null,null,null,null,null,null,null,null,null,null,null,null,null,null,null,null,null,null,null,null,null,null,null,null,null,null,null,null,null,"Харківська","Соцзмагання"]
[null,null,null,null,null,null,null,null,null,null,null,null,null,null,null,null,null,null,null,null,null,null,null,null,null,null,null,null,null,null,null,null,null,null,null,null,null,null,null,null,null,null,null,null,null,"Харківська","Староволодимирівка"]
[null,null,null,null,null,null,null,null,null,null,null,null,null,null,null,null,null,null,null,null,null,null,null,null,null,null,null,null,null,null,null,null,null,null,null,null,null,null,null,null,null,null,null,null,null,"Харківська","Холодне"]
[null,null,null,null,null,null,null,null,null,null,null,null,null,null,null,null,null,null,null,null,null,null,null,null,null,null,null,null,null,null,null,null,null,null,null,null,null,null,null,null,null,null,null,null,null,"Харківська","Чепіль (Чепільська сільська рада)"]
[null,null,null,null,null,null,null,null,null,null,null,null,null,null,null,null,null,null,null,null,null,null,null,null,null,null,null,null,null,null,null,null,null,null,null,null,null,null,null,null,null,null,null,null,null,"Харківська","Шийчине"]
[null,null,null,null,null,null,null,null,null,null,null,null,null,null,null,null,null,null,null,null,null,null,null,null,null,null,null,null,null,null,null,null,null,null,null,null,null,null,null,null,null,null,null,null,null,"Харківська","Ярошівка"]
[null,null,null,null,null,null,null,null,null,null,null,null,null,null,null,null,null,null,null,null,null,null,null,null,null,null,null,null,null,null,null,null,null,null,null,null,null,null,null,null,null,null,null,null,null,"Херсонська","Гостроподолянське"]
[null,null,null,null,null,null,null,null,null,null,null,null,null,null,null,null,null,null,null,null,null,null,null,null,null,null,null,null,null,null,null,null,null,null,null,null,null,null,null,null,null,null,null,null,null,"Херсонська","Інгулець"]
[null,null,null,null,null,null,null,null,null,null,null,null,null,null,null,null,null,null,null,null,null,null,null,null,null,null,null,null,null,null,null,null,null,null,null,null,null,null,null,null,null,null,null,null,null,"Херсонська","Козачі Лагері"]
[null,null,null,null,null,null,null,null,null,null,null,null,null,null,null,null,null,null,null,null,null,null,null,null,null,null,null,null,null,null,null,null,null,null,null,null,null,null,null,null,null,null,null,null,null,"Херсонська","Новавасилівка"]
[null,null,null,null,null,null,null,null,null,null,null,null,null,null,null,null,null,null,null,null,null,null,null,null,null,null,null,null,null,null,null,null,null,null,null,null,null,null,null,null,null,null,null,null,null,"Херсонська","Новосеменівка"]
[null,null,null,null,null,null,null,null,null,null,null,null,null,null,null,null,null,null,null,null,null,null,null,null,null,null,null,null,null,null,null,null,null,null,null,null,null,null,null,null,null,null,null,null,null,"Херсонська","Скворцівка"]
[null,null,null,null,null,null,null,null,null,null,null,null,null,null,null,null,null,null,null,null,null,null,null,null,null,null,null,null,null,null,null,null,null,null,null,null,null,null,null,null,null,null,null,null,null,"Херсонська","Твердомедове"]
[null,null,null,null,null,null,null,null,null,null,null,null,null,null,null,null,null,null,null,null,null,null,null,null,null,null,null,null,null,null,null,null,null,null,null,null,null,null,null,null,null,null,null,null,null,"Хмельницька","Бальківці"]
[null,null,null,null,null,null,null,null,null,null,null,null,null,null,null,null,null,null,null,null,null,null,null,null,null,null,null,null,null,null,null,null,null,null,null,null,null,null,null,null,null,null,null,null,null,"Хмельницька","Березове"]
[null,null,null,null,null,null,null,null,null,null,null,null,null,null,null,null,null,null,null,null,null,null,null,null,null,null,null,null,null,null,null,null,null,null,null,null,null,null,null,null,null,null,null,null,null,"Хмельницька","Брикуля"]
[null,null,null,null,null,null,null,null,null,null,null,null,null,null,null,null,null,null,null,null,null,null,null,null,null,null,null,null,null,null,null,null,null,null,null,null,null,null,null,null,null,null,null,null,null,"Хмельницька","Верхівці"]
[null,null,null,null,null,null,null,null,null,null,null,null,null,null,null,null,null,null,null,null,null,null,null,null,null,null,null,null,null,null,null,null,null,null,null,null,null,null,null,null,null,null,null,null,null,"Хмельницька","Вікентово"]
[null,null,null,null,null,null,null,null,null,null,null,null,null,null,null,null,null,null,null,null,null,null,null,null,null,null,null,null,null,null,null,null,null,null,null,null,null,null,null,null,null,null,null,null,null,"Хмельницька","Голосків (Голосківська сільська рада)"]
[null,null,null,null,null,null,null,null,null,null,null,null,null,null,null,null,null,null,null,null,null,null,null,null,null,null,null,null,null,null,null,null,null,null,null,null,null,null,null,null,null,null,null,null,null,"Хмельницька","Гриців"]
[null,null,null,null,null,null,null,null,null,null,null,null,null,null,null,null,null,null,null,null,null,null,null,null,null,null,null,null,null,null,null,null,null,null,null,null,null,null,null,null,null,null,null,null,null,"Хмельницька","Дубовий Гай"]
[null,null,null,null,null,null,null,null,null,null,null,null,null,null,null,null,null,null,null,null,null,null,null,null,null,null,null,null,null,null,null,null,null,null,null,null,null,null,null,null,null,null,null,null,null,"Хмельницька","Залуччя (Залучанська сільська рада)"]
[null,null,null,null,null,null,null,null,null,null,null,null,null,null,null,null,null,null,null,null,null,null,null,null,null,null,null,null,null,null,null,null,null,null,null,null,null,null,null,null,null,null,null,null,null,"Хмельницька","Ізяслав"]
[null,null,null,null,null,null,null,null,null,null,null,null,null,null,null,null,null,null,null,null,null,null,null,null,null,null,null,null,null,null,null,null,null,null,null,null,null,null,null,null,null,null,null,null,null,"Хмельницька","Караїна"]
[null,null,null,null,null,null,null,null,null,null,null,null,null,null,null,null,null,null,null,null,null,null,null,null,null,null,null,null,null,null,null,null,null,null,null,null,null,null,null,null,null,null,null,null,null,"Хмельницька","Климківці"]
[null,null,null,null,null,null,null,null,null,null,null,null,null,null,null,null,null,null,null,null,null,null,null,null,null,null,null,null,null,null,null,null,null,null,null,null,null,null,null,null,null,null,null,null,null,"Хмельницька","Кривачинці"]
[null,null,null,null,null,null,null,null,null,null,null,null,null,null,null,null,null,null,null,null,null,null,null,null,null,null,null,null,null,null,null,null,null,null,null,null,null,null,null,null,null,null,null,null,null,"Хмельницька","Кузьминці"]
[null,null,null,null,null,null,null,null,null,null,null,null,null,null,null,null,null,null,null,null,null,null,null,null,null,null,null,null,null,null,null,null,null,null,null,null,null,null,null,null,null,null,null,null,null,"Хмельницька","Літки"]
[null,null,null,null,null,null,null,null,null,null,null,null,null,null,null,null,null,null,null,null,null,null,null,null,null,null,null,null,null,null,null,null,null,null,null,null,null,null,null,null,null,null,null,null,null,"Хмельницька","Малий Правутин"]
[null,null,null,null,null,null,null,null,null,null,null,null,null,null,null,null,null,null,null,null,null,null,null,null,null,null,null,null,null,null,null,null,null,null,null,null,null,null,null,null,null,null,null,null,null,"Хмельницька","Медці"]
[null,null,null,null,null,null,null,null,null,null,null,null,null,null,null,null,null,null,null,null,null,null,null,null,null,null,null,null,null,null,null,null,null,null,null,null,null,null,null,null,null,null,null,null,null,"Хмельницька","Михалківці"]
[null,null,null,null,null,null,null,null,null,null,null,null,null,null,null,null,null,null,null,null,null,null,null,null,null,null,null,null,null,null,null,null,null,null,null,null,null,null,null,null,null,null,null,null,null,"Хмельницька","Мухарів"]
[null,null,null,null,null,null,null,null,null,null,null,null,null,null,null,null,null,null,null,null,null,null,null,null,null,null,null,null,null,null,null,null,null,null,null,null,null,null,null,null,null,null,null,null,null,"Хмельницька","Остапківці"]
[null,null,null,null,null,null,null,null,null,null,null,null,null,null,null,null,null,null,null,null,null,null,null,null,null,null,null,null,null,null,null,null,null,null,null,null,null,null,null,null,null,null,null,null,null,"Хмельницька","Пашуки (Хоровецька сільська Рада)"]
[null,null,null,null,null,null,null,null,null,null,null,null,null,null,null,null,null,null,null,null,null,null,null,null,null,null,null,null,null,null,null,null,null,null,null,null,null,null,null,null,null,null,null,null,null,"Хмельницька","Постолівка"]
[null,null,null,null,null,null,null,null,null,null,null,null,null,null,null,null,null,null,null,null,null,null,null,null,null,null,null,null,null,null,null,null,null,null,null,null,null,null,null,null,null,null,null,null,null,"Хмельницька","Рівки"]
[null,null,null,null,null,null,null,null,null,null,null,null,null,null,null,null,null,null,null,null,null,null,null,null,null,null,null,null,null,null,null,null,null,null,null,null,null,null,null,null,null,null,null,null,null,"Хмельницька","Семереньки (Самченці)"]
[null,null,null,null,null,null,null,null,null,null,null,null,null,null,null,null,null,null,null,null,null,null,null,null,null,null,null,null,null,null,null,null,null,null,null,null,null,null,null,null,null,null,null,null,null,"Хмельницька","Слобідка  Малієвецька"]
[null,null,null,null,null,null,null,null,null,null,null,null,null,null,null,null,null,null,null,null,null,null,null,null,null,null,null,null,null,null,null,null,null,null,null,null,null,null,null,null,null,null,null,null,null,"Хмельницька","Степок (Самчики)"]
[null,null,null,null,null,null,null,null,null,null,null,null,null,null,null,null,null,null,null,null,null,null,null,null,null,null,null,null,null,null,null,null,null,null,null,null,null,null,null,null,null,null,null,null,null,"Хмельницька","Теліжинці"]
[null,null,null,null,null,null,null,null,null,null,null,null,null,null,null,null,null,null,null,null,null,null,null,null,null,null,null,null,null,null,null,null,null,null,null,null,null,null,null,null,null,null,null,null,null,"Хмельницька","Трительники"]
[null,null,null,null,null,null,null,null,null,null,null,null,null,null,null,null,null,null,null,null,null,null,null,null,null,null,null,null,null,null,null,null,null,null,null,null,null,null,null,null,null,null,null,null,null,"Хмельницька","Чернелівці"]
[null,null,null,null,null,null,null,null,null,null,null,null,null,null,null,null,null,null,null,null,null,null,null,null,null,null,null,null,null,null,null,null,null,null,null,null,null,null,null,null,null,null,null,null,null,"Хмельницька","Чотирибоки"]
[null,null,null,null,null,null,null,null,null,null,null,null,null,null,null,null,null,null,null,null,null,null,null,null,null,null,null,null,null,null,null,null,null,null,null,null,null,null,null,null,null,null,null,null,null,"Черкаська","Багачівка"]
[null,null,null,null,null,null,null,null,null,null,null,null,null,null,null,null,null,null,null,null,null,null,null,null,null,null,null,null,null,null,null,null,null,null,null,null,null,null,null,null,null,null,null,null,null,"Черкаська","Босівка"]
[null,null,null,null,null,null,null,null,null,null,null,null,null,null,null,null,null,null,null,null,null,null,null,null,null,null,null,null,null,null,null,null,null,null,null,null,null,null,null,null,null,null,null,null,null,"Черкаська","Гуляйка"]
[null,null,null,null,null,null,null,null,null,null,null,null,null,null,null,null,null,null,null,null,null,null,null,null,null,null,null,null,null,null,null,null,null,null,null,null,null,null,null,null,null,null,null,null,null,"Черкаська","Домантове"]
[null,null,null,null,null,null,null,null,null,null,null,null,null,null,null,null,null,null,null,null,null,null,null,null,null,null,null,null,null,null,null,null,null,null,null,null,null,null,null,null,null,null,null,null,null,"Черкаська","Ковтунівка (Остапівська сільська  рада)"]
[null,null,null,null,null,null,null,null,null,null,null,null,null,null,null,null,null,null,null,null,null,null,null,null,null,null,null,null,null,null,null,null,null,null,null,null,null,null,null,null,null,null,null,null,null,"Черкаська","Коржовий Кут"]
[null,null,null,null,null,null,null,null,null,null,null,null,null,null,null,null,null,null,null,null,null,null,null,null,null,null,null,null,null,null,null,null,null,null,null,null,null,null,null,null,null,null,null,null,null,"Черкаська","Мелесівка"]
[null,null,null,null,null,null,null,null,null,null,null,null,null,null,null,null,null,null,null,null,null,null,null,null,null,null,null,null,null,null,null,null,null,null,null,null,null,null,null,null,null,null,null,null,null,"Черкаська","Нова  Ярославка"]
[null,null,null,null,null,null,null,null,null,null,null,null,null,null,null,null,null,null,null,null,null,null,null,null,null,null,null,null,null,null,null,null,null,null,null,null,null,null,null,null,null,null,null,null,null,"Черкаська","Павлівка Перша"]
[null,null,null,null,null,null,null,null,null,null,null,null,null,null,null,null,null,null,null,null,null,null,null,null,null,null,null,null,null,null,null,null,null,null,null,null,null,null,null,null,null,null,null,null,null,"Черкаська","Санжариха"]
[null,null,null,null,null,null,null,null,null,null,null,null,null,null,null,null,null,null,null,null,null,null,null,null,null,null,null,null,null,null,null,null,null,null,null,null,null,null,null,null,null,null,null,null,null,"Черкаська","Скрипчинці"]
[null,null,null,null,null,null,null,null,null,null,null,null,null,null,null,null,null,null,null,null,null,null,null,null,null,null,null,null,null,null,null,null,null,null,null,null,null,null,null,null,null,null,null,null,null,"Черкаська","Халаїдове"]
[null,null,null,null,null,null,null,null,null,null,null,null,null,null,null,null,null,null,null,null,null,null,null,null,null,null,null,null,null,null,null,null,null,null,null,null,null,null,null,null,null,null,null,null,null,"Черкаська","Ховківка"]
[null,null,null,null,null,null,null,null,null,null,null,null,null,null,null,null,null,null,null,null,null,null,null,null,null,null,null,null,null,null,null,null,null,null,null,null,null,null,null,null,null,null,null,null,null,"Чернівецька","Бузовиця"]
[null,null,null,null,null,null,null,null,null,null,null,null,null,null,null,null,null,null,null,null,null,null,null,null,null,null,null,null,null,null,null,null,null,null,null,null,null,null,null,null,null,null,null,null,null,"Чернівецька","Випчина"]
[null,null,null,null,null,null,null,null,null,null,null,null,null,null,null,null,null,null,null,null,null,null,null,null,null,null,null,null,null,null,null,null,null,null,null,null,null,null,null,null,null,null,null,null,null,"Чернівецька","Горбова"]
[null,null,null,null,null,null,null,null,null,null,null,null,null,null,null,null,null,null,null,null,null,null,null,null,null,null,null,null,null,null,null,null,null,null,null,null,null,null,null,null,null,null,null,null,null,"Чернівецька","Корнешти"]
[null,null,null,null,null,null,null,null,null,null,null,null,null,null,null,null,null,null,null,null,null,null,null,null,null,null,null,null,null,null,null,null,null,null,null,null,null,null,null,null,null,null,null,null,null,"Чернівецька","Лукачівка"]
[null,null,null,null,null,null,null,null,null,null,null,null,null,null,null,null,null,null,null,null,null,null,null,null,null,null,null,null,null,null,null,null,null,null,null,null,null,null,null,null,null,null,null,null,null,"Чернівецька","Ошихліби"]
[null,null,null,null,null,null,null,null,null,null,null,null,null,null,null,null,null,null,null,null,null,null,null,null,null,null,null,null,null,null,null,null,null,null,null,null,null,null,null,null,null,null,null,null,null,"Чернівецька","Погорілівка"]
[null,null,null,null,null,null,null,null,null,null,null,null,null,null,null,null,null,null,null,null,null,null,null,null,null,null,null,null,null,null,null,null,null,null,null,null,null,null,null,null,null,null,null,null,null,"Чернівецька","Хряцька"]
[null,null,null,null,null,null,null,null,null,null,null,null,null,null,null,null,null,null,null,null,null,null,null,null,null,null,null,null,null,null,null,null,null,null,null,null,null,null,null,null,null,null,null,null,null,"Чернівецька","Южинець"]
[null,null,null,null,null,null,null,null,null,null,null,null,null,null,null,null,null,null,null,null,null,null,null,null,null,null,null,null,null,null,null,null,null,null,null,null,null,null,null,null,null,null,null,null,null,"Чернігівська","Бережівка"]
[null,null,null,null,null,null,null,null,null,null,null,null,null,null,null,null,null,null,null,null,null,null,null,null,null,null,null,null,null,null,null,null,null,null,null,null,null,null,null,null,null,null,null,null,null,"Чернігівська","Велика Дорога"]
[null,null,null,null,null,null,null,null,null,null,null,null,null,null,null,null,null,null,null,null,null,null,null,null,null,null,null,null,null,null,null,null,null,null,null,null,null,null,null,null,null,null,null,null,null,"Чернігівська","Вильчики"]
[null,null,null,null,null,null,null,null,null,null,null,null,null,null,null,null,null,null,null,null,null,null,null,null,null,null,null,null,null,null,null,null,null,null,null,null,null,null,null,null,null,null,null,null,null,"Чернігівська","Данівка"]
[null,null,null,null,null,null,null,null,null,null,null,null,null,null,null,null,null,null,null,null,null,null,null,null,null,null,null,null,null,null,null,null,null,null,null,null,null,null,null,null,null,null,null,null,null,"Чернігівська","Жеребецьке"]
[null,null,null,null,null,null,null,null,null,null,null,null,null,null,null,null,null,null,null,null,null,null,null,null,null,null,null,null,null,null,null,null,null,null,null,null,null,null,null,null,null,null,null,null,null,"Чернігівська","Карасинівка"]
[null,null,null,null,null,null,null,null,null,null,null,null,null,null,null,null,null,null,null,null,null,null,null,null,null,null,null,null,null,null,null,null,null,null,null,null,null,null,null,null,null,null,null,null,null,"Чернігівська","Клипин"]
[null,null,null,null,null,null,null,null,null,null,null,null,null,null,null,null,null,null,null,null,null,null,null,null,null,null,null,null,null,null,null,null,null,null,null,null,null,null,null,null,null,null,null,null,null,"Чернігівська","Кугуки"]
[null,null,null,null,null,null,null,null,null,null,null,null,null,null,null,null,null,null,null,null,null,null,null,null,null,null,null,null,null,null,null,null,null,null,null,null,null,null,null,null,null,null,null,null,null,"Чернігівська","Ладинка"]
[null,null,null,null,null,null,null,null,null,null,null,null,null,null,null,null,null,null,null,null,null,null,null,null,null,null,null,null,null,null,null,null,null,null,null,null,null,null,null,null,null,null,null,null,null,"Чернігівська","Лісконоги"]
[null,null,null,null,null,null,null,null,null,null,null,null,null,null,null,null,null,null,null,null,null,null,null,null,null,null,null,null,null,null,null,null,null,null,null,null,null,null,null,null,null,null,null,null,null,"Чернігівська","Мезин"]
[null,null,null,null,null,null,null,null,null,null,null,null,null,null,null,null,null,null,null,null,null,null,null,null,null,null,null,null,null,null,null,null,null,null,null,null,null,null,null,null,null,null,null,null,null,"Чернігівська","Мурав'ї"]
[null,null,null,null,null,null,null,null,null,null,null,null,null,null,null,null,null,null,null,null,null,null,null,null,null,null,null,null,null,null,null,null,null,null,null,null,null,null,null,null,null,null,null,null,null,"Чернігівська","Остер"]
[null,null,null,null,null,null,null,null,null,null,null,null,null,null,null,null,null,null,null,null,null,null,null,null,null,null,null,null,null,null,null,null,null,null,null,null,null,null,null,null,null,null,null,null,null,"Чернігівська","Пересаж"]
[null,null,null,null,null,null,null,null,null,null,null,null,null,null,null,null,null,null,null,null,null,null,null,null,null,null,null,null,null,null,null,null,null,null,null,null,null,null,null,null,null,null,null,null,null,"Чернігівська","Радуль"]
[null,null,null,null,null,null,null,null,null,null,null,null,null,null,null,null,null,null,null,null,null,null,null,null,null,null,null,null,null,null,null,null,null,null,null,null,null,null,null,null,null,null,null,null,null,"Чернігівська","Роїще"]
[null,null,null,null,null,null,null,null,null,null,null,null,null,null,null,null,null,null,null,null,null,null,null,null,null,null,null,null,null,null,null,null,null,null,null,null,null,null,null,null,null,null,null,null,null,"Чернігівська","Сезьки"]
[null,null,null,null,null,null,null,null,null,null,null,null,null,null,null,null,null,null,null,null,null,null,null,null,null,null,null,null,null,null,null,null,null,null,null,null,null,null,null,null,null,null,null,null,null,"Чернігівська","Степанівське"]
[null,null,null,null,null,null,null,null,null,null,null,null,null,null,null,null,null,null,null,null,null,null,null,null,null,null,null,null,null,null,null,null,null,null,null,null,null,null,null,null,null,null,null,null,null,"Чернігівська","Тамарівка"]
[null,null,null,null,null,null,null,null,null,null,null,null,null,null,null,null,null,null,null,null,null,null,null,null,null,null,null,null,null,null,null,null,null,null,null,null,null,null,null,null,null,null,null,null,null,"Чернігівська","Тараса Шевченка"]
[null,null,null,null,null,null,null,null,null,null,null,null,null,null,null,null,null,null,null,null,null,null,null,null,null,null,null,null,null,null,null,null,null,null,null,null,null,null,null,null,null,null,null,null,null,"Чернігівська","Тарасів"]
[null,null,null,null,null,null,null,null,null,null,null,null,null,null,null,null,null,null,null,null,null,null,null,null,null,null,null,null,null,null,null,null,null,null,null,null,null,null,null,null,null,null,null,null,null,"Чернігівська","Тасуїв"]
[null,null,null,null,null,null,null,null,null,null,null,null,null,null,null,null,null,null,null,null,null,null,null,null,null,null,null,null,null,null,null,null,null,null,null,null,null,null,null,null,null,null,null,null,null,"Чернігівська","Татарівка"]
[null,null,null,null,null,null,null,null,null,null,null,null,null,null,null,null,null,null,null,null,null,null,null,null,null,null,null,null,null,null,null,null,null,null,null,null,null,null,null,null,null,null,null,null,null,"Чернігівська","Тельне"]
[null,null,null,null,null,null,null,null,null,null,null,null,null,null,null,null,null,null,null,null,null,null,null,null,null,null,null,null,null,null,null,null,null,null,null,null,null,null,null,null,null,null,null,null,null,"Чернігівська","Терехівка"]
[null,null,null,null,null,null,null,null,null,null,null,null,null,null,null,null,null,null,null,null,null,null,null,null,null,null,null,null,null,null,null,null,null,null,null,null,null,null,null,null,null,null,null,null,null,"Чернігівська","Терешиха"]
[null,null,null,null,null,null,null,null,null,null,null,null,null,null,null,null,null,null,null,null,null,null,null,null,null,null,null,null,null,null,null,null,null,null,null,null,null,null,null,null,null,null,null,null,null,"Чернігівська","Тертишники"]
[null,null,null,null,null,null,null,null,null,null,null,null,null,null,null,null,null,null,null,null,null,null,null,null,null,null,null,null,null,null,null,null,null,null,null,null,null,null,null,null,null,null,null,null,null,"Чернігівська","Тимоновичі"]
[null,null,null,null,null,null,null,null,null,null,null,null,null,null,null,null,null,null,null,null,null,null,null,null,null,null,null,null,null,null,null,null,null,null,null,null,null,null,null,null,null,null,null,null,null,"Чернігівська","Тиниця"]
[null,null,null,null,null,null,null,null,null,null,null,null,null,null,null,null,null,null,null,null,null,null,null,null,null,null,null,null,null,null,null,null,null,null,null,null,null,null,null,null,null,null,null,null,null,"Чернігівська","Титівка"]
[null,null,null,null,null,null,null,null,null,null,null,null,null,null,null,null,null,null,null,null,null,null,null,null,null,null,null,null,null,null,null,null,null,null,null,null,null,null,null,null,null,null,null,null,null,"Чернігівська","Тихонівське"]
[null,null,null,null,null,null,null,null,null,null,null,null,null,null,null,null,null,null,null,null,null,null,null,null,null,null,null,null,null,null,null,null,null,null,null,null,null,null,null,null,null,null,null,null,null,"Чернігівська","Тихоновичі"]
[null,null,null,null,null,null,null,null,null,null,null,null,null,null,null,null,null,null,null,null,null,null,null,null,null,null,null,null,null,null,null,null,null,null,null,null,null,null,null,null,null,null,null,null,null,"Чернігівська","Товкачівка"]
[null,null,null,null,null,null,null,null,null,null,null,null,null,null,null,null,null,null,null,null,null,null,null,null,null,null,null,null,null,null,null,null,null,null,null,null,null,null,null,null,null,null,null,null,null,"Чернігівська","Товстоліс"]
[null,null,null,null,null,null,null,null,null,null,null,null,null,null,null,null,null,null,null,null,null,null,null,null,null,null,null,null,null,null,null,null,null,null,null,null,null,null,null,null,null,null,null,null,null,"Чернігівська","Тонка"]
[null,null,null,null,null,null,null,null,null,null,null,null,null,null,null,null,null,null,null,null,null,null,null,null,null,null,null,null,null,null,null,null,null,null,null,null,null,null,null,null,null,null,null,null,null,"Чернігівська","Топчіївка"]
[null,null,null,null,null,null,null,null,null,null,null,null,null,null,null,null,null,null,null,null,null,null,null,null,null,null,null,null,null,null,null,null,null,null,null,null,null,null,null,null,null,null,null,null,null,"Чернігівська","Точене"]
[null,null,null,null,null,null,null,null,null,null,null,null,null,null,null,null,null,null,null,null,null,null,null,null,null,null,null,null,null,null,null,null,null,null,null,null,null,null,null,null,null,null,null,null,null,"Чернігівська","Травкине"]
[null,null,null,null,null,null,null,null,null,null,null,null,null,null,null,null,null,null,null,null,null,null,null,null,null,null,null,null,null,null,null,null,null,null,null,null,null,null,null,null,null,null,null,null,null,"Чернігівська","Тужар"]
[null,null,null,null,null,null,null,null,null,null,null,null,null,null,null,null,null,null,null,null,null,null,null,null,null,null,null,null,null,null,null,null,null,null,null,null,null,null,null,null,null,null,null,null,null,"Чернігівська","Тулія"]
[null,null,null,null,null,null,null,null,null,null,null,null,null,null,null,null,null,null,null,null,null,null,null,null,null,null,null,null,null,null,null,null,null,null,null,null,null,null,null,null,null,null,null,null,null,"Чернігівська","Туманська Гута"]
[null,null,null,null,null,null,null,null,null,null,null,null,null,null,null,null,null,null,null,null,null,null,null,null,null,null,null,null,null,null,null,null,null,null,null,null,null,null,null,null,null,null,null,null,null,"Чернігівська","Тупичів"]
[null,null,null,null,null,null,null,null,null,null,null,null,null,null,null,null,null,null,null,null,null,null,null,null,null,null,null,null,null,null,null,null,null,null,null,null,null,null,null,null,null,null,null,null,null,"Чернігівська","Турківка"]
[null,null,null,null,null,null,null,null,null,null,null,null,null,null,null,null,null,null,null,null,null,null,null,null,null,null,null,null,null,null,null,null,null,null,null,null,null,null,null,null,null,null,null,null,null,"Чернігівська","Тютюнниця"]
[null,null,null,null,null,null,null,null,null,null,null,null,null,null,null,null,null,null,null,null,null,null,null,null,null,null,null,null,null,null,null,null,null,null,null,null,null,null,null,null,null,null,null,null,null,"Чернігівська","Убіжичі"]
[null,null,null,null,null,null,null,null,null,null,null,null,null,null,null,null,null,null,null,null,null,null,null,null,null,null,null,null,null,null,null,null,null,null,null,null,null,null,null,null,null,null,null,null,null,"Чернігівська","Уборки"]
[null,null,null,null,null,null,null,null,null,null,null,null,null,null,null,null,null,null,null,null,null,null,null,null,null,null,null,null,null,null,null,null,null,null,null,null,null,null,null,null,null,null,null,null,null,"Чернігівська","Углова Рудня"]
[null,null,null,null,null,null,null,null,null,null,null,null,null,null,null,null,null,null,null,null,null,null,null,null,null,null,null,null,null,null,null,null,null,null,null,null,null,null,null,null,null,null,null,null,null,"Чернігівська","Удайці"]
[null,null,null,null,null,null,null,null,null,null,null,null,null,null,null,null,null,null,null,null,null,null,null,null,null,null,null,null,null,null,null,null,null,null,null,null,null,null,null,null,null,null,null,null,null,"Чернігівська","Узруй"]
[null,null,null,null,null,null,null,null,null,null,null,null,null,null,null,null,null,null,null,null,null,null,null,null,null,null,null,null,null,null,null,null,null,null,null,null,null,null,null,null,null,null,null,null,null,"Чернігівська","Українське (курінська)"]
[null,null,null,null,null,null,null,null,null,null,null,null,null,null,null,null,null,null,null,null,null,null,null,null,null,null,null,null,null,null,null,null,null,null,null,null,null,null,null,null,null,null,null,null,null,"Чернігівська","Унучки"]
[null,null,null,null,null,null,null,null,null,null,null,null,null,null,null,null,null,null,null,null,null,null,null,null,null,null,null,null,null,null,null,null,null,null,null,null,null,null,null,null,null,null,null,null,null,"Чернігівська","Ушівка"]
[null,null,null,null,null,null,null,null,null,null,null,null,null,null,null,null,null,null,null,null,null,null,null,null,null,null,null,null,null,null,null,null,null,null,null,null,null,null,null,null,null,null,null,null,null,"Чернігівська","Фаївка"]
[null,null,null,null,null,null,null,null,null,null,null,null,null,null,null,null,null,null,null,null,null,null,null,null,null,null,null,null,null,null,null,null,null,null,null,null,null,null,null,null,null,null,null,null,null,"Чернігівська","Фастівці"]
[null,null,null,null,null,null,null,null,null,null,null,null,null,null,null,null,null,null,null,null,null,null,null,null,null,null,null,null,null,null,null,null,null,null,null,null,null,null,null,null,null,null,null,null,null,"Чернігівська","Ферубки"]
[null,null,null,null,null,null,null,null,null,null,null,null,null,null,null,null,null,null,null,null,null,null,null,null,null,null,null,null,null,null,null,null,null,null,null,null,null,null,null,null,null,null,null,null,null,"Чернігівська","Феськівка"]
[null,null,null,null,null,null,null,null,null,null,null,null,null,null,null,null,null,null,null,null,null,null,null,null,null,null,null,null,null,null,null,null,null,null,null,null,null,null,null,null,null,null,null,null,null,"Чернігівська","Філонівка"]
[null,null,null,null,null,null,null,null,null,null,null,null,null,null,null,null,null,null,null,null,null,null,null,null,null,null,null,null,null,null,null,null,null,null,null,null,null,null,null,null,null,null,null,null,null,"Чернігівська","Форостовичі"]
[null,null,null,null,null,null,null,null,null,null,null,null,null,null,null,null,null,null,null,null,null,null,null,null,null,null,null,null,null,null,null,null,null,null,null,null,null,null,null,null,null,null,null,null,null,"Чернігівська","Фурсове"]
[null,null,null,null,null,null,null,null,null,null,null,null,null,null,null,null,null,null,null,null,null,null,null,null,null,null,null,null,null,null,null,null,null,null,null,null,null,null,null,null,null,null,null,null,null,"Чернігівська","Хаєнки"]
[null,null,null,null,null,null,null,null,null,null,null,null,null,null,null,null,null,null,null,null,null,null,null,null,null,null,null,null,null,null,null,null,null,null,null,null,null,null,null,null,null,null,null,null,null,"Чернігівська","Хаїха"]
[null,null,null,null,null,null,null,null,null,null,null,null,null,null,null,null,null,null,null,null,null,null,null,null,null,null,null,null,null,null,null,null,null,null,null,null,null,null,null,null,null,null,null,null,null,"Чернігівська","Халимонове"]
[null,null,null,null,null,null,null,null,null,null,null,null,null,null,null,null,null,null,null,null,null,null,null,null,null,null,null,null,null,null,null,null,null,null,null,null,null,null,null,null,null,null,null,null,null,"Чернігівська","Халявин"]
[null,null,null,null,null,null,null,null,null,null,null,null,null,null,null,null,null,null,null,null,null,null,null,null,null,null,null,null,null,null,null,null,null,null,null,null,null,null,null,null,null,null,null,null,null,"Чернігівська","Хатилова Гута"]
[null,null,null,null,null,null,null,null,null,null,null,null,null,null,null,null,null,null,null,null,null,null,null,null,null,null,null,null,null,null,null,null,null,null,null,null,null,null,null,null,null,null,null,null,null,"Чернігівська","Хвилівка"]
[null,null,null,null,null,null,null,null,null,null,null,null,null,null,null,null,null,null,null,null,null,null,null,null,null,null,null,null,null,null,null,null,null,null,null,null,null,null,null,null,null,null,null,null,null,"Чернігівська","Хибалівка"]
[null,null,null,null,null,null,null,null,null,null,null,null,null,null,null,null,null,null,null,null,null,null,null,null,null,null,null,null,null,null,null,null,null,null,null,null,null,null,null,null,null,null,null,null,null,"Чернігівська","Хлоп'яники"]
[null,null,null,null,null,null,null,null,null,null,null,null,null,null,null,null,null,null,null,null,null,null,null,null,null,null,null,null,null,null,null,null,null,null,null,null,null,null,null,null,null,null,null,null,null,"Чернігівська","Хмільниця"]
[null,null,null,null,null,null,null,null,null,null,null,null,null,null,null,null,null,null,null,null,null,null,null,null,null,null,null,null,null,null,null,null,null,null,null,null,null,null,null,null,null,null,null,null,null,"Чернігівська","Ховдіївка"]
[null,null,null,null,null,null,null,null,null,null,null,null,null,null,null,null,null,null,null,null,null,null,null,null,null,null,null,null,null,null,null,null,null,null,null,null,null,null,null,null,null,null,null,null,null,"Чернігівська","Ховми"]
[null,null,null,null,null,null,null,null,null,null,null,null,null,null,null,null,null,null,null,null,null,null,null,null,null,null,null,null,null,null,null,null,null,null,null,null,null,null,null,null,null,null,null,null,null,"Чернігівська","Холми"]
[null,null,null,null,null,null,null,null,null,null,null,null,null,null,null,null,null,null,null,null,null,null,null,null,null,null,null,null,null,null,null,null,null,null,null,null,null,null,null,null,null,null,null,null,null,"Чернігівська","Холявки"]
[null,null,null,null,null,null,null,null,null,null,null,null,null,null,null,null,null,null,null,null,null,null,null,null,null,null,null,null,null,null,null,null,null,null,null,null,null,null,null,null,null,null,null,null,null,"Чернігівська","Хоробичі"]
[null,null,null,null,null,null,null,null,null,null,null,null,null,null,null,null,null,null,null,null,null,null,null,null,null,null,null,null,null,null,null,null,null,null,null,null,null,null,null,null,null,null,null,null,null,"Чернігівська","Хороше Озеро"]
[null,null,null,null,null,null,null,null,null,null,null,null,null,null,null,null,null,null,null,null,null,null,null,null,null,null,null,null,null,null,null,null,null,null,null,null,null,null,null,null,null,null,null,null,null,"Чернігівська","Хотівля"]
[null,null,null,null,null,null,null,null,null,null,null,null,null,null,null,null,null,null,null,null,null,null,null,null,null,null,null,null,null,null,null,null,null,null,null,null,null,null,null,null,null,null,null,null,null,"Чернігівська","Хотіївка"]
[null,null,null,null,null,null,null,null,null,null,null,null,null,null,null,null,null,null,null,null,null,null,null,null,null,null,null,null,null,null,null,null,null,null,null,null,null,null,null,null,null,null,null,null,null,"Чернігівська","Хотуничі"]
[null,null,null,null,null,null,null,null,null,null,null,null,null,null,null,null,null,null,null,null,null,null,null,null,null,null,null,null,null,null,null,null,null,null,null,null,null,null,null,null,null,null,null,null,null,"Чернігівська","Храпате"]
[null,null,null,null,null,null,null,null,null,null,null,null,null,null,null,null,null,null,null,null,null,null,null,null,null,null,null,null,null,null,null,null,null,null,null,null,null,null,null,null,null,null,null,null,null,"Чернігівська","Хрипівка"]
[null,null,null,null,null,null,null,null,null,null,null,null,null,null,null,null,null,null,null,null,null,null,null,null,null,null,null,null,null,null,null,null,null,null,null,null,null,null,null,null,null,null,null,null,null,"Чернігівська","Хрінівка"]
[null,null,null,null,null,null,null,null,null,null,null,null,null,null,null,null,null,null,null,null,null,null,null,null,null,null,null,null,null,null,null,null,null,null,null,null,null,null,null,null,null,null,null,null,null,"Чернігівська","Хукалівка"]
[null,null,null,null,null,null,null,null,null,null,null,null,null,null,null,null,null,null,null,null,null,null,null,null,null,null,null,null,null,null,null,null,null,null,null,null,null,null,null,null,null,null,null,null,null,"Чернігівська","Часнівці"]
[null,null,null,null,null,null,null,null,null,null,null,null,null,null,null,null,null,null,null,null,null,null,null,null,null,null,null,null,null,null,null,null,null,null,null,null,null,null,null,null,null,null,null,null,null,"Чернігівська","Чемер"]
[null,null,null,null,null,null,null,null,null,null,null,null,null,null,null,null,null,null,null,null,null,null,null,null,null,null,null,null,null,null,null,null,null,null,null,null,null,null,null,null,null,null,null,null,null,"Чернігівська","Ченчики"]
[null,null,null,null,null,null,null,null,null,null,null,null,null,null,null,null,null,null,null,null,null,null,null,null,null,null,null,null,null,null,null,null,null,null,null,null,null,null,null,null,null,null,null,null,null,"Чернігівська","Чепелів"]
[null,null,null,null,null,null,null,null,null,null,null,null,null,null,null,null,null,null,null,null,null,null,null,null,null,null,null,null,null,null,null,null,null,null,null,null,null,null,null,null,null,null,null,null,null,"Чернігівська","Червона Буда"]
[null,null,null,null,null,null,null,null,null,null,null,null,null,null,null,null,null,null,null,null,null,null,null,null,null,null,null,null,null,null,null,null,null,null,null,null,null,null,null,null,null,null,null,null,null,"Чернігівська","Червона Гута"]
[null,null,null,null,null,null,null,null,null,null,null,null,null,null,null,null,null,null,null,null,null,null,null,null,null,null,null,null,null,null,null,null,null,null,null,null,null,null,null,null,null,null,null,null,null,"Чернігівська","Червона Україна"]
[null,null,null,null,null,null,null,null,null,null,null,null,null,null,null,null,null,null,null,null,null,null,null,null,null,null,null,null,null,null,null,null,null,null,null,null,null,null,null,null,null,null,null,null,null,"Чернігівська","Червоний Гай"]
[null,null,null,null,null,null,null,null,null,null,null,null,null,null,null,null,null,null,null,null,null,null,null,null,null,null,null,null,null,null,null,null,null,null,null,null,null,null,null,null,null,null,null,null,null,"Чернігівська","Червоний Довжик"]
[null,null,null,null,null,null,null,null,null,null,null,null,null,null,null,null,null,null,null,null,null,null,null,null,null,null,null,null,null,null,null,null,null,null,null,null,null,null,null,null,null,null,null,null,null,"Чернігівська","Червоний Колодязь"]
[null,null,null,null,null,null,null,null,null,null,null,null,null,null,null,null,null,null,null,null,null,null,null,null,null,null,null,null,null,null,null,null,null,null,null,null,null,null,null,null,null,null,null,null,null,"Чернігівська","Червоний Остер"]
[null,null,null,null,null,null,null,null,null,null,null,null,null,null,null,null,null,null,null,null,null,null,null,null,null,null,null,null,null,null,null,null,null,null,null,null,null,null,null,null,null,null,null,null,null,"Чернігівська","Червоний Пахар"]
[null,null,null,null,null,null,null,null,null,null,null,null,null,null,null,null,null,null,null,null,null,null,null,null,null,null,null,null,null,null,null,null,null,null,null,null,null,null,null,null,null,null,null,null,null,"Чернігівська","Червоний Плугатор"]
[null,null,null,null,null,null,null,null,null,null,null,null,null,null,null,null,null,null,null,null,null,null,null,null,null,null,null,null,null,null,null,null,null,null,null,null,null,null,null,null,null,null,null,null,null,"Чернігівська","Червоний Шлях"]
[null,null,null,null,null,null,null,null,null,null,null,null,null,null,null,null,null,null,null,null,null,null,null,null,null,null,null,null,null,null,null,null,null,null,null,null,null,null,null,null,null,null,null,null,null,"Чернігівська","Червоні Гори"]
[null,null,null,null,null,null,null,null,null,null,null,null,null,null,null,null,null,null,null,null,null,null,null,null,null,null,null,null,null,null,null,null,null,null,null,null,null,null,null,null,null,null,null,null,null,"Чернігівська","Червоні Партизани"]
[null,null,null,null,null,null,null,null,null,null,null,null,null,null,null,null,null,null,null,null,null,null,null,null,null,null,null,null,null,null,null,null,null,null,null,null,null,null,null,null,null,null,null,null,null,"Чернігівська","Черецьке"]
[null,null,null,null,null,null,null,null,null,null,null,null,null,null,null,null,null,null,null,null,null,null,null,null,null,null,null,null,null,null,null,null,null,null,null,null,null,null,null,null,null,null,null,null,null,"Чернігівська","Черниш"]
[null,null,null,null,null,null,null,null,null,null,null,null,null,null,null,null,null,null,null,null,null,null,null,null,null,null,null,null,null,null,null,null,null,null,null,null,null,null,null,null,null,null,null,null,null,"Чернігівська","Чернігів"]
[null,null,null,null,null,null,null,null,null,null,null,null,null,null,null,null,null,null,null,null,null,null,null,null,null,null,null,null,null,null,null,null,null,null,null,null,null,null,null,null,null,null,null,null,null,"Чернігівська","Чисті Лужи"]
[null,null,null,null,null,null,null,null,null,null,null,null,null,null,null,null,null,null,null,null,null,null,null,null,null,null,null,null,null,null,null,null,null,null,null,null,null,null,null,null,null,null,null,null,null,"Чернігівська","Чорний Ріг"]
[null,null,null,null,null,null,null,null,null,null,null,null,null,null,null,null,null,null,null,null,null,null,null,null,null,null,null,null,null,null,null,null,null,null,null,null,null,null,null,null,null,null,null,null,null,"Чернігівська","Чорногорці"]
[null,null,null,null,null,null,null,null,null,null,null,null,null,null,null,null,null,null,null,null,null,null,null,null,null,null,null,null,null,null,null,null,null,null,null,null,null,null,null,null,null,null,null,null,null,"Чернігівська","Чорнозем"]
[null,null,null,null,null,null,null,null,null,null,null,null,null,null,null,null,null,null,null,null,null,null,null,null,null,null,null,null,null,null,null,null,null,null,null,null,null,null,null,null,null,null,null,null,null,"Чернігівська","Чорнотичі"]
[null,null,null,null,null,null,null,null,null,null,null,null,null,null,null,null,null,null,null,null,null,null,null,null,null,null,null,null,null,null,null,null,null,null,null,null,null,null,null,null,null,null,null,null,null,"Чернігівська","Чудівка"]
[null,null,null,null,null,null,null,null,null,null,null,null,null,null,null,null,null,null,null,null,null,null,null,null,null,null,null,null,null,null,null,null,null,null,null,null,null,null,null,null,null,null,null,null,null,"Чернігівська","Чулатів"]
[null,null,null,null,null,null,null,null,null,null,null,null,null,null,null,null,null,null,null,null,null,null,null,null,null,null,null,null,null,null,null,null,null,null,null,null,null,null,null,null,null,null,null,null,null,"Чернігівська","Чумак"]
[null,null,null,null,null,null,null,null,null,null,null,null,null,null,null,null,null,null,null,null,null,null,null,null,null,null,null,null,null,null,null,null,null,null,null,null,null,null,null,null,null,null,null,null,null,"Чернігівська","Шабалинів"]
[null,null,null,null,null,null,null,null,null,null,null,null,null,null,null,null,null,null,null,null,null,null,null,null,null,null,null,null,null,null,null,null,null,null,null,null,null,null,null,null,null,null,null,null,null,"Чернігівська","Шаболтасівка"]
[null,null,null,null,null,null,null,null,null,null,null,null,null,null,null,null,null,null,null,null,null,null,null,null,null,null,null,null,null,null,null,null,null,null,null,null,null,null,null,null,null,null,null,null,null,"Чернігівська","Шами"]
[null,null,null,null,null,null,null,null,null,null,null,null,null,null,null,null,null,null,null,null,null,null,null,null,null,null,null,null,null,null,null,null,null,null,null,null,null,null,null,null,null,null,null,null,null,"Чернігівська","Шапіхи"]
[null,null,null,null,null,null,null,null,null,null,null,null,null,null,null,null,null,null,null,null,null,null,null,null,null,null,null,null,null,null,null,null,null,null,null,null,null,null,null,null,null,null,null,null,null,"Чернігівська","Шатура"]
[null,null,null,null,null,null,null,null,null,null,null,null,null,null,null,null,null,null,null,null,null,null,null,null,null,null,null,null,null,null,null,null,null,null,null,null,null,null,null,null,null,null,null,null,null,"Чернігівська","Шведчина"]
[null,null,null,null,null,null,null,null,null,null,null,null,null,null,null,null,null,null,null,null,null,null,null,null,null,null,null,null,null,null,null,null,null,null,null,null,null,null,null,null,null,null,null,null,null,"Чернігівська","Шептаки"]
[null,null,null,null,null,null,null,null,null,null,null,null,null,null,null,null,null,null,null,null,null,null,null,null,null,null,null,null,null,null,null,null,null,null,null,null,null,null,null,null,null,null,null,null,null,"Чернігівська","Шестовиця"]
[null,null,null,null,null,null,null,null,null,null,null,null,null,null,null,null,null,null,null,null,null,null,null,null,null,null,null,null,null,null,null,null,null,null,null,null,null,null,null,null,null,null,null,null,null,"Чернігівська","Шибиринівка"]
[null,null,null,null,null,null,null,null,null,null,null,null,null,null,null,null,null,null,null,null,null,null,null,null,null,null,null,null,null,null,null,null,null,null,null,null,null,null,null,null,null,null,null,null,null,"Чернігівська","Шиловичі"]
[null,null,null,null,null,null,null,null,null,null,null,null,null,null,null,null,null,null,null,null,null,null,null,null,null,null,null,null,null,null,null,null,null,null,null,null,null,null,null,null,null,null,null,null,null,"Чернігівська","Шишка"]
[null,null,null,null,null,null,null,null,null,null,null,null,null,null,null,null,null,null,null,null,null,null,null,null,null,null,null,null,null,null,null,null,null,null,null,null,null,null,null,null,null,null,null,null,null,"Чернігівська","Шкробове"]
[null,null,null,null,null,null,null,null,null,null,null,null,null,null,null,null,null,null,null,null,null,null,null,null,null,null,null,null,null,null,null,null,null,null,null,null,null,null,null,null,null,null,null,null,null,"Чернігівська","Шкуранка"]
[null,null,null,null,null,null,null,null,null,null,null,null,null,null,null,null,null,null,null,null,null,null,null,null,null,null,null,null,null,null,null,null,null,null,null,null,null,null,null,null,null,null,null,null,null,"Чернігівська","Шмаївка"]
[null,null,null,null,null,null,null,null,null,null,null,null,null,null,null,null,null,null,null,null,null,null,null,null,null,null,null,null,null,null,null,null,null,null,null,null,null,null,null,null,null,null,null,null,null,"Чернігівська","Шняківка"]
[null,null,null,null,null,null,null,null,null,null,null,null,null,null,null,null,null,null,null,null,null,null,null,null,null,null,null,null,null,null,null,null,null,null,null,null,null,null,null,null,null,null,null,null,null,"Чернігівська","Шолойки"]
[null,null,null,null,null,null,null,null,null,null,null,null,null,null,null,null,null,null,null,null,null,null,null,null,null,null,null,null,null,null,null,null,null,null,null,null,null,null,null,null,null,null,null,null,null,"Чернігівська","Шпаків"]
[null,null,null,null,null,null,null,null,null,null,null,null,null,null,null,null,null,null,null,null,null,null,null,null,null,null,null,null,null,null,null,null,null,null,null,null,null,null,null,null,null,null,null,null,null,"Чернігівська","Шумани"]
[null,null,null,null,null,null,null,null,null,null,null,null,null,null,null,null,null,null,null,null,null,null,null,null,null,null,null,null,null,null,null,null,null,null,null,null,null,null,null,null,null,null,null,null,null,"Чернігівська","Шумейкине (Матіївська)"]
[null,null,null,null,null,null,null,null,null,null,null,null,null,null,null,null,null,null,null,null,null,null,null,null,null,null,null,null,null,null,null,null,null,null,null,null,null,null,null,null,null,null,null,null,null,"Чернігівська","Шумейків"]
[null,null,null,null,null,null,null,null,null,null,null,null,null,null,null,null,null,null,null,null,null,null,null,null,null,null,null,null,null,null,null,null,null,null,null,null,null,null,null,null,null,null,null,null,null,"Чернігівська","Шумин"]
[null,null,null,null,null,null,null,null,null,null,null,null,null,null,null,null,null,null,null,null,null,null,null,null,null,null,null,null,null,null,null,null,null,null,null,null,null,null,null,null,null,null,null,null,null,"Чернігівська","Щокоть"]
[null,null,null,null,null,null,null,null,null,null,null,null,null,null,null,null,null,null,null,null,null,null,null,null,null,null,null,null,null,null,null,null,null,null,null,null,null,null,null,null,null,null,null,null,null,"Чернігівська","Щорс"]
[null,null,null,null,null,null,null,null,null,null,null,null,null,null,null,null,null,null,null,null,null,null,null,null,null,null,null,null,null,null,null,null,null,null,null,null,null,null,null,null,null,null,null,null,null,"Чернігівська","Щурівка"]
[null,null,null,null,null,null,null,null,null,null,null,null,null,null,null,null,null,null,null,null,null,null,null,null,null,null,null,null,null,null,null,null,null,null,null,null,null,null,null,null,null,null,null,null,null,"Чернігівська","Щуча Гребля"]
[null,null,null,null,null,null,null,null,null,null,null,null,null,null,null,null,null,null,null,null,null,null,null,null,null,null,null,null,null,null,null,null,null,null,null,null,null,null,null,null,null,null,null,null,null,"Чернігівська","Юрківщина"]
[null,null,null,null,null,null,null,null,null,null,null,null,null,null,null,null,null,null,null,null,null,null,null,null,null,null,null,null,null,null,null,null,null,null,null,null,null,null,null,null,null,null,null,null,null,"Чернігівська","Юхнове"]
[null,null,null,null,null,null,null,null,null,null,null,null,null,null,null,null,null,null,null,null,null,null,null,null,null,null,null,null,null,null,null,null,null,null,null,null,null,null,null,null,null,null,null,null,null,"Чернігівська","Яблунівське"]
[null,null,null,null,null,null,null,null,null,null,null,null,null,null,null,null,null,null,null,null,null,null,null,null,null,null,null,null,null,null,null,null,null,null,null,null,null,null,null,null,null,null,null,null,null,"Чернігівська","Ядути"]
[null,null,null,null,null,null,null,null,null,null,null,null,null,null,null,null,null,null,null,null,null,null,null,null,null,null,null,null,null,null,null,null,null,null,null,null,null,null,null,null,null,null,null,null,null,"Чернігівська","Якличі"]
[null,null,null,null,null,null,null,null,null,null,null,null,null,null,null,null,null,null,null,null,null,null,null,null,null,null,null,null,null,null,null,null,null,null,null,null,null,null,null,null,null,null,null,null,null,"Чернігівська","Ямище"]
[null,null,null,null,null,null,null,null,null,null,null,null,null,null,null,null,null,null,null,null,null,null,null,null,null,null,null,null,null,null,null,null,null,null,null,null,null,null,null,null,null,null,null,null,null,"Чернігівська","Ярова Білещина"]
[null,null,null,null,null,null,null,null,null,null,null,null,null,null,null,null,null,null,null,null,null,null,null,null,null,null,null,null,null,null,null,null,null,null,null,null,null,null,null,null,null,null,null,null,null,"Чернігівська","Ясна Зірка"]
[null,null,null,null,null,null,null,null,null,null,null,null,null,null,null,null,null,null,null,null,null,null,null,null,null,null,null,null,null,null,null,null,null,null,null,null,null,null,null,null,null,null,null,null,null,"Чернігівська","Яськове"]
[null,null,null,null,null,null,null,null,null,null,null,null,null,null,null,null,null,null,null,null,null,null,null,null,null,null,null,null,null,null,null,null,null,null,null,null,null,null,null,null,null,null,null,null,null,"Чернігівська","Ященків"]